Workbook

Sheet Kompresor
F2: kompresor | G2: topný výkon [kW] | H2: příkon [kW] | I2: chl.faktor [-] | J2: chladící výkon [kW] | K2: hm. tok [g/s] | L2: výkonnost [m3/h] | V2: Ventil | W2: velikost | X2: max. výkon [kW] | Y2: min. výkon [kW] | Z2: zatížení [%] | AA2: tlaková ztráta [bar] | AB2: rychlost na vstupu [m/s]
B3: zadané požadavky | F3: ZH04K1P-TFM | G3: 4.9899999 | H3: 1.175 | I3: 4.2399999 | J3: 3.8699999 | K3: 22.7 | L3: 3.4000001 | R3: zadané požadavky | V3: AKV 10-7 | W3: 12 | X3: 21.9 | Y3: 2.19 | Z3: 94 | AA3: 14.54 | AB3: 1.8
B4: chladivo | C4: R410A | F4: ZH05K1P-TFM | G4: 5.9699999 | H4: 1.375 | I4: 4.3399999 | J4: 4.6599999 | K4: 27.4 | L4: 4.0000001 | R4: chladivo | S4: R410A | V4: AKV 15-1 | W4: 18 | X4: 33.82 | Y4: 3.382 | Z4: 61 | AA4: 14.54 | AB4: 0.65
B5: vypařovací teplota | C5: -3 | D5: °C | F5: ZH06K1P-TFM | G5: 7.8499998 | H5: 1.75 | I5: 4.4799999 | J5: 6.1899999 | K5: 36.400001 | L5: 5.1000001 | R5: topný výkon | S5: 26 | T5: kW | V5: AKV 15-2 | W5: 18 | X5: 54.04 | Y5: 5.404 | Z5: 38 | AA5: 14.54 | AB5: 0.65
B6: kondenzační teplota | C6: 38 | D6: °C | F6: ZH09K1P-TFM | G6: 10.65 | H6: 2.2799999 | I6: 4.6599999 | J6: 8.4899998 | K6: 49.900001 | L6: 6.9000001 | R6: vypařovací teplota | S6: -5 | T6: °C
B7: přehřátí v sání | C7: 5 | D7: °C | F7: ZH12K1P-TFM | G7: 13.55 | H7: 2.8899999 | I7: 4.6799999 | J7: 10.8 | K7: 63.400001 | L7: 8.9000001 | R7: přehřátí | S7: 5 | T7: °C
B8: podchlazení | C8: 4 | D8: °C | F8: ZH15K1P-TFM | G8: 18 | H8: 3.8999999 | I8: 4.6199999 | J8: 14.3 | K8: 84 | L8: 11.7 | R8: kondenzační teplota | S8: 35 | T8: °C
B9: požadovaný topný výkon | C9: 12.5 | D9: kW | F9: ZH19K1P-TFM | G9: 22.4 | H9: 4.7699999 | I9: 4.6999999 | J9: 17.9 | K9: 105 | L9: 14.7 | R9: podchlazení | S9: 4 | T9: °C
N11: zadané požadavky
N12: chladivo | O12: R410A
N13: chlazená látka | O13: 30% vodný roztok etylenglykolu
N14: tepelné zatížení | O14: 22 | P14: kW | R14: zadané požadavky
N15: vypařovací teplota | O15: -6 | P15: °C | R15: chladivo | S15: R410A
N16: přehřátí | O16: 5 | P16: °C | R16: topný výkon | S16: 26 | T16: kW
N17: vstupní teplota ochlazované látky | O17: 0 | P17: °C | R17: vypařovací teplota | S17: -5 | T17: °C
N18: průtok ochlazované látky | O18: 1.5 | P18: kg/s | R18: přehřátí | S18: 5 | T18: °C
R19: kondenzační teplota | S19: 35 | T19: °C
R20: podchlazení | S20: 4 | T20: °C
N21: kondenzátor - zadané požadavky
N22: chladivo | O22: R410A
N23: ohřívaná látka | O23: voda
N24: tepelné zatížení | O24: 26 | P24: kW
N25: kondenzační teplota | O25: 42 | P25: °C
N26: podchlazení | O26: 4 | P26: °C
N27: vstupní teplota ohřívané látky | O27: 30 | P27: °C
N28: průtok ohřívané látky | O28: 1.5 | P28: kg/s

Sheet SCOP
F1: BIN | G1: Venkovní teplota | H1: Počet hodin | I1: Topné zatížení | J1: Výkon tepelného čerpadla | K1: Příkon | L1: Příkon oběhových čerpadel | N1: COPd | O1: CRu | P1: COPbin (Tj) | Q1: Roční potřeba tepla na vytápění | R1: Celková spotřeba elektrické energie
A2: Podmínky pro výpočet SCOP | F2: j | G2: Tj | H2: hj | I2: Ph(Tj) | Q2: hj x Ph(Tj)
A3: aplikace tepelného čerpadla | B3: nízkoteplotní | F3: - | G3: °C | H3: h | I3: kW | P3: - | Q3: kWh | R3: kWh
A4: klima | B4: průměrné | E4: E | F4: 21 | G4: -10 | H4: 1 | I4: 24 | J4: ='částečné zatížení'!I14 -> 24.863 | K4: 6.188 | L4: 0.239 | M4: 0.153 | N4: =J4/(K4+L4+M4) -> 3.7785714 | O4: =I4/J4 -> 0.96528979 | P4: =N4*O4/(0.9*O4+(1-0.9)) -> 3.765033 | Q4: =I4*H4 -> 24 | R4: =I4*H4/P4 -> 6.3744461
A5: Tdesign | B5: -10 | C5: °C | F5: 22 | G5: -9 | H5: 25 | I5: =I4-$B$8/26 -> 23.076923 | J5: =J4+(J7-J4)/3 -> 24.881333 | K5: 6.141 | L5: 0.239 | M5: 0.153 | N5: =J5/(K5+L5+M5) -> 3.8085617 | O5: =I5/J5 -> 0.92747936 | P5: =N5*O5/(0.9*O5+(1-0.9)) -> 3.7790131 | Q5: =I5*H5 -> 576.92308 | R5: =I5*H5/P5 -> 152.66501
A6: Tbivalent | B6: -10 | C6: °C | F6: 23 | G6: -8 | H6: 23 | I6: =I5-$B$8/26 -> 22.153846 | J6: =J4+(J7-J4)/3*2 -> 24.899667 | K6: 6.095 | L6: 0.239 | M6: 0.153 | N6: =J6/(K6+L6+M6) -> 3.8383947 | O6: =I6/J6 -> 0.88972461 | P6: =N6*O6/(0.9*O6+(1-0.9)) -> 3.7914028 | Q6: =I6*H6 -> 509.53846 | R6: =I6*H6/P6 -> 134.39312
A7: Výkon při Tbivalent | B7: 24.86 | C7: kW | E7: A | F7: 24 | G7: -7 | H7: 24 | I7: =I6-$B$8/26 -> 21.230769 | J7: ='částečné zatížení'!I15 -> 24.918 | K7: 6.05 | L7: 0.239 | M7: 0.153 | N7: =J7/(K7+L7+M7) -> 3.8680534 | O7: =I7/J7 -> 0.85202541 | P7: =N7*O7/(0.9*O7+(1-0.9)) -> 3.8020222 | Q7: =I7*H7 -> 509.53846 | R7: =I7*H7/P7 -> 134.01775
A8: Plné zatížení Pdesign | B8: 24 | C8: kW | F8: 25 | G8: -6 | H8: 27 | I8: =I7-$B$8/26 -> 20.307692 | J8: =$J$7+($J$16-$J$7)/9 -> 24.939778 | K8: 5.986 | L8: 0.239 | M8: 0.153 | N8: =J8/(K8+L8+M8) -> 3.9102819 | O8: =I8/J8 -> 0.81426918 | P8: =N8*O8/(0.9*O8+(1-0.9)) -> 3.8230793 | Q8: =I8*H8 -> 548.30769 | R8: =I8*H8/P8 -> 143.42043
A9: Deklarovaný výkon při Tdesign | B9: 24.86 | C9: kW | F9: 26 | G9: -5 | H9: 68 | I9: =I8-$B$8/26 -> 19.384615 | J9: =$J$7+($J$16-$J$7)/9*2 -> 24.961556 | K9: 5.923 | L9: 0.239 | M9: 0.153 | N9: =J9/(K9+L9+M9) -> 3.9527404 | O9: =I9/J9 -> 0.77657882 | P9: =N9*O9/(0.9*O9+(1-0.9)) -> 3.8422006 | Q9: =I9*H9 -> 1318.1538 | R9: =I9*H9/P9 -> 343.07263
F10: 27 | G10: -4 | H10: 91 | I10: =I9-$B$8/26 -> 18.461538 | J10: =$J$7+($J$16-$J$7)/9*3 -> 24.983333 | K10: 5.862 | L10: 0.239 | M10: 0.153 | N10: =J10/(K10+L10+M10) -> 3.9947767 | O10: =I10/J10 -> 0.73895417 | P10: =N10*O10/(0.9*O10+(1-0.9)) -> 3.8584708 | Q10: =I10*H10 -> 1680 | R10: =I10*H10/P10 -> 435.40565
F11: 28 | G11: -3 | H11: 89 | I11: =I10-$B$8/26 -> 17.538462 | J11: =$J$7+($J$16-$J$7)/9*4 -> 25.005111 | K11: 5.803 | L11: 0.239 | M11: 0.153 | N11: =J11/(K11+L11+M11) -> 4.0363375 | O11: =I11/J11 -> 0.70139507 | P11: =N11*O11/(0.9*O11+(1-0.9)) -> 3.8715155 | Q11: =I11*H11 -> 1560.9231 | R11: =I11*H11/P11 -> 403.18141
F12: 29 | G12: -2 | H12: 165 | I12: =I11-$B$8/26 -> 16.615385 | J12: =$J$7+($J$16-$J$7)/9*5 -> 25.026889 | K12: 5.744 | L12: 0.239 | M12: 0.153 | N12: =J12/(K12+L12+M12) -> 4.0786977 | O12: =I12/J12 -> 0.66390132 | P12: =N12*O12/(0.9*O12+(1-0.9)) -> 3.8821639 | Q12: =I12*H12 -> 2741.5385 | R12: =I12*H12/P12 -> 706.18823
F13: 30 | G13: -1 | H13: 173 | I13: =I12-$B$8/26 -> 15.692308 | J13: =$J$7+($J$16-$J$7)/9*6 -> 25.048667 | K13: 5.687 | L13: 0.239 | M13: 0.153 | N13: =J13/(K13+L13+M13) -> 4.1205242 | O13: =I13/J13 -> 0.62647277 | P13: =N13*O13/(0.9*O13+(1-0.9)) -> 3.8886669 | Q13: =I13*H13 -> 2714.7692 | R13: =I13*H13/P13 -> 698.12337
F14: 31 | G14: 0 | H14: 240 | I14: =I13-$B$8/26 -> 14.769231 | J14: =$J$7+($J$16-$J$7)/9*7 -> 25.070444 | K14: 5.631 | L14: 0.239 | M14: 0.153 | N14: =J14/(K14+L14+M14) -> 4.1624513 | O14: =I14/J14 -> 0.58910925 | P14: =N14*O14/(0.9*O14+(1-0.9)) -> 3.8910586 | Q14: =I14*H14 -> 3544.6154 | R14: =I14*H14/P14 -> 910.96429
F15: 32 | G15: 1 | H15: 280 | I15: =I14-$B$8/26 -> 13.846154 | J15: =$J$7+($J$16-$J$7)/9*8 -> 25.092222 | K15: 5.577 | L15: 0.239 | M15: 0.153 | N15: =J15/(K15+L15+M15) -> 4.2037564 | O15: =I15/J15 -> 0.55181059 | P15: =N15*O15/(0.9*O15+(1-0.9)) -> 3.8879693 | Q15: =I15*H15 -> 3876.9231 | R15: =I15*H15/P15 -> 997.15886
E16: B2K | F16: 33 | G16: 2 | H16: 320 | I16: =I15-$B$8/26 -> 12.923077 | J16: ='částečné zatížení'!I16 -> 25.114 | K16: 5.523 | L16: 0.239 | M16: 0.153 | N16: =J16/(K16+L16+M16) -> 4.2458157 | O16: =I16/J16 -> 0.51457661 | P16: =N16*O16/(0.9*O16+(1-0.9)) -> 3.8798152 | Q16: =I16*H16 -> 4135.3846 | R16: =I16*H16/P16 -> 1065.8715
E17: B1K | F17: 33 | G17: 2 | H17: 320 | I17: =I16 -> 12.923077 | J17: ='částečné zatížení'!I6 -> 13.287 | K17: 2.652 | L17: 0.127 | M17: 0.07 | N17: =J17/(K17+L17+M17) -> 4.6637417 | O17: =I17/J17 -> 0.97261059 | P17: =N17*O17/(0.9*O17+(1-0.9)) -> 4.6506451 | Q17: =I17*H17 -> 4135.3846 | R17: =I17*H17/P17 -> 889.20666
F18: 34 | G18: 3 | H18: 357 | I18: =I17-$B$8/26 -> 12 | J18: =$J$17+($J$22-$J$17)/5 -> 13.3124 | K18: 2.618 | L18: 0.127 | M18: 0.07 | N18: =J18/(K18+L18+M18) -> 4.7290941 | O18: =I18/J18 -> 0.90141522 | P18: =N18*O18/(0.9*O18+(1-0.9)) -> 4.6779331 | Q18: =I18*H18 -> 4284 | R18: =I18*H18/P18 -> 915.78906
F19: 35 | G19: 4 | H19: 356 | I19: =I18-$B$8/26 -> 11.076923 | J19: =$J$17+($J$22-$J$17)/5*2 -> 13.3378 | K19: 2.584 | L19: 0.127 | M19: 0.07 | N19: =J19/(K19+L19+M19) -> 4.7960446 | O19: =I19/J19 -> 0.83049102 | P19: =N19*O19/(0.9*O19+(1-0.9)) -> 4.700112 | Q19: =I19*H19 -> 3943.3846 | R19: =I19*H19/P19 -> 838.998
F20: 36 | G20: 5 | H20: 303 | I20: =I19-$B$8/26 -> 10.153846 | J20: =$J$17+($J$22-$J$17)/5*3 -> 13.3632 | K20: 2.55 | L20: 0.127 | M20: 0.07 | N20: =J20/(K20+L20+M20) -> 4.8646523 | O20: =I20/J20 -> 0.75983643 | P20: =N20*O20/(0.9*O20+(1-0.9)) -> 4.7156049 | Q20: =I20*H20 -> 3076.6154 | R20: =I20*H20/P20 -> 652.43281
F21: 37 | G21: 6 | H21: 330 | I21: =I20-$B$8/26 -> 9.2307692 | J21: =$J$17+($J$22-$J$17)/5*4 -> 13.3886 | K21: 2.517 | L21: 0.127 | M21: 0.07 | N21: =J21/(K21+L21+M21) -> 4.9331614 | O21: =I21/J21 -> 0.68944992 | P21: =N21*O21/(0.9*O21+(1-0.9)) -> 4.7205336 | Q21: =I21*H21 -> 3046.1538 | R21: =I21*H21/P21 -> 645.29863
E22: C | F22: 38 | G22: 7 | H22: 326 | I22: =I21-$B$8/26 -> 8.3076923 | J22: ='částečné zatížení'!I7 -> 13.414 | K22: 2.483 | L22: 0.127 | M22: 0.07 | N22: =J22/(K22+L22+M22) -> 5.0052239 | O22: =I22/J22 -> 0.61932998 | P22: =N22*O22/(0.9*O22+(1-0.9)) -> 4.7153931 | Q22: =I22*H22 -> 2708.3077 | R22: =I22*H22/P22 -> 574.35459
F23: 39 | G23: 8 | H23: 348 | I23: =I22-$B$8/26 -> 7.3846154 | J23: =$J$22+($J$27-$J$22)/5 -> 13.4398 | K23: 2.45 | L23: 0.127 | M23: 0.07 | N23: =J23/(K23+L23+M23) -> 5.0773706 | O23: =I23/J23 -> 0.54945873 | P23: =N23*O23/(0.9*O23+(1-0.9)) -> 4.6925909 | Q23: =I23*H23 -> 2569.8462 | R23: =I23*H23/P23 -> 547.63908
F24: 40 | G24: 9 | H24: 335 | I24: =I23-$B$8/26 -> 6.4615385 | J24: =$J$22+($J$27-$J$22)/5*2 -> 13.4656 | K24: 2.417 | L24: 0.127 | M24: 0.07 | N24: =J24/(K24+L24+M24) -> 5.1513389 | O24: =I24/J24 -> 0.47985522 | P24: =N24*O24/(0.9*O24+(1-0.9)) -> 4.647561 | Q24: =I24*H24 -> 2164.6154 | R24: =I24*H24/P24 -> 465.75298
F25: 41 | G25: 10 | H25: 315 | I25: =I24-$B$8/26 -> 5.5384615 | J25: =$J$22+($J$27-$J$22)/5*3 -> 13.4914 | K25: 2.386 | L25: 0.127 | M25: 0.07 | N25: =J25/(K25+L25+M25) -> 5.2231514 | O25: =I25/J25 -> 0.41051793 | P25: =N25*O25/(0.9*O25+(1-0.9)) -> 4.5673098 | Q25: =I25*H25 -> 1744.6154 | R25: =I25*H25/P25 -> 381.97877
F26: 42 | G26: 11 | H26: 215 | I26: =I25-$B$8/26 -> 4.6153846 | J26: =$J$22+($J$27-$J$22)/5*4 -> 13.5172 | K26: 2.356 | L26: 0.127 | M26: 0.07 | N26: =J26/(K26+L26+M26) -> 5.2946338 | O26: =I26/J26 -> 0.34144532 | P26: =N26*O26/(0.9*O26+(1-0.9)) -> 4.4385574 | Q26: =I26*H26 -> 992.30769 | R26: =I26*H26/P26 -> 223.56536
E27: D | F27: 43 | G27: 12 | H27: 169 | I27: =I26-$B$8/26 -> 3.6923077 | J27: ='částečné zatížení'!I8 -> 13.543 | K27: 2.327 | L27: 0.127 | M27: 0.07 | N27: =J27/(K27+L27+M27) -> 5.3656894 | O27: =I27/J27 -> 0.27263588 | P27: =N27*O27/(0.9*O27+(1-0.9)) -> 4.2356595 | Q27: =I27*H27 -> 624 | R27: =I27*H27/P27 -> 147.32062
F28: 44 | G28: 13 | H28: 151 | I28: =I27-$B$8/26 -> 2.7692308 | J28: =$J$22+($J$27-$J$22)/5*6 -> 13.5688 | K28: 2.298 | L28: 0.127 | M28: 0.07 | N28: =J28/(K28+L28+M28) -> 5.4383968 | O28: =I28/J28 -> 0.20408811 | P28: =N28*O28/(0.9*O28+(1-0.9)) -> 3.9125595 | Q28: =I28*H28 -> 418.15385 | R28: =I28*H28/P28 -> 106.87476
F29: 45 | G29: 14 | H29: 105 | I29: =I28-$B$8/26 -> 1.8461538 | J29: =$J$22+($J$27-$J$22)/5*7 -> 13.5946 | K29: 2.27 | L29: 0.127 | M29: 0.07 | N29: =J29/(K29+L29+M29) -> 5.5105797 | O29: =I29/J29 -> 0.13580053 | P29: =N29*O29/(0.9*O29+(1-0.9)) -> 3.3675548 | Q29: =I29*H29 -> 193.84615 | R29: =I29*H29/P29 -> 57.562881
F30: 46 | G30: 15 | H30: 74 | I30: =I29-$B$8/26 -> 0.92307692 | J30: =$J$22+($J$27-$J$22)/5*8 -> 13.6204 | K30: 2.243 | L30: 0.127 | M30: 0.07 | N30: =J30/(K30+L30+M30) -> 5.5821311 | O30: =I30/J30 -> 0.067771646 | P30: =N30*O30/(0.9*O30+(1-0.9)) -> 2.3498334 | Q30: =I30*H30 -> 68.307692 | R30: =I30*H30/P30 -> 29.069164
G31: 16 | I31: 0 | P31: celkem | Q31: =SUM(Q17:Q30,Q4:Q15) -> 49574.769 | R31: =SUM(R17:R30,R4:R15) -> 11540.809
P34: =Q31/R31 -> 4.2956062
Q35: =24*1400 -> 33600

Sheet kond+výpar
A1: výparník | B1: 2 kompresory | G1: 1 kompresor
A2: varianta | B2: 1 | C2: 2 | D2: 3 | E2: 4 | F2: 5 | G2: 6 | H2: 7 | I2: 8 | J2: 9 | K2: 10
A3: So [m2] | B3: 4.68
A4: cps [J∙kg-1∙K-1] | B4: 3595
A5: přehřáti [°C] | B5: 5
A6: ms [kg∙s-1] | B6: 1.6 | C6: 0.8 | D6: 1.6 | E6: 1.6 | F6: 1.4 | G6: 1.6 | H6: 0.8 | I6: 0.8 | J6: 0.8 | K6: 1
A7: ts1 [°C] | B7: 0 | C7: 0 | D7: 0 | E7: 5 | F7: 5 | G7: 0 | H7: 0 | I7: 0 | J7: -5 | K7: -5
A8: Uo [W∙m-2∙K-1] | B8: 1018 | C8: 905 | D8: 1017 | E8: 1014 | F8: 1000 | G8: 970 | H8: 850 | I8: 833 | J8: 817 | K8: 850
A9: ts2 [°C] | B9: -3.3 | C9: -5.8 | D9: -2.9 | E9: 1.2 | F9: 0.8 | G9: -1.9 | H9: -3.5 | I9: -3.1 | J9: -8 | K9: -7.2
A10: to [°C] | B10: -5.8 | C10: -7.5 | D10: -2.9 | E10: -1.7 | F10: -2 | G10: -3.4 | H10: -4.6 | I10: -4.2 | J10: -9 | K10: -8.3
A11: Qo [kW] | B11: 18.7 | C11: 16.7 | D11: 16.6 | E11: 21.6 | F11: 21.2 | G11: 10.7 | H11: 10 | I11: 8.9 | J11: 8.6 | K11: 7.9
A12: Δpzo,ch [kPa] | B12: 5.6 | C12: 4.9 | D12: 4.9 | E12: 6.8 | F12: 6.6 | G12: 3 | H12: 2.8 | I12: 2.5 | J12: 2.4 | K12: 2.3
A13: Δpzo,s [kPa] | B13: 15.7 | C13: 4.5 | D13: 15.7 | E13: 15.7 | F13: 12.4 | G13: 15.7 | H13: 4.5 | I13: 5.7 | J13: 4.5 | K13: 6.8
A15: kondenzátor | B15: 2 kompresory | G15: 1 kompresor
A16: varianta | B16: 1 | C16: 2 | D16: 3 | E16: 4 | F16: 5 | G16: 6 | H16: 7 | I16: 8 | J16: 9 | K16: 10
A17: Sk [m2] | B17: 1.49
A18: cpw [J∙kg-1∙K-1] | B18: 4190
A19: podchlazení [°C] | B19: 4
A20: mw [kg∙s-1] | B20: 1.2 | C20: 0.6 | D20: 1.2 | E20: 1.2 | F20: 1 | G20: 1.2 | H20: 0.6 | I20: 0.6 | J20: 0.6 | K20: 1
A21: tw1 [°C] | B21: 30 | C21: 30 | D21: 40 | E21: 30 | F21: 30 | G21: 30 | H21: 30 | I21: 40 | J21: 30 | K21: 40
A22: Uo [W∙m-2∙K-1] | B22: 2024 | C22: 1784 | D22: 1986 | E22: 2222 | F22: 2145 | G22: 1504 | H22: 1404 | I22: 1401 | J22: 1408 | K22: 1474
A23: tw2 [°C] | B23: 35 | C23: 39.4 | D23: 44.9 | E23: 35.7 | F23: 36.7 | G23: 32.7 | H23: 35.2 | I23: 45.1 | J23: 34.6 | K23: 42.7
A24: tk [°C] | B24: 41.1 | C24: 44.3 | D24: 51 | E24: 41.8 | F24: 42.6 | G24: 37.6 | H24: 39.3 | I24: 49 | J24: 38.1 | K24: 46.6
A25: Qk [kW] | B25: 25.2 | C25: 23.6 | D25: 24.6 | E25: 28.5 | F25: 28.2 | G25: 13.7 | H25: 13.1 | I25: 12.7 | J25: 11.5 | K25: 11.4
A26: Δpzk,ch [kPa] | B26: 0 | C26: 0 | D26: 0 | E26: 0 | F26: 0 | G26: 0 | H26: 0 | I26: 0 | J26: 0 | K26: 0
A27: Δpzk,s [kPa] | B27: 21.3 | C27: 5.73 | D27: 21.3 | E27: 21.3 | F27: 16.6 | G27: 21.3 | H27: 5.73 | I27: 5.73 | J27: 5.73 | K27: 8.8
A29: kompresor | B29: 2 kompresory | G29: 1 kompresor
A30: varianta | B30: 1 | C30: 2 | D30: 3 | E30: 4 | F30: 5 | G30: 6 | H30: 7 | I30: 8 | J30: 9 | K30: 10
A31: Vteor [m3∙h-1] | B31: 17.8 | G31: 8.9
A32: Vreal [m3∙h-1] | B32: 16.8 | C32: 16.6 | D32: 16.4 | E32: 17 | F32: 16.9 | G32: 8.5 | H32: 8.4 | I32: 8.3 | J32: 8.3 | K32: 8.2
A33: λd [-] | B33: 0.942 | C33: 0.931 | D33: 0.923 | E33: 0.953 | F33: 0.951 | G33: 0.955 | H33: 0.949 | I33: 0.931 | J33: 0.938 | K33: 0.923
A34: ηie [-] | B34: 0.699 | C34: 0.672 | D34: 0.651 | E34: 0.719 | F34: 0.715 | G34: 0.72 | H34: 0.712 | I34: 0.67 | J34: 0.691 | K34: 0.654
A35: mch [kg∙s-1] | B35: 0.113 | C35: 0.105 | D35: 0.113 | E35: 0.13 | F35: 0.129 | G35: 0.062 | H35: 0.059 | I35: 0.059 | J35: 0.051 | K35: 0.051
A38: výsledek | B38: 2 kompresory | G38: 1 kompresor
A39: varianta | B39: 1 | C39: 2 | D39: 3 | E39: 4 | F39: 5 | G39: 6 | H39: 7 | I39: 8 | J39: 9 | K39: 10
A40: mch [kg∙s-1] | B40: 0.1129 | C40: 0.10521517 | D40: 0.11309932 | E40: 0.13038043 | F40: 0.12901565 | G40: 0.062146876 | H40: 0.059320038 | I40: 0.059135663 | J40: 0.05065735 | K40: 0.051185542
A41: P [kW] | B41: 6.183 | C41: 6.6466278 | D41: 7.7437468 | E41: 6.2793971 | F41: 6.4020739 | G41: 2.8578457 | H41: 2.9664692 | I41: 3.7048764 | J41: 2.8806828 | K41: 3.4976007
A42: Qo [kW] | B42: 18.564 | C42: 16.602616 | D42: 16.535898 | E42: 21.484626 | F42: 21.047972 | G42: 10.657406 | H42: 9.9705056 | I42: 8.8923183 | J42: 8.533825 | K42: 7.8433779
A43: Qk [kW] | B43: 24.747 | C43: 23.249243 | D43: 24.279645 | E43: 27.764023 | F43: 27.450046 | G43: 13.515252 | H43: 12.936975 | I43: 12.597195 | J43: 11.414508 | K43: 11.340979
A44: COP [-] | B44: 4.003 | C44: 3.4979006 | D44: 3.1353872 | E44: 4.4214472 | F44: 4.2876803 | G44: 4.7291749 | H44: 4.3610683 | I44: 3.400166 | J44: 3.9624313 | K44: 3.2425024

Sheet varianty
A1: var1
A2: výparník - QA80-NHPx80 | D2: kondenzátor | G2: výsledek | J2: výsledek z oběhu | N2: sání | O2: výtlak ie | P2: výtlak real | Q2: poč. kond | R2: konec kond. | S2: podchlaz. | T2: po škrcení | U2: konec vypař.
A3: So [m2] | B3: 4.68 | D3: Sk [m2] | E3: 1.49 | G3: to [°C] | H3: -5.7732467 | J3: mch [kg/s] | K3: 0.11292389 | M3: p [kPa] | N3: 655.45734 | O3: 2485.6334 | P3: 2485.6334 | Q3: 2485.6334 | R3: 2485.6334 | S3: 2485.6334 | T3: 661.07892 | U3: 661.07892
A4: Uo [kW/m2K] | B4: 1.0181856 | D4: Uk [kW/m2K] | E4: 2.0236537 | G4: tk [°C] | H4: 41.129639 | J4: P [kW] | K4: 6.1828342 | M4: t [°C] | N4: -0.77324665 | O4: 67.104221 | P4: 80.671052 | Q4: 41.13281 | R4: 41.014561 | S4: 37.014561 | T4: -5.8425906 | U4: -5.7732467
A5: ms [kg/s] | B5: 1.6 | D5: mw [kg/s] | E5: 1.2 | G5: Qo [kW] | H5: 18.703475 | J5: Qo [kW] | K5: 18.564338 | M5: h [kJ/kg] | N5: 424.97767 | O5: 463.24905 | P5: 479.7299 | Q5: 425.20385 | R5: 268.22237 | S5: 260.58078 | T5: 260.58078 | U5: 419.52936
A6: cps [kJ/kgK] | B6: 3.595 | D6: cpw [kJ/kgK] | E6: 4.19 | G6: Qk [kW] | H6: 25.23468 | J6: Qk [kW] | K6: 24.747172 | M6: s [kJ/kgK] | N6: 1.8429359 | O6: 1.8429359
A7: ts1 [°C] | B7: 0 | D7: tw1 [°C] | E7: 30 | J7: COP [-] | K7: 4.0025611
A8: přehřáti [°C] | B8: 5 | D8: podchlazení [°C] | E8: 4
A9: ts2 [°C] | B9: =B7-H5/B5/B6 -> -3.2516473 | D9: tw2 [°C] | E9: =E7+H6/E5/E6 -> 35.018831 | J9: tlaková ztráta [kPa]
A10: kompresor | J10: výpar. chl. | K10: 5.6215811
A11: chladivo | B11: R410A | J11: výpar. sol. | K11: 15.70153 | M11: =K3*(N5-T5) -> 18.564338
A12: Vteor 1k [m3/h] | B12: 8.9 | J12: kond. chl. | K12: 0
A13: λ d [-] | B13: 0.9423945 | J13: kond. voda | K13: 21.314
A14: η ie [-] | B14: 0.69899216
A15: Vreál [m3/h] | B15: 16.774622
A18: var2
A19: výparník - QA80-NHPx80 | D19: kondenzátor | G19: výsledek | J19: výsledek z oběhu | N19: sání | O19: výtlak ie | P19: výtlak real | Q19: poč. kond | R19: konec kond. | S19: podchlaz. | T19: po škrcení | U19: konec vypař.
A20: So [m2] | B20: 4.68 | D20: Sk [m2] | E20: 1.49 | G20: to [°C] | H20: -7.5446774 | J20: mch [kg/s] | K20: 0.10521517 | M20: p [kPa] | N20: 617.94716 | O20: 2686.2561 | P20: 2686.2561 | Q20: 2686.2561 | R20: 2686.2561 | S20: 2686.2561 | T20: 622.85492 | U20: 622.85492
A21: Uo [kW/m2K] | B21: 0.90506088 | D21: Uk [kW/m2K] | E21: 1.7841932 | G21: tk [°C] | H21: 44.376953 | J21: P [kW] | K21: 6.6466278 | M21: t [°C] | N21: -2.5446774 | O21: 72.500757 | P21: 89.484603 | Q21: 44.378407 | R21: 44.261207 | S21: 40.261207 | T21: -7.6099363 | U21: -7.5446774
A22: ms [kg/s] | B22: 0.8 | D22: mw [kg/s] | E22: 0.6 | G22: Qo [kW] | H22: 16.722454 | J22: Qo [kW] | K22: 16.602616 | M22: h [kJ/kg] | N22: 424.28206 | O22: 466.72798 | P22: 487.45382 | Q22: 424.29516 | R22: 274.41264 | S22: 266.48527 | T22: 266.48527 | U22: 418.91786
A23: cps [kJ/kgK] | B23: 3.595 | D23: cpw [kJ/kgK] | E23: 4.19 | G23: Qk [kW] | H23: 23.588224 | J23: Qk [kW] | K23: 23.249243 | M23: s [kJ/kgK] | N23: 1.8462419 | O23: 1.8462419
A24: ts1 [°C] | B24: 0 | D24: tw1 [°C] | E24: 30 | J24: COP [-] | K24: 3.4979006
A25: přehřáti [°C] | B25: 5 | D25: podchlazení [°C] | E25: 4
A26: ts2 [°C] | B26: =B24-H22/B22/B23 -> -5.8144834 | D26: tw2 [°C] | E26: =E24+H23/E22/E23 -> 39.382746 | J26: tlaková ztráta [kPa]
A27: kompresor | J27: výpar. chl. | K27: 4.9077603
A28: chladivo | B28: R410A | J28: výpar. sol. | K28: 4.5125
A29: Vteor 1k [m3/h] | B29: 8.9 | J29: kond. chl. | K29: 0
A30: λ d [-] | B30: 0.93052415 | J30: kond. voda | K30: 5.73
A31: η ie [-] | B31: 0.67191293
A32: Vreál [m3/h] | B32: 16.56333
A35: var3
A36: výparník - QA80-NHPx80 | D36: kondenzátor | G36: výsledek | J36: výsledek z oběhu | N36: sání | O36: výtlak ie | P36: výtlak real | Q36: poč. kond | R36: konec kond. | S36: podchlaz. | T36: po škrcení | U36: konec vypař.
A37: So [m2] | B37: 4.68 | D37: Sk [m2] | E37: 1.49 | G37: to [°C] | H37: -5.130708 | J37: mch [kg/s] | K37: 0.11309932 | M37: p [kPa] | N37: 670.50702 | O37: 3133.9859 | P37: 3133.9859 | Q37: 3133.9859 | R37: 3133.9859 | S37: 3133.9859 | T37: 675.37388 | U37: 675.37388
A38: Uo [kW/m2K] | B38: 1.0165824 | D38: Uk [kW/m2K] | E38: 1.9859148 | G38: tk [°C] | H38: 50.998535 | J38: P [kW] | K38: 7.7437468 | M38: t [°C] | N38: -0.13070803 | O38: 80.365699 | P38: 99.313295 | Q38: 50.997218 | R38: 50.882899 | S38: 46.882899 | T38: -5.1925387 | U38: -5.130708
A39: ms [kg/s] | B39: 1.6 | D39: mw [kg/s] | E39: 1.2 | G39: Qo [kW] | H39: 16.605035 | J39: Qo [kW] | K39: 16.535898 | M39: h [kJ/kg] | N39: 425.19583 | O39: 469.74124 | P39: 493.66439 | Q39: 421.36428 | R39: 287.7197 | S39: 278.98896 | T39: 278.98896 | U39: 419.74656
A40: cps [kJ/kgK] | B40: 3.595 | D40: cpw [kJ/kgK] | E40: 4.19 | G40: Qk [kW] | H40: 24.601918 | J40: Qk [kW] | K40: 24.279645 | M40: s [kJ/kgK] | N40: 1.8414844 | O40: 1.8414844
A41: ts1 [°C] | B41: 0 | D41: tw1 [°C] | E41: 40 | J41: COP [-] | K41: 3.1353872
A42: přehřáti [°C] | B42: 5 | D42: podchlazení [°C] | E42: 4
A43: ts2 [°C] | B43: =B41-H39/B39/B40 -> -2.886828 | D43: tw2 [°C] | E43: =E41+H40/E39/E40 -> 44.892983 | J43: tlaková ztráta [kPa]
A44: kompresor | J44: výpar. chl. | K44: 4.8668608
A45: chladivo | B45: R410A | J45: výpar. sol. | K45: 15.70153
A46: Vteor 1k [m3/h] | B46: 8.9 | J46: kond. chl. | K46: 0
A47: λ d [-] | B47: 0.9226718 | J47: kond. voda | K47: 21.314
A48: η ie [-] | B48: 0.65059657
A49: Vreál [m3/h] | B49: 16.423558
A51: var4
A52: výparník - QA80-NHPx80 | D52: kondenzátor | G52: výsledek | J52: výsledek z oběhu | N52: sání | O52: výtlak ie | P52: výtlak real | Q52: poč. kond | R52: konec kond. | S52: podchlaz. | T52: po škrcení | U52: konec vypař.
A53: So [m2] | B53: 4.68 | D53: Sk [m2] | E53: 1.49 | G53: to [°C] | H53: -1.6978094 | J53: mch [kg/s] | K53: 0.13038043 | M53: p [kPa] | N53: 748.99129 | O53: 2523.5441 | P53: 2523.5441 | Q53: 2523.5441 | R53: 2523.5441 | S53: 2523.5441 | T53: 755.75497 | U53: 755.75497
A54: Uo [kW/m2K] | B54: 1.0141226 | D54: Uk [kW/m2K] | E54: 2.2216415 | G54: tk [°C] | H54: 41.758301 | J54: P [kW] | K54: 6.2793971 | M54: t [°C] | N54: 3.3021906 | O54: 65.939781 | P54: 76.871168 | Q54: 41.761126 | R54: 41.643017 | S54: 37.643017 | T54: -1.7705 | U54: -1.6978094
A55: ms [kg/s] | B55: 1.6 | D55: mw [kg/s] | E55: 1.2 | G55: Qo [kW] | H55: 21.643283 | J55: Qo [kW] | K55: 21.484626 | M55: h [kJ/kg] | N55: 426.49748 | O55: 461.11343 | P55: 474.6596 | Q55: 425.05059 | R55: 269.40627 | S55: 261.71335 | T55: 261.71335 | U55: 420.86362
A56: cps [kJ/kgK] | B56: 3.595 | D56: cpw [kJ/kgK] | E56: 4.19 | G56: Qk [kW] | H56: 28.509667 | J56: Qk [kW] | K56: 27.764023 | M56: s [kJ/kgK] | N56: 1.8353183 | O56: 1.8353183
A57: ts1 [°C] | B57: 5 | D57: tw1 [°C] | E57: 30 | J57: COP [-] | K57: 4.4214472
A58: přehřáti [°C] | B58: 5 | D58: podchlazení [°C] | E58: 4
A59: ts2 [°C] | B59: =B57-H55/B55/B56 -> 1.2372596 | D59: tw2 [°C] | E59: =E57+H56/E55/E56 -> 35.67018 | J59: tlaková ztráta [kPa]
A60: kompresor | J60: výpar. chl. | K60: 6.763678
A61: chladivo | B61: R410A | J61: výpar. sol. | K61: 15.70153
A62: Vteor 1k [m3/h] | B62: 8.9 | J62: kond. chl. | K62: 0
A63: λ d [-] | B63: 0.9532353 | J63: kond. voda | K63: 21.314
A64: η ie [-] | B64: 0.71873811
A65: Vreál [m3/h] | B65: 16.967588
A67: var 5
A68: výparník - QA80-NHPx80 | D68: kondenzátor | G68: výsledek | J68: výsledek z oběhu | N68: sání | O68: výtlak ie | P68: výtlak real | Q68: poč. kond | R68: konec kond. | S68: podchlaz. | T68: po škrcení | U68: konec vypař.
A69: So [m2] | B69: 4.68 | D69: Sk [m2] | E69: 1.49 | G69: to [°C] | H69: -1.9588235 | J69: mch [kg/s] | K69: 0.12901565 | M69: p [kPa] | N69: 742.81619 | O69: 2575.6616 | P69: 2575.6616 | Q69: 2575.6616 | R69: 2575.6616 | S69: 2575.6616 | T69: 749.40127 | U69: 749.40127
A70: Uo [kW/m2K] | B70: 0.99983511 | D70: Uk [kW/m2K] | E70: 2.1452357 | G70: tk [°C] | H70: 42.61084 | J70: P [kW] | K70: 6.4020739 | M70: t [°C] | N70: 3.0411765 | O70: 67.245621 | P70: 78.634188 | Q70: 42.613205 | R70: 42.495332 | S70: 38.495332 | T70: -2.0305362 | U70: -1.9588235
A71: ms [kg/s] | B71: 1.4 | D71: mw [kg/s] | E71: 1 | G71: Qo [kW] | H71: 21.199873 | J71: Qo [kW] | K71: 21.047972 | M71: h [kJ/kg] | N71: 426.39993 | O71: 461.87558 | P71: 476.02239 | Q71: 424.82591 | R71: 271.02255 | S71: 263.25715 | T71: 263.25715 | U71: 420.78133
A72: cps [kJ/kgK] | B72: 3.595 | D72: cpw [kJ/kgK] | E72: 4.19 | G72: Qk [kW] | H72: 28.207605 | J72: Qk [kW] | K72: 27.450046 | M72: s [kJ/kgK] | N72: 1.8357764 | O72: 1.8357764
A73: ts1 [°C] | B73: 5 | D73: tw1 [°C] | E73: 30 | J73: COP [-] | K73: 4.2876803
A74: přehřáti [°C] | B74: 5 | D74: podchlazení [°C] | E74: 4
A75: ts2 [°C] | B75: =B73-H71/B71/B72 -> 0.78782585 | D75: tw2 [°C] | E75: =E73+H72/E71/E72 -> 36.732125 | J75: tlaková ztráta [kPa]
A76: kompresor | J76: výpar. chl. | K76: 6.5850804
A77: chladivo | B77: R410A | J77: výpar. sol. | K77: 12.361091
A78: Vteor 1k [m3/h] | B78: 8.9 | J78: kond. chl. | K78: 0
A79: λ d [-] | B79: 0.95103976 | J79: kond. voda | K79: 16.578
A80: η ie [-] | B80: 0.71491125
A81: Vreál [m3/h] | B81: 16.928508
A83: var 6
A84: výparník - QA80-NHPx80 | D84: kondenzátor | G84: výsledek | J84: výsledek z oběhu | N84: sání | O84: výtlak ie | P84: výtlak real | Q84: poč. kond | R84: konec kond. | S84: podchlaz. | T84: po škrcení | U84: konec vypař.
A85: So [m2] | B85: 4.68 | D85: Sk [m2] | E85: 1.49 | G85: to [°C] | H85: -3.4017723 | J85: mch [kg/s] | K85: 0.062146876 | M85: p [kPa] | N85: 711.99381 | O85: 2280.2099 | P85: 2280.2099 | Q85: 2280.2099 | R85: 2280.2099 | S85: 2280.2099 | T85: 715.00208 | U85: 715.00208
A86: Uo [kW/m2K] | B86: 0.97037037 | D86: Uk [kW/m2K] | E86: 1.5035526 | G86: tk [°C] | H86: 37.5896 | J86: P [kW] | K86: 2.8578457 | M86: t [°C] | N86: 1.5982277 | O86: 60.764172 | P86: 71.385978 | Q86: 37.594816 | R86: 37.476239 | S86: 33.476239 | T86: -3.4760704 | U86: -3.4017723
A87: ms [kg/s] | B87: 1.6 | D87: mw [kg/s] | E87: 1.2 | G87: Qo [kW] | H87: 10.681095 | J87: Qo [kW] | K87: 10.657406 | M87: h [kJ/kg] | N87: 425.77763 | O87: 458.90323 | P87: 471.76297 | Q87: 425.88538 | R87: 261.67231 | S87: 254.29023 | T87: 254.29023 | U87: 420.31844
A88: cps [kJ/kgK] | B88: 3.595 | D88: cpw [kJ/kgK] | E88: 4.19 | G88: Qk [kW] | H88: 13.718346 | J88: Qk [kW] | K88: 13.515252 | M88: s [kJ/kgK] | N88: 1.8376803 | O88: 1.8376803
A89: ts1 [°C] | B89: 0 | D89: tw1 [°C] | E89: 30 | J89: COP [-] | K89: 4.7291749
A90: přehřáti [°C] | B90: 5 | D90: podchlazení [°C] | E90: 4
A91: ts2 [°C] | B91: =B89-H87/B87/B88 -> -1.8569359 | D91: tw2 [°C] | E91: =E89+H88/E87/E88 -> 32.72839 | J91: tlaková ztráta [kPa]
A92: kompresor | J92: výpar. chl. | K92: 3.0082716
A93: chladivo | B93: R410A | J93: výpar. sol. | K93: 15.70153
A94: Vteor 1k [m3/h] | B94: 8.9 | J94: kond. chl. | K94: 0
A95: λ d [-] | B95: 0.95482124 | J95: kond. voda | K95: 21.314
A96: η ie [-] | B96: 0.72035133
A97: Vreál [m3/h] | B97: 8.497909
A99: var7
A100: výparník - QA80-NHPx80 | D100: kondenzátor | G100: výsledek | J100: výsledek z oběhu | N100: sání | O100: výtlak ie | P100: výtlak real | Q100: poč. kond | R100: konec kond. | S100: podchlaz. | T100: po škrcení | U100: konec vypař.
A101: So [m2] | B101: 4.68 | D101: Sk [m2] | E101: 1.49 | G101: to [°C] | H101: -4.6395082 | J101: mch [kg/s] | K101: 0.059320038 | M101: p [kPa] | N101: 683.63997 | O101: 2375.3726 | P101: 2375.3726 | Q101: 2375.3726 | R101: 2375.3726 | S101: 2375.3726 | T101: 686.45887 | U101: 686.45887
A102: Uo [kW/m2K] | B102: 0.84974553 | D102: Uk [kW/m2K] | E102: 1.4035897 | G102: tk [°C] | H102: 39.258545 | J102: P [kW] | K102: 2.9664692 | M102: t [°C] | N102: 0.36049184 | O102: 63.714806 | P102: 75.607049 | Q102: 39.26278 | R102: 39.144267 | S102: 35.144267 | T102: -4.711343 | U102: -4.6395082
A103: ms [kg/s] | B103: 0.8 | D103: mw [kg/s] | E103: 0.6 | G103: Qo [kW] | H103: 9.9947492 | J103: Qo [kW] | K103: 9.9705056 | M103: h [kJ/kg] | N103: 425.31787 | O103: 460.90047 | P103: 475.32574 | Q103: 425.60095 | R103: 264.73661 | S103: 257.23797 | T103: 257.23797 | U103: 419.91091
A104: cps [kJ/kgK] | B104: 3.595 | D104: cpw [kJ/kgK] | E104: 4.19 | G104: Qk [kW] | H104: 13.144306 | J104: Qk [kW] | K104: 12.936975 | M104: s [kJ/kgK] | N104: 1.8400116 | O104: 1.8400116
A105: ts1 [°C] | B105: 0 | D105: tw1 [°C] | E105: 30 | J105: COP [-] | K105: 4.3610683
A106: přehřáti [°C] | B106: 5 | D106: podchlazení [°C] | E106: 4
A107: ts2 [°C] | B107: =B105-H103/B103/B104 -> -3.4752257 | D107: tw2 [°C] | E107: =E105+H104/E103/E104 -> 35.228443 | J107: tlaková ztráta [kPa]
A108: kompresor | J108: výpar. chl. | K108: 2.8189028
...

Sheet B0W35
A1: výparník - QA80-NHPx80 | D1: kondenzátor | G1: výsledek | J1: výsledek z oběhu | N1: sání | O1: výtlak ie | P1: výtlak real | Q1: poč. kond | R1: konec kond. | S1: podchlaz. | T1: po škrcení | U1: konec vypař.
A2: So [m2] | B2: 4.68 | D2: Sk [m2] | E2: 1.49 | G2: to [°C] | H2: -5.6080326 | J2: mch [kg/s] | K2: 0.1135917 | M2: p [kPa] | N2: 659.0692 | O2: 2487.3903 | P2: 2487.3903 | Q2: 2487.3903 | R2: 2487.3903 | S2: 2487.3903 | T2: 664.73243 | U2: 664.73243
A3: Uo [kW/m2K] | B3: 1.0259862 | D3: Uk [kW/m2K] | E3: 2.0311988 | G3: tk [°C] | H3: 41.158936 | J3: P [kW] | K3: 6.1875021 | M3: t [°C] | N3: -0.60803258 | O3: 67.06027 | P3: 80.507388 | Q3: 41.162091 | R3: 41.043848 | S3: 37.043848 | T3: -5.6775005 | U3: -5.6080326
A4: ms [kg/s] | B4: 1.745 | D4: mw [kg/s] | E4: 1.2 | G4: Qo [kW] | H4: 18.815341 | J4: Qo [kW] | K4: 18.675327 | M4: h [kJ/kg] | N4: 425.04094 | O4: 463.16369 | P4: 479.51237 | Q4: 425.19693 | R4: 268.2774 | S4: 260.63345 | T4: 260.63345 | U4: 419.58544
A5: cps [kJ/kgK] | B5: 3.595 | D5: cpw [kJ/kgK] | E5: 4.19 | G5: Qk [kW] | H5: 25.372407 | J5: Qk [kW] | K5: 24.862829 | M5: s [kJ/kgK] | N5: 1.8426226 | O5: 1.8426226
A6: ts1 [°C] | B6: 0 | D6: tw1 [°C] | E6: 30 | J6: COP [-] | K6: 4.0182336
A7: přehřáti [°C] | B7: 5 | D7: podchlazení [°C] | E7: 4
A8: ts2 [°C] | B8: =B6-H4/B4/B5 -> -2.9992853 | D8: tw2 [°C] | E8: =E6+H5/E4/E5 -> 35.046223 | J8: tlaková ztráta [kPa]
A9: kompresor | J9: výpar. chl. | K9: 5.6632298
A10: chladivo | B10: R410A | D10: 2 kompresory | J10: výpar. sol. | K10: 18.349788
A11: Vteor 1k [m3/h] | B11: 8.9 | J11: kond. chl. | K11: 0
A12: λ d [-] | B12: 0.94283466 | J12: kond. voda | K12: 25.097775
A13: η ie [-] | B13: 0.69986677
A14: Vreál [m3/h] | B14: 16.782457
A17: výparník - QA80-NHPx80 | D17: kondenzátor | G17: výsledek | J17: výsledek z oběhu | N17: sání | O17: výtlak ie | P17: výtlak real | Q17: poč. kond | R17: konec kond. | S17: podchlaz. | T17: po škrcení | U17: konec vypař.
A18: So [m2] | B18: 4.68 | D18: Sk [m2] | E18: 1.49 | G18: to [°C] | H18: -4.2674242 | J18: mch [kg/s] | K18: 0.060126997 | M18: p [kPa] | N18: 692.0849 | O18: 2367.5074 | P18: 2367.5074 | Q18: 2367.5074 | R18: 2367.5074 | S18: 2367.5074 | T18: 694.94704 | U18: 694.94704
A19: Uo [kW/m2K] | B19: 0.87935192 | D19: Uk [kW/m2K] | E19: 1.4132913 | G19: tk [°C] | H19: 39.122559 | J19: P [kW] | K19: 2.957702 | M19: t [°C] | N19: 0.7325758 | O19: 63.33593 | P19: 74.934962 | Q19: 39.126873 | R19: 39.008348 | S19: 35.008348 | T19: -4.3397081 | U19: -4.2674242
A20: ms [kg/s] | B20: 0.94 | D20: mw [kg/s] | E20: 0.64 | G20: Qo [kW] | H20: 10.15317 | J20: Qo [kW] | K20: 10.128991 | M20: h [kJ/kg] | N20: 425.45657 | O20: 460.56394 | P20: 474.64749 | Q20: 425.62651 | R20: 264.4854 | S20: 256.99662 | T20: 256.99662 | U20: 420.03442
A21: cps [kJ/kgK] | B21: 3.595 | D21: cpw [kJ/kgK] | E21: 4.19 | G21: Qk [kW] | H21: 13.309291 | J21: Qk [kW] | K21: 13.086693 | M21: s [kJ/kgK] | N21: 1.8393056 | O21: 1.8393056
A22: ts1 [°C] | B22: 0 | D22: tw1 [°C] | E22: 30 | J22: COP [-] | K22: 4.4246151
A23: přehřáti [°C] | B23: 5 | D23: podchlazení [°C] | E23: 4
A24: ts2 [°C] | B24: =B22-H20/B20/B21 -> -3.0045187 | D24: tw2 [°C] | E24: =E22+H21/E20/E21 -> 34.96319 | J24: tlaková ztráta [kPa]
A25: kompresor | J25: výpar. chl. | K25: 2.8621338
A26: chladivo | B26: R410A | J26: výpar. sol. | K26: 6.0523303
A27: Vteor 1k [m3/h] | B27: 8.9 | J27: kond. chl. | K27: 0
A28: λ d [-] | B28: 0.95015663 | J28: kond. voda | K28: 7.8104
A29: η ie [-] | B29: 0.71369628
A30: Vreál [m3/h] | B30: 8.456394

Sheet počty hodin
C1: Topné období
C2: Teplejší | D2: Průměrné | E2: Chladnější
A3: Vypnutý stav | B3: [h] | C3: 4345 | D3: 3672 | E3: 2189
A4: Vypnutý termostat | B4: [h] | C4: 755 | D4: 179 | E4: 131
A5: Pohotovostní režim | B5: [h] | C5: 0 | D5: 0 | E5: 0
A6: Ekvivalentní počet hodin vytápění v aktivním režimu | B6: [h] | C6: 1400 | D6: 1400 | E6: 2100
A7: Režim zahřívání skříně kompresoru | B7: [h] | C7: 4476 | D7: 3851 | E7: 2944

Sheet částečné zatížení
B1: 1 kompresor | M1: 1 kompresor | O1: 2 kompresory
B2: Teplota | C2: Koeficient částečného zatížení - výpočet | D2: Koeficient - výsledek [-] | E2: Výparník - solanka | G2: Kondenzátor - voda | M2: Výparník | O2: Výparník
B3: [°C] | E3: tin [°C] | F3: tout [°C] | G3: tin [°C] | H3: tout [°C] | I3: Qo | J3: COP | M3: tin [°C] | N3: tout [°C] | O3: tin [°C] | P3: tout [°C]
A4: E | B4: -10 | C4: (Tdesign - 16) / (Tdesign - 16) | D4: 1 | E4: 0 | F4: -3 | G4: 30 | H4: 35 | I4: 13.087 | J4: 4.425 | L4: A | M4: 0 | N4: -3 | O4: 0 | P4: -3
A5: A | B5: -7 | C5: (-7 - 16) / (Tdesign - 16) | D5: =(-7-16)/(-10-16) -> 0.88461538 | E5: 0 | F5: -3 | G5: 29 | H5: 34 | I5: 13.127 | J5: 4.536 | L5: B | M5: 0 | N5: -3.2 | O5: 0 | P5: -3.1
A6: B | B6: 2 | C6: (2 - 16) / (Tdesign - 16) | D6: =(2-16)/(-10-16) -> 0.53846154 | E6: 0 | F6: -3.2 | G6: 25 | H6: 30 | I6: 13.287 | J6: 5.01 | L6: C | M6: 0 | N6: -3.2 | O6: 0 | P6: -3.2
A7: C | B7: 7 | C7: (7 - 16) / (Tdesign - 16) | D7: =(7-16)/(-10-16) -> 0.34615385 | E7: 0 | F7: -3.2 | G7: 22 | H7: 27 | I7: 13.414 | J7: 5.403 | L7: D | M7: 0 | N7: -3.3 | O7: 0 | P7: -3.3
A8: D | B8: 12 | C8: (12 - 16) / (Tdesign - 16) | D8: =(12-16)/(-10-16) -> 0.15384615 | E8: 0 | F8: -3.3 | G8: 19 | H8: 24 | I8: 13.543 | J8: 5.821 | L8: E | M8: 0 | N8: -3 | O8: 0 | P8: -3
A9: F | B9: dle volby | C9: (Tbivalent - 16) / (Tdesign - 16) | E9: 0 | L9: F = E
B11: 2 kompresory
B12: Teplota | C12: Koeficient částečného zatížení - výpočet | D12: Koeficient - výsledek [-] | E12: Výparník - solanka | G12: Kondenzátor - voda
B13: [°C] | E13: tin [°C] | F13: tout [°C] | G13: tin [°C] | H13: tout [°C]
A14: E | B14: -10 | C14: (Tdesign - 16) / (Tdesign - 16) | D14: 1 | E14: 0 | F14: -3 | G14: 30 | H14: 35 | I14: 24.863 | J14: 4.018
A15: A | B15: -7 | C15: (-7 - 16) / (Tdesign - 16) | D15: =(-7-16)/(-10-16) -> 0.88461538 | E15: 0 | F15: -3 | G15: 29 | H15: 34 | I15: 24.918 | J15: 4.119
A16: B | B16: 2 | C16: (2 - 16) / (Tdesign - 16) | D16: =(2-16)/(-10-16) -> 0.53846154 | E16: 0 | F16: -3.1 | G16: 25 | H16: 30 | I16: 25.114 | J16: 4.547
A17: C | B17: 7 | C17: (7 - 16) / (Tdesign - 16) | D17: =(7-16)/(-10-16) -> 0.34615385 | E17: 0 | F17: -3.2 | G17: 22 | H17: 27 | I17: 25.326 | J17: 4.897
A18: D | B18: 12 | C18: (12 - 16) / (Tdesign - 16) | D18: =(12-16)/(-10-16) -> 0.15384615 | E18: 0 | F18: -3.3 | G18: 19 | H18: 24 | I18: 25.516 | J18: 5.271
A19: F | B19: dle volby | C19: (Tbivalent - 16) / (Tdesign - 16) | E19: 0

Sheet oblasti
A1: BIN | B1: Teplota | C1: Teplejší | D1: Průměrné | E1: Chladnější
A2: j | B2: Tj | C2: hjW | D2: hjA | E2: hjC
A3: - | B3: °C | C3: h | D3: h | E3: h
A4: 1 až 8 | B4: -30 až - 33 | C4: 0 | D4: 0 | E4: 0
A5: 9 | B5: -22 | C5: 0 | D5: 0 | E5: 1
A6: 10 | B6: -21 | C6: 0 | D6: 0 | E6: 6
A7: 11 | B7: -20 | C7: 0 | D7: 0 | E7: 13
A8: 12 | B8: -19 | C8: 0 | D8: 0 | E8: 17
A9: 13 | B9: -18 | C9: 0 | D9: 0 | E9: 19
A10: 14 | B10: -17 | C10: 0 | D10: 0 | E10: 26
A11: 15 | B11: -16 | C11: 0 | D11: 0 | E11: 39
A12: 16 | B12: -15 | C12: 0 | D12: 0 | E12: 41
A13: 17 | B13: -14 | C13: 0 | D13: 0 | E13: 35
A14: 18 | B14: -13 | C14: 0 | D14: 0 | E14: 52
A15: 19 | B15: -12 | C15: 0 | D15: 0 | E15: 37
A16: 20 | B16: -11 | C16: 0 | D16: 0 | E16: 41
... A42: 46 | B42: 15 | C42: 294 | D42: 74 | E42: 61
A43: celkem | C43: =SUM(C4:C42) -> 3590 | D43: =SUM(D4:D42) -> 4910 | E43: =SUM(E4:E42) -> 6446

Sheet COP
C1: Venkovní výměník (solanka) | E1: Vnitřní výměník (voda)
C2: tin [°C] | D2: tout [°C] | E2: tin [°C] | F2: tout [°C]
A3: Standardní podmínky | C3: 0 | D3: -3 | E3: 40 | F3: 45
B4: nízkoteplotní | C4: 0 | D4: -3 | E4: 30 | F4: 35
A5: Provozní podmínky | B5: nízkoteplotní | C5: 5 | D5: * | E5: * | F5: 35
C6: 5 | D6: * | E6: * | F6: 45
C7: -5 | D7: * | E7: * | F7: 45
C8: 0 | D8: * | E8: * | F8: 55

Sheet štítky
A1: Třída sezonní energetické účinnosti vytápění | B1: Sezonní energetická účinnost vytápění ηs [%] | D1: Třída sezonní energetické účinnosti vytápění | E1: Sezonní energetická účinnost vytápění ηs [%]
A2: A +++ | B2: ηs ≥ 150 | D2: A +++ | E2: ηs ≥ 175
A3: A ++ | B3: 125 ≤ ηs < 150 | D3: A ++ | E3: 150 ≤ ηs < 175
A4: A + | B4: 98 ≤ ηs < 125 | D4: A + | E4: 123 ≤ ηs < 150
A5: A | B5: 90 ≤ ηs < 98 | D5: A | E5: 115 ≤ ηs < 123
A6: B | B6: 82 ≤ ηs < 90 | D6: B | E6: 107 ≤ ηs < 115
A7: C | B7: 75 ≤ ηs < 82 | D7: C | E7: 100 ≤ ηs < 107
A8: D | B8: 36 ≤ ηs < 75 | D8: D | E8: 61 ≤ ηs < 100
A9: E | B9: 34 ≤ ηs < 36 | D9: E | E9: 59 ≤ ηs < 61
A10: F | B10: 30 ≤ ηs < 34 | D10: F | E10: 55 ≤ ηs < 59
A11: G | B11: ηs < 30 | D11: G | E11: ηs < 55

Sheet Oběhová čerpadla
A1: zadané požadavky
A2: typ čerpadla | B2: oběhové
A3: Průtok Q | B3: 26 | C3: l.s-1
A4: vypařovací teplota | B4: -5 | C4: °C
