Workbook

Sheet VSTUPNÍ HODNOTY a KALKULACE
A1: VSTUPY | D1: Kalkulace nákladů na přecínování jedné součástky | I1: CITLIVOSTNÍ ANALÝZA
W2: počet nakoupených REF01CSA+ [ks] | X2: cena za jednu součástku [kč/ks]
K3: CITLIVOSTNÍ ANALÝZA NA ZMĚNU MEZD A CENY PÁJECÍ SLITINY
A4: VSTUPY kalkulačního vzorce | D4: KALKULACE NA PŘECÍNOVÁNÍ JEDNÉ SOUČÁSTKY PŘI CELKOVÉM POČTU | F4: =$B$6 -> 1000 | G4: PŘECÍNOVANÝCH SOUČÁSTEK | K4: cena pájecí slitiny SAC 305 [Kč/1g] | W4: 1 | X4: 118.088
A5: VOLITELNÉ proměnné vstupy | J5: =((B25*(B18-B19)*B22/B6+B26*B23/B6)+(B28/B34)+(B28/B34)*B29+(B14*B16*B15/B6)+(B11/B6)+(B28/B34)*B37)/(1-B35) -> 11.423405 | K5: 2 | L5: 2.05 | M5: 2.1 | N5: 2.15 | O5: 2.2 | P5: 2.22 | Q5: 2.3 | R5: 2.35 | S5: 2.4 | T5: 2.45 | W5: 10 | X5: 99.001
A6: ZDE zadejte počet součástek na skladě: | B6: 1000 | D6: 1. přímý materiál [Kč/ks] | F6: =$B$25*($B$18-$B$19)*$B$22/$F$4+$B$26*$B$23/$F$4 -> 1.479935 | I6: mzda pracovníka [Kč/hod] | J6: 150 | K6: 9.6006667 | L6: 9.6480351 | M6: 9.6954035 | N6: 9.7427719 | O6: 9.7901404 | P6: 9.8090877 | Q6: 9.8848772 | R6: 9.9322456 | S6: 9.979614 | T6: 10.026982 | W6: 25 | X6: 92.893
A7: vstupy počáteční investice | D7: 2. přímé mzdy [Kč/ks] | F7: =$B$28/$B$34 -> 3.3333333 | J7: 160 | K7: 9.9231228 | L7: 9.9704912 | M7: 10.01786 | N7: 10.065228 | O7: 10.112596 | P7: 10.131544 | Q7: 10.207333 | R7: 10.254702 | S7: 10.30207 | T7: 10.349439 | W7: 100 | X7: 86.758
A8: cena pájecí lázně [Kč] | B8: 198 | D8: 3. zdravotní a sociální pojištění [Kč/ks] | F8: =$F$7*$B$29 -> 1.1266667 | J8: 170 | K8: 10.245579 | L8: 10.292947 | M8: 10.340316 | N8: 10.387684 | O8: 10.435053 | P8: 10.454 | Q8: 10.529789 | R8: 10.577158 | S8: 10.624526 | T8: 10.671895 | W8: 300 | X8: 82.458
A9: cena digitálního časovače [Kč] | B9: 2800 | D9: 4. spotřeba energie [Kč/ks] | F9: =B14*B15/B34 -> 0.012633333 | J9: 180 | K9: 10.568035 | L9: 10.615404 | M9: 10.662772 | N9: 10.71014 | O9: 10.757509 | P9: 10.776456 | Q9: 10.852246 | R9: 10.899614 | S9: 10.946982 | T9: 10.994351 | W9: 500 | X9: 73.805
A10: cena zahnuté pinzety [Kč] | B10: 235 | D10: 5. odpis investice [Kč/ks] | F10: =$B$11/$F$4 -> 3.233 | J10: 190 | K10: 10.890491 | L10: 10.93786 | M10: 10.985228 | N10: 11.032596 | O10: 11.079965 | P10: 11.098912 | Q10: 11.174702 | R10: 11.22207 | S10: 11.269439 | T10: 11.316807 | W10: 2500 | X10: 59.299
A11: investiční výdaje [Kč] | B11: =B8+B9+B10 -> 3233 | D11: přímé náklady celkem [Kč/ks] | F11: =SUM($F$6:$G$10) -> 9.1855683 | J11: 200 | K11: 11.212947 | L11: 11.260316 | M11: 11.307684 | N11: 11.355053 | O11: 11.402421 | P11: 11.421368 | Q11: 11.497158 | R11: 11.544526 | S11: 11.591895 | T11: 11.639263 | W11: 5000 | X11: 58.026
A12: pájecí lázeň a energie | D12: 6. režijní náklady [Kč/ks] | F12: =$F$7*$B$37 -> 1.6666667 | J12: 210 | K12: 11.535404 | L12: 11.582772 | M12: 11.63014 | N12: 11.677509 | O12: 11.724877 | P12: 11.743825 | Q12: 11.819614 | R12: 11.866982 | S12: 11.914351 | T12: 11.961719
A13: příkon pájecí lázně [W] | B13: 200 | D13: vlastní náklady celkem [Kč/ks] | F13: =$F$11+$F$12 -> 10.852235 | J13: 220 | K13: 11.85786 | L13: 11.905228 | M13: 11.952596 | N13: 11.999965 | O13: 12.047333 | P13: 12.066281 | Q13: 12.14207 | R13: 12.189439 | S13: 12.236807 | T13: 12.284175
A14: spotřeba energie lázně za hodinu provozu [kWh] | B14: =B13/1000 -> 0.2 | D14: vlastní náklady při zahrnutí zmetkovitosti [Kč/ks] | F14: =$F$13/(1-$B$35) -> 11.423405 | J14: 230 | K14: 12.180316 | L14: 12.227684 | M14: 12.275053 | N14: 12.322421 | O14: 12.369789 | P14: 12.388737 | Q14: 12.464526 | R14: 12.511895 | S14: 12.559263 | T14: 12.606632
A15: cena elektřiny [Kč/kWh] (silová + distribuce) | B15: 3.79 | J15: 240 | K15: 12.502772 | L15: 12.55014 | M15: 12.597509 | N15: 12.644877 | O15: 12.692246 | P15: 12.711193 | Q15: 12.786982 | R15: 12.834351 | S15: 12.881719 | T15: 12.929088
A16: počet hodin provozu lázně na přecínování všech čipů [hod] | B16: =B6*B33/3600 -> 16.666667 | D16: V této buňce se nachází celý kalkulační vzorec, který využiji při citlivostní analýze → | G16: =((B25*(B18-B19)*B22/B6+B26*B23/B6)+(B28/B34)+(B28/B34)*B29+(B14*B16*B15/B6)+(B11/B6)+(B28/B34)*B37)/(1-B35) -> 11.423405 | K16: cena přecínování jedné součástky [Kč/ks]
A17: vstupy materiálu
A18: nákupní cena pájecí slitiny SAC [Kč/1g] | B18: 2.22215
A19: výkupní cena pájecí slitiny SAC [Kč/1g] | B19: 0.9
A20: pájecí slitina vydrží na x vývodů [ks] | B20: 3840 | J20: CITLIVOSTNÍ ANALÝZA NA ZMETKOVITOST | M20: CITLIVOSTNÍ ANALÝZA NA POČET PŘECÍNOVANÝCH SOUČÁSTEK
A21: počet vývodů na součástce | B21: 8 | M21: počet součástek k přecínování [ks] | N21: cena přecínování [Kč/ks] | O21: cena za nakoupenou součástku [Kč/ks] | P21: náklady na přecínování součástek [Kč] | Q21: náklady na pořízení nových součástek [Kč] | R21: úspora/ztráta přecínováním součástek [Kč]
A22: váha slitiny v lázni [g] | B22: 300 | J22: zmetkovitost [%] | K22: cena přecínování [Kč/ks]
A23: cena tavidla [Kč/100 ml] | B23: 290
A24: tavidlo vydrží na x vývodů | B24: 213328 | K24: =((B25*(B18-B19)*B22/B6+B26*B23/B6)+(B28/B34)+(B28/B34)*B29+(B14*B16*B15/B6)+(B11/B6)+(B28/B34)*B37)/(1-B35) -> 11.423405 | N24: =((B25*(B18-B19)*B22/B6+B26*B23/B6)+(B28/B34)+(B28/B34)*B29+(B14*B16*B15/B6)+(B11/B6)+(B28/B34)*B37)/(1-B35) -> 11.423405
A25: počet dávek 300g pájecí slitiny na přecínování všech součástek | B25: =CEILING(B6/(B20/B21),1) -> 3 | J25: 0.05 | K25: 11.423405 | M25: 1 | N25: 4132.4045 | O25: {=_xlfn.IFS(M25<$W$5,$X$4,M25<$W$6,$X$5,M25<$W$7,$X$6,M25<$W$8,$X$7,M25<$W$9,$X$8,M25<$W$10,$X$9,M25<$W$11,$X$10,M25>=$W$11,$X$11)} -> 118.088 | P25: =M25*N25 -> 4132.4045 | Q25: =M25*O25 -> 118.088 | R25: =Q25-P25 -> -4014.3165
A26: počet balení tavidla na přecínování všech součástek | B26: =CEILING(B6/(B24/B21),1) -> 1 | J26: 0.1 | K26: 12.058039 | M26: 25 | N26: 171.50011 | O26: {=_xlfn.IFS(M26<$W$5,$X$4,M26<$W$6,$X$5,M26<$W$7,$X$6,M26<$W$8,$X$7,M26<$W$9,$X$8,M26<$W$10,$X$9,M26<$W$11,$X$10,M26>=$W$11,$X$11)} -> 92.893 | P26: =M26*N26 -> 4287.5026 | Q26: =M26*O26 -> 2322.325 | R26: =Q26-P26 -> -1965.1776
A27: vstupy mezd | J27: 0.15 | K27: 12.767335 | M27: 100 | N27: 47.721842 | O27: {=_xlfn.IFS(M27<$W$5,$X$4,M27<$W$6,$X$5,M27<$W$7,$X$6,M27<$W$8,$X$7,M27<$W$9,$X$8,M27<$W$10,$X$9,M27<$W$11,$X$10,M27>=$W$11,$X$11)} -> 86.758 | P27: =M27*N27 -> 4772.1842 | Q27: =M27*O27 -> 8675.8 | R27: =Q27-P27 -> 3903.6158
A28: mzda pracovníka [Kč/hod] | B28: 200 | J28: 0.2 | K28: 13.565294 | M28: 480 | N28: 15.058134 | O28: {=_xlfn.IFS(M28<$W$5,$X$4,M28<$W$6,$X$5,M28<$W$7,$X$6,M28<$W$8,$X$7,M28<$W$9,$X$8,M28<$W$10,$X$9,M28<$W$11,$X$10,M28>=$W$11,$X$11)} -> 82.458 | P28: =M28*N28 -> 7227.9042 | Q28: =M28*O28 -> 39579.84 | R28: =Q28-P28 -> 32351.936
A29: sazba zdravotní a sociální (9 % ZP, 24,8 % SP) | B29: 0.338 | J29: 0.25 | K29: 14.469647 | M29: 2400 | N29: 8.877432 | O29: {=_xlfn.IFS(M29<$W$5,$X$4,M29<$W$6,$X$5,M29<$W$7,$X$6,M29<$W$8,$X$7,M29<$W$9,$X$8,M29<$W$10,$X$9,M29<$W$11,$X$10,M29>=$W$11,$X$11)} -> 73.805 | P29: =M29*N29 -> 21305.837 | Q29: =M29*O29 -> 177132 | R29: =Q29-P29 -> 155826.16
A30: parametry procesu přecínování | J30: 0.3 | K30: 15.503193 | M30: 5000 | N30: 8.1226516 | O30: {=_xlfn.IFS(M30<$W$5,$X$4,M30<$W$6,$X$5,M30<$W$7,$X$6,M30<$W$8,$X$7,M30<$W$9,$X$8,M30<$W$10,$X$9,M30<$W$11,$X$10,M30>=$W$11,$X$11)} -> 58.026 | P30: =M30*N30 -> 40613.258 | Q30: =M30*O30 -> 290130 | R30: =Q30-P30 -> 249516.74
A31: doba přecínování jedné strany [s] | B31: 10 | J31: 0.5 | K31: 21.70447 | M31: 9600 | N31: 7.7185504 | O31: {=_xlfn.IFS(M31<$W$5,$X$4,M31<$W$6,$X$5,M31<$W$7,$X$6,M31<$W$8,$X$7,M31<$W$9,$X$8,M31<$W$10,$X$9,M31<$W$11,$X$10,M31>=$W$11,$X$11)} -> 58.026 | P31: =M31*N31 -> 74098.084 | Q31: =M31*O31 -> 557049.6 | R31: =Q31-P31 -> 482951.52
A32: doba osazení součástky z jedné strany [s] | B32: 20
A33: celková doba zpracování jedné součástky [s] | B33: =2*(B31+B32) -> 60
A34: výkonová norma pracovníka [ks/hod] | B34: =3600/$B$33 -> 60
A35: zmetkovitost [%] | B35: 0.05
A36: režie
A37: režijní přirážka [% přímých mezd] | B37: 0.5
A39: TENTO SEŠIT JE DOPLŇKEM K MÉ BAKALÁŘSKÉ PRÁCI, NA LISTĚ "BOD ZVRATU" PROBÍHÁ VÝPOČET POMOCÍ ITERACE, PRO SPRÁVNOU FUNKCI SEŠITU JE NUTNÉ MÍT ITERATIVNÍ VÝPOČET POVOLENÝ. ZMĚNY VE VSTUPECH KALKULAČNÍHO VZORCE NA TOMTO LISTU SE PROPÍŠÍ I DO DALŠÍCH LISTŮ. OSTATNÍ BUŇKY A LISTY JSOU ZAMČENÉ, LZE JE BEZ HESLA ZNOVU ODEMKNOUT

Sheet BOD ZVRATU
A1: VZOREC PRO VÝPOČET BODU ZVRATU UVEDEN V BP, VÝPOČET ZDE JE POJAT OBECNĚJI NEŽ V BP, CENA POŘÍZENÍ NOVÉ SOUČÁSTKY A POČET DÁVEK PÁJECÍ SLITINY A TAVIDLA JSOU ZÁVISLÉ NA POČTU SOUČÁSTEK Z BODU ZVRATU. JE PROTO NUTNÉ MÍT POVOLENÝ ITERATIVNÍ PŘEPOČET SEŠITU. POKUD BOD ZVRATU NEEXISTUJE, ITERATIVNÍ VÝPOČET SKONČÍ CHYBOU
E2: BOD ZVRATU | M2: Tabulka pro vynesení závislosti ceny nové součástky na počtu nakoupených součástek
E4: NÁKLADY NA POŘÍZENÍ NOVÉ SOUČÁSTKY A LIKVIDACI STARÉ | G4: = | H4: NÁKLADY NA PŘECÍNOVÁNÍ JEDNÉ SOUČÁSTKY PŘI POČTU SOUČÁSTEK, KTERÝ ODPOVÍDÁ BODU ZVRATU | M4: počet nakoupených REF01CSA+ | N4: cena za jednu součástku [kč/ks]
M5: 1 | N5: =F7 -> 118.088
E6: počet nakoupených REF01CSA+ [ks] | F6: cena za jednu součástku [kč/ks] | H6: KALKULACE NA PŘECÍNOVÁNÍ JEDNÉ SOUČÁSTKY PŘI CELKOVÉM POČTU | J6: =G20 -> 47.737064 | K6: PŘECÍNOVANÝCH SOUČÁSTEK | M6: 10 | N6: =F7 -> 118.088
A7: VSTUPY kalkulačního vzorce | E7: 1 | F7: 118.088 | M7: 10 | N7: =F8 -> 99.001
A8: vstupy počáteční investice | E8: 10 | F8: 99.001 | H8: 1. přímý materiál [Kč/ks] | J8: =$B$26*($B$19-$B$20)*$B$23/G20+$B$27*$B$24/G20 -> 14.383897 | M8: 25 | N8: =F8 -> 99.001
A9: cena pájecí lázně [Kč] | B9: ='VSTUPNÍ HODNOTY a KALKULACE'!B8 -> 198 | E9: 25 | F9: 92.893 | H9: 2. přímé mzdy [Kč/ks] | J9: =$B$29/$B$35 -> 3.3333333 | M9: 25 | N9: =F9 -> 92.893
A10: cena digitálního časovače [Kč] | B10: ='VSTUPNÍ HODNOTY a KALKULACE'!B9 -> 2800 | E10: 100 | F10: 86.758 | H10: 3. zdravotní a sociální pojištění [Kč/ks] | J10: =$J$9*$B$30 -> 1.1266667 | M10: 100 | N10: =F9 -> 92.893
A11: cena zahnuté pinzety [Kč] | B11: ='VSTUPNÍ HODNOTY a KALKULACE'!B10 -> 235 | E11: 300 | F11: 82.458 | H11: 4. spotřeba energie [Kč/ks] | J11: =B15*B16/B35 -> 0.012633333 | M11: 100 | N11: =F10 -> 86.758
A12: investiční výdaje [Kč] | B12: ='VSTUPNÍ HODNOTY a KALKULACE'!B11 -> 3233 | E12: 500 | F12: 73.805 | H12: 5. odpis investice [Kč/ks] | J12: =$B$12/G20 -> 67.725153 | M12: 300 | N12: =F10 -> 86.758
A13: pájecí lázeň | E13: 2500 | F13: 59.299 | H13: přímé náklady celkem [Kč/ks] | J13: =SUM($J$8:$K$12) -> 86.581683 | M13: 300 | N13: =F11 -> 82.458
A14: příkon pájecí lázně [W] | B14: ='VSTUPNÍ HODNOTY a KALKULACE'!B13 -> 200 | E14: 5000+ | F14: 58.026 | H14: 6. režijní náklady [Kč/ks] | J14: =$J$9*$B$38 -> 1.6666667 | M14: 500 | N14: =F11 -> 82.458
A15: spotřeba energie lázně za hodinu provozu [kWh] | B15: ='VSTUPNÍ HODNOTY a KALKULACE'!B14 -> 0.2 | E15: cena alternativní součástky REF01CSA+ [Kč/ks] | F15: {=_xlfn.IFS(G20<E8,F7,G20<E9,F8,G20<E10,F9,G20<E11,F10,G20<E12,F11,G20<E13,F12,G20<E14,F13,G20>=E14,F14)} -> 92.893 | H15: vlastní náklady celkem [Kč/ks] | J15: =$J$13+$J$14 -> 88.24835 | M15: 500 | N15: =F12 -> 73.805
A16: cena elektřiny [Kč/kWh] (silová + distribuce) | B16: ='VSTUPNÍ HODNOTY a KALKULACE'!B15 -> 3.79 | H16: vlastní náklady při zahrnutí zmetkovitosti [Kč/ks] | J16: =$J$15/(1-$B$36) -> 92.893 | M16: 2500 | N16: =F12 -> 73.805
A17: počet hodin provozu lázně na přecínování všech čipů [hod] | B17: ='VSTUPNÍ HODNOTY a KALKULACE'!B16 -> 16.666667 | E17: náklad na likvidaci stávající součástky [Kč/ks] | F17: 0 | M17: 2500 | N17: =F13 -> 59.299
A18: vstupy materiálu | M18: 5000 | N18: =F13 -> 59.299
A19: nákupní cena pájecí slitiny SAC [Kč/1g] | B19: ='VSTUPNÍ HODNOTY a KALKULACE'!B18 -> 2.22215 | M19: 5000 | N19: =F14 -> 58.026
A20: výkupní cena pájecí slitiny SAC [Kč/1g] | B20: ='VSTUPNÍ HODNOTY a KALKULACE'!B19 -> 0.9 | E20: BOD ZVRATU pro součástku REF01 [ks] | G20: =(B12+B24*B27+B26*(B19-B20)*B23)/(((F15+F17)*(1-B36)-(J11+J9+J10+J14))) -> 47.737064 | H20: ROVNAJÍ SE NÁKLADY NA POŘÍZENÍ NOVÉ SOUČÁSTKY+(LIKVIDACE STARÉ) NÁKLADŮM NA PŘECÍNOVÁNÍ? | K20: =IF(J16=F15+F17,"ANO","NE") -> ANO | M20: 10000 | N20: =F14 -> 58.026
A21: pájecí slitina vydrží na x vývodů [ks] | B21: ='VSTUPNÍ HODNOTY a KALKULACE'!B20 -> 3840
A22: počet vývodů na součástce | B22: ='VSTUPNÍ HODNOTY a KALKULACE'!B21 -> 8
A23: váha slitiny v lázni [g] | B23: ='VSTUPNÍ HODNOTY a KALKULACE'!B22 -> 300
A24: cena tavidla [Kč/100 ml] | B24: ='VSTUPNÍ HODNOTY a KALKULACE'!B23 -> 290
A25: tavidlo vydrží na x vývodů | B25: ='VSTUPNÍ HODNOTY a KALKULACE'!B24 -> 213328
A26: počet dávek 300g pájecí slitiny na přecínování všech součástek | B26: =CEILING(G20/(B21/B22),1) -> 1
A27: počet balení tavidla na přecínování všech součástek | B27: =CEILING(G20/(B25/B22),1) -> 1
A28: vstupy mezd
A29: mzda pracovníka [Kč/hod] | B29: ='VSTUPNÍ HODNOTY a KALKULACE'!B28 -> 200
A30: sazba zdravotní a sociální (9 % ZP, 24,8 % SP) | B30: ='VSTUPNÍ HODNOTY a KALKULACE'!B29 -> 0.338
A31: parametry procesu přecínování | M31: =IFERROR(CONCATENATE("BOD ZVRATU JE: ",CEILING(G20,1)),"BOD ZVRATU NEEXISTUJE! RESTARTUJTE SEŠIT") -> BOD ZVRATU JE: 48 | N31: ks
A32: doba přecínování jedné strany [s] | B32: ='VSTUPNÍ HODNOTY a KALKULACE'!B31 -> 10
A33: doba osazení součástky z jedné strany [s] | B33: ='VSTUPNÍ HODNOTY a KALKULACE'!B32 -> 20
A34: celková doba zpracování jedné součástky [s] | B34: =2*(B32+B33) -> 60
A35: výkonová norma pracovníka [ks/hod] | B35: =3600/$B$34 -> 60
A36: zmetkovitost [%] | B36: ='VSTUPNÍ HODNOTY a KALKULACE'!B35 -> 0.05
A37: režie
A38: režijní přirážka [% přímých mezd] | B38: ='VSTUPNÍ HODNOTY a KALKULACE'!B37 -> 0.5
E55: DO GRAFICKÉ METODY URČENÍ BODU ZVRATU SE PROMÍTNE ZMĚNA VSTUPNÍCH PARAMETRŮ NA LISTĚ VSTUPNÍCH HODNOT

Sheet GRAFY
A2: VSTUPY | C2: Položky kalkulačního vzorce na koláčový graf
C3: 1. přímý materiál [Kč/ks] | E3: {='VSTUPNÍ HODNOTY a KALKULACE'!$F$6:$G$6} -> 1.479935 | F3: 0 | G3: =E3/SUM($E$3:$E$8) -> 0.13637145
A4: VSTUPY kalkulačního vzorce | C4: 2. přímé mzdy [Kč/ks] | E4: {='VSTUPNÍ HODNOTY a KALKULACE'!$F$7:$G$7} -> 3.3333333 | F4: 0 | G4: =E4/SUM($E$3:$E$8) -> 0.30715639
A5: VOLITELNÉ proměnné vstupy | C5: 3. zdravotní a sociální pojištění [Kč/ks] | E5: {='VSTUPNÍ HODNOTY a KALKULACE'!$F$8:$G$8} -> 1.1266667 | F5: 0 | G5: =E5/SUM($E$3:$E$8) -> 0.10381886
A6: ZDE zadejte počet součástek na skladě: | B6: ='VSTUPNÍ HODNOTY a KALKULACE'!B6 -> 1000 | C6: 4. spotřeba energie [Kč/ks] | E6: {='VSTUPNÍ HODNOTY a KALKULACE'!$F$9:$G$9} -> 0.012633333 | F6: 0 | G6: =E6/SUM($E$3:$E$8) -> 0.0011641227
A7: vstupy počáteční investice | C7: 5. amortizace investice [Kč/ks] | E7: {='VSTUPNÍ HODNOTY a KALKULACE'!$F$10:$G$10} -> 3.233 | F7: 0 | G7: =E7/SUM($E$3:$E$8) -> 0.29791098
A8: cena pájecí lázně [Kč] | B8: ='VSTUPNÍ HODNOTY a KALKULACE'!B8 -> 198 | C8: 6. režijní náklady [Kč/ks] | E8: {='VSTUPNÍ HODNOTY a KALKULACE'!F12:G12} -> 1.6666667 | F8: 0 | G8: =E8/SUM($E$3:$E$8) -> 0.1535782
A9: cena digitálního časovače [Kč] | B9: ='VSTUPNÍ HODNOTY a KALKULACE'!B9 -> 2800
A10: cena zahnuté pinzety [Kč] | B10: ='VSTUPNÍ HODNOTY a KALKULACE'!B10 -> 235
A11: investiční výdaje [Kč] | B11: ='VSTUPNÍ HODNOTY a KALKULACE'!B11 -> 3233
A12: pájecí lázeň a energie
A13: příkon pájecí lázně [W] | B13: ='VSTUPNÍ HODNOTY a KALKULACE'!B13 -> 200
A14: spotřeba energie lázně za hodinu provozu [kWh] | B14: =B13/1000 -> 0.2
A15: cena elektřiny [Kč/kWh] (silová + distribuce) | B15: ='VSTUPNÍ HODNOTY a KALKULACE'!B15 -> 3.79
A16: počet hodin provozu lázně na přecínování všech čipů [hod] | B16: =B6*B33/3600 -> 16.666667
A17: vstupy materiálu
A18: nákupní cena pájecí slitiny SAC [Kč/1g] | B18: ='VSTUPNÍ HODNOTY a KALKULACE'!B18 -> 2.22215
A19: výkupní cena pájecí slitiny SAC [Kč/1g] | B19: ='VSTUPNÍ HODNOTY a KALKULACE'!B19 -> 0.9
A20: pájecí slitina vydrží na x vývodů [ks] | B20: ='VSTUPNÍ HODNOTY a KALKULACE'!B20 -> 3840
A21: počet vývodů na součástce | B21: ='VSTUPNÍ HODNOTY a KALKULACE'!B21 -> 8
A22: váha slitiny v lázni [g] | B22: ='VSTUPNÍ HODNOTY a KALKULACE'!B22 -> 300
A23: cena tavidla [Kč/100 ml] | B23: ='VSTUPNÍ HODNOTY a KALKULACE'!B23 -> 290
A24: tavidlo vydrží na x vývodů | B24: ='VSTUPNÍ HODNOTY a KALKULACE'!B24 -> 213328
A25: počet dávek 300g pájecí slitiny na přecínování všech součástek | B25: =CEILING(B6/(B20/B21),1) -> 3
A26: počet balení tavidla na přecínování všech součástek | B26: =CEILING(B6/(B24/B21),1) -> 1
A27: vstupy mezd
A28: mzda pracovníka [Kč/hod] | B28: ='VSTUPNÍ HODNOTY a KALKULACE'!B28 -> 200 | J28: citlivostí analýza na počet součástek
A29: sazba zdravotní a sociální (9 % ZP, 24,8 % SP) | B29: ='VSTUPNÍ HODNOTY a KALKULACE'!B29 -> 0.338 | J29: počet součástek [ks] | K29: cena přecínování [Kč/ks]
A30: parametry procesu přecínování | K30: =((B25*(B18-B19)*B22/B6+B26*B23/B6)+(B28/B34)+(B28/B34)*B29+(B14*B16*B15/B6)+(B11/B6)+(B28/B34)*B37)/(1-B35) -> 11.423405
A31: doba přecínování jedné strany [s] | B31: ='VSTUPNÍ HODNOTY a KALKULACE'!B31 -> 10 | J31: 1 | K31: 4132.4045
A32: doba osazení součástky z jedné strany [s] | B32: ='VSTUPNÍ HODNOTY a KALKULACE'!B32 -> 20 | J32: 2 | K32: 2069.4335
A33: celková doba zpracování jedné součástky [s] | B33: =2*(B31+B32) -> 60 | J33: 3 | K33: 1381.7765
A34: výkonová norma pracovníka [ks/hod] | B34: =3600/$B$33 -> 60 | J34: 4 | K34: 1037.9479
A35: zmetkovitost [%] | B35: ='VSTUPNÍ HODNOTY a KALKULACE'!B35 -> 0.05 | J35: 5 | K35: 831.65084
A36: režie | J36: 6 | K36: 694.11944
A37: režijní přirážka [% přímých mezd] | B37: ='VSTUPNÍ HODNOTY a KALKULACE'!B37 -> 0.5 | J37: 7 | K37: 595.88272
J38: 8 | K38: 522.20518
J39: 9 | K39: 464.90043
J40: 11 | K40: 381.54807
J41: 12 | K41: 350.29093
...

Sheet TABULKA PARAMETRŮ
B2: Tabulka vstupů kalkulace na přecínování jedné součástky
B3: popis vstupu | C3: označení | D3: hodnota | E3: popis vstupu | F3: označení | G3: hodnota
B4: cena časovače | C4: pč [Kč] | D4: ='VSTUPNÍ HODNOTY a KALKULACE'!B8 -> 198 | E4: hodinová mzda pracovníka | F4: pmzda [Kč/hod] | G4: ='VSTUPNÍ HODNOTY a KALKULACE'!B28 -> 200
B5: cena pájecí lázně QUICK 100-4C | C5: pl [Kč] | D5: ='VSTUPNÍ HODNOTY a KALKULACE'!B9 -> 2800 | E5: sazba zdravotní a sociální pojištění | F5: sazba ZSP [%] | G5: ='VSTUPNÍ HODNOTY a KALKULACE'!B29 -> 0.338
B6: cena zahnuté pinzety [Kč] | C6: pp [Kč] | D6: ='VSTUPNÍ HODNOTY a KALKULACE'!B10 -> 235 | E6: doba přecínování jedné součástky | F6: tpřec [s] | G6: ='VSTUPNÍ HODNOTY a KALKULACE'!B33 -> 60
B7: celková počáteční investice | C7: I [Kč] | D7: ='VSTUPNÍ HODNOTY a KALKULACE'!B11 -> 3233 | E7: výkonová norma pracovníka | F7: n [ks/hod] | G7: ='VSTUPNÍ HODNOTY a KALKULACE'!B34 -> 60
B8: příkon pájecí lázně | C8: P [W] | D8: ='VSTUPNÍ HODNOTY a KALKULACE'!B13 -> 200 | E8: doba provozu lázně na přecínování všech součástek | F8: tlázeň [hod] | G8: ='VSTUPNÍ HODNOTY a KALKULACE'!B16 -> 16.666667
B9: spotřeba lázně za hodinu | C9: Elázeň [kWh] | D9: ='VSTUPNÍ HODNOTY a KALKULACE'!B14 -> 0.2 | E9: počet vývodů, které lze ošetřit jedním balením tavidla | F9: vtav | G9: ='VSTUPNÍ HODNOTY a KALKULACE'!B24 -> 213328
B10: nákupní cena pájecí slitiny SAC 305 | C10: pnSAC [Kč/g] | D10: ='VSTUPNÍ HODNOTY a KALKULACE'!B18 -> 2.22215 | E10: cena tavidla TOPNIK RF800 | F10: ptav [Kč] | G10: ='VSTUPNÍ HODNOTY a KALKULACE'!B23 -> 290
B11: počet dávek slitiny na přecínování všech součástek | C11: dsliť [dávka] | D11: ='VSTUPNÍ HODNOTY a KALKULACE'!B25 -> 3 | E11: zmetkovitost procesu | F11: z [%] | G11: ='VSTUPNÍ HODNOTY a KALKULACE'!B35 -> 0.05
B12: výkupní cena pájecí slitiny SAC 305 | C12: pvSAC [Kč/g] | D12: ='VSTUPNÍ HODNOTY a KALKULACE'!B19 -> 0.9 | E12: cena elektřiny | F12: pel [Kč/kWh] | G12: ='VSTUPNÍ HODNOTY a KALKULACE'!B15 -> 3.79
B13: váha slitiny v lázni (1 dávka) | C13: m [g] | D13: ='VSTUPNÍ HODNOTY a KALKULACE'!B22 -> 300 | E13: režijní přirážka | F13: režie [%] | G13: ='VSTUPNÍ HODNOTY a KALKULACE'!B37 -> 0.5
B14: počet vývodů, které lze přecínovat v jedné dávce slitiny | C14: vsliť [ks] | D14: ='VSTUPNÍ HODNOTY a KALKULACE'!B20 -> 3840 | E14: počet dávek (balení) tavidla na přecínování všech součástek | F14: dtav [bal] | G14: ='VSTUPNÍ HODNOTY a KALKULACE'!B26 -> 1
B15: počet vývodů na součástce | C15: xv [ks] | D15: ='VSTUPNÍ HODNOTY a KALKULACE'!B21 -> 8 | E15: počet součástek k přecínování | F15: xsouč [ks] | G15: ='VSTUPNÍ HODNOTY a KALKULACE'!B6 -> 1000
