Workbook

Sheet importovana data
A1: Mode | B1: Step | C1: t[s] | D1: n[rpm] | E1: M[%.] | F1: Phi[rad] | G1: Gamma | H1: J[t] | I1: T[°C] | J1: D[1/s] | K1: Tau[Pa] | L1: Eta[Pas] | M1: MP# | N1: Block
A2: 3 | B2: 1 | C2: 15 | D2: 0.1 | E2: 30.65 | F2: 0.1453 | G2: 7.13453 | H2: 1.22523 | I2: 20.7 | J2: 0.51 | K2: 5.823 | L2: 11.418 | M2: 1 | N2: 1
A3: 3 | B3: 1 | C3: 30 | D3: 0.13 | E3: 33.95 | F3: 0.34243 | G3: 16.81434 | H3: 2.60647 | I3: 20.7 | J3: 0.67 | K3: 6.451 | L3: 9.628 | M3: 2 | N3: 1 | P3: Poměr poloměrů válců | S3: κ [-] | T3: =23.9/24.4 -> 0.9795082
A4: 3 | B4: 1 | C4: 45 | D4: 0.16 | E4: 38.48 | F4: 0.59376 | G4: 29.15514 | H4: 3.98785 | I4: 20.7 | J4: 0.82 | K4: 7.311 | L4: 8.916 | M4: 3 | N4: 1
A5: 3 | B5: 1 | C5: 60 | D5: 0.21 | E5: 44.14 | F5: 0.91185 | G5: 44.77397 | H5: 5.3385 | I5: 20.7 | J5: 1.08 | K5: 8.387 | L5: 7.766 | M5: 4 | N5: 1
A6: 3 | B6: 1 | C6: 75 | D6: 0.26 | E6: 51.69 | F6: 1.31868 | G6: 64.75064 | H6: 6.59375 | I6: 20.7 | J6: 1.34 | K6: 9.82 | L6: 7.328 | M6: 5 | N6: 1
A7: 3 | B7: 1 | C7: 90 | D7: 0.33 | E7: 60.89 | F7: 1.83469 | G7: 90.08784 | H7: 7.78768 | I7: 20.7 | J7: 1.7 | K7: 11.568 | L7: 6.805 | M7: 6 | N7: 1
A8: 3 | B8: 1 | C8: 105 | D8: 0.42 | E8: 72.13 | F8: 2.49285 | G8: 122.40531 | H8: 8.93143 | I8: 20.7 | J8: 2.16 | K8: 13.705 | L8: 6.345 | M8: 7 | N8: 1
A9: 3 | B9: 1 | C9: 120 | D9: 0.54 | E9: 86.12 | F9: 3.3293 | G9: 163.47704 | H9: 9.99065 | I9: 20.7 | J9: 2.78 | K9: 16.363 | L9: 5.886 | M9: 8 | N9: 1
A10: 3 | B10: 1 | C10: 135 | D10: 0.69 | E10: 101.76 | F10: 4.39352 | G10: 215.73261 | H10: 11.15762 | I10: 20.7 | J10: 3.55 | K10: 19.335 | L10: 5.446 | M10: 9 | N10: 1
A11: 3 | B11: 1 | C11: 150 | D11: 0.87 | E11: 120.79 | F11: 5.74911 | G11: 282.2958 | H11: 12.29993 | I11: 20.7 | J11: 4.47 | K11: 22.951 | L11: 5.134 | M11: 10 | N11: 1
A12: 3 | B12: 1 | C12: 165 | D12: 1.11 | E12: 143.86 | F12: 7.47071 | G12: 0 | H12: 0 | I12: 20.7 | J12: 5.71 | K12: 27.334 | L12: 4.787 | M12: 11 | N12: 1
A13: 3 | B13: 1 | C13: 180 | D13: 1.41 | E13: 173.18 | F13: 9.66511 | G13: 0 | H13: 0 | I13: 20.7 | J13: 7.25 | K13: 32.905 | L13: 4.539 | M13: 12 | N13: 1 | P13: d
A14: 3 | B14: 1 | C14: 195 | D14: 1.8 | E14: 209.72 | F14: 12.4517 | G14: 0 | H14: 0 | I14: 20.7 | J14: 9.26 | K14: 39.847 | L14: 4.303 | M14: 13 | N14: 1
A15: 3 | B15: 1 | C15: 210 | D15: 2.29 | E15: 252.88 | F15: 16.00799 | G15: 0 | H15: 0 | I15: 20.7 | J15: 11.78 | K15: 48.048 | L15: 4.079 | M15: 14 | N15: 1
A16: 3 | B16: 1 | C16: 225 | D16: 2.91 | E16: 307.86 | F16: 20.52952 | G16: 0 | H16: 0 | I16: 20.7 | J16: 14.96 | K16: 58.493 | L16: 3.91 | M16: 15 | N16: 1
A17: 3 | B17: 1 | C17: 240 | D17: 3.71 | E17: 373.34 | F17: 26.27942 | G17: 0 | H17: 0 | I17: 20.7 | J17: 19.08 | K17: 70.934 | L17: 3.718 | M17: 16 | N17: 1
A18: 3 | B18: 1 | C18: 255 | D18: 4.72 | E18: 451.61 | F18: 33.59619 | G18: 0 | H18: 0 | I18: 20.7 | J18: 24.27 | K18: 85.806 | L18: 3.535 | M18: 17 | N18: 1
A19: 3 | B19: 1 | C19: 270 | D19: 5.99 | E19: 550.84 | F19: 41.47374 | G19: 0 | H19: 0 | I19: 20.7 | J19: 30.8 | K19: 104.659 | L19: 3.398 | M19: 18 | N19: 1
A20: 3 | B20: 1 | C20: 285 | D20: 7.64 | E20: 673.61 | F20: 51.87005 | G20: 0 | H20: 0 | I20: 20.7 | J20: 39.28 | K20: 127.986 | L20: 3.258 | M20: 19 | N20: 1
A21: 3 | B21: 1 | C21: 300 | D21: 9.72 | E21: 822.49 | F21: 65.09773 | G21: 0 | H21: 0 | I21: 20.7 | J21: 49.98 | K21: 156.273 | L21: 3.127 | M21: 20 | N21: 1
A22: 3 | B22: 2 | C22: 315 | D22: 9.72 | E22: 809.4 | F22: 78.37331 | G22: 0 | H22: 0 | I22: 20.7 | J22: 49.98 | K22: 153.786 | L22: 3.077 | M22: 21 | N22: 1
A23: 3 | B23: 2 | C23: 330 | D23: 7.64 | E23: 643.12 | F23: 88.83324 | G23: 0 | H23: 0 | I23: 20.7 | J23: 39.28 | K23: 122.194 | L23: 3.111 | M23: 22 | N23: 1
A24: 3 | B24: 2 | C24: 345 | D24: 6.02 | E24: 513.1 | F24: 96.77126 | G24: 0 | H24: 0 | I24: 20.7 | J24: 30.95 | K24: 97.489 | L24: 3.15 | M24: 23 | N24: 1
A25: 3 | B25: 2 | C25: 360 | D25: 4.72 | E25: 409.92 | F25: 104.15322 | G25: 0 | H25: 0 | I25: 20.7 | J25: 24.27 | K25: 77.885 | L25: 3.209 | M25: 24 | N25: 1
... A81: 3 | B81: 4 | C81: 1200 | D81: 0.1 | E81: 14.42 | F81: 261.4779 | G81: 285.99804 | H81: 104.41692 | I81: 20.7 | J81: 0.51 | K81: 2.739 | L81: 5.371 | M81: 80 | N81: 1

Sheet zpracování
A1: Step | B1: D[1/s] | C1: Tau[Pa] | D1: log (γ ) | E1: log(τ) | V1: g [s-1] | W1: η [Pa.s] naměřená | X1: η [Pa.s] spočítaná
A2: ='importovana data'!B2 -> 1 | B2: ='importovana data'!J2 -> 0.51 | C2: ='importovana data'!K2 -> 5.823 | D2: =LOG10(B2) -> -0.29242982 | E2: =LOG10(C2) -> 0.76514679 | V2: =B2 -> 0.51 | W2: ='importovana data'!L2 -> 11.418 | X2: =$L$20*ABS(V2)^($L$18-1) -> 10.483127
A3: ='importovana data'!B3 -> 1 | B3: ='importovana data'!J3 -> 0.67 | C3: ='importovana data'!K3 -> 6.451 | D3: =LOG10(B3) -> -0.1739252 | E3: =LOG10(C3) -> 0.80962704 | V3: =B3 -> 0.67 | W3: ='importovana data'!L3 -> 9.628 | X3: =$L$20*ABS(V3)^($L$18-1) -> 9.5488357
A4: ='importovana data'!B4 -> 1 | B4: ='importovana data'!J4 -> 0.82 | C4: ='importovana data'!K4 -> 7.311 | D4: =LOG10(B4) -> -0.086186148 | E4: =LOG10(C4) -> 0.86397678 | V4: =B4 -> 0.82 | W4: ='importovana data'!L4 -> 8.916 | X4: =$L$20*ABS(V4)^($L$18-1) -> 8.9111733
A5: ='importovana data'!B5 -> 1 | B5: ='importovana data'!J5 -> 1.08 | C5: ='importovana data'!K5 -> 8.387 | D5: =LOG10(B5) -> 0.033423755 | E5: =LOG10(C5) -> 0.92360664 | V5: =B5 -> 1.08 | W5: ='importovana data'!L5 -> 7.766 | X5: =$L$20*ABS(V5)^($L$18-1) -> 8.1099158
A6: ='importovana data'!B6 -> 1 | B6: ='importovana data'!J6 -> 1.34 | C6: ='importovana data'!K6 -> 9.82 | D6: =LOG10(B6) -> 0.1271048 | E6: =LOG10(C6) -> 0.99211149 | V6: =B6 -> 1.34 | W6: ='importovana data'!L6 -> 7.328 | X6: =$L$20*ABS(V6)^($L$18-1) -> 7.5330016
A7: ='importovana data'!B7 -> 1 | B7: ='importovana data'!J7 -> 1.7 | C7: ='importovana data'!K7 -> 11.568 | D7: =LOG10(B7) -> 0.23044892 | E7: =LOG10(C7) -> 1.0632583 | V7: =B7 -> 1.7 | W7: ='importovana data'!L7 -> 6.805 | X7: =$L$20*ABS(V7)^($L$18-1) -> 6.9440691
A8: ='importovana data'!B8 -> 1 | B8: ='importovana data'!J8 -> 2.16 | C8: ='importovana data'!K8 -> 13.705 | D8: =LOG10(B8) -> 0.33445375 | E8: =LOG10(C8) -> 1.136879 | V8: =B8 -> 2.16 | W8: ='importovana data'!L8 -> 6.345 | X8: =$L$20*ABS(V8)^($L$18-1) -> 6.397849
A9: ='importovana data'!B9 -> 1 | B9: ='importovana data'!J9 -> 2.78 | C9: ='importovana data'!K9 -> 16.363 | D9: =LOG10(B9) -> 0.4440448 | E9: =LOG10(C9) -> 1.2138629 | V9: =B9 -> 2.78 | W9: ='importovana data'!L9 -> 5.886 | X9: =$L$20*ABS(V9)^($L$18-1) -> 5.8687132
A10: ='importovana data'!B10 -> 1 | B10: ='importovana data'!J10 -> 3.55 | C10: ='importovana data'!K10 -> 19.335 | D10: =LOG10(B10) -> 0.55022835 | E10: =LOG10(C10) -> 1.2863442 | V10: =B10 -> 3.55 | W10: ='importovana data'!L10 -> 5.446 | X10: =$L$20*ABS(V10)^($L$18-1) -> 5.3978087
A11: ='importovana data'!B11 -> 1 | B11: ='importovana data'!J11 -> 4.47 | C11: ='importovana data'!K11 -> 22.951 | D11: =LOG10(B11) -> 0.65030752 | E11: =LOG10(C11) -> 1.3608016 | V11: =B11 -> 4.47 | W11: ='importovana data'!L11 -> 5.134 | X11: =$L$20*ABS(V11)^($L$18-1) -> 4.9886198
A12: ='importovana data'!B12 -> 1 | B12: ='importovana data'!J12 -> 5.71 | C12: ='importovana data'!K12 -> 27.334 | D12: =LOG10(B12) -> 0.75663611 | E12: =LOG10(C12) -> 1.4367032 | V12: =B12 -> 5.71 | W12: ='importovana data'!L12 -> 4.787 | X12: =$L$20*ABS(V12)^($L$18-1) -> 4.5878097
A13: ='importovana data'!B13 -> 1 | B13: ='importovana data'!J13 -> 7.25 | C13: ='importovana data'!K13 -> 32.905 | D13: =LOG10(B13) -> 0.86033801 | E13: =LOG10(C13) -> 1.5172619 | V13: =B13 -> 7.25 | W13: ='importovana data'!L13 -> 4.539 | X13: =$N$20*ABS(V13)^($N$18-1) -> 4.5028798
A14: ='importovana data'!B14 -> 1 | B14: ='importovana data'!J14 -> 9.26 | C14: ='importovana data'!K14 -> 39.847 | D14: =LOG10(B14) -> 0.96661099 | E14: =LOG10(C14) -> 1.6003956 | V14: =B14 -> 9.26 | W14: ='importovana data'!L14 -> 4.303 | X14: =$N$20*ABS(V14)^($N$18-1) -> 4.2914861
A15: ='importovana data'!B15 -> 1 | B15: ='importovana data'!J15 -> 11.78 | C15: ='importovana data'!K15 -> 48.048 | D15: =LOG10(B15) -> 1.0711453 | E15: =LOG10(C15) -> 1.6816753 | V15: =B15 -> 11.78 | W15: ='importovana data'!L15 -> 4.079 | X15: =$N$20*ABS(V15)^($N$18-1) -> 4.0932354
A16: ='importovana data'!B16 -> 1 | B16: ='importovana data'!J16 -> 14.96 | C16: ='importovana data'!K16 -> 58.493 | D16: =LOG10(B16) -> 1.1749316 | E16: =LOG10(C16) -> 1.7671039 | G16: log koeficient konzistence fiktivni | K16: logKfiktivni | L16: 0.9235 | M16: logKfiktivni | N16: 0.8243 | O16: *Odečíst z grafu - průsečík lineární regrese s osou y | V16: =B16 -> 14.96 | W16: ='importovana data'!L16 -> 3.91 | X16: =$N$20*ABS(V16)^($N$18-1) -> 3.9054647
A17: ='importovana data'!B17 -> 1 | B17: ='importovana data'!J17 -> 19.08 | C17: ='importovana data'!K17 -> 70.934 | D17: =LOG10(B17) -> 1.2805784 | E17: =LOG10(C17) -> 1.8508545 | G17: Koeficient konzistence fiktivní | K17: Kfiktivní | L17: =10^L16 -> 8.3849408 | M17: Kfiktivní | N17: =10^N16 -> 6.6726754 | O17: *Odlogaritmování | V17: =B17 -> 19.08 | W17: ='importovana data'!L17 -> 3.718 | X17: =$N$20*ABS(V17)^($N$18-1) -> 3.7231722
A18: ='importovana data'!B18 -> 1 | B18: ='importovana data'!J18 -> 24.27 | C18: ='importovana data'!K18 -> 85.806 | D18: =LOG10(B18) -> 1.3850698 | E18: =LOG10(C18) -> 1.9335177 | G18: index toku | K18: n | L18: 0.6579 | M18: n | N18: 0.8035 | O18: *Směrnice přímky | V18: =B18 -> 24.27 | W18: ='importovana data'!L18 -> 3.535 | X18: =$N$20*ABS(V18)^($N$18-1) -> 3.5512444
A19: ='importovana data'!B19 -> 1 | B19: ='importovana data'!J19 -> 30.8 | C19: ='importovana data'!K19 -> 104.659 | D19: =LOG10(B19) -> 1.4885507 | E19: =LOG10(C19) -> 2.0197766 | V19: =B19 -> 30.8 | W19: ='importovana data'!L19 -> 3.398 | X19: =$N$20*ABS(V19)^($N$18-1) -> 3.3888048
A20: ='importovana data'!B20 -> 1 | B20: ='importovana data'!J20 -> 39.28 | C20: ='importovana data'!K20 -> 127.986 | D20: =LOG10(B20) -> 1.5941715 | E20: =LOG10(C20) -> 2.1071625 | G20: Přepočítaný koeficient konzistence | K20: K | L20: =L17*((L18*(1-'importovana data'!T3^(2/zpracování!L18))/(1-'importovana data'!T3^2))^L18) -> 8.3262723 | M20: K | N20: =N17*((N18*(1-'importovana data'!T3^(2/zpracování!N18))/(1-'importovana data'!T3^2))^N18) -> 6.6457924 | V20: =B20 -> 39.28 | W20: ='importovana data'!L20 -> 3.258 | X20: =$N$20*ABS(V20)^($N$18-1) -> 3.2306661
A21: ='importovana data'!B21 -> 1 | B21: ='importovana data'!J21 -> 49.98 | C21: ='importovana data'!K21 -> 156.273 | D21: =LOG10(B21) -> 1.6987963 | E21: =LOG10(C21) -> 2.1938839 | V21: =B21 -> 49.98 | W21: ='importovana data'!L21 -> 3.127 | X21: =$N$20*ABS(V21)^($N$18-1) -> 3.0812952
A22: ='importovana data'!B22 -> 2 | B22: ='importovana data'!J22 -> 49.98 | C22: ='importovana data'!K22 -> 153.786 | D22: =LOG10(B22) -> 1.6987963 | E22: =LOG10(C22) -> 2.1869168 | V22: =B22 -> 49.98 | W22: ='importovana data'!L22 -> 3.077 | X22: =$N$40*ABS(V22)^($N$38-1) -> 3.0324119
A23: ='importovana data'!B23 -> 2 | B23: ='importovana data'!J23 -> 39.28 | C23: ='importovana data'!K23 -> 122.194 | D23: =LOG10(B23) -> 1.5941715 | E23: =LOG10(C23) -> 2.0870499 | V23: =B23 -> 39.28 | W23: ='importovana data'!L23 -> 3.111 | X23: =$N$40*ABS(V23)^($N$38-1) -> 3.0937307
A24: ='importovana data'!B24 -> 2 | B24: ='importovana data'!J24 -> 30.95 | C24: ='importovana data'!K24 -> 97.489 | D24: =LOG10(B24) -> 1.4906607 | E24: =LOG10(C24) -> 1.9889556 | V24: =B24 -> 30.95 | W24: ='importovana data'!L24 -> 3.15 | X24: =$N$40*ABS(V24)^($N$38-1) -> 3.1556168
A25: ='importovana data'!B25 -> 2 | B25: ='importovana data'!J25 -> 24.27 | C25: ='importovana data'!K25 -> 77.885 | D25: =LOG10(B25) -> 1.3850698 | E25: =LOG10(C25) -> 1.8914538 | V25: =B25 -> 24.27 | W25: ='importovana data'!L25 -> 3.209 | X25: =$N$40*ABS(V25)^($N$38-1) -> 3.2200222
A26: ='importovana data'!B26 -> 2 | B26: ='importovana data'!J26 -> 19.08 | C26: ='importovana data'!K26 -> 62.539 | D26: =LOG10(B26) -> 1.2805784 | E26: =LOG10(C26) -> 1.7961509 | V26: =B26 -> 19.08 | W26: ='importovana data'!L26 -> 3.278 | X26: =$N$40*ABS(V26)^($N$38-1) -> 3.2850509
A27: ='importovana data'!B27 -> 2 | B27: ='importovana data'!J27 -> 14.96 | C27: ='importovana data'!K27 -> 49.923 | D27: =LOG10(B27) -> 1.1749316 | E27: =LOG10(C27) -> 1.6983007 | V27: =B27 -> 14.96 | W27: ='importovana data'!L27 -> 3.337 | X27: =$N$40*ABS(V27)^($N$38-1) -> 3.3521338
A28: ='importovana data'!B28 -> 2 | B28: ='importovana data'!J28 -> 11.78 | C28: ='importovana data'!K28 -> 39.869 | D28: =LOG10(B28) -> 1.0711453 | E28: =LOG10(C28) -> 1.6006353 | V28: =B28 -> 11.78 | W28: ='importovana data'!L28 -> 3.384 | X28: =$N$40*ABS(V28)^($N$38-1) -> 3.4193691
A29: ='importovana data'!B29 -> 2 | B29: ='importovana data'!J29 -> 9.26 | C29: ='importovana data'!K29 -> 32.174 | D29: =LOG10(B29) -> 0.96661099 | E29: =LOG10(C29) -> 1.5075051 | V29: =B29 -> 9.26 | W29: ='importovana data'!L29 -> 3.475 | X29: =$N$40*ABS(V29)^($N$38-1) -> 3.4884523
A30: ='importovana data'!B30 -> 2 | B30: ='importovana data'!J30 -> 7.25 | C30: ='importovana data'!K30 -> 25.967 | D30: =LOG10(B30) -> 0.86033801 | E30: =LOG10(C30) -> 1.4144218 | V30: =B30 -> 7.25 | W30: ='importovana data'!L30 -> 3.582 | X30: =$N$40*ABS(V30)^($N$38-1) -> 3.5601154
A31: ='importovana data'!B31 -> 2 | B31: ='importovana data'!J31 -> 5.71 | C31: ='importovana data'!K31 -> 21.111 | D31: =LOG10(B31) -> 0.75663611 | E31: =LOG10(C31) -> 1.3245088 | V31: =B31 -> 5.71 | W31: ='importovana data'!L31 -> 3.697 | X31: =$L$40*ABS(V31)^($L$38-1) -> 3.586048
A32: ='importovana data'!B32 -> 2 | B32: ='importovana data'!J32 -> 4.47 | C32: ='importovana data'!K32 -> 17.184 | D32: =LOG10(B32) -> 0.65030752 | E32: =LOG10(C32) -> 1.2351243 | V32: =B32 -> 4.47 | W32: ='importovana data'!L32 -> 3.844 | X32: =$L$40*ABS(V32)^($L$38-1) -> 3.7614057
A33: ='importovana data'!B33 -> 2 | B33: ='importovana data'!J33 -> 3.55 | C33: ='importovana data'!K33 -> 13.932 | D33: =LOG10(B33) -> 0.55022835 | E33: =LOG10(C33) -> 1.1440135 | V33: =B33 -> 3.55 | W33: ='importovana data'!L33 -> 3.925 | X33: =$L$40*ABS(V33)^($L$38-1) -> 3.9342831
A34: ='importovana data'!B34 -> 2 | B34: ='importovana data'!J34 -> 2.78 | C34: ='importovana data'!K34 -> 11.329 | D34: =LOG10(B34) -> 0.4440448 | E34: =LOG10(C34) -> 1.0541916 | V34: =B34 -> 2.78 | W34: ='importovana data'!L34 -> 4.075 | X34: =$L$40*ABS(V34)^($L$38-1) -> 4.1264008
A35: ='importovana data'!B35 -> 2 | B35: ='importovana data'!J35 -> 2.16 | C35: ='importovana data'!K35 -> 9.297 | D35: =LOG10(B35) -> 0.33445375 | E35: =LOG10(C35) -> 0.96834283 | V35: =B35 -> 2.16 | W35: ='importovana data'!L35 -> 4.304 | X35: =$L$40*ABS(V35)^($L$38-1) -> 4.3345265
A36: ='importovana data'!B36 -> 2 | B36: ='importovana data'!J36 -> 1.7 | C36: ='importovana data'!K36 -> 7.662 | D36: =LOG10(B36) -> 0.23044892 | E36: =LOG10(C36) -> 0.88434215 | G36: log koeficient konzistence fiktivni | K36: logKfiktivni | L36: 0.7039 | M36: logKfiktivni | N36: 0.6237 | O36: *Odečíst z grafu - průsečík lineární regrese s osou y | V36: =B36 -> 1.7 | W36: ='importovana data'!L36 -> 4.507 | X36: =$L$40*ABS(V36)^($L$38-1) -> 4.5417435
A37: ='importovana data'!B37 -> 2 | B37: ='importovana data'!J37 -> 1.34 | C37: ='importovana data'!K37 -> 6.339 | D37: =LOG10(B37) -> 0.1271048 | E37: =LOG10(C37) -> 0.80202075 | G37: Koeficient konzistence fiktivní | K37: Kfiktivní | L37: =10^L36 -> 5.057082 | M37: Kfiktivní | N37: =10^N36 -> 4.204361 | O37: *Odlogaritmování | V37: =B37 -> 1.34 | W37: ='importovana data'!L37 -> 4.731 | X37: =$L$40*ABS(V37)^($L$38-1) -> 4.7574552
A38: ='importovana data'!B38 -> 2 | B38: ='importovana data'!J38 -> 1.08 | C38: ='importovana data'!K38 -> 5.206 | D38: =LOG10(B38) -> 0.033423755 | E38: =LOG10(C38) -> 0.71650416 | G38: index toku | K38: n | L38: 0.805 | M38: n | N38: 0.9169 | O38: *Směrnice přímky | V38: =B38 -> 1.08 | W38: ='importovana data'!L38 -> 4.82 | X38: =$L$40*ABS(V38)^($L$38-1) -> 4.9618372
A39: ='importovana data'!B39 -> 2 | B39: ='importovana data'!J39 -> 0.82 | C39: ='importovana data'!K39 -> 4.344 | D39: =LOG10(B39) -> -0.086186148 | E39: =LOG10(C39) -> 0.63788982 | V39: =B39 -> 0.82 | W39: ='importovana data'!L39 -> 5.298 | X39: =$L$40*ABS(V39)^($L$38-1) -> 5.2355998
A40: ='importovana data'!B40 -> 2 | B40: ='importovana data'!J40 -> 0.67 | C40: ='importovana data'!K40 -> 3.632 | D40: =LOG10(B40) -> -0.1739252 | E40: =LOG10(C40) -> 0.56014584 | G40: Přepočítaný koeficient konzistence | K40: K | L40: =L37*((L38*(1-'importovana data'!T3^(2/zpracování!L38))/(1-'importovana data'!T3^2))^L38) -> 5.036863 | M40: K | N40: =N37*((N38*(1-'importovana data'!T3^(2/zpracování!N38))/(1-'importovana data'!T3^2))^N38) -> 4.1971855 | V40: =B40 -> 0.67 | W40: ='importovana data'!L40 -> 5.421 | X40: =$L$40*ABS(V40)^($L$38-1) -> 5.4459739
A41: ='importovana data'!B41 -> 2 | B41: ='importovana data'!J41 -> 0.51 | C41: ='importovana data'!K41 -> 3.074 | D41: =LOG10(B41) -> -0.29242982 | E41: =LOG10(C41) -> 0.48770386 | V41: =B41 -> 0.51 | W41: ='importovana data'!L41 -> 6.027 | X41: =$L$40*ABS(V41)^($L$38-1) -> 5.743597
A42: ='importovana data'!B42 -> 3 | B42: ='importovana data'!J42 -> 0.51 | C42: ='importovana data'!K42 -> 3.18 | D42: =LOG10(B42) -> -0.29242982 | E42: =LOG10(C42) -> 0.50242712 | V42: =B42 -> 0.51 | W42: ='importovana data'!L42 -> 6.235 | X42: =$L$60*ABS(V42)^($L$58-1) -> 6.3039786
A43: ='importovana data'!B43 -> 3 | B43: ='importovana data'!J43 -> 0.67 | C43: ='importovana data'!K43 -> 3.97 | D43: =LOG10(B43) -> -0.1739252 | E43: =LOG10(C43) -> 0.59879051 | V43: =B43 -> 0.67 | W43: ='importovana data'!L43 -> 5.925 | X43: =$L$60*ABS(V43)^($L$58-1) -> 6.0001954
A44: ='importovana data'!B44 -> 3 | B44: ='importovana data'!J44 -> 0.82 | C44: ='importovana data'!K44 -> 4.893 | D44: =LOG10(B44) -> -0.086186148 | E44: =LOG10(C44) -> 0.68957522 | V44: =B44 -> 0.82 | W44: ='importovana data'!L44 -> 5.967 | X44: =$L$60*ABS(V44)^($L$58-1) -> 5.7847504
A45: ='importovana data'!B45 -> 3 | B45: ='importovana data'!J45 -> 1.08 | C45: ='importovana data'!K45 -> 5.922 | D45: =LOG10(B45) -> 0.033423755 | E45: =LOG10(C45) -> 0.7724684 | V45: =B45 -> 1.08 | W45: ='importovana data'!L45 -> 5.483 | X45: =$L$60*ABS(V45)^($L$58-1) -> 5.5034527
A46: ='importovana data'!B46 -> 3 | B46: ='importovana data'!J46 -> 1.34 | C46: ='importovana data'!K46 -> 7.225 | D46: =LOG10(B46) -> 0.1271048 | E46: =LOG10(C46) -> 0.85883785 | V46: =B46 -> 1.34 | W46: ='importovana data'!L46 -> 5.392 | X46: =$L$60*ABS(V46)^($L$58-1) -> 5.2927206
A47: ='importovana data'!B47 -> 3 | B47: ='importovana data'!J47 -> 1.7 | C47: ='importovana data'!K47 -> 8.803 | D47: =LOG10(B47) -> 0.23044892 | E47: =LOG10(C47) -> 0.9446307 | V47: =B47 -> 1.7 | W47: ='importovana data'!L47 -> 5.178 | X47: =$L$60*ABS(V47)^($L$58-1) -> 5.0695998
A48: ='importovana data'!B48 -> 3 | B48: ='importovana data'!J48 -> 2.16 | C48: ='importovana data'!K48 -> 10.573 | D48: =LOG10(B48) -> 0.33445375 | E48: =LOG10(C48) -> 1.0241982 | V48: =B48 -> 2.16 | W48: ='importovana data'!L48 -> 4.895 | X48: =$L$60*ABS(V48)^($L$58-1) -> 4.8545481
A49: ='importovana data'!B49 -> 3 | B49: ='importovana data'!J49 -> 2.78 | C49: ='importovana data'!K49 -> 12.785 | D49: =LOG10(B49) -> 0.4440448 | E49: =LOG10(C49) -> 1.1067007 | V49: =B49 -> 2.78 | W49: ='importovana data'!L49 -> 4.599 | X49: =$L$60*ABS(V49)^($L$58-1) -> 4.6378087
A50: ='importovana data'!B50 -> 3 | B50: ='importovana data'!J50 -> 3.55 | C50: ='importovana data'!K50 -> 15.563 | D50: =LOG10(B50) -> 0.55022835 | E50: =LOG10(C50) -> 1.1920933 | V50: =B50 -> 3.55 | W50: ='importovana data'!L50 -> 4.384 | X50: =$L$60*ABS(V50)^($L$58-1) -> 4.4370426
A51: ='importovana data'!B51 -> 3 | B51: ='importovana data'!J51 -> 4.47 | C51: ='importovana data'!K51 -> 19.109 | D51: =LOG10(B51) -> 0.65030752 | E51: =LOG10(C51) -> 1.281238 | V51: =B51 -> 4.47 | W51: ='importovana data'!L51 -> 4.275 | X51: =$L$60*ABS(V51)^($L$58-1) -> 4.255781
A52: ='importovana data'!B52 -> 3 | B52: ='importovana data'!J52 -> 5.71 | C52: ='importovana data'!K52 -> 23.397 | D52: =LOG10(B52) -> 0.75663611 | E52: =LOG10(C52) -> 1.3691602 | V52: =B52 -> 5.71 | W52: ='importovana data'!L52 -> 4.098 | X52: =$L$60*ABS(V52)^($L$58-1) -> 4.0713065
A53: ='importovana data'!B53 -> 3 | B53: ='importovana data'!J53 -> 7.25 | C53: ='importovana data'!K53 -> 28.621 | D53: =LOG10(B53) -> 0.86033801 | E53: =LOG10(C53) -> 1.4566848 | V53: =B53 -> 7.25 | W53: ='importovana data'!L53 -> 3.948 | X53: =$N$60*ABS(V53)^($N$58-1) -> 3.9218838
A54: ='importovana data'!B54 -> 3 | B54: ='importovana data'!J54 -> 9.26 | C54: ='importovana data'!K54 -> 35.291 | D54: =LOG10(B54) -> 0.96661099 | E54: =LOG10(C54) -> 1.547664 | V54: =B54 -> 9.26 | W54: ='importovana data'!L54 -> 3.811 | X54: =$N$60*ABS(V54)^($N$58-1) -> 3.7891528
A55: ='importovana data'!B55 -> 3 | B55: ='importovana data'!J55 -> 11.78 | C55: ='importovana data'!K55 -> 43.216 | D55: =LOG10(B55) -> 1.0711453 | E55: =LOG10(C55) -> 1.6356446 | V55: =B55 -> 11.78 | W55: ='importovana data'!L55 -> 3.669 | X55: =$N$60*ABS(V55)^($N$58-1) -> 3.6629766
A56: ='importovana data'!B56 -> 3 | B56: ='importovana data'!J56 -> 14.96 | C56: ='importovana data'!K56 -> 52.519 | D56: =LOG10(B56) -> 1.1749316 | E56: =LOG10(C56) -> 1.7203164 | G56: log koeficient konzistence fiktivni | K56: logKfiktivni | L56: 0.7483 | M56: logKfiktivni | N56: 0.7158 | O56: *Odečíst z grafu - průsečík lineární regrese s osou y | V56: =B56 -> 14.96 | W56: ='importovana data'!L56 -> 3.511 | X56: =$N$60*ABS(V56)^($N$58-1) -> 3.5418601
A57: ='importovana data'!B57 -> 3 | B57: ='importovana data'!J57 -> 19.08 | C57: ='importovana data'!K57 -> 65.273 | D57: =LOG10(B57) -> 1.2805784 | E57: =LOG10(C57) -> 1.8147336 | G57: Koeficient konzistence fiktivní | K57: Kfiktivní | L57: =10^L56 -> 5.601444 | M57: Kfiktivní | N57: =10^N56 -> 5.1975658 | O57: *Odlogaritmování | V57: =B57 -> 19.08 | W57: ='importovana data'!L57 -> 3.421 | X57: =$N$60*ABS(V57)^($N$58-1) -> 3.4226848
A58: ='importovana data'!B58 -> 3 | B58: ='importovana data'!J58 -> 24.27 | C58: ='importovana data'!K58 -> 79.675 | D58: =LOG10(B58) -> 1.3850698 | E58: =LOG10(C58) -> 1.9013221 | G58: index toku | K58: n | L58: 0.819 | M58: n | N58: 0.8593 | O58: *Směrnice přímky | V58: =B58 -> 24.27 | W58: ='importovana data'!L58 -> 3.283 | X58: =$N$60*ABS(V58)^($N$58-1) -> 3.3087577
A59: ='importovana data'!B59 -> 3 | B59: ='importovana data'!J59 -> 30.8 | C59: ='importovana data'!K59 -> 98.539 | D59: =LOG10(B59) -> 1.4885507 | E59: =LOG10(C59) -> 1.9936082 | V59: =B59 -> 30.8 | W59: ='importovana data'!L59 -> 3.199 | X59: =$N$60*ABS(V59)^($N$58-1) -> 3.1996701
A60: ='importovana data'!B60 -> 3 | B60: ='importovana data'!J60 -> 39.28 | C60: ='importovana data'!K60 -> 122.161 | D60: =LOG10(B60) -> 1.5941715 | E60: =LOG10(C60) -> 2.0869326 | G60: Přepočítaný koeficient konzistence | K60: K | L60: =L57*((L58*(1-'importovana data'!T3^(2/zpracování!L58))/(1-'importovana data'!T3^2))^L58) -> 5.5806519 | M60: K | N60: =N57*((N58*(1-'importovana data'!T3^(2/zpracování!N58))/(1-'importovana data'!T3^2))^N58) -> 5.1825593 | V60: =B60 -> 39.28 | W60: ='importovana data'!L60 -> 3.11 | X60: =$N$60*ABS(V60)^($N$58-1) -> 3.0920347
A61: ='importovana data'!B61 -> 3 | B61: ='importovana data'!J61 -> 49.98 | C61: ='importovana data'!K61 -> 151.845 | D61: =LOG10(B61) -> 1.6987963 | E61: =LOG10(C61) -> 2.1814005 | V61: =B61 -> 49.98 | W61: ='importovana data'!L61 -> 3.038 | X61: =$N$60*ABS(V61)^($N$58-1) -> 2.9889844
A62: ='importovana data'!B62 -> 4 | B62: ='importovana data'!J62 -> 49.98 | C62: ='importovana data'!K62 -> 151.931 | D62: =LOG10(B62) -> 1.6987963 | E62: =LOG10(C62) -> 2.1816464 | V62: =B62 -> 49.98 | W62: ='importovana data'!L62 -> 3.04 | X62: =$N$80*ABS(V62)^($N$78-1) -> 3.0119002
A63: ='importovana data'!B63 -> 4 | B63: ='importovana data'!J63 -> 39.28 | C63: ='importovana data'!K63 -> 121.263 | D63: =LOG10(B63) -> 1.5941715 | E63: =LOG10(C63) -> 2.0837283 | V63: =B63 -> 39.28 | W63: ='importovana data'!L63 -> 3.087 | X63: =$N$80*ABS(V63)^($N$78-1) -> 3.0706583
A64: ='importovana data'!B64 -> 4 | B64: ='importovana data'!J64 -> 30.95 | C64: ='importovana data'!K64 -> 96.911 | D64: =LOG10(B64) -> 1.4906607 | E64: =LOG10(C64) -> 1.9863731 | V64: =B64 -> 30.95 | W64: ='importovana data'!L64 -> 3.131 | X64: =$N$80*ABS(V64)^($N$78-1) -> 3.1299187
A65: ='importovana data'!B65 -> 4 | B65: ='importovana data'!J65 -> 24.27 | C65: ='importovana data'!K65 -> 77.32 | D65: =LOG10(B65) -> 1.3850698 | E65: =LOG10(C65) -> 1.8882918 | V65: =B65 -> 24.27 | W65: ='importovana data'!L65 -> 3.186 | X65: =$N$80*ABS(V65)^($N$78-1) -> 3.1915485
A66: ='importovana data'!B66 -> 4 | B66: ='importovana data'!J66 -> 19.08 | C66: ='importovana data'!K66 -> 61.822 | D66: =LOG10(B66) -> 1.2805784 | E66: =LOG10(C66) -> 1.7911431 | V66: =B66 -> 19.08 | W66: ='importovana data'!L66 -> 3.24 | X66: =$N$80*ABS(V66)^($N$78-1) -> 3.2537311
A67: ='importovana data'!B67 -> 4 | B67: ='importovana data'!J67 -> 14.96 | C67: ='importovana data'!K67 -> 49.556 | D67: =LOG10(B67) -> 1.1749316 | E67: =LOG10(C67) -> 1.6950962 | V67: =B67 -> 14.96 | W67: ='importovana data'!L67 -> 3.313 | X67: =$N$80*ABS(V67)^($N$78-1) -> 3.317833
A68: ='importovana data'!B68 -> 4 | B68: ='importovana data'!J68 -> 11.78 | C68: ='importovana data'!K68 -> 39.725 | D68: =LOG10(B68) -> 1.0711453 | E68: =LOG10(C68) -> 1.5990639 | V68: =B68 -> 11.78 | W68: ='importovana data'!L68 -> 3.372 | X68: =$N$80*ABS(V68)^($N$78-1) -> 3.3820357
A69: ='importovana data'!B69 -> 4 | B69: ='importovana data'!J69 -> 9.26 | C69: ='importovana data'!K69 -> 31.711 | D69: =LOG10(B69) -> 0.96661099 | E69: =LOG10(C69) -> 1.5012099 | V69: =B69 -> 9.26 | W69: ='importovana data'!L69 -> 3.425 | X69: =$N$80*ABS(V69)^($N$78-1) -> 3.447957
A70: ='importovana data'!B70 -> 4 | B70: ='importovana data'!J70 -> 7.25 | C70: ='importovana data'!K70 -> 25.674 | D70: =LOG10(B70) -> 0.86033801 | E70: =LOG10(C70) -> 1.4094935 | V70: =B70 -> 7.25 | W70: ='importovana data'!L70 -> 3.541 | X70: =$N$80*ABS(V70)^($N$78-1) -> 3.516292
A71: ='importovana data'!B71 -> 4 | B71: ='importovana data'!J71 -> 5.71 | C71: ='importovana data'!K71 -> 20.711 | D71: =LOG10(B71) -> 0.75663611 | E71: =LOG10(C71) -> 1.3162011 | V71: =B71 -> 5.71 | W71: ='importovana data'!L71 -> 3.627 | X71: =$L$80*ABS(V71)^($L$78-1) -> 3.5854558
A72: ='importovana data'!B72 -> 4 | B72: ='importovana data'!J72 -> 4.47 | C72: ='importovana data'!K72 -> 16.804 | D72: =LOG10(B72) -> 0.65030752 | E72: =LOG10(C72) -> 1.2254127 | V72: =B72 -> 4.47 | W72: ='importovana data'!L72 -> 3.759 | X72: =$L$80*ABS(V72)^($L$78-1) -> 3.7237694
A73: ='importovana data'!B73 -> 4 | B73: ='importovana data'!J73 -> 3.55 | C73: ='importovana data'!K73 -> 13.664 | D73: =LOG10(B73) -> 0.55022835 | E73: =LOG10(C73) -> 1.1355779 | V73: =B73 -> 3.55 | W73: ='importovana data'!L73 -> 3.849 | X73: =$L$80*ABS(V73)^($L$78-1) -> 3.8588244
A74: ='importovana data'!B74 -> 4 | B74: ='importovana data'!J74 -> 2.78 | C74: ='importovana data'!K74 -> 11.109 | D74: =LOG10(B74) -> 0.4440448 | E74: =LOG10(C74) -> 1.045675 | V74: =B74 -> 2.78 | W74: ='importovana data'!L74 -> 3.996 | X74: =$L$80*ABS(V74)^($L$78-1) -> 4.0074766
A75: ='importovana data'!B75 -> 4 | B75: ='importovana data'!J75 -> 2.16 | C75: ='importovana data'!K75 -> 9.057 | D75: =LOG10(B75) -> 0.33445375 | E75: =LOG10(C75) -> 0.95698437 | V75: =B75 -> 2.16 | W75: ='importovana data'!L75 -> 4.193 | X75: =$L$80*ABS(V75)^($L$78-1) -> 4.1669066
A76: ='importovana data'!B76 -> 4 | B76: ='importovana data'!J76 -> 1.7 | C76: ='importovana data'!K76 -> 7.405 | D76: =LOG10(B76) -> 0.23044892 | E76: =LOG10(C76) -> 0.86952506 | G76: log koeficient konzistence fiktivni | K76: logKfiktivni | L76: 0.6729 | M76: logKfiktivni | N76: 0.6158 | O76: *Odečíst z grafu - průsečík lineární regrese s osou y | V76: =B76 -> 1.7 | W76: ='importovana data'!L76 -> 4.356 | X76: =$L$80*ABS(V76)^($L$78-1) -> 4.324072
A77: ='importovana data'!B77 -> 4 | B77: ='importovana data'!J77 -> 1.34 | C77: ='importovana data'!K77 -> 6.024 | D77: =LOG10(B77) -> 0.1271048 | E77: =LOG10(C77) -> 0.77988496 | G77: Koeficient konzistence fiktivní | K77: Kfiktivní | L77: =10^L76 -> 4.7086889 | M77: Kfiktivní | N77: =10^N76 -> 4.1285733 | O77: *Odlogaritmování | V77: =B77 -> 1.34 | W77: ='importovana data'!L77 -> 4.496 | X77: =$L$80*ABS(V77)^($L$78-1) -> 4.48611
A78: ='importovana data'!B78 -> 4 | B78: ='importovana data'!J78 -> 1.08 | C78: ='importovana data'!K78 -> 4.907 | D78: =LOG10(B78) -> 0.033423755 | E78: =LOG10(C78) -> 0.69081606 | G78: index toku | K78: n | L78: 0.8454 | M78: n | N78: 0.9198 | O78: *Směrnice přímky | V78: =B78 -> 1.08 | W78: ='importovana data'!L78 -> 4.544 | X78: =$L$80*ABS(V78)^($L$78-1) -> 4.6382378
A79: ='importovana data'!B79 -> 4 | B79: ='importovana data'!J79 -> 0.82 | C79: ='importovana data'!K79 -> 3.992 | D79: =LOG10(B79) -> -0.086186148 | E79: =LOG10(C79) -> 0.60119053 | V79: =B79 -> 0.82 | W79: ='importovana data'!L79 -> 4.868 | X79: =$L$80*ABS(V79)^($L$78-1) -> 4.8399926
A80: ='importovana data'!B80 -> 4 | B80: ='importovana data'!J80 -> 0.67 | C80: ='importovana data'!K80 -> 3.305 | D80: =LOG10(B80) -> -0.1739252 | E80: =LOG10(C80) -> 0.51917146 | G80: Přepočítaný koeficient konzistence | K80: K | L80: =L77*((L78*(1-'importovana data'!T3^(2/zpracování!L78))/(1-'importovana data'!T3^2))^L78) -> 4.6937539 | M80: K | N80: =N77*((N78*(1-'importovana data'!T3^(2/zpracování!N78))/(1-'importovana data'!T3^2))^N78) -> 4.1217727 | V80: =B80 -> 0.67 | W80: ='importovana data'!L80 -> 4.933 | X80: =$L$80*ABS(V80)^($L$78-1) -> 4.9935472
A81: ='importovana data'!B81 -> 4 | B81: ='importovana data'!J81 -> 0.51 | C81: ='importovana data'!K81 -> 2.739 | D81: =LOG10(B81) -> -0.29242982 | E81: =LOG10(C81) -> 0.43759203 | V81: =B81 -> 0.51 | W81: ='importovana data'!L81 -> 5.371 | X81: =$L$80*ABS(V81)^($L$78-1) -> 5.2087075

Sheet vyhodnocení
C2: VÝSLEDKY:
C4: Teplota | G4: T [°C] | H4: ='importovana data'!I2 -> 20.7
C5: Metoda dispergace | G5: -
C6: Doba dispergace | G6: t [s]
C7: Hmotnost dispergovaného vzorku | G7: m [g]
C8: Koncentrace dispergovaného vzorku | G8: cm [%]
C10: step | D10: K1 | E10: K2 | F10: m1 | G10: m2
C11: 1 | D11: =zpracování!L20 -> 8.3262723 | E11: =zpracování!N20 -> 6.6457924 | F11: =zpracování!L18 -> 0.6579 | G11: =zpracování!N18 -> 0.8035
C12: 2 | D12: =zpracování!L40 -> 5.036863 | E12: =zpracování!N40 -> 4.1971855 | F12: =zpracování!L38 -> 0.805 | G12: =zpracování!N38 -> 0.9169
C13: 3 | D13: =zpracování!L60 -> 5.5806519 | E13: =zpracování!N60 -> 5.1825593 | F13: =zpracování!L58 -> 0.819 | G13: =zpracování!N58 -> 0.8593
C14: 4 | D14: =zpracování!L80 -> 4.6937539 | E14: =zpracování!N80 -> 4.1217727 | F14: =zpracování!L78 -> 0.8454 | G14: =zpracování!N78 -> 0.9198
C15: 5 | D15: =zpracování!L100 -> 0 | E15: =zpracování!N100 -> 0 | F15: =zpracování!L98 -> 0 | G15: =zpracování!N98 -> 0
C16: 6 | D16: =zpracování!L120 -> 0 | E16: =zpracování!N120 -> 0 | F16: =zpracování!L118 -> 0 | G16: =zpracování!N118 -> 0
A19: POZNÁMKY:

Sheet thixotropy
