Workbook

Sheet Uponor
A32: UPONOR PLASTER | C32: 100 | D32: 69.793 | T32: Uponor Renovis | V32: 100 | W32: 68.878
D33: =C32/D32 -> 1.4328084
C34: =C32/D34 -> 1.4329727 | D34: 69.785 | W34: =100/68.878 -> 1.4518424
A35: roztec | B35: střed | C35: měřeno | D35: výkon | V35: měřeno
A36: 8 | B36: 4 | C36: 16.275 | D36: =C36*$C$34 -> 23.321631 | U36: 15 | V36: 42.949 | W36: =V36*$W$34 -> 62.355179
A37: 8 | B37: 6 | C37: 24.816 | D37: =C37*$C$34 -> 35.560651 | U37: 20 | V37: 57.446 | W37: =V37*$W$34 -> 83.402538
A38: 8 | B38: 8 | C38: 32.824 | D38: =C38*$C$34 -> 47.035896 | U38: 25 | V38: 71.941 | W38: =V38*$W$34 -> 104.44699
A39: 8 | B39: 10 | C39: 41.39 | D39: =C39*$C$34 -> 59.31074 | U39: 30 | V39: 86.199 | W39: =V39*$W$34 -> 125.14736
A40: 8 | B40: 15 | C40: 61.62 | D40: =C40*$C$34 -> 88.299778
A41: 8 | B41: 20 | C41: 82.502 | D41: =C41*$C$34 -> 118.22311
A42: 8 | B42: 25 | C42: 102.931 | D42: =C42*$C$34 -> 147.49731
A43: 8 | B43: 30 | C43: 123.064 | D43: =C43*$C$34 -> 176.34735
A46: 10 | B46: 4 | C46: 15.088 | D46: =C46*$C$34 -> 21.620692
A47: 10 | B47: 6 | C47: 23.047 | D47: =C47*$C$34 -> 33.025722
A48: 10 | B48: 8 | C48: 30.457 | D48: =C48*$C$34 -> 43.64405
A49: 10 | B49: 10 | C49: 38.524 | D49: =C49*$C$34 -> 55.20384
A50: 10 | B50: 15 | C50: 57.489 | D50: =C50*$C$34 -> 82.380168
A51: 10 | B51: 20 | C51: 76.858 | D51: =C51*$C$34 -> 110.13542
A52: 10 | B52: 25 | C52: 95.81 | D52: =C52*$C$34 -> 137.29311
A53: 10 | B53: 30 | C53: 114.723 | D53: =C53*$C$34 -> 164.39493
... A63: 14 | B63: 30 | C63: 103.932 | D63: =C63*$C$34 -> 148.93172

Sheet Rossato
E1: 100 | F1: 88.311 | G1: =E1/F1 -> 1.1323618
A2: Rossato | C2: https://en.rossatogroup.com/products/radiant-panels/Heating-to-ceiling/under-plaster-wall-ceiling-system.html#documenti | D2: .
C6: rozteč | D6: střední tepl | E6: měřeno | F6: výkon
C7: 7.5 | D7: 5 | F7: =6.3351*D7 -> 31.6755
C8: 7.5 | D8: 10 | F8: =6.3351*D8 -> 63.351 | H8: 0 | I8: 0
C9: 7.5 | D9: 15 | F9: =6.3351*D9 -> 95.0265 | H9: 10 | I9: 63.351
C10: 7.5 | D10: 20 | F10: =6.3351*D10 -> 126.702
C11: 7.5 | D11: 25 | F11: =6.3351*D11 -> 158.3775
C12: 7.5 | D12: 30 | F12: =6.3351*D12 -> 190.053
C13: 7.5 | D13: 35 | F13: =6.3351*D13 -> 221.7285
C14: 7.5 | D14: 40 | F14: =6.3351*D14 -> 253.404
C15: 7.5 | D15: 45 | F15: =6.3351*D15 -> 285.0795
C16: 7.5 | D16: 50 | F16: =6.3351*D16 -> 316.755
C17: 7.5 | D17: 55 | F17: =6.3351*D17 -> 348.4305
C18: 7.5 | D18: 60 | F18: =6.3351*D18 -> 380.106
C19: 7.5 | D19: 65 | F19: =6.3351*D19 -> 411.7815 | H19: 0 | I19: 0
C20: 10 | D20: 5 | F20: =5.5356*D7 -> 27.678 | H20: 10 | I20: 55.356
C21: 10 | D21: 10 | F21: =5.5356*D8 -> 55.356
C22: 10 | D22: 15 | F22: =5.5356*D9 -> 83.034
C23: 10 | D23: 20 | F23: =5.5356*D10 -> 110.712
C24: 10 | D24: 25 | F24: =5.5356*D11 -> 138.39
C25: 10 | D25: 30 | F25: =5.5356*D12 -> 166.068
C26: 10 | D26: 35 | F26: =5.5356*D13 -> 193.746
C27: 10 | D27: 40 | F27: =5.5356*D14 -> 221.424
C28: 10 | D28: 45 | F28: =5.5356*D15 -> 249.102
C29: 10 | D29: 50 | F29: =5.5356*D16 -> 276.78
C30: 10 | D30: 55 | F30: =5.5356*D17 -> 304.458
C31: 10 | D31: 60 | F31: =5.5356*D18 -> 332.136
C32: 10 | D32: 65 | F32: =5.5356*D19 -> 359.814

Sheet QuickTherm
A2: QuickTherm
O5: Quicktherm
A6: https://quicktherm.de/wandhz.htm | B6: rozetc | C6: střed | D6: výkon
A7: quicktherm | B7: 12.5 | C7: 10 | D7: 45.6 | O7: rozteč | P7: střední tepl | Q7: výkon
B8: 12.5 | C8: 15 | D8: 69.2 | L8: suhcý !!!! | O8: 12.5 | P8: 10 | Q8: 45.6
B9: 12.5 | C9: 20 | D9: 92.7 | O9: 12.5 | P9: 15 | Q9: 69.2
A10: lambda=0,31, s 12,5 | B10: 12.5 | C10: 25 | D10: 116.1 | O10: 12.5 | P10: 20 | Q10: 92.7
B11: 12.5 | C11: 30 | D11: 139.5 | O11: 12.5 | P11: 25 | Q11: 116.1
B12: 12.5 | C12: 35 | D12: 162.8 | O12: 12.5 | P12: 30 | Q12: 139.5
B13: 12.5 | C13: 40 | D13: 186.2 | O13: 12.5 | P13: 35 | Q13: 162.8
B14: 25 | C14: 10 | D14: 34.7 | O14: 12.5 | P14: 40 | Q14: 186.2
B15: 25 | C15: 15 | D15: 52.8 | O15: 25 | P15: 10 | Q15: 34.7
B16: 25 | C16: 20 | D16: 70.6 | O16: 25 | P16: 15 | Q16: 52.8
B17: 25 | C17: 25 | D17: 88.5 | O17: 25 | P17: 20 | Q17: 70.6
B18: 25 | C18: 30 | D18: 106.3 | O18: 25 | P18: 25 | Q18: 88.5
B19: 25 | C19: 35 | D19: 124 | O19: 25 | P19: 30 | Q19: 106.3
B20: 25 | C20: 40 | D20: 141.8 | O20: 25 | P20: 35 | Q20: 124
O21: 25 | P21: 40 | Q21: 141.8
B23: 12.5 | C23: 10 | D23: 49.1
B24: 12.5 | C24: 15 | D24: 74.6
B25: 12.5 | C25: 20 | D25: 99.9
A26: lambda=0,58, s=15mm | B26: 12.5 | C26: 25 | D26: 125.1
B27: 12.5 | C27: 30 | D27: 150.3
B28: 12.5 | C28: 35 | D28: 175.4
B29: 12.5 | C29: 40 | D29: 200.5
B30: 25 | C30: 10 | D30: 37.2
B31: 25 | C31: 15 | D31: 56.5
B32: 25 | C32: 20 | D32: 75.6
B33: 25 | C33: 25 | D33: 94.7
B34: 25 | C34: 30 | D34: 113.7
B35: 25 | C35: 35 | D35: 132.8
B36: 25 | C36: 40 | D36: 151.8
B39: 12.5 | C39: 10 | D39: 51.9
B40: 12.5 | C40: 15 | D40: 78.8
B41: 12.5 | C41: 20 | D41: 105.4
A42: lambda=0,75, | B42: 12.5 | C42: 25 | D42: 131.1
B43: 12.5 | C43: 30 | D43: 158.6
B44: 12.5 | C44: 35 | D44: 185.2
B45: 12.5 | C45: 40 | D45: 211.7
B46: 25 | C46: 10 | D46: 39.2
...

Sheet Baudochselbst
B2: https://www.baudochselbst.de/fussbodenheizung/fussbodenheizung-planung/planung-wandheizung/ | C2: rozteč | D2: střtední tepl | E2: výkon
C3: 10 | D3: 10 | E3: 55
B4: lambda 0,7, s=15mm | C4: 10 | D4: 15 | E4: 83
C5: 10 | D5: 20 | E5: 110
C6: 10 | D6: 25 | E6: 138
C7: 10 | D7: 30 | E7: 165
C8: 15 | D8: 10 | E8: 48
C9: 15 | D9: 15 | E9: 73
C10: 15 | D10: 20 | E10: 97
C11: 15 | D11: 25 | E11: 121
C12: 15 | D12: 30 | E12: 145
C13: 20 | D13: 10 | E13: 42
C14: 20 | D14: 15 | E14: 64
C15: 20 | D15: 20 | E15: 85
C16: 20 | D16: 25 | E16: 106
... C22: 25 | D22: 30 | E22: 112
B30: baudochselbst

Sheet Roth Werke
B2: Roth Werke
P6: Roth Werke
B8: ROTH-WERKE MOKRÝ | C8: rozteč | D8: střední tepl | E8: výkon | P8: systém | Q8: roztec | R8: střední tepl. | S8: výkon
B9: trubka 11 | C9: 7.5 | D9: 15 | E9: 85 | P9: Rigips Climafit 10 mm | Q9: 10 | R9: 15 | S9: 88
B10: omítka 15mm | C10: 7.5 | D10: 20 | E10: 113 | Q10: 10 | R10: 20 | S10: 117
C11: 7.5 | D11: 25 | E11: 142 | Q11: 10 | R11: 25 | S11: 147
C12: 7.5 | D12: 30 | E12: 170 | Q12: 10 | R12: 30 | S12: 176
C13: 7.5 | D13: 35 | Q13: 20 | R13: 15 | S13: 73
C14: 15 | D14: 15 | E14: 68 | Q14: 20 | R14: 20 | S14: 97
C15: 15 | D15: 20 | E15: 91 | Q15: 20 | R15: 25 | S15: 121
C16: 15 | D16: 25 | E16: 114 | Q16: 20 | R16: 30 | S16: 145
C17: 15 | D17: 30 | E17: 137
C18: 15 | D18: 35 | E18: 159 | P18: systém | Q18: roztec | R18: střední tepl. | S18: výkon
C19: 22.5 | D19: 15 | E19: 55 | P19: Rigips Bauplatte RB 12,5 mm | Q19: 10 | R19: 15 | S19: 72
C20: 22.5 | D20: 20 | E20: 73 | Q20: 10 | R20: 20 | S20: 96
C21: 22.5 | D21: 25 | E21: 92 | Q21: 10 | R21: 25 | S21: 121
C22: 22.5 | D22: 30 | E22: 110 | Q22: 10 | R22: 30 | S22: 145
C23: 22.5 | D23: 35 | E23: 128 | Q23: 20 | R23: 15 | S23: 60
Q24: 20 | R24: 20 | S24: 80
Q25: 20 | R25: 25 | S25: 100
B26: trubka 15 | C26: rozteč | D26: střední tepl | E26: výkon | Q26: 20 | R26: 30 | S26: 120
B27: omítka 15mm | C27: 10 | D27: 15 | E27: 90.25
C28: 10 | D28: 20 | E28: 120.33 | P28: systém | Q28: roztec | R28: střední tepl. | S28: výkon
C29: 10 | D29: 25 | E29: 150.42 | P29: Fermacell powerpanel H2O | Q29: 10 | R29: 15 | S29: 64
C30: 10 | D30: 30 | E30: 180.5 | Q30: 10 | R30: 20 | S30: 86
C31: 10 | D31: 35 | E31: 210.58 | Q31: 10 | R31: 25 | S31: 107
C32: 15 | D32: 15 | E32: 78.72 | Q32: 10 | R32: 30 | S32: 128
C33: 15 | D33: 20 | E33: 104.96 | Q33: 20 | R33: 15 | S33: 53
C34: 15 | D34: 25 | E34: 131.19 | Q34: 20 | R34: 20 | S34: 71
C35: 15 | D35: 30 | E35: 157.43 | Q35: 20 | R35: 25 | S35: 89
C36: 15 | D36: 35 | E36: 183.67 | Q36: 20 | R36: 30 | S36: 106
C37: 20 | D37: 15 | E37: 65.97
C38: 20 | D38: 20 | E38: 87.96 | P38: systém | Q38: roztec | R38: střední tepl. | S38: výkon
C39: 20 | D39: 25 | E39: 109.94 | P39: Eternit dry construction Hydropanel | Q39: 10 | R39: 15 | S39: 77
C40: 20 | D40: 30 | E40: 131.93 | Q40: 10 | R40: 20 | S40: 102
C41: 20 | D41: 35 | E41: 153.92 | Q41: 10 | R41: 25 | S41: 128
C42: 25 | D42: 15 | E42: 53.22 | Q42: 10 | R42: 30 | S42: 153
C43: 25 | D43: 20 | E43: 70.96 | Q43: 20 | R43: 15 | S43: 63
C44: 25 | D44: 25 | E44: 88.69 | Q44: 20 | R44: 20 | S44: 84
C45: 25 | D45: 30 | E45: 106.43 | Q45: 20 | R45: 25 | S45: 105
...

Sheet Univenta
A1: UNIVENTA
E5: =120/45.625 -> 2.630137
E6: =100/44.874 -> 2.2284619
E7: =100/46.956 -> 2.1296533
A8: Univenta delgado 0,4 | B8: rozteč | C8: střední teplota | D8: měřeno | E8: výkon
B9: 50 | C9: 2 | D9: 3.277 | E9: =D9*$E$5 -> 8.6189589
B10: 50 | C10: 4 | D10: 6.905 | E10: =D10*$E$5 -> 18.161096
B11: 50 | C11: 6 | D11: 10.392 | E11: =D11*$E$5 -> 27.332384
B12: 50 | C12: 8 | D12: 14 | E12: =D12*$E$5 -> 36.821918
B13: 50 | C13: 10 | D13: 17.727 | E13: =D13*$E$5 -> 46.624438
B14: 50 | C14: 12 | D14: 21.443 | E14: =D14*$E$5 -> 56.398027
B15: 50 | C15: 14 | D15: 25.206 | E15: =D15*$E$5 -> 66.295233
B16: 50 | C16: 16 | D16: 29.071 | E16: =D16*$E$5 -> 76.460712
B17: 50 | C17: 18 | D17: 32.814 | E17: =D17*$E$5 -> 86.305315
B18: 40 | C18: 2 | D18: 4.152 | E18: =D18*$E$7 -> 8.8423205
B19: 40 | C19: 4 | D19: 8.394 | E19: =D19*$E$7 -> 17.87631
B20: 40 | C20: 6 | D20: 13.04 | E20: =D20*$E$7 -> 27.770679
B21: 40 | C21: 8 | D21: 17.436 | E21: =D21*$E$7 -> 37.132635
B22: 40 | C22: 10 | D22: 22.051 | E22: =D22*$E$7 -> 46.960985
B23: 40 | C23: 12 | D23: 26.953 | E23: =D23*$E$7 -> 57.400545
B24: 40 | C24: 14 | D24: 31.315 | E24: =D24*$E$7 -> 66.690093
B25: 40 | C25: 16 | D25: 36.097 | E25: =D25*$E$7 -> 76.874095
B26: 40 | C26: 18 | D26: 40.985 | E26: =D26*$E$7 -> 87.28384
B27: 29 | C27: 2 | D27: 3.878 | E27: =D27*$E$6 -> 8.6419753
B28: 29 | C28: 4 | D28: 8.195 | E28: =D28*$E$6 -> 18.262245
B29: 29 | C29: 6 | D29: 12.625 | E29: =D29*$E$6 -> 28.134332
B30: 29 | C30: 8 | D30: 17.106 | E30: =D30*$E$6 -> 38.12007
B31: 29 | C31: 10 | D31: 21.915 | E31: =D31*$E$6 -> 48.836743
B32: 29 | C32: 12 | D32: 26.481 | E32: =D32*$E$6 -> 59.0119
B33: 29 | C33: 14 | D33: 31.312 | E33: =D33*$E$6 -> 69.7776
B34: 29 | C34: 16 | D34: 35.867 | E34: =D34*$E$6 -> 79.928244
B35: 29 | C35: 18 | D35: 40.64 | E35: =D35*$E$6 -> 90.564692
A38: 0.6 | B38: rozteč | C38: střední teplota | D38: měřeno
B39: 50 | C39: 2 | D39: 3.995 | E39: =D39*$E$5 -> 10.507397
B40: 50 | C40: 4 | D40: 8.291 | E40: =D40*$E$5 -> 21.806466
B41: 50 | C41: 6 | D41: 12.696 | E41: =D41*$E$5 -> 33.392219
B42: 50 | C42: 8 | D42: 17.126 | E42: =D42*$E$5 -> 45.043726
B43: 50 | C43: 10 | D43: 21.782 | E43: =D43*$E$5 -> 57.289644
B44: 50 | C44: 12 | D44: 26.357 | E44: =D44*$E$5 -> 69.322521
B45: 50 | C45: 14 | D45: 30.981 | E45: =D45*$E$5 -> 81.484274
...

Sheet Ivartrio
A1: IVARTIO MOKRÝ pro lambd=0,99
A4: ivartio | B4: rozteč | C4: střední tepl | D4: výkon
B5: 6 | C5: 10 | D5: 58
B6: 6 | C6: 15 | D6: 92
B7: 6 | C7: 20 | D7: 125
B8: 6 | C8: 25 | D8: 158
B9: 6 | C9: 30 | D9: 190
B10: 6 | C10: 35 | D10: 223
B11: 12 | C11: 10 | D11: 48
B12: 12 | C12: 15 | D12: 77
B13: 12 | C13: 20 | D13: 104
B14: 12 | C14: 25 | D14: 131
B15: 12 | C15: 30 | D15: 158
B16: 12 | C16: 35 | D16: 185
... B28: 24 | C28: 35 | D28: 130
A32: ivartio | B32: rozteč | C32: střední tepl | D32: výkon
B33: 6 | C33: 10 | D33: 40
B34: 6 | C34: 15 | D34: 64
B35: 6 | C35: 20 | D35: 87
B36: 6 | C36: 25 | D36: 110
B37: 12 | C37: 10 | D37: 34
B38: 12 | C38: 15 | D38: 53
B39: 12 | C39: 20 | D39: 72
B40: 12 | C40: 25 | D40: 91
B41: 18 | C41: 10 | D41: 31
B42: 18 | C42: 15 | D42: 49
B43: 18 | C43: 20 | D43: 66
B44: 18 | C44: 25 | D44: 84
... B48: 24 | C48: 25 | D48: 64

Sheet Kermi
B1: Kermi
P5: Kermi Suchý
B7: KERMI MOKRÝ PRO lambda = 0,7 W/Mk | P7: max topná plcha 6,2m2
P8: 14 | Q8: 20 | R8: 60
P9: 14 | Q9: 25 | R9: 75
P10: 14 | Q10: 30 | R10: 90
B11: kermi, mokrý, omítka 15mm | C11: rozteč | D11: střední teplota vody | E11: výkon | P11: 14 | Q11: 35 | R11: 105
C12: 15 | D12: 15 | E12: 50 | P12: 14 | Q12: 40 | R12: 120
C13: 15 | D13: 20 | E13: 70
C14: 15 | D14: 25 | E14: 95 | P14: max tompná plocha 15,7m2
C15: 15 | D15: 30 | E15: 120 | P15: 14 | Q15: 20 | R15: 45
C16: 10 | D16: 15 | E16: 70 | P16: 14 | Q16: 25 | R16: 60
C17: 10 | D17: 20 | E17: 95 | P17: 14 | Q17: 30 | R17: 70
C18: 10 | D18: 25 | E18: 120 | P18: 14 | Q18: 35 | R18: 85
C19: 10 | D19: 30 | E19: 145 | P19: 14 | Q19: 40 | R19: 95
C20: 20 | D20: 15 | E20: 25
C21: 20 | D21: 20 | E21: 40
C22: 20 | D22: 25 | E22: 60
C23: 20 | D23: 30 | E23: 85
B24: KERMI SUCHÝ PRO lambda= 0,28
B25: kermi suchý, deska 12mm | C25: 14 | D25: 20 | E25: 60
C26: 14 | D26: 25 | E26: 75
C27: 14 | D27: 30 | E27: 90
C28: 14 | D28: 35 | E28: 105
C29: 14 | D29: 40 | E29: 120
B34: rehau mokrý | C34: rehau | D34: 5
C35: rehau | D35: 10
C36: rehau | D36: 15
C37: rehau | D37: 20
C38: rehau | D38: 25
C39: rehau | D39: 30
C40: rehau | D40: 35
C41: rehau | D41: 40
B51: přepočet najednotné lamba 0,99
G57: wall heating and cooling pdf
G58: academia
G59: orůzkum udělat

Sheet REhau
A2: Rehau
A7: REHAU MOKRÝ SYSTÉM s lambda=0,35 W/mK | T7: Rehau suchý | W7: 90 | X7: 116.956
W8: výkon
H9: 20 | T9: 45 | U9: 3 | V9: 13.071 | W9: =V9*$W$7/$X$7 -> 10.058398
A10: rehau mokrý | C10: rozteč | D10: střední tepl | E10: měřeno | F10: výkon | T10: 45 | U10: 6 | V10: 30.796 | W10: =V10*$W$7/$X$7 -> 23.698143
C11: 5 | D11: 5 | E11: 14.99 | F11: =E11/80*120 -> 22.485 | T11: 45 | U11: 9 | V11: 48.683 | W11: =V11*$W$7/$X$7 -> 37.46255
C12: 5 | D12: 10 | E12: 30.36 | F12: =E12/80*120 -> 45.54 | T12: 45 | U12: 12 | V12: 68.57 | W12: =V12*$W$7/$X$7 -> 52.765997
C13: 5 | D13: 15 | E13: 46.87 | F13: =E13/80*120 -> 70.305 | T13: 45 | U13: 15 | V13: 88.816 | W13: =V13*$W$7/$X$7 -> 68.345703
C14: 5 | D14: 20 | E14: 61.17 | F14: =E14/80*120 -> 91.755 | T14: 45 | U14: 18 | V14: 109.464 | W14: =V14*$W$7/$X$7 -> 84.234755
C15: 5 | D15: 25 | E15: 76.4 | F15: =E15/80*120 -> 114.6 | T15: 45 | U15: 21 | V15: 129.676 | W15: =V15*$W$7/$X$7 -> 99.788296
C16: 5 | D16: 30 | E16: 91.8 | F16: =E16/80*120 -> 137.7
C17: 5 | D17: 35 | E17: 107.42 | F17: =E17/80*120 -> 161.13
C18: 5 | D18: 40 | E18: 122.56 | F18: =E18/80*120 -> 183.84
C19: 7.5 | D19: 5 | E19: 13.9 | F19: =E19/80*120 -> 20.85
C20: 7.5 | D20: 10 | E20: 28.3 | F20: =E20/80*120 -> 42.45
C21: 7.5 | D21: 15 | E21: 42.6 | F21: =E21/80*120 -> 63.9
C22: 7.5 | D22: 20 | E22: 56.96 | F22: =E22/80*120 -> 85.44
C23: 7.5 | D23: 25 | E23: 71.1 | F23: =E23/80*120 -> 106.65
C24: 7.5 | D24: 30 | E24: 85.6 | F24: =E24/80*120 -> 128.4
C25: 7.5 | D25: 35 | E25: 99.58 | F25: =E25/80*120 -> 149.37 | U25: 120 | V25: 81.249 | W25: =U25/V25 -> 1.4769413 | Y25: 80.533 | Z25: =U25/Y25 -> 1.4900724
C26: 7.5 | D26: 40 | E26: 114.25 | F26: =E26/80*120 -> 171.375
C27: 10 | D27: 5 | E27: 13.26 | F27: =E27/80*120 -> 19.89 | S27: 0,5 W/mK | T27: 5 | U27: 5 | V27: 14.918 | W27: =V27*Z25 -> 22.2289
C28: 10 | D28: 10 | E28: 26.05 | F28: =E28/80*120 -> 39.075 | T28: 5 | U28: 40 | V28: 130.54 | W28: =V28*W25 -> 192.79991
C29: 10 | D29: 15 | E29: 40.1 | F29: =E29/80*120 -> 60.15 | T29: 7.5 | U29: 5
C30: 10 | D30: 20 | E30: 52.6 | F30: =E30/80*120 -> 78.9 | T30: 7.5 | U30: 40
C31: 10 | D31: 25 | E31: 65.97 | F31: =E31/80*120 -> 98.955 | T31: 10 | U31: 5
C32: 10 | D32: 30 | E32: 79.26 | F32: =E32/80*120 -> 118.89 | T32: 10 | U32: 40
C33: 10 | D33: 35 | E33: 92.6 | F33: =E33/80*120 -> 138.9 | T33: 15 | U33: 5
C34: 10 | D34: 40 | E34: 105.3 | F34: =E34/80*120 -> 157.95 | T34: 15 | U34: 40
C35: 15 | D35: 5 | E35: 11.1 | F35: =E35/80*120 -> 16.65 | T35: 20 | U35: 5 | V35: 9.015 | W35: =V35*Z25 -> 13.433003
C36: 15 | D36: 10 | E36: 22.67 | F36: =E36/80*120 -> 34.005 | T36: 20 | U36: 40 | V36: 97.015 | W36: =W25*V36 -> 143.28546
C37: 15 | D37: 15 | E37: 34.4 | F37: =E37/80*120 -> 51.6
C38: 15 | D38: 20 | E38: 45.2 | F38: =E38/80*120 -> 67.8 | T38: 5 | U38: 5
C39: 15 | D39: 25 | E39: 56.6 | F39: =E39/80*120 -> 84.9 | T39: 5 | U39: 40
C40: 15 | D40: 30 | E40: 68.3 | F40: =E40/80*120 -> 102.45 | T40: 7.5 | U40: 5
C41: 15 | D41: 35 | E41: 80.2 | F41: =E41/80*120 -> 120.3 | T41: 7.5 | U41: 40
C42: 15 | D42: 40 | E42: 91.8 | F42: =E42/80*120 -> 137.7 | T42: 10 | U42: 5
C43: 20 | D43: 5 | E43: 9.65 | F43: =E43/80*120 -> 14.475 | T43: 10 | U43: 40
C44: 20 | D44: 10 | E44: 29 | F44: 29 | T44: 15 | U44: 5
C45: 20 | D45: 15 | E45: 43.48 | F45: 43.48 | T45: 15 | U45: 40
...

Sheet Tloušťka systemu
A1: systém | B1: 20 | C1: 21 | D1: 22 | E1: 23 | F1: 24 | G1: 25 | H1: 26 | I1: 27 | J1: 28 | K1: 29 | L1: 30 | M1: 31 | N1: 32 | O1: 33 | P1: 34 | Q1: 35 | R1: 36 | S1: 37 | T1: 38 | U1: 39 | V1: 40 | W1: 41 | X1: 42 | Y1: 43 | Z1: 44 | AA1: 45 | AB1: 46
A2: Kermi | O2: I
A3: Rehau | E3: I | J3: I | O3: I | T3: I | Y3: I
A4: Ivartrio | L4: I | Q4: I
A5: Univenta | B5: I | L5: I
A6: Roth werke | E6: I | J6: I | K6: I | P6: I
A7: QuickTherm | L7: I
A8: Rossato | O8: I
A9: Upnor | E9: I
A10: Baudochselbst | Q10: I | V10: I

Sheet Srovnání
A2: Mokrý systém
A3: Kermi | B3: 15 | C3: =Kermi!$E$20 -> 25
B4: 30 | C4: =Kermi!$E$23 -> 85
B5: 30 | C5: =Kermi!$E$19 -> 145
B6: 15 | C6: =Kermi!$E$16 -> 70
B7: 15 | C7: =C3 -> 25
A9: Rehau | B9: 5 | C9: =REhau!W35 -> 13.433003
B10: 40 | C10: =REhau!W36 -> 143.28546
B11: =B10 -> 40 | C11: =REhau!W28 -> 192.79991
B12: =B9 -> 5 | C12: =REhau!W27 -> 22.2289
B13: =B9 -> 5 | C13: =C9 -> 13.433003
A15: Baudochselbst | B15: 10 | C15: =Baudochselbst!$E$18 -> 37
B16: 30 | C16: =Baudochselbst!$E$22 -> 112 | AC16: =B35 -> 2 | AD16: =C35 -> 8.6189589
B17: 30 | C17: =Baudochselbst!$E$7 -> 165 | AC17: =B3 -> 15 | AD17: =C3 -> 25
B18: 10 | C18: =Baudochselbst!$E$3 -> 55 | AC18: =B22 -> 35 | AD18: =C22 -> 64.63
B19: =B15 -> 10 | C19: =C15 -> 37 | AC19: =B54 -> 30 | AD19: =C54 -> 148.93172
AC20: =B48 -> 45 | AD20: =C48 -> 249.102
A21: Roth Werke | B21: 15 | C21: ='Roth Werke'!$E$52 -> 27.7 | AC21: =B49 -> 45 | AD21: =C49 -> 285.0795
B22: 35 | C22: ='Roth Werke'!$E$56 -> 64.63 | AC22: =B43 -> 40 | AD22: =C43 -> 211.7
B23: 35 | C23: ='Roth Werke'!$E$31 -> 210.58 | AC23: =B31 -> 35 | AD23: =C31 -> 223
B24: 15 | C24: ='Roth Werke'!$E$27 -> 90.25 | AC24: =B38 -> 2 | AD24: =C38 -> 10.507397
B25: =B21 -> 15 | C25: =C21 -> 27.7 | AC25: =AC16 -> 2 | AD25: =AD16 -> 8.6189589
A27: Ivartrio | B27: 10 | C27: =Ivartrio!$D$45 -> 24
B28: 25 | C28: =Ivartrio!$D$48 -> 64 | AA28: Teplotní spády
B29: 25 | C29: =Ivartrio!$D$26 -> 92
B30: 35 | C30: =Ivartrio!$D$28 -> 130
B31: 35 | C31: =Ivartrio!$D$10 -> 223 | AA31: 15 | AB31: 0
B32: 10 | C32: =Ivartrio!$D$5 -> 58 | AA32: 15 | AB32: 300
B33: =B27 -> 10 | C33: =C27 -> 24
AA34: 20 | AB34: 0
A35: Univenta | B35: 2 | C35: =Univenta!$E$9 -> 8.6189589 | AA35: 20 | AB35: 300
B36: 18 | C36: =Univenta!$E$17 -> 86.305315
B37: 18 | C37: =Univenta!$E$47 -> 105.8446 | AA37: 25 | AB37: 0
B38: 2 | C38: =Univenta!$E$39 -> 10.507397 | AA38: 25 | AB38: 300
B39: =B35 -> 2 | C39: =C35 -> 8.6189589
A41: QuickTherm | B41: 10 | C41: =QuickTherm!$D$30 -> 37.2
B42: 40 | C42: =QuickTherm!$D$36 -> 151.8
B43: 40 | C43: =QuickTherm!$D$45 -> 211.7
B44: 10 | C44: =QuickTherm!$D$39 -> 51.9
B45: =B41 -> 10 | C45: =C41 -> 37.2
...

Sheet Fixační síť

Sheet Trubky
B22: 15 | C22: =Uponor!$D$60 -> 74.534642
B23: 30 | C23: =Uponor!$D$63 -> 148.93172
B24: 30 | C24: =Uponor!$D$43 -> 176.34735
B25: 15 | C25: =Uponor!$D$40 -> 88.299778
B26: 15 | C26: =Uponor!$D$60 -> 74.534642

Sheet Izolace_mokry

Sheet Kovová lamela

Sheet Izolace_vzduchová mezera

Sheet použité značení
A1: c | B1: alfa | C1: e | D1: emisivita | E1: [-]
A2: e | B2: alfak | C2: f | D2: frekvence | E2: [Hz]
A3: f | B3: alfakg | C3: h | D3: výška místnosti | E3: [m]
A4: h | B4: alfas | C4: l | D4: rozteč topného potrubí | E4: [mm]
A5: kc | B5: alfasg | D5: měrný tepelný výkon absolutně černého tělesa | E5: [W/m2]
A6: l | B6: lambda | D6: celkový tepelný výkon otopného tělesava | E6: [W]
A7: q0 | B7: varphi | D7: sálavý tepelný tok | E7: [W]
A8: Qc | B8: varphi12 | C8: s | D8: tloušťka omítka | E8: [mm]
A9: Qs | D9: povrch i-té plochy | E9: [m2]
A10: s | D10: plocha otopného tělesa | E10: [m2]
A11: Si | D11: teplota vzduchu ve vztažném bodě | E11: [°C]
A12: SL | D12: venkovní teplota | E12: [°C]
A13: tD | D13: venkovní geometrická teplota | E13: [°C]
A14: te | D14: výsledná teplota kulového teploměru | E14: [°C]
A15: tegem | D15: vnitřní výpočtová teplota vzduchu | E15: [°C]
A16: tg | D16: termodynamická teplota vzduchu | E16: [°C]
A17: ti | D17: operativní teplota | E17: [°C]
A18: ti | D18: střední radiační teplota | E18: [°C]
A19: Ti | D19: teplota výstupní kotlové vody | E19: [°C]
A20: to | D20: teplota přívodní vody otopné soustavy | E20: [°C]
... A24: tw2 | D24: zátěž kotle | E24: [-]
A25: twm
A26: w
A27: z
