Workbook

Sheet Uponor
A32: UPONOR PLASTER | C32: 100 | D32: 69.793 | T32: Uponor Renovis | V32: 100 | W32: 68.878
D33: =C32/D32 -> 1.4328084
C34: =C32/D34 -> 1.4329727 | D34: 69.785 | W34: =100/68.878 -> 1.4518424
A35: roztec | B35: střed | C35: měřeno | D35: výkon | V35: měřeno
A36: 8 | B36: 4 | C36: 16.275 | D36: =C36*$C$34 -> 23.321631 | U36: 15 | V36: 42.949 | W36: =V36*$W$34 -> 62.355179
A37: 8 | B37: 6 | C37: 24.816 | D37: =C37*$C$34 -> 35.560651 | U37: 20 | V37: 57.446 | W37: =V37*$W$34 -> 83.402538
A38: 8 | B38: 8 | C38: 32.824 | D38: =C38*$C$34 -> 47.035896 | U38: 25 | V38: 71.941 | W38: =V38*$W$34 -> 104.44699
A39: 8 | B39: 10 | C39: 41.39 | D39: =C39*$C$34 -> 59.31074 | U39: 30 | V39: 86.199 | W39: =V39*$W$34 -> 125.14736
A40: 8 | B40: 15 | C40: 61.62 | D40: =C40*$C$34 -> 88.299778
A41: 8 | B41: 20 | C41: 82.502 | D41: =C41*$C$34 -> 118.22311
A42: 8 | B42: 25 | C42: 102.931 | D42: =C42*$C$34 -> 147.49731
A43: 8 | B43: 30 | C43: 123.064 | D43: =C43*$C$34 -> 176.34735
A46: 10 | B46: 4 | C46: 15.088 | D46: =C46*$C$34 -> 21.620692
A47: 10 | B47: 6 | C47: 23.047 | D47: =C47*$C$34 -> 33.025722
A48: 10 | B48: 8 | C48: 30.457 | D48: =C48*$C$34 -> 43.64405
A49: 10 | B49: 10 | C49: 38.524 | D49: =C49*$C$34 -> 55.20384
A50: 10 | B50: 15 | C50: 57.489 | D50: =C50*$C$34 -> 82.380168
A51: 10 | B51: 20 | C51: 76.858 | D51: =C51*$C$34 -> 110.13542
A52: 10 | B52: 25 | C52: 95.81 | D52: =C52*$C$34 -> 137.29311
A53: 10 | B53: 30 | C53: 114.723 | D53: =C53*$C$34 -> 164.39493
... A63: 14 | B63: 30 | C63: 103.932 | D63: =C63*$C$34 -> 148.93172

Sheet Rossato
E1: 100 | F1: 88.311 | G1: =E1/F1 -> 1.1323618
A2: Rossato | C2: https://en.rossatogroup.com/products/radiant-panels/Heating-to-ceiling/under-plaster-wall-ceiling-system.html#documenti | D2: .
C6: rozteč | D6: střední tepl | E6: měřeno | F6: výkon
C7: 7.5 | D7: 5 | F7: =6.3351*D7 -> 31.6755
C8: 7.5 | D8: 10 | F8: =6.3351*D8 -> 63.351 | H8: 0 | I8: 0
C9: 7.5 | D9: 15 | F9: =6.3351*D9 -> 95.0265 | H9: 10 | I9: 63.351
C10: 7.5 | D10: 20 | F10: =6.3351*D10 -> 126.702
C11: 7.5 | D11: 25 | F11: =6.3351*D11 -> 158.3775
C12: 7.5 | D12: 30 | F12: =6.3351*D12 -> 190.053
C13: 7.5 | D13: 35 | F13: =6.3351*D13 -> 221.7285
C14: 7.5 | D14: 40 | F14: =6.3351*D14 -> 253.404
C15: 7.5 | D15: 45 | F15: =6.3351*D15 -> 285.0795
C16: 7.5 | D16: 50 | F16: =6.3351*D16 -> 316.755
C17: 7.5 | D17: 55 | F17: =6.3351*D17 -> 348.4305
C18: 7.5 | D18: 60 | F18: =6.3351*D18 -> 380.106
C19: 7.5 | D19: 65 | F19: =6.3351*D19 -> 411.7815 | H19: 0 | I19: 0
C20: 10 | D20: 5 | F20: =5.5356*D7 -> 27.678 | H20: 10 | I20: 55.356
C21: 10 | D21: 10 | F21: =5.5356*D8 -> 55.356
C22: 10 | D22: 15 | F22: =5.5356*D9 -> 83.034
C23: 10 | D23: 20 | F23: =5.5356*D10 -> 110.712
C24: 10 | D24: 25 | F24: =5.5356*D11 -> 138.39
C25: 10 | D25: 30 | F25: =5.5356*D12 -> 166.068
C26: 10 | D26: 35 | F26: =5.5356*D13 -> 193.746
C27: 10 | D27: 40 | F27: =5.5356*D14 -> 221.424
C28: 10 | D28: 45 | F28: =5.5356*D15 -> 249.102
C29: 10 | D29: 50 | F29: =5.5356*D16 -> 276.78
C30: 10 | D30: 55 | F30: =5.5356*D17 -> 304.458
C31: 10 | D31: 60 | F31: =5.5356*D18 -> 332.136
C32: 10 | D32: 65 | F32: =5.5356*D19 -> 359.814

Sheet QuickTherm
A2: QuickTherm
O5: Quicktherm
A6: https://quicktherm.de/wandhz.htm | B6: rozetc | C6: střed | D6: výkon
A7: quicktherm | B7: 12.5 | C7: 10 | D7: 45.6 | O7: rozteč | P7: střední tepl | Q7: výkon
B8: 12.5 | C8: 15 | D8: 69.2 | L8: suhcý !!!! | O8: 12.5 | P8: 10 | Q8: 45.6
B9: 12.5 | C9: 20 | D9: 92.7 | O9: 12.5 | P9: 15 | Q9: 69.2
A10: lambda=0,31, s 12,5 | B10: 12.5 | C10: 25 | D10: 116.1 | O10: 12.5 | P10: 20 | Q10: 92.7
B11: 12.5 | C11: 30 | D11: 139.5 | O11: 12.5 | P11: 25 | Q11: 116.1
B12: 12.5 | C12: 35 | D12: 162.8 | O12: 12.5 | P12: 30 | Q12: 139.5
B13: 12.5 | C13: 40 | D13: 186.2 | O13: 12.5 | P13: 35 | Q13: 162.8
B14: 25 | C14: 10 | D14: 34.7 | O14: 12.5 | P14: 40 | Q14: 186.2
B15: 25 | C15: 15 | D15: 52.8 | O15: 25 | P15: 10 | Q15: 34.7
B16: 25 | C16: 20 | D16: 70.6 | O16: 25 | P16: 15 | Q16: 52.8
B17: 25 | C17: 25 | D17: 88.5 | O17: 25 | P17: 20 | Q17: 70.6
B18: 25 | C18: 30 | D18: 106.3 | O18: 25 | P18: 25 | Q18: 88.5
B19: 25 | C19: 35 | D19: 124 | O19: 25 | P19: 30 | Q19: 106.3
B20: 25 | C20: 40 | D20: 141.8 | O20: 25 | P20: 35 | Q20: 124
O21: 25 | P21: 40 | Q21: 141.8
B23: 12.5 | C23: 10 | D23: 49.1
B24: 12.5 | C24: 15 | D24: 74.6
B25: 12.5 | C25: 20 | D25: 99.9
A26: lambda=0,58, s=15mm | B26: 12.5 | C26: 25 | D26: 125.1
B27: 12.5 | C27: 30 | D27: 150.3
B28: 12.5 | C28: 35 | D28: 175.4
B29: 12.5 | C29: 40 | D29: 200.5
B30: 25 | C30: 10 | D30: 37.2
B31: 25 | C31: 15 | D31: 56.5
B32: 25 | C32: 20 | D32: 75.6
B33: 25 | C33: 25 | D33: 94.7
B34: 25 | C34: 30 | D34: 113.7
B35: 25 | C35: 35 | D35: 132.8
B36: 25 | C36: 40 | D36: 151.8
B39: 12.5 | C39: 10 | D39: 51.9
B40: 12.5 | C40: 15 | D40: 78.8
B41: 12.5 | C41: 20 | D41: 105.4
A42: lambda=0,75, | B42: 12.5 | C42: 25 | D42: 131.1
B43: 12.5 | C43: 30 | D43: 158.6
B44: 12.5 | C44: 35 | D44: 185.2
B45: 12.5 | C45: 40 | D45: 211.7
B46: 25 | C46: 10 | D46: 39.2
A47: s=15mm | B47: 25 | C47: 15 | D47: 59.4
B48: 25 | C48: 20 | D48: 79.6
B49: 25 | C49: 25 | D49: 99.7
B50: 25 | C50: 30 | D50: 119.7
B51: 25 | C51: 35 | D51: 139.8
B52: 25 | C52: 40 | D52: 159.8

Sheet Baudochselbst
B2: https://www.baudochselbst.de/fussbodenheizung/fussbodenheizung-planung/planung-wandheizung/ | C2: rozteč | D2: střtední tepl | E2: výkon
C3: 10 | D3: 10 | E3: 55
B4: lambda 0,7, s=15mm | C4: 10 | D4: 15 | E4: 83
C5: 10 | D5: 20 | E5: 110
C6: 10 | D6: 25 | E6: 138
C7: 10 | D7: 30 | E7: 165
C8: 15 | D8: 10 | E8: 48
C9: 15 | D9: 15 | E9: 73
C10: 15 | D10: 20 | E10: 97
C11: 15 | D11: 25 | E11: 121
C12: 15 | D12: 30 | E12: 145
C13: 20 | D13: 10 | E13: 42
C14: 20 | D14: 15 | E14: 64
C15: 20 | D15: 20 | E15: 85
C16: 20 | D16: 25 | E16: 106
... C22: 25 | D22: 30 | E22: 112
B30: baudochselbst

Sheet Roth Werke
B2: Roth Werke
P6: Roth Werke
B8: ROTH-WERKE MOKRÝ | C8: rozteč | D8: střední tepl | E8: výkon | P8: systém | Q8: roztec | R8: střední tepl. | S8: výkon
B9: trubka 11 | C9: 7.5 | D9: 15 | E9: 85 | P9: Rigips Climafit 10 mm | Q9: 10 | R9: 15 | S9: 88
B10: omítka 15mm | C10: 7.5 | D10: 20 | E10: 113 | Q10: 10 | R10: 20 | S10: 117
C11: 7.5 | D11: 25 | E11: 142 | Q11: 10 | R11: 25 | S11: 147
C12: 7.5 | D12: 30 | E12: 170 | Q12: 10 | R12: 30 | S12: 176
C13: 7.5 | D13: 35 | Q13: 20 | R13: 15 | S13: 73
C14: 15 | D14: 15 | E14: 68 | Q14: 20 | R14: 20 | S14: 97
C15: 15 | D15: 20 | E15: 91 | Q15: 20 | R15: 25 | S15: 121
C16: 15 | D16: 25 | E16: 114 | Q16: 20 | R16: 30 | S16: 145
C17: 15 | D17: 30 | E17: 137
C18: 15 | D18: 35 | E18: 159 | P18: systém | Q18: roztec | R18: střední tepl. | S18: výkon
C19: 22.5 | D19: 15 | E19: 55 | P19: Rigips Bauplatte RB 12,5 mm | Q19: 10 | R19: 15 | S19: 72
C20: 22.5 | D20: 20 | E20: 73 | Q20: 10 | R20: 20 | S20: 96
C21: 22.5 | D21: 25 | E21: 92 | Q21: 10 | R21: 25 | S21: 121
C22: 22.5 | D22: 30 | E22: 110 | Q22: 10 | R22: 30 | S22: 145
C23: 22.5 | D23: 35 | E23: 128 | Q23: 20 | R23: 15 | S23: 60
Q24: 20 | R24: 20 | S24: 80
Q25: 20 | R25: 25 | S25: 100
B26: trubka 15 | C26: rozteč | D26: střední tepl | E26: výkon | Q26: 20 | R26: 30 | S26: 120
B27: omítka 15mm | C27: 10 | D27: 15 | E27: 90.25
C28: 10 | D28: 20 | E28: 120.33 | P28: systém | Q28: roztec | R28: střední tepl. | S28: výkon
C29: 10 | D29: 25 | E29: 150.42 | P29: Fermacell powerpanel H2O | Q29: 10 | R29: 15 | S29: 64
C30: 10 | D30: 30 | E30: 180.5 | Q30: 10 | R30: 20 | S30: 86
C31: 10 | D31: 35 | E31: 210.58 | Q31: 10 | R31: 25 | S31: 107
C32: 15 | D32: 15 | E32: 78.72 | Q32: 10 | R32: 30 | S32: 128
C33: 15 | D33: 20 | E33: 104.96 | Q33: 20 | R33: 15 | S33: 53
C34: 15 | D34: 25 | E34: 131.19 | Q34: 20 | R34: 20 | S34: 71
C35: 15 | D35: 30 | E35: 157.43 | Q35: 20 | R35: 25 | S35: 89
C36: 15 | D36: 35 | E36: 183.67 | Q36: 20 | R36: 30 | S36: 106
C37: 20 | D37: 15 | E37: 65.97
C38: 20 | D38: 20 | E38: 87.96 | P38: systém | Q38: roztec | R38: střední tepl. | S38: výkon
C39: 20 | D39: 25 | E39: 109.94 | P39: Eternit dry construction Hydropanel | Q39: 10 | R39: 15 | S39: 77
C40: 20 | D40: 30 | E40: 131.93 | Q40: 10 | R40: 20 | S40: 102
C41: 20 | D41: 35 | E41: 153.92 | Q41: 10 | R41: 25 | S41: 128
C42: 25 | D42: 15 | E42: 53.22 | Q42: 10 | R42: 30 | S42: 153
C43: 25 | D43: 20 | E43: 70.96 | Q43: 20 | R43: 15 | S43: 63
C44: 25 | D44: 25 | E44: 88.69 | Q44: 20 | R44: 20 | S44: 84
C45: 25 | D45: 30 | E45: 106.43 | Q45: 20 | R45: 25 | S45: 105
C46: 25 | D46: 35 | E46: 124.17 | Q46: 20 | R46: 30 | S46: 127
C47: 30 | D47: 15 | E47: 40.43
C48: 30 | D48: 20 | E48: 53.94
C49: 30 | D49: 25 | E49: 67.42
C50: 30 | D50: 30 | E50: 80.91
C51: 30 | D51: 35 | E51: 94.39
C52: 35 | D52: 15 | E52: 27.7
C53: 35 | D53: 20 | E53: 36.93
C54: 35 | D54: 25 | E54: 46.16
C55: 35 | D55: 30 | E55: 55.4
C56: 35 | D56: 35 | E56: 64.63
B59: roth werke suchý, trubka 15mm | C59: rozteč | D59: střední tepl | E59: výkon
B60: tlouštka 10 mm | C60: 10 | D60: 15 | E60: 88
C61: 10 | D61: 20 | E61: 117
C62: 10 | D62: 25 | E62: 147
C63: 10 | D63: 30 | E63: 176
C64: 20 | D64: 15 | E64: 73
C65: 20 | D65: 20 | E65: 97
C66: 20 | D66: 25 | E66: 121
C67: 20 | D67: 30 | E67: 145
B69: tlouštka 12,5 mm | C69: 10 | D69: 15 | E69: 72
C70: 10 | D70: 20 | E70: 96
C71: 10 | D71: 25 | E71: 121
C72: 10 | D72: 30 | E72: 145
C73: 20 | D73: 15 | E73: 60
C74: 20 | D74: 20 | E74: 80
C75: 20 | D75: 25 | E75: 100
C76: 20 | D76: 30 | E76: 120
B78: fermacell powerpanel H20 | C78: 10 | D78: 15 | E78: 64
C79: 10 | D79: 20 | E79: 86
C80: 10 | D80: 25 | E80: 107
C81: 10 | D81: 30 | E81: 128
C82: 20 | D82: 15 | E82: 53
C83: 20 | D83: 20 | E83: 71
C84: 20 | D84: 25 | E84: 89
C85: 20 | D85: 30 | E85: 106
B87: eternit dry construction hydripanel | C87: 10 | D87: 15 | E87: 77
C88: 10 | D88: 20 | E88: 102
C89: 10 | D89: 25 | E89: 128
C90: 10 | D90: 30 | E90: 153
C91: 20 | D91: 15 | E91: 63
C92: 20 | D92: 20 | E92: 84
C93: 20 | D93: 25 | E93: 105
C94: 20 | D94: 30 | E94: 127

Sheet Univenta
A1: UNIVENTA
E5: =120/45.625 -> 2.630137
E6: =100/44.874 -> 2.2284619
E7: =100/46.956 -> 2.1296533
A8: Univenta delgado 0,4 | B8: rozteč | C8: střední teplota | D8: měřeno | E8: výkon
B9: 50 | C9: 2 | D9: 3.277 | E9: =D9*$E$5 -> 8.6189589
B10: 50 | C10: 4 | D10: 6.905 | E10: =D10*$E$5 -> 18.161096
B11: 50 | C11: 6 | D11: 10.392 | E11: =D11*$E$5 -> 27.332384
B12: 50 | C12: 8 | D12: 14 | E12: =D12*$E$5 -> 36.821918
B13: 50 | C13: 10 | D13: 17.727 | E13: =D13*$E$5 -> 46.624438
B14: 50 | C14: 12 | D14: 21.443 | E14: =D14*$E$5 -> 56.398027
B15: 50 | C15: 14 | D15: 25.206 | E15: =D15*$E$5 -> 66.295233
B16: 50 | C16: 16 | D16: 29.071 | E16: =D16*$E$5 -> 76.460712
B17: 50 | C17: 18 | D17: 32.814 | E17: =D17*$E$5 -> 86.305315
B18: 40 | C18: 2 | D18: 4.152 | E18: =D18*$E$7 -> 8.8423205
B19: 40 | C19: 4 | D19: 8.394 | E19: =D19*$E$7 -> 17.87631
B20: 40 | C20: 6 | D20: 13.04 | E20: =D20*$E$7 -> 27.770679
B21: 40 | C21: 8 | D21: 17.436 | E21: =D21*$E$7 -> 37.132635
B22: 40 | C22: 10 | D22: 22.051 | E22: =D22*$E$7 -> 46.960985
B23: 40 | C23: 12 | D23: 26.953 | E23: =D23*$E$7 -> 57.400545
B24: 40 | C24: 14 | D24: 31.315 | E24: =D24*$E$7 -> 66.690093
B25: 40 | C25: 16 | D25: 36.097 | E25: =D25*$E$7 -> 76.874095
B26: 40 | C26: 18 | D26: 40.985 | E26: =D26*$E$7 -> 87.28384
B27: 29 | C27: 2 | D27: 3.878 | E27: =D27*$E$6 -> 8.6419753
B28: 29 | C28: 4 | D28: 8.195 | E28: =D28*$E$6 -> 18.262245
B29: 29 | C29: 6 | D29: 12.625 | E29: =D29*$E$6 -> 28.134332
B30: 29 | C30: 8 | D30: 17.106 | E30: =D30*$E$6 -> 38.12007
B31: 29 | C31: 10 | D31: 21.915 | E31: =D31*$E$6 -> 48.836743
B32: 29 | C32: 12 | D32: 26.481 | E32: =D32*$E$6 -> 59.0119
B33: 29 | C33: 14 | D33: 31.312 | E33: =D33*$E$6 -> 69.7776
B34: 29 | C34: 16 | D34: 35.867 | E34: =D34*$E$6 -> 79.928244
B35: 29 | C35: 18 | D35: 40.64 | E35: =D35*$E$6 -> 90.564692
A38: 0.6 | B38: rozteč | C38: střední teplota | D38: měřeno
B39: 50 | C39: 2 | D39: 3.995 | E39: =D39*$E$5 -> 10.507397
B40: 50 | C40: 4 | D40: 8.291 | E40: =D40*$E$5 -> 21.806466
B41: 50 | C41: 6 | D41: 12.696 | E41: =D41*$E$5 -> 33.392219
B42: 50 | C42: 8 | D42: 17.126 | E42: =D42*$E$5 -> 45.043726
B43: 50 | C43: 10 | D43: 21.782 | E43: =D43*$E$5 -> 57.289644
B44: 50 | C44: 12 | D44: 26.357 | E44: =D44*$E$5 -> 69.322521
B45: 50 | C45: 14 | D45: 30.981 | E45: =D45*$E$5 -> 81.484274
B46: 50 | C46: 16 | D46: 35.654 | E46: =D46*$E$5 -> 93.774904
B47: 50 | C47: 18 | D47: 40.243 | E47: =D47*$E$5 -> 105.8446 | V47: Univenta | Y47: 100 | Z47: 64.8
B48: 40 | C48: 2 | D48: 5.193 | E48: =D48*$E$7 -> 11.05929 | Y48: výkon
B49: 40 | C49: 4 | D49: 10.403 | E49: =D49*$E$7 -> 22.154783 | V49: Delgado + SDK 0,21 W/mk, tl. 12,5 mm | W49: 2 | X49: 5.168 | Y49: =X49*$Y$47/$Z$47 -> 7.9753086
B50: 40 | C50: 6 | D50: 16.044 | E50: =D50*$E$7 -> 34.168157 | W50: 4 | X50: 11.147 | Y50: =X50*$Y$47/$Z$47 -> 17.20216
B51: 40 | C51: 8 | D51: 21.571 | E51: =D51*$E$7 -> 45.938751 | W51: 6 | X51: 17.859 | Y51: =X51*$Y$47/$Z$47 -> 27.560185
B52: 40 | C52: 10 | D52: 27.442 | E52: =D52*$E$7 -> 58.441946 | W52: 8 | X52: 24.471 | Y52: =X52*$Y$47/$Z$47 -> 37.763889
B53: 40 | C53: 12 | D53: 33.236 | E53: =D53*$E$7 -> 70.781157 | W53: 10 | X53: 31.109 | Y53: =X53*$Y$47/$Z$47 -> 48.007716
B54: 40 | C54: 14 | D54: 38.874 | E54: =D54*$E$7 -> 82.788142 | W54: 12 | X54: 38.86 | Y54: =X54*$Y$47/$Z$47 -> 59.969136
B55: 40 | C55: 16 | D55: 45.153 | E55: =D55*$E$7 -> 96.160235 | W55: 14 | X55: 45.153 | Y55: =X55*$Y$47/$Z$47 -> 69.680556
B56: 40 | C56: 18 | E56: =D56*$E$7 -> 0 | W56: 16 | X56: 52.048 | Y56: =X56*$Y$47/$Z$47 -> 80.320988
B57: 29 | C57: 2 | D57: 4.878 | E57: =D57*$E$6 -> 10.870437 | W57: 18 | X57: 59.332 | Y57: =X57*$Y$47/$Z$47 -> 91.561728
B58: 29 | C58: 4 | D58: 10.41 | E58: =D58*$E$6 -> 23.198289
B59: 29 | C59: 6 | D59: 15.84 | E59: =D59*$E$6 -> 35.298837 | V59: Aktivní desky 12,5 mm | W59: 2 | X59: 6.094 | Y59: =X59*$Y$47/$Z$47 -> 9.404321
B60: 29 | C60: 8 | D60: 21.422 | E60: =D60*$E$6 -> 47.738111 | W60: 4 | X60: 12.89 | Y60: =X60*$Y$47/$Z$47 -> 19.891975
B61: 29 | C61: 10 | D61: 26.966 | E61: =D61*$E$6 -> 60.092704 | W61: 6 | X61: 20.145 | Y61: =X61*$Y$47/$Z$47 -> 31.087963
B62: 29 | C62: 12 | D62: 32.709 | E62: =D62*$E$6 -> 72.890761 | W62: 8 | X62: 27.354 | Y62: =X62*$Y$47/$Z$47 -> 42.212963
B63: 29 | C63: 14 | D63: 38.561 | E63: =D63*$E$6 -> 85.93172 | W63: 10 | X63: 34.492 | Y63: =X63*$Y$47/$Z$47 -> 53.228395
B64: 29 | C64: 16 | D64: 44.428 | E64: =D64*$E$6 -> 99.006106 | W64: 12 | X64: 42.369 | Y64: =X64*$Y$47/$Z$47 -> 65.384259
B65: 29 | C65: 18 | E65: =D65*$E$6 -> 0 | W65: 14 | X65: 50.249 | Y65: =X65*$Y$47/$Z$47 -> 77.544753
W66: 16 | X66: 58.005 | Y66: =X66*$Y$47/$Z$47 -> 89.513889
W67: 18 | X67: 65.758 | Y67: =X67*$Y$47/$Z$47 -> 101.4784
A68: 0.8 | B68: rozteč | C68: střední teplota | D68: měřeno
B69: 50 | C69: 2 | D69: 4.692 | E69: =D69*$E$5 -> 12.340603 | V69: Delgado + SDK 0,3 W/mK tl. 10 mm | W69: 2 | X69: 6.441 | Y69: =X69*$Y$47/$Z$47 -> 9.9398148
B70: 50 | C70: 4 | D70: 9.392 | E70: =D70*$E$5 -> 24.702247 | W70: 4 | X70: 13.523 | Y70: =X70*$Y$47/$Z$47 -> 20.868827
B71: 50 | C71: 6 | D71: 14.553 | E71: =D71*$E$5 -> 38.276384 | W71: 6 | X71: 21.007 | Y71: =X71*$Y$47/$Z$47 -> 32.41821
B72: 50 | C72: 8 | D72: 19.524 | E72: =D72*$E$5 -> 51.350795 | W72: 8 | X72: 28.607 | Y72: =X72*$Y$47/$Z$47 -> 44.146605
B73: 50 | C73: 10 | D73: 24.739 | E73: =D73*$E$5 -> 65.066959 | W73: 10 | X73: 36.429 | Y73: =X73*$Y$47/$Z$47 -> 56.217593
B74: 50 | C74: 12 | D74: 30.079 | E74: =D74*$E$5 -> 79.11189 | W74: 12 | X74: 44.574 | Y74: =X74*$Y$47/$Z$47 -> 68.787037
B75: 50 | C75: 14 | D75: 35.27 | E75: =D75*$E$5 -> 92.764932 | W75: 14 | X75: 52.599 | Y75: =X75*$Y$47/$Z$47 -> 81.171296
B76: 50 | C76: 16 | D76: 40.555 | E76: =D76*$E$5 -> 106.66521 | W76: 16 | X76: 60.747 | Y76: =X76*$Y$47/$Z$47 -> 93.74537
B77: 50 | C77: 18 | D77: 45.794 | E77: =D77*$E$5 -> 120.44449 | W77: 18 | Y77: =X77*$Y$47/$Z$47 -> 0
B78: 40 | C78: 2 | D78: 5.901 | E78: =D78*$E$7 -> 12.567084
B79: 40 | C79: 4 | D79: 12.11 | E79: =D79*$E$7 -> 25.790101 | V79: Delgado + SDK 0,45 W/mK | W79: 2 | X79: 6.773 | Y79: =X79*$Y$47/$Z$47 -> 10.45216
B80: 40 | C80: 6 | D80: 18.464 | E80: =D80*$E$7 -> 39.321918 | W80: 4 | X80: 14.523 | Y80: =X80*$Y$47/$Z$47 -> 22.412037
B81: 40 | C81: 8 | D81: 24.636 | E81: =D81*$E$7 -> 52.466139 | W81: 6 | X81: 22.466 | Y81: =X81*$Y$47/$Z$47 -> 34.669753
B82: 40 | C82: 10 | D82: 31.167 | E82: =D82*$E$7 -> 66.374904 | W82: 8 | X82: 30.782 | Y82: =X82*$Y$47/$Z$47 -> 47.503086
B83: 40 | C83: 12 | D83: 37.874 | E83: =D83*$E$7 -> 80.658489 | W83: 10 | X83: 39.156 | Y83: =X83*$Y$47/$Z$47 -> 60.425926
B84: 40 | C84: 14 | D84: 44.479 | E84: =D84*$E$7 -> 94.724849 | W84: 12 | X84: 47.986 | Y84: =X84*$Y$47/$Z$47 -> 74.052469
B85: 40 | C85: 16 | E85: =D85*$E$7 -> 0 | W85: 14 | X85: 56.824 | Y85: =X85*$Y$47/$Z$47 -> 87.691358
B86: 40 | C86: 18 | E86: =D86*$E$7 -> 0 | W86: 16 | X86: 65.565 | Y86: =X86*$Y$47/$Z$47 -> 101.18056
B87: 29 | C87: 2 | D87: 5.878 | E87: =D87*$E$6 -> 13.098899 | W87: 18 | Y87: =X87*$Y$47/$Z$47 -> 0
B88: 29 | C88: 4 | D88: 11.802 | E88: =D88*$E$6 -> 26.300308
B89: 29 | C89: 6 | D89: 17.853 | E89: =D89*$E$6 -> 39.784731
B90: 29 | C90: 8 | D90: 24.08 | E90: =D90*$E$6 -> 53.661363
B91: 29 | C91: 10 | D91: 30.497 | E91: =D91*$E$6 -> 67.961403
B92: 29 | C92: 12 | D92: 36.965 | E92: =D92*$E$6 -> 82.375095
B93: 29 | C93: 14 | D93: 43.513 | E93: =D93*$E$6 -> 96.967063
B94: 29 | C94: 16 | E94: =D94*$E$6 -> 0
B95: 29 | C95: 18 | E95: =D95*$E$6 -> 0

Sheet Ivartrio
A1: IVARTIO MOKRÝ pro lambd=0,99
A4: ivartio | B4: rozteč | C4: střední tepl | D4: výkon
B5: 6 | C5: 10 | D5: 58
B6: 6 | C6: 15 | D6: 92
B7: 6 | C7: 20 | D7: 125
B8: 6 | C8: 25 | D8: 158
B9: 6 | C9: 30 | D9: 190
B10: 6 | C10: 35 | D10: 223
B11: 12 | C11: 10 | D11: 48
B12: 12 | C12: 15 | D12: 77
B13: 12 | C13: 20 | D13: 104
B14: 12 | C14: 25 | D14: 131
B15: 12 | C15: 30 | D15: 158
B16: 12 | C16: 35 | D16: 185
... B28: 24 | C28: 35 | D28: 130
A32: ivartio | B32: rozteč | C32: střední tepl | D32: výkon
B33: 6 | C33: 10 | D33: 40
B34: 6 | C34: 15 | D34: 64
B35: 6 | C35: 20 | D35: 87
B36: 6 | C36: 25 | D36: 110
B37: 12 | C37: 10 | D37: 34
B38: 12 | C38: 15 | D38: 53
B39: 12 | C39: 20 | D39: 72
B40: 12 | C40: 25 | D40: 91
B41: 18 | C41: 10 | D41: 31
B42: 18 | C42: 15 | D42: 49
B43: 18 | C43: 20 | D43: 66
B44: 18 | C44: 25 | D44: 84
... B48: 24 | C48: 25 | D48: 64

Sheet Kermi
B1: Kermi
P5: Kermi Suchý
B7: KERMI MOKRÝ PRO lambda = 0,7 W/Mk | P7: max topná plcha 6,2m2
P8: 14 | Q8: 20 | R8: 60
P9: 14 | Q9: 25 | R9: 75
P10: 14 | Q10: 30 | R10: 90
B11: kermi, mokrý, omítka 15mm | C11: rozteč | D11: střední teplota vody | E11: výkon | P11: 14 | Q11: 35 | R11: 105
C12: 15 | D12: 15 | E12: 50 | P12: 14 | Q12: 40 | R12: 120
C13: 15 | D13: 20 | E13: 70
C14: 15 | D14: 25 | E14: 95 | P14: max tompná plocha 15,7m2
C15: 15 | D15: 30 | E15: 120 | P15: 14 | Q15: 20 | R15: 45
C16: 10 | D16: 15 | E16: 70 | P16: 14 | Q16: 25 | R16: 60
C17: 10 | D17: 20 | E17: 95 | P17: 14 | Q17: 30 | R17: 70
C18: 10 | D18: 25 | E18: 120 | P18: 14 | Q18: 35 | R18: 85
C19: 10 | D19: 30 | E19: 145 | P19: 14 | Q19: 40 | R19: 95
C20: 20 | D20: 15 | E20: 25
C21: 20 | D21: 20 | E21: 40
C22: 20 | D22: 25 | E22: 60
C23: 20 | D23: 30 | E23: 85
B24: KERMI SUCHÝ PRO lambda= 0,28
B25: kermi suchý, deska 12mm | C25: 14 | D25: 20 | E25: 60
C26: 14 | D26: 25 | E26: 75
C27: 14 | D27: 30 | E27: 90
C28: 14 | D28: 35 | E28: 105
C29: 14 | D29: 40 | E29: 120
B34: rehau mokrý | C34: rehau | D34: 5
C35: rehau | D35: 10
C36: rehau | D36: 15
C37: rehau | D37: 20
C38: rehau | D38: 25
C39: rehau | D39: 30
C40: rehau | D40: 35
C41: rehau | D41: 40
B51: přepočet najednotné lamba 0,99
G57: wall heating and cooling pdf
G58: academia
G59: orůzkum udělat

Sheet REhau
A2: Rehau
A7: REHAU MOKRÝ SYSTÉM s lambda=0,35 W/mK | T7: Rehau suchý | W7: 90 | X7: 116.956
W8: výkon
H9: 20 | T9: 45 | U9: 3 | V9: 13.071 | W9: =V9*$W$7/$X$7 -> 10.058398
A10: rehau mokrý | C10: rozteč | D10: střední tepl | E10: měřeno | F10: výkon | T10: 45 | U10: 6 | V10: 30.796 | W10: =V10*$W$7/$X$7 -> 23.698143
C11: 5 | D11: 5 | E11: 14.99 | F11: =E11/80*120 -> 22.485 | T11: 45 | U11: 9 | V11: 48.683 | W11: =V11*$W$7/$X$7 -> 37.46255
C12: 5 | D12: 10 | E12: 30.36 | F12: =E12/80*120 -> 45.54 | T12: 45 | U12: 12 | V12: 68.57 | W12: =V12*$W$7/$X$7 -> 52.765997
C13: 5 | D13: 15 | E13: 46.87 | F13: =E13/80*120 -> 70.305 | T13: 45 | U13: 15 | V13: 88.816 | W13: =V13*$W$7/$X$7 -> 68.345703
C14: 5 | D14: 20 | E14: 61.17 | F14: =E14/80*120 -> 91.755 | T14: 45 | U14: 18 | V14: 109.464 | W14: =V14*$W$7/$X$7 -> 84.234755
C15: 5 | D15: 25 | E15: 76.4 | F15: =E15/80*120 -> 114.6 | T15: 45 | U15: 21 | V15: 129.676 | W15: =V15*$W$7/$X$7 -> 99.788296
C16: 5 | D16: 30 | E16: 91.8 | F16: =E16/80*120 -> 137.7
C17: 5 | D17: 35 | E17: 107.42 | F17: =E17/80*120 -> 161.13
C18: 5 | D18: 40 | E18: 122.56 | F18: =E18/80*120 -> 183.84
C19: 7.5 | D19: 5 | E19: 13.9 | F19: =E19/80*120 -> 20.85
C20: 7.5 | D20: 10 | E20: 28.3 | F20: =E20/80*120 -> 42.45
C21: 7.5 | D21: 15 | E21: 42.6 | F21: =E21/80*120 -> 63.9
C22: 7.5 | D22: 20 | E22: 56.96 | F22: =E22/80*120 -> 85.44
C23: 7.5 | D23: 25 | E23: 71.1 | F23: =E23/80*120 -> 106.65
C24: 7.5 | D24: 30 | E24: 85.6 | F24: =E24/80*120 -> 128.4
C25: 7.5 | D25: 35 | E25: 99.58 | F25: =E25/80*120 -> 149.37 | U25: 120 | V25: 81.249 | W25: =U25/V25 -> 1.4769413 | Y25: 80.533 | Z25: =U25/Y25 -> 1.4900724
C26: 7.5 | D26: 40 | E26: 114.25 | F26: =E26/80*120 -> 171.375
C27: 10 | D27: 5 | E27: 13.26 | F27: =E27/80*120 -> 19.89 | S27: 0,5 W/mK | T27: 5 | U27: 5 | V27: 14.918 | W27: =V27*Z25 -> 22.2289
C28: 10 | D28: 10 | E28: 26.05 | F28: =E28/80*120 -> 39.075 | T28: 5 | U28: 40 | V28: 130.54 | W28: =V28*W25 -> 192.79991
C29: 10 | D29: 15 | E29: 40.1 | F29: =E29/80*120 -> 60.15 | T29: 7.5 | U29: 5
C30: 10 | D30: 20 | E30: 52.6 | F30: =E30/80*120 -> 78.9 | T30: 7.5 | U30: 40
C31: 10 | D31: 25 | E31: 65.97 | F31: =E31/80*120 -> 98.955 | T31: 10 | U31: 5
C32: 10 | D32: 30 | E32: 79.26 | F32: =E32/80*120 -> 118.89 | T32: 10 | U32: 40
C33: 10 | D33: 35 | E33: 92.6 | F33: =E33/80*120 -> 138.9 | T33: 15 | U33: 5
C34: 10 | D34: 40 | E34: 105.3 | F34: =E34/80*120 -> 157.95 | T34: 15 | U34: 40
C35: 15 | D35: 5 | E35: 11.1 | F35: =E35/80*120 -> 16.65 | T35: 20 | U35: 5 | V35: 9.015 | W35: =V35*Z25 -> 13.433003
C36: 15 | D36: 10 | E36: 22.67 | F36: =E36/80*120 -> 34.005 | T36: 20 | U36: 40 | V36: 97.015 | W36: =W25*V36 -> 143.28546
C37: 15 | D37: 15 | E37: 34.4 | F37: =E37/80*120 -> 51.6
C38: 15 | D38: 20 | E38: 45.2 | F38: =E38/80*120 -> 67.8 | T38: 5 | U38: 5
C39: 15 | D39: 25 | E39: 56.6 | F39: =E39/80*120 -> 84.9 | T39: 5 | U39: 40
C40: 15 | D40: 30 | E40: 68.3 | F40: =E40/80*120 -> 102.45 | T40: 7.5 | U40: 5
C41: 15 | D41: 35 | E41: 80.2 | F41: =E41/80*120 -> 120.3 | T41: 7.5 | U41: 40
C42: 15 | D42: 40 | E42: 91.8 | F42: =E42/80*120 -> 137.7 | T42: 10 | U42: 5
C43: 20 | D43: 5 | E43: 9.65 | F43: =E43/80*120 -> 14.475 | T43: 10 | U43: 40
C44: 20 | D44: 10 | E44: 29 | F44: 29 | T44: 15 | U44: 5
C45: 20 | D45: 15 | E45: 43.48 | F45: 43.48 | T45: 15 | U45: 40
C46: 20 | D46: 20 | E46: 58.3 | F46: 58.3 | T46: 20 | U46: 5
C47: 20 | D47: 25 | E47: 73.65 | F47: 73.65 | T47: 20 | U47: 40
C48: 20 | D48: 30 | E48: 87.57 | F48: 87.57
C49: 20 | D49: 35 | E49: 102.45 | F49: 102.45 | T49: 5 | U49: 5
C50: 20 | D50: 40 | E50: 117.7 | F50: 117.7 | T50: 5 | U50: 40
T51: 7.5 | U51: 5
C52: Rehau mokrý lambda= 0,45 | T52: 7.5 | U52: 40
F53: =120/80.3 -> 1.494396 | T53: 10 | U53: 5
C54: rozteč | D54: střední tepl | F54: výkon | T54: 10 | U54: 40
C55: 5 | D55: 5 | E55: 17.027 | F55: =$F$53*E55 -> 25.445081 | T55: 15 | U55: 5
C56: 5 | D56: 10 | E56: 34.84 | F56: =$F$53*E56 -> 52.064757 | T56: 15 | U56: 40
C57: 5 | D57: 15 | E57: 51.948 | F57: =$F$53*E57 -> 77.630884 | T57: 20 | U57: 5
C58: 5 | D58: 20 | E58: 69.249 | F58: =$F$53*E58 -> 103.48543 | T58: 20 | U58: 40
C59: 5 | D59: 25 | E59: 86.65 | F59: =$F$53*E59 -> 129.48941
C60: 5 | D60: 30 | E60: 103.851 | F60: =$F$53*E60 -> 155.19452 | T60: 5 | U60: 5
C61: 5 | D61: 35 | E61: 121.346 | F61: =$F$53*E61 -> 181.33898 | T61: 5 | U61: 40
C62: 5 | D62: 40 | F62: =$F$53*E62 -> 0 | T62: 7.5 | U62: 5
C63: 7.5 | D63: 5 | E63: 15.914 | F63: =$F$53*E63 -> 23.781818 | T63: 7.5 | U63: 40
C64: 7.5 | D64: 10 | E64: 32.398 | F64: =$F$53*E64 -> 48.415442 | T64: 10 | U64: 5
C65: 7.5 | D65: 15 | E65: 48.583 | F65: =$F$53*E65 -> 72.602242 | T65: 10 | U65: 40
C66: 7.5 | D66: 20 | E66: 64.578 | F66: =$F$53*E66 -> 96.505106 | T66: 15 | U66: 5
C67: 7.5 | D67: 25 | E67: 80.699 | F67: =$F$53*E67 -> 120.59626 | T67: 15 | U67: 40
C68: 7.5 | D68: 30 | E68: 97.29 | F68: =$F$53*E68 -> 145.38979 | T68: 20 | U68: 5
C69: 7.5 | D69: 35 | E69: 113.029 | F69: =$F$53*E69 -> 168.91009 | T69: 20 | U69: 40
C70: 7.5 | D70: 40 | E70: 129.215 | F70: =$F$53*E70 -> 193.09838
C71: 10 | D71: 5 | E71: 14.08 | F71: =$F$53*E71 -> 21.041096
C72: 10 | D72: 10 | E72: 30.087 | F72: =$F$53*E72 -> 44.961893
C73: 10 | D73: 15 | E73: 44.413 | F73: =$F$53*E73 -> 66.37061
C74: 10 | D74: 20 | E74: 60.019 | F74: =$F$53*E74 -> 89.692154
C75: 10 | D75: 25 | E75: 74.984 | F75: =$F$53*E75 -> 112.05579
C76: 10 | D76: 30 | E76: 90.291 | F76: =$F$53*E76 -> 134.93051
C77: 10 | D77: 35 | E77: 105.144 | F77: =$F$53*E77 -> 157.12677
C78: 10 | D78: 40 | E78: 120.252 | F78: =$F$53*E78 -> 179.70411
C79: 15 | D79: 5 | E79: 12.869 | F79: =$F$53*E79 -> 19.231382
C80: 15 | D80: 10 | E80: 26.178 | F80: =$F$53*E80 -> 39.120299
C81: 15 | D81: 15 | E81: 39.256 | F81: =$F$53*E81 -> 58.66401
... C94: 20 | D94: 40 | E94: 89.26 | F94: =$F$53*E94 -> 133.38979
F97: =120/81.249 -> 1.4769413
C98: rozteč | D98: střední tepl | E98: měřeno | F98: výkon
C99: 5 | D99: 5 | E99: 18.259 | F99: =E99*$F$97 -> 26.96747
C100: 5 | D100: 10 | E100: 36.48 | F100: =E100*$F$97 -> 53.878817
C101: 5 | D101: 15 | E101: 55.144 | F101: =E101*$F$97 -> 81.444449
C102: 5 | D102: 20 | E102: 73.512 | F102: =E102*$F$97 -> 108.57291
C103: 5 | D103: 25 | E103: 91.599 | F103: =E103*$F$97 -> 135.28634
C104: 5 | D104: 30 | E104: 110.053 | F104: =E104*$F$97 -> 162.54182
C105: 5 | D105: 35 | E105: 128.248 | F105: =E105*$F$97 -> 189.41476
C106: 5 | D106: 40 | F106: =E106*$F$97 -> 0
C107: 7.5 | D107: 5 | E107: 17.346 | F107: =E107*$F$97 -> 25.619023
C108: 7.5 | D108: 10 | E108: 34.594 | F108: =E108*$F$97 -> 51.093306
C109: 7.5 | D109: 15 | E109: 51.51 | F109: =E109*$F$97 -> 76.077244
C110: 7.5 | D110: 20 | E110: 68.689 | F110: =E110*$F$97 -> 101.44962
C111: 7.5 | D111: 25 | E111: 85.707 | F111: =E111*$F$97 -> 126.5842
C112: 7.5 | D112: 30 | E112: 102.806 | F112: =E112*$F$97 -> 151.83842
C113: 7.5 | D113: 35 | E113: 119.958 | F113: =E113*$F$97 -> 177.17092
C114: 7.5 | D114: 40 | F114: =E114*$F$97 -> 0
C115: 10 | D115: 5 | E115: 15.797 | F115: =E115*$F$97 -> 23.331241
C116: 10 | D116: 10 | E116: 31.987 | F116: =E116*$F$97 -> 47.24292
C117: 10 | D117: 15 | E117: 47.983 | F117: =E117*$F$97 -> 70.868072
C118: 10 | D118: 20 | E118: 63.985 | F118: =E118*$F$97 -> 94.502086
C119: 10 | D119: 25 | E119: 79.987 | F119: =E119*$F$97 -> 118.1361
...

Sheet Tloušťka systemu
A1: systém | B1: 20 | C1: 21 | D1: 22 | E1: 23 | F1: 24 | G1: 25 | H1: 26 | I1: 27 | J1: 28 | K1: 29 | L1: 30 | M1: 31 | N1: 32 | O1: 33 | P1: 34 | Q1: 35 | R1: 36 | S1: 37 | T1: 38 | U1: 39 | V1: 40 | W1: 41 | X1: 42 | Y1: 43 | Z1: 44 | AA1: 45 | AB1: 46
A2: Kermi | O2: I
A3: Rehau | E3: I | J3: I | O3: I | T3: I | Y3: I
A4: Ivartrio | L4: I | Q4: I
A5: Univenta | B5: I | L5: I
A6: Roth werke | E6: I | J6: I | K6: I | P6: I
A7: QuickTherm | L7: I
A8: Rossato | O8: I
A9: Upnor | E9: I
A10: Baudochselbst | Q10: I | V10: I

Sheet Srovnání
A2: Mokrý systém
A3: Kermi | B3: 15 | C3: =Kermi!$E$20 -> 25
B4: 30 | C4: =Kermi!$E$23 -> 85
B5: 30 | C5: =Kermi!$E$19 -> 145
B6: 15 | C6: =Kermi!$E$16 -> 70
B7: 15 | C7: =C3 -> 25
A9: Rehau | B9: 5 | C9: =REhau!W35 -> 13.433003
B10: 40 | C10: =REhau!W36 -> 143.28546
B11: =B10 -> 40 | C11: =REhau!W28 -> 192.79991
B12: =B9 -> 5 | C12: =REhau!W27 -> 22.2289
B13: =B9 -> 5 | C13: =C9 -> 13.433003
A15: Baudochselbst | B15: 10 | C15: =Baudochselbst!$E$18 -> 37
B16: 30 | C16: =Baudochselbst!$E$22 -> 112 | AC16: =B35 -> 2 | AD16: =C35 -> 8.6189589
B17: 30 | C17: =Baudochselbst!$E$7 -> 165 | AC17: =B3 -> 15 | AD17: =C3 -> 25
B18: 10 | C18: =Baudochselbst!$E$3 -> 55 | AC18: =B22 -> 35 | AD18: =C22 -> 64.63
B19: =B15 -> 10 | C19: =C15 -> 37 | AC19: =B54 -> 30 | AD19: =C54 -> 148.93172
AC20: =B48 -> 45 | AD20: =C48 -> 249.102
A21: Roth Werke | B21: 15 | C21: ='Roth Werke'!$E$52 -> 27.7 | AC21: =B49 -> 45 | AD21: =C49 -> 285.0795
B22: 35 | C22: ='Roth Werke'!$E$56 -> 64.63 | AC22: =B43 -> 40 | AD22: =C43 -> 211.7
B23: 35 | C23: ='Roth Werke'!$E$31 -> 210.58 | AC23: =B31 -> 35 | AD23: =C31 -> 223
B24: 15 | C24: ='Roth Werke'!$E$27 -> 90.25 | AC24: =B38 -> 2 | AD24: =C38 -> 10.507397
B25: =B21 -> 15 | C25: =C21 -> 27.7 | AC25: =AC16 -> 2 | AD25: =AD16 -> 8.6189589
A27: Ivartrio | B27: 10 | C27: =Ivartrio!$D$45 -> 24
B28: 25 | C28: =Ivartrio!$D$48 -> 64 | AA28: Teplotní spády
B29: 25 | C29: =Ivartrio!$D$26 -> 92
B30: 35 | C30: =Ivartrio!$D$28 -> 130
B31: 35 | C31: =Ivartrio!$D$10 -> 223 | AA31: 15 | AB31: 0
B32: 10 | C32: =Ivartrio!$D$5 -> 58 | AA32: 15 | AB32: 300
B33: =B27 -> 10 | C33: =C27 -> 24
AA34: 20 | AB34: 0
A35: Univenta | B35: 2 | C35: =Univenta!$E$9 -> 8.6189589 | AA35: 20 | AB35: 300
B36: 18 | C36: =Univenta!$E$17 -> 86.305315
B37: 18 | C37: =Univenta!$E$47 -> 105.8446 | AA37: 25 | AB37: 0
B38: 2 | C38: =Univenta!$E$39 -> 10.507397 | AA38: 25 | AB38: 300
B39: =B35 -> 2 | C39: =C35 -> 8.6189589
A41: QuickTherm | B41: 10 | C41: =QuickTherm!$D$30 -> 37.2
B42: 40 | C42: =QuickTherm!$D$36 -> 151.8
B43: 40 | C43: =QuickTherm!$D$45 -> 211.7
B44: 10 | C44: =QuickTherm!$D$39 -> 51.9
B45: =B41 -> 10 | C45: =C41 -> 37.2
A47: Rossato | B47: 5 | C47: =Rossato!F20 -> 27.678
B48: 45 | C48: =Rossato!F28 -> 249.102
B49: 45 | C49: =Rossato!F15 -> 285.0795
B50: 5 | C50: =Rossato!F7 -> 31.6755
B51: =B47 -> 5 | C51: =Rossato!F20 -> 27.678
A53: Uponor | B53: 4 | C53: =Uponor!D56 -> 19.528552
B54: =Uponor!B63 -> 30 | C54: =Uponor!D63 -> 148.93172
B55: =Uponor!B63 -> 30 | C55: =Uponor!D43 -> 176.34735
B56: 4 | C56: =Uponor!D36 -> 23.321631
B57: =B53 -> 4 | C57: =C53 -> 19.528552
A65: Suchý systém
A66: Kermi | B66: 20 | C66: =Kermi!R15 -> 45
B67: 40 | C67: =Kermi!R19 -> 95
B68: 40 | C68: =Kermi!R12 -> 120
B69: 20 | C69: =Kermi!R8 -> 60
B70: 20 | C70: =C66 -> 45
A72: Rehau | B72: 3 | C72: =REhau!W9 -> 10.058398
B73: 21 | C73: =REhau!W15 -> 99.788296
A78: Univenta | B78: 2 | C78: =Univenta!Y49 -> 7.9753086 | E78: 2 | F78: =C78 -> 7.9753086
B79: 18 | C79: =Univenta!Y57 -> 91.561728 | E79: 18 | F79: =C79 -> 91.561728
B80: 18 | C80: =Univenta!Y86 -> 101.18056 | E80: 16 | F80: =Univenta!Y76 -> 93.74537
B81: 16 | C81: =Univenta!Y86 -> 101.18056 | E81: 16 | F81: =Univenta!Y86 -> 101.18056
B82: 2 | C82: =Univenta!Y79 -> 10.45216 | E82: 2 | F82: =Univenta!Y79 -> 10.45216
B83: =B78 -> 2 | C83: =C78 -> 7.9753086 | E83: 2 | F83: =F78 -> 7.9753086
A85: RothWerke | B85: 15 | C85: ='Roth Werke'!S33 -> 53
B86: 30 | C86: ='Roth Werke'!S36 -> 106
B87: 30 | C87: ='Roth Werke'!S12 -> 176
B88: 15 | C88: ='Roth Werke'!S9 -> 88
B89: =B85 -> 15 | C89: =C85 -> 53
A91: QuickTherm | B91: 10 | C91: =QuickTherm!$Q$15 -> 34.7
B92: 40 | C92: =QuickTherm!$Q$21 -> 141.8
B93: 40 | C93: =QuickTherm!$Q$14 -> 186.2
B94: 10 | C94: =QuickTherm!$Q$8 -> 45.6
B95: 10 | C95: =C91 -> 34.7
A97: Uponor | B97: =Uponor!$U$36 -> 15 | C97: =Uponor!$W$36 -> 62.355179 | G97: =B78 -> 2 | H97: =C78 -> 7.9753086
B98: =Uponor!$U$39 -> 30 | C98: =Uponor!$W$39 -> 125.14736 | G98: =B91 -> 10 | H98: =C91 -> 34.7
G99: =B66 -> 20 | H99: =C66 -> 45
G100: =B67 -> 40 | H100: =C67 -> 95
G101: =B93 -> 40 | H101: =C93 -> 186.2
G102: =B87 -> 30 | H102: =C87 -> 176
G103: =B82 -> 2 | H103: =C82 -> 10.45216
G104: =G97 -> 2 | H104: =H97 -> 7.9753086

Sheet Fixační síť

Sheet Trubky
B22: 15 | C22: =Uponor!$D$60 -> 74.534642
B23: 30 | C23: =Uponor!$D$63 -> 148.93172
B24: 30 | C24: =Uponor!$D$43 -> 176.34735
B25: 15 | C25: =Uponor!$D$40 -> 88.299778
B26: 15 | C26: =Uponor!$D$60 -> 74.534642

Sheet Izolace_mokry

Sheet Kovová lamela

Sheet Izolace_vzduchová mezera

Sheet použité značení
A1: c | B1: alfa | C1: e | D1: emisivita | E1: [-]
A2: e | B2: alfak | C2: f | D2: frekvence | E2: [Hz]
A3: f | B3: alfakg | C3: h | D3: výška místnosti | E3: [m]
A4: h | B4: alfas | C4: l | D4: rozteč topného potrubí | E4: [mm]
A5: kc | B5: alfasg | D5: měrný tepelný výkon absolutně černého tělesa | E5: [W/m2]
A6: l | B6: lambda | D6: celkový tepelný výkon otopného tělesava | E6: [W]
A7: q0 | B7: varphi | D7: sálavý tepelný tok | E7: [W]
A8: Qc | B8: varphi12 | C8: s | D8: tloušťka omítka | E8: [mm]
A9: Qs | D9: povrch i-té plochy | E9: [m2]
A10: s | D10: plocha otopného tělesa | E10: [m2]
A11: Si | D11: teplota vzduchu ve vztažném bodě | E11: [°C]
A12: SL | D12: venkovní teplota | E12: [°C]
A13: tD | D13: venkovní geometrická teplota | E13: [°C]
A14: te | D14: výsledná teplota kulového teploměru | E14: [°C]
A15: tegem | D15: vnitřní výpočtová teplota vzduchu | E15: [°C]
A16: tg | D16: termodynamická teplota vzduchu | E16: [°C]
A17: ti | D17: operativní teplota | E17: [°C]
A18: ti | D18: střední radiační teplota | E18: [°C]
A19: Ti | D19: teplota výstupní kotlové vody | E19: [°C]
A20: to | D20: teplota přívodní vody otopné soustavy | E20: [°C]
... A24: tw2 | D24: zátěž kotle | E24: [-]
A25: twm
A26: w
A27: z
