Workbook

Sheet Mini SWASH II - Náklady
F1: Kurz CZK/EUR (17.3.2017) | G1: 27.02
A2: Technicko - ekonomické údaje Mini SWASH II | E2: Převod na Kč | H2: Vyčíslení nákladů na jeden mycí cyklus v roce 2016
A3: Aktuální ceny ( náklady) | B3: Mycí zařízení | C3: 25700 | D3: € | E3: =$G$1*C3 -> 694414 | H3: Položka | I3: Podíl | J3: Cena v EUR | K3: Cena v CZK
B4: Elektřina | C4: 0.15 | D4: €/kWh | E4: =$G$1*C4 -> 4.053 | H4: Odpis | I4: =(J4/$J$16) -> 0.10059672 | J4: =(C3/C11)/(C14*5) -> 2.056 | K4: =J4*$G$1 -> 55.55312
B5: Stlačený vzduch | C5: 0.01 | D5: €/m3 | E5: =$G$1*C5 -> 0.2702 | H5: Elektrická energie | I5: =(J5/$J$16) -> 0.0055044412 | J5: =C19*C4*C26 -> 0.1125 | K5: =J5*$G$1 -> 3.03975
B6: Mycí prostředek VIGION A 201 (25%) | C6: 4.42 | D6: €/l | H6: Stlačený vzduch | I6: =(J6/$J$16) -> 2.2017765e-05 | J6: =(C19*60)*C27*(C5/1000) -> 0.00045 | K6: =J6*$G$1 -> 0.012159
B7: Likvidace mycího prostředku | C7: 0.5 | D7: €/l | H7: Mycí prostředek | I7: =(J7/$J$16) -> 0.064879013 | J7: =C20*C6 -> 1.326 | K7: =J7*$G$1 -> 35.82852
B8: Kohoutková voda - vodné | C8: 3 | D8: €/m3 | E8: =$G$1*C8 -> 81.06 | H8: Výměna mycího prostředku | I8: =(J8/$J$16) -> 0.032179991 | J8: =(C21*C22*C6)/(C14*C16) -> 0.657696 | K8: =J8*$G$1 -> 17.770946
B9: Odpadní voda - stočné | C9: 0.5 | D9: €/l | E9: =$G$1*C9 -> 13.51 | H9: Likvidace mycího prostředku | I9: =(J9/$J$16) -> 0.0036402704 | J9: =(C21*C22*C7)/(C14*5) -> 0.0744 | K9: =J9*$G$1 -> 2.010288
B10: Mzda (1 zaměstnanec obsluhující zařízení) | C10: 8 | D10: €/hod. | E10: =$G$1*C10 -> 216.16 | H10: Kohoutková voda | I10: =(J10/$J$16) -> 2.935702e-05 | J10: =C23*(C8/1000) -> 0.0006 | K10: =J10*$G$1 -> 0.016212
A11: Obsluha (činnost) zařízení | B11: Doba odepisování | C11: 10 | D11: rok | H11: Výměna kohoutkové vody | I11: =(J11/$J$16) -> 1.9375633e-05 | J11: =(C24*C25*(C8/1000))/(C14*C16) -> 0.000396 | K11: =J11*$G$1 -> 0.01069992
B12: Délka pracovní doby | C12: 8 | D12: hod. | H12: Likvidace kohoutkové vody | I12: =(J12/$J$16) -> 0.0032292722 | J12: =(C25*C24*C9)/(C14*C16) -> 0.066 | K12: =J12*$G$1 -> 1.78332
B13: Počet přestavek za den | C13: 1 | D13: denně | H13: Mzdové náklady | I13: =(J13/$J$16) -> 0.62628309 | J13: =(C10*C12)/('Mini SWASH II - Kalkulace P1'!D13/C14) -> 12.8 | K13: =J13*$G$1 -> 345.856
B14: Počet pracovních dnů | C14: 250 | D14: ročně | H14: Spotřební materiál | I14: =(J14/$J$16) -> 0.13621657 | J14: =C28/(C16*C14/12) -> 2.784 | K14: =J14*$G$1 -> 75.22368
B15: Doba trvání obsluhy (1 cyklus) | C15: 2 | D15: min | H15: Revize a servis zařízení | I15: =(J15/$J$16) -> 0.027399885 | J15: =C29/(C14*C16) -> 0.56 | K15: =J15*$G$1 -> 15.1312
B16: Počet cyklů mezi přestávkami | C16: 5 | D16: cyklů | H16: Celkové náklady na 1 cyklus | I16: =SUM(I4:I15) -> 1 | J16: =SUM(J4:J15) -> 20.438042 | K16: =J16*$G$1 -> 552.23589
A17: Technické údaje o zařízení | B17: Kapacita zařízení (max. 1,3 cyklu/hod.) | C17: 0.6 | D17: cykl/hod.
B18: Počet rámů v zářízení | C18: 1 | D18: rám/cykl
B19: Běžná doba trvání jednoho cyklu | C19: 0.75 | D19: hod.
B20: Spotřeba mycího prostředku | C20: 0.3 | D20: l/cykl
B21: Množství mycího prosředku | C21: 62 | D21: l
B22: Výměna mycího prostředku za rok | C22: 3
B23: Spotřeba kohoutkové vody | C23: 0.2 | D23: l/cykl
B24: Množství vody | C24: 33 | D24: l
B25: Výměna vody za rok | C25: 5
B26: Průměrný příkon (mytí, oplach, sušení) | C26: 1 | D26: kW
B27: Spotřeba stlačeného vzduchu | C27: 1 | D27: l/min
B28: Spotřební materiál | C28: 290 | D28: €/měsíc
B29: Revize a servis mycího zařízení | C29: 700 | D29: €/rok | E29: =C29*G1 -> 18914

Sheet Mini SWASH II - Kalkulace P1
B1: Předpokládaná inflace | C1: 0.022 | E1: Předpokládaný růst mezd | G1: 0.03 | I1: Předpokládaný meziroční nárůst mycích cyklů do 2021 | M1: 0.18
B3: Rok | C3: 2015 | D3: 2016 | E3: 2017 | F3: 2018 | G3: 2019 | H3: 2020 | I3: 2021 | J3: 2022 | K3: 2023 | L3: 2024 | M3: 2025
C4: 0 | D4: 1 | E4: 2 | F4: 3 | G4: 4 | H4: 5 | I4: 6 | J4: 7 | K4: 8 | L4: 9 | M4: 10
B5: Vývoj kurzu (CZK/EUR) | C5: - | D5: ='Mini SWASH II - Náklady'!G1 -> 27.02 | E5: =D5 -> 27.02 | F5: 26 | G5: 26 | H5: 26.5 | I5: 26.5 | J5: 26.5 | K5: 26.5 | L5: 26 | M5: 26
B6: Předopkládaný meziroční nárůst jednotlivých nákladových položek v závislosti na změně inflace, průměrné mzdy a kurzu CZK/EUR
B7: Růst mzdy / hod. | C7: - | D7: ='Mini SWASH II - Náklady'!K13 -> 345.856 | E7: =D7+D7*'Mini SWASH II - Kalkulace P1'!$G$1 -> 356.23168 | F7: =E7+E7*'Mini SWASH II - Kalkulace P1'!$G$1 -> 366.91863 | G7: =F7+F7*'Mini SWASH II - Kalkulace P1'!$G$1 -> 377.92619 | H7: =G7+G7*'Mini SWASH II - Kalkulace P1'!$G$1 -> 389.26397 | I7: =H7+H7*'Mini SWASH II - Kalkulace P1'!$G$1 -> 400.94189 | J7: =I7+I7*'Mini SWASH II - Kalkulace P1'!$G$1 -> 412.97015 | K7: =J7+J7*'Mini SWASH II - Kalkulace P1'!$G$1 -> 425.35926 | L7: =K7+K7*'Mini SWASH II - Kalkulace P1'!$G$1 -> 438.12003 | M7: =L7+L7*'Mini SWASH II - Kalkulace P1'!$G$1 -> 451.26363
B8: Mycí prostředek / cyklus | C8: - | D8: ='Mini SWASH II - Náklady'!J7+'Mini SWASH II - Náklady'!J8 -> 1.983696 | E8: =D8+(D8*'Mini SWASH II - Kalkulace P1'!$C$1) -> 2.0273373 | F8: =E8+(E8*'Mini SWASH II - Kalkulace P1'!$C$1) -> 2.0719387 | G8: =F8+(F8*'Mini SWASH II - Kalkulace P1'!$C$1) -> 2.1175214 | H8: =G8+(G8*'Mini SWASH II - Kalkulace P1'!$C$1) -> 2.1641069 | I8: =H8+(H8*'Mini SWASH II - Kalkulace P1'!$C$1) -> 2.2117172 | J8: =I8+(I8*'Mini SWASH II - Kalkulace P1'!$C$1) -> 2.260375 | K8: =J8+(J8*'Mini SWASH II - Kalkulace P1'!$C$1) -> 2.3101032 | L8: =K8+(K8*'Mini SWASH II - Kalkulace P1'!$C$1) -> 2.3609255 | M8: =L8+(L8*'Mini SWASH II - Kalkulace P1'!$C$1) -> 2.4128659 | P8: 557 | Q8: 0
B9: Spotřební materiál / cyklus | C9: - | D9: ='Mini SWASH II - Náklady'!J14 -> 2.784 | E9: =D9+(D9*'Mini SWASH II - Kalkulace P1'!$C$1) -> 2.845248 | F9: =E9+(E9*'Mini SWASH II - Kalkulace P1'!$C$1) -> 2.9078435 | G9: =F9+(F9*'Mini SWASH II - Kalkulace P1'!$C$1) -> 2.971816 | H9: =G9+(G9*'Mini SWASH II - Kalkulace P1'!$C$1) -> 3.037196 | I9: =H9+(H9*'Mini SWASH II - Kalkulace P1'!$C$1) -> 3.1040143 | J9: =I9+(I9*'Mini SWASH II - Kalkulace P1'!$C$1) -> 3.1723026 | K9: =J9+(J9*'Mini SWASH II - Kalkulace P1'!$C$1) -> 3.2420932 | L9: =K9+(K9*'Mini SWASH II - Kalkulace P1'!$C$1) -> 3.3134193 | M9: =L9+(L9*'Mini SWASH II - Kalkulace P1'!$C$1) -> 3.3863145 | P9: 609 | Q9: 684.70438
B10: Revize a servis / rok | C10: - | D10: ='Mini SWASH II - Náklady'!E29 -> 18914 | E10: =D10+D10*$C$1 -> 19330.108 | F10: =E10+E10*$C$1 -> 19755.37 | G10: =F10+F10*$C$1 -> 20189.989 | H10: =G10+G10*$C$1 -> 20634.168 | I10: =H10+H10*$C$1 -> 21088.12 | J10: =I10+I10*$C$1 -> 21552.059 | K10: =J10+J10*$C$1 -> 22026.204 | L10: =K10+K10*$C$1 -> 22510.78 | M10: =L10+L10*$C$1 -> 23006.018
B12: Cena za jeden mycí cyklus | C12: - | D12: 609.42244 | E12: 609.2 | F12: 609.2 | G12: 609.2 | H12: 609.2 | I12: 609.2 | J12: 609.2 | K12: 609.2 | L12: 609.2 | M12: 609.2 | R12: Meziroční růst | S12: Cena za cykus | U12: Výnosy v závislosti na počtu mycích cyklů v jednotlivých letech | AE12: Požadovaný výsledek hospodaření
B13: Předpokládaný počet cyklů | C13: - | D13: 1250 | E13: =D13+D13*$M$1 -> 1475 | F13: =E13+E13*$M$1 -> 1740.5 | G13: =F13+F13*$M$1 -> 2053.79 | H13: =G13+G13*$M$1 -> 2423.4722 | I13: =H13+H13*$M$1 -> 2859.6972 | J13: =I13 -> 2859.6972 | K13: =J13 -> 2859.6972 | L13: =K13 -> 2859.6972 | M13: =L13 -> 2859.6972 | R13: 0.18 | S13: 609.2 | T13: Počet cyklů | U13: 1250 | V13: 1475 | W13: 1740.5 | X13: 2053.79 | Y13: 2423.4722 | Z13: 2859.6972 | AA13: 2859.6972 | AB13: 2859.6972 | AC13: 2859.6972 | AD13: 2859.6972
T14: Roční výnosy | U14: =$S$13*U13 -> 761500 | V14: =$S$13*V13 -> 898570 | W14: =$S$13*W13 -> 1060312.6 | X14: =$S$13*X13 -> 1251168.9 | Y14: =$S$13*Y13 -> 1476379.3 | Z14: =$S$13*Z13 -> 1742127.5 | AA14: =$S$13*AA13 -> 1742127.5 | AB14: =$S$13*AB13 -> 1742127.5 | ... AD14: =$S$13*AD13 -> 1742127.5
B15: Celkové provozní výnosy | C15: - | D15: =D13*$D$12 -> 761778.05 | E15: =E13*$D$12 -> 898898.1 | F15: =F13*$D$12 -> 1060699.8 | G15: =G13*$D$12 -> 1251625.7 | H15: =H13*$D$12 -> 1476918.3 | I15: =I13*$D$12 -> 1742763.6 | J15: =J13*$D$12 -> 1742763.6 | K15: =K13*$D$12 -> 1742763.6 | ... M15: =M13*$D$12 -> 1742763.6 | T15: Roční náklady | U15: =D26 -> 949426.09 | V15: =E26 -> 1008737.9 | W15: =F26 -> 1063538.4 | X15: =G26 -> 1134567.2 | Y15: =H26 -> 1222505.4 | Z15: =I26 -> 1318102.3 | AA15: =J26 -> 1351568.6 | AB15: =K26 -> 1385963.7 | ... AD15: =M26 -> 1449353.6 | AE15: =SUM(U14:AD14)-SUM(U15:AD15) -> 1861604.9
R16: 0.15 | S16: 648.11241 | T16: Počet cyklů | U16: 1250 | V16: =U16+U16*$R$16 -> 1437.5 | W16: =V16+V16*$R$16 -> 1653.125 | X16: =W16+W16*$R$16 -> 1901.0938 | Y16: =X16+X16*$R$16 -> 2186.2578 | Z16: =Y16+Y16*$R$16 -> 2514.1965 | AA16: =Z16 -> 2514.1965 | AB16: =AA16 -> 2514.1965 | AC16: =AB16 -> 2514.1965 | AD16: =AC16 -> 2514.1965
B17: Energie | C17: - | D17: =('Mini SWASH II - Náklady'!$K$5+'Mini SWASH II - Náklady'!$K$6+'Mini SWASH II - Náklady'!$K$10+'Mini SWASH II - Náklady'!$K$11)*D13 -> 3848.5261 | E17: =('Mini SWASH II - Náklady'!$K$5+'Mini SWASH II - Náklady'!$K$6+'Mini SWASH II - Náklady'!$K$10+'Mini SWASH II - Náklady'!$K$11)*E13 -> 4541.2609 | F17: =('Mini SWASH II - Náklady'!$K$5+'Mini SWASH II - Náklady'!$K$6+'Mini SWASH II - Náklady'!$K$10+'Mini SWASH II - Náklady'!$K$11)*F13 -> 5358.6878 | G17: =('Mini SWASH II - Náklady'!$K$5+'Mini SWASH II - Náklady'!$K$6+'Mini SWASH II - Náklady'!$K$10+'Mini SWASH II - Náklady'!$K$11)*G13 -> 6323.2516 | H17: =('Mini SWASH II - Náklady'!$K$5+'Mini SWASH II - Náklady'!$K$6+'Mini SWASH II - Náklady'!$K$10+'Mini SWASH II - Náklady'!$K$11)*H13 -> 7461.4369 | I17: =('Mini SWASH II - Náklady'!$K$5+'Mini SWASH II - Náklady'!$K$6+'Mini SWASH II - Náklady'!$K$10+'Mini SWASH II - Náklady'!$K$11)*I13 -> 8804.4956 | J17: =('Mini SWASH II - Náklady'!$K$5+'Mini SWASH II - Náklady'!$K$6+'Mini SWASH II - Náklady'!$K$10+'Mini SWASH II - Náklady'!$K$11)*J13 -> 8804.4956 | K17: =('Mini SWASH II - Náklady'!$K$5+'Mini SWASH II - Náklady'!$K$6+'Mini SWASH II - Náklady'!$K$10+'Mini SWASH II - Náklady'!$K$11)*K13 -> 8804.4956 | ... M17: =('Mini SWASH II - Náklady'!$K$5+'Mini SWASH II - Náklady'!$K$6+'Mini SWASH II - Náklady'!$K$10+'Mini SWASH II - Náklady'!$K$11)*M13 -> 8804.4956 | T17: Roční výnosy | U17: =U16*$S$16 -> 810140.51 | V17: =V16*$S$16 -> 931661.58 | W17: =W16*$S$16 -> 1071410.8 | X17: =X16*$S$16 -> 1232122.4 | Y17: =Y16*$S$16 -> 1416940.8 | Z17: =Z16*$S$16 -> 1629481.9 | AA17: =AA16*$S$16 -> 1629481.9 | AB17: =AB16*$S$16 -> 1629481.9 | ... AD17: =AD16*$S$16 -> 1629481.9
B18: Osobní náklady | C18: - | D18: =D7*'Mini SWASH II - Náklady'!$C$12*'Mini SWASH II - Náklady'!$C$14 -> 691712 | E18: =E7*'Mini SWASH II - Náklady'!$C$12*'Mini SWASH II - Náklady'!$C$14 -> 712463.36 | F18: =F7*'Mini SWASH II - Náklady'!$C$12*'Mini SWASH II - Náklady'!$C$14 -> 733837.26 | G18: =G7*'Mini SWASH II - Náklady'!$C$12*'Mini SWASH II - Náklady'!$C$14 -> 755852.38 | H18: =H7*'Mini SWASH II - Náklady'!$C$12*'Mini SWASH II - Náklady'!$C$14 -> 778527.95 | I18: =I7*'Mini SWASH II - Náklady'!$C$12*'Mini SWASH II - Náklady'!$C$14 -> 801883.79 | J18: =J7*'Mini SWASH II - Náklady'!$C$12*'Mini SWASH II - Náklady'!$C$14 -> 825940.3 | K18: =K7*'Mini SWASH II - Náklady'!$C$12*'Mini SWASH II - Náklady'!$C$14 -> 850718.51 | ... M18: =M7*'Mini SWASH II - Náklady'!$C$12*'Mini SWASH II - Náklady'!$C$14 -> 902527.27 | T18: Roční náklady | U18: =U15 -> 949426.09 | V18: =V16*((E8+E9)*E5+'Mini SWASH II - Náklady'!$K$9+'Mini SWASH II - Náklady'!$K$12+'Mini SWASH II - Náklady'!$K$5+'Mini SWASH II - Náklady'!$K$6+'Mini SWASH II - Náklady'!$K$10+'Mini SWASH II - Náklady'!$K$11)+(8*'Mini SWASH II - Kalkulace P1'!E7)*'Mini SWASH II - Náklady'!$C$14+E24+E10+E10*$R$16 -> 1003270.8 | W18: =W16*((F8+F9)*F5+'Mini SWASH II - Náklady'!$K$9+'Mini SWASH II - Náklady'!$K$12+'Mini SWASH II - Náklady'!$K$5+'Mini SWASH II - Náklady'!$K$6+'Mini SWASH II - Náklady'!$K$10+'Mini SWASH II - Náklady'!$K$11)+(8*'Mini SWASH II - Kalkulace P1'!F7)*'Mini SWASH II - Náklady'!$C$14+F24+F10+F10*$R$16 -> 1051395.6 | X18: =X16*((G8+G9)*G5+'Mini SWASH II - Náklady'!$K$9+'Mini SWASH II - Náklady'!$K$12+'Mini SWASH II - Náklady'!$K$5+'Mini SWASH II - Náklady'!$K$6+'Mini SWASH II - Náklady'!$K$10+'Mini SWASH II - Náklady'!$K$11)+(8*'Mini SWASH II - Kalkulace P1'!G7)*'Mini SWASH II - Náklady'!$C$14+G24+G10+G10*$R$16 -> 1113135.4 | Y18: =Y16*((H8+H9)*H5+'Mini SWASH II - Náklady'!$K$9+'Mini SWASH II - Náklady'!$K$12+'Mini SWASH II - Náklady'!$K$5+'Mini SWASH II - Náklady'!$K$6+'Mini SWASH II - Náklady'!$K$10+'Mini SWASH II - Náklady'!$K$11)+(8*'Mini SWASH II - Kalkulace P1'!H7)*'Mini SWASH II - Náklady'!$C$14+H24+H10+H10*$R$16 -> 1188065.4 | Z18: =Z16*((I8+I9)*I5+'Mini SWASH II - Náklady'!$K$9+'Mini SWASH II - Náklady'!$K$12+'Mini SWASH II - Náklady'!$K$5+'Mini SWASH II - Náklady'!$K$6+'Mini SWASH II - Náklady'!$K$10+'Mini SWASH II - Náklady'!$K$11)+(8*'Mini SWASH II - Kalkulace P1'!I7)*'Mini SWASH II - Náklady'!$C$14+I24+I10+I10*$R$16 -> 1267022.2 | AA18: =AA16*((J8+J9)*J5+'Mini SWASH II - Náklady'!$K$9+'Mini SWASH II - Náklady'!$K$12+'Mini SWASH II - Náklady'!$K$5+'Mini SWASH II - Náklady'!$K$6+'Mini SWASH II - Náklady'!$K$10+'Mini SWASH II - Náklady'!$K$11)+(8*'Mini SWASH II - Kalkulace P1'!J7)*'Mini SWASH II - Náklady'!$C$14+J24+J10+J10*$R$16 -> 1299403.9 | AB18: =AB16*((K8+K9)*K5+'Mini SWASH II - Náklady'!$K$9+'Mini SWASH II - Náklady'!$K$12+'Mini SWASH II - Náklady'!$K$5+'Mini SWASH II - Náklady'!$K$6+'Mini SWASH II - Náklady'!$K$10+'Mini SWASH II - Náklady'!$K$11)+(8*'Mini SWASH II - Kalkulace P1'!K7)*'Mini SWASH II - Náklady'!$C$14+K24+K10+K10*$R$16 -> 1332690.5 | AC18: =AC16*((L8+L9)*L5+'Mini SWASH II - Náklady'!$K$9+'Mini SWASH II - Náklady'!$K$12+'Mini SWASH II - Náklady'!$K$5+'Mini SWASH II - Náklady'!$K$6+'Mini SWASH II - Náklady'!$K$10+'Mini SWASH II - Náklady'!$K$11)+(8*'Mini SWASH II - Kalkulace P1'!L7)*'Mini SWASH II - Náklady'!$C$14+L24+L10+L10*$R$16 -> 1359774.4 | AD18: =AD16*((M8+M9)*M5+'Mini SWASH II - Náklady'!$K$9+'Mini SWASH II - Náklady'!$K$12+'Mini SWASH II - Náklady'!$K$5+'Mini SWASH II - Náklady'!$K$6+'Mini SWASH II - Náklady'!$K$10+'Mini SWASH II - Náklady'!$K$11)+(8*'Mini SWASH II - Kalkulace P1'!M7)*'Mini SWASH II - Náklady'!$C$14+M24+M10+M10*$R$16 -> 1394791.5 | AE18: =SUM(W17:AD17)-SUM(W18:AD18) -> 1861605
B19: Mycí prostředek | C19: - | D19: =D8*D5*D13 -> 66999.332 | E19: =E8*E5*E13 -> 80798.515 | F19: =F8*F5*F13 -> 93761.443 | G19: =G8*G5*G13 -> 113072.55 | H19: =H8*H5*H13 -> 138983.3 | I19: =I8*I5*I13 -> 167608.3 | J19: =J8*J5*J13 -> 171295.68 | K19: =K8*K5*K13 -> 175064.19 | ... M19: =M8*M5*M13 -> 179401.71 | R19: 0.12 | S19: 709.03011 | T19: Počet cyklů | U19: 1250 | V19: =U19+U19*$R$19 -> 1400 | W19: =V19+V19*$R$19 -> 1568 | X19: =W19+W19*$R$19 -> 1756.16 | Y19: =X19+X19*$R$19 -> 1966.8992 | Z19: =Y19+Y19*$R$19 -> 2202.9271 | AA19: =Z19 -> 2202.9271 | AB19: =AA19 -> 2202.9271 | AC19: =AB19 -> 2202.9271 | AD19: =AC19 -> 2202.9271
B20: Spotřební materiál | C20: - | D20: =D9*D13*D5 -> 94029.6 | E20: =E9*E13*E5 -> 113395.94 | F20: =F9*F13*F5 -> 131588.64 | G20: =G9*G13*G5 -> 158690.64 | H20: =H9*H13*H5 -> 195054.84 | I20: =I9*I13*I5 -> 235228.33 | J20: =J9*J13*J5 -> 240403.36 | K20: =K9*K13*K5 -> 245692.23 | ... M20: =M9*M13*M5 -> 251779.69 | T20: Roční výnosy | U20: =U19*$S$19 -> 886287.64 | V20: =V19*$S$19 -> 992642.16 | W20: =W19*$S$19 -> 1111759.2 | X20: =X19*$S$19 -> 1245170.3 | Y20: =Y19*$S$19 -> 1394590.8 | Z20: =Z19*$S$19 -> 1561941.7 | AA20: =AA19*$S$19 -> 1561941.7 | AB20: =AB19*$S$19 -> 1561941.7 | ... AD20: =AD19*$S$19 -> 1561941.7
B21: Revize a servis | C21: - | D21: =D10 -> 18914 | E21: =E10+E10*$M$1 -> 22809.527 | F21: =F10+F10*$M$1 -> 23311.337 | G21: =G10+G10*$M$1 -> 23824.186 | H21: =H10+H10*$M$1 -> 24348.319 | I21: =I10+I10*$M$1 -> 24883.982 | J21: =J10+J10*$M$1 -> 25431.429 | K21: =K10+K10*$M$1 -> 25990.921 | L21: =L10+L10*$M$1 -> 26562.721 | M21: =M10+M10*$M$1 -> 27147.101 | T21: Roční náklady | U21: =U18 -> 949426.09 | V21: =V19*((E8+E9)*E5+'Mini SWASH II - Náklady'!$K$9+'Mini SWASH II - Náklady'!$K$12+'Mini SWASH II - Náklady'!$K$5+'Mini SWASH II - Náklady'!$K$6+'Mini SWASH II - Náklady'!$K$10+'Mini SWASH II - Náklady'!$K$11)+(8*'Mini SWASH II - Kalkulace P1'!E7)*'Mini SWASH II - Náklady'!$C$14+E24+E10+E10*$R$19 -> 997496.04 | W21: =W19*((F8+F9)*F5+'Mini SWASH II - Náklady'!$K$9+'Mini SWASH II - Náklady'!$K$12+'Mini SWASH II - Náklady'!$K$5+'Mini SWASH II - Náklady'!$K$6+'Mini SWASH II - Náklady'!$K$10+'Mini SWASH II - Náklady'!$K$11)+(8*'Mini SWASH II - Kalkulace P1'!F7)*'Mini SWASH II - Náklady'!$C$14+F24+F10+F10*$R$19 -> 1039196.4 | X21: =X19*((G8+G9)*G5+'Mini SWASH II - Náklady'!$K$9+'Mini SWASH II - Náklady'!$K$12+'Mini SWASH II - Náklady'!$K$5+'Mini SWASH II - Náklady'!$K$6+'Mini SWASH II - Náklady'!$K$10+'Mini SWASH II - Náklady'!$K$11)+(8*'Mini SWASH II - Kalkulace P1'!G7)*'Mini SWASH II - Náklady'!$C$14+G24+G10+G10*$R$19 -> 1092355.6 | Y21: =Y19*((H8+H9)*H5+'Mini SWASH II - Náklady'!$K$9+'Mini SWASH II - Náklady'!$K$12+'Mini SWASH II - Náklady'!$K$5+'Mini SWASH II - Náklady'!$K$6+'Mini SWASH II - Náklady'!$K$10+'Mini SWASH II - Náklady'!$K$11)+(8*'Mini SWASH II - Kalkulace P1'!H7)*'Mini SWASH II - Náklady'!$C$14+H24+H10+H10*$R$19 -> 1155703.6 | Z21: =Z19*((I8+I9)*I5+'Mini SWASH II - Náklady'!$K$9+'Mini SWASH II - Náklady'!$K$12+'Mini SWASH II - Náklady'!$K$5+'Mini SWASH II - Náklady'!$K$6+'Mini SWASH II - Náklady'!$K$10+'Mini SWASH II - Náklady'!$K$11)+(8*'Mini SWASH II - Kalkulace P1'!I7)*'Mini SWASH II - Náklady'!$C$14+I24+I10+I10*$R$19 -> 1220402.8 | AA21: =AA19*((J8+J9)*J5+'Mini SWASH II - Náklady'!$K$9+'Mini SWASH II - Náklady'!$K$12+'Mini SWASH II - Náklady'!$K$5+'Mini SWASH II - Náklady'!$K$6+'Mini SWASH II - Náklady'!$K$10+'Mini SWASH II - Náklady'!$K$11)+(8*'Mini SWASH II - Kalkulace P1'!J7)*'Mini SWASH II - Náklady'!$C$14+J24+J10+J10*$R$19 -> 1251806 | AB21: =AB19*((K8+K9)*K5+'Mini SWASH II - Náklady'!$K$9+'Mini SWASH II - Náklady'!$K$12+'Mini SWASH II - Náklady'!$K$5+'Mini SWASH II - Náklady'!$K$6+'Mini SWASH II - Náklady'!$K$10+'Mini SWASH II - Náklady'!$K$11)+(8*'Mini SWASH II - Kalkulace P1'!K7)*'Mini SWASH II - Náklady'!$C$14+K24+K10+K10*$R$19 -> 1284092.4 | AC21: =AC19*((L8+L9)*L5+'Mini SWASH II - Náklady'!$K$9+'Mini SWASH II - Náklady'!$K$12+'Mini SWASH II - Náklady'!$K$5+'Mini SWASH II - Náklady'!$K$6+'Mini SWASH II - Náklady'!$K$10+'Mini SWASH II - Náklady'!$K$11)+(8*'Mini SWASH II - Kalkulace P1'!L7)*'Mini SWASH II - Náklady'!$C$14+L24+L10+L10*$R$19 -> 1311037.4 | AD21: =AD19*((M8+M9)*M5+'Mini SWASH II - Náklady'!$K$9+'Mini SWASH II - Náklady'!$K$12+'Mini SWASH II - Náklady'!$K$5+'Mini SWASH II - Náklady'!$K$6+'Mini SWASH II - Náklady'!$K$10+'Mini SWASH II - Náklady'!$K$11)+(8*'Mini SWASH II - Kalkulace P1'!M7)*'Mini SWASH II - Náklady'!$C$14+M24+M10+M10*$R$19 -> 1345029.3 | AE21: =SUM(W20:AD20)-SUM(W21:AD21) -> 1861605
B22: Ekologická likvidace (voda, prostředek) | C22: - | D22: =('Mini SWASH II - Náklady'!$K$12*'Mini SWASH II - Náklady'!$K$9)*'Mini SWASH II - Kalkulace P1'!D13 -> 4481.2335 | E22: =('Mini SWASH II - Náklady'!$K$12*'Mini SWASH II - Náklady'!$K$9)*'Mini SWASH II - Kalkulace P1'!E13 -> 5287.8555 | F22: =('Mini SWASH II - Náklady'!$K$12*'Mini SWASH II - Náklady'!$K$9)*'Mini SWASH II - Kalkulace P1'!F13 -> 6239.6695 | G22: =('Mini SWASH II - Náklady'!$K$12*'Mini SWASH II - Náklady'!$K$9)*'Mini SWASH II - Kalkulace P1'!G13 -> 7362.81 | H22: =('Mini SWASH II - Náklady'!$K$12*'Mini SWASH II - Náklady'!$K$9)*'Mini SWASH II - Kalkulace P1'!H13 -> 8688.1158 | I22: =('Mini SWASH II - Náklady'!$K$12*'Mini SWASH II - Náklady'!$K$9)*'Mini SWASH II - Kalkulace P1'!I13 -> 10251.977 | J22: =('Mini SWASH II - Náklady'!$K$12*'Mini SWASH II - Náklady'!$K$9)*'Mini SWASH II - Kalkulace P1'!J13 -> 10251.977 | K22: =('Mini SWASH II - Náklady'!$K$12*'Mini SWASH II - Náklady'!$K$9)*'Mini SWASH II - Kalkulace P1'!K13 -> 10251.977 | ... M22: =('Mini SWASH II - Náklady'!$K$12*'Mini SWASH II - Náklady'!$K$9)*'Mini SWASH II - Kalkulace P1'!M13 -> 10251.977 | R22: 0.09 | S22: 778.92503 | T22: Počet cyklů | U22: 1250 | V22: =U22+U22*$R$22 -> 1362.5 | W22: =V22+V22*$R$22 -> 1485.125 | X22: =W22+W22*$R$22 -> 1618.7863 | Y22: =X22+X22*$R$22 -> 1764.477 | Z22: =Y22+Y22*$R$22 -> 1923.2799 | AA22: =Z22 -> 1923.2799 | AB22: =AA22 -> 1923.2799 | AC22: =AB22 -> 1923.2799 | AD22: =AC22 -> 1923.2799
B23: Součet nákladů bez odpisů | C23: - | D23: =SUM(D17:D22) -> 879984.69 | E23: =SUM(E17:E22) -> 939296.46 | F23: =SUM(F17:F22) -> 994097.04 | G23: =SUM(G17:G22) -> 1065125.8 | H23: =SUM(H17:H22) -> 1153064 | I23: =SUM(I17:I22) -> 1248660.9 | J23: =SUM(J17:J22) -> 1282127.2 | K23: =SUM(K17:K22) -> 1316522.3 | ... M23: =SUM(M17:M22) -> 1379912.2 | T23: Roční výnosy | U23: =$S$22*U22 -> 973656.29 | V23: =$S$22*V22 -> 1061285.4 | W23: =$S$22*W22 -> 1156801 | X23: =$S$22*X22 -> 1260913.1 | Y23: =$S$22*Y22 -> 1374395.3 | Z23: =$S$22*Z22 -> 1498090.9 | AA23: =$S$22*AA22 -> 1498090.9 | AB23: =$S$22*AB22 -> 1498090.9 | ... AD23: =$S$22*AD22 -> 1498090.9
B24: Odpisy | C24: - | D24: ='Mini SWASH II - Náklady'!$E$3/10 -> 69441.4 | E24: ='Mini SWASH II - Náklady'!$E$3/10 -> 69441.4 | F24: ='Mini SWASH II - Náklady'!$E$3/10 -> 69441.4 | G24: ='Mini SWASH II - Náklady'!$E$3/10 -> 69441.4 | H24: ='Mini SWASH II - Náklady'!$E$3/10 -> 69441.4 | I24: ='Mini SWASH II - Náklady'!$E$3/10 -> 69441.4 | J24: ='Mini SWASH II - Náklady'!$E$3/10 -> 69441.4 | K24: ='Mini SWASH II - Náklady'!$E$3/10 -> 69441.4 | ... M24: ='Mini SWASH II - Náklady'!$E$3/10 -> 69441.4 | T24: Roční náklady | U24: =U21 -> 949426.09 | V24: =V$22*((E8+E9)*E5+'Mini SWASH II - Náklady'!$K$9+'Mini SWASH II - Náklady'!$K$12+'Mini SWASH II - Náklady'!$K$5+'Mini SWASH II - Náklady'!$K$6+'Mini SWASH II - Náklady'!$K$10+'Mini SWASH II - Náklady'!$K$11)+(8*'Mini SWASH II - Kalkulace P1'!E7)*'Mini SWASH II - Náklady'!$C$14+E24+E10+E10*$R$22 -> 991721.27 | W24: =W$22*((F8+F9)*F5+'Mini SWASH II - Náklady'!$K$9+'Mini SWASH II - Náklady'!$K$12+'Mini SWASH II - Náklady'!$K$5+'Mini SWASH II - Náklady'!$K$6+'Mini SWASH II - Náklady'!$K$10+'Mini SWASH II - Náklady'!$K$11)+(8*'Mini SWASH II - Kalkulace P1'!F7)*'Mini SWASH II - Náklady'!$C$14+F24+F10+F10*$R$22 -> 1027304 | X24: =X$22*((G8+G9)*G5+'Mini SWASH II - Náklady'!$K$9+'Mini SWASH II - Náklady'!$K$12+'Mini SWASH II - Náklady'!$K$5+'Mini SWASH II - Náklady'!$K$6+'Mini SWASH II - Náklady'!$K$10+'Mini SWASH II - Náklady'!$K$11)+(8*'Mini SWASH II - Kalkulace P1'!G7)*'Mini SWASH II - Náklady'!$C$14+G24+G10+G10*$R$22 -> 1072628.1 | Y24: =Y$22*((H8+H9)*H5+'Mini SWASH II - Náklady'!$K$9+'Mini SWASH II - Náklady'!$K$12+'Mini SWASH II - Náklady'!$K$5+'Mini SWASH II - Náklady'!$K$6+'Mini SWASH II - Náklady'!$K$10+'Mini SWASH II - Náklady'!$K$11)+(8*'Mini SWASH II - Kalkulace P1'!H7)*'Mini SWASH II - Náklady'!$C$14+H24+H10+H10*$R$22 -> 1125792.7 | Z24: =Z$22*((I8+I9)*I5+'Mini SWASH II - Náklady'!$K$9+'Mini SWASH II - Náklady'!$K$12+'Mini SWASH II - Náklady'!$K$5+'Mini SWASH II - Náklady'!$K$6+'Mini SWASH II - Náklady'!$K$10+'Mini SWASH II - Náklady'!$K$11)+(8*'Mini SWASH II - Kalkulace P1'!I7)*'Mini SWASH II - Náklady'!$C$14+I24+I10+I10*$R$22 -> 1178455.3 | AA24: =AA$22*((J8+J9)*J5+'Mini SWASH II - Náklady'!$K$9+'Mini SWASH II - Náklady'!$K$12+'Mini SWASH II - Náklady'!$K$5+'Mini SWASH II - Náklady'!$K$6+'Mini SWASH II - Náklady'!$K$10+'Mini SWASH II - Náklady'!$K$11)+(8*'Mini SWASH II - Kalkulace P1'!J7)*'Mini SWASH II - Náklady'!$C$14+J24+J10+J10*$R$22 -> 1208977.9 | AB24: =AB$22*((K8+K9)*K5+'Mini SWASH II - Náklady'!$K$9+'Mini SWASH II - Náklady'!$K$12+'Mini SWASH II - Náklady'!$K$5+'Mini SWASH II - Náklady'!$K$6+'Mini SWASH II - Náklady'!$K$10+'Mini SWASH II - Náklady'!$K$11)+(8*'Mini SWASH II - Kalkulace P1'!K7)*'Mini SWASH II - Náklady'!$C$14+K24+K10+K10*$R$22 -> 1240364.4 | AC24: =AC$22*((L8+L9)*L5+'Mini SWASH II - Náklady'!$K$9+'Mini SWASH II - Náklady'!$K$12+'Mini SWASH II - Náklady'!$K$5+'Mini SWASH II - Náklady'!$K$6+'Mini SWASH II - Náklady'!$K$10+'Mini SWASH II - Náklady'!$K$11)+(8*'Mini SWASH II - Kalkulace P1'!L7)*'Mini SWASH II - Náklady'!$C$14+L24+L10+L10*$R$22 -> 1267183 | AD24: =AD$22*((M8+M9)*M5+'Mini SWASH II - Náklady'!$K$9+'Mini SWASH II - Náklady'!$K$12+'Mini SWASH II - Náklady'!$K$5+'Mini SWASH II - Náklady'!$K$6+'Mini SWASH II - Náklady'!$K$10+'Mini SWASH II - Náklady'!$K$11)+(8*'Mini SWASH II - Kalkulace P1'!M7)*'Mini SWASH II - Náklady'!$C$14+M24+M10+M10*$R$22 -> 1300252.5 | AE24: =SUM(W23:AD23)-SUM(W24:AD24) -> 1861606
B25: Daňové odpisy | C25: - | D25: ='Mini SWASH II - Náklady'!$E$3/100*11 -> 76385.54 | E25: ='Mini SWASH II - Náklady'!$E$3/100*22.25 -> 154507.12 | F25: ='Mini SWASH II - Náklady'!$E$3/100*22.25 -> 154507.12 | G25: ='Mini SWASH II - Náklady'!$E$3/100*22.25 -> 154507.12 | H25: ='Mini SWASH II - Náklady'!$E$3/100*22.25 -> 154507.12 | I25: 0 | J25: 0 | K25: 0 | L25: 0 | M25: 0 | R25: 0.06 | S25: 859.33782 | T25: Počet cyklů | U25: 1250 | V25: =U25+U25*$R$25 -> 1325 | W25: =V25+V25*$R$25 -> 1404.5 | X25: =W25+W25*$R$25 -> 1488.77 | Y25: =X25+X25*$R$25 -> 1578.0962 | Z25: =Y25+Y25*$R$25 -> 1672.782 | AA25: =Z25 -> 1672.782 | AB25: =AA25 -> 1672.782 | AC25: =AB25 -> 1672.782 | AD25: =AC25 -> 1672.782
B26: Celkové provozní náklady | C26: - | D26: =SUM(D23:D24) -> 949426.09 | E26: =SUM(E23:E24) -> 1008737.9 | F26: =SUM(F23:F24) -> 1063538.4 | G26: =SUM(G23:G24) -> 1134567.2 | H26: =SUM(H23:H24) -> 1222505.4 | I26: =SUM(I23:I24) -> 1318102.3 | J26: =SUM(J23:J24) -> 1351568.6 | K26: =SUM(K23:K24) -> 1385963.7 | ... M26: =SUM(M23:M24) -> 1449353.6 | T26: Roční výnosy | U26: =U25*$S$25 -> 1074172.3 | V26: =V25*$S$25 -> 1138622.6 | W26: =W25*$S$25 -> 1206940 | X26: =X25*$S$25 -> 1279356.4 | Y26: =Y25*$S$25 -> 1356117.7 | Z26: =Z25*$S$25 -> 1437484.8 | AA26: =AA25*$S$25 -> 1437484.8 | AB26: =AB25*$S$25 -> 1437484.8 | ... AD26: =AD25*$S$25 -> 1437484.8
T27: Roční náklady | U27: =U24 -> 949426.09 | V27: =V25*((E8+E9)*E5+'Mini SWASH II - Náklady'!$K$9+'Mini SWASH II - Náklady'!$K$12+'Mini SWASH II - Náklady'!$K$5+'Mini SWASH II - Náklady'!$K$6+'Mini SWASH II - Náklady'!$K$10+'Mini SWASH II - Náklady'!$K$11)+(8*'Mini SWASH II - Kalkulace P1'!E7)*'Mini SWASH II - Náklady'!$C$14+E24+E10+E10*$R$25 -> 985946.51 | W27: =W25*((F8+F9)*F5+'Mini SWASH II - Náklady'!$K$9+'Mini SWASH II - Náklady'!$K$12+'Mini SWASH II - Náklady'!$K$5+'Mini SWASH II - Náklady'!$K$6+'Mini SWASH II - Náklady'!$K$10+'Mini SWASH II - Náklady'!$K$11)+(8*'Mini SWASH II - Kalkulace P1'!F7)*'Mini SWASH II - Náklady'!$C$14+F24+F10+F10*$R$25 -> 1015718.4 | X27: =X25*((G8+G9)*G5+'Mini SWASH II - Náklady'!$K$9+'Mini SWASH II - Náklady'!$K$12+'Mini SWASH II - Náklady'!$K$5+'Mini SWASH II - Náklady'!$K$6+'Mini SWASH II - Náklady'!$K$10+'Mini SWASH II - Náklady'!$K$11)+(8*'Mini SWASH II - Kalkulace P1'!G7)*'Mini SWASH II - Náklady'!$C$14+G24+G10+G10*$R$25 -> 1053924.8 | Y27: =Y25*((H8+H9)*H5+'Mini SWASH II - Náklady'!$K$9+'Mini SWASH II - Náklady'!$K$12+'Mini SWASH II - Náklady'!$K$5+'Mini SWASH II - Náklady'!$K$6+'Mini SWASH II - Náklady'!$K$10+'Mini SWASH II - Náklady'!$K$11)+(8*'Mini SWASH II - Kalkulace P1'!H7)*'Mini SWASH II - Náklady'!$C$14+H24+H10+H10*$R$25 -> 1098203.1 | Z27: =Z25*((I8+I9)*I5+'Mini SWASH II - Náklady'!$K$9+'Mini SWASH II - Náklady'!$K$12+'Mini SWASH II - Náklady'!$K$5+'Mini SWASH II - Náklady'!$K$6+'Mini SWASH II - Náklady'!$K$10+'Mini SWASH II - Náklady'!$K$11)+(8*'Mini SWASH II - Kalkulace P1'!I7)*'Mini SWASH II - Náklady'!$C$14+I24+I10+I10*$R$25 -> 1140814.3 | AA27: =AA25*((J8+J9)*J5+'Mini SWASH II - Náklady'!$K$9+'Mini SWASH II - Náklady'!$K$12+'Mini SWASH II - Náklady'!$K$5+'Mini SWASH II - Náklady'!$K$6+'Mini SWASH II - Náklady'!$K$10+'Mini SWASH II - Náklady'!$K$11)+(8*'Mini SWASH II - Kalkulace P1'!J7)*'Mini SWASH II - Náklady'!$C$14+J24+J10+J10*$R$25 -> 1170546.6 | AB27: =AB25*((K8+K9)*K5+'Mini SWASH II - Náklady'!$K$9+'Mini SWASH II - Náklady'!$K$12+'Mini SWASH II - Náklady'!$K$5+'Mini SWASH II - Náklady'!$K$6+'Mini SWASH II - Náklady'!$K$10+'Mini SWASH II - Náklady'!$K$11)+(8*'Mini SWASH II - Kalkulace P1'!K7)*'Mini SWASH II - Náklady'!$C$14+K24+K10+K10*$R$25 -> 1201125.5 | AC27: =AC25*((L8+L9)*L5+'Mini SWASH II - Náklady'!$K$9+'Mini SWASH II - Náklady'!$K$12+'Mini SWASH II - Náklady'!$K$5+'Mini SWASH II - Náklady'!$K$6+'Mini SWASH II - Náklady'!$K$10+'Mini SWASH II - Náklady'!$K$11)+(8*'Mini SWASH II - Kalkulace P1'!L7)*'Mini SWASH II - Náklady'!$C$14+L24+L10+L10*$R$25 -> 1227829.5 | AD27: =AD25*((M8+M9)*M5+'Mini SWASH II - Náklady'!$K$9+'Mini SWASH II - Náklady'!$K$12+'Mini SWASH II - Náklady'!$K$5+'Mini SWASH II - Náklady'!$K$6+'Mini SWASH II - Náklady'!$K$10+'Mini SWASH II - Náklady'!$K$11)+(8*'Mini SWASH II - Kalkulace P1'!M7)*'Mini SWASH II - Náklady'!$C$14+M24+M10+M10*$R$25 -> 1260071 | AE27: =SUM(W26:AD26)-SUM(W27:AD27) -> 1861605
B28: Provozní náklady na jeden cyklus | C28: - | D28: =D26/D13 -> 759.54087 | E28: =E26/E13 -> 683.89007 | F28: =F26/F13 -> 611.0534 | G28: =G26/G13 -> 552.42611 | H28: =H26/H13 -> 504.44373 | I28: =I26/I13 -> 460.92372 | J28: =J26/J13 -> 472.62649 | K28: =K26/K13 -> 484.65401 | ... M28: =M26/M13 -> 506.82067 | R28: 0.03 | S28: 952.11088 | T28: Počet cyklů | U28: 1250 | V28: =U28+U28*$R$28 -> 1287.5 | W28: =V28+V28*$R$28 -> 1326.125 | X28: =W28+W28*$R$28 -> 1365.9088 | Y28: =X28+X28*$R$28 -> 1406.886 | Z28: =Y28+Y28*$R$28 -> 1449.0926 | AA28: =Z28 -> 1449.0926 | AB28: =AA28 -> 1449.0926 | AC28: =AB28 -> 1449.0926 | AD28: =AC28 -> 1449.0926
T29: Roční výnosy | U29: =U28*$S$28 -> 1190138.6 | V29: =V28*$S$28 -> 1225842.8 | W29: =W28*$S$28 -> 1262618 | X29: =X28*$S$28 -> 1300496.6 | Y29: =Y28*$S$28 -> 1339511.5 | Z29: =Z28*$S$28 -> 1379696.8 | AA29: =AA28*$S$28 -> 1379696.8 | AB29: =AB28*$S$28 -> 1379696.8 | ... AD29: =AD28*$S$28 -> 1379696.8
B30: Cash Flow | C30: -694414 | D30: =D15-D23 -> -118206.64 | E30: =E15-E23 -> -40398.353 | F30: =F15-F23 -> 66602.722 | G30: =G15-G23 -> 186499.9 | H30: =H15-H23 -> 323854.39 | I30: =I15-I23 -> 494102.77 | J30: =J15-J23 -> 460636.41 | K30: =K15-K23 -> 426241.33 | ... M30: =M15-M23 -> 362851.41 | T30: Roční náklady | U30: =U27 -> 949426.09 | V30: =V28*((E8+E9)*E5+'Mini SWASH II - Náklady'!$K$9+'Mini SWASH II - Náklady'!$K$12+'Mini SWASH II - Náklady'!$K$5+'Mini SWASH II - Náklady'!$K$6+'Mini SWASH II - Náklady'!$K$10+'Mini SWASH II - Náklady'!$K$11)+(8*'Mini SWASH II - Kalkulace P1'!E7)*'Mini SWASH II - Náklady'!$C$14+E24+E10+E10*$R$28 -> 980171.74 | W30: =W28*((F8+F9)*F5+'Mini SWASH II - Náklady'!$K$9+'Mini SWASH II - Náklady'!$K$12+'Mini SWASH II - Náklady'!$K$5+'Mini SWASH II - Náklady'!$K$6+'Mini SWASH II - Náklady'!$K$10+'Mini SWASH II - Náklady'!$K$11)+(8*'Mini SWASH II - Kalkulace P1'!F7)*'Mini SWASH II - Náklady'!$C$14+F24+F10+F10*$R$28 -> 1004439.5 | X30: =X28*((G8+G9)*G5+'Mini SWASH II - Náklady'!$K$9+'Mini SWASH II - Náklady'!$K$12+'Mini SWASH II - Náklady'!$K$5+'Mini SWASH II - Náklady'!$K$6+'Mini SWASH II - Náklady'!$K$10+'Mini SWASH II - Náklady'!$K$11)+(8*'Mini SWASH II - Kalkulace P1'!G7)*'Mini SWASH II - Náklady'!$C$14+G24+G10+G10*$R$28 -> 1036217.4 | Y30: =Y28*((H8+H9)*H5+'Mini SWASH II - Náklady'!$K$9+'Mini SWASH II - Náklady'!$K$12+'Mini SWASH II - Náklady'!$K$5+'Mini SWASH II - Náklady'!$K$6+'Mini SWASH II - Náklady'!$K$10+'Mini SWASH II - Náklady'!$K$11)+(8*'Mini SWASH II - Kalkulace P1'!H7)*'Mini SWASH II - Náklady'!$C$14+H24+H10+H10*$R$28 -> 1072808.7 | Z30: =Z28*((I8+I9)*I5+'Mini SWASH II - Náklady'!$K$9+'Mini SWASH II - Náklady'!$K$12+'Mini SWASH II - Náklady'!$K$5+'Mini SWASH II - Náklady'!$K$6+'Mini SWASH II - Náklady'!$K$10+'Mini SWASH II - Náklady'!$K$11)+(8*'Mini SWASH II - Kalkulace P1'!I7)*'Mini SWASH II - Náklady'!$C$14+I24+I10+I10*$R$28 -> 1107133.9 | AA30: =AA28*((J8+J9)*J5+'Mini SWASH II - Náklady'!$K$9+'Mini SWASH II - Náklady'!$K$12+'Mini SWASH II - Náklady'!$K$5+'Mini SWASH II - Náklady'!$K$6+'Mini SWASH II - Náklady'!$K$10+'Mini SWASH II - Náklady'!$K$11)+(8*'Mini SWASH II - Kalkulace P1'!J7)*'Mini SWASH II - Náklady'!$C$14+J24+J10+J10*$R$28 -> 1136159.1 | AB30: =AB28*((K8+K9)*K5+'Mini SWASH II - Náklady'!$K$9+'Mini SWASH II - Náklady'!$K$12+'Mini SWASH II - Náklady'!$K$5+'Mini SWASH II - Náklady'!$K$6+'Mini SWASH II - Náklady'!$K$10+'Mini SWASH II - Náklady'!$K$11)+(8*'Mini SWASH II - Kalkulace P1'!K7)*'Mini SWASH II - Náklady'!$C$14+K24+K10+K10*$R$28 -> 1166015.3 | AC30: =AC28*((L8+L9)*L5+'Mini SWASH II - Náklady'!$K$9+'Mini SWASH II - Náklady'!$K$12+'Mini SWASH II - Náklady'!$K$5+'Mini SWASH II - Náklady'!$K$6+'Mini SWASH II - Náklady'!$K$10+'Mini SWASH II - Náklady'!$K$11)+(8*'Mini SWASH II - Kalkulace P1'!L7)*'Mini SWASH II - Náklady'!$C$14+L24+L10+L10*$R$28 -> 1192615.3 | AD30: =AD28*((M8+M9)*M5+'Mini SWASH II - Náklady'!$K$9+'Mini SWASH II - Náklady'!$K$12+'Mini SWASH II - Náklady'!$K$5+'Mini SWASH II - Náklady'!$K$6+'Mini SWASH II - Náklady'!$K$10+'Mini SWASH II - Náklady'!$K$11)+(8*'Mini SWASH II - Kalkulace P1'!M7)*'Mini SWASH II - Náklady'!$C$14+M24+M10+M10*$R$28 -> 1224115.9 | AE30: =SUM(W29:AD29)-SUM(W30:AD30) -> 1861605
B31: Diskontované CF | D31: =D30/(1+$C$47)^D4 -> -109450.59 | E31: =E30/(1+$C$47)^E4 -> -34635.076 | F31: =F30/(1+$C$47)^F4 -> 52871.388 | G31: =G30/(1+$C$47)^G4 -> 137083 | H31: =H30/(1+$C$47)^H4 -> 220409.85 | I31: =I30/(1+$C$47)^I4 -> 311368.56 | J31: =J30/(1+$C$47)^J4 -> 268776.92 | K31: =K30/(1+$C$47)^K4 -> 230284.93 | ... M31: =M30/(1+$C$47)^M4 -> 168070.41
B32: Kumulovaná hodnota DCF | D32: =+D31 -> -109450.59 | E32: =D32+E31 -> -144085.67 | F32: =E32+F31 -> -91214.279 | G32: =F32+G31 -> 45868.718 | H32: =G32+H31 -> 266278.57 | I32: =H32+I31 -> 577647.13 | J32: =I32+J31 -> 846424.05 | K32: =J32+K31 -> 1076709 | L32: =K32+L31 -> 1276310.7 | M32: =L32+M31 -> 1444381.1
B34: Výsledek hospodaření | C34: - | D34: =D15-D26 -> -187648.04 | E34: =E15-E26 -> -109839.75 | F34: =F15-F26 -> -2838.6775 | G34: =G15-G26 -> 117058.5 | H34: =H15-H26 -> 254412.99 | I34: =I15-I26 -> 424661.37 | J34: =J15-J26 -> 391195.01 | K34: =K15-K26 -> 356799.93 | ... M34: =M15-M26 -> 293410.01
B36: Základ daně před odečtením ztrát | C36: - | D36: =D34+D24-D25 -> -194592.18 | E36: =E34+E24-E25 -> -194905.47 | F36: =F34+F24-F25 -> -87904.393 | G36: =G34+G24-G25 -> 31992.79 | H36: =H34+H24-H25 -> 169347.27 | I36: =I34+I24-I25 -> 494102.77 | J36: =J34+J24-J25 -> 460636.41 | K36: =K34+K24-K25 -> 426241.33 | ... M36: =M34+M24-M25 -> 362851.41
B37: Uplatnění ztráty z roku 2016 | E37: 0 | F37: 0 | G37: =G36 -> 31992.79 | H37: =G38 -> 162599.39 | I37: =H38 -> 0 | J37: =I38 -> 0 | K37: =J38 -> 0 | L37: =K38 -> 0 | M37: =L38 -> 0
B38: Zůstatek ztráty z roku 2016 | E38: =ABS(D36-E37) -> 194592.18 | F38: =E38-F37 -> 194592.18 | G38: =F38-G37 -> 162599.39 | H38: =G38-H37 -> 0 | I38: =H38-I37 -> 0 | J38: =I38-J37 -> 0 | K38: =J38-K37 -> 0 | L38: =K38-L37 -> 0 | M38: =L38-M37 -> 0
B39: Uplatnění ztráty z let 2017, 2018 | E39: 0 | F39: 0 | G39: 0 | H39: =H36-H37 -> 6747.8829 | I39: =H40 -> 276061.98 | J39: =I40 -> 0 | K39: =J40 -> 0 | L39: =K40 -> 0 | M39: =L40 -> 0
B40: Zůstatek ztráty z 2017, 2018 | E40: =ABS(E36-E39) -> 194905.47 | F40: =E40+ABS(F36) -> 282809.86 | G40: =F40-G39 -> 282809.86 | H40: =G40-H39 -> 276061.98 | I40: =H40-I39 -> 0 | J40: =I40-J39 -> 0 | K40: =J40-K39 -> 0 | L40: =K40-L39 -> 0 | M40: =L40-M39 -> 0
B41: Základ daně | I41: =I36-I39 -> 218040.8 | J41: =J36+J39 -> 460636.41 | K41: =K36+K39 -> 426241.33 | L41: =L36+L39 -> 399004.78 | M41: =M36+M39 -> 362851.41
B42: Daň z příjmu (19 %) | C42: - | D42: 0 | E42: 0 | F42: 0 | G42: 0 | H42: 0 | I42: =I41*0.19 -> 41427.751 | J42: =J41*0.19 -> 87520.917 | K42: =K41*0.19 -> 80985.852 | L42: =L41*0.19 -> 75810.909 | M42: =M41*0.19 -> 68941.768
B43: Zisk po zdanění (EAT) | C43: - | D43: =D36-D42 -> -194592.18 | E43: =E36-E42 -> -194905.47 | F43: =F36-F42 -> -87904.393 | G43: =G36-G42 -> 31992.79 | H43: =H36-H42 -> 169347.27 | I43: =I36-I42 -> 452675.02 | J43: =J36-J42 -> 373115.49 | K43: =K36-K42 -> 345255.47 | ... M43: =M36-M42 -> 293909.64
B45: Akumulovaný zisk | C45: =SUM(D43:M43) -> 1512087.5
B46: Čistá současná hodnota | C46: =NPV(C47,C30:M30) -> 694414
B47: Diskotní sazba | C47: 0.08

Sheet Mini SWASH II - Kalkulace
B1: Předpokládaná inflace | C1: 0.02 | E1: Předpokládaný růst mezd | G1: 0.03 | I1: Předpokládaný meziroční nárůst mycích cyklů do 2021 | M1: 0.18
B3: Rok | C3: 2015 | D3: 2016 | E3: 2017 | F3: 2018 | G3: 2019 | H3: 2020 | I3: 2021 | J3: 2022 | K3: 2023 | L3: 2024 | M3: 2025
C4: 0 | D4: 1 | E4: 2 | F4: 3 | G4: 4 | H4: 5 | I4: 6 | J4: 7 | K4: 8 | L4: 9 | M4: 10
B5: Vývoj kurzu (CZK/EUR) | C5: - | D5: ='Mini SWASH II - Náklady'!G1 -> 27.02 | E5: =D5 -> 27.02 | F5: 26 | G5: 26 | H5: 26 | I5: 26 | J5: 26 | K5: 26 | L5: 26 | M5: 26
B6: Předopkládaný meziroční nárůst jednotlivých nákladových položek v závislosti na změně inflace, průměrné mzdy a kurzu CZK/EUR | P6: Závislost NPV na počáteční ceně | S6: Závislost NPV na diskontní sazbě
B7: Růst mzdy / hod. | C7: - | D7: ='Mini SWASH II - Náklady'!K13 -> 345.856 | E7: =D7+D7*'Mini SWASH II - Kalkulace P1'!$G$1 -> 356.23168 | F7: =E7+E7*'Mini SWASH II - Kalkulace P1'!$G$1 -> 366.91863 | G7: =F7+F7*'Mini SWASH II - Kalkulace P1'!$G$1 -> 377.92619 | H7: =G7+G7*'Mini SWASH II - Kalkulace P1'!$G$1 -> 389.26397 | I7: =H7+H7*'Mini SWASH II - Kalkulace P1'!$G$1 -> 400.94189 | J7: =I7+I7*'Mini SWASH II - Kalkulace P1'!$G$1 -> 412.97015 | K7: =J7+J7*'Mini SWASH II - Kalkulace P1'!$G$1 -> 425.35926 | L7: =K7+K7*'Mini SWASH II - Kalkulace P1'!$G$1 -> 438.12003 | M7: =L7+L7*'Mini SWASH II - Kalkulace P1'!$G$1 -> 451.26363 | P7: NPV | Q7: cena za cyklus | S7: NPV | U7: diskotní sazba | X7: Meziroční růst | Z7: Data pro analýzu ceny na základě vývoje počtu mycích cyklů | AJ7: Požadovaný EBIT
B8: Mycí prostředek / cyklus | C8: - | D8: ='Mini SWASH II - Náklady'!J7+'Mini SWASH II - Náklady'!J8 -> 1.983696 | E8: =D8+(D8*'Mini SWASH II - Kalkulace P1'!$C$1) -> 2.0273373 | F8: =E8+(E8*'Mini SWASH II - Kalkulace P1'!$C$1) -> 2.0719387 | G8: =F8+(F8*'Mini SWASH II - Kalkulace P1'!$C$1) -> 2.1175214 | H8: =G8+(G8*'Mini SWASH II - Kalkulace P1'!$C$1) -> 2.1641069 | I8: =H8+(H8*'Mini SWASH II - Kalkulace P1'!$C$1) -> 2.2117172 | J8: =I8+(I8*'Mini SWASH II - Kalkulace P1'!$C$1) -> 2.260375 | K8: =J8+(J8*'Mini SWASH II - Kalkulace P1'!$C$1) -> 2.3101032 | L8: =K8+(K8*'Mini SWASH II - Kalkulace P1'!$C$1) -> 2.3609255 | M8: =L8+(L8*'Mini SWASH II - Kalkulace P1'!$C$1) -> 2.4128659 | P8: 0 | Q8: 518 | S8: 518 | T8: 538 | X8: 0.18 | Y8: Cena za cyklus | Z8: 518.3057 | AA8: =Z8+Z8*$C$1 -> 528.67181 | AB8: =AA8+AA8*$C$1 -> 539.24525 | AC8: =AB8+AB8*$C$1 -> 550.03015 | AD8: =AC8+AC8*$C$1 -> 561.03075 | AE8: =AD8+AD8*$C$1 -> 572.25137 | AF8: =AE8+AE8*$C$1 -> 583.6964 | AG8: =AF8+AF8*$C$1 -> 595.37032 | AH8: =AG8+AG8*$C$1 -> 607.27773 | AI8: =AH8+AH8*$C$1 -> 619.42329 | AJ8: =SUM(Z10:AI10)-SUM(Z11:AI11) -> 1106644.1 | AL8: =X8 -> 0.18 | AM8: =Z8 -> 518.3057
B9: Spotřební materiál / cyklus | C9: - | D9: ='Mini SWASH II - Náklady'!J14 -> 2.784 | E9: =D9+(D9*'Mini SWASH II - Kalkulace P1'!$C$1) -> 2.845248 | F9: =E9+(E9*'Mini SWASH II - Kalkulace P1'!$C$1) -> 2.9078435 | G9: =F9+(F9*'Mini SWASH II - Kalkulace P1'!$C$1) -> 2.971816 | H9: =G9+(G9*'Mini SWASH II - Kalkulace P1'!$C$1) -> 3.037196 | I9: =H9+(H9*'Mini SWASH II - Kalkulace P1'!$C$1) -> 3.1040143 | J9: =I9+(I9*'Mini SWASH II - Kalkulace P1'!$C$1) -> 3.1723026 | K9: =J9+(J9*'Mini SWASH II - Kalkulace P1'!$C$1) -> 3.2420932 | L9: =K9+(K9*'Mini SWASH II - Kalkulace P1'!$C$1) -> 3.3134193 | M9: =L9+(L9*'Mini SWASH II - Kalkulace P1'!$C$1) -> 3.3863145 | P9: 500 | Q9: 557 | S9: 410 | T9: 738 | U9: 0.04 | Y9: Počet cyklů | Z9: 1250 | AA9: 1475 | AB9: 1740.5 | AC9: 2053.79 | AD9: 2423.4722 | AE9: 2859.6972 | AF9: 2859.6972 | AG9: 2859.6972 | AH9: 2859.6972 | AI9: 2859.6972 | AL9: =X12 -> 0.15 | AM9: =Z12 -> 560.35974
B10: Revize a servis / rok | C10: - | D10: ='Mini SWASH II - Náklady'!E29 -> 18914 | E10: =D10+D10*$C$1 -> 19292.28 | F10: =E10+E10*$C$1 -> 19678.126 | G10: =F10+F10*$C$1 -> 20071.688 | H10: =G10+G10*$C$1 -> 20473.122 | I10: =H10+H10*$C$1 -> 20882.584 | J10: =I10+I10*$C$1 -> 21300.236 | K10: =J10+J10*$C$1 -> 21726.241 | L10: =K10+K10*$C$1 -> 22160.766 | M10: =L10+L10*$C$1 -> 22603.981 | P10: 1000 | Q10: 597 | S10: 314 | T10: 624 | U10: 0.05 | Y10: Roční výnosy | Z10: =Z8*Z9 -> 647882.12 | AA10: =AA8*AA9 -> 779790.92 | AB10: =AB8*AB9 -> 938556.35 | AC10: =AC8*AC9 -> 1129646.4 | AD10: =AD8*AD9 -> 1359642.4 | AE10: =AE8*AE9 -> 1636465.6 | AF10: =AF8*AF9 -> 1669194.9 | AG10: =AG8*AG9 -> 1702578.8 | ... AI10: =AI8*AI9 -> 1771363 | AL10: =X16 -> 0.12 | AM10: =Z16 -> 607.27018
S11: 225 | T11: 520 | U11: 0.06 | Y11: Roční náklady | Z11: 949426.09 | AA11: 1008693.2 | AB11: 1063447.3 | AC11: 1134427.6 | AD11: 1216012.7 | AE11: 1310259.1 | AF11: 1343503.6 | AG11: 1377671 | AH11: 1412787.2 | AI11: 1448879.2 | AL11: =X20 -> 0.09 | AM11: =Z20 -> 659.82417
B12: Cena za jeden mycí cyklus | C12: - | D12: 518.3057 | E12: =D12+D12*$C$1 -> 528.67181 | F12: =E12+E12*$C$1 -> 539.24525 | G12: =F12+F12*$C$1 -> 550.03015 | H12: =G12+G12*$C$1 -> 561.03075 | I12: =H12+H12*$C$1 -> 572.25137 | J12: =I12+I12*$C$1 -> 583.6964 | K12: =J12+J12*$C$1 -> 595.37032 | L12: =K12+K12*$C$1 -> 607.27773 | M12: =L12+L12*$C$1 -> 619.42329 | S12: 144 | T12: 423 | U12: 0.07 | X12: 0.15 | Y12: Cena za cyklus | Z12: 560.35974 | AA12: =Z12+Z12*$C$1 -> 571.56693 | AB12: =AA12+AA12*$C$1 -> 582.99827 | AC12: =AB12+AB12*$C$1 -> 594.65823 | AD12: =AC12+AC12*$C$1 -> 606.5514 | AE12: =AD12+AD12*$C$1 -> 618.68243 | AF12: =AE12+AE12*$C$1 -> 631.05608 | AG12: =AF12+AF12*$C$1 -> 643.6772 | AH12: =AG12+AG12*$C$1 -> 656.55074 | AI12: =AH12+AH12*$C$1 -> 669.68176 | AJ12: =SUM(Z14:AI14)-SUM(Z15:AI15) -> 1106644 | AL12: =X24 -> 0.06 | AM12: =Z24 -> 718.69057
B13: Předpokládaný počet cyklů | C13: - | D13: 1250 | E13: =D13+D13*$M$1 -> 1475 | F13: =E13+E13*$M$1 -> 1740.5 | G13: =F13+F13*$M$1 -> 2053.79 | H13: =G13+G13*$M$1 -> 2423.4722 | I13: =H13+H13*$M$1 -> 2859.6972 | J13: =I13 -> 2859.6972 | K13: =J13 -> 2859.6972 | L13: =K13 -> 2859.6972 | M13: =L13 -> 2859.6972 | S13: 68 | T13: 335 | U13: 0.08 | Y13: Počet cyklů | Z13: 1250 | AA13: =Z13+Z13*$X$12 -> 1437.5 | AB13: =AA13+AA13*$X$12 -> 1653.125 | AC13: =AB13+AB13*$X$12 -> 1901.0938 | AD13: =AC13+AC13*$X$12 -> 2186.2578 | AE13: =AD13+AD13*$X$12 -> 2514.1965 | AF13: =AE13 -> 2514.1965 | AG13: =AF13 -> 2514.1965 | AH13: =AG13 -> 2514.1965 | AI13: =AH13 -> 2514.1965 | AL13: =X28 -> 0.03 | AM13: =Z28 -> 784.59716
S14: 0 | T14: 232.251 | U14: 0.09 | Y14: Roční výnosy | Z14: =Z12*Z13 -> 700449.67 | AA14: =AA12*AA13 -> 821627.46 | AB14: =AB12*AB13 -> 963769.01 | AC14: =AC12*AC13 -> 1130501.1 | AD14: =AD12*AD13 -> 1326077.7 | AE14: =AE12*AE13 -> 1555489.2 | AF14: =AF12*AF13 -> 1586599 | AG14: =AG12*AG13 -> 1618330.9 | ... AI14: =AI12*AI13 -> 1683711.5
B15: Celkové provozní výnosy | C15: - | D15: =D13*$D$12 -> 647882.12 | E15: =E13*E12 -> 779790.92 | F15: =F13*F12 -> 938556.35 | G15: =G13*G12 -> 1129646.4 | H15: =H13*H12 -> 1359642.4 | I15: =I13*I12 -> 1636465.6 | J15: =J13*J12 -> 1669194.9 | K15: =K13*K12 -> 1702578.8 | L15: =L13*L12 -> 1736630.4 | M15: =M13*M12 -> 1771363 | S15: -63 | T15: 178 | U15: 0.1 | Y15: Roční náklady | Z15: =Z11 -> 949426.09 | AA15: =AA13*((E9+E8)*E5+'Mini SWASH II - Náklady'!$K$9+'Mini SWASH II - Náklady'!$K$12+'Mini SWASH II - Náklady'!$K$5+'Mini SWASH II - Náklady'!$K$6+'Mini SWASH II - Náklady'!$K$10+'Mini SWASH II - Náklady'!$K$11)+(8*E7)*'Mini SWASH II - Náklady'!$C$14+E24+E10+E10*$X$12 -> 1003227.3 | AB15: =AB13*((F9+F8)*F5+'Mini SWASH II - Náklady'!$K$9+'Mini SWASH II - Náklady'!$K$12+'Mini SWASH II - Náklady'!$K$5+'Mini SWASH II - Náklady'!$K$6+'Mini SWASH II - Náklady'!$K$10+'Mini SWASH II - Náklady'!$K$11)+(8*F7)*'Mini SWASH II - Náklady'!$C$14+F24+F10+F10*$X$12 -> 1051306.8 | AC15: =AC13*((G9+G8)*G5+'Mini SWASH II - Náklady'!$K$9+'Mini SWASH II - Náklady'!$K$12+'Mini SWASH II - Náklady'!$K$5+'Mini SWASH II - Náklady'!$K$6+'Mini SWASH II - Náklady'!$K$10+'Mini SWASH II - Náklady'!$K$11)+(8*G7)*'Mini SWASH II - Náklady'!$C$14+G24+G10+G10*$X$12 -> 1112999.3 | AD15: =AD13*((H9+H8)*H5+'Mini SWASH II - Náklady'!$K$9+'Mini SWASH II - Náklady'!$K$12+'Mini SWASH II - Náklady'!$K$5+'Mini SWASH II - Náklady'!$K$6+'Mini SWASH II - Náklady'!$K$10+'Mini SWASH II - Náklady'!$K$11)+(8*H7)*'Mini SWASH II - Náklady'!$C$14+H24+H10+H10*$X$12 -> 1182194.5 | AE15: =AE13*((I9+I8)*I5+'Mini SWASH II - Náklady'!$K$9+'Mini SWASH II - Náklady'!$K$12+'Mini SWASH II - Náklady'!$K$5+'Mini SWASH II - Náklady'!$K$6+'Mini SWASH II - Náklady'!$K$10+'Mini SWASH II - Náklady'!$K$11)+(8*I7)*'Mini SWASH II - Náklady'!$C$14+I24+I10+I10*$X$12 -> 1260103.4 | AF15: =AF13*((J9+J8)*J5+'Mini SWASH II - Náklady'!$K$9+'Mini SWASH II - Náklady'!$K$12+'Mini SWASH II - Náklady'!$K$5+'Mini SWASH II - Náklady'!$K$6+'Mini SWASH II - Náklady'!$K$10+'Mini SWASH II - Náklady'!$K$11)+(8*J7)*'Mini SWASH II - Náklady'!$C$14+J24+J10+J10*$X$12 -> 1292284.9 | AG15: =AG13*((K9+K8)*K5+'Mini SWASH II - Náklady'!$K$9+'Mini SWASH II - Náklady'!$K$12+'Mini SWASH II - Náklady'!$K$5+'Mini SWASH II - Náklady'!$K$6+'Mini SWASH II - Náklady'!$K$10+'Mini SWASH II - Náklady'!$K$11)+(8*K7)*'Mini SWASH II - Náklady'!$C$14+K24+K10+K10*$X$12 -> 1325365.9 | AH15: =AH13*((L9+L8)*L5+'Mini SWASH II - Náklady'!$K$9+'Mini SWASH II - Náklady'!$K$12+'Mini SWASH II - Náklady'!$K$5+'Mini SWASH II - Náklady'!$K$6+'Mini SWASH II - Náklady'!$K$10+'Mini SWASH II - Náklady'!$K$11)+(8*L7)*'Mini SWASH II - Náklady'!$C$14+L24+L10+L10*$X$12 -> 1359371.8 | AI15: =AI13*((M9+M8)*M5+'Mini SWASH II - Náklady'!$K$9+'Mini SWASH II - Náklady'!$K$12+'Mini SWASH II - Náklady'!$K$5+'Mini SWASH II - Náklady'!$K$6+'Mini SWASH II - Náklady'!$K$10+'Mini SWASH II - Náklady'!$K$11)+(8*M7)*'Mini SWASH II - Náklady'!$C$14+M24+M10+M10*$X$12 -> 1394329.1
S16: -122 | T16: 109 | U16: 0.11 | X16: 0.12 | Y16: Cena za cyklus | Z16: 607.27018 | AA16: =Z16+Z16*$C$1 -> 619.41558 | AB16: =AA16+AA16*$C$1 -> 631.80389 | AC16: =AB16+AB16*$C$1 -> 644.43997 | AD16: =AC16+AC16*$C$1 -> 657.32877 | AE16: =AD16+AD16*$C$1 -> 670.47534 | AF16: =AE16+AE16*$C$1 -> 683.88485 | AG16: =AF16+AF16*$C$1 -> 697.56255 | AH16: =AG16+AG16*$C$1 -> 711.5138 | AI16: =AH16+AH16*$C$1 -> 725.74407 | AJ16: =SUM(Z18:AI18)-SUM(Z19:AI19) -> 1106644
B17: Energie | C17: - | D17: =('Mini SWASH II - Náklady'!$K$5+'Mini SWASH II - Náklady'!$K$6+'Mini SWASH II - Náklady'!$K$10+'Mini SWASH II - Náklady'!$K$11)*D13 -> 3848.5261 | E17: =('Mini SWASH II - Náklady'!$K$5+'Mini SWASH II - Náklady'!$K$6+'Mini SWASH II - Náklady'!$K$10+'Mini SWASH II - Náklady'!$K$11)*E13 -> 4541.2609 | F17: =('Mini SWASH II - Náklady'!$K$5+'Mini SWASH II - Náklady'!$K$6+'Mini SWASH II - Náklady'!$K$10+'Mini SWASH II - Náklady'!$K$11)*F13 -> 5358.6878 | G17: =('Mini SWASH II - Náklady'!$K$5+'Mini SWASH II - Náklady'!$K$6+'Mini SWASH II - Náklady'!$K$10+'Mini SWASH II - Náklady'!$K$11)*G13 -> 6323.2516 | H17: =('Mini SWASH II - Náklady'!$K$5+'Mini SWASH II - Náklady'!$K$6+'Mini SWASH II - Náklady'!$K$10+'Mini SWASH II - Náklady'!$K$11)*H13 -> 7461.4369 | I17: =('Mini SWASH II - Náklady'!$K$5+'Mini SWASH II - Náklady'!$K$6+'Mini SWASH II - Náklady'!$K$10+'Mini SWASH II - Náklady'!$K$11)*I13 -> 8804.4956 | J17: =('Mini SWASH II - Náklady'!$K$5+'Mini SWASH II - Náklady'!$K$6+'Mini SWASH II - Náklady'!$K$10+'Mini SWASH II - Náklady'!$K$11)*J13 -> 8804.4956 | K17: =('Mini SWASH II - Náklady'!$K$5+'Mini SWASH II - Náklady'!$K$6+'Mini SWASH II - Náklady'!$K$10+'Mini SWASH II - Náklady'!$K$11)*K13 -> 8804.4956 | ... M17: =('Mini SWASH II - Náklady'!$K$5+'Mini SWASH II - Náklady'!$K$6+'Mini SWASH II - Náklady'!$K$10+'Mini SWASH II - Náklady'!$K$11)*M13 -> 8804.4956 | S17: -175 | T17: 44 | U17: 0.12 | Y17: Počet cyklů | Z17: 1250 | AA17: =Z17+Z17*$X$16 -> 1400 | AB17: =AA17+AA17*$X$16 -> 1568 | AC17: =AB17+AB17*$X$16 -> 1756.16 | AD17: =AC17+AC17*$X$16 -> 1966.8992 | AE17: =AD17+AD17*$X$16 -> 2202.9271 | AF17: =AE17 -> 2202.9271 | AG17: =AF17 -> 2202.9271 | AH17: =AG17 -> 2202.9271 | AI17: =AH17 -> 2202.9271
B18: Osobní náklady | C18: - | D18: =D7*'Mini SWASH II - Náklady'!$C$12*'Mini SWASH II - Náklady'!$C$14 -> 691712 | E18: =E7*'Mini SWASH II - Náklady'!$C$12*'Mini SWASH II - Náklady'!$C$14 -> 712463.36 | F18: =F7*'Mini SWASH II - Náklady'!$C$12*'Mini SWASH II - Náklady'!$C$14 -> 733837.26 | G18: =G7*'Mini SWASH II - Náklady'!$C$12*'Mini SWASH II - Náklady'!$C$14 -> 755852.38 | H18: =H7*'Mini SWASH II - Náklady'!$C$12*'Mini SWASH II - Náklady'!$C$14 -> 778527.95 | I18: =I7*'Mini SWASH II - Náklady'!$C$12*'Mini SWASH II - Náklady'!$C$14 -> 801883.79 | J18: =J7*'Mini SWASH II - Náklady'!$C$12*'Mini SWASH II - Náklady'!$C$14 -> 825940.3 | K18: =K7*'Mini SWASH II - Náklady'!$C$12*'Mini SWASH II - Náklady'!$C$14 -> 850718.51 | ... M18: =M7*'Mini SWASH II - Náklady'!$C$12*'Mini SWASH II - Náklady'!$C$14 -> 902527.27 | S18: -224 | T18: -14 | U18: 0.13 | Y18: Roční výnosy | Z18: =Z17*Z16 -> 759087.72 | AA18: =AA17*AA16 -> 867181.81 | AB18: =AB17*AB16 -> 990668.5 | AC18: =AC17*AC16 -> 1131739.7 | AD18: =AD17*AD16 -> 1292899.4 | AE18: =AE17*AE16 -> 1477008.3 | AF18: =AF17*AF16 -> 1506548.5 | AG18: =AG17*AG16 -> 1536679.4 | ... AI18: =AI17*AI16 -> 1598761.3
B19: Mycí prostředek | C19: - | D19: =D8*D5*D13 -> 66999.332 | E19: =E8*E5*E13 -> 80798.515 | F19: =F8*F5*F13 -> 93761.443 | G19: =G8*G5*G13 -> 113072.55 | H19: =H8*H5*H13 -> 136360.97 | I19: =I8*I5*I13 -> 164445.88 | J19: =J8*J5*J13 -> 168063.69 | K19: =K8*K5*K13 -> 171761.09 | ... M19: =M8*M5*M13 -> 179401.71 | S19: -270 | T19: -70 | U19: 0.14 | Y19: Roční náklady | Z19: =Z15 -> 949426.09 | AA19: =AA17*((E9+E8)*E5+'Mini SWASH II - Náklady'!$K$9+'Mini SWASH II - Náklady'!$K$12+'Mini SWASH II - Náklady'!$K$5+'Mini SWASH II - Náklady'!$K$6+'Mini SWASH II - Náklady'!$K$10+'Mini SWASH II - Náklady'!$K$11)+(8*E7)*'Mini SWASH II - Náklady'!$C$14+E24+E10+E10*$X$16 -> 997453.67 | AB19: =AB17*((F9+F8)*F5+'Mini SWASH II - Náklady'!$K$9+'Mini SWASH II - Náklady'!$K$12+'Mini SWASH II - Náklady'!$K$5+'Mini SWASH II - Náklady'!$K$6+'Mini SWASH II - Náklady'!$K$10+'Mini SWASH II - Náklady'!$K$11)+(8*F7)*'Mini SWASH II - Náklady'!$C$14+F24+F10+F10*$X$16 -> 1039109.9 | AC19: =AC17*((G9+G8)*G5+'Mini SWASH II - Náklady'!$K$9+'Mini SWASH II - Náklady'!$K$12+'Mini SWASH II - Náklady'!$K$5+'Mini SWASH II - Náklady'!$K$6+'Mini SWASH II - Náklady'!$K$10+'Mini SWASH II - Náklady'!$K$11)+(8*G7)*'Mini SWASH II - Náklady'!$C$14+G24+G10+G10*$X$16 -> 1092223.1 | AD19: =AD17*((H9+H8)*H5+'Mini SWASH II - Náklady'!$K$9+'Mini SWASH II - Náklady'!$K$12+'Mini SWASH II - Náklady'!$K$5+'Mini SWASH II - Náklady'!$K$6+'Mini SWASH II - Náklady'!$K$10+'Mini SWASH II - Náklady'!$K$11)+(8*H7)*'Mini SWASH II - Náklady'!$C$14+H24+H10+H10*$X$16 -> 1150408 | AE19: =AE17*((I9+I8)*I5+'Mini SWASH II - Náklady'!$K$9+'Mini SWASH II - Náklady'!$K$12+'Mini SWASH II - Náklady'!$K$5+'Mini SWASH II - Náklady'!$K$6+'Mini SWASH II - Náklady'!$K$10+'Mini SWASH II - Náklady'!$K$11)+(8*I7)*'Mini SWASH II - Náklady'!$C$14+I24+I10+I10*$X$16 -> 1214317.5 | AF19: =AF17*((J9+J8)*J5+'Mini SWASH II - Náklady'!$K$9+'Mini SWASH II - Náklady'!$K$12+'Mini SWASH II - Náklady'!$K$5+'Mini SWASH II - Náklady'!$K$6+'Mini SWASH II - Náklady'!$K$10+'Mini SWASH II - Náklady'!$K$11)+(8*J7)*'Mini SWASH II - Náklady'!$C$14+J24+J10+J10*$X$16 -> 1245540 | AG19: =AG17*((K9+K8)*K5+'Mini SWASH II - Náklady'!$K$9+'Mini SWASH II - Náklady'!$K$12+'Mini SWASH II - Náklady'!$K$5+'Mini SWASH II - Náklady'!$K$6+'Mini SWASH II - Náklady'!$K$10+'Mini SWASH II - Náklady'!$K$11)+(8*K7)*'Mini SWASH II - Náklady'!$C$14+K24+K10+K10*$X$16 -> 1277640.9 | AH19: =AH17*((L9+L8)*L5+'Mini SWASH II - Náklady'!$K$9+'Mini SWASH II - Náklady'!$K$12+'Mini SWASH II - Náklady'!$K$5+'Mini SWASH II - Náklady'!$K$6+'Mini SWASH II - Náklady'!$K$10+'Mini SWASH II - Náklady'!$K$11)+(8*L7)*'Mini SWASH II - Náklady'!$C$14+L24+L10+L10*$X$16 -> 1310645.4 | AI19: =AI17*((M9+M8)*M5+'Mini SWASH II - Náklady'!$K$9+'Mini SWASH II - Náklady'!$K$12+'Mini SWASH II - Náklady'!$K$5+'Mini SWASH II - Náklady'!$K$6+'Mini SWASH II - Náklady'!$K$10+'Mini SWASH II - Náklady'!$K$11)+(8*M7)*'Mini SWASH II - Náklady'!$C$14+M24+M10+M10*$X$16 -> 1344579.1
B20: Spotřební materiál | C20: - | D20: =D9*D13*D5 -> 94029.6 | E20: =E9*E13*E5 -> 113395.94 | F20: =F9*F13*F5 -> 131588.64 | G20: =G9*G13*G5 -> 158690.64 | H20: =H9*H13*H5 -> 191374.56 | I20: =I9*I13*I5 -> 230790.06 | J20: =J9*J13*J5 -> 235867.45 | K20: =K9*K13*K5 -> 241056.53 | ... M20: =M9*M13*M5 -> 251779.69 | S20: -313 | T20: -120 | U20: 0.15 | X20: 0.09 | Y20: Cena za cyklus | Z20: 659.82417 | AA20: =Z20+Z20*$C$1 -> 673.02065 | AB20: =AA20+AA20*$C$1 -> 686.48107 | AC20: =AB20+AB20*$C$1 -> 700.21069 | AD20: =AC20+AC20*$C$1 -> 714.2149 | AE20: =AD20+AD20*$C$1 -> 728.4992 | AF20: =AE20+AE20*$C$1 -> 743.06918 | AG20: =AF20+AF20*$C$1 -> 757.93057 | AH20: =AG20+AG20*$C$1 -> 773.08918 | AI20: =AH20+AH20*$C$1 -> 788.55096 | AJ20: =SUM(Z22:AI22)-SUM(Z23:AI23) -> 1106644
B21: Revize a servis | C21: - | D21: =D10 -> 18914 | E21: =E10+E10*$M$1 -> 22764.89 | F21: =F10+F10*$M$1 -> 23220.188 | G21: =G10+G10*$M$1 -> 23684.592 | H21: =H10+H10*$M$1 -> 24158.284 | I21: =I10+I10*$M$1 -> 24641.449 | J21: =J10+J10*$M$1 -> 25134.278 | K21: =K10+K10*$M$1 -> 25636.964 | L21: =L10+L10*$M$1 -> 26149.703 | M21: =M10+M10*$M$1 -> 26672.697 | Y21: Počet cyklů | Z21: 1250 | AA21: =Z21+Z21*$X$20 -> 1362.5 | AB21: =AA21+AA21*$X$20 -> 1485.125 | AC21: =AB21+AB21*$X$20 -> 1618.7863 | AD21: =AC21+AC21*$X$20 -> 1764.477 | AE21: =AD21+AD21*$X$20 -> 1923.2799 | AF21: =AE21 -> 1923.2799 | AG21: =AF21 -> 1923.2799 | AH21: =AG21 -> 1923.2799 | AI21: =AH21 -> 1923.2799
B22: Ekologická likvidace (voda, prostředek) | C22: - | D22: =('Mini SWASH II - Náklady'!$K$12*'Mini SWASH II - Náklady'!$K$9)*'Mini SWASH II - Kalkulace P1'!D13 -> 4481.2335 | E22: =('Mini SWASH II - Náklady'!$K$12*'Mini SWASH II - Náklady'!$K$9)*'Mini SWASH II - Kalkulace P1'!E13 -> 5287.8555 | F22: =('Mini SWASH II - Náklady'!$K$12*'Mini SWASH II - Náklady'!$K$9)*'Mini SWASH II - Kalkulace P1'!F13 -> 6239.6695 | G22: =('Mini SWASH II - Náklady'!$K$12*'Mini SWASH II - Náklady'!$K$9)*'Mini SWASH II - Kalkulace P1'!G13 -> 7362.81 | H22: =('Mini SWASH II - Náklady'!$K$12*'Mini SWASH II - Náklady'!$K$9)*'Mini SWASH II - Kalkulace P1'!H13 -> 8688.1158 | I22: =('Mini SWASH II - Náklady'!$K$12*'Mini SWASH II - Náklady'!$K$9)*'Mini SWASH II - Kalkulace P1'!I13 -> 10251.977 | J22: =('Mini SWASH II - Náklady'!$K$12*'Mini SWASH II - Náklady'!$K$9)*'Mini SWASH II - Kalkulace P1'!J13 -> 10251.977 | K22: =('Mini SWASH II - Náklady'!$K$12*'Mini SWASH II - Náklady'!$K$9)*'Mini SWASH II - Kalkulace P1'!K13 -> 10251.977 | ... M22: =('Mini SWASH II - Náklady'!$K$12*'Mini SWASH II - Náklady'!$K$9)*'Mini SWASH II - Kalkulace P1'!M13 -> 10251.977 | Y22: Roční výnosy | Z22: =Z21*Z20 -> 824780.21 | AA22: =AA21*AA20 -> 916990.64 | AB22: =AB21*AB20 -> 1019510.2 | AC22: =AC21*AC20 -> 1133491.4 | AD22: =AD21*AD20 -> 1260215.8 | AE22: =AE21*AE20 -> 1401107.9 | AF22: =AF21*AF20 -> 1429130.1 | AG22: =AG21*AG20 -> 1457712.7 | ... AI22: =AI21*AI20 -> 1516604.3
B23: Součet nákladů bez odpisů | C23: - | D23: =SUM(D17:D22) -> 879984.69 | E23: =SUM(E17:E22) -> 939251.82 | F23: =SUM(F17:F22) -> 994005.89 | G23: =SUM(G17:G22) -> 1064986.2 | H23: =SUM(H17:H22) -> 1146571.3 | I23: =SUM(I17:I22) -> 1240817.7 | J23: =SUM(J17:J22) -> 1274062.2 | K23: =SUM(K17:K22) -> 1308229.6 | ... M23: =SUM(M17:M22) -> 1379437.8 | S23: Výpočet RCF | Y23: Roční náklady | Z23: =Z19 -> 949426.09 | AA23: =AA21*((E9+E8)*E5+'Mini SWASH II - Náklady'!$K$9+'Mini SWASH II - Náklady'!$K$12+'Mini SWASH II - Náklady'!$K$5+'Mini SWASH II - Náklady'!$K$6+'Mini SWASH II - Náklady'!$K$10+'Mini SWASH II - Náklady'!$K$11)+(8*E7)*'Mini SWASH II - Náklady'!$C$14+E24+E10+E10*$X$20 -> 991680.04 | AB23: =AB21*((F9+F8)*F5+'Mini SWASH II - Náklady'!$K$9+'Mini SWASH II - Náklady'!$K$12+'Mini SWASH II - Náklady'!$K$5+'Mini SWASH II - Náklady'!$K$6+'Mini SWASH II - Náklady'!$K$10+'Mini SWASH II - Náklady'!$K$11)+(8*F7)*'Mini SWASH II - Náklady'!$C$14+F24+F10+F10*$X$20 -> 1027219.8 | AC23: =AC21*((G9+G8)*G5+'Mini SWASH II - Náklady'!$K$9+'Mini SWASH II - Náklady'!$K$12+'Mini SWASH II - Náklady'!$K$5+'Mini SWASH II - Náklady'!$K$6+'Mini SWASH II - Náklady'!$K$10+'Mini SWASH II - Náklady'!$K$11)+(8*G7)*'Mini SWASH II - Náklady'!$C$14+G24+G10+G10*$X$20 -> 1072499.2 | AD23: =AD21*((H9+H8)*H5+'Mini SWASH II - Náklady'!$K$9+'Mini SWASH II - Náklady'!$K$12+'Mini SWASH II - Náklady'!$K$5+'Mini SWASH II - Náklady'!$K$6+'Mini SWASH II - Náklady'!$K$10+'Mini SWASH II - Náklady'!$K$11)+(8*H7)*'Mini SWASH II - Náklady'!$C$14+H24+H10+H10*$X$20 -> 1121028.4 | AE23: =AE21*((I9+I8)*I5+'Mini SWASH II - Náklady'!$K$9+'Mini SWASH II - Náklady'!$K$12+'Mini SWASH II - Náklady'!$K$5+'Mini SWASH II - Náklady'!$K$6+'Mini SWASH II - Náklady'!$K$10+'Mini SWASH II - Náklady'!$K$11)+(8*I7)*'Mini SWASH II - Náklady'!$C$14+I24+I10+I10*$X$20 -> 1173119.4 | AF23: =AF21*((J9+J8)*J5+'Mini SWASH II - Náklady'!$K$9+'Mini SWASH II - Náklady'!$K$12+'Mini SWASH II - Náklady'!$K$5+'Mini SWASH II - Náklady'!$K$6+'Mini SWASH II - Náklady'!$K$10+'Mini SWASH II - Náklady'!$K$11)+(8*J7)*'Mini SWASH II - Náklady'!$C$14+J24+J10+J10*$X$20 -> 1203479.1 | AG23: =AG21*((K9+K8)*K5+'Mini SWASH II - Náklady'!$K$9+'Mini SWASH II - Náklady'!$K$12+'Mini SWASH II - Náklady'!$K$5+'Mini SWASH II - Náklady'!$K$6+'Mini SWASH II - Náklady'!$K$10+'Mini SWASH II - Náklady'!$K$11)+(8*K7)*'Mini SWASH II - Náklady'!$C$14+K24+K10+K10*$X$20 -> 1234698.2 | AH23: =AH21*((L9+L8)*L5+'Mini SWASH II - Náklady'!$K$9+'Mini SWASH II - Náklady'!$K$12+'Mini SWASH II - Náklady'!$K$5+'Mini SWASH II - Náklady'!$K$6+'Mini SWASH II - Náklady'!$K$10+'Mini SWASH II - Náklady'!$K$11)+(8*L7)*'Mini SWASH II - Náklady'!$C$14+L24+L10+L10*$X$20 -> 1266801.5 | AI23: =AI21*((M9+M8)*M5+'Mini SWASH II - Náklady'!$K$9+'Mini SWASH II - Náklady'!$K$12+'Mini SWASH II - Náklady'!$K$5+'Mini SWASH II - Náklady'!$K$6+'Mini SWASH II - Náklady'!$K$10+'Mini SWASH II - Náklady'!$K$11)+(8*M7)*'Mini SWASH II - Náklady'!$C$14+M24+M10+M10*$X$20 -> 1299814.2
B24: Odpisy | C24: - | D24: ='Mini SWASH II - Náklady'!$E$3/10 -> 69441.4 | E24: ='Mini SWASH II - Náklady'!$E$3/10 -> 69441.4 | F24: ='Mini SWASH II - Náklady'!$E$3/10 -> 69441.4 | G24: ='Mini SWASH II - Náklady'!$E$3/10 -> 69441.4 | H24: ='Mini SWASH II - Náklady'!$E$3/10 -> 69441.4 | I24: ='Mini SWASH II - Náklady'!$E$3/10 -> 69441.4 | J24: ='Mini SWASH II - Náklady'!$E$3/10 -> 69441.4 | K24: ='Mini SWASH II - Náklady'!$E$3/10 -> 69441.4 | ... M24: ='Mini SWASH II - Náklady'!$E$3/10 -> 69441.4 | S24: aTp | T24: =((1+$C$52)^(10))*((C52+1)-1)/(($C$52+1)^(10)-1) -> 0.15582009 | X24: 0.06 | Y24: Cena za cyklus | Z24: 718.69057 | AA24: =Z24+Z24*$C$1 -> 733.06438 | AB24: =AA24+AA24*$C$1 -> 747.72566 | AC24: =AB24+AB24*$C$1 -> 762.68018 | AD24: =AC24+AC24*$C$1 -> 777.93378 | AE24: =AD24+AD24*$C$1 -> 793.49246 | AF24: =AE24+AE24*$C$1 -> 809.36231 | AG24: =AF24+AF24*$C$1 -> 825.54955 | AH24: =AG24+AG24*$C$1 -> 842.06054 | AI24: =AH24+AH24*$C$1 -> 858.90175 | AJ24: =SUM(Z26:AI26)-SUM(Z27:AI27) -> 1106644
B25: Daňové odpisy | C25: - | D25: ='Mini SWASH II - Náklady'!$E$3/100*11 -> 76385.54 | E25: ='Mini SWASH II - Náklady'!$E$3/100*22.25 -> 154507.12 | F25: ='Mini SWASH II - Náklady'!$E$3/100*22.25 -> 154507.12 | G25: ='Mini SWASH II - Náklady'!$E$3/100*22.25 -> 154507.12 | H25: ='Mini SWASH II - Náklady'!$E$3/100*22.25 -> 154507.12 | I25: 0 | J25: 0 | K25: 0 | L25: 0 | M25: 0 | S25: NPV | T25: Zvýšení ceny v % | U25: Cena za cyklus | V25: RCF | Y25: Počet cyklů | Z25: 1250 | AA25: =Z25+Z25*$X$24 -> 1325 | AB25: =AA25+AA25*$X$24 -> 1404.5 | AC25: =AB25+AB25*$X$24 -> 1488.77 | AD25: =AC25+AC25*$X$24 -> 1578.0962 | AE25: =AD25+AD25*$X$24 -> 1672.782 | AF25: =AE25 -> 1672.782 | AG25: =AF25 -> 1672.782 | AH25: =AG25 -> 1672.782 | AI25: =AH25 -> 1672.782
B26: Celkové provozní náklady | C26: - | D26: =SUM(D23:D24) -> 949426.09 | E26: =SUM(E23:E24) -> 1008693.2 | F26: =SUM(F23:F24) -> 1063447.3 | G26: =SUM(G23:G24) -> 1134427.6 | H26: =SUM(H23:H24) -> 1216012.7 | I26: =SUM(I23:I24) -> 1310259.1 | J26: =SUM(J23:J24) -> 1343503.6 | K26: =SUM(K23:K24) -> 1377671 | ... M26: =SUM(M23:M24) -> 1448879.2 | Y26: Roční výnosy | Z26: =Z24*Z25 -> 898363.21 | AA26: =AA24*AA25 -> 971310.3 | AB26: =AB24*AB25 -> 1050180.7 | AC26: =AC24*AC25 -> 1135455.4 | AD26: =AD24*AD25 -> 1227654.3 | AE26: =AE24*AE25 -> 1327339.9 | AF26: =AF24*AF25 -> 1353886.7 | AG26: =AG24*AG25 -> 1380964.4 | ... AI26: =AI24*AI25 -> 1436755.4
S27: 0 | T27: 0 | U27: 518 | V27: 0 | Y27: Roční náklady | Z27: =Z23 -> 949426.09 | AA27: =AA25*((E9+E8)*E5+'Mini SWASH II - Náklady'!$K$9+'Mini SWASH II - Náklady'!$K$12+'Mini SWASH II - Náklady'!$K$5+'Mini SWASH II - Náklady'!$K$6+'Mini SWASH II - Náklady'!$K$10+'Mini SWASH II - Náklady'!$K$11)+(8*E7)*'Mini SWASH II - Náklady'!$C$14+E24+E10+E10*$X$24 -> 985906.41 | AB27: =AB25*((F9+F8)*F5+'Mini SWASH II - Náklady'!$K$9+'Mini SWASH II - Náklady'!$K$12+'Mini SWASH II - Náklady'!$K$5+'Mini SWASH II - Náklady'!$K$6+'Mini SWASH II - Náklady'!$K$10+'Mini SWASH II - Náklady'!$K$11)+(8*F7)*'Mini SWASH II - Náklady'!$C$14+F24+F10+F10*$X$24 -> 1015636.5 | AC27: =AC25*((G9+G8)*G5+'Mini SWASH II - Náklady'!$K$9+'Mini SWASH II - Náklady'!$K$12+'Mini SWASH II - Náklady'!$K$5+'Mini SWASH II - Náklady'!$K$6+'Mini SWASH II - Náklady'!$K$10+'Mini SWASH II - Náklady'!$K$11)+(8*G7)*'Mini SWASH II - Náklady'!$C$14+G24+G10+G10*$X$24 -> 1053799.4 | AD27: =AD25*((H9+H8)*H5+'Mini SWASH II - Náklady'!$K$9+'Mini SWASH II - Náklady'!$K$12+'Mini SWASH II - Náklady'!$K$5+'Mini SWASH II - Náklady'!$K$6+'Mini SWASH II - Náklady'!$K$10+'Mini SWASH II - Náklady'!$K$11)+(8*H7)*'Mini SWASH II - Náklady'!$C$14+H24+H10+H10*$X$24 -> 1093928.3 | AE27: =AE25*((I9+I8)*I5+'Mini SWASH II - Náklady'!$K$9+'Mini SWASH II - Náklady'!$K$12+'Mini SWASH II - Náklady'!$K$5+'Mini SWASH II - Náklady'!$K$6+'Mini SWASH II - Náklady'!$K$10+'Mini SWASH II - Náklady'!$K$11)+(8*I7)*'Mini SWASH II - Náklady'!$C$14+I24+I10+I10*$X$24 -> 1136150.4 | AF27: =AF25*((J9+J8)*J5+'Mini SWASH II - Náklady'!$K$9+'Mini SWASH II - Náklady'!$K$12+'Mini SWASH II - Náklady'!$K$5+'Mini SWASH II - Náklady'!$K$6+'Mini SWASH II - Náklady'!$K$10+'Mini SWASH II - Náklady'!$K$11)+(8*J7)*'Mini SWASH II - Náklady'!$C$14+J24+J10+J10*$X$24 -> 1165735.8 | AG27: =AG25*((K9+K8)*K5+'Mini SWASH II - Náklady'!$K$9+'Mini SWASH II - Náklady'!$K$12+'Mini SWASH II - Náklady'!$K$5+'Mini SWASH II - Náklady'!$K$6+'Mini SWASH II - Náklady'!$K$10+'Mini SWASH II - Náklady'!$K$11)+(8*K7)*'Mini SWASH II - Náklady'!$C$14+K24+K10+K10*$X$24 -> 1196163.8 | AH27: =AH25*((L9+L8)*L5+'Mini SWASH II - Náklady'!$K$9+'Mini SWASH II - Náklady'!$K$12+'Mini SWASH II - Náklady'!$K$5+'Mini SWASH II - Náklady'!$K$6+'Mini SWASH II - Náklady'!$K$10+'Mini SWASH II - Náklady'!$K$11)+(8*L7)*'Mini SWASH II - Náklady'!$C$14+L24+L10+L10*$X$24 -> 1227458.4 | AI27: =AI25*((M9+M8)*M5+'Mini SWASH II - Náklady'!$K$9+'Mini SWASH II - Náklady'!$K$12+'Mini SWASH II - Náklady'!$K$5+'Mini SWASH II - Náklady'!$K$6+'Mini SWASH II - Náklady'!$K$10+'Mini SWASH II - Náklady'!$K$11)+(8*M7)*'Mini SWASH II - Náklady'!$C$14+M24+M10+M10*$X$24 -> 1259644.8
B28: Provozní zisk (EBIT) | C28: - | D28: =D15-D26 -> -301543.97 | E28: =E15-E26 -> -228902.3 | F28: =F15-F26 -> -124890.94 | G28: =G15-G26 -> -4781.1943 | H28: =H15-H26 -> 143629.72 | I28: =I15-I26 -> 326206.58 | J28: =J15-J26 -> 325691.36 | K28: =K15-K26 -> 324907.88 | ... M28: =M15-M26 -> 322483.8 | S28: 255189 | T28: 3.9 | U28: 538 | V28: =S28*T24 -> 39763.573 | X28: 0.03 | Y28: Cena za cyklus | Z28: 784.59716 | AA28: =Z28+Z28*$C$1 -> 800.28911 | AB28: =AA28+AA28*$C$1 -> 816.29489 | AC28: =AB28+AB28*$C$1 -> 832.62079 | AD28: =AC28+AC28*$C$1 -> 849.2732 | AE28: =AD28+AD28*$C$1 -> 866.25867 | AF28: =AE28+AE28*$C$1 -> 883.58384 | AG28: =AF28+AF28*$C$1 -> 901.25552 | AH28: =AG28+AG28*$C$1 -> 919.28063 | AI28: =AH28+AH28*$C$1 -> 937.66624 | AJ28: =SUM(Z30:AI30)-SUM(Z31:AI31) -> 1106644
S29: 330087 | T29: 5 | U29: 544 | V29: =S29*T24 -> 51434.186 | Y29: Počet cyklů | Z29: 1250 | AA29: =Z29+Z29*$X$28 -> 1287.5 | AB29: =AA29+AA29*$X$28 -> 1326.125 | AC29: =AB29+AB29*$X$28 -> 1365.9088 | AD29: =AC29+AC29*$X$28 -> 1406.886 | AE29: =AD29+AD29*$X$28 -> 1449.0926 | AF29: =AE29 -> 1449.0926 | AG29: =AF29 -> 1449.0926 | AH29: =AG29 -> 1449.0926 | AI29: =AH29 -> 1449.0926
B30: Základ daně před odečtením ztrát | C30: - | D30: =D28+D24-D25 -> -308488.11 | E30: =E28+E24-E25 -> -313968.01 | F30: =F28+F24-F25 -> -209956.65 | G30: =G28+G24-G25 -> -89846.909 | H30: =H28+H24-H25 -> 58564.003 | I30: =I28+I24-I25 -> 395647.98 | J30: =J28+J24-J25 -> 395132.76 | K30: =K28+K24-K25 -> 394349.28 | ... M30: =M28+M24-M25 -> 391925.2 | S30: 496623 | T30: 7.5 | U30: 557 | V30: =S30*T24 -> 77383.841 | Y30: Roční výnosy | Z30: =Z29*Z28 -> 980746.45 | AA30: =AA29*AA28 -> 1030372.2 | AB30: =AB29*AB28 -> 1082509.1 | AC30: =AC29*AC28 -> 1137284 | AD30: =AD29*AD28 -> 1194830.6 | AE30: =AE29*AE28 -> 1255289 | AF30: =AF29*AF28 -> 1280394.8 | AG30: =AG29*AG28 -> 1306002.7 | ... AI30: =AI29*AI28 -> 1358765.2
B31: Uplatnění ztráty z roku 2016 | D31: 0 | E31: 0 | F31: 0 | G31: 0 | H31: =G31+H30 -> 58564.003 | I31: =H32 -> 249924.11 | J31: 0 | K31: =J32 -> 0 | L31: =K32 -> 0 | M31: =L32 -> 0 | Y31: Roční náklady | Z31: =Z27 -> 949426.09 | AA31: =AA29*((E9+E8)*E5+'Mini SWASH II - Náklady'!$K$9+'Mini SWASH II - Náklady'!$K$12+'Mini SWASH II - Náklady'!$K$5+'Mini SWASH II - Náklady'!$K$6+'Mini SWASH II - Náklady'!$K$10+'Mini SWASH II - Náklady'!$K$11)+(8*E7)*'Mini SWASH II - Náklady'!$C$14+E24+E10+E10*$X$28 -> 980132.78 | AB31: =AB29*((F9+F8)*F5+'Mini SWASH II - Náklady'!$K$9+'Mini SWASH II - Náklady'!$K$12+'Mini SWASH II - Náklady'!$K$5+'Mini SWASH II - Náklady'!$K$6+'Mini SWASH II - Náklady'!$K$10+'Mini SWASH II - Náklady'!$K$11)+(8*F7)*'Mini SWASH II - Náklady'!$C$14+F24+F10+F10*$X$28 -> 1004360 | AC31: =AC29*((G9+G8)*G5+'Mini SWASH II - Náklady'!$K$9+'Mini SWASH II - Náklady'!$K$12+'Mini SWASH II - Náklady'!$K$5+'Mini SWASH II - Náklady'!$K$6+'Mini SWASH II - Náklady'!$K$10+'Mini SWASH II - Náklady'!$K$11)+(8*G7)*'Mini SWASH II - Náklady'!$C$14+G24+G10+G10*$X$28 -> 1036095.6 | AD31: =AD29*((H9+H8)*H5+'Mini SWASH II - Náklady'!$K$9+'Mini SWASH II - Náklady'!$K$12+'Mini SWASH II - Náklady'!$K$5+'Mini SWASH II - Náklady'!$K$6+'Mini SWASH II - Náklady'!$K$10+'Mini SWASH II - Náklady'!$K$11)+(8*H7)*'Mini SWASH II - Náklady'!$C$14+H24+H10+H10*$X$28 -> 1068984 | AE31: =AE29*((I9+I8)*I5+'Mini SWASH II - Náklady'!$K$9+'Mini SWASH II - Náklady'!$K$12+'Mini SWASH II - Náklady'!$K$5+'Mini SWASH II - Náklady'!$K$6+'Mini SWASH II - Náklady'!$K$10+'Mini SWASH II - Náklady'!$K$11)+(8*I7)*'Mini SWASH II - Náklady'!$C$14+I24+I10+I10*$X$28 -> 1103070.7 | AF31: =AF29*((J9+J8)*J5+'Mini SWASH II - Náklady'!$K$9+'Mini SWASH II - Náklady'!$K$12+'Mini SWASH II - Náklady'!$K$5+'Mini SWASH II - Náklady'!$K$6+'Mini SWASH II - Náklady'!$K$10+'Mini SWASH II - Náklady'!$K$11)+(8*J7)*'Mini SWASH II - Náklady'!$C$14+J24+J10+J10*$X$28 -> 1131963.5 | AG31: =AG29*((K9+K8)*K5+'Mini SWASH II - Náklady'!$K$9+'Mini SWASH II - Náklady'!$K$12+'Mini SWASH II - Náklady'!$K$5+'Mini SWASH II - Náklady'!$K$6+'Mini SWASH II - Náklady'!$K$10+'Mini SWASH II - Náklady'!$K$11)+(8*K7)*'Mini SWASH II - Náklady'!$C$14+K24+K10+K10*$X$28 -> 1161683.5 | AH31: =AH29*((L9+L8)*L5+'Mini SWASH II - Náklady'!$K$9+'Mini SWASH II - Náklady'!$K$12+'Mini SWASH II - Náklady'!$K$5+'Mini SWASH II - Náklady'!$K$6+'Mini SWASH II - Náklady'!$K$10+'Mini SWASH II - Náklady'!$K$11)+(8*L7)*'Mini SWASH II - Náklady'!$C$14+L24+L10+L10*$X$28 -> 1192254.8 | AI31: =AI29*((M9+M8)*M5+'Mini SWASH II - Náklady'!$K$9+'Mini SWASH II - Náklady'!$K$12+'Mini SWASH II - Náklady'!$K$5+'Mini SWASH II - Náklady'!$K$6+'Mini SWASH II - Náklady'!$K$10+'Mini SWASH II - Náklady'!$K$11)+(8*M7)*'Mini SWASH II - Náklady'!$C$14+M24+M10+M10*$X$28 -> 1223701.8
B32: Zůstatek ztráty z roku 2016 | D32: =ABS(D30-D31) -> 308488.11 | E32: =D32-E31 -> 308488.11 | F32: =E32-F31 -> 308488.11 | G32: =F32-G31 -> 308488.11 | H32: =G32-H31 -> 249924.11 | I32: =H32-I31 -> 0 | J32: =I32-J31 -> 0 | K32: =J32-K31 -> 0 | L32: =K32-L31 -> 0 | M32: =L32-M31 -> 0
B33: Uplatnění ztráty z roku 2017 | E33: 0 | F33: 0 | G33: 0 | H33: 0 | I33: =I30-I31 -> 145723.87 | J33: =I34 -> 168244.14 | K33: =J34 -> 0 | L33: =K34 -> 0 | M33: =L34 -> 0
B34: Zůstatek ztráty z roku 2017 | E34: =ABS(E30-E33) -> 313968.01 | F34: =E34-F33 -> 313968.01 | G34: =F34-G33 -> 313968.01 | H34: =G34-H33 -> 313968.01 | I34: =H34-I33 -> 168244.14 | J34: =I34-J33 -> 0 | K34: =J34-K33 -> 0 | L34: =K34-L33 -> 0 | M34: =L34-M33 -> 0
B35: Uplatnění ztráty z roku 2018 | F35: 0 | G35: 0 | H35: 0 | I35: 0 | J35: =I36 -> 209956.65 | K35: =J36 -> 0 | L35: =K36 -> 0 | M35: =L36 -> 0
B36: Zůstatek ztráty z roku 2018 | F36: =ABS(F30-F35) -> 209956.65 | G36: =F36-G35 -> 209956.65 | H36: =G36-H35 -> 209956.65 | I36: =H36-I35 -> 209956.65 | J36: =J35-I36 -> 0 | K36: =J36-K35 -> 0 | L36: =K36-L35 -> 0 | M36: =L36-M35 -> 0
B37: Uplatnění ztráty z roku 2019 | G37: 0 | H37: 0 | I37: 0 | J37: =J30-J33-J35 -> 16931.971 | K37: =J38 -> 72914.938 | L37: =K38 -> 0 | M37: =L38 -> 0
B38: Zůstatek ztráty z roku 2019 | G38: =ABS(G30) -> 89846.909 | H38: =G38-H37 -> 89846.909 | I38: =H38-I37 -> 89846.909 | J38: =I38-J37 -> 72914.938 | K38: =J38-K37 -> 0 | L38: =K38-L37 -> 0 | M38: =L38-M37 -> 0
B39: Základ daně | H39: =H30-H31 -> 0 | I39: =I30-I31-I33 -> 0 | J39: =J30-J33-J35-J37 -> 0 | K39: =K30-K35-K37 -> 321434.34 | L39: =L30-L35-L37 -> 393284.58 | M39: =M30-M35-M37 -> 391925.2
B40: Daň z příjmu (19 %) | C40: - | D40: 0 | E40: 0 | F40: 0 | G40: 0 | H40: 0 | I40: =I39*0.19 -> 0 | J40: =J39*0.19 -> 0 | K40: =K39*0.19 -> 61072.525 | L40: =L39*0.19 -> 74724.07 | M40: =M39*0.19 -> 74465.788
B41: Zisk po zdanění (EAT) | C41: - | D41: =D30-D40 -> -308488.11 | E41: =E30-E40 -> -313968.01 | F41: =F30-F40 -> -209956.65 | G41: =G30-G40 -> -89846.909 | H41: =H30-H40 -> 58564.003 | I41: =I30-I40 -> 395647.98 | J41: =J30-J40 -> 395132.76 | K41: =K30-K40 -> 333276.76 | ... M41: =M30-M40 -> 317459.41
B42: Diskontovaný zisk (EAT) | D42: =D41/(1+$C$52)^D4 -> -283016.62 | E42: =E41/(1+$C$52)^E4 -> -264260.6 | F42: =F41/(1+$C$52)^F4 -> -162125.06 | G42: =G41/(1+$C$52)^G4 -> -63649.816 | H42: =H41/(1+$C$52)^H4 -> 38062.583 | I42: =I41/(1+$C$52)^I4 -> 235911.97 | J42: =J41/(1+$C$52)^J4 -> 216151.15 | K42: =K41/(1+$C$52)^K4 -> 167260.37 | ... M42: =M41/(1+$C$52)^M4 -> 134098.29
B44: Cash Flow po zdanění | C44: -694414 | D44: =D15-D23-D40 -> -232102.57 | E44: =E15-E23-E40 -> -159460.9 | F44: =F15-F23-F40 -> -55449.538 | G44: =G15-G23-G40 -> 64660.206 | H44: =H15-H23-H40 -> 213071.12 | I44: =I15-I23-I40 -> 395647.98 | J44: =J15-J23-J40 -> 395132.76 | K44: =K15-K23-K40 -> 333276.76 | ... M44: =M15-M23-M40 -> 317459.41
B45: Diskontované CF | D45: =D44/(1+$C$52)^D4 -> -212938.14 | E45: =E44/(1+$C$52)^E4 -> -134215.05 | F45: =F44/(1+$C$52)^F4 -> -42817.217 | G45: =G44/(1+$C$52)^G4 -> 45806.92 | H45: =H44/(1+$C$52)^H4 -> 138481.61 | I45: =I44/(1+$C$52)^I4 -> 235911.97 | J45: =J44/(1+$C$52)^J4 -> 216151.15 | K45: =K44/(1+$C$52)^K4 -> 167260.37 | ... M45: =M44/(1+$C$52)^M4 -> 134098.29
B46: Kumulovaná hodnota DCF | D46: =D45+C46 -> -212938.14 | E46: =E45+D46 -> -347153.19 | F46: =F45+E46 -> -389970.4 | G46: =G45+F46 -> -344163.48 | H46: =H45+G46 -> -205681.88 | I46: =I45+H46 -> 30230.088 | J46: =J45+I46 -> 246381.24 | K46: =K45+J46 -> 413641.61 | ... M46: =M45+L46 -> 694414
B49: Akumulovaný zisk | C49: =SUM(D41:M41) -> 896381.74
B50: Čistá současná hodnota | C50: =NPV(C52,D44:M44)+C44 -> -4.7730282e-09
B51: Vnitřní výnosové procento | C51: =IRR(C44:M44) -> 0.09
B52: Diskotní sazba | C52: 0.09
A59: Zaznamenané hodnoty pro dvě různé ceny za účelem srovnání
B60: Kapitálový výdaj | D60: 694414 | E60: 694414 | F60: 694414 | G60: 694414 | H60: 694414 | I60: 694414 | J60: 694414 | K60: 694414 | L60: 694414 | M60: 694414
B61: Součet mycích cyklů | D61: =D13 -> 1250 | E61: =D61+E13 -> 2725 | F61: =E61+F13 -> 4465.5 | G61: =F61+G13 -> 6519.29 | H61: =G61+H13 -> 8942.7622 | I61: =H61+I13 -> 11802.459 | J61: =I61+J13 -> 14662.157 | K61: =J61+K13 -> 17521.854 | L61: =K61+L13 -> 20381.551 | M61: =L61+M13 -> 23241.248
B62: Kumulovné náklady | D62: =D26 -> 949426.09 | E62: =D62+E26 -> 1958119.3 | F62: =E62+F26 -> 3021566.6 | G62: =F62+G26 -> 4155994.2 | H62: =G62+H26 -> 5372006.9 | I62: =H62+I26 -> 6682266 | J62: =I62+J26 -> 8025769.6 | K62: =J62+K26 -> 9403440.5 | L62: =K62+L26 -> 10816228 | M62: =L62+M26 -> 12265107
A64: 518 Kč /cyklus | B64: Provozní výnosy | C64: - | D64: 647882.12 | E64: 779790.92 | F64: 938556.35 | G64: 1129646.4 | H64: 1359642.4 | I64: 1636465.6 | J64: 1669194.9 | K64: 1702578.8 | L64: 1736630.4 | M64: 1771363
B65: Kumulované výnosy | D65: =D64 -> 647882.12 | E65: =D65+E64 -> 1427673 | F65: =E65+F64 -> 2366229.4 | G65: =F65+G64 -> 3495875.8 | H65: =G65+H64 -> 4855518.3 | I65: =H65+I64 -> 6491983.9 | J65: =I65+J64 -> 8161178.8 | K65: =J65+K64 -> 9863757.7 | L65: =K65+L64 -> 11600388 | M65: =L65+M64 -> 13371751
B67: Cash Flow po zdanění | C67: -694414 | D67: -232102.57 | E67: -159460.9 | F67: -55449.538 | G67: 64660.206 | H67: 213071.12 | I67: 395647.98 | J67: 395132.76 | K67: 333276.76 | L67: 318560.51 | M67: 317459.41
B68: Kumulovaná hodnota CF | D68: =D67 -> -232102.57 | E68: =D68+E67 -> -391563.47 | F68: =E68+F67 -> -447013.01 | G68: =F68+G67 -> -382352.8 | H68: =G68+H67 -> -169281.68 | I68: =H68+I67 -> 226366.3 | J68: =I68+J67 -> 621499.06 | K68: =J68+K67 -> 954775.82 | L68: =K68+L67 -> 1273336.3 | M68: =L68+M67 -> 1590795.7
B69: Diskontované CF | D69: -212938.14 | E69: -134215.05 | F69: -42817.217 | G69: 45806.92 | H69: 138481.61 | I69: 235911.97 | J69: 216151.15 | K69: 167260.37 | L69: 146674.11 | M69: 134098.29
B70: Kumulovaná hodnota DCF | D70: -212938.14 | E70: -347153.19 | F70: -389970.4 | G70: -344163.48 | H70: -205681.88 | I70: 30230.088 | J70: 246381.24 | K70: 413641.61 | L70: 560315.71 | M70: 694414
A72: 538 Kč/cyklus | B72: Provozní výnosy | C72: - | D72: 672500 | E72: 809421 | F72: 974219.12 | G72: 1172570.1 | H72: 1411305.4 | I72: 1698647.2 | J72: 1732620.1 | K72: 1767272.5 | L72: 1802618 | M72: 1838670.3
B73: Kumulované výnosy | D73: =D72 -> 672500 | E73: =D73+E72 -> 1481921 | F73: =E73+F72 -> 2456140.1 | G73: =F73+G72 -> 3628710.2 | H73: =G73+H72 -> 5040015.6 | I73: =H73+I72 -> 6738662.8 | J73: =I73+J72 -> 8471283 | K73: =J73+K72 -> 10238555 | L73: =K73+L72 -> 12041173 | M73: =L73+M72 -> 13879844
B75: Cash Flow po zdanění | C75: -694414 | D75: -207484.69 | E75: -129830.82 | F75: -19786.774 | G75: 107583.91 | H75: 264734.09 | I75: 457829.53 | J75: 413492 | K75: 371824.8 | L75: 372010.43 | M75: 371978.33
B76: Kumulovaná hodnota CF | D76: =D75 -> -207484.69 | E76: =D76+E75 -> -337315.51 | F76: =E76+F75 -> -357102.28 | G76: =F76+G75 -> -249518.38 | H76: =G76+H75 -> 15215.711 | I76: =H76+I75 -> 473045.24 | J76: =I76+J75 -> 886537.24 | K76: =J76+K75 -> 1258362 | L76: =K76+L75 -> 1630372.5 | M76: =L76+M75 -> 2002350.8
B77: Diskontované CF | D77: -190352.93 | E77: -109276 | F77: -15279.02 | G77: 76215.153 | H77: 172058.99 | I77: 272988.79 | J77: 226194.28 | K77: 186606.33 | L77: 171283.94 | M77: 157127.67
B78: Kumulovaná hodnota | D78: -190352.93 | E78: -299628.93 | F78: -314907.95 | G78: -238692.8 | H78: -66633.806 | I78: 206354.99 | J78: 432549.27 | K78: 619155.6 | L78: 790439.54 | M78: 947567.2

Sheet INJET 388-CRD - Náklady
A2: Technicko - ekonomické údaje INJET 388-CRD | H2: Vyčíslení nákladů na jeden mycí cyklus v roce 2016
A3: Aktuální ceny ( náklady) | B3: Mycí zařízení | C3: 668602 | D3: Kč | H3: Položka | I3: Podíl | J3: Cena v CZK
B4: Elektřina | C4: 4.05 | D4: Kč/kWh | H4: Odpis | I4: =(J4/$J$16) -> 0.060558853 | J4: =(C3/C11)/(C14*5) -> 35.658773
B5: Stlačený vzduch | C5: 0.27 | D5: Kč/m3 | H5: Elektrická energie | I5: =(J5/$J$16) -> 0.006582308 | J5: =C19*C4*C26 -> 3.87585
B6: Mycí prostředek DECOTRON CP381 | C6: 239 | D6: Kč/l | H6: Stlačený vzduch | I6: =(J6/$J$16) -> 3.1914221e-05 | J6: =(C19*60)*C27*(C5/1000) -> 0.018792
B7: Likvidace mycího prostředku | C7: 13.51 | D7: Kč/l | H7: Mycí prostředek | I7: =(J7/$J$16) -> 0.081178148 | J7: =C20*C6 -> 47.8
B8: Deionizovaná voda | C8: 56.73 | D8: Kč/l | H8: Výměna mycího prostředku | I8: =(J8/$J$16) -> 0.064942518 | J8: =(C21*C25*C6)/(C14*C16) -> 38.24
B9: Likvidace deionizované vody | C9: 13.51 | D9: Kč/l | H9: Likvidace mycího prostředku | I9: =(J9/$J$16) -> 0.0036710185 | J9: =(C21*C25*C7)/(C14*5) -> 2.1616
B10: Mzda (1 zaměstnanec obsluhující zařízení) | C10: 216 | D10: Kč/hod. | H10: Deionizovaná voda | I10: =(J10/$J$16) -> 0.028903157 | J10: =C23*C8*C22 -> 17.019
A11: Obsluha (činnost) zařízení | B11: Délka odepisování | C11: 15 | D11: rok | H11: Výměna deionizované vody | I11: =(J11/$J$16) -> 0.015415017 | J11: =(C24*C25*C8)/(C14*C16) -> 9.0768
B12: Délka pracovní doby | C12: 8 | D12: hod. | H12: Likvidace deionizované vody | I12: =(J12/$J$16) -> 0.0036710185 | J12: =(C25*C24*C9)/(C14*C16) -> 2.1616
B13: Počet přestavek za den | C13: 1 | D13: denně | H13: Mzdové náklady | I13: =(J13/$J$16) -> 0.5869282 | J13: =(C10*C12)/('Mini SWASH II - Kalkulace P1'!D13/C14) -> 345.6
B14: Počet pracovních dnů | C14: 250 | D14: ročně | H14: Spotřební materiál | I14: =(J14/$J$16) -> 0.12333644 | J14: =C28/(C16*C14/12) -> 72.624
B15: Doba trvání obsluhy (1 cyklus) | C15: 2 | D15: min | H15: Revize a servis zařízení | I15: =(J15/$J$16) -> 0.024781413 | J15: =C29/(C14*C16) -> 14.592
B16: Počet cyklů mezi přestávkami | C16: 5 | D16: cyklů | H16: Celkové náklady na 1 cyklus | I16: =SUM(I4:I15) -> 1 | J16: =SUM(J4:J15) -> 588.82842
A17: Technické údaje o zařízení | B17: Kapacita zařízení (max. 2 cykly/hod.) | C17: 0.65 | D17: cykl/hod.
B18: Počet rámu v zářízení | C18: 1 | D18: rám/cykl
B19: Běžná doba trvání jednoho cyklu | C19: 0.58 | D19: hod.
B20: Spotřeba mycího prostředku | C20: 0.2 | D20: l/cykl
B21: Množství mycího prostředku | C21: 50 | D21: l
B22: Spotřeba deionozované vody | C22: 0.15 | D22: l/oplach
B23: Oplach dionizovanou vodou | C23: 2 | D23: krát
B24: Množství deionizované vody | C24: 50 | D24: l
B25: Výměna DI vody, mycí prostředek za rok | C25: 4
B26: Průměrný příkon | C26: 1.65 | D26: kW
B27: Spotřeba stlačeného vzduchu | C27: 2 | D27: l/min
B28: Spotřební materiál | C28: 7565 | D28: Kč/měsíc
B29: Revize a servis mycího zařízení | C29: 18240 | D29: Kč/rok

Sheet INJET 388-CRD - Kalkulace
B1: Předpokládaná inflace | C1: 0.02 | H1: Předpokládaný růst mezd | J1: 0.03 | N1: Předpokládaný meziroční nárůst mycích cyklů do 2021 | R1: 0.18
B3: Rok | C3: 2015 | D3: 2016 | E3: 2017 | F3: 2018 | G3: 2019 | H3: 2020 | I3: 2021 | J3: 2022 | K3: 2023 | L3: 2024 | M3: 2025 | N3: 2026 | O3: 2027 | P3: 2028 | Q3: 2029 | R3: 2030
C4: 0 | D4: 1 | E4: 2 | F4: 3 | G4: 4 | H4: 5 | I4: 6 | J4: 7 | K4: 8 | L4: 9 | M4: 10 | N4: 11 | O4: 12 | P4: 13 | Q4: 14 | R4: 15
B5: Předopkládaný meziroční nárůst jednotlivých nákladových položek v závislosti na změně inflace, průměrné mzdy a kurzu CZK/EUR | U5: Závislost NPV na počáteční ceně | X5: Závislost NPV na diskontní sazbě
B6: Růst mzdy / hod. | C6: - | D6: ='INJET 388-CRD - Náklady'!C10 -> 216 | E6: =D6+D6*$J$1 -> 222.48 | F6: =E6+E6*$J$1 -> 229.1544 | G6: =F6+F6*$J$1 -> 236.02903 | H6: =G6+G6*$J$1 -> 243.1099 | I6: =H6+H6*$J$1 -> 250.4032 | J6: =I6+I6*$J$1 -> 257.9153 | K6: =J6+J6*$J$1 -> 265.65275 | L6: =K6+K6*$J$1 -> 273.62234 | ... R6: =Q6+Q6*$J$1 -> 326.71938 | U6: NPV | V6: cena za cyklus | X6: NPV | Z6: diskotní sazba
B7: Mycí prostředek / cyklus | C7: - | D7: ='INJET 388-CRD - Náklady'!J7+'INJET 388-CRD - Náklady'!J8 -> 86.04 | E7: =D7+(D7*$C$1) -> 87.7608 | F7: =E7+(E7*$C$1) -> 89.516016 | G7: =F7+(F7*$C$1) -> 91.306336 | H7: =G7+(G7*$C$1) -> 93.132463 | I7: =H7+(H7*$C$1) -> 94.995112 | J7: =I7+(I7*$C$1) -> 96.895015 | K7: =J7+(J7*$C$1) -> 98.832915 | L7: =K7+(K7*$C$1) -> 100.80957 | ... R7: =Q7+(Q7*$C$1) -> 113.52795 | U7: 0 | V7: 431 | X7: 431 | Y7: 448
B8: Deionizovaná voda + výměna / cyklus | C8: - | D8: ='INJET 388-CRD - Náklady'!J10+'INJET 388-CRD - Náklady'!J11 -> 26.0958 | E8: =D8+D8*$C$1 -> 26.617716 | F8: =E8+E8*$C$1 -> 27.15007 | G8: =F8+F8*$C$1 -> 27.693072 | H8: =G8+G8*$C$1 -> 28.246933 | I8: =H8+H8*$C$1 -> 28.811872 | J8: =I8+I8*$C$1 -> 29.388109 | K8: =J8+J8*$C$1 -> 29.975871 | L8: =K8+K8*$C$1 -> 30.575389 | ... R8: =Q8+Q8*$C$1 -> 34.432854 | U8: 500 | V8: 458 | X8: 491 | Y8: 942 | Z8: 0.04
B9: Spotřební materiál / cyklus | C9: - | D9: ='INJET 388-CRD - Náklady'!J14 -> 72.624 | E9: =D9+D9*$C$1 -> 74.07648 | F9: =E9+E9*$C$1 -> 75.55801 | G9: =F9+F9*$C$1 -> 77.06917 | H9: =G9+G9*$C$1 -> 78.610553 | I9: =H9+H9*$C$1 -> 80.182764 | J9: =I9+I9*$C$1 -> 81.78642 | K9: =J9+J9*$C$1 -> 83.422148 | L9: =K9+K9*$C$1 -> 85.090591 | ... R9: =Q9+Q9*$C$1 -> 95.825826 | U9: 1000 | V9: 487 | X9: 370 | Y9: 788 | Z9: 0.05
B10: Revize a servis / rok | C10: - | D10: ='INJET 388-CRD - Náklady'!C29 -> 18240 | E10: =D10+D10*$C$1 -> 18604.8 | F10: =E10+E10*$C$1 -> 18976.896 | G10: =F10+F10*$C$1 -> 19356.434 | H10: =G10+G10*$C$1 -> 19743.563 | I10: =H10+H10*$C$1 -> 20138.434 | J10: =I10+I10*$C$1 -> 20541.203 | K10: =J10+J10*$C$1 -> 20952.027 | L10: =K10+K10*$C$1 -> 21371.067 | ... R10: =Q10+Q10*$C$1 -> 24067.293 | X10: 262 | Y10: 649 | Z10: 0.06
X11: 165 | Y11: 526 | Z11: 0.07
B12: Cena za jeden mycí cyklus | C12: - | D12: 430.69849 | E12: =D12+D12*$C$1 -> 439.31246 | F12: =E12+E12*$C$1 -> 448.09871 | G12: =F12+F12*$C$1 -> 457.06068 | H12: =G12+G12*$C$1 -> 466.2019 | I12: =H12+H12*$C$1 -> 475.52594 | J12: =I12+I12*$C$1 -> 485.03645 | K12: =J12+J12*$C$1 -> 494.73718 | L12: =K12+K12*$C$1 -> 504.63193 | ... R12: =Q12+Q12*$C$1 -> 568.29751 | X12: 78 | Y12: 414 | Z12: 0.08
B13: Předpokládaný počet cyklů | C13: - | D13: 1250 | E13: =D13+D13*$R$1 -> 1475 | F13: =E13+E13*$R$1 -> 1740.5 | G13: =F13+F13*$R$1 -> 2053.79 | H13: =G13+G13*$R$1 -> 2423.4722 | I13: =H13+H13*$R$1 -> 2859.6972 | J13: =I13 -> 2859.6972 | K13: =J13 -> 2859.6972 | L13: =K13 -> 2859.6972 | M13: =L13 -> 2859.6972 | N13: =M13 -> 2859.6972 | O13: =N13 -> 2859.6972 | P13: =O13 -> 2859.6972 | Q13: =P13 -> 2859.6972 | R13: =Q13 -> 2859.6972 | X13: 0 | Y13: 314 | Z13: 0.09
X14: -70 | Y14: 224 | Z14: 0.1
B15: Celkové provozní výnosy | C15: - | D15: =D13*D12 -> 538373.11 | E15: =E13*E12 -> 647985.88 | F15: =F13*F12 -> 779915.81 | G15: =G13*G12 -> 938706.66 | H15: =H13*H12 -> 1129827.3 | I15: =I13*I12 -> 1359860.2 | J15: =J13*J12 -> 1387057.4 | K15: =K13*K12 -> 1414798.5 | ... R15: =R13*R12 -> 1625158.8 | X15: -134 | Y15: 142 | Z15: 0.11
X16: -191 | Y16: 68 | Z16: 0.12
B17: Energie | C17: - | D17: =D13*('INJET 388-CRD - Náklady'!$J$5+'INJET 388-CRD - Náklady'!$J$6) -> 4868.3025 | E17: =E13*('INJET 388-CRD - Náklady'!$J$5+'INJET 388-CRD - Náklady'!$J$6) -> 5744.5969 | F17: =F13*('INJET 388-CRD - Náklady'!$J$5+'INJET 388-CRD - Náklady'!$J$6) -> 6778.6244 | G17: =G13*('INJET 388-CRD - Náklady'!$J$5+'INJET 388-CRD - Náklady'!$J$6) -> 7998.7768 | H17: =H13*('INJET 388-CRD - Náklady'!$J$5+'INJET 388-CRD - Náklady'!$J$6) -> 9438.5566 | I17: =I13*('INJET 388-CRD - Náklady'!$J$5+'INJET 388-CRD - Náklady'!$J$6) -> 11137.497 | J17: =J13*('INJET 388-CRD - Náklady'!$J$5+'INJET 388-CRD - Náklady'!$J$6) -> 11137.497 | K17: =K13*('INJET 388-CRD - Náklady'!$J$5+'INJET 388-CRD - Náklady'!$J$6) -> 11137.497 | ... R17: =R13*('INJET 388-CRD - Náklady'!$J$5+'INJET 388-CRD - Náklady'!$J$6) -> 11137.497 | X17: -243 | Y17: 1.5 | Z17: 0.13
B18: Osobní náklady | C18: - | D18: =D6*'INJET 388-CRD - Náklady'!$C$12*'INJET 388-CRD - Náklady'!$C$14 -> 432000 | E18: =E6*'INJET 388-CRD - Náklady'!$C$12*'INJET 388-CRD - Náklady'!$C$14 -> 444960 | F18: =F6*'INJET 388-CRD - Náklady'!$C$12*'INJET 388-CRD - Náklady'!$C$14 -> 458308.8 | G18: =G6*'INJET 388-CRD - Náklady'!$C$12*'INJET 388-CRD - Náklady'!$C$14 -> 472058.06 | H18: =H6*'INJET 388-CRD - Náklady'!$C$12*'INJET 388-CRD - Náklady'!$C$14 -> 486219.81 | I18: =I6*'INJET 388-CRD - Náklady'!$C$12*'INJET 388-CRD - Náklady'!$C$14 -> 500806.4 | J18: =J6*'INJET 388-CRD - Náklady'!$C$12*'INJET 388-CRD - Náklady'!$C$14 -> 515830.59 | K18: =K6*'INJET 388-CRD - Náklady'!$C$12*'INJET 388-CRD - Náklady'!$C$14 -> 531305.51 | ... R18: =R6*'INJET 388-CRD - Náklady'!$C$12*'INJET 388-CRD - Náklady'!$C$14 -> 653438.76 | X18: -290 | Y18: -59 | Z18: 0.14
B19: Mycí prostředek | C19: - | D19: =D7*D13 -> 107550 | E19: =E7*E13 -> 129447.18 | F19: =F7*F13 -> 155802.63 | G19: =G7*G13 -> 187524.04 | H19: =H7*H13 -> 225703.94 | I19: =I7*I13 -> 271657.26 | J19: =J7*J13 -> 277090.4 | K19: =K7*K13 -> 282632.21 | ... R19: =R7*R13 -> 324655.57 | X19: -332 | Y19: -114 | Z19: 0.15
B20: Deionizovaná voda | C20: - | D20: =D8*D13 -> 32619.75 | E20: =E8*E13 -> 39261.131 | F20: =F8*F13 -> 47254.697 | G20: =G8*G13 -> 56875.754 | H20: =H8*H13 -> 68455.657 | I20: =I8*I13 -> 82393.229 | J20: =J8*J13 -> 84041.094 | K20: =K8*K13 -> 85721.916 | ... R20: =R8*R13 -> 98467.536
B21: Spotřební materiál | C21: - | D21: =D9*D13 -> 90780 | E21: =E9*E13 -> 109262.81 | F21: =F9*F13 -> 131508.72 | G21: =G9*G13 -> 158283.89 | H21: =H9*H13 -> 190510.49 | I21: =I9*I13 -> 229298.43 | J21: =J9*J13 -> 233884.39 | K21: =K9*K13 -> 238562.08 | ... R21: =R9*R13 -> 274032.85
B22: Revize a servis | C22: - | D22: =D10 -> 18240 | E22: =E10+E10*$R$1 -> 21953.664 | F22: =F10+F10*$R$1 -> 22392.737 | G22: =G10+G10*$R$1 -> 22840.592 | H22: =H10+H10*$R$1 -> 23297.404 | I22: =I10+I10*$R$1 -> 23763.352 | J22: =J10+J10*$R$1 -> 24238.619 | K22: =K10+K10*$R$1 -> 24723.391 | L22: =L10+L10*$R$1 -> 25217.859 | ... R22: =R10+R10*$R$1 -> 28399.405 | X22: Výpočet RCF
B23: Ekologická likvidace | D23: =('INJET 388-CRD - Náklady'!$J$12+'INJET 388-CRD - Náklady'!$J$9)*D13 -> 5404 | E23: =('INJET 388-CRD - Náklady'!$J$12+'INJET 388-CRD - Náklady'!$J$9)*E13 -> 6376.72 | F23: =('INJET 388-CRD - Náklady'!$J$12+'INJET 388-CRD - Náklady'!$J$9)*F13 -> 7524.5296 | G23: =('INJET 388-CRD - Náklady'!$J$12+'INJET 388-CRD - Náklady'!$J$9)*G13 -> 8878.9449 | H23: =('INJET 388-CRD - Náklady'!$J$12+'INJET 388-CRD - Náklady'!$J$9)*H13 -> 10477.155 | I23: =('INJET 388-CRD - Náklady'!$J$12+'INJET 388-CRD - Náklady'!$J$9)*I13 -> 12363.043 | J23: =('INJET 388-CRD - Náklady'!$J$12+'INJET 388-CRD - Náklady'!$J$9)*J13 -> 12363.043 | K23: =('INJET 388-CRD - Náklady'!$J$12+'INJET 388-CRD - Náklady'!$J$9)*K13 -> 12363.043 | ... R23: =('INJET 388-CRD - Náklady'!$J$12+'INJET 388-CRD - Náklady'!$J$9)*R13 -> 12363.043 | X23: aTp | Y23: =((1+$C$55)^(15))*((C55+1)-1)/(($C$55+1)^(15)-1) -> 0.12405888
B24: Součet nákladů bez odpisů | D24: =SUM(D17:D23) -> 691462.05 | E24: =SUM(E17:E23) -> 757006.1 | F24: =SUM(F17:F23) -> 829570.73 | G24: =SUM(G17:G23) -> 914460.06 | H24: =SUM(H17:H23) -> 1014103 | I24: =SUM(I17:I23) -> 1131419.2 | J24: =SUM(J17:J23) -> 1158585.6 | K24: =SUM(K17:K23) -> 1186445.6 | ... R24: =SUM(R17:R23) -> 1402494.7 | X24: NPV | Y24: Zvýšení ceny v % | Z24: Cena za cyklus | AA24: RCF
B25: Odpisy | D25: ='INJET 388-CRD - Náklady'!$C$3/'INJET 388-CRD - Náklady'!$C$11 -> 44573.467 | E25: ='INJET 388-CRD - Náklady'!$C$3/'INJET 388-CRD - Náklady'!$C$11 -> 44573.467 | F25: ='INJET 388-CRD - Náklady'!$C$3/'INJET 388-CRD - Náklady'!$C$11 -> 44573.467 | G25: ='INJET 388-CRD - Náklady'!$C$3/'INJET 388-CRD - Náklady'!$C$11 -> 44573.467 | H25: ='INJET 388-CRD - Náklady'!$C$3/'INJET 388-CRD - Náklady'!$C$11 -> 44573.467 | I25: ='INJET 388-CRD - Náklady'!$C$3/'INJET 388-CRD - Náklady'!$C$11 -> 44573.467 | J25: ='INJET 388-CRD - Náklady'!$C$3/'INJET 388-CRD - Náklady'!$C$11 -> 44573.467 | K25: ='INJET 388-CRD - Náklady'!$C$3/'INJET 388-CRD - Náklady'!$C$11 -> 44573.467 | ... R25: ='INJET 388-CRD - Náklady'!$C$3/'INJET 388-CRD - Náklady'!$C$11 -> 44573.467
B26: Daňové odpisy | D26: ='INJET 388-CRD - Náklady'!$C$3/100*11 -> 73546.22 | E26: ='INJET 388-CRD - Náklady'!$C$3/100*22.25 -> 148763.95 | F26: ='INJET 388-CRD - Náklady'!$C$3/100*22.25 -> 148763.95 | G26: ='INJET 388-CRD - Náklady'!$C$3/100*22.25 -> 148763.95 | H26: ='INJET 388-CRD - Náklady'!$C$3/100*22.25 -> 148763.95 | X26: 0 | Y26: 0 | Z26: 431 | AA26: 0
B27: Celkové provozní náklady | D27: =SUM(D24:D25) -> 736035.52 | E27: =SUM(E24:E25) -> 801579.57 | F27: =SUM(F24:F25) -> 874144.2 | G27: =SUM(G24:G25) -> 959033.53 | H27: =SUM(H24:H25) -> 1058676.5 | I27: =SUM(I24:I25) -> 1175992.7 | J27: =SUM(J24:J25) -> 1203159.1 | K27: =SUM(K24:K25) -> 1231019.1 | ... R27: =SUM(R24:R25) -> 1447068.1 | X27: 315138 | Y27: 3.9 | Z27: 448 | AA27: =X27*Y23 -> 39095.668
X28: 393924 | Y28: 5 | Z28: 452.5 | AA28: =X28*Y23 -> 48869.771
B29: Provozní zisk (EBIT) | D29: =D15-D27 -> -197662.41 | E29: =E15-E27 -> -153593.69 | F29: =F15-F27 -> -94228.392 | G29: =G15-G27 -> -20326.866 | H29: =H15-H27 -> 71150.869 | I29: =I15-I27 -> 183867.52 | J29: =J15-J27 -> 183898.28 | K29: =K15-K27 -> 183779.42 | ... R29: =R15-R27 -> 178090.68 | X29: 584723 | Y29: 7.5 | Z29: 463.3 | AA29: =X29*Y23 -> 72540.082
B31: Základ daně před odečtením ztrát | D31: =D29+D25-D26 -> -226635.16 | E31: =E29+E25-E26 -> -257784.17 | F31: =F29+F25-F26 -> -198418.87 | G31: =G29+G25-G26 -> -124517.34 | H31: =H29+H25-H26 -> -33039.609 | I31: =I29+I25-I26 -> 228440.98 | J31: =J29+J25-J26 -> 228471.75 | K31: =K29+K25-K26 -> 228352.89 | ... R31: =R29+R25-R26 -> 222664.15
B32: Uplatnění ztráty z roku 2016 | D32: 0 | E32: 0 | F32: 0 | G32: 0 | H32: =0 -> 0 | I32: =H33 -> 226635.16 | J32: 0 | K32: =0 -> 0 | L32: =0 -> 0 | M32: =0 -> 0
B33: Zůstatek ztráty z roku 2016 | D33: =ABS(D31-D32) -> 226635.16 | E33: =D33-E32 -> 226635.16 | F33: =E33-F32 -> 226635.16 | G33: =F33-G32 -> 226635.16 | H33: =G33-H32 -> 226635.16 | I33: =H33-I32 -> 0 | J33: =I33-J32 -> 0 | K33: =J33-K32 -> 0 | L33: =K33-L32 -> 0 | ... R33: =Q33-R32 -> 0
B34: Uplatnění ztráty z roku 2017 | E34: 0 | F34: 0 | G34: 0 | H34: 0 | I34: =I31-I32 -> 1805.8241 | J34: =J31 -> 228471.75 | K34: 0 | L34: =0 -> 0 | M34: =0 -> 0 | N34: =0 -> 0 | O34: =0 -> 0 | P34: =0 -> 0 | Q34: =0 -> 0
B35: Zůstatek ztráty z roku 2017 | E35: =ABS(E31-E34) -> 257784.17 | F35: =E35-F34 -> 257784.17 | G35: =F35-G34 -> 257784.17 | H35: =G35-H34 -> 257784.17 | I35: =H35-I34 -> 255978.34 | J35: =I35-J34 -> 27506.592 | K35: =J35-K34 -> 27506.592 | L35: =K35-L34 -> 27506.592 | M35: =L35-M34 -> 27506.592 | ... Q35: =P35-Q34 -> 27506.592
B36: Uplatnění ztráty z roku 2018 | F36: 0 | G36: 0 | H36: 0 | I36: 0 | J36: =J31-J34 -> 0 | K36: =J37 -> 198418.87 | L36: =K37 -> 0 | M36: =L37 -> 0
B37: Zůstatek ztráty z roku 2018 | F37: =ABS(F31-F36) -> 198418.87 | G37: =F37-G36 -> 198418.87 | H37: =G37-H36 -> 198418.87 | I37: =H37-I36 -> 198418.87 | J37: =I37-J36 -> 198418.87 | K37: =J37-K36 -> 0 | L37: =K37-L36 -> 0 | M37: =L37-M36 -> 0
B38: Uplatnění ztráty z roku 2019 | G38: 0 | H38: 0 | I38: 0 | J38: 0 | K38: =K31-K36 -> 29934.019 | L38: =K39 -> 94583.325 | M38: =L39 -> 0
B39: Zůstatek ztráty z roku 2019 | G39: =ABS(G31) -> 124517.34 | H39: =G39-H38 -> 124517.34 | I39: =H39-I38 -> 124517.34 | J39: =I39-J38 -> 124517.34 | K39: =J39-K38 -> 94583.325 | L39: =K39-L38 -> 0 | M39: =L39-M38 -> 0
B40: Uplatnění ztráty z roku 2020 | H40: 0 | I40: 0 | J40: =0 -> 0 | K40: 0 | L40: =K41 -> 0
B41: Zůstatek ztráty z roku 2020 | H41: 0 | I41: =H41-I40 -> 0 | J41: =I41-J40 -> 0 | K41: =J41-K40 -> 0 | L41: =K41-L40 -> 0
B42: Základ daně | C42: - | D42: 0 | E42: 0 | F42: 0 | G42: 0 | H42: 0 | I42: =I31-I32-I34-I36-I38 -> 0 | J42: =J31-J34-J36-J38-J40 -> 0 | K42: =K31-K34-K36-K38-K40 -> 0 | L42: =L31-L34-L36-L38-L40 -> 133493.58 | M42: =M31 -> 227636 | N42: =N31 -> 227022.12 | O42: =O31 -> 226226.85 | P42: =P31 -> 225241.51 | Q42: =Q31 -> 224057.06 | R42: =R31 -> 222664.15
B43: Daň z příjmu (19%) | D43: =D42*0.19 -> 0 | E43: =E42*0.19 -> 0 | F43: =F42*0.19 -> 0 | G43: =G42*0.19 -> 0 | H43: =H42*0.19 -> 0 | I43: =I42*0.19 -> 0 | J43: =J42*0.19 -> 0 | K43: =K42*0.19 -> 0 | ... R43: =R42*0.19 -> 42306.188
B44: Zisk po zdanění (EAT) | D44: =D31-D43 -> -226635.16 | E44: =E31-E43 -> -257784.17 | F44: =F31-F43 -> -198418.87 | G44: =G31-G43 -> -124517.34 | H44: =H31-H43 -> -33039.609 | I44: =I31-I43 -> 228440.98 | J44: =J31-J43 -> 228471.75 | K44: =K31-K43 -> 228352.89 | ... R44: =R31-R43 -> 180357.96
B46: Cash flow po zdanění | C46: =-('INJET 388-CRD - Náklady'!C3) -> -668602 | D46: =D15-D24-D43 -> -153088.94 | E46: =E15-E24-E43 -> -109020.22 | F46: =F15-F24-F43 -> -49654.925 | G46: =G15-G24-G43 -> 24246.601 | H46: =H15-H24-H43 -> 115724.34 | I46: =I15-I24-I43 -> 228440.98 | J46: =J15-J24-J43 -> 228471.75 | K46: =K15-K24-K43 -> 228352.89 | ... R46: =R15-R24-R43 -> 180357.96
B47: Kumulovaná hodnota CF | D47: =D46 -> -153088.94 | E47: =D47+E46 -> -262109.16 | F47: =E47+F46 -> -311764.08 | G47: =F47+G46 -> -287517.48 | H47: =G47+H46 -> -171793.15 | I47: =H47+I46 -> 56647.835 | J47: =I47+J46 -> 285119.58 | K47: =J47+K46 -> 513472.47 | L47: =K47+L46 -> 716185.6 | ... R47: =Q47+R46 -> 1811992.2
B48: Diskontované CF | D48: =D46/(1+$C$55)^D4 -> -140448.57 | E48: =E46/(1+$C$55)^E4 -> -91760.138 | F48: =F46/(1+$C$55)^F4 -> -38342.713 | G48: =G46/(1+$C$55)^G4 -> 17176.903 | H48: =H46/(1+$C$55)^H4 -> 75212.878 | I48: =I46/(1+$C$55)^I4 -> 136211.89 | J48: =J46/(1+$C$55)^J4 -> 124981.87 | K48: =K46/(1+$C$55)^K4 -> 114602.61 | ... R48: =R46/(1+$C$55)^R4 -> 49515.121
B49: Kumulovaná hodnota DCF | D49: =D48 -> -140448.57 | E49: =D49+E48 -> -232208.71 | F49: =E49+F48 -> -270551.42 | G49: =F49+G48 -> -253374.52 | H49: =G49+H48 -> -178161.64 | I49: =H49+I48 -> -41949.743 | J49: =I49+J48 -> 83032.127 | K49: =J49+K48 -> 197634.74 | L49: =K49+L48 -> 290969.5 | ... R49: =Q49+R48 -> 668602
B52: Akumulovaný zisk | C52: =SUM(D44:R44) -> 1143390.2
B53: Čistá současná hodnota | C53: =NPV(C55,D46:R46)+C46 -> 0
B54: Vnitřní výnosové procento | C54: =IRR(C46:R46) -> 0.09
B55: Diskotní sazba | C55: 0.09
A61: Zaznamenané hodnoty pro dvě různé ceny za účelem srovnání
B62: Kapitálový výdaj | D62: 668602 | E62: 668602 | F62: 668602 | G62: 668602 | H62: 668602 | I62: 668602 | J62: 668602 | K62: 668602 | L62: 668602 | M62: 668602 | N62: 668602 | O62: 668602 | P62: 668602 | Q62: 668602 | R62: 668602
B63: Součet mycích cyklů | D63: =D13 -> 1250 | E63: =D63+E13 -> 2725 | F63: =E63+F13 -> 4465.5 | G63: =F63+G13 -> 6519.29 | H63: =G63+H13 -> 8942.7622 | I63: =H63+I13 -> 11802.459 | J63: =I63+J13 -> 14662.157 | K63: =J63+K13 -> 17521.854 | L63: =K63+L13 -> 20381.551 | ... R63: =Q63+R13 -> 37539.734
B64: Kumulované náklady | D64: =D27 -> 736035.52 | E64: =D64+E27 -> 1537615.1 | F64: =E64+F27 -> 2411759.3 | G64: =F64+G27 -> 3370792.8 | H64: =G64+H27 -> 4429469.3 | I64: =H64+I27 -> 5605462 | J64: =I64+J27 -> 6808621.1 | K64: =J64+K27 -> 8039640.2 | L64: =K64+L27 -> 9299231.2 | ... R64: =Q64+R27 -> 17499103
A66: 431 Kč /cyklus | B66: Provozní výnosy | C66: - | D66: 538180.1 | E66: 647753.57 | F66: 779636.19 | G66: 938370.12 | H66: 1129422.3 | I66: 1359372.7 | J66: 1386560.1 | K66: 1414291.3 | L66: 1442577.1 | M66: 1471428.7 | N66: 1500857.3 | O66: 1530874.4 | P66: 1561491.9 | Q66: 1592721.7 | R66: 1624576.2
B67: Kumulované výnosy | D67: =D66 -> 538180.1 | E67: =E66+D67 -> 1185933.7 | F67: =F66+E67 -> 1965569.9 | G67: =G66+F67 -> 2903940 | H67: =H66+G67 -> 4033362.3 | I67: =I66+H67 -> 5392734.9 | J67: =J66+I67 -> 6779295 | K67: =K66+J67 -> 8193586.3 | L67: =L66+K67 -> 9636163.5 | ... R67: =R66+Q67 -> 18918114
B69: Cash Flow po zdanění | C69: -668602 | D69: -153281.95 | E69: -109252.53 | F69: -49934.537 | G69: 23910.061 | H69: 115319.28 | I69: 227953.45 | J69: 227974.47 | K69: 227845.66 | L69: 208861.98 | M69: 183957.71 | N69: 183451.91 | O69: 182799.03 | P69: 181992.01 | Q69: 181023.53 | R69: 179886.02
B70: Kumulovaná hodnota CF | D70: =D69 -> -153281.95 | E70: =D70+E69 -> -262534.49 | F70: =E70+F69 -> -312469.02 | G70: =F70+G69 -> -288558.96 | H70: =G70+H69 -> -173239.69 | I70: =H70+I69 -> 54713.766 | J70: =I70+J69 -> 282688.23 | K70: =J70+K69 -> 510533.9 | L70: =K70+L69 -> 719395.88 | ... R70: =Q70+R69 -> 1812506.1
B71: Diskontované CF | D71: =D69/(1+$C$55)^D4 -> -140625.65 | E71: =E69/(1+$C$55)^E4 -> -91955.671 | F71: =F69/(1+$C$55)^F4 -> -38558.624 | G71: =G69/(1+$C$55)^G4 -> 16938.49 | H71: =H69/(1+$C$55)^H4 -> 74949.617 | I71: =I69/(1+$C$55)^I4 -> 135921.2 | J71: =J69/(1+$C$55)^J4 -> 124709.84 | K71: =K69/(1+$C$55)^K4 -> 114348.06 | ... R71: =R69/(1+$C$55)^R4 -> 49385.555
B72: Kumulovaná hodnota DCF | D72: =D71 -> -140625.65 | E72: =D72+E71 -> -232581.32 | F72: =E72+F71 -> -271139.94 | G72: =F72+G71 -> -254201.45 | H72: =G72+H71 -> -179251.83 | I72: =H72+I71 -> -43330.638 | J72: =I72+J71 -> 81379.203 | K72: =J72+K71 -> 195727.26 | L72: =K72+L71 -> 291893.12 | ... R72: =Q72+R71 -> 668602
A74: 448 Kč/cyklus | B74: Provozní výnosy | C74: - | D74: 560000 | E74: 674016 | F74: 811245.66 | G74: 976415.27 | H74: 1175213.4 | I74: 1414486.9 | J74: 1442776.6 | K74: 1471632.1 | L74: 1501064.8 | M74: 1531086.1 | N74: 1561707.8 | O74: 1592942 | P74: 1624800.8 | Q74: 1657296.8 | R74: 1690442.8
B75: Kumulované výnosy | D75: =D74 -> 560000 | E75: =D75+E74 -> 1234016 | F75: =E75+F74 -> 2045261.7 | G75: =F75+G74 -> 3021676.9 | H75: =G75+H74 -> 4196890.4 | I75: =H75+I74 -> 5611377.2 | J75: =I75+J74 -> 7054153.8 | K75: =J75+K74 -> 8525786 | L75: =K75+L74 -> 10026851 | ... R75: =Q75+R74 -> 19685127
B77: Cash Flow po zdanění | C77: -668602 | D77: -131462.05 | E77: -82990.1 | F77: -18325.073 | G77: 61955.211 | H77: 161110.42 | I77: 283067.67 | J77: 284190.97 | K77: 252101.5 | L77: 231698.22 | M77: 232280.21 | N77: 232740.86 | O77: 233073.75 | P77: 233272.23 | Q77: 233329.36 | R77: 233237.96
B78: Kumulovaná hodnota CF | D78: =D77 -> -131462.05 | E78: =D78+E77 -> -214452.15 | F78: =E78+F77 -> -232777.23 | G78: =F78+G77 -> -170822.01 | H78: =G78+H77 -> -9711.5948 | I78: =H78+I77 -> 273356.08 | J78: =I78+J77 -> 557547.05 | K78: =J78+K77 -> 809648.55 | L78: =K78+L77 -> 1041346.8 | ... R78: =Q78+R77 -> 2439281.1
B79: Diskontované CF | D79: =D77/(1+$C$55)^D4 -> -120607.39 | E79: =E77/(1+$C$55)^E4 -> -69851.107 | F79: =F77/(1+$C$55)^F4 -> -14150.318 | G79: =G77/(1+$C$55)^G4 -> 43890.634 | H79: =H77/(1+$C$55)^H4 -> 104710.72 | I79: =I77/(1+$C$55)^I4 -> 168784 | J79: =J77/(1+$C$55)^J4 -> 155462.19 | K79: =K77/(1+$C$55)^K4 -> 126521.24 | ... R79: =R77/(1+$C$55)^R4 -> 64032.693
B80: Kumulovaná hodnota DCF | D80: =D79 -> -120607.39 | E80: =D80+E79 -> -190458.49 | F80: =E80+F79 -> -204608.81 | G80: =F80+G79 -> -160718.18 | H80: =G80+H79 -> -56007.461 | I80: =H80+I79 -> 112776.54 | J80: =I80+J79 -> 268238.74 | K80: =J80+K79 -> 394759.98 | L80: =K80+L79 -> 501440.28 | ... R80: =Q80+R79 -> 982562.59
