Workbook

Sheet viskozita-smyk

Sheet reogram

Sheet energie
D4: Homogenizace
D5: n (1/min) | E5: t (min) | F5: ρ (kg/m3) | G5: Po | H5: d (m) | I5: m (g) | J5: P (W) | K5: ε (W/kg) | L5: E (J/kg)
C6: 1 | D6: 1500 | E6: 4 | F6: 1391.417 | G6: 0.9 | H6: 0.034 | I6: =542-45.55 -> 496.45 | J6: =G6*F6*(D6/60)^3*H6^5 -> 0.88902593 | K6: =J6/(I6/1000) -> 1.7907663 | L6: =K6*(E6*60) -> 429.78391
D8: Dispergace
D9: n (1/min) | E9: t (min) | F9: m1 (g) | G9: m0 (g) | H9: m (g) | I9: P (W) | J9: ε (W/kg) | K9: E (J/kg)
C10: 2 | D10: 15500 | E10: 15 | F10: 463.91 | G10: 45.55 | H10: =F10-G10 -> 418.36 | I10: =$G$14*D10^$G$15 -> 76.250563 | J10: =I10/(H10/1000) -> 182.26064 | K10: =J10*E10*60 -> 164034.58
C11: 3 | D11: 15200 | E11: 10 | F11: 383.99 | G11: 45.55 | H11: =F11-G11 -> 338.44 | I11: =$G$14*D11^$G$15 -> 72.247049 | J11: =I11/(H11/1000) -> 213.47078 | K11: =J11*E11*60 -> 128082.47
C12: 4 | D12: 15200 | E12: 7.5 | F12: 300.39 | G12: 45.55 | H12: =F12-G12 -> 254.84 | I12: =$G$14*D12^$G$15 -> 72.247049 | J12: =I12/(H12/1000) -> 283.49964 | K12: =J12*E12*60 -> 127574.84
E14: A | G14: =2.0846*10^-10 -> 2.0846e-10
E15: B | G15: =2.7595 -> 2.7595

Sheet K,m
C2: Po homogenizacei | I2: Dispergace 15 min
C4: step | D4: K1 | E4: K2 | F4: m1 | G4: m2 | I4: step | J4: K1 | K4: K2 | L4: m1 | M4: m2
C5: 1 | D5: 6.2945513 | E5: 5.2986097 | F5: 0.7943 | G5: 0.8837 | I5: 1 | J5: 8.3927011 | K5: 5.9569352 | L5: 0.6749 | M5: 0.8569
C6: 2 | D6: 4.8459903 | E6: 4.3659668 | F6: 0.8748 | G6: 0.9306 | I6: 2 | J6: 5.439477 | K6: 4.6139263 | L6: 0.8271 | M6: 0.9183
C7: 3 | D7: 5.3245576 | E7: 4.9744685 | F7: 0.8637 | G7: 0.8932 | I7: 3 | J7: 6.3343237 | K7: 5.6428756 | L7: 0.8095 | M7: 0.8656
C8: 4 | D8: 4.794214 | E8: 4.2804844 | F8: 0.8675 | G8: 0.932 | I8: 4 | J8: 5.2559984 | K8: 4.4264578 | L8: 0.8381 | M8: 0.9279
C9: 5 | D9: 0 | E9: 0 | F9: 0 | G9: 0 | I9: 5 | J9: 0 | K9: 0 | L9: 0 | M9: 0
C10: 6 | D10: 0 | E10: 0 | F10: 0 | G10: 0 | I10: 6 | J10: 0 | K10: 0 | L10: 0 | M10: 0
C13: Dispergace 25 min | I13: Dispergace 32,5 min
C15: step | D15: K1 | E15: K2 | F15: m1 | G15: m2 | I15: step | J15: K1 | K15: K2 | L15: m1 | M15: m2
C16: 1 | D16: 9.0669883 | E16: 6.5188543 | F16: 0.6593 | G16: 0.8399 | I16: 1 | J16: 9.8391341 | K16: 7.0922647 | L16: 0.6361 | M16: 0.819
C17: 2 | D17: 5.891469 | E17: 4.8672349 | F17: 0.8009 | G17: 0.9084 | I17: 2 | J17: 6.1846718 | K17: 5.0907048 | L17: 0.7889 | M17: 0.8967
C18: 3 | D18: 6.8638338 | E18: 5.9472804 | F18: 0.7833 | G18: 0.8564 | I18: 3 | J18: 7.3723425 | K18: 6.306329 | L18: 0.7652 | M18: 0.8405
C19: 4 | D19: 5.5377011 | E19: 4.6078972 | F19: 0.824 | G19: 0.9219 | I19: 4 | J19: 5.9477689 | K19: 4.7644291 | L19: 0.7931 | M19: 0.9116
C20: 5 | D20: 0 | E20: 0 | F20: 0 | G20: 0 | I20: 5 | J20: 0 | K20: 0 | L20: 0 | M20: 0
C21: 6 | D21: 0 | E21: 0 | F21: 0 | G21: 0 | I21: 6 | J21: 0 | K21: 0 | L21: 0 | M21: 0

Sheet souhrnná tabulka
B5: STATOR-ROTOR (b) | K5: Homogenizace | Q5: Dispergace 15 min
B7: Vzorek | C7: n (1/min) | D7: t (min) | E7: m (g) | F7: P (W) | G7: ε (W/kg) | H7: E (J/kg) | I7: εmax (W/kg) | K7: step | L7: K1 | M7: K2 | N7: n1 | O7: n2 | Q7: step | R7: K1 | S7: K2 | T7: n1 | U7: n2
B8: Homogenizace | C8: 1500 | D8: 4 | E8: 496.45 | F8: 0.88902593 | G8: 1.7907663 | H8: 429.78391 | I8: - | K8: 1 | L8: 6.2945513 | M8: 5.2986097 | N8: 0.7943 | O8: 0.8837 | Q8: 1 | R8: 8.3927011 | S8: 5.9569352 | T8: 0.6749 | U8: 0.8569
B9: Dispergace 1 | C9: 15500 | D9: 15 | E9: 418.36 | F9: 76.250563 | G9: 182.26064 | H9: 164034.58 | I9: =F9/$D$16 -> 14485.306 | K9: 2 | L9: 4.8459903 | M9: 4.3659668 | N9: 0.8748 | O9: 0.9306 | Q9: 2 | R9: 5.439477 | S9: 4.6139263 | T9: 0.8271 | U9: 0.9183
B10: Dispergace 2 | C10: 15200 | D10: 10 | E10: 338.44 | F10: 72.247049 | G10: 213.47078 | H10: 128082.47 | I10: =F10/$D$16 -> 13724.759 | K10: 3 | L10: 5.3245576 | M10: 4.9744685 | N10: 0.8637 | O10: 0.8932 | Q10: 3 | R10: 6.3343237 | S10: 5.6428756 | T10: 0.8095 | U10: 0.8656
B11: Dispergace 3 | C11: 15200 | D11: 7.5 | E11: 254.84 | F11: 72.247049 | G11: 283.49964 | H11: 127574.84 | I11: =F11/$D$16 -> 13724.759 | K11: 4 | L11: 4.794214 | M11: 4.2804844 | N11: 0.8675 | O11: 0.932 | Q11: 4 | R11: 5.2559984 | S11: 4.4264578 | T11: 0.8381 | U11: 0.9279
C14: ρ | D14: 1391.42
C15: V disi | D15: =(0.01792*0.01792)*PI()/4*0.015 -> 3.7831813e-06
C16: m disi | D16: =D15*D14 -> 0.0052639941 | K16: Dispergace 25 min | Q16: Dispergace 32,5 min
K18: step | L18: K1 | M18: K2 | N18: n1 | O18: n2 | Q18: step | R18: K1 | S18: K2 | T18: n1 | U18: n2
K19: 1 | L19: 9.0669883 | M19: 6.5188543 | N19: 0.6593 | O19: 0.8399 | Q19: 1 | R19: 9.8391341 | S19: 7.0922647 | T19: 0.6361 | U19: 0.819
K20: 2 | L20: 5.891469 | M20: 4.8672349 | N20: 0.8009 | O20: 0.9084 | Q20: 2 | R20: 6.1846718 | S20: 5.0907048 | T20: 0.7889 | U20: 0.8967
K21: 3 | L21: 6.8638338 | M21: 5.9472804 | N21: 0.7833 | O21: 0.8564 | Q21: 3 | R21: 7.3723425 | S21: 6.306329 | T21: 0.7652 | U21: 0.8405
K22: 4 | L22: 5.5377011 | M22: 4.6078972 | N22: 0.824 | O22: 0.9219 | Q22: 4 | R22: 5.9477689 | S22: 4.7644291 | T22: 0.7931 | U22: 0.9116

Sheet porovnani, γ=1,34
B2: E (J/kg) | C2: 0 | D2: =energie!L6 -> 429.78391 | E2: =D2+energie!K10 -> 164464.36 | F2: =E2+energie!K11 -> 292546.83 | G2: =F2+energie!K12 -> 420121.67
B4: Po homogenizacei
B6: step | C6: K1 | D6: m1 | E6: g [s-1] | F6: η [Pa.s] spočítaná
B7: 1 | C7: ='K,m'!D5 -> 6.2945513 | D7: ='K,m'!F5 -> 0.7943 | E7: 1.34 | F7: =C7*E7^(D7-1) -> 5.926787
B8: 2 | C8: ='K,m'!D6 -> 4.8459903 | D8: ='K,m'!F6 -> 0.8748 | E8: 1.34 | F8: =C8*E8^(D8-1) -> 4.6716362
B9: 3 | C9: ='K,m'!D7 -> 5.3245576 | D9: ='K,m'!F7 -> 0.8637 | E9: 1.34 | F9: =C9*E9^(D9-1) -> 5.116337
B10: 4 | C10: ='K,m'!D8 -> 4.794214 | D10: ='K,m'!F8 -> 0.8675 | E10: 1.34 | F10: =C10*E10^(D10-1) -> 4.6118591
B11: 5 | C11: ='K,m'!D9 -> 0 | D11: ='K,m'!F9 -> 0 | E11: 1.34 | F11: =C11*E11^(D11-1) -> 0
B12: 6 | C12: ='K,m'!D10 -> 0 | D12: ='K,m'!F10 -> 0 | E12: 1.34 | F12: =C12*E12^(D12-1) -> 0
B14: Dispergace 15 min
B16: step | C16: K1 | D16: m1 | E16: g [s-1] | F16: η [Pa.s] spočítaná
B17: 1 | C17: ='K,m'!J5 -> 8.3927011 | D17: ='K,m'!L5 -> 0.6749 | E17: 1.34 | F17: =C17*E17^(D17-1) -> 7.6309743
B18: 2 | C18: ='K,m'!J6 -> 5.439477 | D18: ='K,m'!L6 -> 0.8271 | E18: 1.34 | F18: =C18*E18^(D18-1) -> 5.1710737
B19: 3 | C19: ='K,m'!J7 -> 6.3343237 | D19: ='K,m'!L7 -> 0.8095 | E19: 1.34 | F19: =C19*E19^(D19-1) -> 5.9908271
B20: 4 | C20: ='K,m'!J8 -> 5.2559984 | D20: ='K,m'!L8 -> 0.8381 | E20: 1.34 | F20: =C20*E20^(D20-1) -> 5.0127605
B21: 5 | C21: ='K,m'!J9 -> 0 | D21: ='K,m'!L9 -> 0 | E21: 1.34 | F21: =C21*E21^(D21-1) -> 0
B22: 6 | C22: ='K,m'!J10 -> 0 | D22: ='K,m'!L10 -> 0 | E22: 1.34 | F22: =C22*E22^(D22-1) -> 0
B24: Dispergace 25 min
B26: step | C26: K1 | D26: m1 | E26: g [s-1] | F26: η [Pa.s] spočítaná
B27: 1 | C27: ='K,m'!D16 -> 9.0669883 | D27: ='K,m'!F16 -> 0.6593 | E27: 1.34 | F27: =C27*E27^(D27-1) -> 8.206509
B28: 2 | C28: ='K,m'!D17 -> 5.891469 | D28: ='K,m'!F17 -> 0.8009 | E28: 1.34 | F28: =C28*E28^(D28-1) -> 5.5579807
B29: 3 | C29: ='K,m'!D18 -> 6.8638338 | D29: ='K,m'!F18 -> 0.7833 | E29: 1.34 | F29: =C29*E29^(D29-1) -> 6.442036
B30: 4 | C30: ='K,m'!D19 -> 5.5377011 | D30: ='K,m'!F19 -> 0.824 | E30: 1.34 | F30: =C30*E30^(D30-1) -> 5.2596769
B31: 5 | C31: ='K,m'!D20 -> 0 | D31: ='K,m'!F20 -> 0 | E31: 1.34 | F31: =C31*E31^(D31-1) -> 0
B32: 6 | C32: ='K,m'!D21 -> 0 | D32: ='K,m'!F21 -> 0 | E32: 1.34 | F32: =C32*E32^(D32-1) -> 0
B34: Dispergace 32,5 min
B36: step | C36: K1 | D36: m1 | E36: g [s-1] | F36: η [Pa.s] spočítaná
B37: 1 | C37: ='K,m'!J16 -> 9.8391341 | D37: ='K,m'!F16 -> 0.6593 | E37: 1.34 | F37: =C37*E37^(D37-1) -> 8.9053763
B38: 2 | C38: ='K,m'!J17 -> 6.1846718 | D38: ='K,m'!F17 -> 0.8009 | E38: 1.34 | F38: =C38*E38^(D38-1) -> 5.8345866
B39: 3 | C39: ='K,m'!J18 -> 7.3723425 | D39: ='K,m'!F18 -> 0.7833 | E39: 1.34 | F39: =C39*E39^(D39-1) -> 6.9192957
B40: 4 | C40: ='K,m'!J19 -> 5.9477689 | D40: ='K,m'!F19 -> 0.824 | E40: 1.34 | F40: =C40*E40^(D40-1) -> 5.6491569
B41: 5 | C41: ='K,m'!J20 -> 0 | D41: ='K,m'!F20 -> 0 | E41: 1.34 | F41: =C41*E41^(D41-1) -> 0
B42: 6 | C42: ='K,m'!J21 -> 0 | D42: ='K,m'!F21 -> 0 | E42: 1.34 | F42: =C42*E42^(D42-1) -> 0
K52: viskozita | L52: =F7 -> 5.926787 | M52: =F17 -> 7.6309743 | N52: =F27 -> 8.206509 | O52: =F37 -> 8.9053763 | V52: viskozita | W52: =F10 -> 4.6118591 | X52: =F20 -> 5.0127605 | Y52: =F30 -> 5.2596769 | Z52: =F40 -> 5.6491569
K53: energie | L53: =D2 -> 429.78391 | M53: =E2 -> 164464.36 | N53: =F2 -> 292546.83 | O53: =G2 -> 420121.67 | V53: energie | W53: =D2 -> 429.78391 | X53: =E2 -> 164464.36 | Y53: =F2 -> 292546.83 | Z53: =G2 -> 420121.67

Sheet porovnani, γ=4,47
B2: E (J/kg) | C2: 0 | D2: =energie!L6 -> 429.78391 | E2: =D2+energie!K10 -> 164464.36 | F2: =E2+energie!K11 -> 292546.83 | G2: =F2+energie!K12 -> 420121.67
B4: Po homogenizacei
B6: step | C6: K1 | D6: m1 | E6: g [s-1] | F6: η [Pa.s] spočítaná
B7: 1 | C7: ='K,m'!D5 -> 6.2945513 | D7: ='K,m'!F5 -> 0.7943 | E7: 4.47 | F7: =C7*E7^(D7-1) -> 4.625903
B8: 2 | C8: ='K,m'!D6 -> 4.8459903 | D8: ='K,m'!F6 -> 0.8748 | E8: 4.47 | F8: =C8*E8^(D8-1) -> 4.0175754
B9: 3 | C9: ='K,m'!D7 -> 5.3245576 | D9: ='K,m'!F7 -> 0.8637 | E9: 4.47 | F9: =C9*E9^(D9-1) -> 4.341568
B10: 4 | C10: ='K,m'!D8 -> 4.794214 | D10: ='K,m'!F8 -> 0.8675 | E10: 4.47 | F10: =C10*E10^(D10-1) -> 3.9314402
B11: 5 | C11: ='K,m'!D9 -> 0 | D11: ='K,m'!F9 -> 0 | E11: 4.47 | F11: =C11*E11^(D11-1) -> 0
B12: 6 | C12: ='K,m'!D10 -> 0 | D12: ='K,m'!F10 -> 0 | E12: 4.47 | F12: =C12*E12^(D12-1) -> 0
B14: Dispergace 15 min
B16: step | C16: K1 | D16: m1 | E16: g [s-1] | F16: η [Pa.s] spočítaná
B17: 1 | C17: ='K,m'!J5 -> 8.3927011 | D17: ='K,m'!L5 -> 0.6749 | E17: 4.47 | F17: =C17*E17^(D17-1) -> 5.1580647
B18: 2 | C18: ='K,m'!J6 -> 5.439477 | D18: ='K,m'!L6 -> 0.8271 | E18: 4.47 | F18: =C18*E18^(D18-1) -> 4.1987399
B19: 3 | C19: ='K,m'!J7 -> 6.3343237 | D19: ='K,m'!L7 -> 0.8095 | E19: 4.47 | F19: =C19*E19^(D19-1) -> 4.7622991
B20: 4 | C20: ='K,m'!J8 -> 5.2559984 | D20: ='K,m'!L8 -> 0.8381 | E20: 4.47 | F20: =C20*E20^(D20-1) -> 4.1244917
B21: 5 | C21: ='K,m'!J9 -> 0 | D21: ='K,m'!L9 -> 0 | E21: 4.47 | F21: =C21*E21^(D21-1) -> 0
B22: 6 | C22: ='K,m'!J10 -> 0 | D22: ='K,m'!L10 -> 0 | E22: 4.47 | F22: =C22*E22^(D22-1) -> 0
B24: Dispergace 25 min
B26: step | C26: K1 | D26: m1 | E26: g [s-1] | F26: η [Pa.s] spočítaná
B27: 1 | C27: ='K,m'!D16 -> 9.0669883 | D27: ='K,m'!F16 -> 0.6593 | E27: 4.47 | F27: =C27*E27^(D27-1) -> 5.4438141
B28: 2 | C28: ='K,m'!D17 -> 5.891469 | D28: ='K,m'!F17 -> 0.8009 | E28: 4.47 | F28: =C28*E28^(D28-1) -> 4.3726767
B29: 3 | C29: ='K,m'!D18 -> 6.8638338 | D29: ='K,m'!F18 -> 0.7833 | E29: 4.47 | F29: =C29*E29^(D29-1) -> 4.961867
B30: 4 | C30: ='K,m'!D19 -> 5.5377011 | D30: ='K,m'!F19 -> 0.824 | E30: 4.47 | F30: =C30*E30^(D30-1) -> 4.2547631
B31: 5 | C31: ='K,m'!D20 -> 0 | D31: ='K,m'!F20 -> 0 | E31: 4.47 | F31: =C31*E31^(D31-1) -> 0
B32: 6 | C32: ='K,m'!D21 -> 0 | D32: ='K,m'!F21 -> 0 | E32: 4.47 | F32: =C32*E32^(D32-1) -> 0
B34: Dispergace 32,5 min
B36: step | C36: K1 | D36: m1 | E36: g [s-1] | F36: η [Pa.s] spočítaná
B37: 1 | C37: ='K,m'!J16 -> 9.8391341 | D37: ='K,m'!L16 -> 0.6361 | E37: 4.47 | F37: =C37*E37^(D37-1) -> 5.7057136
B38: 2 | C38: ='K,m'!J17 -> 6.1846718 | D38: ='K,m'!L17 -> 0.7889 | E38: 4.47 | F38: =C38*E38^(D38-1) -> 4.5085484
B39: 3 | C39: ='K,m'!J18 -> 7.3723425 | D39: ='K,m'!L18 -> 0.7652 | E39: 4.47 | F39: =C39*E39^(D39-1) -> 5.1869647
B40: 4 | C40: ='K,m'!J19 -> 5.9477689 | D40: ='K,m'!L19 -> 0.7931 | E40: 4.47 | F40: =C40*E40^(D40-1) -> 4.3632034
B41: 5 | C41: ='K,m'!J20 -> 0 | D41: ='K,m'!L20 -> 0 | E41: 4.47 | F41: =C41*E41^(D41-1) -> 0
B42: 6 | C42: ='K,m'!J21 -> 0 | D42: ='K,m'!L21 -> 0 | E42: 4.47 | F42: =C42*E42^(D42-1) -> 0
K52: viskozita | L52: =F7 -> 4.625903 | M52: =F17 -> 5.1580647 | N52: =F27 -> 5.4438141 | O52: =F37 -> 5.7057136 | V52: viskozita | W52: =F10 -> 3.9314402 | X52: =F20 -> 4.1244917 | Y52: =F30 -> 4.2547631 | Z52: =F40 -> 4.3632034
K53: energie | L53: ='porovnani, γ=1,34'!D2 -> 429.78391 | M53: ='porovnani, γ=1,34'!E2 -> 164464.36 | N53: ='porovnani, γ=1,34'!F2 -> 292546.83 | O53: ='porovnani, γ=1,34'!G2 -> 420121.67 | V53: energie | W53: ='porovnani, γ=1,34'!D2 -> 429.78391 | X53: ='porovnani, γ=1,34'!E2 -> 164464.36 | Y53: ='porovnani, γ=1,34'!F2 -> 292546.83 | Z53: ='porovnani, γ=1,34'!G2 -> 420121.67

Sheet porovnani, γ =39,28
B2: E (J/kg) | C2: 0 | D2: =energie!L6 -> 429.78391 | E2: =D2+energie!K10 -> 164464.36 | F2: =E2+energie!K11 -> 292546.83 | G2: =F2+energie!K12 -> 420121.67
B4: Po homogenizacei
B6: step | C6: K2 | D6: m2 | E6: g [s-1] | F6: η [Pa.s] spočítaná
B7: 1 | C7: ='K,m'!E5 -> 5.2986097 | D7: ='K,m'!G5 -> 0.8837 | E7: 39.28 | F7: =C7*E7^(D7-1) -> 3.4574809
B8: 2 | C8: ='K,m'!E6 -> 4.3659668 | D8: ='K,m'!G6 -> 0.9306 | E8: 39.28 | F8: =C8*E8^(D8-1) -> 3.3841136
B9: 3 | C9: ='K,m'!E7 -> 4.9744685 | D9: ='K,m'!G7 -> 0.8932 | E9: 39.28 | F9: =C9*E9^(D9-1) -> 3.3611599
B10: 4 | C10: ='K,m'!E8 -> 4.2804844 | D10: ='K,m'!G8 -> 0.932 | E10: 39.28 | F10: =C10*E10^(D10-1) -> 3.3349495
B11: 5 | C11: ='K,m'!E9 -> 0 | D11: ='K,m'!G9 -> 0 | E11: 39.28 | F11: =C11*E11^(D11-1) -> 0
B12: 6 | C12: ='K,m'!E10 -> 0 | D12: ='K,m'!G10 -> 0 | E12: 39.28 | F12: =C12*E12^(D12-1) -> 0
B14: Dispergace 15 min
B16: step | C16: K2 | D16: m2 | E16: g [s-1] | F16: η [Pa.s] spočítaná
B17: 1 | C17: ='K,m'!K5 -> 5.9569352 | D17: ='K,m'!M5 -> 0.8569 | E17: 39.28 | F17: =C17*E17^(D17-1) -> 3.5228726
B18: 2 | C18: ='K,m'!K6 -> 4.6139263 | D18: ='K,m'!M6 -> 0.9183 | E18: 39.28 | F18: =C18*E18^(D18-1) -> 3.4184312
B19: 3 | C19: ='K,m'!K7 -> 5.6428756 | D19: ='K,m'!M7 -> 0.8656 | E19: 39.28 | F19: =C19*E19^(D19-1) -> 3.4454331
B20: 4 | C20: ='K,m'!K8 -> 4.4264578 | D20: ='K,m'!M8 -> 0.9279 | E20: 39.28 | F20: =C20*E20^(D20-1) -> 3.3971644
B21: 5 | C21: ='K,m'!K9 -> 0 | D21: ='K,m'!M9 -> 0 | E21: 39.28 | F21: =C21*E21^(D21-1) -> 0
B22: 6 | C22: ='K,m'!K10 -> 0 | D22: ='K,m'!M10 -> 0 | E22: 39.28 | F22: =C22*E22^(D22-1) -> 0
B24: Dispergace 25 min
B26: step | C26: K2 | D26: m2 | E26: g [s-1] | F26: η [Pa.s] spočítaná
B27: 1 | C27: ='K,m'!E16 -> 6.5188543 | D27: ='K,m'!G16 -> 0.8399 | E27: 39.28 | F27: =C27*E27^(D27-1) -> 3.6219664
B28: 2 | C28: ='K,m'!E17 -> 4.8672349 | D28: ='K,m'!G17 -> 0.9084 | E28: 39.28 | F28: =C28*E28^(D28-1) -> 3.4774124
B29: 3 | C29: ='K,m'!E18 -> 5.9472804 | D29: ='K,m'!G18 -> 0.8564 | E29: 39.28 | F29: =C29*E29^(D29-1) -> 3.5107135
B30: 4 | C30: ='K,m'!E19 -> 4.6078972 | D30: ='K,m'!G19 -> 0.9219 | E30: 39.28 | F30: =C30*E30^(D30-1) -> 3.4593778
B31: 5 | C31: ='K,m'!E20 -> 0 | D31: ='K,m'!G20 -> 0 | E31: 39.28 | F31: =C31*E31^(D31-1) -> 0
B32: 6 | C32: ='K,m'!E21 -> 0 | D32: ='K,m'!G21 -> 0 | E32: 39.28 | F32: =C32*E32^(D32-1) -> 0
B34: Dispergace 32,5 min
B36: step | C36: K2 | D36: m2 | E36: g [s-1] | F36: η [Pa.s] spočítaná
B37: 1 | C37: ='K,m'!K16 -> 7.0922647 | D37: ='K,m'!M16 -> 0.819 | E37: 39.28 | F37: =C37*E37^(D37-1) -> 3.6495549
B38: 2 | C38: ='K,m'!K17 -> 5.0907048 | D38: ='K,m'!M17 -> 0.8967 | E38: 39.28 | F38: =C38*E38^(D38-1) -> 3.4841753
B39: 3 | C39: ='K,m'!K18 -> 6.306329 | D39: ='K,m'!M18 -> 0.8405 | E39: 39.28 | F39: =C39*E39^(D39-1) -> 3.51161
B40: 4 | C40: ='K,m'!K19 -> 4.7644291 | D40: ='K,m'!M19 -> 0.9116 | E40: 39.28 | F40: =C40*E40^(D40-1) -> 3.4441821
B41: 5 | C41: ='K,m'!K20 -> 0 | D41: ='K,m'!M20 -> 0 | E41: 39.28 | F41: =C41*E41^(D41-1) -> 0
B42: 6 | C42: ='K,m'!K21 -> 0 | D42: ='K,m'!M21 -> 0 | E42: 39.28 | F42: =C42*E42^(D42-1) -> 0
J52: viskozita | K52: =F7 -> 3.4574809 | L52: =F17 -> 3.5228726 | M52: =F27 -> 3.6219664 | N52: =F37 -> 3.6495549 | V52: viskozita | W52: =F10 -> 3.3349495 | X52: =F20 -> 3.3971644 | Y52: =F30 -> 3.4593778 | Z52: =F40 -> 3.4441821
J53: energie | K53: ='porovnani, γ=1,34'!D2 -> 429.78391 | L53: ='porovnani, γ=1,34'!E2 -> 164464.36 | M53: ='porovnani, γ=1,34'!F2 -> 292546.83 | N53: ='porovnani, γ=1,34'!G2 -> 420121.67 | V53: energie | W53: ='porovnani, γ=1,34'!D2 -> 429.78391 | X53: ='porovnani, γ=1,34'!E2 -> 164464.36 | Y53: ='porovnani, γ=1,34'!F2 -> 292546.83 | Z53: ='porovnani, γ=1,34'!G2 -> 420121.67

Sheet procentualni narust
A1: STEP 1
A3: SMYKOVÁ RYCHLOST 1,34 | G3: SMYKOVÁ RYCHLOST 4,47 | M3: SMYKOVÁ RYCHLOST 39,28
A5: Smyková rychlost γ = 1,34 [s-1] | G5: Smyková rychlost γ = 4,47 [s-1] | M5: Smyková rychlost γ = 39,28 [s-1]
C6: η [Pa.s] | D6: Rozdíl [%] | I6: η [Pa.s] | J6: Rozdíl [%] | O6: η [Pa.s] | P6: Rozdíl [%]
A7: Homogenizace | C7: ='porovnani, γ=1,34'!$F$7 -> 5.926787 | D7: =0 -> 0 | G7: Homogenizace | I7: ='porovnani, γ=4,47'!$F$7 -> 4.625903 | J7: =0 -> 0 | M7: Homogenizace | O7: ='porovnani, γ =39,28'!$F$7 -> 3.4574809 | P7: =0 -> 0
A8: Dispergace 1 | C8: ='porovnani, γ=1,34'!$F$17 -> 7.6309743 | D8: =(C8/(C7/100))-100 -> 28.753981 | G8: Dispergace 1 | I8: ='porovnani, γ=4,47'!$F$17 -> 5.1580647 | J8: =(I8/(I7/100))-100 -> 11.503952 | M8: Dispergace 1 | O8: ='porovnani, γ =39,28'!$F$17 -> 3.5228726 | P8: =(O8/(O7/100))-100 -> 1.8913111
A9: Dispergace 2 | C9: ='porovnani, γ=1,34'!$F$27 -> 8.206509 | D9: =(C9/(C7/100))-100 -> 38.464719 | G9: Dispergace 2 | I9: ='porovnani, γ=4,47'!$F$27 -> 5.4438141 | J9: =(I9/(I7/100))-100 -> 17.681112 | M9: Dispergace 2 | O9: ='porovnani, γ =39,28'!$F$27 -> 3.6219664 | P9: =(O9/(O7/100))-100 -> 4.7573812
A10: Dispergace 3 | C10: ='porovnani, γ=1,34'!$F$37 -> 8.9053763 | D10: =(C10/(C7/100))-100 -> 50.256391 | G10: Dispergace 3 | I10: ='porovnani, γ=4,47'!$F$37 -> 5.7057136 | J10: =(I10/(I7/100))-100 -> 23.3427 | M10: Dispergace 3 | O10: ='porovnani, γ =39,28'!$F$37 -> 3.6495549 | P10: =(O10/(O7/100))-100 -> 5.5553157
A12: STEP 4
A14: SMYKOVÁ RYCHLOST 1,34 | G14: SMYKOVÁ RYCHLOST 4,47 | M14: SMYKOVÁ RYCHLOST 39,28
A16: Smyková rychlost γ = 1,34 [s-1] | G16: Smyková rychlost γ = 4,47 [s-1] | M16: Smyková rychlost γ = 39,28 [s-1]
C17: η [Pa.s] | D17: Rozdíl [%] | I17: η [Pa.s] | J17: Rozdíl [%] | O17: η [Pa.s] | P17: Rozdíl [%]
A18: Homogenizace | C18: ='porovnani, γ=1,34'!$F$10 -> 4.6118591 | D18: =0 -> 0 | G18: Homogenizace | I18: ='porovnani, γ=4,47'!$F$10 -> 3.9314402 | J18: =0 -> 0 | M18: Homogenizace | O18: ='porovnani, γ =39,28'!$F$10 -> 3.3349495 | P18: =0 -> 0
A19: Dispergace 1 | C19: ='porovnani, γ=1,34'!$F$20 -> 5.0127605 | D19: =(C19/(C18/100))-100 -> 8.6928367 | G19: Dispergace 1 | I19: ='porovnani, γ=4,47'!$F$20 -> 4.1244917 | J19: =(I19/(I18/100))-100 -> 4.9104532 | M19: Dispergace 1 | O19: ='porovnani, γ =39,28'!$F$20 -> 3.3971644 | P19: =(O19/(O18/100))-100 -> 1.865543
A20: Dispergace 2 | C20: ='porovnani, γ=1,34'!$F$30 -> 5.2596769 | D20: =(C20/(C18/100))-100 -> 14.046781 | G20: Dispergace 2 | I20: ='porovnani, γ=4,47'!$F$30 -> 4.2547631 | J20: =(I20/(I18/100))-100 -> 8.2240325 | M20: Dispergace 2 | O20: ='porovnani, γ =39,28'!$F$30 -> 3.4593778 | P20: =(O20/(O18/100))-100 -> 3.731039
A21: Dispergace 3 | C21: ='porovnani, γ=1,34'!$F$40 -> 5.6491569 | D21: =(C21/(C18/100))-100 -> 22.491966 | G21: Dispergace 3 | I21: ='porovnani, γ=4,47'!$F$40 -> 4.3632034 | J21: =(I21/(I18/100))-100 -> 10.982316 | M21: Dispergace 3 | O21: ='porovnani, γ =39,28'!$F$40 -> 3.4441821 | P21: =(O21/(O18/100))-100 -> 3.2753902

Sheet porovnani metod
A1: STEP 1
B4: ZDÁNLIVÉ VISKOZITY PRO DANOU SMYKOVOU RYCHLOST JSEM PROLOŽIL POLYNOMEM 2. ŘÁDU A PRO ZVOLENOU DISIPOVANOU ENERGII JSEM SPOČÍTAL ZDÁNLIVOU VISKOZITU. TU JSEM NÁSLEDNĚ POROVNAL S VISKOZITOU PO HOMOGENIZACE. ZÍSKAL JSEM PROCENTUÁLNÍ NÁRŮST, KTERÝ JE POROVNATELNÝ I S OSTATNÍMI METODAMI PŘI STEJNÉ DISIPOVANÉ ENERGII ZÍSKANÉ REGRESÍ.
B8: HOMOGENIZACE | K8: VISKOZITA PRO KONSTANTNÍ DISIPOVANOU ENERGII
B10: Smykový rychlost γ = 1,34 [s-1] | K10: Smykový rychlost γ = 1,34 [s-1]
C11: a | D11: b | E11: c | F11: disipovaná energie E [J/kg] | I11: η [Pa.s] | L11: a | M11: b | N11: c | O11: disipovaná energie E [J/kg] | R11: η [Pa.s] | S11: Nárůst [%]
C12: =-0.00000000000990581 -> -9.90581e-12 | D12: =+ 0.000011069 -> 1.1069e-05 | E12: =5.955 -> 5.955 | F12: ='porovnani, γ=1,34'!D2 -> 429.78391 | I12: =C12*F12^2+D12*F12+E12 -> 5.9597554 | L12: =C12 -> -9.90581e-12 | M12: =D12 -> 1.1069e-05 | N12: =E12 -> 5.955 | O12: 120000 | R12: =L12*O12^2+M12*O12+N12 -> 7.1406363 | S12: =(R12/I12*100)-100 -> 19.814251
B14: Smykový rychlost γ = 4,47 [s-1] | K14: Smykový rychlost γ = 4,47 [s-1]
C15: a | D15: b | E15: c | F15: disipovaná energie E [J/kg] | I15: η [Pa.s] | L15: a | M15: b | N15: c | O15: disipovaná energie E [J/kg] | R15: η [Pa.s] | S15: Nárůst [%]
C16: =-0.00000000000228324 -> -2.28324e-12 | D16: =+ 0.00000351071 -> 3.51071e-06 | E16: =4.6282 -> 4.6282 | F16: =F12 -> 429.78391 | I16: =C16*F16^2+D16*F16+E16 -> 4.6297084 | L16: =C16 -> -2.28324e-12 | M16: =D16 -> 3.51071e-06 | N16: =E16 -> 4.6282 | O16: =O12 -> 120000 | R16: =L16*O16^2+M16*O16+N16 -> 5.0166065 | S16: =(R16/I16*100)-100 -> 8.3568571
B18: Smykový rychlost γ = 39,28 [s-1] | K18: Smykový rychlost γ = 39,28 [s-1]
C19: a | D19: b | E19: c | F19: disipovaná energie E [J/kg] | I19: η [Pa.s] | L19: a | M19: b | N19: c | O19: disipovaná energie E [J/kg] | R19: η [Pa.s] | S19: Nárůst [%]
C20: =-0.000000000000197447 -> -1.97447e-13 | D20: =+ 0.000000568652 -> 5.68652e-07 | E20: =+ 3.45248 -> 3.45248 | F20: =F12 -> 429.78391 | I20: =C20*F20^2+D20*F20+E20 -> 3.4527244 | L20: =C20 -> -1.97447e-13 | M20: =D20 -> 5.68652e-07 | N20: =E20 -> 3.45248 | O20: =O12 -> 120000 | R20: =L20*O20^2+M20*O20+N20 -> 3.517875 | S20: =(R20/I20*100)-100 -> 1.8869344
A22: STEP 4
B25: ZDÁNLIVÉ VISKOZITY PRO DANOU SMYKOVOU RYCHLOST JSEM PROLOŽIL POLYNOMEM 2. ŘÁDU A PRO ZVOLENOU DISIPOVANOU ENERGII JSEM SPOČÍTAL ZDÁNLIVOU VISKOZITU. TU JSEM NÁSLEDNĚ POROVNAL S VISKOZITOU PO HOMOGENIZACE. ZÍSKAL JSEM PROCENTUÁLNÍ NÁRŮST, KTERÝ JE POROVNATELNÝ I S OSTATNÍMI METODAMI PŘI STEJNÉ DISIPOVANÉ ENERGII ZÍSKANÉ REGRESÍ.
B29: HOMOGENIZACE | K29: VISKOZITA PRO KONSTANTNÍ DISIPOVANOU ENERGII
B31: Smykový rychlost γ = 1,34 [s-1] | K31: Smykový rychlost γ = 1,34 [s-1]
C32: a | D32: b | E32: c | F32: disipovaná energie E [J/kg] | I32: η [Pa.s] | L32: a | M32: b | N32: c | O32: disipovaná energie E [J/kg] | R32: η [Pa.s] | S32: Nárůst [%]
C33: =0.000000000000870366 -> 8.70366e-13 | D33: =0.00000205575 -> 2.05575e-06 | E33: =4.61944 -> 4.61944 | F33: =F12 -> 429.78391 | I33: =C33*F33^2+D33*F33+E33 -> 4.6203237 | L33: =C33 -> 8.70366e-13 | M33: =D33 -> 2.05575e-06 | N33: =E33 -> 4.61944 | O33: 120000 | R33: =L33*O33^2+M33*O33+N33 -> 4.8786633 | S33: =(R33/I33*100)-100 -> 5.5913741
B35: Smykový rychlost γ = 4,47 [s-1] | K35: Smykový rychlost γ = 4,47 [s-1]
C36: a | D36: b | E36: c | F36: disipovaná energie E [J/kg] | I36: η [Pa.s] | L36: a | M36: b | N36: c | O36: disipovaná energie E [J/kg] | R36: η [Pa.s] | S36: Nárůst [%]
C37: =-0.000000000000592581 -> -5.92581e-13 | D37: =0.00000127883 -> 1.27883e-06 | E37: =3.93074 -> 3.93074 | F37: =F33 -> 429.78391 | I37: =C37*F37^2+D37*F37+E37 -> 3.9312895 | L37: =C37 -> -5.92581e-13 | M37: =D37 -> 1.27883e-06 | N37: =E37 -> 3.93074 | O37: =O33 -> 120000 | R37: =L37*O37^2+M37*O37+N37 -> 4.0756664 | S37: =(R37/I37*100)-100 -> 3.672508
B39: Smykový rychlost γ = 39,28 [s-1] | K39: Smykový rychlost γ = 39,28 [s-1]
C40: a | D40: b | E40: c | F40: disipovaná energie E [J/kg] | I40: η [Pa.s] | L40: a | M40: b | N40: c | O40: disipovaná energie E [J/kg] | R40: η [Pa.s] | S40: Nárůst [%]
C41: =-0.000000000000803036 -> -8.03036e-13 | D41: =0.000000620023 -> 6.20023e-07 | E41: =3.33094 -> 3.33094 | F41: =F33 -> 429.78391 | I41: =C41*F41^2+D41*F41+E41 -> 3.3312063 | L41: =C41 -> -8.03036e-13 | M41: =D41 -> 6.20023e-07 | N41: =E41 -> 3.33094 | O41: =O33 -> 120000 | R41: =L41*O41^2+M41*O41+N41 -> 3.393779 | S41: =(R41/I41*100)-100 -> 1.87838
