Workbook

Sheet Teplárna
B1: cena (2015) [Kč/GJ] | C1: 535.4 | H1: Předpoklad: Stejná spotřeba tepla | I1: =C2 -> 263.62 | J1: Gj/rok
B2: Spotřeba tepla (2015) [GJ] | C2: =(281+246.24)/2 -> 263.62 | H2: za den | I2: =C2/C34 -> 0.72224658 | J2: GJ/den
B3: Spotřeba TV (2015) [m3] | C3: 653 | E3: za rok
E4: =C1*C2 -> 141142.15 | F4: Kč | P4: nárůst o | W4: Cena za GJ ve výhledu 20 let bez FVE
A5: Žádný meziroční nárůst cen | I5: Meziroční nárůst cen | O5: =1+P5 -> 1.04 | P5: 0.04 | W5: =T7/V7 -> 797.83328
A6: rok | B6: Cena [Kč/GJ] | C6: Ročně [Kč] | D6: Kumulované [kč] | E6: Částka za den [Kč/den] | F6: Cena za 1 kWh [Kč/kWh] | I6: rok | J6: Cena [Kč/GJ] | K6: Ročně [Kč] | L6: Kumulované [kč] | M6: Částka za den [Kč/den] | N6: Cena za 1 kWh [Kč/kWh]
A7: 0 | B7: =C1 -> 535.4 | C7: =$C$2*B7 -> 141142.15 | D7: =E4 -> 141142.15 | E7: =$I$2*B7 -> 386.69082 | F7: =E7/$E$36 -> 1.92744 | I7: 0 | J7: =B7 -> 535.4 | K7: =D7 -> 141142.15 | L7: =K7 -> 141142.15 | M7: =$I$2*J7 -> 386.69082 | N7: =M7/$E$36 -> 1.92744 | T7: =NPV(0.03,K8:K27)*1 -> 3129102.1 | U7: =C2 -> 263.62 | V7: =NPV(0.03,U7:U26) -> 3921.9999
A8: 1 | B8: =$B$7 -> 535.4 | C8: =$C$2*B8 -> 141142.15 | D8: =(D7+$D$7) -> 282284.3 | E8: =$I$2*B8 -> 386.69082 | F8: =E8/$E$36 -> 1.92744 | I8: 1 | J8: =$J$7*$O$5^I8 -> 556.816 | K8: =J8*$C$2 -> 146787.83 | L8: =L7+K8 -> 287929.98 | M8: =$I$2*J8 -> 402.15845 | N8: =M8/$E$36 -> 2.0045376 | U8: =U7 -> 263.62
A9: 2 | B9: =$B$7 -> 535.4 | C9: =$C$2*B9 -> 141142.15 | D9: =D8+$D$7 -> 423426.44 | E9: =$I$2*B9 -> 386.69082 | F9: =E9/$E$36 -> 1.92744 | I9: 2 | J9: =$J$7*$O$5^I9 -> 579.08864 | K9: =J9*$C$2 -> 152659.35 | L9: =L8+K9 -> 440589.33 | M9: =$I$2*J9 -> 418.24479 | N9: =M9/$E$36 -> 2.0847191 | U9: =U8 -> 263.62
A10: 3 | B10: =$B$7 -> 535.4 | C10: =$C$2*B10 -> 141142.15 | D10: =D9+$D$7 -> 564568.59 | E10: =$I$2*B10 -> 386.69082 | F10: =E10/$E$36 -> 1.92744 | I10: 3 | J10: =$J$7*$O$5^I10 -> 602.25219 | K10: =J10*$C$2 -> 158765.72 | L10: =L9+K10 -> 599355.05 | M10: =$I$2*J10 -> 434.97458 | N10: =M10/$E$36 -> 2.1681079 | U10: =U9 -> 263.62
A11: 4 | B11: =$B$7 -> 535.4 | C11: =$C$2*B11 -> 141142.15 | D11: =D10+$D$7 -> 705710.74 | E11: =$I$2*B11 -> 386.69082 | F11: =E11/$E$36 -> 1.92744 | I11: 4 | J11: =$J$7*$O$5^I11 -> 626.34227 | K11: =J11*$C$2 -> 165116.35 | L11: =L10+K11 -> 764471.4 | M11: =$I$2*J11 -> 452.37356 | N11: =M11/$E$36 -> 2.2548322 | U11: =U10 -> 263.62
A12: 5 | B12: =$B$7 -> 535.4 | C12: =$C$2*B12 -> 141142.15 | D12: =D11+$D$7 -> 846852.89 | E12: =$I$2*B12 -> 386.69082 | F12: =E12/$E$36 -> 1.92744 | I12: 5 | J12: =$J$7*$O$5^I12 -> 651.39596 | K12: =J12*$C$2 -> 171721 | L12: =L11+K12 -> 936192.4 | M12: =$I$2*J12 -> 470.4685 | N12: =M12/$E$36 -> 2.3450255 | U12: =U11 -> 263.62
A13: 6 | B13: =$B$7 -> 535.4 | C13: =$C$2*B13 -> 141142.15 | D13: =D12+$D$7 -> 987995.04 | E13: =$I$2*B13 -> 386.69082 | F13: =E13/$E$36 -> 1.92744 | I13: 6 | J13: =$J$7*$O$5^I13 -> 677.4518 | K13: =J13*$C$2 -> 178589.84 | L13: =L12+K13 -> 1114782.2 | M13: =$I$2*J13 -> 489.28724 | N13: =M13/$E$36 -> 2.4388265 | U13: =U12 -> 263.62
A14: 7 | B14: =$B$7 -> 535.4 | C14: =$C$2*B14 -> 141142.15 | D14: =D13+$D$7 -> 1129137.2 | E14: =$I$2*B14 -> 386.69082 | F14: =E14/$E$36 -> 1.92744 | I14: 7 | J14: =$J$7*$O$5^I14 -> 704.54987 | K14: =J14*$C$2 -> 185733.44 | L14: =L13+K14 -> 1300515.7 | M14: =$I$2*J14 -> 508.85873 | N14: =M14/$E$36 -> 2.5363795 | U14: =U13 -> 263.62
A15: 8 | B15: =$B$7 -> 535.4 | C15: =$C$2*B15 -> 141142.15 | D15: =D14+$D$7 -> 1270279.3 | E15: =$I$2*B15 -> 386.69082 | F15: =E15/$E$36 -> 1.92744 | I15: 8 | J15: =$J$7*$O$5^I15 -> 732.73187 | K15: =J15*$C$2 -> 193162.78 | L15: =L14+K15 -> 1493678.5 | M15: =$I$2*J15 -> 529.21308 | N15: =M15/$E$36 -> 2.6378347 | U15: =U14 -> 263.62
A16: 9 | B16: =$B$7 -> 535.4 | C16: =$C$2*B16 -> 141142.15 | D16: =D15+$D$7 -> 1411421.5 | E16: =$I$2*B16 -> 386.69082 | F16: =E16/$E$36 -> 1.92744 | I16: 9 | J16: =$J$7*$O$5^I16 -> 762.04114 | K16: =J16*$C$2 -> 200889.29 | L16: =L15+K16 -> 1694567.7 | M16: =$I$2*J16 -> 550.38161 | N16: =M16/$E$36 -> 2.7433481 | U16: =U15 -> 263.62
A17: 10 | B17: =$B$7 -> 535.4 | C17: =$C$2*B17 -> 141142.15 | D17: =D16+$D$7 -> 1552563.6 | E17: =$I$2*B17 -> 386.69082 | F17: =E17/$E$36 -> 1.92744 | I17: 10 | J17: =$J$7*$O$5^I17 -> 792.52279 | K17: =J17*$C$2 -> 208924.86 | L17: =L16+K17 -> 1903492.6 | M17: =$I$2*J17 -> 572.39687 | N17: =M17/$E$36 -> 2.853082 | U17: =U16 -> 263.62
A18: 11 | B18: =$B$7 -> 535.4 | C18: =$C$2*B18 -> 141142.15 | D18: =D17+$D$7 -> 1693705.8 | E18: =$I$2*B18 -> 386.69082 | F18: =E18/$E$36 -> 1.92744 | I18: 11 | J18: =$J$7*$O$5^I18 -> 824.2237 | K18: =J18*$C$2 -> 217281.85 | L18: =L17+K18 -> 2120774.5 | M18: =$I$2*J18 -> 595.29275 | N18: =M18/$E$36 -> 2.9672053 | U18: =U17 -> 263.62
A19: 12 | B19: =$B$7 -> 535.4 | C19: =$C$2*B19 -> 141142.15 | D19: =D18+$D$7 -> 1834847.9 | E19: =$I$2*B19 -> 386.69082 | F19: =E19/$E$36 -> 1.92744 | I19: 12 | J19: =$J$7*$O$5^I19 -> 857.19265 | K19: =J19*$C$2 -> 225973.13 | L19: =L18+K19 -> 2346747.6 | M19: =$I$2*J19 -> 619.10446 | N19: =M19/$E$36 -> 3.0858935 | U19: =U18 -> 263.62
A20: 13 | B20: =$B$7 -> 535.4 | C20: =$C$2*B20 -> 141142.15 | D20: =D19+$D$7 -> 1975990.1 | E20: =$I$2*B20 -> 386.69082 | F20: =E20/$E$36 -> 1.92744 | I20: 13 | J20: =$J$7*$O$5^I20 -> 891.48036 | K20: =J20*$C$2 -> 235012.05 | L20: =L19+K20 -> 2581759.6 | M20: =$I$2*J20 -> 643.86863 | N20: =M20/$E$36 -> 3.2093293 | U20: =U19 -> 263.62
... A26: 19 | B26: =$B$7 -> 535.4 | C26: =$C$2*B26 -> 141142.15 | D26: =D25+$D$7 -> 2822843 | E26: =$I$2*B26 -> 386.69082 | F26: =E26/$E$36 -> 1.92744 | I26: 19 | J26: =$J$7*$O$5^I26 -> 1128.007 | K26: =J26*$C$2 -> 297365.22 | L26: =L25+K26 -> 4202942 | M26: =$I$2*J26 -> 814.69923 | N26: =M26/$E$36 -> 4.0608254 | U26: =U25 -> 263.62
A27: 20 | B27: =$B$7 -> 535.4 | C27: =$C$2*B27 -> 141142.15 | D27: =D26+$D$7 -> 2963985.1 | E27: =$I$2*B27 -> 386.69082 | F27: =E27/$E$36 -> 1.92744 | I27: 20 | J27: =$J$7*$O$5^I27 -> 1173.1273 | K27: =J27*$C$2 -> 309259.83 | L27: =L26+K27 -> 4512201.8 | M27: =$I$2*J27 -> 847.2872 | N27: =M27/$E$36 -> 4.2232584
B34: délka spotřeby TV | C34: 365 | D34: dní | H34: částka za den v roce 0. | J34: cena za 1 kWh
B35: spotřeba za den | C35: =C2/C34 -> 0.72224658 | D35: GJ/den | E35: =C36*1000*365 -> 73227.778 | F35: kWh/rok | H35: =C1*C35 -> 386.69082 | I35: Kč/den | J35: =H35/E36 -> 1.92744 | K35: Kč/kWh
C36: =C35/3.6 -> 0.20062405 | D36: MWh/den | E36: =C36*1000 -> 200.62405 | F36: kWh/den
H38: částka za den v 1. roce (4% navýšení) | J38: cena za 1 kWh
C39: =C3/365 -> 1.7890411 | D39: m3/den | H39: =C35*J8 -> 402.15845 | J39: =H39/E36 -> 2.0045376 | K39: Kč/kWh
C40: =C39*1000 -> 1789.0411 | D40: l

Sheet Teplárna + FVE 18 kWp
D1: Ročně | F1: Denně | P1: Spotřeba energie za den (původní) | U1: zeleně | V1: systém s FVE
A2: Vstupní data | C2: Spotřeba tepla na přípravu TV | D2: =Teplárna!E35 -> 73227.778 | E2: kWh/rok | F2: =Teplárna!$E$36 -> 200.62405 | G2: kWh/den | P2: =F2 -> 200.62405 | Q2: kWh/den | U2: červeně | V2: pouze teplárna
D3: =Teplárna!$C$2 -> 263.62 | E3: GJ/rok | F3: =Teplárna!C35 -> 0.72224658 | G3: GJ/den | O3: Systém s FVE - analýza jednotlivých měsíců | U3: Rozpočítáno pro rok 1 (4% navýšení) | AH3: Cena za GJ ve výhledu 20 let s FVE 20 kWp
C4: Výroba 20 kWp FVE (PVGIS) | D4: 17200 | E4: kWh/rok | O4: Měsíc | P4: Denní výroba (PVGIS) [kWh/den] | Q4: Spotřeba s FVE [kWh/den] | R4: Spotřeba s FVE [kWh/měsíc] | S4: Spotřeba s FVE[GJ/den] | T4: Spotřeba s FVE[GJ/měsíc] | U4: Částka za den [Kč/den] | V4: Částka za měsíc [Kč/měsíc] | W4: Částka za měsíc [Kč/měísc] | X4: ∆ Rozdíl [Kč/měsíc] | AH4: =+AF6/AH6 -> 848.2869
O5: Leden | P5: 15.4 | Q5: =$F$2-P5 -> 185.22405 | R5: =T5/3.6*1000 -> 5741.9455 | S5: =(Q5*3.6)/1000 -> 0.66680658 | T5: =S5*AA24 -> 20.671004 | U5: =S5*Teplárna!$J$8 -> 371.28857 | V5: =U5*AA24 -> 11509.946 | W5: =S35 -> 12466.912 | X5: =W5-V5 -> 956.96625 | AE5: =D21 -> 706947
O6: Únor | P6: 30.3 | Q6: =$F$2-P6 -> 170.32405 | R6: =T6/3.6*1000 -> 4769.0734 | S6: =(Q6*3.6)/1000 -> 0.61316658 | T6: =S6*AA25 -> 17.168664 | U6: =S6*Teplárna!$J$8 -> 341.42096 | V6: =U6*AA25 -> 9559.7869 | W6: =S36 -> 11260.437 | X6: =W6-V6 -> 1700.6497 | AD6: 1 | AE6: =D29 -> 117426.21 | AF6: =NPV(0.03,AE6:AE26)+AE5 -> 3326981.2 | AG6: =D3 -> 263.62 | AH6: =NPV(0.03,AG6:AG26) -> 3921.9999
C7: Investice | O7: Březen | P7: 52.6 | Q7: =$F$2-P7 -> 148.02405 | R7: =T7/3.6*1000 -> 4588.7455 | S7: =(Q7*3.6)/1000 -> 0.53288658 | T7: =S7*AA26 -> 16.519484 | U7: =S7*Teplárna!$J$8 -> 296.71977 | V7: =U7*AA26 -> 9198.3129 | W7: =S37 -> 12466.912 | X7: =W7-V7 -> 3268.599 | AD7: =+AD6+1 -> 2 | AE7: =D30 -> 122205.46 | AG7: =+AG6 -> 263.62
C8: FVE | O8: Duben | P8: 69.2 | Q8: =$F$2-P8 -> 131.42405 | R8: =T8/3.6*1000 -> 3942.7215 | S8: =(Q8*3.6)/1000 -> 0.47312658 | T8: =S8*AA27 -> 14.193797 | U8: =S8*Teplárna!$J$8 -> 263.44445 | V8: =U8*AA27 -> 7903.3334 | W8: =S38 -> 12064.753 | X8: =W8-V8 -> 4161.4201 | AD8: =+AD7+1 -> 3 | AE8: =D31 -> 127187.35 | AG8: =+AG7 -> 263.62
B9: link | C9: Panel | D9: 250 | E9: Wp | H9: 1000 | I9: revize | O9: Květen | P9: 69.8 | Q9: =$F$2-P9 -> 130.82405 | R9: =T9/3.6*1000 -> 4055.5455 | S9: =(Q9*3.6)/1000 -> 0.47096658 | T9: =S9*AA28 -> 14.599964 | U9: =S9*Teplárna!$J$8 -> 262.24172 | V9: =U9*AA28 -> 8129.4935 | W9: =S39 -> 12466.912 | X9: =W9-V9 -> 4337.4185 | AD9: =+AD8+1 -> 4 | AE9: =D32 -> 132380.45 | AG9: =+AG8 -> 263.62
C10: cena 1 panel | D10: 4828 | E10: Kč s DPH | G10: panelů | H10: =H11*J11 -> 4116.42 | I10: čištění panelů Kč/rok | O10: Červen | P10: 72.3 | Q10: =$F$2-P10 -> 128.32405 | R10: =T10/3.6*1000 -> 3849.7215 | S10: =(Q10*3.6)/1000 -> 0.46196658 | T10: =S10*AA29 -> 13.858997 | U10: =S10*Teplárna!$J$8 -> 257.23038 | V10: =U10*AA29 -> 7716.9114 | W10: =S40 -> 12064.753 | X10: =W10-V10 -> 4347.8421 | AD10: =+AD9+1 -> 5 | AE10: =D33 -> 137793.69 | AG10: =+AG9 -> 263.62
C11: cena systém | D11: =(18000/D9)*D10 -> 347616 | E11: Kč s DPH | F11: systém 18 kWp | G11: 72 | H11: =G11*H12 -> 117.612 | I11: m2 | J11: 35 | O11: Červenec | P11: 68.4 | Q11: =$F$2-P11 -> 132.22405 | R11: =T11/3.6*1000 -> 4098.9455 | S11: =(Q11*3.6)/1000 -> 0.47600658 | T11: =S11*AA30 -> 14.756204 | U11: =S11*Teplárna!$J$8 -> 265.04808 | V11: =U11*AA30 -> 8216.4904 | W11: =S41 -> 12466.912 | X11: =W11-V11 -> 4250.4215 | AD11: =+AD10+1 -> 6 | AE11: =D34 -> 143436.36 | AG11: =+AG10 -> 263.62
C12: Kabeláž, střešní konstrukce, ochranné prvky | D12: 30000 | E12: Kč s DPH | H12: =1.65*0.99 -> 1.6335 | I12: m2 1 panel | O12: Srpen | P12: 65.5 | Q12: =$F$2-P12 -> 135.12405 | R12: =T12/3.6*1000 -> 4188.8455 | S12: =(Q12*3.6)/1000 -> 0.48644658 | T12: =S12*AA31 -> 15.079844 | U12: =S12*Teplárna!$J$8 -> 270.86124 | V12: =U12*AA31 -> 8396.6983 | W12: =S42 -> 12466.912 | X12: =W12-V12 -> 4070.2136 | AD12: =+AD11+1 -> 7 | AE12: =D35 -> 149318.16 | AG12: =+AG11 -> 263.62
C13: práce | D13: 50000 | O13: Září | P13: 53.3 | Q13: =$F$2-P13 -> 147.32405 | R13: =T13/3.6*1000 -> 4419.7215 | S13: =(Q13*3.6)/1000 -> 0.53036658 | T13: =S13*AA32 -> 15.910997 | U13: =S13*Teplárna!$J$8 -> 295.3166 | V13: =U13*AA32 -> 8859.4979 | W13: =S43 -> 12064.753 | X13: =W13-V13 -> 3205.2556 | AD13: =+AD12+1 -> 8 | AE13: =D36 -> 155449.2 | AG13: =+AG12 -> 263.62
B14: link | C14: Tepelný systém | O14: Říjen | P14: 37.4 | Q14: =$F$2-P14 -> 163.22405 | R14: =T14/3.6*1000 -> 5059.9455 | S14: =(Q14*3.6)/1000 -> 0.58760658 | T14: =S14*AA33 -> 18.215804 | U14: =S14*Teplárna!$J$8 -> 327.18874 | V14: =U14*AA33 -> 10142.851 | W14: =S44 -> 12466.912 | X14: =W14-V14 -> 2324.0609 | AD14: =+AD13+1 -> 9 | AE14: =D37 -> 161840 | AG14: =+AG13 -> 263.62
C15: Akumulační nádrž | D15: 97230 | E15: Kč s DPH | F15: LX NAD v1 1000 l 3 příruby | O15: Listopad | P15: 17.2 | Q15: =$F$2-P15 -> 183.42405 | R15: =T15/3.6*1000 -> 5502.7215 | S15: =(Q15*3.6)/1000 -> 0.66032658 | T15: =S15*AA34 -> 19.809797 | U15: =S15*Teplárna!$J$8 -> 367.6804 | V15: =U15*AA34 -> 11030.412 | W15: =S45 -> 12064.753 | X15: =W15-V15 -> 1034.3414 | AD15: =+AD14+1 -> 10 | AE15: =D38 -> 292197.52 | AG15: =+AG14 -> 263.62
C16: Izolace NEODUL LB PP 80 mm | D16: 12100 | E16: Kč s DPH | AE16: =D39 -> 175445.22
C17: Ohřívač vody | D17: 46305 | E17: Kč s DPH | F17: 1 příruba + 1-6kW LXDC set, 500 l | G17: LX NTR/BP | O17: Prosinec | P17: 13.4 | Q17: =$F$2-P17 -> 187.22405 | R17: =T17/3.6*1000 -> 5803.9455 | S17: =(Q17*3.6)/1000 -> 0.67400658 | T17: =S17*AA35 -> 20.894204 | U17: =S17*Teplárna!$J$8 -> 375.29765 | V17: =U17*AA35 -> 11634.227 | W17: =S46 -> 12466.912 | X17: =W17-V17 -> 832.68492 | AD17: =+AD15+1 -> 11 | AE17: =D40 -> 182682.99 | AG17: =+AG15 -> 263.62
C18: Měření a regulace | O18: Ročně | R18: =SUM(R5:R17) -> 56021.878 | T18: =SUM(T5:T17) -> 201.67876 | V18: =SUM(V5:V17) -> 112297.96 | W18: =SUM(W5:W17) -> 146787.83 | X18: =W18+W19-V18 -> 34516.333 | AD18: =+AD17+1 -> 12 | AE18: =D41 -> 190227.25 | AG18: =+AG17 -> 263.62
B19: link | C19: MaR systém | D19: =H19*J19 -> 43452 | E19: Kč s DPH | F19: 2x 1-6 kW LXDC set | G19: LXDC 1-6 kW | H19: 21726 | I19: Kč s DPH | J19: 2 | K19: ks | W19: 26.46 | AD19: =+AD18+1 -> 13 | AE19: =D42 -> 198090.95 | AG19: =+AG18 -> 263.62
B20: link | C20: MPPT pro LXDC set | D20: ='Teplárna + FVE 10 kWp'!G20*I20 -> 80244 | E20: Kč s DPH | F20: LXDC Power Box 1-2 kW | G20: 8916 | H20: Kč s DPH | I20: 9 | J20: ks | AD20: =+AD19+1 -> 14 | AE20: =D43 -> 206287.57 | AG20: =+AG19 -> 263.62
C21: Cena celkem | D21: =SUM(D11:D20) -> 706947 | E21: Kč | AD21: =+AD20+1 -> 15 | AE21: =D44 -> 214831.16 | AG21: =+AG20 -> 263.62
C22: roční poplatky | D22: =H10+H9 -> 5116.42 | E22: Kč | AD22: =+AD21+1 -> 16 | AE22: =D45 -> 223736.37 | AG22: =+AG21 -> 263.62
AD23: =+AD22+1 -> 17 | AE23: =D46 -> 233018.44 | AG23: =+AG22 -> 263.62
C24: životnost | D24: 20 | E24: let | AA24: 31 | AD24: =+AD23+1 -> 18 | AE24: =D47 -> 242693.29 | AG24: =+AG23 -> 263.62
AA25: 28 | AD25: =+AD24+1 -> 19 | AE25: =D48 -> 252777.49 | AG25: =+AG24 -> 263.62
B26: Úspora + nárůst cen za teplo od teplárny (viz předchozí list) | AA26: 31 | AD26: =+AD25+1 -> 20 | AE26: =D49 -> 0 | AG26: =+AG25 -> 263.62
B27: rok | C27: Cena [Kč/GJ] | D27: Ročně [Kč] | E27: Roční úspora [Kč] | F27: Kumulovaná úspora [Kč] | G27: FVE výroba kWh/rok | H27: Roční spotřeba [kWh/rok] | I27: FVE výroba [GJ/rok] | J27: Roční spotřeba [GJ/rok] | AA27: 30
B28: 0 | C28: =Teplárna!J7 -> 535.4 | D28: =Teplárna!C7 -> 141142.15 | E28: 0 | F28: =E28 -> 0 | G28: 0 | H28: =$D$2 -> 73227.778 | I28: =($G$28*3.6)/1000 -> 0 | J28: =($H$28*3.6)/1000 -> 263.62 | AA28: 31
B29: 1 | C29: =Teplárna!J8 -> 556.816 | D29: =Teplárna!K8-'Teplárna + FVE 18 kWp'!E29 -> 117426.21 | E29: =(I29)*C29-$D$22 -> 29361.627 | F29: =F28+E29 -> 29361.627 | G29: =D4 -> 17200 | H29: =$D$2-G29 -> 56027.778 | I29: =(G29*3.6)/1000 -> 61.92 | J29: =(H29*3.6)/1000 -> 201.7 | AA29: 30
B30: 2 | C30: =Teplárna!J9 -> 579.08864 | D30: =Teplárna!K9-'Teplárna + FVE 18 kWp'!E30 -> 122205.46 | E30: =(I30)*C30-$D$22 -> 30453.891 | F30: =F29+E30 -> 59815.518 | G30: =$G$29*E68 -> 17062.4 | H30: =$D$2-G30 -> 56165.378 | I30: =(G30*3.6)/1000 -> 61.42464 | J30: =(H30*3.6)/1000 -> 202.19536 | AA30: 31
B31: 3 | C31: =Teplárna!J10 -> 602.25219 | D31: =Teplárna!K10-'Teplárna + FVE 18 kWp'!E31 -> 127187.35 | E31: =(I31)*C31-$D$22 -> 31578.372 | F31: =F30+E31 -> 91393.89 | G31: =$G$29*E69 -> 16924.8 | H31: =$D$2-G31 -> 56302.978 | I31: =(G31*3.6)/1000 -> 60.92928 | J31: =(H31*3.6)/1000 -> 202.69072 | P31: Systém bez FVE | AA31: 31
B32: 4 | C32: =Teplárna!J11 -> 626.34227 | D32: =Teplárna!K11-'Teplárna + FVE 18 kWp'!E32 -> 132380.45 | E32: =(I32)*C32-$D$22 -> 32735.899 | F32: =F31+E32 -> 124129.79 | G32: =$G$29*E70 -> 16787.2 | H32: =$D$2-G32 -> 56440.578 | I32: =(G32*3.6)/1000 -> 60.43392 | J32: =(H32*3.6)/1000 -> 203.18608 | P32: Měsíc | Q32: Denní spotřeba [kWh/den] | R32: částka za den | S32: častka za den | AA32: 30
B33: 5 | C33: =Teplárna!J12 -> 651.39596 | D33: =Teplárna!K12-'Teplárna + FVE 18 kWp'!E33 -> 137793.69 | E33: =(I33)*C33-$D$22 -> 33927.316 | F33: =F32+E33 -> 158057.1 | G33: =$G$29*E71 -> 16649.6 | H33: =$D$2-G33 -> 56578.178 | I33: =(G33*3.6)/1000 -> 59.93856 | J33: =(H33*3.6)/1000 -> 203.68144 | Q33: =F2 -> 200.62405 | R33: =Teplárna!H35 -> 386.69082 | S33: =Teplárna!H39 -> 402.15845 | AA33: 31
B34: 6 | C34: =Teplárna!J13 -> 677.4518 | D34: =Teplárna!K13-'Teplárna + FVE 18 kWp'!E34 -> 143436.36 | E34: =(I34)*C34-$D$22 -> 35153.483 | F34: =F33+E34 -> 193210.59 | G34: =$G$29*E72 -> 16512 | H34: =$D$2-G34 -> 56715.778 | I34: =(G34*3.6)/1000 -> 59.4432 | J34: =(H34*3.6)/1000 -> 204.1768 | Q34: Měsíční spotřeba [kWh/měsíc] | R34: částka za měsíc r. 0 | S34: částka za měsíc r. 1 | AA34: 30
B35: 7 | C35: =Teplárna!J14 -> 704.54987 | D35: =Teplárna!K14-'Teplárna + FVE 18 kWp'!E35 -> 149318.16 | E35: =(I35)*C35-$D$22 -> 36415.273 | F35: =F34+E35 -> 229625.86 | G35: =$G$29*E73 -> 16374.4 | H35: =$D$2-G35 -> 56853.378 | I35: =(G35*3.6)/1000 -> 58.94784 | J35: =(H35*3.6)/1000 -> 204.67216 | P35: Leden | Q35: =$Q$33*AA24 -> 6219.3455 | R35: =$R$33*AA24 -> 11987.415 | S35: =$S$33*AA24 -> 12466.912 | AA35: 31
B36: 8 | C36: =Teplárna!J15 -> 732.73187 | D36: =Teplárna!K15-'Teplárna + FVE 18 kWp'!E36 -> 155449.2 | E36: =(I36)*C36-$D$22 -> 37713.575 | F36: =F35+E36 -> 267339.44 | G36: =$G$29*E74 -> 16236.8 | H36: =$D$2-G36 -> 56990.978 | I36: =(G36*3.6)/1000 -> 58.45248 | J36: =(H36*3.6)/1000 -> 205.16752 | P36: Únor | Q36: =$Q$33*AA25 -> 5617.4734 | R36: =$R$33*AA25 -> 10827.343 | S36: =$S$33*AA25 -> 11260.437 | AA36: =SUM(AA24:AA35) -> 365
B37: 9 | C37: =Teplárna!J16 -> 762.04114 | D37: =Teplárna!K16-'Teplárna + FVE 18 kWp'!E37 -> 161840 | E37: =(I37)*C37-$D$22 -> 39049.29 | F37: =F36+E37 -> 306388.73 | G37: =$G$29*E75 -> 16099.2 | H37: =$D$2-G37 -> 57128.578 | I37: =(G37*3.6)/1000 -> 57.95712 | J37: =(H37*3.6)/1000 -> 205.66288 | P37: Březen | Q37: =$Q$33*AA26 -> 6219.3455 | R37: =$R$33*AA26 -> 11987.415 | S37: =$S$33*AA26 -> 12466.912
B38: 10 | C38: =Teplárna!J17 -> 792.52279 | D38: =Teplárna!K17-'Teplárna + FVE 18 kWp'!E38 -> 292197.52 | E38: =(I38)*C38-$D$22-(+'Teplárna + FVE 18 kWp'!D19+'Teplárna + FVE 18 kWp'!D20) -> -83272.666 | F38: =F37+E38 -> 223116.06 | G38: =$G$29*E76 -> 15961.6 | H38: =$D$2-G38 -> 57266.178 | I38: =(G38*3.6)/1000 -> 57.46176 | J38: =(H38*3.6)/1000 -> 206.15824 | P38: Duben | Q38: =$Q$33*AA27 -> 6018.7215 | R38: =$R$33*AA27 -> 11600.724 | S38: =$S$33*AA27 -> 12064.753
B39: 11 | C39: =Teplárna!J18 -> 824.2237 | D39: =Teplárna!K18-'Teplárna + FVE 18 kWp'!E39 -> 175445.22 | E39: =(I39)*C39-$D$22 -> 41836.637 | F39: =F38+E39 -> 264952.7 | G39: =$G$29*E77 -> 15824 | H39: =$D$2-G39 -> 57403.778 | I39: =(G39*3.6)/1000 -> 56.9664 | J39: =(H39*3.6)/1000 -> 206.6536 | P39: Květen | Q39: =$Q$33*AA28 -> 6219.3455 | R39: =$R$33*AA28 -> 11987.415 | S39: =$S$33*AA28 -> 12466.912
B40: 12 | C40: =Teplárna!J19 -> 857.19265 | D40: =Teplárna!K19-'Teplárna + FVE 18 kWp'!E40 -> 182682.99 | E40: =(I40)*C40-$D$22 -> 43290.14 | F40: =F39+E40 -> 308242.84 | G40: =$G$29*E78 -> 15686.4 | H40: =$D$2-G40 -> 57541.378 | I40: =(G40*3.6)/1000 -> 56.47104 | J40: =(H40*3.6)/1000 -> 207.14896 | P40: Červen | Q40: =$Q$33*AA29 -> 6018.7215 | R40: =$R$33*AA29 -> 11600.724 | S40: =$S$33*AA29 -> 12064.753
B41: 13 | C41: =Teplárna!J20 -> 891.48036 | D41: =Teplárna!K20-'Teplárna + FVE 18 kWp'!E41 -> 190227.25 | E41: =(I41)*C41-$D$22 -> 44784.799 | F41: =F40+E41 -> 353027.64 | G41: =$G$29*E79 -> 15548.8 | H41: =$D$2-G41 -> 57678.978 | I41: =(G41*3.6)/1000 -> 55.97568 | J41: =(H41*3.6)/1000 -> 207.64432 | P41: Červenec | Q41: =$Q$33*AA30 -> 6219.3455 | R41: =$R$33*AA30 -> 11987.415 | S41: =$S$33*AA30 -> 12466.912
B42: 14 | C42: =Teplárna!J21 -> 927.13957 | D42: =Teplárna!K21-'Teplárna + FVE 18 kWp'!E42 -> 198090.95 | E42: =(I42)*C42-$D$22 -> 46321.58 | F42: =F41+E42 -> 399349.22 | G42: =$G$29*E80 -> 15411.2 | H42: =$D$2-G42 -> 57816.578 | I42: =(G42*3.6)/1000 -> 55.48032 | J42: =(H42*3.6)/1000 -> 208.13968 | P42: Srpen | Q42: =$Q$33*AA31 -> 6219.3455 | R42: =$R$33*AA31 -> 11987.415 | S42: =$S$33*AA31 -> 12466.912
B43: 15 | C43: =Teplárna!J22 -> 964.22515 | D43: =Teplárna!K22-'Teplárna + FVE 18 kWp'!E43 -> 206287.57 | E43: =(I43)*C43-$D$22 -> 47901.461 | F43: =F42+E43 -> 447250.68 | G43: =$G$29*E81 -> 15273.6 | H43: =$D$2-G43 -> 57954.178 | I43: =(G43*3.6)/1000 -> 54.98496 | J43: =(H43*3.6)/1000 -> 208.63504 | P43: Září | Q43: =$Q$33*AA32 -> 6018.7215 | R43: =$R$33*AA32 -> 11600.724 | S43: =$S$33*AA32 -> 12064.753
B44: 16 | C44: =Teplárna!J23 -> 1002.7942 | D44: =Teplárna!K23-'Teplárna + FVE 18 kWp'!E44 -> 214831.16 | E44: =(I44)*C44-$D$22 -> 49525.433 | F44: =F43+E44 -> 496776.11 | G44: =$G$29*E82 -> 15136 | H44: =$D$2-G44 -> 58091.778 | I44: =(G44*3.6)/1000 -> 54.4896 | J44: =(H44*3.6)/1000 -> 209.1304 | P44: Říjen | Q44: =$Q$33*AA33 -> 6219.3455 | R44: =$R$33*AA33 -> 11987.415 | S44: =$S$33*AA33 -> 12466.912
B45: 17 | C45: =Teplárna!J24 -> 1042.9059 | D45: =Teplárna!K24-'Teplárna + FVE 18 kWp'!E45 -> 223736.37 | E45: =(I45)*C45-$D$22 -> 51194.493 | F45: =F44+E45 -> 547970.6 | G45: =$G$29*E83 -> 14998.4 | H45: =$D$2-G45 -> 58229.378 | I45: =(G45*3.6)/1000 -> 53.99424 | J45: =(H45*3.6)/1000 -> 209.62576 | P45: Listopad | Q45: =$Q$33*AA34 -> 6018.7215 | R45: =$R$33*AA34 -> 11600.724 | S45: =$S$33*AA34 -> 12064.753
B46: 18 | C46: =Teplárna!J25 -> 1084.6222 | D46: =Teplárna!K25-'Teplárna + FVE 18 kWp'!E46 -> 233018.44 | E46: =(I46)*C46-$D$22 -> 52909.651 | F46: =F45+E46 -> 600880.25 | G46: =$G$29*E84 -> 14860.8 | H46: =$D$2-G46 -> 58366.978 | I46: =(G46*3.6)/1000 -> 53.49888 | J46: =(H46*3.6)/1000 -> 210.12112 | P46: Prosinec | Q46: =$Q$33*AA35 -> 6219.3455 | R46: =$R$33*AA35 -> 11987.415 | S46: =$S$33*AA35 -> 12466.912
B47: 19 | C47: =Teplárna!J26 -> 1128.007 | D47: =Teplárna!K26-'Teplárna + FVE 18 kWp'!E47 -> 242693.29 | E47: =(I47)*C47-$D$22 -> 54671.924 | F47: =F46+E47 -> 655552.18 | G47: =$G$29*E85 -> 14723.2 | H47: =$D$2-G47 -> 58504.578 | I47: =(G47*3.6)/1000 -> 53.00352 | J47: =(H47*3.6)/1000 -> 210.61648 | P47: Celkem | Q47: =SUM(Q35:Q46) -> 73227.778 | R47: =SUM(R35:R46) -> 141142.15 | S47: =SUM(S35:S46) -> 146787.83
B48: 20 | C48: =Teplárna!J27 -> 1173.1273 | D48: =Teplárna!K27-'Teplárna + FVE 18 kWp'!E48 -> 252777.49 | E48: =(I48)*C48-$D$22 -> 56482.338 | F48: =F47+E48 -> 712034.52 | G48: =$G$29*E86 -> 14585.6 | H48: =$D$2-G48 -> 58642.178 | I48: =(G48*3.6)/1000 -> 52.50816 | J48: =(H48*3.6)/1000 -> 211.11184
D66: Rozpočítání poklesu účinnosti panelů
D67: 1 | E67: 1 | F67: =0.2/25 -> 0.008
D68: 2 | E68: =E67-$F$67 -> 0.992
D69: 3 | E69: =E68-$F$67 -> 0.984
D70: 4 | E70: =E69-$F$67 -> 0.976
D71: 5 | E71: =E70-$F$67 -> 0.968
D72: 6 | E72: =E71-$F$67 -> 0.96
D73: 7 | E73: =E72-$F$67 -> 0.952
D74: 8 | E74: =E73-$F$67 -> 0.944
D75: 9 | E75: =E74-$F$67 -> 0.936
D76: 10 | E76: =E75-$F$67 -> 0.928
D77: 11 | E77: =E76-$F$67 -> 0.92
D78: 12 | E78: =E77-$F$67 -> 0.912
D79: 13 | E79: =E78-$F$67 -> 0.904
... D91: 25 | E91: =E90-$F$67 -> 0.808

Sheet Teplárna + FVE 10 kWp
D1: Ročně | F1: Denně | P1: Spotřeba energie za den (původní) | U1: zeleně | V1: systém s FVE
A2: Vstupní data | C2: Spotřeba tepla na přípravu TV | D2: =Teplárna!E35 -> 73227.778 | E2: kWh/rok | F2: =Teplárna!$E$36 -> 200.62405 | G2: kWh/den | P2: =F2 -> 200.62405 | Q2: kWh/den | U2: červeně | V2: pouze teplárna
D3: =Teplárna!$C$2 -> 263.62 | E3: GJ/rok | F3: =Teplárna!C35 -> 0.72224658 | G3: GJ/den | O3: Systém s FVE - analýza jednotlivých měsíců | U3: Rozpočítáno pro rok 1 (4% navýšení) | AH3: Cena za GJ ve výhledu 20 let s FVE 10 kWp
C4: Výroba 10 kWp FVE (PVGIS) | D4: 9226 | E4: kWh/rok | O4: Měsíc | P4: Denní výroba (PVGIS) [kWh/den] | Q4: Spotřeba s FVE [kWh/den] | R4: Spotřeba s FVE [kWh/měsíc] | S4: Spotřeba s FVE[GJ/den] | T4: Spotřeba s FVE[GJ/měsíc] | U4: Částka za den [Kč/den] | V4: Částka za měsíc [Kč/měsíc] | W4: Částka za měsíc [Kč/měísc] | X4: ∆ Rozdíl [Kč/měsíc] | AH4: =+AF6/AH6 -> 838.35573
O5: Leden | P5: 8.26 | Q5: =$P$2-P5 -> 192.36405 | R5: =T5/3.6*1000 -> 5963.2855 | S5: =(Q5*3.6)/1000 -> 0.69251058 | T5: =S5*AA22 -> 21.467828 | U5: =S5*Teplárna!$J$8 -> 385.60097 | V5: =U5*AA22 -> 11953.63 | W5: =S35 -> 12466.912 | X5: =W5-V5 -> 513.2819 | AE5: =D21 -> 426563
O6: Únor | P6: 16.2 | Q6: =$P$2-P6 -> 184.42405 | R6: =T6/3.6*1000 -> 5163.8734 | S6: =(Q6*3.6)/1000 -> 0.66392658 | T6: =S6*AA23 -> 18.589944 | U6: =S6*Teplárna!$J$8 -> 369.68494 | V6: =U6*AA23 -> 10351.178 | W6: =S36 -> 11260.437 | X6: =W6-V6 -> 909.25826 | AD6: 1 | AE6: =D30 -> 131580.87 | AF6: =NPV(0.03,AE6:AE26)+AE5 -> 3288031.1 | AG6: =D3 -> 263.62 | AH6: =NPV(0.03,AG6:AG26) -> 3921.9999
C7: Investice | O7: Březen | P7: 28.3 | Q7: =$P$2-P7 -> 172.32405 | R7: =T7/3.6*1000 -> 5342.0455 | S7: =(Q7*3.6)/1000 -> 0.62036658 | T7: =S7*AA24 -> 19.231364 | U7: =S7*Teplárna!$J$8 -> 345.43004 | V7: =U7*AA24 -> 10708.331 | W7: =S37 -> 12466.912 | X7: =W7-V7 -> 1758.5808 | AD7: =+AD6+1 -> 2 | AE7: =D31 -> 136866.5 | AG7: =+AG6 -> 263.62
C8: FVE | O8: Duben | P8: 37.1 | Q8: =$P$2-P8 -> 163.52405 | R8: =T8/3.6*1000 -> 4905.7215 | S8: =(Q8*3.6)/1000 -> 0.58868658 | T8: =S8*AA25 -> 17.660597 | U8: =S8*Teplárna!$J$8 -> 327.7901 | V8: =U8*AA25 -> 9833.7031 | W8: =S38 -> 12064.753 | X8: =W8-V8 -> 2231.0503 | AD8: =+AD7+1 -> 3 | AE8: =D32 -> 142369.71 | AG8: =+AG7 -> 263.62
B9: link | C9: Panel [Wp] | D9: 250 | E9: Wp | I9: 1000 | J9: revize Kč/rok | O9: Květen | P9: 37.4 | Q9: =$P$2-P9 -> 163.22405 | R9: =T9/3.6*1000 -> 5059.9455 | S9: =(Q9*3.6)/1000 -> 0.58760658 | T9: =S9*AA26 -> 18.215804 | U9: =S9*Teplárna!$J$8 -> 327.18874 | V9: =U9*AA26 -> 10142.851 | W9: =S39 -> 12466.912 | X9: =W9-V9 -> 2324.0609 | AD9: =+AD8+1 -> 4 | AE9: =D33 -> 148099.44 | AG9: =+AG8 -> 263.62
C10: cena 1 panel | D10: 4828 | E10: Kč s DPH | I10: =I11*J11 -> 2286.9 | J10: čištění panelů Kč/rok | O10: Červen | P10: 38.8 | Q10: =$P$2-P10 -> 161.82405 | R10: =T10/3.6*1000 -> 4854.7215 | S10: =(Q10*3.6)/1000 -> 0.58256658 | T10: =S10*AA27 -> 17.476997 | U10: =S10*Teplárna!$J$8 -> 324.38239 | V10: =U10*AA27 -> 9731.4717 | W10: =S40 -> 12064.753 | X10: =W10-V10 -> 2333.2818 | AD10: =+AD9+1 -> 5 | AE10: =D34 -> 154065.03 | AG10: =+AG9 -> 263.62
C11: cena systém | D11: =(10000/D9)*D10 -> 193120 | E11: Kč s DPH | F11: 10 kWp systém | G11: =10000/D9 -> 40 | H11: panelů | I11: =I12*G11 -> 65.34 | J11: 35 | O11: Červenec | P11: 36.7 | Q11: =$P$2-P11 -> 163.92405 | R11: =T11/3.6*1000 -> 5081.6455 | S11: =(Q11*3.6)/1000 -> 0.59012658 | T11: =S11*AA28 -> 18.293924 | U11: =S11*Teplárna!$J$8 -> 328.59192 | V11: =U11*AA28 -> 10186.349 | W11: =S41 -> 12466.912 | X11: =W11-V11 -> 2280.5624 | AD11: =+AD10+1 -> 6 | AE11: =D35 -> 160276.16 | AG11: =+AG10 -> 263.62
C12: Kabeláž, střešní konstrukce, ochranné prvky | D12: 15000 | E12: Kč s DPH | I12: ='Teplárna + FVE 18 kWp'!H12 -> 1.6335 | O12: Srpen | P12: 35.2 | Q12: =$P$2-P12 -> 165.42405 | R12: =T12/3.6*1000 -> 5128.1455 | S12: =(Q12*3.6)/1000 -> 0.59552658 | T12: =S12*AA29 -> 18.461324 | U12: =S12*Teplárna!$J$8 -> 331.59873 | V12: =U12*AA29 -> 10279.56 | W12: =S42 -> 12466.912 | X12: =W12-V12 -> 2187.3514 | AD12: =+AD11+1 -> 7 | AE12: =D36 -> 166742.93 | AG12: =+AG11 -> 263.62
C13: práce | D13: 35000 | O13: Září | P13: 28.6 | Q13: =$P$2-P13 -> 172.02405 | R13: =T13/3.6*1000 -> 5160.7215 | S13: =(Q13*3.6)/1000 -> 0.61928658 | T13: =S13*AA30 -> 18.578597 | U13: =S13*Teplárna!$J$8 -> 344.82867 | V13: =U13*AA30 -> 10344.86 | W13: =S43 -> 12064.753 | X13: =W13-V13 -> 1719.8933 | AD13: =+AD12+1 -> 8 | AE13: =D37 -> 173475.87 | AG13: =+AG12 -> 263.62
B14: link | C14: Tepelný systém | O14: Říjen | P14: 20.1 | Q14: =$P$2-P14 -> 180.52405 | R14: =T14/3.6*1000 -> 5596.2455 | S14: =(Q14*3.6)/1000 -> 0.64988658 | T14: =S14*AA31 -> 20.146484 | U14: =S14*Teplárna!$J$8 -> 361.86724 | V14: =U14*AA31 -> 11217.885 | W14: =S44 -> 12466.912 | X14: =W14-V14 -> 1249.0274 | AD14: =+AD13+1 -> 9 | AE14: =D38 -> 180485.91 | AG14: =+AG13 -> 263.62
C15: Akumulační nádrž | D15: 66990 | E15: Kč s DPH | F15: LX NAD 750 l 2 příruby | O15: Listopad | P15: 9.22 | Q15: =$P$2-P15 -> 191.40405 | R15: =T15/3.6*1000 -> 5742.1215 | S15: =(Q15*3.6)/1000 -> 0.68905458 | T15: =S15*AA32 -> 20.671637 | U15: =S15*Teplárna!$J$8 -> 383.67661 | V15: =U15*AA32 -> 11510.298 | W15: =S45 -> 12064.753 | X15: =W15-V15 -> 554.4551 | AD15: =+AD14+1 -> 10 | AE15: =D39 -> 250582.45 | AG15: =+AG14 -> 263.62
C16: Izolace NEODUL LB PP 80 mm | D16: 10500 | E16: Kč s DPH
C17: Ohřívač vody | D17: 43155 | E17: Kč s DPH | F17: ohřívač vody NTR/BP 300 l | G17: 40530 | O17: Prosinec | P17: 7.21 | Q17: =$P$2-P17 -> 193.41405 | R17: =T17/3.6*1000 -> 5995.8355 | S17: =(Q17*3.6)/1000 -> 0.69629058 | T17: =S17*AA33 -> 21.585008 | U17: =S17*Teplárna!$J$8 -> 387.70573 | V17: =U17*AA33 -> 12018.878 | W17: =S46 -> 12466.912 | X17: =W17-V17 -> 448.0342 | AD17: =+AD15+1 -> 11 | AE17: =D40 -> 195383.35 | AG17: =+AG15 -> 263.62
C18: Měření a regulace | F18: z bojleru LXDC 1-6 kW set | O18: ročně | R18: =SUM(R5:R17) -> 63994.308 | T18: =SUM(T5:T17) -> 230.37951 | V18: =SUM(V5:V17) -> 128279 | W18: =SUM(W5:W17) -> 146787.83 | X18: =W18+W19-V18 -> 18535.298 | AD18: =+AD17+1 -> 12 | AE18: =D41 -> 203294.97 | AG18: =+AG17 -> 263.62
B19: link | C19: MaR systém | D19: =G19 -> 18218 | E19: Kč s DPH | F19: LXDC 1-4 kW | G19: 18218 | H19: Kč s DPH | W19: 26.46 | AD19: =+AD18+1 -> 13 | AE19: =D42 -> 211532.17 | AG19: =+AG18 -> 263.62
B20: link | C20: MPPT pro LXDC Set | D20: =G20*I20 -> 44580 | E20: Kč s DPH | F20: LXDC Power Box 1-2 kW | G20: 8916 | H20: Kč s DPH | I20: 5 | J20: ks | AD20: =+AD19+1 -> 14 | AE20: =D43 -> 220108.33 | AG20: =+AG19 -> 263.62
C21: Cena celkem | D21: =SUM(D11:D20) -> 426563 | E21: Kč s DPH | AD21: =+AD20+1 -> 15 | AE21: =D44 -> 229037.39 | AG21: =+AG20 -> 263.62
AA22: 31 | AD22: =+AD21+1 -> 16 | AE22: =D45 -> 238333.86 | AG22: =+AG21 -> 263.62
C23: roční poplatky | D23: =I10+I9 -> 3286.9 | E23: Kč | F23: přepočítat | AA23: 28 | AD23: =+AD22+1 -> 17 | AE23: =D46 -> 248012.85 | AG23: =+AG22 -> 263.62
C24: životnost | D24: 20 | E24: let | AA24: 31 | AD24: =+AD23+1 -> 18 | AE24: =D47 -> 258090.08 | AG24: =+AG23 -> 263.62
AA25: 30 | AD25: =+AD24+1 -> 19 | AE25: =D48 -> 268581.93 | AG25: =+AG24 -> 263.62
AA26: 31 | AD26: =+AD25+1 -> 20 | AE26: =D49 -> 279505.44 | AG26: =+AG25 -> 263.62
B27: Úspora bez investic + nárůst cen (viz předchozí list) | AA27: 30
B28: rok | C28: Cena [Kč/GJ] | D28: Ročně [Kč] | E28: Roční úspora [Kč] | F28: Kumulovaná úspora [Kč] | G28: FVE výroba [kWh/rok] | H28: Roční spotřeba [kWh/rok] | I28: FVE výroba [GJ/rok] | J28: Roční spotřeba [GJ/rok] | AA28: 31
B29: 0 | C29: =Teplárna!J7 -> 535.4 | D29: =Teplárna!C7 -> 141142.15 | E29: =(I29)*C29 -> 0 | F29: =E29 -> 0 | G29: 0 | H29: =$D$2-G29 -> 73227.778 | I29: =($G$29*3.6)/1000 -> 0 | J29: =$D$3-I29 -> 263.62 | AA29: 31
B30: 1 | C30: =Teplárna!J8 -> 556.816 | D30: =Teplárna!K8-'Teplárna + FVE 10 kWp'!E30 -> 131580.87 | E30: =(I30)*C30-$D$23 -> 15206.964 | F30: =F29+E30 -> 15206.964 | G30: =$D$4*E68 -> 9226 | H30: =$D$2-G30 -> 64001.778 | I30: =(G30*3.6)/1000 -> 33.2136 | J30: =$D$3-I30 -> 230.4064 | AA30: 30
B31: 2 | C31: =Teplárna!J9 -> 579.08864 | D31: =Teplárna!K9-'Teplárna + FVE 10 kWp'!E31 -> 136866.5 | E31: =(I31)*C31-$D$23 -> 15792.85 | F31: =F30+E31 -> 30999.813 | G31: =$D$4*E69 -> 9152.192 | H31: =$D$2-G31 -> 64075.586 | I31: =(G31*3.6)/1000 -> 32.947891 | J31: =$D$3-I31 -> 230.67211 | P31: Systém bez FVE | AA31: 31
B32: 3 | C32: =Teplárna!J10 -> 602.25219 | D32: =Teplárna!K10-'Teplárna + FVE 10 kWp'!E32 -> 142369.71 | E32: =(I32)*C32-$D$23 -> 16396.016 | F32: =F31+E32 -> 47395.829 | G32: =$D$4*E70 -> 9078.384 | H32: =$D$2-G32 -> 64149.394 | I32: =(G32*3.6)/1000 -> 32.682182 | J32: =$D$3-I32 -> 230.93782 | P32: Měsíc | Q32: Denní spotřeba [kWh/den] | R32: částka za den | S32: častka za den | AA32: 30
B33: 4 | C33: =Teplárna!J11 -> 626.34227 | D33: =Teplárna!K11-'Teplárna + FVE 10 kWp'!E33 -> 148099.44 | E33: =(I33)*C33-$D$23 -> 17016.908 | F33: =F32+E33 -> 64412.737 | G33: =$D$4*E71 -> 9004.576 | H33: =$D$2-G33 -> 64223.202 | I33: =(G33*3.6)/1000 -> 32.416474 | J33: =$D$3-I33 -> 231.20353 | Q33: =P2 -> 200.62405 | R33: =Teplárna!H35 -> 386.69082 | S33: =Teplárna!H39 -> 402.15845 | AA33: 31
B34: 5 | C34: =Teplárna!J12 -> 651.39596 | D34: =Teplárna!K12-'Teplárna + FVE 10 kWp'!E34 -> 154065.03 | E34: =(I34)*C34-$D$23 -> 17655.978 | F34: =F33+E34 -> 82068.715 | G34: =$D$4*E72 -> 8930.768 | H34: =$D$2-G34 -> 64297.01 | I34: =(G34*3.6)/1000 -> 32.150765 | J34: =$D$3-I34 -> 231.46924 | Q34: Měsíční spotřeba [kWh/měsíc] | R34: částka za měsíc rok 0 | S34: částka za měsíc rok 1 | AA34: =SUM(AA22:AA33) -> 365
B35: 6 | C35: =Teplárna!J13 -> 677.4518 | D35: =Teplárna!K13-'Teplárna + FVE 10 kWp'!E35 -> 160276.16 | E35: =(I35)*C35-$D$23 -> 18313.689 | F35: =F34+E35 -> 100382.4 | G35: =$D$4*E73 -> 8856.96 | H35: =$D$2-G35 -> 64370.818 | I35: =(G35*3.6)/1000 -> 31.885056 | J35: =$D$3-I35 -> 231.73494 | P35: Leden | Q35: =$Q$33*AA22 -> 6219.3455 | R35: =$R$33*AA22 -> 11987.415 | S35: =$S$33*AA22 -> 12466.912
B36: 7 | C36: =Teplárna!J14 -> 704.54987 | D36: =Teplárna!K14-'Teplárna + FVE 10 kWp'!E36 -> 166742.93 | E36: =(I36)*C36-$D$23 -> 18990.507 | F36: =F35+E36 -> 119372.91 | G36: =$D$4*E74 -> 8783.152 | H36: =$D$2-G36 -> 64444.626 | I36: =(G36*3.6)/1000 -> 31.619347 | J36: =$D$3-I36 -> 232.00065 | P36: Únor | Q36: =$Q$33*AA23 -> 5617.4734 | R36: =$R$33*AA23 -> 10827.343 | S36: =$S$33*AA23 -> 11260.437
B37: 8 | C37: =Teplárna!J15 -> 732.73187 | D37: =Teplárna!K15-'Teplárna + FVE 10 kWp'!E37 -> 173475.87 | E37: =(I37)*C37-$D$23 -> 19686.91 | F37: =F36+E37 -> 139059.82 | G37: =$D$4*E75 -> 8709.344 | H37: =$D$2-G37 -> 64518.434 | I37: =(G37*3.6)/1000 -> 31.353638 | J37: =$D$3-I37 -> 232.26636 | P37: Březen | Q37: =$Q$33*AA24 -> 6219.3455 | R37: =$R$33*AA24 -> 11987.415 | S37: =$S$33*AA24 -> 12466.912
B38: 9 | C38: =Teplárna!J16 -> 762.04114 | D38: =Teplárna!K16-'Teplárna + FVE 10 kWp'!E38 -> 180485.91 | E38: =(I38)*C38-$D$23 -> 20403.381 | F38: =F37+E38 -> 159463.2 | G38: =$D$4*E76 -> 8635.536 | H38: =$D$2-G38 -> 64592.242 | I38: =(G38*3.6)/1000 -> 31.08793 | J38: =$D$3-I38 -> 232.53207 | P38: Duben | Q38: =$Q$33*AA25 -> 6018.7215 | R38: =$R$33*AA25 -> 11600.724 | S38: =$S$33*AA25 -> 12064.753
B39: 10 | C39: =Teplárna!J17 -> 792.52279 | D39: =Teplárna!K17-'Teplárna + FVE 10 kWp'!E39 -> 250582.45 | E39: =(I39)*C39-$D$23-(+'Teplárna + FVE 10 kWp'!D19+'Teplárna + FVE 10 kWp'!D20) -> -41657.588 | F39: =F38+E39 -> 117805.62 | G39: =$D$4*E77 -> 8561.728 | H39: =$D$2-G39 -> 64666.05 | I39: =(G39*3.6)/1000 -> 30.822221 | J39: =$D$3-I39 -> 232.79778 | P39: Květen | Q39: =$Q$33*AA26 -> 6219.3455 | R39: =$R$33*AA26 -> 11987.415 | S39: =$S$33*AA26 -> 12466.912
B40: 11 | C40: =Teplárna!J18 -> 824.2237 | D40: =Teplárna!K18-'Teplárna + FVE 10 kWp'!E40 -> 195383.35 | E40: =(I40)*C40-$D$23 -> 21898.501 | F40: =F39+E40 -> 139704.12 | G40: =$D$4*E78 -> 8487.92 | H40: =$D$2-G40 -> 64739.858 | I40: =(G40*3.6)/1000 -> 30.556512 | J40: =$D$3-I40 -> 233.06349 | P40: Červen | Q40: =$Q$33*AA27 -> 6018.7215 | R40: =$R$33*AA27 -> 11600.724 | S40: =$S$33*AA27 -> 12064.753
B41: 12 | C41: =Teplárna!J19 -> 857.19265 | D41: =Teplárna!K19-'Teplárna + FVE 10 kWp'!E41 -> 203294.97 | E41: =(I41)*C41-$D$23 -> 22678.154 | F41: =F40+E41 -> 162382.27 | G41: =$D$4*E79 -> 8414.112 | H41: =$D$2-G41 -> 64813.666 | I41: =(G41*3.6)/1000 -> 30.290803 | J41: =$D$3-I41 -> 233.3292 | P41: Červenec | Q41: =$Q$33*AA28 -> 6219.3455 | R41: =$R$33*AA28 -> 11987.415 | S41: =$S$33*AA28 -> 12466.912
B42: 13 | C42: =Teplárna!J20 -> 891.48036 | D42: =Teplárna!K20-'Teplárna + FVE 10 kWp'!E42 -> 211532.17 | E42: =(I42)*C42-$D$23 -> 23479.882 | F42: =F41+E42 -> 185862.15 | G42: =$D$4*E80 -> 8340.304 | H42: =$D$2-G42 -> 64887.474 | I42: =(G42*3.6)/1000 -> 30.025094 | J42: =$D$3-I42 -> 233.59491 | P42: Srpen | Q42: =$Q$33*AA29 -> 6219.3455 | R42: =$R$33*AA29 -> 11987.415 | S42: =$S$33*AA29 -> 12466.912
B43: 14 | C43: =Teplárna!J21 -> 927.13957 | D43: =Teplárna!K21-'Teplárna + FVE 10 kWp'!E43 -> 220108.33 | E43: =(I43)*C43-$D$23 -> 24304.204 | F43: =F42+E43 -> 210166.36 | G43: =$D$4*E81 -> 8266.496 | H43: =$D$2-G43 -> 64961.282 | I43: =(G43*3.6)/1000 -> 29.759386 | J43: =$D$3-I43 -> 233.86061 | P43: Září | Q43: =$Q$33*AA30 -> 6018.7215 | R43: =$R$33*AA30 -> 11600.724 | S43: =$S$33*AA30 -> 12064.753
B44: 15 | C44: =Teplárna!J22 -> 964.22515 | D44: =Teplárna!K22-'Teplárna + FVE 10 kWp'!E44 -> 229037.39 | E44: =(I44)*C44-$D$23 -> 25151.645 | F44: =F43+E44 -> 235318 | G44: =$D$4*E82 -> 8192.688 | H44: =$D$2-G44 -> 65035.09 | I44: =(G44*3.6)/1000 -> 29.493677 | J44: =$D$3-I44 -> 234.12632 | P44: Říjen | Q44: =$Q$33*AA31 -> 6219.3455 | R44: =$R$33*AA31 -> 11987.415 | S44: =$S$33*AA31 -> 12466.912
B45: 16 | C45: =Teplárna!J23 -> 1002.7942 | D45: =Teplárna!K23-'Teplárna + FVE 10 kWp'!E45 -> 238333.86 | E45: =(I45)*C45-$D$23 -> 26022.736 | F45: =F44+E45 -> 261340.74 | G45: =$D$4*E83 -> 8118.88 | H45: =$D$2-G45 -> 65108.898 | I45: =(G45*3.6)/1000 -> 29.227968 | J45: =$D$3-I45 -> 234.39203 | P45: Listopad | Q45: =$Q$33*AA32 -> 6018.7215 | R45: =$R$33*AA32 -> 11600.724 | S45: =$S$33*AA32 -> 12064.753
B46: 17 | C46: =Teplárna!J24 -> 1042.9059 | D46: =Teplárna!K24-'Teplárna + FVE 10 kWp'!E46 -> 248012.85 | E46: =(I46)*C46-$D$23 -> 26918.012 | F46: =F45+E46 -> 288258.75 | G46: =$D$4*E84 -> 8045.072 | H46: =$D$2-G46 -> 65182.706 | I46: =(G46*3.6)/1000 -> 28.962259 | J46: =$D$3-I46 -> 234.65774 | P46: Prosinec | Q46: =$Q$33*AA33 -> 6219.3455 | R46: =$R$33*AA33 -> 11987.415 | S46: =$S$33*AA33 -> 12466.912
B47: 18 | C47: =Teplárna!J25 -> 1084.6222 | D47: =Teplárna!K25-'Teplárna + FVE 10 kWp'!E47 -> 258090.08 | E47: =(I47)*C47-$D$23 -> 27838.015 | F47: =F46+E47 -> 316096.76 | G47: =$D$4*E85 -> 7971.264 | H47: =$D$2-G47 -> 65256.514 | I47: =(G47*3.6)/1000 -> 28.69655 | J47: =$D$3-I47 -> 234.92345 | P47: Celkem | Q47: =SUM(Q35:Q46) -> 73227.778 | R47: =SUM(R35:R46) -> 141142.15 | S47: =SUM(S35:S46) -> 146787.83
B48: 19 | C48: =Teplárna!J26 -> 1128.007 | D48: =Teplárna!K26-'Teplárna + FVE 10 kWp'!E48 -> 268581.93 | E48: =(I48)*C48-$D$23 -> 28783.29 | F48: =F47+E48 -> 344880.05 | G48: =$D$4*E86 -> 7897.456 | H48: =$D$2-G48 -> 65330.322 | I48: =(G48*3.6)/1000 -> 28.430842 | J48: =$D$3-I48 -> 235.18916
B49: 20 | C49: =Teplárna!J27 -> 1173.1273 | D49: =Teplárna!K27-'Teplárna + FVE 10 kWp'!E49 -> 279505.44 | E49: =(I49)*C49-$D$23 -> 29754.387 | F49: =F48+E49 -> 374634.44 | G49: =$D$4*E87 -> 7823.648 | H49: =$D$2-G49 -> 65404.13 | I49: =(G49*3.6)/1000 -> 28.165133 | J49: =$D$3-I49 -> 235.45487
D67: Rozpočítání poklesu účinnosti panelů
D68: 1 | E68: 1 | F68: =0.2/25 -> 0.008
D69: 2 | E69: =E68-$F$68 -> 0.992
D70: 3 | E70: =E69-$F$68 -> 0.984
D71: 4 | E71: =E70-$F$68 -> 0.976
D72: 5 | E72: =E71-$F$68 -> 0.968
D73: 6 | E73: =E72-$F$68 -> 0.96
D74: 7 | E74: =E73-$F$68 -> 0.952
D75: 8 | E75: =E74-$F$68 -> 0.944
D76: 9 | E76: =E75-$F$68 -> 0.936
D77: 10 | E77: =E76-$F$68 -> 0.928
D78: 11 | E78: =E77-$F$68 -> 0.92
D79: 12 | E79: =E78-$F$68 -> 0.912
D80: 13 | E80: =E79-$F$68 -> 0.904
... D92: 25 | E92: =E91-$F$68 -> 0.808

Sheet NPV
E6: Srovnání NPV
E7: rok | F7: Cash flow (výdaje) | I7: diskont
F8: Teplárna | G8: Varianta 1 | H8: Varianta 2 | I8: 0.03
E9: 0 | F9: - | G9: ='Teplárna + FVE 18 kWp'!D21 -> 706947 | H9: ='Teplárna + FVE 10 kWp'!D21 -> 426563 | I9: investice
E10: 1 | F10: =Teplárna!K8 -> 146787.83 | G10: ='Teplárna + FVE 18 kWp'!D29 -> 117426.21 | H10: ='Teplárna + FVE 10 kWp'!D30 -> 131580.87
E11: 2 | F11: =Teplárna!K9 -> 152659.35 | G11: ='Teplárna + FVE 18 kWp'!D30 -> 122205.46 | H11: ='Teplárna + FVE 10 kWp'!D31 -> 136866.5
E12: 3 | F12: =Teplárna!K10 -> 158765.72 | G12: ='Teplárna + FVE 18 kWp'!D31 -> 127187.35 | H12: ='Teplárna + FVE 10 kWp'!D32 -> 142369.71
E13: 4 | F13: =Teplárna!K11 -> 165116.35 | G13: ='Teplárna + FVE 18 kWp'!D32 -> 132380.45 | H13: ='Teplárna + FVE 10 kWp'!D33 -> 148099.44
E14: 5 | F14: =Teplárna!K12 -> 171721 | G14: ='Teplárna + FVE 18 kWp'!D33 -> 137793.69 | H14: ='Teplárna + FVE 10 kWp'!D34 -> 154065.03
E15: 6 | F15: =Teplárna!K13 -> 178589.84 | G15: ='Teplárna + FVE 18 kWp'!D34 -> 143436.36 | H15: ='Teplárna + FVE 10 kWp'!D35 -> 160276.16
E16: 7 | F16: =Teplárna!K14 -> 185733.44 | G16: ='Teplárna + FVE 18 kWp'!D35 -> 149318.16 | H16: ='Teplárna + FVE 10 kWp'!D36 -> 166742.93
E17: 8 | F17: =Teplárna!K15 -> 193162.78 | G17: ='Teplárna + FVE 18 kWp'!D36 -> 155449.2 | H17: ='Teplárna + FVE 10 kWp'!D37 -> 173475.87
E18: 9 | F18: =Teplárna!K16 -> 200889.29 | G18: ='Teplárna + FVE 18 kWp'!D37 -> 161840 | H18: ='Teplárna + FVE 10 kWp'!D38 -> 180485.91
E19: 10 | F19: =Teplárna!K17 -> 208924.86 | G19: ='Teplárna + FVE 18 kWp'!D38 -> 292197.52 | H19: ='Teplárna + FVE 10 kWp'!D39 -> 250582.45 | I19: reinvestice
E20: 11 | F20: =Teplárna!K18 -> 217281.85 | G20: ='Teplárna + FVE 18 kWp'!D39 -> 175445.22 | H20: ='Teplárna + FVE 10 kWp'!D40 -> 195383.35
E21: 12 | F21: =Teplárna!K19 -> 225973.13 | G21: ='Teplárna + FVE 18 kWp'!D40 -> 182682.99 | H21: ='Teplárna + FVE 10 kWp'!D41 -> 203294.97
E22: 13 | F22: =Teplárna!K20 -> 235012.05 | G22: ='Teplárna + FVE 18 kWp'!D41 -> 190227.25 | H22: ='Teplárna + FVE 10 kWp'!D42 -> 211532.17
E23: 14 | F23: =Teplárna!K21 -> 244412.53 | G23: ='Teplárna + FVE 18 kWp'!D42 -> 198090.95 | H23: ='Teplárna + FVE 10 kWp'!D43 -> 220108.33
E24: 15 | F24: =Teplárna!K22 -> 254189.03 | G24: ='Teplárna + FVE 18 kWp'!D43 -> 206287.57 | H24: ='Teplárna + FVE 10 kWp'!D44 -> 229037.39
E25: 16 | F25: =Teplárna!K23 -> 264356.6 | G25: ='Teplárna + FVE 18 kWp'!D44 -> 214831.16 | H25: ='Teplárna + FVE 10 kWp'!D45 -> 238333.86
E26: 17 | F26: =Teplárna!K24 -> 274930.86 | G26: ='Teplárna + FVE 18 kWp'!D45 -> 223736.37 | H26: ='Teplárna + FVE 10 kWp'!D46 -> 248012.85
E27: 18 | F27: =Teplárna!K25 -> 285928.09 | G27: ='Teplárna + FVE 18 kWp'!D46 -> 233018.44 | H27: ='Teplárna + FVE 10 kWp'!D47 -> 258090.08
E28: 19 | F28: =Teplárna!K26 -> 297365.22 | G28: ='Teplárna + FVE 18 kWp'!D47 -> 242693.29 | H28: ='Teplárna + FVE 10 kWp'!D48 -> 268581.93
E29: 20 | F29: =Teplárna!K27 -> 309259.83 | G29: ='Teplárna + FVE 18 kWp'!D48 -> 252777.49 | H29: ='Teplárna + FVE 10 kWp'!D49 -> 279505.44
E30: NPV | F30: =NPV($I$8,F10:F29)/1000 -> 3129.1021 | G30: =(NPV($I$8,G10:G29)+G9)/1000 -> 3326.9812 | H30: =(NPV($I$8,H10:H29)+H9)/1000 -> 3288.0311 | I30: tis. CZK
E31: Průměrná cena za GJ | F31: =F30/'Teplárna + FVE 18 kWp'!AH6*1000 -> 797.83328 | G31: =G30/'Teplárna + FVE 18 kWp'!$AH$6*1000 -> 848.2869 | H31: =H30/'Teplárna + FVE 18 kWp'!$AH$6*1000 -> 838.35573 | I31: Kč/GJ

Sheet Diagram
A1: spotřeba tepla na přípravu TV | B1: =Teplárna!C2 -> 263.62 | C1: GJ | D1: přepočet na měsíce | E1: =B1/12 -> 21.968333
B4: Varianta 2 | K4: Varianta 1
B5: Měsíc | C5: Měsíční spotřeba [GJ] | D5: Výroba 10 kWp [kWh/měsíc] | E5: Výroba 10 kWp [GJ/měsíc] | F5: Rozdíl [GJ/měsíc] | K5: Měsíc | L5: Měsíční spotřeba [GJ] | M5: Výroba 18 kWp [kWh/měsíc] | N5: Výroba 18 kWp [GJ/měsíc] | O5: Rozdíl [GJ/měsíc]
B6: Leden | C6: =$C$28+2.23 -> 25.662889 | D6: 256 | E6: =(D6*3.6)/1000 -> 0.9216 | F6: =C6-E6 -> 24.741289 | K6: Leden | L6: =$C$28+2.23 -> 25.662889 | M6: 461 | N6: =(M6*3.6)/1000 -> 1.6596 | O6: =L6-N6 -> 24.003289
B7: Únor | C7: =$C$28-0.23 -> 23.202889 | D7: 454 | E7: =D7*3.6/1000 -> 1.6344 | F7: =C7-E7 -> 21.568489 | K7: Únor | L7: =$C$28-0.23 -> 23.202889 | M7: 818 | N7: =M7*3.6/1000 -> 2.9448 | O7: =L7-N7 -> 20.258089
B8: Březen | C8: =$C$28+0.98 -> 24.412889 | D8: 876 | E8: =D8*3.6/1000 -> 3.1536 | F8: =C8-E8 -> 21.259289 | K8: Březen | L8: =$C$28+0.98 -> 24.412889 | M8: 1580 | N8: =M8*3.6/1000 -> 5.688 | O8: =L8-N8 -> 18.724889
B9: Duben | C9: =$C$28-0.98 -> 22.452889 | D9: 1110 | E9: =D9*3.6/1000 -> 3.996 | F9: =C9-E9 -> 18.456889 | K9: Duben | L9: =$C$28-0.98 -> 22.452889 | M9: 2010 | N9: =M9*3.6/1000 -> 7.236 | O9: =L9-N9 -> 15.216889
B10: Květen | C10: =$C$28-2 -> 21.432889 | D10: 1160 | E10: =D10*3.6/1000 -> 4.176 | F10: =C10-E10 -> 17.256889 | K10: Květen | L10: =$C$28-2 -> 21.432889 | M10: 2090 | N10: =M10*3.6/1000 -> 7.524 | O10: =L10-N10 -> 13.908889
B11: Červen | C11: =$C$21+2 -> 19.574667 | D11: 1160 | E11: =D11*3.6/1000 -> 4.176 | F11: =C11-E11 -> 15.398667 | K11: Červen | L11: =$C$21+2 -> 19.574667 | M11: 2100 | N11: =M11*3.6/1000 -> 7.56 | O11: =L11-N11 -> 12.014667
B12: Červenec | C12: =$C$21-1.5 -> 16.074667 | D12: 1140 | E12: =D12*3.6/1000 -> 4.104 | F12: =C12-E12 -> 11.970667 | K12: Červenec | L12: =$C$21-1.5 -> 16.074667 | M12: 2050 | N12: =M12*3.6/1000 -> 7.38 | O12: =L12-N12 -> 8.6946667
B13: Srpen | C13: =$C$21-1.5 -> 16.074667 | D13: 1090 | E13: =D13*3.6/1000 -> 3.924 | F13: =C13-E13 -> 12.150667 | K13: Srpen | L13: =$C$21-1.5 -> 16.074667 | M13: 1960 | N13: =M13*3.6/1000 -> 7.056 | O13: =L13-N13 -> 9.0186667
B14: Září | C14: =$C$28-1.23 -> 22.202889 | D14: 858 | E14: =D14*3.6/1000 -> 3.0888 | F14: =C14-E14 -> 19.114089 | K14: Září | L14: =$C$28-1.23 -> 22.202889 | M14: 1540 | N14: =M14*3.6/1000 -> 5.544 | O14: =L14-N14 -> 16.658889
B15: Říjen | C15: =$C$28-1 -> 22.432889 | D15: 622 | E15: =D15*3.6/1000 -> 2.2392 | F15: =C15-E15 -> 20.193689 | K15: Říjen | L15: =$C$28-1 -> 22.432889 | M15: 1120 | N15: =M15*3.6/1000 -> 4.032 | O15: =L15-N15 -> 18.400889
B16: Listopad | C16: =$C$28+1 -> 24.432889 | D16: 277 | E16: =D16*3.6/1000 -> 0.9972 | F16: =C16-E16 -> 23.435689 | K16: Listopad | L16: =$C$28+1 -> 24.432889 | M16: 498 | N16: =M16*3.6/1000 -> 1.7928 | O16: =L16-N16 -> 22.640089
B17: Prosinec | C17: =$C$28+2.23 -> 25.662889 | D17: 223 | E17: =D17*3.6/1000 -> 0.8028 | F17: =C17-E17 -> 24.860089 | K17: Prosinec | L17: =$C$28+2.23 -> 25.662889 | M17: 402 | N17: =M17*3.6/1000 -> 1.4472 | O17: =L17-N17 -> 24.215689
B18: celkem za rok | C18: =SUM(C6:C17) -> 263.62 | D18: =SUM(D6:D17) -> 9226 | E18: =SUM(E6:E17) -> 33.2136 | F18: =SUM(F6:F17) -> 230.4064 | K18: celkem za rok | L18: =SUM(L6:L17) -> 263.62 | M18: =SUM(M6:M17) -> 16629 | N18: =SUM(N6:N17) -> 59.8644 | O18: =SUM(O6:O17) -> 203.7556
B21: 80% spotřeba | C21: =E1*0.8 -> 17.574667
B22: 20% spotřeba | C22: =E1*0.2 -> 4.3936667
B24: 3 měsíce | C24: =3*C22 -> 13.181
B26: rozpočteno na 9 měsíců | C26: =C24/9 -> 1.4645556
B28: Rozpočítáno | C28: =E1+C26 -> 23.432889

Sheet Citlivostní_analýza
B2: Růst cen tepelné energie
B3: NPV | F3: =1000 -> 1000
A4: růst cen % | B4: Varianta 0 | C4: Varianta 1 | D4: Varianta 2
A5: 0 | B5: =Citlivostní_analýza_data!B26/F3 -> 2099.8388 | C5: =Citlivostní_analýza_data!N$26/F3 -> 2515.358 | D5: =Citlivostní_analýza_data!B53/F3 -> 2375.509
A6: 0.01 | B6: =Citlivostní_analýza_data!C26/F3 -> 2312.2927 | C6: =Citlivostní_analýza_data!O$26/F3 -> 2682.7326 | D6: =Citlivostní_analýza_data!C53/F3 -> 2563.7825
A7: 0.02 | B7: =Citlivostní_analýza_data!D26/F3 -> 2552.0236 | C7: =Citlivostní_analýza_data!P$26/F3 -> 2871.705 | D7: =Citlivostní_analýza_data!D53/F3 -> 2776.2868
A8: 0.03 | B8: =Citlivostní_analýza_data!$E26/F3 -> 2822.843 | C8: =Citlivostní_analýza_data!Q$26/F3 -> 3085.3024 | D8: =Citlivostní_analýza_data!E53/F3 -> 3016.4126
A9: 0.04 | B9: =Citlivostní_analýza_data!F26/F3 -> 3129.1021 | C9: =Citlivostní_analýza_data!R$26/F3 -> 3326.9812 | D9: =Citlivostní_analýza_data!F53/F3 -> 3288.0311
A10: 0.05 | B10: =Citlivostní_analýza_data!G26/F3 -> 3475.7661 | C10: =Citlivostní_analýza_data!S$26/F3 -> 3600.6862 | D10: =Citlivostní_analýza_data!G53/F3 -> 3595.5602
A11: 0.06 | B11: =Citlivostní_analýza_data!H26/F3 -> 3868.499 | C11: =Citlivostní_analýza_data!T$26/F3 -> 3910.9185 | D11: =Citlivostní_analýza_data!H53/F3 -> 3944.0402
A12: 0.07 | B12: =Citlivostní_analýza_data!I26/F3 -> 4313.7592 | C12: =Citlivostní_analýza_data!U$26/F3 -> 4262.812 | D12: =Citlivostní_analýza_data!I53/F3 -> 4339.2189
A13: 0.08 | B13: =Citlivostní_analýza_data!J26/F3 -> 4818.9082 | C13: =Citlivostní_analýza_data!V$26/F3 -> 4662.2189 | D13: =Citlivostní_analýza_data!J53/F3 -> 4787.6484
A14: 0.09 | B14: =Citlivostní_analýza_data!K26/F3 -> 5392.3328 | C14: =Citlivostní_analýza_data!W$26/F3 -> 5115.8085 | D14: =Citlivostní_analýza_data!K53/F3 -> 5296.794
A15: 0.1 | B15: =Citlivostní_analýza_data!L26/F3 -> 6043.5837 | C15: =Citlivostní_analýza_data!X$26/F3 -> 5631.1766 | D15: =Citlivostní_analýza_data!L53/F3 -> 5875.1581
B24: Vliv diskontní míry
B25: NPV
A26: diskontní míra | B26: Varianta 0 | C26: Varianta 1 | D26: Varianta 2
A27: -0.1 | B27: =Citlivostní_analýza_data!B83 -> 17847.896 | C27: =Citlivostní_analýza_data!C83 -> 15548.114 | D27: =Citlivostní_analýza_data!D83 -> 16690.672
A28: -0.09 | B28: =Citlivostní_analýza_data!B82 -> 15185.809 | C28: =Citlivostní_analýza_data!C82 -> 13346.395 | D28: =Citlivostní_analýza_data!D82 -> 14271.115
A29: -0.08 | B29: =Citlivostní_analýza_data!B81 -> 12981.042 | C29: =Citlivostní_analýza_data!C81 -> 11521.114 | D29: =Citlivostní_analýza_data!D81 -> 12266.282
A30: -0.07 | B30: =Citlivostní_analýza_data!B80 -> 11148.169 | C30: =Citlivostní_analýza_data!C80 -> 10002.18 | D30: =Citlivostní_analýza_data!D80 -> 10598.821
A31: -0.06 | B31: =Citlivostní_analýza_data!B79 -> 9618.7573 | C31: =Citlivostní_analýza_data!C79 -> 8733.4161 | D31: =Citlivostní_analýza_data!D79 -> 9206.7538
A32: -0.05 | B32: =Citlivostní_analýza_data!B78 -> 8337.8091 | C32: =Citlivostní_analýza_data!C78 -> 7669.6506 | D32: =Citlivostní_analýza_data!D78 -> 8040.2548
A33: -0.04 | B33: =Citlivostní_analýza_data!B77 -> 7260.9793 | C33: =Citlivostní_analýza_data!C77 -> 6774.439 | D33: =Citlivostní_analýza_data!D77 -> 7059.1396
A34: -0.03 | B34: =Citlivostní_analýza_data!B76 -> 6352.3969 | C34: =Citlivostní_analýza_data!C76 -> 6018.2836 | D34: =Citlivostní_analýza_data!D76 -> 6230.8933
A35: -0.02 | B35: =Citlivostní_analýza_data!B75 -> 5582.9544 | C35: =Citlivostní_analýza_data!C75 -> 5377.2327 | D35: =Citlivostní_analýza_data!D75 -> 5529.1235
A36: -0.01 | B36: =Citlivostní_analýza_data!B74 -> 4928.9576 | C36: =Citlivostní_analýza_data!C74 -> 4831.7763 | D36: =Citlivostní_analýza_data!D74 -> 4932.3397
A37: 0 | B37: =Citlivostní_analýza_data!B62 -> 4371.0597 | C37: =Citlivostní_analýza_data!C62 -> 4365.9721 | D37: =Citlivostní_analýza_data!D62 -> 4422.9882
A38: 0.01 | B38: =Citlivostní_analýza_data!B63 -> 3893.4145 | C38: =Citlivostní_analýza_data!C63 -> 3966.7532 | D38: =Citlivostní_analýza_data!D63 -> 3986.6867
A39: 0.02 | B39: =Citlivostní_analýza_data!B64 -> 3483.0042 | C39: =Citlivostní_analýza_data!C64 -> 3623.3761 | D39: =Citlivostní_analýza_data!D64 -> 3611.6154
A40: 0.03 | B40: =Citlivostní_analýza_data!B65 -> 3129.1021 | C40: =Citlivostní_analýza_data!C65 -> 3326.9812 | D40: =Citlivostní_analýza_data!D65 -> 3288.0311
A41: 0.04 | B41: =Citlivostní_analýza_data!B66 -> 2822.843 | C41: =Citlivostní_analýza_data!C66 -> 3070.24 | D41: =Citlivostní_analýza_data!D66 -> 3007.8783
A42: 0.05 | B42: =Citlivostní_analýza_data!B67 -> 2556.8787 | C42: =Citlivostní_analýza_data!C67 -> 2847.0729 | D42: =Citlivostní_analýza_data!D67 -> 2764.4773
A43: 0.06 | B43: =Citlivostní_analýza_data!B68 -> 2325.1006 | C43: =Citlivostní_analýza_data!C68 -> 2652.4211 | D43: =Citlivostní_analýza_data!D68 -> 2552.2725
A44: 0.07 | B44: =Citlivostní_analýza_data!B69 -> 2122.4158 | C44: =Citlivostní_analýza_data!C69 -> 2482.0632 | D44: =Citlivostní_analýza_data!D69 -> 2366.6302
A45: 0.08 | B45: =Citlivostní_analýza_data!B70 -> 1944.5662 | C45: =Citlivostní_analýza_data!C70 -> 2332.4661 | D45: =Citlivostní_analýza_data!D70 -> 2203.6747
A46: 0.09 | B46: =Citlivostní_analýza_data!B71 -> 1787.9814 | C46: =Citlivostní_analýza_data!C71 -> 2200.6646 | D46: =Citlivostní_analýza_data!D71 -> 2060.1543
A47: 0.1 | B47: =Citlivostní_analýza_data!B72 -> 1649.6592 | C47: =Citlivostní_analýza_data!C72 -> 2084.1628 | D47: =Citlivostní_analýza_data!D72 -> 1933.3338
B52: Vliv dotace
A53: dotace | B53: NPV
B54: Varianta 0 | C54: Varianta 1 | D54: Varianta 2
A55: 0 | B55: =NPV!$F$30 -> 3129.1021 | C55: =Citlivostní_analýza_data!K62 -> 3326.9812 | D55: =Citlivostní_analýza_data!M62 -> 3288.0311
A56: 0.05 | B56: =NPV!$F$30 -> 3129.1021 | C56: =Citlivostní_analýza_data!K63 -> 3291.6338 | D56: =Citlivostní_analýza_data!M63 -> 3266.7029
A57: 0.1 | B57: =NPV!$F$30 -> 3129.1021 | C57: =Citlivostní_analýza_data!K64 -> 3256.2865 | D57: =Citlivostní_analýza_data!M64 -> 3245.3748
A58: 0.15 | B58: =NPV!$F$30 -> 3129.1021 | C58: =Citlivostní_analýza_data!K65 -> 3220.9391 | D58: =Citlivostní_analýza_data!M65 -> 3224.0466
A59: 0.2 | B59: =NPV!$F$30 -> 3129.1021 | C59: =Citlivostní_analýza_data!K66 -> 3185.5918 | D59: =Citlivostní_analýza_data!M66 -> 3202.7185
A60: 0.25 | B60: =NPV!$F$30 -> 3129.1021 | C60: =Citlivostní_analýza_data!K67 -> 3150.2444 | D60: =Citlivostní_analýza_data!M67 -> 3181.3903
A61: 0.3 | B61: =NPV!$F$30 -> 3129.1021 | C61: =Citlivostní_analýza_data!K68 -> 3114.8971 | D61: =Citlivostní_analýza_data!M68 -> 3160.0622
A62: 0.35 | B62: =NPV!$F$30 -> 3129.1021 | C62: =Citlivostní_analýza_data!K69 -> 3079.5497 | D62: =Citlivostní_analýza_data!M69 -> 3138.734
A63: 0.4 | B63: =NPV!$F$30 -> 3129.1021 | C63: =Citlivostní_analýza_data!K70 -> 3044.2024 | D63: =Citlivostní_analýza_data!M70 -> 3117.4059

Sheet Citlivostní_analýza_data
B2: Citlivostní analýza růstu cen od Teplárny | F2: spotřeba | G2: =Teplárna!C2 -> 263.62 | Q2: Teplárna 18 kWp
B3: % | G3: Teplárna | N3: %
B4: 0 | C4: 0.01 | D4: 0.02 | E4: 0.03 | F4: 0.04 | G4: 0.05 | H4: 0.06 | I4: 0.07 | J4: 0.08 | K4: 0.09 | L4: 0.1 | N4: 0 | O4: 0.01 | P4: 0.02 | Q4: 0.03 | R4: 0.04 | S4: 0.05 | T4: 0.06 | U4: 0.07 | V4: 0.08 | W4: 0.09 | X4: 0.1
A5: 0 | B5: =$C$5 -> 141142.15 | C5: =Teplárna!$C$7 -> 141142.15 | D5: =Teplárna!$C$7 -> 141142.15 | E5: =Teplárna!$C$7 -> 141142.15 | F5: =Teplárna!$C$7 -> 141142.15 | G5: =Teplárna!$C$7 -> 141142.15 | H5: =Teplárna!$C$7 -> 141142.15 | I5: =Teplárna!$C$7 -> 141142.15 | J5: =Teplárna!$C$7 -> 141142.15 | ... L5: =Teplárna!$C$7 -> 141142.15 | N5: ='Teplárna + FVE 18 kWp'!$D$21 -> 706947 | O5: ='Teplárna + FVE 18 kWp'!$D$21 -> 706947 | P5: ='Teplárna + FVE 18 kWp'!$D$21 -> 706947 | Q5: ='Teplárna + FVE 18 kWp'!$D$21 -> 706947 | R5: ='Teplárna + FVE 18 kWp'!$D$21 -> 706947 | S5: ='Teplárna + FVE 18 kWp'!$D$21 -> 706947 | T5: ='Teplárna + FVE 18 kWp'!$D$21 -> 706947 | U5: ='Teplárna + FVE 18 kWp'!$D$21 -> 706947 | ... X5: ='Teplárna + FVE 18 kWp'!$D$21 -> 706947
A6: 1 | B6: =$C$5 -> 141142.15 | C6: =C5*(1+$C$4) -> 142553.57 | D6: =D5*(1+$D$4) -> 143964.99 | E6: =E5*(1+$E$4) -> 145376.41 | F6: =F5*(1+$F$4) -> 146787.83 | G6: =G5*(1+$G4) -> 148199.26 | H6: =H5*(1+$H$4) -> 149610.68 | I6: =I5*(1+$I$4) -> 151022.1 | J6: =J5*(1+$J$4) -> 152433.52 | K6: =K5*(1+$K$4) -> 153844.94 | L6: =L5*(1+$L$4) -> 155256.36 | N6: =B6-(B6/$G$2)*'Teplárna + FVE 18 kWp'!$I29+'Teplárna + FVE 18 kWp'!$D$22 -> 113106.6 | O6: =C6-(C6/$G$2)*'Teplárna + FVE 18 kWp'!$I29+'Teplárna + FVE 18 kWp'!$D$22 -> 114186.5 | P6: =D6-(D6/$G$2)*'Teplárna + FVE 18 kWp'!$I29+'Teplárna + FVE 18 kWp'!$D$22 -> 115266.4 | Q6: =E6-(E6/$G$2)*'Teplárna + FVE 18 kWp'!$I29+'Teplárna + FVE 18 kWp'!$D$22 -> 116346.31 | R6: =F6-(F6/$G$2)*'Teplárna + FVE 18 kWp'!$I29+'Teplárna + FVE 18 kWp'!$D$22 -> 117426.21 | S6: =G6-(G6/$G$2)*'Teplárna + FVE 18 kWp'!$I29+'Teplárna + FVE 18 kWp'!$D$22 -> 118506.11 | T6: =H6-(H6/$G$2)*'Teplárna + FVE 18 kWp'!$I29+'Teplárna + FVE 18 kWp'!$D$22 -> 119586.01 | U6: =I6-(I6/$G$2)*'Teplárna + FVE 18 kWp'!$I29+'Teplárna + FVE 18 kWp'!$D$22 -> 120665.91 | ... X6: =L6-(L6/$G$2)*'Teplárna + FVE 18 kWp'!$I29+'Teplárna + FVE 18 kWp'!$D$22 -> 123905.62
A7: 2 | B7: =$C$5 -> 141142.15 | C7: =C6*(1+$C$4) -> 143979.11 | D7: =D6*(1+$D$4) -> 146844.29 | E7: =E6*(1+$E$4) -> 149737.7 | F7: =F6*(1+$F$4) -> 152659.35 | G7: =G6*(1+$G$4) -> 155609.22 | H7: =H6*(1+$H$4) -> 158587.32 | I7: =I6*(1+$I$4) -> 161593.65 | J7: =J6*(1+$J$4) -> 164628.2 | K7: =K6*(1+$K$4) -> 167690.99 | L7: =L6*(1+$L$4) -> 170782 | N7: =B7-(B7/$G$2)*'Teplárna + FVE 18 kWp'!$I30+'Teplárna + FVE 18 kWp'!$D$22 -> 113371.82 | O7: =C7-(C7/$G$2)*'Teplárna + FVE 18 kWp'!$I30+'Teplárna + FVE 18 kWp'!$D$22 -> 115547.75 | P7: =D7-(D7/$G$2)*'Teplárna + FVE 18 kWp'!$I30+'Teplárna + FVE 18 kWp'!$D$22 -> 117745.33 | Q7: =E7-(E7/$G$2)*'Teplárna + FVE 18 kWp'!$I30+'Teplárna + FVE 18 kWp'!$D$22 -> 119964.57 | R7: =F7-(F7/$G$2)*'Teplárna + FVE 18 kWp'!$I30+'Teplárna + FVE 18 kWp'!$D$22 -> 122205.46 | S7: =G7-(G7/$G$2)*'Teplárna + FVE 18 kWp'!$I30+'Teplárna + FVE 18 kWp'!$D$22 -> 124467.99 | T7: =H7-(H7/$G$2)*'Teplárna + FVE 18 kWp'!$I30+'Teplárna + FVE 18 kWp'!$D$22 -> 126752.18 | U7: =I7-(I7/$G$2)*'Teplárna + FVE 18 kWp'!$I30+'Teplárna + FVE 18 kWp'!$D$22 -> 129058.02 | ... X7: =L7-(L7/$G$2)*'Teplárna + FVE 18 kWp'!$I30+'Teplárna + FVE 18 kWp'!$D$22 -> 136105.45
A8: 3 | B8: =$C$5 -> 141142.15 | C8: =C7*(1+$C$4) -> 145418.9 | D8: =D7*(1+$D$4) -> 149781.18 | E8: =E7*(1+$E$4) -> 154229.84 | F8: =F7*(1+$F$4) -> 158765.72 | G8: =G7*(1+$G$4) -> 163389.68 | H8: =H7*(1+$H$4) -> 168102.56 | I8: =I7*(1+$I$4) -> 172905.2 | J8: =J7*(1+$J$4) -> 177798.46 | K8: =K7*(1+$K$4) -> 182783.17 | L8: =L7*(1+$L$4) -> 187860.2 | N8: =B8-(B8/$G$2)*'Teplárna + FVE 18 kWp'!$I31+'Teplárna + FVE 18 kWp'!$D$22 -> 113637.03 | O8: =C8-(C8/$G$2)*'Teplárna + FVE 18 kWp'!$I31+'Teplárna + FVE 18 kWp'!$D$22 -> 116925.31 | P8: =D8-(D8/$G$2)*'Teplárna + FVE 18 kWp'!$I31+'Teplárna + FVE 18 kWp'!$D$22 -> 120279.36 | Q8: =E8-(E8/$G$2)*'Teplárna + FVE 18 kWp'!$I31+'Teplárna + FVE 18 kWp'!$D$22 -> 123699.82 | R8: =F8-(F8/$G$2)*'Teplárna + FVE 18 kWp'!$I31+'Teplárna + FVE 18 kWp'!$D$22 -> 127187.35 | S8: =G8-(G8/$G$2)*'Teplárna + FVE 18 kWp'!$I31+'Teplárna + FVE 18 kWp'!$D$22 -> 130742.59 | T8: =H8-(H8/$G$2)*'Teplárna + FVE 18 kWp'!$I31+'Teplárna + FVE 18 kWp'!$D$22 -> 134366.2 | U8: =I8-(I8/$G$2)*'Teplárna + FVE 18 kWp'!$I31+'Teplárna + FVE 18 kWp'!$D$22 -> 138058.84 | ... X8: =L8-(L8/$G$2)*'Teplárna + FVE 18 kWp'!$I31+'Teplárna + FVE 18 kWp'!$D$22 -> 149557.35
A9: 4 | B9: =$C$5 -> 141142.15 | C9: =C8*(1+$C$4) -> 146873.09 | D9: =D8*(1+$D$4) -> 152776.8 | E9: =E8*(1+$E$4) -> 158856.73 | F9: =F8*(1+$F$4) -> 165116.35 | G9: =G8*(1+$G$4) -> 171559.16 | H9: =H8*(1+$H$4) -> 178188.71 | I9: =I8*(1+$I$4) -> 185008.56 | J9: =J8*(1+$J$4) -> 192022.33 | K9: =K8*(1+$K$4) -> 199233.66 | L9: =L8*(1+$L$4) -> 206646.22 | N9: =B9-(B9/$G$2)*'Teplárna + FVE 18 kWp'!$I32+'Teplárna + FVE 18 kWp'!$D$22 -> 113902.25 | O9: =C9-(C9/$G$2)*'Teplárna + FVE 18 kWp'!$I32+'Teplárna + FVE 18 kWp'!$D$22 -> 118319.39 | P9: =D9-(D9/$G$2)*'Teplárna + FVE 18 kWp'!$I32+'Teplárna + FVE 18 kWp'!$D$22 -> 122869.7 | Q9: =E9-(E9/$G$2)*'Teplárna + FVE 18 kWp'!$I32+'Teplárna + FVE 18 kWp'!$D$22 -> 127555.83 | R9: =F9-(F9/$G$2)*'Teplárna + FVE 18 kWp'!$I32+'Teplárna + FVE 18 kWp'!$D$22 -> 132380.45 | S9: =G9-(G9/$G$2)*'Teplárna + FVE 18 kWp'!$I32+'Teplárna + FVE 18 kWp'!$D$22 -> 137346.27 | T9: =H9-(H9/$G$2)*'Teplárna + FVE 18 kWp'!$I32+'Teplárna + FVE 18 kWp'!$D$22 -> 142456.02 | U9: =I9-(I9/$G$2)*'Teplárna + FVE 18 kWp'!$I32+'Teplárna + FVE 18 kWp'!$D$22 -> 147712.45 | ... X9: =L9-(L9/$G$2)*'Teplárna + FVE 18 kWp'!$I32+'Teplárna + FVE 18 kWp'!$D$22 -> 164389.75
A10: 5 | B10: =$C$5 -> 141142.15 | C10: =C9*(1+$C$4) -> 148341.82 | D10: =D9*(1+$D$4) -> 155832.34 | E10: =E9*(1+$E$4) -> 163622.43 | F10: =F9*(1+$F$4) -> 171721 | G10: =G9*(1+$G$4) -> 180137.12 | H10: =H9*(1+$H$4) -> 188880.03 | I10: =I9*(1+$I$4) -> 197959.16 | J10: =J9*(1+$J$4) -> 207384.12 | K10: =K9*(1+$K$4) -> 217164.69 | L10: =L9*(1+$L$4) -> 227310.84 | N10: =B10-(B10/$G$2)*'Teplárna + FVE 18 kWp'!$I33+'Teplárna + FVE 18 kWp'!$D$22 -> 114167.46 | O10: =C10-(C10/$G$2)*'Teplárna + FVE 18 kWp'!$I33+'Teplárna + FVE 18 kWp'!$D$22 -> 119730.16 | P10: =D10-(D10/$G$2)*'Teplárna + FVE 18 kWp'!$I33+'Teplárna + FVE 18 kWp'!$D$22 -> 125517.58 | Q10: =E10-(E10/$G$2)*'Teplárna + FVE 18 kWp'!$I33+'Teplárna + FVE 18 kWp'!$D$22 -> 131536.47 | R10: =F10-(F10/$G$2)*'Teplárna + FVE 18 kWp'!$I33+'Teplárna + FVE 18 kWp'!$D$22 -> 137793.69 | S10: =G10-(G10/$G$2)*'Teplárna + FVE 18 kWp'!$I33+'Teplárna + FVE 18 kWp'!$D$22 -> 144296.26 | T10: =H10-(H10/$G$2)*'Teplárna + FVE 18 kWp'!$I33+'Teplárna + FVE 18 kWp'!$D$22 -> 151051.31 | U10: =I10-(I10/$G$2)*'Teplárna + FVE 18 kWp'!$I33+'Teplárna + FVE 18 kWp'!$D$22 -> 158066.15 | ... X10: =L10-(L10/$G$2)*'Teplárna + FVE 18 kWp'!$I33+'Teplárna + FVE 18 kWp'!$D$22 -> 180744.22
A11: 6 | B11: =$C$5 -> 141142.15 | C11: =C10*(1+$C$4) -> 149825.23 | D11: =D10*(1+$D$4) -> 158948.98 | E11: =E10*(1+$E$4) -> 168531.11 | F11: =F10*(1+$F$4) -> 178589.84 | G11: =G10*(1+$G$4) -> 189143.98 | H11: =H10*(1+$H$4) -> 200212.83 | I11: =I10*(1+$I$4) -> 211816.31 | J11: =J10*(1+$J$4) -> 223974.85 | K11: =K10*(1+$K$4) -> 236709.51 | L11: =L10*(1+$L$4) -> 250041.92 | N11: =B11-(B11/$G$2)*'Teplárna + FVE 18 kWp'!$I34+'Teplárna + FVE 18 kWp'!$D$22 -> 114432.68 | O11: =C11-(C11/$G$2)*'Teplárna + FVE 18 kWp'!$I34+'Teplárna + FVE 18 kWp'!$D$22 -> 121157.83 | P11: =D11-(D11/$G$2)*'Teplárna + FVE 18 kWp'!$I34+'Teplárna + FVE 18 kWp'!$D$22 -> 128224.28 | Q11: =E11-(E11/$G$2)*'Teplárna + FVE 18 kWp'!$I34+'Teplárna + FVE 18 kWp'!$D$22 -> 135645.75 | R11: =F11-(F11/$G$2)*'Teplárna + FVE 18 kWp'!$I34+'Teplárna + FVE 18 kWp'!$D$22 -> 143436.36 | S11: =G11-(G11/$G$2)*'Teplárna + FVE 18 kWp'!$I34+'Teplárna + FVE 18 kWp'!$D$22 -> 151610.66 | T11: =H11-(H11/$G$2)*'Teplárna + FVE 18 kWp'!$I34+'Teplárna + FVE 18 kWp'!$D$22 -> 160183.62 | U11: =I11-(I11/$G$2)*'Teplárna + FVE 18 kWp'!$I34+'Teplárna + FVE 18 kWp'!$D$22 -> 169170.65 | ... X11: =L11-(L11/$G$2)*'Teplárna + FVE 18 kWp'!$I34+'Teplárna + FVE 18 kWp'!$D$22 -> 198776.84
A12: 7 | B12: =$C$5 -> 141142.15 | C12: =C11*(1+$C$4) -> 151323.49 | D12: =D11*(1+$D$4) -> 162127.96 | E12: =E11*(1+$E$4) -> 173587.04 | F12: =F11*(1+$F$4) -> 185733.44 | G12: =G11*(1+$G$4) -> 198601.18 | H12: =H11*(1+$H$4) -> 212225.6 | I12: =I11*(1+$I$4) -> 226643.45 | J12: =J11*(1+$J$4) -> 241892.84 | K12: =K11*(1+$K$4) -> 258013.37 | L12: =L11*(1+$L$4) -> 275046.12 | N12: =B12-(B12/$G$2)*'Teplárna + FVE 18 kWp'!$I35+'Teplárna + FVE 18 kWp'!$D$22 -> 114697.89 | O12: =C12-(C12/$G$2)*'Teplárna + FVE 18 kWp'!$I35+'Teplárna + FVE 18 kWp'!$D$22 -> 122602.59 | P12: =D12-(D12/$G$2)*'Teplárna + FVE 18 kWp'!$I35+'Teplárna + FVE 18 kWp'!$D$22 -> 130991.09 | Q12: =E12-(E12/$G$2)*'Teplárna + FVE 18 kWp'!$I35+'Teplárna + FVE 18 kWp'!$D$22 -> 139887.81 | R12: =F12-(F12/$G$2)*'Teplárna + FVE 18 kWp'!$I35+'Teplárna + FVE 18 kWp'!$D$22 -> 149318.16 | S12: =G12-(G12/$G$2)*'Teplárna + FVE 18 kWp'!$I35+'Teplárna + FVE 18 kWp'!$D$22 -> 159308.56 | T12: =H12-(H12/$G$2)*'Teplárna + FVE 18 kWp'!$I35+'Teplárna + FVE 18 kWp'!$D$22 -> 169886.44 | U12: =I12-(I12/$G$2)*'Teplárna + FVE 18 kWp'!$I35+'Teplárna + FVE 18 kWp'!$D$22 -> 181080.32 | ... X12: =L12-(L12/$G$2)*'Teplárna + FVE 18 kWp'!$I35+'Teplárna + FVE 18 kWp'!$D$22 -> 218659.71
A13: 8 | B13: =$C$5 -> 141142.15 | C13: =C12*(1+$C$4) -> 152836.72 | D13: =D12*(1+$D$4) -> 165370.52 | E13: =E12*(1+$E$4) -> 178794.65 | F13: =F12*(1+$F$4) -> 193162.78 | G13: =G12*(1+$G$4) -> 208531.23 | H13: =H12*(1+$H$4) -> 224959.14 | I13: =I12*(1+$I$4) -> 242508.49 | J13: =J12*(1+$J$4) -> 261244.27 | K13: =K12*(1+$K$4) -> 281234.57 | L13: =L12*(1+$L$4) -> 302550.73 | N13: =B13-(B13/$G$2)*'Teplárna + FVE 18 kWp'!$I36+'Teplárna + FVE 18 kWp'!$D$22 -> 114963.11 | O13: =C13-(C13/$G$2)*'Teplárna + FVE 18 kWp'!$I36+'Teplárna + FVE 18 kWp'!$D$22 -> 124064.65 | P13: =D13-(D13/$G$2)*'Teplárna + FVE 18 kWp'!$I36+'Teplárna + FVE 18 kWp'!$D$22 -> 133819.33 | Q13: =E13-(E13/$G$2)*'Teplárna + FVE 18 kWp'!$I36+'Teplárna + FVE 18 kWp'!$D$22 -> 144266.92 | R13: =F13-(F13/$G$2)*'Teplárna + FVE 18 kWp'!$I36+'Teplárna + FVE 18 kWp'!$D$22 -> 155449.2 | S13: =G13-(G13/$G$2)*'Teplárna + FVE 18 kWp'!$I36+'Teplárna + FVE 18 kWp'!$D$22 -> 167410.01 | T13: =H13-(H13/$G$2)*'Teplárna + FVE 18 kWp'!$I36+'Teplárna + FVE 18 kWp'!$D$22 -> 180195.36 | U13: =I13-(I13/$G$2)*'Teplárna + FVE 18 kWp'!$I36+'Teplárna + FVE 18 kWp'!$D$22 -> 193853.49 | ... X13: =L13-(L13/$G$2)*'Teplárna + FVE 18 kWp'!$I36+'Teplárna + FVE 18 kWp'!$D$22 -> 240582.56
A14: 9 | B14: =$C$5 -> 141142.15 | C14: =C13*(1+$C$4) -> 154365.09 | D14: =D13*(1+$D$4) -> 168677.93 | E14: =E13*(1+$E$4) -> 184158.49 | F14: =F13*(1+$F$4) -> 200889.29 | G14: =G13*(1+$G$4) -> 218957.8 | H14: =H13*(1+$H$4) -> 238456.69 | I14: =I13*(1+$I$4) -> 259484.08 | J14: =J13*(1+$J$4) -> 282143.81 | K14: =K13*(1+$K$4) -> 306545.68 | L14: =L13*(1+$L$4) -> 332805.8 | N14: =B14-(B14/$G$2)*'Teplárna + FVE 18 kWp'!$I37+'Teplárna + FVE 18 kWp'!$D$22 -> 115228.33 | O14: =C14-(C14/$G$2)*'Teplárna + FVE 18 kWp'!$I37+'Teplárna + FVE 18 kWp'!$D$22 -> 125544.19 | P14: =D14-(D14/$G$2)*'Teplárna + FVE 18 kWp'!$I37+'Teplárna + FVE 18 kWp'!$D$22 -> 136710.34 | Q14: =E14-(E14/$G$2)*'Teplárna + FVE 18 kWp'!$I37+'Teplárna + FVE 18 kWp'!$D$22 -> 148787.48 | R14: =F14-(F14/$G$2)*'Teplárna + FVE 18 kWp'!$I37+'Teplárna + FVE 18 kWp'!$D$22 -> 161840 | S14: =G14-(G14/$G$2)*'Teplárna + FVE 18 kWp'!$I37+'Teplárna + FVE 18 kWp'!$D$22 -> 175936.13 | T14: =H14-(H14/$G$2)*'Teplárna + FVE 18 kWp'!$I37+'Teplárna + FVE 18 kWp'!$D$22 -> 191148.17 | U14: =I14-(I14/$G$2)*'Teplárna + FVE 18 kWp'!$I37+'Teplárna + FVE 18 kWp'!$D$22 -> 207552.67 | ... X14: =L14-(L14/$G$2)*'Teplárna + FVE 18 kWp'!$I37+'Teplárna + FVE 18 kWp'!$D$22 -> 264754.53
A15: 10 | B15: =$C$5 -> 141142.15 | C15: =C14*(1+$C$4) -> 155908.74 | D15: =D14*(1+$D$4) -> 172051.49 | E15: =E14*(1+$E$4) -> 189683.24 | F15: =F14*(1+$F$4) -> 208924.86 | G15: =G14*(1+$G$4) -> 229905.69 | H15: =H14*(1+$H$4) -> 252764.09 | I15: =I14*(1+$I$4) -> 277647.97 | J15: =J14*(1+$J$4) -> 304715.31 | K15: =K14*(1+$K$4) -> 334134.79 | L15: =L14*(1+$L$4) -> 366086.38 | N15: =B15-(B15/$G$2)*'Teplárna + FVE 18 kWp'!$I38+'Teplárna + FVE 18 kWp'!$D$22+'Teplárna + FVE 18 kWp'!$D$19+'Teplárna + FVE 18 kWp'!$D$20 -> 239189.54 | O15: =C15-(C15/$G$2)*'Teplárna + FVE 18 kWp'!$I38+'Teplárna + FVE 18 kWp'!$D$22+'Teplárna + FVE 18 kWp'!$D$19+'Teplárna + FVE 18 kWp'!$D$20 -> 250737.43 | P15: =D15-(D15/$G$2)*'Teplárna + FVE 18 kWp'!$I38+'Teplárna + FVE 18 kWp'!$D$22+'Teplárna + FVE 18 kWp'!$D$19+'Teplárna + FVE 18 kWp'!$D$20 -> 263361.52 | Q15: =E15-(E15/$G$2)*'Teplárna + FVE 18 kWp'!$I38+'Teplárna + FVE 18 kWp'!$D$22+'Teplárna + FVE 18 kWp'!$D$19+'Teplárna + FVE 18 kWp'!$D$20 -> 277150.04 | R15: =F15-(F15/$G$2)*'Teplárna + FVE 18 kWp'!$I38+'Teplárna + FVE 18 kWp'!$D$22+'Teplárna + FVE 18 kWp'!$D$19+'Teplárna + FVE 18 kWp'!$D$20 -> 292197.52 | S15: =G15-(G15/$G$2)*'Teplárna + FVE 18 kWp'!$I38+'Teplárna + FVE 18 kWp'!$D$22+'Teplárna + FVE 18 kWp'!$D$19+'Teplárna + FVE 18 kWp'!$D$20 -> 308605.12 | T15: =H15-(H15/$G$2)*'Teplárna + FVE 18 kWp'!$I38+'Teplárna + FVE 18 kWp'!$D$22+'Teplárna + FVE 18 kWp'!$D$19+'Teplárna + FVE 18 kWp'!$D$20 -> 326481.03 | U15: =I15-(I15/$G$2)*'Teplárna + FVE 18 kWp'!$I38+'Teplárna + FVE 18 kWp'!$D$22+'Teplárna + FVE 18 kWp'!$D$19+'Teplárna + FVE 18 kWp'!$D$20 -> 345940.92 | ... X15: =L15-(L15/$G$2)*'Teplárna + FVE 18 kWp'!$I38+'Teplárna + FVE 18 kWp'!$D$22+'Teplárna + FVE 18 kWp'!$D$19+'Teplárna + FVE 18 kWp'!$D$20 -> 415102.25
A16: 11 | B16: =$C$5 -> 141142.15 | C16: =C15*(1+$C$4) -> 157467.83 | D16: =D15*(1+$D$4) -> 175492.52 | E16: =E15*(1+$E$4) -> 195373.74 | F16: =F15*(1+$F$4) -> 217281.85 | G16: =G15*(1+$G$4) -> 241400.97 | H16: =H15*(1+$H$4) -> 267929.94 | I16: =I15*(1+$I$4) -> 297083.33 | J16: =J15*(1+$J$4) -> 329092.54 | K16: =K15*(1+$K$4) -> 364206.93 | L16: =L15*(1+$L$4) -> 402695.02 | N16: =B16-(B16/$G$2)*'Teplárna + FVE 18 kWp'!$I39+'Teplárna + FVE 18 kWp'!$D$22 -> 115758.76 | O16: =C16-(C16/$G$2)*'Teplárna + FVE 18 kWp'!$I39+'Teplárna + FVE 18 kWp'!$D$22 -> 128556.57 | P16: =D16-(D16/$G$2)*'Teplárna + FVE 18 kWp'!$I39+'Teplárna + FVE 18 kWp'!$D$22 -> 142686.26 | Q16: =E16-(E16/$G$2)*'Teplárna + FVE 18 kWp'!$I39+'Teplárna + FVE 18 kWp'!$D$22 -> 158271.29 | R16: =F16-(F16/$G$2)*'Teplárna + FVE 18 kWp'!$I39+'Teplárna + FVE 18 kWp'!$D$22 -> 175445.22 | S16: =G16-(G16/$G$2)*'Teplárna + FVE 18 kWp'!$I39+'Teplárna + FVE 18 kWp'!$D$22 -> 194352.36 | T16: =H16-(H16/$G$2)*'Teplárna + FVE 18 kWp'!$I39+'Teplárna + FVE 18 kWp'!$D$22 -> 215148.61 | U16: =I16-(I16/$G$2)*'Teplárna + FVE 18 kWp'!$I39+'Teplárna + FVE 18 kWp'!$D$22 -> 238002.16 | ... X16: =L16-(L16/$G$2)*'Teplárna + FVE 18 kWp'!$I39+'Teplárna + FVE 18 kWp'!$D$22 -> 320791.92
A17: 12 | B17: =$C$5 -> 141142.15 | C17: =C16*(1+$C$4) -> 159042.51 | D17: =D16*(1+$D$4) -> 179002.37 | E17: =E16*(1+$E$4) -> 201234.95 | F17: =F16*(1+$F$4) -> 225973.13 | G17: =G16*(1+$G$4) -> 253471.02 | H17: =H16*(1+$H$4) -> 284005.73 | I17: =I16*(1+$I$4) -> 317879.16 | J17: =J16*(1+$J$4) -> 355419.94 | K17: =K16*(1+$K$4) -> 396985.55 | L17: =L16*(1+$L$4) -> 442964.52 | N17: =B17-(B17/$G$2)*'Teplárna + FVE 18 kWp'!$I40+'Teplárna + FVE 18 kWp'!$D$22 -> 116023.97 | O17: =C17-(C17/$G$2)*'Teplárna + FVE 18 kWp'!$I40+'Teplárna + FVE 18 kWp'!$D$22 -> 130089.83 | P17: =D17-(D17/$G$2)*'Teplárna + FVE 18 kWp'!$I40+'Teplárna + FVE 18 kWp'!$D$22 -> 145774.01 | Q17: =E17-(E17/$G$2)*'Teplárna + FVE 18 kWp'!$I40+'Teplárna + FVE 18 kWp'!$D$22 -> 163244.07 | R17: =F17-(F17/$G$2)*'Teplárna + FVE 18 kWp'!$I40+'Teplárna + FVE 18 kWp'!$D$22 -> 182682.99 | S17: =G17-(G17/$G$2)*'Teplárna + FVE 18 kWp'!$I40+'Teplárna + FVE 18 kWp'!$D$22 -> 204290.45 | T17: =H17-(H17/$G$2)*'Teplárna + FVE 18 kWp'!$I40+'Teplárna + FVE 18 kWp'!$D$22 -> 228284.21 | U17: =I17-(I17/$G$2)*'Teplárna + FVE 18 kWp'!$I40+'Teplárna + FVE 18 kWp'!$D$22 -> 254901.48 | ... X17: =L17-(L17/$G$2)*'Teplárna + FVE 18 kWp'!$I40+'Teplárna + FVE 18 kWp'!$D$22 -> 353191.83
A18: 13 | B18: =$C$5 -> 141142.15 | C18: =C17*(1+$C$4) -> 160632.93 | D18: =D17*(1+$D$4) -> 182582.42 | E18: =E17*(1+$E$4) -> 207272 | F18: =F17*(1+$F$4) -> 235012.05 | G18: =G17*(1+$G$4) -> 266144.57 | H18: =H17*(1+$H$4) -> 301046.08 | I18: =I17*(1+$I$4) -> 340130.7 | J18: =J17*(1+$J$4) -> 383853.53 | K18: =K17*(1+$K$4) -> 432714.25 | L18: =L17*(1+$L$4) -> 487260.97 | N18: =B18-(B18/$G$2)*'Teplárna + FVE 18 kWp'!$I41+'Teplárna + FVE 18 kWp'!$D$22 -> 116289.19 | O18: =C18-(C18/$G$2)*'Teplárna + FVE 18 kWp'!$I41+'Teplárna + FVE 18 kWp'!$D$22 -> 131641.4 | P18: =D18-(D18/$G$2)*'Teplárna + FVE 18 kWp'!$I41+'Teplárna + FVE 18 kWp'!$D$22 -> 148930.25 | Q18: =E18-(E18/$G$2)*'Teplárna + FVE 18 kWp'!$I41+'Teplárna + FVE 18 kWp'!$D$22 -> 168377.38 | R18: =F18-(F18/$G$2)*'Teplárna + FVE 18 kWp'!$I41+'Teplárna + FVE 18 kWp'!$D$22 -> 190227.25 | S18: =G18-(G18/$G$2)*'Teplárna + FVE 18 kWp'!$I41+'Teplárna + FVE 18 kWp'!$D$22 -> 214749.26 | T18: =H18-(H18/$G$2)*'Teplárna + FVE 18 kWp'!$I41+'Teplárna + FVE 18 kWp'!$D$22 -> 242239.96 | U18: =I18-(I18/$G$2)*'Teplárna + FVE 18 kWp'!$I41+'Teplárna + FVE 18 kWp'!$D$22 -> 273025.56 | ... X18: =L18-(L18/$G$2)*'Teplárna + FVE 18 kWp'!$I41+'Teplárna + FVE 18 kWp'!$D$22 -> 388914.97
A19: 14 | B19: =$C$5 -> 141142.15 | C19: =C18*(1+$C$4) -> 162239.26 | D19: =D18*(1+$D$4) -> 186234.07 | E19: =E18*(1+$E$4) -> 213490.16 | F19: =F18*(1+$F$4) -> 244412.53 | G19: =G18*(1+$G$4) -> 279451.8 | H19: =H18*(1+$H$4) -> 319108.84 | I19: =I18*(1+$I$4) -> 363939.85 | J19: =J18*(1+$J$4) -> 414561.82 | K19: =K18*(1+$K$4) -> 471658.53 | L19: =L18*(1+$L$4) -> 535987.07 | N19: =B19-(B19/$G$2)*'Teplárna + FVE 18 kWp'!$I42+'Teplárna + FVE 18 kWp'!$D$22 -> 116554.4 | O19: =C19-(C19/$G$2)*'Teplárna + FVE 18 kWp'!$I42+'Teplárna + FVE 18 kWp'!$D$22 -> 133211.51 | P19: =D19-(D19/$G$2)*'Teplárna + FVE 18 kWp'!$I42+'Teplárna + FVE 18 kWp'!$D$22 -> 152156.47 | Q19: =E19-(E19/$G$2)*'Teplárna + FVE 18 kWp'!$I42+'Teplárna + FVE 18 kWp'!$D$22 -> 173676.37 | R19: =F19-(F19/$G$2)*'Teplárna + FVE 18 kWp'!$I42+'Teplárna + FVE 18 kWp'!$D$22 -> 198090.95 | S19: =G19-(G19/$G$2)*'Teplárna + FVE 18 kWp'!$I42+'Teplárna + FVE 18 kWp'!$D$22 -> 225756.01 | T19: =H19-(H19/$G$2)*'Teplárna + FVE 18 kWp'!$I42+'Teplárna + FVE 18 kWp'!$D$22 -> 257067 | U19: =I19-(I19/$G$2)*'Teplárna + FVE 18 kWp'!$I42+'Teplárna + FVE 18 kWp'!$D$22 -> 292463.07 | ... X19: =L19-(L19/$G$2)*'Teplárna + FVE 18 kWp'!$I42+'Teplárna + FVE 18 kWp'!$D$22 -> 428301.98
A20: 15 | B20: =$C$5 -> 141142.15 | C20: =C19*(1+$C$4) -> 163861.65 | D20: =D19*(1+$D$4) -> 189958.75 | E20: =E19*(1+$E$4) -> 219894.87 | F20: =F19*(1+$F$4) -> 254189.03 | G20: =G19*(1+$G$4) -> 293424.39 | H20: =H19*(1+$H$4) -> 338255.37 | I20: =I19*(1+$I$4) -> 389415.64 | J20: =J19*(1+$J$4) -> 447726.76 | K20: =K19*(1+$K$4) -> 514107.8 | L20: =L19*(1+$L$4) -> 589585.78 | N20: =B20-(B20/$G$2)*'Teplárna + FVE 18 kWp'!$I43+'Teplárna + FVE 18 kWp'!$D$22 -> 116819.62 | O20: =C20-(C20/$G$2)*'Teplárna + FVE 18 kWp'!$I43+'Teplárna + FVE 18 kWp'!$D$22 -> 134800.37 | P20: =D20-(D20/$G$2)*'Teplárna + FVE 18 kWp'!$I43+'Teplárna + FVE 18 kWp'!$D$22 -> 155454.22 | Q20: =E20-(E20/$G$2)*'Teplárna + FVE 18 kWp'!$I43+'Teplárna + FVE 18 kWp'!$D$22 -> 179146.37 | R20: =F20-(F20/$G$2)*'Teplárna + FVE 18 kWp'!$I43+'Teplárna + FVE 18 kWp'!$D$22 -> 206287.57 | S20: =G20-(G20/$G$2)*'Teplárna + FVE 18 kWp'!$I43+'Teplárna + FVE 18 kWp'!$D$22 -> 237339.35 | T20: =H20-(H20/$G$2)*'Teplárna + FVE 18 kWp'!$I43+'Teplárna + FVE 18 kWp'!$D$22 -> 272819.64 | U20: =I20-(I20/$G$2)*'Teplárna + FVE 18 kWp'!$I43+'Teplárna + FVE 18 kWp'!$D$22 -> 313309.07 | ... X20: =L20-(L20/$G$2)*'Teplárna + FVE 18 kWp'!$I43+'Teplárna + FVE 18 kWp'!$D$22 -> 471728.41
A21: 16 | B21: =$C$5 -> 141142.15 | C21: =C20*(1+$C$4) -> 165500.27 | D21: =D20*(1+$D$4) -> 193757.92 | E21: =E20*(1+$E$4) -> 226491.71 | F21: =F20*(1+$F$4) -> 264356.6 | G21: =G20*(1+$G$4) -> 308095.61 | H21: =H20*(1+$H$4) -> 358550.69 | I21: =I20*(1+$I$4) -> 416674.73 | J21: =J20*(1+$J$4) -> 483544.9 | K21: =K20*(1+$K$4) -> 560377.5 | L21: =L20*(1+$L$4) -> 648544.36 | N21: =B21-(B21/$G$2)*'Teplárna + FVE 18 kWp'!$I44+'Teplárna + FVE 18 kWp'!$D$22 -> 117084.84 | O21: =C21-(C21/$G$2)*'Teplárna + FVE 18 kWp'!$I44+'Teplárna + FVE 18 kWp'!$D$22 -> 136408.19 | P21: =D21-(D21/$G$2)*'Teplárna + FVE 18 kWp'!$I44+'Teplárna + FVE 18 kWp'!$D$22 -> 158825.06 | Q21: =E21-(E21/$G$2)*'Teplárna + FVE 18 kWp'!$I44+'Teplárna + FVE 18 kWp'!$D$22 -> 184792.86 | R21: =F21-(F21/$G$2)*'Teplárna + FVE 18 kWp'!$I44+'Teplárna + FVE 18 kWp'!$D$22 -> 214831.16 | S21: =G21-(G21/$G$2)*'Teplárna + FVE 18 kWp'!$I44+'Teplárna + FVE 18 kWp'!$D$22 -> 249529.43 | T21: =H21-(H21/$G$2)*'Teplárna + FVE 18 kWp'!$I44+'Teplárna + FVE 18 kWp'!$D$22 -> 289555.57 | U21: =I21-(I21/$G$2)*'Teplárna + FVE 18 kWp'!$I44+'Teplárna + FVE 18 kWp'!$D$22 -> 335665.52 | ... X21: =L21-(L21/$G$2)*'Teplárna + FVE 18 kWp'!$I44+'Teplárna + FVE 18 kWp'!$D$22 -> 519608.27
A22: 17 | B22: =$C$5 -> 141142.15 | C22: =C21*(1+$C$4) -> 167155.27 | D22: =D21*(1+$D$4) -> 197633.08 | E22: =E21*(1+$E$4) -> 233286.47 | F22: =F21*(1+$F$4) -> 274930.86 | G22: =G21*(1+$G$4) -> 323500.39 | H22: =H21*(1+$H$4) -> 380063.74 | I22: =I21*(1+$I$4) -> 445841.96 | J22: =J21*(1+$J$4) -> 522228.5 | K22: =K21*(1+$K$4) -> 610811.48 | L22: =L21*(1+$L$4) -> 713398.79 | N22: =B22-(B22/$G$2)*'Teplárna + FVE 18 kWp'!$I45+'Teplárna + FVE 18 kWp'!$D$22 -> 117350.05 | O22: =C22-(C22/$G$2)*'Teplárna + FVE 18 kWp'!$I45+'Teplárna + FVE 18 kWp'!$D$22 -> 138035.21 | P22: =D22-(D22/$G$2)*'Teplárna + FVE 18 kWp'!$I45+'Teplárna + FVE 18 kWp'!$D$22 -> 162270.6 | Q22: =E22-(E22/$G$2)*'Teplárna + FVE 18 kWp'!$I45+'Teplárna + FVE 18 kWp'!$D$22 -> 190621.51 | R22: =F22-(F22/$G$2)*'Teplárna + FVE 18 kWp'!$I45+'Teplárna + FVE 18 kWp'!$D$22 -> 223736.37 | S22: =G22-(G22/$G$2)*'Teplárna + FVE 18 kWp'!$I45+'Teplárna + FVE 18 kWp'!$D$22 -> 262357.96 | T22: =H22-(H22/$G$2)*'Teplárna + FVE 18 kWp'!$I45+'Teplárna + FVE 18 kWp'!$D$22 -> 307336.09 | U22: =I22-(I22/$G$2)*'Teplárna + FVE 18 kWp'!$I45+'Teplárna + FVE 18 kWp'!$D$22 -> 359641.72 | ... X22: =L22-(L22/$G$2)*'Teplárna + FVE 18 kWp'!$I45+'Teplárna + FVE 18 kWp'!$D$22 -> 572397.98
A23: 18 | B23: =$C$5 -> 141142.15 | C23: =C22*(1+$C$4) -> 168826.82 | D23: =D22*(1+$D$4) -> 201585.74 | E23: =E22*(1+$E$4) -> 240285.06 | F23: =F22*(1+$F$4) -> 285928.09 | G23: =G22*(1+$G$4) -> 339675.41 | H23: =H22*(1+$H$4) -> 402867.56 | I23: =I22*(1+$I$4) -> 477050.9 | J23: =J22*(1+$J$4) -> 564006.78 | K23: =K22*(1+$K$4) -> 665784.51 | L23: =L22*(1+$L$4) -> 784738.67 | N23: =B23-(B23/$G$2)*'Teplárna + FVE 18 kWp'!$I46+'Teplárna + FVE 18 kWp'!$D$22 -> 117615.27 | O23: =C23-(C23/$G$2)*'Teplárna + FVE 18 kWp'!$I46+'Teplárna + FVE 18 kWp'!$D$22 -> 139681.63 | P23: =D23-(D23/$G$2)*'Teplárna + FVE 18 kWp'!$I46+'Teplárna + FVE 18 kWp'!$D$22 -> 165792.48 | Q23: =E23-(E23/$G$2)*'Teplárna + FVE 18 kWp'!$I46+'Teplárna + FVE 18 kWp'!$D$22 -> 196638.18 | R23: =F23-(F23/$G$2)*'Teplárna + FVE 18 kWp'!$I46+'Teplárna + FVE 18 kWp'!$D$22 -> 233018.44 | S23: =G23-(G23/$G$2)*'Teplárna + FVE 18 kWp'!$I46+'Teplárna + FVE 18 kWp'!$D$22 -> 275858.31 | T23: =H23-(H23/$G$2)*'Teplárna + FVE 18 kWp'!$I46+'Teplárna + FVE 18 kWp'!$D$22 -> 326226.29 | U23: =I23-(I23/$G$2)*'Teplárna + FVE 18 kWp'!$I46+'Teplárna + FVE 18 kWp'!$D$22 -> 385354.91 | ... X23: =L23-(L23/$G$2)*'Teplárna + FVE 18 kWp'!$I46+'Teplárna + FVE 18 kWp'!$D$22 -> 630600.71
A24: 19 | B24: =$C$5 -> 141142.15 | C24: =C23*(1+$C$4) -> 170515.09 | D24: =D23*(1+$D$4) -> 205617.46 | E24: =E23*(1+$E$4) -> 247493.61 | F24: =F23*(1+$F$4) -> 297365.22 | G24: =G23*(1+$G$4) -> 356659.18 | H24: =H23*(1+$H$4) -> 427039.61 | I24: =I23*(1+$I$4) -> 510444.46 | J24: =J23*(1+$J$4) -> 609127.32 | K24: =K23*(1+$K$4) -> 725705.11 | L24: =L23*(1+$L$4) -> 863212.54 | N24: =B24-(B24/$G$2)*'Teplárna + FVE 18 kWp'!$I47+'Teplárna + FVE 18 kWp'!$D$22 -> 117880.48 | O24: =C24-(C24/$G$2)*'Teplárna + FVE 18 kWp'!$I47+'Teplárna + FVE 18 kWp'!$D$22 -> 141347.69 | P24: =D24-(D24/$G$2)*'Teplárna + FVE 18 kWp'!$I47+'Teplárna + FVE 18 kWp'!$D$22 -> 169392.37 | Q24: =E24-(E24/$G$2)*'Teplárna + FVE 18 kWp'!$I47+'Teplárna + FVE 18 kWp'!$D$22 -> 202848.89 | R24: =F24-(F24/$G$2)*'Teplárna + FVE 18 kWp'!$I47+'Teplárna + FVE 18 kWp'!$D$22 -> 242693.29 | S24: =G24-(G24/$G$2)*'Teplárna + FVE 18 kWp'!$I47+'Teplárna + FVE 18 kWp'!$D$22 -> 290065.59 | T24: =H24-(H24/$G$2)*'Teplárna + FVE 18 kWp'!$I47+'Teplárna + FVE 18 kWp'!$D$22 -> 346295.31 | U24: =I24-(I24/$G$2)*'Teplárna + FVE 18 kWp'!$I47+'Teplárna + FVE 18 kWp'!$D$22 -> 412930.76 | ... X24: =L24-(L24/$G$2)*'Teplárna + FVE 18 kWp'!$I47+'Teplárna + FVE 18 kWp'!$D$22 -> 694771.18
A25: 20 | B25: =$C$5 -> 141142.15 | C25: =C24*(1+$C$4) -> 172220.24 | D25: =D24*(1+$D$4) -> 209729.81 | E25: =E24*(1+$E$4) -> 254918.42 | F25: =F24*(1+$F$4) -> 309259.83 | G25: =G24*(1+$G$4) -> 374492.14 | H25: =H24*(1+$H$4) -> 452661.99 | I25: =I24*(1+$I$4) -> 546175.58 | J25: =J24*(1+$J$4) -> 657857.5 | K25: =K24*(1+$K$4) -> 791018.57 | L25: =L24*(1+$L$4) -> 949533.79 | N25: =B25-(B25/$G$2)*'Teplárna + FVE 18 kWp'!$I48+'Teplárna + FVE 18 kWp'!$D$22 -> 118145.7 | O25: =C25-(C25/$G$2)*'Teplárna + FVE 18 kWp'!$I48+'Teplárna + FVE 18 kWp'!$D$22 -> 143033.62 | P25: =D25-(D25/$G$2)*'Teplárna + FVE 18 kWp'!$I48+'Teplárna + FVE 18 kWp'!$D$22 -> 173071.98 | Q25: =E25-(E25/$G$2)*'Teplárna + FVE 18 kWp'!$I48+'Teplárna + FVE 18 kWp'!$D$22 -> 209259.87 | R25: =F25-(F25/$G$2)*'Teplárna + FVE 18 kWp'!$I48+'Teplárna + FVE 18 kWp'!$D$22 -> 252777.49 | S25: =G25-(G25/$G$2)*'Teplárna + FVE 18 kWp'!$I48+'Teplárna + FVE 18 kWp'!$D$22 -> 305016.75 | T25: =H25-(H25/$G$2)*'Teplárna + FVE 18 kWp'!$I48+'Teplárna + FVE 18 kWp'!$D$22 -> 367616.63 | U25: =I25-(I25/$G$2)*'Teplárna + FVE 18 kWp'!$I48+'Teplárna + FVE 18 kWp'!$D$22 -> 442504.07 | ... X25: =L25-(L25/$G$2)*'Teplárna + FVE 18 kWp'!$I48+'Teplárna + FVE 18 kWp'!$D$22 -> 765520.89
A26: NPV | B26: =NPV($B$27,B6:B25) -> 2099838.8 | C26: =NPV($B$27,C6:C25) -> 2312292.7 | D26: =NPV($B$27,D6:D25) -> 2552023.6 | E26: =NPV($B$27,E6:E25) -> 2822843 | F26: =NPV($B$27,F6:F25) -> 3129102.1 | G26: =NPV($B$27,G6:G25) -> 3475766.1 | H26: =NPV($B$27,H6:H25) -> 3868499 | I26: =NPV($B$27,I6:I25) -> 4313759.2 | ... L26: =NPV($B$27,L6:L25) -> 6043583.7 | M26: NPV | N26: =NPV($B$27,N6:N25)+N5 -> 2515358 | O26: =NPV($B$27,O6:O25)+O5 -> 2682732.6 | P26: =NPV($B$27,P6:P25)+P5 -> 2871705 | Q26: =NPV($B$27,Q6:Q25)+Q5 -> 3085302.4 | R26: =NPV($B$27,R6:R25)+R5 -> 3326981.2 | S26: =NPV($B$27,S6:S25)+S5 -> 3600686.2 | T26: =NPV($B$27,T6:T25)+T5 -> 3910918.5 | U26: =NPV($B$27,U6:U25)+U5 -> 4262812 | ... X26: =NPV($B$27,X6:X25)+X5 -> 5631176.6
A27: diskont | B27: 0.03
E29: Teplárna + FVE 10 kWp
A31: rok | B31: 0 | C31: 0.01 | D31: 0.02 | E31: 0.03 | F31: 0.04 | G31: 0.05 | H31: 0.06 | I31: 0.07 | J31: 0.08 | K31: 0.09 | L31: 0.1
A32: 0 | B32: ='Teplárna + FVE 10 kWp'!$D$21 -> 426563 | C32: ='Teplárna + FVE 10 kWp'!$D$21 -> 426563 | D32: ='Teplárna + FVE 10 kWp'!$D$21 -> 426563 | E32: ='Teplárna + FVE 10 kWp'!$D$21 -> 426563 | F32: ='Teplárna + FVE 10 kWp'!$D$21 -> 426563 | G32: ='Teplárna + FVE 10 kWp'!$D$21 -> 426563 | H32: ='Teplárna + FVE 10 kWp'!$D$21 -> 426563 | I32: ='Teplárna + FVE 10 kWp'!$D$21 -> 426563 | ... L32: ='Teplárna + FVE 10 kWp'!$D$21 -> 426563
A33: 1 | B33: =B6-(B6/$G$2)*'Teplárna + FVE 10 kWp'!$I30+'Teplárna + FVE 10 kWp'!$D$23 -> 126646.49 | C33: =C6-(C6/$G$2)*'Teplárna + FVE 10 kWp'!$I30+'Teplárna + FVE 10 kWp'!$D$23 -> 127880.08 | D33: =D6-(D6/$G$2)*'Teplárna + FVE 10 kWp'!$I30+'Teplárna + FVE 10 kWp'!$D$23 -> 129113.68 | E33: =E6-(E6/$G$2)*'Teplárna + FVE 10 kWp'!$I30+'Teplárna + FVE 10 kWp'!$D$23 -> 130347.27 | F33: =F6-(F6/$G$2)*'Teplárna + FVE 10 kWp'!$I30+'Teplárna + FVE 10 kWp'!$D$23 -> 131580.87 | G33: =G6-(G6/$G$2)*'Teplárna + FVE 10 kWp'!$I30+'Teplárna + FVE 10 kWp'!$D$23 -> 132814.47 | H33: =H6-(H6/$G$2)*'Teplárna + FVE 10 kWp'!$I30+'Teplárna + FVE 10 kWp'!$D$23 -> 134048.06 | I33: =I6-(I6/$G$2)*'Teplárna + FVE 10 kWp'!$I30+'Teplárna + FVE 10 kWp'!$D$23 -> 135281.66 | ... L33: =L6-(L6/$G$2)*'Teplárna + FVE 10 kWp'!$I30+'Teplárna + FVE 10 kWp'!$D$23 -> 138982.45
A34: 2 | B34: =B7-(B7/$G$2)*'Teplárna + FVE 10 kWp'!$I31+'Teplárna + FVE 10 kWp'!$D$23 -> 126788.75 | C34: =C7-(C7/$G$2)*'Teplárna + FVE 10 kWp'!$I31+'Teplárna + FVE 10 kWp'!$D$23 -> 129271.13 | D34: =D7-(D7/$G$2)*'Teplárna + FVE 10 kWp'!$I31+'Teplárna + FVE 10 kWp'!$D$23 -> 131778.22 | E34: =E7-(E7/$G$2)*'Teplárna + FVE 10 kWp'!$I31+'Teplárna + FVE 10 kWp'!$D$23 -> 134310.01 | F34: =F7-(F7/$G$2)*'Teplárna + FVE 10 kWp'!$I31+'Teplárna + FVE 10 kWp'!$D$23 -> 136866.5 | G34: =G7-(G7/$G$2)*'Teplárna + FVE 10 kWp'!$I31+'Teplárna + FVE 10 kWp'!$D$23 -> 139447.69 | H34: =H7-(H7/$G$2)*'Teplárna + FVE 10 kWp'!$I31+'Teplárna + FVE 10 kWp'!$D$23 -> 142053.58 | I34: =I7-(I7/$G$2)*'Teplárna + FVE 10 kWp'!$I31+'Teplárna + FVE 10 kWp'!$D$23 -> 144684.16 | ... L34: =L7-(L7/$G$2)*'Teplárna + FVE 10 kWp'!$I31+'Teplárna + FVE 10 kWp'!$D$23 -> 152724.13
A35: 3 | B35: =B8-(B8/$G$2)*'Teplárna + FVE 10 kWp'!$I32+'Teplárna + FVE 10 kWp'!$D$23 -> 126931.01 | C35: =C8-(C8/$G$2)*'Teplárna + FVE 10 kWp'!$I32+'Teplárna + FVE 10 kWp'!$D$23 -> 130677.55 | D35: =D8-(D8/$G$2)*'Teplárna + FVE 10 kWp'!$I32+'Teplárna + FVE 10 kWp'!$D$23 -> 134499.02 | E35: =E8-(E8/$G$2)*'Teplárna + FVE 10 kWp'!$I32+'Teplárna + FVE 10 kWp'!$D$23 -> 138396.15 | F35: =F8-(F8/$G$2)*'Teplárna + FVE 10 kWp'!$I32+'Teplárna + FVE 10 kWp'!$D$23 -> 142369.71 | G35: =G8-(G8/$G$2)*'Teplárna + FVE 10 kWp'!$I32+'Teplárna + FVE 10 kWp'!$D$23 -> 146420.41 | H35: =H8-(H8/$G$2)*'Teplárna + FVE 10 kWp'!$I32+'Teplárna + FVE 10 kWp'!$D$23 -> 150549.01 | I35: =I8-(I8/$G$2)*'Teplárna + FVE 10 kWp'!$I32+'Teplárna + FVE 10 kWp'!$D$23 -> 154756.25 | ... L35: =L8-(L8/$G$2)*'Teplárna + FVE 10 kWp'!$I32+'Teplárna + FVE 10 kWp'!$D$23 -> 167857.21
A36: 4 | B36: =B9-(B9/$G$2)*'Teplárna + FVE 10 kWp'!$I33+'Teplárna + FVE 10 kWp'!$D$23 -> 127073.27 | C36: =C9-(C9/$G$2)*'Teplárna + FVE 10 kWp'!$I33+'Teplárna + FVE 10 kWp'!$D$23 -> 132099.49 | D36: =D9-(D9/$G$2)*'Teplárna + FVE 10 kWp'!$I33+'Teplárna + FVE 10 kWp'!$D$23 -> 137277.25 | E36: =E9-(E9/$G$2)*'Teplárna + FVE 10 kWp'!$I33+'Teplárna + FVE 10 kWp'!$D$23 -> 142609.55 | F36: =F9-(F9/$G$2)*'Teplárna + FVE 10 kWp'!$I33+'Teplárna + FVE 10 kWp'!$D$23 -> 148099.44 | G36: =G9-(G9/$G$2)*'Teplárna + FVE 10 kWp'!$I33+'Teplárna + FVE 10 kWp'!$D$23 -> 153750 | H36: =H9-(H9/$G$2)*'Teplárna + FVE 10 kWp'!$I33+'Teplárna + FVE 10 kWp'!$D$23 -> 159564.34 | I36: =I9-(I9/$G$2)*'Teplárna + FVE 10 kWp'!$I33+'Teplárna + FVE 10 kWp'!$D$23 -> 165545.58 | ... L36: =L9-(L9/$G$2)*'Teplárna + FVE 10 kWp'!$I33+'Teplárna + FVE 10 kWp'!$D$23 -> 184522.52
A37: 5 | B37: =B10-(B10/$G$2)*'Teplárna + FVE 10 kWp'!$I34+'Teplárna + FVE 10 kWp'!$D$23 -> 127215.53 | C37: =C10-(C10/$G$2)*'Teplárna + FVE 10 kWp'!$I34+'Teplárna + FVE 10 kWp'!$D$23 -> 133537.13 | D37: =D10-(D10/$G$2)*'Teplárna + FVE 10 kWp'!$I34+'Teplárna + FVE 10 kWp'!$D$23 -> 140114.12 | E37: =E10-(E10/$G$2)*'Teplárna + FVE 10 kWp'!$I34+'Teplárna + FVE 10 kWp'!$D$23 -> 146954.15 | F37: =F10-(F10/$G$2)*'Teplárna + FVE 10 kWp'!$I34+'Teplárna + FVE 10 kWp'!$D$23 -> 154065.03 | G37: =G10-(G10/$G$2)*'Teplárna + FVE 10 kWp'!$I34+'Teplárna + FVE 10 kWp'!$D$23 -> 161454.72 | H37: =H10-(H10/$G$2)*'Teplárna + FVE 10 kWp'!$I34+'Teplárna + FVE 10 kWp'!$D$23 -> 169131.36 | I37: =I10-(I10/$G$2)*'Teplárna + FVE 10 kWp'!$I34+'Teplárna + FVE 10 kWp'!$D$23 -> 177103.21 | ... L37: =L10-(L10/$G$2)*'Teplárna + FVE 10 kWp'!$I34+'Teplárna + FVE 10 kWp'!$D$23 -> 202875.2
A38: 6 | B38: =B11-(B11/$G$2)*'Teplárna + FVE 10 kWp'!$I35+'Teplárna + FVE 10 kWp'!$D$23 -> 127357.79 | C38: =C11-(C11/$G$2)*'Teplárna + FVE 10 kWp'!$I35+'Teplárna + FVE 10 kWp'!$D$23 -> 134990.65 | D38: =D11-(D11/$G$2)*'Teplárna + FVE 10 kWp'!$I35+'Teplárna + FVE 10 kWp'!$D$23 -> 143010.87 | E38: =E11-(E11/$G$2)*'Teplárna + FVE 10 kWp'!$I35+'Teplárna + FVE 10 kWp'!$D$23 -> 151434.03 | F38: =F11-(F11/$G$2)*'Teplárna + FVE 10 kWp'!$I35+'Teplárna + FVE 10 kWp'!$D$23 -> 160276.16 | G38: =G11-(G11/$G$2)*'Teplárna + FVE 10 kWp'!$I35+'Teplárna + FVE 10 kWp'!$D$23 -> 169553.76 | H38: =H11-(H11/$G$2)*'Teplárna + FVE 10 kWp'!$I35+'Teplárna + FVE 10 kWp'!$D$23 -> 179283.83 | I38: =I11-(I11/$G$2)*'Teplárna + FVE 10 kWp'!$I35+'Teplárna + FVE 10 kWp'!$D$23 -> 189483.85 | ... L38: =L11-(L11/$G$2)*'Teplárna + FVE 10 kWp'!$I35+'Teplárna + FVE 10 kWp'!$D$23 -> 223086.05
A39: 7 | B39: =B12-(B12/$G$2)*'Teplárna + FVE 10 kWp'!$I36+'Teplárna + FVE 10 kWp'!$D$23 -> 127500.05 | C39: =C12-(C12/$G$2)*'Teplárna + FVE 10 kWp'!$I36+'Teplárna + FVE 10 kWp'!$D$23 -> 136460.21 | D39: =D12-(D12/$G$2)*'Teplárna + FVE 10 kWp'!$I36+'Teplárna + FVE 10 kWp'!$D$23 -> 145968.76 | E39: =E12-(E12/$G$2)*'Teplárna + FVE 10 kWp'!$I36+'Teplárna + FVE 10 kWp'!$D$23 -> 156053.41 | F39: =F12-(F12/$G$2)*'Teplárna + FVE 10 kWp'!$I36+'Teplárna + FVE 10 kWp'!$D$23 -> 166742.93 | G39: =G12-(G12/$G$2)*'Teplárna + FVE 10 kWp'!$I36+'Teplárna + FVE 10 kWp'!$D$23 -> 178067.28 | H39: =H12-(H12/$G$2)*'Teplárna + FVE 10 kWp'!$I36+'Teplárna + FVE 10 kWp'!$D$23 -> 190057.55 | I39: =I12-(I12/$G$2)*'Teplárna + FVE 10 kWp'!$I36+'Teplárna + FVE 10 kWp'!$D$23 -> 202746.07 | ... L39: =L12-(L12/$G$2)*'Teplárna + FVE 10 kWp'!$I36+'Teplárna + FVE 10 kWp'!$D$23 -> 245343.19
A40: 8 | B40: =B13-(B13/$G$2)*'Teplárna + FVE 10 kWp'!$I37+'Teplárna + FVE 10 kWp'!$D$23 -> 127642.31 | C40: =C13-(C13/$G$2)*'Teplárna + FVE 10 kWp'!$I37+'Teplárna + FVE 10 kWp'!$D$23 -> 137945.99 | D40: =D13-(D13/$G$2)*'Teplárna + FVE 10 kWp'!$I37+'Teplárna + FVE 10 kWp'!$D$23 -> 148989.08 | E40: =E13-(E13/$G$2)*'Teplárna + FVE 10 kWp'!$I37+'Teplárna + FVE 10 kWp'!$D$23 -> 160816.61 | F40: =F13-(F13/$G$2)*'Teplárna + FVE 10 kWp'!$I37+'Teplárna + FVE 10 kWp'!$D$23 -> 173475.87 | G40: =G13-(G13/$G$2)*'Teplárna + FVE 10 kWp'!$I37+'Teplárna + FVE 10 kWp'!$D$23 -> 187016.48 | H40: =H13-(H13/$G$2)*'Teplárna + FVE 10 kWp'!$I37+'Teplárna + FVE 10 kWp'!$D$23 -> 201490.53 | I40: =I13-(I13/$G$2)*'Teplárna + FVE 10 kWp'!$I37+'Teplárna + FVE 10 kWp'!$D$23 -> 216952.65 | ... L40: =L13-(L13/$G$2)*'Teplárna + FVE 10 kWp'!$I37+'Teplárna + FVE 10 kWp'!$D$23 -> 269853.77
A41: 9 | B41: =B14-(B14/$G$2)*'Teplárna + FVE 10 kWp'!$I38+'Teplárna + FVE 10 kWp'!$D$23 -> 127784.57 | C41: =C14-(C14/$G$2)*'Teplárna + FVE 10 kWp'!$I38+'Teplárna + FVE 10 kWp'!$D$23 -> 139448.17 | D41: =D14-(D14/$G$2)*'Teplárna + FVE 10 kWp'!$I38+'Teplárna + FVE 10 kWp'!$D$23 -> 152073.14 | E41: =E14-(E14/$G$2)*'Teplárna + FVE 10 kWp'!$I38+'Teplárna + FVE 10 kWp'!$D$23 -> 165728.12 | F41: =F14-(F14/$G$2)*'Teplárna + FVE 10 kWp'!$I38+'Teplárna + FVE 10 kWp'!$D$23 -> 180485.91 | G41: =G14-(G14/$G$2)*'Teplárna + FVE 10 kWp'!$I38+'Teplárna + FVE 10 kWp'!$D$23 -> 196423.65 | H41: =H14-(H14/$G$2)*'Teplárna + FVE 10 kWp'!$I38+'Teplárna + FVE 10 kWp'!$D$23 -> 213623.09 | I41: =I14-(I14/$G$2)*'Teplárna + FVE 10 kWp'!$I38+'Teplárna + FVE 10 kWp'!$D$23 -> 232170.79 | ... L41: =L14-(L14/$G$2)*'Teplárna + FVE 10 kWp'!$I38+'Teplárna + FVE 10 kWp'!$D$23 -> 296845.89
A42: 10 | B42: =B15-(B15/$G$2)*'Teplárna + FVE 10 kWp'!$I39+'Teplárna + FVE 10 kWp'!$D$23+'Teplárna + FVE 10 kWp'!$D$19+'Teplárna + FVE 10 kWp'!$D$20 -> 190724.83 | C42: =C15-(C15/$G$2)*'Teplárna + FVE 10 kWp'!$I39+'Teplárna + FVE 10 kWp'!$D$23+'Teplárna + FVE 10 kWp'!$D$19+'Teplárna + FVE 10 kWp'!$D$20 -> 203764.93 | D42: =D15-(D15/$G$2)*'Teplárna + FVE 10 kWp'!$I39+'Teplárna + FVE 10 kWp'!$D$23+'Teplárna + FVE 10 kWp'!$D$19+'Teplárna + FVE 10 kWp'!$D$20 -> 218020.28 | E42: =E15-(E15/$G$2)*'Teplárna + FVE 10 kWp'!$I39+'Teplárna + FVE 10 kWp'!$D$23+'Teplárna + FVE 10 kWp'!$D$19+'Teplárna + FVE 10 kWp'!$D$20 -> 233590.54 | F42: =F15-(F15/$G$2)*'Teplárna + FVE 10 kWp'!$I39+'Teplárna + FVE 10 kWp'!$D$23+'Teplárna + FVE 10 kWp'!$D$19+'Teplárna + FVE 10 kWp'!$D$20 -> 250582.45 | G42: =G15-(G15/$G$2)*'Teplárna + FVE 10 kWp'!$I39+'Teplárna + FVE 10 kWp'!$D$23+'Teplárna + FVE 10 kWp'!$D$19+'Teplárna + FVE 10 kWp'!$D$20 -> 269110.21 | H42: =H15-(H15/$G$2)*'Teplárna + FVE 10 kWp'!$I39+'Teplárna + FVE 10 kWp'!$D$23+'Teplárna + FVE 10 kWp'!$D$19+'Teplárna + FVE 10 kWp'!$D$20 -> 289296.03 | I42: =I15-(I15/$G$2)*'Teplárna + FVE 10 kWp'!$I39+'Teplárna + FVE 10 kWp'!$D$23+'Teplárna + FVE 10 kWp'!$D$19+'Teplárna + FVE 10 kWp'!$D$20 -> 311270.51 | ... L42: =L15-(L15/$G$2)*'Teplárna + FVE 10 kWp'!$I39+'Teplárna + FVE 10 kWp'!$D$23+'Teplárna + FVE 10 kWp'!$D$19+'Teplárna + FVE 10 kWp'!$D$20 -> 389368.78
A43: 11 | B43: =B16-(B16/$G$2)*'Teplárna + FVE 10 kWp'!$I40+'Teplárna + FVE 10 kWp'!$D$23 -> 128069.09 | C43: =C16-(C16/$G$2)*'Teplárna + FVE 10 kWp'!$I40+'Teplárna + FVE 10 kWp'!$D$23 -> 142502.44 | D43: =D16-(D16/$G$2)*'Teplárna + FVE 10 kWp'!$I40+'Teplárna + FVE 10 kWp'!$D$23 -> 158437.87 | E43: =E16-(E16/$G$2)*'Teplárna + FVE 10 kWp'!$I40+'Teplárna + FVE 10 kWp'!$D$23 -> 176014.64 | F43: =F16-(F16/$G$2)*'Teplárna + FVE 10 kWp'!$I40+'Teplárna + FVE 10 kWp'!$D$23 -> 195383.35 | G43: =G16-(G16/$G$2)*'Teplárna + FVE 10 kWp'!$I40+'Teplárna + FVE 10 kWp'!$D$23 -> 216706.79 | H43: =H16-(H16/$G$2)*'Teplárna + FVE 10 kWp'!$I40+'Teplárna + FVE 10 kWp'!$D$23 -> 240160.75 | I43: =I16-(I16/$G$2)*'Teplárna + FVE 10 kWp'!$I40+'Teplárna + FVE 10 kWp'!$D$23 -> 265934.94 | ... L43: =L16-(L16/$G$2)*'Teplárna + FVE 10 kWp'!$I40+'Teplárna + FVE 10 kWp'!$D$23 -> 359305.06
A44: 12 | B44: =B17-(B17/$G$2)*'Teplárna + FVE 10 kWp'!$I41+'Teplárna + FVE 10 kWp'!$D$23 -> 128211.35 | C44: =C17-(C17/$G$2)*'Teplárna + FVE 10 kWp'!$I41+'Teplárna + FVE 10 kWp'!$D$23 -> 144054.9 | D44: =D17-(D17/$G$2)*'Teplárna + FVE 10 kWp'!$I41+'Teplárna + FVE 10 kWp'!$D$23 -> 161721.31 | E44: =E17-(E17/$G$2)*'Teplárna + FVE 10 kWp'!$I41+'Teplárna + FVE 10 kWp'!$D$23 -> 181399.3 | F44: =F17-(F17/$G$2)*'Teplárna + FVE 10 kWp'!$I41+'Teplárna + FVE 10 kWp'!$D$23 -> 203294.97 | G44: =G17-(G17/$G$2)*'Teplárna + FVE 10 kWp'!$I41+'Teplárna + FVE 10 kWp'!$D$23 -> 227633.27 | H44: =H17-(H17/$G$2)*'Teplárna + FVE 10 kWp'!$I41+'Teplárna + FVE 10 kWp'!$D$23 -> 254659.44 | I44: =I17-(I17/$G$2)*'Teplárna + FVE 10 kWp'!$I41+'Teplárna + FVE 10 kWp'!$D$23 -> 284640.7 | ... L44: =L17-(L17/$G$2)*'Teplárna + FVE 10 kWp'!$I41+'Teplárna + FVE 10 kWp'!$D$23 -> 395353.34
A45: 13 | B45: =B18-(B18/$G$2)*'Teplárna + FVE 10 kWp'!$I42+'Teplárna + FVE 10 kWp'!$D$23 -> 128353.61 | C45: =C18-(C18/$G$2)*'Teplárna + FVE 10 kWp'!$I42+'Teplárna + FVE 10 kWp'!$D$23 -> 145624.49 | D45: =D18-(D18/$G$2)*'Teplárna + FVE 10 kWp'!$I42+'Teplárna + FVE 10 kWp'!$D$23 -> 165074.03 | E45: =E18-(E18/$G$2)*'Teplárna + FVE 10 kWp'!$I42+'Teplárna + FVE 10 kWp'!$D$23 -> 186951.58 | F45: =F18-(F18/$G$2)*'Teplárna + FVE 10 kWp'!$I42+'Teplárna + FVE 10 kWp'!$D$23 -> 211532.17 | G45: =G18-(G18/$G$2)*'Teplárna + FVE 10 kWp'!$I42+'Teplárna + FVE 10 kWp'!$D$23 -> 239118.84 | H45: =H18-(H18/$G$2)*'Teplárna + FVE 10 kWp'!$I42+'Teplárna + FVE 10 kWp'!$D$23 -> 270045.23 | I45: =I18-(I18/$G$2)*'Teplárna + FVE 10 kWp'!$I42+'Teplárna + FVE 10 kWp'!$D$23 -> 304678.29 | ... L45: =L18-(L18/$G$2)*'Teplárna + FVE 10 kWp'!$I42+'Teplárna + FVE 10 kWp'!$D$23 -> 435051.11
A46: 14 | B46: =B19-(B19/$G$2)*'Teplárna + FVE 10 kWp'!$I43+'Teplárna + FVE 10 kWp'!$D$23 -> 128495.87 | C46: =C19-(C19/$G$2)*'Teplárna + FVE 10 kWp'!$I43+'Teplárna + FVE 10 kWp'!$D$23 -> 147211.39 | D46: =D19-(D19/$G$2)*'Teplárna + FVE 10 kWp'!$I43+'Teplárna + FVE 10 kWp'!$D$23 -> 168497.48 | E46: =E19-(E19/$G$2)*'Teplárna + FVE 10 kWp'!$I43+'Teplárna + FVE 10 kWp'!$D$23 -> 192676.71 | F46: =F19-(F19/$G$2)*'Teplárna + FVE 10 kWp'!$I43+'Teplárna + FVE 10 kWp'!$D$23 -> 220108.33 | G46: =G19-(G19/$G$2)*'Teplárna + FVE 10 kWp'!$I43+'Teplárna + FVE 10 kWp'!$D$23 -> 251192.1 | H46: =H19-(H19/$G$2)*'Teplárna + FVE 10 kWp'!$I43+'Teplárna + FVE 10 kWp'!$D$23 -> 286372.36 | I46: =I19-(I19/$G$2)*'Teplárna + FVE 10 kWp'!$I43+'Teplárna + FVE 10 kWp'!$D$23 -> 326142.51 | ... L46: =L19-(L19/$G$2)*'Teplárna + FVE 10 kWp'!$I43+'Teplárna + FVE 10 kWp'!$D$23 -> 478767.77
A47: 15 | B47: =B20-(B20/$G$2)*'Teplárna + FVE 10 kWp'!$I44+'Teplárna + FVE 10 kWp'!$D$23 -> 128638.13 | C47: =C20-(C20/$G$2)*'Teplárna + FVE 10 kWp'!$I44+'Teplárna + FVE 10 kWp'!$D$23 -> 148815.79 | D47: =D20-(D20/$G$2)*'Teplárna + FVE 10 kWp'!$I44+'Teplárna + FVE 10 kWp'!$D$23 -> 171993.16 | E47: =E20-(E20/$G$2)*'Teplárna + FVE 10 kWp'!$I44+'Teplárna + FVE 10 kWp'!$D$23 -> 198580.04 | F47: =F20-(F20/$G$2)*'Teplárna + FVE 10 kWp'!$I44+'Teplárna + FVE 10 kWp'!$D$23 -> 229037.39 | G47: =G20-(G20/$G$2)*'Teplárna + FVE 10 kWp'!$I44+'Teplárna + FVE 10 kWp'!$D$23 -> 263883.11 | H47: =H20-(H20/$G$2)*'Teplárna + FVE 10 kWp'!$I44+'Teplárna + FVE 10 kWp'!$D$23 -> 303698.43 | I47: =I20-(I20/$G$2)*'Teplárna + FVE 10 kWp'!$I44+'Teplárna + FVE 10 kWp'!$D$23 -> 349134.91 | ... L47: =L20-(L20/$G$2)*'Teplárna + FVE 10 kWp'!$I44+'Teplárna + FVE 10 kWp'!$D$23 -> 526910.11
A48: 16 | B48: =B21-(B21/$G$2)*'Teplárna + FVE 10 kWp'!$I45+'Teplárna + FVE 10 kWp'!$D$23 -> 128780.39 | C48: =C21-(C21/$G$2)*'Teplárna + FVE 10 kWp'!$I45+'Teplárna + FVE 10 kWp'!$D$23 -> 150437.89 | D48: =D21-(D21/$G$2)*'Teplárna + FVE 10 kWp'!$I45+'Teplárna + FVE 10 kWp'!$D$23 -> 175562.57 | E48: =E21-(E21/$G$2)*'Teplárna + FVE 10 kWp'!$I45+'Teplárna + FVE 10 kWp'!$D$23 -> 204667.12 | F48: =F21-(F21/$G$2)*'Teplárna + FVE 10 kWp'!$I45+'Teplárna + FVE 10 kWp'!$D$23 -> 238333.86 | G48: =G21-(G21/$G$2)*'Teplárna + FVE 10 kWp'!$I45+'Teplárna + FVE 10 kWp'!$D$23 -> 277223.46 | H48: =H21-(H21/$G$2)*'Teplárna + FVE 10 kWp'!$I45+'Teplárna + FVE 10 kWp'!$D$23 -> 322084.51 | I48: =I21-(I21/$G$2)*'Teplárna + FVE 10 kWp'!$I45+'Teplárna + FVE 10 kWp'!$D$23 -> 373764.24 | ... L48: =L21-(L21/$G$2)*'Teplárna + FVE 10 kWp'!$I45+'Teplárna + FVE 10 kWp'!$D$23 -> 579926.11
A49: 17 | B49: =B22-(B22/$G$2)*'Teplárna + FVE 10 kWp'!$I46+'Teplárna + FVE 10 kWp'!$D$23 -> 128922.65 | C49: =C22-(C22/$G$2)*'Teplárna + FVE 10 kWp'!$I46+'Teplárna + FVE 10 kWp'!$D$23 -> 152077.88 | D49: =D22-(D22/$G$2)*'Teplárna + FVE 10 kWp'!$I46+'Teplárna + FVE 10 kWp'!$D$23 -> 179207.29 | E49: =E22-(E22/$G$2)*'Teplárna + FVE 10 kWp'!$I46+'Teplárna + FVE 10 kWp'!$D$23 -> 210943.66 | F49: =F22-(F22/$G$2)*'Teplárna + FVE 10 kWp'!$I46+'Teplárna + FVE 10 kWp'!$D$23 -> 248012.85 | G49: =G22-(G22/$G$2)*'Teplárna + FVE 10 kWp'!$I46+'Teplárna + FVE 10 kWp'!$D$23 -> 291246.35 | H49: =H22-(H22/$G$2)*'Teplárna + FVE 10 kWp'!$I46+'Teplárna + FVE 10 kWp'!$D$23 -> 341595.44 | I49: =I22-(I22/$G$2)*'Teplárna + FVE 10 kWp'!$I46+'Teplárna + FVE 10 kWp'!$D$23 -> 400147.03 | ... L49: =L22-(L22/$G$2)*'Teplárna + FVE 10 kWp'!$I46+'Teplárna + FVE 10 kWp'!$D$23 -> 638309.09
A50: 18 | B50: =B23-(B23/$G$2)*'Teplárna + FVE 10 kWp'!$I47+'Teplárna + FVE 10 kWp'!$D$23 -> 129064.91 | C50: =C23-(C23/$G$2)*'Teplárna + FVE 10 kWp'!$I47+'Teplárna + FVE 10 kWp'!$D$23 -> 153735.96 | D50: =D23-(D23/$G$2)*'Teplárna + FVE 10 kWp'!$I47+'Teplárna + FVE 10 kWp'!$D$23 -> 182928.88 | E50: =E23-(E23/$G$2)*'Teplárna + FVE 10 kWp'!$I47+'Teplárna + FVE 10 kWp'!$D$23 -> 217415.55 | F50: =F23-(F23/$G$2)*'Teplárna + FVE 10 kWp'!$I47+'Teplárna + FVE 10 kWp'!$D$23 -> 258090.08 | G50: =G23-(G23/$G$2)*'Teplárna + FVE 10 kWp'!$I47+'Teplárna + FVE 10 kWp'!$D$23 -> 305986.69 | H50: =H23-(H23/$G$2)*'Teplárna + FVE 10 kWp'!$I47+'Teplárna + FVE 10 kWp'!$D$23 -> 362300.01 | I50: =I23-(I23/$G$2)*'Teplárna + FVE 10 kWp'!$I47+'Teplárna + FVE 10 kWp'!$D$23 -> 428408.07 | ... L50: =L23-(L23/$G$2)*'Teplárna + FVE 10 kWp'!$I47+'Teplárna + FVE 10 kWp'!$D$23 -> 702602.26
A51: 19 | B51: =B24-(B24/$G$2)*'Teplárna + FVE 10 kWp'!$I48+'Teplárna + FVE 10 kWp'!$D$23 -> 129207.18 | C51: =C24-(C24/$G$2)*'Teplárna + FVE 10 kWp'!$I48+'Teplárna + FVE 10 kWp'!$D$23 -> 155412.31 | D51: =D24-(D24/$G$2)*'Teplárna + FVE 10 kWp'!$I48+'Teplárna + FVE 10 kWp'!$D$23 -> 186728.96 | E51: =E24-(E24/$G$2)*'Teplárna + FVE 10 kWp'!$I48+'Teplárna + FVE 10 kWp'!$D$23 -> 224088.87 | F51: =F24-(F24/$G$2)*'Teplárna + FVE 10 kWp'!$I48+'Teplárna + FVE 10 kWp'!$D$23 -> 268581.93 | G51: =G24-(G24/$G$2)*'Teplárna + FVE 10 kWp'!$I48+'Teplárna + FVE 10 kWp'!$D$23 -> 321481.16 | H51: =H24-(H24/$G$2)*'Teplárna + FVE 10 kWp'!$I48+'Teplárna + FVE 10 kWp'!$D$23 -> 384271.22 | I51: =I24-(I24/$G$2)*'Teplárna + FVE 10 kWp'!$I48+'Teplárna + FVE 10 kWp'!$D$23 -> 458681.04 | ... L51: =L24-(L24/$G$2)*'Teplárna + FVE 10 kWp'!$I48+'Teplárna + FVE 10 kWp'!$D$23 -> 773403.85
A52: 20 | B52: =B25-(B25/$G$2)*'Teplárna + FVE 10 kWp'!$I49+'Teplárna + FVE 10 kWp'!$D$23 -> 129349.44 | C52: =C25-(C25/$G$2)*'Teplárna + FVE 10 kWp'!$I49+'Teplárna + FVE 10 kWp'!$D$23 -> 157107.15 | D52: =D25-(D25/$G$2)*'Teplárna + FVE 10 kWp'!$I49+'Teplárna + FVE 10 kWp'!$D$23 -> 190609.2 | E52: =E25-(E25/$G$2)*'Teplárna + FVE 10 kWp'!$I49+'Teplárna + FVE 10 kWp'!$D$23 -> 230969.86 | F52: =F25-(F25/$G$2)*'Teplárna + FVE 10 kWp'!$I49+'Teplárna + FVE 10 kWp'!$D$23 -> 279505.44 | G52: =G25-(G25/$G$2)*'Teplárna + FVE 10 kWp'!$I49+'Teplárna + FVE 10 kWp'!$D$23 -> 337768.34 | H52: =H25-(H25/$G$2)*'Teplárna + FVE 10 kWp'!$I49+'Teplárna + FVE 10 kWp'!$D$23 -> 407586.53 | I52: =I25-(I25/$G$2)*'Teplárna + FVE 10 kWp'!$I49+'Teplárna + FVE 10 kWp'!$D$23 -> 491109.14 | ... L52: =L25-(L25/$G$2)*'Teplárna + FVE 10 kWp'!$I49+'Teplárna + FVE 10 kWp'!$D$23 -> 851372.6
A53: NPV | B53: =NPV($B$27,B33:B52)+B32 -> 2375509 | C53: =NPV($B$27,C33:C52)+C32 -> 2563782.5 | D53: =NPV($B$27,D33:D52)+D32 -> 2776286.8 | E53: =NPV($B$27,E33:E52)+E32 -> 3016412.6 | F53: =NPV($B$27,F33:F52)+F32 -> 3288031.1 | G53: =NPV($B$27,G33:G52)+G32 -> 3595560.2 | H53: =NPV($B$27,H33:H52)+H32 -> 3944040.2 | I53: =NPV($B$27,I33:I52)+I32 -> 4339218.9 | ... L53: =NPV($B$27,L33:L52)+L32 -> 5875158.1
B59: Citlivostní analýza diskontu při 4% růstu cen | J59: Citlivostní analýza dotace
B60: NPV | I60: investice po dotaci
A61: diskont | B61: Teplárna | C61: Varianta 1 | D61: Varianta 2 | I61: dotace, % | J61: Varianta 1 | K61: NPV varianta 1 | L61: Varianta 2 | M61: NPV varianta 2
A62: 0 | B62: =NPV(A62,NPV!$F$10:$F$29)/1000 -> 4371.0597 | C62: =(NPV(A62,NPV!$G$10:$G$29)+NPV!$G$9)/1000 -> 4365.9721 | D62: =(NPV(A62,NPV!$H$10:$H$29)+NPV!$H$9)/1000 -> 4422.9882 | I62: 0 | J62: =NPV!G9 -> 706947 | K62: =(NPV(NPV!$I$8,NPV!$G$10:$G$29)+Citlivostní_analýza_data!J62)/1000 -> 3326.9812 | L62: =NPV!H9 -> 426563 | M62: =(NPV(NPV!$I$8,NPV!$H$10:$H$29)+Citlivostní_analýza_data!L62)/1000 -> 3288.0311
A63: 0.01 | B63: =NPV(A63,NPV!$F$10:$F$29)/1000 -> 3893.4145 | C63: =(NPV(A63,NPV!$G$10:$G$29)+NPV!$G$9)/1000 -> 3966.7532 | D63: =(NPV(A63,NPV!$H$10:$H$29)+NPV!$H$9)/1000 -> 3986.6867 | I63: 0.05 | J63: =$J$62-$J$62*I63 -> 671599.65 | K63: =(NPV(NPV!$I$8,NPV!$G$10:$G$29)+Citlivostní_analýza_data!J63)/1000 -> 3291.6338 | L63: =$L$62-$L$62*I63 -> 405234.85 | M63: =(NPV(NPV!$I$8,NPV!$H$10:$H$29)+Citlivostní_analýza_data!L63)/1000 -> 3266.7029
A64: 0.02 | B64: =NPV(A64,NPV!$F$10:$F$29)/1000 -> 3483.0042 | C64: =(NPV(A64,NPV!$G$10:$G$29)+NPV!$G$9)/1000 -> 3623.3761 | D64: =(NPV(A64,NPV!$H$10:$H$29)+NPV!$H$9)/1000 -> 3611.6154 | I64: 0.1 | J64: =$J$62-$J$62*I64 -> 636252.3 | K64: =(NPV(NPV!$I$8,NPV!$G$10:$G$29)+Citlivostní_analýza_data!J64)/1000 -> 3256.2865 | L64: =$L$62-$L$62*I64 -> 383906.7 | M64: =(NPV(NPV!$I$8,NPV!$H$10:$H$29)+Citlivostní_analýza_data!L64)/1000 -> 3245.3748
A65: 0.03 | B65: =NPV(A65,NPV!$F$10:$F$29)/1000 -> 3129.1021 | C65: =(NPV(A65,NPV!$G$10:$G$29)+NPV!$G$9)/1000 -> 3326.9812 | D65: =(NPV(A65,NPV!$H$10:$H$29)+NPV!$H$9)/1000 -> 3288.0311 | I65: 0.15 | J65: =$J$62-$J$62*I65 -> 600904.95 | K65: =(NPV(NPV!$I$8,NPV!$G$10:$G$29)+Citlivostní_analýza_data!J65)/1000 -> 3220.9391 | L65: =$L$62-$L$62*I65 -> 362578.55 | M65: =(NPV(NPV!$I$8,NPV!$H$10:$H$29)+Citlivostní_analýza_data!L65)/1000 -> 3224.0466
A66: 0.04 | B66: =NPV(A66,NPV!$F$10:$F$29)/1000 -> 2822.843 | C66: =(NPV(A66,NPV!$G$10:$G$29)+NPV!$G$9)/1000 -> 3070.24 | D66: =(NPV(A66,NPV!$H$10:$H$29)+NPV!$H$9)/1000 -> 3007.8783 | I66: 0.2 | J66: =$J$62-$J$62*I66 -> 565557.6 | K66: =(NPV(NPV!$I$8,NPV!$G$10:$G$29)+Citlivostní_analýza_data!J66)/1000 -> 3185.5918 | L66: =$L$62-$L$62*I66 -> 341250.4 | M66: =(NPV(NPV!$I$8,NPV!$H$10:$H$29)+Citlivostní_analýza_data!L66)/1000 -> 3202.7185
A67: 0.05 | B67: =NPV(A67,NPV!$F$10:$F$29)/1000 -> 2556.8787 | C67: =(NPV(A67,NPV!$G$10:$G$29)+NPV!$G$9)/1000 -> 2847.0729 | D67: =(NPV(A67,NPV!$H$10:$H$29)+NPV!$H$9)/1000 -> 2764.4773 | I67: 0.25 | J67: =$J$62-$J$62*I67 -> 530210.25 | K67: =(NPV(NPV!$I$8,NPV!$G$10:$G$29)+Citlivostní_analýza_data!J67)/1000 -> 3150.2444 | L67: =$L$62-$L$62*I67 -> 319922.25 | M67: =(NPV(NPV!$I$8,NPV!$H$10:$H$29)+Citlivostní_analýza_data!L67)/1000 -> 3181.3903
A68: 0.06 | B68: =NPV(A68,NPV!$F$10:$F$29)/1000 -> 2325.1006 | C68: =(NPV(A68,NPV!$G$10:$G$29)+NPV!$G$9)/1000 -> 2652.4211 | D68: =(NPV(A68,NPV!$H$10:$H$29)+NPV!$H$9)/1000 -> 2552.2725 | I68: 0.3 | J68: =$J$62-$J$62*I68 -> 494862.9 | K68: =(NPV(NPV!$I$8,NPV!$G$10:$G$29)+Citlivostní_analýza_data!J68)/1000 -> 3114.8971 | L68: =$L$62-$L$62*I68 -> 298594.1 | M68: =(NPV(NPV!$I$8,NPV!$H$10:$H$29)+Citlivostní_analýza_data!L68)/1000 -> 3160.0622
A69: 0.07 | B69: =NPV(A69,NPV!$F$10:$F$29)/1000 -> 2122.4158 | C69: =(NPV(A69,NPV!$G$10:$G$29)+NPV!$G$9)/1000 -> 2482.0632 | D69: =(NPV(A69,NPV!$H$10:$H$29)+NPV!$H$9)/1000 -> 2366.6302 | I69: 0.35 | J69: =$J$62-$J$62*I69 -> 459515.55 | K69: =(NPV(NPV!$I$8,NPV!$G$10:$G$29)+Citlivostní_analýza_data!J69)/1000 -> 3079.5497 | L69: =$L$62-$L$62*I69 -> 277265.95 | M69: =(NPV(NPV!$I$8,NPV!$H$10:$H$29)+Citlivostní_analýza_data!L69)/1000 -> 3138.734
A70: 0.08 | B70: =NPV(A70,NPV!$F$10:$F$29)/1000 -> 1944.5662 | C70: =(NPV(A70,NPV!$G$10:$G$29)+NPV!$G$9)/1000 -> 2332.4661 | D70: =(NPV(A70,NPV!$H$10:$H$29)+NPV!$H$9)/1000 -> 2203.6747 | I70: 0.4 | J70: =$J$62-$J$62*I70 -> 424168.2 | K70: =(NPV(NPV!$I$8,NPV!$G$10:$G$29)+Citlivostní_analýza_data!J70)/1000 -> 3044.2024 | L70: =$L$62-$L$62*I70 -> 255937.8 | M70: =(NPV(NPV!$I$8,NPV!$H$10:$H$29)+Citlivostní_analýza_data!L70)/1000 -> 3117.4059
A71: 0.09 | B71: =NPV(A71,NPV!$F$10:$F$29)/1000 -> 1787.9814 | C71: =(NPV(A71,NPV!$G$10:$G$29)+NPV!$G$9)/1000 -> 2200.6646 | D71: =(NPV(A71,NPV!$H$10:$H$29)+NPV!$H$9)/1000 -> 2060.1543
A72: 0.1 | B72: =NPV(A72,NPV!$F$10:$F$29)/1000 -> 1649.6592 | C72: =(NPV(A72,NPV!$G$10:$G$29)+NPV!$G$9)/1000 -> 2084.1628 | D72: =(NPV(A72,NPV!$H$10:$H$29)+NPV!$H$9)/1000 -> 1933.3338
A74: -0.01 | B74: =NPV(A74,NPV!$F$10:$F$29)/1000 -> 4928.9576 | C74: =(NPV(A74,NPV!$G$10:$G$29)+NPV!$G$9)/1000 -> 4831.7763 | D74: =(NPV(A74,NPV!$H$10:$H$29)+NPV!$H$9)/1000 -> 4932.3397
A75: -0.02 | B75: =NPV(A75,NPV!$F$10:$F$29)/1000 -> 5582.9544 | C75: =(NPV(A75,NPV!$G$10:$G$29)+NPV!$G$9)/1000 -> 5377.2327 | D75: =(NPV(A75,NPV!$H$10:$H$29)+NPV!$H$9)/1000 -> 5529.1235
A76: -0.03 | B76: =NPV(A76,NPV!$F$10:$F$29)/1000 -> 6352.3969 | C76: =(NPV(A76,NPV!$G$10:$G$29)+NPV!$G$9)/1000 -> 6018.2836 | D76: =(NPV(A76,NPV!$H$10:$H$29)+NPV!$H$9)/1000 -> 6230.8933
A77: -0.04 | B77: =NPV(A77,NPV!$F$10:$F$29)/1000 -> 7260.9793 | C77: =(NPV(A77,NPV!$G$10:$G$29)+NPV!$G$9)/1000 -> 6774.439 | D77: =(NPV(A77,NPV!$H$10:$H$29)+NPV!$H$9)/1000 -> 7059.1396
A78: -0.05 | B78: =NPV(A78,NPV!$F$10:$F$29)/1000 -> 8337.8091 | C78: =(NPV(A78,NPV!$G$10:$G$29)+NPV!$G$9)/1000 -> 7669.6506 | D78: =(NPV(A78,NPV!$H$10:$H$29)+NPV!$H$9)/1000 -> 8040.2548
A79: -0.06 | B79: =NPV(A79,NPV!$F$10:$F$29)/1000 -> 9618.7573 | C79: =(NPV(A79,NPV!$G$10:$G$29)+NPV!$G$9)/1000 -> 8733.4161 | D79: =(NPV(A79,NPV!$H$10:$H$29)+NPV!$H$9)/1000 -> 9206.7538
A80: -0.07 | B80: =NPV(A80,NPV!$F$10:$F$29)/1000 -> 11148.169 | C80: =(NPV(A80,NPV!$G$10:$G$29)+NPV!$G$9)/1000 -> 10002.18 | D80: =(NPV(A80,NPV!$H$10:$H$29)+NPV!$H$9)/1000 -> 10598.821
A81: -0.08 | B81: =NPV(A81,NPV!$F$10:$F$29)/1000 -> 12981.042 | C81: =(NPV(A81,NPV!$G$10:$G$29)+NPV!$G$9)/1000 -> 11521.114 | D81: =(NPV(A81,NPV!$H$10:$H$29)+NPV!$H$9)/1000 -> 12266.282
A82: -0.09 | B82: =NPV(A82,NPV!$F$10:$F$29)/1000 -> 15185.809 | C82: =(NPV(A82,NPV!$G$10:$G$29)+NPV!$G$9)/1000 -> 13346.395 | D82: =(NPV(A82,NPV!$H$10:$H$29)+NPV!$H$9)/1000 -> 14271.115
A83: -0.1 | B83: =NPV(A83,NPV!$F$10:$F$29)/1000 -> 17847.896 | C83: =(NPV(A83,NPV!$G$10:$G$29)+NPV!$G$9)/1000 -> 15548.114 | D83: =(NPV(A83,NPV!$H$10:$H$29)+NPV!$H$9)/1000 -> 16690.672
