Workbook

Sheet Harmonogram
B2: Harmonogram | E2: PŘEDINVESTIČNÍ FÁZE | P2: INVESTIČNÍ FÁZE | AT2: PROVOZNÍ FÁZE
B3: Bytový dům B | E3: 2016 | Q3: 2017 | AC3: 2018 | AO3: 2019
B4: Činnost | C4: Náklady bez DPH | D4: Doba trvání (měs.) | E4: 1 | F4: 2 | G4: 3 | H4: 4 | I4: 5 | J4: 6 | K4: 7 | L4: 8 | M4: 9 | N4: 10 | O4: 11 | P4: 12 | Q4: 1 | R4: 2 | S4: 3 | T4: 4 | U4: 5 | V4: 6 | W4: 7 | X4: 8 | Y4: 9 | Z4: 10 | AA4: 11 | AB4: 12 | AC4: 1 | AD4: 2 | AE4: 3 | AF4: 4 | AG4: 5 | AH4: 6 | AI4: 7 | AJ4: 8 | AK4: 9 | AL4: 10 | AM4: 11 | AN4: 12 | AO4: 1 | AP4: 2 | AQ4: 3 | AR4: 4 | AS4: 5 | AT4: 6 | AU4: 7 | AV4: 8 | AW4: 9 | AX4: 10 | AY4: 11 | AZ4: 12
B5: Nákup pozemku | C5: 8880000 | D5: 1 | E5: =C5 -> 8880000
B6: VF1 příprava zakázky | C6: 27513 | D6: 1 | F6: =C6 -> 27513
B7: VF2 studie | C7: 357664 | D7: 2 | G7: =C7/2 -> 178832 | H7: =C7/2 -> 178832
B8: VF3 dokumentace pro územní řízení | C8: 412689 | D8: 4 | I8: =C8/4 -> 103172.25 | J8: =C8/4 -> 103172.25 | K8: =C8/4 -> 103172.25 | L8: =C8/4 -> 103172.25
B9: Územní řízení | C9: 0 | D9: 3 | M9: =$C$11/3 -> 0 | N9: =$C$11/3 -> 0 | O9: =$C$11/3 -> 0
B10: VF4 dokumentace ke SP | C10: 605227 | D10: 4 | P10: =$C$10/4 -> 151306.75 | Q10: =$C$10/4 -> 151306.75 | R10: =$C$10/4 -> 151306.75 | S10: =$C$10/4 -> 151306.75
B11: Stavební řízení | C11: 0 | D11: 3 | T11: =$C$11/3 -> 0 | U11: =$C$11/3 -> 0 | V11: =$C$11/3 -> 0
B12: VF5 realizační dokumentace | C12: 770352 | D12: 5 | W12: =$C$12/5 -> 154070.4 | X12: =$C$12/5 -> 154070.4 | Y12: =$C$12/5 -> 154070.4 | Z12: =$C$12/5 -> 154070.4 | AA12: =$C$12/5 -> 154070.4
B13: VF6 dokumentace pro zadání stavby | C13: 192588 | D13: 4 | AB13: =$C$13/4 -> 48147 | AC13: =$C$13/4 -> 48147 | AD13: =$C$13/4 -> 48147 | AE13: =$C$13/4 -> 48147
B14: VF7 výběr dodavatele | C14: 27513 | D14: 2 | AF14: =$C$14/2 -> 13756.5 | AG14: =$C$14/2 -> 13756.5
B15: SO 01 - Bytový dům B | C15: 26444783 | D15: 12 | AH15: =$C$15/12 -> 2203731.9 | AI15: =$C$15/12 -> 2203731.9 | AJ15: =$C$15/12 -> 2203731.9 | AK15: =$C$15/12 -> 2203731.9 | AL15: =$C$15/12 -> 2203731.9 | AM15: =$C$15/12 -> 2203731.9 | AN15: =$C$15/12 -> 2203731.9 | AO15: =$C$15/12 -> 2203731.9 | ... AS15: =$C$15/12 -> 2203731.9
B16: SO 02 - Vodovodní přípojka | C16: 17586 | D16: 1 | AH16: =$C$16/1 -> 17586
B17: SO 03 - Plynová přípojka | C17: 115431 | D17: 1 | AH17: =$C$17/1 -> 115431
B18: SO 04 - Přípojka NN | C18: 15963 | D18: 1 | AH18: =$C$18/1 -> 15963
B19: SO 05 - Splašková kanalizační přípojka | C19: 10500 | D19: 1 | AH19: =$C$19/1 -> 10500
B20: SO 06 - Dešťová kanalizační přípojka | C20: 8750 | D20: 1 | AH20: =$C$20/1 -> 8750
B21: SO 07 - Komunikace a zpevněné plochy | C21: 929784 | D21: 2 | AQ21: =$C$21/2 -> 464892 | AR21: =$C$21/2 -> 464892
B22: SO 08 - Oplocení | C22: 468750 | D22: 2 | AQ22: =$C$22/2 -> 234375 | AR22: =$C$22/2 -> 234375
B23: SO 09 - Sadové úpravy | C23: 450000 | D23: 2 | AR23: =$C$23/2 -> 225000 | AS23: =$C$23/2 -> 225000
B24: SO 10 - Telekomunikační přípojka | C24: 53970 | D24: 1 | AH24: =$C24/1 -> 53970
B25: VF8 autorský a technický dozor | C25: 302638 | D25: 12 | AH25: =$C$25/$D$25 -> 25219.833 | AI25: =$C$25/$D$25 -> 25219.833 | AJ25: =$C$25/$D$25 -> 25219.833 | AK25: =$C$25/$D$25 -> 25219.833 | AL25: =$C$25/$D$25 -> 25219.833 | AM25: =$C$25/$D$25 -> 25219.833 | AN25: =$C$25/$D$25 -> 25219.833 | AO25: =$C$25/$D$25 -> 25219.833 | ... AS25: =$C$25/$D$25 -> 25219.833
B26: Náklady na umístění stavby (NUS) | C26: 1425775.9 | D26: 12 | AH26: =$C$26/$D$26 -> 118814.66 | AI26: =$C$26/$D$26 -> 118814.66 | AJ26: =$C$26/$D$26 -> 118814.66 | AK26: =$C$26/$D$26 -> 118814.66 | AL26: =$C$26/$D$26 -> 118814.66 | AM26: =$C$26/$D$26 -> 118814.66 | AN26: =$C$26/$D$26 -> 118814.66 | AO26: =$C$26/$D$26 -> 118814.66 | ... AS26: =$C$26/$D$26 -> 118814.66
B27: Ostatní náklady | C27: 570310.35 | D27: 41 | E27: =$C$27/$D$27 -> 13910.009 | F27: =$C$27/$D$27 -> 13910.009 | G27: =$C$27/$D$27 -> 13910.009 | H27: =$C$27/$D$27 -> 13910.009 | I27: =$C$27/$D$27 -> 13910.009 | J27: =$C$27/$D$27 -> 13910.009 | K27: =$C$27/$D$27 -> 13910.009 | L27: =$C$27/$D$27 -> 13910.009 | ... AS27: =$C$27/$D$27 -> 13910.009
B28: Rezerva | C28: 1996086.2 | D28: 12 | AH28: =$C$28/$D$28 -> 166340.52 | AI28: =$C$28/$D$28 -> 166340.52 | AJ28: =$C$28/$D$28 -> 166340.52 | AK28: =$C$28/$D$28 -> 166340.52 | AL28: =$C$28/$D$28 -> 166340.52 | AM28: =$C$28/$D$28 -> 166340.52 | AN28: =$C$28/$D$28 -> 166340.52 | AO28: =$C$28/$D$28 -> 166340.52 | ... AS28: =$C$28/$D$28 -> 166340.52
B29: Kompletační činnost | C29: 570310.35 | D29: 12 | AH29: =$C$29/$D$29 -> 47525.862 | AI29: =$C$29/$D$29 -> 47525.862 | AJ29: =$C$29/$D$29 -> 47525.862 | AK29: =$C$29/$D$29 -> 47525.862 | AL29: =$C$29/$D$29 -> 47525.862 | AM29: =$C$29/$D$29 -> 47525.862 | AN29: =$C$29/$D$29 -> 47525.862 | AO29: =$C$29/$D$29 -> 47525.862 | ... AS29: =$C$29/$D$29 -> 47525.862
B30: VF9 uvedení stavby do provozu | C30: 55025 | D30: 1 | AT30: =$C$30/2 -> 27512.5 | AU30: =$C$30/2 -> 27512.5 | BB30: Kontrola
E31: =SUM(E5:E30) -> 8893910 | F31: =SUM(F5:F30) -> 41423.009 | G31: =SUM(G5:G30) -> 192742.01 | H31: =SUM(H5:H30) -> 192742.01 | I31: =SUM(I5:I30) -> 117082.26 | J31: =SUM(J5:J30) -> 117082.26 | K31: =SUM(K5:K30) -> 117082.26 | L31: =SUM(L5:L30) -> 117082.26 | ... AZ31: =SUM(AZ5:AZ30) -> 0 | BB31: =SUM(E31:AU31) -> 44709209
B32: Součet po půlrocích | C32: =SUM(C5:C30) -> 44709209 | E32: =E31+F31+G31+H31+I31+J31 -> 9554981.6 | K32: =K31+L31+M31+N31+O31+P31 -> 441111.3 | Q32: =Q31+R31+S31+T31+U31+V31 -> 537380.3 | W32: =W31+X31+Y31+Z31+AA31+AB31 -> 901959.05 | AC32: =AC31+AD31+AE31+AF31+AG31+AH31 -> 3039246.8 | AI32: =AI31+AJ31+AK31+AL31+AM31+AN31 -> 15453257 | AO32: =AO31+AP31+AQ31+AR31+AS31+AT31 -> 14753760 | AU32: =AU31 -> 27512.5 | BB32: =SUM(E32:AU32) -> 44709209

Sheet Scénář prodeje
B2: Délky výstavby v měsících | D2: 12
B3: Délka doprodeje bytů po ukončení výstavby | D3: 7
B4: Bytů koupeno při výstavbě | D4: 0.9
B5: Bytů koupeno po výstavbě | D5: 0.1
B6: Záloha (při koupi bytu při výstavbě) | D6: 0.4
B7: Doplacená částka | D7: 0.6
M8: počet měsíců výstavby | N8: 1
B9: Scénář prodeje | G9: Jednotlivé příjmy | M9: Půlroční období | N9: 5
B10: Název | C10: Celkový počet | D10: Počet prodaných subjektů při výstavbě | E10: Počet prodaných subjektů po výstavbě | G10: Název | H10: Záloha bez DPH (Kč) | I10: Doplacená částka k záloze bez DPH (Kč) | J10: Celá platba bez předchozí zálohy bez DPH (Kč) | K10: Celkem bez DPH (Kč) | M10: Název | N10: Záloha bez DPH (Kč)
B11: Byty | C11: 20 | D11: =D4*C11 -> 18 | E11: =C11-D11 -> 2 | G11: Byty | H11: ='Bytový dům B'!G24/20*'Scénář prodeje'!D11*D6 -> 19542378 | I11: ='Bytový dům B'!G24/20*'Scénář prodeje'!D11*D7 -> 29313567 | J11: ='Bytový dům B'!G24/20*'Scénář prodeje'!E11 -> 5428438.3 | K11: =H11+I11+J11 -> 54284383 | M11: Byty | N11: =H11/D2*$N$8 -> 1628531.5
B12: Sklepy | C12: 5 | D12: 5 | E12: =C12-D12 -> 0 | G12: Sklepy | H12: ='Bytový dům B'!R9/5*D12*D6 -> 167300 | I12: ='Bytový dům B'!R9/5*D12*D7 -> 250950 | J12: 0 | K12: =H12+I12+J12 -> 418250 | M12: Sklepy | N12: =H12/D2 -> 13941.667
B13: Garážová park. stání | C13: 9 | D13: 9 | E13: =C13-D13 -> 0 | G13: Garážová park. stání | H13: ='Bytový dům B'!U4*D13*D6 -> 756000 | I13: ='Bytový dům B'!U4*D13*D7 -> 1134000 | J13: 0 | K13: =H13+I13+J13 -> 1890000 | M13: Garážová park. stání | N13: =H13/D2 -> 63000
B14: Venkovní park. stání | C14: 6 | D14: 6 | E14: 0 | G14: Venkovní park. stání | H14: ='Bytový dům B'!U5*D14*D6 -> 360000 | I14: ='Bytový dům B'!U5*D14*D7 -> 540000 | J14: ='Bytový dům B'!U5*E14 -> 0 | K14: =H14+I14+J14 -> 900000 | M14: Venkovní park. stání | N14: =H14/D2 -> 30000
G15: Celkem | H15: =H11+H12+H13+H14 -> 20825678 | I15: =I11+I12+I13+I14 -> 31238517 | J15: =J11+J12+J13+J14 -> 5428438.3 | K15: =K11+K12+K13+K14 -> 57492633 | M15: Celkový příjem za 5. období | N15: =N11+N12+N13+N14 -> 1735473.2
M17: počet měsíců výstavby | N17: 6
M18: Půlroční období | N18: 6
M19: Název | N19: Záloha bez DPH (Kč)
M20: Byty | N20: =H11/$D$2*$N$17 -> 9771189
M21: Sklepy | N21: =H12/$D$2*$N$17 -> 83650
M22: Garážová park. stání | N22: =H13/$D$2*$N$17 -> 378000
M23: Venkovní park. stání | N23: =H14/$D$2*$N$17 -> 180000
M24: Celkový příjem za 6. období | N24: =N20+N21+N22+N23 -> 10412839
M26: počet měsíců výstavby | N26: 5
M27: počet měsícu doprodeje bytů | N27: 1
M28: Půlroční období | N28: 7
M29: Název | N29: Záloha bez DPH (Kč) | O29: Doplacená částka k záloze bez DPH (Kč) | P29: Celá platba bez předchozí zálohy bez DPH (Kč)
M30: Byty | N30: =H11/$D$2*$N$26 -> 8142657.5 | O30: =I11/$D$3*$N$27 -> 4187652.4 | P30: =J11/$D$3 -> 775491.19
M31: Sklepy | N31: =H12/$D$2*$N$26 -> 69708.333 | O31: =I12/$D$3*$N$27 -> 35850 | P31: =J12/$D$3 -> 0
M32: Garážová park. stání | N32: =H13/$D$2*$N$26 -> 315000 | O32: =I13/$D$3*$N$27 -> 162000 | P32: =J13/$D$3 -> 0
M33: Venkovní park. stání | N33: =H14/$D$2*$N$26 -> 150000 | O33: =I14/$D$3*$N$27 -> 77142.857 | P33: =J14/$D$3 -> 0
M34: Celkem | N34: =N30+N31+N32+N33 -> 8677365.8 | O34: =O30+O31+O32+O33 -> 4462645.3 | P34: =P30+P31+P32+P33 -> 775491.19
M35: Celkový příjem za 7. období | N35: =N34+O34+P34 -> 13915502
M37: počet měsícu doprodeje bytů | N37: 6
M38: Půlroční období | N38: 8
M39: Název | N39: Doplacená částka k záloze bez DPH (Kč) | O39: Celá platba bez předchozí zálohy bez DPH (Kč)
M40: Byty | N40: =I11/$D$3*$N$37 -> 25125915 | O40: =J11/$D$3*$N$37 -> 4652947.1
M41: Sklepy | N41: =I12/$D$3*$N$37 -> 215100 | O41: =J12/$D$3*$N$37 -> 0
M42: Garážová park. stání | N42: =I13/$D$3*$N$37 -> 972000 | O42: =J13/$D$3*$N$37 -> 0
M43: Venkovní park. stání | N43: =I14/$D$3*$N$37 -> 462857.14 | O43: =J14/$D$3*$N$37 -> 0
M44: Celkem | N44: =N40+N41+N42+N43 -> 26775872 | O44: =O40+O41+O42+O43 -> 4652947.1
...

Sheet Cashflow
A2: Informace o prodeji | D2: Ostatní náklady | O2: Informace o prodeji | R2: Ostatní náklady | AC2: Informace o prodeji | AF2: Ostatní náklady
A3: Celkový příjem | B3: ='Bytový dům B'!$Z$7 -> 57492633 | D3: Náklady na realitní kancelář | F3: 0.05 | G3: =F3*B3 -> 2874631.7 | O3: Celkový příjem | P3: ='Bytový dům B'!$Z$7 -> 57492633 | R3: Náklady na realitní kancelář | T3: 0.05 | U3: =T3*P3 -> 2874631.7 | AC3: Celkový příjem | AD3: ='Bytový dům B'!$Z$7 -> 57492633 | AF3: Náklady na realitní kancelář | AH3: 0.05 | AI3: =AH3*AD3 -> 2874631.7
A4: Délka výstavby v měsících | B4: 12 | D4: Náklady na udrřování prostor | F4: 0.005 | G4: =F4*B3 -> 287463.17 | O4: Délka výstavby v měsících | P4: 12 | R4: Náklady na udrřování prostor | T4: 0.005 | U4: =T4*P3 -> 287463.17 | AC4: Délka výstavby v měsících | AD4: 12 | AF4: Náklady na udrřování prostor | AH4: 0.005 | AI4: =AH4*AD3 -> 287463.17
A5: Délka doprodeje bytů po skončení výstavby | B5: 7 | O5: Délka doprodeje bytů po skončení výstavby | P5: 7 | AC5: Délka doprodeje bytů po skončení výstavby | AD5: 12
A6: Požadovaný výnos | B6: 0.07 | O6: Požadovaný výnos | P6: 0.07 | AC6: Požadovaný výnos | AD6: 0.07
O7: Zvýšení nákladů o | P7: 0.03945782
A8: Cash flow, realistický pohled | O8: Cash flow - zjištění maximálních investičních nákladů při dodržení 7 % vnitřního výnosového procenta | AC8: Cash flow, pesimistický pohled
A9: Bytový dům B | B9: Půlroční období | C9: 1 | D9: 2 | E9: 3 | F9: 4 | G9: 5 | H9: 6 | I9: 7 | J9: 8 | O9: Bytový dům B | P9: Půlroční období | Q9: 1 | R9: 2 | S9: 3 | T9: 4 | U9: 5 | V9: 6 | W9: 7 | X9: 8 | AC9: Bytový dům B | AD9: Půlroční období | AE9: 1 | AF9: 2 | AG9: 3 | AH9: 4 | AI9: 5 | AJ9: 6 | AK9: 7 | AL9: 8 | AM9: 9
A10: Činnost | B10: Celkem/k datu | C10: 42552 | D10: 42736 | E10: 42917 | F10: 43101 | G10: 43282 | H10: 43466 | I10: 43647 | J10: 43831 | O10: Činnost | P10: Celkem/k datu | Q10: 42552 | R10: 42736 | S10: 42917 | T10: 43101 | U10: 43282 | V10: 43466 | W10: 43647 | X10: 43831 | AC10: Činnost | AD10: Celkem/k datu | AE10: 42552 | AF10: 42736 | AG10: 42917 | AH10: 43101 | AI10: 43282 | AJ10: 43466 | AK10: 43647 | AL10: 43831 | AM10: 44013
A11: Kladné peněžní toky | B11: =SUM(C11:J11) -> 57492633 | C11: =C12 -> 0 | D11: =D12 -> 0 | E11: =E12 -> 0 | F11: =F12 -> 0 | G11: =G12 -> 1735473.2 | H11: =H12 -> 10412839 | I11: =I12 -> 13915502 | J11: =J12 -> 31428819 | O11: Kladné peněžní toky | P11: =SUM(Q11:X11) -> 57492633 | Q11: =Q12 -> 0 | R11: =R12 -> 0 | S11: =S12 -> 0 | T11: =T12 -> 0 | U11: =U12 -> 1735473.2 | V11: =V12 -> 10412839 | W11: =W12 -> 13915502 | X11: =X12 -> 31428819 | AC11: Kladné peněžní toky | AD11: =SUM(AE11:AM11) -> 57492633 | AE11: =AE12 -> 0 | AF11: =AF12 -> 0 | AG11: =AG12 -> 0 | AH11: =AH12 -> 0 | AI11: =AI12 -> 1464051.2 | AJ11: =AJ12 -> 8784307.5 | AK11: =AK12 -> 10647258 | AL11: =AL12 -> 19962009 | AM11: =AM12 -> 16635008
A12: Příjmy z prodeje byt. a přid. prostorů | B12: =SUM(C12:J12) -> 57492633 | C12: 0 | D12: 0 | E12: 0 | F12: 0 | G12: ='Scénář prodeje'!$N$15 -> 1735473.2 | H12: ='Scénář prodeje'!$N$24 -> 10412839 | I12: ='Scénář prodeje'!$N$34+'Scénář prodeje'!$O$34+'Scénář prodeje'!$P$34 -> 13915502 | J12: ='Scénář prodeje'!$N$44+'Scénář prodeje'!$O$44 -> 31428819 | O12: Příjmy z prodeje byt. a přid. prostorů | P12: =SUM(Q12:X12) -> 57492633 | Q12: 0 | R12: 0 | S12: 0 | T12: 0 | U12: ='Scénář prodeje'!$N$15 -> 1735473.2 | V12: ='Scénář prodeje'!$N$24 -> 10412839 | W12: ='Scénář prodeje'!$N$34+'Scénář prodeje'!$O$34+'Scénář prodeje'!$P$34 -> 13915502 | X12: ='Scénář prodeje'!$N$44+'Scénář prodeje'!$O$44 -> 31428819 | AC12: Příjmy z prodeje byt. a přid. prostorů | AD12: =SUM(AE12:AM12) -> 57492633 | AE12: 0 | AF12: 0 | AG12: 0 | AH12: 0 | AI12: ='Pesimistický scénář prodeje'!N15 -> 1464051.2 | AJ12: ='Pesimistický scénář prodeje'!N24 -> 8784307.5 | AK12: ='Pesimistický scénář prodeje'!N35 -> 10647258 | AL12: ='Pesimistický scénář prodeje'!N45 -> 19962009 | AM12: ='Pesimistický scénář prodeje'!N55 -> 16635008
A13: Záporné peněžní toky | B13: =SUM(C13:J13) -> 47583840 | C13: =SUM(C14:C15) -> 9554981.6 | D13: =SUM(D14:D15) -> 441111.3 | E13: =SUM(E14:E15) -> 537380.3 | F13: =SUM(F14:F15) -> 901959.05 | G13: =SUM(G14:G15) -> 3126020.5 | H13: =SUM(H14:H15) -> 15973899 | I13: =SUM(I14:I15) -> 15449536 | J13: =SUM(J14:J15) -> 1598953.4 | O13: Záporné peněžní toky | P13: =SUM(Q13:X13) -> 49347968 | Q13: =SUM(Q14:Q15) -> 9932000.3 | R13: =SUM(R14:R15) -> 458516.59 | S13: =SUM(S14:S15) -> 558584.16 | T13: =SUM(T14:T15) -> 937548.39 | U13: =SUM(U14:U15) -> 3245942.6 | V13: =SUM(V14:V15) -> 16583651 | W13: =SUM(W14:W15) -> 16031687 | X13: =SUM(X14:X15) -> 1600039 | AC13: Záporné peněžní toky | AD13: =SUM(AE13:AM13) -> 47583840 | AE13: =SUM(AE14:AE15) -> 9554981.6 | AF13: =SUM(AF14:AF15) -> 441111.3 | AG13: =SUM(AG14:AG15) -> 537380.3 | AH13: =SUM(AH14:AH15) -> 901959.05 | AI13: =SUM(AI14:AI15) -> 3112449.4 | AJ13: =SUM(AJ14:AJ15) -> 15892472 | AK13: =SUM(AK14:AK15) -> 15286123 | AL13: =SUM(AL14:AL15) -> 1025613 | AM13: =SUM(AM14:AM15) -> 831750.38
A14: Investiční náklady | B14: =SUM(C14:J14) -> 44709209 | C14: =Harmonogram!E32 -> 9554981.6 | D14: =Harmonogram!K32 -> 441111.3 | E14: =Harmonogram!Q32 -> 537380.3 | F14: =Harmonogram!W32 -> 901959.05 | G14: =Harmonogram!AC32 -> 3039246.8 | H14: =Harmonogram!AI32 -> 15453257 | I14: =Harmonogram!AO32 -> 14753760 | J14: =Harmonogram!AU32 -> 27512.5 | O14: Investiční náklady | P14: =SUM(Q14:X14) -> 46473337 | Q14: =Harmonogram!E32+Harmonogram!E32*P7 -> 9932000.3 | R14: =Harmonogram!K32+Harmonogram!K32*P7 -> 458516.59 | S14: =Harmonogram!Q32+Harmonogram!Q32*P7 -> 558584.16 | T14: =Harmonogram!W32+Harmonogram!W32*P7 -> 937548.39 | U14: =Harmonogram!AC32+Harmonogram!AC32*P7 -> 3159168.9 | V14: =Harmonogram!AI32+Harmonogram!AI32*P7 -> 16063009 | W14: =Harmonogram!AO32+Harmonogram!AO32*P7 -> 15335912 | X14: =Harmonogram!AU32+Harmonogram!AU32*P7 -> 28598.083 | AC14: Investiční náklady | AD14: =SUM(AE14:AM14) -> 44709209 | AE14: =Harmonogram!E32 -> 9554981.6 | AF14: =Harmonogram!K32 -> 441111.3 | AG14: =Harmonogram!Q32 -> 537380.3 | AH14: =Harmonogram!W32 -> 901959.05 | AI14: =Harmonogram!AC32 -> 3039246.8 | AJ14: =Harmonogram!AI32 -> 15453257 | AK14: =Harmonogram!AO32 -> 14753760 | AL14: =Harmonogram!AU32 -> 27512.5 | AM14: 0
A15: Provize pro realitní kancelář | B15: =SUM(C15:J15) -> 2874631.7 | C15: 0 | D15: 0 | E15: 0 | F15: 0 | G15: =$G$12*$F$3 -> 86773.658 | H15: =$H$12*$F$3 -> 520641.95 | I15: =$I$12*$F$3 -> 695775.12 | J15: =$J$12*$F$3 -> 1571440.9 | O15: Provize pro realitní kancelář | P15: =SUM(Q15:X15) -> 2874631.7 | Q15: 0 | R15: 0 | S15: 0 | T15: 0 | U15: =U12*$T$3 -> 86773.658 | V15: =V12*$T$3 -> 520641.95 | W15: =W12*$T$3 -> 695775.12 | X15: =X12*$T$3 -> 1571440.9 | AC15: Provize pro realitní kancelář | AD15: =SUM(AE15:AM15) -> 2874631.7 | AE15: 0 | AF15: 0 | AG15: 0 | AH15: 0 | AI15: =AI12*$AH$3 -> 73202.562 | AJ15: =AJ12*$AH$3 -> 439215.38 | AK15: =AK12*$AH$3 -> 532362.89 | AL15: =AL12*$AH$3 -> 998100.46 | AM15: =AM12*$AH$3 -> 831750.38
A16: Náklady na udržování prostorů | B16: =SUM(C16:J16) -> 287463.17 | C16: 0 | D16: 0 | E16: 0 | F16: 0 | G16: 0 | H16: 0 | I16: =$G$4/7 -> 41066.167 | J16: =$G$4*(6/7) -> 246397 | O16: Náklady na udržování prostorů | P16: =SUM(Q16:X16) -> 287463.17 | Q16: 0 | R16: 0 | S16: 0 | T16: 0 | U16: 0 | V16: 0 | W16: =$U$4/7 -> 41066.167 | X16: =$U$4*(6/7) -> 246397 | AC16: Náklady na udržování prostorů | AD16: =SUM(AE16:AM16) -> 287463.17 | AE16: 0 | AF16: 0 | AG16: 0 | AH16: 0 | AI16: 0 | AJ16: 0 | AK16: =$AI$4/12 -> 23955.264 | AL16: =$AI$4*(6/12) -> 143731.58 | AM16: =$AI$4*(5/12) -> 119776.32
A17: Cash-flow | B17: 0 | C17: =C12-C13 -> -9554981.6 | D17: =D12-D13 -> -441111.3 | E17: =E12-E13 -> -537380.3 | F17: =F12-F13 -> -901959.05 | G17: =G12-G13 -> -1390547.3 | H17: =H12-H13 -> -5561059.7 | I17: =I12-I13 -> -1534033.3 | J17: =J12-J13 -> 29829865 | L17: IRR | M17: =IRR(C17:J17) -> 0.086078583 | O17: Cash-flow | P17: 0 | Q17: =Q12-Q13 -> -9932000.3 | R17: =R12-R13 -> -458516.59 | S17: =S12-S13 -> -558584.16 | T17: =T12-T13 -> -937548.39 | U17: =U12-U13 -> -1510469.4 | V17: =V12-V13 -> -6170811.6 | W17: =W12-W13 -> -2116184.5 | X17: =X12-X13 -> 29828780 | Z17: IRR | AA17: =IRR(Q17:X17) -> 0.070000004 | AC17: Cash-flow | AD17: 0 | AE17: =AE12-AE13 -> -9554981.6 | AF17: =AF12-AF13 -> -441111.3 | AG17: =AG12-AG13 -> -537380.3 | AH17: =AH12-AH13 -> -901959.05 | AI17: =AI12-AI13 -> -1648398.2 | AJ17: =AJ12-AJ13 -> -7108164.7 | AK17: =AK12-AK13 -> -4638865.6 | AL17: =AL12-AL13 -> 18936396 | AM17: =AM12-AM13 -> 15803257 | AO17: IRR | AP17: =IRR(AE17:AM17) -> 0.074216271
A18: Kumulované cash-flow | B18: 0 | C18: =C17 -> -9554981.6 | D18: =C18+D17 -> -9996092.9 | E18: =D18+E17 -> -10533473 | F18: =E18+F17 -> -11435432 | G18: =F18+G17 -> -12825980 | H18: =G18+H17 -> -18387039 | I18: =H18+I17 -> -19921073 | J18: =I18+J17 -> 9908792.9 | L18: NPV | M18: =J20 -> 1266988.9 | O18: Kumulované cash-flow | P18: 0 | Q18: =Q17 -> -9932000.3 | R18: =Q18+R17 -> -10390517 | S18: =R18+S17 -> -10949101 | T18: =S18+T17 -> -11886649 | U18: =T18+U17 -> -13397119 | V18: =U18+V17 -> -19567930 | W18: =V18+W17 -> -21684115 | X18: =W18+X17 -> 8144664.9 | Z18: NPV | AA18: =X20 -> 0.33570817 | AC18: Kumulované cash-flow | AD18: 0 | AE18: =AE17 -> -9554981.6 | AF18: =AE18+AF17 -> -9996092.9 | AG18: =AF18+AG17 -> -10533473 | AH18: =AG18+AH17 -> -11435432 | AI18: =AH18+AI17 -> -13083830 | AJ18: =AI18+AJ17 -> -20191995 | AK18: =AJ18+AK17 -> -24830861 | AL18: =AK18+AL17 -> -5894464.4 | AM18: =AL18+AM17 -> 9908792.9 | AO18: NPV | AP18: =AM20 -> 374536.53
A19: Diskontované cash-flow | B19: 0 | C19: =C17/(1+$B$6)^$C$9 -> -8929889.3 | D19: =D17/(1+$B$6)^$D$9 -> -385283.69 | E19: =E17/(1+$B$6)^$E$9 -> -438662.4 | F19: =F17/(1+$B$6)^$F$9 -> -688100.24 | G19: =G17/(1+$B$6)^$G$9 -> -991441.03 | H19: =H17/(1+$B$6)^$H$9 -> -3705568.9 | I19: =I17/(1+$B$6)^$I$9 -> -955318.84 | J19: =J17/(1+$B$6)^$J$9 -> 17361253 | L19: PI | M19: =M18/B13 -> 0.026626452 | O19: Diskontované cash-flow | P19: 0 | Q19: =Q17/(1+$P$6)^Q9 -> -9282243.3 | R19: =R17/(1+$P$6)^R9 -> -400486.15 | S19: =S17/(1+$P$6)^S9 -> -455971.06 | T19: =T17/(1+$P$6)^T9 -> -715251.18 | U19: =U17/(1+$P$6)^U9 -> -1076943.8 | V19: =V17/(1+$P$6)^V9 -> -4111872.3 | W19: =W17/(1+$P$6)^W9 -> -1317853.4 | X19: =X17/(1+$P$6)^X9 -> 17360621 | Z19: PI | AA19: =AA18/P13 -> 6.8028772e-09 | AC19: Diskontované cash-flow | AD19: 0 | AE19: =AE17/(1+$P$6)^AE9 -> -8929889.3 | AF19: =AF17/(1+$P$6)^AF9 -> -385283.69 | AG19: =AG17/(1+$P$6)^AG9 -> -438662.4 | AH19: =AH17/(1+$P$6)^AH9 -> -688100.24 | AI19: =AI17/(1+$P$6)^AI9 -> -1175285.1 | AJ19: =AJ17/(1+$P$6)^AJ9 -> -4736470.2 | AK19: =AK17/(1+$P$6)^AK9 -> -2888852.4 | AL19: =AL17/(1+$P$6)^AL9 -> 11021155 | AM19: =AM17/(1+$P$6)^AM9 -> 8595924.9 | AO19: PI | AP19: =AP18/AD13 -> 0.0078710867
A20: Kumulované diskontované cash-flow | B20: 0 | C20: =C19 -> -8929889.3 | D20: =SUM(C20+D19) -> -9315173 | E20: =SUM(D20+E19) -> -9753835.4 | F20: =SUM(E20+F19) -> -10441936 | G20: =SUM(F20+G19) -> -11433377 | H20: =SUM(G20+H19) -> -15138946 | I20: =SUM(H20+I19) -> -16094264 | J20: =SUM(I20+J19) -> 1266988.9 | L20: PP | M20: 8 | O20: Kumulované diskontované cash-flow | P20: 0 | Q20: =Q19 -> -9282243.3 | R20: =SUM(Q20+R19) -> -9682729.4 | S20: =SUM(R20+S19) -> -10138700 | T20: =SUM(S20+T19) -> -10853952 | U20: =SUM(T20+U19) -> -11930895 | V20: =SUM(U20+V19) -> -16042768 | W20: =SUM(V20+W19) -> -17360621 | X20: =SUM(W20+X19) -> 0.33570817 | Z20: PP | AA20: 8 | AC20: Kumulované diskontované cash-flow | AD20: 0 | AE20: =AE19 -> -8929889.3 | AF20: =SUM(AE20+AF19) -> -9315173 | AG20: =SUM(AF20+AG19) -> -9753835.4 | AH20: =SUM(AG20+AH19) -> -10441936 | AI20: =SUM(AH20+AI19) -> -11617221 | AJ20: =SUM(AI20+AJ19) -> -16353691 | AK20: =SUM(AJ20+AK19) -> -19242543 | AL20: =SUM(AK20+AL19) -> -8221388.3 | AM20: =SUM(AL20+AM19) -> 374536.53 | AO20: PP | AP20: 8

Sheet Pesimistický scénář prodeje
B2: Délky výstavby v měsících | D2: 12
B3: Délka doprodeje bytů po ukončení výstavby | D3: 12
B4: Bytů koupeno při výstavbě | D4: 0.75
B5: Bytů koupeno po výstavbě | D5: 0.25
B6: Záloha (při koupi bytu při výstavbě) | D6: 0.4
B7: Doplacená částka | D7: 0.6
M8: počet měsíců výstavby | N8: 1
B9: Pesimistický scénář prodeje | G9: Jednotlivé příjmy | M9: Půlroční období | N9: 5
B10: Název | C10: Celkový počet | D10: Počet prodaných subjektů při výstavbě | E10: Počet prodaných subjektů po výstavbě | G10: Název | H10: Záloha bez DPH (Kč) | I10: Doplacená částka k záloze bez DPH (Kč) | J10: Celá platba bez předchozí zálohy bez DPH (Kč) | K10: Celkem bez DPH (Kč) | M10: Název | N10: Záloha bez DPH (Kč)
B11: Byty | C11: 20 | D11: =D4*C11 -> 15 | E11: =C11-D11 -> 5 | G11: Byty | H11: ='Bytový dům B'!G24/20*'Pesimistický scénář prodeje'!D11*D6 -> 16285315 | I11: ='Bytový dům B'!G24/20*'Pesimistický scénář prodeje'!D11*D7 -> 24427972 | J11: ='Bytový dům B'!G24/20*'Pesimistický scénář prodeje'!E11 -> 13571096 | K11: =H11+I11+J11 -> 54284383 | M11: Byty | N11: =H11/D2*$N$8 -> 1357109.6
B12: Sklepy | C12: 5 | D12: 5 | E12: =C12-D12 -> 0 | G12: Sklepy | H12: ='Bytový dům B'!R9/5*D12*D6 -> 167300 | I12: ='Bytový dům B'!R9/5*D12*D7 -> 250950 | J12: 0 | K12: =H12+I12+J12 -> 418250 | M12: Sklepy | N12: =H12/D2 -> 13941.667
B13: Garážová park. stání | C13: 9 | D13: 9 | E13: =C13-D13 -> 0 | G13: Garážová park. stání | H13: ='Bytový dům B'!U4*D13*D6 -> 756000 | I13: ='Bytový dům B'!U4*D13*D7 -> 1134000 | J13: 0 | K13: =H13+I13+J13 -> 1890000 | M13: Garážová park. stání | N13: =H13/D2 -> 63000
B14: Venkovní park. stání | C14: 6 | D14: 6 | E14: 0 | G14: Venkovní park. stání | H14: ='Bytový dům B'!U5*D14*D6 -> 360000 | I14: ='Bytový dům B'!U5*D14*D7 -> 540000 | J14: ='Bytový dům B'!U5*E14 -> 0 | K14: =H14+I14+J14 -> 900000 | M14: Venkovní park. stání | N14: =H14/D2 -> 30000
G15: Celkem | H15: =H11+H12+H13+H14 -> 17568615 | I15: =I11+I12+I13+I14 -> 26352922 | J15: =J11+J12+J13+J14 -> 13571096 | K15: =K11+K12+K13+K14 -> 57492633 | M15: Celkový příjem za 5. období | N15: =N11+N12+N13+N14 -> 1464051.2
M17: počet měsíců výstavby | N17: 6
M18: Půlroční období | N18: 6
M19: Název | N19: Záloha bez DPH (Kč)
M20: Byty | N20: =H11/$D$2*$N$17 -> 8142657.5
M21: Sklepy | N21: =H12/$D$2*$N$17 -> 83650
M22: Garážová park. stání | N22: =H13/$D$2*$N$17 -> 378000
M23: Venkovní park. stání | N23: =H14/$D$2*$N$17 -> 180000
M24: Celkový příjem za 6. období | N24: =N20+N21+N22+N23 -> 8784307.5
M26: počet měsíců výstavby | N26: 5
M27: počet měsícu doprodeje bytů | N27: 1
M28: Půlroční období | N28: 7
M29: Název | N29: Záloha bez DPH (Kč) | O29: Doplacená částka k záloze bez DPH (Kč) | P29: Celá platba bez předchozí zálohy bez DPH (Kč)
M30: Byty | N30: =H11/$D$2*$N$26 -> 6785547.9 | O30: =I11/$D$3*$N$27 -> 2035664.4 | P30: =J11/$D$3 -> 1130924.7
M31: Sklepy | N31: =H12/$D$2*$N$26 -> 69708.333 | O31: =I12/$D$3*$N$27 -> 20912.5 | P31: =J12/$D$3 -> 0
M32: Garážová park. stání | N32: =H13/$D$2*$N$26 -> 315000 | O32: =I13/$D$3*$N$27 -> 94500 | P32: =J13/$D$3 -> 0
M33: Venkovní park. stání | N33: =H14/$D$2*$N$26 -> 150000 | O33: =I14/$D$3*$N$27 -> 45000 | P33: =J14/$D$3 -> 0
M34: Celkem | N34: =N30+N31+N32+N33 -> 7320256.2 | O34: =O30+O31+O32+O33 -> 2196076.9 | P34: =P30+P31+P32+P33 -> 1130924.7
M35: Celkový příjem za 7. období | N35: =N34+O34+P34 -> 10647258
M37: počet měsícu doprodeje bytů | N37: 6
M38: Půlroční období | N38: 8
M39: Název | N39: Doplacená částka k záloze bez DPH (Kč) | O39: Celá platba bez předchozí zálohy bez DPH (Kč)
M40: Byty | N40: =I11/$D$3*$N$37 -> 12213986 | O40: =J11/$D$3*$N$37 -> 6785547.9
M41: Sklepy | N41: =I12/$D$3*$N$37 -> 125475 | O41: =J12/$D$3*$N$37 -> 0
M42: Garážová park. stání | N42: =I13/$D$3*$N$37 -> 567000 | O42: =J13/$D$3*$N$37 -> 0
M43: Venkovní park. stání | N43: =I14/$D$3*$N$37 -> 270000 | O43: =J14/$D$3*$N$37 -> 0
M44: Celkem | N44: =N40+N41+N42+N43 -> 13176461 | O44: =O40+O41+O42+O43 -> 6785547.9
...

Sheet Propočet
B2: Stavební objekty | I2: Propočet
B3: Číslo SO | C3: Název | D3: Cena bez DPH (Kč) | E3: DPH % | F3: DPH (Kč) | G3: Cena včetně DPH (Kč) | I3: Název | J3: % ze ZRN | K3: Cena bez DPH (Kč) | L3: DPH (%) | M3: DPH (Kč) | N3: Cena včetně DPH (Kč)
B4: SO 01 | C4: Bytový dům B | D4: 26444783 | E4: 15 | F4: =D4*(E4/100) -> 3966717.4 | G4: =D4+F4 -> 30411500 | I4: Projektové a průzkumné práce | J4: - | K4: 2751209 | L4: 21 | M4: =K4*(L4/100) -> 577753.89 | N4: =K4+M4 -> 3328962.9
B5: SO 02 | C5: Vodovodní přípojka | D5: 17586.6 | E5: 15 | F5: =D5*(E5/100) -> 2637.99 | G5: =D5+F5 -> 20224.59 | I5: Provozní soubory | J5: 0 | K5: 0 | L5: 21 | M5: =K5*(L5/100) -> 0 | N5: =K5+M5 -> 0
B6: SO 03 | C6: Plynová přípojka | D6: 115431 | E6: 15 | F6: =D6*(E6/100) -> 17314.65 | G6: =D6+F6 -> 132745.65 | I6: Stavební objekty | J6: - | K6: 28515518 | L6: 15 a 21 | M6: =F14 -> 4388239.7 | N6: =K6+M6 -> 32903757
B7: SO 04 | C7: Přípojka NN | D7: 15963 | E7: 15 | F7: =D7*(E7/100) -> 2394.45 | G7: =D7+F7 -> 18357.45 | I7: Stroje, zařízení a inventář | J7: 0 | K7: 0 | L7: 21 | M7: =K7*(L7/100) -> 0 | N7: =K7+M7 -> 0
B8: SO 05 | C8: Splašková kanalizační přípojka | D8: 10500 | E8: 15 | F8: =D8*(E8/100) -> 1575 | G8: =D8+F8 -> 12075 | I8: Umělecká díla | J8: 0 | K8: 0 | L8: 21 | M8: =K8*(L8/100) -> 0 | N8: =K8+M8 -> 0
B9: SO 06 | C9: Dešťová kanalizační přípojka | D9: 8750 | E9: 15 | F9: =D9*(E9/100) -> 1312.5 | G9: =D9+F9 -> 10062.5 | I9: Náklady na umístění stavby | J9: 5 | K9: =K6*J9/100 -> 1425775.9 | L9: 15 a 21 | M9: =F28 -> 219411.98 | N9: =K9+M9 -> 1645187.9
B10: SO 07 | C10: Komunikace a zpevněné plochy | D10: 929784 | E10: 21 | F10: =D10*(E10/100) -> 195254.64 | G10: =D10+F10 -> 1125038.6 | I10: Ostatní náklady | J10: 2 | K10: =K6*J10/100 -> 570310.35 | L10: 21 | M10: =K10*(L10/100) -> 119765.17 | N10: =K10+M10 -> 690075.53
B11: SO 08 | C11: Oplocení | D11: 468750 | E11: 21 | F11: =D11*(E11/100) -> 98437.5 | G11: =D11+F11 -> 567187.5 | I11: Rezerva | J11: 7 | K11: =K6*J11/100 -> 1996086.2 | L11: 15 | M11: =K11*(L11/100) -> 299412.93 | N11: =K11+M11 -> 2295499.2
B12: SO 09 | C12: Sadové úpravy | D12: 450000 | E12: 21 | F12: =D12*(E12/100) -> 94500 | G12: =D12+F12 -> 544500 | I12: Ostatní investice | J12: - | K12: 8880000 | L12: 0 | M12: =K12*(L12/100) -> 0 | N12: =K12+M12 -> 8880000
B13: SO 10 | C13: Telekomunikační přípojka | D13: 53970 | E13: 15 | F13: =D13*(E13/100) -> 8095.5 | G13: =D13+F13 -> 62065.5 | I13: Nehmotný investiční majetek | J13: - | K13: 0 | L13: 21 | M13: =K13*(L13/100) -> 0 | N13: =K13+M13 -> 0
B14: CELKEM ZA STAVBU: | D14: =SUM(D4:D13) -> 28515518 | F14: =SUM(F4:F13) -> 4388239.7 | G14: =SUM(G4:G13) -> 32903757 | I14: Provozní náklady | J14: - | K14: 0 | L14: 21 | M14: 0 | N14: =K14+M14 -> 0
I15: Kompletační činnost | J15: 2 | K15: =K6*J15/100 -> 570310.35 | L15: 15 | M15: =K15*(L15/100) -> 85546.553 | N15: =K15+M15 -> 655856.9
B16: Zařízení staveniště | I16: Celkem | K16: =SUM(K4:K15) -> 44709209 | M16: =SUM(M4:M15) -> 5690130.2 | N16: =K16+M16 -> 50399340
B17: Číslo SO | C17: Název | D17: Cena bez DPH (Kč) | E17: DPH % | F17: DPH (Kč) | G17: Cena včetně DPH (Kč)
B18: SO 01 | C18: Bytový dům B | D18: =D4*0.05 -> 1322239.2 | E18: 15 | F18: =D18*(E18/100) -> 198335.87 | G18: =D18+F18 -> 1520575
B19: SO 02 | C19: Vodovodní přípojka | D19: =D5*0.05 -> 879.33 | E19: 15 | F19: =D19*(E19/100) -> 131.8995 | G19: =D19+F19 -> 1011.2295
B20: SO 03 | C20: Plynová přípojka | D20: =D6*0.05 -> 5771.55 | E20: 15 | F20: =D20*(E20/100) -> 865.7325 | G20: =D20+F20 -> 6637.2825
B21: SO 04 | C21: Přípojka NN | D21: =D7*0.05 -> 798.15 | E21: 15 | F21: =D21*(E21/100) -> 119.7225 | G21: =D21+F21 -> 917.8725
B22: SO 05 | C22: Splašková kanalizační přípojka | D22: =D8*0.05 -> 525 | E22: 15 | F22: =D22*(E22/100) -> 78.75 | G22: =D22+F22 -> 603.75
B23: SO 06 | C23: Dešťová kanalizační přípojka | D23: =D9*0.05 -> 437.5 | E23: 15 | F23: =D23*(E23/100) -> 65.625 | G23: =D23+F23 -> 503.125
B24: SO 07 | C24: Komunikace a zpevněné plochy | D24: =D10*0.05 -> 46489.2 | E24: 21 | F24: =D24*(E24/100) -> 9762.732 | G24: =D24+F24 -> 56251.932
B25: SO 08 | C25: Oplocení | D25: =D11*0.05 -> 23437.5 | E25: 21 | F25: =D25*(E25/100) -> 4921.875 | G25: =D25+F25 -> 28359.375
B26: SO 09 | C26: Sadové úpravy | D26: =D12*0.05 -> 22500 | E26: 21 | F26: =D26*(E26/100) -> 4725 | G26: =D26+F26 -> 27225
B27: SO 10 | C27: Telekomunikační přípojka | D27: =D13*0.05 -> 2698.5 | E27: 15 | F27: =D27*(E27/100) -> 404.775 | G27: =D27+F27 -> 3103.275
B28: CELKEM ZA STAVBU: | D28: =SUM(D18:D27) -> 1425775.9 | F28: =SUM(F18:F27) -> 219411.98 | G28: =SUM(G18:G27) -> 1645187.9

Sheet Bytový dům B
B2: Příjem z prodeje bytů | J2: Stanovené prodejní ceny | O2: Příjem z prodeje sklepů | T2: Příjem z prodeje parkovacích stání | Y2: Celkové příjmy
B3: Ozn. bytu | C3: Dispozice | D3: Čistá podlahová plocha bytu (m2) | E3: Plocha balkonu nebo terasy (m2) | F3: Plocha předzahrádky (m2) | G3: Celková cena bytu bez DPH (Kč) | H3: Celková cena za m2 bytu bez DPH (Kč) | J3: Název | K3: MJ | L3: Průměrná cena u konkurenčních projektů za MJ bez DPH (Kč) | M3: Navrhovaná cena za MJ bez DPH (Kč) | O3: Ozn. sklepu | P3: Cena za m2 bez DPH (Kč) | Q3: Výměra (m2) | R3: Cena celkem bez DPH (Kč) | T3: Název | U3: Cena za kus bez DPH (Kč) | V3: Počet (ks) | W3: Cena celkem bez DPH (Kč) | Y3: Název | Z3: Cena bez DPH (Kč)
B4: 1 | C4: 3+kk | D4: =5.34+3.5+4.24+1.17+4.56+19.38+13.88+21.24+6.23 -> 79.54 | E4: 7 | F4: 120.96 | G4: =$M$4*D4+$M$5*E4+$M$8*F4 -> 4548410 | H4: =G4/D4 -> 57183.933 | J4: Čistá podlahová plocha bytu | K4: m2 | L4: ='Analýza okolí a konk. projektů'!T7 -> 46160.522 | M4: 46500 | O4: 1 | P4: ='Bytový dům B'!M9 -> 25000 | Q4: 2.85 | R4: ='Bytový dům B'!$M$9*Q4 -> 71250 | T4: Garážové park. stání | U4: ='Bytový dům B'!M10 -> 210000 | V4: 9 | W4: ='Bytový dům B'!M10*'Bytový dům B'!V4 -> 1890000 | Y4: Bytové prostory | Z4: ='Bytový dům B'!G24 -> 54284383
B5: 2 | C5: 1+kk | D5: =5.25+21.09+7.26+1.87+5.4 -> 40.87 | E5: 8.61 | F5: - | G5: =$M$4*D5+$M$5*E5 -> 2201805 | H5: =G5/D5 -> 53873.379 | J5: Balkon, lodžie, terasa plochy do 15 m2 | K5: m2 | L5: ='Analýza okolí a konk. projektů'!X6 -> 35000 | M5: 35000 | O5: 2 | P5: =P4 -> 25000 | Q5: 2.7 | R5: ='Bytový dům B'!$M$9*Q5 -> 67500 | T5: Venkovní park. stání | U5: ='Bytový dům B'!M11 -> 150000 | V5: 6 | W5: ='Bytový dům B'!M11*V5 -> 900000 | Y5: Sklepní prostory | Z5: =R9 -> 418250
B6: 3 | C6: 1+kk | D6: =5.98+19.22+4.84+5.1 -> 35.14 | E6: 9.73 | F6: 67.5 | G6: =$M$4*D6+$M$5*E6+$M$7*F6 -> 2649560 | H6: =G6/D6 -> 75400.114 | J6: Balkon, lodžie, terasa plochy nad 15 m2 | K6: m2 | L6: ='Analýza okolí a konk. projektů'!X7 -> 11666.667 | M6: =M5/3 -> 11666.667 | O6: 3 | P6: =P5 -> 25000 | Q6: 3.68 | R6: ='Bytový dům B'!$M$9*Q6 -> 92000 | U6: Celkem | V6: =V4+V5 -> 15 | W6: =W4+W5 -> 2790000 | Y6: Parkovácí stání | Z6: =W6 -> 2790000
B7: 4 | C7: 2+kk | D7: =7.27+21.94+7.07+13.88+2.34+4.67 -> 57.17 | E7: 14.03 | F7: 116.6 | G7: =$M$4*D7+$M$5*E7+$M$8*F7 -> 3732455 | H7: =G7/D7 -> 65286.951 | J7: Předzahrádka plochy do 100 m2 | K7: m2 | L7: ='Analýza okolí a konk. projektů'!X8 -> 10000 | M7: 10000 | O7: 4 | P7: =P6 -> 25000 | Q7: 3.73 | R7: ='Bytový dům B'!$M$9*Q7 -> 93250 | Y7: Celkem | Z7: =SUM(Z4:Z6) -> 57492633
B8: 5 | C8: 1+1 | D8: =4.07+3.55+4.16+19.22 -> 31 | E8: 4.63 | F8: - | G8: =$M$4*D8+$M$5*E8 -> 1603550 | H8: =G8/D8 -> 51727.419 | J8: Předzahrádka plochy nad 100 m2 | K8: m2 | L8: ='Analýza okolí a konk. projektů'!X9 -> 5000 | M8: =M7/2 -> 5000 | O8: 5 | P8: =P7 -> 25000 | Q8: 3.77 | R8: ='Bytový dům B'!$M$9*Q8 -> 94250
B9: 6 | C9: 1+kk | D9: =3.45+4.43+19.16+4.7 -> 31.74 | E9: - | F9: =47.2+31.9 -> 79.1 | G9: =$M$4*D9+$M$7*F9 -> 2266910 | H9: =G9/D9 -> 71421.235 | J9: Sklep | K9: m2 | L9: ='Analýza okolí a konk. projektů'!X4 -> 25000 | M9: 25000 | P9: Celkem | Q9: =SUM(Q4:Q8) -> 16.73 | R9: =SUM(R4:R8) -> 418250
B10: 7 | C10: 1+kk | D10: =1.93+3.88+4.05+24.93+3.75 -> 38.54 | E10: - | F10: =45.6+38.6 -> 84.2 | G10: =$M$4*D10+$M$7*F10 -> 2634110 | H10: =G10/D10 -> 68347.431 | J10: Garážové stání | K10: ks | L10: ='Analýza okolí a konk. projektů'!X5 -> 210000 | M10: 210000
B11: 8 | C11: 1+kk | D11: =1.93+4.06+3.88+24.93+3.75 -> 38.55 | E11: - | F11: =45.6+33.9 -> 79.5 | G11: =$M$4*D11+$M$7*F11 -> 2587575 | H11: =G11/D11 -> 67122.568 | J11: Venkovní parkovací stání | K11: ks | L11: - | M11: 150000
B12: 9 | C12: 2+kk | D12: =4.1+3.62+1.14+6.35+12.34+22.54+5.45 -> 55.54 | E12: - | F12: 258.1 | G12: =$M$4*D12+$M$8*F12 -> 3873110 | H12: =G12/D12 -> 69735.506
B13: 10 | C13: 3+kk | D13: =5.34+3.5+4.22+1.17+4.53+19.38+13.88+21.21+6.25 -> 79.48 | E13: 7 | F13: - | G13: =$M$4*D13+$M$5*E13 -> 3940820 | H13: =G13/D13 -> 49582.536
B14: 11 | C14: 2+kk | D14: =5.28+21.08+7.28+1.88+5.58 -> 41.1 | E14: 8.61 | F14: - | G14: =$M$4*D14+$M$5*E14 -> 2212500 | H14: =G14/D14 -> 53832.117
B15: 12 | C15: 1+kk | D15: =5.98+19.98+4.07+5.1 -> 35.13 | E15: 9.73 | F15: - | G15: =$M$4*D15+$M$5*E15 -> 1974095 | H15: =G15/D15 -> 56193.994
B16: 13 | C16: 2+kk | D16: =7.27+21.94+7.06+13.88+2.33+4.67 -> 57.15 | E16: 13.99 | F16: - | G16: =$M$4*D16+$M$5*E16 -> 3147125 | H16: =G16/D16 -> 55067.804
B17: 14 | C17: 1+1 | D17: =4.1+3.53+3.84+19.68 -> 31.15 | E17: 4.63 | F17: - | G17: =$M$4*D17+$M$5*E17 -> 1610525 | H17: =G17/D17 -> 51702.247
B18: 15 | C18: 1+kk | D18: =3.36+4.45+19.16+4.7 -> 31.67 | E18: 4.63 | F18: - | G18: =$M$4*D18+$M$5*E18 -> 1634705 | H18: =G18/D18 -> 51616.83
B19: 16 | C19: 1+kk | D19: =3.08+4.8+20.27+4.7 -> 32.85 | E19: 4.63 | F19: - | G19: =$M$4*D19+$M$5*E19 -> 1689575 | H19: =G19/D19 -> 51433.029
B20: 17 | C20: 1+kk | D20: =3.07+4.8+20.27+4.7 -> 32.84 | E20: 4.63 | F20: - | G20: =$M$4*D20+$M$5*E20 -> 1689110 | H20: =G20/D20 -> 51434.531
B21: 18 | C21: 2+kk | D21: =12.12+1.14+3.62+12.34+22.54+5.54 -> 57.3 | E21: 4.43 | F21: - | G21: =$M$4*D21+$M$5*E21 -> 2819500 | H21: =G21/D21 -> 49205.934
B22: 19 | C22: 2+kk | D22: =5.34+3.68+4.23+1.16+4.57+13.98+20.2+5.26 -> 58.42 | E22: =7+18.54 -> 25.54 | F22: - | G22: =$M$4*D22+$M$6*E22 -> 3014496.7 | H22: =G22/D22 -> 51600.422
B23: 20 | C23: 2+kk | D23: =8.44+6.34+13.44+28.98+7.22 -> 64.42 | E23: =8.61+116.44 -> 125.05 | F23: - | G23: =$M$4*D23+$M$6*E23 -> 4454446.7 | H23: =G23/D23 -> 69146.952
C24: Celkem | D24: =SUM(D4:D23) -> 929.6 | E24: =SUM(E4:E23) -> 256.87 | F24: =SUM(F4:F23) -> 805.96 | G24: =SUM(G4:G23) -> 54284383 | H24: =AVERAGE(H4:H23) -> 58545.747

Sheet Analýza okolí a konk. projektů
B2: Makroekonomická analýza ceny za m2 bytu | I2: Projekty po termínu dokončení | M2: Projekty ve fázi výstavby | S2: Průměrná cena za m2 bytu u konk. projektů | V2: Prodejní ceny u konk. projektů
B3: Název/rok | C3: 2012 | D3: 2013 | E3: 2014 | F3: 2015 | G3: 2016 | I3: Název projektu | J3: Počet bytů | K3: Termín dokončení výstavby | M3: Název projektu | N3: Bytů celkem | O3: Bytů prodáno | P3: % prodaných bytů | Q3: Termín dokončení | S3: Název projektu | T3: Průměrná cena za m2 čisté podlahové plochy bytu bez DPH (Kč) | V3: Název | W3: MJ | X3: Cena bez DPH (Kč)
B4: Cena za m2 bytu (Kč) | C4: 43679 | D4: 42213 | E4: 45851 | F4: 47765 | G4: - | I4: Romance JK | J4: 73 | K4: konec roku 2016 | M4: Nad Volyňkou | N4: 116 | O4: 100 | P4: =O4/N4*100 -> 86.206897 | Q4: duben roku 2017 | S4: Nad Volyňkou | T4: ='Projekt Nad Volyňkou'!L12 -> 47283.657 | V4: Sklep | W4: m2 | X4: 25000
I5: EKOCITY Uhříněves I | J5: 176 | K5: léto 2016 | M5: Vivus Uhříněves II. | N5: 248 | O5: 232 | P5: =O5/N5*100 -> 93.548387 | Q5: 2. polovina roku 2017 | S5: Vivus Uhříněves II. | T5: ='Projekt Vivus Uhříněves II.'!K12 -> 46160.37 | V5: Garážové stání | W5: ks | X5: 210000
I6: Romance F | J6: 57 | K6: podzim 2015 | M6: U Starého mlýna | N6: 117 | O6: 85 | P6: =O6/N6*100 -> 72.649573 | Q6: 1. čtvrtletí roku 2018 | S6: U Starého mlýna | T6: ='Projekt U Starého mlýna'!J13 -> 45037.539 | V6: Balkon, lodžie, terasa plochy do 15 m2 | W6: m2 | X6: 35000
I7: Vilapark Uhříněveská obora | J7: 151 | K7: podzim 2013 | S7: Celková průměrná cena | T7: =AVERAGE(T4:T6) -> 46160.522 | V7: Balkon, lodžie, terasa plochy nad 15 m2 | W7: m2 | X7: =X6/3 -> 11666.667
V8: Předzahrádka plochy do 100 m2 | W8: m2 | X8: 10000
V9: Předzahrádka plochy nad 100 m2 | W9: m2 | X9: =X8/2 -> 5000

Sheet Projekt Vivus Uhříněves II.
B2: Projekt Vivus Uhříněves II. | M2: Cena za přidružené prostory | Q2: Zkrácená verze
B3: Ozn. bytu | C3: Dispozice | D3: Podlahová plocha bytu (m2) | E3: Čistá podlahová plocha bytu (m2) | F3: Plocha sklepu (m2) | G3: Plocha balkonu, lodžie, terasy (m2) | H3: Parkovací stání | I3: Cena celkem vč. DPH (Kč) | J3: Cena celkem bez DPH (Kč) | K3: Cena za m2 čisté podlahové plochy bytu bez DPH (Kč) | M3: Název | N3: MJ | O3: Cena bez DPH (Kč) | Q3: =B3 -> Ozn. bytu | R3: Podlahová plocha bytu (m2) | S3: Čistá podlahová plocha bytu (m2) | T3: =J3 -> Cena celkem bez DPH (Kč) | U3: Cena za m2 čisté podlahové plochy bytu bez DPH (Kč)
B4: 1 | C4: 3+kk | D4: =82.58-4.02 -> 78.56 | E4: =D4*0.95 -> 74.632 | F4: 4.02 | G4: 7.58 | H4: 1 garážové | I4: 4440464 | J4: =I4/1.15 -> 3861273 | K4: =(J4-$O$4*F4-$O$5-$O$6*G4)/E4 -> 44022.31 | M4: Sklep | N4: m2 | O4: 25000 | Q4: =B4 -> 1 | R4: =D4 -> 78.56 | S4: =E4 -> 74.632 | T4: =J4 -> 3861273 | U4: =K4 -> 44022.31
B5: 2 | C5: 3+kk | D5: =59.37-3.8 -> 55.57 | E5: =D5*0.95 -> 52.7915 | F5: 3.8 | G5: 2.7 | H5: 1 garážové | I5: 3447497 | J5: =I5/1.15 -> 2997823.5 | K5: =(J5-$O$4*F5-$O$5-$O$6*G5)/E5 -> 49218.595 | M5: Garážové stání | N5: ks | O5: 210000 | Q5: =B5 -> 2 | R5: =D5 -> 55.57 | S5: =E5 -> 52.7915 | T5: =J5 -> 2997823.5 | U5: =K5 -> 49218.595
B6: 3 | C6: 2+kk | D6: =52.15-3.9 -> 48.25 | E6: =D6*0.95 -> 45.8375 | F6: 3.9 | G6: 46.9 | H6: - | I6: 2790949 | J6: =I6/1.15 -> 2426912.2 | K6: =(J6-$O$4*F6-$O$7*G6)/E6 -> 38881.822 | M6: Balkon, lodžie, terasa plochy do 15 m2 | N6: m2 | O6: 35000 | Q6: =B6 -> 3 | R6: =D6 -> 48.25 | S6: =E6 -> 45.8375 | T6: =J6 -> 2426912.2 | U6: =K6 -> 38881.822
B7: 4 | C7: 2+kk | D7: =60.26-4.95 -> 55.31 | E7: =D7*0.95 -> 52.5445 | F7: 4.95 | G7: 61.48 | H7: 1 garážové | I7: 3274900 | J7: =I7/1.15 -> 2847739.1 | K7: =(J7-$O$4*F7-$O$5-$O$7*G7)/E7 -> 34194.301 | M7: Balkon, lodžie, terasa plochy nad 15 m2 | N7: m2 | O7: =O6/3 -> 11666.667 | Q7: =B7 -> 4 | R7: =D7 -> 55.31 | S7: =E7 -> 52.5445 | T7: =J7 -> 2847739.1 | U7: =K7 -> 34194.301
B8: 5 | C8: 3+kk | D8: =60.45-4.87 -> 55.58 | E8: =D8*0.95 -> 52.801 | F8: 4.87 | G8: 2.74 | H8: 1 garážové | I8: 3410685 | J8: =I8/1.15 -> 2965813 | K8: =(J8-$O$4*F8-$O$5-$O$6*G8)/E8 -> 48070.359 | Q8: =B8 -> 5 | R8: =D8 -> 55.58 | S8: =E8 -> 52.801 | T8: =J8 -> 2965813 | U8: =K8 -> 48070.359
B9: 6 | C9: 3+kk | D9: =59.65-4.07 -> 55.58 | E9: =D9*0.95 -> 52.801 | F9: 4.07 | G9: 2.59 | H9: 1 garážové | I9: 3528790 | J9: =I9/1.15 -> 3068513 | K9: =(J9-$O$4*F9-$O$5-$O$6*G9)/E9 -> 50493.609 | Q9: =B9 -> 6 | R9: =D9 -> 55.58 | S9: =E9 -> 52.801 | T9: =J9 -> 3068513 | U9: =K9 -> 50493.609
B10: 7 | C10: 2+kk | D10: =52.41-4.11 -> 48.3 | E10: =D10*0.95 -> 45.885 | F10: 4.11 | G10: 2.58 | H10: - | I10: 3018673 | J10: =I10/1.15 -> 2624933 | K10: =(J10-$O$4*F10-$O$6*G10)/E10 -> 52999.521 | Q10: =B10 -> 7 | R10: =D10 -> 48.3 | S10: =E10 -> 45.885 | T10: =J10 -> 2624933 | U10: =K10 -> 52999.521
B11: 8 | C11: 2+kk | D11: =56.43-8.28 -> 48.15 | E11: =D11*0.95 -> 45.7425 | F11: 8.28 | G11: 2.73 | H11: 1 garážové | I11: 3293400 | J11: =I11/1.15 -> 2863826.1 | K11: =(J11-$O$4*F11-$O$5-$O$6*G11)/E11 -> 51402.439 | Q11: =B11 -> 8 | R11: =D11 -> 48.15 | S11: =E11 -> 45.7425 | T11: =J11 -> 2863826.1 | U11: =K11 -> 51402.439
H12: Průměrná cena bytu za m2 bez DPH (Kč) | K12: =AVERAGE(K4:K11) -> 46160.37 | T12: Průměr | U12: =K12 -> 46160.37

Sheet Projekt Nad Volyňkou
B2: Projekt Nad Volyňkou | N2: Cena za přidružené prostory | S2: Zkrácená verze
B3: Ozn. bytu | C3: Dispozice | D3: Podlahová plocha bytu (m2) | E3: Čistá podlahová plocha bytu (m2) | F3: Plocha sklepu (m2) | G3: Plocha balkonu, lodžie, terasy (m2) | H3: Parkovací stání | I3: Cena celkem vč. DPH (Kč) | J3: Cena celkem bez DPH (Kč) | K3: Cena za m2 čisté podlahové plochy bez DPH uváděna v projektu Nad Volyňkou (Kč) | L3: Cena za m2 čisté podlahové plochy bytu bez DPH (Kč) | N3: Název | O3: MJ | P3: Cena bez DPH (Kč) | S3: =B3 -> Ozn. bytu | T3: Podlahová plocha bytu (m2) | U3: Čistá podlahová plocha bytu (m2) | V3: =J3 -> Cena celkem bez DPH (Kč) | W3: Cena za m2 čisté podlahové plochy bytu bez DPH (Kč)
B4: 1 | C4: 3+kk | D4: 83.4 | E4: 78.6 | F4: 4.7 | G4: 11.2 | H4: 1 garážové | I4: 4527356 | J4: =I4/1.15 -> 3936831.3 | K4: 41000 | L4: =(J4-$P$4*F4-$P$5-$P$6*G4)/E4 -> 40932.968 | N4: Sklep | O4: m2 | P4: 25000 | S4: =B4 -> 1 | T4: =D4 -> 83.4 | U4: =E4 -> 78.6 | V4: =J4 -> 3936831.3 | W4: =L4 -> 40932.968
B5: 2 | C5: 2+kk | D5: 52.3 | E5: 49.1 | F5: 2.5 | G5: 30.3 | H5: 1 garážové | I5: 3802607 | J5: =I5/1.15 -> 3306614.8 | K5: 55000 | L5: =(J5-$P$4*F5-$P$5-$P$7*G5)/E5 -> 54595.006 | N5: Garážové stání | O5: ks | P5: 210000 | S5: =B5 -> 2 | T5: =D5 -> 52.3 | U5: =E5 -> 49.1 | V5: =J5 -> 3306614.8 | W5: =L5 -> 54595.006
B6: 3 | C6: 3+kk | D6: 83.8 | E6: 78.8 | F6: 3 | G6: 11.4 | H6: 1 garážové | I6: 4757088 | J6: =I6/1.15 -> 4136598.3 | K6: 44000 | L6: =(J6-$P$4*F6-$P$5-$P$6*G6)/E6 -> 43814.699 | N6: Balkon, lodžie, terasa plochy do 15 m2 | O6: m2 | P6: 35000 | S6: =B6 -> 3 | T6: =D6 -> 83.8 | U6: =E6 -> 78.8 | V6: =J6 -> 4136598.3 | W6: =L6 -> 43814.699
B7: 4 | C7: 3+kk | D7: 87.8 | E7: 81.1 | F7: 7.3 | G7: 58.6 | H7: 1 garážové | I7: 5844905 | J7: =I7/1.15 -> 5082526.1 | K7: 47000 | L7: =(J7-$P$4*F7-$P$5-$P$7*G7)/E7 -> 49400.239 | N7: Balkon, lodžie, terasa plochy nad 15 m2 | O7: m2 | P7: =P6/3 -> 11666.667 | S7: =B7 -> 4 | T7: =D7 -> 87.8 | U7: =E7 -> 81.1 | V7: =J7 -> 5082526.1 | W7: =L7 -> 49400.239
B8: 5 | C8: 2+kk | D8: 56.9 | E8: 52.7 | F8: 2.6 | G8: 13.5 | H8: 1 garážové | I8: 3924063 | J8: =I8/1.15 -> 3412228.7 | K8: 53000 | L8: =(J8-$P$4*F8-$P$5-$P$6*G8)/E8 -> 50564.112 | S8: =B8 -> 5 | T8: =D8 -> 56.9 | U8: =E8 -> 52.7 | V8: =J8 -> 3412228.7 | W8: =L8 -> 50564.112
B9: 6 | C9: 3+kk | D9: 88.6 | E9: 83.4 | F9: 3.2 | G9: 58.7 | H9: 1 garážové | I9: 5734611 | J9: =I9/1.15 -> 4986618.3 | K9: 46000 | L9: =(J9-$P$4*F9-$P$5-$P$7*G9)/E9 -> 48102.937 | S9: =B9 -> 6 | T9: =D9 -> 88.6 | U9: =E9 -> 83.4 | V9: =J9 -> 4986618.3 | W9: =L9 -> 48102.937
B10: 7 | C10: 3+kk | D10: 85.7 | E10: 81.2 | F10: =5.2+7.3 -> 12.5 | G10: 4.9 | H10: 1 garážové | I10: 5030205 | J10: =I10/1.15 -> 4374091.3 | K10: 45000 | L10: =(J10-$P$4*F10-$P$5-$P$6*G10)/E10 -> 45321.321 | S10: =B10 -> 7 | T10: =D10 -> 85.7 | U10: =E10 -> 81.2 | V10: =J10 -> 4374091.3 | W10: =L10 -> 45321.321
B11: 8 | C11: 3+kk | D11: 84.6 | E11: 80.3 | F11: 2.9 | G11: 4.5 | H11: 1 garážové | I11: 4711204 | J11: =I11/1.15 -> 4096699.1 | K11: 45000 | L11: =(J11-$P$4*F11-$P$5-$P$6*G11)/E11 -> 45537.972 | S11: =B11 -> 8 | T11: =D11 -> 84.6 | U11: =E11 -> 80.3 | V11: =J11 -> 4096699.1 | W11: =L11 -> 45537.972
H12: Průměrná cena bytu za m2 bez DPH (Kč) | K12: =AVERAGE(K4:K11) -> 47000 | L12: =AVERAGE(L4:L11) -> 47283.657 | V12: Průměr | W12: =L12 -> 47283.657

Sheet Projekt U Starého mlýna
B3: Projekt U Starého mlýna | L3: Cena za přidružené prostory | P3: Zkrácená verze | V3: Ceny sklepů
B4: Ozn. bytu | C4: Dispozice | D4: Podlahová plocha bytu (m2) | E4: Čistá podlahová plocha bytu (m2) | F4: Plocha balkonu, lodžie, terasy (m2) | G4: Plocha předzahrádky (m2) | H4: Cena celkem vč. DPH (Kč) | I4: Cena celkem bez DPH (Kč) | J4: Cena za m2 čisté podlahové plochy bytu bez DPH (Kč) | L4: Název | M4: MJ | N4: Cena bez DPH (Kč) | P4: =B4 -> Ozn. bytu | Q4: Podlahová plocha bytu (m2) | R4: Čistá podlahová plocha bytu (m2) | S4: =I4 -> Cena celkem bez DPH (Kč) | T4: Cena za m2 čisté podlahové plochy bytu bez DPH (Kč) | V4: Ozn. sklepu | W4: Plocha sklepu (m2) | X4: Cena celkem vč. DPH (Kč) | Y4: Cena celkem bez DPH (Kč) | Z4: Cena za m2 plochy sklepu bez DPH (Kč)
B5: 1 | C5: 1+kk | D5: 35.6 | E5: =D5*0.95 -> 33.82 | F5: - | G5: 35 | H5: 2413822 | I5: =H5/1.15 -> 2098975.7 | J5: =(I5-$N$9*G5)/E5 -> 51714.242 | L5: Sklep | M5: m2 | N5: 25000 | P5: =B5 -> 1 | Q5: =D5 -> 35.6 | R5: =E5 -> 33.82 | S5: =I5 -> 2098975.7 | T5: =J5 -> 51714.242 | V5: 1 | W5: 8.17 | X5: 234888 | Y5: =X5/1.15 -> 204250.43 | Z5: =Y5/W5 -> 25000.053
B6: 2 | C6: 1+kk | D6: 35.5 | E6: =D6*0.95 -> 33.725 | F6: 7 | G6: - | H6: 1899470 | I6: =H6/1.15 -> 1651713 | J6: =(I6-$N$7*F6)/E6 -> 41711.284 | L6: Garážové stání | M6: ks | N6: 210000 | P6: =B6 -> 2 | Q6: =D6 -> 35.5 | R6: =E6 -> 33.725 | S6: =I6 -> 1651713 | T6: =J6 -> 41711.284 | V6: 2 | W6: 3.63 | X6: 104363 | Y6: =X6/1.15 -> 90750.435 | Z6: =Y6/W6 -> 25000.12
B7: 3 | C7: 1+kk | D7: 42.8 | E7: =D7*0.95 -> 40.66 | F7: - | G7: 31.68 | H7: 2272237 | I7: =H7/1.15 -> 1975858.3 | J7: =(I7-$N$9*G7)/E7 -> 40803.204 | L7: Balkon, lodžie, terasa plochy do 15 m2 | M7: m2 | N7: 35000 | P7: =B7 -> 3 | Q7: =D7 -> 42.8 | R7: =E7 -> 40.66 | S7: =I7 -> 1975858.3 | T7: =J7 -> 40803.204 | V7: 3 | W7: 5.48 | X7: 157550 | Y7: =X7/1.15 -> 137000 | Z7: =Y7/W7 -> 25000
B8: 4 | C8: 2+kk | D8: 64.7 | E8: =D8*0.95 -> 61.465 | F8: 23.6 | G8: - | H8: 3190486 | I8: =H8/1.15 -> 2774335.7 | J8: =(I8-$N$8*F8)/E8 -> 40657.322 | L8: Balkon, lodžie, terasa plochy nad 15 m2 | M8: m2 | N8: =N7/3 -> 11666.667 | P8: =B8 -> 4 | Q8: =D8 -> 64.7 | R8: =E8 -> 61.465 | S8: =I8 -> 2774335.7 | T8: =J8 -> 40657.322 | V8: 4 | W8: 2.25 | X8: 64687 | Y8: =X8/1.15 -> 56249.565 | Z8: =Y8/W8 -> 24999.807
B9: 5 | C9: 2+kk | D9: 50.8 | E9: =D9*0.95 -> 48.26 | F9: - | G9: 170.27 | H9: 3647855 | I9: =H9/1.15 -> 3172047.8 | J9: =(I9-$N$10*G9)/E9 -> 48087.398 | L9: Předzahrádka plochy do 100 m2 | M9: m2 | N9: 10000 | P9: =B9 -> 5 | Q9: =D9 -> 50.8 | R9: =E9 -> 48.26 | S9: =I9 -> 3172047.8 | T9: =J9 -> 48087.398 | V9: 5 | W9: 2.16 | X9: 62100 | Y9: =X9/1.15 -> 54000 | Z9: =Y9/W9 -> 25000
B10: 6 | C10: 3+kk | D10: 74.4 | E10: =D10*0.95 -> 70.68 | F10: 5.9 | G10: - | H10: 3800507 | I10: =H10/1.15 -> 3304788.7 | J10: =(I10-$N$7*F10)/E10 -> 43835.437 | L10: Předzahrádka plochy nad 100 m2 | M10: m2 | N10: =N9/2 -> 5000 | P10: =B10 -> 6 | Q10: =D10 -> 74.4 | R10: =E10 -> 70.68 | S10: =I10 -> 3304788.7 | T10: =J10 -> 43835.437 | V10: 6 | W10: 2.98 | X10: 85675 | Y10: =X10/1.15 -> 74500 | Z10: =Y10/W10 -> 25000
B11: 7 | C11: 3+kk | D11: 90 | E11: =D11*0.95 -> 85.5 | F11: - | G11: 61.5 | H11: 5424980 | I11: =H11/1.15 -> 4717373.9 | J11: =(I11-$N$9*G11)/E11 -> 47980.981 | P11: =B11 -> 7 | Q11: =D11 -> 90 | R11: =E11 -> 85.5 | S11: =I11 -> 4717373.9 | T11: =J11 -> 47980.981
B12: 8 | C12: 3+kk | D12: 85.6 | E12: =D12*0.95 -> 81.32 | F12: 4.99 | G12: - | H12: 4456893 | I12: =H12/1.15 -> 3875559.1 | J12: =(I12-$N$7*F12)/E12 -> 45510.442 | P12: =B12 -> 8 | Q12: =D12 -> 85.6 | R12: =E12 -> 81.32 | S12: =I12 -> 3875559.1 | T12: =J12 -> 45510.442
G13: Průměrná cena bytu za m2 bez DPH (Kč) | J13: =AVERAGE(J5:J12) -> 45037.539 | S13: Průměr | T13: =J13 -> 45037.539
