{"text_format":"1","workbook":"xlsx","n_sheets":21,"sheets":["Лист1","MainDesign","Kond (k') Desorber","Tubes","Naplne","MassBalance","FlueGas","Inlet diff","pi-LG-fi","pi diff","WHumid","LG diff","MyCurveFit","pi diff (2)","690010","Condens","VLE","LG-qGen","piCO2 diff","PriceList","Sheet1"],"not_rendered":{"charts":16,"images":13,"macros":1,"external_links":0,"defined_names":12,"comments":1,"pivot_tables":0},"unopened":[],"bounds":{"document_bytes":16777216,"sheet_cells":100000,"rows_first":2000,"rows_last":500,"rows_between":2000,"halvings":0,"cell_chars":16384,"cell_head_chars":4096},"cells_cut":0,"cells_raw":0,"read":"whole","date_system":"1900"}

{"sheet":"Лист1","index":0,"n_rows":6,"n_cols":7,"rows_kept":6,"cut":false,"hidden":true,"merged":[]}
[]
[null,"Zkontrolovat fyzikální parametry aminu, jsou li nějaké podmínky pro ohřátí.","Rebioler temp ~120C","A",null,"U","Coef"]
[null,null,null,{"$f":"150*50","v":7500},"mm2",1000,{"$f":"D4*F3","v":75.000000000000014}]
[null,null,null,{"$f":"D3*0.00001","v":7.5000000000000011E-2},"m2",4000,{"$f":"F4*D4","v":300.00000000000006}]
[null,"Zkontrolovat můžeme li schladit to co vypařuje, neni li potřeba dát ještě tam mezichladič."]
[null,"Zkontrolovat kolik vody+aminy můžeme odpařit."]

{"sheet":"MainDesign","index":1,"n_rows":110,"n_cols":20,"rows_kept":110,"cut":false,"hidden":false,"merged":[[52,4,52,5],[52,2,52,3]]}
[]
[null,"Zvolit/vybrat",null,null,null,"Orientacni hodnoty",null,null,null,null,null,null,null,null,null,null,null,null,"L/G","w MEA"]
[null,"Pocita se automaticky",null,null,null,null,null,null,"max vyska kolony/samostatna",null,null,null,null,null,null,null,null,null,2,0.15]
[null,"Tabulky/zdroje dat",null,null,null,null,null,null,"zvoleny prumer kolony",null,null,null,null,null,null,null,null,null,2.5,0.3]
[null,null,null,null,null,null,null,null,null,null,null,null,null,null,null,null,null,null,2.7,0.45]
[null,null,null,null,null,null,null,null,null,null,null,null,null,null,null,null,null,null,3,0.6]
["*","N teor",20,"[1]",null,null,"Typ","F","HETP","ug`","ug","H`","Vst","mst[kg/h]","dp/dz mbar/m","dp mbar","dp Pa",null,3.5]
[null,"rho gas",1.19,"kg/m3",null,"min","EX",0.25,0.02,{"$f":"H8/SQRT($C$9)","v":0.27950849718747373},{"$f":"J8*$C$9","v":0.22360679774997899},{"$f":"I8*$C$7","v":0.4},{"$f":"K8*PI()*$C$11^2/4","v":4.3905092069004554E-4},{"$f":"M8*$C$9*3600","v":1.2644666515873311},1,{"$f":"L8*O8","v":0.4},{"$f":"O8*L8*100","v":40},null,4]
[null,"flooding",0.8,null,null,"min","DX",0.25,0.03,{"$f":"H9/SQRT($C$9)","v":0.27950849718747373},{"$f":"J9*$C$9","v":0.22360679774997899},{"$f":"I9*$C$7","v":0.6},4.3905092069004554E-4,{"$f":"M9*$C$9*3600","v":1.2644666515873311},1,0.6,60]
[null,"Hmax",{"$f":"1.5","v":1.5},"m",null,"min","250Y",1,0.35,1.1180339887498949,0.89442719099991597,7,1.7562036827601822E-3,5.0578666063493243,0.3,2.1,210]
[null,"Dk",0.05,"m",null,"max","EX",1.25,0.06,{"$f":"H11/SQRT($C$9)","v":1.3975424859373686},1.1180339887498949,1.2,2.1952546034502275E-3,{"$f":"M11*$C$9*3600","v":6.3223332579366556},15,{"$f":"L11*O11","v":18},{"$f":"O11*L11*100","v":1800}]
[null,null,null,null,null,"max","DX",2.25,7.0000000000000007E-2,{"$f":"H12/SQRT($C$9)","v":2.5155764746872635},2.0124611797498111,1.4000000000000001,3.9514582862104101E-3,{"$f":"M12*$C$9*3600","v":11.380199864285983},15,{"$f":"L12*O12","v":21.000000000000004},{"$f":"O12*L12*100","v":2100.0000000000005}]
[null,null,null,null,null,"max","250Y",3,0.4,{"$f":"H13/SQRT($C$9)","v":3.3541019662496847},2.6832815729997481,{"$f":"I13*$C$7","v":8},5.2686110482805474E-3,{"$f":"M13*$C$9*3600","v":15.173599819047977},2,{"$f":"L13*O13","v":16},{"$f":"O13*L13*100","v":1600}]
[]
[null,"Vstupni udaje",null,null,null,"Vystupni kratky soupis",null,null,"Prutoky",null,null,null,"Koncentrace"]
["*","Typ naplne","EX",null,null,{"$f":"E65","v":"Q gen"},{"$f":"F65","v":1.4629274391662899},{"$f":"G57","v":"kW"},"absorber","gas in",{"$f":"C27","v":6.32233325793666},{"$f":"D27","v":"kg/h"},{"$f":"#REF!","v":{"$error":"#REF!"}},{"$f":"C45","v":0.3},{"$f":"#REF!","v":{"$error":"#REF!"}}]
[null,"Typ smesi plynu","CoalPlant",null,null,{"$f":"B72","v":"S evap"},{"$f":"C72","v":7.3146371958314499E-2},{"$f":"D72","v":"m2"},null,"liq in",{"$f":"C38","v":25.28933303174664},{"$f":"D38","v":"kg/h"},{"$f":"L32","v":"X"},{"$f":"M32","v":0.94923084984727313},{"$f":"N32","v":"mol CO2/kg lean"}]
[null,"Tlak vstupni",1000,"mbar",null,{"$f":"E67","v":"Q cond"},{"$f":"F67","v":0.28427652880948412},{"$f":"G59","v":"kW"},"desorber","liq in",{"$f":"C39","v":26.628005233174544},{"$f":"D39","v":"kg/h"}]
[null,"L/G pomer",4,null,null,{"$f":"B104","v":"S min"},{"$f":"C104","v":0.10145849051096832},{"$f":"D104","v":"m2"},null,"vap out",{"$f":"C105","v":0.41918492720438583},{"$f":"D105","v":"kg/h"}]
[null,"PiCO2",150,"Nastaveni ve smesi",null,{"$f":"B77","v":"Q HE"},{"$f":"C77","v":1.441182135793809},{"$f":"D77","v":"kW"}]
[null,"Mez min/max","max","F",{"$f":"(C21=\"max\")*INDEX(H11:H13,MATCH(C16,G11:G13,0))+(C21=\"min\")*INDEX(H8:H10,MATCH(C16,G8:G10,0))","v":1.25}]
[null,null,{"$f":"(C21=\"min\")*INDEX(N8:N10,MATCH(C16,G8:G10,0))","v":0},null,null,"Q chiller",{"$f":"C90+C97","v":0.79623683234899767},"kW"]
[null,null,{"$f":"(C21=\"max\")*INDEX(N11:N13,MATCH(C16,G11:G13,0))","v":6.3223332579366556}]
[]
["*","Flue gas inlet",{"$f":"SUM(C22:C23)","v":6.3223332579366556},"kg/h",null,null,null,null,"M MEA",61.08,"g/mol",null,null,null,{"$f":"G27/60*1000000","v":97437.394808303841},"SCCM","standard cubic centimeters per minute"]
[null,"Redukce % inlet",1.0000000000000007,"manualni snizeni vstupniho proudu",null,null,null,null,"M CO2",{"$f":"FlueGas!C10","v":44.01},"g/mol",null,null,null,{"$f":"G27*1000/60","v":97.437394808303836},"SLPM","standard litre per minute"]
[null,"Flue gas inlet red",{"$f":"C25*C26","v":6.32233325793666},"kg/h",{"$f":"C27/WHumid!C28*1000/60","v":97.437394808303836},"l/min",{"$f":"E27*60/1000","v":5.8462436884982303},"m3/h"]
[null,"p i co2",{"$f":"FlueGas!C5","v":150},"mbar"]
[null,"w h20",{"$f":"FlueGas!C6","v":3.0123200882633195E-2},null,{"$f":"WHumid!I18","v":4.9595882319603005E-2},"40oC 0,1Mpa",null,null,"mst MEA",{"$f":"C38*C45","v":7.5867999095239913},"kg MEA/h"]
[null,"mst h2o inlet",{"$f":"C27*C29","v":0.1904489147757788},"kg/h",{"$f":"WHumid!J14","v":7.3606313556600052E-3},"20oC 0,2Mpa",null,null,"nst MEA",{"$f":"J29/J25*1000","v":124.21086950759646},"mol MEA/h"]
[null,"w co2 inlet",{"$f":"FlueGas!C4","v":0.22070844686648503}]
[null,null,null,null,null,null,null,"Lean","nst co2",{"$f":"J30*C47","v":24.00541508579558},"mol CO2/h","X",{"$f":"J32/C38","v":0.94923084984727313},"mol CO2/kg lean"]
[null,"Zbytky v inlet",{"$f":"C27-C30-C37","v":4.7364919892293571},"kg/h",null,null,null,null,"mst co2",{"$f":"J32*J26/1000","v":1.0564783179258634},"kg/h"]
[null,"Clean gas outlet",{"$f":"(C33+C48)/(1-E29)","v":4.9836610565087538},"kg/h",null,null,null,"Rich","nst co2",{"$f":"J30*C46","v":65.769771724164116},"mol CO2/h"]
[null,"mst h20 outlet",{"$f":"C34*E29","v":0.24716906727939653},"kg/h",null,null,null,null,"mst co2 teor",{"$f":"J34*J26/1000","v":2.8945276535804627},"kg/h",null,{"$f":"J37/C39","v":2.0922209989025333},"mol CO2/kg rich"]
[null,null,null,null,null,null,null,null,"mst co2 akt",{"$f":"J33+J40","v":2.4518706718573879},"kg/h"]
[null,"mst co2 inlet",{"$f":"C27*C31","v":1.3953923539315245},"kg/h",null,null,null,null,"nst co2 akt",{"$f":"J36/J26*1000","v":55.711671707734332},"mol CO2/h"]
[null,"mst lean",{"$f":"C27*C19","v":25.28933303174664},"kg/h",{"$f":"C38/60","v":0.42148888386244399},"kg/min"]
[null,"mst rich",{"$f":"C38+J40-(C35-C30)","v":26.628005233174544},"kg/h",{"$f":"C39/60","v":0.44380008721957576},"kg/min",null,"Absorbovane","delta mst co2",{"$f":"J35-J33","v":1.8380493356545993},"kg/h","Maximum co jeste lze dodat do roztoku"]
[null,"mst co2 des outlet",{"$f":"J40","v":1.3953923539315245},"kg/h",{"$f":"C40/C27","v":0.22070844686648503},{"$f":"G27*E40","v":1.2903153644914351},null,"Kontrola","delta mst co2",{"$f":"IF(J39>C37,C37,J39)","v":1.3953923539315245},"kg/h","Aktualne co dodame do roztoku"]
[null,"mst des outlet",{"$f":"C40/(1-E30)","v":1.4057394840557547},"kg/h","Vcetne h20"]
[null,"mst h20 des out",{"$f":"C41-C40","v":1.0347130124230164E-2},null,null,null,null,null,"Fi",{"$f":"J40/C37","v":1}]
[]
[]
["Choose","w MEA",0.3,"vypocet plati pro 30%wt",null,null,null,null,"nst co2 teor",{"$f":"J50*J30","v":69.791005493039549},"mol CO2/h"]
[null,"alfa 40",{"$f":"IF(C45=D54,D59,C59)","v":0.52950093647111762},null,null,null,null,null,"mst co2 teor",{"$f":"J45*J26/1000","v":3.0715021517486703},"kg/h"]
[null,"alfa 120",{"$f":"IF(C45=F54,F59,E59)","v":0.19326340102890482},null,null,null,null,null,"nst CO2 skut",{"$f":"C40/FlueGas!C10*1000","v":31.706256621938753},"mol CO2/h"]
[null,"mst co2 abs outlet",{"$f":"C37-C40","v":0},null,null,null,null,null,"mst co2 skut",{"$f":"C40","v":1.3953923539315245},"kg/h"]
[null,null,null,null,null,null,null,null,null,null,null,null,null,"kontrola"]
[null,null,null,null,null,null,null,null,"alfa teor",{"$f":"C60","v":0.56187518668622871},"mol CO2/ mol MEA",null,null,{"$f":"M32/J51*J25","v":227.13575467485484}]
[null,null,null,null,null,null,null,null,"alfa skut",{"$f":"J47/J30","v":0.25526153023185844},"mol CO2/ mol MEA"]
[null,null,null,null,null,null,null,null,"Fi",{"$f":"J46/C37","v":2.2011745607568356},"Ucinnost"]
[null,null,"plati pro 40oC",null,"plati pro 120oC"]
[null,null,0.3,0.15,0.3,0.15]
[null,"a","4,868052",2.4547620000000001,"83,8223","46,47065"]
[null,"b","12,77238","8,701627","4,921549","5,469199"]
[null,"c","1,810835","0,8854914","6,554695","4,653588","kW","Lepsi fitovani exp dat, rozsah do 200-250 mbar co2"]
[null,"d","960216500","7874,737","2252498000","970342600","kW","Pomer q strip/q generator",null,null,null,"Qc=energie na kondenzace odparene vody"]
[null,"alfa",{"$f":"$C$57*POWER(($C$55-$C$58)/(C28-$C$58)-1,1/$C$56)","v":0.52950093647111762},{"$f":"$D$57*POWER(($D$55-$D$58)/(C28-$D$58)-1,1/$D$56)","v":0.56187518668622871},{"$f":"$E$57*POWER(($E$55-$E$58)/(C28-$E$58)-1,1/$E$56)","v":0.19326340102890482},{"$f":"$F$57*POWER(($F$55-$F$58)/(C28-$F$58)-1,1/$F$56)","v":0.24719399096873818},"kW","Rozdil q generator - q (bez strip)"]
[null,"Choose",{"$f":"D59","v":0.56187518668622871}]
[null,null,null,null,null,null,null,null,"Kohl",2.68,"W/cm2","8500btu/hrft2=26814w/m2=17.3w/in2"]
[null,null,null,null,null,null,null,null,"Notz",2,"W/cm2"]
[]
[]
[null,"q gen",{"$f":" 3.584612 + (19.1416 - 3.584612)/(1 + (C28/20.32905)^2.199038)","v":3.774235086038809},"GJ/t co2","Q gen",{"$f":"C65/3.6*$C$40","v":1.4629274391662899}]
[null,"q cond",{"$f":" C65*(0.2134545 + (0.4407069 - 0.2134545)/(1 + (C28/60.33977)^5.543955))","v":0.81109753845432231},"GJ/t co2","Q cond",{"$f":"C66/3.6*$C$40","v":0.3143886954032894}]
[null,"q cond",{"$f":"C65-(3.006147 + (1478791 - 3.006147)/(1 + (C28/0.09026914)^2.369115))","v":0.73341057146452115},"GJ/t co2","Q cond",{"$f":"C67/3.6*$C$40","v":0.28427652880948412}]
[]
[null,null,null,null,null,null,null,null,"cp MEA",{"$f":"0.62+J70*0.001222","v":0.72081499999999998},"kj/kgK","zdroj: DOW MEA characteristics"]
["*","Evaporator HD",{"$f":"F65","v":1.4629274391662899},"kW",null,null,null,null,"temp mea",{"$f":"(C78+C80)/2","v":82.5}]
[null,"Heat density",20000,"W/m2",null,null,null,null,"w MEA",{"$f":"C45","v":0.3}]
[null,"S evap",{"$f":"C70/C71*1000","v":7.3146371958314499E-2},"m2",null,null,null,null,"cp h20",4.2,"kj/kgK"]
[null,null,null,null,null,null,null,null,"cp total",{"$f":"J69*J71+J72*(1-J71)","v":3.1562445000000001},"kj/kgK"]
[null,null,null,null,null,null,null,null,"Lv h20",2200,"kj/kg"]
[]
["*","Main Heat Exchanger"]
[null,"Q HE",{"$f":"C38*J73/3600*(C81-C80)","v":1.441182135793809},"kW",2,"kW"]
[null,"t lean in",120,"°C","Vystup z desorberu",null,"Zdroj: Alfa Laval"]
[null,"t lean out",{"$f":"C77*3600/C39/J73","v":61.732248911217447},"°C"]
[null,"t rich in",45,"°C"]
[null,"t rich out",110,"°C","Omezeni na vstupu desorberu"]
[null,"dt1",{"$f":"C78-C81","v":10}]
[null,"dt2",{"$f":"C79-C80","v":16.732248911217447}]
[null,"lmtd",{"$f":"(C82-C83)/LN(C82/C83)","v":13.078604777853512}]
[null,"S min",{"$f":"C77*1000/C86/C84","v":0.11019387467340679},"m2",{"$f":"E77*1000/6000","v":0.33333333333333331}]
[null,"k",1000,"w/m2K"]
[]
[]
["*","Podchlazeni na vstupu do absorberu - lean solution"]
[null,"Q cond",{"$f":"C38/3600*J73*(C91-C92)","v":0.48184813694570833},"kW",null,"dt1",{"$f":"C91-C102","v":41.732248911217447}]
[null,"t in",{"$f":"C79","v":61.732248911217447},null,null,"dt2",{"$f":"C92-C101","v":30}]
[null,"t out",40,null,null,"lmtd",{"$f":"(G90-G91)/LN(G90/G91)","v":35.543996999644925}]
[null,"S min",{"$f":"C90*1000/C94/G92","v":1.3556385820945288E-2},"m2"]
[null,"k",1000]
[]
["*","Kondenzace par z desorberu h2o+co2"]
[null,{"$f":"E66","v":"Q cond"},{"$f":"F66","v":0.3143886954032894},{"$f":"G58","v":"kW"},null,null,null,600,null,null,"S",0.2,"m2"]
[null,"Lv=xx% Qcond",0.9,"Zvolit pro pomer",null,null,null,8.69,{"$f":"H98/3600","v":2.4138888888888886E-3},null,"d out",10,"mm"]
[null,"m h20 cond",{"$f":"C97*C98*3600/J74","v":0.46300880595757166},"kg/h",null,null,null,116,null,null,"l",0.4,"m"]
[null,"m ch",{"$f":"C97*3600/(J72*(C102-C101))","v":26.947602463139088},"kg/h",null,null,null,18,null,null,"c",{"$f":"PI()*L98/1000","v":3.1415926535897934E-2}]
[null,"t ch in",10,"°C",null,null,"s",0.15306121748342766,"m2",null,"n prur",{"$f":"L97/(L99*L100)","v":15.915494309189532}]
[null,"t ch out",20,"°C",null,null,"k",{"$f":"H97/H101/(H99-H100)","v":40.000001830997654},null,null,"n tah",{"$f":"L101/2","v":7.9577471545947658}]
[null,"Dopocteno podle ref. prikladu"]
[null,"S min",{"$f":"'Kond (k'') Desorber'!L17","v":0.10145849051096832},{"$f":"'Kond (k'') Desorber'!M17","v":"m2"}]
[null,{"$f":"'Kond (k'') Desorber'!N6","v":"m1"},{"$f":"'Kond (k'') Desorber'!Q6","v":0.41918492720438583},{"$f":"'Kond (k'') Desorber'!R6","v":"kg/h"},"horka strana"]
[null,{"$f":"'Kond (k'') Desorber'!N7","v":"m2"},{"$f":"'Kond (k'') Desorber'!Q7","v":27.076538360091913},{"$f":"'Kond (k'') Desorber'!R7","v":"kg/h"},"chladna strana"]
[]
[null,"qreb",{"$f":"92905","v":92905}]
[null,"Lmea",{"$f":"C39","v":26.628005233174544},"kg/h",{"$f":"C109/1000","v":2.6628005233174545E-2},"m3/h"]
[null,"Q",{"$f":"C108*E109","v":2473.874826188081}]

{"sheet":"Kond (k') Desorber","index":2,"n_rows":111,"n_cols":22,"rows_kept":111,"cut":false,"hidden":false,"merged":[]}
[]
[null,"Referencni VT na kondenzaci par"]
[null,"Zjisteni souc. K pro navrh",null,null,null,null,null,null,null,null,"Prepocet na aktualni hodnoty"]
[null,"Q",11,"kW",{"$f":"C4*1000","v":11000},"W",null,null,null,null,"Q",{"$f":"MainDesign!C97","v":0.3143886954032894},"kW"]
[null,null,null,null,null,null,"120oC 2 Bar"]
[null,"k",100.7061264612434,"W/m2K",null,null,"Vapour enthalpy",2700,"kJ/kg",null,"t1 in",120,null,"m1",{"$f":"L4/H6","v":1.1644025755677384E-4},"kg/s",{"$f":"O6*3600","v":0.41918492720438583},"kg/h"]
[null,"S",3,"m2",null,null,null,null,null,null,"t1 out",20,null,"m2",{"$f":"L4/4.18/(L9-L8)","v":7.5212606555810869E-3},"kg/s",{"$f":"O7*3600","v":27.076538360091913},"kg/h"]
[null,null,null,null,null,null,null,null,null,null,"t2 in",10]
[null,null,null,null,null,null,null,null,null,null,"t2 out",20]
[null,"t1 in",120,null,"m1",{"$f":"C4/H6","v":4.0740740740740737E-3},"kg/s",{"$f":"F10*3600","v":14.666666666666666},"kg/h",null,null,null,null,null,15789,"W"]
[null,"t1 out",20,null,"m2",{"$f":"C4/4.18/(C13-C12)","v":0.26315789473684215},"kg/s",{"$f":"F11*3600","v":947.36842105263167},"kg/h",null,"dt1",{"$f":"L6-L9","v":100},"hot","t1",120.57,"cold","t1",52]
[null,"t2 in",5,null,null,null,null,null,null,null,"dt2",{"$f":"L7-L8","v":10},null,"t1",58,null,"t2",112]
[null,"t2 out",15,null,null,null,null,null,null,null,"lmtd",{"$f":"(L11-L12)/LN(L11/L12)","v":39.086503371292658},null,null,256,"kg/h",{"$f":"O13/3600","v":7.1111111111111111E-2},"kg/s"]
[null,null,null,null,null,null,null,null,null,null,null,null,null,"cp",{"$f":"O10/Q13/(O11-O12)","v":3548.5506233019023}]
[null,"dt1",{"$f":"C10-C13","v":105},null,null,"Q",{"$f":"F11*H6*100","v":71052.631578947374},null,null,null,"k",{"$f":"C19","v":79.277820887438679}]
[null,"dt2",{"$f":"C11-C12","v":15},null,null,null,null,null,null,null,null,null,null,"Q=mcpdt",null,"dt1",{"$f":"O11-R12","v":8.5699999999999932}]
[null,"lmtd",{"$f":"(C15-C16)/LN(C15/C16)","v":46.250850813277566},null,null,null,null,null,null,null,"S",{"$f":"L4*1000/L15/L13","v":0.10145849051096832},"m2","Q=kSLMTD",null,"dt2",{"$f":"O12-R11","v":6}]
[null,null,null,null,null,null,null,null,null,null,null,null,null,null,null,"lmtd",{"$f":"(Q16-Q17)/LN(Q16/Q17)","v":7.2088090627197525}]
[null,"k",{"$f":"E4/C7/C17","v":79.277820887438679},null,null,null,null,null,null,null,null,null,null,null,"S",6]
[null,null,null,null,null,null,null,null,null,null,null,null,null,null,"k",{"$f":"O10/P19/Q18","v":365.03949225243912}]
[]
[null,null,null,null,null,null,null,null,null,null,null,null,"Notz A19",911.7219486794063]
[null,null,null,null,null,null,null,null,null,null,null,null,"Notz A28",207.72302397983151]
[null,"Zdroj fitovani","https://mycurvefit.com/"]
[null,null,null,null,null,null,null,null,null,null,null,null,null,null,"pco2","q des"]
[null,"pRG co2","q g","q strip","q/q","q g (bez q strip)",null,null,null,null,null,null,null,null,35,7.2]
[null,35,7.2,3.1,{"$f":"D27/C27","v":0.43055555555555558},{"$f":"C27-D27","v":4.0999999999999996},null,null,null,null,null,null,null,null,58,5]
[null,58,5,1.7,{"$f":"D28/C28","v":0.33999999999999997},{"$f":"C28-D28","v":3.3},null,null,null,null,null,null,null,null,85,4.2]
[null,85,4.2,1,{"$f":"D29/C29","v":0.23809523809523808},{"$f":"C29-D29","v":3.2},null,null,null,null,null,null,null,null,110,4]
[null,110,4,0.9,{"$f":"D30/C30","v":0.22500000000000001},{"$f":"C30-D30","v":3.1},null,null,null,null,null,null,null,null,135,3.8]
[null,135,3.8,0.8,{"$f":"D31/C31","v":0.2105263157894737},{"$f":"C31-D31","v":3}]
[]
[null,"Aproximace zavislosti na pRG co2"]
[null,"3,584612 + (19,1416 - 3,584612)/(1 + (C29/20,32905)^2,199038)"]
[null,"(0,2134545 + (0,4407069 - 0,2134545)/(1 + (C29/60,33977)^5,543955))"]
[null,"(3,006147 + (1478791 - 3,006147)/(1 + (C29/0,09026914)^2,369115))"]
[]
[]
[null,"RG - Rauchgas - spaliny"]
[]
[]
[]
[]
[]
[]
[]
[]
[]
[]
[null,"A","m2",6,null,null,null,null,null,null,null,null,null,null,null,null,"MEA",null,"CASTOR1",null,"CASTOR2"]
[null,"t1in",null,117.2,null,null,null,null,null,null,null,null,null,null,null,null,2,3.75,2.2999999999999998,4.1500000000000004,1.7,3.63]
[null,"t1out",null,56.9,null,null,null,null,null,null,null,null,null,null,null,null,2.4,3.63,2.5499999999999998,3.8,1.95,3.57]
[null,"t2in","oC",53.53,null,null,null,null,null,null,null,null,null,null,null,null,2.7,3.7,2.9,3.7,2.1,3.65]
[null,"t2out","oC",111.3,null,null,null,null,null,null,null,null,null,null,null,null,3.1,3.7,3.3,3.95,2.5,3.7]
[null,"tstr",null,{"$f":"AVERAGE(D53:D54)","v":82.414999999999992},null,null,null,null,null,null,null,null,null,null,null,null,3.7,3.9,3.6,4.03,2.9,3.83]
[null,"m","kg/h",359]
[null,"mst","kg/s",{"$f":"D56/3600","v":9.9722222222222226E-2}]
[null,"Q","kW",21510]
[null,"wMea",null,0.15944990008038049]
[null,"cp","kj/kgK",{"$f":"(1-D59)*4.2+D59*(0.62+D55*0.0012222)","v":3.645230365540423}]
[null,"Q[]",null,{"$f":"D57*D60*(D54-D53)","v":21.000000000000004}]
[null,"dt1",null,{"$f":"D51-D54","v":5.9000000000000057}]
[null,"dt2",null,{"$f":"D52-D53","v":3.3699999999999974}]
[null,"lmtd",null,{"$f":"(D62-D63)/LN(D62/D63)","v":4.5175376355919461}]
[]
[null,"k`",null,{"$f":"D58/D50/D64","v":793.57390888238763}]
[]
[]
[]
[]
[null,null,null,null,null,null,null,"41 1a_Flo Knuutila 2015 dynamic model verification.pdf"]
[null,null,null,null,null,null,null,"42 1a_Pinto 2014 pilot plant co2 capture experiment.pdf"]
[null,null,null,null,null,null,null,"15 1a_Tobiesen 2007 absorber validation.pdf"]
[null,null,null,null,null,null,null,"25 1a_Notz 2011 pilot plant description and results.pdf"]
[null,null,null,null,null,null,null,null,null,null,null,"Tobiesen, 2007 [xx]"]
[null,null,null,null,null,null,null,"Nina Enaasen Flø a,∗ , Hanna Knuutila a",null,null,null,"Finn Andrew Tobiesen b,∗ , Olav Juliussen b"]
[null,null,null,null,null,null,null,"alfa rich","kW",null,null,"alfa rich","q des"]
[null,null,null,null,null,null,null,0.42,6.8,null,null,0.32,8.2200000000000006]
[null,null,null,null,null,null,null,0.45,9.1999999999999993,null,null,0.32,8.4700000000000006]
[null,null,null,null,null,null,null,0.49,10,null,null,0.31,8.48]
[null,null,null,null,null,null,null,0.41,10.4,null,null,0.31,8.82]
[null,null,null,null,null,null,null,0.49,6.1,null,null,0.26,11.21]
[null,null,null,null,null,null,null,0.44,8.3000000000000007,null,null,0.37,6.58]
[null,null,null,null,null,null,null,null,null,null,null,0.28999999999999998,9.64]
["Notz, 2010 [xx]",null,null,null,null,null,null,null,null,null,null,0.31,7.95]
["alfa rich","q des",null,null,null,null,null,null,null,null,null,0.33,7.52]
[0.38600000000000001,5.01,null,null,null,null,null,null,null,null,null,0.34,7.37]
[0.46400000000000002,3.98,null,null,null,null,null,null,null,null,null,0.4,5.74]
[0.308,7.18,null,null,null,null,null,null,null,null,null,0.39,5.09]
[0.39700000000000002,5.05,null,null,null,null,null,null,null,null,null,0.45,4.66]
[0.44600000000000001,4.1900000000000004,null,null,null,null,null,null,null,null,null,0.46,3.7]
[0.46400000000000002,3.85,null,null,null,null,null,null,null,null,null,0.45,5.34]
[0.47799999999999998,3.91,null,null,null,null,null,null,null,null,null,0.45,4.95]
[0.44400000000000001,4.22,null,null,null,null,null,null,null,null,null,0.43,4.21]
[0.39300000000000002,5.49,null,null,null,null,null,null,null,null,null,0.41,4.74]
[0.40200000000000002,5.65,null,null,null,null,null,null,null,null,null,0.35,6.67]
[0.39600000000000002,5.12]
[0.372,4.91]
[0.4,4.5199999999999996]
[0.36899999999999999,5.48]
[0.35899999999999999,5.81]
[0.41399999999999998,7.38]
[0.371,5.47]
[0.38700000000000001,5.38]
[0.35399999999999998,6.27]
[0.39500000000000002,5.0999999999999996]
[0.4,5.18]
[0.47,3.68]
[0.29699999999999999,9.76]
[0.31,7.16]
[0.318,6.87]

{"sheet":"Tubes","index":3,"n_rows":15,"n_cols":17,"rows_kept":15,"cut":false,"hidden":false,"merged":[]}
["Kapaliny","u str",1,"m/s"]
[null,null,null,null,null,null,null,null,"A min",null,"D min",null,"u akt"]
[null,"m1",{"$f":"MainDesign!C39","v":26.628005233174544},"kg/h",{"$f":"C3/3600","v":7.3966681203262623E-3},"kg/s",{"$f":"E3/$C$6","v":7.3966681203262621E-6},"m3/s",{"$f":"G3/$C$1","v":7.3966681203262621E-6},"m2",{"$f":"SQRT(4*I3/PI())*1000","v":3.0688320824185382},"mm",{"$f":"G3/(PI()*POWER($C$10/1000,2)/4)","v":5.572621508923848E-2},"m/s"]
[null,"m2",{"$f":"MainDesign!C38","v":25.28933303174664},"kg/h",{"$f":"C4/3600","v":7.024814731040733E-3},"kg/s",{"$f":"E4/$C$6","v":7.0248147310407332E-6},"m3/s",{"$f":"G4/$C$1","v":7.0248147310407332E-6},"m2",{"$f":"SQRT(4*I4/PI())*1000","v":2.9906975624424423},"mm",{"$f":"G4/(PI()*POWER($C$10/1000,2)/4)","v":5.2924685857983253E-2},"m/s"]
[]
[null,"rho LM",1000,"kg/m3"]
[]
[null,null,null,null,null,null,null,null,null,null,null,null,"u str","d min","d prov","d min","d prov"]
[null,null,null,null,null,null,null,null,null,null,null,null,"[m/s]","[m]","[m]","[mm]","[mm]"]
[null,"D akt",13,"mm",null,null,null,null,null,null,null,"Vstup, vystup plynne smesi",15,{"$f":"P10/1000","v":1.47E-2},{"$f":"Q10/1000","v":0.02},14.7,20]
[null,null,null,null,null,null,null,null,null,null,null,"Vystup CO2",15,{"$f":"P11/1000","v":7.4000000000000003E-3},{"$f":"Q11/1000","v":1.4999999999999999E-2},7.4,15]
["Plyny","u str",15,"m/s",null,null,null,null,null,null,null,"Pracovni roztok",1,4.2000000000000006E-3,0.01,4.2,10]
[null,null,null,null,null,null,"A min",null,"D min"]
[null,"Vst",{"$f":"MainDesign!G27","v":5.8462436884982303},{"$f":"MainDesign!H27","v":"m3/h"},{"$f":"C14/3600","v":1.6239565801383974E-3},"m3/s",{"$f":"E14/$C$12","v":1.0826377200922649E-4},"m2",{"$f":"SQRT(G14*4/PI())*1000","v":11.740771515719867},"mm"]
[null,null,{"$f":"MainDesign!F40","v":1.2903153644914351},null,{"$f":"C15/3600","v":3.5842093458095421E-4},null,{"$f":"E15/$C$12","v":2.3894728972063613E-5},null,{"$f":"SQRT(G15*4/PI())*1000","v":5.5157695599037115}]

{"sheet":"Naplne","index":4,"n_rows":15,"n_cols":21,"rows_kept":15,"cut":false,"hidden":false,"merged":[[1,2,1,3],[1,5,1,6],[1,8,1,9]]}
[]
[null,null,"EX",null,null,"DX",null,null,"250Y"]
[null,null,"min.","max.",null,"min.","max.",null,"min.","max."]
[null,"Fmax [Pa -0,5]","0,25","1,25",null,"0,25","2,25",null,"1","3",null,null,0.4,1.2]
[null,"HETP","0,02","0,06",null,"0,03","0,07",null,"0,35","0,4",null,null,0.6,1.4000000000000001]
[null,"H [m]",0.4,1.2,null,0.6,1.4,null,7,8,null,null,7,8]
[null,"m [kg/h]",1.2644666515873311,6.3223332579366556,null,1.2644666515873311,11.380199864285983,null,5.0578666063493243,15.173599819047977]
[null,"dp [Pa]",40,1800,null,60,2100.0000000000005,null,210,1600]
[]
[null,null,null,null,null,null,null,null,null,null,null,null,1.2644666515873311,40]
[null,null,null,null,null,null,null,null,null,null,null,null,1.2644666515873311,60]
[null,null,null,null,null,null,null,null,null,null,null,null,5.0578666063493243,210]
[null,null,null,null,null,null,null,null,null,null,null,null,6.3223332579366556,1800,null,1.2644666515873311,6.3223332579366556,1.2644666515873311,11.380199864285983,5.0578666063493243,15.173599819047977]
[null,null,null,null,null,null,null,null,null,null,null,null,11.380199864285983,2100.0000000000005,null,40,1800,60,2100.0000000000005,210,1600]
[null,null,null,null,null,null,null,null,null,null,null,null,15.173599819047977,1600]

{"sheet":"MassBalance","index":5,"n_rows":52,"n_cols":19,"rows_kept":52,"cut":false,"hidden":false,"merged":[[18,10,18,11]]}
[]
["CO2",{"$f":"MainDesign!C48","v":0}]
["H20",{"$f":"MainDesign!C35","v":0.24716906727939653},null,null,{"$f":"MainDesign!M32","v":0.94923084984727313},null,null,null,null,null,null,"Priprava tabulky pro textovou cast"]
["MEA",0,null,null,{"$f":"MainDesign!C38","v":25.28933303174664},null,null,null,null,null,null,"jednotka","kg/h"]
["Total",{"$f":"MainDesign!C34","v":4.9836610565087538},null,null,null,null,null,"CO2",{"$f":"MainDesign!C40","v":1.3953923539315245},null,"Podminky",null,"Napln",{"$f":"MainDesign!C16","v":"EX"}]
[null,null,"X","CO2",{"$f":"MainDesign!J33","v":1.0564783179258634},5,null,"H20",{"$f":"I8-I5","v":1.0347130124230164E-2},null,null,null,"p co2",{"$f":"MainDesign!C20","v":150}]
[null,null,"mrozt","H20",{"$f":"E9-E8-E6-I6","v":16.635707674172554},null,null,"MEA",0,null,null,null,"L/G",{"$f":"MainDesign!C19","v":4}]
[null,null,"mco2","MEA",{"$f":"MainDesign!J29","v":7.5867999095239913},null,null,"Total",{"$f":"MainDesign!C41","v":1.4057394840557547},null,null,null,"F",{"$f":"MainDesign!E21","v":1.25}]
[2,null,null,"Total",{"$f":"MainDesign!C38","v":25.28933303174664},4,null,null,null,null,null,null,"omega",0.3]
[null,null,null,null,null,null,null,null,null,null,"Proud",1,2,3,4,5]
[null,null,null,"Lean",null,null,null,null,null,null,"CO2",{"$f":"B20","v":1.3953923539315245},{"$f":"B2","v":0},{"$f":"E17","v":2.4518706718573879},{"$f":"E6","v":1.0564783179258634},{"$f":"I5","v":1.3953923539315245}]
[null,null,"Fi",{"$f":"MainDesign!J42","v":1},"alfa",{"$f":"MainDesign!C46","v":0.52950093647111762},null,null,null,null,"H20",{"$f":"B21","v":0.1904489147757788},{"$f":"B3","v":0.24716906727939653},{"$f":"E18","v":16.589334651793163},{"$f":"E7","v":16.635707674172554},{"$f":"I6","v":1.0347130124230164E-2}]
[null,null,"Absorbovane",{"$f":"MainDesign!J40","v":1.3953923539315245},"alfa",{"$f":"MainDesign!C47","v":0.19326340102890482},null,null,null,null,"MEA",{"$f":"B22","v":0},{"$f":"B4","v":0},{"$f":"E19","v":7.5867999095239913},{"$f":"E8","v":7.5867999095239913},{"$f":"I7","v":0}]
[null,null,null,"Rich",null,null,null,null,null,null,"Inerty",{"$f":"L15-SUM(L11:L13)","v":4.7364919892293518},{"$f":"M15-SUM(M11:M13)","v":4.7364919892293571},0,0,0]
[null,null,null,null,null,null,null,null,null,null,"Total",{"$f":"B23","v":6.3223332579366556},{"$f":"B5","v":4.9836610565087538},{"$f":"E20","v":26.628005233174544},{"$f":"E9","v":25.28933303174664},{"$f":"I8","v":1.4057394840557547}]
[null,null,3]
[null,null,"mco2 teor","CO2",{"$f":"MainDesign!J36","v":2.4518706718573879}]
[1,null,"mco2 akt","H20",{"$f":"E20-E19-E17","v":16.589334651793163}]
[null,null,"mrozt","MEA",{"$f":"E8","v":7.5867999095239913},null,null,null,null,null,"Varianty",null,1,2,3,4,5,6,7]
["CO2",{"$f":"MainDesign!C37","v":1.3953923539315245},"X","Total",{"$f":"MainDesign!C39","v":26.628005233174544},null,null,null,null,{"$f":"N5","v":"EX"},"Napln",null,"EX","EX","EX","EX","EX","DX","DX"]
["H20",{"$f":"MainDesign!C30","v":0.1904489147757788},null,null,null,null,null,null,null,{"$f":"N6","v":150},"p co2","[mbar]",150,150,150,150,300,150,300]
["MEA",null,null,null,{"$f":"MainDesign!J35","v":2.8945276535804627},null,null,null,null,{"$f":"N7","v":4},"L/G","[-]",2,2,3,4,4,2,2]
["Total",{"$f":"MainDesign!C25","v":6.3223332579366556},null,null,{"$f":"MainDesign!C39","v":26.628005233174544},null,null,null,null,{"$f":"N8","v":1.25},"F",null,0.25,1.25,1.25,1.25,1.25,2.25,2.25]
[null,null,null,null,{"$f":"MainDesign!M35","v":2.0922209989025333},null,null,null,null,{"$f":"N9*100","v":30},"omega",null,30,30,30,30,30,30,30]
[null,null,null,null,null,null,null,null,null,{"$f":"B23","v":6.3223332579366556},"m inlet","[kg/h]",1.2644666515873311,6.3223332579366556,6.3223332579366556,6.3223332579366556,6.3223332579366556,11.380199864285983,11.380199864285983]
[null,null,"Energie",null,null,null,null,null,null,{"$f":"I5","v":1.3953923539315245},"m co2 outlet","[kg/h]",8.6010558275540022E-2,0.43005279137770008,0.64507918706655032,0.86010558275540017,0.87256621620760932,1.6542444020891396,1.5445630280943754]
[null,null,"Qdes",{"$f":"MainDesign!C70","v":1.4629274391662899},null,null,null,null,null,{"$f":"F12","v":0.52950093647111762},"alfa lean","mol/mol",0.56187518668622871,0.56187518668622871,0.56187518668622871,0.56187518668622871,0.61041708548428542,0.52950093647111762,0.55975901474701439]
[null,null,"Qcond",{"$f":"MainDesign!C97","v":0.3143886954032894},null,null,null,null,null,{"$f":"D12*100","v":100},"Fi","[%]",30.819488881820561,30.819488881820554,46.229233322730849,61.638977763641108,33.774743944394906,65.861380509785889,33.214429786326441]
[null,null,"Qchlad",{"$f":"MainDesign!C90","v":0.48184813694570833},null,null,null,null,null,{"$f":"D27","v":1.4629274391662899},"Qdes","kW",9.0173351892591333E-2,0.45086675946295668,0.67630013919443521,0.90173351892591336,0.87894229447650951,1.7343075731244784,1.5558495695343846]
[null,null,null,null,null,null,null,null,null,{"$f":"D28","v":0.3143886954032894},"Qcond","kW",1.9378597805103485E-2,9.689298902551742E-2,0.14533948353827617,0.19378597805103484,0.18764166357468764,0.37270932292676201,0.33215172751843947]
[null,null,null,null,null,null,null,null,null,{"$f":"D29","v":0.48184813694570833},"Qchlad","kW",4.782123619768034E-2,0.23910618098840172,0.35489618580599375,0.47069865852999132,0.47080103855924016,0.32482084439487102,0.33144130115649489]
[]
[]
[]
[]
[]
[null,null,"Napln",null,{"$f":"N5","v":"EX"}]
[null,null,"L/G",null,{"$f":"J22","v":4}]
[null,null,"F",null,{"$f":"K23","v":"F"}]
[null,null,"dpz","[Pa]",{"$f":"MainDesign!Q11","v":1800}]
[null,null,"w",null,{"$f":"J24","v":30}]
[null,null,"mst inlet","[kg/h]",{"$f":"B23","v":6.3223332579366556}]
[null,null,"pco2","[mbar]",{"$f":"J21","v":150}]
[null,null,"mst co2 outlet","[kg/h]",{"$f":"J26","v":1.3953923539315245}]
[null,null,"Fi","[%]",{"$f":"J28","v":100}]
[null,null,"m rozt","[kg]"]
[null,null,"Qdes","[kW]",{"$f":"J29","v":1.4629274391662899}]
[null,null,"S evap",null,{"$f":"MainDesign!C72","v":7.3146371958314499E-2}]
[null,null,"QVT1","[kW]",{"$f":"MainDesign!C77","v":1.441182135793809}]
[null,null,"Q kond","[kW]",{"$f":"J30","v":0.3143886954032894}]
[null,null,"S kond",null,{"$f":"MainDesign!C104","v":0.10145849051096832}]
[null,null,"Qchlad","[kW]",{"$f":"J31","v":0.48184813694570833}]

{"sheet":"FlueGas","index":6,"n_rows":18,"n_cols":20,"rows_kept":18,"cut":false,"hidden":false,"merged":[]}
[]
[null,"Vybrany typ",{"$f":"MainDesign!C17","v":"CoalPlant"},null,null,null,{"$f":"MainDesign!C20","v":150},{"$f":"G2/1000","v":0.15},null,null,"Molove slozeni smesi plynu"]
[null,"Tlak inlet",{"$f":"MainDesign!C18","v":1000},null,null,null,null,null,null,null,"Zdroj/Typ","CoalPlant","GasPlant","Column1","Syngas","SyngasTampa","NaturalGas","Mix","Biogas1","Biogas2"]
[null,"w co2 inlet",{"$f":"E10","v":0.22070844686648503},null,null,null,null,null,null,null,"CO2",{"$f":"H2","v":0.15},0.05,0.01,0.17,0.14000000000000001,0.01,0.15,0.2,0.5]
[null,"p I co2",{"$f":"H10","v":150},"mbar",null,null,null,null,null,null,"N2",{"$f":"L15-L4-L8","v":0.79999999999999993},{"$f":"L15-M4-M8-M7","v":0.77189486336735946},0.99,null,null,7.0000000000000007E-2,0.8]
[null,"w h20 inlet",{"$f":"E14","v":3.0123200882633195E-2},{"$f":"WHumid!E2","v":4.9595882319603005E-2},"Vypocet z WHumid",null,null,null,null,null,"H2",null,null,null,0.35,0.28999999999999998]
[null,null,null,null,null,null,null,null,null,null,"O2",null,0.1]
[null,"Tabulka prepoctu hmotnostniho slozeni",null,null,null,null,null,null,null,null,"H2O",0.05,7.8105136632640473E-2,null,null,0.2,null,0.05]
[null,null,"M","m","c m","n","c n","pi",null,null,"CO",null,null,null,0.46,0.35]
[null,"CO2",44.01,{"$f":"F10*C10","v":6.6014999999999997},{"$f":"D10/$D$18","v":0.22070844686648503},{"$f":"INDEX(Table2[],MATCH(B10,Table2[Zdroj/Typ],0),MATCH($C$2,TypPlynu,0)+1)","v":0.15},{"$f":"F10/$F$18","v":0.15},{"$f":"$C$3*G10","v":150},null,null,"CH4",null,null,null,0.02,0.02,0.82,null,0.8,0.5]
[null,"N2",28.01,{"$f":"F11*C11","v":22.407999999999998},{"$f":"D11/$D$18","v":0.74916835225088185},{"$f":"INDEX(Table2[],MATCH(B11,Table2[Zdroj/Typ],0),MATCH($C$2,TypPlynu,0)+1)","v":0.79999999999999993},{"$f":"F11/$F$18","v":0.79999999999999993},{"$f":"$C$3*G11","v":799.99999999999989},null,null,"C2H6 C4H8 …",null,null,null,null,null,0.1]
[null,"H2",2,0,0,{"$f":"INDEX(Table2[],MATCH(B12,Table2[Zdroj/Typ],0),MATCH($C$2,TypPlynu,0)+1)","v":0},0,{"$f":"$C$3*G12","v":0},null,null,"Total",{"$f":"SUBTOTAL(109,Table2[CoalPlant])","v":1},{"$f":"SUBTOTAL(109,Table2[GasPlant])","v":1},{"$f":"SUBTOTAL(109,Table2[Column1])","v":1},{"$f":"SUBTOTAL(109,Table2[Syngas])","v":1},{"$f":"SUBTOTAL(109,Table2[SyngasTampa])","v":1},{"$f":"SUBTOTAL(109,Table2[NaturalGas])","v":0.99999999999999989},{"$f":"SUBTOTAL(109,Table2[Mix])","v":1},{"$f":"SUBTOTAL(109,Table2[Biogas1])","v":1},{"$f":"SUBTOTAL(109,Table2[Biogas2])","v":1}]
[null,"O2",32,0,0,{"$f":"INDEX(Table2[],MATCH(B13,Table2[Zdroj/Typ],0),MATCH($C$2,TypPlynu,0)+1)","v":0},0,0]
[null,"H2O",18.02,{"$f":"F14*C14","v":0.90100000000000002},{"$f":"D14/$D$18","v":3.0123200882633195E-2},{"$f":"INDEX(Table2[],MATCH(B14,Table2[Zdroj/Typ],0),MATCH($C$2,TypPlynu,0)+1)","v":0.05},0.05,{"$f":"$C$3*G14","v":50}]
[null,"CO",28.01,0,0,{"$f":"INDEX(Table2[],MATCH(B15,Table2[Zdroj/Typ],0),MATCH($C$2,TypPlynu,0)+1)","v":0},0,0,null,null,"!",1]
[null,"CH4",16.04,0,0,{"$f":"INDEX(Table2[],MATCH(B16,Table2[Zdroj/Typ],0),MATCH($C$2,TypPlynu,0)+1)","v":0},0,0]
[]
[null,"Kontoly/sumy",null,{"$f":"SUM(D10:D16)","v":29.910499999999995},{"$f":"SUM(E10:E16)","v":1},{"$f":"SUM(F10:F16)","v":1},null,{"$f":"SUM(H10:H16)","v":999.99999999999989}]

{"sheet":"Inlet diff","index":7,"n_rows":96,"n_cols":15,"rows_kept":96,"cut":false,"hidden":false,"merged":[]}
["inlet","Flue gas inlet red","mst co2 inlet","mst co2 outlet","Qdes","Qcond","Qchlad","Fi",null,"mst co2 lean","mst co2 rich",null,"absorbovane","x lean","x rich"]
[{"$f":"MainDesign!C26","v":1.0000000000000007},{"$f":"MainDesign!C27","v":6.32233325793666},{"$f":"MassBalance!B20","v":1.3953923539315245},{"$f":"MainDesign!C40","v":1.3953923539315245},{"$f":"MassBalance!D27","v":1.4629274391662899},{"$f":"MassBalance!D28","v":0.3143886954032894},{"$f":"MassBalance!D29","v":0.48184813694570833},{"$f":"MassBalance!D12","v":1},null,{"$f":"MassBalance!E6","v":1.0564783179258634},{"$f":"MassBalance!E17","v":2.4518706718573879},null,{"$f":"MassBalance!D13","v":1.3953923539315245},{"$f":"MassBalance!E3","v":0.94923084984727313},{"$f":"MassBalance!E24","v":2.0922209989025333}]
[]
[]
["inlet","Flue gas inlet red","mst co2 inlet","mst co2 outlet","Qdes","Qcond","Qchlad","Fi"]
[0.1,0.63223332579366565,0.13953923539315238,0.13953923539315238,0.14629274391662891,3.1438869540328929E-2,3.7667060070930403E-2,1]
[0.11,0.69545665837303217,0.15349315893246759,0.15349315893246759,0.16092201830829178,3.4582756494361815E-2,4.1433766078023404E-2,1]
[0.12,0.75867999095239869,0.16744708247178283,0.16744708247178283,0.17555129269995468,3.7726643448394707E-2,4.5200472085116454E-2,1]
[0.13,0.82190332353176521,0.18140100601109804,0.18140100601109804,0.19018056709161754,4.0870530402427593E-2,4.896717809220949E-2,1]
[0.14000000000000001,0.88512665611113184,0.19535492955041331,0.19535492955041331,0.20480984148328046,4.4014417356460493E-2,5.2733884099302554E-2,1]
[0.15000000000000002,0.94834998869049847,0.20930885308972855,0.20930885308972855,0.21943911587494336,4.7158304310493386E-2,5.6500590106395548E-2,1]
[0.16000000000000003,1.011573321269865,0.22326277662904379,0.22326277662904379,0.23406839026660625,5.0302191264526279E-2,6.0267296113488633E-2,1]
[0.17000000000000004,1.0747966538492317,0.23721670016835905,0.23721670016835905,0.24869766465826917,5.3446078218559179E-2,6.4034002120581662E-2,1]
[0.18000000000000005,1.1380199864285983,0.25117062370767429,0.25117062370767429,0.2633269390499321,5.6589965172592072E-2,6.7800708127674719E-2,1]
[0.19000000000000006,1.201243319007965,0.26512454724698958,0.26512454724698958,0.27795621344159505,5.9733852126624971E-2,7.1567414134767776E-2,1]
[0.20000000000000007,1.2644666515873315,0.27907847078630477,0.27907847078630477,0.29258548783325783,6.2877739080657857E-2,7.533412014186075E-2,1]
[0.21000000000000008,1.3276899841666983,0.29303239432562006,0.29303239432562006,0.30721476222492083,6.6021626034690764E-2,7.9100826148953834E-2,1]
[0.22000000000000008,1.3909133167460648,0.3069863178649353,0.3069863178649353,0.32184403661658367,6.9165512988723657E-2,8.2867532156046864E-2,1]
[0.23000000000000009,1.4541366493254313,0.32094024140425054,0.32094024140425054,0.33647331100824657,7.230939994275655E-2,8.6634238163139879E-2,1]
[0.2400000000000001,1.517359981904798,0.33489416494356578,0.33489416494356578,0.35110258539990946,7.5453286896789443E-2,9.0400944170232936E-2,1]
[0.25000000000000011,1.5805833144841646,0.34884808848288101,0.34884808848288101,0.36573185979157236,7.8597173850822336E-2,9.4167650177325979E-2,1]
[0.26000000000000012,1.6438066470635313,0.36280201202219631,0.36280201202219631,0.38036113418323531,8.1741060804855242E-2,9.7934356184419036E-2,1]
[0.27000000000000013,1.7070299796428978,0.37675593556151155,0.37675593556151155,0.3949904085748982,8.4884947758888135E-2,0.10170106219151208,1]
[0.28000000000000014,1.7702533122222643,0.39070985910082673,0.39070985910082673,0.40961968296656104,8.8028834712921014E-2,0.10546776819860511,1]
[0.29000000000000015,1.8334766448016311,0.40466378264014202,0.40466378264014202,0.42424895735822399,9.1172721666953921E-2,0.10923447420569811,1]
[0.30000000000000016,1.8966999773809976,0.41861770617945726,0.41861770617945726,0.43887823174988688,9.4316608620986814E-2,0.11300118021279124,1]
[0.31000000000000016,1.9599233099603643,0.43257162971877255,0.43257162971877255,0.45350750614154983,9.7460495575019707E-2,0.11676788621988425,1]
[0.32000000000000017,2.0231466425397309,0.44652555325808774,0.44652555325808774,0.46813678053321267,0.10060438252905259,0.12053459222697731,1]
[0.33000000000000018,2.0863699751190974,0.46047947679740298,0.46047947679740298,0.48276605492487557,0.10374826948308548,0.12430129823407032,1]
[0.34000000000000019,2.1495933076984639,0.47443340033671821,0.47443340033671821,0.49739532931653846,0.10689215643711837,0.12806800424116335,1]
[0.3500000000000002,2.2128166402778309,0.48838732387603356,0.48838732387603356,0.51202460370820146,0.11003604339115129,0.13183471024825641,1]
[0.36000000000000021,2.2760399728571974,0.5023412474153488,0.5023412474153488,0.52665387809986441,0.11317993034518418,0.13560141625534947,1]
[0.37000000000000022,2.3392633054365639,0.51629517095466404,0.51629517095466404,0.54128315249152725,0.11632381729921708,0.1393681222624425,1]
[0.38000000000000023,2.4024866380159304,0.53024909449397928,0.53024909449397928,0.5559124268831902,0.11946770425324997,0.14313482826953558,1]
[0.39000000000000024,2.465709970595297,0.54420301803329441,0.54420301803329441,0.57054170127485293,0.12261159120728284,0.14690153427662858,1]
[0.40000000000000024,2.5289333031746639,0.55815694157260975,0.55815694157260975,0.58517097566651599,0.12575547816131577,0.15066824028372161,1]
[0.41000000000000025,2.5921566357540304,0.57211086511192499,0.57211086511192499,0.59980025005817883,0.12889936511534866,0.15443494629081458,1]
[0.42000000000000026,2.655379968333397,0.58606478865124023,0.58606478865124023,0.61442952444984178,0.13204325206938156,0.1582016522979077,1]
[0.43000000000000027,2.7186033009127635,0.60001871219055547,0.60001871219055547,0.62905879884150462,0.13518713902341445,0.16196835830500064,1]
[0.44000000000000028,2.7818266334921304,0.61397263572987082,0.61397263572987082,0.64368807323316768,0.13833102597744734,0.16573506431209387,1]
[0.45000000000000029,2.845049966071497,0.62792655926918606,0.62792655926918606,0.65831734762483052,0.14147491293148023,0.16950177031918676,1]
[0.4600000000000003,2.9082732986508635,0.64188048280850118,0.64188048280850118,0.67294662201649336,0.14461879988551313,0.17326847632627992,1]
[0.47000000000000031,2.97149663123023,0.65583440634781642,0.65583440634781642,0.6875758964081562,0.14776268683954602,0.17703518233337298,1]
[0.48000000000000032,3.0347199638095965,0.66978832988713166,0.66978832988713166,0.70220517079981903,0.15090657379357891,0.18080188834046593,1]
[0.49000000000000032,3.0979432963889635,0.68374225342644701,0.68374225342644701,0.71683444519148209,0.15405046074761181,0.1845685943475589,1]
[0.50000000000000033,3.16116662896833,0.69769617696576225,0.69769617696576225,0.73146371958314493,0.1571943477016447,0.18833530035465201,1]
[0.51000000000000034,3.2243899615476965,0.71165010050507749,0.71165010050507749,0.74609299397480788,0.16033823465567759,0.19210200636174499,1]
[0.52000000000000035,3.287613294127063,0.72560402404439273,0.72560402404439273,0.76072226836647072,0.16348212160971048,0.19586871236883821,1]
[0.53000000000000036,3.3508366267064296,0.73955794758370796,0.73955794758370796,0.77535154275813367,0.16662600856374338,0.19963541837593121,1]
[0.54000000000000037,3.4140599592857965,0.7535118711230232,0.7535118711230232,0.78998081714979651,0.16976989551777627,0.20340212438302421,1]
[0.55000000000000038,3.4772832918651631,0.76746579466233844,0.76746579466233844,0.80461009154145946,0.17291378247180916,0.20716883039011724,1]
[0.56000000000000039,3.5405066244445296,0.78141971820165368,0.78141971820165368,0.8192393659331223,0.17605766942584206,0.21093553639720999,1]
[0.5700000000000004,3.6037299570238961,0.79537364174096892,0.79537364174096892,0.83386864032478525,0.17920155637987495,0.21470224240430322,1]
[0.5800000000000004,3.6669532896032626,0.80932756528028416,0.80932756528028416,0.84849791471644809,0.18234544333390784,0.21846894841139633,1]
[0.59000000000000041,3.7301766221826296,0.82328148881959951,0.82328148881959951,0.86312718910811115,0.18548933028794076,0.22223565441848939,1]
[0.60000000000000042,3.7933999547619961,0.83723541235891474,0.83723541235891474,0.87775646349977399,0.18863321724197366,0.22600236042558233,1]
[0.61000000000000043,3.8566232873413626,0.85118933589822998,0.85118933589822998,0.89238573789143694,0.19177710419600655,0.22976906643267545,1]
[0.62000000000000044,3.9198466199207291,0.86514325943754522,0.86514325943754522,0.90701501228309978,0.19492099115003944,0.23353577243976842,1]
[0.63000000000000045,3.9830699525000957,0.87909718297686035,0.87909718297686035,0.92164428667476261,0.19806487810407231,0.23730247844686148,1]
[0.64000000000000046,4.0462932850794626,0.8930511065161757,0.8930511065161757,0.93627356106642556,0.20120876505810523,0.24106918445395459,1]
[0.65000000000000047,4.1095166176588291,0.90700503005549094,0.90700503005549094,0.95090283545808851,0.20435265201213812,0.24483589046104764,1]
[0.66000000000000048,4.1727399502381957,0.92095895359480617,0.92095895359480617,0.96553210984975135,0.20749653896617101,0.2486025964681407,1]
[0.67000000000000048,4.2359632828175622,0.93491287713412141,0.93491287713412141,0.9801613842414143,0.21064042592020391,0.2523693024752337,1]
[0.68000000000000049,4.2991866153969287,0.94886680067343665,0.94886680067343665,0.99479065863307714,0.2137843128742368,0.25613600848232687,1]
[0.6900000000000005,4.3624099479762952,0.96282072421275189,0.96282072421275189,1.00941993302474,0.21692819982826969,0.25990271448941987,1]
[0.70000000000000051,4.4256332805556617,0.97677464775206713,0.97677464775206713,1.0240492074164029,0.22007208678230258,0.26366942049651282,1]
[0.71000000000000052,4.4888566131350291,0.99072857129138248,0.99072857129138248,1.0386784818080659,0.2232159737363355,0.26743612650360593,1]
[0.72000000000000053,4.5520799457143957,1.0046824948306978,1.0046824948306978,1.0533077561997291,0.22635986069036843,0.27120283251069904,1]
[0.73000000000000054,4.6153032782937622,1.018636418370013,1.018636418370013,1.0679370305913918,0.22950374764440129,0.2749695385177921,1]
[0.74000000000000055,4.6785266108731287,1.0325903419093281,1.0325903419093281,1.0825663049830545,0.23264763459843416,0.27873624452488516,1]
[0.75000000000000056,4.7417499434524952,1.0465442654486434,1.0465442654486434,1.0971955793747175,0.23579152155246708,0.28250295053197794,1]
[0.76000000000000056,4.8049732760318618,1.0604981889879586,1.0604981889879586,1.1118248537663804,0.23893540850649994,0.28626965653907105,1]
[0.77000000000000057,4.8681966086112283,1.0744521125272739,1.0744521125272739,1.1264541281580434,0.24207929546053286,0.29003636254616405,1]
[0.78000000000000058,4.9314199411905948,1.088406036066589,1.088406036066589,1.1410834025497061,0.24522318241456573,0.29380306855325683,1]
[0.79000000000000059,4.9946432737699613,1.1023599596059044,1.1023599596059044,1.155712676941369,0.24836706936859865,0.29756977456035016,1]
[0.8000000000000006,5.0578666063493278,1.1163138831452195,1.1163138831452195,1.170341951333032,0.25151095632263154,0.30133648056744322,1]
[0.81000000000000061,5.1210899389286952,1.1302678066845351,1.1302678066845351,1.1849712257246952,0.25465484327666449,0.30510318657453633,1]
[0.82000000000000062,5.1843132715080618,1.1442217302238502,1.1442217302238502,1.1996005001163579,0.25779873023069738,0.30886989258162934,1]
[0.83000000000000063,5.2475366040874283,1.1581756537631653,1.1581756537631653,1.2142297745080206,0.26094261718473022,0.31263659858872256,1]
[0.84000000000000064,5.3107599366667948,1.1721295773024807,1.1721295773024807,1.2288590488996838,0.26408650413876317,0.31640330459581534,1]
[0.85000000000000064,5.3739832692461613,1.1860835008417958,1.1860835008417958,1.2434883232913465,0.267230391092796,0.32017001060290834,1]
[0.86000000000000065,5.4372066018255278,1.2000374243811112,1.2000374243811112,1.2581175976830095,0.2703742780468289,0.32393671661000151,1]
[0.87000000000000066,5.5004299344048944,1.2139913479204263,1.2139913479204263,1.2727468720746722,0.27351816500086179,0.3277034226170944,1]
[0.88000000000000067,5.5636532669842609,1.2279452714597416,1.2279452714597416,1.2873761464663354,0.27666205195489468,0.33147012862418773,1]
[0.89000000000000068,5.6268765995636274,1.2418991949990568,1.2418991949990568,1.3020054208579981,0.27980593890892758,0.33523683463128051,1]
[0.90000000000000069,5.6900999321429939,1.2558531185383721,1.2558531185383721,1.316634695249661,0.28294982586296047,0.33900354063837351,1]
[0.9100000000000007,5.7533232647223613,1.2698070420776875,1.2698070420776875,1.331263969641324,0.28609371281699342,0.34277024664546685,1]
[0.92000000000000071,5.8165465973017279,1.2837609656170026,1.2837609656170026,1.3458932440329869,0.28923759977102625,0.34653695265255974,1]
[0.93000000000000071,5.8797699298810944,1.2977148891563179,1.2977148891563179,1.3605225184246499,0.2923814867250592,0.35030365865965268,1]
[0.94000000000000072,5.9429932624604609,1.3116688126956331,1.3116688126956331,1.3751517928163126,0.29552537367909204,0.35407036466674585,1]
[0.95000000000000073,6.0062165950398274,1.3256227362349484,1.3256227362349484,1.3897810672079756,0.29866926063312499,0.35783707067383902,1]
[0.96000000000000074,6.0694399276191939,1.3395766597742635,1.3395766597742635,1.4044103415996385,0.30181314758715783,0.36160377668093191,1]
[0.97000000000000075,6.1326632601985605,1.3535305833135789,1.3535305833135789,1.4190396159913015,0.30495703454119077,0.36537048268802497,1]
[0.98000000000000076,6.195886592777927,1.367484506852894,1.367484506852894,1.4336688903829642,0.30810092149522361,0.3691371886951178,1]
[0.99000000000000077,6.2591099253572935,1.3814384303922094,1.3814384303922094,1.4482981647746271,0.31124480844925656,0.37290389470221119,1]
[1.0000000000000007,6.32233325793666,1.3953923539315245,1.3953923539315245,1.4629274391662899,0.3143886954032894,0.37667060070930403,1]

{"sheet":"pi-LG-fi","index":8,"n_rows":17,"n_cols":13,"rows_kept":17,"cut":false,"hidden":false,"merged":[]}
["Qdes",{"$f":"MainDesign!C70","v":1.4629274391662899},"lg"]
[null,null,2,2.2000000000000002,2.4000000000000004,2.6000000000000005,2.8000000000000007,3.0000000000000009,3.2000000000000011,3.4000000000000012,3.6000000000000014,3.8000000000000016,4.0000000000000018]
["pi",100,1.0724242134361099,1.0724242134361099,1.0724242134361099,1.0724242134361099,1.0724242134361099,1.0724242134361099,1.0724242134361099,1.0724242134361099,1.0724242134361099,1.0724242134361099,1.0724242134361099]
[null,110,1.0697569921547359,1.1488490476644366,1.1488490476644366,1.1488490476644366,1.1488490476644366,1.1488490476644366,1.1488490476644366,1.1488490476644366,1.1488490476644366,1.1488490476644366,1.1488490476644366]
[null,120,1.0313974724970034,1.1345372197467039,1.2265366595924039,1.2265366595924039,1.2265366595924039,1.2265366595924039,1.2265366595924039,1.2265366595924039,1.2265366595924039,1.2265366595924039,1.2265366595924039]
[null,130,1.0030374456675346,1.1033411902342884,1.2036449348010416,1.3039486793677955,1.304998341088436,1.304998341088436,1.304998341088436,1.304998341088436,1.304998341088436,1.304998341088436,1.304998341088436]
[null,140,0.98107486981114278,1.0791823567922576,1.1772898437733712,1.2753973307544857,1.3735048177356006,1.383881425474786,1.383881425474786,1.383881425474786,1.383881425474786,1.383881425474786,1.383881425474786]
[null,150,0.96350420729137676,1.0598546280205148,1.156205048749652,1.2525554694787899,1.3489058902079278,1.4452563109370649,1.4629274391662899,1.4629274391662899,1.4629274391662899,1.4629274391662899,1.4629274391662899]
[null,160,0.94909308225526934,1.0440023904807967,1.1389116987063235,1.2338210069318503,1.3287303151573779,1.4236396233829041,1.5185489316084315,1.5419443326935627,1.5419443326935627,1.5419443326935627,1.5419443326935627]
[null,170,0.93703419459650616,1.030737614056157,1.1244410335158075,1.2181444529754586,1.3118478724351093,1.4055512918947597,1.4992547113544104,1.5929581308140612,1.6207877351378064,1.6207877351378064,1.6207877351378064]
[null,180,0.92677398595386029,1.019451384549247,1.1121287831446325,1.2048061817400186,1.2974835803354052,1.3901609789307909,1.4828383775261778,1.5755157761215635,1.6681931747169496,1.6993480710419819,1.6993480710419819]
[null,190,0.91791943445523705,1.0097113779007609,1.1015033213462846,1.1932952647918085,1.2850872082373326,1.3768791516828558,1.4686710951283799,1.5604630385739036,1.6522549820194274,1.7440469254649511,1.7775415496135163]
[null,200,0.9101836277239852,1.0012019904963843,1.0922203532687826,1.1832387160411815,1.2742570788135803,1.3652754415859785,1.4562938043583773,1.5473121671307759,1.638330529903175,1.7293488926755729,1.8203672554479717]
[]
[]
[]
["fi",{"$f":"MainDesign!J42","v":1}]

{"sheet":"pi diff","index":9,"n_rows":69,"n_cols":34,"rows_kept":69,"cut":false,"hidden":false,"merged":[]}
["inlet","Flue gas inlet red","mst co2 inlet","mst co2 outlet","Qdes","Qcond","Fi","Qchlad",null,"mst co2 lean","mst co2 rich",null,"absorbovane","x lean","x rich"]
[{"$f":"MainDesign!C20","v":150},{"$f":"MainDesign!C27","v":6.32233325793666},{"$f":"MassBalance!B20","v":1.3953923539315245},{"$f":"MainDesign!C40","v":1.3953923539315245},{"$f":"MassBalance!D27","v":1.4629274391662899},{"$f":"MassBalance!D28","v":0.3143886954032894},{"$f":"MassBalance!D12","v":1},{"$f":"MassBalance!D29","v":0.48184813694570833},null,{"$f":"MassBalance!E6","v":1.0564783179258634},{"$f":"MassBalance!E17","v":2.4518706718573879},null,{"$f":"MassBalance!D13","v":1.3953923539315245},{"$f":"MassBalance!E3","v":0.94923084984727313},{"$f":"MassBalance!E24","v":2.0922209989025333}]
[null,null,null,null,null,null,null,null,null,null,null,"var.: B",1,1,1,2,2,2,3,3,3,4,4,4,5,5,5,6,6,6]
[null,null,null,null,null,null,null,null,null,"Napln",{"$f":"MainDesign!C16","v":"EX"},"Napln","EX",null,null,"EX",null,null,"DX",null,null,"EX",null,null,"EX",null,null,"DX"]
["inlet","Flue gas inlet red","mst co2 inlet","mst co2 outlet","Qdes","Qcond","Fi","Qchlad",null,"L/G",{"$f":"MainDesign!C19","v":4},"L/G",2,null,null,2,null,null,2,null,null,2,null,null,2,null,null,2]
[50,11.38019986428599,0.88455272077007896,{"$error":"#NUM!"},{"$error":"#NUM!"},{"$error":"#NUM!"},{"$error":"#NUM!"},{"$error":"#NUM!"},null,"F",{"$f":"MainDesign!E21","v":1.25},"F",1.25,null,null,0.25,null,null,2.25,null,null,1.25,null,null,0.25,null,null,2.25]
[60,11.38019986428599,1.0554979983362984,{"$error":"#NUM!"},{"$error":"#NUM!"},{"$error":"#NUM!"},{"$error":"#NUM!"},{"$error":"#NUM!"},null,null,null,"w",0.15,null,null,0.15,null,null,0.15,null,null,0.3,null,null,0.3,null,null,0.3]
[70,11.38019986428599,1.2245326390354991,{"$error":"#NUM!"},{"$error":"#NUM!"},{"$error":"#NUM!"},{"$error":"#NUM!"},{"$error":"#NUM!"},null,null,null,"pCO2","Qdes","Qkond","Fi","Qdes","Qkond","Fi","Qdes","Qkond","Fi","Qdes","Qkond","Fi","Qdes","Qkond","Fi","Qdes","Qkond","Fi"]
[80,11.38019986428599,1.3916884973230097,{"$error":"#NUM!"},{"$error":"#NUM!"},{"$error":"#NUM!"},{"$error":"#NUM!"},{"$error":"#NUM!"},null,null,null,null,{"$f":"CONCATENATE($L$3,M3)","v":"var.: B1"},{"$f":"CONCATENATE($L$3,N3)","v":"var.: B1"},"var.: B1","var.: B2","var.: B2","var.: B2","var.: B3","var.: B3","var.: B3","var.: B4","var.: B4","var.: B4","var.: B5","var.: B5","var.: B5","var.: B6","var.: B6","var.: B6"]
[90,11.38019986428599,1.5569967234572937,1.5569967234572937,1.7963115379991623,0.42354697290945109,1,0.32901890741858597,null,null,null,50,0.74658857660480649,0.2847873074376836,0.99923362916988645,0.1493177153209613,5.695746148753672E-2,0.99923362916988656,1.3438594378886521,0.51261715338783065,0.99923362916988656,{"$f":"V11*$AE10","v":1.8896613098066306},0.41820932776620823,1,{"$f":"Y11*$AE10","v":0.37793226196132618},{"$f":"Z11*$AE10","v":8.3641865553241643E-2},1,{"$f":"AB11*$AE10","v":3.4013903576519344},{"$f":"AC11*$AE10","v":0.75277678997917474},1,1.1499999999999999,null,{"$f":"O10*100","v":99.923362916988651},{"$f":"X10*100","v":100}]
[100,11.38019986428599,1.720487782852326,1.720487782852326,1.9303635841849982,0.4371754369620926,1,0.32114798403790723,null,null,null,60,0.62008826943332007,0.2039216962821416,0.77652987592333278,0.12401765388666404,4.0784339256428333E-2,0.776529875923333,1.1161588849799762,0.36705905330785488,0.77652987592333256,1.6431837476579398,0.36366028501409414,1,0.328636749531588,7.2732057002818831E-2,1,2.957730745784291,0.65458851302536936,1,1.1299999999999999,null,{"$f":"O11*100","v":77.652987592333275},{"$f":"X11*100","v":100}]
[110,11.38019986428599,1.8821914747952684,1.7526127517184356,1.9255625858785246,0.42615479844609017,0.93115539794327917,0.31968874667865965,null,null,null,70,0.56009676145009535,0.15838472800556158,0.6518424722229651,0.11201935229001908,3.1676945601112318E-2,0.65184247222296532,1.0081741706101719,0.28509251041001094,0.65184247222296521,1.4541449094318053,0.32182326107441961,1,0.29082898188636108,6.4364652214883925E-2,1,2.6174608369772487,0.57928186993395525,1,1.1100000000000001,null,65.184247222296506,100]
[120,11.38019986428599,2.0421369505535809,1.7172376160315017,1.8565154504946062,0.4054102210911234,0.84090227913754478,0.32149063821682228,null,null,null,80,0.5242524728207808,0.13253059003934461,0.56589326281454122,0.10485049456415621,2.6506118007868933E-2,0.56589326281454155,0.94365445107740598,0.23855506207082042,0.56589326281454144,1.3100404589475723,0.28993086583281041,1,0.26200809178951445,5.7986173166562086E-2,1,2.3580728261056292,0.52187555849905876,1,1.0900000000000001,null,56.58932628145412,100]
[130,11.38019986428599,2.2003527308946937,1.6912176155897767,1.8054674022015633,0.39112575812911599,0.76861204653405923,0.322843163019499,null,null,null,90,0.50093285430373591,0.11811347284868209,0.50196144637086071,0.1001865708607472,2.3622694569736421E-2,0.50196144637086082,0.90167913774672492,0.21260425112762782,0.50196144637086071,1.201871980685846,0.26599162003010129,1,0.24037439613716918,5.3198324006020259E-2,1,2.1633695652345222,0.47878491605418233,1,1.07,null,50.196144637086071,100]
[140,11.38019986428599,2.3568667230403419,1.6708532038254078,1.7659347656600575,0.38068752825645619,0.708929863318711,0.32392291407322771,null,null,null,100,0.48495622406736816,0.10982954242459431,0.45220558990694559,9.6991244813473682E-2,2.1965908484918872E-2,0.45220558990694582,0.87292120332126311,0.19769317636426981,0.4522055899069457,{"$f":"V16*$AE15","v":1.1232448417624727},{"$f":"W16*$AE15","v":0.2485902990935526},1,{"$f":"Y16*$AE15","v":0.22464896835249454},{"$f":"Z16*$AE15","v":4.9718059818710518E-2},1,{"$f":"AB16*$AE15","v":2.0218407151724507},{"$f":"AC16*$AE15","v":0.44746253836839467},1,1.05,null,45.220558990694556,100]
[150,11.38019986428599,2.5117062370767442,1.6542444020891396,1.7343075731244784,0.37270932292676201,0.65861380509785894,0.32482084439487102,null,null,null,110,0.47360455998918549,0.10481552627034324,0.41224263618619372,9.4720911997837082E-2,2.0963105254068644E-2,0.41224263618619361,0.85248820798053415,0.1886679472866179,0.41224263618619378,1.0697569921547359,0.23675266580338342,0.93115539794327939,0.21395139843094718,4.735053316067668E-2,0.93115539794327917,1.9255625858785246,0.42615479844609017,0.93115539794327917,null,null,41.224263618619375,93.115539794327944]
[160,11.38019986428599,2.6648980018408817,1.6402902522718485,1.7083675480594851,0.36639330183021662,0.61551708588424558,0.32558977998904209,null,null,null,120,0.46531650681606385,0.10161190301723144,0.379374316435593,9.3063301363212753E-2,2.0322380603446287E-2,0.379374316435593,0.83756971226891508,0.18290142543101665,0.37937431643559305,1.0313974724970034,0.22522790060617964,0.84090227913754478,0.20627949449940064,4.5045580121235926E-2,0.84090227913754478,1.8565154504946062,0.4054102210911234,0.84090227913754478,null,null,37.9374316435593,84.090227913754475]
[170,11.38019986428599,2.8164681803022935,1.6282989658185298,1.6866615502737117,0.36125074586804062,0.57813504771914848,0.32626297939565468,null,null,null,130,0.45913766792334038,9.9464863355147037E-2,0.35183007783779696,9.1827533584668081E-2,1.9892972671029407E-2,0.35183007783779696,0.8264478022620132,0.17903675403926478,0.35183007783779718,1.0030374456675346,0.21729208784950876,0.7686120465340589,0.2006074891335069,4.345841756990175E-2,0.76861204653405879,1.8054674022015633,0.39112575812911599,0.76861204653405923,null,null,35.183007783779694,76.861204653405892]
[180,11.38019986428599,2.9664423844589836,1.6178096056929629,1.6681931747169489,0.35696682414888253,0.54537031097201549,0.32686264076991983,null,null,null,140,0.45445663167292616,9.7968495312258111E-2,0.32839275338709734,9.0891326334585271E-2,1.9593699062451633E-2,0.32839275338709756,0.81802193701126724,0.17634329156206466,0.32839275338709739,0.98107486981114278,0.21149307125358671,0.70892986331871077,0.19621497396222853,4.2298614250717341E-2,0.70892986331871088,1.7659347656600575,0.38068752825645619,0.708929863318711,null,null,32.839275338709733,70.892986331871072]
[190,11.38019986428599,3.1148456897652412,1.6085010190542677,1.652254982019427,0.35333006511629633,0.51639830003119569,0.32740425434127246,null,null,null,150,0.4508667594629569,9.6892989025517476E-2,0.30819488881820556,9.0173351892591389E-2,1.9378597805103499E-2,0.30819488881820561,0.8115601670333229,0.17440738024593155,0.30819488881820573,0.96350420729137676,0.20706073495931218,0.65861380509785894,0.19270084145827532,4.1412146991862436E-2,0.65861380509785883,1.7343075731244784,0.37270932292676201,0.65861380509785894,null,null,30.819488881820554,65.861380509785889]
[200,11.38019986428599,3.2617026491084573,1.6001413998815361,1.6383305299031743,0.35019333523758245,0.49058469518026521,0.32789901682171047,null,null,null,160,0.44808910482106662,9.6101595242793755E-2,0.29060005301119868,8.9617820964213321E-2,1.922031904855875E-2,0.29060005301119868,0.80656038867792013,0.17298287143702881,0.29060005301119868,0.94909308225526934,0.20355183435012034,0.61551708588424558,0.18981861645105388,4.0710366870024065E-2,0.6155170858842457,1.7083675480594851,0.36639330183021662,0.61551708588424558,null,null,29.060005301119869,61.55170858842456]
[210,11.38019986428599,3.4070373063512918,1.5925585569502574,1.6260340493714074,0.34745115647764224,0.46743208651735624,0.32835525664104093,null,null,null,170,0.44592724662122446,9.5509114095034126E-2,0.27512994882288505,8.9185449324244909E-2,1.9101822819006825E-2,0.27512994882288511,0.80266904391820426,0.17191640537106145,0.27512994882288511,0.93703419459650616,0.20069485881557808,0.57813504771914848,0.18740683891930124,4.0138971763115615E-2,0.57813504771914848,1.6866615502737117,0.36125074586804062,0.57813504771914848,null,null,27.512994882288506,57.81350477191485]
[220,11.38019986428599,3.5508732094548847,1.585621485869809,1.6150717183607786,0.34502594870732217,0.4465441012221405,0.32877931841005692,null,null,null,180,0.44423973303819558,9.506024186335553E-2,0.26141774049021221,8.8847946607639117E-2,1.9012048372671106E-2,0.26141774049021221,0.79963151946875233,0.17110843535404002,0.26141774049021227,0.92677398595386029,0.19831490230493468,0.54537031097201538,0.18535479719077208,3.9662980460986944E-2,0.54537031097201549,1.6681931747169489,0.35696682414888253,0.54537031097201549,null,null,26.141774049021222,54.537031097201535]
[230,11.38019986428599,3.6932334231981554,1.579228484950159,1.6052159629629879,0.342859374657909,0.4276005071952983,0.32917613393306594,null,null,null,190,0.44292268904294985,9.4717767090497687E-2,0.24917712282970417,8.8584537808589964E-2,1.8943553418099536E-2,0.24917712282970417,0.7972608402773097,0.17049198076289585,0.24917712282970414,0.91791943445523705,0.19629448062016458,0.51639830003119569,0.1835838868910474,3.925889612403291E-2,0.51639830003119558,1.652254982019427,0.35333006511629633,0.51639830003119569,null,null,24.917712282970417,51.63983000311957]
[240,11.38019986428599,3.8341405415076095,1.573299216361348,1.5962879097073592,0.34090671407489775,0.41033947486513267,0.32954960404140859,null,null,null,200,0.4418985141992578,9.4455857166451052E-2,0.23818122111376458,8.8379702839851554E-2,1.8891171433290208E-2,0.23818122111376458,0.79541732555866407,0.17002054289961188,0.23818122111376458,0.9101836277239852,0.19455185290976793,0.49058469518026504,0.18203672554479708,3.8910370581953596E-2,0.49058469518026515,1.6383305299031743,0.35019333523758245,0.49058469518026521,null,null,23.818122111376457,49.058469518026506]
[250,11.38019986428599,3.973616699411517,1.567769251336371,1.5881451193375062,0.33913310201310454,0.39454466042699937,0.32990286119012319,null,null,null,210,0.44110834937278737,9.4256086568892894E-2,0.22824783599892209,8.8221669874557512E-2,1.8851217313778586E-2,0.22824783599892223,0.79399502887101803,0.16966095582400736,0.22824783599892226,0.90335224965078131,0.19302842026535669,0.46743208651735607,0.18067044993015627,3.860568405307134E-2,0.46743208651735613,1.6260340493714074,0.34745115647764224,0.46743208651735624,null,null,22.824783599892211,46.743208651735607]
[260,11.38019986428599,4.1116835846317192,1.5625862335970395,1.5806728401247241,0.33751095054409541,0.38003562322682943,0.33023845429984855,null,null,null,220,0.44050694144023161,9.4105000821162091E-2,0.21922890062426512,8.8101388288046312E-2,1.8821000164232413E-2,0.21922890062426509,0.79291249459241719,0.16938900147809183,0.21922890062426514,0.89726206575598777,0.19168108261517891,0.44654410122214044,0.17945241315119753,3.8336216523035781E-2,0.44654410122214039,1.6150717183607786,0.34502594870732217,0.4465441012221405,null,null,21.922890062426511,44.654410122214045]
[270,11.38019986428599,4.2483624488258469,1.5577071086105139,1.5737776438127102,0.33601813862324342,0.3666605962589255,0.33055848235804802,null,null,null,230,0.44005907340476424,9.3992573087547354E-2,0.21100280409969735,8.801181468095283E-2,1.8798514617509466E-2,0.21100280409969732,0.79210633212857562,0.1691866315575852,0.21100280409969732,0.89178664609054847,0.19047743036550491,0.42760050719529813,0.17835732921810979,3.8095486073101002E-2,0.42760050719529835,1.6052159629629879,0.342859374657909,0.4276005071952983,null,null,21.100280409969734,42.760050719529815]
[280,11.38019986428599,4.3836741184921584,1.5530961024318588,1.5673827391216424,0.33463671939503387,0.35429095787030662,0.33086469193412799,null,null,null,240,0.43973703672166481,9.391119693019391E-2,0.20346870669988021,8.7947407344332942E-2,1.8782239386038777E-2,0.20346870669988018,0.79152666609899647,0.169040154474349,0.20346870669988015,0.88682661650408845,0.18939261893049875,0.41033947486513273,0.17736532330081764,3.7878523786099745E-2,0.41033947486513267,1.5962879097073592,0.34090671407489775,0.41033947486513267,null,null,20.346870669988022,41.03394748651327]
[290,11.38019986428599,4.5176390055487676,1.5487232052316411,1.5614244534922366,0.33335197667015271,0.34281694560575326,0.33115855040000536,null,null,null,250,0.4395188135285692,9.3855011617100387E-2,0.1965422668635223,8.7903762705713831E-2,1.8771002323420077E-2,0.1965422668635223,0.79113386435142452,0.1689390209107807,0.19654226686352227,0.8823028440763917,0.18840727889616904,0.39454466042699915,0.17646056881527841,3.7681455779233826E-2,0.39454466042699937,1.5881451193375062,0.33913310201310454,0.39454466042699937,null,null,19.654226686352231,39.454466042699913]
[300,11.38019986428599,4.6502771175985496,1.5445630280943754,1.5558495695343846,0.33215172751843947,0.33214429786326444,0.33144130115649489,null,null,null,260,0.43938674943335709,9.3819439224394521E-2,0.19015238527259909,8.7877349886671424E-2,1.8763887844878903E-2,0.19015238527259909,0.79089614898004279,0.16887499060391012,0.19015238527259903,0.87815157784706843,0.18750608363560844,0.38003562322682932,0.17563031556941372,3.75012167271217E-2,0.38003562322682938,1.5806728401247241,0.33751095054409541,0.38003562322682943,null,null,19.01523852725991,38.003562322682932]
[310,11.38019986428599,4.7816080678905521,1.5405939230787489,1.5506132782666107,0.33102579784066494,0.32219159354028681,0.33171400616793639,null,null,null,270,0.43932657249603457,9.3800860444434461E-2,0.18423869380960722,8.7865314499206926E-2,1.8760172088886896E-2,0.18423869380960722,0.79078783049286205,0.16884154879998201,0.18423869380960714,0.87432091322928307,0.18667674367957957,0.36666059625892539,0.17486418264585657,3.7335348735915909E-2,0.36666059625892528,1.5737776438127102,0.33601813862324342,0.3666605962589255,null,null,18.423869380960724,36.666059625892537]
[320,11.38019986428599,4.9116510849883532,1.5367973021689327,1.5456775939850571,0.32996562372081578,0.31288812571925129,0.33197757889770169,null,null,null,280,0.43932665812206223,9.3796382942903461E-2,0.17874959673235474,8.7865331624412416E-2,1.8759276588580686E-2,0.17874959673235469,0.79078798461971211,0.16883348929722625,0.17874959673235474,0.87076818840091219,0.18590928855279654,0.35429095787030662,0.17415363768018244,3.7181857710559311E-2,0.35429095787030662,1.5673827391216424,0.33463671939503387,0.35429095787030662,null,null,17.874959673235473,35.429095787030661]
[330,11.38019986428599,5.0404250221553415,1.5331570978831384,1.5410101080710246,0.32896394335340495,0.30417218610416774,0.33223281041006858,null,null,null,290,0.43937747246435566,9.3803673064517423E-2,0.173640727179837,8.7875494492871145E-2,1.876073461290349E-2,0.17364072717983703,0.79087945043584029,0.1688466115161314,0.17364072717983697,0.86745802971790897,0.18519554259452925,0.34281694560575326,0.17349160594358176,3.7039108518905836E-2,0.34281694560575321,1.5614244534922366,0.33335197667015271,0.34281694560575326,null,null,17.364072717983699,34.281694560575325]
[340,11.38019986428599,5.167948366466578,1.5296593407144683,1.5365830093372759,0.32801455822765746,0.29598967176994545,0.33248038982305644,null,null,null,300,0.4394711472382552,9.382083178734392E-2,0.1688737197219746,8.7894229447651032E-2,1.8764166357468783E-2,0.1688737197219746,0.79104806502885927,0.16887749721721904,0.16887371972197454,0.86436087196354683,0.18452873751024412,0.33214429786326444,0.17287217439270935,3.6905747502048822E-2,0.33214429786326444,1.5558495695343846,0.33215172751843947,0.33214429786326444,null,null,16.88737197219746,33.214429786326441]
[350,11.38019986428599,5.294239247656459,1.5262918161649677,1.5323722985117598,0.32711214424408452,0.28829294347447443,0.33272092092018518,null,null,null,310,0.43960115050680371,9.3846301729636358E-2,0.16441522521467802,8.7920230101360741E-2,1.8769260345927272E-2,0.16441522521467805,0.791282070912247,0.16892334311334553,0.16441522521467808,0.86145182125922815,0.18390322102259163,0.32219159354028681,0.17229036425184557,3.678064420451832E-2,0.32219159354028676,1.5506132782666107,0.33102579784066494,0.32219159354028681,null,null,16.441522521467803,32.219159354028683]
[360,11.38019986428599,5.419315446711094,1.5230437886783015,1.5283571581012494,0.32625210190233223,0.28103988477043079,0.33295493552686889,null,null,null,320,0.43976203072446285,9.3878796795273181E-2,0.16023611428694784,8.7952406144892539E-2,1.8775759359054629E-2,0.16023611428694781,0.79157165530403339,0.1689818342314918,0.16023611428694787,0.8587097744361426,0.18331423540045316,0.31288812571925118,0.17174195488722854,3.6662847080090634E-2,0.31288812571925129,1.5456775939850571,0.32996562372081578,0.31288812571925129,null,null,16.023611428694785,31.288812571925117]
[370,11.38019986428599,5.5431944042139287,1.5199057798682751,1.5245194454235431,0.32543043693138907,0.2741931220584371,0.33318290425755104,null,null,null,330,0.43994921565505163,9.3917248238097176E-2,0.156310828332346,8.7989843131010312E-2,1.8783449647619431E-2,0.15631082833234594,0.79190858817909315,0.16905104682857494,0.156310828332346,0.85611672670612449,0.18275774630744718,0.30417218610416774,0.17122334534122491,3.655154926148943E-2,0.30417218610416774,1.5410101080710246,0.32896394335340495,0.30417218610416774,null,null,15.631082833234601,30.417218610416775]
[380,11.38019986428599,5.6658932284528669,1.5168693804951532,1.5208432733685764,0.32464366259552252,0.26771937262738549,0.33340524563667839,null,null,null,340,0.44015885268846416,9.3960762768598619E-2,0.15261684684523005,8.803177053769283E-2,1.8792152553719726E-2,0.15261684684523008,0.79228593483923559,0.16912937298347755,0.15261684684523005,0.8536572274095976,0.18223031012647636,0.29598967176994551,0.17073144548191951,3.6446062025295267E-2,0.29598967176994545,1.5365830093372759,0.32801455822765746,0.29598967176994545,null,null,15.261684684523006,29.598967176994549]
[390,11.38019986428599,5.787428703296789,1.5139271016995308,1.5173146730979699,0.32388872160711735,0.26158889885539799,0.33362233331230118,null,null,null,350,0.44038768198254519,9.4008589878516916E-2,0.14913424773960957,8.8077536396509046E-2,1.8801717975703385E-2,0.14913424773960959,0.79269782756858198,0.1692154617813306,0.14913424773960965,0.85131794361764412,0.18172896902449134,0.28829294347447443,0.17026358872352887,3.6345793804898281E-2,0.28829294347447454,1.5323722985117598,0.32711214424408452,0.28829294347447443,null,null,14.913424773960957,28.829294347447444]
[400,11.38019986428599,5.9078172958490889,1.511072246623103,1.5139213110286156,0.32316292115982787,0.25577504701860065,0.33383450228779593,null,null,null,360,0.44063293463555114,9.4060096051657313E-2,0.14584534206244149,8.8126586927110243E-2,1.8812019210331467E-2,0.14584534206244151,0.79313928234399211,0.16930817289298317,0.14584534206244149,0.84908731005624971,0.1812511677235179,0.28103988477043079,0.16981746201124984,3.625023354470356E-2,0.28103988477043063,1.5283571581012494,0.32625210190233223,0.28103988477043079,null,null,14.584534206244149,28.103988477043078]
[410,11.38019986428599,6.027075163885554,1.5082988050447976,1.5106522559759135,0.32246387978896818,0.25025385680978013,0.33404205403657034,null,null,null,370,0.44089224997814608,9.4114744144958851E-2,0.14273436864081723,8.8178449995629252E-2,1.8822948828991774E-2,0.14273436864081726,0.79360604996066342,0.16940653946092601,0.14273436864081726,0.84695524745752349,0.18079468718410494,0.27419312205843699,0.16939104949150463,3.6158937436820977E-2,0.27419312205843688,1.5245194454235431,0.32543043693138907,0.2741931220584371,null,null,14.273436864081724,27.419312205843699]
[420,11.38019986428599,6.1452181630836558,1.5056013640715891,1.5074977841917072,0.32178948314632005,0.24500372877178406,0.3342452608396595,null,null,null,380,0.4411636088495578,9.4172076958037296E-2,0.13978723776457419,8.8232721769911565E-2,1.8834415391607458E-2,0.13978723776457419,0.79409449592920434,0.16950973852446719,0.13978723776457419,0.84491292964920861,0.18035759033084575,0.26771937262738538,0.16898258592984175,3.6071518066169157E-2,0.26771937262738543,1.5208432733685764,0.32464366259552252,0.26771937262738549,null,null,13.97872377645742,26.771937262738536]
[430,11.38019986428599,6.2622618540500232,1.5029750340098478,1.5044492172645003,0.32113784740278961,0.24000514016158897,0.33444436938607475,null,null,null,390,0.44144527884258578,9.4231703916693541E-2,0.13699131472236284,8.8289055768517172E-2,1.8846340783338709E-2,0.13699131472236284,0.7946015019166548,0.16961706705004845,0.13699131472236287,0.84295259616553853,0.17993817867062067,0.26158889885539793,0.16859051923310764,3.598763573412412E-2,0.26158889885539782,1.5173146730979699,0.32388872160711735,0.26158889885539799,null,null,13.699131472236283,26.158889885539793]
[440,11.38019986428599,6.3782215091526782,1.5004153822700803,1.5014987824362933,0.32050728789490335,0.23524040049675299,0.33463960398708831,null,null,null,400,0.44173576937277226,9.4293290259780768E-2,0.13433523621371979,8.834715387455444E-2,1.8858658051956152E-2,0.13433523621371979,0.79512438487099013,0.1697279224676054,0.13433523621371979,0.84106739501589733,0.17953495619990431,0.2557750470186006,0.16821347900317948,3.5906991239980868E-2,0.25577504701860065,1.5139213110286156,0.32316292115982787,0.25577504701860065,null,null,13.433523621371979,25.577504701860061]
[450,11.38019986428599,6.4931121191642838,1.4979183810709622,1.4986394984919107,0.31989629357579091,0.23069344153936408,0.33483116911674898,null,null,null,410,0.44203379458910036,9.4356548197756671E-2,0.13180875393225303,8.8406758917820072E-2,1.8871309639551331E-2,0.13180875393225303,0.79566083026038081,0.16984178675596204,0.13180875393225305,0.83925125331995176,0.17914659988276008,0.25025385680978013,0.16785025066399034,3.5829319976552011E-2,0.25025385680978013,1.5106522559759135,0.32246387978896818,0.25025385680978013,null,null,13.180875393225303,25.025385680978012]
[460,11.38019986428599,6.6069483997225209,1.4954803591194317,1.4958650752915521,0.31930350464085,0.22634963505727379,0.33501925176340064,null,null,null,420,0.442338242614355,9.4421229642499827E-2,0.12940260073322118,8.8467648522871034E-2,1.8884245928499969E-2,0.12940260073322121,0.79620883670583942,0.16995821335649974,0.12940260073322121,0.83749876899539244,0.17877193508128883,0.24500372877178397,0.16749975379907861,3.5754387016257792E-2,0.24500372877178414,1.5074977841917072,0.32178948314632005,0.24500372877178406,null,null,12.940260073322118,24.500372877178396]
[470,11.38019986428599,6.7197447976134042,1.4930979616659161,1.4931698296661293,0.31872769384661925,0.2221956348991419,0.33520402337294158,null,null,null,430,0.44264814992197199,9.4487120197542365E-2,0.12710837566417071,8.8529629984394453E-2,1.8897424039508483E-2,0.1271083756641708,0.79676666985955003,0.17007681635557634,0.12710837566417077,0.8358051207024999,0.17840991522377195,0.24000514016158894,0.16716102414049994,3.5681983044754381E-2,0.24000514016158889,1.5044492172645003,0.32113784740278961,0.24000514016158897,null,null,12.710837566417071,24.000514016158895]
[480,11.38019986428599,6.8315154968832115,1.4907681151694152,1.4905486125442453,0.31816775038117345,0.21821923932538226,0.33538564156923673,null,null,null,440,0.44296267990212901,9.4554034165601E-2,0.12491844482297039,8.8592535980425796E-2,1.89108068331202E-2,0.12491844482297039,0.79733282382383208,0.17019726149808179,0.12491844482297035,0.83416599024238536,0.17805960438605745,0.2352404004967531,0.1668331980484771,3.5611920877211496E-2,0.23524040049675318,1.5014987824362933,0.32050728789490335,0.23524040049675299,null,null,12.491844482297038,23.52404004967531]
[490,11.38019986428599,6.942274424784399,1.4884879988357718,1.4879967484668666,0.31762266649784482,0.21440927104837096,0.33556425153842534,null,null,null,450,0.44328110490320094,9.462181039096694E-2,0.12282585556587608,8.8656220980640202E-2,1.8924362078193389E-2,0.12282585556587609,0.79790598882576169,0.17031925870374048,0.12282585556587607,0.83257749916217227,0.17772016309766156,0.23069344153936402,0.16651549983243449,3.5544032619532318E-2,0.23069344153936408,1.4986394984919107,0.31989629357579091,0.23069344153936408,null,null,12.282585556587607,23.069344153936402]
[500,11.38019986428599,7.0520352575608118,1.4862550151749969,1.4855099787324384,0.31709152501647064,0.21075547141961812,0.33573998746603434,null,null,null,460,0.44360279088692628,9.4690308730585565E-2,0.12082426194390058,8.872055817738525E-2,1.8938061746117112E-2,0.12082426194390058,0.79848502359646756,0.17044255571505404,0.1208242619439006,0.83103615293975086,0.17739083591158328,0.22634963505727376,0.16620723058795017,3.5478167182316653E-2,0.22634963505727376,1.4958650752915521,0.31930350464085,0.22634963505727379,null,null,12.082426194390058,22.634963505727377]
[510,11.38019986428599,7.1608114260771627,1.4840667698103123,1.4830844176629325,0.31657348969775773,0.20724840824684501,0.33591297351850807,null,null,null,470,0.4439271848467391,9.4759407169149948E-2,0.11890785984774266,8.8785436969347861E-2,1.895188143383E-2,0.11890785984774271,0.79906893272413071,0.17056693290446998,0.11890785984774269,0.8295387942589606,0.17707094102589957,0.2221956348991419,0.16590775885179207,3.54141882051799E-2,0.22219563489914182,1.4931698296661293,0.31872769384661925,0.2221956348991419,null,null,11.890785984774265,22.21956348991419]
[520,11.38019986428599,7.268616121297713,1.4819210497699853,1.4807165106133706,0.31606779604665725,0.20387939396439173,0.33608332490297033,null,null,null,480,0.44425380373755413,9.4828999298579547E-2,0.11707133021067455,8.8850760747510818E-2,1.8965799859715908E-2,0.11707133021067453,0.79965684672759785,0.17069219873744326,0.11707133021067459,0.82808256252458046,0.17675986132287408,0.21821923932538223,0.1656165125049161,3.5351972264574823E-2,0.21821923932538223,1.4905486125442453,0.31816775038117345,0.21821923932538226,null,null,11.707133021067454,21.821923932538223]
[530,11.38019986428599,7.3754622996187873,1.4798158057433337,1.4784029987013447,0.31557374359505991,0.20064041352632503,0.33625114873279582,null,null,null,490,0.44458222527648211,9.4898992229219992E-2,0.11530978928109421,8.8916445055296431E-2,1.8979798445844E-2,0.11530978928109423,0.80024800549766817,0.17081818601259605,0.11530978928109424,0.82666486025937025,0.1764570369432471,0.21440927104837099,0.165332972051874,3.5291407388649408E-2,0.2144092710483709,1.4879967484668666,0.31762266649784482,0.21440927104837096,null,null,11.530978928109421,21.440927104837098]
[540,11.38019986428599,7.4813626880597024,1.4777491375915619,1.4761408891275571,0.31509068941354262,0.19752406068349793,0.33641654473368499,null,null,null,500,0.44491207985643216,9.4969304763812684E-2,0.11361874484261898,8.8982415971286435E-2,1.8993860952762537E-2,0.11361874484261898,0.80084174374157802,0.17094474857486286,0.11361874484261898,0.82528332151802064,0.17616195834248355,0.21075547141961798,0.16505666430360413,3.5232391668496711E-2,0.21075547141961798,1.4855099787324384,0.31709152501647064,0.21075547141961812,null,null,11.361874484261898,21.075547141961799]
[null,null,null,null,null,null,null,null,null,null,null,510,0.44524304402720399,9.5039865925810832E-2,0.1119940577256216,8.9048608805440799E-2,1.9007973185162164E-2,0.1119940577256216,0.80143747924896747,0.17107175866645954,0.11199405772562161,0.823935787590518,0.17587416094319872,0.20724840824684504,0.16478715751810358,3.5174832188639732E-2,0.20724840824684498,1.4830844176629325,0.31657348969775773,0.20724840824684501,null,null,11.199405772562161,20.724840824684502]
[null,null,null,null,null,null,null,null,null,null,null,520,0.44557483434805323,9.5110613582545606E-2,0.11043190764386218,8.9114966869610651E-2,1.9022122716509122E-2,0.11043190764386218,0.80203470182649605,0.17119910444858213,0.1104319076438622,0.82262028367409457,0.17559322002592065,0.2038793939643917,0.16452405673481887,3.5118644005184121E-2,0.20387939396439164,1.4807165106133706,0.31606779604665725,0.20387939396439173,null,null,11.043190764386217,20.387939396439169]
[null,null,null,null,null,null,null,null,null,null,null,530,0.44590720266386835,9.5181493384581858E-2,0.10892876306919196,8.9181440532773687E-2,1.9036298676916374E-2,0.10892876306919198,0.80263296479496304,0.17132668809224733,0.10892876306919196,0.82133499927852494,0.17531874644169998,0.20064041352632508,0.164266999855705,3.5063749288340003E-2,0.20064041352632514,1.4784029987013447,0.31557374359505991,0.20064041352632503,null,null,10.892876306919195,20.064041352632508]
[null,null,null,null,null,null,null,null,null,null,null,540,0.44623993146264329,9.5252457732214565E-2,0.10748135432837998,8.9247986292528669E-2,1.9050491546442918E-2,0.10748135432837999,0.80323187663275797,0.17145442391798624,0.10748135432837996,0.82007827173753178,0.17505038300752368,0.19752406068349798,0.16401565434750631,3.5010076601504729E-2,0.19752406068349793,1.4761408891275571,0.31509068941354262,0.19752406068349793,null,null,10.748135432837998,19.752406068349799]
[]
[null,null,null,null,null,null,null,null,null,null,null,null,"var.: B1, B2, B3"]
[null,null,null,null,null,null,null,null,null,null,null,null,"var.: B4, B5, B6"]
[]
[null,null,"Varianta",null,1,2,3,4,5,6]
[null,null,"Napln",null,"EX","EX","DX","EX","EX","DX"]
[null,null,"L/G","[-]",2,2,2,2,2,2]
[null,null,"F",null,1.25,0.25,2.25,1.25,0.25,2.25]
[null,null,"w",null,{"$f":"E69*100","v":15},{"$f":"F69*100","v":15},15,30,30,30]
[null,null,null,null,0.15,0.15,0.15,0.3,0.3,0.3]

{"sheet":"WHumid","index":10,"n_rows":28,"n_cols":13,"rows_kept":28,"cut":false,"hidden":false,"merged":[]}
[null,"Vypocet maximalni nasyceni vodou vzduchu podle teploty a tlaku"]
[null,"Ws",{"$f":"621.97*C5/(C3-C5)","v":49.595882319603007},"g/kg",{"$f":"C2/1000","v":4.9595882319603005E-2},"g/g",null,null,null,null,null,"Zdroj ","https://www.aqua-calc.com/calculate/humidity"]
[null,"P",0.1,"Mpa"]
[null,"Ta",40,"oC",null,null,null,null,null,null,null,"Saturated mixing ratio (Ws)  Ws, g/kg = 621,97 × Pws  ⁄  (P − Pws)"]
[null,"Pws",{"$f":"EXP(C20)*C6","v":7.3851104746860815E-3},"Mpa",{"$f":"6.1078*POWER(10,7.5*C4/(237.3+C4))/10000","v":7.3747212285075374E-3},"Mpa",null,null,null,null,null,"Saturated water vapor pressure (Pws)"]
[null,"Pc",22.064,"Mpa",null,null,null,null,null,null,null,"ln(Pws ⁄ Pc) = Tc ⁄ T × (a1 × ϑ + a2 × ϑ1,5+ a3 × ϑ3+ a4 × ϑ3,5+ a5 × ϑ4+ a6 × ϑ7,5)"]
[]
[]
[null,"Tc",647.096,"K","Kriticka teplota"]
[null,"Ta",{"$f":"C4+273.15","v":313.14999999999998},"K",null,null,null,null,null,null,null," a1 = −7,85951783,  a2 = 1,84408259,  a3 = −11,7866497,  a4 = 22,6807411,  a5 = −15,9618719,  a6 = 1,80122502,"]
[null,"ϑ Eta",{"$f":"1-C10/C9","v":0.51606871314302671}]
[null,null,"a","power","product",null,null,null,null,null,null,"ϑ = (1 − T ⁄ Tc)"]
[null,null,-7.8595178299999997,1,{"$f":"C13*POWER($C$11,D13)","v":-4.0560512524527734},null,null,null,"0,1 Mpa","0,2 Mpa"]
[null,null,1.84408259,1.5,0.68366235012653431,null,null,20,1.4897566219590406E-2,7.3606313556600052E-3]
[null,null,-11.7866497,3,-1.6199923670562442,null,null,25,2.0360757638759455E-2,1.0016430309059072E-2]
[null,null,22.680741099999999,3.5,2.2394099229987514,null,null,30,2.7586128666370006E-2,1.3493819796387441E-2]
[null,null,-15.9618719,4,-1.132175997670533,null,null,35,3.7099394532742094E-2,1.8012490885142594E-2]
[null,null,1.80122502,7.5,1.2614628074594011E-2,null,null,40,4.9595882319603005E-2,2.3847155187537241E-2]
[]
[null,"ln(Pws ⁄ Pc)",{"$f":"C9/C10*SUM(E13:E18)","v":-8.0022367248270214}]
[]
[]
[null,"Pd",{"$f":"C3-C5","v":9.2614889525313923E-2},"Mpa"]
[null,"Md",2.8964E-2,"kg/mol"]
[null,"Mv",1.8016000000000001E-2,"kg/mol"]
[null,"R",8.3140000000000001,"J/(kg*mol)"]
[]
[null,"rho vzd",{"$f":"(C23*C24+C5*C25)/(C26*C10)*10^6","v":1.081435122243549},"kg/m3"]

{"sheet":"LG diff","index":11,"n_rows":66,"n_cols":8,"rows_kept":66,"cut":false,"hidden":false,"merged":[]}
["LG","mst co2 inlet","mst co2 lean","mst co2 rich","Fi","absorbovane","x lean","x rich"]
[{"$f":"MainDesign!C19","v":4},{"$f":"MassBalance!B20","v":1.3953923539315245},{"$f":"MassBalance!E6","v":1.0564783179258634},{"$f":"MassBalance!E17","v":2.4518706718573879},{"$f":"MassBalance!D12","v":1},{"$f":"MassBalance!D13","v":1.3953923539315245},{"$f":"MassBalance!E3","v":0.94923084984727313},{"$f":"MassBalance!E24","v":2.0922209989025333}]
[]
[]
["LG","mst co2 inlet","mst co2 lean","mst co2 rich","Fi","delta mst co2","mol CO2/kg lean","mol CO2/kg rich"]
[2,1.6984738234288443,0.64425690215900999,1.1208710589812179,0.65992836835037361,1.1208710589812179,0.94923084984727324,2.4244791050388677]
[2,1.6984738234288443,0.64425690215900999,1.765127961140228,0.65992836835037361,1.1208710589812179,0.94923084984727324,2.4244791050388677]
[2.0499999999999998,1.6984738234288443,0.66036332471298509,1.8092561601687334,0.67642657755913294,1.1488928354557482,0.94923084984727313,2.4244791050388672]
[2.0999999999999996,1.6984738234288443,0.67646974726696041,1.8533843591972388,0.69292478676789215,1.1769146119302785,0.94923084984727313,2.4244791050388672]
[2.1499999999999995,1.6984738234288443,0.69257616982093551,1.8975125582257442,0.70942299597665137,1.2049363884048088,0.94923084984727313,2.4244791050388668]
[2.1999999999999993,1.6984738234288443,0.70868259237491094,1.9416407572542502,0.72592120518541081,1.2329581648793393,0.94923084984727335,2.4244791050388677]
[2.2499999999999991,1.6984738234288443,0.72478901492888603,1.9857689562827556,0.74241941439417003,1.2609799413538696,0.94923084984727324,2.4244791050388677]
[2.2999999999999989,1.6984738234288443,0.74089543748286113,2.0298971553112612,0.75891762360292947,1.2890017178284001,0.94923084984727313,2.4244791050388677]
[2.3499999999999988,1.6984738234288443,0.75700186003683645,2.0740253543397666,0.77541583281168858,1.3170234943029302,0.94923084984727324,2.4244791050388677]
[2.3999999999999986,1.6984738234288443,0.77310828259081166,2.118153553368272,0.79191404202044768,1.3450452707774603,0.94923084984727324,2.4244791050388672]
[2.4499999999999984,1.6984738234288443,0.78921470514478675,2.1622817523967779,0.80841225122920723,1.373067047251991,0.94923084984727324,2.4244791050388677]
[2.4999999999999982,1.6984738234288443,0.80532112769876207,2.2064099514252837,0.82491046043796667,1.4010888237265218,0.94923084984727324,2.4244791050388681]
[2.549999999999998,1.6984738234288443,0.82142755025273717,2.2505381504537891,0.841408669646726,1.4291106002010521,0.94923084984727313,2.4244791050388677]
[2.5999999999999979,1.6984738234288443,0.83753397280671216,2.2946663494822941,0.857906878855485,1.4571323766755819,0.94923084984727313,2.4244791050388672]
[2.6499999999999977,1.6984738234288443,0.8536403953606877,2.3387945485108004,0.87440508806424444,1.4851541531501127,0.94923084984727335,2.4244791050388681]
[2.6999999999999975,1.6984738234288443,0.8697468179146628,2.3829227475393058,0.89090329727300377,1.513175929624643,0.94923084984727324,2.4244791050388677]
[2.7499999999999973,1.6984738234288443,0.88585324046863789,2.4270509465678112,0.90740150648176299,1.5411977060991733,0.94923084984727313,2.4244791050388681]
[2.7999999999999972,1.6984738234288443,0.90195966302261332,2.471179145596317,0.92389971569052221,1.5692194825737036,0.94923084984727335,2.4244791050388681]
[2.849999999999997,1.6984738234288443,0.91806608557658831,2.5153073446248224,0.94039792489928165,1.5972412590482341,0.94923084984727313,2.4244791050388677]
[2.8999999999999968,1.6984738234288443,0.93417250813056341,2.5594355436533278,0.95689613410804086,1.6252630355227644,0.94923084984727302,2.4244791050388681]
[2.9499999999999966,1.6984738234288443,0.95027893068453861,2.6035637426818337,0.9733943433168003,1.6532848119972949,0.94923084984727313,2.4244791050388681]
[2.9999999999999964,1.6984738234288443,0.96638535323851382,2.6476919417103386,0.9898925525255593,1.6813065884718248,0.94923084984727324,2.4244791050388677]
[3.0499999999999963,1.6984738234288443,0.98249177579248914,2.6809655992213335,1,1.6984738234288443,0.94923084984727324,2.4157420014943591]
[3.0999999999999961,1.6984738234288443,0.99859819834646413,2.6970720217753086,1,1.6984738234288443,0.94923084984727302,2.3936577782005073]
[3.1499999999999959,1.6984738234288443,1.0147046209004396,2.7131784443292837,1,1.6984738234288443,0.94923084984727324,2.3722288208394979]
[3.1999999999999957,1.6984738234288443,1.0308110434544147,2.7292848668832592,1,1.6984738234288443,0.94923084984727324,2.3514263919361027]
[3.2499999999999956,1.6984738234288443,1.0469174660083898,2.7453912894372339,1,1.6984738234288443,0.94923084984727313,2.3312234102254235]
[3.2999999999999954,1.6984738234288443,1.0630238885623651,2.7614977119912094,1,1.6984738234288443,0.94923084984727324,2.3115943330333066]
[3.3499999999999952,1.6984738234288443,1.0791303111163402,2.7776041345451845,1,1.6984738234288443,0.94923084984727313,2.2925150485399985]
[3.399999999999995,1.6984738234288443,1.0952367336703155,2.7937105570991596,1,1.6984738234288443,0.94923084984727335,2.2739627769715729]
[3.4499999999999948,1.6984738234288443,1.1113431562242904,2.8098169796531347,1,1.6984738234288443,0.94923084984727313,2.2559159798677615]
[3.4999999999999947,1.6984738234288443,1.1274495787782655,2.8259234022071098,1,1.6984738234288443,0.94923084984727302,2.2383542766663624]
[3.5499999999999945,1.6984738234288443,1.143556001332241,2.8420298247610853,1,1.6984738234288443,0.94923084984727324,2.2212583679250253]
[3.5999999999999943,1.6984738234288443,1.1596624238862161,2.8581362473150604,1,1.6984738234288443,0.94923084984727335,2.2046099645723087]
[3.6499999999999941,1.6984738234288443,1.175768846440191,2.8742426698690355,1,1.6984738234288443,0.94923084984727302,2.1883917226427791]
[3.699999999999994,1.6984738234288443,1.1918752689941663,2.8903490924230106,1,1.6984738234288443,0.94923084984727313,2.1725871830065233]
[3.7499999999999938,1.6984738234288443,1.2079816915481418,2.9064555149769862,1,1.6984738234288443,0.94923084984727324,2.1571807156528022]
[3.7999999999999936,1.6984738234288443,1.2240881141021167,2.9225619375309613,1,1.6984738234288443,0.94923084984727302,2.1421574681313573]
[3.8499999999999934,1.6984738234288443,1.2401945366560923,2.9386683600849368,1,1.6984738234288443,0.94923084984727335,2.1275033177938667]
[3.8999999999999932,1.6984738234288443,1.2563009592100676,2.9547747826389119,1,1.6984738234288443,0.94923084984727324,2.1132048275127362]
[3.9499999999999931,1.6984738234288443,1.2724073817640429,2.970881205192887,1,1.6984738234288443,0.94923084984727335,2.0992492045853832]
[3.9999999999999929,1.6984738234288443,1.288513804318018,2.9869876277468626,1,1.6984738234288443,0.94923084984727324,2.0856242625598309]
[4.0499999999999927,1.6984738234288443,1.3046202268719929,3.0030940503008372,1,1.6984738234288443,0.94923084984727313,2.0723183857421734]
[4.0999999999999925,1.6984738234288443,1.3207266494259682,3.0192004728548127,1,1.6984738234288443,0.94923084984727313,2.0593204961686591]
[4.1499999999999924,1.6984738234288443,1.3368330719799428,3.0353068954087874,1,1.6984738234288443,0.94923084984727302,2.0466200228449742]
[4.1999999999999922,1.6984738234288443,1.3529394945339186,3.0514133179627629,1,1.6984738234288443,0.94923084984727324,2.0342068730732583]
[4.249999999999992,1.6984738234288443,1.3690459170878937,3.067519740516738,1,1.6984738234288443,0.94923084984727335,2.0220714057033424]
[4.2999999999999918,1.6984738234288443,1.3851523396418688,3.0836261630707131,1,1.6984738234288443,0.94923084984727313,2.0102044061592559]
[4.3499999999999917,1.6984738234288443,1.4012587621958441,3.0997325856246887,1,1.6984738234288443,0.94923084984727324,1.9985970631050285]
[4.3999999999999915,1.6984738234288443,1.4173651847498192,3.1158390081786633,1,1.6984738234288443,0.94923084984727324,1.9872409466256129]
[4.4499999999999913,1.6984738234288443,1.4334716073037939,3.131945430732638,1,1.6984738234288443,0.94923084984727302,1.9761279878093836]
[4.4999999999999911,1.6984738234288443,1.4495780298577698,3.1480518532866144,1,1.6984738234288443,0.94923084984727335,1.9652504596282798]
[4.5499999999999909,1.6984738234288443,1.4656844524117447,3.1641582758405891,1,1.6984738234288443,0.94923084984727324,1.9546009590203868]
[4.5999999999999908,1.6984738234288443,1.4817908749657196,3.1802646983945637,1,1.6984738234288443,0.94923084984727302,1.9441723900876553]
[4.6499999999999906,1.6984738234288443,1.4978972975196951,3.1963711209485393,1,1.6984738234288443,0.94923084984727313,1.9339579483286036]
[4.6999999999999904,1.6984738234288443,1.5140037200736707,3.2124775435025148,1,1.6984738234288443,0.94923084984727335,1.9239511058323868]
[4.7499999999999902,1.6984738234288443,1.5301101426276453,3.2285839660564895,1,1.6984738234288443,0.94923084984727302,1.914145597366546]
[4.7999999999999901,1.6984738234288443,1.5462165651816209,3.244690388610465,1,1.6984738234288443,0.94923084984727324,1.90453540729611]
[4.8499999999999899,1.6984738234288443,1.5623229877355964,3.2607968111644405,1,1.6984738234288443,0.94923084984727335,1.8951147572766829]
[4.8999999999999897,1.6984738234288443,1.5784294102895711,3.2769032337184152,1,1.6984738234288443,0.94923084984727313,1.8858780946685951]
[4.9499999999999895,1.6984738234288443,1.5945358328435464,3.2930096562723907,1,1.6984738234288443,0.94923084984727302,1.8768200816233218]

{"sheet":"MyCurveFit","index":12,"n_rows":11,"n_cols":8,"rows_kept":11,"cut":false,"hidden":false,"merged":[]}
[]
[null,null,"y = 7874.737 + (-2.454762 - 7874.737)/(1 + (x/0.8854914)^8.701627)"]
["y = ",null,{"$f":"SUBSTITUTE(C2,A3,\"\")","v":"7874.737 + (-2.454762 - 7874.737)/(1 + (x/0.8854914)^8.701627)"}]
[" ",null,{"$f":"SUBSTITUTE(C3,A4,\"\")","v":"7874.737+(-2.454762-7874.737)/(1+(x/0.8854914)^8.701627)"}]
["(",null,"7874.737+-2.454762-7874.737)/1+x/0.8854914)^8.701627)"]
[")",null,"7874.737+-2.454762-7874.737/1+x/0.8854914^8.701627"]
["+",{"$f":"FIND(A7,C6)","v":9},{"$f":"RIGHT(C6,LEN(C6)-B7)","v":"-2.454762-7874.737/1+x/0.8854914^8.701627"},{"$f":"LEFT(C6,B7-1)","v":"7874.737"},null,null,"a",{"$f":"SUBSTITUTE(D8,\".\",\",\")","v":""}]
["-",{"$f":"FIND(A8,C7)","v":1},{"$f":"RIGHT(C7,LEN(C7)-B8)","v":"2.454762-7874.737/1+x/0.8854914^8.701627"},{"$f":"LEFT(C7,B8-1)","v":""},null,null,"b",{"$f":"SUBSTITUTE(C11,\".\",\",\")","v":"8,701627"}]
["/",{"$f":"FIND(A9,C8)","v":18},{"$f":"RIGHT(C8,LEN(C8)-B9)","v":"1+x/0.8854914^8.701627"},{"$f":"LEFT(C8,B9-1)","v":"2.454762-7874.737"},null,null,"c",{"$f":"SUBSTITUTE(D11,\".\",\",\")","v":"0,8854914"}]
["/",{"$f":"FIND(A10,C9)","v":4},{"$f":"RIGHT(C9,LEN(C9)-B10)","v":"0.8854914^8.701627"},{"$f":"LEFT(C9,B10-1)","v":"1+x"},null,null,"d",{"$f":"SUBSTITUTE(D7,\".\",\",\")","v":"7874,737"}]
["^",{"$f":"FIND(A11,C10)","v":10},{"$f":"RIGHT(C10,LEN(C10)-B11)","v":"8.701627"},{"$f":"LEFT(C10,B11-1)","v":"0.8854914"}]

{"sheet":"pi diff (2)","index":13,"n_rows":41,"n_cols":7,"rows_kept":41,"cut":false,"hidden":false,"merged":[]}
["pi","mst co2 inlet","mst co2 lean","mst co2 rich","Fi","Column1","Column2"]
[100,1.6984738234288443,0.36520634050041617,0.89236761791138186,0.31037350716818424,0.53808523246098139,1.2713328123319594]
[150,1.6984738234288443,0.41201912520938949,0.93652488067397965,0.30881003182358657,0.60705793459906232,1.3344646996424359]
[200,1.6984738234288443,0.44279914544504267,0.96918943109789479,0.30991957508664231,0.65240839133253814,1.3808455925035394]
[250,1.6984738234288443,0.4662224372451505,0.99539572717850133,0.31155810742203049,0.68691964159175456,1.4179353889394897]
[300,1.6984738234288443,0.4853293242041628,1.017433767659454,0.31328386467628311,0.71507121666259887,1.4490621692197054]
[350,1.6984738234288443,0.50156792288377883,1.0365471675708202,0.31497644373878908,0.73899673266921873,1.4760181238094376]
[400,1.6984738234288443,0.51574905211907418,1.0534898427062389,0.31660234215537369,0.75989082834860211,1.499884508145376]
[450,1.6984738234288443,0.52837548507486964,1.0687547573859553,0.31815578483286777,0.77849427620458056,1.5213661000329619]
[500,1.6984738234288443,0.53978187091353469,1.0826826242826975,0.31964034174701955,0.79530013934246524,1.5409489194473183]
[550,1.6984738234288443,0.55020290220062729,1.0955191464613767,0.32106249548190041,0.81065420749723749,1.5589828703493505]
[600,1.6984738234288443,0.55980992391829254,1.1074475727020889,0.32242925456350963,0.82480893577255809,1.5757285752739556]
[650,1.6984738234288443,0.56873209151144188,1.1186083579222965,0.32374727171289319,0.83795461833885021,1.5913855840272155]
[700,1.6984738234288443,0.57706932334502359,1.1291116227989815,0.32502255368263855,0.85023847223664073,1.606110213740491]
[750,1.6984738234288443,0.58490060596455595,1.1390453692846478,0.32626040841853876,0.86177687412480286,1.6200272925449877]
[800,1.6984738234288443,0.59228952697260895,1.1484810805715902,0.32746548455845675,0.87266351227244876,1.6332381535166665]
[850,1.6984738234288443,0.59928808109099674,1.157477647518695,0.32864184229865639,0.88297499430894177,1.6458262332418867]
[900,1.6984738234288443,0.60593936082002409,1.1660841894313647,0.32979303000415494,0.89277481156910421,1.6578610899664328]
[950,1.6984738234288443,0.61227950406483034,1.1743421238834049,0.3309221561530421,0.90211620867366404,1.669401349566374]
[1000,1.6984738234288443,0.6183391327806983,1.1822867140126954,0.33203195330588681,0.91104430319069052,1.6804969061765629]
[1050,1.6984738234288443,0.624144435591935,1.1899482444144449,0.33312483302231688,0.91959768073723147,1.6911905935636184]
[1100,1.6984738234288443,0.62971799497931769,1.197352928011594,0.33420293277546453,0.92780961373512394,1.7015194733492476]
[1150,1.6984738234288443,0.6350794290316556,1.2045236147398595,0.33526815535998167,0.93570900695054171,1.7115158412346307]
[1200,1.6984738234288443,0.64024589525673437,1.2114803519965689,0.33632220223838249,0.94332113979553556,1.7212080223645729]
[1250,1.6984738234288443,0.64523249101190849,1.2182408326791034,0.33736660157082515,0.95066825631173624,1.7306210069131724]
[1300,1.6984738234288443,0.65005257503087499,1.2248207569088314,0.33840273188174669,0.95777003889928181,1.7397769630294064]
[1350,1.6984738234288443,0.6547180281021131,1.2312341267181737,0.33943184208291277,0.96464399239344367,1.7486956545768515]
[1400,1.6984738234288443,0.65923946628114205,1.2374934881259279,0.34045506846694779,0.97130575820585308,1.7573947841836568]
[1450,1.6984738234288443,0.66362641669494427,1.2436101315230292,0.34147344917993827,0.97776937335002345,1.7658902771296687]
[1500,1.6984738234288443,0.66788746356847084,1.249594258729064,0.34248793660314136,0.98404748559289146,1.7741965179485946]
[1550,1.6984738234288443,0.67203037045994563,1.2554551231834818,0.34349940792477462,0.99015153355303609,1.7823265489389279]
[1600,1.6984738234288443,0.67606218297554177,1.2612011483160497,0.34450867435757199,0.99609189803772968,1.7902922377142332]
[1650,1.6984738234288443,0.67998931600680779,1.2668400280676111,0.34551648895953019,1.0018780305762245,1.7981044194816727]
[1700,1.6984738234288443,0.68381762776096189,1.2723788127125333,0.34652355357670223,1.0075185624940013,1.80577301845923]
[1750,1.6984738234288443,0.6875524833721145,1.2778239825026825,0.34753052475011942,1.0130213986358423,1.8133071520665709]
[1800,1.6984738234288443,0.69119880944962009,1.2831815111620852,0.34853801898305536,1.0183937977359092,1.8207152207174124]
[1850,1.6984738234288443,0.69476114129253974,1.288456920877199,0.34954661731914027,1.0236424419822663,1.8280049855761995]
[1900,1.6984738234288443,0.69824366385155734,1.293655330124577,0.35055686938466601,1.0287734973690701,1.8351836361696128]
[1950,1.6984738234288443,0.70165024742380733,1.2987814954369212,0.35156929696310391,1.0337926662883725,1.8422578494151471]
[2000,1.6984738234288443,0.70498447887725624,1.3038398480159672,0.35258439716766077,1.0387052335352869,1.849233841353888]
[2050,1.6984738234288443,0.70824968904973817,1.3088345259457339,0.35360264527571422,1.043516106676992,1.8561174126533195]

{"sheet":"690010","index":14,"n_rows":52,"n_cols":13,"rows_kept":52,"cut":false,"hidden":false,"merged":[]}
[null,null,null,null,null,null,null,null,null,"DIN 1.4301"]
[null,null,"Tr60x5",null,null,null,null,null,null,"17240.4","ČSN 17 240, AISI 304"]
[null,"p",1,"MPa",null,null,null,null,null,"http://woite-edelstahl.com/14301en.html"]
[null,"D",50,"mm",303.89999999999998,null,"p*V",{"$f":"C3*H5","v":54.746367475178353},null,"t","Rp0,2","Rp1,0","Rm"]
[null,"L",1290,"mm",null,null,"Vtot",{"$f":"SUM(H6:H8)*1000*1.1","v":54.746367475178353},"l",20,230,248,500]
[null,"SigD",{"$f":"K14","v":119.66666666666667},"MPa",null,null,"Vk",{"$f":"C5*PI()*C4^2/4/10^9","v":2.5329090769567707E-3},null,null,null,{"$f":"L5/L11","v":165.33333333333334},{"$f":"M5/M11","v":208.33333333333334}]
[null,"SigD20",{"$f":"K16","v":165.33333333333334},null,null,null,"Vr",{"$f":"(600*PI()*154^2)/10^9","v":4.4703606823521314E-2},"m3",100,155,190,450]
[null,"SigZk",{"$f":"L6","v":165.33333333333334},null,null,null,"Vh",{"$f":"H6","v":2.5329090769567707E-3},null,200,127,155,400]
[null,"s r",{"$f":"C3*C4/(2*C6-C3)","v":0.20979020979020979},"mm",{"$f":"C3*E4/(2*C6-C3)","v":1.2751048951048949},null,null,null,null,130,{"$f":"155-(155-127)/100*(J9-100)","v":146.6},{"$f":"L7-(L7-L8)/(J8-J7)*(J9-J7)","v":179.5},{"$f":"M7-(M7-M8)/(J8-J7)*(J9-J7)","v":435}]
[null,"c",1.2,"mm",1,null,null,null,null,null,null,"nt","nb"]
[null,"s' min",{"$f":"C9+C10","v":1.4097902097902097},"mm",{"$f":"E9+E10","v":2.2751048951048949},null,null,null,null,null,null,1.5,2.4]
[null,"s",5,"mm",7,null,null,null,null,null,null,{"$f":"L9/L11","v":119.66666666666667},{"$f":"M9/M11","v":181.25}]
[null,"p zk",{"$f":"1.25*C3*C7/C6","v":1.7270194986072425},"MPa",{"$f":"1.25*C3*C7/C6","v":1.7270194986072425}]
[null,null,{"$f":"C3*C8/C7","v":1},"Vyhovuje",{"$f":"C3*C8/C7","v":1},null,null,null,null,"SigD",{"$f":"MIN(L12:M12)","v":119.66666666666667}]
[]
["Vyztuzeni otvoru",null,null,null,null,null,null,null,null,"SigD20",{"$f":"MIN(L6:M6)","v":165.33333333333334}]
[null,"dout",12,"mm","Osamocennost"]
[null,"din",null,null,"b min",{"$f":"SQRT(C24*(6.35-E10))+SQRT(D24*(5-E10))","v":54.464151942362633}]
[null,"d0",{"$f":"2*((C12-C10)/C9-0.8)*SQRT(C4*(C12-C10))","v":477.29566145571073},"mm","b akt",45]
[]
[]
[null,"dout",323.89999999999998,60,141.30000000000001,{"$f":"D22+40","v":100},{"$f":"C22+2*C29","v":428.49636704972113}]
[null,"s",10,5,3.4]
[null,"din",{"$f":"C22-2*C23","v":303.89999999999998},{"$f":"D22-2*D23","v":50},{"$f":"E22-2*E23","v":134.5}]
[null,"s r",{"$f":"C3*C24/(4*C6-C3)","v":0.63621772505233765},{"$f":"C3*D24/(4*C6-C3)","v":0.104675505931612},{"$f":"C3*E24/(4*C6-C3)","v":0.28157711095603627},null,1]
[null,"d0",{"$f":"2*((C23-C10)/C25-0.8)*SQRT(C24*(C23-C10))","v":1347.8426199064886},{"$f":"2*((D23-C10)/D25-0.8)*SQRT(D24*(D23-C10))","v":978.74097632508358},{"$f":"2*((E23-C10)/E25-0.8)*SQRT(E24*(E23-C10))","v":241.27630952884618}]
[]
[null,"l1",38,58]
[null,"L0",{"$f":"SQRT(C24*(C23-E10))","v":52.29818352486059},{"$f":"SQRT(D24*(D23-E10))","v":14.142135623730951}]
[null,"k2",1,1]
[null,"K2",{"$f":"(1+COS(RADIANS(90))^2)/2","v":0.5}]
[null,"l2r",{"$f":"C29","v":52.29818352486059},{"$f":"D29","v":14.142135623730951}]
[]
[null,"v top",{"$f":"1+(C32*C23*C30+D32*D30*D23)/(F19*(C12-C10))","v":4.471886043083396}]
[null,"v top 2",{"$f":"1+(F19*E35*C30)/(F19*(C12-C10))","v":1.7894736842105263},"s2",3]
[null,"v bot",{"$f":"C31*(0.8+(C24+D24)/(F19))","v":4.3322222222222218}]
[null,"v tot",{"$f":"C35/C36","v":0.4130613787610859}]
[null,"[p]",{"$f":"2*(C12-C10)*C6/(0.5*(C24+D24)+(C12-C10)*C37)*C37","v":2.1043374807242121},"Mpa"]
[]
[]
[]
[null,"s1",8,"mm",null,"otvory","di",null,"^3"]
[null,"c",{"$f":"C10","v":1.2},null,null,null,12,{"$f":"G43/$C$47","v":8.9219330855018583E-2},{"$f":"H43^3","v":7.1019381396734017E-4}]
[null,"souc",{"$f":"(E23-C10)/(C42-C43)","v":0.3235294117647059},null,null,null,12,{"$f":"G44/$C$47","v":8.9219330855018583E-2},{"$f":"H44^3","v":7.1019381396734017E-4}]
[null,"K",0.41,null,null,null,12,{"$f":"G45/$C$47","v":8.9219330855018583E-2},{"$f":"H45^3","v":7.1019381396734017E-4}]
[null,"K0",{"$f":"G47","v":1.1672930062313362},null,null,null,null,{"$f":"SUM(H43:H45)","v":0.26765799256505574},{"$f":"SUM(I43:I45)","v":2.1305814419020205E-3}]
[null,"Dr",{"$f":"E24","v":134.5},null,null,"K0",{"$f":"SQRT((1-I46)/(1-H46))","v":1.1672930062313362}]
[null,"p",{"$f":"C3","v":1}]
[null,"fi",1]
[]
[null,"s1r",{"$f":"C45*C46*C47*SQRT(C48/C6/C49)","v":5.884362614797082}]
[null,"s1'",{"$f":"C51+C43","v":7.0843626147970822}]

{"sheet":"Condens","index":15,"n_rows":17,"n_cols":6,"rows_kept":17,"cut":false,"hidden":true,"merged":[]}
[]
[null,"Zdroj fitovani","https://mycurvefit.com/"]
[]
[null,"pRG co2","q g","q strip","q/q","q g (bez q strip)"]
[null,35,7.2,3.1,{"$f":"D5/C5","v":0.43055555555555558},{"$f":"C5-D5","v":4.0999999999999996}]
[null,58,5,1.7,{"$f":"D6/C6","v":0.33999999999999997},{"$f":"C6-D6","v":3.3}]
[null,85,4.2,1,{"$f":"D7/C7","v":0.23809523809523808},{"$f":"C7-D7","v":3.2}]
[null,110,4,0.9,{"$f":"D8/C8","v":0.22500000000000001},{"$f":"C8-D8","v":3.1}]
[null,135,3.8,0.8,{"$f":"D9/C9","v":0.2105263157894737},{"$f":"C9-D9","v":3}]
[]
[null,"Aproximace zavislosti na pRG co2"]
[null,"3,584612 + (19,1416 - 3,584612)/(1 + (C29/20,32905)^2,199038)"]
[null,"(0,2134545 + (0,4407069 - 0,2134545)/(1 + (C29/60,33977)^5,543955))"]
[null,"(3,006147 + (1478791 - 3,006147)/(1 + (C29/0,09026914)^2,369115))"]
[]
[]
[null,"RG - Rauchgas - spaliny"]

{"sheet":"VLE","index":16,"n_rows":64,"n_cols":16,"rows_kept":64,"cut":false,"hidden":false,"merged":[]}
[]
[]
[]
[null,"alfa40 mol co2/mol mea","p40","p41 mbar","Column1","d","alfa60","p60","p61","alfa80","p80","p81","alfa100","p100","alfa120","p120"]
[null,0.10199999999999999,1.6000000000000001E-3,{"$f":"Table3[[#This Row],[p40]]*10","v":1.6E-2},{"$f":"53195530 - 53195530/(1 + (Table3[[#This Row],[alfa40 mol co2/mol mea]]/0.9848806)^20.64783)","v":0},{"$f":"ABS(Table3[[#This Row],[p41 mbar]]-Table3[[#This Row],[Column1]])","v":1.6E-2},5.2999999999999999E-2,4.4999999999999997E-3,{"$f":"Table3[[#This Row],[p60]]*10","v":4.4999999999999998E-2},1.7000000000000001E-2,5.5999999999999999E-3,{"$f":"Table3[[#This Row],[p80]]*10","v":5.6000000000000001E-2}]
[null,0.20599999999999999,1.23E-2,{"$f":"Table3[[#This Row],[p40]]*10","v":0.123},{"$f":"53195530 - 53195530/(1 + (Table3[[#This Row],[alfa40 mol co2/mol mea]]/0.9848806)^20.64783)","v":4.9918889999389648E-7},{"$f":"ABS(Table3[[#This Row],[p41 mbar]]-Table3[[#This Row],[Column1]])","v":0.1229995008111},0.105,1.54E-2,{"$f":"Table3[[#This Row],[p60]]*10","v":0.154},0.04,2.1899999999999999E-2,{"$f":"Table3[[#This Row],[p80]]*10","v":0.219}]
[null,0.25,2.46E-2,{"$f":"Table3[[#This Row],[p40]]*10","v":0.246},{"$f":"53195530 - 53195530/(1 + (Table3[[#This Row],[alfa40 mol co2/mol mea]]/0.9848806)^20.64783)","v":2.6993453502655029E-5},{"$f":"ABS(Table3[[#This Row],[p41 mbar]]-Table3[[#This Row],[Column1]])","v":0.24597300654649734},0.16200000000000001,4.2700000000000002E-2,{"$f":"Table3[[#This Row],[p60]]*10","v":0.42700000000000005},7.4999999999999997E-2,5.57E-2,{"$f":"Table3[[#This Row],[p80]]*10","v":0.55699999999999994}]
[null,0.33700000000000002,6.0299999999999999E-2,{"$f":"Table3[[#This Row],[p40]]*10","v":0.60299999999999998},{"$f":"53195530 - 53195530/(1 + (Table3[[#This Row],[alfa40 mol co2/mol mea]]/0.9848806)^20.64783)","v":1.2855008244514465E-2},{"$f":"ABS(Table3[[#This Row],[p41 mbar]]-Table3[[#This Row],[Column1]])","v":0.59014499175548552},0.24399999999999999,0.1348,{"$f":"Table3[[#This Row],[p60]]*10","v":1.3480000000000001},0.122,0.1406,{"$f":"Table3[[#This Row],[p80]]*10","v":1.4060000000000001}]
[null,0.35299999999999998,8.5099999999999995E-2,{"$f":"Table3[[#This Row],[p40]]*10","v":0.85099999999999998},{"$f":"53195530 - 53195530/(1 + (Table3[[#This Row],[alfa40 mol co2/mol mea]]/0.9848806)^20.64783)","v":3.3497996628284454E-2},{"$f":"ABS(Table3[[#This Row],[p41 mbar]]-Table3[[#This Row],[Column1]])","v":0.81750200337171552},0.30299999999999999,0.30149999999999999,{"$f":"Table3[[#This Row],[p60]]*10","v":3.0149999999999997},0.155,0.2485,{"$f":"Table3[[#This Row],[p80]]*10","v":2.4849999999999999}]
[null,0.40100000000000002,0.1835,{"$f":"Table3[[#This Row],[p40]]*10","v":1.835},{"$f":"53195530 - 53195530/(1 + (Table3[[#This Row],[alfa40 mol co2/mol mea]]/0.9848806)^20.64783)","v":0.46588879078626633},{"$f":"ABS(Table3[[#This Row],[p41 mbar]]-Table3[[#This Row],[Column1]])","v":1.3691112092137336},0.36,0.64359999999999995,{"$f":"Table3[[#This Row],[p60]]*10","v":6.4359999999999999},0.216,0.61370000000000002,{"$f":"Table3[[#This Row],[p80]]*10","v":6.1370000000000005}]
[null,0.41699999999999998,0.2928,{"$f":"Table3[[#This Row],[p40]]*10","v":2.9279999999999999},{"$f":"53195530 - 53195530/(1 + (Table3[[#This Row],[alfa40 mol co2/mol mea]]/0.9848806)^20.64783)","v":1.0450176522135735},{"$f":"ABS(Table3[[#This Row],[p41 mbar]]-Table3[[#This Row],[Column1]])","v":1.8829823477864265},0.39300000000000002,1.097,{"$f":"Table3[[#This Row],[p60]]*10","v":10.969999999999999},0.27100000000000002,1.2538,{"$f":"Table3[[#This Row],[p80]]*10","v":12.538}]
[null,0.42099999999999999,0.31879999999999997,{"$f":"Table3[[#This Row],[p40]]*10","v":3.1879999999999997},{"$f":"53195530 - 53195530/(1 + (Table3[[#This Row],[alfa40 mol co2/mol mea]]/0.9848806)^20.64783)","v":1.2727126851677895},{"$f":"ABS(Table3[[#This Row],[p41 mbar]]-Table3[[#This Row],[Column1]])","v":1.9152873148322103},0.42799999999999999,2.5013999999999998,{"$f":"Table3[[#This Row],[p60]]*10","v":25.013999999999999},0.34699999999999998,3.7522000000000002,{"$f":"Table3[[#This Row],[p80]]*10","v":37.522000000000006}]
[null,0.433,0.38090000000000002,{"$f":"Table3[[#This Row],[p40]]*10","v":3.8090000000000002},{"$f":"53195530 - 53195530/(1 + (Table3[[#This Row],[alfa40 mol co2/mol mea]]/0.9848806)^20.64783)","v":2.2738073170185089},{"$f":"ABS(Table3[[#This Row],[p41 mbar]]-Table3[[#This Row],[Column1]])","v":1.5351926829814913},0.49099999999999999,13.558,{"$f":"Table3[[#This Row],[p60]]*10","v":135.57999999999998},0.4,7.9386999999999999,{"$f":"Table3[[#This Row],[p80]]*10","v":79.387}]
[null,0.44700000000000001,0.57020000000000004,{"$f":"Table3[[#This Row],[p40]]*10","v":5.702},{"$f":"53195530 - 53195530/(1 + (Table3[[#This Row],[alfa40 mol co2/mol mea]]/0.9848806)^20.64783)","v":4.3863061964511871},{"$f":"ABS(Table3[[#This Row],[p41 mbar]]-Table3[[#This Row],[Column1]])","v":1.3156938035488128},null,null,null,0.39800000000000002,8.3031000000000006,{"$f":"Table3[[#This Row],[p80]]*10","v":83.031000000000006}]
[null,0.46400000000000002,1.0662,{"$f":"Table3[[#This Row],[p40]]*10","v":10.662000000000001},{"$f":"53195530 - 53195530/(1 + (Table3[[#This Row],[alfa40 mol co2/mol mea]]/0.9848806)^20.64783)","v":9.4800291582942009},{"$f":"ABS(Table3[[#This Row],[p41 mbar]]-Table3[[#This Row],[Column1]])","v":1.1819708417057999}]
[null,0.47599999999999998,1.8326,{"$f":"Table3[[#This Row],[p40]]*10","v":18.326000000000001},{"$f":"53195530 - 53195530/(1 + (Table3[[#This Row],[alfa40 mol co2/mol mea]]/0.9848806)^20.64783)","v":16.061009228229523},{"$f":"ABS(Table3[[#This Row],[p41 mbar]]-Table3[[#This Row],[Column1]])","v":2.2649907717704778}]
[null,0.47699999999999998,1.8278000000000001,{"$f":"Table3[[#This Row],[p40]]*10","v":18.278000000000002},{"$f":"53195530 - 53195530/(1 + (Table3[[#This Row],[alfa40 mol co2/mol mea]]/0.9848806)^20.64783)","v":16.772268317639828},{"$f":"ABS(Table3[[#This Row],[p41 mbar]]-Table3[[#This Row],[Column1]])","v":1.5057316823601745}]
[null,0.48499999999999999,2.3193000000000001,{"$f":"Table3[[#This Row],[p40]]*10","v":23.193000000000001},{"$f":"53195530 - 53195530/(1 + (Table3[[#This Row],[alfa40 mol co2/mol mea]]/0.9848806)^20.64783)","v":23.644952483475208},{"$f":"ABS(Table3[[#This Row],[p41 mbar]]-Table3[[#This Row],[Column1]])","v":0.45195248347520689}]
[null,0.48899999999999999,2.8576999999999999,{"$f":"Table3[[#This Row],[p40]]*10","v":28.576999999999998},{"$f":"53195530 - 53195530/(1 + (Table3[[#This Row],[alfa40 mol co2/mol mea]]/0.9848806)^20.64783)","v":28.015069752931595},{"$f":"ABS(Table3[[#This Row],[p41 mbar]]-Table3[[#This Row],[Column1]])","v":0.56193024706840333}]
[null,0.51600000000000001,8.5582999999999991,{"$f":"Table3[[#This Row],[p40]]*10","v":85.582999999999998},{"$f":"53195530 - 53195530/(1 + (Table3[[#This Row],[alfa40 mol co2/mol mea]]/0.9848806)^20.64783)","v":84.982399843633175},{"$f":"ABS(Table3[[#This Row],[p41 mbar]]-Table3[[#This Row],[Column1]])","v":0.60060015636682351}]
[null,0.52400000000000002,11.811999999999999,{"$f":"Table3[[#This Row],[p40]]*10","v":118.11999999999999},{"$f":"53195530 - 53195530/(1 + (Table3[[#This Row],[alfa40 mol co2/mol mea]]/0.9848806)^20.64783)","v":116.75862454622984},{"$f":"ABS(Table3[[#This Row],[p41 mbar]]-Table3[[#This Row],[Column1]])","v":1.361375453770151}]
[]
[]
[]
[]
[]
[]
[null,"FitCurve alfa40"]
[null,"textove"," 53195530 + (0.9903522 - 53195530)/(1 + (x/0.9848806)^20.64783)"]
[null,null,"0,7081538 + 5,910075e-8*e^(+40,85852*x)"]
[null,"alfa",0.5]
[null,"pco2",{"$f":"53195530 - 53195530/(1 + (C31/0.9848806)^20.64783)","v":44.347920328378677}]
[null,null,{"$f":"0.7081538 +( 5.910075^-8)*EXP(40.85852*C31)","v":501.40049671432524}]
[]
[]
[]
[null,null,null,40,null,null,60]
[null,"SINTEF","mol/mol","p kpa","p mbar","p mbar fit40","p mbar2","p mbar fit60"]
[null,null,0.1,2E-3,{"$f":"Table4[[#This Row],[p kpa]]*10","v":0.02},{"$f":"367.3561 + (0.5104124 - 367.3561)/(1 + (Table4[[#This Row],[mol/mol]]/0.5930286)^15.05222)","v":0.51041240084725814},0.1,{"$f":"179154900 + (7.008588 - 179154900)/(1 + (Table4[[#This Row],[mol/mol]]/0.9931332)^20.97281)","v":7.0085879862308502}]
[null,null,0.15,4.0000000000000001E-3,{"$f":"Table4[[#This Row],[p kpa]]*10","v":0.04},{"$f":"367.3561 + (0.5104124 - 367.3561)/(1 + (Table4[[#This Row],[mol/mol]]/0.5930286)^15.05222)","v":0.51041277891619075},0.25,{"$f":"179154900 + (7.008588 - 179154900)/(1 + (Table4[[#This Row],[mol/mol]]/0.9931332)^20.97281)","v":7.0085879862308502}]
[null,null,0.2,0.01,{"$f":"Table4[[#This Row],[p kpa]]*10","v":0.1},{"$f":"367.3561 + (0.5104124 - 367.3561)/(1 + (Table4[[#This Row],[mol/mol]]/0.5930286)^15.05222)","v":0.51044118382571924},0.6,{"$f":"179154900 + (7.008588 - 179154900)/(1 + (Table4[[#This Row],[mol/mol]]/0.9931332)^20.97281)","v":7.008588433265686}]
[null,null,0.25,2.1999999999999999E-2,{"$f":"Table4[[#This Row],[p kpa]]*10","v":0.21999999999999997},{"$f":"367.3561 + (0.5104124 - 367.3561)/(1 + (Table4[[#This Row],[mol/mol]]/0.5930286)^15.05222)","v":0.51124007227349466},1.2,{"$f":"179154900 + (7.008588 - 179154900)/(1 + (Table4[[#This Row],[mol/mol]]/0.9931332)^20.97281)","v":7.008636862039566}]
[null,null,0.3,4.7E-2,{"$f":"Table4[[#This Row],[p kpa]]*10","v":0.47},{"$f":"367.3561 + (0.5104124 - 367.3561)/(1 + (Table4[[#This Row],[mol/mol]]/0.5930286)^15.05222)","v":0.52328593094614462},2.5,{"$f":"179154900 + (7.008588 - 179154900)/(1 + (Table4[[#This Row],[mol/mol]]/0.9931332)^20.97281)","v":7.0108254253864288}]
[null,null,0.35,0.1,{"$f":"Table4[[#This Row],[p kpa]]*10","v":1},{"$f":"367.3561 + (0.5104124 - 367.3561)/(1 + (Table4[[#This Row],[mol/mol]]/0.5930286)^15.05222)","v":0.64140767168373714},5.5,{"$f":"179154900 + (7.008588 - 179154900)/(1 + (Table4[[#This Row],[mol/mol]]/0.9931332)^20.97281)","v":7.0653183460235596}]
[null,null,0.4,0.25,{"$f":"Table4[[#This Row],[p kpa]]*10","v":2.5},{"$f":"367.3561 + (0.5104124 - 367.3561)/(1 + (Table4[[#This Row],[mol/mol]]/0.5930286)^15.05222)","v":1.4857659091726987},15,{"$f":"179154900 + (7.008588 - 179154900)/(1 + (Table4[[#This Row],[mol/mol]]/0.9931332)^20.97281)","v":7.9419918656349182}]
[null,null,0.45,0.7,{"$f":"Table4[[#This Row],[p kpa]]*10","v":7},{"$f":"367.3561 + (0.5104124 - 367.3561)/(1 + (Table4[[#This Row],[mol/mol]]/0.5930286)^15.05222)","v":6.1795040203300005},50,{"$f":"179154900 + (7.008588 - 179154900)/(1 + (Table4[[#This Row],[mol/mol]]/0.9931332)^20.97281)","v":18.046367466449738}]
[null,null,0.5,2.6,{"$f":"Table4[[#This Row],[p kpa]]*10","v":26},{"$f":"367.3561 + (0.5104124 - 367.3561)/(1 + (Table4[[#This Row],[mol/mol]]/0.5930286)^15.05222)","v":26.629149624320405},100,{"$f":"179154900 + (7.008588 - 179154900)/(1 + (Table4[[#This Row],[mol/mol]]/0.9931332)^20.97281)","v":107.59623569250107}]
[null,null,0.55000000000000004,9,{"$f":"Table4[[#This Row],[p kpa]]*10","v":90},{"$f":"367.3561 + (0.5104124 - 367.3561)/(1 + (Table4[[#This Row],[mol/mol]]/0.5930286)^15.05222)","v":89.822938990889838},750,{"$f":"179154900 + (7.008588 - 179154900)/(1 + (Table4[[#This Row],[mol/mol]]/0.9931332)^20.97281)","v":749.45312738418579}]
[null,null,0.6,20,{"$f":"Table4[[#This Row],[p kpa]]*10","v":200},{"$f":"367.3561 + (0.5104124 - 367.3561)/(1 + (Table4[[#This Row],[mol/mol]]/0.5930286)^15.05222)","v":200.02525909759206},2000,{"$f":"179154900 + (7.008588 - 179154900)/(1 + (Table4[[#This Row],[mol/mol]]/0.9931332)^20.97281)","v":4611.5561440587044}]
[]
[40,"alfa->>>pco2"]
[null,"y = 367.3561 + (0.5104124 - 367.3561)/(1 + (x/0.5930286)^15.05222)"]
[null,"alfa",0.4]
[null,"pco2",{"$f":"367.3561 + (0.5104124 - 367.3561)/(1 + (C53/0.5930286)^15.05222)","v":1.4857659091726987}]
[]
[null,"pco2->>>alfa"]
[null,"y=0,9497223 + (-1,60215 - 0,9497223)/(1 + (x/0,00006560621)^0,1212127)"]
[null,"pco2",{"$f":"C54","v":1.4857659091726987}]
[null,"alfa",{"$f":"0.9497223 + (-1.60215 - 0.9497223)/(1 + (C58/0.00006560621)^0.1212127)","v":0.36603115857947222}]
[]
[60,"alfa->>>pco2"]
[null,"y = 179154900 + (7,008588 - 179154900)/(1 + (x/0,9931332)^20,97281)"]
[null,"alfa"]
[null,"pco2"]

{"sheet":"LG-qGen","index":17,"n_rows":27,"n_cols":11,"rows_kept":27,"cut":false,"hidden":false,"merged":[]}
[]
[null,{"$f":"MainDesign!B28","v":"p i co2"},{"$f":"MainDesign!C28","v":150},{"$f":"MainDesign!D28","v":"mbar"},{"$f":"MainDesign!I25","v":"M MEA"},{"$f":"MainDesign!J25","v":61.08},{"$f":"MainDesign!K25","v":"g/mol"}]
[null,{"$f":"MainDesign!B25","v":"Flue gas inlet"},{"$f":"MainDesign!C25","v":6.3223332579366556},{"$f":"MainDesign!D25","v":"kg/h"},{"$f":"MainDesign!I26","v":"M CO2"},{"$f":"MainDesign!J26","v":44.01},{"$f":"MainDesign!K26","v":"g/mol"}]
[null,{"$f":"MainDesign!B31","v":"w co2 inlet"},{"$f":"MainDesign!C31","v":0.22070844686648503},null,{"$f":"MainDesign!B45","v":"w MEA"},{"$f":"MainDesign!C45","v":0.3},{"$f":"MainDesign!D45","v":"vypocet plati pro 30%wt"}]
[]
[null,"LG","mst lean","nst MEA","alfa teor","mst co2 teor","mst co2 inlet","Fi","mst co2 skut","q gen","Q gen"]
[null,2,{"$f":"$C$3*B7","v":12.644666515873311},{"$f":"C7*$F$4/$F$2*1000","v":62.105434753798185},{"$f":"MainDesign!#REF!","v":{"$error":"#REF!"}},{"$f":"E7*D7*$F$3/1000","v":{"$error":"#REF!"}},{"$f":"$C$3*$C$4","v":1.3953923539315236},{"$f":"G7/F7","v":{"$error":"#REF!"}},{"$f":"G7*H7","v":{"$error":"#REF!"}},{"$f":" 3.584612 + (19.1416 - 3.584612)/(1 + ($C$2/20.32905)^2.199038)","v":3.774235086038809},{"$f":"J7/3.6*I7","v":{"$error":"#REF!"}}]
[null,2.1,{"$f":"$C$3*B8","v":13.276899841666978},{"$f":"C8*$F$4/$F$2*1000","v":65.210706491488111},{"$f":"MainDesign!#REF!","v":{"$error":"#REF!"}},{"$f":"E8*D8*$F$3/1000","v":{"$error":"#REF!"}},{"$f":"$C$3*$C$4","v":1.3953923539315236},{"$f":"G8/F8","v":{"$error":"#REF!"}},{"$f":"G8*H8","v":{"$error":"#REF!"}},{"$f":" 3.584612 + (19.1416 - 3.584612)/(1 + ($C$2/20.32905)^2.199038)","v":3.774235086038809},{"$f":"J8/3.6*I8","v":{"$error":"#REF!"}}]
[null,2.2000000000000002,13.909133167460643,68.315978229178015,{"$f":"MainDesign!#REF!","v":{"$error":"#REF!"}},{"$error":"#REF!"},1.3953923539315236,{"$error":"#REF!"},{"$error":"#REF!"},3.774235086038809,{"$error":"#REF!"}]
[null,2.2999999999999998,14.541366493254307,71.421249966867904,{"$f":"MainDesign!#REF!","v":{"$error":"#REF!"}},{"$error":"#REF!"},1.3953923539315236,{"$error":"#REF!"},{"$error":"#REF!"},3.774235086038809,{"$error":"#REF!"}]
[null,2.4,15.173599819047972,74.526521704557808,{"$f":"MainDesign!#REF!","v":{"$error":"#REF!"}},{"$error":"#REF!"},1.3953923539315236,{"$error":"#REF!"},{"$error":"#REF!"},3.774235086038809,{"$error":"#REF!"}]
[null,2.5,15.805833144841639,77.631793442247741,{"$f":"MainDesign!#REF!","v":{"$error":"#REF!"}},{"$error":"#REF!"},1.3953923539315236,{"$error":"#REF!"},{"$error":"#REF!"},3.774235086038809,{"$error":"#REF!"}]
[null,2.6,16.438066470635306,80.737065179937645,{"$f":"MainDesign!#REF!","v":{"$error":"#REF!"}},{"$error":"#REF!"},1.3953923539315236,{"$error":"#REF!"},{"$error":"#REF!"},3.774235086038809,{"$error":"#REF!"}]
[null,2.7,17.070299796428973,83.842336917627563,{"$f":"MainDesign!#REF!","v":{"$error":"#REF!"}},{"$error":"#REF!"},1.3953923539315236,{"$error":"#REF!"},{"$error":"#REF!"},3.774235086038809,{"$error":"#REF!"}]
[null,2.8,17.702533122222633,86.947608655317453,{"$f":"MainDesign!#REF!","v":{"$error":"#REF!"}},{"$error":"#REF!"},1.3953923539315236,{"$error":"#REF!"},{"$error":"#REF!"},3.774235086038809,{"$error":"#REF!"}]
[null,2.9,18.3347664480163,90.052880393007371,{"$f":"MainDesign!#REF!","v":{"$error":"#REF!"}},{"$error":"#REF!"},1.3953923539315236,{"$error":"#REF!"},{"$error":"#REF!"},3.774235086038809,{"$error":"#REF!"}]
[null,3,18.966999773809967,93.158152130697275,{"$f":"MainDesign!#REF!","v":{"$error":"#REF!"}},{"$error":"#REF!"},1.3953923539315236,{"$error":"#REF!"},{"$error":"#REF!"},3.774235086038809,{"$error":"#REF!"}]
[null,3.1,19.599233099603634,96.263423868387193,{"$f":"MainDesign!#REF!","v":{"$error":"#REF!"}},{"$error":"#REF!"},1.3953923539315236,{"$error":"#REF!"},{"$error":"#REF!"},3.774235086038809,{"$error":"#REF!"}]
[null,3.2,20.231466425397301,99.368695606077125,{"$f":"MainDesign!#REF!","v":{"$error":"#REF!"}},{"$error":"#REF!"},1.3953923539315236,{"$error":"#REF!"},{"$error":"#REF!"},3.774235086038809,{"$error":"#REF!"}]
[null,3.3,20.863699751190961,102.473967343767,{"$f":"MainDesign!#REF!","v":{"$error":"#REF!"}},{"$error":"#REF!"},1.3953923539315236,{"$error":"#REF!"},{"$error":"#REF!"},3.774235086038809,{"$error":"#REF!"}]
[null,3.4,21.495933076984628,105.5792390814569,{"$f":"MainDesign!#REF!","v":{"$error":"#REF!"}},{"$error":"#REF!"},1.3953923539315236,{"$error":"#REF!"},{"$error":"#REF!"},3.774235086038809,{"$error":"#REF!"}]
[null,3.5,22.128166402778294,108.68451081914684,{"$f":"MainDesign!#REF!","v":{"$error":"#REF!"}},{"$error":"#REF!"},1.3953923539315236,{"$error":"#REF!"},{"$error":"#REF!"},3.774235086038809,{"$error":"#REF!"}]
[null,3.6,22.760399728571961,111.78978255683674,{"$f":"MainDesign!#REF!","v":{"$error":"#REF!"}},{"$error":"#REF!"},1.3953923539315236,{"$error":"#REF!"},{"$error":"#REF!"},3.774235086038809,{"$error":"#REF!"}]
[null,3.7,23.392633054365628,114.89505429452666,{"$f":"MainDesign!#REF!","v":{"$error":"#REF!"}},{"$error":"#REF!"},1.3953923539315236,{"$error":"#REF!"},{"$error":"#REF!"},3.774235086038809,{"$error":"#REF!"}]
[null,3.8,24.024866380159288,118.00032603221653,{"$f":"MainDesign!#REF!","v":{"$error":"#REF!"}},{"$error":"#REF!"},1.3953923539315236,{"$error":"#REF!"},{"$error":"#REF!"},3.774235086038809,{"$error":"#REF!"}]
[null,3.9,24.657099705952955,121.10559776990647,{"$f":"MainDesign!#REF!","v":{"$error":"#REF!"}},{"$error":"#REF!"},1.3953923539315236,{"$error":"#REF!"},{"$error":"#REF!"},3.774235086038809,{"$error":"#REF!"}]
[null,4,25.289333031746622,124.21086950759637,{"$f":"MainDesign!#REF!","v":{"$error":"#REF!"}},{"$error":"#REF!"},1.3953923539315236,{"$error":"#REF!"},{"$error":"#REF!"},3.774235086038809,{"$error":"#REF!"}]

{"sheet":"piCO2 diff","index":18,"n_rows":52,"n_cols":6,"rows_kept":52,"cut":false,"hidden":false,"merged":[]}
["pico2","Q gen","Q cond pary","Q HE","Fi","Q cond abs"]
[10,4.276799672261407,-2.0201576506113308,1.6229731753604502,0.55137562385048078,0.49316531105452205]
[20,2.8800261178454818,1.0998874834564223,1.6229731753604502,0.53069118287675332,0.49490851509072475]
[30,2.0167820651627566,0.89450983435958498,1.6229731753604502,0.51977051217575232,0.49583042385088566]
[40,1.5590826957971753,0.6403962231962822,1.6229731753604502,0.51235897451703494,0.4964567104686522]
[50,1.3086588270366266,0.47798559818467257,1.6229731753604502,0.50676253461166165,0.4969299480180171]
[60,1.1617448209355543,0.37734123121309565,1.6229731753604502,0.5022748696982231,0.49730963209516205]
[70,1.0694889067829114,0.31280008382208307,1.6229731753604502,0.49853411130877856,0.49762626285806394]
[80,1.0080686999099635,0.26961319978080972,1.6229731753604502,0.49533023797425335,0.49789755076205128]
[90,0.96513050176134429,0.23954826000287993,1.6229731753604502,0.49253060545795929,0.49813468588495824]
[100,0.93386339151223441,0.21788158925950829,1.6229731753604502,0.4900461367908005,0.49834518555137203]
[110,0.91030080318730522,0.20179559568069799,1.6229731753604502,0.48781415284234492,0.49853434096968391]
[120,0.89202005247171645,0.18954334133420719,1.6229731753604502,0.48578889706406886,0.49870601584811958]
[130,0.87747935828815238,0.180002501304065,1.6229731753604502,0.48393595814744522,0.4988631166142497]
[140,0.86566204222159648,0.17242872808634399,1.6229731753604502,0.48222881339505086,0.49900788391539364]
[150,0.85587664173213385,0.1663142233078814,1.6229731753604502,0.4806465939859213,0.49914208112005365]
[160,0.84763998032781984,0.16130378663880382,1.6229731753604502,0.4791725883423818,0.4992671205871328]
[170,0.84060627710924107,0.15714337315043742,1.6229731753604502,0.47779320937049513,0.49938415081592086]
[180,0.83452278527911616,0.15364764723505381,1.6229731753604502,0.47649726323106806,0.49949411816257872]
[190,0.82920123812606128,0.15067897648100856,1.6229731753604502,0.47527541990756456,0.49959781153238259]
[200,0.82449900057528169,0.14813350691251076,1.6229731753604502,0.47411982229783395,0.49969589538369374]
[210,0.82030634234190936,0.14593173281656097,1.6229731753604502,0.47302379253037319,0.49978893452708695]
[220,0.81653766700210295,0.14401198516730332,1.6229731753604502,0.47198160788751459,0.49987741304943772]
[230,0.81312535426118127,0.14232585513583476,1.6229731753604502,0.47098832746191749,0.49996174895535855]
[240,0.81001536322464451,0.14083492524095512,1.6229731753604502,0.47003965635990502,0.50004230563870578]
[250,0.80716404425143073,0.1395083996958224,1.6229731753604502,0.46913183811945275,0.50011940097173269]
[260,0.80453579418947263,0.13832136306751452,1.6229731753604502,0.46826156858838208,0.50019331458199789]
[270,0.80210130925494361,0.1372534845027128,1.6229731753604502,0.46742592632770308,0.50026429373362125]
[280,0.79983626746494474,0.13628804226745028,1.6229731753604502,0.46662231588743536,0.50033255812125421]
[290,0.79772032384503344,0.13541118148111986,1.6229731753604502,0.465848421192046,0.50039830381005257]
[300,0.79573633619494233,0.13461134362958854,1.6229731753604502,0.4651021669605126,0.50046170649685262]
[310,0.79386976270963738,0.13387882400187098,1.6229731753604502,0.46438168654990908,0.50052292422862454]
[320,0.7921081890636269,0.1332054253685023,1.6229731753604502,0.46368529498159083,0.50058209968300049]
[330,0.79044095399835057,0.13258418476112524,1.6229731753604502,0.46301146618629097,0.50063936209227378]
[340,0.78885885052795035,0.13200915627086107,1.6229731753604502,0.46235881369389842,0.50069482887628114]
[350,0.78735388571858944,0.1314752371393309,1.6229731753604502,0.46172607416592931,0.50074860703501445]
[360,0.785919086198409,0.13097802757020494,1.6229731753604502,0.46111209328150665,0.50080079434229918]
[370,0.7845483396517211,0.13051371700231848,1.6229731753604502,0.46051581358665611,0.50085148037350258]
[380,0.78323626482626596,0.13007899129278136,1.6229731753604502,0.45993626398566434,0.50090074739442381]
[390,0.7819781042973416,0.12967095653448502,1.6229731753604502,0.45937255061818993,0.50094867113302233]
[400,0.78076963550634693,0.12928707618885601,1.6229731753604502,0.45882384890748934,0.50099532145212589]
[410,0.77960709656643157,0.12892511894084974,1.6229731753604502,0.45828939660406109,0.50104076293796507]
[420,0.77848712407306286,0.12858311523737093,1.6229731753604502,0.45776848768030892,0.50108505541674642]
[430,0.77740670072200124,0.12825932089477343,1.6229731753604502,0.45726046695196476,0.50112825440975794]
[440,0.77636311098922883,0.12795218649190271,1.6229731753604502,0.45676472532710555,0.50117041153540276]
[450,0.77535390346826805,0.12766033152076106,1.6229731753604502,0.45628069559708656,0.50121157486539092]
[460,0.77437685872777873,0.12738252246710105,1.6229731753604502,0.45580784869486973,0.50125178924139868]
[470,0.77342996177460965,0.12711765415282317,1.6229731753604502,0.45534569036210865,0.5012910965571532]
[480,0.77251137837067907,0.12686473379626795,1.6229731753604502,0.45489375817156258,0.50132953601045394]
[490,0.77161943458991333,0.12662286734666114,1.6229731753604502,0.45445161886036445,0.50136714432889851]
[500,0.77075259911205318,0.12639124772912591,1.6229731753604502,0.45401886593713037,0.50140395597243981]
[510,0.769909467831977,0.12616914469993792,1.6229731753604502,0.45359511752781029,0.50144000331574168]

{"sheet":"PriceList","index":19,"n_rows":30,"n_cols":14,"rows_kept":30,"cut":false,"hidden":false,"merged":[]}
[null,null,null,null,null,null,null,null,null,null,null,"CZK",22.6,"USD"]
[]
[null,"Name","Source","Quantity","PriceUSD","PriceCZK",null,"Total"]
[null,"ENDRESS+HAUSER  TMR31","https://www.e-direct.endress.com/cz/en/temperature-sensor-tmr31#tab1",2,null,3600,null,{"$f":"IF(E4=\"\",F4,E4*$M$1)*D4","v":7200}]
[null,"Eximus pt31 m12","http://obchod.eximus.cz/cidla-teploty/pt31-m12x1-5-6x60mm-pt100-b-4w-1m-200-c-13036i",1]
[]
[]
[]
[]
[]
[]
[]
[]
[]
[]
[]
[]
[]
[]
[]
[]
[]
[]
[]
[]
[null,"T",150]
[null,"dt",{"$f":"0.1+0.0017*C26","v":0.35499999999999998},"Class AA ± (0,1+0,0017 * t), ±0,1 °C (0 °C), ±0,27 °C (100 °C), defined on range -50…+250 °C (wire wound resistor), 0…+150 °C (thin film resistor)"]
[null,null,{"$f":"0.15+0.002*C26","v":0.44999999999999996},"Class A ± (0,15+0,002 * t), ±0,15 °C (0 °C), ±0,35 °C (100 °C), defined on range -100…+450 °C (wire wound resistor), -30…+300 °C (thin film resistor)"]
[null,null,{"$f":"0.3+0.005*C26","v":1.05},"Class B ± (0,3+0,005 * t), ±0,3 °C (0 °C), ±0,8 °C (100 °C), defined on range -196…+600 °C (wire wound resistor), -50…+500 °C (thin film resistor)"]
[null,null,null,"Class C ± (0,6+0,01 * t), not commonly used for industrial measuring circuits."]

{"sheet":"Sheet1","index":20,"n_rows":0,"n_cols":0,"rows_kept":0,"cut":false,"hidden":false,"merged":[]}