{"text_format":"1","workbook":"xlsx","n_sheets":14,"sheets":["Rozvaha","Výkaz zisků a ztrát","Horizontální a vertikální anal.","Poměrová analýza","Rozdělení aktiv","Predikce hodnot rozvahy","Predikce hodnot výkazovky","Analýza generátorů hodnot","Ocenění generátory hodnot","Ocenění DCF","Ocenění EVA","Ocenění shrnutí","Citlivostní analýza","Citlivostní analýza - výpočet"],"not_rendered":{"charts":20,"images":0,"macros":0,"external_links":0,"defined_names":12,"comments":0,"pivot_tables":0},"unopened":[],"bounds":{"document_bytes":16777216,"sheet_cells":100000,"rows_first":2000,"rows_last":500,"rows_between":2000,"halvings":0,"cell_chars":16384,"cell_head_chars":4096},"cells_cut":0,"cells_raw":0,"read":"whole","date_system":"1900"}

{"sheet":"Rozvaha","index":0,"n_rows":140,"n_cols":15,"rows_kept":140,"cut":false,"hidden":false,"merged":[[97,3,97,5],[96,3,96,5],[94,3,94,5],[93,3,93,5],[91,4,91,5],[90,4,90,5],[110,4,110,5],[109,4,109,5],[108,3,108,5],[106,3,106,5],[105,3,105,5],[104,3,104,5],[116,4,116,5],[115,4,115,5],[114,4,114,5],[113,4,113,5],[112,4,112,5],[111,4,111,5],[125,4,125,5],[124,4,124,5],[123,4,123,5],[122,4,122,5],[121,3,121,5],[117,4,117,5],[131,0,131,4],[132,0,132,4],[133,0,133,4],[134,0,134,4],[135,0,135,4],[136,0,136,4],[125,0,125,3],[126,0,126,3],[127,0,127,3],[128,0,128,3],[129,0,129,3],[130,0,130,4],[129,4,129,5],[128,4,128,5],[127,4,127,5],[126,4,126,5],[98,0,98,2],[107,0,107,1],[108,0,108,2],[109,0,109,3],[110,0,110,3],[111,0,111,3],[103,3,103,5],[98,3,98,5],[67,0,67,4],[69,0,69,2],[70,0,70,2],[87,0,87,3],[88,0,88,3],[89,0,89,3],[89,4,89,5],[88,4,88,5],[87,4,87,5],[86,3,86,5],[105,0,105,2],[102,2,102,5],[101,1,101,5],[107,2,107,5],[82,0,82,2],[83,0,83,2],[58,0,58,3],[59,0,59,3],[60,0,60,3],[61,0,61,3],[62,0,62,4],[63,0,63,4],[48,0,48,3],[49,0,49,3],[50,0,50,3],[51,0,51,3],[52,0,52,3],[53,0,53,4],[50,4,50,5],[51,4,51,5],[52,4,52,5],[57,3,57,5],[58,4,58,5],[59,4,59,5],[54,0,54,4],[55,0,55,4],[56,0,56,4],[57,0,57,2],[48,4,48,5],[49,4,49,5],[16,0,16,3],[33,3,33,5],[34,3,34,5],[35,4,35,5],[12,4,12,5],[13,4,13,5],[15,3,15,5],[16,4,16,5],[17,4,17,5],[18,3,18,5],[17,0,17,3],[18,0,18,2],[28,0,28,2],[27,2,27,5],[30,3,30,5],[31,3,31,5],[31,0,31,2],[32,0,32,2],[33,0,33,2],[137,1,137,5],[112,0,112,3],[113,0,113,3],[114,0,114,3],[115,0,115,3],[60,4,60,5],[61,4,61,5],[69,3,69,5],[70,3,70,5],[72,3,72,5],[73,3,73,5],[64,0,64,4],[65,0,65,4],[66,0,66,4],[68,2,68,5],[71,2,71,5],[99,2,99,5],[100,2,100,5],[92,0,92,1],[93,0,93,2],[94,0,94,2],[92,2,92,5],[90,0,90,3],[91,0,91,3],[7,0,7,3],[6,0,6,2],[8,0,8,3],[9,0,9,2],[39,3,39,5],[47,3,47,5],[42,0,42,3],[43,0,43,3],[46,0,46,1],[47,0,47,2],[46,2,46,5],[41,0,41,2],[44,0,44,2],[45,0,45,2],[41,3,41,5],[42,4,42,5],[43,4,43,5],[44,3,44,5],[45,3,45,5],[10,0,10,2],[12,0,12,3],[11,0,11,2],[13,0,13,3],[15,0,15,2],[40,3,40,5],[22,4,22,5],[23,4,23,5],[24,3,24,5],[25,4,25,5],[26,4,26,5],[28,3,28,5],[22,0,22,3],[23,0,23,3],[24,0,24,2],[25,0,25,3],[39,0,39,2],[40,0,40,2],[29,0,29,2],[38,0,38,1],[38,2,38,5],[37,1,37,5],[29,3,29,5],[27,0,27,1],[34,0,34,2],[35,0,35,3],[36,0,36,3],[36,4,36,5],[138,0,138,2],[139,0,139,2],[30,0,30,2],[138,3,138,5],[139,3,139,5],[121,0,121,2],[120,0,120,4],[122,0,122,3],[123,0,123,3],[124,0,124,3],[106,0,106,2],[116,0,116,3],[117,0,117,3],[118,0,118,4],[119,0,119,4],[102,0,102,1],[103,0,103,2],[104,0,104,2],[95,0,95,1],[96,0,96,2],[97,0,97,2],[100,0,100,1],[95,2,95,5],[99,0,99,1],[74,1,74,3],[75,0,75,2],[76,0,76,2],[75,3,75,5],[76,3,76,5],[81,3,81,5],[68,0,68,1],[73,0,73,2],[86,0,86,2],[71,0,71,1],[72,0,72,2],[84,0,84,1],[85,0,85,2],[84,2,84,5],[85,3,85,5],[83,3,83,5],[82,3,82,5],[77,0,77,2],[80,0,80,1],[81,0,81,2],[77,3,77,5],[78,0,78,5],[80,2,80,5],[79,1,79,5],[4,0,4,1],[5,0,5,2],[4,2,4,5],[5,3,5,5],[3,1,3,5],[2,1,2,5],[1,0,1,5],[0,0,0,5],[32,3,32,5],[21,0,21,3],[26,0,26,3],[19,0,19,2],[20,0,20,2],[14,0,14,1],[14,2,14,5],[19,3,19,5],[20,3,20,5],[21,4,21,5],[6,3,6,5],[7,4,7,5],[8,4,8,5],[9,3,9,5],[10,3,10,5],[11,3,11,5]]}
["Rozvaha (1.1.2010 - 30.6.2018)",null,null,null,null,null,2010,2011,2012,2013,2014,2015,"1.1.2016 - 30.6.2017"]
["Aktiva",null,null,null,null,null,{"$f":"G3+G4+G38+G75","v":15344},14986,14495,19833,15536,14635,16670]
[null,"Pohledávky za upsaný základní kapitál",null,null,null,null,0,0,0,0,0,0,0]
[null,"Dlouhodobý majetek",null,null,null,null,{"$f":"G5+G15+G28","v":977},1498,2233,1204,911,390,469]
[null,null,"Dlouhodobý nehmotný majetek",null,null,null,{"$f":"G6+G7+G10+G11+G12","v":0},{"$f":"H6+H7+H10+H11+H12","v":0},736,0,0,0,0]
[null,null,null,"Nehmotné výsledky výzkumu a vývoje"]
[null,null,null,"Ocenitelná práva",null,null,{"$f":"SUM(G8:G9)","v":0},0,736,0,0,0,0]
[null,null,null,null,"Software",null,0,0,736,0,0,0,0]
[null,null,null,null,"Ocenitelná práva"]
[null,null,null,"Goodwill"]
[null,null,null,"Ostatní dlouhodobý nehmotný majetek"]
[null,null,null,"Poskytnuté zálohy na dlouhodobý nehmotný majetek a nedokončený dlouhodobý nehmotný majetek",null,null,{"$f":"SUM(G13:G14)","v":0},{"$f":"SUM(H13:H14)","v":0},0,0,0,0,0]
[null,null,null,null,"Poskytnuté zálohy na dlouhodobý nehmotný majetek"]
[null,null,null,null,"Nedokončený dlouhodobý nehmotný majetek"]
[null,null,"Dlouhodobý hmotný majetek",null,null,null,{"$f":"G16+G19+G21+G25","v":977},{"$f":"H16+H19+H21+H25","v":1498},1497,1204,911,390,469]
[null,null,null,"Pozemky a stavby",null,null,{"$f":"SUM(G17:G18)","v":452},{"$f":"SUM(H17:H18)","v":437},422,407,392,0,0]
[null,null,null,null,"Pozemky",null,108,108,108,108,108]
[null,null,null,null,"Stavby",null,344,329,314,299,284]
[null,null,null,"Hmotné movité věci a jejich soubory",null,null,525,1061,1075,797,519,390,469]
[null,null,null,"Oceňovací rozdíl k nabytému majetku"]
[null,null,null,"Ostatní dlouhodobý hmotný majetek",null,null,{"$f":"SUM(G22:G24)","v":0},{"$f":"SUM(H22:H24)","v":0},0,0,0,0,0]
[null,null,null,null,"Pěstitelské celky trvalých porostů"]
[null,null,null,null,"Dospělá zvířata a jejich skupiny"]
[null,null,null,null,"Jiný dlouhodobý hmotný majetek"]
[null,null,null,"Poskytnuté zálohy na dlouhodobý hmotný majetek a nedokončený dlouhodobý hmotný majetek",null,null,{"$f":"SUM(G26:G27)","v":0},0,0,0,0,0,0]
[null,null,null,null,"Poskytnuté zálohy na dlouhodobý hmotný majetek"]
[null,null,null,null,"Nedokončený dlouhodobý hmotný majetek"]
[null,null,"Dlouhodobý finanční majetek",null,null,null,{"$f":"SUM(G29:G35)","v":0},{"$f":"SUM(H29:H35)","v":0},0,0,0,0,0]
[null,null,null,"Podíly - ovládaná nebo ovládající osoba"]
[null,null,null,"Zápůjčky a úvěry - ovládající a řídící osoba, podstatný vliv"]
[null,null,null,"Podíly - podstatný vliv"]
[null,null,null,"Zápůjčky a úvěry - podstatný vliv"]
[null,null,null,"Ostatní dlouhodobé cenné papíry a podíly"]
[null,null,null,"Zápůjčky a úvěry - ostatní"]
[null,null,null,"Ostatní dlouhodobý finanční majetek",null,null,{"$f":"SUM(G36:G37)","v":0},{"$f":"SUM(H36:H37)","v":0},0,0,0,0,0]
[null,null,null,null,"Jiný dlouhodobý finanční majetek"]
[null,null,null,null,"Poskytnuté zálohy na dlouhodobý finanční majetek"]
[null,"Oběžná aktiva",null,null,null,null,{"$f":"G39+G47+G69+G72","v":12761},{"$f":"H39+H47+H69+H72","v":10413},9549,17184,12737,13134,16035]
[null,null,"Zásoby",null,null,null,{"$f":"G40+G41+G42+G45+G46","v":3},{"$f":"H40+H41+H42+H45+H46","v":1538},99,840,317,234,0]
[null,null,null,"Materiál"]
[null,null,null,"Nedokončená výroba a polotovary",null,null,null,272,48,840,317,234]
[null,null,null,"Výrobky",null,null,{"$f":"SUM(G43:G44)","v":3},{"$f":"SUM(H43:H44)","v":1266},51,0,0,0,0]
[null,null,null,null,"Výrobky"]
[null,null,null,null,"Zboží",null,3,1266,51]
[null,null,null,"Mladá a ostatní zvířata a jejich skupiny"]
[null,null,null,"Poskytnuté zálohy na zásoby"]
[null,null,"Pohledávky",null,null,null,{"$f":"G48+G58","v":4263},{"$f":"H48+H58","v":3980},4994,7022,3897,1964,11629]
[null,null,null,"Dlouhodobé pohledávky",null,null,{"$f":"SUM(G49:G53)","v":0},{"$f":"SUM(H49:H53)","v":0},0,0,0,0,0]
[null,null,null,null,"Pohledávky z obchodních vztahů"]
[null,null,null,null,"Pohledávky - ovládaná nebo ovládající osoba"]
[null,null,null,null,"Pohledávky - podstatný vliv"]
[null,null,null,null,"Odložená daňová pohledávka"]
[null,null,null,null,"Poledávky - ostatní",null,{"$f":"SUM(G54:G57)","v":0},{"$f":"SUM(H54:H57)","v":0},0,0,0,0,0]
[null,null,null,null,null,"Pohledávky za společníky"]
[null,null,null,null,null,"Dlouhodobé poskytnuté zálohy"]
[null,null,null,null,null,"Dohadné účty aktivní"]
[null,null,null,null,null,"Jiné pohledávky"]
[null,null,null,"Krátkodobé pohledávky",null,null,{"$f":"G59+G60+G61+G62","v":4263},{"$f":"H59+H60+H61+H62","v":3980},4994,7022,3897,1964,11629]
[null,null,null,null,"Pohledávky z obchodních vztahů",null,3640,3667,4765,6710,3739,1817,8806]
[null,null,null,null,"Pohledávky - ovládaná nebo ovládající osoba"]
[null,null,null,null,"Pohledávky - podstatný vliv"]
[null,null,null,null,"Poledávky - ostatní",null,{"$f":"SUM(G63:G68)","v":623},{"$f":"SUM(H63:H68)","v":313},229,312,158,147,2823]
[null,null,null,null,null,"Pohledávky za společníky"]
[null,null,null,null,null,"Sociální zabezpečení a zdravotní pojištění",null,null,null,null,null,null,-497]
[null,null,null,null,null,"Stát - daňové pohledávky",null,7,null,null,null,5,1275]
[null,null,null,null,null,"Krátkodobé poskytnuté zálohy",611,294,215,286,145,138,167]
[null,null,null,null,null,"Dohadné účty aktivní",null,null,null,null,null,null,1878]
[null,null,null,null,null,"Jiné pohledávky",12,12,14,26,13,4]
[null,null,"Krátkodobý finanční majetek",null,null,null,{"$f":"SUM(G70:G71)","v":0},{"$f":"SUM(H70:H71)","v":0},0,0,0,0,0]
[null,null,null,"Podíly - ovládaná a ovládající osoba"]
[null,null,null,"Ostatní krátkodobý finanční majetek"]
[null,null,"Peněžní prostředky",null,null,null,{"$f":"SUM(G73:G74)","v":8495},{"$f":"SUM(H73:H74)","v":4895},4456,9322,8523,10936,4406]
[null,null,null,"Peněžní prostředky v pokladně",null,null,38,78,54,89,71,44,39]
[null,null,null,"Peněžní prostředky na účtech",null,null,8457,4817,4402,9233,8452,10892,4367]
[null,"Časové rozlišení",null,null,null,null,{"$f":"SUM(G76:G78)","v":1606},{"$f":"SUM(H76:H78)","v":3075},2713,1445,1888,1111,166]
[null,null,null,"Náklady příštích období",null,null,1606,3075,2713,1445,1888,1111,166]
[null,null,null,"Komplexní náklady příštích období"]
[null,null,null,"Příjmy příštích období"]
["Pasiva",null,null,null,null,null,{"$f":"G80+G102+G138","v":15344},14986,14495,19833,15536,14635,16670]
[null,"Vlastní kapitál",null,null,null,null,{"$f":"G81+G85+G93+G96+G101+G100","v":6954},{"$f":"H81+H85+H93+H96+H101+H100","v":8322},7452,10011,8645,10112,7128]
[null,null,"Základní kapitál",null,null,null,{"$f":"SUM(G82:G84)","v":300},300,300,300,300,300,300]
[null,null,null,"Základní kapitál",null,null,300,300,300,300,300,300,300]
[null,null,null,"Vlastní podíly"]
[null,null,null,"Změny základního kapitálu"]
[null,null,"Ážio a kapitálové fondy",null,null,null,{"$f":"G86+G87","v":893},{"$f":"H86+H87","v":893},893,893,893,893,893]
[null,null,null,"Ážio"]
[null,null,null,"Kapitálové fondy",null,null,{"$f":"SUM(G88:G92)","v":893},{"$f":"SUM(H88:H92)","v":893},893,893,893,893,893]
[null,null,null,null,"Ostatní kapitálové fondy",null,893,893,893,893,893,893,893]
[null,null,null,null,"Oceňovací rozdíly z přeceňění majetku a závazků"]
[null,null,null,null,"Oceňovací rozdíly z přecenění při přeměnách obchodních korporací"]
[null,null,null,null,"Rozdíly z přeměn obchodních korporací"]
[null,null,null,null,"Rozdíly z ocenění při přeměnách obchodních korporací"]
[null,null,"Fondy ze zisku",null,null,null,{"$f":"SUM(G94:G95)","v":30},30,30,30,30,30,30]
[null,null,null,"Ostatní rezervní fondy",null,null,30,30,30,30,30,30,30]
[null,null,null,"Statutární a ostatní fondy"]
[null,null,"Výsledek hospodaření minulých let",null,null,null,{"$f":"SUM(G97:G99)","v":3530},{"$f":"SUM(H97:H99)","v":3630},4879,4983,4588,5322,8889]
[null,null,null,"Nerozdělený zisk minulých let",null,null,3530,3630,4879,4983,4588,5322,8889]
[null,null,null,"Neuhrazená ztráta minulých let"]
[null,null,null,"Jiný výsledek hospodaření minulých let"]
[null,null,"Výsledek hospodaření běžného účetního období",null,null,null,2201,3469,1350,3805,2834,3567,-2984]
[null,null,"Rozhodnuto o zálohové výplatě podílu na zisku"]
[null,"Cizí kapitál",null,null,null,null,{"$f":"G103+G108","v":4317},{"$f":"H103+H108","v":3859},4925,5377,2887,2243,7491]
[null,null,"Rezervy",null,null,null,{"$f":"SUM(G104:G107)","v":0},{"$f":"SUM(H104:H107)","v":0},0,0,0,0,106]
[null,null,null,"Rezerva na důchody a podobné závazky"]
[null,null,null,"Rezerva na daň z příjmu"]
[null,null,null,"Rezervy podle zvláštních právních předpisů"]
[null,null,null,"Ostatní rezervy",null,null,null,null,null,null,null,null,106]
[null,null,"Závazky",null,null,null,{"$f":"G109+G122","v":4317},{"$f":"H109+H122","v":3859},4925,5377,2887,2243,7385]
[null,null,null,"Dlouhodobé závazky",null,null,{"$f":"SUM(G110:G118)","v":0},0,0,0,0,0,0]
[null,null,null,null,"Vydané dluhopisy"]
[null,null,null,null,"Závazky k úvěrovým institucím"]
[null,null,null,null,"Dlouhodobé přijaté zálohy"]
[null,null,null,null,"Závazky z obchodních vztahů"]
[null,null,null,null,"Dlouhodobé směnky k úhradě"]
[null,null,null,null,"Závazky - ovládaná nebo ovládající osoba"]
[null,null,null,null,"Závazky - podstatný vliv"]
[null,null,null,null,"Odložený daňový závazek"]
[null,null,null,null,"Závazky - ostatní",null,{"$f":"SUM(G119:G121)","v":0},0,0,0,0,0,0]
[null,null,null,null,null,"Závazky ke společníkům"]
[null,null,null,null,null,"Dohadné účty pasivní"]
[null,null,null,null,null,"Jiné závazky"]
[null,null,null,"Krátkodobé závazky",null,null,{"$f":"SUM(G123:G130)","v":4317},3859,4925,5377,2887,2243,7385]
[null,null,null,null,"Vydané dluhopisy"]
[null,null,null,null,"Závazky k úvěrovým institucím",null,null,null,null,null,null,86,34]
[null,null,null,null,"Krátkodobé přijaté zálohy"]
[null,null,null,null,"Závazky z obchodních vztahů",null,874,1143,668,1867,723,223,2887,null,{"$f":"M126-L126","v":2664}]
[null,null,null,null,"Krátkodobé směnky k úhradě"]
[null,null,null,null,"Závazky - ovládaná a ovládající osoba"]
[null,null,null,null,"Závazky - podstatný vliv"]
[null,null,null,null,"Závazky - ostatní",null,{"$f":"SUM(G131:G137)","v":3443},{"$f":"SUM(H131:H137)","v":2716},4257,3510,2164,1934,4464]
[null,null,null,null,null,"Závazky ke společníkům",null,null,1887,null,30]
[null,null,null,null,null,"Krátkodobé finanční výpomoci"]
[null,null,null,null,null,"Závazky k zaměstnancům",700,545,626,752,598,683,834]
[null,null,null,null,null,"Závazky ze sociálního zabezpečení a zdravotního pojištění",462,389,421,525,423,442]
[null,null,null,null,null,"Stát - daňové závazky a dotace",1924,1125,1312,2209,1088,781,639]
[null,null,null,null,null,"Dahodné účty pasivní",357,657,11,24,25,28,2983]
[null,null,null,null,null,"Jiné závazky",null,null,null,null,null,null,8]
[null,"Časové rozlišení",null,null,null,null,{"$f":"SUM(G139:G140)","v":4073},2805,2118,4445,4004,2280,2051]
[null,null,null,"Výdaje příštích období"]
[null,null,null,"Výnosy příštích období",null,null,4073,2805,2118,4445,4004,2280,2051]

{"sheet":"Výkaz zisků a ztrát","index":1,"n_rows":88,"n_cols":10,"rows_kept":88,"cut":false,"hidden":false,"merged":[[9,1,9,2],[1,1,1,2],[2,1,2,2],[3,1,3,2],[7,1,7,2],[8,1,8,2],[17,1,17,2],[21,1,21,2],[26,0,26,2],[27,1,27,2],[30,1,30,2],[51,0,51,2],[52,0,52,2],[0,0,0,2],[43,1,43,2],[44,0,44,2],[45,0,45,2],[46,1,46,2],[49,0,49,2],[50,1,50,2],[31,1,31,2],[34,1,34,2],[35,1,35,2],[38,1,38,2],[39,1,39,2],[42,1,42,2],[13,1,13,2]]}
["Výkaz zisku a ztrát (1.1.2010 - 30.6.2018)",null,null,2010,2011,2012,2013,2014,2015,"2016- 30.6.2017"]
[null,"Tžby za prodej vlastních výrobků a služeb",null,17699,22020,19480,23651,20991,22836,36766]
[" ","Tržby za prodej zboží",null,11242,3737,9240,1796,1717,0,233]
[null,"Výkonová spotřeba",null,{"$f":"SUM(D5:D7)","v":16997},12156,17232,10274,9441,7077,14251]
[null,null,"Náklady vynaložené na prodané zbpží",8586,2696,8099,1469,1183,null,147]
[null,null,"Spotřeba materiálu a energie",579,645,592,452,432,429,1604]
[null,null,"Služby",7832,8815,8541,8353,7826,6648,12500]
[null,"Změna stavu zásob vlastních činností",null,0,0,0,0,317,-83,-234]
[null,"Aktivace",null,0,20,0,0,0,0,0]
[null,"Osobní náklady",null,{"$f":"SUM(D11:D13)","v":8426},8728,9270,9360,9565,10860,25203]
[null,null,"Mzdové náklady",6077,6267,6633,6692,6855,7866,18362]
[null,null,"Náklady na sociální zabezpečení a zdravotní pojištění",2229,2344,2505,2542,2588,2877,6610]
[null,null,"Sociální náklady",120,117,132,126,122,117,231]
[null,"Úpravy hodnot v provozní oblasti",null,{"$f":"SUM(D15:D17)","v":274},270,294,538,293,268,393]
[null,null,"Úpravy hodnot dlouhodobého nehmotného a hmotného majetku",274,270,294,538,293,268,393]
[null,null,"Úpravy hodnot zásob"]
[null,null,"Úpravy hodnot pohledávek"]
[null,"Ostatní provozní výnosy",null,{"$f":"SUM(D19:D21)","v":125},79,287,145,17,549,532]
[null,null,"Tržby z prodeje dlouhodobého majetku",null,22,null,null,null,299,35]
[null,null,"Tržby z prodeje majetku"]
[null,null,"Jiné provozní výnosy",125,57,287,145,17,250,497]
[null,"Ostatní provozní náklady",null,{"$f":"SUM(D23:D26)","v":272},225,479,787,221,577,365]
[null,null,"Zůstatková cena prodaného dlouhodobého majetku",null,null,null,490,null,391]
[null,null,"Daně a poplatky",36,51,34,62,35,37,54]
[null,null,"Změna stavu rezerv a opravných položek v provozní oblasti a komplexních nákladů příštích  období",null,null,null,null,null,null,106]
[null,null,"Jiné provozní náklady",236,174,445,235,186,149,205]
["Provozní výsledek hospodaření",null,null,{"$f":"D2+D3-D4+D8+D9-D10-D15+D18-D22","v":3097},4477,1732,4633,3522,4520,-2915]
[null,"Výnosy z dlouhodobého finančního majetku - podíly",null,{"$f":"SUM(D29:D30)","v":0},{"$f":"SUM(E29:E30)","v":0},0,0,0,0,0]
[null,null,"Výnosy z podílů - ovládaná a ovládající osoba"]
[null,null,"Ostatní výnosy z podílů"]
[null,"Náklady vynaložené na prodané podíly",null,0,0,0,0,0,0,0]
[null,"Výnosy z ostatního dlouhodobého finančního majetku",null,{"$f":"SUM(D33:D34)","v":0},{"$f":"SUM(E33:E34)","v":0},0,0,0,0,0]
[null,null,"Výnosy z ostatního dlouhodobého finančního majetku"]
[null,null,"Ostaní výnosy z ostatního dlouhodobého finančního majetku"]
[null,"Náklady související s ostatním dlouhodobým finančním majetkem",null,0,0,0,0,0,0,0]
[null,"Výnosové úroky a podobné výnosy",null,{"$f":"SUM(D37:D38)","v":1},{"$f":"SUM(E37:E38)","v":1},1,0,0,0,0]
[null,null,"Výnosové úroky a podobné výnosy - ovládaná  nebo ovládající osoba"]
[null,null,"Ostatní výnosové úroky a podobné výnosy",1,1,1]
[null,"Úpravy hodnot a rezervy ve finanční oblasti",null,0,0,0,0,0,0,0]
[null,"Nákladové úroky a podobné náklady",null,{"$f":"SUM(D41:D42)","v":4},{"$f":"SUM(E41:E42)","v":23},8,0,0,0,0]
[null,null,"Nákladové úroky a podobné náklady - ovládaná nebo ovládající osoba"]
[null,null,"Ostatní nákladové úroky a podobné náklady",4,23,8]
[null,"Ostatní finanční výnosy",null,245,176,275,196,99,52,278]
[null,"Ostatní finanční náklady",null,607,354,250,111,74,87,347]
["Finanční výsledek hospodaření",null,null,{"$f":"D28+D32+D36+D43-D31-D35-D40-D44","v":-365},{"$f":"E28+E32+E36+E43-E31-E35-E40-E44","v":-200},18,85,25,-35,-69]
["Výsledek hospodaření před zdaněním",null,null,{"$f":"D27+D45","v":2732},{"$f":"E27+E45","v":4277},1750,4718,3547,4485,-2984]
[null,"Daň z příjmu",null,{"$f":"SUM(D48:D49)","v":531},{"$f":"SUM(E48:E49)","v":808},400,913,713,918,0]
[null,null,"Splatná",531,808,400,913,713,918,0]
[null,null,"Odložená"]
["Výsledek hospodaření po zdanění",null,null,{"$f":"D46-D47","v":2201},{"$f":"E46-E47","v":3469},1350,3805,2834,3567,-2984]
[null,"Převod podílu na výsledku hospodaření společníkům",null,0,0,0,0,0,0,0]
["Výsledek hospodaření za účetní období",null,null,{"$f":"D50-D51","v":2201},{"$f":"E50-E51","v":3469},1350,3805,2834,3567,-2984]
["Čistý obrat za účetní období",null,null,{"$f":"D2+D3+D18+D28+D32+D36+D43","v":29312},{"$f":"E2+E3+E18+E28+E32+E36+E43","v":26013},29283,25788,22824,23437,37809]
[]
["Celkové výnosy",null,null,{"$f":"D53","v":29312},{"$f":"E53","v":26013},29283,25788,22824,23437,37809]
["Celkové náklady",null,null,{"$f":"D4-D8+D9+D10+D14+D22+D31+D35+D39+D40+D44","v":26580},21776,27533,21070,{"$f":"H4+H8+H9+H10+H14+H22+H31+H35+H39+H40+H44","v":19911},18952,40793]
[null,null,null,{"$f":"D55-D56-D52-D47","v":0},{"$f":"E55-E56-E52-E47","v":-40},0,0,{"$f":"H55-H56-H52","v":79},0,0]
[]
[]
[]
[]
[]
[]
[]
[]
[]
[]
[]
[]
[]
[]
[]
[]
[]
[]
[]
[]
[]
[]
[]
[]
[]
[]
[]
[]
[null,null,null,null,null,null,null,null,4712900,5049900]
[]
[null,null,null,null,null,null,null,null,{"$f":"2/3*I86+1/3*J86","v":4825233.333333333}]

{"sheet":"Horizontální a vertikální anal.","index":2,"n_rows":69,"n_cols":28,"rows_kept":69,"cut":false,"hidden":false,"merged":[]}
[]
["Aktiva",2010,2011,2012,2013,2014,2015,"2016-2017",null,null,"Pasiva",2010,2011,2012,2013,2014,2015,"2016-2017",null,null,"Hospodářský výsledek",2010,2011,2012,2013,2014,2015,"2016-2017"]
["Aktiva celkem",{"$f":"Rozvaha!G2","v":15344},{"$f":"Rozvaha!H2","v":14986},{"$f":"Rozvaha!I2","v":14495},{"$f":"Rozvaha!J2","v":19833},{"$f":"Rozvaha!K2","v":15536},{"$f":"Rozvaha!L2","v":14635},{"$f":"Rozvaha!M2","v":16670},null,null,"Pasiva celkem",{"$f":"Rozvaha!G79","v":15344},{"$f":"Rozvaha!H79","v":14986},{"$f":"Rozvaha!I79","v":14495},{"$f":"Rozvaha!J79","v":19833},{"$f":"Rozvaha!K79","v":15536},{"$f":"Rozvaha!L79","v":14635},{"$f":"Rozvaha!M79","v":16670},null,null,"Celkové výnosy",{"$f":"'Výkaz zisků a ztrát'!D55","v":29312},{"$f":"'Výkaz zisků a ztrát'!E55","v":26013},{"$f":"'Výkaz zisků a ztrát'!F55","v":29283},{"$f":"'Výkaz zisků a ztrát'!G55","v":25788},{"$f":"'Výkaz zisků a ztrát'!H55","v":22824},{"$f":"'Výkaz zisků a ztrát'!I55","v":23437},{"$f":"'Výkaz zisků a ztrát'!J55","v":37809}]
["Absolutní změna ukazatelů",null,{"$f":"C3-B3","v":-358},-491,5338,-4297,-901,2035,null,null,"Absolutní změna ukazatelů",null,{"$f":"M3-L3","v":-358},-491,5338,-4297,-901,2035,null,null,"Absolutní změna ukazatelů",null,{"$f":"W3-V3","v":-3299},3270,-3495,-2964,613,14372]
["Procentuální změna",null,{"$f":"C4/B3","v":-2.3331595411887382E-2},-3.2763912985453086E-2,0.36826491893756469,-0.21665910351434478,-5.7994335736354277E-2,0.13905022207037923,null,null,"Procentuální změna",null,{"$f":"M4/L3","v":-2.3331595411887382E-2},-3.2763912985453086E-2,0.36826491893756469,-0.21665910351434478,-5.7994335736354277E-2,0.13905022207037923,null,null,"Procentuální změna",null,{"$f":"W4/V3","v":-0.11254776200873362},0.12570637758044054,-0.11935252535600861,-0.11493718008375989,2.6857693655800912E-2,0.61321841532619359]
["Dlouhodobý majetek",{"$f":"Rozvaha!G4","v":977},{"$f":"Rozvaha!H4","v":1498},{"$f":"Rozvaha!I4","v":2233},{"$f":"Rozvaha!J4","v":1204},{"$f":"Rozvaha!K4","v":911},{"$f":"Rozvaha!L4","v":390},{"$f":"Rozvaha!M4","v":469},null,null,"Vlastní kapitál",{"$f":"Rozvaha!G80","v":6954},{"$f":"Rozvaha!H80","v":8322},{"$f":"Rozvaha!I80","v":7452},{"$f":"Rozvaha!J80","v":10011},{"$f":"Rozvaha!K80","v":8645},{"$f":"Rozvaha!L80","v":10112},{"$f":"Rozvaha!M80","v":7128},null,null,"Celkové náklady",{"$f":"'Výkaz zisků a ztrát'!D56","v":26580},{"$f":"'Výkaz zisků a ztrát'!E56","v":21776},{"$f":"'Výkaz zisků a ztrát'!F56","v":27533},{"$f":"'Výkaz zisků a ztrát'!G56","v":21070},{"$f":"'Výkaz zisků a ztrát'!H56","v":19911},{"$f":"'Výkaz zisků a ztrát'!I56","v":18952},{"$f":"'Výkaz zisků a ztrát'!J56","v":40793}]
["Absolutní změna ukazatelů",null,{"$f":"C6-B6","v":521},735,-1029,-293,-521,79,null,null,"Absolutní změna ukazatelů",null,{"$f":"M6-L6","v":1368},-870,2559,-1366,1467,-2984,null,null,"Absolutní změna ukazatelů",null,{"$f":"W6-V6","v":-4804},5757,-6463,-1159,-959,21841]
["Procentuální změna",null,{"$f":"C7/B6","v":0.53326509723643811},0.49065420560747663,-0.46081504702194359,-0.24335548172757476,-0.57189901207464322,0.20256410256410257,null,null,"Procentuální změna",null,{"$f":"M7/L6","v":0.19672131147540983},-0.10454217736121124,0.34339774557165864,-0.13644990510438518,0.16969346443030653,-0.29509493670886078,null,null,"Procentuální změna",null,{"$f":"W7/V6","v":-0.18073739653875093},0.26437362233651729,-0.23473649802055715,-5.5007119126720454E-2,-4.8164331274170059E-2,1.1524377374419585]
["Oběžná aktiva",{"$f":"Rozvaha!G38","v":12761},{"$f":"Rozvaha!H38","v":10413},{"$f":"Rozvaha!I38","v":9549},{"$f":"Rozvaha!J38","v":17184},{"$f":"Rozvaha!K38","v":12737},{"$f":"Rozvaha!L38","v":13134},{"$f":"Rozvaha!M38","v":16035},null,null,"Cizí zdroje",{"$f":"Rozvaha!G102","v":4317},{"$f":"Rozvaha!H102","v":3859},{"$f":"Rozvaha!I102","v":4925},{"$f":"Rozvaha!J102","v":5377},{"$f":"Rozvaha!K102","v":2887},{"$f":"Rozvaha!L102","v":2243},{"$f":"Rozvaha!M102","v":7491},null,null,"Výsledek hospodaření za účetní období",{"$f":"'Výkaz zisků a ztrát'!D50","v":2201},{"$f":"'Výkaz zisků a ztrát'!E50","v":3469},{"$f":"'Výkaz zisků a ztrát'!F50","v":1350},{"$f":"'Výkaz zisků a ztrát'!G50","v":3805},{"$f":"'Výkaz zisků a ztrát'!H50","v":2834},{"$f":"'Výkaz zisků a ztrát'!I50","v":3567},{"$f":"'Výkaz zisků a ztrát'!J50","v":-2984}]
["Absolutní změna ukazatelů",null,{"$f":"C9-B9","v":-2348},-864,7635,-4447,397,2901,null,null,"Absolutní změna ukazatelů",null,{"$f":"M9-L9","v":-458},1066,452,-2490,-644,5248,null,null,"Absolutní změna ukazatelů",null,{"$f":"W9-V9","v":1268},-2119,2455,-971,733,-6551]
["Procentuální změna",null,{"$f":"C10/B9","v":-0.18399811926964971},-8.2973206568712182E-2,0.79956016336789193,-0.25878724394785846,3.1169035094606265E-2,0.22087711283691183,null,null,"Procentuální změna",null,{"$f":"M10/L9","v":-0.10609219365299977},0.27623736719357345,9.1776649746192887E-2,-0.46308350381253488,-0.22306892968479392,2.3397235844850646,null,null,"Procentuální změna",null,{"$f":"W10/V9","v":0.57610177192185374},-0.61083885846065145,1.8185185185185184,-0.2551905387647832,0.25864502470007056,-1.8365573310905523]
["Časové rozlišení",{"$f":"Rozvaha!G75","v":1606},{"$f":"Rozvaha!H75","v":3075},{"$f":"Rozvaha!I75","v":2713},{"$f":"Rozvaha!J75","v":1445},{"$f":"Rozvaha!K75","v":1888},{"$f":"Rozvaha!L75","v":1111},{"$f":"Rozvaha!M75","v":166},null,null,"Časové rozlišení",{"$f":"Rozvaha!G138","v":4073},{"$f":"Rozvaha!H138","v":2805},{"$f":"Rozvaha!I138","v":2118},{"$f":"Rozvaha!J138","v":4445},{"$f":"Rozvaha!K138","v":4004},{"$f":"Rozvaha!L138","v":2280},{"$f":"Rozvaha!M138","v":2051},null,null,"Provozní výsledek hospodaření",{"$f":"'Výkaz zisků a ztrát'!D27","v":3097},{"$f":"'Výkaz zisků a ztrát'!E27","v":4477},{"$f":"'Výkaz zisků a ztrát'!F27","v":1732},{"$f":"'Výkaz zisků a ztrát'!G27","v":4633},{"$f":"'Výkaz zisků a ztrát'!H27","v":3522},{"$f":"'Výkaz zisků a ztrát'!I27","v":4520},{"$f":"'Výkaz zisků a ztrát'!J27","v":-2915}]
["Absolutní změna ukazatelů",null,{"$f":"C12-B12","v":1469},-362,-1268,443,-777,-945,null,null,"Absolutní změna ukazatelů",null,{"$f":"M12-L12","v":-1268},-687,2327,-441,-1724,-229,null,null,"Absolutní změna ukazatelů",null,{"$f":"W12-V12","v":1380},-2745,2901,-1111,998,-7435]
["Procentuální změna",null,{"$f":"C13/B12","v":0.91469489414694893},-0.11772357723577236,-0.46737928492443787,0.3065743944636678,-0.41154661016949151,-0.85058505850585053,null,null,"Procentuální změna",null,{"$f":"M13/L12","v":-0.31131843849742202},-0.2449197860962567,1.0986779981114259,-9.9212598425196849E-2,-0.43056943056943059,-0.10043859649122808,null,null,"Procentuální změna",null,{"$f":"W13/V12","v":0.44559250887956087},-0.61313379495197673,1.6749422632794457,-0.2398014245629182,0.28336172629187961,-1.6449115044247788]
[null,null,null,null,null,null,null,null,null,null,null,null,null,null,null,null,null,null,null,null,"Finanční výsledek hospodaření",{"$f":"'Výkaz zisků a ztrát'!D45","v":-365},{"$f":"'Výkaz zisků a ztrát'!E45","v":-200},{"$f":"'Výkaz zisků a ztrát'!F45","v":18},{"$f":"'Výkaz zisků a ztrát'!G45","v":85},{"$f":"'Výkaz zisků a ztrát'!H45","v":25},{"$f":"'Výkaz zisků a ztrát'!I45","v":-35},{"$f":"'Výkaz zisků a ztrát'!J45","v":-69}]
[null,null,null,null,null,null,null,null,null,null,null,null,null,null,null,null,null,null,null,null,"Absolutní změna ukazatelů",null,{"$f":"W15-V15","v":165},218,67,-60,-60,-34]
[null,null,null,null,null,null,null,null,null,null,null,null,null,null,null,null,null,null,null,null,"Procentuální změna",null,{"$f":"W16/V15","v":-0.45205479452054792},-1.0900000000000001,3.7222222222222223,-0.70588235294117652,-2.4,0.97142857142857142]
[]
[]
[]
[]
[]
[]
[]
[]
[]
[]
[]
[]
[]
[]
[]
[]
[]
[]
[]
[]
[]
[]
["y"]
[]
[]
[]
[]
[]
[]
[]
[]
[]
[]
[]
[]
[]
[]
[]
[]
[]
[]
[]
[]
[]
[]
[]
[]
[]
[]
[]
[]
[null,null,null,null,null,null,null,null,null,null,"Podíl hospodářského výsledku na pasivech",{"$f":"(Rozvaha!G96+Rozvaha!G100)/Rozvaha!G79","v":0.37350104275286755},{"$f":"(Rozvaha!H96+Rozvaha!H100)/Rozvaha!H79","v":0.47370879487521689},{"$f":"(Rozvaha!I96+Rozvaha!I100)/Rozvaha!I79","v":0.42973439116936873},{"$f":"(Rozvaha!J96+Rozvaha!J100)/Rozvaha!J79","v":0.44309988403166439},{"$f":"(Rozvaha!K96+Rozvaha!K100)/Rozvaha!K79","v":0.47772914521112253},{"$f":"(Rozvaha!L96+Rozvaha!L100)/Rozvaha!L79","v":0.60737956952511107},{"$f":"(Rozvaha!M96+Rozvaha!M100)/Rozvaha!M79","v":0.35422915416916617}]

{"sheet":"Poměrová analýza","index":3,"n_rows":43,"n_cols":41,"rows_kept":43,"cut":false,"hidden":false,"merged":[[0,10,0,17]]}
[]
["Ukazatele likvidity",2010,2011,2012,2013,2014,2015,"2016-2017",null,null,"Ukazatel rentability",2010,2011,2012,2013,2014,2015,"2016-2017",null,null,"Ukazatel aktivity",2010,2011,2012,2013,2014,2015,"2016-2017",null,null,null,null,null,"Ukazatel zadluženosti",2010,2011,2012,2013,2014,2015,"2016-2017"]
["Oběžná aktiva",{"$f":"Rozvaha!G38","v":12761},{"$f":"Rozvaha!H38","v":10413},{"$f":"Rozvaha!I38","v":9549},{"$f":"Rozvaha!J38","v":17184},{"$f":"Rozvaha!K38","v":12737},{"$f":"Rozvaha!L38","v":13134},{"$f":"Rozvaha!M38","v":16035},null,null,"Zisk před zdaněním",{"$f":"'Výkaz zisků a ztrát'!D46","v":2732},{"$f":"'Výkaz zisků a ztrát'!E46","v":4277},{"$f":"'Výkaz zisků a ztrát'!F46","v":1750},{"$f":"'Výkaz zisků a ztrát'!G46","v":4718},{"$f":"'Výkaz zisků a ztrát'!H46","v":3547},{"$f":"'Výkaz zisků a ztrát'!I46","v":4485},{"$f":"'Výkaz zisků a ztrát'!J46","v":-2984},null,null,"Roční tržby",{"$f":"'Výkaz zisků a ztrát'!D2+'Výkaz zisků a ztrát'!D3","v":28941},{"$f":"'Výkaz zisků a ztrát'!E2+'Výkaz zisků a ztrát'!E3","v":25757},{"$f":"'Výkaz zisků a ztrát'!F2+'Výkaz zisků a ztrát'!F3","v":28720},{"$f":"'Výkaz zisků a ztrát'!G2+'Výkaz zisků a ztrát'!G3","v":25447},{"$f":"'Výkaz zisků a ztrát'!H2+'Výkaz zisků a ztrát'!H3","v":22708},{"$f":"'Výkaz zisků a ztrát'!I2+'Výkaz zisků a ztrát'!I3","v":22836},{"$f":"'Výkaz zisků a ztrát'!J2+'Výkaz zisků a ztrát'!J3","v":36999},null,null,null,null,null,"Celková aktiva",{"$f":"Rozvaha!G2","v":15344},{"$f":"Rozvaha!H2","v":14986},{"$f":"Rozvaha!I2","v":14495},{"$f":"Rozvaha!J2","v":19833},{"$f":"Rozvaha!K2","v":15536},{"$f":"Rozvaha!L2","v":14635},{"$f":"Rozvaha!M2","v":16670}]
["Krátkodobý cizí kapitál",{"$f":"Rozvaha!G122","v":4317},{"$f":"Rozvaha!H122","v":3859},{"$f":"Rozvaha!I122","v":4925},{"$f":"Rozvaha!J122","v":5377},{"$f":"Rozvaha!K122","v":2887},{"$f":"Rozvaha!L122","v":2243},{"$f":"Rozvaha!M122","v":7385},null,null,"Zisk po zdanění",{"$f":"'Výkaz zisků a ztrát'!D50","v":2201},{"$f":"'Výkaz zisků a ztrát'!E50","v":3469},{"$f":"'Výkaz zisků a ztrát'!F50","v":1350},{"$f":"'Výkaz zisků a ztrát'!G50","v":3805},{"$f":"'Výkaz zisků a ztrát'!H50","v":2834},{"$f":"'Výkaz zisků a ztrát'!I50","v":3567},{"$f":"'Výkaz zisků a ztrát'!J50","v":-2984},null,null,"Celková aktiva",{"$f":"Rozvaha!G2","v":15344},{"$f":"Rozvaha!H2","v":14986},{"$f":"Rozvaha!I2","v":14495},{"$f":"Rozvaha!J2","v":19833},{"$f":"Rozvaha!K2","v":15536},{"$f":"Rozvaha!L2","v":14635},{"$f":"Rozvaha!M2","v":16670},null,null,null,null,null,"Cizí kapitál",{"$f":"Rozvaha!G102","v":4317},{"$f":"Rozvaha!H102","v":3859},{"$f":"Rozvaha!I102","v":4925},{"$f":"Rozvaha!J102","v":5377},{"$f":"Rozvaha!K102","v":2887},{"$f":"Rozvaha!L102","v":2243},{"$f":"Rozvaha!M102","v":7491}]
["Zásoby",{"$f":"Rozvaha!G39","v":3},{"$f":"Rozvaha!H39","v":1538},{"$f":"Rozvaha!I39","v":99},{"$f":"Rozvaha!J39","v":840},{"$f":"Rozvaha!K39","v":317},{"$f":"Rozvaha!L39","v":234},{"$f":"Rozvaha!M39","v":0},null,null,"Celková aktiva",{"$f":"Rozvaha!G2","v":15344},{"$f":"Rozvaha!H2","v":14986},{"$f":"Rozvaha!I2","v":14495},{"$f":"Rozvaha!J2","v":19833},{"$f":"Rozvaha!K2","v":15536},{"$f":"Rozvaha!L2","v":14635},{"$f":"Rozvaha!M2","v":16670},null,null,"Dlouhodobý hmotný majetek",{"$f":"Rozvaha!G15","v":977},{"$f":"Rozvaha!H15","v":1498},{"$f":"Rozvaha!I15","v":1497},{"$f":"Rozvaha!J15","v":1204},{"$f":"Rozvaha!K15","v":911},{"$f":"Rozvaha!L15","v":390},{"$f":"Rozvaha!M15","v":469},null,null,null,null,null,"Dlouhodobý cizí kapitál",{"$f":"Rozvaha!G109","v":0},{"$f":"Rozvaha!H109","v":0},{"$f":"Rozvaha!I109","v":0},{"$f":"Rozvaha!J109","v":0},{"$f":"Rozvaha!K109","v":0},{"$f":"Rozvaha!L109","v":0},{"$f":"Rozvaha!M109","v":0}]
["Peněžní prostředky",{"$f":"Rozvaha!G72","v":8495},{"$f":"Rozvaha!H72","v":4895},{"$f":"Rozvaha!I72","v":4456},{"$f":"Rozvaha!J72","v":9322},{"$f":"Rozvaha!K72","v":8523},{"$f":"Rozvaha!L72","v":10936},{"$f":"Rozvaha!M72","v":4406},null,null,"Vlastní kapitál",{"$f":"Rozvaha!G80","v":6954},{"$f":"Rozvaha!H80","v":8322},{"$f":"Rozvaha!I80","v":7452},{"$f":"Rozvaha!J80","v":10011},{"$f":"Rozvaha!K80","v":8645},{"$f":"Rozvaha!L80","v":10112},{"$f":"Rozvaha!M80","v":7128},null,null,"Krátkodobé závazky",{"$f":"Rozvaha!G122","v":4317},{"$f":"Rozvaha!H122","v":3859},{"$f":"Rozvaha!I122","v":4925},{"$f":"Rozvaha!J122","v":5377},{"$f":"Rozvaha!K122","v":2887},{"$f":"Rozvaha!L122","v":2243},{"$f":"Rozvaha!M122","v":7385},null,null,null,null,null,"Krátkodobý cizí kapitál",{"$f":"Rozvaha!G122","v":4317},{"$f":"Rozvaha!H122","v":3859},{"$f":"Rozvaha!I122","v":4925},{"$f":"Rozvaha!J122","v":5377},{"$f":"Rozvaha!K122","v":2887},{"$f":"Rozvaha!L122","v":2243},{"$f":"Rozvaha!M122","v":7385}]
["Celková (běžná) likvidita",{"$f":"B3/B4","v":2.9559879545981005},{"$f":"C3/C4","v":2.6983674527079553},1.9388832487309644,3.1958341082387949,4.4118462071354347,5.8555506018724923,2.1712931618144888,null,null,"Krátkodobé závazky",{"$f":"Rozvaha!G122","v":4317},{"$f":"Rozvaha!H122","v":3859},{"$f":"Rozvaha!I122","v":4925},{"$f":"Rozvaha!J122","v":5377},{"$f":"Rozvaha!K122","v":2887},{"$f":"Rozvaha!L122","v":2243},{"$f":"Rozvaha!M122","v":7385},null,null,"Krátkodobé pohledávky",{"$f":"Rozvaha!G58","v":4263},{"$f":"Rozvaha!H58","v":3980},{"$f":"Rozvaha!I58","v":4994},{"$f":"Rozvaha!J58","v":7022},{"$f":"Rozvaha!K58","v":3897},{"$f":"Rozvaha!L58","v":1964},{"$f":"Rozvaha!M58","v":11629},null,null,null,null,null,"Vlastní kapitál",{"$f":"Rozvaha!G80","v":6954},{"$f":"Rozvaha!H80","v":8322},{"$f":"Rozvaha!I80","v":7452},{"$f":"Rozvaha!J80","v":10011},{"$f":"Rozvaha!K80","v":8645},{"$f":"Rozvaha!L80","v":10112},{"$f":"Rozvaha!M80","v":7128}]
["Pohotová likvidita",{"$f":"(B3-B5)/B4","v":2.955293027565439},{"$f":"(C3-C5)/C4","v":2.2998186058564394},1.9187817258883249,3.0396131671936022,4.3020436439210252,5.7512260365581813,2.1712931618144888,null,null,"ROA",{"$f":"L3/L5","v":0.17805005213764338},0.28539970639263312,0.12073128665056916,0.23788635103110978,0.22830844490216273,0.30645712333447217,-0.17900419916016796,null,null,"Dlouhodobé závazky",{"$f":"Rozvaha!G109","v":0},{"$f":"Rozvaha!H109","v":0},{"$f":"Rozvaha!I109","v":0},{"$f":"Rozvaha!J109","v":0},{"$f":"Rozvaha!K109","v":0},{"$f":"Rozvaha!L109","v":0},{"$f":"Rozvaha!M109","v":0},null,null,null,null,null,"Zisk před zdaněním",{"$f":"'Výkaz zisků a ztrát'!D46","v":2732},{"$f":"'Výkaz zisků a ztrát'!E46","v":4277},{"$f":"'Výkaz zisků a ztrát'!F46","v":1750},{"$f":"'Výkaz zisků a ztrát'!G46","v":4718},{"$f":"'Výkaz zisků a ztrát'!H46","v":3547},{"$f":"'Výkaz zisků a ztrát'!I46","v":4485},{"$f":"'Výkaz zisků a ztrát'!J46","v":-2984}]
["Okamžitá likvidita",{"$f":"B6/B4","v":1.9678017141533473},{"$f":"C6/C4","v":1.2684633324695518},0.90477157360406091,1.7336804909801005,2.952199515067544,4.8756130182790907,0.59661475964793498,null,null,"ROCE",{"$f":"L3/(L5-L7)","v":0.24775550920467942},0.38438033611934935,0.18286311389759666,0.32636967349197565,0.28041742430231636,0.36192704970948997,-0.32137856758212169,null,null,"Dlouhodobé pohledávky",{"$f":"Rozvaha!G48","v":0},{"$f":"Rozvaha!H48","v":0},{"$f":"Rozvaha!I48","v":0},{"$f":"Rozvaha!J48","v":0},{"$f":"Rozvaha!K48","v":0},{"$f":"Rozvaha!L48","v":0},{"$f":"Rozvaha!M48","v":0},null,null,null,null,null,"Nákladové úroky",{"$f":"'Výkaz zisků a ztrát'!D40","v":4},{"$f":"'Výkaz zisků a ztrát'!E40","v":23},{"$f":"'Výkaz zisků a ztrát'!F40","v":8},{"$f":"'Výkaz zisků a ztrát'!G40","v":0},{"$f":"'Výkaz zisků a ztrát'!H40","v":0},{"$f":"'Výkaz zisků a ztrát'!I40","v":0},{"$f":"'Výkaz zisků a ztrát'!J40","v":0}]
["Čistý pracovní kapitál",{"$f":"(B3-B4)/1000","v":8.4440000000000008},{"$f":"(C3-C4)/1000","v":6.5540000000000003},4.6239999999999997,11.807,{"$f":"(F3-F4)/1000","v":9.85},10.891,8.65,null,null,"ROE",{"$f":"L4/L6","v":0.316508484325568},{"$f":"M4/M6","v":0.41684691180004807},0.18115942028985507,0.380081909899111,0.32781954887218046,0.3527492088607595,-0.41863075196408528,null,null,"Aktiva",{"$f":"V$3/V4","v":1.8861444212721585},1.7187374883224342,1.9813728872024836,1.2830635809005193,1.4616374871266735,1.5603689784762556,2.2194961007798439,null,null,null,null,null,"Celková zadluženost",{"$f":"AI4/AI$3","v":0.28134775808133472},0.25750700653943681,0.33977233528803036,0.27111380023193665,0.18582646755921731,0.15326272634096344,0.44937012597480502]
[null,null,null,null,null,null,null,null,null,null,null,null,null,null,null,null,null,null,null,null,"Závazky",{"$f":"V$3/(V6+V8)","v":6.7039610840861705},{"$f":"W$3/(W6+W8)","v":6.6745270795542888},5.8314720812182745,4.732564627115492,7.8656044336681674,10.181007579135088,5.010020311442112,null,null,null,null,null,"Dlouhodobá zadluženost",{"$f":"AI5/AI$3","v":0},{"$f":"AJ5/AJ$3","v":0},0,0,0,0,0]
[null,null,null,null,null,null,null,null,null,null,null,null,null,null,null,null,null,null,null,null,"Pohledávky",{"$f":"V$3/(V7+V9)","v":6.7888810696692472},{"$f":"W$3/(W7+W9)","v":6.471608040201005},5.7509010812975569,3.6238963258330958,5.8270464459840907,11.627291242362526,3.1816149281967494,null,null,null,null,null,"Krátkodobá zadluženost",{"$f":"AI6/AI$3","v":0.28134775808133472},{"$f":"AJ6/AJ$3","v":0.25750700653943681},0.33977233528803036,0.27111380023193665,0.18582646755921731,0.15326272634096344,0.44301139772045589]
[null,null,null,null,null,null,null,null,null,null,null,null,null,null,null,null,null,null,null,null,"Aktiva",{"$f":"V4/(V$3/365)","v":193.5164645312878},{"$f":"W4/(W$3/365)","v":212.36518228054507},184.21570334261838,284.47538020198846,249.71992249427512,233.91903135400244,164.45174193897131,null,null,null,null,null,"Míra samofinancování",{"$f":"AI7/AI3","v":0.45320646506777895},{"$f":"AJ7/AJ3","v":0.55531829707727209},0.51410831321145223,0.50476478596278929,0.5564495365602472,0.69094636146224808,0.42759448110377923]
[null,null,null,null,null,null,null,null,null,null,null,null,null,null,null,null,null,null,null,null,"Závazky",{"$f":"V6/(V$3/365)","v":54.445423447703952},{"$f":"W6/(W$3/365)","v":54.685522382265013},62.591399721448475,77.125201398986135,46.404571076272674,35.851068488351721,72.853996053947398,null,null,null,null,null,"Finanční páka",{"$f":"AI3/AI7","v":2.2064998561978717},{"$f":"AJ3/AJ7","v":1.8007690459024273},1.9451154052603328,1.9811207671561282,1.7971081550028918,1.4472903481012658,2.3386644219977555]
[null,null,null,null,null,null,null,null,null,null,null,null,null,null,null,null,null,null,null,null,"Pohledávky",{"$f":"V7/(V$3/365)","v":53.764382709650675},{"$f":"W7/(W$3/365)","v":56.400201886865702},63.468314763231199,100.72032066648327,62.638937819270737,31.391662287616043,114.72161409767831,null,null,null,null,null,"Úrokové krytí",{"$f":"AI8/AI9","v":683},{"$f":"AJ8/AJ9","v":185.95652173913044},{"$f":"AK8/AK9","v":218.75},"x","x","x","x"]
[]
[]
[]
[]
[]
[]
[]
[]
[]
[]
[]
[]
[]
[]
[]
[]
[]
[]
[]
[]
[]
[]
[]
[]
[]
[]
[]
[null,null,null,null,null,null,null,null,null,"x;"]

{"sheet":"Rozdělení aktiv","index":4,"n_rows":28,"n_cols":8,"rows_kept":28,"cut":false,"hidden":false,"merged":[]}
["Položka (v tisících Kč)",2010,2011,2012,2013,2014,2015,"2016 / 2017"]
["Peněžní prostředky v pokladně",{"$f":"Rozvaha!G73","v":38},{"$f":"Rozvaha!H73","v":78},{"$f":"Rozvaha!I73","v":54},{"$f":"Rozvaha!J73","v":89},{"$f":"Rozvaha!K73","v":71},{"$f":"Rozvaha!L73","v":44},{"$f":"Rozvaha!M73","v":39}]
["Peněžní prostředky na účtech",{"$f":"Rozvaha!G74","v":8457},{"$f":"Rozvaha!H74","v":4817},{"$f":"Rozvaha!I74","v":4402},{"$f":"Rozvaha!J74","v":9233},{"$f":"Rozvaha!K74","v":8452},{"$f":"Rozvaha!L74","v":10892},{"$f":"Rozvaha!M74","v":4367}]
["Krátkodobé závazky",{"$f":"Rozvaha!G122","v":4317},{"$f":"Rozvaha!H122","v":3859},{"$f":"Rozvaha!I122","v":4925},{"$f":"Rozvaha!J122","v":5377},{"$f":"Rozvaha!K122","v":2887},{"$f":"Rozvaha!L122","v":2243},{"$f":"Rozvaha!M122","v":7385}]
["Likvidita",{"$f":"(B2+B3)/B4","v":1.9678017141533473},{"$f":"(C2+C3)/C4","v":1.2684633324695518},0.90477157360406091,1.7336804909801005,2.952199515067544,4.8756130182790907,0.59661475964793498]
["Ukazatel likvidity",{"$f":"'Poměrová analýza'!B9","v":1.9678017141533473},{"$f":"'Poměrová analýza'!C9","v":1.2684633324695518},{"$f":"'Poměrová analýza'!D9","v":0.90477157360406091},{"$f":"'Poměrová analýza'!E9","v":1.7336804909801005},{"$f":"'Poměrová analýza'!F9","v":2.952199515067544},{"$f":"'Poměrová analýza'!G9","v":4.8756130182790907},{"$f":"'Poměrová analýza'!H9","v":0.59661475964793498}]
["Provozně nutné peněžní prostředky",{"$f":"B3+B2","v":8495},{"$f":"C3+C2","v":4895},4456,9322,8523,10936,4406]
[]
["Položka (v tisících Kč)",2010,2011,2012,2013,2014,2015,"2016 / 2017"]
["Pohledávky za upsaný základní kapitál",{"$f":"Rozvaha!G3","v":0},{"$f":"Rozvaha!H3","v":0},{"$f":"Rozvaha!I3","v":0},{"$f":"Rozvaha!J3","v":0},{"$f":"Rozvaha!K3","v":0},{"$f":"Rozvaha!L3","v":0},{"$f":"Rozvaha!M3","v":0}]
["Dlouhodobý nehmotný majetek",{"$f":"Rozvaha!G5","v":0},{"$f":"Rozvaha!H5","v":0},{"$f":"Rozvaha!I5","v":736},{"$f":"Rozvaha!J5","v":0},{"$f":"Rozvaha!K5","v":0},{"$f":"Rozvaha!L5","v":0},{"$f":"Rozvaha!M5","v":0}]
["Dlouhodobý hmotný majetek",{"$f":"Rozvaha!G15","v":977},{"$f":"Rozvaha!H15","v":1498},{"$f":"Rozvaha!I15","v":1497},{"$f":"Rozvaha!J15","v":1204},{"$f":"Rozvaha!K15","v":911},{"$f":"Rozvaha!L15","v":390},{"$f":"Rozvaha!M15","v":469}]
["Dlouhodobý majetek provozně nutný",{"$f":"SUM(B10:B12)","v":977},{"$f":"SUM(C10:C12)","v":1498},2233,1204,911,390,469]
["Zásoby",{"$f":"Rozvaha!G39","v":3},{"$f":"Rozvaha!H39","v":1538},{"$f":"Rozvaha!I39","v":99},{"$f":"Rozvaha!J39","v":840},{"$f":"Rozvaha!K39","v":317},{"$f":"Rozvaha!L39","v":234},{"$f":"Rozvaha!M39","v":0}]
["Pohledávky",{"$f":"Rozvaha!G47","v":4263},{"$f":"Rozvaha!H47","v":3980},{"$f":"Rozvaha!I47","v":4994},{"$f":"Rozvaha!J47","v":7022},{"$f":"Rozvaha!K47","v":3897},{"$f":"Rozvaha!L47","v":1964},{"$f":"Rozvaha!M47","v":11629}]
["Provozně nutné peněžní prostředky",{"$f":"B7","v":8495},{"$f":"C7","v":4895},4456,9322,8523,10936,4406]
["Ostatní aktiva",{"$f":"Rozvaha!G75","v":1606},{"$f":"Rozvaha!H75","v":3075},{"$f":"Rozvaha!I75","v":2713},{"$f":"Rozvaha!J75","v":1445},{"$f":"Rozvaha!K75","v":1888},{"$f":"Rozvaha!L75","v":1111},{"$f":"Rozvaha!M75","v":166}]
["Krátkodobé závazky",{"$f":"Rozvaha!G122","v":4317},{"$f":"Rozvaha!H122","v":3859},{"$f":"Rozvaha!I122","v":4925},{"$f":"Rozvaha!J122","v":5377},{"$f":"Rozvaha!K122","v":2887},{"$f":"Rozvaha!L122","v":2243},{"$f":"Rozvaha!M122","v":7385}]
["Ostatní pasiva",{"$f":"Rozvaha!G138","v":4073},{"$f":"Rozvaha!H138","v":2805},{"$f":"Rozvaha!I138","v":2118},{"$f":"Rozvaha!J138","v":4445},{"$f":"Rozvaha!K138","v":4004},{"$f":"Rozvaha!L138","v":2280},{"$f":"Rozvaha!M138","v":2051}]
["Pracovní kapitál provozně nutný",{"$f":"B14+B15+B16+B17-B18-B19","v":5977},{"$f":"C14+C15+C16+C17-C18-C19","v":6824},5219,8807,7734,9722,6765]
["Investovaný kapitál provozně nutný",{"$f":"B20+B13","v":6954},{"$f":"C20+C13","v":8322},7452,10011,8645,10112,7234]
[]
["Položka (v tisících Kč)",2010,2011,2012,2013,2014,2015,"2016 / 2017"]
["Provozní výsledek hospodaření za období",{"$f":"'Výkaz zisků a ztrát'!D27","v":3097},{"$f":"'Výkaz zisků a ztrát'!E27","v":4477},{"$f":"'Výkaz zisků a ztrát'!F27","v":1732},{"$f":"'Výkaz zisků a ztrát'!G27","v":4633},{"$f":"'Výkaz zisků a ztrát'!H27","v":3522},{"$f":"'Výkaz zisků a ztrát'!I27","v":4520},{"$f":"'Výkaz zisků a ztrát'!J27","v":-2915}]
["Tržby z prodeje dlouhodobého majetku a materiálu",{"$f":"'Výkaz zisků a ztrát'!D19+'Výkaz zisků a ztrát'!D20","v":0},{"$f":"'Výkaz zisků a ztrát'!E19+'Výkaz zisků a ztrát'!E20","v":22},{"$f":"'Výkaz zisků a ztrát'!F19+'Výkaz zisků a ztrát'!F20","v":0},{"$f":"'Výkaz zisků a ztrát'!G19+'Výkaz zisků a ztrát'!G20","v":0},{"$f":"'Výkaz zisků a ztrát'!H19+'Výkaz zisků a ztrát'!H20","v":0},{"$f":"'Výkaz zisků a ztrát'!I19+'Výkaz zisků a ztrát'!I20","v":299},{"$f":"'Výkaz zisků a ztrát'!J19+'Výkaz zisků a ztrát'!J20","v":35}]
["Zůstatková cena prodaného dlouhodobého majetku a materiálu",{"$f":"'Výkaz zisků a ztrát'!D23","v":0},{"$f":"'Výkaz zisků a ztrát'!E23","v":0},{"$f":"'Výkaz zisků a ztrát'!F23","v":0},{"$f":"'Výkaz zisků a ztrát'!G23","v":490},{"$f":"'Výkaz zisků a ztrát'!H23","v":0},{"$f":"'Výkaz zisků a ztrát'!I23","v":391},{"$f":"'Výkaz zisků a ztrát'!J23","v":0}]
["Zisk z prodaného dlouhodobého majetku a materiálu",{"$f":"B25-B26","v":0},{"$f":"C25-C26","v":22},0,-490,0,-92,35]
["Korigovaný provozní výsledek hospodaření",{"$f":"B24-B27","v":3097},{"$f":"C24-C27","v":4455},1732,5123,3522,4612,-2950]

{"sheet":"Predikce hodnot rozvahy","index":5,"n_rows":141,"n_cols":16,"rows_kept":141,"cut":false,"hidden":true,"merged":[[2,0,2,5],[3,1,3,5],[4,1,4,5],[5,0,5,1],[5,2,5,5],[6,0,6,2],[6,3,6,5],[10,0,10,2],[10,3,10,5],[11,0,11,2],[11,3,11,5],[12,0,12,2],[12,3,12,5],[7,0,7,2],[7,3,7,5],[8,0,8,3],[8,4,8,5],[9,0,9,3],[9,4,9,5],[16,0,16,2],[16,3,16,5],[17,0,17,3],[17,4,17,5],[18,0,18,3],[18,4,18,5],[13,0,13,3],[13,4,13,5],[14,0,14,3],[14,4,14,5],[15,0,15,1],[15,2,15,5],[22,0,22,3],[22,4,22,5],[23,0,23,3],[23,4,23,5],[24,0,24,3],[24,4,24,5],[19,0,19,2],[19,3,19,5],[20,0,20,2],[20,3,20,5],[21,0,21,2],[21,3,21,5],[28,0,28,1],[28,2,28,5],[29,0,29,2],[29,3,29,5],[30,0,30,2],[30,3,30,5],[25,0,25,2],[25,3,25,5],[26,0,26,3],[26,4,26,5],[27,0,27,3],[27,4,27,5],[34,0,34,2],[34,3,34,5],[35,0,35,2],[35,3,35,5],[36,0,36,3],[36,4,36,5],[31,0,31,2],[31,3,31,5],[32,0,32,2],[32,3,32,5],[33,0,33,2],[33,3,33,5],[41,0,41,2],[41,3,41,5],[42,0,42,2],[42,3,42,5],[43,0,43,3],[43,4,43,5],[37,0,37,3],[37,4,37,5],[38,1,38,5],[39,0,39,1],[39,2,39,5],[40,0,40,2],[40,3,40,5],[47,0,47,1],[47,2,47,5],[48,0,48,2],[48,3,48,5],[49,0,49,3],[49,4,49,5],[44,0,44,3],[44,4,44,5],[45,0,45,2],[45,3,45,5],[46,0,46,2],[46,3,46,5],[53,0,53,3],[53,4,53,5],[54,0,54,4],[55,0,55,4],[56,0,56,4],[57,0,57,4],[50,0,50,3],[50,4,50,5],[51,0,51,3],[51,4,51,5],[52,0,52,3],[52,4,52,5],[61,0,61,3],[61,4,61,5],[62,0,62,3],[62,4,62,5],[63,0,63,4],[64,0,64,4],[58,0,58,2],[58,3,58,5],[59,0,59,3],[59,4,59,5],[60,0,60,3],[60,4,60,5],[70,0,70,2],[70,3,70,5],[71,0,71,2],[71,3,71,5],[72,0,72,1],[72,2,72,5],[65,0,65,4],[66,0,66,4],[67,0,67,4],[68,0,68,4],[69,0,69,1],[69,2,69,5],[77,0,77,2],[77,3,77,5],[78,0,78,2],[78,3,78,5],[79,0,79,5],[80,1,80,5],[73,0,73,2],[73,3,73,5],[74,0,74,2],[74,3,74,5],[76,0,76,2],[76,3,76,5],[84,0,84,2],[84,3,84,5],[85,0,85,1],[85,2,85,5],[86,0,86,2],[86,3,86,5],[81,0,81,1],[81,2,81,5],[82,0,82,2],[82,3,82,5],[83,0,83,2],[83,3,83,5],[90,0,90,3],[90,4,90,5],[91,0,91,3],[91,4,91,5],[92,0,92,3],[92,4,92,5],[87,0,87,2],[87,3,87,5],[88,0,88,3],[88,4,88,5],[89,0,89,3],[89,4,89,5],[96,0,96,1],[96,2,96,5],[97,0,97,2],[97,3,97,5],[98,0,98,2],[98,3,98,5],[93,0,93,1],[93,2,93,5],[94,0,94,2],[94,3,94,5],[95,0,95,2],[95,3,95,5],[102,1,102,5],[103,0,103,1],[103,2,103,5],[104,0,104,2],[104,3,104,5],[105,0,105,2],[105,3,105,5],[99,0,99,2],[99,3,99,5],[100,0,100,1],[100,2,100,5],[101,0,101,1],[101,2,101,5],[109,0,109,2],[109,3,109,5],[110,0,110,3],[110,4,110,5],[111,0,111,3],[111,4,111,5],[106,0,106,2],[106,3,106,5],[107,0,107,2],[107,3,107,5],[108,0,108,1],[108,2,108,5],[115,0,115,3],[115,4,115,5],[116,0,116,3],[116,4,116,5],[117,0,117,3],[117,4,117,5],[112,0,112,3],[112,4,112,5],[113,0,113,3],[113,4,113,5],[114,0,114,3],[114,4,114,5],[123,0,123,3],[123,4,123,5],[124,0,124,3],[124,4,124,5],[125,0,125,3],[125,4,125,5],[118,0,118,3],[118,4,118,5],[119,0,119,4],[120,0,120,4],[121,0,121,4],[122,0,122,2],[122,3,122,5],[129,0,129,3],[129,4,129,5],[130,0,130,3],[130,4,130,5],[131,0,131,4],[132,0,132,4],[126,0,126,3],[126,4,126,5],[127,0,127,3],[127,4,127,5],[128,0,128,3],[128,4,128,5],[139,0,139,2],[139,3,139,5],[140,0,140,2],[140,3,140,5],[133,0,133,4],[134,0,134,4],[135,0,135,4],[136,0,136,4],[137,0,137,4],[138,1,138,5]]}
[null,null,null,null,null,null,2010,2011,2012,2013,2014,2015,"2016 / 2017","2017 / 2018","2018 / 2019","2019 / 2020"]
[null,null,null,null,null,null,1,2,3,4,5,6,7,8,9,10]
["Aktiva",null,null,null,null,null,{"$f":"G4+G5+G39+G76","v":15344},14986,14495,19833,15536,14635,16670,18567,19814,20614]
[null,"Pohledávky za upsaný základní kapitál",null,null,null,null,0,0,0,0,0,0,0,0,0,0]
[null,"Dlouhodobý majetek",null,null,null,null,{"$f":"G6+G16+G29","v":977},1498,2233,1204,911,390,469,496,372,306]
[null,null,"Dlouhodobý nehmotný majetek",null,null,null,{"$f":"G7+G8+G11+G12+G13","v":0},{"$f":"H7+H8+H11+H12+H13","v":0},736,0,0,0,0,0,0,0]
[null,null,null,"Nehmotné výsledky výzkumu a vývoje"]
[null,null,null,"Ocenitelná práva",null,null,{"$f":"SUM(G9:G10)","v":0},0,736,0,0,0,0,0,0,0]
[null,null,null,null,"Software",null,null,null,736]
[null,null,null,null,"Ocenitelná práva"]
[null,null,null,"Goodwill"]
[null,null,null,"Ostatní dlouhodobý nehmotný majetek"]
[null,null,null,"Poskytnuté zálohy na dlouhodobý nehmotný majetek a nedokončený dlouhodobý nehmotný majetek"]
[null,null,null,null,"Poskytnuté zálohy na dlouhodobý nehmotný majetek"]
[null,null,null,null,"Nedokončený dlouhodobý nehmotný majetek"]
[null,null,"Dlouhodobý hmotný majetek",null,null,null,{"$f":"G17+G20+G22+G26","v":977},{"$f":"H17+H20+H22+H26","v":1498},1497,1204,911,390,469,496,372,306]
[null,null,null,"Pozemky a stavby",null,null,{"$f":"SUM(G18:G19)","v":452},{"$f":"SUM(H18:H19)","v":437},422,407,392,0,0,0,0,0]
[null,null,null,null,"Pozemky",null,108,108,108,108,108,0,0,0,0,0]
[null,null,null,null,"Stavby",null,344,329,314,299,284,0,0,0,0,0]
[null,null,null,"Hmotné movité věci a jejich soubory",null,null,525,1061,1075,797,519,390,469,496,372,306]
[null,null,null,"Oceňovací rozdíl k nabytému majetku"]
[null,null,null,"Ostatní dlouhodobý hmotný majetek"]
[null,null,null,null,"Pěstitelské celky trvalých porostů"]
[null,null,null,null,"Dospělá zvířata a jejich skupiny"]
[null,null,null,null,"Jiný dlouhodobý hmotný majetek"]
[null,null,null,"Poskytnuté zálohy na dlouhodobý hmotný majetek a nedokončený dlouhodobý hmotný majetek"]
[null,null,null,null,"Poskytnuté zálohy na dlouhodobý hmotný majetek"]
[null,null,null,null,"Nedokončený dlouhodobý hmotný majetek"]
[null,null,"Dlouhodobý finanční majetek",null,null,null,{"$f":"SUM(G30:G36)","v":0},{"$f":"SUM(H30:H36)","v":0},0,0,0,0,0,0,0,0]
[null,null,null,"Podíly - ovládaná nebo ovládající osoba"]
[null,null,null,"Zápůjčky a úvěry - ovládající a řídící osoba, podstatný vliv"]
[null,null,null,"Podíly - podstatný vliv"]
[null,null,null,"Zápůjčky a úvěry - podstatný vliv"]
[null,null,null,"Ostatní dlouhodobé cenné papíry a podíly"]
[null,null,null,"Zápůjčky a úvěry - ostatní"]
[null,null,null,"Ostatní dlouhodobý finanční majetek"]
[null,null,null,null,"Jiný dlouhodobý finanční majetek"]
[null,null,null,null,"Poskytnuté zálohy na dlouhodobý finanční majetek"]
[null,"Oběžná aktiva",null,null,null,null,{"$f":"G40+G48+G70+G73","v":12761},{"$f":"H40+H48+H70+H73","v":10413},9549,17184,12737,13134,16035,{"$f":"N40+N48+N70+N73","v":16652},{"$f":"O40+O48+O70+O73","v":17029},{"$f":"P40+P48+P70+P73","v":17320}]
[null,null,"Zásoby",null,null,null,{"$f":"G41+G42+G43+G46+G47","v":3},{"$f":"H41+H42+H43+H46+H47","v":1538},99,840,317,234,0,{"$f":"N41+N42+N43+N46+N47","v":0},{"$f":"O41+O42+O43+O46+O47","v":0},{"$f":"P41+P42+P43+P46+P47","v":0}]
[null,null,null,"Materiál"]
[null,null,null,"Nedokončená výroba a polotovary",null,null,0,272,48,840,317,234,0,0,0,0]
[null,null,null,"Výrobky",null,null,{"$f":"SUM(G44:G45)","v":3},{"$f":"SUM(H44:H45)","v":1266},51,0,0,0,0,0,0,0]
[null,null,null,null,"Výrobky"]
[null,null,null,null,"Zboží",null,3,1266,51]
[null,null,null,"Mladá a ostatní zvířata a jejich skupiny"]
[null,null,null,"Poskytnuté zálohy na zásoby"]
[null,null,"Pohledávky",null,null,null,{"$f":"G49+G59","v":4263},{"$f":"H49+H59","v":3980},4994,7022,3897,1964,11629,7817,7963,9214]
[null,null,null,"Dlouhodobé pohledávky",null,null,{"$f":"SUM(G50:G54)","v":0},{"$f":"SUM(H50:H54)","v":0},0,0,0,0,0,0,0,0]
[null,null,null,null,"Pohledávky z obchodních vztahů"]
[null,null,null,null,"Pohledávky - ovládaná nebo ovládající osoba"]
[null,null,null,null,"Pohledávky - podstatný vliv"]
[null,null,null,null,"Odložená daňová pohledávka"]
[null,null,null,null,"Poledávky - ostatní",null,{"$f":"SUM(G55:G58)","v":0},{"$f":"SUM(H55:H58)","v":0},0,0,0,0,0,{"$f":"SUM(N55:N58)","v":0},{"$f":"SUM(O55:O58)","v":0},{"$f":"SUM(P55:P58)","v":0}]
[null,null,null,null,null,"Pohledávky za společníky"]
[null,null,null,null,null,"Dlouhodobé poskytnuté zálohy"]
[null,null,null,null,null,"Dohadné účty aktivní"]
[null,null,null,null,null,"Jiné pohledávky"]
[null,null,null,"Krátkodobé pohledávky",null,null,{"$f":"G60+G61+G62+G63","v":4263},{"$f":"H60+H61+H62+H63","v":3980},4994,7022,3897,1964,11629,7817,7963,9214]
[null,null,null,null,"Pohledávky z obchodních vztahů",null,3640,3667,4765,6710,3739,1817,8806,7062,{"$f":"CEILING(TREND($G60:N60,$G$2:N$2,O$2),1)","v":7053},8044]
[null,null,null,null,"Pohledávky - ovládaná nebo ovládající osoba"]
[null,null,null,null,"Pohledávky - podstatný vliv"]
[null,null,null,null,"Poledávky - ostatní",null,{"$f":"SUM(G64:G69)","v":623},{"$f":"SUM(H64:H69)","v":313},229,312,158,147,2823,755,910,1170]
[null,null,null,null,null,"Pohledávky za společníky"]
[null,null,null,null,null,"Sociální zabezpečení a zdravotní pojištění",null,null,null,null,null,null,-497]
[null,null,null,null,null,"Stát - daňové pohledávky",0,7,0,0,0,5,1275,{"$f":"CEILING(TREND($G66:M66,$G$2:M$2,N$2),1)","v":730},{"$f":"CEILING(TREND($G66:N66,$G$2:N$2,O$2),1)","v":867},{"$f":"CEILING(TREND($G66:O66,$G$2:O$2,P$2),1)","v":1004}]
[null,null,null,null,null,"Krátkodobé poskytnuté zálohy",611,294,215,286,145,138,167,{"$f":"CEILING(TREND($G67:M67,$G$2:M$2,N$2),1)","v":21},40,165]
[null,null,null,null,null,"Dohadné účty aktivní",null,null,null,null,null,null,1878]
[null,null,null,null,null,"Jiné pohledávky",12,12,14,26,13,4,0,{"$f":"CEILING(TREND($G69:M69,$G$2:M$2,N$2),1)","v":4},{"$f":"CEILING(TREND($G69:N69,$G$2:N$2,O$2),1)","v":3},{"$f":"CEILING(TREND($G69:O69,$G$2:O$2,P$2),1)","v":1}]
[null,null,"Krátkodobý finanční majetek",null,null,null,{"$f":"SUM(G71:G72)","v":0},{"$f":"SUM(H71:H72)","v":0},0,0,0,0,0,0,0,0]
[null,null,null,"Podíly - ovládaná a ovládající osoba"]
[null,null,null,"Ostatní krátkodobý finanční majetek"]
[null,null,"Peněžní prostředky",null,null,null,{"$f":"SUM(G74:G75)","v":8495},{"$f":"SUM(H74:H75)","v":4895},4456,9322,8523,10936,4406,8835,9066,8106]
[null,null,null,"Peněžní prostředky v pokladně",null,null,38,78,54,89,71,44,39,{"$f":"CEILING(TREND($G74:M74,$G$2:M$2,N$2),1)","v":53},{"$f":"CEILING(TREND($G74:N74,$G$2:N$2,O$2),1)","v":51},{"$f":"CEILING(TREND($G74:O74,$G$2:O$2,P$2),1)","v":50}]
[null,null,null,"Peněžní prostředky na účtech",null,null,8457,4817,4402,9233,8452,10892,4367,8782,9015,8056]
[null,"Časové rozlišení",null,null,null,null,{"$f":"SUM(G77:G79)","v":1606},{"$f":"SUM(H77:H79)","v":3075},2713,1445,1888,1111,166,1419,2413,2988]
[null,null,null,"Náklady příštích období",null,null,1606,3075,2713,1445,1888,1111,166,1419,2413,2988]
[null,null,null,"Komplexní náklady příštích období"]
[null,null,null,"Příjmy příštích období"]
["Pasiva",null,null,null,null,null,{"$f":"G81+G103+G139","v":15344},14986,14495,19833,15536,14635,16670,{"$f":"N81+N103+N139","v":18567},{"$f":"O81+O103+O139","v":19814},{"$f":"P81+P103+P139","v":20614}]
[null,"Vlastní kapitál",null,null,null,null,{"$f":"G82+G86+G94+G97+G102+G101","v":6954},{"$f":"H82+H86+H94+H97+H102+H101","v":8322},7452,10011,8645,10112,7128,{"$f":"N82+N86+N94+N97+N102+N101","v":11422},{"$f":"O82+O86+O94+O97+O102+O101","v":12602},{"$f":"P82+P86+P94+P97+P102+P101","v":13337}]
[null,null,"Základní kapitál",null,null,null,{"$f":"SUM(G83:G85)","v":300},300,300,300,300,300,300,{"$f":"SUM(N83:N85)","v":300},{"$f":"SUM(O83:O85)","v":300},{"$f":"SUM(P83:P85)","v":300}]
[null,null,null,"Základní kapitál",null,null,300,300,300,300,300,300,300,{"$f":"CEILING(TREND($G83:M83,$G$2:M$2,N$2),1)","v":300},{"$f":"CEILING(TREND($G83:N83,$G$2:N$2,O$2),1)","v":300},{"$f":"CEILING(TREND($G83:O83,$G$2:O$2,P$2),1)","v":300}]
[null,null,null,"Vlastní podíly"]
[null,null,null,"Změny základního kapitálu"]
[null,null,"Ážio a kapitálové fondy",null,null,null,{"$f":"G87+G88","v":893},{"$f":"H87+H88","v":893},893,893,893,893,893,893,893,893]
[null,null,null,"Ážio"]
[null,null,null,"Kapitálové fondy",null,null,{"$f":"SUM(G89:G93)","v":893},{"$f":"SUM(H89:H93)","v":893},893,893,893,893,893,{"$f":"CEILING(TREND($G88:M88,$G$2:M$2,N$2),1)","v":893},{"$f":"CEILING(TREND($G88:N88,$G$2:N$2,O$2),1)","v":893},{"$f":"CEILING(TREND($G88:O88,$G$2:O$2,P$2),1)","v":893}]
[null,null,null,null,"Ostatní kapitálové fondy",null,893,893,893,893,893,893,893,{"$f":"CEILING(TREND($G89:M89,$G$2:M$2,N$2),1)","v":893},{"$f":"CEILING(TREND($G89:N89,$G$2:N$2,O$2),1)","v":893},{"$f":"CEILING(TREND($G89:O89,$G$2:O$2,P$2),1)","v":893}]
[null,null,null,null,"Oceňovací rozdíly z přeceňění majetku a závazků"]
[null,null,null,null,"Oceňovací rozdíly z přecenění při přeměnách obchodních korporací"]
[null,null,null,null,"Rozdíly z přeměn obchodních korporací"]
[null,null,null,null,"Rozdíly z ocenění při přeměnách obchodních korporací"]
[null,null,"Fondy ze zisku",null,null,null,{"$f":"SUM(G95:G96)","v":30},30,30,30,30,30,30,30,30,30]
[null,null,null,"Ostatní rezervní fondy",null,null,30,30,30,30,30,30,30,{"$f":"CEILING(TREND($G95:M95,$G$2:M$2,N$2),1)","v":30},{"$f":"CEILING(TREND($G95:N95,$G$2:N$2,O$2),1)","v":30},{"$f":"CEILING(TREND($G95:O95,$G$2:O$2,P$2),1)","v":30}]
[null,null,null,"Statutární a ostatní fondy"]
[null,null,"Výsledek hospodaření minulých let",null,null,null,{"$f":"SUM(G98:G100)","v":3530},{"$f":"SUM(H98:H100)","v":3630},4879,4983,4588,5322,8889,7856,8541,9226]
[null,null,null,"Nerozdělený zisk minulých let",null,null,3530,3630,4879,4983,4588,5322,8889,{"$f":"CEILING(TREND($G98:M98,$G$2:M$2,N$2),1)","v":7856},{"$f":"CEILING(TREND($G98:N98,$G$2:N$2,O$2),1)","v":8541},{"$f":"CEILING(TREND($G98:O98,$G$2:O$2,P$2),1)","v":9226}]
[null,null,null,"Neuhrazená ztráta minulých let"]
[null,null,null,"Jiný výsledek hospodaření minulých let"]
[null,null,"Výsledek hospodaření běžného účetního období",null,null,null,2201,3469,1350,3805,2834,3567,-2984,2343,2838,2888]
[null,null,"Rozhodnuto o zálohové výplatě podílu na zisku"]
[null,"Cizí kapitál",null,null,null,null,{"$f":"G104+G109","v":4317},{"$f":"H104+H109","v":3859},4925,5377,2887,2243,7491,{"$f":"N104+N109","v":4781},{"$f":"O104+O109","v":5034},{"$f":"P104+P109","v":5286}]
[null,null,"Rezervy",null,null,null,{"$f":"SUM(G105:G108)","v":0},{"$f":"SUM(H105:H108)","v":0},0,0,0,0,106,{"$f":"SUM(N105:N108)","v":0},{"$f":"SUM(O105:O108)","v":0},{"$f":"SUM(P105:P108)","v":0}]
[null,null,null,"Rezerva na důchody a podobné závazky"]
[null,null,null,"Rezerva na daň z příjmu"]
[null,null,null,"Rezervy podle zvláštních právních předpisů"]
[null,null,null,"Ostatní rezervy",null,null,null,null,null,null,null,null,106]
[null,null,"Závazky",null,null,null,{"$f":"G110+G123","v":4317},{"$f":"H110+H123","v":3859},4925,5377,2887,2243,7385,{"$f":"N110+N123","v":4781},5034,5286]
[null,null,null,"Dlouhodobé závazky",null,null,{"$f":"SUM(G111:G119)","v":0},0,0,0,0,0,0,{"$f":"CEILING(TREND($G110:M110,$G$2:M$2,N$2),1)","v":0},{"$f":"CEILING(TREND($G110:N110,$G$2:N$2,O$2),1)","v":0},{"$f":"CEILING(TREND($G110:O110,$G$2:O$2,P$2),1)","v":0}]
[null,null,null,null,"Vydané dluhopisy"]
[null,null,null,null,"Závazky k úvěrovým institucím"]
[null,null,null,null,"Dlouhodobé přijaté zálohy"]
[null,null,null,null,"Závazky z obchodních vztahů"]
[null,null,null,null,"Dlouhodobé směnky k úhradě"]
[null,null,null,null,"Závazky - ovládaná nebo ovládající osoba"]
[null,null,null,null,"Závazky - podstatný vliv"]
[null,null,null,null,"Odložený daňový závazek"]
[null,null,null,null,"Závazky - ostatní",null,{"$f":"SUM(G120:G122)","v":0},0,0,0,0,0,0,{"$f":"CEILING(TREND($G119:M119,$G$2:M$2,N$2),1)","v":0},{"$f":"CEILING(TREND($G119:N119,$G$2:N$2,O$2),1)","v":0},{"$f":"CEILING(TREND($G119:O119,$G$2:O$2,P$2),1)","v":0}]
[null,null,null,null,null,"Závazky ke společníkům"]
[null,null,null,null,null,"Dohadné účty pasivní"]
[null,null,null,null,null,"Jiné závazky"]
[null,null,null,"Krátkodobé závazky",null,null,{"$f":"SUM(G124:G131)","v":4317},3859,4925,5377,2887,2243,7385,4781,5034,5286]
[null,null,null,null,"Vydané dluhopisy"]
[null,null,null,null,"Závazky k úvěrovým institucím",null,0,0,0,0,0,86,34,{"$f":"CEILING(TREND($G125:M125,$G$2:M$2,N$2),1)","v":57},{"$f":"CEILING(TREND($G125:N125,$G$2:N$2,O$2),1)","v":67},{"$f":"CEILING(TREND($G125:O125,$G$2:O$2,P$2),1)","v":77}]
[null,null,null,null,"Krátkodobé přijaté zálohy"]
[null,null,null,null,"Závazky z obchodních vztahů",null,874,1143,668,1867,723,223,2887,{"$f":"CEILING(TREND($G127:M127,$G$2:M$2,N$2),1)","v":1806},{"$f":"CEILING(TREND($G127:N127,$G$2:N$2,O$2),1)","v":1958},{"$f":"CEILING(TREND($G127:O127,$G$2:O$2,P$2),1)","v":2110}]
[null,null,null,null,"Krátkodobé směnky k úhradě"]
[null,null,null,null,"Závazky - ovládaná a ovládající osoba"]
[null,null,null,null,"Závazky - podstatný vliv"]
[null,null,null,null,"Závazky - ostatní",null,{"$f":"SUM(G132:G138)","v":3443},{"$f":"SUM(H132:H138)","v":2716},4257,3510,2164,1934,4464,2918,3009,3099]
[null,null,null,null,null,"Závazky ke společníkům",null,null,1887,null,30]
[null,null,null,null,null,"Krátkodobé finanční výpomoci"]
[null,null,null,null,null,"Závazky k zaměstnancům",700,545,626,752,598,683,834,{"$f":"CEILING(TREND($G134:M134,$G$2:M$2,N$2),1)","v":770},{"$f":"CEILING(TREND($G134:N134,$G$2:N$2,O$2),1)","v":794},{"$f":"CEILING(TREND($G134:O134,$G$2:O$2,P$2),1)","v":817}]
[null,null,null,null,null,"Závazky ze sociálního zabezpečení a zdravotního pojištění",462,389,421,525,423,442]
[null,null,null,null,null,"Stát - daňové závazky a dotace",1924,1125,1312,2209,1088,781,639,{"$f":"CEILING(TREND($G136:M136,$G$2:M$2,N$2),1)","v":616},{"$f":"CEILING(TREND($G136:N136,$G$2:N$2,O$2),1)","v":446},{"$f":"CEILING(TREND($G136:O136,$G$2:O$2,P$2),1)","v":276}]
[null,null,null,null,null,"Dahodné účty pasivní",357,657,11,24,25,28,2983,{"$f":"CEILING(TREND($G137:M137,$G$2:M$2,N$2),1)","v":1532},{"$f":"CEILING(TREND($G137:N137,$G$2:N$2,O$2),1)","v":1769},{"$f":"CEILING(TREND($G137:O137,$G$2:O$2,P$2),1)","v":2006}]
[null,null,null,null,null,"Jiné závazky",null,null,null,null,null,null,8]
[null,"Časové rozlišení",null,null,null,null,{"$f":"SUM(G140:G141)","v":4073},2805,2118,4445,4004,2280,2051,2364,2178,1991]
[null,null,null,"Výdaje příštích období"]
[null,null,null,"Výnosy příštích období",null,null,4073,2805,2118,4445,4004,2280,2051,{"$f":"CEILING(TREND($G141:M141,$G$2:M$2,N$2),1)","v":2364},{"$f":"CEILING(TREND($G141:N141,$G$2:N$2,O$2),1)","v":2178},{"$f":"CEILING(TREND($G141:O141,$G$2:O$2,P$2),1)","v":1991}]

{"sheet":"Predikce hodnot výkazovky","index":6,"n_rows":57,"n_cols":13,"rows_kept":57,"cut":false,"hidden":true,"merged":[[9,1,9,2],[1,0,1,2],[2,1,2,2],[3,1,3,2],[4,1,4,2],[8,1,8,2],[40,1,40,2],[10,1,10,2],[14,1,14,2],[18,1,18,2],[22,1,22,2],[27,0,27,2],[28,1,28,2],[31,1,31,2],[32,1,32,2],[35,1,35,2],[36,1,36,2],[39,1,39,2],[51,1,51,2],[52,0,52,2],[53,0,53,2],[43,1,43,2],[44,1,44,2],[45,0,45,2],[46,0,46,2],[47,1,47,2],[50,0,50,2]]}
[null,null,null,1,2,3,4,5,6,7,8,9,10]
["Výkaz zisku a ztrát (1.1.2010 - 30.6.2018)",null,null,2010,2011,2012,2013,2014,2015,"2016 / 2017","2017 / 2018","2018 / 2019","2019 / 2020"]
[null,"Tžby za prodej vlastních výrobků a služeb",null,17699,22020,19480,23651,20991,22836,36766,35193,{"$f":"CEILING(TREND($D3:K3,$D$1:K$1,L$1),1)","v":35737},{"$f":"CEILING(TREND($D3:L3,$D$1:L$1,M$1),1)","v":38161}]
[" ","Tržby za prodej zboží",null,11242,3737,9240,1796,1717,0,233,0,0,0]
[null,"Výkonová spotřeba",null,{"$f":"SUM(D6:D8)","v":16997},12156,17232,10274,9441,7077,14251,{"$f":"SUM(K6:K8)","v":9967},10871,10197]
[null,null,"Náklady vynaložené na prodané zbpží",8586,2696,8099,1469,1183,0,147,0,0,0]
[null,null,"Spotřeba materiálu a energie",579,645,592,452,432,429,1604,1322,{"$f":"CEILING(TREND($D7:K7,$D$1:K$1,L$1),1)","v":1266},{"$f":"CEILING(TREND($D7:L7,$D$1:L$1,M$1),1)","v":1379}]
[null,null,"Služby",7832,8815,8541,8353,7826,6648,12500,{"$f":"AVERAGE(D8:J8)","v":8645},{"$f":"CEILING(TREND($D8:K8,$D$1:K$1,L$1),1)","v":9605},8818]
[null,"Změna stavu zásob vlastních činností",null,0,0,0,0,317,-83,-234,0,0,0]
[null,"Aktivace",null,0,20,0,0,0,0,0,0,0,0]
[null,"Osobní náklady",null,{"$f":"SUM(D12:D14)","v":8426},8728,9270,9360,9565,10860,25203,{"$f":"SUM(K12:K14)","v":22193},{"$f":"SUM(L12:L14)","v":21299},{"$f":"SUM(M12:M14)","v":24318}]
[null,null,"Mzdové náklady",6077,6267,6633,6692,6855,7866,18362,16261,15643,{"$f":"CEILING(TREND($D12:L12,$D$1:L$1,M$1),1)","v":17813}]
[null,null,"Náklady na sociální zabezpečení a zdravotní pojištění",2229,2344,2505,2542,2588,2877,6610,5714,5443,{"$f":"CEILING(TREND($D13:L13,$D$1:L$1,M$1),1)","v":6277}]
[null,null,"Sociální náklady",120,117,132,126,122,117,231,{"$f":"CEILING(J14*0.94,1)","v":218},{"$f":"CEILING(TREND($D14:K14,$D$1:K$1,L$1),1)","v":213},{"$f":"CEILING(TREND($D14:L14,$D$1:L$1,M$1),1)","v":228}]
[null,"Úpravy hodnot v provozní oblasti",null,{"$f":"SUM(D16:D18)","v":274},270,294,538,293,268,393,384,397,410]
[null,null,"Úpravy hodnot dlouhodobého nehmotného a hmotného majetku",274,270,294,538,293,268,393,{"$f":"CEILING(TREND($D16:J16,$D$1:J$1,K$1),1)","v":384},{"$f":"CEILING(TREND($D16:K16,$D$1:K$1,L$1),1)","v":397},{"$f":"CEILING(TREND($D16:L16,$D$1:L$1,M$1),1)","v":410}]
[null,null,"Úpravy hodnot zásob"]
[null,null,"Úpravy hodnot pohledávek"]
[null,"Ostatní provozní výnosy",null,{"$f":"SUM(D20:D22)","v":125},79,287,145,17,549,532,373,417,461]
[null,null,"Tržby z prodeje dlouhodobého majetku",null,22,null,null,null,299,35]
[null,null,"Tržby z prodeje majetku"]
[null,null,"Jiné provozní výnosy",125,57,287,145,17,250,497,{"$f":"CEILING(TREND($D22:J22,$D$1:J$1,K$1),1)","v":373},{"$f":"CEILING(TREND($D22:K22,$D$1:K$1,L$1),1)","v":417},{"$f":"CEILING(TREND($D22:L22,$D$1:L$1,M$1),1)","v":461}]
[null,"Ostatní provozní náklady",null,{"$f":"SUM(D24:D27)","v":272},225,479,787,221,577,365,224,211,198]
[null,null,"Zůstatková cena prodaného dlouhodobého majetku",null,null,null,490,null,391]
[null,null,"Daně a poplatky",36,51,34,62,35,37,54,{"$f":"CEILING(TREND($D25:J25,$D$1:J$1,K$1),1)","v":48},{"$f":"CEILING(TREND($D25:K25,$D$1:K$1,L$1),1)","v":49},{"$f":"CEILING(TREND($D25:L25,$D$1:L$1,M$1),1)","v":50}]
[null,null,"Změna stavu rezerv a opravných položek v provozní oblasti a komplexních nákladů příštích  období",null,null,null,null,null,null,106]
[null,null,"Jiné provozní náklady",236,174,445,235,186,149,205,{"$f":"CEILING(TREND($D27:J27,$D$1:J$1,K$1),1)","v":176},{"$f":"CEILING(TREND($D27:K27,$D$1:K$1,L$1),1)","v":162},{"$f":"CEILING(TREND($D27:L27,$D$1:L$1,M$1),1)","v":148}]
["Provozní výsledek hospodaření",null,null,{"$f":"D3+D4-D5+D9+D10-D11-D16+D19-D23","v":3097},4477,1732,4633,3522,4520,-2915,2798,3376,3499]
[null,"Výnosy z dlouhodobého finančního majetku - podíly",null,{"$f":"SUM(D30:D31)","v":0},{"$f":"SUM(E30:E31)","v":0},0,0,0,0,0,{"$f":"SUM(K30:K31)","v":0},{"$f":"SUM(L30:L31)","v":0},{"$f":"SUM(M30:M31)","v":0}]
[null,null,"Výnosy z podílů - ovládaná a ovládající osoba"]
[null,null,"Ostatní výnosy z podílů"]
[null,"Náklady vynaložené na prodané podíly",null,0,0,0,0,0,0,0,{"$f":"CEILING(TREND($D32:J32,$D$1:J$1,K$1),1)","v":0},{"$f":"CEILING(TREND($D32:K32,$D$1:K$1,L$1),1)","v":0},{"$f":"CEILING(TREND($D32:L32,$D$1:L$1,M$1),1)","v":0}]
[null,"Výnosy z ostatního dlouhodobého finančního majetku",null,{"$f":"SUM(D34:D35)","v":0},{"$f":"SUM(E34:E35)","v":0},0,0,0,0,0,0,0,0]
[null,null,"Výnosy z ostatního dlouhodobého finančního majetku"]
[null,null,"Ostaní výnosy z ostatního dlouhodobého finančního majetku"]
[null,"Náklady související s ostatním dlouhodobým finančním majetkem",null,0,0,0,0,0,0,0,{"$f":"CEILING(TREND($D36:J36,$D$1:J$1,K$1),1)","v":0},{"$f":"CEILING(TREND($D36:K36,$D$1:K$1,L$1),1)","v":0},{"$f":"CEILING(TREND($D36:L36,$D$1:L$1,M$1),1)","v":0}]
[null,"Výnosové úroky a podobné výnosy",null,{"$f":"SUM(D38:D39)","v":1},{"$f":"SUM(E38:E39)","v":1},1,0,0,0,0,0,0,0]
[null,null,"Výnosové úroky a podobné výnosy - ovládaná  nebo ovládající osoba"]
[null,null,"Ostatní výnosové úroky a podobné výnosy",1,1,1]
[null,"Úpravy hodnot a rezervy ve finanční oblasti",null,0,0,0,0,0,0,0,{"$f":"CEILING(TREND($D40:J40,$D$1:J$1,K$1),1)","v":0},{"$f":"CEILING(TREND($D40:K40,$D$1:K$1,L$1),1)","v":0},{"$f":"CEILING(TREND($D40:L40,$D$1:L$1,M$1),1)","v":0}]
[null,"Nákladové úroky a podobné náklady",null,{"$f":"SUM(D42:D43)","v":4},{"$f":"SUM(E42:E43)","v":23},8,0,0,0,0,0,0,0]
[null,null,"Nákladové úroky a podobné náklady - ovládaná nebo ovládající osoba"]
[null,null,"Ostatní nákladové úroky a podobné náklady",4,23,8]
[null,"Ostatní finanční výnosy",null,245,176,275,196,99,52,278,{"$f":"CEILING(TREND($D44:J44,$D$1:J$1,K$1),1)","v":143},{"$f":"CEILING(TREND($D44:K44,$D$1:K$1,L$1),1)","v":132},{"$f":"CEILING(TREND($D44:L44,$D$1:L$1,M$1),1)","v":120}]
[null,"Ostatní finanční náklady",null,607,354,250,111,74,87,347,{"$f":"CEILING(TREND($D45:J45,$D$1:J$1,K$1),1)","v":49},4,53]
["Finanční výsledek hospodaření",null,null,{"$f":"D29+D33+D37+D44-D32-D36-D41-D45","v":-365},{"$f":"E29+E33+E37+E44-E32-E36-E41-E45","v":-200},18,85,25,-35,-69,{"$f":"K29+K33+K37+K44-K32-K36-K41-K45","v":94},{"$f":"L29+L33+L37+L44-L32-L36-L41-L45","v":128},{"$f":"M29+M33+M37+M44-M32-M36-M41-M45","v":67}]
["Výsledek hospodaření před zdaněním",null,null,{"$f":"D28+D46","v":2732},{"$f":"E28+E46","v":4277},1750,4718,3547,4485,-2984,{"$f":"K28+K46","v":2892},{"$f":"L28+L46","v":3504},{"$f":"M28+M46","v":3566}]
[null,"Daň z příjmu",null,{"$f":"SUM(D49:D50)","v":531},{"$f":"SUM(E49:E50)","v":808},400,913,713,918,0,549.48,665.76,677.54]
[null,null,"Splatná",531,808,400,913,713,918,0,{"$f":"K47*0.19","v":549.48},{"$f":"L47*0.19","v":665.76},{"$f":"M47*0.19","v":677.54}]
[null,null,"Odložená"]
["Výsledek hospodaření po zdanění",null,null,{"$f":"D47-D48","v":2201},{"$f":"E47-E48","v":3469},1350,3805,2834,3567,-2984,2342.52,{"$f":"L47-L48","v":2838.24},{"$f":"M47-M48","v":2888.46}]
[null,"Převod podílu na výsledku hospodaření společníkům",null,0,0,0,0,0,0,0,0,0,0]
["Výsledek hospodaření za účetní období",null,null,{"$f":"D51-D52","v":2201},{"$f":"E51-E52","v":3469},1350,3805,2834,3567,-2984,{"$f":"K51-K52","v":2342.52},{"$f":"L51-L52","v":2838.24},{"$f":"M51-M52","v":2888.46}]
["Čistý obrat za účetní období",null,null,{"$f":"D3+D4+D19+D29+D33+D37+D44","v":29312},{"$f":"E3+E4+E19+E29+E33+E37+E44","v":26013},29283,25788,22824,23437,37809,{"$f":"K3+K4+K19+K29+K33+K37+K44","v":35709},{"$f":"L3+L4+L19+L29+L33+L37+L44","v":36286},{"$f":"M3+M4+M19+M29+M33+M37+M44","v":38742}]
[]
["Celkové výnosy",null,null,{"$f":"D54","v":29312},{"$f":"E54","v":26013},29283,25788,22824,23437,37809,{"$f":"K54","v":35709},{"$f":"L54","v":36286},{"$f":"M54","v":38742}]
["Celkové náklady",null,null,{"$f":"D5-D9+D10+D11+D15+D23+D32+D36+D40+D41+D45","v":26580},21776,27533,21070,{"$f":"H5+H9+H10+H11+H15+H23+H32+H36+H40+H41+H45","v":19911},18952,40793,{"$f":"K5-K9+K10+K11+K15+K23+K32+K36+K40+K41+K45","v":32817},{"$f":"L5-L9+L10+L11+L15+L23+L32+L36+L40+L41+L45","v":32782},{"$f":"M5-M9+M10+M11+M15+M23+M32+M36+M40+M41+M45","v":35176}]

{"sheet":"Analýza generátorů hodnot","index":7,"n_rows":40,"n_cols":11,"rows_kept":40,"cut":false,"hidden":false,"merged":[[3,1,3,7],[3,8,3,10],[16,1,16,7],[16,8,16,10],[39,1,39,7],[39,8,39,10],[23,1,23,7],[23,8,23,10],[34,1,34,7],[34,8,34,10]]}
["Rok",2010,2011,2012,2013,2014,2015,"2016 / 2017","2017 / 2018","2018 / 2019","2019 / 2020"]
["Tržby (v tisících Kč)",{"$f":"'Predikce hodnot výkazovky'!D3+'Predikce hodnot výkazovky'!D4","v":28941},{"$f":"'Predikce hodnot výkazovky'!E3+'Predikce hodnot výkazovky'!E4","v":25757},{"$f":"'Predikce hodnot výkazovky'!F3+'Predikce hodnot výkazovky'!F4","v":28720},{"$f":"'Predikce hodnot výkazovky'!G3+'Predikce hodnot výkazovky'!G4","v":25447},{"$f":"'Predikce hodnot výkazovky'!H3+'Predikce hodnot výkazovky'!H4","v":22708},{"$f":"'Predikce hodnot výkazovky'!I3+'Predikce hodnot výkazovky'!I4","v":22836},{"$f":"'Predikce hodnot výkazovky'!J3+'Predikce hodnot výkazovky'!J4","v":36999},{"$f":"'Predikce hodnot výkazovky'!K3+'Predikce hodnot výkazovky'!K4","v":35193},{"$f":"'Predikce hodnot výkazovky'!L3+'Predikce hodnot výkazovky'!L4","v":35737},{"$f":"'Predikce hodnot výkazovky'!M3+'Predikce hodnot výkazovky'!M4","v":38161}]
["Tempo růstu tržeb (v %)","x",{"$f":"(C2-B2)/B2","v":-0.11001693099754674},0.11503668905540242,-0.11396239554317548,-0.10763547765944904,5.6367799894310377E-3,0.62020493956910139,-4.8812130057569125E-2,1.5457619412951439E-2,6.7828860844502903E-2]
["Průměrné tempo růstu tržeb (v %)",{"$f":"AVERAGE(C3:H3)","v":6.8210600735627264E-2},null,null,null,null,null,null,{"$f":"AVERAGE(I3:K3)","v":1.1491450066628406E-2}]
[]
["Rok",2010,2011,2012,2013,2014,2015,"2016 / 2017","2017 / 2018","2018 / 2019","2019 / 2020"]
["Provozní výsledek hospodaření za období (v tisících Kč)",{"$f":"'Predikce hodnot výkazovky'!D28","v":3097},{"$f":"'Predikce hodnot výkazovky'!E28","v":4477},{"$f":"'Predikce hodnot výkazovky'!F28","v":1732},{"$f":"'Predikce hodnot výkazovky'!G28","v":4633},{"$f":"'Predikce hodnot výkazovky'!H28","v":3522},{"$f":"'Predikce hodnot výkazovky'!I28","v":4520},{"$f":"'Predikce hodnot výkazovky'!J28","v":-2915},{"$f":"'Predikce hodnot výkazovky'!K28","v":2798},{"$f":"'Predikce hodnot výkazovky'!L28","v":3376},{"$f":"'Predikce hodnot výkazovky'!M28","v":3499}]
["Tržby z prodeje dlouhodobého majetku a materiálu (v tisících Kč)",{"$f":"'Predikce hodnot výkazovky'!D20","v":0},{"$f":"'Predikce hodnot výkazovky'!E20","v":22},{"$f":"'Predikce hodnot výkazovky'!F20","v":0},{"$f":"'Predikce hodnot výkazovky'!G20","v":0},{"$f":"'Predikce hodnot výkazovky'!H20","v":0},{"$f":"'Predikce hodnot výkazovky'!I20","v":299},{"$f":"'Predikce hodnot výkazovky'!J20","v":35},{"$f":"'Predikce hodnot výkazovky'!K20","v":0},{"$f":"'Predikce hodnot výkazovky'!L20","v":0},{"$f":"'Predikce hodnot výkazovky'!M20","v":0}]
["Zůstatková cena prodaného dlouhodobého majetku a materiálu (v tisících Kč)",{"$f":"'Predikce hodnot výkazovky'!D24","v":0},{"$f":"'Predikce hodnot výkazovky'!E24","v":0},{"$f":"'Predikce hodnot výkazovky'!F24","v":0},{"$f":"'Predikce hodnot výkazovky'!G24","v":490},{"$f":"'Predikce hodnot výkazovky'!H24","v":0},{"$f":"'Predikce hodnot výkazovky'!I24","v":391},{"$f":"'Predikce hodnot výkazovky'!J24","v":0},{"$f":"'Predikce hodnot výkazovky'!K24","v":0},{"$f":"'Predikce hodnot výkazovky'!L24","v":0},{"$f":"'Predikce hodnot výkazovky'!M24","v":0}]
["Zisk z prodaného dlouhodobého majetku a materiálu (v tisících Kč)",{"$f":"B8-B9","v":0},{"$f":"C8-C9","v":22},0,-490,0,-92,35,0,0,0]
["Korigovaný provozní výsledek hospodaření (v tisících Kč)",{"$f":"B7-B10","v":3097},{"$f":"C7-C10","v":4455},1732,5123,3522,4612,-2950,2798,3376,3499]
["Odpisy (v tisících Kč)",0,0,0,0,0,0,0,0,0,0]
["Korigovaný provozní výsledek hospodaření před odpisy (v tisících Kč)",{"$f":"B12+B11","v":3097},{"$f":"C12+C11","v":4455},1732,5123,3522,4612,-2950,2798,3376,3499]
["Tržby  (v tisících Kč)",{"$f":"B2","v":28941},25757,28720,25447,22708,22836,36999,35193,35737,38161]
["Provozní zisková marže (v %)",{"$f":"B13/B14","v":0.10701081510659617},{"$f":"C13/C14","v":0.17296268975424156},6.030640668523677E-2,0.20132039140173694,0.15509952439668839,0.20196181467857768,-7.9731884645530965E-2,7.9504446907055382E-2,9.4467918403895124E-2,9.1690469327323706E-2]
["Tempo růstu korigovaného provozního výsledku hospodaření před odpisy (v %)","x",{"$f":"(C13-B13)/B13","v":0.43848886018727801},{"$f":"(D13-C13)/C13","v":-0.61122334455667793},1.957852193995381,-0.31251219988288115,0.30948324815445771,-1.6396357328707718,{"$f":"(I13-H13)/((-1)*H13)","v":1.9484745762711864},0.2065761258041458,3.6433649289099528E-2]
["Průměrné tempo růstu korigovaného provozního výsledku hospodaření před odpisy (v %)",{"$f":"AVERAGE(B16:H16)","v":2.3742170837797616E-2},null,null,null,null,null,null,{"$f":"AVERAGE(I16:K16)","v":0.73049478378814392}]
[]
["Rok",2010,2011,2012,2013,2014,2015,"2016 / 2017","2017 / 2018","2018 / 2019","2019 / 2020"]
["Provozní zisková marže (v %)",{"$f":"B15","v":0.10701081510659617},{"$f":"C15","v":0.17296268975424156},6.030640668523677E-2,0.20132039140173694,0.15509952439668839,0.20196181467857768,-7.9731884645530965E-2,7.9504446907055382E-2,9.4467918403895124E-2,9.1690469327323706E-2]
["Podíl odpisů na tržbách (v %)",{"$f":"0","v":0},{"$f":"0","v":0},{"$f":"0","v":0},{"$f":"0","v":0},{"$f":"0","v":0},{"$f":"0","v":0},{"$f":"0","v":0},{"$f":"0","v":0},{"$f":"0","v":0},{"$f":"0","v":0}]
["Zisková marže před odpisy (v %)",{"$f":"B20-B21","v":0.10701081510659617},{"$f":"C20-C21","v":0.17296268975424156},6.030640668523677E-2,0.20132039140173694,0.15509952439668839,0.20196181467857768,-7.9731884645530965E-2,7.9504446907055382E-2,9.4467918403895124E-2,9.1690469327323706E-2]
["Průměrná zisková po dani (v %)",{"$f":"B22*0.81","v":8.6678760236342911E-2},{"$f":"C22*0.81","v":0.14009977870093568},4.8848189415041786E-2,0.16306951703540692,0.12563061476131759,0.16358906988964794,-6.4582826562880086E-2,6.4398601994714866E-2,7.6519013907155056E-2,7.4269280155132206E-2]
["Průměrná zisková marže po dani (v %)",{"$f":"AVERAGE(B23:H23)","v":9.476187192511612E-2},null,null,null,null,null,null,{"$f":"AVERAGE(I23:K23)","v":7.1728965352334043E-2}]
[]
["Rok",2010,2011,2012,2013,2014,2015,"2016 / 2017","2017 / 2018","2018 / 2019","2019 / 2020"]
["Zásoby",{"$f":"'Predikce hodnot rozvahy'!G40","v":3},{"$f":"'Predikce hodnot rozvahy'!H40","v":1538},{"$f":"'Predikce hodnot rozvahy'!I40","v":99},{"$f":"'Predikce hodnot rozvahy'!J40","v":840},{"$f":"'Predikce hodnot rozvahy'!K40","v":317},{"$f":"'Predikce hodnot rozvahy'!L40","v":234},{"$f":"'Predikce hodnot rozvahy'!M40","v":0},{"$f":"'Predikce hodnot rozvahy'!N40","v":0},{"$f":"'Predikce hodnot rozvahy'!O40","v":0},{"$f":"'Predikce hodnot rozvahy'!P40","v":0}]
["Pohledávky",{"$f":"'Predikce hodnot rozvahy'!G48","v":4263},{"$f":"'Predikce hodnot rozvahy'!H48","v":3980},{"$f":"'Predikce hodnot rozvahy'!I48","v":4994},{"$f":"'Predikce hodnot rozvahy'!J48","v":7022},{"$f":"'Predikce hodnot rozvahy'!K48","v":3897},{"$f":"'Predikce hodnot rozvahy'!L48","v":1964},{"$f":"'Predikce hodnot rozvahy'!M48","v":11629},{"$f":"'Predikce hodnot rozvahy'!N48","v":7817},{"$f":"'Predikce hodnot rozvahy'!O48","v":7963},{"$f":"'Predikce hodnot rozvahy'!P48","v":9214}]
["Peněžní prostředky nutné",{"$f":"'Predikce hodnot rozvahy'!G73","v":8495},{"$f":"'Predikce hodnot rozvahy'!H73","v":4895},{"$f":"'Predikce hodnot rozvahy'!I73","v":4456},{"$f":"'Predikce hodnot rozvahy'!J73","v":9322},{"$f":"'Predikce hodnot rozvahy'!K73","v":8523},{"$f":"'Predikce hodnot rozvahy'!L73","v":10936},{"$f":"'Predikce hodnot rozvahy'!M73","v":4406},{"$f":"'Predikce hodnot rozvahy'!N73","v":8835},{"$f":"'Predikce hodnot rozvahy'!O73","v":9066},{"$f":"'Predikce hodnot rozvahy'!P73","v":8106}]
["Časové rozlišení aktiv",{"$f":"'Predikce hodnot rozvahy'!G76","v":1606},{"$f":"'Predikce hodnot rozvahy'!H76","v":3075},{"$f":"'Predikce hodnot rozvahy'!I76","v":2713},{"$f":"'Predikce hodnot rozvahy'!J76","v":1445},{"$f":"'Predikce hodnot rozvahy'!K76","v":1888},{"$f":"'Predikce hodnot rozvahy'!L76","v":1111},{"$f":"'Predikce hodnot rozvahy'!M76","v":166},{"$f":"'Predikce hodnot rozvahy'!N76","v":1419},{"$f":"'Predikce hodnot rozvahy'!O76","v":2413},{"$f":"'Predikce hodnot rozvahy'!P76","v":2988}]
["Krátkodobé závazky",{"$f":"'Predikce hodnot rozvahy'!G123","v":4317},{"$f":"'Predikce hodnot rozvahy'!H123","v":3859},{"$f":"'Predikce hodnot rozvahy'!I123","v":4925},{"$f":"'Predikce hodnot rozvahy'!J123","v":5377},{"$f":"'Predikce hodnot rozvahy'!K123","v":2887},{"$f":"'Predikce hodnot rozvahy'!L123","v":2243},{"$f":"'Predikce hodnot rozvahy'!M123","v":7385},{"$f":"'Predikce hodnot rozvahy'!N123","v":4781},{"$f":"'Predikce hodnot rozvahy'!O123","v":5034},{"$f":"'Predikce hodnot rozvahy'!P123","v":5286}]
["Časové rozlišení pasiv",{"$f":"'Predikce hodnot rozvahy'!G139","v":4073},{"$f":"'Predikce hodnot rozvahy'!H139","v":2805},{"$f":"'Predikce hodnot rozvahy'!I139","v":2118},{"$f":"'Predikce hodnot rozvahy'!J139","v":4445},{"$f":"'Predikce hodnot rozvahy'!K139","v":4004},{"$f":"'Predikce hodnot rozvahy'!L139","v":2280},{"$f":"'Predikce hodnot rozvahy'!M139","v":2051},{"$f":"'Predikce hodnot rozvahy'!N139","v":2364},{"$f":"'Predikce hodnot rozvahy'!O139","v":2178},{"$f":"'Predikce hodnot rozvahy'!P139","v":1991}]
["Upravený pracovní kapitál",{"$f":"B27+B28+B29+B30-B31-B32","v":5977},{"$f":"C27+C28+C29+C30-C31-C32","v":6824},5219,8807,7734,9722,6765,10926,12230,13031]
["Tržby  (v tisících Kč)",{"$f":"B14","v":28941},{"$f":"C14","v":25757},28720,25447,22708,22836,36999,35193,35737,38161]
["Koeficient náročnosti růstu tržeb na růst pracovního kapitálu (v %)",{"$f":"(H33-B33)/(H34-B34)","v":9.7791015140233306E-2},null,null,null,null,null,null,{"$f":"(K33-I33)/(K34-I34)","v":0.70923180592991919}]
[]
["Rok",2010,2011,2012,2013,2014,2015,"2016 / 2017","2017 / 2018","2018 / 2019","2019 / 2020"]
["Tržby (v tisících Kč)",{"$f":"B14","v":28941},{"$f":"C14","v":25757},28720,25447,22708,22836,36999,35193,35737,38161]
["Provozně nutný dlouhodobý majetek",{"$f":"'Predikce hodnot rozvahy'!G4+'Predikce hodnot rozvahy'!G6+'Predikce hodnot rozvahy'!G16","v":977},{"$f":"'Predikce hodnot rozvahy'!H4+'Predikce hodnot rozvahy'!H6+'Predikce hodnot rozvahy'!H16","v":1498},{"$f":"'Predikce hodnot rozvahy'!I4+'Predikce hodnot rozvahy'!I6+'Predikce hodnot rozvahy'!I16","v":2233},{"$f":"'Predikce hodnot rozvahy'!J4+'Predikce hodnot rozvahy'!J6+'Predikce hodnot rozvahy'!J16","v":1204},{"$f":"'Predikce hodnot rozvahy'!K4+'Predikce hodnot rozvahy'!K6+'Predikce hodnot rozvahy'!K16","v":911},{"$f":"'Predikce hodnot rozvahy'!L4+'Predikce hodnot rozvahy'!L6+'Predikce hodnot rozvahy'!L16","v":390},{"$f":"'Predikce hodnot rozvahy'!M4+'Predikce hodnot rozvahy'!M6+'Predikce hodnot rozvahy'!M16","v":469},{"$f":"'Predikce hodnot rozvahy'!N4+'Predikce hodnot rozvahy'!N6+'Predikce hodnot rozvahy'!N16","v":496},{"$f":"'Predikce hodnot rozvahy'!O4+'Predikce hodnot rozvahy'!O6+'Predikce hodnot rozvahy'!O16","v":372},{"$f":"'Predikce hodnot rozvahy'!P4+'Predikce hodnot rozvahy'!P6+'Predikce hodnot rozvahy'!P16","v":306}]
["Koeficient náročnosti růstu tržeb na růst dlouhodobého hmotného majetku (v %)",{"$f":"(H39-B39)/(H38-B38)","v":-6.3042938694465131E-2},null,null,null,null,null,null,{"$f":"(K39-I39)/(K38-I38)","v":-6.401617250673855E-2}]

{"sheet":"Ocenění generátory hodnot","index":8,"n_rows":26,"n_cols":6,"rows_kept":26,"cut":false,"hidden":false,"merged":[]}
["Položka","Zkratka","Hodnota"]
["Riziková přirážka za velikost podniku","rla",0.05]
[null,"XL1",1.73]
[null,"XL2",2.76]
["Vypočtený ukazatel likvidity (v %, 2016/2017)",null,{"$f":"'Poměrová analýza'!H7","v":2.1712931618144888}]
["Riziková přirážka za tvrobu EBIT","rpod",{"$f":"(C4-C5)^2/(C4-C3)^2*0.1","v":3.2668087597924549E-2}]
["Riziková přirážka za schopnost platit včas","rfinstab",0]
["Riziková za dělení EBIT","rfinstru",0.1]
["Riziková premie","RP",{"$f":"C8+C7+C6+C2","v":0.18266808759792458}]
["Berzizikový výnos","rf",9.7999999999999997E-3]
["Náklad vlastního kapitálu","re",{"$f":"C10+C9","v":0.19246808759792458}]
["Náklady na cizí kapitál","rd",0]
["Daň z příjmu právnických osob",null,0.19]
["Cizí kapitál",null,0]
["Dlouhodobý vlastní kapitál",null,{"$f":"'Predikce hodnot rozvahy'!M81","v":7128}]
["Vážené náklady kapitálu","WACC",{"$f":"C12*(1-C13)*C14/(C14+C15)+C11*C15/(C15+C14)","v":0.19246808759792458}]
[]
["Rok","Pesimistická","Mírně pesimistická","Střední","Mírně optimistická","Optimistická"]
["Tržby v roce 2016 / 2017 (v tisícíck Kč)",{"$f":"'Analýza generátorů hodnot'!H2","v":36999},{"$f":"'Analýza generátorů hodnot'!H2","v":36999},{"$f":"'Analýza generátorů hodnot'!H2","v":36999},{"$f":"'Analýza generátorů hodnot'!H2","v":36999},{"$f":"'Analýza generátorů hodnot'!H2","v":36999}]
["Tempo růstu tržeb (v %)",1.5E-3,6.4999999999999997E-3,{"$f":"'Analýza generátorů hodnot'!I4","v":1.1491450066628406E-2},0.04,6.8000000000000005E-2]
[{"$f":"'Analýza generátorů hodnot'!A24","v":"Průměrná zisková marže po dani (v %)"},5.1700000000000003E-2,6.1699999999999998E-2,{"$f":"'Analýza generátorů hodnot'!I24","v":7.1728965352334043E-2},8.6499999999999994E-2,0.1012]
["Sazba daně z příjmu právnických osob (v %)",0.19,0.19,0.19,0.19,0.19]
[{"$f":"'Analýza generátorů hodnot'!A35","v":"Koeficient náročnosti růstu tržeb na růst pracovního kapitálu (v %)"},0.9,0.8,{"$f":"'Analýza generátorů hodnot'!I35","v":0.70923180592991919},0.6,0.5]
[{"$f":"'Analýza generátorů hodnot'!A40","v":"Koeficient náročnosti růstu tržeb na růst dlouhodobého hmotného majetku (v %)"},-0.1,-0.08,{"$f":"'Analýza generátorů hodnot'!I40","v":-6.401617250673855E-2},-0.04,-3.5000000000000003E-2]
["Diskontní míra (v %)",0.21249999999999999,0.20250000000000001,{"$f":"C16","v":0.19246808759792458},0.1825,0.17249999999999999]
["Hodnota podniku brutto (v milionech Kč)",{"$f":"(B19*(1+B20)*B21*(1-B22)-B19*B20*(B23+B24))/(B25-B20)","v":7143.7556098791483},{"$f":"(C19*(1+C20)*C21*(1-C22)-C19*C20*(C23+C24))/(C25-C20)","v":8612.0553400484678},{"$f":"(D19*(1+D20)*D21*(1-D22)-D19*D20*(D23+D24))/(D25-D20)","v":10498.780344466726},{"$f":"(E19*(1+E20)*E21*(1-E22)-E19*E20*(E23+E24))/(E25-E20)","v":13103.51391157895},{"$f":"(F19*(1+F20)*F21*(1-F22)-F19*F20*(F23+F24))/(F25-F20)","v":19801.049051712922}]

{"sheet":"Ocenění DCF","index":9,"n_rows":55,"n_cols":11,"rows_kept":55,"cut":false,"hidden":false,"merged":[]}
["Položka (v tisících Kč)",2010,2011,2012,2013,2014,2015,"2016 / 2017","2017/2018","2018/2019","2019/2020"]
["Peněžní prostředky v pokladně",{"$f":"'Predikce hodnot rozvahy'!G74","v":38},{"$f":"'Predikce hodnot rozvahy'!H74","v":78},{"$f":"'Predikce hodnot rozvahy'!I74","v":54},{"$f":"'Predikce hodnot rozvahy'!J74","v":89},{"$f":"'Predikce hodnot rozvahy'!K74","v":71},{"$f":"'Predikce hodnot rozvahy'!L74","v":44},{"$f":"'Predikce hodnot rozvahy'!M74","v":39},{"$f":"'Predikce hodnot rozvahy'!N74","v":53},{"$f":"'Predikce hodnot rozvahy'!O74","v":51},{"$f":"'Predikce hodnot rozvahy'!P74","v":50}]
["Peněžní prostředky na účtech",{"$f":"'Predikce hodnot rozvahy'!G75","v":8457},{"$f":"'Predikce hodnot rozvahy'!H75","v":4817},{"$f":"'Predikce hodnot rozvahy'!I75","v":4402},{"$f":"'Predikce hodnot rozvahy'!J75","v":9233},{"$f":"'Predikce hodnot rozvahy'!K75","v":8452},{"$f":"'Predikce hodnot rozvahy'!L75","v":10892},{"$f":"'Predikce hodnot rozvahy'!M75","v":4367},{"$f":"'Predikce hodnot rozvahy'!N75","v":8782},{"$f":"'Predikce hodnot rozvahy'!O75","v":9015},{"$f":"'Predikce hodnot rozvahy'!P75","v":8056}]
["Krátkodobé závazky",{"$f":"'Predikce hodnot rozvahy'!G123","v":4317},{"$f":"'Predikce hodnot rozvahy'!H123","v":3859},{"$f":"'Predikce hodnot rozvahy'!I123","v":4925},{"$f":"'Predikce hodnot rozvahy'!J123","v":5377},{"$f":"'Predikce hodnot rozvahy'!K123","v":2887},{"$f":"'Predikce hodnot rozvahy'!L123","v":2243},{"$f":"'Predikce hodnot rozvahy'!M123","v":7385},{"$f":"'Predikce hodnot rozvahy'!N123","v":4781},{"$f":"'Predikce hodnot rozvahy'!O123","v":5034},{"$f":"'Predikce hodnot rozvahy'!P123","v":5286}]
["Likvidita",{"$f":"(B2+B3)/B4","v":1.9678017141533473},{"$f":"(C2+C3)/C4","v":1.2684633324695518},0.90477157360406091,1.7336804909801005,2.952199515067544,4.8756130182790907,0.59661475964793498,1.8479397615561599,1.8009535160905841,1.5334846765039727]
["Ukazatel likvidity",{"$f":"'Poměrová analýza'!B9","v":1.9678017141533473},{"$f":"'Poměrová analýza'!C9","v":1.2684633324695518},{"$f":"'Poměrová analýza'!D9","v":0.90477157360406091},{"$f":"'Poměrová analýza'!E9","v":1.7336804909801005},{"$f":"'Poměrová analýza'!F9","v":2.952199515067544},{"$f":"'Poměrová analýza'!G9","v":4.8756130182790907},{"$f":"'Poměrová analýza'!H9","v":0.59661475964793498},"x","x","x"]
["Provozně nutné peněžní prostředky",{"$f":"B3+B2","v":8495},{"$f":"C3+C2","v":4895},4456,9322,8523,10936,4406,8835,9066,8106]
[]
["Položka (v tisících Kč)",2010,2011,2012,2013,2014,2015,"2016 / 2017","2017/2018","2018/2019","2019/2020"]
["Pohledávky za upsaný základní kapitál",{"$f":"'Predikce hodnot rozvahy'!G4","v":0},{"$f":"'Predikce hodnot rozvahy'!H4","v":0},{"$f":"'Predikce hodnot rozvahy'!I4","v":0},{"$f":"'Predikce hodnot rozvahy'!J4","v":0},{"$f":"'Predikce hodnot rozvahy'!K4","v":0},{"$f":"'Predikce hodnot rozvahy'!L4","v":0},{"$f":"'Predikce hodnot rozvahy'!M4","v":0},{"$f":"'Predikce hodnot rozvahy'!N4","v":0},{"$f":"'Predikce hodnot rozvahy'!O4","v":0},{"$f":"'Predikce hodnot rozvahy'!P4","v":0}]
["Dlouhodobý nehmotný majetek",{"$f":"'Predikce hodnot rozvahy'!G6","v":0},{"$f":"'Predikce hodnot rozvahy'!H6","v":0},{"$f":"'Predikce hodnot rozvahy'!I6","v":736},{"$f":"'Predikce hodnot rozvahy'!J6","v":0},{"$f":"'Predikce hodnot rozvahy'!K6","v":0},{"$f":"'Predikce hodnot rozvahy'!L6","v":0},{"$f":"'Predikce hodnot rozvahy'!M6","v":0},{"$f":"'Predikce hodnot rozvahy'!N6","v":0},{"$f":"'Predikce hodnot rozvahy'!O6","v":0},{"$f":"'Predikce hodnot rozvahy'!P6","v":0}]
["Dlouhodobý hmotný majetek",{"$f":"'Predikce hodnot rozvahy'!G16","v":977},{"$f":"'Predikce hodnot rozvahy'!H16","v":1498},{"$f":"'Predikce hodnot rozvahy'!I16","v":1497},{"$f":"'Predikce hodnot rozvahy'!J16","v":1204},{"$f":"'Predikce hodnot rozvahy'!K16","v":911},{"$f":"'Predikce hodnot rozvahy'!L16","v":390},{"$f":"'Predikce hodnot rozvahy'!M16","v":469},{"$f":"'Predikce hodnot rozvahy'!N16","v":496},{"$f":"'Predikce hodnot rozvahy'!O16","v":372},{"$f":"'Predikce hodnot rozvahy'!P16","v":306}]
["Dlouhodobý majetek provozně nutný",{"$f":"SUM(B10:B12)","v":977},{"$f":"SUM(C10:C12)","v":1498},2233,1204,911,390,469,496,372,306]
["Zásoby",{"$f":"'Predikce hodnot rozvahy'!G40","v":3},{"$f":"'Predikce hodnot rozvahy'!H40","v":1538},{"$f":"'Predikce hodnot rozvahy'!I40","v":99},{"$f":"'Predikce hodnot rozvahy'!J40","v":840},{"$f":"'Predikce hodnot rozvahy'!K40","v":317},{"$f":"'Predikce hodnot rozvahy'!L40","v":234},{"$f":"'Predikce hodnot rozvahy'!M40","v":0},{"$f":"'Predikce hodnot rozvahy'!N40","v":0},{"$f":"'Predikce hodnot rozvahy'!O40","v":0},{"$f":"'Predikce hodnot rozvahy'!P40","v":0}]
["Pohledávky",{"$f":"'Predikce hodnot rozvahy'!G48","v":4263},{"$f":"'Predikce hodnot rozvahy'!H48","v":3980},{"$f":"'Predikce hodnot rozvahy'!I48","v":4994},{"$f":"'Predikce hodnot rozvahy'!J48","v":7022},{"$f":"'Predikce hodnot rozvahy'!K48","v":3897},{"$f":"'Predikce hodnot rozvahy'!L48","v":1964},{"$f":"'Predikce hodnot rozvahy'!M48","v":11629},{"$f":"'Predikce hodnot rozvahy'!N48","v":7817},{"$f":"'Predikce hodnot rozvahy'!O48","v":7963},{"$f":"'Predikce hodnot rozvahy'!P48","v":9214}]
["Provozně nutné peněžní prostředky",{"$f":"B7","v":8495},{"$f":"C7","v":4895},4456,9322,8523,10936,4406,8835,9066,8106]
["Ostatní aktiva",{"$f":"'Predikce hodnot rozvahy'!G76","v":1606},{"$f":"'Predikce hodnot rozvahy'!H76","v":3075},{"$f":"'Predikce hodnot rozvahy'!I76","v":2713},{"$f":"'Predikce hodnot rozvahy'!J76","v":1445},{"$f":"'Predikce hodnot rozvahy'!K76","v":1888},{"$f":"'Predikce hodnot rozvahy'!L76","v":1111},{"$f":"'Predikce hodnot rozvahy'!M76","v":166},{"$f":"'Predikce hodnot rozvahy'!N76","v":1419},{"$f":"'Predikce hodnot rozvahy'!O76","v":2413},{"$f":"'Predikce hodnot rozvahy'!P76","v":2988}]
["Krátkodobé závazky",{"$f":"'Predikce hodnot rozvahy'!G123","v":4317},{"$f":"'Predikce hodnot rozvahy'!H123","v":3859},{"$f":"'Predikce hodnot rozvahy'!I123","v":4925},{"$f":"'Predikce hodnot rozvahy'!J123","v":5377},{"$f":"'Predikce hodnot rozvahy'!K123","v":2887},{"$f":"'Predikce hodnot rozvahy'!L123","v":2243},{"$f":"'Predikce hodnot rozvahy'!M123","v":7385},{"$f":"'Predikce hodnot rozvahy'!N123","v":4781},{"$f":"'Predikce hodnot rozvahy'!O123","v":5034},{"$f":"'Predikce hodnot rozvahy'!P123","v":5286}]
["Ostatní pasiva",{"$f":"'Predikce hodnot rozvahy'!G139","v":4073},{"$f":"'Predikce hodnot rozvahy'!H139","v":2805},{"$f":"'Predikce hodnot rozvahy'!I139","v":2118},{"$f":"'Predikce hodnot rozvahy'!J139","v":4445},{"$f":"'Predikce hodnot rozvahy'!K139","v":4004},{"$f":"'Predikce hodnot rozvahy'!L139","v":2280},{"$f":"'Predikce hodnot rozvahy'!M139","v":2051},{"$f":"'Predikce hodnot rozvahy'!N139","v":2364},{"$f":"'Predikce hodnot rozvahy'!O139","v":2178},{"$f":"'Predikce hodnot rozvahy'!P139","v":1991}]
["Provozně nutný pracovní kapitál",{"$f":"B14+B15+B16+B17-B18-B19","v":5977},{"$f":"C14+C15+C16+C17-C18-C19","v":6824},5219,8807,7734,9722,6765,10926,12230,13031]
["Provozně nutný pracovní kapitál",{"$f":"B20+B13","v":6954},{"$f":"C20+C13","v":8322},7452,10011,8645,10112,7234,11422,12602,13337]
[]
["Položka (v tisících Kč)",2010,2011,2012,2013,2014,2015,"2016 / 2017","2017/2018","2018/2019","2019/2020"]
["Provozní výsledek hospodaření za období",{"$f":"'Predikce hodnot výkazovky'!D28","v":3097},{"$f":"'Predikce hodnot výkazovky'!E28","v":4477},{"$f":"'Predikce hodnot výkazovky'!F28","v":1732},{"$f":"'Predikce hodnot výkazovky'!G28","v":4633},{"$f":"'Predikce hodnot výkazovky'!H28","v":3522},{"$f":"'Predikce hodnot výkazovky'!I28","v":4520},{"$f":"'Predikce hodnot výkazovky'!J28","v":-2915},{"$f":"'Predikce hodnot výkazovky'!K28","v":2798},{"$f":"'Predikce hodnot výkazovky'!L28","v":3376},{"$f":"'Predikce hodnot výkazovky'!M28","v":3499}]
["Tržby z prodeje dlouhodobého majetku a materiálu",{"$f":"'Predikce hodnot výkazovky'!D20","v":0},{"$f":"'Predikce hodnot výkazovky'!E20","v":22},{"$f":"'Predikce hodnot výkazovky'!F20","v":0},{"$f":"'Predikce hodnot výkazovky'!G20","v":0},{"$f":"'Predikce hodnot výkazovky'!H20","v":0},{"$f":"'Predikce hodnot výkazovky'!I20","v":299},{"$f":"'Predikce hodnot výkazovky'!J20","v":35},{"$f":"'Predikce hodnot výkazovky'!K20","v":0},{"$f":"'Predikce hodnot výkazovky'!L20","v":0},{"$f":"'Predikce hodnot výkazovky'!M20","v":0}]
["Zůstatková cena prodaného dlouhodobého majetku a materiálu",{"$f":"'Predikce hodnot výkazovky'!D24","v":0},{"$f":"'Predikce hodnot výkazovky'!E24","v":0},{"$f":"'Predikce hodnot výkazovky'!F24","v":0},{"$f":"'Predikce hodnot výkazovky'!G24","v":490},{"$f":"'Predikce hodnot výkazovky'!H24","v":0},{"$f":"'Predikce hodnot výkazovky'!I24","v":391},{"$f":"'Predikce hodnot výkazovky'!J24","v":0},{"$f":"'Predikce hodnot výkazovky'!K24","v":0},{"$f":"'Predikce hodnot výkazovky'!L24","v":0},{"$f":"'Predikce hodnot výkazovky'!M24","v":0}]
["Zisk z prodaného dlouhodobého majetku a materiálu",{"$f":"B25-B26","v":0},{"$f":"C25-C26","v":22},0,-490,0,-92,35,0,0,0]
["Korigovaný provozní výsledek hospodaření",{"$f":"B24-B27","v":3097},{"$f":"C24-C27","v":4455},1732,5123,3522,4612,-2950,2798,3376,3499]
[]
[]
["Položka (v tisících Kč)",2010,2011,2012,2013,2014,2015,"2016 / 2017","2017/2018","2018/2019","2019/2020"]
["Období",null,null,null,null,null,null,null,1,2,3]
["Korigovaný provozní výsledek hospodaření (v tisících Kč)",{"$f":"B28","v":3097},4455,1732,5123,3522,4612,-2950,2798,3376,3499]
["Daň z příjmu právnických osob",{"$f":"B33*0.19","v":588.43000000000006},{"$f":"C33*0.19","v":846.45},329.08,973.37,669.18000000000006,876.28,-560.5,531.62,641.44000000000005,664.81000000000006]
["Korigovaný hospodářský výsledek po zdanění",{"$f":"B33-B34","v":2508.5699999999997},{"$f":"C33-C34","v":3608.55},1402.92,4149.63,2852.8199999999997,3735.7200000000003,-2389.5,2266.38,2734.56,2834.19]
["Odpisy",0,0,0,0,0,0,0,0,0,0]
["Ostatní náklady (rezervy)",{"$f":"'Predikce hodnot rozvahy'!G104","v":0},{"$f":"'Predikce hodnot rozvahy'!H104","v":0},{"$f":"'Predikce hodnot rozvahy'!I104","v":0},{"$f":"'Predikce hodnot rozvahy'!J104","v":0},{"$f":"'Predikce hodnot rozvahy'!K104","v":0},{"$f":"'Predikce hodnot rozvahy'!L104","v":0},{"$f":"'Predikce hodnot rozvahy'!M104","v":106},{"$f":"'Predikce hodnot rozvahy'!N104","v":0},{"$f":"'Predikce hodnot rozvahy'!O104","v":0},{"$f":"'Predikce hodnot rozvahy'!P104","v":0}]
["Předběžné CF z provozní činnosti",{"$f":"B37+B36+B35","v":2508.5699999999997},{"$f":"C37+C36+C35","v":3608.55},1402.92,4149.63,2852.8199999999997,3735.7200000000003,-2283.5,2266.38,2734.56,2834.19]
["Investice do provozně nutného dlouhodobého majetku"]
["Investice do provozně nutného PK"]
["Volný peněžní tok",{"$f":"B38-B39-B40","v":2508.5699999999997},{"$f":"C38-C39-C40","v":3608.55},1402.92,4149.63,2852.8199999999997,3735.7200000000003,-2283.5,2266.38,2734.56,2834.19]
[]
[null,"Pesimistická","Mírně pesimistická","Střední","Mírně optimistická","Optimistická"]
["Současná hodnota 1. fáze",{"$f":"$I$41/(1+B49)^$I$32+$J$41/(1+B49)^$J$32+$K$41/(1+B49)^$K$32","v":5319.1774946777223},{"$f":"$I$41/(1+C49)^$I$32+$J$41/(1+C49)^$J$32+$K$41/(1+C49)^$K$32","v":5405.7834887745194},{"$f":"$I$41/(1+D49)^$I$32+$J$41/(1+D49)^$J$32+$K$41/(1+D49)^$K$32","v":5495.0758129583191},{"$f":"$I$41/(1+E49)^$I$32+$J$41/(1+E49)^$J$32+$K$41/(1+E49)^$K$32","v":5586.281519291635},{"$f":"$I$41/(1+F49)^$I$32+$J$41/(1+F49)^$J$32+$K$41/(1+F49)^$K$32","v":5680.3598210262317}]
["KPVHpodani",{"$f":"$K$35","v":2834.19},{"$f":"$K$35","v":2834.19},{"$f":"$K$35","v":2834.19},{"$f":"$K$35","v":2834.19},{"$f":"$K$35","v":2834.19}]
["g",{"$f":"'Ocenění generátory hodnot'!B20","v":1.5E-3},{"$f":"'Ocenění generátory hodnot'!C20","v":6.4999999999999997E-3},{"$f":"'Ocenění generátory hodnot'!D20","v":1.1491450066628406E-2},{"$f":"'Ocenění generátory hodnot'!E20","v":0.04},{"$f":"'Ocenění generátory hodnot'!F20","v":6.8000000000000005E-2}]
["Investovaný kapitál provozně nutný",{"$f":"$K$21","v":13337},{"$f":"$K$21","v":13337},{"$f":"$K$21","v":13337},{"$f":"$K$21","v":13337},{"$f":"$K$21","v":13337}]
["FCF2020/2021",{"$f":"B45*(1+B46)-(B47*(1+B46)-B47)","v":2818.4357849999992},{"$f":"C45*(1+C46)-(C47*(1+C46)-C47)","v":2765.9217350000013},{"$f":"D45*(1+D46)-(D47*(1+D46)-D47)","v":2713.4974833257156},{"$f":"E45*(1+E46)-(E47*(1+E46)-E47)","v":2414.0775999999987},{"$f":"F45*(1+F46)-(F47*(1+F46)-F47)","v":2119.9989199999991}]
["ik",{"$f":"'Ocenění generátory hodnot'!B25","v":0.21249999999999999},{"$f":"'Ocenění generátory hodnot'!C25","v":0.20250000000000001},{"$f":"'Ocenění generátory hodnot'!D25","v":0.19246808759792458},{"$f":"'Ocenění generátory hodnot'!E25","v":0.1825},{"$f":"'Ocenění generátory hodnot'!F25","v":0.17249999999999999}]
["PHt",{"$f":"B48/(B49-B46)","v":13357.515568720375},{"$f":"C48/(C49-C46)","v":14111.8455867347},{"$f":"D48/(D49-D46)","v":14993.634097420294},{"$f":"E48/(E49-E46)","v":16940.895438596483},{"$f":"F48/(F49-F46)","v":20287.071004784684}]
["Současná hodnota 2. fáze",{"$f":"B50/(1+B49)^3","v":7493.4264201798824},{"$f":"C50/(1+C49)^3","v":8115.7481341115217},{"$f":"D50/(1+D49)^3","v":8842.3278198502139},{"$f":"E50/(1+E49)^3","v":10245.494245120402},{"$f":"F50/(1+F49)^3","v":12585.79910018959}]
["Provozní hodnota brutto",{"$f":"B51+B44","v":12812.603914857606},{"$f":"C51+C44","v":13521.531622886041},{"$f":"D51+D44","v":14337.403632808533},{"$f":"E51+E44","v":15831.775764412037},{"$f":"F51+F44","v":18266.158921215821}]
["Úročený cizí kapitál k datu ocenění",0,0,0,0,0]
["Provozně nenutný maejtek",0,0,0,0,0]
["Hodnota podniku netto",{"$f":"(B52-B53+B54)","v":12812.603914857606},{"$f":"(C52-C53+C54)","v":13521.531622886041},{"$f":"(D52-D53+D54)","v":14337.403632808533},15831.775764412037,18266.158921215821]

{"sheet":"Ocenění EVA","index":10,"n_rows":20,"n_cols":11,"rows_kept":20,"cut":false,"hidden":false,"merged":[]}
["Rok",2010,2011,2012,2013,2014,2015,"2016 / 2017","2017/2018","2018/2019","2019/2020"]
["Období",null,null,null,null,null,null,null,1,2,3]
["NOPAT",{"$f":"'Ocenění DCF'!B28","v":3097},{"$f":"'Ocenění DCF'!C28","v":4455},{"$f":"'Ocenění DCF'!D28","v":1732},{"$f":"'Ocenění DCF'!E28","v":5123},{"$f":"'Ocenění DCF'!F28","v":3522},{"$f":"'Ocenění DCF'!G28","v":4612},{"$f":"'Ocenění DCF'!H28","v":-2950},{"$f":"'Ocenění DCF'!I28","v":2798},{"$f":"'Ocenění DCF'!J28","v":3376},{"$f":"'Ocenění DCF'!K28","v":3499}]
["NOA",{"$f":"'Ocenění DCF'!B21","v":6954},{"$f":"'Ocenění DCF'!C21","v":8322},{"$f":"'Ocenění DCF'!D21","v":7452},{"$f":"'Ocenění DCF'!E21","v":10011},{"$f":"'Ocenění DCF'!F21","v":8645},{"$f":"'Ocenění DCF'!G21","v":10112},{"$f":"'Ocenění DCF'!H21","v":7234},{"$f":"'Ocenění DCF'!I21","v":11422},{"$f":"'Ocenění DCF'!J21","v":12602},{"$f":"'Ocenění DCF'!K21","v":13337}]
[]
[]
[null,{"$f":"'Ocenění generátory hodnot'!B18","v":"Pesimistická"},{"$f":"'Ocenění generátory hodnot'!C18","v":"Mírně pesimistická"},{"$f":"'Ocenění generátory hodnot'!D18","v":"Střední"},{"$f":"'Ocenění generátory hodnot'!E18","v":"Mírně optimistická"},{"$f":"'Ocenění generátory hodnot'!F18","v":"Optimistická"}]
["Současná hodnota 1. fáze",{"$f":"($I$3-$I$4*B10)/(1+B10)^$I$2+($J$3-$J$4*B10)/(1+B10)^$J$2+($K$3-$K$4*B10)/(B10+1)^$K$2","v":1153.6604610851869},{"$f":"($I$3-$I$4*C10)/(1+C10)^$I$2+($J$3-$J$4*C10)/(1+C10)^$J$2+($K$3-$K$4*C10)/(C10+1)^$K$2","v":1432.3542608004634},{"$f":"($I$3-$I$4*D10)/(1+D10)^$I$2+($J$3-$J$4*D10)/(1+D10)^$J$2+($K$3-$K$4*D10)/(D10+1)^$K$2","v":1720.961467432367},{"$f":"($I$3-$I$4*E10)/(1+E10)^$I$2+($J$3-$J$4*E10)/(1+E10)^$J$2+($K$3-$K$4*E10)/(E10+1)^$K$2","v":2017.0568127021916},{"$f":"($I$3-$I$4*F10)/(1+F10)^$I$2+($J$3-$J$4*F10)/(1+F10)^$J$2+($K$3-$K$4*F10)/(F10+1)^$K$2","v":2323.8308217829167}]
["EVA 2020/2021",{"$f":"$K$3*(1+B10)-$K$4*B10","v":1408.4249999999997},{"$f":"$K$3*(1+C10)-$K$4*C10","v":1506.8050000000003},{"$f":"$K$3*(1+D10)-$K$4*D10","v":1605.4989542116182},{"$f":"$K$3*(1+E10)-$K$4*E10","v":1703.5650000000001},{"$f":"$K$3*(1+F10)-$K$4*F10","v":1801.9449999999997}]
["WACC",{"$f":"'Ocenění generátory hodnot'!B25","v":0.21249999999999999},{"$f":"'Ocenění generátory hodnot'!C25","v":0.20250000000000001},{"$f":"'Ocenění generátory hodnot'!D25","v":0.19246808759792458},{"$f":"'Ocenění generátory hodnot'!E25","v":0.1825},{"$f":"'Ocenění generátory hodnot'!F25","v":0.17249999999999999}]
["g",{"$f":"'Ocenění generátory hodnot'!B20","v":1.5E-3},{"$f":"'Ocenění generátory hodnot'!C20","v":6.4999999999999997E-3},{"$f":"'Ocenění generátory hodnot'!D20","v":1.1491450066628406E-2},{"$f":"'Ocenění generátory hodnot'!E20","v":0.04},{"$f":"'Ocenění generátory hodnot'!F20","v":6.8000000000000005E-2}]
["PH",{"$f":"B9/(B10-B11)","v":6674.9999999999991},{"$f":"C9/(C10-C11)","v":7687.7806122448992},{"$f":"D9/(D10-D11)","v":8871.3050265064212},{"$f":"E9/(E10-E11)","v":11954.84210526316},{"$f":"F9/(F10-F11)","v":17243.492822966506}]
["Současná hodnota 2. fáze",{"$f":"B12/(1+B10)^3","v":3744.6051323968172},{"$f":"C12/(1+C10)^3","v":4421.2566510743691},{"$f":"D12/(1+D10)^3","v":5231.7528041951591},{"$f":"E12/(1+E10)^3","v":7230.0349432381745},{"$f":"F12/(1+F10)^3","v":10697.608166513186}]
["MVA",{"$f":"B13+B8","v":4898.2655934820041},{"$f":"C13+C8","v":5853.6109118748327},{"$f":"D13+D8","v":6952.7142716275266},{"$f":"E13+E8","v":9247.0917559403661},{"$f":"F13+F8","v":13021.438988296102}]
["NOA k datu ocenění",{"$f":"$H$4","v":7234},{"$f":"$H$4","v":7234},{"$f":"$H$4","v":7234},{"$f":"$H$4","v":7234},{"$f":"$H$4","v":7234}]
["Provozní hodnota brutto",{"$f":"B15+B14","v":12132.265593482003},{"$f":"C15+C14","v":13087.610911874832},{"$f":"D15+D14","v":14186.714271627527},{"$f":"E15+E14","v":16481.091755940368},{"$f":"F15+F14","v":20255.438988296104}]
["Úročený cizí kapitál k datu ocenění",0,0,0,0,0]
["Provozní hodnota netto",{"$f":"B16-B17","v":12132.265593482003},{"$f":"C16-C17","v":13087.610911874832},{"$f":"D16-D17","v":14186.714271627527},{"$f":"E16-E17","v":16481.091755940368},{"$f":"F16-F17","v":20255.438988296104}]
["Neprovozní majetek k datu ocenění",0,0,0,0,0]
["Výsledná hodnota vlastního kapitálu",{"$f":"(B18+B19)","v":12132.265593482003},{"$f":"(C18+C19)","v":13087.610911874832},{"$f":"(D18+D19)","v":14186.714271627527},16481.091755940368,20255.438988296104]

{"sheet":"Ocenění shrnutí","index":11,"n_rows":4,"n_cols":7,"rows_kept":4,"cut":false,"hidden":true,"merged":[]}
[null,null,"Pesimistická varianta","Mírně pesimistická varianta","Střední varianta","Mírně optimistická varianta","Optimistická varianta"]
[null,"Ocenění podle generátorů hodnot",{"$f":"'Ocenění generátory hodnot'!B26","v":7143.7556098791483},{"$f":"'Ocenění generátory hodnot'!C26","v":8612.0553400484678},{"$f":"'Ocenění generátory hodnot'!D26","v":10498.780344466726},{"$f":"'Ocenění generátory hodnot'!E26","v":13103.51391157895},{"$f":"'Ocenění generátory hodnot'!F26","v":19801.049051712922}]
[null,"Ocenění podle DCF",{"$f":"'Ocenění DCF'!B55","v":12812.603914857606},{"$f":"'Ocenění DCF'!C55","v":13521.531622886041},{"$f":"'Ocenění DCF'!D55","v":14337.403632808533},{"$f":"'Ocenění DCF'!E55","v":15831.775764412037},{"$f":"'Ocenění DCF'!F55","v":18266.158921215821}]
[null,"Ocenění podle EVA",{"$f":"'Ocenění EVA'!B20","v":12132.265593482003},{"$f":"'Ocenění EVA'!C20","v":13087.610911874832},{"$f":"'Ocenění EVA'!D20","v":14186.714271627527},{"$f":"'Ocenění EVA'!E20","v":16481.091755940368},{"$f":"'Ocenění EVA'!F20","v":20255.438988296104}]

{"sheet":"Citlivostní analýza","index":12,"n_rows":58,"n_cols":15,"rows_kept":58,"cut":false,"hidden":false,"merged":[[55,1,56,11],[55,12,56,13],[33,1,34,11],[33,12,34,13],[57,1,58,11],[57,12,58,13],[38,1,39,13],[22,1,22,13],[46,1,46,13],[31,1,32,11],[31,12,32,13],[1,0,5,40],[36,1,37,13],[12,1,13,13],[7,2,7,6],[7,9,7,13],[8,2,8,6],[9,2,9,6],[10,2,10,6],[10,9,10,13],[9,9,9,13],[8,9,8,13],[14,1,15,13]]}
[]
["Citlivostní analýza"]
[]
[]
[]
[]
[]
[null,null,"Pomocná hodnota diskontní sazby",10,null,null,null,192,null,"Pomocná hodnota růstu tržeb",10,null,null,null,105]
[null,null,"Druh změny",null,null,null,null,2,null,"Druh změny",null,null,null,null,1]
[null,null,"Absolutní změna",null,null,null,null,24,null,"Absolutní změna",null,null,null,null,10]
[null,null,"Relativní změna",null,null,null,null,20,null,"Relativní změna",null,null,null,null,25]
[]
[null,"Diskontní sazba"]
[]
[null,"   Prosím, zvolte hodnotu diskontní sazby"]
[]
[]
[]
[]
[]
[null,null,0,null,null,0.1,null,null,null,0.2,null,null,0.3]
[]
[null,"   Prosím zvolte změnu mezi variantami a hodnotu této změny"]
[]
[]
[]
[null,null,null,null,null,0,null,null,0.15,null,null,null,0.3]
[]
[]
[null,null,null,null,null,0,null,null,0.25,null,null,null,0.05]
[]
[null,"Aktuální hodnota diskontní sazby",null,null,null,null,null,null,null,null,null,null,{"$f":"H8/1000","v":0.192}]
[]
[null,{"$f":"IF(H9=1,\"s relativní změnou\",\"s absolutní změnou\")","v":"s absolutní změnou"},null,null,null,null,null,null,null,null,null,null,{"$f":"IF(H9=1,H11/100,H10/1000)","v":2.4E-2}]
[]
[]
[null,"Tempo růstu tržeb"]
[]
[null,"Prosím, zvolte hodnotu růstu tržeb"]
[]
[]
[]
[]
[]
[null,null,-0.1,null,-0.05,null,null,0,null,null,0.05,null,0.1]
[]
[null,"   Prosím zvolte změnu mezi variantami a hodnotu této změny"]
[]
[]
[]
[null,null,null,null,null,0,null,null,null,null,null,null,1]
[]
[]
[null,null,null,null,null,0,null,null,null,null,null,null,7.0000000000000007E-2]
[]
[null,"Aktuální hodnota růstu tržeb",null,null,null,null,null,null,null,null,null,null,{"$f":"(O8-100)/1000","v":5.0000000000000001E-3}]
[]
[null,{"$f":"IF(O9=1,\"s relativní změnou\",\"s absolutní změnou\")","v":"s relativní změnou"},null,null,null,null,null,null,null,null,null,null,{"$f":"IF(O9=1,O11/100,O10/1000)","v":0.25}]

{"sheet":"Citlivostní analýza - výpočet","index":13,"n_rows":61,"n_cols":11,"rows_kept":61,"cut":false,"hidden":true,"merged":[[25,1,25,5],[26,1,26,5],[17,1,17,5],[42,1,42,5]]}
["Položka",2010,2011,2012,2013,2014,2015,"2016 / 2017","2017/2018","2018/2019","2019/2020"]
["Období",null,null,null,null,null,null,null,1,2,3]
[{"$f":"'Ocenění DCF'!A41","v":"Volný peněžní tok"},{"$f":"'Ocenění DCF'!B41","v":2508.5699999999997},{"$f":"'Ocenění DCF'!C41","v":3608.55},{"$f":"'Ocenění DCF'!D41","v":1402.92},{"$f":"'Ocenění DCF'!E41","v":4149.63},{"$f":"'Ocenění DCF'!F41","v":2852.8199999999997},{"$f":"'Ocenění DCF'!G41","v":3735.7200000000003},{"$f":"'Ocenění DCF'!H41","v":-2283.5},{"$f":"'Ocenění DCF'!I41","v":2266.38},{"$f":"'Ocenění DCF'!J41","v":2734.56},{"$f":"'Ocenění DCF'!K41","v":2834.19}]
[{"$f":"'Ocenění DCF'!A35","v":"Korigovaný hospodářský výsledek po zdanění"},{"$f":"'Ocenění DCF'!B35","v":2508.5699999999997},{"$f":"'Ocenění DCF'!C35","v":3608.55},{"$f":"'Ocenění DCF'!D35","v":1402.92},{"$f":"'Ocenění DCF'!E35","v":4149.63},{"$f":"'Ocenění DCF'!F35","v":2852.8199999999997},{"$f":"'Ocenění DCF'!G35","v":3735.7200000000003},{"$f":"'Ocenění DCF'!H35","v":-2389.5},{"$f":"'Ocenění DCF'!I35","v":2266.38},{"$f":"'Ocenění DCF'!J35","v":2734.56},{"$f":"'Ocenění DCF'!K35","v":2834.19}]
[{"$f":"'Ocenění DCF'!A21","v":"Provozně nutný pracovní kapitál"},{"$f":"'Ocenění DCF'!B21","v":6954},{"$f":"'Ocenění DCF'!C21","v":8322},{"$f":"'Ocenění DCF'!D21","v":7452},{"$f":"'Ocenění DCF'!E21","v":10011},{"$f":"'Ocenění DCF'!F21","v":8645},{"$f":"'Ocenění DCF'!G21","v":10112},{"$f":"'Ocenění DCF'!H21","v":7234},{"$f":"'Ocenění DCF'!I21","v":11422},{"$f":"'Ocenění DCF'!J21","v":12602},{"$f":"'Ocenění DCF'!K21","v":13337}]
["Tržby",{"$f":"'Analýza generátorů hodnot'!B2","v":28941},{"$f":"'Analýza generátorů hodnot'!C2","v":25757},{"$f":"'Analýza generátorů hodnot'!D2","v":28720},{"$f":"'Analýza generátorů hodnot'!E2","v":25447},{"$f":"'Analýza generátorů hodnot'!F2","v":22708},{"$f":"'Analýza generátorů hodnot'!G2","v":22836},{"$f":"'Analýza generátorů hodnot'!H2","v":36999},{"$f":"'Analýza generátorů hodnot'!I2","v":35193},{"$f":"'Analýza generátorů hodnot'!J2","v":35737},{"$f":"'Analýza generátorů hodnot'!K2","v":38161}]
[{"$f":"'Ocenění EVA'!A3","v":"NOPAT"},{"$f":"'Ocenění EVA'!B3","v":3097},{"$f":"'Ocenění EVA'!C3","v":4455},{"$f":"'Ocenění EVA'!D3","v":1732},{"$f":"'Ocenění EVA'!E3","v":5123},{"$f":"'Ocenění EVA'!F3","v":3522},{"$f":"'Ocenění EVA'!G3","v":4612},{"$f":"'Ocenění EVA'!H3","v":-2950},{"$f":"'Ocenění EVA'!I3","v":2798},{"$f":"'Ocenění EVA'!J3","v":3376},{"$f":"'Ocenění EVA'!K3","v":3499}]
[{"$f":"'Ocenění EVA'!A4","v":"NOA"},{"$f":"'Ocenění EVA'!B4","v":6954},{"$f":"'Ocenění EVA'!C4","v":8322},{"$f":"'Ocenění EVA'!D4","v":7452},{"$f":"'Ocenění EVA'!E4","v":10011},{"$f":"'Ocenění EVA'!F4","v":8645},{"$f":"'Ocenění EVA'!G4","v":10112},{"$f":"'Ocenění EVA'!H4","v":7234},{"$f":"'Ocenění EVA'!I4","v":11422},{"$f":"'Ocenění EVA'!J4","v":12602},{"$f":"'Ocenění EVA'!K4","v":13337}]
[]
["Položka","Pesimistická","Mírně pesimistická","Střední","Mírně optimistická","Optimistická"]
["Absolutní změna",{"$f":"C11-$G$11","v":-1.4999999999999999E-2},{"$f":"D11-$G$11","v":-5.0000000000000001E-3},{"$f":"'Citlivostní analýza'!$M$56","v":5.0000000000000001E-3},{"$f":"D11+$G$11","v":1.4999999999999999E-2},{"$f":"E11+$G$11","v":2.5000000000000001E-2},{"$f":"'Citlivostní analýza'!O10/1000","v":0.01}]
["Relativní změna",{"$f":"C12-$D$12*$G$12","v":2.4999999999999996E-3},{"$f":"D12-$D$12*$G$12","v":3.7499999999999999E-3},{"$f":"'Citlivostní analýza'!$M$56","v":5.0000000000000001E-3},{"$f":"D12+$D$12*$G$12","v":6.2500000000000003E-3},{"$f":"E12+$D$12*$G$12","v":7.5000000000000006E-3},{"$f":"'Citlivostní analýza'!O11/100","v":0.25}]
["g",{"$f":"IF('Citlivostní analýza'!$O$9=1,B12,B11)","v":2.4999999999999996E-3},{"$f":"IF('Citlivostní analýza'!$O$9=1,C12,C11)","v":3.7499999999999999E-3},{"$f":"IF('Citlivostní analýza'!$O$9=1,D12,D11)","v":5.0000000000000001E-3},{"$f":"IF('Citlivostní analýza'!$O$9=1,E12,E11)","v":6.2500000000000003E-3},{"$f":"IF('Citlivostní analýza'!$O$9=1,F12,F11)","v":7.5000000000000006E-3}]
["Absolutní změna",{"$f":"C14+$G$14","v":0.24},{"$f":"D14+$G$14","v":0.216},{"$f":"'Citlivostní analýza'!$M$32","v":0.192},{"$f":"D14-$G$14","v":0.16800000000000001},{"$f":"E14-$G$14","v":0.14400000000000002},{"$f":"'Citlivostní analýza'!H10/1000","v":2.4E-2}]
["Relativní změna",{"$f":"C15+$D$15*$G$15","v":0.26879999999999998},{"$f":"D15+$D$15*$G$15","v":0.23039999999999999},{"$f":"'Citlivostní analýza'!$M$32","v":0.192},{"$f":"D15-$D$15*$G$15","v":0.15360000000000001},{"$f":"E15-$D$15*$G$15","v":0.11520000000000001},{"$f":"'Citlivostní analýza'!H11/100","v":0.2}]
["WACC",{"$f":"IF('Citlivostní analýza'!$H$9=1,B15,B14)","v":0.24},{"$f":"IF('Citlivostní analýza'!$H$9=1,C15,C14)","v":0.216},{"$f":"IF('Citlivostní analýza'!$H$9=1,D15,D14)","v":0.192},{"$f":"IF('Citlivostní analýza'!$H$9=1,E15,E14)","v":0.16800000000000001},{"$f":"IF('Citlivostní analýza'!$H$9=1,F15,F14)","v":0.14400000000000002}]
["Průměrná zisková marže po dani",{"$f":"C17-0.01","v":5.1728965352334039E-2},{"$f":"D17-0.01","v":6.1728965352334041E-2},{"$f":"'Analýza generátorů hodnot'!I24","v":7.1728965352334043E-2},{"$f":"D17+0.01","v":8.1728965352334038E-2},{"$f":"E17+0.01","v":9.1728965352334033E-2}]
["Sazba daně z příjmu právnických osob",0.19]
[{"$f":"'Ocenění DCF'!A53","v":"Úročený cizí kapitál k datu ocenění"},{"$f":"'Ocenění DCF'!B53","v":0},{"$f":"'Ocenění DCF'!C53","v":0},{"$f":"'Ocenění DCF'!D53","v":0},{"$f":"'Ocenění DCF'!E53","v":0},{"$f":"'Ocenění DCF'!F53","v":0}]
[{"$f":"'Ocenění DCF'!A54","v":"Provozně nenutný maejtek"},{"$f":"'Ocenění DCF'!B54","v":0},{"$f":"'Ocenění DCF'!C54","v":0},{"$f":"'Ocenění DCF'!D54","v":0},{"$f":"'Ocenění DCF'!E54","v":0},{"$f":"'Ocenění DCF'!F54","v":0}]
["Koeficient náročnosti růstu tržeb na růst pracovního kapitálu",{"$f":"'Ocenění generátory hodnot'!B23","v":0.9},{"$f":"'Ocenění generátory hodnot'!C23","v":0.8},{"$f":"'Ocenění generátory hodnot'!D23","v":0.70923180592991919},{"$f":"'Ocenění generátory hodnot'!E23","v":0.6},{"$f":"'Ocenění generátory hodnot'!F23","v":0.5}]
["Koeficient náročnosti růstu tržeb na růst dlouhodobého hmotného majetku",{"$f":"C22-0.02","v":-0.10401617250673856},{"$f":"D22-0.02","v":-8.4016172506738554E-2},{"$f":"'Ocenění generátory hodnot'!D24","v":-6.401617250673855E-2},{"$f":"D22+0.02","v":-4.4016172506738546E-2},{"$f":"E22+0.02","v":-2.4016172506738546E-2}]
[]
["Ocenení podle DCF","Pesimistická","Mírně pesimistická","Střední","Mírně optimistická","Optimistická"]
["Současná hodnota 1. fáze",{"$f":"$I$3/(1+B16)^$I$2+$J$3/(1+B16)^$J$2+$K$3/(1+B16)^$K$2","v":5092.682294988419},{"$f":"$I$3/(1+C16)^$I$2+$J$3/(1+C16)^$J$2+$K$3/(1+C16)^$K$2","v":5289.4158176500532},{"$f":"$I$3/(1+D16)^$I$2+$J$3/(1+D16)^$J$2+$K$3/(1+D16)^$K$2","v":5499.3026317062322},{"$f":"$I$3/(1+E16)^$I$2+$J$3/(1+E16)^$J$2+$K$3/(1+E16)^$K$2","v":5723.5647329519024},{"$f":"$I$3/(1+F16)^$I$2+$J$3/(1+F16)^$J$2+$K$3/(1+F16)^$K$2","v":5963.5690706061487}]
["KPVHpodani",{"$f":"K4","v":2834.19}]
["Investovaný kapitál provozně nutný",{"$f":"K5","v":13337}]
["FCF 2020/2021",{"$f":"$B$26*(1+B13)-($B$27*(1+B13)-$B$27)","v":2807.9329750000011},{"$f":"$B$26*(1+C13)-($B$27*(1+C13)-$B$27)","v":2794.8044625000016},{"$f":"$B$26*(1+D13)-($B$27*(1+D13)-$B$27)","v":2781.6759500000021},{"$f":"$B$26*(1+E13)-($B$27*(1+E13)-$B$27)","v":2768.5474374999994},{"$f":"$B$26*(1+F13)-($B$27*(1+F13)-$B$27)","v":2755.4189249999999}]
["PHt",{"$f":"B28/(B16-B13)","v":11822.875684210532},{"$f":"C28/(C16-C13)","v":13167.512190812729},{"$f":"D28/(D16-D13)","v":14875.27245989306},{"$f":"E28/(E16-E13)","v":17116.212905718698},{"$f":"F28/(F16-F13)","v":20186.219230769228}]
["Současná hodnota 2. fáze",{"$f":"B29/(1+B16)^3","v":6200.9476877509833},{"$f":"C29/(1+C16)^3","v":7323.2355663182934},{"$f":"D29/(1+D16)^3","v":8782.8641019642801},{"$f":"E29/(1+E16)^3","v":10741.851683693076},{"$f":"F29/(1+F16)^3","v":13482.701270838943}]
["Provozní hodnota brutto",{"$f":"B30+B25","v":11293.629982739403},{"$f":"C30+C25","v":12612.651383968347},{"$f":"D30+D25","v":14282.166733670512},{"$f":"E30+E25","v":16465.416416644977},{"$f":"F30+F25","v":19446.270341445092}]
["Hodnota podniku netto",{"$f":"(B31-B19+B20)","v":11293.629982739403},{"$f":"(C31-C19+C20)","v":12612.651383968347},{"$f":"(D31-D19+D20)","v":14282.166733670512},{"$f":"(E31-E19+E20)","v":16465.416416644977},{"$f":"(F31-F19+F20)","v":19446.270341445092}]
[]
["Ocenění na základě generátorů hodnot","Pesimistická","Mírně pesimistická","Střední","Mírně optimistická","Optimistická"]
["Hodnota podniku brutto",{"$f":"($H$6*(1+B13)*B17*(1-$B$18)-$H$6*B13*(B21+B22))/(B16-B13)","v":6233.7868001761117},{"$f":"($H$6*(1+C13)*C17*(1-$B$18)-$H$6*C13*(C21+C22))/(C16-C13)","v":8280.633199594733},{"$f":"($H$6*(1+D13)*D17*(1-$B$18)-$H$6*D13*(D21+D22))/(D16-D13)","v":10914.682459883061},{"$f":"($H$6*(1+E13)*E17*(1-$B$18)-$H$6*E13*(E21+E22))/(E16-E13)","v":14442.606176249108},{"$f":"($H$6*(1+F13)*F17*(1-$B$18)-$H$6*F13*(F21+F22))/(F16-F13)","v":19322.920658098523}]
[]
["Ocenění podle EVA","Pesimistická","Mírně pesimistická","Střední","Mírně optimistická","Optimistická"]
["Současná hodnota 1. fáze",{"$f":"($I$7-$I$8*B16)/(1+B16)^$I$2+($J$7-$J$8*B16)/(1+B16)^$J$2+($K$7-$K$8*B16)/(B16+1)^$K$2","v":430.71810278272},{"$f":"($I$7-$I$8*C16)/(1+C16)^$I$2+($J$7-$J$8*C16)/(1+C16)^$J$2+($K$7-$K$8*C16)/(C16+1)^$K$2","v":1058.1730333776791},{"$f":"($I$7-$I$8*D16)/(1+D16)^$I$2+($J$7-$J$8*D16)/(1+D16)^$J$2+($K$7-$K$8*D16)/(D16+1)^$K$2","v":1734.6547353057742},{"$f":"($I$7-$I$8*E16)/(1+E16)^$I$2+($J$7-$J$8*E16)/(1+E16)^$J$2+($K$7-$K$8*E16)/(E16+1)^$K$2","v":2465.1677683751614},{"$f":"($I$7-$I$8*F16)/(1+F16)^$I$2+($J$7-$J$8*F16)/(1+F16)^$J$2+($K$7-$K$8*F16)/(F16+1)^$K$2","v":3255.3491497010973}]
["EVA 2020/2021",{"$f":"$K$7*(1+B16)-$K$8*B16","v":1137.8800000000006},{"$f":"$K$7*(1+C16)-$K$8*C16","v":1373.9919999999997},{"$f":"$K$7*(1+D16)-$K$8*D16","v":1610.1039999999998},{"$f":"$K$7*(1+E16)-$K$8*E16","v":1846.2159999999999},{"$f":"$K$7*(1+F16)-$K$8*F16","v":2082.328}]
["PH",{"$f":"B39/(B16-B13)","v":4791.0736842105289},{"$f":"C39/(C16-C13)","v":6473.4605418138972},{"$f":"D39/(D16-D13)","v":8610.181818181818},{"$f":"E39/(E16-E13)","v":11414.009273570324},{"$f":"F39/(F16-F13)","v":15255.150183150181}]
["Současná hodnota 2. fáze",{"$f":"B40/(1+B16)^3","v":2512.857115094811},{"$f":"C40/(1+C16)^3","v":3600.2758751988345},{"$f":"D40/(1+D16)^3","v":5083.742634374461},{"$f":"E40/(1+E16)^3","v":7163.2431431152236},{"$f":"F40/(1+F16)^3","v":10189.16075416863}]
["MVA",{"$f":"B41+B38","v":2943.575217877531},{"$f":"C41+C38","v":4658.4489085765135},{"$f":"D41+D38","v":6818.397369680235},{"$f":"E41+E38","v":9628.410911490384},{"$f":"F41+F38","v":13444.509903869726}]
["NOA k datu ocenění",{"$f":"$H$8","v":7234}]
["Provozní hodnota brutto",{"$f":"$B$43+B42","v":10177.575217877531},{"$f":"$B$43+C42","v":11892.448908576513},{"$f":"$B$43+D42","v":14052.397369680235},{"$f":"$B$43+E42","v":16862.410911490384},{"$f":"$B$43+F42","v":20678.509903869726}]
["Výsledná hodnota vlastního kapitálu",{"$f":"(B44-B19+B20)","v":10177.575217877531},{"$f":"(C44-C19+C20)","v":11892.448908576513},{"$f":"(D44-D19+D20)","v":14052.397369680235},{"$f":"(E44-E19+E20)","v":16862.410911490384},{"$f":"(F44-F19+F20)","v":20678.509903869726}]
[]
["Vliv změny 1 % WACC a neměné hodnoty tempa růstu","Pesimistická","Mírně pesimistická","Střední","Mírně optimistická","Optimistická","Průměr"]
["Ocenění podle DCF",12.920604531280466,13.606289844312478,14.367746283726122,15.218261073476061,16.174422106623478]
["Ocenění na základě generátorů hodnot",6.1859281407088718,8.2665926030496504,10.556406489607024,13.157979233815691,16.059391800512319]
["Ocenění podle EVA",12.350904190205906,13.238011803445774,14.220919224963367,15.316258239375864,16.544780517125606]
["Procentuální změna pro DCF",{"$f":"B48/C48-1","v":-5.0394730736875615E-2},{"$f":"C48/D48-1","v":-5.2997625680244687E-2},"X",{"$f":"E48/D48-1","v":5.9196116979967073E-2},{"$f":"F48/E48-1","v":6.2829848202164973E-2},{"$f":"AVERAGE(E51:F51,ABS(B51),ABS(C51))","v":5.6354580399813087E-2}]
["Procentuální změna pro generátory hodnot",{"$f":"B49/C49-1","v":-0.25169553675273593},-0.21691225028249317,"X",{"$f":"E49/D49-1","v":0.24644491918438005},0.22050593903052129,{"$f":"AVERAGE(E52:F52,ABS(B52),ABS(C52))","v":0.23388966131253261}]
["Procentuální změna pro EVA",{"$f":"B50/C50-1","v":-6.7012148531923721E-2},-6.9117010368232701E-2,"X",{"$f":"E50/D50-1","v":7.7023081074094168E-2},8.0210339793787888E-2,7.334064494200962E-2]
[]
["Vliv změny 1 % tempa růstu  a neměné hodnoty WACC","Pesimistická","Mírně pesimistická","Střední","Mírně optimistická","Optimistická","Průměr"]
["Ocenění podle DCF",14.102350332475707,14.228100770110069,14.367746283726122,14.523724605952237,14.699079117274769]
["Ocenění na základě generátorů hodnot",8.9620804235223712,9.5566825790850274,10.556406489607024,12.098242699179689,14.213195174142667]
["Ocenění podle EVA",13.698305842907885,13.945931555347787,14.220919224963367,14.52806919511878,14.873374441069901]
["Procentuální změna pro DCF",{"$f":"B56/C56-1","v":-8.8381745157818381E-3},{"$f":"C56/D56-1","v":-9.7193749707443766E-3},"X",{"$f":"E56/D56-1","v":1.0856143973170473E-2},{"$f":"F56/E56-1","v":1.2073659896488786E-2},1.0371838339046369E-2]
["Procentuální změna pro generátory hodnot",{"$f":"B57/C57-1","v":-6.2218468662332049E-2},-9.4703051791937276E-2,"X",{"$f":"E57/D57-1","v":0.14605691918842179},0.17481484935877334,0.11944832225036611]
["Procentuální změna pro EVA",{"$f":"B58/C58-1","v":-1.7756125609618811E-2},-1.9336842103207186E-2,"X",{"$f":"E58/D58-1","v":2.1598461062646512E-2},2.3768144363405019E-2,2.0614893284719382E-2]