{"text_format":"1","workbook":"xlsx","n_sheets":8,"sheets":["pomocny_zoznam","data_azimut_sklon","tienenie_NREL","data_tienenie","azimut_sklon","instalovany_vykon_tienenie","energeticka_bilancia","akumulator_kapacita"],"not_rendered":{"charts":1,"images":0,"macros":1,"external_links":0,"defined_names":14,"comments":0,"pivot_tables":0},"unopened":[],"bounds":{"document_bytes":16777216,"sheet_cells":100000,"rows_first":2000,"rows_last":500,"rows_between":2000,"halvings":0,"cell_chars":16384,"cell_head_chars":4096},"cells_cut":0,"cells_raw":0,"read":"whole","date_system":"1900"}

{"sheet":"pomocny_zoznam","index":0,"n_rows":26,"n_cols":3,"rows_kept":26,"cut":false,"hidden":true,"merged":[]}
["azimut","sklon","svetové strany"]
[-180,0,"z východnej strany"]
[-165,30,"z JV strany"]
[-150,32,"z južnej strany"]
[-135,34,"z JZ strany"]
[-120,36,"zo západnej strany"]
[-105,38,"Východ_Západ"]
[-90,40,"Východ_Juh_Západ"]
[-75,42,"bez tienenia"]
[-60,44]
[-45,46]
[-30,48]
[-15,50]
[0,52]
[15,54]
[30,56]
[45,58]
[60,60]
[75,90]
[90]
[105]
[120]
[135]
[150]
[165]
[180]

{"sheet":"data_azimut_sklon","index":1,"n_rows":460,"n_cols":29,"rows_kept":460,"cut":false,"hidden":false,"merged":[[0,2,0,13]]}
[null,null,"Celková el. energia na výstupe z FV panela, pri danom azimute, sklone a o inštalovanom výkone 1 kWp"]
["azimut [°]","sklon [°]","január","február","marec","apríl","máj","jún","júl","august","september","október","november","december"]
[-180,0,16.8,32.799999999999997,69.3,"106","122","127","128","110",75.400000000000006,42.1,20.100000000000001,13.3]
[-180,30,11.3,19.2,36,70.2,97.7,"107","105",78.3,42.9,22.6,13,8.94]
[-180,32,11.2,19.100000000000001,34.299999999999997,67.2,95.2,"105","102",75.400000000000006,40.5,22.4,12.7,8.7899999999999991]
[-180,34,11,18.8,33.1,64,92.7,"103",99.5,72.5,38.299999999999997,22.2,12.5,8.64]
[-180,36,10.8,18.5,32.200000000000003,60.9,90.1,"100",96.8,69.5,36.200000000000003,22,12.3,8.48]
[-180,38,10.6,18.2,31.4,57.7,87.4,97.7,94,66.400000000000006,34.700000000000003,21.8,12.1,8.32]
[-180,40,10.4,17.8,30.8,54.6,84.6,95.1,91.2,63.3,33.6,21.4,11.8,8.15]
[-180,42,10.1,17.5,30.5,51.6,81.7,92.4,88.2,60.2,32.6,21,11.6,7.98]
[-180,44,9.92,17.100000000000001,30.1,48.8,78.8,89.6,85.1,57.2,31.8,20.6,11.4,7.8]
[-180,46,9.6999999999999993,16.7,29.6,46.4,75.8,86.7,81.900000000000006,54.2,31.2,20.100000000000001,11.1,7.62]
[-180,48,9.4700000000000006,16.399999999999999,29,44.3,72.7,83.8,78.7,51.4,30.7,19.7,10.8,7.44]
[-180,50,9.24,16,28.3,42.5,69.7,80.7,75.400000000000006,49,30,19.2,10.6,7.25]
[-180,52,9,15.6,27.7,41.1,66.8,77.7,72.099999999999994,46.9,29.3,18.8,10.3,7.06]
[-180,54,8.76,15.2,27,39.9,64,74.599999999999994,68.900000000000006,45.1,28.5,18.3,10,6.87]
[-180,56,8.52,14.8,26.3,38.799999999999997,61.3,71.5,65.8,43.4,27.8,17.8,9.77,6.68]
[-180,58,8.2799999999999994,14.4,25.6,37.700000000000003,58.8,68.599999999999994,62.9,41.8,27.1,17.399999999999999,9.5,6.48]
[-180,60,8.0399999999999991,14,24.9,36.5,56.3,65.8,60.1,40.4,26.3,16.899999999999999,9.23,6.29]
[-180,90,4.6100000000000003,8.31,15.1,21.7,31.9,35.5,32.799999999999997,23.8,16,10.1,5.34,3.55]
[-165,0,16.8,32.799999999999997,69.3,"106","122","127","128","110",75.400000000000006,42.1,20.100000000000001,13.3]
[-165,30,11.3,19.2,38.299999999999997,71.900000000000006,99,"108","106",80,45.3,23.4,13,8.94]
[-165,32,11.2,18.899999999999999,36.700000000000003,69,96.6,"106","103",77.3,43.2,22.9,12.7,8.7899999999999991]
[-165,34,11,18.7,35.4,66.099999999999994,94.2,"103","101",74.599999999999994,41.3,22.6,12.5,8.64]
[-165,36,10.8,18.5,34.299999999999997,63.2,91.7,"101",98.2,71.7,39.6,22.2,12.3,8.48]
[-165,38,10.6,18.2,33.4,60.4,89.1,98.5,95.5,68.900000000000006,38.1,21.8,12.1,8.32]
[-165,40,10.4,17.8,32.6,57.8,86.4,96,92.7,66.099999999999994,36.799999999999997,21.5,11.8,8.15]
[-165,42,10.1,17.5,31.9,55.3,83.7,93.4,89.8,63.3,35.700000000000003,21.1,11.6,7.98]
[-165,44,9.92,17.100000000000001,31.2,52.9,80.900000000000006,90.7,86.8,60.6,34.799999999999997,20.7,11.4,7.8]
[-165,46,9.6999999999999993,16.7,30.6,50.8,78.099999999999994,87.9,83.8,58.1,33.9,20.2,11.1,7.62]
[-165,48,9.4700000000000006,16.399999999999999,29.9,49,75.3,85,80.8,55.8,33,19.8,10.8,7.44]
[-165,50,9.24,16,29.2,47.4,72.5,82.1,77.7,53.7,32.200000000000003,19.3,10.6,7.25]
[-165,52,9,15.6,28.5,45.9,69.900000000000006,79.2,74.7,51.7,31.4,18.8,10.3,7.06]
[-165,54,8.76,15.2,27.7,44.5,67.3,76.3,71.8,49.9,30.5,18.399999999999999,10,6.87]
[-165,56,8.52,14.8,27,43.1,64.900000000000006,73.5,69,48.2,29.7,17.899999999999999,9.77,6.68]
[-165,58,8.2799999999999994,14.4,26.3,41.8,62.6,70.900000000000006,66.3,46.6,28.9,17.399999999999999,9.5,6.48]
[-165,60,8.0399999999999991,14,25.6,40.5,60.3,68.400000000000006,63.7,45,28.1,16.899999999999999,9.23,6.29]
[-165,90,4.6100000000000003,8.31,15.4,23.9,35,37.9,36,26.5,16.899999999999999,10.1,5.34,3.55]
[-150,0,16.8,32.799999999999997,69.3,"106","122","127","128","110",75.400000000000006,42.1,20.100000000000001,13.3]
[-150,30,11.3,19.899999999999999,43.1,76.2,"101","109","108",83.8,50.3,25.6,12.9,8.94]
[-150,32,11.1,19.600000000000001,41.7,73.900000000000006,99.1,"107","105",81.5,48.7,25,12.7,8.7899999999999991]
[-150,34,11,19.2,40.5,71.7,97,"105","103",79.3,47.2,24.4,12.5,8.64]
[-150,36,10.8,18.899999999999999,39.4,69.5,94.7,"102","101",77,45.8,23.9,12.3,8.48]
[-150,38,10.6,18.600000000000001,38.299999999999997,67.5,92.5,"100",98.2,74.8,44.5,23.4,12.1,8.32]
[-150,40,10.4,18.2,37.299999999999997,65.5,90.2,97.8,95.7,72.7,43.3,22.9,11.9,8.15]
[-150,42,10.1,17.899999999999999,36.4,63.6,87.9,95.4,93.2,70.7,42.1,22.5,11.6,7.98]
[-150,44,9.92,17.5,35.5,61.7,85.7,93,90.7,68.7,41,21.9,11.4,7.8]
[-150,46,9.6999999999999993,17.100000000000001,34.6,60,83.5,90.5,88.2,66.8,39.9,21.5,11.1,7.62]
[-150,48,9.4700000000000006,16.7,33.700000000000003,58.3,81.400000000000006,88.1,85.9,65,38.9,21,10.9,7.44]
[-150,50,9.24,16.3,32.9,56.7,79.2,85.7,83.6,63.1,37.799999999999997,20.5,10.6,7.25]
[-150,52,9,15.9,32,55.1,77.2,83.4,81.3,61.4,36.9,20,10.3,7.06]
[-150,54,8.76,15.5,31.2,53.6,75.2,81.2,79.099999999999994,59.6,35.9,19.5,10.1,6.87]
[-150,56,8.52,15.1,30.3,52.1,73.099999999999994,79,76.900000000000006,57.9,34.9,19,9.7899999999999991,6.68,null,null,null,null,null,null,null,null,null,null,null,null,null,12.1,8.32]
[-150,58,8.2799999999999994,14.7,29.5,50.6,71.099999999999994,76.8,74.7,56.3,33.9,18.5,9.51,6.48,null,null,null,null,null,null,null,null,null,null,null,null,null,11.9,8.15]
[-150,60,8.0399999999999991,14.3,28.7,49.1,69.099999999999994,74.7,72.599999999999994,54.6,33,18,9.23,6.29,null,null,null,null,null,null,null,null,null,null,null,null,null,11.6,7.98]
[-150,90,4.6100000000000003,8.4600000000000009,17,29.5,42.1,44.8,43.8,32.9,19.8,10.8,5.34,3.55]
[-135,0,16.8,32.799999999999997,69.3,"106","122","127","128","110",75.400000000000006,42.1,20.100000000000001,13.3]
[-135,30,11.6,22.3,48.8,82.4,"105","111","111",89.3,56.2,29,13.6,9,null,null,null,null,null,null,null,null,null,null,null,null,null,11.4,7.8]
[-135,32,11.5,21.8,47.8,80.7,"103","109","109",87.7,55,28.4,13.4,8.86,null,null,null,null,null,null,null,null,null,null,null,null,null,11.1,7.62]
[-135,34,11.3,21.4,46.7,79.099999999999994,"102","108","107",86,53.9,27.8,13.2,8.7100000000000009,null,null,null,null,null,null,null,null,null,null,null,null,null,10.9,7.44]
[-135,36,11.1,21,45.6,77.5,99.9,"106","105",84.3,52.8,27.2,12.9,8.5500000000000007,null,null,null,null,null,null,null,null,null,null,null,null,null,10.6,7.25]
[-135,38,10.8,20.6,44.7,75.8,98.3,"104","103",82.7,51.6,26.7,12.7,8.3800000000000008,null,null,null,null,null,null,null,null,null,null,null,null,null,10.3,7.06]
[-135,40,10.6,20.2,43.7,74.3,96.5,"102","102",81.2,50.6,26.2,12.5,8.2200000000000006,null,null,null,null,null,null,null,null,null,null,null,null,null,10.1,6.87]
[-135,42,10.4,19.8,42.7,72.7,94.8,"100",99.8,79.5,49.6,25.6,12.2,8.0500000000000007,null,null,null,null,null,null,null,null,null,null,null,null,null,9.7899999999999991,6.68]
[-135,44,10.199999999999999,19.399999999999999,41.8,71.099999999999994,93,98.3,98,77.900000000000006,48.5,25.1,12,7.87,null,null,null,null,null,null,null,null,null,null,null,null,null,9.51,6.48]
[-135,46,9.9600000000000009,19,40.9,69.599999999999994,91.3,96.4,96.1,76.3,47.4,24.5,11.7,7.69,null,null,null,null,null,null,null,null,null,null,null,null,null,9.23,6.29]
[-135,48,9.73,18.600000000000001,40,68.099999999999994,89.6,94.5,94.2,74.7,46.4,24,11.4,7.51,null,null,null,null,null,null,null,null,null,null,null,null,null,13.6,9]
[-135,50,9.48,18.100000000000001,39.1,66.599999999999994,87.8,92.7,92.4,73.099999999999994,45.4,23.5,11.2,7.32,null,null,null,null,null,null,null,null,null,null,null,null,null,13.4,8.86]
[-135,52,9.24,17.7,38.1,65,86,90.8,90.4,71.5,44.3,22.9,10.9,7.13,null,null,null,null,null,null,null,null,null,null,null,null,null,13.2,8.7100000000000009]
[-135,54,8.99,17.3,37.299999999999997,63.6,84.2,88.9,88.5,70,43.3,22.4,10.6,6.95,null,null,null,null,null,null,null,null,null,null,null,null,null,12.9,8.5500000000000007]
[-135,56,8.74,16.8,36.299999999999997,62.1,82.4,86.9,86.6,68.3,42.3,21.8,10.3,6.76,null,null,null,null,null,null,null,null,null,null,null,null,null,12.7,8.3800000000000008]
[-135,58,8.49,16.399999999999999,35.4,60.6,80.599999999999994,85,84.7,66.7,41.3,21.3,10.1,6.56,null,null,null,null,null,null,null,null,null,null,null,null,null,12.5,8.2200000000000006]
[-135,60,8.25,16,34.5,59.1,78.7,83.2,82.7,65.099999999999994,40.200000000000003,20.7,9.8000000000000007,6.34,null,null,null,null,null,null,null,null,null,null,null,null,null,12.2,8.0500000000000007]
[-135,90,4.7300000000000004,9.6,21,36.9,50.7,53,53,41.1,25,12.7,5.7,3.55]
[-120,0,16.8,32.799999999999997,69.3,"106","122","127","128","110",75.400000000000006,42.1,20.100000000000001,13.3]
[-120,30,12.9,25.4,55,89.2,"110","114","115",95.5,62.5,32.9,15.4,9.83,null,null,null,null,null,null,null,null,null,null,null,null,null,12,7.87]
[-120,32,12.7,25,54.2,88,"108","113","114",94.3,61.6,32.5,15.1,9.7100000000000009,null,null,null,null,null,null,null,null,null,null,null,null,null,11.7,7.69]
[-120,34,12.5,24.6,53.3,86.7,"107","112","112",93,60.8,32,14.9,9.59,null,null,null,null,null,null,null,null,null,null,null,null,null,11.4,7.51]
[-120,36,12.3,24.3,52.5,85.4,"106","110","111",91.9,59.9,31.5,14.7,9.42,null,null,null,null,null,null,null,null,null,null,null,null,null,11.2,7.32]
[-120,38,12.1,23.9,51.6,84.2,"104","109","110",90.6,59,31,14.4,9.25,null,null,null,null,null,null,null,null,null,null,null,null,null,10.9,7.13]
[-120,40,11.9,23.5,50.8,83,"103","107","108",89.3,58.1,30.5,14.2,9.09,null,null,null,null,null,null,null,null,null,null,null,null,null,10.6,6.95]
[-120,42,11.7,23.1,50,81.599999999999994,"102","106","107",88,57.2,30,14,8.91,null,null,null,null,null,null,null,null,null,null,null,null,null,10.3,6.76]
[-120,44,11.4,22.7,49.1,80.3,"100","104","105",86.7,56.3,29.5,13.7,8.74,null,null,null,null,null,null,null,null,null,null,null,null,null,10.1,6.56]
[-120,46,11.2,22.3,48.3,79,98.8,"103","104",85.4,55.4,28.9,13.5,8.57,null,null,null,null,null,null,null,null,null,null,null,null,null,9.8000000000000007,6.34]
[-120,48,11,21.9,47.4,77.7,97.2,"101","102",84,54.5,28.4,13.2,8.34,null,null,null,null,null,null,null,null,null,null,null,null,null,15.4,9.83]
[-120,50,10.7,21.5,46.5,76.3,95.7,99.4,"100",82.6,53.6,27.9,12.9,8.15,null,null,null,null,null,null,null,null,null,null,null,null,null,15.1,9.7100000000000009]
[-120,52,10.5,21.1,45.7,74.900000000000006,94.1,97.7,98.8,81.2,52.6,27.4,12.6,7.97,null,null,null,null,null,null,null,null,null,null,null,null,null,14.9,9.59]
[-120,54,10.199999999999999,20.6,44.8,73.5,92.4,96,97.1,79.8,51.6,26.8,12.4,7.78,null,null,null,null,null,null,null,null,null,null,null,null,null,14.7,9.42]
[-120,56,9.99,20.2,43.9,72.099999999999994,90.8,94.2,95.3,78.3,50.6,26.2,12.1,7.59,null,null,null,null,null,null,null,null,null,null,null,null,null,14.4,9.25]
[-120,58,9.73,19.7,42.9,70.7,89.1,92.4,93.5,76.8,49.6,25.7,11.8,7.4,null,null,null,null,null,null,null,null,null,null,null,null,null,14.2,9.09]
[-120,60,9.4600000000000009,19.3,42,69.3,87.4,90.6,91.7,75.3,48.6,25.1,11.5,7.21,null,null,null,null,null,null,null,null,null,null,null,null,null,14,8.91]
[-120,90,5.75,12.2,27.1,45.5,57.9,60.8,61.8,49.6,32,16.2,7.01,4.1399999999999997]
[-105,0,16.8,32.799999999999997,69.3,"106","122","127","128","110",75.400000000000006,42.1,20.100000000000001,13.3]
[-105,30,14.7,28.9,61.2,95.8,"114","118","120","101",68.599999999999994,37.1,17.600000000000001,11.5,null,null,null,null,null,null,null,null,null,null,null,null,null,13.7,8.74]
[-105,32,14.6,28.7,60.7,95,"113","117","119","101",68,36.799999999999997,17.5,11.4,null,null,null,null,null,null,null,null,null,null,null,null,null,13.5,8.57]
[-105,34,14.4,28.4,60.1,93.9,"112","116","117",99.8,67.400000000000006,36.5,17.3,11.3,null,null,null,null,null,null,null,null,null,null,null,null,null,13.2,8.34]
[-105,36,14.3,28.2,59.5,93,"111","114","116",98.8,66.900000000000006,36.1,17.2,11.2,null,null,null,null,null,null,null,null,null,null,null,null,null,12.9,8.15]
[-105,38,14.1,27.9,58.8,92.1,"110","113","115",97.9,66.2,35.700000000000003,17,11,null,null,null,null,null,null,null,null,null,null,null,null,null,12.6,7.97]
[-105,40,13.9,27.6,58.1,91.2,"109","112","114",96.9,65.5,35.299999999999997,16.8,10.9,null,null,null,null,null,null,null,null,null,null,null,null,null,12.4,7.78]
[-105,42,13.7,27.3,57.5,90.2,"108","111","113",95.9,64.8,34.9,16.600000000000001,10.8,null,null,null,null,null,null,null,null,null,null,null,null,null,12.1,7.59]
[-105,44,13.6,27,56.8,89,"107","109","111",94.8,64.099999999999994,34.5,16.399999999999999,10.6,null,null,null,null,null,null,null,null,null,null,null,null,null,11.8,7.4]
[-105,46,13.4,26.6,56.1,87.8,"105","108","110",93.7,63.4,34.1,16.2,10.5,null,null,null,null,null,null,null,null,null,null,null,null,null,11.5,7.21]
[-105,48,13.2,26.3,55.3,86.7,"104","107","109",92.5,62.6,33.6,16,10.3,null,null,null,null,null,null,null,null,null,null,null,null,null,17.600000000000001,11.5]
[-105,50,13,25.9,54.5,85.5,"103","105","107",91.2,61.7,33.1,15.7,10.1,null,null,null,null,null,null,null,null,null,null,null,null,null,17.5,11.4]
[-105,52,12.8,25.5,53.7,84.3,"101","104","106",90,60.9,32.6,15.5,9.92,null,null,null,null,null,null,null,null,null,null,null,null,null,17.3,11.3]
[-105,54,12.5,25.1,52.9,83,99.6,"102","104",88.7,60,32.1,15.2,9.73,null,null,null,null,null,null,null,null,null,null,null,null,null,17.2,11.2]
[-105,56,12.3,24.7,52,81.7,98.1,"100","103",87.3,59.1,31.6,14.9,9.56,null,null,null,null,null,null,null,null,null,null,null,null,null,17,11]
[-105,58,12,24.3,51.1,80.3,96.5,98.6,"101",86,58.1,31.1,14.6,9.3800000000000008,null,null,null,null,null,null,null,null,null,null,null,null,null,16.8,10.9]
[-105,60,11.8,23.8,50.2,79,94.9,96.8,99.2,84.5,57.1,30.5,14.3,9.19,null,null,null,null,null,null,null,null,null,null,null,null,null,16.600000000000001,10.8]
[-105,90,7.77,16.2,34.5,54.5,65.5,66,68.2,58.3,39.799999999999997,20.7,9.4600000000000009,5.97]
[-90,0,16.8,32.799999999999997,69.3,"106","122","127","128","110",75.400000000000006,42.1,20.100000000000001,13.3]
[-90,30,16.899999999999999,32.700000000000003,67.3,"102","118","121","123","107",74.400000000000006,41.4,20.3,13.6,null,null,null,null,null,null,null,null,null,null,null,null,null,16.399999999999999,10.6]
[-90,32,16.8,32.700000000000003,66.900000000000006,"102","117","120","123","106",74.099999999999994,41.2,20.2,13.6,null,null,null,null,null,null,null,null,null,null,null,null,null,16.2,10.5]
[-90,34,16.8,32.5,66.599999999999994,"101","117","119","122","106",73.8,41,20.2,13.6,null,null,null,null,null,null,null,null,null,null,null,null,null,16,10.3]
[-90,36,16.7,32.4,66.3,"100","116","118","121","105",73.400000000000006,40.799999999999997,20.100000000000001,13.5,null,null,null,null,null,null,null,null,null,null,null,null,null,15.7,10.1]
[-90,38,16.600000000000001,32.200000000000003,66,99.2,"115","117","120","104",73,40.6,20,13.4,null,null,null,null,null,null,null,null,null,null,null,null,null,15.5,9.92]
[-90,40,16.5,32,65.5,98.5,"114","116","119","104",72.599999999999994,40.4,19.899999999999999,13.4,null,null,null,null,null,null,null,null,null,null,null,null,null,15.2,9.73]
[-90,42,16.399999999999999,31.8,65,97.8,"113","115","118","103",72,40.1,19.8,13.3,null,null,null,null,null,null,null,null,null,null,null,null,null,14.9,9.56]
[-90,44,16.3,31.6,64.400000000000006,97,"112","114","117","102",71.400000000000006,39.799999999999997,19.600000000000001,13.2,null,null,null,null,null,null,null,null,null,null,null,null,null,14.6,9.3800000000000008]
[-90,46,16.100000000000001,31.4,63.8,96,"111","112","115","101",70.8,39.5,19.5,13.1,null,null,null,null,null,null,null,null,null,null,null,null,null,14.3,9.19]
[-90,48,16,31.1,63.1,95,"110","111","114",99.9,70.2,39.1,19.3,13,null,null,null,null,null,null,null,null,null,null,null,null,null,20.3,13.6]
[-90,50,15.8,30.8,62.5,93.9,"108","110","113",98.8,69.5,38.700000000000003,19.100000000000001,12.9,null,null,null,null,null,null,null,null,null,null,null,null,null,20.2,13.6]
[-90,52,15.7,30.5,61.8,92.7,"107","108","112",97.6,68.8,38.299999999999997,18.899999999999999,12.7,null,null,null,null,null,null,null,null,null,null,null,null,null,20.2,13.6]
[-90,54,15.5,30.2,61.1,91.6,"106","107","110",96.4,68,37.9,18.7,12.6,null,null,null,null,null,null,null,null,null,null,null,null,null,20.100000000000001,13.5]
[-90,56,15.3,29.8,60.3,90.3,"104","105","109",95.1,67.2,37.4,18.399999999999999,12.4,null,null,null,null,null,null,null,null,null,null,null,null,null,20,13.4]
[-90,58,15.1,29.5,59.5,89,"103","103","107",93.8,66.3,36.9,18.2,12.3,null,null,null,null,null,null,null,null,null,null,null,null,null,19.899999999999999,13.4]
[-90,60,14.8,29.1,58.7,87.7,"101","102","105",92.4,65.400000000000006,36.299999999999997,18,12.1,null,null,null,null,null,null,null,null,null,null,null,null,null,19.8,13.3]
[-90,90,10.7,21.2,42.4,62.8,71.599999999999994,71,74.099999999999994,66.099999999999994,47.3,25.9,12.9,8.82]
[-75,0,16.8,32.799999999999997,69.3,"106","122","127","128","110",75.400000000000006,42.1,20.100000000000001,13.3]
[-75,30,19.2,36.4,73.2,"107","121","124","127","112",79.8,45.5,23,15.9,null,null,null,null,null,null,null,null,null,null,null,null,null,19.600000000000001,13.2]
[-75,32,19.3,36.4,73.099999999999994,"107","121","123","126","111",79.7,45.6,23,16,null,null,null,null,null,null,null,null,null,null,null,null,null,19.5,13.1]
[-75,34,19.3,36.5,72.900000000000006,"107","120","122","125","111",79.599999999999994,45.6,23.1,16.100000000000001,null,null,null,null,null,null,null,null,null,null,null,null,null,19.3,13]
[-75,36,19.3,36.5,72.7,"106","119","121","124","110",79.3,45.5,23.1,16.100000000000001,null,null,null,null,null,null,null,null,null,null,null,null,null,19.100000000000001,12.9]
[-75,38,19.3,36.5,72.5,"106","119","120","123","110",79.099999999999994,45.5,23.1,16.2,null,null,null,null,null,null,null,null,null,null,null,null,null,18.899999999999999,12.7]
[-75,40,19.3,36.5,72.2,"105","118","119","123","109",78.8,45.3,23.1,16.2,null,null,null,null,null,null,null,null,null,null,null,null,null,18.7,12.6]
[-75,42,19.3,36.4,71.900000000000006,"104","117","118","122","109",78.5,45.2,23.1,16.2,null,null,null,null,null,null,null,null,null,null,null,null,null,18.399999999999999,12.4]
[-75,44,19.3,36.299999999999997,71.599999999999994,"104","116","117","121","108",78.099999999999994,45,23,16.2,null,null,null,null,null,null,null,null,null,null,null,null,null,18.2,12.3]
[-75,46,19.2,36.200000000000003,71.2,"103","115","116","120","107",77.7,44.7,22.9,16.2,null,null,null,null,null,null,null,null,null,null,null,null,null,18,12.1]
[-75,48,19.100000000000001,36,70.8,"102","114","114","118","106",77.2,44.5,22.9,16.100000000000001,null,null,null,null,null,null,null,null,null,null,null,null,null,23,15.9]
[-75,50,19,35.9,70.2,"101","113","113","117","105",76.599999999999994,44.2,22.8,16.100000000000001,null,null,null,null,null,null,null,null,null,null,null,null,null,23,16]
[-75,52,18.899999999999999,35.6,69.7,"100","111","111","116","104",76,43.9,22.6,16,null,null,null,null,null,null,null,null,null,null,null,null,null,23.1,16.100000000000001]
[-75,54,18.8,35.4,69,99.1,"110","110","114","103",75.3,43.5,22.5,15.9,null,null,null,null,null,null,null,null,null,null,null,null,null,23.1,16.100000000000001]
[-75,56,18.600000000000001,35.1,68.3,98,"109","108","113","102",74.599999999999994,43.1,22.3,15.8,null,null,null,null,null,null,null,null,null,null,null,null,null,23.1,16.2]
[-75,58,18.5,34.799999999999997,67.599999999999994,96.7,"107","107","111","100",73.8,42.7,22.2,15.7,null,null,null,null,null,null,null,null,null,null,null,null,null,23.1,16.2]
[-75,60,18.3,34.5,66.8,95.4,"106","105","109",99,72.900000000000006,42.2,22,15.6,null,null,null,null,null,null,null,null,null,null,null,null,null,23.1,16.2]
[-75,90,14.2,26.6,49.8,68.7,74.5,72.8,76.599999999999994,71.099999999999994,54,31.8,16.899999999999999,12.4]
[-60,0,16.8,32.799999999999997,69.3,"106","122","127","128","110",75.400000000000006,42.1,20.100000000000001,13.3]
[-60,30,21.5,39.9,78.2,"112","124","125","128","115",84.3,49.4,25.5,18.100000000000001,null,null,null,null,null,null,null,null,null,null,null,null,null,23,16.2]
[-60,32,21.6,40.200000000000003,78.3,"112","123","125","128","115",84.5,49.6,25.7,18.3,null,null,null,null,null,null,null,null,null,null,null,null,null,22.9,16.2]
[-60,34,21.8,40.4,78.5,"112","123","124","127","115",84.6,49.8,25.9,18.5,null,null,null,null,null,null,null,null,null,null,null,null,null,22.9,16.100000000000001]
[-60,36,21.9,40.5,78.599999999999994,"111","122","123","127","114",84.6,49.8,26.1,18.7,null,null,null,null,null,null,null,null,null,null,null,null,null,22.8,16.100000000000001]
[-60,38,22,40.6,78.599999999999994,"111","121","122","126","114",84.5,49.9,26.2,18.8,null,null,null,null,null,null,null,null,null,null,null,null,null,22.6,16]
[-60,40,22.1,40.700000000000003,78.599999999999994,"111","121","121","125","113",84.4,49.9,26.3,19,null,null,null,null,null,null,null,null,null,null,null,null,null,22.5,15.9]
[-60,42,22.2,40.799999999999997,78.400000000000006,"110","120","120","124","113",84.2,49.9,26.4,19.100000000000001,null,null,null,null,null,null,null,null,null,null,null,null,null,22.3,15.8]
[-60,44,22.2,40.799999999999997,78.2,"110","119","119","123","112",83.9,49.9,26.4,19.2,null,null,null,null,null,null,null,null,null,null,null,null,null,22.2,15.7]
[-60,46,22.3,40.799999999999997,77.900000000000006,"109","118","118","122","112",83.5,49.8,26.5,19.2,null,null,null,null,null,null,null,null,null,null,null,null,null,22,15.6]
[-60,48,22.3,40.700000000000003,77.5,"108","117","116","121","111",83.1,49.6,26.5,19.3,null,null,null,null,null,null,null,null,null,null,null,null,null,25.5,18.100000000000001]
[-60,50,22.2,40.6,77.099999999999994,"107","116","115","120","110",82.7,49.5,26.4,19.3,null,null,null,null,null,null,null,null,null,null,null,null,null,25.7,18.3]
[-60,52,22.2,40.5,76.7,"106","114","114","118","109",82.2,49.2,26.4,19.399999999999999,null,null,null,null,null,null,null,null,null,null,null,null,null,25.9,18.5]
[-60,54,22.1,40.4,76.099999999999994,"105","113","112","117","108",81.599999999999994,49,26.3,19.399999999999999,null,null,null,null,null,null,null,null,null,null,null,null,null,26.1,18.7]
[-60,56,22,40.200000000000003,75.599999999999994,"104","111","110","115","106",80.900000000000006,48.7,26.2,19.3,null,null,null,null,null,null,null,null,null,null,null,null,null,26.2,18.8]
[-60,58,21.9,40,75,"103","110","109","114","105",80.2,48.3,26.1,19.3,null,null,null,null,null,null,null,null,null,null,null,null,null,26.3,19]
[-60,60,21.8,39.6,74.099999999999994,"102","108","107","112","104",79.400000000000006,48,26,19.2,null,null,null,null,null,null,null,null,null,null,null,null,null,26.4,19.100000000000001]
[-60,90,18,32.1,56.8,74.400000000000006,76.7,73.8,78.099999999999994,75.400000000000006,60.4,37.6,21.2,16.3]
[-45,0,16.8,32.799999999999997,69.3,"106","122","127","128","110",75.400000000000006,42.1,20.100000000000001,13.3]
[-45,30,23.5,43,82.7,"116","125","126","130","118",88.1,52.8,27.9,20.2,null,null,null,null,null,null,null,null,null,null,null,null,null,26.4,19.2]
[-45,32,23.8,43.4,83,"116","125","125","129","118",88.3,53.1,28.2,20.5,null,null,null,null,null,null,null,null,null,null,null,null,null,26.5,19.2]
[-45,34,24,43.7,83.3,"116","124","125","128","118",88.5,53.4,28.5,20.8,null,null,null,null,null,null,null,null,null,null,null,null,null,26.5,19.3]
[-45,36,24.3,44,83.5,"116","124","124","128","118",88.7,53.7,28.8,21.1,null,null,null,null,null,null,null,null,null,null,null,null,null,26.4,19.3]
[-45,38,24.5,44.3,83.7,"115","123","123","127","117",88.7,53.9,29,21.4,null,null,null,null,null,null,null,null,null,null,null,null,null,26.4,19.399999999999999]
[-45,40,24.7,44.5,83.7,"115","122","122","126","117",88.7,54.1,29.2,21.6,null,null,null,null,null,null,null,null,null,null,null,null,null,26.3,19.399999999999999]
[-45,42,24.8,44.7,83.7,"114","121","121","125","116",88.7,54.2,29.4,21.8,null,null,null,null,null,null,null,null,null,null,null,null,null,26.2,19.3]
[-45,44,25,44.8,83.7,"114","120","120","124","115",88.5,54.3,29.5,22,null,null,null,null,null,null,null,null,null,null,null,null,null,26.1,19.3]
[-45,46,25.1,44.9,83.5,"113","119","119","123","115",88.3,54.3,29.7,22.1,null,null,null,null,null,null,null,null,null,null,null,null,null,26,19.2]
[-45,48,25.2,45,83.3,"113","118","117","122","114",88.1,54.3,29.8,22.3,null,null,null,null,null,null,null,null,null,null,null,null,null,27.9,20.2]
[-45,50,25.2,45,83.1,"112","117","116","120","113",87.7,54.2,29.8,22.4,null,null,null,null,null,null,null,null,null,null,null,null,null,28.2,20.5]
[-45,52,25.3,45,82.7,"111","116","114","119","112",87.2,54.1,29.9,22.5,null,null,null,null,null,null,null,null,null,null,null,null,null,28.5,20.8]
[-45,54,25.3,44.9,82.3,"110","114","113","117","111",86.7,53.9,29.9,22.6,null,null,null,null,null,null,null,null,null,null,null,null,null,28.8,21.1]
[-45,56,25.3,44.8,81.8,"109","113","111","116","110",86.1,53.7,29.9,22.6,null,null,null,null,null,null,null,null,null,null,null,null,null,29,21.4]
[-45,58,25.3,44.7,81.3,"108","111","109","114","109",85.5,53.4,29.8,22.6,null,null,null,null,null,null,null,null,null,null,null,null,null,29.2,21.6]
[-45,60,25.2,44.5,80.7,"107","110","108","113","107",84.7,53.1,29.7,22.6,null,null,null,null,null,null,null,null,null,null,null,null,null,29.4,21.8]
[-45,90,21.7,37.1,63.1,78.2,75.7,71.5,76.3,77.5,65.400000000000006,42.9,25.4,20.100000000000001]
[-30,0,16.8,32.799999999999997,69.3,"106","122","127","128","110",75.400000000000006,42.1,20.100000000000001,13.3]
[-30,30,25.1,45.5,86,"118","126","127","130","120",90.7,55.4,29.7,21.9,null,null,null,null,null,null,null,null,null,null,null,null,null,29.5,22]
[-30,32,25.5,46,86.5,"119","125","126","130","120",91.1,55.9,30.1,22.3,null,null,null,null,null,null,null,null,null,null,null,null,null,29.7,22.1]
[-30,34,25.9,46.5,87,"118","125","125","129","119",91.4,56.3,30.5,22.7,null,null,null,null,null,null,null,null,null,null,null,null,null,29.8,22.3]
[-30,36,26.2,46.9,87.4,"118","124","124","128","119",91.7,56.7,30.9,23,null,null,null,null,null,null,null,null,null,null,null,null,null,29.8,22.4]
[-30,38,26.5,47.3,87.7,"118","124","123","127","119",91.9,57.1,31.2,23.4,null,null,null,null,null,null,null,null,null,null,null,null,null,29.9,22.5]
[-30,40,26.8,47.6,88,"118","123","122","126","118",92,57.4,31.5,23.7,null,null,null,null,null,null,null,null,null,null,null,null,null,29.9,22.6]
[-30,42,27,47.9,88.1,"118","122","121","125","118",92,57.6,31.8,24,null,null,null,null,null,null,null,null,null,null,null,null,null,29.9,22.6]
[-30,44,27.2,48.2,88.2,"117","121","120","124","117",92,57.8,32,24.2,null,null,null,null,null,null,null,null,null,null,null,null,null,29.8,22.6]
[-30,46,27.4,48.4,88.2,"117","120","118","123","117",91.8,57.9,32.200000000000003,24.5,null,null,null,null,null,null,null,null,null,null,null,null,null,29.7,22.6]
[-30,48,27.6,48.6,88.1,"116","119","117","122","116",91.6,58,32.4,24.7,null,null,null,null,null,null,null,null,null,null,null,null,null,29.7,21.9]
[-30,50,27.7,48.7,87.9,"115","117","116","120","115",91.3,58,32.6,24.9,null,null,null,null,null,null,null,null,null,null,null,null,null,30.1,22.3]
[-30,52,27.8,48.7,87.6,"114","116","114","119","114",90.9,58,32.700000000000003,25,null,null,null,null,null,null,null,null,null,null,null,null,null,30.5,22.7]
[-30,54,27.9,48.8,87.3,"113","115","112","117","113",90.4,57.9,32.799999999999997,25.2,null,null,null,null,null,null,null,null,null,null,null,null,null,30.9,23]
[-30,56,28,48.7,86.9,"112","113","111","115","111",89.9,57.7,32.799999999999997,25.3,null,null,null,null,null,null,null,null,null,null,null,null,null,31.2,23.4]
[-30,58,28,48.7,86.4,"111","111","109","114","110",89.3,57.5,32.9,25.4,null,null,null,null,null,null,null,null,null,null,null,null,null,31.5,23.7]
[-30,60,28,48.6,85.9,"110","110","107","112","109",88.6,57.3,32.799999999999997,25.4,null,null,null,null,null,null,null,null,null,null,null,null,null,31.8,24]
[-30,90,24.9,41.6,68.400000000000006,80,73.900000000000006,68.8,73.2,77.2,68.900000000000006,47.5,29,23.3]
[-15,0,16.8,32.799999999999997,69.3,"106","122","127","128","110",75.400000000000006,42.1,20.100000000000001,13.3]
[-15,30,26.2,47,88.2,"120","126","126","130","120",92.1,57.1,30.9,22.9,null,null,null,null,null,null,null,null,null,null,null,null,null,32,24.2]
[-15,32,26.7,47.6,88.9,"120","125","126","129","120",92.6,57.7,31.4,23.3,null,null,null,null,null,null,null,null,null,null,null,null,null,32.200000000000003,24.5]
[-15,34,27.1,48.2,89.4,"120","125","125","129","120",93,58.2,31.9,23.8,null,null,null,null,null,null,null,null,null,null,null,null,null,32.4,24.7]
[-15,36,27.4,48.7,89.9,"120","124","124","128","120",93.3,58.7,32.299999999999997,24.2,null,null,null,null,null,null,null,null,null,null,null,null,null,32.6,24.9]
[-15,38,27.8,49.2,90.3,"120","123","123","127","119",93.5,59.1,32.700000000000003,24.6,null,null,null,null,null,null,null,null,null,null,null,null,null,32.700000000000003,25]
[-15,40,28.1,49.6,90.7,"120","123","122","126","119",93.7,59.5,33.1,25,null,null,null,null,null,null,null,null,null,null,null,null,null,32.799999999999997,25.2]
[-15,42,28.4,50,90.9,"119","122","121","125","118",93.7,59.8,33.4,25.3,null,null,null,null,null,null,null,null,null,null,null,null,null,32.799999999999997,25.3]
[-15,44,28.7,50.3,91.1,"119","120","119","124","118",93.7,60.1,33.700000000000003,25.6,null,null,null,null,null,null,null,null,null,null,null,null,null,32.9,25.4]
[-15,46,28.9,50.6,91.1,"118","119","118","122","117",93.6,60.3,34,25.9,null,null,null,null,null,null,null,null,null,null,null,null,null,32.799999999999997,25.4]
[-15,48,29.2,50.8,91.1,"118","118","116","121","116",93.5,60.4,34.200000000000003,26.1,null,null,null,null,null,null,null,null,null,null,null,null,null,30.9,22.9]
[-15,50,29.3,51,91,"117","117","115","119","115",93.2,60.5,34.4,26.4,null,null,null,null,null,null,null,null,null,null,null,null,null,31.4,23.3]
[-15,52,29.5,51.2,90.9,"116","115","113","118","114",92.8,60.5,34.6,26.6,null,null,null,null,null,null,null,null,null,null,null,null,null,31.9,23.8]
[-15,54,29.6,51.2,90.6,"115","114","111","116","113",92.4,60.5,34.700000000000003,26.8,null,null,null,null,null,null,null,null,null,null,null,null,null,32.299999999999997,24.2]
[-15,56,29.7,51.3,90.3,"114","112","109","114","112",91.9,60.5,34.799999999999997,26.9,null,null,null,null,null,null,null,null,null,null,null,null,null,32.700000000000003,24.6]
[-15,58,29.8,51.3,89.8,"113","110","108","112","110",91.3,60.3,34.9,27,null,null,null,null,null,null,null,null,null,null,null,null,null,33.1,25]
[-15,60,29.8,51.2,89.3,"111","108","105","110","109",90.6,60.1,34.9,27.1,null,null,null,null,null,null,null,null,null,null,null,null,null,33.4,25.3]
[-15,90,27,44.6,72.099999999999994,80.5,71,65.400000000000006,69.3,75.7,70.7,50.8,31.4,25.2]
[0,0,16.8,32.799999999999997,69.3,"106","122","127","128","110",75.400000000000006,42.1,20.100000000000001,13.3]
[0,30,26.6,47.5,88.9,"120","125","126","130","120",92.1,57.5,31.3,23.2,null,null,null,null,null,null,null,null,null,null,null,null,null,33.700000000000003,25.6]
[0,32,27,48.1,89.5,"120","125","125","129","120",92.6,58.2,31.8,23.6,null,null,null,null,null,null,null,null,null,null,null,null,null,34,25.9]
[0,34,27.5,48.7,90.1,"120","124","124","128","119",93,58.7,32.299999999999997,24.1,null,null,null,null,null,null,null,null,null,null,null,null,null,34.200000000000003,26.1]
[0,36,27.9,49.3,90.7,"120","123","123","127","119",93.3,59.2,32.799999999999997,24.5,null,null,null,null,null,null,null,null,null,null,null,null,null,34.4,26.4]
[0,38,28.2,49.8,91.1,"120","122","122","126","119",93.6,59.7,33.200000000000003,24.9,null,null,null,null,null,null,null,null,null,null,null,null,null,34.6,26.6]
[0,40,28.6,50.2,91.5,"120","122","121","125","118",93.7,60.1,33.6,25.3,null,null,null,null,null,null,null,null,null,null,null,null,null,34.700000000000003,26.8]
[0,42,28.9,50.6,91.7,"119","121","120","124","118",93.8,60.4,34,25.7,null,null,null,null,null,null,null,null,null,null,null,null,null,34.799999999999997,26.9]
[0,44,29.2,51,91.9,"119","119","119","123","117",93.8,60.7,34.299999999999997,26,null,null,null,null,null,null,null,null,null,null,null,null,null,34.9,27]
[0,46,29.4,51.3,92,"118","118","117","121","116",93.7,60.9,34.6,26.3,null,null,null,null,null,null,null,null,null,null,null,null,null,34.9,27.1]
[0,48,29.7,51.5,92.1,"118","117","116","120","115",93.5,61.1,34.799999999999997,26.5,null,null,null,null,null,null,null,null,null,null,null,null,null,31.3,23.2]
[0,50,29.9,51.7,92,"117","116","114","118","114",93.3,61.2,35,26.8,null,null,null,null,null,null,null,null,null,null,null,null,null,31.8,23.6]
[0,52,30,51.9,91.9,"116","114","112","116","113",92.9,61.3,35.200000000000003,27,null,null,null,null,null,null,null,null,null,null,null,null,null,32.299999999999997,24.1]
[0,54,30.2,52,91.6,"115","112","110","115","112",92.5,61.3,35.4,27.2,null,null,null,null,null,null,null,null,null,null,null,null,null,32.799999999999997,24.5]
[0,56,30.3,52.1,91.3,"114","111","108","113","111",92,61.2,35.5,27.3,null,null,null,null,null,null,null,null,null,null,null,null,null,33.200000000000003,24.9]
[0,58,30.4,52.1,90.9,"113","109","106","111","109",91.4,61.1,35.6,27.5,null,null,null,null,null,null,null,null,null,null,null,null,null,33.6,25.3]
[0,60,30.4,52,90.4,"111","107","104","109","108",90.7,60.9,35.6,27.6,null,null,null,null,null,null,null,null,null,null,null,null,null,34,25.7]
[0,90,27.7,45.6,73.3,80,68.8,63.6,67,73.8,70.5,51.7,32.200000000000003,25.8]
[15,0,16.8,32.799999999999997,69.3,"106","122","127","128","110",75.400000000000006,42.1,20.100000000000001,13.3]
[15,30,26.2,46.8,87.8,"119","124","126","129","119",90.9,56.7,30.8,22.7,null,null,null,null,null,null,null,null,null,null,null,null,null,34.299999999999997,26]
[15,32,26.6,47.4,88.5,"119","124","125","128","118",91.3,57.3,31.3,23.1,null,null,null,null,null,null,null,null,null,null,null,null,null,34.6,26.3]
[15,34,27,47.9,89,"119","123","124","127","118",91.6,57.8,31.8,23.6,null,null,null,null,null,null,null,null,null,null,null,null,null,34.799999999999997,26.5]
[15,36,27.4,48.4,89.5,"119","122","123","126","118",91.9,58.3,32.200000000000003,24,null,null,null,null,null,null,null,null,null,null,null,null,null,35,26.8]
[15,38,27.7,48.9,89.9,"119","121","122","125","117",92,58.7,32.6,24.4,null,null,null,null,null,null,null,null,null,null,null,null,null,35.200000000000003,27]
[15,40,28.1,49.3,90.2,"119","121","121","124","117",92.1,59.1,33,24.7,null,null,null,null,null,null,null,null,null,null,null,null,null,35.4,27.2]
[15,42,28.4,49.7,90.4,"118","119","119","123","116",92.1,59.4,33.299999999999997,25,null,null,null,null,null,null,null,null,null,null,null,null,null,35.5,27.3]
[15,44,28.6,50,90.5,"118","118","118","122","115",92.1,59.6,33.6,25.3,null,null,null,null,null,null,null,null,null,null,null,null,null,35.6,27.5]
[15,46,28.9,50.3,90.6,"117","117","116","120","114",91.9,59.8,33.9,25.6,null,null,null,null,null,null,null,null,null,null,null,null,null,35.6,27.6]
[15,48,29.1,50.5,90.6,"117","116","115","119","114",91.7,59.9,34.1,25.9,null,null,null,null,null,null,null,null,null,null,null,null,null,30.8,22.7]
[15,50,29.3,50.7,90.5,"116","114","113","117","113",91.4,60,34.299999999999997,26.1,null,null,null,null,null,null,null,null,null,null,null,null,null,31.3,23.1]
[15,52,29.4,50.8,90.3,"115","113","112","115","111",91,60,34.5,26.3,null,null,null,null,null,null,null,null,null,null,null,null,null,31.8,23.6]
[15,54,29.6,50.9,90,"114","111","110","114","110",90.5,60,34.6,26.5,null,null,null,null,null,null,null,null,null,null,null,null,null,32.200000000000003,24]
[15,56,29.7,50.9,89.6,"113","110","108","112","109",89.9,59.9,34.700000000000003,26.6,null,null,null,null,null,null,null,null,null,null,null,null,null,32.6,24.4]
[15,58,29.7,50.9,89.2,"111","108","106","110","107",89.3,59.8,34.799999999999997,26.7,null,null,null,null,null,null,null,null,null,null,null,null,null,33,24.7]
[15,60,29.8,50.8,88.7,"110","106","104","108","106",88.6,59.6,34.799999999999997,26.8,null,null,null,null,null,null,null,null,null,null,null,null,null,33.299999999999997,25]
[15,90,26.9,44.2,71.3,79,68.599999999999994,64.400000000000006,67.400000000000006,72.400000000000006,68.2,50.1,31.3,24.9]
[30,0,16.8,32.799999999999997,69.3,"106","122","127","128","110",75.400000000000006,42.1,20.100000000000001,13.3]
[30,30,25,45,85.4,"117","123","125","128","116",88.3,54.9,29.6,21.5,null,null,null,null,null,null,null,null,null,null,null,null,null,33.6,25.3]
[30,32,25.4,45.5,85.9,"117","122","124","127","116",88.6,55.4,30,21.9,null,null,null,null,null,null,null,null,null,null,null,null,null,33.9,25.6]
[30,34,25.8,46,86.3,"117","121","123","126","116",88.9,55.8,30.4,22.3,null,null,null,null,null,null,null,null,null,null,null,null,null,34.1,25.9]
[30,36,26.1,46.4,86.6,"117","121","122","125","116",89,56.2,30.7,22.6,null,null,null,null,null,null,null,null,null,null,null,null,null,34.299999999999997,26.1]
[30,38,26.4,46.7,86.9,"117","120","121","124","115",89.1,56.5,31,22.9,null,null,null,null,null,null,null,null,null,null,null,null,null,34.5,26.3]
[30,40,26.6,47,87,"116","119","120","123","114",89.1,56.8,31.3,23.2,null,null,null,null,null,null,null,null,null,null,null,null,null,34.6,26.5]
[30,42,26.9,47.3,87.1,"116","118","119","122","114",89,57,31.6,23.5,null,null,null,null,null,null,null,null,null,null,null,null,null,34.700000000000003,26.6]
[30,44,27.1,47.5,87.2,"115","117","118","121","113",88.8,57.1,31.8,23.7,null,null,null,null,null,null,null,null,null,null,null,null,null,34.799999999999997,26.7]
[30,46,27.3,47.7,87.1,"115","116","116","119","112",88.5,57.2,32,24,null,null,null,null,null,null,null,null,null,null,null,null,null,34.799999999999997,26.8]
[30,48,27.4,47.9,87,"114","114","115","118","111",88.2,57.3,32.200000000000003,24.2,null,null,null,null,null,null,null,null,null,null,null,null,null,29.6,21.5]
[30,50,27.6,48,86.8,"113","113","113","116","110",87.8,57.3,32.4,24.3,null,null,null,null,null,null,null,null,null,null,null,null,null,30,21.9]
[30,52,27.7,48,86.5,"112","112","111","115","109",87.3,57.2,32.5,24.5,null,null,null,null,null,null,null,null,null,null,null,null,null,30.4,22.3]
[30,54,27.8,48,86.1,"111","110","110","113","108",86.7,57.1,32.5,24.6,null,null,null,null,null,null,null,null,null,null,null,null,null,30.7,22.6]
[30,56,27.8,48,85.7,"110","108","108","111","106",86.1,57,32.6,24.7,null,null,null,null,null,null,null,null,null,null,null,null,null,31,22.9]
[30,58,27.8,47.9,85.2,"109","107","106","109","105",85.4,56.8,32.6,24.8,null,null,null,null,null,null,null,null,null,null,null,null,null,31.3,23.2]
[30,60,27.8,47.8,84.6,"107","105","104","107","103",84.6,56.5,32.6,24.8,null,null,null,null,null,null,null,null,null,null,null,null,null,31.6,23.5]
[30,90,24.7,40.6,67,77.3,69.400000000000006,66.5,69.3,71.2,64.400000000000006,46.6,28.7,22.6]
[45,0,16.8,32.799999999999997,69.3,"106","122","127","128","110",75.400000000000006,42.1,20.100000000000001,13.3]
[45,30,23.3,42.4,81.599999999999994,"114","121","124","126","114",84.8,52.2,27.6,19.7,null,null,null,null,null,null,null,null,null,null,null,null,null,31.8,23.7]
[45,32,23.6,42.8,81.900000000000006,"114","120","123","125","113",84.9,52.5,27.9,20,null,null,null,null,null,null,null,null,null,null,null,null,null,32,24]
[45,34,23.8,43.1,82.2,"114","120","122","125","113",84.9,52.8,28.2,20.3,null,null,null,null,null,null,null,null,null,null,null,null,null,32.200000000000003,24.2]
[45,36,24,43.4,82.3,"113","119","121","124","112",84.8,53,28.5,20.5,null,null,null,null,null,null,null,null,null,null,null,null,null,32.4,24.3]
[45,38,24.2,43.6,82.5,"113","118","120","123","112",84.7,53.2,28.7,20.7,null,null,null,null,null,null,null,null,null,null,null,null,null,32.5,24.5]
[45,40,24.4,43.8,82.5,"112","117","119","121","111",84.6,53.3,28.9,20.9,null,null,null,null,null,null,null,null,null,null,null,null,null,32.5,24.6]
[45,42,24.6,44,82.5,"112","116","118","120","110",84.3,53.4,29.1,21.1,null,null,null,null,null,null,null,null,null,null,null,null,null,32.6,24.7]
[45,44,24.7,44.1,82.4,"111","115","116","119","109",84.1,53.4,29.2,21.3,null,null,null,null,null,null,null,null,null,null,null,null,null,32.6,24.8]
[45,46,24.8,44.1,82.2,"111","114","115","118","109",83.8,53.4,29.3,21.4,null,null,null,null,null,null,null,null,null,null,null,null,null,32.6,24.8]
[45,48,24.9,44.2,81.900000000000006,"110","112","114","117","108",83.4,53.4,29.4,21.5,null,null,null,null,null,null,null,null,null,null,null,null,null,27.6,19.7]
[45,50,24.9,44.2,81.599999999999994,"109","111","112","115","107",82.9,53.3,29.5,21.6,null,null,null,null,null,null,null,null,null,null,null,null,null,27.9,20]
[45,52,25,44.1,81.2,"108","110","111","114","105",82.3,53.1,29.5,21.7,null,null,null,null,null,null,null,null,null,null,null,null,null,28.2,20.3]
[45,54,25,44,80.7,"107","108","109","112","104",81.599999999999994,52.9,29.5,21.7,null,null,null,null,null,null,null,null,null,null,null,null,null,28.5,20.5]
[45,56,25,43.9,80.2,"106","107","107","110","103",80.900000000000006,52.7,29.5,21.8,null,null,null,null,null,null,null,null,null,null,null,null,null,28.7,20.7]
[45,58,24.9,43.7,79.599999999999994,"105","105","106","108","101",80.2,52.4,29.5,21.8,null,null,null,null,null,null,null,null,null,null,null,null,null,28.9,20.9]
[45,60,24.9,43.5,78.900000000000006,"103","103","104","107",99.9,79.3,52.1,29.4,21.8,null,null,null,null,null,null,null,null,null,null,null,null,null,29.1,21.1]
[45,90,21.2,35.9,61.4,74.8,69.8,68.5,70.900000000000006,69.7,59.5,41.7,25,19.100000000000001]
[60,0,16.8,32.799999999999997,69.3,"106","122","127","128","110",75.400000000000006,42.1,20.100000000000001,13.3]
[60,30,21.2,39.200000000000003,77,"110","119","122","124","110",80.3,48.8,25.3,17.600000000000001,null,null,null,null,null,null,null,null,null,null,null,null,null,29.2,21.3]
[60,32,21.3,39.4,77.099999999999994,"109","118","121","123","109",80.3,48.9,25.5,17.7,null,null,null,null,null,null,null,null,null,null,null,null,null,29.3,21.4]
[60,34,21.5,39.6,77.099999999999994,"109","117","120","122","109",80.2,49,25.6,17.899999999999999,null,null,null,null,null,null,null,null,null,null,null,null,null,29.4,21.5]
[60,36,21.6,39.700000000000003,77.099999999999994,"109","116","119","121","108",80,49.1,25.8,18,null,null,null,null,null,null,null,null,null,null,null,null,null,29.5,21.6]
[60,38,21.7,39.799999999999997,77,"108","115","118","120","108",79.8,49.1,25.9,18.100000000000001,null,null,null,null,null,null,null,null,null,null,null,null,null,29.5,21.7]
[60,40,21.8,39.9,76.8,"108","114","117","119","107",79.400000000000006,49.1,26,18.2,null,null,null,null,null,null,null,null,null,null,null,null,null,29.5,21.7]
[60,42,21.8,39.9,76.599999999999994,"107","113","116","118","106",79,49,26,18.3,null,null,null,null,null,null,null,null,null,null,null,null,null,29.5,21.8]
[60,44,21.9,39.9,76.400000000000006,"106","112","115","117","105",78.599999999999994,48.9,26.1,18.399999999999999,null,null,null,null,null,null,null,null,null,null,null,null,null,29.5,21.8]
[60,46,21.9,39.799999999999997,76.099999999999994,"106","111","114","116","104",78,48.8,26.1,18.399999999999999,null,null,null,null,null,null,null,null,null,null,null,null,null,29.4,21.8]
[60,48,21.9,39.700000000000003,75.7,"105","110","112","114","103",77.5,48.6,26.1,18.5,null,null,null,null,null,null,null,null,null,null,null,null,null,25.3,17.600000000000001]
[60,50,21.9,39.6,75.3,"104","108","111","113","102",76.900000000000006,48.4,26.1,18.5,null,null,null,null,null,null,null,null,null,null,null,null,null,25.5,17.7]
[60,52,21.8,39.5,74.8,"103","107","109","111","101",76.2,48.1,26,18.5,null,null,null,null,null,null,null,null,null,null,null,null,null,25.6,17.899999999999999]
[60,54,21.8,39.299999999999997,74.2,"102","106","108","110",99.6,75.5,47.8,25.9,18.399999999999999,null,null,null,null,null,null,null,null,null,null,null,null,null,25.8,18]
[60,56,21.7,39.1,73.599999999999994,"101","104","106","108",98.4,74.8,47.4,25.8,18.399999999999999,null,null,null,null,null,null,null,null,null,null,null,null,null,25.9,18.100000000000001]
[60,58,21.6,38.799999999999997,72.900000000000006,99.4,"103","104","106",97,74,47.1,25.7,18.3,null,null,null,null,null,null,null,null,null,null,null,null,null,26,18.2]
[60,60,21.5,38.5,72.2,98.1,"101","103","105",95.6,73.099999999999994,46.7,25.6,18.3,null,null,null,null,null,null,null,null,null,null,null,null,null,26,18.3]
[60,90,17.399999999999999,30.6,54.9,71.2,70.099999999999994,68.8,70.7,67.599999999999994,54,36.1,20.9,15.2]
[75,0,16.8,32.799999999999997,69.3,"106","122","127","128","110",75.400000000000006,42.1,20.100000000000001,13.3]
[75,30,18.899999999999999,35.700000000000003,71.599999999999994,"105","116","120","121","105",75.400000000000006,44.8,22.7,15.3,null,null,null,null,null,null,null,null,null,null,null,null,null,26.1,18.399999999999999]
[75,32,18.899999999999999,35.700000000000003,71.5,"104","115","119","120","105",75.099999999999994,44.7,22.8,15.4,null,null,null,null,null,null,null,null,null,null,null,null,null,26.1,18.399999999999999]
[75,34,19,35.700000000000003,71.3,"104","114","118","119","104",74.7,44.6,22.8,15.4,null,null,null,null,null,null,null,null,null,null,null,null,null,26.1,18.5]
[75,36,19,35.700000000000003,71.2,"103","113","117","118","103",74.3,44.6,22.8,15.4,null,null,null,null,null,null,null,null,null,null,null,null,null,26.1,18.5]
[75,38,19,35.6,70.900000000000006,"103","112","116","117","103",73.8,44.5,22.8,15.4,null,null,null,null,null,null,null,null,null,null,null,null,null,26,18.5]
[75,40,18.899999999999999,35.5,70.599999999999994,"102","111","115","116","102",73.3,44.4,22.8,15.4,null,null,null,null,null,null,null,null,null,null,null,null,null,25.9,18.399999999999999]
[75,42,18.899999999999999,35.4,70.2,"101","110","114","115","101",73,44.2,22.8,15.4,null,null,null,null,null,null,null,null,null,null,null,null,null,25.8,18.399999999999999]
[75,44,18.899999999999999,35.299999999999997,69.8,"100","109","112","114",99.7,72.5,43.9,22.7,15.4,null,null,null,null,null,null,null,null,null,null,null,null,null,25.7,18.3]
[75,46,18.8,35.1,69.3,99.5,"107","111","112",99,71.900000000000006,43.7,22.6,15.3,null,null,null,null,null,null,null,null,null,null,null,null,null,25.6,18.3]
[75,48,18.7,34.9,68.7,98.7,"106","110","111",98,71.3,43.4,22.5,15.3,null,null,null,null,null,null,null,null,null,null,null,null,null,22.7,15.3]
[75,50,18.600000000000001,34.700000000000003,68.2,97.7,"105","108","110",96.8,70.599999999999994,43,22.4,15.2,null,null,null,null,null,null,null,null,null,null,null,null,null,22.8,15.4]
[75,52,18.5,34.5,67.599999999999994,96.6,"104","107","108",95.6,69.8,42.7,22.3,15.1,null,null,null,null,null,null,null,null,null,null,null,null,null,22.8,15.4]
[75,54,18.399999999999999,34.200000000000003,66.900000000000006,95.4,"102","105","107",94.3,69,42.3,22.1,15.1,null,null,null,null,null,null,null,null,null,null,null,null,null,22.8,15.4]
[75,56,18.2,33.9,66.2,94.2,"101","104","105",93,68.2,41.9,21.9,14.9,null,null,null,null,null,null,null,null,null,null,null,null,null,22.8,15.4]
[75,58,18.100000000000001,33.6,65.5,92.9,99.2,"102","103",91.6,67.3,41.4,21.7,14.8,null,null,null,null,null,null,null,null,null,null,null,null,null,22.8,15.4]
[75,60,17.899999999999999,33.299999999999997,64.7,91.6,97.6,"100","102",90.2,66.400000000000006,40.9,21.5,14.7,null,null,null,null,null,null,null,null,null,null,null,null,null,22.8,15.4]
[75,90,13.7,25.2,47.8,65.7,67.599999999999994,68.900000000000006,70.3,63.7,47.8,30.4,16.8,11.4]
[90,0,16.8,32.799999999999997,69.3,"106","122","127","128","110",75.400000000000006,42.1,20.100000000000001,13.3]
[90,30,16.600000000000001,32,65.900000000000006,99.3,"112","117","118","101",69.900000000000006,40.6,20,13.1,null,null,null,null,null,null,null,null,null,null,null,null,null,22.7,15.4]
[90,32,16.600000000000001,31.8,65.599999999999994,98.5,"111","116","116",99.9,69.3,40.5,20,13.1,null,null,null,null,null,null,null,null,null,null,null,null,null,22.6,15.3]
[90,34,16.5,31.7,65.2,97.7,"110","115","116",98.9,68.900000000000006,40.200000000000003,19.899999999999999,13,null,null,null,null,null,null,null,null,null,null,null,null,null,22.5,15.3]
[90,36,16.399999999999999,31.6,64.7,96.9,"109","114","115",97.8,68.400000000000006,39.9,19.8,13,null,null,null,null,null,null,null,null,null,null,null,null,null,22.4,15.2]
[90,38,16.3,31.4,64.2,96.1,"108","113","113",96.8,67.900000000000006,39.6,19.7,12.9,null,null,null,null,null,null,null,null,null,null,null,null,null,22.3,15.1]
[90,40,16.2,31.2,63.7,95.3,"107","112","112",96,67.3,39.299999999999997,19.600000000000001,12.8,null,null,null,null,null,null,null,null,null,null,null,null,null,22.1,15.1]
[90,42,16.100000000000001,30.9,63.2,94.5,"106","110","111",95.1,66.5,39,19.5,12.7,null,null,null,null,null,null,null,null,null,null,null,null,null,21.9,14.9]
[90,44,15.9,30.7,62.7,93.5,"104","109","109",94.1,65.8,38.6,19.3,12.6,null,null,null,null,null,null,null,null,null,null,null,null,null,21.7,14.8]
[90,46,15.8,30.4,62.1,92.5,"103","108","108",92.9,65.099999999999994,38.299999999999997,19.2,12.5,null,null,null,null,null,null,null,null,null,null,null,null,null,21.5,14.7]
[90,48,15.7,30.1,61.5,91.4,"102","107","107",91.7,64.3,37.9,19,12.4,null,null,null,null,null,null,null,null,null,null,null,null,null,20,13.1]
[90,50,15.5,29.8,60.8,90.3,"101","105","105",90.4,63.6,37.5,18.8,12.2,null,null,null,null,null,null,null,null,null,null,null,null,null,20,13.1]
[90,52,15.3,29.5,60,89.1,99.2,"104","104",89.2,62.9,37,18.600000000000001,12.1,null,null,null,null,null,null,null,null,null,null,null,null,null,19.899999999999999,13]
[90,54,15.2,29.1,59.3,88,97.7,"102","102",88,62,36.6,18.399999999999999,11.9,null,null,null,null,null,null,null,null,null,null,null,null,null,19.8,13]
[90,56,15,28.7,58.5,86.8,96.2,"100","101",86.8,61.1,36.1,18.2,11.8,null,null,null,null,null,null,null,null,null,null,null,null,null,19.7,12.9]
[90,58,14.8,28.4,57.6,85.6,94.6,98.7,99,85.4,60.2,35.6,17.899999999999999,11.6,null,null,null,null,null,null,null,null,null,null,null,null,null,19.600000000000001,12.8]
[90,60,14.6,28,56.8,84.2,93,96.8,97.4,84,59.3,35.1,17.7,11.4,null,null,null,null,null,null,null,null,null,null,null,null,null,19.5,12.7]
[90,90,10.3,20.100000000000001,40.200000000000003,58.8,63.3,65.7,66.599999999999994,58.2,41.4,25.1,12.9,8.0500000000000007]
[105,0,16.8,32.799999999999997,69.3,"106","122","127","128","110",75.400000000000006,42.1,20.100000000000001,13.3]
[105,30,14.5,28.3,59.9,93.1,"108","114","114",95.4,64.3,36.4,17.5,11.2,null,null,null,null,null,null,null,null,null,null,null,null,null,19.3,12.6]
[105,32,14.4,28,59.3,92.1,"107","113","112",94.2,63.6,36,17.399999999999999,11.1,null,null,null,null,null,null,null,null,null,null,null,null,null,19.2,12.5]
[105,34,14.3,27.8,58.7,91.1,"106","112","111",93,63,35.6,17.2,11,null,null,null,null,null,null,null,null,null,null,null,null,null,19,12.4]
[105,36,14.1,27.5,58,90.1,"105","111","110",91.9,62.2,35.200000000000003,17,10.8,null,null,null,null,null,null,null,null,null,null,null,null,null,18.8,12.2]
[105,38,13.9,27.2,57.4,89.1,"103","109","109",90.8,61.3,34.799999999999997,16.8,10.7,null,null,null,null,null,null,null,null,null,null,null,null,null,18.600000000000001,12.1]
[105,40,13.8,26.9,56.7,88.1,"102","108","107",89.7,60.5,34.4,16.7,10.6,null,null,null,null,null,null,null,null,null,null,null,null,null,18.399999999999999,11.9]
[105,42,13.6,26.6,56.1,86.9,"101","106","106",88.5,59.8,34,16.5,10.4,null,null,null,null,null,null,null,null,null,null,null,null,null,18.2,11.8]
[105,44,13.4,26.3,55.3,85.8,99.5,"105","105",87.2,59.1,33.5,16.3,10.3,null,null,null,null,null,null,null,null,null,null,null,null,null,17.899999999999999,11.6]
[105,46,13.2,25.9,54.6,84.6,98.1,"104","103",86,58.3,33,16,10.1,null,null,null,null,null,null,null,null,null,null,null,null,null,17.7,11.4]
[105,48,13,25.6,53.8,83.5,96.6,"102","102",84.8,57.4,32.5,15.8,9.92,null,null,null,null,null,null,null,null,null,null,null,null,null,17.5,11.2]
[105,50,12.7,25.2,53,82.4,95.2,"101",99.9,83.6,56.5,32,15.6,9.73,null,null,null,null,null,null,null,null,null,null,null,null,null,17.399999999999999,11.1]
[105,52,12.5,24.8,52.2,81.099999999999994,93.7,98.9,98.4,82.4,55.6,31.5,15.3,9.5500000000000007,null,null,null,null,null,null,null,null,null,null,null,null,null,17.2,11]
[105,54,12.3,24.4,51.4,79.8,92.2,97.3,96.8,81,54.7,31,15.1,9.36,null,null,null,null,null,null,null,null,null,null,null,null,null,17,10.8]
[105,56,12.1,24,50.5,78.5,90.7,95.7,95.2,79.599999999999994,53.7,30.5,14.8,9.18,null,null,null,null,null,null,null,null,null,null,null,null,null,16.8,10.7]
[105,58,11.9,23.5,49.7,77.099999999999994,89.1,94,93.5,78.2,52.8,29.9,14.5,9,null,null,null,null,null,null,null,null,null,null,null,null,null,16.7,10.6]
[105,60,11.6,23.1,48.8,75.7,87.5,92.3,91.8,76.8,51.8,29.4,14.2,8.81,null,null,null,null,null,null,null,null,null,null,null,null,null,16.5,10.4]
[105,90,7.55,15.5,33.1,52.2,59.3,62.4,62.6,52.7,35.299999999999997,19.8,9.67,5.56]
[120,0,16.8,32.799999999999997,69.3,"106","122","127","128","110",75.400000000000006,42.1,20.100000000000001,13.3]
[120,30,12.8,24.9,53.9,86.7,"104","111","110",89.8,58.7,32.200000000000003,15.3,9.74,null,null,null,null,null,null,null,null,null,null,null,null,null,16.3,10.3]
[120,32,12.6,24.5,53,85.4,"102","110","108",88.3,57.7,31.7,15.1,9.6,null,null,null,null,null,null,null,null,null,null,null,null,null,16,10.1]
[120,34,12.4,24.2,52.1,84,"101","108","107",86.9,56.7,31.2,14.9,9.4600000000000009,null,null,null,null,null,null,null,null,null,null,null,null,null,15.8,9.92]
[120,36,12.2,23.8,51.3,82.7,99.6,"106","105",85.5,55.8,30.7,14.6,9.3000000000000007,null,null,null,null,null,null,null,null,null,null,null,null,null,15.6,9.73]
[120,38,12,23.5,50.5,81.400000000000006,98.1,"105","103",84.1,54.9,30.2,14.4,9.1300000000000008,null,null,null,null,null,null,null,null,null,null,null,null,null,15.3,9.5500000000000007]
[120,40,11.8,23.1,49.7,80.2,96.6,"103","102",82.8,54,29.7,14.2,8.9700000000000006,null,null,null,null,null,null,null,null,null,null,null,null,null,15.1,9.36]
[120,42,11.6,22.7,48.8,78.8,95.1,"102","100",81.3,53.1,29.2,13.9,8.8000000000000007,null,null,null,null,null,null,null,null,null,null,null,null,null,14.8,9.18]
[120,44,11.4,22.3,48,77.5,93.6,99.9,98.6,80,52.1,28.7,13.7,8.6199999999999992,null,null,null,null,null,null,null,null,null,null,null,null,null,14.5,9]
[120,46,11.2,22,47.2,76.2,92.1,98.5,97,78.7,51.2,28.2,13.4,8.43,null,null,null,null,null,null,null,null,null,null,null,null,null,14.2,8.81]
[120,48,10.9,21.6,46.3,74.900000000000006,90.5,96.8,95.2,77.400000000000006,50.3,27.6,13.2,8.25,null,null,null,null,null,null,null,null,null,null,null,null,null,15.3,9.74]
[120,50,10.7,21.2,45.4,73.599999999999994,89,95.1,93.6,76,49.3,27.1,12.9,8.06,null,null,null,null,null,null,null,null,null,null,null,null,null,15.1,9.6]
[120,52,10.5,20.7,44.6,72.2,87.4,93.4,91.9,74.5,48.4,26.5,12.7,7.87,null,null,null,null,null,null,null,null,null,null,null,null,null,14.9,9.4600000000000009]
[120,54,10.199999999999999,20.3,43.7,70.8,85.8,91.7,90.2,73.099999999999994,47.4,26,12.4,7.68,null,null,null,null,null,null,null,null,null,null,null,null,null,14.6,9.3000000000000007]
[120,56,9.99,19.899999999999999,42.8,69.400000000000006,84.1,90,88.5,71.7,46.4,25.4,12.1,7.49,null,null,null,null,null,null,null,null,null,null,null,null,null,14.4,9.1300000000000008]
[120,58,9.75,19.399999999999999,41.9,68.099999999999994,82.5,88.2,86.8,70.2,45.5,24.8,11.8,7.3,null,null,null,null,null,null,null,null,null,null,null,null,null,14.2,8.9700000000000006]
[120,60,9.51,18.899999999999999,41,66.599999999999994,80.8,86.5,84.9,68.8,44.5,24.3,11.5,7.11,null,null,null,null,null,null,null,null,null,null,null,null,null,13.9,8.8000000000000007]
[120,90,5.72,11.8,26.6,43.9,52.7,56.3,56,45.4,28.8,15.4,7.21,4.08]
[135,0,16.8,32.799999999999997,69.3,"106","122","127","128","110",75.400000000000006,42.1,20.100000000000001,13.3]
[135,30,11.6,22,48,80.3,"100","108","106",84.5,53.1,28.5,13.6,9.02,null,null,null,null,null,null,null,null,null,null,null,null,null,13.7,8.6199999999999992]
[135,32,11.4,21.7,46.9,78.599999999999994,98.2,"106","104",82.6,51.9,27.9,13.4,8.8800000000000008,null,null,null,null,null,null,null,null,null,null,null,null,null,13.4,8.43]
[135,34,11.3,21.2,45.9,76.8,96.3,"104","102",80.7,50.8,27.3,13.2,8.7200000000000006,null,null,null,null,null,null,null,null,null,null,null,null,null,13.2,8.25]
[135,36,11.1,20.8,44.9,75.099999999999994,94.5,"102",100,79,49.6,26.8,13,8.57,null,null,null,null,null,null,null,null,null,null,null,null,null,12.9,8.06]
[135,38,10.9,20.5,43.9,73.5,92.7,"100",98,77.3,48.5,26.2,12.7,8.4,null,null,null,null,null,null,null,null,null,null,null,null,null,12.7,7.87]
[135,40,10.7,20.100000000000001,42.9,72,90.8,98.4,96,75.5,47.5,25.7,12.5,8.23,null,null,null,null,null,null,null,null,null,null,null,null,null,12.4,7.68]
[135,42,10.4,19.7,42,70.400000000000006,89.1,96.4,94,73.900000000000006,46.4,25.1,12.2,8.0500000000000007,null,null,null,null,null,null,null,null,null,null,null,null,null,12.1,7.49]
[135,44,10.199999999999999,19.2,41.1,68.8,87.3,94.6,92.1,72.400000000000006,45.4,24.6,12,7.87,null,null,null,null,null,null,null,null,null,null,null,null,null,11.8,7.3]
[135,46,9.99,18.8,40.200000000000003,67.400000000000006,85.5,92.6,90.2,70.8,44.4,24,11.7,7.7,null,null,null,null,null,null,null,null,null,null,null,null,null,11.5,7.11]
[135,48,9.76,18.399999999999999,39.299999999999997,65.900000000000006,83.8,90.8,88.3,69.2,43.4,23.5,11.5,7.51,null,null,null,null,null,null,null,null,null,null,null,null,null,13.6,9.02]
[135,50,9.5299999999999994,18,38.4,64.400000000000006,82.1,88.9,86.4,67.8,42.4,22.9,11.2,7.33,null,null,null,null,null,null,null,null,null,null,null,null,null,13.4,8.8800000000000008]
[135,52,9.3000000000000007,17.600000000000001,37.6,63,80.3,87,84.5,66.3,41.4,22.4,10.9,7.13,null,null,null,null,null,null,null,null,null,null,null,null,null,13.2,8.7200000000000006]
[135,54,9.0500000000000007,17.100000000000001,36.700000000000003,61.5,78.5,85.1,82.7,64.7,40.4,21.8,10.6,6.92,null,null,null,null,null,null,null,null,null,null,null,null,null,13,8.57]
[135,56,8.7899999999999991,16.7,35.799999999999997,60.1,76.8,83.3,80.8,63.3,39.5,21.3,10.4,6.72,null,null,null,null,null,null,null,null,null,null,null,null,null,12.7,8.4]
[135,58,8.5399999999999991,16.2,34.9,58.6,74.900000000000006,81.400000000000006,78.900000000000006,61.8,38.5,20.7,10.1,6.52,null,null,null,null,null,null,null,null,null,null,null,null,null,12.5,8.23]
[135,60,8.2899999999999991,15.8,34,57.1,73.099999999999994,79.599999999999994,77,60.3,37.5,20.2,9.7899999999999991,6.32,null,null,null,null,null,null,null,null,null,null,null,null,null,12.2,8.0500000000000007]
[135,90,4.78,9.39,21,35.700000000000003,46.7,50.6,49.3,37.700000000000003,23,12.1,5.77,3.55]
[150,0,16.8,32.799999999999997,69.3,"106","122","127","128","110",75.400000000000006,42.1,20.100000000000001,13.3]
[150,30,11.3,19.899999999999999,42.6,74.599999999999994,97.6,"107","104",80.099999999999994,48,25.3,12.9,8.94,null,null,null,null,null,null,null,null,null,null,null,null,null,12,7.87]
[150,32,11.1,19.600000000000001,41.3,72.2,95.3,"105","102",77.599999999999994,46.4,24.8,12.7,8.7899999999999991,null,null,null,null,null,null,null,null,null,null,null,null,null,11.7,7.7]
[150,34,11,19.3,40.1,70,92.9,"102",99.2,75.2,45,24.2,12.5,8.64,null,null,null,null,null,null,null,null,null,null,null,null,null,11.5,7.51]
[150,36,10.8,18.899999999999999,38.9,67.8,90.5,100,96.6,72.900000000000006,43.7,23.7,12.3,8.48,null,null,null,null,null,null,null,null,null,null,null,null,null,11.2,7.33]
[150,38,10.6,18.600000000000001,38,65.7,88,97.6,93.9,70.599999999999994,42.5,23.2,12.1,8.32,null,null,null,null,null,null,null,null,null,null,null,null,null,10.9,7.13]
[150,40,10.4,18.2,37,63.7,85.6,95.1,91.3,68.400000000000006,41.3,22.7,11.9,8.15,null,null,null,null,null,null,null,null,null,null,null,null,null,10.6,6.92]
[150,42,10.1,17.8,36.1,61.8,83.3,92.6,88.6,66.400000000000006,40.200000000000003,22.2,11.6,7.98,null,null,null,null,null,null,null,null,null,null,null,null,null,10.4,6.72]
[150,44,9.92,17.5,35.200000000000003,60.1,81,90,86,64.5,39.200000000000003,21.7,11.4,7.8,null,null,null,null,null,null,null,null,null,null,null,null,null,10.1,6.52]
[150,46,9.6999999999999993,17.100000000000001,34.299999999999997,58.4,78.8,87.5,83.4,62.7,38.200000000000003,21.2,11.1,7.62,null,null,null,null,null,null,null,null,null,null,null,null,null,9.7899999999999991,6.32]
[150,48,9.4700000000000006,16.7,33.5,56.8,76.7,85,81,61,37.200000000000003,20.7,10.9,7.44,null,null,null,null,null,null,null,null,null,null,null,null,null,12.9,8.94]
[150,50,9.24,16.3,32.6,55.3,74.7,82.6,78.7,59.3,36.200000000000003,20.2,10.6,7.25,null,null,null,null,null,null,null,null,null,null,null,null,null,12.7,8.7899999999999991]
[150,52,9,15.9,31.8,53.8,72.8,80.400000000000006,76.599999999999994,57.7,35.299999999999997,19.7,10.3,7.06,null,null,null,null,null,null,null,null,null,null,null,null,null,12.5,8.64]
[150,54,8.76,15.5,31,52.2,70.8,78.099999999999994,74.5,56.1,34.299999999999997,19.2,10.1,6.87,null,null,null,null,null,null,null,null,null,null,null,null,null,12.3,8.48]
[150,56,8.52,15.1,30.2,50.8,68.900000000000006,76,72.400000000000006,54.6,33.4,18.7,9.7899999999999991,6.68,null,null,null,null,null,null,null,null,null,null,null,null,null,12.1,8.32]
[150,58,8.2799999999999994,14.7,29.3,49.4,67,73.900000000000006,70.400000000000006,53.1,32.5,18.2,9.52,6.48,null,null,null,null,null,null,null,null,null,null,null,null,null,11.9,8.15]
[150,60,8.0399999999999991,14.3,28.5,48,65,71.900000000000006,68.400000000000006,51.5,31.6,17.600000000000001,9.24,6.29,null,null,null,null,null,null,null,null,null,null,null,null,null,11.6,7.98]
[150,90,4.6100000000000003,8.43,17.100000000000001,28.8,39.700000000000003,43.3,41.7,31.1,18.8,10.5,5.34,3.55]
[165,0,16.8,32.799999999999997,69.3,"106","122","127","128","110",75.400000000000006,42.1,20.100000000000001,13.3]
[165,30,11.3,19.2,38.1,71,97,"107","104",78.099999999999994,44,23.3,13,8.94,null,null,null,null,null,null,null,null,null,null,null,null,null,11.4,7.8]
[165,32,11.2,18.899999999999999,36.5,68.099999999999994,94.6,"104","101",75.2,42,22.9,12.7,8.7899999999999991,null,null,null,null,null,null,null,null,null,null,null,null,null,11.1,7.62]
[165,34,11,18.7,35.200000000000003,65.099999999999994,92,"102",98.7,72.400000000000006,40.200000000000003,22.5,12.5,8.64,null,null,null,null,null,null,null,null,null,null,null,null,null,10.9,7.44]
[165,36,10.8,18.5,34.200000000000003,62.2,89.4,99.7,96,69.5,38.5,22.2,12.3,8.48,null,null,null,null,null,null,null,null,null,null,null,null,null,10.6,7.25]
[165,38,10.6,18.2,33.299999999999997,59.4,86.7,97.2,93.2,66.5,37.1,21.9,12.1,8.32,null,null,null,null,null,null,null,null,null,null,null,null,null,10.3,7.06]
[165,40,10.4,17.8,32.6,56.7,83.9,94.5,90.3,63.6,36,21.5,11.8,8.15,null,null,null,null,null,null,null,null,null,null,null,null,null,10.1,6.87]
[165,42,10.1,17.5,31.9,54.2,81,91.8,87.3,60.8,35,21.1,11.6,7.98,null,null,null,null,null,null,null,null,null,null,null,null,null,9.7899999999999991,6.68]
[165,44,9.92,17.100000000000001,31.2,51.9,78.2,89.1,84.3,58.1,34.1,20.6,11.4,7.8,null,null,null,null,null,null,null,null,null,null,null,null,null,9.52,6.48]
[165,46,9.6999999999999993,16.7,30.6,49.9,75.3,86.2,81.099999999999994,55.6,33.299999999999997,20.2,11.1,7.62,null,null,null,null,null,null,null,null,null,null,null,null,null,9.24,6.29]
[165,48,9.4700000000000006,16.399999999999999,29.9,48.2,72.400000000000006,83.3,78,53.5,32.5,19.7,10.8,7.44,null,null,null,null,null,null,null,null,null,null,null,null,null,13,8.94]
[165,50,9.24,16,29.2,46.7,69.599999999999994,80.3,74.900000000000006,51.5,31.6,19.3,10.6,7.25,null,null,null,null,null,null,null,null,null,null,null,null,null,12.7,8.7899999999999991]
[165,52,9,15.6,28.4,45.3,67.099999999999994,77.400000000000006,71.8,49.7,30.8,18.8,10.3,7.06,null,null,null,null,null,null,null,null,null,null,null,null,null,12.5,8.64]
[165,54,8.76,15.2,27.7,44,64.7,74.5,68.900000000000006,48.1,30,18.3,10,6.87,null,null,null,null,null,null,null,null,null,null,null,null,null,12.3,8.48]
[165,56,8.52,14.8,27,42.7,62.3,71.7,66.2,46.6,29.2,17.899999999999999,9.77,6.68,null,null,null,null,null,null,null,null,null,null,null,null,null,12.1,8.32]
[165,58,8.2799999999999994,14.4,26.2,41.4,60.1,69,63.7,45.1,28.4,17.399999999999999,9.5,6.48,null,null,null,null,null,null,null,null,null,null,null,null,null,11.8,8.15]
[165,60,8.0399999999999991,14,25.5,40.1,57.9,66.599999999999994,61.2,43.7,27.6,16.899999999999999,9.23,6.29,null,null,null,null,null,null,null,null,null,null,null,null,null,11.6,7.98]
[165,90,4.6100000000000003,8.31,15.4,23.6,33.9,37.700000000000003,35.299999999999997,25.7,16.5,10.1,5.34,3.55]
[180,0,16.8,32.799999999999997,69.3,"106","122","127","128","110",75.400000000000006,42.1,20.100000000000001,13.3]
[180,30,11.3,19.2,36,70.2,97.7,"107","105",78.3,42.9,22.6,13,8.94,null,null,null,null,null,null,null,null,null,null,null,null,null,11.4,7.8]
[180,32,11.2,19.100000000000001,34.299999999999997,67.2,95.2,"105","102",75.400000000000006,40.5,22.4,12.7,8.7899999999999991,null,null,null,null,null,null,null,null,null,null,null,null,null,11.1,7.62]
[180,34,11,18.8,33.1,64,92.7,"103",99.5,72.5,38.299999999999997,22.2,12.5,8.64,null,null,null,null,null,null,null,null,null,null,null,null,null,10.8,7.44]
[180,36,10.8,18.5,32.200000000000003,60.9,90.1,"100",96.8,69.5,36.200000000000003,22,12.3,8.48,null,null,null,null,null,null,null,null,null,null,null,null,null,10.6,7.25]
[180,38,10.6,18.2,31.4,57.7,87.4,97.7,94,66.400000000000006,34.700000000000003,21.8,12.1,8.32,null,null,null,null,null,null,null,null,null,null,null,null,null,10.3,7.06]
[180,40,10.4,17.8,30.8,54.6,84.6,95.1,91.2,63.3,33.6,21.4,11.8,8.15,null,null,null,null,null,null,null,null,null,null,null,null,null,10,6.87]
[180,42,10.1,17.5,30.5,51.6,81.7,92.4,88.2,60.2,32.6,21,11.6,7.98,null,null,null,null,null,null,null,null,null,null,null,null,null,9.77,6.68]
[180,44,9.92,17.100000000000001,30.1,48.8,78.8,89.6,85.1,57.2,31.8,20.6,11.4,7.8,null,null,null,null,null,null,null,null,null,null,null,null,null,9.5,6.48]
[180,46,9.6999999999999993,16.7,29.6,46.4,75.8,86.7,81.900000000000006,54.2,31.2,20.100000000000001,11.1,7.62,null,null,null,null,null,null,null,null,null,null,null,null,null,9.23,6.29]
[180,48,9.4700000000000006,16.399999999999999,29,44.3,72.7,83.8,78.7,51.4,30.7,19.7,10.8,7.44,null,null,null,null,null,null,null,null,null,null,null,null,null,13,8.94]
[180,50,9.24,16,28.3,42.5,69.7,80.7,75.400000000000006,49,30,19.2,10.6,7.25,null,null,null,null,null,null,null,null,null,null,null,null,null,12.7,8.7899999999999991]
[180,52,9,15.6,27.7,41.1,66.8,77.7,72.099999999999994,46.9,29.3,18.8,10.3,7.06,null,null,null,null,null,null,null,null,null,null,null,null,null,12.5,8.64]
[180,54,8.76,15.2,27,39.9,64,74.599999999999994,68.900000000000006,45.1,28.5,18.3,10,6.87,null,null,null,null,null,null,null,null,null,null,null,null,null,12.3,8.48]
[180,56,8.52,14.8,26.3,38.799999999999997,61.3,71.5,65.8,43.4,27.8,17.8,9.77,6.68,null,null,null,null,null,null,null,null,null,null,null,null,null,12.1,8.32]
[180,58,8.2799999999999994,14.4,25.6,37.700000000000003,58.8,68.599999999999994,62.9,41.8,27.1,17.399999999999999,9.5,6.48,null,null,null,null,null,null,null,null,null,null,null,null,null,11.8,8.15]
[180,60,8.0399999999999991,14,24.9,36.5,56.3,65.8,60.1,40.4,26.3,16.899999999999999,9.23,6.29,null,null,null,null,null,null,null,null,null,null,null,null,null,11.6,7.98]
[180,90,4.6100000000000003,8.31,15.1,21.7,31.9,35.5,32.799999999999997,23.8,16,10.1,5.34,3.55,null,null,null,null,null,null,null,null,null,null,null,null,null,11.4,7.8]
[null,null,null,null,null,null,null,null,null,null,null,null,null,null,null,null,null,null,null,null,null,null,null,null,null,null,null,11.1,7.62]
[null,null,null,null,null,null,null,null,null,null,null,null,null,null,null,null,null,null,null,null,null,null,null,null,null,null,null,10.8,7.44]
[null,null,null,null,null,null,null,null,null,null,null,null,null,null,null,null,null,null,null,null,null,null,null,null,null,null,null,10.6,7.25]
[null,null,null,null,null,null,null,null,null,null,null,null,null,null,null,null,null,null,null,null,null,null,null,null,null,null,null,10.3,7.06]
[null,null,null,null,null,null,null,null,null,null,null,null,null,null,null,null,null,null,null,null,null,null,null,null,null,null,null,10,6.87]
[null,null,null,null,null,null,null,null,null,null,null,null,null,null,null,null,null,null,null,null,null,null,null,null,null,null,null,9.77,6.68]
[null,null,null,null,null,null,null,null,null,null,null,null,null,null,null,null,null,null,null,null,null,null,null,null,null,null,null,9.5,6.48]
[null,null,null,null,null,null,null,null,null,null,null,null,null,null,null,null,null,null,null,null,null,null,null,null,null,null,null,9.23,6.29]

{"sheet":"tienenie_NREL","index":2,"n_rows":62,"n_cols":16,"rows_kept":62,"cut":false,"hidden":false,"merged":[[45,0,52,0],[54,0,61,0],[0,0,7,0],[9,0,16,0],[18,0,25,0],[27,0,34,0],[36,0,43,0]]}
["juh"]
[null,"azimut","január","február","marec","apríl","máj","jún","júl","august","september","október","november","december","mes. priemer"]
[null,-7,100,100,83.333333333333329,70.414550000000006,66.666666666666671,50,57.662583333333338,66.666666666666671,83.333333333333329,100,100,99.328000000000003,81.450427777777776,"priemerná redukcia priameho slnečného žiarenia v %"]
[null,null,{"$f":"(100-C3)/100","v":0},{"$f":"(100-D3)/100","v":0},0.16666666666666671,0.29585449999999996,0.33333333333333326,0.5,0.42337416666666661,0.33333333333333326,0.16666666666666671,0,0,6.7199999999999708E-3,0.18549572222222224,"1-priemerná redukcia priameho slnečného žiarenia [bezrozmerne]"]
[null,-90,100,100,91.666666666666671,83.333333333333329,83.333333333333329,75,75,83.333333333333329,91.666666666666671,100,100,100,90.277777777777771,"priemerná redukcia priameho slnečného žiarenia v %"]
[null,null,{"$f":"(100-C5)/100","v":0},{"$f":"(100-D5)/100","v":0},8.3333333333333287E-2,0.16666666666666671,0.16666666666666671,0.25,0.25,0.16666666666666671,8.3333333333333287E-2,0,0,0,9.7222222222222279E-2,"1-priemerná redukcia priameho slnečného žiarenia [bezrozmerne]"]
[null,90,100,100,91.666666666666671,91.666666666666671,83.333333333333329,76.745308333333341,83.333333333333329,83.333333333333329,91.666666666666671,100,100,100,91.812109027777794,"priemerná redukcia priameho slnečného žiarenia v %"]
[null,null,{"$f":"(100-C7)/100","v":0},{"$f":"(100-D7)/100","v":0},8.3333333333333287E-2,8.3333333333333287E-2,0.16666666666666671,0.2325469166666666,0.16666666666666671,0.16666666666666671,8.3333333333333287E-2,0,0,0,8.187890972222206E-2,"1-priemerná redukcia priameho slnečného žiarenia [bezrozmerne]"]
[]
["východ"]
[null,"azimut","január","február","marec","apríl","máj","jún","júl","august","september","október","november","december","mes. priemer"]
[null,-7,40.275912499999997,50,48.979075000000002,41.666666666666664,41.666666666666664,41.666666666666664,41.666666666666664,41.666666666666664,41.666666666666664,45.454545454545453,44.444444444444443,37.5,43.054498116582494,"priemerná redukcia priameho slnečného žiarenia v %"]
[null,null,{"$f":"1-C12/100","v":0.597240875},{"$f":"1-D12/100","v":0.5},0.51020924999999995,0.58333333333333337,0.58333333333333337,0.58333333333333337,0.58333333333333337,0.58333333333333337,0.58333333333333337,0.54545454545454541,0.55555555555555558,0.625,0.56945501883417504,"1-priemerná redukcia priameho slnečného žiarenia [bezrozmerne]"]
[null,-90,75,80,75.254594999999995,66.666666666666671,66.666666666666671,66.666666666666671,66.666666666666671,66.666666666666671,75,72.727272727272734,77.777777777777771,75,72.007748236531995,"priemerná redukcia priameho slnečného žiarenia v %"]
[null,null,{"$f":"1-C14/100","v":0.25},{"$f":"1-D14/100","v":0.19999999999999996},0.24745405000000009,0.33333333333333326,0.33333333333333326,0.33333333333333326,0.33333333333333326,0.33333333333333326,0.25,0.27272727272727271,0.22222222222222232,0.25,0.27992251763468001,"1-priemerná redukcia priameho slnečného žiarenia [bezrozmerne]"]
[null,90,37.5,50,50,41.666666666666664,41.666666666666664,41.666666666666664,41.666666666666664,41.666666666666664,41.666666666666664,45.454545454545453,44.444444444444443,37.5,42.908249158249163,"priemerná redukcia priameho slnečného žiarenia v %"]
[null,null,{"$f":"1-C16/100","v":0.625},{"$f":"1-D16/100","v":0.5},0.5,0.58333333333333337,0.58333333333333337,0.58333333333333337,0.58333333333333337,0.58333333333333337,0.58333333333333337,0.54545454545454541,0.55555555555555558,0.625,0.57091750841750843,"1-priemerná redukcia priameho slnečného žiarenia [bezrozmerne]"]
[]
["západ"]
[null,"azimut","január","február","marec","apríl","máj","jún","júl","august","september","október","november","december","mes. priemer"]
[null,-7,37.5,40,41.666666666666664,41.666666666666664,41.666666666666664,41.666666666666664,41.666666666666664,41.666666666666664,41.666666666666664,42.753899999999994,33.333333333333336,37.5,40.229491666666668,"priemerná redukcia priameho slnečného žiarenia v %"]
[null,null,{"$f":"1-C21/100","v":0.625},0.6,0.58333333333333337,0.58333333333333337,0.58333333333333337,0.58333333333333337,0.58333333333333337,0.58333333333333337,0.58333333333333337,0.57246100000000011,0.66666666666666663,0.625,0.59770508333333328,"1-priemerná redukcia priameho slnečného žiarenia [bezrozmerne]"]
[null,-90,37.5,40,41.666666666666664,41.666666666666664,41.666666666666664,41.666666666666664,41.666666666666664,41.666666666666664,41.666666666666664,45.454545454545453,42.12188888888889,37.5,41.18692508417508,"priemerná redukcia priameho slnečného žiarenia v %"]
[null,null,{"$f":"1-C23/100","v":0.625},{"$f":"1-D23/100","v":0.6},0.58333333333333337,0.58333333333333337,0.58333333333333337,0.58333333333333337,0.58333333333333337,0.58333333333333337,0.58333333333333337,0.54545454545454541,0.57878111111111108,0.625,0.58813074915824926,"1-priemerná redukcia priameho slnečného žiarenia [bezrozmerne]"]
[null,90,75,80,75,75,66.666666666666671,66.666666666666671,66.666666666666671,66.666666666666671,75,78.622418181818176,66.666666666666671,75,72.246312626262622,"priemerná redukcia priameho slnečného žiarenia v %"]
[null,null,{"$f":"1-C25/100","v":0.25},{"$f":"1-D25/100","v":0.19999999999999996},0.25,0.25,0.33333333333333326,0.33333333333333326,0.33333333333333326,0.33333333333333326,0.25,0.21377581818181823,0.33333333333333326,0.25,0.27753687373737379,"1-priemerná redukcia priameho slnečného žiarenia [bezrozmerne]"]
[]
["východ-juh"]
[null,"azimut","január","február","marec","apríl","máj","jún","júl","august","september","október","november","december","mes. priemer"]
[null,-7,100,100,100,91.666666666666671,83.333333333333329,75,82.66258333333333,91.666666666666671,91.666666666666671,100,100,100,92.999659722222233,"priemerná redukcia priameho slnečného žiarenia v %"]
[null,null,{"$f":"1-C30/100","v":0},{"$f":"1-D30/100","v":0},0,8.3333333333333259E-2,0.16666666666666674,0.25,0.17337416666666672,8.3333333333333259E-2,8.3333333333333259E-2,0,0,0,7.0003402777777612E-2,"1-priemerná redukcia priameho slnečného žiarenia [bezrozmerne]"]
[null,-90,100,99.935329999999993,99.956333333333347,100,100,100,100,100,100,100,100,100,99.990971944444439,"priemerná redukcia priameho slnečného žiarenia v %"]
[null,null,{"$f":"1-C32/100","v":0},{"$f":"1-D32/100","v":6.4670000000011107E-4},4.3666666666652976E-4,0,0,0,0,0,0,0,0,0,9.0280555555599662E-5,"1-priemerná redukcia priameho slnečného žiarenia [bezrozmerne]"]
[null,90,100,100,100,91.666666666666671,83.333333333333329,76.745308333333341,83.333333333333329,91.666666666666671,91.666666666666671,100,100,100,93.200997916666665,"priemerná redukcia priameho slnečného žiarenia v %"]
[null,null,{"$f":"1-C34/100","v":0},{"$f":"1-D34/100","v":0},0,8.3333333333333259E-2,0.16666666666666674,0.2325469166666666,0.16666666666666674,8.3333333333333259E-2,8.3333333333333259E-2,0,0,0,6.7990020833333387E-2,"1-priemerná redukcia priameho slnečného žiarenia [bezrozmerne]"]
[]
["juh-západ"]
[null,"azimut","január","február","marec","apríl","máj","jún","júl","august","september","október","november","december","mes. priemer"]
[null,-7,100,100,91.666666666666671,91.666666666666671,83.333333333333329,75,75,83.333333333333329,91.666666666666671,100,100,100,90.972222222222229,"priemerná redukcia priameho slnečného žiarenia v %"]
[null,null,{"$f":"1-C39/100","v":0},{"$f":"1-D39/100","v":0},8.3333333333333259E-2,8.3333333333333259E-2,0.16666666666666674,0.25,0.25,0.16666666666666674,8.3333333333333259E-2,0,0,0,9.0277777777777679E-2,"1-priemerná redukcia priameho slnečného žiarenia [bezrozmerne]"]
[null,-90,100,100,91.666666666666671,91.666666666666671,83.333333333333329,75,75,83.333333333333329,91.666666666666671,100,100,100,90.972222222222229,"priemerná redukcia priameho slnečného žiarenia v %"]
[null,null,{"$f":"1-C41/100","v":0},0,8.3333333333333259E-2,8.3333333333333259E-2,0.16666666666666674,0.25,0.25,0.16666666666666674,8.3333333333333259E-2,0,0,0,9.0277777777777679E-2,"1-priemerná redukcia priameho slnečného žiarenia [bezrozmerne]"]
[null,90,100,100,100,100,100,100,100,100,100,100,100,100,100,"priemerná redukcia priameho slnečného žiarenia v %"]
[null,null,{"$f":"1-C43/100","v":0},0,0,0,0,0,0,0,0,0,0,0,0,"1-priemerná redukcia priameho slnečného žiarenia [bezrozmerne]"]
[]
["vychod-zapad"]
[null,"azimut","január","február","marec","apríl","máj","jún","júl","august","september","október","november","december","mes. priemer"]
[null,-7,49.883175000000001,60,66.666666666666671,58.502719166666658,50,50,50,52.670674999999996,66.666666666666671,63.636363636363633,55.555555555555557,50,56.1318184743266,"priemerná redukcia priameho slnečného žiarenia v %"]
[null,null,{"$f":"1-C48/100","v":0.50116824999999998},{"$f":"1-D48/100","v":0.4},0.33333333333333326,0.41497280833333339,0.5,0.5,0.5,0.47329325,0.33333333333333326,0.36363636363636365,0.44444444444444442,0.5,0.438681815256734,"1-priemerná redukcia priameho slnečného žiarenia [bezrozmerne]"]
[null,-90,62.5,60,66.666666666666671,65.583816666666664,50,50,50,50,66.666666666666671,63.636363636363633,66.666666666666671,62.5,59.518348358585854,"priemerná redukcia priameho slnečného žiarenia v %"]
[null,null,{"$f":"1-C50/100","v":0.375},{"$f":"1-D50/100","v":0.4},0.33333333333333326,0.34416183333333339,0.5,0.5,0.5,0.5,0.33333333333333326,0.36363636363636365,0.33333333333333326,0.375,0.40481651641414151,"1-priemerná redukcia priameho slnečného žiarenia [bezrozmerne]"]
[null,90,58.642499999999998,70,66.666666666666671,59.253874999999994,50,50,50,50,66.666666666666671,63.636363636363633,55.555555555555557,62.5,58.576802293771038,"priemerná redukcia priameho slnečného žiarenia v %"]
[null,null,{"$f":"1-C52/100","v":0.41357500000000003},{"$f":"1-D52/100","v":0.30000000000000004},0.33333333333333326,0.40746125000000011,0.5,0.5,0.5,0.5,0.33333333333333326,0.36363636363636365,0.44444444444444442,0.375,0.41423197706228965,"1-priemerná redukcia priameho slnečného žiarenia [bezrozmerne]"]
[]
["vychod-juh-zapad"]
[null,"azimut","január","február","marec","apríl","máj","jún","júl","august","september","október","november","december","mes. priemer"]
[null,-7,100,100,66.666666666666671,58.502719166666658,50,50,50,52.670674999999996,66.666666666666671,100,100,100,74.542227291666663,"priemerná redukcia priameho slnečného žiarenia v %"]
[null,null,{"$f":"1-C57/100","v":0},{"$f":"1-D57/100","v":0},0.33333333333333326,0.41497280833333339,0.5,0.5,0.5,0.47329325,0.33333333333333326,0,0,0,0.25457772708333337,"1-priemerná redukcia priameho slnečného žiarenia [bezrozmerne]"]
[null,-90,100,100,66.666666666666671,65.583816666666664,50,50,50,50,66.666666666666671,100,100,100,74.909762499999999,"priemerná redukcia priameho slnečného žiarenia v %"]
[null,null,{"$f":"1-C59/100","v":0},{"$f":"1-D59/100","v":0},0.33333333333333326,0.34416183333333339,0.5,0.5,0.5,0.5,0.33333333333333326,0,0,0,0.25090237500000001,"1-priemerná redukcia priameho slnečného žiarenia [bezrozmerne]"]
[null,90,100,100,66.666666666666671,59.253874999999994,50,50,50,50,66.666666666666671,100,100,100,74.382267361111104,"priemerná redukcia priameho slnečného žiarenia v %"]
[null,null,{"$f":"1-C61/100","v":0},{"$f":"1-D61/100","v":0},0.33333333333333326,0.40746125000000011,0.5,0.5,0.5,0.5,0.33333333333333326,0,0,0,0.2561773263888889,"1-priemerná redukcia priameho slnečného žiarenia [bezrozmerne]"]

{"sheet":"data_tienenie","index":3,"n_rows":34,"n_cols":47,"rows_kept":34,"cut":false,"hidden":false,"merged":[[31,3,31,14],[0,17,0,28],[0,2,0,15]]}
[null,null,"Celková el. energia na výstupe z FV panela",null,null,null,null,null,null,null,null,null,null,null,null,null,null,"energia difúzneho slnečného žiarenia s odpočítanými 20% stratami",null,null,null,null,null,null,null,null,null,null,null,null,null,null,null,null,null,null,null,null,null,null,null,null,null,null,"mesačné GHI, PRG, 2016, PVGIS","DHI/GHI","DHI"]
[null,null,"tienenie","január","február","marec","apríl","máj","jún","júl","august","september","október","november","december","azimut",null,16.872,29.375999999999998,48.774000000000008,66.69,89.600000000000009,91.199999999999989,85.28,71.539999999999992,53.76,33.896000000000001,20.423999999999999,14.896000000000001,null,null,null,null,null,null,null,null,null,null,null,null,null,null,null,22.8,0.74,{"$f":"AT2*AS2","v":16.872}]
[null,null,"z východnej strany",{"$f":"($D$34-R3)*AE3+R3","v":7.6256167489680067},{"$f":"($E$34-S3)*AF3+S3","v":14.614331861787047},{"$f":"($F$34-T3)*AG3+T3","v":27.001811953385886},{"$f":"($G$34-U3)*AH3+U3","v":39.572824524060977},{"$f":"($H$34-V3)*AI3+V3","v":48.716357310279356},{"$f":"($I$34-W3)*AJ3+W3","v":50.614938095581962},{"$f":"($J$34-X3)*AK3+X3","v":49.056022523295653},{"$f":"($K$34-Y3)*AL3+Y3","v":41.109668362842839},{"$f":"($L$34-Z3)*AM3+Z3","v":29.048981052834282},{"$f":"($M$34-AA3)*AN3+AA3","v":17.417291567238991},{"$f":"($N$34-AB3)*AO3+AB3","v":9.4501426393469714},{"$f":"($O$34-AC3)*AP3+AC3","v":6.1844334000505494},-7,null,{"$f":"0.8*$R$2*(1-COS(46))/2","v":9.6654825144383913},{"$f":"0.8*$S$2*(1-COS(46))/2","v":16.828663723574095},{"$f":"0.8*$T$2*(1-COS(46))/2","v":27.941218833524079},{"$f":"0.8*$U$2*(1-COS(46))/2","v":38.204778857746348},{"$f":"0.8*$V$2*(1-COS(46))/2","v":51.329257544670455},{"$f":"0.8*$W$2*(1-COS(46))/2","v":52.245851429396708},{"$f":"0.8*$X$2*(1-COS(46))/2","v":48.854454055909557},{"$f":"0.8*$Y$2*(1-COS(46))/2","v":40.983204070822815},{"$f":"0.8*$Z$2*(1-COS(46))/2","v":30.797554526802273},{"$f":"0.8*$AA$2*(1-COS(46))/2","v":19.418041447925777},{"$f":"0.8*$AB$2*(1-COS(46))/2","v":11.700320938530686},{"$f":"0.8*$AC$2*(1-COS(46))/2","v":8.5334890668014634},null,{"$f":"tienenie_NREL!C13","v":0.597240875},{"$f":"tienenie_NREL!D13","v":0.5},{"$f":"tienenie_NREL!E13","v":0.51020924999999995},{"$f":"tienenie_NREL!F13","v":0.58333333333333337},{"$f":"tienenie_NREL!G13","v":0.58333333333333337},{"$f":"tienenie_NREL!H13","v":0.58333333333333337},{"$f":"tienenie_NREL!I13","v":0.58333333333333337},{"$f":"tienenie_NREL!J13","v":0.58333333333333337},{"$f":"tienenie_NREL!K13","v":0.58333333333333337},{"$f":"tienenie_NREL!L13","v":0.54545454545454541},{"$f":"tienenie_NREL!M13","v":0.55555555555555558},{"$f":"tienenie_NREL!N13","v":0.625},null,null,40.799999999999997,0.72,{"$f":"AT3*AS3","v":29.375999999999998}]
[null,null,"z východnej strany",{"$f":"($D$34-R4)*AE4+R4","v":8.8116118858287926},{"$f":"($E$34-S4)*AF4+S4","v":15.942930978859277},{"$f":"($F$34-T4)*AG4+T4","v":27.485601776232269},{"$f":"($G$34-U4)*AH4+U4","v":38.986519238497564},{"$f":"($H$34-V4)*AI4+V4","v":49.836171696446968},{"$f":"($I$34-W4)*AJ4+W4","v":51.313900952931142},{"$f":"($J$34-X4)*AK4+X4","v":48.969636037273041},{"$f":"($K$34-Y4)*AL4+Y4","v":41.055469380548544},{"$f":"($L$34-Z4)*AM4+Z4","v":30.048165895101704},{"$f":"($M$34-AA4)*AN4+AA4","v":18.417666507582382},{"$f":"($N$34-AB4)*AO4+AB4","v":10.800249618857199},{"$f":"($O$34-AC4)*AP4+AC4","v":7.5938668001010976},-90,null,{"$f":"0.8*$R$2*(1-COS(46))/2","v":9.6654825144383913},{"$f":"0.8*$S$2*(1-COS(46))/2","v":16.828663723574095},{"$f":"0.8*$T$2*(1-COS(46))/2","v":27.941218833524079},{"$f":"0.8*$U$2*(1-COS(46))/2","v":38.204778857746348},{"$f":"0.8*$V$2*(1-COS(46))/2","v":51.329257544670455},{"$f":"0.8*$W$2*(1-COS(46))/2","v":52.245851429396708},{"$f":"0.8*$X$2*(1-COS(46))/2","v":48.854454055909557},{"$f":"0.8*$Y$2*(1-COS(46))/2","v":40.983204070822815},{"$f":"0.8*$Z$2*(1-COS(46))/2","v":30.797554526802273},{"$f":"0.8*$AA$2*(1-COS(46))/2","v":19.418041447925777},{"$f":"0.8*$AB$2*(1-COS(46))/2","v":11.700320938530686},{"$f":"0.8*$AC$2*(1-COS(46))/2","v":8.5334890668014634},null,{"$f":"tienenie_NREL!C15","v":0.25},{"$f":"tienenie_NREL!D15","v":0.19999999999999996},{"$f":"tienenie_NREL!E15","v":0.24745405000000009},{"$f":"tienenie_NREL!F15","v":0.33333333333333326},{"$f":"tienenie_NREL!G15","v":0.33333333333333326},{"$f":"tienenie_NREL!H15","v":0.33333333333333326},{"$f":"tienenie_NREL!I15","v":0.33333333333333326},{"$f":"tienenie_NREL!J15","v":0.33333333333333326},{"$f":"tienenie_NREL!K15","v":0.25},{"$f":"tienenie_NREL!L15","v":0.27272727272727271},{"$f":"tienenie_NREL!M15","v":0.22222222222222232},{"$f":"tienenie_NREL!N15","v":0.25},null,null,73.900000000000006,0.66,48.774000000000008]
[null,null,"z východnej strany",{"$f":"($D$34-R5)*AE5+R5","v":7.5308059429143963},{"$f":"($E$34-S5)*AF5+S5","v":14.614331861787047},27.020609416762042,39.572824524060977,48.716357310279356,{"$f":"($I$34-W5)*AJ5+W5","v":50.614938095581962},49.056022523295653,41.109668362842839,29.048981052834282,17.417291567238991,9.4501426393469714,6.1844334000505494,90,null,{"$f":"0.8*$R$2*(1-COS(46))/2","v":9.6654825144383913},16.828663723574095,27.941218833524079,38.204778857746348,51.329257544670455,52.245851429396708,48.854454055909557,40.983204070822815,30.797554526802273,19.418041447925777,11.700320938530686,8.5334890668014634,null,{"$f":"tienenie_NREL!C17","v":0.625},{"$f":"tienenie_NREL!D17","v":0.5},{"$f":"tienenie_NREL!E17","v":0.5},{"$f":"tienenie_NREL!F17","v":0.58333333333333337},{"$f":"tienenie_NREL!G17","v":0.58333333333333337},{"$f":"tienenie_NREL!H17","v":0.58333333333333337},{"$f":"tienenie_NREL!I17","v":0.58333333333333337},{"$f":"tienenie_NREL!J17","v":0.58333333333333337},{"$f":"tienenie_NREL!K17","v":0.58333333333333337},{"$f":"tienenie_NREL!L17","v":0.54545454545454541},{"$f":"tienenie_NREL!M17","v":0.55555555555555558},{"$f":"tienenie_NREL!N17","v":0.625},null,null,117,0.56999999999999995,66.69]
[null,null,"z JV strany",9.6654825144383913,16.828663723574095,27.941218833524079,38.400213952934152,50.582714620558711,51.546888572047536,48.914362796011282,41.001270398254249,30.547758316235416,19.418041447925777,11.700320938530686,8.5334890668014634,-7,null,9.6654825144383913,16.828663723574095,27.941218833524079,38.204778857746348,51.329257544670455,52.245851429396708,48.854454055909557,40.983204070822815,30.797554526802273,19.418041447925777,11.700320938530686,8.5334890668014634,null,{"$f":"tienenie_NREL!C31","v":0},{"$f":"tienenie_NREL!D31","v":0},{"$f":"tienenie_NREL!E31","v":0},{"$f":"tienenie_NREL!F31","v":8.3333333333333259E-2},{"$f":"tienenie_NREL!G31","v":0.16666666666666674},{"$f":"tienenie_NREL!H31","v":0.25},{"$f":"tienenie_NREL!I31","v":0.17337416666666672},{"$f":"tienenie_NREL!J31","v":8.3333333333333259E-2},{"$f":"tienenie_NREL!K31","v":8.3333333333333259E-2},{"$f":"tienenie_NREL!L31","v":0},{"$f":"tienenie_NREL!M31","v":0},{"$f":"tienenie_NREL!N31","v":0},null,null,160,0.56000000000000005,89.600000000000009]
[null,null,"z JV strany",9.6654825144383913,16.825799706744061,27.94041483463344,38.204778857746348,51.329257544670455,52.245851429396708,48.854454055909557,40.983204070822815,30.797554526802273,19.418041447925777,11.700320938530686,8.5334890668014634,-90,null,9.6654825144383913,16.828663723574095,27.941218833524079,38.204778857746348,51.329257544670455,52.245851429396708,48.854454055909557,40.983204070822815,30.797554526802273,19.418041447925777,11.700320938530686,8.5334890668014634,null,{"$f":"tienenie_NREL!C33","v":0},{"$f":"tienenie_NREL!D33","v":6.4670000000011107E-4},{"$f":"tienenie_NREL!E33","v":4.3666666666652976E-4},{"$f":"tienenie_NREL!F33","v":0},{"$f":"tienenie_NREL!G33","v":0},{"$f":"tienenie_NREL!H33","v":0},{"$f":"tienenie_NREL!I33","v":0},{"$f":"tienenie_NREL!J33","v":0},{"$f":"tienenie_NREL!K33","v":0},{"$f":"tienenie_NREL!L33","v":0},{"$f":"tienenie_NREL!M33","v":0},{"$f":"tienenie_NREL!N33","v":0},null,null,160,0.56999999999999995,91.199999999999989]
[null,null,"z JV strany",9.6654825144383913,16.828663723574095,27.941218833524079,38.400213952934152,50.582714620558711,51.595684800032409,48.912045046591295,41.001270398254249,30.547758316235416,19.418041447925777,11.700320938530686,8.5334890668014634,90,null,9.6654825144383913,16.828663723574095,27.941218833524079,38.204778857746348,51.329257544670455,52.245851429396708,48.854454055909557,40.983204070822815,30.797554526802273,19.418041447925777,11.700320938530686,8.5334890668014634,null,{"$f":"tienenie_NREL!C35","v":0},{"$f":"tienenie_NREL!D35","v":0},{"$f":"tienenie_NREL!E35","v":0},{"$f":"tienenie_NREL!F35","v":8.3333333333333259E-2},{"$f":"tienenie_NREL!G35","v":0.16666666666666674},{"$f":"tienenie_NREL!H35","v":0.2325469166666666},{"$f":"tienenie_NREL!I35","v":0.16666666666666674},{"$f":"tienenie_NREL!J35","v":8.3333333333333259E-2},{"$f":"tienenie_NREL!K35","v":8.3333333333333259E-2},{"$f":"tienenie_NREL!L35","v":0},{"$f":"tienenie_NREL!M35","v":0},{"$f":"tienenie_NREL!N35","v":0},null,null,164,0.52,85.28]
[null,null,"z južnej strany",9.6654825144383913,16.828663723574095,27.634349027936732,38.898623086177231,49.836171696446968,50.847925714698356,49.000749282033894,41.055469380548544,30.29796210566856,19.418041447925777,11.700320938530686,8.5082320202725583,-7,null,9.6654825144383913,16.828663723574095,27.941218833524079,38.204778857746348,51.329257544670455,52.245851429396708,48.854454055909557,40.983204070822815,30.797554526802273,19.418041447925777,11.700320938530686,8.5334890668014634,null,{"$f":"tienenie_NREL!C4","v":0},{"$f":"tienenie_NREL!D4","v":0},{"$f":"tienenie_NREL!E4","v":0.16666666666666671},{"$f":"tienenie_NREL!F4","v":0.29585449999999996},{"$f":"tienenie_NREL!G4","v":0.33333333333333326},{"$f":"tienenie_NREL!H4","v":0.5},{"$f":"tienenie_NREL!I4","v":0.42337416666666661},{"$f":"tienenie_NREL!J4","v":0.33333333333333326},{"$f":"tienenie_NREL!K4","v":0.16666666666666671},{"$f":"tienenie_NREL!L4","v":0},{"$f":"tienenie_NREL!M4","v":0},{"$f":"tienenie_NREL!N4","v":6.7199999999999708E-3},null,null,146,0.49,71.539999999999992]
[null,null,"z južnej strany",9.6654825144383913,16.828663723574095,27.787783930730406,38.595649048121956,50.582714620558711,51.546888572047536,48.940840541932168,41.019336725685683,30.547758316235416,19.418041447925777,11.700320938530686,8.5334890668014634,-90,null,9.6654825144383913,16.828663723574095,27.941218833524079,38.204778857746348,51.329257544670455,52.245851429396708,48.854454055909557,40.983204070822815,30.797554526802273,19.418041447925777,11.700320938530686,8.5334890668014634,null,{"$f":"tienenie_NREL!C6","v":0},{"$f":"tienenie_NREL!D6","v":0},{"$f":"tienenie_NREL!E6","v":8.3333333333333287E-2},{"$f":"tienenie_NREL!F6","v":0.16666666666666671},{"$f":"tienenie_NREL!G6","v":0.16666666666666671},{"$f":"tienenie_NREL!H6","v":0.25},{"$f":"tienenie_NREL!I6","v":0.25},{"$f":"tienenie_NREL!J6","v":0.16666666666666671},{"$f":"tienenie_NREL!K6","v":8.3333333333333287E-2},{"$f":"tienenie_NREL!L6","v":0},{"$f":"tienenie_NREL!M6","v":0},{"$f":"tienenie_NREL!N6","v":0},null,null,112,0.48,53.76]
[null,null,"z južnej strany",9.6654825144383913,16.828663723574095,27.787783930730406,38.400213952934152,50.582714620558711,51.595684800032409,48.912045046591295,41.019336725685683,30.547758316235416,19.418041447925777,11.700320938530686,8.5334890668014634,90,null,9.6654825144383913,16.828663723574095,27.941218833524079,38.204778857746348,51.329257544670455,52.245851429396708,48.854454055909557,40.983204070822815,30.797554526802273,19.418041447925777,11.700320938530686,8.5334890668014634,null,{"$f":"tienenie_NREL!C8","v":0},{"$f":"tienenie_NREL!D8","v":0},{"$f":"tienenie_NREL!E8","v":8.3333333333333287E-2},{"$f":"tienenie_NREL!F8","v":8.3333333333333287E-2},{"$f":"tienenie_NREL!G8","v":0.16666666666666671},{"$f":"tienenie_NREL!H8","v":0.2325469166666666},{"$f":"tienenie_NREL!I8","v":0.16666666666666671},{"$f":"tienenie_NREL!J8","v":0.16666666666666671},{"$f":"tienenie_NREL!K8","v":8.3333333333333287E-2},{"$f":"tienenie_NREL!L8","v":0},{"$f":"tienenie_NREL!M8","v":0},{"$f":"tienenie_NREL!N8","v":0},null,null,44.6,0.76,33.896000000000001]
[null,null,"z JZ strany",9.6654825144383913,16.828663723574095,27.787783930730406,38.400213952934152,50.582714620558711,51.546888572047536,48.940840541932168,41.019336725685683,30.547758316235416,19.418041447925777,11.700320938530686,8.5334890668014634,-7,null,9.6654825144383913,16.828663723574095,27.941218833524079,38.204778857746348,51.329257544670455,52.245851429396708,48.854454055909557,40.983204070822815,30.797554526802273,19.418041447925777,11.700320938530686,8.5334890668014634,null,{"$f":"tienenie_NREL!C40","v":0},{"$f":"tienenie_NREL!D40","v":0},{"$f":"tienenie_NREL!E40","v":8.3333333333333259E-2},{"$f":"tienenie_NREL!F40","v":8.3333333333333259E-2},{"$f":"tienenie_NREL!G40","v":0.16666666666666674},{"$f":"tienenie_NREL!H40","v":0.25},{"$f":"tienenie_NREL!I40","v":0.25},{"$f":"tienenie_NREL!J40","v":0.16666666666666674},{"$f":"tienenie_NREL!K40","v":8.3333333333333259E-2},{"$f":"tienenie_NREL!L40","v":0},{"$f":"tienenie_NREL!M40","v":0},{"$f":"tienenie_NREL!N40","v":0},null,null,29.6,0.69,20.423999999999999]
[null,null,"z JZ strany",9.6654825144383913,16.828663723574095,27.787783930730406,38.400213952934152,50.582714620558711,51.546888572047536,48.940840541932168,41.019336725685683,30.547758316235416,19.418041447925777,11.700320938530686,8.5334890668014634,-90,null,9.6654825144383913,16.828663723574095,27.941218833524079,38.204778857746348,51.329257544670455,52.245851429396708,48.854454055909557,40.983204070822815,30.797554526802273,19.418041447925777,11.700320938530686,8.5334890668014634,null,{"$f":"tienenie_NREL!C42","v":0},{"$f":"tienenie_NREL!D42","v":0},{"$f":"tienenie_NREL!E42","v":8.3333333333333259E-2},{"$f":"tienenie_NREL!F42","v":8.3333333333333259E-2},{"$f":"tienenie_NREL!G42","v":0.16666666666666674},{"$f":"tienenie_NREL!H42","v":0.25},{"$f":"tienenie_NREL!I42","v":0.25},{"$f":"tienenie_NREL!J42","v":0.16666666666666674},{"$f":"tienenie_NREL!K42","v":8.3333333333333259E-2},{"$f":"tienenie_NREL!L42","v":0},{"$f":"tienenie_NREL!M42","v":0},{"$f":"tienenie_NREL!N42","v":0},null,null,19.600000000000001,0.76,14.896000000000001]
[null,null,"z JZ strany",9.6654825144383913,16.828663723574095,27.941218833524079,38.204778857746348,51.329257544670455,52.245851429396708,48.854454055909557,40.983204070822815,30.797554526802273,19.418041447925777,11.700320938530686,8.5334890668014634,90,null,9.6654825144383913,16.828663723574095,27.941218833524079,38.204778857746348,51.329257544670455,52.245851429396708,48.854454055909557,40.983204070822815,30.797554526802273,19.418041447925777,11.700320938530686,8.5334890668014634,null,{"$f":"tienenie_NREL!C44","v":0},{"$f":"tienenie_NREL!D44","v":0},{"$f":"tienenie_NREL!E44","v":0},{"$f":"tienenie_NREL!F44","v":0},{"$f":"tienenie_NREL!G44","v":0},{"$f":"tienenie_NREL!H44","v":0},{"$f":"tienenie_NREL!I44","v":0},{"$f":"tienenie_NREL!J44","v":0},{"$f":"tienenie_NREL!K44","v":0},{"$f":"tienenie_NREL!L44","v":0},{"$f":"tienenie_NREL!M44","v":0},{"$f":"tienenie_NREL!N44","v":0}]
[null,null,"zo západnej strany",7.5308059429143963,14.171465489429639,26.867174513968369,39.572824524060977,48.716357310279356,50.614938095581962,49.056022523295653,41.109668362842839,29.048981052834282,17.318230772604739,9.0001069795102282,6.1844334000505494,-7,null,9.6654825144383913,16.828663723574095,27.941218833524079,38.204778857746348,51.329257544670455,52.245851429396708,48.854454055909557,40.983204070822815,30.797554526802273,19.418041447925777,11.700320938530686,8.5334890668014634,null,{"$f":"tienenie_NREL!C22","v":0.625},{"$f":"tienenie_NREL!D22","v":0.6},{"$f":"tienenie_NREL!E22","v":0.58333333333333337},{"$f":"tienenie_NREL!F22","v":0.58333333333333337},{"$f":"tienenie_NREL!G22","v":0.58333333333333337},{"$f":"tienenie_NREL!H22","v":0.58333333333333337},{"$f":"tienenie_NREL!I22","v":0.58333333333333337},{"$f":"tienenie_NREL!J22","v":0.58333333333333337},{"$f":"tienenie_NREL!K22","v":0.58333333333333337},{"$f":"tienenie_NREL!L22","v":0.57246100000000011},{"$f":"tienenie_NREL!M22","v":0.66666666666666663},{"$f":"tienenie_NREL!N22","v":0.625}]
[null,null,"zo západnej strany",7.5308059429143963,14.171465489429639,26.867174513968369,39.572824524060977,48.716357310279356,50.614938095581962,49.056022523295653,41.109668362842839,29.048981052834282,17.417291567238991,9.3560716853712975,6.1844334000505494,-90,null,9.6654825144383913,16.828663723574095,27.941218833524079,38.204778857746348,51.329257544670455,52.245851429396708,48.854454055909557,40.983204070822815,30.797554526802273,19.418041447925777,11.700320938530686,8.5334890668014634,null,{"$f":"tienenie_NREL!C24","v":0.625},{"$f":"tienenie_NREL!D24","v":0.6},{"$f":"tienenie_NREL!E24","v":0.58333333333333337},{"$f":"tienenie_NREL!F24","v":0.58333333333333337},{"$f":"tienenie_NREL!G24","v":0.58333333333333337},{"$f":"tienenie_NREL!H24","v":0.58333333333333337},{"$f":"tienenie_NREL!I24","v":0.58333333333333337},{"$f":"tienenie_NREL!J24","v":0.58333333333333337},{"$f":"tienenie_NREL!K24","v":0.58333333333333337},{"$f":"tienenie_NREL!L24","v":0.54545454545454541},{"$f":"tienenie_NREL!M24","v":0.57878111111111108},{"$f":"tienenie_NREL!N24","v":0.625}]
[null,null,"zo západnej strany",8.8116118858287926,15.942930978859277,27.480914125143059,38.79108414330976,49.836171696446968,51.313900952931142,48.969636037273041,41.055469380548544,30.048165895101704,18.633902886270622,10.350213959020458,7.5938668001010976,90,null,9.6654825144383913,16.828663723574095,27.941218833524079,38.204778857746348,51.329257544670455,52.245851429396708,48.854454055909557,40.983204070822815,30.797554526802273,19.418041447925777,11.700320938530686,8.5334890668014634,null,{"$f":"tienenie_NREL!C26","v":0.25},{"$f":"tienenie_NREL!D26","v":0.19999999999999996},{"$f":"tienenie_NREL!E26","v":0.25},{"$f":"tienenie_NREL!F26","v":0.25},{"$f":"tienenie_NREL!G26","v":0.33333333333333326},{"$f":"tienenie_NREL!H26","v":0.33333333333333326},{"$f":"tienenie_NREL!I26","v":0.33333333333333326},{"$f":"tienenie_NREL!J26","v":0.33333333333333326},{"$f":"tienenie_NREL!K26","v":0.25},{"$f":"tienenie_NREL!L26","v":0.21377581818181823},{"$f":"tienenie_NREL!M26","v":0.33333333333333326},{"$f":"tienenie_NREL!N26","v":0.25}]
[null,null,"Východ_Západ",7.9537511197717032,15.057198234144458,27.327479222349385,39.177981861310052,49.089628772335232,50.847925714698356,49.02722702795478,41.085812120729855,29.798369684534848,18.084208194134586,9.9001782991837146,6.6542445334007319,-7,null,9.6654825144383913,16.828663723574095,27.941218833524079,38.204778857746348,51.329257544670455,52.245851429396708,48.854454055909557,40.983204070822815,30.797554526802273,19.418041447925777,11.700320938530686,8.5334890668014634,null,{"$f":"tienenie_NREL!C49","v":0.50116824999999998},{"$f":"tienenie_NREL!D49","v":0.4},{"$f":"tienenie_NREL!E49","v":0.33333333333333326},{"$f":"tienenie_NREL!F49","v":0.41497280833333339},{"$f":"tienenie_NREL!G49","v":0.5},{"$f":"tienenie_NREL!H49","v":0.5},{"$f":"tienenie_NREL!I49","v":0.5},{"$f":"tienenie_NREL!J49","v":0.47329325},{"$f":"tienenie_NREL!K49","v":0.33333333333333326},{"$f":"tienenie_NREL!L49","v":0.36363636363636365},{"$f":"tienenie_NREL!M49","v":0.44444444444444442},{"$f":"tienenie_NREL!N49","v":0.5}]
[null,null,"Východ_Západ",8.384676571523995,15.057198234144458,27.327479222349385,39.011914465636458,49.089628772335232,50.847925714698356,49.02722702795478,41.091602035411412,29.798369684534848,18.084208194134586,10.350213959020458,7.1240556667509143,-90,null,9.6654825144383913,16.828663723574095,27.941218833524079,38.204778857746348,51.329257544670455,52.245851429396708,48.854454055909557,40.983204070822815,30.797554526802273,19.418041447925777,11.700320938530686,8.5334890668014634,null,{"$f":"tienenie_NREL!C51","v":0.375},{"$f":"tienenie_NREL!D51","v":0.4},{"$f":"tienenie_NREL!E51","v":0.33333333333333326},{"$f":"tienenie_NREL!F51","v":0.34416183333333339},{"$f":"tienenie_NREL!G51","v":0.5},{"$f":"tienenie_NREL!H51","v":0.5},{"$f":"tienenie_NREL!I51","v":0.5},{"$f":"tienenie_NREL!J51","v":0.5},{"$f":"tienenie_NREL!K51","v":0.33333333333333326},{"$f":"tienenie_NREL!L51","v":0.36363636363636365},{"$f":"tienenie_NREL!M51","v":0.33333333333333326},{"$f":"tienenie_NREL!N51","v":0.375}]
[null,null,"Východ_Západ",8.252924333529533,15.500064606501867,27.327479222349385,39.160365595895449,49.089628772335232,50.847925714698356,49.02722702795478,41.091602035411412,29.798369684534848,18.084208194134586,9.9001782991837146,7.1240556667509143,90,null,9.6654825144383913,16.828663723574095,27.941218833524079,38.204778857746348,51.329257544670455,52.245851429396708,48.854454055909557,40.983204070822815,30.797554526802273,19.418041447925777,11.700320938530686,8.5334890668014634,null,{"$f":"tienenie_NREL!C53","v":0.41357500000000003},{"$f":"tienenie_NREL!D53","v":0.30000000000000004},{"$f":"tienenie_NREL!E53","v":0.33333333333333326},{"$f":"tienenie_NREL!F53","v":0.40746125000000011},{"$f":"tienenie_NREL!G53","v":0.5},{"$f":"tienenie_NREL!H53","v":0.5},{"$f":"tienenie_NREL!I53","v":0.5},{"$f":"tienenie_NREL!J53","v":0.5},{"$f":"tienenie_NREL!K53","v":0.33333333333333326},{"$f":"tienenie_NREL!L53","v":0.36363636363636365},{"$f":"tienenie_NREL!M53","v":0.44444444444444442},{"$f":"tienenie_NREL!N53","v":0.375}]
[null,null,"Východ_Juh_Západ",9.6654825144383913,16.828663723574095,27.327479222349385,39.177981861310052,49.089628772335232,50.847925714698356,49.02722702795478,41.085812120729855,29.798369684534848,19.418041447925777,11.700320938530686,8.5334890668014634,-7,null,9.6654825144383913,16.828663723574095,27.941218833524079,38.204778857746348,51.329257544670455,52.245851429396708,48.854454055909557,40.983204070822815,30.797554526802273,19.418041447925777,11.700320938530686,8.5334890668014634,null,{"$f":"tienenie_NREL!C58","v":0},{"$f":"tienenie_NREL!D58","v":0},{"$f":"tienenie_NREL!E58","v":0.33333333333333326},{"$f":"tienenie_NREL!F58","v":0.41497280833333339},{"$f":"tienenie_NREL!G58","v":0.5},{"$f":"tienenie_NREL!H58","v":0.5},{"$f":"tienenie_NREL!I58","v":0.5},{"$f":"tienenie_NREL!J58","v":0.47329325},{"$f":"tienenie_NREL!K58","v":0.33333333333333326},{"$f":"tienenie_NREL!L58","v":0},{"$f":"tienenie_NREL!M58","v":0},{"$f":"tienenie_NREL!N58","v":0}]
[null,null,"Východ_Juh_Západ",9.6654825144383913,16.828663723574095,27.327479222349385,39.011914465636458,49.089628772335232,50.847925714698356,49.02722702795478,41.091602035411412,29.798369684534848,19.418041447925777,11.700320938530686,8.5334890668014634,-90,null,9.6654825144383913,16.828663723574095,27.941218833524079,38.204778857746348,51.329257544670455,52.245851429396708,48.854454055909557,40.983204070822815,30.797554526802273,19.418041447925777,11.700320938530686,8.5334890668014634,null,{"$f":"tienenie_NREL!C60","v":0},{"$f":"tienenie_NREL!D60","v":0},{"$f":"tienenie_NREL!E60","v":0.33333333333333326},{"$f":"tienenie_NREL!F60","v":0.34416183333333339},{"$f":"tienenie_NREL!G60","v":0.5},{"$f":"tienenie_NREL!H60","v":0.5},{"$f":"tienenie_NREL!I60","v":0.5},{"$f":"tienenie_NREL!J60","v":0.5},{"$f":"tienenie_NREL!K60","v":0.33333333333333326},{"$f":"tienenie_NREL!L60","v":0},{"$f":"tienenie_NREL!M60","v":0},{"$f":"tienenie_NREL!N60","v":0}]
[null,null,"Východ_Juh_Západ",{"$f":"($D$34-R23)*AE23+R23","v":9.6654825144383913},16.828663723574095,27.327479222349385,39.160365595895449,49.089628772335232,50.847925714698356,49.02722702795478,41.091602035411412,29.798369684534848,19.418041447925777,11.700320938530686,8.5334890668014634,90,null,9.6654825144383913,16.828663723574095,27.941218833524079,38.204778857746348,51.329257544670455,52.245851429396708,48.854454055909557,40.983204070822815,30.797554526802273,19.418041447925777,11.700320938530686,8.5334890668014634,null,{"$f":"tienenie_NREL!C62","v":0},{"$f":"tienenie_NREL!D62","v":0},{"$f":"tienenie_NREL!E62","v":0.33333333333333326},{"$f":"tienenie_NREL!F62","v":0.40746125000000011},{"$f":"tienenie_NREL!G62","v":0.5},{"$f":"tienenie_NREL!H62","v":0.5},{"$f":"tienenie_NREL!I62","v":0.5},{"$f":"tienenie_NREL!J62","v":0.5},{"$f":"tienenie_NREL!K62","v":0.33333333333333326},{"$f":"tienenie_NREL!L62","v":0},{"$f":"tienenie_NREL!M62","v":0},{"$f":"tienenie_NREL!N62","v":0}]
[null,null,"bez tienenia",{"$f":"D34","v":6.25},12.4,26.1,40.549999999999997,46.85,49.45,49.2,41.2,27.8,15.75,7.65,4.7750000000000004,-7,null,9.6654825144383913,16.828663723574095,27.941218833524079,38.204778857746348,51.329257544670455,52.245851429396708,48.854454055909557,40.983204070822815,30.797554526802273,19.418041447925777,11.700320938530686,8.5334890668014634]
[null,null,"bez tienenia",{"$f":"D34","v":6.25},12.4,26.1,40.549999999999997,46.85,49.45,49.2,41.2,27.8,15.75,7.65,4.7750000000000004,-90,null,9.6654825144383913,16.828663723574095,27.941218833524079,38.204778857746348,51.329257544670455,52.245851429396708,48.854454055909557,40.983204070822815,30.797554526802273,19.418041447925777,11.700320938530686,8.5334890668014634]
[null,null,"bez tienenia",{"$f":"D34","v":6.25},12.4,26.1,40.549999999999997,46.85,49.45,49.2,41.2,27.8,15.75,7.65,4.7750000000000004,90,null,9.6654825144383913,16.828663723574095,27.941218833524079,38.204778857746348,51.329257544670455,52.245851429396708,48.854454055909557,40.983204070822815,30.797554526802273,{"$f":"$AA$2*(1-COS(46))/2","v":24.27255180990722},11.700320938530686,8.5334890668014634]
[]
[]
[]
[]
[]
[null,null,null,"Výstupná energia z FV panelu o inštalovanom výkone zadanom používateľom [kWh]"]
["azimut","sklon","inštalovaný výkon panelu","január","február","marec","apríl","máj","jún","júl","august","september","október","november","december"]
[{"$f":"azimut_sklon!G7","v":105},{"$f":"azimut_sklon!H7","v":52},{"$f":"instalovany_vykon_tienenie!$D$24","v":0.5},{"$f":"instalovany_vykon_tienenie!F9","v":6.25},{"$f":"instalovany_vykon_tienenie!G9","v":12.4},{"$f":"instalovany_vykon_tienenie!H9","v":26.1},{"$f":"instalovany_vykon_tienenie!I9","v":40.549999999999997},{"$f":"instalovany_vykon_tienenie!J9","v":46.85},{"$f":"instalovany_vykon_tienenie!K9","v":49.45},{"$f":"instalovany_vykon_tienenie!L9","v":49.2},{"$f":"instalovany_vykon_tienenie!M9","v":41.2},{"$f":"instalovany_vykon_tienenie!N9","v":27.8},{"$f":"instalovany_vykon_tienenie!O9","v":15.75},{"$f":"instalovany_vykon_tienenie!P9","v":7.65},{"$f":"instalovany_vykon_tienenie!Q9","v":4.7750000000000004}]

{"sheet":"azimut_sklon","index":4,"n_rows":7,"n_cols":20,"rows_kept":7,"cut":false,"hidden":false,"merged":[[4,8,4,19]]}
[]
[null,"Zadajte azimut a sklon FV panelu v systemé mestského mobiliára"]
[null,"azimut [°]","sklon [°]",null,"azimut [°]","sklon [°]"]
[null,105,52,null,{"$f":"IF(B4=\"\",\"\",B4)","v":105},{"$f":"IF(C4=\"\",\"\",C4)","v":52}]
[null,null,null,null,null,null,null,null,"Výstupná energia z FV panelu o inštalovanom výkone 1 kWp [kWh]"]
[null,null,null,null,null,null,"azimut [°]","sklon [°]","január","február","marec","apríl","máj","jún","júl","august","september","október","november","december"]
[null,null,null,null,null,null,105,52,12.5,24.8,52.2,81.099999999999994,93.7,98.9,98.4,82.4,55.6,31.5,15.3,9.5500000000000007]

{"sheet":"instalovany_vykon_tienenie","index":5,"n_rows":24,"n_cols":23,"rows_kept":24,"cut":false,"hidden":false,"merged":[[5,5,5,16],[21,5,21,16],[1,4,1,8],[14,4,14,9]]}
[]
[null,null,null,null,"Zadajte inštalovaný výkon FV panelu inštalovaného v mobiliáre [kWp]"]
[]
[null,null,null,null,0.5]
[]
[null,null,null,null,null,"Výstupná energia z FV panelu o inštalovanom výkone zadanom používateľom [kWh]"]
[null,null,"azimut [°]","sklon [°]","inštalovaný výkon panelu [kWp]","január","február","marec","apríl","máj","jún","júl","august","september","október","november","december"]
[null,null,null,null,null,{"$f":"azimut_sklon!I7","v":12.5},{"$f":"azimut_sklon!J7","v":24.8},{"$f":"azimut_sklon!K7","v":52.2},{"$f":"azimut_sklon!L7","v":81.099999999999994},{"$f":"azimut_sklon!M7","v":93.7},{"$f":"azimut_sklon!N7","v":98.9},{"$f":"azimut_sklon!O7","v":98.4},{"$f":"azimut_sklon!P7","v":82.4},{"$f":"azimut_sklon!Q7","v":55.6},{"$f":"azimut_sklon!R7","v":31.5},{"$f":"azimut_sklon!S7","v":15.3},{"$f":"azimut_sklon!T7","v":9.5500000000000007}]
[null,null,{"$f":"IF(azimut_sklon!B4=\"\",\"\",azimut_sklon!B4)","v":105},{"$f":"IF(azimut_sklon!C4=\"\",\"\",azimut_sklon!C4)","v":52},{"$f":"IF(E4=\"\",\"\",E4)","v":0.5},{"$f":"$E$4*F8","v":6.25},12.4,26.1,40.549999999999997,46.85,49.45,49.2,41.2,27.8,15.75,7.65,4.7750000000000004]
[]
[]
[null,null,null,null,null,null,null,null,null,null,null,null,null,null,null,null,null,null,"tienenie","azimut",null,"azimut"]
[null,null,null,null,null,null,null,null,null,null,null,null,null,null,null,null,null,null,{"$f":"IF(instalovany_vykon_tienenie!E17=\"\",\"\",instalovany_vykon_tienenie!E17)","v":"z JV strany"},{"$f":"$W$13","v":90},null,{"$f":"azimut_sklon!$B$4","v":105},{"$f":"IF(AND(V13>=-180,V13<=-41.5),-90,IF(AND(V13>-41.5,V13<=48.5),-7,IF(AND(V13>48.5,V13<=180),90,\"\")))","v":90}]
[]
[null,null,null,null,"Zadajte, z ktorého smeru je FV panel navrhovaného mobiliára tienený okolitou zástavbou"]
[null,null,null,null,"tienenie:"]
[null,null,null,null,"z JV strany"]
[]
[]
[]
[]
[null,null,null,null,null,"Výstupná energia z FV panelu pre daný sklon, azimut, inštalovaný výkon panelu a tienenie [kWh]"]
[null,"azimut [°]","sklon [°]","inštalovaný výkon panelu [kWp]","tienenie","január","február","marec","apríl","máj","jún","júl","august","september","október","november","december","azimut"]
[null,{"$f":"IF(azimut_sklon!B4=\"\",\"\",azimut_sklon!B4)","v":105},{"$f":"IF(azimut_sklon!C4=\"\",\"\",azimut_sklon!C4)","v":52},{"$f":"IF(E4=\"\",\"\",E4)","v":0.5},"z JV strany",9.6654825144383913,16.828663723574095,27.941218833524079,38.400213952934152,50.582714620558711,51.595684800032409,48.912045046591295,41.001270398254249,30.547758316235416,19.418041447925777,11.700320938530686,8.5334890668014634,90]

{"sheet":"energeticka_bilancia","index":6,"n_rows":19,"n_cols":23,"rows_kept":19,"cut":false,"hidden":false,"merged":[[2,7,2,18],[16,7,16,18],[12,7,12,19],[12,3,13,3],[12,4,13,4],[12,5,13,5],[12,6,13,6]]}
[]
[]
[null,null,null,null,null,null,null,"Zadajte odhadovanú mesačnú spotrebu el. energie [kWh]",null,null,null,null,null,null,null,null,null,null,null,null,null,null,{"$f":"(MAX(H5:S5))","v":25.08166666666666}]
[null,null,null,null,null,null,null,"január","február","marec","apríl","máj","jún","júl","august","september","október","november","december",null,null,null,{"$f":"IF(W3=H5,H6,(IF(W3=I5,I6,(IF(W3=J5,J6,(IF(W3=K5,K6,(IF(W3=K5,K6,(IF(W3=L5,L6,(IF(W3=M5,M6,(IF(W3=N5,N6,(IF(W3=O5,O6,(IF(W3=P5,P6,(IF(W3=Q5,Q6,(IF(W3=R5,R6,(IF(W3=S5,S6,\"\")))))))))))))))))))))))))","v":31}]
[null,null,null,null,null,null,null,24.299166666666668,19.886666666666667,19.210833333333337,15.765000000000001,13.755000000000001,12.035000000000005,13.125833333333333,15.384999999999998,17.617500000000003,21.105,22.939166666666662,25.08166666666666,null,null,null,{"$f":"W3/W4","v":0.80908602150537612}]
[null,null,null,null,null,null,null,31,28,31,30,31,30,31,31,30,31,30,31]
[]
[]
[]
[]
[]
[]
[null,null,null,{"$f":"instalovany_vykon_tienenie!B23","v":"azimut [°]"},"sklon [°]","inštalovaný výkon [kWp]",{"$f":"instalovany_vykon_tienenie!E23","v":"tienenie"},{"$f":"instalovany_vykon_tienenie!F22","v":"Výstupná energia z FV panelu pre daný sklon, azimut, inštalovaný výkon panelu a tienenie [kWh]"}]
[null,null,null,null,null,null,null,{"$f":"instalovany_vykon_tienenie!F23","v":"január"},{"$f":"instalovany_vykon_tienenie!G23","v":"február"},{"$f":"instalovany_vykon_tienenie!H23","v":"marec"},{"$f":"instalovany_vykon_tienenie!I23","v":"apríl"},{"$f":"instalovany_vykon_tienenie!J23","v":"máj"},{"$f":"instalovany_vykon_tienenie!K23","v":"jún"},{"$f":"instalovany_vykon_tienenie!L23","v":"júl"},{"$f":"instalovany_vykon_tienenie!M23","v":"august"},{"$f":"instalovany_vykon_tienenie!N23","v":"september"},{"$f":"instalovany_vykon_tienenie!O23","v":"október"},{"$f":"instalovany_vykon_tienenie!P23","v":"november"},{"$f":"instalovany_vykon_tienenie!Q23","v":"december"},"Total"]
[null,null,null,{"$f":"instalovany_vykon_tienenie!B24","v":105},{"$f":"instalovany_vykon_tienenie!C24","v":52},{"$f":"instalovany_vykon_tienenie!D24","v":0.5},{"$f":"instalovany_vykon_tienenie!E24","v":"z JV strany"},{"$f":"instalovany_vykon_tienenie!F24","v":9.6654825144383913},{"$f":"instalovany_vykon_tienenie!G24","v":16.828663723574095},{"$f":"instalovany_vykon_tienenie!H24","v":27.941218833524079},{"$f":"instalovany_vykon_tienenie!I24","v":38.400213952934152},{"$f":"instalovany_vykon_tienenie!J24","v":50.582714620558711},{"$f":"instalovany_vykon_tienenie!K24","v":51.595684800032409},{"$f":"instalovany_vykon_tienenie!L24","v":48.912045046591295},{"$f":"instalovany_vykon_tienenie!M24","v":41.001270398254249},{"$f":"instalovany_vykon_tienenie!N24","v":30.547758316235416},{"$f":"instalovany_vykon_tienenie!O24","v":19.418041447925777},{"$f":"instalovany_vykon_tienenie!P24","v":11.700320938530686},{"$f":"instalovany_vykon_tienenie!Q24","v":8.5334890668014634},{"$f":"SUM(H15:S15)","v":355.12690365940068}]
[]
[null,null,null,null,null,null,null,"Mesačná energetická bilancia [kWh]"]
[null,null,null,null,null,null,null,"január","február","marec","apríl","máj","jún","júl","august","september","október","november","december","Total"]
[null,null,null,null,null,null,null,{"$f":"H15-H5","v":-14.633684152228277},{"$f":"I15-I5","v":-3.0580029430925713},8.7303855001907422,22.635213952934151,36.827714620558709,39.560684800032405,35.786211713257963,25.616270398254251,12.930258316235413,-1.6869585520742234,-11.238845728135976,-16.548177599865198,{"$f":"SUM(H19:S19)","v":134.92107032606737}]

{"sheet":"akumulator_kapacita","index":7,"n_rows":25,"n_cols":19,"rows_kept":25,"cut":false,"hidden":false,"merged":[[0,2,0,3],[1,2,1,3],[5,4,5,16],[14,4,14,15],[9,4,9,16]]}
[{"$f":"R5","v":"DOD [%]"},"Počet dní bez dobíjania akumulátora","Napäťová hladina systému [V]"]
[50,3,12]
[]
[]
[null,null,null,null,null,null,null,null,null,null,null,null,null,null,null,null,null,"DOD [%]"]
[null,null,null,null,{"$f":"energeticka_bilancia!H17","v":"Mesačná energetická bilancia [kWh]"},null,null,null,null,null,null,null,null,null,null,null,null,{"$f":"IF(A2=\"\",\"\",A2)","v":50},{"$f":"1+R6/100","v":1.5}]
[null,null,null,null,{"$f":"energeticka_bilancia!H18","v":"január"},{"$f":"energeticka_bilancia!I18","v":"február"},{"$f":"energeticka_bilancia!J18","v":"marec"},{"$f":"energeticka_bilancia!K18","v":"apríl"},{"$f":"energeticka_bilancia!L18","v":"máj"},{"$f":"energeticka_bilancia!M18","v":"jún"},{"$f":"energeticka_bilancia!N18","v":"júl"},{"$f":"energeticka_bilancia!O18","v":"august"},{"$f":"energeticka_bilancia!P18","v":"september"},{"$f":"energeticka_bilancia!Q18","v":"október"},{"$f":"energeticka_bilancia!R18","v":"november"},{"$f":"energeticka_bilancia!S18","v":"december"},{"$f":"energeticka_bilancia!T18","v":"Total"}]
[null,null,null,null,{"$f":"energeticka_bilancia!H19","v":-14.633684152228277},{"$f":"energeticka_bilancia!I19","v":-3.0580029430925713},{"$f":"energeticka_bilancia!J19","v":8.7303855001907422},{"$f":"energeticka_bilancia!K19","v":22.635213952934151},{"$f":"energeticka_bilancia!L19","v":36.827714620558709},{"$f":"energeticka_bilancia!M19","v":39.560684800032405},{"$f":"energeticka_bilancia!N19","v":35.786211713257963},{"$f":"energeticka_bilancia!O19","v":25.616270398254251},{"$f":"energeticka_bilancia!P19","v":12.930258316235413},{"$f":"energeticka_bilancia!Q19","v":-1.6869585520742234},{"$f":"energeticka_bilancia!R19","v":-11.238845728135976},{"$f":"energeticka_bilancia!S19","v":-16.548177599865198},{"$f":"energeticka_bilancia!T19","v":134.92107032606737}]
[]
[{"$f":"energeticka_bilancia!D13","v":"azimut [°]"},{"$f":"energeticka_bilancia!E13","v":"sklon [°]"},{"$f":"energeticka_bilancia!F13","v":"inštalovaný výkon [kWp]"},{"$f":"energeticka_bilancia!G13","v":"tienenie"},{"$f":"energeticka_bilancia!H13","v":"Výstupná energia z FV panelu pre daný sklon, azimut, inštalovaný výkon panelu a tienenie [kWh]"}]
[{"$f":"energeticka_bilancia!D14","v":0},{"$f":"energeticka_bilancia!E14","v":0},{"$f":"energeticka_bilancia!F14","v":0},{"$f":"energeticka_bilancia!G14","v":0},{"$f":"energeticka_bilancia!H14","v":"január"},{"$f":"energeticka_bilancia!I14","v":"február"},{"$f":"energeticka_bilancia!J14","v":"marec"},{"$f":"energeticka_bilancia!K14","v":"apríl"},{"$f":"energeticka_bilancia!L14","v":"máj"},{"$f":"energeticka_bilancia!M14","v":"jún"},{"$f":"energeticka_bilancia!N14","v":"júl"},{"$f":"energeticka_bilancia!O14","v":"august"},{"$f":"energeticka_bilancia!P14","v":"september"},{"$f":"energeticka_bilancia!Q14","v":"október"},{"$f":"energeticka_bilancia!R14","v":"november"},{"$f":"energeticka_bilancia!S14","v":"december"},{"$f":"energeticka_bilancia!T14","v":"Total"}]
[{"$f":"energeticka_bilancia!D15","v":105},{"$f":"energeticka_bilancia!E15","v":52},{"$f":"energeticka_bilancia!F15","v":0.5},{"$f":"energeticka_bilancia!G15","v":"z JV strany"},{"$f":"energeticka_bilancia!H15","v":9.6654825144383913},{"$f":"energeticka_bilancia!I15","v":16.828663723574095},{"$f":"energeticka_bilancia!J15","v":27.941218833524079},{"$f":"energeticka_bilancia!K15","v":38.400213952934152},{"$f":"energeticka_bilancia!L15","v":50.582714620558711},{"$f":"energeticka_bilancia!M15","v":51.595684800032409},{"$f":"energeticka_bilancia!N15","v":48.912045046591295},{"$f":"energeticka_bilancia!O15","v":41.001270398254249},{"$f":"energeticka_bilancia!P15","v":30.547758316235416},{"$f":"energeticka_bilancia!Q15","v":19.418041447925777},{"$f":"energeticka_bilancia!R15","v":11.700320938530686},{"$f":"energeticka_bilancia!S15","v":8.5334890668014634},{"$f":"energeticka_bilancia!T15","v":355.12690365940068}]
[]
[]
[null,null,null,null,{"$f":"energeticka_bilancia!H3","v":"Zadajte odhadovanú mesačnú spotrebu el. energie [kWh]"}]
[null,null,null,null,{"$f":"energeticka_bilancia!H4","v":"január"},{"$f":"energeticka_bilancia!I4","v":"február"},{"$f":"energeticka_bilancia!J4","v":"marec"},{"$f":"energeticka_bilancia!K4","v":"apríl"},{"$f":"energeticka_bilancia!L4","v":"máj"},{"$f":"energeticka_bilancia!M4","v":"jún"},{"$f":"energeticka_bilancia!N4","v":"júl"},{"$f":"energeticka_bilancia!O4","v":"august"},{"$f":"energeticka_bilancia!P4","v":"september"},{"$f":"energeticka_bilancia!Q4","v":"október"},{"$f":"energeticka_bilancia!R4","v":"november"},{"$f":"energeticka_bilancia!S4","v":"december"}]
[null,null,null,null,{"$f":"energeticka_bilancia!H5","v":24.299166666666668},{"$f":"energeticka_bilancia!I5","v":19.886666666666667},{"$f":"energeticka_bilancia!J5","v":19.210833333333337},{"$f":"energeticka_bilancia!K5","v":15.765000000000001},{"$f":"energeticka_bilancia!L5","v":13.755000000000001},{"$f":"energeticka_bilancia!M5","v":12.035000000000005},{"$f":"energeticka_bilancia!N5","v":13.125833333333333},{"$f":"energeticka_bilancia!O5","v":15.384999999999998},{"$f":"energeticka_bilancia!P5","v":17.617500000000003},{"$f":"energeticka_bilancia!Q5","v":21.105},{"$f":"energeticka_bilancia!R5","v":22.939166666666662},{"$f":"energeticka_bilancia!S5","v":25.08166666666666}]
[null,null,null,null,31,28,31,30,31,30,31,31,30,31,30,31]
[]
[]
[]
[]
[null,null,null,null,"január","február","marec","apríl","máj","jún","júl","august","september","október","november","december"]
[null,null,null,"Odhadovaná potrebná el. energia v [kWh] uskladnená v akumulátore pre konkrétny mesiac",{"$f":"IF(E8<((E17/E18)*$B$2*$S$6),((ABS(E8)+E17/E18*$B$2))*$S$6,E17/E18*$B$2*$S$6)","v":25.477824615439189},{"$f":"IF(F8<((F17/F18)*$B$2*$S$6),((ABS(F8)+F17/F18*$B$2))*$S$6,F17/F18*$B$2*$S$6)","v":7.7830758432102849},{"$f":"IF(G8<((G17/G18)*$B$2*$S$6),((ABS(G8)+G17/G18*$B$2))*$S$6,G17/G18*$B$2*$S$6)","v":2.7886693548387105},2.3647499999999999,1.9966935483870967,1.8052500000000007,1.9053629032258064,2.2333064516129033,2.6426250000000007,5.5940668603693995,20.299143592203961,28.463153496571991]
[null,null,null,"Kapacita akumulátora [Ah]",{"$f":"E24*1000/$C$2","v":2123.1520512865991},{"$f":"F24*1000/$C$2","v":648.5896536008571},232.38911290322588,197.0625,166.39112903225805,150.43750000000006,158.78024193548387,186.10887096774195,220.21875000000003,466.17223836411659,1691.5952993503299,2371.9294580476658]