{"text_format":"1","workbook":"xlsx","n_sheets":18,"sheets":["Vypocet","V2","V3","V4","V5","V6","V7","V8","V9","V10","V11","V12","Tabulky","Konstanty","Vzorce","Jednotky","Výsledky","Srovnání"],"not_rendered":{"charts":22,"images":0,"macros":1,"external_links":0,"defined_names":136,"comments":0,"pivot_tables":0},"unopened":[],"bounds":{"document_bytes":16777216,"sheet_cells":100000,"rows_first":2000,"rows_last":500,"rows_between":2000,"halvings":0,"cell_chars":16384,"cell_head_chars":4096},"cells_cut":0,"cells_raw":0,"read":"whole","date_system":"1900"}

{"sheet":"Vypocet","index":0,"n_rows":188,"n_cols":63,"rows_kept":188,"cut":false,"hidden":false,"merged":[[63,12,63,13],[26,3,26,6],[49,33,49,35],[46,33,46,36],[40,6,40,7],[59,6,59,7],[27,3,27,6],[33,6,33,7],[58,6,58,8]]}
[null,"Legenda",null,null,"hodnotu nutno zadat"]
[null,null,null,null,"hodnota se vypočítává "]
[null,null,null,null,"pomocná hodnota"]
["Parametry vzduchu",null,null,null,null,null,"interier klidovy rezim ",null,null,null,null,null,null,null,null,null,null,null,null,null,"Produkce tepla od",null,null,"ni",{"$f":"0.85*Y5+0.75*Y6+Y7","v":60.5},null,"Qi=ni.6,2*(36-ti)"]
["Interiér","ti",null,null,null,null,"Interiér","ti",null,null,null,null,"Exteriér","te",null,"minimální teplota -20 ",null,null,null,null,"lidí",{"$f":"Y4*6.2*(36-Teplota)","v":1500.4},"W","nz",30,"zeny","ni=0,85nz+0,75nd+nm"]
["teplota",null,"ti",32,"°C",null,"teplota",null,"ti",{"$f":"AQ22","v":24},"°C",null,"teplota",null,"te",-12,"°C",null,null,null,null,null,null,"nd ",20,"deti","nz - zeny, nd deti, nm muzi"]
["relativní vlhkost",null,"rhi",60,"%",null,"relativní vlhkost",null,"rhi",{"$f":"AQ23","v":55},"%",null,"relativní vlhkost",null,"rhe",100,"%",null,null,null,null,null,null,"nm",20,"muzi"]
["entalpie s.v.",null,"hsvi",{"$f":"Konstanty!$F$2*Teplota","v":32320},"J/kg",null,"entalpie s.v.",null,"hsvi",{"$f":"Konstanty!$F$2*J6","v":24240},"J/kg",null,"entalpie s.v.",null,"hsve",{"$f":"Konstanty!$F$2*te","v":-12120},"J/kg"]
["entalpie v.p.",null,"hvpi",{"$f":"$D$16*(Konstanty!$F$3*Teplota+Konstanty!$F$4)","v":46343.062700276656},"J/kg",null,"entalpie v.p.",null,"hvpi",{"$f":"$D$16*(Konstanty!$F$3*J6+Konstanty!$F$4)","v":46076.473456956111},"J/kg",null,"entalpie v.p.",null,"hvpe",{"$f":"P16*(Konstanty!F3*P6+Konstanty!F4)","v":3802.6613311801298},"J/kg",null,null,null,"Odpar z povrchů"]
["entalpie ",null,"hi",{"$f":"D8+D9","v":78663.062700276656},"J/kg",null,"entalpie ",null,"hi",{"$f":"J8+J9","v":70316.473456956111},"J/kg",null,"entalpie ",null,"he",{"$f":"IF(P8<0,P9-P8,P8+P9)","v":15922.66133118013},"J/kg",null,null,null,null,null,null,"(7+3,5*w)*S*(xp´´-x).10-3"]
[null,null,null,{"$f":"D10/1000","v":78.663062700276654},"kJ/kg",null,null,null,null,{"$f":"J10/1000","v":70.316473456956118},"kJ/kg",null,null,null,null,{"$f":"P10/1000","v":15.92266133118013},"kJ/kg",null,null,null,null,null,null,"w stredni rychlost vzduchu",null,null,null,null,null,null,null,null,null,null,null,null,null,null,null,null,null,null,null,null,null,"Exteriér","minimální teplota -20 "]
["tlak nasycené vodní páry",null,"p''vpi",{"$f":"Konstanty!$F$12^((1500.3+23.5*D6)/(234+D6))","v":4756.6229589957475},"Pa",null,"tlak nasycené vodní páry",null,"p''vpi",{"$f":"Konstanty!$F$12^((1500.3+23.5*J6)/(234+J6))","v":2984.4262331760842},"Pa",null,"tlak nasycené vodní páry",null,"p''vpe",{"$f":"Konstanty!$F$12^((1500.3+23.5*P6)/(234+P6))","v":241.73397334709176},"Pa",null,{"$f":"2.718^(28.926-(6148/(273.15+te)))","v":217.76491530985223},null,null,null,null,"xp´´-merna vlhkost nasyceneho vzduchu",null,null,null,null,null,null,null,null,null,null,null,null,null,null,null,null,null,null,null,null,null,"te",-12,"°C"]
["tlak  vodní páry",null,"pvpi",{"$f":"(D7/100)*D12","v":2853.9737753974482},"Pa",null,"tlak  vodní páry",null,"pvpi",{"$f":"(J7/100)*J12","v":1641.4344282468464},"Pa",null,"tlak  vodní páry",null,"pvpe",{"$f":"(P7/100)*P12","v":241.73397334709176},"Pa",null,null,null,null,null,null,"x - merna vlhkost vzduchu nad povrchem ",null,null,null,null,null,null,null,null,null,null,null,null,null,null,null,null,null,null,null,null,null,"rhe",100,"%",null,"Distribuce tepla v závislosti na externí teplotě"]
["tlak suchého vzduchu",null,"psvi",{"$f":"D18*Konstanty!$F$5*(Teplota+273.15)","v":98021.008646699993},"Pa",null,"tlak suchého vzduchu",null,"psvi",{"$f":"J18*Konstanty!$F$5*(Teplota+273.15)","v":100648.9177257},"Pa",null,"tlak suchého vzduchu",null,"psve",{"$f":"P18*Konstanty!F5*(P6+273.15)","v":97980.877379099999},"Pa",null,null,"(93*T-3153,5)/(T-39,17)",null,null,null,"S plocha",null,null,null,null,null,null,null,null,null,null,null,null,null,null,null,null,null,null,null,null,null,null,null,null,null,"teplota předehřevu te",null,"tpřed",5,"°C"]
["tlak směsi vlhkého vzduchu",null,"pi",{"$f":"D13+D14","v":100874.98242209744},"Pa",null,"tlak směsi vlhkého vzduchu",null,"pi",{"$f":"J13+J14","v":102290.35215394685},"Pa",null,"tlak směsi vlhkého vzduchu",null,"pe",{"$f":"P13+P14","v":98222.611352447086},"Pa",null,null,{"$f":"(93*te-3153.5)/(te-39.17)","v":83.437561070940006},null,null,null,null,null,null,null,null,null,null,null,null,null,null,null,null,null," ",null,null,null,null,null,null,null,null,null,null,null,"množství čerst vzduchu",null,null,30,"%"]
["měrná vlhkost vzduchu",null,"xi",{"$f":"(Konstanty!$F$5/Konstanty!$F$6)*(D13/D14)","v":1.8110682290797792E-2},"kg/kg s.v.",null,"měrná vlhkost vzduchu",null,"xi",{"$f":"(Konstanty!$F$5/Konstanty!$F$6)*(J13/J14)","v":1.0144214643132086E-2},"kg/kg s.v.",null,"měrná vlhkost vzduchu",null,"xe",{"$f":"(Konstanty!F5/Konstanty!F6)*(P13/P14)","v":1.5346182811310008E-3},"kg/kg s.v.",null,null,null,null,null,null,null,null,null,null,null,null,null,null,null,null,null,null,null,null,null,null,null,null,"Interiér"]
[null,null,null,{"$f":"D16*1000","v":18.11068229079779},"g/kg s.v.",null,null,null,null,{"$f":"J16*1000","v":10.144214643132086},"g/kg s.v.",null,null,null,null,{"$f":"P16*1000","v":1.5346182811310007},"g/kg s.v.",null,null,null,null,null,null,null,null,null,null,null,null,null,null,null,null,null,null,null,null,null,null,null,null,"plný provoz"]
["hustota vzduchu při t",null,null,{"$f":"VLOOKUP(Teplota,Tabulky!$V$15:$AF$75,9,0)","v":1.119},"kg/m3",null,"hustota vzduchu při t",null,null,{"$f":"VLOOKUP(J6,Tabulky!V15:AF75,9,0)","v":1.149},"kg/m3",null,"hustota vzduchu při t",null,null,{"$f":"VLOOKUP(te,Tabulky!V15:AF75,9,0)","v":1.3069999999999999},"kg/m3",null,null,null,null,null,null,null,null,null,null,null,null,null,null,null,null,null,null,null,null,null,null,null,null,"ti",32,"°C"]
[null,null,null,null,null,null,null,null,null,null,null,null,null,null,null,null,null,null,null,null,null,null,null,null,null,null,null,null,null,null,null,null,null,null,null,null,null,null,null,null,null,"rhi",60,"%"]
["Bazén",null,null,null,null,null,null,null,"rozměry bazénu"]
["Teplota vody",null,"tsniz",{"$f":"AO29","v":2},"°C","snížení teploty vody (dop 2-3°C)",null,null,"délka bazén","a",{"$f":"AK42","v":25},"m",null,null,null,null,null,null,null,null,null,null,null,null,null,null,null,null,null,null,null,null,null,null,null,null,null,null,null,null,null,"klidový režim"]
["tvz-(2-3)°C",null,"tvod",{"$f":"D6-D21","v":30},"°C",null,null,null,"šířka bazén","b",{"$f":"AK43","v":12},"m",null,null,null,null,null,null,null,null,null,null,null,null,null,null,null,null,null,null,null,null,null,null,null,null,null,null,null,null,null,"ti",24,"°C"]
[null,null,null,null,null,null,null,null,null,null,null,null,null,null,null,null,null,null,null,null,null,null,null,null,null,null,null,null,null,null,null,null,null,null,null,null,null,null,null,null,null,"rhi",55,"%"]
["Mn. odpařené vody",null,null,null,null,null,null,null,null,null,null,null,null,null,null,null,null,null,null,null,null,null,null,null,null,null,null,null,null,"HALA"]
["mw=ε*A*(p´´vp-pvp)",null,"mw",{"$f":"D28*$D$29*($D$12/100-$D$13/100)","v":114158.95101589795},"g/h",null,null,null,null,null,null,null,null,null,null,null,null,null,null,null,null,null,null,null,null,null,null,null,null,null,null,null,null,null,null,null,null,null,null,null,null,null,null,null,null,null,null,null,null,null,null,null,null,null,"plný provoz"]
[null,null,null,{"$f":"D25/1000","v":114.15895101589796},"kg/h",null,null,null,"budova",null,null,null,null,null,null,null,null,null,null,null,null,null,null,null,null,null,null,null,null,"délka","c",40,"m","   c  ",null,null,null,"  a",null,"teplota vody ",null,null,null,null,null,null,null,null,null,null,null,null,null,null,"teplota zvýšení do int",null,"tzv",2,"°C "]
["typ bazenu",null,null,{"$f":"AH47","v":"bazény - normální provoz"},null,null,null,null,"délka","a",{"$f":"AF26","v":40},"m",null,null,null,null,null,null,null,null,null,null,null,null,null,null,null,null,null,"šířka","d",15,"m",null,null,null,null,null,null,"sníření oproti int teplotě",null,null,null,null,null,null,null,null,null,null,null,null,null,null,"klidový režim"]
["mnozstvi odp vody",null,null,{"$f":"VLOOKUP(AH47,Tab_souc_odparu_bazen,7,0)","v":20},null,null,null,"[g/(hPa.m2.h)]","šířka","b",{"$f":"AF27","v":15},"m",null,null,null,null,null,null,null,null,null,null,null,null,null,null,null,null,null,"výška","v",7,"m",null,null,null,null,null,null,"doporučení 2-3°C",null,null,null,null,null,null,null,null,null,null,null,null,null,null,"teplota zvýšení do int",null,"tzv",2,"°C "]
["plocha bazénu",null,"A",{"$f":"K21*K22","v":300},"m2",null,null,null,"výška","v",{"$f":"AF28","v":7},"m","Produkce vlhkosti osobami - klidový režim",null,null,null,null,null,null,null,null,null,null,null,null,null,null,null,null,null,null,null,null,null,null,null,null,null,null,"tsniz",2,"°C"]
["Objem haly",null,"V",{"$f":"K27*K28*K29","v":4200},"m3",null,null,null,null,null,null,null,"počet osob v bazénu",null,"nos",{"$f":"AO36","v":2},null,null,null,null,null,null,null,null,null,null,null,null,null,"Výměna vzduchu"]
[null,null,null,null,null,null,null,null,null,null,null,null,"množství vlhkosti",null,"mos",{"$f":"P30*100","v":200},"g/h",null,null,null,null,null,null,null,null,null,null,null,null,"plný provoz",null,null,null,null,null,null,null,null,null,"Provoz bazénu"]
["Produkce vlhkosti osobami - v provozu",null,null,null,null,null,null,null,null,null,null,null,null,null,null,{"$f":"P31/1000","v":0.2},"kg/h",null,null,null,null,null,null,null,null,null,null,null,null,"n",1,"1/h",null,null,null,null,null,null,null,"počet osob"]
["počet osob v bazénu",null,"nos",{"$f":"AO34","v":60},"počet",null,"Produkce vlhkosti člověkem",null,null,null,null,null,null,null,null,{"$f":"P31/3600","v":5.5555555555555552E-2},"g/s",null,null,null,null,null,null,null,null,null,null,null,null,"klidový režim",null,null,null,null,null,null,"b",null,null,"provoz",null,null,null,"VÝPARNÍK -CHLADIČ"]
["množství vlhkosti",null,"mos",{"$f":"D33*H35","v":6300},"g/h",null,{"$f":"AH50","v":"člověk při středně těžké práci"},null,null,null,null,null,null,null,null,null,null,null,null,null,null,null,null,null,null,null,null,null,null,"n",1,"1/h",null,null,null,null,null,null,null,"nos",60,null,null,"plný provoz"]
[null,null,null,{"$f":"D34/1000","v":6.3},"kg/h",null,{"$f":"VLOOKUP(AH50,Tabulky!W146:Z148,4,0)","v":"60-150"},{"$f":"IF(G35=\"60-150\",105,IF(G35=\"30-60\",45,225))","v":105},"g/h",null,null,null,"Produkce vlhkosti  - klidový režim",null,null,null,null,null,null,null,null,null,null,null,null,null,null,null,null,null,null,null,null,null,null,null,null,null,null,"klid",null,null,null,"teplota chladiče",null,"tch",9,"°C "]
[null,null,null,{"$f":"D34/3600","v":1.75},"g/s",null,"rozmezí","průměr",null,null,null,null,"množství odpařené vody",null,"mw",{"$f":"Tabulky!$G$4*$D$29*($D$12/100-$D$13/100)","v":28539.737753974488},"g/h",null,null,null,null,null,null,null,null,null,null,null,null,"Tepelné zisky",null,null,null,null,null,null,"d",null,null,"nos",2,null,null,"relativní vlhkost",null,"rhch",100,"%"]
["celkové množství odpařené vody",null,null,{"$f":"(D25+D34)*(I37/100+1)","v":126481.89856669286},"g/h",null,null,"korekce ",{"$f":"AH53","v":5},"%",null,null,"celkové množství odpařené vody",null,null,{"$f":"(P36+P31)*(I37/100+1)","v":30176.724641673216},"g/h",null,null,null,null,null,null,null,null,null,null,null,null,"tepelné ztráty","Qzt",7,"kW",null,null,null,null,null,null,"množství čerstvého vzduchu/osoba",null,null,null,"klidový režim"]
["Dimenzování průtoku vzduchu bazénové větrací jednotky pro zátěž",null,null,null,null,null,null,null,null,null,null,null,"Dimenzování průtoku vzduchu bazénové větrací jednotky pro klidový režim",null,null,null,null,null,null,null,null,null,null,null,null,null,null,null,null,"tepelné zisky","Qzisk",16,"kW",null,null,null,null,null,null,"doporučená hodnota při zátěži 50",null,null,null,"teplota chladiče",null,"tch",{"$f":"P61","v":9},"°C "]
["z množství odpařené vody",null,null,null,null,null,null,null,null,null,null,null,"z množství odpařené vody",null,null,null,null,null,null,null,null,null,null,null,null,null,null,null,null,null,null,null,null,null,null,null,null,null,null,"(min hodnota 25m3/h) ",null,null,null,"relativní vlhkost",null,"rhch",{"$f":"P62","v":100},"%"]
["požadovaná vlhkost přiváděná",null,"xpoz",9,"g/kg",null,"doporučená hodnota 8-10 g/kg",null,null,null,null,null,"požadovaná vlhkost přiváděná",null,"xpoz",{"$f":"D40","v":9},"g/kg",null,"doporučená hodnota 8-10 g/kg",null,null,null,null,null,null,null,null,null,null,null,null,null,null,null,null,null,null,null,null,null,50,"m3/h/os"]
[null,null,"V1",{"$f":"(D37)/(D18*(D17-D40))","v":12406.445935942682},"m3/h",null," ",null,{"$f":"D147","v":8.899758868135816},"g/kg s.v.",null,null,null,null,"V1",{"$f":"(P36+P31)/(Konstanty!$F$8*(J17-5))","v":4560.6593112769815},"m3/h",null,null,null,null,null,null,null,null,null,null,null,null,null,null,null,null,"BAZÉN"]
["z objemu haly",null,null,null,null,null,null,null,null,null,null,null,"z objemu haly",null,null,null,null,null,null,null,null,null,null,null,null,null,null,null,null,null,null,null,null,"rozměry","délka","a",25,"m"]
["výměna vzduchu",null,"n",{"$f":"AE32","v":1},"1/h",null,null,null,null,null,null,null,"výměna vzduchu",null,"n",{"$f":"AE34","v":1},"1/h",null,null,null,null,null,null,null,null,null,null,null,null,null,null,null,null,null,"šířka","b",12,"m"]
["V=n*VH",null,"V2",{"$f":"D30*D43","v":4200},"m3/h",null,null,null,null,null,null,null,"V=n*VH",null,"V2",{"$f":"D30*P43","v":4200},"m3/h"]
["z tepelných zisků",null,null,null,null,null,null,null,null,null,null,null,null,null,null,null,null,null,null,null,null,null,null,null,null,null,null,null,null,null,null,null,null,"produkce vlhkosti",null,null,null,null,null,null,null,null,null,null,null,null," "]
[null,"tepelné ztráty","Qzt",{"$f":"AF37","v":7},"kW",null,null,"teplotní spád výústky","dt",8,"°C",null,null,null,null,null,null,null,null,null,null,null,null,null,null,null,null,null,null,null,null,null,null,"provoz bazénu - produkce vlhkosti"]
[null,"tepelné zisky","Qzisk",{"$f":"AF38","v":16},"kW",null,null,null,null,null,null,null,null,null,null,null,null,null,null,null,null,null,null,null,null,null,null,null,null,null,null,null,null,"bazény - normální provoz"]
[null,"Množství vzduchu","V3",{"$f":"((D47-D46)/J46*Konstanty!$F$2*Konstanty!$F$8)","v":1391.90625},"m3/h"]
[null,null,null,null,null,null,null,null,null,null,null,null,null,null,null,null,null,null,null,null,null,null,null,null,null,null,null,null,null,null,null,null,null,"produkce vlhkosti člověkem"]
["potřeba vzduchu pro osoby",null,null,null,null,null,null,null,null,null,null,null,null,null,null,null,null,null,null,null,null,null,null,null,null,null,null,null,null,null,null,null,null,"člověk při středně těžké práci"]
[null,null,"V4",{"$f":"D33*D52","v":3000}]
["množství čerstvého vzduchu/osoba",null,null,{"$f":"AO40","v":50},"m3/h/os",null,"doporučená hodnota při zátěži (min hodnota 25m3/h) ",null,null,null,null,null,null,null,null,null,null,null,null,null,null,null,null,null,null,null,null,null,null,null,null,null,null,"korekce na vodní odpar"]
[null,null,null,null,null,null,null,null,null,null,null,null,null,null,null,null,null,null,null,null,null,null,null,null,null,null,null,null,null,null,null,null,null,5,"%"]
["Potřeba čerstvého vzduchu",null,null,{"$f":"IF(MAX(D41,D44,D48)>D51,\"Ne\",\"Ano\")","v":"Ne"},null,null,"nepočítá s tím dál samo! "]
["Množství čerstvého vzduchu",null,null,{"$f":"IF(D54=\"ano\",D51-MAX(D41,D44,D48),0)","v":0},"m3/h",null,"pouze informativní charakter, množství V čerst rozhodne projektant"]
[]
["průtok vzduchu",null,"V",{"$f":"MAX(D41,D44,D48)","v":12406.445935942682},"m3/h",null,null,null,null," ",null,null,"průtok vzduchu",null,"V",{"$f":"MAX(P41,P44)","v":4560.6593112769815},"m3/h"]
[null,null,"V",{"$f":"D57/3600","v":3.4462349822063003},"m3/s",null,null,null,null,null,null,null,null,null,"V",{"$f":"P57/3600","v":1.2668498086880504},"m3/s"]
[null,null,null,null,null,null,"doporučená hodnota 8-10 g/kg s.v."]
["množství odebrané měrné vlh",null,"Δx",1.6523424824115767,"g/kg s.v",null,"vstupní měrná  vlhkost do int",null,"xvyst",{"$f":"D147","v":8.899758868135816},"g/kg s.v.",null,"množství odebrané měrné vlh",null,"Δx",1.5,"g/kg s.v."]
["teplota chladiče",null,"tch",{"$f":"AU35","v":9},"°C ",null,null,null,null,null,null,null,"teplota chladiče",null,"tch",9,"°C "]
["relativní vlhkost",null,"rhch",{"$f":"AU36","v":100},"%",null,"měrná vlhkost xvýst=8 g/kg s.v.",null,null,null,null,null,"relativní vlhkost",null,"rhch",100,"%"]
[null,null,null,null,null,null,"měrná vlhkost xvýst=9 g/kg s.v."]
[null,null,null,null,null,null,"měrná vlhkost xvýst=10 g/kg s.v.",null,null,null,null,null,"vstupní měrná  vlhkost do int",null,"xvyst",{"$f":"P147","v":9.5940662975648525},"g/kg s.v.",null,null,null,null,null,null,null,null,null,null,null,null,null,"Výkon na kondenzátoru",null,null,null,"Qk",{"$f":"AH101","v":38693.738080568786},"W"]
[null,null,null,null,null,null,null,null,null,null,null,null,null,null,null,null,null,null,null,null,null,null,null,"Parametry chladiče",null,null,null,null,null,null,null,null,null,null,null,{"$f":"AH102","v":38.693738080568785},"kW"]
["t3","parametry vzduchu za vyparnikem",null,null,null,null,null,null,null,null,null,null,"t3","parametry vzduchu za vyparnikem",null,null,null,null,null,null,null,null,null,"teplota",null,"ti",{"$f":"tch","v":9},"°C",null,null,"Teplota požadovaná v interiéru",null,null,null,"ti",{"$f":"Teplota","v":32},"°C"]
["teplota",null,"tvyp",{"$f":"W87","v":28},"°C",null,{"$f":"tvyp-te","v":40},"tvyp-te",null,null,null,null,"teplota",null,"tvyp",{"$f":"W112","v":16},"°C",null,null,null,null,null,null,"relativní vlhkost",null,"rhi",{"$f":"D62","v":100},"%",null,null,null,null,null,null,null,null,null,null,null,null,null,null,null,null,null,null,null,null,null,null,"Výkon na kondenzátoru",null,null,null,"Qk",{"$f":"BB102","v":63695.45392742},"W"]
["relativní vlhkost",null,"rh3",{"$f":"IF((D74/D73)*100>100,100,(D74/D73)*100)","v":68.602849160365636},"%",null,null,null,null,null,null,null,"relativní vlhkost",null,"rh3",{"$f":"IF((P74/P73)*100>100,100,(P74/P73)*100)","v":74.957831234168935},"%",null,null,null,null,null,null,"entalpie s.v.",null,"hsvi",{"$f":"Konstanty!$F$2*AA66","v":9090},"J/kg",null,null,"Výkonová bilance pro režim plného provozu",null,null,null,null,null,null,null,null,null,null,null,null,null,null,null,null,null,null,null,null,null,null,null,null,{"$f":"BB103","v":63.695453927419997},"kW"]
["entalpie s.v.",null,"h3",{"$f":"Konstanty!$F$2*D67","v":28280},"J/kg",null,null,null,null,null,null,null,"entalpie s.v.",null,"h3",{"$f":"Konstanty!$F$2*P67","v":16160},"J/kg",null,null,null,null,null,null,"entalpie v.p.",null,"hvpi",{"$f":"$AA$76*(Konstanty!$F$3*AA66+Konstanty!$F$4)","v":18311.904271787756},"J/kg",null,"Sešit","te","Qdoh te","Qvýpar","dx výp","Qkond","Qdohř celk","Qzbýva","Q dodat","Q přebyt",null,null,null,null,null,null,null,null,null,null,null,"Teplota požadovaná v interiéru",null,null,null,"ti",{"$f":"J6","v":24},"°C"]
["entalpie v.p.",null,"h3",{"$f":"D77*(Konstanty!$F$3*D67+Konstanty!$F$4)","v":41993.783187893598},"J/kg",null,null,null,null,null,null,null,"entalpie v.p.",null,"h3",{"$f":"P77*(Konstanty!$F$3*P67+Konstanty!$F$4)","v":21865.022286924024},"J/kg",null,null,null,null,null,null,"entalpie ",null,"hi",{"$f":"AA68+AA69","v":27401.904271787756},"J/kg",null,null,"°C","W","W","g/kg s.v.","W","W","W","W","W"]
["entalpie ",null,"h3",{"$f":"D69+D70","v":70273.783187893598},"J/kg",null,null,null,null,null,null,null,"entalpie ",null,"h3",{"$f":"P69+P70","v":38025.022286924024},"J/kg",null,null,null,null,null,null,null,null,null,{"$f":"AA70/1000","v":27.401904271787757},"kJ/kg",null,"Vypocet",{"$f":"te","v":-12},{"$f":"IF(AE71<$D$85,$D$88,0)","v":30277.613877609001},{"$f":"$D$81","v":32351.888526279759},{"$f":"deltaT","v":1.6523424824115767},{"$f":"$D$121","v":38693.738080568786},{"$f":"$D$122","v":90731.751996078689},{"$f":"AI71-AJ71","v":-52038.013915509902},{"$f":"IF(AK71<0,ABS(AK71),0)","v":52038.013915509902},{"$f":"IF(AK71>0,AK71,0)","v":0},null,null,null,null,null,null,null,null,null,null,null,"Výkonová bilance pro klidový režim"]
[null,null,null,{"$f":"D71/1000","v":70.273783187893599},"kJ/kg",null,null,null,null,null,null,null,null,null,null,{"$f":"P71/1000","v":38.025022286924028},"kJ/kg",null,null,null,null,null,null,"tlak nasycené vodní páry",null,"p''vpi",{"$f":"Konstanty!$F$12^((1500.3+23.5*AA66)/(234+AA66))","v":1146.4717300807256},"Pa",null,"V2",{"$f":"'V2'!te","v":-10},{"$f":"IF(AE72<'V2'!$D$85,'V2'!$D$88,0)","v":26309.288721395387},{"$f":"'V2'!$D$81","v":27580.433828001267},{"$f":"IF('V2'!deltaT=$AH$71,0,'V2'!deltaT)","v":1.5751818048857211},{"$f":"'V2'!$D$121","v":36473.52298148405},{"$f":"'V2'!$D$122","v":81723.742669729632},{"$f":"AI72-AJ72","v":-45250.219688245583},{"$f":"IF(AK72<0,ABS(AK72),0)","v":45250.219688245583},{"$f":"IF(AK72>0,AK72,0)","v":0},null,null,null,null,null,null,null,null,"te","Qpředehřev","Qpředehřev","Qzbýva","Qdohřátí","Qdohřátí","Qzbýva"]
["tlak nasycené vodní páry",null,"p''vp3",{"$f":"Konstanty!$F$12^((1500.3+23.5*D67)/(234+D67))","v":3781.1605280747926},"Pa",null,null,null,null,null,null,null,"tlak nasycené vodní páry",null,"p''vp3",{"$f":"Konstanty!$F$12^((1500.3+23.5*P67)/(234+P67))","v":1817.4687221052275},"Pa",null,null,null,null,null,null,"tlak  vodní páry",null,"pvpi",{"$f":"(AA67/100)*AA72","v":1146.4717300807256},"Pa",null,"V3",{"$f":"'V3'!te","v":-5},{"$f":"IF(AE73<'V3'!$D$85,'V3'!$D$88,0)","v":16884.901889278393},{"$f":"'V3'!$D$81","v":42872.416079321803},{"$f":"IF('V3'!deltaT=$AH$71,0,'V3'!deltaT)","v":2.3143200042153818},{"$f":"'V3'!$D$121","v":56696.281969042939},{"$f":"'V3'!$D$122","v":82432.228064175069},-25735.946095132131,25735.946095132131,0,null,null,null,null,null,null,null,null,"°C","W","kW","Qpřed- Qk","W","kW","Qpřed- Qk"]
["tlak  vodní páry",null,"pvp3",{"$f":"(D77*D75)/0.622","v":2593.9838535864351},"Pa",null,null,null,null,null,null,null,"tlak  vodní páry",null,"pvp3",{"$f":"(P77*P75)/0.622","v":1362.3351374494432},"Pa",null,null,null,null,null,null,"tlak suchého vzduchu",null,"psvi",{"$f":"AA78*Konstanty!$F$5*(AA66+273.15)","v":98003.397392999992},"Pa",null,"V4",{"$f":"'V4'!te","v":0},{"$f":"IF(AE74<'V4'!$D$85,'V4'!$D$88,0)","v":8132.4325813340638},{"$f":"'V4'!$D$81","v":85631.999119880144},{"$f":"IF('V4'!deltaT=$AH$71,0,'V4'!deltaT)","v":4.6338848301265845},{"$f":"'V4'!$D$121","v":113243.34879310032},{"$f":"'V4'!$D$122","v":89373.746974580718},23869.601818519601,0,23869.601818519601,null,null,null,null,null,null,null,null,{"$f":"te","v":-12},{"$f":"IF(AV74<$D$85,$P$58*($D$86/100)*Konstanty!$F$2*($D$85-AV74),0)","v":6525.5433645521471},{"$f":"AW74/1000","v":6.5255433645521475},{"$f":"$BD$68-AX74","v":57.169910562867848},{"$f":"IF(AV74<$D$85,$P$58*Konstanty!$F$8*Konstanty!$F$2*($BD$69-$D$85),$P$58*Konstanty!$F$8*Konstanty!$F$2*($BD$69-AV74))","v":29780.788590186519},{"$f":"AZ74/1000","v":29.780788590186518},{"$f":"AY74-BA74","v":27.38912197268133}]
["tlak suchého vzduchu",null,"psv3",{"$f":"D79*Konstanty!$F$5*(D67+273.15)","v":98032.849954199992},"Pa",null,null,null,null,null,null,null,"tlak suchého vzduchu",null,"psv3",{"$f":"P79*Konstanty!$F$5*(P67+273.15)","v":98027.697191300002},"Pa",null,null,null,null,null,null,"tlak směsi vlhkého vzduchu",null,"pi",{"$f":"AA73+AA74","v":99149.869123080716},"Pa",null,"V5",{"$f":"'V5'!te","v":5},{"$f":"IF(AE75<'V5'!$D$85,'V5'!$D$88,0)","v":0},{"$f":"'V5'!$D$81","v":113504.73905986393},{"$f":"IF('V5'!deltaT=$AH$71,0,'V5'!deltaT)","v":6.2604920196246585},{"$f":"'V5'!$D$121","v":150103.4296423652},{"$f":"'V5'!$D$122","v":92037.623399685894},58065.806242679304,0,58065.806242679304,null,null,null,null,null,null,null,null,{"$f":"IF(AV74=CEILING(AV74,5),CEILING(AV74,5)+5,CEILING(AV74,5))","v":-10},{"$f":"IF(AV75<$D$85,$P$58*($D$86/100)*Konstanty!$F$2*($D$85-AV75),0)","v":5757.8323804871879},5.757832380487188,57.93762154693281,{"$f":"IF(AV75<$D$85,$P$58*Konstanty!$F$8*Konstanty!$F$2*($BD$69-$D$85),$P$58*Konstanty!$F$8*Konstanty!$F$2*($BD$69-AV75))","v":29780.788590186519},29.780788590186518,28.156832956746292]
["tlak směsi vlhkého vzduchu",null,"p3",{"$f":"D74+D75","v":100626.83380778643},"Pa",null,null,null,null,null,null,null,"tlak směsi vlhkého vzduchu",null,"p3",{"$f":"P74+P75","v":99390.032328749439},"Pa",null,null,null,null,null,null,"měrná vlhkost vzduchu",null,"xi",{"$f":"(Konstanty!$F$5/Konstanty!$F$6)*(AA73/AA74)","v":7.276561763593062E-3},"kg/kg s.v.",null,"V6",{"$f":"'V6'!te","v":10},{"$f":"IF(AE76<'V6'!$D$85,'V6'!$D$88,0)","v":0},{"$f":"'V6'!$D$81","v":145578.90192772908},{"$f":"IF('V6'!deltaT=$AH$71,0,'V6'!deltaT)","v":7.9182084763652885},{"$f":"'V6'!$D$121","v":192519.648465045},{"$f":"'V6'!$D$122","v":97536.866460504869},94982.782004540131,0,94982.782004540131,null,null,null,null,null,null,null,null,{"$f":"AV75+5","v":-5},{"$f":"IF(AV76<$D$85,$P$58*($D$86/100)*Konstanty!$F$2*($D$85-AV76),0)","v":3838.554920324792},3.8385549203247922,59.856899007095208,{"$f":"IF(AV76<$D$85,$P$58*Konstanty!$F$8*Konstanty!$F$2*($BD$69-$D$85),$P$58*Konstanty!$F$8*Konstanty!$F$2*($BD$69-AV76))","v":29780.788590186519},29.780788590186518,30.076110416908691]
["měrná vlhkost vzduchu",null,"x3",{"$f":"D16-deltaT/1000","v":1.6458339808386215E-2},"kg/kg s.v.",null,null,null,null,null,null,null,"měrná vlhkost vzduchu",null,"x3",{"$f":"J16-P60/1000","v":8.6442146431320865E-3},"kg/kg s.v.",null,null,null,null,null,null,null,null,null,{"$f":"AA76*1000","v":7.2765617635930617},"g/kg s.v.",null,"V7",{"$f":"'V7'!te","v":15},{"$f":"IF(AE77<'V7'!$D$85,'V7'!$D$88,0)","v":0},{"$f":"'V7'!$D$81","v":147350.87431255195},{"$f":"'V7'!deltaT","v":8.1},{"$f":"'V7'!$D$121","v":194862.97909948832},{"$f":"'V7'!$D$122","v":92003.298334623018},102859.6807648653,0,102859.6807648653,null,null,null,null,null,null,null,null,0,{"$f":"IF(AV77<$D$85,$P$58*($D$86/100)*Konstanty!$F$2*($D$85-AV77),0)","v":1919.277460162396},1.9192774601623961,61.776176467257599,{"$f":"IF(AV77<$D$85,$P$58*Konstanty!$F$8*Konstanty!$F$2*($BD$69-$D$85),$P$58*Konstanty!$F$8*Konstanty!$F$2*($BD$69-AV77))","v":29780.788590186519},29.780788590186518,31.995387877071082]
[null,null,null,{"$f":"D77*1000","v":16.458339808386214},"g/kg s.v.",null,null,null,null,null,null,null,null,null,null,{"$f":"P77*1000","v":8.6442146431320861},"g/kg s.v.",null,null,null,null,null,null,"hustota vzduchu při t",null,null,{"$f":"VLOOKUP(AA66,Tabulky!$V$15:$AF$75,9,0)","v":1.21},"kg/m3",null,"V8",{"$f":"'V8'!te","v":20},{"$f":"IF(AE78<'V8'!$D$85,'V8'!$D$88,0)","v":0},{"$f":"'V8'!$D$81","v":147350.87431255195},{"$f":"'V8'!deltaT","v":8.1},{"$f":"'V8'!$D$121","v":194862.97909948832},{"$f":"'V8'!$D$122","v":65486.356391653208},129376.62270783511,0,129376.62270783511,null,null,null,null,null,null,null,null,5,{"$f":"IF(AV78<$D$85,$P$58*($D$86/100)*Konstanty!$F$2*($D$85-AV78),0)","v":0},0,63.695453927419997,{"$f":"IF(AV78<$D$85,$P$58*Konstanty!$F$8*Konstanty!$F$2*($BD$69-$D$85),$P$58*Konstanty!$F$8*Konstanty!$F$2*($BD$69-AV78))","v":29780.788590186519},29.780788590186518,33.91466533723348]
["hustota vzduchu při t",null,null,{"$f":"VLOOKUP(tvyp,Tabulky!$V$15:$AF$75,9,0)","v":1.1339999999999999},"kg/m3",null,null,null,null,null,null,null,"hustota vzduchu při t",null,null,{"$f":"VLOOKUP(P67,Tabulky!$V$15:$AF$75,9,0)","v":1.181},"kg/m3",null,null,null,null,null,null,null,null,null,{"$f":"1.395-Teplota*0.004414","v":1.253752},null,null,"V9",{"$f":"'V9'!te","v":25},{"$f":"IF(AE79<'V9'!$D$85,'V9'!$D$88,0)","v":0},{"$f":"'V9'!$D$81","v":147350.87431255195},{"$f":"'V9'!deltaT","v":8.1},{"$f":"'V9'!$D$121","v":194862.97909948832},{"$f":"'V9'!$D$122","v":40595.985236727836},154266.99386276049,0,154266.99386276049,null,null,null,null,null,null,null,null,10,{"$f":"IF(AV79<$D$85,$P$58*($D$86/100)*Konstanty!$F$2*($D$85-AV79),0)","v":0},0,63.695453927419997,{"$f":"IF(AV79<$D$85,$P$58*Konstanty!$F$8*Konstanty!$F$2*($BD$69-$D$85),$P$58*Konstanty!$F$8*Konstanty!$F$2*($BD$69-AV79))","v":21943.738961190065},21.943738961190064,41.751714966229933]
[null,null,null,null,null,null,null,null,null,null,null,null,null,null,null,null,null,null,null,null,null,null,null,null,null,null,null,null,null,"V10",{"$f":"'V10'!te","v":30},{"$f":"IF(AE80<'V10'!$D$85,'V10'!$D$88,0)","v":0},{"$f":"'V10'!$D$81","v":147350.87431255195},{"$f":"'V10'!deltaT","v":8.1},{"$f":"'V10'!$D$121","v":194862.97909948832},{"$f":"IF('V10'!$D$122<0,0,'V10'!$D$122)","v":17189.200328269526},177673.77877121879,0,177673.77877121879,null,null,null,null,null,null,null,null,15,{"$f":"IF(AV80<$D$85,$P$58*($D$86/100)*Konstanty!$F$2*($D$85-AV80),0)","v":0},0,63.695453927419997,{"$f":"IF(AV80<$D$85,$P$58*Konstanty!$F$8*Konstanty!$F$2*($BD$69-$D$85),$P$58*Konstanty!$F$8*Konstanty!$F$2*($BD$69-AV80))","v":14106.689332193615},14.106689332193614,49.58876459522638]
["teplo získané na výparníku",null,"Qv",{"$f":"D58*D18*(D10-D71)","v":32351.888526279759},"W",null,null,null,null,null,null,null,"teplo získané na výparníku",null,"Qv",{"$f":"P58*J18*(J10-P71)","v":47003.773128829853},"W",null,null,null,"A","Ti",{"$f":"Teplota","v":32},null,"B","tch",{"$f":"AA66","v":9},null,null,"V11",{"$f":"'V11'!te","v":35},{"$f":"IF(AE81<'V11'!$D$85,'V11'!$D$88,0)","v":0},{"$f":"'V11'!$D$81","v":147350.87431255195},{"$f":"'V11'!deltaT","v":8.1},{"$f":"'V11'!$D$121","v":194862.97909948832},{"$f":"IF('V11'!$D$122<0,0,'V11'!$D$122)","v":0},194862.97909948832,0,194862.97909948832,null,null,null,null,null,null,null,null,20,{"$f":"IF(AV81<$D$85,$P$58*($D$86/100)*Konstanty!$F$2*($D$85-AV81),0)","v":0},0,63.695453927419997,{"$f":"IF(AV81<$D$85,$P$58*Konstanty!$F$8*Konstanty!$F$2*($BD$69-$D$85),$P$58*Konstanty!$F$8*Konstanty!$F$2*($BD$69-AV81))","v":6269.6397031971619},6.2696397031971616,57.425814224222833,null,null,null,"te","teplota exteriérového vzduchu"]
[null,"rosný bod ","tRB",{"$f":"(243.5*LN(($D$7/100)*Konstanty!$F$12^((17.67*Teplota)/(243.5+Teplota))))/(17.67-(LN(($D$7/100)*Konstanty!$F$12^((17.67*Teplota)/(243.5+Teplota)))))","v":23.274251871309211},"°C ",null,null,null,null,null,null,null,null,"rosný bod ",null,{"$f":"(243.5*LN((J7/100)*Konstanty!$F$12^((17.67*J6)/(243.5+J6))))/(17.67-(LN((J7/100)*Konstanty!$F$12^((17.67*J6)/(243.5+J6)))))","v":14.413817952855092},"°C ",null,null,null,null,"xi",{"$f":"D16","v":1.8110682290797792E-2},null,null,"xch",{"$f":"AA76","v":7.276561763593062E-3},null,null,"V12",{"$f":"'V12'!te","v":40},{"$f":"IF(AE82<'V12'!$D$85,'V12'!$D$88,0)","v":0},{"$f":"'V12'!$D$81","v":147350.87431255195},{"$f":"'V12'!deltaT","v":8.1},{"$f":"'V12'!$D$121","v":194862.97909948832},{"$f":"IF('V12'!$D$122<0,0,'V12'!$D$122)","v":0},194862.97909948832,0,194862.97909948832,null,null,null,null,null,null,null,null,25,{"$f":"IF(AV82<$D$85,$P$58*($D$86/100)*Konstanty!$F$2*($D$85-AV82),0)","v":0},0,63.695453927419997,{"$f":"IF(AV82<$D$85,$P$58*Konstanty!$F$8*Konstanty!$F$2*($BD$69-$D$85),$P$58*Konstanty!$F$8*Konstanty!$F$2*($BD$69-AV82))","v":-1567.4099257992905},-1.5674099257992904,65.262863853219287,null,null,null,"Qpředehřev","Výkon pro předehřátí vzduchu"]
[null,null,null,null,null,null,null,null,null,null,null,null,null,null,null,null,null,null,null,null,null,"xi",{"$f":"D17","v":18.11068229079779},null,null,"xch",{"$f":"AA77","v":7.2765617635930617},null,null,null,null,null,null,null,null,null,null,null,null,null,null,null,null,null,null,null,null,30,{"$f":"IF(AV83<$D$85,$P$58*($D$86/100)*Konstanty!$F$2*($D$85-AV83),0)","v":0},0,63.695453927419997,{"$f":"IF(AV83<$D$85,$P$58*Konstanty!$F$8*Konstanty!$F$2*($BD$69-$D$85),$P$58*Konstanty!$F$8*Konstanty!$F$2*($BD$69-AV83))","v":-9404.4595547957433},-9.4044595547957428,73.09991348221574,null,null,null,"Qdohřátí","Výkon spotřebovaný na dohřátí vzduchu na požadovanou úroveň"]
["Distribuce tepla v závislosti na externí teplotě",null,null,null,null,null,null,null,null,null,null,null,null,null,null,null,null,null,null,null,null,null,null,null,null,null,null,null,null,null,"červeně zvýrazněné pole je teplota ext vyšší než teplota exteriéru, přívod vzduchu plně čerstvý"]
["teplota předehřevu te",null,"tpřed",{"$f":"BA14","v":5},"°C",null,null,null,null,null,null,null,null,null,null,null,null,null,null,null,null,"dx",{"$f":"deltaT","v":1.6523424824115767},null,"výpočet teplochy při teplote chladice"]
["množství čerst vzduchu",null,null,{"$f":"BA15","v":30},"%",null,null,null,null,null,null,null,null,null,null,null,null,null,null,null,null,"th",{"$f":"((W81-AA81)*W83+(AA83-W83)*W81-(W81-AA81)*(W83-W85))/(AA83-W83)","v":28.492204697184455},null,"počítá s přímkou ti - tch a na ní počítá bod",null,null,null,null,null,"Teplo odevzdané na výparníku",null,null,null,null,null,"Množství kondenzátu"]
["množství předehřívaného vzd",null,"V",{"$f":"D58*(D86/100)","v":1.03387049466189},"m3/h",null,null,null,null,null,null,null,null,null,null,null,null,null,null,null,null,null,{"$f":"ROUND(W86,0)","v":28},null,null,null,null,null,null,null,"Qv=V*ρ*(hi-h3)",null,"Qv",{"$f":"D81","v":32351.888526279759},"W",null,"mkond = V*ρ*(xi-x3)",null,"mkond",{"$f":"IF(D58*D18*(D16-D77)<0,0,D58*D18*(D16-D77))","v":6.3719893608635879E-3},"kg/s",null,null,null,null,null,null,null,null,null,"Teplo odevzdané na výparníku",null,null,null,null,null,"Množství kondenzátu"]
["potřeba tepla na předehřev",null,"Qpotř",{"$f":"IF(D85>te,((D87*P18)/(1+P16))*(D85-te)*P18*Konstanty!$F$2,0)","v":30277.613877609001},"W",null,null,null,null,null,null,null,null,null,null,null,null,null,null,null,null,null,null,null,null,null,null,null,null,null,null,null,null,{"$f":"AH87/1000","v":32.351888526279758},"kW",null,null,null,null,{"$f":"AN87*1000","v":6.371989360863588},"g/s",null,null,null,null,null,null,null,null,null,"Qv=V*ρ*(hi-h3)",null,"Qv",{"$f":"P81","v":47003.773128829853},"W",null,"mkond = V*ρ*(xi-x3)",null,"mkond",{"$f":"IF(P58*J18*(J16-P77)<0,0,P58*J18*(J16-P77))","v":2.1834156452738541E-3},"kg/s"]
[null,null,null,null,null,null,null,null,null,null,null,null,null,null,null,null,null,null,null,null,null,null,null,null,null,null,null,null,null,null,null,null,null,null,null,null,null,null,null,{"$f":"AN87*3600","v":22.939161699108915},"kg/h",null,null,null,null,null,null,null,null,null,null,null,null,{"$f":"BB88/1000","v":47.003773128829856},"kW",null,null,null,null,{"$f":"BH88*1000","v":2.183415645273854},"g/s"]
["t4","Předehřev exteriérového vzduchu",null,null,null,null,null,null,null,null,null,null,"t4","Předehřev exteriérového vzduchu",null,null,null,null,null,null,null,null,null,"Parametry chladiče klidovy rezim",null,null,null,null,null,null,"Tepelné čerpadlo (TČ)",null,null,null,"typ TČ",null,null,null,null,null,null,null,null,null,null,null,null,null,null,null,null,null,null,null,null,null,null,null,null,{"$f":"BH88*3600","v":7.8602963229858744},"kg/h"]
["teplota předehřevu",null,"tpředehřev",{"$f":"IF($D$85>te,$D$85,te)","v":5},"°C",null,null,null,null,null,null,null,"teplota předehřevu",null,"tpředehřev",{"$f":"IF($D$85>te,$D$85,te)","v":5},"°C",null,null,null,null,null,null,"teplota",null,"ti",{"$f":"P61","v":9},"°C",null,null,"Topný faktor TČ",null,"COP",{"$f":"VLOOKUP(Teplota,Vypocet!AE115:AF168,2,0)","v":4.1013333333333328},null,null,null,null,null,null,null,null,null,null,null,null,null,null,null,null,"Tepelné čerpadlo (TČ)",null,null,null,"typ TČ"]
[null,null,"rhpředehřev",{"$f":"((D101*P15)/(D97*(0.622+D101)))*100","v":27.771259149521139},"%",null,null,null,null,null,null,null,null,null,"rhpředehřev",{"$f":"((P101*P15)/(P97*(0.622+P101)))*100","v":27.771259149521139},"%",null,null,null,null,null,null,"relativní vlhkost",null,"rhi",{"$f":"P62","v":100},"%",null,null,null,null,null,null,null,null,null,null,null,null,null,null,null,null,null,null,null,null,null,null,"Topný faktor TČ",null,"COP",{"$f":"VLOOKUP(J6,Vypocet!AY116:AZ164,2,0)","v":3.8159999999999998},"Alfa S Duo"]
["entalpie s.v.",null,"hsv4",{"$f":"Konstanty!$F$2*D91","v":5050},"J/kg",null,null,null,null,null,null,null,"entalpie s.v.",null,"hsv4",{"$f":"Konstanty!$F$2*P91","v":5050},"J/kg",null,null,null,null,null,null,"entalpie s.v.",null,"hsvi",{"$f":"Konstanty!$F$2*AA91","v":9090},"J/kg",null,null,"Tepelná bilance TČ"]
["entalpie v.p.",null,"hvp4",{"$f":"D101*(Konstanty!$F$3*D91+Konstanty!$F$4)","v":3850.6641910139074},"J/kg",null,null,null,null,null,null,null,"entalpie v.p.",null,"hvp4",{"$f":"P101*(Konstanty!$F$3*P91+Konstanty!$F$4)","v":3850.6641910139074},"J/kg",null,null,null,null,null,null,"entalpie v.p.",null,"hvpi",{"$f":"$AA$76*(Konstanty!$F$3*AA91+Konstanty!$F$4)","v":18311.904271787756},"J/kg",null,null,"Qk=Pel+Qv",null,null,null,null,null,null,null,null,null,null,null,null,null,null,null,null,null,null,null,"Tepelná bilance TČ"]
["entalpie ",null,"h4",{"$f":"D93+D94","v":8900.6641910139078},"J/kg",null,null,null,null,null,null,null,"entalpie ",null,"h4",{"$f":"P93+P94","v":8900.6641910139078},"J/kg",null,null,null,null,null,null,"entalpie ",null,"hi",{"$f":"AA93+AA94","v":27401.904271787756},"J/kg",null,null,"εt = COP","εt = Qv/Pel",null,null,null,null,null,null,null,null,null,null,null,null,null,null,null,null,null,null,"Qk=Pel+Qv"]
[null,null,null,{"$f":"D95/1000","v":8.9006641910139077},"kJ/kg",null,null,null,null,null,null,null,null,null,null,{"$f":"P95/1000","v":8.9006641910139077},"kJ/kg",null,null,null,null,null,null,null,null,null,{"$f":"AA95/1000","v":27.401904271787757},"kJ/kg",null,null,"Pel=Qk/(1+Et)",null,null,null,null,null,null,null,null,null,null,null,null,null,null,null,null,null,null,null,"εt = COP","εt = Qv/Pel"]
["tlak nasycené vodní páry",null,"p''vp4",{"$f":"Konstanty!$F$12^((1500.3+23.5*D91)/(234+D91))","v":870.47379631007118},"Pa",null,null,null,null,null,null,null,"tlak nasycené vodní páry",null,"p''vp4",{"$f":"Konstanty!$F$12^((1500.3+23.5*P91)/(234+P91))","v":870.47379631007118},"Pa",null,null,null,null,null,null,"tlak nasycené vodní páry",null,"p''vpi",{"$f":"Konstanty!$F$12^((1500.3+23.5*AA91)/(234+AA91))","v":1146.4717300807256},"Pa",null,null,"Výkon kompresoru",null,"Pet",{"$f":"AH87/(AH91+1)","v":6341.8495542890278},"W",null,null,null,null,null,null,null,null,null,null,null,null,null,null,null,"Pel=Qk/(1+Et)"]
["tlak  vodní páry",null,"pvp4",{"$f":"(D92/100)*D97","v":241.74153380194463},"Pa",null,null,null,null,null,null,null,"tlak  vodní páry",null,"pvp4",{"$f":"(P92/100)*P97","v":241.74153380194463},"Pa",null,null,null,null,null,null,"tlak  vodní páry",null,"pvpi",{"$f":"(AA92/100)*AA97","v":1146.4717300807256},"Pa",null,null,null,null,null,{"$f":"AH97/1000","v":6.3418495542890279},"kW",null,null,null,null,null,null,null,null,null,null,null,null,null,null,null,"Výkon kompresoru",null,"Pet",{"$f":"BB88/(BB92-1)","v":16691.680798590147},"W"]
["tlak suchého vzduchu",null,"psv4",{"$f":"D103*Konstanty!$F$5*(D91+273.15)","v":97971.404333100014},"Pa",null,null,null,null,null,null,null,"tlak suchého vzduchu",null,"psv4",{"$f":"P103*Konstanty!$F$5*(P91+273.15)","v":97971.404333100014},"Pa",null,null,null,null,null,null,"tlak suchého vzduchu",null,"psvi",{"$f":"AA103*Konstanty!$F$5*(AA91+273.15)","v":98003.397392999992},"Pa",null,null,"Příkon kompresoru",null,"P0",{"$f":"AH98/AH91","v":1.5462897157726825},"kW",null,null,null,null,null,null,null,null,null,null,null,null,null,null,null,null,null,null,{"$f":"BB98/1000","v":16.691680798590149},"kW"]
["tlak směsi vlhkého vzduchu",null,"p4",{"$f":"D98+D99","v":98213.145866901963},"Pa",null,null,null,null,null,null,null,"tlak směsi vlhkého vzduchu",null,"p4",{"$f":"P98+P99","v":98213.145866901963},"Pa",null,null,null,null,null,null,"tlak směsi vlhkého vzduchu",null,"pi",{"$f":"AA98+AA99","v":99149.869123080716},"Pa",null,null,"Teplo na kondenzátoru"]
["měrná vlhkost vzduchu",null,"x4",{"$f":"P16","v":1.5346182811310008E-3},"kg/kg s.v.",null,null,null,null,null,null,null,"měrná vlhkost vzduchu",null,"x4",{"$f":"P16","v":1.5346182811310008E-3},"kg/kg s.v.",null,null,null,null,null,null,"měrná vlhkost vzduchu",null,"xi",{"$f":"(Konstanty!$F$5/Konstanty!$F$6)*(AA98/AA99)","v":7.276561763593062E-3},"kg/kg s.v.",null,null,"Výkon na kondenzátoru",null,"Qk",{"$f":"AH97+AH87","v":38693.738080568786},"W",null,null,null,null,null,null,null,null,null,null,null,null,null,null,null,"Teplo na kondenzátoru"]
[null,null,null,{"$f":"D101*1000","v":1.5346182811310007},"g/kg s.v.",null,null,null,null,null,null,null,null,null,null,{"$f":"P101*1000","v":1.5346182811310007},"g/kg s.v.",null,null,null,null,null,null,null,null,null,{"$f":"AA101*1000","v":7.2765617635930617},"g/kg s.v.",null,null,null,null,null,{"$f":"AH101/1000","v":38.693738080568785},"kW",null,null,null,null,null,null,null,null,null,null,null,null,null,null,null,"Výkon na kondenzátoru",null,"Qk",{"$f":"BB98+BB88","v":63695.45392742},"W"]
["hustota vzduchu při t",null,null,{"$f":"VLOOKUP(D91,Tabulky!$V$15:$AF$75,9,0)","v":1.2270000000000001},"kg/m3",null,null,null,null,null,null,null,"hustota vzduchu při t",null,null,{"$f":"VLOOKUP(P91,Tabulky!$V$15:$AF$75,9,0)","v":1.2270000000000001},"kg/m3",null,null,null,null,null,null,"hustota vzduchu při t",null,null,{"$f":"VLOOKUP(AA91,Tabulky!$V$15:$AF$75,9,0)","v":1.21},"kg/m3",null,null,null,null,null,null,null,null,null,null,null,null,null,null,null,null,null,null,null,null,null,null,null,null,null,{"$f":"BB102/1000","v":63.695453927419997},"kW",null,null,null,null,null,null,null,"  "]
[null,null,null,null,null,null,null,null,null,null,null,null,null,null,null,null,null,null,null,null,null,null,null,null,null,null,{"$f":"1.395-Teplota*0.004414","v":1.253752}]
["t4'","smíšení vzduchu s exteriérovým",null,null,null,null,null,null,null,null,null,null,"t4'","smíšení vzduchu s exteriérovým",null,null,null,null,null,null,null,null,null,null,null,null,null,null,null,null,"Graf topneho faktoru ",null,null,"TnG Air 13, vzduch/voda"]
["Množství čerstvého vzduchu",null,"Včerstv",{"$f":"IF(D91>tvyp,100,$D$86)","v":30},"%",null,null,null,null,null,null,null,"Množství čerstvého vzduchu",null,"Včerstv",{"$f":"IF(P91>tvyp,100,$D$86)","v":30},"%",null,null,null,"A","Ti",{"$f":"J6","v":24},null,"B","tch",{"$f":"AA91","v":9},null,null,null,null,null,null,null,null,null,null,null,null,null,null,null,null,null,null,null,null,null,null,null,"Graf topneho faktoru ",null,null,"TnG Air 13, vzduch/voda"]
["teplota vzduchu",null,"t4",{"$f":"ROUND(((((D106/100)*D58)*D91+((1-(D106/100))*D58)*tvyp)/D58),0)","v":21},"°C",null,null,null,null,null,null,null,"teplota vzduchu",null,"t4",{"$f":"ROUND(((((P106/100)*P58)*P91+((1-(P106/100))*P58)*tvyp)/P58),0)","v":21},"°C",null,null,null,null,"xi",{"$f":"J16","v":1.0144214643132086E-2},null,null,"xch",{"$f":"AA101","v":7.276561763593062E-3},null,null,null,"teplota",-18,-15,-10,-5,0,5,10,15]
["relativní vlhkost",null,"rh4",{"$f":"ROUND(((1-(D106/100))*D68+(D106/100)*D92),1)","v":56.4},"%",null,null,null,null,null,null,null,"relativní vlhkost",null,"rh4",{"$f":"ROUND(((1-(P106/100))*P68+(P106/100)*P92),1)","v":60.8},"%",null,null,null,null,"xi",{"$f":"J17","v":10.144214643132086},null,null,"xch",{"$f":"AA102","v":7.2765617635930617},null,null,null,"vykon",4.7,5.75,7,8.24,9.4600000000000009,10.69,11.8,13.1,null,null,null,null,null,null,null,null,null,null,null,"teplota",-18,-15,-10,-5,0,5,10,15]
["entalpie s.v.",null,"hsv4",{"$f":"Konstanty!$F$2*D107","v":21210},"J/kg",null,null,null,null,null,null,null,"entalpie s.v.",null,"hsv4",{"$f":"Konstanty!$F$2*P107","v":21210},"J/kg",null,null,null,null,null,null,null,null,null,null,null,null,null,"el prikon",2.2400000000000002,2.4700000000000002,2.72,2.94,3.2,3.37,3.55,3.85,null,null,null,null,null,null,null,null,null,null,null,"vykon",4.7,5.75,7,8.24,9.4600000000000009,10.69,11.8,13.1]
["entalpie v.p.",null,"hvp4",{"$f":"D117*(Konstanty!$F$3*D107+Konstanty!$F$4)","v":22593.283853004308},"J/kg",null,null,null,null,null,null,null,"entalpie v.p.",null,"hvp4",{"$f":"P117*(Konstanty!$F$3*P107+Konstanty!$F$4)","v":24355.88046565004},"J/kg",null,null,null,null,"dx",{"$f":"P60","v":1.5},null,null,null,null,null,null,null,"COP",2.1,2.33,2.57,2.8,2.96,3.17,3.32,3.4,null,null,null,null,null,null,null,null,null,null,null,"el prikon",2.2400000000000002,2.4700000000000002,2.72,2.94,3.2,3.37,3.55,3.85]
["entalpie ",null,"h4",{"$f":"D109+D110","v":43803.283853004308},"J/kg",null,null,null,null,null,null,null,"entalpie ",null,"h4",{"$f":"P109+P110","v":45565.880465650043},"J/kg",null,null,null,null,"th",{"$f":"((W106-AA106)*W108+(AA108-W108)*W106-(W106-AA106)*(W108-W110))/(AA108-W108)","v":16.153862079842494},null,null,null,null,null,null,null,null,null,null,{"$f":"AH110-AG110","v":0.23999999999999977},0.22999999999999998,0.16000000000000014,0.20999999999999996,0.14999999999999991,8.0000000000000071E-2,"průměr",{"$f":"AVERAGE(AG111:AM111)","v":0.17833333333333332},"prumer/1",{"$f":"AO111/5","v":3.5666666666666666E-2},null,null,null,null,null,null,null,"COP",2.1,2.33,2.57,2.8,2.96,3.17,3.32,3.4]
[null,null,null,{"$f":"D111/1000","v":43.803283853004309},"kJ/kg",null,null,null,null,null,null,null,null,null,null,{"$f":"P111/1000","v":45.565880465650046},"kJ/kg",null,null,null,null,null,{"$f":"ROUND(W111,0)","v":16},null,null,null,null,null,null,null,null,"popis závislosti",null,"y=0,18571x+2,96",null,null,null,null,null,null,null,null,null,null,null,null,null,null,null,null,null,null,null,{"$f":"BB111-BA111","v":0.23999999999999977},0.22999999999999998,0.16000000000000014,0.20999999999999996,0.14999999999999991,8.0000000000000071E-2,"průměr",{"$f":"AVERAGE(BA112:BG112)","v":0.17833333333333332},"prumer/1",{"$f":"BI112/5","v":3.5666666666666666E-2}]
["tlak nasycené vodní páry",null,"p''vp4",{"$f":"Konstanty!$F$12^((1500.3+23.5*D107)/(234+D107))","v":2486.9778299134878},"Pa",null,null,null,null,null,null,null,"tlak nasycené vodní páry",null,"p''vp4",{"$f":"Konstanty!$F$12^((1500.3+23.5*P107)/(234+P107))","v":2486.9778299134878},"Pa",null,null,null,null,null,null,null,null,null,null,null,null,null,null,null,null,null,null,null,null,null,null,null,null,null,null,null,null,null,null,null,null,null,null,"popis závislosti",null,"y=0,18571x+2,96"]
["tlak  vodní páry",null,"pvp4",{"$f":"(D108/100)*D113","v":1402.6554960712069},"Pa",null,null,null,null,null,null,null,"tlak  vodní páry",null,"pvp4",{"$f":"(P108/100)*P113","v":1512.0825205874005},"Pa",null,null,null,null,null,null,null,null,null,null,null,null,null,"teplota","COP",null,{"$f":"AF107","v":-18},{"$f":"AF110","v":2.1}]
["tlak suchého vzduchu",null,"psv4",{"$f":"D119*Konstanty!$F$5*(D107+273.15)","v":98034.012555300011},"Pa",null,null,null,null,null,null,null,"tlak suchého vzduchu",null,"psv4",{"$f":"P119*Konstanty!$F$5*(P107+273.15)","v":98034.012555300011},"Pa",null,null,null,null,null,null,null,null,null,null,null,null,null,-18,{"$f":"$AQ$111*AE115+$AJ$110","v":2.3180000000000001},null,{"$f":"AG107","v":-15},{"$f":"AG110","v":2.33},null,null,null,null,null,null,null,null,null,null,null,null,null,null,null,"teplota","COP"]
["tlak směsi vlhkého vzduchu",null,"p4",{"$f":"D114+D115","v":99436.66805137122},"Pa",null,null,null,null,null,null,null,"tlak směsi vlhkého vzduchu",null,"p4",{"$f":"P114+P115","v":99546.09507588741},"Pa",null,null,null,null,null,null,null,null,null,null,null,null,null,-17,2.3536666666666668,null,{"$f":"AH107","v":-10},{"$f":"AH110","v":2.57},null,null,null,null,null,null,null,null,null,null,null,null,null,null,null,-18,{"$f":"$AQ$111*AY116+$AJ$110","v":2.3180000000000001}]
["měrná vlhkost vzduchu",null,"x4",{"$f":"(Konstanty!$F$5/Konstanty!$F$6)*(D114/D115)","v":8.8997588681358156E-3},"kg/kg s.v.",null,null,null,null,null,null,null,"měrná vlhkost vzduchu",null,"x4",{"$f":"(Konstanty!$F$5/Konstanty!$F$6)*(P114/P115)","v":9.594066297564853E-3},"kg/kg s.v.",null,null,null,null,null,null,null,null,null,null,null,null,null,-16,2.3893333333333331,null,{"$f":"AI107","v":-5},{"$f":"AI110","v":2.8},null,null,null,null,null,null,null,null,null,null,null,null,null,null,null,-17,2.3536666666666668]
[null,null,null,{"$f":"D117*1000","v":8.899758868135816},"g/kg s.v.",null,null,null,null,null,null,null,null,null,null,{"$f":"P117*1000","v":9.5940662975648525},"g/kg s.v.",null,null,null,null,null,null,null,null,null,null,null,null,null,-15,2.4249999999999998,null,{"$f":"AJ107","v":0},{"$f":"AJ110","v":2.96},null,null,null,null,null,null,null,null,null,null,null,null,null,null,null,-16,2.3893333333333331]
["hustota vzduchu při t",null,null,{"$f":"VLOOKUP(D107,Tabulky!$V$15:$AF$75,9,0)","v":1.161},"kg/m3",null,null,null,null,null,null,null,"hustota vzduchu při t",null,null,{"$f":"VLOOKUP(P107,Tabulky!$V$15:$AF$75,9,0)","v":1.161},"kg/m3",null,null,null,null,null,null,null,null,null,null,null,null,null,-14,2.4606666666666666,null,{"$f":"AK107","v":5},{"$f":"AK110","v":3.17},null,null,null,null,null,null,null,null,null,null,null,null,null,null,null,-15,2.4249999999999998]
[null,null,null,null,null,null,null,null,null,null,null,null,null,null,null,null,null,null,null,null,null,null,null,null,null,null,null,null,null,null,-13,2.4963333333333333,null,{"$f":"AL107","v":10},{"$f":"AL110","v":3.32},null,null,null,null,null,null,null,null,null,null,null,null,null,null,null,-14,2.4606666666666666]
["množství tepla na kondenzátoru",null,"Qk",{"$f":"AH101","v":38693.738080568786},"W",null,null,"přepočet mw na msv",{"$f":"(D58*D119)/(1+D117)","v":3.9657842904336142},"m3/s",null,null,"množství tepla na kondenzátoru",null,"Qk",{"$f":"BB102","v":63695.45392742},"W",null,null,null,null,null,null,null,null,null,null,null,null,null,-12,2.532,null,{"$f":"AM107","v":15},{"$f":"AM110","v":3.4},null,null,null,null,null,null,null,null,null,null,null,null,null,null,null,-13,2.4963333333333333]
["Požadované teplo na dohřev",null,"Qpož",{"$f":"(D134-D107)*Konstanty!F2*D119*I121+D88","v":90731.751996078689},"W",null,null,null,null,null,null,null,"Požadované teplo na dohřev",null,null,{"$f":"(P134-P107)*Konstanty!$F$2*P119*P58","v":19311.769804154032},"W",null,null,null,null,null,null,null,null,null,null,null,null,null,-11,2.5676666666666668,null,null,null,null,null,null,null,null,null,null,null,null,null,null,null,null,null,null,-12,2.532]
[null,null,null,null,null,null,null,null,null,null,null,null,null,null,null,null,null,null,null,null,null,null,null,null,null,null,null,null,null,null,-10,2.6033333333333335,null,null,null,null,null,null,null,null,null,null,null,null,null,null,null,null,null,null,-11,2.5676666666666668]
["potřeba dohřevu",null,"Qdohř",{"$f":"IF((D122-D121)>0,D122-D121,0)","v":52038.013915509902},"W",null,null,null,null,null,null,null,"potřeba dohřevu",null,"Qdohř",{"$f":"IF((P122-P121)>0,P122-P121,0)","v":0},"W",null,null,null,null,null,null,null,null,null,null,null,null,null,-9,2.6389999999999998,null,null,null,null,null,null,null,null,null,null,null,null,null,null,null,null,null,null,-10,2.6033333333333335]
["přebytečné teplo",null,"Qpřebyt",{"$f":"IF((D122-D121)<0,D121-D122,0)","v":0},"W",null,null,null,null,null,null,null,"přebytečné teplo",null,"Qpřebyt",{"$f":"IF((P122-P121)<0,P121-P122,0)","v":44383.684123265964},"W",null,null,null,null,null,null,null,null,null,null,null,null,null,-8,2.6746666666666665,null,null,null,null,null,null,null,null,null,null,null,null,null,null,null,null,null,null,-9,2.6389999999999998]
[null,null,null,null,null,null,null,null,null,null,null,null,null,null,null,null,null,null,null,null,null,null,null,null,null,null,null,null,null,null,-7,2.7103333333333333,null,null,null,null,null,null,null,null,null,null,null,null,null,null,null,null,null,null,-8,2.6746666666666665]
[null,null,null,null,null,null,null,null,null,null,null,null,null,null,null,null,null,null,null,null,null,null,null,null,null,null,null,null,null,null,-6,2.746,null,null,null,null,null,null,null,null,null,null,null,null,null,null,null,null,null,null,-7,2.7103333333333333]
["teplota zvýšení do int",null,"tzv",{"$f":"BF26","v":2},"°C ",null,null,null,null,null,null,null,null,"teplota zvýšení do int","tzv",{"$f":"BF28","v":2},"°C ",null,null,null,null,null,null,null,null,null,null,null,null,null,-5,2.7816666666666667,null,null,null,null,null,null,null,null,null,null,null,null,null,null,null,null,null,null,-6,2.746]
[null,null,"doporučená hodnota 1-2°C ",null,null,null,null,null,null,null,null,null,null,null,"doporučená hodnota 1-2°C ",null,null,null,null,null,null,null,null,null,null,null,null,null,null,null,-4,2.8173333333333335,null,null,null,null,null,null,null,null,null,null,null,null,null,null,null,null,null,null,-5,2.7816666666666667]
[null,null,null,null,null,null,null,null,null,null,null,null,null,null,null,null,null,null,null,null,null,null,null,null,null,null,null,null,null,null,-3,2.8529999999999998,null,null,null,null,null,null,null,null,null,null,null,null,null,null,null,null,null,null,-4,2.8173333333333335]
[null,null,null,null,null,null,null,null,null,null,null,null,null,null,null,null,null,null,null,null,null,null,null,null,null,null,null,null,null,null,-2,2.8886666666666665,null,null,null,null,null,null,null,null,null,null,null,null,null,null,null,null,null,null,-3,2.8529999999999998]
[null,null,null,null,null,null,null,null,null,null,null,null,null,null,null,null,null,null,null,null,null,null,null,null,null,null,null,null,null,null,-1,2.9243333333333332,null,null,null,null,null,null,null,null,null,null,null,null,null,null,null,null,null,null,-2,2.8886666666666665]
["t5","parametry vyduchu za kondenzátorem",null,null,null,null,null,null,null,null,null,null,"t5","parametry vyduchu za kondenzátorem",null,null,null,null,null,null,null,null,null,null,null,null,null,null,null,null,0,2.96,null,null,null,null,null,null,null,null,null,null,null,null,null,null,null,null,null,null,-1,2.9243333333333332]
["požadovaná teplotateplota do I",null,"t5",{"$f":"Teplota+D128","v":34},"°C",null,null,null,null,null,null,null,"požadovaná teplota do I",null,"t5",{"$f":"Teplota+P128","v":34},"°C",null,null,null,null,null,null,null,null,null,null,null,null,null,1,2.9956666666666667,null,null,null,null,null,null,null,null,null,null,null,null,null,null,null,null,null,null,0,2.96]
[null,null,null,null,null,null,null,null,null,null,null,null,null,null,null,null,null,null,null,null,null,null,null,null,null,null,null,null,null,null,2,3.0313333333333334,null,null,null,null,null,null,null,null,null,null,null,null,null,null,null,null,null,null,1,2.9956666666666667]
[null,null,null,null,null,null,null,null,null,null,null,null,null,null,null,null,null,null,null,null,null,null,null,null,null,null,null,null,null,null,3,3.0670000000000002,null,null,null,null,null,null,null,null,null,null,null,null,null,null,null,null,null,null,2,3.0313333333333334]
["relativní vlhkost",null,"rh5",{"$f":"((D146*D116)/(D142*(0.622+D146)))*100","v":26.359954573354266},"%",null,null,null,null,null,null,null,"relativní vlhkost",null,"rh5",{"$f":"((P146*P116)/(P142*(0.622+P146)))*100","v":28.416403964579317},"%",null,null,null,null,null,null,null,null,null,null,null,null,null,4,3.1026666666666665,null,null,null,null,null,null,null,null,null,null,null,null,null,null,null,null,null,null,3,3.0670000000000002]
["entalpie s.v.",null,"hsv5",{"$f":"Konstanty!$F$2*D134","v":34340},"J/kg",null,null,null,null,null,null,null,"entalpie s.v.",null,"hsv5",{"$f":"Konstanty!$F$2*P134","v":34340},"J/kg",null,null,null,null,null,null,null,null,null,null,null,null,null,5,3.1383333333333332,null,null,null,null,null,null,null,null,null,null,null,null,null,null,null,null,null,null,4,3.1026666666666665]
["entalpie v.p.",null,"hvp5",{"$f":"D146*(Konstanty!$F$3*D134+Konstanty!$F$4)","v":22806.166085130117},"J/kg",null,null,null,null,null,null,null,"entalpie v.p.",null,"hvp5",{"$f":"P146*(Konstanty!$F$3*P134+Konstanty!$F$4)","v":24585.370531487788},"J/kg",null,null,null,null,null,null,null,null,null,null,null,null,null,6,3.1739999999999999,null,null,null,null,null,null,null,null,null,null,null,null,null,null,null,null,null,null,5,3.1383333333333332]
["entalpie ",null,"h5",{"$f":"D138+D139","v":57146.166085130113},"J/kg",null,null,null,null,null,null,null,"entalpie ",null,"h5",{"$f":"P138+P139","v":58925.370531487788},"J/kg",null,null,null,null,null,null,null,null,null,null,null,null,null,7,3.2096666666666667,null,null,null,null,null,null,null,null,null,null,null,null,null,null,null,null,null,null,6,3.1739999999999999]
[null,null,null,{"$f":"D140/1000","v":57.146166085130112},"kJ/kg",null,null,null,null,null,null,null,null,null,null,{"$f":"P140/1000","v":58.925370531487786},"kJ/kg",null,null,null,null,null,null,null,null,null,null,null,null,null,8,3.2453333333333334,null,null,null,null,null,null,null,null,null,null,null,null,null,null,null,null,null,null,7,3.2096666666666667]
["tlak nasycené vodní páry",null,"p''vp5",{"$f":"Konstanty!$F$12^((1500.3+23.5*D134)/(234+D134))","v":5321.3250022529974},"Pa",null,null,null,null,null,null,null,"tlak nasycené vodní páry",null,"p''vp5",{"$f":"Konstanty!$F$12^((1500.3+23.5*P134)/(234+P134))","v":5321.3250022529974},"Pa",null,null,null,null,null,null,null,null,null,null,null,null,null,9,3.2810000000000001,null,null,null,null,null,null,null,null,null,null,null,null,null,null,null,null,null,null,8,3.2453333333333334]
["tlak  vodní páry",null,"pvp5",{"$f":"(D137/100)*D142","v":1402.6988532944331},"Pa",null,null,null,null,null,null,null,"tlak  vodní páry",null,"pvp5",{"$f":"(P137/100)*P142","v":1512.1292089083713},"Pa",null,null,null,null,null,null,null,null,null,null,null,null,null,10,3.3166666666666664,null,null,null,null,null,null,null,null,null,null,null,null,null,null,null,null,null,null,9,3.2810000000000001]
["tlak suchého vzduchu",null,"psv5",{"$f":"D148*Konstanty!$F$5*(D134+273.15)","v":97958.084656299994},"Pa",null,null,null,null,null,null,null,"tlak suchého vzduchu",null,"psv5",{"$f":"Konstanty!$F$8*Konstanty!$F$5*(P134+273.15)","v":108009.58929249999},"Pa",null,null,null,null,null,null,null,null,null,null,null,null,null,11,3.3523333333333332,null,null,null,null,null,null,null,null,null,null,null,null,null,null,null,null,null,null,10,3.3166666666666664]
["tlak směsi vlhkého vzduchu",null,"p5",{"$f":"D143+D144","v":99360.783509594432},"Pa",null,null,null,null,null,null,null,"tlak směsi vlhkého vzduchu",null,"p5",{"$f":"P143+P144","v":109521.71850140837},"Pa",null,null,null,null,null,null,null,null,null,null,null,null,null,12,3.3879999999999999,null,null,null,null,null,null,null,null,null,null,null,null,null,null,null,null,null,null,11,3.3523333333333332]
["měrná vlhkost vzduchu",null,"x5",{"$f":"D117","v":8.8997588681358156E-3},"kg/kg s.v.",null,null,null,null,null,null,null,"měrná vlhkost vzduchu",null,"x5",{"$f":"P117","v":9.594066297564853E-3},"kg/kg s.v.",null,null,null,null,null,null,null,null,null,null,null,null,null,13,3.4236666666666666,null,null,null,null,null,null,null,null,null,null,null,null,null,null,null,null,null,null,12,3.3879999999999999]
[null,null,null,{"$f":"D146*1000","v":8.899758868135816},"g/kg s.v.",null,null,null,null,null,null,null,null,null,null,{"$f":"P146*1000","v":9.5940662975648525},"g/kg s.v.",null,null,null,null,null,null,null,null,null,null,null,null,null,14,{"$f":"$AQ$111*AE147+$AJ$110","v":3.4593333333333334},null,null,null,null,null,null,null,null,null,null,null,null,null,null,null,null,null,null,13,3.4236666666666666]
["hustota vzduchu při t",null,null,{"$f":"VLOOKUP(D134,Tabulky!$V$15:$AF$75,9,0)","v":1.111},"kg/m3",null,null,null,null,null,null,null,"hustota vzduchu při t",null,null,{"$f":"VLOOKUP(P134,Tabulky!$V$15:$AF$75,9,0)","v":1.111},"kg/m3",null,null,null,null,null,null,null,null,null,null,null,null,null,15,3.4950000000000001,null,null,null,null,null,null,null,null,null,null,null,null,null,null,null,null,null,null,14,{"$f":"$AQ$111*AY148+$AJ$110","v":3.4593333333333334}]
[null,null,null,null,null,null,null,null,null,null,null,null,null,null,null,null,null,null,null,null,null,null,null,null,null,null,null,null,null,null,16,3.5306666666666668,null,null,null,null,null,null,null,null,null,null,null,null,null,null,null,null,null,null,15,3.4950000000000001]
["navlhčení z prostoru",null,null,null,null,null,null,null,null,null,null,null,"navlhčení z prostoru",null,null,null,null,null,null,null,null,null,null,null,null,null,null,null,null,null,17,3.5663333333333331,null,null,null,null,null,null,null,null,null,null,null,null,null,null,null,null,null,null,16,3.5306666666666668]
["dx=n.100/V.ρ",null,"dx",{"$f":"(D33*100)/D57*Konstanty!$F$8","v":0.59243396843461305},"g/kg s.v",null,null,null,null,null,null,null,"dx=n.100/V.ρ",null,"dx",{"$f":"(P30*100)/P57*Konstanty!$F$8","v":5.3720302982114262E-2},"g/kg s.v",null,null,null,null,null,null,null,null,null,null,null,null,null,18,3.6019999999999999,null,null,null,null,null,null,null,null,null,null,null,null,null,null,null,null,null,null,17,3.5663333333333331]
[null,null,null,null,null,null,null,null,null,null,null,null,null,null,null,null,null,null,null,null,null,null,null,null,null,null,null,null,null,null,19,3.6376666666666666,null,null,null,null,null,null,null,null,null,null,null,null,null,null,null,null,null,null,18,3.6019999999999999]
[null,null,null,null,null,null,null,null,null,null,null,null,null,null,null,null,null,null,null,null,null,null,null,null,null,null,null,null,null,null,20,3.6733333333333333,null,null,null,null,null,null,null,null,null,null,null,null,null,null,null,null,null,null,19,3.6376666666666666]
[null,null,null,null,null,null,null,null,null,null,null,null,null,null,null,null,null,null,null,null,null,null,null,null,null,null,null,null,null,null,21,3.7090000000000001,null,null,null,null,null,null,null,null,null,null,null,null,null,null,null,null,null,null,20,3.6733333333333333]
[null,null,null,null,null,null,null,null,null,null,null,null,null,null,null,null,null,null,null,null,null,null,null,null,null,null,null,null,null,null,22,3.7446666666666664,null,null,null,null,null,null,null,null,null,null,null,null,null,null,null,null,null,null,21,3.7090000000000001]
[null,null,null,null,null,null,null,null,null,null,null,null,null,null,null,null,null,null,null,null,null,null,null,null,null,null,null,null,null,null,23,3.7803333333333331,null,null,null,null,null,null,null,null,null,null,null,null,null,null,null,null,null,null,22,3.7446666666666664]
[null,null,null,null,null,null,null,null,null,null,null,null,null,null,null,null,null,null,null,null,null,null,null,null,null,null,null,null,null,null,24,3.8159999999999998,null,null,null,null,null,null,null,null,null,null,null,null,null,null,null,null,null,null,23,3.7803333333333331]
[null,null,null,null,null,null,null,null,null,null,null,null,null,null,null,null,null,null,null,null,null,null,null,null,null,null,null,null,null,null,25,3.8516666666666666,null,null,null,null,null,null,null,null,null,null,null,null,null,null,null,null,null,null,24,3.8159999999999998]
[null,null,null,null,null,null,null,null,null,null,null,null,null,null,null,null,null,null,null,null,null,null,null,null,null,null,null,null,null,null,26,3.8873333333333333,null,null,null,null,null,null,null,null,null,null,null,null,null,null,null,null,null,null,25,3.8516666666666666]
[null,null,null,null,null,null,null,null,null,null,null,null,null,null,null,null,null,null,null,null,null,null,null,null,null,null,null,null,null,null,27,3.923,null,null,null,null,null,null,null,null,null,null,null,null,null,null,null,null,null,null,26,3.8873333333333333]
[null,null,null,null,null,null,null,null,null,null,null,null,null,null,null,null,null,null,null,null,null,null,null,null,null,null,null,null,null,null,28,3.9586666666666668,null,null,null,null,null,null,null,null,null,null,null,null,null,null,null,null,null,null,27,3.923]
[null,null,null,null,null,null,null,null,null,null,null,null,null,null,null,null,null,null,null,null,null,null,null,null,null,null,null,null,null,null,29,3.9943333333333335,null,null,null,null,null,null,null,null,null,null,null,null,null,null,null,null,null,null,28,3.9586666666666668]
[null,null,null,null,null,null,null,null,null,null,null,null,null,null,null,null,null,null,null,null,null,null,null,null,null,null,null,null,null,null,30,4.03,null,null,null,null,null,null,null,null,null,null,null,null,null,null,null,null,null,null,29,3.9943333333333335]
[null,null,null,null,null,null,null,null,null,null,null,null,null,null,null,null,null,null,null,null,null,null,null,null,null,null,null,null,null,null,31,4.065666666666667,null,null,null,"teplota",-18,-15,-10,-5,0,5,10,15,20,25,30,null,null,null,30,4.03]
[null,null,null,null,null,null,null,null,null,null,null,null,null,null,null,null,null,null,null,null,null,null,null,null,null,null,null,null,null,null,32,4.1013333333333328,null,null,null,"COP",2.1,2.33,2.57,2.8,2.96,3.17,3.32,3.4,3.67,3.85,4.03]
[null,null,null,null,null,null,null,null,null,null,null,null,null,null,null,null,null,null,null,null,null,null,null,null,null,null,null,null,null,null,33,4.1370000000000005]
[null,null,null,null,null,null,null,null,null,null,null,null,null,null,null,null,null,null,null,null,null,null,null,null,null,null,null,null,null,null,34,4.1726666666666663]
[null,null,null,null,null,null,null,null,null,null,null,null,null,null,null,null,null,null,null,null,null,null,null,null,null,null,null,null,null,null,35,4.208333333333333]
[]
[]
[]
[]
[]
[null,null,null,null,null,null,null,null,null,null,null,null,null,null,null,null,null,null,null,null,null,null,null,null,null,null,null,null,null,null,"dt vyp"]
[null,null,null,null,null,null,null,null,null,null,null,null,null,null,null,null,null,null,null,null,null,null,null,null,null,null,null,null,null,null,2]
[null,null,null,null,null,null,null,null,null,null,null,null,null,null,null,null,null,null,null,null,null,null,null,null,null,null,null,null,null,null,3]
[null,null,null,null,null,null,null,null,null,null,null,null,null,null,null,null,null,null,null,null,null,null,null,null,null,null,null,null,null,null,4]
[null,null,null,null,null,null,null,null,null,null,null,null,null,null,null,null,null,null,null,null,null,null,null,null,null,null,null,null,null,null,5]
[null,null,null,null,null,null,null,null,null,null,null,null,null,null,null,null,null,null,null,null,null,null,null,null,null,null,null,null,null,null,6,{"$f":"D124","v":52038.013915509902}]
[null,null,null,null,null,null,null,null,null,null,null,null,null,null,null,null,null,null,null,null,null,null,null,null,null,null,null,null,null,null,7]
[null,null,null,null,null,null,null,null,null,null,null,null,null,null,null,null,null,null,null,null,null,null,null,null,null,null,null,null,null,null,8]
[null,null,null,null,null,null,null,null,null,null,null,null,null,null,null,null,null,null,null,null,null,null,null,null,null,null,null,null,null,null,9]
[null,null,null,null,null,null,null,null,null,null,null,null,null,null,null,null,null,null,null,null,null,null,null,null,null,null,null,null,null,null,10]
[null,null,null,null,null,null,null,null,null,null,null,null,null,null,null,null,null,null,null,null,null,null,null,null,null,null,null,null,null,null,11]
[null,null,null,null,null,null,null,null,null,null,null,null,null,null,null,null,null,null,null,null,null,null,null,null,null,null,null,null,null,null,12]
[null,null,null,null,null,null,null,null,null,null,null,null,null,null,null,null,null,null,null,null,null,null,null,null,null,null,null,null,null,null,13]
[null,null,null,null,null,null,null,null,null,null,null,null,null,null,null,null,null,null,null,null,null,null,null,null,null,null,null,null,null,null,14]
[null,null,null,null,null,null,null,null,null,null,null,null,null,null,null,null,null,null,null,null,null,null,null,null,null,null,null,null,null,null,15]

{"sheet":"V2","index":1,"n_rows":156,"n_cols":63,"rows_kept":156,"cut":false,"hidden":false,"merged":[[59,6,59,7],[26,3,26,6],[27,3,27,6],[33,6,33,7],[40,6,40,7]]}
[null,"Legenda",null,null,"hodnotu nutno zadat",null,null,null,null,"prevzato z první "]
[null,null,null,null,"hodnota se vypočítává "]
[null,null,null,null,"pomocná hodnota"]
["Parametry vzduchu",null,null,null,null,null,"interier klidovy rezim ",null,null,null,null,null,null,null,null,null,null,null,null,null,"Produkce tepla od",null,null,"ni",{"$f":"0.85*Y5+0.75*Y6+Y7","v":60.5},null,null,"Qi=ni.6,2*(36-ti)"]
["Interiér","ti",null,null,null,null,"Interiér","ti",null,null,null,null,"Exteriér","te",null,"minimální teplota -20",null,null,null,null,"lidí",{"$f":"Y4*6.2*(36-Teplota)","v":1500.4},"W","nz",{"$f":"Vypocet!Y5","v":30},"zeny",null,"ni=0,85nz+0,75nd+nm"]
["teplota",null,"ti",{"$f":"[0]!Teplota","v":32},"°C",null,"teplota",null,"ti",{"$f":"Vypocet!J6","v":24},"°C",null,"teplota",null,"te",{"$f":"CEILING(Vypocet!P6,5)","v":-10},"°C",null,null,null,null,null,null,"nd ",{"$f":"Vypocet!Y6","v":20},"deti",null,"nz - zeny, nd deti, nm muzi"]
["relativní vlhkost",null,"rhi",{"$f":"Vypocet!D7","v":60},"%",null,"relativní vlhkost",null,"rhi",{"$f":"Vypocet!J7","v":55},"%",null,"relativní vlhkost",null,"rhe",{"$f":"(93*te-3153.5)/(te-39.17)","v":83.04860687411022},"%",null,null,null,null,null,null,"nm",{"$f":"Vypocet!Y7","v":20},"muzi"]
["entalpie s.v.",null,"hsvi",{"$f":"Konstanty!$F$2*Teplota","v":32320},"J/kg",null,"entalpie s.v.",null,"hsvi",{"$f":"Konstanty!$F$2*J6","v":24240},"J/kg",null,"entalpie s.v.",null,"hsve",{"$f":"Konstanty!$F$2*te","v":-10100},"J/kg"]
["entalpie v.p.",null,"hvpi",{"$f":"$D$16*(Konstanty!$F$3*Teplota+Konstanty!$F$4)","v":46343.062700276656},"J/kg",null,"entalpie v.p.",null,"hvpi",{"$f":"$D$16*(Konstanty!$F$3*J6+Konstanty!$F$4)","v":46076.473456956111},"J/kg",null,"entalpie v.p.",null,"hvpe",{"$f":"P16*(Konstanty!F3*P6+Konstanty!F4)","v":3714.7642269103367},"J/kg",null,null,null,"Odpar z povrchů"]
["entalpie ",null,"hi",{"$f":"D8+D9","v":78663.062700276656},"J/kg",null,"entalpie ",null,"hi",{"$f":"J8+J9","v":70316.473456956111},"J/kg",null,"entalpie ",null,"he",{"$f":"IF(P8<0,P9-P8,P8+P9)","v":13814.764226910336},"J/kg",null,null,null,null,null,null,null,null,null,null,"(7+3,5*w)*S*(xp´´-x).10-3"]
[null,null,null,{"$f":"D10/1000","v":78.663062700276654},"kJ/kg",null,null,null,null,{"$f":"J10/1000","v":70.316473456956118},"kJ/kg",null,null,null,null,{"$f":"P10/1000","v":13.814764226910336},"kJ/kg",null,null,null,null,null,null,null,null,null,null,"w stredni rychlost vzduchu"]
["tlak nasycené vodní páry",null,"p''vpi",{"$f":"Konstanty!$F$12^((1500.3+23.5*D6)/(234+D6))","v":4756.6229589957475},"Pa",null,"tlak nasycené vodní páry",null,"p''vpi",{"$f":"Konstanty!$F$12^((1500.3+23.5*J6)/(234+J6))","v":2984.4262331760842},"Pa",null,"tlak nasycené vodní páry",null,"p''vpe",{"$f":"Konstanty!$F$12^((1500.3+23.5*P6)/(234+P6))","v":283.91097316841058},"Pa",null,{"$f":"2.718^(28.926-(6148/(273.15+te)))","v":260.42692974699116},null,null,null,null,null,null,null,null,"xp´´-merna vlhkost nasyceneho vzduchu"]
["tlak  vodní páry",null,"pvpi",{"$f":"(D7/100)*D12","v":2853.9737753974482},"Pa",null,"tlak  vodní páry",null,"pvpi",{"$f":"(J7/100)*J12","v":1641.4344282468464},"Pa",null,"tlak  vodní páry",null,"pvpe",{"$f":"(P7/100)*P12","v":235.78410797909385},"Pa",null,null,null,null,null,null,null,null,null,null,"x - merna vlhkost vzduchu nad povrchem "]
["tlak suchého vzduchu",null,"psvi",{"$f":"D18*Konstanty!$F$5*(Teplota+273.15)","v":98021.008646699993},"Pa",null,"tlak suchého vzduchu",null,"psvi",{"$f":"J18*Konstanty!$F$5*(Teplota+273.15)","v":100648.9177257},"Pa",null,"tlak suchého vzduchu",null,"psve",{"$f":"P18*Konstanty!F5*(P6+273.15)","v":97975.853794099996},"Pa",null,null,null,null,null,null,null,null,null,null,"S plocha"]
["tlak směsi vlhkého vzduchu",null,"pi",{"$f":"D13+D14","v":100874.98242209744},"Pa",null,"tlak směsi vlhkého vzduchu",null,"pi",{"$f":"J13+J14","v":102290.35215394685},"Pa",null,"tlak směsi vlhkého vzduchu",null,"pe",{"$f":"P13+P14","v":98211.637902079092},"Pa"]
["měrná vlhkost vzduchu",null,"xi",{"$f":"(Konstanty!$F$5/Konstanty!$F$6)*(D13/D14)","v":1.8110682290797792E-2},"kg/kg s.v.",null,"měrná vlhkost vzduchu",null,"xi",{"$f":"(Konstanty!$F$5/Konstanty!$F$6)*(J13/J14)","v":1.0144214643132086E-2},"kg/kg s.v.",null,"měrná vlhkost vzduchu",null,"xe",{"$f":"(Konstanty!F5/Konstanty!F6)*(P13/P14)","v":1.4969230443707031E-3},"kg/kg s.v."]
[null,null,null,{"$f":"D16*1000","v":18.11068229079779},"g/kg s.v.",null,null,null,null,{"$f":"J16*1000","v":10.144214643132086},"g/kg s.v.",null,null,null,null,{"$f":"P16*1000","v":1.4969230443707031},"g/kg s.v."]
["hustota vzduchu při t",null,null,{"$f":"VLOOKUP(Teplota,Tabulky!$V$15:$AF$75,9,0)","v":1.119},"kg/m3",null,"hustota vzduchu při t",null,null,{"$f":"VLOOKUP(J6,Tabulky!V15:AF75,9,0)","v":1.149},"kg/m3",null,"hustota vzduchu při t",null,null,{"$f":"VLOOKUP(te,Tabulky!V15:AF75,9,0)","v":1.2969999999999999},"kg/m3"]
[]
["Bazén",null,null,null,null,null,null,null,"rozměry bazénu"]
["Teplota vody",null,"tsniz",{"$f":"Vypocet!D21","v":2},"°C","snížení teploty vody (dop 2-3°C)",null,null,"délka bazén","a",{"$f":"Vypocet!K21","v":25},"m"]
["tvz-(2-3)°C",null,"tvod",{"$f":"D6-D21","v":30},"°C",null,null,null,"šířka bazén","b",{"$f":"Vypocet!K22","v":12},"m"]
[]
["Mn. odpařené vody"]
["mw=ε*A*(p´´vp-pvp)",null,"mw",{"$f":"D28*$D$29*($D$12/100-$D$13/100)","v":114158.95101589795},"g/h"]
[null,null,null,{"$f":"D25/1000","v":114.15895101589796},"kg/h",null,null,null,"budova"]
["typ bazenu",null,null,{"$f":"Vypocet!AH47","v":"bazény - normální provoz"},null,null,null,null,"délka","a",{"$f":"Vypocet!K27","v":40},"m"]
["mnozstvi odp vody",null,null,{"$f":"VLOOKUP(D27,Tab_souc_odparu_bazen,7,0)","v":20},null,null,null,"[g/(hPa.m2.h)]","šířka","b",{"$f":"Vypocet!K28","v":15},"m"]
["plocha bazénu",null,"A",{"$f":"K21*K22","v":300},"m2",null,null,null,"výška","v",{"$f":"Vypocet!K29","v":7},"m","Produkce vlhkosti osobami - klidový režim"]
["Objem haly",null,"V",{"$f":"K27*K28*K29","v":4200},"m3",null,null,null,null,null,null,null,"počet osob v bazénu",null,"nos",{"$f":"Vypocet!P30","v":2}]
[null,null,null,null,null,null,null,null,null,null,null,null,"množství vlhkosti",null,"mos",{"$f":"P30*100","v":200},"g/h"]
["Produkce vlhkosti osobami - v provozu",null,null,null,null,null,null,null,null,null,null,null,null,null,null,{"$f":"P31/1000","v":0.2},"kg/h",null,null,null,null,null,null,null,null,null,null,null,null,null,"Výkon na kondenzátoru",null,null,null,"Qk",{"$f":"AH69","v":36473.52298148405},"W"]
["počet osob v bazénu",null,"nos",{"$f":"Vypocet!D33","v":60},"počet",null,"Produkce vlhkosti člověkem",null,null,null,null,null,null,null,null,{"$f":"P31/3600","v":5.5555555555555552E-2},"g/s",null,null,null,null,null,null,null,null,null,null,null,null,null,null,null,null,null,null,{"$f":"AH70","v":36.473522981484052},"kW"]
["množství vlhkosti",null,"mos",{"$f":"D33*H35","v":6300},"g/h",null,{"$f":"Vypocet!AH50","v":"člověk při středně těžké práci"},null,null,null,null,null,null,null,null,null,null,null,null,null,null,null,null,null,null,null,null,null,null,null,"Teplota požadovaná v interiéru",null,null,null,"ti",{"$f":"Teplota","v":32},"°C"]
[null,null,null,{"$f":"D34/1000","v":6.3},"kg/h",null,{"$f":"VLOOKUP(G34,Tabulky!W146:Z148,4,0)","v":"60-150"},{"$f":"IF(G35=\"60-150\",105,IF(G35=\"30-60\",45,225))","v":105},"g/h",null,null,null,"Produkce vlhkosti  - klidový režim",null,null,null,null,null,null,null,null,null,null,null,null,null,null,null,null,null,null,null,null,null,null,null,null,null,null,null,null,null,null,null,null,null,null,null,null,null,"Výkon na kondenzátoru",null,null,null,"Qk",{"$f":"BB70","v":56763.692798437383},"W"]
[null,null,null,{"$f":"D34/3600","v":1.75},"g/s",null,"rozmezí","průměr",null,null,null,"množství odpařené vody",null,null,"mw",{"$f":"Tabulky!$G$4*$D$29*($D$12/100-$D$13/100)","v":28539.737753974488},"g/h",null,null,null,null,null,null,null,null,null,null,null,null,null,null,null,null,null,null,null,null,null,null,null,null,null,null,null,null,null,null,null,null,null,null,null,null,null,null,{"$f":"BB71","v":56.763692798437383},"kW"]
["celkové množství odpařené vody",null,null,{"$f":"(D25+D34)*(I37/100+1)","v":126481.89856669286},"g/h",null,null,"korekce ",{"$f":"Vypocet!I37","v":5},"%",null,null,"celkové množství odpařené vody",null,null,{"$f":"(P36+P31)*(I37/100+1)","v":30176.724641673216},"g/h",null,null,null,null,null,null,null,null,null,null,null,null,null,null,null,null,null,null,null,null,null,null,null,null,null,null,null,null,null,null,null,null,null,"Teplota požadovaná v interiéru",null,null,null,"ti",{"$f":"J6","v":24},"°C"]
["Dimenzování průtoku vzduchu bazénové větrací jednotky pro zátěž",null,null,null,null,null,null,null,null,null,null,null,"Dimenzování průtoku vzduchu bazénové větrací jednotky pro klidový režim"]
["z množství odpařené vody",null,null,null,null,null,null,null,null,null,null,null,"z množství odpařené vody"]
["požadovaná vlhkost přiváděná",null,"xpoz",{"$f":"Vypocet!D40","v":9},"g/kg",null,"doporučená hodnota 8-10 g/kg",null,null,null,null,null,"požadovaná vlhkost přiváděná",null,"xpoz",{"$f":"Vypocet!P40","v":9},"g/kg",null,"doporučená hodnota 8-10 g/kg"]
[null,null,"V1",{"$f":"(D37)/(D18*(D17-D40))","v":12406.445935942682},"m3/h",null," ",null,{"$f":"D147","v":9.0000000000000018},"g/kg s.v.",null,null,null,null,"V1",{"$f":"(P36+P31)/(Konstanty!$F$8*(J17-5))","v":4560.6593112769815},"m3/h"]
["z objemu haly",null,null,null,null,null,null,null,null,null,null,null,"z objemu haly"]
["výměna vzduchu",null,"n",{"$f":"Vypocet!D43","v":1},"1/h",null,null,null,null,null,null,null,"výměna vzduchu",null,"n",{"$f":"Vypocet!P43","v":1},"1/h"]
["V=n*VH",null,"V2",{"$f":"D30*D43","v":4200},"m3/h",null,null,null,null,null,null,null,"V=n*VH",null,"V2",{"$f":"D30*P43","v":4200},"m3/h"]
["z tepelných zisků"]
[null,"tepelné ztráty","Qzt",{"$f":"Vypocet!D46","v":7},"kW",null,null,"teplotní spád výústky","dt",{"$f":"Vypocet!J46","v":8},"°C"]
[null,"tepelné zisky","Qzisk",{"$f":"Vypocet!D47","v":16},"kW"]
[null,"Množství vzduchu",null,{"$f":"((D47-D46)/J46*Konstanty!$F$2*Konstanty!$F$8)","v":1391.90625},"m3/h"]
[]
["potřeba vzduchu pro osoby",null,null,null,null,null,null,null,null,null,null,null,null,null,null,null,null,null,null,null,null,null,"te","teplota exteriérového vzduchu"]
[null,null,"V2",{"$f":"D33*D52","v":3000},null,null,null,null,null,null,null,null,null,null,null,null,null,null,null,null,null,null,"Qpředehřev","Výkon pro předehřátí vzduchu"]
["množství čerstvého vzduchu/osoba",null,null,{"$f":"Vypocet!D52","v":50},"m3/h/os",null,"doporučená hodnota při zátěži (min hodnota 25m3/h) ",null,null,null,null,null,null,null,null,null,null,null,null,null,null,null,"Qdohřátí","Výkon spotřebovaný na dohřátí vzduchu na požadovanou úroveň"]
[]
["Potřeba čerstvého vzduchu",null,null,{"$f":"IF(MAX(D41,D44,D48)>D51,\"Ne\",\"Ano\")","v":"Ne"},null,null,"nepočítá s tím dál samo! ",null,null,null,null,null,null,null,null,null,null,null,null,null,null,null,null,null,null,null,null,null,null,null,"Teplo odevzdané na výparníku",null,null,null,null,null,"Množství kondenzátu"]
["Množství čerstvého vzduchu",null,null,{"$f":"IF(D54=\"ano\",D51-MAX(D41,D44,D48),0)","v":0},"m3/h",null,"pouze informativní charakter, množství V čerst rozhodne projektant",null,null,null,null,null,null,null,null,null,null,null,null,null,null,null,null,null,null,null,null,null,null,null,"Qv=V*ρ*(hi-h3)",null,"Qv",{"$f":"D81","v":27580.433828001267},"W",null,"mkond = V*ρ*(xi-x3)",null,"mkond",{"$f":"IF(D58*D18*(D16-D77)<0,0,D58*D18*(D16-D77))","v":6.0744317894125483E-3},"kg/s",null,null,null,null,null,null,null,null,null,"Teplo odevzdané na výparníku",null,null,null,null,null,"Množství kondenzátu"]
[null,null,null,null,null,null,null,null,null,null,null,null,null,null,null,null,null,null,null,null,null,null,null,null,null,null,null,null,null,null,null,null,null,{"$f":"AH55/1000","v":27.580433828001269},"kW",null,null,null,null,{"$f":"AN55*1000","v":6.0744317894125484},"g/s",null,null,null,null,null,null,null,null,null,"Qv=V*ρ*(hi-h3)",null,"Qv",{"$f":"P81","v":47003.773128829853},"W",null,"mkond = V*ρ*(xi-x3)",null,"mkond",{"$f":"IF(P58*J18*(J16-P77)<0,0,P58*J18*(J16-P77))","v":2.1834156452738541E-3},"kg/s"]
["průtok vzduchu",null,"V",{"$f":"MAX(D41,D44,D48)","v":12406.445935942682},"m3/h",null,null,null,null," ",null,null,"průtok vzduchu",null,"V",{"$f":"MAX(P41,P44)","v":4560.6593112769815},"m3/h",null,null,null,null,null,null,null,null,null,null,null,null,null,null,null,null,null,null,null,null,null,null,{"$f":"AN55*3600","v":21.867954441885175},"kg/h",null,null,null,null,null,null,null,null,null,null,null,null,{"$f":"BB56/1000","v":47.003773128829856},"kW",null,null,null,null,{"$f":"BH56*1000","v":2.183415645273854},"g/s"]
[null,null,"V",{"$f":"D57/3600","v":3.4462349822063003},"m3/s",null,null,null,null,null,null,null,null,null,"V",{"$f":"P57/3600","v":1.2668498086880504},"m3/s",null,null,null,null,null,null,null,null,null,null,null,null,null,"Tepelné čerpadlo (TČ)",null,null,null,"typ TČ",null,null,null,null,null,null,null,null,null,null,null,null,null,null,null,null,null,null,null,null,null,null,null,null,{"$f":"BH56*3600","v":7.8602963229858744},"kg/h"]
[null,null,null,null,null,null,null,null,null,null,null,null,null,null,null,null,null,null,null,null,null,null,null,null,null,null,null,null,null,null,"Topný faktor TČ",null,"COP",{"$f":"VLOOKUP(Teplota,'V2'!AE83:AF136,2,0)","v":4.1013333333333328},"Alfa S Duo",null,null,null,null,null,null,null,null,null,null,null,null,null,null,null,"Tepelné čerpadlo (TČ)",null,null,null,"typ TČ"]
["množství odebrané měrné vlh",null,"Δx",1.5751818048857211,"g/kg s.v",null,"vstupní měrná  vlhkost do int",null,"xvyst",{"$f":"D147","v":9.0000000000000018},"g/kg s.v.",null,null,null,null,null,null,null,null,null,null,null,null,null,null,null,null,null,null,null,null,null,null,null,null,null,null,null,null,null,null,null,null,null,null,null,null,null,null,null,"Topný faktor TČ",null,"COP",{"$f":"VLOOKUP(J6,'V2'!AY84:AZ132,2,0)","v":3.8159999999999998},"Alfa S Duo"]
["teplota chladiče",null,"tch",{"$f":"Vypocet!D61","v":9},"°C ",null,null,null,null,null,null,null,null,null,null,null,null,null,null,null,null,null,null,null,null,null,null,null,null,null,"Tepelná bilance TČ"]
["relativní vlhkost",null,"rhch",{"$f":"Vypocet!D62","v":100},"%",null,null,null,null,null,null,null,"množství odebrané měrné vlh",null,"Δx",{"$f":"Vypocet!P60","v":1.5},"g/kg s.v.",null,null,null,null,null,null,null,null,null,null,null,null,null,"Qk=Pel+Qv",null,null,null,null,null,null,null,null,null,null,null,null,null,null,null,null,null,null,null,"Tepelná bilance TČ"]
[null,null,null,null,null,null,null,null,null,null,null,null,"teplota chladiče",null,"tch",{"$f":"Vypocet!P61","v":9},"°C ",null,null,null,null,null,null,null,null,null,null,null,null,null,"εt = COP","εt = Qv/Pel",null,null,null,null,null,null,null,null,null,null,null,null,null,null,null,null,null,null,"Qk=Pel+Qv"]
[null,null,null,null,null,null,null,null,null,null,null,null,"relativní vlhkost",null,"rhch",{"$f":"Vypocet!P62","v":100},"%",null,null,null,null,null,null,null,null,null,null,null,null,null,"Pel=Qk/(1+Et)",null,null,null,null,null,null,null,null,null,null,null,null,null,null,null,null,null,null,null,"εt = COP","εt = Qv/Pel"]
[null,null,null,null,null,null,null,null,null,null,null,null,null,null,null,null,null,null,null,null,null,null,null,"Parametry chladiče",null,null,null,null,null,null,"Výkon kompresoru",null,"Pet",{"$f":"AH55/(AH59-1)","v":8893.0891534827824},"W",null,null,null,null,null,null,null,null,null,null,null,null,null,null,null,"Pel=Qk/(1+Et)"]
["t3","parametry vyduchu za vyparnikem",null,null,null,null,null,null,null,null,null,null,"t3","parametry vyduchu za vyparnikem",null,null,null,null,null,null,null,null,null,"teplota",null,"ti",{"$f":"tch","v":9},"°C",null,null,null,null,null,{"$f":"AH65/1000","v":8.8930891534827818},"kW",null,null,null,null,null,null,null,null,null,null,null,null,null,null,null,"Výkon kompresoru",null,"Pet",{"$f":"BB56/(BB60+1)","v":9759.9196696075287},"W"]
["teplota",null,"tvyp",{"$f":"W87","v":29},"°C",null,{"$f":"tvyp-te","v":39},"tvyp-te",null,null,null,null,"teplota",null,"tvyp",{"$f":"W112","v":16},"°C",null,null,null,null,null,null,"relativní vlhkost",null,"rhi",{"$f":"D62","v":100},"%",null,null,"Prikon kompresoru",null,null,{"$f":"AH66/AH59","v":2.1683409834564653},"kW",null,null,null,null,null,null,null,null,null,null,null,null,null,null,null,null,null,null,{"$f":"BB66/1000","v":9.7599196696075285},"kW"]
["relativní vlhkost",null,"rh3",{"$f":"IF((D74/D73)*100>100,100,(D74/D73)*100)","v":65.024339449807172},"%",null,null,null,null,null,null,null,"relativní vlhkost",null,"rh3",{"$f":"IF((P74/P73)*100>100,100,(P74/P73)*100)","v":74.957831234168935},"%",null,null,null,null,null,null,"entalpie s.v.",null,"hsvi",{"$f":"Konstanty!$F$2*AA66","v":9090},"J/kg",null,null,"Teplo na kondenzátoru"]
["entalpie s.v.",null,"h3",{"$f":"Konstanty!$F$2*D67","v":29290},"J/kg",null,null,null,null,null,null,null,"entalpie s.v.",null,"h3",{"$f":"Konstanty!$F$2*P67","v":16160},"J/kg",null,null,null,null,null,null,"entalpie v.p.",null,"hvpi",{"$f":"$AA$76*(Konstanty!$F$3*AA66+Konstanty!$F$4)","v":18311.904271787756},"J/kg",null,null,"Výkon na kondenzátoru",null,"Qk",{"$f":"AH65+AH55","v":36473.52298148405},"W",null,null,null,null,null,null,null,null,null,null,null,null,null,null,null,"Teplo na kondenzátoru"]
["entalpie v.p.",null,"h3",{"$f":"D77*(Konstanty!$F$3*D67+Konstanty!$F$4)","v":42221.085520708439},"J/kg",null,null,null,null,null,null,null,"entalpie v.p.",null,"h3",{"$f":"P77*(Konstanty!$F$3*P67+Konstanty!$F$4)","v":21865.022286924024},"J/kg",null,null,null,null,null,null,"entalpie ",null,"hi",{"$f":"AA68+AA69","v":27401.904271787756},"J/kg",null,null,null,null,null,{"$f":"AH69/1000","v":36.473522981484052},"kW",null,null,null,null,null,null,null,"  ",null,null,null,null,null,null,null,"Výkon na kondenzátoru",null,"Qk",{"$f":"BB66+BB56","v":56763.692798437383},"W"]
["entalpie ",null,"h3",{"$f":"D69+D70","v":71511.085520708439},"J/kg",null,null,null,null,null,null,null,"entalpie ",null,"h3",{"$f":"P69+P70","v":38025.022286924024},"J/kg",null,null,null,null,null,null,null,null,null,{"$f":"AA70/1000","v":27.401904271787757},"kJ/kg",null,null,null,null,null,null,null,null,null,null,null,null,null,null,null,null,null,null,null,null,null,null,null,null,null,{"$f":"BB70/1000","v":56.763692798437383},"kW",null,null,null,null,null,null,null,"  "]
[null,null,null,{"$f":"D71/1000","v":71.511085520708434},"kJ/kg",null,null,null,null,null,null,null,null,null,null,{"$f":"P71/1000","v":38.025022286924028},"kJ/kg",null,null,null,null,null,null,"tlak nasycené vodní páry",null,"p''vpi",{"$f":"Konstanty!$F$12^((1500.3+23.5*AA66)/(234+AA66))","v":1146.4717300807256},"Pa"]
["tlak nasycené vodní páry",null,"p''vp3",{"$f":"Konstanty!$F$12^((1500.3+23.5*D67)/(234+D67))","v":4007.0776556845663},"Pa",null,null,null,null,null,null,null,"tlak nasycené vodní páry",null,"p''vp3",{"$f":"Konstanty!$F$12^((1500.3+23.5*P67)/(234+P67))","v":1817.4687221052275},"Pa",null,null,null,null,null,null,"tlak  vodní páry",null,"pvpi",{"$f":"(AA67/100)*AA72","v":1146.4717300807256},"Pa",null,null,"Graf topneho faktoru ",null,null,"TnG Air 13, vzduch/voda"]
["tlak  vodní páry",null,"pvp3",{"$f":"(D77*D75)/0.622","v":2605.5757768497078},"Pa",null,{"$f":"((G77*D75)/(0.622+G77))/((0.622-G77)/(0.622))","v":2856.2059716159024},"přepočet tlaku z x",null,null,null,null,"tlak  vodní páry",null,"pvp3",{"$f":"(P77*P75)/0.622","v":1362.3351374494432},"Pa",null,{"$f":"((S77*P75)/(0.622+S77))/((0.622-S77)/(0.622))","v":1599.161688452117},"přepočet tlaku z x",null,null,null,"tlak suchého vzduchu",null,"psvi",{"$f":"AA78*Konstanty!$F$5*(AA66+273.15)","v":98003.397392999992},"Pa",null,null,null,null,null,null,null,null,null,null,null,null,null,null,null,null,null,null,null,null,null,null,"Graf topneho faktoru ",null,null,"TnG Air 13, vzduch/voda"]
["tlak suchého vzduchu",null,"psv3",{"$f":"D79*Konstanty!$F$5*(D67+273.15)","v":98011.435128999976},"Pa",null,null,null,null,null,null,null,"tlak suchého vzduchu",null,"psv3",{"$f":"P79*Konstanty!$F$5*(P67+273.15)","v":98027.697191300002},"Pa",null,null,null,null,null,null,"tlak směsi vlhkého vzduchu",null,"pi",{"$f":"AA73+AA74","v":99149.869123080716},"Pa",null,null,{"$f":"Vypocet!AE107","v":"teplota"},{"$f":"Vypocet!AF107","v":-18},{"$f":"Vypocet!AG107","v":-15},{"$f":"Vypocet!AH107","v":-10},{"$f":"Vypocet!AI107","v":-5},{"$f":"Vypocet!AJ107","v":0},{"$f":"Vypocet!AK107","v":5},{"$f":"Vypocet!AL107","v":10},{"$f":"Vypocet!AM107","v":15}]
["tlak směsi vlhkého vzduchu",null,"p3",{"$f":"D74+D75","v":100617.01090584969},"Pa",null,null,null,null,null,null,null,"tlak směsi vlhkého vzduchu",null,"p3",{"$f":"P74+P75","v":99390.032328749439},"Pa",null,null,null,null,null,null,"měrná vlhkost vzduchu",null,"xi",{"$f":"(Konstanty!$F$5/Konstanty!$F$6)*(AA73/AA74)","v":7.276561763593062E-3},"kg/kg s.v.",null,null,{"$f":"Vypocet!AE108","v":"vykon"},{"$f":"Vypocet!AF108","v":4.7},{"$f":"Vypocet!AG108","v":5.75},{"$f":"Vypocet!AH108","v":7},{"$f":"Vypocet!AI108","v":8.24},{"$f":"Vypocet!AJ108","v":9.4600000000000009},{"$f":"Vypocet!AK108","v":10.69},{"$f":"Vypocet!AL108","v":11.8},{"$f":"Vypocet!AM108","v":13.1},null,null,null,null,null,null,null,null,null,null,null,{"$f":"Vypocet!AY108","v":"teplota"},{"$f":"Vypocet!AZ108","v":-18},{"$f":"Vypocet!BA108","v":-15},{"$f":"Vypocet!BB108","v":-10},{"$f":"Vypocet!BC108","v":-5},{"$f":"Vypocet!BD108","v":0},{"$f":"Vypocet!BE108","v":5},{"$f":"Vypocet!BF108","v":10},{"$f":"Vypocet!BG108","v":15}]
["měrná vlhkost vzduchu",null,"x3",{"$f":"D16-deltaT/1000","v":1.6535500485912069E-2},"kg/kg s.v.",null,{"$f":"IF(tvyp<D82,0,D16)","v":1.8110682290797792E-2},"vezme x z Ti když tvyp<rosny bod",null,null,null,null,"měrná vlhkost vzduchu",null,"x3",{"$f":"J16-P62/1000","v":8.6442146431320865E-3},"kg/kg s.v.",null,{"$f":"IF(tvyp<P82,0,J16)","v":1.0144214643132086E-2},"vezme x z Ti když tvyp<rosny bod",null,null,null,null,null,null,{"$f":"AA76*1000","v":7.2765617635930617},"g/kg s.v.",null,null,{"$f":"Vypocet!AE109","v":"el prikon"},{"$f":"Vypocet!AF109","v":2.2400000000000002},{"$f":"Vypocet!AG109","v":2.4700000000000002},{"$f":"Vypocet!AH109","v":2.72},{"$f":"Vypocet!AI109","v":2.94},{"$f":"Vypocet!AJ109","v":3.2},{"$f":"Vypocet!AK109","v":3.37},{"$f":"Vypocet!AL109","v":3.55},{"$f":"Vypocet!AM109","v":3.85},null,null,null,null,null,null,null,null,null,null,null,{"$f":"Vypocet!AY109","v":"vykon"},{"$f":"Vypocet!AZ109","v":4.7},{"$f":"Vypocet!BA109","v":5.75},{"$f":"Vypocet!BB109","v":7},{"$f":"Vypocet!BC109","v":8.24},{"$f":"Vypocet!BD109","v":9.4600000000000009},{"$f":"Vypocet!BE109","v":10.69},{"$f":"Vypocet!BF109","v":11.8},{"$f":"Vypocet!BG109","v":13.1}]
[null,null,null,{"$f":"D77*1000","v":16.53550048591207},"g/kg s.v.",null,null,null,null,null,null,null,null,null,null,{"$f":"P77*1000","v":8.6442146431320861},"g/kg s.v.",null,null,null,null,null,null,"hustota vzduchu při t",null,null,{"$f":"VLOOKUP(AA66,Tabulky!$V$15:$AF$75,9,0)","v":1.21},"kg/m3",null,null,{"$f":"Vypocet!AE110","v":"COP"},{"$f":"Vypocet!AF110","v":2.1},{"$f":"Vypocet!AG110","v":2.33},{"$f":"Vypocet!AH110","v":2.57},{"$f":"Vypocet!AI110","v":2.8},{"$f":"Vypocet!AJ110","v":2.96},{"$f":"Vypocet!AK110","v":3.17},{"$f":"Vypocet!AL110","v":3.32},{"$f":"Vypocet!AM110","v":3.4},null,null,null,null,null,null,null,null,null,null,null,{"$f":"Vypocet!AY110","v":"el prikon"},{"$f":"Vypocet!AZ110","v":2.2400000000000002},{"$f":"Vypocet!BA110","v":2.4700000000000002},{"$f":"Vypocet!BB110","v":2.72},{"$f":"Vypocet!BC110","v":2.94},{"$f":"Vypocet!BD110","v":3.2},{"$f":"Vypocet!BE110","v":3.37},{"$f":"Vypocet!BF110","v":3.55},{"$f":"Vypocet!BG110","v":3.85}]
["hustota vzduchu při t",null,null,{"$f":"VLOOKUP(tvyp,Tabulky!$V$15:$AF$75,9,0)","v":1.1299999999999999},"kg/m3",null,null,null,null,null,null,null,"hustota vzduchu při t",null,null,{"$f":"VLOOKUP(P67,Tabulky!$V$15:$AF$75,9,0)","v":1.181},"kg/m3",null,null,null,null,null,null,null,null,null,{"$f":"1.395-Teplota*0.004414","v":1.253752},null,null,null,null,null,null,{"$f":"AH78-AG78","v":0.23999999999999977},0.22999999999999998,0.16000000000000014,0.20999999999999996,0.14999999999999991,8.0000000000000071E-2,"průměr",{"$f":"AVERAGE(AG79:AM79)","v":0.17833333333333332},"prumer/1",{"$f":"AO79/5","v":3.5666666666666666E-2},null,null,null,null,null,null,null,{"$f":"Vypocet!AY111","v":"COP"},{"$f":"Vypocet!AZ111","v":2.1},{"$f":"Vypocet!BA111","v":2.33},{"$f":"Vypocet!BB111","v":2.57},{"$f":"Vypocet!BC111","v":2.8},{"$f":"Vypocet!BD111","v":2.96},{"$f":"Vypocet!BE111","v":3.17},{"$f":"Vypocet!BF111","v":3.32},{"$f":"Vypocet!BG111","v":3.4}]
[null,null,null,null,null,null,null,null,null,null,null,null,null,null,null,null,null,null,null,null,null,null,null,null,null,null,null,null,null,null,null,"popis závislosti",null,"y=0,18571x+2,96",null,null,null,null,null,null,null,null,null,null,null,null,null,null,null,null,null,null,null,{"$f":"BB79-BA79","v":0.23999999999999977},0.22999999999999998,0.16000000000000014,0.20999999999999996,0.14999999999999991,8.0000000000000071E-2,"průměr",{"$f":"AVERAGE(BA80:BG80)","v":0.17833333333333332},"prumer/1",{"$f":"BI80/5","v":3.5666666666666666E-2}]
["teplo získané na výparníku",null,"Qv",{"$f":"D58*D18*(D10-D71)","v":27580.433828001267},"W",null,null,null,null,null,null,null,"teplo získané na výparníku",null,"Qv",{"$f":"P58*J18*(J10-P71)","v":47003.773128829853},"W",null,null,null,"A","Ti",{"$f":"Teplota","v":32},null,"B","tch",{"$f":"AA66","v":9},null,null,null,null,null,null,null,null,null,null,null,null,null,null,null,null,null,null,null,null,null,null,null,null,"popis závislosti",null,"y=0,18571x+2,96"]
[null,"rosný bod ",null,{"$f":"(243.5*LN(($D$7/100)*Konstanty!$F$12^((17.67*Teplota)/(243.5+Teplota))))/(17.67-(LN(($D$7/100)*Konstanty!$F$12^((17.67*Teplota)/(243.5+Teplota)))))","v":23.274251871309211},"°C ",null,null,null,null,null,null,null,null,"rosný bod ",null,{"$f":"(243.5*LN((J7/100)*Konstanty!$F$12^((17.67*J6)/(243.5+J6))))/(17.67-(LN((J7/100)*Konstanty!$F$12^((17.67*J6)/(243.5+J6)))))","v":14.413817952855092},"°C ",null,null,null,null,"xi",{"$f":"D16","v":1.8110682290797792E-2},null,null,"xch",{"$f":"AA76","v":7.276561763593062E-3},null,null,null,"teplota","COP",null,-18,2.1]
[null,null,null,null,null,null,null,null,null,null,null,null,null,null,null,null,null,null,null,null,null,"xi",{"$f":"D17","v":18.11068229079779},null,null,"xch",{"$f":"AA77","v":7.2765617635930617},null,null,null,-18,{"$f":"$AQ$79*AE83+$AJ$78","v":2.3180000000000001},null,-15,2.33,null,null,null,null,null,null,null,null,null,null,null,null,null,null,null,"teplota","COP"]
["Distribuce tepla v závislosti na externí teplotě",null,null,null,null,null,null,null,null,null,null,null,null,null,null,null,null,null,null,null,null,null,null,null,null,null,null,null,null,null,-17,2.3536666666666668,null,-10,2.57,null,null,null,null,null,null,null,null,null,null,null,null,null,null,null,-18,{"$f":"$AQ$79*AY84+$AJ$78","v":2.3180000000000001}]
["teplota předehřevu te",null,"tpřed",{"$f":"Vypocet!D85","v":5},"°C",null,null,null,null,null,null,null,null,null,null,null,null,null,null,null,null,"dx",{"$f":"deltaT","v":1.5751818048857211},null,"výpočet teplochy při teplote chladice",null,null,null,null,null,-16,2.3893333333333331,null,-5,2.8,null,null,null,null,null,null,null,null,null,null,null,null,null,null,null,-17,2.3536666666666668]
["množství čerst vzduchu",null,null,{"$f":"Vypocet!D86","v":30},"%",null,null,null,null,null,null,null,null,null,null,null,null,null,null,null,null,"th",{"$f":"((W81-AA81)*W83+(AA83-W83)*W81-(W81-AA81)*(W83-W85))/(AA83-W83)","v":28.656010848190284},null,"počítá s přímkou ti - tch a na ní počítá bod",null,null,null,null,null,-15,2.4249999999999998,null,0,2.96,null,null,null,null,null,null,null,null,null,null,null,null,null,null,null,-16,2.3893333333333331]
["množství předehřívaného vzd",null,null,{"$f":"D58*(D86/100)","v":1.03387049466189},"m3/h",null,null,null,null,null,null,null,null,null,null,null,null,null,null,null,null,null,{"$f":"ROUND(W86,0)","v":29},null,null,null,null,null,null,null,-14,2.4606666666666666,null,5,3.17,null,null,null,null,null,null,null,null,null,null,null,null,null,null,null,-15,2.4249999999999998]
["potřeba tepla na předehřev",null,null,{"$f":"IF(D85>te,((D87*P18)/(1+P16))*(D85-te)*P18*Konstanty!$F$2,0)","v":26309.288721395387},"W",null,null,null,null,null,null,null,null,null,null,null,null,null,null,null,null,null,null,null,null,null,null,null,null,null,-13,2.4963333333333333,null,10,3.32,null,null,null,null,null,null,null,null,null,null,null,null,null,null,null,-14,2.4606666666666666]
[null,null,null,null,null,null,null,null,null,null,null,null,null,null,null,null,null,null,null,null,null,null,null,null,null,null,null,null,null,null,-12,2.532,null,15,3.4,null,null,null,null,null,null,null,null,null,null,null,null,null,null,null,-13,2.4963333333333333]
["t4","Předehřev exteriérového vzduchu",null,null,null,null,null,null,null,null,null,null,"t4","Předehřev exteriérového vzduchu",null,null,null,null,null,null,null,null,null,"Parametry chladiče klidovy rezim",null,null,null,null,null,null,-11,2.5676666666666668,null,null,null,null,null,null,null,null,null,null,null,null,null,null,null,null,null,null,-12,2.532]
["teplota předehřevu",null,"tpředehřev",{"$f":"IF($D$85>te,$D$85,te)","v":5},"°C",null,null,null,null,null,null,null,"teplota předehřevu",null,"tpředehřev",{"$f":"IF($D$85>te,$D$85,te)","v":5},"°C",null,null,null,null,null,null,"teplota",null,"ti",{"$f":"P63","v":9},"°C",null,null,-10,2.6033333333333335,null,null,null,null,null,null,null,null,null,null,null,null,null,null,null,null,null,null,-11,2.5676666666666668]
[null,null,"rhpředehřev",{"$f":"((D101*P15)/(D97*(0.622+D101)))*100","v":27.087717492672237},"%",null,null,null,null,null,null,null,null,null,"rhpředehřev",{"$f":"((P101*P15)/(P97*(0.622+P101)))*100","v":27.087717492672237},"%",null,null,null,null,null,null,"relativní vlhkost",null,"rhi",{"$f":"P64","v":100},"%",null,null,-9,2.6389999999999998,null,null,null,null,null,null,null,null,null,null,null,null,null,null,null,null,null,null,-10,2.6033333333333335]
["entalpie s.v.",null,"hsv4",{"$f":"Konstanty!$F$2*D91","v":5050},"J/kg",null,null,null,null,null,null,null,"entalpie s.v.",null,"hsv4",{"$f":"Konstanty!$F$2*P91","v":5050},"J/kg",null,null,null,null,null,null,"entalpie s.v.",null,"hsvi",{"$f":"Konstanty!$F$2*AA91","v":9090},"J/kg",null,null,-8,2.6746666666666665,null,null,null,null,null,null,null,null,null,null,null,null,null,null,null,null,null,null,-9,2.6389999999999998]
["entalpie v.p.",null,"hvp4",{"$f":"D101*(Konstanty!$F$3*D91+Konstanty!$F$4)","v":3756.0793029349684},"J/kg",null,null,null,null,null,null,null,"entalpie v.p.",null,"hvp4",{"$f":"P101*(Konstanty!$F$3*P91+Konstanty!$F$4)","v":3756.0793029349684},"J/kg",null,null,null,null,null,null,"entalpie v.p.",null,"hvpi",{"$f":"$AA$76*(Konstanty!$F$3*AA91+Konstanty!$F$4)","v":18311.904271787756},"J/kg",null,null,-7,2.7103333333333333,null,null,null,null,null,null,null,null,null,null,null,null,null,null,null,null,null,null,-8,2.6746666666666665]
["entalpie ",null,"h4",{"$f":"D93+D94","v":8806.0793029349679},"J/kg",null,null,null,null,null,null,null,"entalpie ",null,"h4",{"$f":"P93+P94","v":8806.0793029349679},"J/kg",null,null,null,null,null,null,"entalpie ",null,"hi",{"$f":"AA93+AA94","v":27401.904271787756},"J/kg",null,null,-6,2.746,null,null,null,null,null,null,null,null,null,null,null,null,null,null,null,null,null,null,-7,2.7103333333333333]
[null,null,null,{"$f":"D95/1000","v":8.8060793029349682},"kJ/kg",null,null,null,null,null,null,null,null,null,null,{"$f":"P95/1000","v":8.8060793029349682},"kJ/kg",null,null,null,null,null,null,null,null,null,{"$f":"AA95/1000","v":27.401904271787757},"kJ/kg",null,null,-5,2.7816666666666667,null,null,null,null,null,null,null,null,null,null,null,null,null,null,null,null,null,null,-6,2.746]
["tlak nasycené vodní páry",null,"p''vp4",{"$f":"Konstanty!$F$12^((1500.3+23.5*D91)/(234+D91))","v":870.47379631007118},"Pa",null,null,null,null,null,null,null,"tlak nasycené vodní páry",null,"p''vp4",{"$f":"Konstanty!$F$12^((1500.3+23.5*P91)/(234+P91))","v":870.47379631007118},"Pa",null,null,null,null,null,null,"tlak nasycené vodní páry",null,"p''vpi",{"$f":"Konstanty!$F$12^((1500.3+23.5*AA91)/(234+AA91))","v":1146.4717300807256},"Pa",null,null,-4,2.8173333333333335,null,null,null,null,null,null,null,null,null,null,null,null,null,null,null,null,null,null,-5,2.7816666666666667]
["tlak  vodní páry",null,"pvp4",{"$f":"(D92/100)*D97","v":235.79148279221124},"Pa",null,null,null,null,null,null,null,"tlak  vodní páry",null,"pvp4",{"$f":"(P92/100)*P97","v":235.79148279221124},"Pa",null,null,null,null,null,null,"tlak  vodní páry",null,"pvpi",{"$f":"(AA92/100)*AA97","v":1146.4717300807256},"Pa",null,null,-3,2.8529999999999998,null,null,null,null,null,null,null,null,null,null,null,null,null,null,null,null,null,null,-4,2.8173333333333335]
["tlak suchého vzduchu",null,"psv4",{"$f":"D103*Konstanty!$F$5*(D91+273.15)","v":97971.404333100014},"Pa",null,null,null,null,null,null,null,"tlak suchého vzduchu",null,"psv4",{"$f":"P103*Konstanty!$F$5*(P91+273.15)","v":97971.404333100014},"Pa",null,null,null,null,null,null,"tlak suchého vzduchu",null,"psvi",{"$f":"AA103*Konstanty!$F$5*(AA91+273.15)","v":98003.397392999992},"Pa",null,null,-2,2.8886666666666665,null,null,null,null,null,null,null,null,null,null,null,null,null,null,null,null,null,null,-3,2.8529999999999998]
["tlak směsi vlhkého vzduchu",null,"p4",{"$f":"D98+D99","v":98207.195815892221},"Pa",null,null,null,null,null,null,null,"tlak směsi vlhkého vzduchu",null,"p4",{"$f":"P98+P99","v":98207.195815892221},"Pa",null,null,null,null,null,null,"tlak směsi vlhkého vzduchu",null,"pi",{"$f":"AA98+AA99","v":99149.869123080716},"Pa",null,null,-1,2.9243333333333332,null,null,null,null,null,null,null,null,null,null,null,null,null,null,null,null,null,null,-2,2.8886666666666665]
["měrná vlhkost vzduchu",null,"x4",{"$f":"P16","v":1.4969230443707031E-3},"kg/kg s.v.",null,null,null,null,null,null,null,"měrná vlhkost vzduchu",null,"x4",{"$f":"P16","v":1.4969230443707031E-3},"kg/kg s.v.",null,null,null,null,null,null,"měrná vlhkost vzduchu",null,"xi",{"$f":"(Konstanty!$F$5/Konstanty!$F$6)*(AA98/AA99)","v":7.276561763593062E-3},"kg/kg s.v.",null,null,0,2.96,null,null,null,null,null,null,null,null,null,null,null,null,null,null,null,null,null,null,-1,2.9243333333333332]
[null,null,null,{"$f":"D101*1000","v":1.4969230443707031},"g/kg s.v.",null,null,null,null,null,null,null,null,null,null,{"$f":"P101*1000","v":1.4969230443707031},"g/kg s.v.",null,null,null,null,null,null,null,null,null,{"$f":"AA101*1000","v":7.2765617635930617},"g/kg s.v.",null,null,1,2.9956666666666667,null,null,null,null,null,null,null,null,null,null,null,null,null,null,null,null,null,null,0,2.96]
["hustota vzduchu při t",null,null,{"$f":"VLOOKUP(D91,Tabulky!$V$15:$AF$75,9,0)","v":1.2270000000000001},"kg/m3",null,null,null,null,null,null,null,"hustota vzduchu při t",null,null,{"$f":"VLOOKUP(P91,Tabulky!$V$15:$AF$75,9,0)","v":1.2270000000000001},"kg/m3",null,null,null,null,null,null,"hustota vzduchu při t",null,null,{"$f":"VLOOKUP(AA91,Tabulky!$V$15:$AF$75,9,0)","v":1.21},"kg/m3",null,null,2,3.0313333333333334,null,null,null,null,null,null,null,null,null,null,null,null,null,null,null,null,null,null,1,2.9956666666666667]
[null,null,null,null,null,null,null,null,null,null,null,null,null,null,null,null,null,null,null,null,null,null,null,null,null,null,{"$f":"1.395-Teplota*0.004414","v":1.253752},null,null,null,3,3.0670000000000002,null,null,null,null,null,null,null,null,null,null,null,null,null,null,null,null,null,null,2,3.0313333333333334]
["t4'","smíšení vzduchu s exteriérovým",null,null,null,null,null,null,null,null,null,null,"t4'","smíšení vzduchu s exteriérovým",null,null,null,null,null,null,null,null,null,null,null,null,null,null,null,null,4,3.1026666666666665,null,null,null,null,null,null,null,null,null,null,null,null,null,null,null,null,null,null,3,3.0670000000000002]
["Množství čerstvého vzduchu",null,"Včerstv",{"$f":"IF(D91>tvyp,100,$D$86)","v":30},"%",null,null,null,null,null,null,null,"Množství čerstvého vzduchu",null,"Včerstv",{"$f":"IF(P91>tvyp,100,$D$86)","v":30},"%",null,null,null,"A","Ti",{"$f":"J6","v":24},null,"B","tch",{"$f":"AA91","v":9},null,null,null,5,3.1383333333333332,null,null,null,null,null,null,null,null,null,null,null,null,null,null,null,null,null,null,4,3.1026666666666665]
["teplota vzduchu",null,"t4",{"$f":"ROUND(((((D106/100)*D58)*D91+((1-(D106/100))*D58)*tvyp)/D58),0)","v":22},"°C",null,null,null,null,null,null,null,"teplota vzduchu",null,"t4",{"$f":"ROUND(((((P106/100)*P58)*P91+((1-(P106/100))*P58)*tvyp)/P58),0)","v":22},"°C",null,null,null,null,"xi",{"$f":"J16","v":1.0144214643132086E-2},null,null,"xch",{"$f":"AA101","v":7.276561763593062E-3},null,null,null,6,3.1739999999999999,null,null,null,null,null,null,null,null,null,null,null,null,null,null,null,null,null,null,5,3.1383333333333332]
["relativní vlhkost",null,"rh4",{"$f":"(1-(D106/100))*D68+(D106/100)*D92","v":53.643352862666688},"%",null,null,null,null,null,null,null,"relativní vlhkost",null,"rh4",{"$f":"(1-(P106/100))*P68+(P106/100)*P92","v":60.596797111719923},"%",null,null,null,null,"xi",{"$f":"J17","v":10.144214643132086},null,null,"xch",{"$f":"AA102","v":7.2765617635930617},null,null,null,7,3.2096666666666667,null,null,null,null,null,null,null,null,null,"  ",null,null,null,null,null,null,null,null,6,3.1739999999999999]
["entalpie s.v.",null,"hsv4",{"$f":"Konstanty!$F$2*D107","v":22220},"J/kg",null,null,null,null,null,null,null,"entalpie s.v.",null,"hsv4",{"$f":"Konstanty!$F$2*P107","v":22220},"J/kg",null,null,null,null,null,null,null,null,null,null,null,null,null,8,3.2453333333333334,null,null,null,null,null,null,null,null,null,null,null,null,null,null,null,null,null,null,7,3.2096666666666667]
["entalpie v.p.",null,"hvp4",{"$f":"D117*(Konstanty!$F$3*D107+Konstanty!$F$4)","v":22864.320000000003},"J/kg",null,null,null,null,null,null,null,"entalpie v.p.",null,"hvp4",{"$f":"P117*(Konstanty!$F$3*P107+Konstanty!$F$4)","v":25828.075356969115},"J/kg",null,null,null,null,"dx",{"$f":"P62","v":1.5},null,null,null,null,null,null,null,9,3.2810000000000001,null,null,null,null,null,null,null,null,null,null,null,null,null,null,null,null,null,null,8,3.2453333333333334]
["entalpie ",null,"h4",{"$f":"D109+D110","v":45084.320000000007},"J/kg",null,null,null,null,null,null,null,"entalpie ",null,"h4",{"$f":"P109+P110","v":48048.075356969115},"J/kg",null,null,null,null,"th",{"$f":"((W106-AA106)*W108+(AA108-W108)*W106-(W106-AA106)*(W108-W110))/(AA108-W108)","v":16.153862079842494},null,null,null,null,null,null,null,10,3.3166666666666664,null,null,null,null,null,null,null,null,null,null,null,null,null,null,null,null,null,null,9,3.2810000000000001]
[null,null,null,{"$f":"D111/1000","v":45.084320000000005},"kJ/kg",null,null,null,null,null,null,null,null,null,null,{"$f":"P111/1000","v":48.048075356969115},"kJ/kg",null,null,null,null,null,{"$f":"ROUND(W111,0)","v":16},null,null,null,null,null,null,null,11,3.3523333333333332,null,null,null,null,null,null,null,null,null,null,null,null,null,null,null,null,null,null,10,3.3166666666666664]
["tlak nasycené vodní páry",null,"p''vp4",{"$f":"Konstanty!$F$12^((1500.3+23.5*D107)/(234+D107))","v":2644.0791202149526},"Pa",null,null,null,null,null,null,null,"tlak nasycené vodní páry",null,"p''vp4",{"$f":"Konstanty!$F$12^((1500.3+23.5*P107)/(234+P107))","v":2644.0791202149526},"Pa",null,null,null,null,null,null,null,null,null,null,null,null,null,12,3.3879999999999999,null,null,null,null,null,null,null,null,null,null,null,null,null,null,null,null,null,null,11,3.3523333333333332]
["tlak  vodní páry",null,"pvp4",{"$f":"(D108/100)*D113","v":1418.3726924250002},"Pa",null,null,null,null,null,null,null,"tlak  vodní páry",null,"pvp4",{"$f":"(P108/100)*P113","v":1602.2272599500041},"Pa",null,null,null,null,null,null,null,null,null,null,null,null,null,13,3.4236666666666666,null,null,null,null,null,null,null,null,null,null,null,null,null,null,null,null,null,null,12,3.3879999999999999]
["tlak suchého vzduchu",null,"psv4",{"$f":"D119*Konstanty!$F$5*(D107+273.15)","v":98028.386140100003},"Pa",null,null,null,null,null,null,null,"tlak suchého vzduchu",null,"psv4",{"$f":"P119*Konstanty!$F$5*(P107+273.15)","v":98028.386140100003},"Pa",null,null,null,null,null,null,null,null,null,null,null,null,null,14,3.4593333333333334,null,null,null,null,null,null,null,null,null,null,null,null,null,null,null,null,null,null,13,3.4236666666666666]
["tlak směsi vlhkého vzduchu",null,"p4",{"$f":"D114+D115","v":99446.758832524996},"Pa",null,null,null,null,null,null,null,"tlak směsi vlhkého vzduchu",null,"p4",{"$f":"P114+P115","v":99630.613400050002},"Pa",null,null,null,null,null,null,null,null,null,null,null,null,null,15,3.4950000000000001,null,null,null,null,null,null,null,null,null,null,null,null,null,null,null,null,null,null,14,3.4593333333333334]
["měrná vlhkost vzduchu",null,"x4",{"$f":"(Konstanty!$F$5/Konstanty!$F$6)*(D114/D115)","v":9.0000000000000011E-3},"kg/kg s.v.",null,null,null,null,null,null,null,"měrná vlhkost vzduchu",null,"x4",{"$f":"(Konstanty!$F$5/Konstanty!$F$6)*(P114/P115)","v":1.0166612355526954E-2},"kg/kg s.v.",null,null,null,null,null,null,null,null,null,null,null,null,null,16,3.5306666666666668,null,null,null,null,null,null,null,null,null,null,null,null,null,null,null,null,null,null,15,3.4950000000000001]
[null,null,null,{"$f":"D117*1000","v":9.0000000000000018},"g/kg s.v.",null,null,null,null,null,null,null,null,null,null,{"$f":"P117*1000","v":10.166612355526954},"g/kg s.v.",null,null,null,null,null,null,null,null,null,null,null,null,null,17,3.5663333333333331,null,null,null,null,null,null,null,null,null,null,null,null,null,null,null,null,null,null,16,3.5306666666666668]
["hustota vzduchu při t",null,null,{"$f":"VLOOKUP(D107,Tabulky!$V$15:$AF$75,9,0)","v":1.157},"kg/m3",null,null,null,null,null,null,null,"hustota vzduchu při t",null,null,{"$f":"VLOOKUP(P107,Tabulky!$V$15:$AF$75,9,0)","v":1.157},"kg/m3",null,null,null,null,null,null,null,null,null,null,null,null,null,18,3.6019999999999999,null,null,null,null,null,null,null,null,null,null,null,null,null,null,null,null,null,null,17,3.5663333333333331]
[null,null,null,null,null,null,null,null,null,null,null,null,null,null,null,null,null,null,null,null,null,null,null,null,null,null,null,null,null,null,19,3.6376666666666666,null,null,null,null,null,null,null,null,null,null,null,null,null,null,null,null,null,null,18,3.6019999999999999]
["množství tepla na kondenzátoru",null,"Qk",{"$f":"AH69","v":36473.52298148405},"W",null,null,"přepočet mw na msv",{"$f":"(D58*D119)/(1+D117)","v":3.9517283195368584},"m3/s",null,null,"množství tepla na kondenzátoru",null,"Qk",{"$f":"BB70","v":56763.692798437383},"W",null,null,null,null,null,null,null,null,null,null,null,null,null,20,3.6733333333333333,null,null,null,null,null,null,null,null,null,null,null,null,null,null,null,null,null,null,19,3.6376666666666666]
["Požadované teplo na dohřev",null,"Qpož",{"$f":"(D134-D107)*Konstanty!F2*D119*I121+D88","v":81723.742669729632},"W",null,null,null,null,null,null,null,"Požadované teplo na dohřev",null,null,{"$f":"(P134-P107)*Konstanty!$F$2*P119*P58","v":17764.83217126314},"W",null,null,null,null,null,null,null,null,null,null,null,null,null,21,3.7090000000000001,null,null,null,null,null,null,null,null,null,null,null,null,null,null,null,null,null,null,20,3.6733333333333333]
["dosažená teplota",null,"t6",{"$f":"D121/(D58*D119*Konstanty!$F$2)+D107","v":31.0568691771904},"°C",null,null,null,null,null,null,null,"dosažená teplota",null,"t6",{"$f":"P121/(P58*P119*Konstanty!$F$2)+P107","v":60.343413943595692},"°C",null,null,null,null,null,null,null,null,null,null,null,null,null,22,3.7446666666666664,null,null,null,null,null,null,null,null,null,null,null,null,null,null,null,null,null,null,21,3.7090000000000001]
["potřeba dohřevu",null,"Qdohř",{"$f":"IF((D122-D121)>0,D122-D121,0)","v":45250.219688245583},"W",null,null,null,null,null,null,null,"potřeba dohřevu",null,"Qdohř",{"$f":"IF((P122-P121)>0,P122-P121,0)","v":0},"W",null,null,null,null,null,null,null,null,null,null,null,null,null,23,3.7803333333333331,null,null,null,null,null,null,null,null,null,null,null,null,null,null,null,null,null,null,22,3.7446666666666664]
["přebytečné teplo",null,"Qpřebyt",{"$f":"IF((D122-D121)<0,D121-D122,0)","v":0},"W",null,null,null,null,null,null,null,"přebytečné teplo",null,"Qpřebyt",{"$f":"IF((P122-P121)<0,P121-P122,0)","v":38998.860627174246},"W",null,null,null,null,null,null,null,null,null,null,null,null,null,24,3.8159999999999998,null,null,null,null,null,null,null,null,null,null,null,null,null,null,null,null,null,null,23,3.7803333333333331]
[null,null,null,null,null,null,null,null,null,null,null,null,null,null,null,null,null,null,null,null,null,null,null,null,null,null,null,null,null,null,25,3.8516666666666666,null,null,null,null,null,null,null,null,null,null,null,null,null,null,null,null,null,null,24,3.8159999999999998]
[null,null,null,null,null,null,null,null,null,null,null,null,null,null,null,null,null,null,null,null,null,null,null,null,null,null,null,null,null,null,26,3.8873333333333333,null,null,null,null,null,null,null,null,null,null,null,null,null,null,null,null,null,null,25,3.8516666666666666]
["teplota zvýšení do int",null,"tzv",{"$f":"Vypocet!D128","v":2},"°C ",null,null,null,null,null,null,null,null,"teplota zvýšení do int","tzv",{"$f":"Vypocet!P128","v":2},"°C ",null,null,null,null,null,null,null,null,null,null,null,null,null,27,3.923,null,null,null,null,null,null,null,null,null,null,null,null,null,null,null,null,null,null,26,3.8873333333333333]
["teplotní spád kondenzatoru",null,"Δt",{"$f":"Vypocet!D129","v":0},"°C ",null,null,null,null,null,null,null,null,"teplotní spád kondenzatoru","Δt",{"$f":"Vypocet!P129","v":0},"°C ",null,null,null,null,null,null,null,null,null,null,null,null,null,28,3.9586666666666668,null,null,null,null,null,null,null,null,null,null,null,null,null,null,null,null,null,null,27,3.923]
["teplota kondenzatoru",null,"tohř",{"$f":"Vypocet!D130","v":0},"°C ",null,null,null,null,null,null,null,null,"teplota kondenzatoru","tohř",{"$f":"Vypocet!P130","v":0},"°C ",null,null,null,null,null,null,null,null,null,null,null,null,null,29,3.9943333333333335,null,null,null,null,null,null,null,null,null,null,null,null,null,null,null,null,null,null,28,3.9586666666666668]
["relativní vlhkost",null,"rhohř",{"$f":"Vypocet!D131","v":0},"%",null,null,null,null,null,null,null,null,"relativní vlhkost","rhohř",{"$f":"Vypocet!P131","v":0},"%",null,null,null,null,null,null,null,null,null,null,null,null,null,30,4.03,null,null,null,null,null,null,null,null,null,null,null,null,null,null,null,null,null,null,29,3.9943333333333335]
[null,null,null,null,null,null,null,null,null,null,null,null,null,null,null,null,null,null,null,null,null,null,null,null,null,null,null,null,null,null,31,4.065666666666667,null,null,null,null,null,null,null,null,null,null,null,null,null,null,null,null,null,null,30,4.03]
["t5","parametry vyduchu za kondenzátorem",null,null,null,null,null,null,null,null,null,null,"t5","parametry vyduchu za kondenzátorem",null,null,null,null,null,null,null,null,null,null,null,null,null,null,null,null,32,4.1013333333333328]
["požadovaná teplotateplota do I",null,"t5",{"$f":"Teplota+D128","v":34},"°C",null,null,null,null,null,null,null,"požadovaná teplota do I",null,"t5",{"$f":"Teplota+P128","v":34},"°C",null,null,null,null,null,null,null,null,null,null,null,null,null,33,4.1370000000000005]
["dosažená teplota",null,"tdos",{"$f":"D123","v":31.0568691771904},"°C",null,null,null,null,null,null,null,"dosažená teplota",null,"t6",{"$f":"P123","v":60.343413943595692},null,null,null,null,null,null,null,null,null,null,null,null,null,null,34,4.1726666666666663]
[null,null,null,null,null,null,null,null,null,null,null,null,null,null,null,null,null,null,null,null,null,null,null,null,null,null,null,null,null,null,35,4.208333333333333]
["relativní vlhkost",null,"rh5",{"$f":"((D146*D116)/(D142*(0.622+D146)))*100","v":26.655326030905385},"%",null,null,null,null,null,null,null,"relativní vlhkost",null,"rh5",{"$f":"((P146*P116)/(P142*(0.622+P146)))*100","v":30.110483501210361},"%"]
["entalpie s.v.",null,"hsv5",{"$f":"Konstanty!$F$2*D134","v":34340},"J/kg",null,null,null,null,null,null,null,"entalpie s.v.",null,"hsv5",{"$f":"Konstanty!$F$2*P134","v":34340},"J/kg"]
["entalpie v.p.",null,"hvp5",{"$f":"D146*(Konstanty!$F$3*D134+Konstanty!$F$4)","v":23063.040000000005},"J/kg",null,null,null,null,null,null,null,"entalpie v.p.",null,"hvp5",{"$f":"P146*(Konstanty!$F$3*P134+Konstanty!$F$4)","v":26052.554157779152},"J/kg"]
["entalpie ",null,"h5",{"$f":"D138+D139","v":57403.040000000008},"J/kg",null,null,null,null,null,null,null,"entalpie ",null,"h5",{"$f":"P138+P139","v":60392.554157779152},"J/kg"]
[null,null,null,{"$f":"D140/1000","v":57.403040000000011},"kJ/kg",null,null,null,null,null,null,null,null,null,null,{"$f":"P140/1000","v":60.392554157779152},"kJ/kg"]
["tlak nasycené vodní páry",null,"p''vp5",{"$f":"Konstanty!$F$12^((1500.3+23.5*D134)/(234+D134))","v":5321.3250022529974},"Pa",null,null,null,null,null,null,null,"tlak nasycené vodní páry",null,"p''vp5",{"$f":"Konstanty!$F$12^((1500.3+23.5*P134)/(234+P134))","v":5321.3250022529974},"Pa",null,null,null,null,null,null,null,null,null,null,null,null,null,"dt vyp"]
["tlak  vodní páry",null,"pvp5",{"$f":"(D137/100)*D142","v":1418.4165285146198},"Pa",null,null,null,null,null,null,null,"tlak  vodní páry",null,"pvp5",{"$f":"(P137/100)*P142","v":1602.2766868491706},"Pa",null,null,null,null,null,null,null,null,null,null,null,null,null,2]
["tlak suchého vzduchu",null,"psv5",{"$f":"D148*Konstanty!$F$5*(D134+273.15)","v":97958.084656299994},"Pa",null,null,null,null,null,null,null,"tlak suchého vzduchu",null,"psv5",{"$f":"Konstanty!$F$8*Konstanty!$F$5*(P134+273.15)","v":108009.58929249999},"Pa",null,null,null,null,null,null,null,null,null,null,null,null,null,3]
["tlak směsi vlhkého vzduchu",null,"p5",{"$f":"D143+D144","v":99376.50118481461},"Pa",null,null,null,null,null,null,null,"tlak směsi vlhkého vzduchu",null,"p5",{"$f":"P143+P144","v":109611.86597934917},"Pa",null,null,null,null,null,null,null,null,null,null,null,null,null,4]
["měrná vlhkost vzduchu",null,"x5",{"$f":"D117","v":9.0000000000000011E-3},"kg/kg s.v.",null,null,null,null,null,null,null,"měrná vlhkost vzduchu",null,"x5",{"$f":"P117","v":1.0166612355526954E-2},"kg/kg s.v.",null,null,null,null,null,null,null,null,null,null,null,null,null,5]
[null,null,null,{"$f":"D146*1000","v":9.0000000000000018},"g/kg s.v.",null,null,null,null,null,null,null,null,null,null,{"$f":"P146*1000","v":10.166612355526954},"g/kg s.v.",null,null,null,null,null,null,null,null,null,null,null,null,null,6,{"$f":"D124","v":45250.219688245583}]
["hustota vzduchu při t",null,null,{"$f":"VLOOKUP(D134,Tabulky!$V$15:$AF$75,9,0)","v":1.111},"kg/m3",null,null,null,null,null,null,null,"hustota vzduchu při t",null,null,{"$f":"VLOOKUP(P134,Tabulky!$V$15:$AF$75,9,0)","v":1.111},"kg/m3",null,null,null,null,null,null,null,null,null,null,null,null,null,7]
[null,null,null,null,null,null,null,null,null,null,null,null,null,null,null,null,null,null,null,null,null,null,null,null,null,null,null,null,null,null,8]
["navlhčení z prostoru",null,null,null,null,null,null,null,null,null,null,null,"navlhčení z prostoru",null,null,null,null,null,null,null,null,null,null,null,null,null,null,null,null,null,9]
["dx=n.100/V.ρ",null,"dx",{"$f":"(D33*100)/D57*Konstanty!$F$8","v":0.59243396843461305},"g/kg s.v",null,null,null,null,null,null,null,"dx=n.100/V.ρ",null,"dx",{"$f":"(P30*100)/P57*Konstanty!$F$8","v":5.3720302982114262E-2},"g/kg s.v",null,null,null,null,null,null,null,null,null,null,null,null,null,10]
[null,null,null,null,null,null,null,null,null,null,null,null,null,null,null,null,null,null,null,null,null,null,null,null,null,null,null,null,null,null,11]
["NUTNÉ vzduch privlhčit",null,null,null,null,null,null,null,null,null,null,null,"NUTNÉ vzduch privlhčit",null,null,null,null,null,null,null,null,null,null,null,null,null,null,null,null,null,12]
[null,null,null,null,null,null,null,null,null,null,null,null,null,null,null,null,null,null,null,null,null,null,null,null,null,null,null,null,null,null,13]
[null,null,null,null,null,null,null,null,null,null,null,null,null,null,null,null,null,null,null,null,null,null,null,null,null,null,null,null,null,null,14]
[null,null,null,null,null,null,null,null,null,null,null,null,null,null,null,null,null,null,null,null,null,null,null,null,null,null,null,null,null,null,15]

{"sheet":"V3","index":2,"n_rows":156,"n_cols":63,"rows_kept":156,"cut":false,"hidden":false,"merged":[[59,6,59,7],[4,15,4,18],[26,3,26,6],[27,3,27,6],[33,6,33,7],[40,6,40,7]]}
[null,"Legenda",null,null,"hodnotu nutno zadat",null,null,null,null,"prevzato z první "]
[null,null,null,null,"hodnota se vypočítává "]
[null,null,null,null,"pomocná hodnota"]
["Parametry vzduchu",null,null,null,null,null,"interier klidovy rezim ",null,null,null,null,null,null,null,null,null,null,null,null,null,"Produkce tepla od",null,null,"ni",{"$f":"0.85*Y5+0.75*Y6+Y7","v":60.5},null,null,"Qi=ni.6,2*(36-ti)"]
["Interiér","ti",null,null,null,null,"Interiér","ti",null,null,null,null,"Exteriér","te",null,"minimální teplota -15 (tabulka) ",null,null,null,null,"lidí",{"$f":"Y4*6.2*(36-Teplota)","v":1500.4},"W","nz",{"$f":"Vypocet!Y5","v":30},"zeny",null,"ni=0,85nz+0,75nd+nm"]
["teplota",null,"ti",{"$f":"[0]!Teplota","v":32},"°C",null,"teplota",null,"ti",{"$f":"Vypocet!J6","v":24},"°C",null,"teplota",null,"te",{"$f":"CEILING(Vypocet!P6+5,5)","v":-5},"°C",null,null,null,null,null,null,"nd ",{"$f":"Vypocet!Y6","v":20},"deti",null,"nz - zeny, nd deti, nm muzi"]
["relativní vlhkost",null,"rhi",{"$f":"Vypocet!D7","v":60},"%",null,"relativní vlhkost",null,"rhi",{"$f":"Vypocet!J7","v":55},"%",null,"relativní vlhkost",null,"rhe",{"$f":"(93*te-3153.5)/(te-39.17)","v":81.922119085352051},"%",null,null,null,null,null,null,"nm",{"$f":"Vypocet!Y7","v":20},"muzi"]
["entalpie s.v.",null,"hsvi",{"$f":"Konstanty!$F$2*Teplota","v":32320},"J/kg",null,"entalpie s.v.",null,"hsvi",{"$f":"Konstanty!$F$2*J6","v":24240},"J/kg",null,"entalpie s.v.",null,"hsve",{"$f":"Konstanty!$F$2*te","v":-5050},"J/kg"]
["entalpie v.p.",null,"hvpi",{"$f":"$D$16*(Konstanty!$F$3*Teplota+Konstanty!$F$4)","v":46343.062700276656},"J/kg",null,"entalpie v.p.",null,"hvpi",{"$f":"$D$16*(Konstanty!$F$3*J6+Konstanty!$F$4)","v":46076.473456956111},"J/kg",null,"entalpie v.p.",null,"hvpe",{"$f":"P16*(Konstanty!F3*P6+Konstanty!F4)","v":5430.2279582714546},"J/kg",null,null,null,"Odpar z povrchů"]
["entalpie ",null,"hi",{"$f":"D8+D9","v":78663.062700276656},"J/kg",null,"entalpie ",null,"hi",{"$f":"J8+J9","v":70316.473456956111},"J/kg",null,"entalpie ",null,"he",{"$f":"IF(P8<0,P9-P8,P8+P9)","v":10480.227958271455},"J/kg",null,null,null,null,null,null,null,null,null,null,"(7+3,5*w)*S*(xp´´-x).10-3"]
[null,null,null,{"$f":"D10/1000","v":78.663062700276654},"kJ/kg",null,null,null,null,{"$f":"J10/1000","v":70.316473456956118},"kJ/kg",null,null,null,null,{"$f":"P10/1000","v":10.480227958271454},"kJ/kg",null,null,null,null,null,null,null,null,null,null,"w stredni rychlost vzduchu"]
["tlak nasycené vodní páry",null,"p''vpi",{"$f":"Konstanty!$F$12^((1500.3+23.5*D6)/(234+D6))","v":4756.6229589957475},"Pa",null,"tlak nasycené vodní páry",null,"p''vpi",{"$f":"Konstanty!$F$12^((1500.3+23.5*J6)/(234+J6))","v":2984.4262331760842},"Pa",null,"tlak nasycené vodní páry",null,"p''vpe",{"$f":"Konstanty!$F$12^((1500.3+23.5*P6)/(234+P6))","v":419.23345959983948},"Pa",null,{"$f":"2.718^(28.926-(6148/(273.15+te)))","v":402.587343512666},null,null,null,null,null,null,null,null,"xp´´-merna vlhkost nasyceneho vzduchu"]
["tlak  vodní páry",null,"pvpi",{"$f":"(D7/100)*D12","v":2853.9737753974482},"Pa",null,"tlak  vodní páry",null,"pvpi",{"$f":"(J7/100)*J12","v":1641.4344282468464},"Pa",null,"tlak  vodní páry",null,"pvpe",{"$f":"(P7/100)*P12","v":343.44493401902179},"Pa",null,null,null,null,null,null,null,null,null,null,"x - merna vlhkost vzduchu nad povrchem "]
["tlak suchého vzduchu",null,"psvi",{"$f":"D18*Konstanty!$F$5*(Teplota+273.15)","v":98021.008646699993},"Pa",null,"tlak suchého vzduchu",null,"psvi",{"$f":"J18*Konstanty!$F$5*(Teplota+273.15)","v":100648.9177257},"Pa",null,"tlak suchého vzduchu",null,"psve",{"$f":"P18*Konstanty!F5*(P6+273.15)","v":97990.034656899981},"Pa",null,null,null,null,null,null,null,null,null,null,"S plocha"]
["tlak směsi vlhkého vzduchu",null,"pi",{"$f":"D13+D14","v":100874.98242209744},"Pa",null,"tlak směsi vlhkého vzduchu",null,"pi",{"$f":"J13+J14","v":102290.35215394685},"Pa",null,"tlak směsi vlhkého vzduchu",null,"pe",{"$f":"P13+P14","v":98333.479590919},"Pa"]
["měrná vlhkost vzduchu",null,"xi",{"$f":"(Konstanty!$F$5/Konstanty!$F$6)*(D13/D14)","v":1.8110682290797792E-2},"kg/kg s.v.",null,"měrná vlhkost vzduchu",null,"xi",{"$f":"(Konstanty!$F$5/Konstanty!$F$6)*(J13/J14)","v":1.0144214643132086E-2},"kg/kg s.v.",null,"měrná vlhkost vzduchu",null,"xe",{"$f":"(Konstanty!F5/Konstanty!F6)*(P13/P14)","v":2.1801140028390293E-3},"kg/kg s.v."]
[null,null,null,{"$f":"D16*1000","v":18.11068229079779},"g/kg s.v.",null,null,null,null,{"$f":"J16*1000","v":10.144214643132086},"g/kg s.v.",null,null,null,null,{"$f":"P16*1000","v":2.1801140028390291},"g/kg s.v."]
["hustota vzduchu při t",null,null,{"$f":"VLOOKUP(Teplota,Tabulky!$V$15:$AF$75,9,0)","v":1.119},"kg/m3",null,"hustota vzduchu při t",null,null,{"$f":"VLOOKUP(J6,Tabulky!V15:AF75,9,0)","v":1.149},"kg/m3",null,"hustota vzduchu při t",null,null,{"$f":"VLOOKUP(te,Tabulky!V15:AF75,9,0)","v":1.2729999999999999},"kg/m3"]
[null,null,null,{"$f":"1.395-Teplota*0.004414","v":1.253752}]
["Bazén",null,null,null,null,null,null,null,"rozměry bazénu"]
["Teplota vody",null,"tsniz",{"$f":"Vypocet!D21","v":2},"°C","snížení teploty vody (dop 2-3°C)",null,null,"délka bazén","a",{"$f":"Vypocet!K21","v":25},"m"]
["tvz-(2-3)°C",null,"tvod",{"$f":"D6-D21","v":30},"°C",null,null,null,"šířka bazén","b",{"$f":"Vypocet!K22","v":12},"m"]
[]
["Mn. odpařené vody"]
["mw=ε*A*(p´´vp-pvp)",null,"mw",{"$f":"D28*$D$29*($D$12/100-$D$13/100)","v":114158.95101589795},"g/h"]
[null,null,null,{"$f":"D25/1000","v":114.15895101589796},"kg/h",null,null,null,"budova"]
["typ bazenu",null,null,{"$f":"Vypocet!AH47","v":"bazény - normální provoz"},null,null,null,null,"délka","a",{"$f":"Vypocet!K27","v":40},"m"]
["mnozstvi odp vody",null,null,{"$f":"VLOOKUP(D27,Tab_souc_odparu_bazen,7,0)","v":20},null,null,null,"[g/(hPa.m2.h)]","šířka","b",{"$f":"Vypocet!K28","v":15},"m"]
["plocha bazénu",null,"A",{"$f":"K21*K22","v":300},"m2",null,null,null,"výška","v",{"$f":"Vypocet!K29","v":7},"m","Produkce vlhkosti osobami - klidový režim"]
["Objem haly",null,"V",{"$f":"K27*K28*K29","v":4200},"m3",null,null,null,null,null,null,null,"počet osob v bazénu",null,"nos",{"$f":"Vypocet!P30","v":2}]
[null,null,null,null,null,null,null,null,null,null,null,null,"množství vlhkosti",null,"mos",{"$f":"P30*100","v":200},"g/h"]
["Produkce vlhkosti osobami - v provozu",null,null,null,null,null,null,null,null,null,null,null,null,null,null,{"$f":"P31/1000","v":0.2},"kg/h",null,null,null,null,null,null,null,null,null,null,null,null,null,"Výkon na kondenzátoru",null,null,null,"Qk",{"$f":"AH69","v":56696.281969042939},"W"]
["počet osob v bazénu",null,"nos",{"$f":"Vypocet!D33","v":60},"počet",null,"Produkce vlhkosti člověkem",null,null,null,null,null,null,null,null,{"$f":"P31/3600","v":5.5555555555555552E-2},"g/s",null,null,null,null,null,null,null,null,null,null,null,null,null,null,null,null,null,null,{"$f":"AH70","v":56.696281969042936},"kW"]
["množství vlhkosti",null,"mos",{"$f":"D33*H35","v":6300},"g/h",null,{"$f":"Vypocet!AH50","v":"člověk při středně těžké práci"},null,null,null,null,null,null,null,null,null,null,null,null,null,null,null,null,null,null,null,null,null,null,null,"Teplota požadovaná v interiéru",null,null,null,"ti",{"$f":"Teplota","v":32},"°C"]
[null,null,null,{"$f":"D34/1000","v":6.3},"kg/h",null,{"$f":"VLOOKUP(G34,Tabulky!W146:Z148,4,0)","v":"60-150"},{"$f":"IF(G35=\"60-150\",105,IF(G35=\"30-60\",45,225))","v":105},"g/h",null,null,null,"Produkce vlhkosti  - klidový režim",null,null,null,null,null,null,null,null,null,null,null,null,null,null,null,null,null,null,null,null,null,null,null,null,null,null,null,null,null,null,null,null,null,null,null,null,null,"Výkon na kondenzátoru",null,null,null,"Qk",{"$f":"BB70","v":56763.692798437383},"W"]
[null,null,null,{"$f":"D34/3600","v":1.75},"g/s",null,"rozmezí","průměr",null,null,null,"množství odpařené vody",null,null,"mw",{"$f":"Tabulky!$G$4*$D$29*($D$12/100-$D$13/100)","v":28539.737753974488},"g/h",null,null,null,null,null,null,null,null,null,null,null,null,null,null,null,null,null,null,null,null,null,null,null,null,null,null,null,null,null,null,null,null,null,null,null,null,null,null,{"$f":"BB71","v":56.763692798437383},"kW"]
["celkové množství odpařené vody",null,null,{"$f":"(D25+D34)*(I37/100+1)","v":126481.89856669286},"g/h",null,null,"korekce ",{"$f":"Vypocet!I37","v":5},"%",null,null,"celkové množství odpařené vody",null,null,{"$f":"(P36+P31)*(I37/100+1)","v":30176.724641673216},"g/h",null,null,null,null,null,null,null,null,null,null,null,null,null,null,null,null,null,null,null,null,null,null,null,null,null,null,null,null,null,null,null,null,null,"Teplota požadovaná v interiéru",null,null,null,"ti",{"$f":"J6","v":24},"°C"]
["Dimenzování průtoku vzduchu bazénové větrací jednotky pro zátěž",null,null,null,null,null,null,null,null,null,null,null,"Dimenzování průtoku vzduchu bazénové větrací jednotky pro klidový režim"]
["z množství odpařené vody",null,null,null,null,null,null,null,null,null,null,null,"z množství odpařené vody"]
["požadovaná vlhkost přiváděná",null,"xpoz",{"$f":"Vypocet!D40","v":9},"g/kg",null,"doporučená hodnota 8-10 g/kg",null,null,null,null,null,"požadovaná vlhkost přiváděná",null,"xpoz",{"$f":"Vypocet!P40","v":9},"g/kg",null,"doporučená hodnota 8-10 g/kg"]
[null,null,"V1",{"$f":"(D37)/(D18*(D17-D40))","v":12406.445935942682},"m3/h",null," ",null,{"$f":"D147","v":8.9999999999999876},"g/kg s.v.",null,null,null,null,"V1",{"$f":"(P36+P31)/(Konstanty!$F$8*(J17-5))","v":4560.6593112769815},"m3/h"]
["z objemu haly",null,null,null,null,null,null,null,null,null,null,null,"z objemu haly"]
["výměna vzduchu",null,"n",{"$f":"Vypocet!D43","v":1},"1/h",null,null,null,null,null,null,null,"výměna vzduchu",null,"n",{"$f":"Vypocet!P43","v":1},"1/h"]
["V=n*VH",null,"V2",{"$f":"D30*D43","v":4200},"m3/h",null,null,null,null,null,null,null,"V=n*VH",null,"V2",{"$f":"D30*P43","v":4200},"m3/h"]
["z tepelných zisků"]
[null,"tepelné ztráty","Qzt",{"$f":"Vypocet!D46","v":7},"kW",null,null,"teplotní spád výústky","dt",{"$f":"Vypocet!J46","v":8},"°C"]
[null,"tepelné zisky","Qzisk",{"$f":"Vypocet!D47","v":16},"kW"]
[null,"Množství vzduchu",null,{"$f":"((D47-D46)/J46*Konstanty!$F$2*Konstanty!$F$8)","v":1391.90625},"m3/h"]
[]
["potřeba vzduchu pro osoby",null,null,null,null,null,null,null,null,null,null,null,null,null,null,null,null,null,null,null,null,null,"te","teplota exteriérového vzduchu"]
[null,null,"V2",{"$f":"D33*D52","v":3000},null,null,null,null,null,null,null,null,null,null,null,null,null,null,null,null,null,null,"Qpředehřev","Výkon pro předehřátí vzduchu"]
["množství čerstvého vzduchu/osoba",null,null,{"$f":"Vypocet!D52","v":50},"m3/h/os",null,"doporučená hodnota při zátěži (min hodnota 25m3/h) ",null,null,null,null,null,null,null,null,null,null,null,null,null,null,null,"Qdohřátí","Výkon spotřebovaný na dohřátí vzduchu na požadovanou úroveň"]
[]
["Potřeba čerstvého vzduchu",null,null,{"$f":"IF(MAX(D41,D44,D48)>D51,\"Ne\",\"Ano\")","v":"Ne"},null,null,"nepočítá s tím dál samo! ",null,null,null,null,null,null,null,null,null,null,null,null,null,null,null,null,null,null,null,null,null,null,null,"Teplo odevzdané na výparníku",null,null,null,null,null,"Množství kondenzátu"]
["Množství čerstvého vzduchu",null,null,{"$f":"IF(D54=\"ano\",D51-MAX(D41,D44,D48),0)","v":0},"m3/h",null,"pouze informativní charakter, množství V čerst rozhodne projektant",null,null,null,null,null,null,null,null,null,null,null,null,null,null,null,null,null,null,null,null,null,null,null,"Qv=V*ρ*(hi-h3)",null,"Qv",{"$f":"D81","v":42872.416079321803},"W",null,"mkond = V*ρ*(xi-x3)",null,"mkond",{"$f":"IF(D58*D18*(D16-D77)<0,0,D58*D18*(D16-D77))","v":8.9247977350139646E-3},"kg/s",null,null,null,null,null,null,null,null,null,"Teplo odevzdané na výparníku",null,null,null,null,null,"Množství kondenzátu"]
[null,null,null,null,null,null,null,null,null,null,null,null,null,null,null,null,null,null,null,null,null,null,null,null,null,null,null,null,null,null,null,null,null,{"$f":"AH55/1000","v":42.872416079321802},"kW",null,null,null,null,{"$f":"AN55*1000","v":8.9247977350139642},"g/s",null,null,null,null,null,null,null,null,null,"Qv=V*ρ*(hi-h3)",null,"Qv",{"$f":"P81","v":47003.773128829853},"W",null,"mkond = V*ρ*(xi-x3)",null,"mkond",{"$f":"IF(P58*J18*(J16-P77)<0,0,P58*J18*(J16-P77))","v":2.1834156452738541E-3},"kg/s"]
["průtok vzduchu",null,"V",{"$f":"MAX(D41,D44,D48)","v":12406.445935942682},"m3/h",null,null,null,null," ",null,null,"průtok vzduchu",null,"V",{"$f":"MAX(P41,P44)","v":4560.6593112769815},"m3/h",null,null,null,null,null,null,null,null,null,null,null,null,null,null,null,null,null,null,null,null,null,null,{"$f":"AN55*3600","v":32.129271846050273},"kg/h",null,null,null,null,null,null,null,null,null,null,null,null,{"$f":"BB56/1000","v":47.003773128829856},"kW",null,null,null,null,{"$f":"BH56*1000","v":2.183415645273854},"g/s"]
[null,null,"V",{"$f":"D57/3600","v":3.4462349822063003},"m3/s",null,null,null,null,null,null,null,null,null,"V",{"$f":"P57/3600","v":1.2668498086880504},"m3/s",null,null,null,null,null,null,null,null,null,null,null,null,null,"Tepelné čerpadlo (TČ)",null,null,null,"typ TČ",null,null,null,null,null,null,null,null,null,null,null,null,null,null,null,null,null,null,null,null,null,null,null,null,{"$f":"BH56*3600","v":7.8602963229858744},"kg/h"]
[null,null,null,null,null,null,null,null,null,null,null,null,null,null,null,null,null,null,null,null,null,null,null,null,null,null,null,null,null,null,"Topný faktor TČ",null,"COP",{"$f":"VLOOKUP(Teplota,'V3'!AE83:AF136,2,0)","v":4.1013333333333328},"Alfa S Duo",null,null,null,null,null,null,null,null,null,null,null,null,null,null,null,"Tepelné čerpadlo (TČ)",null,null,null,"typ TČ"]
["množství odebrané měrné vlh",null,"Δx",2.3143200042153818,"g/kg s.v",null,"vstupní měrná  vlhkost do int",null,"xvyst",{"$f":"D147","v":8.9999999999999876},"g/kg s.v.",null,null,null,null,null,null,null,null,null,null,null,null,null,null,null,null,null,null,null,null,null,null,null,null,null,null,null,null,null,null,null,null,null,null,null,null,null,null,null,"Topný faktor TČ",null,"COP",{"$f":"VLOOKUP(J6,'V3'!AY84:AZ132,2,0)","v":3.8159999999999998},"Alfa S Duo"]
["teplota chladiče",null,"tch",{"$f":"Vypocet!D61","v":9},"°C ",null,null,null,null,null,null,null,null,null,null,null,null,null,null,null,null,null,null,null,null,null,null,null,null,null,"Tepelná bilance TČ"]
["relativní vlhkost",null,"rhch",{"$f":"Vypocet!D62","v":100},"%",null,null,null,null,null,null,null,"množství odebrané měrné vlh",null,"Δx",{"$f":"Vypocet!P60","v":1.5},"g/kg s.v.",null,null,null,null,null,null,null,null,null,null,null,null,null,"Qk=Pel+Qv",null,null,null,null,null,null,null,null,null,null,null,null,null,null,null,null,null,null,null,"Tepelná bilance TČ"]
[null,null,null,null,null,null,null,null,null,null,null,null,"teplota chladiče",null,"tch",{"$f":"Vypocet!P61","v":9},"°C ",null,null,null,null,null,null,null,null,null,null,null,null,null,"εt = COP","εt = Qv/Pel",null,null,null,null,null,null,null,null,null,null,null,null,null,null,null,null,null,null,"Qk=Pel+Qv"]
[null,null,null,null,null,null,null,null,null,null,null,null,"relativní vlhkost",null,"rhch",{"$f":"Vypocet!P62","v":100},"%",null,null,null,null,null,null,null,null,null,null,null,null,null,"Pel=Qk/(1+Et)",null,null,null,null,null,null,null,null,null,null,null,null,null,null,null,null,null,null,null,"εt = COP","εt = Qv/Pel"]
[null,null,null,null,null,null,null,null,null,null,null,null,null,null,null,null,null,null,null,null,null,null,null,"Parametry chladiče",null,null,null,null,null,null,"Výkon kompresoru",null,"Pet",{"$f":"AH55/(AH59-1)","v":13823.865889721133},"W",null,null,null,null,null,null,null,null,null,null,null,null,null,null,null,"Pel=Qk/(1+Et)"]
["t3","parametry vyduchu za vyparnikem",null,null,null,null,null,null,null,null,null,null,"t3","parametry vyduchu za vyparnikem",null,null,null,null,null,null,null,null,null,"teplota",null,"ti",{"$f":"tch","v":9},"°C",null,null,null,null,null,{"$f":"AH65/1000","v":13.823865889721134},"kW",null,null,null,null,null,null,null,null,null,null,null,null,null,null,null,"Výkon kompresoru",null,"Pet",{"$f":"BB56/(BB60+1)","v":9759.9196696075287},"W"]
["teplota",null,"tvyp",{"$f":"W87","v":27},"°C",null,{"$f":"tvyp-te","v":32},null,null,null,null,null,"teplota",null,"tvyp",{"$f":"W112","v":16},"°C",null,null,null,null,null,null,"relativní vlhkost",null,"rhi",{"$f":"D62","v":100},"%",null,null,"Prikon kompresoru",null,null,{"$f":"AH66/AH59","v":3.3705784841647763},"kW",null,null,null,null,null,null,null,null,null,null,null,null,null,null,null,null,null,null,{"$f":"BB66/1000","v":9.7599196696075285},"kW"]
["relativní vlhkost",null,"rh3",{"$f":"IF((D74/D73)*100>100,100,(D74/D73)*100)","v":69.76086727063803},"%",null,null,null,null,null,null,null,"relativní vlhkost",null,"rh3",{"$f":"IF((P74/P73)*100>100,100,(P74/P73)*100)","v":74.957831234168935},"%",null,null,null,null,null,null,"entalpie s.v.",null,"hsvi",{"$f":"Konstanty!$F$2*AA66","v":9090},"J/kg",null,null,"Teplo na kondenzátoru"]
["entalpie s.v.",null,"h3",{"$f":"Konstanty!$F$2*D67","v":27270},"J/kg",null,null,null,null,null,null,null,"entalpie s.v.",null,"h3",{"$f":"Konstanty!$F$2*P67","v":16160},"J/kg",null,null,null,null,null,null,"entalpie v.p.",null,"hvpi",{"$f":"$AA$76*(Konstanty!$F$3*AA66+Konstanty!$F$4)","v":18311.904271787756},"J/kg",null,null,"Výkon na kondenzátoru",null,"Qk",{"$f":"AH65+AH55","v":56696.281969042939},"W",null,null,null,null,null,null,null,null,null,null,null,null,null,null,null,"Teplo na kondenzátoru"]
["entalpie v.p.",null,"h3",{"$f":"D77*(Konstanty!$F$3*D67+Konstanty!$F$4)","v":40275.668994853433},"J/kg",null,null,null,null,null,null,null,"entalpie v.p.",null,"h3",{"$f":"P77*(Konstanty!$F$3*P67+Konstanty!$F$4)","v":21865.022286924024},"J/kg",null,null,null,null,null,null,"entalpie ",null,"hi",{"$f":"AA68+AA69","v":27401.904271787756},"J/kg",null,null,null,null,null,{"$f":"AH69/1000","v":56.696281969042936},"kW",null,null,null,null,null,null,null,"  ",null,null,null,null,null,null,null,"Výkon na kondenzátoru",null,"Qk",{"$f":"BB66+BB56","v":56763.692798437383},"W"]
["entalpie ",null,"h3",{"$f":"D69+D70","v":67545.668994853433},"J/kg",null,null,null,null,null,null,null,"entalpie ",null,"h3",{"$f":"P69+P70","v":38025.022286924024},"J/kg",null,null,null,null,null,null,null,null,null,{"$f":"AA70/1000","v":27.401904271787757},"kJ/kg",null,null,null,null,null,null,null,null,null,null,null,null,null,null,null,null,null,null,null,null,null,null,null,null,null,{"$f":"BB70/1000","v":56.763692798437383},"kW",null,null,null,null,null,null,null,"  "]
[null,null,null,{"$f":"D71/1000","v":67.545668994853429},"kJ/kg",null,null,null,null,null,null,null,null,null,null,{"$f":"P71/1000","v":38.025022286924028},"kJ/kg",null,null,null,null,null,null,"tlak nasycené vodní páry",null,"p''vpi",{"$f":"Konstanty!$F$12^((1500.3+23.5*AA66)/(234+AA66))","v":1146.4717300807256},"Pa"]
["tlak nasycené vodní páry",null,"p''vp3",{"$f":"Konstanty!$F$12^((1500.3+23.5*D67)/(234+D67))","v":3566.3942301284278},"Pa",null,null,null,null,null,null,null,"tlak nasycené vodní páry",null,"p''vp3",{"$f":"Konstanty!$F$12^((1500.3+23.5*P67)/(234+P67))","v":1817.4687221052275},"Pa",null,null,null,null,null,null,"tlak  vodní páry",null,"pvpi",{"$f":"(AA67/100)*AA72","v":1146.4717300807256},"Pa",null,null,"Graf topneho faktoru ",null,null,"TnG Air 13, vzduch/voda"]
["tlak  vodní páry",null,"pvp3",{"$f":"(D77*D75)/0.622","v":2487.9475452275856},"Pa",null,{"$f":"((G77*D75)/(0.622+G77))/((0.622-G77)/(0.622))","v":2854.8762858705627},"přepočet tlaku z x",null,null,null,null,"tlak  vodní páry",null,"pvp3",{"$f":"(P77*P75)/0.622","v":1362.3351374494432},"Pa",null,{"$f":"((S77*P75)/(0.622+S77))/((0.622-S77)/(0.622))","v":1599.161688452117},"přepočet tlaku z x",null,null,null,"tlak suchého vzduchu",null,"psvi",{"$f":"AA78*Konstanty!$F$5*(AA66+273.15)","v":98003.397392999992},"Pa",null,null,null,null,null,null,null,null,null,null,null,null,null,null,null,null,null,null,null,null,null,null,"Graf topneho faktoru ",null,null,"TnG Air 13, vzduch/voda"]
["tlak suchého vzduchu",null,"psv3",{"$f":"D79*Konstanty!$F$5*(D67+273.15)","v":97965.806624099991},"Pa",null,null,null,null,null,null,null,"tlak suchého vzduchu",null,"psv3",{"$f":"P79*Konstanty!$F$5*(P67+273.15)","v":98027.697191300002},"Pa",null,null,null,null,null,null,"tlak směsi vlhkého vzduchu",null,"pi",{"$f":"AA73+AA74","v":99149.869123080716},"Pa",null,null,{"$f":"Vypocet!AE107","v":"teplota"},{"$f":"Vypocet!AF107","v":-18},{"$f":"Vypocet!AG107","v":-15},{"$f":"Vypocet!AH107","v":-10},{"$f":"Vypocet!AI107","v":-5},{"$f":"Vypocet!AJ107","v":0},{"$f":"Vypocet!AK107","v":5},{"$f":"Vypocet!AL107","v":10},{"$f":"Vypocet!AM107","v":15}]
["tlak směsi vlhkého vzduchu",null,"p3",{"$f":"D74+D75","v":100453.75416932757},"Pa",null,null,null,null,null,null,null,"tlak směsi vlhkého vzduchu",null,"p3",{"$f":"P74+P75","v":99390.032328749439},"Pa",null,null,null,null,null,null,"měrná vlhkost vzduchu",null,"xi",{"$f":"(Konstanty!$F$5/Konstanty!$F$6)*(AA73/AA74)","v":7.276561763593062E-3},"kg/kg s.v.",null,null,{"$f":"Vypocet!AE108","v":"vykon"},{"$f":"Vypocet!AF108","v":4.7},{"$f":"Vypocet!AG108","v":5.75},{"$f":"Vypocet!AH108","v":7},{"$f":"Vypocet!AI108","v":8.24},{"$f":"Vypocet!AJ108","v":9.4600000000000009},{"$f":"Vypocet!AK108","v":10.69},{"$f":"Vypocet!AL108","v":11.8},{"$f":"Vypocet!AM108","v":13.1},null,null,null,null,null,null,null,null,null,null,null,{"$f":"Vypocet!AY108","v":"teplota"},{"$f":"Vypocet!AZ108","v":-18},{"$f":"Vypocet!BA108","v":-15},{"$f":"Vypocet!BB108","v":-10},{"$f":"Vypocet!BC108","v":-5},{"$f":"Vypocet!BD108","v":0},{"$f":"Vypocet!BE108","v":5},{"$f":"Vypocet!BF108","v":10},{"$f":"Vypocet!BG108","v":15}]
["měrná vlhkost vzduchu",null,"x3",{"$f":"D16-deltaT/1000","v":1.5796362286582408E-2},"kg/kg s.v.",null,{"$f":"IF(tvyp<D82,0,D16)","v":1.8110682290797792E-2},"vezme x z Ti když tvyp<rosny bod",null,null,null,null,"měrná vlhkost vzduchu",null,"x3",{"$f":"J16-P62/1000","v":8.6442146431320865E-3},"kg/kg s.v.",null,{"$f":"IF(tvyp<P82,0,J16)","v":1.0144214643132086E-2},"vezme x z Ti když tvyp<rosny bod",null,null,null,null,null,null,{"$f":"AA76*1000","v":7.2765617635930617},"g/kg s.v.",null,null,{"$f":"Vypocet!AE109","v":"el prikon"},{"$f":"Vypocet!AF109","v":2.2400000000000002},{"$f":"Vypocet!AG109","v":2.4700000000000002},{"$f":"Vypocet!AH109","v":2.72},{"$f":"Vypocet!AI109","v":2.94},{"$f":"Vypocet!AJ109","v":3.2},{"$f":"Vypocet!AK109","v":3.37},{"$f":"Vypocet!AL109","v":3.55},{"$f":"Vypocet!AM109","v":3.85},null,null,null,null,null,null,null,null,null,null,null,{"$f":"Vypocet!AY109","v":"vykon"},{"$f":"Vypocet!AZ109","v":4.7},{"$f":"Vypocet!BA109","v":5.75},{"$f":"Vypocet!BB109","v":7},{"$f":"Vypocet!BC109","v":8.24},{"$f":"Vypocet!BD109","v":9.4600000000000009},{"$f":"Vypocet!BE109","v":10.69},{"$f":"Vypocet!BF109","v":11.8},{"$f":"Vypocet!BG109","v":13.1}]
[null,null,null,{"$f":"D77*1000","v":15.796362286582408},"g/kg s.v.",null,null,null,null,null,null,null,null,null,null,{"$f":"P77*1000","v":8.6442146431320861},"g/kg s.v.",null,null,null,null,null,null,"hustota vzduchu při t",null,null,{"$f":"VLOOKUP(AA66,Tabulky!$V$15:$AF$75,9,0)","v":1.21},"kg/m3",null,null,{"$f":"Vypocet!AE110","v":"COP"},{"$f":"Vypocet!AF110","v":2.1},{"$f":"Vypocet!AG110","v":2.33},{"$f":"Vypocet!AH110","v":2.57},{"$f":"Vypocet!AI110","v":2.8},{"$f":"Vypocet!AJ110","v":2.96},{"$f":"Vypocet!AK110","v":3.17},{"$f":"Vypocet!AL110","v":3.32},{"$f":"Vypocet!AM110","v":3.4},null,null,null,null,null,null,null,null,null,null,null,{"$f":"Vypocet!AY110","v":"el prikon"},{"$f":"Vypocet!AZ110","v":2.2400000000000002},{"$f":"Vypocet!BA110","v":2.4700000000000002},{"$f":"Vypocet!BB110","v":2.72},{"$f":"Vypocet!BC110","v":2.94},{"$f":"Vypocet!BD110","v":3.2},{"$f":"Vypocet!BE110","v":3.37},{"$f":"Vypocet!BF110","v":3.55},{"$f":"Vypocet!BG110","v":3.85}]
["hustota vzduchu při t",null,null,{"$f":"VLOOKUP(tvyp,Tabulky!$V$15:$AF$75,9,0)","v":1.137},"kg/m3",null,null,null,null,null,null,null,"hustota vzduchu při t",null,null,{"$f":"VLOOKUP(P67,Tabulky!$V$15:$AF$75,9,0)","v":1.181},"kg/m3",null,null,null,null,null,null,null,null,null,{"$f":"1.395-Teplota*0.004414","v":1.253752},null,null,null,null,null,null,{"$f":"AH78-AG78","v":0.23999999999999977},0.22999999999999998,0.16000000000000014,0.20999999999999996,0.14999999999999991,8.0000000000000071E-2,"průměr",{"$f":"AVERAGE(AG79:AM79)","v":0.17833333333333332},"prumer/1",{"$f":"AO79/5","v":3.5666666666666666E-2},null,null,null,null,null,null,null,{"$f":"Vypocet!AY111","v":"COP"},{"$f":"Vypocet!AZ111","v":2.1},{"$f":"Vypocet!BA111","v":2.33},{"$f":"Vypocet!BB111","v":2.57},{"$f":"Vypocet!BC111","v":2.8},{"$f":"Vypocet!BD111","v":2.96},{"$f":"Vypocet!BE111","v":3.17},{"$f":"Vypocet!BF111","v":3.32},{"$f":"Vypocet!BG111","v":3.4}]
[null,null,null,null,null,null,null,null,null,null,null,null,null,null,null,null,null,null,null,null,null,null,null,null,null,null,null,null,null,null,null,"popis závislosti",null,"y=0,18571x+2,96",null,null,null,null,null,null,null,null,null,null,null,null,null,null,null,null,null,null,null,{"$f":"BB79-BA79","v":0.23999999999999977},0.22999999999999998,0.16000000000000014,0.20999999999999996,0.14999999999999991,8.0000000000000071E-2,"průměr",{"$f":"AVERAGE(BA80:BG80)","v":0.17833333333333332},"prumer/1",{"$f":"BI80/5","v":3.5666666666666666E-2}]
["teplo získané na výparníku",null,"Qv",{"$f":"D58*D18*(D10-D71)","v":42872.416079321803},"W",null,null,null,null,null,null,null,"teplo získané na výparníku",null,"Qv",{"$f":"P58*J18*(J10-P71)","v":47003.773128829853},"W",null,null,null,"A","Ti",{"$f":"Teplota","v":32},null,"B","tch",{"$f":"AA66","v":9},null,null,null,null,null,null,null,null,null,null,null,null,null,null,null,null,null,null,null,null,null,null,null,null,"popis závislosti",null,"y=0,18571x+2,96"]
[null,"rosný bod ",null,{"$f":"(243.5*LN(($D$7/100)*Konstanty!$F$12^((17.67*Teplota)/(243.5+Teplota))))/(17.67-(LN(($D$7/100)*Konstanty!$F$12^((17.67*Teplota)/(243.5+Teplota)))))","v":23.274251871309211},"°C ",null,null,null,null,null,null,null,null,"rosný bod ",null,{"$f":"(243.5*LN((J7/100)*Konstanty!$F$12^((17.67*J6)/(243.5+J6))))/(17.67-(LN((J7/100)*Konstanty!$F$12^((17.67*J6)/(243.5+J6)))))","v":14.413817952855092},"°C ",null,null,null,null,"xi",{"$f":"D16","v":1.8110682290797792E-2},null,null,"xch",{"$f":"AA76","v":7.276561763593062E-3},null,null,null,"teplota","COP",null,-18,2.1]
[null,null,null,null,null,null,null,null,null,null,null,null,null,null,null,null,null,null,null,null,null,"xi",{"$f":"D17","v":18.11068229079779},null,null,"xch",{"$f":"AA77","v":7.2765617635930617},null,null,null,-18,{"$f":"$AQ$79*AE83+$AJ$78","v":2.3180000000000001},null,-15,2.33,null,null,null,null,null,null,null,null,null,null,null,null,null,null,null,"teplota","COP"]
["Distribuce tepla v závislosti na externí teplotě",null,null,null,null,null,null,null,null,null,null,null,null,null,null,null,null,null,null,null,null,null,null,null,null,null,null,null,null,null,-17,2.3536666666666668,null,-10,2.57,null,null,null,null,null,null,null,null,null,null,null,null,null,null,null,-18,{"$f":"$AQ$79*AY84+$AJ$78","v":2.3180000000000001}]
["teplota předehřevu te",null,"tpřed",{"$f":"Vypocet!D85","v":5},"°C",null,null,null,null,null,null,null,null,null,null,null,null,null,null,null,null,"dx",{"$f":"deltaT","v":2.3143200042153818},null,"výpočet teplochy při teplote chladice",null,null,null,null,null,-16,2.3893333333333331,null,-5,2.8,null,null,null,null,null,null,null,null,null,null,null,null,null,null,null,-17,2.3536666666666668]
["množství čerst vzduchu",null,null,{"$f":"Vypocet!D86","v":30},"%",null,null,null,null,null,null,null,null,null,null,null,null,null,null,null,null,"th",{"$f":"((W81-AA81)*W83+(AA83-W83)*W81-(W81-AA81)*(W83-W85))/(AA83-W83)","v":27.086877613804127},null,"počítá s přímkou ti - tch a na ní počítá bod",null,null,null,null,null,-15,2.4249999999999998,null,0,2.96,null,null,null,null,null,null,null,null,null,null,null,null,null,null,null,-16,2.3893333333333331]
["množství předehřívaného vzd",null,null,{"$f":"D58*(D86/100)","v":1.03387049466189},"m3/h",null,null,null,null,null,null,null,null,null,null,null,null,null,null,null,null,null,{"$f":"ROUND(W86,0)","v":27},null,null,null,null,null,null,null,-14,2.4606666666666666,null,5,3.17,null,null,null,null,null,null,null,null,null,null,null,null,null,null,null,-15,2.4249999999999998]
["potřeba tepla na předehřev",null,null,{"$f":"IF(D85>te,((D87*P18)/(1+P16))*(D85-te)*P18*Konstanty!$F$2,0)","v":16884.901889278393},"W",null,null,null,null,null,null,null,null,null,null,null,null,null,null,null,null,null,null,null,null,null,null,null,null,null,-13,2.4963333333333333,null,10,3.32,null,null,null,null,null,null,null,null,null,null,null,null,null,null,null,-14,2.4606666666666666]
[null,null,null,null,null,null,null,null,null,null,null,null,null,null,null,null,null,null,null,null,null,null,null,null,null,null,null,null,null,null,-12,2.532,null,15,3.4,null,null,null,null,null,null,null,null,null,null,null,null,null,null,null,-13,2.4963333333333333]
["t4","Předehřev exteriérového vzduchu",null,null,null,null,null,null,null,null,null,null,"t4","Předehřev exteriérového vzduchu",null,null,null,null,null,null,null,null,null,"Parametry chladiče klidovy rezim",null,null,null,null,null,null,-11,2.5676666666666668,null,null,null,null,null,null,null,null,null,null,null,null,null,null,null,null,null,null,-12,2.532]
["teplota předehřevu",null,"tpředehřev",{"$f":"IF($D$85>te,$D$85,te)","v":5},"°C",null,null,null,null,null,null,null,"teplota předehřevu",null,"tpředehřev",{"$f":"IF($D$85>te,$D$85,te)","v":5},"°C",null,null,null,null,null,null,"teplota",null,"ti",{"$f":"P63","v":9},"°C",null,null,-10,2.6033333333333335,null,null,null,null,null,null,null,null,null,null,null,null,null,null,null,null,null,null,-11,2.5676666666666668]
[null,null,"rhpředehřev",{"$f":"((D101*P15)/(D97*(0.622+D101)))*100","v":39.456175007943266},"%",null,null,null,null,null,null,null,null,null,"rhpředehřev",{"$f":"((P101*P15)/(P97*(0.622+P101)))*100","v":39.456175007943266},"%",null,null,null,null,null,null,"relativní vlhkost",null,"rhi",{"$f":"P64","v":100},"%",null,null,-9,2.6389999999999998,null,null,null,null,null,null,null,null,null,null,null,null,null,null,null,null,null,null,-10,2.6033333333333335]
["entalpie s.v.",null,"hsv4",{"$f":"Konstanty!$F$2*D91","v":5050},"J/kg",null,null,null,null,null,null,null,"entalpie s.v.",null,"hsv4",{"$f":"Konstanty!$F$2*P91","v":5050},"J/kg",null,null,null,null,null,null,"entalpie s.v.",null,"hsvi",{"$f":"Konstanty!$F$2*AA91","v":9090},"J/kg",null,null,-8,2.6746666666666665,null,null,null,null,null,null,null,null,null,null,null,null,null,null,null,null,null,null,-9,2.6389999999999998]
["entalpie v.p.",null,"hvp4",{"$f":"D101*(Konstanty!$F$3*D91+Konstanty!$F$4)","v":5470.342055923692},"J/kg",null,null,null,null,null,null,null,"entalpie v.p.",null,"hvp4",{"$f":"P101*(Konstanty!$F$3*P91+Konstanty!$F$4)","v":5470.342055923692},"J/kg",null,null,null,null,null,null,"entalpie v.p.",null,"hvpi",{"$f":"$AA$76*(Konstanty!$F$3*AA91+Konstanty!$F$4)","v":18311.904271787756},"J/kg",null,null,-7,2.7103333333333333,null,null,null,null,null,null,null,null,null,null,null,null,null,null,null,null,null,null,-8,2.6746666666666665]
["entalpie ",null,"h4",{"$f":"D93+D94","v":10520.342055923691},"J/kg",null,null,null,null,null,null,null,"entalpie ",null,"h4",{"$f":"P93+P94","v":10520.342055923691},"J/kg",null,null,null,null,null,null,"entalpie ",null,"hi",{"$f":"AA93+AA94","v":27401.904271787756},"J/kg",null,null,-6,2.746,null,null,null,null,null,null,null,null,null,null,null,null,null,null,null,null,null,null,-7,2.7103333333333333]
[null,null,null,{"$f":"D95/1000","v":10.520342055923692},"kJ/kg",null,null,null,null,null,null,null,null,null,null,{"$f":"P95/1000","v":10.520342055923692},"kJ/kg",null,null,null,null,null,null,null,null,null,{"$f":"AA95/1000","v":27.401904271787757},"kJ/kg",null,null,-5,2.7816666666666667,null,null,null,null,null,null,null,null,null,null,null,null,null,null,null,null,null,null,-6,2.746]
["tlak nasycené vodní páry",null,"p''vp4",{"$f":"Konstanty!$F$12^((1500.3+23.5*D91)/(234+D91))","v":870.47379631007118},"Pa",null,null,null,null,null,null,null,"tlak nasycené vodní páry",null,"p''vp4",{"$f":"Konstanty!$F$12^((1500.3+23.5*P91)/(234+P91))","v":870.47379631007118},"Pa",null,null,null,null,null,null,"tlak nasycené vodní páry",null,"p''vpi",{"$f":"Konstanty!$F$12^((1500.3+23.5*AA91)/(234+AA91))","v":1146.4717300807256},"Pa",null,null,-4,2.8173333333333335,null,null,null,null,null,null,null,null,null,null,null,null,null,null,null,null,null,null,-5,2.7816666666666667]
["tlak  vodní páry",null,"pvp4",{"$f":"(D92/100)*D97","v":343.45566447038931},"Pa",null,null,null,null,null,null,null,"tlak  vodní páry",null,"pvp4",{"$f":"(P92/100)*P97","v":343.45566447038931},"Pa",null,null,null,null,null,null,"tlak  vodní páry",null,"pvpi",{"$f":"(AA92/100)*AA97","v":1146.4717300807256},"Pa",null,null,-3,2.8529999999999998,null,null,null,null,null,null,null,null,null,null,null,null,null,null,null,null,null,null,-4,2.8173333333333335]
["tlak suchého vzduchu",null,"psv4",{"$f":"D103*Konstanty!$F$5*(D91+273.15)","v":97971.404333100014},"Pa",null,null,null,null,null,null,null,"tlak suchého vzduchu",null,"psv4",{"$f":"P103*Konstanty!$F$5*(P91+273.15)","v":97971.404333100014},"Pa",null,null,null,null,null,null,"tlak suchého vzduchu",null,"psvi",{"$f":"AA103*Konstanty!$F$5*(AA91+273.15)","v":98003.397392999992},"Pa",null,null,-2,2.8886666666666665,null,null,null,null,null,null,null,null,null,null,null,null,null,null,null,null,null,null,-3,2.8529999999999998]
["tlak směsi vlhkého vzduchu",null,"p4",{"$f":"D98+D99","v":98314.859997570398},"Pa",null,null,null,null,null,null,null,"tlak směsi vlhkého vzduchu",null,"p4",{"$f":"P98+P99","v":98314.859997570398},"Pa",null,null,null,null,null,null,"tlak směsi vlhkého vzduchu",null,"pi",{"$f":"AA98+AA99","v":99149.869123080716},"Pa",null,null,-1,2.9243333333333332,null,null,null,null,null,null,null,null,null,null,null,null,null,null,null,null,null,null,-2,2.8886666666666665]
["měrná vlhkost vzduchu",null,"x4",{"$f":"P16","v":2.1801140028390293E-3},"kg/kg s.v.",null,null,null,null,null,null,null,"měrná vlhkost vzduchu",null,"x4",{"$f":"P16","v":2.1801140028390293E-3},"kg/kg s.v.",null,null,null,null,null,null,"měrná vlhkost vzduchu",null,"xi",{"$f":"(Konstanty!$F$5/Konstanty!$F$6)*(AA98/AA99)","v":7.276561763593062E-3},"kg/kg s.v.",null,null,0,2.96,null,null,null,null,null,null,null,null,null,null,null,null,null,null,null,null,null,null,-1,2.9243333333333332]
[null,null,null,{"$f":"D101*1000","v":2.1801140028390291},"g/kg s.v.",null,null,null,null,null,null,null,null,null,null,{"$f":"P101*1000","v":2.1801140028390291},"g/kg s.v.",null,null,null,null,null,null,null,null,null,{"$f":"AA101*1000","v":7.2765617635930617},"g/kg s.v.",null,null,1,2.9956666666666667,null,null,null,null,null,null,null,null,null,null,null,null,null,null,null,null,null,null,0,2.96]
["hustota vzduchu při t",null,null,{"$f":"VLOOKUP(D91,Tabulky!$V$15:$AF$75,9,0)","v":1.2270000000000001},"kg/m3",null,null,null,null,null,null,null,"hustota vzduchu při t",null,null,{"$f":"VLOOKUP(P91,Tabulky!$V$15:$AF$75,9,0)","v":1.2270000000000001},"kg/m3",null,null,null,null,null,null,"hustota vzduchu při t",null,null,{"$f":"VLOOKUP(AA91,Tabulky!$V$15:$AF$75,9,0)","v":1.21},"kg/m3",null,null,2,3.0313333333333334,null,null,null,null,null,null,null,null,null,null,null,null,null,null,null,null,null,null,1,2.9956666666666667]
[null,null,null,null,null,null,null,null,null,null,null,null,null,null,null,null,null,null,null,null,null,null,null,null,null,null,{"$f":"1.395-Teplota*0.004414","v":1.253752},null,null,null,3,3.0670000000000002,null,null,null,null,null,null,null,null,null,null,null,null,null,null,null,null,null,null,2,3.0313333333333334]
["t4'","smíšení vzduchu s exteriérovým",null,null,null,null,null,null,null,null,null,null,"t4'","smíšení vzduchu s exteriérovým",null,null,null,null,null,null,null,null,null,null,null,null,null,null,null,null,4,3.1026666666666665,null,null,null,null,null,null,null,null,null,null,null,null,null,null,null,null,null,null,3,3.0670000000000002]
["Množství čerstvého vzduchu",null,"Včerstv",{"$f":"IF(D91>tvyp,100,$D$86)","v":30},"%",null,null,null,null,null,null,null,"Množství čerstvého vzduchu",null,"Včerstv",{"$f":"IF(P91>tvyp,100,$D$86)","v":30},"%",null,null,null,"A","Ti",{"$f":"J6","v":24},null,"B","tch",{"$f":"AA91","v":9},null,null,null,5,3.1383333333333332,null,null,null,null,null,null,null,null,null,null,null,null,null,null,null,null,null,null,4,3.1026666666666665]
["teplota vzduchu",null,"t4",{"$f":"ROUND(((((D106/100)*D58)*D91+((1-(D106/100))*D58)*tvyp)/D58),0)","v":20},"°C",null,null,null,null,null,null,null,"teplota vzduchu",null,"t4",{"$f":"ROUND(((((P106/100)*P58)*P91+((1-(P106/100))*P58)*tvyp)/P58),0)","v":20},"°C",null,null,null,null,"xi",{"$f":"J16","v":1.0144214643132086E-2},null,null,"xch",{"$f":"AA101","v":7.276561763593062E-3},null,null,null,6,3.1739999999999999,null,null,null,null,null,null,null,null,null,null,null,null,null,null,null,null,null,null,5,3.1383333333333332]
["relativní vlhkost",null,"rh4",{"$f":"(1-(D106/100))*D68+(D106/100)*D92","v":60.6694595918296},"%",null,null,null,null,null,null,null,"relativní vlhkost",null,"rh4",{"$f":"(1-(P106/100))*P68+(P106/100)*P92","v":64.307334366301234},"%",null,null,null,null,"xi",{"$f":"J17","v":10.144214643132086},null,null,"xch",{"$f":"AA102","v":7.2765617635930617},null,null,null,7,3.2096666666666667,null,null,null,null,null,null,null,null,null,"  ",null,null,null,null,null,null,null,null,6,3.1739999999999999]
["entalpie s.v.",null,"hsv4",{"$f":"Konstanty!$F$2*D107","v":20200},"J/kg",null,null,null,null,null,null,null,"entalpie s.v.",null,"hsv4",{"$f":"Konstanty!$F$2*P107","v":20200},"J/kg",null,null,null,null,null,null,null,null,null,null,null,null,null,8,3.2453333333333334,null,null,null,null,null,null,null,null,null,null,null,null,null,null,null,null,null,null,7,3.2096666666666667]
["entalpie v.p.",null,"hvp4",{"$f":"D117*(Konstanty!$F$3*D107+Konstanty!$F$4)","v":22831.199999999968},"J/kg",null,null,null,null,null,null,null,"entalpie v.p.",null,"hvp4",{"$f":"P117*(Konstanty!$F$3*P107+Konstanty!$F$4)","v":24200.20917050694},"J/kg",null,null,null,null,"dx",{"$f":"P62","v":1.5},null,null,null,null,null,null,null,9,3.2810000000000001,null,null,null,null,null,null,null,null,null,null,null,null,null,null,null,null,null,null,8,3.2453333333333334]
["entalpie ",null,"h4",{"$f":"D109+D110","v":43031.199999999968},"J/kg",null,null,null,null,null,null,null,"entalpie ",null,"h4",{"$f":"P109+P110","v":44400.20917050694},"J/kg",null,null,null,null,"th",{"$f":"((W106-AA106)*W108+(AA108-W108)*W106-(W106-AA106)*(W108-W110))/(AA108-W108)","v":16.153862079842494},null,null,null,null,null,null,null,10,3.3166666666666664,null,null,null,null,null,null,null,null,null,null,null,null,null,null,null,null,null,null,9,3.2810000000000001]
[null,null,null,{"$f":"D111/1000","v":43.03119999999997},"kJ/kg",null,null,null,null,null,null,null,null,null,null,{"$f":"P111/1000","v":44.40020917050694},"kJ/kg",null,null,null,null,null,{"$f":"ROUND(W111,0)","v":16},null,null,null,null,null,null,null,11,3.3523333333333332,null,null,null,null,null,null,null,null,null,null,null,null,null,null,null,null,null,null,10,3.3166666666666664]
["tlak nasycené vodní páry",null,"p''vp4",{"$f":"Konstanty!$F$12^((1500.3+23.5*D107)/(234+D107))","v":2338.0829352500591},"Pa",null,null,null,null,null,null,null,"tlak nasycené vodní páry",null,"p''vp4",{"$f":"Konstanty!$F$12^((1500.3+23.5*P107)/(234+P107))","v":2338.0829352500591},"Pa",null,null,null,null,null,null,null,null,null,null,null,null,null,12,3.3879999999999999,null,null,null,null,null,null,null,null,null,null,null,null,null,null,null,null,null,null,11,3.3523333333333332]
["tlak  vodní páry",null,"pvp4",{"$f":"(D108/100)*D113","v":1418.502281624998},"Pa",null,null,null,null,null,null,null,"tlak  vodní páry",null,"pvp4",{"$f":"(P108/100)*P113","v":1503.5588109326859},"Pa",null,null,null,null,null,null,null,null,null,null,null,null,null,13,3.4236666666666666,null,null,null,null,null,null,null,null,null,null,null,null,null,null,null,null,null,null,12,3.3879999999999999]
["tlak suchého vzduchu",null,"psv4",{"$f":"D119*Konstanty!$F$5*(D107+273.15)","v":98037.342474499994},"Pa",null,null,null,null,null,null,null,"tlak suchého vzduchu",null,"psv4",{"$f":"P119*Konstanty!$F$5*(P107+273.15)","v":98037.342474499994},"Pa",null,null,null,null,null,null,null,null,null,null,null,null,null,14,3.4593333333333334,null,null,null,null,null,null,null,null,null,null,null,null,null,null,null,null,null,null,13,3.4236666666666666]
["tlak směsi vlhkého vzduchu",null,"p4",{"$f":"D114+D115","v":99455.844756124992},"Pa",null,null,null,null,null,null,null,"tlak směsi vlhkého vzduchu",null,"p4",{"$f":"P114+P115","v":99540.901285432687},"Pa",null,null,null,null,null,null,null,null,null,null,null,null,null,15,3.4950000000000001,null,null,null,null,null,null,null,null,null,null,null,null,null,null,null,null,null,null,14,3.4593333333333334]
["měrná vlhkost vzduchu",null,"x4",{"$f":"(Konstanty!$F$5/Konstanty!$F$6)*(D114/D115)","v":8.9999999999999872E-3},"kg/kg s.v.",null,null,null,null,null,null,null,"měrná vlhkost vzduchu",null,"x4",{"$f":"(Konstanty!$F$5/Konstanty!$F$6)*(P114/P115)","v":9.5396598748450565E-3},"kg/kg s.v.",null,null,null,null,null,null,null,null,null,null,null,null,null,16,3.5306666666666668,null,null,null,null,null,null,null,null,null,null,null,null,null,null,null,null,null,null,15,3.4950000000000001]
[null,null,null,{"$f":"D117*1000","v":8.9999999999999876},"g/kg s.v.",null,null,null,null,null,null,null,null,null,null,{"$f":"P117*1000","v":9.5396598748450572},"g/kg s.v.",null,null,null,null,null,null,null,null,null,null,null,null,null,17,3.5663333333333331,null,null,null,null,null,null,null,null,null,null,null,null,null,null,null,null,null,null,16,3.5306666666666668]
["hustota vzduchu při t",null,null,{"$f":"VLOOKUP(D107,Tabulky!$V$15:$AF$75,9,0)","v":1.165},"kg/m3",null,null,null,null,null,null,null,"hustota vzduchu při t",null,null,{"$f":"VLOOKUP(P107,Tabulky!$V$15:$AF$75,9,0)","v":1.165},"kg/m3",null,null,null,null,null,null,null,null,null,null,null,null,null,18,3.6019999999999999,null,null,null,null,null,null,null,null,null,null,null,null,null,null,null,null,null,null,17,3.5663333333333331]
[null,null,null,null,null,null,null,null,null,null,null,null,null,null,null,null,null,null,null,null,null,null,null,null,null,null,null,null,null,null,19,3.6376666666666666,null,null,null,null,null,null,null,null,null,null,null,null,null,null,null,null,null,null,18,3.6019999999999999]
["množství tepla na kondenzátoru",null,"Qk",{"$f":"AH69","v":56696.281969042939},"W",null,null,"přepočet mw na msv",{"$f":"(D58*D119)/(1+D117)","v":3.979052283716888},"m3/s",null,null,"množství tepla na kondenzátoru",null,"Qk",{"$f":"BB70","v":56763.692798437383},"W",null,null,null,null,null,null,null,null,null,null,null,null,null,20,3.6733333333333333,null,null,null,null,null,null,null,null,null,null,null,null,null,null,null,null,null,null,19,3.6376666666666666]
["Požadované teplo na dohřev",null,"Qpož",{"$f":"(D134-D107)*Konstanty!F2*D119*I121+D88","v":82432.228064175069},"W",null,null,null,null,null,null,null,"Požadované teplo na dohřev",null,null,{"$f":"(P134-P107)*Konstanty!$F$2*P119*P58","v":20868.943583499127},"W",null,null,null,null,null,null,null,null,null,null,null,null,null,21,3.7090000000000001,null,null,null,null,null,null,null,null,null,null,null,null,null,null,null,null,null,null,20,3.6733333333333333]
["dosažená teplota",null,"t6",{"$f":"D121/(D58*D119*Konstanty!$F$2)+D107","v":33.981777733530762},"°C",null,null,null,null,null,null,null,"dosažená teplota",null,"t6",{"$f":"P121/(P58*P119*Konstanty!$F$2)+P107","v":58.08011153024912},"°C",null,null,null,null,null,null,null,null,null,null,null,null,null,22,3.7446666666666664,null,null,null,null,null,null,null,null,null,null,null,null,null,null,null,null,null,null,21,3.7090000000000001]
["potřeba dohřevu",null,"Qdohř",{"$f":"IF((D122-D121)>0,D122-D121,0)","v":25735.946095132131},"W",null,null,null,null,null,null,null,"potřeba dohřevu",null,"Qdohř",{"$f":"IF((P122-P121)>0,P122-P121,0)","v":0},"W",null,null,null,null,null,null,null,null,null,null,null,null,null,23,3.7803333333333331,null,null,null,null,null,null,null,null,null,null,null,null,null,null,null,null,null,null,22,3.7446666666666664]
["přebytečné teplo",null,"Qpřebyt",{"$f":"IF((D122-D121)<0,D121-D122,0)","v":0},"W",null,null,null,null,null,null,null,"přebytečné teplo",null,"Qpřebyt",{"$f":"IF((P122-P121)<0,P121-P122,0)","v":35894.74921493826},"W",null,null,null,null,null,null,null,null,null,null,null,null,null,24,3.8159999999999998,null,null,null,null,null,null,null,null,null,null,null,null,null,null,null,null,null,null,23,3.7803333333333331]
[null,null,null,null,null,null,null,null,null,null,null,null,null,null,null,null,null,null,null,null,null,null,null,null,null,null,null,null,null,null,25,3.8516666666666666,null,null,null,null,null,null,null,null,null,null,null,null,null,null,null,null,null,null,24,3.8159999999999998]
[null,null,null,null,null,null,null,null,null,null,null,null,null,null,null,null,null,null,null,null,null,null,null,null,null,null,null,null,null,null,26,3.8873333333333333,null,null,null,null,null,null,null,null,null,null,null,null,null,null,null,null,null,null,25,3.8516666666666666]
["teplota zvýšení do int",null,"tzv",{"$f":"Vypocet!D128","v":2},"°C ",null,null,null,null,null,null,null,null,"teplota zvýšení do int","tzv",{"$f":"Vypocet!P128","v":2},"°C ",null,null,null,null,null,null,null,null,null,null,null,null,null,27,3.923,null,null,null,null,null,null,null,null,null,null,null,null,null,null,null,null,null,null,26,3.8873333333333333]
["teplotní spád kondenzatoru",null,"Δt",{"$f":"Vypocet!D129","v":0},"°C ",null,null,null,null,null,null,null,null,"teplotní spád kondenzatoru","Δt",{"$f":"Vypocet!P129","v":0},"°C ",null,null,null,null,null,null,null,null,null,null,null,null,null,28,3.9586666666666668,null,null,null,null,null,null,null,null,null,null,null,null,null,null,null,null,null,null,27,3.923]
["teplota kondenzatoru",null,"tohř",{"$f":"Vypocet!D130","v":0},"°C ",null,null,null,null,null,null,null,null,"teplota kondenzatoru","tohř",{"$f":"Vypocet!P130","v":0},"°C ",null,null,null,null,null,null,null,null,null,null,null,null,null,29,3.9943333333333335,null,null,null,null,null,null,null,null,null,null,null,null,null,null,null,null,null,null,28,3.9586666666666668]
["relativní vlhkost",null,"rhohř",{"$f":"Vypocet!D131","v":0},"%",null,null,null,null,null,null,null,null,"relativní vlhkost","rhohř",{"$f":"Vypocet!P131","v":0},"%",null,null,null,null,null,null,null,null,null,null,null,null,null,30,4.03,null,null,null,null,null,null,null,null,null,null,null,null,null,null,null,null,null,null,29,3.9943333333333335]
[null,null,null,null,null,null,null,null,null,null,null,null,null,null,null,null,null,null,null,null,null,null,null,null,null,null,null,null,null,null,31,4.065666666666667,null,null,null,null,null,null,null,null,null,null,null,null,null,null,null,null,null,null,30,4.03]
["t5","parametry vyduchu za kondenzátorem",null,null,null,null,null,null,null,null,null,null,"t5","parametry vyduchu za kondenzátorem",null,null,null,null,null,null,null,null,null,null,null,null,null,null,null,null,32,4.1013333333333328]
["požadovaná teplotateplota do I",null,"t5",{"$f":"Teplota+D128","v":34},"°C",null,null,null,null,null,null,null,"požadovaná teplota do I",null,"t5",{"$f":"Teplota+P128","v":34},"°C",null,null,null,null,null,null,null,null,null,null,null,null,null,33,4.1370000000000005]
["dosažená teplota",null,"tdos",{"$f":"D123","v":33.981777733530762},"°C",null,null,null,null,null,null,null,"dosažená teplota",null,"t6",{"$f":"P123","v":58.08011153024912},null,null,null,null,null,null,null,null,null,null,null,null,null,null,34,4.1726666666666663]
[null,null,null,null,null,null,null,null,null,null,null,null,null,null,null,null,null,null,null,null,null,null,null,null,null,null,null,null,null,null,35,4.208333333333333]
["relativní vlhkost",null,"rh5",{"$f":"((D146*D116)/(D142*(0.622+D146)))*100","v":26.657761386855533},"%",null,null,null,null,null,null,null,"relativní vlhkost",null,"rh5",{"$f":"((P146*P116)/(P142*(0.622+P146)))*100","v":28.256218882164674},"%"]
["entalpie s.v.",null,"hsv5",{"$f":"Konstanty!$F$2*D134","v":34340},"J/kg",null,null,null,null,null,null,null,"entalpie s.v.",null,"hsv5",{"$f":"Konstanty!$F$2*P134","v":34340},"J/kg"]
["entalpie v.p.",null,"hvp5",{"$f":"D146*(Konstanty!$F$3*D134+Konstanty!$F$4)","v":23063.039999999968},"J/kg",null,null,null,null,null,null,null,"entalpie v.p.",null,"hvp5",{"$f":"P146*(Konstanty!$F$3*P134+Konstanty!$F$4)","v":24445.950808882946},"J/kg"]
["entalpie ",null,"h5",{"$f":"D138+D139","v":57403.039999999964},"J/kg",null,null,null,null,null,null,null,"entalpie ",null,"h5",{"$f":"P138+P139","v":58785.950808882946},"J/kg"]
[null,null,null,{"$f":"D140/1000","v":57.403039999999962},"kJ/kg",null,null,null,null,null,null,null,null,null,null,{"$f":"P140/1000","v":58.785950808882944},"kJ/kg"]
["tlak nasycené vodní páry",null,"p''vp5",{"$f":"Konstanty!$F$12^((1500.3+23.5*D134)/(234+D134))","v":5321.3250022529974},"Pa",null,null,null,null,null,null,null,"tlak nasycené vodní páry",null,"p''vp5",{"$f":"Konstanty!$F$12^((1500.3+23.5*P134)/(234+P134))","v":5321.3250022529974},"Pa",null,null,null,null,null,null,null,null,null,null,null,null,null,"dt vyp"]
["tlak  vodní páry",null,"pvp5",{"$f":"(D137/100)*D142","v":1418.5461217196889},"Pa",null,null,null,null,null,null,null,"tlak  vodní páry",null,"pvp5",{"$f":"(P137/100)*P142","v":1503.6052400679612},"Pa",null,null,null,null,null,null,null,null,null,null,null,null,null,2]
["tlak suchého vzduchu",null,"psv5",{"$f":"D148*Konstanty!$F$5*(D134+273.15)","v":97958.084656299994},"Pa",null,null,null,null,null,null,null,"tlak suchého vzduchu",null,"psv5",{"$f":"Konstanty!$F$8*Konstanty!$F$5*(P134+273.15)","v":108009.58929249999},"Pa",null,null,null,null,null,null,null,null,null,null,null,null,null,3]
["tlak směsi vlhkého vzduchu",null,"p5",{"$f":"D143+D144","v":99376.63077801968},"Pa",null,null,null,null,null,null,null,"tlak směsi vlhkého vzduchu",null,"p5",{"$f":"P143+P144","v":109513.19453256796},"Pa",null,null,null,null,null,null,null,null,null,null,null,null,null,4]
["měrná vlhkost vzduchu",null,"x5",{"$f":"D117","v":8.9999999999999872E-3},"kg/kg s.v.",null,null,null,null,null,null,null,"měrná vlhkost vzduchu",null,"x5",{"$f":"P117","v":9.5396598748450565E-3},"kg/kg s.v.",null,null,null,null,null,null,null,null,null,null,null,null,null,5]
[null,null,null,{"$f":"D146*1000","v":8.9999999999999876},"g/kg s.v.",null,null,null,null,null,null,null,null,null,null,{"$f":"P146*1000","v":9.5396598748450572},"g/kg s.v.",null,null,null,null,null,null,null,null,null,null,null,null,null,6,{"$f":"D124","v":25735.946095132131}]
["hustota vzduchu při t",null,null,{"$f":"VLOOKUP(D134,Tabulky!$V$15:$AF$75,9,0)","v":1.111},"kg/m3",null,null,null,null,null,null,null,"hustota vzduchu při t",null,null,{"$f":"VLOOKUP(P134,Tabulky!$V$15:$AF$75,9,0)","v":1.111},"kg/m3",null,null,null,null,null,null,null,null,null,null,null,null,null,7]
[null,null,null,null,null,null,null,null,null,null,null,null,null,null,null,null,null,null,null,null,null,null,null,null,null,null,null,null,null,null,8]
["navlhčení z prostoru",null,null,null,null,null,null,null,null,null,null,null,"navlhčení z prostoru",null,null,null,null,null,null,null,null,null,null,null,null,null,null,null,null,null,9]
["dx=n.100/V.ρ",null,"dx",{"$f":"(D33*100)/D57*Konstanty!$F$8","v":0.59243396843461305},"g/kg s.v",null,null,null,null,null,null,null,"dx=n.100/V.ρ",null,"dx",{"$f":"(P30*100)/P57*Konstanty!$F$8","v":5.3720302982114262E-2},"g/kg s.v",null,null,null,null,null,null,null,null,null,null,null,null,null,10]
[null,null,null,null,null,null,null,null,null,null,null,null,null,null,null,null,null,null,null,null,null,null,null,null,null,null,null,null,null,null,11]
["NUTNÉ vzduch privlhčit",null,null,null,null,null,null,null,null,null,null,null,"NUTNÉ vzduch privlhčit",null,null,null,null,null,null,null,null,null,null,null,null,null,null,null,null,null,12]
[null,null,null,null,null,null,null,null,null,null,null,null,null,null,null,null,null,null,null,null,null,null,null,null,null,null,null,null,null,null,13]
[null,null,null,null,null,null,null,null,null,null,null,null,null,null,null,null,null,null,null,null,null,null,null,null,null,null,null,null,null,null,14]
[null,null,null,null,null,null,null,null,null,null,null,null,null,null,null,null,null,null,null,null,null,null,null,null,null,null,null,null,null,null,15]

{"sheet":"V4","index":3,"n_rows":156,"n_cols":63,"rows_kept":156,"cut":false,"hidden":false,"merged":[[59,6,59,7],[4,15,4,18],[26,3,26,6],[27,3,27,6],[33,6,33,7],[40,6,40,7]]}
[null,"Legenda",null,null,"hodnotu nutno zadat",null,null,null,null,"prevzato z první "]
[null,null,null,null,"hodnota se vypočítává "]
[null,null,null,null,"pomocná hodnota"]
["Parametry vzduchu",null,null,null,null,null,"interier klidovy rezim ",null,null,null,null,null,null,null,null,null,null,null,null,null,"Produkce tepla od",null,null,"ni",{"$f":"0.85*Y5+0.75*Y6+Y7","v":60.5},null,null,"Qi=ni.6,2*(36-ti)"]
["Interiér","ti",null,null,null,null,"Interiér","ti",null,null,null,null,"Exteriér","te",null,"minimální teplota -15 (tabulka) ",null,null,null,null,"lidí",{"$f":"Y4*6.2*(36-Teplota)","v":1500.4},"W","nz",{"$f":"Vypocet!Y5","v":30},"zeny",null,"ni=0,85nz+0,75nd+nm"]
["teplota",null,"ti",{"$f":"[0]!Teplota","v":32},"°C",null,"teplota",null,"ti",{"$f":"Vypocet!J6","v":24},"°C",null,"teplota",null,"te",{"$f":"CEILING(Vypocet!P6+10,5)","v":0},"°C",null,null,null,null,null,null,"nd ",{"$f":"Vypocet!Y6","v":20},"deti",null,"nz - zeny, nd deti, nm muzi"]
["relativní vlhkost",null,"rhi",{"$f":"Vypocet!D7","v":60},"%",null,"relativní vlhkost",null,"rhi",{"$f":"Vypocet!J7","v":55},"%",null,"relativní vlhkost",null,"rhe",{"$f":"ROUND((93*te-3153.5)/(te-39.17),0)","v":81},"%",null,null,null,null,null,null,"nm",{"$f":"Vypocet!Y7","v":20},"muzi"]
["entalpie s.v.",null,"hsvi",{"$f":"Konstanty!$F$2*Teplota","v":32320},"J/kg",null,"entalpie s.v.",null,"hsvi",{"$f":"Konstanty!$F$2*J6","v":24240},"J/kg",null,"entalpie s.v.",null,"hsve",{"$f":"Konstanty!$F$2*te","v":0},"J/kg"]
["entalpie v.p.",null,"hvpi",{"$f":"$D$16*(Konstanty!$F$3*Teplota+Konstanty!$F$4)","v":46343.062700276656},"J/kg",null,"entalpie v.p.",null,"hvpi",{"$f":"$D$16*(Konstanty!$F$3*J6+Konstanty!$F$4)","v":46076.473456956111},"J/kg",null,"entalpie v.p.",null,"hvpe",{"$f":"P16*(Konstanty!F3*P6+Konstanty!F4)","v":7824.1628051834259},"J/kg",null,null,null,"Odpar z povrchů"]
["entalpie ",null,"hi",{"$f":"D8+D9","v":78663.062700276656},"J/kg",null,"entalpie ",null,"hi",{"$f":"J8+J9","v":70316.473456956111},"J/kg",null,"entalpie ",null,"he",{"$f":"IF(P8<0,P9-P8,P8+P9)","v":7824.1628051834259},"J/kg",null,null,null,null,null,null,null,null,null,null,"(7+3,5*w)*S*(xp´´-x).10-3"]
[null,null,null,{"$f":"D10/1000","v":78.663062700276654},"kJ/kg",null,null,null,null,{"$f":"J10/1000","v":70.316473456956118},"kJ/kg",null,null,null,null,{"$f":"P10/1000","v":7.824162805183426},"kJ/kg",null,null,null,null,null,null,null,null,null,null,"w stredni rychlost vzduchu"]
["tlak nasycené vodní páry",null,"p''vpi",{"$f":"Konstanty!$F$12^((1500.3+23.5*D6)/(234+D6))","v":4756.6229589957475},"Pa",null,"tlak nasycené vodní páry",null,"p''vpi",{"$f":"Konstanty!$F$12^((1500.3+23.5*J6)/(234+J6))","v":2984.4262331760842},"Pa",null,"tlak nasycené vodní páry",null,"p''vpe",{"$f":"Konstanty!$F$12^((1500.3+23.5*P6)/(234+P6))","v":608.82962186039867},"Pa",null,{"$f":"2.718^(28.926-(6148/(273.15+te)))","v":612.50366325373045},null,null,null,null,null,null,null,null,"xp´´-merna vlhkost nasyceneho vzduchu"]
["tlak  vodní páry",null,"pvpi",{"$f":"(D7/100)*D12","v":2853.9737753974482},"Pa",null,"tlak  vodní páry",null,"pvpi",{"$f":"(J7/100)*J12","v":1641.4344282468464},"Pa",null,"tlak  vodní páry",null,"pvpe",{"$f":"(P7/100)*P12","v":493.15199370692295},"Pa",null,null,null,null,null,null,null,null,null,null,"x - merna vlhkost vzduchu nad povrchem "]
["tlak suchého vzduchu",null,"psvi",{"$f":"D18*Konstanty!$F$5*(Teplota+273.15)","v":98021.008646699993},"Pa",null,"tlak suchého vzduchu",null,"psvi",{"$f":"J18*Konstanty!$F$5*(Teplota+273.15)","v":100648.9177257},"Pa",null,"tlak suchého vzduchu",null,"psve",{"$f":"P18*Konstanty!F5*(P6+273.15)","v":98013.731624999986},"Pa",null,null,null,null,null,null,null,null,null,null,"S plocha"]
["tlak směsi vlhkého vzduchu",null,"pi",{"$f":"D13+D14","v":100874.98242209744},"Pa",null,"tlak směsi vlhkého vzduchu",null,"pi",{"$f":"J13+J14","v":102290.35215394685},"Pa",null,"tlak směsi vlhkého vzduchu",null,"pe",{"$f":"P13+P14","v":98506.88361870691},"Pa"]
["měrná vlhkost vzduchu",null,"xi",{"$f":"(Konstanty!$F$5/Konstanty!$F$6)*(D13/D14)","v":1.8110682290797792E-2},"kg/kg s.v.",null,"měrná vlhkost vzduchu",null,"xi",{"$f":"(Konstanty!$F$5/Konstanty!$F$6)*(J13/J14)","v":1.0144214643132086E-2},"kg/kg s.v.",null,"měrná vlhkost vzduchu",null,"xe",{"$f":"(Konstanty!F5/Konstanty!F6)*(P13/P14)","v":3.1296651220733703E-3},"kg/kg s.v."]
[null,null,null,{"$f":"D16*1000","v":18.11068229079779},"g/kg s.v.",null,null,null,null,{"$f":"J16*1000","v":10.144214643132086},"g/kg s.v.",null,null,null,null,{"$f":"P16*1000","v":3.1296651220733702},"g/kg s.v."]
["hustota vzduchu při t",null,null,{"$f":"VLOOKUP(Teplota,Tabulky!$V$15:$AF$75,9,0)","v":1.119},"kg/m3",null,"hustota vzduchu při t",null,null,{"$f":"VLOOKUP(J6,Tabulky!V15:AF75,9,0)","v":1.149},"kg/m3",null,"hustota vzduchu při t",null,null,{"$f":"VLOOKUP(te,Tabulky!V15:AF75,9,0)","v":1.25},"kg/m3"]
[null,null,null,{"$f":"1.395-Teplota*0.004414","v":1.253752}]
["Bazén",null,null,null,null,null,null,null,"rozměry bazénu"]
["Teplota vody",null,"tsniz",{"$f":"Vypocet!D21","v":2},"°C","snížení teploty vody (dop 2-3°C)",null,null,"délka bazén","a",{"$f":"Vypocet!K21","v":25},"m"]
["tvz-(2-3)°C",null,"tvod",{"$f":"D6-D21","v":30},"°C",null,null,null,"šířka bazén","b",{"$f":"Vypocet!K22","v":12},"m"]
[]
["Mn. odpařené vody"]
["mw=ε*A*(p´´vp-pvp)",null,"mw",{"$f":"D28*$D$29*($D$12/100-$D$13/100)","v":114158.95101589795},"g/h"]
[null,null,null,{"$f":"D25/1000","v":114.15895101589796},"kg/h",null,null,null,"budova"]
["typ bazenu",null,null,{"$f":"Vypocet!AH47","v":"bazény - normální provoz"},null,null,null,null,"délka","a",{"$f":"Vypocet!K27","v":40},"m"]
["mnozstvi odp vody",null,null,{"$f":"VLOOKUP(D27,Tab_souc_odparu_bazen,7,0)","v":20},null,null,null,"[g/(hPa.m2.h)]","šířka","b",{"$f":"Vypocet!K28","v":15},"m"]
["plocha bazénu",null,"A",{"$f":"K21*K22","v":300},"m2",null,null,null,"výška","v",{"$f":"Vypocet!K29","v":7},"m","Produkce vlhkosti osobami - klidový režim"]
["Objem haly",null,"V",{"$f":"K27*K28*K29","v":4200},"m3",null,null,null,null,null,null,null,"počet osob v bazénu",null,"nos",{"$f":"Vypocet!P30","v":2}]
[null,null,null,null,null,null,null,null,null,null,null,null,"množství vlhkosti",null,"mos",{"$f":"P30*100","v":200},"g/h"]
["Produkce vlhkosti osobami - v provozu",null,null,null,null,null,null,null,null,null,null,null,null,null,null,{"$f":"P31/1000","v":0.2},"kg/h",null,null,null,null,null,null,null,null,null,null,null,null,null,"Výkon na kondenzátoru",null,null,null,"Qk",{"$f":"AH69","v":113243.34879310032},"W"]
["počet osob v bazénu",null,"nos",{"$f":"Vypocet!D33","v":60},"počet",null,"Produkce vlhkosti člověkem",null,null,null,null,null,null,null,null,{"$f":"P31/3600","v":5.5555555555555552E-2},"g/s",null,null,null,null,null,null,null,null,null,null,null,null,null,null,null,null,null,null,{"$f":"AH70","v":113.24334879310032},"kW"]
["množství vlhkosti",null,"mos",{"$f":"D33*H35","v":6300},"g/h",null,{"$f":"Vypocet!AH50","v":"člověk při středně těžké práci"},null,null,null,null,null,null,null,null,null,null,null,null,null,null,null,null,null,null,null,null,null,null,null,"Teplota požadovaná v interiéru",null,null,null,"ti",{"$f":"Teplota","v":32},"°C"]
[null,null,null,{"$f":"D34/1000","v":6.3},"kg/h",null,{"$f":"VLOOKUP(G34,Tabulky!W146:Z148,4,0)","v":"60-150"},{"$f":"IF(G35=\"60-150\",105,IF(G35=\"30-60\",45,225))","v":105},"g/h",null,null,null,"Produkce vlhkosti  - klidový režim",null,null,null,null,null,null,null,null,null,null,null,null,null,null,null,null,null,null,null,null,null,null,null,null,null,null,null,null,null,null,null,null,null,null,null,null,null,"Výkon na kondenzátoru",null,null,null,"Qk",{"$f":"BB70","v":56763.692798437383},"W"]
[null,null,null,{"$f":"D34/3600","v":1.75},"g/s",null,"rozmezí","průměr",null,null,null,"množství odpařené vody",null,null,"mw",{"$f":"Tabulky!$G$4*$D$29*($D$12/100-$D$13/100)","v":28539.737753974488},"g/h",null,null,null,null,null,null,null,null,null,null,null,null,null,null,null,null,null,null,null,null,null,null,null,null,null,null,null,null,null,null,null,null,null,null,null,null,null,null,{"$f":"BB71","v":56.763692798437383},"kW"]
["celkové množství odpařené vody",null,null,{"$f":"(D25+D34)*(I37/100+1)","v":126481.89856669286},"g/h",null,null,"korekce ",{"$f":"Vypocet!I37","v":5},"%",null,null,"celkové množství odpařené vody",null,null,{"$f":"(P36+P31)*(I37/100+1)","v":30176.724641673216},"g/h",null,null,null,null,null,null,null,null,null,null,null,null,null,null,null,null,null,null,null,null,null,null,null,null,null,null,null,null,null,null,null,null,null,"Teplota požadovaná v interiéru",null,null,null,"ti",{"$f":"J6","v":24},"°C"]
["Dimenzování průtoku vzduchu bazénové větrací jednotky pro zátěž",null,null,null,null,null,null,null,null,null,null,null,"Dimenzování průtoku vzduchu bazénové větrací jednotky pro klidový režim"]
["z množství odpařené vody",null,null,null,null,null,null,null,null,null,null,null,"z množství odpařené vody"]
["požadovaná vlhkost přiváděná",null,"xpoz",{"$f":"Vypocet!D40","v":9},"g/kg",null,"doporučená hodnota 8-10 g/kg",null,null,null,null,null,"požadovaná vlhkost přiváděná",null,"xpoz",{"$f":"Vypocet!P40","v":9},"g/kg",null,"doporučená hodnota 8-10 g/kg"]
[null,null,"V1",{"$f":"(D37)/(D18*(D17-D40))","v":12406.445935942682},"m3/h",null," ",null,{"$f":"D147","v":9},"g/kg s.v.",null,null,null,null,"V1",{"$f":"(P36+P31)/(Konstanty!$F$8*(J17-5))","v":4560.6593112769815},"m3/h"]
["z objemu haly",null,null,null,null,null,null,null,null,null,null,null,"z objemu haly"]
["výměna vzduchu",null,"n",{"$f":"Vypocet!D43","v":1},"1/h",null,null,null,null,null,null,null,"výměna vzduchu",null,"n",{"$f":"Vypocet!P43","v":1},"1/h"]
["V=n*VH",null,"V2",{"$f":"D30*D43","v":4200},"m3/h",null,null,null,null,null,null,null,"V=n*VH",null,"V2",{"$f":"D30*P43","v":4200},"m3/h"]
["z tepelných zisků"]
[null,"tepelné ztráty","Qzt",{"$f":"Vypocet!D46","v":7},"kW",null,null,"teplotní spád výústky","dt",{"$f":"Vypocet!J46","v":8},"°C"]
[null,"tepelné zisky","Qzisk",{"$f":"Vypocet!D47","v":16},"kW"]
[null,"Množství vzduchu",null,{"$f":"((D47-D46)/J46*Konstanty!$F$2*Konstanty!$F$8)","v":1391.90625},"m3/h"]
[]
["potřeba vzduchu pro osoby",null,null,null,null,null,null,null,null,null,null,null,null,null,null,null,null,null,null,null,null,null,"te","teplota exteriérového vzduchu"]
[null,null,"V2",{"$f":"D33*D52","v":3000},null,null,null,null,null,null,null,null,null,null,null,null,null,null,null,null,null,null,"Qpředehřev","Výkon pro předehřátí vzduchu"]
["množství čerstvého vzduchu/osoba",null,null,{"$f":"Vypocet!D52","v":50},"m3/h/os",null,"doporučená hodnota při zátěži (min hodnota 25m3/h) ",null,null,null,null,null,null,null,null,null,null,null,null,null,null,null,"Qdohřátí","Výkon spotřebovaný na dohřátí vzduchu na požadovanou úroveň"]
[]
["Potřeba čerstvého vzduchu",null,null,{"$f":"IF(MAX(D41,D44,D48)>D51,\"Ne\",\"Ano\")","v":"Ne"},null,null,"nepočítá s tím dál samo! ",null,null,null,null,null,null,null,null,null,null,null,null,null,null,null,null,null,null,null,null,null,null,null,"Teplo odevzdané na výparníku",null,null,null,null,null,"Množství kondenzátu"]
["Množství čerstvého vzduchu",null,null,{"$f":"IF(D54=\"ano\",D51-MAX(D41,D44,D48),0)","v":0},"m3/h",null,"pouze informativní charakter, množství V čerst rozhodne projektant",null,null,null,null,null,null,null,null,null,null,null,null,null,null,null,null,null,null,null,null,null,null,null,"Qv=V*ρ*(hi-h3)",null,"Qv",{"$f":"D81","v":85631.999119880144},"W",null,"mkond = V*ρ*(xi-x3)",null,"mkond",{"$f":"IF(D58*D18*(D16-D77)<0,0,D58*D18*(D16-D77))","v":1.7869821269703913E-2},"kg/s",null,null,null,null,null,null,null,null,null,"Teplo odevzdané na výparníku",null,null,null,null,null,"Množství kondenzátu"]
[null,null,null,null,null,null,null,null,null,null,null,null,null,null,null,null,null,null,null,null,null,null,null,null,null,null,null,null,null,null,null,null,null,{"$f":"AH55/1000","v":85.631999119880149},"kW",null,null,null,null,{"$f":"AN55*1000","v":17.869821269703912},"g/s",null,null,null,null,null,null,null,null,null,"Qv=V*ρ*(hi-h3)",null,"Qv",{"$f":"P81","v":47003.773128829853},"W",null,"mkond = V*ρ*(xi-x3)",null,"mkond",{"$f":"IF(P58*J18*(J16-P77)<0,0,P58*J18*(J16-P77))","v":2.1834156452738541E-3},"kg/s"]
["průtok vzduchu",null,"V",{"$f":"MAX(D41,D44,D48)","v":12406.445935942682},"m3/h",null,null,null,null," ",null,null,"průtok vzduchu",null,"V",{"$f":"MAX(P41,P44)","v":4560.6593112769815},"m3/h",null,null,null,null,null,null,null,null,null,null,null,null,null,null,null,null,null,null,null,null,null,null,{"$f":"AN55*3600","v":64.331356570934091},"kg/h",null,null,null,null,null,null,null,null,null,null,null,null,{"$f":"BB56/1000","v":47.003773128829856},"kW",null,null,null,null,{"$f":"BH56*1000","v":2.183415645273854},"g/s"]
[null,null,"V",{"$f":"D57/3600","v":3.4462349822063003},"m3/s",null,null,null,null,null,null,null,null,null,"V",{"$f":"P57/3600","v":1.2668498086880504},"m3/s",null,null,null,null,null,null,null,null,null,null,null,null,null,"Tepelné čerpadlo (TČ)",null,null,null,"typ TČ",null,null,null,null,null,null,null,null,null,null,null,null,null,null,null,null,null,null,null,null,null,null,null,null,{"$f":"BH56*3600","v":7.8602963229858744},"kg/h"]
[null,null,null,null,null,null,null,null,null,null,null,null,null,null,null,null,null,null,null,null,null,null,null,null,null,null,null,null,null,null,"Topný faktor TČ",null,"COP",{"$f":"VLOOKUP(Teplota,'V4'!AE83:AF136,2,0)","v":4.1013333333333328},"Alfa S Duo",null,null,null,null,null,null,null,null,null,null,null,null,null,null,null,"Tepelné čerpadlo (TČ)",null,null,null,"typ TČ"]
["množství odebrané měrné vlh",null,"Δx",4.6338848301265845,"g/kg s.v",null,"vstupní měrná  vlhkost do int",null,"xvyst",{"$f":"D147","v":9},"g/kg s.v.",null,null,null,null,null,null,null,null,null,null,null,null,null,null,null,null,null,null,null,null,null,null,null,null,null,null,null,null,null,null,null,null,null,null,null,null,null,null,null,"Topný faktor TČ",null,"COP",{"$f":"VLOOKUP(J6,'V4'!AY84:AZ132,2,0)","v":3.8159999999999998},"Alfa S Duo"]
["teplota chladiče",null,"tch",{"$f":"Vypocet!D61","v":9},"°C ",null,null,null,null,null,null,null,null,null,null,null,null,null,null,null,null,null,null,null,null,null,null,null,null,null,"Tepelná bilance TČ"]
["relativní vlhkost",null,"rhch",{"$f":"Vypocet!D62","v":100},"%",null,null,null,null,null,null,null,"množství odebrané měrné vlh",null,"Δx",{"$f":"Vypocet!P60","v":1.5},"g/kg s.v.",null,null,null,null,null,null,null,null,null,null,null,null,null,"Qk=Pel+Qv",null,null,null,null,null,null,null,null,null,null,null,null,null,null,null,null,null,null,null,"Tepelná bilance TČ"]
[null,null,null,null,null,null,null,null,null,null,null,null,"teplota chladiče",null,"tch",{"$f":"Vypocet!P61","v":9},"°C ",null,null,null,null,null,null,null,null,null,null,null,null,null,"εt = COP","εt = Qv/Pel",null,null,null,null,null,null,null,null,null,null,null,null,null,null,null,null,null,null,"Qk=Pel+Qv"]
[null,null,null,null,null,null,null,null,null,null,null,null,"relativní vlhkost",null,"rhch",{"$f":"Vypocet!P62","v":100},"%",null,null,null,null,null,null,null,null,null,null,null,null,null,"Pel=Qk/(1+Et)",null,null,null,null,null,null,null,null,null,null,null,null,null,null,null,null,null,null,null,"εt = COP","εt = Qv/Pel"]
[null,null,null,null,null,null,null,null,null,null,null,null,null,null,null,null,null,null,null,null,null,null,null,"Parametry chladiče",null,null,null,null,null,null,"Výkon kompresoru",null,"Pet",{"$f":"AH55/(AH59-1)","v":27611.349673220171},"W",null,null,null,null,null,null,null,null,null,null,null,null,null,null,null,"Pel=Qk/(1+Et)"]
["t3","parametry vyduchu za vyparnikem",null,null,null,null,null,null,null,null,null,null,"t3","parametry vyduchu za vyparnikem",null,null,null,null,null,null,null,null,null,"teplota",null,"ti",{"$f":"tch","v":9},"°C",null,null,null,null,null,{"$f":"AH65/1000","v":27.611349673220172},"kW",null,null,null,null,null,null,null,null,null,null,null,null,null,null,null,"Výkon kompresoru",null,"Pet",{"$f":"BB56/(BB60+1)","v":9759.9196696075287},"W"]
["teplota",null,"tvyp",{"$f":"W87","v":22},"°C",null,{"$f":"tvyp-te","v":22},null,null,null,null,null,"teplota",null,"tvyp",{"$f":"W112","v":16},"°C",null,null,null,null,null,null,"relativní vlhkost",null,"rhi",{"$f":"D62","v":100},"%",null,null,"Prikon kompresoru",null,null,{"$f":"AH66/AH59","v":6.7322861686980273},"kW",null,null,null,null,null,null,null,null,null,null,null,null,null,null,null,null,null,null,{"$f":"BB66/1000","v":9.7599196696075285},"kW"]
["relativní vlhkost",null,"rh3",{"$f":"IF((D74/D73)*100>100,100,(D74/D73)*100)","v":80.329252007432373},"%",null,null,null,null,null,null,null,"relativní vlhkost",null,"rh3",{"$f":"IF((P74/P73)*100>100,100,(P74/P73)*100)","v":74.957831234168935},"%",null,null,null,null,null,null,"entalpie s.v.",null,"hsvi",{"$f":"Konstanty!$F$2*AA66","v":9090},"J/kg",null,null,"Teplo na kondenzátoru"]
["entalpie s.v.",null,"h3",{"$f":"Konstanty!$F$2*D67","v":22220},"J/kg",null,null,null,null,null,null,null,"entalpie s.v.",null,"h3",{"$f":"Konstanty!$F$2*P67","v":16160},"J/kg",null,null,null,null,null,null,"entalpie v.p.",null,"hvpi",{"$f":"$AA$76*(Konstanty!$F$3*AA66+Konstanty!$F$4)","v":18311.904271787756},"J/kg",null,null,"Výkon na kondenzátoru",null,"Qk",{"$f":"AH65+AH55","v":113243.34879310032},"W",null,null,null,null,null,null,null,null,null,null,null,null,null,null,null,"Teplo na kondenzátoru"]
["entalpie v.p.",null,"h3",{"$f":"D77*(Konstanty!$F$3*D67+Konstanty!$F$4)","v":34237.534412885994},"J/kg",null,null,null,null,null,null,null,"entalpie v.p.",null,"h3",{"$f":"P77*(Konstanty!$F$3*P67+Konstanty!$F$4)","v":21865.022286924024},"J/kg",null,null,null,null,null,null,"entalpie ",null,"hi",{"$f":"AA68+AA69","v":27401.904271787756},"J/kg",null,null,null,null,null,{"$f":"AH69/1000","v":113.24334879310032},"kW",null,null,null,null,null,null,null,"  ",null,null,null,null,null,null,null,"Výkon na kondenzátoru",null,"Qk",{"$f":"BB66+BB56","v":56763.692798437383},"W"]
["entalpie ",null,"h3",{"$f":"D69+D70","v":56457.534412885994},"J/kg",null,null,null,null,null,null,null,"entalpie ",null,"h3",{"$f":"P69+P70","v":38025.022286924024},"J/kg",null,null,null,null,null,null,null,null,null,{"$f":"AA70/1000","v":27.401904271787757},"kJ/kg",null,null,null,null,null,null,null,null,null,null,null,null,null,null,null,null,null,null,null,null,null,null,null,null,null,{"$f":"BB70/1000","v":56.763692798437383},"kW",null,null,null,null,null,null,null,"  "]
[null,null,null,{"$f":"D71/1000","v":56.457534412885991},"kJ/kg",null,null,null,null,null,null,null,null,null,null,{"$f":"P71/1000","v":38.025022286924028},"kJ/kg",null,null,null,null,null,null,"tlak nasycené vodní páry",null,"p''vpi",{"$f":"Konstanty!$F$12^((1500.3+23.5*AA66)/(234+AA66))","v":1146.4717300807256},"Pa"]
["tlak nasycené vodní páry",null,"p''vp3",{"$f":"Konstanty!$F$12^((1500.3+23.5*D67)/(234+D67))","v":2644.0791202149526},"Pa",null,null,null,null,null,null,null,"tlak nasycené vodní páry",null,"p''vp3",{"$f":"Konstanty!$F$12^((1500.3+23.5*P67)/(234+P67))","v":1817.4687221052275},"Pa",null,null,null,null,null,null,"tlak  vodní páry",null,"pvpi",{"$f":"(AA67/100)*AA72","v":1146.4717300807256},"Pa",null,null,"Graf topneho faktoru ",null,null,"TnG Air 13, vzduch/voda"]
["tlak  vodní páry",null,"pvp3",{"$f":"(D77*D75)/0.622","v":2123.9689797533701},"Pa",null,{"$f":"((G77*D75)/(0.622+G77))/((0.622-G77)/(0.622))","v":0},"přepočet tlaku z x",null,null,null,null,"tlak  vodní páry",null,"pvp3",{"$f":"(P77*P75)/0.622","v":1362.3351374494432},"Pa",null,{"$f":"((S77*P75)/(0.622+S77))/((0.622-S77)/(0.622))","v":1599.161688452117},"přepočet tlaku z x",null,null,null,"tlak suchého vzduchu",null,"psvi",{"$f":"AA78*Konstanty!$F$5*(AA66+273.15)","v":98003.397392999992},"Pa",null,null,null,null,null,null,null,null,null,null,null,null,null,null,null,null,null,null,null,null,null,null,"Graf topneho faktoru ",null,null,"TnG Air 13, vzduch/voda"]
["tlak suchého vzduchu",null,"psv3",{"$f":"D79*Konstanty!$F$5*(D67+273.15)","v":98028.386140100003},"Pa",null,null,null,null,null,null,null,"tlak suchého vzduchu",null,"psv3",{"$f":"P79*Konstanty!$F$5*(P67+273.15)","v":98027.697191300002},"Pa",null,null,null,null,null,null,"tlak směsi vlhkého vzduchu",null,"pi",{"$f":"AA73+AA74","v":99149.869123080716},"Pa",null,null,{"$f":"Vypocet!AE107","v":"teplota"},{"$f":"Vypocet!AF107","v":-18},{"$f":"Vypocet!AG107","v":-15},{"$f":"Vypocet!AH107","v":-10},{"$f":"Vypocet!AI107","v":-5},{"$f":"Vypocet!AJ107","v":0},{"$f":"Vypocet!AK107","v":5},{"$f":"Vypocet!AL107","v":10},{"$f":"Vypocet!AM107","v":15}]
["tlak směsi vlhkého vzduchu",null,"p3",{"$f":"D74+D75","v":100152.35511985337},"Pa",null,null,null,null,null,null,null,"tlak směsi vlhkého vzduchu",null,"p3",{"$f":"P74+P75","v":99390.032328749439},"Pa",null,null,null,null,null,null,"měrná vlhkost vzduchu",null,"xi",{"$f":"(Konstanty!$F$5/Konstanty!$F$6)*(AA73/AA74)","v":7.276561763593062E-3},"kg/kg s.v.",null,null,{"$f":"Vypocet!AE108","v":"vykon"},{"$f":"Vypocet!AF108","v":4.7},{"$f":"Vypocet!AG108","v":5.75},{"$f":"Vypocet!AH108","v":7},{"$f":"Vypocet!AI108","v":8.24},{"$f":"Vypocet!AJ108","v":9.4600000000000009},{"$f":"Vypocet!AK108","v":10.69},{"$f":"Vypocet!AL108","v":11.8},{"$f":"Vypocet!AM108","v":13.1},null,null,null,null,null,null,null,null,null,null,null,{"$f":"Vypocet!AY108","v":"teplota"},{"$f":"Vypocet!AZ108","v":-18},{"$f":"Vypocet!BA108","v":-15},{"$f":"Vypocet!BB108","v":-10},{"$f":"Vypocet!BC108","v":-5},{"$f":"Vypocet!BD108","v":0},{"$f":"Vypocet!BE108","v":5},{"$f":"Vypocet!BF108","v":10},{"$f":"Vypocet!BG108","v":15}]
["měrná vlhkost vzduchu",null,"x3",{"$f":"D16-deltaT/1000","v":1.3476797460671208E-2},"kg/kg s.v.",null,{"$f":"IF(tvyp<D82,0,D16)","v":0},"vezme x z Ti když tvyp<rosny bod",null,null,null,null,"měrná vlhkost vzduchu",null,"x3",{"$f":"J16-P62/1000","v":8.6442146431320865E-3},"kg/kg s.v.",null,{"$f":"IF(tvyp<P82,0,J16)","v":1.0144214643132086E-2},"vezme x z Ti když tvyp<rosny bod",null,null,null,null,null,null,{"$f":"AA76*1000","v":7.2765617635930617},"g/kg s.v.",null,null,{"$f":"Vypocet!AE109","v":"el prikon"},{"$f":"Vypocet!AF109","v":2.2400000000000002},{"$f":"Vypocet!AG109","v":2.4700000000000002},{"$f":"Vypocet!AH109","v":2.72},{"$f":"Vypocet!AI109","v":2.94},{"$f":"Vypocet!AJ109","v":3.2},{"$f":"Vypocet!AK109","v":3.37},{"$f":"Vypocet!AL109","v":3.55},{"$f":"Vypocet!AM109","v":3.85},null,null,null,null,null,null,null,null,null,null,null,{"$f":"Vypocet!AY109","v":"vykon"},{"$f":"Vypocet!AZ109","v":4.7},{"$f":"Vypocet!BA109","v":5.75},{"$f":"Vypocet!BB109","v":7},{"$f":"Vypocet!BC109","v":8.24},{"$f":"Vypocet!BD109","v":9.4600000000000009},{"$f":"Vypocet!BE109","v":10.69},{"$f":"Vypocet!BF109","v":11.8},{"$f":"Vypocet!BG109","v":13.1}]
[null,null,null,{"$f":"D77*1000","v":13.476797460671207},"g/kg s.v.",null,null,null,null,null,null,null,null,null,null,{"$f":"P77*1000","v":8.6442146431320861},"g/kg s.v.",null,null,null,null,null,null,"hustota vzduchu při t",null,null,{"$f":"VLOOKUP(AA66,Tabulky!$V$15:$AF$75,9,0)","v":1.21},"kg/m3",null,null,{"$f":"Vypocet!AE110","v":"COP"},{"$f":"Vypocet!AF110","v":2.1},{"$f":"Vypocet!AG110","v":2.33},{"$f":"Vypocet!AH110","v":2.57},{"$f":"Vypocet!AI110","v":2.8},{"$f":"Vypocet!AJ110","v":2.96},{"$f":"Vypocet!AK110","v":3.17},{"$f":"Vypocet!AL110","v":3.32},{"$f":"Vypocet!AM110","v":3.4},null,null,null,null,null,null,null,null,null,null,null,{"$f":"Vypocet!AY110","v":"el prikon"},{"$f":"Vypocet!AZ110","v":2.2400000000000002},{"$f":"Vypocet!BA110","v":2.4700000000000002},{"$f":"Vypocet!BB110","v":2.72},{"$f":"Vypocet!BC110","v":2.94},{"$f":"Vypocet!BD110","v":3.2},{"$f":"Vypocet!BE110","v":3.37},{"$f":"Vypocet!BF110","v":3.55},{"$f":"Vypocet!BG110","v":3.85}]
["hustota vzduchu při t",null,null,{"$f":"VLOOKUP(tvyp,Tabulky!$V$15:$AF$75,9,0)","v":1.157},"kg/m3",null,null,null,null,null,null,null,"hustota vzduchu při t",null,null,{"$f":"VLOOKUP(P67,Tabulky!$V$15:$AF$75,9,0)","v":1.181},"kg/m3",null,null,null,null,null,null,null,null,null,{"$f":"1.395-Teplota*0.004414","v":1.253752},null,null,null,null,null,null,{"$f":"AH78-AG78","v":0.23999999999999977},0.22999999999999998,0.16000000000000014,0.20999999999999996,0.14999999999999991,8.0000000000000071E-2,"průměr",{"$f":"AVERAGE(AG79:AM79)","v":0.17833333333333332},"prumer/1",{"$f":"AO79/5","v":3.5666666666666666E-2},null,null,null,null,null,null,null,{"$f":"Vypocet!AY111","v":"COP"},{"$f":"Vypocet!AZ111","v":2.1},{"$f":"Vypocet!BA111","v":2.33},{"$f":"Vypocet!BB111","v":2.57},{"$f":"Vypocet!BC111","v":2.8},{"$f":"Vypocet!BD111","v":2.96},{"$f":"Vypocet!BE111","v":3.17},{"$f":"Vypocet!BF111","v":3.32},{"$f":"Vypocet!BG111","v":3.4}]
[null,null,null,null,null,null,null,null,null,null,null,null,null,null,null,null,null,null,null,null,null,null,null,null,null,null,null,null,null,null,null,"popis závislosti",null,"y=0,18571x+2,96",null,null,null,null,null,null,null,null,null,null,null,null,null,null,null,null,null,null,null,{"$f":"BB79-BA79","v":0.23999999999999977},0.22999999999999998,0.16000000000000014,0.20999999999999996,0.14999999999999991,8.0000000000000071E-2,"průměr",{"$f":"AVERAGE(BA80:BG80)","v":0.17833333333333332},"prumer/1",{"$f":"BI80/5","v":3.5666666666666666E-2}]
["teplo získané na výparníku",null,"Qv",{"$f":"D58*D18*(D10-D71)","v":85631.999119880144},"W",null,null,null,null,null,null,null,"teplo získané na výparníku",null,"Qv",{"$f":"P58*J18*(J10-P71)","v":47003.773128829853},"W",null,null,null,"A","Ti",{"$f":"Teplota","v":32},null,"B","tch",{"$f":"AA66","v":9},null,null,null,null,null,null,null,null,null,null,null,null,null,null,null,null,null,null,null,null,null,null,null,null,"popis závislosti",null,"y=0,18571x+2,96"]
[null,"rosný bod ",null,{"$f":"(243.5*LN(($D$7/100)*Konstanty!$F$12^((17.67*Teplota)/(243.5+Teplota))))/(17.67-(LN(($D$7/100)*Konstanty!$F$12^((17.67*Teplota)/(243.5+Teplota)))))","v":23.274251871309211},"°C ",null,null,null,null,null,null,null,null,"rosný bod ",null,{"$f":"(243.5*LN((J7/100)*Konstanty!$F$12^((17.67*J6)/(243.5+J6))))/(17.67-(LN((J7/100)*Konstanty!$F$12^((17.67*J6)/(243.5+J6)))))","v":14.413817952855092},"°C ",null,null,null,null,"xi",{"$f":"D16","v":1.8110682290797792E-2},null,null,"xch",{"$f":"AA76","v":7.276561763593062E-3},null,null,null,"teplota","COP",null,-18,2.1]
[null,null,null,null,null,null,null,null,null,null,null,null,null,null,null,null,null,null,null,null,null,"xi",{"$f":"D17","v":18.11068229079779},null,null,"xch",{"$f":"AA77","v":7.2765617635930617},null,null,null,-18,{"$f":"$AQ$79*AE83+$AJ$78","v":2.3180000000000001},null,-15,2.33,null,null,null,null,null,null,null,null,null,null,null,null,null,null,null,"teplota","COP"]
["Distribuce tepla v závislosti na externí teplotě",null,null,null,null,null,null,null,null,null,null,null,null,null,null,null,null,null,null,null,null,null,null,null,null,null,null,null,null,null,-17,2.3536666666666668,null,-10,2.57,null,null,null,null,null,null,null,null,null,null,null,null,null,null,null,-18,{"$f":"$AQ$79*AY84+$AJ$78","v":2.3180000000000001}]
["teplota předehřevu te",null,"tpřed",{"$f":"Vypocet!D85","v":5},"°C",null,null,null,null,null,null,null,null,null,null,null,null,null,null,null,null,"dx",{"$f":"deltaT","v":4.6338848301265845},null,"výpočet teplochy při teplote chladice",null,null,null,null,null,-16,2.3893333333333331,null,-5,2.8,null,null,null,null,null,null,null,null,null,null,null,null,null,null,null,-17,2.3536666666666668]
["množství čerst vzduchu",null,null,{"$f":"Vypocet!D86","v":30},"%",null,null,null,null,null,null,null,null,null,null,null,null,null,null,null,null,"th",{"$f":"((W81-AA81)*W83+(AA83-W83)*W81-(W81-AA81)*(W83-W85))/(AA83-W83)","v":22.162620876767225},null,"počítá s přímkou ti - tch a na ní počítá bod",null,null,null,null,null,-15,2.4249999999999998,null,0,2.96,null,null,null,null,null,null,null,null,null,null,null,null,null,null,null,-16,2.3893333333333331]
["množství předehřívaného vzd",null,null,{"$f":"D58*(D86/100)","v":1.03387049466189},"m3/h",null,null,null,null,null,null,null,null,null,null,null,null,null,null,null,null,null,{"$f":"ROUND(W86,0)","v":22},null,null,null,null,null,null,null,-14,2.4606666666666666,null,5,3.17,null,null,null,null,null,null,null,null,null,null,null,null,null,null,null,-15,2.4249999999999998]
["potřeba tepla na předehřev",null,null,{"$f":"IF(D85>te,((D87*P18)/(1+P16))*(D85-te)*P18*Konstanty!$F$2,0)","v":8132.4325813340638},"W",null,null,null,null,null,null,null,null,null,null,null,null,null,null,null,null,null,null,null,null,null,null,null,null,null,-13,2.4963333333333333,null,10,3.32,null,null,null,null,null,null,null,null,null,null,null,null,null,null,null,-14,2.4606666666666666]
[null,null,null,null,null,null,null,null,null,null,null,null,null,null,null,null,null,null,null,null,null,null,null,null,null,null,null,null,null,null,-12,2.532,null,15,3.4,null,null,null,null,null,null,null,null,null,null,null,null,null,null,null,-13,2.4963333333333333]
["t4","Předehřev exteriérového vzduchu",null,null,null,null,null,null,null,null,null,null,"t4","Předehřev exteriérového vzduchu",null,null,null,null,null,null,null,null,null,"Parametry chladiče klidovy rezim",null,null,null,null,null,null,-11,2.5676666666666668,null,null,null,null,null,null,null,null,null,null,null,null,null,null,null,null,null,null,-12,2.532]
["teplota předehřevu",null,"tpředehřev",{"$f":"IF($D$85>te,$D$85,te)","v":5},"°C",null,null,null,null,null,null,null,"teplota předehřevu",null,"tpředehřev",{"$f":"IF($D$85>te,$D$85,te)","v":5},"°C",null,null,null,null,null,null,"teplota",null,"ti",{"$f":"P63","v":9},"°C",null,null,-10,2.6033333333333335,null,null,null,null,null,null,null,null,null,null,null,null,null,null,null,null,null,null,-11,2.5676666666666668]
[null,null,"rhpředehřev",{"$f":"((D101*P15)/(D97*(0.622+D101)))*100","v":56.655051562751311},"%",null,null,null,null,null,null,null,null,null,"rhpředehřev",{"$f":"((P101*P15)/(P97*(0.622+P101)))*100","v":56.655051562751311},"%",null,null,null,null,null,null,"relativní vlhkost",null,"rhi",{"$f":"P64","v":100},"%",null,null,-9,2.6389999999999998,null,null,null,null,null,null,null,null,null,null,null,null,null,null,null,null,null,null,-10,2.6033333333333335]
["entalpie s.v.",null,"hsv4",{"$f":"Konstanty!$F$2*D91","v":5050},"J/kg",null,null,null,null,null,null,null,"entalpie s.v.",null,"hsv4",{"$f":"Konstanty!$F$2*P91","v":5050},"J/kg",null,null,null,null,null,null,"entalpie s.v.",null,"hsvi",{"$f":"Konstanty!$F$2*AA91","v":9090},"J/kg",null,null,-8,2.6746666666666665,null,null,null,null,null,null,null,null,null,null,null,null,null,null,null,null,null,null,-9,2.6389999999999998]
["entalpie v.p.",null,"hvp4",{"$f":"D101*(Konstanty!$F$3*D91+Konstanty!$F$4)","v":7852.955724306501},"J/kg",null,null,null,null,null,null,null,"entalpie v.p.",null,"hvp4",{"$f":"P101*(Konstanty!$F$3*P91+Konstanty!$F$4)","v":7852.955724306501},"J/kg",null,null,null,null,null,null,"entalpie v.p.",null,"hvpi",{"$f":"$AA$76*(Konstanty!$F$3*AA91+Konstanty!$F$4)","v":18311.904271787756},"J/kg",null,null,-7,2.7103333333333333,null,null,null,null,null,null,null,null,null,null,null,null,null,null,null,null,null,null,-8,2.6746666666666665]
["entalpie ",null,"h4",{"$f":"D93+D94","v":12902.955724306501},"J/kg",null,null,null,null,null,null,null,"entalpie ",null,"h4",{"$f":"P93+P94","v":12902.955724306501},"J/kg",null,null,null,null,null,null,"entalpie ",null,"hi",{"$f":"AA93+AA94","v":27401.904271787756},"J/kg",null,null,-6,2.746,null,null,null,null,null,null,null,null,null,null,null,null,null,null,null,null,null,null,-7,2.7103333333333333]
[null,null,null,{"$f":"D95/1000","v":12.902955724306501},"kJ/kg",null,null,null,null,null,null,null,null,null,null,{"$f":"P95/1000","v":12.902955724306501},"kJ/kg",null,null,null,null,null,null,null,null,null,{"$f":"AA95/1000","v":27.401904271787757},"kJ/kg",null,null,-5,2.7816666666666667,null,null,null,null,null,null,null,null,null,null,null,null,null,null,null,null,null,null,-6,2.746]
["tlak nasycené vodní páry",null,"p''vp4",{"$f":"Konstanty!$F$12^((1500.3+23.5*D91)/(234+D91))","v":870.47379631007118},"Pa",null,null,null,null,null,null,null,"tlak nasycené vodní páry",null,"p''vp4",{"$f":"Konstanty!$F$12^((1500.3+23.5*P91)/(234+P91))","v":870.47379631007118},"Pa",null,null,null,null,null,null,"tlak nasycené vodní páry",null,"p''vpi",{"$f":"Konstanty!$F$12^((1500.3+23.5*AA91)/(234+AA91))","v":1146.4717300807256},"Pa",null,null,-4,2.8173333333333335,null,null,null,null,null,null,null,null,null,null,null,null,null,null,null,null,null,null,-5,2.7816666666666667]
["tlak  vodní páry",null,"pvp4",{"$f":"(D92/100)*D97","v":493.16737813970968},"Pa",null,null,null,null,null,null,null,"tlak  vodní páry",null,"pvp4",{"$f":"(P92/100)*P97","v":493.16737813970968},"Pa",null,null,null,null,null,null,"tlak  vodní páry",null,"pvpi",{"$f":"(AA92/100)*AA97","v":1146.4717300807256},"Pa",null,null,-3,2.8529999999999998,null,null,null,null,null,null,null,null,null,null,null,null,null,null,null,null,null,null,-4,2.8173333333333335]
["tlak suchého vzduchu",null,"psv4",{"$f":"D103*Konstanty!$F$5*(D91+273.15)","v":97971.404333100014},"Pa",null,null,null,null,null,null,null,"tlak suchého vzduchu",null,"psv4",{"$f":"P103*Konstanty!$F$5*(P91+273.15)","v":97971.404333100014},"Pa",null,null,null,null,null,null,"tlak suchého vzduchu",null,"psvi",{"$f":"AA103*Konstanty!$F$5*(AA91+273.15)","v":98003.397392999992},"Pa",null,null,-2,2.8886666666666665,null,null,null,null,null,null,null,null,null,null,null,null,null,null,null,null,null,null,-3,2.8529999999999998]
["tlak směsi vlhkého vzduchu",null,"p4",{"$f":"D98+D99","v":98464.571711239725},"Pa",null,null,null,null,null,null,null,"tlak směsi vlhkého vzduchu",null,"p4",{"$f":"P98+P99","v":98464.571711239725},"Pa",null,null,null,null,null,null,"tlak směsi vlhkého vzduchu",null,"pi",{"$f":"AA98+AA99","v":99149.869123080716},"Pa",null,null,-1,2.9243333333333332,null,null,null,null,null,null,null,null,null,null,null,null,null,null,null,null,null,null,-2,2.8886666666666665]
["měrná vlhkost vzduchu",null,"x4",{"$f":"P16","v":3.1296651220733703E-3},"kg/kg s.v.",null,null,null,null,null,null,null,"měrná vlhkost vzduchu",null,"x4",{"$f":"P16","v":3.1296651220733703E-3},"kg/kg s.v.",null,null,null,null,null,null,"měrná vlhkost vzduchu",null,"xi",{"$f":"(Konstanty!$F$5/Konstanty!$F$6)*(AA98/AA99)","v":7.276561763593062E-3},"kg/kg s.v.",null,null,0,2.96,null,null,null,null,null,null,null,null,null,null,null,null,null,null,null,null,null,null,-1,2.9243333333333332]
[null,null,null,{"$f":"D101*1000","v":3.1296651220733702},"g/kg s.v.",null,null,null,null,null,null,null,null,null,null,{"$f":"P101*1000","v":3.1296651220733702},"g/kg s.v.",null,null,null,null,null,null,null,null,null,{"$f":"AA101*1000","v":7.2765617635930617},"g/kg s.v.",null,null,1,2.9956666666666667,null,null,null,null,null,null,null,null,null,null,null,null,null,null,null,null,null,null,0,2.96]
["hustota vzduchu při t",null,null,{"$f":"VLOOKUP(D91,Tabulky!$V$15:$AF$75,9,0)","v":1.2270000000000001},"kg/m3",null,null,null,null,null,null,null,"hustota vzduchu při t",null,null,{"$f":"VLOOKUP(P91,Tabulky!$V$15:$AF$75,9,0)","v":1.2270000000000001},"kg/m3",null,null,null,null,null,null,"hustota vzduchu při t",null,null,{"$f":"VLOOKUP(AA91,Tabulky!$V$15:$AF$75,9,0)","v":1.21},"kg/m3",null,null,2,3.0313333333333334,null,null,null,null,null,null,null,null,null,null,null,null,null,null,null,null,null,null,1,2.9956666666666667]
[null,null,null,null,null,null,null,null,null,null,null,null,null,null,null,null,null,null,null,null,null,null,null,null,null,null,{"$f":"1.395-Teplota*0.004414","v":1.253752},null,null,null,3,3.0670000000000002,null,null,null,null,null,null,null,null,null,null,null,null,null,null,null,null,null,null,2,3.0313333333333334]
["t4'","smíšení vzduchu s exteriérovým",null,null,null,null,null,null,null,null,null,null,"t4'","smíšení vzduchu s exteriérovým",null,null,null,null,null,null,null,null,null,null,null,null,null,null,null,null,4,3.1026666666666665,null,null,null,null,null,null,null,null,null,null,null,null,null,null,null,null,null,null,3,3.0670000000000002]
["Množství čerstvého vzduchu",null,"Včerstv",{"$f":"IF(D91>tvyp,100,$D$86)","v":30},"%",null,null,null,null,null,null,null,"Množství čerstvého vzduchu",null,"Včerstv",{"$f":"IF(P91>tvyp,100,$D$86)","v":30},"%",null,null,null,"A","Ti",{"$f":"J6","v":24},null,"B","tch",{"$f":"AA91","v":9},null,null,null,5,3.1383333333333332,null,null,null,null,null,null,null,null,null,null,null,null,null,null,null,null,null,null,4,3.1026666666666665]
["teplota vzduchu",null,"t4",{"$f":"ROUND(((((D106/100)*D58)*D91+((1-(D106/100))*D58)*tvyp)/D58),0)","v":17},"°C",null,null,null,null,null,null,null,"teplota vzduchu",null,"t4",{"$f":"ROUND(((((P106/100)*P58)*P91+((1-(P106/100))*P58)*tvyp)/P58),0)","v":17},"°C",null,null,null,null,"xi",{"$f":"J16","v":1.0144214643132086E-2},null,null,"xch",{"$f":"AA101","v":7.276561763593062E-3},null,null,null,6,3.1739999999999999,null,null,null,null,null,null,null,null,null,null,null,null,null,null,null,null,null,null,5,3.1383333333333332]
["relativní vlhkost",null,"rh4",{"$f":"(1-(D106/100))*D68+(D106/100)*D92","v":73.226991874028045},"%",null,null,null,null,null,null,null,"relativní vlhkost",null,"rh4",{"$f":"(1-(P106/100))*P68+(P106/100)*P92","v":69.466997332743645},"%",null,null,null,null,"xi",{"$f":"J17","v":10.144214643132086},null,null,"xch",{"$f":"AA102","v":7.2765617635930617},null,null,null,7,3.2096666666666667,null,null,null,null,null,null,null,null,null,"  ",null,null,null,null,null,null,null,null,6,3.1739999999999999]
["entalpie s.v.",null,"hsv4",{"$f":"Konstanty!$F$2*D107","v":17170},"J/kg",null,null,null,null,null,null,null,"entalpie s.v.",null,"hsv4",{"$f":"Konstanty!$F$2*P107","v":17170},"J/kg",null,null,null,null,null,null,null,null,null,null,null,null,null,8,3.2453333333333334,null,null,null,null,null,null,null,null,null,null,null,null,null,null,null,null,null,null,7,3.2096666666666667]
["entalpie v.p.",null,"hvp4",{"$f":"D117*(Konstanty!$F$3*D107+Konstanty!$F$4)","v":22781.519999999997},"J/kg",null,null,null,null,null,null,null,"entalpie v.p.",null,"hvp4",{"$f":"P117*(Konstanty!$F$3*P107+Konstanty!$F$4)","v":21611.754744730202},"J/kg",null,null,null,null,"dx",{"$f":"P62","v":1.5},null,null,null,null,null,null,null,9,3.2810000000000001,null,null,null,null,null,null,null,null,null,null,null,null,null,null,null,null,null,null,8,3.2453333333333334]
["entalpie ",null,"h4",{"$f":"D109+D110","v":39951.519999999997},"J/kg",null,null,null,null,null,null,null,"entalpie ",null,"h4",{"$f":"P109+P110","v":38781.754744730206},"J/kg",null,null,null,null,"th",{"$f":"((W106-AA106)*W108+(AA108-W108)*W106-(W106-AA106)*(W108-W110))/(AA108-W108)","v":16.153862079842494},null,null,null,null,null,null,null,10,3.3166666666666664,null,null,null,null,null,null,null,null,null,null,null,null,null,null,null,null,null,null,9,3.2810000000000001]
[null,null,null,{"$f":"D111/1000","v":39.951519999999995},"kJ/kg",null,null,null,null,null,null,null,null,null,null,{"$f":"P111/1000","v":38.781754744730208},"kJ/kg",null,null,null,null,null,{"$f":"ROUND(W111,0)","v":16},null,null,null,null,null,null,null,11,3.3523333333333332,null,null,null,null,null,null,null,null,null,null,null,null,null,null,null,null,null,null,10,3.3166666666666664]
["tlak nasycené vodní páry",null,"p''vp4",{"$f":"Konstanty!$F$12^((1500.3+23.5*D107)/(234+D107))","v":1937.0554752066648},"Pa",null,null,null,null,null,null,null,"tlak nasycené vodní páry",null,"p''vp4",{"$f":"Konstanty!$F$12^((1500.3+23.5*P107)/(234+P107))","v":1937.0554752066648},"Pa",null,null,null,null,null,null,null,null,null,null,null,null,null,12,3.3879999999999999,null,null,null,null,null,null,null,null,null,null,null,null,null,null,null,null,null,null,11,3.3523333333333332]
["tlak  vodní páry",null,"pvp4",{"$f":"(D108/100)*D113","v":1418.4474554249998},"Pa",null,null,null,null,null,null,null,"tlak  vodní páry",null,"pvp4",{"$f":"(P108/100)*P113","v":1345.6142752955784},"Pa",null,null,null,null,null,null,null,null,null,null,null,null,null,13,3.4236666666666666,null,null,null,null,null,null,null,null,null,null,null,null,null,null,null,null,null,null,12,3.3879999999999999]
["tlak suchého vzduchu",null,"psv4",{"$f":"D119*Konstanty!$F$5*(D107+273.15)","v":98033.5532561},"Pa",null,null,null,null,null,null,null,"tlak suchého vzduchu",null,"psv4",{"$f":"P119*Konstanty!$F$5*(P107+273.15)","v":98033.5532561},"Pa",null,null,null,null,null,null,null,null,null,null,null,null,null,14,3.4593333333333334,null,null,null,null,null,null,null,null,null,null,null,null,null,null,null,null,null,null,13,3.4236666666666666]
["tlak směsi vlhkého vzduchu",null,"p4",{"$f":"D114+D115","v":99452.000711525005},"Pa",null,null,null,null,null,null,null,"tlak směsi vlhkého vzduchu",null,"p4",{"$f":"P114+P115","v":99379.167531395578},"Pa",null,null,null,null,null,null,null,null,null,null,null,null,null,15,3.4950000000000001,null,null,null,null,null,null,null,null,null,null,null,null,null,null,null,null,null,null,14,3.4593333333333334]
["měrná vlhkost vzduchu",null,"x4",{"$f":"(Konstanty!$F$5/Konstanty!$F$6)*(D114/D115)","v":8.9999999999999993E-3},"kg/kg s.v.",null,null,null,null,null,null,null,"měrná vlhkost vzduchu",null,"x4",{"$f":"(Konstanty!$F$5/Konstanty!$F$6)*(P114/P115)","v":8.537875993461886E-3},"kg/kg s.v.",null,null,null,null,null,null,null,null,null,null,null,null,null,16,3.5306666666666668,null,null,null,null,null,null,null,null,null,null,null,null,null,null,null,null,null,null,15,3.4950000000000001]
[null,null,null,{"$f":"D117*1000","v":9},"g/kg s.v.",null,null,null,null,null,null,null,null,null,null,{"$f":"P117*1000","v":8.5378759934618866},"g/kg s.v.",null,null,null,null,null,null,null,null,null,null,null,null,null,17,3.5663333333333331,null,null,null,null,null,null,null,null,null,null,null,null,null,null,null,null,null,null,16,3.5306666666666668]
["hustota vzduchu při t",null,null,{"$f":"VLOOKUP(D107,Tabulky!$V$15:$AF$75,9,0)","v":1.177},"kg/m3",null,null,null,null,null,null,null,"hustota vzduchu při t",null,null,{"$f":"VLOOKUP(P107,Tabulky!$V$15:$AF$75,9,0)","v":1.177},"kg/m3",null,null,null,null,null,null,null,null,null,null,null,null,null,18,3.6019999999999999,null,null,null,null,null,null,null,null,null,null,null,null,null,null,null,null,null,null,17,3.5663333333333331]
[null,null,null,null,null,null,null,null,null,null,null,null,null,null,null,null,null,null,null,null,null,null,null,null,null,null,null,null,null,null,19,3.6376666666666666,null,null,null,null,null,null,null,null,null,null,null,null,null,null,null,null,null,null,18,3.6019999999999999]
["množství tepla na kondenzátoru",null,"Qk",{"$f":"AH69","v":113243.34879310032},"W",null,null,"přepočet mw na msv",{"$f":"(D58*D119)/(1+D117)","v":4.0200382299869339},"m3/s",null,null,"množství tepla na kondenzátoru",null,"Qk",{"$f":"BB70","v":56763.692798437383},"W",null,null,null,null,null,null,null,null,null,null,null,null,null,20,3.6733333333333333,null,null,null,null,null,null,null,null,null,null,null,null,null,null,null,null,null,null,19,3.6376666666666666]
["Požadované teplo na dohřev",null,"Qpož",{"$f":"(D134-D107)*Konstanty!F2*D119*I121+D88","v":89373.746974580718},"W",null,null,null,null,null,null,null,"Požadované teplo na dohřev",null,null,{"$f":"(P134-P107)*Konstanty!$F$2*P119*P58","v":25601.881800259594},"W",null,null,null,null,null,null,null,null,null,null,null,null,null,21,3.7090000000000001,null,null,null,null,null,null,null,null,null,null,null,null,null,null,null,null,null,null,20,3.6733333333333333]
["dosažená teplota",null,"t6",{"$f":"D121/(D58*D119*Konstanty!$F$2)+D107","v":44.642032960216554},"°C",null,null,null,null,null,null,null,"dosažená teplota",null,"t6",{"$f":"P121/(P58*P119*Konstanty!$F$2)+P107","v":54.69186910173341},"°C",null,null,null,null,null,null,null,null,null,null,null,null,null,22,3.7446666666666664,null,null,null,null,null,null,null,null,null,null,null,null,null,null,null,null,null,null,21,3.7090000000000001]
["potřeba dohřevu",null,"Qdohř",{"$f":"IF((D122-D121)>0,D122-D121,0)","v":0},"W",null,null,null,null,null,null,null,"potřeba dohřevu",null,"Qdohř",{"$f":"IF((P122-P121)>0,P122-P121,0)","v":0},"W",null,null,null,null,null,null,null,null,null,null,null,null,null,23,3.7803333333333331,null,null,null,null,null,null,null,null,null,null,null,null,null,null,null,null,null,null,22,3.7446666666666664]
["přebytečné teplo",null,"Qpřebyt",{"$f":"IF((D122-D121)<0,D121-D122,0)","v":23869.601818519601},"W",null,null,null,null,null,null,null,"přebytečné teplo",null,"Qpřebyt",{"$f":"IF((P122-P121)<0,P121-P122,0)","v":31161.810998177789},"W",null,null,null,null,null,null,null,null,null,null,null,null,null,24,3.8159999999999998,null,null,null,null,null,null,null,null,null,null,null,null,null,null,null,null,null,null,23,3.7803333333333331]
[null,null,null,null,null,null,null,null,null,null,null,null,null,null,null,null,null,null,null,null,null,null,null,null,null,null,null,null,null,null,25,3.8516666666666666,null,null,null,null,null,null,null,null,null,null,null,null,null,null,null,null,null,null,24,3.8159999999999998]
[null,null,null,null,null,null,null,null,null,null,null,null,null,null,null,null,null,null,null,null,null,null,null,null,null,null,null,null,null,null,26,3.8873333333333333,null,null,null,null,null,null,null,null,null,null,null,null,null,null,null,null,null,null,25,3.8516666666666666]
["teplota zvýšení do int",null,"tzv",{"$f":"Vypocet!D128","v":2},"°C ",null,null,null,null,null,null,null,null,"teplota zvýšení do int","tzv",{"$f":"Vypocet!P128","v":2},"°C ",null,null,null,null,null,null,null,null,null,null,null,null,null,27,3.923,null,null,null,null,null,null,null,null,null,null,null,null,null,null,null,null,null,null,26,3.8873333333333333]
["teplotní spád kondenzatoru",null,"Δt",{"$f":"Vypocet!D129","v":0},"°C ",null,null,null,null,null,null,null,null,"teplotní spád kondenzatoru","Δt",{"$f":"Vypocet!P129","v":0},"°C ",null,null,null,null,null,null,null,null,null,null,null,null,null,28,3.9586666666666668,null,null,null,null,null,null,null,null,null,null,null,null,null,null,null,null,null,null,27,3.923]
["teplota kondenzatoru",null,"tohř",{"$f":"Vypocet!D130","v":0},"°C ",null,null,null,null,null,null,null,null,"teplota kondenzatoru","tohř",{"$f":"Vypocet!P130","v":0},"°C ",null,null,null,null,null,null,null,null,null,null,null,null,null,29,3.9943333333333335,null,null,null,null,null,null,null,null,null,null,null,null,null,null,null,null,null,null,28,3.9586666666666668]
["relativní vlhkost",null,"rhohř",{"$f":"Vypocet!D131","v":0},"%",null,null,null,null,null,null,null,null,"relativní vlhkost","rhohř",{"$f":"Vypocet!P131","v":0},"%",null,null,null,null,null,null,null,null,null,null,null,null,null,30,4.03,null,null,null,null,null,null,null,null,null,null,null,null,null,null,null,null,null,null,29,3.9943333333333335]
[null,null,null,null,null,null,null,null,null,null,null,null,null,null,null,null,null,null,null,null,null,null,null,null,null,null,null,null,null,null,31,4.065666666666667,null,null,null,null,null,null,null,null,null,null,null,null,null,null,null,null,null,null,30,4.03]
["t5","parametry vyduchu za kondenzátorem",null,null,null,null,null,null,null,null,null,null,"t5","parametry vyduchu za kondenzátorem",null,null,null,null,null,null,null,null,null,null,null,null,null,null,null,null,32,4.1013333333333328]
["požadovaná teplotateplota do I",null,"t5",{"$f":"Teplota+D128","v":34},"°C",null,null,null,null,null,null,null,"požadovaná teplota do I",null,"t5",{"$f":"Teplota+P128","v":34},"°C",null,null,null,null,null,null,null,null,null,null,null,null,null,33,4.1370000000000005]
["dosažená teplota",null,"tdos",{"$f":"D123","v":44.642032960216554},"°C",null,null,null,null,null,null,null,"dosažená teplota",null,"t6",{"$f":"P123","v":54.69186910173341},null,null,null,null,null,null,null,null,null,null,null,null,null,null,34,4.1726666666666663]
[null,null,null,null,null,null,null,null,null,null,null,null,null,null,null,null,null,null,null,null,null,null,null,null,null,null,null,null,null,null,35,4.208333333333333]
["relativní vlhkost",null,"rh5",{"$f":"((D146*D116)/(D142*(0.622+D146)))*100","v":26.65673104395357},"%",null,null,null,null,null,null,null,"relativní vlhkost",null,"rh5",{"$f":"((P146*P116)/(P142*(0.622+P146)))*100","v":25.287985466598016},"%"]
["entalpie s.v.",null,"hsv5",{"$f":"Konstanty!$F$2*D134","v":34340},"J/kg",null,null,null,null,null,null,null,"entalpie s.v.",null,"hsv5",{"$f":"Konstanty!$F$2*P134","v":34340},"J/kg"]
["entalpie v.p.",null,"hvp5",{"$f":"D146*(Konstanty!$F$3*D134+Konstanty!$F$4)","v":23063.039999999997},"J/kg",null,null,null,null,null,null,null,"entalpie v.p.",null,"hvp5",{"$f":"P146*(Konstanty!$F$3*P134+Konstanty!$F$4)","v":21878.819505805692},"J/kg"]
["entalpie ",null,"h5",{"$f":"D138+D139","v":57403.039999999994},"J/kg",null,null,null,null,null,null,null,"entalpie ",null,"h5",{"$f":"P138+P139","v":56218.819505805688},"J/kg"]
[null,null,null,{"$f":"D140/1000","v":57.40303999999999},"kJ/kg",null,null,null,null,null,null,null,null,null,null,{"$f":"P140/1000","v":56.218819505805691},"kJ/kg"]
["tlak nasycené vodní páry",null,"p''vp5",{"$f":"Konstanty!$F$12^((1500.3+23.5*D134)/(234+D134))","v":5321.3250022529974},"Pa",null,null,null,null,null,null,null,"tlak nasycené vodní páry",null,"p''vp5",{"$f":"Konstanty!$F$12^((1500.3+23.5*P134)/(234+P134))","v":5321.3250022529974},"Pa",null,null,null,null,null,null,null,null,null,null,null,null,null,"dt vyp"]
["tlak  vodní páry",null,"pvp5",{"$f":"(D137/100)*D142","v":1418.4912938252378},"Pa",null,null,null,null,null,null,null,"tlak  vodní páry",null,"pvp5",{"$f":"(P137/100)*P142","v":1345.6558932001847},"Pa",null,null,null,null,null,null,null,null,null,null,null,null,null,2]
["tlak suchého vzduchu",null,"psv5",{"$f":"D148*Konstanty!$F$5*(D134+273.15)","v":97958.084656299994},"Pa",null,null,null,null,null,null,null,"tlak suchého vzduchu",null,"psv5",{"$f":"Konstanty!$F$8*Konstanty!$F$5*(P134+273.15)","v":108009.58929249999},"Pa",null,null,null,null,null,null,null,null,null,null,null,null,null,3]
["tlak směsi vlhkého vzduchu",null,"p5",{"$f":"D143+D144","v":99376.575950125232},"Pa",null,null,null,null,null,null,null,"tlak směsi vlhkého vzduchu",null,"p5",{"$f":"P143+P144","v":109355.24518570017},"Pa",null,null,null,null,null,null,null,null,null,null,null,null,null,4]
["měrná vlhkost vzduchu",null,"x5",{"$f":"D117","v":8.9999999999999993E-3},"kg/kg s.v.",null,null,null,null,null,null,null,"měrná vlhkost vzduchu",null,"x5",{"$f":"P117","v":8.537875993461886E-3},"kg/kg s.v.",null,null,null,null,null,null,null,null,null,null,null,null,null,5]
[null,null,null,{"$f":"D146*1000","v":9},"g/kg s.v.",null,null,null,null,null,null,null,null,null,null,{"$f":"P146*1000","v":8.5378759934618866},"g/kg s.v.",null,null,null,null,null,null,null,null,null,null,null,null,null,6,{"$f":"D124","v":0}]
["hustota vzduchu při t",null,null,{"$f":"VLOOKUP(D134,Tabulky!$V$15:$AF$75,9,0)","v":1.111},"kg/m3",null,null,null,null,null,null,null,"hustota vzduchu při t",null,null,{"$f":"VLOOKUP(P134,Tabulky!$V$15:$AF$75,9,0)","v":1.111},"kg/m3",null,null,null,null,null,null,null,null,null,null,null,null,null,7]
[null,null,null,null,null,null,null,null,null,null,null,null,null,null,null,null,null,null,null,null,null,null,null,null,null,null,null,null,null,null,8]
["navlhčení z prostoru",null,null,null,null,null,null,null,null,null,null,null,"navlhčení z prostoru",null,null,null,null,null,null,null,null,null,null,null,null,null,null,null,null,null,9]
["dx=n.100/V.ρ",null,"dx",{"$f":"(D33*100)/D57*Konstanty!$F$8","v":0.59243396843461305},"g/kg s.v",null,null,null,null,null,null,null,"dx=n.100/V.ρ",null,"dx",{"$f":"(P30*100)/P57*Konstanty!$F$8","v":5.3720302982114262E-2},"g/kg s.v",null,null,null,null,null,null,null,null,null,null,null,null,null,10]
[null,null,null,null,null,null,null,null,null,null,null,null,null,null,null,null,null,null,null,null,null,null,null,null,null,null,null,null,null,null,11]
["NUTNÉ vzduch privlhčit",null,null,null,null,null,null,null,null,null,null,null,"NUTNÉ vzduch privlhčit",null,null,null,null,null,null,null,null,null,null,null,null,null,null,null,null,null,12]
[null,null,null,null,null,null,null,null,null,null,null,null,null,null,null,null,null,null,null,null,null,null,null,null,null,null,null,null,null,null,13]
[null,null,null,null,null,null,null,null,null,null,null,null,null,null,null,null,null,null,null,null,null,null,null,null,null,null,null,null,null,null,14]
[null,null,null,null,null,null,null,null,null,null,null,null,null,null,null,null,null,null,null,null,null,null,null,null,null,null,null,null,null,null,15]

{"sheet":"V5","index":4,"n_rows":156,"n_cols":63,"rows_kept":156,"cut":false,"hidden":false,"merged":[[59,6,59,7],[26,3,26,6],[27,3,27,6],[33,6,33,7],[40,6,40,7]]}
[null,"Legenda",null,null,"hodnotu nutno zadat",null,null,null,null,"prevzato z první "]
[null,null,null,null,"hodnota se vypočítává "]
[null,null,null,null,"pomocná hodnota"]
["Parametry vzduchu",null,null,null,null,null,"interier klidovy rezim ",null,null,null,null,null,null,null,null,null,null,null,null,null,"Produkce tepla od",null,null,"ni",{"$f":"0.85*Y5+0.75*Y6+Y7","v":60.5},null,null,"Qi=ni.6,2*(36-ti)"]
["Interiér","ti",null,null,null,null,"Interiér","ti",null,null,null,null,"Exteriér","te",null,"minimální teplota -20 ",null,null,null,null,"lidí",{"$f":"Y4*6.2*(36-Teplota)","v":1500.4},"W","nz",{"$f":"Vypocet!Y5","v":30},"zeny",null,"ni=0,85nz+0,75nd+nm"]
["teplota",null,"ti",{"$f":"[0]!Teplota","v":32},"°C",null,"teplota",null,"ti",{"$f":"Vypocet!J6","v":24},"°C",null,"teplota",null,"te",{"$f":"CEILING(Vypocet!P6+15,5)","v":5},"°C",null,null,null,null,null,null,"nd ",{"$f":"Vypocet!Y6","v":20},"deti",null,"nz - zeny, nd deti, nm muzi"]
["relativní vlhkost",null,"rhi",{"$f":"Vypocet!D7","v":60},"%",null,"relativní vlhkost",null,"rhi",{"$f":"Vypocet!J7","v":55},"%",null,"relativní vlhkost",null,"rhe",{"$f":"ROUND((93*te-3153.5)/(te-39.17),0)","v":79},"%",null,null,null,null,null,null,"nm",{"$f":"Vypocet!Y7","v":20},"muzi"]
["entalpie s.v.",null,"hsvi",{"$f":"Konstanty!$F$2*Teplota","v":32320},"J/kg",null,"entalpie s.v.",null,"hsvi",{"$f":"Konstanty!$F$2*J6","v":24240},"J/kg",null,"entalpie s.v.",null,"hsve",{"$f":"Konstanty!$F$2*te","v":5050},"J/kg"]
["entalpie v.p.",null,"hvpi",{"$f":"$D$16*(Konstanty!$F$3*Teplota+Konstanty!$F$4)","v":46343.062700276656},"J/kg",null,"entalpie v.p.",null,"hvpi",{"$f":"$D$16*(Konstanty!$F$3*J6+Konstanty!$F$4)","v":46076.473456956111},"J/kg",null,"entalpie v.p.",null,"hvpe",{"$f":"P16*(Konstanty!F3*P6+Konstanty!F4)","v":10955.261283507112},"J/kg",null,null,null,"Odpar z povrchů"]
["entalpie ",null,"hi",{"$f":"D8+D9","v":78663.062700276656},"J/kg",null,"entalpie ",null,"hi",{"$f":"J8+J9","v":70316.473456956111},"J/kg",null,"entalpie ",null,"he",{"$f":"IF(P8<0,P9-P8,P8+P9)","v":16005.261283507112},"J/kg",null,null,null,null,null,null,null,null,null,null,"(7+3,5*w)*S*(xp´´-x).10-3"]
[null,null,null,{"$f":"D10/1000","v":78.663062700276654},"kJ/kg",null,null,null,null,{"$f":"J10/1000","v":70.316473456956118},"kJ/kg",null,null,null,null,{"$f":"P10/1000","v":16.005261283507114},"kJ/kg",null,null,null,null,null,null,null,null,null,null,"w stredni rychlost vzduchu"]
["tlak nasycené vodní páry",null,"p''vpi",{"$f":"Konstanty!$F$12^((1500.3+23.5*D6)/(234+D6))","v":4756.6229589957475},"Pa",null,"tlak nasycené vodní páry",null,"p''vpi",{"$f":"Konstanty!$F$12^((1500.3+23.5*J6)/(234+J6))","v":2984.4262331760842},"Pa",null,"tlak nasycené vodní páry",null,"p''vpe",{"$f":"Konstanty!$F$12^((1500.3+23.5*P6)/(234+P6))","v":870.47379631007118},"Pa",null,{"$f":"2.718^(28.926-(6148/(273.15+te)))","v":917.9205541807471},null,null,null,null,null,null,null,null,"xp´´-merna vlhkost nasyceneho vzduchu"]
["tlak  vodní páry",null,"pvpi",{"$f":"(D7/100)*D12","v":2853.9737753974482},"Pa",null,"tlak  vodní páry",null,"pvpi",{"$f":"(J7/100)*J12","v":1641.4344282468464},"Pa",null,"tlak  vodní páry",null,"pvpe",{"$f":"(P7/100)*P12","v":687.67429908495626},"Pa",null,null,null,null,null,null,null,null,null,null,"x - merna vlhkost vzduchu nad povrchem "]
["tlak suchého vzduchu",null,"psvi",{"$f":"D18*Konstanty!$F$5*(Teplota+273.15)","v":98021.008646699993},"Pa",null,"tlak suchého vzduchu",null,"psvi",{"$f":"J18*Konstanty!$F$5*(Teplota+273.15)","v":100648.9177257},"Pa",null,"tlak suchého vzduchu",null,"psve",{"$f":"P18*Konstanty!F5*(P6+273.15)","v":97971.404333100014},"Pa",null,null,null,null,null,null,null,null,null,null,"S plocha"]
["tlak směsi vlhkého vzduchu",null,"pi",{"$f":"D13+D14","v":100874.98242209744},"Pa",null,"tlak směsi vlhkého vzduchu",null,"pi",{"$f":"J13+J14","v":102290.35215394685},"Pa",null,"tlak směsi vlhkého vzduchu",null,"pe",{"$f":"P13+P14","v":98659.078632184974},"Pa"]
["měrná vlhkost vzduchu",null,"xi",{"$f":"(Konstanty!$F$5/Konstanty!$F$6)*(D13/D14)","v":1.8110682290797792E-2},"kg/kg s.v.",null,"měrná vlhkost vzduchu",null,"xi",{"$f":"(Konstanty!$F$5/Konstanty!$F$6)*(J13/J14)","v":1.0144214643132086E-2},"kg/kg s.v.",null,"měrná vlhkost vzduchu",null,"xe",{"$f":"(Konstanty!F5/Konstanty!F6)*(P13/P14)","v":4.3660374954197006E-3},"kg/kg s.v."]
[null,null,null,{"$f":"D16*1000","v":18.11068229079779},"g/kg s.v.",null,null,null,null,{"$f":"J16*1000","v":10.144214643132086},"g/kg s.v.",null,null,null,null,{"$f":"P16*1000","v":4.3660374954197003},"g/kg s.v."]
["hustota vzduchu při t",null,null,{"$f":"VLOOKUP(Teplota,Tabulky!$V$15:$AF$75,9,0)","v":1.119},"kg/m3",null,"hustota vzduchu při t",null,null,{"$f":"VLOOKUP(J6,Tabulky!V15:AF75,9,0)","v":1.149},"kg/m3",null,"hustota vzduchu při t",null,null,{"$f":"VLOOKUP(te,Tabulky!V15:AF75,9,0)","v":1.2270000000000001},"kg/m3"]
[null,null,null,{"$f":"1.395-Teplota*0.004414","v":1.253752}]
["Bazén",null,null,null,null,null,null,null,"rozměry bazénu"]
["Teplota vody",null,"tsniz",{"$f":"Vypocet!D21","v":2},"°C","snížení teploty vody (dop 2-3°C)",null,null,"délka bazén","a",{"$f":"Vypocet!K21","v":25},"m"]
["tvz-(2-3)°C",null,"tvod",{"$f":"D6-D21","v":30},"°C",null,null,null,"šířka bazén","b",{"$f":"Vypocet!K22","v":12},"m"]
[]
["Mn. odpařené vody"]
["mw=ε*A*(p´´vp-pvp)",null,"mw",{"$f":"D28*$D$29*($D$12/100-$D$13/100)","v":114158.95101589795},"g/h"]
[null,null,null,{"$f":"D25/1000","v":114.15895101589796},"kg/h",null,null,null,"budova"]
["typ bazenu",null,null,{"$f":"Vypocet!AH47","v":"bazény - normální provoz"},null,null,null,null,"délka","a",{"$f":"Vypocet!K27","v":40},"m"]
["mnozstvi odp vody",null,null,{"$f":"VLOOKUP(D27,Tab_souc_odparu_bazen,7,0)","v":20},null,null,null,"[g/(hPa.m2.h)]","šířka","b",{"$f":"Vypocet!K28","v":15},"m"]
["plocha bazénu",null,"A",{"$f":"K21*K22","v":300},"m2",null,null,null,"výška","v",{"$f":"Vypocet!K29","v":7},"m","Produkce vlhkosti osobami - klidový režim"]
["Objem haly",null,"V",{"$f":"K27*K28*K29","v":4200},"m3",null,null,null,null,null,null,null,"počet osob v bazénu",null,"nos",{"$f":"Vypocet!P30","v":2}]
[null,null,null,null,null,null,null,null,null,null,null,null,"množství vlhkosti",null,"mos",{"$f":"P30*100","v":200},"g/h"]
["Produkce vlhkosti osobami - v provozu",null,null,null,null,null,null,null,null,null,null,null,null,null,null,{"$f":"P31/1000","v":0.2},"kg/h",null,null,null,null,null,null,null,null,null,null,null,null,null,"Výkon na kondenzátoru",null,null,null,"Qk",{"$f":"AH69","v":150103.4296423652},"W"]
["počet osob v bazénu",null,"nos",{"$f":"Vypocet!D33","v":60},"počet",null,"Produkce vlhkosti člověkem",null,null,null,null,null,null,null,null,{"$f":"P31/3600","v":5.5555555555555552E-2},"g/s",null,null,null,null,null,null,null,null,null,null,null,null,null,null,null,null,null,null,{"$f":"AH70","v":150.1034296423652},"kW"]
["množství vlhkosti",null,"mos",{"$f":"D33*H35","v":6300},"g/h",null,{"$f":"Vypocet!AH50","v":"člověk při středně těžké práci"},null,null,null,null,null,null,null,null,null,null,null,null,null,null,null,null,null,null,null,null,null,null,null,"Teplota požadovaná v interiéru",null,null,null,"ti",{"$f":"Teplota","v":32},"°C"]
[null,null,null,{"$f":"D34/1000","v":6.3},"kg/h",null,{"$f":"VLOOKUP(G34,Tabulky!W146:Z148,4,0)","v":"60-150"},{"$f":"IF(G35=\"60-150\",105,IF(G35=\"30-60\",45,225))","v":105},"g/h",null,null,null,"Produkce vlhkosti  - klidový režim",null,null,null,null,null,null,null,null,null,null,null,null,null,null,null,null,null,null,null,null,null,null,null,null,null,null,null,null,null,null,null,null,null,null,null,null,null,"Výkon na kondenzátoru",null,null,null,"Qk",{"$f":"BB70","v":56763.692798437383},"W"]
[null,null,null,{"$f":"D34/3600","v":1.75},"g/s",null,"rozmezí","průměr",null,null,null,"množství odpařené vody",null,null,"mw",{"$f":"Tabulky!$G$4*$D$29*($D$12/100-$D$13/100)","v":28539.737753974488},"g/h",null,null,null,null,null,null,null,null,null,null,null,null,null,null,null,null,null,null,null,null,null,null,null,null,null,null,null,null,null,null,null,null,null,null,null,null,null,null,{"$f":"BB71","v":56.763692798437383},"kW"]
["celkové množství odpařené vody",null,null,{"$f":"(D25+D34)*(I37/100+1)","v":126481.89856669286},"g/h",null,null,"korekce ",{"$f":"Vypocet!I37","v":5},"%",null,null,"celkové množství odpařené vody",null,null,{"$f":"(P36+P31)*(I37/100+1)","v":30176.724641673216},"g/h",null,null,null,null,null,null,null,null,null,null,null,null,null,null,null,null,null,null,null,null,null,null,null,null,null,null,null,null,null,null,null,null,null,"Teplota požadovaná v interiéru",null,null,null,"ti",{"$f":"J6","v":24},"°C"]
["Dimenzování průtoku vzduchu bazénové větrací jednotky pro zátěž",null,null,null,null,null,null,null,null,null,null,null,"Dimenzování průtoku vzduchu bazénové větrací jednotky pro klidový režim"]
["z množství odpařené vody",null,null,null,null,null,null,null,null,null,null,null,"z množství odpařené vody"]
["požadovaná vlhkost přiváděná",null,"xpoz",{"$f":"Vypocet!D40","v":9},"g/kg",null,"doporučená hodnota 8-10 g/kg",null,null,null,null,null,"požadovaná vlhkost přiváděná",null,"xpoz",{"$f":"Vypocet!P40","v":9},"g/kg",null,"doporučená hodnota 8-10 g/kg"]
[null,null,"V1",{"$f":"(D37)/(D18*(D17-D40))","v":12406.445935942682},"m3/h",null," ",null,{"$f":"D147","v":9},"g/kg s.v.",null,null,null,null,"V1",{"$f":"(P36+P31)/(Konstanty!$F$8*(J17-5))","v":4560.6593112769815},"m3/h"]
["z objemu haly",null,null,null,null,null,null,null,null,null,null,null,"z objemu haly"]
["výměna vzduchu",null,"n",{"$f":"Vypocet!D43","v":1},"1/h",null,null,null,null,null,null,null,"výměna vzduchu",null,"n",{"$f":"Vypocet!P43","v":1},"1/h"]
["V=n*VH",null,"V2",{"$f":"D30*D43","v":4200},"m3/h",null,null,null,null,null,null,null,"V=n*VH",null,"V2",{"$f":"D30*P43","v":4200},"m3/h"]
["z tepelných zisků"]
[null,"tepelné ztráty","Qzt",{"$f":"Vypocet!D46","v":7},"kW",null,null,"teplotní spád výústky","dt",{"$f":"Vypocet!J46","v":8},"°C"]
[null,"tepelné zisky","Qzisk",{"$f":"Vypocet!D47","v":16},"kW"]
[null,"Množství vzduchu",null,{"$f":"((D47-D46)/J46*Konstanty!$F$2*Konstanty!$F$8)","v":1391.90625},"m3/h"]
[null,null,null,null,null,null,null,null,null,null,null,null,null,null,null,null,null,null,null,null,null,null,null,null,null,null,null,null,null,null,null,null,null,null,null,null,null,null,null,null,null,null,null,null,null,null,null,null,null,null,null,null,null,null,null,null,null,"te","teplota exteriérového vzduchu"]
["potřeba vzduchu pro osoby",null,null,null,null,null,null,null,null,null,null,null,null,null,null,null,null,null,null,null,null,null,"te","teplota exteriérového vzduchu",null,null,null,null,null,null,null,null,null,null,null,null,null,null,null,null,null,null,null,null,null,null,null,null,null,null,null,null,null,null,null,null,null,"Qpředehřev","Výkon pro předehřátí vzduchu"]
[null,null,"V2",{"$f":"D33*D52","v":3000},null,null,null,null,null,null,null,null,null,null,null,null,null,null,null,null,null,null,"Qpředehřev","Výkon pro předehřátí vzduchu",null,null,null,null,null,null,null,null,null,null,null,null,null,null,null,null,null,null,null,null,null,null,null,null,null,null,null,null,null,null,null,null,null,"Qdohřátí","Výkon spotřebovaný na dohřátí vzduchu na požadovanou úroveň"]
["množství čerstvého vzduchu/osoba",null,null,{"$f":"Vypocet!D52","v":50},"m3/h/os",null,"doporučená hodnota při zátěži (min hodnota 25m3/h) ",null,null,null,null,null,null,null,null,null,null,null,null,null,null,null,"Qdohřátí","Výkon spotřebovaný na dohřátí vzduchu na požadovanou úroveň"]
[]
["Potřeba čerstvého vzduchu",null,null,{"$f":"IF(MAX(D41,D44,D48)>D51,\"Ne\",\"Ano\")","v":"Ne"},null,null,"nepočítá s tím dál samo! ",null,null,null,null,null,null,null,null,null,null,null,null,null,null,null,null,null,null,null,null,null,null,null,"Teplo odevzdané na výparníku",null,null,null,null,null,"Množství kondenzátu"]
["Množství čerstvého vzduchu",null,null,{"$f":"IF(D54=\"ano\",D51-MAX(D41,D44,D48),0)","v":0},"m3/h",null,"pouze informativní charakter, množství V čerst rozhodne projektant",null,null,null,null,null,null,null,null,null,null,null,null,null,null,null,null,null,null,null,null,null,null,null,"Qv=V*ρ*(hi-h3)",null,"Qv",{"$f":"D81","v":113504.73905986393},"W",null,"mkond = V*ρ*(xi-x3)",null,"mkond",{"$f":"IF(D58*D18*(D16-D77)<0,0,D58*D18*(D16-D77))","v":2.4142566669712484E-2},"kg/s",null,null,null,null,null,null,null,null,null,"Teplo odevzdané na výparníku",null,null,null,null,null,"Množství kondenzátu"]
[null,null,null,null,null,null,null,null,null,null,null,null,null,null,null,null,null,null,null,null,null,null,null,null,null,null,null,null,null,null,null,null,null,{"$f":"AH55/1000","v":113.50473905986394},"kW",null,null,null,null,{"$f":"AN55*1000","v":24.142566669712483},"g/s",null,null,null,null,null,null,null,null,null,"Qv=V*ρ*(hi-h3)",null,"Qv",{"$f":"P81","v":47003.773128829853},"W",null,"mkond = V*ρ*(xi-x3)",null,"mkond",{"$f":"IF(P58*J18*(J16-P77)<0,0,P58*J18*(J16-P77))","v":2.1834156452738541E-3},"kg/s"]
["průtok vzduchu",null,"V",{"$f":"MAX(D41,D44,D48)","v":12406.445935942682},"m3/h",null,null,null,null," ",null,null,"průtok vzduchu",null,"V",{"$f":"MAX(P41,P44)","v":4560.6593112769815},"m3/h",null,null,null,null,null,null,null,null,null,null,null,null,null,null,null,null,null,null,null,null,null,null,{"$f":"AN55*3600","v":86.913240010964941},"kg/h",null,null,null,null,null,null,null,null,null,null,null,null,{"$f":"BB56/1000","v":47.003773128829856},"kW",null,null,null,null,{"$f":"BH56*1000","v":2.183415645273854},"g/s"]
[null,null,"V",{"$f":"D57/3600","v":3.4462349822063003},"m3/s",null,null,null,null,null,null,null,null,null,"V",{"$f":"P57/3600","v":1.2668498086880504},"m3/s",null,null,null,null,null,null,null,null,null,null,null,null,null,"Tepelné čerpadlo (TČ)",null,null,null,"typ TČ",null,null,null,null,null,null,null,null,null,null,null,null,null,null,null,null,null,null,null,null,null,null,null,null,{"$f":"BH56*3600","v":7.8602963229858744},"kg/h"]
[null,null,null,null,null,null,null,null,null,null,null,null,null,null,null,null,null,null,null,null,null,null,null,null,null,null,null,null,null,null,"Topný faktor TČ",null,"COP",{"$f":"VLOOKUP(Teplota,'V5'!AE83:AF136,2,0)","v":4.1013333333333328},"Alfa S Duo",null,null,null,null,null,null,null,null,null,null,null,null,null,null,null,"Tepelné čerpadlo (TČ)",null,null,null,"typ TČ"]
["množství odebrané měrné vlh",null,"Δx",6.2604920196246585,"g/kg s.v",null,"vstupní měrná  vlhkost do int",null,"xvyst",{"$f":"D147","v":9},"g/kg s.v.",null,null,null,null,null,null,null,null,null,null,null,null,null,null,null,null,null,null,null,null,null,null,null,null,null,null,null,null,null,null,null,null,null,null,null,null,null,null,null,"Topný faktor TČ",null,"COP",{"$f":"VLOOKUP(J6,'V5'!AY84:AZ132,2,0)","v":3.8159999999999998},"Alfa S Duo"]
["teplota chladiče",null,"tch",{"$f":"Vypocet!D61","v":9},"°C ",null,null,null,null,null,null,null,null,null,null,null,null,null,null,null,null,null,null,null,null,null,null,null,null,null,"Tepelná bilance TČ"]
["relativní vlhkost",null,"rhch",{"$f":"Vypocet!D62","v":100},"%",null,null,null,null,null,null,null,"množství odebrané měrné vlh",null,"Δx",{"$f":"Vypocet!P60","v":1.5},"g/kg s.v.",null,null,null,null,null,null,null,null,null,null,null,null,null,"Qk=Pel+Qv",null,null,null,null,null,null,null,null,null,null,null,null,null,null,null,null,null,null,null,"Tepelná bilance TČ"]
[null,null,null,null,null,null,null,null,null,null,null,null,"teplota chladiče",null,"tch",{"$f":"Vypocet!P61","v":9},"°C ",null,null,null,null,null,null,null,null,null,null,null,null,null,"εt = COP","εt = Qv/Pel",null,null,null,null,null,null,null,null,null,null,null,null,null,null,null,null,null,null,"Qk=Pel+Qv"]
[null,null,null,null,null,null,null,null,null,null,null,null,"relativní vlhkost",null,"rhch",{"$f":"Vypocet!P62","v":100},"%",null,null,null,null,null,null,null,null,null,null,null,null,null,"Pel=Qk/(1+Et)",null,null,null,null,null,null,null,null,null,null,null,null,null,null,null,null,null,null,null,"εt = COP","εt = Qv/Pel"]
[null,null,null,null,null,null,null,null,null,null,null,null,null,null,null,null,null,null,null,null,null,null,null,"Parametry chladiče",null,null,null,null,null,null,"Výkon kompresoru",null,"Pet",{"$f":"AH55/(AH59-1)","v":36598.690582501273},"W",null,null,null,null,null,null,null,null,null,null,null,null,null,null,null,"Pel=Qk/(1+Et)"]
["t3","parametry vyduchu za vyparnikem",null,null,null,null,null,null,null,null,null,null,"t3","parametry vyduchu za vyparnikem",null,null,null,null,null,null,null,null,null,"teplota",null,"ti",{"$f":"tch","v":9},"°C",null,null,null,null,null,{"$f":"AH65/1000","v":36.59869058250127},"kW",null,null,null,null,null,null,null,null,null,null,null,null,null,null,null,"Výkon kompresoru",null,"Pet",{"$f":"BB56/(BB60+1)","v":9759.9196696075287},"W"]
["teplota",null,"tvyp",{"$f":"W87","v":19},"°C",null,{"$f":"tvyp-te","v":14},null,null,null,null,null,"teplota",null,"tvyp",{"$f":"W112","v":16},"°C",null,null,null,null,null,null,"relativní vlhkost",null,"rhi",{"$f":"D62","v":100},"%",null,null,"Prikon kompresoru",null,null,{"$f":"AH66/AH59","v":8.9236079118582428},"kW",null,null,null,null,null,null,null,null,null,null,null,null,null,null,null,null,null,null,{"$f":"BB66/1000","v":9.7599196696075285},"kW"]
["relativní vlhkost",null,"rh3",{"$f":"IF((D74/D73)*100>100,100,(D74/D73)*100)","v":85.014907978330939},"%",null,null,null,null,null,null,null,"relativní vlhkost",null,"rh3",{"$f":"IF((P74/P73)*100>100,100,(P74/P73)*100)","v":74.957831234168935},"%",null,null,null,null,null,null,"entalpie s.v.",null,"hsvi",{"$f":"Konstanty!$F$2*AA66","v":9090},"J/kg",null,null,"Teplo na kondenzátoru"]
["entalpie s.v.",null,"h3",{"$f":"Konstanty!$F$2*D67","v":19190},"J/kg",null,null,null,null,null,null,null,"entalpie s.v.",null,"h3",{"$f":"Konstanty!$F$2*P67","v":16160},"J/kg",null,null,null,null,null,null,"entalpie v.p.",null,"hvpi",{"$f":"$AA$76*(Konstanty!$F$3*AA66+Konstanty!$F$4)","v":18311.904271787756},"J/kg",null,null,"Výkon na kondenzátoru",null,"Qk",{"$f":"AH65+AH55","v":150103.4296423652},"W",null,null,null,null,null,null,null,null,null,null,null,null,null,null,null,"Teplo na kondenzátoru"]
["entalpie v.p.",null,"h3",{"$f":"D77*(Konstanty!$F$3*D67+Konstanty!$F$4)","v":30039.758329813045},"J/kg",null,null,null,null,null,null,null,"entalpie v.p.",null,"h3",{"$f":"P77*(Konstanty!$F$3*P67+Konstanty!$F$4)","v":21865.022286924024},"J/kg",null,null,null,null,null,null,"entalpie ",null,"hi",{"$f":"AA68+AA69","v":27401.904271787756},"J/kg",null,null,null,null,null,{"$f":"AH69/1000","v":150.1034296423652},"kW",null,null,null,null,null,null,null,"  ",null,null,null,null,null,null,null,"Výkon na kondenzátoru",null,"Qk",{"$f":"BB66+BB56","v":56763.692798437383},"W"]
["entalpie ",null,"h3",{"$f":"D69+D70","v":49229.758329813048},"J/kg",null,null,null,null,null,null,null,"entalpie ",null,"h3",{"$f":"P69+P70","v":38025.022286924024},"J/kg",null,null,null,null,null,null,null,null,null,{"$f":"AA70/1000","v":27.401904271787757},"kJ/kg",null,null,null,null,null,null,null,null,null,null,null,null,null,null,null,null,null,null,null,null,null,null,null,null,null,{"$f":"BB70/1000","v":56.763692798437383},"kW",null,null,null,null,null,null,null,"  "]
[null,null,null,{"$f":"D71/1000","v":49.229758329813052},"kJ/kg",null,null,null,null,null,null,null,null,null,null,{"$f":"P71/1000","v":38.025022286924028},"kJ/kg",null,null,null,null,null,null,"tlak nasycené vodní páry",null,"p''vpi",{"$f":"Konstanty!$F$12^((1500.3+23.5*AA66)/(234+AA66))","v":1146.4717300807256},"Pa"]
["tlak nasycené vodní páry",null,"p''vp3",{"$f":"Konstanty!$F$12^((1500.3+23.5*D67)/(234+D67))","v":2197.0298522863677},"Pa",null,null,null,null,null,null,null,"tlak nasycené vodní páry",null,"p''vp3",{"$f":"Konstanty!$F$12^((1500.3+23.5*P67)/(234+P67))","v":1817.4687221052275},"Pa",null,null,null,null,null,null,"tlak  vodní páry",null,"pvpi",{"$f":"(AA67/100)*AA72","v":1146.4717300807256},"Pa",null,null,"Graf topneho faktoru ",null,null,"TnG Air 13, vzduch/voda"]
["tlak  vodní páry",null,"pvp3",{"$f":"(D77*D75)/0.622","v":1867.8029071777155},"Pa",null,{"$f":"((G77*D75)/(0.622+G77))/((0.622-G77)/(0.622))","v":0},"přepočet tlaku z x",null,null,null,null,"tlak  vodní páry",null,"pvp3",{"$f":"(P77*P75)/0.622","v":1362.3351374494432},"Pa",null,{"$f":"((S77*P75)/(0.622+S77))/((0.622-S77)/(0.622))","v":1599.161688452117},"přepočet tlaku z x",null,null,null,"tlak suchého vzduchu",null,"psvi",{"$f":"AA78*Konstanty!$F$5*(AA66+273.15)","v":98003.397392999992},"Pa",null,null,null,null,null,null,null,null,null,null,null,null,null,null,null,null,null,null,null,null,null,null,"Graf topneho faktoru ",null,null,"TnG Air 13, vzduch/voda"]
["tlak suchého vzduchu",null,"psv3",{"$f":"D79*Konstanty!$F$5*(D67+273.15)","v":98038.375897699996},"Pa",null,null,null,null,null,null,null,"tlak suchého vzduchu",null,"psv3",{"$f":"P79*Konstanty!$F$5*(P67+273.15)","v":98027.697191300002},"Pa",null,null,null,null,null,null,"tlak směsi vlhkého vzduchu",null,"pi",{"$f":"AA73+AA74","v":99149.869123080716},"Pa",null,null,{"$f":"Vypocet!AE107","v":"teplota"},{"$f":"Vypocet!AF107","v":-18},{"$f":"Vypocet!AG107","v":-15},{"$f":"Vypocet!AH107","v":-10},{"$f":"Vypocet!AI107","v":-5},{"$f":"Vypocet!AJ107","v":0},{"$f":"Vypocet!AK107","v":5},{"$f":"Vypocet!AL107","v":10},{"$f":"Vypocet!AM107","v":15}]
["tlak směsi vlhkého vzduchu",null,"p3",{"$f":"D74+D75","v":99906.178804877709},"Pa",null,null,null,null,null,null,null,"tlak směsi vlhkého vzduchu",null,"p3",{"$f":"P74+P75","v":99390.032328749439},"Pa",null,null,null,null,null,null,"měrná vlhkost vzduchu",null,"xi",{"$f":"(Konstanty!$F$5/Konstanty!$F$6)*(AA73/AA74)","v":7.276561763593062E-3},"kg/kg s.v.",null,null,{"$f":"Vypocet!AE108","v":"vykon"},{"$f":"Vypocet!AF108","v":4.7},{"$f":"Vypocet!AG108","v":5.75},{"$f":"Vypocet!AH108","v":7},{"$f":"Vypocet!AI108","v":8.24},{"$f":"Vypocet!AJ108","v":9.4600000000000009},{"$f":"Vypocet!AK108","v":10.69},{"$f":"Vypocet!AL108","v":11.8},{"$f":"Vypocet!AM108","v":13.1},null,null,null,null,null,null,null,null,null,null,null,{"$f":"Vypocet!AY108","v":"teplota"},{"$f":"Vypocet!AZ108","v":-18},{"$f":"Vypocet!BA108","v":-15},{"$f":"Vypocet!BB108","v":-10},{"$f":"Vypocet!BC108","v":-5},{"$f":"Vypocet!BD108","v":0},{"$f":"Vypocet!BE108","v":5},{"$f":"Vypocet!BF108","v":10},{"$f":"Vypocet!BG108","v":15}]
["měrná vlhkost vzduchu",null,"x3",{"$f":"D16-deltaT/1000","v":1.1850190271173133E-2},"kg/kg s.v.",null,{"$f":"IF(tvyp<D82,0,D16)","v":0},"vezme x z Ti když tvyp<rosny bod",null,null,null,null,"měrná vlhkost vzduchu",null,"x3",{"$f":"J16-P62/1000","v":8.6442146431320865E-3},"kg/kg s.v.",null,{"$f":"IF(tvyp<P82,0,J16)","v":1.0144214643132086E-2},"vezme x z Ti když tvyp<rosny bod",null,null,null,null,null,null,{"$f":"AA76*1000","v":7.2765617635930617},"g/kg s.v.",null,null,{"$f":"Vypocet!AE109","v":"el prikon"},{"$f":"Vypocet!AF109","v":2.2400000000000002},{"$f":"Vypocet!AG109","v":2.4700000000000002},{"$f":"Vypocet!AH109","v":2.72},{"$f":"Vypocet!AI109","v":2.94},{"$f":"Vypocet!AJ109","v":3.2},{"$f":"Vypocet!AK109","v":3.37},{"$f":"Vypocet!AL109","v":3.55},{"$f":"Vypocet!AM109","v":3.85},null,null,null,null,null,null,null,null,null,null,null,{"$f":"Vypocet!AY109","v":"vykon"},{"$f":"Vypocet!AZ109","v":4.7},{"$f":"Vypocet!BA109","v":5.75},{"$f":"Vypocet!BB109","v":7},{"$f":"Vypocet!BC109","v":8.24},{"$f":"Vypocet!BD109","v":9.4600000000000009},{"$f":"Vypocet!BE109","v":10.69},{"$f":"Vypocet!BF109","v":11.8},{"$f":"Vypocet!BG109","v":13.1}]
[null,null,null,{"$f":"D77*1000","v":11.850190271173133},"g/kg s.v.",null,null,null,null,null,null,null,null,null,null,{"$f":"P77*1000","v":8.6442146431320861},"g/kg s.v.",null,null,null,null,null,null,"hustota vzduchu při t",null,null,{"$f":"VLOOKUP(AA66,Tabulky!$V$15:$AF$75,9,0)","v":1.21},"kg/m3",null,null,{"$f":"Vypocet!AE110","v":"COP"},{"$f":"Vypocet!AF110","v":2.1},{"$f":"Vypocet!AG110","v":2.33},{"$f":"Vypocet!AH110","v":2.57},{"$f":"Vypocet!AI110","v":2.8},{"$f":"Vypocet!AJ110","v":2.96},{"$f":"Vypocet!AK110","v":3.17},{"$f":"Vypocet!AL110","v":3.32},{"$f":"Vypocet!AM110","v":3.4},null,null,null,null,null,null,null,null,null,null,null,{"$f":"Vypocet!AY110","v":"el prikon"},{"$f":"Vypocet!AZ110","v":2.2400000000000002},{"$f":"Vypocet!BA110","v":2.4700000000000002},{"$f":"Vypocet!BB110","v":2.72},{"$f":"Vypocet!BC110","v":2.94},{"$f":"Vypocet!BD110","v":3.2},{"$f":"Vypocet!BE110","v":3.37},{"$f":"Vypocet!BF110","v":3.55},{"$f":"Vypocet!BG110","v":3.85}]
["hustota vzduchu při t",null,null,{"$f":"VLOOKUP(tvyp,Tabulky!$V$15:$AF$75,9,0)","v":1.169},"kg/m3",null,null,null,null,null,null,null,"hustota vzduchu při t",null,null,{"$f":"VLOOKUP(P67,Tabulky!$V$15:$AF$75,9,0)","v":1.181},"kg/m3",null,null,null,null,null,null,null,null,null,{"$f":"1.395-Teplota*0.004414","v":1.253752},null,null,null,null,null,null,{"$f":"AH78-AG78","v":0.23999999999999977},0.22999999999999998,0.16000000000000014,0.20999999999999996,0.14999999999999991,8.0000000000000071E-2,"průměr",{"$f":"AVERAGE(AG79:AM79)","v":0.17833333333333332},"prumer/1",{"$f":"AO79/5","v":3.5666666666666666E-2},null,null,null,null,null,null,null,{"$f":"Vypocet!AY111","v":"COP"},{"$f":"Vypocet!AZ111","v":2.1},{"$f":"Vypocet!BA111","v":2.33},{"$f":"Vypocet!BB111","v":2.57},{"$f":"Vypocet!BC111","v":2.8},{"$f":"Vypocet!BD111","v":2.96},{"$f":"Vypocet!BE111","v":3.17},{"$f":"Vypocet!BF111","v":3.32},{"$f":"Vypocet!BG111","v":3.4}]
[null,null,null,null,null,null,null,null,null,null,null,null,null,null,null,null,null,null,null,null,null,null,null,null,null,null,null,null,null,null,null,"popis závislosti",null,"y=0,18571x+2,96",null,null,null,null,null,null,null,null,null,null,null,null,null,null,null,null,null,null,null,{"$f":"BB79-BA79","v":0.23999999999999977},0.22999999999999998,0.16000000000000014,0.20999999999999996,0.14999999999999991,8.0000000000000071E-2,"průměr",{"$f":"AVERAGE(BA80:BG80)","v":0.17833333333333332},"prumer/1",{"$f":"BI80/5","v":3.5666666666666666E-2}]
["teplo získané na výparníku",null,"Qv",{"$f":"D58*D18*(D10-D71)","v":113504.73905986393},"W",null,null,null,null,null,null,null,"teplo získané na výparníku",null,"Qv",{"$f":"P58*J18*(J10-P71)","v":47003.773128829853},"W",null,null,null,"A","Ti",{"$f":"Teplota","v":32},null,"B","tch",{"$f":"AA66","v":9},null,null,null,null,null,null,null,null,null,null,null,null,null,null,null,null,null,null,null,null,null,null,null,null,"popis závislosti",null,"y=0,18571x+2,96"]
[null,"rosný bod ",null,{"$f":"(243.5*LN(($D$7/100)*Konstanty!$F$12^((17.67*Teplota)/(243.5+Teplota))))/(17.67-(LN(($D$7/100)*Konstanty!$F$12^((17.67*Teplota)/(243.5+Teplota)))))","v":23.274251871309211},"°C ",null,null,null,null,null,null,null,null,"rosný bod ",null,{"$f":"(243.5*LN((J7/100)*Konstanty!$F$12^((17.67*J6)/(243.5+J6))))/(17.67-(LN((J7/100)*Konstanty!$F$12^((17.67*J6)/(243.5+J6)))))","v":14.413817952855092},"°C ",null,null,null,null,"xi",{"$f":"D16","v":1.8110682290797792E-2},null,null,"xch",{"$f":"AA76","v":7.276561763593062E-3},null,null,null,"teplota","COP",null,-18,2.1]
[null,null,null,null,null,null,null,null,null,null,null,null,null,null,null,null,null,null,null,null,null,"xi",{"$f":"D17","v":18.11068229079779},null,null,"xch",{"$f":"AA77","v":7.2765617635930617},null,null,null,-18,{"$f":"$AQ$79*AE83+$AJ$78","v":2.3180000000000001},null,-15,2.33,null,null,null,null,null,null,null,null,null,null,null,null,null,null,null,"teplota","COP"]
["Distribuce tepla v závislosti na externí teplotě",null,null,null,null,null,null,null,null,null,null,null,null,null,null,null,null,null,null,null,null,null,null,null,null,null,null,null,null,null,-17,2.3536666666666668,null,-10,2.57,null,null,null,null,null,null,null,null,null,null,null,null,null,null,null,-18,{"$f":"$AQ$79*AY84+$AJ$78","v":2.3180000000000001}]
["teplota předehřevu te",null,"tpřed",{"$f":"Vypocet!D85","v":5},"°C",null,null,null,null,null,null,null,null,null,null,null,null,null,null,null,null,"dx",{"$f":"deltaT","v":6.2604920196246585},null,"výpočet teplochy při teplote chladice",null,null,null,null,null,-16,2.3893333333333331,null,-5,2.8,null,null,null,null,null,null,null,null,null,null,null,null,null,null,null,-17,2.3536666666666668]
["množství čerst vzduchu",null,null,{"$f":"Vypocet!D86","v":30},"%",null,null,null,null,null,null,null,null,null,null,null,null,null,null,null,null,"th",{"$f":"((W81-AA81)*W83+(AA83-W83)*W81-(W81-AA81)*(W83-W85))/(AA83-W83)","v":18.709459610514614},null,"počítá s přímkou ti - tch a na ní počítá bod",null,null,null,null,null,-15,2.4249999999999998,null,0,2.96,null,null,null,null,null,null,null,null,null,null,null,null,null,null,null,-16,2.3893333333333331]
["množství předehřívaného vzd",null,null,{"$f":"D58*(D86/100)","v":1.03387049466189},"m3/h",null,null,null,null,null,null,null,null,null,null,null,null,null,null,null,null,null,{"$f":"ROUND(W86,0)","v":19},null,null,null,null,null,null,null,-14,2.4606666666666666,null,5,3.17,null,null,null,null,null,null,null,null,null,null,null,null,null,null,null,-15,2.4249999999999998]
["potřeba tepla na předehřev",null,null,{"$f":"IF(D85>te,((D87*P18)/(1+P16))*(D85-te)*P18*Konstanty!$F$2,0)","v":0},"W",null,null,null,null,null,null,null,null,null,null,null,null,null,null,null,null,null,null,null,null,null,null,null,null,null,-13,2.4963333333333333,null,10,3.32,null,null,null,null,null,null,null,null,null,null,null,null,null,null,null,-14,2.4606666666666666]
[null,null,null,null,null,null,null,null,null,null,null,null,null,null,null,null,null,null,null,null,null,null,null,null,null,null,null,null,null,null,-12,2.532,null,15,3.4,null,null,null,null,null,null,null,null,null,null,null,null,null,null,null,-13,2.4963333333333333]
["t4","Předehřev exteriérového vzduchu",null,null,null,null,null,null,null,null,null,null,"t4","Předehřev exteriérového vzduchu",null,null,null,null,null,null,null,null,null,"Parametry chladiče klidovy rezim",null,null,null,null,null,null,-11,2.5676666666666668,null,null,null,null,null,null,null,null,null,null,null,null,null,null,null,null,null,null,-12,2.532]
["teplota předehřevu",null,"tpředehřev",{"$f":"IF($D$85>te,$D$85,te)","v":5},"°C",null,null,null,null,null,null,null,"teplota předehřevu",null,"tpředehřev",{"$f":"IF($D$85>te,$D$85,te)","v":5},"°C",null,null,null,null,null,null,"teplota",null,"ti",{"$f":"P63","v":9},"°C",null,null,-10,2.6033333333333335,null,null,null,null,null,null,null,null,null,null,null,null,null,null,null,null,null,null,-11,2.5676666666666668]
[null,null,"rhpředehřev",{"$f":"((D101*P15)/(D97*(0.622+D101)))*100","v":79.002459629503321},"%",null,null,null,null,null,null,null,null,null,"rhpředehřev",{"$f":"((P101*P15)/(P97*(0.622+P101)))*100","v":79.002459629503321},"%",null,null,null,null,null,null,"relativní vlhkost",null,"rhi",{"$f":"P64","v":100},"%",null,null,-9,2.6389999999999998,null,null,null,null,null,null,null,null,null,null,null,null,null,null,null,null,null,null,-10,2.6033333333333335]
["entalpie s.v.",null,"hsv4",{"$f":"Konstanty!$F$2*D91","v":5050},"J/kg",null,null,null,null,null,null,null,"entalpie s.v.",null,"hsv4",{"$f":"Konstanty!$F$2*P91","v":5050},"J/kg",null,null,null,null,null,null,"entalpie s.v.",null,"hsvi",{"$f":"Konstanty!$F$2*AA91","v":9090},"J/kg",null,null,-8,2.6746666666666665,null,null,null,null,null,null,null,null,null,null,null,null,null,null,null,null,null,null,-9,2.6389999999999998]
["entalpie v.p.",null,"hvp4",{"$f":"D101*(Konstanty!$F$3*D91+Konstanty!$F$4)","v":10955.261283507112},"J/kg",null,null,null,null,null,null,null,"entalpie v.p.",null,"hvp4",{"$f":"P101*(Konstanty!$F$3*P91+Konstanty!$F$4)","v":10955.261283507112},"J/kg",null,null,null,null,null,null,"entalpie v.p.",null,"hvpi",{"$f":"$AA$76*(Konstanty!$F$3*AA91+Konstanty!$F$4)","v":18311.904271787756},"J/kg",null,null,-7,2.7103333333333333,null,null,null,null,null,null,null,null,null,null,null,null,null,null,null,null,null,null,-8,2.6746666666666665]
["entalpie ",null,"h4",{"$f":"D93+D94","v":16005.261283507112},"J/kg",null,null,null,null,null,null,null,"entalpie ",null,"h4",{"$f":"P93+P94","v":16005.261283507112},"J/kg",null,null,null,null,null,null,"entalpie ",null,"hi",{"$f":"AA93+AA94","v":27401.904271787756},"J/kg",null,null,-6,2.746,null,null,null,null,null,null,null,null,null,null,null,null,null,null,null,null,null,null,-7,2.7103333333333333]
[null,null,null,{"$f":"D95/1000","v":16.005261283507114},"kJ/kg",null,null,null,null,null,null,null,null,null,null,{"$f":"P95/1000","v":16.005261283507114},"kJ/kg",null,null,null,null,null,null,null,null,null,{"$f":"AA95/1000","v":27.401904271787757},"kJ/kg",null,null,-5,2.7816666666666667,null,null,null,null,null,null,null,null,null,null,null,null,null,null,null,null,null,null,-6,2.746]
["tlak nasycené vodní páry",null,"p''vp4",{"$f":"Konstanty!$F$12^((1500.3+23.5*D91)/(234+D91))","v":870.47379631007118},"Pa",null,null,null,null,null,null,null,"tlak nasycené vodní páry",null,"p''vp4",{"$f":"Konstanty!$F$12^((1500.3+23.5*P91)/(234+P91))","v":870.47379631007118},"Pa",null,null,null,null,null,null,"tlak nasycené vodní páry",null,"p''vpi",{"$f":"Konstanty!$F$12^((1500.3+23.5*AA91)/(234+AA91))","v":1146.4717300807256},"Pa",null,null,-4,2.8173333333333335,null,null,null,null,null,null,null,null,null,null,null,null,null,null,null,null,null,null,-5,2.7816666666666667]
["tlak  vodní páry",null,"pvp4",{"$f":"(D92/100)*D97","v":687.69570951526896},"Pa",null,null,null,null,null,null,null,"tlak  vodní páry",null,"pvp4",{"$f":"(P92/100)*P97","v":687.69570951526896},"Pa",null,null,null,null,null,null,"tlak  vodní páry",null,"pvpi",{"$f":"(AA92/100)*AA97","v":1146.4717300807256},"Pa",null,null,-3,2.8529999999999998,null,null,null,null,null,null,null,null,null,null,null,null,null,null,null,null,null,null,-4,2.8173333333333335]
["tlak suchého vzduchu",null,"psv4",{"$f":"D103*Konstanty!$F$5*(D91+273.15)","v":97971.404333100014},"Pa",null,null,null,null,null,null,null,"tlak suchého vzduchu",null,"psv4",{"$f":"P103*Konstanty!$F$5*(P91+273.15)","v":97971.404333100014},"Pa",null,null,null,null,null,null,"tlak suchého vzduchu",null,"psvi",{"$f":"AA103*Konstanty!$F$5*(AA91+273.15)","v":98003.397392999992},"Pa",null,null,-2,2.8886666666666665,null,null,null,null,null,null,null,null,null,null,null,null,null,null,null,null,null,null,-3,2.8529999999999998]
["tlak směsi vlhkého vzduchu",null,"p4",{"$f":"D98+D99","v":98659.10004261529},"Pa",null,null,null,null,null,null,null,"tlak směsi vlhkého vzduchu",null,"p4",{"$f":"P98+P99","v":98659.10004261529},"Pa",null,null,null,null,null,null,"tlak směsi vlhkého vzduchu",null,"pi",{"$f":"AA98+AA99","v":99149.869123080716},"Pa",null,null,-1,2.9243333333333332,null,null,null,null,null,null,null,null,null,null,null,null,null,null,null,null,null,null,-2,2.8886666666666665]
["měrná vlhkost vzduchu",null,"x4",{"$f":"P16","v":4.3660374954197006E-3},"kg/kg s.v.",null,null,null,null,null,null,null,"měrná vlhkost vzduchu",null,"x4",{"$f":"P16","v":4.3660374954197006E-3},"kg/kg s.v.",null,null,null,null,null,null,"měrná vlhkost vzduchu",null,"xi",{"$f":"(Konstanty!$F$5/Konstanty!$F$6)*(AA98/AA99)","v":7.276561763593062E-3},"kg/kg s.v.",null,null,0,2.96,null,null,null,null,null,null,null,null,null,null,null,null,null,null,null,null,null,null,-1,2.9243333333333332]
[null,null,null,{"$f":"D101*1000","v":4.3660374954197003},"g/kg s.v.",null,null,null,null,null,null,null,null,null,null,{"$f":"P101*1000","v":4.3660374954197003},"g/kg s.v.",null,null,null,null,null,null,null,null,null,{"$f":"AA101*1000","v":7.2765617635930617},"g/kg s.v.",null,null,1,2.9956666666666667,null,null,null,null,null,null,null,null,null,null,null,null,null,null,null,null,null,null,0,2.96]
["hustota vzduchu při t",null,null,{"$f":"VLOOKUP(D91,Tabulky!$V$15:$AF$75,9,0)","v":1.2270000000000001},"kg/m3",null,null,null,null,null,null,null,"hustota vzduchu při t",null,null,{"$f":"VLOOKUP(P91,Tabulky!$V$15:$AF$75,9,0)","v":1.2270000000000001},"kg/m3",null,null,null,null,null,null,"hustota vzduchu při t",null,null,{"$f":"VLOOKUP(AA91,Tabulky!$V$15:$AF$75,9,0)","v":1.21},"kg/m3",null,null,2,3.0313333333333334,null,null,null,null,null,null,null,null,null,null,null,null,null,null,null,null,null,null,1,2.9956666666666667]
[null,null,null,null,null,null,null,null,null,null,null,null,null,null,null,null,null,null,null,null,null,null,null,null,null,null,{"$f":"1.395-Teplota*0.004414","v":1.253752},null,null,null,3,3.0670000000000002,null,null,null,null,null,null,null,null,null,null,null,null,null,null,null,null,null,null,2,3.0313333333333334]
["t4'","smíšení vzduchu s exteriérovým",null,null,null,null,null,null,null,null,null,null,"t4'","smíšení vzduchu s exteriérovým",null,null,null,null,null,null,null,null,null,null,null,null,null,null,null,null,4,3.1026666666666665,null,null,null,null,null,null,null,null,null,null,null,null,null,null,null,null,null,null,3,3.0670000000000002]
["Množství čerstvého vzduchu",null,"Včerstv",{"$f":"IF(D91>tvyp,100,$D$86)","v":30},"%",null,null,null,null,null,null,null,"Množství čerstvého vzduchu",null,"Včerstv",{"$f":"IF(P91>tvyp,100,$D$86)","v":30},"%",null,null,null,"A","Ti",{"$f":"J6","v":24},null,"B","tch",{"$f":"AA91","v":9},null,null,null,5,3.1383333333333332,null,null,null,null,null,null,null,null,null,null,null,null,null,null,null,null,null,null,4,3.1026666666666665]
["teplota vzduchu",null,"t4",{"$f":"ROUND(((((D106/100)*D58)*D91+((1-(D106/100))*D58)*tvyp)/D58),0)","v":15},"°C",null,null,null,null,null,null,null,"teplota vzduchu",null,"t4",{"$f":"ROUND(((((P106/100)*P58)*P91+((1-(P106/100))*P58)*tvyp)/P58),0)","v":15},"°C",null,null,null,null,"xi",{"$f":"J16","v":1.0144214643132086E-2},null,null,"xch",{"$f":"AA101","v":7.276561763593062E-3},null,null,null,6,3.1739999999999999,null,null,null,null,null,null,null,null,null,null,null,null,null,null,null,null,null,null,5,3.1383333333333332]
["relativní vlhkost",null,"rh4",{"$f":"(1-(D106/100))*D68+(D106/100)*D92","v":83.211173473682649},"%",null,null,null,null,null,null,null,"relativní vlhkost",null,"rh4",{"$f":"(1-(P106/100))*P68+(P106/100)*P92","v":76.171219752769247},"%",null,null,null,null,"xi",{"$f":"J17","v":10.144214643132086},null,null,"xch",{"$f":"AA102","v":7.2765617635930617},null,null,null,7,3.2096666666666667,null,null,null,null,null,null,null,null,null,"  ",null,null,null,null,null,null,null,null,6,3.1739999999999999]
["entalpie s.v.",null,"hsv4",{"$f":"Konstanty!$F$2*D107","v":15150},"J/kg",null,null,null,null,null,null,null,"entalpie s.v.",null,"hsv4",{"$f":"Konstanty!$F$2*P107","v":15150},"J/kg",null,null,null,null,null,null,null,null,null,null,null,null,null,8,3.2453333333333334,null,null,null,null,null,null,null,null,null,null,null,null,null,null,null,null,null,null,7,3.2096666666666667]
["entalpie v.p.",null,"hvp4",{"$f":"D117*(Konstanty!$F$3*D107+Konstanty!$F$4)","v":22748.399999999998},"J/kg",null,null,null,null,null,null,null,"entalpie v.p.",null,"hvp4",{"$f":"P117*(Konstanty!$F$3*P107+Konstanty!$F$4)","v":20823.80650444646},"J/kg",null,null,null,null,"dx",{"$f":"P62","v":1.5},null,null,null,null,null,null,null,9,3.2810000000000001,null,null,null,null,null,null,null,null,null,null,null,null,null,null,null,null,null,null,8,3.2453333333333334]
["entalpie ",null,"h4",{"$f":"D109+D110","v":37898.399999999994},"J/kg",null,null,null,null,null,null,null,"entalpie ",null,"h4",{"$f":"P109+P110","v":35973.80650444646},"J/kg",null,null,null,null,"th",{"$f":"((W106-AA106)*W108+(AA108-W108)*W106-(W106-AA106)*(W108-W110))/(AA108-W108)","v":16.153862079842494},null,null,null,null,null,null,null,10,3.3166666666666664,null,null,null,null,null,null,null,null,null,null,null,null,null,null,null,null,null,null,9,3.2810000000000001]
[null,null,null,{"$f":"D111/1000","v":37.898399999999995},"kJ/kg",null,null,null,null,null,null,null,null,null,null,{"$f":"P111/1000","v":35.973806504446458},"kJ/kg",null,null,null,null,null,{"$f":"ROUND(W111,0)","v":16},null,null,null,null,null,null,null,11,3.3523333333333332,null,null,null,null,null,null,null,null,null,null,null,null,null,null,null,null,null,null,10,3.3166666666666664]
["tlak nasycené vodní páry",null,"p''vp4",{"$f":"Konstanty!$F$12^((1500.3+23.5*D107)/(234+D107))","v":1704.3922173186882},"Pa",null,null,null,null,null,null,null,"tlak nasycené vodní páry",null,"p''vp4",{"$f":"Konstanty!$F$12^((1500.3+23.5*P107)/(234+P107))","v":1704.3922173186882},"Pa",null,null,null,null,null,null,null,null,null,null,null,null,null,12,3.3879999999999999,null,null,null,null,null,null,null,null,null,null,null,null,null,null,null,null,null,null,11,3.3523333333333332]
["tlak  vodní páry",null,"pvp4",{"$f":"(D108/100)*D113","v":1418.2447646249998},"Pa",null,null,null,null,null,null,null,"tlak  vodní páry",null,"pvp4",{"$f":"(P108/100)*P113","v":1298.2563413029143},"Pa",null,null,null,null,null,null,null,null,null,null,null,null,null,13,3.4236666666666666,null,null,null,null,null,null,null,null,null,null,null,null,null,null,null,null,null,null,12,3.3879999999999999]
["tlak suchého vzduchu",null,"psv4",{"$f":"D119*Konstanty!$F$5*(D107+273.15)","v":98019.544630499993},"Pa",null,null,null,null,null,null,null,"tlak suchého vzduchu",null,"psv4",{"$f":"P119*Konstanty!$F$5*(P107+273.15)","v":98019.544630499993},"Pa",null,null,null,null,null,null,null,null,null,null,null,null,null,14,3.4593333333333334,null,null,null,null,null,null,null,null,null,null,null,null,null,null,null,null,null,null,13,3.4236666666666666]
["tlak směsi vlhkého vzduchu",null,"p4",{"$f":"D114+D115","v":99437.789395124986},"Pa",null,null,null,null,null,null,null,"tlak směsi vlhkého vzduchu",null,"p4",{"$f":"P114+P115","v":99317.800971802906},"Pa",null,null,null,null,null,null,null,null,null,null,null,null,null,15,3.4950000000000001,null,null,null,null,null,null,null,null,null,null,null,null,null,null,null,null,null,null,14,3.4593333333333334]
["měrná vlhkost vzduchu",null,"x4",{"$f":"(Konstanty!$F$5/Konstanty!$F$6)*(D114/D115)","v":8.9999999999999993E-3},"kg/kg s.v.",null,null,null,null,null,null,null,"měrná vlhkost vzduchu",null,"x4",{"$f":"(Konstanty!$F$5/Konstanty!$F$6)*(P114/P115)","v":8.2385688022022716E-3},"kg/kg s.v.",null,null,null,null,null,null,null,null,null,null,null,null,null,16,3.5306666666666668,null,null,null,null,null,null,null,null,null,null,null,null,null,null,null,null,null,null,15,3.4950000000000001]
[null,null,null,{"$f":"D117*1000","v":9},"g/kg s.v.",null,null,null,null,null,null,null,null,null,null,{"$f":"P117*1000","v":8.2385688022022716},"g/kg s.v.",null,null,null,null,null,null,null,null,null,null,null,null,null,17,3.5663333333333331,null,null,null,null,null,null,null,null,null,null,null,null,null,null,null,null,null,null,16,3.5306666666666668]
["hustota vzduchu při t",null,null,{"$f":"VLOOKUP(D107,Tabulky!$V$15:$AF$75,9,0)","v":1.1850000000000001},"kg/m3",null,null,null,null,null,null,null,"hustota vzduchu při t",null,null,{"$f":"VLOOKUP(P107,Tabulky!$V$15:$AF$75,9,0)","v":1.1850000000000001},"kg/m3",null,null,null,null,null,null,null,null,null,null,null,null,null,18,3.6019999999999999,null,null,null,null,null,null,null,null,null,null,null,null,null,null,null,null,null,null,17,3.5663333333333331]
[null,null,null,null,null,null,null,null,null,null,null,null,null,null,null,null,null,null,null,null,null,null,null,null,null,null,null,null,null,null,19,3.6376666666666666,null,null,null,null,null,null,null,null,null,null,null,null,null,null,null,null,null,null,18,3.6019999999999999]
["množství tepla na kondenzátoru",null,"Qk",{"$f":"AH69","v":150103.4296423652},"W",null,null,"přepočet mw na msv",{"$f":"(D58*D119)/(1+D117)","v":4.047362194166964},"m3/s",null,null,"množství tepla na kondenzátoru",null,"Qk",{"$f":"BB70","v":56763.692798437383},"W",null,null,null,null,null,null,null,null,null,null,null,null,null,20,3.6733333333333333,null,null,null,null,null,null,null,null,null,null,null,null,null,null,null,null,null,null,19,3.6376666666666666]
["Požadované teplo na dohřev",null,"Qpož",{"$f":"(D134-D107)*Konstanty!F2*D119*I121+D88","v":92037.623399685894},"W",null,null,null,null,null,null,null,"Požadované teplo na dohřev",null,null,{"$f":"(P134-P107)*Konstanty!$F$2*P119*P58","v":28808.354677037572},"W",null,null,null,null,null,null,null,null,null,null,null,null,null,21,3.7090000000000001,null,null,null,null,null,null,null,null,null,null,null,null,null,null,null,null,null,null,20,3.6733333333333333]
["dosažená teplota",null,"t6",{"$f":"D121/(D58*D119*Konstanty!$F$2)+D107","v":51.392006772337446},"°C",null,null,null,null,null,null,null,"dosažená teplota",null,"t6",{"$f":"P121/(P58*P119*Konstanty!$F$2)+P107","v":52.437409225941117},"°C",null,null,null,null,null,null,null,null,null,null,null,null,null,22,3.7446666666666664,null,null,null,null,null,null,null,null,null,null,null,null,null,null,null,null,null,null,21,3.7090000000000001]
["potřeba dohřevu",null,"Qdohř",{"$f":"IF((D122-D121)>0,D122-D121,0)","v":0},"W",null,null,null,null,null,null,null,"potřeba dohřevu",null,"Qdohř",{"$f":"IF((P122-P121)>0,P122-P121,0)","v":0},"W",null,null,null,null,null,null,null,null,null,null,null,null,null,23,3.7803333333333331,null,null,null,null,null,null,null,null,null,null,null,null,null,null,null,null,null,null,22,3.7446666666666664]
["přebytečné teplo",null,"Qpřebyt",{"$f":"IF((D122-D121)<0,D121-D122,0)","v":58065.806242679304},"W",null,null,null,null,null,null,null,"přebytečné teplo",null,"Qpřebyt",{"$f":"IF((P122-P121)<0,P121-P122,0)","v":27955.338121399811},"W",null,null,null,null,null,null,null,null,null,null,null,null,null,24,3.8159999999999998,null,null,null,null,null,null,null,null,null,null,null,null,null,null,null,null,null,null,23,3.7803333333333331]
[null,null,null,null,null,null,null,null,null,null,null,null,null,null,null,null,null,null,null,null,null,null,null,null,null,null,null,null,null,null,25,3.8516666666666666,null,null,null,null,null,null,null,null,null,null,null,null,null,null,null,null,null,null,24,3.8159999999999998]
[null,null,null,null,null,null,null,null,null,null,null,null,null,null,null,null,null,null,null,null,null,null,null,null,null,null,null,null,null,null,26,3.8873333333333333,null,null,null,null,null,null,null,null,null,null,null,null,null,null,null,null,null,null,25,3.8516666666666666]
["teplota zvýšení do int",null,"tzv",{"$f":"Vypocet!D128","v":2},"°C ",null,null,null,null,null,null,null,null,"teplota zvýšení do int","tzv",{"$f":"Vypocet!P128","v":2},"°C ",null,null,null,null,null,null,null,null,null,null,null,null,null,27,3.923,null,null,null,null,null,null,null,null,null,null,null,null,null,null,null,null,null,null,26,3.8873333333333333]
["teplotní spád kondenzatoru",null,"Δt",{"$f":"Vypocet!D129","v":0},"°C ",null,null,null,null,null,null,null,null,"teplotní spád kondenzatoru","Δt",{"$f":"Vypocet!P129","v":0},"°C ",null,null,null,null,null,null,null,null,null,null,null,null,null,28,3.9586666666666668,null,null,null,null,null,null,null,null,null,null,null,null,null,null,null,null,null,null,27,3.923]
["teplota kondenzatoru",null,"tohř",{"$f":"Vypocet!D130","v":0},"°C ",null,null,null,null,null,null,null,null,"teplota kondenzatoru","tohř",{"$f":"Vypocet!P130","v":0},"°C ",null,null,null,null,null,null,null,null,null,null,null,null,null,29,3.9943333333333335,null,null,null,null,null,null,null,null,null,null,null,null,null,null,null,null,null,null,28,3.9586666666666668]
["relativní vlhkost",null,"rhohř",{"$f":"Vypocet!D131","v":0},"%",null,null,null,null,null,null,null,null,"relativní vlhkost","rhohř",{"$f":"Vypocet!P131","v":0},"%",null,null,null,null,null,null,null,null,null,null,null,null,null,30,4.03,null,null,null,null,null,null,null,null,null,null,null,null,null,null,null,null,null,null,29,3.9943333333333335]
[null,null,null,null,null,null,null,null,null,null,null,null,null,null,null,null,null,null,null,null,null,null,null,null,null,null,null,null,null,null,31,4.065666666666667,null,null,null,null,null,null,null,null,null,null,null,null,null,null,null,null,null,null,30,4.03]
["t5","parametry vyduchu za kondenzátorem",null,null,null,null,null,null,null,null,null,null,"t5","parametry vyduchu za kondenzátorem",null,null,null,null,null,null,null,null,null,null,null,null,null,null,null,null,32,4.1013333333333328]
["požadovaná teplotateplota do I",null,"t5",{"$f":"Teplota+D128","v":34},"°C",null,null,null,null,null,null,null,"požadovaná teplota do I",null,"t5",{"$f":"Teplota+P128","v":34},"°C",null,null,null,null,null,null,null,null,null,null,null,null,null,33,4.1370000000000005]
["dosažená teplota",null,"tdos",{"$f":"D123","v":51.392006772337446},"°C",null,null,null,null,null,null,null,"dosažená teplota",null,"t6",{"$f":"P123","v":52.437409225941117},null,null,null,null,null,null,null,null,null,null,null,null,null,null,34,4.1726666666666663]
[null,null,null,null,null,null,null,null,null,null,null,null,null,null,null,null,null,null,null,null,null,null,null,null,null,null,null,null,null,null,35,4.208333333333333]
["relativní vlhkost",null,"rh5",{"$f":"((D146*D116)/(D142*(0.622+D146)))*100","v":26.652921897467369},"%",null,null,null,null,null,null,null,"relativní vlhkost",null,"rh5",{"$f":"((P146*P116)/(P142*(0.622+P146)))*100","v":24.397993225645422},"%"]
["entalpie s.v.",null,"hsv5",{"$f":"Konstanty!$F$2*D134","v":34340},"J/kg",null,null,null,null,null,null,null,"entalpie s.v.",null,"hsv5",{"$f":"Konstanty!$F$2*P134","v":34340},"J/kg"]
["entalpie v.p.",null,"hvp5",{"$f":"D146*(Konstanty!$F$3*D134+Konstanty!$F$4)","v":23063.039999999997},"J/kg",null,null,null,null,null,null,null,"entalpie v.p.",null,"hvp5",{"$f":"P146*(Konstanty!$F$3*P134+Konstanty!$F$4)","v":21111.826869771452},"J/kg"]
["entalpie ",null,"h5",{"$f":"D138+D139","v":57403.039999999994},"J/kg",null,null,null,null,null,null,null,"entalpie ",null,"h5",{"$f":"P138+P139","v":55451.826869771452},"J/kg"]
[null,null,null,{"$f":"D140/1000","v":57.40303999999999},"kJ/kg",null,null,null,null,null,null,null,null,null,null,{"$f":"P140/1000","v":55.451826869771452},"kJ/kg"]
["tlak nasycené vodní páry",null,"p''vp5",{"$f":"Konstanty!$F$12^((1500.3+23.5*D134)/(234+D134))","v":5321.3250022529974},"Pa",null,null,null,null,null,null,null,"tlak nasycené vodní páry",null,"p''vp5",{"$f":"Konstanty!$F$12^((1500.3+23.5*P134)/(234+P134))","v":5321.3250022529974},"Pa",null,null,null,null,null,null,null,null,null,null,null,null,null,"dt vyp"]
["tlak  vodní páry",null,"pvp5",{"$f":"(D137/100)*D142","v":1418.2885967608952},"Pa",null,null,null,null,null,null,null,"tlak  vodní páry",null,"pvp5",{"$f":"(P137/100)*P142","v":1298.2965135642623},"Pa",null,null,null,null,null,null,null,null,null,null,null,null,null,2]
["tlak suchého vzduchu",null,"psv5",{"$f":"D148*Konstanty!$F$5*(D134+273.15)","v":97958.084656299994},"Pa",null,null,null,null,null,null,null,"tlak suchého vzduchu",null,"psv5",{"$f":"Konstanty!$F$8*Konstanty!$F$5*(P134+273.15)","v":108009.58929249999},"Pa",null,null,null,null,null,null,null,null,null,null,null,null,null,3]
["tlak směsi vlhkého vzduchu",null,"p5",{"$f":"D143+D144","v":99376.373253060883},"Pa",null,null,null,null,null,null,null,"tlak směsi vlhkého vzduchu",null,"p5",{"$f":"P143+P144","v":109307.88580606425},"Pa",null,null,null,null,null,null,null,null,null,null,null,null,null,4]
["měrná vlhkost vzduchu",null,"x5",{"$f":"D117","v":8.9999999999999993E-3},"kg/kg s.v.",null,null,null,null,null,null,null,"měrná vlhkost vzduchu",null,"x5",{"$f":"P117","v":8.2385688022022716E-3},"kg/kg s.v.",null,null,null,null,null,null,null,null,null,null,null,null,null,5]
[null,null,null,{"$f":"D146*1000","v":9},"g/kg s.v.",null,null,null,null,null,null,null,null,null,null,{"$f":"P146*1000","v":8.2385688022022716},"g/kg s.v.",null,null,null,null,null,null,null,null,null,null,null,null,null,6,{"$f":"D124","v":0}]
["hustota vzduchu při t",null,null,{"$f":"VLOOKUP(D134,Tabulky!$V$15:$AF$75,9,0)","v":1.111},"kg/m3",null,null,null,null,null,null,null,"hustota vzduchu při t",null,null,{"$f":"VLOOKUP(P134,Tabulky!$V$15:$AF$75,9,0)","v":1.111},"kg/m3",null,null,null,null,null,null,null,null,null,null,null,null,null,7]
[null,null,null,null,null,null,null,null,null,null,null,null,null,null,null,null,null,null,null,null,null,null,null,null,null,null,null,null,null,null,8]
["navlhčení z prostoru",null,null,null,null,null,null,null,null,null,null,null,"navlhčení z prostoru",null,null,null,null,null,null,null,null,null,null,null,null,null,null,null,null,null,9]
["dx=n.100/V.ρ",null,"dx",{"$f":"(D33*100)/D57*Konstanty!$F$8","v":0.59243396843461305},"g/kg s.v",null,null,null,null,null,null,null,"dx=n.100/V.ρ",null,"dx",{"$f":"(P30*100)/P57*Konstanty!$F$8","v":5.3720302982114262E-2},"g/kg s.v",null,null,null,null,null,null,null,null,null,null,null,null,null,10]
[null,null,null,null,null,null,null,null,null,null,null,null,null,null,null,null,null,null,null,null,null,null,null,null,null,null,null,null,null,null,11]
["NUTNÉ vzduch privlhčit",null,null,null,null,null,null,null,null,null,null,null,"NUTNÉ vzduch privlhčit",null,null,null,null,null,null,null,null,null,null,null,null,null,null,null,null,null,12]
[null,null,null,null,null,null,null,null,null,null,null,null,null,null,null,null,null,null,null,null,null,null,null,null,null,null,null,null,null,null,13]
[null,null,null,null,null,null,null,null,null,null,null,null,null,null,null,null,null,null,null,null,null,null,null,null,null,null,null,null,null,null,14]
[null,null,null,null,null,null,null,null,null,null,null,null,null,null,null,null,null,null,null,null,null,null,null,null,null,null,null,null,null,null,15]

{"sheet":"V6","index":5,"n_rows":156,"n_cols":63,"rows_kept":156,"cut":false,"hidden":false,"merged":[[59,6,59,7],[4,15,4,18],[26,3,26,6],[27,3,27,6],[33,6,33,7],[40,6,40,7]]}
[null,"Legenda",null,null,"hodnotu nutno zadat",null,null,null,null,"prevzato z první "]
[null,null,null,null,"hodnota se vypočítává "]
[null,null,null,null,"pomocná hodnota"]
["Parametry vzduchu",null,null,null,null,null,"interier klidovy rezim ",null,null,null,null,null,null,null,null,null,null,null,null,null,"Produkce tepla od",null,null,"ni",{"$f":"0.85*Y5+0.75*Y6+Y7","v":60.5},null,null,"Qi=ni.6,2*(36-ti)"]
["Interiér","ti",null,null,null,null,"Interiér","ti",null,null,null,null,"Exteriér","te",null,"minimální teplota -15 (tabulka) ",null,null,null,null,"lidí",{"$f":"Y4*6.2*(36-Teplota)","v":1500.4},"W","nz",{"$f":"Vypocet!Y5","v":30},"zeny",null,"ni=0,85nz+0,75nd+nm"]
["teplota",null,"ti",{"$f":"[0]!Teplota","v":32},"°C",null,"teplota",null,"ti",{"$f":"Vypocet!J6","v":24},"°C",null,"teplota",null,"te",{"$f":"CEILING(Vypocet!P6+20,5)","v":10},"°C",null,null,null,null,null,null,"nd ",{"$f":"Vypocet!Y6","v":20},"deti",null,"nz - zeny, nd deti, nm muzi"]
["relativní vlhkost",null,"rhi",{"$f":"Vypocet!D7","v":60},"%",null,"relativní vlhkost",null,"rhi",{"$f":"Vypocet!J7","v":55},"%",null,"relativní vlhkost",null,"rhe",{"$f":"ROUND((93*te-3153.5)/(te-39.17),0)","v":76},"%",null,null,null,null,null,null,"nm",{"$f":"Vypocet!Y7","v":20},"muzi"]
["entalpie s.v.",null,"hsvi",{"$f":"Konstanty!$F$2*Teplota","v":32320},"J/kg",null,"entalpie s.v.",null,"hsvi",{"$f":"Konstanty!$F$2*J6","v":24240},"J/kg",null,"entalpie s.v.",null,"hsve",{"$f":"Konstanty!$F$2*te","v":10100},"J/kg"]
["entalpie v.p.",null,"hvpi",{"$f":"$D$16*(Konstanty!$F$3*Teplota+Konstanty!$F$4)","v":46343.062700276656},"J/kg",null,"entalpie v.p.",null,"hvpi",{"$f":"$D$16*(Konstanty!$F$3*J6+Konstanty!$F$4)","v":46076.473456956111},"J/kg",null,"entalpie v.p.",null,"hvpe",{"$f":"P16*(Konstanty!F3*P6+Konstanty!F4)","v":14895.505357432119},"J/kg",null,null,null,"Odpar z povrchů"]
["entalpie ",null,"hi",{"$f":"D8+D9","v":78663.062700276656},"J/kg",null,"entalpie ",null,"hi",{"$f":"J8+J9","v":70316.473456956111},"J/kg",null,"entalpie ",null,"he",{"$f":"IF(P8<0,P9-P8,P8+P9)","v":24995.505357432121},"J/kg",null,null,null,null,null,null,null,null,null,null,"(7+3,5*w)*S*(xp´´-x).10-3"]
[null,null,null,{"$f":"D10/1000","v":78.663062700276654},"kJ/kg",null,null,null,null,{"$f":"J10/1000","v":70.316473456956118},"kJ/kg",null,null,null,null,{"$f":"P10/1000","v":24.995505357432123},"kJ/kg",null,null,null,null,null,null,null,null,null,null,"w stredni rychlost vzduchu"]
["tlak nasycené vodní páry",null,"p''vpi",{"$f":"Konstanty!$F$12^((1500.3+23.5*D6)/(234+D6))","v":4756.6229589957475},"Pa",null,"tlak nasycené vodní páry",null,"p''vpi",{"$f":"Konstanty!$F$12^((1500.3+23.5*J6)/(234+J6))","v":2984.4262331760842},"Pa",null,"tlak nasycené vodní páry",null,"p''vpe",{"$f":"Konstanty!$F$12^((1500.3+23.5*P6)/(234+P6))","v":1226.457541965143},"Pa",null,{"$f":"2.718^(28.926-(6148/(273.15+te)))","v":1356.1147335657952},null,null,null,null,null,null,null,null,"xp´´-merna vlhkost nasyceneho vzduchu"]
["tlak  vodní páry",null,"pvpi",{"$f":"(D7/100)*D12","v":2853.9737753974482},"Pa",null,"tlak  vodní páry",null,"pvpi",{"$f":"(J7/100)*J12","v":1641.4344282468464},"Pa",null,"tlak  vodní páry",null,"pvpe",{"$f":"(P7/100)*P12","v":932.10773189350869},"Pa",null,null,null,null,null,null,null,null,null,null,"x - merna vlhkost vzduchu nad povrchem "]
["tlak suchého vzduchu",null,"psvi",{"$f":"D18*Konstanty!$F$5*(Teplota+273.15)","v":98021.008646699993},"Pa",null,"tlak suchého vzduchu",null,"psvi",{"$f":"J18*Konstanty!$F$5*(Teplota+273.15)","v":100648.9177257},"Pa",null,"tlak suchého vzduchu",null,"psve",{"$f":"P18*Konstanty!F5*(P6+273.15)","v":98025.61599179999},"Pa",null,null,null,null,null,null,null,null,null,null,"S plocha"]
["tlak směsi vlhkého vzduchu",null,"pi",{"$f":"D13+D14","v":100874.98242209744},"Pa",null,"tlak směsi vlhkého vzduchu",null,"pi",{"$f":"J13+J14","v":102290.35215394685},"Pa",null,"tlak směsi vlhkého vzduchu",null,"pe",{"$f":"P13+P14","v":98957.723723693503},"Pa"]
["měrná vlhkost vzduchu",null,"xi",{"$f":"(Konstanty!$F$5/Konstanty!$F$6)*(D13/D14)","v":1.8110682290797792E-2},"kg/kg s.v.",null,"měrná vlhkost vzduchu",null,"xi",{"$f":"(Konstanty!$F$5/Konstanty!$F$6)*(J13/J14)","v":1.0144214643132086E-2},"kg/kg s.v.",null,"měrná vlhkost vzduchu",null,"xe",{"$f":"(Konstanty!F5/Konstanty!F6)*(P13/P14)","v":5.9146701705178363E-3},"kg/kg s.v."]
[null,null,null,{"$f":"D16*1000","v":18.11068229079779},"g/kg s.v.",null,null,null,null,{"$f":"J16*1000","v":10.144214643132086},"g/kg s.v.",null,null,null,null,{"$f":"P16*1000","v":5.9146701705178364},"g/kg s.v."]
["hustota vzduchu při t",null,null,{"$f":"VLOOKUP(Teplota,Tabulky!$V$15:$AF$75,9,0)","v":1.119},"kg/m3",null,"hustota vzduchu při t",null,null,{"$f":"VLOOKUP(J6,Tabulky!V15:AF75,9,0)","v":1.149},"kg/m3",null,"hustota vzduchu při t",null,null,{"$f":"VLOOKUP(te,Tabulky!V15:AF75,9,0)","v":1.206},"kg/m3"]
[null,null,null,{"$f":"1.395-Teplota*0.004414","v":1.253752}]
["Bazén",null,null,null,null,null,null,null,"rozměry bazénu"]
["Teplota vody",null,"tsniz",{"$f":"Vypocet!D21","v":2},"°C","snížení teploty vody (dop 2-3°C)",null,null,"délka bazén","a",{"$f":"Vypocet!K21","v":25},"m"]
["tvz-(2-3)°C",null,"tvod",{"$f":"D6-D21","v":30},"°C",null,null,null,"šířka bazén","b",{"$f":"Vypocet!K22","v":12},"m"]
[]
["Mn. odpařené vody"]
["mw=ε*A*(p´´vp-pvp)",null,"mw",{"$f":"D28*$D$29*($D$12/100-$D$13/100)","v":114158.95101589795},"g/h"]
[null,null,null,{"$f":"D25/1000","v":114.15895101589796},"kg/h",null,null,null,"budova"]
["typ bazenu",null,null,{"$f":"Vypocet!AH47","v":"bazény - normální provoz"},null,null,null,null,"délka","a",{"$f":"Vypocet!K27","v":40},"m"]
["mnozstvi odp vody",null,null,{"$f":"VLOOKUP(D27,Tab_souc_odparu_bazen,7,0)","v":20},null,null,null,"[g/(hPa.m2.h)]","šířka","b",{"$f":"Vypocet!K28","v":15},"m"]
["plocha bazénu",null,"A",{"$f":"K21*K22","v":300},"m2",null,null,null,"výška","v",{"$f":"Vypocet!K29","v":7},"m","Produkce vlhkosti osobami - klidový režim"]
["Objem haly",null,"V",{"$f":"K27*K28*K29","v":4200},"m3",null,null,null,null,null,null,null,"počet osob v bazénu",null,"nos",{"$f":"Vypocet!P30","v":2}]
[null,null,null,null,null,null,null,null,null,null,null,null,"množství vlhkosti",null,"mos",{"$f":"P30*100","v":200},"g/h"]
["Produkce vlhkosti osobami - v provozu",null,null,null,null,null,null,null,null,null,null,null,null,null,null,{"$f":"P31/1000","v":0.2},"kg/h",null,null,null,null,null,null,null,null,null,null,null,null,null,"Výkon na kondenzátoru",null,null,null,"Qk",{"$f":"AH69","v":192519.648465045},"W"]
["počet osob v bazénu",null,"nos",{"$f":"Vypocet!D33","v":60},"počet",null,"Produkce vlhkosti člověkem",null,null,null,null,null,null,null,null,{"$f":"P31/3600","v":5.5555555555555552E-2},"g/s",null,null,null,null,null,null,null,null,null,null,null,null,null,null,null,null,null,null,{"$f":"AH70","v":192.51964846504501},"kW"]
["množství vlhkosti",null,"mos",{"$f":"D33*H35","v":6300},"g/h",null,{"$f":"Vypocet!AH50","v":"člověk při středně těžké práci"},null,null,null,null,null,null,null,null,null,null,null,null,null,null,null,null,null,null,null,null,null,null,null,"Teplota požadovaná v interiéru",null,null,null,"ti",{"$f":"Teplota","v":32},"°C"]
[null,null,null,{"$f":"D34/1000","v":6.3},"kg/h",null,{"$f":"VLOOKUP(G34,Tabulky!W146:Z148,4,0)","v":"60-150"},{"$f":"IF(G35=\"60-150\",105,IF(G35=\"30-60\",45,225))","v":105},"g/h",null,null,null,"Produkce vlhkosti  - klidový režim",null,null,null,null,null,null,null,null,null,null,null,null,null,null,null,null,null,null,null,null,null,null,null,null,null,null,null,null,null,null,null,null,null,null,null,null,null,"Výkon na kondenzátoru",null,null,null,"Qk",{"$f":"BB70","v":56763.692798437383},"W"]
[null,null,null,{"$f":"D34/3600","v":1.75},"g/s",null,"rozmezí","průměr",null,null,null,"množství odpařené vody",null,null,"mw",{"$f":"Tabulky!$G$4*$D$29*($D$12/100-$D$13/100)","v":28539.737753974488},"g/h",null,null,null,null,null,null,null,null,null,null,null,null,null,null,null,null,null,null,null,null,null,null,null,null,null,null,null,null,null,null,null,null,null,null,null,null,null,null,{"$f":"BB71","v":56.763692798437383},"kW"]
["celkové množství odpařené vody",null,null,{"$f":"(D25+D34)*(I37/100+1)","v":126481.89856669286},"g/h",null,null,"korekce ",{"$f":"Vypocet!I37","v":5},"%",null,null,"celkové množství odpařené vody",null,null,{"$f":"(P36+P31)*(I37/100+1)","v":30176.724641673216},"g/h",null,null,null,null,null,null,null,null,null,null,null,null,null,null,null,null,null,null,null,null,null,null,null,null,null,null,null,null,null,null,null,null,null,"Teplota požadovaná v interiéru",null,null,null,"ti",{"$f":"J6","v":24},"°C"]
["Dimenzování průtoku vzduchu bazénové větrací jednotky pro zátěž",null,null,null,null,null,null,null,null,null,null,null,"Dimenzování průtoku vzduchu bazénové větrací jednotky pro klidový režim"]
["z množství odpařené vody",null,null,null,null,null,null,null,null,null,null,null,"z množství odpařené vody"]
["požadovaná vlhkost přiváděná",null,"xpoz",{"$f":"Vypocet!D40","v":9},"g/kg",null,"doporučená hodnota 8-10 g/kg",null,null,null,null,null,"požadovaná vlhkost přiváděná",null,"xpoz",{"$f":"Vypocet!P40","v":9},"g/kg",null,"doporučená hodnota 8-10 g/kg"]
[null,null,"V1",{"$f":"(D37)/(D18*(D17-D40))","v":12406.445935942682},"m3/h",null," ",null,{"$f":"D147","v":8.9999999999999982},"g/kg s.v.",null,null,null,null,"V1",{"$f":"(P36+P31)/(Konstanty!$F$8*(J17-5))","v":4560.6593112769815},"m3/h"]
["z objemu haly",null,null,null,null,null,null,null,null,null,null,null,"z objemu haly"]
["výměna vzduchu",null,"n",{"$f":"Vypocet!D43","v":1},"1/h",null,null,null,null,null,null,null,"výměna vzduchu",null,"n",{"$f":"Vypocet!P43","v":1},"1/h"]
["V=n*VH",null,"V2",{"$f":"D30*D43","v":4200},"m3/h",null,null,null,null,null,null,null,"V=n*VH",null,"V2",{"$f":"D30*P43","v":4200},"m3/h"]
["z tepelných zisků"]
[null,"tepelné ztráty","Qzt",{"$f":"Vypocet!D46","v":7},"kW",null,null,"teplotní spád výústky","dt",{"$f":"Vypocet!J46","v":8},"°C"]
[null,"tepelné zisky","Qzisk",{"$f":"Vypocet!D47","v":16},"kW"]
[null,"Množství vzduchu",null,{"$f":"((D47-D46)/J46*Konstanty!$F$2*Konstanty!$F$8)","v":1391.90625},"m3/h"]
[]
["potřeba vzduchu pro osoby",null,null,null,null,null,null,null,null,null,null,null,null,null,null,null,null,null,null,null,null,null,"te","teplota exteriérového vzduchu"]
[null,null,"V2",{"$f":"D33*D52","v":3000},null,null,null,null,null,null,null,null,null,null,null,null,null,null,null,null,null,null,"Qpředehřev","Výkon pro předehřátí vzduchu"]
["množství čerstvého vzduchu/osoba",null,null,{"$f":"Vypocet!D52","v":50},"m3/h/os",null,"doporučená hodnota při zátěži (min hodnota 25m3/h) ",null,null,null,null,null,null,null,null,null,null,null,null,null,null,null,"Qdohřátí","Výkon spotřebovaný na dohřátí vzduchu na požadovanou úroveň"]
[]
["Potřeba čerstvého vzduchu",null,null,{"$f":"IF(MAX(D41,D44,D48)>D51,\"Ne\",\"Ano\")","v":"Ne"},null,null,"nepočítá s tím dál samo! ",null,null,null,null,null,null,null,null,null,null,null,null,null,null,null,null,null,null,null,null,null,null,null,"Teplo odevzdané na výparníku",null,null,null,null,null,"Množství kondenzátu"]
["Množství čerstvého vzduchu",null,null,{"$f":"IF(D54=\"ano\",D51-MAX(D41,D44,D48),0)","v":0},"m3/h",null,"pouze informativní charakter, množství V čerst rozhodne projektant",null,null,null,null,null,null,null,null,null,null,null,null,null,null,null,null,null,null,null,null,null,null,null,"Qv=V*ρ*(hi-h3)",null,"Qv",{"$f":"D81","v":145578.90192772908},"W",null,"mkond = V*ρ*(xi-x3)",null,"mkond",{"$f":"IF(D58*D18*(D16-D77)<0,0,D58*D18*(D16-D77))","v":3.0535279886323156E-2},"kg/s",null,null,null,null,null,null,null,null,null,"Teplo odevzdané na výparníku",null,null,null,null,null,"Množství kondenzátu"]
[null,null,null,null,null,null,null,null,null,null,null,null,null,null,null,null,null,null,null,null,null,null,null,null,null,null,null,null,null,null,null,null,null,{"$f":"AH55/1000","v":145.57890192772908},"kW",null,null,null,null,{"$f":"AN55*1000","v":30.535279886323156},"g/s",null,null,null,null,null,null,null,null,null,"Qv=V*ρ*(hi-h3)",null,"Qv",{"$f":"P81","v":47003.773128829853},"W",null,"mkond = V*ρ*(xi-x3)",null,"mkond",{"$f":"IF(P58*J18*(J16-P77)<0,0,P58*J18*(J16-P77))","v":2.1834156452738541E-3},"kg/s"]
["průtok vzduchu",null,"V",{"$f":"MAX(D41,D44,D48)","v":12406.445935942682},"m3/h",null,null,null,null," ",null,null,"průtok vzduchu",null,"V",{"$f":"MAX(P41,P44)","v":4560.6593112769815},"m3/h",null,null,null,null,null,null,null,null,null,null,null,null,null,null,null,null,null,null,null,null,null,null,{"$f":"AN55*3600","v":109.92700759076337},"kg/h",null,null,null,null,null,null,null,null,null,null,null,null,{"$f":"BB56/1000","v":47.003773128829856},"kW",null,null,null,null,{"$f":"BH56*1000","v":2.183415645273854},"g/s"]
[null,null,"V",{"$f":"D57/3600","v":3.4462349822063003},"m3/s",null,null,null,null,null,null,null,null,null,"V",{"$f":"P57/3600","v":1.2668498086880504},"m3/s",null,null,null,null,null,null,null,null,null,null,null,null,null,"Tepelné čerpadlo (TČ)",null,null,null,"typ TČ",null,null,null,null,null,null,null,null,null,null,null,null,null,null,null,null,null,null,null,null,null,null,null,null,{"$f":"BH56*3600","v":7.8602963229858744},"kg/h"]
[null,null,null,null,null,null,null,null,null,null,null,null,null,null,null,null,null,null,null,null,null,null,null,null,null,null,null,null,null,null,"Topný faktor TČ",null,"COP",{"$f":"VLOOKUP(Teplota,'V6'!AE83:AF136,2,0)","v":4.1013333333333328},"Alfa S Duo",null,null,null,null,null,null,null,null,null,null,null,null,null,null,null,"Tepelné čerpadlo (TČ)",null,null,null,"typ TČ"]
["množství odebrané měrné vlh",null,"Δx",7.9182084763652885,"g/kg s.v",null,"vstupní měrná  vlhkost do int",null,"xvyst",{"$f":"D147","v":8.9999999999999982},"g/kg s.v.",null,null,null,null,null,null,null,null,null,null,null,null,null,null,null,null,null,null,null,null,null,null,null,null,null,null,null,null,null,null,null,null,null,null,null,null,null,null,null,"Topný faktor TČ",null,"COP",{"$f":"VLOOKUP(J6,'V6'!AY84:AZ132,2,0)","v":3.8159999999999998},"Alfa S Duo"]
["teplota chladiče",null,"tch",{"$f":"Vypocet!D61","v":9},"°C ",null,null,null,null,null,null,null,null,null,null,null,null,null,null,null,null,null,null,null,null,null,null,null,null,null,"Tepelná bilance TČ"]
["relativní vlhkost",null,"rhch",{"$f":"Vypocet!D62","v":100},"%",null,null,null,null,null,null,null,"množství odebrané měrné vlh",null,"Δx",{"$f":"Vypocet!P60","v":1.5},"g/kg s.v.",null,null,null,null,null,null,null,null,null,null,null,null,null,"Qk=Pel+Qv",null,null,null,null,null,null,null,null,null,null,null,null,null,null,null,null,null,null,null,"Tepelná bilance TČ"]
[null,null,null,null,null,null,null,null,null,null,null,null,"teplota chladiče",null,"tch",{"$f":"Vypocet!P61","v":9},"°C ",null,null,null,null,null,null,null,null,null,null,null,null,null,"εt = COP","εt = Qv/Pel",null,null,null,null,null,null,null,null,null,null,null,null,null,null,null,null,null,null,"Qk=Pel+Qv"]
[null,null,null,null,null,null,null,null,null,null,null,null,"relativní vlhkost",null,"rhch",{"$f":"Vypocet!P62","v":100},"%",null,null,null,null,null,null,null,null,null,null,null,null,null,"Pel=Qk/(1+Et)",null,null,null,null,null,null,null,null,null,null,null,null,null,null,null,null,null,null,null,"εt = COP","εt = Qv/Pel"]
[null,null,null,null,null,null,null,null,null,null,null,null,null,null,null,null,null,null,null,null,null,null,null,"Parametry chladiče",null,null,null,null,null,null,"Výkon kompresoru",null,"Pet",{"$f":"AH55/(AH59-1)","v":46940.746537315921},"W",null,null,null,null,null,null,null,null,null,null,null,null,null,null,null,"Pel=Qk/(1+Et)"]
["t3","parametry vyduchu za vyparnikem",null,null,null,null,null,null,null,null,null,null,"t3","parametry vyduchu za vyparnikem",null,null,null,null,null,null,null,null,null,"teplota",null,"ti",{"$f":"tch","v":9},"°C",null,null,null,null,null,{"$f":"AH65/1000","v":46.940746537315924},"kW",null,null,null,null,null,null,null,null,null,null,null,null,null,null,null,"Výkon kompresoru",null,"Pet",{"$f":"BB56/(BB60+1)","v":9759.9196696075287},"W"]
["teplota",null,"tvyp",{"$f":"W87","v":15},"°C",null,{"$f":"tvyp-te","v":5},null,null,null,null,null,"teplota",null,"tvyp",{"$f":"W112","v":16},"°C",null,null,null,null,null,null,"relativní vlhkost",null,"rhi",{"$f":"D62","v":100},"%",null,null,"Prikon kompresoru",null,null,{"$f":"AH66/AH59","v":11.445240540632948},"kW",null,null,null,null,null,null,null,null,null,null,null,null,null,null,null,null,null,null,{"$f":"BB66/1000","v":9.7599196696075285},"kW"]
["relativní vlhkost",null,"rh3",{"$f":"IF((D74/D73)*100>100,100,(D74/D73)*100)","v":94.239366458592571},"%",null,null,null,null,null,null,null,"relativní vlhkost",null,"rh3",{"$f":"IF((P74/P73)*100>100,100,(P74/P73)*100)","v":74.957831234168935},"%",null,null,null,null,null,null,"entalpie s.v.",null,"hsvi",{"$f":"Konstanty!$F$2*AA66","v":9090},"J/kg",null,null,"Teplo na kondenzátoru"]
["entalpie s.v.",null,"h3",{"$f":"Konstanty!$F$2*D67","v":15150},"J/kg",null,null,null,null,null,null,null,"entalpie s.v.",null,"h3",{"$f":"Konstanty!$F$2*P67","v":16160},"J/kg",null,null,null,null,null,null,"entalpie v.p.",null,"hvpi",{"$f":"$AA$76*(Konstanty!$F$3*AA66+Konstanty!$F$4)","v":18311.904271787756},"J/kg",null,null,"Výkon na kondenzátoru",null,"Qk",{"$f":"AH65+AH55","v":192519.648465045},"W",null,null,null,null,null,null,null,null,null,null,null,null,null,null,null,"Teplo na kondenzátoru"]
["entalpie v.p.",null,"h3",{"$f":"D77*(Konstanty!$F$3*D67+Konstanty!$F$4)","v":25762.496813359594},"J/kg",null,null,null,null,null,null,null,"entalpie v.p.",null,"h3",{"$f":"P77*(Konstanty!$F$3*P67+Konstanty!$F$4)","v":21865.022286924024},"J/kg",null,null,null,null,null,null,"entalpie ",null,"hi",{"$f":"AA68+AA69","v":27401.904271787756},"J/kg",null,null,null,null,null,{"$f":"AH69/1000","v":192.51964846504501},"kW",null,null,null,null,null,null,null,"  ",null,null,null,null,null,null,null,"Výkon na kondenzátoru",null,"Qk",{"$f":"BB66+BB56","v":56763.692798437383},"W"]
["entalpie ",null,"h3",{"$f":"D69+D70","v":40912.496813359598},"J/kg",null,null,null,null,null,null,null,"entalpie ",null,"h3",{"$f":"P69+P70","v":38025.022286924024},"J/kg",null,null,null,null,null,null,null,null,null,{"$f":"AA70/1000","v":27.401904271787757},"kJ/kg",null,null,null,null,null,null,null,null,null,null,null,null,null,null,null,null,null,null,null,null,null,null,null,null,null,{"$f":"BB70/1000","v":56.763692798437383},"kW",null,null,null,null,null,null,null,"  "]
[null,null,null,{"$f":"D71/1000","v":40.912496813359596},"kJ/kg",null,null,null,null,null,null,null,null,null,null,{"$f":"P71/1000","v":38.025022286924028},"kJ/kg",null,null,null,null,null,null,"tlak nasycené vodní páry",null,"p''vpi",{"$f":"Konstanty!$F$12^((1500.3+23.5*AA66)/(234+AA66))","v":1146.4717300807256},"Pa"]
["tlak nasycené vodní páry",null,"p''vp3",{"$f":"Konstanty!$F$12^((1500.3+23.5*D67)/(234+D67))","v":1704.3922173186882},"Pa",null,null,null,null,null,null,null,"tlak nasycené vodní páry",null,"p''vp3",{"$f":"Konstanty!$F$12^((1500.3+23.5*P67)/(234+P67))","v":1817.4687221052275},"Pa",null,null,null,null,null,null,"tlak  vodní páry",null,"pvpi",{"$f":"(AA67/100)*AA72","v":1146.4717300807256},"Pa",null,null,"Graf topneho faktoru ",null,null,"TnG Air 13, vzduch/voda"]
["tlak  vodní páry",null,"pvp3",{"$f":"(D77*D75)/0.622","v":1606.20842757069},"Pa",null,{"$f":"((G77*D75)/(0.622+G77))/((0.622-G77)/(0.622))","v":0},"přepočet tlaku z x",null,null,null,null,"tlak  vodní páry",null,"pvp3",{"$f":"(P77*P75)/0.622","v":1362.3351374494432},"Pa",null,{"$f":"((S77*P75)/(0.622+S77))/((0.622-S77)/(0.622))","v":1599.161688452117},"přepočet tlaku z x",null,null,null,"tlak suchého vzduchu",null,"psvi",{"$f":"AA78*Konstanty!$F$5*(AA66+273.15)","v":98003.397392999992},"Pa",null,null,null,null,null,null,null,null,null,null,null,null,null,null,null,null,null,null,null,null,null,null,"Graf topneho faktoru ",null,null,"TnG Air 13, vzduch/voda"]
["tlak suchého vzduchu",null,"psv3",{"$f":"D79*Konstanty!$F$5*(D67+273.15)","v":98019.544630499993},"Pa",null,null,null,null,null,null,null,"tlak suchého vzduchu",null,"psv3",{"$f":"P79*Konstanty!$F$5*(P67+273.15)","v":98027.697191300002},"Pa",null,null,null,null,null,null,"tlak směsi vlhkého vzduchu",null,"pi",{"$f":"AA73+AA74","v":99149.869123080716},"Pa",null,null,{"$f":"Vypocet!AE107","v":"teplota"},{"$f":"Vypocet!AF107","v":-18},{"$f":"Vypocet!AG107","v":-15},{"$f":"Vypocet!AH107","v":-10},{"$f":"Vypocet!AI107","v":-5},{"$f":"Vypocet!AJ107","v":0},{"$f":"Vypocet!AK107","v":5},{"$f":"Vypocet!AL107","v":10},{"$f":"Vypocet!AM107","v":15}]
["tlak směsi vlhkého vzduchu",null,"p3",{"$f":"D74+D75","v":99625.753058070681},"Pa",null,null,null,null,null,null,null,"tlak směsi vlhkého vzduchu",null,"p3",{"$f":"P74+P75","v":99390.032328749439},"Pa",null,null,null,null,null,null,"měrná vlhkost vzduchu",null,"xi",{"$f":"(Konstanty!$F$5/Konstanty!$F$6)*(AA73/AA74)","v":7.276561763593062E-3},"kg/kg s.v.",null,null,{"$f":"Vypocet!AE108","v":"vykon"},{"$f":"Vypocet!AF108","v":4.7},{"$f":"Vypocet!AG108","v":5.75},{"$f":"Vypocet!AH108","v":7},{"$f":"Vypocet!AI108","v":8.24},{"$f":"Vypocet!AJ108","v":9.4600000000000009},{"$f":"Vypocet!AK108","v":10.69},{"$f":"Vypocet!AL108","v":11.8},{"$f":"Vypocet!AM108","v":13.1},null,null,null,null,null,null,null,null,null,null,null,{"$f":"Vypocet!AY108","v":"teplota"},{"$f":"Vypocet!AZ108","v":-18},{"$f":"Vypocet!BA108","v":-15},{"$f":"Vypocet!BB108","v":-10},{"$f":"Vypocet!BC108","v":-5},{"$f":"Vypocet!BD108","v":0},{"$f":"Vypocet!BE108","v":5},{"$f":"Vypocet!BF108","v":10},{"$f":"Vypocet!BG108","v":15}]
["měrná vlhkost vzduchu",null,"x3",{"$f":"D16-deltaT/1000","v":1.0192473814432503E-2},"kg/kg s.v.",null,{"$f":"IF(tvyp<D82,0,D16)","v":0},"vezme x z Ti když tvyp<rosny bod",null,null,null,null,"měrná vlhkost vzduchu",null,"x3",{"$f":"J16-P62/1000","v":8.6442146431320865E-3},"kg/kg s.v.",null,{"$f":"IF(tvyp<P82,0,J16)","v":1.0144214643132086E-2},"vezme x z Ti když tvyp<rosny bod",null,null,null,null,null,null,{"$f":"AA76*1000","v":7.2765617635930617},"g/kg s.v.",null,null,{"$f":"Vypocet!AE109","v":"el prikon"},{"$f":"Vypocet!AF109","v":2.2400000000000002},{"$f":"Vypocet!AG109","v":2.4700000000000002},{"$f":"Vypocet!AH109","v":2.72},{"$f":"Vypocet!AI109","v":2.94},{"$f":"Vypocet!AJ109","v":3.2},{"$f":"Vypocet!AK109","v":3.37},{"$f":"Vypocet!AL109","v":3.55},{"$f":"Vypocet!AM109","v":3.85},null,null,null,null,null,null,null,null,null,null,null,{"$f":"Vypocet!AY109","v":"vykon"},{"$f":"Vypocet!AZ109","v":4.7},{"$f":"Vypocet!BA109","v":5.75},{"$f":"Vypocet!BB109","v":7},{"$f":"Vypocet!BC109","v":8.24},{"$f":"Vypocet!BD109","v":9.4600000000000009},{"$f":"Vypocet!BE109","v":10.69},{"$f":"Vypocet!BF109","v":11.8},{"$f":"Vypocet!BG109","v":13.1}]
[null,null,null,{"$f":"D77*1000","v":10.192473814432503},"g/kg s.v.",null,null,null,null,null,null,null,null,null,null,{"$f":"P77*1000","v":8.6442146431320861},"g/kg s.v.",null,null,null,null,null,null,"hustota vzduchu při t",null,null,{"$f":"VLOOKUP(AA66,Tabulky!$V$15:$AF$75,9,0)","v":1.21},"kg/m3",null,null,{"$f":"Vypocet!AE110","v":"COP"},{"$f":"Vypocet!AF110","v":2.1},{"$f":"Vypocet!AG110","v":2.33},{"$f":"Vypocet!AH110","v":2.57},{"$f":"Vypocet!AI110","v":2.8},{"$f":"Vypocet!AJ110","v":2.96},{"$f":"Vypocet!AK110","v":3.17},{"$f":"Vypocet!AL110","v":3.32},{"$f":"Vypocet!AM110","v":3.4},null,null,null,null,null,null,null,null,null,null,null,{"$f":"Vypocet!AY110","v":"el prikon"},{"$f":"Vypocet!AZ110","v":2.2400000000000002},{"$f":"Vypocet!BA110","v":2.4700000000000002},{"$f":"Vypocet!BB110","v":2.72},{"$f":"Vypocet!BC110","v":2.94},{"$f":"Vypocet!BD110","v":3.2},{"$f":"Vypocet!BE110","v":3.37},{"$f":"Vypocet!BF110","v":3.55},{"$f":"Vypocet!BG110","v":3.85}]
["hustota vzduchu při t",null,null,{"$f":"VLOOKUP(tvyp,Tabulky!$V$15:$AF$75,9,0)","v":1.1850000000000001},"kg/m3",null,null,null,null,null,null,null,"hustota vzduchu při t",null,null,{"$f":"VLOOKUP(P67,Tabulky!$V$15:$AF$75,9,0)","v":1.181},"kg/m3",null,null,null,null,null,null,null,null,null,{"$f":"1.395-Teplota*0.004414","v":1.253752},null,null,null,null,null,null,{"$f":"AH78-AG78","v":0.23999999999999977},0.22999999999999998,0.16000000000000014,0.20999999999999996,0.14999999999999991,8.0000000000000071E-2,"průměr",{"$f":"AVERAGE(AG79:AM79)","v":0.17833333333333332},"prumer/1",{"$f":"AO79/5","v":3.5666666666666666E-2},null,null,null,null,null,null,null,{"$f":"Vypocet!AY111","v":"COP"},{"$f":"Vypocet!AZ111","v":2.1},{"$f":"Vypocet!BA111","v":2.33},{"$f":"Vypocet!BB111","v":2.57},{"$f":"Vypocet!BC111","v":2.8},{"$f":"Vypocet!BD111","v":2.96},{"$f":"Vypocet!BE111","v":3.17},{"$f":"Vypocet!BF111","v":3.32},{"$f":"Vypocet!BG111","v":3.4}]
[null,null,null,null,null,null,null,null,null,null,null,null,null,null,null,null,null,null,null,null,null,null,null,null,null,null,null,null,null,null,null,"popis závislosti",null,"y=0,18571x+2,96",null,null,null,null,null,null,null,null,null,null,null,null,null,null,null,null,null,null,null,{"$f":"BB79-BA79","v":0.23999999999999977},0.22999999999999998,0.16000000000000014,0.20999999999999996,0.14999999999999991,8.0000000000000071E-2,"průměr",{"$f":"AVERAGE(BA80:BG80)","v":0.17833333333333332},"prumer/1",{"$f":"BI80/5","v":3.5666666666666666E-2}]
["teplo získané na výparníku",null,"Qv",{"$f":"D58*D18*(D10-D71)","v":145578.90192772908},"W",null,null,null,null,null,null,null,"teplo získané na výparníku",null,"Qv",{"$f":"P58*J18*(J10-P71)","v":47003.773128829853},"W",null,null,null,"A","Ti",{"$f":"Teplota","v":32},null,"B","tch",{"$f":"AA66","v":9},null,null,null,null,null,null,null,null,null,null,null,null,null,null,null,null,null,null,null,null,null,null,null,null,"popis závislosti",null,"y=0,18571x+2,96"]
[null,"rosný bod ",null,{"$f":"(243.5*LN(($D$7/100)*Konstanty!$F$12^((17.67*Teplota)/(243.5+Teplota))))/(17.67-(LN(($D$7/100)*Konstanty!$F$12^((17.67*Teplota)/(243.5+Teplota)))))","v":23.274251871309211},"°C ",null,null,null,null,null,null,null,null,"rosný bod ",null,{"$f":"(243.5*LN((J7/100)*Konstanty!$F$12^((17.67*J6)/(243.5+J6))))/(17.67-(LN((J7/100)*Konstanty!$F$12^((17.67*J6)/(243.5+J6)))))","v":14.413817952855092},"°C ",null,null,null,null,"xi",{"$f":"D16","v":1.8110682290797792E-2},null,null,"xch",{"$f":"AA76","v":7.276561763593062E-3},null,null,null,"teplota","COP",null,-18,2.1]
[null,null,null,null,null,null,null,null,null,null,null,null,null,null,null,null,null,null,null,null,null,"xi",{"$f":"D17","v":18.11068229079779},null,null,"xch",{"$f":"AA77","v":7.2765617635930617},null,null,null,-18,{"$f":"$AQ$79*AE83+$AJ$78","v":2.3180000000000001},null,-15,2.33,null,null,null,null,null,null,null,null,null,null,null,null,null,null,null,"teplota","COP"]
["Distribuce tepla v závislosti na externí teplotě",null,null,null,null,null,null,null,null,null,null,null,null,null,null,null,null,null,null,null,null,null,null,null,null,null,null,null,null,null,-17,2.3536666666666668,null,-10,2.57,null,null,null,null,null,null,null,null,null,null,null,null,null,null,null,-18,{"$f":"$AQ$79*AY84+$AJ$78","v":2.3180000000000001}]
["teplota předehřevu te",null,"tpřed",{"$f":"Vypocet!D85","v":5},"°C",null,null,null,null,null,null,null,null,null,null,null,null,null,null,null,null,"dx",{"$f":"deltaT","v":7.9182084763652885},null,"výpočet teplochy při teplote chladice",null,null,null,null,null,-16,2.3893333333333331,null,-5,2.8,null,null,null,null,null,null,null,null,null,null,null,null,null,null,null,-17,2.3536666666666668]
["množství čerst vzduchu",null,null,{"$f":"Vypocet!D86","v":30},"%",null,null,null,null,null,null,null,null,null,null,null,null,null,null,null,null,"th",{"$f":"((W81-AA81)*W83+(AA83-W83)*W81-(W81-AA81)*(W83-W85))/(AA83-W83)","v":15.190255775805975},null,"počítá s přímkou ti - tch a na ní počítá bod",null,null,null,null,null,-15,2.4249999999999998,null,0,2.96,null,null,null,null,null,null,null,null,null,null,null,null,null,null,null,-16,2.3893333333333331]
["množství předehřívaného vzd",null,null,{"$f":"D58*(D86/100)","v":1.03387049466189},"m3/h",null,null,null,null,null,null,null,null,null,null,null,null,null,null,null,null,null,{"$f":"ROUND(W86,0)","v":15},null,null,null,null,null,null,null,-14,2.4606666666666666,null,5,3.17,null,null,null,null,null,null,null,null,null,null,null,null,null,null,null,-15,2.4249999999999998]
["potřeba tepla na předehřev",null,null,{"$f":"IF(D85>te,((D87*P18)/(1+P16))*(D85-te)*P18*Konstanty!$F$2,0)","v":0},"W",null,null,null,null,null,null,null,null,null,null,null,null,null,null,null,null,null,null,null,null,null,null,null,null,null,-13,2.4963333333333333,null,10,3.32,null,null,null,null,null,null,null,null,null,null,null,null,null,null,null,-14,2.4606666666666666]
[null,null,null,null,null,null,null,null,null,null,null,null,null,null,null,null,null,null,null,null,null,null,null,null,null,null,null,null,null,null,-12,2.532,null,15,3.4,null,null,null,null,null,null,null,null,null,null,null,null,null,null,null,-13,2.4963333333333333]
["t4","Předehřev exteriérového vzduchu",null,null,null,null,null,null,null,null,null,null,"t4","Předehřev exteriérového vzduchu",null,null,null,null,null,null,null,null,null,"Parametry chladiče klidovy rezim",null,null,null,null,null,null,-11,2.5676666666666668,null,null,null,null,null,null,null,null,null,null,null,null,null,null,null,null,null,null,-12,2.532]
["teplota předehřevu",null,"tpředehřev",{"$f":"IF($D$85>te,$D$85,te)","v":10},"°C",null,null,null,null,null,null,null,"teplota předehřevu",null,"tpředehřev",{"$f":"IF($D$85>te,$D$85,te)","v":10},"°C",null,null,null,null,null,null,"teplota",null,"ti",{"$f":"P63","v":9},"°C",null,null,-10,2.6033333333333335,null,null,null,null,null,null,null,null,null,null,null,null,null,null,null,null,null,null,-11,2.5676666666666668]
[null,null,"rhpředehřev",{"$f":"((D101*P15)/(D97*(0.622+D101)))*100","v":76.002360390003133},"%",null,null,null,null,null,null,null,null,null,"rhpředehřev",{"$f":"((P101*P15)/(P97*(0.622+P101)))*100","v":76.002360390003133},"%",null,null,null,null,null,null,"relativní vlhkost",null,"rhi",{"$f":"P64","v":100},"%",null,null,-9,2.6389999999999998,null,null,null,null,null,null,null,null,null,null,null,null,null,null,null,null,null,null,-10,2.6033333333333335]
["entalpie s.v.",null,"hsv4",{"$f":"Konstanty!$F$2*D91","v":10100},"J/kg",null,null,null,null,null,null,null,"entalpie s.v.",null,"hsv4",{"$f":"Konstanty!$F$2*P91","v":10100},"J/kg",null,null,null,null,null,null,"entalpie s.v.",null,"hsvi",{"$f":"Konstanty!$F$2*AA91","v":9090},"J/kg",null,null,-8,2.6746666666666665,null,null,null,null,null,null,null,null,null,null,null,null,null,null,null,null,null,null,-9,2.6389999999999998]
["entalpie v.p.",null,"hvp4",{"$f":"D101*(Konstanty!$F$3*D91+Konstanty!$F$4)","v":14895.505357432119},"J/kg",null,null,null,null,null,null,null,"entalpie v.p.",null,"hvp4",{"$f":"P101*(Konstanty!$F$3*P91+Konstanty!$F$4)","v":14895.505357432119},"J/kg",null,null,null,null,null,null,"entalpie v.p.",null,"hvpi",{"$f":"$AA$76*(Konstanty!$F$3*AA91+Konstanty!$F$4)","v":18311.904271787756},"J/kg",null,null,-7,2.7103333333333333,null,null,null,null,null,null,null,null,null,null,null,null,null,null,null,null,null,null,-8,2.6746666666666665]
["entalpie ",null,"h4",{"$f":"D93+D94","v":24995.505357432121},"J/kg",null,null,null,null,null,null,null,"entalpie ",null,"h4",{"$f":"P93+P94","v":24995.505357432121},"J/kg",null,null,null,null,null,null,"entalpie ",null,"hi",{"$f":"AA93+AA94","v":27401.904271787756},"J/kg",null,null,-6,2.746,null,null,null,null,null,null,null,null,null,null,null,null,null,null,null,null,null,null,-7,2.7103333333333333]
[null,null,null,{"$f":"D95/1000","v":24.995505357432123},"kJ/kg",null,null,null,null,null,null,null,null,null,null,{"$f":"P95/1000","v":24.995505357432123},"kJ/kg",null,null,null,null,null,null,null,null,null,{"$f":"AA95/1000","v":27.401904271787757},"kJ/kg",null,null,-5,2.7816666666666667,null,null,null,null,null,null,null,null,null,null,null,null,null,null,null,null,null,null,-6,2.746]
["tlak nasycené vodní páry",null,"p''vp4",{"$f":"Konstanty!$F$12^((1500.3+23.5*D91)/(234+D91))","v":1226.457541965143},"Pa",null,null,null,null,null,null,null,"tlak nasycené vodní páry",null,"p''vp4",{"$f":"Konstanty!$F$12^((1500.3+23.5*P91)/(234+P91))","v":1226.457541965143},"Pa",null,null,null,null,null,null,"tlak nasycené vodní páry",null,"p''vpi",{"$f":"Konstanty!$F$12^((1500.3+23.5*AA91)/(234+AA91))","v":1146.4717300807256},"Pa",null,null,-4,2.8173333333333335,null,null,null,null,null,null,null,null,null,null,null,null,null,null,null,null,null,null,-5,2.7816666666666667]
["tlak  vodní páry",null,"pvp4",{"$f":"(D92/100)*D97","v":932.13668107472188},"Pa",null,null,null,null,null,null,null,"tlak  vodní páry",null,"pvp4",{"$f":"(P92/100)*P97","v":932.13668107472188},"Pa",null,null,null,null,null,null,"tlak  vodní páry",null,"pvpi",{"$f":"(AA92/100)*AA97","v":1146.4717300807256},"Pa",null,null,-3,2.8529999999999998,null,null,null,null,null,null,null,null,null,null,null,null,null,null,null,null,null,null,-4,2.8173333333333335]
["tlak suchého vzduchu",null,"psv4",{"$f":"D103*Konstanty!$F$5*(D91+273.15)","v":98025.61599179999},"Pa",null,null,null,null,null,null,null,"tlak suchého vzduchu",null,"psv4",{"$f":"P103*Konstanty!$F$5*(P91+273.15)","v":98025.61599179999},"Pa",null,null,null,null,null,null,"tlak suchého vzduchu",null,"psvi",{"$f":"AA103*Konstanty!$F$5*(AA91+273.15)","v":98003.397392999992},"Pa",null,null,-2,2.8886666666666665,null,null,null,null,null,null,null,null,null,null,null,null,null,null,null,null,null,null,-3,2.8529999999999998]
["tlak směsi vlhkého vzduchu",null,"p4",{"$f":"D98+D99","v":98957.752672874718},"Pa",null,null,null,null,null,null,null,"tlak směsi vlhkého vzduchu",null,"p4",{"$f":"P98+P99","v":98957.752672874718},"Pa",null,null,null,null,null,null,"tlak směsi vlhkého vzduchu",null,"pi",{"$f":"AA98+AA99","v":99149.869123080716},"Pa",null,null,-1,2.9243333333333332,null,null,null,null,null,null,null,null,null,null,null,null,null,null,null,null,null,null,-2,2.8886666666666665]
["měrná vlhkost vzduchu",null,"x4",{"$f":"P16","v":5.9146701705178363E-3},"kg/kg s.v.",null,null,null,null,null,null,null,"měrná vlhkost vzduchu",null,"x4",{"$f":"P16","v":5.9146701705178363E-3},"kg/kg s.v.",null,null,null,null,null,null,"měrná vlhkost vzduchu",null,"xi",{"$f":"(Konstanty!$F$5/Konstanty!$F$6)*(AA98/AA99)","v":7.276561763593062E-3},"kg/kg s.v.",null,null,0,2.96,null,null,null,null,null,null,null,null,null,null,null,null,null,null,null,null,null,null,-1,2.9243333333333332]
[null,null,null,{"$f":"D101*1000","v":5.9146701705178364},"g/kg s.v.",null,null,null,null,null,null,null,null,null,null,{"$f":"P101*1000","v":5.9146701705178364},"g/kg s.v.",null,null,null,null,null,null,null,null,null,{"$f":"AA101*1000","v":7.2765617635930617},"g/kg s.v.",null,null,1,2.9956666666666667,null,null,null,null,null,null,null,null,null,null,null,null,null,null,null,null,null,null,0,2.96]
["hustota vzduchu při t",null,null,{"$f":"VLOOKUP(D91,Tabulky!$V$15:$AF$75,9,0)","v":1.206},"kg/m3",null,null,null,null,null,null,null,"hustota vzduchu při t",null,null,{"$f":"VLOOKUP(P91,Tabulky!$V$15:$AF$75,9,0)","v":1.206},"kg/m3",null,null,null,null,null,null,"hustota vzduchu při t",null,null,{"$f":"VLOOKUP(AA91,Tabulky!$V$15:$AF$75,9,0)","v":1.21},"kg/m3",null,null,2,3.0313333333333334,null,null,null,null,null,null,null,null,null,null,null,null,null,null,null,null,null,null,1,2.9956666666666667]
[null,null,null,null,null,null,null,null,null,null,null,null,null,null,null,null,null,null,null,null,null,null,null,null,null,null,{"$f":"1.395-Teplota*0.004414","v":1.253752},null,null,null,3,3.0670000000000002,null,null,null,null,null,null,null,null,null,null,null,null,null,null,null,null,null,null,2,3.0313333333333334]
["t4'","smíšení vzduchu s exteriérovým",null,null,null,null,null,null,null,null,null,null,"t4'","smíšení vzduchu s exteriérovým",null,null,null,null,null,null,null,null,null,null,null,null,null,null,null,null,4,3.1026666666666665,null,null,null,null,null,null,null,null,null,null,null,null,null,null,null,null,null,null,3,3.0670000000000002]
["Množství čerstvého vzduchu",null,"Včerstv",{"$f":"IF(D91>tvyp,100,$D$86)","v":30},"%",null,null,null,null,null,null,null,"Množství čerstvého vzduchu",null,"Včerstv",{"$f":"IF(P91>tvyp,100,$D$86)","v":30},"%",null,null,null,"A","Ti",{"$f":"J6","v":24},null,"B","tch",{"$f":"AA91","v":9},null,null,null,5,3.1383333333333332,null,null,null,null,null,null,null,null,null,null,null,null,null,null,null,null,null,null,4,3.1026666666666665]
["teplota vzduchu",null,"t4",{"$f":"ROUND(((((D106/100)*D58)*D91+((1-(D106/100))*D58)*tvyp)/D58),0)","v":14},"°C",null,null,null,null,null,null,null,"teplota vzduchu",null,"t4",{"$f":"ROUND(((((P106/100)*P58)*P91+((1-(P106/100))*P58)*tvyp)/P58),0)","v":14},"°C",null,null,null,null,"xi",{"$f":"J16","v":1.0144214643132086E-2},null,null,"xch",{"$f":"AA101","v":7.276561763593062E-3},null,null,null,6,3.1739999999999999,null,null,null,null,null,null,null,null,null,null,null,null,null,null,null,null,null,null,5,3.1383333333333332]
["relativní vlhkost",null,"rh4",{"$f":"(1-(D106/100))*D68+(D106/100)*D92","v":88.768264638015737},"%",null,null,null,null,null,null,null,"relativní vlhkost",null,"rh4",{"$f":"(1-(P106/100))*P68+(P106/100)*P92","v":75.271189980919189},"%",null,null,null,null,"xi",{"$f":"J17","v":10.144214643132086},null,null,"xch",{"$f":"AA102","v":7.2765617635930617},null,null,null,7,3.2096666666666667,null,null,null,null,null,null,null,null,null,"  ",null,null,null,null,null,null,null,null,6,3.1739999999999999]
["entalpie s.v.",null,"hsv4",{"$f":"Konstanty!$F$2*D107","v":14140},"J/kg",null,null,null,null,null,null,null,"entalpie s.v.",null,"hsv4",{"$f":"Konstanty!$F$2*P107","v":14140},"J/kg",null,null,null,null,null,null,null,null,null,null,null,null,null,8,3.2453333333333334,null,null,null,null,null,null,null,null,null,null,null,null,null,null,null,null,null,null,7,3.2096666666666667]
["entalpie v.p.",null,"hvp4",{"$f":"D117*(Konstanty!$F$3*D107+Konstanty!$F$4)","v":22731.839999999993},"J/kg",null,null,null,null,null,null,null,"entalpie v.p.",null,"hvp4",{"$f":"P117*(Konstanty!$F$3*P107+Konstanty!$F$4)","v":19275.499574462618},"J/kg",null,null,null,null,"dx",{"$f":"P62","v":1.5},null,null,null,null,null,null,null,9,3.2810000000000001,null,null,null,null,null,null,null,null,null,null,null,null,null,null,null,null,null,null,8,3.2453333333333334]
["entalpie ",null,"h4",{"$f":"D109+D110","v":36871.839999999997},"J/kg",null,null,null,null,null,null,null,"entalpie ",null,"h4",{"$f":"P109+P110","v":33415.499574462621},"J/kg",null,null,null,null,"th",{"$f":"((W106-AA106)*W108+(AA108-W108)*W106-(W106-AA106)*(W108-W110))/(AA108-W108)","v":16.153862079842494},null,null,null,null,null,null,null,10,3.3166666666666664,null,null,null,null,null,null,null,null,null,null,null,null,null,null,null,null,null,null,9,3.2810000000000001]
[null,null,null,{"$f":"D111/1000","v":36.871839999999999},"kJ/kg",null,null,null,null,null,null,null,null,null,null,{"$f":"P111/1000","v":33.415499574462622},"kJ/kg",null,null,null,null,null,{"$f":"ROUND(W111,0)","v":16},null,null,null,null,null,null,null,11,3.3523333333333332,null,null,null,null,null,null,null,null,null,null,null,null,null,null,null,null,null,null,10,3.3166666666666664]
["tlak nasycené vodní páry",null,"p''vp4",{"$f":"Konstanty!$F$12^((1500.3+23.5*D107)/(234+D107))","v":1597.5231497515267},"Pa",null,null,null,null,null,null,null,"tlak nasycené vodní páry",null,"p''vp4",{"$f":"Konstanty!$F$12^((1500.3+23.5*P107)/(234+P107))","v":1597.5231497515267},"Pa",null,null,null,null,null,null,null,null,null,null,null,null,null,12,3.3879999999999999,null,null,null,null,null,null,null,null,null,null,null,null,null,null,null,null,null,null,11,3.3523333333333332]
["tlak  vodní páry",null,"pvp4",{"$f":"(D108/100)*D113","v":1418.0935772249998},"Pa",null,null,null,null,null,null,null,"tlak  vodní páry",null,"pvp4",{"$f":"(P108/100)*P113","v":1202.4746850386357},"Pa",null,null,null,null,null,null,null,null,null,null,null,null,null,13,3.4236666666666666,null,null,null,null,null,null,null,null,null,null,null,null,null,null,null,null,null,null,12,3.3879999999999999]
["tlak suchého vzduchu",null,"psv4",{"$f":"D119*Konstanty!$F$5*(D107+273.15)","v":98009.095573700004},"Pa",null,null,null,null,null,null,null,"tlak suchého vzduchu",null,"psv4",{"$f":"P119*Konstanty!$F$5*(P107+273.15)","v":98009.095573700004},"Pa",null,null,null,null,null,null,null,null,null,null,null,null,null,14,3.4593333333333334,null,null,null,null,null,null,null,null,null,null,null,null,null,null,null,null,null,null,13,3.4236666666666666]
["tlak směsi vlhkého vzduchu",null,"p4",{"$f":"D114+D115","v":99427.189150924998},"Pa",null,null,null,null,null,null,null,"tlak směsi vlhkého vzduchu",null,"p4",{"$f":"P114+P115","v":99211.570258738633},"Pa",null,null,null,null,null,null,null,null,null,null,null,null,null,15,3.4950000000000001,null,null,null,null,null,null,null,null,null,null,null,null,null,null,null,null,null,null,14,3.4593333333333334]
["měrná vlhkost vzduchu",null,"x4",{"$f":"(Konstanty!$F$5/Konstanty!$F$6)*(D114/D115)","v":8.9999999999999976E-3},"kg/kg s.v.",null,null,null,null,null,null,null,"měrná vlhkost vzduchu",null,"x4",{"$f":"(Konstanty!$F$5/Konstanty!$F$6)*(P114/P115)","v":7.6315641923471031E-3},"kg/kg s.v.",null,null,null,null,null,null,null,null,null,null,null,null,null,16,3.5306666666666668,null,null,null,null,null,null,null,null,null,null,null,null,null,null,null,null,null,null,15,3.4950000000000001]
[null,null,null,{"$f":"D117*1000","v":8.9999999999999982},"g/kg s.v.",null,null,null,null,null,null,null,null,null,null,{"$f":"P117*1000","v":7.6315641923471027},"g/kg s.v.",null,null,null,null,null,null,null,null,null,null,null,null,null,17,3.5663333333333331,null,null,null,null,null,null,null,null,null,null,null,null,null,null,null,null,null,null,16,3.5306666666666668]
["hustota vzduchu při t",null,null,{"$f":"VLOOKUP(D107,Tabulky!$V$15:$AF$75,9,0)","v":1.1890000000000001},"kg/m3",null,null,null,null,null,null,null,"hustota vzduchu při t",null,null,{"$f":"VLOOKUP(P107,Tabulky!$V$15:$AF$75,9,0)","v":1.1890000000000001},"kg/m3",null,null,null,null,null,null,null,null,null,null,null,null,null,18,3.6019999999999999,null,null,null,null,null,null,null,null,null,null,null,null,null,null,null,null,null,null,17,3.5663333333333331]
[null,null,null,null,null,null,null,null,null,null,null,null,null,null,null,null,null,null,null,null,null,null,null,null,null,null,null,null,null,null,19,3.6376666666666666,null,null,null,null,null,null,null,null,null,null,null,null,null,null,null,null,null,null,18,3.6019999999999999]
["množství tepla na kondenzátoru",null,"Qk",{"$f":"AH69","v":192519.648465045},"W",null,null,"přepočet mw na msv",{"$f":"(D58*D119)/(1+D117)","v":4.0610241762569785},"m3/s",null,null,"množství tepla na kondenzátoru",null,"Qk",{"$f":"BB70","v":56763.692798437383},"W",null,null,null,null,null,null,null,null,null,null,null,null,null,20,3.6733333333333333,null,null,null,null,null,null,null,null,null,null,null,null,null,null,null,null,null,null,19,3.6376666666666666]
["Požadované teplo na dohřev",null,"Qpož",{"$f":"(D134-D107)*Konstanty!F2*D119*I121+D88","v":97536.866460504869},"W",null,null,null,null,null,null,null,"Požadované teplo na dohřev",null,null,{"$f":"(P134-P107)*Konstanty!$F$2*P119*P58","v":30426.945335107863},"W",null,null,null,null,null,null,null,null,null,null,null,null,null,21,3.7090000000000001,null,null,null,null,null,null,null,null,null,null,null,null,null,null,null,null,null,null,20,3.6733333333333333]
["dosažená teplota",null,"t6",{"$f":"D121/(D58*D119*Konstanty!$F$2)+D107","v":60.5186331056643},"°C",null,null,null,null,null,null,null,"dosažená teplota",null,"t6",{"$f":"P121/(P58*P119*Konstanty!$F$2)+P107","v":51.311463358065794},"°C",null,null,null,null,null,null,null,null,null,null,null,null,null,22,3.7446666666666664,null,null,null,null,null,null,null,null,null,null,null,null,null,null,null,null,null,null,21,3.7090000000000001]
["potřeba dohřevu",null,"Qdohř",{"$f":"IF((D122-D121)>0,D122-D121,0)","v":0},"W",null,null,null,null,null,null,null,"potřeba dohřevu",null,"Qdohř",{"$f":"IF((P122-P121)>0,P122-P121,0)","v":0},"W",null,null,null,null,null,null,null,null,null,null,null,null,null,23,3.7803333333333331,null,null,null,null,null,null,null,null,null,null,null,null,null,null,null,null,null,null,22,3.7446666666666664]
["přebytečné teplo",null,"Qpřebyt",{"$f":"IF((D122-D121)<0,D121-D122,0)","v":94982.782004540131},"W",null,null,null,null,null,null,null,"přebytečné teplo",null,"Qpřebyt",{"$f":"IF((P122-P121)<0,P121-P122,0)","v":26336.747463329521},"W",null,null,null,null,null,null,null,null,null,null,null,null,null,24,3.8159999999999998,null,null,null,null,null,null,null,null,null,null,null,null,null,null,null,null,null,null,23,3.7803333333333331]
[null,null,null,null,null,null,null,null,null,null,null,null,null,null,null,null,null,null,null,null,null,null,null,null,null,null,null,null,null,null,25,3.8516666666666666,null,null,null,null,null,null,null,null,null,null,null,null,null,null,null,null,null,null,24,3.8159999999999998]
[null,null,null,null,null,null,null,null,null,null,null,null,null,null,null,null,null,null,null,null,null,null,null,null,null,null,null,null,null,null,26,3.8873333333333333,null,null,null,null,null,null,null,null,null,null,null,null,null,null,null,null,null,null,25,3.8516666666666666]
["teplota zvýšení do int",null,"tzv",{"$f":"Vypocet!D128","v":2},"°C ",null,null,null,null,null,null,null,null,"teplota zvýšení do int","tzv",{"$f":"Vypocet!P128","v":2},"°C ",null,null,null,null,null,null,null,null,null,null,null,null,null,27,3.923,null,null,null,null,null,null,null,null,null,null,null,null,null,null,null,null,null,null,26,3.8873333333333333]
["teplotní spád kondenzatoru",null,"Δt",{"$f":"Vypocet!D129","v":0},"°C ",null,null,null,null,null,null,null,null,"teplotní spád kondenzatoru","Δt",{"$f":"Vypocet!P129","v":0},"°C ",null,null,null,null,null,null,null,null,null,null,null,null,null,28,3.9586666666666668,null,null,null,null,null,null,null,null,null,null,null,null,null,null,null,null,null,null,27,3.923]
["teplota kondenzatoru",null,"tohř",{"$f":"Vypocet!D130","v":0},"°C ",null,null,null,null,null,null,null,null,"teplota kondenzatoru","tohř",{"$f":"Vypocet!P130","v":0},"°C ",null,null,null,null,null,null,null,null,null,null,null,null,null,29,3.9943333333333335,null,null,null,null,null,null,null,null,null,null,null,null,null,null,null,null,null,null,28,3.9586666666666668]
["relativní vlhkost",null,"rhohř",{"$f":"Vypocet!D131","v":0},"%",null,null,null,null,null,null,null,null,"relativní vlhkost","rhohř",{"$f":"Vypocet!P131","v":0},"%",null,null,null,null,null,null,null,null,null,null,null,null,null,30,4.03,null,null,null,null,null,null,null,null,null,null,null,null,null,null,null,null,null,null,29,3.9943333333333335]
[null,null,null,null,null,null,null,null,null,null,null,null,null,null,null,null,null,null,null,null,null,null,null,null,null,null,null,null,null,null,31,4.065666666666667,null,null,null,null,null,null,null,null,null,null,null,null,null,null,null,null,null,null,30,4.03]
["t5","parametry vyduchu za kondenzátorem",null,null,null,null,null,null,null,null,null,null,"t5","parametry vyduchu za kondenzátorem",null,null,null,null,null,null,null,null,null,null,null,null,null,null,null,null,32,4.1013333333333328]
["požadovaná teplotateplota do I",null,"t5",{"$f":"Teplota+D128","v":34},"°C",null,null,null,null,null,null,null,"požadovaná teplota do I",null,"t5",{"$f":"Teplota+P128","v":34},"°C",null,null,null,null,null,null,null,null,null,null,null,null,null,33,4.1370000000000005]
["dosažená teplota",null,"tdos",{"$f":"D123","v":60.5186331056643},"°C",null,null,null,null,null,null,null,"dosažená teplota",null,"t6",{"$f":"P123","v":51.311463358065794},null,null,null,null,null,null,null,null,null,null,null,null,null,null,34,4.1726666666666663]
[null,null,null,null,null,null,null,null,null,null,null,null,null,null,null,null,null,null,null,null,null,null,null,null,null,null,null,null,null,null,35,4.208333333333333]
["relativní vlhkost",null,"rh5",{"$f":"((D146*D116)/(D142*(0.622+D146)))*100","v":26.650080648858811},"%",null,null,null,null,null,null,null,"relativní vlhkost",null,"rh5",{"$f":"((P146*P116)/(P142*(0.622+P146)))*100","v":22.597979429317078},"%"]
["entalpie s.v.",null,"hsv5",{"$f":"Konstanty!$F$2*D134","v":34340},"J/kg",null,null,null,null,null,null,null,"entalpie s.v.",null,"hsv5",{"$f":"Konstanty!$F$2*P134","v":34340},"J/kg"]
["entalpie v.p.",null,"hvp5",{"$f":"D146*(Konstanty!$F$3*D134+Konstanty!$F$4)","v":23063.039999999994},"J/kg",null,null,null,null,null,null,null,"entalpie v.p.",null,"hvp5",{"$f":"P146*(Konstanty!$F$3*P134+Konstanty!$F$4)","v":19556.341136740994},"J/kg"]
["entalpie ",null,"h5",{"$f":"D138+D139","v":57403.039999999994},"J/kg",null,null,null,null,null,null,null,"entalpie ",null,"h5",{"$f":"P138+P139","v":53896.341136740994},"J/kg"]
[null,null,null,{"$f":"D140/1000","v":57.40303999999999},"kJ/kg",null,null,null,null,null,null,null,null,null,null,{"$f":"P140/1000","v":53.896341136740993},"kJ/kg"]
["tlak nasycené vodní páry",null,"p''vp5",{"$f":"Konstanty!$F$12^((1500.3+23.5*D134)/(234+D134))","v":5321.3250022529974},"Pa",null,null,null,null,null,null,null,"tlak nasycené vodní páry",null,"p''vp5",{"$f":"Konstanty!$F$12^((1500.3+23.5*P134)/(234+P134))","v":5321.3250022529974},"Pa",null,null,null,null,null,null,null,null,null,null,null,null,null,"dt vyp"]
["tlak  vodní páry",null,"pvp5",{"$f":"(D137/100)*D142","v":1418.1374046883116},"Pa",null,null,null,null,null,null,null,"tlak  vodní páry",null,"pvp5",{"$f":"(P137/100)*P142","v":1202.5119293762389},"Pa",null,null,null,null,null,null,null,null,null,null,null,null,null,2]
["tlak suchého vzduchu",null,"psv5",{"$f":"D148*Konstanty!$F$5*(D134+273.15)","v":97958.084656299994},"Pa",null,null,null,null,null,null,null,"tlak suchého vzduchu",null,"psv5",{"$f":"Konstanty!$F$8*Konstanty!$F$5*(P134+273.15)","v":108009.58929249999},"Pa",null,null,null,null,null,null,null,null,null,null,null,null,null,3]
["tlak směsi vlhkého vzduchu",null,"p5",{"$f":"D143+D144","v":99376.222060988308},"Pa",null,null,null,null,null,null,null,"tlak směsi vlhkého vzduchu",null,"p5",{"$f":"P143+P144","v":109212.10122187623},"Pa",null,null,null,null,null,null,null,null,null,null,null,null,null,4]
["měrná vlhkost vzduchu",null,"x5",{"$f":"D117","v":8.9999999999999976E-3},"kg/kg s.v.",null,null,null,null,null,null,null,"měrná vlhkost vzduchu",null,"x5",{"$f":"P117","v":7.6315641923471031E-3},"kg/kg s.v.",null,null,null,null,null,null,null,null,null,null,null,null,null,5]
[null,null,null,{"$f":"D146*1000","v":8.9999999999999982},"g/kg s.v.",null,null,null,null,null,null,null,null,null,null,{"$f":"P146*1000","v":7.6315641923471027},"g/kg s.v.",null,null,null,null,null,null,null,null,null,null,null,null,null,6,{"$f":"D124","v":0}]
["hustota vzduchu při t",null,null,{"$f":"VLOOKUP(D134,Tabulky!$V$15:$AF$75,9,0)","v":1.111},"kg/m3",null,null,null,null,null,null,null,"hustota vzduchu při t",null,null,{"$f":"VLOOKUP(P134,Tabulky!$V$15:$AF$75,9,0)","v":1.111},"kg/m3",null,null,null,null,null,null,null,null,null,null,null,null,null,7]
[null,null,null,null,null,null,null,null,null,null,null,null,null,null,null,null,null,null,null,null,null,null,null,null,null,null,null,null,null,null,8]
["navlhčení z prostoru",null,null,null,null,null,null,null,null,null,null,null,"navlhčení z prostoru",null,null,null,null,null,null,null,null,null,null,null,null,null,null,null,null,null,9]
["dx=n.100/V.ρ",null,"dx",{"$f":"(D33*100)/D57*Konstanty!$F$8","v":0.59243396843461305},"g/kg s.v",null,null,null,null,null,null,null,"dx=n.100/V.ρ",null,"dx",{"$f":"(P30*100)/P57*Konstanty!$F$8","v":5.3720302982114262E-2},"g/kg s.v",null,null,null,null,null,null,null,null,null,null,null,null,null,10]
[null,null,null,null,null,null,null,null,null,null,null,null,null,null,null,null,null,null,null,null,null,null,null,null,null,null,null,null,null,null,11]
["NUTNÉ vzduch privlhčit",null,null,null,null,null,null,null,null,null,null,null,"NUTNÉ vzduch privlhčit",null,null,null,null,null,null,null,null,null,null,null,null,null,null,null,null,null,12]
[null,null,null,null,null,null,null,null,null,null,null,null,null,null,null,null,null,null,null,null,null,null,null,null,null,null,null,null,null,null,13]
[null,null,null,null,null,null,null,null,null,null,null,null,null,null,null,null,null,null,null,null,null,null,null,null,null,null,null,null,null,null,14]
[null,null,null,null,null,null,null,null,null,null,null,null,null,null,null,null,null,null,null,null,null,null,null,null,null,null,null,null,null,null,15]

{"sheet":"V7","index":6,"n_rows":156,"n_cols":63,"rows_kept":156,"cut":false,"hidden":false,"merged":[[59,6,59,7],[4,15,4,18],[26,3,26,6],[27,3,27,6],[33,6,33,7],[40,6,40,7]]}
[null,"Legenda",null,null,"hodnotu nutno zadat",null,null,null,null,"prevzato z první "]
[null,null,null,null,"hodnota se vypočítává "]
[null,null,null,null,"pomocná hodnota"]
["Parametry vzduchu",null,null,null,null,null,"interier klidovy rezim ",null,null,null,null,null,null,null,null,null,null,null,null,null,"Produkce tepla od",null,null,"ni",{"$f":"0.85*Y5+0.75*Y6+Y7","v":60.5},null,null,"Qi=ni.6,2*(36-ti)"]
["Interiér","ti",null,null,null,null,"Interiér","ti",null,null,null,null,"Exteriér","te",null,"minimální teplota -15 (tabulka) ",null,null,null,null,"lidí",{"$f":"Y4*6.2*(36-Teplota)","v":1500.4},"W","nz",{"$f":"Vypocet!Y5","v":30},"zeny",null,"ni=0,85nz+0,75nd+nm"]
["teplota",null,"ti",{"$f":"[0]!Teplota","v":32},"°C",null,"teplota",null,"ti",{"$f":"Vypocet!J6","v":24},"°C",null,"teplota",null,"te",{"$f":"CEILING(Vypocet!P6+25,5)","v":15},"°C",null,null,null,null,null,null,"nd ",{"$f":"Vypocet!Y6","v":20},"deti",null,"nz - zeny, nd deti, nm muzi"]
["relativní vlhkost",null,"rhi",{"$f":"Vypocet!D7","v":60},"%",null,"relativní vlhkost",null,"rhi",{"$f":"Vypocet!J7","v":55},"%",null,"relativní vlhkost",null,"rhe",{"$f":"ROUND((93*te-3153.5)/(te-39.17),0)","v":73},"%",null,null,null,null,null,null,"nm",{"$f":"Vypocet!Y7","v":20},"muzi"]
["entalpie s.v.",null,"hsvi",{"$f":"Konstanty!$F$2*Teplota","v":32320},"J/kg",null,"entalpie s.v.",null,"hsvi",{"$f":"Konstanty!$F$2*J6","v":24240},"J/kg",null,"entalpie s.v.",null,"hsve",{"$f":"Konstanty!$F$2*te","v":15150},"J/kg"]
["entalpie v.p.",null,"hvpi",{"$f":"$D$16*(Konstanty!$F$3*Teplota+Konstanty!$F$4)","v":46343.062700276656},"J/kg",null,"entalpie v.p.",null,"hvpi",{"$f":"$D$16*(Konstanty!$F$3*J6+Konstanty!$F$4)","v":46076.473456956111},"J/kg",null,"entalpie v.p.",null,"hvpe",{"$f":"P16*(Konstanty!F3*P6+Konstanty!F4)","v":19956.853517096613},"J/kg",null,null,null,"Odpar z povrchů"]
["entalpie ",null,"hi",{"$f":"D8+D9","v":78663.062700276656},"J/kg",null,"entalpie ",null,"hi",{"$f":"J8+J9","v":70316.473456956111},"J/kg",null,"entalpie ",null,"he",{"$f":"IF(P8<0,P9-P8,P8+P9)","v":35106.853517096613},"J/kg",null,null,null,null,null,null,null,null,null,null,"(7+3,5*w)*S*(xp´´-x).10-3"]
[null,null,null,{"$f":"D10/1000","v":78.663062700276654},"kJ/kg",null,null,null,null,{"$f":"J10/1000","v":70.316473456956118},"kJ/kg",null,null,null,null,{"$f":"P10/1000","v":35.10685351709661},"kJ/kg",null,null,null,null,null,null,null,null,null,null,"w stredni rychlost vzduchu"]
["tlak nasycené vodní páry",null,"p''vpi",{"$f":"Konstanty!$F$12^((1500.3+23.5*D6)/(234+D6))","v":4756.6229589957475},"Pa",null,"tlak nasycené vodní páry",null,"p''vpi",{"$f":"Konstanty!$F$12^((1500.3+23.5*J6)/(234+J6))","v":2984.4262331760842},"Pa",null,"tlak nasycené vodní páry",null,"p''vpe",{"$f":"Konstanty!$F$12^((1500.3+23.5*P6)/(234+P6))","v":1704.3922173186882},"Pa",null,{"$f":"2.718^(28.926-(6148/(273.15+te)))","v":1976.5405184905273},null,null,null,null,null,null,null,null,"xp´´-merna vlhkost nasyceneho vzduchu"]
["tlak  vodní páry",null,"pvpi",{"$f":"(D7/100)*D12","v":2853.9737753974482},"Pa",null,"tlak  vodní páry",null,"pvpi",{"$f":"(J7/100)*J12","v":1641.4344282468464},"Pa",null,"tlak  vodní páry",null,"pvpe",{"$f":"(P7/100)*P12","v":1244.2063186426424},"Pa",null,null,null,null,null,null,null,null,null,null,"x - merna vlhkost vzduchu nad povrchem "]
["tlak suchého vzduchu",null,"psvi",{"$f":"D18*Konstanty!$F$5*(Teplota+273.15)","v":98021.008646699993},"Pa",null,"tlak suchého vzduchu",null,"psvi",{"$f":"J18*Konstanty!$F$5*(Teplota+273.15)","v":100648.9177257},"Pa",null,"tlak suchého vzduchu",null,"psve",{"$f":"P18*Konstanty!F5*(P6+273.15)","v":98019.544630499993},"Pa",null,null,null,null,null,null,null,null,null,null,"S plocha"]
["tlak směsi vlhkého vzduchu",null,"pi",{"$f":"D13+D14","v":100874.98242209744},"Pa",null,"tlak směsi vlhkého vzduchu",null,"pi",{"$f":"J13+J14","v":102290.35215394685},"Pa",null,"tlak směsi vlhkého vzduchu",null,"pe",{"$f":"P13+P14","v":99263.750949142632},"Pa"]
["měrná vlhkost vzduchu",null,"xi",{"$f":"(Konstanty!$F$5/Konstanty!$F$6)*(D13/D14)","v":1.8110682290797792E-2},"kg/kg s.v.",null,"měrná vlhkost vzduchu",null,"xi",{"$f":"(Konstanty!$F$5/Konstanty!$F$6)*(J13/J14)","v":1.0144214643132086E-2},"kg/kg s.v.",null,"měrná vlhkost vzduchu",null,"xe",{"$f":"(Konstanty!F5/Konstanty!F6)*(P13/P14)","v":7.8955742669317187E-3},"kg/kg s.v."]
[null,null,null,{"$f":"D16*1000","v":18.11068229079779},"g/kg s.v.",null,null,null,null,{"$f":"J16*1000","v":10.144214643132086},"g/kg s.v.",null,null,null,null,{"$f":"P16*1000","v":7.8955742669317184},"g/kg s.v."]
["hustota vzduchu při t",null,null,{"$f":"VLOOKUP(Teplota,Tabulky!$V$15:$AF$75,9,0)","v":1.119},"kg/m3",null,"hustota vzduchu při t",null,null,{"$f":"VLOOKUP(J6,Tabulky!V15:AF75,9,0)","v":1.149},"kg/m3",null,"hustota vzduchu při t",null,null,{"$f":"VLOOKUP(te,Tabulky!V15:AF75,9,0)","v":1.1850000000000001},"kg/m3"]
[null,null,null,{"$f":"1.395-Teplota*0.004414","v":1.253752}]
["Bazén",null,null,null,null,null,null,null,"rozměry bazénu"]
["Teplota vody",null,"tsniz",{"$f":"Vypocet!D21","v":2},"°C","snížení teploty vody (dop 2-3°C)",null,null,"délka bazén","a",{"$f":"Vypocet!K21","v":25},"m"]
["tvz-(2-3)°C",null,"tvod",{"$f":"D6-D21","v":30},"°C",null,null,null,"šířka bazén","b",{"$f":"Vypocet!K22","v":12},"m"]
[]
["Mn. odpařené vody"]
["mw=ε*A*(p´´vp-pvp)",null,"mw",{"$f":"D28*$D$29*($D$12/100-$D$13/100)","v":114158.95101589795},"g/h"]
[null,null,null,{"$f":"D25/1000","v":114.15895101589796},"kg/h",null,null,null,"budova"]
["typ bazenu",null,null,{"$f":"Vypocet!AH47","v":"bazény - normální provoz"},null,null,null,null,"délka","a",{"$f":"Vypocet!K27","v":40},"m"]
["mnozstvi odp vody",null,null,{"$f":"VLOOKUP(D27,Tab_souc_odparu_bazen,7,0)","v":20},null,null,null,"[g/(hPa.m2.h)]","šířka","b",{"$f":"Vypocet!K28","v":15},"m"]
["plocha bazénu",null,"A",{"$f":"K21*K22","v":300},"m2",null,null,null,"výška","v",{"$f":"Vypocet!K29","v":7},"m","Produkce vlhkosti osobami - klidový režim"]
["Objem haly",null,"V",{"$f":"K27*K28*K29","v":4200},"m3",null,null,null,null,null,null,null,"počet osob v bazénu",null,"nos",{"$f":"Vypocet!P30","v":2}]
[null,null,null,null,null,null,null,null,null,null,null,null,"množství vlhkosti",null,"mos",{"$f":"P30*100","v":200},"g/h"]
["Produkce vlhkosti osobami - v provozu",null,null,null,null,null,null,null,null,null,null,null,null,null,null,{"$f":"P31/1000","v":0.2},"kg/h",null,null,null,null,null,null,null,null,null,null,null,null,null,"Výkon na kondenzátoru",null,null,null,"Qk",{"$f":"AH69","v":194862.97909948832},"W"]
["počet osob v bazénu",null,"nos",{"$f":"Vypocet!D33","v":60},"počet",null,"Produkce vlhkosti člověkem",null,null,null,null,null,null,null,null,{"$f":"P31/3600","v":5.5555555555555552E-2},"g/s",null,null,null,null,null,null,null,null,null,null,null,null,null,null,null,null,null,null,{"$f":"AH70","v":194.86297909948831},"kW"]
["množství vlhkosti",null,"mos",{"$f":"D33*H35","v":6300},"g/h",null,{"$f":"Vypocet!AH50","v":"člověk při středně těžké práci"},null,null,null,null,null,null,null,null,null,null,null,null,null,null,null,null,null,null,null,null,null,null,null,"Teplota požadovaná v interiéru",null,null,null,"ti",{"$f":"Teplota","v":32},"°C"]
[null,null,null,{"$f":"D34/1000","v":6.3},"kg/h",null,{"$f":"VLOOKUP(G34,Tabulky!W146:Z148,4,0)","v":"60-150"},{"$f":"IF(G35=\"60-150\",105,IF(G35=\"30-60\",45,225))","v":105},"g/h",null,null,null,"Produkce vlhkosti  - klidový režim",null,null,null,null,null,null,null,null,null,null,null,null,null,null,null,null,null,null,null,null,null,null,null,null,null,null,null,null,null,null,null,null,null,null,null,null,null,"Výkon na kondenzátoru",null,null,null,"Qk",{"$f":"BB70","v":56763.692798437383},"W"]
[null,null,null,{"$f":"D34/3600","v":1.75},"g/s",null,"rozmezí","průměr",null,null,null,"množství odpařené vody",null,null,"mw",{"$f":"Tabulky!$G$4*$D$29*($D$12/100-$D$13/100)","v":28539.737753974488},"g/h",null,null,null,null,null,null,null,null,null,null,null,null,null,null,null,null,null,null,null,null,null,null,null,null,null,null,null,null,null,null,null,null,null,null,null,null,null,null,{"$f":"BB71","v":56.763692798437383},"kW"]
["celkové množství odpařené vody",null,null,{"$f":"(D25+D34)*(I37/100+1)","v":126481.89856669286},"g/h",null,null,"korekce ",{"$f":"Vypocet!I37","v":5},"%",null,null,"celkové množství odpařené vody",null,null,{"$f":"(P36+P31)*(I37/100+1)","v":30176.724641673216},"g/h",null,null,null,null,null,null,null,null,null,null,null,null,null,null,null,null,null,null,null,null,null,null,null,null,null,null,null,null,null,null,null,null,null,"Teplota požadovaná v interiéru",null,null,null,"ti",{"$f":"J6","v":24},"°C"]
["Dimenzování průtoku vzduchu bazénové větrací jednotky pro zátěž",null,null,null,null,null,null,null,null,null,null,null,"Dimenzování průtoku vzduchu bazénové větrací jednotky pro klidový režim"]
["z množství odpařené vody",null,null,null,null,null,null,null,null,null,null,null,"z množství odpařené vody"]
["požadovaná vlhkost přiváděná",null,"xpoz",{"$f":"Vypocet!D40","v":9},"g/kg",null,"doporučená hodnota 8-10 g/kg",null,null,null,null,null,"požadovaná vlhkost přiváděná",null,"xpoz",{"$f":"Vypocet!P40","v":9},"g/kg",null,"doporučená hodnota 8-10 g/kg"]
[null,null,"V1",{"$f":"(D37)/(D18*(D17-D40))","v":12406.445935942682},"m3/h",null," ",null,{"$f":"D147","v":9.376442924061978},"g/kg s.v.",null,null,null,null,"V1",{"$f":"(P36+P31)/(Konstanty!$F$8*(J17-5))","v":4560.6593112769815},"m3/h"]
["z objemu haly",null,null,null,null,null,null,null,null,null,null,null,"z objemu haly"]
["výměna vzduchu",null,"n",{"$f":"Vypocet!D43","v":1},"1/h",null,null,null,null,null,null,null,"výměna vzduchu",null,"n",{"$f":"Vypocet!P43","v":1},"1/h"]
["V=n*VH",null,"V2",{"$f":"D30*D43","v":4200},"m3/h",null,null,null,null,null,null,null,"V=n*VH",null,"V2",{"$f":"D30*P43","v":4200},"m3/h"]
["z tepelných zisků"]
[null,"tepelné ztráty","Qzt",{"$f":"Vypocet!D46","v":7},"kW",null,null,"teplotní spád výústky","dt",{"$f":"Vypocet!J46","v":8},"°C"]
[null,"tepelné zisky","Qzisk",{"$f":"Vypocet!D47","v":16},"kW"]
[null,"Množství vzduchu",null,{"$f":"((D47-D46)/J46*Konstanty!$F$2*Konstanty!$F$8)","v":1391.90625},"m3/h"]
[]
["potřeba vzduchu pro osoby",null,null,null,null,null,null,null,null,null,null,null,null,null,null,null,null,null,null,null,null,null,"te","teplota exteriérového vzduchu"]
[null,null,"V2",{"$f":"D33*D52","v":3000},null,null,null,null,null,null,null,null,null,null,null,null,null,null,null,null,null,null,"Qpředehřev","Výkon pro předehřátí vzduchu"]
["množství čerstvého vzduchu/osoba",null,null,{"$f":"Vypocet!D52","v":50},"m3/h/os",null,"doporučená hodnota při zátěži (min hodnota 25m3/h) ",null,null,null,null,null,null,null,null,null,null,null,null,null,null,null,"Qdohřátí","Výkon spotřebovaný na dohřátí vzduchu na požadovanou úroveň",null,null,null,null,null,null,null,"červeně zvýrazněné pole je teplota ext vyšší než teplota exteriéru, přívod vzduchu plně čerstvý"]
[]
["Potřeba čerstvého vzduchu",null,null,{"$f":"IF(MAX(D41,D44,D48)>D51,\"Ne\",\"Ano\")","v":"Ne"},null,null,"nepočítá s tím dál samo! ",null,null,null,null,null,null,null,null,null,null,null,null,null,null,null,null,null,null,null,null,null,null,null,"Teplo odevzdané na výparníku",null,null,null,null,null,"Množství kondenzátu"]
["Množství čerstvého vzduchu",null,null,{"$f":"IF(D54=\"ano\",D51-MAX(D41,D44,D48),0)","v":0},"m3/h",null,"pouze informativní charakter, množství V čerst rozhodne projektant",null,null,null,null,null,null,null,null,null,null,null,null,null,null,null,null,null,null,null,null,null,null,null,"Qv=V*ρ*(hi-h3)",null,"Qv",{"$f":"D81","v":147350.87431255195},"W",null,"mkond = V*ρ*(xi-x3)",null,"mkond",{"$f":"IF(D58*D18*(D16-D77)<0,0,D58*D18*(D16-D77))","v":3.1236329255219682E-2},"kg/s",null,null,null,null,null,null,null,null,null,"Teplo odevzdané na výparníku",null,null,null,null,null,"Množství kondenzátu"]
[null,null,null,null,null,null,null,null,null,null,null,null,null,null,null,null,null,null,null,null,null,null,null,null,null,null,null,null,null,null,null,null,null,{"$f":"AH55/1000","v":147.35087431255195},"kW",null,null,null,null,{"$f":"AN55*1000","v":31.236329255219683},"g/s",null,null,null,null,null,null,null,null,null,"Qv=V*ρ*(hi-h3)",null,"Qv",{"$f":"P81","v":47003.773128829853},"W",null,"mkond = V*ρ*(xi-x3)",null,"mkond",{"$f":"IF(P58*J18*(J16-P77)<0,0,P58*J18*(J16-P77))","v":2.1834156452738541E-3},"kg/s"]
["průtok vzduchu",null,"V",{"$f":"MAX(D41,D44,D48)","v":12406.445935942682},"m3/h",null,null,null,null," ",null,null,"průtok vzduchu",null,"V",{"$f":"MAX(P41,P44)","v":4560.6593112769815},"m3/h",null,null,null,null,null,null,null,null,null,null,null,null,null,null,null,null,null,null,null,null,null,null,{"$f":"AN55*3600","v":112.45078531879085},"kg/h",null,null,null,null,null,null,null,null,null,null,null,null,{"$f":"BB56/1000","v":47.003773128829856},"kW",null,null,null,null,{"$f":"BH56*1000","v":2.183415645273854},"g/s"]
[null,null,"V",{"$f":"D57/3600","v":3.4462349822063003},"m3/s",null,null,null,null,null,null,null,null,null,"V",{"$f":"P57/3600","v":1.2668498086880504},"m3/s",null,null,null,null,null,null,null,null,null,null,null,null,null,"Tepelné čerpadlo (TČ)",null,null,null,"typ TČ",null,null,null,null,null,null,null,null,null,null,null,null,null,null,null,null,null,null,null,null,null,null,null,null,{"$f":"BH56*3600","v":7.8602963229858744},"kg/h"]
[null,null,null,null,null,null,null,null,null,null,null,null,null,null,null,null,null,null,null,null,null,null,null,null,null,null,null,null,null,null,"Topný faktor TČ",null,"COP",{"$f":"VLOOKUP(Teplota,'V7'!AE83:AF136,2,0)","v":4.1013333333333328},"Alfa S Duo",null,null,null,null,null,null,null,null,null,null,null,null,null,null,null,"Tepelné čerpadlo (TČ)",null,null,null,"typ TČ"]
["množství odebrané měrné vlh",null,"Δx",8.1,"g/kg s.v",null,"vstupní měrná  vlhkost do int",null,"xvyst",{"$f":"D147","v":9.376442924061978},"g/kg s.v.",null,null,null,null,null,null,null,null,null,null,null,null,null,null,null,null,null,null,null,null,null,null,null,null,null,null,null,null,null,null,null,null,null,null,null,null,null,null,null,"Topný faktor TČ",null,"COP",{"$f":"VLOOKUP(J6,'V7'!AY84:AZ132,2,0)","v":3.8159999999999998},"Alfa S Duo"]
["teplota chladiče",null,"tch",{"$f":"Vypocet!D61","v":9},"°C ",null,null,null,null,null,null,null,null,null,null,null,null,null,null,null,null,null,null,null,null,null,null,null,null,null,"Tepelná bilance TČ"]
["relativní vlhkost",null,"rhch",{"$f":"Vypocet!D62","v":100},"%",null,null,null,null,null,null,null,"množství odebrané měrné vlh",null,"Δx",{"$f":"Vypocet!P60","v":1.5},"g/kg s.v.",null,null,null,null,null,null,null,null,null,null,null,null,null,"Qk=Pel+Qv",null,null,null,null,null,null,null,null,null,null,null,null,null,null,null,null,null,null,null,"Tepelná bilance TČ"]
[null,null,null,null,null,null,null,null,null,null,null,null,"teplota chladiče",null,"tch",{"$f":"Vypocet!P61","v":9},"°C ",null,null,null,null,null,null,null,null,null,null,null,null,null,"εt = COP","εt = Qv/Pel",null,null,null,null,null,null,null,null,null,null,null,null,null,null,null,null,null,null,"Qk=Pel+Qv"]
[null,null,null,null,null,null,null,null,null,null,null,null,"relativní vlhkost",null,"rhch",{"$f":"Vypocet!P62","v":100},"%",null,null,null,null,null,null,null,null,null,null,null,null,null,"Pel=Qk/(1+Et)",null,null,null,null,null,null,null,null,null,null,null,null,null,null,null,null,null,null,null,"εt = COP","εt = Qv/Pel"]
[null,null,null,null,null,null,null,null,null,null,null,null,null,null,null,null,null,null,null,null,null,null,null,"Parametry chladiče",null,null,null,null,null,null,"Výkon kompresoru",null,"Pet",{"$f":"AH55/(AH59-1)","v":47512.104786936361},"W",null,null,null,null,null,null,null,null,null,null,null,null,null,null,null,"Pel=Qk/(1+Et)"]
["t3","parametry vyduchu za vyparnikem",null,null,null,null,null,null,null,null,null,null,"t3","parametry vyduchu za vyparnikem",null,null,null,null,null,null,null,null,null,"teplota",null,"ti",{"$f":"tch","v":9},"°C",null,null,null,null,null,{"$f":"AH65/1000","v":47.512104786936362},"kW",null,null,null,null,null,null,null,null,null,null,null,null,null,null,null,"Výkon kompresoru",null,"Pet",{"$f":"BB56/(BB60+1)","v":9759.9196696075287},"W"]
["teplota",null,"tvyp",{"$f":"W87","v":15},"°C",null,{"$f":"tvyp-te","v":0},null,null,null,null,null,"teplota",null,"tvyp",{"$f":"W112","v":16},"°C",null,null,null,null,null,null,"relativní vlhkost",null,"rhi",{"$f":"D62","v":100},"%",null,null,"Prikon kompresoru",null,null,{"$f":"AH66/AH59","v":11.584550907087866},"kW",null,null,null,null,null,null,null,null,null,null,null,null,null,null,null,null,null,null,{"$f":"BB66/1000","v":9.7599196696075285},"kW"]
["relativní vlhkost",null,"rh3",{"$f":"IF((D74/D73)*100>100,100,(D74/D73)*100)","v":92.558526426350483},"%",null,null,null,null,null,null,null,"relativní vlhkost",null,"rh3",{"$f":"IF((P74/P73)*100>100,100,(P74/P73)*100)","v":74.957831234168935},"%",null,null,null,null,null,null,"entalpie s.v.",null,"hsvi",{"$f":"Konstanty!$F$2*AA66","v":9090},"J/kg",null,null,"Teplo na kondenzátoru"]
["entalpie s.v.",null,"h3",{"$f":"Konstanty!$F$2*D67","v":15150},"J/kg",null,null,null,null,null,null,null,"entalpie s.v.",null,"h3",{"$f":"Konstanty!$F$2*P67","v":16160},"J/kg",null,null,null,null,null,null,"entalpie v.p.",null,"hvpi",{"$f":"$AA$76*(Konstanty!$F$3*AA66+Konstanty!$F$4)","v":18311.904271787756},"J/kg",null,null,"Výkon na kondenzátoru",null,"Qk",{"$f":"AH65+AH55","v":194862.97909948832},"W",null,null,null,null,null,null,null,null,null,null,null,null,null,null,null,"Teplo na kondenzátoru"]
["entalpie v.p.",null,"h3",{"$f":"D77*(Konstanty!$F$3*D67+Konstanty!$F$4)","v":25303.000558220498},"J/kg",null,null,null,null,null,null,null,"entalpie v.p.",null,"h3",{"$f":"P77*(Konstanty!$F$3*P67+Konstanty!$F$4)","v":21865.022286924024},"J/kg",null,null,null,null,null,null,"entalpie ",null,"hi",{"$f":"AA68+AA69","v":27401.904271787756},"J/kg",null,null,null,null,null,{"$f":"AH69/1000","v":194.86297909948831},"kW",null,null,null,null,null,null,null,"  ",null,null,null,null,null,null,null,"Výkon na kondenzátoru",null,"Qk",{"$f":"BB66+BB56","v":56763.692798437383},"W"]
["entalpie ",null,"h3",{"$f":"D69+D70","v":40453.000558220498},"J/kg",null,null,null,null,null,null,null,"entalpie ",null,"h3",{"$f":"P69+P70","v":38025.022286924024},"J/kg",null,null,null,null,null,null,null,null,null,{"$f":"AA70/1000","v":27.401904271787757},"kJ/kg",null,null,null,null,null,null,null,null,null,null,null,null,null,null,null,null,null,null,null,null,null,null,null,null,null,{"$f":"BB70/1000","v":56.763692798437383},"kW",null,null,null,null,null,null,null,"  "]
[null,null,null,{"$f":"D71/1000","v":40.453000558220495},"kJ/kg",null,null,null,null,null,null,null,null,null,null,{"$f":"P71/1000","v":38.025022286924028},"kJ/kg",null,null,null,null,null,null,"tlak nasycené vodní páry",null,"p''vpi",{"$f":"Konstanty!$F$12^((1500.3+23.5*AA66)/(234+AA66))","v":1146.4717300807256},"Pa"]
["tlak nasycené vodní páry",null,"p''vp3",{"$f":"Konstanty!$F$12^((1500.3+23.5*D67)/(234+D67))","v":1704.3922173186882},"Pa",null,null,null,null,null,null,null,"tlak nasycené vodní páry",null,"p''vp3",{"$f":"Konstanty!$F$12^((1500.3+23.5*P67)/(234+P67))","v":1817.4687221052275},"Pa",null,null,null,null,null,null,"tlak  vodní páry",null,"pvpi",{"$f":"(AA67/100)*AA72","v":1146.4717300807256},"Pa",null,null,"Graf topneho faktoru ",null,null,"TnG Air 13, vzduch/voda"]
["tlak  vodní páry",null,"pvp3",{"$f":"(D77*D75)/0.622","v":1577.560320875579},"Pa",null,{"$f":"((G77*D75)/(0.622+G77))/((0.622-G77)/(0.622))","v":0},"přepočet tlaku z x",null,null,null,null,"tlak  vodní páry",null,"pvp3",{"$f":"(P77*P75)/0.622","v":1362.3351374494432},"Pa",null,{"$f":"((S77*P75)/(0.622+S77))/((0.622-S77)/(0.622))","v":1599.161688452117},"přepočet tlaku z x",null,null,null,"tlak suchého vzduchu",null,"psvi",{"$f":"AA78*Konstanty!$F$5*(AA66+273.15)","v":98003.397392999992},"Pa",null,null,null,null,null,null,null,null,null,null,null,null,null,null,null,null,null,null,null,null,null,null,"Graf topneho faktoru ",null,null,"TnG Air 13, vzduch/voda"]
["tlak suchého vzduchu",null,"psv3",{"$f":"D79*Konstanty!$F$5*(D67+273.15)","v":98019.544630499993},"Pa",null,null,null,null,null,null,null,"tlak suchého vzduchu",null,"psv3",{"$f":"P79*Konstanty!$F$5*(P67+273.15)","v":98027.697191300002},"Pa",null,null,null,null,null,null,"tlak směsi vlhkého vzduchu",null,"pi",{"$f":"AA73+AA74","v":99149.869123080716},"Pa",null,null,{"$f":"Vypocet!AE107","v":"teplota"},{"$f":"Vypocet!AF107","v":-18},{"$f":"Vypocet!AG107","v":-15},{"$f":"Vypocet!AH107","v":-10},{"$f":"Vypocet!AI107","v":-5},{"$f":"Vypocet!AJ107","v":0},{"$f":"Vypocet!AK107","v":5},{"$f":"Vypocet!AL107","v":10},{"$f":"Vypocet!AM107","v":15}]
["tlak směsi vlhkého vzduchu",null,"p3",{"$f":"D74+D75","v":99597.104951375572},"Pa",null,null,null,null,null,null,null,"tlak směsi vlhkého vzduchu",null,"p3",{"$f":"P74+P75","v":99390.032328749439},"Pa",null,null,null,null,null,null,"měrná vlhkost vzduchu",null,"xi",{"$f":"(Konstanty!$F$5/Konstanty!$F$6)*(AA73/AA74)","v":7.276561763593062E-3},"kg/kg s.v.",null,null,{"$f":"Vypocet!AE108","v":"vykon"},{"$f":"Vypocet!AF108","v":4.7},{"$f":"Vypocet!AG108","v":5.75},{"$f":"Vypocet!AH108","v":7},{"$f":"Vypocet!AI108","v":8.24},{"$f":"Vypocet!AJ108","v":9.4600000000000009},{"$f":"Vypocet!AK108","v":10.69},{"$f":"Vypocet!AL108","v":11.8},{"$f":"Vypocet!AM108","v":13.1},null,null,null,null,null,null,null,null,null,null,null,{"$f":"Vypocet!AY108","v":"teplota"},{"$f":"Vypocet!AZ108","v":-18},{"$f":"Vypocet!BA108","v":-15},{"$f":"Vypocet!BB108","v":-10},{"$f":"Vypocet!BC108","v":-5},{"$f":"Vypocet!BD108","v":0},{"$f":"Vypocet!BE108","v":5},{"$f":"Vypocet!BF108","v":10},{"$f":"Vypocet!BG108","v":15}]
["měrná vlhkost vzduchu",null,"x3",{"$f":"D16-deltaT/1000","v":1.0010682290797792E-2},"kg/kg s.v.",null,{"$f":"IF(tvyp<D82,0,D16)","v":0},"vezme x z Ti když tvyp<rosny bod",null,null,null,null,"měrná vlhkost vzduchu",null,"x3",{"$f":"J16-P62/1000","v":8.6442146431320865E-3},"kg/kg s.v.",null,{"$f":"IF(tvyp<P82,0,J16)","v":1.0144214643132086E-2},"vezme x z Ti když tvyp<rosny bod",null,null,null,null,null,null,{"$f":"AA76*1000","v":7.2765617635930617},"g/kg s.v.",null,null,{"$f":"Vypocet!AE109","v":"el prikon"},{"$f":"Vypocet!AF109","v":2.2400000000000002},{"$f":"Vypocet!AG109","v":2.4700000000000002},{"$f":"Vypocet!AH109","v":2.72},{"$f":"Vypocet!AI109","v":2.94},{"$f":"Vypocet!AJ109","v":3.2},{"$f":"Vypocet!AK109","v":3.37},{"$f":"Vypocet!AL109","v":3.55},{"$f":"Vypocet!AM109","v":3.85},null,null,null,null,null,null,null,null,null,null,null,{"$f":"Vypocet!AY109","v":"vykon"},{"$f":"Vypocet!AZ109","v":4.7},{"$f":"Vypocet!BA109","v":5.75},{"$f":"Vypocet!BB109","v":7},{"$f":"Vypocet!BC109","v":8.24},{"$f":"Vypocet!BD109","v":9.4600000000000009},{"$f":"Vypocet!BE109","v":10.69},{"$f":"Vypocet!BF109","v":11.8},{"$f":"Vypocet!BG109","v":13.1}]
[null,null,null,{"$f":"D77*1000","v":10.010682290797792},"g/kg s.v.",null,null,null,null,null,null,null,null,null,null,{"$f":"P77*1000","v":8.6442146431320861},"g/kg s.v.",null,null,null,null,null,null,"hustota vzduchu při t",null,null,{"$f":"VLOOKUP(AA66,Tabulky!$V$15:$AF$75,9,0)","v":1.21},"kg/m3",null,null,{"$f":"Vypocet!AE110","v":"COP"},{"$f":"Vypocet!AF110","v":2.1},{"$f":"Vypocet!AG110","v":2.33},{"$f":"Vypocet!AH110","v":2.57},{"$f":"Vypocet!AI110","v":2.8},{"$f":"Vypocet!AJ110","v":2.96},{"$f":"Vypocet!AK110","v":3.17},{"$f":"Vypocet!AL110","v":3.32},{"$f":"Vypocet!AM110","v":3.4},null,null,null,null,null,null,null,null,null,null,null,{"$f":"Vypocet!AY110","v":"el prikon"},{"$f":"Vypocet!AZ110","v":2.2400000000000002},{"$f":"Vypocet!BA110","v":2.4700000000000002},{"$f":"Vypocet!BB110","v":2.72},{"$f":"Vypocet!BC110","v":2.94},{"$f":"Vypocet!BD110","v":3.2},{"$f":"Vypocet!BE110","v":3.37},{"$f":"Vypocet!BF110","v":3.55},{"$f":"Vypocet!BG110","v":3.85}]
["hustota vzduchu při t",null,null,{"$f":"VLOOKUP(tvyp,Tabulky!$V$15:$AF$75,9,0)","v":1.1850000000000001},"kg/m3",null,null,null,null,null,null,null,"hustota vzduchu při t",null,null,{"$f":"VLOOKUP(P67,Tabulky!$V$15:$AF$75,9,0)","v":1.181},"kg/m3",null,null,null,null,null,null,null,null,null,{"$f":"1.395-Teplota*0.004414","v":1.253752},null,null,null,null,null,null,{"$f":"AH78-AG78","v":0.23999999999999977},0.22999999999999998,0.16000000000000014,0.20999999999999996,0.14999999999999991,8.0000000000000071E-2,"průměr",{"$f":"AVERAGE(AG79:AM79)","v":0.17833333333333332},"prumer/1",{"$f":"AO79/5","v":3.5666666666666666E-2},null,null,null,null,null,null,null,{"$f":"Vypocet!AY111","v":"COP"},{"$f":"Vypocet!AZ111","v":2.1},{"$f":"Vypocet!BA111","v":2.33},{"$f":"Vypocet!BB111","v":2.57},{"$f":"Vypocet!BC111","v":2.8},{"$f":"Vypocet!BD111","v":2.96},{"$f":"Vypocet!BE111","v":3.17},{"$f":"Vypocet!BF111","v":3.32},{"$f":"Vypocet!BG111","v":3.4}]
[null,null,null,null,null,null,null,null,null,null,null,null,null,null,null,null,null,null,null,null,null,null,null,null,null,null,null,null,null,null,null,"popis závislosti",null,"y=0,18571x+2,96",null,null,null,null,null,null,null,null,null,null,null,null,null,null,null,null,null,null,null,{"$f":"BB79-BA79","v":0.23999999999999977},0.22999999999999998,0.16000000000000014,0.20999999999999996,0.14999999999999991,8.0000000000000071E-2,"průměr",{"$f":"AVERAGE(BA80:BG80)","v":0.17833333333333332},"prumer/1",{"$f":"BI80/5","v":3.5666666666666666E-2}]
["teplo získané na výparníku",null,"Qv",{"$f":"D58*D18*(D10-D71)","v":147350.87431255195},"W",null,null,null,null,null,null,null,"teplo získané na výparníku",null,"Qv",{"$f":"P58*J18*(J10-P71)","v":47003.773128829853},"W",null,null,null,"A","Ti",{"$f":"Teplota","v":32},null,"B","tch",{"$f":"AA66","v":9},null,null,null,null,null,null,null,null,null,null,null,null,null,null,null,null,null,null,null,null,null,null,null,null,"popis závislosti",null,"y=0,18571x+2,96"]
[null,"rosný bod ",null,{"$f":"(243.5*LN(($D$7/100)*Konstanty!$F$12^((17.67*Teplota)/(243.5+Teplota))))/(17.67-(LN(($D$7/100)*Konstanty!$F$12^((17.67*Teplota)/(243.5+Teplota)))))","v":23.274251871309211},"°C ",null,null,null,null,null,null,null,null,"rosný bod ",null,{"$f":"(243.5*LN((J7/100)*Konstanty!$F$12^((17.67*J6)/(243.5+J6))))/(17.67-(LN((J7/100)*Konstanty!$F$12^((17.67*J6)/(243.5+J6)))))","v":14.413817952855092},"°C ",null,null,null,null,"xi",{"$f":"D16","v":1.8110682290797792E-2},null,null,"xch",{"$f":"AA76","v":7.276561763593062E-3},null,null,null,"teplota","COP",null,-18,2.1]
[null,null,null,null,null,null,null,null,null,null,null,null,null,null,null,null,null,null,null,null,null,"xi",{"$f":"D17","v":18.11068229079779},null,null,"xch",{"$f":"AA77","v":7.2765617635930617},null,null,null,-18,{"$f":"$AQ$79*AE83+$AJ$78","v":2.3180000000000001},null,-15,2.33,null,null,null,null,null,null,null,null,null,null,null,null,null,null,null,"teplota","COP"]
["Distribuce tepla v závislosti na externí teplotě",null,null,null,null,null,null,null,null,null,null,null,null,null,null,null,null,null,null,null,null,null,null,null,null,null,null,null,null,null,-17,2.3536666666666668,null,-10,2.57,null,null,null,null,null,null,null,null,null,null,null,null,null,null,null,-18,{"$f":"$AQ$79*AY84+$AJ$78","v":2.3180000000000001}]
["teplota předehřevu te",null,"tpřed",{"$f":"Vypocet!D85","v":5},"°C",null,null,null,null,null,null,null,null,null,null,null,null,null,null,null,null,"dx",{"$f":"deltaT","v":8.1},null,"výpočet teplochy při teplote chladice",null,null,null,null,null,-16,2.3893333333333331,null,-5,2.8,null,null,null,null,null,null,null,null,null,null,null,null,null,null,null,-17,2.3536666666666668]
["množství čerst vzduchu",null,null,{"$f":"Vypocet!D86","v":30},"%",null,null,null,null,null,null,null,null,null,null,null,null,null,null,null,null,"th",{"$f":"((W81-AA81)*W83+(AA83-W83)*W81-(W81-AA81)*(W83-W85))/(AA83-W83)","v":14.804326430355252},null,"počítá s přímkou ti - tch a na ní počítá bod",null,null,null,null,null,-15,2.4249999999999998,null,0,2.96,null,null,null,null,null,null,null,null,null,null,null,null,null,null,null,-16,2.3893333333333331]
["množství předehřívaného vzd",null,null,{"$f":"D58*(D86/100)","v":1.03387049466189},"m3/h",null,null,null,null,null,null,null,null,null,null,null,null,null,null,null,null,null,{"$f":"ROUND(W86,0)","v":15},null,null,null,null,null,null,null,-14,2.4606666666666666,null,5,3.17,null,null,null,null,null,null,null,null,null,null,null,null,null,null,null,-15,2.4249999999999998]
["potřeba tepla na předehřev",null,null,{"$f":"IF(D85>te,((D87*P18)/(1+P16))*(D85-te)*P18*Konstanty!$F$2,0)","v":0},"W",null,null,null,null,null,null,null,null,null,null,null,null,null,null,null,null,null,null,null,null,null,null,null,null,null,-13,2.4963333333333333,null,10,3.32,null,null,null,null,null,null,null,null,null,null,null,null,null,null,null,-14,2.4606666666666666]
[null,null,null,null,null,null,null,null,null,null,null,null,null,null,null,null,null,null,null,null,null,null,null,null,null,null,null,null,null,null,-12,2.532,null,15,3.4,null,null,null,null,null,null,null,null,null,null,null,null,null,null,null,-13,2.4963333333333333]
["t4","Předehřev exteriérového vzduchu",null,null,null,null,null,null,null,null,null,null,"t4","Předehřev exteriérového vzduchu",null,null,null,null,null,null,null,null,null,"Parametry chladiče klidovy rezim",null,null,null,null,null,null,-11,2.5676666666666668,null,null,null,null,null,null,null,null,null,null,null,null,null,null,null,null,null,null,-12,2.532]
["teplota předehřevu",null,"tpředehřev",{"$f":"IF($D$85>te,$D$85,te)","v":15},"°C",null,null,null,null,null,null,null,"teplota předehřevu",null,"tpředehřev",{"$f":"IF($D$85>te,$D$85,te)","v":15},"°C",null,null,null,null,null,null,"teplota",null,"ti",{"$f":"P63","v":9},"°C",null,null,-10,2.6033333333333335,null,null,null,null,null,null,null,null,null,null,null,null,null,null,null,null,null,null,-11,2.5676666666666668]
[null,null,"rhpředehřev",{"$f":"((D101*P15)/(D97*(0.622+D101)))*100","v":73.002260086739838},"%",null,null,null,null,null,null,null,null,null,"rhpředehřev",{"$f":"((P101*P15)/(P97*(0.622+P101)))*100","v":73.002260086739838},"%",null,null,null,null,null,null,"relativní vlhkost",null,"rhi",{"$f":"P64","v":100},"%",null,null,-9,2.6389999999999998,null,null,null,null,null,null,null,null,null,null,null,null,null,null,null,null,null,null,-10,2.6033333333333335]
["entalpie s.v.",null,"hsv4",{"$f":"Konstanty!$F$2*D91","v":15150},"J/kg",null,null,null,null,null,null,null,"entalpie s.v.",null,"hsv4",{"$f":"Konstanty!$F$2*P91","v":15150},"J/kg",null,null,null,null,null,null,"entalpie s.v.",null,"hsvi",{"$f":"Konstanty!$F$2*AA91","v":9090},"J/kg",null,null,-8,2.6746666666666665,null,null,null,null,null,null,null,null,null,null,null,null,null,null,null,null,null,null,-9,2.6389999999999998]
["entalpie v.p.",null,"hvp4",{"$f":"D101*(Konstanty!$F$3*D91+Konstanty!$F$4)","v":19956.853517096613},"J/kg",null,null,null,null,null,null,null,"entalpie v.p.",null,"hvp4",{"$f":"P101*(Konstanty!$F$3*P91+Konstanty!$F$4)","v":19956.853517096613},"J/kg",null,null,null,null,null,null,"entalpie v.p.",null,"hvpi",{"$f":"$AA$76*(Konstanty!$F$3*AA91+Konstanty!$F$4)","v":18311.904271787756},"J/kg",null,null,-7,2.7103333333333333,null,null,null,null,null,null,null,null,null,null,null,null,null,null,null,null,null,null,-8,2.6746666666666665]
["entalpie ",null,"h4",{"$f":"D93+D94","v":35106.853517096613},"J/kg",null,null,null,null,null,null,null,"entalpie ",null,"h4",{"$f":"P93+P94","v":35106.853517096613},"J/kg",null,null,null,null,null,null,"entalpie ",null,"hi",{"$f":"AA93+AA94","v":27401.904271787756},"J/kg",null,null,-6,2.746,null,null,null,null,null,null,null,null,null,null,null,null,null,null,null,null,null,null,-7,2.7103333333333333]
[null,null,null,{"$f":"D95/1000","v":35.10685351709661},"kJ/kg",null,null,null,null,null,null,null,null,null,null,{"$f":"P95/1000","v":35.10685351709661},"kJ/kg",null,null,null,null,null,null,null,null,null,{"$f":"AA95/1000","v":27.401904271787757},"kJ/kg",null,null,-5,2.7816666666666667,null,null,null,null,null,null,null,null,null,null,null,null,null,null,null,null,null,null,-6,2.746]
["tlak nasycené vodní páry",null,"p''vp4",{"$f":"Konstanty!$F$12^((1500.3+23.5*D91)/(234+D91))","v":1704.3922173186882},"Pa",null,null,null,null,null,null,null,"tlak nasycené vodní páry",null,"p''vp4",{"$f":"Konstanty!$F$12^((1500.3+23.5*P91)/(234+P91))","v":1704.3922173186882},"Pa",null,null,null,null,null,null,"tlak nasycené vodní páry",null,"p''vpi",{"$f":"Konstanty!$F$12^((1500.3+23.5*AA91)/(234+AA91))","v":1146.4717300807256},"Pa",null,null,-4,2.8173333333333335,null,null,null,null,null,null,null,null,null,null,null,null,null,null,null,null,null,null,-5,2.7816666666666667]
["tlak  vodní páry",null,"pvp4",{"$f":"(D92/100)*D97","v":1244.2448393851407},"Pa",null,null,null,null,null,null,null,"tlak  vodní páry",null,"pvp4",{"$f":"(P92/100)*P97","v":1244.2448393851407},"Pa",null,null,null,null,null,null,"tlak  vodní páry",null,"pvpi",{"$f":"(AA92/100)*AA97","v":1146.4717300807256},"Pa",null,null,-3,2.8529999999999998,null,null,null,null,null,null,null,null,null,null,null,null,null,null,null,null,null,null,-4,2.8173333333333335]
["tlak suchého vzduchu",null,"psv4",{"$f":"D103*Konstanty!$F$5*(D91+273.15)","v":98019.544630499993},"Pa",null,null,null,null,null,null,null,"tlak suchého vzduchu",null,"psv4",{"$f":"P103*Konstanty!$F$5*(P91+273.15)","v":98019.544630499993},"Pa",null,null,null,null,null,null,"tlak suchého vzduchu",null,"psvi",{"$f":"AA103*Konstanty!$F$5*(AA91+273.15)","v":98003.397392999992},"Pa",null,null,-2,2.8886666666666665,null,null,null,null,null,null,null,null,null,null,null,null,null,null,null,null,null,null,-3,2.8529999999999998]
["tlak směsi vlhkého vzduchu",null,"p4",{"$f":"D98+D99","v":99263.789469885131},"Pa",null,null,null,null,null,null,null,"tlak směsi vlhkého vzduchu",null,"p4",{"$f":"P98+P99","v":99263.789469885131},"Pa",null,null,null,null,null,null,"tlak směsi vlhkého vzduchu",null,"pi",{"$f":"AA98+AA99","v":99149.869123080716},"Pa",null,null,-1,2.9243333333333332,null,null,null,null,null,null,null,null,null,null,null,null,null,null,null,null,null,null,-2,2.8886666666666665]
["měrná vlhkost vzduchu",null,"x4",{"$f":"P16","v":7.8955742669317187E-3},"kg/kg s.v.",null,null,null,null,null,null,null,"měrná vlhkost vzduchu",null,"x4",{"$f":"P16","v":7.8955742669317187E-3},"kg/kg s.v.",null,null,null,null,null,null,"měrná vlhkost vzduchu",null,"xi",{"$f":"(Konstanty!$F$5/Konstanty!$F$6)*(AA98/AA99)","v":7.276561763593062E-3},"kg/kg s.v.",null,null,0,2.96,null,null,null,null,null,null,null,null,null,null,null,null,null,null,null,null,null,null,-1,2.9243333333333332]
[null,null,null,{"$f":"D101*1000","v":7.8955742669317184},"g/kg s.v.",null,null,null,null,null,null,null,null,null,null,{"$f":"P101*1000","v":7.8955742669317184},"g/kg s.v.",null,null,null,null,null,null,null,null,null,{"$f":"AA101*1000","v":7.2765617635930617},"g/kg s.v.",null,null,1,2.9956666666666667,null,null,null,null,null,null,null,null,null,null,null,null,null,null,null,null,null,null,0,2.96]
["hustota vzduchu při t",null,null,{"$f":"VLOOKUP(D91,Tabulky!$V$15:$AF$75,9,0)","v":1.1850000000000001},"kg/m3",null,null,null,null,null,null,null,"hustota vzduchu při t",null,null,{"$f":"VLOOKUP(P91,Tabulky!$V$15:$AF$75,9,0)","v":1.1850000000000001},"kg/m3",null,null,null,null,null,null,"hustota vzduchu při t",null,null,{"$f":"VLOOKUP(AA91,Tabulky!$V$15:$AF$75,9,0)","v":1.21},"kg/m3",null,null,2,3.0313333333333334,null,null,null,null,null,null,null,null,null,null,null,null,null,null,null,null,null,null,1,2.9956666666666667]
[null,null,null,null,null,null,null,null,null,null,null,null,null,null,null,null,null,null,null,null,null,null,null,null,null,null,{"$f":"1.395-Teplota*0.004414","v":1.253752},null,null,null,3,3.0670000000000002,null,null,null,null,null,null,null,null,null,null,null,null,null,null,null,null,null,null,2,3.0313333333333334]
["t4'","smíšení vzduchu s exteriérovým",null,null,null,null,null,null,null,null,null,null,"t4'","smíšení vzduchu s exteriérovým",null,null,null,null,null,null,null,null,null,null,null,null,null,null,null,null,4,3.1026666666666665,null,null,null,null,null,null,null,null,null,null,null,null,null,null,null,null,null,null,3,3.0670000000000002]
["Množství čerstvého vzduchu",null,"Včerstv",{"$f":"IF(D91>tvyp,100,$D$86)","v":30},"%",null,null,null,null,null,null,null,"Množství čerstvého vzduchu",null,"Včerstv",{"$f":"IF(P91>tvyp,100,$D$86)","v":30},"%",null,null,null,"A","Ti",{"$f":"J6","v":24},null,"B","tch",{"$f":"AA91","v":9},null,null,null,5,3.1383333333333332,null,null,null,null,null,null,null,null,null,null,null,null,null,null,null,null,null,null,4,3.1026666666666665]
["teplota vzduchu",null,"t4",{"$f":"ROUND(((((D106/100)*D58)*D91+((1-(D106/100))*D58)*tvyp)/D58),0)","v":15},"°C",null,null,null,null,null,null,null,"teplota vzduchu",null,"t4",{"$f":"ROUND(((((P106/100)*P58)*P91+((1-(P106/100))*P58)*tvyp)/P58),0)","v":15},"°C",null,null,null,null,"xi",{"$f":"J16","v":1.0144214643132086E-2},null,null,"xch",{"$f":"AA101","v":7.276561763593062E-3},null,null,null,6,3.1739999999999999,null,null,null,null,null,null,null,null,null,null,null,null,null,null,null,null,null,null,5,3.1383333333333332]
["relativní vlhkost",null,"rh4",{"$f":"(1-(D106/100))*D68+(D106/100)*D92","v":86.691646524467288},"%",null,null,null,null,null,null,null,"relativní vlhkost",null,"rh4",{"$f":"(1-(P106/100))*P68+(P106/100)*P92","v":74.371159889940202},"%",null,null,null,null,"xi",{"$f":"J17","v":10.144214643132086},null,null,"xch",{"$f":"AA102","v":7.2765617635930617},null,null,null,7,3.2096666666666667,null,null,null,null,null,null,null,null,null,"  ",null,null,null,null,null,null,null,null,6,3.1739999999999999]
["entalpie s.v.",null,"hsv4",{"$f":"Konstanty!$F$2*D107","v":15150},"J/kg",null,null,null,null,null,null,null,"entalpie s.v.",null,"hsv4",{"$f":"Konstanty!$F$2*P107","v":15150},"J/kg",null,null,null,null,null,null,null,null,null,null,null,null,null,8,3.2453333333333334,null,null,null,null,null,null,null,null,null,null,null,null,null,null,null,null,null,null,7,3.2096666666666667]
["entalpie v.p.",null,"hvp4",{"$f":"D117*(Konstanty!$F$3*D107+Konstanty!$F$4)","v":23699.897134859057},"J/kg",null,null,null,null,null,null,null,"entalpie v.p.",null,"hvp4",{"$f":"P117*(Konstanty!$F$3*P107+Konstanty!$F$4)","v":20331.703340001473},"J/kg",null,null,null,null,"dx",{"$f":"P62","v":1.5},null,null,null,null,null,null,null,9,3.2810000000000001,null,null,null,null,null,null,null,null,null,null,null,null,null,null,null,null,null,null,8,3.2453333333333334]
["entalpie ",null,"h4",{"$f":"D109+D110","v":38849.897134859057},"J/kg",null,null,null,null,null,null,null,"entalpie ",null,"h4",{"$f":"P109+P110","v":35481.703340001477},"J/kg",null,null,null,null,"th",{"$f":"((W106-AA106)*W108+(AA108-W108)*W106-(W106-AA106)*(W108-W110))/(AA108-W108)","v":16.153862079842494},null,null,null,null,null,null,null,10,3.3166666666666664,null,null,null,null,null,null,null,null,null,null,null,null,null,null,null,null,null,null,9,3.2810000000000001]
[null,null,null,{"$f":"D111/1000","v":38.849897134859056},"kJ/kg",null,null,null,null,null,null,null,null,null,null,{"$f":"P111/1000","v":35.481703340001474},"kJ/kg",null,null,null,null,null,{"$f":"ROUND(W111,0)","v":16},null,null,null,null,null,null,null,11,3.3523333333333332,null,null,null,null,null,null,null,null,null,null,null,null,null,null,null,null,null,null,10,3.3166666666666664]
["tlak nasycené vodní páry",null,"p''vp4",{"$f":"Konstanty!$F$12^((1500.3+23.5*D107)/(234+D107))","v":1704.3922173186882},"Pa",null,null,null,null,null,null,null,"tlak nasycené vodní páry",null,"p''vp4",{"$f":"Konstanty!$F$12^((1500.3+23.5*P107)/(234+P107))","v":1704.3922173186882},"Pa",null,null,null,null,null,null,null,null,null,null,null,null,null,12,3.3879999999999999,null,null,null,null,null,null,null,null,null,null,null,null,null,null,null,null,null,null,11,3.3523333333333332]
["tlak  vodní páry",null,"pvp4",{"$f":"(D108/100)*D113","v":1477.5656764284474},"Pa",null,null,null,null,null,null,null,"tlak  vodní páry",null,"pvp4",{"$f":"(P108/100)*P113","v":1267.5762610937786},"Pa",null,null,null,null,null,null,null,null,null,null,null,null,null,13,3.4236666666666666,null,null,null,null,null,null,null,null,null,null,null,null,null,null,null,null,null,null,12,3.3879999999999999]
["tlak suchého vzduchu",null,"psv4",{"$f":"D119*Konstanty!$F$5*(D107+273.15)","v":98019.544630499993},"Pa",null,null,null,null,null,null,null,"tlak suchého vzduchu",null,"psv4",{"$f":"P119*Konstanty!$F$5*(P107+273.15)","v":98019.544630499993},"Pa",null,null,null,null,null,null,null,null,null,null,null,null,null,14,3.4593333333333334,null,null,null,null,null,null,null,null,null,null,null,null,null,null,null,null,null,null,13,3.4236666666666666]
["tlak směsi vlhkého vzduchu",null,"p4",{"$f":"D114+D115","v":99497.110306928444},"Pa",null,null,null,null,null,null,null,"tlak směsi vlhkého vzduchu",null,"p4",{"$f":"P114+P115","v":99287.120891593775},"Pa",null,null,null,null,null,null,null,null,null,null,null,null,null,15,3.4950000000000001,null,null,null,null,null,null,null,null,null,null,null,null,null,null,null,null,null,null,14,3.4593333333333334]
["měrná vlhkost vzduchu",null,"x4",{"$f":"(Konstanty!$F$5/Konstanty!$F$6)*(D114/D115)","v":9.3764429240619784E-3},"kg/kg s.v.",null,null,null,null,null,null,null,"měrná vlhkost vzduchu",null,"x4",{"$f":"(Konstanty!$F$5/Konstanty!$F$6)*(P114/P115)","v":8.0438769346421399E-3},"kg/kg s.v.",null,null,null,null,null,null,null,null,null,null,null,null,null,16,3.5306666666666668,null,null,null,null,null,null,null,null,null,null,null,null,null,null,null,null,null,null,15,3.4950000000000001]
[null,null,null,{"$f":"D117*1000","v":9.376442924061978},"g/kg s.v.",null,null,null,null,null,null,null,null,null,null,{"$f":"P117*1000","v":8.0438769346421406},"g/kg s.v.",null,null,null,null,null,null,null,null,null,null,null,null,null,17,3.5663333333333331,null,null,null,null,null,null,null,null,null,null,null,null,null,null,null,null,null,null,16,3.5306666666666668]
["hustota vzduchu při t",null,null,{"$f":"VLOOKUP(D107,Tabulky!$V$15:$AF$75,9,0)","v":1.1850000000000001},"kg/m3",null,null,null,null,null,null,null,"hustota vzduchu při t",null,null,{"$f":"VLOOKUP(P107,Tabulky!$V$15:$AF$75,9,0)","v":1.1850000000000001},"kg/m3",null,null,null,null,null,null,null,null,null,null,null,null,null,18,3.6019999999999999,null,null,null,null,null,null,null,null,null,null,null,null,null,null,null,null,null,null,17,3.5663333333333331]
[null,null,null,null,null,null,null,null,null,null,null,null,null,null,null,null,null,null,null,null,null,null,null,null,null,null,null,null,null,null,19,3.6376666666666666,null,null,null,null,null,null,null,null,null,null,null,null,null,null,null,null,null,null,18,3.6019999999999999]
["množství tepla na kondenzátoru",null,"Qk",{"$f":"AH69","v":194862.97909948832},"W",null,null,"přepočet mw na msv",{"$f":"(D58*D119)/(1+D117)","v":4.0458527465572134},"m3/s",null,null,"množství tepla na kondenzátoru",null,"Qk",{"$f":"BB70","v":56763.692798437383},"W",null,null,null,null,null,null,null,null,null,null,null,null,null,20,3.6733333333333333,null,null,null,null,null,null,null,null,null,null,null,null,null,null,null,null,null,null,19,3.6376666666666666]
["Požadované teplo na dohřev",null,"Qpož",{"$f":"(D134-D107)*Konstanty!F2*D119*I121+D88","v":92003.298334623018},"W",null,null,null,null,null,null,null,"Požadované teplo na dohřev",null,null,{"$f":"(P134-P107)*Konstanty!$F$2*P119*P58","v":28808.354677037572},"W",null,null,null,null,null,null,null,null,null,null,null,null,null,21,3.7090000000000001,null,null,null,null,null,null,null,null,null,null,null,null,null,null,null,null,null,null,20,3.6733333333333333]
["dosažená teplota",null,"t6",{"$f":"D121/(D58*D119*Konstanty!$F$2)+D107","v":62.243789645329578},"°C",null,null,null,null,null,null,null,"dosažená teplota",null,"t6",{"$f":"P121/(P58*P119*Konstanty!$F$2)+P107","v":52.437409225941117},"°C",null,null,null,null,null,null,null,null,null,null,null,null,null,22,3.7446666666666664,null,null,null,null,null,null,null,null,null,null,null,null,null,null,null,null,null,null,21,3.7090000000000001]
["potřeba dohřevu",null,"Qdohř",{"$f":"IF((D122-D121)>0,D122-D121,0)","v":0},"W",null,null,null,null,null,null,null,"potřeba dohřevu",null,"Qdohř",{"$f":"IF((P122-P121)>0,P122-P121,0)","v":0},"W",null,null,null,null,null,null,null,null,null,null,null,null,null,23,3.7803333333333331,null,null,null,null,null,null,null,null,null,null,null,null,null,null,null,null,null,null,22,3.7446666666666664]
["přebytečné teplo",null,"Qpřebyt",{"$f":"IF((D122-D121)<0,D121-D122,0)","v":102859.6807648653},"W",null,null,null,null,null,null,null,"přebytečné teplo",null,"Qpřebyt",{"$f":"IF((P122-P121)<0,P121-P122,0)","v":27955.338121399811},"W",null,null,null,null,null,null,null,null,null,null,null,null,null,24,3.8159999999999998,null,null,null,null,null,null,null,null,null,null,null,null,null,null,null,null,null,null,23,3.7803333333333331]
[null,null,null,null,null,null,null,null,null,null,null,null,null,null,null,null,null,null,null,null,null,null,null,null,null,null,null,null,null,null,25,3.8516666666666666,null,null,null,null,null,null,null,null,null,null,null,null,null,null,null,null,null,null,24,3.8159999999999998]
[null,null,null,null,null,null,null,null,null,null,null,null,null,null,null,null,null,null,null,null,null,null,null,null,null,null,null,null,null,null,26,3.8873333333333333,null,null,null,null,null,null,null,null,null,null,null,null,null,null,null,null,null,null,25,3.8516666666666666]
["teplota zvýšení do int",null,"tzv",{"$f":"Vypocet!D128","v":2},"°C ",null,null,null,null,null,null,null,null,"teplota zvýšení do int","tzv",{"$f":"Vypocet!P128","v":2},"°C ",null,null,null,null,null,null,null,null,null,null,null,null,null,27,3.923,null,null,null,null,null,null,null,null,null,null,null,null,null,null,null,null,null,null,26,3.8873333333333333]
["teplotní spád kondenzatoru",null,"Δt",{"$f":"Vypocet!D129","v":0},"°C ",null,null,null,null,null,null,null,null,"teplotní spád kondenzatoru","Δt",{"$f":"Vypocet!P129","v":0},"°C ",null,null,null,null,null,null,null,null,null,null,null,null,null,28,3.9586666666666668,null,null,null,null,null,null,null,null,null,null,null,null,null,null,null,null,null,null,27,3.923]
["teplota kondenzatoru",null,"tohř",{"$f":"Vypocet!D130","v":0},"°C ",null,null,null,null,null,null,null,null,"teplota kondenzatoru","tohř",{"$f":"Vypocet!P130","v":0},"°C ",null,null,null,null,null,null,null,null,null,null,null,null,null,29,3.9943333333333335,null,null,null,null,null,null,null,null,null,null,null,null,null,null,null,null,null,null,28,3.9586666666666668]
["relativní vlhkost",null,"rhohř",{"$f":"Vypocet!D131","v":0},"%",null,null,null,null,null,null,null,null,"relativní vlhkost","rhohř",{"$f":"Vypocet!P131","v":0},"%",null,null,null,null,null,null,null,null,null,null,null,null,null,30,4.03,null,null,null,null,null,null,null,null,null,null,null,null,null,null,null,null,null,null,29,3.9943333333333335]
[null,null,null,null,null,null,null,null,null,null,null,null,null,null,null,null,null,null,null,null,null,null,null,null,null,null,null,null,null,null,31,4.065666666666667,null,null,null,null,null,null,null,null,null,null,null,null,null,null,null,null,null,null,30,4.03]
["t5","parametry vyduchu za kondenzátorem",null,null,null,null,null,null,null,null,null,null,"t5","parametry vyduchu za kondenzátorem",null,null,null,null,null,null,null,null,null,null,null,null,null,null,null,null,32,4.1013333333333328]
["požadovaná teplotateplota do I",null,"t5",{"$f":"Teplota+D128","v":34},"°C",null,null,null,null,null,null,null,"požadovaná teplota do I",null,"t5",{"$f":"Teplota+P128","v":34},"°C",null,null,null,null,null,null,null,null,null,null,null,null,null,33,4.1370000000000005]
["dosažená teplota",null,"tdos",{"$f":"D123","v":62.243789645329578},"°C",null,null,null,null,null,null,null,"dosažená teplota",null,"t6",{"$f":"P123","v":52.437409225941117},null,null,null,null,null,null,null,null,null,null,null,null,null,null,34,4.1726666666666663]
[null,null,null,null,null,null,null,null,null,null,null,null,null,null,null,null,null,null,null,null,null,null,null,null,null,null,null,null,null,null,35,4.208333333333333]
["relativní vlhkost",null,"rh5",{"$f":"((D146*D116)/(D142*(0.622+D146)))*100","v":27.767732925129817},"%",null,null,null,null,null,null,null,"relativní vlhkost",null,"rh5",{"$f":"((P146*P116)/(P142*(0.622+P146)))*100","v":23.821425971870834},"%"]
["entalpie s.v.",null,"hsv5",{"$f":"Konstanty!$F$2*D134","v":34340},"J/kg",null,null,null,null,null,null,null,"entalpie s.v.",null,"hsv5",{"$f":"Konstanty!$F$2*P134","v":34340},"J/kg"]
["entalpie v.p.",null,"hvp5",{"$f":"D146*(Konstanty!$F$3*D134+Konstanty!$F$4)","v":24027.697579484262},"J/kg",null,null,null,null,null,null,null,"entalpie v.p.",null,"hvp5",{"$f":"P146*(Konstanty!$F$3*P134+Konstanty!$F$4)","v":20612.917277636563},"J/kg"]
["entalpie ",null,"h5",{"$f":"D138+D139","v":58367.697579484258},"J/kg",null,null,null,null,null,null,null,"entalpie ",null,"h5",{"$f":"P138+P139","v":54952.917277636559},"J/kg"]
[null,null,null,{"$f":"D140/1000","v":58.367697579484258},"kJ/kg",null,null,null,null,null,null,null,null,null,null,{"$f":"P140/1000","v":54.952917277636558},"kJ/kg"]
["tlak nasycené vodní páry",null,"p''vp5",{"$f":"Konstanty!$F$12^((1500.3+23.5*D134)/(234+D134))","v":5321.3250022529974},"Pa",null,null,null,null,null,null,null,"tlak nasycené vodní páry",null,"p''vp5",{"$f":"Konstanty!$F$12^((1500.3+23.5*P134)/(234+P134))","v":5321.3250022529974},"Pa",null,null,null,null,null,null,null,null,null,null,null,null,null,"dt vyp"]
["tlak  vodní páry",null,"pvp5",{"$f":"(D137/100)*D142","v":1477.6113147037706},"Pa",null,null,null,null,null,null,null,"tlak  vodní páry",null,"pvp5",{"$f":"(P137/100)*P142","v":1267.6154961343518},"Pa",null,null,null,null,null,null,null,null,null,null,null,null,null,2]
["tlak suchého vzduchu",null,"psv5",{"$f":"D148*Konstanty!$F$5*(D134+273.15)","v":97958.084656299994},"Pa",null,null,null,null,null,null,null,"tlak suchého vzduchu",null,"psv5",{"$f":"Konstanty!$F$8*Konstanty!$F$5*(P134+273.15)","v":108009.58929249999},"Pa",null,null,null,null,null,null,null,null,null,null,null,null,null,3]
["tlak směsi vlhkého vzduchu",null,"p5",{"$f":"D143+D144","v":99435.695971003763},"Pa",null,null,null,null,null,null,null,"tlak směsi vlhkého vzduchu",null,"p5",{"$f":"P143+P144","v":109277.20478863435},"Pa",null,null,null,null,null,null,null,null,null,null,null,null,null,4]
["měrná vlhkost vzduchu",null,"x5",{"$f":"D117","v":9.3764429240619784E-3},"kg/kg s.v.",null,null,null,null,null,null,null,"měrná vlhkost vzduchu",null,"x5",{"$f":"P117","v":8.0438769346421399E-3},"kg/kg s.v.",null,null,null,null,null,null,null,null,null,null,null,null,null,5]
[null,null,null,{"$f":"D146*1000","v":9.376442924061978},"g/kg s.v.",null,null,null,null,null,null,null,null,null,null,{"$f":"P146*1000","v":8.0438769346421406},"g/kg s.v.",null,null,null,null,null,null,null,null,null,null,null,null,null,6,{"$f":"D124","v":0}]
["hustota vzduchu při t",null,null,{"$f":"VLOOKUP(D134,Tabulky!$V$15:$AF$75,9,0)","v":1.111},"kg/m3",null,null,null,null,null,null,null,"hustota vzduchu při t",null,null,{"$f":"VLOOKUP(P134,Tabulky!$V$15:$AF$75,9,0)","v":1.111},"kg/m3",null,null,null,null,null,null,null,null,null,null,null,null,null,7]
[null,null,null,null,null,null,null,null,null,null,null,null,null,null,null,null,null,null,null,null,null,null,null,null,null,null,null,null,null,null,8]
["navlhčení z prostoru",null,null,null,null,null,null,null,null,null,null,null,"navlhčení z prostoru",null,null,null,null,null,null,null,null,null,null,null,null,null,null,null,null,null,9]
["dx=n.100/V.ρ",null,"dx",{"$f":"(D33*100)/D57*Konstanty!$F$8","v":0.59243396843461305},"g/kg s.v",null,null,null,null,null,null,null,"dx=n.100/V.ρ",null,"dx",{"$f":"(P30*100)/P57*Konstanty!$F$8","v":5.3720302982114262E-2},"g/kg s.v",null,null,null,null,null,null,null,null,null,null,null,null,null,10]
[null,null,null,null,null,null,null,null,null,null,null,null,null,null,null,null,null,null,null,null,null,null,null,null,null,null,null,null,null,null,11]
["NUTNÉ vzduch privlhčit",null,null,null,null,null,null,null,null,null,null,null,"NUTNÉ vzduch privlhčit",null,null,null,null,null,null,null,null,null,null,null,null,null,null,null,null,null,12]
[null,null,null,null,null,null,null,null,null,null,null,null,null,null,null,null,null,null,null,null,null,null,null,null,null,null,null,null,null,null,13]
[null,null,null,null,null,null,null,null,null,null,null,null,null,null,null,null,null,null,null,null,null,null,null,null,null,null,null,null,null,null,14]
[null,null,null,null,null,null,null,null,null,null,null,null,null,null,null,null,null,null,null,null,null,null,null,null,null,null,null,null,null,null,15]

{"sheet":"V8","index":7,"n_rows":156,"n_cols":63,"rows_kept":156,"cut":false,"hidden":false,"merged":[[59,6,59,7],[4,15,4,18],[26,3,26,6],[27,3,27,6],[33,6,33,7],[40,6,40,7]]}
[null,"Legenda",null,null,"hodnotu nutno zadat",null,null,null,null,"prevzato z první "]
[null,null,null,null,"hodnota se vypočítává "]
[null,null,null,null,"pomocná hodnota"]
["Parametry vzduchu",null,null,null,null,null,"interier klidovy rezim ",null,null,null,null,null,null,null,null,null,null,null,null,null,"Produkce tepla od",null,null,"ni",{"$f":"0.85*Y5+0.75*Y6+Y7","v":60.5},null,null,"Qi=ni.6,2*(36-ti)"]
["Interiér","ti",null,null,null,null,"Interiér","ti",null,null,null,null,"Exteriér","te",null,"minimální teplota -15 (tabulka) ",null,null,null,null,"lidí",{"$f":"Y4*6.2*(36-Teplota)","v":1500.4},"W","nz",{"$f":"Vypocet!Y5","v":30},"zeny",null,"ni=0,85nz+0,75nd+nm"]
["teplota",null,"ti",{"$f":"[0]!Teplota","v":32},"°C",null,"teplota",null,"ti",{"$f":"Vypocet!J6","v":24},"°C",null,"teplota",null,"te",{"$f":"CEILING(Vypocet!P6+30,5)","v":20},"°C",null,null,null,null,null,null,"nd ",{"$f":"Vypocet!Y6","v":20},"deti",null,"nz - zeny, nd deti, nm muzi"]
["relativní vlhkost",null,"rhi",{"$f":"Vypocet!D7","v":60},"%",null,"relativní vlhkost",null,"rhi",{"$f":"Vypocet!J7","v":55},"%",null,"relativní vlhkost",null,"rhe",{"$f":"ROUND((93*te-3153.5)/(te-39.17),0)","v":67},"%",null,null,null,null,null,null,"nm",{"$f":"Vypocet!Y7","v":20},"muzi"]
["entalpie s.v.",null,"hsvi",{"$f":"Konstanty!$F$2*Teplota","v":32320},"J/kg",null,"entalpie s.v.",null,"hsvi",{"$f":"Konstanty!$F$2*J6","v":24240},"J/kg",null,"entalpie s.v.",null,"hsve",{"$f":"Konstanty!$F$2*te","v":20200},"J/kg"]
["entalpie v.p.",null,"hvpi",{"$f":"$D$16*(Konstanty!$F$3*Teplota+Konstanty!$F$4)","v":46343.062700276656},"J/kg",null,"entalpie v.p.",null,"hvpi",{"$f":"$D$16*(Konstanty!$F$3*J6+Konstanty!$F$4)","v":46076.473456956111},"J/kg",null,"entalpie v.p.",null,"hvpe",{"$f":"P16*(Konstanty!F3*P6+Konstanty!F4)","v":25213.516162685621},"J/kg",null,null,null,"Odpar z povrchů"]
["entalpie ",null,"hi",{"$f":"D8+D9","v":78663.062700276656},"J/kg",null,"entalpie ",null,"hi",{"$f":"J8+J9","v":70316.473456956111},"J/kg",null,"entalpie ",null,"he",{"$f":"IF(P8<0,P9-P8,P8+P9)","v":45413.516162685621},"J/kg",null,null,null,null,null,null,null,null,null,null,"(7+3,5*w)*S*(xp´´-x).10-3"]
[null,null,null,{"$f":"D10/1000","v":78.663062700276654},"kJ/kg",null,null,null,null,{"$f":"J10/1000","v":70.316473456956118},"kJ/kg",null,null,null,null,{"$f":"P10/1000","v":45.413516162685617},"kJ/kg",null,null,null,null,null,null,null,null,null,null,"w stredni rychlost vzduchu"]
["tlak nasycené vodní páry",null,"p''vpi",{"$f":"Konstanty!$F$12^((1500.3+23.5*D6)/(234+D6))","v":4756.6229589957475},"Pa",null,"tlak nasycené vodní páry",null,"p''vpi",{"$f":"Konstanty!$F$12^((1500.3+23.5*J6)/(234+J6))","v":2984.4262331760842},"Pa",null,"tlak nasycené vodní páry",null,"p''vpe",{"$f":"Konstanty!$F$12^((1500.3+23.5*P6)/(234+P6))","v":2338.0829352500591},"Pa",null,{"$f":"2.718^(28.926-(6148/(273.15+te)))","v":2844.0284168085823},null,null,null,null,null,null,null,null,"xp´´-merna vlhkost nasyceneho vzduchu"]
["tlak  vodní páry",null,"pvpi",{"$f":"(D7/100)*D12","v":2853.9737753974482},"Pa",null,"tlak  vodní páry",null,"pvpi",{"$f":"(J7/100)*J12","v":1641.4344282468464},"Pa",null,"tlak  vodní páry",null,"pvpe",{"$f":"(P7/100)*P12","v":1566.5155666175397},"Pa",null,null,null,null,null,null,null,null,null,null,"x - merna vlhkost vzduchu nad povrchem "]
["tlak suchého vzduchu",null,"psvi",{"$f":"D18*Konstanty!$F$5*(Teplota+273.15)","v":98021.008646699993},"Pa",null,"tlak suchého vzduchu",null,"psvi",{"$f":"J18*Konstanty!$F$5*(Teplota+273.15)","v":100648.9177257},"Pa",null,"tlak suchého vzduchu",null,"psve",{"$f":"P18*Konstanty!F5*(P6+273.15)","v":98037.342474499994},"Pa",null,null,null,null,null,null,null,null,null,null,"S plocha"]
["tlak směsi vlhkého vzduchu",null,"pi",{"$f":"D13+D14","v":100874.98242209744},"Pa",null,"tlak směsi vlhkého vzduchu",null,"pi",{"$f":"J13+J14","v":102290.35215394685},"Pa",null,"tlak směsi vlhkého vzduchu",null,"pe",{"$f":"P13+P14","v":99603.858041117535},"Pa"]
["měrná vlhkost vzduchu",null,"xi",{"$f":"(Konstanty!$F$5/Konstanty!$F$6)*(D13/D14)","v":1.8110682290797792E-2},"kg/kg s.v.",null,"měrná vlhkost vzduchu",null,"xi",{"$f":"(Konstanty!$F$5/Konstanty!$F$6)*(J13/J14)","v":1.0144214643132086E-2},"kg/kg s.v.",null,"měrná vlhkost vzduchu",null,"xe",{"$f":"(Konstanty!F5/Konstanty!F6)*(P13/P14)","v":9.9391028708158396E-3},"kg/kg s.v."]
[null,null,null,{"$f":"D16*1000","v":18.11068229079779},"g/kg s.v.",null,null,null,null,{"$f":"J16*1000","v":10.144214643132086},"g/kg s.v.",null,null,null,null,{"$f":"P16*1000","v":9.9391028708158391},"g/kg s.v."]
["hustota vzduchu při t",null,null,{"$f":"VLOOKUP(Teplota,Tabulky!$V$15:$AF$75,9,0)","v":1.119},"kg/m3",null,"hustota vzduchu při t",null,null,{"$f":"VLOOKUP(J6,Tabulky!V15:AF75,9,0)","v":1.149},"kg/m3",null,"hustota vzduchu při t",null,null,{"$f":"VLOOKUP(te,Tabulky!V15:AF75,9,0)","v":1.165},"kg/m3"]
[null,null,null,{"$f":"1.395-Teplota*0.004414","v":1.253752}]
["Bazén",null,null,null,null,null,null,null,"rozměry bazénu"]
["Teplota vody",null,"tsniz",{"$f":"Vypocet!D21","v":2},"°C","snížení teploty vody (dop 2-3°C)",null,null,"délka bazén","a",{"$f":"Vypocet!K21","v":25},"m"]
["tvz-(2-3)°C",null,"tvod",{"$f":"D6-D21","v":30},"°C",null,null,null,"šířka bazén","b",{"$f":"Vypocet!K22","v":12},"m"]
[]
["Mn. odpařené vody"]
["mw=ε*A*(p´´vp-pvp)",null,"mw",{"$f":"D28*$D$29*($D$12/100-$D$13/100)","v":114158.95101589795},"g/h"]
[null,null,null,{"$f":"D25/1000","v":114.15895101589796},"kg/h",null,null,null,"budova"]
["typ bazenu",null,null,{"$f":"Vypocet!AH47","v":"bazény - normální provoz"},null,null,null,null,"délka","a",{"$f":"Vypocet!K27","v":40},"m"]
["mnozstvi odp vody",null,null,{"$f":"VLOOKUP(D27,Tab_souc_odparu_bazen,7,0)","v":20},null,null,null,"[g/(hPa.m2.h)]","šířka","b",{"$f":"Vypocet!K28","v":15},"m"]
["plocha bazénu",null,"A",{"$f":"K21*K22","v":300},"m2",null,null,null,"výška","v",{"$f":"Vypocet!K29","v":7},"m","Produkce vlhkosti osobami - klidový režim"]
["Objem haly",null,"V",{"$f":"K27*K28*K29","v":4200},"m3",null,null,null,null,null,null,null,"počet osob v bazénu",null,"nos",{"$f":"Vypocet!P30","v":2}]
[null,null,null,null,null,null,null,null,null,null,null,null,"množství vlhkosti",null,"mos",{"$f":"P30*100","v":200},"g/h"]
["Produkce vlhkosti osobami - v provozu",null,null,null,null,null,null,null,null,null,null,null,null,null,null,{"$f":"P31/1000","v":0.2},"kg/h",null,null,null,null,null,null,null,null,null,null,null,null,null,"Výkon na kondenzátoru",null,null,null,"Qk",{"$f":"AH69","v":194862.97909948832},"W"]
["počet osob v bazénu",null,"nos",{"$f":"Vypocet!D33","v":60},"počet",null,"Produkce vlhkosti člověkem",null,null,null,null,null,null,null,null,{"$f":"P31/3600","v":5.5555555555555552E-2},"g/s",null,null,null,null,null,null,null,null,null,null,null,null,null,null,null,null,null,null,{"$f":"AH70","v":194.86297909948831},"kW"]
["množství vlhkosti",null,"mos",{"$f":"D33*H35","v":6300},"g/h",null,{"$f":"Vypocet!AH50","v":"člověk při středně těžké práci"},null,null,null,null,null,null,null,null,null,null,null,null,null,null,null,null,null,null,null,null,null,null,null,"Teplota požadovaná v interiéru",null,null,null,"ti",{"$f":"Teplota","v":32},"°C"]
[null,null,null,{"$f":"D34/1000","v":6.3},"kg/h",null,{"$f":"VLOOKUP(G34,Tabulky!W146:Z148,4,0)","v":"60-150"},{"$f":"IF(G35=\"60-150\",105,IF(G35=\"30-60\",45,225))","v":105},"g/h",null,null,null,"Produkce vlhkosti  - klidový režim",null,null,null,null,null,null,null,null,null,null,null,null,null,null,null,null,null,null,null,null,null,null,null,null,null,null,null,null,null,null,null,null,null,null,null,null,null,"Výkon na kondenzátoru",null,null,null,"Qk",{"$f":"BB70","v":56763.692798437383},"W"]
[null,null,null,{"$f":"D34/3600","v":1.75},"g/s",null,"rozmezí","průměr",null,null,null,"množství odpařené vody",null,null,"mw",{"$f":"Tabulky!$G$4*$D$29*($D$12/100-$D$13/100)","v":28539.737753974488},"g/h",null,null,null,null,null,null,null,null,null,null,null,null,null,null,null,null,null,null,null,null,null,null,null,null,null,null,null,null,null,null,null,null,null,null,null,null,null,null,{"$f":"BB71","v":56.763692798437383},"kW"]
["celkové množství odpařené vody",null,null,{"$f":"(D25+D34)*(I37/100+1)","v":126481.89856669286},"g/h",null,null,"korekce ",{"$f":"Vypocet!I37","v":5},"%",null,null,"celkové množství odpařené vody",null,null,{"$f":"(P36+P31)*(I37/100+1)","v":30176.724641673216},"g/h",null,null,null,null,null,null,null,null,null,null,null,null,null,null,null,null,null,null,null,null,null,null,null,null,null,null,null,null,null,null,null,null,null,"Teplota požadovaná v interiéru",null,null,null,"ti",{"$f":"J6","v":24},"°C"]
["Dimenzování průtoku vzduchu bazénové větrací jednotky pro zátěž",null,null,null,null,null,null,null,null,null,null,null,"Dimenzování průtoku vzduchu bazénové větrací jednotky pro klidový režim"]
["z množství odpařené vody",null,null,null,null,null,null,null,null,null,null,null,"z množství odpařené vody"]
["požadovaná vlhkost přiváděná",null,"xpoz",{"$f":"Vypocet!D40","v":9},"g/kg",null,"doporučená hodnota 8-10 g/kg",null,null,null,null,null,"požadovaná vlhkost přiváděná",null,"xpoz",{"$f":"Vypocet!P40","v":9},"g/kg",null,"doporučená hodnota 8-10 g/kg"]
[null,null,"V1",{"$f":"(D37)/(D18*(D17-D40))","v":12406.445935942682},"m3/h",null," ",null,{"$f":"D147","v":9.9394095912854059},"g/kg s.v.",null,null,null,null,"V1",{"$f":"(P36+P31)/(Konstanty!$F$8*(J17-5))","v":4560.6593112769815},"m3/h"]
["z objemu haly",null,null,null,null,null,null,null,null,null,null,null,"z objemu haly"]
["výměna vzduchu",null,"n",{"$f":"Vypocet!D43","v":1},"1/h",null,null,null,null,null,null,null,"výměna vzduchu",null,"n",{"$f":"Vypocet!P43","v":1},"1/h"]
["V=n*VH",null,"V2",{"$f":"D30*D43","v":4200},"m3/h",null,null,null,null,null,null,null,"V=n*VH",null,"V2",{"$f":"D30*P43","v":4200},"m3/h"]
["z tepelných zisků"]
[null,"tepelné ztráty","Qzt",{"$f":"Vypocet!D46","v":7},"kW",null,null,"teplotní spád výústky","dt",{"$f":"Vypocet!J46","v":8},"°C"]
[null,"tepelné zisky","Qzisk",{"$f":"Vypocet!D47","v":16},"kW"]
[null,"Množství vzduchu",null,{"$f":"((D47-D46)/J46*Konstanty!$F$2*Konstanty!$F$8)","v":1391.90625},"m3/h"]
[]
["potřeba vzduchu pro osoby",null,null,null,null,null,null,null,null,null,null,null,null,null,null,null,null,null,null,null,null,null,"te","teplota exteriérového vzduchu"]
[null,null,"V2",{"$f":"D33*D52","v":3000},null,null,null,null,null,null,null,null,null,null,null,null,null,null,null,null,null,null,"Qpředehřev","Výkon pro předehřátí vzduchu"]
["množství čerstvého vzduchu/osoba",null,null,{"$f":"Vypocet!D52","v":50},"m3/h/os",null,"doporučená hodnota při zátěži (min hodnota 25m3/h) ",null,null,null,null,null,null,null,null,null,null,null,null,null,null,null,"Qdohřátí","Výkon spotřebovaný na dohřátí vzduchu na požadovanou úroveň",null,null,null,null,null,null,null,"červeně zvýrazněné pole je teplota ext vyšší než teplota exteriéru, přívod vzduchu plně čerstvý"]
[]
["Potřeba čerstvého vzduchu",null,null,{"$f":"IF(MAX(D41,D44,D48)>D51,\"Ne\",\"Ano\")","v":"Ne"},null,null,"nepočítá s tím dál samo! ",null,null,null,null,null,null,null,null,null,null,null,null,null,null,null,null,null,null,null,null,null,null,null,"Teplo odevzdané na výparníku",null,null,null,null,null,"Množství kondenzátu"]
["Množství čerstvého vzduchu",null,null,{"$f":"IF(D54=\"ano\",D51-MAX(D41,D44,D48),0)","v":0},"m3/h",null,"pouze informativní charakter, množství V čerst rozhodne projektant",null,null,null,null,null,null,null,null,null,null,null,null,null,null,null,null,null,null,null,null,null,null,null,"Qv=V*ρ*(hi-h3)",null,"Qv",{"$f":"D81","v":147350.87431255195},"W",null,"mkond = V*ρ*(xi-x3)",null,"mkond",{"$f":"IF(D58*D18*(D16-D77)<0,0,D58*D18*(D16-D77))","v":3.1236329255219682E-2},"kg/s",null,null,null,null,null,null,null,null,null,"Teplo odevzdané na výparníku",null,null,null,null,null,"Množství kondenzátu"]
[null,null,null,null,null,null,null,null,null,null,null,null,null,null,null,null,null,null,null,null,null,null,null,null,null,null,null,null,null,null,null,null,null,{"$f":"AH55/1000","v":147.35087431255195},"kW",null,null,null,null,{"$f":"AN55*1000","v":31.236329255219683},"g/s",null,null,null,null,null,null,null,null,null,"Qv=V*ρ*(hi-h3)",null,"Qv",{"$f":"P81","v":47003.773128829853},"W",null,"mkond = V*ρ*(xi-x3)",null,"mkond",{"$f":"IF(P58*J18*(J16-P77)<0,0,P58*J18*(J16-P77))","v":2.1834156452738541E-3},"kg/s"]
["průtok vzduchu",null,"V",{"$f":"MAX(D41,D44,D48)","v":12406.445935942682},"m3/h",null,null,null,null," ",null,null,"průtok vzduchu",null,"V",{"$f":"MAX(P41,P44)","v":4560.6593112769815},"m3/h",null,null,null,null,null,null,null,null,null,null,null,null,null,null,null,null,null,null,null,null,null,null,{"$f":"AN55*3600","v":112.45078531879085},"kg/h",null,null,null,null,null,null,null,null,null,null,null,null,{"$f":"BB56/1000","v":47.003773128829856},"kW",null,null,null,null,{"$f":"BH56*1000","v":2.183415645273854},"g/s"]
[null,null,"V",{"$f":"D57/3600","v":3.4462349822063003},"m3/s",null,null,null,null,null,null,null,null,null,"V",{"$f":"P57/3600","v":1.2668498086880504},"m3/s",null,null,null,null,null,null,null,null,null,null,null,null,null,"Tepelné čerpadlo (TČ)",null,null,null,"typ TČ",null,null,null,null,null,null,null,null,null,null,null,null,null,null,null,null,null,null,null,null,null,null,null,null,{"$f":"BH56*3600","v":7.8602963229858744},"kg/h"]
[null,null,null,null,null,null,null,null,null,null,null,null,null,null,null,null,null,null,null,null,null,null,null,null,null,null,null,null,null,null,"Topný faktor TČ",null,"COP",{"$f":"VLOOKUP(Teplota,'V8'!AE83:AF136,2,0)","v":4.1013333333333328},"Alfa S Duo",null,null,null,null,null,null,null,null,null,null,null,null,null,null,null,"Tepelné čerpadlo (TČ)",null,null,null,"typ TČ"]
["množství odebrané měrné vlh",null,"Δx",8.1,"g/kg s.v",null,"vstupní měrná  vlhkost do int",null,"xvyst",{"$f":"D147","v":9.9394095912854059},"g/kg s.v.",null,null,null,null,null,null,null,null,null,null,null,null,null,null,null,null,null,null,null,null,null,null,null,null,null,null,null,null,null,null,null,null,null,null,null,null,null,null,null,"Topný faktor TČ",null,"COP",{"$f":"VLOOKUP(J6,'V8'!AY84:AZ132,2,0)","v":3.8159999999999998},"Alfa S Duo"]
["teplota chladiče",null,"tch",{"$f":"Vypocet!D61","v":9},"°C ",null,null,null,null,null,null,null,null,null,null,null,null,null,null,null,null,null,null,null,null,null,null,null,null,null,"Tepelná bilance TČ"]
["relativní vlhkost",null,"rhch",{"$f":"Vypocet!D62","v":100},"%",null,null,null,null,null,null,null,"množství odebrané měrné vlh",null,"Δx",{"$f":"Vypocet!P60","v":1.5},"g/kg s.v.",null,null,null,null,null,null,null,null,null,null,null,null,null,"Qk=Pel+Qv",null,null,null,null,null,null,null,null,null,null,null,null,null,null,null,null,null,null,null,"Tepelná bilance TČ"]
[null,null,null,null,null,null,null,null,null,null,null,null,"teplota chladiče",null,"tch",{"$f":"Vypocet!P61","v":9},"°C ",null,null,null,null,null,null,null,null,null,null,null,null,null,"εt = COP","εt = Qv/Pel",null,null,null,null,null,null,null,null,null,null,null,null,null,null,null,null,null,null,"Qk=Pel+Qv"]
[null,null,null,null,null,null,null,null,null,null,null,null,"relativní vlhkost",null,"rhch",{"$f":"Vypocet!P62","v":100},"%",null,null,null,null,null,null,null,null,null,null,null,null,null,"Pel=Qk/(1+Et)",null,null,null,null,null,null,null,null,null,null,null,null,null,null,null,null,null,null,null,"εt = COP","εt = Qv/Pel"]
[null,null,null,null,null,null,null,null,null,null,null,null,null,null,null,null,null,null,null,null,null,null,null,"Parametry chladiče",null,null,null,null,null,null,"Výkon kompresoru",null,"Pet",{"$f":"AH55/(AH59-1)","v":47512.104786936361},"W",null,null,null,null,null,null,null,null,null,null,null,null,null,null,null,"Pel=Qk/(1+Et)"]
["t3","parametry vyduchu za vyparnikem",null,null,null,null,null,null,null,null,null,null,"t3","parametry vyduchu za vyparnikem",null,null,null,null,null,null,null,null,null,"teplota",null,"ti",{"$f":"tch","v":9},"°C",null,null,null,null,null,{"$f":"AH65/1000","v":47.512104786936362},"kW",null,null,null,null,null,null,null,null,null,null,null,null,null,null,null,"Výkon kompresoru",null,"Pet",{"$f":"BB56/(BB60+1)","v":9759.9196696075287},"W"]
["teplota",null,"tvyp",{"$f":"W87","v":15},"°C",null,{"$f":"tvyp-te","v":-5},null,null,null,null,null,"teplota",null,"tvyp",{"$f":"W112","v":16},"°C",null,null,null,null,null,null,"relativní vlhkost",null,"rhi",{"$f":"D62","v":100},"%",null,null,"Prikon kompresoru",null,null,{"$f":"AH66/AH59","v":11.584550907087866},"kW",null,null,null,null,null,null,null,null,null,null,null,null,null,null,null,null,null,null,{"$f":"BB66/1000","v":9.7599196696075285},"kW"]
["relativní vlhkost",null,"rh3",{"$f":"IF((D74/D73)*100>100,100,(D74/D73)*100)","v":92.558526426350483},"%",null,null,null,null,null,null,null,"relativní vlhkost",null,"rh3",{"$f":"IF((P74/P73)*100>100,100,(P74/P73)*100)","v":74.957831234168935},"%",null,null,null,null,null,null,"entalpie s.v.",null,"hsvi",{"$f":"Konstanty!$F$2*AA66","v":9090},"J/kg",null,null,"Teplo na kondenzátoru"]
["entalpie s.v.",null,"h3",{"$f":"Konstanty!$F$2*D67","v":15150},"J/kg",null,null,null,null,null,null,null,"entalpie s.v.",null,"h3",{"$f":"Konstanty!$F$2*P67","v":16160},"J/kg",null,null,null,null,null,null,"entalpie v.p.",null,"hvpi",{"$f":"$AA$76*(Konstanty!$F$3*AA66+Konstanty!$F$4)","v":18311.904271787756},"J/kg",null,null,"Výkon na kondenzátoru",null,"Qk",{"$f":"AH65+AH55","v":194862.97909948832},"W",null,null,null,null,null,null,null,null,null,null,null,null,null,null,null,"Teplo na kondenzátoru"]
["entalpie v.p.",null,"h3",{"$f":"D77*(Konstanty!$F$3*D67+Konstanty!$F$4)","v":25303.000558220498},"J/kg",null,null,null,null,null,null,null,"entalpie v.p.",null,"h3",{"$f":"P77*(Konstanty!$F$3*P67+Konstanty!$F$4)","v":21865.022286924024},"J/kg",null,null,null,null,null,null,"entalpie ",null,"hi",{"$f":"AA68+AA69","v":27401.904271787756},"J/kg",null,null,null,null,null,{"$f":"AH69/1000","v":194.86297909948831},"kW",null,null,null,null,null,null,null,"  ",null,null,null,null,null,null,null,"Výkon na kondenzátoru",null,"Qk",{"$f":"BB66+BB56","v":56763.692798437383},"W"]
["entalpie ",null,"h3",{"$f":"D69+D70","v":40453.000558220498},"J/kg",null,null,null,null,null,null,null,"entalpie ",null,"h3",{"$f":"P69+P70","v":38025.022286924024},"J/kg",null,null,null,null,null,null,null,null,null,{"$f":"AA70/1000","v":27.401904271787757},"kJ/kg",null,null,null,null,null,null,null,null,null,null,null,null,null,null,null,null,null,null,null,null,null,null,null,null,null,{"$f":"BB70/1000","v":56.763692798437383},"kW",null,null,null,null,null,null,null,"  "]
[null,null,null,{"$f":"D71/1000","v":40.453000558220495},"kJ/kg",null,null,null,null,null,null,null,null,null,null,{"$f":"P71/1000","v":38.025022286924028},"kJ/kg",null,null,null,null,null,null,"tlak nasycené vodní páry",null,"p''vpi",{"$f":"Konstanty!$F$12^((1500.3+23.5*AA66)/(234+AA66))","v":1146.4717300807256},"Pa"]
["tlak nasycené vodní páry",null,"p''vp3",{"$f":"Konstanty!$F$12^((1500.3+23.5*D67)/(234+D67))","v":1704.3922173186882},"Pa",null,null,null,null,null,null,null,"tlak nasycené vodní páry",null,"p''vp3",{"$f":"Konstanty!$F$12^((1500.3+23.5*P67)/(234+P67))","v":1817.4687221052275},"Pa",null,null,null,null,null,null,"tlak  vodní páry",null,"pvpi",{"$f":"(AA67/100)*AA72","v":1146.4717300807256},"Pa",null,null,"Graf topneho faktoru ",null,null,"TnG Air 13, vzduch/voda"]
["tlak  vodní páry",null,"pvp3",{"$f":"(D77*D75)/0.622","v":1577.560320875579},"Pa",null,{"$f":"((G77*D75)/(0.622+G77))/((0.622-G77)/(0.622))","v":0},"přepočet tlaku z x",null,null,null,null,"tlak  vodní páry",null,"pvp3",{"$f":"(P77*P75)/0.622","v":1362.3351374494432},"Pa",null,{"$f":"((S77*P75)/(0.622+S77))/((0.622-S77)/(0.622))","v":1599.161688452117},"přepočet tlaku z x",null,null,null,"tlak suchého vzduchu",null,"psvi",{"$f":"AA78*Konstanty!$F$5*(AA66+273.15)","v":98003.397392999992},"Pa",null,null,null,null,null,null,null,null,null,null,null,null,null,null,null,null,null,null,null,null,null,null,"Graf topneho faktoru ",null,null,"TnG Air 13, vzduch/voda"]
["tlak suchého vzduchu",null,"psv3",{"$f":"D79*Konstanty!$F$5*(D67+273.15)","v":98019.544630499993},"Pa",null,null,null,null,null,null,null,"tlak suchého vzduchu",null,"psv3",{"$f":"P79*Konstanty!$F$5*(P67+273.15)","v":98027.697191300002},"Pa",null,null,null,null,null,null,"tlak směsi vlhkého vzduchu",null,"pi",{"$f":"AA73+AA74","v":99149.869123080716},"Pa",null,null,{"$f":"Vypocet!AE107","v":"teplota"},{"$f":"Vypocet!AF107","v":-18},{"$f":"Vypocet!AG107","v":-15},{"$f":"Vypocet!AH107","v":-10},{"$f":"Vypocet!AI107","v":-5},{"$f":"Vypocet!AJ107","v":0},{"$f":"Vypocet!AK107","v":5},{"$f":"Vypocet!AL107","v":10},{"$f":"Vypocet!AM107","v":15}]
["tlak směsi vlhkého vzduchu",null,"p3",{"$f":"D74+D75","v":99597.104951375572},"Pa",null,null,null,null,null,null,null,"tlak směsi vlhkého vzduchu",null,"p3",{"$f":"P74+P75","v":99390.032328749439},"Pa",null,null,null,null,null,null,"měrná vlhkost vzduchu",null,"xi",{"$f":"(Konstanty!$F$5/Konstanty!$F$6)*(AA73/AA74)","v":7.276561763593062E-3},"kg/kg s.v.",null,null,{"$f":"Vypocet!AE108","v":"vykon"},{"$f":"Vypocet!AF108","v":4.7},{"$f":"Vypocet!AG108","v":5.75},{"$f":"Vypocet!AH108","v":7},{"$f":"Vypocet!AI108","v":8.24},{"$f":"Vypocet!AJ108","v":9.4600000000000009},{"$f":"Vypocet!AK108","v":10.69},{"$f":"Vypocet!AL108","v":11.8},{"$f":"Vypocet!AM108","v":13.1},null,null,null,null,null,null,null,null,null,null,null,{"$f":"Vypocet!AY108","v":"teplota"},{"$f":"Vypocet!AZ108","v":-18},{"$f":"Vypocet!BA108","v":-15},{"$f":"Vypocet!BB108","v":-10},{"$f":"Vypocet!BC108","v":-5},{"$f":"Vypocet!BD108","v":0},{"$f":"Vypocet!BE108","v":5},{"$f":"Vypocet!BF108","v":10},{"$f":"Vypocet!BG108","v":15}]
["měrná vlhkost vzduchu",null,"x3",{"$f":"D16-deltaT/1000","v":1.0010682290797792E-2},"kg/kg s.v.",null,{"$f":"IF(tvyp<D82,0,D16)","v":0},"vezme x z Ti když tvyp<rosny bod",null,null,null,null,"měrná vlhkost vzduchu",null,"x3",{"$f":"J16-P62/1000","v":8.6442146431320865E-3},"kg/kg s.v.",null,{"$f":"IF(tvyp<P82,0,J16)","v":1.0144214643132086E-2},"vezme x z Ti když tvyp<rosny bod",null,null,null,null,null,null,{"$f":"AA76*1000","v":7.2765617635930617},"g/kg s.v.",null,null,{"$f":"Vypocet!AE109","v":"el prikon"},{"$f":"Vypocet!AF109","v":2.2400000000000002},{"$f":"Vypocet!AG109","v":2.4700000000000002},{"$f":"Vypocet!AH109","v":2.72},{"$f":"Vypocet!AI109","v":2.94},{"$f":"Vypocet!AJ109","v":3.2},{"$f":"Vypocet!AK109","v":3.37},{"$f":"Vypocet!AL109","v":3.55},{"$f":"Vypocet!AM109","v":3.85},null,null,null,null,null,null,null,null,null,null,null,{"$f":"Vypocet!AY109","v":"vykon"},{"$f":"Vypocet!AZ109","v":4.7},{"$f":"Vypocet!BA109","v":5.75},{"$f":"Vypocet!BB109","v":7},{"$f":"Vypocet!BC109","v":8.24},{"$f":"Vypocet!BD109","v":9.4600000000000009},{"$f":"Vypocet!BE109","v":10.69},{"$f":"Vypocet!BF109","v":11.8},{"$f":"Vypocet!BG109","v":13.1}]
[null,null,null,{"$f":"D77*1000","v":10.010682290797792},"g/kg s.v.",null,null,null,null,null,null,null,null,null,null,{"$f":"P77*1000","v":8.6442146431320861},"g/kg s.v.",null,null,null,null,null,null,"hustota vzduchu při t",null,null,{"$f":"VLOOKUP(AA66,Tabulky!$V$15:$AF$75,9,0)","v":1.21},"kg/m3",null,null,{"$f":"Vypocet!AE110","v":"COP"},{"$f":"Vypocet!AF110","v":2.1},{"$f":"Vypocet!AG110","v":2.33},{"$f":"Vypocet!AH110","v":2.57},{"$f":"Vypocet!AI110","v":2.8},{"$f":"Vypocet!AJ110","v":2.96},{"$f":"Vypocet!AK110","v":3.17},{"$f":"Vypocet!AL110","v":3.32},{"$f":"Vypocet!AM110","v":3.4},null,null,null,null,null,null,null,null,null,null,null,{"$f":"Vypocet!AY110","v":"el prikon"},{"$f":"Vypocet!AZ110","v":2.2400000000000002},{"$f":"Vypocet!BA110","v":2.4700000000000002},{"$f":"Vypocet!BB110","v":2.72},{"$f":"Vypocet!BC110","v":2.94},{"$f":"Vypocet!BD110","v":3.2},{"$f":"Vypocet!BE110","v":3.37},{"$f":"Vypocet!BF110","v":3.55},{"$f":"Vypocet!BG110","v":3.85}]
["hustota vzduchu při t",null,null,{"$f":"VLOOKUP(tvyp,Tabulky!$V$15:$AF$75,9,0)","v":1.1850000000000001},"kg/m3",null,null,null,null,null,null,null,"hustota vzduchu při t",null,null,{"$f":"VLOOKUP(P67,Tabulky!$V$15:$AF$75,9,0)","v":1.181},"kg/m3",null,null,null,null,null,null,null,null,null,{"$f":"1.395-Teplota*0.004414","v":1.253752},null,null,null,null,null,null,{"$f":"AH78-AG78","v":0.23999999999999977},0.22999999999999998,0.16000000000000014,0.20999999999999996,0.14999999999999991,8.0000000000000071E-2,"průměr",{"$f":"AVERAGE(AG79:AM79)","v":0.17833333333333332},"prumer/1",{"$f":"AO79/5","v":3.5666666666666666E-2},null,null,null,null,null,null,null,{"$f":"Vypocet!AY111","v":"COP"},{"$f":"Vypocet!AZ111","v":2.1},{"$f":"Vypocet!BA111","v":2.33},{"$f":"Vypocet!BB111","v":2.57},{"$f":"Vypocet!BC111","v":2.8},{"$f":"Vypocet!BD111","v":2.96},{"$f":"Vypocet!BE111","v":3.17},{"$f":"Vypocet!BF111","v":3.32},{"$f":"Vypocet!BG111","v":3.4}]
[null,null,null,null,null,null,null,null,null,null,null,null,null,null,null,null,null,null,null,null,null,null,null,null,null,null,null,null,null,null,null,"popis závislosti",null,"y=0,18571x+2,96",null,null,null,null,null,null,null,null,null,null,null,null,null,null,null,null,null,null,null,{"$f":"BB79-BA79","v":0.23999999999999977},0.22999999999999998,0.16000000000000014,0.20999999999999996,0.14999999999999991,8.0000000000000071E-2,"průměr",{"$f":"AVERAGE(BA80:BG80)","v":0.17833333333333332},"prumer/1",{"$f":"BI80/5","v":3.5666666666666666E-2}]
["teplo získané na výparníku",null,"Qv",{"$f":"D58*D18*(D10-D71)","v":147350.87431255195},"W",null,null,null,null,null,null,null,"teplo získané na výparníku",null,"Qv",{"$f":"P58*J18*(J10-P71)","v":47003.773128829853},"W",null,null,null,"A","Ti",{"$f":"Teplota","v":32},null,"B","tch",{"$f":"AA66","v":9},null,null,null,null,null,null,null,null,null,null,null,null,null,null,null,null,null,null,null,null,null,null,null,null,"popis závislosti",null,"y=0,18571x+2,96"]
[null,"rosný bod ",null,{"$f":"(243.5*LN(($D$7/100)*Konstanty!$F$12^((17.67*Teplota)/(243.5+Teplota))))/(17.67-(LN(($D$7/100)*Konstanty!$F$12^((17.67*Teplota)/(243.5+Teplota)))))","v":23.274251871309211},"°C ",null,null,null,null,null,null,null,null,"rosný bod ",null,{"$f":"(243.5*LN((J7/100)*Konstanty!$F$12^((17.67*J6)/(243.5+J6))))/(17.67-(LN((J7/100)*Konstanty!$F$12^((17.67*J6)/(243.5+J6)))))","v":14.413817952855092},"°C ",null,null,null,null,"xi",{"$f":"D16","v":1.8110682290797792E-2},null,null,"xch",{"$f":"AA76","v":7.276561763593062E-3},null,null,null,"teplota","COP",null,-18,2.1]
[null,null,null,null,null,null,null,null,null,null,null,null,null,null,null,null,null,null,null,null,null,"xi",{"$f":"D17","v":18.11068229079779},null,null,"xch",{"$f":"AA77","v":7.2765617635930617},null,null,null,-18,{"$f":"$AQ$79*AE83+$AJ$78","v":2.3180000000000001},null,-15,2.33,null,null,null,null,null,null,null,null,null,null,null,null,null,null,null,"teplota","COP"]
["Distribuce tepla v závislosti na externí teplotě",null,null,null,null,null,null,null,null,null,null,null,null,null,null,null,null,null,null,null,null,null,null,null,null,null,null,null,null,null,-17,2.3536666666666668,null,-10,2.57,null,null,null,null,null,null,null,null,null,null,null,null,null,null,null,-18,{"$f":"$AQ$79*AY84+$AJ$78","v":2.3180000000000001}]
["teplota předehřevu te",null,"tpřed",{"$f":"Vypocet!D85","v":5},"°C",null,null,null,null,null,null,null,null,null,null,null,null,null,null,null,null,"dx",{"$f":"deltaT","v":8.1},null,"výpočet teplochy při teplote chladice",null,null,null,null,null,-16,2.3893333333333331,null,-5,2.8,null,null,null,null,null,null,null,null,null,null,null,null,null,null,null,-17,2.3536666666666668]
["množství čerst vzduchu",null,null,{"$f":"Vypocet!D86","v":30},"%",null,null,null,null,null,null,null,null,null,null,null,null,null,null,null,null,"th",{"$f":"((W81-AA81)*W83+(AA83-W83)*W81-(W81-AA81)*(W83-W85))/(AA83-W83)","v":14.804326430355252},null,"počítá s přímkou ti - tch a na ní počítá bod",null,null,null,null,null,-15,2.4249999999999998,null,0,2.96,null,null,null,null,null,null,null,null,null,null,null,null,null,null,null,-16,2.3893333333333331]
["množství předehřívaného vzd",null,null,{"$f":"D58*(D86/100)","v":1.03387049466189},"m3/h",null,null,null,null,null,null,null,null,null,null,null,null,null,null,null,null,null,{"$f":"ROUND(W86,0)","v":15},null,null,null,null,null,null,null,-14,2.4606666666666666,null,5,3.17,null,null,null,null,null,null,null,null,null,null,null,null,null,null,null,-15,2.4249999999999998]
["potřeba tepla na předehřev",null,null,{"$f":"IF(D85>te,((D87*P18)/(1+P16))*(D85-te)*P18*Konstanty!$F$2,0)","v":0},"W",null,null,null,null,null,null,null,null,null,null,null,null,null,null,null,null,null,null,null,null,null,null,null,null,null,-13,2.4963333333333333,null,10,3.32,null,null,null,null,null,null,null,null,null,null,null,null,null,null,null,-14,2.4606666666666666]
[null,null,null,null,null,null,null,null,null,null,null,null,null,null,null,null,null,null,null,null,null,null,null,null,null,null,null,null,null,null,-12,2.532,null,15,3.4,null,null,null,null,null,null,null,null,null,null,null,null,null,null,null,-13,2.4963333333333333]
["t4","Předehřev exteriérového vzduchu",null,null,null,null,null,null,null,null,null,null,"t4","Předehřev exteriérového vzduchu",null,null,null,null,null,null,null,null,null,"Parametry chladiče klidovy rezim",null,null,null,null,null,null,-11,2.5676666666666668,null,null,null,null,null,null,null,null,null,null,null,null,null,null,null,null,null,null,-12,2.532]
["teplota předehřevu",null,"tpředehřev",{"$f":"IF($D$85>te,$D$85,te)","v":20},"°C",null,null,null,null,null,null,null,"teplota předehřevu",null,"tpředehřev",{"$f":"IF($D$85>te,$D$85,te)","v":20},"°C",null,null,null,null,null,null,"teplota",null,"ti",{"$f":"P63","v":9},"°C",null,null,-10,2.6033333333333335,null,null,null,null,null,null,null,null,null,null,null,null,null,null,null,null,null,null,-11,2.5676666666666668]
[null,null,"rhpředehřev",{"$f":"((D101*P15)/(D97*(0.622+D101)))*100","v":67.002067618348249},"%",null,null,null,null,null,null,null,null,null,"rhpředehřev",{"$f":"((P101*P15)/(P97*(0.622+P101)))*100","v":67.002067618348249},"%",null,null,null,null,null,null,"relativní vlhkost",null,"rhi",{"$f":"P64","v":100},"%",null,null,-9,2.6389999999999998,null,null,null,null,null,null,null,null,null,null,null,null,null,null,null,null,null,null,-10,2.6033333333333335]
["entalpie s.v.",null,"hsv4",{"$f":"Konstanty!$F$2*D91","v":20200},"J/kg",null,null,null,null,null,null,null,"entalpie s.v.",null,"hsv4",{"$f":"Konstanty!$F$2*P91","v":20200},"J/kg",null,null,null,null,null,null,"entalpie s.v.",null,"hsvi",{"$f":"Konstanty!$F$2*AA91","v":9090},"J/kg",null,null,-8,2.6746666666666665,null,null,null,null,null,null,null,null,null,null,null,null,null,null,null,null,null,null,-9,2.6389999999999998]
["entalpie v.p.",null,"hvp4",{"$f":"D101*(Konstanty!$F$3*D91+Konstanty!$F$4)","v":25213.516162685621},"J/kg",null,null,null,null,null,null,null,"entalpie v.p.",null,"hvp4",{"$f":"P101*(Konstanty!$F$3*P91+Konstanty!$F$4)","v":25213.516162685621},"J/kg",null,null,null,null,null,null,"entalpie v.p.",null,"hvpi",{"$f":"$AA$76*(Konstanty!$F$3*AA91+Konstanty!$F$4)","v":18311.904271787756},"J/kg",null,null,-7,2.7103333333333333,null,null,null,null,null,null,null,null,null,null,null,null,null,null,null,null,null,null,-8,2.6746666666666665]
["entalpie ",null,"h4",{"$f":"D93+D94","v":45413.516162685621},"J/kg",null,null,null,null,null,null,null,"entalpie ",null,"h4",{"$f":"P93+P94","v":45413.516162685621},"J/kg",null,null,null,null,null,null,"entalpie ",null,"hi",{"$f":"AA93+AA94","v":27401.904271787756},"J/kg",null,null,-6,2.746,null,null,null,null,null,null,null,null,null,null,null,null,null,null,null,null,null,null,-7,2.7103333333333333]
[null,null,null,{"$f":"D95/1000","v":45.413516162685617},"kJ/kg",null,null,null,null,null,null,null,null,null,null,{"$f":"P95/1000","v":45.413516162685617},"kJ/kg",null,null,null,null,null,null,null,null,null,{"$f":"AA95/1000","v":27.401904271787757},"kJ/kg",null,null,-5,2.7816666666666667,null,null,null,null,null,null,null,null,null,null,null,null,null,null,null,null,null,null,-6,2.746]
["tlak nasycené vodní páry",null,"p''vp4",{"$f":"Konstanty!$F$12^((1500.3+23.5*D91)/(234+D91))","v":2338.0829352500591},"Pa",null,null,null,null,null,null,null,"tlak nasycené vodní páry",null,"p''vp4",{"$f":"Konstanty!$F$12^((1500.3+23.5*P91)/(234+P91))","v":2338.0829352500591},"Pa",null,null,null,null,null,null,"tlak nasycené vodní páry",null,"p''vpi",{"$f":"Konstanty!$F$12^((1500.3+23.5*AA91)/(234+AA91))","v":1146.4717300807256},"Pa",null,null,-4,2.8173333333333335,null,null,null,null,null,null,null,null,null,null,null,null,null,null,null,null,null,null,-5,2.7816666666666667]
["tlak  vodní páry",null,"pvp4",{"$f":"(D92/100)*D97","v":1566.5639092493061},"Pa",null,null,null,null,null,null,null,"tlak  vodní páry",null,"pvp4",{"$f":"(P92/100)*P97","v":1566.5639092493061},"Pa",null,null,null,null,null,null,"tlak  vodní páry",null,"pvpi",{"$f":"(AA92/100)*AA97","v":1146.4717300807256},"Pa",null,null,-3,2.8529999999999998,null,null,null,null,null,null,null,null,null,null,null,null,null,null,null,null,null,null,-4,2.8173333333333335]
["tlak suchého vzduchu",null,"psv4",{"$f":"D103*Konstanty!$F$5*(D91+273.15)","v":98037.342474499994},"Pa",null,null,null,null,null,null,null,"tlak suchého vzduchu",null,"psv4",{"$f":"P103*Konstanty!$F$5*(P91+273.15)","v":98037.342474499994},"Pa",null,null,null,null,null,null,"tlak suchého vzduchu",null,"psvi",{"$f":"AA103*Konstanty!$F$5*(AA91+273.15)","v":98003.397392999992},"Pa",null,null,-2,2.8886666666666665,null,null,null,null,null,null,null,null,null,null,null,null,null,null,null,null,null,null,-3,2.8529999999999998]
["tlak směsi vlhkého vzduchu",null,"p4",{"$f":"D98+D99","v":99603.906383749301},"Pa",null,null,null,null,null,null,null,"tlak směsi vlhkého vzduchu",null,"p4",{"$f":"P98+P99","v":99603.906383749301},"Pa",null,null,null,null,null,null,"tlak směsi vlhkého vzduchu",null,"pi",{"$f":"AA98+AA99","v":99149.869123080716},"Pa",null,null,-1,2.9243333333333332,null,null,null,null,null,null,null,null,null,null,null,null,null,null,null,null,null,null,-2,2.8886666666666665]
["měrná vlhkost vzduchu",null,"x4",{"$f":"P16","v":9.9391028708158396E-3},"kg/kg s.v.",null,null,null,null,null,null,null,"měrná vlhkost vzduchu",null,"x4",{"$f":"P16","v":9.9391028708158396E-3},"kg/kg s.v.",null,null,null,null,null,null,"měrná vlhkost vzduchu",null,"xi",{"$f":"(Konstanty!$F$5/Konstanty!$F$6)*(AA98/AA99)","v":7.276561763593062E-3},"kg/kg s.v.",null,null,0,2.96,null,null,null,null,null,null,null,null,null,null,null,null,null,null,null,null,null,null,-1,2.9243333333333332]
[null,null,null,{"$f":"D101*1000","v":9.9391028708158391},"g/kg s.v.",null,null,null,null,null,null,null,null,null,null,{"$f":"P101*1000","v":9.9391028708158391},"g/kg s.v.",null,null,null,null,null,null,null,null,null,{"$f":"AA101*1000","v":7.2765617635930617},"g/kg s.v.",null,null,1,2.9956666666666667,null,null,null,null,null,null,null,null,null,null,null,null,null,null,null,null,null,null,0,2.96]
["hustota vzduchu při t",null,null,{"$f":"VLOOKUP(D91,Tabulky!$V$15:$AF$75,9,0)","v":1.165},"kg/m3",null,null,null,null,null,null,null,"hustota vzduchu při t",null,null,{"$f":"VLOOKUP(P91,Tabulky!$V$15:$AF$75,9,0)","v":1.165},"kg/m3",null,null,null,null,null,null,"hustota vzduchu při t",null,null,{"$f":"VLOOKUP(AA91,Tabulky!$V$15:$AF$75,9,0)","v":1.21},"kg/m3",null,null,2,3.0313333333333334,null,null,null,null,null,null,null,null,null,null,null,null,null,null,null,null,null,null,1,2.9956666666666667]
[null,null,null,null,null,null,null,null,null,null,null,null,null,null,null,null,null,null,null,null,null,null,null,null,null,null,{"$f":"1.395-Teplota*0.004414","v":1.253752},null,null,null,3,3.0670000000000002,null,null,null,null,null,null,null,null,null,null,null,null,null,null,null,null,null,null,2,3.0313333333333334]
["t4'","smíšení vzduchu s exteriérovým",null,null,null,null,null,null,null,null,null,null,"t4'","smíšení vzduchu s exteriérovým",null,null,null,null,null,null,null,null,null,null,null,null,null,null,null,null,4,3.1026666666666665,null,null,null,null,null,null,null,null,null,null,null,null,null,null,null,null,null,null,3,3.0670000000000002]
["Množství čerstvého vzduchu",null,"Včerstv",{"$f":"IF(D91>tvyp,100,$D$86)","v":100},"%",null,null,null,null,null,null,null,"Množství čerstvého vzduchu",null,"Včerstv",{"$f":"IF(P91>tvyp,100,$D$86)","v":100},"%",null,null,null,"A","Ti",{"$f":"J6","v":24},null,"B","tch",{"$f":"AA91","v":9},null,null,null,5,3.1383333333333332,null,null,null,null,null,null,null,null,null,null,null,null,null,null,null,null,null,null,4,3.1026666666666665]
["teplota vzduchu",null,"t4",{"$f":"ROUND(((((D106/100)*D58)*D91+((1-(D106/100))*D58)*tvyp)/D58),0)","v":20},"°C",null,null,null,null,null,null,null,"teplota vzduchu",null,"t4",{"$f":"ROUND(((((P106/100)*P58)*P91+((1-(P106/100))*P58)*tvyp)/P58),0)","v":20},"°C",null,null,null,null,"xi",{"$f":"J16","v":1.0144214643132086E-2},null,null,"xch",{"$f":"AA101","v":7.276561763593062E-3},null,null,null,6,3.1739999999999999,null,null,null,null,null,null,null,null,null,null,null,null,null,null,null,null,null,null,5,3.1383333333333332]
["relativní vlhkost",null,"rh4",{"$f":"(1-(D106/100))*D68+(D106/100)*D92","v":67.002067618348249},"%",null,null,null,null,null,null,null,"relativní vlhkost",null,"rh4",{"$f":"(1-(P106/100))*P68+(P106/100)*P92","v":67.002067618348249},"%",null,null,null,null,"xi",{"$f":"J17","v":10.144214643132086},null,null,"xch",{"$f":"AA102","v":7.2765617635930617},null,null,null,7,3.2096666666666667,null,null,null,null,null,null,null,null,null,"  ",null,null,null,null,null,null,null,null,6,3.1739999999999999]
["entalpie s.v.",null,"hsv4",{"$f":"Konstanty!$F$2*D107","v":20200},"J/kg",null,null,null,null,null,null,null,"entalpie s.v.",null,"hsv4",{"$f":"Konstanty!$F$2*P107","v":20200},"J/kg",null,null,null,null,null,null,null,null,null,null,null,null,null,8,3.2453333333333334,null,null,null,null,null,null,null,null,null,null,null,null,null,null,null,null,null,null,7,3.2096666666666667]
["entalpie v.p.",null,"hvp4",{"$f":"D117*(Konstanty!$F$3*D107+Konstanty!$F$4)","v":25214.294251172818},"J/kg",null,null,null,null,null,null,null,"entalpie v.p.",null,"hvp4",{"$f":"P117*(Konstanty!$F$3*P107+Konstanty!$F$4)","v":25214.294251172818},"J/kg",null,null,null,null,"dx",{"$f":"P62","v":1.5},null,null,null,null,null,null,null,9,3.2810000000000001,null,null,null,null,null,null,null,null,null,null,null,null,null,null,null,null,null,null,8,3.2453333333333334]
["entalpie ",null,"h4",{"$f":"D109+D110","v":45414.294251172818},"J/kg",null,null,null,null,null,null,null,"entalpie ",null,"h4",{"$f":"P109+P110","v":45414.294251172818},"J/kg",null,null,null,null,"th",{"$f":"((W106-AA106)*W108+(AA108-W108)*W106-(W106-AA106)*(W108-W110))/(AA108-W108)","v":16.153862079842494},null,null,null,null,null,null,null,10,3.3166666666666664,null,null,null,null,null,null,null,null,null,null,null,null,null,null,null,null,null,null,9,3.2810000000000001]
[null,null,null,{"$f":"D111/1000","v":45.414294251172819},"kJ/kg",null,null,null,null,null,null,null,null,null,null,{"$f":"P111/1000","v":45.414294251172819},"kJ/kg",null,null,null,null,null,{"$f":"ROUND(W111,0)","v":16},null,null,null,null,null,null,null,11,3.3523333333333332,null,null,null,null,null,null,null,null,null,null,null,null,null,null,null,null,null,null,10,3.3166666666666664]
["tlak nasycené vodní páry",null,"p''vp4",{"$f":"Konstanty!$F$12^((1500.3+23.5*D107)/(234+D107))","v":2338.0829352500591},"Pa",null,null,null,null,null,null,null,"tlak nasycené vodní páry",null,"p''vp4",{"$f":"Konstanty!$F$12^((1500.3+23.5*P107)/(234+P107))","v":2338.0829352500591},"Pa",null,null,null,null,null,null,null,null,null,null,null,null,null,12,3.3879999999999999,null,null,null,null,null,null,null,null,null,null,null,null,null,null,null,null,null,null,11,3.3523333333333332]
["tlak  vodní páry",null,"pvp4",{"$f":"(D108/100)*D113","v":1566.5639092493061},"Pa",null,null,null,null,null,null,null,"tlak  vodní páry",null,"pvp4",{"$f":"(P108/100)*P113","v":1566.5639092493061},"Pa",null,null,null,null,null,null,null,null,null,null,null,null,null,13,3.4236666666666666,null,null,null,null,null,null,null,null,null,null,null,null,null,null,null,null,null,null,12,3.3879999999999999]
["tlak suchého vzduchu",null,"psv4",{"$f":"D119*Konstanty!$F$5*(D107+273.15)","v":98037.342474499994},"Pa",null,null,null,null,null,null,null,"tlak suchého vzduchu",null,"psv4",{"$f":"P119*Konstanty!$F$5*(P107+273.15)","v":98037.342474499994},"Pa",null,null,null,null,null,null,null,null,null,null,null,null,null,14,3.4593333333333334,null,null,null,null,null,null,null,null,null,null,null,null,null,null,null,null,null,null,13,3.4236666666666666]
["tlak směsi vlhkého vzduchu",null,"p4",{"$f":"D114+D115","v":99603.906383749301},"Pa",null,null,null,null,null,null,null,"tlak směsi vlhkého vzduchu",null,"p4",{"$f":"P114+P115","v":99603.906383749301},"Pa",null,null,null,null,null,null,null,null,null,null,null,null,null,15,3.4950000000000001,null,null,null,null,null,null,null,null,null,null,null,null,null,null,null,null,null,null,14,3.4593333333333334]
["měrná vlhkost vzduchu",null,"x4",{"$f":"(Konstanty!$F$5/Konstanty!$F$6)*(D114/D115)","v":9.9394095912854058E-3},"kg/kg s.v.",null,null,null,null,null,null,null,"měrná vlhkost vzduchu",null,"x4",{"$f":"(Konstanty!$F$5/Konstanty!$F$6)*(P114/P115)","v":9.9394095912854058E-3},"kg/kg s.v.",null,null,null,null,null,null,null,null,null,null,null,null,null,16,3.5306666666666668,null,null,null,null,null,null,null,null,null,null,null,null,null,null,null,null,null,null,15,3.4950000000000001]
[null,null,null,{"$f":"D117*1000","v":9.9394095912854059},"g/kg s.v.",null,null,null,null,null,null,null,null,null,null,{"$f":"P117*1000","v":9.9394095912854059},"g/kg s.v.",null,null,null,null,null,null,null,null,null,null,null,null,null,17,3.5663333333333331,null,null,null,null,null,null,null,null,null,null,null,null,null,null,null,null,null,null,16,3.5306666666666668]
["hustota vzduchu při t",null,null,{"$f":"VLOOKUP(D107,Tabulky!$V$15:$AF$75,9,0)","v":1.165},"kg/m3",null,null,null,null,null,null,null,"hustota vzduchu při t",null,null,{"$f":"VLOOKUP(P107,Tabulky!$V$15:$AF$75,9,0)","v":1.165},"kg/m3",null,null,null,null,null,null,null,null,null,null,null,null,null,18,3.6019999999999999,null,null,null,null,null,null,null,null,null,null,null,null,null,null,null,null,null,null,17,3.5663333333333331]
[null,null,null,null,null,null,null,null,null,null,null,null,null,null,null,null,null,null,null,null,null,null,null,null,null,null,null,null,null,null,19,3.6376666666666666,null,null,null,null,null,null,null,null,null,null,null,null,null,null,null,null,null,null,18,3.6019999999999999]
["množství tepla na kondenzátoru",null,"Qk",{"$f":"AH69","v":194862.97909948832},"W",null,null,"přepočet mw na msv",{"$f":"(D58*D119)/(1+D117)","v":3.9753511113058986},"m3/s",null,null,"množství tepla na kondenzátoru",null,"Qk",{"$f":"BB70","v":56763.692798437383},"W",null,null,null,null,null,null,null,null,null,null,null,null,null,20,3.6733333333333333,null,null,null,null,null,null,null,null,null,null,null,null,null,null,null,null,null,null,19,3.6376666666666666]
["Požadované teplo na dohřev",null,"Qpož",{"$f":"(D134-D107)*Konstanty!F2*D119*I121+D88","v":65486.356391653208},"W",null,null,null,null,null,null,null,"Požadované teplo na dohřev",null,null,{"$f":"(P134-P107)*Konstanty!$F$2*P119*P58","v":20868.943583499127},"W",null,null,null,null,null,null,null,null,null,null,null,null,null,21,3.7090000000000001,null,null,null,null,null,null,null,null,null,null,null,null,null,null,null,null,null,null,20,3.6733333333333333]
["dosažená teplota",null,"t6",{"$f":"D121/(D58*D119*Konstanty!$F$2)+D107","v":68.054841828082019},"°C",null,null,null,null,null,null,null,"dosažená teplota",null,"t6",{"$f":"P121/(P58*P119*Konstanty!$F$2)+P107","v":58.08011153024912},"°C",null,null,null,null,null,null,null,null,null,null,null,null,null,22,3.7446666666666664,null,null,null,null,null,null,null,null,null,null,null,null,null,null,null,null,null,null,21,3.7090000000000001]
["potřeba dohřevu",null,"Qdohř",{"$f":"IF((D122-D121)>0,D122-D121,0)","v":0},"W",null,null,null,null,null,null,null,"potřeba dohřevu",null,"Qdohř",{"$f":"IF((P122-P121)>0,P122-P121,0)","v":0},"W",null,null,null,null,null,null,null,null,null,null,null,null,null,23,3.7803333333333331,null,null,null,null,null,null,null,null,null,null,null,null,null,null,null,null,null,null,22,3.7446666666666664]
["přebytečné teplo",null,"Qpřebyt",{"$f":"IF((D122-D121)<0,D121-D122,0)","v":129376.62270783511},"W",null,null,null,null,null,null,null,"přebytečné teplo",null,"Qpřebyt",{"$f":"IF((P122-P121)<0,P121-P122,0)","v":35894.74921493826},"W",null,null,null,null,null,null,null,null,null,null,null,null,null,24,3.8159999999999998,null,null,null,null,null,null,null,null,null,null,null,null,null,null,null,null,null,null,23,3.7803333333333331]
[null,null,null,null,null,null,null,null,null,null,null,null,null,null,null,null,null,null,null,null,null,null,null,null,null,null,null,null,null,null,25,3.8516666666666666,null,null,null,null,null,null,null,null,null,null,null,null,null,null,null,null,null,null,24,3.8159999999999998]
[null,null,null,null,null,null,null,null,null,null,null,null,null,null,null,null,null,null,null,null,null,null,null,null,null,null,null,null,null,null,26,3.8873333333333333,null,null,null,null,null,null,null,null,null,null,null,null,null,null,null,null,null,null,25,3.8516666666666666]
["teplota zvýšení do int",null,"tzv",{"$f":"Vypocet!D128","v":2},"°C ",null,null,null,null,null,null,null,null,"teplota zvýšení do int","tzv",{"$f":"Vypocet!P128","v":2},"°C ",null,null,null,null,null,null,null,null,null,null,null,null,null,27,3.923,null,null,null,null,null,null,null,null,null,null,null,null,null,null,null,null,null,null,26,3.8873333333333333]
["teplotní spád kondenzatoru",null,"Δt",{"$f":"Vypocet!D129","v":0},"°C ",null,null,null,null,null,null,null,null,"teplotní spád kondenzatoru","Δt",{"$f":"Vypocet!P129","v":0},"°C ",null,null,null,null,null,null,null,null,null,null,null,null,null,28,3.9586666666666668,null,null,null,null,null,null,null,null,null,null,null,null,null,null,null,null,null,null,27,3.923]
["teplota kondenzatoru",null,"tohř",{"$f":"Vypocet!D130","v":0},"°C ",null,null,null,null,null,null,null,null,"teplota kondenzatoru","tohř",{"$f":"Vypocet!P130","v":0},"°C ",null,null,null,null,null,null,null,null,null,null,null,null,null,29,3.9943333333333335,null,null,null,null,null,null,null,null,null,null,null,null,null,null,null,null,null,null,28,3.9586666666666668]
["relativní vlhkost",null,"rhohř",{"$f":"Vypocet!D131","v":0},"%",null,null,null,null,null,null,null,null,"relativní vlhkost","rhohř",{"$f":"Vypocet!P131","v":0},"%",null,null,null,null,null,null,null,null,null,null,null,null,null,30,4.03,null,null,null,null,null,null,null,null,null,null,null,null,null,null,null,null,null,null,29,3.9943333333333335]
[null,null,null,null,null,null,null,null,null,null,null,null,null,null,null,null,null,null,null,null,null,null,null,null,null,null,null,null,null,null,31,4.065666666666667,null,null,null,null,null,null,null,null,null,null,null,null,null,null,null,null,null,null,30,4.03]
["t5","parametry vyduchu za kondenzátorem",null,null,null,null,null,null,null,null,null,null,"t5","parametry vyduchu za kondenzátorem",null,null,null,null,null,null,null,null,null,null,null,null,null,null,null,null,32,4.1013333333333328]
["požadovaná teplotateplota do I",null,"t5",{"$f":"Teplota+D128","v":34},"°C",null,null,null,null,null,null,null,"požadovaná teplota do I",null,"t5",{"$f":"Teplota+P128","v":34},"°C",null,null,null,null,null,null,null,null,null,null,null,null,null,33,4.1370000000000005]
["dosažená teplota",null,"tdos",{"$f":"D123","v":68.054841828082019},"°C",null,null,null,null,null,null,null,"dosažená teplota",null,"t6",{"$f":"P123","v":58.08011153024912},null,null,null,null,null,null,null,null,null,null,null,null,null,null,34,4.1726666666666663]
[null,null,null,null,null,null,null,null,null,null,null,null,null,null,null,null,null,null,null,null,null,null,null,null,null,null,null,null,null,null,35,4.208333333333333]
["relativní vlhkost",null,"rh5",{"$f":"((D146*D116)/(D142*(0.622+D146)))*100","v":29.440266337541352},"%",null,null,null,null,null,null,null,"relativní vlhkost",null,"rh5",{"$f":"((P146*P116)/(P142*(0.622+P146)))*100","v":29.440266337541352},"%"]
["entalpie s.v.",null,"hsv5",{"$f":"Konstanty!$F$2*D134","v":34340},"J/kg",null,null,null,null,null,null,null,"entalpie s.v.",null,"hsv5",{"$f":"Konstanty!$F$2*P134","v":34340},"J/kg"]
["entalpie v.p.",null,"hvp5",{"$f":"D146*(Konstanty!$F$3*D134+Konstanty!$F$4)","v":25470.333442244329},"J/kg",null,null,null,null,null,null,null,"entalpie v.p.",null,"hvp5",{"$f":"P146*(Konstanty!$F$3*P134+Konstanty!$F$4)","v":25470.333442244329},"J/kg"]
["entalpie ",null,"h5",{"$f":"D138+D139","v":59810.333442244329},"J/kg",null,null,null,null,null,null,null,"entalpie ",null,"h5",{"$f":"P138+P139","v":59810.333442244329},"J/kg"]
[null,null,null,{"$f":"D140/1000","v":59.810333442244328},"kJ/kg",null,null,null,null,null,null,null,null,null,null,{"$f":"P140/1000","v":59.810333442244328},"kJ/kg"]
["tlak nasycené vodní páry",null,"p''vp5",{"$f":"Konstanty!$F$12^((1500.3+23.5*D134)/(234+D134))","v":5321.3250022529974},"Pa",null,null,null,null,null,null,null,"tlak nasycené vodní páry",null,"p''vp5",{"$f":"Konstanty!$F$12^((1500.3+23.5*P134)/(234+P134))","v":5321.3250022529974},"Pa",null,null,null,null,null,null,null,null,null,null,null,null,null,"dt vyp"]
["tlak  vodní páry",null,"pvp5",{"$f":"(D137/100)*D142","v":1566.6122533494608},"Pa",null,null,null,null,null,null,null,"tlak  vodní páry",null,"pvp5",{"$f":"(P137/100)*P142","v":1566.6122533494608},"Pa",null,null,null,null,null,null,null,null,null,null,null,null,null,2]
["tlak suchého vzduchu",null,"psv5",{"$f":"D148*Konstanty!$F$5*(D134+273.15)","v":97958.084656299994},"Pa",null,null,null,null,null,null,null,"tlak suchého vzduchu",null,"psv5",{"$f":"Konstanty!$F$8*Konstanty!$F$5*(P134+273.15)","v":108009.58929249999},"Pa",null,null,null,null,null,null,null,null,null,null,null,null,null,3]
["tlak směsi vlhkého vzduchu",null,"p5",{"$f":"D143+D144","v":99524.696909649458},"Pa",null,null,null,null,null,null,null,"tlak směsi vlhkého vzduchu",null,"p5",{"$f":"P143+P144","v":109576.20154584946},"Pa",null,null,null,null,null,null,null,null,null,null,null,null,null,4]
["měrná vlhkost vzduchu",null,"x5",{"$f":"D117","v":9.9394095912854058E-3},"kg/kg s.v.",null,null,null,null,null,null,null,"měrná vlhkost vzduchu",null,"x5",{"$f":"P117","v":9.9394095912854058E-3},"kg/kg s.v.",null,null,null,null,null,null,null,null,null,null,null,null,null,5]
[null,null,null,{"$f":"D146*1000","v":9.9394095912854059},"g/kg s.v.",null,null,null,null,null,null,null,null,null,null,{"$f":"P146*1000","v":9.9394095912854059},"g/kg s.v.",null,null,null,null,null,null,null,null,null,null,null,null,null,6,{"$f":"D124","v":0}]
["hustota vzduchu při t",null,null,{"$f":"VLOOKUP(D134,Tabulky!$V$15:$AF$75,9,0)","v":1.111},"kg/m3",null,null,null,null,null,null,null,"hustota vzduchu při t",null,null,{"$f":"VLOOKUP(P134,Tabulky!$V$15:$AF$75,9,0)","v":1.111},"kg/m3",null,null,null,null,null,null,null,null,null,null,null,null,null,7]
[null,null,null,null,null,null,null,null,null,null,null,null,null,null,null,null,null,null,null,null,null,null,null,null,null,null,null,null,null,null,8]
["navlhčení z prostoru",null,null,null,null,null,null,null,null,null,null,null,"navlhčení z prostoru",null,null,null,null,null,null,null,null,null,null,null,null,null,null,null,null,null,9]
["dx=n.100/V.ρ",null,"dx",{"$f":"(D33*100)/D57*Konstanty!$F$8","v":0.59243396843461305},"g/kg s.v",null,null,null,null,null,null,null,"dx=n.100/V.ρ",null,"dx",{"$f":"(P30*100)/P57*Konstanty!$F$8","v":5.3720302982114262E-2},"g/kg s.v",null,null,null,null,null,null,null,null,null,null,null,null,null,10]
[null,null,null,null,null,null,null,null,null,null,null,null,null,null,null,null,null,null,null,null,null,null,null,null,null,null,null,null,null,null,11]
["NUTNÉ vzduch privlhčit",null,null,null,null,null,null,null,null,null,null,null,"NUTNÉ vzduch privlhčit",null,null,null,null,null,null,null,null,null,null,null,null,null,null,null,null,null,12]
[null,null,null,null,null,null,null,null,null,null,null,null,null,null,null,null,null,null,null,null,null,null,null,null,null,null,null,null,null,null,13]
[null,null,null,null,null,null,null,null,null,null,null,null,null,null,null,null,null,null,null,null,null,null,null,null,null,null,null,null,null,null,14]
[null,null,null,null,null,null,null,null,null,null,null,null,null,null,null,null,null,null,null,null,null,null,null,null,null,null,null,null,null,null,15]

{"sheet":"V9","index":8,"n_rows":156,"n_cols":63,"rows_kept":156,"cut":false,"hidden":false,"merged":[[59,6,59,7],[4,15,4,18],[26,3,26,6],[27,3,27,6],[33,6,33,7],[40,6,40,7]]}
[null,"Legenda",null,null,"hodnotu nutno zadat",null,null,null,null,"prevzato z první "]
[null,null,null,null,"hodnota se vypočítává "]
[null,null,null,null,"pomocná hodnota"]
["Parametry vzduchu",null,null,null,null,null,"interier klidovy rezim ",null,null,null,null,null,null,null,null,null,null,null,null,null,"Produkce tepla od",null,null,"ni",{"$f":"0.85*Y5+0.75*Y6+Y7","v":60.5},null,null,"Qi=ni.6,2*(36-ti)"]
["Interiér","ti",null,null,null,null,"Interiér","ti",null,null,null,null,"Exteriér","te",null,"minimální teplota -15 (tabulka) ",null,null,null,null,"lidí",{"$f":"Y4*6.2*(36-Teplota)","v":1500.4},"W","nz",{"$f":"Vypocet!Y5","v":30},"zeny",null,"ni=0,85nz+0,75nd+nm"]
["teplota",null,"ti",{"$f":"[0]!Teplota","v":32},"°C",null,"teplota",null,"ti",{"$f":"Vypocet!J6","v":24},"°C",null,"teplota",null,"te",{"$f":"CEILING(Vypocet!P6+35,5)","v":25},"°C",null,null,null,null,null,null,"nd ",{"$f":"Vypocet!Y6","v":20},"deti",null,"nz - zeny, nd deti, nm muzi"]
["relativní vlhkost",null,"rhi",{"$f":"Vypocet!D7","v":60},"%",null,"relativní vlhkost",null,"rhi",{"$f":"Vypocet!J7","v":55},"%",null,"relativní vlhkost",null,"rhe",{"$f":"ROUND((93*te-3153.5)/(te-39.17),0)","v":58},"%",null,null,null,null,null,null,"nm",{"$f":"Vypocet!Y7","v":20},"muzi"]
["entalpie s.v.",null,"hsvi",{"$f":"Konstanty!$F$2*Teplota","v":32320},"J/kg",null,"entalpie s.v.",null,"hsvi",{"$f":"Konstanty!$F$2*J6","v":24240},"J/kg",null,"entalpie s.v.",null,"hsve",{"$f":"Konstanty!$F$2*te","v":25250},"J/kg"]
["entalpie v.p.",null,"hvpi",{"$f":"$D$16*(Konstanty!$F$3*Teplota+Konstanty!$F$4)","v":46343.062700276656},"J/kg",null,"entalpie v.p.",null,"hvpi",{"$f":"$D$16*(Konstanty!$F$3*J6+Konstanty!$F$4)","v":46076.473456956111},"J/kg",null,"entalpie v.p.",null,"hvpe",{"$f":"P16*(Konstanty!F3*P6+Konstanty!F4)","v":29697.772949226855},"J/kg",null,null,null,"Odpar z povrchů"]
["entalpie ",null,"hi",{"$f":"D8+D9","v":78663.062700276656},"J/kg",null,"entalpie ",null,"hi",{"$f":"J8+J9","v":70316.473456956111},"J/kg",null,"entalpie ",null,"he",{"$f":"IF(P8<0,P9-P8,P8+P9)","v":54947.772949226855},"J/kg",null,null,null,null,null,null,null,null,null,null,"(7+3,5*w)*S*(xp´´-x).10-3"]
[null,null,null,{"$f":"D10/1000","v":78.663062700276654},"kJ/kg",null,null,null,null,{"$f":"J10/1000","v":70.316473456956118},"kJ/kg",null,null,null,null,{"$f":"P10/1000","v":54.947772949226852},"kJ/kg",null,null,null,null,null,null,null,null,null,null,"w stredni rychlost vzduchu"]
["tlak nasycené vodní páry",null,"p''vpi",{"$f":"Konstanty!$F$12^((1500.3+23.5*D6)/(234+D6))","v":4756.6229589957475},"Pa",null,"tlak nasycené vodní páry",null,"p''vpi",{"$f":"Konstanty!$F$12^((1500.3+23.5*J6)/(234+J6))","v":2984.4262331760842},"Pa",null,"tlak nasycené vodní páry",null,"p''vpe",{"$f":"Konstanty!$F$12^((1500.3+23.5*P6)/(234+P6))","v":3168.4692409900845},"Pa",null,{"$f":"2.718^(28.926-(6148/(273.15+te)))","v":4042.6100290417285},null,null,null,null,null,null,null,null,"xp´´-merna vlhkost nasyceneho vzduchu"]
["tlak  vodní páry",null,"pvpi",{"$f":"(D7/100)*D12","v":2853.9737753974482},"Pa",null,"tlak  vodní páry",null,"pvpi",{"$f":"(J7/100)*J12","v":1641.4344282468464},"Pa",null,"tlak  vodní páry",null,"pvpe",{"$f":"(P7/100)*P12","v":1837.7121597742489},"Pa",null,null,null,null,null,null,null,null,null,null,"x - merna vlhkost vzduchu nad povrchem "]
["tlak suchého vzduchu",null,"psvi",{"$f":"D18*Konstanty!$F$5*(Teplota+273.15)","v":98021.008646699993},"Pa",null,"tlak suchého vzduchu",null,"psvi",{"$f":"J18*Konstanty!$F$5*(Teplota+273.15)","v":100648.9177257},"Pa",null,"tlak suchého vzduchu",null,"psve",{"$f":"P18*Konstanty!F5*(P6+273.15)","v":97997.727918499993},"Pa",null,null,null,null,null,null,null,null,null,null,"S plocha"]
["tlak směsi vlhkého vzduchu",null,"pi",{"$f":"D13+D14","v":100874.98242209744},"Pa",null,"tlak směsi vlhkého vzduchu",null,"pi",{"$f":"J13+J14","v":102290.35215394685},"Pa",null,"tlak směsi vlhkého vzduchu",null,"pe",{"$f":"P13+P14","v":99835.440078274245},"Pa"]
["měrná vlhkost vzduchu",null,"xi",{"$f":"(Konstanty!$F$5/Konstanty!$F$6)*(D13/D14)","v":1.8110682290797792E-2},"kg/kg s.v.",null,"měrná vlhkost vzduchu",null,"xi",{"$f":"(Konstanty!$F$5/Konstanty!$F$6)*(J13/J14)","v":1.0144214643132086E-2},"kg/kg s.v.",null,"měrná vlhkost vzduchu",null,"xe",{"$f":"(Konstanty!F5/Konstanty!F6)*(P13/P14)","v":1.1664482698046683E-2},"kg/kg s.v."]
[null,null,null,{"$f":"D16*1000","v":18.11068229079779},"g/kg s.v.",null,null,null,null,{"$f":"J16*1000","v":10.144214643132086},"g/kg s.v.",null,null,null,null,{"$f":"P16*1000","v":11.664482698046683},"g/kg s.v."]
["hustota vzduchu při t",null,null,{"$f":"VLOOKUP(Teplota,Tabulky!$V$15:$AF$75,9,0)","v":1.119},"kg/m3",null,"hustota vzduchu při t",null,null,{"$f":"VLOOKUP(J6,Tabulky!V15:AF75,9,0)","v":1.149},"kg/m3",null,"hustota vzduchu při t",null,null,{"$f":"VLOOKUP(te,Tabulky!V15:AF75,9,0)","v":1.145},"kg/m3"]
[null,null,null,{"$f":"1.395-Teplota*0.004414","v":1.253752}]
["Bazén",null,null,null,null,null,null,null,"rozměry bazénu"]
["Teplota vody",null,"tsniz",{"$f":"Vypocet!D21","v":2},"°C","snížení teploty vody (dop 2-3°C)",null,null,"délka bazén","a",{"$f":"Vypocet!K21","v":25},"m"]
["tvz-(2-3)°C",null,"tvod",{"$f":"D6-D21","v":30},"°C",null,null,null,"šířka bazén","b",{"$f":"Vypocet!K22","v":12},"m"]
[]
["Mn. odpařené vody"]
["mw=ε*A*(p´´vp-pvp)",null,"mw",{"$f":"D28*$D$29*($D$12/100-$D$13/100)","v":114158.95101589795},"g/h"]
[null,null,null,{"$f":"D25/1000","v":114.15895101589796},"kg/h",null,null,null,"budova"]
["typ bazenu",null,null,{"$f":"Vypocet!AH47","v":"bazény - normální provoz"},null,null,null,null,"délka","a",{"$f":"Vypocet!K27","v":40},"m"]
["mnozstvi odp vody",null,null,{"$f":"VLOOKUP(D27,Tab_souc_odparu_bazen,7,0)","v":20},null,null,null,"[g/(hPa.m2.h)]","šířka","b",{"$f":"Vypocet!K28","v":15},"m"]
["plocha bazénu",null,"A",{"$f":"K21*K22","v":300},"m2",null,null,null,"výška","v",{"$f":"Vypocet!K29","v":7},"m","Produkce vlhkosti osobami - klidový režim"]
["Objem haly",null,"V",{"$f":"K27*K28*K29","v":4200},"m3",null,null,null,null,null,null,null,"počet osob v bazénu",null,"nos",{"$f":"Vypocet!P30","v":2}]
[null,null,null,null,null,null,null,null,null,null,null,null,"množství vlhkosti",null,"mos",{"$f":"P30*100","v":200},"g/h"]
["Produkce vlhkosti osobami - v provozu",null,null,null,null,null,null,null,null,null,null,null,null,null,null,{"$f":"P31/1000","v":0.2},"kg/h",null,null,null,null,null,null,null,null,null,null,null,null,null,"Výkon na kondenzátoru",null,null,null,"Qk",{"$f":"AH69","v":194862.97909948832},"W"]
["počet osob v bazénu",null,"nos",{"$f":"Vypocet!D33","v":60},"počet",null,"Produkce vlhkosti člověkem",null,null,null,null,null,null,null,null,{"$f":"P31/3600","v":5.5555555555555552E-2},"g/s",null,null,null,null,null,null,null,null,null,null,null,null,null,null,null,null,null,null,{"$f":"AH70","v":194.86297909948831},"kW"]
["množství vlhkosti",null,"mos",{"$f":"D33*H35","v":6300},"g/h",null,{"$f":"Vypocet!AH50","v":"člověk při středně těžké práci"},null,null,null,null,null,null,null,null,null,null,null,null,null,null,null,null,null,null,null,null,null,null,null,"Teplota požadovaná v interiéru",null,null,null,"ti",{"$f":"Teplota","v":32},"°C"]
[null,null,null,{"$f":"D34/1000","v":6.3},"kg/h",null,{"$f":"VLOOKUP(G34,Tabulky!W146:Z148,4,0)","v":"60-150"},{"$f":"IF(G35=\"60-150\",105,IF(G35=\"30-60\",45,225))","v":105},"g/h",null,null,null,"Produkce vlhkosti  - klidový režim",null,null,null,null,null,null,null,null,null,null,null,null,null,null,null,null,null,null,null,null,null,null,null,null,null,null,null,null,null,null,null,null,null,null,null,null,null,"Výkon na kondenzátoru",null,null,null,"Qk",{"$f":"BB70","v":56763.692798437383},"W"]
[null,null,null,{"$f":"D34/3600","v":1.75},"g/s",null,"rozmezí","průměr",null,null,null,"množství odpařené vody",null,null,"mw",{"$f":"Tabulky!$G$4*$D$29*($D$12/100-$D$13/100)","v":28539.737753974488},"g/h",null,null,null,null,null,null,null,null,null,null,null,null,null,"Výkonová bilance pro režim plného provozu",null,null,null,null,null,null,null,null,null,null,null,null,null,null,null,null,null,null,null,null,null,null,null,null,{"$f":"BB71","v":56.763692798437383},"kW"]
["celkové množství odpařené vody",null,null,{"$f":"(D25+D34)*(I37/100+1)","v":126481.89856669286},"g/h",null,null,"korekce ",{"$f":"Vypocet!I37","v":5},"%",null,null,"celkové množství odpařené vody",null,null,{"$f":"(P36+P31)*(I37/100+1)","v":30176.724641673216},"g/h",null,null,null,null,null,null,null,null,null,null,null,null,null,null,null,null,null,null,null,null,null,null,null,null,null,null,null,null,null,null,null,null,null,"Teplota požadovaná v interiéru",null,null,null,"ti",{"$f":"J6","v":24},"°C"]
["Dimenzování průtoku vzduchu bazénové větrací jednotky pro zátěž",null,null,null,null,null,null,null,null,null,null,null,"Dimenzování průtoku vzduchu bazénové větrací jednotky pro klidový režim"]
["z množství odpařené vody",null,null,null,null,null,null,null,null,null,null,null,"z množství odpařené vody",null,null,null,null,null,null,null,null,null,null,null,null,null,null,null,null,null,null,null,null,null,null,null,null,null,null,null,null,null,null,null,null,null,null,null,null,null,"Výkonová bilance pro klidový režim"]
["požadovaná vlhkost přiváděná",null,"xpoz",{"$f":"Vypocet!D40","v":9},"g/kg",null,"doporučená hodnota 8-10 g/kg",null,null,null,null,null,"požadovaná vlhkost přiváděná",null,"xpoz",{"$f":"Vypocet!P40","v":9},"g/kg",null,"doporučená hodnota 8-10 g/kg"]
[null,null,"V1",{"$f":"(D37)/(D18*(D17-D40))","v":12406.445935942682},"m3/h",null," ",null,{"$f":"D147","v":11.664841683559031},"g/kg s.v.",null,null,null,null,"V1",{"$f":"(P36+P31)/(Konstanty!$F$8*(J17-5))","v":4560.6593112769815},"m3/h"]
["z objemu haly",null,null,null,null,null,null,null,null,null,null,null,"z objemu haly"]
["výměna vzduchu",null,"n",{"$f":"Vypocet!D43","v":1},"1/h",null,null,null,null,null,null,null,"výměna vzduchu",null,"n",{"$f":"Vypocet!P43","v":1},"1/h"]
["V=n*VH",null,"V2",{"$f":"D30*D43","v":4200},"m3/h",null,null,null,null,null,null,null,"V=n*VH",null,"V2",{"$f":"D30*P43","v":4200},"m3/h"]
["z tepelných zisků"]
[null,"tepelné ztráty","Qzt",{"$f":"Vypocet!D46","v":7},"kW",null,null,"teplotní spád výústky","dt",{"$f":"Vypocet!J46","v":8},"°C"]
[null,"tepelné zisky","Qzisk",{"$f":"Vypocet!D47","v":16},"kW"]
[null,"Množství vzduchu",null,{"$f":"((D47-D46)/J46*Konstanty!$F$2*Konstanty!$F$8)","v":1391.90625},"m3/h"]
[null,null,null,null,null,null,null,null,null,null,null,null,null,null,null,null,null,null,null,null,null,null,null,null,null,null,null,null,null,null,null,null,null,null,null,null,null,null,null,null,null,null,null,null,null,null,null,null,null,null,null,null,null,null,null,null,null,"te","teplota exteriérového vzduchu"]
["potřeba vzduchu pro osoby",null,null,null,null,null,null,null,null,null,null,null,null,null,null,null,null,null,null,null,null,null,"te","teplota exteriérového vzduchu",null,null,null,null,null,null,null,null,null,null,null,null,null,null,null,null,null,null,null,null,null,null,null,null,null,null,null,null,null,null,null,null,null,"Qpředehřev","Výkon pro předehřátí vzduchu"]
[null,null,"V2",{"$f":"D33*D52","v":3000},null,null,null,null,null,null,null,null,null,null,null,null,null,null,null,null,null,null,"Qpředehřev","Výkon pro předehřátí vzduchu",null,null,null,null,null,null,null,null,null,null,null,null,null,null,null,null,null,null,null,null,null,null,null,null,null,null,null,null,null,null,null,null,null,"Qdohřátí","Výkon spotřebovaný na dohřátí vzduchu na požadovanou úroveň"]
["množství čerstvého vzduchu/osoba",null,null,{"$f":"Vypocet!D52","v":50},"m3/h/os",null,"doporučená hodnota při zátěži (min hodnota 25m3/h) ",null,null,null,null,null,null,null,null,null,null,null,null,null,null,null,"Qdohřátí","Výkon spotřebovaný na dohřátí vzduchu na požadovanou úroveň",null,null,null,null,null,null,null,"červeně zvýrazněné pole je teplota ext vyšší než teplota exteriéru, přívod vzduchu plně čerstvý"]
[]
["Potřeba čerstvého vzduchu",null,null,{"$f":"IF(MAX(D41,D44,D48)>D51,\"Ne\",\"Ano\")","v":"Ne"},null,null,"nepočítá s tím dál samo! ",null,null,null,null,null,null,null,null,null,null,null,null,null,null,null,null,null,null,null,null,null,null,null,"Teplo odevzdané na výparníku",null,null,null,null,null,"Množství kondenzátu"]
["Množství čerstvého vzduchu",null,null,{"$f":"IF(D54=\"ano\",D51-MAX(D41,D44,D48),0)","v":0},"m3/h",null,"pouze informativní charakter, množství V čerst rozhodne projektant",null,null,null,null,null,null,null,null,null,null,null,null,null,null,null,null,null,null,null,null,null,null,null,"Qv=V*ρ*(hi-h3)",null,"Qv",{"$f":"D81","v":147350.87431255195},"W",null,"mkond = V*ρ*(xi-x3)",null,"mkond",{"$f":"IF(D58*D18*(D16-D77)<0,0,D58*D18*(D16-D77))","v":3.1236329255219682E-2},"kg/s",null,null,null,null,null,null,null,null,null,"Teplo odevzdané na výparníku",null,null,null,null,null,"Množství kondenzátu"]
[null,null,null,null,null,null,null,null,null,null,null,null,null,null,null,null,null,null,null,null,null,null,null,null,null,null,null,null,null,null,null,null,null,{"$f":"AH55/1000","v":147.35087431255195},"kW",null,null,null,null,{"$f":"AN55*1000","v":31.236329255219683},"g/s",null,null,null,null,null,null,null,null,null,"Qv=V*ρ*(hi-h3)",null,"Qv",{"$f":"P81","v":47003.773128829853},"W",null,"mkond = V*ρ*(xi-x3)",null,"mkond",{"$f":"IF(P58*J18*(J16-P77)<0,0,P58*J18*(J16-P77))","v":2.1834156452738541E-3},"kg/s"]
["průtok vzduchu",null,"V",{"$f":"MAX(D41,D44,D48)","v":12406.445935942682},"m3/h",null,null,null,null," ",null,null,"průtok vzduchu",null,"V",{"$f":"MAX(P41,P44)","v":4560.6593112769815},"m3/h",null,null,null,null,null,null,null,null,null,null,null,null,null,null,null,null,null,null,null,null,null,null,{"$f":"AN55*3600","v":112.45078531879085},"kg/h",null,null,null,null,null,null,null,null,null,null,null,null,{"$f":"BB56/1000","v":47.003773128829856},"kW",null,null,null,null,{"$f":"BH56*1000","v":2.183415645273854},"g/s"]
[null,null,"V",{"$f":"D57/3600","v":3.4462349822063003},"m3/s",null,null,null,null,null,null,null,null,null,"V",{"$f":"P57/3600","v":1.2668498086880504},"m3/s",null,null,null,null,null,null,null,null,null,null,null,null,null,"Tepelné čerpadlo (TČ)",null,null,null,"typ TČ",null,null,null,null,null,null,null,null,null,null,null,null,null,null,null,null,null,null,null,null,null,null,null,null,{"$f":"BH56*3600","v":7.8602963229858744},"kg/h"]
[null,null,null,null,null,null,null,null,null,null,null,null,null,null,null,null,null,null,null,null,null,null,null,null,null,null,null,null,null,null,"Topný faktor TČ",null,"COP",{"$f":"VLOOKUP(Teplota,'V9'!AE83:AF136,2,0)","v":4.1013333333333328},"Alfa S Duo",null,null,null,null,null,null,null,null,null,null,null,null,null,null,null,"Tepelné čerpadlo (TČ)",null,null,null,"typ TČ"]
["množství odebrané měrné vlh",null,"Δx",8.1,"g/kg s.v",null,"vstupní měrná  vlhkost do int",null,"xvyst",{"$f":"D147","v":11.664841683559031},"g/kg s.v.",null,null,null,null,null,null,null,null,null,null,null,null,null,null,null,null,null,null,null,null,null,null,null,null,null,null,null,null,null,null,null,null,null,null,null,null,null,null,null,"Topný faktor TČ",null,"COP",{"$f":"VLOOKUP(J6,'V9'!AY84:AZ132,2,0)","v":3.8159999999999998},"Alfa S Duo"]
["teplota chladiče",null,"tch",{"$f":"Vypocet!D61","v":9},"°C ",null,null,null,null,null,null,null,null,null,null,null,null,null,null,null,null,null,null,null,null,null,null,null,null,null,"Tepelná bilance TČ"]
["relativní vlhkost",null,"rhch",{"$f":"Vypocet!D62","v":100},"%",null,null,null,null,null,null,null,"množství odebrané měrné vlh",null,"Δx",{"$f":"Vypocet!P60","v":1.5},"g/kg s.v.",null,null,null,null,null,null,null,null,null,null,null,null,null,"Qk=Pel+Qv",null,null,null,null,null,null,null,null,null,null,null,null,null,null,null,null,null,null,null,"Tepelná bilance TČ"]
[null,null,null,null,null,null,null,null,null,null,null,null,"teplota chladiče",null,"tch",{"$f":"Vypocet!P61","v":9},"°C ",null,null,null,null,null,null,null,null,null,null,null,null,null,"εt = COP","εt = Qv/Pel",null,null,null,null,null,null,null,null,null,null,null,null,null,null,null,null,null,null,"Qk=Pel+Qv"]
[null,null,null,null,null,null,null,null,null,null,null,null,"relativní vlhkost",null,"rhch",{"$f":"Vypocet!P62","v":100},"%",null,null,null,null,null,null,null,null,null,null,null,null,null,"Pel=Qk/(1+Et)",null,null,null,null,null,null,null,null,null,null,null,null,null,null,null,null,null,null,null,"εt = COP","εt = Qv/Pel"]
[null,null,null,null,null,null,null,null,null,null,null,null,null,null,null,null,null,null,null,null,null,null,null,"Parametry chladiče",null,null,null,null,null,null,"Výkon kompresoru",null,"Pet",{"$f":"AH55/(AH59-1)","v":47512.104786936361},"W",null,null,null,null,null,null,null,null,null,null,null,null,null,null,null,"Pel=Qk/(1+Et)"]
["t3","parametry vyduchu za vyparnikem",null,null,null,null,null,null,null,null,null,null,"t3","parametry vyduchu za vyparnikem",null,null,null,null,null,null,null,null,null,"teplota",null,"ti",{"$f":"tch","v":9},"°C",null,null,null,null,null,{"$f":"AH65/1000","v":47.512104786936362},"kW",null,null,null,null,null,null,null,null,null,null,null,null,null,null,null,"Výkon kompresoru",null,"Pet",{"$f":"BB56/(BB60+1)","v":9759.9196696075287},"W"]
["teplota",null,"tvyp",{"$f":"W87","v":15},"°C",null,{"$f":"tvyp-te","v":-10},null,null,null,null,null,"teplota",null,"tvyp",{"$f":"W112","v":16},"°C",null,null,null,null,null,null,"relativní vlhkost",null,"rhi",{"$f":"D62","v":100},"%",null,null,"Prikon kompresoru",null,null,{"$f":"AH66/AH59","v":11.584550907087866},"kW",null,null,null,null,null,null,null,null,null,null,null,null,null,null,null,null,null,null,{"$f":"BB66/1000","v":9.7599196696075285},"kW"]
["relativní vlhkost",null,"rh3",{"$f":"IF((D74/D73)*100>100,100,(D74/D73)*100)","v":92.558526426350483},"%",null,null,null,null,null,null,null,"relativní vlhkost",null,"rh3",{"$f":"IF((P74/P73)*100>100,100,(P74/P73)*100)","v":74.957831234168935},"%",null,null,null,null,null,null,"entalpie s.v.",null,"hsvi",{"$f":"Konstanty!$F$2*AA66","v":9090},"J/kg",null,null,"Teplo na kondenzátoru"]
["entalpie s.v.",null,"h3",{"$f":"Konstanty!$F$2*D67","v":15150},"J/kg",null,null,null,null,null,null,null,"entalpie s.v.",null,"h3",{"$f":"Konstanty!$F$2*P67","v":16160},"J/kg",null,null,null,null,null,null,"entalpie v.p.",null,"hvpi",{"$f":"$AA$76*(Konstanty!$F$3*AA66+Konstanty!$F$4)","v":18311.904271787756},"J/kg",null,null,"Výkon na kondenzátoru",null,"Qk",{"$f":"AH65+AH55","v":194862.97909948832},"W",null,null,null,null,null,null,null,null,null,null,null,null,null,null,null,"Teplo na kondenzátoru"]
["entalpie v.p.",null,"h3",{"$f":"D77*(Konstanty!$F$3*D67+Konstanty!$F$4)","v":25303.000558220498},"J/kg",null,null,null,null,null,null,null,"entalpie v.p.",null,"h3",{"$f":"P77*(Konstanty!$F$3*P67+Konstanty!$F$4)","v":21865.022286924024},"J/kg",null,null,null,null,null,null,"entalpie ",null,"hi",{"$f":"AA68+AA69","v":27401.904271787756},"J/kg",null,null,null,null,null,{"$f":"AH69/1000","v":194.86297909948831},"kW",null,null,null,null,null,null,null,"  ",null,null,null,null,null,null,null,"Výkon na kondenzátoru",null,"Qk",{"$f":"BB66+BB56","v":56763.692798437383},"W"]
["entalpie ",null,"h3",{"$f":"D69+D70","v":40453.000558220498},"J/kg",null,null,null,null,null,null,null,"entalpie ",null,"h3",{"$f":"P69+P70","v":38025.022286924024},"J/kg",null,null,null,null,null,null,null,null,null,{"$f":"AA70/1000","v":27.401904271787757},"kJ/kg",null,null,null,null,null,null,null,null,null,null,null,null,null,null,null,null,null,null,null,null,null,null,null,null,null,{"$f":"BB70/1000","v":56.763692798437383},"kW",null,null,null,null,null,null,null,"  "]
[null,null,null,{"$f":"D71/1000","v":40.453000558220495},"kJ/kg",null,null,null,null,null,null,null,null,null,null,{"$f":"P71/1000","v":38.025022286924028},"kJ/kg",null,null,null,null,null,null,"tlak nasycené vodní páry",null,"p''vpi",{"$f":"Konstanty!$F$12^((1500.3+23.5*AA66)/(234+AA66))","v":1146.4717300807256},"Pa"]
["tlak nasycené vodní páry",null,"p''vp3",{"$f":"Konstanty!$F$12^((1500.3+23.5*D67)/(234+D67))","v":1704.3922173186882},"Pa",null,null,null,null,null,null,null,"tlak nasycené vodní páry",null,"p''vp3",{"$f":"Konstanty!$F$12^((1500.3+23.5*P67)/(234+P67))","v":1817.4687221052275},"Pa",null,null,null,null,null,null,"tlak  vodní páry",null,"pvpi",{"$f":"(AA67/100)*AA72","v":1146.4717300807256},"Pa",null,null,"Graf topneho faktoru ",null,null,"TnG Air 13, vzduch/voda"]
["tlak  vodní páry",null,"pvp3",{"$f":"(D77*D75)/0.622","v":1577.560320875579},"Pa",null,{"$f":"((G77*D75)/(0.622+G77))/((0.622-G77)/(0.622))","v":0},"přepočet tlaku z x",null,null,null,null,"tlak  vodní páry",null,"pvp3",{"$f":"(P77*P75)/0.622","v":1362.3351374494432},"Pa",null,{"$f":"((S77*P75)/(0.622+S77))/((0.622-S77)/(0.622))","v":1599.161688452117},"přepočet tlaku z x",null,null,null,"tlak suchého vzduchu",null,"psvi",{"$f":"AA78*Konstanty!$F$5*(AA66+273.15)","v":98003.397392999992},"Pa",null,null,null,null,null,null,null,null,null,null,null,null,null,null,null,null,null,null,null,null,null,null,"Graf topneho faktoru ",null,null,"TnG Air 13, vzduch/voda"]
["tlak suchého vzduchu",null,"psv3",{"$f":"D79*Konstanty!$F$5*(D67+273.15)","v":98019.544630499993},"Pa",null,null,null,null,null,null,null,"tlak suchého vzduchu",null,"psv3",{"$f":"P79*Konstanty!$F$5*(P67+273.15)","v":98027.697191300002},"Pa",null,null,null,null,null,null,"tlak směsi vlhkého vzduchu",null,"pi",{"$f":"AA73+AA74","v":99149.869123080716},"Pa",null,null,{"$f":"Vypocet!AE107","v":"teplota"},{"$f":"Vypocet!AF107","v":-18},{"$f":"Vypocet!AG107","v":-15},{"$f":"Vypocet!AH107","v":-10},{"$f":"Vypocet!AI107","v":-5},{"$f":"Vypocet!AJ107","v":0},{"$f":"Vypocet!AK107","v":5},{"$f":"Vypocet!AL107","v":10},{"$f":"Vypocet!AM107","v":15}]
["tlak směsi vlhkého vzduchu",null,"p3",{"$f":"D74+D75","v":99597.104951375572},"Pa",null,null,null,null,null,null,null,"tlak směsi vlhkého vzduchu",null,"p3",{"$f":"P74+P75","v":99390.032328749439},"Pa",null,null,null,null,null,null,"měrná vlhkost vzduchu",null,"xi",{"$f":"(Konstanty!$F$5/Konstanty!$F$6)*(AA73/AA74)","v":7.276561763593062E-3},"kg/kg s.v.",null,null,{"$f":"Vypocet!AE108","v":"vykon"},{"$f":"Vypocet!AF108","v":4.7},{"$f":"Vypocet!AG108","v":5.75},{"$f":"Vypocet!AH108","v":7},{"$f":"Vypocet!AI108","v":8.24},{"$f":"Vypocet!AJ108","v":9.4600000000000009},{"$f":"Vypocet!AK108","v":10.69},{"$f":"Vypocet!AL108","v":11.8},{"$f":"Vypocet!AM108","v":13.1},null,null,null,null,null,null,null,null,null,null,null,{"$f":"Vypocet!AY108","v":"teplota"},{"$f":"Vypocet!AZ108","v":-18},{"$f":"Vypocet!BA108","v":-15},{"$f":"Vypocet!BB108","v":-10},{"$f":"Vypocet!BC108","v":-5},{"$f":"Vypocet!BD108","v":0},{"$f":"Vypocet!BE108","v":5},{"$f":"Vypocet!BF108","v":10},{"$f":"Vypocet!BG108","v":15}]
["měrná vlhkost vzduchu",null,"x3",{"$f":"D16-deltaT/1000","v":1.0010682290797792E-2},"kg/kg s.v.",null,{"$f":"IF(tvyp<D82,0,D16)","v":0},"vezme x z Ti když tvyp<rosny bod",null,null,null,null,"měrná vlhkost vzduchu",null,"x3",{"$f":"J16-P62/1000","v":8.6442146431320865E-3},"kg/kg s.v.",null,{"$f":"IF(tvyp<P82,0,J16)","v":1.0144214643132086E-2},"vezme x z Ti když tvyp<rosny bod",null,null,null,null,null,null,{"$f":"AA76*1000","v":7.2765617635930617},"g/kg s.v.",null,null,{"$f":"Vypocet!AE109","v":"el prikon"},{"$f":"Vypocet!AF109","v":2.2400000000000002},{"$f":"Vypocet!AG109","v":2.4700000000000002},{"$f":"Vypocet!AH109","v":2.72},{"$f":"Vypocet!AI109","v":2.94},{"$f":"Vypocet!AJ109","v":3.2},{"$f":"Vypocet!AK109","v":3.37},{"$f":"Vypocet!AL109","v":3.55},{"$f":"Vypocet!AM109","v":3.85},null,null,null,null,null,null,null,null,null,null,null,{"$f":"Vypocet!AY109","v":"vykon"},{"$f":"Vypocet!AZ109","v":4.7},{"$f":"Vypocet!BA109","v":5.75},{"$f":"Vypocet!BB109","v":7},{"$f":"Vypocet!BC109","v":8.24},{"$f":"Vypocet!BD109","v":9.4600000000000009},{"$f":"Vypocet!BE109","v":10.69},{"$f":"Vypocet!BF109","v":11.8},{"$f":"Vypocet!BG109","v":13.1}]
[null,null,null,{"$f":"D77*1000","v":10.010682290797792},"g/kg s.v.",null,null,null,null,null,null,null,null,null,null,{"$f":"P77*1000","v":8.6442146431320861},"g/kg s.v.",null,null,null,null,null,null,"hustota vzduchu při t",null,null,{"$f":"VLOOKUP(AA66,Tabulky!$V$15:$AF$75,9,0)","v":1.21},"kg/m3",null,null,{"$f":"Vypocet!AE110","v":"COP"},{"$f":"Vypocet!AF110","v":2.1},{"$f":"Vypocet!AG110","v":2.33},{"$f":"Vypocet!AH110","v":2.57},{"$f":"Vypocet!AI110","v":2.8},{"$f":"Vypocet!AJ110","v":2.96},{"$f":"Vypocet!AK110","v":3.17},{"$f":"Vypocet!AL110","v":3.32},{"$f":"Vypocet!AM110","v":3.4},null,null,null,null,null,null,null,null,null,null,null,{"$f":"Vypocet!AY110","v":"el prikon"},{"$f":"Vypocet!AZ110","v":2.2400000000000002},{"$f":"Vypocet!BA110","v":2.4700000000000002},{"$f":"Vypocet!BB110","v":2.72},{"$f":"Vypocet!BC110","v":2.94},{"$f":"Vypocet!BD110","v":3.2},{"$f":"Vypocet!BE110","v":3.37},{"$f":"Vypocet!BF110","v":3.55},{"$f":"Vypocet!BG110","v":3.85}]
["hustota vzduchu při t",null,null,{"$f":"VLOOKUP(tvyp,Tabulky!$V$15:$AF$75,9,0)","v":1.1850000000000001},"kg/m3",null,null,null,null,null,null,null,"hustota vzduchu při t",null,null,{"$f":"VLOOKUP(P67,Tabulky!$V$15:$AF$75,9,0)","v":1.181},"kg/m3",null,null,null,null,null,null,null,null,null,{"$f":"1.395-Teplota*0.004414","v":1.253752},null,null,null,null,null,null,{"$f":"AH78-AG78","v":0.23999999999999977},0.22999999999999998,0.16000000000000014,0.20999999999999996,0.14999999999999991,8.0000000000000071E-2,"průměr",{"$f":"AVERAGE(AG79:AM79)","v":0.17833333333333332},"prumer/1",{"$f":"AO79/5","v":3.5666666666666666E-2},null,null,null,null,null,null,null,{"$f":"Vypocet!AY111","v":"COP"},{"$f":"Vypocet!AZ111","v":2.1},{"$f":"Vypocet!BA111","v":2.33},{"$f":"Vypocet!BB111","v":2.57},{"$f":"Vypocet!BC111","v":2.8},{"$f":"Vypocet!BD111","v":2.96},{"$f":"Vypocet!BE111","v":3.17},{"$f":"Vypocet!BF111","v":3.32},{"$f":"Vypocet!BG111","v":3.4}]
[null,null,null,null,null,null,null,null,null,null,null,null,null,null,null,null,null,null,null,null,null,null,null,null,null,null,null,null,null,null,null,"popis závislosti",null,"y=0,18571x+2,96",null,null,null,null,null,null,null,null,null,null,null,null,null,null,null,null,null,null,null,{"$f":"BB79-BA79","v":0.23999999999999977},0.22999999999999998,0.16000000000000014,0.20999999999999996,0.14999999999999991,8.0000000000000071E-2,"průměr",{"$f":"AVERAGE(BA80:BG80)","v":0.17833333333333332},"prumer/1",{"$f":"BI80/5","v":3.5666666666666666E-2}]
["teplo získané na výparníku",null,"Qv",{"$f":"D58*D18*(D10-D71)","v":147350.87431255195},"W",null,null,null,null,null,null,null,"teplo získané na výparníku",null,"Qv",{"$f":"P58*J18*(J10-P71)","v":47003.773128829853},"W",null,null,null,"A","Ti",{"$f":"Teplota","v":32},null,"B","tch",{"$f":"AA66","v":9},null,null,null,null,null,null,null,null,null,null,null,null,null,null,null,null,null,null,null,null,null,null,null,null,"popis závislosti",null,"y=0,18571x+2,96"]
[null,"rosný bod ",null,{"$f":"(243.5*LN(($D$7/100)*Konstanty!$F$12^((17.67*Teplota)/(243.5+Teplota))))/(17.67-(LN(($D$7/100)*Konstanty!$F$12^((17.67*Teplota)/(243.5+Teplota)))))","v":23.274251871309211},"°C ",null,null,null,null,null,null,null,null,"rosný bod ",null,{"$f":"(243.5*LN((J7/100)*Konstanty!$F$12^((17.67*J6)/(243.5+J6))))/(17.67-(LN((J7/100)*Konstanty!$F$12^((17.67*J6)/(243.5+J6)))))","v":14.413817952855092},"°C ",null,null,null,null,"xi",{"$f":"D16","v":1.8110682290797792E-2},null,null,"xch",{"$f":"AA76","v":7.276561763593062E-3},null,null,null,"teplota","COP",null,-18,2.1]
[null,null,null,null,null,null,null,null,null,null,null,null,null,null,null,null,null,null,null,null,null,"xi",{"$f":"D17","v":18.11068229079779},null,null,"xch",{"$f":"AA77","v":7.2765617635930617},null,null,null,-18,{"$f":"$AQ$79*AE83+$AJ$78","v":2.3180000000000001},null,-15,2.33,null,null,null,null,null,null,null,null,null,null,null,null,null,null,null,"teplota","COP"]
["Distribuce tepla v závislosti na externí teplotě",null,null,null,null,null,null,null,null,null,null,null,null,null,null,null,null,null,null,null,null,null,null,null,null,null,null,null,null,null,-17,2.3536666666666668,null,-10,2.57,null,null,null,null,null,null,null,null,null,null,null,null,null,null,null,-18,{"$f":"$AQ$79*AY84+$AJ$78","v":2.3180000000000001}]
["teplota předehřevu te",null,"tpřed",{"$f":"Vypocet!D85","v":5},"°C",null,null,null,null,null,null,null,null,null,null,null,null,null,null,null,null,"dx",{"$f":"deltaT","v":8.1},null,"výpočet teplochy při teplote chladice",null,null,null,null,null,-16,2.3893333333333331,null,-5,2.8,null,null,null,null,null,null,null,null,null,null,null,null,null,null,null,-17,2.3536666666666668]
["množství čerst vzduchu",null,null,{"$f":"Vypocet!D86","v":30},"%",null,null,null,null,null,null,null,null,null,null,null,null,null,null,null,null,"th",{"$f":"((W81-AA81)*W83+(AA83-W83)*W81-(W81-AA81)*(W83-W85))/(AA83-W83)","v":14.804326430355252},null,"počítá s přímkou ti - tch a na ní počítá bod",null,null,null,null,null,-15,2.4249999999999998,null,0,2.96,null,null,null,null,null,null,null,null,null,null,null,null,null,null,null,-16,2.3893333333333331]
["množství předehřívaného vzd",null,null,{"$f":"D58*(D86/100)","v":1.03387049466189},"m3/h",null,null,null,null,null,null,null,null,null,null,null,null,null,null,null,null,null,{"$f":"ROUND(W86,0)","v":15},null,null,null,null,null,null,null,-14,2.4606666666666666,null,5,3.17,null,null,null,null,null,null,null,null,null,null,null,null,null,null,null,-15,2.4249999999999998]
["potřeba tepla na předehřev",null,null,{"$f":"IF(D85>te,((D87*P18)/(1+P16))*(D85-te)*P18*Konstanty!$F$2,0)","v":0},"W",null,null,null,null,null,null,null,null,null,null,null,null,null,null,null,null,null,null,null,null,null,null,null,null,null,-13,2.4963333333333333,null,10,3.32,null,null,null,null,null,null,null,null,null,null,null,null,null,null,null,-14,2.4606666666666666]
[null,null,null,null,null,null,null,null,null,null,null,null,null,null,null,null,null,null,null,null,null,null,null,null,null,null,null,null,null,null,-12,2.532,null,15,3.4,null,null,null,null,null,null,null,null,null,null,null,null,null,null,null,-13,2.4963333333333333]
["t4","Předehřev exteriérového vzduchu",null,null,null,null,null,null,null,null,null,null,"t4","Předehřev exteriérového vzduchu",null,null,null,null,null,null,null,null,null,"Parametry chladiče klidovy rezim",null,null,null,null,null,null,-11,2.5676666666666668,null,null,null,null,null,null,null,null,null,null,null,null,null,null,null,null,null,null,-12,2.532]
["teplota předehřevu",null,"tpředehřev",{"$f":"IF($D$85>te,$D$85,te)","v":25},"°C",null,null,null,null,null,null,null,"teplota předehřevu",null,"tpředehřev",{"$f":"IF($D$85>te,$D$85,te)","v":25},"°C",null,null,null,null,null,null,"teplota",null,"ti",{"$f":"P63","v":9},"°C",null,null,-10,2.6033333333333335,null,null,null,null,null,null,null,null,null,null,null,null,null,null,null,null,null,null,-11,2.5676666666666668]
[null,null,"rhpředehřev",{"$f":"((D101*P15)/(D97*(0.622+D101)))*100","v":58.001785004980945},"%",null,null,null,null,null,null,null,null,null,"rhpředehřev",{"$f":"((P101*P15)/(P97*(0.622+P101)))*100","v":58.001785004980945},"%",null,null,null,null,null,null,"relativní vlhkost",null,"rhi",{"$f":"P64","v":100},"%",null,null,-9,2.6389999999999998,null,null,null,null,null,null,null,null,null,null,null,null,null,null,null,null,null,null,-10,2.6033333333333335]
["entalpie s.v.",null,"hsv4",{"$f":"Konstanty!$F$2*D91","v":25250},"J/kg",null,null,null,null,null,null,null,"entalpie s.v.",null,"hsv4",{"$f":"Konstanty!$F$2*P91","v":25250},"J/kg",null,null,null,null,null,null,"entalpie s.v.",null,"hsvi",{"$f":"Konstanty!$F$2*AA91","v":9090},"J/kg",null,null,-8,2.6746666666666665,null,null,null,null,null,null,null,null,null,null,null,null,null,null,null,null,null,null,-9,2.6389999999999998]
["entalpie v.p.",null,"hvp4",{"$f":"D101*(Konstanty!$F$3*D91+Konstanty!$F$4)","v":29697.772949226855},"J/kg",null,null,null,null,null,null,null,"entalpie v.p.",null,"hvp4",{"$f":"P101*(Konstanty!$F$3*P91+Konstanty!$F$4)","v":29697.772949226855},"J/kg",null,null,null,null,null,null,"entalpie v.p.",null,"hvpi",{"$f":"$AA$76*(Konstanty!$F$3*AA91+Konstanty!$F$4)","v":18311.904271787756},"J/kg",null,null,-7,2.7103333333333333,null,null,null,null,null,null,null,null,null,null,null,null,null,null,null,null,null,null,-8,2.6746666666666665]
["entalpie ",null,"h4",{"$f":"D93+D94","v":54947.772949226855},"J/kg",null,null,null,null,null,null,null,"entalpie ",null,"h4",{"$f":"P93+P94","v":54947.772949226855},"J/kg",null,null,null,null,null,null,"entalpie ",null,"hi",{"$f":"AA93+AA94","v":27401.904271787756},"J/kg",null,null,-6,2.746,null,null,null,null,null,null,null,null,null,null,null,null,null,null,null,null,null,null,-7,2.7103333333333333]
[null,null,null,{"$f":"D95/1000","v":54.947772949226852},"kJ/kg",null,null,null,null,null,null,null,null,null,null,{"$f":"P95/1000","v":54.947772949226852},"kJ/kg",null,null,null,null,null,null,null,null,null,{"$f":"AA95/1000","v":27.401904271787757},"kJ/kg",null,null,-5,2.7816666666666667,null,null,null,null,null,null,null,null,null,null,null,null,null,null,null,null,null,null,-6,2.746]
["tlak nasycené vodní páry",null,"p''vp4",{"$f":"Konstanty!$F$12^((1500.3+23.5*D91)/(234+D91))","v":3168.4692409900845},"Pa",null,null,null,null,null,null,null,"tlak nasycené vodní páry",null,"p''vp4",{"$f":"Konstanty!$F$12^((1500.3+23.5*P91)/(234+P91))","v":3168.4692409900845},"Pa",null,null,null,null,null,null,"tlak nasycené vodní páry",null,"p''vpi",{"$f":"Konstanty!$F$12^((1500.3+23.5*AA91)/(234+AA91))","v":1146.4717300807256},"Pa",null,null,-4,2.8173333333333335,null,null,null,null,null,null,null,null,null,null,null,null,null,null,null,null,null,null,-5,2.7816666666666667]
["tlak  vodní páry",null,"pvp4",{"$f":"(D92/100)*D97","v":1837.7687171080204},"Pa",null,null,null,null,null,null,null,"tlak  vodní páry",null,"pvp4",{"$f":"(P92/100)*P97","v":1837.7687171080204},"Pa",null,null,null,null,null,null,"tlak  vodní páry",null,"pvpi",{"$f":"(AA92/100)*AA97","v":1146.4717300807256},"Pa",null,null,-3,2.8529999999999998,null,null,null,null,null,null,null,null,null,null,null,null,null,null,null,null,null,null,-4,2.8173333333333335]
["tlak suchého vzduchu",null,"psv4",{"$f":"D103*Konstanty!$F$5*(D91+273.15)","v":97997.727918499993},"Pa",null,null,null,null,null,null,null,"tlak suchého vzduchu",null,"psv4",{"$f":"P103*Konstanty!$F$5*(P91+273.15)","v":97997.727918499993},"Pa",null,null,null,null,null,null,"tlak suchého vzduchu",null,"psvi",{"$f":"AA103*Konstanty!$F$5*(AA91+273.15)","v":98003.397392999992},"Pa",null,null,-2,2.8886666666666665,null,null,null,null,null,null,null,null,null,null,null,null,null,null,null,null,null,null,-3,2.8529999999999998]
["tlak směsi vlhkého vzduchu",null,"p4",{"$f":"D98+D99","v":99835.496635608011},"Pa",null,null,null,null,null,null,null,"tlak směsi vlhkého vzduchu",null,"p4",{"$f":"P98+P99","v":99835.496635608011},"Pa",null,null,null,null,null,null,"tlak směsi vlhkého vzduchu",null,"pi",{"$f":"AA98+AA99","v":99149.869123080716},"Pa",null,null,-1,2.9243333333333332,null,null,null,null,null,null,null,null,null,null,null,null,null,null,null,null,null,null,-2,2.8886666666666665]
["měrná vlhkost vzduchu",null,"x4",{"$f":"P16","v":1.1664482698046683E-2},"kg/kg s.v.",null,null,null,null,null,null,null,"měrná vlhkost vzduchu",null,"x4",{"$f":"P16","v":1.1664482698046683E-2},"kg/kg s.v.",null,null,null,null,null,null,"měrná vlhkost vzduchu",null,"xi",{"$f":"(Konstanty!$F$5/Konstanty!$F$6)*(AA98/AA99)","v":7.276561763593062E-3},"kg/kg s.v.",null,null,0,2.96,null,null,null,null,null,null,null,null,null,null,null,null,null,null,null,null,null,null,-1,2.9243333333333332]
[null,null,null,{"$f":"D101*1000","v":11.664482698046683},"g/kg s.v.",null,null,null,null,null,null,null,null,null,null,{"$f":"P101*1000","v":11.664482698046683},"g/kg s.v.",null,null,null,null,null,null,null,null,null,{"$f":"AA101*1000","v":7.2765617635930617},"g/kg s.v.",null,null,1,2.9956666666666667,null,null,null,null,null,null,null,null,null,null,null,null,null,null,null,null,null,null,0,2.96]
["hustota vzduchu při t",null,null,{"$f":"VLOOKUP(D91,Tabulky!$V$15:$AF$75,9,0)","v":1.145},"kg/m3",null,null,null,null,null,null,null,"hustota vzduchu při t",null,null,{"$f":"VLOOKUP(P91,Tabulky!$V$15:$AF$75,9,0)","v":1.145},"kg/m3",null,null,null,null,null,null,"hustota vzduchu při t",null,null,{"$f":"VLOOKUP(AA91,Tabulky!$V$15:$AF$75,9,0)","v":1.21},"kg/m3",null,null,2,3.0313333333333334,null,null,null,null,null,null,null,null,null,null,null,null,null,null,null,null,null,null,1,2.9956666666666667]
[null,null,null,null,null,null,null,null,null,null,null,null,null,null,null,null,null,null,null,null,null,null,null,null,null,null,{"$f":"1.395-Teplota*0.004414","v":1.253752},null,null,null,3,3.0670000000000002,null,null,null,null,null,null,null,null,null,null,null,null,null,null,null,null,null,null,2,3.0313333333333334]
["t4'","smíšení vzduchu s exteriérovým",null,null,null,null,null,null,null,null,null,null,"t4'","smíšení vzduchu s exteriérovým",null,null,null,null,null,null,null,null,null,null,null,null,null,null,null,null,4,3.1026666666666665,null,null,null,null,null,null,null,null,null,null,null,null,null,null,null,null,null,null,3,3.0670000000000002]
["Množství čerstvého vzduchu",null,"Včerstv",{"$f":"IF(D91>tvyp,100,$D$86)","v":100},"%",null,null,null,null,null,null,null,"Množství čerstvého vzduchu",null,"Včerstv",{"$f":"IF(P91>tvyp,100,$D$86)","v":100},"%",null,null,null,"A","Ti",{"$f":"J6","v":24},null,"B","tch",{"$f":"AA91","v":9},null,null,null,5,3.1383333333333332,null,null,null,null,null,null,null,null,null,null,null,null,null,null,null,null,null,null,4,3.1026666666666665]
["teplota vzduchu",null,"t4",{"$f":"ROUND(((((D106/100)*D58)*D91+((1-(D106/100))*D58)*tvyp)/D58),0)","v":25},"°C",null,null,null,null,null,null,null,"teplota vzduchu",null,"t4",{"$f":"ROUND(((((P106/100)*P58)*P91+((1-(P106/100))*P58)*tvyp)/P58),0)","v":25},"°C",null,null,null,null,"xi",{"$f":"J16","v":1.0144214643132086E-2},null,null,"xch",{"$f":"AA101","v":7.276561763593062E-3},null,null,null,6,3.1739999999999999,null,null,null,null,null,null,null,null,null,null,null,null,null,null,null,null,null,null,5,3.1383333333333332]
["relativní vlhkost",null,"rh4",{"$f":"(1-(D106/100))*D68+(D106/100)*D92","v":58.001785004980945},"%",null,null,null,null,null,null,null,"relativní vlhkost",null,"rh4",{"$f":"(1-(P106/100))*P68+(P106/100)*P92","v":58.001785004980945},"%",null,null,null,null,"xi",{"$f":"J17","v":10.144214643132086},null,null,"xch",{"$f":"AA102","v":7.2765617635930617},null,null,null,7,3.2096666666666667,null,null,null,null,null,null,null,null,null,"  ",null,null,null,null,null,null,null,null,6,3.1739999999999999]
["entalpie s.v.",null,"hsv4",{"$f":"Konstanty!$F$2*D107","v":25250},"J/kg",null,null,null,null,null,null,null,"entalpie s.v.",null,"hsv4",{"$f":"Konstanty!$F$2*P107","v":25250},"J/kg",null,null,null,null,null,null,null,null,null,null,null,null,null,8,3.2453333333333334,null,null,null,null,null,null,null,null,null,null,null,null,null,null,null,null,null,null,7,3.2096666666666667]
["entalpie v.p.",null,"hvp4",{"$f":"D117*(Konstanty!$F$3*D107+Konstanty!$F$4)","v":29698.686926341292},"J/kg",null,null,null,null,null,null,null,"entalpie v.p.",null,"hvp4",{"$f":"P117*(Konstanty!$F$3*P107+Konstanty!$F$4)","v":29698.686926341292},"J/kg",null,null,null,null,"dx",{"$f":"P62","v":1.5},null,null,null,null,null,null,null,9,3.2810000000000001,null,null,null,null,null,null,null,null,null,null,null,null,null,null,null,null,null,null,8,3.2453333333333334]
["entalpie ",null,"h4",{"$f":"D109+D110","v":54948.686926341295},"J/kg",null,null,null,null,null,null,null,"entalpie ",null,"h4",{"$f":"P109+P110","v":54948.686926341295},"J/kg",null,null,null,null,"th",{"$f":"((W106-AA106)*W108+(AA108-W108)*W106-(W106-AA106)*(W108-W110))/(AA108-W108)","v":16.153862079842494},null,null,null,null,null,null,null,10,3.3166666666666664,null,null,null,null,null,null,null,null,null,null,null,null,null,null,null,null,null,null,9,3.2810000000000001]
[null,null,null,{"$f":"D111/1000","v":54.948686926341296},"kJ/kg",null,null,null,null,null,null,null,null,null,null,{"$f":"P111/1000","v":54.948686926341296},"kJ/kg",null,null,null,null,null,{"$f":"ROUND(W111,0)","v":16},null,null,null,null,null,null,null,11,3.3523333333333332,null,null,null,null,null,null,null,null,null,null,null,null,null,null,null,null,null,null,10,3.3166666666666664]
["tlak nasycené vodní páry",null,"p''vp4",{"$f":"Konstanty!$F$12^((1500.3+23.5*D107)/(234+D107))","v":3168.4692409900845},"Pa",null,null,null,null,null,null,null,"tlak nasycené vodní páry",null,"p''vp4",{"$f":"Konstanty!$F$12^((1500.3+23.5*P107)/(234+P107))","v":3168.4692409900845},"Pa",null,null,null,null,null,null,null,null,null,null,null,null,null,12,3.3879999999999999,null,null,null,null,null,null,null,null,null,null,null,null,null,null,null,null,null,null,11,3.3523333333333332]
["tlak  vodní páry",null,"pvp4",{"$f":"(D108/100)*D113","v":1837.7687171080204},"Pa",null,null,null,null,null,null,null,"tlak  vodní páry",null,"pvp4",{"$f":"(P108/100)*P113","v":1837.7687171080204},"Pa",null,null,null,null,null,null,null,null,null,null,null,null,null,13,3.4236666666666666,null,null,null,null,null,null,null,null,null,null,null,null,null,null,null,null,null,null,12,3.3879999999999999]
["tlak suchého vzduchu",null,"psv4",{"$f":"D119*Konstanty!$F$5*(D107+273.15)","v":97997.727918499993},"Pa",null,null,null,null,null,null,null,"tlak suchého vzduchu",null,"psv4",{"$f":"P119*Konstanty!$F$5*(P107+273.15)","v":97997.727918499993},"Pa",null,null,null,null,null,null,null,null,null,null,null,null,null,14,3.4593333333333334,null,null,null,null,null,null,null,null,null,null,null,null,null,null,null,null,null,null,13,3.4236666666666666]
["tlak směsi vlhkého vzduchu",null,"p4",{"$f":"D114+D115","v":99835.496635608011},"Pa",null,null,null,null,null,null,null,"tlak směsi vlhkého vzduchu",null,"p4",{"$f":"P114+P115","v":99835.496635608011},"Pa",null,null,null,null,null,null,null,null,null,null,null,null,null,15,3.4950000000000001,null,null,null,null,null,null,null,null,null,null,null,null,null,null,null,null,null,null,14,3.4593333333333334]
["měrná vlhkost vzduchu",null,"x4",{"$f":"(Konstanty!$F$5/Konstanty!$F$6)*(D114/D115)","v":1.1664841683559031E-2},"kg/kg s.v.",null,null,null,null,null,null,null,"měrná vlhkost vzduchu",null,"x4",{"$f":"(Konstanty!$F$5/Konstanty!$F$6)*(P114/P115)","v":1.1664841683559031E-2},"kg/kg s.v.",null,null,null,null,null,null,null,null,null,null,null,null,null,16,3.5306666666666668,null,null,null,null,null,null,null,null,null,null,null,null,null,null,null,null,null,null,15,3.4950000000000001]
[null,null,null,{"$f":"D117*1000","v":11.664841683559031},"g/kg s.v.",null,null,null,null,null,null,null,null,null,null,{"$f":"P117*1000","v":11.664841683559031},"g/kg s.v.",null,null,null,null,null,null,null,null,null,null,null,null,null,17,3.5663333333333331,null,null,null,null,null,null,null,null,null,null,null,null,null,null,null,null,null,null,16,3.5306666666666668]
["hustota vzduchu při t",null,null,{"$f":"VLOOKUP(D107,Tabulky!$V$15:$AF$75,9,0)","v":1.145},"kg/m3",null,null,null,null,null,null,null,"hustota vzduchu při t",null,null,{"$f":"VLOOKUP(P107,Tabulky!$V$15:$AF$75,9,0)","v":1.145},"kg/m3",null,null,null,null,null,null,null,null,null,null,null,null,null,18,3.6019999999999999,null,null,null,null,null,null,null,null,null,null,null,null,null,null,null,null,null,null,17,3.5663333333333331]
[null,null,null,null,null,null,null,null,null,null,null,null,null,null,null,null,null,null,null,null,null,null,null,null,null,null,null,null,null,null,19,3.6376666666666666,null,null,null,null,null,null,null,null,null,null,null,null,null,null,null,null,null,null,18,3.6019999999999999]
["množství tepla na kondenzátoru",null,"Qk",{"$f":"AH69","v":194862.97909948832},"W",null,null,"přepočet mw na msv",{"$f":"(D58*D119)/(1+D117)","v":3.9004410275438568},"m3/s",null,null,"množství tepla na kondenzátoru",null,"Qk",{"$f":"BB70","v":56763.692798437383},"W",null,null,null,null,null,null,null,null,null,null,null,null,null,20,3.6733333333333333,null,null,null,null,null,null,null,null,null,null,null,null,null,null,null,null,null,null,19,3.6376666666666666]
["Požadované teplo na dohřev",null,"Qpož",{"$f":"(D134-D107)*Konstanty!F2*D119*I121+D88","v":40595.985236727836},"W",null,null,null,null,null,null,null,"Požadované teplo na dohřev",null,null,{"$f":"(P134-P107)*Konstanty!$F$2*P119*P58","v":13185.436151315662},"W",null,null,null,null,null,null,null,null,null,null,null,null,null,21,3.7090000000000001,null,null,null,null,null,null,null,null,null,null,null,null,null,null,null,null,null,null,20,3.6733333333333333]
["dosažená teplota",null,"t6",{"$f":"D121/(D58*D119*Konstanty!$F$2)+D107","v":73.894227711541959},"°C",null,null,null,null,null,null,null,"dosažená teplota",null,"t6",{"$f":"P121/(P58*P119*Konstanty!$F$2)+P107","v":63.745266316803693},"°C",null,null,null,null,null,null,null,null,null,null,null,null,null,22,3.7446666666666664,null,null,null,null,null,null,null,null,null,null,null,null,null,null,null,null,null,null,21,3.7090000000000001]
["potřeba dohřevu",null,"Qdohř",{"$f":"IF((D122-D121)>0,D122-D121,0)","v":0},"W",null,null,null,null,null,null,null,"potřeba dohřevu",null,"Qdohř",{"$f":"IF((P122-P121)>0,P122-P121,0)","v":0},"W",null,null,null,null,null,null,null,null,null,null,null,null,null,23,3.7803333333333331,null,null,null,null,null,null,null,null,null,null,null,null,null,null,null,null,null,null,22,3.7446666666666664]
["přebytečné teplo",null,"Qpřebyt",{"$f":"IF((D122-D121)<0,D121-D122,0)","v":154266.99386276049},"W",null,null,null,null,null,null,null,"přebytečné teplo",null,"Qpřebyt",{"$f":"IF((P122-P121)<0,P121-P122,0)","v":43578.256647121721},"W",null,null,null,null,null,null,null,null,null,null,null,null,null,24,3.8159999999999998,null,null,null,null,null,null,null,null,null,null,null,null,null,null,null,null,null,null,23,3.7803333333333331]
[null,null,null,null,null,null,null,null,null,null,null,null,null,null,null,null,null,null,null,null,null,null,null,null,null,null,null,null,null,null,25,3.8516666666666666,null,null,null,null,null,null,null,null,null,null,null,null,null,null,null,null,null,null,24,3.8159999999999998]
[null,null,null,null,null,null,null,null,null,null,null,null,null,null,null,null,null,null,null,null,null,null,null,null,null,null,null,null,null,null,26,3.8873333333333333,null,null,null,null,null,null,null,null,null,null,null,null,null,null,null,null,null,null,25,3.8516666666666666]
["teplota zvýšení do int",null,"tzv",{"$f":"Vypocet!D128","v":2},"°C ",null,null,null,null,null,null,null,null,"teplota zvýšení do int","tzv",{"$f":"Vypocet!P128","v":2},"°C ",null,null,null,null,null,null,null,null,null,null,null,null,null,27,3.923,null,null,null,null,null,null,null,null,null,null,null,null,null,null,null,null,null,null,26,3.8873333333333333]
["teplotní spád kondenzatoru",null,"Δt",{"$f":"Vypocet!D129","v":0},"°C ",null,null,null,null,null,null,null,null,"teplotní spád kondenzatoru","Δt",{"$f":"Vypocet!P129","v":0},"°C ",null,null,null,null,null,null,null,null,null,null,null,null,null,28,3.9586666666666668,null,null,null,null,null,null,null,null,null,null,null,null,null,null,null,null,null,null,27,3.923]
["teplota kondenzatoru",null,"tohř",{"$f":"Vypocet!D130","v":0},"°C ",null,null,null,null,null,null,null,null,"teplota kondenzatoru","tohř",{"$f":"Vypocet!P130","v":0},"°C ",null,null,null,null,null,null,null,null,null,null,null,null,null,29,3.9943333333333335,null,null,null,null,null,null,null,null,null,null,null,null,null,null,null,null,null,null,28,3.9586666666666668]
["relativní vlhkost",null,"rhohř",{"$f":"Vypocet!D131","v":0},"%",null,null,null,null,null,null,null,null,"relativní vlhkost","rhohř",{"$f":"Vypocet!P131","v":0},"%",null,null,null,null,null,null,null,null,null,null,null,null,null,30,4.03,null,null,null,null,null,null,null,null,null,null,null,null,null,null,null,null,null,null,29,3.9943333333333335]
[null,null,null,null,null,null,null,null,null,null,null,null,null,null,null,null,null,null,null,null,null,null,null,null,null,null,null,null,null,null,31,4.065666666666667,null,null,null,null,null,null,null,null,null,null,null,null,null,null,null,null,null,null,30,4.03]
["t5","parametry vyduchu za kondenzátorem",null,null,null,null,null,null,null,null,null,null,"t5","parametry vyduchu za kondenzátorem",null,null,null,null,null,null,null,null,null,null,null,null,null,null,null,null,32,4.1013333333333328]
["požadovaná teplotateplota do I",null,"t5",{"$f":"Teplota+D128","v":34},"°C",null,null,null,null,null,null,null,"požadovaná teplota do I",null,"t5",{"$f":"Teplota+P128","v":34},"°C",null,null,null,null,null,null,null,null,null,null,null,null,null,33,4.1370000000000005]
["dosažená teplota",null,"tdos",{"$f":"D123","v":73.894227711541959},"°C",null,null,null,null,null,null,null,"dosažená teplota",null,"t6",{"$f":"P123","v":63.745266316803693},null,null,null,null,null,null,null,null,null,null,null,null,null,null,34,4.1726666666666663]
[null,null,null,null,null,null,null,null,null,null,null,null,null,null,null,null,null,null,null,null,null,null,null,null,null,null,null,null,null,null,35,4.208333333333333]
["relativní vlhkost",null,"rh5",{"$f":"((D146*D116)/(D142*(0.622+D146)))*100","v":34.536986095986194},"%",null,null,null,null,null,null,null,"relativní vlhkost",null,"rh5",{"$f":"((P146*P116)/(P142*(0.622+P146)))*100","v":34.536986095986194},"%"]
["entalpie s.v.",null,"hsv5",{"$f":"Konstanty!$F$2*D134","v":34340},"J/kg",null,null,null,null,null,null,null,"entalpie s.v.",null,"hsv5",{"$f":"Konstanty!$F$2*P134","v":34340},"J/kg"]
["entalpie v.p.",null,"hvp5",{"$f":"D146*(Konstanty!$F$3*D134+Konstanty!$F$4)","v":29891.85670462103},"J/kg",null,null,null,null,null,null,null,"entalpie v.p.",null,"hvp5",{"$f":"P146*(Konstanty!$F$3*P134+Konstanty!$F$4)","v":29891.85670462103},"J/kg"]
["entalpie ",null,"h5",{"$f":"D138+D139","v":64231.85670462103},"J/kg",null,null,null,null,null,null,null,"entalpie ",null,"h5",{"$f":"P138+P139","v":64231.85670462103},"J/kg"]
[null,null,null,{"$f":"D140/1000","v":64.231856704621023},"kJ/kg",null,null,null,null,null,null,null,null,null,null,{"$f":"P140/1000","v":64.231856704621023},"kJ/kg"]
["tlak nasycené vodní páry",null,"p''vp5",{"$f":"Konstanty!$F$12^((1500.3+23.5*D134)/(234+D134))","v":5321.3250022529974},"Pa",null,null,null,null,null,null,null,"tlak nasycené vodní páry",null,"p''vp5",{"$f":"Konstanty!$F$12^((1500.3+23.5*P134)/(234+P134))","v":5321.3250022529974},"Pa",null,null,null,null,null,null,null,null,null,null,null,null,null,"dt vyp"]
["tlak  vodní páry",null,"pvp5",{"$f":"(D137/100)*D142","v":1837.8252761503547},"Pa",null,null,null,null,null,null,null,"tlak  vodní páry",null,"pvp5",{"$f":"(P137/100)*P142","v":1837.8252761503547},"Pa",null,null,null,null,null,null,null,null,null,null,null,null,null,2]
["tlak suchého vzduchu",null,"psv5",{"$f":"D148*Konstanty!$F$5*(D134+273.15)","v":97958.084656299994},"Pa",null,null,null,null,null,null,null,"tlak suchého vzduchu",null,"psv5",{"$f":"Konstanty!$F$8*Konstanty!$F$5*(P134+273.15)","v":108009.58929249999},"Pa",null,null,null,null,null,null,null,null,null,null,null,null,null,3]
["tlak směsi vlhkého vzduchu",null,"p5",{"$f":"D143+D144","v":99795.909932450348},"Pa",null,null,null,null,null,null,null,"tlak směsi vlhkého vzduchu",null,"p5",{"$f":"P143+P144","v":109847.41456865035},"Pa",null,null,null,null,null,null,null,null,null,null,null,null,null,4]
["měrná vlhkost vzduchu",null,"x5",{"$f":"D117","v":1.1664841683559031E-2},"kg/kg s.v.",null,null,null,null,null,null,null,"měrná vlhkost vzduchu",null,"x5",{"$f":"P117","v":1.1664841683559031E-2},"kg/kg s.v.",null,null,null,null,null,null,null,null,null,null,null,null,null,5]
[null,null,null,{"$f":"D146*1000","v":11.664841683559031},"g/kg s.v.",null,null,null,null,null,null,null,null,null,null,{"$f":"P146*1000","v":11.664841683559031},"g/kg s.v.",null,null,null,null,null,null,null,null,null,null,null,null,null,6,{"$f":"D124","v":0}]
["hustota vzduchu při t",null,null,{"$f":"VLOOKUP(D134,Tabulky!$V$15:$AF$75,9,0)","v":1.111},"kg/m3",null,null,null,null,null,null,null,"hustota vzduchu při t",null,null,{"$f":"VLOOKUP(P134,Tabulky!$V$15:$AF$75,9,0)","v":1.111},"kg/m3",null,null,null,null,null,null,null,null,null,null,null,null,null,7]
[null,null,null,null,null,null,null,null,null,null,null,null,null,null,null,null,null,null,null,null,null,null,null,null,null,null,null,null,null,null,8]
["navlhčení z prostoru",null,null,null,null,null,null,null,null,null,null,null,"navlhčení z prostoru",null,null,null,null,null,null,null,null,null,null,null,null,null,null,null,null,null,9]
["dx=n.100/V.ρ",null,"dx",{"$f":"(D33*100)/D57*Konstanty!$F$8","v":0.59243396843461305},"g/kg s.v",null,null,null,null,null,null,null,"dx=n.100/V.ρ",null,"dx",{"$f":"(P30*100)/P57*Konstanty!$F$8","v":5.3720302982114262E-2},"g/kg s.v",null,null,null,null,null,null,null,null,null,null,null,null,null,10]
[null,null,null,null,null,null,null,null,null,null,null,null,null,null,null,null,null,null,null,null,null,null,null,null,null,null,null,null,null,null,11]
["NUTNÉ vzduch privlhčit",null,null,null,null,null,null,null,null,null,null,null,"NUTNÉ vzduch privlhčit",null,null,null,null,null,null,null,null,null,null,null,null,null,null,null,null,null,12]
[null,null,null,null,null,null,null,null,null,null,null,null,null,null,null,null,null,null,null,null,null,null,null,null,null,null,null,null,null,null,13]
[null,null,null,null,null,null,null,null,null,null,null,null,null,null,null,null,null,null,null,null,null,null,null,null,null,null,null,null,null,null,14]
[null,null,null,null,null,null,null,null,null,null,null,null,null,null,null,null,null,null,null,null,null,null,null,null,null,null,null,null,null,null,15]

{"sheet":"V10","index":9,"n_rows":156,"n_cols":63,"rows_kept":156,"cut":false,"hidden":false,"merged":[[59,6,59,7],[4,15,4,18],[26,3,26,6],[27,3,27,6],[33,6,33,7],[40,6,40,7]]}
[null,"Legenda",null,null,"hodnotu nutno zadat",null,null,null,null,"prevzato z první "]
[null,null,null,null,"hodnota se vypočítává "]
[null,null,null,null,"pomocná hodnota"]
["Parametry vzduchu",null,null,null,null,null,"interier klidovy rezim ",null,null,null,null,null,null,null,null,null,null,null,null,null,"Produkce tepla od",null,null,"ni",{"$f":"0.85*Y5+0.75*Y6+Y7","v":60.5},null,null,"Qi=ni.6,2*(36-ti)"]
["Interiér","ti",null,null,null,null,"Interiér","ti",null,null,null,null,"Exteriér","te",null,"minimální teplota -15 (tabulka) ",null,null,null,null,"lidí",{"$f":"Y4*6.2*(36-Teplota)","v":1500.4},"W","nz",{"$f":"Vypocet!Y5","v":30},"zeny",null,"ni=0,85nz+0,75nd+nm"]
["teplota",null,"ti",{"$f":"[0]!Teplota","v":32},"°C",null,"teplota",null,"ti",{"$f":"Vypocet!J6","v":24},"°C",null,"teplota",null,"te",{"$f":"CEILING(Vypocet!P6+40,5)","v":30},"°C",null,null,null,null,null,null,"nd ",{"$f":"Vypocet!Y6","v":20},"deti",null,"nz - zeny, nd deti, nm muzi"]
["relativní vlhkost",null,"rhi",{"$f":"Vypocet!D7","v":60},"%",null,"relativní vlhkost",null,"rhi",{"$f":"Vypocet!J7","v":55},"%",null,"relativní vlhkost",null,"rhe",{"$f":"Vypocet!P7","v":100},"%",null,null,null,null,null,null,"nm",{"$f":"Vypocet!Y7","v":20},"muzi"]
["entalpie s.v.",null,"hsvi",{"$f":"Konstanty!$F$2*Teplota","v":32320},"J/kg",null,"entalpie s.v.",null,"hsvi",{"$f":"Konstanty!$F$2*J6","v":24240},"J/kg",null,"entalpie s.v.",null,"hsve",{"$f":"Konstanty!$F$2*te","v":30300},"J/kg"]
["entalpie v.p.",null,"hvpi",{"$f":"$D$16*(Konstanty!$F$3*Teplota+Konstanty!$F$4)","v":46343.062700276656},"J/kg",null,"entalpie v.p.",null,"hvpi",{"$f":"$D$16*(Konstanty!$F$3*J6+Konstanty!$F$4)","v":46076.473456956111},"J/kg",null,"entalpie v.p.",null,"hvpe",{"$f":"P16*(Konstanty!F3*P6+Konstanty!F4)","v":68848.852071932139},"J/kg",null,null,null,"Odpar z povrchů"]
["entalpie ",null,"hi",{"$f":"D8+D9","v":78663.062700276656},"J/kg",null,"entalpie ",null,"hi",{"$f":"J8+J9","v":70316.473456956111},"J/kg",null,"entalpie ",null,"he",{"$f":"IF(P8<0,P9-P8,P8+P9)","v":99148.852071932139},"J/kg",null,null,null,null,null,null,null,null,null,null,"(7+3,5*w)*S*(xp´´-x).10-3"]
[null,null,null,{"$f":"D10/1000","v":78.663062700276654},"kJ/kg",null,null,null,null,{"$f":"J10/1000","v":70.316473456956118},"kJ/kg",null,null,null,null,{"$f":"P10/1000","v":99.14885207193214},"kJ/kg",null,null,null,null,null,null,null,null,null,null,"w stredni rychlost vzduchu"]
["tlak nasycené vodní páry",null,"p''vpi",{"$f":"Konstanty!$F$12^((1500.3+23.5*D6)/(234+D6))","v":4756.6229589957475},"Pa",null,"tlak nasycené vodní páry",null,"p''vpi",{"$f":"Konstanty!$F$12^((1500.3+23.5*J6)/(234+J6))","v":2984.4262331760842},"Pa",null,"tlak nasycené vodní páry",null,"p''vpe",{"$f":"Konstanty!$F$12^((1500.3+23.5*P6)/(234+P6))","v":4244.6264230035886},"Pa",null,{"$f":"2.718^(28.926-(6148/(273.15+te)))","v":5680.0444642835855},null,null,null,null,null,null,null,null,"xp´´-merna vlhkost nasyceneho vzduchu"]
["tlak  vodní páry",null,"pvpi",{"$f":"(D7/100)*D12","v":2853.9737753974482},"Pa",null,"tlak  vodní páry",null,"pvpi",{"$f":"(J7/100)*J12","v":1641.4344282468464},"Pa",null,"tlak  vodní páry",null,"pvpe",{"$f":"(P7/100)*P12","v":4244.6264230035886},"Pa",null,null,null,null,null,null,null,null,null,null,"x - merna vlhkost vzduchu nad povrchem "]
["tlak suchého vzduchu",null,"psvi",{"$f":"D18*Konstanty!$F$5*(Teplota+273.15)","v":98021.008646699993},"Pa",null,"tlak suchého vzduchu",null,"psvi",{"$f":"J18*Konstanty!$F$5*(Teplota+273.15)","v":100648.9177257},"Pa",null,"tlak suchého vzduchu",null,"psve",{"$f":"P18*Konstanty!F5*(P6+273.15)","v":97987.723807799994},"Pa",null,null,null,null,null,null,null,null,null,null,"S plocha"]
["tlak směsi vlhkého vzduchu",null,"pi",{"$f":"D13+D14","v":100874.98242209744},"Pa",null,"tlak směsi vlhkého vzduchu",null,"pi",{"$f":"J13+J14","v":102290.35215394685},"Pa",null,"tlak směsi vlhkého vzduchu",null,"pe",{"$f":"P13+P14","v":102232.35023080358},"Pa"]
["měrná vlhkost vzduchu",null,"xi",{"$f":"(Konstanty!$F$5/Konstanty!$F$6)*(D13/D14)","v":1.8110682290797792E-2},"kg/kg s.v.",null,"měrná vlhkost vzduchu",null,"xi",{"$f":"(Konstanty!$F$5/Konstanty!$F$6)*(J13/J14)","v":1.0144214643132086E-2},"kg/kg s.v.",null,"měrná vlhkost vzduchu",null,"xe",{"$f":"(Konstanty!F5/Konstanty!F6)*(P13/P14)","v":2.6944603973047956E-2},"kg/kg s.v."]
[null,null,null,{"$f":"D16*1000","v":18.11068229079779},"g/kg s.v.",null,null,null,null,{"$f":"J16*1000","v":10.144214643132086},"g/kg s.v.",null,null,null,null,{"$f":"P16*1000","v":26.944603973047954},"g/kg s.v."]
["hustota vzduchu při t",null,null,{"$f":"VLOOKUP(Teplota,Tabulky!$V$15:$AF$75,9,0)","v":1.119},"kg/m3",null,"hustota vzduchu při t",null,null,{"$f":"VLOOKUP(J6,Tabulky!V15:AF75,9,0)","v":1.149},"kg/m3",null,"hustota vzduchu při t",null,null,{"$f":"VLOOKUP(te,Tabulky!V15:AF75,9,0)","v":1.1259999999999999},"kg/m3"]
[null,null,null,{"$f":"1.395-Teplota*0.004414","v":1.253752}]
["Bazén",null,null,null,null,null,null,null,"rozměry bazénu"]
["Teplota vody",null,"tsniz",{"$f":"Vypocet!D21","v":2},"°C","snížení teploty vody (dop 2-3°C)",null,null,"délka bazén","a",{"$f":"Vypocet!K21","v":25},"m"]
["tvz-(2-3)°C",null,"tvod",{"$f":"D6-D21","v":30},"°C",null,null,null,"šířka bazén","b",{"$f":"Vypocet!K22","v":12},"m"]
[]
["Mn. odpařené vody"]
["mw=ε*A*(p´´vp-pvp)",null,"mw",{"$f":"D28*$D$29*($D$12/100-$D$13/100)","v":114158.95101589795},"g/h"]
[null,null,null,{"$f":"D25/1000","v":114.15895101589796},"kg/h",null,null,null,"budova"]
["typ bazenu",null,null,{"$f":"Vypocet!AH47","v":"bazény - normální provoz"},null,null,null,null,"délka","a",{"$f":"Vypocet!K27","v":40},"m"]
["mnozstvi odp vody",null,null,{"$f":"VLOOKUP(D27,Tab_souc_odparu_bazen,7,0)","v":20},null,null,null,"[g/(hPa.m2.h)]","šířka","b",{"$f":"Vypocet!K28","v":15},"m"]
["plocha bazénu",null,"A",{"$f":"K21*K22","v":300},"m2",null,null,null,"výška","v",{"$f":"Vypocet!K29","v":7},"m","Produkce vlhkosti osobami - klidový režim"]
["Objem haly",null,"V",{"$f":"K27*K28*K29","v":4200},"m3",null,null,null,null,null,null,null,"počet osob v bazénu",null,"nos",{"$f":"Vypocet!P30","v":2}]
[null,null,null,null,null,null,null,null,null,null,null,null,"množství vlhkosti",null,"mos",{"$f":"P30*100","v":200},"g/h"]
["Produkce vlhkosti osobami - v provozu",null,null,null,null,null,null,null,null,null,null,null,null,null,null,{"$f":"P31/1000","v":0.2},"kg/h",null,null,null,null,null,null,null,null,null,null,null,null,null,"Výkon na kondenzátoru",null,null,null,"Qk",{"$f":"AH69","v":194862.97909948832},"W"]
["počet osob v bazénu",null,"nos",{"$f":"Vypocet!D33","v":60},"počet",null,"Produkce vlhkosti člověkem",null,null,null,null,null,null,null,null,{"$f":"P31/3600","v":5.5555555555555552E-2},"g/s",null,null,null,null,null,null,null,null,null,null,null,null,null,null,null,null,null,null,{"$f":"AH70","v":194.86297909948831},"kW"]
["množství vlhkosti",null,"mos",{"$f":"D33*H35","v":6300},"g/h",null,{"$f":"Vypocet!AH50","v":"člověk při středně těžké práci"},null,null,null,null,null,null,null,null,null,null,null,null,null,null,null,null,null,null,null,null,null,null,null,"Teplota požadovaná v interiéru",null,null,null,"ti",{"$f":"Teplota","v":32},"°C"]
[null,null,null,{"$f":"D34/1000","v":6.3},"kg/h",null,{"$f":"VLOOKUP(G34,Tabulky!W146:Z148,4,0)","v":"60-150"},{"$f":"IF(G35=\"60-150\",105,IF(G35=\"30-60\",45,225))","v":105},"g/h",null,null,null,"Produkce vlhkosti  - klidový režim",null,null,null,null,null,null,null,null,null,null,null,null,null,null,null,null,null,null,null,null,null,null,null,null,null,null,null,null,null,null,null,null,null,null,null,null,null,"Výkon na kondenzátoru",null,null,null,"Qk",{"$f":"BB70","v":56763.692798437383},"W"]
[null,null,null,{"$f":"D34/3600","v":1.75},"g/s",null,"rozmezí","průměr",null,null,null,"množství odpařené vody",null,null,"mw",{"$f":"Tabulky!$G$4*$D$29*($D$12/100-$D$13/100)","v":28539.737753974488},"g/h",null,null,null,null,null,null,null,null,null,null,null,null,null,"Výkonová bilance pro režim plného provozu",null,null,null,null,null,null,null,null,null,null,null,null,null,null,null,null,null,null,null,null,null,null,null,null,{"$f":"BB71","v":56.763692798437383},"kW"]
["celkové množství odpařené vody",null,null,{"$f":"(D25+D34)*(I37/100+1)","v":126481.89856669286},"g/h",null,null,"korekce ",{"$f":"Vypocet!I37","v":5},"%",null,null,"celkové množství odpařené vody",null,null,{"$f":"(P36+P31)*(I37/100+1)","v":30176.724641673216},"g/h",null,null,null,null,null,null,null,null,null,null,null,null,null,null,null,null,null,null,null,null,null,null,null,null,null,null,null,null,null,null,null,null,null,"Teplota požadovaná v interiéru",null,null,null,"ti",{"$f":"J6","v":24},"°C"]
["Dimenzování průtoku vzduchu bazénové větrací jednotky pro zátěž",null,null,null,null,null,null,null,null,null,null,null,"Dimenzování průtoku vzduchu bazénové větrací jednotky pro klidový režim"]
["z množství odpařené vody",null,null,null,null,null,null,null,null,null,null,null,"z množství odpařené vody",null,null,null,null,null,null,null,null,null,null,null,null,null,null,null,null,null,null,null,null,null,null,null,null,null,null,null,null,null,null,null,null,null,null,null,null,null,"Výkonová bilance pro klidový režim"]
["požadovaná vlhkost přiváděná",null,"xpoz",{"$f":"Vypocet!D40","v":9},"g/kg",null,"doporučená hodnota 8-10 g/kg",null,null,null,null,null,"požadovaná vlhkost přiváděná",null,"xpoz",{"$f":"Vypocet!P40","v":9},"g/kg",null,"doporučená hodnota 8-10 g/kg"]
[null,null,"V1",{"$f":"(D37)/(D18*(D17-D40))","v":12406.445935942682},"m3/h",null," ",null,{"$f":"D147","v":26.945413693265809},"g/kg s.v.",null,null,null,null,"V1",{"$f":"(P36+P31)/(Konstanty!$F$8*(J17-5))","v":4560.6593112769815},"m3/h"]
["z objemu haly",null,null,null,null,null,null,null,null,null,null,null,"z objemu haly"]
["výměna vzduchu",null,"n",{"$f":"Vypocet!D43","v":1},"1/h",null,null,null,null,null,null,null,"výměna vzduchu",null,"n",{"$f":"Vypocet!P43","v":1},"1/h"]
["V=n*VH",null,"V2",{"$f":"D30*D43","v":4200},"m3/h",null,null,null,null,null,null,null,"V=n*VH",null,"V2",{"$f":"D30*P43","v":4200},"m3/h"]
["z tepelných zisků"]
[null,"tepelné ztráty","Qzt",{"$f":"Vypocet!D46","v":7},"kW",null,null,"teplotní spád výústky","dt",{"$f":"Vypocet!J46","v":8},"°C"]
[null,"tepelné zisky","Qzisk",{"$f":"Vypocet!D47","v":16},"kW"]
[null,"Množství vzduchu",null,{"$f":"((D47-D46)/J46*Konstanty!$F$2*Konstanty!$F$8)","v":1391.90625},"m3/h"]
[null,null,null,null,null,null,null,null,null,null,null,null,null,null,null,null,null,null,null,null,null,null,null,null,null,null,null,null,null,null,null,null,null,null,null,null,null,null,null,null,null,null,null,null,null,null,null,null,null,null,null,null,null,null,null,null,null,"te","teplota exteriérového vzduchu"]
["potřeba vzduchu pro osoby",null,null,null,null,null,null,null,null,null,null,null,null,null,null,null,null,null,null,null,null,null,"te","teplota exteriérového vzduchu",null,null,null,null,null,null,null,null,null,null,null,null,null,null,null,null,null,null,null,null,null,null,null,null,null,null,null,null,null,null,null,null,null,"Qpředehřev","Výkon pro předehřátí vzduchu"]
[null,null,"V2",{"$f":"D33*D52","v":3000},null,null,null,null,null,null,null,null,null,null,null,null,null,null,null,null,null,null,"Qpředehřev","Výkon pro předehřátí vzduchu",null,null,null,null,null,null,null,null,null,null,null,null,null,null,null,null,null,null,null,null,null,null,null,null,null,null,null,null,null,null,null,null,null,"Qdohřátí","Výkon spotřebovaný na dohřátí vzduchu na požadovanou úroveň"]
["množství čerstvého vzduchu/osoba",null,null,{"$f":"Vypocet!D52","v":50},"m3/h/os",null,"doporučená hodnota při zátěži (min hodnota 25m3/h) ",null,null,null,null,null,null,null,null,null,null,null,null,null,null,null,"Qdohřátí","Výkon spotřebovaný na dohřátí vzduchu na požadovanou úroveň",null,null,null,null,null,null,null,"červeně zvýrazněné pole je teplota ext vyšší než teplota exteriéru, přívod vzduchu plně čerstvý"]
[]
["Potřeba čerstvého vzduchu",null,null,{"$f":"IF(MAX(D41,D44,D48)>D51,\"Ne\",\"Ano\")","v":"Ne"},null,null,"nepočítá s tím dál samo! ",null,null,null,null,null,null,null,null,null,null,null,null,null,null,null,null,null,null,null,null,null,null,null,"Teplo odevzdané na výparníku",null,null,null,null,null,"Množství kondenzátu"]
["Množství čerstvého vzduchu",null,null,{"$f":"IF(D54=\"ano\",D51-MAX(D41,D44,D48),0)","v":0},"m3/h",null,"pouze informativní charakter, množství V čerst rozhodne projektant",null,null,null,null,null,null,null,null,null,null,null,null,null,null,null,null,null,null,null,null,null,null,null,"Qv=V*ρ*(hi-h3)",null,"Qv",{"$f":"D81","v":147350.87431255195},"W",null,"mkond = V*ρ*(xi-x3)",null,"mkond",{"$f":"IF(D58*D18*(D16-D77)<0,0,D58*D18*(D16-D77))","v":3.1236329255219682E-2},"kg/s",null,null,null,null,null,null,null,null,null,"Teplo odevzdané na výparníku",null,null,null,null,null,"Množství kondenzátu"]
[null,null,null,null,null,null,null,null,null,null,null,null,null,null,null,null,null,null,null,null,null,null,null,null,null,null,null,null,null,null,null,null,null,{"$f":"AH55/1000","v":147.35087431255195},"kW",null,null,null,null,{"$f":"AN55*1000","v":31.236329255219683},"g/s",null,null,null,null,null,null,null,null,null,"Qv=V*ρ*(hi-h3)",null,"Qv",{"$f":"P81","v":47003.773128829853},"W",null,"mkond = V*ρ*(xi-x3)",null,"mkond",{"$f":"IF(P58*J18*(J16-P77)<0,0,P58*J18*(J16-P77))","v":2.1834156452738541E-3},"kg/s"]
["průtok vzduchu",null,"V",{"$f":"MAX(D41,D44,D48)","v":12406.445935942682},"m3/h",null,null,null,null," ",null,null,"průtok vzduchu",null,"V",{"$f":"MAX(P41,P44)","v":4560.6593112769815},"m3/h",null,null,null,null,null,null,null,null,null,null,null,null,null,null,null,null,null,null,null,null,null,null,{"$f":"AN55*3600","v":112.45078531879085},"kg/h",null,null,null,null,null,null,null,null,null,null,null,null,{"$f":"BB56/1000","v":47.003773128829856},"kW",null,null,null,null,{"$f":"BH56*1000","v":2.183415645273854},"g/s"]
[null,null,"V",{"$f":"D57/3600","v":3.4462349822063003},"m3/s",null,null,null,null,null,null,null,null,null,"V",{"$f":"P57/3600","v":1.2668498086880504},"m3/s",null,null,null,null,null,null,null,null,null,null,null,null,null,"Tepelné čerpadlo (TČ)",null,null,null,"typ TČ",null,null,null,null,null,null,null,null,null,null,null,null,null,null,null,null,null,null,null,null,null,null,null,null,{"$f":"BH56*3600","v":7.8602963229858744},"kg/h"]
[null,null,null,null,null,null,null,null,null,null,null,null,null,null,null,null,null,null,null,null,null,null,null,null,null,null,null,null,null,null,"Topný faktor TČ",null,"COP",{"$f":"VLOOKUP(Teplota,'V10'!AE83:AF136,2,0)","v":4.1013333333333328},"Alfa S Duo",null,null,null,null,null,null,null,null,null,null,null,null,null,null,null,"Tepelné čerpadlo (TČ)",null,null,null,"typ TČ"]
["množství odebrané měrné vlh",null,"Δx",8.1,"g/kg s.v",null,"vstupní měrná  vlhkost do int",null,"xvyst",{"$f":"D147","v":26.945413693265809},"g/kg s.v.",null,null,null,null,null,null,null,null,null,null,null,null,null,null,null,null,null,null,null,null,null,null,null,null,null,null,null,null,null,null,null,null,null,null,null,null,null,null,null,"Topný faktor TČ",null,"COP",{"$f":"VLOOKUP(J6,'V10'!AY84:AZ132,2,0)","v":3.8159999999999998},"Alfa S Duo"]
["teplota chladiče",null,"tch",{"$f":"Vypocet!D61","v":9},"°C ",null,null,null,null,null,null,null,null,null,null,null,null,null,null,null,null,null,null,null,null,null,null,null,null,null,"Tepelná bilance TČ"]
["relativní vlhkost",null,"rhch",{"$f":"Vypocet!D62","v":100},"%",null,null,null,null,null,null,null,"množství odebrané měrné vlh",null,"Δx",{"$f":"Vypocet!P60","v":1.5},"g/kg s.v.",null,null,null,null,null,null,null,null,null,null,null,null,null,"Qk=Pel+Qv",null,null,null,null,null,null,null,null,null,null,null,null,null,null,null,null,null,null,null,"Tepelná bilance TČ"]
[null,null,null,null,null,null,null,null,null,null,null,null,"teplota chladiče",null,"tch",{"$f":"Vypocet!P61","v":9},"°C ",null,null,null,null,null,null,null,null,null,null,null,null,null,"εt = COP","εt = Qv/Pel",null,null,null,null,null,null,null,null,null,null,null,null,null,null,null,null,null,null,"Qk=Pel+Qv"]
[null,null,null,null,null,null,null,null,null,null,null,null,"relativní vlhkost",null,"rhch",{"$f":"Vypocet!P62","v":100},"%",null,null,null,null,null,null,null,null,null,null,null,null,null,"Pel=Qk/(1+Et)",null,null,null,null,null,null,null,null,null,null,null,null,null,null,null,null,null,null,null,"εt = COP","εt = Qv/Pel"]
[null,null,null,null,null,null,null,null,null,null,null,null,null,null,null,null,null,null,null,null,null,null,null,"Parametry chladiče",null,null,null,null,null,null,"Výkon kompresoru",null,"Pet",{"$f":"AH55/(AH59-1)","v":47512.104786936361},"W",null,null,null,null,null,null,null,null,null,null,null,null,null,null,null,"Pel=Qk/(1+Et)"]
["t3","parametry vyduchu za vyparnikem",null,null,null,null,null,null,null,null,null,null,"t3","parametry vyduchu za vyparnikem",null,null,null,null,null,null,null,null,null,"teplota",null,"ti",{"$f":"tch","v":9},"°C",null,null,null,null,null,{"$f":"AH65/1000","v":47.512104786936362},"kW",null,null,null,null,null,null,null,null,null,null,null,null,null,null,null,"Výkon kompresoru",null,"Pet",{"$f":"BB56/(BB60+1)","v":9759.9196696075287},"W"]
["teplota",null,"tvyp",{"$f":"W87","v":15},"°C",null,{"$f":"tvyp-te","v":-15},null,null,null,null,null,"teplota",null,"tvyp",{"$f":"W112","v":16},"°C",null,null,null,null,null,null,"relativní vlhkost",null,"rhi",{"$f":"D62","v":100},"%",null,null,"Prikon kompresoru",null,null,{"$f":"AH66/AH59","v":11.584550907087866},"kW",null,null,null,null,null,null,null,null,null,null,null,null,null,null,null,null,null,null,{"$f":"BB66/1000","v":9.7599196696075285},"kW"]
["relativní vlhkost",null,"rh3",{"$f":"IF((D74/D73)*100>100,100,(D74/D73)*100)","v":92.558526426350483},"%",null,null,null,null,null,null,null,"relativní vlhkost",null,"rh3",{"$f":"IF((P74/P73)*100>100,100,(P74/P73)*100)","v":74.957831234168935},"%",null,null,null,null,null,null,"entalpie s.v.",null,"hsvi",{"$f":"Konstanty!$F$2*AA66","v":9090},"J/kg",null,null,"Teplo na kondenzátoru"]
["entalpie s.v.",null,"h3",{"$f":"Konstanty!$F$2*D67","v":15150},"J/kg",null,null,null,null,null,null,null,"entalpie s.v.",null,"h3",{"$f":"Konstanty!$F$2*P67","v":16160},"J/kg",null,null,null,null,null,null,"entalpie v.p.",null,"hvpi",{"$f":"$AA$76*(Konstanty!$F$3*AA66+Konstanty!$F$4)","v":18311.904271787756},"J/kg",null,null,"Výkon na kondenzátoru",null,"Qk",{"$f":"AH65+AH55","v":194862.97909948832},"W",null,null,null,null,null,null,null,null,null,null,null,null,null,null,null,"Teplo na kondenzátoru"]
["entalpie v.p.",null,"h3",{"$f":"D77*(Konstanty!$F$3*D67+Konstanty!$F$4)","v":25303.000558220498},"J/kg",null,null,null,null,null,null,null,"entalpie v.p.",null,"h3",{"$f":"P77*(Konstanty!$F$3*P67+Konstanty!$F$4)","v":21865.022286924024},"J/kg",null,null,null,null,null,null,"entalpie ",null,"hi",{"$f":"AA68+AA69","v":27401.904271787756},"J/kg",null,null,null,null,null,{"$f":"AH69/1000","v":194.86297909948831},"kW",null,null,null,null,null,null,null,"  ",null,null,null,null,null,null,null,"Výkon na kondenzátoru",null,"Qk",{"$f":"BB66+BB56","v":56763.692798437383},"W"]
["entalpie ",null,"h3",{"$f":"D69+D70","v":40453.000558220498},"J/kg",null,null,null,null,null,null,null,"entalpie ",null,"h3",{"$f":"P69+P70","v":38025.022286924024},"J/kg",null,null,null,null,null,null,null,null,null,{"$f":"AA70/1000","v":27.401904271787757},"kJ/kg",null,null,null,null,null,null,null,null,null,null,null,null,null,null,null,null,null,null,null,null,null,null,null,null,null,{"$f":"BB70/1000","v":56.763692798437383},"kW",null,null,null,null,null,null,null,"  "]
[null,null,null,{"$f":"D71/1000","v":40.453000558220495},"kJ/kg",null,null,null,null,null,null,null,null,null,null,{"$f":"P71/1000","v":38.025022286924028},"kJ/kg",null,null,null,null,null,null,"tlak nasycené vodní páry",null,"p''vpi",{"$f":"Konstanty!$F$12^((1500.3+23.5*AA66)/(234+AA66))","v":1146.4717300807256},"Pa"]
["tlak nasycené vodní páry",null,"p''vp3",{"$f":"Konstanty!$F$12^((1500.3+23.5*D67)/(234+D67))","v":1704.3922173186882},"Pa",null,null,null,null,null,null,null,"tlak nasycené vodní páry",null,"p''vp3",{"$f":"Konstanty!$F$12^((1500.3+23.5*P67)/(234+P67))","v":1817.4687221052275},"Pa",null,null,null,null,null,null,"tlak  vodní páry",null,"pvpi",{"$f":"(AA67/100)*AA72","v":1146.4717300807256},"Pa",null,null,"Graf topneho faktoru ",null,null,"TnG Air 13, vzduch/voda"]
["tlak  vodní páry",null,"pvp3",{"$f":"(D77*D75)/0.622","v":1577.560320875579},"Pa",null,{"$f":"((G77*D75)/(0.622+G77))/((0.622-G77)/(0.622))","v":0},"přepočet tlaku z x",null,null,null,null,"tlak  vodní páry",null,"pvp3",{"$f":"(P77*P75)/0.622","v":1362.3351374494432},"Pa",null,{"$f":"((S77*P75)/(0.622+S77))/((0.622-S77)/(0.622))","v":1599.161688452117},"přepočet tlaku z x",null,null,null,"tlak suchého vzduchu",null,"psvi",{"$f":"AA78*Konstanty!$F$5*(AA66+273.15)","v":98003.397392999992},"Pa",null,null,null,null,null,null,null,null,null,null,null,null,null,null,null,null,null,null,null,null,null,null,"Graf topneho faktoru ",null,null,"TnG Air 13, vzduch/voda"]
["tlak suchého vzduchu",null,"psv3",{"$f":"D79*Konstanty!$F$5*(D67+273.15)","v":98019.544630499993},"Pa",null,null,null,null,null,null,null,"tlak suchého vzduchu",null,"psv3",{"$f":"P79*Konstanty!$F$5*(P67+273.15)","v":98027.697191300002},"Pa",null,null,null,null,null,null,"tlak směsi vlhkého vzduchu",null,"pi",{"$f":"AA73+AA74","v":99149.869123080716},"Pa",null,null,{"$f":"Vypocet!AE107","v":"teplota"},{"$f":"Vypocet!AF107","v":-18},{"$f":"Vypocet!AG107","v":-15},{"$f":"Vypocet!AH107","v":-10},{"$f":"Vypocet!AI107","v":-5},{"$f":"Vypocet!AJ107","v":0},{"$f":"Vypocet!AK107","v":5},{"$f":"Vypocet!AL107","v":10},{"$f":"Vypocet!AM107","v":15}]
["tlak směsi vlhkého vzduchu",null,"p3",{"$f":"D74+D75","v":99597.104951375572},"Pa",null,null,null,null,null,null,null,"tlak směsi vlhkého vzduchu",null,"p3",{"$f":"P74+P75","v":99390.032328749439},"Pa",null,null,null,null,null,null,"měrná vlhkost vzduchu",null,"xi",{"$f":"(Konstanty!$F$5/Konstanty!$F$6)*(AA73/AA74)","v":7.276561763593062E-3},"kg/kg s.v.",null,null,{"$f":"Vypocet!AE108","v":"vykon"},{"$f":"Vypocet!AF108","v":4.7},{"$f":"Vypocet!AG108","v":5.75},{"$f":"Vypocet!AH108","v":7},{"$f":"Vypocet!AI108","v":8.24},{"$f":"Vypocet!AJ108","v":9.4600000000000009},{"$f":"Vypocet!AK108","v":10.69},{"$f":"Vypocet!AL108","v":11.8},{"$f":"Vypocet!AM108","v":13.1},null,null,null,null,null,null,null,null,null,null,null,{"$f":"Vypocet!AY108","v":"teplota"},{"$f":"Vypocet!AZ108","v":-18},{"$f":"Vypocet!BA108","v":-15},{"$f":"Vypocet!BB108","v":-10},{"$f":"Vypocet!BC108","v":-5},{"$f":"Vypocet!BD108","v":0},{"$f":"Vypocet!BE108","v":5},{"$f":"Vypocet!BF108","v":10},{"$f":"Vypocet!BG108","v":15}]
["měrná vlhkost vzduchu",null,"x3",{"$f":"D16-deltaT/1000","v":1.0010682290797792E-2},"kg/kg s.v.",null,{"$f":"IF(tvyp<D82,0,D16)","v":0},"vezme x z Ti když tvyp<rosny bod",null,null,null,null,"měrná vlhkost vzduchu",null,"x3",{"$f":"J16-P62/1000","v":8.6442146431320865E-3},"kg/kg s.v.",null,{"$f":"IF(tvyp<P82,0,J16)","v":1.0144214643132086E-2},"vezme x z Ti když tvyp<rosny bod",null,null,null,null,null,null,{"$f":"AA76*1000","v":7.2765617635930617},"g/kg s.v.",null,null,{"$f":"Vypocet!AE109","v":"el prikon"},{"$f":"Vypocet!AF109","v":2.2400000000000002},{"$f":"Vypocet!AG109","v":2.4700000000000002},{"$f":"Vypocet!AH109","v":2.72},{"$f":"Vypocet!AI109","v":2.94},{"$f":"Vypocet!AJ109","v":3.2},{"$f":"Vypocet!AK109","v":3.37},{"$f":"Vypocet!AL109","v":3.55},{"$f":"Vypocet!AM109","v":3.85},null,null,null,null,null,null,null,null,null,null,null,{"$f":"Vypocet!AY109","v":"vykon"},{"$f":"Vypocet!AZ109","v":4.7},{"$f":"Vypocet!BA109","v":5.75},{"$f":"Vypocet!BB109","v":7},{"$f":"Vypocet!BC109","v":8.24},{"$f":"Vypocet!BD109","v":9.4600000000000009},{"$f":"Vypocet!BE109","v":10.69},{"$f":"Vypocet!BF109","v":11.8},{"$f":"Vypocet!BG109","v":13.1}]
[null,null,null,{"$f":"D77*1000","v":10.010682290797792},"g/kg s.v.",null,null,null,null,null,null,null,null,null,null,{"$f":"P77*1000","v":8.6442146431320861},"g/kg s.v.",null,null,null,null,null,null,"hustota vzduchu při t",null,null,{"$f":"VLOOKUP(AA66,Tabulky!$V$15:$AF$75,9,0)","v":1.21},"kg/m3",null,null,{"$f":"Vypocet!AE110","v":"COP"},{"$f":"Vypocet!AF110","v":2.1},{"$f":"Vypocet!AG110","v":2.33},{"$f":"Vypocet!AH110","v":2.57},{"$f":"Vypocet!AI110","v":2.8},{"$f":"Vypocet!AJ110","v":2.96},{"$f":"Vypocet!AK110","v":3.17},{"$f":"Vypocet!AL110","v":3.32},{"$f":"Vypocet!AM110","v":3.4},null,null,null,null,null,null,null,null,null,null,null,{"$f":"Vypocet!AY110","v":"el prikon"},{"$f":"Vypocet!AZ110","v":2.2400000000000002},{"$f":"Vypocet!BA110","v":2.4700000000000002},{"$f":"Vypocet!BB110","v":2.72},{"$f":"Vypocet!BC110","v":2.94},{"$f":"Vypocet!BD110","v":3.2},{"$f":"Vypocet!BE110","v":3.37},{"$f":"Vypocet!BF110","v":3.55},{"$f":"Vypocet!BG110","v":3.85}]
["hustota vzduchu při t",null,null,{"$f":"VLOOKUP(tvyp,Tabulky!$V$15:$AF$75,9,0)","v":1.1850000000000001},"kg/m3",null,null,null,null,null,null,null,"hustota vzduchu při t",null,null,{"$f":"VLOOKUP(P67,Tabulky!$V$15:$AF$75,9,0)","v":1.181},"kg/m3",null,null,null,null,null,null,null,null,null,{"$f":"1.395-Teplota*0.004414","v":1.253752},null,null,null,null,null,null,{"$f":"AH78-AG78","v":0.23999999999999977},0.22999999999999998,0.16000000000000014,0.20999999999999996,0.14999999999999991,8.0000000000000071E-2,"průměr",{"$f":"AVERAGE(AG79:AM79)","v":0.17833333333333332},"prumer/1",{"$f":"AO79/5","v":3.5666666666666666E-2},null,null,null,null,null,null,null,{"$f":"Vypocet!AY111","v":"COP"},{"$f":"Vypocet!AZ111","v":2.1},{"$f":"Vypocet!BA111","v":2.33},{"$f":"Vypocet!BB111","v":2.57},{"$f":"Vypocet!BC111","v":2.8},{"$f":"Vypocet!BD111","v":2.96},{"$f":"Vypocet!BE111","v":3.17},{"$f":"Vypocet!BF111","v":3.32},{"$f":"Vypocet!BG111","v":3.4}]
[null,null,null,null,null,null,null,null,null,null,null,null,null,null,null,null,null,null,null,null,null,null,null,null,null,null,null,null,null,null,null,"popis závislosti",null,"y=0,18571x+2,96",null,null,null,null,null,null,null,null,null,null,null,null,null,null,null,null,null,null,null,{"$f":"BB79-BA79","v":0.23999999999999977},0.22999999999999998,0.16000000000000014,0.20999999999999996,0.14999999999999991,8.0000000000000071E-2,"průměr",{"$f":"AVERAGE(BA80:BG80)","v":0.17833333333333332},"prumer/1",{"$f":"BI80/5","v":3.5666666666666666E-2}]
["teplo získané na výparníku",null,"Qv",{"$f":"D58*D18*(D10-D71)","v":147350.87431255195},"W",null,null,null,null,null,null,null,"teplo získané na výparníku",null,"Qv",{"$f":"P58*J18*(J10-P71)","v":47003.773128829853},"W",null,null,null,"A","Ti",{"$f":"Teplota","v":32},null,"B","tch",{"$f":"AA66","v":9},null,null,null,null,null,null,null,null,null,null,null,null,null,null,null,null,null,null,null,null,null,null,null,null,"popis závislosti",null,"y=0,18571x+2,96"]
[null,"rosný bod ",null,{"$f":"(243.5*LN(($D$7/100)*Konstanty!$F$12^((17.67*Teplota)/(243.5+Teplota))))/(17.67-(LN(($D$7/100)*Konstanty!$F$12^((17.67*Teplota)/(243.5+Teplota)))))","v":23.274251871309211},"°C ",null,null,null,null,null,null,null,null,"rosný bod ",null,{"$f":"(243.5*LN((J7/100)*Konstanty!$F$12^((17.67*J6)/(243.5+J6))))/(17.67-(LN((J7/100)*Konstanty!$F$12^((17.67*J6)/(243.5+J6)))))","v":14.413817952855092},"°C ",null,null,null,null,"xi",{"$f":"D16","v":1.8110682290797792E-2},null,null,"xch",{"$f":"AA76","v":7.276561763593062E-3},null,null,null,"teplota","COP",null,-18,2.1]
[null,null,null,null,null,null,null,null,null,null,null,null,null,null,null,null,null,null,null,null,null,"xi",{"$f":"D17","v":18.11068229079779},null,null,"xch",{"$f":"AA77","v":7.2765617635930617},null,null,null,-18,{"$f":"$AQ$79*AE83+$AJ$78","v":2.3180000000000001},null,-15,2.33,null,null,null,null,null,null,null,null,null,null,null,null,null,null,null,"teplota","COP"]
["Distribuce tepla v závislosti na externí teplotě",null,null,null,null,null,null,null,null,null,null,null,null,null,null,null,null,null,null,null,null,null,null,null,null,null,null,null,null,null,-17,2.3536666666666668,null,-10,2.57,null,null,null,null,null,null,null,null,null,null,null,null,null,null,null,-18,{"$f":"$AQ$79*AY84+$AJ$78","v":2.3180000000000001}]
["teplota předehřevu te",null,"tpřed",{"$f":"Vypocet!D85","v":5},"°C",null,null,null,null,null,null,null,null,null,null,null,null,null,null,null,null,"dx",{"$f":"deltaT","v":8.1},null,"výpočet teplochy při teplote chladice",null,null,null,null,null,-16,2.3893333333333331,null,-5,2.8,null,null,null,null,null,null,null,null,null,null,null,null,null,null,null,-17,2.3536666666666668]
["množství čerst vzduchu",null,null,{"$f":"Vypocet!D86","v":30},"%",null,null,null,null,null,null,null,null,null,null,null,null,null,null,null,null,"th",{"$f":"((W81-AA81)*W83+(AA83-W83)*W81-(W81-AA81)*(W83-W85))/(AA83-W83)","v":14.804326430355252},null,"počítá s přímkou ti - tch a na ní počítá bod",null,null,null,null,null,-15,2.4249999999999998,null,0,2.96,null,null,null,null,null,null,null,null,null,null,null,null,null,null,null,-16,2.3893333333333331]
["množství předehřívaného vzd",null,null,{"$f":"D58*(D86/100)","v":1.03387049466189},"m3/h",null,null,null,null,null,null,null,null,null,null,null,null,null,null,null,null,null,{"$f":"ROUND(W86,0)","v":15},null,null,null,null,null,null,null,-14,2.4606666666666666,null,5,3.17,null,null,null,null,null,null,null,null,null,null,null,null,null,null,null,-15,2.4249999999999998]
["potřeba tepla na předehřev",null,null,{"$f":"IF(D85>te,((D87*P18)/(1+P16))*(D85-te)*P18*Konstanty!$F$2,0)","v":0},"W",null,null,null,null,null,null,null,null,null,null,null,null,null,null,null,null,null,null,null,null,null,null,null,null,null,-13,2.4963333333333333,null,10,3.32,null,null,null,null,null,null,null,null,null,null,null,null,null,null,null,-14,2.4606666666666666]
[null,null,null,null,null,null,null,null,null,null,null,null,null,null,null,null,null,null,null,null,null,null,null,null,null,null,null,null,null,null,-12,2.532,null,15,3.4,null,null,null,null,null,null,null,null,null,null,null,null,null,null,null,-13,2.4963333333333333]
["t4","Předehřev exteriérového vzduchu",null,null,null,null,null,null,null,null,null,null,"t4","Předehřev exteriérového vzduchu",null,null,null,null,null,null,null,null,null,"Parametry chladiče klidovy rezim",null,null,null,null,null,null,-11,2.5676666666666668,null,null,null,null,null,null,null,null,null,null,null,null,null,null,null,null,null,null,-12,2.532]
["teplota předehřevu",null,"tpředehřev",{"$f":"IF($D$85>te,$D$85,te)","v":30},"°C",null,null,null,null,null,null,null,"teplota předehřevu",null,"tpředehřev",{"$f":"IF($D$85>te,$D$85,te)","v":30},"°C",null,null,null,null,null,null,"teplota",null,"ti",{"$f":"P63","v":9},"°C",null,null,-10,2.6033333333333335,null,null,null,null,null,null,null,null,null,null,null,null,null,null,null,null,null,null,-11,2.5676666666666668]
[null,null,"rhpředehřev",{"$f":"((D101*P15)/(D97*(0.622+D101)))*100","v":100.00300512940797},"%",null,null,null,null,null,null,null,null,null,"rhpředehřev",{"$f":"((P101*P15)/(P97*(0.622+P101)))*100","v":100.00300512940797},"%",null,null,null,null,null,null,"relativní vlhkost",null,"rhi",{"$f":"P64","v":100},"%",null,null,-9,2.6389999999999998,null,null,null,null,null,null,null,null,null,null,null,null,null,null,null,null,null,null,-10,2.6033333333333335]
["entalpie s.v.",null,"hsv4",{"$f":"Konstanty!$F$2*D91","v":30300},"J/kg",null,null,null,null,null,null,null,"entalpie s.v.",null,"hsv4",{"$f":"Konstanty!$F$2*P91","v":30300},"J/kg",null,null,null,null,null,null,"entalpie s.v.",null,"hsvi",{"$f":"Konstanty!$F$2*AA91","v":9090},"J/kg",null,null,-8,2.6746666666666665,null,null,null,null,null,null,null,null,null,null,null,null,null,null,null,null,null,null,-9,2.6389999999999998]
["entalpie v.p.",null,"hvp4",{"$f":"D101*(Konstanty!$F$3*D91+Konstanty!$F$4)","v":68848.852071932139},"J/kg",null,null,null,null,null,null,null,"entalpie v.p.",null,"hvp4",{"$f":"P101*(Konstanty!$F$3*P91+Konstanty!$F$4)","v":68848.852071932139},"J/kg",null,null,null,null,null,null,"entalpie v.p.",null,"hvpi",{"$f":"$AA$76*(Konstanty!$F$3*AA91+Konstanty!$F$4)","v":18311.904271787756},"J/kg",null,null,-7,2.7103333333333333,null,null,null,null,null,null,null,null,null,null,null,null,null,null,null,null,null,null,-8,2.6746666666666665]
["entalpie ",null,"h4",{"$f":"D93+D94","v":99148.852071932139},"J/kg",null,null,null,null,null,null,null,"entalpie ",null,"h4",{"$f":"P93+P94","v":99148.852071932139},"J/kg",null,null,null,null,null,null,"entalpie ",null,"hi",{"$f":"AA93+AA94","v":27401.904271787756},"J/kg",null,null,-6,2.746,null,null,null,null,null,null,null,null,null,null,null,null,null,null,null,null,null,null,-7,2.7103333333333333]
[null,null,null,{"$f":"D95/1000","v":99.14885207193214},"kJ/kg",null,null,null,null,null,null,null,null,null,null,{"$f":"P95/1000","v":99.14885207193214},"kJ/kg",null,null,null,null,null,null,null,null,null,{"$f":"AA95/1000","v":27.401904271787757},"kJ/kg",null,null,-5,2.7816666666666667,null,null,null,null,null,null,null,null,null,null,null,null,null,null,null,null,null,null,-6,2.746]
["tlak nasycené vodní páry",null,"p''vp4",{"$f":"Konstanty!$F$12^((1500.3+23.5*D91)/(234+D91))","v":4244.6264230035886},"Pa",null,null,null,null,null,null,null,"tlak nasycené vodní páry",null,"p''vp4",{"$f":"Konstanty!$F$12^((1500.3+23.5*P91)/(234+P91))","v":4244.6264230035886},"Pa",null,null,null,null,null,null,"tlak nasycené vodní páry",null,"p''vpi",{"$f":"Konstanty!$F$12^((1500.3+23.5*AA91)/(234+AA91))","v":1146.4717300807256},"Pa",null,null,-4,2.8173333333333335,null,null,null,null,null,null,null,null,null,null,null,null,null,null,null,null,null,null,-5,2.7816666666666667]
["tlak  vodní páry",null,"pvp4",{"$f":"(D92/100)*D97","v":4244.7539795204848},"Pa",null,null,null,null,null,null,null,"tlak  vodní páry",null,"pvp4",{"$f":"(P92/100)*P97","v":4244.7539795204848},"Pa",null,null,null,null,null,null,"tlak  vodní páry",null,"pvpi",{"$f":"(AA92/100)*AA97","v":1146.4717300807256},"Pa",null,null,-3,2.8529999999999998,null,null,null,null,null,null,null,null,null,null,null,null,null,null,null,null,null,null,-4,2.8173333333333335]
["tlak suchého vzduchu",null,"psv4",{"$f":"D103*Konstanty!$F$5*(D91+273.15)","v":97987.723807799994},"Pa",null,null,null,null,null,null,null,"tlak suchého vzduchu",null,"psv4",{"$f":"P103*Konstanty!$F$5*(P91+273.15)","v":97987.723807799994},"Pa",null,null,null,null,null,null,"tlak suchého vzduchu",null,"psvi",{"$f":"AA103*Konstanty!$F$5*(AA91+273.15)","v":98003.397392999992},"Pa",null,null,-2,2.8886666666666665,null,null,null,null,null,null,null,null,null,null,null,null,null,null,null,null,null,null,-3,2.8529999999999998]
["tlak směsi vlhkého vzduchu",null,"p4",{"$f":"D98+D99","v":102232.47778732047},"Pa",null,null,null,null,null,null,null,"tlak směsi vlhkého vzduchu",null,"p4",{"$f":"P98+P99","v":102232.47778732047},"Pa",null,null,null,null,null,null,"tlak směsi vlhkého vzduchu",null,"pi",{"$f":"AA98+AA99","v":99149.869123080716},"Pa",null,null,-1,2.9243333333333332,null,null,null,null,null,null,null,null,null,null,null,null,null,null,null,null,null,null,-2,2.8886666666666665]
["měrná vlhkost vzduchu",null,"x4",{"$f":"P16","v":2.6944603973047956E-2},"kg/kg s.v.",null,null,null,null,null,null,null,"měrná vlhkost vzduchu",null,"x4",{"$f":"P16","v":2.6944603973047956E-2},"kg/kg s.v.",null,null,null,null,null,null,"měrná vlhkost vzduchu",null,"xi",{"$f":"(Konstanty!$F$5/Konstanty!$F$6)*(AA98/AA99)","v":7.276561763593062E-3},"kg/kg s.v.",null,null,0,2.96,null,null,null,null,null,null,null,null,null,null,null,null,null,null,null,null,null,null,-1,2.9243333333333332]
[null,null,null,{"$f":"D101*1000","v":26.944603973047954},"g/kg s.v.",null,null,null,null,null,null,null,null,null,null,{"$f":"P101*1000","v":26.944603973047954},"g/kg s.v.",null,null,null,null,null,null,null,null,null,{"$f":"AA101*1000","v":7.2765617635930617},"g/kg s.v.",null,null,1,2.9956666666666667,null,null,null,null,null,null,null,null,null,null,null,null,null,null,null,null,null,null,0,2.96]
["hustota vzduchu při t",null,null,{"$f":"VLOOKUP(D91,Tabulky!$V$15:$AF$75,9,0)","v":1.1259999999999999},"kg/m3",null,null,null,null,null,null,null,"hustota vzduchu při t",null,null,{"$f":"VLOOKUP(P91,Tabulky!$V$15:$AF$75,9,0)","v":1.1259999999999999},"kg/m3",null,null,null,null,null,null,"hustota vzduchu při t",null,null,{"$f":"VLOOKUP(AA91,Tabulky!$V$15:$AF$75,9,0)","v":1.21},"kg/m3",null,null,2,3.0313333333333334,null,null,null,null,null,null,null,null,null,null,null,null,null,null,null,null,null,null,1,2.9956666666666667]
[null,null,null,null,null,null,null,null,null,null,null,null,null,null,null,null,null,null,null,null,null,null,null,null,null,null,{"$f":"1.395-Teplota*0.004414","v":1.253752},null,null,null,3,3.0670000000000002,null,null,null,null,null,null,null,null,null,null,null,null,null,null,null,null,null,null,2,3.0313333333333334]
["t4'","smíšení vzduchu s exteriérovým",null,null,null,null,null,null,null,null,null,null,"t4'","smíšení vzduchu s exteriérovým",null,null,null,null,null,null,null,null,null,null,null,null,null,null,null,null,4,3.1026666666666665,null,null,null,null,null,null,null,null,null,null,null,null,null,null,null,null,null,null,3,3.0670000000000002]
["Množství čerstvého vzduchu",null,"Včerstv",{"$f":"IF(D91>tvyp,100,$D$86)","v":100},"%",null,null,null,null,null,null,null,"Množství čerstvého vzduchu",null,"Včerstv",{"$f":"IF(P91>tvyp,100,$D$86)","v":100},"%",null,null,null,"A","Ti",{"$f":"J6","v":24},null,"B","tch",{"$f":"AA91","v":9},null,null,null,5,3.1383333333333332,null,null,null,null,null,null,null,null,null,null,null,null,null,null,null,null,null,null,4,3.1026666666666665]
["teplota vzduchu",null,"t4",{"$f":"ROUND(((((D106/100)*D58)*D91+((1-(D106/100))*D58)*tvyp)/D58),0)","v":30},"°C",null,null,null,null,null,null,null,"teplota vzduchu",null,"t4",{"$f":"ROUND(((((P106/100)*P58)*P91+((1-(P106/100))*P58)*tvyp)/P58),0)","v":30},"°C",null,null,null,null,"xi",{"$f":"J16","v":1.0144214643132086E-2},null,null,"xch",{"$f":"AA101","v":7.276561763593062E-3},null,null,null,6,3.1739999999999999,null,null,null,null,null,null,null,null,null,null,null,null,null,null,null,null,null,null,5,3.1383333333333332]
["relativní vlhkost",null,"rh4",{"$f":"(1-(D106/100))*D68+(D106/100)*D92","v":100.00300512940797},"%",null,null,null,null,null,null,null,"relativní vlhkost",null,"rh4",{"$f":"(1-(P106/100))*P68+(P106/100)*P92","v":100.00300512940797},"%",null,null,null,null,"xi",{"$f":"J17","v":10.144214643132086},null,null,"xch",{"$f":"AA102","v":7.2765617635930617},null,null,null,7,3.2096666666666667,null,null,null,null,null,null,null,null,null,"  ",null,null,null,null,null,null,null,null,6,3.1739999999999999]
["entalpie s.v.",null,"hsv4",{"$f":"Konstanty!$F$2*D107","v":30300},"J/kg",null,null,null,null,null,null,null,"entalpie s.v.",null,"hsv4",{"$f":"Konstanty!$F$2*P107","v":30300},"J/kg",null,null,null,null,null,null,null,null,null,null,null,null,null,8,3.2453333333333334,null,null,null,null,null,null,null,null,null,null,null,null,null,null,null,null,null,null,7,3.2096666666666667]
["entalpie v.p.",null,"hvp4",{"$f":"D117*(Konstanty!$F$3*D107+Konstanty!$F$4)","v":68850.921069032804},"J/kg",null,null,null,null,null,null,null,"entalpie v.p.",null,"hvp4",{"$f":"P117*(Konstanty!$F$3*P107+Konstanty!$F$4)","v":68850.921069032804},"J/kg",null,null,null,null,"dx",{"$f":"P62","v":1.5},null,null,null,null,null,null,null,9,3.2810000000000001,null,null,null,null,null,null,null,null,null,null,null,null,null,null,null,null,null,null,8,3.2453333333333334]
["entalpie ",null,"h4",{"$f":"D109+D110","v":99150.921069032804},"J/kg",null,null,null,null,null,null,null,"entalpie ",null,"h4",{"$f":"P109+P110","v":99150.921069032804},"J/kg",null,null,null,null,"th",{"$f":"((W106-AA106)*W108+(AA108-W108)*W106-(W106-AA106)*(W108-W110))/(AA108-W108)","v":16.153862079842494},null,null,null,null,null,null,null,10,3.3166666666666664,null,null,null,null,null,null,null,null,null,null,null,null,null,null,null,null,null,null,9,3.2810000000000001]
[null,null,null,{"$f":"D111/1000","v":99.150921069032805},"kJ/kg",null,null,null,null,null,null,null,null,null,null,{"$f":"P111/1000","v":99.150921069032805},"kJ/kg",null,null,null,null,null,{"$f":"ROUND(W111,0)","v":16},null,null,null,null,null,null,null,11,3.3523333333333332,null,null,null,null,null,null,null,null,null,null,null,null,null,null,null,null,null,null,10,3.3166666666666664]
["tlak nasycené vodní páry",null,"p''vp4",{"$f":"Konstanty!$F$12^((1500.3+23.5*D107)/(234+D107))","v":4244.6264230035886},"Pa",null,null,null,null,null,null,null,"tlak nasycené vodní páry",null,"p''vp4",{"$f":"Konstanty!$F$12^((1500.3+23.5*P107)/(234+P107))","v":4244.6264230035886},"Pa",null,null,null,null,null,null,null,null,null,null,null,null,null,12,3.3879999999999999,null,null,null,null,null,null,null,null,null,null,null,null,null,null,null,null,null,null,11,3.3523333333333332]
["tlak  vodní páry",null,"pvp4",{"$f":"(D108/100)*D113","v":4244.7539795204848},"Pa",null,null,null,null,null,null,null,"tlak  vodní páry",null,"pvp4",{"$f":"(P108/100)*P113","v":4244.7539795204848},"Pa",null,null,null,null,null,null,null,null,null,null,null,null,null,13,3.4236666666666666,null,null,null,null,null,null,null,null,null,null,null,null,null,null,null,null,null,null,12,3.3879999999999999]
["tlak suchého vzduchu",null,"psv4",{"$f":"D119*Konstanty!$F$5*(D107+273.15)","v":97987.723807799994},"Pa",null,null,null,null,null,null,null,"tlak suchého vzduchu",null,"psv4",{"$f":"P119*Konstanty!$F$5*(P107+273.15)","v":97987.723807799994},"Pa",null,null,null,null,null,null,null,null,null,null,null,null,null,14,3.4593333333333334,null,null,null,null,null,null,null,null,null,null,null,null,null,null,null,null,null,null,13,3.4236666666666666]
["tlak směsi vlhkého vzduchu",null,"p4",{"$f":"D114+D115","v":102232.47778732047},"Pa",null,null,null,null,null,null,null,"tlak směsi vlhkého vzduchu",null,"p4",{"$f":"P114+P115","v":102232.47778732047},"Pa",null,null,null,null,null,null,null,null,null,null,null,null,null,15,3.4950000000000001,null,null,null,null,null,null,null,null,null,null,null,null,null,null,null,null,null,null,14,3.4593333333333334]
["měrná vlhkost vzduchu",null,"x4",{"$f":"(Konstanty!$F$5/Konstanty!$F$6)*(D114/D115)","v":2.6945413693265811E-2},"kg/kg s.v.",null,null,null,null,null,null,null,"měrná vlhkost vzduchu",null,"x4",{"$f":"(Konstanty!$F$5/Konstanty!$F$6)*(P114/P115)","v":2.6945413693265811E-2},"kg/kg s.v.",null,null,null,null,null,null,null,null,null,null,null,null,null,16,3.5306666666666668,null,null,null,null,null,null,null,null,null,null,null,null,null,null,null,null,null,null,15,3.4950000000000001]
[null,null,null,{"$f":"D117*1000","v":26.945413693265809},"g/kg s.v.",null,null,null,null,null,null,null,null,null,null,{"$f":"P117*1000","v":26.945413693265809},"g/kg s.v.",null,null,null,null,null,null,null,null,null,null,null,null,null,17,3.5663333333333331,null,null,null,null,null,null,null,null,null,null,null,null,null,null,null,null,null,null,16,3.5306666666666668]
["hustota vzduchu při t",null,null,{"$f":"VLOOKUP(D107,Tabulky!$V$15:$AF$75,9,0)","v":1.1259999999999999},"kg/m3",null,null,null,null,null,null,null,"hustota vzduchu při t",null,null,{"$f":"VLOOKUP(P107,Tabulky!$V$15:$AF$75,9,0)","v":1.1259999999999999},"kg/m3",null,null,null,null,null,null,null,null,null,null,null,null,null,18,3.6019999999999999,null,null,null,null,null,null,null,null,null,null,null,null,null,null,null,null,null,null,17,3.5663333333333331]
[null,null,null,null,null,null,null,null,null,null,null,null,null,null,null,null,null,null,null,null,null,null,null,null,null,null,null,null,null,null,19,3.6376666666666666,null,null,null,null,null,null,null,null,null,null,null,null,null,null,null,null,null,null,18,3.6019999999999999]
["množství tepla na kondenzátoru",null,"Qk",{"$f":"AH69","v":194862.97909948832},"W",null,null,"přepočet mw na msv",{"$f":"(D58*D119)/(1+D117)","v":3.7786434782436573},"m3/s",null,null,"množství tepla na kondenzátoru",null,"Qk",{"$f":"BB70","v":56763.692798437383},"W",null,null,null,null,null,null,null,null,null,null,null,null,null,20,3.6733333333333333,null,null,null,null,null,null,null,null,null,null,null,null,null,null,null,null,null,null,19,3.6376666666666666]
["Požadované teplo na dohřev",null,"Qpož",{"$f":"(D134-D107)*Konstanty!F2*D119*I121+D88","v":17189.200328269526},"W",null,null,null,null,null,null,null,"Požadované teplo na dohřev",null,null,{"$f":"(P134-P107)*Konstanty!$F$2*P119*P58","v":5762.9504537142884},"W",null,null,null,null,null,null,null,null,null,null,null,null,null,21,3.7090000000000001,null,null,null,null,null,null,null,null,null,null,null,null,null,null,null,null,null,null,20,3.6733333333333333]
["dosažená teplota",null,"t6",{"$f":"D121/(D58*D119*Konstanty!$F$2)+D107","v":79.719263525502271},"°C",null,null,null,null,null,null,null,"dosažená teplota",null,"t6",{"$f":"P121/(P58*P119*Konstanty!$F$2)+P107","v":69.399049673836799},"°C",null,null,null,null,null,null,null,null,null,null,null,null,null,22,3.7446666666666664,null,null,null,null,null,null,null,null,null,null,null,null,null,null,null,null,null,null,21,3.7090000000000001]
["potřeba dohřevu",null,"Qdohř",{"$f":"IF((D122-D121)>0,D122-D121,0)","v":0},"W",null,null,null,null,null,null,null,"potřeba dohřevu",null,"Qdohř",{"$f":"IF((P122-P121)>0,P122-P121,0)","v":0},"W",null,null,null,null,null,null,null,null,null,null,null,null,null,23,3.7803333333333331,null,null,null,null,null,null,null,null,null,null,null,null,null,null,null,null,null,null,22,3.7446666666666664]
["přebytečné teplo",null,"Qpřebyt",{"$f":"IF((D122-D121)<0,D121-D122,0)","v":177673.77877121879},"W",null,null,null,null,null,null,null,"přebytečné teplo",null,"Qpřebyt",{"$f":"IF((P122-P121)<0,P121-P122,0)","v":51000.742344723098},"W",null,null,null,null,null,null,null,null,null,null,null,null,null,24,3.8159999999999998,null,null,null,null,null,null,null,null,null,null,null,null,null,null,null,null,null,null,23,3.7803333333333331]
[null,null,null,null,null,null,null,null,null,null,null,null,null,null,null,null,null,null,null,null,null,null,null,null,null,null,null,null,null,null,25,3.8516666666666666,null,null,null,null,null,null,null,null,null,null,null,null,null,null,null,null,null,null,24,3.8159999999999998]
[null,null,null,null,null,null,null,null,null,null,null,null,null,null,null,null,null,null,null,null,null,null,null,null,null,null,null,null,null,null,26,3.8873333333333333,null,null,null,null,null,null,null,null,null,null,null,null,null,null,null,null,null,null,25,3.8516666666666666]
["teplota zvýšení do int",null,"tzv",{"$f":"Vypocet!D128","v":2},"°C ",null,null,null,null,null,null,null,null,"teplota zvýšení do int","tzv",{"$f":"Vypocet!P128","v":2},"°C ",null,null,null,null,null,null,null,null,null,null,null,null,null,27,3.923,null,null,null,null,null,null,null,null,null,null,null,null,null,null,null,null,null,null,26,3.8873333333333333]
["teplotní spád kondenzatoru",null,"Δt",{"$f":"Vypocet!D129","v":0},"°C ",null,null,null,null,null,null,null,null,"teplotní spád kondenzatoru","Δt",{"$f":"Vypocet!P129","v":0},"°C ",null,null,null,null,null,null,null,null,null,null,null,null,null,28,3.9586666666666668,null,null,null,null,null,null,null,null,null,null,null,null,null,null,null,null,null,null,27,3.923]
["teplota kondenzatoru",null,"tohř",{"$f":"Vypocet!D130","v":0},"°C ",null,null,null,null,null,null,null,null,"teplota kondenzatoru","tohř",{"$f":"Vypocet!P130","v":0},"°C ",null,null,null,null,null,null,null,null,null,null,null,null,null,29,3.9943333333333335,null,null,null,null,null,null,null,null,null,null,null,null,null,null,null,null,null,null,28,3.9586666666666668]
["relativní vlhkost",null,"rhohř",{"$f":"Vypocet!D131","v":0},"%",null,null,null,null,null,null,null,null,"relativní vlhkost","rhohř",{"$f":"Vypocet!P131","v":0},"%",null,null,null,null,null,null,null,null,null,null,null,null,null,30,4.03,null,null,null,null,null,null,null,null,null,null,null,null,null,null,null,null,null,null,29,3.9943333333333335]
[null,null,null,null,null,null,null,null,null,null,null,null,null,null,null,null,null,null,null,null,null,null,null,null,null,null,null,null,null,null,31,4.065666666666667,null,null,null,null,null,null,null,null,null,null,null,null,null,null,null,null,null,null,30,4.03]
["t5","parametry vyduchu za kondenzátorem",null,null,null,null,null,null,null,null,null,null,"t5","parametry vyduchu za kondenzátorem",null,null,null,null,null,null,null,null,null,null,null,null,null,null,null,null,32,4.1013333333333328]
["požadovaná teplotateplota do I",null,"t5",{"$f":"Teplota+D128","v":34},"°C",null,null,null,null,null,null,null,"požadovaná teplota do I",null,"t5",{"$f":"Teplota+P128","v":34},"°C",null,null,null,null,null,null,null,null,null,null,null,null,null,33,4.1370000000000005]
["dosažená teplota",null,"tdos",{"$f":"D123","v":79.719263525502271},"°C",null,null,null,null,null,null,null,"dosažená teplota",null,"t6",{"$f":"P123","v":69.399049673836799},null,null,null,null,null,null,null,null,null,null,null,null,null,null,34,4.1726666666666663]
[null,null,null,null,null,null,null,null,null,null,null,null,null,null,null,null,null,null,null,null,null,null,null,null,null,null,null,null,null,null,35,4.208333333333333]
["relativní vlhkost",null,"rh5",{"$f":"((D146*D116)/(D142*(0.622+D146)))*100","v":79.771138540010497},"%",null,null,null,null,null,null,null,"relativní vlhkost",null,"rh5",{"$f":"((P146*P116)/(P142*(0.622+P146)))*100","v":79.771138540010497},"%"]
["entalpie s.v.",null,"hsv5",{"$f":"Konstanty!$F$2*D134","v":34340},"J/kg",null,null,null,null,null,null,null,"entalpie s.v.",null,"hsv5",{"$f":"Konstanty!$F$2*P134","v":34340},"J/kg"]
["entalpie v.p.",null,"hvp5",{"$f":"D146*(Konstanty!$F$3*D134+Konstanty!$F$4)","v":69049.23931381524},"J/kg",null,null,null,null,null,null,null,"entalpie v.p.",null,"hvp5",{"$f":"P146*(Konstanty!$F$3*P134+Konstanty!$F$4)","v":69049.23931381524},"J/kg"]
["entalpie ",null,"h5",{"$f":"D138+D139","v":103389.23931381524},"J/kg",null,null,null,null,null,null,null,"entalpie ",null,"h5",{"$f":"P138+P139","v":103389.23931381524},"J/kg"]
[null,null,null,{"$f":"D140/1000","v":103.38923931381524},"kJ/kg",null,null,null,null,null,null,null,null,null,null,{"$f":"P140/1000","v":103.38923931381524},"kJ/kg"]
["tlak nasycené vodní páry",null,"p''vp5",{"$f":"Konstanty!$F$12^((1500.3+23.5*D134)/(234+D134))","v":5321.3250022529974},"Pa",null,null,null,null,null,null,null,"tlak nasycené vodní páry",null,"p''vp5",{"$f":"Konstanty!$F$12^((1500.3+23.5*P134)/(234+P134))","v":5321.3250022529974},"Pa",null,null,null,null,null,null,null,null,null,null,null,null,null,"dt vyp"]
["tlak  vodní páry",null,"pvp5",{"$f":"(D137/100)*D142","v":4244.8815397114549},"Pa",null,null,null,null,null,null,null,"tlak  vodní páry",null,"pvp5",{"$f":"(P137/100)*P142","v":4244.8815397114549},"Pa",null,null,null,null,null,null,null,null,null,null,null,null,null,2]
["tlak suchého vzduchu",null,"psv5",{"$f":"D148*Konstanty!$F$5*(D134+273.15)","v":97958.084656299994},"Pa",null,null,null,null,null,null,null,"tlak suchého vzduchu",null,"psv5",{"$f":"Konstanty!$F$8*Konstanty!$F$5*(P134+273.15)","v":108009.58929249999},"Pa",null,null,null,null,null,null,null,null,null,null,null,null,null,3]
["tlak směsi vlhkého vzduchu",null,"p5",{"$f":"D143+D144","v":102202.96619601145},"Pa",null,null,null,null,null,null,null,"tlak směsi vlhkého vzduchu",null,"p5",{"$f":"P143+P144","v":112254.47083221145},"Pa",null,null,null,null,null,null,null,null,null,null,null,null,null,4]
["měrná vlhkost vzduchu",null,"x5",{"$f":"D117","v":2.6945413693265811E-2},"kg/kg s.v.",null,null,null,null,null,null,null,"měrná vlhkost vzduchu",null,"x5",{"$f":"P117","v":2.6945413693265811E-2},"kg/kg s.v.",null,null,null,null,null,null,null,null,null,null,null,null,null,5]
[null,null,null,{"$f":"D146*1000","v":26.945413693265809},"g/kg s.v.",null,null,null,null,null,null,null,null,null,null,{"$f":"P146*1000","v":26.945413693265809},"g/kg s.v.",null,null,null,null,null,null,null,null,null,null,null,null,null,6,{"$f":"D124","v":0}]
["hustota vzduchu při t",null,null,{"$f":"VLOOKUP(D134,Tabulky!$V$15:$AF$75,9,0)","v":1.111},"kg/m3",null,null,null,null,null,null,null,"hustota vzduchu při t",null,null,{"$f":"VLOOKUP(P134,Tabulky!$V$15:$AF$75,9,0)","v":1.111},"kg/m3",null,null,null,null,null,null,null,null,null,null,null,null,null,7]
[null,null,null,null,null,null,null,null,null,null,null,null,null,null,null,null,null,null,null,null,null,null,null,null,null,null,null,null,null,null,8]
["navlhčení z prostoru",null,null,null,null,null,null,null,null,null,null,null,"navlhčení z prostoru",null,null,null,null,null,null,null,null,null,null,null,null,null,null,null,null,null,9]
["dx=n.100/V.ρ",null,"dx",{"$f":"(D33*100)/D57*Konstanty!$F$8","v":0.59243396843461305},"g/kg s.v",null,null,null,null,null,null,null,"dx=n.100/V.ρ",null,"dx",{"$f":"(P30*100)/P57*Konstanty!$F$8","v":5.3720302982114262E-2},"g/kg s.v",null,null,null,null,null,null,null,null,null,null,null,null,null,10]
[null,null,null,null,null,null,null,null,null,null,null,null,null,null,null,null,null,null,null,null,null,null,null,null,null,null,null,null,null,null,11]
["NUTNÉ vzduch privlhčit",null,null,null,null,null,null,null,null,null,null,null,"NUTNÉ vzduch privlhčit",null,null,null,null,null,null,null,null,null,null,null,null,null,null,null,null,null,12]
[null,null,null,null,null,null,null,null,null,null,null,null,null,null,null,null,null,null,null,null,null,null,null,null,null,null,null,null,null,null,13]
[null,null,null,null,null,null,null,null,null,null,null,null,null,null,null,null,null,null,null,null,null,null,null,null,null,null,null,null,null,null,14]
[null,null,null,null,null,null,null,null,null,null,null,null,null,null,null,null,null,null,null,null,null,null,null,null,null,null,null,null,null,null,15]

{"sheet":"V11","index":10,"n_rows":156,"n_cols":63,"rows_kept":156,"cut":false,"hidden":false,"merged":[[59,6,59,7],[4,15,4,18],[26,3,26,6],[27,3,27,6],[33,6,33,7],[40,6,40,7]]}
[null,"Legenda",null,null,"hodnotu nutno zadat",null,null,null,null,"prevzato z první "]
[null,null,null,null,"hodnota se vypočítává "]
[null,null,null,null,"pomocná hodnota"]
["Parametry vzduchu",null,null,null,null,null,"interier klidovy rezim ",null,null,null,null,null,null,null,null,null,null,null,null,null,"Produkce tepla od",null,null,"ni",{"$f":"0.85*Y5+0.75*Y6+Y7","v":60.5},null,null,"Qi=ni.6,2*(36-ti)"]
["Interiér","ti",null,null,null,null,"Interiér","ti",null,null,null,null,"Exteriér","te",null,"minimální teplota -15 (tabulka) ",null,null,null,null,"lidí",{"$f":"Y4*6.2*(36-Teplota)","v":1500.4},"W","nz",{"$f":"Vypocet!Y5","v":30},"zeny",null,"ni=0,85nz+0,75nd+nm"]
["teplota",null,"ti",{"$f":"[0]!Teplota","v":32},"°C",null,"teplota",null,"ti",{"$f":"Vypocet!J6","v":24},"°C",null,"teplota",null,"te",{"$f":"CEILING(Vypocet!P6+45,5)","v":35},"°C",null,null,null,null,null,null,"nd ",{"$f":"Vypocet!Y6","v":20},"deti",null,"nz - zeny, nd deti, nm muzi"]
["relativní vlhkost",null,"rhi",{"$f":"Vypocet!D7","v":60},"%",null,"relativní vlhkost",null,"rhi",{"$f":"Vypocet!J7","v":55},"%",null,"relativní vlhkost",null,"rhe",{"$f":"Vypocet!P7","v":100},"%",null,null,null,null,null,null,"nm",{"$f":"Vypocet!Y7","v":20},"muzi"]
["entalpie s.v.",null,"hsvi",{"$f":"Konstanty!$F$2*Teplota","v":32320},"J/kg",null,"entalpie s.v.",null,"hsvi",{"$f":"Konstanty!$F$2*J6","v":24240},"J/kg",null,"entalpie s.v.",null,"hsve",{"$f":"Konstanty!$F$2*te","v":35350},"J/kg"]
["entalpie v.p.",null,"hvpi",{"$f":"$D$16*(Konstanty!$F$3*Teplota+Konstanty!$F$4)","v":46343.062700276656},"J/kg",null,"entalpie v.p.",null,"hvpi",{"$f":"$D$16*(Konstanty!$F$3*J6+Konstanty!$F$4)","v":46076.473456956111},"J/kg",null,"entalpie v.p.",null,"hvpe",{"$f":"P16*(Konstanty!F3*P6+Konstanty!F4)","v":91542.077531942399},"J/kg",null,null,null,"Odpar z povrchů"]
["entalpie ",null,"hi",{"$f":"D8+D9","v":78663.062700276656},"J/kg",null,"entalpie ",null,"hi",{"$f":"J8+J9","v":70316.473456956111},"J/kg",null,"entalpie ",null,"he",{"$f":"IF(P8<0,P9-P8,P8+P9)","v":126892.0775319424},"J/kg",null,null,null,null,null,null,null,null,null,null,"(7+3,5*w)*S*(xp´´-x).10-3"]
[null,null,null,{"$f":"D10/1000","v":78.663062700276654},"kJ/kg",null,null,null,null,{"$f":"J10/1000","v":70.316473456956118},"kJ/kg",null,null,null,null,{"$f":"P10/1000","v":126.89207753194241},"kJ/kg",null,null,null,null,null,null,null,null,null,null,"w stredni rychlost vzduchu"]
["tlak nasycené vodní páry",null,"p''vpi",{"$f":"Konstanty!$F$12^((1500.3+23.5*D6)/(234+D6))","v":4756.6229589957475},"Pa",null,"tlak nasycené vodní páry",null,"p''vpi",{"$f":"Konstanty!$F$12^((1500.3+23.5*J6)/(234+J6))","v":2984.4262331760842},"Pa",null,"tlak nasycené vodní páry",null,"p''vpe",{"$f":"Konstanty!$F$12^((1500.3+23.5*P6)/(234+P6))","v":5624.8200636514021},"Pa",null,{"$f":"2.718^(28.926-(6148/(273.15+te)))","v":7893.1222593284256},null,null,null,null,null,null,null,null,"xp´´-merna vlhkost nasyceneho vzduchu"]
["tlak  vodní páry",null,"pvpi",{"$f":"(D7/100)*D12","v":2853.9737753974482},"Pa",null,"tlak  vodní páry",null,"pvpi",{"$f":"(J7/100)*J12","v":1641.4344282468464},"Pa",null,"tlak  vodní páry",null,"pvpe",{"$f":"(P7/100)*P12","v":5624.8200636514021},"Pa",null,null,null,null,null,null,null,null,null,null,"x - merna vlhkost vzduchu nad povrchem "]
["tlak suchého vzduchu",null,"psvi",{"$f":"D18*Konstanty!$F$5*(Teplota+273.15)","v":98021.008646699993},"Pa",null,"tlak suchého vzduchu",null,"psvi",{"$f":"J18*Konstanty!$F$5*(Teplota+273.15)","v":100648.9177257},"Pa",null,"tlak suchého vzduchu",null,"psve",{"$f":"P18*Konstanty!F5*(P6+273.15)","v":98011.636072399997},"Pa",null,null,null,null,null,null,null,null,null,null,"S plocha"]
["tlak směsi vlhkého vzduchu",null,"pi",{"$f":"D13+D14","v":100874.98242209744},"Pa",null,"tlak směsi vlhkého vzduchu",null,"pi",{"$f":"J13+J14","v":102290.35215394685},"Pa",null,"tlak směsi vlhkého vzduchu",null,"pe",{"$f":"P13+P14","v":103636.45613605141},"Pa"]
["měrná vlhkost vzduchu",null,"xi",{"$f":"(Konstanty!$F$5/Konstanty!$F$6)*(D13/D14)","v":1.8110682290797792E-2},"kg/kg s.v.",null,"měrná vlhkost vzduchu",null,"xi",{"$f":"(Konstanty!$F$5/Konstanty!$F$6)*(J13/J14)","v":1.0144214643132086E-2},"kg/kg s.v.",null,"měrná vlhkost vzduchu",null,"xe",{"$f":"(Konstanty!F5/Konstanty!F6)*(P13/P14)","v":3.5697269354212448E-2},"kg/kg s.v."]
[null,null,null,{"$f":"D16*1000","v":18.11068229079779},"g/kg s.v.",null,null,null,null,{"$f":"J16*1000","v":10.144214643132086},"g/kg s.v.",null,null,null,null,{"$f":"P16*1000","v":35.697269354212445},"g/kg s.v."]
["hustota vzduchu při t",null,null,{"$f":"VLOOKUP(Teplota,Tabulky!$V$15:$AF$75,9,0)","v":1.119},"kg/m3",null,"hustota vzduchu při t",null,null,{"$f":"VLOOKUP(J6,Tabulky!V15:AF75,9,0)","v":1.149},"kg/m3",null,"hustota vzduchu při t",null,null,{"$f":"VLOOKUP(te,Tabulky!V15:AF75,9,0)","v":1.1080000000000001},"kg/m3"]
[null,null,null,{"$f":"1.395-Teplota*0.004414","v":1.253752}]
["Bazén",null,null,null,null,null,null,null,"rozměry bazénu"]
["Teplota vody",null,"tsniz",{"$f":"Vypocet!D21","v":2},"°C","snížení teploty vody (dop 2-3°C)",null,null,"délka bazén","a",{"$f":"Vypocet!K21","v":25},"m"]
["tvz-(2-3)°C",null,"tvod",{"$f":"D6-D21","v":30},"°C",null,null,null,"šířka bazén","b",{"$f":"Vypocet!K22","v":12},"m"]
[]
["Mn. odpařené vody"]
["mw=ε*A*(p´´vp-pvp)",null,"mw",{"$f":"D28*$D$29*($D$12/100-$D$13/100)","v":114158.95101589795},"g/h"]
[null,null,null,{"$f":"D25/1000","v":114.15895101589796},"kg/h",null,null,null,"budova"]
["typ bazenu",null,null,{"$f":"Vypocet!AH47","v":"bazény - normální provoz"},null,null,null,null,"délka","a",{"$f":"Vypocet!K27","v":40},"m"]
["mnozstvi odp vody",null,null,{"$f":"VLOOKUP(D27,Tab_souc_odparu_bazen,7,0)","v":20},null,null,null,"[g/(hPa.m2.h)]","šířka","b",{"$f":"Vypocet!K28","v":15},"m"]
["plocha bazénu",null,"A",{"$f":"K21*K22","v":300},"m2",null,null,null,"výška","v",{"$f":"Vypocet!K29","v":7},"m","Produkce vlhkosti osobami - klidový režim"]
["Objem haly",null,"V",{"$f":"K27*K28*K29","v":4200},"m3",null,null,null,null,null,null,null,"počet osob v bazénu",null,"nos",{"$f":"Vypocet!P30","v":2}]
[null,null,null,null,null,null,null,null,null,null,null,null,"množství vlhkosti",null,"mos",{"$f":"P30*100","v":200},"g/h"]
["Produkce vlhkosti osobami - v provozu",null,null,null,null,null,null,null,null,null,null,null,null,null,null,{"$f":"P31/1000","v":0.2},"kg/h",null,null,null,null,null,null,null,null,null,null,null,null,null,"Výkon na kondenzátoru",null,null,null,"Qk",{"$f":"AH69","v":194862.97909948832},"W"]
["počet osob v bazénu",null,"nos",{"$f":"Vypocet!D33","v":60},"počet",null,"Produkce vlhkosti člověkem",null,null,null,null,null,null,null,null,{"$f":"P31/3600","v":5.5555555555555552E-2},"g/s",null,null,null,null,null,null,null,null,null,null,null,null,null,null,null,null,null,null,{"$f":"AH70","v":194.86297909948831},"kW"]
["množství vlhkosti",null,"mos",{"$f":"D33*H35","v":6300},"g/h",null,{"$f":"Vypocet!AH50","v":"člověk při středně těžké práci"},null,null,null,null,null,null,null,null,null,null,null,null,null,null,null,null,null,null,null,null,null,null,null,"Teplota požadovaná v interiéru",null,null,null,"ti",{"$f":"Teplota","v":32},"°C"]
[null,null,null,{"$f":"D34/1000","v":6.3},"kg/h",null,{"$f":"VLOOKUP(G34,Tabulky!W146:Z148,4,0)","v":"60-150"},{"$f":"IF(G35=\"60-150\",105,IF(G35=\"30-60\",45,225))","v":105},"g/h",null,null,null,"Produkce vlhkosti  - klidový režim",null,null,null,null,null,null,null,null,null,null,null,null,null,null,null,null,null,null,null,null,null,null,null,null,null,null,null,null,null,null,null,null,null,null,null,null,null,"Výkon na kondenzátoru",null,null,null,"Qk",{"$f":"BB70","v":56763.692798437383},"W"]
[null,null,null,{"$f":"D34/3600","v":1.75},"g/s",null,"rozmezí","průměr",null,null,null,"množství odpařené vody",null,null,"mw",{"$f":"Tabulky!$G$4*$D$29*($D$12/100-$D$13/100)","v":28539.737753974488},"g/h",null,null,null,null,null,null,null,null,null,null,null,null,null,"Výkonová bilance pro režim plného provozu",null,null,null,null,null,null,null,null,null,null,null,null,null,null,null,null,null,null,null,null,null,null,null,null,{"$f":"BB71","v":56.763692798437383},"kW"]
["celkové množství odpařené vody",null,null,{"$f":"(D25+D34)*(I37/100+1)","v":126481.89856669286},"g/h",null,null,"korekce ",{"$f":"Vypocet!I37","v":5},"%",null,null,"celkové množství odpařené vody",null,null,{"$f":"(P36+P31)*(I37/100+1)","v":30176.724641673216},"g/h",null,null,null,null,null,null,null,null,null,null,null,null,null,null,null,null,null,null,null,null,null,null,null,null,null,null,null,null,null,null,null,null,null,"Teplota požadovaná v interiéru",null,null,null,"ti",{"$f":"J6","v":24},"°C"]
["Dimenzování průtoku vzduchu bazénové větrací jednotky pro zátěž",null,null,null,null,null,null,null,null,null,null,null,"Dimenzování průtoku vzduchu bazénové větrací jednotky pro klidový režim"]
["z množství odpařené vody",null,null,null,null,null,null,null,null,null,null,null,"z množství odpařené vody",null,null,null,null,null,null,null,null,null,null,null,null,null,null,null,null,null,null,null,null,null,null,null,null,null,null,null,null,null,null,null,null,null,null,null,null,null,"Výkonová bilance pro klidový režim"]
["požadovaná vlhkost přiváděná",null,"xpoz",{"$f":"Vypocet!D40","v":9},"g/kg",null,"doporučená hodnota 8-10 g/kg",null,null,null,null,null,"požadovaná vlhkost přiváděná",null,"xpoz",{"$f":"Vypocet!P40","v":9},"g/kg",null,"doporučená hodnota 8-10 g/kg"]
[null,null,"V1",{"$f":"(D37)/(D18*(D17-D40))","v":12406.445935942682},"m3/h",null," ",null,{"$f":"D147","v":35.69832782715698},"g/kg s.v.",null,null,null,null,"V1",{"$f":"(P36+P31)/(Konstanty!$F$8*(J17-5))","v":4560.6593112769815},"m3/h"]
["z objemu haly",null,null,null,null,null,null,null,null,null,null,null,"z objemu haly"]
["výměna vzduchu",null,"n",{"$f":"Vypocet!D43","v":1},"1/h",null,null,null,null,null,null,null,"výměna vzduchu",null,"n",{"$f":"Vypocet!P43","v":1},"1/h"]
["V=n*VH",null,"V2",{"$f":"D30*D43","v":4200},"m3/h",null,null,null,null,null,null,null,"V=n*VH",null,"V2",{"$f":"D30*P43","v":4200},"m3/h"]
["z tepelných zisků"]
[null,"tepelné ztráty","Qzt",{"$f":"Vypocet!D46","v":7},"kW",null,null,"teplotní spád výústky","dt",{"$f":"Vypocet!J46","v":8},"°C"]
[null,"tepelné zisky","Qzisk",{"$f":"Vypocet!D47","v":16},"kW"]
[null,"Množství vzduchu",null,{"$f":"((D47-D46)/J46*Konstanty!$F$2*Konstanty!$F$8)","v":1391.90625},"m3/h"]
[null,null,null,null,null,null,null,null,null,null,null,null,null,null,null,null,null,null,null,null,null,null,null,null,null,null,null,null,null,null,null,null,null,null,null,null,null,null,null,null,null,null,null,null,null,null,null,null,null,null,null,null,null,null,null,null,null,"te","teplota exteriérového vzduchu"]
["potřeba vzduchu pro osoby",null,null,null,null,null,null,null,null,null,null,null,null,null,null,null,null,null,null,null,null,null,"te","teplota exteriérového vzduchu",null,null,null,null,null,null,null,null,null,null,null,null,null,null,null,null,null,null,null,null,null,null,null,null,null,null,null,null,null,null,null,null,null,"Qpředehřev","Výkon pro předehřátí vzduchu"]
[null,null,"V2",{"$f":"D33*D52","v":3000},null,null,null,null,null,null,null,null,null,null,null,null,null,null,null,null,null,null,"Qpředehřev","Výkon pro předehřátí vzduchu",null,null,null,null,null,null,null,null,null,null,null,null,null,null,null,null,null,null,null,null,null,null,null,null,null,null,null,null,null,null,null,null,null,"Qdohřátí","Výkon spotřebovaný na dohřátí vzduchu na požadovanou úroveň"]
["množství čerstvého vzduchu/osoba",null,null,{"$f":"Vypocet!D52","v":50},"m3/h/os",null,"doporučená hodnota při zátěži (min hodnota 25m3/h) ",null,null,null,null,null,null,null,null,null,null,null,null,null,null,null,"Qdohřátí","Výkon spotřebovaný na dohřátí vzduchu na požadovanou úroveň",null,null,null,null,null,null,null,"červeně zvýrazněné pole je teplota ext vyšší než teplota exteriéru, přívod vzduchu plně čerstvý"]
[]
["Potřeba čerstvého vzduchu",null,null,{"$f":"IF(MAX(D41,D44,D48)>D51,\"Ne\",\"Ano\")","v":"Ne"},null,null,"nepočítá s tím dál samo! ",null,null,null,null,null,null,null,null,null,null,null,null,null,null,null,null,null,null,null,null,null,null,null,"Teplo odevzdané na výparníku",null,null,null,null,null,"Množství kondenzátu"]
["Množství čerstvého vzduchu",null,null,{"$f":"IF(D54=\"ano\",D51-MAX(D41,D44,D48),0)","v":0},"m3/h",null,"pouze informativní charakter, množství V čerst rozhodne projektant",null,null,null,null,null,null,null,null,null,null,null,null,null,null,null,null,null,null,null,null,null,null,null,"Qv=V*ρ*(hi-h3)",null,"Qv",{"$f":"D81","v":147350.87431255195},"W",null,"mkond = V*ρ*(xi-x3)",null,"mkond",{"$f":"IF(D58*D18*(D16-D77)<0,0,D58*D18*(D16-D77))","v":3.1236329255219682E-2},"kg/s",null,null,null,null,null,null,null,null,null,"Teplo odevzdané na výparníku",null,null,null,null,null,"Množství kondenzátu"]
[null,null,null,null,null,null,null,null,null,null,null,null,null,null,null,null,null,null,null,null,null,null,null,null,null,null,null,null,null,null,null,null,null,{"$f":"AH55/1000","v":147.35087431255195},"kW",null,null,null,null,{"$f":"AN55*1000","v":31.236329255219683},"g/s",null,null,null,null,null,null,null,null,null,"Qv=V*ρ*(hi-h3)",null,"Qv",{"$f":"P81","v":47003.773128829853},"W",null,"mkond = V*ρ*(xi-x3)",null,"mkond",{"$f":"IF(P58*J18*(J16-P77)<0,0,P58*J18*(J16-P77))","v":2.1834156452738541E-3},"kg/s"]
["průtok vzduchu",null,"V",{"$f":"MAX(D41,D44,D48)","v":12406.445935942682},"m3/h",null,null,null,null," ",null,null,"průtok vzduchu",null,"V",{"$f":"MAX(P41,P44)","v":4560.6593112769815},"m3/h",null,null,null,null,null,null,null,null,null,null,null,null,null,null,null,null,null,null,null,null,null,null,{"$f":"AN55*3600","v":112.45078531879085},"kg/h",null,null,null,null,null,null,null,null,null,null,null,null,{"$f":"BB56/1000","v":47.003773128829856},"kW",null,null,null,null,{"$f":"BH56*1000","v":2.183415645273854},"g/s"]
[null,null,"V",{"$f":"D57/3600","v":3.4462349822063003},"m3/s",null,null,null,null,null,null,null,null,null,"V",{"$f":"P57/3600","v":1.2668498086880504},"m3/s",null,null,null,null,null,null,null,null,null,null,null,null,null,"Tepelné čerpadlo (TČ)",null,null,null,"typ TČ",null,null,null,null,null,null,null,null,null,null,null,null,null,null,null,null,null,null,null,null,null,null,null,null,{"$f":"BH56*3600","v":7.8602963229858744},"kg/h"]
[null,null,null,null,null,null,null,null,null,null,null,null,null,null,null,null,null,null,null,null,null,null,null,null,null,null,null,null,null,null,"Topný faktor TČ",null,"COP",{"$f":"VLOOKUP(Teplota,'V11'!AE83:AF136,2,0)","v":4.1013333333333328},"Alfa S Duo",null,null,null,null,null,null,null,null,null,null,null,null,null,null,null,"Tepelné čerpadlo (TČ)",null,null,null,"typ TČ"]
["množství odebrané měrné vlh",null,"Δx",8.1,"g/kg s.v",null,"vstupní měrná  vlhkost do int",null,"xvyst",{"$f":"D147","v":35.69832782715698},"g/kg s.v.",null,null,null,null,null,null,null,null,null,null,null,null,null,null,null,null,null,null,null,null,null,null,null,null,null,null,null,null,null,null,null,null,null,null,null,null,null,null,null,"Topný faktor TČ",null,"COP",{"$f":"VLOOKUP(J6,'V11'!AY84:AZ132,2,0)","v":3.8159999999999998},"Alfa S Duo"]
["teplota chladiče",null,"tch",{"$f":"Vypocet!D61","v":9},"°C ",null,null,null,null,null,null,null,null,null,null,null,null,null,null,null,null,null,null,null,null,null,null,null,null,null,"Tepelná bilance TČ"]
["relativní vlhkost",null,"rhch",{"$f":"Vypocet!D62","v":100},"%",null,null,null,null,null,null,null,"množství odebrané měrné vlh",null,"Δx",{"$f":"Vypocet!P60","v":1.5},"g/kg s.v.",null,null,null,null,null,null,null,null,null,null,null,null,null,"Qk=Pel+Qv",null,null,null,null,null,null,null,null,null,null,null,null,null,null,null,null,null,null,null,"Tepelná bilance TČ"]
[null,null,null,null,null,null,null,null,null,null,null,null,"teplota chladiče",null,"tch",{"$f":"Vypocet!P61","v":9},"°C ",null,null,null,null,null,null,null,null,null,null,null,null,null,"εt = COP","εt = Qv/Pel",null,null,null,null,null,null,null,null,null,null,null,null,null,null,null,null,null,null,"Qk=Pel+Qv"]
[null,null,null,null,null,null,null,null,null,null,null,null,"relativní vlhkost",null,"rhch",{"$f":"Vypocet!P62","v":100},"%",null,null,null,null,null,null,null,null,null,null,null,null,null,"Pel=Qk/(1+Et)",null,null,null,null,null,null,null,null,null,null,null,null,null,null,null,null,null,null,null,"εt = COP","εt = Qv/Pel"]
[null,null,null,null,null,null,null,null,null,null,null,null,null,null,null,null,null,null,null,null,null,null,null,"Parametry chladiče",null,null,null,null,null,null,"Výkon kompresoru",null,"Pet",{"$f":"AH55/(AH59-1)","v":47512.104786936361},"W",null,null,null,null,null,null,null,null,null,null,null,null,null,null,null,"Pel=Qk/(1+Et)"]
["t3","parametry vyduchu za vyparnikem",null,null,null,null,null,null,null,null,null,null,"t3","parametry vyduchu za vyparnikem",null,null,null,null,null,null,null,null,null,"teplota",null,"ti",{"$f":"tch","v":9},"°C",null,null,null,null,null,{"$f":"AH65/1000","v":47.512104786936362},"kW",null,null,null,null,null,null,null,null,null,null,null,null,null,null,null,"Výkon kompresoru",null,"Pet",{"$f":"BB56/(BB60+1)","v":9759.9196696075287},"W"]
["teplota",null,"tvyp",{"$f":"W87","v":15},"°C",null,{"$f":"tvyp-te","v":-20},null,null,null,null,null,"teplota",null,"tvyp",{"$f":"W112","v":16},"°C",null,null,null,null,null,null,"relativní vlhkost",null,"rhi",{"$f":"D62","v":100},"%",null,null,"Prikon kompresoru",null,null,{"$f":"AH66/AH59","v":11.584550907087866},"kW",null,null,null,null,null,null,null,null,null,null,null,null,null,null,null,null,null,null,{"$f":"BB66/1000","v":9.7599196696075285},"kW"]
["relativní vlhkost",null,"rh3",{"$f":"IF((D74/D73)*100>100,100,(D74/D73)*100)","v":92.558526426350483},"%",null,null,null,null,null,null,null,"relativní vlhkost",null,"rh3",{"$f":"IF((P74/P73)*100>100,100,(P74/P73)*100)","v":74.957831234168935},"%",null,null,null,null,null,null,"entalpie s.v.",null,"hsvi",{"$f":"Konstanty!$F$2*AA66","v":9090},"J/kg",null,null,"Teplo na kondenzátoru"]
["entalpie s.v.",null,"h3",{"$f":"Konstanty!$F$2*D67","v":15150},"J/kg",null,null,null,null,null,null,null,"entalpie s.v.",null,"h3",{"$f":"Konstanty!$F$2*P67","v":16160},"J/kg",null,null,null,null,null,null,"entalpie v.p.",null,"hvpi",{"$f":"$AA$76*(Konstanty!$F$3*AA66+Konstanty!$F$4)","v":18311.904271787756},"J/kg",null,null,"Výkon na kondenzátoru",null,"Qk",{"$f":"AH65+AH55","v":194862.97909948832},"W",null,null,null,null,null,null,null,null,null,null,null,null,null,null,null,"Teplo na kondenzátoru"]
["entalpie v.p.",null,"h3",{"$f":"D77*(Konstanty!$F$3*D67+Konstanty!$F$4)","v":25303.000558220498},"J/kg",null,null,null,null,null,null,null,"entalpie v.p.",null,"h3",{"$f":"P77*(Konstanty!$F$3*P67+Konstanty!$F$4)","v":21865.022286924024},"J/kg",null,null,null,null,null,null,"entalpie ",null,"hi",{"$f":"AA68+AA69","v":27401.904271787756},"J/kg",null,null,null,null,null,{"$f":"AH69/1000","v":194.86297909948831},"kW",null,null,null,null,null,null,null,"  ",null,null,null,null,null,null,null,"Výkon na kondenzátoru",null,"Qk",{"$f":"BB66+BB56","v":56763.692798437383},"W"]
["entalpie ",null,"h3",{"$f":"D69+D70","v":40453.000558220498},"J/kg",null,null,null,null,null,null,null,"entalpie ",null,"h3",{"$f":"P69+P70","v":38025.022286924024},"J/kg",null,null,null,null,null,null,null,null,null,{"$f":"AA70/1000","v":27.401904271787757},"kJ/kg",null,null,null,null,null,null,null,null,null,null,null,null,null,null,null,null,null,null,null,null,null,null,null,null,null,{"$f":"BB70/1000","v":56.763692798437383},"kW",null,null,null,null,null,null,null,"  "]
[null,null,null,{"$f":"D71/1000","v":40.453000558220495},"kJ/kg",null,null,null,null,null,null,null,null,null,null,{"$f":"P71/1000","v":38.025022286924028},"kJ/kg",null,null,null,null,null,null,"tlak nasycené vodní páry",null,"p''vpi",{"$f":"Konstanty!$F$12^((1500.3+23.5*AA66)/(234+AA66))","v":1146.4717300807256},"Pa"]
["tlak nasycené vodní páry",null,"p''vp3",{"$f":"Konstanty!$F$12^((1500.3+23.5*D67)/(234+D67))","v":1704.3922173186882},"Pa",null,null,null,null,null,null,null,"tlak nasycené vodní páry",null,"p''vp3",{"$f":"Konstanty!$F$12^((1500.3+23.5*P67)/(234+P67))","v":1817.4687221052275},"Pa",null,null,null,null,null,null,"tlak  vodní páry",null,"pvpi",{"$f":"(AA67/100)*AA72","v":1146.4717300807256},"Pa",null,null,"Graf topneho faktoru ",null,null,"TnG Air 13, vzduch/voda"]
["tlak  vodní páry",null,"pvp3",{"$f":"(D77*D75)/0.622","v":1577.560320875579},"Pa",null,{"$f":"((G77*D75)/(0.622+G77))/((0.622-G77)/(0.622))","v":0},"přepočet tlaku z x",null,null,null,null,"tlak  vodní páry",null,"pvp3",{"$f":"(P77*P75)/0.622","v":1362.3351374494432},"Pa",null,{"$f":"((S77*P75)/(0.622+S77))/((0.622-S77)/(0.622))","v":1599.161688452117},"přepočet tlaku z x",null,null,null,"tlak suchého vzduchu",null,"psvi",{"$f":"AA78*Konstanty!$F$5*(AA66+273.15)","v":98003.397392999992},"Pa",null,null,null,null,null,null,null,null,null,null,null,null,null,null,null,null,null,null,null,null,null,null,"Graf topneho faktoru ",null,null,"TnG Air 13, vzduch/voda"]
["tlak suchého vzduchu",null,"psv3",{"$f":"D79*Konstanty!$F$5*(D67+273.15)","v":98019.544630499993},"Pa",null,null,null,null,null,null,null,"tlak suchého vzduchu",null,"psv3",{"$f":"P79*Konstanty!$F$5*(P67+273.15)","v":98027.697191300002},"Pa",null,null,null,null,null,null,"tlak směsi vlhkého vzduchu",null,"pi",{"$f":"AA73+AA74","v":99149.869123080716},"Pa",null,null,{"$f":"Vypocet!AE107","v":"teplota"},{"$f":"Vypocet!AF107","v":-18},{"$f":"Vypocet!AG107","v":-15},{"$f":"Vypocet!AH107","v":-10},{"$f":"Vypocet!AI107","v":-5},{"$f":"Vypocet!AJ107","v":0},{"$f":"Vypocet!AK107","v":5},{"$f":"Vypocet!AL107","v":10},{"$f":"Vypocet!AM107","v":15}]
["tlak směsi vlhkého vzduchu",null,"p3",{"$f":"D74+D75","v":99597.104951375572},"Pa",null,null,null,null,null,null,null,"tlak směsi vlhkého vzduchu",null,"p3",{"$f":"P74+P75","v":99390.032328749439},"Pa",null,null,null,null,null,null,"měrná vlhkost vzduchu",null,"xi",{"$f":"(Konstanty!$F$5/Konstanty!$F$6)*(AA73/AA74)","v":7.276561763593062E-3},"kg/kg s.v.",null,null,{"$f":"Vypocet!AE108","v":"vykon"},{"$f":"Vypocet!AF108","v":4.7},{"$f":"Vypocet!AG108","v":5.75},{"$f":"Vypocet!AH108","v":7},{"$f":"Vypocet!AI108","v":8.24},{"$f":"Vypocet!AJ108","v":9.4600000000000009},{"$f":"Vypocet!AK108","v":10.69},{"$f":"Vypocet!AL108","v":11.8},{"$f":"Vypocet!AM108","v":13.1},null,null,null,null,null,null,null,null,null,null,null,{"$f":"Vypocet!AY108","v":"teplota"},{"$f":"Vypocet!AZ108","v":-18},{"$f":"Vypocet!BA108","v":-15},{"$f":"Vypocet!BB108","v":-10},{"$f":"Vypocet!BC108","v":-5},{"$f":"Vypocet!BD108","v":0},{"$f":"Vypocet!BE108","v":5},{"$f":"Vypocet!BF108","v":10},{"$f":"Vypocet!BG108","v":15}]
["měrná vlhkost vzduchu",null,"x3",{"$f":"D16-deltaT/1000","v":1.0010682290797792E-2},"kg/kg s.v.",null,{"$f":"IF(tvyp<D82,0,D16)","v":0},"vezme x z Ti když tvyp<rosny bod",null,null,null,null,"měrná vlhkost vzduchu",null,"x3",{"$f":"J16-P62/1000","v":8.6442146431320865E-3},"kg/kg s.v.",null,{"$f":"IF(tvyp<P82,0,J16)","v":1.0144214643132086E-2},"vezme x z Ti když tvyp<rosny bod",null,null,null,null,null,null,{"$f":"AA76*1000","v":7.2765617635930617},"g/kg s.v.",null,null,{"$f":"Vypocet!AE109","v":"el prikon"},{"$f":"Vypocet!AF109","v":2.2400000000000002},{"$f":"Vypocet!AG109","v":2.4700000000000002},{"$f":"Vypocet!AH109","v":2.72},{"$f":"Vypocet!AI109","v":2.94},{"$f":"Vypocet!AJ109","v":3.2},{"$f":"Vypocet!AK109","v":3.37},{"$f":"Vypocet!AL109","v":3.55},{"$f":"Vypocet!AM109","v":3.85},null,null,null,null,null,null,null,null,null,null,null,{"$f":"Vypocet!AY109","v":"vykon"},{"$f":"Vypocet!AZ109","v":4.7},{"$f":"Vypocet!BA109","v":5.75},{"$f":"Vypocet!BB109","v":7},{"$f":"Vypocet!BC109","v":8.24},{"$f":"Vypocet!BD109","v":9.4600000000000009},{"$f":"Vypocet!BE109","v":10.69},{"$f":"Vypocet!BF109","v":11.8},{"$f":"Vypocet!BG109","v":13.1}]
[null,null,null,{"$f":"D77*1000","v":10.010682290797792},"g/kg s.v.",null,null,null,null,null,null,null,null,null,null,{"$f":"P77*1000","v":8.6442146431320861},"g/kg s.v.",null,null,null,null,null,null,"hustota vzduchu při t",null,null,{"$f":"VLOOKUP(AA66,Tabulky!$V$15:$AF$75,9,0)","v":1.21},"kg/m3",null,null,{"$f":"Vypocet!AE110","v":"COP"},{"$f":"Vypocet!AF110","v":2.1},{"$f":"Vypocet!AG110","v":2.33},{"$f":"Vypocet!AH110","v":2.57},{"$f":"Vypocet!AI110","v":2.8},{"$f":"Vypocet!AJ110","v":2.96},{"$f":"Vypocet!AK110","v":3.17},{"$f":"Vypocet!AL110","v":3.32},{"$f":"Vypocet!AM110","v":3.4},null,null,null,null,null,null,null,null,null,null,null,{"$f":"Vypocet!AY110","v":"el prikon"},{"$f":"Vypocet!AZ110","v":2.2400000000000002},{"$f":"Vypocet!BA110","v":2.4700000000000002},{"$f":"Vypocet!BB110","v":2.72},{"$f":"Vypocet!BC110","v":2.94},{"$f":"Vypocet!BD110","v":3.2},{"$f":"Vypocet!BE110","v":3.37},{"$f":"Vypocet!BF110","v":3.55},{"$f":"Vypocet!BG110","v":3.85}]
["hustota vzduchu při t",null,null,{"$f":"VLOOKUP(tvyp,Tabulky!$V$15:$AF$75,9,0)","v":1.1850000000000001},"kg/m3",null,null,null,null,null,null,null,"hustota vzduchu při t",null,null,{"$f":"VLOOKUP(P67,Tabulky!$V$15:$AF$75,9,0)","v":1.181},"kg/m3",null,null,null,null,null,null,null,null,null,{"$f":"1.395-Teplota*0.004414","v":1.253752},null,null,null,null,null,null,{"$f":"AH78-AG78","v":0.23999999999999977},0.22999999999999998,0.16000000000000014,0.20999999999999996,0.14999999999999991,8.0000000000000071E-2,"průměr",{"$f":"AVERAGE(AG79:AM79)","v":0.17833333333333332},"prumer/1",{"$f":"AO79/5","v":3.5666666666666666E-2},null,null,null,null,null,null,null,{"$f":"Vypocet!AY111","v":"COP"},{"$f":"Vypocet!AZ111","v":2.1},{"$f":"Vypocet!BA111","v":2.33},{"$f":"Vypocet!BB111","v":2.57},{"$f":"Vypocet!BC111","v":2.8},{"$f":"Vypocet!BD111","v":2.96},{"$f":"Vypocet!BE111","v":3.17},{"$f":"Vypocet!BF111","v":3.32},{"$f":"Vypocet!BG111","v":3.4}]
[null,null,null,null,null,null,null,null,null,null,null,null,null,null,null,null,null,null,null,null,null,null,null,null,null,null,null,null,null,null,null,"popis závislosti",null,"y=0,18571x+2,96",null,null,null,null,null,null,null,null,null,null,null,null,null,null,null,null,null,null,null,{"$f":"BB79-BA79","v":0.23999999999999977},0.22999999999999998,0.16000000000000014,0.20999999999999996,0.14999999999999991,8.0000000000000071E-2,"průměr",{"$f":"AVERAGE(BA80:BG80)","v":0.17833333333333332},"prumer/1",{"$f":"BI80/5","v":3.5666666666666666E-2}]
["teplo získané na výparníku",null,"Qv",{"$f":"D58*D18*(D10-D71)","v":147350.87431255195},"W",null,null,null,null,null,null,null,"teplo získané na výparníku",null,"Qv",{"$f":"P58*J18*(J10-P71)","v":47003.773128829853},"W",null,null,null,"A","Ti",{"$f":"Teplota","v":32},null,"B","tch",{"$f":"AA66","v":9},null,null,null,null,null,null,null,null,null,null,null,null,null,null,null,null,null,null,null,null,null,null,null,null,"popis závislosti",null,"y=0,18571x+2,96"]
[null,"rosný bod ",null,{"$f":"(243.5*LN(($D$7/100)*Konstanty!$F$12^((17.67*Teplota)/(243.5+Teplota))))/(17.67-(LN(($D$7/100)*Konstanty!$F$12^((17.67*Teplota)/(243.5+Teplota)))))","v":23.274251871309211},"°C ",null,null,null,null,null,null,null,null,"rosný bod ",null,{"$f":"(243.5*LN((J7/100)*Konstanty!$F$12^((17.67*J6)/(243.5+J6))))/(17.67-(LN((J7/100)*Konstanty!$F$12^((17.67*J6)/(243.5+J6)))))","v":14.413817952855092},"°C ",null,null,null,null,"xi",{"$f":"D16","v":1.8110682290797792E-2},null,null,"xch",{"$f":"AA76","v":7.276561763593062E-3},null,null,null,"teplota","COP",null,-18,2.1]
[null,null,null,null,null,null,null,null,null,null,null,null,null,null,null,null,null,null,null,null,null,"xi",{"$f":"D17","v":18.11068229079779},null,null,"xch",{"$f":"AA77","v":7.2765617635930617},null,null,null,-18,{"$f":"$AQ$79*AE83+$AJ$78","v":2.3180000000000001},null,-15,2.33,null,null,null,null,null,null,null,null,null,null,null,null,null,null,null,"teplota","COP"]
["Distribuce tepla v závislosti na externí teplotě",null,null,null,null,null,null,null,null,null,null,null,null,null,null,null,null,null,null,null,null,null,null,null,null,null,null,null,null,null,-17,2.3536666666666668,null,-10,2.57,null,null,null,null,null,null,null,null,null,null,null,null,null,null,null,-18,{"$f":"$AQ$79*AY84+$AJ$78","v":2.3180000000000001}]
["teplota předehřevu te",null,"tpřed",{"$f":"Vypocet!D85","v":5},"°C",null,null,null,null,null,null,null,null,null,null,null,null,null,null,null,null,"dx",{"$f":"deltaT","v":8.1},null,"výpočet teplochy při teplote chladice",null,null,null,null,null,-16,2.3893333333333331,null,-5,2.8,null,null,null,null,null,null,null,null,null,null,null,null,null,null,null,-17,2.3536666666666668]
["množství čerst vzduchu",null,null,{"$f":"Vypocet!D86","v":30},"%",null,null,null,null,null,null,null,null,null,null,null,null,null,null,null,null,"th",{"$f":"((W81-AA81)*W83+(AA83-W83)*W81-(W81-AA81)*(W83-W85))/(AA83-W83)","v":14.804326430355252},null,"počítá s přímkou ti - tch a na ní počítá bod",null,null,null,null,null,-15,2.4249999999999998,null,0,2.96,null,null,null,null,null,null,null,null,null,null,null,null,null,null,null,-16,2.3893333333333331]
["množství předehřívaného vzd",null,null,{"$f":"D58*(D86/100)","v":1.03387049466189},"m3/h",null,null,null,null,null,null,null,null,null,null,null,null,null,null,null,null,null,{"$f":"ROUND(W86,0)","v":15},null,null,null,null,null,null,null,-14,2.4606666666666666,null,5,3.17,null,null,null,null,null,null,null,null,null,null,null,null,null,null,null,-15,2.4249999999999998]
["potřeba tepla na předehřev",null,null,{"$f":"IF(D85>te,((D87*P18)/(1+P16))*(D85-te)*P18*Konstanty!$F$2,0)","v":0},"W",null,null,null,null,null,null,null,null,null,null,null,null,null,null,null,null,null,null,null,null,null,null,null,null,null,-13,2.4963333333333333,null,10,3.32,null,null,null,null,null,null,null,null,null,null,null,null,null,null,null,-14,2.4606666666666666]
[null,null,null,null,null,null,null,null,null,null,null,null,null,null,null,null,null,null,null,null,null,null,null,null,null,null,null,null,null,null,-12,2.532,null,15,3.4,null,null,null,null,null,null,null,null,null,null,null,null,null,null,null,-13,2.4963333333333333]
["t4","Předehřev exteriérového vzduchu",null,null,null,null,null,null,null,null,null,null,"t4","Předehřev exteriérového vzduchu",null,null,null,null,null,null,null,null,null,"Parametry chladiče klidovy rezim",null,null,null,null,null,null,-11,2.5676666666666668,null,null,null,null,null,null,null,null,null,null,null,null,null,null,null,null,null,null,-12,2.532]
["teplota předehřevu",null,"tpředehřev",{"$f":"IF($D$85>te,$D$85,te)","v":35},"°C",null,null,null,null,null,null,null,"teplota předehřevu",null,"tpředehřev",{"$f":"IF($D$85>te,$D$85,te)","v":35},"°C",null,null,null,null,null,null,"teplota",null,"ti",{"$f":"P63","v":9},"°C",null,null,-10,2.6033333333333335,null,null,null,null,null,null,null,null,null,null,null,null,null,null,null,null,null,null,-11,2.5676666666666668]
[null,null,"rhpředehřev",{"$f":"((D101*P15)/(D97*(0.622+D101)))*100","v":100.00296513700818},"%",null,null,null,null,null,null,null,null,null,"rhpředehřev",{"$f":"((P101*P15)/(P97*(0.622+P101)))*100","v":100.00296513700818},"%",null,null,null,null,null,null,"relativní vlhkost",null,"rhi",{"$f":"P64","v":100},"%",null,null,-9,2.6389999999999998,null,null,null,null,null,null,null,null,null,null,null,null,null,null,null,null,null,null,-10,2.6033333333333335]
["entalpie s.v.",null,"hsv4",{"$f":"Konstanty!$F$2*D91","v":35350},"J/kg",null,null,null,null,null,null,null,"entalpie s.v.",null,"hsv4",{"$f":"Konstanty!$F$2*P91","v":35350},"J/kg",null,null,null,null,null,null,"entalpie s.v.",null,"hsvi",{"$f":"Konstanty!$F$2*AA91","v":9090},"J/kg",null,null,-8,2.6746666666666665,null,null,null,null,null,null,null,null,null,null,null,null,null,null,null,null,null,null,-9,2.6389999999999998]
["entalpie v.p.",null,"hvp4",{"$f":"D101*(Konstanty!$F$3*D91+Konstanty!$F$4)","v":91542.077531942399},"J/kg",null,null,null,null,null,null,null,"entalpie v.p.",null,"hvp4",{"$f":"P101*(Konstanty!$F$3*P91+Konstanty!$F$4)","v":91542.077531942399},"J/kg",null,null,null,null,null,null,"entalpie v.p.",null,"hvpi",{"$f":"$AA$76*(Konstanty!$F$3*AA91+Konstanty!$F$4)","v":18311.904271787756},"J/kg",null,null,-7,2.7103333333333333,null,null,null,null,null,null,null,null,null,null,null,null,null,null,null,null,null,null,-8,2.6746666666666665]
["entalpie ",null,"h4",{"$f":"D93+D94","v":126892.0775319424},"J/kg",null,null,null,null,null,null,null,"entalpie ",null,"h4",{"$f":"P93+P94","v":126892.0775319424},"J/kg",null,null,null,null,null,null,"entalpie ",null,"hi",{"$f":"AA93+AA94","v":27401.904271787756},"J/kg",null,null,-6,2.746,null,null,null,null,null,null,null,null,null,null,null,null,null,null,null,null,null,null,-7,2.7103333333333333]
[null,null,null,{"$f":"D95/1000","v":126.89207753194241},"kJ/kg",null,null,null,null,null,null,null,null,null,null,{"$f":"P95/1000","v":126.89207753194241},"kJ/kg",null,null,null,null,null,null,null,null,null,{"$f":"AA95/1000","v":27.401904271787757},"kJ/kg",null,null,-5,2.7816666666666667,null,null,null,null,null,null,null,null,null,null,null,null,null,null,null,null,null,null,-6,2.746]
["tlak nasycené vodní páry",null,"p''vp4",{"$f":"Konstanty!$F$12^((1500.3+23.5*D91)/(234+D91))","v":5624.8200636514021},"Pa",null,null,null,null,null,null,null,"tlak nasycené vodní páry",null,"p''vp4",{"$f":"Konstanty!$F$12^((1500.3+23.5*P91)/(234+P91))","v":5624.8200636514021},"Pa",null,null,null,null,null,null,"tlak nasycené vodní páry",null,"p''vpi",{"$f":"Konstanty!$F$12^((1500.3+23.5*AA91)/(234+AA91))","v":1146.4717300807256},"Pa",null,null,-4,2.8173333333333335,null,null,null,null,null,null,null,null,null,null,null,null,null,null,null,null,null,null,-5,2.7816666666666667]
["tlak  vodní páry",null,"pvp4",{"$f":"(D92/100)*D97","v":5624.9868472727521},"Pa",null,null,null,null,null,null,null,"tlak  vodní páry",null,"pvp4",{"$f":"(P92/100)*P97","v":5624.9868472727521},"Pa",null,null,null,null,null,null,"tlak  vodní páry",null,"pvpi",{"$f":"(AA92/100)*AA97","v":1146.4717300807256},"Pa",null,null,-3,2.8529999999999998,null,null,null,null,null,null,null,null,null,null,null,null,null,null,null,null,null,null,-4,2.8173333333333335]
["tlak suchého vzduchu",null,"psv4",{"$f":"D103*Konstanty!$F$5*(D91+273.15)","v":98011.636072399997},"Pa",null,null,null,null,null,null,null,"tlak suchého vzduchu",null,"psv4",{"$f":"P103*Konstanty!$F$5*(P91+273.15)","v":98011.636072399997},"Pa",null,null,null,null,null,null,"tlak suchého vzduchu",null,"psvi",{"$f":"AA103*Konstanty!$F$5*(AA91+273.15)","v":98003.397392999992},"Pa",null,null,-2,2.8886666666666665,null,null,null,null,null,null,null,null,null,null,null,null,null,null,null,null,null,null,-3,2.8529999999999998]
["tlak směsi vlhkého vzduchu",null,"p4",{"$f":"D98+D99","v":103636.62291967275},"Pa",null,null,null,null,null,null,null,"tlak směsi vlhkého vzduchu",null,"p4",{"$f":"P98+P99","v":103636.62291967275},"Pa",null,null,null,null,null,null,"tlak směsi vlhkého vzduchu",null,"pi",{"$f":"AA98+AA99","v":99149.869123080716},"Pa",null,null,-1,2.9243333333333332,null,null,null,null,null,null,null,null,null,null,null,null,null,null,null,null,null,null,-2,2.8886666666666665]
["měrná vlhkost vzduchu",null,"x4",{"$f":"P16","v":3.5697269354212448E-2},"kg/kg s.v.",null,null,null,null,null,null,null,"měrná vlhkost vzduchu",null,"x4",{"$f":"P16","v":3.5697269354212448E-2},"kg/kg s.v.",null,null,null,null,null,null,"měrná vlhkost vzduchu",null,"xi",{"$f":"(Konstanty!$F$5/Konstanty!$F$6)*(AA98/AA99)","v":7.276561763593062E-3},"kg/kg s.v.",null,null,0,2.96,null,null,null,null,null,null,null,null,null,null,null,null,null,null,null,null,null,null,-1,2.9243333333333332]
[null,null,null,{"$f":"D101*1000","v":35.697269354212445},"g/kg s.v.",null,null,null,null,null,null,null,null,null,null,{"$f":"P101*1000","v":35.697269354212445},"g/kg s.v.",null,null,null,null,null,null,null,null,null,{"$f":"AA101*1000","v":7.2765617635930617},"g/kg s.v.",null,null,1,2.9956666666666667,null,null,null,null,null,null,null,null,null,null,null,null,null,null,null,null,null,null,0,2.96]
["hustota vzduchu při t",null,null,{"$f":"VLOOKUP(D91,Tabulky!$V$15:$AF$75,9,0)","v":1.1080000000000001},"kg/m3",null,null,null,null,null,null,null,"hustota vzduchu při t",null,null,{"$f":"VLOOKUP(P91,Tabulky!$V$15:$AF$75,9,0)","v":1.1080000000000001},"kg/m3",null,null,null,null,null,null,"hustota vzduchu při t",null,null,{"$f":"VLOOKUP(AA91,Tabulky!$V$15:$AF$75,9,0)","v":1.21},"kg/m3",null,null,2,3.0313333333333334,null,null,null,null,null,null,null,null,null,null,null,null,null,null,null,null,null,null,1,2.9956666666666667]
[null,null,null,null,null,null,null,null,null,null,null,null,null,null,null,null,null,null,null,null,null,null,null,null,null,null,{"$f":"1.395-Teplota*0.004414","v":1.253752},null,null,null,3,3.0670000000000002,null,null,null,null,null,null,null,null,null,null,null,null,null,null,null,null,null,null,2,3.0313333333333334]
["t4'","smíšení vzduchu s exteriérovým",null,null,null,null,null,null,null,null,null,null,"t4'","smíšení vzduchu s exteriérovým",null,null,null,null,null,null,null,null,null,null,null,null,null,null,null,null,4,3.1026666666666665,null,null,null,null,null,null,null,null,null,null,null,null,null,null,null,null,null,null,3,3.0670000000000002]
["Množství čerstvého vzduchu",null,"Včerstv",{"$f":"IF(D91>tvyp,100,$D$86)","v":100},"%",null,null,null,null,null,null,null,"Množství čerstvého vzduchu",null,"Včerstv",{"$f":"IF(P91>tvyp,100,$D$86)","v":100},"%",null,null,null,"A","Ti",{"$f":"J6","v":24},null,"B","tch",{"$f":"AA91","v":9},null,null,null,5,3.1383333333333332,null,null,null,null,null,null,null,null,null,null,null,null,null,null,null,null,null,null,4,3.1026666666666665]
["teplota vzduchu",null,"t4",{"$f":"ROUND(((((D106/100)*D58)*D91+((1-(D106/100))*D58)*tvyp)/D58),0)","v":35},"°C",null,null,null,null,null,null,null,"teplota vzduchu",null,"t4",{"$f":"ROUND(((((P106/100)*P58)*P91+((1-(P106/100))*P58)*tvyp)/P58),0)","v":35},"°C",null,null,null,null,"xi",{"$f":"J16","v":1.0144214643132086E-2},null,null,"xch",{"$f":"AA101","v":7.276561763593062E-3},null,null,null,6,3.1739999999999999,null,null,null,null,null,null,null,null,null,null,null,null,null,null,null,null,null,null,5,3.1383333333333332]
["relativní vlhkost",null,"rh4",{"$f":"(1-(D106/100))*D68+(D106/100)*D92","v":100.00296513700818},"%",null,null,null,null,null,null,null,"relativní vlhkost",null,"rh4",{"$f":"(1-(P106/100))*P68+(P106/100)*P92","v":100.00296513700818},"%",null,null,null,null,"xi",{"$f":"J17","v":10.144214643132086},null,null,"xch",{"$f":"AA102","v":7.2765617635930617},null,null,null,7,3.2096666666666667,null,null,null,null,null,null,null,null,null,"  ",null,null,null,null,null,null,null,null,6,3.1739999999999999]
["entalpie s.v.",null,"hsv4",{"$f":"Konstanty!$F$2*D107","v":35350},"J/kg",null,null,null,null,null,null,null,"entalpie s.v.",null,"hsv4",{"$f":"Konstanty!$F$2*P107","v":35350},"J/kg",null,null,null,null,null,null,null,null,null,null,null,null,null,8,3.2453333333333334,null,null,null,null,null,null,null,null,null,null,null,null,null,null,null,null,null,null,7,3.2096666666666667]
["entalpie v.p.",null,"hvp4",{"$f":"D117*(Konstanty!$F$3*D107+Konstanty!$F$4)","v":91544.791879961354},"J/kg",null,null,null,null,null,null,null,"entalpie v.p.",null,"hvp4",{"$f":"P117*(Konstanty!$F$3*P107+Konstanty!$F$4)","v":91544.791879961354},"J/kg",null,null,null,null,"dx",{"$f":"P62","v":1.5},null,null,null,null,null,null,null,9,3.2810000000000001,null,null,null,null,null,null,null,null,null,null,null,null,null,null,null,null,null,null,8,3.2453333333333334]
["entalpie ",null,"h4",{"$f":"D109+D110","v":126894.79187996135},"J/kg",null,null,null,null,null,null,null,"entalpie ",null,"h4",{"$f":"P109+P110","v":126894.79187996135},"J/kg",null,null,null,null,"th",{"$f":"((W106-AA106)*W108+(AA108-W108)*W106-(W106-AA106)*(W108-W110))/(AA108-W108)","v":16.153862079842494},null,null,null,null,null,null,null,10,3.3166666666666664,null,null,null,null,null,null,null,null,null,null,null,null,null,null,null,null,null,null,9,3.2810000000000001]
[null,null,null,{"$f":"D111/1000","v":126.89479187996136},"kJ/kg",null,null,null,null,null,null,null,null,null,null,{"$f":"P111/1000","v":126.89479187996136},"kJ/kg",null,null,null,null,null,{"$f":"ROUND(W111,0)","v":16},null,null,null,null,null,null,null,11,3.3523333333333332,null,null,null,null,null,null,null,null,null,null,null,null,null,null,null,null,null,null,10,3.3166666666666664]
["tlak nasycené vodní páry",null,"p''vp4",{"$f":"Konstanty!$F$12^((1500.3+23.5*D107)/(234+D107))","v":5624.8200636514021},"Pa",null,null,null,null,null,null,null,"tlak nasycené vodní páry",null,"p''vp4",{"$f":"Konstanty!$F$12^((1500.3+23.5*P107)/(234+P107))","v":5624.8200636514021},"Pa",null,null,null,null,null,null,null,null,null,null,null,null,null,12,3.3879999999999999,null,null,null,null,null,null,null,null,null,null,null,null,null,null,null,null,null,null,11,3.3523333333333332]
["tlak  vodní páry",null,"pvp4",{"$f":"(D108/100)*D113","v":5624.9868472727521},"Pa",null,null,null,null,null,null,null,"tlak  vodní páry",null,"pvp4",{"$f":"(P108/100)*P113","v":5624.9868472727521},"Pa",null,null,null,null,null,null,null,null,null,null,null,null,null,13,3.4236666666666666,null,null,null,null,null,null,null,null,null,null,null,null,null,null,null,null,null,null,12,3.3879999999999999]
["tlak suchého vzduchu",null,"psv4",{"$f":"D119*Konstanty!$F$5*(D107+273.15)","v":98011.636072399997},"Pa",null,null,null,null,null,null,null,"tlak suchého vzduchu",null,"psv4",{"$f":"P119*Konstanty!$F$5*(P107+273.15)","v":98011.636072399997},"Pa",null,null,null,null,null,null,null,null,null,null,null,null,null,14,3.4593333333333334,null,null,null,null,null,null,null,null,null,null,null,null,null,null,null,null,null,null,13,3.4236666666666666]
["tlak směsi vlhkého vzduchu",null,"p4",{"$f":"D114+D115","v":103636.62291967275},"Pa",null,null,null,null,null,null,null,"tlak směsi vlhkého vzduchu",null,"p4",{"$f":"P114+P115","v":103636.62291967275},"Pa",null,null,null,null,null,null,null,null,null,null,null,null,null,15,3.4950000000000001,null,null,null,null,null,null,null,null,null,null,null,null,null,null,null,null,null,null,14,3.4593333333333334]
["měrná vlhkost vzduchu",null,"x4",{"$f":"(Konstanty!$F$5/Konstanty!$F$6)*(D114/D115)","v":3.5698327827156977E-2},"kg/kg s.v.",null,null,null,null,null,null,null,"měrná vlhkost vzduchu",null,"x4",{"$f":"(Konstanty!$F$5/Konstanty!$F$6)*(P114/P115)","v":3.5698327827156977E-2},"kg/kg s.v.",null,null,null,null,null,null,null,null,null,null,null,null,null,16,3.5306666666666668,null,null,null,null,null,null,null,null,null,null,null,null,null,null,null,null,null,null,15,3.4950000000000001]
[null,null,null,{"$f":"D117*1000","v":35.69832782715698},"g/kg s.v.",null,null,null,null,null,null,null,null,null,null,{"$f":"P117*1000","v":35.69832782715698},"g/kg s.v.",null,null,null,null,null,null,null,null,null,null,null,null,null,17,3.5663333333333331,null,null,null,null,null,null,null,null,null,null,null,null,null,null,null,null,null,null,16,3.5306666666666668]
["hustota vzduchu při t",null,null,{"$f":"VLOOKUP(D107,Tabulky!$V$15:$AF$75,9,0)","v":1.1080000000000001},"kg/m3",null,null,null,null,null,null,null,"hustota vzduchu při t",null,null,{"$f":"VLOOKUP(P107,Tabulky!$V$15:$AF$75,9,0)","v":1.1080000000000001},"kg/m3",null,null,null,null,null,null,null,null,null,null,null,null,null,18,3.6019999999999999,null,null,null,null,null,null,null,null,null,null,null,null,null,null,null,null,null,null,17,3.5663333333333331]
[null,null,null,null,null,null,null,null,null,null,null,null,null,null,null,null,null,null,null,null,null,null,null,null,null,null,null,null,null,null,19,3.6376666666666666,null,null,null,null,null,null,null,null,null,null,null,null,null,null,null,null,null,null,18,3.6019999999999999]
["množství tepla na kondenzátoru",null,"Qk",{"$f":"AH69","v":194862.97909948832},"W",null,null,"přepočet mw na msv",{"$f":"(D58*D119)/(1+D117)","v":3.6868152218565919},"m3/s",null,null,"množství tepla na kondenzátoru",null,"Qk",{"$f":"BB70","v":56763.692798437383},"W",null,null,null,null,null,null,null,null,null,null,null,null,null,20,3.6733333333333333,null,null,null,null,null,null,null,null,null,null,null,null,null,null,null,null,null,null,19,3.6376666666666666]
["Požadované teplo na dohřev",null,"Qpož",{"$f":"(D134-D107)*Konstanty!F2*D119*I121+D88","v":-4125.8411784752752},"W",null,null,null,null,null,null,null,"Požadované teplo na dohřev",null,null,{"$f":"(P134-P107)*Konstanty!$F$2*P119*P58","v":-1417.7062839066236},"W",null,null,null,null,null,null,null,null,null,null,null,null,null,21,3.7090000000000001,null,null,null,null,null,null,null,null,null,null,null,null,null,null,null,null,null,null,20,3.6733333333333333]
["dosažená teplota",null,"t6",{"$f":"D121/(D58*D119*Konstanty!$F$2)+D107","v":85.526977192884061},"°C",null,null,null,null,null,null,null,"dosažená teplota",null,"t6",{"$f":"P121/(P58*P119*Konstanty!$F$2)+P107","v":75.039106437491171},"°C",null,null,null,null,null,null,null,null,null,null,null,null,null,22,3.7446666666666664,null,null,null,null,null,null,null,null,null,null,null,null,null,null,null,null,null,null,21,3.7090000000000001]
["potřeba dohřevu",null,"Qdohř",{"$f":"IF((D122-D121)>0,D122-D121,0)","v":0},"W",null,null,null,null,null,null,null,"potřeba dohřevu",null,"Qdohř",{"$f":"IF((P122-P121)>0,P122-P121,0)","v":0},"W",null,null,null,null,null,null,null,null,null,null,null,null,null,23,3.7803333333333331,null,null,null,null,null,null,null,null,null,null,null,null,null,null,null,null,null,null,22,3.7446666666666664]
["přebytečné teplo",null,"Qpřebyt",{"$f":"IF((D122-D121)<0,D121-D122,0)","v":198988.82027796359},"W",null,null,null,null,null,null,null,"přebytečné teplo",null,"Qpřebyt",{"$f":"IF((P122-P121)<0,P121-P122,0)","v":58181.399082344004},"W",null,null,null,null,null,null,null,null,null,null,null,null,null,24,3.8159999999999998,null,null,null,null,null,null,null,null,null,null,null,null,null,null,null,null,null,null,23,3.7803333333333331]
[null,null,null,null,null,null,null,null,null,null,null,null,null,null,null,null,null,null,null,null,null,null,null,null,null,null,null,null,null,null,25,3.8516666666666666,null,null,null,null,null,null,null,null,null,null,null,null,null,null,null,null,null,null,24,3.8159999999999998]
[null,null,null,null,null,null,null,null,null,null,null,null,null,null,null,null,null,null,null,null,null,null,null,null,null,null,null,null,null,null,26,3.8873333333333333,null,null,null,null,null,null,null,null,null,null,null,null,null,null,null,null,null,null,25,3.8516666666666666]
["teplota zvýšení do int",null,"tzv",{"$f":"Vypocet!D128","v":2},"°C ",null,null,null,null,null,null,null,null,"teplota zvýšení do int","tzv",{"$f":"Vypocet!P128","v":2},"°C ",null,null,null,null,null,null,null,null,null,null,null,null,null,27,3.923,null,null,null,null,null,null,null,null,null,null,null,null,null,null,null,null,null,null,26,3.8873333333333333]
["teplotní spád kondenzatoru",null,"Δt",{"$f":"Vypocet!D129","v":0},"°C ",null,null,null,null,null,null,null,null,"teplotní spád kondenzatoru","Δt",{"$f":"Vypocet!P129","v":0},"°C ",null,null,null,null,null,null,null,null,null,null,null,null,null,28,3.9586666666666668,null,null,null,null,null,null,null,null,null,null,null,null,null,null,null,null,null,null,27,3.923]
["teplota kondenzatoru",null,"tohř",{"$f":"Vypocet!D130","v":0},"°C ",null,null,null,null,null,null,null,null,"teplota kondenzatoru","tohř",{"$f":"Vypocet!P130","v":0},"°C ",null,null,null,null,null,null,null,null,null,null,null,null,null,29,3.9943333333333335,null,null,null,null,null,null,null,null,null,null,null,null,null,null,null,null,null,null,28,3.9586666666666668]
["relativní vlhkost",null,"rhohř",{"$f":"Vypocet!D131","v":0},"%",null,null,null,null,null,null,null,null,"relativní vlhkost","rhohř",{"$f":"Vypocet!P131","v":0},"%",null,null,null,null,null,null,null,null,null,null,null,null,null,30,4.03,null,null,null,null,null,null,null,null,null,null,null,null,null,null,null,null,null,null,29,3.9943333333333335]
[null,null,null,null,null,null,null,null,null,null,null,null,null,null,null,null,null,null,null,null,null,null,null,null,null,null,null,null,null,null,31,4.065666666666667,null,null,null,null,null,null,null,null,null,null,null,null,null,null,null,null,null,null,30,4.03]
["t5","parametry vyduchu za kondenzátorem",null,null,null,null,null,null,null,null,null,null,"t5","parametry vyduchu za kondenzátorem",null,null,null,null,null,null,null,null,null,null,null,null,null,null,null,null,32,4.1013333333333328]
["požadovaná teplotateplota do I",null,"t5",{"$f":"Teplota+D128","v":34},"°C",null,null,null,null,null,null,null,"požadovaná teplota do I",null,"t5",{"$f":"Teplota+P128","v":34},"°C",null,null,null,null,null,null,null,null,null,null,null,null,null,33,4.1370000000000005]
["dosažená teplota",null,"tdos",{"$f":"D123","v":85.526977192884061},"°C",null,null,null,null,null,null,null,"dosažená teplota",null,"t6",{"$f":"P123","v":75.039106437491171},null,null,null,null,null,null,null,null,null,null,null,null,null,null,34,4.1726666666666663]
[null,null,null,null,null,null,null,null,null,null,null,null,null,null,null,null,null,null,null,null,null,null,null,null,null,null,null,null,null,null,35,4.208333333333333]
["relativní vlhkost",null,"rh5",{"$f":"((D146*D116)/(D142*(0.622+D146)))*100","v":105.70964248921852},"%",null,null,null,null,null,null,null,"relativní vlhkost",null,"rh5",{"$f":"((P146*P116)/(P142*(0.622+P146)))*100","v":105.70964248921852},"%"]
["entalpie s.v.",null,"hsv5",{"$f":"Konstanty!$F$2*D134","v":34340},"J/kg",null,null,null,null,null,null,null,"entalpie s.v.",null,"hsv5",{"$f":"Konstanty!$F$2*P134","v":34340},"J/kg"]
["entalpie v.p.",null,"hvp5",{"$f":"D146*(Konstanty!$F$3*D134+Konstanty!$F$4)","v":91479.10695675938},"J/kg",null,null,null,null,null,null,null,"entalpie v.p.",null,"hvp5",{"$f":"P146*(Konstanty!$F$3*P134+Konstanty!$F$4)","v":91479.10695675938},"J/kg"]
["entalpie ",null,"h5",{"$f":"D138+D139","v":125819.10695675938},"J/kg",null,null,null,null,null,null,null,"entalpie ",null,"h5",{"$f":"P138+P139","v":125819.10695675938},"J/kg"]
[null,null,null,{"$f":"D140/1000","v":125.81910695675938},"kJ/kg",null,null,null,null,null,null,null,null,null,null,{"$f":"P140/1000","v":125.81910695675938},"kJ/kg"]
["tlak nasycené vodní páry",null,"p''vp5",{"$f":"Konstanty!$F$12^((1500.3+23.5*D134)/(234+D134))","v":5321.3250022529974},"Pa",null,null,null,null,null,null,null,"tlak nasycené vodní páry",null,"p''vp5",{"$f":"Konstanty!$F$12^((1500.3+23.5*P134)/(234+P134))","v":5321.3250022529974},"Pa",null,null,null,null,null,null,null,null,null,null,null,null,null,"dt vyp"]
["tlak  vodní páry",null,"pvp5",{"$f":"(D137/100)*D142","v":5625.1536355710432},"Pa",null,null,null,null,null,null,null,"tlak  vodní páry",null,"pvp5",{"$f":"(P137/100)*P142","v":5625.1536355710432},"Pa",null,null,null,null,null,null,null,null,null,null,null,null,null,2]
["tlak suchého vzduchu",null,"psv5",{"$f":"D148*Konstanty!$F$5*(D134+273.15)","v":97958.084656299994},"Pa",null,null,null,null,null,null,null,"tlak suchého vzduchu",null,"psv5",{"$f":"Konstanty!$F$8*Konstanty!$F$5*(P134+273.15)","v":108009.58929249999},"Pa",null,null,null,null,null,null,null,null,null,null,null,null,null,3]
["tlak směsi vlhkého vzduchu",null,"p5",{"$f":"D143+D144","v":103583.23829187104},"Pa",null,null,null,null,null,null,null,"tlak směsi vlhkého vzduchu",null,"p5",{"$f":"P143+P144","v":113634.74292807103},"Pa",null,null,null,null,null,null,null,null,null,null,null,null,null,4]
["měrná vlhkost vzduchu",null,"x5",{"$f":"D117","v":3.5698327827156977E-2},"kg/kg s.v.",null,null,null,null,null,null,null,"měrná vlhkost vzduchu",null,"x5",{"$f":"P117","v":3.5698327827156977E-2},"kg/kg s.v.",null,null,null,null,null,null,null,null,null,null,null,null,null,5]
[null,null,null,{"$f":"D146*1000","v":35.69832782715698},"g/kg s.v.",null,null,null,null,null,null,null,null,null,null,{"$f":"P146*1000","v":35.69832782715698},"g/kg s.v.",null,null,null,null,null,null,null,null,null,null,null,null,null,6,{"$f":"D124","v":0}]
["hustota vzduchu při t",null,null,{"$f":"VLOOKUP(D134,Tabulky!$V$15:$AF$75,9,0)","v":1.111},"kg/m3",null,null,null,null,null,null,null,"hustota vzduchu při t",null,null,{"$f":"VLOOKUP(P134,Tabulky!$V$15:$AF$75,9,0)","v":1.111},"kg/m3",null,null,null,null,null,null,null,null,null,null,null,null,null,7]
[null,null,null,null,null,null,null,null,null,null,null,null,null,null,null,null,null,null,null,null,null,null,null,null,null,null,null,null,null,null,8]
["navlhčení z prostoru",null,null,null,null,null,null,null,null,null,null,null,"navlhčení z prostoru",null,null,null,null,null,null,null,null,null,null,null,null,null,null,null,null,null,9]
["dx=n.100/V.ρ",null,"dx",{"$f":"(D33*100)/D57*Konstanty!$F$8","v":0.59243396843461305},"g/kg s.v",null,null,null,null,null,null,null,"dx=n.100/V.ρ",null,"dx",{"$f":"(P30*100)/P57*Konstanty!$F$8","v":5.3720302982114262E-2},"g/kg s.v",null,null,null,null,null,null,null,null,null,null,null,null,null,10]
[null,null,null,null,null,null,null,null,null,null,null,null,null,null,null,null,null,null,null,null,null,null,null,null,null,null,null,null,null,null,11]
["NUTNÉ vzduch privlhčit",null,null,null,null,null,null,null,null,null,null,null,"NUTNÉ vzduch privlhčit",null,null,null,null,null,null,null,null,null,null,null,null,null,null,null,null,null,12]
[null,null,null,null,null,null,null,null,null,null,null,null,null,null,null,null,null,null,null,null,null,null,null,null,null,null,null,null,null,null,13]
[null,null,null,null,null,null,null,null,null,null,null,null,null,null,null,null,null,null,null,null,null,null,null,null,null,null,null,null,null,null,14]
[null,null,null,null,null,null,null,null,null,null,null,null,null,null,null,null,null,null,null,null,null,null,null,null,null,null,null,null,null,null,15]

{"sheet":"V12","index":11,"n_rows":156,"n_cols":63,"rows_kept":156,"cut":false,"hidden":false,"merged":[[59,6,59,7],[4,15,4,18],[26,3,26,6],[27,3,27,6],[33,6,33,7],[40,6,40,7]]}
[null,"Legenda",null,null,"hodnotu nutno zadat",null,null,null,null,"prevzato z první "]
[null,null,null,null,"hodnota se vypočítává "]
[null,null,null,null,"pomocná hodnota"]
["Parametry vzduchu",null,null,null,null,null,"interier klidovy rezim ",null,null,null,null,null,null,null,null,null,null,null,null,null,"Produkce tepla od",null,null,"ni",{"$f":"0.85*Y5+0.75*Y6+Y7","v":60.5},null,null,"Qi=ni.6,2*(36-ti)"]
["Interiér","ti",null,null,null,null,"Interiér","ti",null,null,null,null,"Exteriér","te",null,"minimální teplota -15 (tabulka) ",null,null,null,null,"lidí",{"$f":"Y4*6.2*(36-Teplota)","v":1500.4},"W","nz",{"$f":"Vypocet!Y5","v":30},"zeny",null,"ni=0,85nz+0,75nd+nm"]
["teplota",null,"ti",{"$f":"[0]!Teplota","v":32},"°C",null,"teplota",null,"ti",{"$f":"Vypocet!J6","v":24},"°C",null,"teplota",null,"te",{"$f":"CEILING(Vypocet!P6+50,5)","v":40},"°C",null,null,null,null,null,null,"nd ",{"$f":"Vypocet!Y6","v":20},"deti",null,"nz - zeny, nd deti, nm muzi"]
["relativní vlhkost",null,"rhi",{"$f":"Vypocet!D7","v":60},"%",null,"relativní vlhkost",null,"rhi",{"$f":"Vypocet!J7","v":55},"%",null,"relativní vlhkost",null,"rhe",{"$f":"Vypocet!P7","v":100},"%",null,null,null,null,null,null,"nm",{"$f":"Vypocet!Y7","v":20},"muzi"]
["entalpie s.v.",null,"hsvi",{"$f":"Konstanty!$F$2*Teplota","v":32320},"J/kg",null,"entalpie s.v.",null,"hsvi",{"$f":"Konstanty!$F$2*J6","v":24240},"J/kg",null,"entalpie s.v.",null,"hsve",{"$f":"Konstanty!$F$2*te","v":40400},"J/kg"]
["entalpie v.p.",null,"hvpi",{"$f":"$D$16*(Konstanty!$F$3*Teplota+Konstanty!$F$4)","v":46343.062700276656},"J/kg",null,"entalpie v.p.",null,"hvpi",{"$f":"$D$16*(Konstanty!$F$3*J6+Konstanty!$F$4)","v":46076.473456956111},"J/kg",null,"entalpie v.p.",null,"hvpe",{"$f":"P16*(Konstanty!F3*P6+Konstanty!F4)","v":120532.96648331825},"J/kg",null,null,null,"Odpar z povrchů"]
["entalpie ",null,"hi",{"$f":"D8+D9","v":78663.062700276656},"J/kg",null,"entalpie ",null,"hi",{"$f":"J8+J9","v":70316.473456956111},"J/kg",null,"entalpie ",null,"he",{"$f":"IF(P8<0,P9-P8,P8+P9)","v":160932.96648331825},"J/kg",null,null,null,null,null,null,null,null,null,null,"(7+3,5*w)*S*(xp´´-x).10-3"]
[null,null,null,{"$f":"D10/1000","v":78.663062700276654},"kJ/kg",null,null,null,null,{"$f":"J10/1000","v":70.316473456956118},"kJ/kg",null,null,null,null,{"$f":"P10/1000","v":160.93296648331824},"kJ/kg",null,null,null,null,null,null,null,null,null,null,"w stredni rychlost vzduchu"]
["tlak nasycené vodní páry",null,"p''vpi",{"$f":"Konstanty!$F$12^((1500.3+23.5*D6)/(234+D6))","v":4756.6229589957475},"Pa",null,"tlak nasycené vodní páry",null,"p''vpi",{"$f":"Konstanty!$F$12^((1500.3+23.5*J6)/(234+J6))","v":2984.4262331760842},"Pa",null,"tlak nasycené vodní páry",null,"p''vpe",{"$f":"Konstanty!$F$12^((1500.3+23.5*P6)/(234+P6))","v":7377.6052976119881},"Pa",null,{"$f":"2.718^(28.926-(6148/(273.15+te)))","v":10853.822340700282},null,null,null,null,null,null,null,null,"xp´´-merna vlhkost nasyceneho vzduchu"]
["tlak  vodní páry",null,"pvpi",{"$f":"(D7/100)*D12","v":2853.9737753974482},"Pa",null,"tlak  vodní páry",null,"pvpi",{"$f":"(J7/100)*J12","v":1641.4344282468464},"Pa",null,"tlak  vodní páry",null,"pvpe",{"$f":"(P7/100)*P12","v":7377.6052976119881},"Pa",null,null,null,null,null,null,null,null,null,null,"x - merna vlhkost vzduchu nad povrchem "]
["tlak suchého vzduchu",null,"psvi",{"$f":"D18*Konstanty!$F$5*(Teplota+273.15)","v":98021.008646699993},"Pa",null,"tlak suchého vzduchu",null,"psvi",{"$f":"J18*Konstanty!$F$5*(Teplota+273.15)","v":100648.9177257},"Pa",null,"tlak suchého vzduchu",null,"psve",{"$f":"P18*Konstanty!F5*(P6+273.15)","v":97983.877177000017},"Pa",null,null,null,null,null,null,null,null,null,null,"S plocha"]
["tlak směsi vlhkého vzduchu",null,"pi",{"$f":"D13+D14","v":100874.98242209744},"Pa",null,"tlak směsi vlhkého vzduchu",null,"pi",{"$f":"J13+J14","v":102290.35215394685},"Pa",null,"tlak směsi vlhkého vzduchu",null,"pe",{"$f":"P13+P14","v":105361.482474612},"Pa"]
["měrná vlhkost vzduchu",null,"xi",{"$f":"(Konstanty!$F$5/Konstanty!$F$6)*(D13/D14)","v":1.8110682290797792E-2},"kg/kg s.v.",null,"měrná vlhkost vzduchu",null,"xi",{"$f":"(Konstanty!$F$5/Konstanty!$F$6)*(J13/J14)","v":1.0144214643132086E-2},"kg/kg s.v.",null,"měrná vlhkost vzduchu",null,"xe",{"$f":"(Konstanty!F5/Konstanty!F6)*(P13/P14)","v":4.6834382376172774E-2},"kg/kg s.v."]
[null,null,null,{"$f":"D16*1000","v":18.11068229079779},"g/kg s.v.",null,null,null,null,{"$f":"J16*1000","v":10.144214643132086},"g/kg s.v.",null,null,null,null,{"$f":"P16*1000","v":46.834382376172776},"g/kg s.v."]
["hustota vzduchu při t",null,null,{"$f":"VLOOKUP(Teplota,Tabulky!$V$15:$AF$75,9,0)","v":1.119},"kg/m3",null,"hustota vzduchu při t",null,null,{"$f":"VLOOKUP(J6,Tabulky!V15:AF75,9,0)","v":1.149},"kg/m3",null,"hustota vzduchu při t",null,null,{"$f":"VLOOKUP(te,Tabulky!V15:AF75,9,0)","v":1.0900000000000001},"kg/m3"]
[null,null,null,{"$f":"1.395-Teplota*0.004414","v":1.253752}]
["Bazén",null,null,null,null,null,null,null,"rozměry bazénu"]
["Teplota vody",null,"tsniz",{"$f":"Vypocet!D21","v":2},"°C","snížení teploty vody (dop 2-3°C)",null,null,"délka bazén","a",{"$f":"Vypocet!K21","v":25},"m"]
["tvz-(2-3)°C",null,"tvod",{"$f":"D6-D21","v":30},"°C",null,null,null,"šířka bazén","b",{"$f":"Vypocet!K22","v":12},"m"]
[]
["Mn. odpařené vody"]
["mw=ε*A*(p´´vp-pvp)",null,"mw",{"$f":"D28*$D$29*($D$12/100-$D$13/100)","v":114158.95101589795},"g/h"]
[null,null,null,{"$f":"D25/1000","v":114.15895101589796},"kg/h",null,null,null,"budova"]
["typ bazenu",null,null,{"$f":"Vypocet!AH47","v":"bazény - normální provoz"},null,null,null,null,"délka","a",{"$f":"Vypocet!K27","v":40},"m"]
["mnozstvi odp vody",null,null,{"$f":"VLOOKUP(D27,Tab_souc_odparu_bazen,7,0)","v":20},null,null,null,"[g/(hPa.m2.h)]","šířka","b",{"$f":"Vypocet!K28","v":15},"m"]
["plocha bazénu",null,"A",{"$f":"K21*K22","v":300},"m2",null,null,null,"výška","v",{"$f":"Vypocet!K29","v":7},"m","Produkce vlhkosti osobami - klidový režim"]
["Objem haly",null,"V",{"$f":"K27*K28*K29","v":4200},"m3",null,null,null,null,null,null,null,"počet osob v bazénu",null,"nos",{"$f":"Vypocet!P30","v":2}]
[null,null,null,null,null,null,null,null,null,null,null,null,"množství vlhkosti",null,"mos",{"$f":"P30*100","v":200},"g/h"]
["Produkce vlhkosti osobami - v provozu",null,null,null,null,null,null,null,null,null,null,null,null,null,null,{"$f":"P31/1000","v":0.2},"kg/h",null,null,null,null,null,null,null,null,null,null,null,null,null,"Výkon na kondenzátoru",null,null,null,"Qk",{"$f":"AH69","v":194862.97909948832},"W"]
["počet osob v bazénu",null,"nos",{"$f":"Vypocet!D33","v":60},"počet",null,"Produkce vlhkosti člověkem",null,null,null,null,null,null,null,null,{"$f":"P31/3600","v":5.5555555555555552E-2},"g/s",null,null,null,null,null,null,null,null,null,null,null,null,null,null,null,null,null,null,{"$f":"AH70","v":194.86297909948831},"kW"]
["množství vlhkosti",null,"mos",{"$f":"D33*H35","v":6300},"g/h",null,{"$f":"Vypocet!AH50","v":"člověk při středně těžké práci"},null,null,null,null,null,null,null,null,null,null,null,null,null,null,null,null,null,null,null,null,null,null,null,"Teplota požadovaná v interiéru",null,null,null,"ti",{"$f":"Teplota","v":32},"°C"]
[null,null,null,{"$f":"D34/1000","v":6.3},"kg/h",null,{"$f":"VLOOKUP(G34,Tabulky!W146:Z148,4,0)","v":"60-150"},{"$f":"IF(G35=\"60-150\",105,IF(G35=\"30-60\",45,225))","v":105},"g/h",null,null,null,"Produkce vlhkosti  - klidový režim",null,null,null,null,null,null,null,null,null,null,null,null,null,null,null,null,null,null,null,null,null,null,null,null,null,null,null,null,null,null,null,null,null,null,null,null,null,"Výkon na kondenzátoru",null,null,null,"Qk",{"$f":"BB70","v":56763.692798437383},"W"]
[null,null,null,{"$f":"D34/3600","v":1.75},"g/s",null,"rozmezí","průměr",null,null,null,"množství odpařené vody",null,null,"mw",{"$f":"Tabulky!$G$4*$D$29*($D$12/100-$D$13/100)","v":28539.737753974488},"g/h",null,null,null,null,null,null,null,null,null,null,null,null,null,null,null,null,null,null,null,null,null,null,null,null,null,null,null,null,null,null,null,null,null,null,null,null,null,null,{"$f":"BB71","v":56.763692798437383},"kW"]
["celkové množství odpařené vody",null,null,{"$f":"(D25+D34)*(I37/100+1)","v":126481.89856669286},"g/h",null,null,"korekce ",{"$f":"Vypocet!I37","v":5},"%",null,null,"celkové množství odpařené vody",null,null,{"$f":"(P36+P31)*(I37/100+1)","v":30176.724641673216},"g/h",null,null,null,null,null,null,null,null,null,null,null,null,null,null,null,null,null,null,null,null,null,null,null,null,null,null,null,null,null,null,null,null,null,"Teplota požadovaná v interiéru",null,null,null,"ti",{"$f":"J6","v":24},"°C"]
["Dimenzování průtoku vzduchu bazénové větrací jednotky pro zátěž",null,null,null,null,null,null,null,null,null,null,null,"Dimenzování průtoku vzduchu bazénové větrací jednotky pro klidový režim"]
["z množství odpařené vody",null,null,null,null,null,null,null,null,null,null,null,"z množství odpařené vody",null,null,null,null,null,null,null,null,null,null,null,null,null,null,null,null,null,null,null,null,null,null,null,null,null,null,null,null,null,null,null,null,null,null,null,null,null,"Výkonová bilance pro klidový režim"]
["požadovaná vlhkost přiváděná",null,"xpoz",{"$f":"Vypocet!D40","v":9},"g/kg",null,"doporučená hodnota 8-10 g/kg",null,null,null,null,null,"požadovaná vlhkost přiváděná",null,"xpoz",{"$f":"Vypocet!P40","v":9},"g/kg",null,"doporučená hodnota 8-10 g/kg"]
[null,null,"V1",{"$f":"(D37)/(D18*(D17-D40))","v":12406.445935942682},"m3/h",null," ",null,{"$f":"D147","v":46.835747955743166},"g/kg s.v.",null,null,null,null,"V1",{"$f":"(P36+P31)/(Konstanty!$F$8*(J17-5))","v":4560.6593112769815},"m3/h"]
["z objemu haly",null,null,null,null,null,null,null,null,null,null,null,"z objemu haly"]
["výměna vzduchu",null,"n",{"$f":"Vypocet!D43","v":1},"1/h",null,null,null,null,null,null,null,"výměna vzduchu",null,"n",{"$f":"Vypocet!P43","v":1},"1/h"]
["V=n*VH",null,"V2",{"$f":"D30*D43","v":4200},"m3/h",null,null,null,null,null,null,null,"V=n*VH",null,"V2",{"$f":"D30*P43","v":4200},"m3/h"]
["z tepelných zisků"]
[null,"tepelné ztráty","Qzt",{"$f":"Vypocet!D46","v":7},"kW",null,null,"teplotní spád výústky","dt",{"$f":"Vypocet!J46","v":8},"°C"]
[null,"tepelné zisky","Qzisk",{"$f":"Vypocet!D47","v":16},"kW"]
[null,"Množství vzduchu",null,{"$f":"((D47-D46)/J46*Konstanty!$F$2*Konstanty!$F$8)","v":1391.90625},"m3/h"]
[null,null,null,null,null,null,null,null,null,null,null,null,null,null,null,null,null,null,null,null,null,null,null,null,null,null,null,null,null,null,null,null,null,null,null,null,null,null,null,null,null,null,null,null,null,null,null,null,null,null,null,null,null,null,null,null,null,"te","teplota exteriérového vzduchu"]
["potřeba vzduchu pro osoby",null,null,null,null,null,null,null,null,null,null,null,null,null,null,null,null,null,null,null,null,null,"te","teplota exteriérového vzduchu",null,null,null,null,null,null,null,null,null,null,null,null,null,null,null,null,null,null,null,null,null,null,null,null,null,null,null,null,null,null,null,null,null,"Qpředehřev","Výkon pro předehřátí vzduchu"]
[null,null,"V2",{"$f":"D33*D52","v":3000},null,null,null,null,null,null,null,null,null,null,null,null,null,null,null,null,null,null,"Qpředehřev","Výkon pro předehřátí vzduchu",null,null,null,null,null,null,null,null,null,null,null,null,null,null,null,null,null,null,null,null,null,null,null,null,null,null,null,null,null,null,null,null,null,"Qdohřátí","Výkon spotřebovaný na dohřátí vzduchu na požadovanou úroveň"]
["množství čerstvého vzduchu/osoba",null,null,{"$f":"Vypocet!D52","v":50},"m3/h/os",null,"doporučená hodnota při zátěži (min hodnota 25m3/h) ",null,null,null,null,null,null,null,null,null,null,null,null,null,null,null,"Qdohřátí","Výkon spotřebovaný na dohřátí vzduchu na požadovanou úroveň",null,null,null,null,null,null,null,"červeně zvýrazněné pole je teplota ext vyšší než teplota exteriéru, přívod vzduchu plně čerstvý"]
[]
["Potřeba čerstvého vzduchu",null,null,{"$f":"IF(MAX(D41,D44,D48)>D51,\"Ne\",\"Ano\")","v":"Ne"},null,null,"nepočítá s tím dál samo! ",null,null,null,null,null,null,null,null,null,null,null,null,null,null,null,null,null,null,null,null,null,null,null,"Teplo odevzdané na výparníku",null,null,null,null,null,"Množství kondenzátu"]
["Množství čerstvého vzduchu",null,null,{"$f":"IF(D54=\"ano\",D51-MAX(D41,D44,D48),0)","v":0},"m3/h",null,"pouze informativní charakter, množství V čerst rozhodne projektant",null,null,null,null,null,null,null,null,null,null,null,null,null,null,null,null,null,null,null,null,null,null,null,"Qv=V*ρ*(hi-h3)",null,"Qv",{"$f":"D81","v":147350.87431255195},"W",null,"mkond = V*ρ*(xi-x3)",null,"mkond",{"$f":"IF(D58*D18*(D16-D77)<0,0,D58*D18*(D16-D77))","v":3.1236329255219682E-2},"kg/s",null,null,null,null,null,null,null,null,null,"Teplo odevzdané na výparníku",null,null,null,null,null,"Množství kondenzátu"]
[null,null,null,null,null,null,null,null,null,null,null,null,null,null,null,null,null,null,null,null,null,null,null,null,null,null,null,null,null,null,null,null,null,{"$f":"AH55/1000","v":147.35087431255195},"kW",null,null,null,null,{"$f":"AN55*1000","v":31.236329255219683},"g/s",null,null,null,null,null,null,null,null,null,"Qv=V*ρ*(hi-h3)",null,"Qv",{"$f":"P81","v":47003.773128829853},"W",null,"mkond = V*ρ*(xi-x3)",null,"mkond",{"$f":"IF(P58*J18*(J16-P77)<0,0,P58*J18*(J16-P77))","v":2.1834156452738541E-3},"kg/s"]
["průtok vzduchu",null,"V",{"$f":"MAX(D41,D44,D48)","v":12406.445935942682},"m3/h",null,null,null,null," ",null,null,"průtok vzduchu",null,"V",{"$f":"MAX(P41,P44)","v":4560.6593112769815},"m3/h",null,null,null,null,null,null,null,null,null,null,null,null,null,null,null,null,null,null,null,null,null,null,{"$f":"AN55*3600","v":112.45078531879085},"kg/h",null,null,null,null,null,null,null,null,null,null,null,null,{"$f":"BB56/1000","v":47.003773128829856},"kW",null,null,null,null,{"$f":"BH56*1000","v":2.183415645273854},"g/s"]
[null,null,"V",{"$f":"D57/3600","v":3.4462349822063003},"m3/s",null,null,null,null,null,null,null,null,null,"V",{"$f":"P57/3600","v":1.2668498086880504},"m3/s",null,null,null,null,null,null,null,null,null,null,null,null,null,"Tepelné čerpadlo (TČ)",null,null,null,"typ TČ",null,null,null,null,null,null,null,null,null,null,null,null,null,null,null,null,null,null,null,null,null,null,null,null,{"$f":"BH56*3600","v":7.8602963229858744},"kg/h"]
[null,null,null,null,null,null,null,null,null,null,null,null,null,null,null,null,null,null,null,null,null,null,null,null,null,null,null,null,null,null,"Topný faktor TČ",null,"COP",{"$f":"VLOOKUP(Teplota,'V12'!AE83:AF136,2,0)","v":4.1013333333333328},"Alfa S Duo",null,null,null,null,null,null,null,null,null,null,null,null,null,null,null,"Tepelné čerpadlo (TČ)",null,null,null,"typ TČ"]
["množství odebrané měrné vlh",null,"Δx",8.1,"g/kg s.v",null,"vstupní měrná  vlhkost do int",null,"xvyst",{"$f":"D147","v":46.835747955743166},"g/kg s.v.",null,null,null,null,null,null,null,null,null,null,null,null,null,null,null,null,null,null,null,null,null,null,null,null,null,null,null,null,null,null,null,null,null,null,null,null,null,null,null,"Topný faktor TČ",null,"COP",{"$f":"VLOOKUP(J6,'V12'!AY84:AZ132,2,0)","v":3.8159999999999998},"Alfa S Duo"]
["teplota chladiče",null,"tch",{"$f":"Vypocet!D61","v":9},"°C ",null,null,null,null,null,null,null,null,null,null,null,null,null,null,null,null,null,null,null,null,null,null,null,null,null,"Tepelná bilance TČ"]
["relativní vlhkost",null,"rhch",{"$f":"Vypocet!D62","v":100},"%",null,null,null,null,null,null,null,"množství odebrané měrné vlh",null,"Δx",{"$f":"Vypocet!P60","v":1.5},"g/kg s.v.",null,null,null,null,null,null,null,null,null,null,null,null,null,"Qk=Pel+Qv",null,null,null,null,null,null,null,null,null,null,null,null,null,null,null,null,null,null,null,"Tepelná bilance TČ"]
[null,null,null,null,null,null,null,null,null,null,null,null,"teplota chladiče",null,"tch",{"$f":"Vypocet!P61","v":9},"°C ",null,null,null,null,null,null,null,null,null,null,null,null,null,"εt = COP","εt = Qv/Pel",null,null,null,null,null,null,null,null,null,null,null,null,null,null,null,null,null,null,"Qk=Pel+Qv"]
[null,null,null,null,null,null,null,null,null,null,null,null,"relativní vlhkost",null,"rhch",{"$f":"Vypocet!P62","v":100},"%",null,null,null,null,null,null,null,null,null,null,null,null,null,"Pel=Qk/(1+Et)",null,null,null,null,null,null,null,null,null,null,null,null,null,null,null,null,null,null,null,"εt = COP","εt = Qv/Pel"]
[null,null,null,null,null,null,null,null,null,null,null,null,null,null,null,null,null,null,null,null,null,null,null,"Parametry chladiče",null,null,null,null,null,null,"Výkon kompresoru",null,"Pet",{"$f":"AH55/(AH59-1)","v":47512.104786936361},"W",null,null,null,null,null,null,null,null,null,null,null,null,null,null,null,"Pel=Qk/(1+Et)"]
["t3","parametry vyduchu za vyparnikem",null,null,null,null,null,null,null,null,null,null,"t3","parametry vyduchu za vyparnikem",null,null,null,null,null,null,null,null,null,"teplota",null,"ti",{"$f":"tch","v":9},"°C",null,null,null,null,null,{"$f":"AH65/1000","v":47.512104786936362},"kW",null,null,null,null,null,null,null,null,null,null,null,null,null,null,null,"Výkon kompresoru",null,"Pet",{"$f":"BB56/(BB60+1)","v":9759.9196696075287},"W"]
["teplota",null,"tvyp",{"$f":"W87","v":15},"°C",null,{"$f":"tvyp-te","v":-25},null,null,null,null,null,"teplota",null,"tvyp",{"$f":"W112","v":16},"°C",null,null,null,null,null,null,"relativní vlhkost",null,"rhi",{"$f":"D62","v":100},"%",null,null,"Prikon kompresoru",null,null,{"$f":"AH66/AH59","v":11.584550907087866},"kW",null,null,null,null,null,null,null,null,null,null,null,null,null,null,null,null,null,null,{"$f":"BB66/1000","v":9.7599196696075285},"kW"]
["relativní vlhkost",null,"rh3",{"$f":"IF((D74/D73)*100>100,100,(D74/D73)*100)","v":92.558526426350483},"%",null,null,null,null,null,null,null,"relativní vlhkost",null,"rh3",{"$f":"IF((P74/P73)*100>100,100,(P74/P73)*100)","v":74.957831234168935},"%",null,null,null,null,null,null,"entalpie s.v.",null,"hsvi",{"$f":"Konstanty!$F$2*AA66","v":9090},"J/kg",null,null,"Teplo na kondenzátoru"]
["entalpie s.v.",null,"h3",{"$f":"Konstanty!$F$2*D67","v":15150},"J/kg",null,null,null,null,null,null,null,"entalpie s.v.",null,"h3",{"$f":"Konstanty!$F$2*P67","v":16160},"J/kg",null,null,null,null,null,null,"entalpie v.p.",null,"hvpi",{"$f":"$AA$76*(Konstanty!$F$3*AA66+Konstanty!$F$4)","v":18311.904271787756},"J/kg",null,null,"Výkon na kondenzátoru",null,"Qk",{"$f":"AH65+AH55","v":194862.97909948832},"W",null,null,null,null,null,null,null,null,null,null,null,null,null,null,null,"Teplo na kondenzátoru"]
["entalpie v.p.",null,"h3",{"$f":"D77*(Konstanty!$F$3*D67+Konstanty!$F$4)","v":25303.000558220498},"J/kg",null,null,null,null,null,null,null,"entalpie v.p.",null,"h3",{"$f":"P77*(Konstanty!$F$3*P67+Konstanty!$F$4)","v":21865.022286924024},"J/kg",null,null,null,null,null,null,"entalpie ",null,"hi",{"$f":"AA68+AA69","v":27401.904271787756},"J/kg",null,null,null,null,null,{"$f":"AH69/1000","v":194.86297909948831},"kW",null,null,null,null,null,null,null,"  ",null,null,null,null,null,null,null,"Výkon na kondenzátoru",null,"Qk",{"$f":"BB66+BB56","v":56763.692798437383},"W"]
["entalpie ",null,"h3",{"$f":"D69+D70","v":40453.000558220498},"J/kg",null,null,null,null,null,null,null,"entalpie ",null,"h3",{"$f":"P69+P70","v":38025.022286924024},"J/kg",null,null,null,null,null,null,null,null,null,{"$f":"AA70/1000","v":27.401904271787757},"kJ/kg",null,null,null,null,null,null,null,null,null,null,null,null,null,null,null,null,null,null,null,null,null,null,null,null,null,{"$f":"BB70/1000","v":56.763692798437383},"kW",null,null,null,null,null,null,null,"  "]
[null,null,null,{"$f":"D71/1000","v":40.453000558220495},"kJ/kg",null,null,null,null,null,null,null,null,null,null,{"$f":"P71/1000","v":38.025022286924028},"kJ/kg",null,null,null,null,null,null,"tlak nasycené vodní páry",null,"p''vpi",{"$f":"Konstanty!$F$12^((1500.3+23.5*AA66)/(234+AA66))","v":1146.4717300807256},"Pa"]
["tlak nasycené vodní páry",null,"p''vp3",{"$f":"Konstanty!$F$12^((1500.3+23.5*D67)/(234+D67))","v":1704.3922173186882},"Pa",null,null,null,null,null,null,null,"tlak nasycené vodní páry",null,"p''vp3",{"$f":"Konstanty!$F$12^((1500.3+23.5*P67)/(234+P67))","v":1817.4687221052275},"Pa",null,null,null,null,null,null,"tlak  vodní páry",null,"pvpi",{"$f":"(AA67/100)*AA72","v":1146.4717300807256},"Pa",null,null,"Graf topneho faktoru ",null,null,"TnG Air 13, vzduch/voda"]
["tlak  vodní páry",null,"pvp3",{"$f":"(D77*D75)/0.622","v":1577.560320875579},"Pa",null,{"$f":"((G77*D75)/(0.622+G77))/((0.622-G77)/(0.622))","v":0},"přepočet tlaku z x",null,null,null,null,"tlak  vodní páry",null,"pvp3",{"$f":"(P77*P75)/0.622","v":1362.3351374494432},"Pa",null,{"$f":"((S77*P75)/(0.622+S77))/((0.622-S77)/(0.622))","v":1599.161688452117},"přepočet tlaku z x",null,null,null,"tlak suchého vzduchu",null,"psvi",{"$f":"AA78*Konstanty!$F$5*(AA66+273.15)","v":98003.397392999992},"Pa",null,null,null,null,null,null,null,null,null,null,null,null,null,null,null,null,null,null,null,null,null,null,"Graf topneho faktoru ",null,null,"TnG Air 13, vzduch/voda"]
["tlak suchého vzduchu",null,"psv3",{"$f":"D79*Konstanty!$F$5*(D67+273.15)","v":98019.544630499993},"Pa",null,null,null,null,null,null,null,"tlak suchého vzduchu",null,"psv3",{"$f":"P79*Konstanty!$F$5*(P67+273.15)","v":98027.697191300002},"Pa",null,null,null,null,null,null,"tlak směsi vlhkého vzduchu",null,"pi",{"$f":"AA73+AA74","v":99149.869123080716},"Pa",null,null,{"$f":"Vypocet!AE107","v":"teplota"},{"$f":"Vypocet!AF107","v":-18},{"$f":"Vypocet!AG107","v":-15},{"$f":"Vypocet!AH107","v":-10},{"$f":"Vypocet!AI107","v":-5},{"$f":"Vypocet!AJ107","v":0},{"$f":"Vypocet!AK107","v":5},{"$f":"Vypocet!AL107","v":10},{"$f":"Vypocet!AM107","v":15}]
["tlak směsi vlhkého vzduchu",null,"p3",{"$f":"D74+D75","v":99597.104951375572},"Pa",null,null,null,null,null,null,null,"tlak směsi vlhkého vzduchu",null,"p3",{"$f":"P74+P75","v":99390.032328749439},"Pa",null,null,null,null,null,null,"měrná vlhkost vzduchu",null,"xi",{"$f":"(Konstanty!$F$5/Konstanty!$F$6)*(AA73/AA74)","v":7.276561763593062E-3},"kg/kg s.v.",null,null,{"$f":"Vypocet!AE108","v":"vykon"},{"$f":"Vypocet!AF108","v":4.7},{"$f":"Vypocet!AG108","v":5.75},{"$f":"Vypocet!AH108","v":7},{"$f":"Vypocet!AI108","v":8.24},{"$f":"Vypocet!AJ108","v":9.4600000000000009},{"$f":"Vypocet!AK108","v":10.69},{"$f":"Vypocet!AL108","v":11.8},{"$f":"Vypocet!AM108","v":13.1},null,null,null,null,null,null,null,null,null,null,null,{"$f":"Vypocet!AY108","v":"teplota"},{"$f":"Vypocet!AZ108","v":-18},{"$f":"Vypocet!BA108","v":-15},{"$f":"Vypocet!BB108","v":-10},{"$f":"Vypocet!BC108","v":-5},{"$f":"Vypocet!BD108","v":0},{"$f":"Vypocet!BE108","v":5},{"$f":"Vypocet!BF108","v":10},{"$f":"Vypocet!BG108","v":15}]
["měrná vlhkost vzduchu",null,"x3",{"$f":"D16-deltaT/1000","v":1.0010682290797792E-2},"kg/kg s.v.",null,{"$f":"IF(tvyp<D82,0,D16)","v":0},"vezme x z Ti když tvyp<rosny bod",null,null,null,null,"měrná vlhkost vzduchu",null,"x3",{"$f":"J16-P62/1000","v":8.6442146431320865E-3},"kg/kg s.v.",null,{"$f":"IF(tvyp<P82,0,J16)","v":1.0144214643132086E-2},"vezme x z Ti když tvyp<rosny bod",null,null,null,null,null,null,{"$f":"AA76*1000","v":7.2765617635930617},"g/kg s.v.",null,null,{"$f":"Vypocet!AE109","v":"el prikon"},{"$f":"Vypocet!AF109","v":2.2400000000000002},{"$f":"Vypocet!AG109","v":2.4700000000000002},{"$f":"Vypocet!AH109","v":2.72},{"$f":"Vypocet!AI109","v":2.94},{"$f":"Vypocet!AJ109","v":3.2},{"$f":"Vypocet!AK109","v":3.37},{"$f":"Vypocet!AL109","v":3.55},{"$f":"Vypocet!AM109","v":3.85},null,null,null,null,null,null,null,null,null,null,null,{"$f":"Vypocet!AY109","v":"vykon"},{"$f":"Vypocet!AZ109","v":4.7},{"$f":"Vypocet!BA109","v":5.75},{"$f":"Vypocet!BB109","v":7},{"$f":"Vypocet!BC109","v":8.24},{"$f":"Vypocet!BD109","v":9.4600000000000009},{"$f":"Vypocet!BE109","v":10.69},{"$f":"Vypocet!BF109","v":11.8},{"$f":"Vypocet!BG109","v":13.1}]
[null,null,null,{"$f":"D77*1000","v":10.010682290797792},"g/kg s.v.",null,null,null,null,null,null,null,null,null,null,{"$f":"P77*1000","v":8.6442146431320861},"g/kg s.v.",null,null,null,null,null,null,"hustota vzduchu při t",null,null,{"$f":"VLOOKUP(AA66,Tabulky!$V$15:$AF$75,9,0)","v":1.21},"kg/m3",null,null,{"$f":"Vypocet!AE110","v":"COP"},{"$f":"Vypocet!AF110","v":2.1},{"$f":"Vypocet!AG110","v":2.33},{"$f":"Vypocet!AH110","v":2.57},{"$f":"Vypocet!AI110","v":2.8},{"$f":"Vypocet!AJ110","v":2.96},{"$f":"Vypocet!AK110","v":3.17},{"$f":"Vypocet!AL110","v":3.32},{"$f":"Vypocet!AM110","v":3.4},null,null,null,null,null,null,null,null,null,null,null,{"$f":"Vypocet!AY110","v":"el prikon"},{"$f":"Vypocet!AZ110","v":2.2400000000000002},{"$f":"Vypocet!BA110","v":2.4700000000000002},{"$f":"Vypocet!BB110","v":2.72},{"$f":"Vypocet!BC110","v":2.94},{"$f":"Vypocet!BD110","v":3.2},{"$f":"Vypocet!BE110","v":3.37},{"$f":"Vypocet!BF110","v":3.55},{"$f":"Vypocet!BG110","v":3.85}]
["hustota vzduchu při t",null,null,{"$f":"VLOOKUP(tvyp,Tabulky!$V$15:$AF$75,9,0)","v":1.1850000000000001},"kg/m3",null,null,null,null,null,null,null,"hustota vzduchu při t",null,null,{"$f":"VLOOKUP(P67,Tabulky!$V$15:$AF$75,9,0)","v":1.181},"kg/m3",null,null,null,null,null,null,null,null,null,{"$f":"1.395-Teplota*0.004414","v":1.253752},null,null,null,null,null,null,{"$f":"AH78-AG78","v":0.23999999999999977},0.22999999999999998,0.16000000000000014,0.20999999999999996,0.14999999999999991,8.0000000000000071E-2,"průměr",{"$f":"AVERAGE(AG79:AM79)","v":0.17833333333333332},"prumer/1",{"$f":"AO79/5","v":3.5666666666666666E-2},null,null,null,null,null,null,null,{"$f":"Vypocet!AY111","v":"COP"},{"$f":"Vypocet!AZ111","v":2.1},{"$f":"Vypocet!BA111","v":2.33},{"$f":"Vypocet!BB111","v":2.57},{"$f":"Vypocet!BC111","v":2.8},{"$f":"Vypocet!BD111","v":2.96},{"$f":"Vypocet!BE111","v":3.17},{"$f":"Vypocet!BF111","v":3.32},{"$f":"Vypocet!BG111","v":3.4}]
[null,null,null,null,null,null,null,null,null,null,null,null,null,null,null,null,null,null,null,null,null,null,null,null,null,null,null,null,null,null,null,"popis závislosti",null,"y=0,18571x+2,96",null,null,null,null,null,null,null,null,null,null,null,null,null,null,null,null,null,null,null,{"$f":"BB79-BA79","v":0.23999999999999977},0.22999999999999998,0.16000000000000014,0.20999999999999996,0.14999999999999991,8.0000000000000071E-2,"průměr",{"$f":"AVERAGE(BA80:BG80)","v":0.17833333333333332},"prumer/1",{"$f":"BI80/5","v":3.5666666666666666E-2}]
["teplo získané na výparníku",null,"Qv",{"$f":"D58*D18*(D10-D71)","v":147350.87431255195},"W",null,null,null,null,null,null,null,"teplo získané na výparníku",null,"Qv",{"$f":"P58*J18*(J10-P71)","v":47003.773128829853},"W",null,null,null,"A","Ti",{"$f":"Teplota","v":32},null,"B","tch",{"$f":"AA66","v":9},null,null,null,null,null,null,null,null,null,null,null,null,null,null,null,null,null,null,null,null,null,null,null,null,"popis závislosti",null,"y=0,18571x+2,96"]
[null,"rosný bod ",null,{"$f":"(243.5*LN(($D$7/100)*Konstanty!$F$12^((17.67*Teplota)/(243.5+Teplota))))/(17.67-(LN(($D$7/100)*Konstanty!$F$12^((17.67*Teplota)/(243.5+Teplota)))))","v":23.274251871309211},"°C ",null,null,null,null,null,null,null,null,"rosný bod ",null,{"$f":"(243.5*LN((J7/100)*Konstanty!$F$12^((17.67*J6)/(243.5+J6))))/(17.67-(LN((J7/100)*Konstanty!$F$12^((17.67*J6)/(243.5+J6)))))","v":14.413817952855092},"°C ",null,null,null,null,"xi",{"$f":"D16","v":1.8110682290797792E-2},null,null,"xch",{"$f":"AA76","v":7.276561763593062E-3},null,null,null,"teplota","COP",null,-18,2.1]
[null,null,null,null,null,null,null,null,null,null,null,null,null,null,null,null,null,null,null,null,null,"xi",{"$f":"D17","v":18.11068229079779},null,null,"xch",{"$f":"AA77","v":7.2765617635930617},null,null,null,-18,{"$f":"$AQ$79*AE83+$AJ$78","v":2.3180000000000001},null,-15,2.33,null,null,null,null,null,null,null,null,null,null,null,null,null,null,null,"teplota","COP"]
["Distribuce tepla v závislosti na externí teplotě",null,null,null,null,null,null,null,null,null,null,null,null,null,null,null,null,null,null,null,null,null,null,null,null,null,null,null,null,null,-17,2.3536666666666668,null,-10,2.57,null,null,null,null,null,null,null,null,null,null,null,null,null,null,null,-18,{"$f":"$AQ$79*AY84+$AJ$78","v":2.3180000000000001}]
["teplota předehřevu te",null,"tpřed",{"$f":"Vypocet!D85","v":5},"°C",null,null,null,null,null,null,null,null,null,null,null,null,null,null,null,null,"dx",{"$f":"deltaT","v":8.1},null,"výpočet teplochy při teplote chladice",null,null,null,null,null,-16,2.3893333333333331,null,-5,2.8,null,null,null,null,null,null,null,null,null,null,null,null,null,null,null,-17,2.3536666666666668]
["množství čerst vzduchu",null,null,{"$f":"Vypocet!D86","v":30},"%",null,null,null,null,null,null,null,null,null,null,null,null,null,null,null,null,"th",{"$f":"((W81-AA81)*W83+(AA83-W83)*W81-(W81-AA81)*(W83-W85))/(AA83-W83)","v":14.804326430355252},null,"počítá s přímkou ti - tch a na ní počítá bod",null,null,null,null,null,-15,2.4249999999999998,null,0,2.96,null,null,null,null,null,null,null,null,null,null,null,null,null,null,null,-16,2.3893333333333331]
["množství předehřívaného vzd",null,null,{"$f":"D58*(D86/100)","v":1.03387049466189},"m3/h",null,null,null,null,null,null,null,null,null,null,null,null,null,null,null,null,null,{"$f":"ROUND(W86,0)","v":15},null,null,null,null,null,null,null,-14,2.4606666666666666,null,5,3.17,null,null,null,null,null,null,null,null,null,null,null,null,null,null,null,-15,2.4249999999999998]
["potřeba tepla na předehřev",null,null,{"$f":"IF(D85>te,((D87*P18)/(1+P16))*(D85-te)*P18*Konstanty!$F$2,0)","v":0},"W",null,null,null,null,null,null,null,null,null,null,null,null,null,null,null,null,null,null,null,null,null,null,null,null,null,-13,2.4963333333333333,null,10,3.32,null,null,null,null,null,null,null,null,null,null,null,null,null,null,null,-14,2.4606666666666666]
[null,null,null,null,null,null,null,null,null,null,null,null,null,null,null,null,null,null,null,null,null,null,null,null,null,null,null,null,null,null,-12,2.532,null,15,3.4,null,null,null,null,null,null,null,null,null,null,null,null,null,null,null,-13,2.4963333333333333]
["t4","Předehřev exteriérového vzduchu",null,null,null,null,null,null,null,null,null,null,"t4","Předehřev exteriérového vzduchu",null,null,null,null,null,null,null,null,null,"Parametry chladiče klidovy rezim",null,null,null,null,null,null,-11,2.5676666666666668,null,null,null,null,null,null,null,null,null,null,null,null,null,null,null,null,null,null,-12,2.532]
["teplota předehřevu",null,"tpředehřev",{"$f":"IF($D$85>te,$D$85,te)","v":40},"°C",null,null,null,null,null,null,null,"teplota předehřevu",null,"tpředehřev",{"$f":"IF($D$85>te,$D$85,te)","v":40},"°C",null,null,null,null,null,null,"teplota",null,"ti",{"$f":"P63","v":9},"°C",null,null,-10,2.6033333333333335,null,null,null,null,null,null,null,null,null,null,null,null,null,null,null,null,null,null,-11,2.5676666666666668]
[null,null,"rhpředehřev",{"$f":"((D101*P15)/(D97*(0.622+D101)))*100","v":100.00291576295257},"%",null,null,null,null,null,null,null,null,null,"rhpředehřev",{"$f":"((P101*P15)/(P97*(0.622+P101)))*100","v":100.00291576295257},"%",null,null,null,null,null,null,"relativní vlhkost",null,"rhi",{"$f":"P64","v":100},"%",null,null,-9,2.6389999999999998,null,null,null,null,null,null,null,null,null,null,null,null,null,null,null,null,null,null,-10,2.6033333333333335]
["entalpie s.v.",null,"hsv4",{"$f":"Konstanty!$F$2*D91","v":40400},"J/kg",null,null,null,null,null,null,null,"entalpie s.v.",null,"hsv4",{"$f":"Konstanty!$F$2*P91","v":40400},"J/kg",null,null,null,null,null,null,"entalpie s.v.",null,"hsvi",{"$f":"Konstanty!$F$2*AA91","v":9090},"J/kg",null,null,-8,2.6746666666666665,null,null,null,null,null,null,null,null,null,null,null,null,null,null,null,null,null,null,-9,2.6389999999999998]
["entalpie v.p.",null,"hvp4",{"$f":"D101*(Konstanty!$F$3*D91+Konstanty!$F$4)","v":120532.96648331825},"J/kg",null,null,null,null,null,null,null,"entalpie v.p.",null,"hvp4",{"$f":"P101*(Konstanty!$F$3*P91+Konstanty!$F$4)","v":120532.96648331825},"J/kg",null,null,null,null,null,null,"entalpie v.p.",null,"hvpi",{"$f":"$AA$76*(Konstanty!$F$3*AA91+Konstanty!$F$4)","v":18311.904271787756},"J/kg",null,null,-7,2.7103333333333333,null,null,null,null,null,null,null,null,null,null,null,null,null,null,null,null,null,null,-8,2.6746666666666665]
["entalpie ",null,"h4",{"$f":"D93+D94","v":160932.96648331825},"J/kg",null,null,null,null,null,null,null,"entalpie ",null,"h4",{"$f":"P93+P94","v":160932.96648331825},"J/kg",null,null,null,null,null,null,"entalpie ",null,"hi",{"$f":"AA93+AA94","v":27401.904271787756},"J/kg",null,null,-6,2.746,null,null,null,null,null,null,null,null,null,null,null,null,null,null,null,null,null,null,-7,2.7103333333333333]
[null,null,null,{"$f":"D95/1000","v":160.93296648331824},"kJ/kg",null,null,null,null,null,null,null,null,null,null,{"$f":"P95/1000","v":160.93296648331824},"kJ/kg",null,null,null,null,null,null,null,null,null,{"$f":"AA95/1000","v":27.401904271787757},"kJ/kg",null,null,-5,2.7816666666666667,null,null,null,null,null,null,null,null,null,null,null,null,null,null,null,null,null,null,-6,2.746]
["tlak nasycené vodní páry",null,"p''vp4",{"$f":"Konstanty!$F$12^((1500.3+23.5*D91)/(234+D91))","v":7377.6052976119881},"Pa",null,null,null,null,null,null,null,"tlak nasycené vodní páry",null,"p''vp4",{"$f":"Konstanty!$F$12^((1500.3+23.5*P91)/(234+P91))","v":7377.6052976119881},"Pa",null,null,null,null,null,null,"tlak nasycené vodní páry",null,"p''vpi",{"$f":"Konstanty!$F$12^((1500.3+23.5*AA91)/(234+AA91))","v":1146.4717300807256},"Pa",null,null,-4,2.8173333333333335,null,null,null,null,null,null,null,null,null,null,null,null,null,null,null,null,null,null,-5,2.7816666666666667]
["tlak  vodní páry",null,"pvp4",{"$f":"(D92/100)*D97","v":7377.8204110940433},"Pa",null,null,null,null,null,null,null,"tlak  vodní páry",null,"pvp4",{"$f":"(P92/100)*P97","v":7377.8204110940433},"Pa",null,null,null,null,null,null,"tlak  vodní páry",null,"pvpi",{"$f":"(AA92/100)*AA97","v":1146.4717300807256},"Pa",null,null,-3,2.8529999999999998,null,null,null,null,null,null,null,null,null,null,null,null,null,null,null,null,null,null,-4,2.8173333333333335]
["tlak suchého vzduchu",null,"psv4",{"$f":"D103*Konstanty!$F$5*(D91+273.15)","v":97983.877177000017},"Pa",null,null,null,null,null,null,null,"tlak suchého vzduchu",null,"psv4",{"$f":"P103*Konstanty!$F$5*(P91+273.15)","v":97983.877177000017},"Pa",null,null,null,null,null,null,"tlak suchého vzduchu",null,"psvi",{"$f":"AA103*Konstanty!$F$5*(AA91+273.15)","v":98003.397392999992},"Pa",null,null,-2,2.8886666666666665,null,null,null,null,null,null,null,null,null,null,null,null,null,null,null,null,null,null,-3,2.8529999999999998]
["tlak směsi vlhkého vzduchu",null,"p4",{"$f":"D98+D99","v":105361.69758809406},"Pa",null,null,null,null,null,null,null,"tlak směsi vlhkého vzduchu",null,"p4",{"$f":"P98+P99","v":105361.69758809406},"Pa",null,null,null,null,null,null,"tlak směsi vlhkého vzduchu",null,"pi",{"$f":"AA98+AA99","v":99149.869123080716},"Pa",null,null,-1,2.9243333333333332,null,null,null,null,null,null,null,null,null,null,null,null,null,null,null,null,null,null,-2,2.8886666666666665]
["měrná vlhkost vzduchu",null,"x4",{"$f":"P16","v":4.6834382376172774E-2},"kg/kg s.v.",null,null,null,null,null,null,null,"měrná vlhkost vzduchu",null,"x4",{"$f":"P16","v":4.6834382376172774E-2},"kg/kg s.v.",null,null,null,null,null,null,"měrná vlhkost vzduchu",null,"xi",{"$f":"(Konstanty!$F$5/Konstanty!$F$6)*(AA98/AA99)","v":7.276561763593062E-3},"kg/kg s.v.",null,null,0,2.96,null,null,null,null,null,null,null,null,null,null,null,null,null,null,null,null,null,null,-1,2.9243333333333332]
[null,null,null,{"$f":"D101*1000","v":46.834382376172776},"g/kg s.v.",null,null,null,null,null,null,null,null,null,null,{"$f":"P101*1000","v":46.834382376172776},"g/kg s.v.",null,null,null,null,null,null,null,null,null,{"$f":"AA101*1000","v":7.2765617635930617},"g/kg s.v.",null,null,1,2.9956666666666667,null,null,null,null,null,null,null,null,null,null,null,null,null,null,null,null,null,null,0,2.96]
["hustota vzduchu při t",null,null,{"$f":"VLOOKUP(D91,Tabulky!$V$15:$AF$75,9,0)","v":1.0900000000000001},"kg/m3",null,null,null,null,null,null,null,"hustota vzduchu při t",null,null,{"$f":"VLOOKUP(P91,Tabulky!$V$15:$AF$75,9,0)","v":1.0900000000000001},"kg/m3",null,null,null,null,null,null,"hustota vzduchu při t",null,null,{"$f":"VLOOKUP(AA91,Tabulky!$V$15:$AF$75,9,0)","v":1.21},"kg/m3",null,null,2,3.0313333333333334,null,null,null,null,null,null,null,null,null,null,null,null,null,null,null,null,null,null,1,2.9956666666666667]
[null,null,null,null,null,null,null,null,null,null,null,null,null,null,null,null,null,null,null,null,null,null,null,null,null,null,{"$f":"1.395-Teplota*0.004414","v":1.253752},null,null,null,3,3.0670000000000002,null,null,null,null,null,null,null,null,null,null,null,null,null,null,null,null,null,null,2,3.0313333333333334]
["t4'","smíšení vzduchu s exteriérovým",null,null,null,null,null,null,null,null,null,null,"t4'","smíšení vzduchu s exteriérovým",null,null,null,null,null,null,null,null,null,null,null,null,null,null,null,null,4,3.1026666666666665,null,null,null,null,null,null,null,null,null,null,null,null,null,null,null,null,null,null,3,3.0670000000000002]
["Množství čerstvého vzduchu",null,"Včerstv",{"$f":"IF(D91>tvyp,100,$D$86)","v":100},"%",null,null,null,null,null,null,null,"Množství čerstvého vzduchu",null,"Včerstv",{"$f":"IF(P91>tvyp,100,$D$86)","v":100},"%",null,null,null,"A","Ti",{"$f":"J6","v":24},null,"B","tch",{"$f":"AA91","v":9},null,null,null,5,3.1383333333333332,null,null,null,null,null,null,null,null,null,null,null,null,null,null,null,null,null,null,4,3.1026666666666665]
["teplota vzduchu",null,"t4",{"$f":"ROUND(((((D106/100)*D58)*D91+((1-(D106/100))*D58)*tvyp)/D58),0)","v":40},"°C",null,null,null,null,null,null,null,"teplota vzduchu",null,"t4",{"$f":"ROUND(((((P106/100)*P58)*P91+((1-(P106/100))*P58)*tvyp)/P58),0)","v":40},"°C",null,null,null,null,"xi",{"$f":"J16","v":1.0144214643132086E-2},null,null,"xch",{"$f":"AA101","v":7.276561763593062E-3},null,null,null,6,3.1739999999999999,null,null,null,null,null,null,null,null,null,null,null,null,null,null,null,null,null,null,5,3.1383333333333332]
["relativní vlhkost",null,"rh4",{"$f":"(1-(D106/100))*D68+(D106/100)*D92","v":100.00291576295257},"%",null,null,null,null,null,null,null,"relativní vlhkost",null,"rh4",{"$f":"(1-(P106/100))*P68+(P106/100)*P92","v":100.00291576295257},"%",null,null,null,null,"xi",{"$f":"J17","v":10.144214643132086},null,null,"xch",{"$f":"AA102","v":7.2765617635930617},null,null,null,7,3.2096666666666667,null,null,null,null,null,null,null,null,null,"  ",null,null,null,null,null,null,null,null,6,3.1739999999999999]
["entalpie s.v.",null,"hsv4",{"$f":"Konstanty!$F$2*D107","v":40400},"J/kg",null,null,null,null,null,null,null,"entalpie s.v.",null,"hsv4",{"$f":"Konstanty!$F$2*P107","v":40400},"J/kg",null,null,null,null,null,null,null,null,null,null,null,null,null,8,3.2453333333333334,null,null,null,null,null,null,null,null,null,null,null,null,null,null,null,null,null,null,7,3.2096666666666667]
["entalpie v.p.",null,"hvp4",{"$f":"D117*(Konstanty!$F$3*D107+Konstanty!$F$4)","v":120536.48093890063},"J/kg",null,null,null,null,null,null,null,"entalpie v.p.",null,"hvp4",{"$f":"P117*(Konstanty!$F$3*P107+Konstanty!$F$4)","v":120536.48093890063},"J/kg",null,null,null,null,"dx",{"$f":"P62","v":1.5},null,null,null,null,null,null,null,9,3.2810000000000001,null,null,null,null,null,null,null,null,null,null,null,null,null,null,null,null,null,null,8,3.2453333333333334]
["entalpie ",null,"h4",{"$f":"D109+D110","v":160936.48093890061},"J/kg",null,null,null,null,null,null,null,"entalpie ",null,"h4",{"$f":"P109+P110","v":160936.48093890061},"J/kg",null,null,null,null,"th",{"$f":"((W106-AA106)*W108+(AA108-W108)*W106-(W106-AA106)*(W108-W110))/(AA108-W108)","v":16.153862079842494},null,null,null,null,null,null,null,10,3.3166666666666664,null,null,null,null,null,null,null,null,null,null,null,null,null,null,null,null,null,null,9,3.2810000000000001]
[null,null,null,{"$f":"D111/1000","v":160.93648093890062},"kJ/kg",null,null,null,null,null,null,null,null,null,null,{"$f":"P111/1000","v":160.93648093890062},"kJ/kg",null,null,null,null,null,{"$f":"ROUND(W111,0)","v":16},null,null,null,null,null,null,null,11,3.3523333333333332,null,null,null,null,null,null,null,null,null,null,null,null,null,null,null,null,null,null,10,3.3166666666666664]
["tlak nasycené vodní páry",null,"p''vp4",{"$f":"Konstanty!$F$12^((1500.3+23.5*D107)/(234+D107))","v":7377.6052976119881},"Pa",null,null,null,null,null,null,null,"tlak nasycené vodní páry",null,"p''vp4",{"$f":"Konstanty!$F$12^((1500.3+23.5*P107)/(234+P107))","v":7377.6052976119881},"Pa",null,null,null,null,null,null,null,null,null,null,null,null,null,12,3.3879999999999999,null,null,null,null,null,null,null,null,null,null,null,null,null,null,null,null,null,null,11,3.3523333333333332]
["tlak  vodní páry",null,"pvp4",{"$f":"(D108/100)*D113","v":7377.8204110940433},"Pa",null,null,null,null,null,null,null,"tlak  vodní páry",null,"pvp4",{"$f":"(P108/100)*P113","v":7377.8204110940433},"Pa",null,null,null,null,null,null,null,null,null,null,null,null,null,13,3.4236666666666666,null,null,null,null,null,null,null,null,null,null,null,null,null,null,null,null,null,null,12,3.3879999999999999]
["tlak suchého vzduchu",null,"psv4",{"$f":"D119*Konstanty!$F$5*(D107+273.15)","v":97983.877177000017},"Pa",null,null,null,null,null,null,null,"tlak suchého vzduchu",null,"psv4",{"$f":"P119*Konstanty!$F$5*(P107+273.15)","v":97983.877177000017},"Pa",null,null,null,null,null,null,null,null,null,null,null,null,null,14,3.4593333333333334,null,null,null,null,null,null,null,null,null,null,null,null,null,null,null,null,null,null,13,3.4236666666666666]
["tlak směsi vlhkého vzduchu",null,"p4",{"$f":"D114+D115","v":105361.69758809406},"Pa",null,null,null,null,null,null,null,"tlak směsi vlhkého vzduchu",null,"p4",{"$f":"P114+P115","v":105361.69758809406},"Pa",null,null,null,null,null,null,null,null,null,null,null,null,null,15,3.4950000000000001,null,null,null,null,null,null,null,null,null,null,null,null,null,null,null,null,null,null,14,3.4593333333333334]
["měrná vlhkost vzduchu",null,"x4",{"$f":"(Konstanty!$F$5/Konstanty!$F$6)*(D114/D115)","v":4.6835747955743169E-2},"kg/kg s.v.",null,null,null,null,null,null,null,"měrná vlhkost vzduchu",null,"x4",{"$f":"(Konstanty!$F$5/Konstanty!$F$6)*(P114/P115)","v":4.6835747955743169E-2},"kg/kg s.v.",null,null,null,null,null,null,null,null,null,null,null,null,null,16,3.5306666666666668,null,null,null,null,null,null,null,null,null,null,null,null,null,null,null,null,null,null,15,3.4950000000000001]
[null,null,null,{"$f":"D117*1000","v":46.835747955743166},"g/kg s.v.",null,null,null,null,null,null,null,null,null,null,{"$f":"P117*1000","v":46.835747955743166},"g/kg s.v.",null,null,null,null,null,null,null,null,null,null,null,null,null,17,3.5663333333333331,null,null,null,null,null,null,null,null,null,null,null,null,null,null,null,null,null,null,16,3.5306666666666668]
["hustota vzduchu při t",null,null,{"$f":"VLOOKUP(D107,Tabulky!$V$15:$AF$75,9,0)","v":1.0900000000000001},"kg/m3",null,null,null,null,null,null,null,"hustota vzduchu při t",null,null,{"$f":"VLOOKUP(P107,Tabulky!$V$15:$AF$75,9,0)","v":1.0900000000000001},"kg/m3",null,null,null,null,null,null,null,null,null,null,null,null,null,18,3.6019999999999999,null,null,null,null,null,null,null,null,null,null,null,null,null,null,null,null,null,null,17,3.5663333333333331]
[null,null,null,null,null,null,null,null,null,null,null,null,null,null,null,null,null,null,null,null,null,null,null,null,null,null,null,null,null,null,19,3.6376666666666666,null,null,null,null,null,null,null,null,null,null,null,null,null,null,null,null,null,null,18,3.6019999999999999]
["množství tepla na kondenzátoru",null,"Qk",{"$f":"AH69","v":194862.97909948832},"W",null,null,"přepočet mw na msv",{"$f":"(D58*D119)/(1+D117)","v":3.5883338316830922},"m3/s",null,null,"množství tepla na kondenzátoru",null,"Qk",{"$f":"BB70","v":56763.692798437383},"W",null,null,null,null,null,null,null,null,null,null,null,null,null,20,3.6733333333333333,null,null,null,null,null,null,null,null,null,null,null,null,null,null,null,null,null,null,19,3.6376666666666666]
["Požadované teplo na dohřev",null,"Qpož",{"$f":"(D134-D107)*Konstanty!F2*D119*I121+D88","v":-23702.380291799498},"W",null,null,null,null,null,null,null,"Požadované teplo na dohřev",null,null,{"$f":"(P134-P107)*Konstanty!$F$2*P119*P58","v":-8368.0497263080488},"W",null,null,null,null,null,null,null,null,null,null,null,null,null,21,3.7090000000000001,null,null,null,null,null,null,null,null,null,null,null,null,null,null,null,null,null,null,20,3.6733333333333333]
["dosažená teplota",null,"t6",{"$f":"D121/(D58*D119*Konstanty!$F$2)+D107","v":91.361367641940859},"°C",null,null,null,null,null,null,null,"dosažená teplota",null,"t6",{"$f":"P121/(P58*P119*Konstanty!$F$2)+P107","v":80.700302690587364},"°C",null,null,null,null,null,null,null,null,null,null,null,null,null,22,3.7446666666666664,null,null,null,null,null,null,null,null,null,null,null,null,null,null,null,null,null,null,21,3.7090000000000001]
["potřeba dohřevu",null,"Qdohř",{"$f":"IF((D122-D121)>0,D122-D121,0)","v":0},"W",null,null,null,null,null,null,null,"potřeba dohřevu",null,"Qdohř",{"$f":"IF((P122-P121)>0,P122-P121,0)","v":0},"W",null,null,null,null,null,null,null,null,null,null,null,null,null,23,3.7803333333333331,null,null,null,null,null,null,null,null,null,null,null,null,null,null,null,null,null,null,22,3.7446666666666664]
["přebytečné teplo",null,"Qpřebyt",{"$f":"IF((D122-D121)<0,D121-D122,0)","v":218565.35939128781},"W",null,null,null,null,null,null,null,"přebytečné teplo",null,"Qpřebyt",{"$f":"IF((P122-P121)<0,P121-P122,0)","v":65131.74252474543},"W",null,null,null,null,null,null,null,null,null,null,null,null,null,24,3.8159999999999998,null,null,null,null,null,null,null,null,null,null,null,null,null,null,null,null,null,null,23,3.7803333333333331]
[null,null,null,null,null,null,null,null,null,null,null,null,null,null,null,null,null,null,null,null,null,null,null,null,null,null,null,null,null,null,25,3.8516666666666666,null,null,null,null,null,null,null,null,null,null,null,null,null,null,null,null,null,null,24,3.8159999999999998]
[null,null,null,null,null,null,null,null,null,null,null,null,null,null,null,null,null,null,null,null,null,null,null,null,null,null,null,null,null,null,26,3.8873333333333333,null,null,null,null,null,null,null,null,null,null,null,null,null,null,null,null,null,null,25,3.8516666666666666]
["teplota zvýšení do int",null,"tzv",{"$f":"Vypocet!D128","v":2},"°C ",null,null,null,null,null,null,null,null,"teplota zvýšení do int","tzv",{"$f":"Vypocet!P128","v":2},"°C ",null,null,null,null,null,null,null,null,null,null,null,null,null,27,3.923,null,null,null,null,null,null,null,null,null,null,null,null,null,null,null,null,null,null,26,3.8873333333333333]
["teplotní spád kondenzatoru",null,"Δt",{"$f":"Vypocet!D129","v":0},"°C ",null,null,null,null,null,null,null,null,"teplotní spád kondenzatoru","Δt",{"$f":"Vypocet!P129","v":0},"°C ",null,null,null,null,null,null,null,null,null,null,null,null,null,28,3.9586666666666668,null,null,null,null,null,null,null,null,null,null,null,null,null,null,null,null,null,null,27,3.923]
["teplota kondenzatoru",null,"tohř",{"$f":"Vypocet!D130","v":0},"°C ",null,null,null,null,null,null,null,null,"teplota kondenzatoru","tohř",{"$f":"Vypocet!P130","v":0},"°C ",null,null,null,null,null,null,null,null,null,null,null,null,null,29,3.9943333333333335,null,null,null,null,null,null,null,null,null,null,null,null,null,null,null,null,null,null,28,3.9586666666666668]
["relativní vlhkost",null,"rhohř",{"$f":"Vypocet!D131","v":0},"%",null,null,null,null,null,null,null,null,"relativní vlhkost","rhohř",{"$f":"Vypocet!P131","v":0},"%",null,null,null,null,null,null,null,null,null,null,null,null,null,30,4.03,null,null,null,null,null,null,null,null,null,null,null,null,null,null,null,null,null,null,29,3.9943333333333335]
[null,null,null,null,null,null,null,null,null,null,null,null,null,null,null,null,null,null,null,null,null,null,null,null,null,null,null,null,null,null,31,4.065666666666667,null,null,null,null,null,null,null,null,null,null,null,null,null,null,null,null,null,null,30,4.03]
["t5","parametry vyduchu za kondenzátorem",null,null,null,null,null,null,null,null,null,null,"t5","parametry vyduchu za kondenzátorem",null,null,null,null,null,null,null,null,null,null,null,null,null,null,null,null,32,4.1013333333333328]
["požadovaná teplotateplota do I",null,"t5",{"$f":"Teplota+D128","v":34},"°C",null,null,null,null,null,null,null,"požadovaná teplota do I",null,"t5",{"$f":"Teplota+P128","v":34},"°C",null,null,null,null,null,null,null,null,null,null,null,null,null,33,4.1370000000000005]
["dosažená teplota",null,"tdos",{"$f":"D123","v":91.361367641940859},"°C",null,null,null,null,null,null,null,"dosažená teplota",null,"t6",{"$f":"P123","v":80.700302690587364},null,null,null,null,null,null,null,null,null,null,null,null,null,null,34,4.1726666666666663]
[null,null,null,null,null,null,null,null,null,null,null,null,null,null,null,null,null,null,null,null,null,null,null,null,null,null,null,null,null,null,35,4.208333333333333]
["relativní vlhkost",null,"rh5",{"$f":"((D146*D116)/(D142*(0.622+D146)))*100","v":138.65034605639184},"%",null,null,null,null,null,null,null,"relativní vlhkost",null,"rh5",{"$f":"((P146*P116)/(P142*(0.622+P146)))*100","v":138.65034605639184},"%"]
["entalpie s.v.",null,"hsv5",{"$f":"Konstanty!$F$2*D134","v":34340},"J/kg",null,null,null,null,null,null,null,"entalpie s.v.",null,"hsv5",{"$f":"Konstanty!$F$2*P134","v":34340},"J/kg"]
["entalpie v.p.",null,"hvp5",{"$f":"D146*(Konstanty!$F$3*D134+Konstanty!$F$4)","v":120019.41428146922},"J/kg",null,null,null,null,null,null,null,"entalpie v.p.",null,"hvp5",{"$f":"P146*(Konstanty!$F$3*P134+Konstanty!$F$4)","v":120019.41428146922},"J/kg"]
["entalpie ",null,"h5",{"$f":"D138+D139","v":154359.41428146922},"J/kg",null,null,null,null,null,null,null,"entalpie ",null,"h5",{"$f":"P138+P139","v":154359.41428146922},"J/kg"]
[null,null,null,{"$f":"D140/1000","v":154.35941428146921},"kJ/kg",null,null,null,null,null,null,null,null,null,null,{"$f":"P140/1000","v":154.35941428146921},"kJ/kg"]
["tlak nasycené vodní páry",null,"p''vp5",{"$f":"Konstanty!$F$12^((1500.3+23.5*D134)/(234+D134))","v":5321.3250022529974},"Pa",null,null,null,null,null,null,null,"tlak nasycené vodní páry",null,"p''vp5",{"$f":"Konstanty!$F$12^((1500.3+23.5*P134)/(234+P134))","v":5321.3250022529974},"Pa",null,null,null,null,null,null,null,null,null,null,null,null,null,"dt vyp"]
["tlak  vodní páry",null,"pvp5",{"$f":"(D137/100)*D142","v":7378.0355304090817},"Pa",null,null,null,null,null,null,null,"tlak  vodní páry",null,"pvp5",{"$f":"(P137/100)*P142","v":7378.0355304090817},"Pa",null,null,null,null,null,null,null,null,null,null,null,null,null,2]
["tlak suchého vzduchu",null,"psv5",{"$f":"D148*Konstanty!$F$5*(D134+273.15)","v":97958.084656299994},"Pa",null,null,null,null,null,null,null,"tlak suchého vzduchu",null,"psv5",{"$f":"Konstanty!$F$8*Konstanty!$F$5*(P134+273.15)","v":108009.58929249999},"Pa",null,null,null,null,null,null,null,null,null,null,null,null,null,3]
["tlak směsi vlhkého vzduchu",null,"p5",{"$f":"D143+D144","v":105336.12018670907},"Pa",null,null,null,null,null,null,null,"tlak směsi vlhkého vzduchu",null,"p5",{"$f":"P143+P144","v":115387.62482290907},"Pa",null,null,null,null,null,null,null,null,null,null,null,null,null,4]
["měrná vlhkost vzduchu",null,"x5",{"$f":"D117","v":4.6835747955743169E-2},"kg/kg s.v.",null,null,null,null,null,null,null,"měrná vlhkost vzduchu",null,"x5",{"$f":"P117","v":4.6835747955743169E-2},"kg/kg s.v.",null,null,null,null,null,null,null,null,null,null,null,null,null,5]
[null,null,null,{"$f":"D146*1000","v":46.835747955743166},"g/kg s.v.",null,null,null,null,null,null,null,null,null,null,{"$f":"P146*1000","v":46.835747955743166},"g/kg s.v.",null,null,null,null,null,null,null,null,null,null,null,null,null,6,{"$f":"D124","v":0}]
["hustota vzduchu při t",null,null,{"$f":"VLOOKUP(D134,Tabulky!$V$15:$AF$75,9,0)","v":1.111},"kg/m3",null,null,null,null,null,null,null,"hustota vzduchu při t",null,null,{"$f":"VLOOKUP(P134,Tabulky!$V$15:$AF$75,9,0)","v":1.111},"kg/m3",null,null,null,null,null,null,null,null,null,null,null,null,null,7]
[null,null,null,null,null,null,null,null,null,null,null,null,null,null,null,null,null,null,null,null,null,null,null,null,null,null,null,null,null,null,8]
["navlhčení z prostoru",null,null,null,null,null,null,null,null,null,null,null,"navlhčení z prostoru",null,null,null,null,null,null,null,null,null,null,null,null,null,null,null,null,null,9]
["dx=n.100/V.ρ",null,"dx",{"$f":"(D33*100)/D57*Konstanty!$F$8","v":0.59243396843461305},"g/kg s.v",null,null,null,null,null,null,null,"dx=n.100/V.ρ",null,"dx",{"$f":"(P30*100)/P57*Konstanty!$F$8","v":5.3720302982114262E-2},"g/kg s.v",null,null,null,null,null,null,null,null,null,null,null,null,null,10]
[null,null,null,null,null,null,null,null,null,null,null,null,null,null,null,null,null,null,null,null,null,null,null,null,null,null,null,null,null,null,11]
["NUTNÉ vzduch privlhčit",null,null,null,null,null,null,null,null,null,null,null,"NUTNÉ vzduch privlhčit",null,null,null,null,null,null,null,null,null,null,null,null,null,null,null,null,null,12]
[null,null,null,null,null,null,null,null,null,null,null,null,null,null,null,null,null,null,null,null,null,null,null,null,null,null,null,null,null,null,13]
[null,null,null,null,null,null,null,null,null,null,null,null,null,null,null,null,null,null,null,null,null,null,null,null,null,null,null,null,null,null,14]
[null,null,null,null,null,null,null,null,null,null,null,null,null,null,null,null,null,null,null,null,null,null,null,null,null,null,null,null,null,null,15]

{"sheet":"Tabulky","index":12,"n_rows":666,"n_cols":34,"rows_kept":666,"cut":false,"hidden":false,"merged":[[140,22,143,22],[144,22,144,26],[155,22,155,26],[157,22,157,26],[163,22,163,26],[1,8,2,10],[2,0,2,5],[9,1,10,1],[9,3,10,3],[9,2,10,2],[9,0,10,0],[9,4,10,4],[9,5,10,5],[9,6,10,6],[9,7,10,7],[3,0,3,5],[4,0,4,5],[5,0,5,5],[6,0,6,5],[7,0,7,5],[11,15,12,15],[11,16,12,16],[3,8,3,10],[4,8,4,10],[5,8,5,10],[6,8,6,10],[11,9,12,9],[11,12,12,12],[11,13,12,13],[11,8,12,8],[12,22,13,22],[12,23,13,23],[12,24,13,24],[12,25,13,25],[12,26,13,26],[12,27,13,27],[12,28,13,28],[12,29,13,29],[12,30,13,30],[12,31,13,31]]}
["Součinitel odparu vody z vodní hladiny (100Pa)",null,null,null,null,null,"ε",null,"Produkce vlhkosti "]
[null,null,null,null,null,null,"[g/(hPa.m2.h)]",null,"Zdroj",null,null,"Intezita"]
["vodní plocha zakryta folií",null,null,null,null,null,0.5,null,null,null,null,"g/h"]
["klidná vodní hladina",null,null,null,null,null,5,null,"člověk - lehká práce",null,null,"30-60"]
["bazény RD s malou obsazeností",null,null,null,null,null,15,null,"člověk - středně těžka práce",null,null,"60-150"]
["bazény - normální provoz",null,null,null,null,null,20,null,"člověk - těžká práce",null,null,"150-300",null,null,null,null,null,null,null,null,null," "]
["bazény s vodními atrakcemi",null,null,null,null,null,28,null,"sprchování",null,null,2600]
["bazény s vlnami",null,null,null,null,null,35]
["tlak nasycene vodni pary nad vodou ",null,null,null,"tlak nasycene vodni pary nad ledem ",null,null,null,"Goff-Gratchova rovnice",null,null,"10,79574*(1-(273,16/V15))+5,028*LOG(V15/273,16)+(1,50475*(10^-4))*(1-10^(-8,2969*((V15/273,16)-1)))+(0,42873*(10^-3))*(10^(4,76955*(1-(273,16/V15)))-1)+0,78614"]
["Teplota","tlak syté páry","Teplota","tlak syté páry","Teplota","tlak syté páry","Teplota","tlak syté páry"]
[null,null,null,null,null,null,null,null,"tabulka",null,null,null,"Tlaky syté páry vzduchu při konkrétní teplotě"]
["T ","Log(p´´vp)","t ","p´´vp","T ","Log(p´´vp)","t ","p´´vp","Teplota","tlak syté páry",null,null,"Teplota","tlak syté páry",null,"Teplota","tlak syté páry",null,null,null,null,"p (kPa)",84,86,88,90,92,94,96,98,100,101.4]
["[K]",null,"[°C]","[Pa]","[K]",null,"[°C]","[Pa]",null,null,null,null,null,null,null,null,null,null,null,null,null,"h(m)",1502,1315,1132,953,778,606,438,273,111,0]
[249.15,{"$f":"10.79574*(1-(273.16/A14))+5.028*LOG10(A14/273.16)+(1.50475*(10^-4))*(1-10^(-8.2969*((A14/273.16)-1)))+(0.42873*(10^-3))*(10^(4.76955*(1-(273.16/A14)))-1)+0.78614","v":-0.45605615189548587},{"$f":"A14-273.15","v":-23.999999999999972},{"$f":"(10^B14)*100","v":34.989992396174188},{"$f":"G14+273.15","v":249.14999999999998},{"$f":"-9.09718*((273.16/E14)-1)-3.56654*(LOG10(273.16/E14))+0.876793*(1-(E14/273.16))+LOG10(6.1071)","v":-0.15627660482798089},-24,{"$f":"(10^F14)*100","v":69.778783715113391},"t ","p''vp",null,null,"t ","p''vp","ln(p''vp)","t ","p''vp","ln(p''vp)",null,null,null,"t (°C)",null,null,null,null,null,null,null,null,null,null,"-"]
[250.15,-0.39993152194212767,-22.999999999999972,39.816994766988167,250.14999999999998,-0.11341051802807678,-23,77.017511477879339,"[°C]","k[Pa]",null,null,"[°C]","[Pa]","[Pa]","[°C]","[Pa]","[Pa]",null,null,null,-20,1.1559999999999999,1.1830000000000001,1.2110000000000001,1.238,1.266,1.2929999999999999,1.321,1.3480000000000001,1.3759999999999999,1.395,0,{"$f":"AF15-AF16","v":5.0000000000001155E-3}]
[251.15,-0.34422196537895189,-21.999999999999972,45.266616573194078,251.14999999999998,-7.0886695959459955E-2,-22,84.940204849629879,-15,0.1651,null,null,-15,{"$f":"Konstanty!$F$12^O16","v":165.73480010913977},{"$f":"28.926-(6148/(273.15+I16))","v":5.1103889211698572},-15,{"$f":"Konstanty!$F$12^R16","v":165.73480010913977},{"$f":"28.926-(6148/(273.15+P16))","v":5.1103889211698572},null,null,null,-19,1.151,1.179,1.206,1.234,1.2609999999999999,1.288,1.3160000000000001,1.343,1.371,1.39,0,{"$f":"AF16-AF17","v":6.0000000000000053E-3}]
[252.15,-0.28892246381889863,-20.999999999999972,51.413543386712476,252.14999999999998,-2.8701164244131494E-2,-21,93.604954338345365,-14,0.18099999999999999,null,null,-14,{"$f":"Konstanty!$F$12^O17","v":181.68744291875007},5.2022878641713248,-14.9,{"$f":"Konstanty!$F$12^R17","v":167.2702624231965},5.1196108422071624,null,null,null,-18,1.147,1.1739999999999999,1.2010000000000001,1.2290000000000001,1.256,1.2829999999999999,1.3109999999999999,1.3380000000000001,1.365,1.3839999999999999,1E-3,4.9999999999998934E-3]
[253.15,-0.23402808960350951,-19.999999999999972,58.340736902187842,253.14999999999998,1.314998946961321E-2,-20,103.07420396730933,-13,0.19819999999999999,null,null,-13,{"$f":"Konstanty!$F$12^O18","v":199.03492260428155},5.2934802998270207,-14.8,{"$f":"Konstanty!$F$12^R18","v":168.8187449247142},5.1288256241532757,null,null,null,-17,1.1419999999999999,1.17,1.1970000000000001,1.224,1.2509999999999999,1.278,1.306,1.333,1.36,1.379,1E-3,4.9999999999998934E-3]
[254.15,-0.17953400322165458,-18.999999999999972,66.140275072249679,254.14999999999998,5.4670616718351717E-2,-19,113.41503123338568,-12,0.217,null,null,-12,{"$f":"Konstanty!$F$12^O19","v":217.8865129020885},5.3839743442465995,-14.7,{"$f":"Konstanty!$F$12^R19","v":170.38034734650779},5.138033275295026,null,null,null,-16,1.1379999999999999,1.165,1.1919999999999999,1.2190000000000001,1.246,1.2729999999999999,1.3,1.3280000000000001,1.355,1.3740000000000001,1E-3,6.0000000000000053E-3]
[255.15,-0.12543545083873431,-17.999999999999972,74.914269526778838,255.14999999999998,9.5864509406341503E-2,-18,124.69944179520813,-11,0.2374,null,null,-11,{"$f":"Konstanty!$F$12^O20","v":238.35901171274517},5.473777989700551,-14.6,{"$f":"Konstanty!$F$12^R20","v":171.9551700989621},5.1472338039063956,null,null,null,-15,1.133,1.1599999999999999,1.1870000000000001,1.214,1.2410000000000001,1.268,1.2949999999999999,1.3220000000000001,1.349,1.3680000000000001,1E-3,5.0000000000001155E-3]
[256.14999999999998,-7.1727761930252654E-2,-17,84.775866625511028,256.14999999999998,0.13673540096075443,-17,137.00467946517225,-10,0.2596,null,null,-10,{"$f":"Konstanty!$F$12^O21","v":260.57718345074937},5.5628991069732052,-14.5,{"$f":"Konstanty!$F$12^R21","v":173.54331427401277},5.1564272182485951,null,null,null,-14,1.129,1.1559999999999999,1.1830000000000001,1.21,1.2370000000000001,1.264,1.29,1.3169999999999999,1.3440000000000001,1.363,1E-3,4.9999999999998934E-3]
[257.14999999999998,-1.8406347014065627E-2,-16,95.850338949718477,257.14999999999998,0.17728696746012651,-16,150.4135520909276,-9,0.28339999999999999,null,null,-9,{"$f":"Konstanty!$F$12^O22","v":284.67422253613427},5.6513454476623082,-14.4,{"$f":"Konstanty!$F$12^R22","v":175.14488164913112},5.1656135265700485,null,null,null,-13,1.125,1.1519999999999999,1.1779999999999999,1.2,1.232,1.2589999999999999,1.2849999999999999,1.3120000000000001,1.339,1.3580000000000001,1E-3,5.0000000000001155E-3]
[258.14999999999998,3.453330452406167E-2,-15,108.2762745229563,258.14999999999998,0.21752282873667428,-15,165.01477392358936,-8,0.30959999999999999,null,null,-8,{"$f":"Konstanty!$F$12^O23","v":310.79223876994052},5.7391246464265464,-14.3,{"$f":"Konstanty!$F$12^R23","v":176.7599746913381},5.1747927371064293,null,null,null,-12,1.1200000000000001,1.147,1.1739999999999999,1.2,1.2270000000000001,1.254,1.2809999999999999,1.3069999999999999,1.3340000000000001,1.353,1E-3,6.0000000000000053E-3]
[259.14999999999998,8.709562651663505E-2,-14,122.20687156429943,259.14999999999998,0.25744654945323975,-14,180.90332508121168,-7,0.3377,null,null,-7,{"$f":"Konstanty!$F$12^O24","v":339.08276534913961},5.8262442231824139,-14.2,{"$f":"Konstanty!$F$12^R24","v":178.38869656123819},5.1839648580807065,null,null,null,-11,1.1160000000000001,1.143,1.169,1.196,1.222,1.2490000000000001,1.276,1.302,1.329,1.347,1E-3,4.9999999999998934E-3]
[260.14999999999998,0.13928497801707285,-13,137.8113471215427,260.14999999999998,0.29706164015552572,-13,198.18082872703809,-6,0.36820000000000003,null,null,-6,{"$f":"Konstanty!$F$12^O25","v":369.70729028997863},5.9127115852517278,-14.1,{"$f":"Konstanty!$F$12^R25","v":180.03115111706416},5.193129897703141,null,null,null,-10,1.1120000000000001,1.1379999999999999,1.165,1.1910000000000001,1.218,1.244,1.2709999999999999,1.2969999999999999,1.3240000000000001,1.3420000000000001,1E-3,5.0000000000001155E-3]
[261.14999999999998,0.19110564522322726,-12,155.27646850794901,261.14999999999998,0.3363715583002711,-12,216.95594659272243,-5,0.4012,null,null,-5,{"$f":"Konstanty!$F$12^O26","v":402.8378120418696},5.9985340294611191,-14,{"$f":"Konstanty!$F$12^R26","v":181.68744291875007},5.2022878641713248,null,null,null,-9,1.1080000000000001,1.1339999999999999,1.1599999999999999,1.1870000000000001,1.2130000000000001,1.24,1.266,1.292,1.319,1.337,1E-3,4.9999999999998934E-3]
[262.14999999999998,0.24256184332596731,-11,174.80821707584482,262.14999999999998,0.37537970926002379,-11,237.34479348706094,-4,0.43690000000000001,null,null,-4,{"$f":"Konstanty!$F$12^O27","v":438.65742008679109},6.0837187441946838,-13.9,{"$f":"Konstanty!$F$12^R27","v":183.35767723201863},5.2114387656702021,null,null,null,-8,1.1040000000000001,1.1299999999999999,1.1559999999999999,1.1819999999999999,1.2090000000000001,1.2350000000000001,1.2609999999999999,1.2869999999999999,1.3140000000000001,1.3320000000000001,1E-3,5.0000000000001155E-3]
[263.14999999999998,0.29365771828672588,-10,196.63359450520974,263.14999999999998,0.41408944730511449,-10,259.47137144073213,-3,0.47560000000000002,null,null,-3,{"$f":"Konstanty!$F$12^O28","v":477.360901331783},6.1682728114010708,-13.8,{"$f":"Konstanty!$F$12^R28","v":185.04196003248859},5.2205826103720803,null,null,null,-7,1.099,1.1259999999999999,1.1519999999999999,1.1779999999999999,1.204,1.23,1.256,1.2829999999999999,1.3089999999999999,1.327,2E-3,4.9999999999998934E-3]
[264.14999999999998,0.34439734854768078,-9,221.00258246702998,264.14999999999998,0.452504076563438,-9,283.46802414712965,-2,0.51729999999999998,null,null,-2,{"$f":"Konstanty!$F$12^O29","v":519.1553731143681},6.2522032085561463,-13.7,{"$f":"Konstanty!$F$12^R29","v":186.74039800980862},5.2297194064366899,null,null,null,-6,1.095,1.121,1.147,1.1739999999999999,1.2,1.226,1.252,1.278,1.304,1.3220000000000001,2E-3,5.0000000000001155E-3]
[265.14999999999998,0.39478474667806152,-8,248.19026724126419,265.14999999999998,0.49062685195865563,-8,309.47591236855817,-1,0.56240000000000001,null,null,-1,{"$f":"Konstanty!$F$12^O30","v":564.26094365268909},6.3355168105823942,-13.6,{"$f":"Konstanty!$F$12^R30","v":188.45309857179817},5.2388491620111672,null,null,null,-5,1.091,1.117,1.143,1.169,1.1950000000000001,1.2210000000000001,1.2470000000000001,1.2729999999999999,1.2989999999999999,1.3169999999999999,2E-3,4.9999999999998934E-3]
[266.14999999999998,0.44482386095975318,-7,278.49914162943691,266.14999999999998,0.52846098012731357,-7,337.64551098572394,0,0.61070000000000002,null,null,0,{"$f":"Konstanty!$F$12^O31","v":612.91140078376202},6.4182203917261553,-13.5,{"$f":"Konstanty!$F$12^R31","v":190.18016984862265},5.2479718852301147,null,null,null,-4,1.087,1.113,1.139,1.165,1.1910000000000001,1.2170000000000001,1.242,1.268,1.294,1.3120000000000001,2E-3,5.0000000000001155E-3]
[267.14999999999998,0.49451857691534273,-6,312.26159730410819,267.14999999999998,0.56600962031551705,-6,368.13712837681982,1,0.65649999999999997,null,null,1,{"$f":"Konstanty!$F$12^O32","v":656.56129835500371},{"$f":"23.58-(4044.2/(235.6+I32))","v":6.4870160608622136},-13.4,{"$f":"Konstanty!$F$12^R32","v":191.92172069697392},5.25708758421559,null,null,null,-3,1.083,1.109,1.135,1.1599999999999999,1.1859999999999999,1.212,1.238,1.264,1.2889999999999999,1.3069999999999999,2E-3,4.0000000000000036E-3]
[268.14999999999998,0.54387271878140608,-5,349.84262158331302,268.14999999999998,0.60327588525561959,-5,401.12144882017242,2,0.70540000000000003,null,null,2,{"$f":"Konstanty!$F$12^O33","v":705.53489322215296},6.5589562289562267,-13.3,{"$f":"Konstanty!$F$12^R33","v":193.67786070428329},5.2661962670771558,null,null,null,-2,1.079,1.105,1.131,1.1559999999999999,1.1819999999999999,1.208,1.2330000000000001,1.2589999999999999,1.2849999999999999,1.3029999999999999,3.0000000000000001E-3,4.9999999999998934E-3]
[269.14999999999998,0.59289005092975677,-4,391.64271350968289,269.14999999999998,0.64026284202346717,-4,436.78009862174775,3,0.75739999999999996,null,null,3,{"$f":"Konstanty!$F$12^O34","v":757.70443185285455},6.6302933780385587,-13.2,{"$f":"Konstanty!$F$12^R34","v":195.44870019295033},5.275297941911905,null,null,null,-1,1.075,1.101,1.1259999999999999,1.1519999999999999,1.1779999999999999,1.2030000000000001,1.2290000000000001,1.254,1.28,1.298,3.0000000000000001E-3,5.0000000000001155E-3]
[270.14999999999998,0.6415742792392406,-3,438.10103505317801,270.14999999999998,0.67697351287673369,-3,475.30623667556409,4,0.81289999999999996,null,null,4,{"$f":"Konstanty!$F$12^O35","v":813.24714797392562},6.7010350584307155,-13.1,{"$f":"Konstanty!$F$12^R35","v":197.23435022458369},5.2843926168044533,null,null,null,0,1.071,1.097,1.1220000000000001,1.1479999999999999,1.173,1.1990000000000001,1.224,1.25,1.2749999999999999,1.2929999999999999,3.0000000000000001E-3,4.9999999999998934E-3]
[271.14999999999998,0.68992905242040425,-2,489.6988142450632,271.14999999999998,0.71341087607477771,-2,516.90517017115371,5,0.87180000000000002,null,null,5,{"$f":"Konstanty!$F$12^O36","v":872.348233816625},6.7711886949293429,-13,{"$f":"Konstanty!$F$12^R36","v":199.03492260428155},5.2934802998270207,null,null,null,1,1.0669999999999999,1.093,1.1180000000000001,1.1439999999999999,1.169,1.194,1.22,1.2450000000000001,1.2709999999999999,1.288,3.0000000000000001E-3,4.0000000000000036E-3]
[272.14999999999998,0.73795796329533314,-1,546.96301809129068,272.14999999999998,0.74957786668052784,-1,561.79499616789235,6,0.93459999999999999,null,null,6,{"$f":"Konstanty!$F$12^O37","v":935.20110280091342},6.8407615894039715,-12.9,{"$f":"Konstanty!$F$12^R37","v":200.85052988490514},5.3025609990393825,null,null,null,2,1.0629999999999999,1.089,1.1140000000000001,1.139,1.165,1.19,1.2150000000000001,1.2410000000000001,1.266,1.284,3.0000000000000001E-3,5.0000000000001155E-3]
[273.16000000000003,0.78613999999999995,{"$f":"A38-273.16","v":0},611.13900109256883,273.14999999999998,0.78547737734485223,0,610.20726976097853,7,1.0009999999999999,null,null,7,{"$f":"Konstanty!$F$12^O38","v":1002.0076569651748},6.9097609233305839,-12.8,{"$f":"Konstanty!$F$12^R38","v":202.68128537140004},5.3116347224889537,null,null,null,3,1.06,1.085,1.1100000000000001,1.135,1.161,1.1859999999999999,1.2110000000000001,1.236,1.2609999999999999,1.2789999999999999,4.0000000000000001E-3,4.9999999999998934E-3]
[274.14999999999998,0.83305229735456021,{"$f":"A39-273.15","v":1},680.85134126939431,274.14999999999998,0.8211122590738591,1,662.38769956822728,8,1.0720000000000001,null,null,8,{"$f":"Konstanty!$F$12^O39","v":1072.97855909745},6.9781937602627231,-12.7,{"$f":"Konstanty!$F$12^R39","v":204.52730312511983},5.3207014782107862,null,null,null,4,1.056,1.081,1.1060000000000001,1.131,1.1559999999999999,1.181,1.2070000000000001,1.232,1.2569999999999999,1.274,4.0000000000000001E-3,4.0000000000000036E-3]
[275.14999999999998,0.88012463767315385,2,758.79530957593317,275.14999999999998,0.85648532197953453,2,718.59687127052496,9,1.1419999999999999,null,null,9,{"$f":"Konstanty!$F$12^O40","v":1148.3335095204791},7.0460670482420262,-12.6,{"$f":"Konstanty!$F$12^R40","v":206.38869796817536},5.3297612742275895,null,null,null,5,1.052,1.077,1.1020000000000001,1.127,1.1519999999999999,1.177,1.202,1.2270000000000001,1.252,1.27,4.0000000000000001E-3,5.0000000000001155E-3]
[276.14999999999998,0.92688495223221257,3,845.05495430119595,276.14999999999998,0.89159933601418806,3,779.1109999419707,10,1.2270000000000001,null,null,10,{"$f":"Konstanty!$F$12^O41","v":1228.3015274787804},7.1133876221498369,-12.5,{"$f":"Konstanty!$F$12^R41","v":208.26558548780974},5.3388141185497773,null,null,null,6,1.048,1.073,1.0980000000000001,1.123,1.1479999999999999,1.173,1.198,1.2230000000000001,1.248,1.2649999999999999,4.0000000000000001E-3,4.0000000000000036E-3]
[277.14999999999998,0.97333657218173042,4,940.45186533068124,277.14999999999998,0.92645703168906435,4,844.22271190796994,11,1.3120000000000001,null,null,11,{"$f":"Konstanty!$F$12^O42","v":1313.1212370722396},7.1801622060016221,-12.4,{"$f":"Konstanty!$F$12^R42","v":210.1580820407813},5.3478600191754531,null,null,null,7,1.044,1.069,1.0940000000000001,1.119,1.1439999999999999,1.169,1.194,1.2190000000000001,1.2430000000000001,1.2609999999999999,4.0000000000000001E-3,4.9999999999998934E-3]
[278.14999999999998,1.0194827796314101,5,1045.8822189843963,278.14999999999998,0.96106110077754359,5,914.24185687132638,12,1.401,null,null,12,{"$f":"Konstanty!$F$12^O43","v":1403.0411576767883},7.2463974151857826,-12.3,{"$f":"Konstanty!$F$12^R43","v":212.06630475778218},5.3568989840904671,null,null,null,8,1.0409999999999999,1.0660000000000001,1.0900000000000001,1.115,1.1399999999999999,1.165,1.1890000000000001,1.214,1.2390000000000001,1.256,5.0000000000000001E-3,4.0000000000000036E-3]
[279.14999999999998,1.0653268086697461,6,1162.3229383892217,279.14999999999998,0.99541419700331324,6,989.49635104730703,13,1.4970000000000001,null,null,13,{"$f":"Konstanty!$F$12^O44","v":1498.3199987889677},7.3120997586484293,-12.2,{"$f":"Konstanty!$F$12^R44","v":213.99037154787129},5.365931021268441,null,null,null,9,1.0369999999999999,1.0620000000000001,1.0860000000000001,1.111,1.1359999999999999,1.161,1.1850000000000001,1.21,1.2350000000000001,1.252,5.0000000000000001E-3,4.9999999999998934E-3]
[280.14999999999998,1.110871846352228,7,1290.8383107996062,280.14999999999998,1.0295189367138833,7,1070.3330520488662,14,1.597,null,null,14,{"$f":"Konstanty!$F$12^O45","v":1599.2269592274674},7.3772756410256406,-12.1,{"$f":"Konstanty!$F$12^R45","v":215.9304011029173},5.374956138670747,null,null,null,10,1.0329999999999999,1.0580000000000001,1.083,1.107,1.1319999999999999,1.1559999999999999,1.181,1.206,1.23,1.2470000000000001,6.0000000000000001E-3,4.0000000000000036E-3]
[281.14999999999998,{"$f":"10.79574*(1-(273.16/A46))+5.028*LOG10(A46/273.16)+(1.50475*(10^-4))*(1-10^(-8.2969*((A46/273.16)-1)))+(0.42873*(10^-3))*(10^(4.76955*(1-(273.16/A46)))-1)+0.78614","v":1.1561210336599907},8,{"$f":"(10^B46)*100","v":1432.5870917735876},{"$f":"G46+273.15","v":281.14999999999998},{"$f":"-9.09718*((273.16/E46)-1)-3.56654*(LOG10(273.16/E46))+0.876793*(1-(E46/273.16))+LOG10(6.1071)","v":1.0633778995397973},8,{"$f":"(10^F46)*100","v":1157.1186662626542},15,1.704,null,null,15,{"$f":"Konstanty!$F$12^O46","v":1706.0420306210135},7.4419313647246597,-12,{"$f":"Konstanty!$F$12^R46","v":217.8865129020885},5.3839743442465995,null,null,null,11,1.03,1.054,1.079,1.103,1.1279999999999999,1.1519999999999999,1.177,1.2010000000000001,1.226,1.2430000000000001,6.0000000000000001E-3,4.0000000000000036E-3]
[282.14999999999998,1.2010774664302002,9,1588.8301277950966,282.14999999999998,1.0969936290399216,9,1250.2406894552269,16,1.8169999999999999,null,null,16,{"$f":"Konstanty!$F$12^O47","v":1819.0563051084462},7.5060731319554819,-11.9,{"$f":"Konstanty!$F$12^R47","v":219.85882721633314},5.3929856459330132,null,null,null,12,1.026,1.0509999999999999,1.075,1.099,1.1240000000000001,1.1479999999999999,1.173,1.1970000000000001,1.222,1.2390000000000001,7.0000000000000001E-3,5.0000000000001155E-3]
[283.14999999999998,1.245744196259327,10,1760.9385306954589,283.14999999999998,1.1303686333331142,10,1350.1083813466003,17,1.9359999999999999,null,null,17,{"$f":"Konstanty!$F$12^O48","v":1938.5722871731289},7.5697070467141714,-11.8,{"$f":"Konstanty!$F$12^R48","v":221.84746511290402},{"$f":"28.926-(6148/(273.15+P48))","v":5.4019900516548631},null,null,null,13,1.0229999999999999,1.0469999999999999,1.071,1.0960000000000001,1.1200000000000001,1.1439999999999999,1.169,1.1930000000000001,1.2170000000000001,1.234,7.0000000000000001E-3,4.0000000000000036E-3]
[284.14999999999998,1.2901242313804739,11,1950.4024390706657,284.14999999999998,1.1635053857166464,11,1457.1537748856001,18,2.0619999999999998,null,null,18,{"$f":"Konstanty!$F$12^O49","v":2064.9042095304571},7.6328391167192411,-11.7,{"$f":"Konstanty!$F$12^R49","v":223.85254845989704},5.4109875693249165,null,null,null,14,1.0189999999999999,1.0429999999999999,1.0680000000000001,1.0920000000000001,1.1160000000000001,1.1399999999999999,1.165,1.1890000000000001,1.2130000000000001,1.23,8.0000000000000002E-3,4.0000000000000036E-3]
[285.14999999999998,1.3342205375158094,12,2158.8404038183194,285.14999999999998,1.1964063252716821,12,1571.8327209575955,19,2.1960000000000002,null,null,19,{"$f":"Konstanty!$F$12^O50","v":2198.3783529838352},7.6954752553024335,-11.6,{"$f":"Konstanty!$F$12^R50","v":225.87419993080042},5.4199782068438083,null,null,null,15,1.0149999999999999,1.04,1.0640000000000001,1.0880000000000001,1.1120000000000001,1.1359999999999999,1.161,1.1850000000000001,1.2090000000000001,1.226,8.0000000000000002E-3,4.0000000000000036E-3]
[286.14999999999998,1.378036038705114,13,2388.0094369327121,286.14999999999998,1.2290738574561286,13,1694.6259692507194,20,2.3370000000000002,null,null,20,{"$f":"Konstanty!$F$12^O51","v":2339.333370161004},7.7576212832550855,-11.5,{"$f":"Konstanty!$F$12^R51","v":227.91254300908764},5.4289619721001294,null,null,null,16,1.012,1.036,1.06,1.0840000000000001,1.1080000000000001,1.1319999999999999,1.157,1.181,1.2050000000000001,1.222,8.0000000000000002E-3,4.9999999999998934E-3]
[287.14999999999998,1.4215736181114034,14,2639.8157648011188,287.14999999999998,1.2615103546851694,14,1826.0402860012916,21,2.4849999999999999,null,null,21,{"$f":"Konstanty!$F$12^O52","v":2488.1206130394667},7.8192829306313332,-11.4,{"$f":"Konstanty!$F$12^R52","v":229.96770199280621},5.4379388729703884,null,null,null,17,1.008,1.032,1.0569999999999999,1.081,1.105,1.129,1.153,1.177,1.2010000000000001,1.2170000000000001,8.9999999999999993E-3,4.0000000000000036E-3]
[288.14999999999998,1.4648361188045378,15,2916.3263294421317,288.14999999999998,1.2937181568997795,15,1966.6096093329531,22,2.6419999999999999,null,null,22,{"$f":"Konstanty!$F$12^O53","v":2645.1044641665681},7.880465838509318,-11.3,{"$f":"Konstanty!$F$12^R53","v":232.03980199920792},5.446908917319071,null,null,null,18,1.0049999999999999,1.0289999999999999,1.0529999999999999,1.077,1.101,1.125,1.149,1.173,1.196,1.2130000000000001,8.9999999999999993E-3,4.0000000000000036E-3]
[289.14999999999998,1.5078263445236817,16,3219.7810834209245,289.14999999999998,1.325699572123517,16,2116.8962428969357,23,2.8079999999999998,null,null,23,{"$f":"Konstanty!$F$12^O54","v":2810.6626714765498},7.9411755607115246,-11.2,{"$f":"Konstanty!$F$12^R54","v":234.12896896939247},5.4558721129986623,null,null,null,19,1.002,1.0249999999999999,1.0489999999999999,1.073,1.097,1.121,1.145,1.169,1.1919999999999999,1.2090000000000001,0.01,4.0000000000000036E-3]
[290.14999999999998,1.5505470604194147,17,3552.6061265698095,290.14999999999998,1.357456877007853,17,2277.4920885128431,24,2.9820000000000002,null,null,24,{"$f":"Konstanty!$F$12^O55","v":2985.1866866040691},8.0014175654853616,-11.1,{"$f":"Konstanty!$F$12^R55","v":236.23532967296725},5.4648284678496424,null,null,null,20,0.998,1.022,1.046,1.069,1.093,1.117,1.141,1.165,1.1879999999999999,1.2050000000000001,1.0999999999999999E-2,4.0000000000000036E-3]
[291.14999999999998,1.5930009937762875,18,3917.4277351390842,291.14999999999998,1.3889923173663363,18,2449.0199185006304,25,3.1669999999999998,null,null,25,{"$f":"Konstanty!$F$12^O56","v":3169.0820065905968},8.0611972371450502,-11,{"$f":"Konstanty!$F$12^R56","v":238.35901171274517},5.473777989700551,null,null,null,21,0.995,1.018,1.042,1.0660000000000001,1.0900000000000001,1.113,1.137,1.161,1.1839999999999999,1.2010000000000001,1.0999999999999999E-2,4.0000000000000036E-3]
[292.14999999999998,1.6351908347165489,19,4317.0873366056603,292.14999999999998,1.4203081086978533,19,2632.1346883846977,26,3.36,null,null,26,{"$f":"Konstanty!$F$12^O57","v":3362.7685188772552},8.1205198776758412,-10.9,{"$f":"Konstanty!$F$12^R57","v":240.5001435294426},5.4827206863679692,null,null,null,22,0.99099999999999999,1.0149999999999999,1.0489999999999999,1.0620000000000001,1.0860000000000001,1.109,1.133,1.157,1.18,1.1970000000000001,1.2E-2,4.0000000000000036E-3]
[293.14999999999998,1.6771192368857433,20,4754.6574860793125,293.14999999999998,1.4514064366992316,20,2827.5248906403303,27,3.3639999999999999,null,null,27,{"$f":"Konstanty!$F$12^O58","v":3566.6808494751672},8.1793907083016002,-10.8,{"$f":"Konstanty!$F$12^R58","v":242.65885440641674},5.4916565656565623,null,null,null,23,0.98799999999999999,1.012,1.0349999999999999,1.0589999999999999,1.0820000000000001,1.1060000000000001,1.129,1.153,1.1759999999999999,1.1930000000000001,1.2E-2,4.0000000000000036E-3]
[294.14999999999998,1.7187888181208451,21,5233.4589030719526,294.14999999999998,1.482289457767453,21,3035.9139501413779,28,3.778,null,null,28,{"$f":"Konstanty!$F$12^O59","v":3781.2687142012755},8.2378148710166919,-10.7,{"$f":"Konstanty!$F$12^R59","v":244.83527447441915},5.500585635359112,null,null,null,24,0.98499999999999999,1.008,1.032,1.0549999999999999,1.079,1.1020000000000001,1.125,1.149,1.1719999999999999,1.1890000000000001,1.2999999999999999E-2,4.0000000000000036E-3]
[295.14999999999998,1.7602021611015635,22,5757.0786303375289,295.14999999999998,1.5129592994917185,22,3258.0616619555981,29,4.008,null,null,29,{"$f":"Konstanty!$F$12^O60","v":4006.9972728655312},8.2957974300831445,-10.6,{"$f":"Konstanty!$F$12^R60","v":247.02953471636602},5.509507903256516,null,null,null,25,0.98099999999999998,1.0049999999999999,1.028,1.052,1.075,1.0980000000000001,1.1220000000000001,1.145,1.1679999999999999,1.1850000000000001,1.4E-2,4.0000000000000036E-3]
[296.14999999999998,1.8013618139854115,23,6329.3893795529075,296.14999999999998,1.5434180611355934,23,3494.7656721207509,30,4.2409999999999997,null,null,30,{"$f":"Konstanty!$F$12^O61","v":4244.3474862925405},8.3533433734939759,-10.5,{"$f":"Konstanty!$F$12^R61","v":249.24176697214025},5.5184233771178341,null,null,null,26,0.97799999999999998,1.0009999999999999,1.0249999999999999,1.048,1.071,1.095,1.1180000000000001,1.141,1.1639999999999999,1.181,1.4999999999999999E-2,4.0000000000000036E-3]
[297.14999999999998,1.8422702910271243,24,6954.5701317971507,297.14999999999998,1.573667814109486,24,3746.8630020205305,31,4.4909999999999997,null,null,31,{"$f":"Konstanty!$F$12^O62","v":4493.8164760585669},8.410457614403601,-10.4,{"$f":"Konstanty!$F$12^R62","v":251.47210394340402},5.5273320647002855,null,null,null,27,0.97499999999999998,0.998,1.0209999999999999,1.0449999999999999,1.0680000000000001,1.091,1.1140000000000001,1.137,1.1599999999999999,1.177,1.6E-2,4.0000000000000036E-3]
[298.14999999999998,1.8829300731829544,25,7637.1280641012318,298.14999999999998,1.6037106024336625,25,4015.2316169641308,32,4.7530000000000001,null,null,32,{"$f":"Konstanty!$F$12^O63","v":4755.9178868224526},8.4671449925261584,-10.3,{"$f":"Konstanty!$F$12^R63","v":253.72067919844366},5.5362339737492832,null,null,null,28,0.97199999999999998,0.995,1.018,1.0409999999999999,1.0640000000000001,1.087,1.1100000000000001,1.1339999999999999,1.157,1.173,1.6E-2,4.0000000000000036E-3]
[299.14999999999998,1.9233436087003821,26,8381.9218767875955,299.14999999999998,1.6335484431920384,26,4300.7920395574465,33,5.0289999999999999,null,null,33,{"$f":"Konstanty!$F$12^O64","v":5031.1822511269984},8.5234102755026058,-10.199999999999999,{"$f":"Konstanty!$F$12^R64","v":255.98762717703684},5.5451291119984774,null,null,null,29,0.96799999999999997,0.99099999999999999,1.0149999999999999,1.038,1.0609999999999999,1.0840000000000001,1.107,1.1299999999999999,1.153,1.169,1.7000000000000001E-2,4.0000000000000036E-3]
[300.14999999999998,1.9635133136937171,27,9194.1865999012043,300.14999999999998,1.6631833269769449,27,4604.5090084369085,34,5.3179999999999996,null,null,34,{"$f":"Konstanty!$F$12^O65","v":5320.1573565451245},8.579258160237389,-10.1,{"$f":"Konstanty!$F$12^R65","v":258.27308319532818},5.5540174871697339,null,null,null,30,0.95599999999999996,0.98799999999999999,1.0109999999999999,1.034,1.0569999999999999,1.08,1.103,1.1259999999999999,1.149,1.165,1.018,4.0000000000000036E-3]
[301.14999999999998,2.0034415727060777,28,10079.559960756924,301.14999999999998,1.6926172183250916,28,4927.393182919328,35,5.5220000000000002,null,null,35,{"$f":"Konstanty!$F$12^O66","v":5623.4086150432977},8.6346932742054694,-10,{"$f":"Konstanty!$F$12^R66","v":260.57718345074937},5.5628991069732052,null,null,null,31,0.96199999999999997,0.98499999999999999,1.008,1.0309999999999999,1.054,1.077,1.1000000000000001,1.1220000000000001,1.145,1.161,1.0189999999999999,3.0000000000001137E-3]
[302.14999999999998,2.0431307392581965,29,11044.110398494844,302.14999999999998,1.7218520561449242,29,5270.5028941024257,36,5.94,null,null,36,{"$f":"Konstanty!$F$12^O67","v":5941.5194344329184},8.6897201767304857,-9.9000000000000199,{"$f":"Konstanty!$F$12^R67","v":262.90006502693774},5.5717739791073058,null,null,null,32,0.95899999999999996,0.98199999999999998,1.0049999999999999,1.0269999999999999,1.05,1.073,1.0960000000000001,1.119,1.1419999999999999,1.1579999999999999,0.02,4.0000000000000036E-3]
[303.14999999999998,2.0825831363844691,30,12094.366815549858,303.14999999999998,1.7508897541355652,30,5634.9459429310409,37,6.274,null,null,37,{"$f":"Konstanty!$F$12^O68","v":6275.0915917784314},8.744343360234776,-9.8000000000000203,{"$f":"Konstanty!$F$12^R68","v":265.2418658987001},5.5806421112587756,null,null,null,33,0.95599999999999996,0.97899999999999998,1.0009999999999999,1.024,1.0469999999999999,1.07,1.0920000000000001,1.115,1.1379999999999999,1.1539999999999999,2.1999999999999999E-2,4.0000000000000036E-3]
[304.14999999999998,2.1218010571566701,31,13237.350160110327,304.14999999999998,1.7797322011975494,31,6021.8814457240123,38,6.6239999999999997,null,null,38,{"$f":"Konstanty!$F$12^O69","v":6624.7456086296661},8.7985672514619893,-9.7000000000000206,{"$f":"Konstanty!$F$12^R69","v":267.60272493698017},5.5895035111026701,null,null,null,34,0.95299999999999996,0.97499999999999998,0.998,1.0209999999999999,1.0429999999999999,1.0660000000000001,1.089,1.111,1.1339999999999999,1.1499999999999999,1.0229999999999999,4.0000000000000036E-3]
[305.14999999999998,2.1607867651957369,32,14480.606937965442,305.14999999999998,1.8083812618355328,32,6432.5217276351896,39,6.9909999999999997,null,null,39,{"$f":"Konstanty!$F$12^O70","v":6991.1211279438385},8.8523962126729785,-9.6000000000000192,{"$f":"Konstanty!$F$12^R70","v":269.9827819138614},5.5983581863024021,null,null,null,35,0.95,0.97199999999999998,0.995,1.0169999999999999,1.04,1.0629999999999999,1.085,1.1080000000000001,1.1299999999999999,1.1459999999999999,2.4E-2,2.9999999999998916E-3]
[306.14999999999998,2.1995424951719689,{"$f":"A71-273.15","v":33},15832.244756626136,306.14999999999998,1.8368387765531424,33,6868.1342644996594,40,7.375,null,null,40,{"$f":"Konstanty!$F$12^O71","v":7374.877292562087},8.9058345428156755,-9.5000000000000195,{"$f":"Konstanty!$F$12^R71","v":272.38217750758963},5.6072061445097638,null,null,null,36,0.94699999999999995,0.96899999999999997,0.99199999999999999,1.014,1.0369999999999999,1.0589999999999999,1.0820000000000001,1.1040000000000001,1.127,1.143,2.5999999999999999E-2,4.0000000000000036E-3]
[307.14999999999998,2.2380704532940263,34,17300.970009258424,307.14999999999998,1.8651065622401763,34,7330.043673494185,41,7.7770000000000001,null,null,41,{"$f":"Konstanty!$F$12^O72","v":7776.6931251029046},8.9588864786695588,-9.4000000000000199,{"$f":"Konstanty!$F$12^R72","v":274.80105330760932},5.6160473933649229,null,null,null,37,0.94299999999999995,0.96599999999999997,0.98799999999999999,1.0109999999999999,1.0329999999999999,1.056,1.0780000000000001,1.101,1.123,1.139,2.7E-2,4.0000000000000036E-3]
[308.14999999999998,2.2763728177870615,35,18896.127810789738,308.14999999999998,1.8931864125522968,35,7819.6337530159308,42,8.1980000000000004,null,null,42,{"$f":"Konstanty!$F$12^O73","v":8197.2679091351965},9.0115561959654187,-9.3000000000000203,{"$f":"Konstanty!$F$12^R73","v":277.23955181964305},5.6248819404964898,null,null,null,38,0.94,0.96299999999999997,0.95799999999999996,1.008,1.03,1.052,1.075,1.097,1.1200000000000001,1.135,2.8000000000000001E-2,3.0000000000001137E-3]
[309.14999999999998,2.3144517393603246,36,20627.744303548589,309.14999999999998,1.921080098283412,36,8338.349572160063,43,8.6389999999999993,null,null,43,{"$f":"Konstanty!$F$12^O74","v":8637.3215714908729},9.0638478104809757,-9.2000000000000206,{"$f":"Konstanty!$F$12^R74","v":279.69781647076928},5.6337097935214935,null,null,null,39,0.93700000000000006,0.96,0.98199999999999998,1.004,1.0269999999999999,1.0489999999999999,1.071,1.0940000000000001,1.1160000000000001,1.1319999999999999,0.03,4.0000000000000036E-3]
[310.14999999999998,2.35230934166453,37,22506.571454974794,310.14999999999998,1.9487893677308847,37,8887.699610150361,44,9.1,null,null,44,{"$f":"Konstanty!$F$12^O75","v":9097.5950655776469},9.115765379113018,-9.1000000000000192,{"$f":"Konstanty!$F$12^R75","v":282.1759916145449},5.6425309600454412,null,null,null,40,0.93400000000000005,0.95699999999999996,0.97899999999999998,1.0009999999999999,1.0229999999999999,1.046,1.0680000000000001,1.0900000000000001,1.1120000000000001,1.1279999999999999,3.1E-2]
[311.14999999999998,2.3899477217393259,38,24544.134475303919,311.14999999999998,1.9763159470537501,38,9469.257946051639,null,null,null,null,null,null,null,-9.0000000000000195,{"$f":"Konstanty!$F$12^R76","v":284.67422253613427},5.6513454476623082,null,null,null,null,null,null,null,null,null,null,null,null,null,null,null,{"$f":"AVERAGE(AH17:AH74)","v":4.413793103448276E-3}]
[312.14999999999998,2.4273689504511222,39,26752.781988681465,312.14999999999998,2.003661540624087,39,10084.66649906519,null,null,null,null,null,null,null,-8.9000000000000199,{"$f":"Konstanty!$F$12^R77","v":287.19265545747379},5.6601532639545802]
[313.14999999999998,{"$f":"10.79574*(1-(273.16/A78))+5.028*LOG10(A78/273.16)+(1.50475*(10^-4))*(1-10^(-8.2969*((A78/273.16)-1)))+(0.42873*(10^-3))*(10^(4.76955*(1-(273.16/A78)))-1)+0.78614","v":2.4645750729215785},40,{"$f":"(10^B78)*100","v":29145.739096912846},{"$f":"G78+273.15","v":313.14999999999998},{"$f":"-9.09718*((273.16/E78)-1)-3.56654*(LOG10(273.16/E78))+0.876793*(1-(E78/273.16))+LOG10(6.1071)","v":2.0308278313716972},40,{"$f":"(10^F78)*100","v":10735.637319681024},null,null,null,null,null,null,null,-8.8000000000000203,{"$f":"Konstanty!$F$12^R78","v":289.73143754245609},5.6689544164932819]
[314.14999999999998,2.5015681089470077,41,31737.163481005267,314.14999999999998,2.0578164811222477,41,11423.954931932254,null,null,null,null,null,null,null,-8.7000000000000206,{"$f":"Konstanty!$F$12^R79","v":292.29071690212658},5.6777489128379592]
[315.14999999999998,2.5383500534089536,42,34542.204691811938,315.14999999999998,2.0846291309290077,42,12151.47872696722,null,null,null,null,null,null,null,-8.6000000000000192,{"$f":"Konstanty!$F$12^R80","v":294.87064259992673},{"$f":"28.926-(6148/(273.15+P80))","v":5.6865367605367538}]
[316.14999999999998,2.5749228766761991,43,37577.066787457792,316.14999999999998,2.1112674013983339,43,12920.145408125922,null,null,null,null,null,null,null,-8.5000000000000195,{"$f":"Konstanty!$F$12^R81","v":297.47136465693927},5.6953179671263889]
[317.14999999999998,2.611288524998423,44,40859.074481806827,317.14999999999998,2.1377328930090318,44,13731.971487675733,null,null,null,null,null,null,null,-8.4000000000000199,{"$f":"Konstanty!$F$12^R82","v":300.09303405716355},5.7040925401321942]
[318.14999999999998,2.6474489208917573,45,44406.742975040041,318.14999999999998,2.1640271864257397,45,14589.055835331183,null,null,null,null,null,null,null,-8.3000000000000203,{"$f":"Konstanty!$F$12^R83","v":302.73580275282524},5.7128604870681485]
[319.14999999999998,2.6834059635164453,46,48239.851644442817,319.14999999999998,2.1901518428064515,46,15493.582278649586,null,null,null,null,null,null,null,-8.2000000000000206,{"$f":"Konstanty!$F$12^R84","v":305.39982366968894},5.721621815436869]
[320.14999999999998,2.7191615290468212,47,52379.52178077073,320.14999999999998,2.2161084041043093,47,16447.822255362327,null,null,null,null,null,null,null,-8.1000000000000192,{"$f":"Konstanty!$F$12^R85","v":308.08525071241826},5.7303765327296681]
[321.14999999999998,2.7547174710338189,48,56848.298563069809,321.14999999999998,2.2418983933638041,48,17454.137517669038,null,null,null,null,null,null,null,-8.0000000000000195,{"$f":"Konstanty!$F$12^R86","v":310.79223876994052},5.7391246464265464]
[322.14999999999998,2.7900756207601951,49,61670.237472576562,322.14999999999998,2.2675233150114842,49,18514.982888486818,null,null,null,null,null,null,null,-7.9000000000000297,{"$f":"Konstanty!$F$12^R87","v":313.52094372084434},5.7478661639962247]
[323.14999999999998,2.8252377875886667,50,66870.995354332219,323.14999999999998,2.2929846551413053,50,19632.909069613859,null,null,null,null,null,null,null,-7.80000000000003,{"$f":"Konstanty!$F$12^R88","v":316.27152243880266},5.7566010928961688]
[324.14999999999998,2.8602057593031431,51,72477.926343404906,324.14999999999998,2.3182838817947324,51,20810.565501731093,null,null,null,null,null,null,null,-7.7000000000000304,{"$f":"Konstanty!$F$12^R89","v":319.04413279801474},5.7653294405726037]
[325.14999999999998,2.8949813024432212,52,78520.18288114047,325.14999999999998,2.3434224452357029,52,22050.703276130815,null,null,null,null,null,null,null,-7.6000000000000298,{"$f":"Konstanty!$F$12^R90","v":321.83893367868035},5.7740512144605489]
[326.14999999999998,2.9295661626321308,53,85028.822055663331,326.14999999999998,2.3684017782205684,53,23356.178098025106,null,null,null,null,null,null,null,-7.5000000000000302,{"$f":"Konstanty!$F$12^R91","v":324.65608497248064},5.7827664219838049]
[327.14999999999998,2.9639620648982739,54,92036.917509918858,327.14999999999998,2.393223296263109,54,24729.953301250909,null,null,null,null,null,null,null,-7.4000000000000297,{"$f":"Konstanty!$F$12^R92","v":327.49574758811383},5.7914750705550269]
[328.15,2.9981707139905414,55,99579.677169915914,328.15,2.4178883978947483,55,26175.1029141527,null,null,null,null,null,null,null,-7.30000000000003,{"$f":"Konstanty!$F$12^R93","v":330.35808345682119},5.800177167575697]
[329.15,3.0321937946875299,56,107694.56705546746,329.15,2.4423984649200352,56,27694.814776384639,null,null,null,null,null,null,null,-7.2000000000000304,{"$f":"Konstanty!$F$12^R94","v":333.24325553795984},5.8088727204361632]
[330.15,3.0660329721008446,57,116421.44144569038,330.15,2.466754862667532,57,29292.393706340368,null,null,null,null,null,null,null,-7.1000000000000298,{"$f":"Konstanty!$F$12^R95","v":336.15142782460242},5.8175617365156853]
[331.15,3.099689891972595,58,125802.67968176429,331.15,2.4909589402361751,58,30971.264718876926,null,null,null,null,null,null,null,-7.0000000000000302,{"$f":"Konstanty!$F$12^R96","v":339.08276534913716},5.8262442231824068]
[332.15,3.1331661809672529,59,135883.32990002708,332.15,2.5150120307372159,59,32734.976292964642,null,null,null,null,null,null,null,-6.9000000000000297,{"$f":"Konstanty!$F$12^R97","v":342.03743418892429},5.834920187793422]
[333.15,3.1664634469579869,60,146711.25999936432,333.15,2.5389154515318362,60,34587.203688854985,null,null,null,null,null,null,null,-6.80000000000003,{"$f":"Konstanty!$F$12^R98","v":345.01560147194931},5.8435896376947589]
[334.15,3.1995832793076171,61,158337.31615806569,334.15,2.5626705044645215,61,36531.752314320249,null,null,null,null,null,null,null,-6.7000000000000304,{"$f":"Konstanty!$F$12^R99","v":348.0174353825202},5.8522525802214211]
[335.15,3.2325272491443089,62,170815.4892268682,335.15,2.5862784760922861,62,38572.561139480873,null,null,null,null,null,null,null,-6.6000000000000298,{"$f":"Konstanty!$F$12^R100","v":351.0431051669903},5.8609090226974239]
[336.15,3.2652969096321267,63,184203.08933679751,336.15,2.609740637909832,63,40713.70615969663,null,null,null,null,null,null,null,-6.5000000000000302,{"$f":"Konstanty!$F$12^R101","v":354.09278113948238},5.8695589724357689]
[337.15,3.2978937962365835,64,198560.92907266528,337.15,2.6330582465707284,64,42959.403905960076,null,null,null,null,null,null,null,-6.4000000000000297,{"$f":"Konstanty!$F$12^R102","v":357.16663468767217},5.8782024367385119]
[338.15,3.3303194269852745,{"$f":"A103-273.15","v":65},213953.51557567125,338.15,2.656232544104693,65,45314.015002190368,null,null,null,null,null,null,null,-6.30000000000003,{"$f":"Konstanty!$F$12^R103","v":360.26483827856765},5.8868394228967524]
[339.15,3.3625753027237271,66,230449.25195153401,339.15,2.6792647581310494,66,47782.047768787219,null,null,null,null,null,null,null,-6.2000000000000304,{"$f":"Konstanty!$F$12^R104","v":363.38756546433194},5.895469938190665]
[340.15,3.3946629073665782,67,248120.64837392513,340.15,2.7021561020684581,67,50368.16187176721,null,null,null,null,null,null,null,-6.1000000000000298,{"$f":"Konstanty!$F$12^R105","v":366.53499088812777},5.9040939898895282]
[341.15,3.4265837081441535,68,267044.543286681,341.15,2.7249077753409665,68,53077.1720167612,null,null,null,null,null,null,null,-6.0000000000000302,{"$f":"Konstanty!$F$12^R106","v":369.70729028997732},5.9127115852517242]
[342.15,3.4583391558446044,69,287302.33512243879,342.15,2.7475209635804818,69,55914.051687117571,null,null,null,null,null,null,null,-5.9000000000000297,{"$f":"Konstanty!$F$12^R107","v":372.90464051266605},5.9213227315247821]
[343.15,3.4899306850516414,70,308980.22496979736,343.15,2.7699968388257203,70,58883.936925313814,null,null,null,null,null,null,null,-5.80000000000003,{"$f":"Konstanty!$F$12^R108","v":376.1272195076549},5.929927435945384]
[344.15,3.5213597143780109,71,332169.47063611198,344.15,2.792336559717719,71,61992.130156841449,null,null,null,null,null,null,null,-5.7000000000000304,{"$f":"Konstanty!$F$12^R109","v":379.37520634102674},5.9385257057393837]
[345.15,{"$f":"10.79574*(1-(273.16/A110))+5.028*LOG10(A110/273.16)+(1.50475*(10^-4))*(1-10^(-8.2969*((A110/273.16)-1)))+(0.42873*(10^-3))*(10^(4.76955*(1-(273.16/A110)))-1)+0.78614","v":3.5526276466947793},72,{"$f":"(10^B110)*100","v":356966.65256832272},{"$f":"G110+273.15","v":345.15},{"$f":"-9.09718*((273.16/E110)-1)-3.56654*(LOG10(273.16/E110))+0.876793*(1-(E110/273.16))+LOG10(6.1071)","v":2.8145412716919616},72,{"$f":"(10^F110)*100","v":65244.104055688978},null,null,null,null,null,null,null,-5.6000000000000298,{"$f":"Konstanty!$F$12^R110","v":382.64878119946098},5.9471175481218417]
[346.15,3.5837358693565298,73,383473.95211004833,346.15,2.8366121071672081,73,68645.505450511628,null,null,null,null,null,null,null,-5.5000000000000302,{"$f":"Konstanty!$F$12^R111","v":385.94812539622387},5.9557029702970219]
[347.15,3.6146857544225517,74,411799.44258936751,347.15,2.8585501857310733,74,72202.159270534292,null,null,null,null,null,null,null,-5.4000000000000297,{"$f":"Konstanty!$F$12^R112","v":389.2734213772016},{"$f":"28.926-(6148/(273.15+P112))","v":5.9642819794584447}]
[348.15,3.6454786588741133,75,442057.39374840393,348.15,2.8803566143224337,75,75920.072530200472,null,null,null,null,null,null,null,-5.30000000000003,{"$f":"Konstanty!$F$12^R113","v":392.62485272693772},5.9728545827888695]
[349.15,3.6761159248279185,76,474368.59004298266,349.15,2.9020324874107208,76,79805.438351537334,null,null,null,null,null,null,null,-5.2000000000000304,{"$f":"Konstanty!$F$12^R114","v":396.00260417471605},5.9814207874603404]
[350.15,3.7065988797457754,77,508860.66335813573,350.15,2.9235788871721615,77,83864.640023173313,null,null,null,null,null,null,null,-5.1000000000000396,{"$f":"Konstanty!$F$12^R115","v":399.40686160066304},5.9899806006342047]
[351.15,3.7369288366406392,78,545668.44070350123,351.15,2.9449968836630305,78,88104.255094904685,null,null,null,null,null,null,null,-5.00000000000004,{"$f":"Konstanty!$F$12^R116","v":402.83781204186818},5.9985340294611156]
[352.15,3.7671070942790297,79,584934.30747101223,352.15,2.96628753498997,79,92531.059506671445,null,null,null,null,null,null,null,-4.9000000000000004,{"$f":"Konstanty!$F$12^R117","v":406.29564369855086},6.0070810810810791]
[353.15,3.7971349373799383,80,626808.58685653564,353.15,2.9874518874774294,80,97152.03175076512,null,null,null,null,null,null,null,-4.8,{"$f":"Konstanty!$F$12^R118","v":409.78054594022353},6.0156217626234358]
[354.15,3.8270136368103023,81,671449.93606661633,354.15,3.0084909758323048,81,101974.35706606033,null,null,null,null,null,null,null,-4.7,{"$f":"Konstanty!$F$12^R119","v":413.292709311919},6.0241560812069253]
[355.15,3.8567444497770871,82,719025.75995160616,355.15,3.0294058233057939,82,107005.43166301327,null,null,null,null,null,null,null,-4.5999999999999996,{"$f":"Konstanty!$F$12^R120","v":416.83232554041018},6.0326840439396712]
[356.15,3.8863286200160827,83,769712.64272715792,356.15,3.0501974418525624,83,112252.86697815245,null,null,null,null,null,null,null,-4.5,{"$f":"Konstanty!$F$12^R121","v":420.39958754047922},6.041205657919221]
[357.15,3.9157673779774553,84,823696.79846720025,357.15,3.0708668322872432,84,117724.49395673627,null,null,null,null,null,null,null,-4.4000000000000004,{"$f":"Konstanty!$F$12^R122","v":423.9946894212016},6.0497209302325565]
[358.15,3.9450619410081358,85,881174.54107333883,358.15,3.0914149844383401,85,123428.36736222841,null,null,null,null,null,null,null,-4.3,{"$f":"Konstanty!$F$12^R123","v":427.61782649225739},6.0582298679561042]
[359.15,3.9742135135310974,86,942352.77444787987,359.15,3.1118428772995692,86,129372.77011120087,null,null,null,null,null,null,null,-4.2,{"$f":"Konstanty!$F$12^R124","v":431.2691952702869},6.0667324781557888]
[360.15,4.0032232872216023,87,1007449.5036207043,360.15,3.1321514791787077,87,135566.21763224876,null,null,null,null,null,null,null,-4.0999999999999996,{"$f":"Konstanty!$F$12^R125","v":434.94899348523973},6.0752287678870047]
[361.15,4.0320924411804624,88,1076694.3676036424,361.15,3.1523417478439786,88,142017.46224746035,null,null,null,null,null,null,null,-4,{"$f":"Konstanty!$F$12^R126","v":438.65742008679109},6.0837187441946838]
[362.15,4.0608221421043789,89,1150329.194770155,362.15,3.1724146306680305,89,148735.49757495936,null,null,null,null,null,null,null,-3.9,{"$f":"Konstanty!$F$12^R127","v":442.39467525074963},6.0922024141132773]
[363.15,4.0894135444534356,90,1228608.5815829576,363.15,3.1923710647695582,90,155729.56295100568,null,null,null,null,null,null,null,-3.8,{"$f":"Konstanty!$F$12^R128","v":446.16096038551188},6.1006797846667844]
[364.15,4.1178677906157688,91,1311800.495517479,364.15,3.2122119771526023,91,163009.14787010427,null,null,null,null,null,null,null,-3.7,{"$f":"Konstanty!$F$12^R129","v":449.95647813855442},6.1091508628688054]
[365.15,4.146186011069501,92,1400186.9030552288,365.15,3.2319382848435723,92,170583.99644154537,null,null,null,null,null,null,null,-3.6,{"$f":"Konstanty!$F$12^R130","v":453.78143240291269},6.1176156557224957]
[366.15,4.1743693245419875,93,1494064.4236478482,366.15,3.2515508950260568,93,178464.11186078074,null,null,null,null,null,null,null,-3.5,{"$f":"Konstanty!$F$12^R131","v":457.63602832374374},6.1260741702206545]
[367.15,4.2024188381664072,94,1593745.0105798652,367.15,3.2710507051734243,94,186659.7608939835,null,null,null,null,null,null,null,-3.4,{"$f":"Konstanty!$F$12^R132","v":461.52047230486374},6.1345264133456894]
[368.15,4.2303356476357816,95,1699556.65968655,368.15,3.2904386031792976,95,195181.47837414918,null,null,null,null,null,null,null,-3.3,{"$f":"Konstanty!$F$12^R133","v":465.43497201534711},6.1429723920696624]
[369.15,4.2581208373544444,96,1811844.1469117813,369.15,3.3097154674859093,96,204040.07170703507,null,null,null,null,null,null,null,-3.2,{"$f":"Konstanty!$F$12^R134","v":469.37973639615171},6.151412113354322]
[370.15,4.2857754805870316,97,1930969.7957206299,370.15,3.3288821672104039,97,213246.62538523422,null,null,null,null,null,null,null,-3.1,{"$f":"Konstanty!$F$12^R135","v":473.35497566674206},6.1598455841510784]
[371.15,4.3133006396050302,98,2057314.2754114568,371.15,3.3479395622690946,98,222812.50550863083,null,null,null,null,null,null,null,-3,{"$f":"Konstanty!$F$12^R136","v":477.360901331783},6.1682728114010708]
[372.15,4.3406973658309349,99,2191277.4314035079,372.15,3.366888503499756,99,232749.36430949409,null,null,null,null,null,null,null,-2.9,{"$f":"Konstanty!$F$12^R137","v":481.39772618782644},6.1766938020351496]
[373.15,4.3679666999800544,100,2333279.1486076755,373.15,3.3857298327819461,100,243069.1446804,null,null,null,null,null,null,null,-2.8,{"$f":"Konstanty!$F$12^R138","v":485.46566433004784},6.1851085629739195]
[null,null,null,null,null,null,null,null,null,null,null,null,null,null,null,-2.7,{"$f":"Konstanty!$F$12^R139","v":489.56493115900173},6.1935171011277461]
[null,null,null,null,null,null,null,null,null,null,null,null,null,null,null,-2.6,{"$f":"Konstanty!$F$12^R140","v":493.69574338740443},6.2019194233967774]
[null,null,null,null,null,null,null,null,null,null,null,null,null,null,null,-2.5,{"$f":"Konstanty!$F$12^R141","v":497.85831904695698},6.2103155366709721,null,null,null,null,"Zdroj tepla a vlhkosti","Intenzita ","Produkce ","Intenzita ","Produkce "]
[null,null,null,null,null,null,null,null,null,null,null,null,null,null,null,-2.4,{"$f":"Konstanty!$F$12^R142","v":502.05287749517504},6.2187054478301,null,null,null,null,null,"zdroje ","zdroje ","zdroje ","zdroje "]
[null,null,null,null,null,null,null,null,null,null,null,null,null,null,null,-2.2999999999999998,{"$f":"Konstanty!$F$12^R143","v":506.27963942226444},6.2270891637437664,null,null,null,null,null,"tepla","tepla","vlhkosti","vlhkosti"]
[null,null,null,null,null,null,null,null,null,null,null,null,null,null,null,-2.2000000000000002,{"$f":"Konstanty!$F$12^R144","v":510.53882685803296},{"$f":"28.926-(6148/(273.15+P144))","v":6.2354666912714514},null,null,null,null,null,"[W]","[kWh/den]","[g/h]","[kg/den]"]
[null,null,null,null,null,null,null,null,null,null,null,null,null,null,null,-2.1,{"$f":"Konstanty!$F$12^R145","v":514.83066317879775},6.243838037262492,null,null,null,null,"zdroje tepla a vlhkosti"]
[null,null,null,null,null,null,null,null,null,null,null,null,null,null,null,-2,{"$f":"Konstanty!$F$12^R146","v":519.1553731143681},6.2522032085561463,null,null,null,null,"člověk při lehké práci","80-100 S",null,"30-60"]
[null,null,null,null,null,null,null,null,null,null,null,null,null,null,null,-1.9,{"$f":"Konstanty!$F$12^R147","v":523.51318275500728},6.2605622119815649,null,null,null,null,"člověk při středně těžké práci","100-160 S",null,"60-150"]
[null,null,null,null,null,null,null,null,null,null,null,null,null,null,null,-1.8,{"$f":"Konstanty!$F$12^R148","v":527.90431955846225},6.2689150543578371,null,null,null,null,"člověk při těžké práci","160-300 S",null,"150-300"]
[null,null,null,null,null,null,null,null,null,null,null,null,null,null,null,-1.7,{"$f":"Konstanty!$F$12^R149","v":532.32901235701149},6.2772617424940123,null,null,null,null,"4 osoby v domácnosti",null,"4 S",null,3.5]
[null,null,null,null,null,null,null,null,null,null,null,null,null,null,null,-1.6,{"$f":"Konstanty!$F$12^R150","v":536.78749136452302},6.2856022831890925,null,null,null,null,"praní prádla*",null,"0,8-2,2 T","50-150","1,2 - 2,4"]
[null,null,null,null,null,null,null,null,null,null,null,null,null,null,null,-1.5,{"$f":"Konstanty!$F$12^R151","v":541.27998818358367},6.2939366832320971,null,null,null,null,"žehlení","300-1000 T",null,"100-200"]
[null,null,null,null,null,null,null,null,null,null,null,null,null,null,null,-1.4,{"$f":"Konstanty!$F$12^R152","v":545.80673581260066},6.3022649494020229,null,null,null,null,"vaření",null,"3 T","50-120",0.9]
[null,null,null,null,null,null,null,null,null,null,null,null,null,null,null,-1.3,{"$f":"Konstanty!$F$12^R153","v":550.36796865298481},6.3105870884679014,null,null,null,null,"mytí nádobí",null,null,null,0.4]
[null,null,null,null,null,null,null,null,null,null,null,null,null,null,null,-1.2,{"$f":"Konstanty!$F$12^R154","v":554.96392251634336},6.3189031071888202,null,null,null,null,"koupel ve vaně",null,null,700]
[null,null,null,null,null,null,null,null,null,null,null,null,null,null,null,-1.1000000000000001,{"$f":"Konstanty!$F$12^R155","v":559.59483463168442},6.3272130123139085,null,null,null,null,"osobní hygiena",1.3,1.3,1.3,1.3]
[null,null,null,null,null,null,null,null,null,null,null,null,null,null,null,-1,{"$f":"Konstanty!$F$12^R156","v":564.26094365268909},6.3355168105823942,null,null,null,null,"aktivní zdroje vlhkosti"]
[null,null,null,null,null,null,null,null,null,null,null,null,null,null,null,-0.90000000000010005,{"$f":"Konstanty!$F$12^R157","v":568.96248966497365},6.3438145087235895,null,null,null,null,"sprchování","0 T",null,"až 2600"]
[null,null,null,null,null,null,null,null,null,null,null,null,null,null,null,-0.80000000000009996,{"$f":"Konstanty!$F$12^R158","v":573.69971419341596},6.3521061134569337,null,null,null,null,"pasivní zdroje vlhkosti"]
[null,null,null,null,null,null,null,null,null,null,null,null,null,null,null,-0.70000000000010099,{"$f":"Konstanty!$F$12^R159","v":578.47286020949127},6.3603916314920035,null,null,null,null,"rostliny","0 S",null,"2020-05-01"]
[null,null,null,null,null,null,null,null,null,null,null,null,null,null,null,-0.60000000000009901,{"$f":"Konstanty!$F$12^R160","v":583.28217213863525},6.3686710695285171,null,null,null,null,"20 rostlin",null,"0 S",null,"0,5-1,0"]
[null,null,null,null,null,null,null,null,null,null,null,null,null,null,null,-0.50000000000009903,{"$f":"Konstanty!$F$12^R161","v":588.12789586764893},6.3769444342563588,null,null,null,null,"úklid",null,null,null,0.5]
[null,null,null,null,null,null,null,null,null,null,null,null,null,null,null,-0.4000000000001,{"$f":"Konstanty!$F$12^R162","v":593.01027875214538},6.385211732355625,null,null,null,null,"sušení prádla (odstředěné)**","0 S",null,"50-200","0,4-0,7*"]
[null,null,null,null,null,null,null,null,null,null,null,null,null,null,null,-0.30000000000010002,{"$f":"Konstanty!$F$12^R163","v":597.92956962398716},6.393472970496596,null,null,null,null,"sušení prádla (mokré, kapající)**","0 S",null,"100-500","0,8-1,2*"]
[null,null,null,null,null,null,null,null,null,null,null,null,null,null,null,-0.20000000000010101,{"$f":"Konstanty!$F$12^R164","v":602.88601879880025},6.4017281553397929,null,null,null,null,"produkce čtyřčlenné domácnosti"]
[null,null,null,null,null,null,null,null,null,null,null,null,null,null,null,-0.100000000000099,{"$f":"Konstanty!$F$12^R165","v":607.87987808348225},6.4099772935359738,null,null,null,null,"celkem",null,"8-15 T",null,"2014-04-01"]
[null,null,null,null,null,null,null,null,null,null,null,null,null,null,null,0,{"$f":"Konstanty!$F$12^R166","v":612.91140078376202},6.4182203917261553]
[null,null,null,null,null,null,null,null,null,null,null,null,null,null,null,9.9999999999900197E-2,{"$f":"Konstanty!$F$12^R167","v":615.07732074689613},{"$f":"23.58-(4044.2/(235.6+P167))","v":6.4217479847263377}]
[null,null,null,null,null,null,null,null,null,null,null,null,null,null,null,0.19999999999990001,{"$f":"Konstanty!$F$12^R168","v":619.56932346043732},6.429024597116193]
[null,null,null,null,null,null,null,null,null,null,null,null,null,null,null,0.29999999999989901,{"$f":"Konstanty!$F$12^R169","v":624.09028177794937},6.4362950402712933]
[null,null,null,null,null,null,null,null,null,null,null,null,null,null,null,0.39999999999990099,{"$f":"Konstanty!$F$12^R170","v":628.64035593155234},6.443559322033888]
[null,null,null,null,null,null,null,null,null,null,null,null,null,null,null,0.49999999999990102,{"$f":"Konstanty!$F$12^R171","v":633.21970688061458},6.4508174502329432]
[null,null,null,null,null,null,null,null,null,null,null,null,null,null,null,0.59999999999989995,{"$f":"Konstanty!$F$12^R172","v":637.82849631421914},6.4580694326841588]
[null,null,null,null,null,null,null,null,null,null,null,null,null,null,null,0.69999999999990004,{"$f":"Konstanty!$F$12^R173","v":642.46688665365116},6.4653152771900047]
[null,null,null,null,null,null,null,null,null,null,null,null,null,null,null,0.79999999999989901,{"$f":"Konstanty!$F$12^R174","v":647.13504105488391},6.4725549915397558]
[null,null,null,null,null,null,null,null,null,null,null,null,null,null,null,0.89999999999990099,{"$f":"Konstanty!$F$12^R175","v":651.83312341105943},6.479788583509503]
[null,null,null,null,null,null,null,null,null,null,null,null,null,null,null,0.99999999999990097,{"$f":"Konstanty!$F$12^R176","v":656.56129835499905},6.4870160608622065]
[null,null,null,null,null,null,null,null,null,null,null,null,null,null,null,1.0999999999998999,{"$f":"Konstanty!$F$12^R177","v":661.31973126167998},6.4942374313476883]
[null,null,null,null,null,null,null,null,null,null,null,null,null,null,null,1.1999999999999,{"$f":"Konstanty!$F$12^R178","v":666.10858825076104},6.5014527027026929]
[null,null,null,null,null,null,null,null,null,null,null,null,null,null,null,1.2999999999998999,{"$f":"Konstanty!$F$12^R179","v":670.9280361890801},6.5086618826508982]
[null,null,null,null,null,null,null,null,null,null,null,null,null,null,null,1.3999999999999,{"$f":"Konstanty!$F$12^R180","v":675.7782426931692},6.5158649789029432]
[null,null,null,null,null,null,null,null,null,null,null,null,null,null,null,1.4999999999999001,{"$f":"Konstanty!$F$12^R181","v":680.65937613177789},6.5230619991564645]
[null,null,null,null,null,null,null,null,null,null,null,null,null,null,null,1.5999999999998999,{"$f":"Konstanty!$F$12^R182","v":685.5716056283909},6.5302529510961129]
[null,null,null,null,null,null,null,null,null,null,null,null,null,null,null,1.6999999999999,{"$f":"Konstanty!$F$12^R183","v":690.51510106376031},6.5374378423935866]
[null,null,null,null,null,null,null,null,null,null,null,null,null,null,null,1.7999999999998999,{"$f":"Konstanty!$F$12^R184","v":695.49003307843657},6.5446166807076587]
[null,null,null,null,null,null,null,null,null,null,null,null,null,null,null,1.8999999999999,{"$f":"Konstanty!$F$12^R185","v":700.49657307530913},6.5517894736842024]
[null,null,null,null,null,null,null,null,null,null,null,null,null,null,null,1.9999999999999001,{"$f":"Konstanty!$F$12^R186","v":705.53489322214796},6.5589562289562195]
[null,null,null,null,null,null,null,null,null,null,null,null,null,null,null,2.0999999999999002,{"$f":"Konstanty!$F$12^R187","v":710.60516645415544},6.5661169541438724]
[null,null,null,null,null,null,null,null,null,null,null,null,null,null,null,2.1999999999998998,{"$f":"Konstanty!$F$12^R188","v":715.70756647650296},6.5732716568544909]
[null,null,null,null,null,null,null,null,null,null,null,null,null,null,null,2.2999999999998999,{"$f":"Konstanty!$F$12^R189","v":720.84226776691537},6.5804203446826328]
[null,null,null,null,null,null,null,null,null,null,null,null,null,null,null,2.3999999999999,{"$f":"Konstanty!$F$12^R190","v":726.00944557820469},6.5875630252100734]
[null,null,null,null,null,null,null,null,null,null,null,null,null,null,null,2.4999999999999001,{"$f":"Konstanty!$F$12^R191","v":731.20927594086231},6.5946997060058692]
[null,null,null,null,null,null,null,null,null,null,null,null,null,null,null,2.5999999999999002,{"$f":"Konstanty!$F$12^R192","v":736.44193566561523},6.6018303946263579]
[null,null,null,null,null,null,null,null,null,null,null,null,null,null,null,2.6999999999998998,{"$f":"Konstanty!$F$12^R193","v":741.70760234599709},6.6089550986151835]
[null,null,null,null,null,null,null,null,null,null,null,null,null,null,null,2.7999999999998999,{"$f":"Konstanty!$F$12^R194","v":747.00645436095101},6.6160738255033458]
[null,null,null,null,null,null,null,null,null,null,null,null,null,null,null,2.8999999999999,{"$f":"Konstanty!$F$12^R195","v":752.3386708774018},6.6231865828092147]
[null,null,null,null,null,null,null,null,null,null,null,null,null,null,null,2.9999999999999001,{"$f":"Konstanty!$F$12^R196","v":757.70443185284648},6.630293378038548]
[null,null,null,null,null,null,null,null,null,null,null,null,null,null,null,3.0999999999999002,{"$f":"Konstanty!$F$12^R197","v":763.10391803795585},6.6373942186845341]
[null,null,null,null,null,null,null,null,null,null,null,null,null,null,null,3.1999999999998998,{"$f":"Konstanty!$F$12^R198","v":768.53731097916693},6.6444891122277987]
[null,null,null,null,null,null,null,null,null,null,null,null,null,null,null,3.2999999999998999,{"$f":"Konstanty!$F$12^R199","v":774.00479302129827},6.6515780661364516]
[null,null,null,null,null,null,null,null,null,null,null,null,null,null,null,3.3999999999999,{"$f":"Konstanty!$F$12^R200","v":779.50654731015356},6.6586610878661006]
[null,null,null,null,null,null,null,null,null,null,null,null,null,null,null,3.4999999999999001,{"$f":"Konstanty!$F$12^R201","v":785.04275779514069},6.6657381848598831]
[null,null,null,null,null,null,null,null,null,null,null,null,null,null,null,3.5999999999999002,{"$f":"Konstanty!$F$12^R202","v":790.61360923188943},6.6728093645484883]
[null,null,null,null,null,null,null,null,null,null,null,null,null,null,null,3.6999999999998998,{"$f":"Konstanty!$F$12^R203","v":796.21928718487163},6.6798746343501811]
[null,null,null,null,null,null,null,null,null,null,null,null,null,null,null,3.7999999999998999,{"$f":"Konstanty!$F$12^R204","v":801.85997803003795},6.686934001670835]
[null,null,null,null,null,null,null,null,null,null,null,null,null,null,null,3.8999999999999,{"$f":"Konstanty!$F$12^R205","v":807.53586895745025},6.693987473903956]
[null,null,null,null,null,null,null,null,null,null,null,null,null,null,null,3.9999999999999001,{"$f":"Konstanty!$F$12^R206","v":813.24714797391982},6.7010350584307083]
[null,null,null,null,null,null,null,null,null,null,null,null,null,null,null,4.0999999999999002,{"$f":"Konstanty!$F$12^R207","v":818.99400390564745},6.7080767626199354]
[null,null,null,null,null,null,null,null,null,null,null,null,null,null,null,4.1999999999998998,{"$f":"Konstanty!$F$12^R208","v":824.77662640086805},6.7151125938281808]
[null,null,null,null,null,null,null,null,null,null,null,null,null,null,null,4.2999999999999003,{"$f":"Konstanty!$F$12^R209","v":830.59520593252637},6.7221425593997424]
[null,null,null,null,null,null,null,null,null,null,null,null,null,null,null,4.3999999999999,{"$f":"Konstanty!$F$12^R210","v":836.44993380090227},6.7291666666666572]
[null,null,null,null,null,null,null,null,null,null,null,null,null,null,null,4.4999999999998996,{"$f":"Konstanty!$F$12^R211","v":842.341002136302},6.7361849229487625]
[null,null,null,null,null,null,null,null,null,null,null,null,null,null,null,4.5999999999999002,{"$f":"Konstanty!$F$12^R212","v":848.26860390170737},6.7431973355536989]
[null,null,null,null,null,null,null,null,null,null,null,null,null,null,null,4.6999999999998998,{"$f":"Konstanty!$F$12^R213","v":854.23293289544733},6.7502039117769357]
[null,null,null,null,null,null,null,null,null,null,null,null,null,null,null,4.7999999999999003,{"$f":"Konstanty!$F$12^R214","v":860.23418375389838},6.7572046589018235]
[null,null,null,null,null,null,null,null,null,null,null,null,null,null,null,4.8999999999999,{"$f":"Konstanty!$F$12^R215","v":866.27255195412636},6.7641995841995737]
[null,null,null,null,null,null,null,null,null,null,null,null,null,null,null,4.9999999999998996,{"$f":"Konstanty!$F$12^R216","v":872.34823381661579},6.7711886949293323]
[null,null,null,null,null,null,null,null,null,null,null,null,null,null,null,5.0999999999999002,{"$f":"Konstanty!$F$12^R217","v":878.46142650793013},6.7781719983381734]
[null,null,null,null,null,null,null,null,null,null,null,null,null,null,null,5.1999999999998998,{"$f":"Konstanty!$F$12^R218","v":884.61232804340841},6.7851495016611203]
[null,null,null,null,null,null,null,null,null,null,null,null,null,null,null,5.2999999999999003,{"$f":"Konstanty!$F$12^R219","v":890.80113728989056},6.7921212121212022]
[null,null,null,null,null,null,null,null,null,null,null,null,null,null,null,5.3999999999999,{"$f":"Konstanty!$F$12^R220","v":897.02805396839858},6.799087136929451]
[null,null,null,null,null,null,null,null,null,null,null,null,null,null,null,5.4999999999998996,{"$f":"Konstanty!$F$12^R221","v":903.29327865685298},6.8060472832849364]
[null,null,null,null,null,null,null,null,null,null,null,null,null,null,null,5.5999999999999002,{"$f":"Konstanty!$F$12^R222","v":909.59701279278624},6.8130016583747839]
[null,null,null,null,null,null,null,null,null,null,null,null,null,null,null,5.6999999999998998,{"$f":"Konstanty!$F$12^R223","v":915.93945867606806},6.819950269374214]
[null,null,null,null,null,null,null,null,null,null,null,null,null,null,null,5.7999999999999003,{"$f":"Konstanty!$F$12^R224","v":922.32081947162362},6.8268931234465526]
[null,null,null,null,null,null,null,null,null,null,null,null,null,null,null,5.8999999999999,{"$f":"Konstanty!$F$12^R225","v":928.74129921216127},6.8338302277432632]
[null,null,null,null,null,null,null,null,null,null,null,null,null,null,null,5.9999999999998996,{"$f":"Konstanty!$F$12^R226","v":935.20110280090671},6.8407615894039644]
[null,null,null,null,null,null,null,null,null,null,null,null,null,null,null,6.0999999999999002,{"$f":"Konstanty!$F$12^R227","v":941.70043601434418},6.8476872155564656]
[null,null,null,null,null,null,null,null,null,null,null,null,null,null,null,6.1999999999998998,{"$f":"Konstanty!$F$12^R228","v":948.23950550495556},6.8546071133167814]
[null,null,null,null,null,null,null,null,null,null,null,null,null,null,null,6.2999999999999003,{"$f":"Konstanty!$F$12^R229","v":954.81851880396516},6.8615212897891595]
[null,null,null,null,null,null,null,null,null,null,null,null,null,null,null,6.3999999999999,{"$f":"Konstanty!$F$12^R230","v":961.43768432409843},6.8684297520661062]
[null,null,null,null,null,null,null,null,null,null,null,null,null,null,null,6.4999999999998996,{"$f":"Konstanty!$F$12^R231","v":968.09721136232929},{"$f":"23.58-(4044.2/(235.6+P231))","v":6.8753325072284071}]
[null,null,null,null,null,null,null,null,null,null,null,null,null,null,null,6.5999999999999002,{"$f":"Konstanty!$F$12^R232","v":974.79731010265607},6.882229562345163]
[null,null,null,null,null,null,null,null,null,null,null,null,null,null,null,6.6999999999998998,{"$f":"Konstanty!$F$12^R233","v":981.53819161883837},6.8891209244737865]
[null,null,null,null,null,null,null,null,null,null,null,null,null,null,null,6.7999999999999003,{"$f":"Konstanty!$F$12^R234","v":988.32006787720229},6.8960066006600584]
[null,null,null,null,null,null,null,null,null,null,null,null,null,null,null,6.8999999999999,{"$f":"Konstanty!$F$12^R235","v":995.14315173939406},6.9028865979381351]
[null,null,null,null,null,null,null,null,null,null,null,null,null,null,null,6.9999999999998996,{"$f":"Konstanty!$F$12^R236","v":1002.0076569651676},6.9097609233305768]
[null,null,null,null,null,null,null,null,null,null,null,null,null,null,null,7.0999999999999002,{"$f":"Konstanty!$F$12^R237","v":1008.9137982151611},6.9166295838483656]
[null,null,null,null,null,null,null,null,null,null,null,null,null,null,null,7.1999999999998998,{"$f":"Konstanty!$F$12^R238","v":1015.8617910536872},6.92349258649093]
[null,null,null,null,null,null,null,null,null,null,null,null,null,null,null,7.2999999999999003,{"$f":"Konstanty!$F$12^R239","v":1022.8518519515414},6.9303499382461844]
[null,null,null,null,null,null,null,null,null,null,null,null,null,null,null,7.3999999999999,{"$f":"Konstanty!$F$12^R240","v":1029.884198288773},6.937201646090525]
[null,null,null,null,null,null,null,null,null,null,null,null,null,null,null,7.4999999999998996,{"$f":"Konstanty!$F$12^R241","v":1036.9590483575166},6.9440477169888837]
[null,null,null,null,null,null,null,null,null,null,null,null,null,null,null,7.5999999999999002,{"$f":"Konstanty!$F$12^R242","v":1044.0766213647807},6.950888157894731]
[null,null,null,null,null,null,null,null,null,null,null,null,null,null,null,7.6999999999998998,{"$f":"Konstanty!$F$12^R243","v":1051.2371374352513},6.9577229757500945]
[null,null,null,null,null,null,null,null,null,null,null,null,null,null,null,7.7999999999999003,{"$f":"Konstanty!$F$12^R244","v":1058.4408176141401},6.9645521774856114]
[null,null,null,null,null,null,null,null,null,null,null,null,null,null,null,7.8999999999999,{"$f":"Konstanty!$F$12^R245","v":1065.6878838699774},6.9713757700205257]
[null,null,null,null,null,null,null,null,null,null,null,null,null,null,null,7.9999999999998996,{"$f":"Konstanty!$F$12^R246","v":1072.9785590974425},6.978193760262716]
[null,null,null,null,null,null,null,null,null,null,null,null,null,null,null,8.0999999999999002,{"$f":"Konstanty!$F$12^R247","v":1080.3130671202061},6.9850061551087315]
[null,null,null,null,null,null,null,null,null,null,null,null,null,null,null,8.1999999999998998,{"$f":"Konstanty!$F$12^R248","v":1087.6916326937487},6.9918129614437987]
[null,null,null,null,null,null,null,null,null,null,null,null,null,null,null,8.2999999999998995,{"$f":"Konstanty!$F$12^R249","v":1095.1144815082093},6.9986141861418538]
[null,null,null,null,null,null,null,null,null,null,null,null,null,null,null,8.3999999999999009,{"$f":"Konstanty!$F$12^R250","v":1102.5818401912234},7.0054098360655637]
[null,null,null,null,null,null,null,null,null,null,null,null,null,null,null,8.4999999999999005,{"$f":"Konstanty!$F$12^R251","v":1110.0939363107859},7.0121999180663579]
[null,null,null,null,null,null,null,null,null,null,null,null,null,null,null,8.5999999999999002,{"$f":"Konstanty!$F$12^R252","v":1117.6509983780813},7.0189844389844325]
[null,null,null,null,null,null,null,null,null,null,null,null,null,null,null,8.6999999999998998,{"$f":"Konstanty!$F$12^R253","v":1125.2532558503501},7.0257634056487852]
[null,null,null,null,null,null,null,null,null,null,null,null,null,null,null,8.7999999999998995,{"$f":"Konstanty!$F$12^R254","v":1132.900939133759},7.0325368248772406]
[null,null,null,null,null,null,null,null,null,null,null,null,null,null,null,8.8999999999999009,{"$f":"Konstanty!$F$12^R255","v":1140.594279586267},7.0393047034764749]
[null,null,null,null,null,null,null,null,null,null,null,null,null,null,null,8.9999999999999005,{"$f":"Konstanty!$F$12^R256","v":1148.3335095204709},7.0460670482420191]
[null,null,null,null,null,null,null,null,null,null,null,null,null,null,null,9.0999999999999002,{"$f":"Konstanty!$F$12^R257","v":1156.1188622065188},7.0528238659583096]
[null,null,null,null,null,null,null,null,null,null,null,null,null,null,null,9.1999999999998998,{"$f":"Konstanty!$F$12^R258","v":1163.9505718749501},7.0595751633986836]
[null,null,null,null,null,null,null,null,null,null,null,null,null,null,null,9.2999999999998995,{"$f":"Konstanty!$F$12^R259","v":1171.8288737196219},7.0663209473254298]
[null,null,null,null,null,null,null,null,null,null,null,null,null,null,null,9.3999999999999009,{"$f":"Konstanty!$F$12^R260","v":1179.7540039005607},7.0730612244897877]
[null,null,null,null,null,null,null,null,null,null,null,null,null,null,null,9.4999999999999005,{"$f":"Konstanty!$F$12^R261","v":1187.7261995468759},7.0797960016319799]
[null,null,null,null,null,null,null,null,null,null,null,null,null,null,null,9.5999999999999002,{"$f":"Konstanty!$F$12^R262","v":1195.7456987596495},7.0865252854812333]
[null,null,null,null,null,null,null,null,null,null,null,null,null,null,null,9.6999999999998998,{"$f":"Konstanty!$F$12^R263","v":1203.8127406148383},7.0932490827558006]
[null,null,null,null,null,null,null,null,null,null,null,null,null,null,null,9.7999999999998995,{"$f":"Konstanty!$F$12^R264","v":1211.9275651661965},7.099967400162992]
[null,null,null,null,null,null,null,null,null,null,null,null,null,null,null,9.8999999999999009,{"$f":"Konstanty!$F$12^R265","v":1220.0904134481539},7.1066802443991755]
[null,null,null,null,null,null,null,null,null,null,null,null,null,null,null,9.9999999999999005,{"$f":"Konstanty!$F$12^R266","v":1228.3015274787717},7.1133876221498298]
[null,null,null,null,null,null,null,null,null,null,null,null,null,null,null,10.0999999999999,{"$f":"Konstanty!$F$12^R267","v":1236.5611502626214},7.1200895400895341]
[null,null,null,null,null,null,null,null,null,null,null,null,null,null,null,10.1999999999999,{"$f":"Konstanty!$F$12^R268","v":1244.8695257937377},7.1267860048820104]
[null,null,null,null,null,null,null,null,null,null,null,null,null,null,null,10.299999999999899,{"$f":"Konstanty!$F$12^R269","v":1253.2268990585408},7.133477023180145]
[null,null,null,null,null,null,null,null,null,null,null,null,null,null,null,10.399999999999901,{"$f":"Konstanty!$F$12^R270","v":1261.6335160387678},7.140162601626006]
[null,null,null,null,null,null,null,null,null,null,null,null,null,null,null,10.499999999999901,{"$f":"Konstanty!$F$12^R271","v":1270.0896237144088},7.1468427468508651]
[null,null,null,null,null,null,null,null,null,null,null,null,null,null,null,10.5999999999999,{"$f":"Konstanty!$F$12^R272","v":1278.5954700666437},7.1535174654752147]
[null,null,null,null,null,null,null,null,null,null,null,null,null,null,null,10.6999999999999,{"$f":"Konstanty!$F$12^R273","v":1287.1513040808054},7.1601867641088042]
[null,null,null,null,null,null,null,null,null,null,null,null,null,null,null,10.799999999999899,{"$f":"Konstanty!$F$12^R274","v":1295.7573757493078},7.1668506493506428]
[null,null,null,null,null,null,null,null,null,null,null,null,null,null,null,10.899999999999901,{"$f":"Konstanty!$F$12^R275","v":1304.4139360746228},7.173509127789039]
[null,null,null,null,null,null,null,null,null,null,null,null,null,null,null,10.999999999999901,{"$f":"Konstanty!$F$12^R276","v":1313.1212370722303},7.180162206001615]
[null,null,null,null,null,null,null,null,null,null,null,null,null,null,null,11.0999999999999,{"$f":"Konstanty!$F$12^R277","v":1321.8795317735774},7.1868098905553239]
[null,null,null,null,null,null,null,null,null,null,null,null,null,null,null,11.1999999999999,{"$f":"Konstanty!$F$12^R278","v":1330.6890742290502},7.193452188006475]
[null,null,null,null,null,null,null,null,null,null,null,null,null,null,null,11.299999999999899,{"$f":"Konstanty!$F$12^R279","v":1339.5501195109564},7.200089104900762]
[null,null,null,null,null,null,null,null,null,null,null,null,null,null,null,11.399999999999901,{"$f":"Konstanty!$F$12^R280","v":1348.4629237164822},7.2067206477732704]
[null,null,null,null,null,null,null,null,null,null,null,null,null,null,null,11.499999999999901,{"$f":"Konstanty!$F$12^R281","v":1357.4277439706984},7.2133468231485161]
[null,null,null,null,null,null,null,null,null,null,null,null,null,null,null,11.5999999999999,{"$f":"Konstanty!$F$12^R282","v":1366.4448384295169},7.2199676375404458]
[null,null,null,null,null,null,null,null,null,null,null,null,null,null,null,11.6999999999999,{"$f":"Konstanty!$F$12^R283","v":1375.5144662827061},7.2265830974524796]
[null,null,null,null,null,null,null,null,null,null,null,null,null,null,null,11.799999999999899,{"$f":"Konstanty!$F$12^R284","v":1384.6368877568725},7.233193209377518]
[null,null,null,null,null,null,null,null,null,null,null,null,null,null,null,11.899999999999901,{"$f":"Konstanty!$F$12^R285","v":1393.8123641184659},7.2397979797979701]
[null,null,null,null,null,null,null,null,null,null,null,null,null,null,null,11.999999999999901,{"$f":"Konstanty!$F$12^R286","v":1403.0411576767783},7.2463974151857755]
[null,null,null,null,null,null,null,null,null,null,null,null,null,null,null,12.0999999999999,{"$f":"Konstanty!$F$12^R287","v":1412.3235317869444},7.2529915220024144]
[null,null,null,null,null,null,null,null,null,null,null,null,null,null,null,12.1999999999999,{"$f":"Konstanty!$F$12^R288","v":1421.6597508529692},7.2595803066989433]
[null,null,null,null,null,null,null,null,null,null,null,null,null,null,null,12.299999999999899,{"$f":"Konstanty!$F$12^R289","v":1431.0500803307266},7.2661637757160058]
[null,null,null,null,null,null,null,null,null,null,null,null,null,null,null,12.399999999999901,{"$f":"Konstanty!$F$12^R290","v":1440.494786730997},7.2727419354838609]
[null,null,null,null,null,null,null,null,null,null,null,null,null,null,null,12.499999999999901,{"$f":"Konstanty!$F$12^R291","v":1449.994137622484},7.2793147924224044]
[null,null,null,null,null,null,null,null,null,null,null,null,null,null,null,12.5999999999999,{"$f":"Konstanty!$F$12^R292","v":1459.5484016348221},7.2858823529411687]
[null,null,null,null,null,null,null,null,null,null,null,null,null,null,null,12.6999999999999,{"$f":"Konstanty!$F$12^R293","v":1469.1578484616509},7.2924446234393798]
[null,null,null,null,null,null,null,null,null,null,null,null,null,null,null,12.799999999999899,{"$f":"Konstanty!$F$12^R294","v":1478.8227488636239},7.2990016103059503]
[null,null,null,null,null,null,null,null,null,null,null,null,null,null,null,12.899999999999901,{"$f":"Konstanty!$F$12^R295","v":1488.5433746714491},{"$f":"23.58-(4044.2/(235.6+P295))","v":7.3055533199195075}]
[null,null,null,null,null,null,null,null,null,null,null,null,null,null,null,12.999999999999901,{"$f":"Konstanty!$F$12^R296","v":1498.3199987889625},7.3120997586484258]
[null,null,null,null,null,null,null,null,null,null,null,null,null,null,null,13.0999999999999,{"$f":"Konstanty!$F$12^R297","v":1508.1528951961216},7.3186409328508155]
[null,null,null,null,null,null,null,null,null,null,null,null,null,null,null,13.1999999999999,{"$f":"Konstanty!$F$12^R298","v":1518.0423389521345},7.325176848874591]
[null,null,null,null,null,null,null,null,null,null,null,null,null,null,null,13.299999999999899,{"$f":"Konstanty!$F$12^R299","v":1527.9886061984537},7.3317075130574452]
[null,null,null,null,null,null,null,null,null,null,null,null,null,null,null,13.399999999999901,{"$f":"Konstanty!$F$12^R300","v":1537.9919741618737},7.3382329317268997]
[null,null,null,null,null,null,null,null,null,null,null,null,null,null,null,13.499999999999901,{"$f":"Konstanty!$F$12^R301","v":1548.0527211575886},7.3447531112003155]
[null,null,null,null,null,null,null,null,null,null,null,null,null,null,null,13.5999999999999,{"$f":"Konstanty!$F$12^R302","v":1558.1711265922511},7.3512680577849032]
[null,null,null,null,null,null,null,null,null,null,null,null,null,null,null,13.6999999999999,{"$f":"Konstanty!$F$12^R303","v":1568.3474709670788},7.3577777777777698]
[null,null,null,null,null,null,null,null,null,null,null,null,null,null,null,13.799999999999899,{"$f":"Konstanty!$F$12^R304","v":1578.5820358808983},7.3642822774659109]
[null,null,null,null,null,null,null,null,null,null,null,null,null,null,null,13.899999999999901,{"$f":"Konstanty!$F$12^R305","v":1588.8751040332431},7.3707815631262434]
[null,null,null,null,null,null,null,null,null,null,null,null,null,null,null,13.999999999999901,{"$f":"Konstanty!$F$12^R306","v":1599.2269592274561},7.3772756410256335]
[null,null,null,null,null,null,null,null,null,null,null,null,null,null,null,14.0999999999999,{"$f":"Konstanty!$F$12^R307","v":1609.6378863737484},7.3837645174208966]
[null,null,null,null,null,null,null,null,null,null,null,null,null,null,null,14.1999999999999,{"$f":"Konstanty!$F$12^R308","v":1620.1081714923314},7.3902481985588402]
[null,null,null,null,null,null,null,null,null,null,null,null,null,null,null,14.299999999999899,{"$f":"Konstanty!$F$12^R309","v":1630.6381017164847},7.3967266906762639]
[null,null,null,null,null,null,null,null,null,null,null,null,null,null,null,14.399999999999901,{"$f":"Konstanty!$F$12^R310","v":1641.2279652956795},7.4031999999999911]
[null,null,null,null,null,null,null,null,null,null,null,null,null,null,null,14.499999999999901,{"$f":"Konstanty!$F$12^R311","v":1651.8780515986946},7.4096681327468943]
[null,null,null,null,null,null,null,null,null,null,null,null,null,null,null,14.5999999999999,{"$f":"Konstanty!$F$12^R312","v":1662.5886511166968},7.4161310951238946]
[null,null,null,null,null,null,null,null,null,null,null,null,null,null,null,14.6999999999999,{"$f":"Konstanty!$F$12^R313","v":1673.3600554663824},7.4225888933279975]
[null,null,null,null,null,null,null,null,null,null,null,null,null,null,null,14.799999999999899,{"$f":"Konstanty!$F$12^R314","v":1684.1925573931069},7.429041533546318]
[null,null,null,null,null,null,null,null,null,null,null,null,null,null,null,14.899999999999901,{"$f":"Konstanty!$F$12^R315","v":1695.0864507739759},7.4354890219560801]
[null,null,null,null,null,null,null,null,null,null,null,null,null,null,null,14.999999999999901,{"$f":"Konstanty!$F$12^R316","v":1706.0420306210015},7.4419313647246526]
[null,null,null,null,null,null,null,null,null,null,null,null,null,null,null,15.0999999999999,{"$f":"Konstanty!$F$12^R317","v":1717.0595930842319},7.4483685680095668]
[null,null,null,null,null,null,null,null,null,null,null,null,null,null,null,15.1999999999999,{"$f":"Konstanty!$F$12^R318","v":1728.1394354548622},7.4548006379585239]
[null,null,null,null,null,null,null,null,null,null,null,null,null,null,null,15.299999999999899,{"$f":"Konstanty!$F$12^R319","v":1739.2818561684235},7.461227580709437]
[null,null,null,null,null,null,null,null,null,null,null,null,null,null,null,15.399999999999901,{"$f":"Konstanty!$F$12^R320","v":1750.4871548078816},7.4676494023904283]
[null,null,null,null,null,null,null,null,null,null,null,null,null,null,null,15.499999999999901,{"$f":"Konstanty!$F$12^R321","v":1761.7556321068237},7.4740661091198675]
[null,null,null,null,null,null,null,null,null,null,null,null,null,null,null,15.5999999999999,{"$f":"Konstanty!$F$12^R322","v":1773.0875899525522},7.4804777070063615]
[null,null,null,null,null,null,null,null,null,null,null,null,null,null,null,15.6999999999999,{"$f":"Konstanty!$F$12^R323","v":1784.4833313893294},7.4868842021488184]
[null,null,null,null,null,null,null,null,null,null,null,null,null,null,null,15.799999999999899,{"$f":"Konstanty!$F$12^R324","v":1795.9431606214687},7.4932856006364297]
[null,null,null,null,null,null,null,null,null,null,null,null,null,null,null,15.899999999999901,{"$f":"Konstanty!$F$12^R325","v":1807.4673830165109},7.4996819085486983]
[null,null,null,null,null,null,null,null,null,null,null,null,null,null,null,15.999999999999901,{"$f":"Konstanty!$F$12^R326","v":1819.0563051084398},7.5060731319554783]
[null,null,null,null,null,null,null,null,null,null,null,null,null,null,null,16.099999999999898,{"$f":"Konstanty!$F$12^R327","v":1830.7102346007757},7.5124592769169567]
[null,null,null,null,null,null,null,null,null,null,null,null,null,null,null,16.1999999999999,{"$f":"Konstanty!$F$12^R328","v":1842.4294803698342},7.5188403494837104]
[null,null,null,null,null,null,null,null,null,null,null,null,null,null,null,16.299999999999901,{"$f":"Konstanty!$F$12^R329","v":1854.2143524678395},7.5252163556966956]
[null,null,null,null,null,null,null,null,null,null,null,null,null,null,null,16.399999999999899,{"$f":"Konstanty!$F$12^R330","v":1866.065162126172},7.5315873015872938]
[null,null,null,null,null,null,null,null,null,null,null,null,null,null,null,16.499999999999901,{"$f":"Konstanty!$F$12^R331","v":1877.9822217584983},7.5379531931773052]
[null,null,null,null,null,null,null,null,null,null,null,null,null,null,null,16.599999999999898,{"$f":"Konstanty!$F$12^R332","v":1889.9658449639851},7.5443140364789762]
[null,null,null,null,null,null,null,null,null,null,null,null,null,null,null,16.6999999999999,{"$f":"Konstanty!$F$12^R333","v":1902.0163465305402},7.5506698374950396]
[null,null,null,null,null,null,null,null,null,null,null,null,null,null,null,16.799999999999901,{"$f":"Konstanty!$F$12^R334","v":1914.1340424379266},7.5570206022186923]
[null,null,null,null,null,null,null,null,null,null,null,null,null,null,null,16.899999999999899,{"$f":"Konstanty!$F$12^R335","v":1926.319249861051},7.5633663366336563]
[null,null,null,null,null,null,null,null,null,null,null,null,null,null,null,16.999999999999901,{"$f":"Konstanty!$F$12^R336","v":1938.572287173115},7.5697070467141643]
[null,null,null,null,null,null,null,null,null,null,null,null,null,null,null,17.099999999999898,{"$f":"Konstanty!$F$12^R337","v":1950.8934739488623},7.5760427384250022]
[null,null,null,null,null,null,null,null,null,null,null,null,null,null,null,17.1999999999999,{"$f":"Konstanty!$F$12^R338","v":1963.2831309677701},7.5823734177215112]
[null,null,null,null,null,null,null,null,null,null,null,null,null,null,null,17.299999999999901,{"$f":"Konstanty!$F$12^R339","v":1975.7415802172836},7.5886990905496159]
[null,null,null,null,null,null,null,null,null,null,null,null,null,null,null,17.399999999999899,{"$f":"Konstanty!$F$12^R340","v":1988.269144896047},7.5950197628458422]
[null,null,null,null,null,null,null,null,null,null,null,null,null,null,null,17.499999999999901,{"$f":"Konstanty!$F$12^R341","v":2000.8661494171074},7.6013354405373299]
[null,null,null,null,null,null,null,null,null,null,null,null,null,null,null,17.599999999999898,{"$f":"Konstanty!$F$12^R342","v":2013.5329194111671},7.6076461295418571]
[null,null,null,null,null,null,null,null,null,null,null,null,null,null,null,17.6999999999999,{"$f":"Konstanty!$F$12^R343","v":2026.2697817298115},7.6139518357678568]
[null,null,null,null,null,null,null,null,null,null,null,null,null,null,null,17.799999999999901,{"$f":"Konstanty!$F$12^R344","v":2039.077064448752},7.6202525651144359]
[null,null,null,null,null,null,null,null,null,null,null,null,null,null,null,17.899999999999899,{"$f":"Konstanty!$F$12^R345","v":2051.9550968710637},7.6265483234713916]
[null,null,null,null,null,null,null,null,null,null,null,null,null,null,null,17.999999999999901,{"$f":"Konstanty!$F$12^R346","v":2064.9042095304458},7.6328391167192358]
[null,null,null,null,null,null,null,null,null,null,null,null,null,null,null,18.099999999999898,{"$f":"Konstanty!$F$12^R347","v":2077.9247341944465},7.6391249507292009]
[null,null,null,null,null,null,null,null,null,null,null,null,null,null,null,18.1999999999999,{"$f":"Konstanty!$F$12^R348","v":2091.0170038677416},7.64540583136327]
[null,null,null,null,null,null,null,null,null,null,null,null,null,null,null,18.299999999999901,{"$f":"Konstanty!$F$12^R349","v":2104.1813527953914},7.6516817644741941]
[null,null,null,null,null,null,null,null,null,null,null,null,null,null,null,18.399999999999899,{"$f":"Konstanty!$F$12^R350","v":2117.4181164660899},7.6579527559055034]
[null,null,null,null,null,null,null,null,null,null,null,null,null,null,null,18.499999999999901,{"$f":"Konstanty!$F$12^R351","v":2130.7276316154421},7.6642188114915317]
[null,null,null,null,null,null,null,null,null,null,null,null,null,null,null,18.599999999999898,{"$f":"Konstanty!$F$12^R352","v":2144.1102362292199},7.6704799370574275]
[null,null,null,null,null,null,null,null,null,null,null,null,null,null,null,18.6999999999999,{"$f":"Konstanty!$F$12^R353","v":2157.566269546659},7.6767361384191819]
[null,null,null,null,null,null,null,null,null,null,null,null,null,null,null,18.799999999999901,{"$f":"Konstanty!$F$12^R354","v":2171.0960720637127},7.6829874213836398]
[null,null,null,null,null,null,null,null,null,null,null,null,null,null,null,18.899999999999899,{"$f":"Konstanty!$F$12^R355","v":2184.6999855363483},7.689233791748519]
[null,null,null,null,null,null,null,null,null,null,null,null,null,null,null,18.999999999999901,{"$f":"Konstanty!$F$12^R356","v":2198.3783529838233},7.6954752553024282]
[null,null,null,null,null,null,null,null,null,null,null,null,null,null,null,19.099999999999898,{"$f":"Konstanty!$F$12^R357","v":2212.1315186919783},7.7017118178248847]
[null,null,null,null,null,null,null,null,null,null,null,null,null,null,null,19.1999999999999,{"$f":"Konstanty!$F$12^R358","v":2225.9598282165234},7.707943485086334]
[null,null,null,null,null,null,null,null,null,null,null,null,null,null,null,19.299999999999901,{"$f":"Konstanty!$F$12^R359","v":2239.8636283863493},{"$f":"23.58-(4044.2/(235.6+P359))","v":7.7141702628481674}]
[null,null,null,null,null,null,null,null,null,null,null,null,null,null,null,19.399999999999899,{"$f":"Konstanty!$F$12^R360","v":2253.8432673068087},7.7203921568627365]
[null,null,null,null,null,null,null,null,null,null,null,null,null,null,null,19.499999999999901,{"$f":"Konstanty!$F$12^R361","v":2267.8990943630283},7.7266091728733759]
[null,null,null,null,null,null,null,null,null,null,null,null,null,null,null,19.599999999999898,{"$f":"Konstanty!$F$12^R362","v":2282.0314602232097},7.7328213166144124]
[null,null,null,null,null,null,null,null,null,null,null,null,null,null,null,19.6999999999999,{"$f":"Konstanty!$F$12^R363","v":2296.2407168419522},7.7390285938111951]
[null,null,null,null,null,null,null,null,null,null,null,null,null,null,null,19.799999999999901,{"$f":"Konstanty!$F$12^R364","v":2310.5272174635584},7.7452310101801025]
[null,null,null,null,null,null,null,null,null,null,null,null,null,null,null,19.899999999999899,{"$f":"Konstanty!$F$12^R365","v":2324.8913166253456},7.7514285714285638]
[null,null,null,null,null,null,null,null,null,null,null,null,null,null,null,19.999999999999901,{"$f":"Konstanty!$F$12^R366","v":2339.3333701609918},7.7576212832550802]
[null,null,null,null,null,null,null,null,null,null,null,null,null,null,null,20.099999999999898,{"$f":"Konstanty!$F$12^R367","v":2353.8537352038165},7.7638091513492302]
[null,null,null,null,null,null,null,null,null,null,null,null,null,null,null,20.1999999999999,{"$f":"Konstanty!$F$12^R368","v":2368.4527701901679},7.7699921813917054]
[null,null,null,null,null,null,null,null,null,null,null,null,null,null,null,20.299999999999901,{"$f":"Konstanty!$F$12^R369","v":2383.1308348626981},7.7761703790543102]
[null,null,null,null,null,null,null,null,null,null,null,null,null,null,null,20.399999999999899,{"$f":"Konstanty!$F$12^R370","v":2397.8882902737464},7.7823437499999919]
[null,null,null,null,null,null,null,null,null,null,null,null,null,null,null,20.499999999999901,{"$f":"Konstanty!$F$12^R371","v":2412.7254987886467},7.7885122998828518]
[null,null,null,null,null,null,null,null,null,null,null,null,null,null,null,20.599999999999898,{"$f":"Konstanty!$F$12^R372","v":2427.6428240890677},7.7946760343481571]
[null,null,null,null,null,null,null,null,null,null,null,null,null,null,null,20.6999999999999,{"$f":"Konstanty!$F$12^R373","v":2442.6406311764081},7.8008349590323771]
[null,null,null,null,null,null,null,null,null,null,null,null,null,null,null,20.799999999999901,{"$f":"Konstanty!$F$12^R374","v":2457.7192863750797},7.8069890795631771]
[null,null,null,null,null,null,null,null,null,null,null,null,null,null,null,20.899999999999899,{"$f":"Konstanty!$F$12^R375","v":2472.8791573358935},7.8131384015594456]
[null,null,null,null,null,null,null,null,null,null,null,null,null,null,null,20.999999999999901,{"$f":"Konstanty!$F$12^R376","v":2488.1206130394489},7.8192829306313261]
[null,null,null,null,null,null,null,null,null,null,null,null,null,null,null,21.099999999999898,{"$f":"Konstanty!$F$12^R377","v":2503.4440237994213},7.825422672380201]
[null,null,null,null,null,null,null,null,null,null,null,null,null,null,null,21.1999999999999,{"$f":"Konstanty!$F$12^R378","v":2518.8497612660071},7.8315576323987468]
[null,null,null,null,null,null,null,null,null,null,null,null,null,null,null,21.299999999999901,{"$f":"Konstanty!$F$12^R379","v":2534.3381984292155},7.8376878162709165]
[null,null,null,null,null,null,null,null,null,null,null,null,null,null,null,21.399999999999899,{"$f":"Konstanty!$F$12^R380","v":2549.9097096222858},7.8438132295719765]
[null,null,null,null,null,null,null,null,null,null,null,null,null,null,null,21.499999999999901,{"$f":"Konstanty!$F$12^R381","v":2565.5646705250715},7.8499338778685264]
[null,null,null,null,null,null,null,null,null,null,null,null,null,null,null,21.599999999999898,{"$f":"Konstanty!$F$12^R382","v":2581.3034581673742},7.856049766718499]
[null,null,null,null,null,null,null,null,null,null,null,null,null,null,null,21.6999999999999,{"$f":"Konstanty!$F$12^R383","v":2597.1264509323673},7.862160901671194]
[null,null,null,null,null,null,null,null,null,null,null,null,null,null,null,21.799999999999901,{"$f":"Konstanty!$F$12^R384","v":2613.0340285599555},7.8682672882672833]
[null,null,null,null,null,null,null,null,null,null,null,null,null,null,null,21.899999999999899,{"$f":"Konstanty!$F$12^R385","v":2629.026572150156},7.874368932038827]
[null,null,null,null,null,null,null,null,null,null,null,null,null,null,null,21.999999999999901,{"$f":"Konstanty!$F$12^R386","v":2645.1044641665494},7.8804658385093109]
[null,null,null,null,null,null,null,null,null,null,null,null,null,null,null,22.099999999999898,{"$f":"Konstanty!$F$12^R387","v":2661.2680884395759},7.8865580131936266]
[null,null,null,null,null,null,null,null,null,null,null,null,null,null,null,22.1999999999999,{"$f":"Konstanty!$F$12^R388","v":2677.5178301700475},7.8926454615981303]
[null,null,null,null,null,null,null,null,null,null,null,null,null,null,null,22.299999999999901,{"$f":"Konstanty!$F$12^R389","v":2693.8540759324487},7.8987281892206216]
[null,null,null,null,null,null,null,null,null,null,null,null,null,null,null,22.399999999999899,{"$f":"Konstanty!$F$12^R390","v":2710.2772136783919},7.9048062015503788]
[null,null,null,null,null,null,null,null,null,null,null,null,null,null,null,22.499999999999901,{"$f":"Konstanty!$F$12^R391","v":2726.7876327400522},7.9108795040681841]
[null,null,null,null,null,null,null,null,null,null,null,null,null,null,null,22.599999999999898,{"$f":"Konstanty!$F$12^R392","v":2743.3857238334963},7.9169481022463124]
[null,null,null,null,null,null,null,null,null,null,null,null,null,null,null,22.6999999999999,{"$f":"Konstanty!$F$12^R393","v":2760.0718790621991},7.9230120015485799]
[null,null,null,null,null,null,null,null,null,null,null,null,null,null,null,22.799999999999901,{"$f":"Konstanty!$F$12^R394","v":2776.8464919203821},7.9290712074303347]
[null,null,null,null,null,null,null,null,null,null,null,null,null,null,null,22.899999999999899,{"$f":"Konstanty!$F$12^R395","v":2793.7099572964698},7.9351257253384837]
[null,null,null,null,null,null,null,null,null,null,null,null,null,null,null,22.999999999999901,{"$f":"Konstanty!$F$12^R396","v":2810.6626714765298},7.9411755607115175]
[null,null,null,null,null,null,null,null,null,null,null,null,null,null,null,23.099999999999898,{"$f":"Konstanty!$F$12^R397","v":2827.7050321476559},7.947220718979505]
[null,null,null,null,null,null,null,null,null,null,null,null,null,null,null,23.1999999999999,{"$f":"Konstanty!$F$12^R398","v":2844.8374384014655},7.9532612055641358]
[null,null,null,null,null,null,null,null,null,null,null,null,null,null,null,23.299999999999901,{"$f":"Konstanty!$F$12^R399","v":2862.0602907374596},7.9592970258787119]
[null,null,null,null,null,null,null,null,null,null,null,null,null,null,null,23.399999999999899,{"$f":"Konstanty!$F$12^R400","v":2879.3739910665131},7.9653281853281772]
[null,null,null,null,null,null,null,null,null,null,null,null,null,null,null,23.499999999999901,{"$f":"Konstanty!$F$12^R401","v":2896.7789427143321},7.9713546893091412]
[null,null,null,null,null,null,null,null,null,null,null,null,null,null,null,23.599999999999898,{"$f":"Konstanty!$F$12^R402","v":2914.2755504248125},7.9773765432098678]
[null,null,null,null,null,null,null,null,null,null,null,null,null,null,null,23.6999999999999,{"$f":"Konstanty!$F$12^R403","v":2931.8642203636164},7.9833937524103291]
[null,null,null,null,null,null,null,null,null,null,null,null,null,null,null,23.799999999999901,{"$f":"Konstanty!$F$12^R404","v":2949.5453601214917},7.9894063222821838]
[null,null,null,null,null,null,null,null,null,null,null,null,null,null,null,23.899999999999899,{"$f":"Konstanty!$F$12^R405","v":2967.3193787178179},7.9954142581888163]
[null,null,null,null,null,null,null,null,null,null,null,null,null,null,null,23.999999999999901,{"$f":"Konstanty!$F$12^R406","v":2985.1866866040532},8.0014175654853563]
[null,null,null,null,null,null,null,null,null,null,null,null,null,null,null,24.099999999999898,{"$f":"Konstanty!$F$12^R407","v":3003.1476956671322},8.0074162495186663]
[null,null,null,null,null,null,null,null,null,null,null,null,null,null,null,24.1999999999999,{"$f":"Konstanty!$F$12^R408","v":3021.2028192330354},8.0134103156273984]
[null,null,null,null,null,null,null,null,null,null,null,null,null,null,null,24.299999999999901,{"$f":"Konstanty!$F$12^R409","v":3039.3524720701498},8.0193997691419714]
[null,null,null,null,null,null,null,null,null,null,null,null,null,null,null,24.399999999999899,{"$f":"Konstanty!$F$12^R410","v":3057.5970703927978},8.025384615384608]
[null,null,null,null,null,null,null,null,null,null,null,null,null,null,null,24.499999999999901,{"$f":"Konstanty!$F$12^R411","v":3075.9370318647316},8.0313648596693508]
[null,null,null,null,null,null,null,null,null,null,null,null,null,null,null,24.599999999999898,{"$f":"Konstanty!$F$12^R412","v":3094.3727756025482},8.0373405073020674]
[null,null,null,null,null,null,null,null,null,null,null,null,null,null,null,24.6999999999999,{"$f":"Konstanty!$F$12^R413","v":3112.9047221792243},8.0433115635804775]
[null,null,null,null,null,null,null,null,null,null,null,null,null,null,null,24.799999999999901,{"$f":"Konstanty!$F$12^R414","v":3131.5332936275631},8.0492780337941578]
[null,null,null,null,null,null,null,null,null,null,null,null,null,null,null,24.899999999999899,{"$f":"Konstanty!$F$12^R415","v":3150.2589134436857},8.0552399232245602]
[null,null,null,null,null,null,null,null,null,null,null,null,null,null,null,24.999999999999901,{"$f":"Konstanty!$F$12^R416","v":3169.0820065905741},8.0611972371450431]
[null,null,null,null,null,null,null,null,null,null,null,null,null,null,null,25.099999999999898,{"$f":"Konstanty!$F$12^R417","v":3188.0029995014697},8.067149980820858]
[null,null,null,null,null,null,null,null,null,null,null,null,null,null,null,25.1999999999999,{"$f":"Konstanty!$F$12^R418","v":3207.0223200834653},8.0730981595091951]
[null,null,null,null,null,null,null,null,null,null,null,null,null,null,null,25.299999999999901,{"$f":"Konstanty!$F$12^R419","v":3226.1403977209234},8.0790417784591746]
[null,null,null,null,null,null,null,null,null,null,null,null,null,null,null,25.399999999999899,{"$f":"Konstanty!$F$12^R420","v":3245.3576632790218},8.0849808429118699]
[null,null,null,null,null,null,null,null,null,null,null,null,null,null,null,25.499999999999901,{"$f":"Konstanty!$F$12^R421","v":3264.6745491072752},8.0909153581003377]
[null,null,null,null,null,null,null,null,null,null,null,null,null,null,null,25.599999999999898,{"$f":"Konstanty!$F$12^R422","v":3284.0914890429858},8.096845329249609]
[null,null,null,null,null,null,null,null,null,null,null,null,null,null,null,25.6999999999999,{"$f":"Konstanty!$F$12^R423","v":3303.6089184148154},{"$f":"23.58-(4044.2/(235.6+P423))","v":8.1027707615767248}]
[null,null,null,null,null,null,null,null,null,null,null,null,null,null,null,25.799999999999901,{"$f":"Konstanty!$F$12^R424","v":3323.227274046249},8.1086916602907362]
[null,null,null,null,null,null,null,null,null,null,null,null,null,null,null,25.899999999999899,{"$f":"Konstanty!$F$12^R425","v":3342.9469942591372},8.1146080305927271]
[null,null,null,null,null,null,null,null,null,null,null,null,null,null,null,25.999999999999901,{"$f":"Konstanty!$F$12^R426","v":3362.7685188772311},8.1205198776758341]
[null,null,null,null,null,null,null,null,null,null,null,null,null,null,null,26.099999999999898,{"$f":"Konstanty!$F$12^R427","v":3382.692289229667},8.1264272067252499]
[null,null,null,null,null,null,null,null,null,null,null,null,null,null,null,26.1999999999999,{"$f":"Konstanty!$F$12^R428","v":3402.7187481545361},8.1323300229182518]
[null,null,null,null,null,null,null,null,null,null,null,null,null,null,null,26.299999999999901,{"$f":"Konstanty!$F$12^R429","v":3422.8483400023683},8.1382283314242017]
[null,null,null,null,null,null,null,null,null,null,null,null,null,null,null,26.3999999999998,{"$f":"Konstanty!$F$12^R430","v":3443.0815106396558},8.1441221374045654]
[null,null,null,null,null,null,null,null,null,null,null,null,null,null,null,26.499999999999901,{"$f":"Konstanty!$F$12^R431","v":3463.4187074525548},8.1500114460129662]
[null,null,null,null,null,null,null,null,null,null,null,null,null,null,null,26.599999999999898,{"$f":"Konstanty!$F$12^R432","v":3483.8603793500915},8.1558962623951103]
[null,null,null,null,null,null,null,null,null,null,null,null,null,null,null,26.6999999999999,{"$f":"Konstanty!$F$12^R433","v":3504.4069767680417},8.1617765916888985]
[null,null,null,null,null,null,null,null,null,null,null,null,null,null,null,26.799999999999901,{"$f":"Konstanty!$F$12^R434","v":3525.0589516722821},8.1676524390243852]
[null,null,null,null,null,null,null,null,null,null,null,null,null,null,null,26.8999999999998,{"$f":"Konstanty!$F$12^R435","v":3545.8167575623402},8.173523809523795]
[null,null,null,null,null,null,null,null,null,null,null,null,null,null,null,26.999999999999901,{"$f":"Konstanty!$F$12^R436","v":3566.6808494751417},8.1793907083015931]
[null,null,null,null,null,null,null,null,null,null,null,null,null,null,null,27.099999999999898,{"$f":"Konstanty!$F$12^R437","v":3587.6516839882142},8.1852531404644004]
[null,null,null,null,null,null,null,null,null,null,null,null,null,null,null,27.1999999999998,{"$f":"Konstanty!$F$12^R438","v":3608.7297192235301},8.1911111111110966]
[null,null,null,null,null,null,null,null,null,null,null,null,null,null,null,27.299999999999802,{"$f":"Konstanty!$F$12^R439","v":3629.9154148510311},8.1969646253328143]
[null,null,null,null,null,null,null,null,null,null,null,null,null,null,null,27.3999999999998,{"$f":"Konstanty!$F$12^R440","v":3651.2092320920156},8.2028136882129132]
[null,null,null,null,null,null,null,null,null,null,null,null,null,null,null,27.499999999999901,{"$f":"Konstanty!$F$12^R441","v":3672.61163372293},8.2086583048270558]
[null,null,null,null,null,null,null,null,null,null,null,null,null,null,null,27.599999999999898,{"$f":"Konstanty!$F$12^R442","v":3694.1230840786898},8.2144984802431527]
[null,null,null,null,null,null,null,null,null,null,null,null,null,null,null,27.6999999999998,{"$f":"Konstanty!$F$12^R443","v":3715.7440490564641},8.2203342195214439]
[null,null,null,null,null,null,null,null,null,null,null,null,null,null,null,27.799999999999802,{"$f":"Konstanty!$F$12^R444","v":3737.4749961192042},8.2261655277144907]
[null,null,null,null,null,null,null,null,null,null,null,null,null,null,null,27.8999999999998,{"$f":"Konstanty!$F$12^R445","v":3759.3163942990777},8.2319924098671589]
[null,null,null,null,null,null,null,null,null,null,null,null,null,null,null,27.999999999999801,{"$f":"Konstanty!$F$12^R446","v":3781.2687142012287},8.2378148710166794]
[null,null,null,null,null,null,null,null,null,null,null,null,null,null,null,28.099999999999799,{"$f":"Konstanty!$F$12^R447","v":3803.332428007212},8.2436329161926309]
[null,null,null,null,null,null,null,null,null,null,null,null,null,null,null,28.1999999999998,{"$f":"Konstanty!$F$12^R448","v":3825.5080094786731},8.2494465504169696]
[null,null,null,null,null,null,null,null,null,null,null,null,null,null,null,28.299999999999802,{"$f":"Konstanty!$F$12^R449","v":3847.7959339609015},8.2552557787040417]
[null,null,null,null,null,null,null,null,null,null,null,null,null,null,null,28.3999999999998,{"$f":"Konstanty!$F$12^R450","v":3870.1966783864104},8.2610606060605924]
[null,null,null,null,null,null,null,null,null,null,null,null,null,null,null,28.499999999999801,{"$f":"Konstanty!$F$12^R451","v":3892.7107212785263},8.2668610374857874]
[null,null,null,null,null,null,null,null,null,null,null,null,null,null,null,28.599999999999799,{"$f":"Konstanty!$F$12^R452","v":3915.3385427550106},8.272657077971223]
[null,null,null,null,null,null,null,null,null,null,null,null,null,null,null,28.6999999999998,{"$f":"Konstanty!$F$12^R453","v":3938.0806245315998},8.2784487325009319]
[null,null,null,null,null,null,null,null,null,null,null,null,null,null,null,28.799999999999802,{"$f":"Konstanty!$F$12^R454","v":3960.9374499256878},8.2842360060514242]
[null,null,null,null,null,null,null,null,null,null,null,null,null,null,null,28.8999999999998,{"$f":"Konstanty!$F$12^R455","v":3983.9095038598425},8.2900189035916689]
[null,null,null,null,null,null,null,null,null,null,null,null,null,null,null,28.999999999999801,{"$f":"Konstanty!$F$12^R456","v":4006.9972728654816},8.2957974300831321]
[null,null,null,null,null,null,null,null,null,null,null,null,null,null,null,29.099999999999799,{"$f":"Konstanty!$F$12^R457","v":4030.2012450864008},8.3015715904797762]
[null,null,null,null,null,null,null,null,null,null,null,null,null,null,null,29.1999999999998,{"$f":"Konstanty!$F$12^R458","v":4053.5219102824699},8.3073413897280837]
[null,null,null,null,null,null,null,null,null,null,null,null,null,null,null,29.299999999999802,{"$f":"Konstanty!$F$12^R459","v":4076.9597598331789},8.313106832767069]
[null,null,null,null,null,null,null,null,null,null,null,null,null,null,null,29.3999999999998,{"$f":"Konstanty!$F$12^R460","v":4100.5152867412908},8.3188679245282877]
[null,null,null,null,null,null,null,null,null,null,null,null,null,null,null,29.499999999999801,{"$f":"Konstanty!$F$12^R461","v":4124.188985636436},8.3246246699358597]
[null,null,null,null,null,null,null,null,null,null,null,null,null,null,null,29.599999999999799,{"$f":"Konstanty!$F$12^R462","v":4147.9813527787519},8.3303770739064742]
[null,null,null,null,null,null,null,null,null,null,null,null,null,null,null,29.6999999999998,{"$f":"Konstanty!$F$12^R463","v":4171.8928860624692},8.3361251413494024]
[null,null,null,null,null,null,null,null,null,null,null,null,null,null,null,29.799999999999802,{"$f":"Konstanty!$F$12^R464","v":4195.9240850195956},8.3418688771665295]
[null,null,null,null,null,null,null,null,null,null,null,null,null,null,null,29.8999999999998,{"$f":"Konstanty!$F$12^R465","v":4220.0754508234759},8.3476082862523402]
[null,null,null,null,null,null,null,null,null,null,null,null,null,null,null,29.999999999999801,{"$f":"Konstanty!$F$12^R466","v":4244.3474862924877},8.3533433734939635]
[null,null,null,null,null,null,null,null,null,null,null,null,null,null,null,30.099999999999799,{"$f":"Konstanty!$F$12^R467","v":4268.740695893619},8.3590741437711582]
[null,null,null,null,null,null,null,null,null,null,null,null,null,null,null,30.1999999999998,{"$f":"Konstanty!$F$12^R468","v":4293.2555857461184},8.364800601956345]
[null,null,null,null,null,null,null,null,null,null,null,null,null,null,null,30.299999999999802,{"$f":"Konstanty!$F$12^R469","v":4317.8926636251781},8.3705227529146171]
[null,null,null,null,null,null,null,null,null,null,null,null,null,null,null,30.3999999999998,{"$f":"Konstanty!$F$12^R470","v":4342.652438965486},8.3762406015037456]
[null,null,null,null,null,null,null,null,null,null,null,null,null,null,null,30.499999999999801,{"$f":"Konstanty!$F$12^R471","v":4367.5354228649521},8.3819541525742078]
[null,null,null,null,null,null,null,null,null,null,null,null,null,null,null,30.599999999999799,{"$f":"Konstanty!$F$12^R472","v":4392.5421280883038},8.3876634109691839]
[null,null,null,null,null,null,null,null,null,null,null,null,null,null,null,30.6999999999998,{"$f":"Konstanty!$F$12^R473","v":4417.6730690707345},8.3933683815245832]
[null,null,null,null,null,null,null,null,null,null,null,null,null,null,null,30.799999999999802,{"$f":"Konstanty!$F$12^R474","v":4442.9287619216075},8.399069069069057]
[null,null,null,null,null,null,null,null,null,null,null,null,null,null,null,30.8999999999998,{"$f":"Konstanty!$F$12^R475","v":4468.3097244279979},8.4047654784240002]
[null,null,null,null,null,null,null,null,null,null,null,null,null,null,null,30.999999999999801,{"$f":"Konstanty!$F$12^R476","v":4493.8164760585105},8.4104576144035885]
[null,null,null,null,null,null,null,null,null,null,null,null,null,null,null,31.099999999999799,{"$f":"Konstanty!$F$12^R477","v":4519.4495379667524},8.4161454818147625]
[null,null,null,null,null,null,null,null,null,null,null,null,null,null,null,31.1999999999998,{"$f":"Konstanty!$F$12^R478","v":4545.2094329950869},8.4218290854572579]
[null,null,null,null,null,null,null,null,null,null,null,null,null,null,null,31.299999999999802,{"$f":"Konstanty!$F$12^R479","v":4571.0966856783734},8.4275084301236305]
[null,null,null,null,null,null,null,null,null,null,null,null,null,null,null,31.3999999999998,{"$f":"Konstanty!$F$12^R480","v":4597.1118222474333},8.4331835205992363]
[null,null,null,null,null,null,null,null,null,null,null,null,null,null,null,31.499999999999801,{"$f":"Konstanty!$F$12^R481","v":4623.2553706329281},8.4388543616622869]
[null,null,null,null,null,null,null,null,null,null,null,null,null,null,null,31.599999999999799,{"$f":"Konstanty!$F$12^R482","v":4649.5278604688601},8.444520958083821]
[null,null,null,null,null,null,null,null,null,null,null,null,null,null,null,31.6999999999998,{"$f":"Konstanty!$F$12^R483","v":4675.9298230963213},8.4501833146277452]
[null,null,null,null,null,null,null,null,null,null,null,null,null,null,null,31.799999999999802,{"$f":"Konstanty!$F$12^R484","v":4702.4617915671979},8.4558414360508483]
[null,null,null,null,null,null,null,null,null,null,null,null,null,null,null,31.8999999999998,{"$f":"Konstanty!$F$12^R485","v":4729.1243006477525},8.4614953271027904]
[null,null,null,null,null,null,null,null,null,null,null,null,null,null,null,31.999999999999801,{"$f":"Konstanty!$F$12^R486","v":4755.9178868223935},8.4671449925261459]
[null,null,null,null,null,null,null,null,null,null,null,null,null,null,null,32.099999999999802,{"$f":"Konstanty!$F$12^R487","v":4782.8430882972825},{"$f":"23.58-(4044.2/(235.6+P487))","v":8.4727904370563945}]
[null,null,null,null,null,null,null,null,null,null,null,null,null,null,null,32.199999999999797,{"$f":"Konstanty!$F$12^R488","v":4809.9004450040475},8.4784316654219438]
[null,null,null,null,null,null,null,null,null,null,null,null,null,null,null,32.299999999999798,{"$f":"Konstanty!$F$12^R489","v":4837.0904986035112},8.4840686823441462]
[null,null,null,null,null,null,null,null,null,null,null,null,null,null,null,32.3999999999998,{"$f":"Konstanty!$F$12^R490","v":4864.4137924892739},8.4897014925373]
[null,null,null,null,null,null,null,null,null,null,null,null,null,null,null,32.499999999999801,{"$f":"Konstanty!$F$12^R491","v":4891.8708717915079},8.4953301007086779]
[null,null,null,null,null,null,null,null,null,null,null,null,null,null,null,32.599999999999802,{"$f":"Konstanty!$F$12^R492","v":4919.4622833805806},8.5009545115585272]
[null,null,null,null,null,null,null,null,null,null,null,null,null,null,null,32.699999999999797,{"$f":"Konstanty!$F$12^R493","v":4947.1885758707367},8.506574729780084]
[null,null,null,null,null,null,null,null,null,null,null,null,null,null,null,32.799999999999798,{"$f":"Konstanty!$F$12^R494","v":4975.0502996239102},8.5121907600596014]
[null,null,null,null,null,null,null,null,null,null,null,null,null,null,null,32.8999999999998,{"$f":"Konstanty!$F$12^R495","v":5003.0480067532317},8.5178026070763355]
[null,null,null,null,null,null,null,null,null,null,null,null,null,null,null,32.999999999999801,{"$f":"Konstanty!$F$12^R496","v":5031.1822511269356},8.5234102755025933]
[null,null,null,null,null,null,null,null,null,null,null,null,null,null,null,33.099999999999802,{"$f":"Konstanty!$F$12^R497","v":5059.4535883718745},8.5290137700037096]
[null,null,null,null,null,null,null,null,null,null,null,null,null,null,null,33.199999999999797,{"$f":"Konstanty!$F$12^R498","v":5087.8625758773351},8.5346130952380825]
[null,null,null,null,null,null,null,null,null,null,null,null,null,null,null,33.299999999999798,{"$f":"Konstanty!$F$12^R499","v":5116.409772798731},8.5402082558571841]
[null,null,null,null,null,null,null,null,null,null,null,null,null,null,null,33.3999999999998,{"$f":"Konstanty!$F$12^R500","v":5145.0957400612488},8.5457992565055623]
[null,null,null,null,null,null,null,null,null,null,null,null,null,null,null,33.499999999999801,{"$f":"Konstanty!$F$12^R501","v":5173.921040363688},8.5513861018208726]
[null,null,null,null,null,null,null,null,null,null,null,null,null,null,null,33.599999999999802,{"$f":"Konstanty!$F$12^R502","v":5202.8862381819981},8.5569687964338677]
[null,null,null,null,null,null,null,null,null,null,null,null,null,null,null,33.699999999999797,{"$f":"Konstanty!$F$12^R503","v":5231.9918997731038},8.562547344968424]
[null,null,null,null,null,null,null,null,null,null,null,null,null,null,null,33.799999999999798,{"$f":"Konstanty!$F$12^R504","v":5261.2385931786494},8.5681217520415629]
[null,null,null,null,null,null,null,null,null,null,null,null,null,null,null,33.8999999999998,{"$f":"Konstanty!$F$12^R505","v":5290.626888228584},8.5736920222634367]
[null,null,null,null,null,null,null,null,null,null,null,null,null,null,null,33.999999999999801,{"$f":"Konstanty!$F$12^R506","v":5320.1573565450581},8.5792581602373765]
[null,null,null,null,null,null,null,null,null,null,null,null,null,null,null,34.099999999999802,{"$f":"Konstanty!$F$12^R507","v":5349.8305715459746},8.5848201705598708]
[null,null,null,null,null,null,null,null,null,null,null,null,null,null,null,34.199999999999797,{"$f":"Konstanty!$F$12^R508","v":5379.6471084487885},8.5903780578205939]
[null,null,null,null,null,null,null,null,null,null,null,null,null,null,null,34.299999999999798,{"$f":"Konstanty!$F$12^R509","v":5409.6075442743122},8.5959318266024329]
[null,null,null,null,null,null,null,null,null,null,null,null,null,null,null,34.3999999999998,{"$f":"Konstanty!$F$12^R510","v":5439.712457850268},8.6014814814814677]
[null,null,null,null,null,null,null,null,null,null,null,null,null,null,null,34.499999999999801,{"$f":"Konstanty!$F$12^R511","v":5469.9624298151821},8.6070270270270139]
[null,null,null,null,null,null,null,null,null,null,null,null,null,null,null,34.599999999999802,{"$f":"Konstanty!$F$12^R512","v":5500.3580426220169},8.6125684678016174]
[null,null,null,null,null,null,null,null,null,null,null,null,null,null,null,34.699999999999797,{"$f":"Konstanty!$F$12^R513","v":5530.8998805419087},8.6181058083610669]
[null,null,null,null,null,null,null,null,null,null,null,null,null,null,null,34.799999999999798,{"$f":"Konstanty!$F$12^R514","v":5561.5885296680008},8.6236390532544256]
[null,null,null,null,null,null,null,null,null,null,null,null,null,null,null,34.8999999999998,{"$f":"Konstanty!$F$12^R515","v":5592.4245779190342},8.6291682070240157]
[null,null,null,null,null,null,null,null,null,null,null,null,null,null,null,34.999999999999801,{"$f":"Konstanty!$F$12^R516","v":5623.4086150432277},8.634693274205457]
[null,null,null,null,null,null,null,null,null,null,null,null,null,null,null,35.099999999999802,{"$f":"Konstanty!$F$12^R517","v":5654.541232621903},8.6402142593276583]
[null,null,null,null,null,null,null,null,null,null,null,null,null,null,null,35.199999999999797,{"$f":"Konstanty!$F$12^R518","v":5685.8230240732746},8.6457311669128387]
[null,null,null,null,null,null,null,null,null,null,null,null,null,null,null,35.299999999999798,{"$f":"Konstanty!$F$12^R519","v":5717.2545846562598},8.6512440014765488]
[null,null,null,null,null,null,null,null,null,null,null,null,null,null,null,35.3999999999998,{"$f":"Konstanty!$F$12^R520","v":5748.83651147406},8.6567527675276619]
[null,null,null,null,null,null,null,null,null,null,null,null,null,null,null,35.499999999999801,{"$f":"Konstanty!$F$12^R521","v":5780.5694034781236},8.6622574695684129]
[null,null,null,null,null,null,null,null,null,null,null,null,null,null,null,35.599999999999802,{"$f":"Konstanty!$F$12^R522","v":5812.4538614717048},8.6677581120943845]
[null,null,null,null,null,null,null,null,null,null,null,null,null,null,null,35.699999999999797,{"$f":"Konstanty!$F$12^R523","v":5844.4904881136981},8.6732546995945317]
[null,null,null,null,null,null,null,null,null,null,null,null,null,null,null,35.799999999999798,{"$f":"Konstanty!$F$12^R524","v":5876.6798879224534},8.6787472365512048]
[null,null,null,null,null,null,null,null,null,null,null,null,null,null,null,35.8999999999998,{"$f":"Konstanty!$F$12^R525","v":5909.0226672793688},8.6842357274401341]
[null,null,null,null,null,null,null,null,null,null,null,null,null,null,null,35.999999999999801,{"$f":"Konstanty!$F$12^R526","v":5941.5194344328438},8.6897201767304733]
[null,null,null,null,null,null,null,null,null,null,null,null,null,null,null,36.099999999999802,{"$f":"Konstanty!$F$12^R527","v":5974.1707995018569},8.6952005888847879]
[null,null,null,null,null,null,null,null,null,null,null,null,null,null,null,36.199999999999797,{"$f":"Konstanty!$F$12^R528","v":6006.9773744798276},8.7006769683590743]
[null,null,null,null,null,null,null,null,null,null,null,null,null,null,null,36.299999999999798,{"$f":"Konstanty!$F$12^R529","v":6039.9397732384032},8.7061493196027833]
[null,null,null,null,null,null,null,null,null,null,null,null,null,null,null,36.3999999999998,{"$f":"Konstanty!$F$12^R530","v":6073.0586115311116},8.7116176470588105]
[null,null,null,null,null,null,null,null,null,null,null,null,null,null,null,36.499999999999801,{"$f":"Konstanty!$F$12^R531","v":6106.3345069972638},8.7170819551635308]
[null,null,null,null,null,null,null,null,null,null,null,null,null,null,null,36.599999999999802,{"$f":"Konstanty!$F$12^R532","v":6139.7680791655739},8.7225422483467927]
[null,null,null,null,null,null,null,null,null,null,null,null,null,null,null,36.699999999999797,{"$f":"Konstanty!$F$12^R533","v":6173.3599494580394},8.7279985310319379]
[null,null,null,null,null,null,null,null,null,null,null,null,null,null,null,36.799999999999798,{"$f":"Konstanty!$F$12^R534","v":6207.1107411936946},8.7334508076358173]
[null,null,null,null,null,null,null,null,null,null,null,null,null,null,null,36.8999999999998,{"$f":"Konstanty!$F$12^R535","v":6241.0210795923476},8.7388990825687944]
[null,null,null,null,null,null,null,null,null,null,null,null,null,null,null,36.999999999999801,{"$f":"Konstanty!$F$12^R536","v":6275.0915917783532},8.7443433602347636]
[null,null,null,null,null,null,null,null,null,null,null,null,null,null,null,37.099999999999802,{"$f":"Konstanty!$F$12^R537","v":6309.3229067844304},8.7497836450311581]
[null,null,null,null,null,null,null,null,null,null,null,null,null,null,null,37.199999999999797,{"$f":"Konstanty!$F$12^R538","v":6343.7156555553893},8.75521994134896]
[null,null,null,null,null,null,null,null,null,null,null,null,null,null,null,37.299999999999798,{"$f":"Konstanty!$F$12^R539","v":6378.2704709519676},8.7606522535727258]
[null,null,null,null,null,null,null,null,null,null,null,null,null,null,null,37.3999999999998,{"$f":"Konstanty!$F$12^R540","v":6412.9879877545154},8.7660805860805731]
[null,null,null,null,null,null,null,null,null,null,null,null,null,null,null,37.499999999999801,{"$f":"Konstanty!$F$12^R541","v":6447.8688426669287},8.7715049432442207]
[null,null,null,null,null,null,null,null,null,null,null,null,null,null,null,37.599999999999802,{"$f":"Konstanty!$F$12^R542","v":6482.9136743202498},8.7769253294289786]
[null,null,null,null,null,null,null,null,null,null,null,null,null,null,null,37.699999999999797,{"$f":"Konstanty!$F$12^R543","v":6518.1231232765749},8.7823417489937672]
[null,null,null,null,null,null,null,null,null,null,null,null,null,null,null,37.799999999999798,{"$f":"Konstanty!$F$12^R544","v":6553.4978320328555},8.7877542062911367]
[null,null,null,null,null,null,null,null,null,null,null,null,null,null,null,37.8999999999998,{"$f":"Konstanty!$F$12^R545","v":6589.0384450245383},8.7931627056672621]
[null,null,null,null,null,null,null,null,null,null,null,null,null,null,null,37.999999999999801,{"$f":"Konstanty!$F$12^R546","v":6624.7456086295842},8.7985672514619768]
[null,null,null,null,null,null,null,null,null,null,null,null,null,null,null,38.099999999999802,{"$f":"Konstanty!$F$12^R547","v":6660.6199711719901},8.8039678480087584]
[null,null,null,null,null,null,null,null,null,null,null,null,null,null,null,38.199999999999797,{"$f":"Konstanty!$F$12^R548","v":6696.6621829257783},8.8093644996347571]
[null,null,null,null,null,null,null,null,null,null,null,null,null,null,null,38.299999999999798,{"$f":"Konstanty!$F$12^R549","v":6732.8728961187926},8.8147572106608134]
[null,null,null,null,null,null,null,null,null,null,null,null,null,null,null,38.3999999999998,{"$f":"Konstanty!$F$12^R550","v":6769.2527649362983},8.8201459854014459]
[null,null,null,null,null,null,null,null,null,null,null,null,null,null,null,38.499999999999801,{"$f":"Konstanty!$F$12^R551","v":6805.802445525057},{"$f":"23.58-(4044.2/(235.6+P551))","v":8.8255308281648919}]
[null,null,null,null,null,null,null,null,null,null,null,null,null,null,null,38.599999999999802,{"$f":"Konstanty!$F$12^R552","v":6842.5225959968357},8.8309117432530897]
[null,null,null,null,null,null,null,null,null,null,null,null,null,null,null,38.699999999999797,{"$f":"Konstanty!$F$12^R553","v":6879.4138764324198},8.836288734961709]
[null,null,null,null,null,null,null,null,null,null,null,null,null,null,null,38.799999999999798,{"$f":"Konstanty!$F$12^R554","v":6916.4769488853317},8.841661807580163]
[null,null,null,null,null,null,null,null,null,null,null,null,null,null,null,38.8999999999998,{"$f":"Konstanty!$F$12^R555","v":6953.7124773856458},8.8470309653916086]
[null,null,null,null,null,null,null,null,null,null,null,null,null,null,null,38.999999999999801,{"$f":"Konstanty!$F$12^R556","v":6991.1211279437521},8.8523962126729661]
[null,null,null,null,null,null,null,null,null,null,null,null,null,null,null,39.099999999999802,{"$f":"Konstanty!$F$12^R557","v":7028.7035685542523},8.8577575536949293]
[null,null,null,null,null,null,null,null,null,null,null,null,null,null,null,39.199999999999797,{"$f":"Konstanty!$F$12^R558","v":7066.4604691995892},8.8631149927219663]
[null,null,null,null,null,null,null,null,null,null,null,null,null,null,null,39.299999999999798,{"$f":"Konstanty!$F$12^R559","v":7104.3925018541295},8.8684685340123561]
[null,null,null,null,null,null,null,null,null,null,null,null,null,null,null,39.3999999999998,{"$f":"Konstanty!$F$12^R560","v":7142.5003404876607},8.8738181818181694]
[null,null,null,null,null,null,null,null,null,null,null,null,null,null,null,39.499999999999801,{"$f":"Konstanty!$F$12^R561","v":7180.7846610694569},8.8791639403853022]
[null,null,null,null,null,null,null,null,null,null,null,null,null,null,null,39.599999999999802,{"$f":"Konstanty!$F$12^R562","v":7219.2461415719199},8.8845058139534778]
[null,null,null,null,null,null,null,null,null,null,null,null,null,null,null,39.699999999999797,{"$f":"Konstanty!$F$12^R563","v":7257.8854619744643},8.8898438067562537]
[null,null,null,null,null,null,null,null,null,null,null,null,null,null,null,39.799999999999798,{"$f":"Konstanty!$F$12^R564","v":7296.7033042673502},8.8951779230210484]
[null,null,null,null,null,null,null,null,null,null,null,null,null,null,null,39.8999999999998,{"$f":"Konstanty!$F$12^R565","v":7335.7003524554066},8.9005081669691339]
[null,null,null,null,null,null,null,null,null,null,null,null,null,null,null,39.999999999999801,{"$f":"Konstanty!$F$12^R566","v":7374.8772925619951},8.9058345428156631]
[null,null,null,null,null,null,null,null,null,null,null,null,null,null,null,40.099999999999802,{"$f":"Konstanty!$F$12^R567","v":7414.2348126326415},8.9111570547696672]
[null,null,null,null,null,null,null,null,null,null,null,null,null,null,null,40.199999999999797,{"$f":"Konstanty!$F$12^R568","v":7453.773602738981},8.9164757070340706]
[null,null,null,null,null,null,null,null,null,null,null,null,null,null,null,40.299999999999798,{"$f":"Konstanty!$F$12^R569","v":7493.4943549825857},8.921790503805715]
[null,null,null,null,null,null,null,null,null,null,null,null,null,null,null,40.3999999999998,{"$f":"Konstanty!$F$12^R570","v":7533.397763498665},8.9271014492753498]
[null,null,null,null,null,null,null,null,null,null,null,null,null,null,null,40.499999999999801,{"$f":"Konstanty!$F$12^R571","v":7573.4845244600547},8.9324085476276593]
[null,null,null,null,null,null,null,null,null,null,null,null,null,null,null,40.599999999999802,{"$f":"Konstanty!$F$12^R572","v":7613.7553360808752},8.9377118030412639]
[null,null,null,null,null,null,null,null,null,null,null,null,null,null,null,40.699999999999797,{"$f":"Konstanty!$F$12^R573","v":7654.2108986204066},8.9430112196887315]
[null,null,null,null,null,null,null,null,null,null,null,null,null,null,null,40.799999999999798,{"$f":"Konstanty!$F$12^R574","v":7694.8519143870599},8.948306801736603]
[null,null,null,null,null,null,null,null,null,null,null,null,null,null,null,40.8999999999998,{"$f":"Konstanty!$F$12^R575","v":7735.6790877419126},8.9535985533453761]
[null,null,null,null,null,null,null,null,null,null,null,null,null,null,null,40.999999999999801,{"$f":"Konstanty!$F$12^R576","v":7776.6931251028082},8.9588864786695463]
[null,null,null,null,null,null,null,null,null,null,null,null,null,null,null,41.099999999999802,{"$f":"Konstanty!$F$12^R577","v":7817.8947349480586},8.9641705818575961]
[null,null,null,null,null,null,null,null,null,null,null,null,null,null,null,41.199999999999797,{"$f":"Konstanty!$F$12^R578","v":7859.284627820226},8.9694508670520108]
[null,null,null,null,null,null,null,null,null,null,null,null,null,null,null,41.299999999999798,{"$f":"Konstanty!$F$12^R579","v":7900.8635163300778},8.9747273383892985]
[null,null,null,null,null,null,null,null,null,null,null,null,null,null,null,41.3999999999998,{"$f":"Konstanty!$F$12^R580","v":7942.632115160277},8.9799999999999862]
[null,null,null,null,null,null,null,null,null,null,null,null,null,null,null,41.499999999999801,{"$f":"Konstanty!$F$12^R581","v":7984.5911410694061},8.9852688560086484]
[null,null,null,null,null,null,null,null,null,null,null,null,null,null,null,41.599999999999802,{"$f":"Konstanty!$F$12^R582","v":8026.741312895575},8.9905339105338999]
[null,null,null,null,null,null,null,null,null,null,null,null,null,null,null,41.699999999999797,{"$f":"Konstanty!$F$12^R583","v":8069.0833515603517},8.9957951676884118]
[null,null,null,null,null,null,null,null,null,null,null,null,null,null,null,41.799999999999798,{"$f":"Konstanty!$F$12^R584","v":8111.617980072695},9.0010526315789363]
[null,null,null,null,null,null,null,null,null,null,null,null,null,null,null,41.8999999999998,{"$f":"Konstanty!$F$12^R585","v":8154.3459235325745},9.0063063063062927]
[null,null,null,null,null,null,null,null,null,null,null,null,null,null,null,41.999999999999801,{"$f":"Konstanty!$F$12^R586","v":8197.2679091350947},9.0115561959654062]
[null,null,null,null,null,null,null,null,null,null,null,null,null,null,null,42.099999999999802,{"$f":"Konstanty!$F$12^R587","v":8240.3846661740135},9.0168023046452905]
[null,null,null,null,null,null,null,null,null,null,null,null,null,null,null,42.199999999999797,{"$f":"Konstanty!$F$12^R588","v":8283.6969260457699},9.0220446364290741]
[null,null,null,null,null,null,null,null,null,null,null,null,null,null,null,42.299999999999798,{"$f":"Konstanty!$F$12^R589","v":8327.2054222533479},9.0272831953940162]
[null,null,null,null,null,null,null,null,null,null,null,null,null,null,null,42.3999999999998,{"$f":"Konstanty!$F$12^R590","v":8370.9108904099576},9.0325179856114985]
[null,null,null,null,null,null,null,null,null,null,null,null,null,null,null,42.499999999999801,{"$f":"Konstanty!$F$12^R591","v":8414.8140682430585},9.0377490111470582]
[null,null,null,null,null,null,null,null,null,null,null,null,null,null,null,42.599999999999802,{"$f":"Konstanty!$F$12^R592","v":8458.9156955980707},9.0429762760603776]
[null,null,null,null,null,null,null,null,null,null,null,null,null,null,null,42.699999999999797,{"$f":"Konstanty!$F$12^R593","v":8503.2165144422324},9.0481997844053055]
[null,null,null,null,null,null,null,null,null,null,null,null,null,null,null,42.799999999999798,{"$f":"Konstanty!$F$12^R594","v":8547.7172688685332},9.0534195402298732]
[null,null,null,null,null,null,null,null,null,null,null,null,null,null,null,42.8999999999998,{"$f":"Konstanty!$F$12^R595","v":8592.4187050994224},9.058635547576289]
[null,null,null,null,null,null,null,null,null,null,null,null,null,null,null,42.999999999999801,{"$f":"Konstanty!$F$12^R596","v":8637.3215714907819},9.063847810480965]
[null,null,null,null,null,null,null,null,null,null,null,null,null,null,null,43.099999999999802,{"$f":"Konstanty!$F$12^R597","v":8682.4266185356537},9.0690563329745135]
[null,null,null,null,null,null,null,null,null,null,null,null,null,null,null,43.199999999999797,{"$f":"Konstanty!$F$12^R598","v":8727.73459886817},9.0742611190817666]
[null,null,null,null,null,null,null,null,null,null,null,null,null,null,null,43.299999999999798,{"$f":"Konstanty!$F$12^R599","v":8773.2462672674028},9.0794621728217884]
[null,null,null,null,null,null,null,null,null,null,null,null,null,null,null,43.3999999999998,{"$f":"Konstanty!$F$12^R600","v":8818.9623806611071},9.0846594982078717]
[null,null,null,null,null,null,null,null,null,null,null,null,null,null,null,43.499999999999801,{"$f":"Konstanty!$F$12^R601","v":8864.8836981297463},9.0898530992475699]
[null,null,null,null,null,null,null,null,null,null,null,null,null,null,null,43.599999999999802,{"$f":"Konstanty!$F$12^R602","v":8911.0109809101286},9.0950429799426828]
[null,null,null,null,null,null,null,null,null,null,null,null,null,null,null,43.699999999999797,{"$f":"Konstanty!$F$12^R603","v":8957.3449923993849},9.1002291442892815]
[null,null,null,null,null,null,null,null,null,null,null,null,null,null,null,43.799999999999798,{"$f":"Konstanty!$F$12^R604","v":9003.8864981588958},9.1054115962777278]
[null,null,null,null,null,null,null,null,null,null,null,null,null,null,null,43.8999999999998,{"$f":"Konstanty!$F$12^R605","v":9050.6362659178722},9.1105903398926529]
[null,null,null,null,null,null,null,null,null,null,null,null,null,null,null,43.999999999999801,{"$f":"Konstanty!$F$12^R606","v":9097.5950655775487},9.1157653791130073]
[null,null,null,null,null,null,null,null,null,null,null,null,null,null,null,44.099999999999802,{"$f":"Konstanty!$F$12^R607","v":9144.7636692147389},9.1209367179120378]
[null,null,null,null,null,null,null,null,null,null,null,null,null,null,null,44.199999999999797,{"$f":"Konstanty!$F$12^R608","v":9192.1428510858532},9.1261043602573153]
[null,null,null,null,null,null,null,null,null,null,null,null,null,null,null,44.299999999999798,{"$f":"Konstanty!$F$12^R609","v":9239.7333876307257},9.1312683101107428]
[null,null,null,null,null,null,null,null,null,null,null,null,null,null,null,44.3999999999998,{"$f":"Konstanty!$F$12^R610","v":9287.5360574763999},9.1364285714285582]
[null,null,null,null,null,null,null,null,null,null,null,null,null,null,null,44.499999999999801,{"$f":"Konstanty!$F$12^R611","v":9335.5516414411286},9.1415851481613597]
[null,null,null,null,null,null,null,null,null,null,null,null,null,null,null,44.599999999999802,{"$f":"Konstanty!$F$12^R612","v":9383.7809225380297},9.1467380442540946]
[null,null,null,null,null,null,null,null,null,null,null,null,null,null,null,44.699999999999797,{"$f":"Konstanty!$F$12^R613","v":9432.2246859790412},9.1518872636460813]
[null,null,null,null,null,null,null,null,null,null,null,null,null,null,null,44.799999999999798,{"$f":"Konstanty!$F$12^R614","v":9480.8837191788934},9.1570328102710299]
[null,null,null,null,null,null,null,null,null,null,null,null,null,null,null,44.8999999999998,{"$f":"Konstanty!$F$12^R615","v":9529.7588117587293},{"$f":"23.58-(4044.2/(235.6+P615))","v":9.1621746880570285}]
[null,null,null,null,null,null,null,null,null,null,null,null,null,null,null,44.999999999999801,{"$f":"Konstanty!$F$12^R616","v":9578.8507555501692},9.167312900926575]
[null,null,null,null,null,null,null,null,null,null,null,null,null,null,null,45.099999999999802,{"$f":"Konstanty!$F$12^R617","v":9628.1603445990022},9.17244745279657]
[null,null,null,null,null,null,null,null,null,null,null,null,null,null,null,45.199999999999797,{"$f":"Konstanty!$F$12^R618","v":9677.6883751691439},9.1775783475783346]
[null,null,null,null,null,null,null,null,null,null,null,null,null,null,null,45.299999999999798,{"$f":"Konstanty!$F$12^R619","v":9727.4356457465274},9.1827055891776315]
[null,null,null,null,null,null,null,null,null,null,null,null,null,null,null,45.3999999999998,{"$f":"Konstanty!$F$12^R620","v":9777.402957042812},9.1878291814946493]
[null,null,null,null,null,null,null,null,null,null,null,null,null,null,null,45.499999999999801,{"$f":"Konstanty!$F$12^R621","v":9827.5911119994125},9.1929491284240363]
[null,null,null,null,null,null,null,null,null,null,null,null,null,null,null,45.599999999999802,{"$f":"Konstanty!$F$12^R622","v":9878.0009157912391},9.1980654338548966]
[null,null,null,null,null,null,null,null,null,null,null,null,null,null,null,45.699999999999797,{"$f":"Konstanty!$F$12^R623","v":9928.6331758305823},9.2031781016708027]
[null,null,null,null,null,null,null,null,null,null,null,null,null,null,null,45.799999999999798,{"$f":"Konstanty!$F$12^R624","v":9979.4887017710498},9.2082871357498117]
[null,null,null,null,null,null,null,null,null,null,null,null,null,null,null,45.8999999999998,{"$f":"Konstanty!$F$12^R625","v":10030.568305511244},9.2133925399644632]
[null,null,null,null,null,null,null,null,null,null,null,null,null,null,null,45.999999999999801,{"$f":"Konstanty!$F$12^R626","v":10081.87280119889},9.218494318181806]
[null,null,null,null,null,null,null,null,null,null,null,null,null,null,null,46.099999999999802,{"$f":"Konstanty!$F$12^R627","v":10133.403005234466},9.2235924742633912]
[null,null,null,null,null,null,null,null,null,null,null,null,null,null,null,46.199999999999797,{"$f":"Konstanty!$F$12^R628","v":10185.1597362751},9.2286870120652829]
[null,null,null,null,null,null,null,null,null,null,null,null,null,null,null,46.299999999999798,{"$f":"Konstanty!$F$12^R629","v":10237.143815238569},9.2337779354380878]
[null,null,null,null,null,null,null,null,null,null,null,null,null,null,null,46.3999999999998,{"$f":"Konstanty!$F$12^R630","v":10289.356065306991},9.2388652482269382]
[null,null,null,null,null,null,null,null,null,null,null,null,null,null,null,46.499999999999801,{"$f":"Konstanty!$F$12^R631","v":10341.797311930843},9.2439489542715236]
[null,null,null,null,null,null,null,null,null,null,null,null,null,null,null,46.599999999999802,{"$f":"Konstanty!$F$12^R632","v":10394.468382832694},9.2490290574060854]
[null,null,null,null,null,null,null,null,null,null,null,null,null,null,null,46.699999999999797,{"$f":"Konstanty!$F$12^R633","v":10447.370108011026},9.2541055614594274]
[null,null,null,null,null,null,null,null,null,null,null,null,null,null,null,46.799999999999798,{"$f":"Konstanty!$F$12^R634","v":10500.503319744394},9.2591784702549464]
[null,null,null,null,null,null,null,null,null,null,null,null,null,null,null,46.8999999999998,{"$f":"Konstanty!$F$12^R635","v":10553.868852594876},9.2642477876106071]
[null,null,null,null,null,null,null,null,null,null,null,null,null,null,null,46.999999999999801,{"$f":"Konstanty!$F$12^R636","v":10607.467543412313},9.2693135173389845]
[null,null,null,null,null,null,null,null,null,null,null,null,null,null,null,47.099999999999802,{"$f":"Konstanty!$F$12^R637","v":10661.30023133782},9.2743756632472483]
[null,null,null,null,null,null,null,null,null,null,null,null,null,null,null,47.199999999999797,{"$f":"Konstanty!$F$12^R638","v":10715.367757807933},9.2794342291371876]
[null,null,null,null,null,null,null,null,null,null,null,null,null,null,null,47.299999999999798,{"$f":"Konstanty!$F$12^R639","v":10769.670966558409},9.2844892188052199]
[null,null,null,null,null,null,null,null,null,null,null,null,null,null,null,47.3999999999998,{"$f":"Konstanty!$F$12^R640","v":10824.210703627925},9.2895406360423909]
[null,null,null,null,null,null,null,null,null,null,null,null,null,null,null,47.499999999999801,{"$f":"Konstanty!$F$12^R641","v":10878.987817362186},9.294588484634394]
[null,null,null,null,null,null,null,null,null,null,null,null,null,null,null,47.599999999999802,{"$f":"Konstanty!$F$12^R642","v":10934.00315841755},9.2996327683615725]
[null,null,null,null,null,null,null,null,null,null,null,null,null,null,null,47.699999999999797,{"$f":"Konstanty!$F$12^R643","v":10989.257579765046},9.3046734909989297]
[null,null,null,null,null,null,null,null,null,null,null,null,null,null,null,47.799999999999798,{"$f":"Konstanty!$F$12^R644","v":11044.751936694302},9.3097106563161507]
[null,null,null,null,null,null,null,null,null,null,null,null,null,null,null,47.8999999999998,{"$f":"Konstanty!$F$12^R645","v":11100.487086817115},9.3147442680775896]
[null,null,null,null,null,null,null,null,null,null,null,null,null,null,null,47.999999999999801,{"$f":"Konstanty!$F$12^R646","v":11156.463890071676},9.3197743300423017]
[null,null,null,null,null,null,null,null,null,null,null,null,null,null,null,48.099999999999802,{"$f":"Konstanty!$F$12^R647","v":11212.683208726203},9.3248008459640364]
[null,null,null,null,null,null,null,null,null,null,null,null,null,null,null,48.199999999999797,{"$f":"Konstanty!$F$12^R648","v":11269.145907382768},9.3298238195912493]
[null,null,null,null,null,null,null,null,null,null,null,null,null,null,null,48.299999999999798,{"$f":"Konstanty!$F$12^R649","v":11325.852852981463},9.3348432546671258]
[null,null,null,null,null,null,null,null,null,null,null,null,null,null,null,48.3999999999998,{"$f":"Konstanty!$F$12^R650","v":11382.80491480381},9.3398591549295649]
[null,null,null,null,null,null,null,null,null,null,null,null,null,null,null,48.499999999999801,{"$f":"Konstanty!$F$12^R651","v":11440.002964477135},9.3448715241112179]
[null,null,null,null,null,null,null,null,null,null,null,null,null,null,null,48.599999999999802,{"$f":"Konstanty!$F$12^R652","v":11497.44787597793},9.3498803659394696]
[null,null,null,null,null,null,null,null,null,null,null,null,null,null,null,48.699999999999797,{"$f":"Konstanty!$F$12^R653","v":11555.140525636089},9.3548856841364643]
[null,null,null,null,null,null,null,null,null,null,null,null,null,null,null,48.799999999999798,{"$f":"Konstanty!$F$12^R654","v":11613.081792138611},9.3598874824191167]
[null,null,null,null,null,null,null,null,null,null,null,null,null,null,null,48.8999999999998,{"$f":"Konstanty!$F$12^R655","v":11671.2725565335},9.3648857644991086]
[null,null,null,null,null,null,null,null,null,null,null,null,null,null,null,48.999999999999801,{"$f":"Konstanty!$F$12^R656","v":11729.713702233605},9.3698805340829114]
[null,null,null,null,null,null,null,null,null,null,null,null,null,null,null,49.099999999999802,{"$f":"Konstanty!$F$12^R657","v":11788.406115020534},9.374871794871785]
[null,null,null,null,null,null,null,null,null,null,null,null,null,null,null,49.199999999999797,{"$f":"Konstanty!$F$12^R658","v":11847.350683048342},9.3798595505617861]
[null,null,null,null,null,null,null,null,null,null,null,null,null,null,null,49.299999999999798,{"$f":"Konstanty!$F$12^R659","v":11906.54829684775},9.3848438048437934]
[null,null,null,null,null,null,null,null,null,null,null,null,null,null,null,49.3999999999998,{"$f":"Konstanty!$F$12^R660","v":11965.999849329601},9.389824561403497]
[null,null,null,null,null,null,null,null,null,null,null,null,null,null,null,49.499999999999801,{"$f":"Konstanty!$F$12^R661","v":12025.706235789043},9.3948018239214193]
[null,null,null,null,null,null,null,null,null,null,null,null,null,null,null,49.599999999999802,{"$f":"Konstanty!$F$12^R662","v":12085.668353909172},9.3997755960729208]
[null,null,null,null,null,null,null,null,null,null,null,null,null,null,null,49.699999999999797,{"$f":"Konstanty!$F$12^R663","v":12145.887103765004},9.4047458815282035]
[null,null,null,null,null,null,null,null,null,null,null,null,null,null,null,49.799999999999798,{"$f":"Konstanty!$F$12^R664","v":12206.363387827372},9.4097126839523373]
[null,null,null,null,null,null,null,null,null,null,null,null,null,null,null,49.8999999999998,{"$f":"Konstanty!$F$12^R665","v":12267.098110966619},9.4146760070052409]
[null,null,null,null,null,null,null,null,null,null,null,null,null,null,null,49.999999999999801,{"$f":"Konstanty!$F$12^R666","v":12328.092180456737},9.4196358543417258]

{"sheet":"Konstanty","index":13,"n_rows":17,"n_cols":11,"rows_kept":17,"cut":false,"hidden":false,"merged":[[9,8,9,9],[10,8,10,9],[11,8,11,9],[12,8,12,9],[13,8,13,9],[13,0,13,3],[14,0,14,9],[15,0,15,3],[16,0,16,3],[1,8,1,9],[2,8,2,9],[3,8,3,9],[6,8,6,9],[7,8,7,9],[8,8,8,9],[7,0,7,3],[8,0,8,3],[9,0,9,3],[10,0,10,3],[11,0,11,3],[12,0,12,3],[6,0,6,3],[1,0,1,3],[2,0,2,3],[3,0,3,3],[4,0,4,3],[5,0,5,3]]}
["Konstanty",null,null,null,null,null,null,"Pozn"]
["Měrná tepelná kapacita s.v.",null,null,null,"csv",1010,"J/kg.K","s.v.","suchý vzduch"]
["Měrná tepelná kapacita v.p.",null,null,null,"cvp",1840,"J/kg.K","v.p.","vodní pára"]
["výparné teplo vody",null,null,null,"l",2500000,"J"]
["měrná plynová konstanta s.v.",null,null,null,"Rsv",287.06200000000001,"J/kg.K","s.v.","suchý vzduch",null,{"$f":"F5/F6","v":0.62201950162513542}]
["měrná plynová konstanta v.p.",null,null,null,"Rvp",461.5,"J/kg.K","v.p.","vodní pára"]
["tlak v 0 mnm",null,null,null,"p0",101.325,"kPa"]
["hustota vzduchu v 0mnm",null,null,null,"ρvz",1.2250000000000001,"kg/m3"]
["Plynová konstanta",null,null,null,"R",8.3143200000000004,"J/mol.K"]
["Molární hmotnost s.v.",null,null,null,"Msv",28.96,"kg/mol","s.v.","suchý vzduch"]
["Molární hmotnost v.p.",null,null,null,"Mvp",18.02,"kg/mol","v.p.","vodní pára"]
["eulerova konstanta",null,null,null,"e",2.718281828446,"[-]"]
["gravitační zrychlení",null,null,null,"g",9.8066499999999994,"m/s2"]
["tlak v 0 nadmořské výšce",null,null,null,"p0",101325,"Pa"]
[]
["hustota v urcite nadm vysce",null,null,null,"vyska",273,"m",{"$f":"$F$8*$F$12^(($F$8*$F$13*F16)/$F$14)","v":1.2652982563535966},"kg/m3"]
["tlak v urcite nadm vysce",null,null,null,null,null,null,{"$f":"F14*$F$12^(($F$8*$F$13*F16)/$F$14)","v":104658.2414898189},"Pa"]

{"sheet":"Vzorce","index":14,"n_rows":109,"n_cols":9,"rows_kept":109,"cut":false,"hidden":false,"merged":[]}
["tlak vzduchu pro H <11000m"]
["t=15-0,0065h"]
["p=1013,25(1-h/44308)^5,2553"]
["q=1,225(1-h/44308)^4,2553"]
[]
["p=p0(1-g*h/cpd*T0)^cpd/Rd"]
[]
["Tlak vzduchu",null,null,null,null,null,null,null,"Jednotka"]
["p=psv+pvp",null,"psv - parcialni tlak s.v",null,null,null,null,null,"Pa"]
[null,null,"pvp - parcialni tlak vodni pary",null,null,null,null,null,"Pa"]
[]
["Parciální tlak nasycené vodní páry"]
[]
[null,null,"p´´vp - parcialni tlak nasycené vodní páry",null,null,null,null,null,"Pa"]
[]
["Entalpie "]
["h=hsv+x*hvp",null,"hsv - entalpie sucheho vzduchu J/kg",null,null,null,null,null,"J/kg"]
[null,null,"hvp - entalpie vodni pary J/kg",null,null,null,null,null,"J/kg"]
[null,null,"x - mnozstvi vody v suchem vzduchu kg/kg s.v.",null,null,null,null,null,"kg/kg s.v."]
[]
["hsv = csv*t",null,"csv - merna tepelna kapacita s.v.",null,null,null,null,null,"J/kg.K"]
["hvp = l+ cvp*t",null,"cvp - merna tepelna kapacita v.p.",null,null,null,null,null,"J/kg.K"]
[null,null,"l - výparné teplo vody",null,null,null,null,null,"kJ"]
[null,null,"t - teplota",null,null,null,null,null,"°C/K"]
["h=csv.t+x(cvp.t+l)",null,null,null,null,null,null,null,"J/kg"]
[]
["Absolutní vlhkost"]
["a=mw/Vc",null,"mw-hm vodní pary",null,null,null,null,null,"kg"]
[null,null,"V - celkový objem vzduchu",null,null,null,null,null,"m3"]
["Relativní vlhkost"]
["rh = mw/Mw",null,"mw-hm vodní pary",null,null,null,null,null,"kg"]
[null,null,"Mw-hm vodní pary při plném nasycení vzduchu",null,null,null,null,null,"kg"]
[]
["rh=pvp/p''vp",null,"p´´vp - parcialni tlak nasycené vodní páry",null,null,null,null,null,"Pa"]
[null,null,"pvp - parcialni tlak  vodní páry",null,null,null,null,null,"Pa"]
[]
["Mn. odpařené vody"]
["mw=ε*A*(p''vp-pvp)"]
[null,null,"ε - součinitel odparu vody z vodní hladiny",null,null,null,null,null,"-"]
[null,null,"A - plocha",null,null,null,null,null,"m2"]
[null,null,"p´´vp - tlak syté vodní páry při teplotě vody v bazénu",null,null,null,null,null,"Pa"]
[null,null,"pvp - parciální tlak vodní páry ve vzduchu",null,null,null,null,null,"Pa"]
[]
["Měrná vlhkost"]
["x=mvp/msv=(Rsv/Rvp)*(pvp/psv) = 0,622.(pvp/p-pvp)"]
[null,null,"mvp - hmotnost vodní páry ",null,null,null,null,null,"kg"]
[null,null,"msv - hmotnost suchého vzduchu"]
[null,null,"Rsv = ",287.06200000000001,null,null,null,null,"J/kg.K"]
[null,null,"Rvp = ",461.5]
[]
["Měrná hmotnost"]
["ρ=ρsv+ρvp",null,null,null,null,null,null,null,"kg/m3"]
[]
[]
[null,null,null,null,null,null,null,null,"kg/m3"]
[]
[]
["Stavová rovnice"]
["p.V=n.R.T",null,"n - látkové množství",null,null,null,null,null,"mol"]
[null,null,"p - tlak",null,null,null,null,null,"Pa"]
[null,null,"V - objem",null,null,null,null,null,"m3"]
[null,null,"R - univerzální plynová konstanta",null,null,null,null,null,"J/mol.K"]
[null,null,"T - termodynamická teplota",null,null,null,null,null,"K"]
["n=m/M",null,"M - molární hmotnost",null,null,null,null,null,"kg/mol"]
[null,null,"m - hmotnost plynu",null,null,null,null,null,"kg "]
["ρ=m/V",null,"ρ - měrná hmotnost",null,null,null,null,null,"kg/m3"]
[]
[]
[]
["Tlak na nadm výšce"]
["pa=101,4*((1600-h)/(1600+h))"]
["Vodou chlazene kondenzatory"]
[]
["Q=U.A.dtm"]
[null,null,"Q-předané teplo",null,null,null,null,null,"W"]
[null,null,"U-celkový součinitel prostupu tepla ",null,null,null,null,null,"W/m2K"]
[null,null,"A-plocha",null,null,null,null,null,"m2"]
[null,null,"dtm","stredni teplotni rozdil",null,null,null,null,"K"]
[]
["U=1/((1/aw)+rfw+R+(1/ar))"]
[]
[null,null,"aw-součinitel prostupu na strane vody",null,null,null,null,null,"W/m2K"]
[null,null,"R-tepelný odpor výměníku",null,null,null,null,null,"W/K"]
[null,null,"ar-teplotní odpor na strane chladiva",null,null,null,null,null,"W/m2K"]
[null,null,"rfw-tep odpor pripadnych usazenin"]
[]
["teplonosné látky"]
[]
[null,null,"ethylen glykol"]
[]
[null,null,"nezámrzná teplota "]
[null,"ředění","01:01:00","00:01:01.500","01:02:00","01:03:00"]
[null,"nezámrzná teplota",-35,-21,-17,-11]
["Prenos na vymeniku"]
[]
["Q=m.c.dt",null,"m.- hmotnostni prutok"]
[null,null,"c-tepelná kapacita teplonosné látky"]
[null,null,"dt-stredni teplotni spad"]
["Teplota rosného bodu "]
["Tdp = (243,5*ln(Ro/100*e^((17,67*T)/(243,5+T))))/(17,67-(243,5*ln(Ro/100*e^((17,67*T)/(243,5+T)))))"]
[]
[]
[]
[]
[]
[]
["návrhová rh podle CSN 730540-3"]
[]
[null,null,"(93*T-3153,5)/(T-39,17)",null,null,"%"]

{"sheet":"Jednotky","index":15,"n_rows":43,"n_cols":6,"rows_kept":43,"cut":false,"hidden":false,"merged":[[0,3,0,4]]}
[null,"Značka ","index","veličina",null,"jednotka"]
[null,"t",null,"teplota",null,"°C"]
[null,"rh",null,"relativní vlhkost",null,"%"]
[null,"h",null,"měrná entalpie",null,"J/kg"]
[null,null,"sv",null,"suchého vzduchu"]
[null,null,"vp",null,"vodní páry"]
[null,"p",null,"tlak vzduchu",null,"Pa"]
[null,null,"sv",null,"suchého vzduchu"]
[null,null,"vp",null,"vodní páry"]
[null,"p''",null,"tlak nasycené vodní páry",null,"Pa"]
[null,"x",null,"měrná vlhkost",null,"g/kg s.v."]
[null,"Δx",null,"změna měrné vlhkosti",null,"g/kg s.v."]
[null,"ρ",null,"hustota vzduchu",null,"kg/m3"]
[null,null,"e",null,"exteriérová"]
[null,null,"i ",null,"interiérová"]
[null,null,"vyp",null,"na výparníku"]
[null,null,4,null,"předehřev exteriérového vzduchu"]
[null,null,"4' ",null,"po smíšení"]
[null,null,5,null,"za kondenzátorem"]
[null,null,"před",null,"předehřev"]
[null,null,"zv",null,"zvýšení do exteriéru"]
[null,null,"ch",null,"chladič"]
[null,null,"zv",null,"zvýšení do interiéru"]
[]
[null,"Q",null,"výkon",null,"W"]
[null,null,"v",null,"výparníku"]
[null,null,"k",null,"kondenzátoru"]
[null,null,"pož ",null,"požadováno na dohřev vzduchu"]
[null,null,"dohř",null,"požadováno dodat na dořev "]
[null,null,"přebyt",null,"přebytečné po dohřevu vzduchu"]
[null,"COP",null,"topný faktor tepelného čerpadla"]
[null,"Pet",null,"výkon tepelného čerpadla"]
[null,"n",null,"výměna vzduchu",null,"1/h"]
[null,"V",null,"množství potřeby vzduchu",null,"m3/h"]
[null,null,1,null,"od produkované vlhkosti"]
[null,null,2,null,"z výměny vzduchu haly "]
[null,null,3,null,"z tepelných zisků/potřeb"]
[null,null,4,null,"pro osoby"]
[null,"a",null,"délka bazénu",null,"m"]
[null,"b",null,"šířka bazénu",null,"m"]
[null,"c ",null,"délka bazénové haly",null,"m"]
[null,"d",null,"šířka bazénové haly",null,"m"]
[null,"v",null,"výška bazénové haly",null,"m"]

{"sheet":"Výsledky","index":16,"n_rows":72,"n_cols":18,"rows_kept":72,"cut":false,"hidden":false,"merged":[[66,1,68,3],[16,0,17,0],[33,1,34,1],[33,5,34,5],[69,1,71,3],[57,1,57,3],[51,1,53,3],[54,1,56,3],[58,1,60,3],[61,1,62,3],[63,1,65,3]]}
[{"$f":"Vypocet!AD69","v":"Sešit"},{"$f":"Vypocet!AE69","v":"te"},{"$f":"Vypocet!AF69","v":"Qdoh te"},{"$f":"Vypocet!AG69","v":"Qvýpar"},{"$f":"Vypocet!AH69","v":"dx výp"},{"$f":"Vypocet!AI69","v":"Qkond"},{"$f":"Vypocet!AJ69","v":"Qdohř celk"},{"$f":"Vypocet!AK69","v":"Qzbýva"},{"$f":"Vypocet!AL69","v":"Q dodat"},{"$f":"Vypocet!AM69","v":"Q přebyt"}]
[{"$f":"Vypocet!AD70","v":0},{"$f":"Vypocet!AE70","v":"°C"},{"$f":"Vypocet!AF70","v":"W"},{"$f":"Vypocet!AG70","v":"W"},{"$f":"Vypocet!AH70","v":"g/kg s.v."},{"$f":"Vypocet!AI70","v":"W"},{"$f":"Vypocet!AJ70","v":"W"},{"$f":"Vypocet!AK70","v":"W"},{"$f":"Vypocet!AL70","v":"W"},{"$f":"Vypocet!AM70","v":"W"}]
[{"$f":"Vypocet!AD71","v":"Vypocet"},{"$f":"Vypocet!AE71","v":-12},{"$f":"Vypocet!AF71","v":30277.613877609001},{"$f":"Vypocet!AG71","v":32351.888526279759},{"$f":"Vypocet!AH71","v":1.6523424824115767},{"$f":"Vypocet!AI71","v":38693.738080568786},{"$f":"Vypocet!AJ71","v":90731.751996078689},{"$f":"Vypocet!AK71","v":-52038.013915509902},{"$f":"Vypocet!AL71","v":52038.013915509902},{"$f":"Vypocet!AM71","v":0}]
[{"$f":"Vypocet!AD72","v":"V2"},{"$f":"Vypocet!AE72","v":-10},{"$f":"Vypocet!AF72","v":26309.288721395387},{"$f":"Vypocet!AG72","v":27580.433828001267},{"$f":"Vypocet!AH72","v":1.5751818048857211},{"$f":"Vypocet!AI72","v":36473.52298148405},{"$f":"Vypocet!AJ72","v":81723.742669729632},{"$f":"Vypocet!AK72","v":-45250.219688245583},{"$f":"Vypocet!AL72","v":45250.219688245583},{"$f":"Vypocet!AM72","v":0}]
[{"$f":"Vypocet!AD73","v":"V3"},{"$f":"Vypocet!AE73","v":-5},{"$f":"Vypocet!AF73","v":16884.901889278393},{"$f":"Vypocet!AG73","v":42872.416079321803},{"$f":"Vypocet!AH73","v":2.3143200042153818},{"$f":"Vypocet!AI73","v":56696.281969042939},{"$f":"Vypocet!AJ73","v":82432.228064175069},{"$f":"Vypocet!AK73","v":-25735.946095132131},{"$f":"Vypocet!AL73","v":25735.946095132131},{"$f":"Vypocet!AM73","v":0}]
[{"$f":"Vypocet!AD74","v":"V4"},{"$f":"Vypocet!AE74","v":0},{"$f":"Vypocet!AF74","v":8132.4325813340638},{"$f":"Vypocet!AG74","v":85631.999119880144},{"$f":"Vypocet!AH74","v":4.6338848301265845},{"$f":"Vypocet!AI74","v":113243.34879310032},{"$f":"Vypocet!AJ74","v":89373.746974580718},{"$f":"Vypocet!AK74","v":23869.601818519601},{"$f":"Vypocet!AL74","v":0},{"$f":"Vypocet!AM74","v":23869.601818519601}]
[{"$f":"Vypocet!AD75","v":"V5"},{"$f":"Vypocet!AE75","v":5},{"$f":"Vypocet!AF75","v":0},{"$f":"Vypocet!AG75","v":113504.73905986393},{"$f":"Vypocet!AH75","v":6.2604920196246585},{"$f":"Vypocet!AI75","v":150103.4296423652},{"$f":"Vypocet!AJ75","v":92037.623399685894},{"$f":"Vypocet!AK75","v":58065.806242679304},{"$f":"Vypocet!AL75","v":0},{"$f":"Vypocet!AM75","v":58065.806242679304}]
[{"$f":"Vypocet!AD76","v":"V6"},{"$f":"Vypocet!AE76","v":10},{"$f":"Vypocet!AF76","v":0},{"$f":"Vypocet!AG76","v":145578.90192772908},{"$f":"Vypocet!AH76","v":7.9182084763652885},{"$f":"Vypocet!AI76","v":192519.648465045},{"$f":"Vypocet!AJ76","v":97536.866460504869},{"$f":"Vypocet!AK76","v":94982.782004540131},{"$f":"Vypocet!AL76","v":0},{"$f":"Vypocet!AM76","v":94982.782004540131}]
[{"$f":"Vypocet!AD77","v":"V7"},{"$f":"Vypocet!AE77","v":15},{"$f":"Vypocet!AF77","v":0},{"$f":"Vypocet!AG77","v":147350.87431255195},{"$f":"Vypocet!AH77","v":8.1},{"$f":"Vypocet!AI77","v":194862.97909948832},{"$f":"Vypocet!AJ77","v":92003.298334623018},{"$f":"Vypocet!AK77","v":102859.6807648653},{"$f":"Vypocet!AL77","v":0},{"$f":"Vypocet!AM77","v":102859.6807648653}]
[{"$f":"Vypocet!AD78","v":"V8"},{"$f":"Vypocet!AE78","v":20},{"$f":"Vypocet!AF78","v":0},{"$f":"Vypocet!AG78","v":147350.87431255195},{"$f":"Vypocet!AH78","v":8.1},{"$f":"Vypocet!AI78","v":194862.97909948832},{"$f":"Vypocet!AJ78","v":65486.356391653208},{"$f":"Vypocet!AK78","v":129376.62270783511},{"$f":"Vypocet!AL78","v":0},{"$f":"Vypocet!AM78","v":129376.62270783511}]
[{"$f":"Vypocet!AD79","v":"V9"},{"$f":"Vypocet!AE79","v":25},{"$f":"Vypocet!AF79","v":0},{"$f":"Vypocet!AG79","v":147350.87431255195},{"$f":"Vypocet!AH79","v":8.1},{"$f":"Vypocet!AI79","v":194862.97909948832},{"$f":"Vypocet!AJ79","v":40595.985236727836},{"$f":"Vypocet!AK79","v":154266.99386276049},{"$f":"Vypocet!AL79","v":0},{"$f":"Vypocet!AM79","v":154266.99386276049}]
[{"$f":"Vypocet!AD80","v":"V10"},{"$f":"Vypocet!AE80","v":30},{"$f":"Vypocet!AF80","v":0},{"$f":"Vypocet!AG80","v":147350.87431255195},{"$f":"Vypocet!AH80","v":8.1},{"$f":"Vypocet!AI80","v":194862.97909948832},{"$f":"Vypocet!AJ80","v":17189.200328269526},{"$f":"Vypocet!AK80","v":177673.77877121879},{"$f":"Vypocet!AL80","v":0},{"$f":"Vypocet!AM80","v":177673.77877121879}]
[{"$f":"Vypocet!AD81","v":"V11"},{"$f":"Vypocet!AE81","v":35},{"$f":"Vypocet!AF81","v":0},{"$f":"Vypocet!AG81","v":147350.87431255195},{"$f":"Vypocet!AH81","v":8.1},{"$f":"Vypocet!AI81","v":194862.97909948832},{"$f":"Vypocet!AJ81","v":0},{"$f":"Vypocet!AK81","v":194862.97909948832},{"$f":"Vypocet!AL81","v":0},{"$f":"Vypocet!AM81","v":194862.97909948832}]
[{"$f":"Vypocet!AD82","v":"V12"},{"$f":"Vypocet!AE82","v":40},{"$f":"Vypocet!AF82","v":0},{"$f":"Vypocet!AG82","v":147350.87431255195},{"$f":"Vypocet!AH82","v":8.1},{"$f":"Vypocet!AI82","v":194862.97909948832},{"$f":"Vypocet!AJ82","v":0},{"$f":"Vypocet!AK82","v":194862.97909948832},{"$f":"Vypocet!AL82","v":0},{"$f":"Vypocet!AM82","v":194862.97909948832}]
[]
[]
[{"$f":"A1","v":"Sešit"},"te","Qvýpar","dxvýp","QP0,čerp","Qkond","Qdoh,te","Q doh ","Qdoh,celk","Qzbývá","Qdodat","Qpřebyt"]
[null,{"$f":"B2","v":"°C"},"[kW]",{"$f":"E2","v":"g/kg s.v."},"kW","[kW]","[kW]","[KW]","[kW]","[kW]","[kW]","[kW]"]
[{"$f":"A3","v":"Vypocet"},-12,{"$f":"D3/1000","v":32.351888526279758},{"$f":"E3","v":1.6523424824115767},{"$f":"Vypocet!$AH$99","v":1.5462897157726825},{"$f":"F3/1000","v":38.693738080568785},{"$f":"C3/1000","v":30.277613877608999},{"$f":"I19-G19","v":60.454138118469686},{"$f":"G3/1000","v":90.731751996078685},{"$f":"H3/1000","v":-52.0380139155099},{"$f":"I3/1000","v":52.0380139155099},{"$f":"J3/1000","v":0}]
[{"$f":"A4","v":"V2"},-10,27.580433828001269,1.5751818048857211,{"$f":"'V2'!$AH$67","v":2.1683409834564653},36.473522981484052,26.309288721395387,{"$f":"I20-G20","v":55.414453948334241},81.723742669729631,-45.250219688245586,45.250219688245586,0]
[{"$f":"A5","v":"V3"},-5,42.872416079321802,2.3143200042153818,{"$f":"'V3'!$AH$67","v":3.3705784841647763},56.696281969042936,16.884901889278392,65.547326174896668,82.432228064175064,-25.735946095132132,25.735946095132132,0]
[{"$f":"A6","v":"V4"},0,85.631999119880149,4.6338848301265845,{"$f":"'V4'!$AH$67","v":6.7322861686980273},113.24334879310032,8.1324325813340632,81.241314393246654,89.373746974580712,23.869601818519602,0,23.869601818519602]
[{"$f":"A7","v":"V5"},5,113.50473905986394,6.2604920196246585,{"$f":"'V5'!$AH$67","v":8.9236079118582428},150.1034296423652,0,92.037623399685899,92.037623399685899,58.065806242679301,0,58.065806242679301]
[{"$f":"A8","v":"V6"},10,145.57890192772908,7.9182084763652885,{"$f":"'V6'!$AH$67","v":11.445240540632948},192.51964846504501,0,97.536866460504868,97.536866460504868,94.982782004540127,0,94.982782004540127]
[{"$f":"A9","v":"V7"},15,147.35087431255195,8.1,{"$f":"'V7'!$AH$67","v":11.584550907087866},194.86297909948831,0,92.003298334623011,92.003298334623011,102.8596807648653,0,102.8596807648653]
[{"$f":"A10","v":"V8"},20,147.35087431255195,8.1,{"$f":"'V8'!$AH$67","v":11.584550907087866},194.86297909948831,0,65.486356391653203,65.486356391653203,129.37662270783511,0,129.37662270783511]
[{"$f":"A11","v":"V9"},25,147.35087431255195,8.1,{"$f":"'V9'!$AH$67","v":11.584550907087866},194.86297909948831,0,40.595985236727834,40.595985236727834,154.26699386276047,0,154.26699386276047]
[{"$f":"A12","v":"V10"},30,147.35087431255195,8.1,{"$f":"'V10'!$AH$67","v":11.584550907087866},194.86297909948831,0,17.189200328269525,17.189200328269525,177.67377877121879,0,177.67377877121879]
[{"$f":"A13","v":"V11"},{"$f":"B13","v":35},147.35087431255195,8.1,{"$f":"'V11'!$AH$67","v":11.584550907087866},194.86297909948831,0,0,0,194.86297909948831,0,194.86297909948831]
[{"$f":"A14","v":"V12"},40,147.35087431255195,8.1,{"$f":"'V12'!$AH$67","v":11.584550907087866},194.86297909948831,0,0,0,194.86297909948831,0,194.86297909948831]
[]
[null,"automatická",null,null,null,"manualne"]
[null,"Stavy exteriérového vzduchu",null,null,null,"Stavy exteriérového vzduchu"]
[null,"sešit","te","rhe",null,"sešit","te","rhe","x"]
[null,null,"°C","%",null,null,"°C","%","g/kg s.v."]
[null,{"$f":"A3","v":"Vypocet"},{"$f":"B3","v":-12},{"$f":"Vypocet!$P$7","v":100},null,{"$f":"B36","v":"Vypocet"},{"$f":"C36","v":-12},100,{"$f":"Vypocet!$P$17","v":1.5346182811310007}]
[null,{"$f":"A4","v":"V2"},{"$f":"B4","v":-10},{"$f":"'V2'!$P$7","v":83.04860687411022},null,{"$f":"B37","v":"V2"},{"$f":"C37","v":-10},{"$f":"D37","v":83.04860687411022},{"$f":"'V2'!$P$17","v":1.4969230443707031}]
[null,"V3",-5,{"$f":"'V3'!$P$7","v":81.922119085352051},null,"V3",-5,81.922119085352051,{"$f":"'V3'!$P$17","v":2.1801140028390291}]
[null,"V4",0,{"$f":"'V4'!$P$7","v":81},null,"V4",0,81,{"$f":"'V4'!$P$17","v":3.1296651220733702}]
[null,"V5",5,{"$f":"'V5'!$P$7","v":79},null,"V5",5,79,{"$f":"'V5'!$P$17","v":4.3660374954197003}]
[null,"V6",10,{"$f":"'V6'!$P$7","v":76},null,"V6",10,76,{"$f":"'V6'!$P$17","v":5.9146701705178364}]
[null,"V7",15,{"$f":"'V7'!$P$7","v":73},null,"V7",15,73,{"$f":"'V7'!$P$17","v":7.8955742669317184}]
[null,"V8",20,{"$f":"'V8'!$P$7","v":67},null,"V8",20,67,{"$f":"'V8'!$P$17","v":9.9391028708158391}]
[null,"V9",25,{"$f":"'V9'!$P$7","v":58},null,"V9",25,58,{"$f":"'V9'!$P$17","v":11.664482698046683}]
[null,"V10",30,{"$f":"'V10'!$P$7","v":100},null,"V10",30,58,{"$f":"'V10'!$P$17","v":26.944603973047954}]
[null,"V11",35,{"$f":"'V11'!$P$7","v":100},null,"V11",35,58,{"$f":"'V11'!$P$17","v":35.697269354212445}]
[null,"V12",40,{"$f":"'V12'!$P$7","v":100},null,"V12",40,58,{"$f":"'V12'!$P$17","v":46.834382376172776}]
[]
[null,"Vlastnosti vzduchu"]
[]
[null,null,null,null,"Sešit ","jednotka","Výpočet ","V2","V3","V4","V5","V6","V7","V8","V9","V10","V11","V12"]
[null,"int.  vzduch",null,null,"ti","°C",{"$f":"Teplota","v":32},{"$f":"'V2'!Teplota","v":32},{"$f":"'V3'!Teplota","v":32},{"$f":"'V4'!Teplota","v":32},{"$f":"'V5'!Teplota","v":32},{"$f":"'V6'!Teplota","v":32},{"$f":"'V7'!Teplota","v":32},{"$f":"'V8'!Teplota","v":32},{"$f":"'V9'!Teplota","v":32},{"$f":"'V10'!Teplota","v":32},{"$f":"'V11'!Teplota","v":32},{"$f":"'V12'!Teplota","v":32}]
[null,null,null,null,"rhi","%",{"$f":"Vypocet!$D$7","v":60},{"$f":"'V2'!$D$7","v":60},{"$f":"'V3'!$D$7","v":60},{"$f":"'V4'!$D$7","v":60},{"$f":"'V5'!$D$7","v":60},{"$f":"'V6'!$D$7","v":60},{"$f":"'V7'!$D$7","v":60},{"$f":"'V8'!$D$7","v":60},{"$f":"'V9'!$D$7","v":60},{"$f":"'V10'!$D$7","v":60},{"$f":"'V11'!$D$7","v":60},{"$f":"'V12'!$D$7","v":60}]
[null,null,null,null,"x","g/kg s.v.",{"$f":"Vypocet!$D$17","v":18.11068229079779},{"$f":"'V2'!$D$17","v":18.11068229079779},{"$f":"'V3'!$D$17","v":18.11068229079779},{"$f":"'V4'!$D$17","v":18.11068229079779},{"$f":"'V5'!$D$17","v":18.11068229079779},{"$f":"'V6'!$D$17","v":18.11068229079779},{"$f":"'V7'!$D$17","v":18.11068229079779},{"$f":"'V8'!$D$17","v":18.11068229079779},{"$f":"'V9'!$D$17","v":18.11068229079779},{"$f":"'V10'!$D$17","v":18.11068229079779},{"$f":"'V11'!$D$17","v":18.11068229079779},{"$f":"'V12'!$D$17","v":18.11068229079779}]
[null,"ext. vzduch",null,null,"te","°C",{"$f":"te","v":-12},{"$f":"'V2'!te","v":-10},{"$f":"'V3'!te","v":-5},{"$f":"'V4'!te","v":0},{"$f":"'V5'!te","v":5},{"$f":"'V6'!te","v":10},{"$f":"'V7'!te","v":15},{"$f":"'V8'!te","v":20},{"$f":"'V9'!te","v":25},{"$f":"'V10'!te","v":30},{"$f":"'V11'!te","v":35},{"$f":"'V12'!te","v":40}]
[null,null,null,null,"rhe","%",{"$f":"Vypocet!$P$7","v":100},{"$f":"'V2'!$P$7","v":83.04860687411022},{"$f":"'V3'!$P$7","v":81.922119085352051},{"$f":"'V4'!$P$7","v":81},{"$f":"'V5'!$P$7","v":79},{"$f":"'V6'!$P$7","v":76},{"$f":"'V7'!$P$7","v":73},{"$f":"'V8'!$P$7","v":67},{"$f":"'V9'!$P$7","v":58},{"$f":"'V10'!$P$7","v":100},{"$f":"'V11'!$P$7","v":100},{"$f":"'V12'!$P$7","v":100}]
[null,null,null,null,"xe","g/kg s.v.",{"$f":"Vypocet!$P$17","v":1.5346182811310007},{"$f":"'V2'!$P$17","v":1.4969230443707031},{"$f":"'V3'!$P$17","v":2.1801140028390291},{"$f":"'V4'!$P$17","v":3.1296651220733702},{"$f":"'V5'!$P$17","v":4.3660374954197003},{"$f":"'V6'!$P$17","v":5.9146701705178364},{"$f":"'V7'!$P$17","v":7.8955742669317184},{"$f":"'V8'!$P$17","v":9.9391028708158391},{"$f":"'V9'!$P$17","v":11.664482698046683},{"$f":"'V10'!$P$17","v":26.944603973047954},{"$f":"'V11'!$P$17","v":35.697269354212445},{"$f":"'V12'!$P$17","v":46.834382376172776}]
[null,"vlh odebraná na výparníku",null,null,"Δx","g/kg ",{"$f":"[0]!deltaT","v":1.6523424824115767},{"$f":"'V2'!deltaT","v":1.5751818048857211},{"$f":"'V3'!deltaT","v":2.3143200042153818},{"$f":"'V4'!deltaT","v":4.6338848301265845},{"$f":"'V5'!deltaT","v":6.2604920196246585},{"$f":"'V6'!deltaT","v":7.9182084763652885},{"$f":"'V7'!deltaT","v":8.1},{"$f":"'V8'!deltaT","v":8.1},{"$f":"'V9'!deltaT","v":8.1},{"$f":"'V10'!deltaT","v":8.1},{"$f":"'V11'!deltaT","v":8.1},{"$f":"'V12'!deltaT","v":8.1}]
[null,"vzduch za vyýparníkem",null,null,"tvyp","°C",{"$f":"tvyp","v":28},{"$f":"'V2'!tvyp","v":29},{"$f":"'V3'!tvyp","v":27},{"$f":"'V4'!tvyp","v":22},{"$f":"'V5'!tvyp","v":19},{"$f":"'V6'!tvyp","v":15},{"$f":"'V7'!tvyp","v":15},{"$f":"'V8'!tvyp","v":15},{"$f":"'V9'!tvyp","v":15},{"$f":"'V10'!tvyp","v":15},{"$f":"'V11'!tvyp","v":15},{"$f":"'V12'!tvyp","v":15}]
[null,null,null,null,"rh3","%",{"$f":"Vypocet!$D$68","v":68.602849160365636},{"$f":"'V2'!$D$68","v":65.024339449807172},{"$f":"'V3'!$D$68","v":69.76086727063803},{"$f":"'V4'!$D$68","v":80.329252007432373},{"$f":"'V5'!$D$68","v":85.014907978330939},{"$f":"'V6'!$D$68","v":94.239366458592571},{"$f":"'V7'!$D$68","v":92.558526426350483},{"$f":"'V8'!$D$68","v":92.558526426350483},{"$f":"'V9'!$D$68","v":92.558526426350483},{"$f":"'V10'!$D$68","v":92.558526426350483},{"$f":"'V11'!$D$68","v":92.558526426350483},{"$f":"'V12'!$D$68","v":92.558526426350483}]
[null,null,null,null,"x3","g/kg s.v.",{"$f":"Vypocet!$D$78","v":16.458339808386214},{"$f":"'V2'!$D$78","v":16.53550048591207},{"$f":"'V3'!$D$78","v":15.796362286582408},{"$f":"'V4'!$D$78","v":13.476797460671207},{"$f":"'V5'!$D$78","v":11.850190271173133},{"$f":"'V6'!$D$78","v":10.192473814432503},{"$f":"'V7'!$D$78","v":10.010682290797792},{"$f":"'V8'!$D$78","v":10.010682290797792},{"$f":"'V9'!$D$78","v":10.010682290797792},{"$f":"'V10'!$D$78","v":10.010682290797792},{"$f":"'V11'!$D$78","v":10.010682290797792},{"$f":"'V12'!$D$78","v":10.010682290797792}]
[null,"teplota předehřevu",null,null,"tpřed","°C",{"$f":"Vypocet!$D$85","v":5},{"$f":"'V2'!$D$85","v":5},{"$f":"'V3'!$D$85","v":5},{"$f":"'V4'!$D$85","v":5},{"$f":"'V5'!$D$85","v":5},{"$f":"'V6'!$D$85","v":5},{"$f":"'V7'!$D$85","v":5},{"$f":"'V8'!$D$85","v":5},{"$f":"'V9'!$D$85","v":5},{"$f":"'V10'!$D$85","v":5},{"$f":"'V11'!$D$85","v":5},{"$f":"'V12'!$D$85","v":5}]
[null,null,null,null,"předehřev ","Ano/Ne",{"$f":"IF(G55<G62,\"Ano\",\"Ne\")","v":"Ano"},{"$f":"IF(H55<H62,\"Ano\",\"Ne\")","v":"Ano"},{"$f":"IF(I55<I62,\"Ano\",\"Ne\")","v":"Ano"},{"$f":"IF(J55<J62,\"Ano\",\"Ne\")","v":"Ano"},{"$f":"IF(K55<K62,\"Ano\",\"Ne\")","v":"Ne"},{"$f":"IF(L55<L62,\"Ano\",\"Ne\")","v":"Ne"},{"$f":"IF(M55<M62,\"Ano\",\"Ne\")","v":"Ne"},{"$f":"IF(N55<N62,\"Ano\",\"Ne\")","v":"Ne"},{"$f":"IF(O55<O62,\"Ano\",\"Ne\")","v":"Ne"},{"$f":"IF(P55<P62,\"Ano\",\"Ne\")","v":"Ne"},{"$f":"IF(Q55<Q62,\"Ano\",\"Ne\")","v":"Ne"},{"$f":"IF(R55<R62,\"Ano\",\"Ne\")","v":"Ne"}]
[null,"předehřátý ext. vzduch",null,null,"tpřed","°C",{"$f":"Vypocet!$D$91","v":5},{"$f":"'V2'!$D$91","v":5},{"$f":"'V3'!$D$91","v":5},{"$f":"'V4'!$D$91","v":5},{"$f":"'V5'!$D$91","v":5},{"$f":"'V6'!$D$91","v":10},{"$f":"'V7'!$D$91","v":15},{"$f":"'V8'!$D$91","v":20},{"$f":"'V9'!$D$91","v":25},{"$f":"'V10'!$D$91","v":30},{"$f":"'V11'!$D$91","v":35},{"$f":"'V12'!$D$91","v":40}]
[null,null,null,null,"rhpřed","%",{"$f":"Vypocet!$D$92","v":27.771259149521139},{"$f":"'V2'!$D$92","v":27.087717492672237},{"$f":"'V3'!$D$92","v":39.456175007943266},{"$f":"'V4'!$D$92","v":56.655051562751311},{"$f":"'V5'!$D$92","v":79.002459629503321},{"$f":"'V6'!$D$92","v":76.002360390003133},{"$f":"'V7'!$D$92","v":73.002260086739838},{"$f":"'V8'!$D$92","v":67.002067618348249},{"$f":"'V9'!$D$92","v":58.001785004980945},{"$f":"'V10'!$D$92","v":100.00300512940797},{"$f":"'V11'!$D$92","v":100.00296513700818},{"$f":"'V12'!$D$92","v":100.00291576295257}]
[null,null,null,null,"x4","g/kg s.v.",{"$f":"Vypocet!$D$102","v":1.5346182811310007},{"$f":"'V2'!$D$102","v":1.4969230443707031},{"$f":"'V3'!$D$102","v":2.1801140028390291},{"$f":"'V4'!$D$102","v":3.1296651220733702},{"$f":"'V5'!$D$102","v":4.3660374954197003},{"$f":"'V6'!$D$102","v":5.9146701705178364},{"$f":"'V7'!$D$102","v":7.8955742669317184},{"$f":"'V8'!$D$102","v":9.9391028708158391},{"$f":"'V9'!$D$102","v":11.664482698046683},{"$f":"'V10'!$D$102","v":26.944603973047954},{"$f":"'V11'!$D$102","v":35.697269354212445},{"$f":"'V12'!$D$102","v":46.834382376172776}]
[null,"smíčení vzduchu s ext.",null,null,"t5","°C",{"$f":"Vypocet!$D$107","v":21},{"$f":"'V2'!$D$107","v":22},{"$f":"'V3'!$D$107","v":20},{"$f":"'V4'!$D$107","v":17},{"$f":"'V5'!$D$107","v":15},{"$f":"'V6'!$D$107","v":14},{"$f":"'V7'!$D$107","v":15},{"$f":"'V8'!$D$107","v":20},{"$f":"'V9'!$D$107","v":25},{"$f":"'V10'!$D$107","v":30},{"$f":"'V11'!$D$107","v":35},{"$f":"'V12'!$D$107","v":40}]
[null,null,null,null,"rh5","%",{"$f":"Vypocet!$D$108","v":56.4},{"$f":"'V2'!$D$108","v":53.643352862666688},{"$f":"'V3'!$D$108","v":60.6694595918296},{"$f":"'V4'!$D$108","v":73.226991874028045},{"$f":"'V5'!$D$108","v":83.211173473682649},{"$f":"'V6'!$D$108","v":88.768264638015737},{"$f":"'V7'!$D$108","v":86.691646524467288},{"$f":"'V8'!$D$108","v":67.002067618348249},{"$f":"'V9'!$D$108","v":58.001785004980945},{"$f":"'V10'!$D$108","v":100.00300512940797},{"$f":"'V11'!$D$108","v":100.00296513700818},{"$f":"'V12'!$D$108","v":100.00291576295257}]
[null,null,null,null,"x5","g/kg s.v.",{"$f":"Vypocet!$D$118","v":8.899758868135816},{"$f":"'V2'!$D$118","v":9.0000000000000018},{"$f":"'V3'!$D$118","v":8.9999999999999876},{"$f":"'V4'!$D$118","v":9},{"$f":"'V5'!$D$118","v":9},{"$f":"'V6'!$D$118","v":8.9999999999999982},{"$f":"'V7'!$D$118","v":9.376442924061978},{"$f":"'V8'!$D$118","v":9.9394095912854059},{"$f":"'V9'!$D$118","v":11.664841683559031},{"$f":"'V10'!$D$118","v":26.945413693265809},{"$f":"'V11'!$D$118","v":35.69832782715698},{"$f":"'V12'!$D$118","v":46.835747955743166}]
[null,"vstupní vzduch do int.",null,null,"t5","°C",{"$f":"Vypocet!D134","v":34},{"$f":"'V2'!$D$134","v":34},{"$f":"'V2'!$D$134","v":34},{"$f":"'V2'!$D$134","v":34},{"$f":"'V2'!$D$134","v":34},{"$f":"'V2'!$D$134","v":34},{"$f":"'V2'!$D$134","v":34},{"$f":"'V2'!$D$134","v":34},{"$f":"'V2'!$D$134","v":34},{"$f":"'V2'!$D$134","v":34},{"$f":"'V2'!$D$134","v":34},{"$f":"'V2'!$D$134","v":34}]
[null,null,null,null,"rh5","%",{"$f":"Vypocet!D137","v":26.359954573354266},{"$f":"'V2'!$D$137","v":26.655326030905385},{"$f":"'V2'!$D$137","v":26.655326030905385},{"$f":"'V2'!$D$137","v":26.655326030905385},{"$f":"'V2'!$D$137","v":26.655326030905385},{"$f":"'V2'!$D$137","v":26.655326030905385},{"$f":"'V2'!$D$137","v":26.655326030905385},{"$f":"'V2'!$D$137","v":26.655326030905385},{"$f":"'V2'!$D$137","v":26.655326030905385},{"$f":"'V2'!$D$137","v":26.655326030905385},{"$f":"'V2'!$D$137","v":26.655326030905385},{"$f":"'V2'!$D$137","v":26.655326030905385}]
[null,null,null,null,"x5","g/kg s.v.",{"$f":"Vypocet!D147","v":8.899758868135816},{"$f":"'V2'!$D$147","v":9.0000000000000018},{"$f":"'V2'!$D$147","v":9.0000000000000018},{"$f":"'V2'!$D$147","v":9.0000000000000018},{"$f":"'V2'!$D$147","v":9.0000000000000018},{"$f":"'V2'!$D$147","v":9.0000000000000018},{"$f":"'V2'!$D$147","v":9.0000000000000018},{"$f":"'V2'!$D$147","v":9.0000000000000018},{"$f":"'V2'!$D$147","v":9.0000000000000018},{"$f":"'V2'!$D$147","v":9.0000000000000018},{"$f":"'V2'!$D$147","v":9.0000000000000018},{"$f":"'V2'!$D$147","v":9.0000000000000018}]

{"sheet":"Srovnání","index":17,"n_rows":97,"n_cols":14,"rows_kept":97,"cut":false,"hidden":false,"merged":[[82,1,83,1],[1,1,2,1],[17,1,18,1],[50,1,51,1],[66,1,67,1]]}
[null,"varianta 1","ti=32°C","Δx=8g/kg"]
[null,"Sešit","te","Qvýpar","dxvýp","Qkond","Qdoh,te","Q doh ","Qdoh,celk","Qzbývá","Qdodat","Qpřebyt"]
[null,null,"°C","[kW]","g/kg s.v.","[kW]","[kW]","[KW]","[kW]","[kW]","[kW]","[kW]"]
[null,"Vypocet",-12,62.91,3.83,75.239999999999995,27.28,68.5,95.78,-20.55,20.55,0]
[null,"V2",-10,62.39,3.78,74.62,23.71,68.5,92.21,-17.59,17.59,0]
[null,"V3",-5,85.24,5.14,101.95,15.21,78.12,93.33,8.6199999999999992,0,8.6199999999999992]
[null,"V4",0,108.26,6.53,129.47999999999999,7.33,87.98,95.31,34.17,0,34.17]
[null,"V5",5,130.82,7.88,156.47,0,98.08,98.08,58.39,0,58.39]
[null,"V6",10,147.83000000000001,9,176.8,0,98.08,98.08,78.72,0,78.72]
[null,"V7",15,147.82,9,176.79,0,83.03,83.03,93.77,0,93.77]
[null,"V8",20,147.82,9,176.79,0,59.01,59.01,117.78,0,117.78]
[null,"V9",25,147.82,9,176.79,0,36.58,36.58,140.21,0,140.21]
[null,"V10",30,147.82,9,176.79,0,15.49,15.49,161.31,0,161.31]
[null,"V11",35,147.82,9,176.79,0,0,0,176.79,0,176.79]
[null,"V12",40,147.82,9,176.79,0,0,0,176.79,0,176.79]
[]
[null,"varianta 2","ti=32°C","Δx=9g/kg"]
[null,"Sešit","te","Qvýpar","dxvýp","Qkond","Qdoh,te","Q doh ","Qdoh,celk","Qzbývá","Qdodat","Qpřebyt"]
[null,null,"°C","[kW]","g/kg s.v.","[kW]","[kW]","[KW]","[kW]","[kW]","[kW]","[kW]"]
[null,"Vypocet",-12,25.5,1.65,30.5,27.28,49.93,77.22,-46.72,46.72,0]
[null,"V2",-10,24.85,1.58,29.72,23.71,49.93,73.64,-43.92,43.92,0]
[null,"V3",-5,38.630000000000003,2.31,46.21,15.21,59.06,74.28,-28.07,28.07,0]
[null,"V4",0,77.16,4.63,92.29,7.33,73.209999999999994,80.53,11.75,0,11.75]
[null,"V5",5,102.28,6.26,122.33,0,82.93,82.93,39.39,0,39.39]
[null,"V6",10,131.18,7.92,156.9,0,87.89,87.89,69.010000000000005,0,69.010000000000005]
[null,"V7",15,147.82,9,176.79,0,83.03,83.03,93.77,0,93.77]
[null,"V8",20,147.82,9,176.79,0,59.01,59.01,117.78,0,117.78]
[null,"V9",25,147.82,9,176.79,0,36.58,36.58,140.21,0,140.21]
[null,"V10",30,147.82,9,176.79,0,15.49,15.49,161.31,0,161.31]
[null,"V11",35,147.82,9,176.79,0,0,0,176.79,0,176.79]
[null,"V12",40,147.82,9,176.79,0,0,0,176.79,0,176.79]
[]
[null,"varianta 2","ti=30°C","Δx=8g/kg"]
[null,"Sešit","te","Qvýpar","dxvýp","Qkond","Qdoh,te","Q doh ","Qdoh,celk","Qzbývá","Qdodat","Qpřebyt"]
[null,null,"°C","[kW]","g/kg s.v.","[kW]","[kW]","[KW]","[kW]","[kW]","[kW]","[kW]"]
[null,"Vypocet",-12,40.520000000000003,2.08,48.58,30.14,61.07,91.21,-42.64,42.64,0]
[null,"V2",-10,39.89,2.0099999999999998,47.82,26.19,61.07,87.26,-39.450000000000003,39.450000000000003,0]
[null,"V3",-5,65.55,3.4,78.58,16.809999999999999,71.44,88.25,-9.67,9.67,0]
[null,"V4",0,91.41,4.82,109.59,8.1,82.06,90.16,19.43,0,19.43]
[null,"V5",5,106.41,5.54,127.56,0,92.96,92.96,34.6,0,34.6]
[null,"V6",10,137.09,7.06,164.35,0,98.51,98.51,65.84,0,65.84]
[null,"V7",15,146.35,7.6,175.45,0,82.07,82.07,93.37,0,93.37]
[null,"V8",20,146.35,7.6,175.45,0,55.88,55.88,119.56,0,119.56]
[null,"V9",25,146.35,7.6,175.45,0,31.43,31.43,144.01,0,144.01]
[null,"V10",30,146.35,7.6,175.45,0,8.56,8.56,166.89,0,166.89]
[null,"V11",35,146.35,7.6,175.45,0,0,0,175.45,0,175.45]
[null,"V12",40,146.35,7.6,175.45,0,0,0,175.45,0,175.45]
[]
[]
[]
[null,"Sešit","te","Qvýpar","dxvýp","QP0,čerp","Qkond","Qdoh,te","Q doh ","Qdoh,celk","Qzbývá","Qdodat","Qpřebyt"]
[null,null,"°C","[kW]","g/kg s.v.","kW","[kW]","[kW]","[KW]","[kW]","[kW]","[kW]","[kW]"]
[null,"Vypocet",-12,62.8,3.82,4.9400000000000004,83.05,27.28,68.5,95.78,-12.74,12.74,0,{"$f":"K53-F53","v":-17.68}]
[null,"V2",-10,62.39,3.78,4.9000000000000004,82.5,23.71,68.5,92.21,-9.6999999999999993,9.6999999999999993,0,{"$f":"K54-F54","v":-14.6}]
[null,"V3",-5,85.24,5.14,6.7,112.72,15.21,78.12,93.33,19.39,0,19.39,12.690000000000001]
[null,"V4",0,108.26,6.53,8.51,143.16,7.33,87.98,95.31,47.86,0,47.86,39.35]
[null,"V5",5,130.82,7.88,10.29,173.01,0,98.08,98.08,74.92,0,74.92,64.63]
[null,"V6",10,147.83000000000001,9,11.62,195.49,0,98.08,98.08,97.41,0,97.41,85.789999999999992]
[null,"V7",15,147.82,9,11.62,195.48,0,83.03,83.03,112.46,0,112.46,100.83999999999999]
[null,"V8",20,147.82,9,11.62,195.48,0,59.01,59.01,136.47,0,136.47,124.85]
[null,"V9",25,147.82,9,11.62,195.48,0,36.58,36.58,158.9,0,158.9,147.28]
[null,"V10",30,147.82,9,11.62,195.48,0,15.67,15.67,179.81,0,179.81,168.19]
[null,"V11",35,147.82,9,11.62,195.48,0,0,0,195.48,0,195.48,183.85999999999999]
[null,"V12",40,147.82,9,11.62,195.48,0,0,0,195.48,0,195.48,183.85999999999999]
[null,null,null,null,null,null,null,null,null,null,null,null,null,{"$f":"SUM(N53:N64)","v":1079.06}]
[]
[null,"Sešit","te","Qvýpar","dxvýp","QP0,čerp","Qkond","Qdoh,te","Q doh ","Qdoh,celk","Qzbývá","Qdodat","Qpřebyt"]
[null,null,"°C","[kW]","g/kg s.v.","kW","[kW]","[kW]","[KW]","[kW]","[kW]","[kW]","[kW]"]
[null,"Vypocet",-12,32.35,1.65,1.55,38.69,30.28,60.45,90.73,-52.04,52.04,0,-53.589999999999996]
[null,"V2",-10,27.58,1.58,2.17,36.47,26.31,55.41,81.72,-45.25,45.25,0,-47.42]
[null,"V3",-5,42.87,2.31,3.37,56.7,16.88,65.55,82.43,-25.74,25.74,0,-29.11]
[null,"V4",0,85.63,4.63,6.73,113.24,8.1300000000000008,81.239999999999995,89.37,23.87,0,23.87,17.14]
[null,"V5",5,113.5,6.26,8.92,150.1,0,92.04,92.04,58.07,0,58.07,49.15]
[null,"V6",10,145.58000000000001,7.92,11.45,192.52,0,97.54,97.54,94.98,0,94.98,83.53]
[null,"V7",15,147.35,8.1,11.58,194.86,0,92,92,102.86,0,102.86,91.28]
[null,"V8",20,147.35,8.1,11.58,194.86,0,65.489999999999995,65.489999999999995,129.38,0,129.38,117.8]
[null,"V9",25,147.35,8.1,11.58,194.86,0,40.6,40.6,154.27000000000001,0,154.27000000000001,142.69]
[null,"V10",30,147.35,8.1,11.58,194.86,0,17.190000000000001,17.190000000000001,177.67,0,177.67,166.08999999999997]
[null,"V11",35,147.35,8.1,11.58,194.86,0,0,0,194.86,0,194.86,183.28]
[null,"V12",40,147.35,8.1,11.58,194.86,0,0,0,194.86,0,194.86,183.28]
[null,null,null,null,null,null,null,null,null,null,null,null,null,{"$f":"SUM(N69:N80)","v":904.11999999999989}]
[]
[null,"Sešit","te","Qvýpar","dxvýp","QP0,čerp","Qkond","Qdoh,te","Q doh ","Qdoh,celk","Qzbývá","Qdodat","Qpřebyt"]
[null,null,"°C","[kW]","g/kg s.v.","kW","[kW]","[kW]","[KW]","[kW]","[kW]","[kW]","[kW]"]
[null,"Vypocet",-12,40.44,2.0699999999999998,3.31,53.79,30.14,61.07,91.21,-37.42,37.42,0,-40.730000000000004]
[null,"V2",-10,39.89,2.0099999999999998,3.27,53.05,26.19,61.07,87.26,-34.22,34.22,0,-37.49]
[null,"V3",-5,65.55,3.4,5.37,87.18,16.809999999999999,71.44,88.25,-1.07,1.07,0,-6.44]
[null,"V4",0,91.41,4.82,7.49,121.58,8.1,82.06,90.16,31.42,0,31.42,23.93]
[null,"V5",5,106.41,5.54,8.7100000000000009,141.53,0,92.96,92.96,48.57,0,48.57,39.86]
[null,"V6",10,137.09,7.06,11.23,182.34,0,98.51,98.51,83.83,0,83.83,72.599999999999994]
[null,"V7",15,146.84,7.65,12.03,195.3,0,82.07,82.07,113.23,0,113.23,101.2]
[null,"V8",20,146.84,7.65,12.03,195.3,0,55.88,55.88,139.41999999999999,0,139.41999999999999,127.38999999999999]
[null,"V9",25,146.84,7.65,12.03,195.3,0,31.43,31.43,163.87,0,163.87,{"$f":"K93-F93","v":151.84}]
[null,"V10",30,146.84,7.65,12.03,195.3,0,8.56,8.56,186.74,0,186.74,174.71]
[null,"V11",35,146.84,7.65,12.03,195.3,0,0,0,195.3,0,195.3,183.27]
[null,"V12",40,146.84,7.65,12.03,195.3,0,0,0,195.3,0,195.3,183.27]
[null,null,null,null,null,null,null,null,null,null,null,null,null,{"$f":"SUM(N85:N96)","v":973.41}]