{"text_format":"1","workbook":"xlsx","n_sheets":7,"sheets":["Vstupní hodnoty","Zdrojová data","Výpočet platby zákazníka","Výpočetní model","Výstupy modelu","Investice","Statistické šetření"],"not_rendered":{"charts":6,"images":0,"macros":1,"external_links":0,"defined_names":113,"comments":1,"pivot_tables":0},"unopened":[],"bounds":{"document_bytes":16777216,"sheet_cells":100000,"rows_first":2000,"rows_last":500,"rows_between":2000,"halvings":0,"cell_chars":16384,"cell_head_chars":4096},"cells_cut":0,"cells_raw":0,"read":"whole","date_system":"1900"}

{"sheet":"Vstupní hodnoty","index":0,"n_rows":9,"n_cols":4,"rows_kept":9,"cut":false,"hidden":false,"merged":[[5,1,5,3]]}
[]
[null,"Vstupní veličina","Hodnota","Jednotky"]
[null,"Spotřeba zákazníka",{"$f":"SUM('Výpočetní model'!D4:D35043)/4/1000","v":6292.1534400000519},"MWh"]
[null,"Rezervovaná kapacita",{"$f":"MAX('Výpočetní model'!D3:D35043)*1.05","v":1865.4300000000003},"kWh"]
[null,"Rezervovaný příkon",{"$f":"C4*1.05","v":1958.7015000000004},"kWh"]
[null,"Distribuční síť"]
[null,"ČEZ",1,"-"]
[null,"EON",0,"-"]
[null,"PRE",0,"-"]

{"sheet":"Zdrojová data","index":1,"n_rows":21,"n_cols":10,"rows_kept":21,"cut":false,"hidden":false,"merged":[[10,1,10,3],[17,1,17,3],[19,1,19,3],[11,1,12,1],[2,6,3,6]]}
[]
[null,"Veličina","Hodnota","Jednotky"]
[null,"Cena rezervované kapacity",{"$f":"SUMPRODUCT(H5:H7,'Vstupní hodnoty'!C7:C9)","v":171705},"Kč/MW/měsíc",null,null,"Distribuční síť","Cena za RK","Použití sítě","Penále za překročení"]
[null,"Cena za použití sítě",{"$f":"SUMPRODUCT(I5:I7,'Vstupní hodnoty'!C7:C9)","v":44.16},"Kč/MWh",null,null,null,"Kč/MW/měsíc","Kč/MWh","Kč/MWh"]
[null,"Cena systémových služeb",93.63,"Kč/MWh",null,null,"ČEZ",171705,44.16,{"$f":"4*H5","v":686820}]
[null,"Cena POZE",{"$f":"MIN(495*'Vstupní hodnoty'!C3,65424*'Vstupní hodnoty'!C5/1000)","v":128146.08693600002},"Kč/MW/měsíc",null,null,"EON",143903,49.51,{"$f":"4*H6","v":575612}]
[null,"Poplatek OTE, ERÚ",5.4,"Kč/měsíc",null,null,"PRE",193631,50.73,774524]
[null,"CAL XY",800,"Kč/MWh"]
[null,"Daň z elektřiny",28,"%"]
[null,"DPH",21,"%"]
[]
[null,"Spotřeba stroje",83.5,"l/h"]
[null,null,{"$f":"C12/60","v":1.3916666666666666},"l/min"]
[null,"Cena nafty",{"$f":"29.81*0.79","v":23.549900000000001},"Kč/l"]
[null,"Výkon stroje",{"$f":"400*0.9","v":360},"kW"]
[null,"Minutová práce stroje",{"$f":"C15/60","v":6},"kWh/min"]
[null,"Maximální regulovatelná hodnota",{"$f":"7*4*C16","v":168},"kW"]
[]
[null,"Projektovaná úspěšnost startů",98,"%"]
[]
[null,"Penále za překročení",{"$f":"SUMPRODUCT(J5:J7,'Vstupní hodnoty'!C7:C9)/1000","v":686.82},"Kč/kW"]

{"sheet":"Výpočet platby zákazníka","index":2,"n_rows":19,"n_cols":9,"rows_kept":19,"cut":false,"hidden":false,"merged":[[14,2,14,4],[14,6,14,8],[1,2,2,4],[1,6,2,8],[4,2,4,4],[8,2,8,4],[12,2,12,4],[4,6,4,8],[8,6,8,8],[12,6,12,8]]}
[]
[null,null,"Před optimalizací",null,null,null,"Po optimalizací"]
[]
[null,null,"Platba za odběrné místo (VN)","Celkem","Jednotky",null,"Platba za odběrné místo (VN)","Celkem","Jednotky"]
[null,null,"Služby distributora",null,null,null,"Služby distributora"]
[null,null,"Rezervovaná kapacita",{"$f":"'Vstupní hodnoty'!C4/1000*'Zdrojová data'!$C$3*12","v":3843643.8978000013},"Kč",null,"Rezervovaná kapacita",{"$f":"'Výstupy modelu'!H9/1000*'Zdrojová data'!$C$3*12","v":3428297.6814553267},"Kč"]
[null,null,"Použití sítě",{"$f":"'Vstupní hodnoty'!C3*'Zdrojová data'!$C$4","v":277861.49591040227},"Kč",null,"Použití sítě",{"$f":"'Výstupy modelu'!H8*'Zdrojová data'!$C$4","v":277823.55319680227},"Kč"]
[null,null,"Účiník",0,"Kč",null,"Účiník",0,"Kč"]
[null,null,"Ostatní služby",null,null,null,"Ostatní služby"]
[null,null,"Systémové služby",{"$f":"'Vstupní hodnoty'!C3*'Zdrojová data'!$C$5","v":589134.32658720482},"Kč",null,"Systémové služby",{"$f":"'Výstupy modelu'!H8*'Zdrojová data'!$C$5","v":589053.87875490484},"Kč"]
[null,null,"POZE",{"$f":"'Zdrojová data'!$C$6*12","v":1537753.0432320002},"Kč",null,"POZE",{"$f":"MIN(495*'Výstupy modelu'!H8,65424*'Výstupy modelu'!H10/1000)*12","v":1480228.4678400003},"Kč"]
[null,null,"OTE, ERÚ",{"$f":"'Zdrojová data'!$C$7*12","v":64.800000000000011},"Kč",null,"OTE, ERÚ",{"$f":"'Zdrojová data'!$C$7*12","v":64.800000000000011},"Kč"]
[null,null,"Silová elektřina",null,null,null,"Silová elektřina"]
[null,null,"Nákup CAL 19",{"$f":"'Vstupní hodnoty'!C3*'Zdrojová data'!$C$8","v":5033722.7520000413},"Kč",null,"Nákup CAL 19",{"$f":"'Výstupy modelu'!H8*'Zdrojová data'!$C$8","v":5033035.3840000415},"Kč"]
[null,null,"Součet",null,null,null,"Součet"]
[null,null,"Cena bez daní",{"$f":"SUM(D6:D14)","v":11282180.31552965},"Kč",null,"Cena bez daní",{"$f":"SUM(H6:H14)","v":10808503.765247075},"Kč"]
[null,null,"Daň z elektřiny",{"$f":"'Zdrojová data'!$C$9*'Vstupní hodnoty'!C3","v":176180.29632000145},"Kč",null,"Daň z elektřiny",{"$f":"'Zdrojová data'!$C$9*'Výstupy modelu'!H8","v":176156.23844000147},"Kč"]
[null,null,"Penále",{"$f":"(SUM('Výpočetní model'!Y4:Y35043)+SUM('Výpočetní model'!Z4:Z35043))*'Zdrojová data'!C21","v":0},"Kč",null,"Penále",{"$f":"'Výstupy modelu'!C19","v":0},"Kč"]
[null,null,"Cena s daní z elektřiny (bez DPH",{"$f":"D16+D17+D18","v":11458360.611849651},"Kč",null,"Cena s DPH",{"$f":"SUM(H16:H18)","v":10984660.003687076},"Kč"]

{"sheet":"Výpočetní model","index":3,"n_rows":35045,"n_cols":29,"rows_kept":2250,"cut":true,"hidden":false,"merged":[],"bounds":{"rows_first":1000,"rows_last":250,"rows_between":1000,"halvings":1}}
[]
[]
[null,"Datum a čas","Měsíc","Max. 1/4h P","Regulovaná hodnota","Start dieselu","Pomocná proměnná","Úspěšný start","Změna RK","Regulovaný výkon teoretický","Reg. výkon praktický","Elektrická práce","Doba provozu","Spotřeba paliva","Palivové náklady","Chyběl výkon?","Chybějící výkon","Platilo se penále?","Měsíční max překročení kapacity","Překročení příkonu",null,null,"Původní kapacita","Nový příkon","Překročení původní kapacity","Překročení původního příkonu"]
[null,"2017-01-01T00:15:00",{"$f":"MONTH(B4)","v":1},192.24,{"$f":"CEILING('Výstupy modelu'!C7,1)","v":1664},{"$f":"IF(D4>E4,1,0)","v":0},{"$f":"IF(F4=1,RANDBETWEEN(0,100),0)","v":0},{"$f":"IF(F4=1,IF(G4>'Zdrojová data'!$C$19,0,1),\"\")","v":""},{"$f":"IF(H4=0,D4,IF(J4>K4,E4+J4-K4,E4))","v":1664},{"$f":"IF(H4=1,D4-E4,0)","v":0},{"$f":"MIN(J4,'Zdrojová data'!$C$17)","v":0},{"$f":"K4/4","v":0},{"$f":"L4/'Zdrojová data'!$C$16","v":0},{"$f":"M4*'Zdrojová data'!$C$13","v":0},{"$f":"N4*'Zdrojová data'!$C$14","v":0},{"$f":"IF(H4=0,1,IF(J4>K4,1,0))","v":0},{"$f":"IF(H4=0,D4-'Výstupy modelu'!$C$7,IF(P4=1,J4-K4,0))","v":0},{"$f":"IF(H4=0,1,IF(J4>K4,1,0))","v":0},null,{"$f":"MAX(0,IF(Q4>0,Q4-('Výstupy modelu'!$H$10-'Výstupy modelu'!$H$9),0))","v":0},null,null,{"$f":"'Vstupní hodnoty'!C4","v":1865.4300000000003},{"$f":"'Výstupy modelu'!H10","v":1885.4300000000003},{"$f":"MAX(0,D4-W4)","v":0},{"$f":"MAX(0,D4-'Vstupní hodnoty'!$C$5)","v":0},null,null,1]
[null,"2017-01-01T00:30:00",{"$f":"MONTH(B5)","v":1},192.24,{"$f":"CEILING(IF(C5-C4=0,IF(H4=0,I4,IF(J4>K4,I4,E4)),'Výstupy modelu'!$C$7),1)","v":1664},0,{"$f":"IF(F5=1,RANDBETWEEN(0,100),0)","v":0},{"$f":"IF(F5=1,IF(G5>'Zdrojová data'!$C$19,0,1),\"\")","v":""},1664,0,{"$f":"MIN(J5,'Zdrojová data'!$C$17)","v":0},{"$f":"K5/4","v":0},{"$f":"L5/'Zdrojová data'!$C$16","v":0},{"$f":"M5*'Zdrojová data'!$C$13","v":0},{"$f":"N5*'Zdrojová data'!$C$14","v":0},{"$f":"IF(H5=0,1,IF(J5>K5,1,0))","v":0},{"$f":"IF(H5=0,D5-'Výstupy modelu'!$C$7,IF(P5=1,J5-K5,0))","v":0},{"$f":"IF(H5=0,1,IF(J5>K5,1,0))","v":0},null,{"$f":"MAX(0,IF(Q5>0,Q5-('Výstupy modelu'!$H$10-'Výstupy modelu'!$H$9),0))","v":0},null,null,{"$f":"W4","v":1865.4300000000003},{"$f":"X4","v":1885.4300000000003},0,{"$f":"MAX(0,D5-'Vstupní hodnoty'!$C$5)","v":0}]
[null,"2017-01-01T00:45:00",1,191.16000000000003,{"$f":"CEILING(IF(C6-C5=0,IF(H5=0,I5,IF(J5>K5,I5,E5)),'Výstupy modelu'!$C$7),1)","v":1664},0,0,{"$f":"IF(F6=1,IF(G6>'Zdrojová data'!$C$19,0,1),\"\")","v":""},1664,0,{"$f":"MIN(J6,'Zdrojová data'!$C$17)","v":0},0,{"$f":"L6/'Zdrojová data'!$C$16","v":0},{"$f":"M6*'Zdrojová data'!$C$13","v":0},{"$f":"N6*'Zdrojová data'!$C$14","v":0},0,{"$f":"IF(H6=0,D6-'Výstupy modelu'!$C$7,IF(P6=1,J6-K6,0))","v":0},0,null,{"$f":"MAX(0,IF(Q6>0,Q6-('Výstupy modelu'!$H$10-'Výstupy modelu'!$H$9),0))","v":0},null,null,{"$f":"W5","v":1865.4300000000003},1885.4300000000003,0,{"$f":"MAX(0,D6-'Vstupní hodnoty'!$C$5)","v":0}]
[null,"2017-01-01T01:00:00",1,197.64000000000001,{"$f":"CEILING(IF(C7-C6=0,IF(H6=0,I6,IF(J6>K6,I6,E6)),'Výstupy modelu'!$C$7),1)","v":1664},0,0,{"$f":"IF(F7=1,IF(G7>'Zdrojová data'!$C$19,0,1),\"\")","v":""},1664,0,{"$f":"MIN(J7,'Zdrojová data'!$C$17)","v":0},0,{"$f":"L7/'Zdrojová data'!$C$16","v":0},{"$f":"M7*'Zdrojová data'!$C$13","v":0},{"$f":"N7*'Zdrojová data'!$C$14","v":0},0,{"$f":"IF(H7=0,D7-'Výstupy modelu'!$C$7,IF(P7=1,J7-K7,0))","v":0},0,null,{"$f":"MAX(0,IF(Q7>0,Q7-('Výstupy modelu'!$H$10-'Výstupy modelu'!$H$9),0))","v":0},null,null,1865.4300000000003,1885.4300000000003,0,{"$f":"MAX(0,D7-'Vstupní hodnoty'!$C$5)","v":0}]
[null,"2017-01-01T01:15:00",1,184.68,{"$f":"CEILING(IF(C8-C7=0,IF(H7=0,I7,IF(J7>K7,I7,E7)),'Výstupy modelu'!$C$7),1)","v":1664},0,0,{"$f":"IF(F8=1,IF(G8>'Zdrojová data'!$C$19,0,1),\"\")","v":""},1664,0,{"$f":"MIN(J8,'Zdrojová data'!$C$17)","v":0},0,{"$f":"L8/'Zdrojová data'!$C$16","v":0},{"$f":"M8*'Zdrojová data'!$C$13","v":0},{"$f":"N8*'Zdrojová data'!$C$14","v":0},0,{"$f":"IF(H8=0,D8-'Výstupy modelu'!$C$7,IF(P8=1,J8-K8,0))","v":0},0,null,{"$f":"MAX(0,IF(Q8>0,Q8-('Výstupy modelu'!$H$10-'Výstupy modelu'!$H$9),0))","v":0},null,null,1865.4300000000003,1885.4300000000003,0,{"$f":"MAX(0,D8-'Vstupní hodnoty'!$C$5)","v":0}]
[null,"2017-01-01T01:30:00",1,193.32000000000002,{"$f":"CEILING(IF(C9-C8=0,IF(H8=0,I8,IF(J8>K8,I8,E8)),'Výstupy modelu'!$C$7),1)","v":1664},0,0,{"$f":"IF(F9=1,IF(G9>'Zdrojová data'!$C$19,0,1),\"\")","v":""},1664,0,{"$f":"MIN(J9,'Zdrojová data'!$C$17)","v":0},0,{"$f":"L9/'Zdrojová data'!$C$16","v":0},{"$f":"M9*'Zdrojová data'!$C$13","v":0},{"$f":"N9*'Zdrojová data'!$C$14","v":0},0,{"$f":"IF(H9=0,D9-'Výstupy modelu'!$C$7,IF(P9=1,J9-K9,0))","v":0},0,null,{"$f":"MAX(0,IF(Q9>0,Q9-('Výstupy modelu'!$H$10-'Výstupy modelu'!$H$9),0))","v":0},null,null,1865.4300000000003,1885.4300000000003,0,{"$f":"MAX(0,D9-'Vstupní hodnoty'!$C$5)","v":0}]
[null,"2017-01-01T01:45:00",1,190.08,{"$f":"CEILING(IF(C10-C9=0,IF(H9=0,I9,IF(J9>K9,I9,E9)),'Výstupy modelu'!$C$7),1)","v":1664},0,0,{"$f":"IF(F10=1,IF(G10>'Zdrojová data'!$C$19,0,1),\"\")","v":""},1664,0,{"$f":"MIN(J10,'Zdrojová data'!$C$17)","v":0},0,{"$f":"L10/'Zdrojová data'!$C$16","v":0},{"$f":"M10*'Zdrojová data'!$C$13","v":0},{"$f":"N10*'Zdrojová data'!$C$14","v":0},0,{"$f":"IF(H10=0,D10-'Výstupy modelu'!$C$7,IF(P10=1,J10-K10,0))","v":0},0,null,{"$f":"MAX(0,IF(Q10>0,Q10-('Výstupy modelu'!$H$10-'Výstupy modelu'!$H$9),0))","v":0},null,null,1865.4300000000003,1885.4300000000003,0,{"$f":"MAX(0,D10-'Vstupní hodnoty'!$C$5)","v":0}]
[null,"2017-01-01T02:00:00",1,183.60000000000002,{"$f":"CEILING(IF(C11-C10=0,IF(H10=0,I10,IF(J10>K10,I10,E10)),'Výstupy modelu'!$C$7),1)","v":1664},0,0,{"$f":"IF(F11=1,IF(G11>'Zdrojová data'!$C$19,0,1),\"\")","v":""},1664,0,{"$f":"MIN(J11,'Zdrojová data'!$C$17)","v":0},0,{"$f":"L11/'Zdrojová data'!$C$16","v":0},{"$f":"M11*'Zdrojová data'!$C$13","v":0},{"$f":"N11*'Zdrojová data'!$C$14","v":0},0,{"$f":"IF(H11=0,D11-'Výstupy modelu'!$C$7,IF(P11=1,J11-K11,0))","v":0},0,null,{"$f":"MAX(0,IF(Q11>0,Q11-('Výstupy modelu'!$H$10-'Výstupy modelu'!$H$9),0))","v":0},null,null,1865.4300000000003,1885.4300000000003,0,{"$f":"MAX(0,D11-'Vstupní hodnoty'!$C$5)","v":0}]
[null,"2017-01-01T02:15:00",1,185.76000000000002,{"$f":"CEILING(IF(C12-C11=0,IF(H11=0,I11,IF(J11>K11,I11,E11)),'Výstupy modelu'!$C$7),1)","v":1664},0,0,{"$f":"IF(F12=1,IF(G12>'Zdrojová data'!$C$19,0,1),\"\")","v":""},1664,0,{"$f":"MIN(J12,'Zdrojová data'!$C$17)","v":0},0,{"$f":"L12/'Zdrojová data'!$C$16","v":0},{"$f":"M12*'Zdrojová data'!$C$13","v":0},{"$f":"N12*'Zdrojová data'!$C$14","v":0},0,{"$f":"IF(H12=0,D12-'Výstupy modelu'!$C$7,IF(P12=1,J12-K12,0))","v":0},0,null,{"$f":"MAX(0,IF(Q12>0,Q12-('Výstupy modelu'!$H$10-'Výstupy modelu'!$H$9),0))","v":0},null,null,1865.4300000000003,1885.4300000000003,0,{"$f":"MAX(0,D12-'Vstupní hodnoty'!$C$5)","v":0}]
[null,"2017-01-01T02:30:00",1,182.52,{"$f":"CEILING(IF(C13-C12=0,IF(H12=0,I12,IF(J12>K12,I12,E12)),'Výstupy modelu'!$C$7),1)","v":1664},0,0,{"$f":"IF(F13=1,IF(G13>'Zdrojová data'!$C$19,0,1),\"\")","v":""},1664,0,{"$f":"MIN(J13,'Zdrojová data'!$C$17)","v":0},0,{"$f":"L13/'Zdrojová data'!$C$16","v":0},{"$f":"M13*'Zdrojová data'!$C$13","v":0},{"$f":"N13*'Zdrojová data'!$C$14","v":0},0,{"$f":"IF(H13=0,D13-'Výstupy modelu'!$C$7,IF(P13=1,J13-K13,0))","v":0},0,null,{"$f":"MAX(0,IF(Q13>0,Q13-('Výstupy modelu'!$H$10-'Výstupy modelu'!$H$9),0))","v":0},null,null,1865.4300000000003,1885.4300000000003,0,{"$f":"MAX(0,D13-'Vstupní hodnoty'!$C$5)","v":0}]
[null,"2017-01-01T02:45:00",1,191.16000000000003,{"$f":"CEILING(IF(C14-C13=0,IF(H13=0,I13,IF(J13>K13,I13,E13)),'Výstupy modelu'!$C$7),1)","v":1664},0,0,{"$f":"IF(F14=1,IF(G14>'Zdrojová data'!$C$19,0,1),\"\")","v":""},1664,0,{"$f":"MIN(J14,'Zdrojová data'!$C$17)","v":0},0,{"$f":"L14/'Zdrojová data'!$C$16","v":0},{"$f":"M14*'Zdrojová data'!$C$13","v":0},{"$f":"N14*'Zdrojová data'!$C$14","v":0},0,{"$f":"IF(H14=0,D14-'Výstupy modelu'!$C$7,IF(P14=1,J14-K14,0))","v":0},0,null,{"$f":"MAX(0,IF(Q14>0,Q14-('Výstupy modelu'!$H$10-'Výstupy modelu'!$H$9),0))","v":0},null,null,1865.4300000000003,1885.4300000000003,0,{"$f":"MAX(0,D14-'Vstupní hodnoty'!$C$5)","v":0}]
[null,"2017-01-01T03:00:00",1,182.52,{"$f":"CEILING(IF(C15-C14=0,IF(H14=0,I14,IF(J14>K14,I14,E14)),'Výstupy modelu'!$C$7),1)","v":1664},0,0,{"$f":"IF(F15=1,IF(G15>'Zdrojová data'!$C$19,0,1),\"\")","v":""},1664,0,{"$f":"MIN(J15,'Zdrojová data'!$C$17)","v":0},0,{"$f":"L15/'Zdrojová data'!$C$16","v":0},{"$f":"M15*'Zdrojová data'!$C$13","v":0},{"$f":"N15*'Zdrojová data'!$C$14","v":0},0,{"$f":"IF(H15=0,D15-'Výstupy modelu'!$C$7,IF(P15=1,J15-K15,0))","v":0},0,null,{"$f":"MAX(0,IF(Q15>0,Q15-('Výstupy modelu'!$H$10-'Výstupy modelu'!$H$9),0))","v":0},null,null,1865.4300000000003,1885.4300000000003,0,{"$f":"MAX(0,D15-'Vstupní hodnoty'!$C$5)","v":0}]
[null,"2017-01-01T03:15:00",1,186.84,{"$f":"CEILING(IF(C16-C15=0,IF(H15=0,I15,IF(J15>K15,I15,E15)),'Výstupy modelu'!$C$7),1)","v":1664},0,0,{"$f":"IF(F16=1,IF(G16>'Zdrojová data'!$C$19,0,1),\"\")","v":""},1664,0,{"$f":"MIN(J16,'Zdrojová data'!$C$17)","v":0},0,{"$f":"L16/'Zdrojová data'!$C$16","v":0},{"$f":"M16*'Zdrojová data'!$C$13","v":0},{"$f":"N16*'Zdrojová data'!$C$14","v":0},0,{"$f":"IF(H16=0,D16-'Výstupy modelu'!$C$7,IF(P16=1,J16-K16,0))","v":0},0,null,{"$f":"MAX(0,IF(Q16>0,Q16-('Výstupy modelu'!$H$10-'Výstupy modelu'!$H$9),0))","v":0},null,null,1865.4300000000003,1885.4300000000003,0,{"$f":"MAX(0,D16-'Vstupní hodnoty'!$C$5)","v":0}]
[null,"2017-01-01T03:30:00",1,185.76000000000002,{"$f":"CEILING(IF(C17-C16=0,IF(H16=0,I16,IF(J16>K16,I16,E16)),'Výstupy modelu'!$C$7),1)","v":1664},0,0,{"$f":"IF(F17=1,IF(G17>'Zdrojová data'!$C$19,0,1),\"\")","v":""},1664,0,{"$f":"MIN(J17,'Zdrojová data'!$C$17)","v":0},0,{"$f":"L17/'Zdrojová data'!$C$16","v":0},{"$f":"M17*'Zdrojová data'!$C$13","v":0},{"$f":"N17*'Zdrojová data'!$C$14","v":0},0,{"$f":"IF(H17=0,D17-'Výstupy modelu'!$C$7,IF(P17=1,J17-K17,0))","v":0},0,null,{"$f":"MAX(0,IF(Q17>0,Q17-('Výstupy modelu'!$H$10-'Výstupy modelu'!$H$9),0))","v":0},null,null,1865.4300000000003,1885.4300000000003,0,{"$f":"MAX(0,D17-'Vstupní hodnoty'!$C$5)","v":0}]
[null,"2017-01-01T03:45:00",1,187.92000000000002,{"$f":"CEILING(IF(C18-C17=0,IF(H17=0,I17,IF(J17>K17,I17,E17)),'Výstupy modelu'!$C$7),1)","v":1664},0,0,{"$f":"IF(F18=1,IF(G18>'Zdrojová data'!$C$19,0,1),\"\")","v":""},1664,0,{"$f":"MIN(J18,'Zdrojová data'!$C$17)","v":0},0,{"$f":"L18/'Zdrojová data'!$C$16","v":0},{"$f":"M18*'Zdrojová data'!$C$13","v":0},{"$f":"N18*'Zdrojová data'!$C$14","v":0},0,{"$f":"IF(H18=0,D18-'Výstupy modelu'!$C$7,IF(P18=1,J18-K18,0))","v":0},0,null,{"$f":"MAX(0,IF(Q18>0,Q18-('Výstupy modelu'!$H$10-'Výstupy modelu'!$H$9),0))","v":0},null,null,1865.4300000000003,1885.4300000000003,0,{"$f":"MAX(0,D18-'Vstupní hodnoty'!$C$5)","v":0}]
[null,"2017-01-01T04:00:00",1,191.16000000000003,{"$f":"CEILING(IF(C19-C18=0,IF(H18=0,I18,IF(J18>K18,I18,E18)),'Výstupy modelu'!$C$7),1)","v":1664},0,0,{"$f":"IF(F19=1,IF(G19>'Zdrojová data'!$C$19,0,1),\"\")","v":""},1664,0,{"$f":"MIN(J19,'Zdrojová data'!$C$17)","v":0},0,{"$f":"L19/'Zdrojová data'!$C$16","v":0},{"$f":"M19*'Zdrojová data'!$C$13","v":0},{"$f":"N19*'Zdrojová data'!$C$14","v":0},0,{"$f":"IF(H19=0,D19-'Výstupy modelu'!$C$7,IF(P19=1,J19-K19,0))","v":0},0,null,{"$f":"MAX(0,IF(Q19>0,Q19-('Výstupy modelu'!$H$10-'Výstupy modelu'!$H$9),0))","v":0},null,null,1865.4300000000003,1885.4300000000003,0,{"$f":"MAX(0,D19-'Vstupní hodnoty'!$C$5)","v":0}]
[null,"2017-01-01T04:15:00",1,184.68,{"$f":"CEILING(IF(C20-C19=0,IF(H19=0,I19,IF(J19>K19,I19,E19)),'Výstupy modelu'!$C$7),1)","v":1664},0,0,{"$f":"IF(F20=1,IF(G20>'Zdrojová data'!$C$19,0,1),\"\")","v":""},1664,0,{"$f":"MIN(J20,'Zdrojová data'!$C$17)","v":0},0,{"$f":"L20/'Zdrojová data'!$C$16","v":0},{"$f":"M20*'Zdrojová data'!$C$13","v":0},{"$f":"N20*'Zdrojová data'!$C$14","v":0},0,{"$f":"IF(H20=0,D20-'Výstupy modelu'!$C$7,IF(P20=1,J20-K20,0))","v":0},0,null,{"$f":"MAX(0,IF(Q20>0,Q20-('Výstupy modelu'!$H$10-'Výstupy modelu'!$H$9),0))","v":0},null,null,1865.4300000000003,1885.4300000000003,0,{"$f":"MAX(0,D20-'Vstupní hodnoty'!$C$5)","v":0}]
[null,"2017-01-01T04:30:00",1,194.4,{"$f":"CEILING(IF(C21-C20=0,IF(H20=0,I20,IF(J20>K20,I20,E20)),'Výstupy modelu'!$C$7),1)","v":1664},0,0,{"$f":"IF(F21=1,IF(G21>'Zdrojová data'!$C$19,0,1),\"\")","v":""},1664,0,{"$f":"MIN(J21,'Zdrojová data'!$C$17)","v":0},0,{"$f":"L21/'Zdrojová data'!$C$16","v":0},{"$f":"M21*'Zdrojová data'!$C$13","v":0},{"$f":"N21*'Zdrojová data'!$C$14","v":0},0,{"$f":"IF(H21=0,D21-'Výstupy modelu'!$C$7,IF(P21=1,J21-K21,0))","v":0},0,null,{"$f":"MAX(0,IF(Q21>0,Q21-('Výstupy modelu'!$H$10-'Výstupy modelu'!$H$9),0))","v":0},null,null,1865.4300000000003,1885.4300000000003,0,{"$f":"MAX(0,D21-'Vstupní hodnoty'!$C$5)","v":0}]
[null,"2017-01-01T04:45:00",1,191.16000000000003,{"$f":"CEILING(IF(C22-C21=0,IF(H21=0,I21,IF(J21>K21,I21,E21)),'Výstupy modelu'!$C$7),1)","v":1664},0,0,{"$f":"IF(F22=1,IF(G22>'Zdrojová data'!$C$19,0,1),\"\")","v":""},1664,0,{"$f":"MIN(J22,'Zdrojová data'!$C$17)","v":0},0,{"$f":"L22/'Zdrojová data'!$C$16","v":0},{"$f":"M22*'Zdrojová data'!$C$13","v":0},{"$f":"N22*'Zdrojová data'!$C$14","v":0},0,{"$f":"IF(H22=0,D22-'Výstupy modelu'!$C$7,IF(P22=1,J22-K22,0))","v":0},0,null,{"$f":"MAX(0,IF(Q22>0,Q22-('Výstupy modelu'!$H$10-'Výstupy modelu'!$H$9),0))","v":0},null,null,1865.4300000000003,1885.4300000000003,0,{"$f":"MAX(0,D22-'Vstupní hodnoty'!$C$5)","v":0}]
[null,"2017-01-01T05:00:00",1,183.60000000000002,{"$f":"CEILING(IF(C23-C22=0,IF(H22=0,I22,IF(J22>K22,I22,E22)),'Výstupy modelu'!$C$7),1)","v":1664},0,0,{"$f":"IF(F23=1,IF(G23>'Zdrojová data'!$C$19,0,1),\"\")","v":""},1664,0,{"$f":"MIN(J23,'Zdrojová data'!$C$17)","v":0},0,{"$f":"L23/'Zdrojová data'!$C$16","v":0},{"$f":"M23*'Zdrojová data'!$C$13","v":0},{"$f":"N23*'Zdrojová data'!$C$14","v":0},0,{"$f":"IF(H23=0,D23-'Výstupy modelu'!$C$7,IF(P23=1,J23-K23,0))","v":0},0,null,{"$f":"MAX(0,IF(Q23>0,Q23-('Výstupy modelu'!$H$10-'Výstupy modelu'!$H$9),0))","v":0},null,null,1865.4300000000003,1885.4300000000003,0,{"$f":"MAX(0,D23-'Vstupní hodnoty'!$C$5)","v":0}]
[null,"2017-01-01T05:15:00",1,190.08,{"$f":"CEILING(IF(C24-C23=0,IF(H23=0,I23,IF(J23>K23,I23,E23)),'Výstupy modelu'!$C$7),1)","v":1664},0,0,{"$f":"IF(F24=1,IF(G24>'Zdrojová data'!$C$19,0,1),\"\")","v":""},1664,0,{"$f":"MIN(J24,'Zdrojová data'!$C$17)","v":0},0,{"$f":"L24/'Zdrojová data'!$C$16","v":0},{"$f":"M24*'Zdrojová data'!$C$13","v":0},{"$f":"N24*'Zdrojová data'!$C$14","v":0},0,{"$f":"IF(H24=0,D24-'Výstupy modelu'!$C$7,IF(P24=1,J24-K24,0))","v":0},0,null,{"$f":"MAX(0,IF(Q24>0,Q24-('Výstupy modelu'!$H$10-'Výstupy modelu'!$H$9),0))","v":0},null,null,1865.4300000000003,1885.4300000000003,0,{"$f":"MAX(0,D24-'Vstupní hodnoty'!$C$5)","v":0}]
[null,"2017-01-01T05:30:00",1,189,{"$f":"CEILING(IF(C25-C24=0,IF(H24=0,I24,IF(J24>K24,I24,E24)),'Výstupy modelu'!$C$7),1)","v":1664},0,0,{"$f":"IF(F25=1,IF(G25>'Zdrojová data'!$C$19,0,1),\"\")","v":""},1664,0,{"$f":"MIN(J25,'Zdrojová data'!$C$17)","v":0},0,{"$f":"L25/'Zdrojová data'!$C$16","v":0},{"$f":"M25*'Zdrojová data'!$C$13","v":0},{"$f":"N25*'Zdrojová data'!$C$14","v":0},0,{"$f":"IF(H25=0,D25-'Výstupy modelu'!$C$7,IF(P25=1,J25-K25,0))","v":0},0,null,{"$f":"MAX(0,IF(Q25>0,Q25-('Výstupy modelu'!$H$10-'Výstupy modelu'!$H$9),0))","v":0},null,null,1865.4300000000003,1885.4300000000003,0,{"$f":"MAX(0,D25-'Vstupní hodnoty'!$C$5)","v":0}]
[null,"2017-01-01T05:45:00",1,187.92000000000002,{"$f":"CEILING(IF(C26-C25=0,IF(H25=0,I25,IF(J25>K25,I25,E25)),'Výstupy modelu'!$C$7),1)","v":1664},0,0,{"$f":"IF(F26=1,IF(G26>'Zdrojová data'!$C$19,0,1),\"\")","v":""},1664,0,{"$f":"MIN(J26,'Zdrojová data'!$C$17)","v":0},0,{"$f":"L26/'Zdrojová data'!$C$16","v":0},{"$f":"M26*'Zdrojová data'!$C$13","v":0},{"$f":"N26*'Zdrojová data'!$C$14","v":0},0,{"$f":"IF(H26=0,D26-'Výstupy modelu'!$C$7,IF(P26=1,J26-K26,0))","v":0},0,null,{"$f":"MAX(0,IF(Q26>0,Q26-('Výstupy modelu'!$H$10-'Výstupy modelu'!$H$9),0))","v":0},null,null,1865.4300000000003,1885.4300000000003,0,{"$f":"MAX(0,D26-'Vstupní hodnoty'!$C$5)","v":0}]
[null,"2017-01-01T06:00:00",1,182.52,{"$f":"CEILING(IF(C27-C26=0,IF(H26=0,I26,IF(J26>K26,I26,E26)),'Výstupy modelu'!$C$7),1)","v":1664},0,0,{"$f":"IF(F27=1,IF(G27>'Zdrojová data'!$C$19,0,1),\"\")","v":""},1664,0,{"$f":"MIN(J27,'Zdrojová data'!$C$17)","v":0},0,{"$f":"L27/'Zdrojová data'!$C$16","v":0},{"$f":"M27*'Zdrojová data'!$C$13","v":0},{"$f":"N27*'Zdrojová data'!$C$14","v":0},0,{"$f":"IF(H27=0,D27-'Výstupy modelu'!$C$7,IF(P27=1,J27-K27,0))","v":0},0,null,{"$f":"MAX(0,IF(Q27>0,Q27-('Výstupy modelu'!$H$10-'Výstupy modelu'!$H$9),0))","v":0},null,null,1865.4300000000003,1885.4300000000003,0,{"$f":"MAX(0,D27-'Vstupní hodnoty'!$C$5)","v":0}]
[null,"2017-01-01T06:15:00",1,190.08,{"$f":"CEILING(IF(C28-C27=0,IF(H27=0,I27,IF(J27>K27,I27,E27)),'Výstupy modelu'!$C$7),1)","v":1664},0,0,{"$f":"IF(F28=1,IF(G28>'Zdrojová data'!$C$19,0,1),\"\")","v":""},1664,0,{"$f":"MIN(J28,'Zdrojová data'!$C$17)","v":0},0,{"$f":"L28/'Zdrojová data'!$C$16","v":0},{"$f":"M28*'Zdrojová data'!$C$13","v":0},{"$f":"N28*'Zdrojová data'!$C$14","v":0},0,{"$f":"IF(H28=0,D28-'Výstupy modelu'!$C$7,IF(P28=1,J28-K28,0))","v":0},0,null,{"$f":"MAX(0,IF(Q28>0,Q28-('Výstupy modelu'!$H$10-'Výstupy modelu'!$H$9),0))","v":0},null,null,1865.4300000000003,1885.4300000000003,0,{"$f":"MAX(0,D28-'Vstupní hodnoty'!$C$5)","v":0}]
[null,"2017-01-01T06:30:00",1,184.68,{"$f":"CEILING(IF(C29-C28=0,IF(H28=0,I28,IF(J28>K28,I28,E28)),'Výstupy modelu'!$C$7),1)","v":1664},0,0,{"$f":"IF(F29=1,IF(G29>'Zdrojová data'!$C$19,0,1),\"\")","v":""},1664,0,{"$f":"MIN(J29,'Zdrojová data'!$C$17)","v":0},0,{"$f":"L29/'Zdrojová data'!$C$16","v":0},{"$f":"M29*'Zdrojová data'!$C$13","v":0},{"$f":"N29*'Zdrojová data'!$C$14","v":0},0,{"$f":"IF(H29=0,D29-'Výstupy modelu'!$C$7,IF(P29=1,J29-K29,0))","v":0},0,null,{"$f":"MAX(0,IF(Q29>0,Q29-('Výstupy modelu'!$H$10-'Výstupy modelu'!$H$9),0))","v":0},null,null,1865.4300000000003,1885.4300000000003,0,{"$f":"MAX(0,D29-'Vstupní hodnoty'!$C$5)","v":0}]
[null,"2017-01-01T06:45:00",1,181.44,{"$f":"CEILING(IF(C30-C29=0,IF(H29=0,I29,IF(J29>K29,I29,E29)),'Výstupy modelu'!$C$7),1)","v":1664},0,0,{"$f":"IF(F30=1,IF(G30>'Zdrojová data'!$C$19,0,1),\"\")","v":""},1664,0,{"$f":"MIN(J30,'Zdrojová data'!$C$17)","v":0},0,{"$f":"L30/'Zdrojová data'!$C$16","v":0},{"$f":"M30*'Zdrojová data'!$C$13","v":0},{"$f":"N30*'Zdrojová data'!$C$14","v":0},0,{"$f":"IF(H30=0,D30-'Výstupy modelu'!$C$7,IF(P30=1,J30-K30,0))","v":0},0,null,{"$f":"MAX(0,IF(Q30>0,Q30-('Výstupy modelu'!$H$10-'Výstupy modelu'!$H$9),0))","v":0},null,null,1865.4300000000003,1885.4300000000003,0,{"$f":"MAX(0,D30-'Vstupní hodnoty'!$C$5)","v":0}]
[null,"2017-01-01T07:00:00",1,196.56,{"$f":"CEILING(IF(C31-C30=0,IF(H30=0,I30,IF(J30>K30,I30,E30)),'Výstupy modelu'!$C$7),1)","v":1664},0,0,{"$f":"IF(F31=1,IF(G31>'Zdrojová data'!$C$19,0,1),\"\")","v":""},1664,0,{"$f":"MIN(J31,'Zdrojová data'!$C$17)","v":0},0,{"$f":"L31/'Zdrojová data'!$C$16","v":0},{"$f":"M31*'Zdrojová data'!$C$13","v":0},{"$f":"N31*'Zdrojová data'!$C$14","v":0},0,{"$f":"IF(H31=0,D31-'Výstupy modelu'!$C$7,IF(P31=1,J31-K31,0))","v":0},0,null,{"$f":"MAX(0,IF(Q31>0,Q31-('Výstupy modelu'!$H$10-'Výstupy modelu'!$H$9),0))","v":0},null,null,1865.4300000000003,1885.4300000000003,0,{"$f":"MAX(0,D31-'Vstupní hodnoty'!$C$5)","v":0}]
[null,"2017-01-01T07:15:00",1,184.68,{"$f":"CEILING(IF(C32-C31=0,IF(H31=0,I31,IF(J31>K31,I31,E31)),'Výstupy modelu'!$C$7),1)","v":1664},0,0,{"$f":"IF(F32=1,IF(G32>'Zdrojová data'!$C$19,0,1),\"\")","v":""},1664,0,{"$f":"MIN(J32,'Zdrojová data'!$C$17)","v":0},0,{"$f":"L32/'Zdrojová data'!$C$16","v":0},{"$f":"M32*'Zdrojová data'!$C$13","v":0},{"$f":"N32*'Zdrojová data'!$C$14","v":0},0,{"$f":"IF(H32=0,D32-'Výstupy modelu'!$C$7,IF(P32=1,J32-K32,0))","v":0},0,null,{"$f":"MAX(0,IF(Q32>0,Q32-('Výstupy modelu'!$H$10-'Výstupy modelu'!$H$9),0))","v":0},null,null,1865.4300000000003,1885.4300000000003,0,{"$f":"MAX(0,D32-'Vstupní hodnoty'!$C$5)","v":0}]
[null,"2017-01-01T07:30:00",1,189,{"$f":"CEILING(IF(C33-C32=0,IF(H32=0,I32,IF(J32>K32,I32,E32)),'Výstupy modelu'!$C$7),1)","v":1664},0,0,{"$f":"IF(F33=1,IF(G33>'Zdrojová data'!$C$19,0,1),\"\")","v":""},1664,0,{"$f":"MIN(J33,'Zdrojová data'!$C$17)","v":0},0,{"$f":"L33/'Zdrojová data'!$C$16","v":0},{"$f":"M33*'Zdrojová data'!$C$13","v":0},{"$f":"N33*'Zdrojová data'!$C$14","v":0},0,{"$f":"IF(H33=0,D33-'Výstupy modelu'!$C$7,IF(P33=1,J33-K33,0))","v":0},0,null,{"$f":"MAX(0,IF(Q33>0,Q33-('Výstupy modelu'!$H$10-'Výstupy modelu'!$H$9),0))","v":0},null,null,1865.4300000000003,1885.4300000000003,0,{"$f":"MAX(0,D33-'Vstupní hodnoty'!$C$5)","v":0}]
[null,"2017-01-01T07:45:00",1,191.16000000000003,{"$f":"CEILING(IF(C34-C33=0,IF(H33=0,I33,IF(J33>K33,I33,E33)),'Výstupy modelu'!$C$7),1)","v":1664},0,0,{"$f":"IF(F34=1,IF(G34>'Zdrojová data'!$C$19,0,1),\"\")","v":""},1664,0,{"$f":"MIN(J34,'Zdrojová data'!$C$17)","v":0},0,{"$f":"L34/'Zdrojová data'!$C$16","v":0},{"$f":"M34*'Zdrojová data'!$C$13","v":0},{"$f":"N34*'Zdrojová data'!$C$14","v":0},0,{"$f":"IF(H34=0,D34-'Výstupy modelu'!$C$7,IF(P34=1,J34-K34,0))","v":0},0,null,{"$f":"MAX(0,IF(Q34>0,Q34-('Výstupy modelu'!$H$10-'Výstupy modelu'!$H$9),0))","v":0},null,null,1865.4300000000003,1885.4300000000003,0,{"$f":"MAX(0,D34-'Vstupní hodnoty'!$C$5)","v":0}]
[null,"2017-01-01T08:00:00",1,184.68,{"$f":"CEILING(IF(C35-C34=0,IF(H34=0,I34,IF(J34>K34,I34,E34)),'Výstupy modelu'!$C$7),1)","v":1664},0,0,{"$f":"IF(F35=1,IF(G35>'Zdrojová data'!$C$19,0,1),\"\")","v":""},1664,0,{"$f":"MIN(J35,'Zdrojová data'!$C$17)","v":0},0,{"$f":"L35/'Zdrojová data'!$C$16","v":0},{"$f":"M35*'Zdrojová data'!$C$13","v":0},{"$f":"N35*'Zdrojová data'!$C$14","v":0},0,{"$f":"IF(H35=0,D35-'Výstupy modelu'!$C$7,IF(P35=1,J35-K35,0))","v":0},0,null,{"$f":"MAX(0,IF(Q35>0,Q35-('Výstupy modelu'!$H$10-'Výstupy modelu'!$H$9),0))","v":0},null,null,1865.4300000000003,1885.4300000000003,0,{"$f":"MAX(0,D35-'Vstupní hodnoty'!$C$5)","v":0}]
[null,"2017-01-01T08:15:00",1,181.44,{"$f":"CEILING(IF(C36-C35=0,IF(H35=0,I35,IF(J35>K35,I35,E35)),'Výstupy modelu'!$C$7),1)","v":1664},0,0,{"$f":"IF(F36=1,IF(G36>'Zdrojová data'!$C$19,0,1),\"\")","v":""},1664,0,{"$f":"MIN(J36,'Zdrojová data'!$C$17)","v":0},0,{"$f":"L36/'Zdrojová data'!$C$16","v":0},{"$f":"M36*'Zdrojová data'!$C$13","v":0},{"$f":"N36*'Zdrojová data'!$C$14","v":0},0,{"$f":"IF(H36=0,D36-'Výstupy modelu'!$C$7,IF(P36=1,J36-K36,0))","v":0},0,null,{"$f":"MAX(0,IF(Q36>0,Q36-('Výstupy modelu'!$H$10-'Výstupy modelu'!$H$9),0))","v":0},null,null,1865.4300000000003,1885.4300000000003,0,{"$f":"MAX(0,D36-'Vstupní hodnoty'!$C$5)","v":0}]
[null,"2017-01-01T08:30:00",1,182.52,{"$f":"CEILING(IF(C37-C36=0,IF(H36=0,I36,IF(J36>K36,I36,E36)),'Výstupy modelu'!$C$7),1)","v":1664},0,0,{"$f":"IF(F37=1,IF(G37>'Zdrojová data'!$C$19,0,1),\"\")","v":""},1664,0,{"$f":"MIN(J37,'Zdrojová data'!$C$17)","v":0},0,{"$f":"L37/'Zdrojová data'!$C$16","v":0},{"$f":"M37*'Zdrojová data'!$C$13","v":0},{"$f":"N37*'Zdrojová data'!$C$14","v":0},0,{"$f":"IF(H37=0,D37-'Výstupy modelu'!$C$7,IF(P37=1,J37-K37,0))","v":0},0,null,{"$f":"MAX(0,IF(Q37>0,Q37-('Výstupy modelu'!$H$10-'Výstupy modelu'!$H$9),0))","v":0},null,null,1865.4300000000003,1885.4300000000003,0,{"$f":"MAX(0,D37-'Vstupní hodnoty'!$C$5)","v":0}]
[null,"2017-01-01T08:45:00",1,184.68,{"$f":"CEILING(IF(C38-C37=0,IF(H37=0,I37,IF(J37>K37,I37,E37)),'Výstupy modelu'!$C$7),1)","v":1664},0,0,{"$f":"IF(F38=1,IF(G38>'Zdrojová data'!$C$19,0,1),\"\")","v":""},1664,0,{"$f":"MIN(J38,'Zdrojová data'!$C$17)","v":0},0,{"$f":"L38/'Zdrojová data'!$C$16","v":0},{"$f":"M38*'Zdrojová data'!$C$13","v":0},{"$f":"N38*'Zdrojová data'!$C$14","v":0},0,{"$f":"IF(H38=0,D38-'Výstupy modelu'!$C$7,IF(P38=1,J38-K38,0))","v":0},0,null,{"$f":"MAX(0,IF(Q38>0,Q38-('Výstupy modelu'!$H$10-'Výstupy modelu'!$H$9),0))","v":0},null,null,1865.4300000000003,1885.4300000000003,0,{"$f":"MAX(0,D38-'Vstupní hodnoty'!$C$5)","v":0}]
[null,"2017-01-01T09:00:00",1,179.28,{"$f":"CEILING(IF(C39-C38=0,IF(H38=0,I38,IF(J38>K38,I38,E38)),'Výstupy modelu'!$C$7),1)","v":1664},0,0,{"$f":"IF(F39=1,IF(G39>'Zdrojová data'!$C$19,0,1),\"\")","v":""},1664,0,{"$f":"MIN(J39,'Zdrojová data'!$C$17)","v":0},0,{"$f":"L39/'Zdrojová data'!$C$16","v":0},{"$f":"M39*'Zdrojová data'!$C$13","v":0},{"$f":"N39*'Zdrojová data'!$C$14","v":0},0,{"$f":"IF(H39=0,D39-'Výstupy modelu'!$C$7,IF(P39=1,J39-K39,0))","v":0},0,null,{"$f":"MAX(0,IF(Q39>0,Q39-('Výstupy modelu'!$H$10-'Výstupy modelu'!$H$9),0))","v":0},null,null,1865.4300000000003,1885.4300000000003,0,{"$f":"MAX(0,D39-'Vstupní hodnoty'!$C$5)","v":0}]
[null,"2017-01-01T09:15:00",1,184.68,{"$f":"CEILING(IF(C40-C39=0,IF(H39=0,I39,IF(J39>K39,I39,E39)),'Výstupy modelu'!$C$7),1)","v":1664},0,0,{"$f":"IF(F40=1,IF(G40>'Zdrojová data'!$C$19,0,1),\"\")","v":""},1664,0,{"$f":"MIN(J40,'Zdrojová data'!$C$17)","v":0},0,{"$f":"L40/'Zdrojová data'!$C$16","v":0},{"$f":"M40*'Zdrojová data'!$C$13","v":0},{"$f":"N40*'Zdrojová data'!$C$14","v":0},0,{"$f":"IF(H40=0,D40-'Výstupy modelu'!$C$7,IF(P40=1,J40-K40,0))","v":0},0,null,{"$f":"MAX(0,IF(Q40>0,Q40-('Výstupy modelu'!$H$10-'Výstupy modelu'!$H$9),0))","v":0},null,null,1865.4300000000003,1885.4300000000003,0,{"$f":"MAX(0,D40-'Vstupní hodnoty'!$C$5)","v":0}]
[null,"2017-01-01T09:30:00",1,181.44,{"$f":"CEILING(IF(C41-C40=0,IF(H40=0,I40,IF(J40>K40,I40,E40)),'Výstupy modelu'!$C$7),1)","v":1664},0,0,{"$f":"IF(F41=1,IF(G41>'Zdrojová data'!$C$19,0,1),\"\")","v":""},1664,0,{"$f":"MIN(J41,'Zdrojová data'!$C$17)","v":0},0,{"$f":"L41/'Zdrojová data'!$C$16","v":0},{"$f":"M41*'Zdrojová data'!$C$13","v":0},{"$f":"N41*'Zdrojová data'!$C$14","v":0},0,{"$f":"IF(H41=0,D41-'Výstupy modelu'!$C$7,IF(P41=1,J41-K41,0))","v":0},0,null,{"$f":"MAX(0,IF(Q41>0,Q41-('Výstupy modelu'!$H$10-'Výstupy modelu'!$H$9),0))","v":0},null,null,1865.4300000000003,1885.4300000000003,0,{"$f":"MAX(0,D41-'Vstupní hodnoty'!$C$5)","v":0}]
[null,"2017-01-01T09:45:00",1,177.12,{"$f":"CEILING(IF(C42-C41=0,IF(H41=0,I41,IF(J41>K41,I41,E41)),'Výstupy modelu'!$C$7),1)","v":1664},0,0,{"$f":"IF(F42=1,IF(G42>'Zdrojová data'!$C$19,0,1),\"\")","v":""},1664,0,{"$f":"MIN(J42,'Zdrojová data'!$C$17)","v":0},0,{"$f":"L42/'Zdrojová data'!$C$16","v":0},{"$f":"M42*'Zdrojová data'!$C$13","v":0},{"$f":"N42*'Zdrojová data'!$C$14","v":0},0,{"$f":"IF(H42=0,D42-'Výstupy modelu'!$C$7,IF(P42=1,J42-K42,0))","v":0},0,null,{"$f":"MAX(0,IF(Q42>0,Q42-('Výstupy modelu'!$H$10-'Výstupy modelu'!$H$9),0))","v":0},null,null,1865.4300000000003,1885.4300000000003,0,{"$f":"MAX(0,D42-'Vstupní hodnoty'!$C$5)","v":0}]
[null,"2017-01-01T10:00:00",1,177.12,{"$f":"CEILING(IF(C43-C42=0,IF(H42=0,I42,IF(J42>K42,I42,E42)),'Výstupy modelu'!$C$7),1)","v":1664},0,0,{"$f":"IF(F43=1,IF(G43>'Zdrojová data'!$C$19,0,1),\"\")","v":""},1664,0,{"$f":"MIN(J43,'Zdrojová data'!$C$17)","v":0},0,{"$f":"L43/'Zdrojová data'!$C$16","v":0},{"$f":"M43*'Zdrojová data'!$C$13","v":0},{"$f":"N43*'Zdrojová data'!$C$14","v":0},0,{"$f":"IF(H43=0,D43-'Výstupy modelu'!$C$7,IF(P43=1,J43-K43,0))","v":0},0,null,{"$f":"MAX(0,IF(Q43>0,Q43-('Výstupy modelu'!$H$10-'Výstupy modelu'!$H$9),0))","v":0},null,null,1865.4300000000003,1885.4300000000003,0,{"$f":"MAX(0,D43-'Vstupní hodnoty'!$C$5)","v":0}]
[null,"2017-01-01T10:15:00",1,177.12,{"$f":"CEILING(IF(C44-C43=0,IF(H43=0,I43,IF(J43>K43,I43,E43)),'Výstupy modelu'!$C$7),1)","v":1664},0,0,{"$f":"IF(F44=1,IF(G44>'Zdrojová data'!$C$19,0,1),\"\")","v":""},1664,0,{"$f":"MIN(J44,'Zdrojová data'!$C$17)","v":0},0,{"$f":"L44/'Zdrojová data'!$C$16","v":0},{"$f":"M44*'Zdrojová data'!$C$13","v":0},{"$f":"N44*'Zdrojová data'!$C$14","v":0},0,{"$f":"IF(H44=0,D44-'Výstupy modelu'!$C$7,IF(P44=1,J44-K44,0))","v":0},0,null,{"$f":"MAX(0,IF(Q44>0,Q44-('Výstupy modelu'!$H$10-'Výstupy modelu'!$H$9),0))","v":0},null,null,1865.4300000000003,1885.4300000000003,0,{"$f":"MAX(0,D44-'Vstupní hodnoty'!$C$5)","v":0}]
[null,"2017-01-01T10:30:00",1,183.60000000000002,{"$f":"CEILING(IF(C45-C44=0,IF(H44=0,I44,IF(J44>K44,I44,E44)),'Výstupy modelu'!$C$7),1)","v":1664},0,0,{"$f":"IF(F45=1,IF(G45>'Zdrojová data'!$C$19,0,1),\"\")","v":""},1664,0,{"$f":"MIN(J45,'Zdrojová data'!$C$17)","v":0},0,{"$f":"L45/'Zdrojová data'!$C$16","v":0},{"$f":"M45*'Zdrojová data'!$C$13","v":0},{"$f":"N45*'Zdrojová data'!$C$14","v":0},0,{"$f":"IF(H45=0,D45-'Výstupy modelu'!$C$7,IF(P45=1,J45-K45,0))","v":0},0,null,{"$f":"MAX(0,IF(Q45>0,Q45-('Výstupy modelu'!$H$10-'Výstupy modelu'!$H$9),0))","v":0},null,null,1865.4300000000003,1885.4300000000003,0,{"$f":"MAX(0,D45-'Vstupní hodnoty'!$C$5)","v":0}]
[null,"2017-01-01T10:45:00",1,178.20000000000002,{"$f":"CEILING(IF(C46-C45=0,IF(H45=0,I45,IF(J45>K45,I45,E45)),'Výstupy modelu'!$C$7),1)","v":1664},0,0,{"$f":"IF(F46=1,IF(G46>'Zdrojová data'!$C$19,0,1),\"\")","v":""},1664,0,{"$f":"MIN(J46,'Zdrojová data'!$C$17)","v":0},0,{"$f":"L46/'Zdrojová data'!$C$16","v":0},{"$f":"M46*'Zdrojová data'!$C$13","v":0},{"$f":"N46*'Zdrojová data'!$C$14","v":0},0,{"$f":"IF(H46=0,D46-'Výstupy modelu'!$C$7,IF(P46=1,J46-K46,0))","v":0},0,null,{"$f":"MAX(0,IF(Q46>0,Q46-('Výstupy modelu'!$H$10-'Výstupy modelu'!$H$9),0))","v":0},null,null,1865.4300000000003,1885.4300000000003,0,{"$f":"MAX(0,D46-'Vstupní hodnoty'!$C$5)","v":0}]
[null,"2017-01-01T11:00:00",1,181.44,{"$f":"CEILING(IF(C47-C46=0,IF(H46=0,I46,IF(J46>K46,I46,E46)),'Výstupy modelu'!$C$7),1)","v":1664},0,0,{"$f":"IF(F47=1,IF(G47>'Zdrojová data'!$C$19,0,1),\"\")","v":""},1664,0,{"$f":"MIN(J47,'Zdrojová data'!$C$17)","v":0},0,{"$f":"L47/'Zdrojová data'!$C$16","v":0},{"$f":"M47*'Zdrojová data'!$C$13","v":0},{"$f":"N47*'Zdrojová data'!$C$14","v":0},0,{"$f":"IF(H47=0,D47-'Výstupy modelu'!$C$7,IF(P47=1,J47-K47,0))","v":0},0,null,{"$f":"MAX(0,IF(Q47>0,Q47-('Výstupy modelu'!$H$10-'Výstupy modelu'!$H$9),0))","v":0},null,null,1865.4300000000003,1885.4300000000003,0,{"$f":"MAX(0,D47-'Vstupní hodnoty'!$C$5)","v":0}]
[null,"2017-01-01T11:15:00",1,186.84,{"$f":"CEILING(IF(C48-C47=0,IF(H47=0,I47,IF(J47>K47,I47,E47)),'Výstupy modelu'!$C$7),1)","v":1664},0,0,{"$f":"IF(F48=1,IF(G48>'Zdrojová data'!$C$19,0,1),\"\")","v":""},1664,0,{"$f":"MIN(J48,'Zdrojová data'!$C$17)","v":0},0,{"$f":"L48/'Zdrojová data'!$C$16","v":0},{"$f":"M48*'Zdrojová data'!$C$13","v":0},{"$f":"N48*'Zdrojová data'!$C$14","v":0},0,{"$f":"IF(H48=0,D48-'Výstupy modelu'!$C$7,IF(P48=1,J48-K48,0))","v":0},0,null,{"$f":"MAX(0,IF(Q48>0,Q48-('Výstupy modelu'!$H$10-'Výstupy modelu'!$H$9),0))","v":0},null,null,1865.4300000000003,1885.4300000000003,0,{"$f":"MAX(0,D48-'Vstupní hodnoty'!$C$5)","v":0}]
[null,"2017-01-01T11:30:00",1,194.4,{"$f":"CEILING(IF(C49-C48=0,IF(H48=0,I48,IF(J48>K48,I48,E48)),'Výstupy modelu'!$C$7),1)","v":1664},0,0,{"$f":"IF(F49=1,IF(G49>'Zdrojová data'!$C$19,0,1),\"\")","v":""},1664,0,{"$f":"MIN(J49,'Zdrojová data'!$C$17)","v":0},0,{"$f":"L49/'Zdrojová data'!$C$16","v":0},{"$f":"M49*'Zdrojová data'!$C$13","v":0},{"$f":"N49*'Zdrojová data'!$C$14","v":0},0,{"$f":"IF(H49=0,D49-'Výstupy modelu'!$C$7,IF(P49=1,J49-K49,0))","v":0},0,null,{"$f":"MAX(0,IF(Q49>0,Q49-('Výstupy modelu'!$H$10-'Výstupy modelu'!$H$9),0))","v":0},null,null,1865.4300000000003,1885.4300000000003,0,{"$f":"MAX(0,D49-'Vstupní hodnoty'!$C$5)","v":0}]
[null,"2017-01-01T11:45:00",1,190.08,{"$f":"CEILING(IF(C50-C49=0,IF(H49=0,I49,IF(J49>K49,I49,E49)),'Výstupy modelu'!$C$7),1)","v":1664},0,0,{"$f":"IF(F50=1,IF(G50>'Zdrojová data'!$C$19,0,1),\"\")","v":""},1664,0,{"$f":"MIN(J50,'Zdrojová data'!$C$17)","v":0},0,{"$f":"L50/'Zdrojová data'!$C$16","v":0},{"$f":"M50*'Zdrojová data'!$C$13","v":0},{"$f":"N50*'Zdrojová data'!$C$14","v":0},0,{"$f":"IF(H50=0,D50-'Výstupy modelu'!$C$7,IF(P50=1,J50-K50,0))","v":0},0,null,{"$f":"MAX(0,IF(Q50>0,Q50-('Výstupy modelu'!$H$10-'Výstupy modelu'!$H$9),0))","v":0},null,null,1865.4300000000003,1885.4300000000003,0,{"$f":"MAX(0,D50-'Vstupní hodnoty'!$C$5)","v":0}]
[null,"2017-01-01T12:00:00",1,186.84,{"$f":"CEILING(IF(C51-C50=0,IF(H50=0,I50,IF(J50>K50,I50,E50)),'Výstupy modelu'!$C$7),1)","v":1664},0,0,{"$f":"IF(F51=1,IF(G51>'Zdrojová data'!$C$19,0,1),\"\")","v":""},1664,0,{"$f":"MIN(J51,'Zdrojová data'!$C$17)","v":0},0,{"$f":"L51/'Zdrojová data'!$C$16","v":0},{"$f":"M51*'Zdrojová data'!$C$13","v":0},{"$f":"N51*'Zdrojová data'!$C$14","v":0},0,{"$f":"IF(H51=0,D51-'Výstupy modelu'!$C$7,IF(P51=1,J51-K51,0))","v":0},0,null,{"$f":"MAX(0,IF(Q51>0,Q51-('Výstupy modelu'!$H$10-'Výstupy modelu'!$H$9),0))","v":0},null,null,1865.4300000000003,1885.4300000000003,0,{"$f":"MAX(0,D51-'Vstupní hodnoty'!$C$5)","v":0}]
[null,"2017-01-01T12:15:00",1,183.60000000000002,{"$f":"CEILING(IF(C52-C51=0,IF(H51=0,I51,IF(J51>K51,I51,E51)),'Výstupy modelu'!$C$7),1)","v":1664},0,0,{"$f":"IF(F52=1,IF(G52>'Zdrojová data'!$C$19,0,1),\"\")","v":""},1664,0,{"$f":"MIN(J52,'Zdrojová data'!$C$17)","v":0},0,{"$f":"L52/'Zdrojová data'!$C$16","v":0},{"$f":"M52*'Zdrojová data'!$C$13","v":0},{"$f":"N52*'Zdrojová data'!$C$14","v":0},0,{"$f":"IF(H52=0,D52-'Výstupy modelu'!$C$7,IF(P52=1,J52-K52,0))","v":0},0,null,{"$f":"MAX(0,IF(Q52>0,Q52-('Výstupy modelu'!$H$10-'Výstupy modelu'!$H$9),0))","v":0},null,null,1865.4300000000003,1885.4300000000003,0,{"$f":"MAX(0,D52-'Vstupní hodnoty'!$C$5)","v":0}]
[null,"2017-01-01T12:30:00",1,185.76000000000002,{"$f":"CEILING(IF(C53-C52=0,IF(H52=0,I52,IF(J52>K52,I52,E52)),'Výstupy modelu'!$C$7),1)","v":1664},0,0,{"$f":"IF(F53=1,IF(G53>'Zdrojová data'!$C$19,0,1),\"\")","v":""},1664,0,{"$f":"MIN(J53,'Zdrojová data'!$C$17)","v":0},0,{"$f":"L53/'Zdrojová data'!$C$16","v":0},{"$f":"M53*'Zdrojová data'!$C$13","v":0},{"$f":"N53*'Zdrojová data'!$C$14","v":0},0,{"$f":"IF(H53=0,D53-'Výstupy modelu'!$C$7,IF(P53=1,J53-K53,0))","v":0},0,null,{"$f":"MAX(0,IF(Q53>0,Q53-('Výstupy modelu'!$H$10-'Výstupy modelu'!$H$9),0))","v":0},null,null,1865.4300000000003,1885.4300000000003,0,{"$f":"MAX(0,D53-'Vstupní hodnoty'!$C$5)","v":0}]
[null,"2017-01-01T12:45:00",1,183.60000000000002,{"$f":"CEILING(IF(C54-C53=0,IF(H53=0,I53,IF(J53>K53,I53,E53)),'Výstupy modelu'!$C$7),1)","v":1664},0,0,{"$f":"IF(F54=1,IF(G54>'Zdrojová data'!$C$19,0,1),\"\")","v":""},1664,0,{"$f":"MIN(J54,'Zdrojová data'!$C$17)","v":0},0,{"$f":"L54/'Zdrojová data'!$C$16","v":0},{"$f":"M54*'Zdrojová data'!$C$13","v":0},{"$f":"N54*'Zdrojová data'!$C$14","v":0},0,{"$f":"IF(H54=0,D54-'Výstupy modelu'!$C$7,IF(P54=1,J54-K54,0))","v":0},0,null,{"$f":"MAX(0,IF(Q54>0,Q54-('Výstupy modelu'!$H$10-'Výstupy modelu'!$H$9),0))","v":0},null,null,1865.4300000000003,1885.4300000000003,0,{"$f":"MAX(0,D54-'Vstupní hodnoty'!$C$5)","v":0}]
[null,"2017-01-01T13:00:00",1,182.52,{"$f":"CEILING(IF(C55-C54=0,IF(H54=0,I54,IF(J54>K54,I54,E54)),'Výstupy modelu'!$C$7),1)","v":1664},0,0,{"$f":"IF(F55=1,IF(G55>'Zdrojová data'!$C$19,0,1),\"\")","v":""},1664,0,{"$f":"MIN(J55,'Zdrojová data'!$C$17)","v":0},0,{"$f":"L55/'Zdrojová data'!$C$16","v":0},{"$f":"M55*'Zdrojová data'!$C$13","v":0},{"$f":"N55*'Zdrojová data'!$C$14","v":0},0,{"$f":"IF(H55=0,D55-'Výstupy modelu'!$C$7,IF(P55=1,J55-K55,0))","v":0},0,null,{"$f":"MAX(0,IF(Q55>0,Q55-('Výstupy modelu'!$H$10-'Výstupy modelu'!$H$9),0))","v":0},null,null,1865.4300000000003,1885.4300000000003,0,{"$f":"MAX(0,D55-'Vstupní hodnoty'!$C$5)","v":0}]
[null,"2017-01-01T13:15:00",1,177.12,{"$f":"CEILING(IF(C56-C55=0,IF(H55=0,I55,IF(J55>K55,I55,E55)),'Výstupy modelu'!$C$7),1)","v":1664},0,0,{"$f":"IF(F56=1,IF(G56>'Zdrojová data'!$C$19,0,1),\"\")","v":""},1664,0,{"$f":"MIN(J56,'Zdrojová data'!$C$17)","v":0},0,{"$f":"L56/'Zdrojová data'!$C$16","v":0},{"$f":"M56*'Zdrojová data'!$C$13","v":0},{"$f":"N56*'Zdrojová data'!$C$14","v":0},0,{"$f":"IF(H56=0,D56-'Výstupy modelu'!$C$7,IF(P56=1,J56-K56,0))","v":0},0,null,{"$f":"MAX(0,IF(Q56>0,Q56-('Výstupy modelu'!$H$10-'Výstupy modelu'!$H$9),0))","v":0},null,null,1865.4300000000003,1885.4300000000003,0,{"$f":"MAX(0,D56-'Vstupní hodnoty'!$C$5)","v":0}]
[null,"2017-01-01T13:30:00",1,176.04000000000002,{"$f":"CEILING(IF(C57-C56=0,IF(H56=0,I56,IF(J56>K56,I56,E56)),'Výstupy modelu'!$C$7),1)","v":1664},0,0,{"$f":"IF(F57=1,IF(G57>'Zdrojová data'!$C$19,0,1),\"\")","v":""},1664,0,{"$f":"MIN(J57,'Zdrojová data'!$C$17)","v":0},0,{"$f":"L57/'Zdrojová data'!$C$16","v":0},{"$f":"M57*'Zdrojová data'!$C$13","v":0},{"$f":"N57*'Zdrojová data'!$C$14","v":0},0,{"$f":"IF(H57=0,D57-'Výstupy modelu'!$C$7,IF(P57=1,J57-K57,0))","v":0},0,null,{"$f":"MAX(0,IF(Q57>0,Q57-('Výstupy modelu'!$H$10-'Výstupy modelu'!$H$9),0))","v":0},null,null,1865.4300000000003,1885.4300000000003,0,{"$f":"MAX(0,D57-'Vstupní hodnoty'!$C$5)","v":0}]
[null,"2017-01-01T13:45:00",1,173.88000000000002,{"$f":"CEILING(IF(C58-C57=0,IF(H57=0,I57,IF(J57>K57,I57,E57)),'Výstupy modelu'!$C$7),1)","v":1664},0,0,{"$f":"IF(F58=1,IF(G58>'Zdrojová data'!$C$19,0,1),\"\")","v":""},1664,0,{"$f":"MIN(J58,'Zdrojová data'!$C$17)","v":0},0,{"$f":"L58/'Zdrojová data'!$C$16","v":0},{"$f":"M58*'Zdrojová data'!$C$13","v":0},{"$f":"N58*'Zdrojová data'!$C$14","v":0},0,{"$f":"IF(H58=0,D58-'Výstupy modelu'!$C$7,IF(P58=1,J58-K58,0))","v":0},0,null,{"$f":"MAX(0,IF(Q58>0,Q58-('Výstupy modelu'!$H$10-'Výstupy modelu'!$H$9),0))","v":0},null,null,1865.4300000000003,1885.4300000000003,0,{"$f":"MAX(0,D58-'Vstupní hodnoty'!$C$5)","v":0}]
[null,"2017-01-01T14:00:00",1,176.04000000000002,{"$f":"CEILING(IF(C59-C58=0,IF(H58=0,I58,IF(J58>K58,I58,E58)),'Výstupy modelu'!$C$7),1)","v":1664},0,0,{"$f":"IF(F59=1,IF(G59>'Zdrojová data'!$C$19,0,1),\"\")","v":""},1664,0,{"$f":"MIN(J59,'Zdrojová data'!$C$17)","v":0},0,{"$f":"L59/'Zdrojová data'!$C$16","v":0},{"$f":"M59*'Zdrojová data'!$C$13","v":0},{"$f":"N59*'Zdrojová data'!$C$14","v":0},0,{"$f":"IF(H59=0,D59-'Výstupy modelu'!$C$7,IF(P59=1,J59-K59,0))","v":0},0,null,{"$f":"MAX(0,IF(Q59>0,Q59-('Výstupy modelu'!$H$10-'Výstupy modelu'!$H$9),0))","v":0},null,null,1865.4300000000003,1885.4300000000003,0,{"$f":"MAX(0,D59-'Vstupní hodnoty'!$C$5)","v":0}]
[null,"2017-01-01T14:15:00",1,181.44,{"$f":"CEILING(IF(C60-C59=0,IF(H59=0,I59,IF(J59>K59,I59,E59)),'Výstupy modelu'!$C$7),1)","v":1664},0,0,{"$f":"IF(F60=1,IF(G60>'Zdrojová data'!$C$19,0,1),\"\")","v":""},1664,0,{"$f":"MIN(J60,'Zdrojová data'!$C$17)","v":0},0,{"$f":"L60/'Zdrojová data'!$C$16","v":0},{"$f":"M60*'Zdrojová data'!$C$13","v":0},{"$f":"N60*'Zdrojová data'!$C$14","v":0},0,{"$f":"IF(H60=0,D60-'Výstupy modelu'!$C$7,IF(P60=1,J60-K60,0))","v":0},0,null,{"$f":"MAX(0,IF(Q60>0,Q60-('Výstupy modelu'!$H$10-'Výstupy modelu'!$H$9),0))","v":0},null,null,1865.4300000000003,1885.4300000000003,0,{"$f":"MAX(0,D60-'Vstupní hodnoty'!$C$5)","v":0}]
[null,"2017-01-01T14:30:00",1,234.36,{"$f":"CEILING(IF(C61-C60=0,IF(H60=0,I60,IF(J60>K60,I60,E60)),'Výstupy modelu'!$C$7),1)","v":1664},0,0,{"$f":"IF(F61=1,IF(G61>'Zdrojová data'!$C$19,0,1),\"\")","v":""},1664,0,{"$f":"MIN(J61,'Zdrojová data'!$C$17)","v":0},0,{"$f":"L61/'Zdrojová data'!$C$16","v":0},{"$f":"M61*'Zdrojová data'!$C$13","v":0},{"$f":"N61*'Zdrojová data'!$C$14","v":0},0,{"$f":"IF(H61=0,D61-'Výstupy modelu'!$C$7,IF(P61=1,J61-K61,0))","v":0},0,null,{"$f":"MAX(0,IF(Q61>0,Q61-('Výstupy modelu'!$H$10-'Výstupy modelu'!$H$9),0))","v":0},null,null,1865.4300000000003,1885.4300000000003,0,{"$f":"MAX(0,D61-'Vstupní hodnoty'!$C$5)","v":0}]
[null,"2017-01-01T14:45:00",1,231.12,{"$f":"CEILING(IF(C62-C61=0,IF(H61=0,I61,IF(J61>K61,I61,E61)),'Výstupy modelu'!$C$7),1)","v":1664},0,0,{"$f":"IF(F62=1,IF(G62>'Zdrojová data'!$C$19,0,1),\"\")","v":""},1664,0,{"$f":"MIN(J62,'Zdrojová data'!$C$17)","v":0},0,{"$f":"L62/'Zdrojová data'!$C$16","v":0},{"$f":"M62*'Zdrojová data'!$C$13","v":0},{"$f":"N62*'Zdrojová data'!$C$14","v":0},0,{"$f":"IF(H62=0,D62-'Výstupy modelu'!$C$7,IF(P62=1,J62-K62,0))","v":0},0,null,{"$f":"MAX(0,IF(Q62>0,Q62-('Výstupy modelu'!$H$10-'Výstupy modelu'!$H$9),0))","v":0},null,null,1865.4300000000003,1885.4300000000003,0,{"$f":"MAX(0,D62-'Vstupní hodnoty'!$C$5)","v":0}]
[null,"2017-01-01T15:00:00",1,241.92000000000002,{"$f":"CEILING(IF(C63-C62=0,IF(H62=0,I62,IF(J62>K62,I62,E62)),'Výstupy modelu'!$C$7),1)","v":1664},0,0,{"$f":"IF(F63=1,IF(G63>'Zdrojová data'!$C$19,0,1),\"\")","v":""},1664,0,{"$f":"MIN(J63,'Zdrojová data'!$C$17)","v":0},0,{"$f":"L63/'Zdrojová data'!$C$16","v":0},{"$f":"M63*'Zdrojová data'!$C$13","v":0},{"$f":"N63*'Zdrojová data'!$C$14","v":0},0,{"$f":"IF(H63=0,D63-'Výstupy modelu'!$C$7,IF(P63=1,J63-K63,0))","v":0},0,null,{"$f":"MAX(0,IF(Q63>0,Q63-('Výstupy modelu'!$H$10-'Výstupy modelu'!$H$9),0))","v":0},null,null,1865.4300000000003,1885.4300000000003,0,{"$f":"MAX(0,D63-'Vstupní hodnoty'!$C$5)","v":0}]
[null,"2017-01-01T15:15:00",1,253.8,{"$f":"CEILING(IF(C64-C63=0,IF(H63=0,I63,IF(J63>K63,I63,E63)),'Výstupy modelu'!$C$7),1)","v":1664},0,0,{"$f":"IF(F64=1,IF(G64>'Zdrojová data'!$C$19,0,1),\"\")","v":""},1664,0,{"$f":"MIN(J64,'Zdrojová data'!$C$17)","v":0},0,{"$f":"L64/'Zdrojová data'!$C$16","v":0},{"$f":"M64*'Zdrojová data'!$C$13","v":0},{"$f":"N64*'Zdrojová data'!$C$14","v":0},0,{"$f":"IF(H64=0,D64-'Výstupy modelu'!$C$7,IF(P64=1,J64-K64,0))","v":0},0,null,{"$f":"MAX(0,IF(Q64>0,Q64-('Výstupy modelu'!$H$10-'Výstupy modelu'!$H$9),0))","v":0},null,null,1865.4300000000003,1885.4300000000003,0,{"$f":"MAX(0,D64-'Vstupní hodnoty'!$C$5)","v":0}]
[null,"2017-01-01T15:30:00",1,262.44,{"$f":"CEILING(IF(C65-C64=0,IF(H64=0,I64,IF(J64>K64,I64,E64)),'Výstupy modelu'!$C$7),1)","v":1664},0,0,{"$f":"IF(F65=1,IF(G65>'Zdrojová data'!$C$19,0,1),\"\")","v":""},1664,0,{"$f":"MIN(J65,'Zdrojová data'!$C$17)","v":0},0,{"$f":"L65/'Zdrojová data'!$C$16","v":0},{"$f":"M65*'Zdrojová data'!$C$13","v":0},{"$f":"N65*'Zdrojová data'!$C$14","v":0},0,{"$f":"IF(H65=0,D65-'Výstupy modelu'!$C$7,IF(P65=1,J65-K65,0))","v":0},0,null,{"$f":"MAX(0,IF(Q65>0,Q65-('Výstupy modelu'!$H$10-'Výstupy modelu'!$H$9),0))","v":0},null,null,1865.4300000000003,1885.4300000000003,0,{"$f":"MAX(0,D65-'Vstupní hodnoty'!$C$5)","v":0}]
[null,"2017-01-01T15:45:00",1,263.52000000000004,{"$f":"CEILING(IF(C66-C65=0,IF(H65=0,I65,IF(J65>K65,I65,E65)),'Výstupy modelu'!$C$7),1)","v":1664},0,0,{"$f":"IF(F66=1,IF(G66>'Zdrojová data'!$C$19,0,1),\"\")","v":""},1664,0,{"$f":"MIN(J66,'Zdrojová data'!$C$17)","v":0},0,{"$f":"L66/'Zdrojová data'!$C$16","v":0},{"$f":"M66*'Zdrojová data'!$C$13","v":0},{"$f":"N66*'Zdrojová data'!$C$14","v":0},0,{"$f":"IF(H66=0,D66-'Výstupy modelu'!$C$7,IF(P66=1,J66-K66,0))","v":0},0,null,{"$f":"MAX(0,IF(Q66>0,Q66-('Výstupy modelu'!$H$10-'Výstupy modelu'!$H$9),0))","v":0},null,null,1865.4300000000003,1885.4300000000003,0,{"$f":"MAX(0,D66-'Vstupní hodnoty'!$C$5)","v":0}]
[null,"2017-01-01T16:00:00",1,271.08000000000004,{"$f":"CEILING(IF(C67-C66=0,IF(H66=0,I66,IF(J66>K66,I66,E66)),'Výstupy modelu'!$C$7),1)","v":1664},0,0,{"$f":"IF(F67=1,IF(G67>'Zdrojová data'!$C$19,0,1),\"\")","v":""},1664,0,{"$f":"MIN(J67,'Zdrojová data'!$C$17)","v":0},0,{"$f":"L67/'Zdrojová data'!$C$16","v":0},{"$f":"M67*'Zdrojová data'!$C$13","v":0},{"$f":"N67*'Zdrojová data'!$C$14","v":0},0,{"$f":"IF(H67=0,D67-'Výstupy modelu'!$C$7,IF(P67=1,J67-K67,0))","v":0},0,null,{"$f":"MAX(0,IF(Q67>0,Q67-('Výstupy modelu'!$H$10-'Výstupy modelu'!$H$9),0))","v":0},null,null,1865.4300000000003,1885.4300000000003,0,{"$f":"MAX(0,D67-'Vstupní hodnoty'!$C$5)","v":0}]
[null,"2017-01-01T16:15:00",1,263.52000000000004,{"$f":"CEILING(IF(C68-C67=0,IF(H67=0,I67,IF(J67>K67,I67,E67)),'Výstupy modelu'!$C$7),1)","v":1664},{"$f":"IF(D68>E68,1,0)","v":0},0,{"$f":"IF(F68=1,IF(G68>'Zdrojová data'!$C$19,0,1),\"\")","v":""},{"$f":"IF(H68=0,D68,IF(J68>K68,E68+J68-K68,E68))","v":1664},{"$f":"IF(H68=1,D68-E68,0)","v":0},{"$f":"MIN(J68,'Zdrojová data'!$C$17)","v":0},0,{"$f":"L68/'Zdrojová data'!$C$16","v":0},{"$f":"M68*'Zdrojová data'!$C$13","v":0},{"$f":"N68*'Zdrojová data'!$C$14","v":0},0,{"$f":"IF(H68=0,D68-'Výstupy modelu'!$C$7,IF(P68=1,J68-K68,0))","v":0},0,null,{"$f":"MAX(0,IF(Q68>0,Q68-('Výstupy modelu'!$H$10-'Výstupy modelu'!$H$9),0))","v":0},null,null,1865.4300000000003,1885.4300000000003,{"$f":"MAX(0,D68-W68)","v":0},{"$f":"MAX(0,D68-'Vstupní hodnoty'!$C$5)","v":0}]
[null,"2017-01-01T16:30:00",{"$f":"MONTH(B69)","v":1},282.96000000000004,{"$f":"CEILING(IF(C69-C68=0,IF(H68=0,I68,IF(J68>K68,I68,E68)),'Výstupy modelu'!$C$7),1)","v":1664},0,{"$f":"IF(F69=1,RANDBETWEEN(0,100),0)","v":0},{"$f":"IF(F69=1,IF(G69>'Zdrojová data'!$C$19,0,1),\"\")","v":""},1664,0,{"$f":"MIN(J69,'Zdrojová data'!$C$17)","v":0},{"$f":"K69/4","v":0},{"$f":"L69/'Zdrojová data'!$C$16","v":0},{"$f":"M69*'Zdrojová data'!$C$13","v":0},{"$f":"N69*'Zdrojová data'!$C$14","v":0},{"$f":"IF(H69=0,1,IF(J69>K69,1,0))","v":0},{"$f":"IF(H69=0,D69-'Výstupy modelu'!$C$7,IF(P69=1,J69-K69,0))","v":0},{"$f":"IF(H69=0,1,IF(J69>K69,1,0))","v":0},null,{"$f":"MAX(0,IF(Q69>0,Q69-('Výstupy modelu'!$H$10-'Výstupy modelu'!$H$9),0))","v":0},null,null,1865.4300000000003,1885.4300000000003,0,{"$f":"MAX(0,D69-'Vstupní hodnoty'!$C$5)","v":0}]
[null,"2017-01-01T16:45:00",1,271.08000000000004,{"$f":"CEILING(IF(C70-C69=0,IF(H69=0,I69,IF(J69>K69,I69,E69)),'Výstupy modelu'!$C$7),1)","v":1664},0,0,{"$f":"IF(F70=1,IF(G70>'Zdrojová data'!$C$19,0,1),\"\")","v":""},1664,0,{"$f":"MIN(J70,'Zdrojová data'!$C$17)","v":0},0,{"$f":"L70/'Zdrojová data'!$C$16","v":0},{"$f":"M70*'Zdrojová data'!$C$13","v":0},{"$f":"N70*'Zdrojová data'!$C$14","v":0},0,{"$f":"IF(H70=0,D70-'Výstupy modelu'!$C$7,IF(P70=1,J70-K70,0))","v":0},0,null,{"$f":"MAX(0,IF(Q70>0,Q70-('Výstupy modelu'!$H$10-'Výstupy modelu'!$H$9),0))","v":0},null,null,{"$f":"W69","v":1865.4300000000003},1885.4300000000003,0,{"$f":"MAX(0,D70-'Vstupní hodnoty'!$C$5)","v":0}]
[null,"2017-01-01T17:00:00",1,273.24,{"$f":"CEILING(IF(C71-C70=0,IF(H70=0,I70,IF(J70>K70,I70,E70)),'Výstupy modelu'!$C$7),1)","v":1664},0,0,{"$f":"IF(F71=1,IF(G71>'Zdrojová data'!$C$19,0,1),\"\")","v":""},1664,0,{"$f":"MIN(J71,'Zdrojová data'!$C$17)","v":0},0,{"$f":"L71/'Zdrojová data'!$C$16","v":0},{"$f":"M71*'Zdrojová data'!$C$13","v":0},{"$f":"N71*'Zdrojová data'!$C$14","v":0},0,{"$f":"IF(H71=0,D71-'Výstupy modelu'!$C$7,IF(P71=1,J71-K71,0))","v":0},0,null,{"$f":"MAX(0,IF(Q71>0,Q71-('Výstupy modelu'!$H$10-'Výstupy modelu'!$H$9),0))","v":0},null,null,1865.4300000000003,1885.4300000000003,0,{"$f":"MAX(0,D71-'Vstupní hodnoty'!$C$5)","v":0}]
[null,"2017-01-01T17:15:00",1,293.76,{"$f":"CEILING(IF(C72-C71=0,IF(H71=0,I71,IF(J71>K71,I71,E71)),'Výstupy modelu'!$C$7),1)","v":1664},0,0,{"$f":"IF(F72=1,IF(G72>'Zdrojová data'!$C$19,0,1),\"\")","v":""},1664,0,{"$f":"MIN(J72,'Zdrojová data'!$C$17)","v":0},0,{"$f":"L72/'Zdrojová data'!$C$16","v":0},{"$f":"M72*'Zdrojová data'!$C$13","v":0},{"$f":"N72*'Zdrojová data'!$C$14","v":0},0,{"$f":"IF(H72=0,D72-'Výstupy modelu'!$C$7,IF(P72=1,J72-K72,0))","v":0},0,null,{"$f":"MAX(0,IF(Q72>0,Q72-('Výstupy modelu'!$H$10-'Výstupy modelu'!$H$9),0))","v":0},null,null,1865.4300000000003,1885.4300000000003,0,{"$f":"MAX(0,D72-'Vstupní hodnoty'!$C$5)","v":0}]
[null,"2017-01-01T17:30:00",1,276.48,{"$f":"CEILING(IF(C73-C72=0,IF(H72=0,I72,IF(J72>K72,I72,E72)),'Výstupy modelu'!$C$7),1)","v":1664},0,0,{"$f":"IF(F73=1,IF(G73>'Zdrojová data'!$C$19,0,1),\"\")","v":""},1664,0,{"$f":"MIN(J73,'Zdrojová data'!$C$17)","v":0},0,{"$f":"L73/'Zdrojová data'!$C$16","v":0},{"$f":"M73*'Zdrojová data'!$C$13","v":0},{"$f":"N73*'Zdrojová data'!$C$14","v":0},0,{"$f":"IF(H73=0,D73-'Výstupy modelu'!$C$7,IF(P73=1,J73-K73,0))","v":0},0,null,{"$f":"MAX(0,IF(Q73>0,Q73-('Výstupy modelu'!$H$10-'Výstupy modelu'!$H$9),0))","v":0},null,null,1865.4300000000003,1885.4300000000003,0,{"$f":"MAX(0,D73-'Vstupní hodnoty'!$C$5)","v":0}]
[null,"2017-01-01T17:45:00",1,277.56,{"$f":"CEILING(IF(C74-C73=0,IF(H73=0,I73,IF(J73>K73,I73,E73)),'Výstupy modelu'!$C$7),1)","v":1664},0,0,{"$f":"IF(F74=1,IF(G74>'Zdrojová data'!$C$19,0,1),\"\")","v":""},1664,0,{"$f":"MIN(J74,'Zdrojová data'!$C$17)","v":0},0,{"$f":"L74/'Zdrojová data'!$C$16","v":0},{"$f":"M74*'Zdrojová data'!$C$13","v":0},{"$f":"N74*'Zdrojová data'!$C$14","v":0},0,{"$f":"IF(H74=0,D74-'Výstupy modelu'!$C$7,IF(P74=1,J74-K74,0))","v":0},0,null,{"$f":"MAX(0,IF(Q74>0,Q74-('Výstupy modelu'!$H$10-'Výstupy modelu'!$H$9),0))","v":0},null,null,1865.4300000000003,1885.4300000000003,0,{"$f":"MAX(0,D74-'Vstupní hodnoty'!$C$5)","v":0}]
[null,"2017-01-01T18:00:00",1,267.84000000000003,{"$f":"CEILING(IF(C75-C74=0,IF(H74=0,I74,IF(J74>K74,I74,E74)),'Výstupy modelu'!$C$7),1)","v":1664},0,0,{"$f":"IF(F75=1,IF(G75>'Zdrojová data'!$C$19,0,1),\"\")","v":""},1664,0,{"$f":"MIN(J75,'Zdrojová data'!$C$17)","v":0},0,{"$f":"L75/'Zdrojová data'!$C$16","v":0},{"$f":"M75*'Zdrojová data'!$C$13","v":0},{"$f":"N75*'Zdrojová data'!$C$14","v":0},0,{"$f":"IF(H75=0,D75-'Výstupy modelu'!$C$7,IF(P75=1,J75-K75,0))","v":0},0,null,{"$f":"MAX(0,IF(Q75>0,Q75-('Výstupy modelu'!$H$10-'Výstupy modelu'!$H$9),0))","v":0},null,null,1865.4300000000003,1885.4300000000003,0,{"$f":"MAX(0,D75-'Vstupní hodnoty'!$C$5)","v":0}]
[null,"2017-01-01T18:15:00",1,265.68,{"$f":"CEILING(IF(C76-C75=0,IF(H75=0,I75,IF(J75>K75,I75,E75)),'Výstupy modelu'!$C$7),1)","v":1664},0,0,{"$f":"IF(F76=1,IF(G76>'Zdrojová data'!$C$19,0,1),\"\")","v":""},1664,0,{"$f":"MIN(J76,'Zdrojová data'!$C$17)","v":0},0,{"$f":"L76/'Zdrojová data'!$C$16","v":0},{"$f":"M76*'Zdrojová data'!$C$13","v":0},{"$f":"N76*'Zdrojová data'!$C$14","v":0},0,{"$f":"IF(H76=0,D76-'Výstupy modelu'!$C$7,IF(P76=1,J76-K76,0))","v":0},0,null,{"$f":"MAX(0,IF(Q76>0,Q76-('Výstupy modelu'!$H$10-'Výstupy modelu'!$H$9),0))","v":0},null,null,1865.4300000000003,1885.4300000000003,0,{"$f":"MAX(0,D76-'Vstupní hodnoty'!$C$5)","v":0}]
[null,"2017-01-01T18:30:00",1,274.32,{"$f":"CEILING(IF(C77-C76=0,IF(H76=0,I76,IF(J76>K76,I76,E76)),'Výstupy modelu'!$C$7),1)","v":1664},0,0,{"$f":"IF(F77=1,IF(G77>'Zdrojová data'!$C$19,0,1),\"\")","v":""},1664,0,{"$f":"MIN(J77,'Zdrojová data'!$C$17)","v":0},0,{"$f":"L77/'Zdrojová data'!$C$16","v":0},{"$f":"M77*'Zdrojová data'!$C$13","v":0},{"$f":"N77*'Zdrojová data'!$C$14","v":0},0,{"$f":"IF(H77=0,D77-'Výstupy modelu'!$C$7,IF(P77=1,J77-K77,0))","v":0},0,null,{"$f":"MAX(0,IF(Q77>0,Q77-('Výstupy modelu'!$H$10-'Výstupy modelu'!$H$9),0))","v":0},null,null,1865.4300000000003,1885.4300000000003,0,{"$f":"MAX(0,D77-'Vstupní hodnoty'!$C$5)","v":0}]
[null,"2017-01-01T18:45:00",1,264.60000000000002,{"$f":"CEILING(IF(C78-C77=0,IF(H77=0,I77,IF(J77>K77,I77,E77)),'Výstupy modelu'!$C$7),1)","v":1664},0,0,{"$f":"IF(F78=1,IF(G78>'Zdrojová data'!$C$19,0,1),\"\")","v":""},1664,0,{"$f":"MIN(J78,'Zdrojová data'!$C$17)","v":0},0,{"$f":"L78/'Zdrojová data'!$C$16","v":0},{"$f":"M78*'Zdrojová data'!$C$13","v":0},{"$f":"N78*'Zdrojová data'!$C$14","v":0},0,{"$f":"IF(H78=0,D78-'Výstupy modelu'!$C$7,IF(P78=1,J78-K78,0))","v":0},0,null,{"$f":"MAX(0,IF(Q78>0,Q78-('Výstupy modelu'!$H$10-'Výstupy modelu'!$H$9),0))","v":0},null,null,1865.4300000000003,1885.4300000000003,0,{"$f":"MAX(0,D78-'Vstupní hodnoty'!$C$5)","v":0}]
[null,"2017-01-01T19:00:00",1,268.92,{"$f":"CEILING(IF(C79-C78=0,IF(H78=0,I78,IF(J78>K78,I78,E78)),'Výstupy modelu'!$C$7),1)","v":1664},0,0,{"$f":"IF(F79=1,IF(G79>'Zdrojová data'!$C$19,0,1),\"\")","v":""},1664,0,{"$f":"MIN(J79,'Zdrojová data'!$C$17)","v":0},0,{"$f":"L79/'Zdrojová data'!$C$16","v":0},{"$f":"M79*'Zdrojová data'!$C$13","v":0},{"$f":"N79*'Zdrojová data'!$C$14","v":0},0,{"$f":"IF(H79=0,D79-'Výstupy modelu'!$C$7,IF(P79=1,J79-K79,0))","v":0},0,null,{"$f":"MAX(0,IF(Q79>0,Q79-('Výstupy modelu'!$H$10-'Výstupy modelu'!$H$9),0))","v":0},null,null,1865.4300000000003,1885.4300000000003,0,{"$f":"MAX(0,D79-'Vstupní hodnoty'!$C$5)","v":0}]
[null,"2017-01-01T19:15:00",1,265.68,{"$f":"CEILING(IF(C80-C79=0,IF(H79=0,I79,IF(J79>K79,I79,E79)),'Výstupy modelu'!$C$7),1)","v":1664},0,0,{"$f":"IF(F80=1,IF(G80>'Zdrojová data'!$C$19,0,1),\"\")","v":""},1664,0,{"$f":"MIN(J80,'Zdrojová data'!$C$17)","v":0},0,{"$f":"L80/'Zdrojová data'!$C$16","v":0},{"$f":"M80*'Zdrojová data'!$C$13","v":0},{"$f":"N80*'Zdrojová data'!$C$14","v":0},0,{"$f":"IF(H80=0,D80-'Výstupy modelu'!$C$7,IF(P80=1,J80-K80,0))","v":0},0,null,{"$f":"MAX(0,IF(Q80>0,Q80-('Výstupy modelu'!$H$10-'Výstupy modelu'!$H$9),0))","v":0},null,null,1865.4300000000003,1885.4300000000003,0,{"$f":"MAX(0,D80-'Vstupní hodnoty'!$C$5)","v":0}]
[null,"2017-01-01T19:30:00",1,271.08000000000004,{"$f":"CEILING(IF(C81-C80=0,IF(H80=0,I80,IF(J80>K80,I80,E80)),'Výstupy modelu'!$C$7),1)","v":1664},0,0,{"$f":"IF(F81=1,IF(G81>'Zdrojová data'!$C$19,0,1),\"\")","v":""},1664,0,{"$f":"MIN(J81,'Zdrojová data'!$C$17)","v":0},0,{"$f":"L81/'Zdrojová data'!$C$16","v":0},{"$f":"M81*'Zdrojová data'!$C$13","v":0},{"$f":"N81*'Zdrojová data'!$C$14","v":0},0,{"$f":"IF(H81=0,D81-'Výstupy modelu'!$C$7,IF(P81=1,J81-K81,0))","v":0},0,null,{"$f":"MAX(0,IF(Q81>0,Q81-('Výstupy modelu'!$H$10-'Výstupy modelu'!$H$9),0))","v":0},null,null,1865.4300000000003,1885.4300000000003,0,{"$f":"MAX(0,D81-'Vstupní hodnoty'!$C$5)","v":0}]
[null,"2017-01-01T19:45:00",1,264.60000000000002,{"$f":"CEILING(IF(C82-C81=0,IF(H81=0,I81,IF(J81>K81,I81,E81)),'Výstupy modelu'!$C$7),1)","v":1664},0,0,{"$f":"IF(F82=1,IF(G82>'Zdrojová data'!$C$19,0,1),\"\")","v":""},1664,0,{"$f":"MIN(J82,'Zdrojová data'!$C$17)","v":0},0,{"$f":"L82/'Zdrojová data'!$C$16","v":0},{"$f":"M82*'Zdrojová data'!$C$13","v":0},{"$f":"N82*'Zdrojová data'!$C$14","v":0},0,{"$f":"IF(H82=0,D82-'Výstupy modelu'!$C$7,IF(P82=1,J82-K82,0))","v":0},0,null,{"$f":"MAX(0,IF(Q82>0,Q82-('Výstupy modelu'!$H$10-'Výstupy modelu'!$H$9),0))","v":0},null,null,1865.4300000000003,1885.4300000000003,0,{"$f":"MAX(0,D82-'Vstupní hodnoty'!$C$5)","v":0}]
[null,"2017-01-01T20:00:00",1,260.28000000000003,{"$f":"CEILING(IF(C83-C82=0,IF(H82=0,I82,IF(J82>K82,I82,E82)),'Výstupy modelu'!$C$7),1)","v":1664},0,0,{"$f":"IF(F83=1,IF(G83>'Zdrojová data'!$C$19,0,1),\"\")","v":""},1664,0,{"$f":"MIN(J83,'Zdrojová data'!$C$17)","v":0},0,{"$f":"L83/'Zdrojová data'!$C$16","v":0},{"$f":"M83*'Zdrojová data'!$C$13","v":0},{"$f":"N83*'Zdrojová data'!$C$14","v":0},0,{"$f":"IF(H83=0,D83-'Výstupy modelu'!$C$7,IF(P83=1,J83-K83,0))","v":0},0,null,{"$f":"MAX(0,IF(Q83>0,Q83-('Výstupy modelu'!$H$10-'Výstupy modelu'!$H$9),0))","v":0},null,null,1865.4300000000003,1885.4300000000003,0,{"$f":"MAX(0,D83-'Vstupní hodnoty'!$C$5)","v":0}]
[null,"2017-01-01T20:15:00",1,265.68,{"$f":"CEILING(IF(C84-C83=0,IF(H83=0,I83,IF(J83>K83,I83,E83)),'Výstupy modelu'!$C$7),1)","v":1664},0,0,{"$f":"IF(F84=1,IF(G84>'Zdrojová data'!$C$19,0,1),\"\")","v":""},1664,0,{"$f":"MIN(J84,'Zdrojová data'!$C$17)","v":0},0,{"$f":"L84/'Zdrojová data'!$C$16","v":0},{"$f":"M84*'Zdrojová data'!$C$13","v":0},{"$f":"N84*'Zdrojová data'!$C$14","v":0},0,{"$f":"IF(H84=0,D84-'Výstupy modelu'!$C$7,IF(P84=1,J84-K84,0))","v":0},0,null,{"$f":"MAX(0,IF(Q84>0,Q84-('Výstupy modelu'!$H$10-'Výstupy modelu'!$H$9),0))","v":0},null,null,1865.4300000000003,1885.4300000000003,0,{"$f":"MAX(0,D84-'Vstupní hodnoty'!$C$5)","v":0}]
[null,"2017-01-01T20:30:00",1,275.40000000000003,{"$f":"CEILING(IF(C85-C84=0,IF(H84=0,I84,IF(J84>K84,I84,E84)),'Výstupy modelu'!$C$7),1)","v":1664},0,0,{"$f":"IF(F85=1,IF(G85>'Zdrojová data'!$C$19,0,1),\"\")","v":""},1664,0,{"$f":"MIN(J85,'Zdrojová data'!$C$17)","v":0},0,{"$f":"L85/'Zdrojová data'!$C$16","v":0},{"$f":"M85*'Zdrojová data'!$C$13","v":0},{"$f":"N85*'Zdrojová data'!$C$14","v":0},0,{"$f":"IF(H85=0,D85-'Výstupy modelu'!$C$7,IF(P85=1,J85-K85,0))","v":0},0,null,{"$f":"MAX(0,IF(Q85>0,Q85-('Výstupy modelu'!$H$10-'Výstupy modelu'!$H$9),0))","v":0},null,null,1865.4300000000003,1885.4300000000003,0,{"$f":"MAX(0,D85-'Vstupní hodnoty'!$C$5)","v":0}]
[null,"2017-01-01T20:45:00",1,266.76,{"$f":"CEILING(IF(C86-C85=0,IF(H85=0,I85,IF(J85>K85,I85,E85)),'Výstupy modelu'!$C$7),1)","v":1664},0,0,{"$f":"IF(F86=1,IF(G86>'Zdrojová data'!$C$19,0,1),\"\")","v":""},1664,0,{"$f":"MIN(J86,'Zdrojová data'!$C$17)","v":0},0,{"$f":"L86/'Zdrojová data'!$C$16","v":0},{"$f":"M86*'Zdrojová data'!$C$13","v":0},{"$f":"N86*'Zdrojová data'!$C$14","v":0},0,{"$f":"IF(H86=0,D86-'Výstupy modelu'!$C$7,IF(P86=1,J86-K86,0))","v":0},0,null,{"$f":"MAX(0,IF(Q86>0,Q86-('Výstupy modelu'!$H$10-'Výstupy modelu'!$H$9),0))","v":0},null,null,1865.4300000000003,1885.4300000000003,0,{"$f":"MAX(0,D86-'Vstupní hodnoty'!$C$5)","v":0}]
[null,"2017-01-01T21:00:00",1,270,{"$f":"CEILING(IF(C87-C86=0,IF(H86=0,I86,IF(J86>K86,I86,E86)),'Výstupy modelu'!$C$7),1)","v":1664},0,0,{"$f":"IF(F87=1,IF(G87>'Zdrojová data'!$C$19,0,1),\"\")","v":""},1664,0,{"$f":"MIN(J87,'Zdrojová data'!$C$17)","v":0},0,{"$f":"L87/'Zdrojová data'!$C$16","v":0},{"$f":"M87*'Zdrojová data'!$C$13","v":0},{"$f":"N87*'Zdrojová data'!$C$14","v":0},0,{"$f":"IF(H87=0,D87-'Výstupy modelu'!$C$7,IF(P87=1,J87-K87,0))","v":0},0,null,{"$f":"MAX(0,IF(Q87>0,Q87-('Výstupy modelu'!$H$10-'Výstupy modelu'!$H$9),0))","v":0},null,null,1865.4300000000003,1885.4300000000003,0,{"$f":"MAX(0,D87-'Vstupní hodnoty'!$C$5)","v":0}]
[null,"2017-01-01T21:15:00",1,279.72000000000003,{"$f":"CEILING(IF(C88-C87=0,IF(H87=0,I87,IF(J87>K87,I87,E87)),'Výstupy modelu'!$C$7),1)","v":1664},0,0,{"$f":"IF(F88=1,IF(G88>'Zdrojová data'!$C$19,0,1),\"\")","v":""},1664,0,{"$f":"MIN(J88,'Zdrojová data'!$C$17)","v":0},0,{"$f":"L88/'Zdrojová data'!$C$16","v":0},{"$f":"M88*'Zdrojová data'!$C$13","v":0},{"$f":"N88*'Zdrojová data'!$C$14","v":0},0,{"$f":"IF(H88=0,D88-'Výstupy modelu'!$C$7,IF(P88=1,J88-K88,0))","v":0},0,null,{"$f":"MAX(0,IF(Q88>0,Q88-('Výstupy modelu'!$H$10-'Výstupy modelu'!$H$9),0))","v":0},null,null,1865.4300000000003,1885.4300000000003,0,{"$f":"MAX(0,D88-'Vstupní hodnoty'!$C$5)","v":0}]
[null,"2017-01-01T21:30:00",1,297,{"$f":"CEILING(IF(C89-C88=0,IF(H88=0,I88,IF(J88>K88,I88,E88)),'Výstupy modelu'!$C$7),1)","v":1664},0,0,{"$f":"IF(F89=1,IF(G89>'Zdrojová data'!$C$19,0,1),\"\")","v":""},1664,0,{"$f":"MIN(J89,'Zdrojová data'!$C$17)","v":0},0,{"$f":"L89/'Zdrojová data'!$C$16","v":0},{"$f":"M89*'Zdrojová data'!$C$13","v":0},{"$f":"N89*'Zdrojová data'!$C$14","v":0},0,{"$f":"IF(H89=0,D89-'Výstupy modelu'!$C$7,IF(P89=1,J89-K89,0))","v":0},0,null,{"$f":"MAX(0,IF(Q89>0,Q89-('Výstupy modelu'!$H$10-'Výstupy modelu'!$H$9),0))","v":0},null,null,1865.4300000000003,1885.4300000000003,0,{"$f":"MAX(0,D89-'Vstupní hodnoty'!$C$5)","v":0}]
[null,"2017-01-01T21:45:00",1,325.08000000000004,{"$f":"CEILING(IF(C90-C89=0,IF(H89=0,I89,IF(J89>K89,I89,E89)),'Výstupy modelu'!$C$7),1)","v":1664},0,0,{"$f":"IF(F90=1,IF(G90>'Zdrojová data'!$C$19,0,1),\"\")","v":""},1664,0,{"$f":"MIN(J90,'Zdrojová data'!$C$17)","v":0},0,{"$f":"L90/'Zdrojová data'!$C$16","v":0},{"$f":"M90*'Zdrojová data'!$C$13","v":0},{"$f":"N90*'Zdrojová data'!$C$14","v":0},0,{"$f":"IF(H90=0,D90-'Výstupy modelu'!$C$7,IF(P90=1,J90-K90,0))","v":0},0,null,{"$f":"MAX(0,IF(Q90>0,Q90-('Výstupy modelu'!$H$10-'Výstupy modelu'!$H$9),0))","v":0},null,null,1865.4300000000003,1885.4300000000003,0,{"$f":"MAX(0,D90-'Vstupní hodnoty'!$C$5)","v":0}]
[null,"2017-01-01T22:00:00",1,401.76000000000005,{"$f":"CEILING(IF(C91-C90=0,IF(H90=0,I90,IF(J90>K90,I90,E90)),'Výstupy modelu'!$C$7),1)","v":1664},0,0,{"$f":"IF(F91=1,IF(G91>'Zdrojová data'!$C$19,0,1),\"\")","v":""},1664,0,{"$f":"MIN(J91,'Zdrojová data'!$C$17)","v":0},0,{"$f":"L91/'Zdrojová data'!$C$16","v":0},{"$f":"M91*'Zdrojová data'!$C$13","v":0},{"$f":"N91*'Zdrojová data'!$C$14","v":0},0,{"$f":"IF(H91=0,D91-'Výstupy modelu'!$C$7,IF(P91=1,J91-K91,0))","v":0},0,null,{"$f":"MAX(0,IF(Q91>0,Q91-('Výstupy modelu'!$H$10-'Výstupy modelu'!$H$9),0))","v":0},null,null,1865.4300000000003,1885.4300000000003,0,{"$f":"MAX(0,D91-'Vstupní hodnoty'!$C$5)","v":0}]
[null,"2017-01-01T22:15:00",1,402.84000000000003,{"$f":"CEILING(IF(C92-C91=0,IF(H91=0,I91,IF(J91>K91,I91,E91)),'Výstupy modelu'!$C$7),1)","v":1664},0,0,{"$f":"IF(F92=1,IF(G92>'Zdrojová data'!$C$19,0,1),\"\")","v":""},1664,0,{"$f":"MIN(J92,'Zdrojová data'!$C$17)","v":0},0,{"$f":"L92/'Zdrojová data'!$C$16","v":0},{"$f":"M92*'Zdrojová data'!$C$13","v":0},{"$f":"N92*'Zdrojová data'!$C$14","v":0},0,{"$f":"IF(H92=0,D92-'Výstupy modelu'!$C$7,IF(P92=1,J92-K92,0))","v":0},0,null,{"$f":"MAX(0,IF(Q92>0,Q92-('Výstupy modelu'!$H$10-'Výstupy modelu'!$H$9),0))","v":0},null,null,1865.4300000000003,1885.4300000000003,0,{"$f":"MAX(0,D92-'Vstupní hodnoty'!$C$5)","v":0}]
[null,"2017-01-01T22:30:00",1,392.04,{"$f":"CEILING(IF(C93-C92=0,IF(H92=0,I92,IF(J92>K92,I92,E92)),'Výstupy modelu'!$C$7),1)","v":1664},0,0,{"$f":"IF(F93=1,IF(G93>'Zdrojová data'!$C$19,0,1),\"\")","v":""},1664,0,{"$f":"MIN(J93,'Zdrojová data'!$C$17)","v":0},0,{"$f":"L93/'Zdrojová data'!$C$16","v":0},{"$f":"M93*'Zdrojová data'!$C$13","v":0},{"$f":"N93*'Zdrojová data'!$C$14","v":0},0,{"$f":"IF(H93=0,D93-'Výstupy modelu'!$C$7,IF(P93=1,J93-K93,0))","v":0},0,null,{"$f":"MAX(0,IF(Q93>0,Q93-('Výstupy modelu'!$H$10-'Výstupy modelu'!$H$9),0))","v":0},null,null,1865.4300000000003,1885.4300000000003,0,{"$f":"MAX(0,D93-'Vstupní hodnoty'!$C$5)","v":0}]
[null,"2017-01-01T22:45:00",1,373.68,{"$f":"CEILING(IF(C94-C93=0,IF(H93=0,I93,IF(J93>K93,I93,E93)),'Výstupy modelu'!$C$7),1)","v":1664},0,0,{"$f":"IF(F94=1,IF(G94>'Zdrojová data'!$C$19,0,1),\"\")","v":""},1664,0,{"$f":"MIN(J94,'Zdrojová data'!$C$17)","v":0},0,{"$f":"L94/'Zdrojová data'!$C$16","v":0},{"$f":"M94*'Zdrojová data'!$C$13","v":0},{"$f":"N94*'Zdrojová data'!$C$14","v":0},0,{"$f":"IF(H94=0,D94-'Výstupy modelu'!$C$7,IF(P94=1,J94-K94,0))","v":0},0,null,{"$f":"MAX(0,IF(Q94>0,Q94-('Výstupy modelu'!$H$10-'Výstupy modelu'!$H$9),0))","v":0},null,null,1865.4300000000003,1885.4300000000003,0,{"$f":"MAX(0,D94-'Vstupní hodnoty'!$C$5)","v":0}]
[null,"2017-01-01T23:00:00",1,373.68,{"$f":"CEILING(IF(C95-C94=0,IF(H94=0,I94,IF(J94>K94,I94,E94)),'Výstupy modelu'!$C$7),1)","v":1664},0,0,{"$f":"IF(F95=1,IF(G95>'Zdrojová data'!$C$19,0,1),\"\")","v":""},1664,0,{"$f":"MIN(J95,'Zdrojová data'!$C$17)","v":0},0,{"$f":"L95/'Zdrojová data'!$C$16","v":0},{"$f":"M95*'Zdrojová data'!$C$13","v":0},{"$f":"N95*'Zdrojová data'!$C$14","v":0},0,{"$f":"IF(H95=0,D95-'Výstupy modelu'!$C$7,IF(P95=1,J95-K95,0))","v":0},0,null,{"$f":"MAX(0,IF(Q95>0,Q95-('Výstupy modelu'!$H$10-'Výstupy modelu'!$H$9),0))","v":0},null,null,1865.4300000000003,1885.4300000000003,0,{"$f":"MAX(0,D95-'Vstupní hodnoty'!$C$5)","v":0}]
[null,"2017-01-01T23:15:00",1,392.04,{"$f":"CEILING(IF(C96-C95=0,IF(H95=0,I95,IF(J95>K95,I95,E95)),'Výstupy modelu'!$C$7),1)","v":1664},0,0,{"$f":"IF(F96=1,IF(G96>'Zdrojová data'!$C$19,0,1),\"\")","v":""},1664,0,{"$f":"MIN(J96,'Zdrojová data'!$C$17)","v":0},0,{"$f":"L96/'Zdrojová data'!$C$16","v":0},{"$f":"M96*'Zdrojová data'!$C$13","v":0},{"$f":"N96*'Zdrojová data'!$C$14","v":0},0,{"$f":"IF(H96=0,D96-'Výstupy modelu'!$C$7,IF(P96=1,J96-K96,0))","v":0},0,null,{"$f":"MAX(0,IF(Q96>0,Q96-('Výstupy modelu'!$H$10-'Výstupy modelu'!$H$9),0))","v":0},null,null,1865.4300000000003,1885.4300000000003,0,{"$f":"MAX(0,D96-'Vstupní hodnoty'!$C$5)","v":0}]
[null,"2017-01-01T23:30:00",1,380.16,{"$f":"CEILING(IF(C97-C96=0,IF(H96=0,I96,IF(J96>K96,I96,E96)),'Výstupy modelu'!$C$7),1)","v":1664},0,0,{"$f":"IF(F97=1,IF(G97>'Zdrojová data'!$C$19,0,1),\"\")","v":""},1664,0,{"$f":"MIN(J97,'Zdrojová data'!$C$17)","v":0},0,{"$f":"L97/'Zdrojová data'!$C$16","v":0},{"$f":"M97*'Zdrojová data'!$C$13","v":0},{"$f":"N97*'Zdrojová data'!$C$14","v":0},0,{"$f":"IF(H97=0,D97-'Výstupy modelu'!$C$7,IF(P97=1,J97-K97,0))","v":0},0,null,{"$f":"MAX(0,IF(Q97>0,Q97-('Výstupy modelu'!$H$10-'Výstupy modelu'!$H$9),0))","v":0},null,null,1865.4300000000003,1885.4300000000003,0,{"$f":"MAX(0,D97-'Vstupní hodnoty'!$C$5)","v":0}]
[null,"2017-01-01T23:45:00",1,381.24,{"$f":"CEILING(IF(C98-C97=0,IF(H97=0,I97,IF(J97>K97,I97,E97)),'Výstupy modelu'!$C$7),1)","v":1664},0,0,{"$f":"IF(F98=1,IF(G98>'Zdrojová data'!$C$19,0,1),\"\")","v":""},1664,0,{"$f":"MIN(J98,'Zdrojová data'!$C$17)","v":0},0,{"$f":"L98/'Zdrojová data'!$C$16","v":0},{"$f":"M98*'Zdrojová data'!$C$13","v":0},{"$f":"N98*'Zdrojová data'!$C$14","v":0},0,{"$f":"IF(H98=0,D98-'Výstupy modelu'!$C$7,IF(P98=1,J98-K98,0))","v":0},0,null,{"$f":"MAX(0,IF(Q98>0,Q98-('Výstupy modelu'!$H$10-'Výstupy modelu'!$H$9),0))","v":0},null,null,1865.4300000000003,1885.4300000000003,0,{"$f":"MAX(0,D98-'Vstupní hodnoty'!$C$5)","v":0}]
[null,"2017-01-02",1,396.36,{"$f":"CEILING(IF(C99-C98=0,IF(H98=0,I98,IF(J98>K98,I98,E98)),'Výstupy modelu'!$C$7),1)","v":1664},0,0,{"$f":"IF(F99=1,IF(G99>'Zdrojová data'!$C$19,0,1),\"\")","v":""},1664,0,{"$f":"MIN(J99,'Zdrojová data'!$C$17)","v":0},0,{"$f":"L99/'Zdrojová data'!$C$16","v":0},{"$f":"M99*'Zdrojová data'!$C$13","v":0},{"$f":"N99*'Zdrojová data'!$C$14","v":0},0,{"$f":"IF(H99=0,D99-'Výstupy modelu'!$C$7,IF(P99=1,J99-K99,0))","v":0},0,null,{"$f":"MAX(0,IF(Q99>0,Q99-('Výstupy modelu'!$H$10-'Výstupy modelu'!$H$9),0))","v":0},null,null,1865.4300000000003,1885.4300000000003,0,{"$f":"MAX(0,D99-'Vstupní hodnoty'!$C$5)","v":0}]
[null,"2017-01-02T00:15:00",1,389.88000000000005,{"$f":"CEILING(IF(C100-C99=0,IF(H99=0,I99,IF(J99>K99,I99,E99)),'Výstupy modelu'!$C$7),1)","v":1664},0,0,{"$f":"IF(F100=1,IF(G100>'Zdrojová data'!$C$19,0,1),\"\")","v":""},1664,0,{"$f":"MIN(J100,'Zdrojová data'!$C$17)","v":0},0,{"$f":"L100/'Zdrojová data'!$C$16","v":0},{"$f":"M100*'Zdrojová data'!$C$13","v":0},{"$f":"N100*'Zdrojová data'!$C$14","v":0},0,{"$f":"IF(H100=0,D100-'Výstupy modelu'!$C$7,IF(P100=1,J100-K100,0))","v":0},0,null,{"$f":"MAX(0,IF(Q100>0,Q100-('Výstupy modelu'!$H$10-'Výstupy modelu'!$H$9),0))","v":0},null,null,1865.4300000000003,1885.4300000000003,0,{"$f":"MAX(0,D100-'Vstupní hodnoty'!$C$5)","v":0}]
[null,"2017-01-02T00:30:00",1,388.8,{"$f":"CEILING(IF(C101-C100=0,IF(H100=0,I100,IF(J100>K100,I100,E100)),'Výstupy modelu'!$C$7),1)","v":1664},0,0,{"$f":"IF(F101=1,IF(G101>'Zdrojová data'!$C$19,0,1),\"\")","v":""},1664,0,{"$f":"MIN(J101,'Zdrojová data'!$C$17)","v":0},0,{"$f":"L101/'Zdrojová data'!$C$16","v":0},{"$f":"M101*'Zdrojová data'!$C$13","v":0},{"$f":"N101*'Zdrojová data'!$C$14","v":0},0,{"$f":"IF(H101=0,D101-'Výstupy modelu'!$C$7,IF(P101=1,J101-K101,0))","v":0},0,null,{"$f":"MAX(0,IF(Q101>0,Q101-('Výstupy modelu'!$H$10-'Výstupy modelu'!$H$9),0))","v":0},null,null,1865.4300000000003,1885.4300000000003,0,{"$f":"MAX(0,D101-'Vstupní hodnoty'!$C$5)","v":0}]
[null,"2017-01-02T00:45:00",1,366.12,{"$f":"CEILING(IF(C102-C101=0,IF(H101=0,I101,IF(J101>K101,I101,E101)),'Výstupy modelu'!$C$7),1)","v":1664},0,0,{"$f":"IF(F102=1,IF(G102>'Zdrojová data'!$C$19,0,1),\"\")","v":""},1664,0,{"$f":"MIN(J102,'Zdrojová data'!$C$17)","v":0},0,{"$f":"L102/'Zdrojová data'!$C$16","v":0},{"$f":"M102*'Zdrojová data'!$C$13","v":0},{"$f":"N102*'Zdrojová data'!$C$14","v":0},0,{"$f":"IF(H102=0,D102-'Výstupy modelu'!$C$7,IF(P102=1,J102-K102,0))","v":0},0,null,{"$f":"MAX(0,IF(Q102>0,Q102-('Výstupy modelu'!$H$10-'Výstupy modelu'!$H$9),0))","v":0},null,null,1865.4300000000003,1885.4300000000003,0,{"$f":"MAX(0,D102-'Vstupní hodnoty'!$C$5)","v":0}]
[null,"2017-01-02T01:00:00",1,379.08000000000004,{"$f":"CEILING(IF(C103-C102=0,IF(H102=0,I102,IF(J102>K102,I102,E102)),'Výstupy modelu'!$C$7),1)","v":1664},0,0,{"$f":"IF(F103=1,IF(G103>'Zdrojová data'!$C$19,0,1),\"\")","v":""},1664,0,{"$f":"MIN(J103,'Zdrojová data'!$C$17)","v":0},0,{"$f":"L103/'Zdrojová data'!$C$16","v":0},{"$f":"M103*'Zdrojová data'!$C$13","v":0},{"$f":"N103*'Zdrojová data'!$C$14","v":0},0,{"$f":"IF(H103=0,D103-'Výstupy modelu'!$C$7,IF(P103=1,J103-K103,0))","v":0},0,null,{"$f":"MAX(0,IF(Q103>0,Q103-('Výstupy modelu'!$H$10-'Výstupy modelu'!$H$9),0))","v":0},null,null,1865.4300000000003,1885.4300000000003,0,{"$f":"MAX(0,D103-'Vstupní hodnoty'!$C$5)","v":0}]
[null,"2017-01-02T01:15:00",1,381.24,{"$f":"CEILING(IF(C104-C103=0,IF(H103=0,I103,IF(J103>K103,I103,E103)),'Výstupy modelu'!$C$7),1)","v":1664},0,0,{"$f":"IF(F104=1,IF(G104>'Zdrojová data'!$C$19,0,1),\"\")","v":""},1664,0,{"$f":"MIN(J104,'Zdrojová data'!$C$17)","v":0},0,{"$f":"L104/'Zdrojová data'!$C$16","v":0},{"$f":"M104*'Zdrojová data'!$C$13","v":0},{"$f":"N104*'Zdrojová data'!$C$14","v":0},0,{"$f":"IF(H104=0,D104-'Výstupy modelu'!$C$7,IF(P104=1,J104-K104,0))","v":0},0,null,{"$f":"MAX(0,IF(Q104>0,Q104-('Výstupy modelu'!$H$10-'Výstupy modelu'!$H$9),0))","v":0},null,null,1865.4300000000003,1885.4300000000003,0,{"$f":"MAX(0,D104-'Vstupní hodnoty'!$C$5)","v":0}]
[null,"2017-01-02T01:30:00",1,381.24,{"$f":"CEILING(IF(C105-C104=0,IF(H104=0,I104,IF(J104>K104,I104,E104)),'Výstupy modelu'!$C$7),1)","v":1664},0,0,{"$f":"IF(F105=1,IF(G105>'Zdrojová data'!$C$19,0,1),\"\")","v":""},1664,0,{"$f":"MIN(J105,'Zdrojová data'!$C$17)","v":0},0,{"$f":"L105/'Zdrojová data'!$C$16","v":0},{"$f":"M105*'Zdrojová data'!$C$13","v":0},{"$f":"N105*'Zdrojová data'!$C$14","v":0},0,{"$f":"IF(H105=0,D105-'Výstupy modelu'!$C$7,IF(P105=1,J105-K105,0))","v":0},0,null,{"$f":"MAX(0,IF(Q105>0,Q105-('Výstupy modelu'!$H$10-'Výstupy modelu'!$H$9),0))","v":0},null,null,1865.4300000000003,1885.4300000000003,0,{"$f":"MAX(0,D105-'Vstupní hodnoty'!$C$5)","v":0}]
[null,"2017-01-02T01:45:00",1,376.92,{"$f":"CEILING(IF(C106-C105=0,IF(H105=0,I105,IF(J105>K105,I105,E105)),'Výstupy modelu'!$C$7),1)","v":1664},0,0,{"$f":"IF(F106=1,IF(G106>'Zdrojová data'!$C$19,0,1),\"\")","v":""},1664,0,{"$f":"MIN(J106,'Zdrojová data'!$C$17)","v":0},0,{"$f":"L106/'Zdrojová data'!$C$16","v":0},{"$f":"M106*'Zdrojová data'!$C$13","v":0},{"$f":"N106*'Zdrojová data'!$C$14","v":0},0,{"$f":"IF(H106=0,D106-'Výstupy modelu'!$C$7,IF(P106=1,J106-K106,0))","v":0},0,null,{"$f":"MAX(0,IF(Q106>0,Q106-('Výstupy modelu'!$H$10-'Výstupy modelu'!$H$9),0))","v":0},null,null,1865.4300000000003,1885.4300000000003,0,{"$f":"MAX(0,D106-'Vstupní hodnoty'!$C$5)","v":0}]
[null,"2017-01-02T02:00:00",1,451.44000000000005,{"$f":"CEILING(IF(C107-C106=0,IF(H106=0,I106,IF(J106>K106,I106,E106)),'Výstupy modelu'!$C$7),1)","v":1664},0,0,{"$f":"IF(F107=1,IF(G107>'Zdrojová data'!$C$19,0,1),\"\")","v":""},1664,0,{"$f":"MIN(J107,'Zdrojová data'!$C$17)","v":0},0,{"$f":"L107/'Zdrojová data'!$C$16","v":0},{"$f":"M107*'Zdrojová data'!$C$13","v":0},{"$f":"N107*'Zdrojová data'!$C$14","v":0},0,{"$f":"IF(H107=0,D107-'Výstupy modelu'!$C$7,IF(P107=1,J107-K107,0))","v":0},0,null,{"$f":"MAX(0,IF(Q107>0,Q107-('Výstupy modelu'!$H$10-'Výstupy modelu'!$H$9),0))","v":0},null,null,1865.4300000000003,1885.4300000000003,0,{"$f":"MAX(0,D107-'Vstupní hodnoty'!$C$5)","v":0}]
[null,"2017-01-02T02:15:00",1,496.8,{"$f":"CEILING(IF(C108-C107=0,IF(H107=0,I107,IF(J107>K107,I107,E107)),'Výstupy modelu'!$C$7),1)","v":1664},0,0,{"$f":"IF(F108=1,IF(G108>'Zdrojová data'!$C$19,0,1),\"\")","v":""},1664,0,{"$f":"MIN(J108,'Zdrojová data'!$C$17)","v":0},0,{"$f":"L108/'Zdrojová data'!$C$16","v":0},{"$f":"M108*'Zdrojová data'!$C$13","v":0},{"$f":"N108*'Zdrojová data'!$C$14","v":0},0,{"$f":"IF(H108=0,D108-'Výstupy modelu'!$C$7,IF(P108=1,J108-K108,0))","v":0},0,null,{"$f":"MAX(0,IF(Q108>0,Q108-('Výstupy modelu'!$H$10-'Výstupy modelu'!$H$9),0))","v":0},null,null,1865.4300000000003,1885.4300000000003,0,{"$f":"MAX(0,D108-'Vstupní hodnoty'!$C$5)","v":0}]
[null,"2017-01-02T02:30:00",1,506.52000000000004,{"$f":"CEILING(IF(C109-C108=0,IF(H108=0,I108,IF(J108>K108,I108,E108)),'Výstupy modelu'!$C$7),1)","v":1664},0,0,{"$f":"IF(F109=1,IF(G109>'Zdrojová data'!$C$19,0,1),\"\")","v":""},1664,0,{"$f":"MIN(J109,'Zdrojová data'!$C$17)","v":0},0,{"$f":"L109/'Zdrojová data'!$C$16","v":0},{"$f":"M109*'Zdrojová data'!$C$13","v":0},{"$f":"N109*'Zdrojová data'!$C$14","v":0},0,{"$f":"IF(H109=0,D109-'Výstupy modelu'!$C$7,IF(P109=1,J109-K109,0))","v":0},0,null,{"$f":"MAX(0,IF(Q109>0,Q109-('Výstupy modelu'!$H$10-'Výstupy modelu'!$H$9),0))","v":0},null,null,1865.4300000000003,1885.4300000000003,0,{"$f":"MAX(0,D109-'Vstupní hodnoty'!$C$5)","v":0}]
[null,"2017-01-02T02:45:00",1,524.88,{"$f":"CEILING(IF(C110-C109=0,IF(H109=0,I109,IF(J109>K109,I109,E109)),'Výstupy modelu'!$C$7),1)","v":1664},0,0,{"$f":"IF(F110=1,IF(G110>'Zdrojová data'!$C$19,0,1),\"\")","v":""},1664,0,{"$f":"MIN(J110,'Zdrojová data'!$C$17)","v":0},0,{"$f":"L110/'Zdrojová data'!$C$16","v":0},{"$f":"M110*'Zdrojová data'!$C$13","v":0},{"$f":"N110*'Zdrojová data'!$C$14","v":0},0,{"$f":"IF(H110=0,D110-'Výstupy modelu'!$C$7,IF(P110=1,J110-K110,0))","v":0},0,null,{"$f":"MAX(0,IF(Q110>0,Q110-('Výstupy modelu'!$H$10-'Výstupy modelu'!$H$9),0))","v":0},null,null,1865.4300000000003,1885.4300000000003,0,{"$f":"MAX(0,D110-'Vstupní hodnoty'!$C$5)","v":0}]
[null,"2017-01-02T03:00:00",1,531.36,{"$f":"CEILING(IF(C111-C110=0,IF(H110=0,I110,IF(J110>K110,I110,E110)),'Výstupy modelu'!$C$7),1)","v":1664},0,0,{"$f":"IF(F111=1,IF(G111>'Zdrojová data'!$C$19,0,1),\"\")","v":""},1664,0,{"$f":"MIN(J111,'Zdrojová data'!$C$17)","v":0},0,{"$f":"L111/'Zdrojová data'!$C$16","v":0},{"$f":"M111*'Zdrojová data'!$C$13","v":0},{"$f":"N111*'Zdrojová data'!$C$14","v":0},0,{"$f":"IF(H111=0,D111-'Výstupy modelu'!$C$7,IF(P111=1,J111-K111,0))","v":0},0,null,{"$f":"MAX(0,IF(Q111>0,Q111-('Výstupy modelu'!$H$10-'Výstupy modelu'!$H$9),0))","v":0},null,null,1865.4300000000003,1885.4300000000003,0,{"$f":"MAX(0,D111-'Vstupní hodnoty'!$C$5)","v":0}]
[null,"2017-01-02T03:15:00",1,536.76,{"$f":"CEILING(IF(C112-C111=0,IF(H111=0,I111,IF(J111>K111,I111,E111)),'Výstupy modelu'!$C$7),1)","v":1664},0,0,{"$f":"IF(F112=1,IF(G112>'Zdrojová data'!$C$19,0,1),\"\")","v":""},1664,0,{"$f":"MIN(J112,'Zdrojová data'!$C$17)","v":0},0,{"$f":"L112/'Zdrojová data'!$C$16","v":0},{"$f":"M112*'Zdrojová data'!$C$13","v":0},{"$f":"N112*'Zdrojová data'!$C$14","v":0},0,{"$f":"IF(H112=0,D112-'Výstupy modelu'!$C$7,IF(P112=1,J112-K112,0))","v":0},0,null,{"$f":"MAX(0,IF(Q112>0,Q112-('Výstupy modelu'!$H$10-'Výstupy modelu'!$H$9),0))","v":0},null,null,1865.4300000000003,1885.4300000000003,0,{"$f":"MAX(0,D112-'Vstupní hodnoty'!$C$5)","v":0}]
[null,"2017-01-02T03:30:00",1,561.6,{"$f":"CEILING(IF(C113-C112=0,IF(H112=0,I112,IF(J112>K112,I112,E112)),'Výstupy modelu'!$C$7),1)","v":1664},0,0,{"$f":"IF(F113=1,IF(G113>'Zdrojová data'!$C$19,0,1),\"\")","v":""},1664,0,{"$f":"MIN(J113,'Zdrojová data'!$C$17)","v":0},0,{"$f":"L113/'Zdrojová data'!$C$16","v":0},{"$f":"M113*'Zdrojová data'!$C$13","v":0},{"$f":"N113*'Zdrojová data'!$C$14","v":0},0,{"$f":"IF(H113=0,D113-'Výstupy modelu'!$C$7,IF(P113=1,J113-K113,0))","v":0},0,null,{"$f":"MAX(0,IF(Q113>0,Q113-('Výstupy modelu'!$H$10-'Výstupy modelu'!$H$9),0))","v":0},null,null,1865.4300000000003,1885.4300000000003,0,{"$f":"MAX(0,D113-'Vstupní hodnoty'!$C$5)","v":0}]
[null,"2017-01-02T03:45:00",1,581.04000000000008,{"$f":"CEILING(IF(C114-C113=0,IF(H113=0,I113,IF(J113>K113,I113,E113)),'Výstupy modelu'!$C$7),1)","v":1664},0,0,{"$f":"IF(F114=1,IF(G114>'Zdrojová data'!$C$19,0,1),\"\")","v":""},1664,0,{"$f":"MIN(J114,'Zdrojová data'!$C$17)","v":0},0,{"$f":"L114/'Zdrojová data'!$C$16","v":0},{"$f":"M114*'Zdrojová data'!$C$13","v":0},{"$f":"N114*'Zdrojová data'!$C$14","v":0},0,{"$f":"IF(H114=0,D114-'Výstupy modelu'!$C$7,IF(P114=1,J114-K114,0))","v":0},0,null,{"$f":"MAX(0,IF(Q114>0,Q114-('Výstupy modelu'!$H$10-'Výstupy modelu'!$H$9),0))","v":0},null,null,1865.4300000000003,1885.4300000000003,0,{"$f":"MAX(0,D114-'Vstupní hodnoty'!$C$5)","v":0}]
[null,"2017-01-02T04:00:00",1,541.08000000000004,{"$f":"CEILING(IF(C115-C114=0,IF(H114=0,I114,IF(J114>K114,I114,E114)),'Výstupy modelu'!$C$7),1)","v":1664},0,0,{"$f":"IF(F115=1,IF(G115>'Zdrojová data'!$C$19,0,1),\"\")","v":""},1664,0,{"$f":"MIN(J115,'Zdrojová data'!$C$17)","v":0},0,{"$f":"L115/'Zdrojová data'!$C$16","v":0},{"$f":"M115*'Zdrojová data'!$C$13","v":0},{"$f":"N115*'Zdrojová data'!$C$14","v":0},0,{"$f":"IF(H115=0,D115-'Výstupy modelu'!$C$7,IF(P115=1,J115-K115,0))","v":0},0,null,{"$f":"MAX(0,IF(Q115>0,Q115-('Výstupy modelu'!$H$10-'Výstupy modelu'!$H$9),0))","v":0},null,null,1865.4300000000003,1885.4300000000003,0,{"$f":"MAX(0,D115-'Vstupní hodnoty'!$C$5)","v":0}]
[null,"2017-01-02T04:15:00",1,531.36,{"$f":"CEILING(IF(C116-C115=0,IF(H115=0,I115,IF(J115>K115,I115,E115)),'Výstupy modelu'!$C$7),1)","v":1664},0,0,{"$f":"IF(F116=1,IF(G116>'Zdrojová data'!$C$19,0,1),\"\")","v":""},1664,0,{"$f":"MIN(J116,'Zdrojová data'!$C$17)","v":0},0,{"$f":"L116/'Zdrojová data'!$C$16","v":0},{"$f":"M116*'Zdrojová data'!$C$13","v":0},{"$f":"N116*'Zdrojová data'!$C$14","v":0},0,{"$f":"IF(H116=0,D116-'Výstupy modelu'!$C$7,IF(P116=1,J116-K116,0))","v":0},0,null,{"$f":"MAX(0,IF(Q116>0,Q116-('Výstupy modelu'!$H$10-'Výstupy modelu'!$H$9),0))","v":0},null,null,1865.4300000000003,1885.4300000000003,0,{"$f":"MAX(0,D116-'Vstupní hodnoty'!$C$5)","v":0}]
[null,"2017-01-02T04:30:00",1,541.08000000000004,{"$f":"CEILING(IF(C117-C116=0,IF(H116=0,I116,IF(J116>K116,I116,E116)),'Výstupy modelu'!$C$7),1)","v":1664},0,0,{"$f":"IF(F117=1,IF(G117>'Zdrojová data'!$C$19,0,1),\"\")","v":""},1664,0,{"$f":"MIN(J117,'Zdrojová data'!$C$17)","v":0},0,{"$f":"L117/'Zdrojová data'!$C$16","v":0},{"$f":"M117*'Zdrojová data'!$C$13","v":0},{"$f":"N117*'Zdrojová data'!$C$14","v":0},0,{"$f":"IF(H117=0,D117-'Výstupy modelu'!$C$7,IF(P117=1,J117-K117,0))","v":0},0,null,{"$f":"MAX(0,IF(Q117>0,Q117-('Výstupy modelu'!$H$10-'Výstupy modelu'!$H$9),0))","v":0},null,null,1865.4300000000003,1885.4300000000003,0,{"$f":"MAX(0,D117-'Vstupní hodnoty'!$C$5)","v":0}]
[null,"2017-01-02T04:45:00",1,570.24,{"$f":"CEILING(IF(C118-C117=0,IF(H117=0,I117,IF(J117>K117,I117,E117)),'Výstupy modelu'!$C$7),1)","v":1664},0,0,{"$f":"IF(F118=1,IF(G118>'Zdrojová data'!$C$19,0,1),\"\")","v":""},1664,0,{"$f":"MIN(J118,'Zdrojová data'!$C$17)","v":0},0,{"$f":"L118/'Zdrojová data'!$C$16","v":0},{"$f":"M118*'Zdrojová data'!$C$13","v":0},{"$f":"N118*'Zdrojová data'!$C$14","v":0},0,{"$f":"IF(H118=0,D118-'Výstupy modelu'!$C$7,IF(P118=1,J118-K118,0))","v":0},0,null,{"$f":"MAX(0,IF(Q118>0,Q118-('Výstupy modelu'!$H$10-'Výstupy modelu'!$H$9),0))","v":0},null,null,1865.4300000000003,1885.4300000000003,0,{"$f":"MAX(0,D118-'Vstupní hodnoty'!$C$5)","v":0}]
[null,"2017-01-02T05:00:00",1,615.6,{"$f":"CEILING(IF(C119-C118=0,IF(H118=0,I118,IF(J118>K118,I118,E118)),'Výstupy modelu'!$C$7),1)","v":1664},0,0,{"$f":"IF(F119=1,IF(G119>'Zdrojová data'!$C$19,0,1),\"\")","v":""},1664,0,{"$f":"MIN(J119,'Zdrojová data'!$C$17)","v":0},0,{"$f":"L119/'Zdrojová data'!$C$16","v":0},{"$f":"M119*'Zdrojová data'!$C$13","v":0},{"$f":"N119*'Zdrojová data'!$C$14","v":0},0,{"$f":"IF(H119=0,D119-'Výstupy modelu'!$C$7,IF(P119=1,J119-K119,0))","v":0},0,null,{"$f":"MAX(0,IF(Q119>0,Q119-('Výstupy modelu'!$H$10-'Výstupy modelu'!$H$9),0))","v":0},null,null,1865.4300000000003,1885.4300000000003,0,{"$f":"MAX(0,D119-'Vstupní hodnoty'!$C$5)","v":0}]
[null,"2017-01-02T05:15:00",1,656.6400000000001,{"$f":"CEILING(IF(C120-C119=0,IF(H119=0,I119,IF(J119>K119,I119,E119)),'Výstupy modelu'!$C$7),1)","v":1664},0,0,{"$f":"IF(F120=1,IF(G120>'Zdrojová data'!$C$19,0,1),\"\")","v":""},1664,0,{"$f":"MIN(J120,'Zdrojová data'!$C$17)","v":0},0,{"$f":"L120/'Zdrojová data'!$C$16","v":0},{"$f":"M120*'Zdrojová data'!$C$13","v":0},{"$f":"N120*'Zdrojová data'!$C$14","v":0},0,{"$f":"IF(H120=0,D120-'Výstupy modelu'!$C$7,IF(P120=1,J120-K120,0))","v":0},0,null,{"$f":"MAX(0,IF(Q120>0,Q120-('Výstupy modelu'!$H$10-'Výstupy modelu'!$H$9),0))","v":0},null,null,1865.4300000000003,1885.4300000000003,0,{"$f":"MAX(0,D120-'Vstupní hodnoty'!$C$5)","v":0}]
[null,"2017-01-02T05:30:00",1,717.12,{"$f":"CEILING(IF(C121-C120=0,IF(H120=0,I120,IF(J120>K120,I120,E120)),'Výstupy modelu'!$C$7),1)","v":1664},0,0,{"$f":"IF(F121=1,IF(G121>'Zdrojová data'!$C$19,0,1),\"\")","v":""},1664,0,{"$f":"MIN(J121,'Zdrojová data'!$C$17)","v":0},0,{"$f":"L121/'Zdrojová data'!$C$16","v":0},{"$f":"M121*'Zdrojová data'!$C$13","v":0},{"$f":"N121*'Zdrojová data'!$C$14","v":0},0,{"$f":"IF(H121=0,D121-'Výstupy modelu'!$C$7,IF(P121=1,J121-K121,0))","v":0},0,null,{"$f":"MAX(0,IF(Q121>0,Q121-('Výstupy modelu'!$H$10-'Výstupy modelu'!$H$9),0))","v":0},null,null,1865.4300000000003,1885.4300000000003,0,{"$f":"MAX(0,D121-'Vstupní hodnoty'!$C$5)","v":0}]
[null,"2017-01-02T05:45:00",1,747.36,{"$f":"CEILING(IF(C122-C121=0,IF(H121=0,I121,IF(J121>K121,I121,E121)),'Výstupy modelu'!$C$7),1)","v":1664},0,0,{"$f":"IF(F122=1,IF(G122>'Zdrojová data'!$C$19,0,1),\"\")","v":""},1664,0,{"$f":"MIN(J122,'Zdrojová data'!$C$17)","v":0},0,{"$f":"L122/'Zdrojová data'!$C$16","v":0},{"$f":"M122*'Zdrojová data'!$C$13","v":0},{"$f":"N122*'Zdrojová data'!$C$14","v":0},0,{"$f":"IF(H122=0,D122-'Výstupy modelu'!$C$7,IF(P122=1,J122-K122,0))","v":0},0,null,{"$f":"MAX(0,IF(Q122>0,Q122-('Výstupy modelu'!$H$10-'Výstupy modelu'!$H$9),0))","v":0},null,null,1865.4300000000003,1885.4300000000003,0,{"$f":"MAX(0,D122-'Vstupní hodnoty'!$C$5)","v":0}]
[null,"2017-01-02T06:00:00",1,1063.8000000000002,{"$f":"CEILING(IF(C123-C122=0,IF(H122=0,I122,IF(J122>K122,I122,E122)),'Výstupy modelu'!$C$7),1)","v":1664},0,0,{"$f":"IF(F123=1,IF(G123>'Zdrojová data'!$C$19,0,1),\"\")","v":""},1664,0,{"$f":"MIN(J123,'Zdrojová data'!$C$17)","v":0},0,{"$f":"L123/'Zdrojová data'!$C$16","v":0},{"$f":"M123*'Zdrojová data'!$C$13","v":0},{"$f":"N123*'Zdrojová data'!$C$14","v":0},0,{"$f":"IF(H123=0,D123-'Výstupy modelu'!$C$7,IF(P123=1,J123-K123,0))","v":0},0,null,{"$f":"MAX(0,IF(Q123>0,Q123-('Výstupy modelu'!$H$10-'Výstupy modelu'!$H$9),0))","v":0},null,null,1865.4300000000003,1885.4300000000003,0,{"$f":"MAX(0,D123-'Vstupní hodnoty'!$C$5)","v":0}]
[null,"2017-01-02T06:15:00",1,1211.76,{"$f":"CEILING(IF(C124-C123=0,IF(H123=0,I123,IF(J123>K123,I123,E123)),'Výstupy modelu'!$C$7),1)","v":1664},0,0,{"$f":"IF(F124=1,IF(G124>'Zdrojová data'!$C$19,0,1),\"\")","v":""},1664,0,{"$f":"MIN(J124,'Zdrojová data'!$C$17)","v":0},0,{"$f":"L124/'Zdrojová data'!$C$16","v":0},{"$f":"M124*'Zdrojová data'!$C$13","v":0},{"$f":"N124*'Zdrojová data'!$C$14","v":0},0,{"$f":"IF(H124=0,D124-'Výstupy modelu'!$C$7,IF(P124=1,J124-K124,0))","v":0},0,null,{"$f":"MAX(0,IF(Q124>0,Q124-('Výstupy modelu'!$H$10-'Výstupy modelu'!$H$9),0))","v":0},null,null,1865.4300000000003,1885.4300000000003,0,{"$f":"MAX(0,D124-'Vstupní hodnoty'!$C$5)","v":0}]
[null,"2017-01-02T06:30:00",1,1321.92,{"$f":"CEILING(IF(C125-C124=0,IF(H124=0,I124,IF(J124>K124,I124,E124)),'Výstupy modelu'!$C$7),1)","v":1664},0,0,{"$f":"IF(F125=1,IF(G125>'Zdrojová data'!$C$19,0,1),\"\")","v":""},1664,0,{"$f":"MIN(J125,'Zdrojová data'!$C$17)","v":0},0,{"$f":"L125/'Zdrojová data'!$C$16","v":0},{"$f":"M125*'Zdrojová data'!$C$13","v":0},{"$f":"N125*'Zdrojová data'!$C$14","v":0},0,{"$f":"IF(H125=0,D125-'Výstupy modelu'!$C$7,IF(P125=1,J125-K125,0))","v":0},0,null,{"$f":"MAX(0,IF(Q125>0,Q125-('Výstupy modelu'!$H$10-'Výstupy modelu'!$H$9),0))","v":0},null,null,1865.4300000000003,1885.4300000000003,0,{"$f":"MAX(0,D125-'Vstupní hodnoty'!$C$5)","v":0}]
[null,"2017-01-02T06:45:00",1,1424.52,{"$f":"CEILING(IF(C126-C125=0,IF(H125=0,I125,IF(J125>K125,I125,E125)),'Výstupy modelu'!$C$7),1)","v":1664},0,0,{"$f":"IF(F126=1,IF(G126>'Zdrojová data'!$C$19,0,1),\"\")","v":""},1664,0,{"$f":"MIN(J126,'Zdrojová data'!$C$17)","v":0},0,{"$f":"L126/'Zdrojová data'!$C$16","v":0},{"$f":"M126*'Zdrojová data'!$C$13","v":0},{"$f":"N126*'Zdrojová data'!$C$14","v":0},0,{"$f":"IF(H126=0,D126-'Výstupy modelu'!$C$7,IF(P126=1,J126-K126,0))","v":0},0,null,{"$f":"MAX(0,IF(Q126>0,Q126-('Výstupy modelu'!$H$10-'Výstupy modelu'!$H$9),0))","v":0},null,null,1865.4300000000003,1885.4300000000003,0,{"$f":"MAX(0,D126-'Vstupní hodnoty'!$C$5)","v":0}]
[null,"2017-01-02T07:00:00",1,1339.2,{"$f":"CEILING(IF(C127-C126=0,IF(H126=0,I126,IF(J126>K126,I126,E126)),'Výstupy modelu'!$C$7),1)","v":1664},0,0,{"$f":"IF(F127=1,IF(G127>'Zdrojová data'!$C$19,0,1),\"\")","v":""},1664,0,{"$f":"MIN(J127,'Zdrojová data'!$C$17)","v":0},0,{"$f":"L127/'Zdrojová data'!$C$16","v":0},{"$f":"M127*'Zdrojová data'!$C$13","v":0},{"$f":"N127*'Zdrojová data'!$C$14","v":0},0,{"$f":"IF(H127=0,D127-'Výstupy modelu'!$C$7,IF(P127=1,J127-K127,0))","v":0},0,null,{"$f":"MAX(0,IF(Q127>0,Q127-('Výstupy modelu'!$H$10-'Výstupy modelu'!$H$9),0))","v":0},null,null,1865.4300000000003,1885.4300000000003,0,{"$f":"MAX(0,D127-'Vstupní hodnoty'!$C$5)","v":0}]
[null,"2017-01-02T07:15:00",1,1381.3200000000002,{"$f":"CEILING(IF(C128-C127=0,IF(H127=0,I127,IF(J127>K127,I127,E127)),'Výstupy modelu'!$C$7),1)","v":1664},0,0,{"$f":"IF(F128=1,IF(G128>'Zdrojová data'!$C$19,0,1),\"\")","v":""},1664,0,{"$f":"MIN(J128,'Zdrojová data'!$C$17)","v":0},0,{"$f":"L128/'Zdrojová data'!$C$16","v":0},{"$f":"M128*'Zdrojová data'!$C$13","v":0},{"$f":"N128*'Zdrojová data'!$C$14","v":0},0,{"$f":"IF(H128=0,D128-'Výstupy modelu'!$C$7,IF(P128=1,J128-K128,0))","v":0},0,null,{"$f":"MAX(0,IF(Q128>0,Q128-('Výstupy modelu'!$H$10-'Výstupy modelu'!$H$9),0))","v":0},null,null,1865.4300000000003,1885.4300000000003,0,{"$f":"MAX(0,D128-'Vstupní hodnoty'!$C$5)","v":0}]
[null,"2017-01-02T07:30:00",1,1348.92,{"$f":"CEILING(IF(C129-C128=0,IF(H128=0,I128,IF(J128>K128,I128,E128)),'Výstupy modelu'!$C$7),1)","v":1664},0,0,{"$f":"IF(F129=1,IF(G129>'Zdrojová data'!$C$19,0,1),\"\")","v":""},1664,0,{"$f":"MIN(J129,'Zdrojová data'!$C$17)","v":0},0,{"$f":"L129/'Zdrojová data'!$C$16","v":0},{"$f":"M129*'Zdrojová data'!$C$13","v":0},{"$f":"N129*'Zdrojová data'!$C$14","v":0},0,{"$f":"IF(H129=0,D129-'Výstupy modelu'!$C$7,IF(P129=1,J129-K129,0))","v":0},0,null,{"$f":"MAX(0,IF(Q129>0,Q129-('Výstupy modelu'!$H$10-'Výstupy modelu'!$H$9),0))","v":0},null,null,1865.4300000000003,1885.4300000000003,0,{"$f":"MAX(0,D129-'Vstupní hodnoty'!$C$5)","v":0}]
[null,"2017-01-02T07:45:00",1,1387.8000000000002,{"$f":"CEILING(IF(C130-C129=0,IF(H129=0,I129,IF(J129>K129,I129,E129)),'Výstupy modelu'!$C$7),1)","v":1664},0,0,{"$f":"IF(F130=1,IF(G130>'Zdrojová data'!$C$19,0,1),\"\")","v":""},1664,0,{"$f":"MIN(J130,'Zdrojová data'!$C$17)","v":0},0,{"$f":"L130/'Zdrojová data'!$C$16","v":0},{"$f":"M130*'Zdrojová data'!$C$13","v":0},{"$f":"N130*'Zdrojová data'!$C$14","v":0},0,{"$f":"IF(H130=0,D130-'Výstupy modelu'!$C$7,IF(P130=1,J130-K130,0))","v":0},0,null,{"$f":"MAX(0,IF(Q130>0,Q130-('Výstupy modelu'!$H$10-'Výstupy modelu'!$H$9),0))","v":0},null,null,1865.4300000000003,1885.4300000000003,0,{"$f":"MAX(0,D130-'Vstupní hodnoty'!$C$5)","v":0}]
[null,"2017-01-02T08:00:00",1,1335.96,{"$f":"CEILING(IF(C131-C130=0,IF(H130=0,I130,IF(J130>K130,I130,E130)),'Výstupy modelu'!$C$7),1)","v":1664},0,0,{"$f":"IF(F131=1,IF(G131>'Zdrojová data'!$C$19,0,1),\"\")","v":""},1664,0,{"$f":"MIN(J131,'Zdrojová data'!$C$17)","v":0},0,{"$f":"L131/'Zdrojová data'!$C$16","v":0},{"$f":"M131*'Zdrojová data'!$C$13","v":0},{"$f":"N131*'Zdrojová data'!$C$14","v":0},0,{"$f":"IF(H131=0,D131-'Výstupy modelu'!$C$7,IF(P131=1,J131-K131,0))","v":0},0,null,{"$f":"MAX(0,IF(Q131>0,Q131-('Výstupy modelu'!$H$10-'Výstupy modelu'!$H$9),0))","v":0},null,null,1865.4300000000003,1885.4300000000003,0,{"$f":"MAX(0,D131-'Vstupní hodnoty'!$C$5)","v":0}]
[null,"2017-01-02T08:15:00",1,1317.6000000000001,{"$f":"CEILING(IF(C132-C131=0,IF(H131=0,I131,IF(J131>K131,I131,E131)),'Výstupy modelu'!$C$7),1)","v":1664},{"$f":"IF(D132>E132,1,0)","v":0},0,{"$f":"IF(F132=1,IF(G132>'Zdrojová data'!$C$19,0,1),\"\")","v":""},{"$f":"IF(H132=0,D132,IF(J132>K132,E132+J132-K132,E132))","v":1664},{"$f":"IF(H132=1,D132-E132,0)","v":0},{"$f":"MIN(J132,'Zdrojová data'!$C$17)","v":0},0,{"$f":"L132/'Zdrojová data'!$C$16","v":0},{"$f":"M132*'Zdrojová data'!$C$13","v":0},{"$f":"N132*'Zdrojová data'!$C$14","v":0},0,{"$f":"IF(H132=0,D132-'Výstupy modelu'!$C$7,IF(P132=1,J132-K132,0))","v":0},0,null,{"$f":"MAX(0,IF(Q132>0,Q132-('Výstupy modelu'!$H$10-'Výstupy modelu'!$H$9),0))","v":0},null,null,1865.4300000000003,1885.4300000000003,{"$f":"MAX(0,D132-W132)","v":0},{"$f":"MAX(0,D132-'Vstupní hodnoty'!$C$5)","v":0}]
[null,"2017-01-02T08:30:00",{"$f":"MONTH(B133)","v":1},1341.3600000000001,{"$f":"CEILING(IF(C133-C132=0,IF(H132=0,I132,IF(J132>K132,I132,E132)),'Výstupy modelu'!$C$7),1)","v":1664},0,{"$f":"IF(F133=1,RANDBETWEEN(0,100),0)","v":0},{"$f":"IF(F133=1,IF(G133>'Zdrojová data'!$C$19,0,1),\"\")","v":""},1664,0,{"$f":"MIN(J133,'Zdrojová data'!$C$17)","v":0},{"$f":"K133/4","v":0},{"$f":"L133/'Zdrojová data'!$C$16","v":0},{"$f":"M133*'Zdrojová data'!$C$13","v":0},{"$f":"N133*'Zdrojová data'!$C$14","v":0},{"$f":"IF(H133=0,1,IF(J133>K133,1,0))","v":0},{"$f":"IF(H133=0,D133-'Výstupy modelu'!$C$7,IF(P133=1,J133-K133,0))","v":0},{"$f":"IF(H133=0,1,IF(J133>K133,1,0))","v":0},null,{"$f":"MAX(0,IF(Q133>0,Q133-('Výstupy modelu'!$H$10-'Výstupy modelu'!$H$9),0))","v":0},null,null,1865.4300000000003,1885.4300000000003,0,{"$f":"MAX(0,D133-'Vstupní hodnoty'!$C$5)","v":0}]
[null,"2017-01-02T08:45:00",1,1354.3200000000002,{"$f":"CEILING(IF(C134-C133=0,IF(H133=0,I133,IF(J133>K133,I133,E133)),'Výstupy modelu'!$C$7),1)","v":1664},0,0,{"$f":"IF(F134=1,IF(G134>'Zdrojová data'!$C$19,0,1),\"\")","v":""},1664,0,{"$f":"MIN(J134,'Zdrojová data'!$C$17)","v":0},0,{"$f":"L134/'Zdrojová data'!$C$16","v":0},{"$f":"M134*'Zdrojová data'!$C$13","v":0},{"$f":"N134*'Zdrojová data'!$C$14","v":0},0,{"$f":"IF(H134=0,D134-'Výstupy modelu'!$C$7,IF(P134=1,J134-K134,0))","v":0},0,null,{"$f":"MAX(0,IF(Q134>0,Q134-('Výstupy modelu'!$H$10-'Výstupy modelu'!$H$9),0))","v":0},null,null,{"$f":"W133","v":1865.4300000000003},1885.4300000000003,0,{"$f":"MAX(0,D134-'Vstupní hodnoty'!$C$5)","v":0}]
[null,"2017-01-02T09:00:00",1,1373.76,{"$f":"CEILING(IF(C135-C134=0,IF(H134=0,I134,IF(J134>K134,I134,E134)),'Výstupy modelu'!$C$7),1)","v":1664},0,0,{"$f":"IF(F135=1,IF(G135>'Zdrojová data'!$C$19,0,1),\"\")","v":""},1664,0,{"$f":"MIN(J135,'Zdrojová data'!$C$17)","v":0},0,{"$f":"L135/'Zdrojová data'!$C$16","v":0},{"$f":"M135*'Zdrojová data'!$C$13","v":0},{"$f":"N135*'Zdrojová data'!$C$14","v":0},0,{"$f":"IF(H135=0,D135-'Výstupy modelu'!$C$7,IF(P135=1,J135-K135,0))","v":0},0,null,{"$f":"MAX(0,IF(Q135>0,Q135-('Výstupy modelu'!$H$10-'Výstupy modelu'!$H$9),0))","v":0},null,null,1865.4300000000003,1885.4300000000003,0,{"$f":"MAX(0,D135-'Vstupní hodnoty'!$C$5)","v":0}]
[null,"2017-01-02T09:15:00",1,1387.8000000000002,{"$f":"CEILING(IF(C136-C135=0,IF(H135=0,I135,IF(J135>K135,I135,E135)),'Výstupy modelu'!$C$7),1)","v":1664},0,0,{"$f":"IF(F136=1,IF(G136>'Zdrojová data'!$C$19,0,1),\"\")","v":""},1664,0,{"$f":"MIN(J136,'Zdrojová data'!$C$17)","v":0},0,{"$f":"L136/'Zdrojová data'!$C$16","v":0},{"$f":"M136*'Zdrojová data'!$C$13","v":0},{"$f":"N136*'Zdrojová data'!$C$14","v":0},0,{"$f":"IF(H136=0,D136-'Výstupy modelu'!$C$7,IF(P136=1,J136-K136,0))","v":0},0,null,{"$f":"MAX(0,IF(Q136>0,Q136-('Výstupy modelu'!$H$10-'Výstupy modelu'!$H$9),0))","v":0},null,null,1865.4300000000003,1885.4300000000003,0,{"$f":"MAX(0,D136-'Vstupní hodnoty'!$C$5)","v":0}]
[null,"2017-01-02T09:30:00",1,1382.4,{"$f":"CEILING(IF(C137-C136=0,IF(H136=0,I136,IF(J136>K136,I136,E136)),'Výstupy modelu'!$C$7),1)","v":1664},0,0,{"$f":"IF(F137=1,IF(G137>'Zdrojová data'!$C$19,0,1),\"\")","v":""},1664,0,{"$f":"MIN(J137,'Zdrojová data'!$C$17)","v":0},0,{"$f":"L137/'Zdrojová data'!$C$16","v":0},{"$f":"M137*'Zdrojová data'!$C$13","v":0},{"$f":"N137*'Zdrojová data'!$C$14","v":0},0,{"$f":"IF(H137=0,D137-'Výstupy modelu'!$C$7,IF(P137=1,J137-K137,0))","v":0},0,null,{"$f":"MAX(0,IF(Q137>0,Q137-('Výstupy modelu'!$H$10-'Výstupy modelu'!$H$9),0))","v":0},null,null,1865.4300000000003,1885.4300000000003,0,{"$f":"MAX(0,D137-'Vstupní hodnoty'!$C$5)","v":0}]
[null,"2017-01-02T09:45:00",1,1342.44,{"$f":"CEILING(IF(C138-C137=0,IF(H137=0,I137,IF(J137>K137,I137,E137)),'Výstupy modelu'!$C$7),1)","v":1664},0,0,{"$f":"IF(F138=1,IF(G138>'Zdrojová data'!$C$19,0,1),\"\")","v":""},1664,0,{"$f":"MIN(J138,'Zdrojová data'!$C$17)","v":0},0,{"$f":"L138/'Zdrojová data'!$C$16","v":0},{"$f":"M138*'Zdrojová data'!$C$13","v":0},{"$f":"N138*'Zdrojová data'!$C$14","v":0},0,{"$f":"IF(H138=0,D138-'Výstupy modelu'!$C$7,IF(P138=1,J138-K138,0))","v":0},0,null,{"$f":"MAX(0,IF(Q138>0,Q138-('Výstupy modelu'!$H$10-'Výstupy modelu'!$H$9),0))","v":0},null,null,1865.4300000000003,1885.4300000000003,0,{"$f":"MAX(0,D138-'Vstupní hodnoty'!$C$5)","v":0}]
[null,"2017-01-02T10:00:00",1,1315.44,{"$f":"CEILING(IF(C139-C138=0,IF(H138=0,I138,IF(J138>K138,I138,E138)),'Výstupy modelu'!$C$7),1)","v":1664},0,0,{"$f":"IF(F139=1,IF(G139>'Zdrojová data'!$C$19,0,1),\"\")","v":""},1664,0,{"$f":"MIN(J139,'Zdrojová data'!$C$17)","v":0},0,{"$f":"L139/'Zdrojová data'!$C$16","v":0},{"$f":"M139*'Zdrojová data'!$C$13","v":0},{"$f":"N139*'Zdrojová data'!$C$14","v":0},0,{"$f":"IF(H139=0,D139-'Výstupy modelu'!$C$7,IF(P139=1,J139-K139,0))","v":0},0,null,{"$f":"MAX(0,IF(Q139>0,Q139-('Výstupy modelu'!$H$10-'Výstupy modelu'!$H$9),0))","v":0},null,null,1865.4300000000003,1885.4300000000003,0,{"$f":"MAX(0,D139-'Vstupní hodnoty'!$C$5)","v":0}]
[null,"2017-01-02T10:15:00",1,1260.3600000000001,{"$f":"CEILING(IF(C140-C139=0,IF(H139=0,I139,IF(J139>K139,I139,E139)),'Výstupy modelu'!$C$7),1)","v":1664},0,0,{"$f":"IF(F140=1,IF(G140>'Zdrojová data'!$C$19,0,1),\"\")","v":""},1664,0,{"$f":"MIN(J140,'Zdrojová data'!$C$17)","v":0},0,{"$f":"L140/'Zdrojová data'!$C$16","v":0},{"$f":"M140*'Zdrojová data'!$C$13","v":0},{"$f":"N140*'Zdrojová data'!$C$14","v":0},0,{"$f":"IF(H140=0,D140-'Výstupy modelu'!$C$7,IF(P140=1,J140-K140,0))","v":0},0,null,{"$f":"MAX(0,IF(Q140>0,Q140-('Výstupy modelu'!$H$10-'Výstupy modelu'!$H$9),0))","v":0},null,null,1865.4300000000003,1885.4300000000003,0,{"$f":"MAX(0,D140-'Vstupní hodnoty'!$C$5)","v":0}]
[null,"2017-01-02T10:30:00",1,1345.68,{"$f":"CEILING(IF(C141-C140=0,IF(H140=0,I140,IF(J140>K140,I140,E140)),'Výstupy modelu'!$C$7),1)","v":1664},0,0,{"$f":"IF(F141=1,IF(G141>'Zdrojová data'!$C$19,0,1),\"\")","v":""},1664,0,{"$f":"MIN(J141,'Zdrojová data'!$C$17)","v":0},0,{"$f":"L141/'Zdrojová data'!$C$16","v":0},{"$f":"M141*'Zdrojová data'!$C$13","v":0},{"$f":"N141*'Zdrojová data'!$C$14","v":0},0,{"$f":"IF(H141=0,D141-'Výstupy modelu'!$C$7,IF(P141=1,J141-K141,0))","v":0},0,null,{"$f":"MAX(0,IF(Q141>0,Q141-('Výstupy modelu'!$H$10-'Výstupy modelu'!$H$9),0))","v":0},null,null,1865.4300000000003,1885.4300000000003,0,{"$f":"MAX(0,D141-'Vstupní hodnoty'!$C$5)","v":0}]
[null,"2017-01-02T10:45:00",1,1326.24,{"$f":"CEILING(IF(C142-C141=0,IF(H141=0,I141,IF(J141>K141,I141,E141)),'Výstupy modelu'!$C$7),1)","v":1664},0,0,{"$f":"IF(F142=1,IF(G142>'Zdrojová data'!$C$19,0,1),\"\")","v":""},1664,0,{"$f":"MIN(J142,'Zdrojová data'!$C$17)","v":0},0,{"$f":"L142/'Zdrojová data'!$C$16","v":0},{"$f":"M142*'Zdrojová data'!$C$13","v":0},{"$f":"N142*'Zdrojová data'!$C$14","v":0},0,{"$f":"IF(H142=0,D142-'Výstupy modelu'!$C$7,IF(P142=1,J142-K142,0))","v":0},0,null,{"$f":"MAX(0,IF(Q142>0,Q142-('Výstupy modelu'!$H$10-'Výstupy modelu'!$H$9),0))","v":0},null,null,1865.4300000000003,1885.4300000000003,0,{"$f":"MAX(0,D142-'Vstupní hodnoty'!$C$5)","v":0}]
[null,"2017-01-02T11:00:00",1,1348.92,{"$f":"CEILING(IF(C143-C142=0,IF(H142=0,I142,IF(J142>K142,I142,E142)),'Výstupy modelu'!$C$7),1)","v":1664},0,0,{"$f":"IF(F143=1,IF(G143>'Zdrojová data'!$C$19,0,1),\"\")","v":""},1664,0,{"$f":"MIN(J143,'Zdrojová data'!$C$17)","v":0},0,{"$f":"L143/'Zdrojová data'!$C$16","v":0},{"$f":"M143*'Zdrojová data'!$C$13","v":0},{"$f":"N143*'Zdrojová data'!$C$14","v":0},0,{"$f":"IF(H143=0,D143-'Výstupy modelu'!$C$7,IF(P143=1,J143-K143,0))","v":0},0,null,{"$f":"MAX(0,IF(Q143>0,Q143-('Výstupy modelu'!$H$10-'Výstupy modelu'!$H$9),0))","v":0},null,null,1865.4300000000003,1885.4300000000003,0,{"$f":"MAX(0,D143-'Vstupní hodnoty'!$C$5)","v":0}]
[null,"2017-01-02T11:15:00",1,1344.6000000000001,{"$f":"CEILING(IF(C144-C143=0,IF(H143=0,I143,IF(J143>K143,I143,E143)),'Výstupy modelu'!$C$7),1)","v":1664},0,0,{"$f":"IF(F144=1,IF(G144>'Zdrojová data'!$C$19,0,1),\"\")","v":""},1664,0,{"$f":"MIN(J144,'Zdrojová data'!$C$17)","v":0},0,{"$f":"L144/'Zdrojová data'!$C$16","v":0},{"$f":"M144*'Zdrojová data'!$C$13","v":0},{"$f":"N144*'Zdrojová data'!$C$14","v":0},0,{"$f":"IF(H144=0,D144-'Výstupy modelu'!$C$7,IF(P144=1,J144-K144,0))","v":0},0,null,{"$f":"MAX(0,IF(Q144>0,Q144-('Výstupy modelu'!$H$10-'Výstupy modelu'!$H$9),0))","v":0},null,null,1865.4300000000003,1885.4300000000003,0,{"$f":"MAX(0,D144-'Vstupní hodnoty'!$C$5)","v":0}]
[null,"2017-01-02T11:30:00",1,1269,{"$f":"CEILING(IF(C145-C144=0,IF(H144=0,I144,IF(J144>K144,I144,E144)),'Výstupy modelu'!$C$7),1)","v":1664},0,0,{"$f":"IF(F145=1,IF(G145>'Zdrojová data'!$C$19,0,1),\"\")","v":""},1664,0,{"$f":"MIN(J145,'Zdrojová data'!$C$17)","v":0},0,{"$f":"L145/'Zdrojová data'!$C$16","v":0},{"$f":"M145*'Zdrojová data'!$C$13","v":0},{"$f":"N145*'Zdrojová data'!$C$14","v":0},0,{"$f":"IF(H145=0,D145-'Výstupy modelu'!$C$7,IF(P145=1,J145-K145,0))","v":0},0,null,{"$f":"MAX(0,IF(Q145>0,Q145-('Výstupy modelu'!$H$10-'Výstupy modelu'!$H$9),0))","v":0},null,null,1865.4300000000003,1885.4300000000003,0,{"$f":"MAX(0,D145-'Vstupní hodnoty'!$C$5)","v":0}]
[null,"2017-01-02T11:45:00",1,1181.52,{"$f":"CEILING(IF(C146-C145=0,IF(H145=0,I145,IF(J145>K145,I145,E145)),'Výstupy modelu'!$C$7),1)","v":1664},0,0,{"$f":"IF(F146=1,IF(G146>'Zdrojová data'!$C$19,0,1),\"\")","v":""},1664,0,{"$f":"MIN(J146,'Zdrojová data'!$C$17)","v":0},0,{"$f":"L146/'Zdrojová data'!$C$16","v":0},{"$f":"M146*'Zdrojová data'!$C$13","v":0},{"$f":"N146*'Zdrojová data'!$C$14","v":0},0,{"$f":"IF(H146=0,D146-'Výstupy modelu'!$C$7,IF(P146=1,J146-K146,0))","v":0},0,null,{"$f":"MAX(0,IF(Q146>0,Q146-('Výstupy modelu'!$H$10-'Výstupy modelu'!$H$9),0))","v":0},null,null,1865.4300000000003,1885.4300000000003,0,{"$f":"MAX(0,D146-'Vstupní hodnoty'!$C$5)","v":0}]
[null,"2017-01-02T12:00:00",1,1129.68,{"$f":"CEILING(IF(C147-C146=0,IF(H146=0,I146,IF(J146>K146,I146,E146)),'Výstupy modelu'!$C$7),1)","v":1664},0,0,{"$f":"IF(F147=1,IF(G147>'Zdrojová data'!$C$19,0,1),\"\")","v":""},1664,0,{"$f":"MIN(J147,'Zdrojová data'!$C$17)","v":0},0,{"$f":"L147/'Zdrojová data'!$C$16","v":0},{"$f":"M147*'Zdrojová data'!$C$13","v":0},{"$f":"N147*'Zdrojová data'!$C$14","v":0},0,{"$f":"IF(H147=0,D147-'Výstupy modelu'!$C$7,IF(P147=1,J147-K147,0))","v":0},0,null,{"$f":"MAX(0,IF(Q147>0,Q147-('Výstupy modelu'!$H$10-'Výstupy modelu'!$H$9),0))","v":0},null,null,1865.4300000000003,1885.4300000000003,0,{"$f":"MAX(0,D147-'Vstupní hodnoty'!$C$5)","v":0}]
[null,"2017-01-02T12:15:00",1,1141.5600000000002,{"$f":"CEILING(IF(C148-C147=0,IF(H147=0,I147,IF(J147>K147,I147,E147)),'Výstupy modelu'!$C$7),1)","v":1664},0,0,{"$f":"IF(F148=1,IF(G148>'Zdrojová data'!$C$19,0,1),\"\")","v":""},1664,0,{"$f":"MIN(J148,'Zdrojová data'!$C$17)","v":0},0,{"$f":"L148/'Zdrojová data'!$C$16","v":0},{"$f":"M148*'Zdrojová data'!$C$13","v":0},{"$f":"N148*'Zdrojová data'!$C$14","v":0},0,{"$f":"IF(H148=0,D148-'Výstupy modelu'!$C$7,IF(P148=1,J148-K148,0))","v":0},0,null,{"$f":"MAX(0,IF(Q148>0,Q148-('Výstupy modelu'!$H$10-'Výstupy modelu'!$H$9),0))","v":0},null,null,1865.4300000000003,1885.4300000000003,0,{"$f":"MAX(0,D148-'Vstupní hodnoty'!$C$5)","v":0}]
[null,"2017-01-02T12:30:00",1,1256.0400000000002,{"$f":"CEILING(IF(C149-C148=0,IF(H148=0,I148,IF(J148>K148,I148,E148)),'Výstupy modelu'!$C$7),1)","v":1664},0,0,{"$f":"IF(F149=1,IF(G149>'Zdrojová data'!$C$19,0,1),\"\")","v":""},1664,0,{"$f":"MIN(J149,'Zdrojová data'!$C$17)","v":0},0,{"$f":"L149/'Zdrojová data'!$C$16","v":0},{"$f":"M149*'Zdrojová data'!$C$13","v":0},{"$f":"N149*'Zdrojová data'!$C$14","v":0},0,{"$f":"IF(H149=0,D149-'Výstupy modelu'!$C$7,IF(P149=1,J149-K149,0))","v":0},0,null,{"$f":"MAX(0,IF(Q149>0,Q149-('Výstupy modelu'!$H$10-'Výstupy modelu'!$H$9),0))","v":0},null,null,1865.4300000000003,1885.4300000000003,0,{"$f":"MAX(0,D149-'Vstupní hodnoty'!$C$5)","v":0}]
[null,"2017-01-02T12:45:00",1,1368.3600000000001,{"$f":"CEILING(IF(C150-C149=0,IF(H149=0,I149,IF(J149>K149,I149,E149)),'Výstupy modelu'!$C$7),1)","v":1664},0,0,{"$f":"IF(F150=1,IF(G150>'Zdrojová data'!$C$19,0,1),\"\")","v":""},1664,0,{"$f":"MIN(J150,'Zdrojová data'!$C$17)","v":0},0,{"$f":"L150/'Zdrojová data'!$C$16","v":0},{"$f":"M150*'Zdrojová data'!$C$13","v":0},{"$f":"N150*'Zdrojová data'!$C$14","v":0},0,{"$f":"IF(H150=0,D150-'Výstupy modelu'!$C$7,IF(P150=1,J150-K150,0))","v":0},0,null,{"$f":"MAX(0,IF(Q150>0,Q150-('Výstupy modelu'!$H$10-'Výstupy modelu'!$H$9),0))","v":0},null,null,1865.4300000000003,1885.4300000000003,0,{"$f":"MAX(0,D150-'Vstupní hodnoty'!$C$5)","v":0}]
[null,"2017-01-02T13:00:00",1,1379.16,{"$f":"CEILING(IF(C151-C150=0,IF(H150=0,I150,IF(J150>K150,I150,E150)),'Výstupy modelu'!$C$7),1)","v":1664},0,0,{"$f":"IF(F151=1,IF(G151>'Zdrojová data'!$C$19,0,1),\"\")","v":""},1664,0,{"$f":"MIN(J151,'Zdrojová data'!$C$17)","v":0},0,{"$f":"L151/'Zdrojová data'!$C$16","v":0},{"$f":"M151*'Zdrojová data'!$C$13","v":0},{"$f":"N151*'Zdrojová data'!$C$14","v":0},0,{"$f":"IF(H151=0,D151-'Výstupy modelu'!$C$7,IF(P151=1,J151-K151,0))","v":0},0,null,{"$f":"MAX(0,IF(Q151>0,Q151-('Výstupy modelu'!$H$10-'Výstupy modelu'!$H$9),0))","v":0},null,null,1865.4300000000003,1885.4300000000003,0,{"$f":"MAX(0,D151-'Vstupní hodnoty'!$C$5)","v":0}]
[null,"2017-01-02T13:15:00",1,1369.44,{"$f":"CEILING(IF(C152-C151=0,IF(H151=0,I151,IF(J151>K151,I151,E151)),'Výstupy modelu'!$C$7),1)","v":1664},0,0,{"$f":"IF(F152=1,IF(G152>'Zdrojová data'!$C$19,0,1),\"\")","v":""},1664,0,{"$f":"MIN(J152,'Zdrojová data'!$C$17)","v":0},0,{"$f":"L152/'Zdrojová data'!$C$16","v":0},{"$f":"M152*'Zdrojová data'!$C$13","v":0},{"$f":"N152*'Zdrojová data'!$C$14","v":0},0,{"$f":"IF(H152=0,D152-'Výstupy modelu'!$C$7,IF(P152=1,J152-K152,0))","v":0},0,null,{"$f":"MAX(0,IF(Q152>0,Q152-('Výstupy modelu'!$H$10-'Výstupy modelu'!$H$9),0))","v":0},null,null,1865.4300000000003,1885.4300000000003,0,{"$f":"MAX(0,D152-'Vstupní hodnoty'!$C$5)","v":0}]
[null,"2017-01-02T13:30:00",1,1345.68,{"$f":"CEILING(IF(C153-C152=0,IF(H152=0,I152,IF(J152>K152,I152,E152)),'Výstupy modelu'!$C$7),1)","v":1664},0,0,{"$f":"IF(F153=1,IF(G153>'Zdrojová data'!$C$19,0,1),\"\")","v":""},1664,0,{"$f":"MIN(J153,'Zdrojová data'!$C$17)","v":0},0,{"$f":"L153/'Zdrojová data'!$C$16","v":0},{"$f":"M153*'Zdrojová data'!$C$13","v":0},{"$f":"N153*'Zdrojová data'!$C$14","v":0},0,{"$f":"IF(H153=0,D153-'Výstupy modelu'!$C$7,IF(P153=1,J153-K153,0))","v":0},0,null,{"$f":"MAX(0,IF(Q153>0,Q153-('Výstupy modelu'!$H$10-'Výstupy modelu'!$H$9),0))","v":0},null,null,1865.4300000000003,1885.4300000000003,0,{"$f":"MAX(0,D153-'Vstupní hodnoty'!$C$5)","v":0}]
[null,"2017-01-02T13:45:00",1,1332.72,{"$f":"CEILING(IF(C154-C153=0,IF(H153=0,I153,IF(J153>K153,I153,E153)),'Výstupy modelu'!$C$7),1)","v":1664},0,0,{"$f":"IF(F154=1,IF(G154>'Zdrojová data'!$C$19,0,1),\"\")","v":""},1664,0,{"$f":"MIN(J154,'Zdrojová data'!$C$17)","v":0},0,{"$f":"L154/'Zdrojová data'!$C$16","v":0},{"$f":"M154*'Zdrojová data'!$C$13","v":0},{"$f":"N154*'Zdrojová data'!$C$14","v":0},0,{"$f":"IF(H154=0,D154-'Výstupy modelu'!$C$7,IF(P154=1,J154-K154,0))","v":0},0,null,{"$f":"MAX(0,IF(Q154>0,Q154-('Výstupy modelu'!$H$10-'Výstupy modelu'!$H$9),0))","v":0},null,null,1865.4300000000003,1885.4300000000003,0,{"$f":"MAX(0,D154-'Vstupní hodnoty'!$C$5)","v":0}]
[null,"2017-01-02T14:00:00",1,1210.68,{"$f":"CEILING(IF(C155-C154=0,IF(H154=0,I154,IF(J154>K154,I154,E154)),'Výstupy modelu'!$C$7),1)","v":1664},0,0,{"$f":"IF(F155=1,IF(G155>'Zdrojová data'!$C$19,0,1),\"\")","v":""},1664,0,{"$f":"MIN(J155,'Zdrojová data'!$C$17)","v":0},0,{"$f":"L155/'Zdrojová data'!$C$16","v":0},{"$f":"M155*'Zdrojová data'!$C$13","v":0},{"$f":"N155*'Zdrojová data'!$C$14","v":0},0,{"$f":"IF(H155=0,D155-'Výstupy modelu'!$C$7,IF(P155=1,J155-K155,0))","v":0},0,null,{"$f":"MAX(0,IF(Q155>0,Q155-('Výstupy modelu'!$H$10-'Výstupy modelu'!$H$9),0))","v":0},null,null,1865.4300000000003,1885.4300000000003,0,{"$f":"MAX(0,D155-'Vstupní hodnoty'!$C$5)","v":0}]
[null,"2017-01-02T14:15:00",1,1210.68,{"$f":"CEILING(IF(C156-C155=0,IF(H155=0,I155,IF(J155>K155,I155,E155)),'Výstupy modelu'!$C$7),1)","v":1664},0,0,{"$f":"IF(F156=1,IF(G156>'Zdrojová data'!$C$19,0,1),\"\")","v":""},1664,0,{"$f":"MIN(J156,'Zdrojová data'!$C$17)","v":0},0,{"$f":"L156/'Zdrojová data'!$C$16","v":0},{"$f":"M156*'Zdrojová data'!$C$13","v":0},{"$f":"N156*'Zdrojová data'!$C$14","v":0},0,{"$f":"IF(H156=0,D156-'Výstupy modelu'!$C$7,IF(P156=1,J156-K156,0))","v":0},0,null,{"$f":"MAX(0,IF(Q156>0,Q156-('Výstupy modelu'!$H$10-'Výstupy modelu'!$H$9),0))","v":0},null,null,1865.4300000000003,1885.4300000000003,0,{"$f":"MAX(0,D156-'Vstupní hodnoty'!$C$5)","v":0}]
[null,"2017-01-02T14:30:00",1,1114.5600000000002,{"$f":"CEILING(IF(C157-C156=0,IF(H156=0,I156,IF(J156>K156,I156,E156)),'Výstupy modelu'!$C$7),1)","v":1664},0,0,{"$f":"IF(F157=1,IF(G157>'Zdrojová data'!$C$19,0,1),\"\")","v":""},1664,0,{"$f":"MIN(J157,'Zdrojová data'!$C$17)","v":0},0,{"$f":"L157/'Zdrojová data'!$C$16","v":0},{"$f":"M157*'Zdrojová data'!$C$13","v":0},{"$f":"N157*'Zdrojová data'!$C$14","v":0},0,{"$f":"IF(H157=0,D157-'Výstupy modelu'!$C$7,IF(P157=1,J157-K157,0))","v":0},0,null,{"$f":"MAX(0,IF(Q157>0,Q157-('Výstupy modelu'!$H$10-'Výstupy modelu'!$H$9),0))","v":0},null,null,1865.4300000000003,1885.4300000000003,0,{"$f":"MAX(0,D157-'Vstupní hodnoty'!$C$5)","v":0}]
[null,"2017-01-02T14:45:00",1,1145.8800000000001,{"$f":"CEILING(IF(C158-C157=0,IF(H157=0,I157,IF(J157>K157,I157,E157)),'Výstupy modelu'!$C$7),1)","v":1664},0,0,{"$f":"IF(F158=1,IF(G158>'Zdrojová data'!$C$19,0,1),\"\")","v":""},1664,0,{"$f":"MIN(J158,'Zdrojová data'!$C$17)","v":0},0,{"$f":"L158/'Zdrojová data'!$C$16","v":0},{"$f":"M158*'Zdrojová data'!$C$13","v":0},{"$f":"N158*'Zdrojová data'!$C$14","v":0},0,{"$f":"IF(H158=0,D158-'Výstupy modelu'!$C$7,IF(P158=1,J158-K158,0))","v":0},0,null,{"$f":"MAX(0,IF(Q158>0,Q158-('Výstupy modelu'!$H$10-'Výstupy modelu'!$H$9),0))","v":0},null,null,1865.4300000000003,1885.4300000000003,0,{"$f":"MAX(0,D158-'Vstupní hodnoty'!$C$5)","v":0}]
[null,"2017-01-02T15:00:00",1,1082.1600000000001,{"$f":"CEILING(IF(C159-C158=0,IF(H158=0,I158,IF(J158>K158,I158,E158)),'Výstupy modelu'!$C$7),1)","v":1664},0,0,{"$f":"IF(F159=1,IF(G159>'Zdrojová data'!$C$19,0,1),\"\")","v":""},1664,0,{"$f":"MIN(J159,'Zdrojová data'!$C$17)","v":0},0,{"$f":"L159/'Zdrojová data'!$C$16","v":0},{"$f":"M159*'Zdrojová data'!$C$13","v":0},{"$f":"N159*'Zdrojová data'!$C$14","v":0},0,{"$f":"IF(H159=0,D159-'Výstupy modelu'!$C$7,IF(P159=1,J159-K159,0))","v":0},0,null,{"$f":"MAX(0,IF(Q159>0,Q159-('Výstupy modelu'!$H$10-'Výstupy modelu'!$H$9),0))","v":0},null,null,1865.4300000000003,1885.4300000000003,0,{"$f":"MAX(0,D159-'Vstupní hodnoty'!$C$5)","v":0}]
[null,"2017-01-02T15:15:00",1,1102.68,{"$f":"CEILING(IF(C160-C159=0,IF(H159=0,I159,IF(J159>K159,I159,E159)),'Výstupy modelu'!$C$7),1)","v":1664},0,0,{"$f":"IF(F160=1,IF(G160>'Zdrojová data'!$C$19,0,1),\"\")","v":""},1664,0,{"$f":"MIN(J160,'Zdrojová data'!$C$17)","v":0},0,{"$f":"L160/'Zdrojová data'!$C$16","v":0},{"$f":"M160*'Zdrojová data'!$C$13","v":0},{"$f":"N160*'Zdrojová data'!$C$14","v":0},0,{"$f":"IF(H160=0,D160-'Výstupy modelu'!$C$7,IF(P160=1,J160-K160,0))","v":0},0,null,{"$f":"MAX(0,IF(Q160>0,Q160-('Výstupy modelu'!$H$10-'Výstupy modelu'!$H$9),0))","v":0},null,null,1865.4300000000003,1885.4300000000003,0,{"$f":"MAX(0,D160-'Vstupní hodnoty'!$C$5)","v":0}]
[null,"2017-01-02T15:30:00",1,1043.28,{"$f":"CEILING(IF(C161-C160=0,IF(H160=0,I160,IF(J160>K160,I160,E160)),'Výstupy modelu'!$C$7),1)","v":1664},0,0,{"$f":"IF(F161=1,IF(G161>'Zdrojová data'!$C$19,0,1),\"\")","v":""},1664,0,{"$f":"MIN(J161,'Zdrojová data'!$C$17)","v":0},0,{"$f":"L161/'Zdrojová data'!$C$16","v":0},{"$f":"M161*'Zdrojová data'!$C$13","v":0},{"$f":"N161*'Zdrojová data'!$C$14","v":0},0,{"$f":"IF(H161=0,D161-'Výstupy modelu'!$C$7,IF(P161=1,J161-K161,0))","v":0},0,null,{"$f":"MAX(0,IF(Q161>0,Q161-('Výstupy modelu'!$H$10-'Výstupy modelu'!$H$9),0))","v":0},null,null,1865.4300000000003,1885.4300000000003,0,{"$f":"MAX(0,D161-'Vstupní hodnoty'!$C$5)","v":0}]
[null,"2017-01-02T15:45:00",1,1004.4000000000001,{"$f":"CEILING(IF(C162-C161=0,IF(H161=0,I161,IF(J161>K161,I161,E161)),'Výstupy modelu'!$C$7),1)","v":1664},0,0,{"$f":"IF(F162=1,IF(G162>'Zdrojová data'!$C$19,0,1),\"\")","v":""},1664,0,{"$f":"MIN(J162,'Zdrojová data'!$C$17)","v":0},0,{"$f":"L162/'Zdrojová data'!$C$16","v":0},{"$f":"M162*'Zdrojová data'!$C$13","v":0},{"$f":"N162*'Zdrojová data'!$C$14","v":0},0,{"$f":"IF(H162=0,D162-'Výstupy modelu'!$C$7,IF(P162=1,J162-K162,0))","v":0},0,null,{"$f":"MAX(0,IF(Q162>0,Q162-('Výstupy modelu'!$H$10-'Výstupy modelu'!$H$9),0))","v":0},null,null,1865.4300000000003,1885.4300000000003,0,{"$f":"MAX(0,D162-'Vstupní hodnoty'!$C$5)","v":0}]
[null,"2017-01-02T16:00:00",1,913.68000000000006,{"$f":"CEILING(IF(C163-C162=0,IF(H162=0,I162,IF(J162>K162,I162,E162)),'Výstupy modelu'!$C$7),1)","v":1664},0,0,{"$f":"IF(F163=1,IF(G163>'Zdrojová data'!$C$19,0,1),\"\")","v":""},1664,0,{"$f":"MIN(J163,'Zdrojová data'!$C$17)","v":0},0,{"$f":"L163/'Zdrojová data'!$C$16","v":0},{"$f":"M163*'Zdrojová data'!$C$13","v":0},{"$f":"N163*'Zdrojová data'!$C$14","v":0},0,{"$f":"IF(H163=0,D163-'Výstupy modelu'!$C$7,IF(P163=1,J163-K163,0))","v":0},0,null,{"$f":"MAX(0,IF(Q163>0,Q163-('Výstupy modelu'!$H$10-'Výstupy modelu'!$H$9),0))","v":0},null,null,1865.4300000000003,1885.4300000000003,0,{"$f":"MAX(0,D163-'Vstupní hodnoty'!$C$5)","v":0}]
[null,"2017-01-02T16:15:00",1,994.68000000000006,{"$f":"CEILING(IF(C164-C163=0,IF(H163=0,I163,IF(J163>K163,I163,E163)),'Výstupy modelu'!$C$7),1)","v":1664},0,0,{"$f":"IF(F164=1,IF(G164>'Zdrojová data'!$C$19,0,1),\"\")","v":""},1664,0,{"$f":"MIN(J164,'Zdrojová data'!$C$17)","v":0},0,{"$f":"L164/'Zdrojová data'!$C$16","v":0},{"$f":"M164*'Zdrojová data'!$C$13","v":0},{"$f":"N164*'Zdrojová data'!$C$14","v":0},0,{"$f":"IF(H164=0,D164-'Výstupy modelu'!$C$7,IF(P164=1,J164-K164,0))","v":0},0,null,{"$f":"MAX(0,IF(Q164>0,Q164-('Výstupy modelu'!$H$10-'Výstupy modelu'!$H$9),0))","v":0},null,null,1865.4300000000003,1885.4300000000003,0,{"$f":"MAX(0,D164-'Vstupní hodnoty'!$C$5)","v":0}]
[null,"2017-01-02T16:30:00",1,1026,{"$f":"CEILING(IF(C165-C164=0,IF(H164=0,I164,IF(J164>K164,I164,E164)),'Výstupy modelu'!$C$7),1)","v":1664},0,0,{"$f":"IF(F165=1,IF(G165>'Zdrojová data'!$C$19,0,1),\"\")","v":""},1664,0,{"$f":"MIN(J165,'Zdrojová data'!$C$17)","v":0},0,{"$f":"L165/'Zdrojová data'!$C$16","v":0},{"$f":"M165*'Zdrojová data'!$C$13","v":0},{"$f":"N165*'Zdrojová data'!$C$14","v":0},0,{"$f":"IF(H165=0,D165-'Výstupy modelu'!$C$7,IF(P165=1,J165-K165,0))","v":0},0,null,{"$f":"MAX(0,IF(Q165>0,Q165-('Výstupy modelu'!$H$10-'Výstupy modelu'!$H$9),0))","v":0},null,null,1865.4300000000003,1885.4300000000003,0,{"$f":"MAX(0,D165-'Vstupní hodnoty'!$C$5)","v":0}]
[null,"2017-01-02T16:45:00",1,1019.5200000000001,{"$f":"CEILING(IF(C166-C165=0,IF(H165=0,I165,IF(J165>K165,I165,E165)),'Výstupy modelu'!$C$7),1)","v":1664},0,0,{"$f":"IF(F166=1,IF(G166>'Zdrojová data'!$C$19,0,1),\"\")","v":""},1664,0,{"$f":"MIN(J166,'Zdrojová data'!$C$17)","v":0},0,{"$f":"L166/'Zdrojová data'!$C$16","v":0},{"$f":"M166*'Zdrojová data'!$C$13","v":0},{"$f":"N166*'Zdrojová data'!$C$14","v":0},0,{"$f":"IF(H166=0,D166-'Výstupy modelu'!$C$7,IF(P166=1,J166-K166,0))","v":0},0,null,{"$f":"MAX(0,IF(Q166>0,Q166-('Výstupy modelu'!$H$10-'Výstupy modelu'!$H$9),0))","v":0},null,null,1865.4300000000003,1885.4300000000003,0,{"$f":"MAX(0,D166-'Vstupní hodnoty'!$C$5)","v":0}]
[null,"2017-01-02T17:00:00",1,987.12000000000012,{"$f":"CEILING(IF(C167-C166=0,IF(H166=0,I166,IF(J166>K166,I166,E166)),'Výstupy modelu'!$C$7),1)","v":1664},0,0,{"$f":"IF(F167=1,IF(G167>'Zdrojová data'!$C$19,0,1),\"\")","v":""},1664,0,{"$f":"MIN(J167,'Zdrojová data'!$C$17)","v":0},0,{"$f":"L167/'Zdrojová data'!$C$16","v":0},{"$f":"M167*'Zdrojová data'!$C$13","v":0},{"$f":"N167*'Zdrojová data'!$C$14","v":0},0,{"$f":"IF(H167=0,D167-'Výstupy modelu'!$C$7,IF(P167=1,J167-K167,0))","v":0},0,null,{"$f":"MAX(0,IF(Q167>0,Q167-('Výstupy modelu'!$H$10-'Výstupy modelu'!$H$9),0))","v":0},null,null,1865.4300000000003,1885.4300000000003,0,{"$f":"MAX(0,D167-'Vstupní hodnoty'!$C$5)","v":0}]
[null,"2017-01-02T17:15:00",1,976.32,{"$f":"CEILING(IF(C168-C167=0,IF(H167=0,I167,IF(J167>K167,I167,E167)),'Výstupy modelu'!$C$7),1)","v":1664},0,0,{"$f":"IF(F168=1,IF(G168>'Zdrojová data'!$C$19,0,1),\"\")","v":""},1664,0,{"$f":"MIN(J168,'Zdrojová data'!$C$17)","v":0},0,{"$f":"L168/'Zdrojová data'!$C$16","v":0},{"$f":"M168*'Zdrojová data'!$C$13","v":0},{"$f":"N168*'Zdrojová data'!$C$14","v":0},0,{"$f":"IF(H168=0,D168-'Výstupy modelu'!$C$7,IF(P168=1,J168-K168,0))","v":0},0,null,{"$f":"MAX(0,IF(Q168>0,Q168-('Výstupy modelu'!$H$10-'Výstupy modelu'!$H$9),0))","v":0},null,null,1865.4300000000003,1885.4300000000003,0,{"$f":"MAX(0,D168-'Vstupní hodnoty'!$C$5)","v":0}]
[null,"2017-01-02T17:30:00",1,942.84,{"$f":"CEILING(IF(C169-C168=0,IF(H168=0,I168,IF(J168>K168,I168,E168)),'Výstupy modelu'!$C$7),1)","v":1664},0,0,{"$f":"IF(F169=1,IF(G169>'Zdrojová data'!$C$19,0,1),\"\")","v":""},1664,0,{"$f":"MIN(J169,'Zdrojová data'!$C$17)","v":0},0,{"$f":"L169/'Zdrojová data'!$C$16","v":0},{"$f":"M169*'Zdrojová data'!$C$13","v":0},{"$f":"N169*'Zdrojová data'!$C$14","v":0},0,{"$f":"IF(H169=0,D169-'Výstupy modelu'!$C$7,IF(P169=1,J169-K169,0))","v":0},0,null,{"$f":"MAX(0,IF(Q169>0,Q169-('Výstupy modelu'!$H$10-'Výstupy modelu'!$H$9),0))","v":0},null,null,1865.4300000000003,1885.4300000000003,0,{"$f":"MAX(0,D169-'Vstupní hodnoty'!$C$5)","v":0}]
[null,"2017-01-02T17:45:00",1,801.36,{"$f":"CEILING(IF(C170-C169=0,IF(H169=0,I169,IF(J169>K169,I169,E169)),'Výstupy modelu'!$C$7),1)","v":1664},0,0,{"$f":"IF(F170=1,IF(G170>'Zdrojová data'!$C$19,0,1),\"\")","v":""},1664,0,{"$f":"MIN(J170,'Zdrojová data'!$C$17)","v":0},0,{"$f":"L170/'Zdrojová data'!$C$16","v":0},{"$f":"M170*'Zdrojová data'!$C$13","v":0},{"$f":"N170*'Zdrojová data'!$C$14","v":0},0,{"$f":"IF(H170=0,D170-'Výstupy modelu'!$C$7,IF(P170=1,J170-K170,0))","v":0},0,null,{"$f":"MAX(0,IF(Q170>0,Q170-('Výstupy modelu'!$H$10-'Výstupy modelu'!$H$9),0))","v":0},null,null,1865.4300000000003,1885.4300000000003,0,{"$f":"MAX(0,D170-'Vstupní hodnoty'!$C$5)","v":0}]
[null,"2017-01-02T18:00:00",1,800.28000000000009,{"$f":"CEILING(IF(C171-C170=0,IF(H170=0,I170,IF(J170>K170,I170,E170)),'Výstupy modelu'!$C$7),1)","v":1664},0,0,{"$f":"IF(F171=1,IF(G171>'Zdrojová data'!$C$19,0,1),\"\")","v":""},1664,0,{"$f":"MIN(J171,'Zdrojová data'!$C$17)","v":0},0,{"$f":"L171/'Zdrojová data'!$C$16","v":0},{"$f":"M171*'Zdrojová data'!$C$13","v":0},{"$f":"N171*'Zdrojová data'!$C$14","v":0},0,{"$f":"IF(H171=0,D171-'Výstupy modelu'!$C$7,IF(P171=1,J171-K171,0))","v":0},0,null,{"$f":"MAX(0,IF(Q171>0,Q171-('Výstupy modelu'!$H$10-'Výstupy modelu'!$H$9),0))","v":0},null,null,1865.4300000000003,1885.4300000000003,0,{"$f":"MAX(0,D171-'Vstupní hodnoty'!$C$5)","v":0}]
[null,"2017-01-02T18:15:00",1,838.08,{"$f":"CEILING(IF(C172-C171=0,IF(H171=0,I171,IF(J171>K171,I171,E171)),'Výstupy modelu'!$C$7),1)","v":1664},0,0,{"$f":"IF(F172=1,IF(G172>'Zdrojová data'!$C$19,0,1),\"\")","v":""},1664,0,{"$f":"MIN(J172,'Zdrojová data'!$C$17)","v":0},0,{"$f":"L172/'Zdrojová data'!$C$16","v":0},{"$f":"M172*'Zdrojová data'!$C$13","v":0},{"$f":"N172*'Zdrojová data'!$C$14","v":0},0,{"$f":"IF(H172=0,D172-'Výstupy modelu'!$C$7,IF(P172=1,J172-K172,0))","v":0},0,null,{"$f":"MAX(0,IF(Q172>0,Q172-('Výstupy modelu'!$H$10-'Výstupy modelu'!$H$9),0))","v":0},null,null,1865.4300000000003,1885.4300000000003,0,{"$f":"MAX(0,D172-'Vstupní hodnoty'!$C$5)","v":0}]
[null,"2017-01-02T18:30:00",1,901.80000000000007,{"$f":"CEILING(IF(C173-C172=0,IF(H172=0,I172,IF(J172>K172,I172,E172)),'Výstupy modelu'!$C$7),1)","v":1664},0,0,{"$f":"IF(F173=1,IF(G173>'Zdrojová data'!$C$19,0,1),\"\")","v":""},1664,0,{"$f":"MIN(J173,'Zdrojová data'!$C$17)","v":0},0,{"$f":"L173/'Zdrojová data'!$C$16","v":0},{"$f":"M173*'Zdrojová data'!$C$13","v":0},{"$f":"N173*'Zdrojová data'!$C$14","v":0},0,{"$f":"IF(H173=0,D173-'Výstupy modelu'!$C$7,IF(P173=1,J173-K173,0))","v":0},0,null,{"$f":"MAX(0,IF(Q173>0,Q173-('Výstupy modelu'!$H$10-'Výstupy modelu'!$H$9),0))","v":0},null,null,1865.4300000000003,1885.4300000000003,0,{"$f":"MAX(0,D173-'Vstupní hodnoty'!$C$5)","v":0}]
[null,"2017-01-02T18:45:00",1,893.16000000000008,{"$f":"CEILING(IF(C174-C173=0,IF(H173=0,I173,IF(J173>K173,I173,E173)),'Výstupy modelu'!$C$7),1)","v":1664},0,0,{"$f":"IF(F174=1,IF(G174>'Zdrojová data'!$C$19,0,1),\"\")","v":""},1664,0,{"$f":"MIN(J174,'Zdrojová data'!$C$17)","v":0},0,{"$f":"L174/'Zdrojová data'!$C$16","v":0},{"$f":"M174*'Zdrojová data'!$C$13","v":0},{"$f":"N174*'Zdrojová data'!$C$14","v":0},0,{"$f":"IF(H174=0,D174-'Výstupy modelu'!$C$7,IF(P174=1,J174-K174,0))","v":0},0,null,{"$f":"MAX(0,IF(Q174>0,Q174-('Výstupy modelu'!$H$10-'Výstupy modelu'!$H$9),0))","v":0},null,null,1865.4300000000003,1885.4300000000003,0,{"$f":"MAX(0,D174-'Vstupní hodnoty'!$C$5)","v":0}]
[null,"2017-01-02T19:00:00",1,899.6400000000001,{"$f":"CEILING(IF(C175-C174=0,IF(H174=0,I174,IF(J174>K174,I174,E174)),'Výstupy modelu'!$C$7),1)","v":1664},0,0,{"$f":"IF(F175=1,IF(G175>'Zdrojová data'!$C$19,0,1),\"\")","v":""},1664,0,{"$f":"MIN(J175,'Zdrojová data'!$C$17)","v":0},0,{"$f":"L175/'Zdrojová data'!$C$16","v":0},{"$f":"M175*'Zdrojová data'!$C$13","v":0},{"$f":"N175*'Zdrojová data'!$C$14","v":0},0,{"$f":"IF(H175=0,D175-'Výstupy modelu'!$C$7,IF(P175=1,J175-K175,0))","v":0},0,null,{"$f":"MAX(0,IF(Q175>0,Q175-('Výstupy modelu'!$H$10-'Výstupy modelu'!$H$9),0))","v":0},null,null,1865.4300000000003,1885.4300000000003,0,{"$f":"MAX(0,D175-'Vstupní hodnoty'!$C$5)","v":0}]
[null,"2017-01-02T19:15:00",1,902.88000000000011,{"$f":"CEILING(IF(C176-C175=0,IF(H175=0,I175,IF(J175>K175,I175,E175)),'Výstupy modelu'!$C$7),1)","v":1664},0,0,{"$f":"IF(F176=1,IF(G176>'Zdrojová data'!$C$19,0,1),\"\")","v":""},1664,0,{"$f":"MIN(J176,'Zdrojová data'!$C$17)","v":0},0,{"$f":"L176/'Zdrojová data'!$C$16","v":0},{"$f":"M176*'Zdrojová data'!$C$13","v":0},{"$f":"N176*'Zdrojová data'!$C$14","v":0},0,{"$f":"IF(H176=0,D176-'Výstupy modelu'!$C$7,IF(P176=1,J176-K176,0))","v":0},0,null,{"$f":"MAX(0,IF(Q176>0,Q176-('Výstupy modelu'!$H$10-'Výstupy modelu'!$H$9),0))","v":0},null,null,1865.4300000000003,1885.4300000000003,0,{"$f":"MAX(0,D176-'Vstupní hodnoty'!$C$5)","v":0}]
[null,"2017-01-02T19:30:00",1,894.24,{"$f":"CEILING(IF(C177-C176=0,IF(H176=0,I176,IF(J176>K176,I176,E176)),'Výstupy modelu'!$C$7),1)","v":1664},0,0,{"$f":"IF(F177=1,IF(G177>'Zdrojová data'!$C$19,0,1),\"\")","v":""},1664,0,{"$f":"MIN(J177,'Zdrojová data'!$C$17)","v":0},0,{"$f":"L177/'Zdrojová data'!$C$16","v":0},{"$f":"M177*'Zdrojová data'!$C$13","v":0},{"$f":"N177*'Zdrojová data'!$C$14","v":0},0,{"$f":"IF(H177=0,D177-'Výstupy modelu'!$C$7,IF(P177=1,J177-K177,0))","v":0},0,null,{"$f":"MAX(0,IF(Q177>0,Q177-('Výstupy modelu'!$H$10-'Výstupy modelu'!$H$9),0))","v":0},null,null,1865.4300000000003,1885.4300000000003,0,{"$f":"MAX(0,D177-'Vstupní hodnoty'!$C$5)","v":0}]
[null,"2017-01-02T19:45:00",1,889.92000000000007,{"$f":"CEILING(IF(C178-C177=0,IF(H177=0,I177,IF(J177>K177,I177,E177)),'Výstupy modelu'!$C$7),1)","v":1664},0,0,{"$f":"IF(F178=1,IF(G178>'Zdrojová data'!$C$19,0,1),\"\")","v":""},1664,0,{"$f":"MIN(J178,'Zdrojová data'!$C$17)","v":0},0,{"$f":"L178/'Zdrojová data'!$C$16","v":0},{"$f":"M178*'Zdrojová data'!$C$13","v":0},{"$f":"N178*'Zdrojová data'!$C$14","v":0},0,{"$f":"IF(H178=0,D178-'Výstupy modelu'!$C$7,IF(P178=1,J178-K178,0))","v":0},0,null,{"$f":"MAX(0,IF(Q178>0,Q178-('Výstupy modelu'!$H$10-'Výstupy modelu'!$H$9),0))","v":0},null,null,1865.4300000000003,1885.4300000000003,0,{"$f":"MAX(0,D178-'Vstupní hodnoty'!$C$5)","v":0}]
[null,"2017-01-02T20:00:00",1,855.36,{"$f":"CEILING(IF(C179-C178=0,IF(H178=0,I178,IF(J178>K178,I178,E178)),'Výstupy modelu'!$C$7),1)","v":1664},0,0,{"$f":"IF(F179=1,IF(G179>'Zdrojová data'!$C$19,0,1),\"\")","v":""},1664,0,{"$f":"MIN(J179,'Zdrojová data'!$C$17)","v":0},0,{"$f":"L179/'Zdrojová data'!$C$16","v":0},{"$f":"M179*'Zdrojová data'!$C$13","v":0},{"$f":"N179*'Zdrojová data'!$C$14","v":0},0,{"$f":"IF(H179=0,D179-'Výstupy modelu'!$C$7,IF(P179=1,J179-K179,0))","v":0},0,null,{"$f":"MAX(0,IF(Q179>0,Q179-('Výstupy modelu'!$H$10-'Výstupy modelu'!$H$9),0))","v":0},null,null,1865.4300000000003,1885.4300000000003,0,{"$f":"MAX(0,D179-'Vstupní hodnoty'!$C$5)","v":0}]
[null,"2017-01-02T20:15:00",1,778.68000000000006,{"$f":"CEILING(IF(C180-C179=0,IF(H179=0,I179,IF(J179>K179,I179,E179)),'Výstupy modelu'!$C$7),1)","v":1664},0,0,{"$f":"IF(F180=1,IF(G180>'Zdrojová data'!$C$19,0,1),\"\")","v":""},1664,0,{"$f":"MIN(J180,'Zdrojová data'!$C$17)","v":0},0,{"$f":"L180/'Zdrojová data'!$C$16","v":0},{"$f":"M180*'Zdrojová data'!$C$13","v":0},{"$f":"N180*'Zdrojová data'!$C$14","v":0},0,{"$f":"IF(H180=0,D180-'Výstupy modelu'!$C$7,IF(P180=1,J180-K180,0))","v":0},0,null,{"$f":"MAX(0,IF(Q180>0,Q180-('Výstupy modelu'!$H$10-'Výstupy modelu'!$H$9),0))","v":0},null,null,1865.4300000000003,1885.4300000000003,0,{"$f":"MAX(0,D180-'Vstupní hodnoty'!$C$5)","v":0}]
[null,"2017-01-02T20:30:00",1,859.68000000000006,{"$f":"CEILING(IF(C181-C180=0,IF(H180=0,I180,IF(J180>K180,I180,E180)),'Výstupy modelu'!$C$7),1)","v":1664},0,0,{"$f":"IF(F181=1,IF(G181>'Zdrojová data'!$C$19,0,1),\"\")","v":""},1664,0,{"$f":"MIN(J181,'Zdrojová data'!$C$17)","v":0},0,{"$f":"L181/'Zdrojová data'!$C$16","v":0},{"$f":"M181*'Zdrojová data'!$C$13","v":0},{"$f":"N181*'Zdrojová data'!$C$14","v":0},0,{"$f":"IF(H181=0,D181-'Výstupy modelu'!$C$7,IF(P181=1,J181-K181,0))","v":0},0,null,{"$f":"MAX(0,IF(Q181>0,Q181-('Výstupy modelu'!$H$10-'Výstupy modelu'!$H$9),0))","v":0},null,null,1865.4300000000003,1885.4300000000003,0,{"$f":"MAX(0,D181-'Vstupní hodnoty'!$C$5)","v":0}]
[null,"2017-01-02T20:45:00",1,851.04000000000008,{"$f":"CEILING(IF(C182-C181=0,IF(H181=0,I181,IF(J181>K181,I181,E181)),'Výstupy modelu'!$C$7),1)","v":1664},0,0,{"$f":"IF(F182=1,IF(G182>'Zdrojová data'!$C$19,0,1),\"\")","v":""},1664,0,{"$f":"MIN(J182,'Zdrojová data'!$C$17)","v":0},0,{"$f":"L182/'Zdrojová data'!$C$16","v":0},{"$f":"M182*'Zdrojová data'!$C$13","v":0},{"$f":"N182*'Zdrojová data'!$C$14","v":0},0,{"$f":"IF(H182=0,D182-'Výstupy modelu'!$C$7,IF(P182=1,J182-K182,0))","v":0},0,null,{"$f":"MAX(0,IF(Q182>0,Q182-('Výstupy modelu'!$H$10-'Výstupy modelu'!$H$9),0))","v":0},null,null,1865.4300000000003,1885.4300000000003,0,{"$f":"MAX(0,D182-'Vstupní hodnoty'!$C$5)","v":0}]
[null,"2017-01-02T21:00:00",1,830.5200000000001,{"$f":"CEILING(IF(C183-C182=0,IF(H182=0,I182,IF(J182>K182,I182,E182)),'Výstupy modelu'!$C$7),1)","v":1664},0,0,{"$f":"IF(F183=1,IF(G183>'Zdrojová data'!$C$19,0,1),\"\")","v":""},1664,0,{"$f":"MIN(J183,'Zdrojová data'!$C$17)","v":0},0,{"$f":"L183/'Zdrojová data'!$C$16","v":0},{"$f":"M183*'Zdrojová data'!$C$13","v":0},{"$f":"N183*'Zdrojová data'!$C$14","v":0},0,{"$f":"IF(H183=0,D183-'Výstupy modelu'!$C$7,IF(P183=1,J183-K183,0))","v":0},0,null,{"$f":"MAX(0,IF(Q183>0,Q183-('Výstupy modelu'!$H$10-'Výstupy modelu'!$H$9),0))","v":0},null,null,1865.4300000000003,1885.4300000000003,0,{"$f":"MAX(0,D183-'Vstupní hodnoty'!$C$5)","v":0}]
[null,"2017-01-02T21:15:00",1,746.28000000000009,{"$f":"CEILING(IF(C184-C183=0,IF(H183=0,I183,IF(J183>K183,I183,E183)),'Výstupy modelu'!$C$7),1)","v":1664},0,0,{"$f":"IF(F184=1,IF(G184>'Zdrojová data'!$C$19,0,1),\"\")","v":""},1664,0,{"$f":"MIN(J184,'Zdrojová data'!$C$17)","v":0},0,{"$f":"L184/'Zdrojová data'!$C$16","v":0},{"$f":"M184*'Zdrojová data'!$C$13","v":0},{"$f":"N184*'Zdrojová data'!$C$14","v":0},0,{"$f":"IF(H184=0,D184-'Výstupy modelu'!$C$7,IF(P184=1,J184-K184,0))","v":0},0,null,{"$f":"MAX(0,IF(Q184>0,Q184-('Výstupy modelu'!$H$10-'Výstupy modelu'!$H$9),0))","v":0},null,null,1865.4300000000003,1885.4300000000003,0,{"$f":"MAX(0,D184-'Vstupní hodnoty'!$C$5)","v":0}]
[null,"2017-01-02T21:30:00",1,714.96,{"$f":"CEILING(IF(C185-C184=0,IF(H184=0,I184,IF(J184>K184,I184,E184)),'Výstupy modelu'!$C$7),1)","v":1664},0,0,{"$f":"IF(F185=1,IF(G185>'Zdrojová data'!$C$19,0,1),\"\")","v":""},1664,0,{"$f":"MIN(J185,'Zdrojová data'!$C$17)","v":0},0,{"$f":"L185/'Zdrojová data'!$C$16","v":0},{"$f":"M185*'Zdrojová data'!$C$13","v":0},{"$f":"N185*'Zdrojová data'!$C$14","v":0},0,{"$f":"IF(H185=0,D185-'Výstupy modelu'!$C$7,IF(P185=1,J185-K185,0))","v":0},0,null,{"$f":"MAX(0,IF(Q185>0,Q185-('Výstupy modelu'!$H$10-'Výstupy modelu'!$H$9),0))","v":0},null,null,1865.4300000000003,1885.4300000000003,0,{"$f":"MAX(0,D185-'Vstupní hodnoty'!$C$5)","v":0}]
[null,"2017-01-02T21:45:00",1,637.20000000000005,{"$f":"CEILING(IF(C186-C185=0,IF(H185=0,I185,IF(J185>K185,I185,E185)),'Výstupy modelu'!$C$7),1)","v":1664},0,0,{"$f":"IF(F186=1,IF(G186>'Zdrojová data'!$C$19,0,1),\"\")","v":""},1664,0,{"$f":"MIN(J186,'Zdrojová data'!$C$17)","v":0},0,{"$f":"L186/'Zdrojová data'!$C$16","v":0},{"$f":"M186*'Zdrojová data'!$C$13","v":0},{"$f":"N186*'Zdrojová data'!$C$14","v":0},0,{"$f":"IF(H186=0,D186-'Výstupy modelu'!$C$7,IF(P186=1,J186-K186,0))","v":0},0,null,{"$f":"MAX(0,IF(Q186>0,Q186-('Výstupy modelu'!$H$10-'Výstupy modelu'!$H$9),0))","v":0},null,null,1865.4300000000003,1885.4300000000003,0,{"$f":"MAX(0,D186-'Vstupní hodnoty'!$C$5)","v":0}]
[null,"2017-01-02T22:00:00",1,573.48,{"$f":"CEILING(IF(C187-C186=0,IF(H186=0,I186,IF(J186>K186,I186,E186)),'Výstupy modelu'!$C$7),1)","v":1664},0,0,{"$f":"IF(F187=1,IF(G187>'Zdrojová data'!$C$19,0,1),\"\")","v":""},1664,0,{"$f":"MIN(J187,'Zdrojová data'!$C$17)","v":0},0,{"$f":"L187/'Zdrojová data'!$C$16","v":0},{"$f":"M187*'Zdrojová data'!$C$13","v":0},{"$f":"N187*'Zdrojová data'!$C$14","v":0},0,{"$f":"IF(H187=0,D187-'Výstupy modelu'!$C$7,IF(P187=1,J187-K187,0))","v":0},0,null,{"$f":"MAX(0,IF(Q187>0,Q187-('Výstupy modelu'!$H$10-'Výstupy modelu'!$H$9),0))","v":0},null,null,1865.4300000000003,1885.4300000000003,0,{"$f":"MAX(0,D187-'Vstupní hodnoty'!$C$5)","v":0}]
[null,"2017-01-02T22:15:00",1,501.12,{"$f":"CEILING(IF(C188-C187=0,IF(H187=0,I187,IF(J187>K187,I187,E187)),'Výstupy modelu'!$C$7),1)","v":1664},0,0,{"$f":"IF(F188=1,IF(G188>'Zdrojová data'!$C$19,0,1),\"\")","v":""},1664,0,{"$f":"MIN(J188,'Zdrojová data'!$C$17)","v":0},0,{"$f":"L188/'Zdrojová data'!$C$16","v":0},{"$f":"M188*'Zdrojová data'!$C$13","v":0},{"$f":"N188*'Zdrojová data'!$C$14","v":0},0,{"$f":"IF(H188=0,D188-'Výstupy modelu'!$C$7,IF(P188=1,J188-K188,0))","v":0},0,null,{"$f":"MAX(0,IF(Q188>0,Q188-('Výstupy modelu'!$H$10-'Výstupy modelu'!$H$9),0))","v":0},null,null,1865.4300000000003,1885.4300000000003,0,{"$f":"MAX(0,D188-'Vstupní hodnoty'!$C$5)","v":0}]
[null,"2017-01-02T22:30:00",1,484.92,{"$f":"CEILING(IF(C189-C188=0,IF(H188=0,I188,IF(J188>K188,I188,E188)),'Výstupy modelu'!$C$7),1)","v":1664},0,0,{"$f":"IF(F189=1,IF(G189>'Zdrojová data'!$C$19,0,1),\"\")","v":""},1664,0,{"$f":"MIN(J189,'Zdrojová data'!$C$17)","v":0},0,{"$f":"L189/'Zdrojová data'!$C$16","v":0},{"$f":"M189*'Zdrojová data'!$C$13","v":0},{"$f":"N189*'Zdrojová data'!$C$14","v":0},0,{"$f":"IF(H189=0,D189-'Výstupy modelu'!$C$7,IF(P189=1,J189-K189,0))","v":0},0,null,{"$f":"MAX(0,IF(Q189>0,Q189-('Výstupy modelu'!$H$10-'Výstupy modelu'!$H$9),0))","v":0},null,null,1865.4300000000003,1885.4300000000003,0,{"$f":"MAX(0,D189-'Vstupní hodnoty'!$C$5)","v":0}]
[null,"2017-01-02T22:45:00",1,494.64000000000004,{"$f":"CEILING(IF(C190-C189=0,IF(H189=0,I189,IF(J189>K189,I189,E189)),'Výstupy modelu'!$C$7),1)","v":1664},0,0,{"$f":"IF(F190=1,IF(G190>'Zdrojová data'!$C$19,0,1),\"\")","v":""},1664,0,{"$f":"MIN(J190,'Zdrojová data'!$C$17)","v":0},0,{"$f":"L190/'Zdrojová data'!$C$16","v":0},{"$f":"M190*'Zdrojová data'!$C$13","v":0},{"$f":"N190*'Zdrojová data'!$C$14","v":0},0,{"$f":"IF(H190=0,D190-'Výstupy modelu'!$C$7,IF(P190=1,J190-K190,0))","v":0},0,null,{"$f":"MAX(0,IF(Q190>0,Q190-('Výstupy modelu'!$H$10-'Výstupy modelu'!$H$9),0))","v":0},null,null,1865.4300000000003,1885.4300000000003,0,{"$f":"MAX(0,D190-'Vstupní hodnoty'!$C$5)","v":0}]
[null,"2017-01-02T23:00:00",1,501.12,{"$f":"CEILING(IF(C191-C190=0,IF(H190=0,I190,IF(J190>K190,I190,E190)),'Výstupy modelu'!$C$7),1)","v":1664},0,0,{"$f":"IF(F191=1,IF(G191>'Zdrojová data'!$C$19,0,1),\"\")","v":""},1664,0,{"$f":"MIN(J191,'Zdrojová data'!$C$17)","v":0},0,{"$f":"L191/'Zdrojová data'!$C$16","v":0},{"$f":"M191*'Zdrojová data'!$C$13","v":0},{"$f":"N191*'Zdrojová data'!$C$14","v":0},0,{"$f":"IF(H191=0,D191-'Výstupy modelu'!$C$7,IF(P191=1,J191-K191,0))","v":0},0,null,{"$f":"MAX(0,IF(Q191>0,Q191-('Výstupy modelu'!$H$10-'Výstupy modelu'!$H$9),0))","v":0},null,null,1865.4300000000003,1885.4300000000003,0,{"$f":"MAX(0,D191-'Vstupní hodnoty'!$C$5)","v":0}]
[null,"2017-01-02T23:15:00",1,513,{"$f":"CEILING(IF(C192-C191=0,IF(H191=0,I191,IF(J191>K191,I191,E191)),'Výstupy modelu'!$C$7),1)","v":1664},0,0,{"$f":"IF(F192=1,IF(G192>'Zdrojová data'!$C$19,0,1),\"\")","v":""},1664,0,{"$f":"MIN(J192,'Zdrojová data'!$C$17)","v":0},0,{"$f":"L192/'Zdrojová data'!$C$16","v":0},{"$f":"M192*'Zdrojová data'!$C$13","v":0},{"$f":"N192*'Zdrojová data'!$C$14","v":0},0,{"$f":"IF(H192=0,D192-'Výstupy modelu'!$C$7,IF(P192=1,J192-K192,0))","v":0},0,null,{"$f":"MAX(0,IF(Q192>0,Q192-('Výstupy modelu'!$H$10-'Výstupy modelu'!$H$9),0))","v":0},null,null,1865.4300000000003,1885.4300000000003,0,{"$f":"MAX(0,D192-'Vstupní hodnoty'!$C$5)","v":0}]
[null,"2017-01-02T23:30:00",1,498.96000000000004,{"$f":"CEILING(IF(C193-C192=0,IF(H192=0,I192,IF(J192>K192,I192,E192)),'Výstupy modelu'!$C$7),1)","v":1664},0,0,{"$f":"IF(F193=1,IF(G193>'Zdrojová data'!$C$19,0,1),\"\")","v":""},1664,0,{"$f":"MIN(J193,'Zdrojová data'!$C$17)","v":0},0,{"$f":"L193/'Zdrojová data'!$C$16","v":0},{"$f":"M193*'Zdrojová data'!$C$13","v":0},{"$f":"N193*'Zdrojová data'!$C$14","v":0},0,{"$f":"IF(H193=0,D193-'Výstupy modelu'!$C$7,IF(P193=1,J193-K193,0))","v":0},0,null,{"$f":"MAX(0,IF(Q193>0,Q193-('Výstupy modelu'!$H$10-'Výstupy modelu'!$H$9),0))","v":0},null,null,1865.4300000000003,1885.4300000000003,0,{"$f":"MAX(0,D193-'Vstupní hodnoty'!$C$5)","v":0}]
[null,"2017-01-02T23:45:00",1,498.96000000000004,{"$f":"CEILING(IF(C194-C193=0,IF(H193=0,I193,IF(J193>K193,I193,E193)),'Výstupy modelu'!$C$7),1)","v":1664},0,0,{"$f":"IF(F194=1,IF(G194>'Zdrojová data'!$C$19,0,1),\"\")","v":""},1664,0,{"$f":"MIN(J194,'Zdrojová data'!$C$17)","v":0},0,{"$f":"L194/'Zdrojová data'!$C$16","v":0},{"$f":"M194*'Zdrojová data'!$C$13","v":0},{"$f":"N194*'Zdrojová data'!$C$14","v":0},0,{"$f":"IF(H194=0,D194-'Výstupy modelu'!$C$7,IF(P194=1,J194-K194,0))","v":0},0,null,{"$f":"MAX(0,IF(Q194>0,Q194-('Výstupy modelu'!$H$10-'Výstupy modelu'!$H$9),0))","v":0},null,null,1865.4300000000003,1885.4300000000003,0,{"$f":"MAX(0,D194-'Vstupní hodnoty'!$C$5)","v":0}]
[null,"2017-01-03",1,460.08000000000004,{"$f":"CEILING(IF(C195-C194=0,IF(H194=0,I194,IF(J194>K194,I194,E194)),'Výstupy modelu'!$C$7),1)","v":1664},0,0,{"$f":"IF(F195=1,IF(G195>'Zdrojová data'!$C$19,0,1),\"\")","v":""},1664,0,{"$f":"MIN(J195,'Zdrojová data'!$C$17)","v":0},0,{"$f":"L195/'Zdrojová data'!$C$16","v":0},{"$f":"M195*'Zdrojová data'!$C$13","v":0},{"$f":"N195*'Zdrojová data'!$C$14","v":0},0,{"$f":"IF(H195=0,D195-'Výstupy modelu'!$C$7,IF(P195=1,J195-K195,0))","v":0},0,null,{"$f":"MAX(0,IF(Q195>0,Q195-('Výstupy modelu'!$H$10-'Výstupy modelu'!$H$9),0))","v":0},null,null,1865.4300000000003,1885.4300000000003,0,{"$f":"MAX(0,D195-'Vstupní hodnoty'!$C$5)","v":0}]
[null,"2017-01-03T00:15:00",1,446.04,{"$f":"CEILING(IF(C196-C195=0,IF(H195=0,I195,IF(J195>K195,I195,E195)),'Výstupy modelu'!$C$7),1)","v":1664},{"$f":"IF(D196>E196,1,0)","v":0},0,{"$f":"IF(F196=1,IF(G196>'Zdrojová data'!$C$19,0,1),\"\")","v":""},{"$f":"IF(H196=0,D196,IF(J196>K196,E196+J196-K196,E196))","v":1664},{"$f":"IF(H196=1,D196-E196,0)","v":0},{"$f":"MIN(J196,'Zdrojová data'!$C$17)","v":0},0,{"$f":"L196/'Zdrojová data'!$C$16","v":0},{"$f":"M196*'Zdrojová data'!$C$13","v":0},{"$f":"N196*'Zdrojová data'!$C$14","v":0},0,{"$f":"IF(H196=0,D196-'Výstupy modelu'!$C$7,IF(P196=1,J196-K196,0))","v":0},0,null,{"$f":"MAX(0,IF(Q196>0,Q196-('Výstupy modelu'!$H$10-'Výstupy modelu'!$H$9),0))","v":0},null,null,1865.4300000000003,1885.4300000000003,{"$f":"MAX(0,D196-W196)","v":0},{"$f":"MAX(0,D196-'Vstupní hodnoty'!$C$5)","v":0}]
[null,"2017-01-03T00:30:00",{"$f":"MONTH(B197)","v":1},492.48,{"$f":"CEILING(IF(C197-C196=0,IF(H196=0,I196,IF(J196>K196,I196,E196)),'Výstupy modelu'!$C$7),1)","v":1664},0,{"$f":"IF(F197=1,RANDBETWEEN(0,100),0)","v":0},{"$f":"IF(F197=1,IF(G197>'Zdrojová data'!$C$19,0,1),\"\")","v":""},1664,0,{"$f":"MIN(J197,'Zdrojová data'!$C$17)","v":0},{"$f":"K197/4","v":0},{"$f":"L197/'Zdrojová data'!$C$16","v":0},{"$f":"M197*'Zdrojová data'!$C$13","v":0},{"$f":"N197*'Zdrojová data'!$C$14","v":0},{"$f":"IF(H197=0,1,IF(J197>K197,1,0))","v":0},{"$f":"IF(H197=0,D197-'Výstupy modelu'!$C$7,IF(P197=1,J197-K197,0))","v":0},{"$f":"IF(H197=0,1,IF(J197>K197,1,0))","v":0},null,{"$f":"MAX(0,IF(Q197>0,Q197-('Výstupy modelu'!$H$10-'Výstupy modelu'!$H$9),0))","v":0},null,null,1865.4300000000003,1885.4300000000003,0,{"$f":"MAX(0,D197-'Vstupní hodnoty'!$C$5)","v":0}]
[null,"2017-01-03T00:45:00",1,529.20000000000005,{"$f":"CEILING(IF(C198-C197=0,IF(H197=0,I197,IF(J197>K197,I197,E197)),'Výstupy modelu'!$C$7),1)","v":1664},0,0,{"$f":"IF(F198=1,IF(G198>'Zdrojová data'!$C$19,0,1),\"\")","v":""},1664,0,{"$f":"MIN(J198,'Zdrojová data'!$C$17)","v":0},0,{"$f":"L198/'Zdrojová data'!$C$16","v":0},{"$f":"M198*'Zdrojová data'!$C$13","v":0},{"$f":"N198*'Zdrojová data'!$C$14","v":0},0,{"$f":"IF(H198=0,D198-'Výstupy modelu'!$C$7,IF(P198=1,J198-K198,0))","v":0},0,null,{"$f":"MAX(0,IF(Q198>0,Q198-('Výstupy modelu'!$H$10-'Výstupy modelu'!$H$9),0))","v":0},null,null,{"$f":"W197","v":1865.4300000000003},1885.4300000000003,0,{"$f":"MAX(0,D198-'Vstupní hodnoty'!$C$5)","v":0}]
[null,"2017-01-03T01:00:00",1,528.12,{"$f":"CEILING(IF(C199-C198=0,IF(H198=0,I198,IF(J198>K198,I198,E198)),'Výstupy modelu'!$C$7),1)","v":1664},0,0,{"$f":"IF(F199=1,IF(G199>'Zdrojová data'!$C$19,0,1),\"\")","v":""},1664,0,{"$f":"MIN(J199,'Zdrojová data'!$C$17)","v":0},0,{"$f":"L199/'Zdrojová data'!$C$16","v":0},{"$f":"M199*'Zdrojová data'!$C$13","v":0},{"$f":"N199*'Zdrojová data'!$C$14","v":0},0,{"$f":"IF(H199=0,D199-'Výstupy modelu'!$C$7,IF(P199=1,J199-K199,0))","v":0},0,null,{"$f":"MAX(0,IF(Q199>0,Q199-('Výstupy modelu'!$H$10-'Výstupy modelu'!$H$9),0))","v":0},null,null,1865.4300000000003,1885.4300000000003,0,{"$f":"MAX(0,D199-'Vstupní hodnoty'!$C$5)","v":0}]
[null,"2017-01-03T01:15:00",1,538.92000000000007,{"$f":"CEILING(IF(C200-C199=0,IF(H199=0,I199,IF(J199>K199,I199,E199)),'Výstupy modelu'!$C$7),1)","v":1664},0,0,{"$f":"IF(F200=1,IF(G200>'Zdrojová data'!$C$19,0,1),\"\")","v":""},1664,0,{"$f":"MIN(J200,'Zdrojová data'!$C$17)","v":0},0,{"$f":"L200/'Zdrojová data'!$C$16","v":0},{"$f":"M200*'Zdrojová data'!$C$13","v":0},{"$f":"N200*'Zdrojová data'!$C$14","v":0},0,{"$f":"IF(H200=0,D200-'Výstupy modelu'!$C$7,IF(P200=1,J200-K200,0))","v":0},0,null,{"$f":"MAX(0,IF(Q200>0,Q200-('Výstupy modelu'!$H$10-'Výstupy modelu'!$H$9),0))","v":0},null,null,1865.4300000000003,1885.4300000000003,0,{"$f":"MAX(0,D200-'Vstupní hodnoty'!$C$5)","v":0}]
[null,"2017-01-03T01:30:00",1,567,{"$f":"CEILING(IF(C201-C200=0,IF(H200=0,I200,IF(J200>K200,I200,E200)),'Výstupy modelu'!$C$7),1)","v":1664},0,0,{"$f":"IF(F201=1,IF(G201>'Zdrojová data'!$C$19,0,1),\"\")","v":""},1664,0,{"$f":"MIN(J201,'Zdrojová data'!$C$17)","v":0},0,{"$f":"L201/'Zdrojová data'!$C$16","v":0},{"$f":"M201*'Zdrojová data'!$C$13","v":0},{"$f":"N201*'Zdrojová data'!$C$14","v":0},0,{"$f":"IF(H201=0,D201-'Výstupy modelu'!$C$7,IF(P201=1,J201-K201,0))","v":0},0,null,{"$f":"MAX(0,IF(Q201>0,Q201-('Výstupy modelu'!$H$10-'Výstupy modelu'!$H$9),0))","v":0},null,null,1865.4300000000003,1885.4300000000003,0,{"$f":"MAX(0,D201-'Vstupní hodnoty'!$C$5)","v":0}]
[null,"2017-01-03T01:45:00",1,496.8,{"$f":"CEILING(IF(C202-C201=0,IF(H201=0,I201,IF(J201>K201,I201,E201)),'Výstupy modelu'!$C$7),1)","v":1664},0,0,{"$f":"IF(F202=1,IF(G202>'Zdrojová data'!$C$19,0,1),\"\")","v":""},1664,0,{"$f":"MIN(J202,'Zdrojová data'!$C$17)","v":0},0,{"$f":"L202/'Zdrojová data'!$C$16","v":0},{"$f":"M202*'Zdrojová data'!$C$13","v":0},{"$f":"N202*'Zdrojová data'!$C$14","v":0},0,{"$f":"IF(H202=0,D202-'Výstupy modelu'!$C$7,IF(P202=1,J202-K202,0))","v":0},0,null,{"$f":"MAX(0,IF(Q202>0,Q202-('Výstupy modelu'!$H$10-'Výstupy modelu'!$H$9),0))","v":0},null,null,1865.4300000000003,1885.4300000000003,0,{"$f":"MAX(0,D202-'Vstupní hodnoty'!$C$5)","v":0}]
[null,"2017-01-03T02:00:00",1,515.16000000000008,{"$f":"CEILING(IF(C203-C202=0,IF(H202=0,I202,IF(J202>K202,I202,E202)),'Výstupy modelu'!$C$7),1)","v":1664},0,0,{"$f":"IF(F203=1,IF(G203>'Zdrojová data'!$C$19,0,1),\"\")","v":""},1664,0,{"$f":"MIN(J203,'Zdrojová data'!$C$17)","v":0},0,{"$f":"L203/'Zdrojová data'!$C$16","v":0},{"$f":"M203*'Zdrojová data'!$C$13","v":0},{"$f":"N203*'Zdrojová data'!$C$14","v":0},0,{"$f":"IF(H203=0,D203-'Výstupy modelu'!$C$7,IF(P203=1,J203-K203,0))","v":0},0,null,{"$f":"MAX(0,IF(Q203>0,Q203-('Výstupy modelu'!$H$10-'Výstupy modelu'!$H$9),0))","v":0},null,null,1865.4300000000003,1885.4300000000003,0,{"$f":"MAX(0,D203-'Vstupní hodnoty'!$C$5)","v":0}]
[null,"2017-01-03T02:15:00",1,565.92000000000007,{"$f":"CEILING(IF(C204-C203=0,IF(H203=0,I203,IF(J203>K203,I203,E203)),'Výstupy modelu'!$C$7),1)","v":1664},0,0,{"$f":"IF(F204=1,IF(G204>'Zdrojová data'!$C$19,0,1),\"\")","v":""},1664,0,{"$f":"MIN(J204,'Zdrojová data'!$C$17)","v":0},0,{"$f":"L204/'Zdrojová data'!$C$16","v":0},{"$f":"M204*'Zdrojová data'!$C$13","v":0},{"$f":"N204*'Zdrojová data'!$C$14","v":0},0,{"$f":"IF(H204=0,D204-'Výstupy modelu'!$C$7,IF(P204=1,J204-K204,0))","v":0},0,null,{"$f":"MAX(0,IF(Q204>0,Q204-('Výstupy modelu'!$H$10-'Výstupy modelu'!$H$9),0))","v":0},null,null,1865.4300000000003,1885.4300000000003,0,{"$f":"MAX(0,D204-'Vstupní hodnoty'!$C$5)","v":0}]
[null,"2017-01-03T02:30:00",1,543.24,{"$f":"CEILING(IF(C205-C204=0,IF(H204=0,I204,IF(J204>K204,I204,E204)),'Výstupy modelu'!$C$7),1)","v":1664},0,0,{"$f":"IF(F205=1,IF(G205>'Zdrojová data'!$C$19,0,1),\"\")","v":""},1664,0,{"$f":"MIN(J205,'Zdrojová data'!$C$17)","v":0},0,{"$f":"L205/'Zdrojová data'!$C$16","v":0},{"$f":"M205*'Zdrojová data'!$C$13","v":0},{"$f":"N205*'Zdrojová data'!$C$14","v":0},0,{"$f":"IF(H205=0,D205-'Výstupy modelu'!$C$7,IF(P205=1,J205-K205,0))","v":0},0,null,{"$f":"MAX(0,IF(Q205>0,Q205-('Výstupy modelu'!$H$10-'Výstupy modelu'!$H$9),0))","v":0},null,null,1865.4300000000003,1885.4300000000003,0,{"$f":"MAX(0,D205-'Vstupní hodnoty'!$C$5)","v":0}]
[null,"2017-01-03T02:45:00",1,504.36,{"$f":"CEILING(IF(C206-C205=0,IF(H205=0,I205,IF(J205>K205,I205,E205)),'Výstupy modelu'!$C$7),1)","v":1664},0,0,{"$f":"IF(F206=1,IF(G206>'Zdrojová data'!$C$19,0,1),\"\")","v":""},1664,0,{"$f":"MIN(J206,'Zdrojová data'!$C$17)","v":0},0,{"$f":"L206/'Zdrojová data'!$C$16","v":0},{"$f":"M206*'Zdrojová data'!$C$13","v":0},{"$f":"N206*'Zdrojová data'!$C$14","v":0},0,{"$f":"IF(H206=0,D206-'Výstupy modelu'!$C$7,IF(P206=1,J206-K206,0))","v":0},0,null,{"$f":"MAX(0,IF(Q206>0,Q206-('Výstupy modelu'!$H$10-'Výstupy modelu'!$H$9),0))","v":0},null,null,1865.4300000000003,1885.4300000000003,0,{"$f":"MAX(0,D206-'Vstupní hodnoty'!$C$5)","v":0}]
[null,"2017-01-03T03:00:00",1,504.36,{"$f":"CEILING(IF(C207-C206=0,IF(H206=0,I206,IF(J206>K206,I206,E206)),'Výstupy modelu'!$C$7),1)","v":1664},0,0,{"$f":"IF(F207=1,IF(G207>'Zdrojová data'!$C$19,0,1),\"\")","v":""},1664,0,{"$f":"MIN(J207,'Zdrojová data'!$C$17)","v":0},0,{"$f":"L207/'Zdrojová data'!$C$16","v":0},{"$f":"M207*'Zdrojová data'!$C$13","v":0},{"$f":"N207*'Zdrojová data'!$C$14","v":0},0,{"$f":"IF(H207=0,D207-'Výstupy modelu'!$C$7,IF(P207=1,J207-K207,0))","v":0},0,null,{"$f":"MAX(0,IF(Q207>0,Q207-('Výstupy modelu'!$H$10-'Výstupy modelu'!$H$9),0))","v":0},null,null,1865.4300000000003,1885.4300000000003,0,{"$f":"MAX(0,D207-'Vstupní hodnoty'!$C$5)","v":0}]
[null,"2017-01-03T03:15:00",1,532.44000000000005,{"$f":"CEILING(IF(C208-C207=0,IF(H207=0,I207,IF(J207>K207,I207,E207)),'Výstupy modelu'!$C$7),1)","v":1664},0,0,{"$f":"IF(F208=1,IF(G208>'Zdrojová data'!$C$19,0,1),\"\")","v":""},1664,0,{"$f":"MIN(J208,'Zdrojová data'!$C$17)","v":0},0,{"$f":"L208/'Zdrojová data'!$C$16","v":0},{"$f":"M208*'Zdrojová data'!$C$13","v":0},{"$f":"N208*'Zdrojová data'!$C$14","v":0},0,{"$f":"IF(H208=0,D208-'Výstupy modelu'!$C$7,IF(P208=1,J208-K208,0))","v":0},0,null,{"$f":"MAX(0,IF(Q208>0,Q208-('Výstupy modelu'!$H$10-'Výstupy modelu'!$H$9),0))","v":0},null,null,1865.4300000000003,1885.4300000000003,0,{"$f":"MAX(0,D208-'Vstupní hodnoty'!$C$5)","v":0}]
[null,"2017-01-03T03:30:00",1,514.08000000000004,{"$f":"CEILING(IF(C209-C208=0,IF(H208=0,I208,IF(J208>K208,I208,E208)),'Výstupy modelu'!$C$7),1)","v":1664},0,0,{"$f":"IF(F209=1,IF(G209>'Zdrojová data'!$C$19,0,1),\"\")","v":""},1664,0,{"$f":"MIN(J209,'Zdrojová data'!$C$17)","v":0},0,{"$f":"L209/'Zdrojová data'!$C$16","v":0},{"$f":"M209*'Zdrojová data'!$C$13","v":0},{"$f":"N209*'Zdrojová data'!$C$14","v":0},0,{"$f":"IF(H209=0,D209-'Výstupy modelu'!$C$7,IF(P209=1,J209-K209,0))","v":0},0,null,{"$f":"MAX(0,IF(Q209>0,Q209-('Výstupy modelu'!$H$10-'Výstupy modelu'!$H$9),0))","v":0},null,null,1865.4300000000003,1885.4300000000003,0,{"$f":"MAX(0,D209-'Vstupní hodnoty'!$C$5)","v":0}]
[null,"2017-01-03T03:45:00",1,496.8,{"$f":"CEILING(IF(C210-C209=0,IF(H209=0,I209,IF(J209>K209,I209,E209)),'Výstupy modelu'!$C$7),1)","v":1664},0,0,{"$f":"IF(F210=1,IF(G210>'Zdrojová data'!$C$19,0,1),\"\")","v":""},1664,0,{"$f":"MIN(J210,'Zdrojová data'!$C$17)","v":0},0,{"$f":"L210/'Zdrojová data'!$C$16","v":0},{"$f":"M210*'Zdrojová data'!$C$13","v":0},{"$f":"N210*'Zdrojová data'!$C$14","v":0},0,{"$f":"IF(H210=0,D210-'Výstupy modelu'!$C$7,IF(P210=1,J210-K210,0))","v":0},0,null,{"$f":"MAX(0,IF(Q210>0,Q210-('Výstupy modelu'!$H$10-'Výstupy modelu'!$H$9),0))","v":0},null,null,1865.4300000000003,1885.4300000000003,0,{"$f":"MAX(0,D210-'Vstupní hodnoty'!$C$5)","v":0}]
[null,"2017-01-03T04:00:00",1,527.04000000000008,{"$f":"CEILING(IF(C211-C210=0,IF(H210=0,I210,IF(J210>K210,I210,E210)),'Výstupy modelu'!$C$7),1)","v":1664},0,0,{"$f":"IF(F211=1,IF(G211>'Zdrojová data'!$C$19,0,1),\"\")","v":""},1664,0,{"$f":"MIN(J211,'Zdrojová data'!$C$17)","v":0},0,{"$f":"L211/'Zdrojová data'!$C$16","v":0},{"$f":"M211*'Zdrojová data'!$C$13","v":0},{"$f":"N211*'Zdrojová data'!$C$14","v":0},0,{"$f":"IF(H211=0,D211-'Výstupy modelu'!$C$7,IF(P211=1,J211-K211,0))","v":0},0,null,{"$f":"MAX(0,IF(Q211>0,Q211-('Výstupy modelu'!$H$10-'Výstupy modelu'!$H$9),0))","v":0},null,null,1865.4300000000003,1885.4300000000003,0,{"$f":"MAX(0,D211-'Vstupní hodnoty'!$C$5)","v":0}]
[null,"2017-01-03T04:15:00",1,608.04000000000008,{"$f":"CEILING(IF(C212-C211=0,IF(H211=0,I211,IF(J211>K211,I211,E211)),'Výstupy modelu'!$C$7),1)","v":1664},0,0,{"$f":"IF(F212=1,IF(G212>'Zdrojová data'!$C$19,0,1),\"\")","v":""},1664,0,{"$f":"MIN(J212,'Zdrojová data'!$C$17)","v":0},0,{"$f":"L212/'Zdrojová data'!$C$16","v":0},{"$f":"M212*'Zdrojová data'!$C$13","v":0},{"$f":"N212*'Zdrojová data'!$C$14","v":0},0,{"$f":"IF(H212=0,D212-'Výstupy modelu'!$C$7,IF(P212=1,J212-K212,0))","v":0},0,null,{"$f":"MAX(0,IF(Q212>0,Q212-('Výstupy modelu'!$H$10-'Výstupy modelu'!$H$9),0))","v":0},null,null,1865.4300000000003,1885.4300000000003,0,{"$f":"MAX(0,D212-'Vstupní hodnoty'!$C$5)","v":0}]
[null,"2017-01-03T04:30:00",1,599.40000000000009,{"$f":"CEILING(IF(C213-C212=0,IF(H212=0,I212,IF(J212>K212,I212,E212)),'Výstupy modelu'!$C$7),1)","v":1664},0,0,{"$f":"IF(F213=1,IF(G213>'Zdrojová data'!$C$19,0,1),\"\")","v":""},1664,0,{"$f":"MIN(J213,'Zdrojová data'!$C$17)","v":0},0,{"$f":"L213/'Zdrojová data'!$C$16","v":0},{"$f":"M213*'Zdrojová data'!$C$13","v":0},{"$f":"N213*'Zdrojová data'!$C$14","v":0},0,{"$f":"IF(H213=0,D213-'Výstupy modelu'!$C$7,IF(P213=1,J213-K213,0))","v":0},0,null,{"$f":"MAX(0,IF(Q213>0,Q213-('Výstupy modelu'!$H$10-'Výstupy modelu'!$H$9),0))","v":0},null,null,1865.4300000000003,1885.4300000000003,0,{"$f":"MAX(0,D213-'Vstupní hodnoty'!$C$5)","v":0}]
[null,"2017-01-03T04:45:00",1,541.08000000000004,{"$f":"CEILING(IF(C214-C213=0,IF(H213=0,I213,IF(J213>K213,I213,E213)),'Výstupy modelu'!$C$7),1)","v":1664},0,0,{"$f":"IF(F214=1,IF(G214>'Zdrojová data'!$C$19,0,1),\"\")","v":""},1664,0,{"$f":"MIN(J214,'Zdrojová data'!$C$17)","v":0},0,{"$f":"L214/'Zdrojová data'!$C$16","v":0},{"$f":"M214*'Zdrojová data'!$C$13","v":0},{"$f":"N214*'Zdrojová data'!$C$14","v":0},0,{"$f":"IF(H214=0,D214-'Výstupy modelu'!$C$7,IF(P214=1,J214-K214,0))","v":0},0,null,{"$f":"MAX(0,IF(Q214>0,Q214-('Výstupy modelu'!$H$10-'Výstupy modelu'!$H$9),0))","v":0},null,null,1865.4300000000003,1885.4300000000003,0,{"$f":"MAX(0,D214-'Vstupní hodnoty'!$C$5)","v":0}]
[null,"2017-01-03T05:00:00",1,608.04000000000008,{"$f":"CEILING(IF(C215-C214=0,IF(H214=0,I214,IF(J214>K214,I214,E214)),'Výstupy modelu'!$C$7),1)","v":1664},0,0,{"$f":"IF(F215=1,IF(G215>'Zdrojová data'!$C$19,0,1),\"\")","v":""},1664,0,{"$f":"MIN(J215,'Zdrojová data'!$C$17)","v":0},0,{"$f":"L215/'Zdrojová data'!$C$16","v":0},{"$f":"M215*'Zdrojová data'!$C$13","v":0},{"$f":"N215*'Zdrojová data'!$C$14","v":0},0,{"$f":"IF(H215=0,D215-'Výstupy modelu'!$C$7,IF(P215=1,J215-K215,0))","v":0},0,null,{"$f":"MAX(0,IF(Q215>0,Q215-('Výstupy modelu'!$H$10-'Výstupy modelu'!$H$9),0))","v":0},null,null,1865.4300000000003,1885.4300000000003,0,{"$f":"MAX(0,D215-'Vstupní hodnoty'!$C$5)","v":0}]
[null,"2017-01-03T05:15:00",1,659.88,{"$f":"CEILING(IF(C216-C215=0,IF(H215=0,I215,IF(J215>K215,I215,E215)),'Výstupy modelu'!$C$7),1)","v":1664},0,0,{"$f":"IF(F216=1,IF(G216>'Zdrojová data'!$C$19,0,1),\"\")","v":""},1664,0,{"$f":"MIN(J216,'Zdrojová data'!$C$17)","v":0},0,{"$f":"L216/'Zdrojová data'!$C$16","v":0},{"$f":"M216*'Zdrojová data'!$C$13","v":0},{"$f":"N216*'Zdrojová data'!$C$14","v":0},0,{"$f":"IF(H216=0,D216-'Výstupy modelu'!$C$7,IF(P216=1,J216-K216,0))","v":0},0,null,{"$f":"MAX(0,IF(Q216>0,Q216-('Výstupy modelu'!$H$10-'Výstupy modelu'!$H$9),0))","v":0},null,null,1865.4300000000003,1885.4300000000003,0,{"$f":"MAX(0,D216-'Vstupní hodnoty'!$C$5)","v":0}]
[null,"2017-01-03T05:30:00",1,723.6,{"$f":"CEILING(IF(C217-C216=0,IF(H216=0,I216,IF(J216>K216,I216,E216)),'Výstupy modelu'!$C$7),1)","v":1664},0,0,{"$f":"IF(F217=1,IF(G217>'Zdrojová data'!$C$19,0,1),\"\")","v":""},1664,0,{"$f":"MIN(J217,'Zdrojová data'!$C$17)","v":0},0,{"$f":"L217/'Zdrojová data'!$C$16","v":0},{"$f":"M217*'Zdrojová data'!$C$13","v":0},{"$f":"N217*'Zdrojová data'!$C$14","v":0},0,{"$f":"IF(H217=0,D217-'Výstupy modelu'!$C$7,IF(P217=1,J217-K217,0))","v":0},0,null,{"$f":"MAX(0,IF(Q217>0,Q217-('Výstupy modelu'!$H$10-'Výstupy modelu'!$H$9),0))","v":0},null,null,1865.4300000000003,1885.4300000000003,0,{"$f":"MAX(0,D217-'Vstupní hodnoty'!$C$5)","v":0}]
[null,"2017-01-03T05:45:00",1,781.92000000000007,{"$f":"CEILING(IF(C218-C217=0,IF(H217=0,I217,IF(J217>K217,I217,E217)),'Výstupy modelu'!$C$7),1)","v":1664},0,0,{"$f":"IF(F218=1,IF(G218>'Zdrojová data'!$C$19,0,1),\"\")","v":""},1664,0,{"$f":"MIN(J218,'Zdrojová data'!$C$17)","v":0},0,{"$f":"L218/'Zdrojová data'!$C$16","v":0},{"$f":"M218*'Zdrojová data'!$C$13","v":0},{"$f":"N218*'Zdrojová data'!$C$14","v":0},0,{"$f":"IF(H218=0,D218-'Výstupy modelu'!$C$7,IF(P218=1,J218-K218,0))","v":0},0,null,{"$f":"MAX(0,IF(Q218>0,Q218-('Výstupy modelu'!$H$10-'Výstupy modelu'!$H$9),0))","v":0},null,null,1865.4300000000003,1885.4300000000003,0,{"$f":"MAX(0,D218-'Vstupní hodnoty'!$C$5)","v":0}]
[null,"2017-01-03T06:00:00",1,1064.8800000000001,{"$f":"CEILING(IF(C219-C218=0,IF(H218=0,I218,IF(J218>K218,I218,E218)),'Výstupy modelu'!$C$7),1)","v":1664},0,0,{"$f":"IF(F219=1,IF(G219>'Zdrojová data'!$C$19,0,1),\"\")","v":""},1664,0,{"$f":"MIN(J219,'Zdrojová data'!$C$17)","v":0},0,{"$f":"L219/'Zdrojová data'!$C$16","v":0},{"$f":"M219*'Zdrojová data'!$C$13","v":0},{"$f":"N219*'Zdrojová data'!$C$14","v":0},0,{"$f":"IF(H219=0,D219-'Výstupy modelu'!$C$7,IF(P219=1,J219-K219,0))","v":0},0,null,{"$f":"MAX(0,IF(Q219>0,Q219-('Výstupy modelu'!$H$10-'Výstupy modelu'!$H$9),0))","v":0},null,null,1865.4300000000003,1885.4300000000003,0,{"$f":"MAX(0,D219-'Vstupní hodnoty'!$C$5)","v":0}]
[null,"2017-01-03T06:15:00",1,1319.76,{"$f":"CEILING(IF(C220-C219=0,IF(H219=0,I219,IF(J219>K219,I219,E219)),'Výstupy modelu'!$C$7),1)","v":1664},0,0,{"$f":"IF(F220=1,IF(G220>'Zdrojová data'!$C$19,0,1),\"\")","v":""},1664,0,{"$f":"MIN(J220,'Zdrojová data'!$C$17)","v":0},0,{"$f":"L220/'Zdrojová data'!$C$16","v":0},{"$f":"M220*'Zdrojová data'!$C$13","v":0},{"$f":"N220*'Zdrojová data'!$C$14","v":0},0,{"$f":"IF(H220=0,D220-'Výstupy modelu'!$C$7,IF(P220=1,J220-K220,0))","v":0},0,null,{"$f":"MAX(0,IF(Q220>0,Q220-('Výstupy modelu'!$H$10-'Výstupy modelu'!$H$9),0))","v":0},null,null,1865.4300000000003,1885.4300000000003,0,{"$f":"MAX(0,D220-'Vstupní hodnoty'!$C$5)","v":0}]
[null,"2017-01-03T06:30:00",1,1342.44,{"$f":"CEILING(IF(C221-C220=0,IF(H220=0,I220,IF(J220>K220,I220,E220)),'Výstupy modelu'!$C$7),1)","v":1664},0,0,{"$f":"IF(F221=1,IF(G221>'Zdrojová data'!$C$19,0,1),\"\")","v":""},1664,0,{"$f":"MIN(J221,'Zdrojová data'!$C$17)","v":0},0,{"$f":"L221/'Zdrojová data'!$C$16","v":0},{"$f":"M221*'Zdrojová data'!$C$13","v":0},{"$f":"N221*'Zdrojová data'!$C$14","v":0},0,{"$f":"IF(H221=0,D221-'Výstupy modelu'!$C$7,IF(P221=1,J221-K221,0))","v":0},0,null,{"$f":"MAX(0,IF(Q221>0,Q221-('Výstupy modelu'!$H$10-'Výstupy modelu'!$H$9),0))","v":0},null,null,1865.4300000000003,1885.4300000000003,0,{"$f":"MAX(0,D221-'Vstupní hodnoty'!$C$5)","v":0}]
[null,"2017-01-03T06:45:00",1,1415.88,{"$f":"CEILING(IF(C222-C221=0,IF(H221=0,I221,IF(J221>K221,I221,E221)),'Výstupy modelu'!$C$7),1)","v":1664},0,0,{"$f":"IF(F222=1,IF(G222>'Zdrojová data'!$C$19,0,1),\"\")","v":""},1664,0,{"$f":"MIN(J222,'Zdrojová data'!$C$17)","v":0},0,{"$f":"L222/'Zdrojová data'!$C$16","v":0},{"$f":"M222*'Zdrojová data'!$C$13","v":0},{"$f":"N222*'Zdrojová data'!$C$14","v":0},0,{"$f":"IF(H222=0,D222-'Výstupy modelu'!$C$7,IF(P222=1,J222-K222,0))","v":0},0,null,{"$f":"MAX(0,IF(Q222>0,Q222-('Výstupy modelu'!$H$10-'Výstupy modelu'!$H$9),0))","v":0},null,null,1865.4300000000003,1885.4300000000003,0,{"$f":"MAX(0,D222-'Vstupní hodnoty'!$C$5)","v":0}]
[null,"2017-01-03T07:00:00",1,1408.3200000000002,{"$f":"CEILING(IF(C223-C222=0,IF(H222=0,I222,IF(J222>K222,I222,E222)),'Výstupy modelu'!$C$7),1)","v":1664},0,0,{"$f":"IF(F223=1,IF(G223>'Zdrojová data'!$C$19,0,1),\"\")","v":""},1664,0,{"$f":"MIN(J223,'Zdrojová data'!$C$17)","v":0},0,{"$f":"L223/'Zdrojová data'!$C$16","v":0},{"$f":"M223*'Zdrojová data'!$C$13","v":0},{"$f":"N223*'Zdrojová data'!$C$14","v":0},0,{"$f":"IF(H223=0,D223-'Výstupy modelu'!$C$7,IF(P223=1,J223-K223,0))","v":0},0,null,{"$f":"MAX(0,IF(Q223>0,Q223-('Výstupy modelu'!$H$10-'Výstupy modelu'!$H$9),0))","v":0},null,null,1865.4300000000003,1885.4300000000003,0,{"$f":"MAX(0,D223-'Vstupní hodnoty'!$C$5)","v":0}]
[null,"2017-01-03T07:15:00",1,1375.92,{"$f":"CEILING(IF(C224-C223=0,IF(H223=0,I223,IF(J223>K223,I223,E223)),'Výstupy modelu'!$C$7),1)","v":1664},0,0,{"$f":"IF(F224=1,IF(G224>'Zdrojová data'!$C$19,0,1),\"\")","v":""},1664,0,{"$f":"MIN(J224,'Zdrojová data'!$C$17)","v":0},0,{"$f":"L224/'Zdrojová data'!$C$16","v":0},{"$f":"M224*'Zdrojová data'!$C$13","v":0},{"$f":"N224*'Zdrojová data'!$C$14","v":0},0,{"$f":"IF(H224=0,D224-'Výstupy modelu'!$C$7,IF(P224=1,J224-K224,0))","v":0},0,null,{"$f":"MAX(0,IF(Q224>0,Q224-('Výstupy modelu'!$H$10-'Výstupy modelu'!$H$9),0))","v":0},null,null,1865.4300000000003,1885.4300000000003,0,{"$f":"MAX(0,D224-'Vstupní hodnoty'!$C$5)","v":0}]
[null,"2017-01-03T07:30:00",1,1361.88,{"$f":"CEILING(IF(C225-C224=0,IF(H224=0,I224,IF(J224>K224,I224,E224)),'Výstupy modelu'!$C$7),1)","v":1664},0,0,{"$f":"IF(F225=1,IF(G225>'Zdrojová data'!$C$19,0,1),\"\")","v":""},1664,0,{"$f":"MIN(J225,'Zdrojová data'!$C$17)","v":0},0,{"$f":"L225/'Zdrojová data'!$C$16","v":0},{"$f":"M225*'Zdrojová data'!$C$13","v":0},{"$f":"N225*'Zdrojová data'!$C$14","v":0},0,{"$f":"IF(H225=0,D225-'Výstupy modelu'!$C$7,IF(P225=1,J225-K225,0))","v":0},0,null,{"$f":"MAX(0,IF(Q225>0,Q225-('Výstupy modelu'!$H$10-'Výstupy modelu'!$H$9),0))","v":0},null,null,1865.4300000000003,1885.4300000000003,0,{"$f":"MAX(0,D225-'Vstupní hodnoty'!$C$5)","v":0}]
[null,"2017-01-03T07:45:00",1,1362.96,{"$f":"CEILING(IF(C226-C225=0,IF(H225=0,I225,IF(J225>K225,I225,E225)),'Výstupy modelu'!$C$7),1)","v":1664},0,0,{"$f":"IF(F226=1,IF(G226>'Zdrojová data'!$C$19,0,1),\"\")","v":""},1664,0,{"$f":"MIN(J226,'Zdrojová data'!$C$17)","v":0},0,{"$f":"L226/'Zdrojová data'!$C$16","v":0},{"$f":"M226*'Zdrojová data'!$C$13","v":0},{"$f":"N226*'Zdrojová data'!$C$14","v":0},0,{"$f":"IF(H226=0,D226-'Výstupy modelu'!$C$7,IF(P226=1,J226-K226,0))","v":0},0,null,{"$f":"MAX(0,IF(Q226>0,Q226-('Výstupy modelu'!$H$10-'Výstupy modelu'!$H$9),0))","v":0},null,null,1865.4300000000003,1885.4300000000003,0,{"$f":"MAX(0,D226-'Vstupní hodnoty'!$C$5)","v":0}]
[null,"2017-01-03T08:00:00",1,1244.1600000000001,{"$f":"CEILING(IF(C227-C226=0,IF(H226=0,I226,IF(J226>K226,I226,E226)),'Výstupy modelu'!$C$7),1)","v":1664},0,0,{"$f":"IF(F227=1,IF(G227>'Zdrojová data'!$C$19,0,1),\"\")","v":""},1664,0,{"$f":"MIN(J227,'Zdrojová data'!$C$17)","v":0},0,{"$f":"L227/'Zdrojová data'!$C$16","v":0},{"$f":"M227*'Zdrojová data'!$C$13","v":0},{"$f":"N227*'Zdrojová data'!$C$14","v":0},0,{"$f":"IF(H227=0,D227-'Výstupy modelu'!$C$7,IF(P227=1,J227-K227,0))","v":0},0,null,{"$f":"MAX(0,IF(Q227>0,Q227-('Výstupy modelu'!$H$10-'Výstupy modelu'!$H$9),0))","v":0},null,null,1865.4300000000003,1885.4300000000003,0,{"$f":"MAX(0,D227-'Vstupní hodnoty'!$C$5)","v":0}]
[null,"2017-01-03T08:15:00",1,1365.1200000000001,{"$f":"CEILING(IF(C228-C227=0,IF(H227=0,I227,IF(J227>K227,I227,E227)),'Výstupy modelu'!$C$7),1)","v":1664},0,0,{"$f":"IF(F228=1,IF(G228>'Zdrojová data'!$C$19,0,1),\"\")","v":""},1664,0,{"$f":"MIN(J228,'Zdrojová data'!$C$17)","v":0},0,{"$f":"L228/'Zdrojová data'!$C$16","v":0},{"$f":"M228*'Zdrojová data'!$C$13","v":0},{"$f":"N228*'Zdrojová data'!$C$14","v":0},0,{"$f":"IF(H228=0,D228-'Výstupy modelu'!$C$7,IF(P228=1,J228-K228,0))","v":0},0,null,{"$f":"MAX(0,IF(Q228>0,Q228-('Výstupy modelu'!$H$10-'Výstupy modelu'!$H$9),0))","v":0},null,null,1865.4300000000003,1885.4300000000003,0,{"$f":"MAX(0,D228-'Vstupní hodnoty'!$C$5)","v":0}]
[null,"2017-01-03T08:30:00",1,1391.0400000000002,{"$f":"CEILING(IF(C229-C228=0,IF(H228=0,I228,IF(J228>K228,I228,E228)),'Výstupy modelu'!$C$7),1)","v":1664},0,0,{"$f":"IF(F229=1,IF(G229>'Zdrojová data'!$C$19,0,1),\"\")","v":""},1664,0,{"$f":"MIN(J229,'Zdrojová data'!$C$17)","v":0},0,{"$f":"L229/'Zdrojová data'!$C$16","v":0},{"$f":"M229*'Zdrojová data'!$C$13","v":0},{"$f":"N229*'Zdrojová data'!$C$14","v":0},0,{"$f":"IF(H229=0,D229-'Výstupy modelu'!$C$7,IF(P229=1,J229-K229,0))","v":0},0,null,{"$f":"MAX(0,IF(Q229>0,Q229-('Výstupy modelu'!$H$10-'Výstupy modelu'!$H$9),0))","v":0},null,null,1865.4300000000003,1885.4300000000003,0,{"$f":"MAX(0,D229-'Vstupní hodnoty'!$C$5)","v":0}]
[null,"2017-01-03T08:45:00",1,1391.0400000000002,{"$f":"CEILING(IF(C230-C229=0,IF(H229=0,I229,IF(J229>K229,I229,E229)),'Výstupy modelu'!$C$7),1)","v":1664},0,0,{"$f":"IF(F230=1,IF(G230>'Zdrojová data'!$C$19,0,1),\"\")","v":""},1664,0,{"$f":"MIN(J230,'Zdrojová data'!$C$17)","v":0},0,{"$f":"L230/'Zdrojová data'!$C$16","v":0},{"$f":"M230*'Zdrojová data'!$C$13","v":0},{"$f":"N230*'Zdrojová data'!$C$14","v":0},0,{"$f":"IF(H230=0,D230-'Výstupy modelu'!$C$7,IF(P230=1,J230-K230,0))","v":0},0,null,{"$f":"MAX(0,IF(Q230>0,Q230-('Výstupy modelu'!$H$10-'Výstupy modelu'!$H$9),0))","v":0},null,null,1865.4300000000003,1885.4300000000003,0,{"$f":"MAX(0,D230-'Vstupní hodnoty'!$C$5)","v":0}]
[null,"2017-01-03T09:00:00",1,1393.2,{"$f":"CEILING(IF(C231-C230=0,IF(H230=0,I230,IF(J230>K230,I230,E230)),'Výstupy modelu'!$C$7),1)","v":1664},0,0,{"$f":"IF(F231=1,IF(G231>'Zdrojová data'!$C$19,0,1),\"\")","v":""},1664,0,{"$f":"MIN(J231,'Zdrojová data'!$C$17)","v":0},0,{"$f":"L231/'Zdrojová data'!$C$16","v":0},{"$f":"M231*'Zdrojová data'!$C$13","v":0},{"$f":"N231*'Zdrojová data'!$C$14","v":0},0,{"$f":"IF(H231=0,D231-'Výstupy modelu'!$C$7,IF(P231=1,J231-K231,0))","v":0},0,null,{"$f":"MAX(0,IF(Q231>0,Q231-('Výstupy modelu'!$H$10-'Výstupy modelu'!$H$9),0))","v":0},null,null,1865.4300000000003,1885.4300000000003,0,{"$f":"MAX(0,D231-'Vstupní hodnoty'!$C$5)","v":0}]
[null,"2017-01-03T09:15:00",1,1416.96,{"$f":"CEILING(IF(C232-C231=0,IF(H231=0,I231,IF(J231>K231,I231,E231)),'Výstupy modelu'!$C$7),1)","v":1664},0,0,{"$f":"IF(F232=1,IF(G232>'Zdrojová data'!$C$19,0,1),\"\")","v":""},1664,0,{"$f":"MIN(J232,'Zdrojová data'!$C$17)","v":0},0,{"$f":"L232/'Zdrojová data'!$C$16","v":0},{"$f":"M232*'Zdrojová data'!$C$13","v":0},{"$f":"N232*'Zdrojová data'!$C$14","v":0},0,{"$f":"IF(H232=0,D232-'Výstupy modelu'!$C$7,IF(P232=1,J232-K232,0))","v":0},0,null,{"$f":"MAX(0,IF(Q232>0,Q232-('Výstupy modelu'!$H$10-'Výstupy modelu'!$H$9),0))","v":0},null,null,1865.4300000000003,1885.4300000000003,0,{"$f":"MAX(0,D232-'Vstupní hodnoty'!$C$5)","v":0}]
[null,"2017-01-03T09:30:00",1,1405.0800000000002,{"$f":"CEILING(IF(C233-C232=0,IF(H232=0,I232,IF(J232>K232,I232,E232)),'Výstupy modelu'!$C$7),1)","v":1664},0,0,{"$f":"IF(F233=1,IF(G233>'Zdrojová data'!$C$19,0,1),\"\")","v":""},1664,0,{"$f":"MIN(J233,'Zdrojová data'!$C$17)","v":0},0,{"$f":"L233/'Zdrojová data'!$C$16","v":0},{"$f":"M233*'Zdrojová data'!$C$13","v":0},{"$f":"N233*'Zdrojová data'!$C$14","v":0},0,{"$f":"IF(H233=0,D233-'Výstupy modelu'!$C$7,IF(P233=1,J233-K233,0))","v":0},0,null,{"$f":"MAX(0,IF(Q233>0,Q233-('Výstupy modelu'!$H$10-'Výstupy modelu'!$H$9),0))","v":0},null,null,1865.4300000000003,1885.4300000000003,0,{"$f":"MAX(0,D233-'Vstupní hodnoty'!$C$5)","v":0}]
[null,"2017-01-03T09:45:00",1,1369.44,{"$f":"CEILING(IF(C234-C233=0,IF(H233=0,I233,IF(J233>K233,I233,E233)),'Výstupy modelu'!$C$7),1)","v":1664},0,0,{"$f":"IF(F234=1,IF(G234>'Zdrojová data'!$C$19,0,1),\"\")","v":""},1664,0,{"$f":"MIN(J234,'Zdrojová data'!$C$17)","v":0},0,{"$f":"L234/'Zdrojová data'!$C$16","v":0},{"$f":"M234*'Zdrojová data'!$C$13","v":0},{"$f":"N234*'Zdrojová data'!$C$14","v":0},0,{"$f":"IF(H234=0,D234-'Výstupy modelu'!$C$7,IF(P234=1,J234-K234,0))","v":0},0,null,{"$f":"MAX(0,IF(Q234>0,Q234-('Výstupy modelu'!$H$10-'Výstupy modelu'!$H$9),0))","v":0},null,null,1865.4300000000003,1885.4300000000003,0,{"$f":"MAX(0,D234-'Vstupní hodnoty'!$C$5)","v":0}]
[null,"2017-01-03T10:00:00",1,1424.52,{"$f":"CEILING(IF(C235-C234=0,IF(H234=0,I234,IF(J234>K234,I234,E234)),'Výstupy modelu'!$C$7),1)","v":1664},0,0,{"$f":"IF(F235=1,IF(G235>'Zdrojová data'!$C$19,0,1),\"\")","v":""},1664,0,{"$f":"MIN(J235,'Zdrojová data'!$C$17)","v":0},0,{"$f":"L235/'Zdrojová data'!$C$16","v":0},{"$f":"M235*'Zdrojová data'!$C$13","v":0},{"$f":"N235*'Zdrojová data'!$C$14","v":0},0,{"$f":"IF(H235=0,D235-'Výstupy modelu'!$C$7,IF(P235=1,J235-K235,0))","v":0},0,null,{"$f":"MAX(0,IF(Q235>0,Q235-('Výstupy modelu'!$H$10-'Výstupy modelu'!$H$9),0))","v":0},null,null,1865.4300000000003,1885.4300000000003,0,{"$f":"MAX(0,D235-'Vstupní hodnoty'!$C$5)","v":0}]
[null,"2017-01-03T10:15:00",1,1331.64,{"$f":"CEILING(IF(C236-C235=0,IF(H235=0,I235,IF(J235>K235,I235,E235)),'Výstupy modelu'!$C$7),1)","v":1664},0,0,{"$f":"IF(F236=1,IF(G236>'Zdrojová data'!$C$19,0,1),\"\")","v":""},1664,0,{"$f":"MIN(J236,'Zdrojová data'!$C$17)","v":0},0,{"$f":"L236/'Zdrojová data'!$C$16","v":0},{"$f":"M236*'Zdrojová data'!$C$13","v":0},{"$f":"N236*'Zdrojová data'!$C$14","v":0},0,{"$f":"IF(H236=0,D236-'Výstupy modelu'!$C$7,IF(P236=1,J236-K236,0))","v":0},0,null,{"$f":"MAX(0,IF(Q236>0,Q236-('Výstupy modelu'!$H$10-'Výstupy modelu'!$H$9),0))","v":0},null,null,1865.4300000000003,1885.4300000000003,0,{"$f":"MAX(0,D236-'Vstupní hodnoty'!$C$5)","v":0}]
[null,"2017-01-03T10:30:00",1,1450.44,{"$f":"CEILING(IF(C237-C236=0,IF(H236=0,I236,IF(J236>K236,I236,E236)),'Výstupy modelu'!$C$7),1)","v":1664},0,0,{"$f":"IF(F237=1,IF(G237>'Zdrojová data'!$C$19,0,1),\"\")","v":""},1664,0,{"$f":"MIN(J237,'Zdrojová data'!$C$17)","v":0},0,{"$f":"L237/'Zdrojová data'!$C$16","v":0},{"$f":"M237*'Zdrojová data'!$C$13","v":0},{"$f":"N237*'Zdrojová data'!$C$14","v":0},0,{"$f":"IF(H237=0,D237-'Výstupy modelu'!$C$7,IF(P237=1,J237-K237,0))","v":0},0,null,{"$f":"MAX(0,IF(Q237>0,Q237-('Výstupy modelu'!$H$10-'Výstupy modelu'!$H$9),0))","v":0},null,null,1865.4300000000003,1885.4300000000003,0,{"$f":"MAX(0,D237-'Vstupní hodnoty'!$C$5)","v":0}]
[null,"2017-01-03T10:45:00",1,1397.52,{"$f":"CEILING(IF(C238-C237=0,IF(H237=0,I237,IF(J237>K237,I237,E237)),'Výstupy modelu'!$C$7),1)","v":1664},0,0,{"$f":"IF(F238=1,IF(G238>'Zdrojová data'!$C$19,0,1),\"\")","v":""},1664,0,{"$f":"MIN(J238,'Zdrojová data'!$C$17)","v":0},0,{"$f":"L238/'Zdrojová data'!$C$16","v":0},{"$f":"M238*'Zdrojová data'!$C$13","v":0},{"$f":"N238*'Zdrojová data'!$C$14","v":0},0,{"$f":"IF(H238=0,D238-'Výstupy modelu'!$C$7,IF(P238=1,J238-K238,0))","v":0},0,null,{"$f":"MAX(0,IF(Q238>0,Q238-('Výstupy modelu'!$H$10-'Výstupy modelu'!$H$9),0))","v":0},null,null,1865.4300000000003,1885.4300000000003,0,{"$f":"MAX(0,D238-'Vstupní hodnoty'!$C$5)","v":0}]
[null,"2017-01-03T11:00:00",1,1404,{"$f":"CEILING(IF(C239-C238=0,IF(H238=0,I238,IF(J238>K238,I238,E238)),'Výstupy modelu'!$C$7),1)","v":1664},0,0,{"$f":"IF(F239=1,IF(G239>'Zdrojová data'!$C$19,0,1),\"\")","v":""},1664,0,{"$f":"MIN(J239,'Zdrojová data'!$C$17)","v":0},0,{"$f":"L239/'Zdrojová data'!$C$16","v":0},{"$f":"M239*'Zdrojová data'!$C$13","v":0},{"$f":"N239*'Zdrojová data'!$C$14","v":0},0,{"$f":"IF(H239=0,D239-'Výstupy modelu'!$C$7,IF(P239=1,J239-K239,0))","v":0},0,null,{"$f":"MAX(0,IF(Q239>0,Q239-('Výstupy modelu'!$H$10-'Výstupy modelu'!$H$9),0))","v":0},null,null,1865.4300000000003,1885.4300000000003,0,{"$f":"MAX(0,D239-'Vstupní hodnoty'!$C$5)","v":0}]
[null,"2017-01-03T11:15:00",1,1408.3200000000002,{"$f":"CEILING(IF(C240-C239=0,IF(H239=0,I239,IF(J239>K239,I239,E239)),'Výstupy modelu'!$C$7),1)","v":1664},0,0,{"$f":"IF(F240=1,IF(G240>'Zdrojová data'!$C$19,0,1),\"\")","v":""},1664,0,{"$f":"MIN(J240,'Zdrojová data'!$C$17)","v":0},0,{"$f":"L240/'Zdrojová data'!$C$16","v":0},{"$f":"M240*'Zdrojová data'!$C$13","v":0},{"$f":"N240*'Zdrojová data'!$C$14","v":0},0,{"$f":"IF(H240=0,D240-'Výstupy modelu'!$C$7,IF(P240=1,J240-K240,0))","v":0},0,null,{"$f":"MAX(0,IF(Q240>0,Q240-('Výstupy modelu'!$H$10-'Výstupy modelu'!$H$9),0))","v":0},null,null,1865.4300000000003,1885.4300000000003,0,{"$f":"MAX(0,D240-'Vstupní hodnoty'!$C$5)","v":0}]
[null,"2017-01-03T11:30:00",1,1299.24,{"$f":"CEILING(IF(C241-C240=0,IF(H240=0,I240,IF(J240>K240,I240,E240)),'Výstupy modelu'!$C$7),1)","v":1664},0,0,{"$f":"IF(F241=1,IF(G241>'Zdrojová data'!$C$19,0,1),\"\")","v":""},1664,0,{"$f":"MIN(J241,'Zdrojová data'!$C$17)","v":0},0,{"$f":"L241/'Zdrojová data'!$C$16","v":0},{"$f":"M241*'Zdrojová data'!$C$13","v":0},{"$f":"N241*'Zdrojová data'!$C$14","v":0},0,{"$f":"IF(H241=0,D241-'Výstupy modelu'!$C$7,IF(P241=1,J241-K241,0))","v":0},0,null,{"$f":"MAX(0,IF(Q241>0,Q241-('Výstupy modelu'!$H$10-'Výstupy modelu'!$H$9),0))","v":0},null,null,1865.4300000000003,1885.4300000000003,0,{"$f":"MAX(0,D241-'Vstupní hodnoty'!$C$5)","v":0}]
[null,"2017-01-03T11:45:00",1,1210.68,{"$f":"CEILING(IF(C242-C241=0,IF(H241=0,I241,IF(J241>K241,I241,E241)),'Výstupy modelu'!$C$7),1)","v":1664},0,0,{"$f":"IF(F242=1,IF(G242>'Zdrojová data'!$C$19,0,1),\"\")","v":""},1664,0,{"$f":"MIN(J242,'Zdrojová data'!$C$17)","v":0},0,{"$f":"L242/'Zdrojová data'!$C$16","v":0},{"$f":"M242*'Zdrojová data'!$C$13","v":0},{"$f":"N242*'Zdrojová data'!$C$14","v":0},0,{"$f":"IF(H242=0,D242-'Výstupy modelu'!$C$7,IF(P242=1,J242-K242,0))","v":0},0,null,{"$f":"MAX(0,IF(Q242>0,Q242-('Výstupy modelu'!$H$10-'Výstupy modelu'!$H$9),0))","v":0},null,null,1865.4300000000003,1885.4300000000003,0,{"$f":"MAX(0,D242-'Vstupní hodnoty'!$C$5)","v":0}]
[null,"2017-01-03T12:00:00",1,1090.8000000000002,{"$f":"CEILING(IF(C243-C242=0,IF(H242=0,I242,IF(J242>K242,I242,E242)),'Výstupy modelu'!$C$7),1)","v":1664},0,0,{"$f":"IF(F243=1,IF(G243>'Zdrojová data'!$C$19,0,1),\"\")","v":""},1664,0,{"$f":"MIN(J243,'Zdrojová data'!$C$17)","v":0},0,{"$f":"L243/'Zdrojová data'!$C$16","v":0},{"$f":"M243*'Zdrojová data'!$C$13","v":0},{"$f":"N243*'Zdrojová data'!$C$14","v":0},0,{"$f":"IF(H243=0,D243-'Výstupy modelu'!$C$7,IF(P243=1,J243-K243,0))","v":0},0,null,{"$f":"MAX(0,IF(Q243>0,Q243-('Výstupy modelu'!$H$10-'Výstupy modelu'!$H$9),0))","v":0},null,null,1865.4300000000003,1885.4300000000003,0,{"$f":"MAX(0,D243-'Vstupní hodnoty'!$C$5)","v":0}]
[null,"2017-01-03T12:15:00",1,1046.52,{"$f":"CEILING(IF(C244-C243=0,IF(H243=0,I243,IF(J243>K243,I243,E243)),'Výstupy modelu'!$C$7),1)","v":1664},0,0,{"$f":"IF(F244=1,IF(G244>'Zdrojová data'!$C$19,0,1),\"\")","v":""},1664,0,{"$f":"MIN(J244,'Zdrojová data'!$C$17)","v":0},0,{"$f":"L244/'Zdrojová data'!$C$16","v":0},{"$f":"M244*'Zdrojová data'!$C$13","v":0},{"$f":"N244*'Zdrojová data'!$C$14","v":0},0,{"$f":"IF(H244=0,D244-'Výstupy modelu'!$C$7,IF(P244=1,J244-K244,0))","v":0},0,null,{"$f":"MAX(0,IF(Q244>0,Q244-('Výstupy modelu'!$H$10-'Výstupy modelu'!$H$9),0))","v":0},null,null,1865.4300000000003,1885.4300000000003,0,{"$f":"MAX(0,D244-'Vstupní hodnoty'!$C$5)","v":0}]
[null,"2017-01-03T12:30:00",1,1171.8000000000002,{"$f":"CEILING(IF(C245-C244=0,IF(H244=0,I244,IF(J244>K244,I244,E244)),'Výstupy modelu'!$C$7),1)","v":1664},0,0,{"$f":"IF(F245=1,IF(G245>'Zdrojová data'!$C$19,0,1),\"\")","v":""},1664,0,{"$f":"MIN(J245,'Zdrojová data'!$C$17)","v":0},0,{"$f":"L245/'Zdrojová data'!$C$16","v":0},{"$f":"M245*'Zdrojová data'!$C$13","v":0},{"$f":"N245*'Zdrojová data'!$C$14","v":0},0,{"$f":"IF(H245=0,D245-'Výstupy modelu'!$C$7,IF(P245=1,J245-K245,0))","v":0},0,null,{"$f":"MAX(0,IF(Q245>0,Q245-('Výstupy modelu'!$H$10-'Výstupy modelu'!$H$9),0))","v":0},null,null,1865.4300000000003,1885.4300000000003,0,{"$f":"MAX(0,D245-'Vstupní hodnoty'!$C$5)","v":0}]
[null,"2017-01-03T12:45:00",1,1368.3600000000001,{"$f":"CEILING(IF(C246-C245=0,IF(H245=0,I245,IF(J245>K245,I245,E245)),'Výstupy modelu'!$C$7),1)","v":1664},0,0,{"$f":"IF(F246=1,IF(G246>'Zdrojová data'!$C$19,0,1),\"\")","v":""},1664,0,{"$f":"MIN(J246,'Zdrojová data'!$C$17)","v":0},0,{"$f":"L246/'Zdrojová data'!$C$16","v":0},{"$f":"M246*'Zdrojová data'!$C$13","v":0},{"$f":"N246*'Zdrojová data'!$C$14","v":0},0,{"$f":"IF(H246=0,D246-'Výstupy modelu'!$C$7,IF(P246=1,J246-K246,0))","v":0},0,null,{"$f":"MAX(0,IF(Q246>0,Q246-('Výstupy modelu'!$H$10-'Výstupy modelu'!$H$9),0))","v":0},null,null,1865.4300000000003,1885.4300000000003,0,{"$f":"MAX(0,D246-'Vstupní hodnoty'!$C$5)","v":0}]
[null,"2017-01-03T13:00:00",1,1345.68,{"$f":"CEILING(IF(C247-C246=0,IF(H246=0,I246,IF(J246>K246,I246,E246)),'Výstupy modelu'!$C$7),1)","v":1664},0,0,{"$f":"IF(F247=1,IF(G247>'Zdrojová data'!$C$19,0,1),\"\")","v":""},1664,0,{"$f":"MIN(J247,'Zdrojová data'!$C$17)","v":0},0,{"$f":"L247/'Zdrojová data'!$C$16","v":0},{"$f":"M247*'Zdrojová data'!$C$13","v":0},{"$f":"N247*'Zdrojová data'!$C$14","v":0},0,{"$f":"IF(H247=0,D247-'Výstupy modelu'!$C$7,IF(P247=1,J247-K247,0))","v":0},0,null,{"$f":"MAX(0,IF(Q247>0,Q247-('Výstupy modelu'!$H$10-'Výstupy modelu'!$H$9),0))","v":0},null,null,1865.4300000000003,1885.4300000000003,0,{"$f":"MAX(0,D247-'Vstupní hodnoty'!$C$5)","v":0}]
[null,"2017-01-03T13:15:00",1,1352.16,{"$f":"CEILING(IF(C248-C247=0,IF(H247=0,I247,IF(J247>K247,I247,E247)),'Výstupy modelu'!$C$7),1)","v":1664},0,0,{"$f":"IF(F248=1,IF(G248>'Zdrojová data'!$C$19,0,1),\"\")","v":""},1664,0,{"$f":"MIN(J248,'Zdrojová data'!$C$17)","v":0},0,{"$f":"L248/'Zdrojová data'!$C$16","v":0},{"$f":"M248*'Zdrojová data'!$C$13","v":0},{"$f":"N248*'Zdrojová data'!$C$14","v":0},0,{"$f":"IF(H248=0,D248-'Výstupy modelu'!$C$7,IF(P248=1,J248-K248,0))","v":0},0,null,{"$f":"MAX(0,IF(Q248>0,Q248-('Výstupy modelu'!$H$10-'Výstupy modelu'!$H$9),0))","v":0},null,null,1865.4300000000003,1885.4300000000003,0,{"$f":"MAX(0,D248-'Vstupní hodnoty'!$C$5)","v":0}]
[null,"2017-01-03T13:30:00",1,1292.76,{"$f":"CEILING(IF(C249-C248=0,IF(H248=0,I248,IF(J248>K248,I248,E248)),'Výstupy modelu'!$C$7),1)","v":1664},0,0,{"$f":"IF(F249=1,IF(G249>'Zdrojová data'!$C$19,0,1),\"\")","v":""},1664,0,{"$f":"MIN(J249,'Zdrojová data'!$C$17)","v":0},0,{"$f":"L249/'Zdrojová data'!$C$16","v":0},{"$f":"M249*'Zdrojová data'!$C$13","v":0},{"$f":"N249*'Zdrojová data'!$C$14","v":0},0,{"$f":"IF(H249=0,D249-'Výstupy modelu'!$C$7,IF(P249=1,J249-K249,0))","v":0},0,null,{"$f":"MAX(0,IF(Q249>0,Q249-('Výstupy modelu'!$H$10-'Výstupy modelu'!$H$9),0))","v":0},null,null,1865.4300000000003,1885.4300000000003,0,{"$f":"MAX(0,D249-'Vstupní hodnoty'!$C$5)","v":0}]
[null,"2017-01-03T13:45:00",1,1298.1600000000001,{"$f":"CEILING(IF(C250-C249=0,IF(H249=0,I249,IF(J249>K249,I249,E249)),'Výstupy modelu'!$C$7),1)","v":1664},0,0,{"$f":"IF(F250=1,IF(G250>'Zdrojová data'!$C$19,0,1),\"\")","v":""},1664,0,{"$f":"MIN(J250,'Zdrojová data'!$C$17)","v":0},0,{"$f":"L250/'Zdrojová data'!$C$16","v":0},{"$f":"M250*'Zdrojová data'!$C$13","v":0},{"$f":"N250*'Zdrojová data'!$C$14","v":0},0,{"$f":"IF(H250=0,D250-'Výstupy modelu'!$C$7,IF(P250=1,J250-K250,0))","v":0},0,null,{"$f":"MAX(0,IF(Q250>0,Q250-('Výstupy modelu'!$H$10-'Výstupy modelu'!$H$9),0))","v":0},null,null,1865.4300000000003,1885.4300000000003,0,{"$f":"MAX(0,D250-'Vstupní hodnoty'!$C$5)","v":0}]
[null,"2017-01-03T14:00:00",1,1243.0800000000002,{"$f":"CEILING(IF(C251-C250=0,IF(H250=0,I250,IF(J250>K250,I250,E250)),'Výstupy modelu'!$C$7),1)","v":1664},0,0,{"$f":"IF(F251=1,IF(G251>'Zdrojová data'!$C$19,0,1),\"\")","v":""},1664,0,{"$f":"MIN(J251,'Zdrojová data'!$C$17)","v":0},0,{"$f":"L251/'Zdrojová data'!$C$16","v":0},{"$f":"M251*'Zdrojová data'!$C$13","v":0},{"$f":"N251*'Zdrojová data'!$C$14","v":0},0,{"$f":"IF(H251=0,D251-'Výstupy modelu'!$C$7,IF(P251=1,J251-K251,0))","v":0},0,null,{"$f":"MAX(0,IF(Q251>0,Q251-('Výstupy modelu'!$H$10-'Výstupy modelu'!$H$9),0))","v":0},null,null,1865.4300000000003,1885.4300000000003,0,{"$f":"MAX(0,D251-'Vstupní hodnoty'!$C$5)","v":0}]
[null,"2017-01-03T14:15:00",1,1275.48,{"$f":"CEILING(IF(C252-C251=0,IF(H251=0,I251,IF(J251>K251,I251,E251)),'Výstupy modelu'!$C$7),1)","v":1664},0,0,{"$f":"IF(F252=1,IF(G252>'Zdrojová data'!$C$19,0,1),\"\")","v":""},1664,0,{"$f":"MIN(J252,'Zdrojová data'!$C$17)","v":0},0,{"$f":"L252/'Zdrojová data'!$C$16","v":0},{"$f":"M252*'Zdrojová data'!$C$13","v":0},{"$f":"N252*'Zdrojová data'!$C$14","v":0},0,{"$f":"IF(H252=0,D252-'Výstupy modelu'!$C$7,IF(P252=1,J252-K252,0))","v":0},0,null,{"$f":"MAX(0,IF(Q252>0,Q252-('Výstupy modelu'!$H$10-'Výstupy modelu'!$H$9),0))","v":0},null,null,1865.4300000000003,1885.4300000000003,0,{"$f":"MAX(0,D252-'Vstupní hodnoty'!$C$5)","v":0}]
[null,"2017-01-03T14:30:00",1,1111.3200000000002,{"$f":"CEILING(IF(C253-C252=0,IF(H252=0,I252,IF(J252>K252,I252,E252)),'Výstupy modelu'!$C$7),1)","v":1664},0,0,{"$f":"IF(F253=1,IF(G253>'Zdrojová data'!$C$19,0,1),\"\")","v":""},1664,0,{"$f":"MIN(J253,'Zdrojová data'!$C$17)","v":0},0,{"$f":"L253/'Zdrojová data'!$C$16","v":0},{"$f":"M253*'Zdrojová data'!$C$13","v":0},{"$f":"N253*'Zdrojová data'!$C$14","v":0},0,{"$f":"IF(H253=0,D253-'Výstupy modelu'!$C$7,IF(P253=1,J253-K253,0))","v":0},0,null,{"$f":"MAX(0,IF(Q253>0,Q253-('Výstupy modelu'!$H$10-'Výstupy modelu'!$H$9),0))","v":0},null,null,1865.4300000000003,1885.4300000000003,0,{"$f":"MAX(0,D253-'Vstupní hodnoty'!$C$5)","v":0}]
[null,"2017-01-03T14:45:00",1,1097.28,{"$f":"CEILING(IF(C254-C253=0,IF(H253=0,I253,IF(J253>K253,I253,E253)),'Výstupy modelu'!$C$7),1)","v":1664},0,0,{"$f":"IF(F254=1,IF(G254>'Zdrojová data'!$C$19,0,1),\"\")","v":""},1664,0,{"$f":"MIN(J254,'Zdrojová data'!$C$17)","v":0},0,{"$f":"L254/'Zdrojová data'!$C$16","v":0},{"$f":"M254*'Zdrojová data'!$C$13","v":0},{"$f":"N254*'Zdrojová data'!$C$14","v":0},0,{"$f":"IF(H254=0,D254-'Výstupy modelu'!$C$7,IF(P254=1,J254-K254,0))","v":0},0,null,{"$f":"MAX(0,IF(Q254>0,Q254-('Výstupy modelu'!$H$10-'Výstupy modelu'!$H$9),0))","v":0},null,null,1865.4300000000003,1885.4300000000003,0,{"$f":"MAX(0,D254-'Vstupní hodnoty'!$C$5)","v":0}]
[null,"2017-01-03T15:00:00",1,1103.76,{"$f":"CEILING(IF(C255-C254=0,IF(H254=0,I254,IF(J254>K254,I254,E254)),'Výstupy modelu'!$C$7),1)","v":1664},0,0,{"$f":"IF(F255=1,IF(G255>'Zdrojová data'!$C$19,0,1),\"\")","v":""},1664,0,{"$f":"MIN(J255,'Zdrojová data'!$C$17)","v":0},0,{"$f":"L255/'Zdrojová data'!$C$16","v":0},{"$f":"M255*'Zdrojová data'!$C$13","v":0},{"$f":"N255*'Zdrojová data'!$C$14","v":0},0,{"$f":"IF(H255=0,D255-'Výstupy modelu'!$C$7,IF(P255=1,J255-K255,0))","v":0},0,null,{"$f":"MAX(0,IF(Q255>0,Q255-('Výstupy modelu'!$H$10-'Výstupy modelu'!$H$9),0))","v":0},null,null,1865.4300000000003,1885.4300000000003,0,{"$f":"MAX(0,D255-'Vstupní hodnoty'!$C$5)","v":0}]
[null,"2017-01-03T15:15:00",1,1080,{"$f":"CEILING(IF(C256-C255=0,IF(H255=0,I255,IF(J255>K255,I255,E255)),'Výstupy modelu'!$C$7),1)","v":1664},0,0,{"$f":"IF(F256=1,IF(G256>'Zdrojová data'!$C$19,0,1),\"\")","v":""},1664,0,{"$f":"MIN(J256,'Zdrojová data'!$C$17)","v":0},0,{"$f":"L256/'Zdrojová data'!$C$16","v":0},{"$f":"M256*'Zdrojová data'!$C$13","v":0},{"$f":"N256*'Zdrojová data'!$C$14","v":0},0,{"$f":"IF(H256=0,D256-'Výstupy modelu'!$C$7,IF(P256=1,J256-K256,0))","v":0},0,null,{"$f":"MAX(0,IF(Q256>0,Q256-('Výstupy modelu'!$H$10-'Výstupy modelu'!$H$9),0))","v":0},null,null,1865.4300000000003,1885.4300000000003,0,{"$f":"MAX(0,D256-'Vstupní hodnoty'!$C$5)","v":0}]
[null,"2017-01-03T15:30:00",1,1013.0400000000001,{"$f":"CEILING(IF(C257-C256=0,IF(H256=0,I256,IF(J256>K256,I256,E256)),'Výstupy modelu'!$C$7),1)","v":1664},0,0,{"$f":"IF(F257=1,IF(G257>'Zdrojová data'!$C$19,0,1),\"\")","v":""},1664,0,{"$f":"MIN(J257,'Zdrojová data'!$C$17)","v":0},0,{"$f":"L257/'Zdrojová data'!$C$16","v":0},{"$f":"M257*'Zdrojová data'!$C$13","v":0},{"$f":"N257*'Zdrojová data'!$C$14","v":0},0,{"$f":"IF(H257=0,D257-'Výstupy modelu'!$C$7,IF(P257=1,J257-K257,0))","v":0},0,null,{"$f":"MAX(0,IF(Q257>0,Q257-('Výstupy modelu'!$H$10-'Výstupy modelu'!$H$9),0))","v":0},null,null,1865.4300000000003,1885.4300000000003,0,{"$f":"MAX(0,D257-'Vstupní hodnoty'!$C$5)","v":0}]
[null,"2017-01-03T15:45:00",1,994.68000000000006,{"$f":"CEILING(IF(C258-C257=0,IF(H257=0,I257,IF(J257>K257,I257,E257)),'Výstupy modelu'!$C$7),1)","v":1664},0,0,{"$f":"IF(F258=1,IF(G258>'Zdrojová data'!$C$19,0,1),\"\")","v":""},1664,0,{"$f":"MIN(J258,'Zdrojová data'!$C$17)","v":0},0,{"$f":"L258/'Zdrojová data'!$C$16","v":0},{"$f":"M258*'Zdrojová data'!$C$13","v":0},{"$f":"N258*'Zdrojová data'!$C$14","v":0},0,{"$f":"IF(H258=0,D258-'Výstupy modelu'!$C$7,IF(P258=1,J258-K258,0))","v":0},0,null,{"$f":"MAX(0,IF(Q258>0,Q258-('Výstupy modelu'!$H$10-'Výstupy modelu'!$H$9),0))","v":0},null,null,1865.4300000000003,1885.4300000000003,0,{"$f":"MAX(0,D258-'Vstupní hodnoty'!$C$5)","v":0}]
[null,"2017-01-03T16:00:00",1,880.2,{"$f":"CEILING(IF(C259-C258=0,IF(H258=0,I258,IF(J258>K258,I258,E258)),'Výstupy modelu'!$C$7),1)","v":1664},0,0,{"$f":"IF(F259=1,IF(G259>'Zdrojová data'!$C$19,0,1),\"\")","v":""},1664,0,{"$f":"MIN(J259,'Zdrojová data'!$C$17)","v":0},0,{"$f":"L259/'Zdrojová data'!$C$16","v":0},{"$f":"M259*'Zdrojová data'!$C$13","v":0},{"$f":"N259*'Zdrojová data'!$C$14","v":0},0,{"$f":"IF(H259=0,D259-'Výstupy modelu'!$C$7,IF(P259=1,J259-K259,0))","v":0},0,null,{"$f":"MAX(0,IF(Q259>0,Q259-('Výstupy modelu'!$H$10-'Výstupy modelu'!$H$9),0))","v":0},null,null,1865.4300000000003,1885.4300000000003,0,{"$f":"MAX(0,D259-'Vstupní hodnoty'!$C$5)","v":0}]
[null,"2017-01-03T16:15:00",1,983.88000000000011,{"$f":"CEILING(IF(C260-C259=0,IF(H259=0,I259,IF(J259>K259,I259,E259)),'Výstupy modelu'!$C$7),1)","v":1664},{"$f":"IF(D260>E260,1,0)","v":0},0,{"$f":"IF(F260=1,IF(G260>'Zdrojová data'!$C$19,0,1),\"\")","v":""},{"$f":"IF(H260=0,D260,IF(J260>K260,E260+J260-K260,E260))","v":1664},{"$f":"IF(H260=1,D260-E260,0)","v":0},{"$f":"MIN(J260,'Zdrojová data'!$C$17)","v":0},0,{"$f":"L260/'Zdrojová data'!$C$16","v":0},{"$f":"M260*'Zdrojová data'!$C$13","v":0},{"$f":"N260*'Zdrojová data'!$C$14","v":0},0,{"$f":"IF(H260=0,D260-'Výstupy modelu'!$C$7,IF(P260=1,J260-K260,0))","v":0},0,null,{"$f":"MAX(0,IF(Q260>0,Q260-('Výstupy modelu'!$H$10-'Výstupy modelu'!$H$9),0))","v":0},null,null,1865.4300000000003,1885.4300000000003,{"$f":"MAX(0,D260-W260)","v":0},{"$f":"MAX(0,D260-'Vstupní hodnoty'!$C$5)","v":0}]
[null,"2017-01-03T16:30:00",{"$f":"MONTH(B261)","v":1},983.88000000000011,{"$f":"CEILING(IF(C261-C260=0,IF(H260=0,I260,IF(J260>K260,I260,E260)),'Výstupy modelu'!$C$7),1)","v":1664},0,{"$f":"IF(F261=1,RANDBETWEEN(0,100),0)","v":0},{"$f":"IF(F261=1,IF(G261>'Zdrojová data'!$C$19,0,1),\"\")","v":""},1664,0,{"$f":"MIN(J261,'Zdrojová data'!$C$17)","v":0},{"$f":"K261/4","v":0},{"$f":"L261/'Zdrojová data'!$C$16","v":0},{"$f":"M261*'Zdrojová data'!$C$13","v":0},{"$f":"N261*'Zdrojová data'!$C$14","v":0},{"$f":"IF(H261=0,1,IF(J261>K261,1,0))","v":0},{"$f":"IF(H261=0,D261-'Výstupy modelu'!$C$7,IF(P261=1,J261-K261,0))","v":0},{"$f":"IF(H261=0,1,IF(J261>K261,1,0))","v":0},null,{"$f":"MAX(0,IF(Q261>0,Q261-('Výstupy modelu'!$H$10-'Výstupy modelu'!$H$9),0))","v":0},null,null,1865.4300000000003,1885.4300000000003,0,{"$f":"MAX(0,D261-'Vstupní hodnoty'!$C$5)","v":0}]
[null,"2017-01-03T16:45:00",1,1000.08,{"$f":"CEILING(IF(C262-C261=0,IF(H261=0,I261,IF(J261>K261,I261,E261)),'Výstupy modelu'!$C$7),1)","v":1664},0,0,{"$f":"IF(F262=1,IF(G262>'Zdrojová data'!$C$19,0,1),\"\")","v":""},1664,0,{"$f":"MIN(J262,'Zdrojová data'!$C$17)","v":0},0,{"$f":"L262/'Zdrojová data'!$C$16","v":0},{"$f":"M262*'Zdrojová data'!$C$13","v":0},{"$f":"N262*'Zdrojová data'!$C$14","v":0},0,{"$f":"IF(H262=0,D262-'Výstupy modelu'!$C$7,IF(P262=1,J262-K262,0))","v":0},0,null,{"$f":"MAX(0,IF(Q262>0,Q262-('Výstupy modelu'!$H$10-'Výstupy modelu'!$H$9),0))","v":0},null,null,{"$f":"W261","v":1865.4300000000003},1885.4300000000003,0,{"$f":"MAX(0,D262-'Vstupní hodnoty'!$C$5)","v":0}]
[null,"2017-01-03T17:00:00",1,972.00000000000011,{"$f":"CEILING(IF(C263-C262=0,IF(H262=0,I262,IF(J262>K262,I262,E262)),'Výstupy modelu'!$C$7),1)","v":1664},0,0,{"$f":"IF(F263=1,IF(G263>'Zdrojová data'!$C$19,0,1),\"\")","v":""},1664,0,{"$f":"MIN(J263,'Zdrojová data'!$C$17)","v":0},0,{"$f":"L263/'Zdrojová data'!$C$16","v":0},{"$f":"M263*'Zdrojová data'!$C$13","v":0},{"$f":"N263*'Zdrojová data'!$C$14","v":0},0,{"$f":"IF(H263=0,D263-'Výstupy modelu'!$C$7,IF(P263=1,J263-K263,0))","v":0},0,null,{"$f":"MAX(0,IF(Q263>0,Q263-('Výstupy modelu'!$H$10-'Výstupy modelu'!$H$9),0))","v":0},null,null,1865.4300000000003,1885.4300000000003,0,{"$f":"MAX(0,D263-'Vstupní hodnoty'!$C$5)","v":0}]
[null,"2017-01-03T17:15:00",1,977.40000000000009,{"$f":"CEILING(IF(C264-C263=0,IF(H263=0,I263,IF(J263>K263,I263,E263)),'Výstupy modelu'!$C$7),1)","v":1664},0,0,{"$f":"IF(F264=1,IF(G264>'Zdrojová data'!$C$19,0,1),\"\")","v":""},1664,0,{"$f":"MIN(J264,'Zdrojová data'!$C$17)","v":0},0,{"$f":"L264/'Zdrojová data'!$C$16","v":0},{"$f":"M264*'Zdrojová data'!$C$13","v":0},{"$f":"N264*'Zdrojová data'!$C$14","v":0},0,{"$f":"IF(H264=0,D264-'Výstupy modelu'!$C$7,IF(P264=1,J264-K264,0))","v":0},0,null,{"$f":"MAX(0,IF(Q264>0,Q264-('Výstupy modelu'!$H$10-'Výstupy modelu'!$H$9),0))","v":0},null,null,1865.4300000000003,1885.4300000000003,0,{"$f":"MAX(0,D264-'Vstupní hodnoty'!$C$5)","v":0}]
[null,"2017-01-03T17:30:00",1,941.7600000000001,{"$f":"CEILING(IF(C265-C264=0,IF(H264=0,I264,IF(J264>K264,I264,E264)),'Výstupy modelu'!$C$7),1)","v":1664},0,0,{"$f":"IF(F265=1,IF(G265>'Zdrojová data'!$C$19,0,1),\"\")","v":""},1664,0,{"$f":"MIN(J265,'Zdrojová data'!$C$17)","v":0},0,{"$f":"L265/'Zdrojová data'!$C$16","v":0},{"$f":"M265*'Zdrojová data'!$C$13","v":0},{"$f":"N265*'Zdrojová data'!$C$14","v":0},0,{"$f":"IF(H265=0,D265-'Výstupy modelu'!$C$7,IF(P265=1,J265-K265,0))","v":0},0,null,{"$f":"MAX(0,IF(Q265>0,Q265-('Výstupy modelu'!$H$10-'Výstupy modelu'!$H$9),0))","v":0},null,null,1865.4300000000003,1885.4300000000003,0,{"$f":"MAX(0,D265-'Vstupní hodnoty'!$C$5)","v":0}]
[null,"2017-01-03T17:45:00",1,785.16000000000008,{"$f":"CEILING(IF(C266-C265=0,IF(H265=0,I265,IF(J265>K265,I265,E265)),'Výstupy modelu'!$C$7),1)","v":1664},0,0,{"$f":"IF(F266=1,IF(G266>'Zdrojová data'!$C$19,0,1),\"\")","v":""},1664,0,{"$f":"MIN(J266,'Zdrojová data'!$C$17)","v":0},0,{"$f":"L266/'Zdrojová data'!$C$16","v":0},{"$f":"M266*'Zdrojová data'!$C$13","v":0},{"$f":"N266*'Zdrojová data'!$C$14","v":0},0,{"$f":"IF(H266=0,D266-'Výstupy modelu'!$C$7,IF(P266=1,J266-K266,0))","v":0},0,null,{"$f":"MAX(0,IF(Q266>0,Q266-('Výstupy modelu'!$H$10-'Výstupy modelu'!$H$9),0))","v":0},null,null,1865.4300000000003,1885.4300000000003,0,{"$f":"MAX(0,D266-'Vstupní hodnoty'!$C$5)","v":0}]
[null,"2017-01-03T18:00:00",1,756,{"$f":"CEILING(IF(C267-C266=0,IF(H266=0,I266,IF(J266>K266,I266,E266)),'Výstupy modelu'!$C$7),1)","v":1664},0,0,{"$f":"IF(F267=1,IF(G267>'Zdrojová data'!$C$19,0,1),\"\")","v":""},1664,0,{"$f":"MIN(J267,'Zdrojová data'!$C$17)","v":0},0,{"$f":"L267/'Zdrojová data'!$C$16","v":0},{"$f":"M267*'Zdrojová data'!$C$13","v":0},{"$f":"N267*'Zdrojová data'!$C$14","v":0},0,{"$f":"IF(H267=0,D267-'Výstupy modelu'!$C$7,IF(P267=1,J267-K267,0))","v":0},0,null,{"$f":"MAX(0,IF(Q267>0,Q267-('Výstupy modelu'!$H$10-'Výstupy modelu'!$H$9),0))","v":0},null,null,1865.4300000000003,1885.4300000000003,0,{"$f":"MAX(0,D267-'Vstupní hodnoty'!$C$5)","v":0}]
[null,"2017-01-03T18:15:00",1,812.16000000000008,{"$f":"CEILING(IF(C268-C267=0,IF(H267=0,I267,IF(J267>K267,I267,E267)),'Výstupy modelu'!$C$7),1)","v":1664},0,0,{"$f":"IF(F268=1,IF(G268>'Zdrojová data'!$C$19,0,1),\"\")","v":""},1664,0,{"$f":"MIN(J268,'Zdrojová data'!$C$17)","v":0},0,{"$f":"L268/'Zdrojová data'!$C$16","v":0},{"$f":"M268*'Zdrojová data'!$C$13","v":0},{"$f":"N268*'Zdrojová data'!$C$14","v":0},0,{"$f":"IF(H268=0,D268-'Výstupy modelu'!$C$7,IF(P268=1,J268-K268,0))","v":0},0,null,{"$f":"MAX(0,IF(Q268>0,Q268-('Výstupy modelu'!$H$10-'Výstupy modelu'!$H$9),0))","v":0},null,null,1865.4300000000003,1885.4300000000003,0,{"$f":"MAX(0,D268-'Vstupní hodnoty'!$C$5)","v":0}]
[null,"2017-01-03T18:30:00",1,919.08,{"$f":"CEILING(IF(C269-C268=0,IF(H268=0,I268,IF(J268>K268,I268,E268)),'Výstupy modelu'!$C$7),1)","v":1664},0,0,{"$f":"IF(F269=1,IF(G269>'Zdrojová data'!$C$19,0,1),\"\")","v":""},1664,0,{"$f":"MIN(J269,'Zdrojová data'!$C$17)","v":0},0,{"$f":"L269/'Zdrojová data'!$C$16","v":0},{"$f":"M269*'Zdrojová data'!$C$13","v":0},{"$f":"N269*'Zdrojová data'!$C$14","v":0},0,{"$f":"IF(H269=0,D269-'Výstupy modelu'!$C$7,IF(P269=1,J269-K269,0))","v":0},0,null,{"$f":"MAX(0,IF(Q269>0,Q269-('Výstupy modelu'!$H$10-'Výstupy modelu'!$H$9),0))","v":0},null,null,1865.4300000000003,1885.4300000000003,0,{"$f":"MAX(0,D269-'Vstupní hodnoty'!$C$5)","v":0}]
[null,"2017-01-03T18:45:00",1,910.44,{"$f":"CEILING(IF(C270-C269=0,IF(H269=0,I269,IF(J269>K269,I269,E269)),'Výstupy modelu'!$C$7),1)","v":1664},0,0,{"$f":"IF(F270=1,IF(G270>'Zdrojová data'!$C$19,0,1),\"\")","v":""},1664,0,{"$f":"MIN(J270,'Zdrojová data'!$C$17)","v":0},0,{"$f":"L270/'Zdrojová data'!$C$16","v":0},{"$f":"M270*'Zdrojová data'!$C$13","v":0},{"$f":"N270*'Zdrojová data'!$C$14","v":0},0,{"$f":"IF(H270=0,D270-'Výstupy modelu'!$C$7,IF(P270=1,J270-K270,0))","v":0},0,null,{"$f":"MAX(0,IF(Q270>0,Q270-('Výstupy modelu'!$H$10-'Výstupy modelu'!$H$9),0))","v":0},null,null,1865.4300000000003,1885.4300000000003,0,{"$f":"MAX(0,D270-'Vstupní hodnoty'!$C$5)","v":0}]
[null,"2017-01-03T19:00:00",1,933.12000000000012,{"$f":"CEILING(IF(C271-C270=0,IF(H270=0,I270,IF(J270>K270,I270,E270)),'Výstupy modelu'!$C$7),1)","v":1664},0,0,{"$f":"IF(F271=1,IF(G271>'Zdrojová data'!$C$19,0,1),\"\")","v":""},1664,0,{"$f":"MIN(J271,'Zdrojová data'!$C$17)","v":0},0,{"$f":"L271/'Zdrojová data'!$C$16","v":0},{"$f":"M271*'Zdrojová data'!$C$13","v":0},{"$f":"N271*'Zdrojová data'!$C$14","v":0},0,{"$f":"IF(H271=0,D271-'Výstupy modelu'!$C$7,IF(P271=1,J271-K271,0))","v":0},0,null,{"$f":"MAX(0,IF(Q271>0,Q271-('Výstupy modelu'!$H$10-'Výstupy modelu'!$H$9),0))","v":0},null,null,1865.4300000000003,1885.4300000000003,0,{"$f":"MAX(0,D271-'Vstupní hodnoty'!$C$5)","v":0}]
[null,"2017-01-03T19:15:00",1,923.40000000000009,{"$f":"CEILING(IF(C272-C271=0,IF(H271=0,I271,IF(J271>K271,I271,E271)),'Výstupy modelu'!$C$7),1)","v":1664},0,0,{"$f":"IF(F272=1,IF(G272>'Zdrojová data'!$C$19,0,1),\"\")","v":""},1664,0,{"$f":"MIN(J272,'Zdrojová data'!$C$17)","v":0},0,{"$f":"L272/'Zdrojová data'!$C$16","v":0},{"$f":"M272*'Zdrojová data'!$C$13","v":0},{"$f":"N272*'Zdrojová data'!$C$14","v":0},0,{"$f":"IF(H272=0,D272-'Výstupy modelu'!$C$7,IF(P272=1,J272-K272,0))","v":0},0,null,{"$f":"MAX(0,IF(Q272>0,Q272-('Výstupy modelu'!$H$10-'Výstupy modelu'!$H$9),0))","v":0},null,null,1865.4300000000003,1885.4300000000003,0,{"$f":"MAX(0,D272-'Vstupní hodnoty'!$C$5)","v":0}]
[null,"2017-01-03T19:30:00",1,900.72,{"$f":"CEILING(IF(C273-C272=0,IF(H272=0,I272,IF(J272>K272,I272,E272)),'Výstupy modelu'!$C$7),1)","v":1664},0,0,{"$f":"IF(F273=1,IF(G273>'Zdrojová data'!$C$19,0,1),\"\")","v":""},1664,0,{"$f":"MIN(J273,'Zdrojová data'!$C$17)","v":0},0,{"$f":"L273/'Zdrojová data'!$C$16","v":0},{"$f":"M273*'Zdrojová data'!$C$13","v":0},{"$f":"N273*'Zdrojová data'!$C$14","v":0},0,{"$f":"IF(H273=0,D273-'Výstupy modelu'!$C$7,IF(P273=1,J273-K273,0))","v":0},0,null,{"$f":"MAX(0,IF(Q273>0,Q273-('Výstupy modelu'!$H$10-'Výstupy modelu'!$H$9),0))","v":0},null,null,1865.4300000000003,1885.4300000000003,0,{"$f":"MAX(0,D273-'Vstupní hodnoty'!$C$5)","v":0}]
[null,"2017-01-03T19:45:00",1,899.6400000000001,{"$f":"CEILING(IF(C274-C273=0,IF(H273=0,I273,IF(J273>K273,I273,E273)),'Výstupy modelu'!$C$7),1)","v":1664},0,0,{"$f":"IF(F274=1,IF(G274>'Zdrojová data'!$C$19,0,1),\"\")","v":""},1664,0,{"$f":"MIN(J274,'Zdrojová data'!$C$17)","v":0},0,{"$f":"L274/'Zdrojová data'!$C$16","v":0},{"$f":"M274*'Zdrojová data'!$C$13","v":0},{"$f":"N274*'Zdrojová data'!$C$14","v":0},0,{"$f":"IF(H274=0,D274-'Výstupy modelu'!$C$7,IF(P274=1,J274-K274,0))","v":0},0,null,{"$f":"MAX(0,IF(Q274>0,Q274-('Výstupy modelu'!$H$10-'Výstupy modelu'!$H$9),0))","v":0},null,null,1865.4300000000003,1885.4300000000003,0,{"$f":"MAX(0,D274-'Vstupní hodnoty'!$C$5)","v":0}]
[null,"2017-01-03T20:00:00",1,875.88000000000011,{"$f":"CEILING(IF(C275-C274=0,IF(H274=0,I274,IF(J274>K274,I274,E274)),'Výstupy modelu'!$C$7),1)","v":1664},0,0,{"$f":"IF(F275=1,IF(G275>'Zdrojová data'!$C$19,0,1),\"\")","v":""},1664,0,{"$f":"MIN(J275,'Zdrojová data'!$C$17)","v":0},0,{"$f":"L275/'Zdrojová data'!$C$16","v":0},{"$f":"M275*'Zdrojová data'!$C$13","v":0},{"$f":"N275*'Zdrojová data'!$C$14","v":0},0,{"$f":"IF(H275=0,D275-'Výstupy modelu'!$C$7,IF(P275=1,J275-K275,0))","v":0},0,null,{"$f":"MAX(0,IF(Q275>0,Q275-('Výstupy modelu'!$H$10-'Výstupy modelu'!$H$9),0))","v":0},null,null,1865.4300000000003,1885.4300000000003,0,{"$f":"MAX(0,D275-'Vstupní hodnoty'!$C$5)","v":0}]
[null,"2017-01-03T20:15:00",1,790.56000000000006,{"$f":"CEILING(IF(C276-C275=0,IF(H275=0,I275,IF(J275>K275,I275,E275)),'Výstupy modelu'!$C$7),1)","v":1664},0,0,{"$f":"IF(F276=1,IF(G276>'Zdrojová data'!$C$19,0,1),\"\")","v":""},1664,0,{"$f":"MIN(J276,'Zdrojová data'!$C$17)","v":0},0,{"$f":"L276/'Zdrojová data'!$C$16","v":0},{"$f":"M276*'Zdrojová data'!$C$13","v":0},{"$f":"N276*'Zdrojová data'!$C$14","v":0},0,{"$f":"IF(H276=0,D276-'Výstupy modelu'!$C$7,IF(P276=1,J276-K276,0))","v":0},0,null,{"$f":"MAX(0,IF(Q276>0,Q276-('Výstupy modelu'!$H$10-'Výstupy modelu'!$H$9),0))","v":0},null,null,1865.4300000000003,1885.4300000000003,0,{"$f":"MAX(0,D276-'Vstupní hodnoty'!$C$5)","v":0}]
[null,"2017-01-03T20:30:00",1,874.80000000000007,{"$f":"CEILING(IF(C277-C276=0,IF(H276=0,I276,IF(J276>K276,I276,E276)),'Výstupy modelu'!$C$7),1)","v":1664},0,0,{"$f":"IF(F277=1,IF(G277>'Zdrojová data'!$C$19,0,1),\"\")","v":""},1664,0,{"$f":"MIN(J277,'Zdrojová data'!$C$17)","v":0},0,{"$f":"L277/'Zdrojová data'!$C$16","v":0},{"$f":"M277*'Zdrojová data'!$C$13","v":0},{"$f":"N277*'Zdrojová data'!$C$14","v":0},0,{"$f":"IF(H277=0,D277-'Výstupy modelu'!$C$7,IF(P277=1,J277-K277,0))","v":0},0,null,{"$f":"MAX(0,IF(Q277>0,Q277-('Výstupy modelu'!$H$10-'Výstupy modelu'!$H$9),0))","v":0},null,null,1865.4300000000003,1885.4300000000003,0,{"$f":"MAX(0,D277-'Vstupní hodnoty'!$C$5)","v":0}]
[null,"2017-01-03T20:45:00",1,791.6400000000001,{"$f":"CEILING(IF(C278-C277=0,IF(H277=0,I277,IF(J277>K277,I277,E277)),'Výstupy modelu'!$C$7),1)","v":1664},0,0,{"$f":"IF(F278=1,IF(G278>'Zdrojová data'!$C$19,0,1),\"\")","v":""},1664,0,{"$f":"MIN(J278,'Zdrojová data'!$C$17)","v":0},0,{"$f":"L278/'Zdrojová data'!$C$16","v":0},{"$f":"M278*'Zdrojová data'!$C$13","v":0},{"$f":"N278*'Zdrojová data'!$C$14","v":0},0,{"$f":"IF(H278=0,D278-'Výstupy modelu'!$C$7,IF(P278=1,J278-K278,0))","v":0},0,null,{"$f":"MAX(0,IF(Q278>0,Q278-('Výstupy modelu'!$H$10-'Výstupy modelu'!$H$9),0))","v":0},null,null,1865.4300000000003,1885.4300000000003,0,{"$f":"MAX(0,D278-'Vstupní hodnoty'!$C$5)","v":0}]
[null,"2017-01-03T21:00:00",1,732.24,{"$f":"CEILING(IF(C279-C278=0,IF(H278=0,I278,IF(J278>K278,I278,E278)),'Výstupy modelu'!$C$7),1)","v":1664},0,0,{"$f":"IF(F279=1,IF(G279>'Zdrojová data'!$C$19,0,1),\"\")","v":""},1664,0,{"$f":"MIN(J279,'Zdrojová data'!$C$17)","v":0},0,{"$f":"L279/'Zdrojová data'!$C$16","v":0},{"$f":"M279*'Zdrojová data'!$C$13","v":0},{"$f":"N279*'Zdrojová data'!$C$14","v":0},0,{"$f":"IF(H279=0,D279-'Výstupy modelu'!$C$7,IF(P279=1,J279-K279,0))","v":0},0,null,{"$f":"MAX(0,IF(Q279>0,Q279-('Výstupy modelu'!$H$10-'Výstupy modelu'!$H$9),0))","v":0},null,null,1865.4300000000003,1885.4300000000003,0,{"$f":"MAX(0,D279-'Vstupní hodnoty'!$C$5)","v":0}]
[null,"2017-01-03T21:15:00",1,725.76,{"$f":"CEILING(IF(C280-C279=0,IF(H279=0,I279,IF(J279>K279,I279,E279)),'Výstupy modelu'!$C$7),1)","v":1664},0,0,{"$f":"IF(F280=1,IF(G280>'Zdrojová data'!$C$19,0,1),\"\")","v":""},1664,0,{"$f":"MIN(J280,'Zdrojová data'!$C$17)","v":0},0,{"$f":"L280/'Zdrojová data'!$C$16","v":0},{"$f":"M280*'Zdrojová data'!$C$13","v":0},{"$f":"N280*'Zdrojová data'!$C$14","v":0},0,{"$f":"IF(H280=0,D280-'Výstupy modelu'!$C$7,IF(P280=1,J280-K280,0))","v":0},0,null,{"$f":"MAX(0,IF(Q280>0,Q280-('Výstupy modelu'!$H$10-'Výstupy modelu'!$H$9),0))","v":0},null,null,1865.4300000000003,1885.4300000000003,0,{"$f":"MAX(0,D280-'Vstupní hodnoty'!$C$5)","v":0}]
[null,"2017-01-03T21:30:00",1,676.08,{"$f":"CEILING(IF(C281-C280=0,IF(H280=0,I280,IF(J280>K280,I280,E280)),'Výstupy modelu'!$C$7),1)","v":1664},0,0,{"$f":"IF(F281=1,IF(G281>'Zdrojová data'!$C$19,0,1),\"\")","v":""},1664,0,{"$f":"MIN(J281,'Zdrojová data'!$C$17)","v":0},0,{"$f":"L281/'Zdrojová data'!$C$16","v":0},{"$f":"M281*'Zdrojová data'!$C$13","v":0},{"$f":"N281*'Zdrojová data'!$C$14","v":0},0,{"$f":"IF(H281=0,D281-'Výstupy modelu'!$C$7,IF(P281=1,J281-K281,0))","v":0},0,null,{"$f":"MAX(0,IF(Q281>0,Q281-('Výstupy modelu'!$H$10-'Výstupy modelu'!$H$9),0))","v":0},null,null,1865.4300000000003,1885.4300000000003,0,{"$f":"MAX(0,D281-'Vstupní hodnoty'!$C$5)","v":0}]
[null,"2017-01-03T21:45:00",1,624.24,{"$f":"CEILING(IF(C282-C281=0,IF(H281=0,I281,IF(J281>K281,I281,E281)),'Výstupy modelu'!$C$7),1)","v":1664},0,0,{"$f":"IF(F282=1,IF(G282>'Zdrojová data'!$C$19,0,1),\"\")","v":""},1664,0,{"$f":"MIN(J282,'Zdrojová data'!$C$17)","v":0},0,{"$f":"L282/'Zdrojová data'!$C$16","v":0},{"$f":"M282*'Zdrojová data'!$C$13","v":0},{"$f":"N282*'Zdrojová data'!$C$14","v":0},0,{"$f":"IF(H282=0,D282-'Výstupy modelu'!$C$7,IF(P282=1,J282-K282,0))","v":0},0,null,{"$f":"MAX(0,IF(Q282>0,Q282-('Výstupy modelu'!$H$10-'Výstupy modelu'!$H$9),0))","v":0},null,null,1865.4300000000003,1885.4300000000003,0,{"$f":"MAX(0,D282-'Vstupní hodnoty'!$C$5)","v":0}]
[null,"2017-01-03T22:00:00",1,567,{"$f":"CEILING(IF(C283-C282=0,IF(H282=0,I282,IF(J282>K282,I282,E282)),'Výstupy modelu'!$C$7),1)","v":1664},0,0,{"$f":"IF(F283=1,IF(G283>'Zdrojová data'!$C$19,0,1),\"\")","v":""},1664,0,{"$f":"MIN(J283,'Zdrojová data'!$C$17)","v":0},0,{"$f":"L283/'Zdrojová data'!$C$16","v":0},{"$f":"M283*'Zdrojová data'!$C$13","v":0},{"$f":"N283*'Zdrojová data'!$C$14","v":0},0,{"$f":"IF(H283=0,D283-'Výstupy modelu'!$C$7,IF(P283=1,J283-K283,0))","v":0},0,null,{"$f":"MAX(0,IF(Q283>0,Q283-('Výstupy modelu'!$H$10-'Výstupy modelu'!$H$9),0))","v":0},null,null,1865.4300000000003,1885.4300000000003,0,{"$f":"MAX(0,D283-'Vstupní hodnoty'!$C$5)","v":0}]
[null,"2017-01-03T22:15:00",1,459.00000000000006,{"$f":"CEILING(IF(C284-C283=0,IF(H283=0,I283,IF(J283>K283,I283,E283)),'Výstupy modelu'!$C$7),1)","v":1664},0,0,{"$f":"IF(F284=1,IF(G284>'Zdrojová data'!$C$19,0,1),\"\")","v":""},1664,0,{"$f":"MIN(J284,'Zdrojová data'!$C$17)","v":0},0,{"$f":"L284/'Zdrojová data'!$C$16","v":0},{"$f":"M284*'Zdrojová data'!$C$13","v":0},{"$f":"N284*'Zdrojová data'!$C$14","v":0},0,{"$f":"IF(H284=0,D284-'Výstupy modelu'!$C$7,IF(P284=1,J284-K284,0))","v":0},0,null,{"$f":"MAX(0,IF(Q284>0,Q284-('Výstupy modelu'!$H$10-'Výstupy modelu'!$H$9),0))","v":0},null,null,1865.4300000000003,1885.4300000000003,0,{"$f":"MAX(0,D284-'Vstupní hodnoty'!$C$5)","v":0}]
[null,"2017-01-03T22:30:00",1,432,{"$f":"CEILING(IF(C285-C284=0,IF(H284=0,I284,IF(J284>K284,I284,E284)),'Výstupy modelu'!$C$7),1)","v":1664},0,0,{"$f":"IF(F285=1,IF(G285>'Zdrojová data'!$C$19,0,1),\"\")","v":""},1664,0,{"$f":"MIN(J285,'Zdrojová data'!$C$17)","v":0},0,{"$f":"L285/'Zdrojová data'!$C$16","v":0},{"$f":"M285*'Zdrojová data'!$C$13","v":0},{"$f":"N285*'Zdrojová data'!$C$14","v":0},0,{"$f":"IF(H285=0,D285-'Výstupy modelu'!$C$7,IF(P285=1,J285-K285,0))","v":0},0,null,{"$f":"MAX(0,IF(Q285>0,Q285-('Výstupy modelu'!$H$10-'Výstupy modelu'!$H$9),0))","v":0},null,null,1865.4300000000003,1885.4300000000003,0,{"$f":"MAX(0,D285-'Vstupní hodnoty'!$C$5)","v":0}]
[null,"2017-01-03T22:45:00",1,425.52000000000004,{"$f":"CEILING(IF(C286-C285=0,IF(H285=0,I285,IF(J285>K285,I285,E285)),'Výstupy modelu'!$C$7),1)","v":1664},0,0,{"$f":"IF(F286=1,IF(G286>'Zdrojová data'!$C$19,0,1),\"\")","v":""},1664,0,{"$f":"MIN(J286,'Zdrojová data'!$C$17)","v":0},0,{"$f":"L286/'Zdrojová data'!$C$16","v":0},{"$f":"M286*'Zdrojová data'!$C$13","v":0},{"$f":"N286*'Zdrojová data'!$C$14","v":0},0,{"$f":"IF(H286=0,D286-'Výstupy modelu'!$C$7,IF(P286=1,J286-K286,0))","v":0},0,null,{"$f":"MAX(0,IF(Q286>0,Q286-('Výstupy modelu'!$H$10-'Výstupy modelu'!$H$9),0))","v":0},null,null,1865.4300000000003,1885.4300000000003,0,{"$f":"MAX(0,D286-'Vstupní hodnoty'!$C$5)","v":0}]
[null,"2017-01-03T23:00:00",1,432,{"$f":"CEILING(IF(C287-C286=0,IF(H286=0,I286,IF(J286>K286,I286,E286)),'Výstupy modelu'!$C$7),1)","v":1664},0,0,{"$f":"IF(F287=1,IF(G287>'Zdrojová data'!$C$19,0,1),\"\")","v":""},1664,0,{"$f":"MIN(J287,'Zdrojová data'!$C$17)","v":0},0,{"$f":"L287/'Zdrojová data'!$C$16","v":0},{"$f":"M287*'Zdrojová data'!$C$13","v":0},{"$f":"N287*'Zdrojová data'!$C$14","v":0},0,{"$f":"IF(H287=0,D287-'Výstupy modelu'!$C$7,IF(P287=1,J287-K287,0))","v":0},0,null,{"$f":"MAX(0,IF(Q287>0,Q287-('Výstupy modelu'!$H$10-'Výstupy modelu'!$H$9),0))","v":0},null,null,1865.4300000000003,1885.4300000000003,0,{"$f":"MAX(0,D287-'Vstupní hodnoty'!$C$5)","v":0}]
[null,"2017-01-03T23:15:00",1,422.28000000000003,{"$f":"CEILING(IF(C288-C287=0,IF(H287=0,I287,IF(J287>K287,I287,E287)),'Výstupy modelu'!$C$7),1)","v":1664},0,0,{"$f":"IF(F288=1,IF(G288>'Zdrojová data'!$C$19,0,1),\"\")","v":""},1664,0,{"$f":"MIN(J288,'Zdrojová data'!$C$17)","v":0},0,{"$f":"L288/'Zdrojová data'!$C$16","v":0},{"$f":"M288*'Zdrojová data'!$C$13","v":0},{"$f":"N288*'Zdrojová data'!$C$14","v":0},0,{"$f":"IF(H288=0,D288-'Výstupy modelu'!$C$7,IF(P288=1,J288-K288,0))","v":0},0,null,{"$f":"MAX(0,IF(Q288>0,Q288-('Výstupy modelu'!$H$10-'Výstupy modelu'!$H$9),0))","v":0},null,null,1865.4300000000003,1885.4300000000003,0,{"$f":"MAX(0,D288-'Vstupní hodnoty'!$C$5)","v":0}]
[null,"2017-01-03T23:30:00",1,414.72,{"$f":"CEILING(IF(C289-C288=0,IF(H288=0,I288,IF(J288>K288,I288,E288)),'Výstupy modelu'!$C$7),1)","v":1664},0,0,{"$f":"IF(F289=1,IF(G289>'Zdrojová data'!$C$19,0,1),\"\")","v":""},1664,0,{"$f":"MIN(J289,'Zdrojová data'!$C$17)","v":0},0,{"$f":"L289/'Zdrojová data'!$C$16","v":0},{"$f":"M289*'Zdrojová data'!$C$13","v":0},{"$f":"N289*'Zdrojová data'!$C$14","v":0},0,{"$f":"IF(H289=0,D289-'Výstupy modelu'!$C$7,IF(P289=1,J289-K289,0))","v":0},0,null,{"$f":"MAX(0,IF(Q289>0,Q289-('Výstupy modelu'!$H$10-'Výstupy modelu'!$H$9),0))","v":0},null,null,1865.4300000000003,1885.4300000000003,0,{"$f":"MAX(0,D289-'Vstupní hodnoty'!$C$5)","v":0}]
[null,"2017-01-03T23:45:00",1,412.56,{"$f":"CEILING(IF(C290-C289=0,IF(H289=0,I289,IF(J289>K289,I289,E289)),'Výstupy modelu'!$C$7),1)","v":1664},0,0,{"$f":"IF(F290=1,IF(G290>'Zdrojová data'!$C$19,0,1),\"\")","v":""},1664,0,{"$f":"MIN(J290,'Zdrojová data'!$C$17)","v":0},0,{"$f":"L290/'Zdrojová data'!$C$16","v":0},{"$f":"M290*'Zdrojová data'!$C$13","v":0},{"$f":"N290*'Zdrojová data'!$C$14","v":0},0,{"$f":"IF(H290=0,D290-'Výstupy modelu'!$C$7,IF(P290=1,J290-K290,0))","v":0},0,null,{"$f":"MAX(0,IF(Q290>0,Q290-('Výstupy modelu'!$H$10-'Výstupy modelu'!$H$9),0))","v":0},null,null,1865.4300000000003,1885.4300000000003,0,{"$f":"MAX(0,D290-'Vstupní hodnoty'!$C$5)","v":0}]
[null,"2017-01-04",1,403.92,{"$f":"CEILING(IF(C291-C290=0,IF(H290=0,I290,IF(J290>K290,I290,E290)),'Výstupy modelu'!$C$7),1)","v":1664},0,0,{"$f":"IF(F291=1,IF(G291>'Zdrojová data'!$C$19,0,1),\"\")","v":""},1664,0,{"$f":"MIN(J291,'Zdrojová data'!$C$17)","v":0},0,{"$f":"L291/'Zdrojová data'!$C$16","v":0},{"$f":"M291*'Zdrojová data'!$C$13","v":0},{"$f":"N291*'Zdrojová data'!$C$14","v":0},0,{"$f":"IF(H291=0,D291-'Výstupy modelu'!$C$7,IF(P291=1,J291-K291,0))","v":0},0,null,{"$f":"MAX(0,IF(Q291>0,Q291-('Výstupy modelu'!$H$10-'Výstupy modelu'!$H$9),0))","v":0},null,null,1865.4300000000003,1885.4300000000003,0,{"$f":"MAX(0,D291-'Vstupní hodnoty'!$C$5)","v":0}]
[null,"2017-01-04T00:15:00",1,388.8,{"$f":"CEILING(IF(C292-C291=0,IF(H291=0,I291,IF(J291>K291,I291,E291)),'Výstupy modelu'!$C$7),1)","v":1664},0,0,{"$f":"IF(F292=1,IF(G292>'Zdrojová data'!$C$19,0,1),\"\")","v":""},1664,0,{"$f":"MIN(J292,'Zdrojová data'!$C$17)","v":0},0,{"$f":"L292/'Zdrojová data'!$C$16","v":0},{"$f":"M292*'Zdrojová data'!$C$13","v":0},{"$f":"N292*'Zdrojová data'!$C$14","v":0},0,{"$f":"IF(H292=0,D292-'Výstupy modelu'!$C$7,IF(P292=1,J292-K292,0))","v":0},0,null,{"$f":"MAX(0,IF(Q292>0,Q292-('Výstupy modelu'!$H$10-'Výstupy modelu'!$H$9),0))","v":0},null,null,1865.4300000000003,1885.4300000000003,0,{"$f":"MAX(0,D292-'Vstupní hodnoty'!$C$5)","v":0}]
[null,"2017-01-04T00:30:00",1,383.40000000000003,{"$f":"CEILING(IF(C293-C292=0,IF(H292=0,I292,IF(J292>K292,I292,E292)),'Výstupy modelu'!$C$7),1)","v":1664},0,0,{"$f":"IF(F293=1,IF(G293>'Zdrojová data'!$C$19,0,1),\"\")","v":""},1664,0,{"$f":"MIN(J293,'Zdrojová data'!$C$17)","v":0},0,{"$f":"L293/'Zdrojová data'!$C$16","v":0},{"$f":"M293*'Zdrojová data'!$C$13","v":0},{"$f":"N293*'Zdrojová data'!$C$14","v":0},0,{"$f":"IF(H293=0,D293-'Výstupy modelu'!$C$7,IF(P293=1,J293-K293,0))","v":0},0,null,{"$f":"MAX(0,IF(Q293>0,Q293-('Výstupy modelu'!$H$10-'Výstupy modelu'!$H$9),0))","v":0},null,null,1865.4300000000003,1885.4300000000003,0,{"$f":"MAX(0,D293-'Vstupní hodnoty'!$C$5)","v":0}]
[null,"2017-01-04T00:45:00",1,386.64000000000004,{"$f":"CEILING(IF(C294-C293=0,IF(H293=0,I293,IF(J293>K293,I293,E293)),'Výstupy modelu'!$C$7),1)","v":1664},0,0,{"$f":"IF(F294=1,IF(G294>'Zdrojová data'!$C$19,0,1),\"\")","v":""},1664,0,{"$f":"MIN(J294,'Zdrojová data'!$C$17)","v":0},0,{"$f":"L294/'Zdrojová data'!$C$16","v":0},{"$f":"M294*'Zdrojová data'!$C$13","v":0},{"$f":"N294*'Zdrojová data'!$C$14","v":0},0,{"$f":"IF(H294=0,D294-'Výstupy modelu'!$C$7,IF(P294=1,J294-K294,0))","v":0},0,null,{"$f":"MAX(0,IF(Q294>0,Q294-('Výstupy modelu'!$H$10-'Výstupy modelu'!$H$9),0))","v":0},null,null,1865.4300000000003,1885.4300000000003,0,{"$f":"MAX(0,D294-'Vstupní hodnoty'!$C$5)","v":0}]
[null,"2017-01-04T01:00:00",1,385.56,{"$f":"CEILING(IF(C295-C294=0,IF(H294=0,I294,IF(J294>K294,I294,E294)),'Výstupy modelu'!$C$7),1)","v":1664},0,0,{"$f":"IF(F295=1,IF(G295>'Zdrojová data'!$C$19,0,1),\"\")","v":""},1664,0,{"$f":"MIN(J295,'Zdrojová data'!$C$17)","v":0},0,{"$f":"L295/'Zdrojová data'!$C$16","v":0},{"$f":"M295*'Zdrojová data'!$C$13","v":0},{"$f":"N295*'Zdrojová data'!$C$14","v":0},0,{"$f":"IF(H295=0,D295-'Výstupy modelu'!$C$7,IF(P295=1,J295-K295,0))","v":0},0,null,{"$f":"MAX(0,IF(Q295>0,Q295-('Výstupy modelu'!$H$10-'Výstupy modelu'!$H$9),0))","v":0},null,null,1865.4300000000003,1885.4300000000003,0,{"$f":"MAX(0,D295-'Vstupní hodnoty'!$C$5)","v":0}]
[null,"2017-01-04T01:15:00",1,386.64000000000004,{"$f":"CEILING(IF(C296-C295=0,IF(H295=0,I295,IF(J295>K295,I295,E295)),'Výstupy modelu'!$C$7),1)","v":1664},0,0,{"$f":"IF(F296=1,IF(G296>'Zdrojová data'!$C$19,0,1),\"\")","v":""},1664,0,{"$f":"MIN(J296,'Zdrojová data'!$C$17)","v":0},0,{"$f":"L296/'Zdrojová data'!$C$16","v":0},{"$f":"M296*'Zdrojová data'!$C$13","v":0},{"$f":"N296*'Zdrojová data'!$C$14","v":0},0,{"$f":"IF(H296=0,D296-'Výstupy modelu'!$C$7,IF(P296=1,J296-K296,0))","v":0},0,null,{"$f":"MAX(0,IF(Q296>0,Q296-('Výstupy modelu'!$H$10-'Výstupy modelu'!$H$9),0))","v":0},null,null,1865.4300000000003,1885.4300000000003,0,{"$f":"MAX(0,D296-'Vstupní hodnoty'!$C$5)","v":0}]
[null,"2017-01-04T01:30:00",1,396.36,{"$f":"CEILING(IF(C297-C296=0,IF(H296=0,I296,IF(J296>K296,I296,E296)),'Výstupy modelu'!$C$7),1)","v":1664},0,0,{"$f":"IF(F297=1,IF(G297>'Zdrojová data'!$C$19,0,1),\"\")","v":""},1664,0,{"$f":"MIN(J297,'Zdrojová data'!$C$17)","v":0},0,{"$f":"L297/'Zdrojová data'!$C$16","v":0},{"$f":"M297*'Zdrojová data'!$C$13","v":0},{"$f":"N297*'Zdrojová data'!$C$14","v":0},0,{"$f":"IF(H297=0,D297-'Výstupy modelu'!$C$7,IF(P297=1,J297-K297,0))","v":0},0,null,{"$f":"MAX(0,IF(Q297>0,Q297-('Výstupy modelu'!$H$10-'Výstupy modelu'!$H$9),0))","v":0},null,null,1865.4300000000003,1885.4300000000003,0,{"$f":"MAX(0,D297-'Vstupní hodnoty'!$C$5)","v":0}]
[null,"2017-01-04T01:45:00",1,389.88000000000005,{"$f":"CEILING(IF(C298-C297=0,IF(H297=0,I297,IF(J297>K297,I297,E297)),'Výstupy modelu'!$C$7),1)","v":1664},0,0,{"$f":"IF(F298=1,IF(G298>'Zdrojová data'!$C$19,0,1),\"\")","v":""},1664,0,{"$f":"MIN(J298,'Zdrojová data'!$C$17)","v":0},0,{"$f":"L298/'Zdrojová data'!$C$16","v":0},{"$f":"M298*'Zdrojová data'!$C$13","v":0},{"$f":"N298*'Zdrojová data'!$C$14","v":0},0,{"$f":"IF(H298=0,D298-'Výstupy modelu'!$C$7,IF(P298=1,J298-K298,0))","v":0},0,null,{"$f":"MAX(0,IF(Q298>0,Q298-('Výstupy modelu'!$H$10-'Výstupy modelu'!$H$9),0))","v":0},null,null,1865.4300000000003,1885.4300000000003,0,{"$f":"MAX(0,D298-'Vstupní hodnoty'!$C$5)","v":0}]
[null,"2017-01-04T02:00:00",1,453.6,{"$f":"CEILING(IF(C299-C298=0,IF(H298=0,I298,IF(J298>K298,I298,E298)),'Výstupy modelu'!$C$7),1)","v":1664},0,0,{"$f":"IF(F299=1,IF(G299>'Zdrojová data'!$C$19,0,1),\"\")","v":""},1664,0,{"$f":"MIN(J299,'Zdrojová data'!$C$17)","v":0},0,{"$f":"L299/'Zdrojová data'!$C$16","v":0},{"$f":"M299*'Zdrojová data'!$C$13","v":0},{"$f":"N299*'Zdrojová data'!$C$14","v":0},0,{"$f":"IF(H299=0,D299-'Výstupy modelu'!$C$7,IF(P299=1,J299-K299,0))","v":0},0,null,{"$f":"MAX(0,IF(Q299>0,Q299-('Výstupy modelu'!$H$10-'Výstupy modelu'!$H$9),0))","v":0},null,null,1865.4300000000003,1885.4300000000003,0,{"$f":"MAX(0,D299-'Vstupní hodnoty'!$C$5)","v":0}]
[null,"2017-01-04T02:15:00",1,487.08000000000004,{"$f":"CEILING(IF(C300-C299=0,IF(H299=0,I299,IF(J299>K299,I299,E299)),'Výstupy modelu'!$C$7),1)","v":1664},0,0,{"$f":"IF(F300=1,IF(G300>'Zdrojová data'!$C$19,0,1),\"\")","v":""},1664,0,{"$f":"MIN(J300,'Zdrojová data'!$C$17)","v":0},0,{"$f":"L300/'Zdrojová data'!$C$16","v":0},{"$f":"M300*'Zdrojová data'!$C$13","v":0},{"$f":"N300*'Zdrojová data'!$C$14","v":0},0,{"$f":"IF(H300=0,D300-'Výstupy modelu'!$C$7,IF(P300=1,J300-K300,0))","v":0},0,null,{"$f":"MAX(0,IF(Q300>0,Q300-('Výstupy modelu'!$H$10-'Výstupy modelu'!$H$9),0))","v":0},null,null,1865.4300000000003,1885.4300000000003,0,{"$f":"MAX(0,D300-'Vstupní hodnoty'!$C$5)","v":0}]
[null,"2017-01-04T02:30:00",1,501.12,{"$f":"CEILING(IF(C301-C300=0,IF(H300=0,I300,IF(J300>K300,I300,E300)),'Výstupy modelu'!$C$7),1)","v":1664},0,0,{"$f":"IF(F301=1,IF(G301>'Zdrojová data'!$C$19,0,1),\"\")","v":""},1664,0,{"$f":"MIN(J301,'Zdrojová data'!$C$17)","v":0},0,{"$f":"L301/'Zdrojová data'!$C$16","v":0},{"$f":"M301*'Zdrojová data'!$C$13","v":0},{"$f":"N301*'Zdrojová data'!$C$14","v":0},0,{"$f":"IF(H301=0,D301-'Výstupy modelu'!$C$7,IF(P301=1,J301-K301,0))","v":0},0,null,{"$f":"MAX(0,IF(Q301>0,Q301-('Výstupy modelu'!$H$10-'Výstupy modelu'!$H$9),0))","v":0},null,null,1865.4300000000003,1885.4300000000003,0,{"$f":"MAX(0,D301-'Vstupní hodnoty'!$C$5)","v":0}]
[null,"2017-01-04T02:45:00",1,455.76000000000005,{"$f":"CEILING(IF(C302-C301=0,IF(H301=0,I301,IF(J301>K301,I301,E301)),'Výstupy modelu'!$C$7),1)","v":1664},0,0,{"$f":"IF(F302=1,IF(G302>'Zdrojová data'!$C$19,0,1),\"\")","v":""},1664,0,{"$f":"MIN(J302,'Zdrojová data'!$C$17)","v":0},0,{"$f":"L302/'Zdrojová data'!$C$16","v":0},{"$f":"M302*'Zdrojová data'!$C$13","v":0},{"$f":"N302*'Zdrojová data'!$C$14","v":0},0,{"$f":"IF(H302=0,D302-'Výstupy modelu'!$C$7,IF(P302=1,J302-K302,0))","v":0},0,null,{"$f":"MAX(0,IF(Q302>0,Q302-('Výstupy modelu'!$H$10-'Výstupy modelu'!$H$9),0))","v":0},null,null,1865.4300000000003,1885.4300000000003,0,{"$f":"MAX(0,D302-'Vstupní hodnoty'!$C$5)","v":0}]
[null,"2017-01-04T03:00:00",1,468.72,{"$f":"CEILING(IF(C303-C302=0,IF(H302=0,I302,IF(J302>K302,I302,E302)),'Výstupy modelu'!$C$7),1)","v":1664},0,0,{"$f":"IF(F303=1,IF(G303>'Zdrojová data'!$C$19,0,1),\"\")","v":""},1664,0,{"$f":"MIN(J303,'Zdrojová data'!$C$17)","v":0},0,{"$f":"L303/'Zdrojová data'!$C$16","v":0},{"$f":"M303*'Zdrojová data'!$C$13","v":0},{"$f":"N303*'Zdrojová data'!$C$14","v":0},0,{"$f":"IF(H303=0,D303-'Výstupy modelu'!$C$7,IF(P303=1,J303-K303,0))","v":0},0,null,{"$f":"MAX(0,IF(Q303>0,Q303-('Výstupy modelu'!$H$10-'Výstupy modelu'!$H$9),0))","v":0},null,null,1865.4300000000003,1885.4300000000003,0,{"$f":"MAX(0,D303-'Vstupní hodnoty'!$C$5)","v":0}]
[null,"2017-01-04T03:15:00",1,514.08000000000004,{"$f":"CEILING(IF(C304-C303=0,IF(H303=0,I303,IF(J303>K303,I303,E303)),'Výstupy modelu'!$C$7),1)","v":1664},0,0,{"$f":"IF(F304=1,IF(G304>'Zdrojová data'!$C$19,0,1),\"\")","v":""},1664,0,{"$f":"MIN(J304,'Zdrojová data'!$C$17)","v":0},0,{"$f":"L304/'Zdrojová data'!$C$16","v":0},{"$f":"M304*'Zdrojová data'!$C$13","v":0},{"$f":"N304*'Zdrojová data'!$C$14","v":0},0,{"$f":"IF(H304=0,D304-'Výstupy modelu'!$C$7,IF(P304=1,J304-K304,0))","v":0},0,null,{"$f":"MAX(0,IF(Q304>0,Q304-('Výstupy modelu'!$H$10-'Výstupy modelu'!$H$9),0))","v":0},null,null,1865.4300000000003,1885.4300000000003,0,{"$f":"MAX(0,D304-'Vstupní hodnoty'!$C$5)","v":0}]
[null,"2017-01-04T03:30:00",1,523.80000000000007,{"$f":"CEILING(IF(C305-C304=0,IF(H304=0,I304,IF(J304>K304,I304,E304)),'Výstupy modelu'!$C$7),1)","v":1664},0,0,{"$f":"IF(F305=1,IF(G305>'Zdrojová data'!$C$19,0,1),\"\")","v":""},1664,0,{"$f":"MIN(J305,'Zdrojová data'!$C$17)","v":0},0,{"$f":"L305/'Zdrojová data'!$C$16","v":0},{"$f":"M305*'Zdrojová data'!$C$13","v":0},{"$f":"N305*'Zdrojová data'!$C$14","v":0},0,{"$f":"IF(H305=0,D305-'Výstupy modelu'!$C$7,IF(P305=1,J305-K305,0))","v":0},0,null,{"$f":"MAX(0,IF(Q305>0,Q305-('Výstupy modelu'!$H$10-'Výstupy modelu'!$H$9),0))","v":0},null,null,1865.4300000000003,1885.4300000000003,0,{"$f":"MAX(0,D305-'Vstupní hodnoty'!$C$5)","v":0}]
[null,"2017-01-04T03:45:00",1,491.40000000000003,{"$f":"CEILING(IF(C306-C305=0,IF(H305=0,I305,IF(J305>K305,I305,E305)),'Výstupy modelu'!$C$7),1)","v":1664},0,0,{"$f":"IF(F306=1,IF(G306>'Zdrojová data'!$C$19,0,1),\"\")","v":""},1664,0,{"$f":"MIN(J306,'Zdrojová data'!$C$17)","v":0},0,{"$f":"L306/'Zdrojová data'!$C$16","v":0},{"$f":"M306*'Zdrojová data'!$C$13","v":0},{"$f":"N306*'Zdrojová data'!$C$14","v":0},0,{"$f":"IF(H306=0,D306-'Výstupy modelu'!$C$7,IF(P306=1,J306-K306,0))","v":0},0,null,{"$f":"MAX(0,IF(Q306>0,Q306-('Výstupy modelu'!$H$10-'Výstupy modelu'!$H$9),0))","v":0},null,null,1865.4300000000003,1885.4300000000003,0,{"$f":"MAX(0,D306-'Vstupní hodnoty'!$C$5)","v":0}]
[null,"2017-01-04T04:00:00",1,521.64,{"$f":"CEILING(IF(C307-C306=0,IF(H306=0,I306,IF(J306>K306,I306,E306)),'Výstupy modelu'!$C$7),1)","v":1664},0,0,{"$f":"IF(F307=1,IF(G307>'Zdrojová data'!$C$19,0,1),\"\")","v":""},1664,0,{"$f":"MIN(J307,'Zdrojová data'!$C$17)","v":0},0,{"$f":"L307/'Zdrojová data'!$C$16","v":0},{"$f":"M307*'Zdrojová data'!$C$13","v":0},{"$f":"N307*'Zdrojová data'!$C$14","v":0},0,{"$f":"IF(H307=0,D307-'Výstupy modelu'!$C$7,IF(P307=1,J307-K307,0))","v":0},0,null,{"$f":"MAX(0,IF(Q307>0,Q307-('Výstupy modelu'!$H$10-'Výstupy modelu'!$H$9),0))","v":0},null,null,1865.4300000000003,1885.4300000000003,0,{"$f":"MAX(0,D307-'Vstupní hodnoty'!$C$5)","v":0}]
[null,"2017-01-04T04:15:00",1,618.84,{"$f":"CEILING(IF(C308-C307=0,IF(H307=0,I307,IF(J307>K307,I307,E307)),'Výstupy modelu'!$C$7),1)","v":1664},0,0,{"$f":"IF(F308=1,IF(G308>'Zdrojová data'!$C$19,0,1),\"\")","v":""},1664,0,{"$f":"MIN(J308,'Zdrojová data'!$C$17)","v":0},0,{"$f":"L308/'Zdrojová data'!$C$16","v":0},{"$f":"M308*'Zdrojová data'!$C$13","v":0},{"$f":"N308*'Zdrojová data'!$C$14","v":0},0,{"$f":"IF(H308=0,D308-'Výstupy modelu'!$C$7,IF(P308=1,J308-K308,0))","v":0},0,null,{"$f":"MAX(0,IF(Q308>0,Q308-('Výstupy modelu'!$H$10-'Výstupy modelu'!$H$9),0))","v":0},null,null,1865.4300000000003,1885.4300000000003,0,{"$f":"MAX(0,D308-'Vstupní hodnoty'!$C$5)","v":0}]
[null,"2017-01-04T04:30:00",1,586.44000000000005,{"$f":"CEILING(IF(C309-C308=0,IF(H308=0,I308,IF(J308>K308,I308,E308)),'Výstupy modelu'!$C$7),1)","v":1664},0,0,{"$f":"IF(F309=1,IF(G309>'Zdrojová data'!$C$19,0,1),\"\")","v":""},1664,0,{"$f":"MIN(J309,'Zdrojová data'!$C$17)","v":0},0,{"$f":"L309/'Zdrojová data'!$C$16","v":0},{"$f":"M309*'Zdrojová data'!$C$13","v":0},{"$f":"N309*'Zdrojová data'!$C$14","v":0},0,{"$f":"IF(H309=0,D309-'Výstupy modelu'!$C$7,IF(P309=1,J309-K309,0))","v":0},0,null,{"$f":"MAX(0,IF(Q309>0,Q309-('Výstupy modelu'!$H$10-'Výstupy modelu'!$H$9),0))","v":0},null,null,1865.4300000000003,1885.4300000000003,0,{"$f":"MAX(0,D309-'Vstupní hodnoty'!$C$5)","v":0}]
[null,"2017-01-04T04:45:00",1,583.20000000000005,{"$f":"CEILING(IF(C310-C309=0,IF(H309=0,I309,IF(J309>K309,I309,E309)),'Výstupy modelu'!$C$7),1)","v":1664},0,0,{"$f":"IF(F310=1,IF(G310>'Zdrojová data'!$C$19,0,1),\"\")","v":""},1664,0,{"$f":"MIN(J310,'Zdrojová data'!$C$17)","v":0},0,{"$f":"L310/'Zdrojová data'!$C$16","v":0},{"$f":"M310*'Zdrojová data'!$C$13","v":0},{"$f":"N310*'Zdrojová data'!$C$14","v":0},0,{"$f":"IF(H310=0,D310-'Výstupy modelu'!$C$7,IF(P310=1,J310-K310,0))","v":0},0,null,{"$f":"MAX(0,IF(Q310>0,Q310-('Výstupy modelu'!$H$10-'Výstupy modelu'!$H$9),0))","v":0},null,null,1865.4300000000003,1885.4300000000003,0,{"$f":"MAX(0,D310-'Vstupní hodnoty'!$C$5)","v":0}]
[null,"2017-01-04T05:00:00",1,626.40000000000009,{"$f":"CEILING(IF(C311-C310=0,IF(H310=0,I310,IF(J310>K310,I310,E310)),'Výstupy modelu'!$C$7),1)","v":1664},0,0,{"$f":"IF(F311=1,IF(G311>'Zdrojová data'!$C$19,0,1),\"\")","v":""},1664,0,{"$f":"MIN(J311,'Zdrojová data'!$C$17)","v":0},0,{"$f":"L311/'Zdrojová data'!$C$16","v":0},{"$f":"M311*'Zdrojová data'!$C$13","v":0},{"$f":"N311*'Zdrojová data'!$C$14","v":0},0,{"$f":"IF(H311=0,D311-'Výstupy modelu'!$C$7,IF(P311=1,J311-K311,0))","v":0},0,null,{"$f":"MAX(0,IF(Q311>0,Q311-('Výstupy modelu'!$H$10-'Výstupy modelu'!$H$9),0))","v":0},null,null,1865.4300000000003,1885.4300000000003,0,{"$f":"MAX(0,D311-'Vstupní hodnoty'!$C$5)","v":0}]
[null,"2017-01-04T05:15:00",1,643.68000000000006,{"$f":"CEILING(IF(C312-C311=0,IF(H311=0,I311,IF(J311>K311,I311,E311)),'Výstupy modelu'!$C$7),1)","v":1664},0,0,{"$f":"IF(F312=1,IF(G312>'Zdrojová data'!$C$19,0,1),\"\")","v":""},1664,0,{"$f":"MIN(J312,'Zdrojová data'!$C$17)","v":0},0,{"$f":"L312/'Zdrojová data'!$C$16","v":0},{"$f":"M312*'Zdrojová data'!$C$13","v":0},{"$f":"N312*'Zdrojová data'!$C$14","v":0},0,{"$f":"IF(H312=0,D312-'Výstupy modelu'!$C$7,IF(P312=1,J312-K312,0))","v":0},0,null,{"$f":"MAX(0,IF(Q312>0,Q312-('Výstupy modelu'!$H$10-'Výstupy modelu'!$H$9),0))","v":0},null,null,1865.4300000000003,1885.4300000000003,0,{"$f":"MAX(0,D312-'Vstupní hodnoty'!$C$5)","v":0}]
[null,"2017-01-04T05:30:00",1,714.96,{"$f":"CEILING(IF(C313-C312=0,IF(H312=0,I312,IF(J312>K312,I312,E312)),'Výstupy modelu'!$C$7),1)","v":1664},0,0,{"$f":"IF(F313=1,IF(G313>'Zdrojová data'!$C$19,0,1),\"\")","v":""},1664,0,{"$f":"MIN(J313,'Zdrojová data'!$C$17)","v":0},0,{"$f":"L313/'Zdrojová data'!$C$16","v":0},{"$f":"M313*'Zdrojová data'!$C$13","v":0},{"$f":"N313*'Zdrojová data'!$C$14","v":0},0,{"$f":"IF(H313=0,D313-'Výstupy modelu'!$C$7,IF(P313=1,J313-K313,0))","v":0},0,null,{"$f":"MAX(0,IF(Q313>0,Q313-('Výstupy modelu'!$H$10-'Výstupy modelu'!$H$9),0))","v":0},null,null,1865.4300000000003,1885.4300000000003,0,{"$f":"MAX(0,D313-'Vstupní hodnoty'!$C$5)","v":0}]
[null,"2017-01-04T05:45:00",1,766.80000000000007,{"$f":"CEILING(IF(C314-C313=0,IF(H313=0,I313,IF(J313>K313,I313,E313)),'Výstupy modelu'!$C$7),1)","v":1664},0,0,{"$f":"IF(F314=1,IF(G314>'Zdrojová data'!$C$19,0,1),\"\")","v":""},1664,0,{"$f":"MIN(J314,'Zdrojová data'!$C$17)","v":0},0,{"$f":"L314/'Zdrojová data'!$C$16","v":0},{"$f":"M314*'Zdrojová data'!$C$13","v":0},{"$f":"N314*'Zdrojová data'!$C$14","v":0},0,{"$f":"IF(H314=0,D314-'Výstupy modelu'!$C$7,IF(P314=1,J314-K314,0))","v":0},0,null,{"$f":"MAX(0,IF(Q314>0,Q314-('Výstupy modelu'!$H$10-'Výstupy modelu'!$H$9),0))","v":0},null,null,1865.4300000000003,1885.4300000000003,0,{"$f":"MAX(0,D314-'Vstupní hodnoty'!$C$5)","v":0}]
[null,"2017-01-04T06:00:00",1,1119.96,{"$f":"CEILING(IF(C315-C314=0,IF(H314=0,I314,IF(J314>K314,I314,E314)),'Výstupy modelu'!$C$7),1)","v":1664},0,0,{"$f":"IF(F315=1,IF(G315>'Zdrojová data'!$C$19,0,1),\"\")","v":""},1664,0,{"$f":"MIN(J315,'Zdrojová data'!$C$17)","v":0},0,{"$f":"L315/'Zdrojová data'!$C$16","v":0},{"$f":"M315*'Zdrojová data'!$C$13","v":0},{"$f":"N315*'Zdrojová data'!$C$14","v":0},0,{"$f":"IF(H315=0,D315-'Výstupy modelu'!$C$7,IF(P315=1,J315-K315,0))","v":0},0,null,{"$f":"MAX(0,IF(Q315>0,Q315-('Výstupy modelu'!$H$10-'Výstupy modelu'!$H$9),0))","v":0},null,null,1865.4300000000003,1885.4300000000003,0,{"$f":"MAX(0,D315-'Vstupní hodnoty'!$C$5)","v":0}]
[null,"2017-01-04T06:15:00",1,1341.3600000000001,{"$f":"CEILING(IF(C316-C315=0,IF(H315=0,I315,IF(J315>K315,I315,E315)),'Výstupy modelu'!$C$7),1)","v":1664},0,0,{"$f":"IF(F316=1,IF(G316>'Zdrojová data'!$C$19,0,1),\"\")","v":""},1664,0,{"$f":"MIN(J316,'Zdrojová data'!$C$17)","v":0},0,{"$f":"L316/'Zdrojová data'!$C$16","v":0},{"$f":"M316*'Zdrojová data'!$C$13","v":0},{"$f":"N316*'Zdrojová data'!$C$14","v":0},0,{"$f":"IF(H316=0,D316-'Výstupy modelu'!$C$7,IF(P316=1,J316-K316,0))","v":0},0,null,{"$f":"MAX(0,IF(Q316>0,Q316-('Výstupy modelu'!$H$10-'Výstupy modelu'!$H$9),0))","v":0},null,null,1865.4300000000003,1885.4300000000003,0,{"$f":"MAX(0,D316-'Vstupní hodnoty'!$C$5)","v":0}]
[null,"2017-01-04T06:30:00",1,1353.24,{"$f":"CEILING(IF(C317-C316=0,IF(H316=0,I316,IF(J316>K316,I316,E316)),'Výstupy modelu'!$C$7),1)","v":1664},0,0,{"$f":"IF(F317=1,IF(G317>'Zdrojová data'!$C$19,0,1),\"\")","v":""},1664,0,{"$f":"MIN(J317,'Zdrojová data'!$C$17)","v":0},0,{"$f":"L317/'Zdrojová data'!$C$16","v":0},{"$f":"M317*'Zdrojová data'!$C$13","v":0},{"$f":"N317*'Zdrojová data'!$C$14","v":0},0,{"$f":"IF(H317=0,D317-'Výstupy modelu'!$C$7,IF(P317=1,J317-K317,0))","v":0},0,null,{"$f":"MAX(0,IF(Q317>0,Q317-('Výstupy modelu'!$H$10-'Výstupy modelu'!$H$9),0))","v":0},null,null,1865.4300000000003,1885.4300000000003,0,{"$f":"MAX(0,D317-'Vstupní hodnoty'!$C$5)","v":0}]
[null,"2017-01-04T06:45:00",1,1341.3600000000001,{"$f":"CEILING(IF(C318-C317=0,IF(H317=0,I317,IF(J317>K317,I317,E317)),'Výstupy modelu'!$C$7),1)","v":1664},0,0,{"$f":"IF(F318=1,IF(G318>'Zdrojová data'!$C$19,0,1),\"\")","v":""},1664,0,{"$f":"MIN(J318,'Zdrojová data'!$C$17)","v":0},0,{"$f":"L318/'Zdrojová data'!$C$16","v":0},{"$f":"M318*'Zdrojová data'!$C$13","v":0},{"$f":"N318*'Zdrojová data'!$C$14","v":0},0,{"$f":"IF(H318=0,D318-'Výstupy modelu'!$C$7,IF(P318=1,J318-K318,0))","v":0},0,null,{"$f":"MAX(0,IF(Q318>0,Q318-('Výstupy modelu'!$H$10-'Výstupy modelu'!$H$9),0))","v":0},null,null,1865.4300000000003,1885.4300000000003,0,{"$f":"MAX(0,D318-'Vstupní hodnoty'!$C$5)","v":0}]
[null,"2017-01-04T07:00:00",1,1439.64,{"$f":"CEILING(IF(C319-C318=0,IF(H318=0,I318,IF(J318>K318,I318,E318)),'Výstupy modelu'!$C$7),1)","v":1664},0,0,{"$f":"IF(F319=1,IF(G319>'Zdrojová data'!$C$19,0,1),\"\")","v":""},1664,0,{"$f":"MIN(J319,'Zdrojová data'!$C$17)","v":0},0,{"$f":"L319/'Zdrojová data'!$C$16","v":0},{"$f":"M319*'Zdrojová data'!$C$13","v":0},{"$f":"N319*'Zdrojová data'!$C$14","v":0},0,{"$f":"IF(H319=0,D319-'Výstupy modelu'!$C$7,IF(P319=1,J319-K319,0))","v":0},0,null,{"$f":"MAX(0,IF(Q319>0,Q319-('Výstupy modelu'!$H$10-'Výstupy modelu'!$H$9),0))","v":0},null,null,1865.4300000000003,1885.4300000000003,0,{"$f":"MAX(0,D319-'Vstupní hodnoty'!$C$5)","v":0}]
[null,"2017-01-04T07:15:00",1,1388.88,{"$f":"CEILING(IF(C320-C319=0,IF(H319=0,I319,IF(J319>K319,I319,E319)),'Výstupy modelu'!$C$7),1)","v":1664},0,0,{"$f":"IF(F320=1,IF(G320>'Zdrojová data'!$C$19,0,1),\"\")","v":""},1664,0,{"$f":"MIN(J320,'Zdrojová data'!$C$17)","v":0},0,{"$f":"L320/'Zdrojová data'!$C$16","v":0},{"$f":"M320*'Zdrojová data'!$C$13","v":0},{"$f":"N320*'Zdrojová data'!$C$14","v":0},0,{"$f":"IF(H320=0,D320-'Výstupy modelu'!$C$7,IF(P320=1,J320-K320,0))","v":0},0,null,{"$f":"MAX(0,IF(Q320>0,Q320-('Výstupy modelu'!$H$10-'Výstupy modelu'!$H$9),0))","v":0},null,null,1865.4300000000003,1885.4300000000003,0,{"$f":"MAX(0,D320-'Vstupní hodnoty'!$C$5)","v":0}]
[null,"2017-01-04T07:30:00",1,1359.72,{"$f":"CEILING(IF(C321-C320=0,IF(H320=0,I320,IF(J320>K320,I320,E320)),'Výstupy modelu'!$C$7),1)","v":1664},0,0,{"$f":"IF(F321=1,IF(G321>'Zdrojová data'!$C$19,0,1),\"\")","v":""},1664,0,{"$f":"MIN(J321,'Zdrojová data'!$C$17)","v":0},0,{"$f":"L321/'Zdrojová data'!$C$16","v":0},{"$f":"M321*'Zdrojová data'!$C$13","v":0},{"$f":"N321*'Zdrojová data'!$C$14","v":0},0,{"$f":"IF(H321=0,D321-'Výstupy modelu'!$C$7,IF(P321=1,J321-K321,0))","v":0},0,null,{"$f":"MAX(0,IF(Q321>0,Q321-('Výstupy modelu'!$H$10-'Výstupy modelu'!$H$9),0))","v":0},null,null,1865.4300000000003,1885.4300000000003,0,{"$f":"MAX(0,D321-'Vstupní hodnoty'!$C$5)","v":0}]
[null,"2017-01-04T07:45:00",1,1398.6000000000001,{"$f":"CEILING(IF(C322-C321=0,IF(H321=0,I321,IF(J321>K321,I321,E321)),'Výstupy modelu'!$C$7),1)","v":1664},0,0,{"$f":"IF(F322=1,IF(G322>'Zdrojová data'!$C$19,0,1),\"\")","v":""},1664,0,{"$f":"MIN(J322,'Zdrojová data'!$C$17)","v":0},0,{"$f":"L322/'Zdrojová data'!$C$16","v":0},{"$f":"M322*'Zdrojová data'!$C$13","v":0},{"$f":"N322*'Zdrojová data'!$C$14","v":0},0,{"$f":"IF(H322=0,D322-'Výstupy modelu'!$C$7,IF(P322=1,J322-K322,0))","v":0},0,null,{"$f":"MAX(0,IF(Q322>0,Q322-('Výstupy modelu'!$H$10-'Výstupy modelu'!$H$9),0))","v":0},null,null,1865.4300000000003,1885.4300000000003,0,{"$f":"MAX(0,D322-'Vstupní hodnoty'!$C$5)","v":0}]
[null,"2017-01-04T08:00:00",1,1299.24,{"$f":"CEILING(IF(C323-C322=0,IF(H322=0,I322,IF(J322>K322,I322,E322)),'Výstupy modelu'!$C$7),1)","v":1664},0,0,{"$f":"IF(F323=1,IF(G323>'Zdrojová data'!$C$19,0,1),\"\")","v":""},1664,0,{"$f":"MIN(J323,'Zdrojová data'!$C$17)","v":0},0,{"$f":"L323/'Zdrojová data'!$C$16","v":0},{"$f":"M323*'Zdrojová data'!$C$13","v":0},{"$f":"N323*'Zdrojová data'!$C$14","v":0},0,{"$f":"IF(H323=0,D323-'Výstupy modelu'!$C$7,IF(P323=1,J323-K323,0))","v":0},0,null,{"$f":"MAX(0,IF(Q323>0,Q323-('Výstupy modelu'!$H$10-'Výstupy modelu'!$H$9),0))","v":0},null,null,1865.4300000000003,1885.4300000000003,0,{"$f":"MAX(0,D323-'Vstupní hodnoty'!$C$5)","v":0}]
[null,"2017-01-04T08:15:00",1,1379.16,{"$f":"CEILING(IF(C324-C323=0,IF(H323=0,I323,IF(J323>K323,I323,E323)),'Výstupy modelu'!$C$7),1)","v":1664},{"$f":"IF(D324>E324,1,0)","v":0},0,{"$f":"IF(F324=1,IF(G324>'Zdrojová data'!$C$19,0,1),\"\")","v":""},{"$f":"IF(H324=0,D324,IF(J324>K324,E324+J324-K324,E324))","v":1664},{"$f":"IF(H324=1,D324-E324,0)","v":0},{"$f":"MIN(J324,'Zdrojová data'!$C$17)","v":0},0,{"$f":"L324/'Zdrojová data'!$C$16","v":0},{"$f":"M324*'Zdrojová data'!$C$13","v":0},{"$f":"N324*'Zdrojová data'!$C$14","v":0},0,{"$f":"IF(H324=0,D324-'Výstupy modelu'!$C$7,IF(P324=1,J324-K324,0))","v":0},0,null,{"$f":"MAX(0,IF(Q324>0,Q324-('Výstupy modelu'!$H$10-'Výstupy modelu'!$H$9),0))","v":0},null,null,1865.4300000000003,1885.4300000000003,{"$f":"MAX(0,D324-W324)","v":0},{"$f":"MAX(0,D324-'Vstupní hodnoty'!$C$5)","v":0}]
[null,"2017-01-04T08:30:00",{"$f":"MONTH(B325)","v":1},1425.6000000000001,{"$f":"CEILING(IF(C325-C324=0,IF(H324=0,I324,IF(J324>K324,I324,E324)),'Výstupy modelu'!$C$7),1)","v":1664},0,{"$f":"IF(F325=1,RANDBETWEEN(0,100),0)","v":0},{"$f":"IF(F325=1,IF(G325>'Zdrojová data'!$C$19,0,1),\"\")","v":""},1664,0,{"$f":"MIN(J325,'Zdrojová data'!$C$17)","v":0},{"$f":"K325/4","v":0},{"$f":"L325/'Zdrojová data'!$C$16","v":0},{"$f":"M325*'Zdrojová data'!$C$13","v":0},{"$f":"N325*'Zdrojová data'!$C$14","v":0},{"$f":"IF(H325=0,1,IF(J325>K325,1,0))","v":0},{"$f":"IF(H325=0,D325-'Výstupy modelu'!$C$7,IF(P325=1,J325-K325,0))","v":0},{"$f":"IF(H325=0,1,IF(J325>K325,1,0))","v":0},null,{"$f":"MAX(0,IF(Q325>0,Q325-('Výstupy modelu'!$H$10-'Výstupy modelu'!$H$9),0))","v":0},null,null,1865.4300000000003,1885.4300000000003,0,{"$f":"MAX(0,D325-'Vstupní hodnoty'!$C$5)","v":0}]
[null,"2017-01-04T08:45:00",1,1428.8400000000001,{"$f":"CEILING(IF(C326-C325=0,IF(H325=0,I325,IF(J325>K325,I325,E325)),'Výstupy modelu'!$C$7),1)","v":1664},0,0,{"$f":"IF(F326=1,IF(G326>'Zdrojová data'!$C$19,0,1),\"\")","v":""},1664,0,{"$f":"MIN(J326,'Zdrojová data'!$C$17)","v":0},0,{"$f":"L326/'Zdrojová data'!$C$16","v":0},{"$f":"M326*'Zdrojová data'!$C$13","v":0},{"$f":"N326*'Zdrojová data'!$C$14","v":0},0,{"$f":"IF(H326=0,D326-'Výstupy modelu'!$C$7,IF(P326=1,J326-K326,0))","v":0},0,null,{"$f":"MAX(0,IF(Q326>0,Q326-('Výstupy modelu'!$H$10-'Výstupy modelu'!$H$9),0))","v":0},null,null,{"$f":"W325","v":1865.4300000000003},1885.4300000000003,0,{"$f":"MAX(0,D326-'Vstupní hodnoty'!$C$5)","v":0}]
[null,"2017-01-04T09:00:00",1,1424.52,{"$f":"CEILING(IF(C327-C326=0,IF(H326=0,I326,IF(J326>K326,I326,E326)),'Výstupy modelu'!$C$7),1)","v":1664},0,0,{"$f":"IF(F327=1,IF(G327>'Zdrojová data'!$C$19,0,1),\"\")","v":""},1664,0,{"$f":"MIN(J327,'Zdrojová data'!$C$17)","v":0},0,{"$f":"L327/'Zdrojová data'!$C$16","v":0},{"$f":"M327*'Zdrojová data'!$C$13","v":0},{"$f":"N327*'Zdrojová data'!$C$14","v":0},0,{"$f":"IF(H327=0,D327-'Výstupy modelu'!$C$7,IF(P327=1,J327-K327,0))","v":0},0,null,{"$f":"MAX(0,IF(Q327>0,Q327-('Výstupy modelu'!$H$10-'Výstupy modelu'!$H$9),0))","v":0},null,null,1865.4300000000003,1885.4300000000003,0,{"$f":"MAX(0,D327-'Vstupní hodnoty'!$C$5)","v":0}]
[null,"2017-01-04T09:15:00",1,1404,{"$f":"CEILING(IF(C328-C327=0,IF(H327=0,I327,IF(J327>K327,I327,E327)),'Výstupy modelu'!$C$7),1)","v":1664},0,0,{"$f":"IF(F328=1,IF(G328>'Zdrojová data'!$C$19,0,1),\"\")","v":""},1664,0,{"$f":"MIN(J328,'Zdrojová data'!$C$17)","v":0},0,{"$f":"L328/'Zdrojová data'!$C$16","v":0},{"$f":"M328*'Zdrojová data'!$C$13","v":0},{"$f":"N328*'Zdrojová data'!$C$14","v":0},0,{"$f":"IF(H328=0,D328-'Výstupy modelu'!$C$7,IF(P328=1,J328-K328,0))","v":0},0,null,{"$f":"MAX(0,IF(Q328>0,Q328-('Výstupy modelu'!$H$10-'Výstupy modelu'!$H$9),0))","v":0},null,null,1865.4300000000003,1885.4300000000003,0,{"$f":"MAX(0,D328-'Vstupní hodnoty'!$C$5)","v":0}]
[null,"2017-01-04T09:30:00",1,1441.8000000000002,{"$f":"CEILING(IF(C329-C328=0,IF(H328=0,I328,IF(J328>K328,I328,E328)),'Výstupy modelu'!$C$7),1)","v":1664},0,0,{"$f":"IF(F329=1,IF(G329>'Zdrojová data'!$C$19,0,1),\"\")","v":""},1664,0,{"$f":"MIN(J329,'Zdrojová data'!$C$17)","v":0},0,{"$f":"L329/'Zdrojová data'!$C$16","v":0},{"$f":"M329*'Zdrojová data'!$C$13","v":0},{"$f":"N329*'Zdrojová data'!$C$14","v":0},0,{"$f":"IF(H329=0,D329-'Výstupy modelu'!$C$7,IF(P329=1,J329-K329,0))","v":0},0,null,{"$f":"MAX(0,IF(Q329>0,Q329-('Výstupy modelu'!$H$10-'Výstupy modelu'!$H$9),0))","v":0},null,null,1865.4300000000003,1885.4300000000003,0,{"$f":"MAX(0,D329-'Vstupní hodnoty'!$C$5)","v":0}]
[null,"2017-01-04T09:45:00",1,1396.44,{"$f":"CEILING(IF(C330-C329=0,IF(H329=0,I329,IF(J329>K329,I329,E329)),'Výstupy modelu'!$C$7),1)","v":1664},0,0,{"$f":"IF(F330=1,IF(G330>'Zdrojová data'!$C$19,0,1),\"\")","v":""},1664,0,{"$f":"MIN(J330,'Zdrojová data'!$C$17)","v":0},0,{"$f":"L330/'Zdrojová data'!$C$16","v":0},{"$f":"M330*'Zdrojová data'!$C$13","v":0},{"$f":"N330*'Zdrojová data'!$C$14","v":0},0,{"$f":"IF(H330=0,D330-'Výstupy modelu'!$C$7,IF(P330=1,J330-K330,0))","v":0},0,null,{"$f":"MAX(0,IF(Q330>0,Q330-('Výstupy modelu'!$H$10-'Výstupy modelu'!$H$9),0))","v":0},null,null,1865.4300000000003,1885.4300000000003,0,{"$f":"MAX(0,D330-'Vstupní hodnoty'!$C$5)","v":0}]
[null,"2017-01-04T10:00:00",1,1402.92,{"$f":"CEILING(IF(C331-C330=0,IF(H330=0,I330,IF(J330>K330,I330,E330)),'Výstupy modelu'!$C$7),1)","v":1664},0,0,{"$f":"IF(F331=1,IF(G331>'Zdrojová data'!$C$19,0,1),\"\")","v":""},1664,0,{"$f":"MIN(J331,'Zdrojová data'!$C$17)","v":0},0,{"$f":"L331/'Zdrojová data'!$C$16","v":0},{"$f":"M331*'Zdrojová data'!$C$13","v":0},{"$f":"N331*'Zdrojová data'!$C$14","v":0},0,{"$f":"IF(H331=0,D331-'Výstupy modelu'!$C$7,IF(P331=1,J331-K331,0))","v":0},0,null,{"$f":"MAX(0,IF(Q331>0,Q331-('Výstupy modelu'!$H$10-'Výstupy modelu'!$H$9),0))","v":0},null,null,1865.4300000000003,1885.4300000000003,0,{"$f":"MAX(0,D331-'Vstupní hodnoty'!$C$5)","v":0}]
[null,"2017-01-04T10:15:00",1,1339.2,{"$f":"CEILING(IF(C332-C331=0,IF(H331=0,I331,IF(J331>K331,I331,E331)),'Výstupy modelu'!$C$7),1)","v":1664},0,0,{"$f":"IF(F332=1,IF(G332>'Zdrojová data'!$C$19,0,1),\"\")","v":""},1664,0,{"$f":"MIN(J332,'Zdrojová data'!$C$17)","v":0},0,{"$f":"L332/'Zdrojová data'!$C$16","v":0},{"$f":"M332*'Zdrojová data'!$C$13","v":0},{"$f":"N332*'Zdrojová data'!$C$14","v":0},0,{"$f":"IF(H332=0,D332-'Výstupy modelu'!$C$7,IF(P332=1,J332-K332,0))","v":0},0,null,{"$f":"MAX(0,IF(Q332>0,Q332-('Výstupy modelu'!$H$10-'Výstupy modelu'!$H$9),0))","v":0},null,null,1865.4300000000003,1885.4300000000003,0,{"$f":"MAX(0,D332-'Vstupní hodnoty'!$C$5)","v":0}]
[null,"2017-01-04T10:30:00",1,1385.64,{"$f":"CEILING(IF(C333-C332=0,IF(H332=0,I332,IF(J332>K332,I332,E332)),'Výstupy modelu'!$C$7),1)","v":1664},0,0,{"$f":"IF(F333=1,IF(G333>'Zdrojová data'!$C$19,0,1),\"\")","v":""},1664,0,{"$f":"MIN(J333,'Zdrojová data'!$C$17)","v":0},0,{"$f":"L333/'Zdrojová data'!$C$16","v":0},{"$f":"M333*'Zdrojová data'!$C$13","v":0},{"$f":"N333*'Zdrojová data'!$C$14","v":0},0,{"$f":"IF(H333=0,D333-'Výstupy modelu'!$C$7,IF(P333=1,J333-K333,0))","v":0},0,null,{"$f":"MAX(0,IF(Q333>0,Q333-('Výstupy modelu'!$H$10-'Výstupy modelu'!$H$9),0))","v":0},null,null,1865.4300000000003,1885.4300000000003,0,{"$f":"MAX(0,D333-'Vstupní hodnoty'!$C$5)","v":0}]
[null,"2017-01-04T10:45:00",1,1428.8400000000001,{"$f":"CEILING(IF(C334-C333=0,IF(H333=0,I333,IF(J333>K333,I333,E333)),'Výstupy modelu'!$C$7),1)","v":1664},0,0,{"$f":"IF(F334=1,IF(G334>'Zdrojová data'!$C$19,0,1),\"\")","v":""},1664,0,{"$f":"MIN(J334,'Zdrojová data'!$C$17)","v":0},0,{"$f":"L334/'Zdrojová data'!$C$16","v":0},{"$f":"M334*'Zdrojová data'!$C$13","v":0},{"$f":"N334*'Zdrojová data'!$C$14","v":0},0,{"$f":"IF(H334=0,D334-'Výstupy modelu'!$C$7,IF(P334=1,J334-K334,0))","v":0},0,null,{"$f":"MAX(0,IF(Q334>0,Q334-('Výstupy modelu'!$H$10-'Výstupy modelu'!$H$9),0))","v":0},null,null,1865.4300000000003,1885.4300000000003,0,{"$f":"MAX(0,D334-'Vstupní hodnoty'!$C$5)","v":0}]
[null,"2017-01-04T11:00:00",1,1441.8000000000002,{"$f":"CEILING(IF(C335-C334=0,IF(H334=0,I334,IF(J334>K334,I334,E334)),'Výstupy modelu'!$C$7),1)","v":1664},0,0,{"$f":"IF(F335=1,IF(G335>'Zdrojová data'!$C$19,0,1),\"\")","v":""},1664,0,{"$f":"MIN(J335,'Zdrojová data'!$C$17)","v":0},0,{"$f":"L335/'Zdrojová data'!$C$16","v":0},{"$f":"M335*'Zdrojová data'!$C$13","v":0},{"$f":"N335*'Zdrojová data'!$C$14","v":0},0,{"$f":"IF(H335=0,D335-'Výstupy modelu'!$C$7,IF(P335=1,J335-K335,0))","v":0},0,null,{"$f":"MAX(0,IF(Q335>0,Q335-('Výstupy modelu'!$H$10-'Výstupy modelu'!$H$9),0))","v":0},null,null,1865.4300000000003,1885.4300000000003,0,{"$f":"MAX(0,D335-'Vstupní hodnoty'!$C$5)","v":0}]
[null,"2017-01-04T11:15:00",1,1426.68,{"$f":"CEILING(IF(C336-C335=0,IF(H335=0,I335,IF(J335>K335,I335,E335)),'Výstupy modelu'!$C$7),1)","v":1664},0,0,{"$f":"IF(F336=1,IF(G336>'Zdrojová data'!$C$19,0,1),\"\")","v":""},1664,0,{"$f":"MIN(J336,'Zdrojová data'!$C$17)","v":0},0,{"$f":"L336/'Zdrojová data'!$C$16","v":0},{"$f":"M336*'Zdrojová data'!$C$13","v":0},{"$f":"N336*'Zdrojová data'!$C$14","v":0},0,{"$f":"IF(H336=0,D336-'Výstupy modelu'!$C$7,IF(P336=1,J336-K336,0))","v":0},0,null,{"$f":"MAX(0,IF(Q336>0,Q336-('Výstupy modelu'!$H$10-'Výstupy modelu'!$H$9),0))","v":0},null,null,1865.4300000000003,1885.4300000000003,0,{"$f":"MAX(0,D336-'Vstupní hodnoty'!$C$5)","v":0}]
[null,"2017-01-04T11:30:00",1,1289.52,{"$f":"CEILING(IF(C337-C336=0,IF(H336=0,I336,IF(J336>K336,I336,E336)),'Výstupy modelu'!$C$7),1)","v":1664},0,0,{"$f":"IF(F337=1,IF(G337>'Zdrojová data'!$C$19,0,1),\"\")","v":""},1664,0,{"$f":"MIN(J337,'Zdrojová data'!$C$17)","v":0},0,{"$f":"L337/'Zdrojová data'!$C$16","v":0},{"$f":"M337*'Zdrojová data'!$C$13","v":0},{"$f":"N337*'Zdrojová data'!$C$14","v":0},0,{"$f":"IF(H337=0,D337-'Výstupy modelu'!$C$7,IF(P337=1,J337-K337,0))","v":0},0,null,{"$f":"MAX(0,IF(Q337>0,Q337-('Výstupy modelu'!$H$10-'Výstupy modelu'!$H$9),0))","v":0},null,null,1865.4300000000003,1885.4300000000003,0,{"$f":"MAX(0,D337-'Vstupní hodnoty'!$C$5)","v":0}]
[null,"2017-01-04T11:45:00",1,1182.6000000000001,{"$f":"CEILING(IF(C338-C337=0,IF(H337=0,I337,IF(J337>K337,I337,E337)),'Výstupy modelu'!$C$7),1)","v":1664},0,0,{"$f":"IF(F338=1,IF(G338>'Zdrojová data'!$C$19,0,1),\"\")","v":""},1664,0,{"$f":"MIN(J338,'Zdrojová data'!$C$17)","v":0},0,{"$f":"L338/'Zdrojová data'!$C$16","v":0},{"$f":"M338*'Zdrojová data'!$C$13","v":0},{"$f":"N338*'Zdrojová data'!$C$14","v":0},0,{"$f":"IF(H338=0,D338-'Výstupy modelu'!$C$7,IF(P338=1,J338-K338,0))","v":0},0,null,{"$f":"MAX(0,IF(Q338>0,Q338-('Výstupy modelu'!$H$10-'Výstupy modelu'!$H$9),0))","v":0},null,null,1865.4300000000003,1885.4300000000003,0,{"$f":"MAX(0,D338-'Vstupní hodnoty'!$C$5)","v":0}]
[null,"2017-01-04T12:00:00",1,988.2,{"$f":"CEILING(IF(C339-C338=0,IF(H338=0,I338,IF(J338>K338,I338,E338)),'Výstupy modelu'!$C$7),1)","v":1664},0,0,{"$f":"IF(F339=1,IF(G339>'Zdrojová data'!$C$19,0,1),\"\")","v":""},1664,0,{"$f":"MIN(J339,'Zdrojová data'!$C$17)","v":0},0,{"$f":"L339/'Zdrojová data'!$C$16","v":0},{"$f":"M339*'Zdrojová data'!$C$13","v":0},{"$f":"N339*'Zdrojová data'!$C$14","v":0},0,{"$f":"IF(H339=0,D339-'Výstupy modelu'!$C$7,IF(P339=1,J339-K339,0))","v":0},0,null,{"$f":"MAX(0,IF(Q339>0,Q339-('Výstupy modelu'!$H$10-'Výstupy modelu'!$H$9),0))","v":0},null,null,1865.4300000000003,1885.4300000000003,0,{"$f":"MAX(0,D339-'Vstupní hodnoty'!$C$5)","v":0}]
[null,"2017-01-04T12:15:00",1,1009.8000000000001,{"$f":"CEILING(IF(C340-C339=0,IF(H339=0,I339,IF(J339>K339,I339,E339)),'Výstupy modelu'!$C$7),1)","v":1664},0,0,{"$f":"IF(F340=1,IF(G340>'Zdrojová data'!$C$19,0,1),\"\")","v":""},1664,0,{"$f":"MIN(J340,'Zdrojová data'!$C$17)","v":0},0,{"$f":"L340/'Zdrojová data'!$C$16","v":0},{"$f":"M340*'Zdrojová data'!$C$13","v":0},{"$f":"N340*'Zdrojová data'!$C$14","v":0},0,{"$f":"IF(H340=0,D340-'Výstupy modelu'!$C$7,IF(P340=1,J340-K340,0))","v":0},0,null,{"$f":"MAX(0,IF(Q340>0,Q340-('Výstupy modelu'!$H$10-'Výstupy modelu'!$H$9),0))","v":0},null,null,1865.4300000000003,1885.4300000000003,0,{"$f":"MAX(0,D340-'Vstupní hodnoty'!$C$5)","v":0}]
[null,"2017-01-04T12:30:00",1,1167.48,{"$f":"CEILING(IF(C341-C340=0,IF(H340=0,I340,IF(J340>K340,I340,E340)),'Výstupy modelu'!$C$7),1)","v":1664},0,0,{"$f":"IF(F341=1,IF(G341>'Zdrojová data'!$C$19,0,1),\"\")","v":""},1664,0,{"$f":"MIN(J341,'Zdrojová data'!$C$17)","v":0},0,{"$f":"L341/'Zdrojová data'!$C$16","v":0},{"$f":"M341*'Zdrojová data'!$C$13","v":0},{"$f":"N341*'Zdrojová data'!$C$14","v":0},0,{"$f":"IF(H341=0,D341-'Výstupy modelu'!$C$7,IF(P341=1,J341-K341,0))","v":0},0,null,{"$f":"MAX(0,IF(Q341>0,Q341-('Výstupy modelu'!$H$10-'Výstupy modelu'!$H$9),0))","v":0},null,null,1865.4300000000003,1885.4300000000003,0,{"$f":"MAX(0,D341-'Vstupní hodnoty'!$C$5)","v":0}]
[null,"2017-01-04T12:45:00",1,1318.68,{"$f":"CEILING(IF(C342-C341=0,IF(H341=0,I341,IF(J341>K341,I341,E341)),'Výstupy modelu'!$C$7),1)","v":1664},0,0,{"$f":"IF(F342=1,IF(G342>'Zdrojová data'!$C$19,0,1),\"\")","v":""},1664,0,{"$f":"MIN(J342,'Zdrojová data'!$C$17)","v":0},0,{"$f":"L342/'Zdrojová data'!$C$16","v":0},{"$f":"M342*'Zdrojová data'!$C$13","v":0},{"$f":"N342*'Zdrojová data'!$C$14","v":0},0,{"$f":"IF(H342=0,D342-'Výstupy modelu'!$C$7,IF(P342=1,J342-K342,0))","v":0},0,null,{"$f":"MAX(0,IF(Q342>0,Q342-('Výstupy modelu'!$H$10-'Výstupy modelu'!$H$9),0))","v":0},null,null,1865.4300000000003,1885.4300000000003,0,{"$f":"MAX(0,D342-'Vstupní hodnoty'!$C$5)","v":0}]
[null,"2017-01-04T13:00:00",1,1331.64,{"$f":"CEILING(IF(C343-C342=0,IF(H342=0,I342,IF(J342>K342,I342,E342)),'Výstupy modelu'!$C$7),1)","v":1664},0,0,{"$f":"IF(F343=1,IF(G343>'Zdrojová data'!$C$19,0,1),\"\")","v":""},1664,0,{"$f":"MIN(J343,'Zdrojová data'!$C$17)","v":0},0,{"$f":"L343/'Zdrojová data'!$C$16","v":0},{"$f":"M343*'Zdrojová data'!$C$13","v":0},{"$f":"N343*'Zdrojová data'!$C$14","v":0},0,{"$f":"IF(H343=0,D343-'Výstupy modelu'!$C$7,IF(P343=1,J343-K343,0))","v":0},0,null,{"$f":"MAX(0,IF(Q343>0,Q343-('Výstupy modelu'!$H$10-'Výstupy modelu'!$H$9),0))","v":0},null,null,1865.4300000000003,1885.4300000000003,0,{"$f":"MAX(0,D343-'Vstupní hodnoty'!$C$5)","v":0}]
[null,"2017-01-04T13:15:00",1,1293.8400000000001,{"$f":"CEILING(IF(C344-C343=0,IF(H343=0,I343,IF(J343>K343,I343,E343)),'Výstupy modelu'!$C$7),1)","v":1664},0,0,{"$f":"IF(F344=1,IF(G344>'Zdrojová data'!$C$19,0,1),\"\")","v":""},1664,0,{"$f":"MIN(J344,'Zdrojová data'!$C$17)","v":0},0,{"$f":"L344/'Zdrojová data'!$C$16","v":0},{"$f":"M344*'Zdrojová data'!$C$13","v":0},{"$f":"N344*'Zdrojová data'!$C$14","v":0},0,{"$f":"IF(H344=0,D344-'Výstupy modelu'!$C$7,IF(P344=1,J344-K344,0))","v":0},0,null,{"$f":"MAX(0,IF(Q344>0,Q344-('Výstupy modelu'!$H$10-'Výstupy modelu'!$H$9),0))","v":0},null,null,1865.4300000000003,1885.4300000000003,0,{"$f":"MAX(0,D344-'Vstupní hodnoty'!$C$5)","v":0}]
[null,"2017-01-04T13:30:00",1,1296,{"$f":"CEILING(IF(C345-C344=0,IF(H344=0,I344,IF(J344>K344,I344,E344)),'Výstupy modelu'!$C$7),1)","v":1664},0,0,{"$f":"IF(F345=1,IF(G345>'Zdrojová data'!$C$19,0,1),\"\")","v":""},1664,0,{"$f":"MIN(J345,'Zdrojová data'!$C$17)","v":0},0,{"$f":"L345/'Zdrojová data'!$C$16","v":0},{"$f":"M345*'Zdrojová data'!$C$13","v":0},{"$f":"N345*'Zdrojová data'!$C$14","v":0},0,{"$f":"IF(H345=0,D345-'Výstupy modelu'!$C$7,IF(P345=1,J345-K345,0))","v":0},0,null,{"$f":"MAX(0,IF(Q345>0,Q345-('Výstupy modelu'!$H$10-'Výstupy modelu'!$H$9),0))","v":0},null,null,1865.4300000000003,1885.4300000000003,0,{"$f":"MAX(0,D345-'Vstupní hodnoty'!$C$5)","v":0}]
[null,"2017-01-04T13:45:00",1,1326.24,{"$f":"CEILING(IF(C346-C345=0,IF(H345=0,I345,IF(J345>K345,I345,E345)),'Výstupy modelu'!$C$7),1)","v":1664},0,0,{"$f":"IF(F346=1,IF(G346>'Zdrojová data'!$C$19,0,1),\"\")","v":""},1664,0,{"$f":"MIN(J346,'Zdrojová data'!$C$17)","v":0},0,{"$f":"L346/'Zdrojová data'!$C$16","v":0},{"$f":"M346*'Zdrojová data'!$C$13","v":0},{"$f":"N346*'Zdrojová data'!$C$14","v":0},0,{"$f":"IF(H346=0,D346-'Výstupy modelu'!$C$7,IF(P346=1,J346-K346,0))","v":0},0,null,{"$f":"MAX(0,IF(Q346>0,Q346-('Výstupy modelu'!$H$10-'Výstupy modelu'!$H$9),0))","v":0},null,null,1865.4300000000003,1885.4300000000003,0,{"$f":"MAX(0,D346-'Vstupní hodnoty'!$C$5)","v":0}]
[null,"2017-01-04T14:00:00",1,1183.68,{"$f":"CEILING(IF(C347-C346=0,IF(H346=0,I346,IF(J346>K346,I346,E346)),'Výstupy modelu'!$C$7),1)","v":1664},0,0,{"$f":"IF(F347=1,IF(G347>'Zdrojová data'!$C$19,0,1),\"\")","v":""},1664,0,{"$f":"MIN(J347,'Zdrojová data'!$C$17)","v":0},0,{"$f":"L347/'Zdrojová data'!$C$16","v":0},{"$f":"M347*'Zdrojová data'!$C$13","v":0},{"$f":"N347*'Zdrojová data'!$C$14","v":0},0,{"$f":"IF(H347=0,D347-'Výstupy modelu'!$C$7,IF(P347=1,J347-K347,0))","v":0},0,null,{"$f":"MAX(0,IF(Q347>0,Q347-('Výstupy modelu'!$H$10-'Výstupy modelu'!$H$9),0))","v":0},null,null,1865.4300000000003,1885.4300000000003,0,{"$f":"MAX(0,D347-'Vstupní hodnoty'!$C$5)","v":0}]
[null,"2017-01-04T14:15:00",1,1219.3200000000002,{"$f":"CEILING(IF(C348-C347=0,IF(H347=0,I347,IF(J347>K347,I347,E347)),'Výstupy modelu'!$C$7),1)","v":1664},0,0,{"$f":"IF(F348=1,IF(G348>'Zdrojová data'!$C$19,0,1),\"\")","v":""},1664,0,{"$f":"MIN(J348,'Zdrojová data'!$C$17)","v":0},0,{"$f":"L348/'Zdrojová data'!$C$16","v":0},{"$f":"M348*'Zdrojová data'!$C$13","v":0},{"$f":"N348*'Zdrojová data'!$C$14","v":0},0,{"$f":"IF(H348=0,D348-'Výstupy modelu'!$C$7,IF(P348=1,J348-K348,0))","v":0},0,null,{"$f":"MAX(0,IF(Q348>0,Q348-('Výstupy modelu'!$H$10-'Výstupy modelu'!$H$9),0))","v":0},null,null,1865.4300000000003,1885.4300000000003,0,{"$f":"MAX(0,D348-'Vstupní hodnoty'!$C$5)","v":0}]
[null,"2017-01-04T14:30:00",1,1157.76,{"$f":"CEILING(IF(C349-C348=0,IF(H348=0,I348,IF(J348>K348,I348,E348)),'Výstupy modelu'!$C$7),1)","v":1664},0,0,{"$f":"IF(F349=1,IF(G349>'Zdrojová data'!$C$19,0,1),\"\")","v":""},1664,0,{"$f":"MIN(J349,'Zdrojová data'!$C$17)","v":0},0,{"$f":"L349/'Zdrojová data'!$C$16","v":0},{"$f":"M349*'Zdrojová data'!$C$13","v":0},{"$f":"N349*'Zdrojová data'!$C$14","v":0},0,{"$f":"IF(H349=0,D349-'Výstupy modelu'!$C$7,IF(P349=1,J349-K349,0))","v":0},0,null,{"$f":"MAX(0,IF(Q349>0,Q349-('Výstupy modelu'!$H$10-'Výstupy modelu'!$H$9),0))","v":0},null,null,1865.4300000000003,1885.4300000000003,0,{"$f":"MAX(0,D349-'Vstupní hodnoty'!$C$5)","v":0}]
[null,"2017-01-04T14:45:00",1,1161,{"$f":"CEILING(IF(C350-C349=0,IF(H349=0,I349,IF(J349>K349,I349,E349)),'Výstupy modelu'!$C$7),1)","v":1664},0,0,{"$f":"IF(F350=1,IF(G350>'Zdrojová data'!$C$19,0,1),\"\")","v":""},1664,0,{"$f":"MIN(J350,'Zdrojová data'!$C$17)","v":0},0,{"$f":"L350/'Zdrojová data'!$C$16","v":0},{"$f":"M350*'Zdrojová data'!$C$13","v":0},{"$f":"N350*'Zdrojová data'!$C$14","v":0},0,{"$f":"IF(H350=0,D350-'Výstupy modelu'!$C$7,IF(P350=1,J350-K350,0))","v":0},0,null,{"$f":"MAX(0,IF(Q350>0,Q350-('Výstupy modelu'!$H$10-'Výstupy modelu'!$H$9),0))","v":0},null,null,1865.4300000000003,1885.4300000000003,0,{"$f":"MAX(0,D350-'Vstupní hodnoty'!$C$5)","v":0}]
[null,"2017-01-04T15:00:00",1,1148.04,{"$f":"CEILING(IF(C351-C350=0,IF(H350=0,I350,IF(J350>K350,I350,E350)),'Výstupy modelu'!$C$7),1)","v":1664},0,0,{"$f":"IF(F351=1,IF(G351>'Zdrojová data'!$C$19,0,1),\"\")","v":""},1664,0,{"$f":"MIN(J351,'Zdrojová data'!$C$17)","v":0},0,{"$f":"L351/'Zdrojová data'!$C$16","v":0},{"$f":"M351*'Zdrojová data'!$C$13","v":0},{"$f":"N351*'Zdrojová data'!$C$14","v":0},0,{"$f":"IF(H351=0,D351-'Výstupy modelu'!$C$7,IF(P351=1,J351-K351,0))","v":0},0,null,{"$f":"MAX(0,IF(Q351>0,Q351-('Výstupy modelu'!$H$10-'Výstupy modelu'!$H$9),0))","v":0},null,null,1865.4300000000003,1885.4300000000003,0,{"$f":"MAX(0,D351-'Vstupní hodnoty'!$C$5)","v":0}]
[null,"2017-01-04T15:15:00",1,1040.04,{"$f":"CEILING(IF(C352-C351=0,IF(H351=0,I351,IF(J351>K351,I351,E351)),'Výstupy modelu'!$C$7),1)","v":1664},0,0,{"$f":"IF(F352=1,IF(G352>'Zdrojová data'!$C$19,0,1),\"\")","v":""},1664,0,{"$f":"MIN(J352,'Zdrojová data'!$C$17)","v":0},0,{"$f":"L352/'Zdrojová data'!$C$16","v":0},{"$f":"M352*'Zdrojová data'!$C$13","v":0},{"$f":"N352*'Zdrojová data'!$C$14","v":0},0,{"$f":"IF(H352=0,D352-'Výstupy modelu'!$C$7,IF(P352=1,J352-K352,0))","v":0},0,null,{"$f":"MAX(0,IF(Q352>0,Q352-('Výstupy modelu'!$H$10-'Výstupy modelu'!$H$9),0))","v":0},null,null,1865.4300000000003,1885.4300000000003,0,{"$f":"MAX(0,D352-'Vstupní hodnoty'!$C$5)","v":0}]
[null,"2017-01-04T15:30:00",1,1016.2800000000001,{"$f":"CEILING(IF(C353-C352=0,IF(H352=0,I352,IF(J352>K352,I352,E352)),'Výstupy modelu'!$C$7),1)","v":1664},0,0,{"$f":"IF(F353=1,IF(G353>'Zdrojová data'!$C$19,0,1),\"\")","v":""},1664,0,{"$f":"MIN(J353,'Zdrojová data'!$C$17)","v":0},0,{"$f":"L353/'Zdrojová data'!$C$16","v":0},{"$f":"M353*'Zdrojová data'!$C$13","v":0},{"$f":"N353*'Zdrojová data'!$C$14","v":0},0,{"$f":"IF(H353=0,D353-'Výstupy modelu'!$C$7,IF(P353=1,J353-K353,0))","v":0},0,null,{"$f":"MAX(0,IF(Q353>0,Q353-('Výstupy modelu'!$H$10-'Výstupy modelu'!$H$9),0))","v":0},null,null,1865.4300000000003,1885.4300000000003,0,{"$f":"MAX(0,D353-'Vstupní hodnoty'!$C$5)","v":0}]
[null,"2017-01-04T15:45:00",1,1035.72,{"$f":"CEILING(IF(C354-C353=0,IF(H353=0,I353,IF(J353>K353,I353,E353)),'Výstupy modelu'!$C$7),1)","v":1664},0,0,{"$f":"IF(F354=1,IF(G354>'Zdrojová data'!$C$19,0,1),\"\")","v":""},1664,0,{"$f":"MIN(J354,'Zdrojová data'!$C$17)","v":0},0,{"$f":"L354/'Zdrojová data'!$C$16","v":0},{"$f":"M354*'Zdrojová data'!$C$13","v":0},{"$f":"N354*'Zdrojová data'!$C$14","v":0},0,{"$f":"IF(H354=0,D354-'Výstupy modelu'!$C$7,IF(P354=1,J354-K354,0))","v":0},0,null,{"$f":"MAX(0,IF(Q354>0,Q354-('Výstupy modelu'!$H$10-'Výstupy modelu'!$H$9),0))","v":0},null,null,1865.4300000000003,1885.4300000000003,0,{"$f":"MAX(0,D354-'Vstupní hodnoty'!$C$5)","v":0}]
[null,"2017-01-04T16:00:00",1,901.80000000000007,{"$f":"CEILING(IF(C355-C354=0,IF(H354=0,I354,IF(J354>K354,I354,E354)),'Výstupy modelu'!$C$7),1)","v":1664},0,0,{"$f":"IF(F355=1,IF(G355>'Zdrojová data'!$C$19,0,1),\"\")","v":""},1664,0,{"$f":"MIN(J355,'Zdrojová data'!$C$17)","v":0},0,{"$f":"L355/'Zdrojová data'!$C$16","v":0},{"$f":"M355*'Zdrojová data'!$C$13","v":0},{"$f":"N355*'Zdrojová data'!$C$14","v":0},0,{"$f":"IF(H355=0,D355-'Výstupy modelu'!$C$7,IF(P355=1,J355-K355,0))","v":0},0,null,{"$f":"MAX(0,IF(Q355>0,Q355-('Výstupy modelu'!$H$10-'Výstupy modelu'!$H$9),0))","v":0},null,null,1865.4300000000003,1885.4300000000003,0,{"$f":"MAX(0,D355-'Vstupní hodnoty'!$C$5)","v":0}]
[null,"2017-01-04T16:15:00",1,982.80000000000007,{"$f":"CEILING(IF(C356-C355=0,IF(H355=0,I355,IF(J355>K355,I355,E355)),'Výstupy modelu'!$C$7),1)","v":1664},0,0,{"$f":"IF(F356=1,IF(G356>'Zdrojová data'!$C$19,0,1),\"\")","v":""},1664,0,{"$f":"MIN(J356,'Zdrojová data'!$C$17)","v":0},0,{"$f":"L356/'Zdrojová data'!$C$16","v":0},{"$f":"M356*'Zdrojová data'!$C$13","v":0},{"$f":"N356*'Zdrojová data'!$C$14","v":0},0,{"$f":"IF(H356=0,D356-'Výstupy modelu'!$C$7,IF(P356=1,J356-K356,0))","v":0},0,null,{"$f":"MAX(0,IF(Q356>0,Q356-('Výstupy modelu'!$H$10-'Výstupy modelu'!$H$9),0))","v":0},null,null,1865.4300000000003,1885.4300000000003,0,{"$f":"MAX(0,D356-'Vstupní hodnoty'!$C$5)","v":0}]
[null,"2017-01-04T16:30:00",1,974.16000000000008,{"$f":"CEILING(IF(C357-C356=0,IF(H356=0,I356,IF(J356>K356,I356,E356)),'Výstupy modelu'!$C$7),1)","v":1664},0,0,{"$f":"IF(F357=1,IF(G357>'Zdrojová data'!$C$19,0,1),\"\")","v":""},1664,0,{"$f":"MIN(J357,'Zdrojová data'!$C$17)","v":0},0,{"$f":"L357/'Zdrojová data'!$C$16","v":0},{"$f":"M357*'Zdrojová data'!$C$13","v":0},{"$f":"N357*'Zdrojová data'!$C$14","v":0},0,{"$f":"IF(H357=0,D357-'Výstupy modelu'!$C$7,IF(P357=1,J357-K357,0))","v":0},0,null,{"$f":"MAX(0,IF(Q357>0,Q357-('Výstupy modelu'!$H$10-'Výstupy modelu'!$H$9),0))","v":0},null,null,1865.4300000000003,1885.4300000000003,0,{"$f":"MAX(0,D357-'Vstupní hodnoty'!$C$5)","v":0}]
[null,"2017-01-04T16:45:00",1,969.84,{"$f":"CEILING(IF(C358-C357=0,IF(H357=0,I357,IF(J357>K357,I357,E357)),'Výstupy modelu'!$C$7),1)","v":1664},0,0,{"$f":"IF(F358=1,IF(G358>'Zdrojová data'!$C$19,0,1),\"\")","v":""},1664,0,{"$f":"MIN(J358,'Zdrojová data'!$C$17)","v":0},0,{"$f":"L358/'Zdrojová data'!$C$16","v":0},{"$f":"M358*'Zdrojová data'!$C$13","v":0},{"$f":"N358*'Zdrojová data'!$C$14","v":0},0,{"$f":"IF(H358=0,D358-'Výstupy modelu'!$C$7,IF(P358=1,J358-K358,0))","v":0},0,null,{"$f":"MAX(0,IF(Q358>0,Q358-('Výstupy modelu'!$H$10-'Výstupy modelu'!$H$9),0))","v":0},null,null,1865.4300000000003,1885.4300000000003,0,{"$f":"MAX(0,D358-'Vstupní hodnoty'!$C$5)","v":0}]
[null,"2017-01-04T17:00:00",1,993.6,{"$f":"CEILING(IF(C359-C358=0,IF(H358=0,I358,IF(J358>K358,I358,E358)),'Výstupy modelu'!$C$7),1)","v":1664},0,0,{"$f":"IF(F359=1,IF(G359>'Zdrojová data'!$C$19,0,1),\"\")","v":""},1664,0,{"$f":"MIN(J359,'Zdrojová data'!$C$17)","v":0},0,{"$f":"L359/'Zdrojová data'!$C$16","v":0},{"$f":"M359*'Zdrojová data'!$C$13","v":0},{"$f":"N359*'Zdrojová data'!$C$14","v":0},0,{"$f":"IF(H359=0,D359-'Výstupy modelu'!$C$7,IF(P359=1,J359-K359,0))","v":0},0,null,{"$f":"MAX(0,IF(Q359>0,Q359-('Výstupy modelu'!$H$10-'Výstupy modelu'!$H$9),0))","v":0},null,null,1865.4300000000003,1885.4300000000003,0,{"$f":"MAX(0,D359-'Vstupní hodnoty'!$C$5)","v":0}]
[null,"2017-01-04T17:15:00",1,948.24,{"$f":"CEILING(IF(C360-C359=0,IF(H359=0,I359,IF(J359>K359,I359,E359)),'Výstupy modelu'!$C$7),1)","v":1664},0,0,{"$f":"IF(F360=1,IF(G360>'Zdrojová data'!$C$19,0,1),\"\")","v":""},1664,0,{"$f":"MIN(J360,'Zdrojová data'!$C$17)","v":0},0,{"$f":"L360/'Zdrojová data'!$C$16","v":0},{"$f":"M360*'Zdrojová data'!$C$13","v":0},{"$f":"N360*'Zdrojová data'!$C$14","v":0},0,{"$f":"IF(H360=0,D360-'Výstupy modelu'!$C$7,IF(P360=1,J360-K360,0))","v":0},0,null,{"$f":"MAX(0,IF(Q360>0,Q360-('Výstupy modelu'!$H$10-'Výstupy modelu'!$H$9),0))","v":0},null,null,1865.4300000000003,1885.4300000000003,0,{"$f":"MAX(0,D360-'Vstupní hodnoty'!$C$5)","v":0}]
[null,"2017-01-04T17:30:00",1,910.44,{"$f":"CEILING(IF(C361-C360=0,IF(H360=0,I360,IF(J360>K360,I360,E360)),'Výstupy modelu'!$C$7),1)","v":1664},0,0,{"$f":"IF(F361=1,IF(G361>'Zdrojová data'!$C$19,0,1),\"\")","v":""},1664,0,{"$f":"MIN(J361,'Zdrojová data'!$C$17)","v":0},0,{"$f":"L361/'Zdrojová data'!$C$16","v":0},{"$f":"M361*'Zdrojová data'!$C$13","v":0},{"$f":"N361*'Zdrojová data'!$C$14","v":0},0,{"$f":"IF(H361=0,D361-'Výstupy modelu'!$C$7,IF(P361=1,J361-K361,0))","v":0},0,null,{"$f":"MAX(0,IF(Q361>0,Q361-('Výstupy modelu'!$H$10-'Výstupy modelu'!$H$9),0))","v":0},null,null,1865.4300000000003,1885.4300000000003,0,{"$f":"MAX(0,D361-'Vstupní hodnoty'!$C$5)","v":0}]
[null,"2017-01-04T17:45:00",1,766.80000000000007,{"$f":"CEILING(IF(C362-C361=0,IF(H361=0,I361,IF(J361>K361,I361,E361)),'Výstupy modelu'!$C$7),1)","v":1664},0,0,{"$f":"IF(F362=1,IF(G362>'Zdrojová data'!$C$19,0,1),\"\")","v":""},1664,0,{"$f":"MIN(J362,'Zdrojová data'!$C$17)","v":0},0,{"$f":"L362/'Zdrojová data'!$C$16","v":0},{"$f":"M362*'Zdrojová data'!$C$13","v":0},{"$f":"N362*'Zdrojová data'!$C$14","v":0},0,{"$f":"IF(H362=0,D362-'Výstupy modelu'!$C$7,IF(P362=1,J362-K362,0))","v":0},0,null,{"$f":"MAX(0,IF(Q362>0,Q362-('Výstupy modelu'!$H$10-'Výstupy modelu'!$H$9),0))","v":0},null,null,1865.4300000000003,1885.4300000000003,0,{"$f":"MAX(0,D362-'Vstupní hodnoty'!$C$5)","v":0}]
[null,"2017-01-04T18:00:00",1,768.96,{"$f":"CEILING(IF(C363-C362=0,IF(H362=0,I362,IF(J362>K362,I362,E362)),'Výstupy modelu'!$C$7),1)","v":1664},0,0,{"$f":"IF(F363=1,IF(G363>'Zdrojová data'!$C$19,0,1),\"\")","v":""},1664,0,{"$f":"MIN(J363,'Zdrojová data'!$C$17)","v":0},0,{"$f":"L363/'Zdrojová data'!$C$16","v":0},{"$f":"M363*'Zdrojová data'!$C$13","v":0},{"$f":"N363*'Zdrojová data'!$C$14","v":0},0,{"$f":"IF(H363=0,D363-'Výstupy modelu'!$C$7,IF(P363=1,J363-K363,0))","v":0},0,null,{"$f":"MAX(0,IF(Q363>0,Q363-('Výstupy modelu'!$H$10-'Výstupy modelu'!$H$9),0))","v":0},null,null,1865.4300000000003,1885.4300000000003,0,{"$f":"MAX(0,D363-'Vstupní hodnoty'!$C$5)","v":0}]
[null,"2017-01-04T18:15:00",1,803.5200000000001,{"$f":"CEILING(IF(C364-C363=0,IF(H363=0,I363,IF(J363>K363,I363,E363)),'Výstupy modelu'!$C$7),1)","v":1664},0,0,{"$f":"IF(F364=1,IF(G364>'Zdrojová data'!$C$19,0,1),\"\")","v":""},1664,0,{"$f":"MIN(J364,'Zdrojová data'!$C$17)","v":0},0,{"$f":"L364/'Zdrojová data'!$C$16","v":0},{"$f":"M364*'Zdrojová data'!$C$13","v":0},{"$f":"N364*'Zdrojová data'!$C$14","v":0},0,{"$f":"IF(H364=0,D364-'Výstupy modelu'!$C$7,IF(P364=1,J364-K364,0))","v":0},0,null,{"$f":"MAX(0,IF(Q364>0,Q364-('Výstupy modelu'!$H$10-'Výstupy modelu'!$H$9),0))","v":0},null,null,1865.4300000000003,1885.4300000000003,0,{"$f":"MAX(0,D364-'Vstupní hodnoty'!$C$5)","v":0}]
[null,"2017-01-04T18:30:00",1,800.28000000000009,{"$f":"CEILING(IF(C365-C364=0,IF(H364=0,I364,IF(J364>K364,I364,E364)),'Výstupy modelu'!$C$7),1)","v":1664},0,0,{"$f":"IF(F365=1,IF(G365>'Zdrojová data'!$C$19,0,1),\"\")","v":""},1664,0,{"$f":"MIN(J365,'Zdrojová data'!$C$17)","v":0},0,{"$f":"L365/'Zdrojová data'!$C$16","v":0},{"$f":"M365*'Zdrojová data'!$C$13","v":0},{"$f":"N365*'Zdrojová data'!$C$14","v":0},0,{"$f":"IF(H365=0,D365-'Výstupy modelu'!$C$7,IF(P365=1,J365-K365,0))","v":0},0,null,{"$f":"MAX(0,IF(Q365>0,Q365-('Výstupy modelu'!$H$10-'Výstupy modelu'!$H$9),0))","v":0},null,null,1865.4300000000003,1885.4300000000003,0,{"$f":"MAX(0,D365-'Vstupní hodnoty'!$C$5)","v":0}]
[null,"2017-01-04T18:45:00",1,811.08,{"$f":"CEILING(IF(C366-C365=0,IF(H365=0,I365,IF(J365>K365,I365,E365)),'Výstupy modelu'!$C$7),1)","v":1664},0,0,{"$f":"IF(F366=1,IF(G366>'Zdrojová data'!$C$19,0,1),\"\")","v":""},1664,0,{"$f":"MIN(J366,'Zdrojová data'!$C$17)","v":0},0,{"$f":"L366/'Zdrojová data'!$C$16","v":0},{"$f":"M366*'Zdrojová data'!$C$13","v":0},{"$f":"N366*'Zdrojová data'!$C$14","v":0},0,{"$f":"IF(H366=0,D366-'Výstupy modelu'!$C$7,IF(P366=1,J366-K366,0))","v":0},0,null,{"$f":"MAX(0,IF(Q366>0,Q366-('Výstupy modelu'!$H$10-'Výstupy modelu'!$H$9),0))","v":0},null,null,1865.4300000000003,1885.4300000000003,0,{"$f":"MAX(0,D366-'Vstupní hodnoty'!$C$5)","v":0}]
[null,"2017-01-04T19:00:00",1,828.36,{"$f":"CEILING(IF(C367-C366=0,IF(H366=0,I366,IF(J366>K366,I366,E366)),'Výstupy modelu'!$C$7),1)","v":1664},0,0,{"$f":"IF(F367=1,IF(G367>'Zdrojová data'!$C$19,0,1),\"\")","v":""},1664,0,{"$f":"MIN(J367,'Zdrojová data'!$C$17)","v":0},0,{"$f":"L367/'Zdrojová data'!$C$16","v":0},{"$f":"M367*'Zdrojová data'!$C$13","v":0},{"$f":"N367*'Zdrojová data'!$C$14","v":0},0,{"$f":"IF(H367=0,D367-'Výstupy modelu'!$C$7,IF(P367=1,J367-K367,0))","v":0},0,null,{"$f":"MAX(0,IF(Q367>0,Q367-('Výstupy modelu'!$H$10-'Výstupy modelu'!$H$9),0))","v":0},null,null,1865.4300000000003,1885.4300000000003,0,{"$f":"MAX(0,D367-'Vstupní hodnoty'!$C$5)","v":0}]
[null,"2017-01-04T19:15:00",1,902.88000000000011,{"$f":"CEILING(IF(C368-C367=0,IF(H367=0,I367,IF(J367>K367,I367,E367)),'Výstupy modelu'!$C$7),1)","v":1664},0,0,{"$f":"IF(F368=1,IF(G368>'Zdrojová data'!$C$19,0,1),\"\")","v":""},1664,0,{"$f":"MIN(J368,'Zdrojová data'!$C$17)","v":0},0,{"$f":"L368/'Zdrojová data'!$C$16","v":0},{"$f":"M368*'Zdrojová data'!$C$13","v":0},{"$f":"N368*'Zdrojová data'!$C$14","v":0},0,{"$f":"IF(H368=0,D368-'Výstupy modelu'!$C$7,IF(P368=1,J368-K368,0))","v":0},0,null,{"$f":"MAX(0,IF(Q368>0,Q368-('Výstupy modelu'!$H$10-'Výstupy modelu'!$H$9),0))","v":0},null,null,1865.4300000000003,1885.4300000000003,0,{"$f":"MAX(0,D368-'Vstupní hodnoty'!$C$5)","v":0}]
[null,"2017-01-04T19:30:00",1,886.68000000000006,{"$f":"CEILING(IF(C369-C368=0,IF(H368=0,I368,IF(J368>K368,I368,E368)),'Výstupy modelu'!$C$7),1)","v":1664},0,0,{"$f":"IF(F369=1,IF(G369>'Zdrojová data'!$C$19,0,1),\"\")","v":""},1664,0,{"$f":"MIN(J369,'Zdrojová data'!$C$17)","v":0},0,{"$f":"L369/'Zdrojová data'!$C$16","v":0},{"$f":"M369*'Zdrojová data'!$C$13","v":0},{"$f":"N369*'Zdrojová data'!$C$14","v":0},0,{"$f":"IF(H369=0,D369-'Výstupy modelu'!$C$7,IF(P369=1,J369-K369,0))","v":0},0,null,{"$f":"MAX(0,IF(Q369>0,Q369-('Výstupy modelu'!$H$10-'Výstupy modelu'!$H$9),0))","v":0},null,null,{"$f":"W368","v":1865.4300000000003},1885.4300000000003,{"$f":"MAX(0,D369-W369)","v":0},{"$f":"MAX(0,D369-'Vstupní hodnoty'!$C$5)","v":0}]
[null,"2017-01-04T19:45:00",1,895.32,{"$f":"CEILING(IF(C370-C369=0,IF(H369=0,I369,IF(J369>K369,I369,E369)),'Výstupy modelu'!$C$7),1)","v":1664},0,0,{"$f":"IF(F370=1,IF(G370>'Zdrojová data'!$C$19,0,1),\"\")","v":""},1664,0,{"$f":"MIN(J370,'Zdrojová data'!$C$17)","v":0},0,{"$f":"L370/'Zdrojová data'!$C$16","v":0},{"$f":"M370*'Zdrojová data'!$C$13","v":0},{"$f":"N370*'Zdrojová data'!$C$14","v":0},0,{"$f":"IF(H370=0,D370-'Výstupy modelu'!$C$7,IF(P370=1,J370-K370,0))","v":0},0,null,{"$f":"MAX(0,IF(Q370>0,Q370-('Výstupy modelu'!$H$10-'Výstupy modelu'!$H$9),0))","v":0},null,null,{"$f":"W369","v":1865.4300000000003},1885.4300000000003,0,{"$f":"MAX(0,D370-'Vstupní hodnoty'!$C$5)","v":0}]
[null,"2017-01-04T20:00:00",1,880.2,{"$f":"CEILING(IF(C371-C370=0,IF(H370=0,I370,IF(J370>K370,I370,E370)),'Výstupy modelu'!$C$7),1)","v":1664},0,0,{"$f":"IF(F371=1,IF(G371>'Zdrojová data'!$C$19,0,1),\"\")","v":""},1664,0,{"$f":"MIN(J371,'Zdrojová data'!$C$17)","v":0},0,{"$f":"L371/'Zdrojová data'!$C$16","v":0},{"$f":"M371*'Zdrojová data'!$C$13","v":0},{"$f":"N371*'Zdrojová data'!$C$14","v":0},0,{"$f":"IF(H371=0,D371-'Výstupy modelu'!$C$7,IF(P371=1,J371-K371,0))","v":0},0,null,{"$f":"MAX(0,IF(Q371>0,Q371-('Výstupy modelu'!$H$10-'Výstupy modelu'!$H$9),0))","v":0},null,null,{"$f":"W370","v":1865.4300000000003},1885.4300000000003,0,{"$f":"MAX(0,D371-'Vstupní hodnoty'!$C$5)","v":0}]
[null,"2017-01-04T20:15:00",1,760.32,{"$f":"CEILING(IF(C372-C371=0,IF(H371=0,I371,IF(J371>K371,I371,E371)),'Výstupy modelu'!$C$7),1)","v":1664},0,0,{"$f":"IF(F372=1,IF(G372>'Zdrojová data'!$C$19,0,1),\"\")","v":""},1664,0,{"$f":"MIN(J372,'Zdrojová data'!$C$17)","v":0},0,{"$f":"L372/'Zdrojová data'!$C$16","v":0},{"$f":"M372*'Zdrojová data'!$C$13","v":0},{"$f":"N372*'Zdrojová data'!$C$14","v":0},0,{"$f":"IF(H372=0,D372-'Výstupy modelu'!$C$7,IF(P372=1,J372-K372,0))","v":0},0,null,{"$f":"MAX(0,IF(Q372>0,Q372-('Výstupy modelu'!$H$10-'Výstupy modelu'!$H$9),0))","v":0},null,null,{"$f":"W371","v":1865.4300000000003},1885.4300000000003,0,{"$f":"MAX(0,D372-'Vstupní hodnoty'!$C$5)","v":0}]
[null,"2017-01-04T20:30:00",1,845.6400000000001,{"$f":"CEILING(IF(C373-C372=0,IF(H372=0,I372,IF(J372>K372,I372,E372)),'Výstupy modelu'!$C$7),1)","v":1664},0,0,{"$f":"IF(F373=1,IF(G373>'Zdrojová data'!$C$19,0,1),\"\")","v":""},1664,0,{"$f":"MIN(J373,'Zdrojová data'!$C$17)","v":0},0,{"$f":"L373/'Zdrojová data'!$C$16","v":0},{"$f":"M373*'Zdrojová data'!$C$13","v":0},{"$f":"N373*'Zdrojová data'!$C$14","v":0},0,{"$f":"IF(H373=0,D373-'Výstupy modelu'!$C$7,IF(P373=1,J373-K373,0))","v":0},0,null,{"$f":"MAX(0,IF(Q373>0,Q373-('Výstupy modelu'!$H$10-'Výstupy modelu'!$H$9),0))","v":0},null,null,{"$f":"W372","v":1865.4300000000003},1885.4300000000003,0,{"$f":"MAX(0,D373-'Vstupní hodnoty'!$C$5)","v":0}]
[null,"2017-01-04T20:45:00",1,849.96,{"$f":"CEILING(IF(C374-C373=0,IF(H373=0,I373,IF(J373>K373,I373,E373)),'Výstupy modelu'!$C$7),1)","v":1664},0,0,{"$f":"IF(F374=1,IF(G374>'Zdrojová data'!$C$19,0,1),\"\")","v":""},1664,0,{"$f":"MIN(J374,'Zdrojová data'!$C$17)","v":0},0,{"$f":"L374/'Zdrojová data'!$C$16","v":0},{"$f":"M374*'Zdrojová data'!$C$13","v":0},{"$f":"N374*'Zdrojová data'!$C$14","v":0},0,{"$f":"IF(H374=0,D374-'Výstupy modelu'!$C$7,IF(P374=1,J374-K374,0))","v":0},0,null,{"$f":"MAX(0,IF(Q374>0,Q374-('Výstupy modelu'!$H$10-'Výstupy modelu'!$H$9),0))","v":0},null,null,{"$f":"W373","v":1865.4300000000003},1885.4300000000003,0,{"$f":"MAX(0,D374-'Vstupní hodnoty'!$C$5)","v":0}]
[null,"2017-01-04T21:00:00",1,774.36,{"$f":"CEILING(IF(C375-C374=0,IF(H374=0,I374,IF(J374>K374,I374,E374)),'Výstupy modelu'!$C$7),1)","v":1664},0,0,{"$f":"IF(F375=1,IF(G375>'Zdrojová data'!$C$19,0,1),\"\")","v":""},1664,0,{"$f":"MIN(J375,'Zdrojová data'!$C$17)","v":0},0,{"$f":"L375/'Zdrojová data'!$C$16","v":0},{"$f":"M375*'Zdrojová data'!$C$13","v":0},{"$f":"N375*'Zdrojová data'!$C$14","v":0},0,{"$f":"IF(H375=0,D375-'Výstupy modelu'!$C$7,IF(P375=1,J375-K375,0))","v":0},0,null,{"$f":"MAX(0,IF(Q375>0,Q375-('Výstupy modelu'!$H$10-'Výstupy modelu'!$H$9),0))","v":0},null,null,{"$f":"W374","v":1865.4300000000003},1885.4300000000003,0,{"$f":"MAX(0,D375-'Vstupní hodnoty'!$C$5)","v":0}]
[null,"2017-01-04T21:15:00",1,716.04000000000008,{"$f":"CEILING(IF(C376-C375=0,IF(H375=0,I375,IF(J375>K375,I375,E375)),'Výstupy modelu'!$C$7),1)","v":1664},0,0,{"$f":"IF(F376=1,IF(G376>'Zdrojová data'!$C$19,0,1),\"\")","v":""},1664,0,{"$f":"MIN(J376,'Zdrojová data'!$C$17)","v":0},0,{"$f":"L376/'Zdrojová data'!$C$16","v":0},{"$f":"M376*'Zdrojová data'!$C$13","v":0},{"$f":"N376*'Zdrojová data'!$C$14","v":0},0,{"$f":"IF(H376=0,D376-'Výstupy modelu'!$C$7,IF(P376=1,J376-K376,0))","v":0},0,null,{"$f":"MAX(0,IF(Q376>0,Q376-('Výstupy modelu'!$H$10-'Výstupy modelu'!$H$9),0))","v":0},null,null,{"$f":"W375","v":1865.4300000000003},1885.4300000000003,0,{"$f":"MAX(0,D376-'Vstupní hodnoty'!$C$5)","v":0}]
[null,"2017-01-04T21:30:00",1,642.6,{"$f":"CEILING(IF(C377-C376=0,IF(H376=0,I376,IF(J376>K376,I376,E376)),'Výstupy modelu'!$C$7),1)","v":1664},0,0,{"$f":"IF(F377=1,IF(G377>'Zdrojová data'!$C$19,0,1),\"\")","v":""},1664,0,{"$f":"MIN(J377,'Zdrojová data'!$C$17)","v":0},0,{"$f":"L377/'Zdrojová data'!$C$16","v":0},{"$f":"M377*'Zdrojová data'!$C$13","v":0},{"$f":"N377*'Zdrojová data'!$C$14","v":0},0,{"$f":"IF(H377=0,D377-'Výstupy modelu'!$C$7,IF(P377=1,J377-K377,0))","v":0},0,null,{"$f":"MAX(0,IF(Q377>0,Q377-('Výstupy modelu'!$H$10-'Výstupy modelu'!$H$9),0))","v":0},null,null,{"$f":"W376","v":1865.4300000000003},1885.4300000000003,0,{"$f":"MAX(0,D377-'Vstupní hodnoty'!$C$5)","v":0}]
[null,"2017-01-04T21:45:00",1,595.08000000000004,{"$f":"CEILING(IF(C378-C377=0,IF(H377=0,I377,IF(J377>K377,I377,E377)),'Výstupy modelu'!$C$7),1)","v":1664},0,0,{"$f":"IF(F378=1,IF(G378>'Zdrojová data'!$C$19,0,1),\"\")","v":""},1664,0,{"$f":"MIN(J378,'Zdrojová data'!$C$17)","v":0},0,{"$f":"L378/'Zdrojová data'!$C$16","v":0},{"$f":"M378*'Zdrojová data'!$C$13","v":0},{"$f":"N378*'Zdrojová data'!$C$14","v":0},0,{"$f":"IF(H378=0,D378-'Výstupy modelu'!$C$7,IF(P378=1,J378-K378,0))","v":0},0,null,{"$f":"MAX(0,IF(Q378>0,Q378-('Výstupy modelu'!$H$10-'Výstupy modelu'!$H$9),0))","v":0},null,null,{"$f":"W377","v":1865.4300000000003},1885.4300000000003,0,{"$f":"MAX(0,D378-'Vstupní hodnoty'!$C$5)","v":0}]
[null,"2017-01-04T22:00:00",1,560.52,{"$f":"CEILING(IF(C379-C378=0,IF(H378=0,I378,IF(J378>K378,I378,E378)),'Výstupy modelu'!$C$7),1)","v":1664},0,0,{"$f":"IF(F379=1,IF(G379>'Zdrojová data'!$C$19,0,1),\"\")","v":""},1664,0,{"$f":"MIN(J379,'Zdrojová data'!$C$17)","v":0},0,{"$f":"L379/'Zdrojová data'!$C$16","v":0},{"$f":"M379*'Zdrojová data'!$C$13","v":0},{"$f":"N379*'Zdrojová data'!$C$14","v":0},0,{"$f":"IF(H379=0,D379-'Výstupy modelu'!$C$7,IF(P379=1,J379-K379,0))","v":0},0,null,{"$f":"MAX(0,IF(Q379>0,Q379-('Výstupy modelu'!$H$10-'Výstupy modelu'!$H$9),0))","v":0},null,null,{"$f":"W378","v":1865.4300000000003},1885.4300000000003,0,{"$f":"MAX(0,D379-'Vstupní hodnoty'!$C$5)","v":0}]
[null,"2017-01-04T22:15:00",1,449.28000000000003,{"$f":"CEILING(IF(C380-C379=0,IF(H379=0,I379,IF(J379>K379,I379,E379)),'Výstupy modelu'!$C$7),1)","v":1664},0,0,{"$f":"IF(F380=1,IF(G380>'Zdrojová data'!$C$19,0,1),\"\")","v":""},1664,0,{"$f":"MIN(J380,'Zdrojová data'!$C$17)","v":0},0,{"$f":"L380/'Zdrojová data'!$C$16","v":0},{"$f":"M380*'Zdrojová data'!$C$13","v":0},{"$f":"N380*'Zdrojová data'!$C$14","v":0},0,{"$f":"IF(H380=0,D380-'Výstupy modelu'!$C$7,IF(P380=1,J380-K380,0))","v":0},0,null,{"$f":"MAX(0,IF(Q380>0,Q380-('Výstupy modelu'!$H$10-'Výstupy modelu'!$H$9),0))","v":0},null,null,{"$f":"W379","v":1865.4300000000003},1885.4300000000003,0,{"$f":"MAX(0,D380-'Vstupní hodnoty'!$C$5)","v":0}]
[null,"2017-01-04T22:30:00",1,425.52000000000004,{"$f":"CEILING(IF(C381-C380=0,IF(H380=0,I380,IF(J380>K380,I380,E380)),'Výstupy modelu'!$C$7),1)","v":1664},0,0,{"$f":"IF(F381=1,IF(G381>'Zdrojová data'!$C$19,0,1),\"\")","v":""},1664,0,{"$f":"MIN(J381,'Zdrojová data'!$C$17)","v":0},0,{"$f":"L381/'Zdrojová data'!$C$16","v":0},{"$f":"M381*'Zdrojová data'!$C$13","v":0},{"$f":"N381*'Zdrojová data'!$C$14","v":0},0,{"$f":"IF(H381=0,D381-'Výstupy modelu'!$C$7,IF(P381=1,J381-K381,0))","v":0},0,null,{"$f":"MAX(0,IF(Q381>0,Q381-('Výstupy modelu'!$H$10-'Výstupy modelu'!$H$9),0))","v":0},null,null,{"$f":"W380","v":1865.4300000000003},1885.4300000000003,0,{"$f":"MAX(0,D381-'Vstupní hodnoty'!$C$5)","v":0}]
[null,"2017-01-04T22:45:00",1,443.88000000000005,{"$f":"CEILING(IF(C382-C381=0,IF(H381=0,I381,IF(J381>K381,I381,E381)),'Výstupy modelu'!$C$7),1)","v":1664},0,0,{"$f":"IF(F382=1,IF(G382>'Zdrojová data'!$C$19,0,1),\"\")","v":""},1664,0,{"$f":"MIN(J382,'Zdrojová data'!$C$17)","v":0},0,{"$f":"L382/'Zdrojová data'!$C$16","v":0},{"$f":"M382*'Zdrojová data'!$C$13","v":0},{"$f":"N382*'Zdrojová data'!$C$14","v":0},0,{"$f":"IF(H382=0,D382-'Výstupy modelu'!$C$7,IF(P382=1,J382-K382,0))","v":0},0,null,{"$f":"MAX(0,IF(Q382>0,Q382-('Výstupy modelu'!$H$10-'Výstupy modelu'!$H$9),0))","v":0},null,null,{"$f":"W381","v":1865.4300000000003},1885.4300000000003,0,{"$f":"MAX(0,D382-'Vstupní hodnoty'!$C$5)","v":0}]
[null,"2017-01-04T23:00:00",1,448.20000000000005,{"$f":"CEILING(IF(C383-C382=0,IF(H382=0,I382,IF(J382>K382,I382,E382)),'Výstupy modelu'!$C$7),1)","v":1664},0,0,{"$f":"IF(F383=1,IF(G383>'Zdrojová data'!$C$19,0,1),\"\")","v":""},1664,0,{"$f":"MIN(J383,'Zdrojová data'!$C$17)","v":0},0,{"$f":"L383/'Zdrojová data'!$C$16","v":0},{"$f":"M383*'Zdrojová data'!$C$13","v":0},{"$f":"N383*'Zdrojová data'!$C$14","v":0},0,{"$f":"IF(H383=0,D383-'Výstupy modelu'!$C$7,IF(P383=1,J383-K383,0))","v":0},0,null,{"$f":"MAX(0,IF(Q383>0,Q383-('Výstupy modelu'!$H$10-'Výstupy modelu'!$H$9),0))","v":0},null,null,{"$f":"W382","v":1865.4300000000003},1885.4300000000003,0,{"$f":"MAX(0,D383-'Vstupní hodnoty'!$C$5)","v":0}]
[null,"2017-01-04T23:15:00",1,440.64000000000004,{"$f":"CEILING(IF(C384-C383=0,IF(H383=0,I383,IF(J383>K383,I383,E383)),'Výstupy modelu'!$C$7),1)","v":1664},0,0,{"$f":"IF(F384=1,IF(G384>'Zdrojová data'!$C$19,0,1),\"\")","v":""},1664,0,{"$f":"MIN(J384,'Zdrojová data'!$C$17)","v":0},0,{"$f":"L384/'Zdrojová data'!$C$16","v":0},{"$f":"M384*'Zdrojová data'!$C$13","v":0},{"$f":"N384*'Zdrojová data'!$C$14","v":0},0,{"$f":"IF(H384=0,D384-'Výstupy modelu'!$C$7,IF(P384=1,J384-K384,0))","v":0},0,null,{"$f":"MAX(0,IF(Q384>0,Q384-('Výstupy modelu'!$H$10-'Výstupy modelu'!$H$9),0))","v":0},null,null,{"$f":"W383","v":1865.4300000000003},1885.4300000000003,0,{"$f":"MAX(0,D384-'Vstupní hodnoty'!$C$5)","v":0}]
[null,"2017-01-04T23:30:00",1,430.92,{"$f":"CEILING(IF(C385-C384=0,IF(H384=0,I384,IF(J384>K384,I384,E384)),'Výstupy modelu'!$C$7),1)","v":1664},0,0,{"$f":"IF(F385=1,IF(G385>'Zdrojová data'!$C$19,0,1),\"\")","v":""},1664,0,{"$f":"MIN(J385,'Zdrojová data'!$C$17)","v":0},0,{"$f":"L385/'Zdrojová data'!$C$16","v":0},{"$f":"M385*'Zdrojová data'!$C$13","v":0},{"$f":"N385*'Zdrojová data'!$C$14","v":0},0,{"$f":"IF(H385=0,D385-'Výstupy modelu'!$C$7,IF(P385=1,J385-K385,0))","v":0},0,null,{"$f":"MAX(0,IF(Q385>0,Q385-('Výstupy modelu'!$H$10-'Výstupy modelu'!$H$9),0))","v":0},null,null,{"$f":"W384","v":1865.4300000000003},1885.4300000000003,0,{"$f":"MAX(0,D385-'Vstupní hodnoty'!$C$5)","v":0}]
[null,"2017-01-04T23:45:00",1,440.64000000000004,{"$f":"CEILING(IF(C386-C385=0,IF(H385=0,I385,IF(J385>K385,I385,E385)),'Výstupy modelu'!$C$7),1)","v":1664},0,0,{"$f":"IF(F386=1,IF(G386>'Zdrojová data'!$C$19,0,1),\"\")","v":""},1664,0,{"$f":"MIN(J386,'Zdrojová data'!$C$17)","v":0},0,{"$f":"L386/'Zdrojová data'!$C$16","v":0},{"$f":"M386*'Zdrojová data'!$C$13","v":0},{"$f":"N386*'Zdrojová data'!$C$14","v":0},0,{"$f":"IF(H386=0,D386-'Výstupy modelu'!$C$7,IF(P386=1,J386-K386,0))","v":0},0,null,{"$f":"MAX(0,IF(Q386>0,Q386-('Výstupy modelu'!$H$10-'Výstupy modelu'!$H$9),0))","v":0},null,null,{"$f":"W385","v":1865.4300000000003},1885.4300000000003,0,{"$f":"MAX(0,D386-'Vstupní hodnoty'!$C$5)","v":0}]
[null,"2017-01-05",1,411.48,{"$f":"CEILING(IF(C387-C386=0,IF(H386=0,I386,IF(J386>K386,I386,E386)),'Výstupy modelu'!$C$7),1)","v":1664},0,0,{"$f":"IF(F387=1,IF(G387>'Zdrojová data'!$C$19,0,1),\"\")","v":""},1664,0,{"$f":"MIN(J387,'Zdrojová data'!$C$17)","v":0},0,{"$f":"L387/'Zdrojová data'!$C$16","v":0},{"$f":"M387*'Zdrojová data'!$C$13","v":0},{"$f":"N387*'Zdrojová data'!$C$14","v":0},0,{"$f":"IF(H387=0,D387-'Výstupy modelu'!$C$7,IF(P387=1,J387-K387,0))","v":0},0,null,{"$f":"MAX(0,IF(Q387>0,Q387-('Výstupy modelu'!$H$10-'Výstupy modelu'!$H$9),0))","v":0},null,null,{"$f":"W386","v":1865.4300000000003},1885.4300000000003,0,{"$f":"MAX(0,D387-'Vstupní hodnoty'!$C$5)","v":0}]
[null,"2017-01-05T00:15:00",1,468.72,{"$f":"CEILING(IF(C388-C387=0,IF(H387=0,I387,IF(J387>K387,I387,E387)),'Výstupy modelu'!$C$7),1)","v":1664},{"$f":"IF(D388>E388,1,0)","v":0},0,{"$f":"IF(F388=1,IF(G388>'Zdrojová data'!$C$19,0,1),\"\")","v":""},{"$f":"IF(H388=0,D388,IF(J388>K388,E388+J388-K388,E388))","v":1664},{"$f":"IF(H388=1,D388-E388,0)","v":0},{"$f":"MIN(J388,'Zdrojová data'!$C$17)","v":0},0,{"$f":"L388/'Zdrojová data'!$C$16","v":0},{"$f":"M388*'Zdrojová data'!$C$13","v":0},{"$f":"N388*'Zdrojová data'!$C$14","v":0},0,{"$f":"IF(H388=0,D388-'Výstupy modelu'!$C$7,IF(P388=1,J388-K388,0))","v":0},0,null,{"$f":"MAX(0,IF(Q388>0,Q388-('Výstupy modelu'!$H$10-'Výstupy modelu'!$H$9),0))","v":0},null,null,{"$f":"W387","v":1865.4300000000003},1885.4300000000003,0,{"$f":"MAX(0,D388-'Vstupní hodnoty'!$C$5)","v":0}]
[null,"2017-01-05T00:30:00",{"$f":"MONTH(B389)","v":1},527.04000000000008,{"$f":"CEILING(IF(C389-C388=0,IF(H388=0,I388,IF(J388>K388,I388,E388)),'Výstupy modelu'!$C$7),1)","v":1664},0,{"$f":"IF(F389=1,RANDBETWEEN(0,100),0)","v":0},{"$f":"IF(F389=1,IF(G389>'Zdrojová data'!$C$19,0,1),\"\")","v":""},1664,0,{"$f":"MIN(J389,'Zdrojová data'!$C$17)","v":0},{"$f":"K389/4","v":0},{"$f":"L389/'Zdrojová data'!$C$16","v":0},{"$f":"M389*'Zdrojová data'!$C$13","v":0},{"$f":"N389*'Zdrojová data'!$C$14","v":0},{"$f":"IF(H389=0,1,IF(J389>K389,1,0))","v":0},{"$f":"IF(H389=0,D389-'Výstupy modelu'!$C$7,IF(P389=1,J389-K389,0))","v":0},{"$f":"IF(H389=0,1,IF(J389>K389,1,0))","v":0},null,{"$f":"MAX(0,IF(Q389>0,Q389-('Výstupy modelu'!$H$10-'Výstupy modelu'!$H$9),0))","v":0},null,null,{"$f":"W388","v":1865.4300000000003},1885.4300000000003,0,{"$f":"MAX(0,D389-'Vstupní hodnoty'!$C$5)","v":0}]
[null,"2017-01-05T00:45:00",1,523.80000000000007,{"$f":"CEILING(IF(C390-C389=0,IF(H389=0,I389,IF(J389>K389,I389,E389)),'Výstupy modelu'!$C$7),1)","v":1664},0,0,{"$f":"IF(F390=1,IF(G390>'Zdrojová data'!$C$19,0,1),\"\")","v":""},1664,0,{"$f":"MIN(J390,'Zdrojová data'!$C$17)","v":0},0,{"$f":"L390/'Zdrojová data'!$C$16","v":0},{"$f":"M390*'Zdrojová data'!$C$13","v":0},{"$f":"N390*'Zdrojová data'!$C$14","v":0},0,{"$f":"IF(H390=0,D390-'Výstupy modelu'!$C$7,IF(P390=1,J390-K390,0))","v":0},0,null,{"$f":"MAX(0,IF(Q390>0,Q390-('Výstupy modelu'!$H$10-'Výstupy modelu'!$H$9),0))","v":0},null,null,{"$f":"W389","v":1865.4300000000003},1885.4300000000003,0,{"$f":"MAX(0,D390-'Vstupní hodnoty'!$C$5)","v":0}]
[null,"2017-01-05T01:00:00",1,488.16,{"$f":"CEILING(IF(C391-C390=0,IF(H390=0,I390,IF(J390>K390,I390,E390)),'Výstupy modelu'!$C$7),1)","v":1664},0,0,{"$f":"IF(F391=1,IF(G391>'Zdrojová data'!$C$19,0,1),\"\")","v":""},1664,0,{"$f":"MIN(J391,'Zdrojová data'!$C$17)","v":0},0,{"$f":"L391/'Zdrojová data'!$C$16","v":0},{"$f":"M391*'Zdrojová data'!$C$13","v":0},{"$f":"N391*'Zdrojová data'!$C$14","v":0},0,{"$f":"IF(H391=0,D391-'Výstupy modelu'!$C$7,IF(P391=1,J391-K391,0))","v":0},0,null,{"$f":"MAX(0,IF(Q391>0,Q391-('Výstupy modelu'!$H$10-'Výstupy modelu'!$H$9),0))","v":0},null,null,{"$f":"W390","v":1865.4300000000003},1885.4300000000003,0,{"$f":"MAX(0,D391-'Vstupní hodnoty'!$C$5)","v":0}]
[null,"2017-01-05T01:15:00",1,442.8,{"$f":"CEILING(IF(C392-C391=0,IF(H391=0,I391,IF(J391>K391,I391,E391)),'Výstupy modelu'!$C$7),1)","v":1664},0,0,{"$f":"IF(F392=1,IF(G392>'Zdrojová data'!$C$19,0,1),\"\")","v":""},1664,0,{"$f":"MIN(J392,'Zdrojová data'!$C$17)","v":0},0,{"$f":"L392/'Zdrojová data'!$C$16","v":0},{"$f":"M392*'Zdrojová data'!$C$13","v":0},{"$f":"N392*'Zdrojová data'!$C$14","v":0},0,{"$f":"IF(H392=0,D392-'Výstupy modelu'!$C$7,IF(P392=1,J392-K392,0))","v":0},0,null,{"$f":"MAX(0,IF(Q392>0,Q392-('Výstupy modelu'!$H$10-'Výstupy modelu'!$H$9),0))","v":0},null,null,{"$f":"W391","v":1865.4300000000003},1885.4300000000003,0,{"$f":"MAX(0,D392-'Vstupní hodnoty'!$C$5)","v":0}]
[null,"2017-01-05T01:30:00",1,491.40000000000003,{"$f":"CEILING(IF(C393-C392=0,IF(H392=0,I392,IF(J392>K392,I392,E392)),'Výstupy modelu'!$C$7),1)","v":1664},0,0,{"$f":"IF(F393=1,IF(G393>'Zdrojová data'!$C$19,0,1),\"\")","v":""},1664,0,{"$f":"MIN(J393,'Zdrojová data'!$C$17)","v":0},0,{"$f":"L393/'Zdrojová data'!$C$16","v":0},{"$f":"M393*'Zdrojová data'!$C$13","v":0},{"$f":"N393*'Zdrojová data'!$C$14","v":0},0,{"$f":"IF(H393=0,D393-'Výstupy modelu'!$C$7,IF(P393=1,J393-K393,0))","v":0},0,null,{"$f":"MAX(0,IF(Q393>0,Q393-('Výstupy modelu'!$H$10-'Výstupy modelu'!$H$9),0))","v":0},null,null,{"$f":"W392","v":1865.4300000000003},1885.4300000000003,0,{"$f":"MAX(0,D393-'Vstupní hodnoty'!$C$5)","v":0}]
[null,"2017-01-05T01:45:00",1,540,{"$f":"CEILING(IF(C394-C393=0,IF(H393=0,I393,IF(J393>K393,I393,E393)),'Výstupy modelu'!$C$7),1)","v":1664},0,0,{"$f":"IF(F394=1,IF(G394>'Zdrojová data'!$C$19,0,1),\"\")","v":""},1664,0,{"$f":"MIN(J394,'Zdrojová data'!$C$17)","v":0},0,{"$f":"L394/'Zdrojová data'!$C$16","v":0},{"$f":"M394*'Zdrojová data'!$C$13","v":0},{"$f":"N394*'Zdrojová data'!$C$14","v":0},0,{"$f":"IF(H394=0,D394-'Výstupy modelu'!$C$7,IF(P394=1,J394-K394,0))","v":0},0,null,{"$f":"MAX(0,IF(Q394>0,Q394-('Výstupy modelu'!$H$10-'Výstupy modelu'!$H$9),0))","v":0},null,null,{"$f":"W393","v":1865.4300000000003},1885.4300000000003,0,{"$f":"MAX(0,D394-'Vstupní hodnoty'!$C$5)","v":0}]
[null,"2017-01-05T02:00:00",1,533.52,{"$f":"CEILING(IF(C395-C394=0,IF(H394=0,I394,IF(J394>K394,I394,E394)),'Výstupy modelu'!$C$7),1)","v":1664},0,0,{"$f":"IF(F395=1,IF(G395>'Zdrojová data'!$C$19,0,1),\"\")","v":""},1664,0,{"$f":"MIN(J395,'Zdrojová data'!$C$17)","v":0},0,{"$f":"L395/'Zdrojová data'!$C$16","v":0},{"$f":"M395*'Zdrojová data'!$C$13","v":0},{"$f":"N395*'Zdrojová data'!$C$14","v":0},0,{"$f":"IF(H395=0,D395-'Výstupy modelu'!$C$7,IF(P395=1,J395-K395,0))","v":0},0,null,{"$f":"MAX(0,IF(Q395>0,Q395-('Výstupy modelu'!$H$10-'Výstupy modelu'!$H$9),0))","v":0},null,null,{"$f":"W394","v":1865.4300000000003},1885.4300000000003,0,{"$f":"MAX(0,D395-'Vstupní hodnoty'!$C$5)","v":0}]
[null,"2017-01-05T02:15:00",1,497.88000000000005,{"$f":"CEILING(IF(C396-C395=0,IF(H395=0,I395,IF(J395>K395,I395,E395)),'Výstupy modelu'!$C$7),1)","v":1664},0,0,{"$f":"IF(F396=1,IF(G396>'Zdrojová data'!$C$19,0,1),\"\")","v":""},1664,0,{"$f":"MIN(J396,'Zdrojová data'!$C$17)","v":0},0,{"$f":"L396/'Zdrojová data'!$C$16","v":0},{"$f":"M396*'Zdrojová data'!$C$13","v":0},{"$f":"N396*'Zdrojová data'!$C$14","v":0},0,{"$f":"IF(H396=0,D396-'Výstupy modelu'!$C$7,IF(P396=1,J396-K396,0))","v":0},0,null,{"$f":"MAX(0,IF(Q396>0,Q396-('Výstupy modelu'!$H$10-'Výstupy modelu'!$H$9),0))","v":0},null,null,{"$f":"W395","v":1865.4300000000003},1885.4300000000003,0,{"$f":"MAX(0,D396-'Vstupní hodnoty'!$C$5)","v":0}]
[null,"2017-01-05T02:30:00",1,521.64,{"$f":"CEILING(IF(C397-C396=0,IF(H396=0,I396,IF(J396>K396,I396,E396)),'Výstupy modelu'!$C$7),1)","v":1664},0,0,{"$f":"IF(F397=1,IF(G397>'Zdrojová data'!$C$19,0,1),\"\")","v":""},1664,0,{"$f":"MIN(J397,'Zdrojová data'!$C$17)","v":0},0,{"$f":"L397/'Zdrojová data'!$C$16","v":0},{"$f":"M397*'Zdrojová data'!$C$13","v":0},{"$f":"N397*'Zdrojová data'!$C$14","v":0},0,{"$f":"IF(H397=0,D397-'Výstupy modelu'!$C$7,IF(P397=1,J397-K397,0))","v":0},0,null,{"$f":"MAX(0,IF(Q397>0,Q397-('Výstupy modelu'!$H$10-'Výstupy modelu'!$H$9),0))","v":0},null,null,{"$f":"W396","v":1865.4300000000003},1885.4300000000003,0,{"$f":"MAX(0,D397-'Vstupní hodnoty'!$C$5)","v":0}]
[null,"2017-01-05T02:45:00",1,498.96000000000004,{"$f":"CEILING(IF(C398-C397=0,IF(H397=0,I397,IF(J397>K397,I397,E397)),'Výstupy modelu'!$C$7),1)","v":1664},0,0,{"$f":"IF(F398=1,IF(G398>'Zdrojová data'!$C$19,0,1),\"\")","v":""},1664,0,{"$f":"MIN(J398,'Zdrojová data'!$C$17)","v":0},0,{"$f":"L398/'Zdrojová data'!$C$16","v":0},{"$f":"M398*'Zdrojová data'!$C$13","v":0},{"$f":"N398*'Zdrojová data'!$C$14","v":0},0,{"$f":"IF(H398=0,D398-'Výstupy modelu'!$C$7,IF(P398=1,J398-K398,0))","v":0},0,null,{"$f":"MAX(0,IF(Q398>0,Q398-('Výstupy modelu'!$H$10-'Výstupy modelu'!$H$9),0))","v":0},null,null,{"$f":"W397","v":1865.4300000000003},1885.4300000000003,0,{"$f":"MAX(0,D398-'Vstupní hodnoty'!$C$5)","v":0}]
[null,"2017-01-05T03:00:00",1,478.44000000000005,{"$f":"CEILING(IF(C399-C398=0,IF(H398=0,I398,IF(J398>K398,I398,E398)),'Výstupy modelu'!$C$7),1)","v":1664},0,0,{"$f":"IF(F399=1,IF(G399>'Zdrojová data'!$C$19,0,1),\"\")","v":""},1664,0,{"$f":"MIN(J399,'Zdrojová data'!$C$17)","v":0},0,{"$f":"L399/'Zdrojová data'!$C$16","v":0},{"$f":"M399*'Zdrojová data'!$C$13","v":0},{"$f":"N399*'Zdrojová data'!$C$14","v":0},0,{"$f":"IF(H399=0,D399-'Výstupy modelu'!$C$7,IF(P399=1,J399-K399,0))","v":0},0,null,{"$f":"MAX(0,IF(Q399>0,Q399-('Výstupy modelu'!$H$10-'Výstupy modelu'!$H$9),0))","v":0},null,null,{"$f":"W398","v":1865.4300000000003},1885.4300000000003,0,{"$f":"MAX(0,D399-'Vstupní hodnoty'!$C$5)","v":0}]
[null,"2017-01-05T03:15:00",1,496.8,{"$f":"CEILING(IF(C400-C399=0,IF(H399=0,I399,IF(J399>K399,I399,E399)),'Výstupy modelu'!$C$7),1)","v":1664},0,0,{"$f":"IF(F400=1,IF(G400>'Zdrojová data'!$C$19,0,1),\"\")","v":""},1664,0,{"$f":"MIN(J400,'Zdrojová data'!$C$17)","v":0},0,{"$f":"L400/'Zdrojová data'!$C$16","v":0},{"$f":"M400*'Zdrojová data'!$C$13","v":0},{"$f":"N400*'Zdrojová data'!$C$14","v":0},0,{"$f":"IF(H400=0,D400-'Výstupy modelu'!$C$7,IF(P400=1,J400-K400,0))","v":0},0,null,{"$f":"MAX(0,IF(Q400>0,Q400-('Výstupy modelu'!$H$10-'Výstupy modelu'!$H$9),0))","v":0},null,null,{"$f":"W399","v":1865.4300000000003},1885.4300000000003,0,{"$f":"MAX(0,D400-'Vstupní hodnoty'!$C$5)","v":0}]
[null,"2017-01-05T03:30:00",1,528.12,{"$f":"CEILING(IF(C401-C400=0,IF(H400=0,I400,IF(J400>K400,I400,E400)),'Výstupy modelu'!$C$7),1)","v":1664},0,0,{"$f":"IF(F401=1,IF(G401>'Zdrojová data'!$C$19,0,1),\"\")","v":""},1664,0,{"$f":"MIN(J401,'Zdrojová data'!$C$17)","v":0},0,{"$f":"L401/'Zdrojová data'!$C$16","v":0},{"$f":"M401*'Zdrojová data'!$C$13","v":0},{"$f":"N401*'Zdrojová data'!$C$14","v":0},0,{"$f":"IF(H401=0,D401-'Výstupy modelu'!$C$7,IF(P401=1,J401-K401,0))","v":0},0,null,{"$f":"MAX(0,IF(Q401>0,Q401-('Výstupy modelu'!$H$10-'Výstupy modelu'!$H$9),0))","v":0},null,null,{"$f":"W400","v":1865.4300000000003},1885.4300000000003,0,{"$f":"MAX(0,D401-'Vstupní hodnoty'!$C$5)","v":0}]
[null,"2017-01-05T03:45:00",1,509.76000000000005,{"$f":"CEILING(IF(C402-C401=0,IF(H401=0,I401,IF(J401>K401,I401,E401)),'Výstupy modelu'!$C$7),1)","v":1664},0,0,{"$f":"IF(F402=1,IF(G402>'Zdrojová data'!$C$19,0,1),\"\")","v":""},1664,0,{"$f":"MIN(J402,'Zdrojová data'!$C$17)","v":0},0,{"$f":"L402/'Zdrojová data'!$C$16","v":0},{"$f":"M402*'Zdrojová data'!$C$13","v":0},{"$f":"N402*'Zdrojová data'!$C$14","v":0},0,{"$f":"IF(H402=0,D402-'Výstupy modelu'!$C$7,IF(P402=1,J402-K402,0))","v":0},0,null,{"$f":"MAX(0,IF(Q402>0,Q402-('Výstupy modelu'!$H$10-'Výstupy modelu'!$H$9),0))","v":0},null,null,{"$f":"W401","v":1865.4300000000003},1885.4300000000003,0,{"$f":"MAX(0,D402-'Vstupní hodnoty'!$C$5)","v":0}]
[null,"2017-01-05T04:00:00",1,486.00000000000006,{"$f":"CEILING(IF(C403-C402=0,IF(H402=0,I402,IF(J402>K402,I402,E402)),'Výstupy modelu'!$C$7),1)","v":1664},0,0,{"$f":"IF(F403=1,IF(G403>'Zdrojová data'!$C$19,0,1),\"\")","v":""},1664,0,{"$f":"MIN(J403,'Zdrojová data'!$C$17)","v":0},0,{"$f":"L403/'Zdrojová data'!$C$16","v":0},{"$f":"M403*'Zdrojová data'!$C$13","v":0},{"$f":"N403*'Zdrojová data'!$C$14","v":0},0,{"$f":"IF(H403=0,D403-'Výstupy modelu'!$C$7,IF(P403=1,J403-K403,0))","v":0},0,null,{"$f":"MAX(0,IF(Q403>0,Q403-('Výstupy modelu'!$H$10-'Výstupy modelu'!$H$9),0))","v":0},null,null,{"$f":"W402","v":1865.4300000000003},1885.4300000000003,0,{"$f":"MAX(0,D403-'Vstupní hodnoty'!$C$5)","v":0}]
[null,"2017-01-05T04:15:00",1,592.92000000000007,{"$f":"CEILING(IF(C404-C403=0,IF(H403=0,I403,IF(J403>K403,I403,E403)),'Výstupy modelu'!$C$7),1)","v":1664},0,0,{"$f":"IF(F404=1,IF(G404>'Zdrojová data'!$C$19,0,1),\"\")","v":""},1664,0,{"$f":"MIN(J404,'Zdrojová data'!$C$17)","v":0},0,{"$f":"L404/'Zdrojová data'!$C$16","v":0},{"$f":"M404*'Zdrojová data'!$C$13","v":0},{"$f":"N404*'Zdrojová data'!$C$14","v":0},0,{"$f":"IF(H404=0,D404-'Výstupy modelu'!$C$7,IF(P404=1,J404-K404,0))","v":0},0,null,{"$f":"MAX(0,IF(Q404>0,Q404-('Výstupy modelu'!$H$10-'Výstupy modelu'!$H$9),0))","v":0},null,null,{"$f":"W403","v":1865.4300000000003},1885.4300000000003,0,{"$f":"MAX(0,D404-'Vstupní hodnoty'!$C$5)","v":0}]
[null,"2017-01-05T04:30:00",1,552.96,{"$f":"CEILING(IF(C405-C404=0,IF(H404=0,I404,IF(J404>K404,I404,E404)),'Výstupy modelu'!$C$7),1)","v":1664},0,0,{"$f":"IF(F405=1,IF(G405>'Zdrojová data'!$C$19,0,1),\"\")","v":""},1664,0,{"$f":"MIN(J405,'Zdrojová data'!$C$17)","v":0},0,{"$f":"L405/'Zdrojová data'!$C$16","v":0},{"$f":"M405*'Zdrojová data'!$C$13","v":0},{"$f":"N405*'Zdrojová data'!$C$14","v":0},0,{"$f":"IF(H405=0,D405-'Výstupy modelu'!$C$7,IF(P405=1,J405-K405,0))","v":0},0,null,{"$f":"MAX(0,IF(Q405>0,Q405-('Výstupy modelu'!$H$10-'Výstupy modelu'!$H$9),0))","v":0},null,null,{"$f":"W404","v":1865.4300000000003},1885.4300000000003,0,{"$f":"MAX(0,D405-'Vstupní hodnoty'!$C$5)","v":0}]
[null,"2017-01-05T04:45:00",1,513,{"$f":"CEILING(IF(C406-C405=0,IF(H405=0,I405,IF(J405>K405,I405,E405)),'Výstupy modelu'!$C$7),1)","v":1664},0,0,{"$f":"IF(F406=1,IF(G406>'Zdrojová data'!$C$19,0,1),\"\")","v":""},1664,0,{"$f":"MIN(J406,'Zdrojová data'!$C$17)","v":0},0,{"$f":"L406/'Zdrojová data'!$C$16","v":0},{"$f":"M406*'Zdrojová data'!$C$13","v":0},{"$f":"N406*'Zdrojová data'!$C$14","v":0},0,{"$f":"IF(H406=0,D406-'Výstupy modelu'!$C$7,IF(P406=1,J406-K406,0))","v":0},0,null,{"$f":"MAX(0,IF(Q406>0,Q406-('Výstupy modelu'!$H$10-'Výstupy modelu'!$H$9),0))","v":0},null,null,{"$f":"W405","v":1865.4300000000003},1885.4300000000003,0,{"$f":"MAX(0,D406-'Vstupní hodnoty'!$C$5)","v":0}]
[null,"2017-01-05T05:00:00",1,503.28000000000003,{"$f":"CEILING(IF(C407-C406=0,IF(H406=0,I406,IF(J406>K406,I406,E406)),'Výstupy modelu'!$C$7),1)","v":1664},0,0,{"$f":"IF(F407=1,IF(G407>'Zdrojová data'!$C$19,0,1),\"\")","v":""},1664,0,{"$f":"MIN(J407,'Zdrojová data'!$C$17)","v":0},0,{"$f":"L407/'Zdrojová data'!$C$16","v":0},{"$f":"M407*'Zdrojová data'!$C$13","v":0},{"$f":"N407*'Zdrojová data'!$C$14","v":0},0,{"$f":"IF(H407=0,D407-'Výstupy modelu'!$C$7,IF(P407=1,J407-K407,0))","v":0},0,null,{"$f":"MAX(0,IF(Q407>0,Q407-('Výstupy modelu'!$H$10-'Výstupy modelu'!$H$9),0))","v":0},null,null,{"$f":"W406","v":1865.4300000000003},1885.4300000000003,0,{"$f":"MAX(0,D407-'Vstupní hodnoty'!$C$5)","v":0}]
[null,"2017-01-05T05:15:00",1,591.84,{"$f":"CEILING(IF(C408-C407=0,IF(H407=0,I407,IF(J407>K407,I407,E407)),'Výstupy modelu'!$C$7),1)","v":1664},0,0,{"$f":"IF(F408=1,IF(G408>'Zdrojová data'!$C$19,0,1),\"\")","v":""},1664,0,{"$f":"MIN(J408,'Zdrojová data'!$C$17)","v":0},0,{"$f":"L408/'Zdrojová data'!$C$16","v":0},{"$f":"M408*'Zdrojová data'!$C$13","v":0},{"$f":"N408*'Zdrojová data'!$C$14","v":0},0,{"$f":"IF(H408=0,D408-'Výstupy modelu'!$C$7,IF(P408=1,J408-K408,0))","v":0},0,null,{"$f":"MAX(0,IF(Q408>0,Q408-('Výstupy modelu'!$H$10-'Výstupy modelu'!$H$9),0))","v":0},null,null,{"$f":"W407","v":1865.4300000000003},1885.4300000000003,0,{"$f":"MAX(0,D408-'Vstupní hodnoty'!$C$5)","v":0}]
[null,"2017-01-05T05:30:00",1,718.2,{"$f":"CEILING(IF(C409-C408=0,IF(H408=0,I408,IF(J408>K408,I408,E408)),'Výstupy modelu'!$C$7),1)","v":1664},0,0,{"$f":"IF(F409=1,IF(G409>'Zdrojová data'!$C$19,0,1),\"\")","v":""},1664,0,{"$f":"MIN(J409,'Zdrojová data'!$C$17)","v":0},0,{"$f":"L409/'Zdrojová data'!$C$16","v":0},{"$f":"M409*'Zdrojová data'!$C$13","v":0},{"$f":"N409*'Zdrojová data'!$C$14","v":0},0,{"$f":"IF(H409=0,D409-'Výstupy modelu'!$C$7,IF(P409=1,J409-K409,0))","v":0},0,null,{"$f":"MAX(0,IF(Q409>0,Q409-('Výstupy modelu'!$H$10-'Výstupy modelu'!$H$9),0))","v":0},null,null,{"$f":"W408","v":1865.4300000000003},1885.4300000000003,0,{"$f":"MAX(0,D409-'Vstupní hodnoty'!$C$5)","v":0}]
[null,"2017-01-05T05:45:00",1,776.5200000000001,{"$f":"CEILING(IF(C410-C409=0,IF(H409=0,I409,IF(J409>K409,I409,E409)),'Výstupy modelu'!$C$7),1)","v":1664},0,0,{"$f":"IF(F410=1,IF(G410>'Zdrojová data'!$C$19,0,1),\"\")","v":""},1664,0,{"$f":"MIN(J410,'Zdrojová data'!$C$17)","v":0},0,{"$f":"L410/'Zdrojová data'!$C$16","v":0},{"$f":"M410*'Zdrojová data'!$C$13","v":0},{"$f":"N410*'Zdrojová data'!$C$14","v":0},0,{"$f":"IF(H410=0,D410-'Výstupy modelu'!$C$7,IF(P410=1,J410-K410,0))","v":0},0,null,{"$f":"MAX(0,IF(Q410>0,Q410-('Výstupy modelu'!$H$10-'Výstupy modelu'!$H$9),0))","v":0},null,null,{"$f":"W409","v":1865.4300000000003},1885.4300000000003,0,{"$f":"MAX(0,D410-'Vstupní hodnoty'!$C$5)","v":0}]
[null,"2017-01-05T06:00:00",1,1185.8400000000001,{"$f":"CEILING(IF(C411-C410=0,IF(H410=0,I410,IF(J410>K410,I410,E410)),'Výstupy modelu'!$C$7),1)","v":1664},0,0,{"$f":"IF(F411=1,IF(G411>'Zdrojová data'!$C$19,0,1),\"\")","v":""},1664,0,{"$f":"MIN(J411,'Zdrojová data'!$C$17)","v":0},0,{"$f":"L411/'Zdrojová data'!$C$16","v":0},{"$f":"M411*'Zdrojová data'!$C$13","v":0},{"$f":"N411*'Zdrojová data'!$C$14","v":0},0,{"$f":"IF(H411=0,D411-'Výstupy modelu'!$C$7,IF(P411=1,J411-K411,0))","v":0},0,null,{"$f":"MAX(0,IF(Q411>0,Q411-('Výstupy modelu'!$H$10-'Výstupy modelu'!$H$9),0))","v":0},null,null,{"$f":"W410","v":1865.4300000000003},1885.4300000000003,0,{"$f":"MAX(0,D411-'Vstupní hodnoty'!$C$5)","v":0}]
[null,"2017-01-05T06:15:00",1,1440.72,{"$f":"CEILING(IF(C412-C411=0,IF(H411=0,I411,IF(J411>K411,I411,E411)),'Výstupy modelu'!$C$7),1)","v":1664},0,0,{"$f":"IF(F412=1,IF(G412>'Zdrojová data'!$C$19,0,1),\"\")","v":""},1664,0,{"$f":"MIN(J412,'Zdrojová data'!$C$17)","v":0},0,{"$f":"L412/'Zdrojová data'!$C$16","v":0},{"$f":"M412*'Zdrojová data'!$C$13","v":0},{"$f":"N412*'Zdrojová data'!$C$14","v":0},0,{"$f":"IF(H412=0,D412-'Výstupy modelu'!$C$7,IF(P412=1,J412-K412,0))","v":0},0,null,{"$f":"MAX(0,IF(Q412>0,Q412-('Výstupy modelu'!$H$10-'Výstupy modelu'!$H$9),0))","v":0},null,null,{"$f":"W411","v":1865.4300000000003},1885.4300000000003,0,{"$f":"MAX(0,D412-'Vstupní hodnoty'!$C$5)","v":0}]
[null,"2017-01-05T06:30:00",1,1462.3200000000002,{"$f":"CEILING(IF(C413-C412=0,IF(H412=0,I412,IF(J412>K412,I412,E412)),'Výstupy modelu'!$C$7),1)","v":1664},0,0,{"$f":"IF(F413=1,IF(G413>'Zdrojová data'!$C$19,0,1),\"\")","v":""},1664,0,{"$f":"MIN(J413,'Zdrojová data'!$C$17)","v":0},0,{"$f":"L413/'Zdrojová data'!$C$16","v":0},{"$f":"M413*'Zdrojová data'!$C$13","v":0},{"$f":"N413*'Zdrojová data'!$C$14","v":0},0,{"$f":"IF(H413=0,D413-'Výstupy modelu'!$C$7,IF(P413=1,J413-K413,0))","v":0},0,null,{"$f":"MAX(0,IF(Q413>0,Q413-('Výstupy modelu'!$H$10-'Výstupy modelu'!$H$9),0))","v":0},null,null,{"$f":"W412","v":1865.4300000000003},1885.4300000000003,0,{"$f":"MAX(0,D413-'Vstupní hodnoty'!$C$5)","v":0}]
[null,"2017-01-05T06:45:00",1,1505.5200000000002,{"$f":"CEILING(IF(C414-C413=0,IF(H413=0,I413,IF(J413>K413,I413,E413)),'Výstupy modelu'!$C$7),1)","v":1664},0,0,{"$f":"IF(F414=1,IF(G414>'Zdrojová data'!$C$19,0,1),\"\")","v":""},1664,0,{"$f":"MIN(J414,'Zdrojová data'!$C$17)","v":0},0,{"$f":"L414/'Zdrojová data'!$C$16","v":0},{"$f":"M414*'Zdrojová data'!$C$13","v":0},{"$f":"N414*'Zdrojová data'!$C$14","v":0},0,{"$f":"IF(H414=0,D414-'Výstupy modelu'!$C$7,IF(P414=1,J414-K414,0))","v":0},0,null,{"$f":"MAX(0,IF(Q414>0,Q414-('Výstupy modelu'!$H$10-'Výstupy modelu'!$H$9),0))","v":0},null,null,{"$f":"W413","v":1865.4300000000003},1885.4300000000003,0,{"$f":"MAX(0,D414-'Vstupní hodnoty'!$C$5)","v":0}]
[null,"2017-01-05T07:00:00",1,1536.8400000000001,{"$f":"CEILING(IF(C415-C414=0,IF(H414=0,I414,IF(J414>K414,I414,E414)),'Výstupy modelu'!$C$7),1)","v":1664},0,0,{"$f":"IF(F415=1,IF(G415>'Zdrojová data'!$C$19,0,1),\"\")","v":""},1664,0,{"$f":"MIN(J415,'Zdrojová data'!$C$17)","v":0},0,{"$f":"L415/'Zdrojová data'!$C$16","v":0},{"$f":"M415*'Zdrojová data'!$C$13","v":0},{"$f":"N415*'Zdrojová data'!$C$14","v":0},0,{"$f":"IF(H415=0,D415-'Výstupy modelu'!$C$7,IF(P415=1,J415-K415,0))","v":0},0,null,{"$f":"MAX(0,IF(Q415>0,Q415-('Výstupy modelu'!$H$10-'Výstupy modelu'!$H$9),0))","v":0},null,null,{"$f":"W414","v":1865.4300000000003},1885.4300000000003,0,{"$f":"MAX(0,D415-'Vstupní hodnoty'!$C$5)","v":0}]
[null,"2017-01-05T07:15:00",1,1509.8400000000001,{"$f":"CEILING(IF(C416-C415=0,IF(H415=0,I415,IF(J415>K415,I415,E415)),'Výstupy modelu'!$C$7),1)","v":1664},0,0,{"$f":"IF(F416=1,IF(G416>'Zdrojová data'!$C$19,0,1),\"\")","v":""},1664,0,{"$f":"MIN(J416,'Zdrojová data'!$C$17)","v":0},0,{"$f":"L416/'Zdrojová data'!$C$16","v":0},{"$f":"M416*'Zdrojová data'!$C$13","v":0},{"$f":"N416*'Zdrojová data'!$C$14","v":0},0,{"$f":"IF(H416=0,D416-'Výstupy modelu'!$C$7,IF(P416=1,J416-K416,0))","v":0},0,null,{"$f":"MAX(0,IF(Q416>0,Q416-('Výstupy modelu'!$H$10-'Výstupy modelu'!$H$9),0))","v":0},null,null,{"$f":"W415","v":1865.4300000000003},1885.4300000000003,0,{"$f":"MAX(0,D416-'Vstupní hodnoty'!$C$5)","v":0}]
[null,"2017-01-05T07:30:00",1,1476.3600000000001,{"$f":"CEILING(IF(C417-C416=0,IF(H416=0,I416,IF(J416>K416,I416,E416)),'Výstupy modelu'!$C$7),1)","v":1664},0,0,{"$f":"IF(F417=1,IF(G417>'Zdrojová data'!$C$19,0,1),\"\")","v":""},1664,0,{"$f":"MIN(J417,'Zdrojová data'!$C$17)","v":0},0,{"$f":"L417/'Zdrojová data'!$C$16","v":0},{"$f":"M417*'Zdrojová data'!$C$13","v":0},{"$f":"N417*'Zdrojová data'!$C$14","v":0},0,{"$f":"IF(H417=0,D417-'Výstupy modelu'!$C$7,IF(P417=1,J417-K417,0))","v":0},0,null,{"$f":"MAX(0,IF(Q417>0,Q417-('Výstupy modelu'!$H$10-'Výstupy modelu'!$H$9),0))","v":0},null,null,{"$f":"W416","v":1865.4300000000003},1885.4300000000003,0,{"$f":"MAX(0,D417-'Vstupní hodnoty'!$C$5)","v":0}]
[null,"2017-01-05T07:45:00",1,1413.72,{"$f":"CEILING(IF(C418-C417=0,IF(H417=0,I417,IF(J417>K417,I417,E417)),'Výstupy modelu'!$C$7),1)","v":1664},0,0,{"$f":"IF(F418=1,IF(G418>'Zdrojová data'!$C$19,0,1),\"\")","v":""},1664,0,{"$f":"MIN(J418,'Zdrojová data'!$C$17)","v":0},0,{"$f":"L418/'Zdrojová data'!$C$16","v":0},{"$f":"M418*'Zdrojová data'!$C$13","v":0},{"$f":"N418*'Zdrojová data'!$C$14","v":0},0,{"$f":"IF(H418=0,D418-'Výstupy modelu'!$C$7,IF(P418=1,J418-K418,0))","v":0},0,null,{"$f":"MAX(0,IF(Q418>0,Q418-('Výstupy modelu'!$H$10-'Výstupy modelu'!$H$9),0))","v":0},null,null,{"$f":"W417","v":1865.4300000000003},1885.4300000000003,0,{"$f":"MAX(0,D418-'Vstupní hodnoty'!$C$5)","v":0}]
[null,"2017-01-05T08:00:00",1,1310.0400000000002,{"$f":"CEILING(IF(C419-C418=0,IF(H418=0,I418,IF(J418>K418,I418,E418)),'Výstupy modelu'!$C$7),1)","v":1664},0,0,{"$f":"IF(F419=1,IF(G419>'Zdrojová data'!$C$19,0,1),\"\")","v":""},1664,0,{"$f":"MIN(J419,'Zdrojová data'!$C$17)","v":0},0,{"$f":"L419/'Zdrojová data'!$C$16","v":0},{"$f":"M419*'Zdrojová data'!$C$13","v":0},{"$f":"N419*'Zdrojová data'!$C$14","v":0},0,{"$f":"IF(H419=0,D419-'Výstupy modelu'!$C$7,IF(P419=1,J419-K419,0))","v":0},0,null,{"$f":"MAX(0,IF(Q419>0,Q419-('Výstupy modelu'!$H$10-'Výstupy modelu'!$H$9),0))","v":0},null,null,{"$f":"W418","v":1865.4300000000003},1885.4300000000003,0,{"$f":"MAX(0,D419-'Vstupní hodnoty'!$C$5)","v":0}]
[null,"2017-01-05T08:15:00",1,1435.3200000000002,{"$f":"CEILING(IF(C420-C419=0,IF(H419=0,I419,IF(J419>K419,I419,E419)),'Výstupy modelu'!$C$7),1)","v":1664},0,0,{"$f":"IF(F420=1,IF(G420>'Zdrojová data'!$C$19,0,1),\"\")","v":""},1664,0,{"$f":"MIN(J420,'Zdrojová data'!$C$17)","v":0},0,{"$f":"L420/'Zdrojová data'!$C$16","v":0},{"$f":"M420*'Zdrojová data'!$C$13","v":0},{"$f":"N420*'Zdrojová data'!$C$14","v":0},0,{"$f":"IF(H420=0,D420-'Výstupy modelu'!$C$7,IF(P420=1,J420-K420,0))","v":0},0,null,{"$f":"MAX(0,IF(Q420>0,Q420-('Výstupy modelu'!$H$10-'Výstupy modelu'!$H$9),0))","v":0},null,null,{"$f":"W419","v":1865.4300000000003},1885.4300000000003,0,{"$f":"MAX(0,D420-'Vstupní hodnoty'!$C$5)","v":0}]
[null,"2017-01-05T08:30:00",1,1513.0800000000002,{"$f":"CEILING(IF(C421-C420=0,IF(H420=0,I420,IF(J420>K420,I420,E420)),'Výstupy modelu'!$C$7),1)","v":1664},0,0,{"$f":"IF(F421=1,IF(G421>'Zdrojová data'!$C$19,0,1),\"\")","v":""},1664,0,{"$f":"MIN(J421,'Zdrojová data'!$C$17)","v":0},0,{"$f":"L421/'Zdrojová data'!$C$16","v":0},{"$f":"M421*'Zdrojová data'!$C$13","v":0},{"$f":"N421*'Zdrojová data'!$C$14","v":0},0,{"$f":"IF(H421=0,D421-'Výstupy modelu'!$C$7,IF(P421=1,J421-K421,0))","v":0},0,null,{"$f":"MAX(0,IF(Q421>0,Q421-('Výstupy modelu'!$H$10-'Výstupy modelu'!$H$9),0))","v":0},null,null,{"$f":"W420","v":1865.4300000000003},1885.4300000000003,0,{"$f":"MAX(0,D421-'Vstupní hodnoty'!$C$5)","v":0}]
[null,"2017-01-05T08:45:00",1,1517.4,{"$f":"CEILING(IF(C422-C421=0,IF(H421=0,I421,IF(J421>K421,I421,E421)),'Výstupy modelu'!$C$7),1)","v":1664},0,0,{"$f":"IF(F422=1,IF(G422>'Zdrojová data'!$C$19,0,1),\"\")","v":""},1664,0,{"$f":"MIN(J422,'Zdrojová data'!$C$17)","v":0},0,{"$f":"L422/'Zdrojová data'!$C$16","v":0},{"$f":"M422*'Zdrojová data'!$C$13","v":0},{"$f":"N422*'Zdrojová data'!$C$14","v":0},0,{"$f":"IF(H422=0,D422-'Výstupy modelu'!$C$7,IF(P422=1,J422-K422,0))","v":0},0,null,{"$f":"MAX(0,IF(Q422>0,Q422-('Výstupy modelu'!$H$10-'Výstupy modelu'!$H$9),0))","v":0},null,null,{"$f":"W421","v":1865.4300000000003},1885.4300000000003,0,{"$f":"MAX(0,D422-'Vstupní hodnoty'!$C$5)","v":0}]
[null,"2017-01-05T09:00:00",1,1486.0800000000002,{"$f":"CEILING(IF(C423-C422=0,IF(H422=0,I422,IF(J422>K422,I422,E422)),'Výstupy modelu'!$C$7),1)","v":1664},0,0,{"$f":"IF(F423=1,IF(G423>'Zdrojová data'!$C$19,0,1),\"\")","v":""},1664,0,{"$f":"MIN(J423,'Zdrojová data'!$C$17)","v":0},0,{"$f":"L423/'Zdrojová data'!$C$16","v":0},{"$f":"M423*'Zdrojová data'!$C$13","v":0},{"$f":"N423*'Zdrojová data'!$C$14","v":0},0,{"$f":"IF(H423=0,D423-'Výstupy modelu'!$C$7,IF(P423=1,J423-K423,0))","v":0},0,null,{"$f":"MAX(0,IF(Q423>0,Q423-('Výstupy modelu'!$H$10-'Výstupy modelu'!$H$9),0))","v":0},null,null,{"$f":"W422","v":1865.4300000000003},1885.4300000000003,0,{"$f":"MAX(0,D423-'Vstupní hodnoty'!$C$5)","v":0}]
[null,"2017-01-05T09:15:00",1,1494.72,{"$f":"CEILING(IF(C424-C423=0,IF(H423=0,I423,IF(J423>K423,I423,E423)),'Výstupy modelu'!$C$7),1)","v":1664},0,0,{"$f":"IF(F424=1,IF(G424>'Zdrojová data'!$C$19,0,1),\"\")","v":""},1664,0,{"$f":"MIN(J424,'Zdrojová data'!$C$17)","v":0},0,{"$f":"L424/'Zdrojová data'!$C$16","v":0},{"$f":"M424*'Zdrojová data'!$C$13","v":0},{"$f":"N424*'Zdrojová data'!$C$14","v":0},0,{"$f":"IF(H424=0,D424-'Výstupy modelu'!$C$7,IF(P424=1,J424-K424,0))","v":0},0,null,{"$f":"MAX(0,IF(Q424>0,Q424-('Výstupy modelu'!$H$10-'Výstupy modelu'!$H$9),0))","v":0},null,null,{"$f":"W423","v":1865.4300000000003},1885.4300000000003,0,{"$f":"MAX(0,D424-'Vstupní hodnoty'!$C$5)","v":0}]
[null,"2017-01-05T09:30:00",1,1517.4,{"$f":"CEILING(IF(C425-C424=0,IF(H424=0,I424,IF(J424>K424,I424,E424)),'Výstupy modelu'!$C$7),1)","v":1664},0,0,{"$f":"IF(F425=1,IF(G425>'Zdrojová data'!$C$19,0,1),\"\")","v":""},1664,0,{"$f":"MIN(J425,'Zdrojová data'!$C$17)","v":0},0,{"$f":"L425/'Zdrojová data'!$C$16","v":0},{"$f":"M425*'Zdrojová data'!$C$13","v":0},{"$f":"N425*'Zdrojová data'!$C$14","v":0},0,{"$f":"IF(H425=0,D425-'Výstupy modelu'!$C$7,IF(P425=1,J425-K425,0))","v":0},0,null,{"$f":"MAX(0,IF(Q425>0,Q425-('Výstupy modelu'!$H$10-'Výstupy modelu'!$H$9),0))","v":0},null,null,{"$f":"W424","v":1865.4300000000003},1885.4300000000003,0,{"$f":"MAX(0,D425-'Vstupní hodnoty'!$C$5)","v":0}]
[null,"2017-01-05T09:45:00",1,1441.8000000000002,{"$f":"CEILING(IF(C426-C425=0,IF(H425=0,I425,IF(J425>K425,I425,E425)),'Výstupy modelu'!$C$7),1)","v":1664},0,0,{"$f":"IF(F426=1,IF(G426>'Zdrojová data'!$C$19,0,1),\"\")","v":""},1664,0,{"$f":"MIN(J426,'Zdrojová data'!$C$17)","v":0},0,{"$f":"L426/'Zdrojová data'!$C$16","v":0},{"$f":"M426*'Zdrojová data'!$C$13","v":0},{"$f":"N426*'Zdrojová data'!$C$14","v":0},0,{"$f":"IF(H426=0,D426-'Výstupy modelu'!$C$7,IF(P426=1,J426-K426,0))","v":0},0,null,{"$f":"MAX(0,IF(Q426>0,Q426-('Výstupy modelu'!$H$10-'Výstupy modelu'!$H$9),0))","v":0},null,null,{"$f":"W425","v":1865.4300000000003},1885.4300000000003,0,{"$f":"MAX(0,D426-'Vstupní hodnoty'!$C$5)","v":0}]
[null,"2017-01-05T10:00:00",1,1393.2,{"$f":"CEILING(IF(C427-C426=0,IF(H426=0,I426,IF(J426>K426,I426,E426)),'Výstupy modelu'!$C$7),1)","v":1664},0,0,{"$f":"IF(F427=1,IF(G427>'Zdrojová data'!$C$19,0,1),\"\")","v":""},1664,0,{"$f":"MIN(J427,'Zdrojová data'!$C$17)","v":0},0,{"$f":"L427/'Zdrojová data'!$C$16","v":0},{"$f":"M427*'Zdrojová data'!$C$13","v":0},{"$f":"N427*'Zdrojová data'!$C$14","v":0},0,{"$f":"IF(H427=0,D427-'Výstupy modelu'!$C$7,IF(P427=1,J427-K427,0))","v":0},0,null,{"$f":"MAX(0,IF(Q427>0,Q427-('Výstupy modelu'!$H$10-'Výstupy modelu'!$H$9),0))","v":0},null,null,{"$f":"W426","v":1865.4300000000003},1885.4300000000003,0,{"$f":"MAX(0,D427-'Vstupní hodnoty'!$C$5)","v":0}]
[null,"2017-01-05T10:15:00",1,1326.24,{"$f":"CEILING(IF(C428-C427=0,IF(H427=0,I427,IF(J427>K427,I427,E427)),'Výstupy modelu'!$C$7),1)","v":1664},0,0,{"$f":"IF(F428=1,IF(G428>'Zdrojová data'!$C$19,0,1),\"\")","v":""},1664,0,{"$f":"MIN(J428,'Zdrojová data'!$C$17)","v":0},0,{"$f":"L428/'Zdrojová data'!$C$16","v":0},{"$f":"M428*'Zdrojová data'!$C$13","v":0},{"$f":"N428*'Zdrojová data'!$C$14","v":0},0,{"$f":"IF(H428=0,D428-'Výstupy modelu'!$C$7,IF(P428=1,J428-K428,0))","v":0},0,null,{"$f":"MAX(0,IF(Q428>0,Q428-('Výstupy modelu'!$H$10-'Výstupy modelu'!$H$9),0))","v":0},null,null,{"$f":"W427","v":1865.4300000000003},1885.4300000000003,0,{"$f":"MAX(0,D428-'Vstupní hodnoty'!$C$5)","v":0}]
[null,"2017-01-05T10:30:00",1,1467.72,{"$f":"CEILING(IF(C429-C428=0,IF(H428=0,I428,IF(J428>K428,I428,E428)),'Výstupy modelu'!$C$7),1)","v":1664},0,0,{"$f":"IF(F429=1,IF(G429>'Zdrojová data'!$C$19,0,1),\"\")","v":""},1664,0,{"$f":"MIN(J429,'Zdrojová data'!$C$17)","v":0},0,{"$f":"L429/'Zdrojová data'!$C$16","v":0},{"$f":"M429*'Zdrojová data'!$C$13","v":0},{"$f":"N429*'Zdrojová data'!$C$14","v":0},0,{"$f":"IF(H429=0,D429-'Výstupy modelu'!$C$7,IF(P429=1,J429-K429,0))","v":0},0,null,{"$f":"MAX(0,IF(Q429>0,Q429-('Výstupy modelu'!$H$10-'Výstupy modelu'!$H$9),0))","v":0},null,null,{"$f":"W428","v":1865.4300000000003},1885.4300000000003,0,{"$f":"MAX(0,D429-'Vstupní hodnoty'!$C$5)","v":0}]
[null,"2017-01-05T10:45:00",1,1491.48,{"$f":"CEILING(IF(C430-C429=0,IF(H429=0,I429,IF(J429>K429,I429,E429)),'Výstupy modelu'!$C$7),1)","v":1664},0,0,{"$f":"IF(F430=1,IF(G430>'Zdrojová data'!$C$19,0,1),\"\")","v":""},1664,0,{"$f":"MIN(J430,'Zdrojová data'!$C$17)","v":0},0,{"$f":"L430/'Zdrojová data'!$C$16","v":0},{"$f":"M430*'Zdrojová data'!$C$13","v":0},{"$f":"N430*'Zdrojová data'!$C$14","v":0},0,{"$f":"IF(H430=0,D430-'Výstupy modelu'!$C$7,IF(P430=1,J430-K430,0))","v":0},0,null,{"$f":"MAX(0,IF(Q430>0,Q430-('Výstupy modelu'!$H$10-'Výstupy modelu'!$H$9),0))","v":0},null,null,{"$f":"W429","v":1865.4300000000003},1885.4300000000003,0,{"$f":"MAX(0,D430-'Vstupní hodnoty'!$C$5)","v":0}]
[null,"2017-01-05T11:00:00",1,1440.72,{"$f":"CEILING(IF(C431-C430=0,IF(H430=0,I430,IF(J430>K430,I430,E430)),'Výstupy modelu'!$C$7),1)","v":1664},0,0,{"$f":"IF(F431=1,IF(G431>'Zdrojová data'!$C$19,0,1),\"\")","v":""},1664,0,{"$f":"MIN(J431,'Zdrojová data'!$C$17)","v":0},0,{"$f":"L431/'Zdrojová data'!$C$16","v":0},{"$f":"M431*'Zdrojová data'!$C$13","v":0},{"$f":"N431*'Zdrojová data'!$C$14","v":0},0,{"$f":"IF(H431=0,D431-'Výstupy modelu'!$C$7,IF(P431=1,J431-K431,0))","v":0},0,null,{"$f":"MAX(0,IF(Q431>0,Q431-('Výstupy modelu'!$H$10-'Výstupy modelu'!$H$9),0))","v":0},null,null,{"$f":"W430","v":1865.4300000000003},1885.4300000000003,0,{"$f":"MAX(0,D431-'Vstupní hodnoty'!$C$5)","v":0}]
[null,"2017-01-05T11:15:00",1,1450.44,{"$f":"CEILING(IF(C432-C431=0,IF(H431=0,I431,IF(J431>K431,I431,E431)),'Výstupy modelu'!$C$7),1)","v":1664},0,0,{"$f":"IF(F432=1,IF(G432>'Zdrojová data'!$C$19,0,1),\"\")","v":""},1664,0,{"$f":"MIN(J432,'Zdrojová data'!$C$17)","v":0},0,{"$f":"L432/'Zdrojová data'!$C$16","v":0},{"$f":"M432*'Zdrojová data'!$C$13","v":0},{"$f":"N432*'Zdrojová data'!$C$14","v":0},0,{"$f":"IF(H432=0,D432-'Výstupy modelu'!$C$7,IF(P432=1,J432-K432,0))","v":0},0,null,{"$f":"MAX(0,IF(Q432>0,Q432-('Výstupy modelu'!$H$10-'Výstupy modelu'!$H$9),0))","v":0},null,null,{"$f":"W431","v":1865.4300000000003},1885.4300000000003,0,{"$f":"MAX(0,D432-'Vstupní hodnoty'!$C$5)","v":0}]
[null,"2017-01-05T11:30:00",1,1338.1200000000001,{"$f":"CEILING(IF(C433-C432=0,IF(H432=0,I432,IF(J432>K432,I432,E432)),'Výstupy modelu'!$C$7),1)","v":1664},0,0,{"$f":"IF(F433=1,IF(G433>'Zdrojová data'!$C$19,0,1),\"\")","v":""},1664,0,{"$f":"MIN(J433,'Zdrojová data'!$C$17)","v":0},0,{"$f":"L433/'Zdrojová data'!$C$16","v":0},{"$f":"M433*'Zdrojová data'!$C$13","v":0},{"$f":"N433*'Zdrojová data'!$C$14","v":0},0,{"$f":"IF(H433=0,D433-'Výstupy modelu'!$C$7,IF(P433=1,J433-K433,0))","v":0},0,null,{"$f":"MAX(0,IF(Q433>0,Q433-('Výstupy modelu'!$H$10-'Výstupy modelu'!$H$9),0))","v":0},null,null,{"$f":"W432","v":1865.4300000000003},1885.4300000000003,{"$f":"MAX(0,D433-W433)","v":0},{"$f":"MAX(0,D433-'Vstupní hodnoty'!$C$5)","v":0}]
[null,"2017-01-05T11:45:00",1,1299.24,{"$f":"CEILING(IF(C434-C433=0,IF(H433=0,I433,IF(J433>K433,I433,E433)),'Výstupy modelu'!$C$7),1)","v":1664},0,0,{"$f":"IF(F434=1,IF(G434>'Zdrojová data'!$C$19,0,1),\"\")","v":""},1664,0,{"$f":"MIN(J434,'Zdrojová data'!$C$17)","v":0},0,{"$f":"L434/'Zdrojová data'!$C$16","v":0},{"$f":"M434*'Zdrojová data'!$C$13","v":0},{"$f":"N434*'Zdrojová data'!$C$14","v":0},0,{"$f":"IF(H434=0,D434-'Výstupy modelu'!$C$7,IF(P434=1,J434-K434,0))","v":0},0,null,{"$f":"MAX(0,IF(Q434>0,Q434-('Výstupy modelu'!$H$10-'Výstupy modelu'!$H$9),0))","v":0},null,null,{"$f":"W433","v":1865.4300000000003},1885.4300000000003,0,{"$f":"MAX(0,D434-'Vstupní hodnoty'!$C$5)","v":0}]
[null,"2017-01-05T12:00:00",1,1183.68,{"$f":"CEILING(IF(C435-C434=0,IF(H434=0,I434,IF(J434>K434,I434,E434)),'Výstupy modelu'!$C$7),1)","v":1664},0,0,{"$f":"IF(F435=1,IF(G435>'Zdrojová data'!$C$19,0,1),\"\")","v":""},1664,0,{"$f":"MIN(J435,'Zdrojová data'!$C$17)","v":0},0,{"$f":"L435/'Zdrojová data'!$C$16","v":0},{"$f":"M435*'Zdrojová data'!$C$13","v":0},{"$f":"N435*'Zdrojová data'!$C$14","v":0},0,{"$f":"IF(H435=0,D435-'Výstupy modelu'!$C$7,IF(P435=1,J435-K435,0))","v":0},0,null,{"$f":"MAX(0,IF(Q435>0,Q435-('Výstupy modelu'!$H$10-'Výstupy modelu'!$H$9),0))","v":0},null,null,{"$f":"W434","v":1865.4300000000003},1885.4300000000003,0,{"$f":"MAX(0,D435-'Vstupní hodnoty'!$C$5)","v":0}]
[null,"2017-01-05T12:15:00",1,1131.8400000000001,{"$f":"CEILING(IF(C436-C435=0,IF(H435=0,I435,IF(J435>K435,I435,E435)),'Výstupy modelu'!$C$7),1)","v":1664},0,0,{"$f":"IF(F436=1,IF(G436>'Zdrojová data'!$C$19,0,1),\"\")","v":""},1664,0,{"$f":"MIN(J436,'Zdrojová data'!$C$17)","v":0},0,{"$f":"L436/'Zdrojová data'!$C$16","v":0},{"$f":"M436*'Zdrojová data'!$C$13","v":0},{"$f":"N436*'Zdrojová data'!$C$14","v":0},0,{"$f":"IF(H436=0,D436-'Výstupy modelu'!$C$7,IF(P436=1,J436-K436,0))","v":0},0,null,{"$f":"MAX(0,IF(Q436>0,Q436-('Výstupy modelu'!$H$10-'Výstupy modelu'!$H$9),0))","v":0},null,null,{"$f":"W435","v":1865.4300000000003},1885.4300000000003,0,{"$f":"MAX(0,D436-'Vstupní hodnoty'!$C$5)","v":0}]
[null,"2017-01-05T12:30:00",1,1264.68,{"$f":"CEILING(IF(C437-C436=0,IF(H436=0,I436,IF(J436>K436,I436,E436)),'Výstupy modelu'!$C$7),1)","v":1664},0,0,{"$f":"IF(F437=1,IF(G437>'Zdrojová data'!$C$19,0,1),\"\")","v":""},1664,0,{"$f":"MIN(J437,'Zdrojová data'!$C$17)","v":0},0,{"$f":"L437/'Zdrojová data'!$C$16","v":0},{"$f":"M437*'Zdrojová data'!$C$13","v":0},{"$f":"N437*'Zdrojová data'!$C$14","v":0},0,{"$f":"IF(H437=0,D437-'Výstupy modelu'!$C$7,IF(P437=1,J437-K437,0))","v":0},0,null,{"$f":"MAX(0,IF(Q437>0,Q437-('Výstupy modelu'!$H$10-'Výstupy modelu'!$H$9),0))","v":0},null,null,{"$f":"W436","v":1865.4300000000003},1885.4300000000003,0,{"$f":"MAX(0,D437-'Vstupní hodnoty'!$C$5)","v":0}]
[null,"2017-01-05T12:45:00",1,1500.1200000000001,{"$f":"CEILING(IF(C438-C437=0,IF(H437=0,I437,IF(J437>K437,I437,E437)),'Výstupy modelu'!$C$7),1)","v":1664},0,0,{"$f":"IF(F438=1,IF(G438>'Zdrojová data'!$C$19,0,1),\"\")","v":""},1664,0,{"$f":"MIN(J438,'Zdrojová data'!$C$17)","v":0},0,{"$f":"L438/'Zdrojová data'!$C$16","v":0},{"$f":"M438*'Zdrojová data'!$C$13","v":0},{"$f":"N438*'Zdrojová data'!$C$14","v":0},0,{"$f":"IF(H438=0,D438-'Výstupy modelu'!$C$7,IF(P438=1,J438-K438,0))","v":0},0,null,{"$f":"MAX(0,IF(Q438>0,Q438-('Výstupy modelu'!$H$10-'Výstupy modelu'!$H$9),0))","v":0},null,null,{"$f":"W437","v":1865.4300000000003},1885.4300000000003,0,{"$f":"MAX(0,D438-'Vstupní hodnoty'!$C$5)","v":0}]
[null,"2017-01-05T13:00:00",1,1439.64,{"$f":"CEILING(IF(C439-C438=0,IF(H438=0,I438,IF(J438>K438,I438,E438)),'Výstupy modelu'!$C$7),1)","v":1664},0,0,{"$f":"IF(F439=1,IF(G439>'Zdrojová data'!$C$19,0,1),\"\")","v":""},1664,0,{"$f":"MIN(J439,'Zdrojová data'!$C$17)","v":0},0,{"$f":"L439/'Zdrojová data'!$C$16","v":0},{"$f":"M439*'Zdrojová data'!$C$13","v":0},{"$f":"N439*'Zdrojová data'!$C$14","v":0},0,{"$f":"IF(H439=0,D439-'Výstupy modelu'!$C$7,IF(P439=1,J439-K439,0))","v":0},0,null,{"$f":"MAX(0,IF(Q439>0,Q439-('Výstupy modelu'!$H$10-'Výstupy modelu'!$H$9),0))","v":0},null,null,{"$f":"W438","v":1865.4300000000003},1885.4300000000003,0,{"$f":"MAX(0,D439-'Vstupní hodnoty'!$C$5)","v":0}]
[null,"2017-01-05T13:15:00",1,1385.64,{"$f":"CEILING(IF(C440-C439=0,IF(H439=0,I439,IF(J439>K439,I439,E439)),'Výstupy modelu'!$C$7),1)","v":1664},0,0,{"$f":"IF(F440=1,IF(G440>'Zdrojová data'!$C$19,0,1),\"\")","v":""},1664,0,{"$f":"MIN(J440,'Zdrojová data'!$C$17)","v":0},0,{"$f":"L440/'Zdrojová data'!$C$16","v":0},{"$f":"M440*'Zdrojová data'!$C$13","v":0},{"$f":"N440*'Zdrojová data'!$C$14","v":0},0,{"$f":"IF(H440=0,D440-'Výstupy modelu'!$C$7,IF(P440=1,J440-K440,0))","v":0},0,null,{"$f":"MAX(0,IF(Q440>0,Q440-('Výstupy modelu'!$H$10-'Výstupy modelu'!$H$9),0))","v":0},null,null,{"$f":"W439","v":1865.4300000000003},1885.4300000000003,0,{"$f":"MAX(0,D440-'Vstupní hodnoty'!$C$5)","v":0}]
[null,"2017-01-05T13:30:00",1,1344.6000000000001,{"$f":"CEILING(IF(C441-C440=0,IF(H440=0,I440,IF(J440>K440,I440,E440)),'Výstupy modelu'!$C$7),1)","v":1664},0,0,{"$f":"IF(F441=1,IF(G441>'Zdrojová data'!$C$19,0,1),\"\")","v":""},1664,0,{"$f":"MIN(J441,'Zdrojová data'!$C$17)","v":0},0,{"$f":"L441/'Zdrojová data'!$C$16","v":0},{"$f":"M441*'Zdrojová data'!$C$13","v":0},{"$f":"N441*'Zdrojová data'!$C$14","v":0},0,{"$f":"IF(H441=0,D441-'Výstupy modelu'!$C$7,IF(P441=1,J441-K441,0))","v":0},0,null,{"$f":"MAX(0,IF(Q441>0,Q441-('Výstupy modelu'!$H$10-'Výstupy modelu'!$H$9),0))","v":0},null,null,{"$f":"W440","v":1865.4300000000003},1885.4300000000003,0,{"$f":"MAX(0,D441-'Vstupní hodnoty'!$C$5)","v":0}]
[null,"2017-01-05T13:45:00",1,1341.3600000000001,{"$f":"CEILING(IF(C442-C441=0,IF(H441=0,I441,IF(J441>K441,I441,E441)),'Výstupy modelu'!$C$7),1)","v":1664},0,0,{"$f":"IF(F442=1,IF(G442>'Zdrojová data'!$C$19,0,1),\"\")","v":""},1664,0,{"$f":"MIN(J442,'Zdrojová data'!$C$17)","v":0},0,{"$f":"L442/'Zdrojová data'!$C$16","v":0},{"$f":"M442*'Zdrojová data'!$C$13","v":0},{"$f":"N442*'Zdrojová data'!$C$14","v":0},0,{"$f":"IF(H442=0,D442-'Výstupy modelu'!$C$7,IF(P442=1,J442-K442,0))","v":0},0,null,{"$f":"MAX(0,IF(Q442>0,Q442-('Výstupy modelu'!$H$10-'Výstupy modelu'!$H$9),0))","v":0},null,null,{"$f":"W441","v":1865.4300000000003},1885.4300000000003,0,{"$f":"MAX(0,D442-'Vstupní hodnoty'!$C$5)","v":0}]
[null,"2017-01-05T14:00:00",1,1237.68,{"$f":"CEILING(IF(C443-C442=0,IF(H442=0,I442,IF(J442>K442,I442,E442)),'Výstupy modelu'!$C$7),1)","v":1664},0,0,{"$f":"IF(F443=1,IF(G443>'Zdrojová data'!$C$19,0,1),\"\")","v":""},1664,0,{"$f":"MIN(J443,'Zdrojová data'!$C$17)","v":0},0,{"$f":"L443/'Zdrojová data'!$C$16","v":0},{"$f":"M443*'Zdrojová data'!$C$13","v":0},{"$f":"N443*'Zdrojová data'!$C$14","v":0},0,{"$f":"IF(H443=0,D443-'Výstupy modelu'!$C$7,IF(P443=1,J443-K443,0))","v":0},0,null,{"$f":"MAX(0,IF(Q443>0,Q443-('Výstupy modelu'!$H$10-'Výstupy modelu'!$H$9),0))","v":0},null,null,{"$f":"W442","v":1865.4300000000003},1885.4300000000003,0,{"$f":"MAX(0,D443-'Vstupní hodnoty'!$C$5)","v":0}]
[null,"2017-01-05T14:15:00",1,1278.72,{"$f":"CEILING(IF(C444-C443=0,IF(H443=0,I443,IF(J443>K443,I443,E443)),'Výstupy modelu'!$C$7),1)","v":1664},0,0,{"$f":"IF(F444=1,IF(G444>'Zdrojová data'!$C$19,0,1),\"\")","v":""},1664,0,{"$f":"MIN(J444,'Zdrojová data'!$C$17)","v":0},0,{"$f":"L444/'Zdrojová data'!$C$16","v":0},{"$f":"M444*'Zdrojová data'!$C$13","v":0},{"$f":"N444*'Zdrojová data'!$C$14","v":0},0,{"$f":"IF(H444=0,D444-'Výstupy modelu'!$C$7,IF(P444=1,J444-K444,0))","v":0},0,null,{"$f":"MAX(0,IF(Q444>0,Q444-('Výstupy modelu'!$H$10-'Výstupy modelu'!$H$9),0))","v":0},null,null,{"$f":"W443","v":1865.4300000000003},1885.4300000000003,0,{"$f":"MAX(0,D444-'Vstupní hodnoty'!$C$5)","v":0}]
[null,"2017-01-05T14:30:00",1,1130.76,{"$f":"CEILING(IF(C445-C444=0,IF(H444=0,I444,IF(J444>K444,I444,E444)),'Výstupy modelu'!$C$7),1)","v":1664},0,0,{"$f":"IF(F445=1,IF(G445>'Zdrojová data'!$C$19,0,1),\"\")","v":""},1664,0,{"$f":"MIN(J445,'Zdrojová data'!$C$17)","v":0},0,{"$f":"L445/'Zdrojová data'!$C$16","v":0},{"$f":"M445*'Zdrojová data'!$C$13","v":0},{"$f":"N445*'Zdrojová data'!$C$14","v":0},0,{"$f":"IF(H445=0,D445-'Výstupy modelu'!$C$7,IF(P445=1,J445-K445,0))","v":0},0,null,{"$f":"MAX(0,IF(Q445>0,Q445-('Výstupy modelu'!$H$10-'Výstupy modelu'!$H$9),0))","v":0},null,null,{"$f":"W444","v":1865.4300000000003},1885.4300000000003,0,{"$f":"MAX(0,D445-'Vstupní hodnoty'!$C$5)","v":0}]
[null,"2017-01-05T14:45:00",1,1172.8800000000001,{"$f":"CEILING(IF(C446-C445=0,IF(H445=0,I445,IF(J445>K445,I445,E445)),'Výstupy modelu'!$C$7),1)","v":1664},0,0,{"$f":"IF(F446=1,IF(G446>'Zdrojová data'!$C$19,0,1),\"\")","v":""},1664,0,{"$f":"MIN(J446,'Zdrojová data'!$C$17)","v":0},0,{"$f":"L446/'Zdrojová data'!$C$16","v":0},{"$f":"M446*'Zdrojová data'!$C$13","v":0},{"$f":"N446*'Zdrojová data'!$C$14","v":0},0,{"$f":"IF(H446=0,D446-'Výstupy modelu'!$C$7,IF(P446=1,J446-K446,0))","v":0},0,null,{"$f":"MAX(0,IF(Q446>0,Q446-('Výstupy modelu'!$H$10-'Výstupy modelu'!$H$9),0))","v":0},null,null,{"$f":"W445","v":1865.4300000000003},1885.4300000000003,0,{"$f":"MAX(0,D446-'Vstupní hodnoty'!$C$5)","v":0}]
[null,"2017-01-05T15:00:00",1,1150.2,{"$f":"CEILING(IF(C447-C446=0,IF(H446=0,I446,IF(J446>K446,I446,E446)),'Výstupy modelu'!$C$7),1)","v":1664},0,0,{"$f":"IF(F447=1,IF(G447>'Zdrojová data'!$C$19,0,1),\"\")","v":""},1664,0,{"$f":"MIN(J447,'Zdrojová data'!$C$17)","v":0},0,{"$f":"L447/'Zdrojová data'!$C$16","v":0},{"$f":"M447*'Zdrojová data'!$C$13","v":0},{"$f":"N447*'Zdrojová data'!$C$14","v":0},0,{"$f":"IF(H447=0,D447-'Výstupy modelu'!$C$7,IF(P447=1,J447-K447,0))","v":0},0,null,{"$f":"MAX(0,IF(Q447>0,Q447-('Výstupy modelu'!$H$10-'Výstupy modelu'!$H$9),0))","v":0},null,null,{"$f":"W446","v":1865.4300000000003},1885.4300000000003,0,{"$f":"MAX(0,D447-'Vstupní hodnoty'!$C$5)","v":0}]
[null,"2017-01-05T15:15:00",1,1092.96,{"$f":"CEILING(IF(C448-C447=0,IF(H447=0,I447,IF(J447>K447,I447,E447)),'Výstupy modelu'!$C$7),1)","v":1664},0,0,{"$f":"IF(F448=1,IF(G448>'Zdrojová data'!$C$19,0,1),\"\")","v":""},1664,0,{"$f":"MIN(J448,'Zdrojová data'!$C$17)","v":0},0,{"$f":"L448/'Zdrojová data'!$C$16","v":0},{"$f":"M448*'Zdrojová data'!$C$13","v":0},{"$f":"N448*'Zdrojová data'!$C$14","v":0},0,{"$f":"IF(H448=0,D448-'Výstupy modelu'!$C$7,IF(P448=1,J448-K448,0))","v":0},0,null,{"$f":"MAX(0,IF(Q448>0,Q448-('Výstupy modelu'!$H$10-'Výstupy modelu'!$H$9),0))","v":0},null,null,{"$f":"W447","v":1865.4300000000003},1885.4300000000003,0,{"$f":"MAX(0,D448-'Vstupní hodnoty'!$C$5)","v":0}]
[null,"2017-01-05T15:30:00",1,1080,{"$f":"CEILING(IF(C449-C448=0,IF(H448=0,I448,IF(J448>K448,I448,E448)),'Výstupy modelu'!$C$7),1)","v":1664},0,0,{"$f":"IF(F449=1,IF(G449>'Zdrojová data'!$C$19,0,1),\"\")","v":""},1664,0,{"$f":"MIN(J449,'Zdrojová data'!$C$17)","v":0},0,{"$f":"L449/'Zdrojová data'!$C$16","v":0},{"$f":"M449*'Zdrojová data'!$C$13","v":0},{"$f":"N449*'Zdrojová data'!$C$14","v":0},0,{"$f":"IF(H449=0,D449-'Výstupy modelu'!$C$7,IF(P449=1,J449-K449,0))","v":0},0,null,{"$f":"MAX(0,IF(Q449>0,Q449-('Výstupy modelu'!$H$10-'Výstupy modelu'!$H$9),0))","v":0},null,null,{"$f":"W448","v":1865.4300000000003},1885.4300000000003,0,{"$f":"MAX(0,D449-'Vstupní hodnoty'!$C$5)","v":0}]
[null,"2017-01-05T15:45:00",1,1027.0800000000002,{"$f":"CEILING(IF(C450-C449=0,IF(H449=0,I449,IF(J449>K449,I449,E449)),'Výstupy modelu'!$C$7),1)","v":1664},0,0,{"$f":"IF(F450=1,IF(G450>'Zdrojová data'!$C$19,0,1),\"\")","v":""},1664,0,{"$f":"MIN(J450,'Zdrojová data'!$C$17)","v":0},0,{"$f":"L450/'Zdrojová data'!$C$16","v":0},{"$f":"M450*'Zdrojová data'!$C$13","v":0},{"$f":"N450*'Zdrojová data'!$C$14","v":0},0,{"$f":"IF(H450=0,D450-'Výstupy modelu'!$C$7,IF(P450=1,J450-K450,0))","v":0},0,null,{"$f":"MAX(0,IF(Q450>0,Q450-('Výstupy modelu'!$H$10-'Výstupy modelu'!$H$9),0))","v":0},null,null,{"$f":"W449","v":1865.4300000000003},1885.4300000000003,0,{"$f":"MAX(0,D450-'Vstupní hodnoty'!$C$5)","v":0}]
[null,"2017-01-05T16:00:00",1,902.88000000000011,{"$f":"CEILING(IF(C451-C450=0,IF(H450=0,I450,IF(J450>K450,I450,E450)),'Výstupy modelu'!$C$7),1)","v":1664},0,0,{"$f":"IF(F451=1,IF(G451>'Zdrojová data'!$C$19,0,1),\"\")","v":""},1664,0,{"$f":"MIN(J451,'Zdrojová data'!$C$17)","v":0},0,{"$f":"L451/'Zdrojová data'!$C$16","v":0},{"$f":"M451*'Zdrojová data'!$C$13","v":0},{"$f":"N451*'Zdrojová data'!$C$14","v":0},0,{"$f":"IF(H451=0,D451-'Výstupy modelu'!$C$7,IF(P451=1,J451-K451,0))","v":0},0,null,{"$f":"MAX(0,IF(Q451>0,Q451-('Výstupy modelu'!$H$10-'Výstupy modelu'!$H$9),0))","v":0},null,null,{"$f":"W450","v":1865.4300000000003},1885.4300000000003,0,{"$f":"MAX(0,D451-'Vstupní hodnoty'!$C$5)","v":0}]
[null,"2017-01-05T16:15:00",1,1008.72,{"$f":"CEILING(IF(C452-C451=0,IF(H451=0,I451,IF(J451>K451,I451,E451)),'Výstupy modelu'!$C$7),1)","v":1664},{"$f":"IF(D452>E452,1,0)","v":0},0,{"$f":"IF(F452=1,IF(G452>'Zdrojová data'!$C$19,0,1),\"\")","v":""},{"$f":"IF(H452=0,D452,IF(J452>K452,E452+J452-K452,E452))","v":1664},{"$f":"IF(H452=1,D452-E452,0)","v":0},{"$f":"MIN(J452,'Zdrojová data'!$C$17)","v":0},0,{"$f":"L452/'Zdrojová data'!$C$16","v":0},{"$f":"M452*'Zdrojová data'!$C$13","v":0},{"$f":"N452*'Zdrojová data'!$C$14","v":0},0,{"$f":"IF(H452=0,D452-'Výstupy modelu'!$C$7,IF(P452=1,J452-K452,0))","v":0},0,null,{"$f":"MAX(0,IF(Q452>0,Q452-('Výstupy modelu'!$H$10-'Výstupy modelu'!$H$9),0))","v":0},null,null,{"$f":"W451","v":1865.4300000000003},1885.4300000000003,0,{"$f":"MAX(0,D452-'Vstupní hodnoty'!$C$5)","v":0}]
[null,"2017-01-05T16:30:00",{"$f":"MONTH(B453)","v":1},956.88000000000011,{"$f":"CEILING(IF(C453-C452=0,IF(H452=0,I452,IF(J452>K452,I452,E452)),'Výstupy modelu'!$C$7),1)","v":1664},0,{"$f":"IF(F453=1,RANDBETWEEN(0,100),0)","v":0},{"$f":"IF(F453=1,IF(G453>'Zdrojová data'!$C$19,0,1),\"\")","v":""},1664,0,{"$f":"MIN(J453,'Zdrojová data'!$C$17)","v":0},{"$f":"K453/4","v":0},{"$f":"L453/'Zdrojová data'!$C$16","v":0},{"$f":"M453*'Zdrojová data'!$C$13","v":0},{"$f":"N453*'Zdrojová data'!$C$14","v":0},{"$f":"IF(H453=0,1,IF(J453>K453,1,0))","v":0},{"$f":"IF(H453=0,D453-'Výstupy modelu'!$C$7,IF(P453=1,J453-K453,0))","v":0},{"$f":"IF(H453=0,1,IF(J453>K453,1,0))","v":0},null,{"$f":"MAX(0,IF(Q453>0,Q453-('Výstupy modelu'!$H$10-'Výstupy modelu'!$H$9),0))","v":0},null,null,{"$f":"W452","v":1865.4300000000003},1885.4300000000003,0,{"$f":"MAX(0,D453-'Vstupní hodnoty'!$C$5)","v":0}]
[null,"2017-01-05T16:45:00",1,1001.1600000000001,{"$f":"CEILING(IF(C454-C453=0,IF(H453=0,I453,IF(J453>K453,I453,E453)),'Výstupy modelu'!$C$7),1)","v":1664},0,0,{"$f":"IF(F454=1,IF(G454>'Zdrojová data'!$C$19,0,1),\"\")","v":""},1664,0,{"$f":"MIN(J454,'Zdrojová data'!$C$17)","v":0},0,{"$f":"L454/'Zdrojová data'!$C$16","v":0},{"$f":"M454*'Zdrojová data'!$C$13","v":0},{"$f":"N454*'Zdrojová data'!$C$14","v":0},0,{"$f":"IF(H454=0,D454-'Výstupy modelu'!$C$7,IF(P454=1,J454-K454,0))","v":0},0,null,{"$f":"MAX(0,IF(Q454>0,Q454-('Výstupy modelu'!$H$10-'Výstupy modelu'!$H$9),0))","v":0},null,null,{"$f":"W453","v":1865.4300000000003},1885.4300000000003,0,{"$f":"MAX(0,D454-'Vstupní hodnoty'!$C$5)","v":0}]
[null,"2017-01-05T17:00:00",1,1033.5600000000002,{"$f":"CEILING(IF(C455-C454=0,IF(H454=0,I454,IF(J454>K454,I454,E454)),'Výstupy modelu'!$C$7),1)","v":1664},0,0,{"$f":"IF(F455=1,IF(G455>'Zdrojová data'!$C$19,0,1),\"\")","v":""},1664,0,{"$f":"MIN(J455,'Zdrojová data'!$C$17)","v":0},0,{"$f":"L455/'Zdrojová data'!$C$16","v":0},{"$f":"M455*'Zdrojová data'!$C$13","v":0},{"$f":"N455*'Zdrojová data'!$C$14","v":0},0,{"$f":"IF(H455=0,D455-'Výstupy modelu'!$C$7,IF(P455=1,J455-K455,0))","v":0},0,null,{"$f":"MAX(0,IF(Q455>0,Q455-('Výstupy modelu'!$H$10-'Výstupy modelu'!$H$9),0))","v":0},null,null,{"$f":"W454","v":1865.4300000000003},1885.4300000000003,0,{"$f":"MAX(0,D455-'Vstupní hodnoty'!$C$5)","v":0}]
[null,"2017-01-05T17:15:00",1,993.6,{"$f":"CEILING(IF(C456-C455=0,IF(H455=0,I455,IF(J455>K455,I455,E455)),'Výstupy modelu'!$C$7),1)","v":1664},0,0,{"$f":"IF(F456=1,IF(G456>'Zdrojová data'!$C$19,0,1),\"\")","v":""},1664,0,{"$f":"MIN(J456,'Zdrojová data'!$C$17)","v":0},0,{"$f":"L456/'Zdrojová data'!$C$16","v":0},{"$f":"M456*'Zdrojová data'!$C$13","v":0},{"$f":"N456*'Zdrojová data'!$C$14","v":0},0,{"$f":"IF(H456=0,D456-'Výstupy modelu'!$C$7,IF(P456=1,J456-K456,0))","v":0},0,null,{"$f":"MAX(0,IF(Q456>0,Q456-('Výstupy modelu'!$H$10-'Výstupy modelu'!$H$9),0))","v":0},null,null,{"$f":"W455","v":1865.4300000000003},1885.4300000000003,0,{"$f":"MAX(0,D456-'Vstupní hodnoty'!$C$5)","v":0}]
[null,"2017-01-05T17:30:00",1,965.5200000000001,{"$f":"CEILING(IF(C457-C456=0,IF(H456=0,I456,IF(J456>K456,I456,E456)),'Výstupy modelu'!$C$7),1)","v":1664},0,0,{"$f":"IF(F457=1,IF(G457>'Zdrojová data'!$C$19,0,1),\"\")","v":""},1664,0,{"$f":"MIN(J457,'Zdrojová data'!$C$17)","v":0},0,{"$f":"L457/'Zdrojová data'!$C$16","v":0},{"$f":"M457*'Zdrojová data'!$C$13","v":0},{"$f":"N457*'Zdrojová data'!$C$14","v":0},0,{"$f":"IF(H457=0,D457-'Výstupy modelu'!$C$7,IF(P457=1,J457-K457,0))","v":0},0,null,{"$f":"MAX(0,IF(Q457>0,Q457-('Výstupy modelu'!$H$10-'Výstupy modelu'!$H$9),0))","v":0},null,null,{"$f":"W456","v":1865.4300000000003},1885.4300000000003,0,{"$f":"MAX(0,D457-'Vstupní hodnoty'!$C$5)","v":0}]
[null,"2017-01-05T17:45:00",1,765.72,{"$f":"CEILING(IF(C458-C457=0,IF(H457=0,I457,IF(J457>K457,I457,E457)),'Výstupy modelu'!$C$7),1)","v":1664},0,0,{"$f":"IF(F458=1,IF(G458>'Zdrojová data'!$C$19,0,1),\"\")","v":""},1664,0,{"$f":"MIN(J458,'Zdrojová data'!$C$17)","v":0},0,{"$f":"L458/'Zdrojová data'!$C$16","v":0},{"$f":"M458*'Zdrojová data'!$C$13","v":0},{"$f":"N458*'Zdrojová data'!$C$14","v":0},0,{"$f":"IF(H458=0,D458-'Výstupy modelu'!$C$7,IF(P458=1,J458-K458,0))","v":0},0,null,{"$f":"MAX(0,IF(Q458>0,Q458-('Výstupy modelu'!$H$10-'Výstupy modelu'!$H$9),0))","v":0},null,null,{"$f":"W457","v":1865.4300000000003},1885.4300000000003,0,{"$f":"MAX(0,D458-'Vstupní hodnoty'!$C$5)","v":0}]
[null,"2017-01-05T18:00:00",1,758.16000000000008,{"$f":"CEILING(IF(C459-C458=0,IF(H458=0,I458,IF(J458>K458,I458,E458)),'Výstupy modelu'!$C$7),1)","v":1664},0,0,{"$f":"IF(F459=1,IF(G459>'Zdrojová data'!$C$19,0,1),\"\")","v":""},1664,0,{"$f":"MIN(J459,'Zdrojová data'!$C$17)","v":0},0,{"$f":"L459/'Zdrojová data'!$C$16","v":0},{"$f":"M459*'Zdrojová data'!$C$13","v":0},{"$f":"N459*'Zdrojová data'!$C$14","v":0},0,{"$f":"IF(H459=0,D459-'Výstupy modelu'!$C$7,IF(P459=1,J459-K459,0))","v":0},0,null,{"$f":"MAX(0,IF(Q459>0,Q459-('Výstupy modelu'!$H$10-'Výstupy modelu'!$H$9),0))","v":0},null,null,{"$f":"W458","v":1865.4300000000003},1885.4300000000003,0,{"$f":"MAX(0,D459-'Vstupní hodnoty'!$C$5)","v":0}]
[null,"2017-01-05T18:15:00",1,856.44,{"$f":"CEILING(IF(C460-C459=0,IF(H459=0,I459,IF(J459>K459,I459,E459)),'Výstupy modelu'!$C$7),1)","v":1664},0,0,{"$f":"IF(F460=1,IF(G460>'Zdrojová data'!$C$19,0,1),\"\")","v":""},1664,0,{"$f":"MIN(J460,'Zdrojová data'!$C$17)","v":0},0,{"$f":"L460/'Zdrojová data'!$C$16","v":0},{"$f":"M460*'Zdrojová data'!$C$13","v":0},{"$f":"N460*'Zdrojová data'!$C$14","v":0},0,{"$f":"IF(H460=0,D460-'Výstupy modelu'!$C$7,IF(P460=1,J460-K460,0))","v":0},0,null,{"$f":"MAX(0,IF(Q460>0,Q460-('Výstupy modelu'!$H$10-'Výstupy modelu'!$H$9),0))","v":0},null,null,{"$f":"W459","v":1865.4300000000003},1885.4300000000003,0,{"$f":"MAX(0,D460-'Vstupní hodnoty'!$C$5)","v":0}]
[null,"2017-01-05T18:30:00",1,943.92000000000007,{"$f":"CEILING(IF(C461-C460=0,IF(H460=0,I460,IF(J460>K460,I460,E460)),'Výstupy modelu'!$C$7),1)","v":1664},0,0,{"$f":"IF(F461=1,IF(G461>'Zdrojová data'!$C$19,0,1),\"\")","v":""},1664,0,{"$f":"MIN(J461,'Zdrojová data'!$C$17)","v":0},0,{"$f":"L461/'Zdrojová data'!$C$16","v":0},{"$f":"M461*'Zdrojová data'!$C$13","v":0},{"$f":"N461*'Zdrojová data'!$C$14","v":0},0,{"$f":"IF(H461=0,D461-'Výstupy modelu'!$C$7,IF(P461=1,J461-K461,0))","v":0},0,null,{"$f":"MAX(0,IF(Q461>0,Q461-('Výstupy modelu'!$H$10-'Výstupy modelu'!$H$9),0))","v":0},null,null,{"$f":"W460","v":1865.4300000000003},1885.4300000000003,0,{"$f":"MAX(0,D461-'Vstupní hodnoty'!$C$5)","v":0}]
[null,"2017-01-05T18:45:00",1,915.84,{"$f":"CEILING(IF(C462-C461=0,IF(H461=0,I461,IF(J461>K461,I461,E461)),'Výstupy modelu'!$C$7),1)","v":1664},0,0,{"$f":"IF(F462=1,IF(G462>'Zdrojová data'!$C$19,0,1),\"\")","v":""},1664,0,{"$f":"MIN(J462,'Zdrojová data'!$C$17)","v":0},0,{"$f":"L462/'Zdrojová data'!$C$16","v":0},{"$f":"M462*'Zdrojová data'!$C$13","v":0},{"$f":"N462*'Zdrojová data'!$C$14","v":0},0,{"$f":"IF(H462=0,D462-'Výstupy modelu'!$C$7,IF(P462=1,J462-K462,0))","v":0},0,null,{"$f":"MAX(0,IF(Q462>0,Q462-('Výstupy modelu'!$H$10-'Výstupy modelu'!$H$9),0))","v":0},null,null,{"$f":"W461","v":1865.4300000000003},1885.4300000000003,0,{"$f":"MAX(0,D462-'Vstupní hodnoty'!$C$5)","v":0}]
[null,"2017-01-05T19:00:00",1,920.16000000000008,{"$f":"CEILING(IF(C463-C462=0,IF(H462=0,I462,IF(J462>K462,I462,E462)),'Výstupy modelu'!$C$7),1)","v":1664},0,0,{"$f":"IF(F463=1,IF(G463>'Zdrojová data'!$C$19,0,1),\"\")","v":""},1664,0,{"$f":"MIN(J463,'Zdrojová data'!$C$17)","v":0},0,{"$f":"L463/'Zdrojová data'!$C$16","v":0},{"$f":"M463*'Zdrojová data'!$C$13","v":0},{"$f":"N463*'Zdrojová data'!$C$14","v":0},0,{"$f":"IF(H463=0,D463-'Výstupy modelu'!$C$7,IF(P463=1,J463-K463,0))","v":0},0,null,{"$f":"MAX(0,IF(Q463>0,Q463-('Výstupy modelu'!$H$10-'Výstupy modelu'!$H$9),0))","v":0},null,null,{"$f":"W462","v":1865.4300000000003},1885.4300000000003,0,{"$f":"MAX(0,D463-'Vstupní hodnoty'!$C$5)","v":0}]
[null,"2017-01-05T19:15:00",1,901.80000000000007,{"$f":"CEILING(IF(C464-C463=0,IF(H463=0,I463,IF(J463>K463,I463,E463)),'Výstupy modelu'!$C$7),1)","v":1664},0,0,{"$f":"IF(F464=1,IF(G464>'Zdrojová data'!$C$19,0,1),\"\")","v":""},1664,0,{"$f":"MIN(J464,'Zdrojová data'!$C$17)","v":0},0,{"$f":"L464/'Zdrojová data'!$C$16","v":0},{"$f":"M464*'Zdrojová data'!$C$13","v":0},{"$f":"N464*'Zdrojová data'!$C$14","v":0},0,{"$f":"IF(H464=0,D464-'Výstupy modelu'!$C$7,IF(P464=1,J464-K464,0))","v":0},0,null,{"$f":"MAX(0,IF(Q464>0,Q464-('Výstupy modelu'!$H$10-'Výstupy modelu'!$H$9),0))","v":0},null,null,{"$f":"W463","v":1865.4300000000003},1885.4300000000003,0,{"$f":"MAX(0,D464-'Vstupní hodnoty'!$C$5)","v":0}]
[null,"2017-01-05T19:30:00",1,927.72,{"$f":"CEILING(IF(C465-C464=0,IF(H464=0,I464,IF(J464>K464,I464,E464)),'Výstupy modelu'!$C$7),1)","v":1664},0,0,{"$f":"IF(F465=1,IF(G465>'Zdrojová data'!$C$19,0,1),\"\")","v":""},1664,0,{"$f":"MIN(J465,'Zdrojová data'!$C$17)","v":0},0,{"$f":"L465/'Zdrojová data'!$C$16","v":0},{"$f":"M465*'Zdrojová data'!$C$13","v":0},{"$f":"N465*'Zdrojová data'!$C$14","v":0},0,{"$f":"IF(H465=0,D465-'Výstupy modelu'!$C$7,IF(P465=1,J465-K465,0))","v":0},0,null,{"$f":"MAX(0,IF(Q465>0,Q465-('Výstupy modelu'!$H$10-'Výstupy modelu'!$H$9),0))","v":0},null,null,{"$f":"W464","v":1865.4300000000003},1885.4300000000003,0,{"$f":"MAX(0,D465-'Vstupní hodnoty'!$C$5)","v":0}]
[null,"2017-01-05T19:45:00",1,919.08,{"$f":"CEILING(IF(C466-C465=0,IF(H465=0,I465,IF(J465>K465,I465,E465)),'Výstupy modelu'!$C$7),1)","v":1664},0,0,{"$f":"IF(F466=1,IF(G466>'Zdrojová data'!$C$19,0,1),\"\")","v":""},1664,0,{"$f":"MIN(J466,'Zdrojová data'!$C$17)","v":0},0,{"$f":"L466/'Zdrojová data'!$C$16","v":0},{"$f":"M466*'Zdrojová data'!$C$13","v":0},{"$f":"N466*'Zdrojová data'!$C$14","v":0},0,{"$f":"IF(H466=0,D466-'Výstupy modelu'!$C$7,IF(P466=1,J466-K466,0))","v":0},0,null,{"$f":"MAX(0,IF(Q466>0,Q466-('Výstupy modelu'!$H$10-'Výstupy modelu'!$H$9),0))","v":0},null,null,{"$f":"W465","v":1865.4300000000003},1885.4300000000003,0,{"$f":"MAX(0,D466-'Vstupní hodnoty'!$C$5)","v":0}]
[null,"2017-01-05T20:00:00",1,859.68000000000006,{"$f":"CEILING(IF(C467-C466=0,IF(H466=0,I466,IF(J466>K466,I466,E466)),'Výstupy modelu'!$C$7),1)","v":1664},0,0,{"$f":"IF(F467=1,IF(G467>'Zdrojová data'!$C$19,0,1),\"\")","v":""},1664,0,{"$f":"MIN(J467,'Zdrojová data'!$C$17)","v":0},0,{"$f":"L467/'Zdrojová data'!$C$16","v":0},{"$f":"M467*'Zdrojová data'!$C$13","v":0},{"$f":"N467*'Zdrojová data'!$C$14","v":0},0,{"$f":"IF(H467=0,D467-'Výstupy modelu'!$C$7,IF(P467=1,J467-K467,0))","v":0},0,null,{"$f":"MAX(0,IF(Q467>0,Q467-('Výstupy modelu'!$H$10-'Výstupy modelu'!$H$9),0))","v":0},null,null,{"$f":"W466","v":1865.4300000000003},1885.4300000000003,0,{"$f":"MAX(0,D467-'Vstupní hodnoty'!$C$5)","v":0}]
[null,"2017-01-05T20:15:00",1,791.6400000000001,{"$f":"CEILING(IF(C468-C467=0,IF(H467=0,I467,IF(J467>K467,I467,E467)),'Výstupy modelu'!$C$7),1)","v":1664},0,0,{"$f":"IF(F468=1,IF(G468>'Zdrojová data'!$C$19,0,1),\"\")","v":""},1664,0,{"$f":"MIN(J468,'Zdrojová data'!$C$17)","v":0},0,{"$f":"L468/'Zdrojová data'!$C$16","v":0},{"$f":"M468*'Zdrojová data'!$C$13","v":0},{"$f":"N468*'Zdrojová data'!$C$14","v":0},0,{"$f":"IF(H468=0,D468-'Výstupy modelu'!$C$7,IF(P468=1,J468-K468,0))","v":0},0,null,{"$f":"MAX(0,IF(Q468>0,Q468-('Výstupy modelu'!$H$10-'Výstupy modelu'!$H$9),0))","v":0},null,null,{"$f":"W467","v":1865.4300000000003},1885.4300000000003,0,{"$f":"MAX(0,D468-'Vstupní hodnoty'!$C$5)","v":0}]
[null,"2017-01-05T20:30:00",1,874.80000000000007,{"$f":"CEILING(IF(C469-C468=0,IF(H468=0,I468,IF(J468>K468,I468,E468)),'Výstupy modelu'!$C$7),1)","v":1664},0,0,{"$f":"IF(F469=1,IF(G469>'Zdrojová data'!$C$19,0,1),\"\")","v":""},1664,0,{"$f":"MIN(J469,'Zdrojová data'!$C$17)","v":0},0,{"$f":"L469/'Zdrojová data'!$C$16","v":0},{"$f":"M469*'Zdrojová data'!$C$13","v":0},{"$f":"N469*'Zdrojová data'!$C$14","v":0},0,{"$f":"IF(H469=0,D469-'Výstupy modelu'!$C$7,IF(P469=1,J469-K469,0))","v":0},0,null,{"$f":"MAX(0,IF(Q469>0,Q469-('Výstupy modelu'!$H$10-'Výstupy modelu'!$H$9),0))","v":0},null,null,{"$f":"W468","v":1865.4300000000003},1885.4300000000003,0,{"$f":"MAX(0,D469-'Vstupní hodnoty'!$C$5)","v":0}]
[null,"2017-01-05T20:45:00",1,833.7600000000001,{"$f":"CEILING(IF(C470-C469=0,IF(H469=0,I469,IF(J469>K469,I469,E469)),'Výstupy modelu'!$C$7),1)","v":1664},0,0,{"$f":"IF(F470=1,IF(G470>'Zdrojová data'!$C$19,0,1),\"\")","v":""},1664,0,{"$f":"MIN(J470,'Zdrojová data'!$C$17)","v":0},0,{"$f":"L470/'Zdrojová data'!$C$16","v":0},{"$f":"M470*'Zdrojová data'!$C$13","v":0},{"$f":"N470*'Zdrojová data'!$C$14","v":0},0,{"$f":"IF(H470=0,D470-'Výstupy modelu'!$C$7,IF(P470=1,J470-K470,0))","v":0},0,null,{"$f":"MAX(0,IF(Q470>0,Q470-('Výstupy modelu'!$H$10-'Výstupy modelu'!$H$9),0))","v":0},null,null,{"$f":"W469","v":1865.4300000000003},1885.4300000000003,0,{"$f":"MAX(0,D470-'Vstupní hodnoty'!$C$5)","v":0}]
[null,"2017-01-05T21:00:00",1,772.2,{"$f":"CEILING(IF(C471-C470=0,IF(H470=0,I470,IF(J470>K470,I470,E470)),'Výstupy modelu'!$C$7),1)","v":1664},0,0,{"$f":"IF(F471=1,IF(G471>'Zdrojová data'!$C$19,0,1),\"\")","v":""},1664,0,{"$f":"MIN(J471,'Zdrojová data'!$C$17)","v":0},0,{"$f":"L471/'Zdrojová data'!$C$16","v":0},{"$f":"M471*'Zdrojová data'!$C$13","v":0},{"$f":"N471*'Zdrojová data'!$C$14","v":0},0,{"$f":"IF(H471=0,D471-'Výstupy modelu'!$C$7,IF(P471=1,J471-K471,0))","v":0},0,null,{"$f":"MAX(0,IF(Q471>0,Q471-('Výstupy modelu'!$H$10-'Výstupy modelu'!$H$9),0))","v":0},null,null,{"$f":"W470","v":1865.4300000000003},1885.4300000000003,0,{"$f":"MAX(0,D471-'Vstupní hodnoty'!$C$5)","v":0}]
[null,"2017-01-05T21:15:00",1,737.6400000000001,{"$f":"CEILING(IF(C472-C471=0,IF(H471=0,I471,IF(J471>K471,I471,E471)),'Výstupy modelu'!$C$7),1)","v":1664},0,0,{"$f":"IF(F472=1,IF(G472>'Zdrojová data'!$C$19,0,1),\"\")","v":""},1664,0,{"$f":"MIN(J472,'Zdrojová data'!$C$17)","v":0},0,{"$f":"L472/'Zdrojová data'!$C$16","v":0},{"$f":"M472*'Zdrojová data'!$C$13","v":0},{"$f":"N472*'Zdrojová data'!$C$14","v":0},0,{"$f":"IF(H472=0,D472-'Výstupy modelu'!$C$7,IF(P472=1,J472-K472,0))","v":0},0,null,{"$f":"MAX(0,IF(Q472>0,Q472-('Výstupy modelu'!$H$10-'Výstupy modelu'!$H$9),0))","v":0},null,null,{"$f":"W471","v":1865.4300000000003},1885.4300000000003,0,{"$f":"MAX(0,D472-'Vstupní hodnoty'!$C$5)","v":0}]
[null,"2017-01-05T21:30:00",1,679.32,{"$f":"CEILING(IF(C473-C472=0,IF(H472=0,I472,IF(J472>K472,I472,E472)),'Výstupy modelu'!$C$7),1)","v":1664},0,0,{"$f":"IF(F473=1,IF(G473>'Zdrojová data'!$C$19,0,1),\"\")","v":""},1664,0,{"$f":"MIN(J473,'Zdrojová data'!$C$17)","v":0},0,{"$f":"L473/'Zdrojová data'!$C$16","v":0},{"$f":"M473*'Zdrojová data'!$C$13","v":0},{"$f":"N473*'Zdrojová data'!$C$14","v":0},0,{"$f":"IF(H473=0,D473-'Výstupy modelu'!$C$7,IF(P473=1,J473-K473,0))","v":0},0,null,{"$f":"MAX(0,IF(Q473>0,Q473-('Výstupy modelu'!$H$10-'Výstupy modelu'!$H$9),0))","v":0},null,null,{"$f":"W472","v":1865.4300000000003},1885.4300000000003,0,{"$f":"MAX(0,D473-'Vstupní hodnoty'!$C$5)","v":0}]
[null,"2017-01-05T21:45:00",1,618.84,{"$f":"CEILING(IF(C474-C473=0,IF(H473=0,I473,IF(J473>K473,I473,E473)),'Výstupy modelu'!$C$7),1)","v":1664},0,0,{"$f":"IF(F474=1,IF(G474>'Zdrojová data'!$C$19,0,1),\"\")","v":""},1664,0,{"$f":"MIN(J474,'Zdrojová data'!$C$17)","v":0},0,{"$f":"L474/'Zdrojová data'!$C$16","v":0},{"$f":"M474*'Zdrojová data'!$C$13","v":0},{"$f":"N474*'Zdrojová data'!$C$14","v":0},0,{"$f":"IF(H474=0,D474-'Výstupy modelu'!$C$7,IF(P474=1,J474-K474,0))","v":0},0,null,{"$f":"MAX(0,IF(Q474>0,Q474-('Výstupy modelu'!$H$10-'Výstupy modelu'!$H$9),0))","v":0},null,null,{"$f":"W473","v":1865.4300000000003},1885.4300000000003,0,{"$f":"MAX(0,D474-'Vstupní hodnoty'!$C$5)","v":0}]
[null,"2017-01-05T22:00:00",1,560.52,{"$f":"CEILING(IF(C475-C474=0,IF(H474=0,I474,IF(J474>K474,I474,E474)),'Výstupy modelu'!$C$7),1)","v":1664},0,0,{"$f":"IF(F475=1,IF(G475>'Zdrojová data'!$C$19,0,1),\"\")","v":""},1664,0,{"$f":"MIN(J475,'Zdrojová data'!$C$17)","v":0},0,{"$f":"L475/'Zdrojová data'!$C$16","v":0},{"$f":"M475*'Zdrojová data'!$C$13","v":0},{"$f":"N475*'Zdrojová data'!$C$14","v":0},0,{"$f":"IF(H475=0,D475-'Výstupy modelu'!$C$7,IF(P475=1,J475-K475,0))","v":0},0,null,{"$f":"MAX(0,IF(Q475>0,Q475-('Výstupy modelu'!$H$10-'Výstupy modelu'!$H$9),0))","v":0},null,null,{"$f":"W474","v":1865.4300000000003},1885.4300000000003,0,{"$f":"MAX(0,D475-'Vstupní hodnoty'!$C$5)","v":0}]
[null,"2017-01-05T22:15:00",1,451.44000000000005,{"$f":"CEILING(IF(C476-C475=0,IF(H475=0,I475,IF(J475>K475,I475,E475)),'Výstupy modelu'!$C$7),1)","v":1664},0,0,{"$f":"IF(F476=1,IF(G476>'Zdrojová data'!$C$19,0,1),\"\")","v":""},1664,0,{"$f":"MIN(J476,'Zdrojová data'!$C$17)","v":0},0,{"$f":"L476/'Zdrojová data'!$C$16","v":0},{"$f":"M476*'Zdrojová data'!$C$13","v":0},{"$f":"N476*'Zdrojová data'!$C$14","v":0},0,{"$f":"IF(H476=0,D476-'Výstupy modelu'!$C$7,IF(P476=1,J476-K476,0))","v":0},0,null,{"$f":"MAX(0,IF(Q476>0,Q476-('Výstupy modelu'!$H$10-'Výstupy modelu'!$H$9),0))","v":0},null,null,{"$f":"W475","v":1865.4300000000003},1885.4300000000003,0,{"$f":"MAX(0,D476-'Vstupní hodnoty'!$C$5)","v":0}]
[null,"2017-01-05T22:30:00",1,430.92,{"$f":"CEILING(IF(C477-C476=0,IF(H476=0,I476,IF(J476>K476,I476,E476)),'Výstupy modelu'!$C$7),1)","v":1664},0,0,{"$f":"IF(F477=1,IF(G477>'Zdrojová data'!$C$19,0,1),\"\")","v":""},1664,0,{"$f":"MIN(J477,'Zdrojová data'!$C$17)","v":0},0,{"$f":"L477/'Zdrojová data'!$C$16","v":0},{"$f":"M477*'Zdrojová data'!$C$13","v":0},{"$f":"N477*'Zdrojová data'!$C$14","v":0},0,{"$f":"IF(H477=0,D477-'Výstupy modelu'!$C$7,IF(P477=1,J477-K477,0))","v":0},0,null,{"$f":"MAX(0,IF(Q477>0,Q477-('Výstupy modelu'!$H$10-'Výstupy modelu'!$H$9),0))","v":0},null,null,{"$f":"W476","v":1865.4300000000003},1885.4300000000003,0,{"$f":"MAX(0,D477-'Vstupní hodnoty'!$C$5)","v":0}]
[null,"2017-01-05T22:45:00",1,444.96000000000004,{"$f":"CEILING(IF(C478-C477=0,IF(H477=0,I477,IF(J477>K477,I477,E477)),'Výstupy modelu'!$C$7),1)","v":1664},0,0,{"$f":"IF(F478=1,IF(G478>'Zdrojová data'!$C$19,0,1),\"\")","v":""},1664,0,{"$f":"MIN(J478,'Zdrojová data'!$C$17)","v":0},0,{"$f":"L478/'Zdrojová data'!$C$16","v":0},{"$f":"M478*'Zdrojová data'!$C$13","v":0},{"$f":"N478*'Zdrojová data'!$C$14","v":0},0,{"$f":"IF(H478=0,D478-'Výstupy modelu'!$C$7,IF(P478=1,J478-K478,0))","v":0},0,null,{"$f":"MAX(0,IF(Q478>0,Q478-('Výstupy modelu'!$H$10-'Výstupy modelu'!$H$9),0))","v":0},null,null,{"$f":"W477","v":1865.4300000000003},1885.4300000000003,0,{"$f":"MAX(0,D478-'Vstupní hodnoty'!$C$5)","v":0}]
[null,"2017-01-05T23:00:00",1,436.32000000000005,{"$f":"CEILING(IF(C479-C478=0,IF(H478=0,I478,IF(J478>K478,I478,E478)),'Výstupy modelu'!$C$7),1)","v":1664},0,0,{"$f":"IF(F479=1,IF(G479>'Zdrojová data'!$C$19,0,1),\"\")","v":""},1664,0,{"$f":"MIN(J479,'Zdrojová data'!$C$17)","v":0},0,{"$f":"L479/'Zdrojová data'!$C$16","v":0},{"$f":"M479*'Zdrojová data'!$C$13","v":0},{"$f":"N479*'Zdrojová data'!$C$14","v":0},0,{"$f":"IF(H479=0,D479-'Výstupy modelu'!$C$7,IF(P479=1,J479-K479,0))","v":0},0,null,{"$f":"MAX(0,IF(Q479>0,Q479-('Výstupy modelu'!$H$10-'Výstupy modelu'!$H$9),0))","v":0},null,null,{"$f":"W478","v":1865.4300000000003},1885.4300000000003,0,{"$f":"MAX(0,D479-'Vstupní hodnoty'!$C$5)","v":0}]
[null,"2017-01-05T23:15:00",1,437.40000000000003,{"$f":"CEILING(IF(C480-C479=0,IF(H479=0,I479,IF(J479>K479,I479,E479)),'Výstupy modelu'!$C$7),1)","v":1664},0,0,{"$f":"IF(F480=1,IF(G480>'Zdrojová data'!$C$19,0,1),\"\")","v":""},1664,0,{"$f":"MIN(J480,'Zdrojová data'!$C$17)","v":0},0,{"$f":"L480/'Zdrojová data'!$C$16","v":0},{"$f":"M480*'Zdrojová data'!$C$13","v":0},{"$f":"N480*'Zdrojová data'!$C$14","v":0},0,{"$f":"IF(H480=0,D480-'Výstupy modelu'!$C$7,IF(P480=1,J480-K480,0))","v":0},0,null,{"$f":"MAX(0,IF(Q480>0,Q480-('Výstupy modelu'!$H$10-'Výstupy modelu'!$H$9),0))","v":0},null,null,{"$f":"W479","v":1865.4300000000003},1885.4300000000003,0,{"$f":"MAX(0,D480-'Vstupní hodnoty'!$C$5)","v":0}]
[null,"2017-01-05T23:30:00",1,457.92,{"$f":"CEILING(IF(C481-C480=0,IF(H480=0,I480,IF(J480>K480,I480,E480)),'Výstupy modelu'!$C$7),1)","v":1664},0,0,{"$f":"IF(F481=1,IF(G481>'Zdrojová data'!$C$19,0,1),\"\")","v":""},1664,0,{"$f":"MIN(J481,'Zdrojová data'!$C$17)","v":0},0,{"$f":"L481/'Zdrojová data'!$C$16","v":0},{"$f":"M481*'Zdrojová data'!$C$13","v":0},{"$f":"N481*'Zdrojová data'!$C$14","v":0},0,{"$f":"IF(H481=0,D481-'Výstupy modelu'!$C$7,IF(P481=1,J481-K481,0))","v":0},0,null,{"$f":"MAX(0,IF(Q481>0,Q481-('Výstupy modelu'!$H$10-'Výstupy modelu'!$H$9),0))","v":0},null,null,{"$f":"W480","v":1865.4300000000003},1885.4300000000003,0,{"$f":"MAX(0,D481-'Vstupní hodnoty'!$C$5)","v":0}]
[null,"2017-01-05T23:45:00",1,438.48,{"$f":"CEILING(IF(C482-C481=0,IF(H481=0,I481,IF(J481>K481,I481,E481)),'Výstupy modelu'!$C$7),1)","v":1664},0,0,{"$f":"IF(F482=1,IF(G482>'Zdrojová data'!$C$19,0,1),\"\")","v":""},1664,0,{"$f":"MIN(J482,'Zdrojová data'!$C$17)","v":0},0,{"$f":"L482/'Zdrojová data'!$C$16","v":0},{"$f":"M482*'Zdrojová data'!$C$13","v":0},{"$f":"N482*'Zdrojová data'!$C$14","v":0},0,{"$f":"IF(H482=0,D482-'Výstupy modelu'!$C$7,IF(P482=1,J482-K482,0))","v":0},0,null,{"$f":"MAX(0,IF(Q482>0,Q482-('Výstupy modelu'!$H$10-'Výstupy modelu'!$H$9),0))","v":0},null,null,{"$f":"W481","v":1865.4300000000003},1885.4300000000003,0,{"$f":"MAX(0,D482-'Vstupní hodnoty'!$C$5)","v":0}]
[null,"2017-01-06",1,426.6,{"$f":"CEILING(IF(C483-C482=0,IF(H482=0,I482,IF(J482>K482,I482,E482)),'Výstupy modelu'!$C$7),1)","v":1664},0,0,{"$f":"IF(F483=1,IF(G483>'Zdrojová data'!$C$19,0,1),\"\")","v":""},1664,0,{"$f":"MIN(J483,'Zdrojová data'!$C$17)","v":0},0,{"$f":"L483/'Zdrojová data'!$C$16","v":0},{"$f":"M483*'Zdrojová data'!$C$13","v":0},{"$f":"N483*'Zdrojová data'!$C$14","v":0},0,{"$f":"IF(H483=0,D483-'Výstupy modelu'!$C$7,IF(P483=1,J483-K483,0))","v":0},0,null,{"$f":"MAX(0,IF(Q483>0,Q483-('Výstupy modelu'!$H$10-'Výstupy modelu'!$H$9),0))","v":0},null,null,{"$f":"W482","v":1865.4300000000003},1885.4300000000003,0,{"$f":"MAX(0,D483-'Vstupní hodnoty'!$C$5)","v":0}]
[null,"2017-01-06T00:15:00",1,406.08000000000004,{"$f":"CEILING(IF(C484-C483=0,IF(H483=0,I483,IF(J483>K483,I483,E483)),'Výstupy modelu'!$C$7),1)","v":1664},0,0,{"$f":"IF(F484=1,IF(G484>'Zdrojová data'!$C$19,0,1),\"\")","v":""},1664,0,{"$f":"MIN(J484,'Zdrojová data'!$C$17)","v":0},0,{"$f":"L484/'Zdrojová data'!$C$16","v":0},{"$f":"M484*'Zdrojová data'!$C$13","v":0},{"$f":"N484*'Zdrojová data'!$C$14","v":0},0,{"$f":"IF(H484=0,D484-'Výstupy modelu'!$C$7,IF(P484=1,J484-K484,0))","v":0},0,null,{"$f":"MAX(0,IF(Q484>0,Q484-('Výstupy modelu'!$H$10-'Výstupy modelu'!$H$9),0))","v":0},null,null,{"$f":"W483","v":1865.4300000000003},1885.4300000000003,0,{"$f":"MAX(0,D484-'Vstupní hodnoty'!$C$5)","v":0}]
[null,"2017-01-06T00:30:00",1,403.92,{"$f":"CEILING(IF(C485-C484=0,IF(H484=0,I484,IF(J484>K484,I484,E484)),'Výstupy modelu'!$C$7),1)","v":1664},0,0,{"$f":"IF(F485=1,IF(G485>'Zdrojová data'!$C$19,0,1),\"\")","v":""},1664,0,{"$f":"MIN(J485,'Zdrojová data'!$C$17)","v":0},0,{"$f":"L485/'Zdrojová data'!$C$16","v":0},{"$f":"M485*'Zdrojová data'!$C$13","v":0},{"$f":"N485*'Zdrojová data'!$C$14","v":0},0,{"$f":"IF(H485=0,D485-'Výstupy modelu'!$C$7,IF(P485=1,J485-K485,0))","v":0},0,null,{"$f":"MAX(0,IF(Q485>0,Q485-('Výstupy modelu'!$H$10-'Výstupy modelu'!$H$9),0))","v":0},null,null,{"$f":"W484","v":1865.4300000000003},1885.4300000000003,0,{"$f":"MAX(0,D485-'Vstupní hodnoty'!$C$5)","v":0}]
[null,"2017-01-06T00:45:00",1,408.24,{"$f":"CEILING(IF(C486-C485=0,IF(H485=0,I485,IF(J485>K485,I485,E485)),'Výstupy modelu'!$C$7),1)","v":1664},0,0,{"$f":"IF(F486=1,IF(G486>'Zdrojová data'!$C$19,0,1),\"\")","v":""},1664,0,{"$f":"MIN(J486,'Zdrojová data'!$C$17)","v":0},0,{"$f":"L486/'Zdrojová data'!$C$16","v":0},{"$f":"M486*'Zdrojová data'!$C$13","v":0},{"$f":"N486*'Zdrojová data'!$C$14","v":0},0,{"$f":"IF(H486=0,D486-'Výstupy modelu'!$C$7,IF(P486=1,J486-K486,0))","v":0},0,null,{"$f":"MAX(0,IF(Q486>0,Q486-('Výstupy modelu'!$H$10-'Výstupy modelu'!$H$9),0))","v":0},null,null,{"$f":"W485","v":1865.4300000000003},1885.4300000000003,0,{"$f":"MAX(0,D486-'Vstupní hodnoty'!$C$5)","v":0}]
[null,"2017-01-06T01:00:00",1,420.12,{"$f":"CEILING(IF(C487-C486=0,IF(H486=0,I486,IF(J486>K486,I486,E486)),'Výstupy modelu'!$C$7),1)","v":1664},0,0,{"$f":"IF(F487=1,IF(G487>'Zdrojová data'!$C$19,0,1),\"\")","v":""},1664,0,{"$f":"MIN(J487,'Zdrojová data'!$C$17)","v":0},0,{"$f":"L487/'Zdrojová data'!$C$16","v":0},{"$f":"M487*'Zdrojová data'!$C$13","v":0},{"$f":"N487*'Zdrojová data'!$C$14","v":0},0,{"$f":"IF(H487=0,D487-'Výstupy modelu'!$C$7,IF(P487=1,J487-K487,0))","v":0},0,null,{"$f":"MAX(0,IF(Q487>0,Q487-('Výstupy modelu'!$H$10-'Výstupy modelu'!$H$9),0))","v":0},null,null,{"$f":"W486","v":1865.4300000000003},1885.4300000000003,0,{"$f":"MAX(0,D487-'Vstupní hodnoty'!$C$5)","v":0}]
[null,"2017-01-06T01:15:00",1,408.24,{"$f":"CEILING(IF(C488-C487=0,IF(H487=0,I487,IF(J487>K487,I487,E487)),'Výstupy modelu'!$C$7),1)","v":1664},0,0,{"$f":"IF(F488=1,IF(G488>'Zdrojová data'!$C$19,0,1),\"\")","v":""},1664,0,{"$f":"MIN(J488,'Zdrojová data'!$C$17)","v":0},0,{"$f":"L488/'Zdrojová data'!$C$16","v":0},{"$f":"M488*'Zdrojová data'!$C$13","v":0},{"$f":"N488*'Zdrojová data'!$C$14","v":0},0,{"$f":"IF(H488=0,D488-'Výstupy modelu'!$C$7,IF(P488=1,J488-K488,0))","v":0},0,null,{"$f":"MAX(0,IF(Q488>0,Q488-('Výstupy modelu'!$H$10-'Výstupy modelu'!$H$9),0))","v":0},null,null,{"$f":"W487","v":1865.4300000000003},1885.4300000000003,0,{"$f":"MAX(0,D488-'Vstupní hodnoty'!$C$5)","v":0}]
[null,"2017-01-06T01:30:00",1,403.92,{"$f":"CEILING(IF(C489-C488=0,IF(H488=0,I488,IF(J488>K488,I488,E488)),'Výstupy modelu'!$C$7),1)","v":1664},0,0,{"$f":"IF(F489=1,IF(G489>'Zdrojová data'!$C$19,0,1),\"\")","v":""},1664,0,{"$f":"MIN(J489,'Zdrojová data'!$C$17)","v":0},0,{"$f":"L489/'Zdrojová data'!$C$16","v":0},{"$f":"M489*'Zdrojová data'!$C$13","v":0},{"$f":"N489*'Zdrojová data'!$C$14","v":0},0,{"$f":"IF(H489=0,D489-'Výstupy modelu'!$C$7,IF(P489=1,J489-K489,0))","v":0},0,null,{"$f":"MAX(0,IF(Q489>0,Q489-('Výstupy modelu'!$H$10-'Výstupy modelu'!$H$9),0))","v":0},null,null,{"$f":"W488","v":1865.4300000000003},1885.4300000000003,0,{"$f":"MAX(0,D489-'Vstupní hodnoty'!$C$5)","v":0}]
[null,"2017-01-06T01:45:00",1,419.04,{"$f":"CEILING(IF(C490-C489=0,IF(H489=0,I489,IF(J489>K489,I489,E489)),'Výstupy modelu'!$C$7),1)","v":1664},0,0,{"$f":"IF(F490=1,IF(G490>'Zdrojová data'!$C$19,0,1),\"\")","v":""},1664,0,{"$f":"MIN(J490,'Zdrojová data'!$C$17)","v":0},0,{"$f":"L490/'Zdrojová data'!$C$16","v":0},{"$f":"M490*'Zdrojová data'!$C$13","v":0},{"$f":"N490*'Zdrojová data'!$C$14","v":0},0,{"$f":"IF(H490=0,D490-'Výstupy modelu'!$C$7,IF(P490=1,J490-K490,0))","v":0},0,null,{"$f":"MAX(0,IF(Q490>0,Q490-('Výstupy modelu'!$H$10-'Výstupy modelu'!$H$9),0))","v":0},null,null,{"$f":"W489","v":1865.4300000000003},1885.4300000000003,0,{"$f":"MAX(0,D490-'Vstupní hodnoty'!$C$5)","v":0}]
[null,"2017-01-06T02:00:00",1,498.96000000000004,{"$f":"CEILING(IF(C491-C490=0,IF(H490=0,I490,IF(J490>K490,I490,E490)),'Výstupy modelu'!$C$7),1)","v":1664},0,0,{"$f":"IF(F491=1,IF(G491>'Zdrojová data'!$C$19,0,1),\"\")","v":""},1664,0,{"$f":"MIN(J491,'Zdrojová data'!$C$17)","v":0},0,{"$f":"L491/'Zdrojová data'!$C$16","v":0},{"$f":"M491*'Zdrojová data'!$C$13","v":0},{"$f":"N491*'Zdrojová data'!$C$14","v":0},0,{"$f":"IF(H491=0,D491-'Výstupy modelu'!$C$7,IF(P491=1,J491-K491,0))","v":0},0,null,{"$f":"MAX(0,IF(Q491>0,Q491-('Výstupy modelu'!$H$10-'Výstupy modelu'!$H$9),0))","v":0},null,null,{"$f":"W490","v":1865.4300000000003},1885.4300000000003,0,{"$f":"MAX(0,D491-'Vstupní hodnoty'!$C$5)","v":0}]
[null,"2017-01-06T02:15:00",1,519.48,{"$f":"CEILING(IF(C492-C491=0,IF(H491=0,I491,IF(J491>K491,I491,E491)),'Výstupy modelu'!$C$7),1)","v":1664},0,0,{"$f":"IF(F492=1,IF(G492>'Zdrojová data'!$C$19,0,1),\"\")","v":""},1664,0,{"$f":"MIN(J492,'Zdrojová data'!$C$17)","v":0},0,{"$f":"L492/'Zdrojová data'!$C$16","v":0},{"$f":"M492*'Zdrojová data'!$C$13","v":0},{"$f":"N492*'Zdrojová data'!$C$14","v":0},0,{"$f":"IF(H492=0,D492-'Výstupy modelu'!$C$7,IF(P492=1,J492-K492,0))","v":0},0,null,{"$f":"MAX(0,IF(Q492>0,Q492-('Výstupy modelu'!$H$10-'Výstupy modelu'!$H$9),0))","v":0},null,null,{"$f":"W491","v":1865.4300000000003},1885.4300000000003,0,{"$f":"MAX(0,D492-'Vstupní hodnoty'!$C$5)","v":0}]
[null,"2017-01-06T02:30:00",1,544.32000000000005,{"$f":"CEILING(IF(C493-C492=0,IF(H492=0,I492,IF(J492>K492,I492,E492)),'Výstupy modelu'!$C$7),1)","v":1664},0,0,{"$f":"IF(F493=1,IF(G493>'Zdrojová data'!$C$19,0,1),\"\")","v":""},1664,0,{"$f":"MIN(J493,'Zdrojová data'!$C$17)","v":0},0,{"$f":"L493/'Zdrojová data'!$C$16","v":0},{"$f":"M493*'Zdrojová data'!$C$13","v":0},{"$f":"N493*'Zdrojová data'!$C$14","v":0},0,{"$f":"IF(H493=0,D493-'Výstupy modelu'!$C$7,IF(P493=1,J493-K493,0))","v":0},0,null,{"$f":"MAX(0,IF(Q493>0,Q493-('Výstupy modelu'!$H$10-'Výstupy modelu'!$H$9),0))","v":0},null,null,{"$f":"W492","v":1865.4300000000003},1885.4300000000003,0,{"$f":"MAX(0,D493-'Vstupní hodnoty'!$C$5)","v":0}]
[null,"2017-01-06T02:45:00",1,535.68000000000006,{"$f":"CEILING(IF(C494-C493=0,IF(H493=0,I493,IF(J493>K493,I493,E493)),'Výstupy modelu'!$C$7),1)","v":1664},0,0,{"$f":"IF(F494=1,IF(G494>'Zdrojová data'!$C$19,0,1),\"\")","v":""},1664,0,{"$f":"MIN(J494,'Zdrojová data'!$C$17)","v":0},0,{"$f":"L494/'Zdrojová data'!$C$16","v":0},{"$f":"M494*'Zdrojová data'!$C$13","v":0},{"$f":"N494*'Zdrojová data'!$C$14","v":0},0,{"$f":"IF(H494=0,D494-'Výstupy modelu'!$C$7,IF(P494=1,J494-K494,0))","v":0},0,null,{"$f":"MAX(0,IF(Q494>0,Q494-('Výstupy modelu'!$H$10-'Výstupy modelu'!$H$9),0))","v":0},null,null,{"$f":"W493","v":1865.4300000000003},1885.4300000000003,0,{"$f":"MAX(0,D494-'Vstupní hodnoty'!$C$5)","v":0}]
[null,"2017-01-06T03:00:00",1,546.48,{"$f":"CEILING(IF(C495-C494=0,IF(H494=0,I494,IF(J494>K494,I494,E494)),'Výstupy modelu'!$C$7),1)","v":1664},0,0,{"$f":"IF(F495=1,IF(G495>'Zdrojová data'!$C$19,0,1),\"\")","v":""},1664,0,{"$f":"MIN(J495,'Zdrojová data'!$C$17)","v":0},0,{"$f":"L495/'Zdrojová data'!$C$16","v":0},{"$f":"M495*'Zdrojová data'!$C$13","v":0},{"$f":"N495*'Zdrojová data'!$C$14","v":0},0,{"$f":"IF(H495=0,D495-'Výstupy modelu'!$C$7,IF(P495=1,J495-K495,0))","v":0},0,null,{"$f":"MAX(0,IF(Q495>0,Q495-('Výstupy modelu'!$H$10-'Výstupy modelu'!$H$9),0))","v":0},null,null,{"$f":"W494","v":1865.4300000000003},1885.4300000000003,0,{"$f":"MAX(0,D495-'Vstupní hodnoty'!$C$5)","v":0}]
[null,"2017-01-06T03:15:00",1,570.24,{"$f":"CEILING(IF(C496-C495=0,IF(H495=0,I495,IF(J495>K495,I495,E495)),'Výstupy modelu'!$C$7),1)","v":1664},0,0,{"$f":"IF(F496=1,IF(G496>'Zdrojová data'!$C$19,0,1),\"\")","v":""},1664,0,{"$f":"MIN(J496,'Zdrojová data'!$C$17)","v":0},0,{"$f":"L496/'Zdrojová data'!$C$16","v":0},{"$f":"M496*'Zdrojová data'!$C$13","v":0},{"$f":"N496*'Zdrojová data'!$C$14","v":0},0,{"$f":"IF(H496=0,D496-'Výstupy modelu'!$C$7,IF(P496=1,J496-K496,0))","v":0},0,null,{"$f":"MAX(0,IF(Q496>0,Q496-('Výstupy modelu'!$H$10-'Výstupy modelu'!$H$9),0))","v":0},null,null,{"$f":"W495","v":1865.4300000000003},1885.4300000000003,0,{"$f":"MAX(0,D496-'Vstupní hodnoty'!$C$5)","v":0}]
[null,"2017-01-06T03:30:00",1,503.28000000000003,{"$f":"CEILING(IF(C497-C496=0,IF(H496=0,I496,IF(J496>K496,I496,E496)),'Výstupy modelu'!$C$7),1)","v":1664},0,0,{"$f":"IF(F497=1,IF(G497>'Zdrojová data'!$C$19,0,1),\"\")","v":""},1664,0,{"$f":"MIN(J497,'Zdrojová data'!$C$17)","v":0},0,{"$f":"L497/'Zdrojová data'!$C$16","v":0},{"$f":"M497*'Zdrojová data'!$C$13","v":0},{"$f":"N497*'Zdrojová data'!$C$14","v":0},0,{"$f":"IF(H497=0,D497-'Výstupy modelu'!$C$7,IF(P497=1,J497-K497,0))","v":0},0,null,{"$f":"MAX(0,IF(Q497>0,Q497-('Výstupy modelu'!$H$10-'Výstupy modelu'!$H$9),0))","v":0},null,null,{"$f":"W496","v":1865.4300000000003},1885.4300000000003,{"$f":"MAX(0,D497-W497)","v":0},{"$f":"MAX(0,D497-'Vstupní hodnoty'!$C$5)","v":0}]
[null,"2017-01-06T03:45:00",1,507.6,{"$f":"CEILING(IF(C498-C497=0,IF(H497=0,I497,IF(J497>K497,I497,E497)),'Výstupy modelu'!$C$7),1)","v":1664},0,0,{"$f":"IF(F498=1,IF(G498>'Zdrojová data'!$C$19,0,1),\"\")","v":""},1664,0,{"$f":"MIN(J498,'Zdrojová data'!$C$17)","v":0},0,{"$f":"L498/'Zdrojová data'!$C$16","v":0},{"$f":"M498*'Zdrojová data'!$C$13","v":0},{"$f":"N498*'Zdrojová data'!$C$14","v":0},0,{"$f":"IF(H498=0,D498-'Výstupy modelu'!$C$7,IF(P498=1,J498-K498,0))","v":0},0,null,{"$f":"MAX(0,IF(Q498>0,Q498-('Výstupy modelu'!$H$10-'Výstupy modelu'!$H$9),0))","v":0},null,null,{"$f":"W497","v":1865.4300000000003},1885.4300000000003,0,{"$f":"MAX(0,D498-'Vstupní hodnoty'!$C$5)","v":0}]
[null,"2017-01-06T04:00:00",1,494.64000000000004,{"$f":"CEILING(IF(C499-C498=0,IF(H498=0,I498,IF(J498>K498,I498,E498)),'Výstupy modelu'!$C$7),1)","v":1664},0,0,{"$f":"IF(F499=1,IF(G499>'Zdrojová data'!$C$19,0,1),\"\")","v":""},1664,0,{"$f":"MIN(J499,'Zdrojová data'!$C$17)","v":0},0,{"$f":"L499/'Zdrojová data'!$C$16","v":0},{"$f":"M499*'Zdrojová data'!$C$13","v":0},{"$f":"N499*'Zdrojová data'!$C$14","v":0},0,{"$f":"IF(H499=0,D499-'Výstupy modelu'!$C$7,IF(P499=1,J499-K499,0))","v":0},0,null,{"$f":"MAX(0,IF(Q499>0,Q499-('Výstupy modelu'!$H$10-'Výstupy modelu'!$H$9),0))","v":0},null,null,{"$f":"W498","v":1865.4300000000003},1885.4300000000003,0,{"$f":"MAX(0,D499-'Vstupní hodnoty'!$C$5)","v":0}]
[null,"2017-01-06T04:15:00",1,575.64,{"$f":"CEILING(IF(C500-C499=0,IF(H499=0,I499,IF(J499>K499,I499,E499)),'Výstupy modelu'!$C$7),1)","v":1664},0,0,{"$f":"IF(F500=1,IF(G500>'Zdrojová data'!$C$19,0,1),\"\")","v":""},1664,0,{"$f":"MIN(J500,'Zdrojová data'!$C$17)","v":0},0,{"$f":"L500/'Zdrojová data'!$C$16","v":0},{"$f":"M500*'Zdrojová data'!$C$13","v":0},{"$f":"N500*'Zdrojová data'!$C$14","v":0},0,{"$f":"IF(H500=0,D500-'Výstupy modelu'!$C$7,IF(P500=1,J500-K500,0))","v":0},0,null,{"$f":"MAX(0,IF(Q500>0,Q500-('Výstupy modelu'!$H$10-'Výstupy modelu'!$H$9),0))","v":0},null,null,{"$f":"W499","v":1865.4300000000003},1885.4300000000003,0,{"$f":"MAX(0,D500-'Vstupní hodnoty'!$C$5)","v":0}]
[null,"2017-01-06T04:30:00",1,573.48,{"$f":"CEILING(IF(C501-C500=0,IF(H500=0,I500,IF(J500>K500,I500,E500)),'Výstupy modelu'!$C$7),1)","v":1664},0,0,{"$f":"IF(F501=1,IF(G501>'Zdrojová data'!$C$19,0,1),\"\")","v":""},1664,0,{"$f":"MIN(J501,'Zdrojová data'!$C$17)","v":0},0,{"$f":"L501/'Zdrojová data'!$C$16","v":0},{"$f":"M501*'Zdrojová data'!$C$13","v":0},{"$f":"N501*'Zdrojová data'!$C$14","v":0},0,{"$f":"IF(H501=0,D501-'Výstupy modelu'!$C$7,IF(P501=1,J501-K501,0))","v":0},0,null,{"$f":"MAX(0,IF(Q501>0,Q501-('Výstupy modelu'!$H$10-'Výstupy modelu'!$H$9),0))","v":0},null,null,{"$f":"W500","v":1865.4300000000003},1885.4300000000003,0,{"$f":"MAX(0,D501-'Vstupní hodnoty'!$C$5)","v":0}]
[null,"2017-01-06T04:45:00",1,589.68000000000006,{"$f":"CEILING(IF(C502-C501=0,IF(H501=0,I501,IF(J501>K501,I501,E501)),'Výstupy modelu'!$C$7),1)","v":1664},0,0,{"$f":"IF(F502=1,IF(G502>'Zdrojová data'!$C$19,0,1),\"\")","v":""},1664,0,{"$f":"MIN(J502,'Zdrojová data'!$C$17)","v":0},0,{"$f":"L502/'Zdrojová data'!$C$16","v":0},{"$f":"M502*'Zdrojová data'!$C$13","v":0},{"$f":"N502*'Zdrojová data'!$C$14","v":0},0,{"$f":"IF(H502=0,D502-'Výstupy modelu'!$C$7,IF(P502=1,J502-K502,0))","v":0},0,null,{"$f":"MAX(0,IF(Q502>0,Q502-('Výstupy modelu'!$H$10-'Výstupy modelu'!$H$9),0))","v":0},null,null,{"$f":"W501","v":1865.4300000000003},1885.4300000000003,0,{"$f":"MAX(0,D502-'Vstupní hodnoty'!$C$5)","v":0}]
[null,"2017-01-06T05:00:00",1,675,{"$f":"CEILING(IF(C503-C502=0,IF(H502=0,I502,IF(J502>K502,I502,E502)),'Výstupy modelu'!$C$7),1)","v":1664},0,0,{"$f":"IF(F503=1,IF(G503>'Zdrojová data'!$C$19,0,1),\"\")","v":""},1664,0,{"$f":"MIN(J503,'Zdrojová data'!$C$17)","v":0},0,{"$f":"L503/'Zdrojová data'!$C$16","v":0},{"$f":"M503*'Zdrojová data'!$C$13","v":0},{"$f":"N503*'Zdrojová data'!$C$14","v":0},0,{"$f":"IF(H503=0,D503-'Výstupy modelu'!$C$7,IF(P503=1,J503-K503,0))","v":0},0,null,{"$f":"MAX(0,IF(Q503>0,Q503-('Výstupy modelu'!$H$10-'Výstupy modelu'!$H$9),0))","v":0},null,null,{"$f":"W502","v":1865.4300000000003},1885.4300000000003,0,{"$f":"MAX(0,D503-'Vstupní hodnoty'!$C$5)","v":0}]
[null,"2017-01-06T05:15:00",1,729,{"$f":"CEILING(IF(C504-C503=0,IF(H503=0,I503,IF(J503>K503,I503,E503)),'Výstupy modelu'!$C$7),1)","v":1664},0,0,{"$f":"IF(F504=1,IF(G504>'Zdrojová data'!$C$19,0,1),\"\")","v":""},1664,0,{"$f":"MIN(J504,'Zdrojová data'!$C$17)","v":0},0,{"$f":"L504/'Zdrojová data'!$C$16","v":0},{"$f":"M504*'Zdrojová data'!$C$13","v":0},{"$f":"N504*'Zdrojová data'!$C$14","v":0},0,{"$f":"IF(H504=0,D504-'Výstupy modelu'!$C$7,IF(P504=1,J504-K504,0))","v":0},0,null,{"$f":"MAX(0,IF(Q504>0,Q504-('Výstupy modelu'!$H$10-'Výstupy modelu'!$H$9),0))","v":0},null,null,{"$f":"W503","v":1865.4300000000003},1885.4300000000003,0,{"$f":"MAX(0,D504-'Vstupní hodnoty'!$C$5)","v":0}]
[null,"2017-01-06T05:30:00",1,756,{"$f":"CEILING(IF(C505-C504=0,IF(H504=0,I504,IF(J504>K504,I504,E504)),'Výstupy modelu'!$C$7),1)","v":1664},0,0,{"$f":"IF(F505=1,IF(G505>'Zdrojová data'!$C$19,0,1),\"\")","v":""},1664,0,{"$f":"MIN(J505,'Zdrojová data'!$C$17)","v":0},0,{"$f":"L505/'Zdrojová data'!$C$16","v":0},{"$f":"M505*'Zdrojová data'!$C$13","v":0},{"$f":"N505*'Zdrojová data'!$C$14","v":0},0,{"$f":"IF(H505=0,D505-'Výstupy modelu'!$C$7,IF(P505=1,J505-K505,0))","v":0},0,null,{"$f":"MAX(0,IF(Q505>0,Q505-('Výstupy modelu'!$H$10-'Výstupy modelu'!$H$9),0))","v":0},null,null,{"$f":"W504","v":1865.4300000000003},1885.4300000000003,0,{"$f":"MAX(0,D505-'Vstupní hodnoty'!$C$5)","v":0}]
[null,"2017-01-06T05:45:00",1,802.44,{"$f":"CEILING(IF(C506-C505=0,IF(H505=0,I505,IF(J505>K505,I505,E505)),'Výstupy modelu'!$C$7),1)","v":1664},0,0,{"$f":"IF(F506=1,IF(G506>'Zdrojová data'!$C$19,0,1),\"\")","v":""},1664,0,{"$f":"MIN(J506,'Zdrojová data'!$C$17)","v":0},0,{"$f":"L506/'Zdrojová data'!$C$16","v":0},{"$f":"M506*'Zdrojová data'!$C$13","v":0},{"$f":"N506*'Zdrojová data'!$C$14","v":0},0,{"$f":"IF(H506=0,D506-'Výstupy modelu'!$C$7,IF(P506=1,J506-K506,0))","v":0},0,null,{"$f":"MAX(0,IF(Q506>0,Q506-('Výstupy modelu'!$H$10-'Výstupy modelu'!$H$9),0))","v":0},null,null,{"$f":"W505","v":1865.4300000000003},1885.4300000000003,0,{"$f":"MAX(0,D506-'Vstupní hodnoty'!$C$5)","v":0}]
[null,"2017-01-06T06:00:00",1,1126.44,{"$f":"CEILING(IF(C507-C506=0,IF(H506=0,I506,IF(J506>K506,I506,E506)),'Výstupy modelu'!$C$7),1)","v":1664},0,0,{"$f":"IF(F507=1,IF(G507>'Zdrojová data'!$C$19,0,1),\"\")","v":""},1664,0,{"$f":"MIN(J507,'Zdrojová data'!$C$17)","v":0},0,{"$f":"L507/'Zdrojová data'!$C$16","v":0},{"$f":"M507*'Zdrojová data'!$C$13","v":0},{"$f":"N507*'Zdrojová data'!$C$14","v":0},0,{"$f":"IF(H507=0,D507-'Výstupy modelu'!$C$7,IF(P507=1,J507-K507,0))","v":0},0,null,{"$f":"MAX(0,IF(Q507>0,Q507-('Výstupy modelu'!$H$10-'Výstupy modelu'!$H$9),0))","v":0},null,null,{"$f":"W506","v":1865.4300000000003},1885.4300000000003,0,{"$f":"MAX(0,D507-'Vstupní hodnoty'!$C$5)","v":0}]
[null,"2017-01-06T06:15:00",1,1406.16,{"$f":"CEILING(IF(C508-C507=0,IF(H507=0,I507,IF(J507>K507,I507,E507)),'Výstupy modelu'!$C$7),1)","v":1664},0,0,{"$f":"IF(F508=1,IF(G508>'Zdrojová data'!$C$19,0,1),\"\")","v":""},1664,0,{"$f":"MIN(J508,'Zdrojová data'!$C$17)","v":0},0,{"$f":"L508/'Zdrojová data'!$C$16","v":0},{"$f":"M508*'Zdrojová data'!$C$13","v":0},{"$f":"N508*'Zdrojová data'!$C$14","v":0},0,{"$f":"IF(H508=0,D508-'Výstupy modelu'!$C$7,IF(P508=1,J508-K508,0))","v":0},0,null,{"$f":"MAX(0,IF(Q508>0,Q508-('Výstupy modelu'!$H$10-'Výstupy modelu'!$H$9),0))","v":0},null,null,{"$f":"W507","v":1865.4300000000003},1885.4300000000003,0,{"$f":"MAX(0,D508-'Vstupní hodnoty'!$C$5)","v":0}]
[null,"2017-01-06T06:30:00",1,1408.3200000000002,{"$f":"CEILING(IF(C509-C508=0,IF(H508=0,I508,IF(J508>K508,I508,E508)),'Výstupy modelu'!$C$7),1)","v":1664},0,0,{"$f":"IF(F509=1,IF(G509>'Zdrojová data'!$C$19,0,1),\"\")","v":""},1664,0,{"$f":"MIN(J509,'Zdrojová data'!$C$17)","v":0},0,{"$f":"L509/'Zdrojová data'!$C$16","v":0},{"$f":"M509*'Zdrojová data'!$C$13","v":0},{"$f":"N509*'Zdrojová data'!$C$14","v":0},0,{"$f":"IF(H509=0,D509-'Výstupy modelu'!$C$7,IF(P509=1,J509-K509,0))","v":0},0,null,{"$f":"MAX(0,IF(Q509>0,Q509-('Výstupy modelu'!$H$10-'Výstupy modelu'!$H$9),0))","v":0},null,null,{"$f":"W508","v":1865.4300000000003},1885.4300000000003,0,{"$f":"MAX(0,D509-'Vstupní hodnoty'!$C$5)","v":0}]
[null,"2017-01-06T06:45:00",1,1450.44,{"$f":"CEILING(IF(C510-C509=0,IF(H509=0,I509,IF(J509>K509,I509,E509)),'Výstupy modelu'!$C$7),1)","v":1664},0,0,{"$f":"IF(F510=1,IF(G510>'Zdrojová data'!$C$19,0,1),\"\")","v":""},1664,0,{"$f":"MIN(J510,'Zdrojová data'!$C$17)","v":0},0,{"$f":"L510/'Zdrojová data'!$C$16","v":0},{"$f":"M510*'Zdrojová data'!$C$13","v":0},{"$f":"N510*'Zdrojová data'!$C$14","v":0},0,{"$f":"IF(H510=0,D510-'Výstupy modelu'!$C$7,IF(P510=1,J510-K510,0))","v":0},0,null,{"$f":"MAX(0,IF(Q510>0,Q510-('Výstupy modelu'!$H$10-'Výstupy modelu'!$H$9),0))","v":0},null,null,{"$f":"W509","v":1865.4300000000003},1885.4300000000003,0,{"$f":"MAX(0,D510-'Vstupní hodnoty'!$C$5)","v":0}]
[null,"2017-01-06T07:00:00",1,1432.0800000000002,{"$f":"CEILING(IF(C511-C510=0,IF(H510=0,I510,IF(J510>K510,I510,E510)),'Výstupy modelu'!$C$7),1)","v":1664},0,0,{"$f":"IF(F511=1,IF(G511>'Zdrojová data'!$C$19,0,1),\"\")","v":""},1664,0,{"$f":"MIN(J511,'Zdrojová data'!$C$17)","v":0},0,{"$f":"L511/'Zdrojová data'!$C$16","v":0},{"$f":"M511*'Zdrojová data'!$C$13","v":0},{"$f":"N511*'Zdrojová data'!$C$14","v":0},0,{"$f":"IF(H511=0,D511-'Výstupy modelu'!$C$7,IF(P511=1,J511-K511,0))","v":0},0,null,{"$f":"MAX(0,IF(Q511>0,Q511-('Výstupy modelu'!$H$10-'Výstupy modelu'!$H$9),0))","v":0},null,null,{"$f":"W510","v":1865.4300000000003},1885.4300000000003,0,{"$f":"MAX(0,D511-'Vstupní hodnoty'!$C$5)","v":0}]
[null,"2017-01-06T07:15:00",1,1391.0400000000002,{"$f":"CEILING(IF(C512-C511=0,IF(H511=0,I511,IF(J511>K511,I511,E511)),'Výstupy modelu'!$C$7),1)","v":1664},0,0,{"$f":"IF(F512=1,IF(G512>'Zdrojová data'!$C$19,0,1),\"\")","v":""},1664,0,{"$f":"MIN(J512,'Zdrojová data'!$C$17)","v":0},0,{"$f":"L512/'Zdrojová data'!$C$16","v":0},{"$f":"M512*'Zdrojová data'!$C$13","v":0},{"$f":"N512*'Zdrojová data'!$C$14","v":0},0,{"$f":"IF(H512=0,D512-'Výstupy modelu'!$C$7,IF(P512=1,J512-K512,0))","v":0},0,null,{"$f":"MAX(0,IF(Q512>0,Q512-('Výstupy modelu'!$H$10-'Výstupy modelu'!$H$9),0))","v":0},null,null,{"$f":"W511","v":1865.4300000000003},1885.4300000000003,0,{"$f":"MAX(0,D512-'Vstupní hodnoty'!$C$5)","v":0}]
[null,"2017-01-06T07:30:00",1,1374.8400000000001,{"$f":"CEILING(IF(C513-C512=0,IF(H512=0,I512,IF(J512>K512,I512,E512)),'Výstupy modelu'!$C$7),1)","v":1664},0,0,{"$f":"IF(F513=1,IF(G513>'Zdrojová data'!$C$19,0,1),\"\")","v":""},1664,0,{"$f":"MIN(J513,'Zdrojová data'!$C$17)","v":0},0,{"$f":"L513/'Zdrojová data'!$C$16","v":0},{"$f":"M513*'Zdrojová data'!$C$13","v":0},{"$f":"N513*'Zdrojová data'!$C$14","v":0},0,{"$f":"IF(H513=0,D513-'Výstupy modelu'!$C$7,IF(P513=1,J513-K513,0))","v":0},0,null,{"$f":"MAX(0,IF(Q513>0,Q513-('Výstupy modelu'!$H$10-'Výstupy modelu'!$H$9),0))","v":0},null,null,{"$f":"W512","v":1865.4300000000003},1885.4300000000003,0,{"$f":"MAX(0,D513-'Vstupní hodnoty'!$C$5)","v":0}]
[null,"2017-01-06T07:45:00",1,1405.0800000000002,{"$f":"CEILING(IF(C514-C513=0,IF(H513=0,I513,IF(J513>K513,I513,E513)),'Výstupy modelu'!$C$7),1)","v":1664},0,0,{"$f":"IF(F514=1,IF(G514>'Zdrojová data'!$C$19,0,1),\"\")","v":""},1664,0,{"$f":"MIN(J514,'Zdrojová data'!$C$17)","v":0},0,{"$f":"L514/'Zdrojová data'!$C$16","v":0},{"$f":"M514*'Zdrojová data'!$C$13","v":0},{"$f":"N514*'Zdrojová data'!$C$14","v":0},0,{"$f":"IF(H514=0,D514-'Výstupy modelu'!$C$7,IF(P514=1,J514-K514,0))","v":0},0,null,{"$f":"MAX(0,IF(Q514>0,Q514-('Výstupy modelu'!$H$10-'Výstupy modelu'!$H$9),0))","v":0},null,null,{"$f":"W513","v":1865.4300000000003},1885.4300000000003,0,{"$f":"MAX(0,D514-'Vstupní hodnoty'!$C$5)","v":0}]
[null,"2017-01-06T08:00:00",1,1324.0800000000002,{"$f":"CEILING(IF(C515-C514=0,IF(H514=0,I514,IF(J514>K514,I514,E514)),'Výstupy modelu'!$C$7),1)","v":1664},0,0,{"$f":"IF(F515=1,IF(G515>'Zdrojová data'!$C$19,0,1),\"\")","v":""},1664,0,{"$f":"MIN(J515,'Zdrojová data'!$C$17)","v":0},0,{"$f":"L515/'Zdrojová data'!$C$16","v":0},{"$f":"M515*'Zdrojová data'!$C$13","v":0},{"$f":"N515*'Zdrojová data'!$C$14","v":0},0,{"$f":"IF(H515=0,D515-'Výstupy modelu'!$C$7,IF(P515=1,J515-K515,0))","v":0},0,null,{"$f":"MAX(0,IF(Q515>0,Q515-('Výstupy modelu'!$H$10-'Výstupy modelu'!$H$9),0))","v":0},null,null,{"$f":"W514","v":1865.4300000000003},1885.4300000000003,0,{"$f":"MAX(0,D515-'Vstupní hodnoty'!$C$5)","v":0}]
[null,"2017-01-06T08:15:00",1,1411.5600000000002,{"$f":"CEILING(IF(C516-C515=0,IF(H515=0,I515,IF(J515>K515,I515,E515)),'Výstupy modelu'!$C$7),1)","v":1664},{"$f":"IF(D516>E516,1,0)","v":0},0,{"$f":"IF(F516=1,IF(G516>'Zdrojová data'!$C$19,0,1),\"\")","v":""},{"$f":"IF(H516=0,D516,IF(J516>K516,E516+J516-K516,E516))","v":1664},{"$f":"IF(H516=1,D516-E516,0)","v":0},{"$f":"MIN(J516,'Zdrojová data'!$C$17)","v":0},0,{"$f":"L516/'Zdrojová data'!$C$16","v":0},{"$f":"M516*'Zdrojová data'!$C$13","v":0},{"$f":"N516*'Zdrojová data'!$C$14","v":0},0,{"$f":"IF(H516=0,D516-'Výstupy modelu'!$C$7,IF(P516=1,J516-K516,0))","v":0},0,null,{"$f":"MAX(0,IF(Q516>0,Q516-('Výstupy modelu'!$H$10-'Výstupy modelu'!$H$9),0))","v":0},null,null,{"$f":"W515","v":1865.4300000000003},1885.4300000000003,0,{"$f":"MAX(0,D516-'Vstupní hodnoty'!$C$5)","v":0}]
[null,"2017-01-06T08:30:00",{"$f":"MONTH(B517)","v":1},1399.68,{"$f":"CEILING(IF(C517-C516=0,IF(H516=0,I516,IF(J516>K516,I516,E516)),'Výstupy modelu'!$C$7),1)","v":1664},0,{"$f":"IF(F517=1,RANDBETWEEN(0,100),0)","v":0},{"$f":"IF(F517=1,IF(G517>'Zdrojová data'!$C$19,0,1),\"\")","v":""},1664,0,{"$f":"MIN(J517,'Zdrojová data'!$C$17)","v":0},{"$f":"K517/4","v":0},{"$f":"L517/'Zdrojová data'!$C$16","v":0},{"$f":"M517*'Zdrojová data'!$C$13","v":0},{"$f":"N517*'Zdrojová data'!$C$14","v":0},{"$f":"IF(H517=0,1,IF(J517>K517,1,0))","v":0},{"$f":"IF(H517=0,D517-'Výstupy modelu'!$C$7,IF(P517=1,J517-K517,0))","v":0},{"$f":"IF(H517=0,1,IF(J517>K517,1,0))","v":0},null,{"$f":"MAX(0,IF(Q517>0,Q517-('Výstupy modelu'!$H$10-'Výstupy modelu'!$H$9),0))","v":0},null,null,{"$f":"W516","v":1865.4300000000003},1885.4300000000003,0,{"$f":"MAX(0,D517-'Vstupní hodnoty'!$C$5)","v":0}]
[null,"2017-01-06T08:45:00",1,1377,{"$f":"CEILING(IF(C518-C517=0,IF(H517=0,I517,IF(J517>K517,I517,E517)),'Výstupy modelu'!$C$7),1)","v":1664},0,0,{"$f":"IF(F518=1,IF(G518>'Zdrojová data'!$C$19,0,1),\"\")","v":""},1664,0,{"$f":"MIN(J518,'Zdrojová data'!$C$17)","v":0},0,{"$f":"L518/'Zdrojová data'!$C$16","v":0},{"$f":"M518*'Zdrojová data'!$C$13","v":0},{"$f":"N518*'Zdrojová data'!$C$14","v":0},0,{"$f":"IF(H518=0,D518-'Výstupy modelu'!$C$7,IF(P518=1,J518-K518,0))","v":0},0,null,{"$f":"MAX(0,IF(Q518>0,Q518-('Výstupy modelu'!$H$10-'Výstupy modelu'!$H$9),0))","v":0},null,null,{"$f":"W517","v":1865.4300000000003},1885.4300000000003,0,{"$f":"MAX(0,D518-'Vstupní hodnoty'!$C$5)","v":0}]
[null,"2017-01-06T09:00:00",1,1421.2800000000002,{"$f":"CEILING(IF(C519-C518=0,IF(H518=0,I518,IF(J518>K518,I518,E518)),'Výstupy modelu'!$C$7),1)","v":1664},0,0,{"$f":"IF(F519=1,IF(G519>'Zdrojová data'!$C$19,0,1),\"\")","v":""},1664,0,{"$f":"MIN(J519,'Zdrojová data'!$C$17)","v":0},0,{"$f":"L519/'Zdrojová data'!$C$16","v":0},{"$f":"M519*'Zdrojová data'!$C$13","v":0},{"$f":"N519*'Zdrojová data'!$C$14","v":0},0,{"$f":"IF(H519=0,D519-'Výstupy modelu'!$C$7,IF(P519=1,J519-K519,0))","v":0},0,null,{"$f":"MAX(0,IF(Q519>0,Q519-('Výstupy modelu'!$H$10-'Výstupy modelu'!$H$9),0))","v":0},null,null,{"$f":"W518","v":1865.4300000000003},1885.4300000000003,0,{"$f":"MAX(0,D519-'Vstupní hodnoty'!$C$5)","v":0}]
[null,"2017-01-06T09:15:00",1,1447.2,{"$f":"CEILING(IF(C520-C519=0,IF(H519=0,I519,IF(J519>K519,I519,E519)),'Výstupy modelu'!$C$7),1)","v":1664},0,0,{"$f":"IF(F520=1,IF(G520>'Zdrojová data'!$C$19,0,1),\"\")","v":""},1664,0,{"$f":"MIN(J520,'Zdrojová data'!$C$17)","v":0},0,{"$f":"L520/'Zdrojová data'!$C$16","v":0},{"$f":"M520*'Zdrojová data'!$C$13","v":0},{"$f":"N520*'Zdrojová data'!$C$14","v":0},0,{"$f":"IF(H520=0,D520-'Výstupy modelu'!$C$7,IF(P520=1,J520-K520,0))","v":0},0,null,{"$f":"MAX(0,IF(Q520>0,Q520-('Výstupy modelu'!$H$10-'Výstupy modelu'!$H$9),0))","v":0},null,null,{"$f":"W519","v":1865.4300000000003},1885.4300000000003,0,{"$f":"MAX(0,D520-'Vstupní hodnoty'!$C$5)","v":0}]
[null,"2017-01-06T09:30:00",1,1534.68,{"$f":"CEILING(IF(C521-C520=0,IF(H520=0,I520,IF(J520>K520,I520,E520)),'Výstupy modelu'!$C$7),1)","v":1664},0,0,{"$f":"IF(F521=1,IF(G521>'Zdrojová data'!$C$19,0,1),\"\")","v":""},1664,0,{"$f":"MIN(J521,'Zdrojová data'!$C$17)","v":0},0,{"$f":"L521/'Zdrojová data'!$C$16","v":0},{"$f":"M521*'Zdrojová data'!$C$13","v":0},{"$f":"N521*'Zdrojová data'!$C$14","v":0},0,{"$f":"IF(H521=0,D521-'Výstupy modelu'!$C$7,IF(P521=1,J521-K521,0))","v":0},0,null,{"$f":"MAX(0,IF(Q521>0,Q521-('Výstupy modelu'!$H$10-'Výstupy modelu'!$H$9),0))","v":0},null,null,{"$f":"W520","v":1865.4300000000003},1885.4300000000003,0,{"$f":"MAX(0,D521-'Vstupní hodnoty'!$C$5)","v":0}]
[null,"2017-01-06T09:45:00",1,1450.44,{"$f":"CEILING(IF(C522-C521=0,IF(H521=0,I521,IF(J521>K521,I521,E521)),'Výstupy modelu'!$C$7),1)","v":1664},0,0,{"$f":"IF(F522=1,IF(G522>'Zdrojová data'!$C$19,0,1),\"\")","v":""},1664,0,{"$f":"MIN(J522,'Zdrojová data'!$C$17)","v":0},0,{"$f":"L522/'Zdrojová data'!$C$16","v":0},{"$f":"M522*'Zdrojová data'!$C$13","v":0},{"$f":"N522*'Zdrojová data'!$C$14","v":0},0,{"$f":"IF(H522=0,D522-'Výstupy modelu'!$C$7,IF(P522=1,J522-K522,0))","v":0},0,null,{"$f":"MAX(0,IF(Q522>0,Q522-('Výstupy modelu'!$H$10-'Výstupy modelu'!$H$9),0))","v":0},null,null,{"$f":"W521","v":1865.4300000000003},1885.4300000000003,0,{"$f":"MAX(0,D522-'Vstupní hodnoty'!$C$5)","v":0}]
[null,"2017-01-06T10:00:00",1,1388.88,{"$f":"CEILING(IF(C523-C522=0,IF(H522=0,I522,IF(J522>K522,I522,E522)),'Výstupy modelu'!$C$7),1)","v":1664},0,0,{"$f":"IF(F523=1,IF(G523>'Zdrojová data'!$C$19,0,1),\"\")","v":""},1664,0,{"$f":"MIN(J523,'Zdrojová data'!$C$17)","v":0},0,{"$f":"L523/'Zdrojová data'!$C$16","v":0},{"$f":"M523*'Zdrojová data'!$C$13","v":0},{"$f":"N523*'Zdrojová data'!$C$14","v":0},0,{"$f":"IF(H523=0,D523-'Výstupy modelu'!$C$7,IF(P523=1,J523-K523,0))","v":0},0,null,{"$f":"MAX(0,IF(Q523>0,Q523-('Výstupy modelu'!$H$10-'Výstupy modelu'!$H$9),0))","v":0},null,null,{"$f":"W522","v":1865.4300000000003},1885.4300000000003,0,{"$f":"MAX(0,D523-'Vstupní hodnoty'!$C$5)","v":0}]
[null,"2017-01-06T10:15:00",1,1283.0400000000002,{"$f":"CEILING(IF(C524-C523=0,IF(H523=0,I523,IF(J523>K523,I523,E523)),'Výstupy modelu'!$C$7),1)","v":1664},0,0,{"$f":"IF(F524=1,IF(G524>'Zdrojová data'!$C$19,0,1),\"\")","v":""},1664,0,{"$f":"MIN(J524,'Zdrojová data'!$C$17)","v":0},0,{"$f":"L524/'Zdrojová data'!$C$16","v":0},{"$f":"M524*'Zdrojová data'!$C$13","v":0},{"$f":"N524*'Zdrojová data'!$C$14","v":0},0,{"$f":"IF(H524=0,D524-'Výstupy modelu'!$C$7,IF(P524=1,J524-K524,0))","v":0},0,null,{"$f":"MAX(0,IF(Q524>0,Q524-('Výstupy modelu'!$H$10-'Výstupy modelu'!$H$9),0))","v":0},null,null,{"$f":"W523","v":1865.4300000000003},1885.4300000000003,0,{"$f":"MAX(0,D524-'Vstupní hodnoty'!$C$5)","v":0}]
[null,"2017-01-06T10:30:00",1,1459.0800000000002,{"$f":"CEILING(IF(C525-C524=0,IF(H524=0,I524,IF(J524>K524,I524,E524)),'Výstupy modelu'!$C$7),1)","v":1664},0,0,{"$f":"IF(F525=1,IF(G525>'Zdrojová data'!$C$19,0,1),\"\")","v":""},1664,0,{"$f":"MIN(J525,'Zdrojová data'!$C$17)","v":0},0,{"$f":"L525/'Zdrojová data'!$C$16","v":0},{"$f":"M525*'Zdrojová data'!$C$13","v":0},{"$f":"N525*'Zdrojová data'!$C$14","v":0},0,{"$f":"IF(H525=0,D525-'Výstupy modelu'!$C$7,IF(P525=1,J525-K525,0))","v":0},0,null,{"$f":"MAX(0,IF(Q525>0,Q525-('Výstupy modelu'!$H$10-'Výstupy modelu'!$H$9),0))","v":0},null,null,{"$f":"W524","v":1865.4300000000003},1885.4300000000003,0,{"$f":"MAX(0,D525-'Vstupní hodnoty'!$C$5)","v":0}]
[null,"2017-01-06T10:45:00",1,1447.2,{"$f":"CEILING(IF(C526-C525=0,IF(H525=0,I525,IF(J525>K525,I525,E525)),'Výstupy modelu'!$C$7),1)","v":1664},0,0,{"$f":"IF(F526=1,IF(G526>'Zdrojová data'!$C$19,0,1),\"\")","v":""},1664,0,{"$f":"MIN(J526,'Zdrojová data'!$C$17)","v":0},0,{"$f":"L526/'Zdrojová data'!$C$16","v":0},{"$f":"M526*'Zdrojová data'!$C$13","v":0},{"$f":"N526*'Zdrojová data'!$C$14","v":0},0,{"$f":"IF(H526=0,D526-'Výstupy modelu'!$C$7,IF(P526=1,J526-K526,0))","v":0},0,null,{"$f":"MAX(0,IF(Q526>0,Q526-('Výstupy modelu'!$H$10-'Výstupy modelu'!$H$9),0))","v":0},null,null,{"$f":"W525","v":1865.4300000000003},1885.4300000000003,0,{"$f":"MAX(0,D526-'Vstupní hodnoty'!$C$5)","v":0}]
[null,"2017-01-06T11:00:00",1,1415.88,{"$f":"CEILING(IF(C527-C526=0,IF(H526=0,I526,IF(J526>K526,I526,E526)),'Výstupy modelu'!$C$7),1)","v":1664},0,0,{"$f":"IF(F527=1,IF(G527>'Zdrojová data'!$C$19,0,1),\"\")","v":""},1664,0,{"$f":"MIN(J527,'Zdrojová data'!$C$17)","v":0},0,{"$f":"L527/'Zdrojová data'!$C$16","v":0},{"$f":"M527*'Zdrojová data'!$C$13","v":0},{"$f":"N527*'Zdrojová data'!$C$14","v":0},0,{"$f":"IF(H527=0,D527-'Výstupy modelu'!$C$7,IF(P527=1,J527-K527,0))","v":0},0,null,{"$f":"MAX(0,IF(Q527>0,Q527-('Výstupy modelu'!$H$10-'Výstupy modelu'!$H$9),0))","v":0},null,null,{"$f":"W526","v":1865.4300000000003},1885.4300000000003,0,{"$f":"MAX(0,D527-'Vstupní hodnoty'!$C$5)","v":0}]
[null,"2017-01-06T11:15:00",1,1393.2,{"$f":"CEILING(IF(C528-C527=0,IF(H527=0,I527,IF(J527>K527,I527,E527)),'Výstupy modelu'!$C$7),1)","v":1664},0,0,{"$f":"IF(F528=1,IF(G528>'Zdrojová data'!$C$19,0,1),\"\")","v":""},1664,0,{"$f":"MIN(J528,'Zdrojová data'!$C$17)","v":0},0,{"$f":"L528/'Zdrojová data'!$C$16","v":0},{"$f":"M528*'Zdrojová data'!$C$13","v":0},{"$f":"N528*'Zdrojová data'!$C$14","v":0},0,{"$f":"IF(H528=0,D528-'Výstupy modelu'!$C$7,IF(P528=1,J528-K528,0))","v":0},0,null,{"$f":"MAX(0,IF(Q528>0,Q528-('Výstupy modelu'!$H$10-'Výstupy modelu'!$H$9),0))","v":0},null,null,{"$f":"W527","v":1865.4300000000003},1885.4300000000003,0,{"$f":"MAX(0,D528-'Vstupní hodnoty'!$C$5)","v":0}]
[null,"2017-01-06T11:30:00",1,1285.2,{"$f":"CEILING(IF(C529-C528=0,IF(H528=0,I528,IF(J528>K528,I528,E528)),'Výstupy modelu'!$C$7),1)","v":1664},0,0,{"$f":"IF(F529=1,IF(G529>'Zdrojová data'!$C$19,0,1),\"\")","v":""},1664,0,{"$f":"MIN(J529,'Zdrojová data'!$C$17)","v":0},0,{"$f":"L529/'Zdrojová data'!$C$16","v":0},{"$f":"M529*'Zdrojová data'!$C$13","v":0},{"$f":"N529*'Zdrojová data'!$C$14","v":0},0,{"$f":"IF(H529=0,D529-'Výstupy modelu'!$C$7,IF(P529=1,J529-K529,0))","v":0},0,null,{"$f":"MAX(0,IF(Q529>0,Q529-('Výstupy modelu'!$H$10-'Výstupy modelu'!$H$9),0))","v":0},null,null,{"$f":"W528","v":1865.4300000000003},1885.4300000000003,0,{"$f":"MAX(0,D529-'Vstupní hodnoty'!$C$5)","v":0}]
[null,"2017-01-06T11:45:00",1,1230.1200000000001,{"$f":"CEILING(IF(C530-C529=0,IF(H529=0,I529,IF(J529>K529,I529,E529)),'Výstupy modelu'!$C$7),1)","v":1664},0,0,{"$f":"IF(F530=1,IF(G530>'Zdrojová data'!$C$19,0,1),\"\")","v":""},1664,0,{"$f":"MIN(J530,'Zdrojová data'!$C$17)","v":0},0,{"$f":"L530/'Zdrojová data'!$C$16","v":0},{"$f":"M530*'Zdrojová data'!$C$13","v":0},{"$f":"N530*'Zdrojová data'!$C$14","v":0},0,{"$f":"IF(H530=0,D530-'Výstupy modelu'!$C$7,IF(P530=1,J530-K530,0))","v":0},0,null,{"$f":"MAX(0,IF(Q530>0,Q530-('Výstupy modelu'!$H$10-'Výstupy modelu'!$H$9),0))","v":0},null,null,{"$f":"W529","v":1865.4300000000003},1885.4300000000003,0,{"$f":"MAX(0,D530-'Vstupní hodnoty'!$C$5)","v":0}]
[null,"2017-01-06T12:00:00",1,1104.8400000000001,{"$f":"CEILING(IF(C531-C530=0,IF(H530=0,I530,IF(J530>K530,I530,E530)),'Výstupy modelu'!$C$7),1)","v":1664},0,0,{"$f":"IF(F531=1,IF(G531>'Zdrojová data'!$C$19,0,1),\"\")","v":""},1664,0,{"$f":"MIN(J531,'Zdrojová data'!$C$17)","v":0},0,{"$f":"L531/'Zdrojová data'!$C$16","v":0},{"$f":"M531*'Zdrojová data'!$C$13","v":0},{"$f":"N531*'Zdrojová data'!$C$14","v":0},0,{"$f":"IF(H531=0,D531-'Výstupy modelu'!$C$7,IF(P531=1,J531-K531,0))","v":0},0,null,{"$f":"MAX(0,IF(Q531>0,Q531-('Výstupy modelu'!$H$10-'Výstupy modelu'!$H$9),0))","v":0},null,null,{"$f":"W530","v":1865.4300000000003},1885.4300000000003,0,{"$f":"MAX(0,D531-'Vstupní hodnoty'!$C$5)","v":0}]
[null,"2017-01-06T12:15:00",1,1099.44,{"$f":"CEILING(IF(C532-C531=0,IF(H531=0,I531,IF(J531>K531,I531,E531)),'Výstupy modelu'!$C$7),1)","v":1664},0,0,{"$f":"IF(F532=1,IF(G532>'Zdrojová data'!$C$19,0,1),\"\")","v":""},1664,0,{"$f":"MIN(J532,'Zdrojová data'!$C$17)","v":0},0,{"$f":"L532/'Zdrojová data'!$C$16","v":0},{"$f":"M532*'Zdrojová data'!$C$13","v":0},{"$f":"N532*'Zdrojová data'!$C$14","v":0},0,{"$f":"IF(H532=0,D532-'Výstupy modelu'!$C$7,IF(P532=1,J532-K532,0))","v":0},0,null,{"$f":"MAX(0,IF(Q532>0,Q532-('Výstupy modelu'!$H$10-'Výstupy modelu'!$H$9),0))","v":0},null,null,{"$f":"W531","v":1865.4300000000003},1885.4300000000003,0,{"$f":"MAX(0,D532-'Vstupní hodnoty'!$C$5)","v":0}]
[null,"2017-01-06T12:30:00",1,1223.6400000000001,{"$f":"CEILING(IF(C533-C532=0,IF(H532=0,I532,IF(J532>K532,I532,E532)),'Výstupy modelu'!$C$7),1)","v":1664},0,0,{"$f":"IF(F533=1,IF(G533>'Zdrojová data'!$C$19,0,1),\"\")","v":""},1664,0,{"$f":"MIN(J533,'Zdrojová data'!$C$17)","v":0},0,{"$f":"L533/'Zdrojová data'!$C$16","v":0},{"$f":"M533*'Zdrojová data'!$C$13","v":0},{"$f":"N533*'Zdrojová data'!$C$14","v":0},0,{"$f":"IF(H533=0,D533-'Výstupy modelu'!$C$7,IF(P533=1,J533-K533,0))","v":0},0,null,{"$f":"MAX(0,IF(Q533>0,Q533-('Výstupy modelu'!$H$10-'Výstupy modelu'!$H$9),0))","v":0},null,null,{"$f":"W532","v":1865.4300000000003},1885.4300000000003,0,{"$f":"MAX(0,D533-'Vstupní hodnoty'!$C$5)","v":0}]
[null,"2017-01-06T12:45:00",1,1411.5600000000002,{"$f":"CEILING(IF(C534-C533=0,IF(H533=0,I533,IF(J533>K533,I533,E533)),'Výstupy modelu'!$C$7),1)","v":1664},0,0,{"$f":"IF(F534=1,IF(G534>'Zdrojová data'!$C$19,0,1),\"\")","v":""},1664,0,{"$f":"MIN(J534,'Zdrojová data'!$C$17)","v":0},0,{"$f":"L534/'Zdrojová data'!$C$16","v":0},{"$f":"M534*'Zdrojová data'!$C$13","v":0},{"$f":"N534*'Zdrojová data'!$C$14","v":0},0,{"$f":"IF(H534=0,D534-'Výstupy modelu'!$C$7,IF(P534=1,J534-K534,0))","v":0},0,null,{"$f":"MAX(0,IF(Q534>0,Q534-('Výstupy modelu'!$H$10-'Výstupy modelu'!$H$9),0))","v":0},null,null,{"$f":"W533","v":1865.4300000000003},1885.4300000000003,0,{"$f":"MAX(0,D534-'Vstupní hodnoty'!$C$5)","v":0}]
[null,"2017-01-06T13:00:00",1,1406.16,{"$f":"CEILING(IF(C535-C534=0,IF(H534=0,I534,IF(J534>K534,I534,E534)),'Výstupy modelu'!$C$7),1)","v":1664},0,0,{"$f":"IF(F535=1,IF(G535>'Zdrojová data'!$C$19,0,1),\"\")","v":""},1664,0,{"$f":"MIN(J535,'Zdrojová data'!$C$17)","v":0},0,{"$f":"L535/'Zdrojová data'!$C$16","v":0},{"$f":"M535*'Zdrojová data'!$C$13","v":0},{"$f":"N535*'Zdrojová data'!$C$14","v":0},0,{"$f":"IF(H535=0,D535-'Výstupy modelu'!$C$7,IF(P535=1,J535-K535,0))","v":0},0,null,{"$f":"MAX(0,IF(Q535>0,Q535-('Výstupy modelu'!$H$10-'Výstupy modelu'!$H$9),0))","v":0},null,null,{"$f":"W534","v":1865.4300000000003},1885.4300000000003,0,{"$f":"MAX(0,D535-'Vstupní hodnoty'!$C$5)","v":0}]
[null,"2017-01-06T13:15:00",1,1404,{"$f":"CEILING(IF(C536-C535=0,IF(H535=0,I535,IF(J535>K535,I535,E535)),'Výstupy modelu'!$C$7),1)","v":1664},0,0,{"$f":"IF(F536=1,IF(G536>'Zdrojová data'!$C$19,0,1),\"\")","v":""},1664,0,{"$f":"MIN(J536,'Zdrojová data'!$C$17)","v":0},0,{"$f":"L536/'Zdrojová data'!$C$16","v":0},{"$f":"M536*'Zdrojová data'!$C$13","v":0},{"$f":"N536*'Zdrojová data'!$C$14","v":0},0,{"$f":"IF(H536=0,D536-'Výstupy modelu'!$C$7,IF(P536=1,J536-K536,0))","v":0},0,null,{"$f":"MAX(0,IF(Q536>0,Q536-('Výstupy modelu'!$H$10-'Výstupy modelu'!$H$9),0))","v":0},null,null,{"$f":"W535","v":1865.4300000000003},1885.4300000000003,0,{"$f":"MAX(0,D536-'Vstupní hodnoty'!$C$5)","v":0}]
[null,"2017-01-06T13:30:00",1,1382.4,{"$f":"CEILING(IF(C537-C536=0,IF(H536=0,I536,IF(J536>K536,I536,E536)),'Výstupy modelu'!$C$7),1)","v":1664},0,0,{"$f":"IF(F537=1,IF(G537>'Zdrojová data'!$C$19,0,1),\"\")","v":""},1664,0,{"$f":"MIN(J537,'Zdrojová data'!$C$17)","v":0},0,{"$f":"L537/'Zdrojová data'!$C$16","v":0},{"$f":"M537*'Zdrojová data'!$C$13","v":0},{"$f":"N537*'Zdrojová data'!$C$14","v":0},0,{"$f":"IF(H537=0,D537-'Výstupy modelu'!$C$7,IF(P537=1,J537-K537,0))","v":0},0,null,{"$f":"MAX(0,IF(Q537>0,Q537-('Výstupy modelu'!$H$10-'Výstupy modelu'!$H$9),0))","v":0},null,null,{"$f":"W536","v":1865.4300000000003},1885.4300000000003,0,{"$f":"MAX(0,D537-'Vstupní hodnoty'!$C$5)","v":0}]
[null,"2017-01-06T13:45:00",1,1339.2,{"$f":"CEILING(IF(C538-C537=0,IF(H537=0,I537,IF(J537>K537,I537,E537)),'Výstupy modelu'!$C$7),1)","v":1664},0,0,{"$f":"IF(F538=1,IF(G538>'Zdrojová data'!$C$19,0,1),\"\")","v":""},1664,0,{"$f":"MIN(J538,'Zdrojová data'!$C$17)","v":0},0,{"$f":"L538/'Zdrojová data'!$C$16","v":0},{"$f":"M538*'Zdrojová data'!$C$13","v":0},{"$f":"N538*'Zdrojová data'!$C$14","v":0},0,{"$f":"IF(H538=0,D538-'Výstupy modelu'!$C$7,IF(P538=1,J538-K538,0))","v":0},0,null,{"$f":"MAX(0,IF(Q538>0,Q538-('Výstupy modelu'!$H$10-'Výstupy modelu'!$H$9),0))","v":0},null,null,{"$f":"W537","v":1865.4300000000003},1885.4300000000003,0,{"$f":"MAX(0,D538-'Vstupní hodnoty'!$C$5)","v":0}]
[null,"2017-01-06T14:00:00",1,1229.0400000000002,{"$f":"CEILING(IF(C539-C538=0,IF(H538=0,I538,IF(J538>K538,I538,E538)),'Výstupy modelu'!$C$7),1)","v":1664},0,0,{"$f":"IF(F539=1,IF(G539>'Zdrojová data'!$C$19,0,1),\"\")","v":""},1664,0,{"$f":"MIN(J539,'Zdrojová data'!$C$17)","v":0},0,{"$f":"L539/'Zdrojová data'!$C$16","v":0},{"$f":"M539*'Zdrojová data'!$C$13","v":0},{"$f":"N539*'Zdrojová data'!$C$14","v":0},0,{"$f":"IF(H539=0,D539-'Výstupy modelu'!$C$7,IF(P539=1,J539-K539,0))","v":0},0,null,{"$f":"MAX(0,IF(Q539>0,Q539-('Výstupy modelu'!$H$10-'Výstupy modelu'!$H$9),0))","v":0},null,null,{"$f":"W538","v":1865.4300000000003},1885.4300000000003,0,{"$f":"MAX(0,D539-'Vstupní hodnoty'!$C$5)","v":0}]
[null,"2017-01-06T14:15:00",1,1275.48,{"$f":"CEILING(IF(C540-C539=0,IF(H539=0,I539,IF(J539>K539,I539,E539)),'Výstupy modelu'!$C$7),1)","v":1664},0,0,{"$f":"IF(F540=1,IF(G540>'Zdrojová data'!$C$19,0,1),\"\")","v":""},1664,0,{"$f":"MIN(J540,'Zdrojová data'!$C$17)","v":0},0,{"$f":"L540/'Zdrojová data'!$C$16","v":0},{"$f":"M540*'Zdrojová data'!$C$13","v":0},{"$f":"N540*'Zdrojová data'!$C$14","v":0},0,{"$f":"IF(H540=0,D540-'Výstupy modelu'!$C$7,IF(P540=1,J540-K540,0))","v":0},0,null,{"$f":"MAX(0,IF(Q540>0,Q540-('Výstupy modelu'!$H$10-'Výstupy modelu'!$H$9),0))","v":0},null,null,{"$f":"W539","v":1865.4300000000003},1885.4300000000003,0,{"$f":"MAX(0,D540-'Vstupní hodnoty'!$C$5)","v":0}]
[null,"2017-01-06T14:30:00",1,1141.5600000000002,{"$f":"CEILING(IF(C541-C540=0,IF(H540=0,I540,IF(J540>K540,I540,E540)),'Výstupy modelu'!$C$7),1)","v":1664},0,0,{"$f":"IF(F541=1,IF(G541>'Zdrojová data'!$C$19,0,1),\"\")","v":""},1664,0,{"$f":"MIN(J541,'Zdrojová data'!$C$17)","v":0},0,{"$f":"L541/'Zdrojová data'!$C$16","v":0},{"$f":"M541*'Zdrojová data'!$C$13","v":0},{"$f":"N541*'Zdrojová data'!$C$14","v":0},0,{"$f":"IF(H541=0,D541-'Výstupy modelu'!$C$7,IF(P541=1,J541-K541,0))","v":0},0,null,{"$f":"MAX(0,IF(Q541>0,Q541-('Výstupy modelu'!$H$10-'Výstupy modelu'!$H$9),0))","v":0},null,null,{"$f":"W540","v":1865.4300000000003},1885.4300000000003,0,{"$f":"MAX(0,D541-'Vstupní hodnoty'!$C$5)","v":0}]
[null,"2017-01-06T14:45:00",1,1129.68,{"$f":"CEILING(IF(C542-C541=0,IF(H541=0,I541,IF(J541>K541,I541,E541)),'Výstupy modelu'!$C$7),1)","v":1664},0,0,{"$f":"IF(F542=1,IF(G542>'Zdrojová data'!$C$19,0,1),\"\")","v":""},1664,0,{"$f":"MIN(J542,'Zdrojová data'!$C$17)","v":0},0,{"$f":"L542/'Zdrojová data'!$C$16","v":0},{"$f":"M542*'Zdrojová data'!$C$13","v":0},{"$f":"N542*'Zdrojová data'!$C$14","v":0},0,{"$f":"IF(H542=0,D542-'Výstupy modelu'!$C$7,IF(P542=1,J542-K542,0))","v":0},0,null,{"$f":"MAX(0,IF(Q542>0,Q542-('Výstupy modelu'!$H$10-'Výstupy modelu'!$H$9),0))","v":0},null,null,{"$f":"W541","v":1865.4300000000003},1885.4300000000003,0,{"$f":"MAX(0,D542-'Vstupní hodnoty'!$C$5)","v":0}]
[null,"2017-01-06T15:00:00",1,1113.48,{"$f":"CEILING(IF(C543-C542=0,IF(H542=0,I542,IF(J542>K542,I542,E542)),'Výstupy modelu'!$C$7),1)","v":1664},0,0,{"$f":"IF(F543=1,IF(G543>'Zdrojová data'!$C$19,0,1),\"\")","v":""},1664,0,{"$f":"MIN(J543,'Zdrojová data'!$C$17)","v":0},0,{"$f":"L543/'Zdrojová data'!$C$16","v":0},{"$f":"M543*'Zdrojová data'!$C$13","v":0},{"$f":"N543*'Zdrojová data'!$C$14","v":0},0,{"$f":"IF(H543=0,D543-'Výstupy modelu'!$C$7,IF(P543=1,J543-K543,0))","v":0},0,null,{"$f":"MAX(0,IF(Q543>0,Q543-('Výstupy modelu'!$H$10-'Výstupy modelu'!$H$9),0))","v":0},null,null,{"$f":"W542","v":1865.4300000000003},1885.4300000000003,0,{"$f":"MAX(0,D543-'Vstupní hodnoty'!$C$5)","v":0}]
[null,"2017-01-06T15:15:00",1,1086.48,{"$f":"CEILING(IF(C544-C543=0,IF(H543=0,I543,IF(J543>K543,I543,E543)),'Výstupy modelu'!$C$7),1)","v":1664},0,0,{"$f":"IF(F544=1,IF(G544>'Zdrojová data'!$C$19,0,1),\"\")","v":""},1664,0,{"$f":"MIN(J544,'Zdrojová data'!$C$17)","v":0},0,{"$f":"L544/'Zdrojová data'!$C$16","v":0},{"$f":"M544*'Zdrojová data'!$C$13","v":0},{"$f":"N544*'Zdrojová data'!$C$14","v":0},0,{"$f":"IF(H544=0,D544-'Výstupy modelu'!$C$7,IF(P544=1,J544-K544,0))","v":0},0,null,{"$f":"MAX(0,IF(Q544>0,Q544-('Výstupy modelu'!$H$10-'Výstupy modelu'!$H$9),0))","v":0},null,null,{"$f":"W543","v":1865.4300000000003},1885.4300000000003,0,{"$f":"MAX(0,D544-'Vstupní hodnoty'!$C$5)","v":0}]
[null,"2017-01-06T15:30:00",1,1048.68,{"$f":"CEILING(IF(C545-C544=0,IF(H544=0,I544,IF(J544>K544,I544,E544)),'Výstupy modelu'!$C$7),1)","v":1664},0,0,{"$f":"IF(F545=1,IF(G545>'Zdrojová data'!$C$19,0,1),\"\")","v":""},1664,0,{"$f":"MIN(J545,'Zdrojová data'!$C$17)","v":0},0,{"$f":"L545/'Zdrojová data'!$C$16","v":0},{"$f":"M545*'Zdrojová data'!$C$13","v":0},{"$f":"N545*'Zdrojová data'!$C$14","v":0},0,{"$f":"IF(H545=0,D545-'Výstupy modelu'!$C$7,IF(P545=1,J545-K545,0))","v":0},0,null,{"$f":"MAX(0,IF(Q545>0,Q545-('Výstupy modelu'!$H$10-'Výstupy modelu'!$H$9),0))","v":0},null,null,{"$f":"W544","v":1865.4300000000003},1885.4300000000003,0,{"$f":"MAX(0,D545-'Vstupní hodnoty'!$C$5)","v":0}]
[null,"2017-01-06T15:45:00",1,994.68000000000006,{"$f":"CEILING(IF(C546-C545=0,IF(H545=0,I545,IF(J545>K545,I545,E545)),'Výstupy modelu'!$C$7),1)","v":1664},0,0,{"$f":"IF(F546=1,IF(G546>'Zdrojová data'!$C$19,0,1),\"\")","v":""},1664,0,{"$f":"MIN(J546,'Zdrojová data'!$C$17)","v":0},0,{"$f":"L546/'Zdrojová data'!$C$16","v":0},{"$f":"M546*'Zdrojová data'!$C$13","v":0},{"$f":"N546*'Zdrojová data'!$C$14","v":0},0,{"$f":"IF(H546=0,D546-'Výstupy modelu'!$C$7,IF(P546=1,J546-K546,0))","v":0},0,null,{"$f":"MAX(0,IF(Q546>0,Q546-('Výstupy modelu'!$H$10-'Výstupy modelu'!$H$9),0))","v":0},null,null,{"$f":"W545","v":1865.4300000000003},1885.4300000000003,0,{"$f":"MAX(0,D546-'Vstupní hodnoty'!$C$5)","v":0}]
[null,"2017-01-06T16:00:00",1,866.16000000000008,{"$f":"CEILING(IF(C547-C546=0,IF(H546=0,I546,IF(J546>K546,I546,E546)),'Výstupy modelu'!$C$7),1)","v":1664},0,0,{"$f":"IF(F547=1,IF(G547>'Zdrojová data'!$C$19,0,1),\"\")","v":""},1664,0,{"$f":"MIN(J547,'Zdrojová data'!$C$17)","v":0},0,{"$f":"L547/'Zdrojová data'!$C$16","v":0},{"$f":"M547*'Zdrojová data'!$C$13","v":0},{"$f":"N547*'Zdrojová data'!$C$14","v":0},0,{"$f":"IF(H547=0,D547-'Výstupy modelu'!$C$7,IF(P547=1,J547-K547,0))","v":0},0,null,{"$f":"MAX(0,IF(Q547>0,Q547-('Výstupy modelu'!$H$10-'Výstupy modelu'!$H$9),0))","v":0},null,null,{"$f":"W546","v":1865.4300000000003},1885.4300000000003,0,{"$f":"MAX(0,D547-'Vstupní hodnoty'!$C$5)","v":0}]
[null,"2017-01-06T16:15:00",1,965.5200000000001,{"$f":"CEILING(IF(C548-C547=0,IF(H547=0,I547,IF(J547>K547,I547,E547)),'Výstupy modelu'!$C$7),1)","v":1664},0,0,{"$f":"IF(F548=1,IF(G548>'Zdrojová data'!$C$19,0,1),\"\")","v":""},1664,0,{"$f":"MIN(J548,'Zdrojová data'!$C$17)","v":0},0,{"$f":"L548/'Zdrojová data'!$C$16","v":0},{"$f":"M548*'Zdrojová data'!$C$13","v":0},{"$f":"N548*'Zdrojová data'!$C$14","v":0},0,{"$f":"IF(H548=0,D548-'Výstupy modelu'!$C$7,IF(P548=1,J548-K548,0))","v":0},0,null,{"$f":"MAX(0,IF(Q548>0,Q548-('Výstupy modelu'!$H$10-'Výstupy modelu'!$H$9),0))","v":0},null,null,{"$f":"W547","v":1865.4300000000003},1885.4300000000003,0,{"$f":"MAX(0,D548-'Vstupní hodnoty'!$C$5)","v":0}]
[null,"2017-01-06T16:30:00",1,1009.8000000000001,{"$f":"CEILING(IF(C549-C548=0,IF(H548=0,I548,IF(J548>K548,I548,E548)),'Výstupy modelu'!$C$7),1)","v":1664},0,0,{"$f":"IF(F549=1,IF(G549>'Zdrojová data'!$C$19,0,1),\"\")","v":""},1664,0,{"$f":"MIN(J549,'Zdrojová data'!$C$17)","v":0},0,{"$f":"L549/'Zdrojová data'!$C$16","v":0},{"$f":"M549*'Zdrojová data'!$C$13","v":0},{"$f":"N549*'Zdrojová data'!$C$14","v":0},0,{"$f":"IF(H549=0,D549-'Výstupy modelu'!$C$7,IF(P549=1,J549-K549,0))","v":0},0,null,{"$f":"MAX(0,IF(Q549>0,Q549-('Výstupy modelu'!$H$10-'Výstupy modelu'!$H$9),0))","v":0},null,null,{"$f":"W548","v":1865.4300000000003},1885.4300000000003,0,{"$f":"MAX(0,D549-'Vstupní hodnoty'!$C$5)","v":0}]
[null,"2017-01-06T16:45:00",1,980.6400000000001,{"$f":"CEILING(IF(C550-C549=0,IF(H549=0,I549,IF(J549>K549,I549,E549)),'Výstupy modelu'!$C$7),1)","v":1664},0,0,{"$f":"IF(F550=1,IF(G550>'Zdrojová data'!$C$19,0,1),\"\")","v":""},1664,0,{"$f":"MIN(J550,'Zdrojová data'!$C$17)","v":0},0,{"$f":"L550/'Zdrojová data'!$C$16","v":0},{"$f":"M550*'Zdrojová data'!$C$13","v":0},{"$f":"N550*'Zdrojová data'!$C$14","v":0},0,{"$f":"IF(H550=0,D550-'Výstupy modelu'!$C$7,IF(P550=1,J550-K550,0))","v":0},0,null,{"$f":"MAX(0,IF(Q550>0,Q550-('Výstupy modelu'!$H$10-'Výstupy modelu'!$H$9),0))","v":0},null,null,{"$f":"W549","v":1865.4300000000003},1885.4300000000003,0,{"$f":"MAX(0,D550-'Vstupní hodnoty'!$C$5)","v":0}]
[null,"2017-01-06T17:00:00",1,962.28000000000009,{"$f":"CEILING(IF(C551-C550=0,IF(H550=0,I550,IF(J550>K550,I550,E550)),'Výstupy modelu'!$C$7),1)","v":1664},0,0,{"$f":"IF(F551=1,IF(G551>'Zdrojová data'!$C$19,0,1),\"\")","v":""},1664,0,{"$f":"MIN(J551,'Zdrojová data'!$C$17)","v":0},0,{"$f":"L551/'Zdrojová data'!$C$16","v":0},{"$f":"M551*'Zdrojová data'!$C$13","v":0},{"$f":"N551*'Zdrojová data'!$C$14","v":0},0,{"$f":"IF(H551=0,D551-'Výstupy modelu'!$C$7,IF(P551=1,J551-K551,0))","v":0},0,null,{"$f":"MAX(0,IF(Q551>0,Q551-('Výstupy modelu'!$H$10-'Výstupy modelu'!$H$9),0))","v":0},null,null,{"$f":"W550","v":1865.4300000000003},1885.4300000000003,0,{"$f":"MAX(0,D551-'Vstupní hodnoty'!$C$5)","v":0}]
[null,"2017-01-06T17:15:00",1,947.16000000000008,{"$f":"CEILING(IF(C552-C551=0,IF(H551=0,I551,IF(J551>K551,I551,E551)),'Výstupy modelu'!$C$7),1)","v":1664},0,0,{"$f":"IF(F552=1,IF(G552>'Zdrojová data'!$C$19,0,1),\"\")","v":""},1664,0,{"$f":"MIN(J552,'Zdrojová data'!$C$17)","v":0},0,{"$f":"L552/'Zdrojová data'!$C$16","v":0},{"$f":"M552*'Zdrojová data'!$C$13","v":0},{"$f":"N552*'Zdrojová data'!$C$14","v":0},0,{"$f":"IF(H552=0,D552-'Výstupy modelu'!$C$7,IF(P552=1,J552-K552,0))","v":0},0,null,{"$f":"MAX(0,IF(Q552>0,Q552-('Výstupy modelu'!$H$10-'Výstupy modelu'!$H$9),0))","v":0},null,null,{"$f":"W551","v":1865.4300000000003},1885.4300000000003,0,{"$f":"MAX(0,D552-'Vstupní hodnoty'!$C$5)","v":0}]
[null,"2017-01-06T17:30:00",1,869.40000000000009,{"$f":"CEILING(IF(C553-C552=0,IF(H552=0,I552,IF(J552>K552,I552,E552)),'Výstupy modelu'!$C$7),1)","v":1664},0,0,{"$f":"IF(F553=1,IF(G553>'Zdrojová data'!$C$19,0,1),\"\")","v":""},1664,0,{"$f":"MIN(J553,'Zdrojová data'!$C$17)","v":0},0,{"$f":"L553/'Zdrojová data'!$C$16","v":0},{"$f":"M553*'Zdrojová data'!$C$13","v":0},{"$f":"N553*'Zdrojová data'!$C$14","v":0},0,{"$f":"IF(H553=0,D553-'Výstupy modelu'!$C$7,IF(P553=1,J553-K553,0))","v":0},0,null,{"$f":"MAX(0,IF(Q553>0,Q553-('Výstupy modelu'!$H$10-'Výstupy modelu'!$H$9),0))","v":0},null,null,{"$f":"W552","v":1865.4300000000003},1885.4300000000003,0,{"$f":"MAX(0,D553-'Vstupní hodnoty'!$C$5)","v":0}]
[null,"2017-01-06T17:45:00",1,723.6,{"$f":"CEILING(IF(C554-C553=0,IF(H553=0,I553,IF(J553>K553,I553,E553)),'Výstupy modelu'!$C$7),1)","v":1664},0,0,{"$f":"IF(F554=1,IF(G554>'Zdrojová data'!$C$19,0,1),\"\")","v":""},1664,0,{"$f":"MIN(J554,'Zdrojová data'!$C$17)","v":0},0,{"$f":"L554/'Zdrojová data'!$C$16","v":0},{"$f":"M554*'Zdrojová data'!$C$13","v":0},{"$f":"N554*'Zdrojová data'!$C$14","v":0},0,{"$f":"IF(H554=0,D554-'Výstupy modelu'!$C$7,IF(P554=1,J554-K554,0))","v":0},0,null,{"$f":"MAX(0,IF(Q554>0,Q554-('Výstupy modelu'!$H$10-'Výstupy modelu'!$H$9),0))","v":0},null,null,{"$f":"W553","v":1865.4300000000003},1885.4300000000003,0,{"$f":"MAX(0,D554-'Vstupní hodnoty'!$C$5)","v":0}]
[null,"2017-01-06T18:00:00",1,729,{"$f":"CEILING(IF(C555-C554=0,IF(H554=0,I554,IF(J554>K554,I554,E554)),'Výstupy modelu'!$C$7),1)","v":1664},0,0,{"$f":"IF(F555=1,IF(G555>'Zdrojová data'!$C$19,0,1),\"\")","v":""},1664,0,{"$f":"MIN(J555,'Zdrojová data'!$C$17)","v":0},0,{"$f":"L555/'Zdrojová data'!$C$16","v":0},{"$f":"M555*'Zdrojová data'!$C$13","v":0},{"$f":"N555*'Zdrojová data'!$C$14","v":0},0,{"$f":"IF(H555=0,D555-'Výstupy modelu'!$C$7,IF(P555=1,J555-K555,0))","v":0},0,null,{"$f":"MAX(0,IF(Q555>0,Q555-('Výstupy modelu'!$H$10-'Výstupy modelu'!$H$9),0))","v":0},null,null,{"$f":"W554","v":1865.4300000000003},1885.4300000000003,0,{"$f":"MAX(0,D555-'Vstupní hodnoty'!$C$5)","v":0}]
[null,"2017-01-06T18:15:00",1,779.7600000000001,{"$f":"CEILING(IF(C556-C555=0,IF(H555=0,I555,IF(J555>K555,I555,E555)),'Výstupy modelu'!$C$7),1)","v":1664},0,0,{"$f":"IF(F556=1,IF(G556>'Zdrojová data'!$C$19,0,1),\"\")","v":""},1664,0,{"$f":"MIN(J556,'Zdrojová data'!$C$17)","v":0},0,{"$f":"L556/'Zdrojová data'!$C$16","v":0},{"$f":"M556*'Zdrojová data'!$C$13","v":0},{"$f":"N556*'Zdrojová data'!$C$14","v":0},0,{"$f":"IF(H556=0,D556-'Výstupy modelu'!$C$7,IF(P556=1,J556-K556,0))","v":0},0,null,{"$f":"MAX(0,IF(Q556>0,Q556-('Výstupy modelu'!$H$10-'Výstupy modelu'!$H$9),0))","v":0},null,null,{"$f":"W555","v":1865.4300000000003},1885.4300000000003,0,{"$f":"MAX(0,D556-'Vstupní hodnoty'!$C$5)","v":0}]
[null,"2017-01-06T18:30:00",1,854.28000000000009,{"$f":"CEILING(IF(C557-C556=0,IF(H556=0,I556,IF(J556>K556,I556,E556)),'Výstupy modelu'!$C$7),1)","v":1664},0,0,{"$f":"IF(F557=1,IF(G557>'Zdrojová data'!$C$19,0,1),\"\")","v":""},1664,0,{"$f":"MIN(J557,'Zdrojová data'!$C$17)","v":0},0,{"$f":"L557/'Zdrojová data'!$C$16","v":0},{"$f":"M557*'Zdrojová data'!$C$13","v":0},{"$f":"N557*'Zdrojová data'!$C$14","v":0},0,{"$f":"IF(H557=0,D557-'Výstupy modelu'!$C$7,IF(P557=1,J557-K557,0))","v":0},0,null,{"$f":"MAX(0,IF(Q557>0,Q557-('Výstupy modelu'!$H$10-'Výstupy modelu'!$H$9),0))","v":0},null,null,{"$f":"W556","v":1865.4300000000003},1885.4300000000003,0,{"$f":"MAX(0,D557-'Vstupní hodnoty'!$C$5)","v":0}]
[null,"2017-01-06T18:45:00",1,839.16000000000008,{"$f":"CEILING(IF(C558-C557=0,IF(H557=0,I557,IF(J557>K557,I557,E557)),'Výstupy modelu'!$C$7),1)","v":1664},0,0,{"$f":"IF(F558=1,IF(G558>'Zdrojová data'!$C$19,0,1),\"\")","v":""},1664,0,{"$f":"MIN(J558,'Zdrojová data'!$C$17)","v":0},0,{"$f":"L558/'Zdrojová data'!$C$16","v":0},{"$f":"M558*'Zdrojová data'!$C$13","v":0},{"$f":"N558*'Zdrojová data'!$C$14","v":0},0,{"$f":"IF(H558=0,D558-'Výstupy modelu'!$C$7,IF(P558=1,J558-K558,0))","v":0},0,null,{"$f":"MAX(0,IF(Q558>0,Q558-('Výstupy modelu'!$H$10-'Výstupy modelu'!$H$9),0))","v":0},null,null,{"$f":"W557","v":1865.4300000000003},1885.4300000000003,0,{"$f":"MAX(0,D558-'Vstupní hodnoty'!$C$5)","v":0}]
[null,"2017-01-06T19:00:00",1,849.96,{"$f":"CEILING(IF(C559-C558=0,IF(H558=0,I558,IF(J558>K558,I558,E558)),'Výstupy modelu'!$C$7),1)","v":1664},0,0,{"$f":"IF(F559=1,IF(G559>'Zdrojová data'!$C$19,0,1),\"\")","v":""},1664,0,{"$f":"MIN(J559,'Zdrojová data'!$C$17)","v":0},0,{"$f":"L559/'Zdrojová data'!$C$16","v":0},{"$f":"M559*'Zdrojová data'!$C$13","v":0},{"$f":"N559*'Zdrojová data'!$C$14","v":0},0,{"$f":"IF(H559=0,D559-'Výstupy modelu'!$C$7,IF(P559=1,J559-K559,0))","v":0},0,null,{"$f":"MAX(0,IF(Q559>0,Q559-('Výstupy modelu'!$H$10-'Výstupy modelu'!$H$9),0))","v":0},null,null,{"$f":"W558","v":1865.4300000000003},1885.4300000000003,0,{"$f":"MAX(0,D559-'Vstupní hodnoty'!$C$5)","v":0}]
[null,"2017-01-06T19:15:00",1,830.5200000000001,{"$f":"CEILING(IF(C560-C559=0,IF(H559=0,I559,IF(J559>K559,I559,E559)),'Výstupy modelu'!$C$7),1)","v":1664},0,0,{"$f":"IF(F560=1,IF(G560>'Zdrojová data'!$C$19,0,1),\"\")","v":""},1664,0,{"$f":"MIN(J560,'Zdrojová data'!$C$17)","v":0},0,{"$f":"L560/'Zdrojová data'!$C$16","v":0},{"$f":"M560*'Zdrojová data'!$C$13","v":0},{"$f":"N560*'Zdrojová data'!$C$14","v":0},0,{"$f":"IF(H560=0,D560-'Výstupy modelu'!$C$7,IF(P560=1,J560-K560,0))","v":0},0,null,{"$f":"MAX(0,IF(Q560>0,Q560-('Výstupy modelu'!$H$10-'Výstupy modelu'!$H$9),0))","v":0},null,null,{"$f":"W559","v":1865.4300000000003},1885.4300000000003,0,{"$f":"MAX(0,D560-'Vstupní hodnoty'!$C$5)","v":0}]
[null,"2017-01-06T19:30:00",1,813.24,{"$f":"CEILING(IF(C561-C560=0,IF(H560=0,I560,IF(J560>K560,I560,E560)),'Výstupy modelu'!$C$7),1)","v":1664},0,0,{"$f":"IF(F561=1,IF(G561>'Zdrojová data'!$C$19,0,1),\"\")","v":""},1664,0,{"$f":"MIN(J561,'Zdrojová data'!$C$17)","v":0},0,{"$f":"L561/'Zdrojová data'!$C$16","v":0},{"$f":"M561*'Zdrojová data'!$C$13","v":0},{"$f":"N561*'Zdrojová data'!$C$14","v":0},0,{"$f":"IF(H561=0,D561-'Výstupy modelu'!$C$7,IF(P561=1,J561-K561,0))","v":0},0,null,{"$f":"MAX(0,IF(Q561>0,Q561-('Výstupy modelu'!$H$10-'Výstupy modelu'!$H$9),0))","v":0},null,null,{"$f":"W560","v":1865.4300000000003},1885.4300000000003,{"$f":"MAX(0,D561-W561)","v":0},{"$f":"MAX(0,D561-'Vstupní hodnoty'!$C$5)","v":0}]
[null,"2017-01-06T19:45:00",1,806.7600000000001,{"$f":"CEILING(IF(C562-C561=0,IF(H561=0,I561,IF(J561>K561,I561,E561)),'Výstupy modelu'!$C$7),1)","v":1664},0,0,{"$f":"IF(F562=1,IF(G562>'Zdrojová data'!$C$19,0,1),\"\")","v":""},1664,0,{"$f":"MIN(J562,'Zdrojová data'!$C$17)","v":0},0,{"$f":"L562/'Zdrojová data'!$C$16","v":0},{"$f":"M562*'Zdrojová data'!$C$13","v":0},{"$f":"N562*'Zdrojová data'!$C$14","v":0},0,{"$f":"IF(H562=0,D562-'Výstupy modelu'!$C$7,IF(P562=1,J562-K562,0))","v":0},0,null,{"$f":"MAX(0,IF(Q562>0,Q562-('Výstupy modelu'!$H$10-'Výstupy modelu'!$H$9),0))","v":0},null,null,{"$f":"W561","v":1865.4300000000003},1885.4300000000003,0,{"$f":"MAX(0,D562-'Vstupní hodnoty'!$C$5)","v":0}]
[null,"2017-01-06T20:00:00",1,785.16000000000008,{"$f":"CEILING(IF(C563-C562=0,IF(H562=0,I562,IF(J562>K562,I562,E562)),'Výstupy modelu'!$C$7),1)","v":1664},0,0,{"$f":"IF(F563=1,IF(G563>'Zdrojová data'!$C$19,0,1),\"\")","v":""},1664,0,{"$f":"MIN(J563,'Zdrojová data'!$C$17)","v":0},0,{"$f":"L563/'Zdrojová data'!$C$16","v":0},{"$f":"M563*'Zdrojová data'!$C$13","v":0},{"$f":"N563*'Zdrojová data'!$C$14","v":0},0,{"$f":"IF(H563=0,D563-'Výstupy modelu'!$C$7,IF(P563=1,J563-K563,0))","v":0},0,null,{"$f":"MAX(0,IF(Q563>0,Q563-('Výstupy modelu'!$H$10-'Výstupy modelu'!$H$9),0))","v":0},null,null,{"$f":"W562","v":1865.4300000000003},1885.4300000000003,0,{"$f":"MAX(0,D563-'Vstupní hodnoty'!$C$5)","v":0}]
[null,"2017-01-06T20:15:00",1,722.5200000000001,{"$f":"CEILING(IF(C564-C563=0,IF(H563=0,I563,IF(J563>K563,I563,E563)),'Výstupy modelu'!$C$7),1)","v":1664},0,0,{"$f":"IF(F564=1,IF(G564>'Zdrojová data'!$C$19,0,1),\"\")","v":""},1664,0,{"$f":"MIN(J564,'Zdrojová data'!$C$17)","v":0},0,{"$f":"L564/'Zdrojová data'!$C$16","v":0},{"$f":"M564*'Zdrojová data'!$C$13","v":0},{"$f":"N564*'Zdrojová data'!$C$14","v":0},0,{"$f":"IF(H564=0,D564-'Výstupy modelu'!$C$7,IF(P564=1,J564-K564,0))","v":0},0,null,{"$f":"MAX(0,IF(Q564>0,Q564-('Výstupy modelu'!$H$10-'Výstupy modelu'!$H$9),0))","v":0},null,null,{"$f":"W563","v":1865.4300000000003},1885.4300000000003,0,{"$f":"MAX(0,D564-'Vstupní hodnoty'!$C$5)","v":0}]
[null,"2017-01-06T20:30:00",1,759.24,{"$f":"CEILING(IF(C565-C564=0,IF(H564=0,I564,IF(J564>K564,I564,E564)),'Výstupy modelu'!$C$7),1)","v":1664},0,0,{"$f":"IF(F565=1,IF(G565>'Zdrojová data'!$C$19,0,1),\"\")","v":""},1664,0,{"$f":"MIN(J565,'Zdrojová data'!$C$17)","v":0},0,{"$f":"L565/'Zdrojová data'!$C$16","v":0},{"$f":"M565*'Zdrojová data'!$C$13","v":0},{"$f":"N565*'Zdrojová data'!$C$14","v":0},0,{"$f":"IF(H565=0,D565-'Výstupy modelu'!$C$7,IF(P565=1,J565-K565,0))","v":0},0,null,{"$f":"MAX(0,IF(Q565>0,Q565-('Výstupy modelu'!$H$10-'Výstupy modelu'!$H$9),0))","v":0},null,null,{"$f":"W564","v":1865.4300000000003},1885.4300000000003,0,{"$f":"MAX(0,D565-'Vstupní hodnoty'!$C$5)","v":0}]
[null,"2017-01-06T20:45:00",1,743.04000000000008,{"$f":"CEILING(IF(C566-C565=0,IF(H565=0,I565,IF(J565>K565,I565,E565)),'Výstupy modelu'!$C$7),1)","v":1664},0,0,{"$f":"IF(F566=1,IF(G566>'Zdrojová data'!$C$19,0,1),\"\")","v":""},1664,0,{"$f":"MIN(J566,'Zdrojová data'!$C$17)","v":0},0,{"$f":"L566/'Zdrojová data'!$C$16","v":0},{"$f":"M566*'Zdrojová data'!$C$13","v":0},{"$f":"N566*'Zdrojová data'!$C$14","v":0},0,{"$f":"IF(H566=0,D566-'Výstupy modelu'!$C$7,IF(P566=1,J566-K566,0))","v":0},0,null,{"$f":"MAX(0,IF(Q566>0,Q566-('Výstupy modelu'!$H$10-'Výstupy modelu'!$H$9),0))","v":0},null,null,{"$f":"W565","v":1865.4300000000003},1885.4300000000003,0,{"$f":"MAX(0,D566-'Vstupní hodnoty'!$C$5)","v":0}]
[null,"2017-01-06T21:00:00",1,662.04000000000008,{"$f":"CEILING(IF(C567-C566=0,IF(H566=0,I566,IF(J566>K566,I566,E566)),'Výstupy modelu'!$C$7),1)","v":1664},0,0,{"$f":"IF(F567=1,IF(G567>'Zdrojová data'!$C$19,0,1),\"\")","v":""},1664,0,{"$f":"MIN(J567,'Zdrojová data'!$C$17)","v":0},0,{"$f":"L567/'Zdrojová data'!$C$16","v":0},{"$f":"M567*'Zdrojová data'!$C$13","v":0},{"$f":"N567*'Zdrojová data'!$C$14","v":0},0,{"$f":"IF(H567=0,D567-'Výstupy modelu'!$C$7,IF(P567=1,J567-K567,0))","v":0},0,null,{"$f":"MAX(0,IF(Q567>0,Q567-('Výstupy modelu'!$H$10-'Výstupy modelu'!$H$9),0))","v":0},null,null,{"$f":"W566","v":1865.4300000000003},1885.4300000000003,0,{"$f":"MAX(0,D567-'Vstupní hodnoty'!$C$5)","v":0}]
[null,"2017-01-06T21:15:00",1,627.48,{"$f":"CEILING(IF(C568-C567=0,IF(H567=0,I567,IF(J567>K567,I567,E567)),'Výstupy modelu'!$C$7),1)","v":1664},0,0,{"$f":"IF(F568=1,IF(G568>'Zdrojová data'!$C$19,0,1),\"\")","v":""},1664,0,{"$f":"MIN(J568,'Zdrojová data'!$C$17)","v":0},0,{"$f":"L568/'Zdrojová data'!$C$16","v":0},{"$f":"M568*'Zdrojová data'!$C$13","v":0},{"$f":"N568*'Zdrojová data'!$C$14","v":0},0,{"$f":"IF(H568=0,D568-'Výstupy modelu'!$C$7,IF(P568=1,J568-K568,0))","v":0},0,null,{"$f":"MAX(0,IF(Q568>0,Q568-('Výstupy modelu'!$H$10-'Výstupy modelu'!$H$9),0))","v":0},null,null,{"$f":"W567","v":1865.4300000000003},1885.4300000000003,0,{"$f":"MAX(0,D568-'Vstupní hodnoty'!$C$5)","v":0}]
[null,"2017-01-06T21:30:00",1,588.6,{"$f":"CEILING(IF(C569-C568=0,IF(H568=0,I568,IF(J568>K568,I568,E568)),'Výstupy modelu'!$C$7),1)","v":1664},0,0,{"$f":"IF(F569=1,IF(G569>'Zdrojová data'!$C$19,0,1),\"\")","v":""},1664,0,{"$f":"MIN(J569,'Zdrojová data'!$C$17)","v":0},0,{"$f":"L569/'Zdrojová data'!$C$16","v":0},{"$f":"M569*'Zdrojová data'!$C$13","v":0},{"$f":"N569*'Zdrojová data'!$C$14","v":0},0,{"$f":"IF(H569=0,D569-'Výstupy modelu'!$C$7,IF(P569=1,J569-K569,0))","v":0},0,null,{"$f":"MAX(0,IF(Q569>0,Q569-('Výstupy modelu'!$H$10-'Výstupy modelu'!$H$9),0))","v":0},null,null,{"$f":"W568","v":1865.4300000000003},1885.4300000000003,0,{"$f":"MAX(0,D569-'Vstupní hodnoty'!$C$5)","v":0}]
[null,"2017-01-06T21:45:00",1,543.24,{"$f":"CEILING(IF(C570-C569=0,IF(H569=0,I569,IF(J569>K569,I569,E569)),'Výstupy modelu'!$C$7),1)","v":1664},0,0,{"$f":"IF(F570=1,IF(G570>'Zdrojová data'!$C$19,0,1),\"\")","v":""},1664,0,{"$f":"MIN(J570,'Zdrojová data'!$C$17)","v":0},0,{"$f":"L570/'Zdrojová data'!$C$16","v":0},{"$f":"M570*'Zdrojová data'!$C$13","v":0},{"$f":"N570*'Zdrojová data'!$C$14","v":0},0,{"$f":"IF(H570=0,D570-'Výstupy modelu'!$C$7,IF(P570=1,J570-K570,0))","v":0},0,null,{"$f":"MAX(0,IF(Q570>0,Q570-('Výstupy modelu'!$H$10-'Výstupy modelu'!$H$9),0))","v":0},null,null,{"$f":"W569","v":1865.4300000000003},1885.4300000000003,0,{"$f":"MAX(0,D570-'Vstupní hodnoty'!$C$5)","v":0}]
[null,"2017-01-06T22:00:00",1,501.12,{"$f":"CEILING(IF(C571-C570=0,IF(H570=0,I570,IF(J570>K570,I570,E570)),'Výstupy modelu'!$C$7),1)","v":1664},0,0,{"$f":"IF(F571=1,IF(G571>'Zdrojová data'!$C$19,0,1),\"\")","v":""},1664,0,{"$f":"MIN(J571,'Zdrojová data'!$C$17)","v":0},0,{"$f":"L571/'Zdrojová data'!$C$16","v":0},{"$f":"M571*'Zdrojová data'!$C$13","v":0},{"$f":"N571*'Zdrojová data'!$C$14","v":0},0,{"$f":"IF(H571=0,D571-'Výstupy modelu'!$C$7,IF(P571=1,J571-K571,0))","v":0},0,null,{"$f":"MAX(0,IF(Q571>0,Q571-('Výstupy modelu'!$H$10-'Výstupy modelu'!$H$9),0))","v":0},null,null,{"$f":"W570","v":1865.4300000000003},1885.4300000000003,0,{"$f":"MAX(0,D571-'Vstupní hodnoty'!$C$5)","v":0}]
[null,"2017-01-06T22:15:00",1,388.8,{"$f":"CEILING(IF(C572-C571=0,IF(H571=0,I571,IF(J571>K571,I571,E571)),'Výstupy modelu'!$C$7),1)","v":1664},0,0,{"$f":"IF(F572=1,IF(G572>'Zdrojová data'!$C$19,0,1),\"\")","v":""},1664,0,{"$f":"MIN(J572,'Zdrojová data'!$C$17)","v":0},0,{"$f":"L572/'Zdrojová data'!$C$16","v":0},{"$f":"M572*'Zdrojová data'!$C$13","v":0},{"$f":"N572*'Zdrojová data'!$C$14","v":0},0,{"$f":"IF(H572=0,D572-'Výstupy modelu'!$C$7,IF(P572=1,J572-K572,0))","v":0},0,null,{"$f":"MAX(0,IF(Q572>0,Q572-('Výstupy modelu'!$H$10-'Výstupy modelu'!$H$9),0))","v":0},null,null,{"$f":"W571","v":1865.4300000000003},1885.4300000000003,0,{"$f":"MAX(0,D572-'Vstupní hodnoty'!$C$5)","v":0}]
[null,"2017-01-06T22:30:00",1,374.76000000000005,{"$f":"CEILING(IF(C573-C572=0,IF(H572=0,I572,IF(J572>K572,I572,E572)),'Výstupy modelu'!$C$7),1)","v":1664},0,0,{"$f":"IF(F573=1,IF(G573>'Zdrojová data'!$C$19,0,1),\"\")","v":""},1664,0,{"$f":"MIN(J573,'Zdrojová data'!$C$17)","v":0},0,{"$f":"L573/'Zdrojová data'!$C$16","v":0},{"$f":"M573*'Zdrojová data'!$C$13","v":0},{"$f":"N573*'Zdrojová data'!$C$14","v":0},0,{"$f":"IF(H573=0,D573-'Výstupy modelu'!$C$7,IF(P573=1,J573-K573,0))","v":0},0,null,{"$f":"MAX(0,IF(Q573>0,Q573-('Výstupy modelu'!$H$10-'Výstupy modelu'!$H$9),0))","v":0},null,null,{"$f":"W572","v":1865.4300000000003},1885.4300000000003,0,{"$f":"MAX(0,D573-'Vstupní hodnoty'!$C$5)","v":0}]
[null,"2017-01-06T22:45:00",1,375.84000000000003,{"$f":"CEILING(IF(C574-C573=0,IF(H573=0,I573,IF(J573>K573,I573,E573)),'Výstupy modelu'!$C$7),1)","v":1664},0,0,{"$f":"IF(F574=1,IF(G574>'Zdrojová data'!$C$19,0,1),\"\")","v":""},1664,0,{"$f":"MIN(J574,'Zdrojová data'!$C$17)","v":0},0,{"$f":"L574/'Zdrojová data'!$C$16","v":0},{"$f":"M574*'Zdrojová data'!$C$13","v":0},{"$f":"N574*'Zdrojová data'!$C$14","v":0},0,{"$f":"IF(H574=0,D574-'Výstupy modelu'!$C$7,IF(P574=1,J574-K574,0))","v":0},0,null,{"$f":"MAX(0,IF(Q574>0,Q574-('Výstupy modelu'!$H$10-'Výstupy modelu'!$H$9),0))","v":0},null,null,{"$f":"W573","v":1865.4300000000003},1885.4300000000003,0,{"$f":"MAX(0,D574-'Vstupní hodnoty'!$C$5)","v":0}]
[null,"2017-01-06T23:00:00",1,372.6,{"$f":"CEILING(IF(C575-C574=0,IF(H574=0,I574,IF(J574>K574,I574,E574)),'Výstupy modelu'!$C$7),1)","v":1664},0,0,{"$f":"IF(F575=1,IF(G575>'Zdrojová data'!$C$19,0,1),\"\")","v":""},1664,0,{"$f":"MIN(J575,'Zdrojová data'!$C$17)","v":0},0,{"$f":"L575/'Zdrojová data'!$C$16","v":0},{"$f":"M575*'Zdrojová data'!$C$13","v":0},{"$f":"N575*'Zdrojová data'!$C$14","v":0},0,{"$f":"IF(H575=0,D575-'Výstupy modelu'!$C$7,IF(P575=1,J575-K575,0))","v":0},0,null,{"$f":"MAX(0,IF(Q575>0,Q575-('Výstupy modelu'!$H$10-'Výstupy modelu'!$H$9),0))","v":0},null,null,{"$f":"W574","v":1865.4300000000003},1885.4300000000003,0,{"$f":"MAX(0,D575-'Vstupní hodnoty'!$C$5)","v":0}]
[null,"2017-01-06T23:15:00",1,369.36,{"$f":"CEILING(IF(C576-C575=0,IF(H575=0,I575,IF(J575>K575,I575,E575)),'Výstupy modelu'!$C$7),1)","v":1664},0,0,{"$f":"IF(F576=1,IF(G576>'Zdrojová data'!$C$19,0,1),\"\")","v":""},1664,0,{"$f":"MIN(J576,'Zdrojová data'!$C$17)","v":0},0,{"$f":"L576/'Zdrojová data'!$C$16","v":0},{"$f":"M576*'Zdrojová data'!$C$13","v":0},{"$f":"N576*'Zdrojová data'!$C$14","v":0},0,{"$f":"IF(H576=0,D576-'Výstupy modelu'!$C$7,IF(P576=1,J576-K576,0))","v":0},0,null,{"$f":"MAX(0,IF(Q576>0,Q576-('Výstupy modelu'!$H$10-'Výstupy modelu'!$H$9),0))","v":0},null,null,{"$f":"W575","v":1865.4300000000003},1885.4300000000003,0,{"$f":"MAX(0,D576-'Vstupní hodnoty'!$C$5)","v":0}]
[null,"2017-01-06T23:30:00",1,370.44,{"$f":"CEILING(IF(C577-C576=0,IF(H576=0,I576,IF(J576>K576,I576,E576)),'Výstupy modelu'!$C$7),1)","v":1664},0,0,{"$f":"IF(F577=1,IF(G577>'Zdrojová data'!$C$19,0,1),\"\")","v":""},1664,0,{"$f":"MIN(J577,'Zdrojová data'!$C$17)","v":0},0,{"$f":"L577/'Zdrojová data'!$C$16","v":0},{"$f":"M577*'Zdrojová data'!$C$13","v":0},{"$f":"N577*'Zdrojová data'!$C$14","v":0},0,{"$f":"IF(H577=0,D577-'Výstupy modelu'!$C$7,IF(P577=1,J577-K577,0))","v":0},0,null,{"$f":"MAX(0,IF(Q577>0,Q577-('Výstupy modelu'!$H$10-'Výstupy modelu'!$H$9),0))","v":0},null,null,{"$f":"W576","v":1865.4300000000003},1885.4300000000003,0,{"$f":"MAX(0,D577-'Vstupní hodnoty'!$C$5)","v":0}]
[null,"2017-01-06T23:45:00",1,361.8,{"$f":"CEILING(IF(C578-C577=0,IF(H577=0,I577,IF(J577>K577,I577,E577)),'Výstupy modelu'!$C$7),1)","v":1664},0,0,{"$f":"IF(F578=1,IF(G578>'Zdrojová data'!$C$19,0,1),\"\")","v":""},1664,0,{"$f":"MIN(J578,'Zdrojová data'!$C$17)","v":0},0,{"$f":"L578/'Zdrojová data'!$C$16","v":0},{"$f":"M578*'Zdrojová data'!$C$13","v":0},{"$f":"N578*'Zdrojová data'!$C$14","v":0},0,{"$f":"IF(H578=0,D578-'Výstupy modelu'!$C$7,IF(P578=1,J578-K578,0))","v":0},0,null,{"$f":"MAX(0,IF(Q578>0,Q578-('Výstupy modelu'!$H$10-'Výstupy modelu'!$H$9),0))","v":0},null,null,{"$f":"W577","v":1865.4300000000003},1885.4300000000003,0,{"$f":"MAX(0,D578-'Vstupní hodnoty'!$C$5)","v":0}]
[null,"2017-01-07",1,344.52000000000004,{"$f":"CEILING(IF(C579-C578=0,IF(H578=0,I578,IF(J578>K578,I578,E578)),'Výstupy modelu'!$C$7),1)","v":1664},0,0,{"$f":"IF(F579=1,IF(G579>'Zdrojová data'!$C$19,0,1),\"\")","v":""},1664,0,{"$f":"MIN(J579,'Zdrojová data'!$C$17)","v":0},0,{"$f":"L579/'Zdrojová data'!$C$16","v":0},{"$f":"M579*'Zdrojová data'!$C$13","v":0},{"$f":"N579*'Zdrojová data'!$C$14","v":0},0,{"$f":"IF(H579=0,D579-'Výstupy modelu'!$C$7,IF(P579=1,J579-K579,0))","v":0},0,null,{"$f":"MAX(0,IF(Q579>0,Q579-('Výstupy modelu'!$H$10-'Výstupy modelu'!$H$9),0))","v":0},null,null,{"$f":"W578","v":1865.4300000000003},1885.4300000000003,0,{"$f":"MAX(0,D579-'Vstupní hodnoty'!$C$5)","v":0}]
[null,"2017-01-07T00:15:00",1,355.32000000000005,{"$f":"CEILING(IF(C580-C579=0,IF(H579=0,I579,IF(J579>K579,I579,E579)),'Výstupy modelu'!$C$7),1)","v":1664},{"$f":"IF(D580>E580,1,0)","v":0},0,{"$f":"IF(F580=1,IF(G580>'Zdrojová data'!$C$19,0,1),\"\")","v":""},{"$f":"IF(H580=0,D580,IF(J580>K580,E580+J580-K580,E580))","v":1664},{"$f":"IF(H580=1,D580-E580,0)","v":0},{"$f":"MIN(J580,'Zdrojová data'!$C$17)","v":0},0,{"$f":"L580/'Zdrojová data'!$C$16","v":0},{"$f":"M580*'Zdrojová data'!$C$13","v":0},{"$f":"N580*'Zdrojová data'!$C$14","v":0},0,{"$f":"IF(H580=0,D580-'Výstupy modelu'!$C$7,IF(P580=1,J580-K580,0))","v":0},0,null,{"$f":"MAX(0,IF(Q580>0,Q580-('Výstupy modelu'!$H$10-'Výstupy modelu'!$H$9),0))","v":0},null,null,{"$f":"W579","v":1865.4300000000003},1885.4300000000003,0,{"$f":"MAX(0,D580-'Vstupní hodnoty'!$C$5)","v":0}]
[null,"2017-01-07T00:30:00",{"$f":"MONTH(B581)","v":1},349.92,{"$f":"CEILING(IF(C581-C580=0,IF(H580=0,I580,IF(J580>K580,I580,E580)),'Výstupy modelu'!$C$7),1)","v":1664},0,{"$f":"IF(F581=1,RANDBETWEEN(0,100),0)","v":0},{"$f":"IF(F581=1,IF(G581>'Zdrojová data'!$C$19,0,1),\"\")","v":""},1664,0,{"$f":"MIN(J581,'Zdrojová data'!$C$17)","v":0},{"$f":"K581/4","v":0},{"$f":"L581/'Zdrojová data'!$C$16","v":0},{"$f":"M581*'Zdrojová data'!$C$13","v":0},{"$f":"N581*'Zdrojová data'!$C$14","v":0},{"$f":"IF(H581=0,1,IF(J581>K581,1,0))","v":0},{"$f":"IF(H581=0,D581-'Výstupy modelu'!$C$7,IF(P581=1,J581-K581,0))","v":0},{"$f":"IF(H581=0,1,IF(J581>K581,1,0))","v":0},null,{"$f":"MAX(0,IF(Q581>0,Q581-('Výstupy modelu'!$H$10-'Výstupy modelu'!$H$9),0))","v":0},null,null,{"$f":"W580","v":1865.4300000000003},1885.4300000000003,0,{"$f":"MAX(0,D581-'Vstupní hodnoty'!$C$5)","v":0}]
[null,"2017-01-07T00:45:00",1,346.68,{"$f":"CEILING(IF(C582-C581=0,IF(H581=0,I581,IF(J581>K581,I581,E581)),'Výstupy modelu'!$C$7),1)","v":1664},0,0,{"$f":"IF(F582=1,IF(G582>'Zdrojová data'!$C$19,0,1),\"\")","v":""},1664,0,{"$f":"MIN(J582,'Zdrojová data'!$C$17)","v":0},0,{"$f":"L582/'Zdrojová data'!$C$16","v":0},{"$f":"M582*'Zdrojová data'!$C$13","v":0},{"$f":"N582*'Zdrojová data'!$C$14","v":0},0,{"$f":"IF(H582=0,D582-'Výstupy modelu'!$C$7,IF(P582=1,J582-K582,0))","v":0},0,null,{"$f":"MAX(0,IF(Q582>0,Q582-('Výstupy modelu'!$H$10-'Výstupy modelu'!$H$9),0))","v":0},null,null,{"$f":"W581","v":1865.4300000000003},1885.4300000000003,0,{"$f":"MAX(0,D582-'Vstupní hodnoty'!$C$5)","v":0}]
[null,"2017-01-07T01:00:00",1,354.24,{"$f":"CEILING(IF(C583-C582=0,IF(H582=0,I582,IF(J582>K582,I582,E582)),'Výstupy modelu'!$C$7),1)","v":1664},0,0,{"$f":"IF(F583=1,IF(G583>'Zdrojová data'!$C$19,0,1),\"\")","v":""},1664,0,{"$f":"MIN(J583,'Zdrojová data'!$C$17)","v":0},0,{"$f":"L583/'Zdrojová data'!$C$16","v":0},{"$f":"M583*'Zdrojová data'!$C$13","v":0},{"$f":"N583*'Zdrojová data'!$C$14","v":0},0,{"$f":"IF(H583=0,D583-'Výstupy modelu'!$C$7,IF(P583=1,J583-K583,0))","v":0},0,null,{"$f":"MAX(0,IF(Q583>0,Q583-('Výstupy modelu'!$H$10-'Výstupy modelu'!$H$9),0))","v":0},null,null,{"$f":"W582","v":1865.4300000000003},1885.4300000000003,0,{"$f":"MAX(0,D583-'Vstupní hodnoty'!$C$5)","v":0}]
[null,"2017-01-07T01:15:00",1,349.92,{"$f":"CEILING(IF(C584-C583=0,IF(H583=0,I583,IF(J583>K583,I583,E583)),'Výstupy modelu'!$C$7),1)","v":1664},0,0,{"$f":"IF(F584=1,IF(G584>'Zdrojová data'!$C$19,0,1),\"\")","v":""},1664,0,{"$f":"MIN(J584,'Zdrojová data'!$C$17)","v":0},0,{"$f":"L584/'Zdrojová data'!$C$16","v":0},{"$f":"M584*'Zdrojová data'!$C$13","v":0},{"$f":"N584*'Zdrojová data'!$C$14","v":0},0,{"$f":"IF(H584=0,D584-'Výstupy modelu'!$C$7,IF(P584=1,J584-K584,0))","v":0},0,null,{"$f":"MAX(0,IF(Q584>0,Q584-('Výstupy modelu'!$H$10-'Výstupy modelu'!$H$9),0))","v":0},null,null,{"$f":"W583","v":1865.4300000000003},1885.4300000000003,0,{"$f":"MAX(0,D584-'Vstupní hodnoty'!$C$5)","v":0}]
[null,"2017-01-07T01:30:00",1,349.92,{"$f":"CEILING(IF(C585-C584=0,IF(H584=0,I584,IF(J584>K584,I584,E584)),'Výstupy modelu'!$C$7),1)","v":1664},0,0,{"$f":"IF(F585=1,IF(G585>'Zdrojová data'!$C$19,0,1),\"\")","v":""},1664,0,{"$f":"MIN(J585,'Zdrojová data'!$C$17)","v":0},0,{"$f":"L585/'Zdrojová data'!$C$16","v":0},{"$f":"M585*'Zdrojová data'!$C$13","v":0},{"$f":"N585*'Zdrojová data'!$C$14","v":0},0,{"$f":"IF(H585=0,D585-'Výstupy modelu'!$C$7,IF(P585=1,J585-K585,0))","v":0},0,null,{"$f":"MAX(0,IF(Q585>0,Q585-('Výstupy modelu'!$H$10-'Výstupy modelu'!$H$9),0))","v":0},null,null,{"$f":"W584","v":1865.4300000000003},1885.4300000000003,0,{"$f":"MAX(0,D585-'Vstupní hodnoty'!$C$5)","v":0}]
[null,"2017-01-07T01:45:00",1,362.88,{"$f":"CEILING(IF(C586-C585=0,IF(H585=0,I585,IF(J585>K585,I585,E585)),'Výstupy modelu'!$C$7),1)","v":1664},0,0,{"$f":"IF(F586=1,IF(G586>'Zdrojová data'!$C$19,0,1),\"\")","v":""},1664,0,{"$f":"MIN(J586,'Zdrojová data'!$C$17)","v":0},0,{"$f":"L586/'Zdrojová data'!$C$16","v":0},{"$f":"M586*'Zdrojová data'!$C$13","v":0},{"$f":"N586*'Zdrojová data'!$C$14","v":0},0,{"$f":"IF(H586=0,D586-'Výstupy modelu'!$C$7,IF(P586=1,J586-K586,0))","v":0},0,null,{"$f":"MAX(0,IF(Q586>0,Q586-('Výstupy modelu'!$H$10-'Výstupy modelu'!$H$9),0))","v":0},null,null,{"$f":"W585","v":1865.4300000000003},1885.4300000000003,0,{"$f":"MAX(0,D586-'Vstupní hodnoty'!$C$5)","v":0}]
[null,"2017-01-07T02:00:00",1,355.32000000000005,{"$f":"CEILING(IF(C587-C586=0,IF(H586=0,I586,IF(J586>K586,I586,E586)),'Výstupy modelu'!$C$7),1)","v":1664},0,0,{"$f":"IF(F587=1,IF(G587>'Zdrojová data'!$C$19,0,1),\"\")","v":""},1664,0,{"$f":"MIN(J587,'Zdrojová data'!$C$17)","v":0},0,{"$f":"L587/'Zdrojová data'!$C$16","v":0},{"$f":"M587*'Zdrojová data'!$C$13","v":0},{"$f":"N587*'Zdrojová data'!$C$14","v":0},0,{"$f":"IF(H587=0,D587-'Výstupy modelu'!$C$7,IF(P587=1,J587-K587,0))","v":0},0,null,{"$f":"MAX(0,IF(Q587>0,Q587-('Výstupy modelu'!$H$10-'Výstupy modelu'!$H$9),0))","v":0},null,null,{"$f":"W586","v":1865.4300000000003},1885.4300000000003,0,{"$f":"MAX(0,D587-'Vstupní hodnoty'!$C$5)","v":0}]
[null,"2017-01-07T02:15:00",1,353.16,{"$f":"CEILING(IF(C588-C587=0,IF(H587=0,I587,IF(J587>K587,I587,E587)),'Výstupy modelu'!$C$7),1)","v":1664},0,0,{"$f":"IF(F588=1,IF(G588>'Zdrojová data'!$C$19,0,1),\"\")","v":""},1664,0,{"$f":"MIN(J588,'Zdrojová data'!$C$17)","v":0},0,{"$f":"L588/'Zdrojová data'!$C$16","v":0},{"$f":"M588*'Zdrojová data'!$C$13","v":0},{"$f":"N588*'Zdrojová data'!$C$14","v":0},0,{"$f":"IF(H588=0,D588-'Výstupy modelu'!$C$7,IF(P588=1,J588-K588,0))","v":0},0,null,{"$f":"MAX(0,IF(Q588>0,Q588-('Výstupy modelu'!$H$10-'Výstupy modelu'!$H$9),0))","v":0},null,null,{"$f":"W587","v":1865.4300000000003},1885.4300000000003,0,{"$f":"MAX(0,D588-'Vstupní hodnoty'!$C$5)","v":0}]
[null,"2017-01-07T02:30:00",1,349.92,{"$f":"CEILING(IF(C589-C588=0,IF(H588=0,I588,IF(J588>K588,I588,E588)),'Výstupy modelu'!$C$7),1)","v":1664},0,0,{"$f":"IF(F589=1,IF(G589>'Zdrojová data'!$C$19,0,1),\"\")","v":""},1664,0,{"$f":"MIN(J589,'Zdrojová data'!$C$17)","v":0},0,{"$f":"L589/'Zdrojová data'!$C$16","v":0},{"$f":"M589*'Zdrojová data'!$C$13","v":0},{"$f":"N589*'Zdrojová data'!$C$14","v":0},0,{"$f":"IF(H589=0,D589-'Výstupy modelu'!$C$7,IF(P589=1,J589-K589,0))","v":0},0,null,{"$f":"MAX(0,IF(Q589>0,Q589-('Výstupy modelu'!$H$10-'Výstupy modelu'!$H$9),0))","v":0},null,null,{"$f":"W588","v":1865.4300000000003},1885.4300000000003,0,{"$f":"MAX(0,D589-'Vstupní hodnoty'!$C$5)","v":0}]
[null,"2017-01-07T02:45:00",1,365.04,{"$f":"CEILING(IF(C590-C589=0,IF(H589=0,I589,IF(J589>K589,I589,E589)),'Výstupy modelu'!$C$7),1)","v":1664},0,0,{"$f":"IF(F590=1,IF(G590>'Zdrojová data'!$C$19,0,1),\"\")","v":""},1664,0,{"$f":"MIN(J590,'Zdrojová data'!$C$17)","v":0},0,{"$f":"L590/'Zdrojová data'!$C$16","v":0},{"$f":"M590*'Zdrojová data'!$C$13","v":0},{"$f":"N590*'Zdrojová data'!$C$14","v":0},0,{"$f":"IF(H590=0,D590-'Výstupy modelu'!$C$7,IF(P590=1,J590-K590,0))","v":0},0,null,{"$f":"MAX(0,IF(Q590>0,Q590-('Výstupy modelu'!$H$10-'Výstupy modelu'!$H$9),0))","v":0},null,null,{"$f":"W589","v":1865.4300000000003},1885.4300000000003,0,{"$f":"MAX(0,D590-'Vstupní hodnoty'!$C$5)","v":0}]
[null,"2017-01-07T03:00:00",1,370.44,{"$f":"CEILING(IF(C591-C590=0,IF(H590=0,I590,IF(J590>K590,I590,E590)),'Výstupy modelu'!$C$7),1)","v":1664},0,0,{"$f":"IF(F591=1,IF(G591>'Zdrojová data'!$C$19,0,1),\"\")","v":""},1664,0,{"$f":"MIN(J591,'Zdrojová data'!$C$17)","v":0},0,{"$f":"L591/'Zdrojová data'!$C$16","v":0},{"$f":"M591*'Zdrojová data'!$C$13","v":0},{"$f":"N591*'Zdrojová data'!$C$14","v":0},0,{"$f":"IF(H591=0,D591-'Výstupy modelu'!$C$7,IF(P591=1,J591-K591,0))","v":0},0,null,{"$f":"MAX(0,IF(Q591>0,Q591-('Výstupy modelu'!$H$10-'Výstupy modelu'!$H$9),0))","v":0},null,null,{"$f":"W590","v":1865.4300000000003},1885.4300000000003,0,{"$f":"MAX(0,D591-'Vstupní hodnoty'!$C$5)","v":0}]
[null,"2017-01-07T03:15:00",1,363.96000000000004,{"$f":"CEILING(IF(C592-C591=0,IF(H591=0,I591,IF(J591>K591,I591,E591)),'Výstupy modelu'!$C$7),1)","v":1664},0,0,{"$f":"IF(F592=1,IF(G592>'Zdrojová data'!$C$19,0,1),\"\")","v":""},1664,0,{"$f":"MIN(J592,'Zdrojová data'!$C$17)","v":0},0,{"$f":"L592/'Zdrojová data'!$C$16","v":0},{"$f":"M592*'Zdrojová data'!$C$13","v":0},{"$f":"N592*'Zdrojová data'!$C$14","v":0},0,{"$f":"IF(H592=0,D592-'Výstupy modelu'!$C$7,IF(P592=1,J592-K592,0))","v":0},0,null,{"$f":"MAX(0,IF(Q592>0,Q592-('Výstupy modelu'!$H$10-'Výstupy modelu'!$H$9),0))","v":0},null,null,{"$f":"W591","v":1865.4300000000003},1885.4300000000003,0,{"$f":"MAX(0,D592-'Vstupní hodnoty'!$C$5)","v":0}]
[null,"2017-01-07T03:30:00",1,359.64000000000004,{"$f":"CEILING(IF(C593-C592=0,IF(H592=0,I592,IF(J592>K592,I592,E592)),'Výstupy modelu'!$C$7),1)","v":1664},0,0,{"$f":"IF(F593=1,IF(G593>'Zdrojová data'!$C$19,0,1),\"\")","v":""},1664,0,{"$f":"MIN(J593,'Zdrojová data'!$C$17)","v":0},0,{"$f":"L593/'Zdrojová data'!$C$16","v":0},{"$f":"M593*'Zdrojová data'!$C$13","v":0},{"$f":"N593*'Zdrojová data'!$C$14","v":0},0,{"$f":"IF(H593=0,D593-'Výstupy modelu'!$C$7,IF(P593=1,J593-K593,0))","v":0},0,null,{"$f":"MAX(0,IF(Q593>0,Q593-('Výstupy modelu'!$H$10-'Výstupy modelu'!$H$9),0))","v":0},null,null,{"$f":"W592","v":1865.4300000000003},1885.4300000000003,0,{"$f":"MAX(0,D593-'Vstupní hodnoty'!$C$5)","v":0}]
[null,"2017-01-07T03:45:00",1,354.24,{"$f":"CEILING(IF(C594-C593=0,IF(H593=0,I593,IF(J593>K593,I593,E593)),'Výstupy modelu'!$C$7),1)","v":1664},0,0,{"$f":"IF(F594=1,IF(G594>'Zdrojová data'!$C$19,0,1),\"\")","v":""},1664,0,{"$f":"MIN(J594,'Zdrojová data'!$C$17)","v":0},0,{"$f":"L594/'Zdrojová data'!$C$16","v":0},{"$f":"M594*'Zdrojová data'!$C$13","v":0},{"$f":"N594*'Zdrojová data'!$C$14","v":0},0,{"$f":"IF(H594=0,D594-'Výstupy modelu'!$C$7,IF(P594=1,J594-K594,0))","v":0},0,null,{"$f":"MAX(0,IF(Q594>0,Q594-('Výstupy modelu'!$H$10-'Výstupy modelu'!$H$9),0))","v":0},null,null,{"$f":"W593","v":1865.4300000000003},1885.4300000000003,0,{"$f":"MAX(0,D594-'Vstupní hodnoty'!$C$5)","v":0}]
[null,"2017-01-07T04:00:00",1,354.24,{"$f":"CEILING(IF(C595-C594=0,IF(H594=0,I594,IF(J594>K594,I594,E594)),'Výstupy modelu'!$C$7),1)","v":1664},0,0,{"$f":"IF(F595=1,IF(G595>'Zdrojová data'!$C$19,0,1),\"\")","v":""},1664,0,{"$f":"MIN(J595,'Zdrojová data'!$C$17)","v":0},0,{"$f":"L595/'Zdrojová data'!$C$16","v":0},{"$f":"M595*'Zdrojová data'!$C$13","v":0},{"$f":"N595*'Zdrojová data'!$C$14","v":0},0,{"$f":"IF(H595=0,D595-'Výstupy modelu'!$C$7,IF(P595=1,J595-K595,0))","v":0},0,null,{"$f":"MAX(0,IF(Q595>0,Q595-('Výstupy modelu'!$H$10-'Výstupy modelu'!$H$9),0))","v":0},null,null,{"$f":"W594","v":1865.4300000000003},1885.4300000000003,0,{"$f":"MAX(0,D595-'Vstupní hodnoty'!$C$5)","v":0}]
[null,"2017-01-07T04:15:00",1,359.64000000000004,{"$f":"CEILING(IF(C596-C595=0,IF(H595=0,I595,IF(J595>K595,I595,E595)),'Výstupy modelu'!$C$7),1)","v":1664},0,0,{"$f":"IF(F596=1,IF(G596>'Zdrojová data'!$C$19,0,1),\"\")","v":""},1664,0,{"$f":"MIN(J596,'Zdrojová data'!$C$17)","v":0},0,{"$f":"L596/'Zdrojová data'!$C$16","v":0},{"$f":"M596*'Zdrojová data'!$C$13","v":0},{"$f":"N596*'Zdrojová data'!$C$14","v":0},0,{"$f":"IF(H596=0,D596-'Výstupy modelu'!$C$7,IF(P596=1,J596-K596,0))","v":0},0,null,{"$f":"MAX(0,IF(Q596>0,Q596-('Výstupy modelu'!$H$10-'Výstupy modelu'!$H$9),0))","v":0},null,null,{"$f":"W595","v":1865.4300000000003},1885.4300000000003,0,{"$f":"MAX(0,D596-'Vstupní hodnoty'!$C$5)","v":0}]
[null,"2017-01-07T04:30:00",1,352.08000000000004,{"$f":"CEILING(IF(C597-C596=0,IF(H596=0,I596,IF(J596>K596,I596,E596)),'Výstupy modelu'!$C$7),1)","v":1664},0,0,{"$f":"IF(F597=1,IF(G597>'Zdrojová data'!$C$19,0,1),\"\")","v":""},1664,0,{"$f":"MIN(J597,'Zdrojová data'!$C$17)","v":0},0,{"$f":"L597/'Zdrojová data'!$C$16","v":0},{"$f":"M597*'Zdrojová data'!$C$13","v":0},{"$f":"N597*'Zdrojová data'!$C$14","v":0},0,{"$f":"IF(H597=0,D597-'Výstupy modelu'!$C$7,IF(P597=1,J597-K597,0))","v":0},0,null,{"$f":"MAX(0,IF(Q597>0,Q597-('Výstupy modelu'!$H$10-'Výstupy modelu'!$H$9),0))","v":0},null,null,{"$f":"W596","v":1865.4300000000003},1885.4300000000003,0,{"$f":"MAX(0,D597-'Vstupní hodnoty'!$C$5)","v":0}]
[null,"2017-01-07T04:45:00",1,428.76000000000005,{"$f":"CEILING(IF(C598-C597=0,IF(H597=0,I597,IF(J597>K597,I597,E597)),'Výstupy modelu'!$C$7),1)","v":1664},0,0,{"$f":"IF(F598=1,IF(G598>'Zdrojová data'!$C$19,0,1),\"\")","v":""},1664,0,{"$f":"MIN(J598,'Zdrojová data'!$C$17)","v":0},0,{"$f":"L598/'Zdrojová data'!$C$16","v":0},{"$f":"M598*'Zdrojová data'!$C$13","v":0},{"$f":"N598*'Zdrojová data'!$C$14","v":0},0,{"$f":"IF(H598=0,D598-'Výstupy modelu'!$C$7,IF(P598=1,J598-K598,0))","v":0},0,null,{"$f":"MAX(0,IF(Q598>0,Q598-('Výstupy modelu'!$H$10-'Výstupy modelu'!$H$9),0))","v":0},null,null,{"$f":"W597","v":1865.4300000000003},1885.4300000000003,0,{"$f":"MAX(0,D598-'Vstupní hodnoty'!$C$5)","v":0}]
[null,"2017-01-07T05:00:00",1,428.76000000000005,{"$f":"CEILING(IF(C599-C598=0,IF(H598=0,I598,IF(J598>K598,I598,E598)),'Výstupy modelu'!$C$7),1)","v":1664},0,0,{"$f":"IF(F599=1,IF(G599>'Zdrojová data'!$C$19,0,1),\"\")","v":""},1664,0,{"$f":"MIN(J599,'Zdrojová data'!$C$17)","v":0},0,{"$f":"L599/'Zdrojová data'!$C$16","v":0},{"$f":"M599*'Zdrojová data'!$C$13","v":0},{"$f":"N599*'Zdrojová data'!$C$14","v":0},0,{"$f":"IF(H599=0,D599-'Výstupy modelu'!$C$7,IF(P599=1,J599-K599,0))","v":0},0,null,{"$f":"MAX(0,IF(Q599>0,Q599-('Výstupy modelu'!$H$10-'Výstupy modelu'!$H$9),0))","v":0},null,null,{"$f":"W598","v":1865.4300000000003},1885.4300000000003,0,{"$f":"MAX(0,D599-'Vstupní hodnoty'!$C$5)","v":0}]
[null,"2017-01-07T05:15:00",1,406.08000000000004,{"$f":"CEILING(IF(C600-C599=0,IF(H599=0,I599,IF(J599>K599,I599,E599)),'Výstupy modelu'!$C$7),1)","v":1664},0,0,{"$f":"IF(F600=1,IF(G600>'Zdrojová data'!$C$19,0,1),\"\")","v":""},1664,0,{"$f":"MIN(J600,'Zdrojová data'!$C$17)","v":0},0,{"$f":"L600/'Zdrojová data'!$C$16","v":0},{"$f":"M600*'Zdrojová data'!$C$13","v":0},{"$f":"N600*'Zdrojová data'!$C$14","v":0},0,{"$f":"IF(H600=0,D600-'Výstupy modelu'!$C$7,IF(P600=1,J600-K600,0))","v":0},0,null,{"$f":"MAX(0,IF(Q600>0,Q600-('Výstupy modelu'!$H$10-'Výstupy modelu'!$H$9),0))","v":0},null,null,{"$f":"W599","v":1865.4300000000003},1885.4300000000003,0,{"$f":"MAX(0,D600-'Vstupní hodnoty'!$C$5)","v":0}]
[null,"2017-01-07T05:30:00",1,480.6,{"$f":"CEILING(IF(C601-C600=0,IF(H600=0,I600,IF(J600>K600,I600,E600)),'Výstupy modelu'!$C$7),1)","v":1664},0,0,{"$f":"IF(F601=1,IF(G601>'Zdrojová data'!$C$19,0,1),\"\")","v":""},1664,0,{"$f":"MIN(J601,'Zdrojová data'!$C$17)","v":0},0,{"$f":"L601/'Zdrojová data'!$C$16","v":0},{"$f":"M601*'Zdrojová data'!$C$13","v":0},{"$f":"N601*'Zdrojová data'!$C$14","v":0},0,{"$f":"IF(H601=0,D601-'Výstupy modelu'!$C$7,IF(P601=1,J601-K601,0))","v":0},0,null,{"$f":"MAX(0,IF(Q601>0,Q601-('Výstupy modelu'!$H$10-'Výstupy modelu'!$H$9),0))","v":0},null,null,{"$f":"W600","v":1865.4300000000003},1885.4300000000003,0,{"$f":"MAX(0,D601-'Vstupní hodnoty'!$C$5)","v":0}]
[null,"2017-01-07T05:45:00",1,466.56000000000006,{"$f":"CEILING(IF(C602-C601=0,IF(H601=0,I601,IF(J601>K601,I601,E601)),'Výstupy modelu'!$C$7),1)","v":1664},0,0,{"$f":"IF(F602=1,IF(G602>'Zdrojová data'!$C$19,0,1),\"\")","v":""},1664,0,{"$f":"MIN(J602,'Zdrojová data'!$C$17)","v":0},0,{"$f":"L602/'Zdrojová data'!$C$16","v":0},{"$f":"M602*'Zdrojová data'!$C$13","v":0},{"$f":"N602*'Zdrojová data'!$C$14","v":0},0,{"$f":"IF(H602=0,D602-'Výstupy modelu'!$C$7,IF(P602=1,J602-K602,0))","v":0},0,null,{"$f":"MAX(0,IF(Q602>0,Q602-('Výstupy modelu'!$H$10-'Výstupy modelu'!$H$9),0))","v":0},null,null,{"$f":"W601","v":1865.4300000000003},1885.4300000000003,0,{"$f":"MAX(0,D602-'Vstupní hodnoty'!$C$5)","v":0}]
[null,"2017-01-07T06:00:00",1,555.12,{"$f":"CEILING(IF(C603-C602=0,IF(H602=0,I602,IF(J602>K602,I602,E602)),'Výstupy modelu'!$C$7),1)","v":1664},0,0,{"$f":"IF(F603=1,IF(G603>'Zdrojová data'!$C$19,0,1),\"\")","v":""},1664,0,{"$f":"MIN(J603,'Zdrojová data'!$C$17)","v":0},0,{"$f":"L603/'Zdrojová data'!$C$16","v":0},{"$f":"M603*'Zdrojová data'!$C$13","v":0},{"$f":"N603*'Zdrojová data'!$C$14","v":0},0,{"$f":"IF(H603=0,D603-'Výstupy modelu'!$C$7,IF(P603=1,J603-K603,0))","v":0},0,null,{"$f":"MAX(0,IF(Q603>0,Q603-('Výstupy modelu'!$H$10-'Výstupy modelu'!$H$9),0))","v":0},null,null,{"$f":"W602","v":1865.4300000000003},1885.4300000000003,0,{"$f":"MAX(0,D603-'Vstupní hodnoty'!$C$5)","v":0}]
[null,"2017-01-07T06:15:00",1,628.56000000000006,{"$f":"CEILING(IF(C604-C603=0,IF(H603=0,I603,IF(J603>K603,I603,E603)),'Výstupy modelu'!$C$7),1)","v":1664},0,0,{"$f":"IF(F604=1,IF(G604>'Zdrojová data'!$C$19,0,1),\"\")","v":""},1664,0,{"$f":"MIN(J604,'Zdrojová data'!$C$17)","v":0},0,{"$f":"L604/'Zdrojová data'!$C$16","v":0},{"$f":"M604*'Zdrojová data'!$C$13","v":0},{"$f":"N604*'Zdrojová data'!$C$14","v":0},0,{"$f":"IF(H604=0,D604-'Výstupy modelu'!$C$7,IF(P604=1,J604-K604,0))","v":0},0,null,{"$f":"MAX(0,IF(Q604>0,Q604-('Výstupy modelu'!$H$10-'Výstupy modelu'!$H$9),0))","v":0},null,null,{"$f":"W603","v":1865.4300000000003},1885.4300000000003,0,{"$f":"MAX(0,D604-'Vstupní hodnoty'!$C$5)","v":0}]
[null,"2017-01-07T06:30:00",1,635.04000000000008,{"$f":"CEILING(IF(C605-C604=0,IF(H604=0,I604,IF(J604>K604,I604,E604)),'Výstupy modelu'!$C$7),1)","v":1664},0,0,{"$f":"IF(F605=1,IF(G605>'Zdrojová data'!$C$19,0,1),\"\")","v":""},1664,0,{"$f":"MIN(J605,'Zdrojová data'!$C$17)","v":0},0,{"$f":"L605/'Zdrojová data'!$C$16","v":0},{"$f":"M605*'Zdrojová data'!$C$13","v":0},{"$f":"N605*'Zdrojová data'!$C$14","v":0},0,{"$f":"IF(H605=0,D605-'Výstupy modelu'!$C$7,IF(P605=1,J605-K605,0))","v":0},0,null,{"$f":"MAX(0,IF(Q605>0,Q605-('Výstupy modelu'!$H$10-'Výstupy modelu'!$H$9),0))","v":0},null,null,{"$f":"W604","v":1865.4300000000003},1885.4300000000003,0,{"$f":"MAX(0,D605-'Vstupní hodnoty'!$C$5)","v":0}]
[null,"2017-01-07T06:45:00",1,649.08000000000004,{"$f":"CEILING(IF(C606-C605=0,IF(H605=0,I605,IF(J605>K605,I605,E605)),'Výstupy modelu'!$C$7),1)","v":1664},0,0,{"$f":"IF(F606=1,IF(G606>'Zdrojová data'!$C$19,0,1),\"\")","v":""},1664,0,{"$f":"MIN(J606,'Zdrojová data'!$C$17)","v":0},0,{"$f":"L606/'Zdrojová data'!$C$16","v":0},{"$f":"M606*'Zdrojová data'!$C$13","v":0},{"$f":"N606*'Zdrojová data'!$C$14","v":0},0,{"$f":"IF(H606=0,D606-'Výstupy modelu'!$C$7,IF(P606=1,J606-K606,0))","v":0},0,null,{"$f":"MAX(0,IF(Q606>0,Q606-('Výstupy modelu'!$H$10-'Výstupy modelu'!$H$9),0))","v":0},null,null,{"$f":"W605","v":1865.4300000000003},1885.4300000000003,0,{"$f":"MAX(0,D606-'Vstupní hodnoty'!$C$5)","v":0}]
[null,"2017-01-07T07:00:00",1,662.04000000000008,{"$f":"CEILING(IF(C607-C606=0,IF(H606=0,I606,IF(J606>K606,I606,E606)),'Výstupy modelu'!$C$7),1)","v":1664},0,0,{"$f":"IF(F607=1,IF(G607>'Zdrojová data'!$C$19,0,1),\"\")","v":""},1664,0,{"$f":"MIN(J607,'Zdrojová data'!$C$17)","v":0},0,{"$f":"L607/'Zdrojová data'!$C$16","v":0},{"$f":"M607*'Zdrojová data'!$C$13","v":0},{"$f":"N607*'Zdrojová data'!$C$14","v":0},0,{"$f":"IF(H607=0,D607-'Výstupy modelu'!$C$7,IF(P607=1,J607-K607,0))","v":0},0,null,{"$f":"MAX(0,IF(Q607>0,Q607-('Výstupy modelu'!$H$10-'Výstupy modelu'!$H$9),0))","v":0},null,null,{"$f":"W606","v":1865.4300000000003},1885.4300000000003,0,{"$f":"MAX(0,D607-'Vstupní hodnoty'!$C$5)","v":0}]
[null,"2017-01-07T07:15:00",1,666.36,{"$f":"CEILING(IF(C608-C607=0,IF(H607=0,I607,IF(J607>K607,I607,E607)),'Výstupy modelu'!$C$7),1)","v":1664},0,0,{"$f":"IF(F608=1,IF(G608>'Zdrojová data'!$C$19,0,1),\"\")","v":""},1664,0,{"$f":"MIN(J608,'Zdrojová data'!$C$17)","v":0},0,{"$f":"L608/'Zdrojová data'!$C$16","v":0},{"$f":"M608*'Zdrojová data'!$C$13","v":0},{"$f":"N608*'Zdrojová data'!$C$14","v":0},0,{"$f":"IF(H608=0,D608-'Výstupy modelu'!$C$7,IF(P608=1,J608-K608,0))","v":0},0,null,{"$f":"MAX(0,IF(Q608>0,Q608-('Výstupy modelu'!$H$10-'Výstupy modelu'!$H$9),0))","v":0},null,null,{"$f":"W607","v":1865.4300000000003},1885.4300000000003,0,{"$f":"MAX(0,D608-'Vstupní hodnoty'!$C$5)","v":0}]
[null,"2017-01-07T07:30:00",1,624.24,{"$f":"CEILING(IF(C609-C608=0,IF(H608=0,I608,IF(J608>K608,I608,E608)),'Výstupy modelu'!$C$7),1)","v":1664},0,0,{"$f":"IF(F609=1,IF(G609>'Zdrojová data'!$C$19,0,1),\"\")","v":""},1664,0,{"$f":"MIN(J609,'Zdrojová data'!$C$17)","v":0},0,{"$f":"L609/'Zdrojová data'!$C$16","v":0},{"$f":"M609*'Zdrojová data'!$C$13","v":0},{"$f":"N609*'Zdrojová data'!$C$14","v":0},0,{"$f":"IF(H609=0,D609-'Výstupy modelu'!$C$7,IF(P609=1,J609-K609,0))","v":0},0,null,{"$f":"MAX(0,IF(Q609>0,Q609-('Výstupy modelu'!$H$10-'Výstupy modelu'!$H$9),0))","v":0},null,null,{"$f":"W608","v":1865.4300000000003},1885.4300000000003,0,{"$f":"MAX(0,D609-'Vstupní hodnoty'!$C$5)","v":0}]
[null,"2017-01-07T07:45:00",1,585.36,{"$f":"CEILING(IF(C610-C609=0,IF(H609=0,I609,IF(J609>K609,I609,E609)),'Výstupy modelu'!$C$7),1)","v":1664},0,0,{"$f":"IF(F610=1,IF(G610>'Zdrojová data'!$C$19,0,1),\"\")","v":""},1664,0,{"$f":"MIN(J610,'Zdrojová data'!$C$17)","v":0},0,{"$f":"L610/'Zdrojová data'!$C$16","v":0},{"$f":"M610*'Zdrojová data'!$C$13","v":0},{"$f":"N610*'Zdrojová data'!$C$14","v":0},0,{"$f":"IF(H610=0,D610-'Výstupy modelu'!$C$7,IF(P610=1,J610-K610,0))","v":0},0,null,{"$f":"MAX(0,IF(Q610>0,Q610-('Výstupy modelu'!$H$10-'Výstupy modelu'!$H$9),0))","v":0},null,null,{"$f":"W609","v":1865.4300000000003},1885.4300000000003,0,{"$f":"MAX(0,D610-'Vstupní hodnoty'!$C$5)","v":0}]
[null,"2017-01-07T08:00:00",1,583.20000000000005,{"$f":"CEILING(IF(C611-C610=0,IF(H610=0,I610,IF(J610>K610,I610,E610)),'Výstupy modelu'!$C$7),1)","v":1664},0,0,{"$f":"IF(F611=1,IF(G611>'Zdrojová data'!$C$19,0,1),\"\")","v":""},1664,0,{"$f":"MIN(J611,'Zdrojová data'!$C$17)","v":0},0,{"$f":"L611/'Zdrojová data'!$C$16","v":0},{"$f":"M611*'Zdrojová data'!$C$13","v":0},{"$f":"N611*'Zdrojová data'!$C$14","v":0},0,{"$f":"IF(H611=0,D611-'Výstupy modelu'!$C$7,IF(P611=1,J611-K611,0))","v":0},0,null,{"$f":"MAX(0,IF(Q611>0,Q611-('Výstupy modelu'!$H$10-'Výstupy modelu'!$H$9),0))","v":0},null,null,{"$f":"W610","v":1865.4300000000003},1885.4300000000003,0,{"$f":"MAX(0,D611-'Vstupní hodnoty'!$C$5)","v":0}]
[null,"2017-01-07T08:15:00",1,635.04000000000008,{"$f":"CEILING(IF(C612-C611=0,IF(H611=0,I611,IF(J611>K611,I611,E611)),'Výstupy modelu'!$C$7),1)","v":1664},0,0,{"$f":"IF(F612=1,IF(G612>'Zdrojová data'!$C$19,0,1),\"\")","v":""},1664,0,{"$f":"MIN(J612,'Zdrojová data'!$C$17)","v":0},0,{"$f":"L612/'Zdrojová data'!$C$16","v":0},{"$f":"M612*'Zdrojová data'!$C$13","v":0},{"$f":"N612*'Zdrojová data'!$C$14","v":0},0,{"$f":"IF(H612=0,D612-'Výstupy modelu'!$C$7,IF(P612=1,J612-K612,0))","v":0},0,null,{"$f":"MAX(0,IF(Q612>0,Q612-('Výstupy modelu'!$H$10-'Výstupy modelu'!$H$9),0))","v":0},null,null,{"$f":"W611","v":1865.4300000000003},1885.4300000000003,0,{"$f":"MAX(0,D612-'Vstupní hodnoty'!$C$5)","v":0}]
[null,"2017-01-07T08:30:00",1,648,{"$f":"CEILING(IF(C613-C612=0,IF(H612=0,I612,IF(J612>K612,I612,E612)),'Výstupy modelu'!$C$7),1)","v":1664},0,0,{"$f":"IF(F613=1,IF(G613>'Zdrojová data'!$C$19,0,1),\"\")","v":""},1664,0,{"$f":"MIN(J613,'Zdrojová data'!$C$17)","v":0},0,{"$f":"L613/'Zdrojová data'!$C$16","v":0},{"$f":"M613*'Zdrojová data'!$C$13","v":0},{"$f":"N613*'Zdrojová data'!$C$14","v":0},0,{"$f":"IF(H613=0,D613-'Výstupy modelu'!$C$7,IF(P613=1,J613-K613,0))","v":0},0,null,{"$f":"MAX(0,IF(Q613>0,Q613-('Výstupy modelu'!$H$10-'Výstupy modelu'!$H$9),0))","v":0},null,null,{"$f":"W612","v":1865.4300000000003},1885.4300000000003,0,{"$f":"MAX(0,D613-'Vstupní hodnoty'!$C$5)","v":0}]
[null,"2017-01-07T08:45:00",1,645.84,{"$f":"CEILING(IF(C614-C613=0,IF(H613=0,I613,IF(J613>K613,I613,E613)),'Výstupy modelu'!$C$7),1)","v":1664},0,0,{"$f":"IF(F614=1,IF(G614>'Zdrojová data'!$C$19,0,1),\"\")","v":""},1664,0,{"$f":"MIN(J614,'Zdrojová data'!$C$17)","v":0},0,{"$f":"L614/'Zdrojová data'!$C$16","v":0},{"$f":"M614*'Zdrojová data'!$C$13","v":0},{"$f":"N614*'Zdrojová data'!$C$14","v":0},0,{"$f":"IF(H614=0,D614-'Výstupy modelu'!$C$7,IF(P614=1,J614-K614,0))","v":0},0,null,{"$f":"MAX(0,IF(Q614>0,Q614-('Výstupy modelu'!$H$10-'Výstupy modelu'!$H$9),0))","v":0},null,null,{"$f":"W613","v":1865.4300000000003},1885.4300000000003,0,{"$f":"MAX(0,D614-'Vstupní hodnoty'!$C$5)","v":0}]
[null,"2017-01-07T09:00:00",1,659.88,{"$f":"CEILING(IF(C615-C614=0,IF(H614=0,I614,IF(J614>K614,I614,E614)),'Výstupy modelu'!$C$7),1)","v":1664},0,0,{"$f":"IF(F615=1,IF(G615>'Zdrojová data'!$C$19,0,1),\"\")","v":""},1664,0,{"$f":"MIN(J615,'Zdrojová data'!$C$17)","v":0},0,{"$f":"L615/'Zdrojová data'!$C$16","v":0},{"$f":"M615*'Zdrojová data'!$C$13","v":0},{"$f":"N615*'Zdrojová data'!$C$14","v":0},0,{"$f":"IF(H615=0,D615-'Výstupy modelu'!$C$7,IF(P615=1,J615-K615,0))","v":0},0,null,{"$f":"MAX(0,IF(Q615>0,Q615-('Výstupy modelu'!$H$10-'Výstupy modelu'!$H$9),0))","v":0},null,null,{"$f":"W614","v":1865.4300000000003},1885.4300000000003,0,{"$f":"MAX(0,D615-'Vstupní hodnoty'!$C$5)","v":0}]
[null,"2017-01-07T09:15:00",1,651.24,{"$f":"CEILING(IF(C616-C615=0,IF(H615=0,I615,IF(J615>K615,I615,E615)),'Výstupy modelu'!$C$7),1)","v":1664},0,0,{"$f":"IF(F616=1,IF(G616>'Zdrojová data'!$C$19,0,1),\"\")","v":""},1664,0,{"$f":"MIN(J616,'Zdrojová data'!$C$17)","v":0},0,{"$f":"L616/'Zdrojová data'!$C$16","v":0},{"$f":"M616*'Zdrojová data'!$C$13","v":0},{"$f":"N616*'Zdrojová data'!$C$14","v":0},0,{"$f":"IF(H616=0,D616-'Výstupy modelu'!$C$7,IF(P616=1,J616-K616,0))","v":0},0,null,{"$f":"MAX(0,IF(Q616>0,Q616-('Výstupy modelu'!$H$10-'Výstupy modelu'!$H$9),0))","v":0},null,null,{"$f":"W615","v":1865.4300000000003},1885.4300000000003,0,{"$f":"MAX(0,D616-'Vstupní hodnoty'!$C$5)","v":0}]
[null,"2017-01-07T09:30:00",1,616.68000000000006,{"$f":"CEILING(IF(C617-C616=0,IF(H616=0,I616,IF(J616>K616,I616,E616)),'Výstupy modelu'!$C$7),1)","v":1664},0,0,{"$f":"IF(F617=1,IF(G617>'Zdrojová data'!$C$19,0,1),\"\")","v":""},1664,0,{"$f":"MIN(J617,'Zdrojová data'!$C$17)","v":0},0,{"$f":"L617/'Zdrojová data'!$C$16","v":0},{"$f":"M617*'Zdrojová data'!$C$13","v":0},{"$f":"N617*'Zdrojová data'!$C$14","v":0},0,{"$f":"IF(H617=0,D617-'Výstupy modelu'!$C$7,IF(P617=1,J617-K617,0))","v":0},0,null,{"$f":"MAX(0,IF(Q617>0,Q617-('Výstupy modelu'!$H$10-'Výstupy modelu'!$H$9),0))","v":0},null,null,{"$f":"W616","v":1865.4300000000003},1885.4300000000003,0,{"$f":"MAX(0,D617-'Vstupní hodnoty'!$C$5)","v":0}]
[null,"2017-01-07T09:45:00",1,613.44000000000005,{"$f":"CEILING(IF(C618-C617=0,IF(H617=0,I617,IF(J617>K617,I617,E617)),'Výstupy modelu'!$C$7),1)","v":1664},0,0,{"$f":"IF(F618=1,IF(G618>'Zdrojová data'!$C$19,0,1),\"\")","v":""},1664,0,{"$f":"MIN(J618,'Zdrojová data'!$C$17)","v":0},0,{"$f":"L618/'Zdrojová data'!$C$16","v":0},{"$f":"M618*'Zdrojová data'!$C$13","v":0},{"$f":"N618*'Zdrojová data'!$C$14","v":0},0,{"$f":"IF(H618=0,D618-'Výstupy modelu'!$C$7,IF(P618=1,J618-K618,0))","v":0},0,null,{"$f":"MAX(0,IF(Q618>0,Q618-('Výstupy modelu'!$H$10-'Výstupy modelu'!$H$9),0))","v":0},null,null,{"$f":"W617","v":1865.4300000000003},1885.4300000000003,0,{"$f":"MAX(0,D618-'Vstupní hodnoty'!$C$5)","v":0}]
[null,"2017-01-07T10:00:00",1,603.72,{"$f":"CEILING(IF(C619-C618=0,IF(H618=0,I618,IF(J618>K618,I618,E618)),'Výstupy modelu'!$C$7),1)","v":1664},0,0,{"$f":"IF(F619=1,IF(G619>'Zdrojová data'!$C$19,0,1),\"\")","v":""},1664,0,{"$f":"MIN(J619,'Zdrojová data'!$C$17)","v":0},0,{"$f":"L619/'Zdrojová data'!$C$16","v":0},{"$f":"M619*'Zdrojová data'!$C$13","v":0},{"$f":"N619*'Zdrojová data'!$C$14","v":0},0,{"$f":"IF(H619=0,D619-'Výstupy modelu'!$C$7,IF(P619=1,J619-K619,0))","v":0},0,null,{"$f":"MAX(0,IF(Q619>0,Q619-('Výstupy modelu'!$H$10-'Výstupy modelu'!$H$9),0))","v":0},null,null,{"$f":"W618","v":1865.4300000000003},1885.4300000000003,0,{"$f":"MAX(0,D619-'Vstupní hodnoty'!$C$5)","v":0}]
[null,"2017-01-07T10:15:00",1,591.84,{"$f":"CEILING(IF(C620-C619=0,IF(H619=0,I619,IF(J619>K619,I619,E619)),'Výstupy modelu'!$C$7),1)","v":1664},0,0,{"$f":"IF(F620=1,IF(G620>'Zdrojová data'!$C$19,0,1),\"\")","v":""},1664,0,{"$f":"MIN(J620,'Zdrojová data'!$C$17)","v":0},0,{"$f":"L620/'Zdrojová data'!$C$16","v":0},{"$f":"M620*'Zdrojová data'!$C$13","v":0},{"$f":"N620*'Zdrojová data'!$C$14","v":0},0,{"$f":"IF(H620=0,D620-'Výstupy modelu'!$C$7,IF(P620=1,J620-K620,0))","v":0},0,null,{"$f":"MAX(0,IF(Q620>0,Q620-('Výstupy modelu'!$H$10-'Výstupy modelu'!$H$9),0))","v":0},null,null,{"$f":"W619","v":1865.4300000000003},1885.4300000000003,0,{"$f":"MAX(0,D620-'Vstupní hodnoty'!$C$5)","v":0}]
[null,"2017-01-07T10:30:00",1,616.68000000000006,{"$f":"CEILING(IF(C621-C620=0,IF(H620=0,I620,IF(J620>K620,I620,E620)),'Výstupy modelu'!$C$7),1)","v":1664},0,0,{"$f":"IF(F621=1,IF(G621>'Zdrojová data'!$C$19,0,1),\"\")","v":""},1664,0,{"$f":"MIN(J621,'Zdrojová data'!$C$17)","v":0},0,{"$f":"L621/'Zdrojová data'!$C$16","v":0},{"$f":"M621*'Zdrojová data'!$C$13","v":0},{"$f":"N621*'Zdrojová data'!$C$14","v":0},0,{"$f":"IF(H621=0,D621-'Výstupy modelu'!$C$7,IF(P621=1,J621-K621,0))","v":0},0,null,{"$f":"MAX(0,IF(Q621>0,Q621-('Výstupy modelu'!$H$10-'Výstupy modelu'!$H$9),0))","v":0},null,null,{"$f":"W620","v":1865.4300000000003},1885.4300000000003,0,{"$f":"MAX(0,D621-'Vstupní hodnoty'!$C$5)","v":0}]
[null,"2017-01-07T10:45:00",1,618.84,{"$f":"CEILING(IF(C622-C621=0,IF(H621=0,I621,IF(J621>K621,I621,E621)),'Výstupy modelu'!$C$7),1)","v":1664},0,0,{"$f":"IF(F622=1,IF(G622>'Zdrojová data'!$C$19,0,1),\"\")","v":""},1664,0,{"$f":"MIN(J622,'Zdrojová data'!$C$17)","v":0},0,{"$f":"L622/'Zdrojová data'!$C$16","v":0},{"$f":"M622*'Zdrojová data'!$C$13","v":0},{"$f":"N622*'Zdrojová data'!$C$14","v":0},0,{"$f":"IF(H622=0,D622-'Výstupy modelu'!$C$7,IF(P622=1,J622-K622,0))","v":0},0,null,{"$f":"MAX(0,IF(Q622>0,Q622-('Výstupy modelu'!$H$10-'Výstupy modelu'!$H$9),0))","v":0},null,null,{"$f":"W621","v":1865.4300000000003},1885.4300000000003,0,{"$f":"MAX(0,D622-'Vstupní hodnoty'!$C$5)","v":0}]
[null,"2017-01-07T11:00:00",1,666.36,{"$f":"CEILING(IF(C623-C622=0,IF(H622=0,I622,IF(J622>K622,I622,E622)),'Výstupy modelu'!$C$7),1)","v":1664},0,0,{"$f":"IF(F623=1,IF(G623>'Zdrojová data'!$C$19,0,1),\"\")","v":""},1664,0,{"$f":"MIN(J623,'Zdrojová data'!$C$17)","v":0},0,{"$f":"L623/'Zdrojová data'!$C$16","v":0},{"$f":"M623*'Zdrojová data'!$C$13","v":0},{"$f":"N623*'Zdrojová data'!$C$14","v":0},0,{"$f":"IF(H623=0,D623-'Výstupy modelu'!$C$7,IF(P623=1,J623-K623,0))","v":0},0,null,{"$f":"MAX(0,IF(Q623>0,Q623-('Výstupy modelu'!$H$10-'Výstupy modelu'!$H$9),0))","v":0},null,null,{"$f":"W622","v":1865.4300000000003},1885.4300000000003,0,{"$f":"MAX(0,D623-'Vstupní hodnoty'!$C$5)","v":0}]
[null,"2017-01-07T11:15:00",1,650.16000000000008,{"$f":"CEILING(IF(C624-C623=0,IF(H623=0,I623,IF(J623>K623,I623,E623)),'Výstupy modelu'!$C$7),1)","v":1664},0,0,{"$f":"IF(F624=1,IF(G624>'Zdrojová data'!$C$19,0,1),\"\")","v":""},1664,0,{"$f":"MIN(J624,'Zdrojová data'!$C$17)","v":0},0,{"$f":"L624/'Zdrojová data'!$C$16","v":0},{"$f":"M624*'Zdrojová data'!$C$13","v":0},{"$f":"N624*'Zdrojová data'!$C$14","v":0},0,{"$f":"IF(H624=0,D624-'Výstupy modelu'!$C$7,IF(P624=1,J624-K624,0))","v":0},0,null,{"$f":"MAX(0,IF(Q624>0,Q624-('Výstupy modelu'!$H$10-'Výstupy modelu'!$H$9),0))","v":0},null,null,{"$f":"W623","v":1865.4300000000003},1885.4300000000003,0,{"$f":"MAX(0,D624-'Vstupní hodnoty'!$C$5)","v":0}]
[null,"2017-01-07T11:30:00",1,652.32000000000005,{"$f":"CEILING(IF(C625-C624=0,IF(H624=0,I624,IF(J624>K624,I624,E624)),'Výstupy modelu'!$C$7),1)","v":1664},0,0,{"$f":"IF(F625=1,IF(G625>'Zdrojová data'!$C$19,0,1),\"\")","v":""},1664,0,{"$f":"MIN(J625,'Zdrojová data'!$C$17)","v":0},0,{"$f":"L625/'Zdrojová data'!$C$16","v":0},{"$f":"M625*'Zdrojová data'!$C$13","v":0},{"$f":"N625*'Zdrojová data'!$C$14","v":0},0,{"$f":"IF(H625=0,D625-'Výstupy modelu'!$C$7,IF(P625=1,J625-K625,0))","v":0},0,null,{"$f":"MAX(0,IF(Q625>0,Q625-('Výstupy modelu'!$H$10-'Výstupy modelu'!$H$9),0))","v":0},null,null,{"$f":"W624","v":1865.4300000000003},1885.4300000000003,{"$f":"MAX(0,D625-W625)","v":0},{"$f":"MAX(0,D625-'Vstupní hodnoty'!$C$5)","v":0}]
[null,"2017-01-07T11:45:00",1,618.84,{"$f":"CEILING(IF(C626-C625=0,IF(H625=0,I625,IF(J625>K625,I625,E625)),'Výstupy modelu'!$C$7),1)","v":1664},0,0,{"$f":"IF(F626=1,IF(G626>'Zdrojová data'!$C$19,0,1),\"\")","v":""},1664,0,{"$f":"MIN(J626,'Zdrojová data'!$C$17)","v":0},0,{"$f":"L626/'Zdrojová data'!$C$16","v":0},{"$f":"M626*'Zdrojová data'!$C$13","v":0},{"$f":"N626*'Zdrojová data'!$C$14","v":0},0,{"$f":"IF(H626=0,D626-'Výstupy modelu'!$C$7,IF(P626=1,J626-K626,0))","v":0},0,null,{"$f":"MAX(0,IF(Q626>0,Q626-('Výstupy modelu'!$H$10-'Výstupy modelu'!$H$9),0))","v":0},null,null,{"$f":"W625","v":1865.4300000000003},1885.4300000000003,0,{"$f":"MAX(0,D626-'Vstupní hodnoty'!$C$5)","v":0}]
[null,"2017-01-07T12:00:00",1,505.44000000000005,{"$f":"CEILING(IF(C627-C626=0,IF(H626=0,I626,IF(J626>K626,I626,E626)),'Výstupy modelu'!$C$7),1)","v":1664},0,0,{"$f":"IF(F627=1,IF(G627>'Zdrojová data'!$C$19,0,1),\"\")","v":""},1664,0,{"$f":"MIN(J627,'Zdrojová data'!$C$17)","v":0},0,{"$f":"L627/'Zdrojová data'!$C$16","v":0},{"$f":"M627*'Zdrojová data'!$C$13","v":0},{"$f":"N627*'Zdrojová data'!$C$14","v":0},0,{"$f":"IF(H627=0,D627-'Výstupy modelu'!$C$7,IF(P627=1,J627-K627,0))","v":0},0,null,{"$f":"MAX(0,IF(Q627>0,Q627-('Výstupy modelu'!$H$10-'Výstupy modelu'!$H$9),0))","v":0},null,null,{"$f":"W626","v":1865.4300000000003},1885.4300000000003,0,{"$f":"MAX(0,D627-'Vstupní hodnoty'!$C$5)","v":0}]
[null,"2017-01-07T12:15:00",1,489.24,{"$f":"CEILING(IF(C628-C627=0,IF(H627=0,I627,IF(J627>K627,I627,E627)),'Výstupy modelu'!$C$7),1)","v":1664},0,0,{"$f":"IF(F628=1,IF(G628>'Zdrojová data'!$C$19,0,1),\"\")","v":""},1664,0,{"$f":"MIN(J628,'Zdrojová data'!$C$17)","v":0},0,{"$f":"L628/'Zdrojová data'!$C$16","v":0},{"$f":"M628*'Zdrojová data'!$C$13","v":0},{"$f":"N628*'Zdrojová data'!$C$14","v":0},0,{"$f":"IF(H628=0,D628-'Výstupy modelu'!$C$7,IF(P628=1,J628-K628,0))","v":0},0,null,{"$f":"MAX(0,IF(Q628>0,Q628-('Výstupy modelu'!$H$10-'Výstupy modelu'!$H$9),0))","v":0},null,null,{"$f":"W627","v":1865.4300000000003},1885.4300000000003,0,{"$f":"MAX(0,D628-'Vstupní hodnoty'!$C$5)","v":0}]
[null,"2017-01-07T12:30:00",1,495.72,{"$f":"CEILING(IF(C629-C628=0,IF(H628=0,I628,IF(J628>K628,I628,E628)),'Výstupy modelu'!$C$7),1)","v":1664},0,0,{"$f":"IF(F629=1,IF(G629>'Zdrojová data'!$C$19,0,1),\"\")","v":""},1664,0,{"$f":"MIN(J629,'Zdrojová data'!$C$17)","v":0},0,{"$f":"L629/'Zdrojová data'!$C$16","v":0},{"$f":"M629*'Zdrojová data'!$C$13","v":0},{"$f":"N629*'Zdrojová data'!$C$14","v":0},0,{"$f":"IF(H629=0,D629-'Výstupy modelu'!$C$7,IF(P629=1,J629-K629,0))","v":0},0,null,{"$f":"MAX(0,IF(Q629>0,Q629-('Výstupy modelu'!$H$10-'Výstupy modelu'!$H$9),0))","v":0},null,null,{"$f":"W628","v":1865.4300000000003},1885.4300000000003,0,{"$f":"MAX(0,D629-'Vstupní hodnoty'!$C$5)","v":0}]
[null,"2017-01-07T12:45:00",1,488.16,{"$f":"CEILING(IF(C630-C629=0,IF(H629=0,I629,IF(J629>K629,I629,E629)),'Výstupy modelu'!$C$7),1)","v":1664},0,0,{"$f":"IF(F630=1,IF(G630>'Zdrojová data'!$C$19,0,1),\"\")","v":""},1664,0,{"$f":"MIN(J630,'Zdrojová data'!$C$17)","v":0},0,{"$f":"L630/'Zdrojová data'!$C$16","v":0},{"$f":"M630*'Zdrojová data'!$C$13","v":0},{"$f":"N630*'Zdrojová data'!$C$14","v":0},0,{"$f":"IF(H630=0,D630-'Výstupy modelu'!$C$7,IF(P630=1,J630-K630,0))","v":0},0,null,{"$f":"MAX(0,IF(Q630>0,Q630-('Výstupy modelu'!$H$10-'Výstupy modelu'!$H$9),0))","v":0},null,null,{"$f":"W629","v":1865.4300000000003},1885.4300000000003,0,{"$f":"MAX(0,D630-'Vstupní hodnoty'!$C$5)","v":0}]
[null,"2017-01-07T13:00:00",1,488.16,{"$f":"CEILING(IF(C631-C630=0,IF(H630=0,I630,IF(J630>K630,I630,E630)),'Výstupy modelu'!$C$7),1)","v":1664},0,0,{"$f":"IF(F631=1,IF(G631>'Zdrojová data'!$C$19,0,1),\"\")","v":""},1664,0,{"$f":"MIN(J631,'Zdrojová data'!$C$17)","v":0},0,{"$f":"L631/'Zdrojová data'!$C$16","v":0},{"$f":"M631*'Zdrojová data'!$C$13","v":0},{"$f":"N631*'Zdrojová data'!$C$14","v":0},0,{"$f":"IF(H631=0,D631-'Výstupy modelu'!$C$7,IF(P631=1,J631-K631,0))","v":0},0,null,{"$f":"MAX(0,IF(Q631>0,Q631-('Výstupy modelu'!$H$10-'Výstupy modelu'!$H$9),0))","v":0},null,null,{"$f":"W630","v":1865.4300000000003},1885.4300000000003,0,{"$f":"MAX(0,D631-'Vstupní hodnoty'!$C$5)","v":0}]
[null,"2017-01-07T13:15:00",1,482.76000000000005,{"$f":"CEILING(IF(C632-C631=0,IF(H631=0,I631,IF(J631>K631,I631,E631)),'Výstupy modelu'!$C$7),1)","v":1664},0,0,{"$f":"IF(F632=1,IF(G632>'Zdrojová data'!$C$19,0,1),\"\")","v":""},1664,0,{"$f":"MIN(J632,'Zdrojová data'!$C$17)","v":0},0,{"$f":"L632/'Zdrojová data'!$C$16","v":0},{"$f":"M632*'Zdrojová data'!$C$13","v":0},{"$f":"N632*'Zdrojová data'!$C$14","v":0},0,{"$f":"IF(H632=0,D632-'Výstupy modelu'!$C$7,IF(P632=1,J632-K632,0))","v":0},0,null,{"$f":"MAX(0,IF(Q632>0,Q632-('Výstupy modelu'!$H$10-'Výstupy modelu'!$H$9),0))","v":0},null,null,{"$f":"W631","v":1865.4300000000003},1885.4300000000003,0,{"$f":"MAX(0,D632-'Vstupní hodnoty'!$C$5)","v":0}]
[null,"2017-01-07T13:30:00",1,436.32000000000005,{"$f":"CEILING(IF(C633-C632=0,IF(H632=0,I632,IF(J632>K632,I632,E632)),'Výstupy modelu'!$C$7),1)","v":1664},0,0,{"$f":"IF(F633=1,IF(G633>'Zdrojová data'!$C$19,0,1),\"\")","v":""},1664,0,{"$f":"MIN(J633,'Zdrojová data'!$C$17)","v":0},0,{"$f":"L633/'Zdrojová data'!$C$16","v":0},{"$f":"M633*'Zdrojová data'!$C$13","v":0},{"$f":"N633*'Zdrojová data'!$C$14","v":0},0,{"$f":"IF(H633=0,D633-'Výstupy modelu'!$C$7,IF(P633=1,J633-K633,0))","v":0},0,null,{"$f":"MAX(0,IF(Q633>0,Q633-('Výstupy modelu'!$H$10-'Výstupy modelu'!$H$9),0))","v":0},null,null,{"$f":"W632","v":1865.4300000000003},1885.4300000000003,0,{"$f":"MAX(0,D633-'Vstupní hodnoty'!$C$5)","v":0}]
[null,"2017-01-07T13:45:00",1,408.24,{"$f":"CEILING(IF(C634-C633=0,IF(H633=0,I633,IF(J633>K633,I633,E633)),'Výstupy modelu'!$C$7),1)","v":1664},0,0,{"$f":"IF(F634=1,IF(G634>'Zdrojová data'!$C$19,0,1),\"\")","v":""},1664,0,{"$f":"MIN(J634,'Zdrojová data'!$C$17)","v":0},0,{"$f":"L634/'Zdrojová data'!$C$16","v":0},{"$f":"M634*'Zdrojová data'!$C$13","v":0},{"$f":"N634*'Zdrojová data'!$C$14","v":0},0,{"$f":"IF(H634=0,D634-'Výstupy modelu'!$C$7,IF(P634=1,J634-K634,0))","v":0},0,null,{"$f":"MAX(0,IF(Q634>0,Q634-('Výstupy modelu'!$H$10-'Výstupy modelu'!$H$9),0))","v":0},null,null,{"$f":"W633","v":1865.4300000000003},1885.4300000000003,0,{"$f":"MAX(0,D634-'Vstupní hodnoty'!$C$5)","v":0}]
[null,"2017-01-07T14:00:00",1,378,{"$f":"CEILING(IF(C635-C634=0,IF(H634=0,I634,IF(J634>K634,I634,E634)),'Výstupy modelu'!$C$7),1)","v":1664},0,0,{"$f":"IF(F635=1,IF(G635>'Zdrojová data'!$C$19,0,1),\"\")","v":""},1664,0,{"$f":"MIN(J635,'Zdrojová data'!$C$17)","v":0},0,{"$f":"L635/'Zdrojová data'!$C$16","v":0},{"$f":"M635*'Zdrojová data'!$C$13","v":0},{"$f":"N635*'Zdrojová data'!$C$14","v":0},0,{"$f":"IF(H635=0,D635-'Výstupy modelu'!$C$7,IF(P635=1,J635-K635,0))","v":0},0,null,{"$f":"MAX(0,IF(Q635>0,Q635-('Výstupy modelu'!$H$10-'Výstupy modelu'!$H$9),0))","v":0},null,null,{"$f":"W634","v":1865.4300000000003},1885.4300000000003,0,{"$f":"MAX(0,D635-'Vstupní hodnoty'!$C$5)","v":0}]
[null,"2017-01-07T14:15:00",1,355.32000000000005,{"$f":"CEILING(IF(C636-C635=0,IF(H635=0,I635,IF(J635>K635,I635,E635)),'Výstupy modelu'!$C$7),1)","v":1664},0,0,{"$f":"IF(F636=1,IF(G636>'Zdrojová data'!$C$19,0,1),\"\")","v":""},1664,0,{"$f":"MIN(J636,'Zdrojová data'!$C$17)","v":0},0,{"$f":"L636/'Zdrojová data'!$C$16","v":0},{"$f":"M636*'Zdrojová data'!$C$13","v":0},{"$f":"N636*'Zdrojová data'!$C$14","v":0},0,{"$f":"IF(H636=0,D636-'Výstupy modelu'!$C$7,IF(P636=1,J636-K636,0))","v":0},0,null,{"$f":"MAX(0,IF(Q636>0,Q636-('Výstupy modelu'!$H$10-'Výstupy modelu'!$H$9),0))","v":0},null,null,{"$f":"W635","v":1865.4300000000003},1885.4300000000003,0,{"$f":"MAX(0,D636-'Vstupní hodnoty'!$C$5)","v":0}]
[null,"2017-01-07T14:30:00",1,343.44,{"$f":"CEILING(IF(C637-C636=0,IF(H636=0,I636,IF(J636>K636,I636,E636)),'Výstupy modelu'!$C$7),1)","v":1664},0,0,{"$f":"IF(F637=1,IF(G637>'Zdrojová data'!$C$19,0,1),\"\")","v":""},1664,0,{"$f":"MIN(J637,'Zdrojová data'!$C$17)","v":0},0,{"$f":"L637/'Zdrojová data'!$C$16","v":0},{"$f":"M637*'Zdrojová data'!$C$13","v":0},{"$f":"N637*'Zdrojová data'!$C$14","v":0},0,{"$f":"IF(H637=0,D637-'Výstupy modelu'!$C$7,IF(P637=1,J637-K637,0))","v":0},0,null,{"$f":"MAX(0,IF(Q637>0,Q637-('Výstupy modelu'!$H$10-'Výstupy modelu'!$H$9),0))","v":0},null,null,{"$f":"W636","v":1865.4300000000003},1885.4300000000003,0,{"$f":"MAX(0,D637-'Vstupní hodnoty'!$C$5)","v":0}]
[null,"2017-01-07T14:45:00",1,341.28000000000003,{"$f":"CEILING(IF(C638-C637=0,IF(H637=0,I637,IF(J637>K637,I637,E637)),'Výstupy modelu'!$C$7),1)","v":1664},0,0,{"$f":"IF(F638=1,IF(G638>'Zdrojová data'!$C$19,0,1),\"\")","v":""},1664,0,{"$f":"MIN(J638,'Zdrojová data'!$C$17)","v":0},0,{"$f":"L638/'Zdrojová data'!$C$16","v":0},{"$f":"M638*'Zdrojová data'!$C$13","v":0},{"$f":"N638*'Zdrojová data'!$C$14","v":0},0,{"$f":"IF(H638=0,D638-'Výstupy modelu'!$C$7,IF(P638=1,J638-K638,0))","v":0},0,null,{"$f":"MAX(0,IF(Q638>0,Q638-('Výstupy modelu'!$H$10-'Výstupy modelu'!$H$9),0))","v":0},null,null,{"$f":"W637","v":1865.4300000000003},1885.4300000000003,0,{"$f":"MAX(0,D638-'Vstupní hodnoty'!$C$5)","v":0}]
[null,"2017-01-07T15:00:00",1,345.6,{"$f":"CEILING(IF(C639-C638=0,IF(H638=0,I638,IF(J638>K638,I638,E638)),'Výstupy modelu'!$C$7),1)","v":1664},0,0,{"$f":"IF(F639=1,IF(G639>'Zdrojová data'!$C$19,0,1),\"\")","v":""},1664,0,{"$f":"MIN(J639,'Zdrojová data'!$C$17)","v":0},0,{"$f":"L639/'Zdrojová data'!$C$16","v":0},{"$f":"M639*'Zdrojová data'!$C$13","v":0},{"$f":"N639*'Zdrojová data'!$C$14","v":0},0,{"$f":"IF(H639=0,D639-'Výstupy modelu'!$C$7,IF(P639=1,J639-K639,0))","v":0},0,null,{"$f":"MAX(0,IF(Q639>0,Q639-('Výstupy modelu'!$H$10-'Výstupy modelu'!$H$9),0))","v":0},null,null,{"$f":"W638","v":1865.4300000000003},1885.4300000000003,0,{"$f":"MAX(0,D639-'Vstupní hodnoty'!$C$5)","v":0}]
[null,"2017-01-07T15:15:00",1,336.96000000000004,{"$f":"CEILING(IF(C640-C639=0,IF(H639=0,I639,IF(J639>K639,I639,E639)),'Výstupy modelu'!$C$7),1)","v":1664},0,0,{"$f":"IF(F640=1,IF(G640>'Zdrojová data'!$C$19,0,1),\"\")","v":""},1664,0,{"$f":"MIN(J640,'Zdrojová data'!$C$17)","v":0},0,{"$f":"L640/'Zdrojová data'!$C$16","v":0},{"$f":"M640*'Zdrojová data'!$C$13","v":0},{"$f":"N640*'Zdrojová data'!$C$14","v":0},0,{"$f":"IF(H640=0,D640-'Výstupy modelu'!$C$7,IF(P640=1,J640-K640,0))","v":0},0,null,{"$f":"MAX(0,IF(Q640>0,Q640-('Výstupy modelu'!$H$10-'Výstupy modelu'!$H$9),0))","v":0},null,null,{"$f":"W639","v":1865.4300000000003},1885.4300000000003,0,{"$f":"MAX(0,D640-'Vstupní hodnoty'!$C$5)","v":0}]
[null,"2017-01-07T15:30:00",1,347.76000000000005,{"$f":"CEILING(IF(C641-C640=0,IF(H640=0,I640,IF(J640>K640,I640,E640)),'Výstupy modelu'!$C$7),1)","v":1664},0,0,{"$f":"IF(F641=1,IF(G641>'Zdrojová data'!$C$19,0,1),\"\")","v":""},1664,0,{"$f":"MIN(J641,'Zdrojová data'!$C$17)","v":0},0,{"$f":"L641/'Zdrojová data'!$C$16","v":0},{"$f":"M641*'Zdrojová data'!$C$13","v":0},{"$f":"N641*'Zdrojová data'!$C$14","v":0},0,{"$f":"IF(H641=0,D641-'Výstupy modelu'!$C$7,IF(P641=1,J641-K641,0))","v":0},0,null,{"$f":"MAX(0,IF(Q641>0,Q641-('Výstupy modelu'!$H$10-'Výstupy modelu'!$H$9),0))","v":0},null,null,{"$f":"W640","v":1865.4300000000003},1885.4300000000003,0,{"$f":"MAX(0,D641-'Vstupní hodnoty'!$C$5)","v":0}]
[null,"2017-01-07T15:45:00",1,305.64000000000004,{"$f":"CEILING(IF(C642-C641=0,IF(H641=0,I641,IF(J641>K641,I641,E641)),'Výstupy modelu'!$C$7),1)","v":1664},0,0,{"$f":"IF(F642=1,IF(G642>'Zdrojová data'!$C$19,0,1),\"\")","v":""},1664,0,{"$f":"MIN(J642,'Zdrojová data'!$C$17)","v":0},0,{"$f":"L642/'Zdrojová data'!$C$16","v":0},{"$f":"M642*'Zdrojová data'!$C$13","v":0},{"$f":"N642*'Zdrojová data'!$C$14","v":0},0,{"$f":"IF(H642=0,D642-'Výstupy modelu'!$C$7,IF(P642=1,J642-K642,0))","v":0},0,null,{"$f":"MAX(0,IF(Q642>0,Q642-('Výstupy modelu'!$H$10-'Výstupy modelu'!$H$9),0))","v":0},null,null,{"$f":"W641","v":1865.4300000000003},1885.4300000000003,0,{"$f":"MAX(0,D642-'Vstupní hodnoty'!$C$5)","v":0}]
[null,"2017-01-07T16:00:00",1,295.92,{"$f":"CEILING(IF(C643-C642=0,IF(H642=0,I642,IF(J642>K642,I642,E642)),'Výstupy modelu'!$C$7),1)","v":1664},0,0,{"$f":"IF(F643=1,IF(G643>'Zdrojová data'!$C$19,0,1),\"\")","v":""},1664,0,{"$f":"MIN(J643,'Zdrojová data'!$C$17)","v":0},0,{"$f":"L643/'Zdrojová data'!$C$16","v":0},{"$f":"M643*'Zdrojová data'!$C$13","v":0},{"$f":"N643*'Zdrojová data'!$C$14","v":0},0,{"$f":"IF(H643=0,D643-'Výstupy modelu'!$C$7,IF(P643=1,J643-K643,0))","v":0},0,null,{"$f":"MAX(0,IF(Q643>0,Q643-('Výstupy modelu'!$H$10-'Výstupy modelu'!$H$9),0))","v":0},null,null,{"$f":"W642","v":1865.4300000000003},1885.4300000000003,0,{"$f":"MAX(0,D643-'Vstupní hodnoty'!$C$5)","v":0}]
[null,"2017-01-07T16:15:00",1,305.64000000000004,{"$f":"CEILING(IF(C644-C643=0,IF(H643=0,I643,IF(J643>K643,I643,E643)),'Výstupy modelu'!$C$7),1)","v":1664},{"$f":"IF(D644>E644,1,0)","v":0},0,{"$f":"IF(F644=1,IF(G644>'Zdrojová data'!$C$19,0,1),\"\")","v":""},{"$f":"IF(H644=0,D644,IF(J644>K644,E644+J644-K644,E644))","v":1664},{"$f":"IF(H644=1,D644-E644,0)","v":0},{"$f":"MIN(J644,'Zdrojová data'!$C$17)","v":0},0,{"$f":"L644/'Zdrojová data'!$C$16","v":0},{"$f":"M644*'Zdrojová data'!$C$13","v":0},{"$f":"N644*'Zdrojová data'!$C$14","v":0},0,{"$f":"IF(H644=0,D644-'Výstupy modelu'!$C$7,IF(P644=1,J644-K644,0))","v":0},0,null,{"$f":"MAX(0,IF(Q644>0,Q644-('Výstupy modelu'!$H$10-'Výstupy modelu'!$H$9),0))","v":0},null,null,{"$f":"W643","v":1865.4300000000003},1885.4300000000003,0,{"$f":"MAX(0,D644-'Vstupní hodnoty'!$C$5)","v":0}]
[null,"2017-01-07T16:30:00",{"$f":"MONTH(B645)","v":1},309.96000000000004,{"$f":"CEILING(IF(C645-C644=0,IF(H644=0,I644,IF(J644>K644,I644,E644)),'Výstupy modelu'!$C$7),1)","v":1664},0,{"$f":"IF(F645=1,RANDBETWEEN(0,100),0)","v":0},{"$f":"IF(F645=1,IF(G645>'Zdrojová data'!$C$19,0,1),\"\")","v":""},1664,0,{"$f":"MIN(J645,'Zdrojová data'!$C$17)","v":0},{"$f":"K645/4","v":0},{"$f":"L645/'Zdrojová data'!$C$16","v":0},{"$f":"M645*'Zdrojová data'!$C$13","v":0},{"$f":"N645*'Zdrojová data'!$C$14","v":0},{"$f":"IF(H645=0,1,IF(J645>K645,1,0))","v":0},{"$f":"IF(H645=0,D645-'Výstupy modelu'!$C$7,IF(P645=1,J645-K645,0))","v":0},{"$f":"IF(H645=0,1,IF(J645>K645,1,0))","v":0},null,{"$f":"MAX(0,IF(Q645>0,Q645-('Výstupy modelu'!$H$10-'Výstupy modelu'!$H$9),0))","v":0},null,null,{"$f":"W644","v":1865.4300000000003},1885.4300000000003,0,{"$f":"MAX(0,D645-'Vstupní hodnoty'!$C$5)","v":0}]
[null,"2017-01-07T16:45:00",1,300.24,{"$f":"CEILING(IF(C646-C645=0,IF(H645=0,I645,IF(J645>K645,I645,E645)),'Výstupy modelu'!$C$7),1)","v":1664},0,0,{"$f":"IF(F646=1,IF(G646>'Zdrojová data'!$C$19,0,1),\"\")","v":""},1664,0,{"$f":"MIN(J646,'Zdrojová data'!$C$17)","v":0},0,{"$f":"L646/'Zdrojová data'!$C$16","v":0},{"$f":"M646*'Zdrojová data'!$C$13","v":0},{"$f":"N646*'Zdrojová data'!$C$14","v":0},0,{"$f":"IF(H646=0,D646-'Výstupy modelu'!$C$7,IF(P646=1,J646-K646,0))","v":0},0,null,{"$f":"MAX(0,IF(Q646>0,Q646-('Výstupy modelu'!$H$10-'Výstupy modelu'!$H$9),0))","v":0},null,null,{"$f":"W645","v":1865.4300000000003},1885.4300000000003,0,{"$f":"MAX(0,D646-'Vstupní hodnoty'!$C$5)","v":0}]
[null,"2017-01-07T17:00:00",1,303.48,{"$f":"CEILING(IF(C647-C646=0,IF(H646=0,I646,IF(J646>K646,I646,E646)),'Výstupy modelu'!$C$7),1)","v":1664},0,0,{"$f":"IF(F647=1,IF(G647>'Zdrojová data'!$C$19,0,1),\"\")","v":""},1664,0,{"$f":"MIN(J647,'Zdrojová data'!$C$17)","v":0},0,{"$f":"L647/'Zdrojová data'!$C$16","v":0},{"$f":"M647*'Zdrojová data'!$C$13","v":0},{"$f":"N647*'Zdrojová data'!$C$14","v":0},0,{"$f":"IF(H647=0,D647-'Výstupy modelu'!$C$7,IF(P647=1,J647-K647,0))","v":0},0,null,{"$f":"MAX(0,IF(Q647>0,Q647-('Výstupy modelu'!$H$10-'Výstupy modelu'!$H$9),0))","v":0},null,null,{"$f":"W646","v":1865.4300000000003},1885.4300000000003,0,{"$f":"MAX(0,D647-'Vstupní hodnoty'!$C$5)","v":0}]
[null,"2017-01-07T17:15:00",1,300.24,{"$f":"CEILING(IF(C648-C647=0,IF(H647=0,I647,IF(J647>K647,I647,E647)),'Výstupy modelu'!$C$7),1)","v":1664},0,0,{"$f":"IF(F648=1,IF(G648>'Zdrojová data'!$C$19,0,1),\"\")","v":""},1664,0,{"$f":"MIN(J648,'Zdrojová data'!$C$17)","v":0},0,{"$f":"L648/'Zdrojová data'!$C$16","v":0},{"$f":"M648*'Zdrojová data'!$C$13","v":0},{"$f":"N648*'Zdrojová data'!$C$14","v":0},0,{"$f":"IF(H648=0,D648-'Výstupy modelu'!$C$7,IF(P648=1,J648-K648,0))","v":0},0,null,{"$f":"MAX(0,IF(Q648>0,Q648-('Výstupy modelu'!$H$10-'Výstupy modelu'!$H$9),0))","v":0},null,null,{"$f":"W647","v":1865.4300000000003},1885.4300000000003,0,{"$f":"MAX(0,D648-'Vstupní hodnoty'!$C$5)","v":0}]
[null,"2017-01-07T17:30:00",1,301.32,{"$f":"CEILING(IF(C649-C648=0,IF(H648=0,I648,IF(J648>K648,I648,E648)),'Výstupy modelu'!$C$7),1)","v":1664},0,0,{"$f":"IF(F649=1,IF(G649>'Zdrojová data'!$C$19,0,1),\"\")","v":""},1664,0,{"$f":"MIN(J649,'Zdrojová data'!$C$17)","v":0},0,{"$f":"L649/'Zdrojová data'!$C$16","v":0},{"$f":"M649*'Zdrojová data'!$C$13","v":0},{"$f":"N649*'Zdrojová data'!$C$14","v":0},0,{"$f":"IF(H649=0,D649-'Výstupy modelu'!$C$7,IF(P649=1,J649-K649,0))","v":0},0,null,{"$f":"MAX(0,IF(Q649>0,Q649-('Výstupy modelu'!$H$10-'Výstupy modelu'!$H$9),0))","v":0},null,null,{"$f":"W648","v":1865.4300000000003},1885.4300000000003,0,{"$f":"MAX(0,D649-'Vstupní hodnoty'!$C$5)","v":0}]
[null,"2017-01-07T17:45:00",1,304.56,{"$f":"CEILING(IF(C650-C649=0,IF(H649=0,I649,IF(J649>K649,I649,E649)),'Výstupy modelu'!$C$7),1)","v":1664},0,0,{"$f":"IF(F650=1,IF(G650>'Zdrojová data'!$C$19,0,1),\"\")","v":""},1664,0,{"$f":"MIN(J650,'Zdrojová data'!$C$17)","v":0},0,{"$f":"L650/'Zdrojová data'!$C$16","v":0},{"$f":"M650*'Zdrojová data'!$C$13","v":0},{"$f":"N650*'Zdrojová data'!$C$14","v":0},0,{"$f":"IF(H650=0,D650-'Výstupy modelu'!$C$7,IF(P650=1,J650-K650,0))","v":0},0,null,{"$f":"MAX(0,IF(Q650>0,Q650-('Výstupy modelu'!$H$10-'Výstupy modelu'!$H$9),0))","v":0},null,null,{"$f":"W649","v":1865.4300000000003},1885.4300000000003,0,{"$f":"MAX(0,D650-'Vstupní hodnoty'!$C$5)","v":0}]
[null,"2017-01-07T18:00:00",1,300.24,{"$f":"CEILING(IF(C651-C650=0,IF(H650=0,I650,IF(J650>K650,I650,E650)),'Výstupy modelu'!$C$7),1)","v":1664},0,0,{"$f":"IF(F651=1,IF(G651>'Zdrojová data'!$C$19,0,1),\"\")","v":""},1664,0,{"$f":"MIN(J651,'Zdrojová data'!$C$17)","v":0},0,{"$f":"L651/'Zdrojová data'!$C$16","v":0},{"$f":"M651*'Zdrojová data'!$C$13","v":0},{"$f":"N651*'Zdrojová data'!$C$14","v":0},0,{"$f":"IF(H651=0,D651-'Výstupy modelu'!$C$7,IF(P651=1,J651-K651,0))","v":0},0,null,{"$f":"MAX(0,IF(Q651>0,Q651-('Výstupy modelu'!$H$10-'Výstupy modelu'!$H$9),0))","v":0},null,null,{"$f":"W650","v":1865.4300000000003},1885.4300000000003,0,{"$f":"MAX(0,D651-'Vstupní hodnoty'!$C$5)","v":0}]
[null,"2017-01-07T18:15:00",1,309.96000000000004,{"$f":"CEILING(IF(C652-C651=0,IF(H651=0,I651,IF(J651>K651,I651,E651)),'Výstupy modelu'!$C$7),1)","v":1664},0,0,{"$f":"IF(F652=1,IF(G652>'Zdrojová data'!$C$19,0,1),\"\")","v":""},1664,0,{"$f":"MIN(J652,'Zdrojová data'!$C$17)","v":0},0,{"$f":"L652/'Zdrojová data'!$C$16","v":0},{"$f":"M652*'Zdrojová data'!$C$13","v":0},{"$f":"N652*'Zdrojová data'!$C$14","v":0},0,{"$f":"IF(H652=0,D652-'Výstupy modelu'!$C$7,IF(P652=1,J652-K652,0))","v":0},0,null,{"$f":"MAX(0,IF(Q652>0,Q652-('Výstupy modelu'!$H$10-'Výstupy modelu'!$H$9),0))","v":0},null,null,{"$f":"W651","v":1865.4300000000003},1885.4300000000003,0,{"$f":"MAX(0,D652-'Vstupní hodnoty'!$C$5)","v":0}]
[null,"2017-01-07T18:30:00",1,303.48,{"$f":"CEILING(IF(C653-C652=0,IF(H652=0,I652,IF(J652>K652,I652,E652)),'Výstupy modelu'!$C$7),1)","v":1664},0,0,{"$f":"IF(F653=1,IF(G653>'Zdrojová data'!$C$19,0,1),\"\")","v":""},1664,0,{"$f":"MIN(J653,'Zdrojová data'!$C$17)","v":0},0,{"$f":"L653/'Zdrojová data'!$C$16","v":0},{"$f":"M653*'Zdrojová data'!$C$13","v":0},{"$f":"N653*'Zdrojová data'!$C$14","v":0},0,{"$f":"IF(H653=0,D653-'Výstupy modelu'!$C$7,IF(P653=1,J653-K653,0))","v":0},0,null,{"$f":"MAX(0,IF(Q653>0,Q653-('Výstupy modelu'!$H$10-'Výstupy modelu'!$H$9),0))","v":0},null,null,{"$f":"W652","v":1865.4300000000003},1885.4300000000003,0,{"$f":"MAX(0,D653-'Vstupní hodnoty'!$C$5)","v":0}]
[null,"2017-01-07T18:45:00",1,307.8,{"$f":"CEILING(IF(C654-C653=0,IF(H653=0,I653,IF(J653>K653,I653,E653)),'Výstupy modelu'!$C$7),1)","v":1664},0,0,{"$f":"IF(F654=1,IF(G654>'Zdrojová data'!$C$19,0,1),\"\")","v":""},1664,0,{"$f":"MIN(J654,'Zdrojová data'!$C$17)","v":0},0,{"$f":"L654/'Zdrojová data'!$C$16","v":0},{"$f":"M654*'Zdrojová data'!$C$13","v":0},{"$f":"N654*'Zdrojová data'!$C$14","v":0},0,{"$f":"IF(H654=0,D654-'Výstupy modelu'!$C$7,IF(P654=1,J654-K654,0))","v":0},0,null,{"$f":"MAX(0,IF(Q654>0,Q654-('Výstupy modelu'!$H$10-'Výstupy modelu'!$H$9),0))","v":0},null,null,{"$f":"W653","v":1865.4300000000003},1885.4300000000003,0,{"$f":"MAX(0,D654-'Vstupní hodnoty'!$C$5)","v":0}]
[null,"2017-01-07T19:00:00",1,300.24,{"$f":"CEILING(IF(C655-C654=0,IF(H654=0,I654,IF(J654>K654,I654,E654)),'Výstupy modelu'!$C$7),1)","v":1664},0,0,{"$f":"IF(F655=1,IF(G655>'Zdrojová data'!$C$19,0,1),\"\")","v":""},1664,0,{"$f":"MIN(J655,'Zdrojová data'!$C$17)","v":0},0,{"$f":"L655/'Zdrojová data'!$C$16","v":0},{"$f":"M655*'Zdrojová data'!$C$13","v":0},{"$f":"N655*'Zdrojová data'!$C$14","v":0},0,{"$f":"IF(H655=0,D655-'Výstupy modelu'!$C$7,IF(P655=1,J655-K655,0))","v":0},0,null,{"$f":"MAX(0,IF(Q655>0,Q655-('Výstupy modelu'!$H$10-'Výstupy modelu'!$H$9),0))","v":0},null,null,{"$f":"W654","v":1865.4300000000003},1885.4300000000003,0,{"$f":"MAX(0,D655-'Vstupní hodnoty'!$C$5)","v":0}]
[null,"2017-01-07T19:15:00",1,297,{"$f":"CEILING(IF(C656-C655=0,IF(H655=0,I655,IF(J655>K655,I655,E655)),'Výstupy modelu'!$C$7),1)","v":1664},0,0,{"$f":"IF(F656=1,IF(G656>'Zdrojová data'!$C$19,0,1),\"\")","v":""},1664,0,{"$f":"MIN(J656,'Zdrojová data'!$C$17)","v":0},0,{"$f":"L656/'Zdrojová data'!$C$16","v":0},{"$f":"M656*'Zdrojová data'!$C$13","v":0},{"$f":"N656*'Zdrojová data'!$C$14","v":0},0,{"$f":"IF(H656=0,D656-'Výstupy modelu'!$C$7,IF(P656=1,J656-K656,0))","v":0},0,null,{"$f":"MAX(0,IF(Q656>0,Q656-('Výstupy modelu'!$H$10-'Výstupy modelu'!$H$9),0))","v":0},null,null,{"$f":"W655","v":1865.4300000000003},1885.4300000000003,0,{"$f":"MAX(0,D656-'Vstupní hodnoty'!$C$5)","v":0}]
[null,"2017-01-07T19:30:00",1,302.40000000000003,{"$f":"CEILING(IF(C657-C656=0,IF(H656=0,I656,IF(J656>K656,I656,E656)),'Výstupy modelu'!$C$7),1)","v":1664},0,0,{"$f":"IF(F657=1,IF(G657>'Zdrojová data'!$C$19,0,1),\"\")","v":""},1664,0,{"$f":"MIN(J657,'Zdrojová data'!$C$17)","v":0},0,{"$f":"L657/'Zdrojová data'!$C$16","v":0},{"$f":"M657*'Zdrojová data'!$C$13","v":0},{"$f":"N657*'Zdrojová data'!$C$14","v":0},0,{"$f":"IF(H657=0,D657-'Výstupy modelu'!$C$7,IF(P657=1,J657-K657,0))","v":0},0,null,{"$f":"MAX(0,IF(Q657>0,Q657-('Výstupy modelu'!$H$10-'Výstupy modelu'!$H$9),0))","v":0},null,null,{"$f":"W656","v":1865.4300000000003},1885.4300000000003,0,{"$f":"MAX(0,D657-'Vstupní hodnoty'!$C$5)","v":0}]
[null,"2017-01-07T19:45:00",1,294.84000000000003,{"$f":"CEILING(IF(C658-C657=0,IF(H657=0,I657,IF(J657>K657,I657,E657)),'Výstupy modelu'!$C$7),1)","v":1664},0,0,{"$f":"IF(F658=1,IF(G658>'Zdrojová data'!$C$19,0,1),\"\")","v":""},1664,0,{"$f":"MIN(J658,'Zdrojová data'!$C$17)","v":0},0,{"$f":"L658/'Zdrojová data'!$C$16","v":0},{"$f":"M658*'Zdrojová data'!$C$13","v":0},{"$f":"N658*'Zdrojová data'!$C$14","v":0},0,{"$f":"IF(H658=0,D658-'Výstupy modelu'!$C$7,IF(P658=1,J658-K658,0))","v":0},0,null,{"$f":"MAX(0,IF(Q658>0,Q658-('Výstupy modelu'!$H$10-'Výstupy modelu'!$H$9),0))","v":0},null,null,{"$f":"W657","v":1865.4300000000003},1885.4300000000003,0,{"$f":"MAX(0,D658-'Vstupní hodnoty'!$C$5)","v":0}]
[null,"2017-01-07T20:00:00",1,293.76,{"$f":"CEILING(IF(C659-C658=0,IF(H658=0,I658,IF(J658>K658,I658,E658)),'Výstupy modelu'!$C$7),1)","v":1664},0,0,{"$f":"IF(F659=1,IF(G659>'Zdrojová data'!$C$19,0,1),\"\")","v":""},1664,0,{"$f":"MIN(J659,'Zdrojová data'!$C$17)","v":0},0,{"$f":"L659/'Zdrojová data'!$C$16","v":0},{"$f":"M659*'Zdrojová data'!$C$13","v":0},{"$f":"N659*'Zdrojová data'!$C$14","v":0},0,{"$f":"IF(H659=0,D659-'Výstupy modelu'!$C$7,IF(P659=1,J659-K659,0))","v":0},0,null,{"$f":"MAX(0,IF(Q659>0,Q659-('Výstupy modelu'!$H$10-'Výstupy modelu'!$H$9),0))","v":0},null,null,{"$f":"W658","v":1865.4300000000003},1885.4300000000003,0,{"$f":"MAX(0,D659-'Vstupní hodnoty'!$C$5)","v":0}]
[null,"2017-01-07T20:15:00",1,298.08000000000004,{"$f":"CEILING(IF(C660-C659=0,IF(H659=0,I659,IF(J659>K659,I659,E659)),'Výstupy modelu'!$C$7),1)","v":1664},0,0,{"$f":"IF(F660=1,IF(G660>'Zdrojová data'!$C$19,0,1),\"\")","v":""},1664,0,{"$f":"MIN(J660,'Zdrojová data'!$C$17)","v":0},0,{"$f":"L660/'Zdrojová data'!$C$16","v":0},{"$f":"M660*'Zdrojová data'!$C$13","v":0},{"$f":"N660*'Zdrojová data'!$C$14","v":0},0,{"$f":"IF(H660=0,D660-'Výstupy modelu'!$C$7,IF(P660=1,J660-K660,0))","v":0},0,null,{"$f":"MAX(0,IF(Q660>0,Q660-('Výstupy modelu'!$H$10-'Výstupy modelu'!$H$9),0))","v":0},null,null,{"$f":"W659","v":1865.4300000000003},1885.4300000000003,0,{"$f":"MAX(0,D660-'Vstupní hodnoty'!$C$5)","v":0}]
[null,"2017-01-07T20:30:00",1,297,{"$f":"CEILING(IF(C661-C660=0,IF(H660=0,I660,IF(J660>K660,I660,E660)),'Výstupy modelu'!$C$7),1)","v":1664},0,0,{"$f":"IF(F661=1,IF(G661>'Zdrojová data'!$C$19,0,1),\"\")","v":""},1664,0,{"$f":"MIN(J661,'Zdrojová data'!$C$17)","v":0},0,{"$f":"L661/'Zdrojová data'!$C$16","v":0},{"$f":"M661*'Zdrojová data'!$C$13","v":0},{"$f":"N661*'Zdrojová data'!$C$14","v":0},0,{"$f":"IF(H661=0,D661-'Výstupy modelu'!$C$7,IF(P661=1,J661-K661,0))","v":0},0,null,{"$f":"MAX(0,IF(Q661>0,Q661-('Výstupy modelu'!$H$10-'Výstupy modelu'!$H$9),0))","v":0},null,null,{"$f":"W660","v":1865.4300000000003},1885.4300000000003,0,{"$f":"MAX(0,D661-'Vstupní hodnoty'!$C$5)","v":0}]
[null,"2017-01-07T20:45:00",1,300.24,{"$f":"CEILING(IF(C662-C661=0,IF(H661=0,I661,IF(J661>K661,I661,E661)),'Výstupy modelu'!$C$7),1)","v":1664},0,0,{"$f":"IF(F662=1,IF(G662>'Zdrojová data'!$C$19,0,1),\"\")","v":""},1664,0,{"$f":"MIN(J662,'Zdrojová data'!$C$17)","v":0},0,{"$f":"L662/'Zdrojová data'!$C$16","v":0},{"$f":"M662*'Zdrojová data'!$C$13","v":0},{"$f":"N662*'Zdrojová data'!$C$14","v":0},0,{"$f":"IF(H662=0,D662-'Výstupy modelu'!$C$7,IF(P662=1,J662-K662,0))","v":0},0,null,{"$f":"MAX(0,IF(Q662>0,Q662-('Výstupy modelu'!$H$10-'Výstupy modelu'!$H$9),0))","v":0},null,null,{"$f":"W661","v":1865.4300000000003},1885.4300000000003,0,{"$f":"MAX(0,D662-'Vstupní hodnoty'!$C$5)","v":0}]
[null,"2017-01-07T21:00:00",1,305.64000000000004,{"$f":"CEILING(IF(C663-C662=0,IF(H662=0,I662,IF(J662>K662,I662,E662)),'Výstupy modelu'!$C$7),1)","v":1664},0,0,{"$f":"IF(F663=1,IF(G663>'Zdrojová data'!$C$19,0,1),\"\")","v":""},1664,0,{"$f":"MIN(J663,'Zdrojová data'!$C$17)","v":0},0,{"$f":"L663/'Zdrojová data'!$C$16","v":0},{"$f":"M663*'Zdrojová data'!$C$13","v":0},{"$f":"N663*'Zdrojová data'!$C$14","v":0},0,{"$f":"IF(H663=0,D663-'Výstupy modelu'!$C$7,IF(P663=1,J663-K663,0))","v":0},0,null,{"$f":"MAX(0,IF(Q663>0,Q663-('Výstupy modelu'!$H$10-'Výstupy modelu'!$H$9),0))","v":0},null,null,{"$f":"W662","v":1865.4300000000003},1885.4300000000003,0,{"$f":"MAX(0,D663-'Vstupní hodnoty'!$C$5)","v":0}]
[null,"2017-01-07T21:15:00",1,295.92,{"$f":"CEILING(IF(C664-C663=0,IF(H663=0,I663,IF(J663>K663,I663,E663)),'Výstupy modelu'!$C$7),1)","v":1664},0,0,{"$f":"IF(F664=1,IF(G664>'Zdrojová data'!$C$19,0,1),\"\")","v":""},1664,0,{"$f":"MIN(J664,'Zdrojová data'!$C$17)","v":0},0,{"$f":"L664/'Zdrojová data'!$C$16","v":0},{"$f":"M664*'Zdrojová data'!$C$13","v":0},{"$f":"N664*'Zdrojová data'!$C$14","v":0},0,{"$f":"IF(H664=0,D664-'Výstupy modelu'!$C$7,IF(P664=1,J664-K664,0))","v":0},0,null,{"$f":"MAX(0,IF(Q664>0,Q664-('Výstupy modelu'!$H$10-'Výstupy modelu'!$H$9),0))","v":0},null,null,{"$f":"W663","v":1865.4300000000003},1885.4300000000003,0,{"$f":"MAX(0,D664-'Vstupní hodnoty'!$C$5)","v":0}]
[null,"2017-01-07T21:30:00",1,304.56,{"$f":"CEILING(IF(C665-C664=0,IF(H664=0,I664,IF(J664>K664,I664,E664)),'Výstupy modelu'!$C$7),1)","v":1664},0,0,{"$f":"IF(F665=1,IF(G665>'Zdrojová data'!$C$19,0,1),\"\")","v":""},1664,0,{"$f":"MIN(J665,'Zdrojová data'!$C$17)","v":0},0,{"$f":"L665/'Zdrojová data'!$C$16","v":0},{"$f":"M665*'Zdrojová data'!$C$13","v":0},{"$f":"N665*'Zdrojová data'!$C$14","v":0},0,{"$f":"IF(H665=0,D665-'Výstupy modelu'!$C$7,IF(P665=1,J665-K665,0))","v":0},0,null,{"$f":"MAX(0,IF(Q665>0,Q665-('Výstupy modelu'!$H$10-'Výstupy modelu'!$H$9),0))","v":0},null,null,{"$f":"W664","v":1865.4300000000003},1885.4300000000003,0,{"$f":"MAX(0,D665-'Vstupní hodnoty'!$C$5)","v":0}]
[null,"2017-01-07T21:45:00",1,303.48,{"$f":"CEILING(IF(C666-C665=0,IF(H665=0,I665,IF(J665>K665,I665,E665)),'Výstupy modelu'!$C$7),1)","v":1664},0,0,{"$f":"IF(F666=1,IF(G666>'Zdrojová data'!$C$19,0,1),\"\")","v":""},1664,0,{"$f":"MIN(J666,'Zdrojová data'!$C$17)","v":0},0,{"$f":"L666/'Zdrojová data'!$C$16","v":0},{"$f":"M666*'Zdrojová data'!$C$13","v":0},{"$f":"N666*'Zdrojová data'!$C$14","v":0},0,{"$f":"IF(H666=0,D666-'Výstupy modelu'!$C$7,IF(P666=1,J666-K666,0))","v":0},0,null,{"$f":"MAX(0,IF(Q666>0,Q666-('Výstupy modelu'!$H$10-'Výstupy modelu'!$H$9),0))","v":0},null,null,{"$f":"W665","v":1865.4300000000003},1885.4300000000003,0,{"$f":"MAX(0,D666-'Vstupní hodnoty'!$C$5)","v":0}]
[null,"2017-01-07T22:00:00",1,298.08000000000004,{"$f":"CEILING(IF(C667-C666=0,IF(H666=0,I666,IF(J666>K666,I666,E666)),'Výstupy modelu'!$C$7),1)","v":1664},0,0,{"$f":"IF(F667=1,IF(G667>'Zdrojová data'!$C$19,0,1),\"\")","v":""},1664,0,{"$f":"MIN(J667,'Zdrojová data'!$C$17)","v":0},0,{"$f":"L667/'Zdrojová data'!$C$16","v":0},{"$f":"M667*'Zdrojová data'!$C$13","v":0},{"$f":"N667*'Zdrojová data'!$C$14","v":0},0,{"$f":"IF(H667=0,D667-'Výstupy modelu'!$C$7,IF(P667=1,J667-K667,0))","v":0},0,null,{"$f":"MAX(0,IF(Q667>0,Q667-('Výstupy modelu'!$H$10-'Výstupy modelu'!$H$9),0))","v":0},null,null,{"$f":"W666","v":1865.4300000000003},1885.4300000000003,0,{"$f":"MAX(0,D667-'Vstupní hodnoty'!$C$5)","v":0}]
[null,"2017-01-07T22:15:00",1,295.92,{"$f":"CEILING(IF(C668-C667=0,IF(H667=0,I667,IF(J667>K667,I667,E667)),'Výstupy modelu'!$C$7),1)","v":1664},0,0,{"$f":"IF(F668=1,IF(G668>'Zdrojová data'!$C$19,0,1),\"\")","v":""},1664,0,{"$f":"MIN(J668,'Zdrojová data'!$C$17)","v":0},0,{"$f":"L668/'Zdrojová data'!$C$16","v":0},{"$f":"M668*'Zdrojová data'!$C$13","v":0},{"$f":"N668*'Zdrojová data'!$C$14","v":0},0,{"$f":"IF(H668=0,D668-'Výstupy modelu'!$C$7,IF(P668=1,J668-K668,0))","v":0},0,null,{"$f":"MAX(0,IF(Q668>0,Q668-('Výstupy modelu'!$H$10-'Výstupy modelu'!$H$9),0))","v":0},null,null,{"$f":"W667","v":1865.4300000000003},1885.4300000000003,0,{"$f":"MAX(0,D668-'Vstupní hodnoty'!$C$5)","v":0}]
[null,"2017-01-07T22:30:00",1,291.60000000000002,{"$f":"CEILING(IF(C669-C668=0,IF(H668=0,I668,IF(J668>K668,I668,E668)),'Výstupy modelu'!$C$7),1)","v":1664},0,0,{"$f":"IF(F669=1,IF(G669>'Zdrojová data'!$C$19,0,1),\"\")","v":""},1664,0,{"$f":"MIN(J669,'Zdrojová data'!$C$17)","v":0},0,{"$f":"L669/'Zdrojová data'!$C$16","v":0},{"$f":"M669*'Zdrojová data'!$C$13","v":0},{"$f":"N669*'Zdrojová data'!$C$14","v":0},0,{"$f":"IF(H669=0,D669-'Výstupy modelu'!$C$7,IF(P669=1,J669-K669,0))","v":0},0,null,{"$f":"MAX(0,IF(Q669>0,Q669-('Výstupy modelu'!$H$10-'Výstupy modelu'!$H$9),0))","v":0},null,null,{"$f":"W668","v":1865.4300000000003},1885.4300000000003,0,{"$f":"MAX(0,D669-'Vstupní hodnoty'!$C$5)","v":0}]
[null,"2017-01-07T22:45:00",1,298.08000000000004,{"$f":"CEILING(IF(C670-C669=0,IF(H669=0,I669,IF(J669>K669,I669,E669)),'Výstupy modelu'!$C$7),1)","v":1664},0,0,{"$f":"IF(F670=1,IF(G670>'Zdrojová data'!$C$19,0,1),\"\")","v":""},1664,0,{"$f":"MIN(J670,'Zdrojová data'!$C$17)","v":0},0,{"$f":"L670/'Zdrojová data'!$C$16","v":0},{"$f":"M670*'Zdrojová data'!$C$13","v":0},{"$f":"N670*'Zdrojová data'!$C$14","v":0},0,{"$f":"IF(H670=0,D670-'Výstupy modelu'!$C$7,IF(P670=1,J670-K670,0))","v":0},0,null,{"$f":"MAX(0,IF(Q670>0,Q670-('Výstupy modelu'!$H$10-'Výstupy modelu'!$H$9),0))","v":0},null,null,{"$f":"W669","v":1865.4300000000003},1885.4300000000003,0,{"$f":"MAX(0,D670-'Vstupní hodnoty'!$C$5)","v":0}]
[null,"2017-01-07T23:00:00",1,290.52000000000004,{"$f":"CEILING(IF(C671-C670=0,IF(H670=0,I670,IF(J670>K670,I670,E670)),'Výstupy modelu'!$C$7),1)","v":1664},0,0,{"$f":"IF(F671=1,IF(G671>'Zdrojová data'!$C$19,0,1),\"\")","v":""},1664,0,{"$f":"MIN(J671,'Zdrojová data'!$C$17)","v":0},0,{"$f":"L671/'Zdrojová data'!$C$16","v":0},{"$f":"M671*'Zdrojová data'!$C$13","v":0},{"$f":"N671*'Zdrojová data'!$C$14","v":0},0,{"$f":"IF(H671=0,D671-'Výstupy modelu'!$C$7,IF(P671=1,J671-K671,0))","v":0},0,null,{"$f":"MAX(0,IF(Q671>0,Q671-('Výstupy modelu'!$H$10-'Výstupy modelu'!$H$9),0))","v":0},null,null,{"$f":"W670","v":1865.4300000000003},1885.4300000000003,0,{"$f":"MAX(0,D671-'Vstupní hodnoty'!$C$5)","v":0}]
[null,"2017-01-07T23:15:00",1,292.68,{"$f":"CEILING(IF(C672-C671=0,IF(H671=0,I671,IF(J671>K671,I671,E671)),'Výstupy modelu'!$C$7),1)","v":1664},0,0,{"$f":"IF(F672=1,IF(G672>'Zdrojová data'!$C$19,0,1),\"\")","v":""},1664,0,{"$f":"MIN(J672,'Zdrojová data'!$C$17)","v":0},0,{"$f":"L672/'Zdrojová data'!$C$16","v":0},{"$f":"M672*'Zdrojová data'!$C$13","v":0},{"$f":"N672*'Zdrojová data'!$C$14","v":0},0,{"$f":"IF(H672=0,D672-'Výstupy modelu'!$C$7,IF(P672=1,J672-K672,0))","v":0},0,null,{"$f":"MAX(0,IF(Q672>0,Q672-('Výstupy modelu'!$H$10-'Výstupy modelu'!$H$9),0))","v":0},null,null,{"$f":"W671","v":1865.4300000000003},1885.4300000000003,0,{"$f":"MAX(0,D672-'Vstupní hodnoty'!$C$5)","v":0}]
[null,"2017-01-07T23:30:00",1,289.44,{"$f":"CEILING(IF(C673-C672=0,IF(H672=0,I672,IF(J672>K672,I672,E672)),'Výstupy modelu'!$C$7),1)","v":1664},0,0,{"$f":"IF(F673=1,IF(G673>'Zdrojová data'!$C$19,0,1),\"\")","v":""},1664,0,{"$f":"MIN(J673,'Zdrojová data'!$C$17)","v":0},0,{"$f":"L673/'Zdrojová data'!$C$16","v":0},{"$f":"M673*'Zdrojová data'!$C$13","v":0},{"$f":"N673*'Zdrojová data'!$C$14","v":0},0,{"$f":"IF(H673=0,D673-'Výstupy modelu'!$C$7,IF(P673=1,J673-K673,0))","v":0},0,null,{"$f":"MAX(0,IF(Q673>0,Q673-('Výstupy modelu'!$H$10-'Výstupy modelu'!$H$9),0))","v":0},null,null,{"$f":"W672","v":1865.4300000000003},1885.4300000000003,0,{"$f":"MAX(0,D673-'Vstupní hodnoty'!$C$5)","v":0}]
[null,"2017-01-07T23:45:00",1,288.36,{"$f":"CEILING(IF(C674-C673=0,IF(H673=0,I673,IF(J673>K673,I673,E673)),'Výstupy modelu'!$C$7),1)","v":1664},0,0,{"$f":"IF(F674=1,IF(G674>'Zdrojová data'!$C$19,0,1),\"\")","v":""},1664,0,{"$f":"MIN(J674,'Zdrojová data'!$C$17)","v":0},0,{"$f":"L674/'Zdrojová data'!$C$16","v":0},{"$f":"M674*'Zdrojová data'!$C$13","v":0},{"$f":"N674*'Zdrojová data'!$C$14","v":0},0,{"$f":"IF(H674=0,D674-'Výstupy modelu'!$C$7,IF(P674=1,J674-K674,0))","v":0},0,null,{"$f":"MAX(0,IF(Q674>0,Q674-('Výstupy modelu'!$H$10-'Výstupy modelu'!$H$9),0))","v":0},null,null,{"$f":"W673","v":1865.4300000000003},1885.4300000000003,0,{"$f":"MAX(0,D674-'Vstupní hodnoty'!$C$5)","v":0}]
[null,"2017-01-08",1,292.68,{"$f":"CEILING(IF(C675-C674=0,IF(H674=0,I674,IF(J674>K674,I674,E674)),'Výstupy modelu'!$C$7),1)","v":1664},0,0,{"$f":"IF(F675=1,IF(G675>'Zdrojová data'!$C$19,0,1),\"\")","v":""},1664,0,{"$f":"MIN(J675,'Zdrojová data'!$C$17)","v":0},0,{"$f":"L675/'Zdrojová data'!$C$16","v":0},{"$f":"M675*'Zdrojová data'!$C$13","v":0},{"$f":"N675*'Zdrojová data'!$C$14","v":0},0,{"$f":"IF(H675=0,D675-'Výstupy modelu'!$C$7,IF(P675=1,J675-K675,0))","v":0},0,null,{"$f":"MAX(0,IF(Q675>0,Q675-('Výstupy modelu'!$H$10-'Výstupy modelu'!$H$9),0))","v":0},null,null,{"$f":"W674","v":1865.4300000000003},1885.4300000000003,0,{"$f":"MAX(0,D675-'Vstupní hodnoty'!$C$5)","v":0}]
[null,"2017-01-08T00:15:00",1,305.64000000000004,{"$f":"CEILING(IF(C676-C675=0,IF(H675=0,I675,IF(J675>K675,I675,E675)),'Výstupy modelu'!$C$7),1)","v":1664},0,0,{"$f":"IF(F676=1,IF(G676>'Zdrojová data'!$C$19,0,1),\"\")","v":""},1664,0,{"$f":"MIN(J676,'Zdrojová data'!$C$17)","v":0},0,{"$f":"L676/'Zdrojová data'!$C$16","v":0},{"$f":"M676*'Zdrojová data'!$C$13","v":0},{"$f":"N676*'Zdrojová data'!$C$14","v":0},0,{"$f":"IF(H676=0,D676-'Výstupy modelu'!$C$7,IF(P676=1,J676-K676,0))","v":0},0,null,{"$f":"MAX(0,IF(Q676>0,Q676-('Výstupy modelu'!$H$10-'Výstupy modelu'!$H$9),0))","v":0},null,null,{"$f":"W675","v":1865.4300000000003},1885.4300000000003,0,{"$f":"MAX(0,D676-'Vstupní hodnoty'!$C$5)","v":0}]
[null,"2017-01-08T00:30:00",1,316.44,{"$f":"CEILING(IF(C677-C676=0,IF(H676=0,I676,IF(J676>K676,I676,E676)),'Výstupy modelu'!$C$7),1)","v":1664},0,0,{"$f":"IF(F677=1,IF(G677>'Zdrojová data'!$C$19,0,1),\"\")","v":""},1664,0,{"$f":"MIN(J677,'Zdrojová data'!$C$17)","v":0},0,{"$f":"L677/'Zdrojová data'!$C$16","v":0},{"$f":"M677*'Zdrojová data'!$C$13","v":0},{"$f":"N677*'Zdrojová data'!$C$14","v":0},0,{"$f":"IF(H677=0,D677-'Výstupy modelu'!$C$7,IF(P677=1,J677-K677,0))","v":0},0,null,{"$f":"MAX(0,IF(Q677>0,Q677-('Výstupy modelu'!$H$10-'Výstupy modelu'!$H$9),0))","v":0},null,null,{"$f":"W676","v":1865.4300000000003},1885.4300000000003,0,{"$f":"MAX(0,D677-'Vstupní hodnoty'!$C$5)","v":0}]
[null,"2017-01-08T00:45:00",1,319.68,{"$f":"CEILING(IF(C678-C677=0,IF(H677=0,I677,IF(J677>K677,I677,E677)),'Výstupy modelu'!$C$7),1)","v":1664},0,0,{"$f":"IF(F678=1,IF(G678>'Zdrojová data'!$C$19,0,1),\"\")","v":""},1664,0,{"$f":"MIN(J678,'Zdrojová data'!$C$17)","v":0},0,{"$f":"L678/'Zdrojová data'!$C$16","v":0},{"$f":"M678*'Zdrojová data'!$C$13","v":0},{"$f":"N678*'Zdrojová data'!$C$14","v":0},0,{"$f":"IF(H678=0,D678-'Výstupy modelu'!$C$7,IF(P678=1,J678-K678,0))","v":0},0,null,{"$f":"MAX(0,IF(Q678>0,Q678-('Výstupy modelu'!$H$10-'Výstupy modelu'!$H$9),0))","v":0},null,null,{"$f":"W677","v":1865.4300000000003},1885.4300000000003,0,{"$f":"MAX(0,D678-'Vstupní hodnoty'!$C$5)","v":0}]
[null,"2017-01-08T01:00:00",1,316.44,{"$f":"CEILING(IF(C679-C678=0,IF(H678=0,I678,IF(J678>K678,I678,E678)),'Výstupy modelu'!$C$7),1)","v":1664},0,0,{"$f":"IF(F679=1,IF(G679>'Zdrojová data'!$C$19,0,1),\"\")","v":""},1664,0,{"$f":"MIN(J679,'Zdrojová data'!$C$17)","v":0},0,{"$f":"L679/'Zdrojová data'!$C$16","v":0},{"$f":"M679*'Zdrojová data'!$C$13","v":0},{"$f":"N679*'Zdrojová data'!$C$14","v":0},0,{"$f":"IF(H679=0,D679-'Výstupy modelu'!$C$7,IF(P679=1,J679-K679,0))","v":0},0,null,{"$f":"MAX(0,IF(Q679>0,Q679-('Výstupy modelu'!$H$10-'Výstupy modelu'!$H$9),0))","v":0},null,null,{"$f":"W678","v":1865.4300000000003},1885.4300000000003,0,{"$f":"MAX(0,D679-'Vstupní hodnoty'!$C$5)","v":0}]
[null,"2017-01-08T01:15:00",1,319.68,{"$f":"CEILING(IF(C680-C679=0,IF(H679=0,I679,IF(J679>K679,I679,E679)),'Výstupy modelu'!$C$7),1)","v":1664},0,0,{"$f":"IF(F680=1,IF(G680>'Zdrojová data'!$C$19,0,1),\"\")","v":""},1664,0,{"$f":"MIN(J680,'Zdrojová data'!$C$17)","v":0},0,{"$f":"L680/'Zdrojová data'!$C$16","v":0},{"$f":"M680*'Zdrojová data'!$C$13","v":0},{"$f":"N680*'Zdrojová data'!$C$14","v":0},0,{"$f":"IF(H680=0,D680-'Výstupy modelu'!$C$7,IF(P680=1,J680-K680,0))","v":0},0,null,{"$f":"MAX(0,IF(Q680>0,Q680-('Výstupy modelu'!$H$10-'Výstupy modelu'!$H$9),0))","v":0},null,null,{"$f":"W679","v":1865.4300000000003},1885.4300000000003,0,{"$f":"MAX(0,D680-'Vstupní hodnoty'!$C$5)","v":0}]
[null,"2017-01-08T01:30:00",1,320.76000000000005,{"$f":"CEILING(IF(C681-C680=0,IF(H680=0,I680,IF(J680>K680,I680,E680)),'Výstupy modelu'!$C$7),1)","v":1664},0,0,{"$f":"IF(F681=1,IF(G681>'Zdrojová data'!$C$19,0,1),\"\")","v":""},1664,0,{"$f":"MIN(J681,'Zdrojová data'!$C$17)","v":0},0,{"$f":"L681/'Zdrojová data'!$C$16","v":0},{"$f":"M681*'Zdrojová data'!$C$13","v":0},{"$f":"N681*'Zdrojová data'!$C$14","v":0},0,{"$f":"IF(H681=0,D681-'Výstupy modelu'!$C$7,IF(P681=1,J681-K681,0))","v":0},0,null,{"$f":"MAX(0,IF(Q681>0,Q681-('Výstupy modelu'!$H$10-'Výstupy modelu'!$H$9),0))","v":0},null,null,{"$f":"W680","v":1865.4300000000003},1885.4300000000003,0,{"$f":"MAX(0,D681-'Vstupní hodnoty'!$C$5)","v":0}]
[null,"2017-01-08T01:45:00",1,312.12,{"$f":"CEILING(IF(C682-C681=0,IF(H681=0,I681,IF(J681>K681,I681,E681)),'Výstupy modelu'!$C$7),1)","v":1664},0,0,{"$f":"IF(F682=1,IF(G682>'Zdrojová data'!$C$19,0,1),\"\")","v":""},1664,0,{"$f":"MIN(J682,'Zdrojová data'!$C$17)","v":0},0,{"$f":"L682/'Zdrojová data'!$C$16","v":0},{"$f":"M682*'Zdrojová data'!$C$13","v":0},{"$f":"N682*'Zdrojová data'!$C$14","v":0},0,{"$f":"IF(H682=0,D682-'Výstupy modelu'!$C$7,IF(P682=1,J682-K682,0))","v":0},0,null,{"$f":"MAX(0,IF(Q682>0,Q682-('Výstupy modelu'!$H$10-'Výstupy modelu'!$H$9),0))","v":0},null,null,{"$f":"W681","v":1865.4300000000003},1885.4300000000003,0,{"$f":"MAX(0,D682-'Vstupní hodnoty'!$C$5)","v":0}]
[null,"2017-01-08T02:00:00",1,325.08000000000004,{"$f":"CEILING(IF(C683-C682=0,IF(H682=0,I682,IF(J682>K682,I682,E682)),'Výstupy modelu'!$C$7),1)","v":1664},0,0,{"$f":"IF(F683=1,IF(G683>'Zdrojová data'!$C$19,0,1),\"\")","v":""},1664,0,{"$f":"MIN(J683,'Zdrojová data'!$C$17)","v":0},0,{"$f":"L683/'Zdrojová data'!$C$16","v":0},{"$f":"M683*'Zdrojová data'!$C$13","v":0},{"$f":"N683*'Zdrojová data'!$C$14","v":0},0,{"$f":"IF(H683=0,D683-'Výstupy modelu'!$C$7,IF(P683=1,J683-K683,0))","v":0},0,null,{"$f":"MAX(0,IF(Q683>0,Q683-('Výstupy modelu'!$H$10-'Výstupy modelu'!$H$9),0))","v":0},null,null,{"$f":"W682","v":1865.4300000000003},1885.4300000000003,0,{"$f":"MAX(0,D683-'Vstupní hodnoty'!$C$5)","v":0}]
[null,"2017-01-08T02:15:00",1,328.32000000000005,{"$f":"CEILING(IF(C684-C683=0,IF(H683=0,I683,IF(J683>K683,I683,E683)),'Výstupy modelu'!$C$7),1)","v":1664},0,0,{"$f":"IF(F684=1,IF(G684>'Zdrojová data'!$C$19,0,1),\"\")","v":""},1664,0,{"$f":"MIN(J684,'Zdrojová data'!$C$17)","v":0},0,{"$f":"L684/'Zdrojová data'!$C$16","v":0},{"$f":"M684*'Zdrojová data'!$C$13","v":0},{"$f":"N684*'Zdrojová data'!$C$14","v":0},0,{"$f":"IF(H684=0,D684-'Výstupy modelu'!$C$7,IF(P684=1,J684-K684,0))","v":0},0,null,{"$f":"MAX(0,IF(Q684>0,Q684-('Výstupy modelu'!$H$10-'Výstupy modelu'!$H$9),0))","v":0},null,null,{"$f":"W683","v":1865.4300000000003},1885.4300000000003,0,{"$f":"MAX(0,D684-'Vstupní hodnoty'!$C$5)","v":0}]
[null,"2017-01-08T02:30:00",1,317.52000000000004,{"$f":"CEILING(IF(C685-C684=0,IF(H684=0,I684,IF(J684>K684,I684,E684)),'Výstupy modelu'!$C$7),1)","v":1664},0,0,{"$f":"IF(F685=1,IF(G685>'Zdrojová data'!$C$19,0,1),\"\")","v":""},1664,0,{"$f":"MIN(J685,'Zdrojová data'!$C$17)","v":0},0,{"$f":"L685/'Zdrojová data'!$C$16","v":0},{"$f":"M685*'Zdrojová data'!$C$13","v":0},{"$f":"N685*'Zdrojová data'!$C$14","v":0},0,{"$f":"IF(H685=0,D685-'Výstupy modelu'!$C$7,IF(P685=1,J685-K685,0))","v":0},0,null,{"$f":"MAX(0,IF(Q685>0,Q685-('Výstupy modelu'!$H$10-'Výstupy modelu'!$H$9),0))","v":0},null,null,{"$f":"W684","v":1865.4300000000003},1885.4300000000003,0,{"$f":"MAX(0,D685-'Vstupní hodnoty'!$C$5)","v":0}]
[null,"2017-01-08T02:45:00",1,318.60000000000002,{"$f":"CEILING(IF(C686-C685=0,IF(H685=0,I685,IF(J685>K685,I685,E685)),'Výstupy modelu'!$C$7),1)","v":1664},0,0,{"$f":"IF(F686=1,IF(G686>'Zdrojová data'!$C$19,0,1),\"\")","v":""},1664,0,{"$f":"MIN(J686,'Zdrojová data'!$C$17)","v":0},0,{"$f":"L686/'Zdrojová data'!$C$16","v":0},{"$f":"M686*'Zdrojová data'!$C$13","v":0},{"$f":"N686*'Zdrojová data'!$C$14","v":0},0,{"$f":"IF(H686=0,D686-'Výstupy modelu'!$C$7,IF(P686=1,J686-K686,0))","v":0},0,null,{"$f":"MAX(0,IF(Q686>0,Q686-('Výstupy modelu'!$H$10-'Výstupy modelu'!$H$9),0))","v":0},null,null,{"$f":"W685","v":1865.4300000000003},1885.4300000000003,0,{"$f":"MAX(0,D686-'Vstupní hodnoty'!$C$5)","v":0}]
[null,"2017-01-08T03:00:00",1,325.08000000000004,{"$f":"CEILING(IF(C687-C686=0,IF(H686=0,I686,IF(J686>K686,I686,E686)),'Výstupy modelu'!$C$7),1)","v":1664},0,0,{"$f":"IF(F687=1,IF(G687>'Zdrojová data'!$C$19,0,1),\"\")","v":""},1664,0,{"$f":"MIN(J687,'Zdrojová data'!$C$17)","v":0},0,{"$f":"L687/'Zdrojová data'!$C$16","v":0},{"$f":"M687*'Zdrojová data'!$C$13","v":0},{"$f":"N687*'Zdrojová data'!$C$14","v":0},0,{"$f":"IF(H687=0,D687-'Výstupy modelu'!$C$7,IF(P687=1,J687-K687,0))","v":0},0,null,{"$f":"MAX(0,IF(Q687>0,Q687-('Výstupy modelu'!$H$10-'Výstupy modelu'!$H$9),0))","v":0},null,null,{"$f":"W686","v":1865.4300000000003},1885.4300000000003,0,{"$f":"MAX(0,D687-'Vstupní hodnoty'!$C$5)","v":0}]
[null,"2017-01-08T03:15:00",1,319.68,{"$f":"CEILING(IF(C688-C687=0,IF(H687=0,I687,IF(J687>K687,I687,E687)),'Výstupy modelu'!$C$7),1)","v":1664},0,0,{"$f":"IF(F688=1,IF(G688>'Zdrojová data'!$C$19,0,1),\"\")","v":""},1664,0,{"$f":"MIN(J688,'Zdrojová data'!$C$17)","v":0},0,{"$f":"L688/'Zdrojová data'!$C$16","v":0},{"$f":"M688*'Zdrojová data'!$C$13","v":0},{"$f":"N688*'Zdrojová data'!$C$14","v":0},0,{"$f":"IF(H688=0,D688-'Výstupy modelu'!$C$7,IF(P688=1,J688-K688,0))","v":0},0,null,{"$f":"MAX(0,IF(Q688>0,Q688-('Výstupy modelu'!$H$10-'Výstupy modelu'!$H$9),0))","v":0},null,null,{"$f":"W687","v":1865.4300000000003},1885.4300000000003,0,{"$f":"MAX(0,D688-'Vstupní hodnoty'!$C$5)","v":0}]
[null,"2017-01-08T03:30:00",1,316.44,{"$f":"CEILING(IF(C689-C688=0,IF(H688=0,I688,IF(J688>K688,I688,E688)),'Výstupy modelu'!$C$7),1)","v":1664},0,0,{"$f":"IF(F689=1,IF(G689>'Zdrojová data'!$C$19,0,1),\"\")","v":""},1664,0,{"$f":"MIN(J689,'Zdrojová data'!$C$17)","v":0},0,{"$f":"L689/'Zdrojová data'!$C$16","v":0},{"$f":"M689*'Zdrojová data'!$C$13","v":0},{"$f":"N689*'Zdrojová data'!$C$14","v":0},0,{"$f":"IF(H689=0,D689-'Výstupy modelu'!$C$7,IF(P689=1,J689-K689,0))","v":0},0,null,{"$f":"MAX(0,IF(Q689>0,Q689-('Výstupy modelu'!$H$10-'Výstupy modelu'!$H$9),0))","v":0},null,null,{"$f":"W688","v":1865.4300000000003},1885.4300000000003,{"$f":"MAX(0,D689-W689)","v":0},{"$f":"MAX(0,D689-'Vstupní hodnoty'!$C$5)","v":0}]
[null,"2017-01-08T03:45:00",1,324,{"$f":"CEILING(IF(C690-C689=0,IF(H689=0,I689,IF(J689>K689,I689,E689)),'Výstupy modelu'!$C$7),1)","v":1664},0,0,{"$f":"IF(F690=1,IF(G690>'Zdrojová data'!$C$19,0,1),\"\")","v":""},1664,0,{"$f":"MIN(J690,'Zdrojová data'!$C$17)","v":0},0,{"$f":"L690/'Zdrojová data'!$C$16","v":0},{"$f":"M690*'Zdrojová data'!$C$13","v":0},{"$f":"N690*'Zdrojová data'!$C$14","v":0},0,{"$f":"IF(H690=0,D690-'Výstupy modelu'!$C$7,IF(P690=1,J690-K690,0))","v":0},0,null,{"$f":"MAX(0,IF(Q690>0,Q690-('Výstupy modelu'!$H$10-'Výstupy modelu'!$H$9),0))","v":0},null,null,{"$f":"W689","v":1865.4300000000003},1885.4300000000003,0,{"$f":"MAX(0,D690-'Vstupní hodnoty'!$C$5)","v":0}]
[null,"2017-01-08T04:00:00",1,331.56,{"$f":"CEILING(IF(C691-C690=0,IF(H690=0,I690,IF(J690>K690,I690,E690)),'Výstupy modelu'!$C$7),1)","v":1664},0,0,{"$f":"IF(F691=1,IF(G691>'Zdrojová data'!$C$19,0,1),\"\")","v":""},1664,0,{"$f":"MIN(J691,'Zdrojová data'!$C$17)","v":0},0,{"$f":"L691/'Zdrojová data'!$C$16","v":0},{"$f":"M691*'Zdrojová data'!$C$13","v":0},{"$f":"N691*'Zdrojová data'!$C$14","v":0},0,{"$f":"IF(H691=0,D691-'Výstupy modelu'!$C$7,IF(P691=1,J691-K691,0))","v":0},0,null,{"$f":"MAX(0,IF(Q691>0,Q691-('Výstupy modelu'!$H$10-'Výstupy modelu'!$H$9),0))","v":0},null,null,{"$f":"W690","v":1865.4300000000003},1885.4300000000003,0,{"$f":"MAX(0,D691-'Vstupní hodnoty'!$C$5)","v":0}]
[null,"2017-01-08T04:15:00",1,322.92,{"$f":"CEILING(IF(C692-C691=0,IF(H691=0,I691,IF(J691>K691,I691,E691)),'Výstupy modelu'!$C$7),1)","v":1664},0,0,{"$f":"IF(F692=1,IF(G692>'Zdrojová data'!$C$19,0,1),\"\")","v":""},1664,0,{"$f":"MIN(J692,'Zdrojová data'!$C$17)","v":0},0,{"$f":"L692/'Zdrojová data'!$C$16","v":0},{"$f":"M692*'Zdrojová data'!$C$13","v":0},{"$f":"N692*'Zdrojová data'!$C$14","v":0},0,{"$f":"IF(H692=0,D692-'Výstupy modelu'!$C$7,IF(P692=1,J692-K692,0))","v":0},0,null,{"$f":"MAX(0,IF(Q692>0,Q692-('Výstupy modelu'!$H$10-'Výstupy modelu'!$H$9),0))","v":0},null,null,{"$f":"W691","v":1865.4300000000003},1885.4300000000003,0,{"$f":"MAX(0,D692-'Vstupní hodnoty'!$C$5)","v":0}]
[null,"2017-01-08T04:30:00",1,331.56,{"$f":"CEILING(IF(C693-C692=0,IF(H692=0,I692,IF(J692>K692,I692,E692)),'Výstupy modelu'!$C$7),1)","v":1664},0,0,{"$f":"IF(F693=1,IF(G693>'Zdrojová data'!$C$19,0,1),\"\")","v":""},1664,0,{"$f":"MIN(J693,'Zdrojová data'!$C$17)","v":0},0,{"$f":"L693/'Zdrojová data'!$C$16","v":0},{"$f":"M693*'Zdrojová data'!$C$13","v":0},{"$f":"N693*'Zdrojová data'!$C$14","v":0},0,{"$f":"IF(H693=0,D693-'Výstupy modelu'!$C$7,IF(P693=1,J693-K693,0))","v":0},0,null,{"$f":"MAX(0,IF(Q693>0,Q693-('Výstupy modelu'!$H$10-'Výstupy modelu'!$H$9),0))","v":0},null,null,{"$f":"W692","v":1865.4300000000003},1885.4300000000003,0,{"$f":"MAX(0,D693-'Vstupní hodnoty'!$C$5)","v":0}]
[null,"2017-01-08T04:45:00",1,326.16000000000003,{"$f":"CEILING(IF(C694-C693=0,IF(H693=0,I693,IF(J693>K693,I693,E693)),'Výstupy modelu'!$C$7),1)","v":1664},0,0,{"$f":"IF(F694=1,IF(G694>'Zdrojová data'!$C$19,0,1),\"\")","v":""},1664,0,{"$f":"MIN(J694,'Zdrojová data'!$C$17)","v":0},0,{"$f":"L694/'Zdrojová data'!$C$16","v":0},{"$f":"M694*'Zdrojová data'!$C$13","v":0},{"$f":"N694*'Zdrojová data'!$C$14","v":0},0,{"$f":"IF(H694=0,D694-'Výstupy modelu'!$C$7,IF(P694=1,J694-K694,0))","v":0},0,null,{"$f":"MAX(0,IF(Q694>0,Q694-('Výstupy modelu'!$H$10-'Výstupy modelu'!$H$9),0))","v":0},null,null,{"$f":"W693","v":1865.4300000000003},1885.4300000000003,0,{"$f":"MAX(0,D694-'Vstupní hodnoty'!$C$5)","v":0}]
[null,"2017-01-08T05:00:00",1,330.48,{"$f":"CEILING(IF(C695-C694=0,IF(H694=0,I694,IF(J694>K694,I694,E694)),'Výstupy modelu'!$C$7),1)","v":1664},0,0,{"$f":"IF(F695=1,IF(G695>'Zdrojová data'!$C$19,0,1),\"\")","v":""},1664,0,{"$f":"MIN(J695,'Zdrojová data'!$C$17)","v":0},0,{"$f":"L695/'Zdrojová data'!$C$16","v":0},{"$f":"M695*'Zdrojová data'!$C$13","v":0},{"$f":"N695*'Zdrojová data'!$C$14","v":0},0,{"$f":"IF(H695=0,D695-'Výstupy modelu'!$C$7,IF(P695=1,J695-K695,0))","v":0},0,null,{"$f":"MAX(0,IF(Q695>0,Q695-('Výstupy modelu'!$H$10-'Výstupy modelu'!$H$9),0))","v":0},null,null,{"$f":"W694","v":1865.4300000000003},1885.4300000000003,0,{"$f":"MAX(0,D695-'Vstupní hodnoty'!$C$5)","v":0}]
[null,"2017-01-08T05:15:00",1,328.32000000000005,{"$f":"CEILING(IF(C696-C695=0,IF(H695=0,I695,IF(J695>K695,I695,E695)),'Výstupy modelu'!$C$7),1)","v":1664},0,0,{"$f":"IF(F696=1,IF(G696>'Zdrojová data'!$C$19,0,1),\"\")","v":""},1664,0,{"$f":"MIN(J696,'Zdrojová data'!$C$17)","v":0},0,{"$f":"L696/'Zdrojová data'!$C$16","v":0},{"$f":"M696*'Zdrojová data'!$C$13","v":0},{"$f":"N696*'Zdrojová data'!$C$14","v":0},0,{"$f":"IF(H696=0,D696-'Výstupy modelu'!$C$7,IF(P696=1,J696-K696,0))","v":0},0,null,{"$f":"MAX(0,IF(Q696>0,Q696-('Výstupy modelu'!$H$10-'Výstupy modelu'!$H$9),0))","v":0},null,null,{"$f":"W695","v":1865.4300000000003},1885.4300000000003,0,{"$f":"MAX(0,D696-'Vstupní hodnoty'!$C$5)","v":0}]
[null,"2017-01-08T05:30:00",1,328.32000000000005,{"$f":"CEILING(IF(C697-C696=0,IF(H696=0,I696,IF(J696>K696,I696,E696)),'Výstupy modelu'!$C$7),1)","v":1664},0,0,{"$f":"IF(F697=1,IF(G697>'Zdrojová data'!$C$19,0,1),\"\")","v":""},1664,0,{"$f":"MIN(J697,'Zdrojová data'!$C$17)","v":0},0,{"$f":"L697/'Zdrojová data'!$C$16","v":0},{"$f":"M697*'Zdrojová data'!$C$13","v":0},{"$f":"N697*'Zdrojová data'!$C$14","v":0},0,{"$f":"IF(H697=0,D697-'Výstupy modelu'!$C$7,IF(P697=1,J697-K697,0))","v":0},0,null,{"$f":"MAX(0,IF(Q697>0,Q697-('Výstupy modelu'!$H$10-'Výstupy modelu'!$H$9),0))","v":0},null,null,{"$f":"W696","v":1865.4300000000003},1885.4300000000003,0,{"$f":"MAX(0,D697-'Vstupní hodnoty'!$C$5)","v":0}]
[null,"2017-01-08T05:45:00",1,332.64000000000004,{"$f":"CEILING(IF(C698-C697=0,IF(H697=0,I697,IF(J697>K697,I697,E697)),'Výstupy modelu'!$C$7),1)","v":1664},0,0,{"$f":"IF(F698=1,IF(G698>'Zdrojová data'!$C$19,0,1),\"\")","v":""},1664,0,{"$f":"MIN(J698,'Zdrojová data'!$C$17)","v":0},0,{"$f":"L698/'Zdrojová data'!$C$16","v":0},{"$f":"M698*'Zdrojová data'!$C$13","v":0},{"$f":"N698*'Zdrojová data'!$C$14","v":0},0,{"$f":"IF(H698=0,D698-'Výstupy modelu'!$C$7,IF(P698=1,J698-K698,0))","v":0},0,null,{"$f":"MAX(0,IF(Q698>0,Q698-('Výstupy modelu'!$H$10-'Výstupy modelu'!$H$9),0))","v":0},null,null,{"$f":"W697","v":1865.4300000000003},1885.4300000000003,0,{"$f":"MAX(0,D698-'Vstupní hodnoty'!$C$5)","v":0}]
[null,"2017-01-08T06:00:00",1,322.92,{"$f":"CEILING(IF(C699-C698=0,IF(H698=0,I698,IF(J698>K698,I698,E698)),'Výstupy modelu'!$C$7),1)","v":1664},0,0,{"$f":"IF(F699=1,IF(G699>'Zdrojová data'!$C$19,0,1),\"\")","v":""},1664,0,{"$f":"MIN(J699,'Zdrojová data'!$C$17)","v":0},0,{"$f":"L699/'Zdrojová data'!$C$16","v":0},{"$f":"M699*'Zdrojová data'!$C$13","v":0},{"$f":"N699*'Zdrojová data'!$C$14","v":0},0,{"$f":"IF(H699=0,D699-'Výstupy modelu'!$C$7,IF(P699=1,J699-K699,0))","v":0},0,null,{"$f":"MAX(0,IF(Q699>0,Q699-('Výstupy modelu'!$H$10-'Výstupy modelu'!$H$9),0))","v":0},null,null,{"$f":"W698","v":1865.4300000000003},1885.4300000000003,0,{"$f":"MAX(0,D699-'Vstupní hodnoty'!$C$5)","v":0}]
[null,"2017-01-08T06:15:00",1,318.60000000000002,{"$f":"CEILING(IF(C700-C699=0,IF(H699=0,I699,IF(J699>K699,I699,E699)),'Výstupy modelu'!$C$7),1)","v":1664},0,0,{"$f":"IF(F700=1,IF(G700>'Zdrojová data'!$C$19,0,1),\"\")","v":""},1664,0,{"$f":"MIN(J700,'Zdrojová data'!$C$17)","v":0},0,{"$f":"L700/'Zdrojová data'!$C$16","v":0},{"$f":"M700*'Zdrojová data'!$C$13","v":0},{"$f":"N700*'Zdrojová data'!$C$14","v":0},0,{"$f":"IF(H700=0,D700-'Výstupy modelu'!$C$7,IF(P700=1,J700-K700,0))","v":0},0,null,{"$f":"MAX(0,IF(Q700>0,Q700-('Výstupy modelu'!$H$10-'Výstupy modelu'!$H$9),0))","v":0},null,null,{"$f":"W699","v":1865.4300000000003},1885.4300000000003,0,{"$f":"MAX(0,D700-'Vstupní hodnoty'!$C$5)","v":0}]
[null,"2017-01-08T06:30:00",1,315.36,{"$f":"CEILING(IF(C701-C700=0,IF(H700=0,I700,IF(J700>K700,I700,E700)),'Výstupy modelu'!$C$7),1)","v":1664},0,0,{"$f":"IF(F701=1,IF(G701>'Zdrojová data'!$C$19,0,1),\"\")","v":""},1664,0,{"$f":"MIN(J701,'Zdrojová data'!$C$17)","v":0},0,{"$f":"L701/'Zdrojová data'!$C$16","v":0},{"$f":"M701*'Zdrojová data'!$C$13","v":0},{"$f":"N701*'Zdrojová data'!$C$14","v":0},0,{"$f":"IF(H701=0,D701-'Výstupy modelu'!$C$7,IF(P701=1,J701-K701,0))","v":0},0,null,{"$f":"MAX(0,IF(Q701>0,Q701-('Výstupy modelu'!$H$10-'Výstupy modelu'!$H$9),0))","v":0},null,null,{"$f":"W700","v":1865.4300000000003},1885.4300000000003,0,{"$f":"MAX(0,D701-'Vstupní hodnoty'!$C$5)","v":0}]
[null,"2017-01-08T06:45:00",1,320.76000000000005,{"$f":"CEILING(IF(C702-C701=0,IF(H701=0,I701,IF(J701>K701,I701,E701)),'Výstupy modelu'!$C$7),1)","v":1664},0,0,{"$f":"IF(F702=1,IF(G702>'Zdrojová data'!$C$19,0,1),\"\")","v":""},1664,0,{"$f":"MIN(J702,'Zdrojová data'!$C$17)","v":0},0,{"$f":"L702/'Zdrojová data'!$C$16","v":0},{"$f":"M702*'Zdrojová data'!$C$13","v":0},{"$f":"N702*'Zdrojová data'!$C$14","v":0},0,{"$f":"IF(H702=0,D702-'Výstupy modelu'!$C$7,IF(P702=1,J702-K702,0))","v":0},0,null,{"$f":"MAX(0,IF(Q702>0,Q702-('Výstupy modelu'!$H$10-'Výstupy modelu'!$H$9),0))","v":0},null,null,{"$f":"W701","v":1865.4300000000003},1885.4300000000003,0,{"$f":"MAX(0,D702-'Vstupní hodnoty'!$C$5)","v":0}]
[null,"2017-01-08T07:00:00",1,318.60000000000002,{"$f":"CEILING(IF(C703-C702=0,IF(H702=0,I702,IF(J702>K702,I702,E702)),'Výstupy modelu'!$C$7),1)","v":1664},0,0,{"$f":"IF(F703=1,IF(G703>'Zdrojová data'!$C$19,0,1),\"\")","v":""},1664,0,{"$f":"MIN(J703,'Zdrojová data'!$C$17)","v":0},0,{"$f":"L703/'Zdrojová data'!$C$16","v":0},{"$f":"M703*'Zdrojová data'!$C$13","v":0},{"$f":"N703*'Zdrojová data'!$C$14","v":0},0,{"$f":"IF(H703=0,D703-'Výstupy modelu'!$C$7,IF(P703=1,J703-K703,0))","v":0},0,null,{"$f":"MAX(0,IF(Q703>0,Q703-('Výstupy modelu'!$H$10-'Výstupy modelu'!$H$9),0))","v":0},null,null,{"$f":"W702","v":1865.4300000000003},1885.4300000000003,0,{"$f":"MAX(0,D703-'Vstupní hodnoty'!$C$5)","v":0}]
[null,"2017-01-08T07:15:00",1,317.52000000000004,{"$f":"CEILING(IF(C704-C703=0,IF(H703=0,I703,IF(J703>K703,I703,E703)),'Výstupy modelu'!$C$7),1)","v":1664},0,0,{"$f":"IF(F704=1,IF(G704>'Zdrojová data'!$C$19,0,1),\"\")","v":""},1664,0,{"$f":"MIN(J704,'Zdrojová data'!$C$17)","v":0},0,{"$f":"L704/'Zdrojová data'!$C$16","v":0},{"$f":"M704*'Zdrojová data'!$C$13","v":0},{"$f":"N704*'Zdrojová data'!$C$14","v":0},0,{"$f":"IF(H704=0,D704-'Výstupy modelu'!$C$7,IF(P704=1,J704-K704,0))","v":0},0,null,{"$f":"MAX(0,IF(Q704>0,Q704-('Výstupy modelu'!$H$10-'Výstupy modelu'!$H$9),0))","v":0},null,null,{"$f":"W703","v":1865.4300000000003},1885.4300000000003,0,{"$f":"MAX(0,D704-'Vstupní hodnoty'!$C$5)","v":0}]
[null,"2017-01-08T07:30:00",1,324,{"$f":"CEILING(IF(C705-C704=0,IF(H704=0,I704,IF(J704>K704,I704,E704)),'Výstupy modelu'!$C$7),1)","v":1664},0,0,{"$f":"IF(F705=1,IF(G705>'Zdrojová data'!$C$19,0,1),\"\")","v":""},1664,0,{"$f":"MIN(J705,'Zdrojová data'!$C$17)","v":0},0,{"$f":"L705/'Zdrojová data'!$C$16","v":0},{"$f":"M705*'Zdrojová data'!$C$13","v":0},{"$f":"N705*'Zdrojová data'!$C$14","v":0},0,{"$f":"IF(H705=0,D705-'Výstupy modelu'!$C$7,IF(P705=1,J705-K705,0))","v":0},0,null,{"$f":"MAX(0,IF(Q705>0,Q705-('Výstupy modelu'!$H$10-'Výstupy modelu'!$H$9),0))","v":0},null,null,{"$f":"W704","v":1865.4300000000003},1885.4300000000003,0,{"$f":"MAX(0,D705-'Vstupní hodnoty'!$C$5)","v":0}]
[null,"2017-01-08T07:45:00",1,330.48,{"$f":"CEILING(IF(C706-C705=0,IF(H705=0,I705,IF(J705>K705,I705,E705)),'Výstupy modelu'!$C$7),1)","v":1664},0,0,{"$f":"IF(F706=1,IF(G706>'Zdrojová data'!$C$19,0,1),\"\")","v":""},1664,0,{"$f":"MIN(J706,'Zdrojová data'!$C$17)","v":0},0,{"$f":"L706/'Zdrojová data'!$C$16","v":0},{"$f":"M706*'Zdrojová data'!$C$13","v":0},{"$f":"N706*'Zdrojová data'!$C$14","v":0},0,{"$f":"IF(H706=0,D706-'Výstupy modelu'!$C$7,IF(P706=1,J706-K706,0))","v":0},0,null,{"$f":"MAX(0,IF(Q706>0,Q706-('Výstupy modelu'!$H$10-'Výstupy modelu'!$H$9),0))","v":0},null,null,{"$f":"W705","v":1865.4300000000003},1885.4300000000003,0,{"$f":"MAX(0,D706-'Vstupní hodnoty'!$C$5)","v":0}]
[null,"2017-01-08T08:00:00",1,317.52000000000004,{"$f":"CEILING(IF(C707-C706=0,IF(H706=0,I706,IF(J706>K706,I706,E706)),'Výstupy modelu'!$C$7),1)","v":1664},0,0,{"$f":"IF(F707=1,IF(G707>'Zdrojová data'!$C$19,0,1),\"\")","v":""},1664,0,{"$f":"MIN(J707,'Zdrojová data'!$C$17)","v":0},0,{"$f":"L707/'Zdrojová data'!$C$16","v":0},{"$f":"M707*'Zdrojová data'!$C$13","v":0},{"$f":"N707*'Zdrojová data'!$C$14","v":0},0,{"$f":"IF(H707=0,D707-'Výstupy modelu'!$C$7,IF(P707=1,J707-K707,0))","v":0},0,null,{"$f":"MAX(0,IF(Q707>0,Q707-('Výstupy modelu'!$H$10-'Výstupy modelu'!$H$9),0))","v":0},null,null,{"$f":"W706","v":1865.4300000000003},1885.4300000000003,0,{"$f":"MAX(0,D707-'Vstupní hodnoty'!$C$5)","v":0}]
[null,"2017-01-08T08:15:00",1,320.76000000000005,{"$f":"CEILING(IF(C708-C707=0,IF(H707=0,I707,IF(J707>K707,I707,E707)),'Výstupy modelu'!$C$7),1)","v":1664},{"$f":"IF(D708>E708,1,0)","v":0},0,{"$f":"IF(F708=1,IF(G708>'Zdrojová data'!$C$19,0,1),\"\")","v":""},{"$f":"IF(H708=0,D708,IF(J708>K708,E708+J708-K708,E708))","v":1664},{"$f":"IF(H708=1,D708-E708,0)","v":0},{"$f":"MIN(J708,'Zdrojová data'!$C$17)","v":0},0,{"$f":"L708/'Zdrojová data'!$C$16","v":0},{"$f":"M708*'Zdrojová data'!$C$13","v":0},{"$f":"N708*'Zdrojová data'!$C$14","v":0},0,{"$f":"IF(H708=0,D708-'Výstupy modelu'!$C$7,IF(P708=1,J708-K708,0))","v":0},0,null,{"$f":"MAX(0,IF(Q708>0,Q708-('Výstupy modelu'!$H$10-'Výstupy modelu'!$H$9),0))","v":0},null,null,{"$f":"W707","v":1865.4300000000003},1885.4300000000003,0,{"$f":"MAX(0,D708-'Vstupní hodnoty'!$C$5)","v":0}]
[null,"2017-01-08T08:30:00",{"$f":"MONTH(B709)","v":1},321.84000000000003,{"$f":"CEILING(IF(C709-C708=0,IF(H708=0,I708,IF(J708>K708,I708,E708)),'Výstupy modelu'!$C$7),1)","v":1664},0,{"$f":"IF(F709=1,RANDBETWEEN(0,100),0)","v":0},{"$f":"IF(F709=1,IF(G709>'Zdrojová data'!$C$19,0,1),\"\")","v":""},1664,0,{"$f":"MIN(J709,'Zdrojová data'!$C$17)","v":0},{"$f":"K709/4","v":0},{"$f":"L709/'Zdrojová data'!$C$16","v":0},{"$f":"M709*'Zdrojová data'!$C$13","v":0},{"$f":"N709*'Zdrojová data'!$C$14","v":0},{"$f":"IF(H709=0,1,IF(J709>K709,1,0))","v":0},{"$f":"IF(H709=0,D709-'Výstupy modelu'!$C$7,IF(P709=1,J709-K709,0))","v":0},{"$f":"IF(H709=0,1,IF(J709>K709,1,0))","v":0},null,{"$f":"MAX(0,IF(Q709>0,Q709-('Výstupy modelu'!$H$10-'Výstupy modelu'!$H$9),0))","v":0},null,null,{"$f":"W708","v":1865.4300000000003},1885.4300000000003,0,{"$f":"MAX(0,D709-'Vstupní hodnoty'!$C$5)","v":0}]
[null,"2017-01-08T08:45:00",1,311.04000000000002,{"$f":"CEILING(IF(C710-C709=0,IF(H709=0,I709,IF(J709>K709,I709,E709)),'Výstupy modelu'!$C$7),1)","v":1664},0,0,{"$f":"IF(F710=1,IF(G710>'Zdrojová data'!$C$19,0,1),\"\")","v":""},1664,0,{"$f":"MIN(J710,'Zdrojová data'!$C$17)","v":0},0,{"$f":"L710/'Zdrojová data'!$C$16","v":0},{"$f":"M710*'Zdrojová data'!$C$13","v":0},{"$f":"N710*'Zdrojová data'!$C$14","v":0},0,{"$f":"IF(H710=0,D710-'Výstupy modelu'!$C$7,IF(P710=1,J710-K710,0))","v":0},0,null,{"$f":"MAX(0,IF(Q710>0,Q710-('Výstupy modelu'!$H$10-'Výstupy modelu'!$H$9),0))","v":0},null,null,{"$f":"W709","v":1865.4300000000003},1885.4300000000003,0,{"$f":"MAX(0,D710-'Vstupní hodnoty'!$C$5)","v":0}]
[null,"2017-01-08T09:00:00",1,317.52000000000004,{"$f":"CEILING(IF(C711-C710=0,IF(H710=0,I710,IF(J710>K710,I710,E710)),'Výstupy modelu'!$C$7),1)","v":1664},0,0,{"$f":"IF(F711=1,IF(G711>'Zdrojová data'!$C$19,0,1),\"\")","v":""},1664,0,{"$f":"MIN(J711,'Zdrojová data'!$C$17)","v":0},0,{"$f":"L711/'Zdrojová data'!$C$16","v":0},{"$f":"M711*'Zdrojová data'!$C$13","v":0},{"$f":"N711*'Zdrojová data'!$C$14","v":0},0,{"$f":"IF(H711=0,D711-'Výstupy modelu'!$C$7,IF(P711=1,J711-K711,0))","v":0},0,null,{"$f":"MAX(0,IF(Q711>0,Q711-('Výstupy modelu'!$H$10-'Výstupy modelu'!$H$9),0))","v":0},null,null,{"$f":"W710","v":1865.4300000000003},1885.4300000000003,0,{"$f":"MAX(0,D711-'Vstupní hodnoty'!$C$5)","v":0}]
[null,"2017-01-08T09:15:00",1,312.12,{"$f":"CEILING(IF(C712-C711=0,IF(H711=0,I711,IF(J711>K711,I711,E711)),'Výstupy modelu'!$C$7),1)","v":1664},0,0,{"$f":"IF(F712=1,IF(G712>'Zdrojová data'!$C$19,0,1),\"\")","v":""},1664,0,{"$f":"MIN(J712,'Zdrojová data'!$C$17)","v":0},0,{"$f":"L712/'Zdrojová data'!$C$16","v":0},{"$f":"M712*'Zdrojová data'!$C$13","v":0},{"$f":"N712*'Zdrojová data'!$C$14","v":0},0,{"$f":"IF(H712=0,D712-'Výstupy modelu'!$C$7,IF(P712=1,J712-K712,0))","v":0},0,null,{"$f":"MAX(0,IF(Q712>0,Q712-('Výstupy modelu'!$H$10-'Výstupy modelu'!$H$9),0))","v":0},null,null,{"$f":"W711","v":1865.4300000000003},1885.4300000000003,0,{"$f":"MAX(0,D712-'Vstupní hodnoty'!$C$5)","v":0}]
[null,"2017-01-08T09:30:00",1,316.44,{"$f":"CEILING(IF(C713-C712=0,IF(H712=0,I712,IF(J712>K712,I712,E712)),'Výstupy modelu'!$C$7),1)","v":1664},0,0,{"$f":"IF(F713=1,IF(G713>'Zdrojová data'!$C$19,0,1),\"\")","v":""},1664,0,{"$f":"MIN(J713,'Zdrojová data'!$C$17)","v":0},0,{"$f":"L713/'Zdrojová data'!$C$16","v":0},{"$f":"M713*'Zdrojová data'!$C$13","v":0},{"$f":"N713*'Zdrojová data'!$C$14","v":0},0,{"$f":"IF(H713=0,D713-'Výstupy modelu'!$C$7,IF(P713=1,J713-K713,0))","v":0},0,null,{"$f":"MAX(0,IF(Q713>0,Q713-('Výstupy modelu'!$H$10-'Výstupy modelu'!$H$9),0))","v":0},null,null,{"$f":"W712","v":1865.4300000000003},1885.4300000000003,0,{"$f":"MAX(0,D713-'Vstupní hodnoty'!$C$5)","v":0}]
[null,"2017-01-08T09:45:00",1,313.20000000000005,{"$f":"CEILING(IF(C714-C713=0,IF(H713=0,I713,IF(J713>K713,I713,E713)),'Výstupy modelu'!$C$7),1)","v":1664},0,0,{"$f":"IF(F714=1,IF(G714>'Zdrojová data'!$C$19,0,1),\"\")","v":""},1664,0,{"$f":"MIN(J714,'Zdrojová data'!$C$17)","v":0},0,{"$f":"L714/'Zdrojová data'!$C$16","v":0},{"$f":"M714*'Zdrojová data'!$C$13","v":0},{"$f":"N714*'Zdrojová data'!$C$14","v":0},0,{"$f":"IF(H714=0,D714-'Výstupy modelu'!$C$7,IF(P714=1,J714-K714,0))","v":0},0,null,{"$f":"MAX(0,IF(Q714>0,Q714-('Výstupy modelu'!$H$10-'Výstupy modelu'!$H$9),0))","v":0},null,null,{"$f":"W713","v":1865.4300000000003},1885.4300000000003,0,{"$f":"MAX(0,D714-'Vstupní hodnoty'!$C$5)","v":0}]
[null,"2017-01-08T10:00:00",1,313.20000000000005,{"$f":"CEILING(IF(C715-C714=0,IF(H714=0,I714,IF(J714>K714,I714,E714)),'Výstupy modelu'!$C$7),1)","v":1664},0,0,{"$f":"IF(F715=1,IF(G715>'Zdrojová data'!$C$19,0,1),\"\")","v":""},1664,0,{"$f":"MIN(J715,'Zdrojová data'!$C$17)","v":0},0,{"$f":"L715/'Zdrojová data'!$C$16","v":0},{"$f":"M715*'Zdrojová data'!$C$13","v":0},{"$f":"N715*'Zdrojová data'!$C$14","v":0},0,{"$f":"IF(H715=0,D715-'Výstupy modelu'!$C$7,IF(P715=1,J715-K715,0))","v":0},0,null,{"$f":"MAX(0,IF(Q715>0,Q715-('Výstupy modelu'!$H$10-'Výstupy modelu'!$H$9),0))","v":0},null,null,{"$f":"W714","v":1865.4300000000003},1885.4300000000003,0,{"$f":"MAX(0,D715-'Vstupní hodnoty'!$C$5)","v":0}]
[null,"2017-01-08T10:15:00",1,313.20000000000005,{"$f":"CEILING(IF(C716-C715=0,IF(H715=0,I715,IF(J715>K715,I715,E715)),'Výstupy modelu'!$C$7),1)","v":1664},0,0,{"$f":"IF(F716=1,IF(G716>'Zdrojová data'!$C$19,0,1),\"\")","v":""},1664,0,{"$f":"MIN(J716,'Zdrojová data'!$C$17)","v":0},0,{"$f":"L716/'Zdrojová data'!$C$16","v":0},{"$f":"M716*'Zdrojová data'!$C$13","v":0},{"$f":"N716*'Zdrojová data'!$C$14","v":0},0,{"$f":"IF(H716=0,D716-'Výstupy modelu'!$C$7,IF(P716=1,J716-K716,0))","v":0},0,null,{"$f":"MAX(0,IF(Q716>0,Q716-('Výstupy modelu'!$H$10-'Výstupy modelu'!$H$9),0))","v":0},null,null,{"$f":"W715","v":1865.4300000000003},1885.4300000000003,0,{"$f":"MAX(0,D716-'Vstupní hodnoty'!$C$5)","v":0}]
[null,"2017-01-08T10:30:00",1,318.60000000000002,{"$f":"CEILING(IF(C717-C716=0,IF(H716=0,I716,IF(J716>K716,I716,E716)),'Výstupy modelu'!$C$7),1)","v":1664},0,0,{"$f":"IF(F717=1,IF(G717>'Zdrojová data'!$C$19,0,1),\"\")","v":""},1664,0,{"$f":"MIN(J717,'Zdrojová data'!$C$17)","v":0},0,{"$f":"L717/'Zdrojová data'!$C$16","v":0},{"$f":"M717*'Zdrojová data'!$C$13","v":0},{"$f":"N717*'Zdrojová data'!$C$14","v":0},0,{"$f":"IF(H717=0,D717-'Výstupy modelu'!$C$7,IF(P717=1,J717-K717,0))","v":0},0,null,{"$f":"MAX(0,IF(Q717>0,Q717-('Výstupy modelu'!$H$10-'Výstupy modelu'!$H$9),0))","v":0},null,null,{"$f":"W716","v":1865.4300000000003},1885.4300000000003,0,{"$f":"MAX(0,D717-'Vstupní hodnoty'!$C$5)","v":0}]
[null,"2017-01-08T10:45:00",1,316.44,{"$f":"CEILING(IF(C718-C717=0,IF(H717=0,I717,IF(J717>K717,I717,E717)),'Výstupy modelu'!$C$7),1)","v":1664},0,0,{"$f":"IF(F718=1,IF(G718>'Zdrojová data'!$C$19,0,1),\"\")","v":""},1664,0,{"$f":"MIN(J718,'Zdrojová data'!$C$17)","v":0},0,{"$f":"L718/'Zdrojová data'!$C$16","v":0},{"$f":"M718*'Zdrojová data'!$C$13","v":0},{"$f":"N718*'Zdrojová data'!$C$14","v":0},0,{"$f":"IF(H718=0,D718-'Výstupy modelu'!$C$7,IF(P718=1,J718-K718,0))","v":0},0,null,{"$f":"MAX(0,IF(Q718>0,Q718-('Výstupy modelu'!$H$10-'Výstupy modelu'!$H$9),0))","v":0},null,null,{"$f":"W717","v":1865.4300000000003},1885.4300000000003,0,{"$f":"MAX(0,D718-'Vstupní hodnoty'!$C$5)","v":0}]
[null,"2017-01-08T11:00:00",1,321.84000000000003,{"$f":"CEILING(IF(C719-C718=0,IF(H718=0,I718,IF(J718>K718,I718,E718)),'Výstupy modelu'!$C$7),1)","v":1664},0,0,{"$f":"IF(F719=1,IF(G719>'Zdrojová data'!$C$19,0,1),\"\")","v":""},1664,0,{"$f":"MIN(J719,'Zdrojová data'!$C$17)","v":0},0,{"$f":"L719/'Zdrojová data'!$C$16","v":0},{"$f":"M719*'Zdrojová data'!$C$13","v":0},{"$f":"N719*'Zdrojová data'!$C$14","v":0},0,{"$f":"IF(H719=0,D719-'Výstupy modelu'!$C$7,IF(P719=1,J719-K719,0))","v":0},0,null,{"$f":"MAX(0,IF(Q719>0,Q719-('Výstupy modelu'!$H$10-'Výstupy modelu'!$H$9),0))","v":0},null,null,{"$f":"W718","v":1865.4300000000003},1885.4300000000003,0,{"$f":"MAX(0,D719-'Vstupní hodnoty'!$C$5)","v":0}]
[null,"2017-01-08T11:15:00",1,318.60000000000002,{"$f":"CEILING(IF(C720-C719=0,IF(H719=0,I719,IF(J719>K719,I719,E719)),'Výstupy modelu'!$C$7),1)","v":1664},0,0,{"$f":"IF(F720=1,IF(G720>'Zdrojová data'!$C$19,0,1),\"\")","v":""},1664,0,{"$f":"MIN(J720,'Zdrojová data'!$C$17)","v":0},0,{"$f":"L720/'Zdrojová data'!$C$16","v":0},{"$f":"M720*'Zdrojová data'!$C$13","v":0},{"$f":"N720*'Zdrojová data'!$C$14","v":0},0,{"$f":"IF(H720=0,D720-'Výstupy modelu'!$C$7,IF(P720=1,J720-K720,0))","v":0},0,null,{"$f":"MAX(0,IF(Q720>0,Q720-('Výstupy modelu'!$H$10-'Výstupy modelu'!$H$9),0))","v":0},null,null,{"$f":"W719","v":1865.4300000000003},1885.4300000000003,0,{"$f":"MAX(0,D720-'Vstupní hodnoty'!$C$5)","v":0}]
[null,"2017-01-08T11:30:00",1,324,{"$f":"CEILING(IF(C721-C720=0,IF(H720=0,I720,IF(J720>K720,I720,E720)),'Výstupy modelu'!$C$7),1)","v":1664},0,0,{"$f":"IF(F721=1,IF(G721>'Zdrojová data'!$C$19,0,1),\"\")","v":""},1664,0,{"$f":"MIN(J721,'Zdrojová data'!$C$17)","v":0},0,{"$f":"L721/'Zdrojová data'!$C$16","v":0},{"$f":"M721*'Zdrojová data'!$C$13","v":0},{"$f":"N721*'Zdrojová data'!$C$14","v":0},0,{"$f":"IF(H721=0,D721-'Výstupy modelu'!$C$7,IF(P721=1,J721-K721,0))","v":0},0,null,{"$f":"MAX(0,IF(Q721>0,Q721-('Výstupy modelu'!$H$10-'Výstupy modelu'!$H$9),0))","v":0},null,null,{"$f":"W720","v":1865.4300000000003},1885.4300000000003,0,{"$f":"MAX(0,D721-'Vstupní hodnoty'!$C$5)","v":0}]
[null,"2017-01-08T11:45:00",1,314.28000000000003,{"$f":"CEILING(IF(C722-C721=0,IF(H721=0,I721,IF(J721>K721,I721,E721)),'Výstupy modelu'!$C$7),1)","v":1664},0,0,{"$f":"IF(F722=1,IF(G722>'Zdrojová data'!$C$19,0,1),\"\")","v":""},1664,0,{"$f":"MIN(J722,'Zdrojová data'!$C$17)","v":0},0,{"$f":"L722/'Zdrojová data'!$C$16","v":0},{"$f":"M722*'Zdrojová data'!$C$13","v":0},{"$f":"N722*'Zdrojová data'!$C$14","v":0},0,{"$f":"IF(H722=0,D722-'Výstupy modelu'!$C$7,IF(P722=1,J722-K722,0))","v":0},0,null,{"$f":"MAX(0,IF(Q722>0,Q722-('Výstupy modelu'!$H$10-'Výstupy modelu'!$H$9),0))","v":0},null,null,{"$f":"W721","v":1865.4300000000003},1885.4300000000003,0,{"$f":"MAX(0,D722-'Vstupní hodnoty'!$C$5)","v":0}]
[null,"2017-01-08T12:00:00",1,313.20000000000005,{"$f":"CEILING(IF(C723-C722=0,IF(H722=0,I722,IF(J722>K722,I722,E722)),'Výstupy modelu'!$C$7),1)","v":1664},0,0,{"$f":"IF(F723=1,IF(G723>'Zdrojová data'!$C$19,0,1),\"\")","v":""},1664,0,{"$f":"MIN(J723,'Zdrojová data'!$C$17)","v":0},0,{"$f":"L723/'Zdrojová data'!$C$16","v":0},{"$f":"M723*'Zdrojová data'!$C$13","v":0},{"$f":"N723*'Zdrojová data'!$C$14","v":0},0,{"$f":"IF(H723=0,D723-'Výstupy modelu'!$C$7,IF(P723=1,J723-K723,0))","v":0},0,null,{"$f":"MAX(0,IF(Q723>0,Q723-('Výstupy modelu'!$H$10-'Výstupy modelu'!$H$9),0))","v":0},null,null,{"$f":"W722","v":1865.4300000000003},1885.4300000000003,0,{"$f":"MAX(0,D723-'Vstupní hodnoty'!$C$5)","v":0}]
[null,"2017-01-08T12:15:00",1,320.76000000000005,{"$f":"CEILING(IF(C724-C723=0,IF(H723=0,I723,IF(J723>K723,I723,E723)),'Výstupy modelu'!$C$7),1)","v":1664},0,0,{"$f":"IF(F724=1,IF(G724>'Zdrojová data'!$C$19,0,1),\"\")","v":""},1664,0,{"$f":"MIN(J724,'Zdrojová data'!$C$17)","v":0},0,{"$f":"L724/'Zdrojová data'!$C$16","v":0},{"$f":"M724*'Zdrojová data'!$C$13","v":0},{"$f":"N724*'Zdrojová data'!$C$14","v":0},0,{"$f":"IF(H724=0,D724-'Výstupy modelu'!$C$7,IF(P724=1,J724-K724,0))","v":0},0,null,{"$f":"MAX(0,IF(Q724>0,Q724-('Výstupy modelu'!$H$10-'Výstupy modelu'!$H$9),0))","v":0},null,null,{"$f":"W723","v":1865.4300000000003},1885.4300000000003,0,{"$f":"MAX(0,D724-'Vstupní hodnoty'!$C$5)","v":0}]
[null,"2017-01-08T12:30:00",1,308.88,{"$f":"CEILING(IF(C725-C724=0,IF(H724=0,I724,IF(J724>K724,I724,E724)),'Výstupy modelu'!$C$7),1)","v":1664},0,0,{"$f":"IF(F725=1,IF(G725>'Zdrojová data'!$C$19,0,1),\"\")","v":""},1664,0,{"$f":"MIN(J725,'Zdrojová data'!$C$17)","v":0},0,{"$f":"L725/'Zdrojová data'!$C$16","v":0},{"$f":"M725*'Zdrojová data'!$C$13","v":0},{"$f":"N725*'Zdrojová data'!$C$14","v":0},0,{"$f":"IF(H725=0,D725-'Výstupy modelu'!$C$7,IF(P725=1,J725-K725,0))","v":0},0,null,{"$f":"MAX(0,IF(Q725>0,Q725-('Výstupy modelu'!$H$10-'Výstupy modelu'!$H$9),0))","v":0},null,null,{"$f":"W724","v":1865.4300000000003},1885.4300000000003,0,{"$f":"MAX(0,D725-'Vstupní hodnoty'!$C$5)","v":0}]
[null,"2017-01-08T12:45:00",1,312.12,{"$f":"CEILING(IF(C726-C725=0,IF(H725=0,I725,IF(J725>K725,I725,E725)),'Výstupy modelu'!$C$7),1)","v":1664},0,0,{"$f":"IF(F726=1,IF(G726>'Zdrojová data'!$C$19,0,1),\"\")","v":""},1664,0,{"$f":"MIN(J726,'Zdrojová data'!$C$17)","v":0},0,{"$f":"L726/'Zdrojová data'!$C$16","v":0},{"$f":"M726*'Zdrojová data'!$C$13","v":0},{"$f":"N726*'Zdrojová data'!$C$14","v":0},0,{"$f":"IF(H726=0,D726-'Výstupy modelu'!$C$7,IF(P726=1,J726-K726,0))","v":0},0,null,{"$f":"MAX(0,IF(Q726>0,Q726-('Výstupy modelu'!$H$10-'Výstupy modelu'!$H$9),0))","v":0},null,null,{"$f":"W725","v":1865.4300000000003},1885.4300000000003,0,{"$f":"MAX(0,D726-'Vstupní hodnoty'!$C$5)","v":0}]
[null,"2017-01-08T13:00:00",1,316.44,{"$f":"CEILING(IF(C727-C726=0,IF(H726=0,I726,IF(J726>K726,I726,E726)),'Výstupy modelu'!$C$7),1)","v":1664},0,0,{"$f":"IF(F727=1,IF(G727>'Zdrojová data'!$C$19,0,1),\"\")","v":""},1664,0,{"$f":"MIN(J727,'Zdrojová data'!$C$17)","v":0},0,{"$f":"L727/'Zdrojová data'!$C$16","v":0},{"$f":"M727*'Zdrojová data'!$C$13","v":0},{"$f":"N727*'Zdrojová data'!$C$14","v":0},0,{"$f":"IF(H727=0,D727-'Výstupy modelu'!$C$7,IF(P727=1,J727-K727,0))","v":0},0,null,{"$f":"MAX(0,IF(Q727>0,Q727-('Výstupy modelu'!$H$10-'Výstupy modelu'!$H$9),0))","v":0},null,null,{"$f":"W726","v":1865.4300000000003},1885.4300000000003,0,{"$f":"MAX(0,D727-'Vstupní hodnoty'!$C$5)","v":0}]
[null,"2017-01-08T13:15:00",1,312.12,{"$f":"CEILING(IF(C728-C727=0,IF(H727=0,I727,IF(J727>K727,I727,E727)),'Výstupy modelu'!$C$7),1)","v":1664},0,0,{"$f":"IF(F728=1,IF(G728>'Zdrojová data'!$C$19,0,1),\"\")","v":""},1664,0,{"$f":"MIN(J728,'Zdrojová data'!$C$17)","v":0},0,{"$f":"L728/'Zdrojová data'!$C$16","v":0},{"$f":"M728*'Zdrojová data'!$C$13","v":0},{"$f":"N728*'Zdrojová data'!$C$14","v":0},0,{"$f":"IF(H728=0,D728-'Výstupy modelu'!$C$7,IF(P728=1,J728-K728,0))","v":0},0,null,{"$f":"MAX(0,IF(Q728>0,Q728-('Výstupy modelu'!$H$10-'Výstupy modelu'!$H$9),0))","v":0},null,null,{"$f":"W727","v":1865.4300000000003},1885.4300000000003,0,{"$f":"MAX(0,D728-'Vstupní hodnoty'!$C$5)","v":0}]
[null,"2017-01-08T13:30:00",1,309.96000000000004,{"$f":"CEILING(IF(C729-C728=0,IF(H728=0,I728,IF(J728>K728,I728,E728)),'Výstupy modelu'!$C$7),1)","v":1664},0,0,{"$f":"IF(F729=1,IF(G729>'Zdrojová data'!$C$19,0,1),\"\")","v":""},1664,0,{"$f":"MIN(J729,'Zdrojová data'!$C$17)","v":0},0,{"$f":"L729/'Zdrojová data'!$C$16","v":0},{"$f":"M729*'Zdrojová data'!$C$13","v":0},{"$f":"N729*'Zdrojová data'!$C$14","v":0},0,{"$f":"IF(H729=0,D729-'Výstupy modelu'!$C$7,IF(P729=1,J729-K729,0))","v":0},0,null,{"$f":"MAX(0,IF(Q729>0,Q729-('Výstupy modelu'!$H$10-'Výstupy modelu'!$H$9),0))","v":0},null,null,{"$f":"W728","v":1865.4300000000003},1885.4300000000003,0,{"$f":"MAX(0,D729-'Vstupní hodnoty'!$C$5)","v":0}]
[null,"2017-01-08T13:45:00",1,313.20000000000005,{"$f":"CEILING(IF(C730-C729=0,IF(H729=0,I729,IF(J729>K729,I729,E729)),'Výstupy modelu'!$C$7),1)","v":1664},0,0,{"$f":"IF(F730=1,IF(G730>'Zdrojová data'!$C$19,0,1),\"\")","v":""},1664,0,{"$f":"MIN(J730,'Zdrojová data'!$C$17)","v":0},0,{"$f":"L730/'Zdrojová data'!$C$16","v":0},{"$f":"M730*'Zdrojová data'!$C$13","v":0},{"$f":"N730*'Zdrojová data'!$C$14","v":0},0,{"$f":"IF(H730=0,D730-'Výstupy modelu'!$C$7,IF(P730=1,J730-K730,0))","v":0},0,null,{"$f":"MAX(0,IF(Q730>0,Q730-('Výstupy modelu'!$H$10-'Výstupy modelu'!$H$9),0))","v":0},null,null,{"$f":"W729","v":1865.4300000000003},1885.4300000000003,0,{"$f":"MAX(0,D730-'Vstupní hodnoty'!$C$5)","v":0}]
[null,"2017-01-08T14:00:00",1,307.8,{"$f":"CEILING(IF(C731-C730=0,IF(H730=0,I730,IF(J730>K730,I730,E730)),'Výstupy modelu'!$C$7),1)","v":1664},0,0,{"$f":"IF(F731=1,IF(G731>'Zdrojová data'!$C$19,0,1),\"\")","v":""},1664,0,{"$f":"MIN(J731,'Zdrojová data'!$C$17)","v":0},0,{"$f":"L731/'Zdrojová data'!$C$16","v":0},{"$f":"M731*'Zdrojová data'!$C$13","v":0},{"$f":"N731*'Zdrojová data'!$C$14","v":0},0,{"$f":"IF(H731=0,D731-'Výstupy modelu'!$C$7,IF(P731=1,J731-K731,0))","v":0},0,null,{"$f":"MAX(0,IF(Q731>0,Q731-('Výstupy modelu'!$H$10-'Výstupy modelu'!$H$9),0))","v":0},null,null,{"$f":"W730","v":1865.4300000000003},1885.4300000000003,0,{"$f":"MAX(0,D731-'Vstupní hodnoty'!$C$5)","v":0}]
[null,"2017-01-08T14:15:00",1,314.28000000000003,{"$f":"CEILING(IF(C732-C731=0,IF(H731=0,I731,IF(J731>K731,I731,E731)),'Výstupy modelu'!$C$7),1)","v":1664},0,0,{"$f":"IF(F732=1,IF(G732>'Zdrojová data'!$C$19,0,1),\"\")","v":""},1664,0,{"$f":"MIN(J732,'Zdrojová data'!$C$17)","v":0},0,{"$f":"L732/'Zdrojová data'!$C$16","v":0},{"$f":"M732*'Zdrojová data'!$C$13","v":0},{"$f":"N732*'Zdrojová data'!$C$14","v":0},0,{"$f":"IF(H732=0,D732-'Výstupy modelu'!$C$7,IF(P732=1,J732-K732,0))","v":0},0,null,{"$f":"MAX(0,IF(Q732>0,Q732-('Výstupy modelu'!$H$10-'Výstupy modelu'!$H$9),0))","v":0},null,null,{"$f":"W731","v":1865.4300000000003},1885.4300000000003,0,{"$f":"MAX(0,D732-'Vstupní hodnoty'!$C$5)","v":0}]
[null,"2017-01-08T14:30:00",1,315.36,{"$f":"CEILING(IF(C733-C732=0,IF(H732=0,I732,IF(J732>K732,I732,E732)),'Výstupy modelu'!$C$7),1)","v":1664},0,0,{"$f":"IF(F733=1,IF(G733>'Zdrojová data'!$C$19,0,1),\"\")","v":""},1664,0,{"$f":"MIN(J733,'Zdrojová data'!$C$17)","v":0},0,{"$f":"L733/'Zdrojová data'!$C$16","v":0},{"$f":"M733*'Zdrojová data'!$C$13","v":0},{"$f":"N733*'Zdrojová data'!$C$14","v":0},0,{"$f":"IF(H733=0,D733-'Výstupy modelu'!$C$7,IF(P733=1,J733-K733,0))","v":0},0,null,{"$f":"MAX(0,IF(Q733>0,Q733-('Výstupy modelu'!$H$10-'Výstupy modelu'!$H$9),0))","v":0},null,null,{"$f":"W732","v":1865.4300000000003},1885.4300000000003,0,{"$f":"MAX(0,D733-'Vstupní hodnoty'!$C$5)","v":0}]
[null,"2017-01-08T14:45:00",1,313.20000000000005,{"$f":"CEILING(IF(C734-C733=0,IF(H733=0,I733,IF(J733>K733,I733,E733)),'Výstupy modelu'!$C$7),1)","v":1664},0,0,{"$f":"IF(F734=1,IF(G734>'Zdrojová data'!$C$19,0,1),\"\")","v":""},1664,0,{"$f":"MIN(J734,'Zdrojová data'!$C$17)","v":0},0,{"$f":"L734/'Zdrojová data'!$C$16","v":0},{"$f":"M734*'Zdrojová data'!$C$13","v":0},{"$f":"N734*'Zdrojová data'!$C$14","v":0},0,{"$f":"IF(H734=0,D734-'Výstupy modelu'!$C$7,IF(P734=1,J734-K734,0))","v":0},0,null,{"$f":"MAX(0,IF(Q734>0,Q734-('Výstupy modelu'!$H$10-'Výstupy modelu'!$H$9),0))","v":0},null,null,{"$f":"W733","v":1865.4300000000003},1885.4300000000003,0,{"$f":"MAX(0,D734-'Vstupní hodnoty'!$C$5)","v":0}]
[null,"2017-01-08T15:00:00",1,313.20000000000005,{"$f":"CEILING(IF(C735-C734=0,IF(H734=0,I734,IF(J734>K734,I734,E734)),'Výstupy modelu'!$C$7),1)","v":1664},0,0,{"$f":"IF(F735=1,IF(G735>'Zdrojová data'!$C$19,0,1),\"\")","v":""},1664,0,{"$f":"MIN(J735,'Zdrojová data'!$C$17)","v":0},0,{"$f":"L735/'Zdrojová data'!$C$16","v":0},{"$f":"M735*'Zdrojová data'!$C$13","v":0},{"$f":"N735*'Zdrojová data'!$C$14","v":0},0,{"$f":"IF(H735=0,D735-'Výstupy modelu'!$C$7,IF(P735=1,J735-K735,0))","v":0},0,null,{"$f":"MAX(0,IF(Q735>0,Q735-('Výstupy modelu'!$H$10-'Výstupy modelu'!$H$9),0))","v":0},null,null,{"$f":"W734","v":1865.4300000000003},1885.4300000000003,0,{"$f":"MAX(0,D735-'Vstupní hodnoty'!$C$5)","v":0}]
[null,"2017-01-08T15:15:00",1,320.76000000000005,{"$f":"CEILING(IF(C736-C735=0,IF(H735=0,I735,IF(J735>K735,I735,E735)),'Výstupy modelu'!$C$7),1)","v":1664},0,0,{"$f":"IF(F736=1,IF(G736>'Zdrojová data'!$C$19,0,1),\"\")","v":""},1664,0,{"$f":"MIN(J736,'Zdrojová data'!$C$17)","v":0},0,{"$f":"L736/'Zdrojová data'!$C$16","v":0},{"$f":"M736*'Zdrojová data'!$C$13","v":0},{"$f":"N736*'Zdrojová data'!$C$14","v":0},0,{"$f":"IF(H736=0,D736-'Výstupy modelu'!$C$7,IF(P736=1,J736-K736,0))","v":0},0,null,{"$f":"MAX(0,IF(Q736>0,Q736-('Výstupy modelu'!$H$10-'Výstupy modelu'!$H$9),0))","v":0},null,null,{"$f":"W735","v":1865.4300000000003},1885.4300000000003,0,{"$f":"MAX(0,D736-'Vstupní hodnoty'!$C$5)","v":0}]
[null,"2017-01-08T15:30:00",1,316.44,{"$f":"CEILING(IF(C737-C736=0,IF(H736=0,I736,IF(J736>K736,I736,E736)),'Výstupy modelu'!$C$7),1)","v":1664},0,0,{"$f":"IF(F737=1,IF(G737>'Zdrojová data'!$C$19,0,1),\"\")","v":""},1664,0,{"$f":"MIN(J737,'Zdrojová data'!$C$17)","v":0},0,{"$f":"L737/'Zdrojová data'!$C$16","v":0},{"$f":"M737*'Zdrojová data'!$C$13","v":0},{"$f":"N737*'Zdrojová data'!$C$14","v":0},0,{"$f":"IF(H737=0,D737-'Výstupy modelu'!$C$7,IF(P737=1,J737-K737,0))","v":0},0,null,{"$f":"MAX(0,IF(Q737>0,Q737-('Výstupy modelu'!$H$10-'Výstupy modelu'!$H$9),0))","v":0},null,null,{"$f":"W736","v":1865.4300000000003},1885.4300000000003,0,{"$f":"MAX(0,D737-'Vstupní hodnoty'!$C$5)","v":0}]
[null,"2017-01-08T15:45:00",1,309.96000000000004,{"$f":"CEILING(IF(C738-C737=0,IF(H737=0,I737,IF(J737>K737,I737,E737)),'Výstupy modelu'!$C$7),1)","v":1664},0,0,{"$f":"IF(F738=1,IF(G738>'Zdrojová data'!$C$19,0,1),\"\")","v":""},1664,0,{"$f":"MIN(J738,'Zdrojová data'!$C$17)","v":0},0,{"$f":"L738/'Zdrojová data'!$C$16","v":0},{"$f":"M738*'Zdrojová data'!$C$13","v":0},{"$f":"N738*'Zdrojová data'!$C$14","v":0},0,{"$f":"IF(H738=0,D738-'Výstupy modelu'!$C$7,IF(P738=1,J738-K738,0))","v":0},0,null,{"$f":"MAX(0,IF(Q738>0,Q738-('Výstupy modelu'!$H$10-'Výstupy modelu'!$H$9),0))","v":0},null,null,{"$f":"W737","v":1865.4300000000003},1885.4300000000003,0,{"$f":"MAX(0,D738-'Vstupní hodnoty'!$C$5)","v":0}]
[null,"2017-01-08T16:00:00",1,314.28000000000003,{"$f":"CEILING(IF(C739-C738=0,IF(H738=0,I738,IF(J738>K738,I738,E738)),'Výstupy modelu'!$C$7),1)","v":1664},0,0,{"$f":"IF(F739=1,IF(G739>'Zdrojová data'!$C$19,0,1),\"\")","v":""},1664,0,{"$f":"MIN(J739,'Zdrojová data'!$C$17)","v":0},0,{"$f":"L739/'Zdrojová data'!$C$16","v":0},{"$f":"M739*'Zdrojová data'!$C$13","v":0},{"$f":"N739*'Zdrojová data'!$C$14","v":0},0,{"$f":"IF(H739=0,D739-'Výstupy modelu'!$C$7,IF(P739=1,J739-K739,0))","v":0},0,null,{"$f":"MAX(0,IF(Q739>0,Q739-('Výstupy modelu'!$H$10-'Výstupy modelu'!$H$9),0))","v":0},null,null,{"$f":"W738","v":1865.4300000000003},1885.4300000000003,0,{"$f":"MAX(0,D739-'Vstupní hodnoty'!$C$5)","v":0}]
[null,"2017-01-08T16:15:00",1,319.68,{"$f":"CEILING(IF(C740-C739=0,IF(H739=0,I739,IF(J739>K739,I739,E739)),'Výstupy modelu'!$C$7),1)","v":1664},0,0,{"$f":"IF(F740=1,IF(G740>'Zdrojová data'!$C$19,0,1),\"\")","v":""},1664,0,{"$f":"MIN(J740,'Zdrojová data'!$C$17)","v":0},0,{"$f":"L740/'Zdrojová data'!$C$16","v":0},{"$f":"M740*'Zdrojová data'!$C$13","v":0},{"$f":"N740*'Zdrojová data'!$C$14","v":0},0,{"$f":"IF(H740=0,D740-'Výstupy modelu'!$C$7,IF(P740=1,J740-K740,0))","v":0},0,null,{"$f":"MAX(0,IF(Q740>0,Q740-('Výstupy modelu'!$H$10-'Výstupy modelu'!$H$9),0))","v":0},null,null,{"$f":"W739","v":1865.4300000000003},1885.4300000000003,0,{"$f":"MAX(0,D740-'Vstupní hodnoty'!$C$5)","v":0}]
[null,"2017-01-08T16:30:00",1,311.04000000000002,{"$f":"CEILING(IF(C741-C740=0,IF(H740=0,I740,IF(J740>K740,I740,E740)),'Výstupy modelu'!$C$7),1)","v":1664},0,0,{"$f":"IF(F741=1,IF(G741>'Zdrojová data'!$C$19,0,1),\"\")","v":""},1664,0,{"$f":"MIN(J741,'Zdrojová data'!$C$17)","v":0},0,{"$f":"L741/'Zdrojová data'!$C$16","v":0},{"$f":"M741*'Zdrojová data'!$C$13","v":0},{"$f":"N741*'Zdrojová data'!$C$14","v":0},0,{"$f":"IF(H741=0,D741-'Výstupy modelu'!$C$7,IF(P741=1,J741-K741,0))","v":0},0,null,{"$f":"MAX(0,IF(Q741>0,Q741-('Výstupy modelu'!$H$10-'Výstupy modelu'!$H$9),0))","v":0},null,null,{"$f":"W740","v":1865.4300000000003},1885.4300000000003,0,{"$f":"MAX(0,D741-'Vstupní hodnoty'!$C$5)","v":0}]
[null,"2017-01-08T16:45:00",1,313.20000000000005,{"$f":"CEILING(IF(C742-C741=0,IF(H741=0,I741,IF(J741>K741,I741,E741)),'Výstupy modelu'!$C$7),1)","v":1664},0,0,{"$f":"IF(F742=1,IF(G742>'Zdrojová data'!$C$19,0,1),\"\")","v":""},1664,0,{"$f":"MIN(J742,'Zdrojová data'!$C$17)","v":0},0,{"$f":"L742/'Zdrojová data'!$C$16","v":0},{"$f":"M742*'Zdrojová data'!$C$13","v":0},{"$f":"N742*'Zdrojová data'!$C$14","v":0},0,{"$f":"IF(H742=0,D742-'Výstupy modelu'!$C$7,IF(P742=1,J742-K742,0))","v":0},0,null,{"$f":"MAX(0,IF(Q742>0,Q742-('Výstupy modelu'!$H$10-'Výstupy modelu'!$H$9),0))","v":0},null,null,{"$f":"W741","v":1865.4300000000003},1885.4300000000003,0,{"$f":"MAX(0,D742-'Vstupní hodnoty'!$C$5)","v":0}]
[null,"2017-01-08T17:00:00",1,316.44,{"$f":"CEILING(IF(C743-C742=0,IF(H742=0,I742,IF(J742>K742,I742,E742)),'Výstupy modelu'!$C$7),1)","v":1664},0,0,{"$f":"IF(F743=1,IF(G743>'Zdrojová data'!$C$19,0,1),\"\")","v":""},1664,0,{"$f":"MIN(J743,'Zdrojová data'!$C$17)","v":0},0,{"$f":"L743/'Zdrojová data'!$C$16","v":0},{"$f":"M743*'Zdrojová data'!$C$13","v":0},{"$f":"N743*'Zdrojová data'!$C$14","v":0},0,{"$f":"IF(H743=0,D743-'Výstupy modelu'!$C$7,IF(P743=1,J743-K743,0))","v":0},0,null,{"$f":"MAX(0,IF(Q743>0,Q743-('Výstupy modelu'!$H$10-'Výstupy modelu'!$H$9),0))","v":0},null,null,{"$f":"W742","v":1865.4300000000003},1885.4300000000003,0,{"$f":"MAX(0,D743-'Vstupní hodnoty'!$C$5)","v":0}]
[null,"2017-01-08T17:15:00",1,321.84000000000003,{"$f":"CEILING(IF(C744-C743=0,IF(H743=0,I743,IF(J743>K743,I743,E743)),'Výstupy modelu'!$C$7),1)","v":1664},0,0,{"$f":"IF(F744=1,IF(G744>'Zdrojová data'!$C$19,0,1),\"\")","v":""},1664,0,{"$f":"MIN(J744,'Zdrojová data'!$C$17)","v":0},0,{"$f":"L744/'Zdrojová data'!$C$16","v":0},{"$f":"M744*'Zdrojová data'!$C$13","v":0},{"$f":"N744*'Zdrojová data'!$C$14","v":0},0,{"$f":"IF(H744=0,D744-'Výstupy modelu'!$C$7,IF(P744=1,J744-K744,0))","v":0},0,null,{"$f":"MAX(0,IF(Q744>0,Q744-('Výstupy modelu'!$H$10-'Výstupy modelu'!$H$9),0))","v":0},null,null,{"$f":"W743","v":1865.4300000000003},1885.4300000000003,0,{"$f":"MAX(0,D744-'Vstupní hodnoty'!$C$5)","v":0}]
[null,"2017-01-08T17:30:00",1,317.52000000000004,{"$f":"CEILING(IF(C745-C744=0,IF(H744=0,I744,IF(J744>K744,I744,E744)),'Výstupy modelu'!$C$7),1)","v":1664},0,0,{"$f":"IF(F745=1,IF(G745>'Zdrojová data'!$C$19,0,1),\"\")","v":""},1664,0,{"$f":"MIN(J745,'Zdrojová data'!$C$17)","v":0},0,{"$f":"L745/'Zdrojová data'!$C$16","v":0},{"$f":"M745*'Zdrojová data'!$C$13","v":0},{"$f":"N745*'Zdrojová data'!$C$14","v":0},0,{"$f":"IF(H745=0,D745-'Výstupy modelu'!$C$7,IF(P745=1,J745-K745,0))","v":0},0,null,{"$f":"MAX(0,IF(Q745>0,Q745-('Výstupy modelu'!$H$10-'Výstupy modelu'!$H$9),0))","v":0},null,null,{"$f":"W744","v":1865.4300000000003},1885.4300000000003,0,{"$f":"MAX(0,D745-'Vstupní hodnoty'!$C$5)","v":0}]
[null,"2017-01-08T17:45:00",1,325.08000000000004,{"$f":"CEILING(IF(C746-C745=0,IF(H745=0,I745,IF(J745>K745,I745,E745)),'Výstupy modelu'!$C$7),1)","v":1664},0,0,{"$f":"IF(F746=1,IF(G746>'Zdrojová data'!$C$19,0,1),\"\")","v":""},1664,0,{"$f":"MIN(J746,'Zdrojová data'!$C$17)","v":0},0,{"$f":"L746/'Zdrojová data'!$C$16","v":0},{"$f":"M746*'Zdrojová data'!$C$13","v":0},{"$f":"N746*'Zdrojová data'!$C$14","v":0},0,{"$f":"IF(H746=0,D746-'Výstupy modelu'!$C$7,IF(P746=1,J746-K746,0))","v":0},0,null,{"$f":"MAX(0,IF(Q746>0,Q746-('Výstupy modelu'!$H$10-'Výstupy modelu'!$H$9),0))","v":0},null,null,{"$f":"W745","v":1865.4300000000003},1885.4300000000003,0,{"$f":"MAX(0,D746-'Vstupní hodnoty'!$C$5)","v":0}]
[null,"2017-01-08T18:00:00",1,321.84000000000003,{"$f":"CEILING(IF(C747-C746=0,IF(H746=0,I746,IF(J746>K746,I746,E746)),'Výstupy modelu'!$C$7),1)","v":1664},0,0,{"$f":"IF(F747=1,IF(G747>'Zdrojová data'!$C$19,0,1),\"\")","v":""},1664,0,{"$f":"MIN(J747,'Zdrojová data'!$C$17)","v":0},0,{"$f":"L747/'Zdrojová data'!$C$16","v":0},{"$f":"M747*'Zdrojová data'!$C$13","v":0},{"$f":"N747*'Zdrojová data'!$C$14","v":0},0,{"$f":"IF(H747=0,D747-'Výstupy modelu'!$C$7,IF(P747=1,J747-K747,0))","v":0},0,null,{"$f":"MAX(0,IF(Q747>0,Q747-('Výstupy modelu'!$H$10-'Výstupy modelu'!$H$9),0))","v":0},null,null,{"$f":"W746","v":1865.4300000000003},1885.4300000000003,0,{"$f":"MAX(0,D747-'Vstupní hodnoty'!$C$5)","v":0}]
[null,"2017-01-08T18:15:00",1,320.76000000000005,{"$f":"CEILING(IF(C748-C747=0,IF(H747=0,I747,IF(J747>K747,I747,E747)),'Výstupy modelu'!$C$7),1)","v":1664},0,0,{"$f":"IF(F748=1,IF(G748>'Zdrojová data'!$C$19,0,1),\"\")","v":""},1664,0,{"$f":"MIN(J748,'Zdrojová data'!$C$17)","v":0},0,{"$f":"L748/'Zdrojová data'!$C$16","v":0},{"$f":"M748*'Zdrojová data'!$C$13","v":0},{"$f":"N748*'Zdrojová data'!$C$14","v":0},0,{"$f":"IF(H748=0,D748-'Výstupy modelu'!$C$7,IF(P748=1,J748-K748,0))","v":0},0,null,{"$f":"MAX(0,IF(Q748>0,Q748-('Výstupy modelu'!$H$10-'Výstupy modelu'!$H$9),0))","v":0},null,null,{"$f":"W747","v":1865.4300000000003},1885.4300000000003,0,{"$f":"MAX(0,D748-'Vstupní hodnoty'!$C$5)","v":0}]
[null,"2017-01-08T18:30:00",1,324,{"$f":"CEILING(IF(C749-C748=0,IF(H748=0,I748,IF(J748>K748,I748,E748)),'Výstupy modelu'!$C$7),1)","v":1664},0,0,{"$f":"IF(F749=1,IF(G749>'Zdrojová data'!$C$19,0,1),\"\")","v":""},1664,0,{"$f":"MIN(J749,'Zdrojová data'!$C$17)","v":0},0,{"$f":"L749/'Zdrojová data'!$C$16","v":0},{"$f":"M749*'Zdrojová data'!$C$13","v":0},{"$f":"N749*'Zdrojová data'!$C$14","v":0},0,{"$f":"IF(H749=0,D749-'Výstupy modelu'!$C$7,IF(P749=1,J749-K749,0))","v":0},0,null,{"$f":"MAX(0,IF(Q749>0,Q749-('Výstupy modelu'!$H$10-'Výstupy modelu'!$H$9),0))","v":0},null,null,{"$f":"W748","v":1865.4300000000003},1885.4300000000003,0,{"$f":"MAX(0,D749-'Vstupní hodnoty'!$C$5)","v":0}]
[null,"2017-01-08T18:45:00",1,316.44,{"$f":"CEILING(IF(C750-C749=0,IF(H749=0,I749,IF(J749>K749,I749,E749)),'Výstupy modelu'!$C$7),1)","v":1664},0,0,{"$f":"IF(F750=1,IF(G750>'Zdrojová data'!$C$19,0,1),\"\")","v":""},1664,0,{"$f":"MIN(J750,'Zdrojová data'!$C$17)","v":0},0,{"$f":"L750/'Zdrojová data'!$C$16","v":0},{"$f":"M750*'Zdrojová data'!$C$13","v":0},{"$f":"N750*'Zdrojová data'!$C$14","v":0},0,{"$f":"IF(H750=0,D750-'Výstupy modelu'!$C$7,IF(P750=1,J750-K750,0))","v":0},0,null,{"$f":"MAX(0,IF(Q750>0,Q750-('Výstupy modelu'!$H$10-'Výstupy modelu'!$H$9),0))","v":0},null,null,{"$f":"W749","v":1865.4300000000003},1885.4300000000003,0,{"$f":"MAX(0,D750-'Vstupní hodnoty'!$C$5)","v":0}]
[null,"2017-01-08T19:00:00",1,313.20000000000005,{"$f":"CEILING(IF(C751-C750=0,IF(H750=0,I750,IF(J750>K750,I750,E750)),'Výstupy modelu'!$C$7),1)","v":1664},0,0,{"$f":"IF(F751=1,IF(G751>'Zdrojová data'!$C$19,0,1),\"\")","v":""},1664,0,{"$f":"MIN(J751,'Zdrojová data'!$C$17)","v":0},0,{"$f":"L751/'Zdrojová data'!$C$16","v":0},{"$f":"M751*'Zdrojová data'!$C$13","v":0},{"$f":"N751*'Zdrojová data'!$C$14","v":0},0,{"$f":"IF(H751=0,D751-'Výstupy modelu'!$C$7,IF(P751=1,J751-K751,0))","v":0},0,null,{"$f":"MAX(0,IF(Q751>0,Q751-('Výstupy modelu'!$H$10-'Výstupy modelu'!$H$9),0))","v":0},null,null,{"$f":"W750","v":1865.4300000000003},1885.4300000000003,0,{"$f":"MAX(0,D751-'Vstupní hodnoty'!$C$5)","v":0}]
[null,"2017-01-08T19:15:00",1,319.68,{"$f":"CEILING(IF(C752-C751=0,IF(H751=0,I751,IF(J751>K751,I751,E751)),'Výstupy modelu'!$C$7),1)","v":1664},0,0,{"$f":"IF(F752=1,IF(G752>'Zdrojová data'!$C$19,0,1),\"\")","v":""},1664,0,{"$f":"MIN(J752,'Zdrojová data'!$C$17)","v":0},0,{"$f":"L752/'Zdrojová data'!$C$16","v":0},{"$f":"M752*'Zdrojová data'!$C$13","v":0},{"$f":"N752*'Zdrojová data'!$C$14","v":0},0,{"$f":"IF(H752=0,D752-'Výstupy modelu'!$C$7,IF(P752=1,J752-K752,0))","v":0},0,null,{"$f":"MAX(0,IF(Q752>0,Q752-('Výstupy modelu'!$H$10-'Výstupy modelu'!$H$9),0))","v":0},null,null,{"$f":"W751","v":1865.4300000000003},1885.4300000000003,0,{"$f":"MAX(0,D752-'Vstupní hodnoty'!$C$5)","v":0}]
[null,"2017-01-08T19:30:00",1,314.28000000000003,{"$f":"CEILING(IF(C753-C752=0,IF(H752=0,I752,IF(J752>K752,I752,E752)),'Výstupy modelu'!$C$7),1)","v":1664},0,0,{"$f":"IF(F753=1,IF(G753>'Zdrojová data'!$C$19,0,1),\"\")","v":""},1664,0,{"$f":"MIN(J753,'Zdrojová data'!$C$17)","v":0},0,{"$f":"L753/'Zdrojová data'!$C$16","v":0},{"$f":"M753*'Zdrojová data'!$C$13","v":0},{"$f":"N753*'Zdrojová data'!$C$14","v":0},0,{"$f":"IF(H753=0,D753-'Výstupy modelu'!$C$7,IF(P753=1,J753-K753,0))","v":0},0,null,{"$f":"MAX(0,IF(Q753>0,Q753-('Výstupy modelu'!$H$10-'Výstupy modelu'!$H$9),0))","v":0},null,null,{"$f":"W752","v":1865.4300000000003},1885.4300000000003,{"$f":"MAX(0,D753-W753)","v":0},{"$f":"MAX(0,D753-'Vstupní hodnoty'!$C$5)","v":0}]
[null,"2017-01-08T19:45:00",1,313.20000000000005,{"$f":"CEILING(IF(C754-C753=0,IF(H753=0,I753,IF(J753>K753,I753,E753)),'Výstupy modelu'!$C$7),1)","v":1664},0,0,{"$f":"IF(F754=1,IF(G754>'Zdrojová data'!$C$19,0,1),\"\")","v":""},1664,0,{"$f":"MIN(J754,'Zdrojová data'!$C$17)","v":0},0,{"$f":"L754/'Zdrojová data'!$C$16","v":0},{"$f":"M754*'Zdrojová data'!$C$13","v":0},{"$f":"N754*'Zdrojová data'!$C$14","v":0},0,{"$f":"IF(H754=0,D754-'Výstupy modelu'!$C$7,IF(P754=1,J754-K754,0))","v":0},0,null,{"$f":"MAX(0,IF(Q754>0,Q754-('Výstupy modelu'!$H$10-'Výstupy modelu'!$H$9),0))","v":0},null,null,{"$f":"W753","v":1865.4300000000003},1885.4300000000003,0,{"$f":"MAX(0,D754-'Vstupní hodnoty'!$C$5)","v":0}]
[null,"2017-01-08T20:00:00",1,312.12,{"$f":"CEILING(IF(C755-C754=0,IF(H754=0,I754,IF(J754>K754,I754,E754)),'Výstupy modelu'!$C$7),1)","v":1664},0,0,{"$f":"IF(F755=1,IF(G755>'Zdrojová data'!$C$19,0,1),\"\")","v":""},1664,0,{"$f":"MIN(J755,'Zdrojová data'!$C$17)","v":0},0,{"$f":"L755/'Zdrojová data'!$C$16","v":0},{"$f":"M755*'Zdrojová data'!$C$13","v":0},{"$f":"N755*'Zdrojová data'!$C$14","v":0},0,{"$f":"IF(H755=0,D755-'Výstupy modelu'!$C$7,IF(P755=1,J755-K755,0))","v":0},0,null,{"$f":"MAX(0,IF(Q755>0,Q755-('Výstupy modelu'!$H$10-'Výstupy modelu'!$H$9),0))","v":0},null,null,{"$f":"W754","v":1865.4300000000003},1885.4300000000003,0,{"$f":"MAX(0,D755-'Vstupní hodnoty'!$C$5)","v":0}]
[null,"2017-01-08T20:15:00",1,319.68,{"$f":"CEILING(IF(C756-C755=0,IF(H755=0,I755,IF(J755>K755,I755,E755)),'Výstupy modelu'!$C$7),1)","v":1664},0,0,{"$f":"IF(F756=1,IF(G756>'Zdrojová data'!$C$19,0,1),\"\")","v":""},1664,0,{"$f":"MIN(J756,'Zdrojová data'!$C$17)","v":0},0,{"$f":"L756/'Zdrojová data'!$C$16","v":0},{"$f":"M756*'Zdrojová data'!$C$13","v":0},{"$f":"N756*'Zdrojová data'!$C$14","v":0},0,{"$f":"IF(H756=0,D756-'Výstupy modelu'!$C$7,IF(P756=1,J756-K756,0))","v":0},0,null,{"$f":"MAX(0,IF(Q756>0,Q756-('Výstupy modelu'!$H$10-'Výstupy modelu'!$H$9),0))","v":0},null,null,{"$f":"W755","v":1865.4300000000003},1885.4300000000003,0,{"$f":"MAX(0,D756-'Vstupní hodnoty'!$C$5)","v":0}]
[null,"2017-01-08T20:30:00",1,318.60000000000002,{"$f":"CEILING(IF(C757-C756=0,IF(H756=0,I756,IF(J756>K756,I756,E756)),'Výstupy modelu'!$C$7),1)","v":1664},0,0,{"$f":"IF(F757=1,IF(G757>'Zdrojová data'!$C$19,0,1),\"\")","v":""},1664,0,{"$f":"MIN(J757,'Zdrojová data'!$C$17)","v":0},0,{"$f":"L757/'Zdrojová data'!$C$16","v":0},{"$f":"M757*'Zdrojová data'!$C$13","v":0},{"$f":"N757*'Zdrojová data'!$C$14","v":0},0,{"$f":"IF(H757=0,D757-'Výstupy modelu'!$C$7,IF(P757=1,J757-K757,0))","v":0},0,null,{"$f":"MAX(0,IF(Q757>0,Q757-('Výstupy modelu'!$H$10-'Výstupy modelu'!$H$9),0))","v":0},null,null,{"$f":"W756","v":1865.4300000000003},1885.4300000000003,0,{"$f":"MAX(0,D757-'Vstupní hodnoty'!$C$5)","v":0}]
[null,"2017-01-08T20:45:00",1,317.52000000000004,{"$f":"CEILING(IF(C758-C757=0,IF(H757=0,I757,IF(J757>K757,I757,E757)),'Výstupy modelu'!$C$7),1)","v":1664},0,0,{"$f":"IF(F758=1,IF(G758>'Zdrojová data'!$C$19,0,1),\"\")","v":""},1664,0,{"$f":"MIN(J758,'Zdrojová data'!$C$17)","v":0},0,{"$f":"L758/'Zdrojová data'!$C$16","v":0},{"$f":"M758*'Zdrojová data'!$C$13","v":0},{"$f":"N758*'Zdrojová data'!$C$14","v":0},0,{"$f":"IF(H758=0,D758-'Výstupy modelu'!$C$7,IF(P758=1,J758-K758,0))","v":0},0,null,{"$f":"MAX(0,IF(Q758>0,Q758-('Výstupy modelu'!$H$10-'Výstupy modelu'!$H$9),0))","v":0},null,null,{"$f":"W757","v":1865.4300000000003},1885.4300000000003,0,{"$f":"MAX(0,D758-'Vstupní hodnoty'!$C$5)","v":0}]
[null,"2017-01-08T21:00:00",1,319.68,{"$f":"CEILING(IF(C759-C758=0,IF(H758=0,I758,IF(J758>K758,I758,E758)),'Výstupy modelu'!$C$7),1)","v":1664},0,0,{"$f":"IF(F759=1,IF(G759>'Zdrojová data'!$C$19,0,1),\"\")","v":""},1664,0,{"$f":"MIN(J759,'Zdrojová data'!$C$17)","v":0},0,{"$f":"L759/'Zdrojová data'!$C$16","v":0},{"$f":"M759*'Zdrojová data'!$C$13","v":0},{"$f":"N759*'Zdrojová data'!$C$14","v":0},0,{"$f":"IF(H759=0,D759-'Výstupy modelu'!$C$7,IF(P759=1,J759-K759,0))","v":0},0,null,{"$f":"MAX(0,IF(Q759>0,Q759-('Výstupy modelu'!$H$10-'Výstupy modelu'!$H$9),0))","v":0},null,null,{"$f":"W758","v":1865.4300000000003},1885.4300000000003,0,{"$f":"MAX(0,D759-'Vstupní hodnoty'!$C$5)","v":0}]
[null,"2017-01-08T21:15:00",1,333.72,{"$f":"CEILING(IF(C760-C759=0,IF(H759=0,I759,IF(J759>K759,I759,E759)),'Výstupy modelu'!$C$7),1)","v":1664},0,0,{"$f":"IF(F760=1,IF(G760>'Zdrojová data'!$C$19,0,1),\"\")","v":""},1664,0,{"$f":"MIN(J760,'Zdrojová data'!$C$17)","v":0},0,{"$f":"L760/'Zdrojová data'!$C$16","v":0},{"$f":"M760*'Zdrojová data'!$C$13","v":0},{"$f":"N760*'Zdrojová data'!$C$14","v":0},0,{"$f":"IF(H760=0,D760-'Výstupy modelu'!$C$7,IF(P760=1,J760-K760,0))","v":0},0,null,{"$f":"MAX(0,IF(Q760>0,Q760-('Výstupy modelu'!$H$10-'Výstupy modelu'!$H$9),0))","v":0},null,null,{"$f":"W759","v":1865.4300000000003},1885.4300000000003,0,{"$f":"MAX(0,D760-'Vstupní hodnoty'!$C$5)","v":0}]
[null,"2017-01-08T21:30:00",1,325.08000000000004,{"$f":"CEILING(IF(C761-C760=0,IF(H760=0,I760,IF(J760>K760,I760,E760)),'Výstupy modelu'!$C$7),1)","v":1664},0,0,{"$f":"IF(F761=1,IF(G761>'Zdrojová data'!$C$19,0,1),\"\")","v":""},1664,0,{"$f":"MIN(J761,'Zdrojová data'!$C$17)","v":0},0,{"$f":"L761/'Zdrojová data'!$C$16","v":0},{"$f":"M761*'Zdrojová data'!$C$13","v":0},{"$f":"N761*'Zdrojová data'!$C$14","v":0},0,{"$f":"IF(H761=0,D761-'Výstupy modelu'!$C$7,IF(P761=1,J761-K761,0))","v":0},0,null,{"$f":"MAX(0,IF(Q761>0,Q761-('Výstupy modelu'!$H$10-'Výstupy modelu'!$H$9),0))","v":0},null,null,{"$f":"W760","v":1865.4300000000003},1885.4300000000003,0,{"$f":"MAX(0,D761-'Vstupní hodnoty'!$C$5)","v":0}]
[null,"2017-01-08T21:45:00",1,348.84000000000003,{"$f":"CEILING(IF(C762-C761=0,IF(H761=0,I761,IF(J761>K761,I761,E761)),'Výstupy modelu'!$C$7),1)","v":1664},0,0,{"$f":"IF(F762=1,IF(G762>'Zdrojová data'!$C$19,0,1),\"\")","v":""},1664,0,{"$f":"MIN(J762,'Zdrojová data'!$C$17)","v":0},0,{"$f":"L762/'Zdrojová data'!$C$16","v":0},{"$f":"M762*'Zdrojová data'!$C$13","v":0},{"$f":"N762*'Zdrojová data'!$C$14","v":0},0,{"$f":"IF(H762=0,D762-'Výstupy modelu'!$C$7,IF(P762=1,J762-K762,0))","v":0},0,null,{"$f":"MAX(0,IF(Q762>0,Q762-('Výstupy modelu'!$H$10-'Výstupy modelu'!$H$9),0))","v":0},null,null,{"$f":"W761","v":1865.4300000000003},1885.4300000000003,0,{"$f":"MAX(0,D762-'Vstupní hodnoty'!$C$5)","v":0}]
[null,"2017-01-08T22:00:00",1,357.48,{"$f":"CEILING(IF(C763-C762=0,IF(H762=0,I762,IF(J762>K762,I762,E762)),'Výstupy modelu'!$C$7),1)","v":1664},0,0,{"$f":"IF(F763=1,IF(G763>'Zdrojová data'!$C$19,0,1),\"\")","v":""},1664,0,{"$f":"MIN(J763,'Zdrojová data'!$C$17)","v":0},0,{"$f":"L763/'Zdrojová data'!$C$16","v":0},{"$f":"M763*'Zdrojová data'!$C$13","v":0},{"$f":"N763*'Zdrojová data'!$C$14","v":0},0,{"$f":"IF(H763=0,D763-'Výstupy modelu'!$C$7,IF(P763=1,J763-K763,0))","v":0},0,null,{"$f":"MAX(0,IF(Q763>0,Q763-('Výstupy modelu'!$H$10-'Výstupy modelu'!$H$9),0))","v":0},null,null,{"$f":"W762","v":1865.4300000000003},1885.4300000000003,0,{"$f":"MAX(0,D763-'Vstupní hodnoty'!$C$5)","v":0}]
[null,"2017-01-08T22:15:00",1,352.08000000000004,{"$f":"CEILING(IF(C764-C763=0,IF(H763=0,I763,IF(J763>K763,I763,E763)),'Výstupy modelu'!$C$7),1)","v":1664},0,0,{"$f":"IF(F764=1,IF(G764>'Zdrojová data'!$C$19,0,1),\"\")","v":""},1664,0,{"$f":"MIN(J764,'Zdrojová data'!$C$17)","v":0},0,{"$f":"L764/'Zdrojová data'!$C$16","v":0},{"$f":"M764*'Zdrojová data'!$C$13","v":0},{"$f":"N764*'Zdrojová data'!$C$14","v":0},0,{"$f":"IF(H764=0,D764-'Výstupy modelu'!$C$7,IF(P764=1,J764-K764,0))","v":0},0,null,{"$f":"MAX(0,IF(Q764>0,Q764-('Výstupy modelu'!$H$10-'Výstupy modelu'!$H$9),0))","v":0},null,null,{"$f":"W763","v":1865.4300000000003},1885.4300000000003,0,{"$f":"MAX(0,D764-'Vstupní hodnoty'!$C$5)","v":0}]
[null,"2017-01-08T22:30:00",1,367.20000000000005,{"$f":"CEILING(IF(C765-C764=0,IF(H764=0,I764,IF(J764>K764,I764,E764)),'Výstupy modelu'!$C$7),1)","v":1664},0,0,{"$f":"IF(F765=1,IF(G765>'Zdrojová data'!$C$19,0,1),\"\")","v":""},1664,0,{"$f":"MIN(J765,'Zdrojová data'!$C$17)","v":0},0,{"$f":"L765/'Zdrojová data'!$C$16","v":0},{"$f":"M765*'Zdrojová data'!$C$13","v":0},{"$f":"N765*'Zdrojová data'!$C$14","v":0},0,{"$f":"IF(H765=0,D765-'Výstupy modelu'!$C$7,IF(P765=1,J765-K765,0))","v":0},0,null,{"$f":"MAX(0,IF(Q765>0,Q765-('Výstupy modelu'!$H$10-'Výstupy modelu'!$H$9),0))","v":0},null,null,{"$f":"W764","v":1865.4300000000003},1885.4300000000003,0,{"$f":"MAX(0,D765-'Vstupní hodnoty'!$C$5)","v":0}]
[null,"2017-01-08T22:45:00",1,372.6,{"$f":"CEILING(IF(C766-C765=0,IF(H765=0,I765,IF(J765>K765,I765,E765)),'Výstupy modelu'!$C$7),1)","v":1664},0,0,{"$f":"IF(F766=1,IF(G766>'Zdrojová data'!$C$19,0,1),\"\")","v":""},1664,0,{"$f":"MIN(J766,'Zdrojová data'!$C$17)","v":0},0,{"$f":"L766/'Zdrojová data'!$C$16","v":0},{"$f":"M766*'Zdrojová data'!$C$13","v":0},{"$f":"N766*'Zdrojová data'!$C$14","v":0},0,{"$f":"IF(H766=0,D766-'Výstupy modelu'!$C$7,IF(P766=1,J766-K766,0))","v":0},0,null,{"$f":"MAX(0,IF(Q766>0,Q766-('Výstupy modelu'!$H$10-'Výstupy modelu'!$H$9),0))","v":0},null,null,{"$f":"W765","v":1865.4300000000003},1885.4300000000003,0,{"$f":"MAX(0,D766-'Vstupní hodnoty'!$C$5)","v":0}]
[null,"2017-01-08T23:00:00",1,371.52000000000004,{"$f":"CEILING(IF(C767-C766=0,IF(H766=0,I766,IF(J766>K766,I766,E766)),'Výstupy modelu'!$C$7),1)","v":1664},0,0,{"$f":"IF(F767=1,IF(G767>'Zdrojová data'!$C$19,0,1),\"\")","v":""},1664,0,{"$f":"MIN(J767,'Zdrojová data'!$C$17)","v":0},0,{"$f":"L767/'Zdrojová data'!$C$16","v":0},{"$f":"M767*'Zdrojová data'!$C$13","v":0},{"$f":"N767*'Zdrojová data'!$C$14","v":0},0,{"$f":"IF(H767=0,D767-'Výstupy modelu'!$C$7,IF(P767=1,J767-K767,0))","v":0},0,null,{"$f":"MAX(0,IF(Q767>0,Q767-('Výstupy modelu'!$H$10-'Výstupy modelu'!$H$9),0))","v":0},null,null,{"$f":"W766","v":1865.4300000000003},1885.4300000000003,0,{"$f":"MAX(0,D767-'Vstupní hodnoty'!$C$5)","v":0}]
[null,"2017-01-08T23:15:00",1,374.76000000000005,{"$f":"CEILING(IF(C768-C767=0,IF(H767=0,I767,IF(J767>K767,I767,E767)),'Výstupy modelu'!$C$7),1)","v":1664},0,0,{"$f":"IF(F768=1,IF(G768>'Zdrojová data'!$C$19,0,1),\"\")","v":""},1664,0,{"$f":"MIN(J768,'Zdrojová data'!$C$17)","v":0},0,{"$f":"L768/'Zdrojová data'!$C$16","v":0},{"$f":"M768*'Zdrojová data'!$C$13","v":0},{"$f":"N768*'Zdrojová data'!$C$14","v":0},0,{"$f":"IF(H768=0,D768-'Výstupy modelu'!$C$7,IF(P768=1,J768-K768,0))","v":0},0,null,{"$f":"MAX(0,IF(Q768>0,Q768-('Výstupy modelu'!$H$10-'Výstupy modelu'!$H$9),0))","v":0},null,null,{"$f":"W767","v":1865.4300000000003},1885.4300000000003,0,{"$f":"MAX(0,D768-'Vstupní hodnoty'!$C$5)","v":0}]
[null,"2017-01-08T23:30:00",1,380.16,{"$f":"CEILING(IF(C769-C768=0,IF(H768=0,I768,IF(J768>K768,I768,E768)),'Výstupy modelu'!$C$7),1)","v":1664},0,0,{"$f":"IF(F769=1,IF(G769>'Zdrojová data'!$C$19,0,1),\"\")","v":""},1664,0,{"$f":"MIN(J769,'Zdrojová data'!$C$17)","v":0},0,{"$f":"L769/'Zdrojová data'!$C$16","v":0},{"$f":"M769*'Zdrojová data'!$C$13","v":0},{"$f":"N769*'Zdrojová data'!$C$14","v":0},0,{"$f":"IF(H769=0,D769-'Výstupy modelu'!$C$7,IF(P769=1,J769-K769,0))","v":0},0,null,{"$f":"MAX(0,IF(Q769>0,Q769-('Výstupy modelu'!$H$10-'Výstupy modelu'!$H$9),0))","v":0},null,null,{"$f":"W768","v":1865.4300000000003},1885.4300000000003,0,{"$f":"MAX(0,D769-'Vstupní hodnoty'!$C$5)","v":0}]
[null,"2017-01-08T23:45:00",1,373.68,{"$f":"CEILING(IF(C770-C769=0,IF(H769=0,I769,IF(J769>K769,I769,E769)),'Výstupy modelu'!$C$7),1)","v":1664},0,0,{"$f":"IF(F770=1,IF(G770>'Zdrojová data'!$C$19,0,1),\"\")","v":""},1664,0,{"$f":"MIN(J770,'Zdrojová data'!$C$17)","v":0},0,{"$f":"L770/'Zdrojová data'!$C$16","v":0},{"$f":"M770*'Zdrojová data'!$C$13","v":0},{"$f":"N770*'Zdrojová data'!$C$14","v":0},0,{"$f":"IF(H770=0,D770-'Výstupy modelu'!$C$7,IF(P770=1,J770-K770,0))","v":0},0,null,{"$f":"MAX(0,IF(Q770>0,Q770-('Výstupy modelu'!$H$10-'Výstupy modelu'!$H$9),0))","v":0},null,null,{"$f":"W769","v":1865.4300000000003},1885.4300000000003,0,{"$f":"MAX(0,D770-'Vstupní hodnoty'!$C$5)","v":0}]
[null,"2017-01-09",1,381.24,{"$f":"CEILING(IF(C771-C770=0,IF(H770=0,I770,IF(J770>K770,I770,E770)),'Výstupy modelu'!$C$7),1)","v":1664},0,0,{"$f":"IF(F771=1,IF(G771>'Zdrojová data'!$C$19,0,1),\"\")","v":""},1664,0,{"$f":"MIN(J771,'Zdrojová data'!$C$17)","v":0},0,{"$f":"L771/'Zdrojová data'!$C$16","v":0},{"$f":"M771*'Zdrojová data'!$C$13","v":0},{"$f":"N771*'Zdrojová data'!$C$14","v":0},0,{"$f":"IF(H771=0,D771-'Výstupy modelu'!$C$7,IF(P771=1,J771-K771,0))","v":0},0,null,{"$f":"MAX(0,IF(Q771>0,Q771-('Výstupy modelu'!$H$10-'Výstupy modelu'!$H$9),0))","v":0},null,null,{"$f":"W770","v":1865.4300000000003},1885.4300000000003,0,{"$f":"MAX(0,D771-'Vstupní hodnoty'!$C$5)","v":0}]
[null,"2017-01-09T00:15:00",1,369.36,{"$f":"CEILING(IF(C772-C771=0,IF(H771=0,I771,IF(J771>K771,I771,E771)),'Výstupy modelu'!$C$7),1)","v":1664},{"$f":"IF(D772>E772,1,0)","v":0},0,{"$f":"IF(F772=1,IF(G772>'Zdrojová data'!$C$19,0,1),\"\")","v":""},{"$f":"IF(H772=0,D772,IF(J772>K772,E772+J772-K772,E772))","v":1664},{"$f":"IF(H772=1,D772-E772,0)","v":0},{"$f":"MIN(J772,'Zdrojová data'!$C$17)","v":0},0,{"$f":"L772/'Zdrojová data'!$C$16","v":0},{"$f":"M772*'Zdrojová data'!$C$13","v":0},{"$f":"N772*'Zdrojová data'!$C$14","v":0},0,{"$f":"IF(H772=0,D772-'Výstupy modelu'!$C$7,IF(P772=1,J772-K772,0))","v":0},0,null,{"$f":"MAX(0,IF(Q772>0,Q772-('Výstupy modelu'!$H$10-'Výstupy modelu'!$H$9),0))","v":0},null,null,{"$f":"W771","v":1865.4300000000003},1885.4300000000003,0,{"$f":"MAX(0,D772-'Vstupní hodnoty'!$C$5)","v":0}]
[null,"2017-01-09T00:30:00",{"$f":"MONTH(B773)","v":1},363.96000000000004,{"$f":"CEILING(IF(C773-C772=0,IF(H772=0,I772,IF(J772>K772,I772,E772)),'Výstupy modelu'!$C$7),1)","v":1664},0,{"$f":"IF(F773=1,RANDBETWEEN(0,100),0)","v":0},{"$f":"IF(F773=1,IF(G773>'Zdrojová data'!$C$19,0,1),\"\")","v":""},1664,0,{"$f":"MIN(J773,'Zdrojová data'!$C$17)","v":0},{"$f":"K773/4","v":0},{"$f":"L773/'Zdrojová data'!$C$16","v":0},{"$f":"M773*'Zdrojová data'!$C$13","v":0},{"$f":"N773*'Zdrojová data'!$C$14","v":0},{"$f":"IF(H773=0,1,IF(J773>K773,1,0))","v":0},{"$f":"IF(H773=0,D773-'Výstupy modelu'!$C$7,IF(P773=1,J773-K773,0))","v":0},{"$f":"IF(H773=0,1,IF(J773>K773,1,0))","v":0},null,{"$f":"MAX(0,IF(Q773>0,Q773-('Výstupy modelu'!$H$10-'Výstupy modelu'!$H$9),0))","v":0},null,null,{"$f":"W772","v":1865.4300000000003},1885.4300000000003,0,{"$f":"MAX(0,D773-'Vstupní hodnoty'!$C$5)","v":0}]
[null,"2017-01-09T00:45:00",1,365.04,{"$f":"CEILING(IF(C774-C773=0,IF(H773=0,I773,IF(J773>K773,I773,E773)),'Výstupy modelu'!$C$7),1)","v":1664},0,0,{"$f":"IF(F774=1,IF(G774>'Zdrojová data'!$C$19,0,1),\"\")","v":""},1664,0,{"$f":"MIN(J774,'Zdrojová data'!$C$17)","v":0},0,{"$f":"L774/'Zdrojová data'!$C$16","v":0},{"$f":"M774*'Zdrojová data'!$C$13","v":0},{"$f":"N774*'Zdrojová data'!$C$14","v":0},0,{"$f":"IF(H774=0,D774-'Výstupy modelu'!$C$7,IF(P774=1,J774-K774,0))","v":0},0,null,{"$f":"MAX(0,IF(Q774>0,Q774-('Výstupy modelu'!$H$10-'Výstupy modelu'!$H$9),0))","v":0},null,null,{"$f":"W773","v":1865.4300000000003},1885.4300000000003,0,{"$f":"MAX(0,D774-'Vstupní hodnoty'!$C$5)","v":0}]
[null,"2017-01-09T01:00:00",1,372.6,{"$f":"CEILING(IF(C775-C774=0,IF(H774=0,I774,IF(J774>K774,I774,E774)),'Výstupy modelu'!$C$7),1)","v":1664},0,0,{"$f":"IF(F775=1,IF(G775>'Zdrojová data'!$C$19,0,1),\"\")","v":""},1664,0,{"$f":"MIN(J775,'Zdrojová data'!$C$17)","v":0},0,{"$f":"L775/'Zdrojová data'!$C$16","v":0},{"$f":"M775*'Zdrojová data'!$C$13","v":0},{"$f":"N775*'Zdrojová data'!$C$14","v":0},0,{"$f":"IF(H775=0,D775-'Výstupy modelu'!$C$7,IF(P775=1,J775-K775,0))","v":0},0,null,{"$f":"MAX(0,IF(Q775>0,Q775-('Výstupy modelu'!$H$10-'Výstupy modelu'!$H$9),0))","v":0},null,null,{"$f":"W774","v":1865.4300000000003},1885.4300000000003,0,{"$f":"MAX(0,D775-'Vstupní hodnoty'!$C$5)","v":0}]
[null,"2017-01-09T01:15:00",1,372.6,{"$f":"CEILING(IF(C776-C775=0,IF(H775=0,I775,IF(J775>K775,I775,E775)),'Výstupy modelu'!$C$7),1)","v":1664},0,0,{"$f":"IF(F776=1,IF(G776>'Zdrojová data'!$C$19,0,1),\"\")","v":""},1664,0,{"$f":"MIN(J776,'Zdrojová data'!$C$17)","v":0},0,{"$f":"L776/'Zdrojová data'!$C$16","v":0},{"$f":"M776*'Zdrojová data'!$C$13","v":0},{"$f":"N776*'Zdrojová data'!$C$14","v":0},0,{"$f":"IF(H776=0,D776-'Výstupy modelu'!$C$7,IF(P776=1,J776-K776,0))","v":0},0,null,{"$f":"MAX(0,IF(Q776>0,Q776-('Výstupy modelu'!$H$10-'Výstupy modelu'!$H$9),0))","v":0},null,null,{"$f":"W775","v":1865.4300000000003},1885.4300000000003,0,{"$f":"MAX(0,D776-'Vstupní hodnoty'!$C$5)","v":0}]
[null,"2017-01-09T01:30:00",1,368.28000000000003,{"$f":"CEILING(IF(C777-C776=0,IF(H776=0,I776,IF(J776>K776,I776,E776)),'Výstupy modelu'!$C$7),1)","v":1664},0,0,{"$f":"IF(F777=1,IF(G777>'Zdrojová data'!$C$19,0,1),\"\")","v":""},1664,0,{"$f":"MIN(J777,'Zdrojová data'!$C$17)","v":0},0,{"$f":"L777/'Zdrojová data'!$C$16","v":0},{"$f":"M777*'Zdrojová data'!$C$13","v":0},{"$f":"N777*'Zdrojová data'!$C$14","v":0},0,{"$f":"IF(H777=0,D777-'Výstupy modelu'!$C$7,IF(P777=1,J777-K777,0))","v":0},0,null,{"$f":"MAX(0,IF(Q777>0,Q777-('Výstupy modelu'!$H$10-'Výstupy modelu'!$H$9),0))","v":0},null,null,{"$f":"W776","v":1865.4300000000003},1885.4300000000003,0,{"$f":"MAX(0,D777-'Vstupní hodnoty'!$C$5)","v":0}]
[null,"2017-01-09T01:45:00",1,359.64000000000004,{"$f":"CEILING(IF(C778-C777=0,IF(H777=0,I777,IF(J777>K777,I777,E777)),'Výstupy modelu'!$C$7),1)","v":1664},0,0,{"$f":"IF(F778=1,IF(G778>'Zdrojová data'!$C$19,0,1),\"\")","v":""},1664,0,{"$f":"MIN(J778,'Zdrojová data'!$C$17)","v":0},0,{"$f":"L778/'Zdrojová data'!$C$16","v":0},{"$f":"M778*'Zdrojová data'!$C$13","v":0},{"$f":"N778*'Zdrojová data'!$C$14","v":0},0,{"$f":"IF(H778=0,D778-'Výstupy modelu'!$C$7,IF(P778=1,J778-K778,0))","v":0},0,null,{"$f":"MAX(0,IF(Q778>0,Q778-('Výstupy modelu'!$H$10-'Výstupy modelu'!$H$9),0))","v":0},null,null,{"$f":"W777","v":1865.4300000000003},1885.4300000000003,0,{"$f":"MAX(0,D778-'Vstupní hodnoty'!$C$5)","v":0}]
[null,"2017-01-09T02:00:00",1,407.16,{"$f":"CEILING(IF(C779-C778=0,IF(H778=0,I778,IF(J778>K778,I778,E778)),'Výstupy modelu'!$C$7),1)","v":1664},0,0,{"$f":"IF(F779=1,IF(G779>'Zdrojová data'!$C$19,0,1),\"\")","v":""},1664,0,{"$f":"MIN(J779,'Zdrojová data'!$C$17)","v":0},0,{"$f":"L779/'Zdrojová data'!$C$16","v":0},{"$f":"M779*'Zdrojová data'!$C$13","v":0},{"$f":"N779*'Zdrojová data'!$C$14","v":0},0,{"$f":"IF(H779=0,D779-'Výstupy modelu'!$C$7,IF(P779=1,J779-K779,0))","v":0},0,null,{"$f":"MAX(0,IF(Q779>0,Q779-('Výstupy modelu'!$H$10-'Výstupy modelu'!$H$9),0))","v":0},null,null,{"$f":"W778","v":1865.4300000000003},1885.4300000000003,0,{"$f":"MAX(0,D779-'Vstupní hodnoty'!$C$5)","v":0}]
[null,"2017-01-09T02:15:00",1,423.36,{"$f":"CEILING(IF(C780-C779=0,IF(H779=0,I779,IF(J779>K779,I779,E779)),'Výstupy modelu'!$C$7),1)","v":1664},0,0,{"$f":"IF(F780=1,IF(G780>'Zdrojová data'!$C$19,0,1),\"\")","v":""},1664,0,{"$f":"MIN(J780,'Zdrojová data'!$C$17)","v":0},0,{"$f":"L780/'Zdrojová data'!$C$16","v":0},{"$f":"M780*'Zdrojová data'!$C$13","v":0},{"$f":"N780*'Zdrojová data'!$C$14","v":0},0,{"$f":"IF(H780=0,D780-'Výstupy modelu'!$C$7,IF(P780=1,J780-K780,0))","v":0},0,null,{"$f":"MAX(0,IF(Q780>0,Q780-('Výstupy modelu'!$H$10-'Výstupy modelu'!$H$9),0))","v":0},null,null,{"$f":"W779","v":1865.4300000000003},1885.4300000000003,0,{"$f":"MAX(0,D780-'Vstupní hodnoty'!$C$5)","v":0}]
[null,"2017-01-09T02:30:00",1,478.44000000000005,{"$f":"CEILING(IF(C781-C780=0,IF(H780=0,I780,IF(J780>K780,I780,E780)),'Výstupy modelu'!$C$7),1)","v":1664},0,0,{"$f":"IF(F781=1,IF(G781>'Zdrojová data'!$C$19,0,1),\"\")","v":""},1664,0,{"$f":"MIN(J781,'Zdrojová data'!$C$17)","v":0},0,{"$f":"L781/'Zdrojová data'!$C$16","v":0},{"$f":"M781*'Zdrojová data'!$C$13","v":0},{"$f":"N781*'Zdrojová data'!$C$14","v":0},0,{"$f":"IF(H781=0,D781-'Výstupy modelu'!$C$7,IF(P781=1,J781-K781,0))","v":0},0,null,{"$f":"MAX(0,IF(Q781>0,Q781-('Výstupy modelu'!$H$10-'Výstupy modelu'!$H$9),0))","v":0},null,null,{"$f":"W780","v":1865.4300000000003},1885.4300000000003,0,{"$f":"MAX(0,D781-'Vstupní hodnoty'!$C$5)","v":0}]
[null,"2017-01-09T02:45:00",1,464.40000000000003,{"$f":"CEILING(IF(C782-C781=0,IF(H781=0,I781,IF(J781>K781,I781,E781)),'Výstupy modelu'!$C$7),1)","v":1664},0,0,{"$f":"IF(F782=1,IF(G782>'Zdrojová data'!$C$19,0,1),\"\")","v":""},1664,0,{"$f":"MIN(J782,'Zdrojová data'!$C$17)","v":0},0,{"$f":"L782/'Zdrojová data'!$C$16","v":0},{"$f":"M782*'Zdrojová data'!$C$13","v":0},{"$f":"N782*'Zdrojová data'!$C$14","v":0},0,{"$f":"IF(H782=0,D782-'Výstupy modelu'!$C$7,IF(P782=1,J782-K782,0))","v":0},0,null,{"$f":"MAX(0,IF(Q782>0,Q782-('Výstupy modelu'!$H$10-'Výstupy modelu'!$H$9),0))","v":0},null,null,{"$f":"W781","v":1865.4300000000003},1885.4300000000003,0,{"$f":"MAX(0,D782-'Vstupní hodnoty'!$C$5)","v":0}]
[null,"2017-01-09T03:00:00",1,488.16,{"$f":"CEILING(IF(C783-C782=0,IF(H782=0,I782,IF(J782>K782,I782,E782)),'Výstupy modelu'!$C$7),1)","v":1664},0,0,{"$f":"IF(F783=1,IF(G783>'Zdrojová data'!$C$19,0,1),\"\")","v":""},1664,0,{"$f":"MIN(J783,'Zdrojová data'!$C$17)","v":0},0,{"$f":"L783/'Zdrojová data'!$C$16","v":0},{"$f":"M783*'Zdrojová data'!$C$13","v":0},{"$f":"N783*'Zdrojová data'!$C$14","v":0},0,{"$f":"IF(H783=0,D783-'Výstupy modelu'!$C$7,IF(P783=1,J783-K783,0))","v":0},0,null,{"$f":"MAX(0,IF(Q783>0,Q783-('Výstupy modelu'!$H$10-'Výstupy modelu'!$H$9),0))","v":0},null,null,{"$f":"W782","v":1865.4300000000003},1885.4300000000003,0,{"$f":"MAX(0,D783-'Vstupní hodnoty'!$C$5)","v":0}]
[null,"2017-01-09T03:15:00",1,507.6,{"$f":"CEILING(IF(C784-C783=0,IF(H783=0,I783,IF(J783>K783,I783,E783)),'Výstupy modelu'!$C$7),1)","v":1664},0,0,{"$f":"IF(F784=1,IF(G784>'Zdrojová data'!$C$19,0,1),\"\")","v":""},1664,0,{"$f":"MIN(J784,'Zdrojová data'!$C$17)","v":0},0,{"$f":"L784/'Zdrojová data'!$C$16","v":0},{"$f":"M784*'Zdrojová data'!$C$13","v":0},{"$f":"N784*'Zdrojová data'!$C$14","v":0},0,{"$f":"IF(H784=0,D784-'Výstupy modelu'!$C$7,IF(P784=1,J784-K784,0))","v":0},0,null,{"$f":"MAX(0,IF(Q784>0,Q784-('Výstupy modelu'!$H$10-'Výstupy modelu'!$H$9),0))","v":0},null,null,{"$f":"W783","v":1865.4300000000003},1885.4300000000003,0,{"$f":"MAX(0,D784-'Vstupní hodnoty'!$C$5)","v":0}]
[null,"2017-01-09T03:30:00",1,537.84,{"$f":"CEILING(IF(C785-C784=0,IF(H784=0,I784,IF(J784>K784,I784,E784)),'Výstupy modelu'!$C$7),1)","v":1664},0,0,{"$f":"IF(F785=1,IF(G785>'Zdrojová data'!$C$19,0,1),\"\")","v":""},1664,0,{"$f":"MIN(J785,'Zdrojová data'!$C$17)","v":0},0,{"$f":"L785/'Zdrojová data'!$C$16","v":0},{"$f":"M785*'Zdrojová data'!$C$13","v":0},{"$f":"N785*'Zdrojová data'!$C$14","v":0},0,{"$f":"IF(H785=0,D785-'Výstupy modelu'!$C$7,IF(P785=1,J785-K785,0))","v":0},0,null,{"$f":"MAX(0,IF(Q785>0,Q785-('Výstupy modelu'!$H$10-'Výstupy modelu'!$H$9),0))","v":0},null,null,{"$f":"W784","v":1865.4300000000003},1885.4300000000003,0,{"$f":"MAX(0,D785-'Vstupní hodnoty'!$C$5)","v":0}]
[null,"2017-01-09T03:45:00",1,495.72,{"$f":"CEILING(IF(C786-C785=0,IF(H785=0,I785,IF(J785>K785,I785,E785)),'Výstupy modelu'!$C$7),1)","v":1664},0,0,{"$f":"IF(F786=1,IF(G786>'Zdrojová data'!$C$19,0,1),\"\")","v":""},1664,0,{"$f":"MIN(J786,'Zdrojová data'!$C$17)","v":0},0,{"$f":"L786/'Zdrojová data'!$C$16","v":0},{"$f":"M786*'Zdrojová data'!$C$13","v":0},{"$f":"N786*'Zdrojová data'!$C$14","v":0},0,{"$f":"IF(H786=0,D786-'Výstupy modelu'!$C$7,IF(P786=1,J786-K786,0))","v":0},0,null,{"$f":"MAX(0,IF(Q786>0,Q786-('Výstupy modelu'!$H$10-'Výstupy modelu'!$H$9),0))","v":0},null,null,{"$f":"W785","v":1865.4300000000003},1885.4300000000003,0,{"$f":"MAX(0,D786-'Vstupní hodnoty'!$C$5)","v":0}]
[null,"2017-01-09T04:00:00",1,477.36,{"$f":"CEILING(IF(C787-C786=0,IF(H786=0,I786,IF(J786>K786,I786,E786)),'Výstupy modelu'!$C$7),1)","v":1664},0,0,{"$f":"IF(F787=1,IF(G787>'Zdrojová data'!$C$19,0,1),\"\")","v":""},1664,0,{"$f":"MIN(J787,'Zdrojová data'!$C$17)","v":0},0,{"$f":"L787/'Zdrojová data'!$C$16","v":0},{"$f":"M787*'Zdrojová data'!$C$13","v":0},{"$f":"N787*'Zdrojová data'!$C$14","v":0},0,{"$f":"IF(H787=0,D787-'Výstupy modelu'!$C$7,IF(P787=1,J787-K787,0))","v":0},0,null,{"$f":"MAX(0,IF(Q787>0,Q787-('Výstupy modelu'!$H$10-'Výstupy modelu'!$H$9),0))","v":0},null,null,{"$f":"W786","v":1865.4300000000003},1885.4300000000003,0,{"$f":"MAX(0,D787-'Vstupní hodnoty'!$C$5)","v":0}]
[null,"2017-01-09T04:15:00",1,619.92000000000007,{"$f":"CEILING(IF(C788-C787=0,IF(H787=0,I787,IF(J787>K787,I787,E787)),'Výstupy modelu'!$C$7),1)","v":1664},0,0,{"$f":"IF(F788=1,IF(G788>'Zdrojová data'!$C$19,0,1),\"\")","v":""},1664,0,{"$f":"MIN(J788,'Zdrojová data'!$C$17)","v":0},0,{"$f":"L788/'Zdrojová data'!$C$16","v":0},{"$f":"M788*'Zdrojová data'!$C$13","v":0},{"$f":"N788*'Zdrojová data'!$C$14","v":0},0,{"$f":"IF(H788=0,D788-'Výstupy modelu'!$C$7,IF(P788=1,J788-K788,0))","v":0},0,null,{"$f":"MAX(0,IF(Q788>0,Q788-('Výstupy modelu'!$H$10-'Výstupy modelu'!$H$9),0))","v":0},null,null,{"$f":"W787","v":1865.4300000000003},1885.4300000000003,0,{"$f":"MAX(0,D788-'Vstupní hodnoty'!$C$5)","v":0}]
[null,"2017-01-09T04:30:00",1,665.28000000000009,{"$f":"CEILING(IF(C789-C788=0,IF(H788=0,I788,IF(J788>K788,I788,E788)),'Výstupy modelu'!$C$7),1)","v":1664},0,0,{"$f":"IF(F789=1,IF(G789>'Zdrojová data'!$C$19,0,1),\"\")","v":""},1664,0,{"$f":"MIN(J789,'Zdrojová data'!$C$17)","v":0},0,{"$f":"L789/'Zdrojová data'!$C$16","v":0},{"$f":"M789*'Zdrojová data'!$C$13","v":0},{"$f":"N789*'Zdrojová data'!$C$14","v":0},0,{"$f":"IF(H789=0,D789-'Výstupy modelu'!$C$7,IF(P789=1,J789-K789,0))","v":0},0,null,{"$f":"MAX(0,IF(Q789>0,Q789-('Výstupy modelu'!$H$10-'Výstupy modelu'!$H$9),0))","v":0},null,null,{"$f":"W788","v":1865.4300000000003},1885.4300000000003,0,{"$f":"MAX(0,D789-'Vstupní hodnoty'!$C$5)","v":0}]
[null,"2017-01-09T04:45:00",1,616.68000000000006,{"$f":"CEILING(IF(C790-C789=0,IF(H789=0,I789,IF(J789>K789,I789,E789)),'Výstupy modelu'!$C$7),1)","v":1664},0,0,{"$f":"IF(F790=1,IF(G790>'Zdrojová data'!$C$19,0,1),\"\")","v":""},1664,0,{"$f":"MIN(J790,'Zdrojová data'!$C$17)","v":0},0,{"$f":"L790/'Zdrojová data'!$C$16","v":0},{"$f":"M790*'Zdrojová data'!$C$13","v":0},{"$f":"N790*'Zdrojová data'!$C$14","v":0},0,{"$f":"IF(H790=0,D790-'Výstupy modelu'!$C$7,IF(P790=1,J790-K790,0))","v":0},0,null,{"$f":"MAX(0,IF(Q790>0,Q790-('Výstupy modelu'!$H$10-'Výstupy modelu'!$H$9),0))","v":0},null,null,{"$f":"W789","v":1865.4300000000003},1885.4300000000003,0,{"$f":"MAX(0,D790-'Vstupní hodnoty'!$C$5)","v":0}]
[null,"2017-01-09T05:00:00",1,565.92000000000007,{"$f":"CEILING(IF(C791-C790=0,IF(H790=0,I790,IF(J790>K790,I790,E790)),'Výstupy modelu'!$C$7),1)","v":1664},0,0,{"$f":"IF(F791=1,IF(G791>'Zdrojová data'!$C$19,0,1),\"\")","v":""},1664,0,{"$f":"MIN(J791,'Zdrojová data'!$C$17)","v":0},0,{"$f":"L791/'Zdrojová data'!$C$16","v":0},{"$f":"M791*'Zdrojová data'!$C$13","v":0},{"$f":"N791*'Zdrojová data'!$C$14","v":0},0,{"$f":"IF(H791=0,D791-'Výstupy modelu'!$C$7,IF(P791=1,J791-K791,0))","v":0},0,null,{"$f":"MAX(0,IF(Q791>0,Q791-('Výstupy modelu'!$H$10-'Výstupy modelu'!$H$9),0))","v":0},null,null,{"$f":"W790","v":1865.4300000000003},1885.4300000000003,0,{"$f":"MAX(0,D791-'Vstupní hodnoty'!$C$5)","v":0}]
[null,"2017-01-09T05:15:00",1,604.80000000000007,{"$f":"CEILING(IF(C792-C791=0,IF(H791=0,I791,IF(J791>K791,I791,E791)),'Výstupy modelu'!$C$7),1)","v":1664},0,0,{"$f":"IF(F792=1,IF(G792>'Zdrojová data'!$C$19,0,1),\"\")","v":""},1664,0,{"$f":"MIN(J792,'Zdrojová data'!$C$17)","v":0},0,{"$f":"L792/'Zdrojová data'!$C$16","v":0},{"$f":"M792*'Zdrojová data'!$C$13","v":0},{"$f":"N792*'Zdrojová data'!$C$14","v":0},0,{"$f":"IF(H792=0,D792-'Výstupy modelu'!$C$7,IF(P792=1,J792-K792,0))","v":0},0,null,{"$f":"MAX(0,IF(Q792>0,Q792-('Výstupy modelu'!$H$10-'Výstupy modelu'!$H$9),0))","v":0},null,null,{"$f":"W791","v":1865.4300000000003},1885.4300000000003,0,{"$f":"MAX(0,D792-'Vstupní hodnoty'!$C$5)","v":0}]
[null,"2017-01-09T05:30:00",1,683.6400000000001,{"$f":"CEILING(IF(C793-C792=0,IF(H792=0,I792,IF(J792>K792,I792,E792)),'Výstupy modelu'!$C$7),1)","v":1664},0,0,{"$f":"IF(F793=1,IF(G793>'Zdrojová data'!$C$19,0,1),\"\")","v":""},1664,0,{"$f":"MIN(J793,'Zdrojová data'!$C$17)","v":0},0,{"$f":"L793/'Zdrojová data'!$C$16","v":0},{"$f":"M793*'Zdrojová data'!$C$13","v":0},{"$f":"N793*'Zdrojová data'!$C$14","v":0},0,{"$f":"IF(H793=0,D793-'Výstupy modelu'!$C$7,IF(P793=1,J793-K793,0))","v":0},0,null,{"$f":"MAX(0,IF(Q793>0,Q793-('Výstupy modelu'!$H$10-'Výstupy modelu'!$H$9),0))","v":0},null,null,{"$f":"W792","v":1865.4300000000003},1885.4300000000003,0,{"$f":"MAX(0,D793-'Vstupní hodnoty'!$C$5)","v":0}]
[null,"2017-01-09T05:45:00",1,858.6,{"$f":"CEILING(IF(C794-C793=0,IF(H793=0,I793,IF(J793>K793,I793,E793)),'Výstupy modelu'!$C$7),1)","v":1664},0,0,{"$f":"IF(F794=1,IF(G794>'Zdrojová data'!$C$19,0,1),\"\")","v":""},1664,0,{"$f":"MIN(J794,'Zdrojová data'!$C$17)","v":0},0,{"$f":"L794/'Zdrojová data'!$C$16","v":0},{"$f":"M794*'Zdrojová data'!$C$13","v":0},{"$f":"N794*'Zdrojová data'!$C$14","v":0},0,{"$f":"IF(H794=0,D794-'Výstupy modelu'!$C$7,IF(P794=1,J794-K794,0))","v":0},0,null,{"$f":"MAX(0,IF(Q794>0,Q794-('Výstupy modelu'!$H$10-'Výstupy modelu'!$H$9),0))","v":0},null,null,{"$f":"W793","v":1865.4300000000003},1885.4300000000003,0,{"$f":"MAX(0,D794-'Vstupní hodnoty'!$C$5)","v":0}]
[null,"2017-01-09T06:00:00",1,1215,{"$f":"CEILING(IF(C795-C794=0,IF(H794=0,I794,IF(J794>K794,I794,E794)),'Výstupy modelu'!$C$7),1)","v":1664},0,0,{"$f":"IF(F795=1,IF(G795>'Zdrojová data'!$C$19,0,1),\"\")","v":""},1664,0,{"$f":"MIN(J795,'Zdrojová data'!$C$17)","v":0},0,{"$f":"L795/'Zdrojová data'!$C$16","v":0},{"$f":"M795*'Zdrojová data'!$C$13","v":0},{"$f":"N795*'Zdrojová data'!$C$14","v":0},0,{"$f":"IF(H795=0,D795-'Výstupy modelu'!$C$7,IF(P795=1,J795-K795,0))","v":0},0,null,{"$f":"MAX(0,IF(Q795>0,Q795-('Výstupy modelu'!$H$10-'Výstupy modelu'!$H$9),0))","v":0},null,null,{"$f":"W794","v":1865.4300000000003},1885.4300000000003,0,{"$f":"MAX(0,D795-'Vstupní hodnoty'!$C$5)","v":0}]
[null,"2017-01-09T06:15:00",1,1407.24,{"$f":"CEILING(IF(C796-C795=0,IF(H795=0,I795,IF(J795>K795,I795,E795)),'Výstupy modelu'!$C$7),1)","v":1664},0,0,{"$f":"IF(F796=1,IF(G796>'Zdrojová data'!$C$19,0,1),\"\")","v":""},1664,0,{"$f":"MIN(J796,'Zdrojová data'!$C$17)","v":0},0,{"$f":"L796/'Zdrojová data'!$C$16","v":0},{"$f":"M796*'Zdrojová data'!$C$13","v":0},{"$f":"N796*'Zdrojová data'!$C$14","v":0},0,{"$f":"IF(H796=0,D796-'Výstupy modelu'!$C$7,IF(P796=1,J796-K796,0))","v":0},0,null,{"$f":"MAX(0,IF(Q796>0,Q796-('Výstupy modelu'!$H$10-'Výstupy modelu'!$H$9),0))","v":0},null,null,{"$f":"W795","v":1865.4300000000003},1885.4300000000003,0,{"$f":"MAX(0,D796-'Vstupní hodnoty'!$C$5)","v":0}]
[null,"2017-01-09T06:30:00",1,1414.8000000000002,{"$f":"CEILING(IF(C797-C796=0,IF(H796=0,I796,IF(J796>K796,I796,E796)),'Výstupy modelu'!$C$7),1)","v":1664},0,0,{"$f":"IF(F797=1,IF(G797>'Zdrojová data'!$C$19,0,1),\"\")","v":""},1664,0,{"$f":"MIN(J797,'Zdrojová data'!$C$17)","v":0},0,{"$f":"L797/'Zdrojová data'!$C$16","v":0},{"$f":"M797*'Zdrojová data'!$C$13","v":0},{"$f":"N797*'Zdrojová data'!$C$14","v":0},0,{"$f":"IF(H797=0,D797-'Výstupy modelu'!$C$7,IF(P797=1,J797-K797,0))","v":0},0,null,{"$f":"MAX(0,IF(Q797>0,Q797-('Výstupy modelu'!$H$10-'Výstupy modelu'!$H$9),0))","v":0},null,null,{"$f":"W796","v":1865.4300000000003},1885.4300000000003,0,{"$f":"MAX(0,D797-'Vstupní hodnoty'!$C$5)","v":0}]
[null,"2017-01-09T06:45:00",1,1368.3600000000001,{"$f":"CEILING(IF(C798-C797=0,IF(H797=0,I797,IF(J797>K797,I797,E797)),'Výstupy modelu'!$C$7),1)","v":1664},0,0,{"$f":"IF(F798=1,IF(G798>'Zdrojová data'!$C$19,0,1),\"\")","v":""},1664,0,{"$f":"MIN(J798,'Zdrojová data'!$C$17)","v":0},0,{"$f":"L798/'Zdrojová data'!$C$16","v":0},{"$f":"M798*'Zdrojová data'!$C$13","v":0},{"$f":"N798*'Zdrojová data'!$C$14","v":0},0,{"$f":"IF(H798=0,D798-'Výstupy modelu'!$C$7,IF(P798=1,J798-K798,0))","v":0},0,null,{"$f":"MAX(0,IF(Q798>0,Q798-('Výstupy modelu'!$H$10-'Výstupy modelu'!$H$9),0))","v":0},null,null,{"$f":"W797","v":1865.4300000000003},1885.4300000000003,0,{"$f":"MAX(0,D798-'Vstupní hodnoty'!$C$5)","v":0}]
[null,"2017-01-09T07:00:00",1,1402.92,{"$f":"CEILING(IF(C799-C798=0,IF(H798=0,I798,IF(J798>K798,I798,E798)),'Výstupy modelu'!$C$7),1)","v":1664},0,0,{"$f":"IF(F799=1,IF(G799>'Zdrojová data'!$C$19,0,1),\"\")","v":""},1664,0,{"$f":"MIN(J799,'Zdrojová data'!$C$17)","v":0},0,{"$f":"L799/'Zdrojová data'!$C$16","v":0},{"$f":"M799*'Zdrojová data'!$C$13","v":0},{"$f":"N799*'Zdrojová data'!$C$14","v":0},0,{"$f":"IF(H799=0,D799-'Výstupy modelu'!$C$7,IF(P799=1,J799-K799,0))","v":0},0,null,{"$f":"MAX(0,IF(Q799>0,Q799-('Výstupy modelu'!$H$10-'Výstupy modelu'!$H$9),0))","v":0},null,null,{"$f":"W798","v":1865.4300000000003},1885.4300000000003,0,{"$f":"MAX(0,D799-'Vstupní hodnoty'!$C$5)","v":0}]
[null,"2017-01-09T07:15:00",1,1389.96,{"$f":"CEILING(IF(C800-C799=0,IF(H799=0,I799,IF(J799>K799,I799,E799)),'Výstupy modelu'!$C$7),1)","v":1664},0,0,{"$f":"IF(F800=1,IF(G800>'Zdrojová data'!$C$19,0,1),\"\")","v":""},1664,0,{"$f":"MIN(J800,'Zdrojová data'!$C$17)","v":0},0,{"$f":"L800/'Zdrojová data'!$C$16","v":0},{"$f":"M800*'Zdrojová data'!$C$13","v":0},{"$f":"N800*'Zdrojová data'!$C$14","v":0},0,{"$f":"IF(H800=0,D800-'Výstupy modelu'!$C$7,IF(P800=1,J800-K800,0))","v":0},0,null,{"$f":"MAX(0,IF(Q800>0,Q800-('Výstupy modelu'!$H$10-'Výstupy modelu'!$H$9),0))","v":0},null,null,{"$f":"W799","v":1865.4300000000003},1885.4300000000003,0,{"$f":"MAX(0,D800-'Vstupní hodnoty'!$C$5)","v":0}]
[null,"2017-01-09T07:30:00",1,1411.5600000000002,{"$f":"CEILING(IF(C801-C800=0,IF(H800=0,I800,IF(J800>K800,I800,E800)),'Výstupy modelu'!$C$7),1)","v":1664},0,0,{"$f":"IF(F801=1,IF(G801>'Zdrojová data'!$C$19,0,1),\"\")","v":""},1664,0,{"$f":"MIN(J801,'Zdrojová data'!$C$17)","v":0},0,{"$f":"L801/'Zdrojová data'!$C$16","v":0},{"$f":"M801*'Zdrojová data'!$C$13","v":0},{"$f":"N801*'Zdrojová data'!$C$14","v":0},0,{"$f":"IF(H801=0,D801-'Výstupy modelu'!$C$7,IF(P801=1,J801-K801,0))","v":0},0,null,{"$f":"MAX(0,IF(Q801>0,Q801-('Výstupy modelu'!$H$10-'Výstupy modelu'!$H$9),0))","v":0},null,null,{"$f":"W800","v":1865.4300000000003},1885.4300000000003,0,{"$f":"MAX(0,D801-'Vstupní hodnoty'!$C$5)","v":0}]
[null,"2017-01-09T07:45:00",1,1400.76,{"$f":"CEILING(IF(C802-C801=0,IF(H801=0,I801,IF(J801>K801,I801,E801)),'Výstupy modelu'!$C$7),1)","v":1664},0,0,{"$f":"IF(F802=1,IF(G802>'Zdrojová data'!$C$19,0,1),\"\")","v":""},1664,0,{"$f":"MIN(J802,'Zdrojová data'!$C$17)","v":0},0,{"$f":"L802/'Zdrojová data'!$C$16","v":0},{"$f":"M802*'Zdrojová data'!$C$13","v":0},{"$f":"N802*'Zdrojová data'!$C$14","v":0},0,{"$f":"IF(H802=0,D802-'Výstupy modelu'!$C$7,IF(P802=1,J802-K802,0))","v":0},0,null,{"$f":"MAX(0,IF(Q802>0,Q802-('Výstupy modelu'!$H$10-'Výstupy modelu'!$H$9),0))","v":0},null,null,{"$f":"W801","v":1865.4300000000003},1885.4300000000003,0,{"$f":"MAX(0,D802-'Vstupní hodnoty'!$C$5)","v":0}]
[null,"2017-01-09T08:00:00",1,1272.24,{"$f":"CEILING(IF(C803-C802=0,IF(H802=0,I802,IF(J802>K802,I802,E802)),'Výstupy modelu'!$C$7),1)","v":1664},0,0,{"$f":"IF(F803=1,IF(G803>'Zdrojová data'!$C$19,0,1),\"\")","v":""},1664,0,{"$f":"MIN(J803,'Zdrojová data'!$C$17)","v":0},0,{"$f":"L803/'Zdrojová data'!$C$16","v":0},{"$f":"M803*'Zdrojová data'!$C$13","v":0},{"$f":"N803*'Zdrojová data'!$C$14","v":0},0,{"$f":"IF(H803=0,D803-'Výstupy modelu'!$C$7,IF(P803=1,J803-K803,0))","v":0},0,null,{"$f":"MAX(0,IF(Q803>0,Q803-('Výstupy modelu'!$H$10-'Výstupy modelu'!$H$9),0))","v":0},null,null,{"$f":"W802","v":1865.4300000000003},1885.4300000000003,0,{"$f":"MAX(0,D803-'Vstupní hodnoty'!$C$5)","v":0}]
[null,"2017-01-09T08:15:00",1,1303.5600000000002,{"$f":"CEILING(IF(C804-C803=0,IF(H803=0,I803,IF(J803>K803,I803,E803)),'Výstupy modelu'!$C$7),1)","v":1664},0,0,{"$f":"IF(F804=1,IF(G804>'Zdrojová data'!$C$19,0,1),\"\")","v":""},1664,0,{"$f":"MIN(J804,'Zdrojová data'!$C$17)","v":0},0,{"$f":"L804/'Zdrojová data'!$C$16","v":0},{"$f":"M804*'Zdrojová data'!$C$13","v":0},{"$f":"N804*'Zdrojová data'!$C$14","v":0},0,{"$f":"IF(H804=0,D804-'Výstupy modelu'!$C$7,IF(P804=1,J804-K804,0))","v":0},0,null,{"$f":"MAX(0,IF(Q804>0,Q804-('Výstupy modelu'!$H$10-'Výstupy modelu'!$H$9),0))","v":0},null,null,{"$f":"W803","v":1865.4300000000003},1885.4300000000003,0,{"$f":"MAX(0,D804-'Vstupní hodnoty'!$C$5)","v":0}]
[null,"2017-01-09T08:30:00",1,1366.2,{"$f":"CEILING(IF(C805-C804=0,IF(H804=0,I804,IF(J804>K804,I804,E804)),'Výstupy modelu'!$C$7),1)","v":1664},0,0,{"$f":"IF(F805=1,IF(G805>'Zdrojová data'!$C$19,0,1),\"\")","v":""},1664,0,{"$f":"MIN(J805,'Zdrojová data'!$C$17)","v":0},0,{"$f":"L805/'Zdrojová data'!$C$16","v":0},{"$f":"M805*'Zdrojová data'!$C$13","v":0},{"$f":"N805*'Zdrojová data'!$C$14","v":0},0,{"$f":"IF(H805=0,D805-'Výstupy modelu'!$C$7,IF(P805=1,J805-K805,0))","v":0},0,null,{"$f":"MAX(0,IF(Q805>0,Q805-('Výstupy modelu'!$H$10-'Výstupy modelu'!$H$9),0))","v":0},null,null,{"$f":"W804","v":1865.4300000000003},1885.4300000000003,0,{"$f":"MAX(0,D805-'Vstupní hodnoty'!$C$5)","v":0}]
[null,"2017-01-09T08:45:00",1,1355.4,{"$f":"CEILING(IF(C806-C805=0,IF(H805=0,I805,IF(J805>K805,I805,E805)),'Výstupy modelu'!$C$7),1)","v":1664},0,0,{"$f":"IF(F806=1,IF(G806>'Zdrojová data'!$C$19,0,1),\"\")","v":""},1664,0,{"$f":"MIN(J806,'Zdrojová data'!$C$17)","v":0},0,{"$f":"L806/'Zdrojová data'!$C$16","v":0},{"$f":"M806*'Zdrojová data'!$C$13","v":0},{"$f":"N806*'Zdrojová data'!$C$14","v":0},0,{"$f":"IF(H806=0,D806-'Výstupy modelu'!$C$7,IF(P806=1,J806-K806,0))","v":0},0,null,{"$f":"MAX(0,IF(Q806>0,Q806-('Výstupy modelu'!$H$10-'Výstupy modelu'!$H$9),0))","v":0},null,null,{"$f":"W805","v":1865.4300000000003},1885.4300000000003,0,{"$f":"MAX(0,D806-'Vstupní hodnoty'!$C$5)","v":0}]
[null,"2017-01-09T09:00:00",1,1416.96,{"$f":"CEILING(IF(C807-C806=0,IF(H806=0,I806,IF(J806>K806,I806,E806)),'Výstupy modelu'!$C$7),1)","v":1664},0,0,{"$f":"IF(F807=1,IF(G807>'Zdrojová data'!$C$19,0,1),\"\")","v":""},1664,0,{"$f":"MIN(J807,'Zdrojová data'!$C$17)","v":0},0,{"$f":"L807/'Zdrojová data'!$C$16","v":0},{"$f":"M807*'Zdrojová data'!$C$13","v":0},{"$f":"N807*'Zdrojová data'!$C$14","v":0},0,{"$f":"IF(H807=0,D807-'Výstupy modelu'!$C$7,IF(P807=1,J807-K807,0))","v":0},0,null,{"$f":"MAX(0,IF(Q807>0,Q807-('Výstupy modelu'!$H$10-'Výstupy modelu'!$H$9),0))","v":0},null,null,{"$f":"W806","v":1865.4300000000003},1885.4300000000003,0,{"$f":"MAX(0,D807-'Vstupní hodnoty'!$C$5)","v":0}]
[null,"2017-01-09T09:15:00",1,1426.68,{"$f":"CEILING(IF(C808-C807=0,IF(H807=0,I807,IF(J807>K807,I807,E807)),'Výstupy modelu'!$C$7),1)","v":1664},0,0,{"$f":"IF(F808=1,IF(G808>'Zdrojová data'!$C$19,0,1),\"\")","v":""},1664,0,{"$f":"MIN(J808,'Zdrojová data'!$C$17)","v":0},0,{"$f":"L808/'Zdrojová data'!$C$16","v":0},{"$f":"M808*'Zdrojová data'!$C$13","v":0},{"$f":"N808*'Zdrojová data'!$C$14","v":0},0,{"$f":"IF(H808=0,D808-'Výstupy modelu'!$C$7,IF(P808=1,J808-K808,0))","v":0},0,null,{"$f":"MAX(0,IF(Q808>0,Q808-('Výstupy modelu'!$H$10-'Výstupy modelu'!$H$9),0))","v":0},null,null,{"$f":"W807","v":1865.4300000000003},1885.4300000000003,0,{"$f":"MAX(0,D808-'Vstupní hodnoty'!$C$5)","v":0}]
[null,"2017-01-09T09:30:00",1,1412.64,{"$f":"CEILING(IF(C809-C808=0,IF(H808=0,I808,IF(J808>K808,I808,E808)),'Výstupy modelu'!$C$7),1)","v":1664},0,0,{"$f":"IF(F809=1,IF(G809>'Zdrojová data'!$C$19,0,1),\"\")","v":""},1664,0,{"$f":"MIN(J809,'Zdrojová data'!$C$17)","v":0},0,{"$f":"L809/'Zdrojová data'!$C$16","v":0},{"$f":"M809*'Zdrojová data'!$C$13","v":0},{"$f":"N809*'Zdrojová data'!$C$14","v":0},0,{"$f":"IF(H809=0,D809-'Výstupy modelu'!$C$7,IF(P809=1,J809-K809,0))","v":0},0,null,{"$f":"MAX(0,IF(Q809>0,Q809-('Výstupy modelu'!$H$10-'Výstupy modelu'!$H$9),0))","v":0},null,null,{"$f":"W808","v":1865.4300000000003},1885.4300000000003,0,{"$f":"MAX(0,D809-'Vstupní hodnoty'!$C$5)","v":0}]
[null,"2017-01-09T09:45:00",1,1414.8000000000002,{"$f":"CEILING(IF(C810-C809=0,IF(H809=0,I809,IF(J809>K809,I809,E809)),'Výstupy modelu'!$C$7),1)","v":1664},0,0,{"$f":"IF(F810=1,IF(G810>'Zdrojová data'!$C$19,0,1),\"\")","v":""},1664,0,{"$f":"MIN(J810,'Zdrojová data'!$C$17)","v":0},0,{"$f":"L810/'Zdrojová data'!$C$16","v":0},{"$f":"M810*'Zdrojová data'!$C$13","v":0},{"$f":"N810*'Zdrojová data'!$C$14","v":0},0,{"$f":"IF(H810=0,D810-'Výstupy modelu'!$C$7,IF(P810=1,J810-K810,0))","v":0},0,null,{"$f":"MAX(0,IF(Q810>0,Q810-('Výstupy modelu'!$H$10-'Výstupy modelu'!$H$9),0))","v":0},null,null,{"$f":"W809","v":1865.4300000000003},1885.4300000000003,0,{"$f":"MAX(0,D810-'Vstupní hodnoty'!$C$5)","v":0}]
[null,"2017-01-09T10:00:00",1,1379.16,{"$f":"CEILING(IF(C811-C810=0,IF(H810=0,I810,IF(J810>K810,I810,E810)),'Výstupy modelu'!$C$7),1)","v":1664},0,0,{"$f":"IF(F811=1,IF(G811>'Zdrojová data'!$C$19,0,1),\"\")","v":""},1664,0,{"$f":"MIN(J811,'Zdrojová data'!$C$17)","v":0},0,{"$f":"L811/'Zdrojová data'!$C$16","v":0},{"$f":"M811*'Zdrojová data'!$C$13","v":0},{"$f":"N811*'Zdrojová data'!$C$14","v":0},0,{"$f":"IF(H811=0,D811-'Výstupy modelu'!$C$7,IF(P811=1,J811-K811,0))","v":0},0,null,{"$f":"MAX(0,IF(Q811>0,Q811-('Výstupy modelu'!$H$10-'Výstupy modelu'!$H$9),0))","v":0},null,null,{"$f":"W810","v":1865.4300000000003},1885.4300000000003,0,{"$f":"MAX(0,D811-'Vstupní hodnoty'!$C$5)","v":0}]
[null,"2017-01-09T10:15:00",1,1297.0800000000002,{"$f":"CEILING(IF(C812-C811=0,IF(H811=0,I811,IF(J811>K811,I811,E811)),'Výstupy modelu'!$C$7),1)","v":1664},0,0,{"$f":"IF(F812=1,IF(G812>'Zdrojová data'!$C$19,0,1),\"\")","v":""},1664,0,{"$f":"MIN(J812,'Zdrojová data'!$C$17)","v":0},0,{"$f":"L812/'Zdrojová data'!$C$16","v":0},{"$f":"M812*'Zdrojová data'!$C$13","v":0},{"$f":"N812*'Zdrojová data'!$C$14","v":0},0,{"$f":"IF(H812=0,D812-'Výstupy modelu'!$C$7,IF(P812=1,J812-K812,0))","v":0},0,null,{"$f":"MAX(0,IF(Q812>0,Q812-('Výstupy modelu'!$H$10-'Výstupy modelu'!$H$9),0))","v":0},null,null,{"$f":"W811","v":1865.4300000000003},1885.4300000000003,0,{"$f":"MAX(0,D812-'Vstupní hodnoty'!$C$5)","v":0}]
[null,"2017-01-09T10:30:00",1,1402.92,{"$f":"CEILING(IF(C813-C812=0,IF(H812=0,I812,IF(J812>K812,I812,E812)),'Výstupy modelu'!$C$7),1)","v":1664},0,0,{"$f":"IF(F813=1,IF(G813>'Zdrojová data'!$C$19,0,1),\"\")","v":""},1664,0,{"$f":"MIN(J813,'Zdrojová data'!$C$17)","v":0},0,{"$f":"L813/'Zdrojová data'!$C$16","v":0},{"$f":"M813*'Zdrojová data'!$C$13","v":0},{"$f":"N813*'Zdrojová data'!$C$14","v":0},0,{"$f":"IF(H813=0,D813-'Výstupy modelu'!$C$7,IF(P813=1,J813-K813,0))","v":0},0,null,{"$f":"MAX(0,IF(Q813>0,Q813-('Výstupy modelu'!$H$10-'Výstupy modelu'!$H$9),0))","v":0},null,null,{"$f":"W812","v":1865.4300000000003},1885.4300000000003,0,{"$f":"MAX(0,D813-'Vstupní hodnoty'!$C$5)","v":0}]
[null,"2017-01-09T10:45:00",1,1428.8400000000001,{"$f":"CEILING(IF(C814-C813=0,IF(H813=0,I813,IF(J813>K813,I813,E813)),'Výstupy modelu'!$C$7),1)","v":1664},0,0,{"$f":"IF(F814=1,IF(G814>'Zdrojová data'!$C$19,0,1),\"\")","v":""},1664,0,{"$f":"MIN(J814,'Zdrojová data'!$C$17)","v":0},0,{"$f":"L814/'Zdrojová data'!$C$16","v":0},{"$f":"M814*'Zdrojová data'!$C$13","v":0},{"$f":"N814*'Zdrojová data'!$C$14","v":0},0,{"$f":"IF(H814=0,D814-'Výstupy modelu'!$C$7,IF(P814=1,J814-K814,0))","v":0},0,null,{"$f":"MAX(0,IF(Q814>0,Q814-('Výstupy modelu'!$H$10-'Výstupy modelu'!$H$9),0))","v":0},null,null,{"$f":"W813","v":1865.4300000000003},1885.4300000000003,0,{"$f":"MAX(0,D814-'Vstupní hodnoty'!$C$5)","v":0}]
[null,"2017-01-09T11:00:00",1,1481.76,{"$f":"CEILING(IF(C815-C814=0,IF(H814=0,I814,IF(J814>K814,I814,E814)),'Výstupy modelu'!$C$7),1)","v":1664},0,0,{"$f":"IF(F815=1,IF(G815>'Zdrojová data'!$C$19,0,1),\"\")","v":""},1664,0,{"$f":"MIN(J815,'Zdrojová data'!$C$17)","v":0},0,{"$f":"L815/'Zdrojová data'!$C$16","v":0},{"$f":"M815*'Zdrojová data'!$C$13","v":0},{"$f":"N815*'Zdrojová data'!$C$14","v":0},0,{"$f":"IF(H815=0,D815-'Výstupy modelu'!$C$7,IF(P815=1,J815-K815,0))","v":0},0,null,{"$f":"MAX(0,IF(Q815>0,Q815-('Výstupy modelu'!$H$10-'Výstupy modelu'!$H$9),0))","v":0},null,null,{"$f":"W814","v":1865.4300000000003},1885.4300000000003,0,{"$f":"MAX(0,D815-'Vstupní hodnoty'!$C$5)","v":0}]
[null,"2017-01-09T11:15:00",1,1500.1200000000001,{"$f":"CEILING(IF(C816-C815=0,IF(H815=0,I815,IF(J815>K815,I815,E815)),'Výstupy modelu'!$C$7),1)","v":1664},0,0,{"$f":"IF(F816=1,IF(G816>'Zdrojová data'!$C$19,0,1),\"\")","v":""},1664,0,{"$f":"MIN(J816,'Zdrojová data'!$C$17)","v":0},0,{"$f":"L816/'Zdrojová data'!$C$16","v":0},{"$f":"M816*'Zdrojová data'!$C$13","v":0},{"$f":"N816*'Zdrojová data'!$C$14","v":0},0,{"$f":"IF(H816=0,D816-'Výstupy modelu'!$C$7,IF(P816=1,J816-K816,0))","v":0},0,null,{"$f":"MAX(0,IF(Q816>0,Q816-('Výstupy modelu'!$H$10-'Výstupy modelu'!$H$9),0))","v":0},null,null,{"$f":"W815","v":1865.4300000000003},1885.4300000000003,0,{"$f":"MAX(0,D816-'Vstupní hodnoty'!$C$5)","v":0}]
[null,"2017-01-09T11:30:00",1,1396.44,{"$f":"CEILING(IF(C817-C816=0,IF(H816=0,I816,IF(J816>K816,I816,E816)),'Výstupy modelu'!$C$7),1)","v":1664},0,0,{"$f":"IF(F817=1,IF(G817>'Zdrojová data'!$C$19,0,1),\"\")","v":""},1664,0,{"$f":"MIN(J817,'Zdrojová data'!$C$17)","v":0},0,{"$f":"L817/'Zdrojová data'!$C$16","v":0},{"$f":"M817*'Zdrojová data'!$C$13","v":0},{"$f":"N817*'Zdrojová data'!$C$14","v":0},0,{"$f":"IF(H817=0,D817-'Výstupy modelu'!$C$7,IF(P817=1,J817-K817,0))","v":0},0,null,{"$f":"MAX(0,IF(Q817>0,Q817-('Výstupy modelu'!$H$10-'Výstupy modelu'!$H$9),0))","v":0},null,null,{"$f":"W816","v":1865.4300000000003},1885.4300000000003,{"$f":"MAX(0,D817-W817)","v":0},{"$f":"MAX(0,D817-'Vstupní hodnoty'!$C$5)","v":0}]
[null,"2017-01-09T11:45:00",1,1292.76,{"$f":"CEILING(IF(C818-C817=0,IF(H817=0,I817,IF(J817>K817,I817,E817)),'Výstupy modelu'!$C$7),1)","v":1664},0,0,{"$f":"IF(F818=1,IF(G818>'Zdrojová data'!$C$19,0,1),\"\")","v":""},1664,0,{"$f":"MIN(J818,'Zdrojová data'!$C$17)","v":0},0,{"$f":"L818/'Zdrojová data'!$C$16","v":0},{"$f":"M818*'Zdrojová data'!$C$13","v":0},{"$f":"N818*'Zdrojová data'!$C$14","v":0},0,{"$f":"IF(H818=0,D818-'Výstupy modelu'!$C$7,IF(P818=1,J818-K818,0))","v":0},0,null,{"$f":"MAX(0,IF(Q818>0,Q818-('Výstupy modelu'!$H$10-'Výstupy modelu'!$H$9),0))","v":0},null,null,{"$f":"W817","v":1865.4300000000003},1885.4300000000003,0,{"$f":"MAX(0,D818-'Vstupní hodnoty'!$C$5)","v":0}]
[null,"2017-01-09T12:00:00",1,1104.8400000000001,{"$f":"CEILING(IF(C819-C818=0,IF(H818=0,I818,IF(J818>K818,I818,E818)),'Výstupy modelu'!$C$7),1)","v":1664},0,0,{"$f":"IF(F819=1,IF(G819>'Zdrojová data'!$C$19,0,1),\"\")","v":""},1664,0,{"$f":"MIN(J819,'Zdrojová data'!$C$17)","v":0},0,{"$f":"L819/'Zdrojová data'!$C$16","v":0},{"$f":"M819*'Zdrojová data'!$C$13","v":0},{"$f":"N819*'Zdrojová data'!$C$14","v":0},0,{"$f":"IF(H819=0,D819-'Výstupy modelu'!$C$7,IF(P819=1,J819-K819,0))","v":0},0,null,{"$f":"MAX(0,IF(Q819>0,Q819-('Výstupy modelu'!$H$10-'Výstupy modelu'!$H$9),0))","v":0},null,null,{"$f":"W818","v":1865.4300000000003},1885.4300000000003,0,{"$f":"MAX(0,D819-'Vstupní hodnoty'!$C$5)","v":0}]
[null,"2017-01-09T12:15:00",1,1072.44,{"$f":"CEILING(IF(C820-C819=0,IF(H819=0,I819,IF(J819>K819,I819,E819)),'Výstupy modelu'!$C$7),1)","v":1664},0,0,{"$f":"IF(F820=1,IF(G820>'Zdrojová data'!$C$19,0,1),\"\")","v":""},1664,0,{"$f":"MIN(J820,'Zdrojová data'!$C$17)","v":0},0,{"$f":"L820/'Zdrojová data'!$C$16","v":0},{"$f":"M820*'Zdrojová data'!$C$13","v":0},{"$f":"N820*'Zdrojová data'!$C$14","v":0},0,{"$f":"IF(H820=0,D820-'Výstupy modelu'!$C$7,IF(P820=1,J820-K820,0))","v":0},0,null,{"$f":"MAX(0,IF(Q820>0,Q820-('Výstupy modelu'!$H$10-'Výstupy modelu'!$H$9),0))","v":0},null,null,{"$f":"W819","v":1865.4300000000003},1885.4300000000003,0,{"$f":"MAX(0,D820-'Vstupní hodnoty'!$C$5)","v":0}]
[null,"2017-01-09T12:30:00",1,1223.6400000000001,{"$f":"CEILING(IF(C821-C820=0,IF(H820=0,I820,IF(J820>K820,I820,E820)),'Výstupy modelu'!$C$7),1)","v":1664},0,0,{"$f":"IF(F821=1,IF(G821>'Zdrojová data'!$C$19,0,1),\"\")","v":""},1664,0,{"$f":"MIN(J821,'Zdrojová data'!$C$17)","v":0},0,{"$f":"L821/'Zdrojová data'!$C$16","v":0},{"$f":"M821*'Zdrojová data'!$C$13","v":0},{"$f":"N821*'Zdrojová data'!$C$14","v":0},0,{"$f":"IF(H821=0,D821-'Výstupy modelu'!$C$7,IF(P821=1,J821-K821,0))","v":0},0,null,{"$f":"MAX(0,IF(Q821>0,Q821-('Výstupy modelu'!$H$10-'Výstupy modelu'!$H$9),0))","v":0},null,null,{"$f":"W820","v":1865.4300000000003},1885.4300000000003,0,{"$f":"MAX(0,D821-'Vstupní hodnoty'!$C$5)","v":0}]
[null,"2017-01-09T12:45:00",1,1413.72,{"$f":"CEILING(IF(C822-C821=0,IF(H821=0,I821,IF(J821>K821,I821,E821)),'Výstupy modelu'!$C$7),1)","v":1664},0,0,{"$f":"IF(F822=1,IF(G822>'Zdrojová data'!$C$19,0,1),\"\")","v":""},1664,0,{"$f":"MIN(J822,'Zdrojová data'!$C$17)","v":0},0,{"$f":"L822/'Zdrojová data'!$C$16","v":0},{"$f":"M822*'Zdrojová data'!$C$13","v":0},{"$f":"N822*'Zdrojová data'!$C$14","v":0},0,{"$f":"IF(H822=0,D822-'Výstupy modelu'!$C$7,IF(P822=1,J822-K822,0))","v":0},0,null,{"$f":"MAX(0,IF(Q822>0,Q822-('Výstupy modelu'!$H$10-'Výstupy modelu'!$H$9),0))","v":0},null,null,{"$f":"W821","v":1865.4300000000003},1885.4300000000003,0,{"$f":"MAX(0,D822-'Vstupní hodnoty'!$C$5)","v":0}]
[null,"2017-01-09T13:00:00",1,1420.2,{"$f":"CEILING(IF(C823-C822=0,IF(H822=0,I822,IF(J822>K822,I822,E822)),'Výstupy modelu'!$C$7),1)","v":1664},0,0,{"$f":"IF(F823=1,IF(G823>'Zdrojová data'!$C$19,0,1),\"\")","v":""},1664,0,{"$f":"MIN(J823,'Zdrojová data'!$C$17)","v":0},0,{"$f":"L823/'Zdrojová data'!$C$16","v":0},{"$f":"M823*'Zdrojová data'!$C$13","v":0},{"$f":"N823*'Zdrojová data'!$C$14","v":0},0,{"$f":"IF(H823=0,D823-'Výstupy modelu'!$C$7,IF(P823=1,J823-K823,0))","v":0},0,null,{"$f":"MAX(0,IF(Q823>0,Q823-('Výstupy modelu'!$H$10-'Výstupy modelu'!$H$9),0))","v":0},null,null,{"$f":"W822","v":1865.4300000000003},1885.4300000000003,0,{"$f":"MAX(0,D823-'Vstupní hodnoty'!$C$5)","v":0}]
[null,"2017-01-09T13:15:00",1,1410.48,{"$f":"CEILING(IF(C824-C823=0,IF(H823=0,I823,IF(J823>K823,I823,E823)),'Výstupy modelu'!$C$7),1)","v":1664},0,0,{"$f":"IF(F824=1,IF(G824>'Zdrojová data'!$C$19,0,1),\"\")","v":""},1664,0,{"$f":"MIN(J824,'Zdrojová data'!$C$17)","v":0},0,{"$f":"L824/'Zdrojová data'!$C$16","v":0},{"$f":"M824*'Zdrojová data'!$C$13","v":0},{"$f":"N824*'Zdrojová data'!$C$14","v":0},0,{"$f":"IF(H824=0,D824-'Výstupy modelu'!$C$7,IF(P824=1,J824-K824,0))","v":0},0,null,{"$f":"MAX(0,IF(Q824>0,Q824-('Výstupy modelu'!$H$10-'Výstupy modelu'!$H$9),0))","v":0},null,null,{"$f":"W823","v":1865.4300000000003},1885.4300000000003,0,{"$f":"MAX(0,D824-'Vstupní hodnoty'!$C$5)","v":0}]
[null,"2017-01-09T13:30:00",1,1402.92,{"$f":"CEILING(IF(C825-C824=0,IF(H824=0,I824,IF(J824>K824,I824,E824)),'Výstupy modelu'!$C$7),1)","v":1664},0,0,{"$f":"IF(F825=1,IF(G825>'Zdrojová data'!$C$19,0,1),\"\")","v":""},1664,0,{"$f":"MIN(J825,'Zdrojová data'!$C$17)","v":0},0,{"$f":"L825/'Zdrojová data'!$C$16","v":0},{"$f":"M825*'Zdrojová data'!$C$13","v":0},{"$f":"N825*'Zdrojová data'!$C$14","v":0},0,{"$f":"IF(H825=0,D825-'Výstupy modelu'!$C$7,IF(P825=1,J825-K825,0))","v":0},0,null,{"$f":"MAX(0,IF(Q825>0,Q825-('Výstupy modelu'!$H$10-'Výstupy modelu'!$H$9),0))","v":0},null,null,{"$f":"W824","v":1865.4300000000003},1885.4300000000003,0,{"$f":"MAX(0,D825-'Vstupní hodnoty'!$C$5)","v":0}]
[null,"2017-01-09T13:45:00",1,1367.2800000000002,{"$f":"CEILING(IF(C826-C825=0,IF(H825=0,I825,IF(J825>K825,I825,E825)),'Výstupy modelu'!$C$7),1)","v":1664},0,0,{"$f":"IF(F826=1,IF(G826>'Zdrojová data'!$C$19,0,1),\"\")","v":""},1664,0,{"$f":"MIN(J826,'Zdrojová data'!$C$17)","v":0},0,{"$f":"L826/'Zdrojová data'!$C$16","v":0},{"$f":"M826*'Zdrojová data'!$C$13","v":0},{"$f":"N826*'Zdrojová data'!$C$14","v":0},0,{"$f":"IF(H826=0,D826-'Výstupy modelu'!$C$7,IF(P826=1,J826-K826,0))","v":0},0,null,{"$f":"MAX(0,IF(Q826>0,Q826-('Výstupy modelu'!$H$10-'Výstupy modelu'!$H$9),0))","v":0},null,null,{"$f":"W825","v":1865.4300000000003},1885.4300000000003,0,{"$f":"MAX(0,D826-'Vstupní hodnoty'!$C$5)","v":0}]
[null,"2017-01-09T14:00:00",1,1256.0400000000002,{"$f":"CEILING(IF(C827-C826=0,IF(H826=0,I826,IF(J826>K826,I826,E826)),'Výstupy modelu'!$C$7),1)","v":1664},0,0,{"$f":"IF(F827=1,IF(G827>'Zdrojová data'!$C$19,0,1),\"\")","v":""},1664,0,{"$f":"MIN(J827,'Zdrojová data'!$C$17)","v":0},0,{"$f":"L827/'Zdrojová data'!$C$16","v":0},{"$f":"M827*'Zdrojová data'!$C$13","v":0},{"$f":"N827*'Zdrojová data'!$C$14","v":0},0,{"$f":"IF(H827=0,D827-'Výstupy modelu'!$C$7,IF(P827=1,J827-K827,0))","v":0},0,null,{"$f":"MAX(0,IF(Q827>0,Q827-('Výstupy modelu'!$H$10-'Výstupy modelu'!$H$9),0))","v":0},null,null,{"$f":"W826","v":1865.4300000000003},1885.4300000000003,0,{"$f":"MAX(0,D827-'Vstupní hodnoty'!$C$5)","v":0}]
[null,"2017-01-09T14:15:00",1,1284.1200000000001,{"$f":"CEILING(IF(C828-C827=0,IF(H827=0,I827,IF(J827>K827,I827,E827)),'Výstupy modelu'!$C$7),1)","v":1664},0,0,{"$f":"IF(F828=1,IF(G828>'Zdrojová data'!$C$19,0,1),\"\")","v":""},1664,0,{"$f":"MIN(J828,'Zdrojová data'!$C$17)","v":0},0,{"$f":"L828/'Zdrojová data'!$C$16","v":0},{"$f":"M828*'Zdrojová data'!$C$13","v":0},{"$f":"N828*'Zdrojová data'!$C$14","v":0},0,{"$f":"IF(H828=0,D828-'Výstupy modelu'!$C$7,IF(P828=1,J828-K828,0))","v":0},0,null,{"$f":"MAX(0,IF(Q828>0,Q828-('Výstupy modelu'!$H$10-'Výstupy modelu'!$H$9),0))","v":0},null,null,{"$f":"W827","v":1865.4300000000003},1885.4300000000003,0,{"$f":"MAX(0,D828-'Vstupní hodnoty'!$C$5)","v":0}]
[null,"2017-01-09T14:30:00",1,1205.28,{"$f":"CEILING(IF(C829-C828=0,IF(H828=0,I828,IF(J828>K828,I828,E828)),'Výstupy modelu'!$C$7),1)","v":1664},0,0,{"$f":"IF(F829=1,IF(G829>'Zdrojová data'!$C$19,0,1),\"\")","v":""},1664,0,{"$f":"MIN(J829,'Zdrojová data'!$C$17)","v":0},0,{"$f":"L829/'Zdrojová data'!$C$16","v":0},{"$f":"M829*'Zdrojová data'!$C$13","v":0},{"$f":"N829*'Zdrojová data'!$C$14","v":0},0,{"$f":"IF(H829=0,D829-'Výstupy modelu'!$C$7,IF(P829=1,J829-K829,0))","v":0},0,null,{"$f":"MAX(0,IF(Q829>0,Q829-('Výstupy modelu'!$H$10-'Výstupy modelu'!$H$9),0))","v":0},null,null,{"$f":"W828","v":1865.4300000000003},1885.4300000000003,0,{"$f":"MAX(0,D829-'Vstupní hodnoty'!$C$5)","v":0}]
[null,"2017-01-09T14:45:00",1,1192.3200000000002,{"$f":"CEILING(IF(C830-C829=0,IF(H829=0,I829,IF(J829>K829,I829,E829)),'Výstupy modelu'!$C$7),1)","v":1664},0,0,{"$f":"IF(F830=1,IF(G830>'Zdrojová data'!$C$19,0,1),\"\")","v":""},1664,0,{"$f":"MIN(J830,'Zdrojová data'!$C$17)","v":0},0,{"$f":"L830/'Zdrojová data'!$C$16","v":0},{"$f":"M830*'Zdrojová data'!$C$13","v":0},{"$f":"N830*'Zdrojová data'!$C$14","v":0},0,{"$f":"IF(H830=0,D830-'Výstupy modelu'!$C$7,IF(P830=1,J830-K830,0))","v":0},0,null,{"$f":"MAX(0,IF(Q830>0,Q830-('Výstupy modelu'!$H$10-'Výstupy modelu'!$H$9),0))","v":0},null,null,{"$f":"W829","v":1865.4300000000003},1885.4300000000003,0,{"$f":"MAX(0,D830-'Vstupní hodnoty'!$C$5)","v":0}]
[null,"2017-01-09T15:00:00",1,1152.3600000000001,{"$f":"CEILING(IF(C831-C830=0,IF(H830=0,I830,IF(J830>K830,I830,E830)),'Výstupy modelu'!$C$7),1)","v":1664},0,0,{"$f":"IF(F831=1,IF(G831>'Zdrojová data'!$C$19,0,1),\"\")","v":""},1664,0,{"$f":"MIN(J831,'Zdrojová data'!$C$17)","v":0},0,{"$f":"L831/'Zdrojová data'!$C$16","v":0},{"$f":"M831*'Zdrojová data'!$C$13","v":0},{"$f":"N831*'Zdrojová data'!$C$14","v":0},0,{"$f":"IF(H831=0,D831-'Výstupy modelu'!$C$7,IF(P831=1,J831-K831,0))","v":0},0,null,{"$f":"MAX(0,IF(Q831>0,Q831-('Výstupy modelu'!$H$10-'Výstupy modelu'!$H$9),0))","v":0},null,null,{"$f":"W830","v":1865.4300000000003},1885.4300000000003,0,{"$f":"MAX(0,D831-'Vstupní hodnoty'!$C$5)","v":0}]
[null,"2017-01-09T15:15:00",1,1103.76,{"$f":"CEILING(IF(C832-C831=0,IF(H831=0,I831,IF(J831>K831,I831,E831)),'Výstupy modelu'!$C$7),1)","v":1664},0,0,{"$f":"IF(F832=1,IF(G832>'Zdrojová data'!$C$19,0,1),\"\")","v":""},1664,0,{"$f":"MIN(J832,'Zdrojová data'!$C$17)","v":0},0,{"$f":"L832/'Zdrojová data'!$C$16","v":0},{"$f":"M832*'Zdrojová data'!$C$13","v":0},{"$f":"N832*'Zdrojová data'!$C$14","v":0},0,{"$f":"IF(H832=0,D832-'Výstupy modelu'!$C$7,IF(P832=1,J832-K832,0))","v":0},0,null,{"$f":"MAX(0,IF(Q832>0,Q832-('Výstupy modelu'!$H$10-'Výstupy modelu'!$H$9),0))","v":0},null,null,{"$f":"W831","v":1865.4300000000003},1885.4300000000003,0,{"$f":"MAX(0,D832-'Vstupní hodnoty'!$C$5)","v":0}]
[null,"2017-01-09T15:30:00",1,1061.6400000000001,{"$f":"CEILING(IF(C833-C832=0,IF(H832=0,I832,IF(J832>K832,I832,E832)),'Výstupy modelu'!$C$7),1)","v":1664},0,0,{"$f":"IF(F833=1,IF(G833>'Zdrojová data'!$C$19,0,1),\"\")","v":""},1664,0,{"$f":"MIN(J833,'Zdrojová data'!$C$17)","v":0},0,{"$f":"L833/'Zdrojová data'!$C$16","v":0},{"$f":"M833*'Zdrojová data'!$C$13","v":0},{"$f":"N833*'Zdrojová data'!$C$14","v":0},0,{"$f":"IF(H833=0,D833-'Výstupy modelu'!$C$7,IF(P833=1,J833-K833,0))","v":0},0,null,{"$f":"MAX(0,IF(Q833>0,Q833-('Výstupy modelu'!$H$10-'Výstupy modelu'!$H$9),0))","v":0},null,null,{"$f":"W832","v":1865.4300000000003},1885.4300000000003,0,{"$f":"MAX(0,D833-'Vstupní hodnoty'!$C$5)","v":0}]
[null,"2017-01-09T15:45:00",1,1028.1600000000001,{"$f":"CEILING(IF(C834-C833=0,IF(H833=0,I833,IF(J833>K833,I833,E833)),'Výstupy modelu'!$C$7),1)","v":1664},0,0,{"$f":"IF(F834=1,IF(G834>'Zdrojová data'!$C$19,0,1),\"\")","v":""},1664,0,{"$f":"MIN(J834,'Zdrojová data'!$C$17)","v":0},0,{"$f":"L834/'Zdrojová data'!$C$16","v":0},{"$f":"M834*'Zdrojová data'!$C$13","v":0},{"$f":"N834*'Zdrojová data'!$C$14","v":0},0,{"$f":"IF(H834=0,D834-'Výstupy modelu'!$C$7,IF(P834=1,J834-K834,0))","v":0},0,null,{"$f":"MAX(0,IF(Q834>0,Q834-('Výstupy modelu'!$H$10-'Výstupy modelu'!$H$9),0))","v":0},null,null,{"$f":"W833","v":1865.4300000000003},1885.4300000000003,0,{"$f":"MAX(0,D834-'Vstupní hodnoty'!$C$5)","v":0}]
[null,"2017-01-09T16:00:00",1,937.44,{"$f":"CEILING(IF(C835-C834=0,IF(H834=0,I834,IF(J834>K834,I834,E834)),'Výstupy modelu'!$C$7),1)","v":1664},0,0,{"$f":"IF(F835=1,IF(G835>'Zdrojová data'!$C$19,0,1),\"\")","v":""},1664,0,{"$f":"MIN(J835,'Zdrojová data'!$C$17)","v":0},0,{"$f":"L835/'Zdrojová data'!$C$16","v":0},{"$f":"M835*'Zdrojová data'!$C$13","v":0},{"$f":"N835*'Zdrojová data'!$C$14","v":0},0,{"$f":"IF(H835=0,D835-'Výstupy modelu'!$C$7,IF(P835=1,J835-K835,0))","v":0},0,null,{"$f":"MAX(0,IF(Q835>0,Q835-('Výstupy modelu'!$H$10-'Výstupy modelu'!$H$9),0))","v":0},null,null,{"$f":"W834","v":1865.4300000000003},1885.4300000000003,0,{"$f":"MAX(0,D835-'Vstupní hodnoty'!$C$5)","v":0}]
[null,"2017-01-09T16:15:00",1,1036.8000000000002,{"$f":"CEILING(IF(C836-C835=0,IF(H835=0,I835,IF(J835>K835,I835,E835)),'Výstupy modelu'!$C$7),1)","v":1664},{"$f":"IF(D836>E836,1,0)","v":0},0,{"$f":"IF(F836=1,IF(G836>'Zdrojová data'!$C$19,0,1),\"\")","v":""},{"$f":"IF(H836=0,D836,IF(J836>K836,E836+J836-K836,E836))","v":1664},{"$f":"IF(H836=1,D836-E836,0)","v":0},{"$f":"MIN(J836,'Zdrojová data'!$C$17)","v":0},0,{"$f":"L836/'Zdrojová data'!$C$16","v":0},{"$f":"M836*'Zdrojová data'!$C$13","v":0},{"$f":"N836*'Zdrojová data'!$C$14","v":0},0,{"$f":"IF(H836=0,D836-'Výstupy modelu'!$C$7,IF(P836=1,J836-K836,0))","v":0},0,null,{"$f":"MAX(0,IF(Q836>0,Q836-('Výstupy modelu'!$H$10-'Výstupy modelu'!$H$9),0))","v":0},null,null,{"$f":"W835","v":1865.4300000000003},1885.4300000000003,0,{"$f":"MAX(0,D836-'Vstupní hodnoty'!$C$5)","v":0}]
[null,"2017-01-09T16:30:00",{"$f":"MONTH(B837)","v":1},1032.48,{"$f":"CEILING(IF(C837-C836=0,IF(H836=0,I836,IF(J836>K836,I836,E836)),'Výstupy modelu'!$C$7),1)","v":1664},0,{"$f":"IF(F837=1,RANDBETWEEN(0,100),0)","v":0},{"$f":"IF(F837=1,IF(G837>'Zdrojová data'!$C$19,0,1),\"\")","v":""},1664,0,{"$f":"MIN(J837,'Zdrojová data'!$C$17)","v":0},{"$f":"K837/4","v":0},{"$f":"L837/'Zdrojová data'!$C$16","v":0},{"$f":"M837*'Zdrojová data'!$C$13","v":0},{"$f":"N837*'Zdrojová data'!$C$14","v":0},{"$f":"IF(H837=0,1,IF(J837>K837,1,0))","v":0},{"$f":"IF(H837=0,D837-'Výstupy modelu'!$C$7,IF(P837=1,J837-K837,0))","v":0},{"$f":"IF(H837=0,1,IF(J837>K837,1,0))","v":0},null,{"$f":"MAX(0,IF(Q837>0,Q837-('Výstupy modelu'!$H$10-'Výstupy modelu'!$H$9),0))","v":0},null,null,{"$f":"W836","v":1865.4300000000003},1885.4300000000003,0,{"$f":"MAX(0,D837-'Vstupní hodnoty'!$C$5)","v":0}]
[null,"2017-01-09T16:45:00",1,1010.8800000000001,{"$f":"CEILING(IF(C838-C837=0,IF(H837=0,I837,IF(J837>K837,I837,E837)),'Výstupy modelu'!$C$7),1)","v":1664},0,0,{"$f":"IF(F838=1,IF(G838>'Zdrojová data'!$C$19,0,1),\"\")","v":""},1664,0,{"$f":"MIN(J838,'Zdrojová data'!$C$17)","v":0},0,{"$f":"L838/'Zdrojová data'!$C$16","v":0},{"$f":"M838*'Zdrojová data'!$C$13","v":0},{"$f":"N838*'Zdrojová data'!$C$14","v":0},0,{"$f":"IF(H838=0,D838-'Výstupy modelu'!$C$7,IF(P838=1,J838-K838,0))","v":0},0,null,{"$f":"MAX(0,IF(Q838>0,Q838-('Výstupy modelu'!$H$10-'Výstupy modelu'!$H$9),0))","v":0},null,null,{"$f":"W837","v":1865.4300000000003},1885.4300000000003,0,{"$f":"MAX(0,D838-'Vstupní hodnoty'!$C$5)","v":0}]
[null,"2017-01-09T17:00:00",1,962.28000000000009,{"$f":"CEILING(IF(C839-C838=0,IF(H838=0,I838,IF(J838>K838,I838,E838)),'Výstupy modelu'!$C$7),1)","v":1664},0,0,{"$f":"IF(F839=1,IF(G839>'Zdrojová data'!$C$19,0,1),\"\")","v":""},1664,0,{"$f":"MIN(J839,'Zdrojová data'!$C$17)","v":0},0,{"$f":"L839/'Zdrojová data'!$C$16","v":0},{"$f":"M839*'Zdrojová data'!$C$13","v":0},{"$f":"N839*'Zdrojová data'!$C$14","v":0},0,{"$f":"IF(H839=0,D839-'Výstupy modelu'!$C$7,IF(P839=1,J839-K839,0))","v":0},0,null,{"$f":"MAX(0,IF(Q839>0,Q839-('Výstupy modelu'!$H$10-'Výstupy modelu'!$H$9),0))","v":0},null,null,{"$f":"W838","v":1865.4300000000003},1885.4300000000003,0,{"$f":"MAX(0,D839-'Vstupní hodnoty'!$C$5)","v":0}]
[null,"2017-01-09T17:15:00",1,953.6400000000001,{"$f":"CEILING(IF(C840-C839=0,IF(H839=0,I839,IF(J839>K839,I839,E839)),'Výstupy modelu'!$C$7),1)","v":1664},0,0,{"$f":"IF(F840=1,IF(G840>'Zdrojová data'!$C$19,0,1),\"\")","v":""},1664,0,{"$f":"MIN(J840,'Zdrojová data'!$C$17)","v":0},0,{"$f":"L840/'Zdrojová data'!$C$16","v":0},{"$f":"M840*'Zdrojová data'!$C$13","v":0},{"$f":"N840*'Zdrojová data'!$C$14","v":0},0,{"$f":"IF(H840=0,D840-'Výstupy modelu'!$C$7,IF(P840=1,J840-K840,0))","v":0},0,null,{"$f":"MAX(0,IF(Q840>0,Q840-('Výstupy modelu'!$H$10-'Výstupy modelu'!$H$9),0))","v":0},null,null,{"$f":"W839","v":1865.4300000000003},1885.4300000000003,0,{"$f":"MAX(0,D840-'Vstupní hodnoty'!$C$5)","v":0}]
[null,"2017-01-09T17:30:00",1,854.28000000000009,{"$f":"CEILING(IF(C841-C840=0,IF(H840=0,I840,IF(J840>K840,I840,E840)),'Výstupy modelu'!$C$7),1)","v":1664},0,0,{"$f":"IF(F841=1,IF(G841>'Zdrojová data'!$C$19,0,1),\"\")","v":""},1664,0,{"$f":"MIN(J841,'Zdrojová data'!$C$17)","v":0},0,{"$f":"L841/'Zdrojová data'!$C$16","v":0},{"$f":"M841*'Zdrojová data'!$C$13","v":0},{"$f":"N841*'Zdrojová data'!$C$14","v":0},0,{"$f":"IF(H841=0,D841-'Výstupy modelu'!$C$7,IF(P841=1,J841-K841,0))","v":0},0,null,{"$f":"MAX(0,IF(Q841>0,Q841-('Výstupy modelu'!$H$10-'Výstupy modelu'!$H$9),0))","v":0},null,null,{"$f":"W840","v":1865.4300000000003},1885.4300000000003,0,{"$f":"MAX(0,D841-'Vstupní hodnoty'!$C$5)","v":0}]
[null,"2017-01-09T17:45:00",1,793.80000000000007,{"$f":"CEILING(IF(C842-C841=0,IF(H841=0,I841,IF(J841>K841,I841,E841)),'Výstupy modelu'!$C$7),1)","v":1664},0,0,{"$f":"IF(F842=1,IF(G842>'Zdrojová data'!$C$19,0,1),\"\")","v":""},1664,0,{"$f":"MIN(J842,'Zdrojová data'!$C$17)","v":0},0,{"$f":"L842/'Zdrojová data'!$C$16","v":0},{"$f":"M842*'Zdrojová data'!$C$13","v":0},{"$f":"N842*'Zdrojová data'!$C$14","v":0},0,{"$f":"IF(H842=0,D842-'Výstupy modelu'!$C$7,IF(P842=1,J842-K842,0))","v":0},0,null,{"$f":"MAX(0,IF(Q842>0,Q842-('Výstupy modelu'!$H$10-'Výstupy modelu'!$H$9),0))","v":0},null,null,{"$f":"W841","v":1865.4300000000003},1885.4300000000003,0,{"$f":"MAX(0,D842-'Vstupní hodnoty'!$C$5)","v":0}]
[null,"2017-01-09T18:00:00",1,783,{"$f":"CEILING(IF(C843-C842=0,IF(H842=0,I842,IF(J842>K842,I842,E842)),'Výstupy modelu'!$C$7),1)","v":1664},0,0,{"$f":"IF(F843=1,IF(G843>'Zdrojová data'!$C$19,0,1),\"\")","v":""},1664,0,{"$f":"MIN(J843,'Zdrojová data'!$C$17)","v":0},0,{"$f":"L843/'Zdrojová data'!$C$16","v":0},{"$f":"M843*'Zdrojová data'!$C$13","v":0},{"$f":"N843*'Zdrojová data'!$C$14","v":0},0,{"$f":"IF(H843=0,D843-'Výstupy modelu'!$C$7,IF(P843=1,J843-K843,0))","v":0},0,null,{"$f":"MAX(0,IF(Q843>0,Q843-('Výstupy modelu'!$H$10-'Výstupy modelu'!$H$9),0))","v":0},null,null,{"$f":"W842","v":1865.4300000000003},1885.4300000000003,0,{"$f":"MAX(0,D843-'Vstupní hodnoty'!$C$5)","v":0}]
[null,"2017-01-09T18:15:00",1,834.84,{"$f":"CEILING(IF(C844-C843=0,IF(H843=0,I843,IF(J843>K843,I843,E843)),'Výstupy modelu'!$C$7),1)","v":1664},0,0,{"$f":"IF(F844=1,IF(G844>'Zdrojová data'!$C$19,0,1),\"\")","v":""},1664,0,{"$f":"MIN(J844,'Zdrojová data'!$C$17)","v":0},0,{"$f":"L844/'Zdrojová data'!$C$16","v":0},{"$f":"M844*'Zdrojová data'!$C$13","v":0},{"$f":"N844*'Zdrojová data'!$C$14","v":0},0,{"$f":"IF(H844=0,D844-'Výstupy modelu'!$C$7,IF(P844=1,J844-K844,0))","v":0},0,null,{"$f":"MAX(0,IF(Q844>0,Q844-('Výstupy modelu'!$H$10-'Výstupy modelu'!$H$9),0))","v":0},null,null,{"$f":"W843","v":1865.4300000000003},1885.4300000000003,0,{"$f":"MAX(0,D844-'Vstupní hodnoty'!$C$5)","v":0}]
[null,"2017-01-09T18:30:00",1,919.08,{"$f":"CEILING(IF(C845-C844=0,IF(H844=0,I844,IF(J844>K844,I844,E844)),'Výstupy modelu'!$C$7),1)","v":1664},0,0,{"$f":"IF(F845=1,IF(G845>'Zdrojová data'!$C$19,0,1),\"\")","v":""},1664,0,{"$f":"MIN(J845,'Zdrojová data'!$C$17)","v":0},0,{"$f":"L845/'Zdrojová data'!$C$16","v":0},{"$f":"M845*'Zdrojová data'!$C$13","v":0},{"$f":"N845*'Zdrojová data'!$C$14","v":0},0,{"$f":"IF(H845=0,D845-'Výstupy modelu'!$C$7,IF(P845=1,J845-K845,0))","v":0},0,null,{"$f":"MAX(0,IF(Q845>0,Q845-('Výstupy modelu'!$H$10-'Výstupy modelu'!$H$9),0))","v":0},null,null,{"$f":"W844","v":1865.4300000000003},1885.4300000000003,0,{"$f":"MAX(0,D845-'Vstupní hodnoty'!$C$5)","v":0}]
[null,"2017-01-09T18:45:00",1,883.44,{"$f":"CEILING(IF(C846-C845=0,IF(H845=0,I845,IF(J845>K845,I845,E845)),'Výstupy modelu'!$C$7),1)","v":1664},0,0,{"$f":"IF(F846=1,IF(G846>'Zdrojová data'!$C$19,0,1),\"\")","v":""},1664,0,{"$f":"MIN(J846,'Zdrojová data'!$C$17)","v":0},0,{"$f":"L846/'Zdrojová data'!$C$16","v":0},{"$f":"M846*'Zdrojová data'!$C$13","v":0},{"$f":"N846*'Zdrojová data'!$C$14","v":0},0,{"$f":"IF(H846=0,D846-'Výstupy modelu'!$C$7,IF(P846=1,J846-K846,0))","v":0},0,null,{"$f":"MAX(0,IF(Q846>0,Q846-('Výstupy modelu'!$H$10-'Výstupy modelu'!$H$9),0))","v":0},null,null,{"$f":"W845","v":1865.4300000000003},1885.4300000000003,0,{"$f":"MAX(0,D846-'Vstupní hodnoty'!$C$5)","v":0}]
[null,"2017-01-09T19:00:00",1,901.80000000000007,{"$f":"CEILING(IF(C847-C846=0,IF(H846=0,I846,IF(J846>K846,I846,E846)),'Výstupy modelu'!$C$7),1)","v":1664},0,0,{"$f":"IF(F847=1,IF(G847>'Zdrojová data'!$C$19,0,1),\"\")","v":""},1664,0,{"$f":"MIN(J847,'Zdrojová data'!$C$17)","v":0},0,{"$f":"L847/'Zdrojová data'!$C$16","v":0},{"$f":"M847*'Zdrojová data'!$C$13","v":0},{"$f":"N847*'Zdrojová data'!$C$14","v":0},0,{"$f":"IF(H847=0,D847-'Výstupy modelu'!$C$7,IF(P847=1,J847-K847,0))","v":0},0,null,{"$f":"MAX(0,IF(Q847>0,Q847-('Výstupy modelu'!$H$10-'Výstupy modelu'!$H$9),0))","v":0},null,null,{"$f":"W846","v":1865.4300000000003},1885.4300000000003,0,{"$f":"MAX(0,D847-'Vstupní hodnoty'!$C$5)","v":0}]
[null,"2017-01-09T19:15:00",1,898.56000000000006,{"$f":"CEILING(IF(C848-C847=0,IF(H847=0,I847,IF(J847>K847,I847,E847)),'Výstupy modelu'!$C$7),1)","v":1664},0,0,{"$f":"IF(F848=1,IF(G848>'Zdrojová data'!$C$19,0,1),\"\")","v":""},1664,0,{"$f":"MIN(J848,'Zdrojová data'!$C$17)","v":0},0,{"$f":"L848/'Zdrojová data'!$C$16","v":0},{"$f":"M848*'Zdrojová data'!$C$13","v":0},{"$f":"N848*'Zdrojová data'!$C$14","v":0},0,{"$f":"IF(H848=0,D848-'Výstupy modelu'!$C$7,IF(P848=1,J848-K848,0))","v":0},0,null,{"$f":"MAX(0,IF(Q848>0,Q848-('Výstupy modelu'!$H$10-'Výstupy modelu'!$H$9),0))","v":0},null,null,{"$f":"W847","v":1865.4300000000003},1885.4300000000003,0,{"$f":"MAX(0,D848-'Vstupní hodnoty'!$C$5)","v":0}]
[null,"2017-01-09T19:30:00",1,894.24,{"$f":"CEILING(IF(C849-C848=0,IF(H848=0,I848,IF(J848>K848,I848,E848)),'Výstupy modelu'!$C$7),1)","v":1664},0,0,{"$f":"IF(F849=1,IF(G849>'Zdrojová data'!$C$19,0,1),\"\")","v":""},1664,0,{"$f":"MIN(J849,'Zdrojová data'!$C$17)","v":0},0,{"$f":"L849/'Zdrojová data'!$C$16","v":0},{"$f":"M849*'Zdrojová data'!$C$13","v":0},{"$f":"N849*'Zdrojová data'!$C$14","v":0},0,{"$f":"IF(H849=0,D849-'Výstupy modelu'!$C$7,IF(P849=1,J849-K849,0))","v":0},0,null,{"$f":"MAX(0,IF(Q849>0,Q849-('Výstupy modelu'!$H$10-'Výstupy modelu'!$H$9),0))","v":0},null,null,{"$f":"W848","v":1865.4300000000003},1885.4300000000003,0,{"$f":"MAX(0,D849-'Vstupní hodnoty'!$C$5)","v":0}]
[null,"2017-01-09T19:45:00",1,899.6400000000001,{"$f":"CEILING(IF(C850-C849=0,IF(H849=0,I849,IF(J849>K849,I849,E849)),'Výstupy modelu'!$C$7),1)","v":1664},0,0,{"$f":"IF(F850=1,IF(G850>'Zdrojová data'!$C$19,0,1),\"\")","v":""},1664,0,{"$f":"MIN(J850,'Zdrojová data'!$C$17)","v":0},0,{"$f":"L850/'Zdrojová data'!$C$16","v":0},{"$f":"M850*'Zdrojová data'!$C$13","v":0},{"$f":"N850*'Zdrojová data'!$C$14","v":0},0,{"$f":"IF(H850=0,D850-'Výstupy modelu'!$C$7,IF(P850=1,J850-K850,0))","v":0},0,null,{"$f":"MAX(0,IF(Q850>0,Q850-('Výstupy modelu'!$H$10-'Výstupy modelu'!$H$9),0))","v":0},null,null,{"$f":"W849","v":1865.4300000000003},1885.4300000000003,0,{"$f":"MAX(0,D850-'Vstupní hodnoty'!$C$5)","v":0}]
[null,"2017-01-09T20:00:00",1,882.36,{"$f":"CEILING(IF(C851-C850=0,IF(H850=0,I850,IF(J850>K850,I850,E850)),'Výstupy modelu'!$C$7),1)","v":1664},0,0,{"$f":"IF(F851=1,IF(G851>'Zdrojová data'!$C$19,0,1),\"\")","v":""},1664,0,{"$f":"MIN(J851,'Zdrojová data'!$C$17)","v":0},0,{"$f":"L851/'Zdrojová data'!$C$16","v":0},{"$f":"M851*'Zdrojová data'!$C$13","v":0},{"$f":"N851*'Zdrojová data'!$C$14","v":0},0,{"$f":"IF(H851=0,D851-'Výstupy modelu'!$C$7,IF(P851=1,J851-K851,0))","v":0},0,null,{"$f":"MAX(0,IF(Q851>0,Q851-('Výstupy modelu'!$H$10-'Výstupy modelu'!$H$9),0))","v":0},null,null,{"$f":"W850","v":1865.4300000000003},1885.4300000000003,0,{"$f":"MAX(0,D851-'Vstupní hodnoty'!$C$5)","v":0}]
[null,"2017-01-09T20:15:00",1,814.32,{"$f":"CEILING(IF(C852-C851=0,IF(H851=0,I851,IF(J851>K851,I851,E851)),'Výstupy modelu'!$C$7),1)","v":1664},0,0,{"$f":"IF(F852=1,IF(G852>'Zdrojová data'!$C$19,0,1),\"\")","v":""},1664,0,{"$f":"MIN(J852,'Zdrojová data'!$C$17)","v":0},0,{"$f":"L852/'Zdrojová data'!$C$16","v":0},{"$f":"M852*'Zdrojová data'!$C$13","v":0},{"$f":"N852*'Zdrojová data'!$C$14","v":0},0,{"$f":"IF(H852=0,D852-'Výstupy modelu'!$C$7,IF(P852=1,J852-K852,0))","v":0},0,null,{"$f":"MAX(0,IF(Q852>0,Q852-('Výstupy modelu'!$H$10-'Výstupy modelu'!$H$9),0))","v":0},null,null,{"$f":"W851","v":1865.4300000000003},1885.4300000000003,0,{"$f":"MAX(0,D852-'Vstupní hodnoty'!$C$5)","v":0}]
[null,"2017-01-09T20:30:00",1,921.24,{"$f":"CEILING(IF(C853-C852=0,IF(H852=0,I852,IF(J852>K852,I852,E852)),'Výstupy modelu'!$C$7),1)","v":1664},0,0,{"$f":"IF(F853=1,IF(G853>'Zdrojová data'!$C$19,0,1),\"\")","v":""},1664,0,{"$f":"MIN(J853,'Zdrojová data'!$C$17)","v":0},0,{"$f":"L853/'Zdrojová data'!$C$16","v":0},{"$f":"M853*'Zdrojová data'!$C$13","v":0},{"$f":"N853*'Zdrojová data'!$C$14","v":0},0,{"$f":"IF(H853=0,D853-'Výstupy modelu'!$C$7,IF(P853=1,J853-K853,0))","v":0},0,null,{"$f":"MAX(0,IF(Q853>0,Q853-('Výstupy modelu'!$H$10-'Výstupy modelu'!$H$9),0))","v":0},null,null,{"$f":"W852","v":1865.4300000000003},1885.4300000000003,0,{"$f":"MAX(0,D853-'Vstupní hodnoty'!$C$5)","v":0}]
[null,"2017-01-09T20:45:00",1,888.84,{"$f":"CEILING(IF(C854-C853=0,IF(H853=0,I853,IF(J853>K853,I853,E853)),'Výstupy modelu'!$C$7),1)","v":1664},0,0,{"$f":"IF(F854=1,IF(G854>'Zdrojová data'!$C$19,0,1),\"\")","v":""},1664,0,{"$f":"MIN(J854,'Zdrojová data'!$C$17)","v":0},0,{"$f":"L854/'Zdrojová data'!$C$16","v":0},{"$f":"M854*'Zdrojová data'!$C$13","v":0},{"$f":"N854*'Zdrojová data'!$C$14","v":0},0,{"$f":"IF(H854=0,D854-'Výstupy modelu'!$C$7,IF(P854=1,J854-K854,0))","v":0},0,null,{"$f":"MAX(0,IF(Q854>0,Q854-('Výstupy modelu'!$H$10-'Výstupy modelu'!$H$9),0))","v":0},null,null,{"$f":"W853","v":1865.4300000000003},1885.4300000000003,0,{"$f":"MAX(0,D854-'Vstupní hodnoty'!$C$5)","v":0}]
[null,"2017-01-09T21:00:00",1,879.12,{"$f":"CEILING(IF(C855-C854=0,IF(H854=0,I854,IF(J854>K854,I854,E854)),'Výstupy modelu'!$C$7),1)","v":1664},0,0,{"$f":"IF(F855=1,IF(G855>'Zdrojová data'!$C$19,0,1),\"\")","v":""},1664,0,{"$f":"MIN(J855,'Zdrojová data'!$C$17)","v":0},0,{"$f":"L855/'Zdrojová data'!$C$16","v":0},{"$f":"M855*'Zdrojová data'!$C$13","v":0},{"$f":"N855*'Zdrojová data'!$C$14","v":0},0,{"$f":"IF(H855=0,D855-'Výstupy modelu'!$C$7,IF(P855=1,J855-K855,0))","v":0},0,null,{"$f":"MAX(0,IF(Q855>0,Q855-('Výstupy modelu'!$H$10-'Výstupy modelu'!$H$9),0))","v":0},null,null,{"$f":"W854","v":1865.4300000000003},1885.4300000000003,0,{"$f":"MAX(0,D855-'Vstupní hodnoty'!$C$5)","v":0}]
[null,"2017-01-09T21:15:00",1,787.32,{"$f":"CEILING(IF(C856-C855=0,IF(H855=0,I855,IF(J855>K855,I855,E855)),'Výstupy modelu'!$C$7),1)","v":1664},0,0,{"$f":"IF(F856=1,IF(G856>'Zdrojová data'!$C$19,0,1),\"\")","v":""},1664,0,{"$f":"MIN(J856,'Zdrojová data'!$C$17)","v":0},0,{"$f":"L856/'Zdrojová data'!$C$16","v":0},{"$f":"M856*'Zdrojová data'!$C$13","v":0},{"$f":"N856*'Zdrojová data'!$C$14","v":0},0,{"$f":"IF(H856=0,D856-'Výstupy modelu'!$C$7,IF(P856=1,J856-K856,0))","v":0},0,null,{"$f":"MAX(0,IF(Q856>0,Q856-('Výstupy modelu'!$H$10-'Výstupy modelu'!$H$9),0))","v":0},null,null,{"$f":"W855","v":1865.4300000000003},1885.4300000000003,0,{"$f":"MAX(0,D856-'Vstupní hodnoty'!$C$5)","v":0}]
[null,"2017-01-09T21:30:00",1,724.68000000000006,{"$f":"CEILING(IF(C857-C856=0,IF(H856=0,I856,IF(J856>K856,I856,E856)),'Výstupy modelu'!$C$7),1)","v":1664},0,0,{"$f":"IF(F857=1,IF(G857>'Zdrojová data'!$C$19,0,1),\"\")","v":""},1664,0,{"$f":"MIN(J857,'Zdrojová data'!$C$17)","v":0},0,{"$f":"L857/'Zdrojová data'!$C$16","v":0},{"$f":"M857*'Zdrojová data'!$C$13","v":0},{"$f":"N857*'Zdrojová data'!$C$14","v":0},0,{"$f":"IF(H857=0,D857-'Výstupy modelu'!$C$7,IF(P857=1,J857-K857,0))","v":0},0,null,{"$f":"MAX(0,IF(Q857>0,Q857-('Výstupy modelu'!$H$10-'Výstupy modelu'!$H$9),0))","v":0},null,null,{"$f":"W856","v":1865.4300000000003},1885.4300000000003,0,{"$f":"MAX(0,D857-'Vstupní hodnoty'!$C$5)","v":0}]
[null,"2017-01-09T21:45:00",1,677.16000000000008,{"$f":"CEILING(IF(C858-C857=0,IF(H857=0,I857,IF(J857>K857,I857,E857)),'Výstupy modelu'!$C$7),1)","v":1664},0,0,{"$f":"IF(F858=1,IF(G858>'Zdrojová data'!$C$19,0,1),\"\")","v":""},1664,0,{"$f":"MIN(J858,'Zdrojová data'!$C$17)","v":0},0,{"$f":"L858/'Zdrojová data'!$C$16","v":0},{"$f":"M858*'Zdrojová data'!$C$13","v":0},{"$f":"N858*'Zdrojová data'!$C$14","v":0},0,{"$f":"IF(H858=0,D858-'Výstupy modelu'!$C$7,IF(P858=1,J858-K858,0))","v":0},0,null,{"$f":"MAX(0,IF(Q858>0,Q858-('Výstupy modelu'!$H$10-'Výstupy modelu'!$H$9),0))","v":0},null,null,{"$f":"W857","v":1865.4300000000003},1885.4300000000003,0,{"$f":"MAX(0,D858-'Vstupní hodnoty'!$C$5)","v":0}]
[null,"2017-01-09T22:00:00",1,601.56000000000006,{"$f":"CEILING(IF(C859-C858=0,IF(H858=0,I858,IF(J858>K858,I858,E858)),'Výstupy modelu'!$C$7),1)","v":1664},0,0,{"$f":"IF(F859=1,IF(G859>'Zdrojová data'!$C$19,0,1),\"\")","v":""},1664,0,{"$f":"MIN(J859,'Zdrojová data'!$C$17)","v":0},0,{"$f":"L859/'Zdrojová data'!$C$16","v":0},{"$f":"M859*'Zdrojová data'!$C$13","v":0},{"$f":"N859*'Zdrojová data'!$C$14","v":0},0,{"$f":"IF(H859=0,D859-'Výstupy modelu'!$C$7,IF(P859=1,J859-K859,0))","v":0},0,null,{"$f":"MAX(0,IF(Q859>0,Q859-('Výstupy modelu'!$H$10-'Výstupy modelu'!$H$9),0))","v":0},null,null,{"$f":"W858","v":1865.4300000000003},1885.4300000000003,0,{"$f":"MAX(0,D859-'Vstupní hodnoty'!$C$5)","v":0}]
[null,"2017-01-09T22:15:00",1,480.6,{"$f":"CEILING(IF(C860-C859=0,IF(H859=0,I859,IF(J859>K859,I859,E859)),'Výstupy modelu'!$C$7),1)","v":1664},0,0,{"$f":"IF(F860=1,IF(G860>'Zdrojová data'!$C$19,0,1),\"\")","v":""},1664,0,{"$f":"MIN(J860,'Zdrojová data'!$C$17)","v":0},0,{"$f":"L860/'Zdrojová data'!$C$16","v":0},{"$f":"M860*'Zdrojová data'!$C$13","v":0},{"$f":"N860*'Zdrojová data'!$C$14","v":0},0,{"$f":"IF(H860=0,D860-'Výstupy modelu'!$C$7,IF(P860=1,J860-K860,0))","v":0},0,null,{"$f":"MAX(0,IF(Q860>0,Q860-('Výstupy modelu'!$H$10-'Výstupy modelu'!$H$9),0))","v":0},null,null,{"$f":"W859","v":1865.4300000000003},1885.4300000000003,0,{"$f":"MAX(0,D860-'Vstupní hodnoty'!$C$5)","v":0}]
[null,"2017-01-09T22:30:00",1,465.48,{"$f":"CEILING(IF(C861-C860=0,IF(H860=0,I860,IF(J860>K860,I860,E860)),'Výstupy modelu'!$C$7),1)","v":1664},0,0,{"$f":"IF(F861=1,IF(G861>'Zdrojová data'!$C$19,0,1),\"\")","v":""},1664,0,{"$f":"MIN(J861,'Zdrojová data'!$C$17)","v":0},0,{"$f":"L861/'Zdrojová data'!$C$16","v":0},{"$f":"M861*'Zdrojová data'!$C$13","v":0},{"$f":"N861*'Zdrojová data'!$C$14","v":0},0,{"$f":"IF(H861=0,D861-'Výstupy modelu'!$C$7,IF(P861=1,J861-K861,0))","v":0},0,null,{"$f":"MAX(0,IF(Q861>0,Q861-('Výstupy modelu'!$H$10-'Výstupy modelu'!$H$9),0))","v":0},null,null,{"$f":"W860","v":1865.4300000000003},1885.4300000000003,0,{"$f":"MAX(0,D861-'Vstupní hodnoty'!$C$5)","v":0}]
[null,"2017-01-09T22:45:00",1,464.40000000000003,{"$f":"CEILING(IF(C862-C861=0,IF(H861=0,I861,IF(J861>K861,I861,E861)),'Výstupy modelu'!$C$7),1)","v":1664},0,0,{"$f":"IF(F862=1,IF(G862>'Zdrojová data'!$C$19,0,1),\"\")","v":""},1664,0,{"$f":"MIN(J862,'Zdrojová data'!$C$17)","v":0},0,{"$f":"L862/'Zdrojová data'!$C$16","v":0},{"$f":"M862*'Zdrojová data'!$C$13","v":0},{"$f":"N862*'Zdrojová data'!$C$14","v":0},0,{"$f":"IF(H862=0,D862-'Výstupy modelu'!$C$7,IF(P862=1,J862-K862,0))","v":0},0,null,{"$f":"MAX(0,IF(Q862>0,Q862-('Výstupy modelu'!$H$10-'Výstupy modelu'!$H$9),0))","v":0},null,null,{"$f":"W861","v":1865.4300000000003},1885.4300000000003,0,{"$f":"MAX(0,D862-'Vstupní hodnoty'!$C$5)","v":0}]
[null,"2017-01-09T23:00:00",1,456.84000000000003,{"$f":"CEILING(IF(C863-C862=0,IF(H862=0,I862,IF(J862>K862,I862,E862)),'Výstupy modelu'!$C$7),1)","v":1664},0,0,{"$f":"IF(F863=1,IF(G863>'Zdrojová data'!$C$19,0,1),\"\")","v":""},1664,0,{"$f":"MIN(J863,'Zdrojová data'!$C$17)","v":0},0,{"$f":"L863/'Zdrojová data'!$C$16","v":0},{"$f":"M863*'Zdrojová data'!$C$13","v":0},{"$f":"N863*'Zdrojová data'!$C$14","v":0},0,{"$f":"IF(H863=0,D863-'Výstupy modelu'!$C$7,IF(P863=1,J863-K863,0))","v":0},0,null,{"$f":"MAX(0,IF(Q863>0,Q863-('Výstupy modelu'!$H$10-'Výstupy modelu'!$H$9),0))","v":0},null,null,{"$f":"W862","v":1865.4300000000003},1885.4300000000003,0,{"$f":"MAX(0,D863-'Vstupní hodnoty'!$C$5)","v":0}]
[null,"2017-01-09T23:15:00",1,449.28000000000003,{"$f":"CEILING(IF(C864-C863=0,IF(H863=0,I863,IF(J863>K863,I863,E863)),'Výstupy modelu'!$C$7),1)","v":1664},0,0,{"$f":"IF(F864=1,IF(G864>'Zdrojová data'!$C$19,0,1),\"\")","v":""},1664,0,{"$f":"MIN(J864,'Zdrojová data'!$C$17)","v":0},0,{"$f":"L864/'Zdrojová data'!$C$16","v":0},{"$f":"M864*'Zdrojová data'!$C$13","v":0},{"$f":"N864*'Zdrojová data'!$C$14","v":0},0,{"$f":"IF(H864=0,D864-'Výstupy modelu'!$C$7,IF(P864=1,J864-K864,0))","v":0},0,null,{"$f":"MAX(0,IF(Q864>0,Q864-('Výstupy modelu'!$H$10-'Výstupy modelu'!$H$9),0))","v":0},null,null,{"$f":"W863","v":1865.4300000000003},1885.4300000000003,0,{"$f":"MAX(0,D864-'Vstupní hodnoty'!$C$5)","v":0}]
[null,"2017-01-09T23:30:00",1,453.6,{"$f":"CEILING(IF(C865-C864=0,IF(H864=0,I864,IF(J864>K864,I864,E864)),'Výstupy modelu'!$C$7),1)","v":1664},0,0,{"$f":"IF(F865=1,IF(G865>'Zdrojová data'!$C$19,0,1),\"\")","v":""},1664,0,{"$f":"MIN(J865,'Zdrojová data'!$C$17)","v":0},0,{"$f":"L865/'Zdrojová data'!$C$16","v":0},{"$f":"M865*'Zdrojová data'!$C$13","v":0},{"$f":"N865*'Zdrojová data'!$C$14","v":0},0,{"$f":"IF(H865=0,D865-'Výstupy modelu'!$C$7,IF(P865=1,J865-K865,0))","v":0},0,null,{"$f":"MAX(0,IF(Q865>0,Q865-('Výstupy modelu'!$H$10-'Výstupy modelu'!$H$9),0))","v":0},null,null,{"$f":"W864","v":1865.4300000000003},1885.4300000000003,0,{"$f":"MAX(0,D865-'Vstupní hodnoty'!$C$5)","v":0}]
[null,"2017-01-09T23:45:00",1,434.16,{"$f":"CEILING(IF(C866-C865=0,IF(H865=0,I865,IF(J865>K865,I865,E865)),'Výstupy modelu'!$C$7),1)","v":1664},0,0,{"$f":"IF(F866=1,IF(G866>'Zdrojová data'!$C$19,0,1),\"\")","v":""},1664,0,{"$f":"MIN(J866,'Zdrojová data'!$C$17)","v":0},0,{"$f":"L866/'Zdrojová data'!$C$16","v":0},{"$f":"M866*'Zdrojová data'!$C$13","v":0},{"$f":"N866*'Zdrojová data'!$C$14","v":0},0,{"$f":"IF(H866=0,D866-'Výstupy modelu'!$C$7,IF(P866=1,J866-K866,0))","v":0},0,null,{"$f":"MAX(0,IF(Q866>0,Q866-('Výstupy modelu'!$H$10-'Výstupy modelu'!$H$9),0))","v":0},null,null,{"$f":"W865","v":1865.4300000000003},1885.4300000000003,0,{"$f":"MAX(0,D866-'Vstupní hodnoty'!$C$5)","v":0}]
[null,"2017-01-10",1,407.16,{"$f":"CEILING(IF(C867-C866=0,IF(H866=0,I866,IF(J866>K866,I866,E866)),'Výstupy modelu'!$C$7),1)","v":1664},0,0,{"$f":"IF(F867=1,IF(G867>'Zdrojová data'!$C$19,0,1),\"\")","v":""},1664,0,{"$f":"MIN(J867,'Zdrojová data'!$C$17)","v":0},0,{"$f":"L867/'Zdrojová data'!$C$16","v":0},{"$f":"M867*'Zdrojová data'!$C$13","v":0},{"$f":"N867*'Zdrojová data'!$C$14","v":0},0,{"$f":"IF(H867=0,D867-'Výstupy modelu'!$C$7,IF(P867=1,J867-K867,0))","v":0},0,null,{"$f":"MAX(0,IF(Q867>0,Q867-('Výstupy modelu'!$H$10-'Výstupy modelu'!$H$9),0))","v":0},null,null,{"$f":"W866","v":1865.4300000000003},1885.4300000000003,0,{"$f":"MAX(0,D867-'Vstupní hodnoty'!$C$5)","v":0}]
[null,"2017-01-10T00:15:00",1,392.04,{"$f":"CEILING(IF(C868-C867=0,IF(H867=0,I867,IF(J867>K867,I867,E867)),'Výstupy modelu'!$C$7),1)","v":1664},0,0,{"$f":"IF(F868=1,IF(G868>'Zdrojová data'!$C$19,0,1),\"\")","v":""},1664,0,{"$f":"MIN(J868,'Zdrojová data'!$C$17)","v":0},0,{"$f":"L868/'Zdrojová data'!$C$16","v":0},{"$f":"M868*'Zdrojová data'!$C$13","v":0},{"$f":"N868*'Zdrojová data'!$C$14","v":0},0,{"$f":"IF(H868=0,D868-'Výstupy modelu'!$C$7,IF(P868=1,J868-K868,0))","v":0},0,null,{"$f":"MAX(0,IF(Q868>0,Q868-('Výstupy modelu'!$H$10-'Výstupy modelu'!$H$9),0))","v":0},null,null,{"$f":"W867","v":1865.4300000000003},1885.4300000000003,0,{"$f":"MAX(0,D868-'Vstupní hodnoty'!$C$5)","v":0}]
[null,"2017-01-10T00:30:00",1,426.6,{"$f":"CEILING(IF(C869-C868=0,IF(H868=0,I868,IF(J868>K868,I868,E868)),'Výstupy modelu'!$C$7),1)","v":1664},0,0,{"$f":"IF(F869=1,IF(G869>'Zdrojová data'!$C$19,0,1),\"\")","v":""},1664,0,{"$f":"MIN(J869,'Zdrojová data'!$C$17)","v":0},0,{"$f":"L869/'Zdrojová data'!$C$16","v":0},{"$f":"M869*'Zdrojová data'!$C$13","v":0},{"$f":"N869*'Zdrojová data'!$C$14","v":0},0,{"$f":"IF(H869=0,D869-'Výstupy modelu'!$C$7,IF(P869=1,J869-K869,0))","v":0},0,null,{"$f":"MAX(0,IF(Q869>0,Q869-('Výstupy modelu'!$H$10-'Výstupy modelu'!$H$9),0))","v":0},null,null,{"$f":"W868","v":1865.4300000000003},1885.4300000000003,0,{"$f":"MAX(0,D869-'Vstupní hodnoty'!$C$5)","v":0}]
[null,"2017-01-10T00:45:00",1,454.68,{"$f":"CEILING(IF(C870-C869=0,IF(H869=0,I869,IF(J869>K869,I869,E869)),'Výstupy modelu'!$C$7),1)","v":1664},0,0,{"$f":"IF(F870=1,IF(G870>'Zdrojová data'!$C$19,0,1),\"\")","v":""},1664,0,{"$f":"MIN(J870,'Zdrojová data'!$C$17)","v":0},0,{"$f":"L870/'Zdrojová data'!$C$16","v":0},{"$f":"M870*'Zdrojová data'!$C$13","v":0},{"$f":"N870*'Zdrojová data'!$C$14","v":0},0,{"$f":"IF(H870=0,D870-'Výstupy modelu'!$C$7,IF(P870=1,J870-K870,0))","v":0},0,null,{"$f":"MAX(0,IF(Q870>0,Q870-('Výstupy modelu'!$H$10-'Výstupy modelu'!$H$9),0))","v":0},null,null,{"$f":"W869","v":1865.4300000000003},1885.4300000000003,0,{"$f":"MAX(0,D870-'Vstupní hodnoty'!$C$5)","v":0}]
[null,"2017-01-10T01:00:00",1,451.44000000000005,{"$f":"CEILING(IF(C871-C870=0,IF(H870=0,I870,IF(J870>K870,I870,E870)),'Výstupy modelu'!$C$7),1)","v":1664},0,0,{"$f":"IF(F871=1,IF(G871>'Zdrojová data'!$C$19,0,1),\"\")","v":""},1664,0,{"$f":"MIN(J871,'Zdrojová data'!$C$17)","v":0},0,{"$f":"L871/'Zdrojová data'!$C$16","v":0},{"$f":"M871*'Zdrojová data'!$C$13","v":0},{"$f":"N871*'Zdrojová data'!$C$14","v":0},0,{"$f":"IF(H871=0,D871-'Výstupy modelu'!$C$7,IF(P871=1,J871-K871,0))","v":0},0,null,{"$f":"MAX(0,IF(Q871>0,Q871-('Výstupy modelu'!$H$10-'Výstupy modelu'!$H$9),0))","v":0},null,null,{"$f":"W870","v":1865.4300000000003},1885.4300000000003,0,{"$f":"MAX(0,D871-'Vstupní hodnoty'!$C$5)","v":0}]
[null,"2017-01-10T01:15:00",1,467.64000000000004,{"$f":"CEILING(IF(C872-C871=0,IF(H871=0,I871,IF(J871>K871,I871,E871)),'Výstupy modelu'!$C$7),1)","v":1664},0,0,{"$f":"IF(F872=1,IF(G872>'Zdrojová data'!$C$19,0,1),\"\")","v":""},1664,0,{"$f":"MIN(J872,'Zdrojová data'!$C$17)","v":0},0,{"$f":"L872/'Zdrojová data'!$C$16","v":0},{"$f":"M872*'Zdrojová data'!$C$13","v":0},{"$f":"N872*'Zdrojová data'!$C$14","v":0},0,{"$f":"IF(H872=0,D872-'Výstupy modelu'!$C$7,IF(P872=1,J872-K872,0))","v":0},0,null,{"$f":"MAX(0,IF(Q872>0,Q872-('Výstupy modelu'!$H$10-'Výstupy modelu'!$H$9),0))","v":0},null,null,{"$f":"W871","v":1865.4300000000003},1885.4300000000003,0,{"$f":"MAX(0,D872-'Vstupní hodnoty'!$C$5)","v":0}]
[null,"2017-01-10T01:30:00",1,513,{"$f":"CEILING(IF(C873-C872=0,IF(H872=0,I872,IF(J872>K872,I872,E872)),'Výstupy modelu'!$C$7),1)","v":1664},0,0,{"$f":"IF(F873=1,IF(G873>'Zdrojová data'!$C$19,0,1),\"\")","v":""},1664,0,{"$f":"MIN(J873,'Zdrojová data'!$C$17)","v":0},0,{"$f":"L873/'Zdrojová data'!$C$16","v":0},{"$f":"M873*'Zdrojová data'!$C$13","v":0},{"$f":"N873*'Zdrojová data'!$C$14","v":0},0,{"$f":"IF(H873=0,D873-'Výstupy modelu'!$C$7,IF(P873=1,J873-K873,0))","v":0},0,null,{"$f":"MAX(0,IF(Q873>0,Q873-('Výstupy modelu'!$H$10-'Výstupy modelu'!$H$9),0))","v":0},null,null,{"$f":"W872","v":1865.4300000000003},1885.4300000000003,0,{"$f":"MAX(0,D873-'Vstupní hodnoty'!$C$5)","v":0}]
[null,"2017-01-10T01:45:00",1,454.68,{"$f":"CEILING(IF(C874-C873=0,IF(H873=0,I873,IF(J873>K873,I873,E873)),'Výstupy modelu'!$C$7),1)","v":1664},0,0,{"$f":"IF(F874=1,IF(G874>'Zdrojová data'!$C$19,0,1),\"\")","v":""},1664,0,{"$f":"MIN(J874,'Zdrojová data'!$C$17)","v":0},0,{"$f":"L874/'Zdrojová data'!$C$16","v":0},{"$f":"M874*'Zdrojová data'!$C$13","v":0},{"$f":"N874*'Zdrojová data'!$C$14","v":0},0,{"$f":"IF(H874=0,D874-'Výstupy modelu'!$C$7,IF(P874=1,J874-K874,0))","v":0},0,null,{"$f":"MAX(0,IF(Q874>0,Q874-('Výstupy modelu'!$H$10-'Výstupy modelu'!$H$9),0))","v":0},null,null,{"$f":"W873","v":1865.4300000000003},1885.4300000000003,0,{"$f":"MAX(0,D874-'Vstupní hodnoty'!$C$5)","v":0}]
[null,"2017-01-10T02:00:00",1,443.88000000000005,{"$f":"CEILING(IF(C875-C874=0,IF(H874=0,I874,IF(J874>K874,I874,E874)),'Výstupy modelu'!$C$7),1)","v":1664},0,0,{"$f":"IF(F875=1,IF(G875>'Zdrojová data'!$C$19,0,1),\"\")","v":""},1664,0,{"$f":"MIN(J875,'Zdrojová data'!$C$17)","v":0},0,{"$f":"L875/'Zdrojová data'!$C$16","v":0},{"$f":"M875*'Zdrojová data'!$C$13","v":0},{"$f":"N875*'Zdrojová data'!$C$14","v":0},0,{"$f":"IF(H875=0,D875-'Výstupy modelu'!$C$7,IF(P875=1,J875-K875,0))","v":0},0,null,{"$f":"MAX(0,IF(Q875>0,Q875-('Výstupy modelu'!$H$10-'Výstupy modelu'!$H$9),0))","v":0},null,null,{"$f":"W874","v":1865.4300000000003},1885.4300000000003,0,{"$f":"MAX(0,D875-'Vstupní hodnoty'!$C$5)","v":0}]
[null,"2017-01-10T02:15:00",1,451.44000000000005,{"$f":"CEILING(IF(C876-C875=0,IF(H875=0,I875,IF(J875>K875,I875,E875)),'Výstupy modelu'!$C$7),1)","v":1664},0,0,{"$f":"IF(F876=1,IF(G876>'Zdrojová data'!$C$19,0,1),\"\")","v":""},1664,0,{"$f":"MIN(J876,'Zdrojová data'!$C$17)","v":0},0,{"$f":"L876/'Zdrojová data'!$C$16","v":0},{"$f":"M876*'Zdrojová data'!$C$13","v":0},{"$f":"N876*'Zdrojová data'!$C$14","v":0},0,{"$f":"IF(H876=0,D876-'Výstupy modelu'!$C$7,IF(P876=1,J876-K876,0))","v":0},0,null,{"$f":"MAX(0,IF(Q876>0,Q876-('Výstupy modelu'!$H$10-'Výstupy modelu'!$H$9),0))","v":0},null,null,{"$f":"W875","v":1865.4300000000003},1885.4300000000003,0,{"$f":"MAX(0,D876-'Vstupní hodnoty'!$C$5)","v":0}]
[null,"2017-01-10T02:30:00",1,450.36,{"$f":"CEILING(IF(C877-C876=0,IF(H876=0,I876,IF(J876>K876,I876,E876)),'Výstupy modelu'!$C$7),1)","v":1664},0,0,{"$f":"IF(F877=1,IF(G877>'Zdrojová data'!$C$19,0,1),\"\")","v":""},1664,0,{"$f":"MIN(J877,'Zdrojová data'!$C$17)","v":0},0,{"$f":"L877/'Zdrojová data'!$C$16","v":0},{"$f":"M877*'Zdrojová data'!$C$13","v":0},{"$f":"N877*'Zdrojová data'!$C$14","v":0},0,{"$f":"IF(H877=0,D877-'Výstupy modelu'!$C$7,IF(P877=1,J877-K877,0))","v":0},0,null,{"$f":"MAX(0,IF(Q877>0,Q877-('Výstupy modelu'!$H$10-'Výstupy modelu'!$H$9),0))","v":0},null,null,{"$f":"W876","v":1865.4300000000003},1885.4300000000003,0,{"$f":"MAX(0,D877-'Vstupní hodnoty'!$C$5)","v":0}]
[null,"2017-01-10T02:45:00",1,448.20000000000005,{"$f":"CEILING(IF(C878-C877=0,IF(H877=0,I877,IF(J877>K877,I877,E877)),'Výstupy modelu'!$C$7),1)","v":1664},0,0,{"$f":"IF(F878=1,IF(G878>'Zdrojová data'!$C$19,0,1),\"\")","v":""},1664,0,{"$f":"MIN(J878,'Zdrojová data'!$C$17)","v":0},0,{"$f":"L878/'Zdrojová data'!$C$16","v":0},{"$f":"M878*'Zdrojová data'!$C$13","v":0},{"$f":"N878*'Zdrojová data'!$C$14","v":0},0,{"$f":"IF(H878=0,D878-'Výstupy modelu'!$C$7,IF(P878=1,J878-K878,0))","v":0},0,null,{"$f":"MAX(0,IF(Q878>0,Q878-('Výstupy modelu'!$H$10-'Výstupy modelu'!$H$9),0))","v":0},null,null,{"$f":"W877","v":1865.4300000000003},1885.4300000000003,0,{"$f":"MAX(0,D878-'Vstupní hodnoty'!$C$5)","v":0}]
[null,"2017-01-10T03:00:00",1,486.00000000000006,{"$f":"CEILING(IF(C879-C878=0,IF(H878=0,I878,IF(J878>K878,I878,E878)),'Výstupy modelu'!$C$7),1)","v":1664},0,0,{"$f":"IF(F879=1,IF(G879>'Zdrojová data'!$C$19,0,1),\"\")","v":""},1664,0,{"$f":"MIN(J879,'Zdrojová data'!$C$17)","v":0},0,{"$f":"L879/'Zdrojová data'!$C$16","v":0},{"$f":"M879*'Zdrojová data'!$C$13","v":0},{"$f":"N879*'Zdrojová data'!$C$14","v":0},0,{"$f":"IF(H879=0,D879-'Výstupy modelu'!$C$7,IF(P879=1,J879-K879,0))","v":0},0,null,{"$f":"MAX(0,IF(Q879>0,Q879-('Výstupy modelu'!$H$10-'Výstupy modelu'!$H$9),0))","v":0},null,null,{"$f":"W878","v":1865.4300000000003},1885.4300000000003,0,{"$f":"MAX(0,D879-'Vstupní hodnoty'!$C$5)","v":0}]
[null,"2017-01-10T03:15:00",1,489.24,{"$f":"CEILING(IF(C880-C879=0,IF(H879=0,I879,IF(J879>K879,I879,E879)),'Výstupy modelu'!$C$7),1)","v":1664},0,0,{"$f":"IF(F880=1,IF(G880>'Zdrojová data'!$C$19,0,1),\"\")","v":""},1664,0,{"$f":"MIN(J880,'Zdrojová data'!$C$17)","v":0},0,{"$f":"L880/'Zdrojová data'!$C$16","v":0},{"$f":"M880*'Zdrojová data'!$C$13","v":0},{"$f":"N880*'Zdrojová data'!$C$14","v":0},0,{"$f":"IF(H880=0,D880-'Výstupy modelu'!$C$7,IF(P880=1,J880-K880,0))","v":0},0,null,{"$f":"MAX(0,IF(Q880>0,Q880-('Výstupy modelu'!$H$10-'Výstupy modelu'!$H$9),0))","v":0},null,null,{"$f":"W879","v":1865.4300000000003},1885.4300000000003,0,{"$f":"MAX(0,D880-'Vstupní hodnoty'!$C$5)","v":0}]
[null,"2017-01-10T03:30:00",1,476.28000000000003,{"$f":"CEILING(IF(C881-C880=0,IF(H880=0,I880,IF(J880>K880,I880,E880)),'Výstupy modelu'!$C$7),1)","v":1664},0,0,{"$f":"IF(F881=1,IF(G881>'Zdrojová data'!$C$19,0,1),\"\")","v":""},1664,0,{"$f":"MIN(J881,'Zdrojová data'!$C$17)","v":0},0,{"$f":"L881/'Zdrojová data'!$C$16","v":0},{"$f":"M881*'Zdrojová data'!$C$13","v":0},{"$f":"N881*'Zdrojová data'!$C$14","v":0},0,{"$f":"IF(H881=0,D881-'Výstupy modelu'!$C$7,IF(P881=1,J881-K881,0))","v":0},0,null,{"$f":"MAX(0,IF(Q881>0,Q881-('Výstupy modelu'!$H$10-'Výstupy modelu'!$H$9),0))","v":0},null,null,{"$f":"W880","v":1865.4300000000003},1885.4300000000003,{"$f":"MAX(0,D881-W881)","v":0},{"$f":"MAX(0,D881-'Vstupní hodnoty'!$C$5)","v":0}]
[null,"2017-01-10T03:45:00",1,470.88000000000005,{"$f":"CEILING(IF(C882-C881=0,IF(H881=0,I881,IF(J881>K881,I881,E881)),'Výstupy modelu'!$C$7),1)","v":1664},0,0,{"$f":"IF(F882=1,IF(G882>'Zdrojová data'!$C$19,0,1),\"\")","v":""},1664,0,{"$f":"MIN(J882,'Zdrojová data'!$C$17)","v":0},0,{"$f":"L882/'Zdrojová data'!$C$16","v":0},{"$f":"M882*'Zdrojová data'!$C$13","v":0},{"$f":"N882*'Zdrojová data'!$C$14","v":0},0,{"$f":"IF(H882=0,D882-'Výstupy modelu'!$C$7,IF(P882=1,J882-K882,0))","v":0},0,null,{"$f":"MAX(0,IF(Q882>0,Q882-('Výstupy modelu'!$H$10-'Výstupy modelu'!$H$9),0))","v":0},null,null,{"$f":"W881","v":1865.4300000000003},1885.4300000000003,0,{"$f":"MAX(0,D882-'Vstupní hodnoty'!$C$5)","v":0}]
[null,"2017-01-10T04:00:00",1,447.12,{"$f":"CEILING(IF(C883-C882=0,IF(H882=0,I882,IF(J882>K882,I882,E882)),'Výstupy modelu'!$C$7),1)","v":1664},0,0,{"$f":"IF(F883=1,IF(G883>'Zdrojová data'!$C$19,0,1),\"\")","v":""},1664,0,{"$f":"MIN(J883,'Zdrojová data'!$C$17)","v":0},0,{"$f":"L883/'Zdrojová data'!$C$16","v":0},{"$f":"M883*'Zdrojová data'!$C$13","v":0},{"$f":"N883*'Zdrojová data'!$C$14","v":0},0,{"$f":"IF(H883=0,D883-'Výstupy modelu'!$C$7,IF(P883=1,J883-K883,0))","v":0},0,null,{"$f":"MAX(0,IF(Q883>0,Q883-('Výstupy modelu'!$H$10-'Výstupy modelu'!$H$9),0))","v":0},null,null,{"$f":"W882","v":1865.4300000000003},1885.4300000000003,0,{"$f":"MAX(0,D883-'Vstupní hodnoty'!$C$5)","v":0}]
[null,"2017-01-10T04:15:00",1,507.6,{"$f":"CEILING(IF(C884-C883=0,IF(H883=0,I883,IF(J883>K883,I883,E883)),'Výstupy modelu'!$C$7),1)","v":1664},0,0,{"$f":"IF(F884=1,IF(G884>'Zdrojová data'!$C$19,0,1),\"\")","v":""},1664,0,{"$f":"MIN(J884,'Zdrojová data'!$C$17)","v":0},0,{"$f":"L884/'Zdrojová data'!$C$16","v":0},{"$f":"M884*'Zdrojová data'!$C$13","v":0},{"$f":"N884*'Zdrojová data'!$C$14","v":0},0,{"$f":"IF(H884=0,D884-'Výstupy modelu'!$C$7,IF(P884=1,J884-K884,0))","v":0},0,null,{"$f":"MAX(0,IF(Q884>0,Q884-('Výstupy modelu'!$H$10-'Výstupy modelu'!$H$9),0))","v":0},null,null,{"$f":"W883","v":1865.4300000000003},1885.4300000000003,0,{"$f":"MAX(0,D884-'Vstupní hodnoty'!$C$5)","v":0}]
[null,"2017-01-10T04:30:00",1,504.36,{"$f":"CEILING(IF(C885-C884=0,IF(H884=0,I884,IF(J884>K884,I884,E884)),'Výstupy modelu'!$C$7),1)","v":1664},0,0,{"$f":"IF(F885=1,IF(G885>'Zdrojová data'!$C$19,0,1),\"\")","v":""},1664,0,{"$f":"MIN(J885,'Zdrojová data'!$C$17)","v":0},0,{"$f":"L885/'Zdrojová data'!$C$16","v":0},{"$f":"M885*'Zdrojová data'!$C$13","v":0},{"$f":"N885*'Zdrojová data'!$C$14","v":0},0,{"$f":"IF(H885=0,D885-'Výstupy modelu'!$C$7,IF(P885=1,J885-K885,0))","v":0},0,null,{"$f":"MAX(0,IF(Q885>0,Q885-('Výstupy modelu'!$H$10-'Výstupy modelu'!$H$9),0))","v":0},null,null,{"$f":"W884","v":1865.4300000000003},1885.4300000000003,0,{"$f":"MAX(0,D885-'Vstupní hodnoty'!$C$5)","v":0}]
[null,"2017-01-10T04:45:00",1,457.92,{"$f":"CEILING(IF(C886-C885=0,IF(H885=0,I885,IF(J885>K885,I885,E885)),'Výstupy modelu'!$C$7),1)","v":1664},0,0,{"$f":"IF(F886=1,IF(G886>'Zdrojová data'!$C$19,0,1),\"\")","v":""},1664,0,{"$f":"MIN(J886,'Zdrojová data'!$C$17)","v":0},0,{"$f":"L886/'Zdrojová data'!$C$16","v":0},{"$f":"M886*'Zdrojová data'!$C$13","v":0},{"$f":"N886*'Zdrojová data'!$C$14","v":0},0,{"$f":"IF(H886=0,D886-'Výstupy modelu'!$C$7,IF(P886=1,J886-K886,0))","v":0},0,null,{"$f":"MAX(0,IF(Q886>0,Q886-('Výstupy modelu'!$H$10-'Výstupy modelu'!$H$9),0))","v":0},null,null,{"$f":"W885","v":1865.4300000000003},1885.4300000000003,0,{"$f":"MAX(0,D886-'Vstupní hodnoty'!$C$5)","v":0}]
[null,"2017-01-10T05:00:00",1,525.96,{"$f":"CEILING(IF(C887-C886=0,IF(H886=0,I886,IF(J886>K886,I886,E886)),'Výstupy modelu'!$C$7),1)","v":1664},0,0,{"$f":"IF(F887=1,IF(G887>'Zdrojová data'!$C$19,0,1),\"\")","v":""},1664,0,{"$f":"MIN(J887,'Zdrojová data'!$C$17)","v":0},0,{"$f":"L887/'Zdrojová data'!$C$16","v":0},{"$f":"M887*'Zdrojová data'!$C$13","v":0},{"$f":"N887*'Zdrojová data'!$C$14","v":0},0,{"$f":"IF(H887=0,D887-'Výstupy modelu'!$C$7,IF(P887=1,J887-K887,0))","v":0},0,null,{"$f":"MAX(0,IF(Q887>0,Q887-('Výstupy modelu'!$H$10-'Výstupy modelu'!$H$9),0))","v":0},null,null,{"$f":"W886","v":1865.4300000000003},1885.4300000000003,0,{"$f":"MAX(0,D887-'Vstupní hodnoty'!$C$5)","v":0}]
[null,"2017-01-10T05:15:00",1,653.40000000000009,{"$f":"CEILING(IF(C888-C887=0,IF(H887=0,I887,IF(J887>K887,I887,E887)),'Výstupy modelu'!$C$7),1)","v":1664},0,0,{"$f":"IF(F888=1,IF(G888>'Zdrojová data'!$C$19,0,1),\"\")","v":""},1664,0,{"$f":"MIN(J888,'Zdrojová data'!$C$17)","v":0},0,{"$f":"L888/'Zdrojová data'!$C$16","v":0},{"$f":"M888*'Zdrojová data'!$C$13","v":0},{"$f":"N888*'Zdrojová data'!$C$14","v":0},0,{"$f":"IF(H888=0,D888-'Výstupy modelu'!$C$7,IF(P888=1,J888-K888,0))","v":0},0,null,{"$f":"MAX(0,IF(Q888>0,Q888-('Výstupy modelu'!$H$10-'Výstupy modelu'!$H$9),0))","v":0},null,null,{"$f":"W887","v":1865.4300000000003},1885.4300000000003,0,{"$f":"MAX(0,D888-'Vstupní hodnoty'!$C$5)","v":0}]
[null,"2017-01-10T05:30:00",1,712.80000000000007,{"$f":"CEILING(IF(C889-C888=0,IF(H888=0,I888,IF(J888>K888,I888,E888)),'Výstupy modelu'!$C$7),1)","v":1664},0,0,{"$f":"IF(F889=1,IF(G889>'Zdrojová data'!$C$19,0,1),\"\")","v":""},1664,0,{"$f":"MIN(J889,'Zdrojová data'!$C$17)","v":0},0,{"$f":"L889/'Zdrojová data'!$C$16","v":0},{"$f":"M889*'Zdrojová data'!$C$13","v":0},{"$f":"N889*'Zdrojová data'!$C$14","v":0},0,{"$f":"IF(H889=0,D889-'Výstupy modelu'!$C$7,IF(P889=1,J889-K889,0))","v":0},0,null,{"$f":"MAX(0,IF(Q889>0,Q889-('Výstupy modelu'!$H$10-'Výstupy modelu'!$H$9),0))","v":0},null,null,{"$f":"W888","v":1865.4300000000003},1885.4300000000003,0,{"$f":"MAX(0,D889-'Vstupní hodnoty'!$C$5)","v":0}]
[null,"2017-01-10T05:45:00",1,833.7600000000001,{"$f":"CEILING(IF(C890-C889=0,IF(H889=0,I889,IF(J889>K889,I889,E889)),'Výstupy modelu'!$C$7),1)","v":1664},0,0,{"$f":"IF(F890=1,IF(G890>'Zdrojová data'!$C$19,0,1),\"\")","v":""},1664,0,{"$f":"MIN(J890,'Zdrojová data'!$C$17)","v":0},0,{"$f":"L890/'Zdrojová data'!$C$16","v":0},{"$f":"M890*'Zdrojová data'!$C$13","v":0},{"$f":"N890*'Zdrojová data'!$C$14","v":0},0,{"$f":"IF(H890=0,D890-'Výstupy modelu'!$C$7,IF(P890=1,J890-K890,0))","v":0},0,null,{"$f":"MAX(0,IF(Q890>0,Q890-('Výstupy modelu'!$H$10-'Výstupy modelu'!$H$9),0))","v":0},null,null,{"$f":"W889","v":1865.4300000000003},1885.4300000000003,0,{"$f":"MAX(0,D890-'Vstupní hodnoty'!$C$5)","v":0}]
[null,"2017-01-10T06:00:00",1,1098.3600000000001,{"$f":"CEILING(IF(C891-C890=0,IF(H890=0,I890,IF(J890>K890,I890,E890)),'Výstupy modelu'!$C$7),1)","v":1664},0,0,{"$f":"IF(F891=1,IF(G891>'Zdrojová data'!$C$19,0,1),\"\")","v":""},1664,0,{"$f":"MIN(J891,'Zdrojová data'!$C$17)","v":0},0,{"$f":"L891/'Zdrojová data'!$C$16","v":0},{"$f":"M891*'Zdrojová data'!$C$13","v":0},{"$f":"N891*'Zdrojová data'!$C$14","v":0},0,{"$f":"IF(H891=0,D891-'Výstupy modelu'!$C$7,IF(P891=1,J891-K891,0))","v":0},0,null,{"$f":"MAX(0,IF(Q891>0,Q891-('Výstupy modelu'!$H$10-'Výstupy modelu'!$H$9),0))","v":0},null,null,{"$f":"W890","v":1865.4300000000003},1885.4300000000003,0,{"$f":"MAX(0,D891-'Vstupní hodnoty'!$C$5)","v":0}]
[null,"2017-01-10T06:15:00",1,1273.3200000000002,{"$f":"CEILING(IF(C892-C891=0,IF(H891=0,I891,IF(J891>K891,I891,E891)),'Výstupy modelu'!$C$7),1)","v":1664},0,0,{"$f":"IF(F892=1,IF(G892>'Zdrojová data'!$C$19,0,1),\"\")","v":""},1664,0,{"$f":"MIN(J892,'Zdrojová data'!$C$17)","v":0},0,{"$f":"L892/'Zdrojová data'!$C$16","v":0},{"$f":"M892*'Zdrojová data'!$C$13","v":0},{"$f":"N892*'Zdrojová data'!$C$14","v":0},0,{"$f":"IF(H892=0,D892-'Výstupy modelu'!$C$7,IF(P892=1,J892-K892,0))","v":0},0,null,{"$f":"MAX(0,IF(Q892>0,Q892-('Výstupy modelu'!$H$10-'Výstupy modelu'!$H$9),0))","v":0},null,null,{"$f":"W891","v":1865.4300000000003},1885.4300000000003,0,{"$f":"MAX(0,D892-'Vstupní hodnoty'!$C$5)","v":0}]
[null,"2017-01-10T06:30:00",1,1311.1200000000001,{"$f":"CEILING(IF(C893-C892=0,IF(H892=0,I892,IF(J892>K892,I892,E892)),'Výstupy modelu'!$C$7),1)","v":1664},0,0,{"$f":"IF(F893=1,IF(G893>'Zdrojová data'!$C$19,0,1),\"\")","v":""},1664,0,{"$f":"MIN(J893,'Zdrojová data'!$C$17)","v":0},0,{"$f":"L893/'Zdrojová data'!$C$16","v":0},{"$f":"M893*'Zdrojová data'!$C$13","v":0},{"$f":"N893*'Zdrojová data'!$C$14","v":0},0,{"$f":"IF(H893=0,D893-'Výstupy modelu'!$C$7,IF(P893=1,J893-K893,0))","v":0},0,null,{"$f":"MAX(0,IF(Q893>0,Q893-('Výstupy modelu'!$H$10-'Výstupy modelu'!$H$9),0))","v":0},null,null,{"$f":"W892","v":1865.4300000000003},1885.4300000000003,0,{"$f":"MAX(0,D893-'Vstupní hodnoty'!$C$5)","v":0}]
[null,"2017-01-10T06:45:00",1,1347.8400000000001,{"$f":"CEILING(IF(C894-C893=0,IF(H893=0,I893,IF(J893>K893,I893,E893)),'Výstupy modelu'!$C$7),1)","v":1664},0,0,{"$f":"IF(F894=1,IF(G894>'Zdrojová data'!$C$19,0,1),\"\")","v":""},1664,0,{"$f":"MIN(J894,'Zdrojová data'!$C$17)","v":0},0,{"$f":"L894/'Zdrojová data'!$C$16","v":0},{"$f":"M894*'Zdrojová data'!$C$13","v":0},{"$f":"N894*'Zdrojová data'!$C$14","v":0},0,{"$f":"IF(H894=0,D894-'Výstupy modelu'!$C$7,IF(P894=1,J894-K894,0))","v":0},0,null,{"$f":"MAX(0,IF(Q894>0,Q894-('Výstupy modelu'!$H$10-'Výstupy modelu'!$H$9),0))","v":0},null,null,{"$f":"W893","v":1865.4300000000003},1885.4300000000003,0,{"$f":"MAX(0,D894-'Vstupní hodnoty'!$C$5)","v":0}]
[null,"2017-01-10T07:00:00",1,1419.1200000000001,{"$f":"CEILING(IF(C895-C894=0,IF(H894=0,I894,IF(J894>K894,I894,E894)),'Výstupy modelu'!$C$7),1)","v":1664},0,0,{"$f":"IF(F895=1,IF(G895>'Zdrojová data'!$C$19,0,1),\"\")","v":""},1664,0,{"$f":"MIN(J895,'Zdrojová data'!$C$17)","v":0},0,{"$f":"L895/'Zdrojová data'!$C$16","v":0},{"$f":"M895*'Zdrojová data'!$C$13","v":0},{"$f":"N895*'Zdrojová data'!$C$14","v":0},0,{"$f":"IF(H895=0,D895-'Výstupy modelu'!$C$7,IF(P895=1,J895-K895,0))","v":0},0,null,{"$f":"MAX(0,IF(Q895>0,Q895-('Výstupy modelu'!$H$10-'Výstupy modelu'!$H$9),0))","v":0},null,null,{"$f":"W894","v":1865.4300000000003},1885.4300000000003,0,{"$f":"MAX(0,D895-'Vstupní hodnoty'!$C$5)","v":0}]
[null,"2017-01-10T07:15:00",1,1402.92,{"$f":"CEILING(IF(C896-C895=0,IF(H895=0,I895,IF(J895>K895,I895,E895)),'Výstupy modelu'!$C$7),1)","v":1664},0,0,{"$f":"IF(F896=1,IF(G896>'Zdrojová data'!$C$19,0,1),\"\")","v":""},1664,0,{"$f":"MIN(J896,'Zdrojová data'!$C$17)","v":0},0,{"$f":"L896/'Zdrojová data'!$C$16","v":0},{"$f":"M896*'Zdrojová data'!$C$13","v":0},{"$f":"N896*'Zdrojová data'!$C$14","v":0},0,{"$f":"IF(H896=0,D896-'Výstupy modelu'!$C$7,IF(P896=1,J896-K896,0))","v":0},0,null,{"$f":"MAX(0,IF(Q896>0,Q896-('Výstupy modelu'!$H$10-'Výstupy modelu'!$H$9),0))","v":0},null,null,{"$f":"W895","v":1865.4300000000003},1885.4300000000003,0,{"$f":"MAX(0,D896-'Vstupní hodnoty'!$C$5)","v":0}]
[null,"2017-01-10T07:30:00",1,1346.76,{"$f":"CEILING(IF(C897-C896=0,IF(H896=0,I896,IF(J896>K896,I896,E896)),'Výstupy modelu'!$C$7),1)","v":1664},0,0,{"$f":"IF(F897=1,IF(G897>'Zdrojová data'!$C$19,0,1),\"\")","v":""},1664,0,{"$f":"MIN(J897,'Zdrojová data'!$C$17)","v":0},0,{"$f":"L897/'Zdrojová data'!$C$16","v":0},{"$f":"M897*'Zdrojová data'!$C$13","v":0},{"$f":"N897*'Zdrojová data'!$C$14","v":0},0,{"$f":"IF(H897=0,D897-'Výstupy modelu'!$C$7,IF(P897=1,J897-K897,0))","v":0},0,null,{"$f":"MAX(0,IF(Q897>0,Q897-('Výstupy modelu'!$H$10-'Výstupy modelu'!$H$9),0))","v":0},null,null,{"$f":"W896","v":1865.4300000000003},1885.4300000000003,0,{"$f":"MAX(0,D897-'Vstupní hodnoty'!$C$5)","v":0}]
[null,"2017-01-10T07:45:00",1,1407.24,{"$f":"CEILING(IF(C898-C897=0,IF(H897=0,I897,IF(J897>K897,I897,E897)),'Výstupy modelu'!$C$7),1)","v":1664},0,0,{"$f":"IF(F898=1,IF(G898>'Zdrojová data'!$C$19,0,1),\"\")","v":""},1664,0,{"$f":"MIN(J898,'Zdrojová data'!$C$17)","v":0},0,{"$f":"L898/'Zdrojová data'!$C$16","v":0},{"$f":"M898*'Zdrojová data'!$C$13","v":0},{"$f":"N898*'Zdrojová data'!$C$14","v":0},0,{"$f":"IF(H898=0,D898-'Výstupy modelu'!$C$7,IF(P898=1,J898-K898,0))","v":0},0,null,{"$f":"MAX(0,IF(Q898>0,Q898-('Výstupy modelu'!$H$10-'Výstupy modelu'!$H$9),0))","v":0},null,null,{"$f":"W897","v":1865.4300000000003},1885.4300000000003,0,{"$f":"MAX(0,D898-'Vstupní hodnoty'!$C$5)","v":0}]
[null,"2017-01-10T08:00:00",1,1275.48,{"$f":"CEILING(IF(C899-C898=0,IF(H898=0,I898,IF(J898>K898,I898,E898)),'Výstupy modelu'!$C$7),1)","v":1664},0,0,{"$f":"IF(F899=1,IF(G899>'Zdrojová data'!$C$19,0,1),\"\")","v":""},1664,0,{"$f":"MIN(J899,'Zdrojová data'!$C$17)","v":0},0,{"$f":"L899/'Zdrojová data'!$C$16","v":0},{"$f":"M899*'Zdrojová data'!$C$13","v":0},{"$f":"N899*'Zdrojová data'!$C$14","v":0},0,{"$f":"IF(H899=0,D899-'Výstupy modelu'!$C$7,IF(P899=1,J899-K899,0))","v":0},0,null,{"$f":"MAX(0,IF(Q899>0,Q899-('Výstupy modelu'!$H$10-'Výstupy modelu'!$H$9),0))","v":0},null,null,{"$f":"W898","v":1865.4300000000003},1885.4300000000003,0,{"$f":"MAX(0,D899-'Vstupní hodnoty'!$C$5)","v":0}]
[null,"2017-01-10T08:15:00",1,1371.6000000000001,{"$f":"CEILING(IF(C900-C899=0,IF(H899=0,I899,IF(J899>K899,I899,E899)),'Výstupy modelu'!$C$7),1)","v":1664},{"$f":"IF(D900>E900,1,0)","v":0},0,{"$f":"IF(F900=1,IF(G900>'Zdrojová data'!$C$19,0,1),\"\")","v":""},{"$f":"IF(H900=0,D900,IF(J900>K900,E900+J900-K900,E900))","v":1664},{"$f":"IF(H900=1,D900-E900,0)","v":0},{"$f":"MIN(J900,'Zdrojová data'!$C$17)","v":0},0,{"$f":"L900/'Zdrojová data'!$C$16","v":0},{"$f":"M900*'Zdrojová data'!$C$13","v":0},{"$f":"N900*'Zdrojová data'!$C$14","v":0},0,{"$f":"IF(H900=0,D900-'Výstupy modelu'!$C$7,IF(P900=1,J900-K900,0))","v":0},0,null,{"$f":"MAX(0,IF(Q900>0,Q900-('Výstupy modelu'!$H$10-'Výstupy modelu'!$H$9),0))","v":0},null,null,{"$f":"W899","v":1865.4300000000003},1885.4300000000003,0,{"$f":"MAX(0,D900-'Vstupní hodnoty'!$C$5)","v":0}]
[null,"2017-01-10T08:30:00",{"$f":"MONTH(B901)","v":1},1442.88,{"$f":"CEILING(IF(C901-C900=0,IF(H900=0,I900,IF(J900>K900,I900,E900)),'Výstupy modelu'!$C$7),1)","v":1664},0,{"$f":"IF(F901=1,RANDBETWEEN(0,100),0)","v":0},{"$f":"IF(F901=1,IF(G901>'Zdrojová data'!$C$19,0,1),\"\")","v":""},1664,0,{"$f":"MIN(J901,'Zdrojová data'!$C$17)","v":0},{"$f":"K901/4","v":0},{"$f":"L901/'Zdrojová data'!$C$16","v":0},{"$f":"M901*'Zdrojová data'!$C$13","v":0},{"$f":"N901*'Zdrojová data'!$C$14","v":0},{"$f":"IF(H901=0,1,IF(J901>K901,1,0))","v":0},{"$f":"IF(H901=0,D901-'Výstupy modelu'!$C$7,IF(P901=1,J901-K901,0))","v":0},{"$f":"IF(H901=0,1,IF(J901>K901,1,0))","v":0},null,{"$f":"MAX(0,IF(Q901>0,Q901-('Výstupy modelu'!$H$10-'Výstupy modelu'!$H$9),0))","v":0},null,null,{"$f":"W900","v":1865.4300000000003},1885.4300000000003,0,{"$f":"MAX(0,D901-'Vstupní hodnoty'!$C$5)","v":0}]
[null,"2017-01-10T08:45:00",1,1421.2800000000002,{"$f":"CEILING(IF(C902-C901=0,IF(H901=0,I901,IF(J901>K901,I901,E901)),'Výstupy modelu'!$C$7),1)","v":1664},0,0,{"$f":"IF(F902=1,IF(G902>'Zdrojová data'!$C$19,0,1),\"\")","v":""},1664,0,{"$f":"MIN(J902,'Zdrojová data'!$C$17)","v":0},0,{"$f":"L902/'Zdrojová data'!$C$16","v":0},{"$f":"M902*'Zdrojová data'!$C$13","v":0},{"$f":"N902*'Zdrojová data'!$C$14","v":0},0,{"$f":"IF(H902=0,D902-'Výstupy modelu'!$C$7,IF(P902=1,J902-K902,0))","v":0},0,null,{"$f":"MAX(0,IF(Q902>0,Q902-('Výstupy modelu'!$H$10-'Výstupy modelu'!$H$9),0))","v":0},null,null,{"$f":"W901","v":1865.4300000000003},1885.4300000000003,0,{"$f":"MAX(0,D902-'Vstupní hodnoty'!$C$5)","v":0}]
[null,"2017-01-10T09:00:00",1,1402.92,{"$f":"CEILING(IF(C903-C902=0,IF(H902=0,I902,IF(J902>K902,I902,E902)),'Výstupy modelu'!$C$7),1)","v":1664},0,0,{"$f":"IF(F903=1,IF(G903>'Zdrojová data'!$C$19,0,1),\"\")","v":""},1664,0,{"$f":"MIN(J903,'Zdrojová data'!$C$17)","v":0},0,{"$f":"L903/'Zdrojová data'!$C$16","v":0},{"$f":"M903*'Zdrojová data'!$C$13","v":0},{"$f":"N903*'Zdrojová data'!$C$14","v":0},0,{"$f":"IF(H903=0,D903-'Výstupy modelu'!$C$7,IF(P903=1,J903-K903,0))","v":0},0,null,{"$f":"MAX(0,IF(Q903>0,Q903-('Výstupy modelu'!$H$10-'Výstupy modelu'!$H$9),0))","v":0},null,null,{"$f":"W902","v":1865.4300000000003},1885.4300000000003,0,{"$f":"MAX(0,D903-'Vstupní hodnoty'!$C$5)","v":0}]
[null,"2017-01-10T09:15:00",1,1442.88,{"$f":"CEILING(IF(C904-C903=0,IF(H903=0,I903,IF(J903>K903,I903,E903)),'Výstupy modelu'!$C$7),1)","v":1664},0,0,{"$f":"IF(F904=1,IF(G904>'Zdrojová data'!$C$19,0,1),\"\")","v":""},1664,0,{"$f":"MIN(J904,'Zdrojová data'!$C$17)","v":0},0,{"$f":"L904/'Zdrojová data'!$C$16","v":0},{"$f":"M904*'Zdrojová data'!$C$13","v":0},{"$f":"N904*'Zdrojová data'!$C$14","v":0},0,{"$f":"IF(H904=0,D904-'Výstupy modelu'!$C$7,IF(P904=1,J904-K904,0))","v":0},0,null,{"$f":"MAX(0,IF(Q904>0,Q904-('Výstupy modelu'!$H$10-'Výstupy modelu'!$H$9),0))","v":0},null,null,{"$f":"W903","v":1865.4300000000003},1885.4300000000003,0,{"$f":"MAX(0,D904-'Vstupní hodnoty'!$C$5)","v":0}]
[null,"2017-01-10T09:30:00",1,1467.72,{"$f":"CEILING(IF(C905-C904=0,IF(H904=0,I904,IF(J904>K904,I904,E904)),'Výstupy modelu'!$C$7),1)","v":1664},0,0,{"$f":"IF(F905=1,IF(G905>'Zdrojová data'!$C$19,0,1),\"\")","v":""},1664,0,{"$f":"MIN(J905,'Zdrojová data'!$C$17)","v":0},0,{"$f":"L905/'Zdrojová data'!$C$16","v":0},{"$f":"M905*'Zdrojová data'!$C$13","v":0},{"$f":"N905*'Zdrojová data'!$C$14","v":0},0,{"$f":"IF(H905=0,D905-'Výstupy modelu'!$C$7,IF(P905=1,J905-K905,0))","v":0},0,null,{"$f":"MAX(0,IF(Q905>0,Q905-('Výstupy modelu'!$H$10-'Výstupy modelu'!$H$9),0))","v":0},null,null,{"$f":"W904","v":1865.4300000000003},1885.4300000000003,0,{"$f":"MAX(0,D905-'Vstupní hodnoty'!$C$5)","v":0}]
[null,"2017-01-10T09:45:00",1,1447.2,{"$f":"CEILING(IF(C906-C905=0,IF(H905=0,I905,IF(J905>K905,I905,E905)),'Výstupy modelu'!$C$7),1)","v":1664},0,0,{"$f":"IF(F906=1,IF(G906>'Zdrojová data'!$C$19,0,1),\"\")","v":""},1664,0,{"$f":"MIN(J906,'Zdrojová data'!$C$17)","v":0},0,{"$f":"L906/'Zdrojová data'!$C$16","v":0},{"$f":"M906*'Zdrojová data'!$C$13","v":0},{"$f":"N906*'Zdrojová data'!$C$14","v":0},0,{"$f":"IF(H906=0,D906-'Výstupy modelu'!$C$7,IF(P906=1,J906-K906,0))","v":0},0,null,{"$f":"MAX(0,IF(Q906>0,Q906-('Výstupy modelu'!$H$10-'Výstupy modelu'!$H$9),0))","v":0},null,null,{"$f":"W905","v":1865.4300000000003},1885.4300000000003,0,{"$f":"MAX(0,D906-'Vstupní hodnoty'!$C$5)","v":0}]
[null,"2017-01-10T10:00:00",1,1423.44,{"$f":"CEILING(IF(C907-C906=0,IF(H906=0,I906,IF(J906>K906,I906,E906)),'Výstupy modelu'!$C$7),1)","v":1664},0,0,{"$f":"IF(F907=1,IF(G907>'Zdrojová data'!$C$19,0,1),\"\")","v":""},1664,0,{"$f":"MIN(J907,'Zdrojová data'!$C$17)","v":0},0,{"$f":"L907/'Zdrojová data'!$C$16","v":0},{"$f":"M907*'Zdrojová data'!$C$13","v":0},{"$f":"N907*'Zdrojová data'!$C$14","v":0},0,{"$f":"IF(H907=0,D907-'Výstupy modelu'!$C$7,IF(P907=1,J907-K907,0))","v":0},0,null,{"$f":"MAX(0,IF(Q907>0,Q907-('Výstupy modelu'!$H$10-'Výstupy modelu'!$H$9),0))","v":0},null,null,{"$f":"W906","v":1865.4300000000003},1885.4300000000003,0,{"$f":"MAX(0,D907-'Vstupní hodnoty'!$C$5)","v":0}]
[null,"2017-01-10T10:15:00",1,1302.48,{"$f":"CEILING(IF(C908-C907=0,IF(H907=0,I907,IF(J907>K907,I907,E907)),'Výstupy modelu'!$C$7),1)","v":1664},0,0,{"$f":"IF(F908=1,IF(G908>'Zdrojová data'!$C$19,0,1),\"\")","v":""},1664,0,{"$f":"MIN(J908,'Zdrojová data'!$C$17)","v":0},0,{"$f":"L908/'Zdrojová data'!$C$16","v":0},{"$f":"M908*'Zdrojová data'!$C$13","v":0},{"$f":"N908*'Zdrojová data'!$C$14","v":0},0,{"$f":"IF(H908=0,D908-'Výstupy modelu'!$C$7,IF(P908=1,J908-K908,0))","v":0},0,null,{"$f":"MAX(0,IF(Q908>0,Q908-('Výstupy modelu'!$H$10-'Výstupy modelu'!$H$9),0))","v":0},null,null,{"$f":"W907","v":1865.4300000000003},1885.4300000000003,0,{"$f":"MAX(0,D908-'Vstupní hodnoty'!$C$5)","v":0}]
[null,"2017-01-10T10:30:00",1,1414.8000000000002,{"$f":"CEILING(IF(C909-C908=0,IF(H908=0,I908,IF(J908>K908,I908,E908)),'Výstupy modelu'!$C$7),1)","v":1664},0,0,{"$f":"IF(F909=1,IF(G909>'Zdrojová data'!$C$19,0,1),\"\")","v":""},1664,0,{"$f":"MIN(J909,'Zdrojová data'!$C$17)","v":0},0,{"$f":"L909/'Zdrojová data'!$C$16","v":0},{"$f":"M909*'Zdrojová data'!$C$13","v":0},{"$f":"N909*'Zdrojová data'!$C$14","v":0},0,{"$f":"IF(H909=0,D909-'Výstupy modelu'!$C$7,IF(P909=1,J909-K909,0))","v":0},0,null,{"$f":"MAX(0,IF(Q909>0,Q909-('Výstupy modelu'!$H$10-'Výstupy modelu'!$H$9),0))","v":0},null,null,{"$f":"W908","v":1865.4300000000003},1885.4300000000003,0,{"$f":"MAX(0,D909-'Vstupní hodnoty'!$C$5)","v":0}]
[null,"2017-01-10T10:45:00",1,1405.0800000000002,{"$f":"CEILING(IF(C910-C909=0,IF(H909=0,I909,IF(J909>K909,I909,E909)),'Výstupy modelu'!$C$7),1)","v":1664},0,0,{"$f":"IF(F910=1,IF(G910>'Zdrojová data'!$C$19,0,1),\"\")","v":""},1664,0,{"$f":"MIN(J910,'Zdrojová data'!$C$17)","v":0},0,{"$f":"L910/'Zdrojová data'!$C$16","v":0},{"$f":"M910*'Zdrojová data'!$C$13","v":0},{"$f":"N910*'Zdrojová data'!$C$14","v":0},0,{"$f":"IF(H910=0,D910-'Výstupy modelu'!$C$7,IF(P910=1,J910-K910,0))","v":0},0,null,{"$f":"MAX(0,IF(Q910>0,Q910-('Výstupy modelu'!$H$10-'Výstupy modelu'!$H$9),0))","v":0},null,null,{"$f":"W909","v":1865.4300000000003},1885.4300000000003,0,{"$f":"MAX(0,D910-'Vstupní hodnoty'!$C$5)","v":0}]
[null,"2017-01-10T11:00:00",1,1392.1200000000001,{"$f":"CEILING(IF(C911-C910=0,IF(H910=0,I910,IF(J910>K910,I910,E910)),'Výstupy modelu'!$C$7),1)","v":1664},0,0,{"$f":"IF(F911=1,IF(G911>'Zdrojová data'!$C$19,0,1),\"\")","v":""},1664,0,{"$f":"MIN(J911,'Zdrojová data'!$C$17)","v":0},0,{"$f":"L911/'Zdrojová data'!$C$16","v":0},{"$f":"M911*'Zdrojová data'!$C$13","v":0},{"$f":"N911*'Zdrojová data'!$C$14","v":0},0,{"$f":"IF(H911=0,D911-'Výstupy modelu'!$C$7,IF(P911=1,J911-K911,0))","v":0},0,null,{"$f":"MAX(0,IF(Q911>0,Q911-('Výstupy modelu'!$H$10-'Výstupy modelu'!$H$9),0))","v":0},null,null,{"$f":"W910","v":1865.4300000000003},1885.4300000000003,0,{"$f":"MAX(0,D911-'Vstupní hodnoty'!$C$5)","v":0}]
[null,"2017-01-10T11:15:00",1,1373.76,{"$f":"CEILING(IF(C912-C911=0,IF(H911=0,I911,IF(J911>K911,I911,E911)),'Výstupy modelu'!$C$7),1)","v":1664},0,0,{"$f":"IF(F912=1,IF(G912>'Zdrojová data'!$C$19,0,1),\"\")","v":""},1664,0,{"$f":"MIN(J912,'Zdrojová data'!$C$17)","v":0},0,{"$f":"L912/'Zdrojová data'!$C$16","v":0},{"$f":"M912*'Zdrojová data'!$C$13","v":0},{"$f":"N912*'Zdrojová data'!$C$14","v":0},0,{"$f":"IF(H912=0,D912-'Výstupy modelu'!$C$7,IF(P912=1,J912-K912,0))","v":0},0,null,{"$f":"MAX(0,IF(Q912>0,Q912-('Výstupy modelu'!$H$10-'Výstupy modelu'!$H$9),0))","v":0},null,null,{"$f":"W911","v":1865.4300000000003},1885.4300000000003,0,{"$f":"MAX(0,D912-'Vstupní hodnoty'!$C$5)","v":0}]
[null,"2017-01-10T11:30:00",1,1264.68,{"$f":"CEILING(IF(C913-C912=0,IF(H912=0,I912,IF(J912>K912,I912,E912)),'Výstupy modelu'!$C$7),1)","v":1664},0,0,{"$f":"IF(F913=1,IF(G913>'Zdrojová data'!$C$19,0,1),\"\")","v":""},1664,0,{"$f":"MIN(J913,'Zdrojová data'!$C$17)","v":0},0,{"$f":"L913/'Zdrojová data'!$C$16","v":0},{"$f":"M913*'Zdrojová data'!$C$13","v":0},{"$f":"N913*'Zdrojová data'!$C$14","v":0},0,{"$f":"IF(H913=0,D913-'Výstupy modelu'!$C$7,IF(P913=1,J913-K913,0))","v":0},0,null,{"$f":"MAX(0,IF(Q913>0,Q913-('Výstupy modelu'!$H$10-'Výstupy modelu'!$H$9),0))","v":0},null,null,{"$f":"W912","v":1865.4300000000003},1885.4300000000003,0,{"$f":"MAX(0,D913-'Vstupní hodnoty'!$C$5)","v":0}]
[null,"2017-01-10T11:45:00",1,1247.4000000000001,{"$f":"CEILING(IF(C914-C913=0,IF(H913=0,I913,IF(J913>K913,I913,E913)),'Výstupy modelu'!$C$7),1)","v":1664},0,0,{"$f":"IF(F914=1,IF(G914>'Zdrojová data'!$C$19,0,1),\"\")","v":""},1664,0,{"$f":"MIN(J914,'Zdrojová data'!$C$17)","v":0},0,{"$f":"L914/'Zdrojová data'!$C$16","v":0},{"$f":"M914*'Zdrojová data'!$C$13","v":0},{"$f":"N914*'Zdrojová data'!$C$14","v":0},0,{"$f":"IF(H914=0,D914-'Výstupy modelu'!$C$7,IF(P914=1,J914-K914,0))","v":0},0,null,{"$f":"MAX(0,IF(Q914>0,Q914-('Výstupy modelu'!$H$10-'Výstupy modelu'!$H$9),0))","v":0},null,null,{"$f":"W913","v":1865.4300000000003},1885.4300000000003,0,{"$f":"MAX(0,D914-'Vstupní hodnoty'!$C$5)","v":0}]
[null,"2017-01-10T12:00:00",1,1063.8000000000002,{"$f":"CEILING(IF(C915-C914=0,IF(H914=0,I914,IF(J914>K914,I914,E914)),'Výstupy modelu'!$C$7),1)","v":1664},0,0,{"$f":"IF(F915=1,IF(G915>'Zdrojová data'!$C$19,0,1),\"\")","v":""},1664,0,{"$f":"MIN(J915,'Zdrojová data'!$C$17)","v":0},0,{"$f":"L915/'Zdrojová data'!$C$16","v":0},{"$f":"M915*'Zdrojová data'!$C$13","v":0},{"$f":"N915*'Zdrojová data'!$C$14","v":0},0,{"$f":"IF(H915=0,D915-'Výstupy modelu'!$C$7,IF(P915=1,J915-K915,0))","v":0},0,null,{"$f":"MAX(0,IF(Q915>0,Q915-('Výstupy modelu'!$H$10-'Výstupy modelu'!$H$9),0))","v":0},null,null,{"$f":"W914","v":1865.4300000000003},1885.4300000000003,0,{"$f":"MAX(0,D915-'Vstupní hodnoty'!$C$5)","v":0}]
[null,"2017-01-10T12:15:00",1,1074.6000000000001,{"$f":"CEILING(IF(C916-C915=0,IF(H915=0,I915,IF(J915>K915,I915,E915)),'Výstupy modelu'!$C$7),1)","v":1664},0,0,{"$f":"IF(F916=1,IF(G916>'Zdrojová data'!$C$19,0,1),\"\")","v":""},1664,0,{"$f":"MIN(J916,'Zdrojová data'!$C$17)","v":0},0,{"$f":"L916/'Zdrojová data'!$C$16","v":0},{"$f":"M916*'Zdrojová data'!$C$13","v":0},{"$f":"N916*'Zdrojová data'!$C$14","v":0},0,{"$f":"IF(H916=0,D916-'Výstupy modelu'!$C$7,IF(P916=1,J916-K916,0))","v":0},0,null,{"$f":"MAX(0,IF(Q916>0,Q916-('Výstupy modelu'!$H$10-'Výstupy modelu'!$H$9),0))","v":0},null,null,{"$f":"W915","v":1865.4300000000003},1885.4300000000003,0,{"$f":"MAX(0,D916-'Vstupní hodnoty'!$C$5)","v":0}]
[null,"2017-01-10T12:30:00",1,1221.48,{"$f":"CEILING(IF(C917-C916=0,IF(H916=0,I916,IF(J916>K916,I916,E916)),'Výstupy modelu'!$C$7),1)","v":1664},0,0,{"$f":"IF(F917=1,IF(G917>'Zdrojová data'!$C$19,0,1),\"\")","v":""},1664,0,{"$f":"MIN(J917,'Zdrojová data'!$C$17)","v":0},0,{"$f":"L917/'Zdrojová data'!$C$16","v":0},{"$f":"M917*'Zdrojová data'!$C$13","v":0},{"$f":"N917*'Zdrojová data'!$C$14","v":0},0,{"$f":"IF(H917=0,D917-'Výstupy modelu'!$C$7,IF(P917=1,J917-K917,0))","v":0},0,null,{"$f":"MAX(0,IF(Q917>0,Q917-('Výstupy modelu'!$H$10-'Výstupy modelu'!$H$9),0))","v":0},null,null,{"$f":"W916","v":1865.4300000000003},1885.4300000000003,0,{"$f":"MAX(0,D917-'Vstupní hodnoty'!$C$5)","v":0}]
[null,"2017-01-10T12:45:00",1,1394.2800000000002,{"$f":"CEILING(IF(C918-C917=0,IF(H917=0,I917,IF(J917>K917,I917,E917)),'Výstupy modelu'!$C$7),1)","v":1664},0,0,{"$f":"IF(F918=1,IF(G918>'Zdrojová data'!$C$19,0,1),\"\")","v":""},1664,0,{"$f":"MIN(J918,'Zdrojová data'!$C$17)","v":0},0,{"$f":"L918/'Zdrojová data'!$C$16","v":0},{"$f":"M918*'Zdrojová data'!$C$13","v":0},{"$f":"N918*'Zdrojová data'!$C$14","v":0},0,{"$f":"IF(H918=0,D918-'Výstupy modelu'!$C$7,IF(P918=1,J918-K918,0))","v":0},0,null,{"$f":"MAX(0,IF(Q918>0,Q918-('Výstupy modelu'!$H$10-'Výstupy modelu'!$H$9),0))","v":0},null,null,{"$f":"W917","v":1865.4300000000003},1885.4300000000003,0,{"$f":"MAX(0,D918-'Vstupní hodnoty'!$C$5)","v":0}]
[null,"2017-01-10T13:00:00",1,1392.1200000000001,{"$f":"CEILING(IF(C919-C918=0,IF(H918=0,I918,IF(J918>K918,I918,E918)),'Výstupy modelu'!$C$7),1)","v":1664},0,0,{"$f":"IF(F919=1,IF(G919>'Zdrojová data'!$C$19,0,1),\"\")","v":""},1664,0,{"$f":"MIN(J919,'Zdrojová data'!$C$17)","v":0},0,{"$f":"L919/'Zdrojová data'!$C$16","v":0},{"$f":"M919*'Zdrojová data'!$C$13","v":0},{"$f":"N919*'Zdrojová data'!$C$14","v":0},0,{"$f":"IF(H919=0,D919-'Výstupy modelu'!$C$7,IF(P919=1,J919-K919,0))","v":0},0,null,{"$f":"MAX(0,IF(Q919>0,Q919-('Výstupy modelu'!$H$10-'Výstupy modelu'!$H$9),0))","v":0},null,null,{"$f":"W918","v":1865.4300000000003},1885.4300000000003,0,{"$f":"MAX(0,D919-'Vstupní hodnoty'!$C$5)","v":0}]
[null,"2017-01-10T13:15:00",1,1354.3200000000002,{"$f":"CEILING(IF(C920-C919=0,IF(H919=0,I919,IF(J919>K919,I919,E919)),'Výstupy modelu'!$C$7),1)","v":1664},0,0,{"$f":"IF(F920=1,IF(G920>'Zdrojová data'!$C$19,0,1),\"\")","v":""},1664,0,{"$f":"MIN(J920,'Zdrojová data'!$C$17)","v":0},0,{"$f":"L920/'Zdrojová data'!$C$16","v":0},{"$f":"M920*'Zdrojová data'!$C$13","v":0},{"$f":"N920*'Zdrojová data'!$C$14","v":0},0,{"$f":"IF(H920=0,D920-'Výstupy modelu'!$C$7,IF(P920=1,J920-K920,0))","v":0},0,null,{"$f":"MAX(0,IF(Q920>0,Q920-('Výstupy modelu'!$H$10-'Výstupy modelu'!$H$9),0))","v":0},null,null,{"$f":"W919","v":1865.4300000000003},1885.4300000000003,0,{"$f":"MAX(0,D920-'Vstupní hodnoty'!$C$5)","v":0}]
[null,"2017-01-10T13:30:00",1,1355.4,{"$f":"CEILING(IF(C921-C920=0,IF(H920=0,I920,IF(J920>K920,I920,E920)),'Výstupy modelu'!$C$7),1)","v":1664},0,0,{"$f":"IF(F921=1,IF(G921>'Zdrojová data'!$C$19,0,1),\"\")","v":""},1664,0,{"$f":"MIN(J921,'Zdrojová data'!$C$17)","v":0},0,{"$f":"L921/'Zdrojová data'!$C$16","v":0},{"$f":"M921*'Zdrojová data'!$C$13","v":0},{"$f":"N921*'Zdrojová data'!$C$14","v":0},0,{"$f":"IF(H921=0,D921-'Výstupy modelu'!$C$7,IF(P921=1,J921-K921,0))","v":0},0,null,{"$f":"MAX(0,IF(Q921>0,Q921-('Výstupy modelu'!$H$10-'Výstupy modelu'!$H$9),0))","v":0},null,null,{"$f":"W920","v":1865.4300000000003},1885.4300000000003,0,{"$f":"MAX(0,D921-'Vstupní hodnoty'!$C$5)","v":0}]
[null,"2017-01-10T13:45:00",1,1373.76,{"$f":"CEILING(IF(C922-C921=0,IF(H921=0,I921,IF(J921>K921,I921,E921)),'Výstupy modelu'!$C$7),1)","v":1664},0,0,{"$f":"IF(F922=1,IF(G922>'Zdrojová data'!$C$19,0,1),\"\")","v":""},1664,0,{"$f":"MIN(J922,'Zdrojová data'!$C$17)","v":0},0,{"$f":"L922/'Zdrojová data'!$C$16","v":0},{"$f":"M922*'Zdrojová data'!$C$13","v":0},{"$f":"N922*'Zdrojová data'!$C$14","v":0},0,{"$f":"IF(H922=0,D922-'Výstupy modelu'!$C$7,IF(P922=1,J922-K922,0))","v":0},0,null,{"$f":"MAX(0,IF(Q922>0,Q922-('Výstupy modelu'!$H$10-'Výstupy modelu'!$H$9),0))","v":0},null,null,{"$f":"W921","v":1865.4300000000003},1885.4300000000003,0,{"$f":"MAX(0,D922-'Vstupní hodnoty'!$C$5)","v":0}]
[null,"2017-01-10T14:00:00",1,1225.8000000000002,{"$f":"CEILING(IF(C923-C922=0,IF(H922=0,I922,IF(J922>K922,I922,E922)),'Výstupy modelu'!$C$7),1)","v":1664},0,0,{"$f":"IF(F923=1,IF(G923>'Zdrojová data'!$C$19,0,1),\"\")","v":""},1664,0,{"$f":"MIN(J923,'Zdrojová data'!$C$17)","v":0},0,{"$f":"L923/'Zdrojová data'!$C$16","v":0},{"$f":"M923*'Zdrojová data'!$C$13","v":0},{"$f":"N923*'Zdrojová data'!$C$14","v":0},0,{"$f":"IF(H923=0,D923-'Výstupy modelu'!$C$7,IF(P923=1,J923-K923,0))","v":0},0,null,{"$f":"MAX(0,IF(Q923>0,Q923-('Výstupy modelu'!$H$10-'Výstupy modelu'!$H$9),0))","v":0},null,null,{"$f":"W922","v":1865.4300000000003},1885.4300000000003,0,{"$f":"MAX(0,D923-'Vstupní hodnoty'!$C$5)","v":0}]
[null,"2017-01-10T14:15:00",1,1263.6000000000001,{"$f":"CEILING(IF(C924-C923=0,IF(H923=0,I923,IF(J923>K923,I923,E923)),'Výstupy modelu'!$C$7),1)","v":1664},0,0,{"$f":"IF(F924=1,IF(G924>'Zdrojová data'!$C$19,0,1),\"\")","v":""},1664,0,{"$f":"MIN(J924,'Zdrojová data'!$C$17)","v":0},0,{"$f":"L924/'Zdrojová data'!$C$16","v":0},{"$f":"M924*'Zdrojová data'!$C$13","v":0},{"$f":"N924*'Zdrojová data'!$C$14","v":0},0,{"$f":"IF(H924=0,D924-'Výstupy modelu'!$C$7,IF(P924=1,J924-K924,0))","v":0},0,null,{"$f":"MAX(0,IF(Q924>0,Q924-('Výstupy modelu'!$H$10-'Výstupy modelu'!$H$9),0))","v":0},null,null,{"$f":"W923","v":1865.4300000000003},1885.4300000000003,0,{"$f":"MAX(0,D924-'Vstupní hodnoty'!$C$5)","v":0}]
[null,"2017-01-10T14:30:00",1,1096.2,{"$f":"CEILING(IF(C925-C924=0,IF(H924=0,I924,IF(J924>K924,I924,E924)),'Výstupy modelu'!$C$7),1)","v":1664},0,0,{"$f":"IF(F925=1,IF(G925>'Zdrojová data'!$C$19,0,1),\"\")","v":""},1664,0,{"$f":"MIN(J925,'Zdrojová data'!$C$17)","v":0},0,{"$f":"L925/'Zdrojová data'!$C$16","v":0},{"$f":"M925*'Zdrojová data'!$C$13","v":0},{"$f":"N925*'Zdrojová data'!$C$14","v":0},0,{"$f":"IF(H925=0,D925-'Výstupy modelu'!$C$7,IF(P925=1,J925-K925,0))","v":0},0,null,{"$f":"MAX(0,IF(Q925>0,Q925-('Výstupy modelu'!$H$10-'Výstupy modelu'!$H$9),0))","v":0},null,null,{"$f":"W924","v":1865.4300000000003},1885.4300000000003,0,{"$f":"MAX(0,D925-'Vstupní hodnoty'!$C$5)","v":0}]
[null,"2017-01-10T14:45:00",1,1069.2,{"$f":"CEILING(IF(C926-C925=0,IF(H925=0,I925,IF(J925>K925,I925,E925)),'Výstupy modelu'!$C$7),1)","v":1664},0,0,{"$f":"IF(F926=1,IF(G926>'Zdrojová data'!$C$19,0,1),\"\")","v":""},1664,0,{"$f":"MIN(J926,'Zdrojová data'!$C$17)","v":0},0,{"$f":"L926/'Zdrojová data'!$C$16","v":0},{"$f":"M926*'Zdrojová data'!$C$13","v":0},{"$f":"N926*'Zdrojová data'!$C$14","v":0},0,{"$f":"IF(H926=0,D926-'Výstupy modelu'!$C$7,IF(P926=1,J926-K926,0))","v":0},0,null,{"$f":"MAX(0,IF(Q926>0,Q926-('Výstupy modelu'!$H$10-'Výstupy modelu'!$H$9),0))","v":0},null,null,{"$f":"W925","v":1865.4300000000003},1885.4300000000003,0,{"$f":"MAX(0,D926-'Vstupní hodnoty'!$C$5)","v":0}]
[null,"2017-01-10T15:00:00",1,1074.6000000000001,{"$f":"CEILING(IF(C927-C926=0,IF(H926=0,I926,IF(J926>K926,I926,E926)),'Výstupy modelu'!$C$7),1)","v":1664},0,0,{"$f":"IF(F927=1,IF(G927>'Zdrojová data'!$C$19,0,1),\"\")","v":""},1664,0,{"$f":"MIN(J927,'Zdrojová data'!$C$17)","v":0},0,{"$f":"L927/'Zdrojová data'!$C$16","v":0},{"$f":"M927*'Zdrojová data'!$C$13","v":0},{"$f":"N927*'Zdrojová data'!$C$14","v":0},0,{"$f":"IF(H927=0,D927-'Výstupy modelu'!$C$7,IF(P927=1,J927-K927,0))","v":0},0,null,{"$f":"MAX(0,IF(Q927>0,Q927-('Výstupy modelu'!$H$10-'Výstupy modelu'!$H$9),0))","v":0},null,null,{"$f":"W926","v":1865.4300000000003},1885.4300000000003,0,{"$f":"MAX(0,D927-'Vstupní hodnoty'!$C$5)","v":0}]
[null,"2017-01-10T15:15:00",1,999.00000000000011,{"$f":"CEILING(IF(C928-C927=0,IF(H927=0,I927,IF(J927>K927,I927,E927)),'Výstupy modelu'!$C$7),1)","v":1664},0,0,{"$f":"IF(F928=1,IF(G928>'Zdrojová data'!$C$19,0,1),\"\")","v":""},1664,0,{"$f":"MIN(J928,'Zdrojová data'!$C$17)","v":0},0,{"$f":"L928/'Zdrojová data'!$C$16","v":0},{"$f":"M928*'Zdrojová data'!$C$13","v":0},{"$f":"N928*'Zdrojová data'!$C$14","v":0},0,{"$f":"IF(H928=0,D928-'Výstupy modelu'!$C$7,IF(P928=1,J928-K928,0))","v":0},0,null,{"$f":"MAX(0,IF(Q928>0,Q928-('Výstupy modelu'!$H$10-'Výstupy modelu'!$H$9),0))","v":0},null,null,{"$f":"W927","v":1865.4300000000003},1885.4300000000003,0,{"$f":"MAX(0,D928-'Vstupní hodnoty'!$C$5)","v":0}]
[null,"2017-01-10T15:30:00",1,964.44,{"$f":"CEILING(IF(C929-C928=0,IF(H928=0,I928,IF(J928>K928,I928,E928)),'Výstupy modelu'!$C$7),1)","v":1664},0,0,{"$f":"IF(F929=1,IF(G929>'Zdrojová data'!$C$19,0,1),\"\")","v":""},1664,0,{"$f":"MIN(J929,'Zdrojová data'!$C$17)","v":0},0,{"$f":"L929/'Zdrojová data'!$C$16","v":0},{"$f":"M929*'Zdrojová data'!$C$13","v":0},{"$f":"N929*'Zdrojová data'!$C$14","v":0},0,{"$f":"IF(H929=0,D929-'Výstupy modelu'!$C$7,IF(P929=1,J929-K929,0))","v":0},0,null,{"$f":"MAX(0,IF(Q929>0,Q929-('Výstupy modelu'!$H$10-'Výstupy modelu'!$H$9),0))","v":0},null,null,{"$f":"W928","v":1865.4300000000003},1885.4300000000003,0,{"$f":"MAX(0,D929-'Vstupní hodnoty'!$C$5)","v":0}]
[null,"2017-01-10T15:45:00",1,962.28000000000009,{"$f":"CEILING(IF(C930-C929=0,IF(H929=0,I929,IF(J929>K929,I929,E929)),'Výstupy modelu'!$C$7),1)","v":1664},0,0,{"$f":"IF(F930=1,IF(G930>'Zdrojová data'!$C$19,0,1),\"\")","v":""},1664,0,{"$f":"MIN(J930,'Zdrojová data'!$C$17)","v":0},0,{"$f":"L930/'Zdrojová data'!$C$16","v":0},{"$f":"M930*'Zdrojová data'!$C$13","v":0},{"$f":"N930*'Zdrojová data'!$C$14","v":0},0,{"$f":"IF(H930=0,D930-'Výstupy modelu'!$C$7,IF(P930=1,J930-K930,0))","v":0},0,null,{"$f":"MAX(0,IF(Q930>0,Q930-('Výstupy modelu'!$H$10-'Výstupy modelu'!$H$9),0))","v":0},null,null,{"$f":"W929","v":1865.4300000000003},1885.4300000000003,0,{"$f":"MAX(0,D930-'Vstupní hodnoty'!$C$5)","v":0}]
[null,"2017-01-10T16:00:00",1,868.32,{"$f":"CEILING(IF(C931-C930=0,IF(H930=0,I930,IF(J930>K930,I930,E930)),'Výstupy modelu'!$C$7),1)","v":1664},0,0,{"$f":"IF(F931=1,IF(G931>'Zdrojová data'!$C$19,0,1),\"\")","v":""},1664,0,{"$f":"MIN(J931,'Zdrojová data'!$C$17)","v":0},0,{"$f":"L931/'Zdrojová data'!$C$16","v":0},{"$f":"M931*'Zdrojová data'!$C$13","v":0},{"$f":"N931*'Zdrojová data'!$C$14","v":0},0,{"$f":"IF(H931=0,D931-'Výstupy modelu'!$C$7,IF(P931=1,J931-K931,0))","v":0},0,null,{"$f":"MAX(0,IF(Q931>0,Q931-('Výstupy modelu'!$H$10-'Výstupy modelu'!$H$9),0))","v":0},null,null,{"$f":"W930","v":1865.4300000000003},1885.4300000000003,0,{"$f":"MAX(0,D931-'Vstupní hodnoty'!$C$5)","v":0}]
[null,"2017-01-10T16:15:00",1,968.7600000000001,{"$f":"CEILING(IF(C932-C931=0,IF(H931=0,I931,IF(J931>K931,I931,E931)),'Výstupy modelu'!$C$7),1)","v":1664},0,0,{"$f":"IF(F932=1,IF(G932>'Zdrojová data'!$C$19,0,1),\"\")","v":""},1664,0,{"$f":"MIN(J932,'Zdrojová data'!$C$17)","v":0},0,{"$f":"L932/'Zdrojová data'!$C$16","v":0},{"$f":"M932*'Zdrojová data'!$C$13","v":0},{"$f":"N932*'Zdrojová data'!$C$14","v":0},0,{"$f":"IF(H932=0,D932-'Výstupy modelu'!$C$7,IF(P932=1,J932-K932,0))","v":0},0,null,{"$f":"MAX(0,IF(Q932>0,Q932-('Výstupy modelu'!$H$10-'Výstupy modelu'!$H$9),0))","v":0},null,null,{"$f":"W931","v":1865.4300000000003},1885.4300000000003,0,{"$f":"MAX(0,D932-'Vstupní hodnoty'!$C$5)","v":0}]
[null,"2017-01-10T16:30:00",1,969.84,{"$f":"CEILING(IF(C933-C932=0,IF(H932=0,I932,IF(J932>K932,I932,E932)),'Výstupy modelu'!$C$7),1)","v":1664},0,0,{"$f":"IF(F933=1,IF(G933>'Zdrojová data'!$C$19,0,1),\"\")","v":""},1664,0,{"$f":"MIN(J933,'Zdrojová data'!$C$17)","v":0},0,{"$f":"L933/'Zdrojová data'!$C$16","v":0},{"$f":"M933*'Zdrojová data'!$C$13","v":0},{"$f":"N933*'Zdrojová data'!$C$14","v":0},0,{"$f":"IF(H933=0,D933-'Výstupy modelu'!$C$7,IF(P933=1,J933-K933,0))","v":0},0,null,{"$f":"MAX(0,IF(Q933>0,Q933-('Výstupy modelu'!$H$10-'Výstupy modelu'!$H$9),0))","v":0},null,null,{"$f":"W932","v":1865.4300000000003},1885.4300000000003,0,{"$f":"MAX(0,D933-'Vstupní hodnoty'!$C$5)","v":0}]
[null,"2017-01-10T16:45:00",1,957.96,{"$f":"CEILING(IF(C934-C933=0,IF(H933=0,I933,IF(J933>K933,I933,E933)),'Výstupy modelu'!$C$7),1)","v":1664},0,0,{"$f":"IF(F934=1,IF(G934>'Zdrojová data'!$C$19,0,1),\"\")","v":""},1664,0,{"$f":"MIN(J934,'Zdrojová data'!$C$17)","v":0},0,{"$f":"L934/'Zdrojová data'!$C$16","v":0},{"$f":"M934*'Zdrojová data'!$C$13","v":0},{"$f":"N934*'Zdrojová data'!$C$14","v":0},0,{"$f":"IF(H934=0,D934-'Výstupy modelu'!$C$7,IF(P934=1,J934-K934,0))","v":0},0,null,{"$f":"MAX(0,IF(Q934>0,Q934-('Výstupy modelu'!$H$10-'Výstupy modelu'!$H$9),0))","v":0},null,null,{"$f":"W933","v":1865.4300000000003},1885.4300000000003,0,{"$f":"MAX(0,D934-'Vstupní hodnoty'!$C$5)","v":0}]
[null,"2017-01-10T17:00:00",1,947.16000000000008,{"$f":"CEILING(IF(C935-C934=0,IF(H934=0,I934,IF(J934>K934,I934,E934)),'Výstupy modelu'!$C$7),1)","v":1664},0,0,{"$f":"IF(F935=1,IF(G935>'Zdrojová data'!$C$19,0,1),\"\")","v":""},1664,0,{"$f":"MIN(J935,'Zdrojová data'!$C$17)","v":0},0,{"$f":"L935/'Zdrojová data'!$C$16","v":0},{"$f":"M935*'Zdrojová data'!$C$13","v":0},{"$f":"N935*'Zdrojová data'!$C$14","v":0},0,{"$f":"IF(H935=0,D935-'Výstupy modelu'!$C$7,IF(P935=1,J935-K935,0))","v":0},0,null,{"$f":"MAX(0,IF(Q935>0,Q935-('Výstupy modelu'!$H$10-'Výstupy modelu'!$H$9),0))","v":0},null,null,{"$f":"W934","v":1865.4300000000003},1885.4300000000003,0,{"$f":"MAX(0,D935-'Vstupní hodnoty'!$C$5)","v":0}]
[null,"2017-01-10T17:15:00",1,946.08,{"$f":"CEILING(IF(C936-C935=0,IF(H935=0,I935,IF(J935>K935,I935,E935)),'Výstupy modelu'!$C$7),1)","v":1664},0,0,{"$f":"IF(F936=1,IF(G936>'Zdrojová data'!$C$19,0,1),\"\")","v":""},1664,0,{"$f":"MIN(J936,'Zdrojová data'!$C$17)","v":0},0,{"$f":"L936/'Zdrojová data'!$C$16","v":0},{"$f":"M936*'Zdrojová data'!$C$13","v":0},{"$f":"N936*'Zdrojová data'!$C$14","v":0},0,{"$f":"IF(H936=0,D936-'Výstupy modelu'!$C$7,IF(P936=1,J936-K936,0))","v":0},0,null,{"$f":"MAX(0,IF(Q936>0,Q936-('Výstupy modelu'!$H$10-'Výstupy modelu'!$H$9),0))","v":0},null,null,{"$f":"W935","v":1865.4300000000003},1885.4300000000003,0,{"$f":"MAX(0,D936-'Vstupní hodnoty'!$C$5)","v":0}]
[null,"2017-01-10T17:30:00",1,841.32,{"$f":"CEILING(IF(C937-C936=0,IF(H936=0,I936,IF(J936>K936,I936,E936)),'Výstupy modelu'!$C$7),1)","v":1664},0,0,{"$f":"IF(F937=1,IF(G937>'Zdrojová data'!$C$19,0,1),\"\")","v":""},1664,0,{"$f":"MIN(J937,'Zdrojová data'!$C$17)","v":0},0,{"$f":"L937/'Zdrojová data'!$C$16","v":0},{"$f":"M937*'Zdrojová data'!$C$13","v":0},{"$f":"N937*'Zdrojová data'!$C$14","v":0},0,{"$f":"IF(H937=0,D937-'Výstupy modelu'!$C$7,IF(P937=1,J937-K937,0))","v":0},0,null,{"$f":"MAX(0,IF(Q937>0,Q937-('Výstupy modelu'!$H$10-'Výstupy modelu'!$H$9),0))","v":0},null,null,{"$f":"W936","v":1865.4300000000003},1885.4300000000003,0,{"$f":"MAX(0,D937-'Vstupní hodnoty'!$C$5)","v":0}]
[null,"2017-01-10T17:45:00",1,749.5200000000001,{"$f":"CEILING(IF(C938-C937=0,IF(H937=0,I937,IF(J937>K937,I937,E937)),'Výstupy modelu'!$C$7),1)","v":1664},0,0,{"$f":"IF(F938=1,IF(G938>'Zdrojová data'!$C$19,0,1),\"\")","v":""},1664,0,{"$f":"MIN(J938,'Zdrojová data'!$C$17)","v":0},0,{"$f":"L938/'Zdrojová data'!$C$16","v":0},{"$f":"M938*'Zdrojová data'!$C$13","v":0},{"$f":"N938*'Zdrojová data'!$C$14","v":0},0,{"$f":"IF(H938=0,D938-'Výstupy modelu'!$C$7,IF(P938=1,J938-K938,0))","v":0},0,null,{"$f":"MAX(0,IF(Q938>0,Q938-('Výstupy modelu'!$H$10-'Výstupy modelu'!$H$9),0))","v":0},null,null,{"$f":"W937","v":1865.4300000000003},1885.4300000000003,0,{"$f":"MAX(0,D938-'Vstupní hodnoty'!$C$5)","v":0}]
[null,"2017-01-10T18:00:00",1,784.08,{"$f":"CEILING(IF(C939-C938=0,IF(H938=0,I938,IF(J938>K938,I938,E938)),'Výstupy modelu'!$C$7),1)","v":1664},0,0,{"$f":"IF(F939=1,IF(G939>'Zdrojová data'!$C$19,0,1),\"\")","v":""},1664,0,{"$f":"MIN(J939,'Zdrojová data'!$C$17)","v":0},0,{"$f":"L939/'Zdrojová data'!$C$16","v":0},{"$f":"M939*'Zdrojová data'!$C$13","v":0},{"$f":"N939*'Zdrojová data'!$C$14","v":0},0,{"$f":"IF(H939=0,D939-'Výstupy modelu'!$C$7,IF(P939=1,J939-K939,0))","v":0},0,null,{"$f":"MAX(0,IF(Q939>0,Q939-('Výstupy modelu'!$H$10-'Výstupy modelu'!$H$9),0))","v":0},null,null,{"$f":"W938","v":1865.4300000000003},1885.4300000000003,0,{"$f":"MAX(0,D939-'Vstupní hodnoty'!$C$5)","v":0}]
[null,"2017-01-10T18:15:00",1,821.88000000000011,{"$f":"CEILING(IF(C940-C939=0,IF(H939=0,I939,IF(J939>K939,I939,E939)),'Výstupy modelu'!$C$7),1)","v":1664},0,0,{"$f":"IF(F940=1,IF(G940>'Zdrojová data'!$C$19,0,1),\"\")","v":""},1664,0,{"$f":"MIN(J940,'Zdrojová data'!$C$17)","v":0},0,{"$f":"L940/'Zdrojová data'!$C$16","v":0},{"$f":"M940*'Zdrojová data'!$C$13","v":0},{"$f":"N940*'Zdrojová data'!$C$14","v":0},0,{"$f":"IF(H940=0,D940-'Výstupy modelu'!$C$7,IF(P940=1,J940-K940,0))","v":0},0,null,{"$f":"MAX(0,IF(Q940>0,Q940-('Výstupy modelu'!$H$10-'Výstupy modelu'!$H$9),0))","v":0},null,null,{"$f":"W939","v":1865.4300000000003},1885.4300000000003,0,{"$f":"MAX(0,D940-'Vstupní hodnoty'!$C$5)","v":0}]
[null,"2017-01-10T18:30:00",1,857.5200000000001,{"$f":"CEILING(IF(C941-C940=0,IF(H940=0,I940,IF(J940>K940,I940,E940)),'Výstupy modelu'!$C$7),1)","v":1664},0,0,{"$f":"IF(F941=1,IF(G941>'Zdrojová data'!$C$19,0,1),\"\")","v":""},1664,0,{"$f":"MIN(J941,'Zdrojová data'!$C$17)","v":0},0,{"$f":"L941/'Zdrojová data'!$C$16","v":0},{"$f":"M941*'Zdrojová data'!$C$13","v":0},{"$f":"N941*'Zdrojová data'!$C$14","v":0},0,{"$f":"IF(H941=0,D941-'Výstupy modelu'!$C$7,IF(P941=1,J941-K941,0))","v":0},0,null,{"$f":"MAX(0,IF(Q941>0,Q941-('Výstupy modelu'!$H$10-'Výstupy modelu'!$H$9),0))","v":0},null,null,{"$f":"W940","v":1865.4300000000003},1885.4300000000003,0,{"$f":"MAX(0,D941-'Vstupní hodnoty'!$C$5)","v":0}]
[null,"2017-01-10T18:45:00",1,835.92000000000007,{"$f":"CEILING(IF(C942-C941=0,IF(H941=0,I941,IF(J941>K941,I941,E941)),'Výstupy modelu'!$C$7),1)","v":1664},0,0,{"$f":"IF(F942=1,IF(G942>'Zdrojová data'!$C$19,0,1),\"\")","v":""},1664,0,{"$f":"MIN(J942,'Zdrojová data'!$C$17)","v":0},0,{"$f":"L942/'Zdrojová data'!$C$16","v":0},{"$f":"M942*'Zdrojová data'!$C$13","v":0},{"$f":"N942*'Zdrojová data'!$C$14","v":0},0,{"$f":"IF(H942=0,D942-'Výstupy modelu'!$C$7,IF(P942=1,J942-K942,0))","v":0},0,null,{"$f":"MAX(0,IF(Q942>0,Q942-('Výstupy modelu'!$H$10-'Výstupy modelu'!$H$9),0))","v":0},null,null,{"$f":"W941","v":1865.4300000000003},1885.4300000000003,0,{"$f":"MAX(0,D942-'Vstupní hodnoty'!$C$5)","v":0}]
[null,"2017-01-10T19:00:00",1,852.12,{"$f":"CEILING(IF(C943-C942=0,IF(H942=0,I942,IF(J942>K942,I942,E942)),'Výstupy modelu'!$C$7),1)","v":1664},0,0,{"$f":"IF(F943=1,IF(G943>'Zdrojová data'!$C$19,0,1),\"\")","v":""},1664,0,{"$f":"MIN(J943,'Zdrojová data'!$C$17)","v":0},0,{"$f":"L943/'Zdrojová data'!$C$16","v":0},{"$f":"M943*'Zdrojová data'!$C$13","v":0},{"$f":"N943*'Zdrojová data'!$C$14","v":0},0,{"$f":"IF(H943=0,D943-'Výstupy modelu'!$C$7,IF(P943=1,J943-K943,0))","v":0},0,null,{"$f":"MAX(0,IF(Q943>0,Q943-('Výstupy modelu'!$H$10-'Výstupy modelu'!$H$9),0))","v":0},null,null,{"$f":"W942","v":1865.4300000000003},1885.4300000000003,0,{"$f":"MAX(0,D943-'Vstupní hodnoty'!$C$5)","v":0}]
[null,"2017-01-10T19:15:00",1,885.6,{"$f":"CEILING(IF(C944-C943=0,IF(H943=0,I943,IF(J943>K943,I943,E943)),'Výstupy modelu'!$C$7),1)","v":1664},0,0,{"$f":"IF(F944=1,IF(G944>'Zdrojová data'!$C$19,0,1),\"\")","v":""},1664,0,{"$f":"MIN(J944,'Zdrojová data'!$C$17)","v":0},0,{"$f":"L944/'Zdrojová data'!$C$16","v":0},{"$f":"M944*'Zdrojová data'!$C$13","v":0},{"$f":"N944*'Zdrojová data'!$C$14","v":0},0,{"$f":"IF(H944=0,D944-'Výstupy modelu'!$C$7,IF(P944=1,J944-K944,0))","v":0},0,null,{"$f":"MAX(0,IF(Q944>0,Q944-('Výstupy modelu'!$H$10-'Výstupy modelu'!$H$9),0))","v":0},null,null,{"$f":"W943","v":1865.4300000000003},1885.4300000000003,0,{"$f":"MAX(0,D944-'Vstupní hodnoty'!$C$5)","v":0}]
[null,"2017-01-10T19:30:00",1,868.32,{"$f":"CEILING(IF(C945-C944=0,IF(H944=0,I944,IF(J944>K944,I944,E944)),'Výstupy modelu'!$C$7),1)","v":1664},0,0,{"$f":"IF(F945=1,IF(G945>'Zdrojová data'!$C$19,0,1),\"\")","v":""},1664,0,{"$f":"MIN(J945,'Zdrojová data'!$C$17)","v":0},0,{"$f":"L945/'Zdrojová data'!$C$16","v":0},{"$f":"M945*'Zdrojová data'!$C$13","v":0},{"$f":"N945*'Zdrojová data'!$C$14","v":0},0,{"$f":"IF(H945=0,D945-'Výstupy modelu'!$C$7,IF(P945=1,J945-K945,0))","v":0},0,null,{"$f":"MAX(0,IF(Q945>0,Q945-('Výstupy modelu'!$H$10-'Výstupy modelu'!$H$9),0))","v":0},null,null,{"$f":"W944","v":1865.4300000000003},1885.4300000000003,{"$f":"MAX(0,D945-W945)","v":0},{"$f":"MAX(0,D945-'Vstupní hodnoty'!$C$5)","v":0}]
[null,"2017-01-10T19:45:00",1,837,{"$f":"CEILING(IF(C946-C945=0,IF(H945=0,I945,IF(J945>K945,I945,E945)),'Výstupy modelu'!$C$7),1)","v":1664},0,0,{"$f":"IF(F946=1,IF(G946>'Zdrojová data'!$C$19,0,1),\"\")","v":""},1664,0,{"$f":"MIN(J946,'Zdrojová data'!$C$17)","v":0},0,{"$f":"L946/'Zdrojová data'!$C$16","v":0},{"$f":"M946*'Zdrojová data'!$C$13","v":0},{"$f":"N946*'Zdrojová data'!$C$14","v":0},0,{"$f":"IF(H946=0,D946-'Výstupy modelu'!$C$7,IF(P946=1,J946-K946,0))","v":0},0,null,{"$f":"MAX(0,IF(Q946>0,Q946-('Výstupy modelu'!$H$10-'Výstupy modelu'!$H$9),0))","v":0},null,null,{"$f":"W945","v":1865.4300000000003},1885.4300000000003,0,{"$f":"MAX(0,D946-'Vstupní hodnoty'!$C$5)","v":0}]
[null,"2017-01-10T20:00:00",1,781.92000000000007,{"$f":"CEILING(IF(C947-C946=0,IF(H946=0,I946,IF(J946>K946,I946,E946)),'Výstupy modelu'!$C$7),1)","v":1664},0,0,{"$f":"IF(F947=1,IF(G947>'Zdrojová data'!$C$19,0,1),\"\")","v":""},1664,0,{"$f":"MIN(J947,'Zdrojová data'!$C$17)","v":0},0,{"$f":"L947/'Zdrojová data'!$C$16","v":0},{"$f":"M947*'Zdrojová data'!$C$13","v":0},{"$f":"N947*'Zdrojová data'!$C$14","v":0},0,{"$f":"IF(H947=0,D947-'Výstupy modelu'!$C$7,IF(P947=1,J947-K947,0))","v":0},0,null,{"$f":"MAX(0,IF(Q947>0,Q947-('Výstupy modelu'!$H$10-'Výstupy modelu'!$H$9),0))","v":0},null,null,{"$f":"W946","v":1865.4300000000003},1885.4300000000003,0,{"$f":"MAX(0,D947-'Vstupní hodnoty'!$C$5)","v":0}]
[null,"2017-01-10T20:15:00",1,758.16000000000008,{"$f":"CEILING(IF(C948-C947=0,IF(H947=0,I947,IF(J947>K947,I947,E947)),'Výstupy modelu'!$C$7),1)","v":1664},0,0,{"$f":"IF(F948=1,IF(G948>'Zdrojová data'!$C$19,0,1),\"\")","v":""},1664,0,{"$f":"MIN(J948,'Zdrojová data'!$C$17)","v":0},0,{"$f":"L948/'Zdrojová data'!$C$16","v":0},{"$f":"M948*'Zdrojová data'!$C$13","v":0},{"$f":"N948*'Zdrojová data'!$C$14","v":0},0,{"$f":"IF(H948=0,D948-'Výstupy modelu'!$C$7,IF(P948=1,J948-K948,0))","v":0},0,null,{"$f":"MAX(0,IF(Q948>0,Q948-('Výstupy modelu'!$H$10-'Výstupy modelu'!$H$9),0))","v":0},null,null,{"$f":"W947","v":1865.4300000000003},1885.4300000000003,0,{"$f":"MAX(0,D948-'Vstupní hodnoty'!$C$5)","v":0}]
[null,"2017-01-10T20:30:00",1,802.44,{"$f":"CEILING(IF(C949-C948=0,IF(H948=0,I948,IF(J948>K948,I948,E948)),'Výstupy modelu'!$C$7),1)","v":1664},0,0,{"$f":"IF(F949=1,IF(G949>'Zdrojová data'!$C$19,0,1),\"\")","v":""},1664,0,{"$f":"MIN(J949,'Zdrojová data'!$C$17)","v":0},0,{"$f":"L949/'Zdrojová data'!$C$16","v":0},{"$f":"M949*'Zdrojová data'!$C$13","v":0},{"$f":"N949*'Zdrojová data'!$C$14","v":0},0,{"$f":"IF(H949=0,D949-'Výstupy modelu'!$C$7,IF(P949=1,J949-K949,0))","v":0},0,null,{"$f":"MAX(0,IF(Q949>0,Q949-('Výstupy modelu'!$H$10-'Výstupy modelu'!$H$9),0))","v":0},null,null,{"$f":"W948","v":1865.4300000000003},1885.4300000000003,0,{"$f":"MAX(0,D949-'Vstupní hodnoty'!$C$5)","v":0}]
[null,"2017-01-10T20:45:00",1,798.12,{"$f":"CEILING(IF(C950-C949=0,IF(H949=0,I949,IF(J949>K949,I949,E949)),'Výstupy modelu'!$C$7),1)","v":1664},0,0,{"$f":"IF(F950=1,IF(G950>'Zdrojová data'!$C$19,0,1),\"\")","v":""},1664,0,{"$f":"MIN(J950,'Zdrojová data'!$C$17)","v":0},0,{"$f":"L950/'Zdrojová data'!$C$16","v":0},{"$f":"M950*'Zdrojová data'!$C$13","v":0},{"$f":"N950*'Zdrojová data'!$C$14","v":0},0,{"$f":"IF(H950=0,D950-'Výstupy modelu'!$C$7,IF(P950=1,J950-K950,0))","v":0},0,null,{"$f":"MAX(0,IF(Q950>0,Q950-('Výstupy modelu'!$H$10-'Výstupy modelu'!$H$9),0))","v":0},null,null,{"$f":"W949","v":1865.4300000000003},1885.4300000000003,0,{"$f":"MAX(0,D950-'Vstupní hodnoty'!$C$5)","v":0}]
[null,"2017-01-10T21:00:00",1,749.5200000000001,{"$f":"CEILING(IF(C951-C950=0,IF(H950=0,I950,IF(J950>K950,I950,E950)),'Výstupy modelu'!$C$7),1)","v":1664},0,0,{"$f":"IF(F951=1,IF(G951>'Zdrojová data'!$C$19,0,1),\"\")","v":""},1664,0,{"$f":"MIN(J951,'Zdrojová data'!$C$17)","v":0},0,{"$f":"L951/'Zdrojová data'!$C$16","v":0},{"$f":"M951*'Zdrojová data'!$C$13","v":0},{"$f":"N951*'Zdrojová data'!$C$14","v":0},0,{"$f":"IF(H951=0,D951-'Výstupy modelu'!$C$7,IF(P951=1,J951-K951,0))","v":0},0,null,{"$f":"MAX(0,IF(Q951>0,Q951-('Výstupy modelu'!$H$10-'Výstupy modelu'!$H$9),0))","v":0},null,null,{"$f":"W950","v":1865.4300000000003},1885.4300000000003,0,{"$f":"MAX(0,D951-'Vstupní hodnoty'!$C$5)","v":0}]
[null,"2017-01-10T21:15:00",1,689.04000000000008,{"$f":"CEILING(IF(C952-C951=0,IF(H951=0,I951,IF(J951>K951,I951,E951)),'Výstupy modelu'!$C$7),1)","v":1664},0,0,{"$f":"IF(F952=1,IF(G952>'Zdrojová data'!$C$19,0,1),\"\")","v":""},1664,0,{"$f":"MIN(J952,'Zdrojová data'!$C$17)","v":0},0,{"$f":"L952/'Zdrojová data'!$C$16","v":0},{"$f":"M952*'Zdrojová data'!$C$13","v":0},{"$f":"N952*'Zdrojová data'!$C$14","v":0},0,{"$f":"IF(H952=0,D952-'Výstupy modelu'!$C$7,IF(P952=1,J952-K952,0))","v":0},0,null,{"$f":"MAX(0,IF(Q952>0,Q952-('Výstupy modelu'!$H$10-'Výstupy modelu'!$H$9),0))","v":0},null,null,{"$f":"W951","v":1865.4300000000003},1885.4300000000003,0,{"$f":"MAX(0,D952-'Vstupní hodnoty'!$C$5)","v":0}]
[null,"2017-01-10T21:30:00",1,655.56000000000006,{"$f":"CEILING(IF(C953-C952=0,IF(H952=0,I952,IF(J952>K952,I952,E952)),'Výstupy modelu'!$C$7),1)","v":1664},0,0,{"$f":"IF(F953=1,IF(G953>'Zdrojová data'!$C$19,0,1),\"\")","v":""},1664,0,{"$f":"MIN(J953,'Zdrojová data'!$C$17)","v":0},0,{"$f":"L953/'Zdrojová data'!$C$16","v":0},{"$f":"M953*'Zdrojová data'!$C$13","v":0},{"$f":"N953*'Zdrojová data'!$C$14","v":0},0,{"$f":"IF(H953=0,D953-'Výstupy modelu'!$C$7,IF(P953=1,J953-K953,0))","v":0},0,null,{"$f":"MAX(0,IF(Q953>0,Q953-('Výstupy modelu'!$H$10-'Výstupy modelu'!$H$9),0))","v":0},null,null,{"$f":"W952","v":1865.4300000000003},1885.4300000000003,0,{"$f":"MAX(0,D953-'Vstupní hodnoty'!$C$5)","v":0}]
[null,"2017-01-10T21:45:00",1,617.76,{"$f":"CEILING(IF(C954-C953=0,IF(H953=0,I953,IF(J953>K953,I953,E953)),'Výstupy modelu'!$C$7),1)","v":1664},0,0,{"$f":"IF(F954=1,IF(G954>'Zdrojová data'!$C$19,0,1),\"\")","v":""},1664,0,{"$f":"MIN(J954,'Zdrojová data'!$C$17)","v":0},0,{"$f":"L954/'Zdrojová data'!$C$16","v":0},{"$f":"M954*'Zdrojová data'!$C$13","v":0},{"$f":"N954*'Zdrojová data'!$C$14","v":0},0,{"$f":"IF(H954=0,D954-'Výstupy modelu'!$C$7,IF(P954=1,J954-K954,0))","v":0},0,null,{"$f":"MAX(0,IF(Q954>0,Q954-('Výstupy modelu'!$H$10-'Výstupy modelu'!$H$9),0))","v":0},null,null,{"$f":"W953","v":1865.4300000000003},1885.4300000000003,0,{"$f":"MAX(0,D954-'Vstupní hodnoty'!$C$5)","v":0}]
[null,"2017-01-10T22:00:00",1,561.6,{"$f":"CEILING(IF(C955-C954=0,IF(H954=0,I954,IF(J954>K954,I954,E954)),'Výstupy modelu'!$C$7),1)","v":1664},0,0,{"$f":"IF(F955=1,IF(G955>'Zdrojová data'!$C$19,0,1),\"\")","v":""},1664,0,{"$f":"MIN(J955,'Zdrojová data'!$C$17)","v":0},0,{"$f":"L955/'Zdrojová data'!$C$16","v":0},{"$f":"M955*'Zdrojová data'!$C$13","v":0},{"$f":"N955*'Zdrojová data'!$C$14","v":0},0,{"$f":"IF(H955=0,D955-'Výstupy modelu'!$C$7,IF(P955=1,J955-K955,0))","v":0},0,null,{"$f":"MAX(0,IF(Q955>0,Q955-('Výstupy modelu'!$H$10-'Výstupy modelu'!$H$9),0))","v":0},null,null,{"$f":"W954","v":1865.4300000000003},1885.4300000000003,0,{"$f":"MAX(0,D955-'Vstupní hodnoty'!$C$5)","v":0}]
[null,"2017-01-10T22:15:00",1,474.12,{"$f":"CEILING(IF(C956-C955=0,IF(H955=0,I955,IF(J955>K955,I955,E955)),'Výstupy modelu'!$C$7),1)","v":1664},0,0,{"$f":"IF(F956=1,IF(G956>'Zdrojová data'!$C$19,0,1),\"\")","v":""},1664,0,{"$f":"MIN(J956,'Zdrojová data'!$C$17)","v":0},0,{"$f":"L956/'Zdrojová data'!$C$16","v":0},{"$f":"M956*'Zdrojová data'!$C$13","v":0},{"$f":"N956*'Zdrojová data'!$C$14","v":0},0,{"$f":"IF(H956=0,D956-'Výstupy modelu'!$C$7,IF(P956=1,J956-K956,0))","v":0},0,null,{"$f":"MAX(0,IF(Q956>0,Q956-('Výstupy modelu'!$H$10-'Výstupy modelu'!$H$9),0))","v":0},null,null,{"$f":"W955","v":1865.4300000000003},1885.4300000000003,0,{"$f":"MAX(0,D956-'Vstupní hodnoty'!$C$5)","v":0}]
[null,"2017-01-10T22:30:00",1,447.12,{"$f":"CEILING(IF(C957-C956=0,IF(H956=0,I956,IF(J956>K956,I956,E956)),'Výstupy modelu'!$C$7),1)","v":1664},0,0,{"$f":"IF(F957=1,IF(G957>'Zdrojová data'!$C$19,0,1),\"\")","v":""},1664,0,{"$f":"MIN(J957,'Zdrojová data'!$C$17)","v":0},0,{"$f":"L957/'Zdrojová data'!$C$16","v":0},{"$f":"M957*'Zdrojová data'!$C$13","v":0},{"$f":"N957*'Zdrojová data'!$C$14","v":0},0,{"$f":"IF(H957=0,D957-'Výstupy modelu'!$C$7,IF(P957=1,J957-K957,0))","v":0},0,null,{"$f":"MAX(0,IF(Q957>0,Q957-('Výstupy modelu'!$H$10-'Výstupy modelu'!$H$9),0))","v":0},null,null,{"$f":"W956","v":1865.4300000000003},1885.4300000000003,0,{"$f":"MAX(0,D957-'Vstupní hodnoty'!$C$5)","v":0}]
[null,"2017-01-10T22:45:00",1,433.08000000000004,{"$f":"CEILING(IF(C958-C957=0,IF(H957=0,I957,IF(J957>K957,I957,E957)),'Výstupy modelu'!$C$7),1)","v":1664},0,0,{"$f":"IF(F958=1,IF(G958>'Zdrojová data'!$C$19,0,1),\"\")","v":""},1664,0,{"$f":"MIN(J958,'Zdrojová data'!$C$17)","v":0},0,{"$f":"L958/'Zdrojová data'!$C$16","v":0},{"$f":"M958*'Zdrojová data'!$C$13","v":0},{"$f":"N958*'Zdrojová data'!$C$14","v":0},0,{"$f":"IF(H958=0,D958-'Výstupy modelu'!$C$7,IF(P958=1,J958-K958,0))","v":0},0,null,{"$f":"MAX(0,IF(Q958>0,Q958-('Výstupy modelu'!$H$10-'Výstupy modelu'!$H$9),0))","v":0},null,null,{"$f":"W957","v":1865.4300000000003},1885.4300000000003,0,{"$f":"MAX(0,D958-'Vstupní hodnoty'!$C$5)","v":0}]
[null,"2017-01-10T23:00:00",1,417.96000000000004,{"$f":"CEILING(IF(C959-C958=0,IF(H958=0,I958,IF(J958>K958,I958,E958)),'Výstupy modelu'!$C$7),1)","v":1664},0,0,{"$f":"IF(F959=1,IF(G959>'Zdrojová data'!$C$19,0,1),\"\")","v":""},1664,0,{"$f":"MIN(J959,'Zdrojová data'!$C$17)","v":0},0,{"$f":"L959/'Zdrojová data'!$C$16","v":0},{"$f":"M959*'Zdrojová data'!$C$13","v":0},{"$f":"N959*'Zdrojová data'!$C$14","v":0},0,{"$f":"IF(H959=0,D959-'Výstupy modelu'!$C$7,IF(P959=1,J959-K959,0))","v":0},0,null,{"$f":"MAX(0,IF(Q959>0,Q959-('Výstupy modelu'!$H$10-'Výstupy modelu'!$H$9),0))","v":0},null,null,{"$f":"W958","v":1865.4300000000003},1885.4300000000003,0,{"$f":"MAX(0,D959-'Vstupní hodnoty'!$C$5)","v":0}]
[null,"2017-01-10T23:15:00",1,417.96000000000004,{"$f":"CEILING(IF(C960-C959=0,IF(H959=0,I959,IF(J959>K959,I959,E959)),'Výstupy modelu'!$C$7),1)","v":1664},0,0,{"$f":"IF(F960=1,IF(G960>'Zdrojová data'!$C$19,0,1),\"\")","v":""},1664,0,{"$f":"MIN(J960,'Zdrojová data'!$C$17)","v":0},0,{"$f":"L960/'Zdrojová data'!$C$16","v":0},{"$f":"M960*'Zdrojová data'!$C$13","v":0},{"$f":"N960*'Zdrojová data'!$C$14","v":0},0,{"$f":"IF(H960=0,D960-'Výstupy modelu'!$C$7,IF(P960=1,J960-K960,0))","v":0},0,null,{"$f":"MAX(0,IF(Q960>0,Q960-('Výstupy modelu'!$H$10-'Výstupy modelu'!$H$9),0))","v":0},null,null,{"$f":"W959","v":1865.4300000000003},1885.4300000000003,0,{"$f":"MAX(0,D960-'Vstupní hodnoty'!$C$5)","v":0}]
[null,"2017-01-10T23:30:00",1,417.96000000000004,{"$f":"CEILING(IF(C961-C960=0,IF(H960=0,I960,IF(J960>K960,I960,E960)),'Výstupy modelu'!$C$7),1)","v":1664},0,0,{"$f":"IF(F961=1,IF(G961>'Zdrojová data'!$C$19,0,1),\"\")","v":""},1664,0,{"$f":"MIN(J961,'Zdrojová data'!$C$17)","v":0},0,{"$f":"L961/'Zdrojová data'!$C$16","v":0},{"$f":"M961*'Zdrojová data'!$C$13","v":0},{"$f":"N961*'Zdrojová data'!$C$14","v":0},0,{"$f":"IF(H961=0,D961-'Výstupy modelu'!$C$7,IF(P961=1,J961-K961,0))","v":0},0,null,{"$f":"MAX(0,IF(Q961>0,Q961-('Výstupy modelu'!$H$10-'Výstupy modelu'!$H$9),0))","v":0},null,null,{"$f":"W960","v":1865.4300000000003},1885.4300000000003,0,{"$f":"MAX(0,D961-'Vstupní hodnoty'!$C$5)","v":0}]
[null,"2017-01-10T23:45:00",1,393.12,{"$f":"CEILING(IF(C962-C961=0,IF(H961=0,I961,IF(J961>K961,I961,E961)),'Výstupy modelu'!$C$7),1)","v":1664},0,0,{"$f":"IF(F962=1,IF(G962>'Zdrojová data'!$C$19,0,1),\"\")","v":""},1664,0,{"$f":"MIN(J962,'Zdrojová data'!$C$17)","v":0},0,{"$f":"L962/'Zdrojová data'!$C$16","v":0},{"$f":"M962*'Zdrojová data'!$C$13","v":0},{"$f":"N962*'Zdrojová data'!$C$14","v":0},0,{"$f":"IF(H962=0,D962-'Výstupy modelu'!$C$7,IF(P962=1,J962-K962,0))","v":0},0,null,{"$f":"MAX(0,IF(Q962>0,Q962-('Výstupy modelu'!$H$10-'Výstupy modelu'!$H$9),0))","v":0},null,null,{"$f":"W961","v":1865.4300000000003},1885.4300000000003,0,{"$f":"MAX(0,D962-'Vstupní hodnoty'!$C$5)","v":0}]
[null,"2017-01-11",1,372.6,{"$f":"CEILING(IF(C963-C962=0,IF(H962=0,I962,IF(J962>K962,I962,E962)),'Výstupy modelu'!$C$7),1)","v":1664},0,0,{"$f":"IF(F963=1,IF(G963>'Zdrojová data'!$C$19,0,1),\"\")","v":""},1664,0,{"$f":"MIN(J963,'Zdrojová data'!$C$17)","v":0},0,{"$f":"L963/'Zdrojová data'!$C$16","v":0},{"$f":"M963*'Zdrojová data'!$C$13","v":0},{"$f":"N963*'Zdrojová data'!$C$14","v":0},0,{"$f":"IF(H963=0,D963-'Výstupy modelu'!$C$7,IF(P963=1,J963-K963,0))","v":0},0,null,{"$f":"MAX(0,IF(Q963>0,Q963-('Výstupy modelu'!$H$10-'Výstupy modelu'!$H$9),0))","v":0},null,null,{"$f":"W962","v":1865.4300000000003},1885.4300000000003,0,{"$f":"MAX(0,D963-'Vstupní hodnoty'!$C$5)","v":0}]
[null,"2017-01-11T00:15:00",1,352.08000000000004,{"$f":"CEILING(IF(C964-C963=0,IF(H963=0,I963,IF(J963>K963,I963,E963)),'Výstupy modelu'!$C$7),1)","v":1664},{"$f":"IF(D964>E964,1,0)","v":0},0,{"$f":"IF(F964=1,IF(G964>'Zdrojová data'!$C$19,0,1),\"\")","v":""},{"$f":"IF(H964=0,D964,IF(J964>K964,E964+J964-K964,E964))","v":1664},{"$f":"IF(H964=1,D964-E964,0)","v":0},{"$f":"MIN(J964,'Zdrojová data'!$C$17)","v":0},0,{"$f":"L964/'Zdrojová data'!$C$16","v":0},{"$f":"M964*'Zdrojová data'!$C$13","v":0},{"$f":"N964*'Zdrojová data'!$C$14","v":0},0,{"$f":"IF(H964=0,D964-'Výstupy modelu'!$C$7,IF(P964=1,J964-K964,0))","v":0},0,null,{"$f":"MAX(0,IF(Q964>0,Q964-('Výstupy modelu'!$H$10-'Výstupy modelu'!$H$9),0))","v":0},null,null,{"$f":"W963","v":1865.4300000000003},1885.4300000000003,0,{"$f":"MAX(0,D964-'Vstupní hodnoty'!$C$5)","v":0}]
[null,"2017-01-11T00:30:00",{"$f":"MONTH(B965)","v":1},349.92,{"$f":"CEILING(IF(C965-C964=0,IF(H964=0,I964,IF(J964>K964,I964,E964)),'Výstupy modelu'!$C$7),1)","v":1664},0,{"$f":"IF(F965=1,RANDBETWEEN(0,100),0)","v":0},{"$f":"IF(F965=1,IF(G965>'Zdrojová data'!$C$19,0,1),\"\")","v":""},1664,0,{"$f":"MIN(J965,'Zdrojová data'!$C$17)","v":0},{"$f":"K965/4","v":0},{"$f":"L965/'Zdrojová data'!$C$16","v":0},{"$f":"M965*'Zdrojová data'!$C$13","v":0},{"$f":"N965*'Zdrojová data'!$C$14","v":0},{"$f":"IF(H965=0,1,IF(J965>K965,1,0))","v":0},{"$f":"IF(H965=0,D965-'Výstupy modelu'!$C$7,IF(P965=1,J965-K965,0))","v":0},{"$f":"IF(H965=0,1,IF(J965>K965,1,0))","v":0},null,{"$f":"MAX(0,IF(Q965>0,Q965-('Výstupy modelu'!$H$10-'Výstupy modelu'!$H$9),0))","v":0},null,null,{"$f":"W964","v":1865.4300000000003},1885.4300000000003,0,{"$f":"MAX(0,D965-'Vstupní hodnoty'!$C$5)","v":0}]
[null,"2017-01-11T00:45:00",1,355.32000000000005,{"$f":"CEILING(IF(C966-C965=0,IF(H965=0,I965,IF(J965>K965,I965,E965)),'Výstupy modelu'!$C$7),1)","v":1664},0,0,{"$f":"IF(F966=1,IF(G966>'Zdrojová data'!$C$19,0,1),\"\")","v":""},1664,0,{"$f":"MIN(J966,'Zdrojová data'!$C$17)","v":0},0,{"$f":"L966/'Zdrojová data'!$C$16","v":0},{"$f":"M966*'Zdrojová data'!$C$13","v":0},{"$f":"N966*'Zdrojová data'!$C$14","v":0},0,{"$f":"IF(H966=0,D966-'Výstupy modelu'!$C$7,IF(P966=1,J966-K966,0))","v":0},0,null,{"$f":"MAX(0,IF(Q966>0,Q966-('Výstupy modelu'!$H$10-'Výstupy modelu'!$H$9),0))","v":0},null,null,{"$f":"W965","v":1865.4300000000003},1885.4300000000003,0,{"$f":"MAX(0,D966-'Vstupní hodnoty'!$C$5)","v":0}]
[null,"2017-01-11T01:00:00",1,360.72,{"$f":"CEILING(IF(C967-C966=0,IF(H966=0,I966,IF(J966>K966,I966,E966)),'Výstupy modelu'!$C$7),1)","v":1664},0,0,{"$f":"IF(F967=1,IF(G967>'Zdrojová data'!$C$19,0,1),\"\")","v":""},1664,0,{"$f":"MIN(J967,'Zdrojová data'!$C$17)","v":0},0,{"$f":"L967/'Zdrojová data'!$C$16","v":0},{"$f":"M967*'Zdrojová data'!$C$13","v":0},{"$f":"N967*'Zdrojová data'!$C$14","v":0},0,{"$f":"IF(H967=0,D967-'Výstupy modelu'!$C$7,IF(P967=1,J967-K967,0))","v":0},0,null,{"$f":"MAX(0,IF(Q967>0,Q967-('Výstupy modelu'!$H$10-'Výstupy modelu'!$H$9),0))","v":0},null,null,{"$f":"W966","v":1865.4300000000003},1885.4300000000003,0,{"$f":"MAX(0,D967-'Vstupní hodnoty'!$C$5)","v":0}]
[null,"2017-01-11T01:15:00",1,349.92,{"$f":"CEILING(IF(C968-C967=0,IF(H967=0,I967,IF(J967>K967,I967,E967)),'Výstupy modelu'!$C$7),1)","v":1664},0,0,{"$f":"IF(F968=1,IF(G968>'Zdrojová data'!$C$19,0,1),\"\")","v":""},1664,0,{"$f":"MIN(J968,'Zdrojová data'!$C$17)","v":0},0,{"$f":"L968/'Zdrojová data'!$C$16","v":0},{"$f":"M968*'Zdrojová data'!$C$13","v":0},{"$f":"N968*'Zdrojová data'!$C$14","v":0},0,{"$f":"IF(H968=0,D968-'Výstupy modelu'!$C$7,IF(P968=1,J968-K968,0))","v":0},0,null,{"$f":"MAX(0,IF(Q968>0,Q968-('Výstupy modelu'!$H$10-'Výstupy modelu'!$H$9),0))","v":0},null,null,{"$f":"W967","v":1865.4300000000003},1885.4300000000003,0,{"$f":"MAX(0,D968-'Vstupní hodnoty'!$C$5)","v":0}]
[null,"2017-01-11T01:30:00",1,346.68,{"$f":"CEILING(IF(C969-C968=0,IF(H968=0,I968,IF(J968>K968,I968,E968)),'Výstupy modelu'!$C$7),1)","v":1664},0,0,{"$f":"IF(F969=1,IF(G969>'Zdrojová data'!$C$19,0,1),\"\")","v":""},1664,0,{"$f":"MIN(J969,'Zdrojová data'!$C$17)","v":0},0,{"$f":"L969/'Zdrojová data'!$C$16","v":0},{"$f":"M969*'Zdrojová data'!$C$13","v":0},{"$f":"N969*'Zdrojová data'!$C$14","v":0},0,{"$f":"IF(H969=0,D969-'Výstupy modelu'!$C$7,IF(P969=1,J969-K969,0))","v":0},0,null,{"$f":"MAX(0,IF(Q969>0,Q969-('Výstupy modelu'!$H$10-'Výstupy modelu'!$H$9),0))","v":0},null,null,{"$f":"W968","v":1865.4300000000003},1885.4300000000003,0,{"$f":"MAX(0,D969-'Vstupní hodnoty'!$C$5)","v":0}]
[null,"2017-01-11T01:45:00",1,348.84000000000003,{"$f":"CEILING(IF(C970-C969=0,IF(H969=0,I969,IF(J969>K969,I969,E969)),'Výstupy modelu'!$C$7),1)","v":1664},0,0,{"$f":"IF(F970=1,IF(G970>'Zdrojová data'!$C$19,0,1),\"\")","v":""},1664,0,{"$f":"MIN(J970,'Zdrojová data'!$C$17)","v":0},0,{"$f":"L970/'Zdrojová data'!$C$16","v":0},{"$f":"M970*'Zdrojová data'!$C$13","v":0},{"$f":"N970*'Zdrojová data'!$C$14","v":0},0,{"$f":"IF(H970=0,D970-'Výstupy modelu'!$C$7,IF(P970=1,J970-K970,0))","v":0},0,null,{"$f":"MAX(0,IF(Q970>0,Q970-('Výstupy modelu'!$H$10-'Výstupy modelu'!$H$9),0))","v":0},null,null,{"$f":"W969","v":1865.4300000000003},1885.4300000000003,0,{"$f":"MAX(0,D970-'Vstupní hodnoty'!$C$5)","v":0}]
[null,"2017-01-11T02:00:00",1,354.24,{"$f":"CEILING(IF(C971-C970=0,IF(H970=0,I970,IF(J970>K970,I970,E970)),'Výstupy modelu'!$C$7),1)","v":1664},0,0,{"$f":"IF(F971=1,IF(G971>'Zdrojová data'!$C$19,0,1),\"\")","v":""},1664,0,{"$f":"MIN(J971,'Zdrojová data'!$C$17)","v":0},0,{"$f":"L971/'Zdrojová data'!$C$16","v":0},{"$f":"M971*'Zdrojová data'!$C$13","v":0},{"$f":"N971*'Zdrojová data'!$C$14","v":0},0,{"$f":"IF(H971=0,D971-'Výstupy modelu'!$C$7,IF(P971=1,J971-K971,0))","v":0},0,null,{"$f":"MAX(0,IF(Q971>0,Q971-('Výstupy modelu'!$H$10-'Výstupy modelu'!$H$9),0))","v":0},null,null,{"$f":"W970","v":1865.4300000000003},1885.4300000000003,0,{"$f":"MAX(0,D971-'Vstupní hodnoty'!$C$5)","v":0}]
[null,"2017-01-11T02:15:00",1,426.6,{"$f":"CEILING(IF(C972-C971=0,IF(H971=0,I971,IF(J971>K971,I971,E971)),'Výstupy modelu'!$C$7),1)","v":1664},0,0,{"$f":"IF(F972=1,IF(G972>'Zdrojová data'!$C$19,0,1),\"\")","v":""},1664,0,{"$f":"MIN(J972,'Zdrojová data'!$C$17)","v":0},0,{"$f":"L972/'Zdrojová data'!$C$16","v":0},{"$f":"M972*'Zdrojová data'!$C$13","v":0},{"$f":"N972*'Zdrojová data'!$C$14","v":0},0,{"$f":"IF(H972=0,D972-'Výstupy modelu'!$C$7,IF(P972=1,J972-K972,0))","v":0},0,null,{"$f":"MAX(0,IF(Q972>0,Q972-('Výstupy modelu'!$H$10-'Výstupy modelu'!$H$9),0))","v":0},null,null,{"$f":"W971","v":1865.4300000000003},1885.4300000000003,0,{"$f":"MAX(0,D972-'Vstupní hodnoty'!$C$5)","v":0}]
[null,"2017-01-11T02:30:00",1,451.44000000000005,{"$f":"CEILING(IF(C973-C972=0,IF(H972=0,I972,IF(J972>K972,I972,E972)),'Výstupy modelu'!$C$7),1)","v":1664},0,0,{"$f":"IF(F973=1,IF(G973>'Zdrojová data'!$C$19,0,1),\"\")","v":""},1664,0,{"$f":"MIN(J973,'Zdrojová data'!$C$17)","v":0},0,{"$f":"L973/'Zdrojová data'!$C$16","v":0},{"$f":"M973*'Zdrojová data'!$C$13","v":0},{"$f":"N973*'Zdrojová data'!$C$14","v":0},0,{"$f":"IF(H973=0,D973-'Výstupy modelu'!$C$7,IF(P973=1,J973-K973,0))","v":0},0,null,{"$f":"MAX(0,IF(Q973>0,Q973-('Výstupy modelu'!$H$10-'Výstupy modelu'!$H$9),0))","v":0},null,null,{"$f":"W972","v":1865.4300000000003},1885.4300000000003,0,{"$f":"MAX(0,D973-'Vstupní hodnoty'!$C$5)","v":0}]
[null,"2017-01-11T02:45:00",1,442.8,{"$f":"CEILING(IF(C974-C973=0,IF(H973=0,I973,IF(J973>K973,I973,E973)),'Výstupy modelu'!$C$7),1)","v":1664},0,0,{"$f":"IF(F974=1,IF(G974>'Zdrojová data'!$C$19,0,1),\"\")","v":""},1664,0,{"$f":"MIN(J974,'Zdrojová data'!$C$17)","v":0},0,{"$f":"L974/'Zdrojová data'!$C$16","v":0},{"$f":"M974*'Zdrojová data'!$C$13","v":0},{"$f":"N974*'Zdrojová data'!$C$14","v":0},0,{"$f":"IF(H974=0,D974-'Výstupy modelu'!$C$7,IF(P974=1,J974-K974,0))","v":0},0,null,{"$f":"MAX(0,IF(Q974>0,Q974-('Výstupy modelu'!$H$10-'Výstupy modelu'!$H$9),0))","v":0},null,null,{"$f":"W973","v":1865.4300000000003},1885.4300000000003,0,{"$f":"MAX(0,D974-'Vstupní hodnoty'!$C$5)","v":0}]
[null,"2017-01-11T03:00:00",1,420.12,{"$f":"CEILING(IF(C975-C974=0,IF(H974=0,I974,IF(J974>K974,I974,E974)),'Výstupy modelu'!$C$7),1)","v":1664},0,0,{"$f":"IF(F975=1,IF(G975>'Zdrojová data'!$C$19,0,1),\"\")","v":""},1664,0,{"$f":"MIN(J975,'Zdrojová data'!$C$17)","v":0},0,{"$f":"L975/'Zdrojová data'!$C$16","v":0},{"$f":"M975*'Zdrojová data'!$C$13","v":0},{"$f":"N975*'Zdrojová data'!$C$14","v":0},0,{"$f":"IF(H975=0,D975-'Výstupy modelu'!$C$7,IF(P975=1,J975-K975,0))","v":0},0,null,{"$f":"MAX(0,IF(Q975>0,Q975-('Výstupy modelu'!$H$10-'Výstupy modelu'!$H$9),0))","v":0},null,null,{"$f":"W974","v":1865.4300000000003},1885.4300000000003,0,{"$f":"MAX(0,D975-'Vstupní hodnoty'!$C$5)","v":0}]
[null,"2017-01-11T03:15:00",1,456.84000000000003,{"$f":"CEILING(IF(C976-C975=0,IF(H975=0,I975,IF(J975>K975,I975,E975)),'Výstupy modelu'!$C$7),1)","v":1664},0,0,{"$f":"IF(F976=1,IF(G976>'Zdrojová data'!$C$19,0,1),\"\")","v":""},1664,0,{"$f":"MIN(J976,'Zdrojová data'!$C$17)","v":0},0,{"$f":"L976/'Zdrojová data'!$C$16","v":0},{"$f":"M976*'Zdrojová data'!$C$13","v":0},{"$f":"N976*'Zdrojová data'!$C$14","v":0},0,{"$f":"IF(H976=0,D976-'Výstupy modelu'!$C$7,IF(P976=1,J976-K976,0))","v":0},0,null,{"$f":"MAX(0,IF(Q976>0,Q976-('Výstupy modelu'!$H$10-'Výstupy modelu'!$H$9),0))","v":0},null,null,{"$f":"W975","v":1865.4300000000003},1885.4300000000003,0,{"$f":"MAX(0,D976-'Vstupní hodnoty'!$C$5)","v":0}]
[null,"2017-01-11T03:30:00",1,478.44000000000005,{"$f":"CEILING(IF(C977-C976=0,IF(H976=0,I976,IF(J976>K976,I976,E976)),'Výstupy modelu'!$C$7),1)","v":1664},0,0,{"$f":"IF(F977=1,IF(G977>'Zdrojová data'!$C$19,0,1),\"\")","v":""},1664,0,{"$f":"MIN(J977,'Zdrojová data'!$C$17)","v":0},0,{"$f":"L977/'Zdrojová data'!$C$16","v":0},{"$f":"M977*'Zdrojová data'!$C$13","v":0},{"$f":"N977*'Zdrojová data'!$C$14","v":0},0,{"$f":"IF(H977=0,D977-'Výstupy modelu'!$C$7,IF(P977=1,J977-K977,0))","v":0},0,null,{"$f":"MAX(0,IF(Q977>0,Q977-('Výstupy modelu'!$H$10-'Výstupy modelu'!$H$9),0))","v":0},null,null,{"$f":"W976","v":1865.4300000000003},1885.4300000000003,0,{"$f":"MAX(0,D977-'Vstupní hodnoty'!$C$5)","v":0}]
[null,"2017-01-11T03:45:00",1,497.88000000000005,{"$f":"CEILING(IF(C978-C977=0,IF(H977=0,I977,IF(J977>K977,I977,E977)),'Výstupy modelu'!$C$7),1)","v":1664},0,0,{"$f":"IF(F978=1,IF(G978>'Zdrojová data'!$C$19,0,1),\"\")","v":""},1664,0,{"$f":"MIN(J978,'Zdrojová data'!$C$17)","v":0},0,{"$f":"L978/'Zdrojová data'!$C$16","v":0},{"$f":"M978*'Zdrojová data'!$C$13","v":0},{"$f":"N978*'Zdrojová data'!$C$14","v":0},0,{"$f":"IF(H978=0,D978-'Výstupy modelu'!$C$7,IF(P978=1,J978-K978,0))","v":0},0,null,{"$f":"MAX(0,IF(Q978>0,Q978-('Výstupy modelu'!$H$10-'Výstupy modelu'!$H$9),0))","v":0},null,null,{"$f":"W977","v":1865.4300000000003},1885.4300000000003,0,{"$f":"MAX(0,D978-'Vstupní hodnoty'!$C$5)","v":0}]
[null,"2017-01-11T04:00:00",1,455.76000000000005,{"$f":"CEILING(IF(C979-C978=0,IF(H978=0,I978,IF(J978>K978,I978,E978)),'Výstupy modelu'!$C$7),1)","v":1664},0,0,{"$f":"IF(F979=1,IF(G979>'Zdrojová data'!$C$19,0,1),\"\")","v":""},1664,0,{"$f":"MIN(J979,'Zdrojová data'!$C$17)","v":0},0,{"$f":"L979/'Zdrojová data'!$C$16","v":0},{"$f":"M979*'Zdrojová data'!$C$13","v":0},{"$f":"N979*'Zdrojová data'!$C$14","v":0},0,{"$f":"IF(H979=0,D979-'Výstupy modelu'!$C$7,IF(P979=1,J979-K979,0))","v":0},0,null,{"$f":"MAX(0,IF(Q979>0,Q979-('Výstupy modelu'!$H$10-'Výstupy modelu'!$H$9),0))","v":0},null,null,{"$f":"W978","v":1865.4300000000003},1885.4300000000003,0,{"$f":"MAX(0,D979-'Vstupní hodnoty'!$C$5)","v":0}]
[null,"2017-01-11T04:15:00",1,560.52,{"$f":"CEILING(IF(C980-C979=0,IF(H979=0,I979,IF(J979>K979,I979,E979)),'Výstupy modelu'!$C$7),1)","v":1664},0,0,{"$f":"IF(F980=1,IF(G980>'Zdrojová data'!$C$19,0,1),\"\")","v":""},1664,0,{"$f":"MIN(J980,'Zdrojová data'!$C$17)","v":0},0,{"$f":"L980/'Zdrojová data'!$C$16","v":0},{"$f":"M980*'Zdrojová data'!$C$13","v":0},{"$f":"N980*'Zdrojová data'!$C$14","v":0},0,{"$f":"IF(H980=0,D980-'Výstupy modelu'!$C$7,IF(P980=1,J980-K980,0))","v":0},0,null,{"$f":"MAX(0,IF(Q980>0,Q980-('Výstupy modelu'!$H$10-'Výstupy modelu'!$H$9),0))","v":0},null,null,{"$f":"W979","v":1865.4300000000003},1885.4300000000003,0,{"$f":"MAX(0,D980-'Vstupní hodnoty'!$C$5)","v":0}]
[null,"2017-01-11T04:30:00",1,520.56000000000006,{"$f":"CEILING(IF(C981-C980=0,IF(H980=0,I980,IF(J980>K980,I980,E980)),'Výstupy modelu'!$C$7),1)","v":1664},0,0,{"$f":"IF(F981=1,IF(G981>'Zdrojová data'!$C$19,0,1),\"\")","v":""},1664,0,{"$f":"MIN(J981,'Zdrojová data'!$C$17)","v":0},0,{"$f":"L981/'Zdrojová data'!$C$16","v":0},{"$f":"M981*'Zdrojová data'!$C$13","v":0},{"$f":"N981*'Zdrojová data'!$C$14","v":0},0,{"$f":"IF(H981=0,D981-'Výstupy modelu'!$C$7,IF(P981=1,J981-K981,0))","v":0},0,null,{"$f":"MAX(0,IF(Q981>0,Q981-('Výstupy modelu'!$H$10-'Výstupy modelu'!$H$9),0))","v":0},null,null,{"$f":"W980","v":1865.4300000000003},1885.4300000000003,0,{"$f":"MAX(0,D981-'Vstupní hodnoty'!$C$5)","v":0}]
[null,"2017-01-11T04:45:00",1,497.88000000000005,{"$f":"CEILING(IF(C982-C981=0,IF(H981=0,I981,IF(J981>K981,I981,E981)),'Výstupy modelu'!$C$7),1)","v":1664},0,0,{"$f":"IF(F982=1,IF(G982>'Zdrojová data'!$C$19,0,1),\"\")","v":""},1664,0,{"$f":"MIN(J982,'Zdrojová data'!$C$17)","v":0},0,{"$f":"L982/'Zdrojová data'!$C$16","v":0},{"$f":"M982*'Zdrojová data'!$C$13","v":0},{"$f":"N982*'Zdrojová data'!$C$14","v":0},0,{"$f":"IF(H982=0,D982-'Výstupy modelu'!$C$7,IF(P982=1,J982-K982,0))","v":0},0,null,{"$f":"MAX(0,IF(Q982>0,Q982-('Výstupy modelu'!$H$10-'Výstupy modelu'!$H$9),0))","v":0},null,null,{"$f":"W981","v":1865.4300000000003},1885.4300000000003,0,{"$f":"MAX(0,D982-'Vstupní hodnoty'!$C$5)","v":0}]
[null,"2017-01-11T05:00:00",1,565.92000000000007,{"$f":"CEILING(IF(C983-C982=0,IF(H982=0,I982,IF(J982>K982,I982,E982)),'Výstupy modelu'!$C$7),1)","v":1664},0,0,{"$f":"IF(F983=1,IF(G983>'Zdrojová data'!$C$19,0,1),\"\")","v":""},1664,0,{"$f":"MIN(J983,'Zdrojová data'!$C$17)","v":0},0,{"$f":"L983/'Zdrojová data'!$C$16","v":0},{"$f":"M983*'Zdrojová data'!$C$13","v":0},{"$f":"N983*'Zdrojová data'!$C$14","v":0},0,{"$f":"IF(H983=0,D983-'Výstupy modelu'!$C$7,IF(P983=1,J983-K983,0))","v":0},0,null,{"$f":"MAX(0,IF(Q983>0,Q983-('Výstupy modelu'!$H$10-'Výstupy modelu'!$H$9),0))","v":0},null,null,{"$f":"W982","v":1865.4300000000003},1885.4300000000003,0,{"$f":"MAX(0,D983-'Vstupní hodnoty'!$C$5)","v":0}]
[null,"2017-01-11T05:15:00",1,644.76,{"$f":"CEILING(IF(C984-C983=0,IF(H983=0,I983,IF(J983>K983,I983,E983)),'Výstupy modelu'!$C$7),1)","v":1664},0,0,{"$f":"IF(F984=1,IF(G984>'Zdrojová data'!$C$19,0,1),\"\")","v":""},1664,0,{"$f":"MIN(J984,'Zdrojová data'!$C$17)","v":0},0,{"$f":"L984/'Zdrojová data'!$C$16","v":0},{"$f":"M984*'Zdrojová data'!$C$13","v":0},{"$f":"N984*'Zdrojová data'!$C$14","v":0},0,{"$f":"IF(H984=0,D984-'Výstupy modelu'!$C$7,IF(P984=1,J984-K984,0))","v":0},0,null,{"$f":"MAX(0,IF(Q984>0,Q984-('Výstupy modelu'!$H$10-'Výstupy modelu'!$H$9),0))","v":0},null,null,{"$f":"W983","v":1865.4300000000003},1885.4300000000003,0,{"$f":"MAX(0,D984-'Vstupní hodnoty'!$C$5)","v":0}]
[null,"2017-01-11T05:30:00",1,691.2,{"$f":"CEILING(IF(C985-C984=0,IF(H984=0,I984,IF(J984>K984,I984,E984)),'Výstupy modelu'!$C$7),1)","v":1664},0,0,{"$f":"IF(F985=1,IF(G985>'Zdrojová data'!$C$19,0,1),\"\")","v":""},1664,0,{"$f":"MIN(J985,'Zdrojová data'!$C$17)","v":0},0,{"$f":"L985/'Zdrojová data'!$C$16","v":0},{"$f":"M985*'Zdrojová data'!$C$13","v":0},{"$f":"N985*'Zdrojová data'!$C$14","v":0},0,{"$f":"IF(H985=0,D985-'Výstupy modelu'!$C$7,IF(P985=1,J985-K985,0))","v":0},0,null,{"$f":"MAX(0,IF(Q985>0,Q985-('Výstupy modelu'!$H$10-'Výstupy modelu'!$H$9),0))","v":0},null,null,{"$f":"W984","v":1865.4300000000003},1885.4300000000003,0,{"$f":"MAX(0,D985-'Vstupní hodnoty'!$C$5)","v":0}]
[null,"2017-01-11T05:45:00",1,738.72,{"$f":"CEILING(IF(C986-C985=0,IF(H985=0,I985,IF(J985>K985,I985,E985)),'Výstupy modelu'!$C$7),1)","v":1664},0,0,{"$f":"IF(F986=1,IF(G986>'Zdrojová data'!$C$19,0,1),\"\")","v":""},1664,0,{"$f":"MIN(J986,'Zdrojová data'!$C$17)","v":0},0,{"$f":"L986/'Zdrojová data'!$C$16","v":0},{"$f":"M986*'Zdrojová data'!$C$13","v":0},{"$f":"N986*'Zdrojová data'!$C$14","v":0},0,{"$f":"IF(H986=0,D986-'Výstupy modelu'!$C$7,IF(P986=1,J986-K986,0))","v":0},0,null,{"$f":"MAX(0,IF(Q986>0,Q986-('Výstupy modelu'!$H$10-'Výstupy modelu'!$H$9),0))","v":0},null,null,{"$f":"W985","v":1865.4300000000003},1885.4300000000003,0,{"$f":"MAX(0,D986-'Vstupní hodnoty'!$C$5)","v":0}]
[null,"2017-01-11T06:00:00",1,1149.1200000000001,{"$f":"CEILING(IF(C987-C986=0,IF(H986=0,I986,IF(J986>K986,I986,E986)),'Výstupy modelu'!$C$7),1)","v":1664},0,0,{"$f":"IF(F987=1,IF(G987>'Zdrojová data'!$C$19,0,1),\"\")","v":""},1664,0,{"$f":"MIN(J987,'Zdrojová data'!$C$17)","v":0},0,{"$f":"L987/'Zdrojová data'!$C$16","v":0},{"$f":"M987*'Zdrojová data'!$C$13","v":0},{"$f":"N987*'Zdrojová data'!$C$14","v":0},0,{"$f":"IF(H987=0,D987-'Výstupy modelu'!$C$7,IF(P987=1,J987-K987,0))","v":0},0,null,{"$f":"MAX(0,IF(Q987>0,Q987-('Výstupy modelu'!$H$10-'Výstupy modelu'!$H$9),0))","v":0},null,null,{"$f":"W986","v":1865.4300000000003},1885.4300000000003,0,{"$f":"MAX(0,D987-'Vstupní hodnoty'!$C$5)","v":0}]
[null,"2017-01-11T06:15:00",1,1347.8400000000001,{"$f":"CEILING(IF(C988-C987=0,IF(H987=0,I987,IF(J987>K987,I987,E987)),'Výstupy modelu'!$C$7),1)","v":1664},0,0,{"$f":"IF(F988=1,IF(G988>'Zdrojová data'!$C$19,0,1),\"\")","v":""},1664,0,{"$f":"MIN(J988,'Zdrojová data'!$C$17)","v":0},0,{"$f":"L988/'Zdrojová data'!$C$16","v":0},{"$f":"M988*'Zdrojová data'!$C$13","v":0},{"$f":"N988*'Zdrojová data'!$C$14","v":0},0,{"$f":"IF(H988=0,D988-'Výstupy modelu'!$C$7,IF(P988=1,J988-K988,0))","v":0},0,null,{"$f":"MAX(0,IF(Q988>0,Q988-('Výstupy modelu'!$H$10-'Výstupy modelu'!$H$9),0))","v":0},null,null,{"$f":"W987","v":1865.4300000000003},1885.4300000000003,0,{"$f":"MAX(0,D988-'Vstupní hodnoty'!$C$5)","v":0}]
[null,"2017-01-11T06:30:00",1,1397.52,{"$f":"CEILING(IF(C989-C988=0,IF(H988=0,I988,IF(J988>K988,I988,E988)),'Výstupy modelu'!$C$7),1)","v":1664},0,0,{"$f":"IF(F989=1,IF(G989>'Zdrojová data'!$C$19,0,1),\"\")","v":""},1664,0,{"$f":"MIN(J989,'Zdrojová data'!$C$17)","v":0},0,{"$f":"L989/'Zdrojová data'!$C$16","v":0},{"$f":"M989*'Zdrojová data'!$C$13","v":0},{"$f":"N989*'Zdrojová data'!$C$14","v":0},0,{"$f":"IF(H989=0,D989-'Výstupy modelu'!$C$7,IF(P989=1,J989-K989,0))","v":0},0,null,{"$f":"MAX(0,IF(Q989>0,Q989-('Výstupy modelu'!$H$10-'Výstupy modelu'!$H$9),0))","v":0},null,null,{"$f":"W988","v":1865.4300000000003},1885.4300000000003,0,{"$f":"MAX(0,D989-'Vstupní hodnoty'!$C$5)","v":0}]
[null,"2017-01-11T06:45:00",1,1401.8400000000001,{"$f":"CEILING(IF(C990-C989=0,IF(H989=0,I989,IF(J989>K989,I989,E989)),'Výstupy modelu'!$C$7),1)","v":1664},0,0,{"$f":"IF(F990=1,IF(G990>'Zdrojová data'!$C$19,0,1),\"\")","v":""},1664,0,{"$f":"MIN(J990,'Zdrojová data'!$C$17)","v":0},0,{"$f":"L990/'Zdrojová data'!$C$16","v":0},{"$f":"M990*'Zdrojová data'!$C$13","v":0},{"$f":"N990*'Zdrojová data'!$C$14","v":0},0,{"$f":"IF(H990=0,D990-'Výstupy modelu'!$C$7,IF(P990=1,J990-K990,0))","v":0},0,null,{"$f":"MAX(0,IF(Q990>0,Q990-('Výstupy modelu'!$H$10-'Výstupy modelu'!$H$9),0))","v":0},null,null,{"$f":"W989","v":1865.4300000000003},1885.4300000000003,0,{"$f":"MAX(0,D990-'Vstupní hodnoty'!$C$5)","v":0}]
[null,"2017-01-11T07:00:00",1,1438.5600000000002,{"$f":"CEILING(IF(C991-C990=0,IF(H990=0,I990,IF(J990>K990,I990,E990)),'Výstupy modelu'!$C$7),1)","v":1664},0,0,{"$f":"IF(F991=1,IF(G991>'Zdrojová data'!$C$19,0,1),\"\")","v":""},1664,0,{"$f":"MIN(J991,'Zdrojová data'!$C$17)","v":0},0,{"$f":"L991/'Zdrojová data'!$C$16","v":0},{"$f":"M991*'Zdrojová data'!$C$13","v":0},{"$f":"N991*'Zdrojová data'!$C$14","v":0},0,{"$f":"IF(H991=0,D991-'Výstupy modelu'!$C$7,IF(P991=1,J991-K991,0))","v":0},0,null,{"$f":"MAX(0,IF(Q991>0,Q991-('Výstupy modelu'!$H$10-'Výstupy modelu'!$H$9),0))","v":0},null,null,{"$f":"W990","v":1865.4300000000003},1885.4300000000003,0,{"$f":"MAX(0,D991-'Vstupní hodnoty'!$C$5)","v":0}]
[null,"2017-01-11T07:15:00",1,1421.2800000000002,{"$f":"CEILING(IF(C992-C991=0,IF(H991=0,I991,IF(J991>K991,I991,E991)),'Výstupy modelu'!$C$7),1)","v":1664},0,0,{"$f":"IF(F992=1,IF(G992>'Zdrojová data'!$C$19,0,1),\"\")","v":""},1664,0,{"$f":"MIN(J992,'Zdrojová data'!$C$17)","v":0},0,{"$f":"L992/'Zdrojová data'!$C$16","v":0},{"$f":"M992*'Zdrojová data'!$C$13","v":0},{"$f":"N992*'Zdrojová data'!$C$14","v":0},0,{"$f":"IF(H992=0,D992-'Výstupy modelu'!$C$7,IF(P992=1,J992-K992,0))","v":0},0,null,{"$f":"MAX(0,IF(Q992>0,Q992-('Výstupy modelu'!$H$10-'Výstupy modelu'!$H$9),0))","v":0},null,null,{"$f":"W991","v":1865.4300000000003},1885.4300000000003,0,{"$f":"MAX(0,D992-'Vstupní hodnoty'!$C$5)","v":0}]
[null,"2017-01-11T07:30:00",1,1355.4,{"$f":"CEILING(IF(C993-C992=0,IF(H992=0,I992,IF(J992>K992,I992,E992)),'Výstupy modelu'!$C$7),1)","v":1664},0,0,{"$f":"IF(F993=1,IF(G993>'Zdrojová data'!$C$19,0,1),\"\")","v":""},1664,0,{"$f":"MIN(J993,'Zdrojová data'!$C$17)","v":0},0,{"$f":"L993/'Zdrojová data'!$C$16","v":0},{"$f":"M993*'Zdrojová data'!$C$13","v":0},{"$f":"N993*'Zdrojová data'!$C$14","v":0},0,{"$f":"IF(H993=0,D993-'Výstupy modelu'!$C$7,IF(P993=1,J993-K993,0))","v":0},0,null,{"$f":"MAX(0,IF(Q993>0,Q993-('Výstupy modelu'!$H$10-'Výstupy modelu'!$H$9),0))","v":0},null,null,{"$f":"W992","v":1865.4300000000003},1885.4300000000003,0,{"$f":"MAX(0,D993-'Vstupní hodnoty'!$C$5)","v":0}]
[null,"2017-01-11T07:45:00",1,1410.48,{"$f":"CEILING(IF(C994-C993=0,IF(H993=0,I993,IF(J993>K993,I993,E993)),'Výstupy modelu'!$C$7),1)","v":1664},0,0,{"$f":"IF(F994=1,IF(G994>'Zdrojová data'!$C$19,0,1),\"\")","v":""},1664,0,{"$f":"MIN(J994,'Zdrojová data'!$C$17)","v":0},0,{"$f":"L994/'Zdrojová data'!$C$16","v":0},{"$f":"M994*'Zdrojová data'!$C$13","v":0},{"$f":"N994*'Zdrojová data'!$C$14","v":0},0,{"$f":"IF(H994=0,D994-'Výstupy modelu'!$C$7,IF(P994=1,J994-K994,0))","v":0},0,null,{"$f":"MAX(0,IF(Q994>0,Q994-('Výstupy modelu'!$H$10-'Výstupy modelu'!$H$9),0))","v":0},null,null,{"$f":"W993","v":1865.4300000000003},1885.4300000000003,0,{"$f":"MAX(0,D994-'Vstupní hodnoty'!$C$5)","v":0}]
[null,"2017-01-11T08:00:00",1,1271.1600000000001,{"$f":"CEILING(IF(C995-C994=0,IF(H994=0,I994,IF(J994>K994,I994,E994)),'Výstupy modelu'!$C$7),1)","v":1664},0,0,{"$f":"IF(F995=1,IF(G995>'Zdrojová data'!$C$19,0,1),\"\")","v":""},1664,0,{"$f":"MIN(J995,'Zdrojová data'!$C$17)","v":0},0,{"$f":"L995/'Zdrojová data'!$C$16","v":0},{"$f":"M995*'Zdrojová data'!$C$13","v":0},{"$f":"N995*'Zdrojová data'!$C$14","v":0},0,{"$f":"IF(H995=0,D995-'Výstupy modelu'!$C$7,IF(P995=1,J995-K995,0))","v":0},0,null,{"$f":"MAX(0,IF(Q995>0,Q995-('Výstupy modelu'!$H$10-'Výstupy modelu'!$H$9),0))","v":0},null,null,{"$f":"W994","v":1865.4300000000003},1885.4300000000003,0,{"$f":"MAX(0,D995-'Vstupní hodnoty'!$C$5)","v":0}]
[null,"2017-01-11T08:15:00",1,1328.4,{"$f":"CEILING(IF(C996-C995=0,IF(H995=0,I995,IF(J995>K995,I995,E995)),'Výstupy modelu'!$C$7),1)","v":1664},0,0,{"$f":"IF(F996=1,IF(G996>'Zdrojová data'!$C$19,0,1),\"\")","v":""},1664,0,{"$f":"MIN(J996,'Zdrojová data'!$C$17)","v":0},0,{"$f":"L996/'Zdrojová data'!$C$16","v":0},{"$f":"M996*'Zdrojová data'!$C$13","v":0},{"$f":"N996*'Zdrojová data'!$C$14","v":0},0,{"$f":"IF(H996=0,D996-'Výstupy modelu'!$C$7,IF(P996=1,J996-K996,0))","v":0},0,null,{"$f":"MAX(0,IF(Q996>0,Q996-('Výstupy modelu'!$H$10-'Výstupy modelu'!$H$9),0))","v":0},null,null,{"$f":"W995","v":1865.4300000000003},1885.4300000000003,0,{"$f":"MAX(0,D996-'Vstupní hodnoty'!$C$5)","v":0}]
[null,"2017-01-11T08:30:00",1,1381.3200000000002,{"$f":"CEILING(IF(C997-C996=0,IF(H996=0,I996,IF(J996>K996,I996,E996)),'Výstupy modelu'!$C$7),1)","v":1664},0,0,{"$f":"IF(F997=1,IF(G997>'Zdrojová data'!$C$19,0,1),\"\")","v":""},1664,0,{"$f":"MIN(J997,'Zdrojová data'!$C$17)","v":0},0,{"$f":"L997/'Zdrojová data'!$C$16","v":0},{"$f":"M997*'Zdrojová data'!$C$13","v":0},{"$f":"N997*'Zdrojová data'!$C$14","v":0},0,{"$f":"IF(H997=0,D997-'Výstupy modelu'!$C$7,IF(P997=1,J997-K997,0))","v":0},0,null,{"$f":"MAX(0,IF(Q997>0,Q997-('Výstupy modelu'!$H$10-'Výstupy modelu'!$H$9),0))","v":0},null,null,{"$f":"W996","v":1865.4300000000003},1885.4300000000003,0,{"$f":"MAX(0,D997-'Vstupní hodnoty'!$C$5)","v":0}]
[null,"2017-01-11T08:45:00",1,1407.24,{"$f":"CEILING(IF(C998-C997=0,IF(H997=0,I997,IF(J997>K997,I997,E997)),'Výstupy modelu'!$C$7),1)","v":1664},0,0,{"$f":"IF(F998=1,IF(G998>'Zdrojová data'!$C$19,0,1),\"\")","v":""},1664,0,{"$f":"MIN(J998,'Zdrojová data'!$C$17)","v":0},0,{"$f":"L998/'Zdrojová data'!$C$16","v":0},{"$f":"M998*'Zdrojová data'!$C$13","v":0},{"$f":"N998*'Zdrojová data'!$C$14","v":0},0,{"$f":"IF(H998=0,D998-'Výstupy modelu'!$C$7,IF(P998=1,J998-K998,0))","v":0},0,null,{"$f":"MAX(0,IF(Q998>0,Q998-('Výstupy modelu'!$H$10-'Výstupy modelu'!$H$9),0))","v":0},null,null,{"$f":"W997","v":1865.4300000000003},1885.4300000000003,0,{"$f":"MAX(0,D998-'Vstupní hodnoty'!$C$5)","v":0}]
[null,"2017-01-11T09:00:00",1,1368.3600000000001,{"$f":"CEILING(IF(C999-C998=0,IF(H998=0,I998,IF(J998>K998,I998,E998)),'Výstupy modelu'!$C$7),1)","v":1664},0,0,{"$f":"IF(F999=1,IF(G999>'Zdrojová data'!$C$19,0,1),\"\")","v":""},1664,0,{"$f":"MIN(J999,'Zdrojová data'!$C$17)","v":0},0,{"$f":"L999/'Zdrojová data'!$C$16","v":0},{"$f":"M999*'Zdrojová data'!$C$13","v":0},{"$f":"N999*'Zdrojová data'!$C$14","v":0},0,{"$f":"IF(H999=0,D999-'Výstupy modelu'!$C$7,IF(P999=1,J999-K999,0))","v":0},0,null,{"$f":"MAX(0,IF(Q999>0,Q999-('Výstupy modelu'!$H$10-'Výstupy modelu'!$H$9),0))","v":0},null,null,{"$f":"W998","v":1865.4300000000003},1885.4300000000003,0,{"$f":"MAX(0,D999-'Vstupní hodnoty'!$C$5)","v":0}]
[null,"2017-01-11T09:15:00",1,1312.2,{"$f":"CEILING(IF(C1000-C999=0,IF(H999=0,I999,IF(J999>K999,I999,E999)),'Výstupy modelu'!$C$7),1)","v":1664},0,0,{"$f":"IF(F1000=1,IF(G1000>'Zdrojová data'!$C$19,0,1),\"\")","v":""},1664,0,{"$f":"MIN(J1000,'Zdrojová data'!$C$17)","v":0},0,{"$f":"L1000/'Zdrojová data'!$C$16","v":0},{"$f":"M1000*'Zdrojová data'!$C$13","v":0},{"$f":"N1000*'Zdrojová data'!$C$14","v":0},0,{"$f":"IF(H1000=0,D1000-'Výstupy modelu'!$C$7,IF(P1000=1,J1000-K1000,0))","v":0},0,null,{"$f":"MAX(0,IF(Q1000>0,Q1000-('Výstupy modelu'!$H$10-'Výstupy modelu'!$H$9),0))","v":0},null,null,{"$f":"W999","v":1865.4300000000003},1885.4300000000003,0,{"$f":"MAX(0,D1000-'Vstupní hodnoty'!$C$5)","v":0}]
[null,"2017-01-11T10:15:00",1,1276.5600000000002,{"$f":"CEILING(IF(C1004-C1003=0,IF(H1003=0,I1003,IF(J1003>K1003,I1003,E1003)),'Výstupy modelu'!$C$7),1)","v":1664},0,0,{"$f":"IF(F1004=1,IF(G1004>'Zdrojová data'!$C$19,0,1),\"\")","v":""},1664,0,{"$f":"MIN(J1004,'Zdrojová data'!$C$17)","v":0},0,{"$f":"L1004/'Zdrojová data'!$C$16","v":0},{"$f":"M1004*'Zdrojová data'!$C$13","v":0},{"$f":"N1004*'Zdrojová data'!$C$14","v":0},0,{"$f":"IF(H1004=0,D1004-'Výstupy modelu'!$C$7,IF(P1004=1,J1004-K1004,0))","v":0},0,null,{"$f":"MAX(0,IF(Q1004>0,Q1004-('Výstupy modelu'!$H$10-'Výstupy modelu'!$H$9),0))","v":0},null,null,{"$f":"W1003","v":1865.4300000000003},1885.4300000000003,0,{"$f":"MAX(0,D1004-'Vstupní hodnoty'!$C$5)","v":0}]
[null,"2017-01-11T18:45:00",1,942.84,{"$f":"CEILING(IF(C1038-C1037=0,IF(H1037=0,I1037,IF(J1037>K1037,I1037,E1037)),'Výstupy modelu'!$C$7),1)","v":1664},0,0,{"$f":"IF(F1038=1,IF(G1038>'Zdrojová data'!$C$19,0,1),\"\")","v":""},1664,0,{"$f":"MIN(J1038,'Zdrojová data'!$C$17)","v":0},0,{"$f":"L1038/'Zdrojová data'!$C$16","v":0},{"$f":"M1038*'Zdrojová data'!$C$13","v":0},{"$f":"N1038*'Zdrojová data'!$C$14","v":0},0,{"$f":"IF(H1038=0,D1038-'Výstupy modelu'!$C$7,IF(P1038=1,J1038-K1038,0))","v":0},0,null,{"$f":"MAX(0,IF(Q1038>0,Q1038-('Výstupy modelu'!$H$10-'Výstupy modelu'!$H$9),0))","v":0},null,null,{"$f":"W1037","v":1865.4300000000003},1885.4300000000003,0,{"$f":"MAX(0,D1038-'Vstupní hodnoty'!$C$5)","v":0}]
[null,"2017-01-12T07:30:00",1,1422.3600000000001,{"$f":"CEILING(IF(C1089-C1088=0,IF(H1088=0,I1088,IF(J1088>K1088,I1088,E1088)),'Výstupy modelu'!$C$7),1)","v":1664},0,0,{"$f":"IF(F1089=1,IF(G1089>'Zdrojová data'!$C$19,0,1),\"\")","v":""},1664,0,{"$f":"MIN(J1089,'Zdrojová data'!$C$17)","v":0},0,{"$f":"L1089/'Zdrojová data'!$C$16","v":0},{"$f":"M1089*'Zdrojová data'!$C$13","v":0},{"$f":"N1089*'Zdrojová data'!$C$14","v":0},0,{"$f":"IF(H1089=0,D1089-'Výstupy modelu'!$C$7,IF(P1089=1,J1089-K1089,0))","v":0},0,null,{"$f":"MAX(0,IF(Q1089>0,Q1089-('Výstupy modelu'!$H$10-'Výstupy modelu'!$H$9),0))","v":0},null,null,{"$f":"W1088","v":1865.4300000000003},1885.4300000000003,0,{"$f":"MAX(0,D1089-'Vstupní hodnoty'!$C$5)","v":0}]
[null,"2017-01-12T16:15:00",1,929.88000000000011,{"$f":"CEILING(IF(C1124-C1123=0,IF(H1123=0,I1123,IF(J1123>K1123,I1123,E1123)),'Výstupy modelu'!$C$7),1)","v":1664},0,0,{"$f":"IF(F1124=1,IF(G1124>'Zdrojová data'!$C$19,0,1),\"\")","v":""},1664,0,{"$f":"MIN(J1124,'Zdrojová data'!$C$17)","v":0},0,{"$f":"L1124/'Zdrojová data'!$C$16","v":0},{"$f":"M1124*'Zdrojová data'!$C$13","v":0},{"$f":"N1124*'Zdrojová data'!$C$14","v":0},0,{"$f":"IF(H1124=0,D1124-'Výstupy modelu'!$C$7,IF(P1124=1,J1124-K1124,0))","v":0},0,null,{"$f":"MAX(0,IF(Q1124>0,Q1124-('Výstupy modelu'!$H$10-'Výstupy modelu'!$H$9),0))","v":0},null,null,{"$f":"W1123","v":1865.4300000000003},1885.4300000000003,0,{"$f":"MAX(0,D1124-'Vstupní hodnoty'!$C$5)","v":0}]
[null,"2017-01-12T19:45:00",1,870.48,{"$f":"CEILING(IF(C1138-C1137=0,IF(H1137=0,I1137,IF(J1137>K1137,I1137,E1137)),'Výstupy modelu'!$C$7),1)","v":1664},0,0,{"$f":"IF(F1138=1,IF(G1138>'Zdrojová data'!$C$19,0,1),\"\")","v":""},1664,0,{"$f":"MIN(J1138,'Zdrojová data'!$C$17)","v":0},0,{"$f":"L1138/'Zdrojová data'!$C$16","v":0},{"$f":"M1138*'Zdrojová data'!$C$13","v":0},{"$f":"N1138*'Zdrojová data'!$C$14","v":0},0,{"$f":"IF(H1138=0,D1138-'Výstupy modelu'!$C$7,IF(P1138=1,J1138-K1138,0))","v":0},0,null,{"$f":"MAX(0,IF(Q1138>0,Q1138-('Výstupy modelu'!$H$10-'Výstupy modelu'!$H$9),0))","v":0},null,null,{"$f":"W1137","v":1865.4300000000003},1885.4300000000003,0,{"$f":"MAX(0,D1138-'Vstupní hodnoty'!$C$5)","v":0}]
[null,"2017-01-13T09:00:00",1,1297.0800000000002,{"$f":"CEILING(IF(C1191-C1190=0,IF(H1190=0,I1190,IF(J1190>K1190,I1190,E1190)),'Výstupy modelu'!$C$7),1)","v":1664},0,0,{"$f":"IF(F1191=1,IF(G1191>'Zdrojová data'!$C$19,0,1),\"\")","v":""},1664,0,{"$f":"MIN(J1191,'Zdrojová data'!$C$17)","v":0},0,{"$f":"L1191/'Zdrojová data'!$C$16","v":0},{"$f":"M1191*'Zdrojová data'!$C$13","v":0},{"$f":"N1191*'Zdrojová data'!$C$14","v":0},0,{"$f":"IF(H1191=0,D1191-'Výstupy modelu'!$C$7,IF(P1191=1,J1191-K1191,0))","v":0},0,null,{"$f":"MAX(0,IF(Q1191>0,Q1191-('Výstupy modelu'!$H$10-'Výstupy modelu'!$H$9),0))","v":0},null,null,{"$f":"W1190","v":1865.4300000000003},1885.4300000000003,0,{"$f":"MAX(0,D1191-'Vstupní hodnoty'!$C$5)","v":0}]
[null,"2017-01-13T17:45:00",1,729,{"$f":"CEILING(IF(C1226-C1225=0,IF(H1225=0,I1225,IF(J1225>K1225,I1225,E1225)),'Výstupy modelu'!$C$7),1)","v":1664},0,0,{"$f":"IF(F1226=1,IF(G1226>'Zdrojová data'!$C$19,0,1),\"\")","v":""},1664,0,{"$f":"MIN(J1226,'Zdrojová data'!$C$17)","v":0},0,{"$f":"L1226/'Zdrojová data'!$C$16","v":0},{"$f":"M1226*'Zdrojová data'!$C$13","v":0},{"$f":"N1226*'Zdrojová data'!$C$14","v":0},0,{"$f":"IF(H1226=0,D1226-'Výstupy modelu'!$C$7,IF(P1226=1,J1226-K1226,0))","v":0},0,null,{"$f":"MAX(0,IF(Q1226>0,Q1226-('Výstupy modelu'!$H$10-'Výstupy modelu'!$H$9),0))","v":0},null,null,{"$f":"W1225","v":1865.4300000000003},1885.4300000000003,0,{"$f":"MAX(0,D1226-'Vstupní hodnoty'!$C$5)","v":0}]
[null,"2017-01-13T22:00:00",1,473.04,{"$f":"CEILING(IF(C1243-C1242=0,IF(H1242=0,I1242,IF(J1242>K1242,I1242,E1242)),'Výstupy modelu'!$C$7),1)","v":1664},0,0,{"$f":"IF(F1243=1,IF(G1243>'Zdrojová data'!$C$19,0,1),\"\")","v":""},1664,0,{"$f":"MIN(J1243,'Zdrojová data'!$C$17)","v":0},0,{"$f":"L1243/'Zdrojová data'!$C$16","v":0},{"$f":"M1243*'Zdrojová data'!$C$13","v":0},{"$f":"N1243*'Zdrojová data'!$C$14","v":0},0,{"$f":"IF(H1243=0,D1243-'Výstupy modelu'!$C$7,IF(P1243=1,J1243-K1243,0))","v":0},0,null,{"$f":"MAX(0,IF(Q1243>0,Q1243-('Výstupy modelu'!$H$10-'Výstupy modelu'!$H$9),0))","v":0},null,null,{"$f":"W1242","v":1865.4300000000003},1885.4300000000003,0,{"$f":"MAX(0,D1243-'Vstupní hodnoty'!$C$5)","v":0}]
[null,"2017-01-14T06:45:00",1,804.6,{"$f":"CEILING(IF(C1278-C1277=0,IF(H1277=0,I1277,IF(J1277>K1277,I1277,E1277)),'Výstupy modelu'!$C$7),1)","v":1664},0,0,{"$f":"IF(F1278=1,IF(G1278>'Zdrojová data'!$C$19,0,1),\"\")","v":""},1664,0,{"$f":"MIN(J1278,'Zdrojová data'!$C$17)","v":0},0,{"$f":"L1278/'Zdrojová data'!$C$16","v":0},{"$f":"M1278*'Zdrojová data'!$C$13","v":0},{"$f":"N1278*'Zdrojová data'!$C$14","v":0},0,{"$f":"IF(H1278=0,D1278-'Výstupy modelu'!$C$7,IF(P1278=1,J1278-K1278,0))","v":0},0,null,{"$f":"MAX(0,IF(Q1278>0,Q1278-('Výstupy modelu'!$H$10-'Výstupy modelu'!$H$9),0))","v":0},null,null,{"$f":"W1277","v":1865.4300000000003},1885.4300000000003,0,{"$f":"MAX(0,D1278-'Vstupní hodnoty'!$C$5)","v":0}]
[null,"2017-01-14T15:15:00",1,300.24,{"$f":"CEILING(IF(C1312-C1311=0,IF(H1311=0,I1311,IF(J1311>K1311,I1311,E1311)),'Výstupy modelu'!$C$7),1)","v":1664},0,0,{"$f":"IF(F1312=1,IF(G1312>'Zdrojová data'!$C$19,0,1),\"\")","v":""},1664,0,{"$f":"MIN(J1312,'Zdrojová data'!$C$17)","v":0},0,{"$f":"L1312/'Zdrojová data'!$C$16","v":0},{"$f":"M1312*'Zdrojová data'!$C$13","v":0},{"$f":"N1312*'Zdrojová data'!$C$14","v":0},0,{"$f":"IF(H1312=0,D1312-'Výstupy modelu'!$C$7,IF(P1312=1,J1312-K1312,0))","v":0},0,null,{"$f":"MAX(0,IF(Q1312>0,Q1312-('Výstupy modelu'!$H$10-'Výstupy modelu'!$H$9),0))","v":0},null,null,{"$f":"W1311","v":1865.4300000000003},1885.4300000000003,0,{"$f":"MAX(0,D1312-'Vstupní hodnoty'!$C$5)","v":0}]
[null,"2017-01-14T23:30:00",1,267.84000000000003,{"$f":"CEILING(IF(C1345-C1344=0,IF(H1344=0,I1344,IF(J1344>K1344,I1344,E1344)),'Výstupy modelu'!$C$7),1)","v":1664},0,0,{"$f":"IF(F1345=1,IF(G1345>'Zdrojová data'!$C$19,0,1),\"\")","v":""},1664,0,{"$f":"MIN(J1345,'Zdrojová data'!$C$17)","v":0},0,{"$f":"L1345/'Zdrojová data'!$C$16","v":0},{"$f":"M1345*'Zdrojová data'!$C$13","v":0},{"$f":"N1345*'Zdrojová data'!$C$14","v":0},0,{"$f":"IF(H1345=0,D1345-'Výstupy modelu'!$C$7,IF(P1345=1,J1345-K1345,0))","v":0},0,null,{"$f":"MAX(0,IF(Q1345>0,Q1345-('Výstupy modelu'!$H$10-'Výstupy modelu'!$H$9),0))","v":0},null,null,{"$f":"W1344","v":1865.4300000000003},1885.4300000000003,0,{"$f":"MAX(0,D1345-'Vstupní hodnoty'!$C$5)","v":0}]
[null,"2017-01-15T08:15:00",1,281.88,{"$f":"CEILING(IF(C1380-C1379=0,IF(H1379=0,I1379,IF(J1379>K1379,I1379,E1379)),'Výstupy modelu'!$C$7),1)","v":1664},0,0,{"$f":"IF(F1380=1,IF(G1380>'Zdrojová data'!$C$19,0,1),\"\")","v":""},1664,0,{"$f":"MIN(J1380,'Zdrojová data'!$C$17)","v":0},0,{"$f":"L1380/'Zdrojová data'!$C$16","v":0},{"$f":"M1380*'Zdrojová data'!$C$13","v":0},{"$f":"N1380*'Zdrojová data'!$C$14","v":0},0,{"$f":"IF(H1380=0,D1380-'Výstupy modelu'!$C$7,IF(P1380=1,J1380-K1380,0))","v":0},0,null,{"$f":"MAX(0,IF(Q1380>0,Q1380-('Výstupy modelu'!$H$10-'Výstupy modelu'!$H$9),0))","v":0},null,null,{"$f":"W1379","v":1865.4300000000003},1885.4300000000003,0,{"$f":"MAX(0,D1380-'Vstupní hodnoty'!$C$5)","v":0}]
[null,"2017-01-15T21:00:00",1,292.68,{"$f":"CEILING(IF(C1431-C1430=0,IF(H1430=0,I1430,IF(J1430>K1430,I1430,E1430)),'Výstupy modelu'!$C$7),1)","v":1664},0,0,{"$f":"IF(F1431=1,IF(G1431>'Zdrojová data'!$C$19,0,1),\"\")","v":""},1664,0,{"$f":"MIN(J1431,'Zdrojová data'!$C$17)","v":0},0,{"$f":"L1431/'Zdrojová data'!$C$16","v":0},{"$f":"M1431*'Zdrojová data'!$C$13","v":0},{"$f":"N1431*'Zdrojová data'!$C$14","v":0},0,{"$f":"IF(H1431=0,D1431-'Výstupy modelu'!$C$7,IF(P1431=1,J1431-K1431,0))","v":0},0,null,{"$f":"MAX(0,IF(Q1431>0,Q1431-('Výstupy modelu'!$H$10-'Výstupy modelu'!$H$9),0))","v":0},null,null,{"$f":"W1430","v":1865.4300000000003},1885.4300000000003,0,{"$f":"MAX(0,D1431-'Vstupní hodnoty'!$C$5)","v":0}]
[null,"2017-01-16T01:15:00",1,349.92,{"$f":"CEILING(IF(C1448-C1447=0,IF(H1447=0,I1447,IF(J1447>K1447,I1447,E1447)),'Výstupy modelu'!$C$7),1)","v":1664},0,0,{"$f":"IF(F1448=1,IF(G1448>'Zdrojová data'!$C$19,0,1),\"\")","v":""},1664,0,{"$f":"MIN(J1448,'Zdrojová data'!$C$17)","v":0},0,{"$f":"L1448/'Zdrojová data'!$C$16","v":0},{"$f":"M1448*'Zdrojová data'!$C$13","v":0},{"$f":"N1448*'Zdrojová data'!$C$14","v":0},0,{"$f":"IF(H1448=0,D1448-'Výstupy modelu'!$C$7,IF(P1448=1,J1448-K1448,0))","v":0},0,null,{"$f":"MAX(0,IF(Q1448>0,Q1448-('Výstupy modelu'!$H$10-'Výstupy modelu'!$H$9),0))","v":0},null,null,{"$f":"W1447","v":1865.4300000000003},1885.4300000000003,0,{"$f":"MAX(0,D1448-'Vstupní hodnoty'!$C$5)","v":0}]
[null,"2017-01-16T10:45:00",1,1439.64,{"$f":"CEILING(IF(C1486-C1485=0,IF(H1485=0,I1485,IF(J1485>K1485,I1485,E1485)),'Výstupy modelu'!$C$7),1)","v":1664},0,0,{"$f":"IF(F1486=1,IF(G1486>'Zdrojová data'!$C$19,0,1),\"\")","v":""},1664,0,{"$f":"MIN(J1486,'Zdrojová data'!$C$17)","v":0},0,{"$f":"L1486/'Zdrojová data'!$C$16","v":0},{"$f":"M1486*'Zdrojová data'!$C$13","v":0},{"$f":"N1486*'Zdrojová data'!$C$14","v":0},0,{"$f":"IF(H1486=0,D1486-'Výstupy modelu'!$C$7,IF(P1486=1,J1486-K1486,0))","v":0},0,null,{"$f":"MAX(0,IF(Q1486>0,Q1486-('Výstupy modelu'!$H$10-'Výstupy modelu'!$H$9),0))","v":0},null,null,{"$f":"W1485","v":1865.4300000000003},1885.4300000000003,0,{"$f":"MAX(0,D1486-'Vstupní hodnoty'!$C$5)","v":0}]
[null,"2017-01-16T22:30:00",1,442.8,{"$f":"CEILING(IF(C1533-C1532=0,IF(H1532=0,I1532,IF(J1532>K1532,I1532,E1532)),'Výstupy modelu'!$C$7),1)","v":1664},0,0,{"$f":"IF(F1533=1,IF(G1533>'Zdrojová data'!$C$19,0,1),\"\")","v":""},1664,0,{"$f":"MIN(J1533,'Zdrojová data'!$C$17)","v":0},0,{"$f":"L1533/'Zdrojová data'!$C$16","v":0},{"$f":"M1533*'Zdrojová data'!$C$13","v":0},{"$f":"N1533*'Zdrojová data'!$C$14","v":0},0,{"$f":"IF(H1533=0,D1533-'Výstupy modelu'!$C$7,IF(P1533=1,J1533-K1533,0))","v":0},0,null,{"$f":"MAX(0,IF(Q1533>0,Q1533-('Výstupy modelu'!$H$10-'Výstupy modelu'!$H$9),0))","v":0},null,null,{"$f":"W1532","v":1865.4300000000003},1885.4300000000003,0,{"$f":"MAX(0,D1533-'Vstupní hodnoty'!$C$5)","v":0}]
[null,"2017-01-17T07:15:00",1,1404,{"$f":"CEILING(IF(C1568-C1567=0,IF(H1567=0,I1567,IF(J1567>K1567,I1567,E1567)),'Výstupy modelu'!$C$7),1)","v":1664},0,0,{"$f":"IF(F1568=1,IF(G1568>'Zdrojová data'!$C$19,0,1),\"\")","v":""},1664,0,{"$f":"MIN(J1568,'Zdrojová data'!$C$17)","v":0},0,{"$f":"L1568/'Zdrojová data'!$C$16","v":0},{"$f":"M1568*'Zdrojová data'!$C$13","v":0},{"$f":"N1568*'Zdrojová data'!$C$14","v":0},0,{"$f":"IF(H1568=0,D1568-'Výstupy modelu'!$C$7,IF(P1568=1,J1568-K1568,0))","v":0},0,null,{"$f":"MAX(0,IF(Q1568>0,Q1568-('Výstupy modelu'!$H$10-'Výstupy modelu'!$H$9),0))","v":0},null,null,{"$f":"W1567","v":1865.4300000000003},1885.4300000000003,0,{"$f":"MAX(0,D1568-'Vstupní hodnoty'!$C$5)","v":0}]
[null,"2017-01-17T11:30:00",1,1315.44,{"$f":"CEILING(IF(C1585-C1584=0,IF(H1584=0,I1584,IF(J1584>K1584,I1584,E1584)),'Výstupy modelu'!$C$7),1)","v":1664},0,0,{"$f":"IF(F1585=1,IF(G1585>'Zdrojová data'!$C$19,0,1),\"\")","v":""},1664,0,{"$f":"MIN(J1585,'Zdrojová data'!$C$17)","v":0},0,{"$f":"L1585/'Zdrojová data'!$C$16","v":0},{"$f":"M1585*'Zdrojová data'!$C$13","v":0},{"$f":"N1585*'Zdrojová data'!$C$14","v":0},0,{"$f":"IF(H1585=0,D1585-'Výstupy modelu'!$C$7,IF(P1585=1,J1585-K1585,0))","v":0},0,null,{"$f":"MAX(0,IF(Q1585>0,Q1585-('Výstupy modelu'!$H$10-'Výstupy modelu'!$H$9),0))","v":0},null,null,{"$f":"W1584","v":1865.4300000000003},1885.4300000000003,{"$f":"MAX(0,D1585-W1585)","v":0},{"$f":"MAX(0,D1585-'Vstupní hodnoty'!$C$5)","v":0}]
[null,"2017-01-18T00:15:00",1,397.44000000000005,{"$f":"CEILING(IF(C1636-C1635=0,IF(H1635=0,I1635,IF(J1635>K1635,I1635,E1635)),'Výstupy modelu'!$C$7),1)","v":1664},0,0,{"$f":"IF(F1636=1,IF(G1636>'Zdrojová data'!$C$19,0,1),\"\")","v":""},1664,0,{"$f":"MIN(J1636,'Zdrojová data'!$C$17)","v":0},0,{"$f":"L1636/'Zdrojová data'!$C$16","v":0},{"$f":"M1636*'Zdrojová data'!$C$13","v":0},{"$f":"N1636*'Zdrojová data'!$C$14","v":0},0,{"$f":"IF(H1636=0,D1636-'Výstupy modelu'!$C$7,IF(P1636=1,J1636-K1636,0))","v":0},0,null,{"$f":"MAX(0,IF(Q1636>0,Q1636-('Výstupy modelu'!$H$10-'Výstupy modelu'!$H$9),0))","v":0},null,null,{"$f":"W1635","v":1865.4300000000003},1885.4300000000003,0,{"$f":"MAX(0,D1636-'Vstupní hodnoty'!$C$5)","v":0}]
[null,"2017-01-18T06:15:00",1,1286.28,{"$f":"CEILING(IF(C1660-C1659=0,IF(H1659=0,I1659,IF(J1659>K1659,I1659,E1659)),'Výstupy modelu'!$C$7),1)","v":1664},0,0,{"$f":"IF(F1660=1,IF(G1660>'Zdrojová data'!$C$19,0,1),\"\")","v":""},1664,0,{"$f":"MIN(J1660,'Zdrojová data'!$C$17)","v":0},0,{"$f":"L1660/'Zdrojová data'!$C$16","v":0},{"$f":"M1660*'Zdrojová data'!$C$13","v":0},{"$f":"N1660*'Zdrojová data'!$C$14","v":0},0,{"$f":"IF(H1660=0,D1660-'Výstupy modelu'!$C$7,IF(P1660=1,J1660-K1660,0))","v":0},0,null,{"$f":"MAX(0,IF(Q1660>0,Q1660-('Výstupy modelu'!$H$10-'Výstupy modelu'!$H$9),0))","v":0},null,null,{"$f":"W1659","v":1865.4300000000003},1885.4300000000003,0,{"$f":"MAX(0,D1660-'Vstupní hodnoty'!$C$5)","v":0}]
[null,"2017-01-18T13:00:00",1,1352.16,{"$f":"CEILING(IF(C1687-C1686=0,IF(H1686=0,I1686,IF(J1686>K1686,I1686,E1686)),'Výstupy modelu'!$C$7),1)","v":1664},0,0,{"$f":"IF(F1687=1,IF(G1687>'Zdrojová data'!$C$19,0,1),\"\")","v":""},1664,0,{"$f":"MIN(J1687,'Zdrojová data'!$C$17)","v":0},0,{"$f":"L1687/'Zdrojová data'!$C$16","v":0},{"$f":"M1687*'Zdrojová data'!$C$13","v":0},{"$f":"N1687*'Zdrojová data'!$C$14","v":0},0,{"$f":"IF(H1687=0,D1687-'Výstupy modelu'!$C$7,IF(P1687=1,J1687-K1687,0))","v":0},0,null,{"$f":"MAX(0,IF(Q1687>0,Q1687-('Výstupy modelu'!$H$10-'Výstupy modelu'!$H$9),0))","v":0},null,null,{"$f":"W1686","v":1865.4300000000003},1885.4300000000003,0,{"$f":"MAX(0,D1687-'Vstupní hodnoty'!$C$5)","v":0}]
[null,"2017-01-18T21:45:00",1,653.40000000000009,{"$f":"CEILING(IF(C1722-C1721=0,IF(H1721=0,I1721,IF(J1721>K1721,I1721,E1721)),'Výstupy modelu'!$C$7),1)","v":1664},0,0,{"$f":"IF(F1722=1,IF(G1722>'Zdrojová data'!$C$19,0,1),\"\")","v":""},1664,0,{"$f":"MIN(J1722,'Zdrojová data'!$C$17)","v":0},0,{"$f":"L1722/'Zdrojová data'!$C$16","v":0},{"$f":"M1722*'Zdrojová data'!$C$13","v":0},{"$f":"N1722*'Zdrojová data'!$C$14","v":0},0,{"$f":"IF(H1722=0,D1722-'Výstupy modelu'!$C$7,IF(P1722=1,J1722-K1722,0))","v":0},0,null,{"$f":"MAX(0,IF(Q1722>0,Q1722-('Výstupy modelu'!$H$10-'Výstupy modelu'!$H$9),0))","v":0},null,null,{"$f":"W1721","v":1865.4300000000003},1885.4300000000003,0,{"$f":"MAX(0,D1722-'Vstupní hodnoty'!$C$5)","v":0}]
[null,"2017-01-19T10:30:00",1,1374.8400000000001,{"$f":"CEILING(IF(C1773-C1772=0,IF(H1772=0,I1772,IF(J1772>K1772,I1772,E1772)),'Výstupy modelu'!$C$7),1)","v":1664},0,0,{"$f":"IF(F1773=1,IF(G1773>'Zdrojová data'!$C$19,0,1),\"\")","v":""},1664,0,{"$f":"MIN(J1773,'Zdrojová data'!$C$17)","v":0},0,{"$f":"L1773/'Zdrojová data'!$C$16","v":0},{"$f":"M1773*'Zdrojová data'!$C$13","v":0},{"$f":"N1773*'Zdrojová data'!$C$14","v":0},0,{"$f":"IF(H1773=0,D1773-'Výstupy modelu'!$C$7,IF(P1773=1,J1773-K1773,0))","v":0},0,null,{"$f":"MAX(0,IF(Q1773>0,Q1773-('Výstupy modelu'!$H$10-'Výstupy modelu'!$H$9),0))","v":0},null,null,{"$f":"W1772","v":1865.4300000000003},1885.4300000000003,0,{"$f":"MAX(0,D1773-'Vstupní hodnoty'!$C$5)","v":0}]
[null,"2017-01-19T14:45:00",1,1071.3600000000001,{"$f":"CEILING(IF(C1790-C1789=0,IF(H1789=0,I1789,IF(J1789>K1789,I1789,E1789)),'Výstupy modelu'!$C$7),1)","v":1664},0,0,{"$f":"IF(F1790=1,IF(G1790>'Zdrojová data'!$C$19,0,1),\"\")","v":""},1664,0,{"$f":"MIN(J1790,'Zdrojová data'!$C$17)","v":0},0,{"$f":"L1790/'Zdrojová data'!$C$16","v":0},{"$f":"M1790*'Zdrojová data'!$C$13","v":0},{"$f":"N1790*'Zdrojová data'!$C$14","v":0},0,{"$f":"IF(H1790=0,D1790-'Výstupy modelu'!$C$7,IF(P1790=1,J1790-K1790,0))","v":0},0,null,{"$f":"MAX(0,IF(Q1790>0,Q1790-('Výstupy modelu'!$H$10-'Výstupy modelu'!$H$9),0))","v":0},null,null,{"$f":"W1789","v":1865.4300000000003},1885.4300000000003,0,{"$f":"MAX(0,D1790-'Vstupní hodnoty'!$C$5)","v":0}]
[null,"2017-01-20T01:45:00",1,405,{"$f":"CEILING(IF(C1834-C1833=0,IF(H1833=0,I1833,IF(J1833>K1833,I1833,E1833)),'Výstupy modelu'!$C$7),1)","v":1664},0,0,{"$f":"IF(F1834=1,IF(G1834>'Zdrojová data'!$C$19,0,1),\"\")","v":""},1664,0,{"$f":"MIN(J1834,'Zdrojová data'!$C$17)","v":0},0,{"$f":"L1834/'Zdrojová data'!$C$16","v":0},{"$f":"M1834*'Zdrojová data'!$C$13","v":0},{"$f":"N1834*'Zdrojová data'!$C$14","v":0},0,{"$f":"IF(H1834=0,D1834-'Výstupy modelu'!$C$7,IF(P1834=1,J1834-K1834,0))","v":0},0,null,{"$f":"MAX(0,IF(Q1834>0,Q1834-('Výstupy modelu'!$H$10-'Výstupy modelu'!$H$9),0))","v":0},null,null,{"$f":"W1833","v":1865.4300000000003},1885.4300000000003,0,{"$f":"MAX(0,D1834-'Vstupní hodnoty'!$C$5)","v":0}]
[null,"2017-01-20T12:00:00",1,1086.48,{"$f":"CEILING(IF(C1875-C1874=0,IF(H1874=0,I1874,IF(J1874>K1874,I1874,E1874)),'Výstupy modelu'!$C$7),1)","v":1664},0,0,{"$f":"IF(F1875=1,IF(G1875>'Zdrojová data'!$C$19,0,1),\"\")","v":""},1664,0,{"$f":"MIN(J1875,'Zdrojová data'!$C$17)","v":0},0,{"$f":"L1875/'Zdrojová data'!$C$16","v":0},{"$f":"M1875*'Zdrojová data'!$C$13","v":0},{"$f":"N1875*'Zdrojová data'!$C$14","v":0},0,{"$f":"IF(H1875=0,D1875-'Výstupy modelu'!$C$7,IF(P1875=1,J1875-K1875,0))","v":0},0,null,{"$f":"MAX(0,IF(Q1875>0,Q1875-('Výstupy modelu'!$H$10-'Výstupy modelu'!$H$9),0))","v":0},null,null,{"$f":"W1874","v":1865.4300000000003},1885.4300000000003,0,{"$f":"MAX(0,D1875-'Vstupní hodnoty'!$C$5)","v":0}]
[null,"2017-01-20T16:15:00",1,916.92000000000007,{"$f":"CEILING(IF(C1892-C1891=0,IF(H1891=0,I1891,IF(J1891>K1891,I1891,E1891)),'Výstupy modelu'!$C$7),1)","v":1664},0,0,{"$f":"IF(F1892=1,IF(G1892>'Zdrojová data'!$C$19,0,1),\"\")","v":""},1664,0,{"$f":"MIN(J1892,'Zdrojová data'!$C$17)","v":0},0,{"$f":"L1892/'Zdrojová data'!$C$16","v":0},{"$f":"M1892*'Zdrojová data'!$C$13","v":0},{"$f":"N1892*'Zdrojová data'!$C$14","v":0},0,{"$f":"IF(H1892=0,D1892-'Výstupy modelu'!$C$7,IF(P1892=1,J1892-K1892,0))","v":0},0,null,{"$f":"MAX(0,IF(Q1892>0,Q1892-('Výstupy modelu'!$H$10-'Výstupy modelu'!$H$9),0))","v":0},null,null,{"$f":"W1891","v":1865.4300000000003},1885.4300000000003,0,{"$f":"MAX(0,D1892-'Vstupní hodnoty'!$C$5)","v":0}]
[null,"2017-01-21T01:00:00",1,354.24,{"$f":"CEILING(IF(C1927-C1926=0,IF(H1926=0,I1926,IF(J1926>K1926,I1926,E1926)),'Výstupy modelu'!$C$7),1)","v":1664},0,0,{"$f":"IF(F1927=1,IF(G1927>'Zdrojová data'!$C$19,0,1),\"\")","v":""},1664,0,{"$f":"MIN(J1927,'Zdrojová data'!$C$17)","v":0},0,{"$f":"L1927/'Zdrojová data'!$C$16","v":0},{"$f":"M1927*'Zdrojová data'!$C$13","v":0},{"$f":"N1927*'Zdrojová data'!$C$14","v":0},0,{"$f":"IF(H1927=0,D1927-'Výstupy modelu'!$C$7,IF(P1927=1,J1927-K1927,0))","v":0},0,null,{"$f":"MAX(0,IF(Q1927>0,Q1927-('Výstupy modelu'!$H$10-'Výstupy modelu'!$H$9),0))","v":0},null,null,{"$f":"W1926","v":1865.4300000000003},1885.4300000000003,0,{"$f":"MAX(0,D1927-'Vstupní hodnoty'!$C$5)","v":0}]
[null,"2017-01-21T13:45:00",1,446.04,{"$f":"CEILING(IF(C1978-C1977=0,IF(H1977=0,I1977,IF(J1977>K1977,I1977,E1977)),'Výstupy modelu'!$C$7),1)","v":1664},0,0,{"$f":"IF(F1978=1,IF(G1978>'Zdrojová data'!$C$19,0,1),\"\")","v":""},1664,0,{"$f":"MIN(J1978,'Zdrojová data'!$C$17)","v":0},0,{"$f":"L1978/'Zdrojová data'!$C$16","v":0},{"$f":"M1978*'Zdrojová data'!$C$13","v":0},{"$f":"N1978*'Zdrojová data'!$C$14","v":0},0,{"$f":"IF(H1978=0,D1978-'Výstupy modelu'!$C$7,IF(P1978=1,J1978-K1978,0))","v":0},0,null,{"$f":"MAX(0,IF(Q1978>0,Q1978-('Výstupy modelu'!$H$10-'Výstupy modelu'!$H$9),0))","v":0},null,null,{"$f":"W1977","v":1865.4300000000003},1885.4300000000003,0,{"$f":"MAX(0,D1978-'Vstupní hodnoty'!$C$5)","v":0}]
[null,"2017-01-21T21:15:00",1,274.32,{"$f":"CEILING(IF(C2008-C2007=0,IF(H2007=0,I2007,IF(J2007>K2007,I2007,E2007)),'Výstupy modelu'!$C$7),1)","v":1664},0,0,{"$f":"IF(F2008=1,IF(G2008>'Zdrojová data'!$C$19,0,1),\"\")","v":""},1664,0,{"$f":"MIN(J2008,'Zdrojová data'!$C$17)","v":0},0,{"$f":"L2008/'Zdrojová data'!$C$16","v":0},{"$f":"M2008*'Zdrojová data'!$C$13","v":0},{"$f":"N2008*'Zdrojová data'!$C$14","v":0},0,{"$f":"IF(H2008=0,D2008-'Výstupy modelu'!$C$7,IF(P2008=1,J2008-K2008,0))","v":0},0,null,{"$f":"MAX(0,IF(Q2008>0,Q2008-('Výstupy modelu'!$H$10-'Výstupy modelu'!$H$9),0))","v":0},null,null,{"$f":"W2007","v":1865.4300000000003},1885.4300000000003,0,{"$f":"MAX(0,D2008-'Vstupní hodnoty'!$C$5)","v":0}]
[null,"2017-01-22T02:30:00",1,288.36,{"$f":"CEILING(IF(C2029-C2028=0,IF(H2028=0,I2028,IF(J2028>K2028,I2028,E2028)),'Výstupy modelu'!$C$7),1)","v":1664},0,0,{"$f":"IF(F2029=1,IF(G2029>'Zdrojová data'!$C$19,0,1),\"\")","v":""},1664,0,{"$f":"MIN(J2029,'Zdrojová data'!$C$17)","v":0},0,{"$f":"L2029/'Zdrojová data'!$C$16","v":0},{"$f":"M2029*'Zdrojová data'!$C$13","v":0},{"$f":"N2029*'Zdrojová data'!$C$14","v":0},0,{"$f":"IF(H2029=0,D2029-'Výstupy modelu'!$C$7,IF(P2029=1,J2029-K2029,0))","v":0},0,null,{"$f":"MAX(0,IF(Q2029>0,Q2029-('Výstupy modelu'!$H$10-'Výstupy modelu'!$H$9),0))","v":0},null,null,{"$f":"W2028","v":1865.4300000000003},1885.4300000000003,0,{"$f":"MAX(0,D2029-'Vstupní hodnoty'!$C$5)","v":0}]
[null,"2017-01-22T15:15:00",1,281.88,{"$f":"CEILING(IF(C2080-C2079=0,IF(H2079=0,I2079,IF(J2079>K2079,I2079,E2079)),'Výstupy modelu'!$C$7),1)","v":1664},0,0,{"$f":"IF(F2080=1,IF(G2080>'Zdrojová data'!$C$19,0,1),\"\")","v":""},1664,0,{"$f":"MIN(J2080,'Zdrojová data'!$C$17)","v":0},0,{"$f":"L2080/'Zdrojová data'!$C$16","v":0},{"$f":"M2080*'Zdrojová data'!$C$13","v":0},{"$f":"N2080*'Zdrojová data'!$C$14","v":0},0,{"$f":"IF(H2080=0,D2080-'Výstupy modelu'!$C$7,IF(P2080=1,J2080-K2080,0))","v":0},0,null,{"$f":"MAX(0,IF(Q2080>0,Q2080-('Výstupy modelu'!$H$10-'Výstupy modelu'!$H$9),0))","v":0},null,null,{"$f":"W2079","v":1865.4300000000003},1885.4300000000003,0,{"$f":"MAX(0,D2080-'Vstupní hodnoty'!$C$5)","v":0}]
[null,"2017-01-23",1,363.96000000000004,{"$f":"CEILING(IF(C2115-C2114=0,IF(H2114=0,I2114,IF(J2114>K2114,I2114,E2114)),'Výstupy modelu'!$C$7),1)","v":1664},0,0,{"$f":"IF(F2115=1,IF(G2115>'Zdrojová data'!$C$19,0,1),\"\")","v":""},1664,0,{"$f":"MIN(J2115,'Zdrojová data'!$C$17)","v":0},0,{"$f":"L2115/'Zdrojová data'!$C$16","v":0},{"$f":"M2115*'Zdrojová data'!$C$13","v":0},{"$f":"N2115*'Zdrojová data'!$C$14","v":0},0,{"$f":"IF(H2115=0,D2115-'Výstupy modelu'!$C$7,IF(P2115=1,J2115-K2115,0))","v":0},0,null,{"$f":"MAX(0,IF(Q2115>0,Q2115-('Výstupy modelu'!$H$10-'Výstupy modelu'!$H$9),0))","v":0},null,null,{"$f":"W2114","v":1865.4300000000003},1885.4300000000003,0,{"$f":"MAX(0,D2115-'Vstupní hodnoty'!$C$5)","v":0}]
[null,"2017-01-23T04:15:00",1,550.80000000000007,{"$f":"CEILING(IF(C2132-C2131=0,IF(H2131=0,I2131,IF(J2131>K2131,I2131,E2131)),'Výstupy modelu'!$C$7),1)","v":1664},0,0,{"$f":"IF(F2132=1,IF(G2132>'Zdrojová data'!$C$19,0,1),\"\")","v":""},1664,0,{"$f":"MIN(J2132,'Zdrojová data'!$C$17)","v":0},0,{"$f":"L2132/'Zdrojová data'!$C$16","v":0},{"$f":"M2132*'Zdrojová data'!$C$13","v":0},{"$f":"N2132*'Zdrojová data'!$C$14","v":0},0,{"$f":"IF(H2132=0,D2132-'Výstupy modelu'!$C$7,IF(P2132=1,J2132-K2132,0))","v":0},0,null,{"$f":"MAX(0,IF(Q2132>0,Q2132-('Výstupy modelu'!$H$10-'Výstupy modelu'!$H$9),0))","v":0},null,null,{"$f":"W2131","v":1865.4300000000003},1885.4300000000003,0,{"$f":"MAX(0,D2132-'Vstupní hodnoty'!$C$5)","v":0}]
[null,"2017-01-23T15:45:00",1,950.40000000000009,{"$f":"CEILING(IF(C2178-C2177=0,IF(H2177=0,I2177,IF(J2177>K2177,I2177,E2177)),'Výstupy modelu'!$C$7),1)","v":1664},0,0,{"$f":"IF(F2178=1,IF(G2178>'Zdrojová data'!$C$19,0,1),\"\")","v":""},1664,0,{"$f":"MIN(J2178,'Zdrojová data'!$C$17)","v":0},0,{"$f":"L2178/'Zdrojová data'!$C$16","v":0},{"$f":"M2178*'Zdrojová data'!$C$13","v":0},{"$f":"N2178*'Zdrojová data'!$C$14","v":0},0,{"$f":"IF(H2178=0,D2178-'Výstupy modelu'!$C$7,IF(P2178=1,J2178-K2178,0))","v":0},0,null,{"$f":"MAX(0,IF(Q2178>0,Q2178-('Výstupy modelu'!$H$10-'Výstupy modelu'!$H$9),0))","v":0},null,null,{"$f":"W2177","v":1865.4300000000003},1885.4300000000003,0,{"$f":"MAX(0,D2178-'Vstupní hodnoty'!$C$5)","v":0}]
[null,"2017-01-23T17:00:00",1,908.28000000000009,{"$f":"CEILING(IF(C2183-C2182=0,IF(H2182=0,I2182,IF(J2182>K2182,I2182,E2182)),'Výstupy modelu'!$C$7),1)","v":1664},0,0,{"$f":"IF(F2183=1,IF(G2183>'Zdrojová data'!$C$19,0,1),\"\")","v":""},1664,0,{"$f":"MIN(J2183,'Zdrojová data'!$C$17)","v":0},0,{"$f":"L2183/'Zdrojová data'!$C$16","v":0},{"$f":"M2183*'Zdrojová data'!$C$13","v":0},{"$f":"N2183*'Zdrojová data'!$C$14","v":0},0,{"$f":"IF(H2183=0,D2183-'Výstupy modelu'!$C$7,IF(P2183=1,J2183-K2183,0))","v":0},0,null,{"$f":"MAX(0,IF(Q2183>0,Q2183-('Výstupy modelu'!$H$10-'Výstupy modelu'!$H$9),0))","v":0},null,null,{"$f":"W2182","v":1865.4300000000003},1885.4300000000003,0,{"$f":"MAX(0,D2183-'Vstupní hodnoty'!$C$5)","v":0}]
[null,"2017-01-24T05:45:00",1,822.96,{"$f":"CEILING(IF(C2234-C2233=0,IF(H2233=0,I2233,IF(J2233>K2233,I2233,E2233)),'Výstupy modelu'!$C$7),1)","v":1664},0,0,{"$f":"IF(F2234=1,IF(G2234>'Zdrojová data'!$C$19,0,1),\"\")","v":""},1664,0,{"$f":"MIN(J2234,'Zdrojová data'!$C$17)","v":0},0,{"$f":"L2234/'Zdrojová data'!$C$16","v":0},{"$f":"M2234*'Zdrojová data'!$C$13","v":0},{"$f":"N2234*'Zdrojová data'!$C$14","v":0},0,{"$f":"IF(H2234=0,D2234-'Výstupy modelu'!$C$7,IF(P2234=1,J2234-K2234,0))","v":0},0,null,{"$f":"MAX(0,IF(Q2234>0,Q2234-('Výstupy modelu'!$H$10-'Výstupy modelu'!$H$9),0))","v":0},null,null,{"$f":"W2233","v":1865.4300000000003},1885.4300000000003,0,{"$f":"MAX(0,D2234-'Vstupní hodnoty'!$C$5)","v":0}]
[null,"2017-01-24T14:30:00",1,1172.8800000000001,{"$f":"CEILING(IF(C2269-C2268=0,IF(H2268=0,I2268,IF(J2268>K2268,I2268,E2268)),'Výstupy modelu'!$C$7),1)","v":1664},0,0,{"$f":"IF(F2269=1,IF(G2269>'Zdrojová data'!$C$19,0,1),\"\")","v":""},1664,0,{"$f":"MIN(J2269,'Zdrojová data'!$C$17)","v":0},0,{"$f":"L2269/'Zdrojová data'!$C$16","v":0},{"$f":"M2269*'Zdrojová data'!$C$13","v":0},{"$f":"N2269*'Zdrojová data'!$C$14","v":0},0,{"$f":"IF(H2269=0,D2269-'Výstupy modelu'!$C$7,IF(P2269=1,J2269-K2269,0))","v":0},0,null,{"$f":"MAX(0,IF(Q2269>0,Q2269-('Výstupy modelu'!$H$10-'Výstupy modelu'!$H$9),0))","v":0},null,null,{"$f":"W2268","v":1865.4300000000003},1885.4300000000003,0,{"$f":"MAX(0,D2269-'Vstupní hodnoty'!$C$5)","v":0}]
[null,"2017-01-24T18:45:00",1,1007.6400000000001,{"$f":"CEILING(IF(C2286-C2285=0,IF(H2285=0,I2285,IF(J2285>K2285,I2285,E2285)),'Výstupy modelu'!$C$7),1)","v":1664},0,0,{"$f":"IF(F2286=1,IF(G2286>'Zdrojová data'!$C$19,0,1),\"\")","v":""},1664,0,{"$f":"MIN(J2286,'Zdrojová data'!$C$17)","v":0},0,{"$f":"L2286/'Zdrojová data'!$C$16","v":0},{"$f":"M2286*'Zdrojová data'!$C$13","v":0},{"$f":"N2286*'Zdrojová data'!$C$14","v":0},0,{"$f":"IF(H2286=0,D2286-'Výstupy modelu'!$C$7,IF(P2286=1,J2286-K2286,0))","v":0},0,null,{"$f":"MAX(0,IF(Q2286>0,Q2286-('Výstupy modelu'!$H$10-'Výstupy modelu'!$H$9),0))","v":0},null,null,{"$f":"W2285","v":1865.4300000000003},1885.4300000000003,0,{"$f":"MAX(0,D2286-'Vstupní hodnoty'!$C$5)","v":0}]
[null,"2017-01-25T03:00:00",1,633.96,{"$f":"CEILING(IF(C2319-C2318=0,IF(H2318=0,I2318,IF(J2318>K2318,I2318,E2318)),'Výstupy modelu'!$C$7),1)","v":1664},0,0,{"$f":"IF(F2319=1,IF(G2319>'Zdrojová data'!$C$19,0,1),\"\")","v":""},1664,0,{"$f":"MIN(J2319,'Zdrojová data'!$C$17)","v":0},0,{"$f":"L2319/'Zdrojová data'!$C$16","v":0},{"$f":"M2319*'Zdrojová data'!$C$13","v":0},{"$f":"N2319*'Zdrojová data'!$C$14","v":0},0,{"$f":"IF(H2319=0,D2319-'Výstupy modelu'!$C$7,IF(P2319=1,J2319-K2319,0))","v":0},0,null,{"$f":"MAX(0,IF(Q2319>0,Q2319-('Výstupy modelu'!$H$10-'Výstupy modelu'!$H$9),0))","v":0},null,null,{"$f":"W2318","v":1865.4300000000003},1885.4300000000003,0,{"$f":"MAX(0,D2319-'Vstupní hodnoty'!$C$5)","v":0}]
[null,"2017-01-25T16:00:00",1,895.32,{"$f":"CEILING(IF(C2371-C2370=0,IF(H2370=0,I2370,IF(J2370>K2370,I2370,E2370)),'Výstupy modelu'!$C$7),1)","v":1664},0,0,{"$f":"IF(F2371=1,IF(G2371>'Zdrojová data'!$C$19,0,1),\"\")","v":""},1664,0,{"$f":"MIN(J2371,'Zdrojová data'!$C$17)","v":0},0,{"$f":"L2371/'Zdrojová data'!$C$16","v":0},{"$f":"M2371*'Zdrojová data'!$C$13","v":0},{"$f":"N2371*'Zdrojová data'!$C$14","v":0},0,{"$f":"IF(H2371=0,D2371-'Výstupy modelu'!$C$7,IF(P2371=1,J2371-K2371,0))","v":0},0,null,{"$f":"MAX(0,IF(Q2371>0,Q2371-('Výstupy modelu'!$H$10-'Výstupy modelu'!$H$9),0))","v":0},null,null,{"$f":"W2370","v":1865.4300000000003},1885.4300000000003,0,{"$f":"MAX(0,D2371-'Vstupní hodnoty'!$C$5)","v":0}]
[null,"2017-01-25T20:15:00",1,805.68000000000006,{"$f":"CEILING(IF(C2388-C2387=0,IF(H2387=0,I2387,IF(J2387>K2387,I2387,E2387)),'Výstupy modelu'!$C$7),1)","v":1664},0,0,{"$f":"IF(F2388=1,IF(G2388>'Zdrojová data'!$C$19,0,1),\"\")","v":""},1664,0,{"$f":"MIN(J2388,'Zdrojová data'!$C$17)","v":0},0,{"$f":"L2388/'Zdrojová data'!$C$16","v":0},{"$f":"M2388*'Zdrojová data'!$C$13","v":0},{"$f":"N2388*'Zdrojová data'!$C$14","v":0},0,{"$f":"IF(H2388=0,D2388-'Výstupy modelu'!$C$7,IF(P2388=1,J2388-K2388,0))","v":0},0,null,{"$f":"MAX(0,IF(Q2388>0,Q2388-('Výstupy modelu'!$H$10-'Výstupy modelu'!$H$9),0))","v":0},null,null,{"$f":"W2387","v":1865.4300000000003},1885.4300000000003,0,{"$f":"MAX(0,D2388-'Vstupní hodnoty'!$C$5)","v":0}]
[null,"2017-01-26T05:00:00",1,565.92000000000007,{"$f":"CEILING(IF(C2423-C2422=0,IF(H2422=0,I2422,IF(J2422>K2422,I2422,E2422)),'Výstupy modelu'!$C$7),1)","v":1664},0,0,{"$f":"IF(F2423=1,IF(G2423>'Zdrojová data'!$C$19,0,1),\"\")","v":""},1664,0,{"$f":"MIN(J2423,'Zdrojová data'!$C$17)","v":0},0,{"$f":"L2423/'Zdrojová data'!$C$16","v":0},{"$f":"M2423*'Zdrojová data'!$C$13","v":0},{"$f":"N2423*'Zdrojová data'!$C$14","v":0},0,{"$f":"IF(H2423=0,D2423-'Výstupy modelu'!$C$7,IF(P2423=1,J2423-K2423,0))","v":0},0,null,{"$f":"MAX(0,IF(Q2423>0,Q2423-('Výstupy modelu'!$H$10-'Výstupy modelu'!$H$9),0))","v":0},null,null,{"$f":"W2422","v":1865.4300000000003},1885.4300000000003,0,{"$f":"MAX(0,D2423-'Vstupní hodnoty'!$C$5)","v":0}]
[null,"2017-01-26T20:45:00",1,751.68000000000006,{"$f":"CEILING(IF(C2486-C2485=0,IF(H2485=0,I2485,IF(J2485>K2485,I2485,E2485)),'Výstupy modelu'!$C$7),1)","v":1664},0,0,{"$f":"IF(F2486=1,IF(G2486>'Zdrojová data'!$C$19,0,1),\"\")","v":""},1664,0,{"$f":"MIN(J2486,'Zdrojová data'!$C$17)","v":0},0,{"$f":"L2486/'Zdrojová data'!$C$16","v":0},{"$f":"M2486*'Zdrojová data'!$C$13","v":0},{"$f":"N2486*'Zdrojová data'!$C$14","v":0},0,{"$f":"IF(H2486=0,D2486-'Výstupy modelu'!$C$7,IF(P2486=1,J2486-K2486,0))","v":0},0,null,{"$f":"MAX(0,IF(Q2486>0,Q2486-('Výstupy modelu'!$H$10-'Výstupy modelu'!$H$9),0))","v":0},null,null,{"$f":"W2485","v":1865.4300000000003},1885.4300000000003,0,{"$f":"MAX(0,D2486-'Vstupní hodnoty'!$C$5)","v":0}]
[null,"2017-01-26T21:45:00",1,633.96,{"$f":"CEILING(IF(C2490-C2489=0,IF(H2489=0,I2489,IF(J2489>K2489,I2489,E2489)),'Výstupy modelu'!$C$7),1)","v":1664},0,0,{"$f":"IF(F2490=1,IF(G2490>'Zdrojová data'!$C$19,0,1),\"\")","v":""},1664,0,{"$f":"MIN(J2490,'Zdrojová data'!$C$17)","v":0},0,{"$f":"L2490/'Zdrojová data'!$C$16","v":0},{"$f":"M2490*'Zdrojová data'!$C$13","v":0},{"$f":"N2490*'Zdrojová data'!$C$14","v":0},0,{"$f":"IF(H2490=0,D2490-'Výstupy modelu'!$C$7,IF(P2490=1,J2490-K2490,0))","v":0},0,null,{"$f":"MAX(0,IF(Q2490>0,Q2490-('Výstupy modelu'!$H$10-'Výstupy modelu'!$H$9),0))","v":0},null,null,{"$f":"W2489","v":1865.4300000000003},1885.4300000000003,0,{"$f":"MAX(0,D2490-'Vstupní hodnoty'!$C$5)","v":0}]
[null,"2017-01-27T06:30:00",1,1401.8400000000001,{"$f":"CEILING(IF(C2525-C2524=0,IF(H2524=0,I2524,IF(J2524>K2524,I2524,E2524)),'Výstupy modelu'!$C$7),1)","v":1664},0,0,{"$f":"IF(F2525=1,IF(G2525>'Zdrojová data'!$C$19,0,1),\"\")","v":""},1664,0,{"$f":"MIN(J2525,'Zdrojová data'!$C$17)","v":0},0,{"$f":"L2525/'Zdrojová data'!$C$16","v":0},{"$f":"M2525*'Zdrojová data'!$C$13","v":0},{"$f":"N2525*'Zdrojová data'!$C$14","v":0},0,{"$f":"IF(H2525=0,D2525-'Výstupy modelu'!$C$7,IF(P2525=1,J2525-K2525,0))","v":0},0,null,{"$f":"MAX(0,IF(Q2525>0,Q2525-('Výstupy modelu'!$H$10-'Výstupy modelu'!$H$9),0))","v":0},null,null,{"$f":"W2524","v":1865.4300000000003},1885.4300000000003,0,{"$f":"MAX(0,D2525-'Vstupní hodnoty'!$C$5)","v":0}]
[null,"2017-01-27T19:15:00",1,860.7600000000001,{"$f":"CEILING(IF(C2576-C2575=0,IF(H2575=0,I2575,IF(J2575>K2575,I2575,E2575)),'Výstupy modelu'!$C$7),1)","v":1664},0,0,{"$f":"IF(F2576=1,IF(G2576>'Zdrojová data'!$C$19,0,1),\"\")","v":""},1664,0,{"$f":"MIN(J2576,'Zdrojová data'!$C$17)","v":0},0,{"$f":"L2576/'Zdrojová data'!$C$16","v":0},{"$f":"M2576*'Zdrojová data'!$C$13","v":0},{"$f":"N2576*'Zdrojová data'!$C$14","v":0},0,{"$f":"IF(H2576=0,D2576-'Výstupy modelu'!$C$7,IF(P2576=1,J2576-K2576,0))","v":0},0,null,{"$f":"MAX(0,IF(Q2576>0,Q2576-('Výstupy modelu'!$H$10-'Výstupy modelu'!$H$9),0))","v":0},null,null,{"$f":"W2575","v":1865.4300000000003},1885.4300000000003,0,{"$f":"MAX(0,D2576-'Vstupní hodnoty'!$C$5)","v":0}]
[null,"2017-01-27T23:30:00",1,274.32,{"$f":"CEILING(IF(C2593-C2592=0,IF(H2592=0,I2592,IF(J2592>K2592,I2592,E2592)),'Výstupy modelu'!$C$7),1)","v":1664},0,0,{"$f":"IF(F2593=1,IF(G2593>'Zdrojová data'!$C$19,0,1),\"\")","v":""},1664,0,{"$f":"MIN(J2593,'Zdrojová data'!$C$17)","v":0},0,{"$f":"L2593/'Zdrojová data'!$C$16","v":0},{"$f":"M2593*'Zdrojová data'!$C$13","v":0},{"$f":"N2593*'Zdrojová data'!$C$14","v":0},0,{"$f":"IF(H2593=0,D2593-'Výstupy modelu'!$C$7,IF(P2593=1,J2593-K2593,0))","v":0},0,null,{"$f":"MAX(0,IF(Q2593>0,Q2593-('Výstupy modelu'!$H$10-'Výstupy modelu'!$H$9),0))","v":0},null,null,{"$f":"W2592","v":1865.4300000000003},1885.4300000000003,0,{"$f":"MAX(0,D2593-'Vstupní hodnoty'!$C$5)","v":0}]
[null,"2017-01-28T08:00:00",1,455.76000000000005,{"$f":"CEILING(IF(C2627-C2626=0,IF(H2626=0,I2626,IF(J2626>K2626,I2626,E2626)),'Výstupy modelu'!$C$7),1)","v":1664},0,0,{"$f":"IF(F2627=1,IF(G2627>'Zdrojová data'!$C$19,0,1),\"\")","v":""},1664,0,{"$f":"MIN(J2627,'Zdrojová data'!$C$17)","v":0},0,{"$f":"L2627/'Zdrojová data'!$C$16","v":0},{"$f":"M2627*'Zdrojová data'!$C$13","v":0},{"$f":"N2627*'Zdrojová data'!$C$14","v":0},0,{"$f":"IF(H2627=0,D2627-'Výstupy modelu'!$C$7,IF(P2627=1,J2627-K2627,0))","v":0},0,null,{"$f":"MAX(0,IF(Q2627>0,Q2627-('Výstupy modelu'!$H$10-'Výstupy modelu'!$H$9),0))","v":0},null,null,{"$f":"W2626","v":1865.4300000000003},1885.4300000000003,0,{"$f":"MAX(0,D2627-'Vstupní hodnoty'!$C$5)","v":0}]
[null,"2017-01-28T20:45:00",1,266.76,{"$f":"CEILING(IF(C2678-C2677=0,IF(H2677=0,I2677,IF(J2677>K2677,I2677,E2677)),'Výstupy modelu'!$C$7),1)","v":1664},0,0,{"$f":"IF(F2678=1,IF(G2678>'Zdrojová data'!$C$19,0,1),\"\")","v":""},1664,0,{"$f":"MIN(J2678,'Zdrojová data'!$C$17)","v":0},0,{"$f":"L2678/'Zdrojová data'!$C$16","v":0},{"$f":"M2678*'Zdrojová data'!$C$13","v":0},{"$f":"N2678*'Zdrojová data'!$C$14","v":0},0,{"$f":"IF(H2678=0,D2678-'Výstupy modelu'!$C$7,IF(P2678=1,J2678-K2678,0))","v":0},0,null,{"$f":"MAX(0,IF(Q2678>0,Q2678-('Výstupy modelu'!$H$10-'Výstupy modelu'!$H$9),0))","v":0},null,null,{"$f":"W2677","v":1865.4300000000003},1885.4300000000003,0,{"$f":"MAX(0,D2678-'Vstupní hodnoty'!$C$5)","v":0}]
[null,"2017-01-29T05:30:00",1,280.8,{"$f":"CEILING(IF(C2713-C2712=0,IF(H2712=0,I2712,IF(J2712>K2712,I2712,E2712)),'Výstupy modelu'!$C$7),1)","v":1664},0,0,{"$f":"IF(F2713=1,IF(G2713>'Zdrojová data'!$C$19,0,1),\"\")","v":""},1664,0,{"$f":"MIN(J2713,'Zdrojová data'!$C$17)","v":0},0,{"$f":"L2713/'Zdrojová data'!$C$16","v":0},{"$f":"M2713*'Zdrojová data'!$C$13","v":0},{"$f":"N2713*'Zdrojová data'!$C$14","v":0},0,{"$f":"IF(H2713=0,D2713-'Výstupy modelu'!$C$7,IF(P2713=1,J2713-K2713,0))","v":0},0,null,{"$f":"MAX(0,IF(Q2713>0,Q2713-('Výstupy modelu'!$H$10-'Výstupy modelu'!$H$9),0))","v":0},null,null,{"$f":"W2712","v":1865.4300000000003},1885.4300000000003,0,{"$f":"MAX(0,D2713-'Vstupní hodnoty'!$C$5)","v":0}]
[null,"2017-01-29T09:45:00",1,275.40000000000003,{"$f":"CEILING(IF(C2730-C2729=0,IF(H2729=0,I2729,IF(J2729>K2729,I2729,E2729)),'Výstupy modelu'!$C$7),1)","v":1664},0,0,{"$f":"IF(F2730=1,IF(G2730>'Zdrojová data'!$C$19,0,1),\"\")","v":""},1664,0,{"$f":"MIN(J2730,'Zdrojová data'!$C$17)","v":0},0,{"$f":"L2730/'Zdrojová data'!$C$16","v":0},{"$f":"M2730*'Zdrojová data'!$C$13","v":0},{"$f":"N2730*'Zdrojová data'!$C$14","v":0},0,{"$f":"IF(H2730=0,D2730-'Výstupy modelu'!$C$7,IF(P2730=1,J2730-K2730,0))","v":0},0,null,{"$f":"MAX(0,IF(Q2730>0,Q2730-('Výstupy modelu'!$H$10-'Výstupy modelu'!$H$9),0))","v":0},null,null,{"$f":"W2729","v":1865.4300000000003},1885.4300000000003,0,{"$f":"MAX(0,D2730-'Vstupní hodnoty'!$C$5)","v":0}]
[null,"2017-01-29T22:30:00",1,353.16,{"$f":"CEILING(IF(C2781-C2780=0,IF(H2780=0,I2780,IF(J2780>K2780,I2780,E2780)),'Výstupy modelu'!$C$7),1)","v":1664},0,0,{"$f":"IF(F2781=1,IF(G2781>'Zdrojová data'!$C$19,0,1),\"\")","v":""},1664,0,{"$f":"MIN(J2781,'Zdrojová data'!$C$17)","v":0},0,{"$f":"L2781/'Zdrojová data'!$C$16","v":0},{"$f":"M2781*'Zdrojová data'!$C$13","v":0},{"$f":"N2781*'Zdrojová data'!$C$14","v":0},0,{"$f":"IF(H2781=0,D2781-'Výstupy modelu'!$C$7,IF(P2781=1,J2781-K2781,0))","v":0},0,null,{"$f":"MAX(0,IF(Q2781>0,Q2781-('Výstupy modelu'!$H$10-'Výstupy modelu'!$H$9),0))","v":0},null,null,{"$f":"W2780","v":1865.4300000000003},1885.4300000000003,0,{"$f":"MAX(0,D2781-'Vstupní hodnoty'!$C$5)","v":0}]
[null,"2017-01-30T03:30:00",1,498.96000000000004,{"$f":"CEILING(IF(C2801-C2800=0,IF(H2800=0,I2800,IF(J2800>K2800,I2800,E2800)),'Výstupy modelu'!$C$7),1)","v":1664},0,0,{"$f":"IF(F2801=1,IF(G2801>'Zdrojová data'!$C$19,0,1),\"\")","v":""},1664,0,{"$f":"MIN(J2801,'Zdrojová data'!$C$17)","v":0},0,{"$f":"L2801/'Zdrojová data'!$C$16","v":0},{"$f":"M2801*'Zdrojová data'!$C$13","v":0},{"$f":"N2801*'Zdrojová data'!$C$14","v":0},0,{"$f":"IF(H2801=0,D2801-'Výstupy modelu'!$C$7,IF(P2801=1,J2801-K2801,0))","v":0},0,null,{"$f":"MAX(0,IF(Q2801>0,Q2801-('Výstupy modelu'!$H$10-'Výstupy modelu'!$H$9),0))","v":0},null,null,{"$f":"W2800","v":1865.4300000000003},1885.4300000000003,{"$f":"MAX(0,D2801-W2801)","v":0},{"$f":"MAX(0,D2801-'Vstupní hodnoty'!$C$5)","v":0}]
[null,"2017-01-30T11:15:00",1,1373.76,{"$f":"CEILING(IF(C2832-C2831=0,IF(H2831=0,I2831,IF(J2831>K2831,I2831,E2831)),'Výstupy modelu'!$C$7),1)","v":1664},0,0,{"$f":"IF(F2832=1,IF(G2832>'Zdrojová data'!$C$19,0,1),\"\")","v":""},1664,0,{"$f":"MIN(J2832,'Zdrojová data'!$C$17)","v":0},0,{"$f":"L2832/'Zdrojová data'!$C$16","v":0},{"$f":"M2832*'Zdrojová data'!$C$13","v":0},{"$f":"N2832*'Zdrojová data'!$C$14","v":0},0,{"$f":"IF(H2832=0,D2832-'Výstupy modelu'!$C$7,IF(P2832=1,J2832-K2832,0))","v":0},0,null,{"$f":"MAX(0,IF(Q2832>0,Q2832-('Výstupy modelu'!$H$10-'Výstupy modelu'!$H$9),0))","v":0},null,null,{"$f":"W2831","v":1865.4300000000003},1885.4300000000003,0,{"$f":"MAX(0,D2832-'Vstupní hodnoty'!$C$5)","v":0}]
[null,"2017-01-30T20:00:00",1,851.04000000000008,{"$f":"CEILING(IF(C2867-C2866=0,IF(H2866=0,I2866,IF(J2866>K2866,I2866,E2866)),'Výstupy modelu'!$C$7),1)","v":1664},0,0,{"$f":"IF(F2867=1,IF(G2867>'Zdrojová data'!$C$19,0,1),\"\")","v":""},1664,0,{"$f":"MIN(J2867,'Zdrojová data'!$C$17)","v":0},0,{"$f":"L2867/'Zdrojová data'!$C$16","v":0},{"$f":"M2867*'Zdrojová data'!$C$13","v":0},{"$f":"N2867*'Zdrojová data'!$C$14","v":0},0,{"$f":"IF(H2867=0,D2867-'Výstupy modelu'!$C$7,IF(P2867=1,J2867-K2867,0))","v":0},0,null,{"$f":"MAX(0,IF(Q2867>0,Q2867-('Výstupy modelu'!$H$10-'Výstupy modelu'!$H$9),0))","v":0},null,null,{"$f":"W2866","v":1865.4300000000003},1885.4300000000003,0,{"$f":"MAX(0,D2867-'Vstupní hodnoty'!$C$5)","v":0}]
[null,"2017-01-31T08:45:00",1,1517.4,{"$f":"CEILING(IF(C2918-C2917=0,IF(H2917=0,I2917,IF(J2917>K2917,I2917,E2917)),'Výstupy modelu'!$C$7),1)","v":1664},0,0,{"$f":"IF(F2918=1,IF(G2918>'Zdrojová data'!$C$19,0,1),\"\")","v":""},1664,0,{"$f":"MIN(J2918,'Zdrojová data'!$C$17)","v":0},0,{"$f":"L2918/'Zdrojová data'!$C$16","v":0},{"$f":"M2918*'Zdrojová data'!$C$13","v":0},{"$f":"N2918*'Zdrojová data'!$C$14","v":0},0,{"$f":"IF(H2918=0,D2918-'Výstupy modelu'!$C$7,IF(P2918=1,J2918-K2918,0))","v":0},0,null,{"$f":"MAX(0,IF(Q2918>0,Q2918-('Výstupy modelu'!$H$10-'Výstupy modelu'!$H$9),0))","v":0},null,null,{"$f":"W2917","v":1865.4300000000003},1885.4300000000003,0,{"$f":"MAX(0,D2918-'Vstupní hodnoty'!$C$5)","v":0}]
[null,"2017-01-31T13:00:00",1,1395.3600000000001,{"$f":"CEILING(IF(C2935-C2934=0,IF(H2934=0,I2934,IF(J2934>K2934,I2934,E2934)),'Výstupy modelu'!$C$7),1)","v":1664},0,0,{"$f":"IF(F2935=1,IF(G2935>'Zdrojová data'!$C$19,0,1),\"\")","v":""},1664,0,{"$f":"MIN(J2935,'Zdrojová data'!$C$17)","v":0},0,{"$f":"L2935/'Zdrojová data'!$C$16","v":0},{"$f":"M2935*'Zdrojová data'!$C$13","v":0},{"$f":"N2935*'Zdrojová data'!$C$14","v":0},0,{"$f":"IF(H2935=0,D2935-'Výstupy modelu'!$C$7,IF(P2935=1,J2935-K2935,0))","v":0},0,null,{"$f":"MAX(0,IF(Q2935>0,Q2935-('Výstupy modelu'!$H$10-'Výstupy modelu'!$H$9),0))","v":0},null,null,{"$f":"W2934","v":1865.4300000000003},1885.4300000000003,0,{"$f":"MAX(0,D2935-'Vstupní hodnoty'!$C$5)","v":0}]
[null,"2017-01-31T23:00:00",1,486.00000000000006,{"$f":"CEILING(IF(C2975-C2974=0,IF(H2974=0,I2974,IF(J2974>K2974,I2974,E2974)),'Výstupy modelu'!$C$7),1)","v":1664},0,0,{"$f":"IF(F2975=1,IF(G2975>'Zdrojová data'!$C$19,0,1),\"\")","v":""},1664,0,{"$f":"MIN(J2975,'Zdrojová data'!$C$17)","v":0},0,{"$f":"L2975/'Zdrojová data'!$C$16","v":0},{"$f":"M2975*'Zdrojová data'!$C$13","v":0},{"$f":"N2975*'Zdrojová data'!$C$14","v":0},0,{"$f":"IF(H2975=0,D2975-'Výstupy modelu'!$C$7,IF(P2975=1,J2975-K2975,0))","v":0},0,null,{"$f":"MAX(0,IF(Q2975>0,Q2975-('Výstupy modelu'!$H$10-'Výstupy modelu'!$H$9),0))","v":0},null,null,{"$f":"W2974","v":1865.4300000000003},1885.4300000000003,0,{"$f":"MAX(0,D2975-'Vstupní hodnoty'!$C$5)","v":0}]
[null,"2017-02-01T10:15:00",2,1345.68,{"$f":"CEILING(IF(C3020-C3019=0,IF(H3019=0,I3019,IF(J3019>K3019,I3019,E3019)),'Výstupy modelu'!$C$7),1)","v":1664},0,0,{"$f":"IF(F3020=1,IF(G3020>'Zdrojová data'!$C$19,0,1),\"\")","v":""},1664,0,{"$f":"MIN(J3020,'Zdrojová data'!$C$17)","v":0},0,{"$f":"L3020/'Zdrojová data'!$C$16","v":0},{"$f":"M3020*'Zdrojová data'!$C$13","v":0},{"$f":"N3020*'Zdrojová data'!$C$14","v":0},0,{"$f":"IF(H3020=0,D3020-'Výstupy modelu'!$C$7,IF(P3020=1,J3020-K3020,0))","v":0},0,null,{"$f":"MAX(0,IF(Q3020>0,Q3020-('Výstupy modelu'!$H$10-'Výstupy modelu'!$H$9),0))","v":0},null,null,{"$f":"W3019","v":1865.4300000000003},1885.4300000000003,0,{"$f":"MAX(0,D3020-'Vstupní hodnoty'!$C$5)","v":0}]
[null,"2017-02-01T14:30:00",2,1148.04,{"$f":"CEILING(IF(C3037-C3036=0,IF(H3036=0,I3036,IF(J3036>K3036,I3036,E3036)),'Výstupy modelu'!$C$7),1)","v":1664},0,0,{"$f":"IF(F3037=1,IF(G3037>'Zdrojová data'!$C$19,0,1),\"\")","v":""},1664,0,{"$f":"MIN(J3037,'Zdrojová data'!$C$17)","v":0},0,{"$f":"L3037/'Zdrojová data'!$C$16","v":0},{"$f":"M3037*'Zdrojová data'!$C$13","v":0},{"$f":"N3037*'Zdrojová data'!$C$14","v":0},0,{"$f":"IF(H3037=0,D3037-'Výstupy modelu'!$C$7,IF(P3037=1,J3037-K3037,0))","v":0},0,null,{"$f":"MAX(0,IF(Q3037>0,Q3037-('Výstupy modelu'!$H$10-'Výstupy modelu'!$H$9),0))","v":0},null,null,{"$f":"W3036","v":1865.4300000000003},1885.4300000000003,0,{"$f":"MAX(0,D3037-'Vstupní hodnoty'!$C$5)","v":0}]
[null,"2017-02-01T23:15:00",2,467.64000000000004,{"$f":"CEILING(IF(C3072-C3071=0,IF(H3071=0,I3071,IF(J3071>K3071,I3071,E3071)),'Výstupy modelu'!$C$7),1)","v":1664},0,0,{"$f":"IF(F3072=1,IF(G3072>'Zdrojová data'!$C$19,0,1),\"\")","v":""},1664,0,{"$f":"MIN(J3072,'Zdrojová data'!$C$17)","v":0},0,{"$f":"L3072/'Zdrojová data'!$C$16","v":0},{"$f":"M3072*'Zdrojová data'!$C$13","v":0},{"$f":"N3072*'Zdrojová data'!$C$14","v":0},0,{"$f":"IF(H3072=0,D3072-'Výstupy modelu'!$C$7,IF(P3072=1,J3072-K3072,0))","v":0},0,null,{"$f":"MAX(0,IF(Q3072>0,Q3072-('Výstupy modelu'!$H$10-'Výstupy modelu'!$H$9),0))","v":0},null,null,{"$f":"W3071","v":1865.4300000000003},1885.4300000000003,0,{"$f":"MAX(0,D3072-'Vstupní hodnoty'!$C$5)","v":0}]
[null,"2017-02-02T12:00:00",2,1103.76,{"$f":"CEILING(IF(C3123-C3122=0,IF(H3122=0,I3122,IF(J3122>K3122,I3122,E3122)),'Výstupy modelu'!$C$7),1)","v":1664},0,0,{"$f":"IF(F3123=1,IF(G3123>'Zdrojová data'!$C$19,0,1),\"\")","v":""},1664,0,{"$f":"MIN(J3123,'Zdrojová data'!$C$17)","v":0},0,{"$f":"L3123/'Zdrojová data'!$C$16","v":0},{"$f":"M3123*'Zdrojová data'!$C$13","v":0},{"$f":"N3123*'Zdrojová data'!$C$14","v":0},0,{"$f":"IF(H3123=0,D3123-'Výstupy modelu'!$C$7,IF(P3123=1,J3123-K3123,0))","v":0},0,null,{"$f":"MAX(0,IF(Q3123>0,Q3123-('Výstupy modelu'!$H$10-'Výstupy modelu'!$H$9),0))","v":0},null,null,{"$f":"W3122","v":1865.4300000000003},1885.4300000000003,0,{"$f":"MAX(0,D3123-'Vstupní hodnoty'!$C$5)","v":0}]
[null,"2017-02-02T18:30:00",2,882.36,{"$f":"CEILING(IF(C3149-C3148=0,IF(H3148=0,I3148,IF(J3148>K3148,I3148,E3148)),'Výstupy modelu'!$C$7),1)","v":1664},0,0,{"$f":"IF(F3149=1,IF(G3149>'Zdrojová data'!$C$19,0,1),\"\")","v":""},1664,0,{"$f":"MIN(J3149,'Zdrojová data'!$C$17)","v":0},0,{"$f":"L3149/'Zdrojová data'!$C$16","v":0},{"$f":"M3149*'Zdrojová data'!$C$13","v":0},{"$f":"N3149*'Zdrojová data'!$C$14","v":0},0,{"$f":"IF(H3149=0,D3149-'Výstupy modelu'!$C$7,IF(P3149=1,J3149-K3149,0))","v":0},0,null,{"$f":"MAX(0,IF(Q3149>0,Q3149-('Výstupy modelu'!$H$10-'Výstupy modelu'!$H$9),0))","v":0},null,null,{"$f":"W3148","v":1865.4300000000003},1885.4300000000003,0,{"$f":"MAX(0,D3149-'Vstupní hodnoty'!$C$5)","v":0}]
[null,"2017-02-03T00:45:00",2,389.88000000000005,{"$f":"CEILING(IF(C3174-C3173=0,IF(H3173=0,I3173,IF(J3173>K3173,I3173,E3173)),'Výstupy modelu'!$C$7),1)","v":1664},0,0,{"$f":"IF(F3174=1,IF(G3174>'Zdrojová data'!$C$19,0,1),\"\")","v":""},1664,0,{"$f":"MIN(J3174,'Zdrojová data'!$C$17)","v":0},0,{"$f":"L3174/'Zdrojová data'!$C$16","v":0},{"$f":"M3174*'Zdrojová data'!$C$13","v":0},{"$f":"N3174*'Zdrojová data'!$C$14","v":0},0,{"$f":"IF(H3174=0,D3174-'Výstupy modelu'!$C$7,IF(P3174=1,J3174-K3174,0))","v":0},0,null,{"$f":"MAX(0,IF(Q3174>0,Q3174-('Výstupy modelu'!$H$10-'Výstupy modelu'!$H$9),0))","v":0},null,null,{"$f":"W3173","v":1865.4300000000003},1885.4300000000003,0,{"$f":"MAX(0,D3174-'Vstupní hodnoty'!$C$5)","v":0}]
[null,"2017-02-03T13:30:00",2,1180.44,{"$f":"CEILING(IF(C3225-C3224=0,IF(H3224=0,I3224,IF(J3224>K3224,I3224,E3224)),'Výstupy modelu'!$C$7),1)","v":1664},0,0,{"$f":"IF(F3225=1,IF(G3225>'Zdrojová data'!$C$19,0,1),\"\")","v":""},1664,0,{"$f":"MIN(J3225,'Zdrojová data'!$C$17)","v":0},0,{"$f":"L3225/'Zdrojová data'!$C$16","v":0},{"$f":"M3225*'Zdrojová data'!$C$13","v":0},{"$f":"N3225*'Zdrojová data'!$C$14","v":0},0,{"$f":"IF(H3225=0,D3225-'Výstupy modelu'!$C$7,IF(P3225=1,J3225-K3225,0))","v":0},0,null,{"$f":"MAX(0,IF(Q3225>0,Q3225-('Výstupy modelu'!$H$10-'Výstupy modelu'!$H$9),0))","v":0},null,null,{"$f":"W3224","v":1865.4300000000003},1885.4300000000003,0,{"$f":"MAX(0,D3225-'Vstupní hodnoty'!$C$5)","v":0}]
[null,"2017-02-03T22:15:00",2,327.24,{"$f":"CEILING(IF(C3260-C3259=0,IF(H3259=0,I3259,IF(J3259>K3259,I3259,E3259)),'Výstupy modelu'!$C$7),1)","v":1664},0,0,{"$f":"IF(F3260=1,IF(G3260>'Zdrojová data'!$C$19,0,1),\"\")","v":""},1664,0,{"$f":"MIN(J3260,'Zdrojová data'!$C$17)","v":0},0,{"$f":"L3260/'Zdrojová data'!$C$16","v":0},{"$f":"M3260*'Zdrojová data'!$C$13","v":0},{"$f":"N3260*'Zdrojová data'!$C$14","v":0},0,{"$f":"IF(H3260=0,D3260-'Výstupy modelu'!$C$7,IF(P3260=1,J3260-K3260,0))","v":0},0,null,{"$f":"MAX(0,IF(Q3260>0,Q3260-('Výstupy modelu'!$H$10-'Výstupy modelu'!$H$9),0))","v":0},null,null,{"$f":"W3259","v":1865.4300000000003},1885.4300000000003,0,{"$f":"MAX(0,D3260-'Vstupní hodnoty'!$C$5)","v":0}]
[null,"2017-02-04T02:30:00",2,300.24,{"$f":"CEILING(IF(C3277-C3276=0,IF(H3276=0,I3276,IF(J3276>K3276,I3276,E3276)),'Výstupy modelu'!$C$7),1)","v":1664},0,0,{"$f":"IF(F3277=1,IF(G3277>'Zdrojová data'!$C$19,0,1),\"\")","v":""},1664,0,{"$f":"MIN(J3277,'Zdrojová data'!$C$17)","v":0},0,{"$f":"L3277/'Zdrojová data'!$C$16","v":0},{"$f":"M3277*'Zdrojová data'!$C$13","v":0},{"$f":"N3277*'Zdrojová data'!$C$14","v":0},0,{"$f":"IF(H3277=0,D3277-'Výstupy modelu'!$C$7,IF(P3277=1,J3277-K3277,0))","v":0},0,null,{"$f":"MAX(0,IF(Q3277>0,Q3277-('Výstupy modelu'!$H$10-'Výstupy modelu'!$H$9),0))","v":0},null,null,{"$f":"W3276","v":1865.4300000000003},1885.4300000000003,0,{"$f":"MAX(0,D3277-'Vstupní hodnoty'!$C$5)","v":0}]
[null,"2017-02-04T13:00:00",2,414.72,{"$f":"CEILING(IF(C3319-C3318=0,IF(H3318=0,I3318,IF(J3318>K3318,I3318,E3318)),'Výstupy modelu'!$C$7),1)","v":1664},0,0,{"$f":"IF(F3319=1,IF(G3319>'Zdrojová data'!$C$19,0,1),\"\")","v":""},1664,0,{"$f":"MIN(J3319,'Zdrojová data'!$C$17)","v":0},0,{"$f":"L3319/'Zdrojová data'!$C$16","v":0},{"$f":"M3319*'Zdrojová data'!$C$13","v":0},{"$f":"N3319*'Zdrojová data'!$C$14","v":0},0,{"$f":"IF(H3319=0,D3319-'Výstupy modelu'!$C$7,IF(P3319=1,J3319-K3319,0))","v":0},0,null,{"$f":"MAX(0,IF(Q3319>0,Q3319-('Výstupy modelu'!$H$10-'Výstupy modelu'!$H$9),0))","v":0},null,null,{"$f":"W3318","v":1865.4300000000003},1885.4300000000003,0,{"$f":"MAX(0,D3319-'Vstupní hodnoty'!$C$5)","v":0}]
[null,"2017-02-04T23:45:00",2,199.8,{"$f":"CEILING(IF(C3362-C3361=0,IF(H3361=0,I3361,IF(J3361>K3361,I3361,E3361)),'Výstupy modelu'!$C$7),1)","v":1664},0,0,{"$f":"IF(F3362=1,IF(G3362>'Zdrojová data'!$C$19,0,1),\"\")","v":""},1664,0,{"$f":"MIN(J3362,'Zdrojová data'!$C$17)","v":0},0,{"$f":"L3362/'Zdrojová data'!$C$16","v":0},{"$f":"M3362*'Zdrojová data'!$C$13","v":0},{"$f":"N3362*'Zdrojová data'!$C$14","v":0},0,{"$f":"IF(H3362=0,D3362-'Výstupy modelu'!$C$7,IF(P3362=1,J3362-K3362,0))","v":0},0,null,{"$f":"MAX(0,IF(Q3362>0,Q3362-('Výstupy modelu'!$H$10-'Výstupy modelu'!$H$9),0))","v":0},null,null,{"$f":"W3361","v":1865.4300000000003},1885.4300000000003,0,{"$f":"MAX(0,D3362-'Vstupní hodnoty'!$C$5)","v":0}]
[null,"2017-02-05T04:00:00",2,198.72000000000003,{"$f":"CEILING(IF(C3379-C3378=0,IF(H3378=0,I3378,IF(J3378>K3378,I3378,E3378)),'Výstupy modelu'!$C$7),1)","v":1664},0,0,{"$f":"IF(F3379=1,IF(G3379>'Zdrojová data'!$C$19,0,1),\"\")","v":""},1664,0,{"$f":"MIN(J3379,'Zdrojová data'!$C$17)","v":0},0,{"$f":"L3379/'Zdrojová data'!$C$16","v":0},{"$f":"M3379*'Zdrojová data'!$C$13","v":0},{"$f":"N3379*'Zdrojová data'!$C$14","v":0},0,{"$f":"IF(H3379=0,D3379-'Výstupy modelu'!$C$7,IF(P3379=1,J3379-K3379,0))","v":0},0,null,{"$f":"MAX(0,IF(Q3379>0,Q3379-('Výstupy modelu'!$H$10-'Výstupy modelu'!$H$9),0))","v":0},null,null,{"$f":"W3378","v":1865.4300000000003},1885.4300000000003,0,{"$f":"MAX(0,D3379-'Vstupní hodnoty'!$C$5)","v":0}]
[null,"2017-02-05T12:45:00",2,181.44,{"$f":"CEILING(IF(C3414-C3413=0,IF(H3413=0,I3413,IF(J3413>K3413,I3413,E3413)),'Výstupy modelu'!$C$7),1)","v":1664},0,0,{"$f":"IF(F3414=1,IF(G3414>'Zdrojová data'!$C$19,0,1),\"\")","v":""},1664,0,{"$f":"MIN(J3414,'Zdrojová data'!$C$17)","v":0},0,{"$f":"L3414/'Zdrojová data'!$C$16","v":0},{"$f":"M3414*'Zdrojová data'!$C$13","v":0},{"$f":"N3414*'Zdrojová data'!$C$14","v":0},0,{"$f":"IF(H3414=0,D3414-'Výstupy modelu'!$C$7,IF(P3414=1,J3414-K3414,0))","v":0},0,null,{"$f":"MAX(0,IF(Q3414>0,Q3414-('Výstupy modelu'!$H$10-'Výstupy modelu'!$H$9),0))","v":0},null,null,{"$f":"W3413","v":1865.4300000000003},1885.4300000000003,0,{"$f":"MAX(0,D3414-'Vstupní hodnoty'!$C$5)","v":0}]
[null,"2017-02-06T01:30:00",2,302.40000000000003,{"$f":"CEILING(IF(C3465-C3464=0,IF(H3464=0,I3464,IF(J3464>K3464,I3464,E3464)),'Výstupy modelu'!$C$7),1)","v":1664},0,0,{"$f":"IF(F3465=1,IF(G3465>'Zdrojová data'!$C$19,0,1),\"\")","v":""},1664,0,{"$f":"MIN(J3465,'Zdrojová data'!$C$17)","v":0},0,{"$f":"L3465/'Zdrojová data'!$C$16","v":0},{"$f":"M3465*'Zdrojová data'!$C$13","v":0},{"$f":"N3465*'Zdrojová data'!$C$14","v":0},0,{"$f":"IF(H3465=0,D3465-'Výstupy modelu'!$C$7,IF(P3465=1,J3465-K3465,0))","v":0},0,null,{"$f":"MAX(0,IF(Q3465>0,Q3465-('Výstupy modelu'!$H$10-'Výstupy modelu'!$H$9),0))","v":0},null,null,{"$f":"W3464","v":1865.4300000000003},1885.4300000000003,0,{"$f":"MAX(0,D3465-'Vstupní hodnoty'!$C$5)","v":0}]
[null,"2017-02-06T08:30:00",2,1361.88,{"$f":"CEILING(IF(C3493-C3492=0,IF(H3492=0,I3492,IF(J3492>K3492,I3492,E3492)),'Výstupy modelu'!$C$7),1)","v":1664},0,0,{"$f":"IF(F3493=1,IF(G3493>'Zdrojová data'!$C$19,0,1),\"\")","v":""},1664,0,{"$f":"MIN(J3493,'Zdrojová data'!$C$17)","v":0},0,{"$f":"L3493/'Zdrojová data'!$C$16","v":0},{"$f":"M3493*'Zdrojová data'!$C$13","v":0},{"$f":"N3493*'Zdrojová data'!$C$14","v":0},0,{"$f":"IF(H3493=0,D3493-'Výstupy modelu'!$C$7,IF(P3493=1,J3493-K3493,0))","v":0},0,null,{"$f":"MAX(0,IF(Q3493>0,Q3493-('Výstupy modelu'!$H$10-'Výstupy modelu'!$H$9),0))","v":0},null,null,{"$f":"W3492","v":1865.4300000000003},1885.4300000000003,0,{"$f":"MAX(0,D3493-'Vstupní hodnoty'!$C$5)","v":0}]
[null,"2017-02-06T14:15:00",2,1199.8800000000001,{"$f":"CEILING(IF(C3516-C3515=0,IF(H3515=0,I3515,IF(J3515>K3515,I3515,E3515)),'Výstupy modelu'!$C$7),1)","v":1664},0,0,{"$f":"IF(F3516=1,IF(G3516>'Zdrojová data'!$C$19,0,1),\"\")","v":""},1664,0,{"$f":"MIN(J3516,'Zdrojová data'!$C$17)","v":0},0,{"$f":"L3516/'Zdrojová data'!$C$16","v":0},{"$f":"M3516*'Zdrojová data'!$C$13","v":0},{"$f":"N3516*'Zdrojová data'!$C$14","v":0},0,{"$f":"IF(H3516=0,D3516-'Výstupy modelu'!$C$7,IF(P3516=1,J3516-K3516,0))","v":0},0,null,{"$f":"MAX(0,IF(Q3516>0,Q3516-('Výstupy modelu'!$H$10-'Výstupy modelu'!$H$9),0))","v":0},null,null,{"$f":"W3515","v":1865.4300000000003},1885.4300000000003,0,{"$f":"MAX(0,D3516-'Vstupní hodnoty'!$C$5)","v":0}]
[null,"2017-02-07T03:00:00",2,376.92,{"$f":"CEILING(IF(C3567-C3566=0,IF(H3566=0,I3566,IF(J3566>K3566,I3566,E3566)),'Výstupy modelu'!$C$7),1)","v":1664},0,0,{"$f":"IF(F3567=1,IF(G3567>'Zdrojová data'!$C$19,0,1),\"\")","v":""},1664,0,{"$f":"MIN(J3567,'Zdrojová data'!$C$17)","v":0},0,{"$f":"L3567/'Zdrojová data'!$C$16","v":0},{"$f":"M3567*'Zdrojová data'!$C$13","v":0},{"$f":"N3567*'Zdrojová data'!$C$14","v":0},0,{"$f":"IF(H3567=0,D3567-'Výstupy modelu'!$C$7,IF(P3567=1,J3567-K3567,0))","v":0},0,null,{"$f":"MAX(0,IF(Q3567>0,Q3567-('Výstupy modelu'!$H$10-'Výstupy modelu'!$H$9),0))","v":0},null,null,{"$f":"W3566","v":1865.4300000000003},1885.4300000000003,0,{"$f":"MAX(0,D3567-'Vstupní hodnoty'!$C$5)","v":0}]
[null,"2017-02-07T11:45:00",2,1260.3600000000001,{"$f":"CEILING(IF(C3602-C3601=0,IF(H3601=0,I3601,IF(J3601>K3601,I3601,E3601)),'Výstupy modelu'!$C$7),1)","v":1664},0,0,{"$f":"IF(F3602=1,IF(G3602>'Zdrojová data'!$C$19,0,1),\"\")","v":""},1664,0,{"$f":"MIN(J3602,'Zdrojová data'!$C$17)","v":0},0,{"$f":"L3602/'Zdrojová data'!$C$16","v":0},{"$f":"M3602*'Zdrojová data'!$C$13","v":0},{"$f":"N3602*'Zdrojová data'!$C$14","v":0},0,{"$f":"IF(H3602=0,D3602-'Výstupy modelu'!$C$7,IF(P3602=1,J3602-K3602,0))","v":0},0,null,{"$f":"MAX(0,IF(Q3602>0,Q3602-('Výstupy modelu'!$H$10-'Výstupy modelu'!$H$9),0))","v":0},null,null,{"$f":"W3601","v":1865.4300000000003},1885.4300000000003,0,{"$f":"MAX(0,D3602-'Vstupní hodnoty'!$C$5)","v":0}]
[null,"2017-02-07T16:00:00",2,855.36,{"$f":"CEILING(IF(C3619-C3618=0,IF(H3618=0,I3618,IF(J3618>K3618,I3618,E3618)),'Výstupy modelu'!$C$7),1)","v":1664},0,0,{"$f":"IF(F3619=1,IF(G3619>'Zdrojová data'!$C$19,0,1),\"\")","v":""},1664,0,{"$f":"MIN(J3619,'Zdrojová data'!$C$17)","v":0},0,{"$f":"L3619/'Zdrojová data'!$C$16","v":0},{"$f":"M3619*'Zdrojová data'!$C$13","v":0},{"$f":"N3619*'Zdrojová data'!$C$14","v":0},0,{"$f":"IF(H3619=0,D3619-'Výstupy modelu'!$C$7,IF(P3619=1,J3619-K3619,0))","v":0},0,null,{"$f":"MAX(0,IF(Q3619>0,Q3619-('Výstupy modelu'!$H$10-'Výstupy modelu'!$H$9),0))","v":0},null,null,{"$f":"W3618","v":1865.4300000000003},1885.4300000000003,0,{"$f":"MAX(0,D3619-'Vstupní hodnoty'!$C$5)","v":0}]
[null,"2017-02-08T04:00:00",2,423.36,{"$f":"CEILING(IF(C3667-C3666=0,IF(H3666=0,I3666,IF(J3666>K3666,I3666,E3666)),'Výstupy modelu'!$C$7),1)","v":1664},0,0,{"$f":"IF(F3667=1,IF(G3667>'Zdrojová data'!$C$19,0,1),\"\")","v":""},1664,0,{"$f":"MIN(J3667,'Zdrojová data'!$C$17)","v":0},0,{"$f":"L3667/'Zdrojová data'!$C$16","v":0},{"$f":"M3667*'Zdrojová data'!$C$13","v":0},{"$f":"N3667*'Zdrojová data'!$C$14","v":0},0,{"$f":"IF(H3667=0,D3667-'Výstupy modelu'!$C$7,IF(P3667=1,J3667-K3667,0))","v":0},0,null,{"$f":"MAX(0,IF(Q3667>0,Q3667-('Výstupy modelu'!$H$10-'Výstupy modelu'!$H$9),0))","v":0},null,null,{"$f":"W3666","v":1865.4300000000003},1885.4300000000003,0,{"$f":"MAX(0,D3667-'Vstupní hodnoty'!$C$5)","v":0}]
[null,"2017-02-08T04:45:00",2,599.40000000000009,{"$f":"CEILING(IF(C3670-C3669=0,IF(H3669=0,I3669,IF(J3669>K3669,I3669,E3669)),'Výstupy modelu'!$C$7),1)","v":1664},0,0,{"$f":"IF(F3670=1,IF(G3670>'Zdrojová data'!$C$19,0,1),\"\")","v":""},1664,0,{"$f":"MIN(J3670,'Zdrojová data'!$C$17)","v":0},0,{"$f":"L3670/'Zdrojová data'!$C$16","v":0},{"$f":"M3670*'Zdrojová data'!$C$13","v":0},{"$f":"N3670*'Zdrojová data'!$C$14","v":0},0,{"$f":"IF(H3670=0,D3670-'Výstupy modelu'!$C$7,IF(P3670=1,J3670-K3670,0))","v":0},0,null,{"$f":"MAX(0,IF(Q3670>0,Q3670-('Výstupy modelu'!$H$10-'Výstupy modelu'!$H$9),0))","v":0},null,null,{"$f":"W3669","v":1865.4300000000003},1885.4300000000003,0,{"$f":"MAX(0,D3670-'Vstupní hodnoty'!$C$5)","v":0}]
[null,"2017-02-08T17:30:00",2,806.7600000000001,{"$f":"CEILING(IF(C3721-C3720=0,IF(H3720=0,I3720,IF(J3720>K3720,I3720,E3720)),'Výstupy modelu'!$C$7),1)","v":1664},0,0,{"$f":"IF(F3721=1,IF(G3721>'Zdrojová data'!$C$19,0,1),\"\")","v":""},1664,0,{"$f":"MIN(J3721,'Zdrojová data'!$C$17)","v":0},0,{"$f":"L3721/'Zdrojová data'!$C$16","v":0},{"$f":"M3721*'Zdrojová data'!$C$13","v":0},{"$f":"N3721*'Zdrojová data'!$C$14","v":0},0,{"$f":"IF(H3721=0,D3721-'Výstupy modelu'!$C$7,IF(P3721=1,J3721-K3721,0))","v":0},0,null,{"$f":"MAX(0,IF(Q3721>0,Q3721-('Výstupy modelu'!$H$10-'Výstupy modelu'!$H$9),0))","v":0},null,null,{"$f":"W3720","v":1865.4300000000003},1885.4300000000003,0,{"$f":"MAX(0,D3721-'Vstupní hodnoty'!$C$5)","v":0}]
[null,"2017-02-08T21:45:00",2,592.92000000000007,{"$f":"CEILING(IF(C3738-C3737=0,IF(H3737=0,I3737,IF(J3737>K3737,I3737,E3737)),'Výstupy modelu'!$C$7),1)","v":1664},0,0,{"$f":"IF(F3738=1,IF(G3738>'Zdrojová data'!$C$19,0,1),\"\")","v":""},1664,0,{"$f":"MIN(J3738,'Zdrojová data'!$C$17)","v":0},0,{"$f":"L3738/'Zdrojová data'!$C$16","v":0},{"$f":"M3738*'Zdrojová data'!$C$13","v":0},{"$f":"N3738*'Zdrojová data'!$C$14","v":0},0,{"$f":"IF(H3738=0,D3738-'Výstupy modelu'!$C$7,IF(P3738=1,J3738-K3738,0))","v":0},0,null,{"$f":"MAX(0,IF(Q3738>0,Q3738-('Výstupy modelu'!$H$10-'Výstupy modelu'!$H$9),0))","v":0},null,null,{"$f":"W3737","v":1865.4300000000003},1885.4300000000003,0,{"$f":"MAX(0,D3738-'Vstupní hodnoty'!$C$5)","v":0}]
[null,"2017-02-09T13:30:00",2,1270.0800000000002,{"$f":"CEILING(IF(C3801-C3800=0,IF(H3800=0,I3800,IF(J3800>K3800,I3800,E3800)),'Výstupy modelu'!$C$7),1)","v":1664},0,0,{"$f":"IF(F3801=1,IF(G3801>'Zdrojová data'!$C$19,0,1),\"\")","v":""},1664,0,{"$f":"MIN(J3801,'Zdrojová data'!$C$17)","v":0},0,{"$f":"L3801/'Zdrojová data'!$C$16","v":0},{"$f":"M3801*'Zdrojová data'!$C$13","v":0},{"$f":"N3801*'Zdrojová data'!$C$14","v":0},0,{"$f":"IF(H3801=0,D3801-'Výstupy modelu'!$C$7,IF(P3801=1,J3801-K3801,0))","v":0},0,null,{"$f":"MAX(0,IF(Q3801>0,Q3801-('Výstupy modelu'!$H$10-'Výstupy modelu'!$H$9),0))","v":0},null,null,{"$f":"W3800","v":1865.4300000000003},1885.4300000000003,0,{"$f":"MAX(0,D3801-'Vstupní hodnoty'!$C$5)","v":0}]
[null,"2017-02-09T19:00:00",2,859.68000000000006,{"$f":"CEILING(IF(C3823-C3822=0,IF(H3822=0,I3822,IF(J3822>K3822,I3822,E3822)),'Výstupy modelu'!$C$7),1)","v":1664},0,0,{"$f":"IF(F3823=1,IF(G3823>'Zdrojová data'!$C$19,0,1),\"\")","v":""},1664,0,{"$f":"MIN(J3823,'Zdrojová data'!$C$17)","v":0},0,{"$f":"L3823/'Zdrojová data'!$C$16","v":0},{"$f":"M3823*'Zdrojová data'!$C$13","v":0},{"$f":"N3823*'Zdrojová data'!$C$14","v":0},0,{"$f":"IF(H3823=0,D3823-'Výstupy modelu'!$C$7,IF(P3823=1,J3823-K3823,0))","v":0},0,null,{"$f":"MAX(0,IF(Q3823>0,Q3823-('Výstupy modelu'!$H$10-'Výstupy modelu'!$H$9),0))","v":0},null,null,{"$f":"W3822","v":1865.4300000000003},1885.4300000000003,0,{"$f":"MAX(0,D3823-'Vstupní hodnoty'!$C$5)","v":0}]
[null,"2017-02-10T03:45:00",2,415.8,{"$f":"CEILING(IF(C3858-C3857=0,IF(H3857=0,I3857,IF(J3857>K3857,I3857,E3857)),'Výstupy modelu'!$C$7),1)","v":1664},0,0,{"$f":"IF(F3858=1,IF(G3858>'Zdrojová data'!$C$19,0,1),\"\")","v":""},1664,0,{"$f":"MIN(J3858,'Zdrojová data'!$C$17)","v":0},0,{"$f":"L3858/'Zdrojová data'!$C$16","v":0},{"$f":"M3858*'Zdrojová data'!$C$13","v":0},{"$f":"N3858*'Zdrojová data'!$C$14","v":0},0,{"$f":"IF(H3858=0,D3858-'Výstupy modelu'!$C$7,IF(P3858=1,J3858-K3858,0))","v":0},0,null,{"$f":"MAX(0,IF(Q3858>0,Q3858-('Výstupy modelu'!$H$10-'Výstupy modelu'!$H$9),0))","v":0},null,null,{"$f":"W3857","v":1865.4300000000003},1885.4300000000003,0,{"$f":"MAX(0,D3858-'Vstupní hodnoty'!$C$5)","v":0}]
[null,"2017-02-10T08:00:00",2,1190.1600000000001,{"$f":"CEILING(IF(C3875-C3874=0,IF(H3874=0,I3874,IF(J3874>K3874,I3874,E3874)),'Výstupy modelu'!$C$7),1)","v":1664},0,0,{"$f":"IF(F3875=1,IF(G3875>'Zdrojová data'!$C$19,0,1),\"\")","v":""},1664,0,{"$f":"MIN(J3875,'Zdrojová data'!$C$17)","v":0},0,{"$f":"L3875/'Zdrojová data'!$C$16","v":0},{"$f":"M3875*'Zdrojová data'!$C$13","v":0},{"$f":"N3875*'Zdrojová data'!$C$14","v":0},0,{"$f":"IF(H3875=0,D3875-'Výstupy modelu'!$C$7,IF(P3875=1,J3875-K3875,0))","v":0},0,null,{"$f":"MAX(0,IF(Q3875>0,Q3875-('Výstupy modelu'!$H$10-'Výstupy modelu'!$H$9),0))","v":0},null,null,{"$f":"W3874","v":1865.4300000000003},1885.4300000000003,0,{"$f":"MAX(0,D3875-'Vstupní hodnoty'!$C$5)","v":0}]
[null,"2017-02-10T20:45:00",2,758.16000000000008,{"$f":"CEILING(IF(C3926-C3925=0,IF(H3925=0,I3925,IF(J3925>K3925,I3925,E3925)),'Výstupy modelu'!$C$7),1)","v":1664},0,0,{"$f":"IF(F3926=1,IF(G3926>'Zdrojová data'!$C$19,0,1),\"\")","v":""},1664,0,{"$f":"MIN(J3926,'Zdrojová data'!$C$17)","v":0},0,{"$f":"L3926/'Zdrojová data'!$C$16","v":0},{"$f":"M3926*'Zdrojová data'!$C$13","v":0},{"$f":"N3926*'Zdrojová data'!$C$14","v":0},0,{"$f":"IF(H3926=0,D3926-'Výstupy modelu'!$C$7,IF(P3926=1,J3926-K3926,0))","v":0},0,null,{"$f":"MAX(0,IF(Q3926>0,Q3926-('Výstupy modelu'!$H$10-'Výstupy modelu'!$H$9),0))","v":0},null,null,{"$f":"W3925","v":1865.4300000000003},1885.4300000000003,0,{"$f":"MAX(0,D3926-'Vstupní hodnoty'!$C$5)","v":0}]
[null,"2017-02-11T00:45:00",2,237.60000000000002,{"$f":"CEILING(IF(C3942-C3941=0,IF(H3941=0,I3941,IF(J3941>K3941,I3941,E3941)),'Výstupy modelu'!$C$7),1)","v":1664},0,0,{"$f":"IF(F3942=1,IF(G3942>'Zdrojová data'!$C$19,0,1),\"\")","v":""},1664,0,{"$f":"MIN(J3942,'Zdrojová data'!$C$17)","v":0},0,{"$f":"L3942/'Zdrojová data'!$C$16","v":0},{"$f":"M3942*'Zdrojová data'!$C$13","v":0},{"$f":"N3942*'Zdrojová data'!$C$14","v":0},0,{"$f":"IF(H3942=0,D3942-'Výstupy modelu'!$C$7,IF(P3942=1,J3942-K3942,0))","v":0},0,null,{"$f":"MAX(0,IF(Q3942>0,Q3942-('Výstupy modelu'!$H$10-'Výstupy modelu'!$H$9),0))","v":0},null,null,{"$f":"W3941","v":1865.4300000000003},1885.4300000000003,0,{"$f":"MAX(0,D3942-'Vstupní hodnoty'!$C$5)","v":0}]
[null,"2017-02-11T09:30:00",2,740.88,{"$f":"CEILING(IF(C3977-C3976=0,IF(H3976=0,I3976,IF(J3976>K3976,I3976,E3976)),'Výstupy modelu'!$C$7),1)","v":1664},0,0,{"$f":"IF(F3977=1,IF(G3977>'Zdrojová data'!$C$19,0,1),\"\")","v":""},1664,0,{"$f":"MIN(J3977,'Zdrojová data'!$C$17)","v":0},0,{"$f":"L3977/'Zdrojová data'!$C$16","v":0},{"$f":"M3977*'Zdrojová data'!$C$13","v":0},{"$f":"N3977*'Zdrojová data'!$C$14","v":0},0,{"$f":"IF(H3977=0,D3977-'Výstupy modelu'!$C$7,IF(P3977=1,J3977-K3977,0))","v":0},0,null,{"$f":"MAX(0,IF(Q3977>0,Q3977-('Výstupy modelu'!$H$10-'Výstupy modelu'!$H$9),0))","v":0},null,null,{"$f":"W3976","v":1865.4300000000003},1885.4300000000003,0,{"$f":"MAX(0,D3977-'Vstupní hodnoty'!$C$5)","v":0}]
[null,"2017-02-11T22:15:00",2,221.4,{"$f":"CEILING(IF(C4028-C4027=0,IF(H4027=0,I4027,IF(J4027>K4027,I4027,E4027)),'Výstupy modelu'!$C$7),1)","v":1664},0,0,{"$f":"IF(F4028=1,IF(G4028>'Zdrojová data'!$C$19,0,1),\"\")","v":""},1664,0,{"$f":"MIN(J4028,'Zdrojová data'!$C$17)","v":0},0,{"$f":"L4028/'Zdrojová data'!$C$16","v":0},{"$f":"M4028*'Zdrojová data'!$C$13","v":0},{"$f":"N4028*'Zdrojová data'!$C$14","v":0},0,{"$f":"IF(H4028=0,D4028-'Výstupy modelu'!$C$7,IF(P4028=1,J4028-K4028,0))","v":0},0,null,{"$f":"MAX(0,IF(Q4028>0,Q4028-('Výstupy modelu'!$H$10-'Výstupy modelu'!$H$9),0))","v":0},null,null,{"$f":"W4027","v":1865.4300000000003},1885.4300000000003,0,{"$f":"MAX(0,D4028-'Vstupní hodnoty'!$C$5)","v":0}]
[null,"2017-02-12T07:00:00",2,220.32000000000002,{"$f":"CEILING(IF(C4063-C4062=0,IF(H4062=0,I4062,IF(J4062>K4062,I4062,E4062)),'Výstupy modelu'!$C$7),1)","v":1664},0,0,{"$f":"IF(F4063=1,IF(G4063>'Zdrojová data'!$C$19,0,1),\"\")","v":""},1664,0,{"$f":"MIN(J4063,'Zdrojová data'!$C$17)","v":0},0,{"$f":"L4063/'Zdrojová data'!$C$16","v":0},{"$f":"M4063*'Zdrojová data'!$C$13","v":0},{"$f":"N4063*'Zdrojová data'!$C$14","v":0},0,{"$f":"IF(H4063=0,D4063-'Výstupy modelu'!$C$7,IF(P4063=1,J4063-K4063,0))","v":0},0,null,{"$f":"MAX(0,IF(Q4063>0,Q4063-('Výstupy modelu'!$H$10-'Výstupy modelu'!$H$9),0))","v":0},null,null,{"$f":"W4062","v":1865.4300000000003},1885.4300000000003,0,{"$f":"MAX(0,D4063-'Vstupní hodnoty'!$C$5)","v":0}]
[null,"2017-02-12T11:15:00",2,227.88000000000002,{"$f":"CEILING(IF(C4080-C4079=0,IF(H4079=0,I4079,IF(J4079>K4079,I4079,E4079)),'Výstupy modelu'!$C$7),1)","v":1664},0,0,{"$f":"IF(F4080=1,IF(G4080>'Zdrojová data'!$C$19,0,1),\"\")","v":""},1664,0,{"$f":"MIN(J4080,'Zdrojová data'!$C$17)","v":0},0,{"$f":"L4080/'Zdrojová data'!$C$16","v":0},{"$f":"M4080*'Zdrojová data'!$C$13","v":0},{"$f":"N4080*'Zdrojová data'!$C$14","v":0},0,{"$f":"IF(H4080=0,D4080-'Výstupy modelu'!$C$7,IF(P4080=1,J4080-K4080,0))","v":0},0,null,{"$f":"MAX(0,IF(Q4080>0,Q4080-('Výstupy modelu'!$H$10-'Výstupy modelu'!$H$9),0))","v":0},null,null,{"$f":"W4079","v":1865.4300000000003},1885.4300000000003,0,{"$f":"MAX(0,D4080-'Vstupní hodnoty'!$C$5)","v":0}]
[null,"2017-02-12T20:15:00",2,233.28000000000003,{"$f":"CEILING(IF(C4116-C4115=0,IF(H4115=0,I4115,IF(J4115>K4115,I4115,E4115)),'Výstupy modelu'!$C$7),1)","v":1664},0,0,{"$f":"IF(F4116=1,IF(G4116>'Zdrojová data'!$C$19,0,1),\"\")","v":""},1664,0,{"$f":"MIN(J4116,'Zdrojová data'!$C$17)","v":0},0,{"$f":"L4116/'Zdrojová data'!$C$16","v":0},{"$f":"M4116*'Zdrojová data'!$C$13","v":0},{"$f":"N4116*'Zdrojová data'!$C$14","v":0},0,{"$f":"IF(H4116=0,D4116-'Výstupy modelu'!$C$7,IF(P4116=1,J4116-K4116,0))","v":0},0,null,{"$f":"MAX(0,IF(Q4116>0,Q4116-('Výstupy modelu'!$H$10-'Výstupy modelu'!$H$9),0))","v":0},null,null,{"$f":"W4115","v":1865.4300000000003},1885.4300000000003,0,{"$f":"MAX(0,D4116-'Vstupní hodnoty'!$C$5)","v":0}]
[null,"2017-02-13T08:30:00",{"$f":"MONTH(B4165)","v":2},1378.0800000000002,{"$f":"CEILING(IF(C4165-C4164=0,IF(H4164=0,I4164,IF(J4164>K4164,I4164,E4164)),'Výstupy modelu'!$C$7),1)","v":1664},0,{"$f":"IF(F4165=1,RANDBETWEEN(0,100),0)","v":0},{"$f":"IF(F4165=1,IF(G4165>'Zdrojová data'!$C$19,0,1),\"\")","v":""},1664,0,{"$f":"MIN(J4165,'Zdrojová data'!$C$17)","v":0},{"$f":"K4165/4","v":0},{"$f":"L4165/'Zdrojová data'!$C$16","v":0},{"$f":"M4165*'Zdrojová data'!$C$13","v":0},{"$f":"N4165*'Zdrojová data'!$C$14","v":0},{"$f":"IF(H4165=0,1,IF(J4165>K4165,1,0))","v":0},{"$f":"IF(H4165=0,D4165-'Výstupy modelu'!$C$7,IF(P4165=1,J4165-K4165,0))","v":0},{"$f":"IF(H4165=0,1,IF(J4165>K4165,1,0))","v":0},null,{"$f":"MAX(0,IF(Q4165>0,Q4165-('Výstupy modelu'!$H$10-'Výstupy modelu'!$H$9),0))","v":0},null,null,{"$f":"W4164","v":1865.4300000000003},1885.4300000000003,0,{"$f":"MAX(0,D4165-'Vstupní hodnoty'!$C$5)","v":0}]
[null,"2017-02-13T12:45:00",2,1303.5600000000002,{"$f":"CEILING(IF(C4182-C4181=0,IF(H4181=0,I4181,IF(J4181>K4181,I4181,E4181)),'Výstupy modelu'!$C$7),1)","v":1664},0,0,{"$f":"IF(F4182=1,IF(G4182>'Zdrojová data'!$C$19,0,1),\"\")","v":""},1664,0,{"$f":"MIN(J4182,'Zdrojová data'!$C$17)","v":0},0,{"$f":"L4182/'Zdrojová data'!$C$16","v":0},{"$f":"M4182*'Zdrojová data'!$C$13","v":0},{"$f":"N4182*'Zdrojová data'!$C$14","v":0},0,{"$f":"IF(H4182=0,D4182-'Výstupy modelu'!$C$7,IF(P4182=1,J4182-K4182,0))","v":0},0,null,{"$f":"MAX(0,IF(Q4182>0,Q4182-('Výstupy modelu'!$H$10-'Výstupy modelu'!$H$9),0))","v":0},null,null,{"$f":"W4181","v":1865.4300000000003},1885.4300000000003,0,{"$f":"MAX(0,D4182-'Vstupní hodnoty'!$C$5)","v":0}]
[null,"2017-02-13T21:30:00",2,623.16000000000008,{"$f":"CEILING(IF(C4217-C4216=0,IF(H4216=0,I4216,IF(J4216>K4216,I4216,E4216)),'Výstupy modelu'!$C$7),1)","v":1664},0,0,{"$f":"IF(F4217=1,IF(G4217>'Zdrojová data'!$C$19,0,1),\"\")","v":""},1664,0,{"$f":"MIN(J4217,'Zdrojová data'!$C$17)","v":0},0,{"$f":"L4217/'Zdrojová data'!$C$16","v":0},{"$f":"M4217*'Zdrojová data'!$C$13","v":0},{"$f":"N4217*'Zdrojová data'!$C$14","v":0},0,{"$f":"IF(H4217=0,D4217-'Výstupy modelu'!$C$7,IF(P4217=1,J4217-K4217,0))","v":0},0,null,{"$f":"MAX(0,IF(Q4217>0,Q4217-('Výstupy modelu'!$H$10-'Výstupy modelu'!$H$9),0))","v":0},null,null,{"$f":"W4216","v":1865.4300000000003},1885.4300000000003,0,{"$f":"MAX(0,D4217-'Vstupní hodnoty'!$C$5)","v":0}]
[null,"2017-02-14T10:15:00",2,1254.96,{"$f":"CEILING(IF(C4268-C4267=0,IF(H4267=0,I4267,IF(J4267>K4267,I4267,E4267)),'Výstupy modelu'!$C$7),1)","v":1664},0,0,{"$f":"IF(F4268=1,IF(G4268>'Zdrojová data'!$C$19,0,1),\"\")","v":""},1664,0,{"$f":"MIN(J4268,'Zdrojová data'!$C$17)","v":0},0,{"$f":"L4268/'Zdrojová data'!$C$16","v":0},{"$f":"M4268*'Zdrojová data'!$C$13","v":0},{"$f":"N4268*'Zdrojová data'!$C$14","v":0},0,{"$f":"IF(H4268=0,D4268-'Výstupy modelu'!$C$7,IF(P4268=1,J4268-K4268,0))","v":0},0,null,{"$f":"MAX(0,IF(Q4268>0,Q4268-('Výstupy modelu'!$H$10-'Výstupy modelu'!$H$9),0))","v":0},null,null,{"$f":"W4267","v":1865.4300000000003},1885.4300000000003,0,{"$f":"MAX(0,D4268-'Vstupní hodnoty'!$C$5)","v":0}]
[null,"2017-02-14T15:45:00",2,1042.2,{"$f":"CEILING(IF(C4290-C4289=0,IF(H4289=0,I4289,IF(J4289>K4289,I4289,E4289)),'Výstupy modelu'!$C$7),1)","v":1664},0,0,{"$f":"IF(F4290=1,IF(G4290>'Zdrojová data'!$C$19,0,1),\"\")","v":""},1664,0,{"$f":"MIN(J4290,'Zdrojová data'!$C$17)","v":0},0,{"$f":"L4290/'Zdrojová data'!$C$16","v":0},{"$f":"M4290*'Zdrojová data'!$C$13","v":0},{"$f":"N4290*'Zdrojová data'!$C$14","v":0},0,{"$f":"IF(H4290=0,D4290-'Výstupy modelu'!$C$7,IF(P4290=1,J4290-K4290,0))","v":0},0,null,{"$f":"MAX(0,IF(Q4290>0,Q4290-('Výstupy modelu'!$H$10-'Výstupy modelu'!$H$9),0))","v":0},null,null,{"$f":"W4289","v":1865.4300000000003},1885.4300000000003,0,{"$f":"MAX(0,D4290-'Vstupní hodnoty'!$C$5)","v":0}]
[null,"2017-02-14T23:00:00",2,421.20000000000005,{"$f":"CEILING(IF(C4319-C4318=0,IF(H4318=0,I4318,IF(J4318>K4318,I4318,E4318)),'Výstupy modelu'!$C$7),1)","v":1664},0,0,{"$f":"IF(F4319=1,IF(G4319>'Zdrojová data'!$C$19,0,1),\"\")","v":""},1664,0,{"$f":"MIN(J4319,'Zdrojová data'!$C$17)","v":0},0,{"$f":"L4319/'Zdrojová data'!$C$16","v":0},{"$f":"M4319*'Zdrojová data'!$C$13","v":0},{"$f":"N4319*'Zdrojová data'!$C$14","v":0},0,{"$f":"IF(H4319=0,D4319-'Výstupy modelu'!$C$7,IF(P4319=1,J4319-K4319,0))","v":0},0,null,{"$f":"MAX(0,IF(Q4319>0,Q4319-('Výstupy modelu'!$H$10-'Výstupy modelu'!$H$9),0))","v":0},null,null,{"$f":"W4318","v":1865.4300000000003},1885.4300000000003,0,{"$f":"MAX(0,D4319-'Vstupní hodnoty'!$C$5)","v":0}]
[null,"2017-02-15T11:45:00",2,1152.3600000000001,{"$f":"CEILING(IF(C4370-C4369=0,IF(H4369=0,I4369,IF(J4369>K4369,I4369,E4369)),'Výstupy modelu'!$C$7),1)","v":1664},0,0,{"$f":"IF(F4370=1,IF(G4370>'Zdrojová data'!$C$19,0,1),\"\")","v":""},1664,0,{"$f":"MIN(J4370,'Zdrojová data'!$C$17)","v":0},0,{"$f":"L4370/'Zdrojová data'!$C$16","v":0},{"$f":"M4370*'Zdrojová data'!$C$13","v":0},{"$f":"N4370*'Zdrojová data'!$C$14","v":0},0,{"$f":"IF(H4370=0,D4370-'Výstupy modelu'!$C$7,IF(P4370=1,J4370-K4370,0))","v":0},0,null,{"$f":"MAX(0,IF(Q4370>0,Q4370-('Výstupy modelu'!$H$10-'Výstupy modelu'!$H$9),0))","v":0},null,null,{"$f":"W4369","v":1865.4300000000003},1885.4300000000003,0,{"$f":"MAX(0,D4370-'Vstupní hodnoty'!$C$5)","v":0}]
[null,"2017-02-15T20:30:00",2,837,{"$f":"CEILING(IF(C4405-C4404=0,IF(H4404=0,I4404,IF(J4404>K4404,I4404,E4404)),'Výstupy modelu'!$C$7),1)","v":1664},0,0,{"$f":"IF(F4405=1,IF(G4405>'Zdrojová data'!$C$19,0,1),\"\")","v":""},1664,0,{"$f":"MIN(J4405,'Zdrojová data'!$C$17)","v":0},0,{"$f":"L4405/'Zdrojová data'!$C$16","v":0},{"$f":"M4405*'Zdrojová data'!$C$13","v":0},{"$f":"N4405*'Zdrojová data'!$C$14","v":0},0,{"$f":"IF(H4405=0,D4405-'Výstupy modelu'!$C$7,IF(P4405=1,J4405-K4405,0))","v":0},0,null,{"$f":"MAX(0,IF(Q4405>0,Q4405-('Výstupy modelu'!$H$10-'Výstupy modelu'!$H$9),0))","v":0},null,null,{"$f":"W4404","v":1865.4300000000003},1885.4300000000003,0,{"$f":"MAX(0,D4405-'Vstupní hodnoty'!$C$5)","v":0}]
[null,"2017-02-16T00:45:00",2,371.52000000000004,{"$f":"CEILING(IF(C4422-C4421=0,IF(H4421=0,I4421,IF(J4421>K4421,I4421,E4421)),'Výstupy modelu'!$C$7),1)","v":1664},0,0,{"$f":"IF(F4422=1,IF(G4422>'Zdrojová data'!$C$19,0,1),\"\")","v":""},1664,0,{"$f":"MIN(J4422,'Zdrojová data'!$C$17)","v":0},0,{"$f":"L4422/'Zdrojová data'!$C$16","v":0},{"$f":"M4422*'Zdrojová data'!$C$13","v":0},{"$f":"N4422*'Zdrojová data'!$C$14","v":0},0,{"$f":"IF(H4422=0,D4422-'Výstupy modelu'!$C$7,IF(P4422=1,J4422-K4422,0))","v":0},0,null,{"$f":"MAX(0,IF(Q4422>0,Q4422-('Výstupy modelu'!$H$10-'Výstupy modelu'!$H$9),0))","v":0},null,null,{"$f":"W4421","v":1865.4300000000003},1885.4300000000003,0,{"$f":"MAX(0,D4422-'Vstupní hodnoty'!$C$5)","v":0}]
[null,"2017-02-16T10:15:00",2,1326.24,{"$f":"CEILING(IF(C4460-C4459=0,IF(H4459=0,I4459,IF(J4459>K4459,I4459,E4459)),'Výstupy modelu'!$C$7),1)","v":1664},0,0,{"$f":"IF(F4460=1,IF(G4460>'Zdrojová data'!$C$19,0,1),\"\")","v":""},1664,0,{"$f":"MIN(J4460,'Zdrojová data'!$C$17)","v":0},0,{"$f":"L4460/'Zdrojová data'!$C$16","v":0},{"$f":"M4460*'Zdrojová data'!$C$13","v":0},{"$f":"N4460*'Zdrojová data'!$C$14","v":0},0,{"$f":"IF(H4460=0,D4460-'Výstupy modelu'!$C$7,IF(P4460=1,J4460-K4460,0))","v":0},0,null,{"$f":"MAX(0,IF(Q4460>0,Q4460-('Výstupy modelu'!$H$10-'Výstupy modelu'!$H$9),0))","v":0},null,null,{"$f":"W4459","v":1865.4300000000003},1885.4300000000003,0,{"$f":"MAX(0,D4460-'Vstupní hodnoty'!$C$5)","v":0}]
[null,"2017-02-16T22:00:00",2,510.84000000000003,{"$f":"CEILING(IF(C4507-C4506=0,IF(H4506=0,I4506,IF(J4506>K4506,I4506,E4506)),'Výstupy modelu'!$C$7),1)","v":1664},0,0,{"$f":"IF(F4507=1,IF(G4507>'Zdrojová data'!$C$19,0,1),\"\")","v":""},1664,0,{"$f":"MIN(J4507,'Zdrojová data'!$C$17)","v":0},0,{"$f":"L4507/'Zdrojová data'!$C$16","v":0},{"$f":"M4507*'Zdrojová data'!$C$13","v":0},{"$f":"N4507*'Zdrojová data'!$C$14","v":0},0,{"$f":"IF(H4507=0,D4507-'Výstupy modelu'!$C$7,IF(P4507=1,J4507-K4507,0))","v":0},0,null,{"$f":"MAX(0,IF(Q4507>0,Q4507-('Výstupy modelu'!$H$10-'Výstupy modelu'!$H$9),0))","v":0},null,null,{"$f":"W4506","v":1865.4300000000003},1885.4300000000003,0,{"$f":"MAX(0,D4507-'Vstupní hodnoty'!$C$5)","v":0}]
[null,"2017-02-17T02:15:00",2,490.32000000000005,{"$f":"CEILING(IF(C4524-C4523=0,IF(H4523=0,I4523,IF(J4523>K4523,I4523,E4523)),'Výstupy modelu'!$C$7),1)","v":1664},0,0,{"$f":"IF(F4524=1,IF(G4524>'Zdrojová data'!$C$19,0,1),\"\")","v":""},1664,0,{"$f":"MIN(J4524,'Zdrojová data'!$C$17)","v":0},0,{"$f":"L4524/'Zdrojová data'!$C$16","v":0},{"$f":"M4524*'Zdrojová data'!$C$13","v":0},{"$f":"N4524*'Zdrojová data'!$C$14","v":0},0,{"$f":"IF(H4524=0,D4524-'Výstupy modelu'!$C$7,IF(P4524=1,J4524-K4524,0))","v":0},0,null,{"$f":"MAX(0,IF(Q4524>0,Q4524-('Výstupy modelu'!$H$10-'Výstupy modelu'!$H$9),0))","v":0},null,null,{"$f":"W4523","v":1865.4300000000003},1885.4300000000003,0,{"$f":"MAX(0,D4524-'Vstupní hodnoty'!$C$5)","v":0}]
[null,"2017-02-17T11:00:00",2,1374.8400000000001,{"$f":"CEILING(IF(C4559-C4558=0,IF(H4558=0,I4558,IF(J4558>K4558,I4558,E4558)),'Výstupy modelu'!$C$7),1)","v":1664},0,0,{"$f":"IF(F4559=1,IF(G4559>'Zdrojová data'!$C$19,0,1),\"\")","v":""},1664,0,{"$f":"MIN(J4559,'Zdrojová data'!$C$17)","v":0},0,{"$f":"L4559/'Zdrojová data'!$C$16","v":0},{"$f":"M4559*'Zdrojová data'!$C$13","v":0},{"$f":"N4559*'Zdrojová data'!$C$14","v":0},0,{"$f":"IF(H4559=0,D4559-'Výstupy modelu'!$C$7,IF(P4559=1,J4559-K4559,0))","v":0},0,null,{"$f":"MAX(0,IF(Q4559>0,Q4559-('Výstupy modelu'!$H$10-'Výstupy modelu'!$H$9),0))","v":0},null,null,{"$f":"W4558","v":1865.4300000000003},1885.4300000000003,0,{"$f":"MAX(0,D4559-'Vstupní hodnoty'!$C$5)","v":0}]
[null,"2017-02-17T23:45:00",2,251.64000000000001,{"$f":"CEILING(IF(C4610-C4609=0,IF(H4609=0,I4609,IF(J4609>K4609,I4609,E4609)),'Výstupy modelu'!$C$7),1)","v":1664},0,0,{"$f":"IF(F4610=1,IF(G4610>'Zdrojová data'!$C$19,0,1),\"\")","v":""},1664,0,{"$f":"MIN(J4610,'Zdrojová data'!$C$17)","v":0},0,{"$f":"L4610/'Zdrojová data'!$C$16","v":0},{"$f":"M4610*'Zdrojová data'!$C$13","v":0},{"$f":"N4610*'Zdrojová data'!$C$14","v":0},0,{"$f":"IF(H4610=0,D4610-'Výstupy modelu'!$C$7,IF(P4610=1,J4610-K4610,0))","v":0},0,null,{"$f":"MAX(0,IF(Q4610>0,Q4610-('Výstupy modelu'!$H$10-'Výstupy modelu'!$H$9),0))","v":0},null,null,{"$f":"W4609","v":1865.4300000000003},1885.4300000000003,0,{"$f":"MAX(0,D4610-'Vstupní hodnoty'!$C$5)","v":0}]
[null,"2017-02-18T05:45:00",2,378,{"$f":"CEILING(IF(C4634-C4633=0,IF(H4633=0,I4633,IF(J4633>K4633,I4633,E4633)),'Výstupy modelu'!$C$7),1)","v":1664},0,0,{"$f":"IF(F4634=1,IF(G4634>'Zdrojová data'!$C$19,0,1),\"\")","v":""},1664,0,{"$f":"MIN(J4634,'Zdrojová data'!$C$17)","v":0},0,{"$f":"L4634/'Zdrojová data'!$C$16","v":0},{"$f":"M4634*'Zdrojová data'!$C$13","v":0},{"$f":"N4634*'Zdrojová data'!$C$14","v":0},0,{"$f":"IF(H4634=0,D4634-'Výstupy modelu'!$C$7,IF(P4634=1,J4634-K4634,0))","v":0},0,null,{"$f":"MAX(0,IF(Q4634>0,Q4634-('Výstupy modelu'!$H$10-'Výstupy modelu'!$H$9),0))","v":0},null,null,{"$f":"W4633","v":1865.4300000000003},1885.4300000000003,0,{"$f":"MAX(0,D4634-'Vstupní hodnoty'!$C$5)","v":0}]
[null,"2017-02-18T12:30:00",2,471.96000000000004,{"$f":"CEILING(IF(C4661-C4660=0,IF(H4660=0,I4660,IF(J4660>K4660,I4660,E4660)),'Výstupy modelu'!$C$7),1)","v":1664},0,0,{"$f":"IF(F4661=1,IF(G4661>'Zdrojová data'!$C$19,0,1),\"\")","v":""},1664,0,{"$f":"MIN(J4661,'Zdrojová data'!$C$17)","v":0},0,{"$f":"L4661/'Zdrojová data'!$C$16","v":0},{"$f":"M4661*'Zdrojová data'!$C$13","v":0},{"$f":"N4661*'Zdrojová data'!$C$14","v":0},0,{"$f":"IF(H4661=0,D4661-'Výstupy modelu'!$C$7,IF(P4661=1,J4661-K4661,0))","v":0},0,null,{"$f":"MAX(0,IF(Q4661>0,Q4661-('Výstupy modelu'!$H$10-'Výstupy modelu'!$H$9),0))","v":0},null,null,{"$f":"W4660","v":1865.4300000000003},1885.4300000000003,0,{"$f":"MAX(0,D4661-'Vstupní hodnoty'!$C$5)","v":0}]
[null,"2017-02-19T01:15:00",2,227.88000000000002,{"$f":"CEILING(IF(C4712-C4711=0,IF(H4711=0,I4711,IF(J4711>K4711,I4711,E4711)),'Výstupy modelu'!$C$7),1)","v":1664},0,0,{"$f":"IF(F4712=1,IF(G4712>'Zdrojová data'!$C$19,0,1),\"\")","v":""},1664,0,{"$f":"MIN(J4712,'Zdrojová data'!$C$17)","v":0},0,{"$f":"L4712/'Zdrojová data'!$C$16","v":0},{"$f":"M4712*'Zdrojová data'!$C$13","v":0},{"$f":"N4712*'Zdrojová data'!$C$14","v":0},0,{"$f":"IF(H4712=0,D4712-'Výstupy modelu'!$C$7,IF(P4712=1,J4712-K4712,0))","v":0},0,null,{"$f":"MAX(0,IF(Q4712>0,Q4712-('Výstupy modelu'!$H$10-'Výstupy modelu'!$H$9),0))","v":0},null,null,{"$f":"W4711","v":1865.4300000000003},1885.4300000000003,0,{"$f":"MAX(0,D4712-'Vstupní hodnoty'!$C$5)","v":0}]
[null,"2017-02-19T10:00:00",2,212.76000000000002,{"$f":"CEILING(IF(C4747-C4746=0,IF(H4746=0,I4746,IF(J4746>K4746,I4746,E4746)),'Výstupy modelu'!$C$7),1)","v":1664},0,0,{"$f":"IF(F4747=1,IF(G4747>'Zdrojová data'!$C$19,0,1),\"\")","v":""},1664,0,{"$f":"MIN(J4747,'Zdrojová data'!$C$17)","v":0},0,{"$f":"L4747/'Zdrojová data'!$C$16","v":0},{"$f":"M4747*'Zdrojová data'!$C$13","v":0},{"$f":"N4747*'Zdrojová data'!$C$14","v":0},0,{"$f":"IF(H4747=0,D4747-'Výstupy modelu'!$C$7,IF(P4747=1,J4747-K4747,0))","v":0},0,null,{"$f":"MAX(0,IF(Q4747>0,Q4747-('Výstupy modelu'!$H$10-'Výstupy modelu'!$H$9),0))","v":0},null,null,{"$f":"W4746","v":1865.4300000000003},1885.4300000000003,0,{"$f":"MAX(0,D4747-'Vstupní hodnoty'!$C$5)","v":0}]
[null,"2017-02-19T14:15:00",2,207.36,{"$f":"CEILING(IF(C4764-C4763=0,IF(H4763=0,I4763,IF(J4763>K4763,I4763,E4763)),'Výstupy modelu'!$C$7),1)","v":1664},0,0,{"$f":"IF(F4764=1,IF(G4764>'Zdrojová data'!$C$19,0,1),\"\")","v":""},1664,0,{"$f":"MIN(J4764,'Zdrojová data'!$C$17)","v":0},0,{"$f":"L4764/'Zdrojová data'!$C$16","v":0},{"$f":"M4764*'Zdrojová data'!$C$13","v":0},{"$f":"N4764*'Zdrojová data'!$C$14","v":0},0,{"$f":"IF(H4764=0,D4764-'Výstupy modelu'!$C$7,IF(P4764=1,J4764-K4764,0))","v":0},0,null,{"$f":"MAX(0,IF(Q4764>0,Q4764-('Výstupy modelu'!$H$10-'Výstupy modelu'!$H$9),0))","v":0},null,null,{"$f":"W4763","v":1865.4300000000003},1885.4300000000003,0,{"$f":"MAX(0,D4764-'Vstupní hodnoty'!$C$5)","v":0}]
[null,"2017-02-20T01:15:00",2,309.96000000000004,{"$f":"CEILING(IF(C4808-C4807=0,IF(H4807=0,I4807,IF(J4807>K4807,I4807,E4807)),'Výstupy modelu'!$C$7),1)","v":1664},0,0,{"$f":"IF(F4808=1,IF(G4808>'Zdrojová data'!$C$19,0,1),\"\")","v":""},1664,0,{"$f":"MIN(J4808,'Zdrojová data'!$C$17)","v":0},0,{"$f":"L4808/'Zdrojová data'!$C$16","v":0},{"$f":"M4808*'Zdrojová data'!$C$13","v":0},{"$f":"N4808*'Zdrojová data'!$C$14","v":0},0,{"$f":"IF(H4808=0,D4808-'Výstupy modelu'!$C$7,IF(P4808=1,J4808-K4808,0))","v":0},0,null,{"$f":"MAX(0,IF(Q4808>0,Q4808-('Výstupy modelu'!$H$10-'Výstupy modelu'!$H$9),0))","v":0},null,null,{"$f":"W4807","v":1865.4300000000003},1885.4300000000003,0,{"$f":"MAX(0,D4808-'Vstupní hodnoty'!$C$5)","v":0}]
[null,"2017-02-20T11:30:00",2,1232.28,{"$f":"CEILING(IF(C4849-C4848=0,IF(H4848=0,I4848,IF(J4848>K4848,I4848,E4848)),'Výstupy modelu'!$C$7),1)","v":1664},0,0,{"$f":"IF(F4849=1,IF(G4849>'Zdrojová data'!$C$19,0,1),\"\")","v":""},1664,0,{"$f":"MIN(J4849,'Zdrojová data'!$C$17)","v":0},0,{"$f":"L4849/'Zdrojová data'!$C$16","v":0},{"$f":"M4849*'Zdrojová data'!$C$13","v":0},{"$f":"N4849*'Zdrojová data'!$C$14","v":0},0,{"$f":"IF(H4849=0,D4849-'Výstupy modelu'!$C$7,IF(P4849=1,J4849-K4849,0))","v":0},0,null,{"$f":"MAX(0,IF(Q4849>0,Q4849-('Výstupy modelu'!$H$10-'Výstupy modelu'!$H$9),0))","v":0},null,null,{"$f":"W4848","v":1865.4300000000003},1885.4300000000003,{"$f":"MAX(0,D4849-W4849)","v":0},{"$f":"MAX(0,D4849-'Vstupní hodnoty'!$C$5)","v":0}]
[null,"2017-02-20T15:45:00",2,911.5200000000001,{"$f":"CEILING(IF(C4866-C4865=0,IF(H4865=0,I4865,IF(J4865>K4865,I4865,E4865)),'Výstupy modelu'!$C$7),1)","v":1664},0,0,{"$f":"IF(F4866=1,IF(G4866>'Zdrojová data'!$C$19,0,1),\"\")","v":""},1664,0,{"$f":"MIN(J4866,'Zdrojová data'!$C$17)","v":0},0,{"$f":"L4866/'Zdrojová data'!$C$16","v":0},{"$f":"M4866*'Zdrojová data'!$C$13","v":0},{"$f":"N4866*'Zdrojová data'!$C$14","v":0},0,{"$f":"IF(H4866=0,D4866-'Výstupy modelu'!$C$7,IF(P4866=1,J4866-K4866,0))","v":0},0,null,{"$f":"MAX(0,IF(Q4866>0,Q4866-('Výstupy modelu'!$H$10-'Výstupy modelu'!$H$9),0))","v":0},null,null,{"$f":"W4865","v":1865.4300000000003},1885.4300000000003,0,{"$f":"MAX(0,D4866-'Vstupní hodnoty'!$C$5)","v":0}]
[null,"2017-02-21T04:30:00",2,540,{"$f":"CEILING(IF(C4917-C4916=0,IF(H4916=0,I4916,IF(J4916>K4916,I4916,E4916)),'Výstupy modelu'!$C$7),1)","v":1664},0,0,{"$f":"IF(F4917=1,IF(G4917>'Zdrojová data'!$C$19,0,1),\"\")","v":""},1664,0,{"$f":"MIN(J4917,'Zdrojová data'!$C$17)","v":0},0,{"$f":"L4917/'Zdrojová data'!$C$16","v":0},{"$f":"M4917*'Zdrojová data'!$C$13","v":0},{"$f":"N4917*'Zdrojová data'!$C$14","v":0},0,{"$f":"IF(H4917=0,D4917-'Výstupy modelu'!$C$7,IF(P4917=1,J4917-K4917,0))","v":0},0,null,{"$f":"MAX(0,IF(Q4917>0,Q4917-('Výstupy modelu'!$H$10-'Výstupy modelu'!$H$9),0))","v":0},null,null,{"$f":"W4916","v":1865.4300000000003},1885.4300000000003,0,{"$f":"MAX(0,D4917-'Vstupní hodnoty'!$C$5)","v":0}]
[null,"2017-02-21T13:15:00",2,1334.88,{"$f":"CEILING(IF(C4952-C4951=0,IF(H4951=0,I4951,IF(J4951>K4951,I4951,E4951)),'Výstupy modelu'!$C$7),1)","v":1664},0,0,{"$f":"IF(F4952=1,IF(G4952>'Zdrojová data'!$C$19,0,1),\"\")","v":""},1664,0,{"$f":"MIN(J4952,'Zdrojová data'!$C$17)","v":0},0,{"$f":"L4952/'Zdrojová data'!$C$16","v":0},{"$f":"M4952*'Zdrojová data'!$C$13","v":0},{"$f":"N4952*'Zdrojová data'!$C$14","v":0},0,{"$f":"IF(H4952=0,D4952-'Výstupy modelu'!$C$7,IF(P4952=1,J4952-K4952,0))","v":0},0,null,{"$f":"MAX(0,IF(Q4952>0,Q4952-('Výstupy modelu'!$H$10-'Výstupy modelu'!$H$9),0))","v":0},null,null,{"$f":"W4951","v":1865.4300000000003},1885.4300000000003,0,{"$f":"MAX(0,D4952-'Vstupní hodnoty'!$C$5)","v":0}]
[null,"2017-02-21T20:45:00",2,798.12,{"$f":"CEILING(IF(C4982-C4981=0,IF(H4981=0,I4981,IF(J4981>K4981,I4981,E4981)),'Výstupy modelu'!$C$7),1)","v":1664},0,0,{"$f":"IF(F4982=1,IF(G4982>'Zdrojová data'!$C$19,0,1),\"\")","v":""},1664,0,{"$f":"MIN(J4982,'Zdrojová data'!$C$17)","v":0},0,{"$f":"L4982/'Zdrojová data'!$C$16","v":0},{"$f":"M4982*'Zdrojová data'!$C$13","v":0},{"$f":"N4982*'Zdrojová data'!$C$14","v":0},0,{"$f":"IF(H4982=0,D4982-'Výstupy modelu'!$C$7,IF(P4982=1,J4982-K4982,0))","v":0},0,null,{"$f":"MAX(0,IF(Q4982>0,Q4982-('Výstupy modelu'!$H$10-'Výstupy modelu'!$H$9),0))","v":0},null,null,{"$f":"W4981","v":1865.4300000000003},1885.4300000000003,0,{"$f":"MAX(0,D4982-'Vstupní hodnoty'!$C$5)","v":0}]
[null,"2017-02-22T02:00:00",2,426.6,{"$f":"CEILING(IF(C5003-C5002=0,IF(H5002=0,I5002,IF(J5002>K5002,I5002,E5002)),'Výstupy modelu'!$C$7),1)","v":1664},0,0,{"$f":"IF(F5003=1,IF(G5003>'Zdrojová data'!$C$19,0,1),\"\")","v":""},1664,0,{"$f":"MIN(J5003,'Zdrojová data'!$C$17)","v":0},0,{"$f":"L5003/'Zdrojová data'!$C$16","v":0},{"$f":"M5003*'Zdrojová data'!$C$13","v":0},{"$f":"N5003*'Zdrojová data'!$C$14","v":0},0,{"$f":"IF(H5003=0,D5003-'Výstupy modelu'!$C$7,IF(P5003=1,J5003-K5003,0))","v":0},0,null,{"$f":"MAX(0,IF(Q5003>0,Q5003-('Výstupy modelu'!$H$10-'Výstupy modelu'!$H$9),0))","v":0},null,null,{"$f":"W5002","v":1865.4300000000003},1885.4300000000003,0,{"$f":"MAX(0,D5003-'Vstupní hodnoty'!$C$5)","v":0}]
[null,"2017-02-22T14:45:00",2,1075.68,{"$f":"CEILING(IF(C5054-C5053=0,IF(H5053=0,I5053,IF(J5053>K5053,I5053,E5053)),'Výstupy modelu'!$C$7),1)","v":1664},0,0,{"$f":"IF(F5054=1,IF(G5054>'Zdrojová data'!$C$19,0,1),\"\")","v":""},1664,0,{"$f":"MIN(J5054,'Zdrojová data'!$C$17)","v":0},0,{"$f":"L5054/'Zdrojová data'!$C$16","v":0},{"$f":"M5054*'Zdrojová data'!$C$13","v":0},{"$f":"N5054*'Zdrojová data'!$C$14","v":0},0,{"$f":"IF(H5054=0,D5054-'Výstupy modelu'!$C$7,IF(P5054=1,J5054-K5054,0))","v":0},0,null,{"$f":"MAX(0,IF(Q5054>0,Q5054-('Výstupy modelu'!$H$10-'Výstupy modelu'!$H$9),0))","v":0},null,null,{"$f":"W5053","v":1865.4300000000003},1885.4300000000003,0,{"$f":"MAX(0,D5054-'Vstupní hodnoty'!$C$5)","v":0}]
[null,"2017-02-22T19:00:00",2,801.36,{"$f":"CEILING(IF(C5071-C5070=0,IF(H5070=0,I5070,IF(J5070>K5070,I5070,E5070)),'Výstupy modelu'!$C$7),1)","v":1664},0,0,{"$f":"IF(F5071=1,IF(G5071>'Zdrojová data'!$C$19,0,1),\"\")","v":""},1664,0,{"$f":"MIN(J5071,'Zdrojová data'!$C$17)","v":0},0,{"$f":"L5071/'Zdrojová data'!$C$16","v":0},{"$f":"M5071*'Zdrojová data'!$C$13","v":0},{"$f":"N5071*'Zdrojová data'!$C$14","v":0},0,{"$f":"IF(H5071=0,D5071-'Výstupy modelu'!$C$7,IF(P5071=1,J5071-K5071,0))","v":0},0,null,{"$f":"MAX(0,IF(Q5071>0,Q5071-('Výstupy modelu'!$H$10-'Výstupy modelu'!$H$9),0))","v":0},null,null,{"$f":"W5070","v":1865.4300000000003},1885.4300000000003,0,{"$f":"MAX(0,D5071-'Vstupní hodnoty'!$C$5)","v":0}]
[null,"2017-02-23T06:15:00",2,1297.0800000000002,{"$f":"CEILING(IF(C5116-C5115=0,IF(H5115=0,I5115,IF(J5115>K5115,I5115,E5115)),'Výstupy modelu'!$C$7),1)","v":1664},0,0,{"$f":"IF(F5116=1,IF(G5116>'Zdrojová data'!$C$19,0,1),\"\")","v":""},1664,0,{"$f":"MIN(J5116,'Zdrojová data'!$C$17)","v":0},0,{"$f":"L5116/'Zdrojová data'!$C$16","v":0},{"$f":"M5116*'Zdrojová data'!$C$13","v":0},{"$f":"N5116*'Zdrojová data'!$C$14","v":0},0,{"$f":"IF(H5116=0,D5116-'Výstupy modelu'!$C$7,IF(P5116=1,J5116-K5116,0))","v":0},0,null,{"$f":"MAX(0,IF(Q5116>0,Q5116-('Výstupy modelu'!$H$10-'Výstupy modelu'!$H$9),0))","v":0},null,null,{"$f":"W5115","v":1865.4300000000003},1885.4300000000003,0,{"$f":"MAX(0,D5116-'Vstupní hodnoty'!$C$5)","v":0}]
[null,"2017-02-23T16:15:00",2,949.32,{"$f":"CEILING(IF(C5156-C5155=0,IF(H5155=0,I5155,IF(J5155>K5155,I5155,E5155)),'Výstupy modelu'!$C$7),1)","v":1664},0,0,{"$f":"IF(F5156=1,IF(G5156>'Zdrojová data'!$C$19,0,1),\"\")","v":""},1664,0,{"$f":"MIN(J5156,'Zdrojová data'!$C$17)","v":0},0,{"$f":"L5156/'Zdrojová data'!$C$16","v":0},{"$f":"M5156*'Zdrojová data'!$C$13","v":0},{"$f":"N5156*'Zdrojová data'!$C$14","v":0},0,{"$f":"IF(H5156=0,D5156-'Výstupy modelu'!$C$7,IF(P5156=1,J5156-K5156,0))","v":0},0,null,{"$f":"MAX(0,IF(Q5156>0,Q5156-('Výstupy modelu'!$H$10-'Výstupy modelu'!$H$9),0))","v":0},null,null,{"$f":"W5155","v":1865.4300000000003},1885.4300000000003,0,{"$f":"MAX(0,D5156-'Vstupní hodnoty'!$C$5)","v":0}]
[null,"2017-02-23T20:30:00",2,764.6400000000001,{"$f":"CEILING(IF(C5173-C5172=0,IF(H5172=0,I5172,IF(J5172>K5172,I5172,E5172)),'Výstupy modelu'!$C$7),1)","v":1664},0,0,{"$f":"IF(F5173=1,IF(G5173>'Zdrojová data'!$C$19,0,1),\"\")","v":""},1664,0,{"$f":"MIN(J5173,'Zdrojová data'!$C$17)","v":0},0,{"$f":"L5173/'Zdrojová data'!$C$16","v":0},{"$f":"M5173*'Zdrojová data'!$C$13","v":0},{"$f":"N5173*'Zdrojová data'!$C$14","v":0},0,{"$f":"IF(H5173=0,D5173-'Výstupy modelu'!$C$7,IF(P5173=1,J5173-K5173,0))","v":0},0,null,{"$f":"MAX(0,IF(Q5173>0,Q5173-('Výstupy modelu'!$H$10-'Výstupy modelu'!$H$9),0))","v":0},null,null,{"$f":"W5172","v":1865.4300000000003},1885.4300000000003,0,{"$f":"MAX(0,D5173-'Vstupní hodnoty'!$C$5)","v":0}]
[null,"2017-02-24T05:15:00",2,586.44000000000005,{"$f":"CEILING(IF(C5208-C5207=0,IF(H5207=0,I5207,IF(J5207>K5207,I5207,E5207)),'Výstupy modelu'!$C$7),1)","v":1664},0,0,{"$f":"IF(F5208=1,IF(G5208>'Zdrojová data'!$C$19,0,1),\"\")","v":""},1664,0,{"$f":"MIN(J5208,'Zdrojová data'!$C$17)","v":0},0,{"$f":"L5208/'Zdrojová data'!$C$16","v":0},{"$f":"M5208*'Zdrojová data'!$C$13","v":0},{"$f":"N5208*'Zdrojová data'!$C$14","v":0},0,{"$f":"IF(H5208=0,D5208-'Výstupy modelu'!$C$7,IF(P5208=1,J5208-K5208,0))","v":0},0,null,{"$f":"MAX(0,IF(Q5208>0,Q5208-('Výstupy modelu'!$H$10-'Výstupy modelu'!$H$9),0))","v":0},null,null,{"$f":"W5207","v":1865.4300000000003},1885.4300000000003,0,{"$f":"MAX(0,D5208-'Vstupní hodnoty'!$C$5)","v":0}]
[null,"2017-02-24T09:30:00",2,1353.24,{"$f":"CEILING(IF(C5225-C5224=0,IF(H5224=0,I5224,IF(J5224>K5224,I5224,E5224)),'Výstupy modelu'!$C$7),1)","v":1664},0,0,{"$f":"IF(F5225=1,IF(G5225>'Zdrojová data'!$C$19,0,1),\"\")","v":""},1664,0,{"$f":"MIN(J5225,'Zdrojová data'!$C$17)","v":0},0,{"$f":"L5225/'Zdrojová data'!$C$16","v":0},{"$f":"M5225*'Zdrojová data'!$C$13","v":0},{"$f":"N5225*'Zdrojová data'!$C$14","v":0},0,{"$f":"IF(H5225=0,D5225-'Výstupy modelu'!$C$7,IF(P5225=1,J5225-K5225,0))","v":0},0,null,{"$f":"MAX(0,IF(Q5225>0,Q5225-('Výstupy modelu'!$H$10-'Výstupy modelu'!$H$9),0))","v":0},null,null,{"$f":"W5224","v":1865.4300000000003},1885.4300000000003,0,{"$f":"MAX(0,D5225-'Vstupní hodnoty'!$C$5)","v":0}]
[null,"2017-02-25T01:45:00",2,464.40000000000003,{"$f":"CEILING(IF(C5290-C5289=0,IF(H5289=0,I5289,IF(J5289>K5289,I5289,E5289)),'Výstupy modelu'!$C$7),1)","v":1664},0,0,{"$f":"IF(F5290=1,IF(G5290>'Zdrojová data'!$C$19,0,1),\"\")","v":""},1664,0,{"$f":"MIN(J5290,'Zdrojová data'!$C$17)","v":0},0,{"$f":"L5290/'Zdrojová data'!$C$16","v":0},{"$f":"M5290*'Zdrojová data'!$C$13","v":0},{"$f":"N5290*'Zdrojová data'!$C$14","v":0},0,{"$f":"IF(H5290=0,D5290-'Výstupy modelu'!$C$7,IF(P5290=1,J5290-K5290,0))","v":0},0,null,{"$f":"MAX(0,IF(Q5290>0,Q5290-('Výstupy modelu'!$H$10-'Výstupy modelu'!$H$9),0))","v":0},null,null,{"$f":"W5289","v":1865.4300000000003},1885.4300000000003,0,{"$f":"MAX(0,D5290-'Vstupní hodnoty'!$C$5)","v":0}]
[null,"2017-02-25T06:45:00",2,432,{"$f":"CEILING(IF(C5310-C5309=0,IF(H5309=0,I5309,IF(J5309>K5309,I5309,E5309)),'Výstupy modelu'!$C$7),1)","v":1664},0,0,{"$f":"IF(F5310=1,IF(G5310>'Zdrojová data'!$C$19,0,1),\"\")","v":""},1664,0,{"$f":"MIN(J5310,'Zdrojová data'!$C$17)","v":0},0,{"$f":"L5310/'Zdrojová data'!$C$16","v":0},{"$f":"M5310*'Zdrojová data'!$C$13","v":0},{"$f":"N5310*'Zdrojová data'!$C$14","v":0},0,{"$f":"IF(H5310=0,D5310-'Výstupy modelu'!$C$7,IF(P5310=1,J5310-K5310,0))","v":0},0,null,{"$f":"MAX(0,IF(Q5310>0,Q5310-('Výstupy modelu'!$H$10-'Výstupy modelu'!$H$9),0))","v":0},null,null,{"$f":"W5309","v":1865.4300000000003},1885.4300000000003,0,{"$f":"MAX(0,D5310-'Vstupní hodnoty'!$C$5)","v":0}]
[null,"2017-02-25T11:00:00",2,347.76000000000005,{"$f":"CEILING(IF(C5327-C5326=0,IF(H5326=0,I5326,IF(J5326>K5326,I5326,E5326)),'Výstupy modelu'!$C$7),1)","v":1664},0,0,{"$f":"IF(F5327=1,IF(G5327>'Zdrojová data'!$C$19,0,1),\"\")","v":""},1664,0,{"$f":"MIN(J5327,'Zdrojová data'!$C$17)","v":0},0,{"$f":"L5327/'Zdrojová data'!$C$16","v":0},{"$f":"M5327*'Zdrojová data'!$C$13","v":0},{"$f":"N5327*'Zdrojová data'!$C$14","v":0},0,{"$f":"IF(H5327=0,D5327-'Výstupy modelu'!$C$7,IF(P5327=1,J5327-K5327,0))","v":0},0,null,{"$f":"MAX(0,IF(Q5327>0,Q5327-('Výstupy modelu'!$H$10-'Výstupy modelu'!$H$9),0))","v":0},null,null,{"$f":"W5326","v":1865.4300000000003},1885.4300000000003,0,{"$f":"MAX(0,D5327-'Vstupní hodnoty'!$C$5)","v":0}]
[null,"2017-02-25T19:45:00",2,244.08,{"$f":"CEILING(IF(C5362-C5361=0,IF(H5361=0,I5361,IF(J5361>K5361,I5361,E5361)),'Výstupy modelu'!$C$7),1)","v":1664},0,0,{"$f":"IF(F5362=1,IF(G5362>'Zdrojová data'!$C$19,0,1),\"\")","v":""},1664,0,{"$f":"MIN(J5362,'Zdrojová data'!$C$17)","v":0},0,{"$f":"L5362/'Zdrojová data'!$C$16","v":0},{"$f":"M5362*'Zdrojová data'!$C$13","v":0},{"$f":"N5362*'Zdrojová data'!$C$14","v":0},0,{"$f":"IF(H5362=0,D5362-'Výstupy modelu'!$C$7,IF(P5362=1,J5362-K5362,0))","v":0},0,null,{"$f":"MAX(0,IF(Q5362>0,Q5362-('Výstupy modelu'!$H$10-'Výstupy modelu'!$H$9),0))","v":0},null,null,{"$f":"W5361","v":1865.4300000000003},1885.4300000000003,0,{"$f":"MAX(0,D5362-'Vstupní hodnoty'!$C$5)","v":0}]
[null,"2017-02-26T08:30:00",2,228.96,{"$f":"CEILING(IF(C5413-C5412=0,IF(H5412=0,I5412,IF(J5412>K5412,I5412,E5412)),'Výstupy modelu'!$C$7),1)","v":1664},0,0,{"$f":"IF(F5413=1,IF(G5413>'Zdrojová data'!$C$19,0,1),\"\")","v":""},1664,0,{"$f":"MIN(J5413,'Zdrojová data'!$C$17)","v":0},0,{"$f":"L5413/'Zdrojová data'!$C$16","v":0},{"$f":"M5413*'Zdrojová data'!$C$13","v":0},{"$f":"N5413*'Zdrojová data'!$C$14","v":0},0,{"$f":"IF(H5413=0,D5413-'Výstupy modelu'!$C$7,IF(P5413=1,J5413-K5413,0))","v":0},0,null,{"$f":"MAX(0,IF(Q5413>0,Q5413-('Výstupy modelu'!$H$10-'Výstupy modelu'!$H$9),0))","v":0},null,null,{"$f":"W5412","v":1865.4300000000003},1885.4300000000003,0,{"$f":"MAX(0,D5413-'Vstupní hodnoty'!$C$5)","v":0}]
[null,"2017-02-26T13:00:00",2,226.8,{"$f":"CEILING(IF(C5431-C5430=0,IF(H5430=0,I5430,IF(J5430>K5430,I5430,E5430)),'Výstupy modelu'!$C$7),1)","v":1664},0,0,{"$f":"IF(F5431=1,IF(G5431>'Zdrojová data'!$C$19,0,1),\"\")","v":""},1664,0,{"$f":"MIN(J5431,'Zdrojová data'!$C$17)","v":0},0,{"$f":"L5431/'Zdrojová data'!$C$16","v":0},{"$f":"M5431*'Zdrojová data'!$C$13","v":0},{"$f":"N5431*'Zdrojová data'!$C$14","v":0},0,{"$f":"IF(H5431=0,D5431-'Výstupy modelu'!$C$7,IF(P5431=1,J5431-K5431,0))","v":0},0,null,{"$f":"MAX(0,IF(Q5431>0,Q5431-('Výstupy modelu'!$H$10-'Výstupy modelu'!$H$9),0))","v":0},null,null,{"$f":"W5430","v":1865.4300000000003},1885.4300000000003,0,{"$f":"MAX(0,D5431-'Vstupní hodnoty'!$C$5)","v":0}]
[null,"2017-02-26T21:15:00",2,246.24,{"$f":"CEILING(IF(C5464-C5463=0,IF(H5463=0,I5463,IF(J5463>K5463,I5463,E5463)),'Výstupy modelu'!$C$7),1)","v":1664},0,0,{"$f":"IF(F5464=1,IF(G5464>'Zdrojová data'!$C$19,0,1),\"\")","v":""},1664,0,{"$f":"MIN(J5464,'Zdrojová data'!$C$17)","v":0},0,{"$f":"L5464/'Zdrojová data'!$C$16","v":0},{"$f":"M5464*'Zdrojová data'!$C$13","v":0},{"$f":"N5464*'Zdrojová data'!$C$14","v":0},0,{"$f":"IF(H5464=0,D5464-'Výstupy modelu'!$C$7,IF(P5464=1,J5464-K5464,0))","v":0},0,null,{"$f":"MAX(0,IF(Q5464>0,Q5464-('Výstupy modelu'!$H$10-'Výstupy modelu'!$H$9),0))","v":0},null,null,{"$f":"W5463","v":1865.4300000000003},1885.4300000000003,0,{"$f":"MAX(0,D5464-'Vstupní hodnoty'!$C$5)","v":0}]
[null,"2017-02-27T10:00:00",2,1369.44,{"$f":"CEILING(IF(C5515-C5514=0,IF(H5514=0,I5514,IF(J5514>K5514,I5514,E5514)),'Výstupy modelu'!$C$7),1)","v":1664},0,0,{"$f":"IF(F5515=1,IF(G5515>'Zdrojová data'!$C$19,0,1),\"\")","v":""},1664,0,{"$f":"MIN(J5515,'Zdrojová data'!$C$17)","v":0},0,{"$f":"L5515/'Zdrojová data'!$C$16","v":0},{"$f":"M5515*'Zdrojová data'!$C$13","v":0},{"$f":"N5515*'Zdrojová data'!$C$14","v":0},0,{"$f":"IF(H5515=0,D5515-'Výstupy modelu'!$C$7,IF(P5515=1,J5515-K5515,0))","v":0},0,null,{"$f":"MAX(0,IF(Q5515>0,Q5515-('Výstupy modelu'!$H$10-'Výstupy modelu'!$H$9),0))","v":0},null,null,{"$f":"W5514","v":1865.4300000000003},1885.4300000000003,0,{"$f":"MAX(0,D5515-'Vstupní hodnoty'!$C$5)","v":0}]
[null,"2017-02-27T18:45:00",2,842.40000000000009,{"$f":"CEILING(IF(C5550-C5549=0,IF(H5549=0,I5549,IF(J5549>K5549,I5549,E5549)),'Výstupy modelu'!$C$7),1)","v":1664},0,0,{"$f":"IF(F5550=1,IF(G5550>'Zdrojová data'!$C$19,0,1),\"\")","v":""},1664,0,{"$f":"MIN(J5550,'Zdrojová data'!$C$17)","v":0},0,{"$f":"L5550/'Zdrojová data'!$C$16","v":0},{"$f":"M5550*'Zdrojová data'!$C$13","v":0},{"$f":"N5550*'Zdrojová data'!$C$14","v":0},0,{"$f":"IF(H5550=0,D5550-'Výstupy modelu'!$C$7,IF(P5550=1,J5550-K5550,0))","v":0},0,null,{"$f":"MAX(0,IF(Q5550>0,Q5550-('Výstupy modelu'!$H$10-'Výstupy modelu'!$H$9),0))","v":0},null,null,{"$f":"W5549","v":1865.4300000000003},1885.4300000000003,0,{"$f":"MAX(0,D5550-'Vstupní hodnoty'!$C$5)","v":0}]
[null,"2017-02-27T23:00:00",2,425.52000000000004,{"$f":"CEILING(IF(C5567-C5566=0,IF(H5566=0,I5566,IF(J5566>K5566,I5566,E5566)),'Výstupy modelu'!$C$7),1)","v":1664},0,0,{"$f":"IF(F5567=1,IF(G5567>'Zdrojová data'!$C$19,0,1),\"\")","v":""},1664,0,{"$f":"MIN(J5567,'Zdrojová data'!$C$17)","v":0},0,{"$f":"L5567/'Zdrojová data'!$C$16","v":0},{"$f":"M5567*'Zdrojová data'!$C$13","v":0},{"$f":"N5567*'Zdrojová data'!$C$14","v":0},0,{"$f":"IF(H5567=0,D5567-'Výstupy modelu'!$C$7,IF(P5567=1,J5567-K5567,0))","v":0},0,null,{"$f":"MAX(0,IF(Q5567>0,Q5567-('Výstupy modelu'!$H$10-'Výstupy modelu'!$H$9),0))","v":0},null,null,{"$f":"W5566","v":1865.4300000000003},1885.4300000000003,0,{"$f":"MAX(0,D5567-'Vstupní hodnoty'!$C$5)","v":0}]
[null,"2017-02-28T07:30:00",2,1334.88,{"$f":"CEILING(IF(C5601-C5600=0,IF(H5600=0,I5600,IF(J5600>K5600,I5600,E5600)),'Výstupy modelu'!$C$7),1)","v":1664},0,0,{"$f":"IF(F5601=1,IF(G5601>'Zdrojová data'!$C$19,0,1),\"\")","v":""},1664,0,{"$f":"MIN(J5601,'Zdrojová data'!$C$17)","v":0},0,{"$f":"L5601/'Zdrojová data'!$C$16","v":0},{"$f":"M5601*'Zdrojová data'!$C$13","v":0},{"$f":"N5601*'Zdrojová data'!$C$14","v":0},0,{"$f":"IF(H5601=0,D5601-'Výstupy modelu'!$C$7,IF(P5601=1,J5601-K5601,0))","v":0},0,null,{"$f":"MAX(0,IF(Q5601>0,Q5601-('Výstupy modelu'!$H$10-'Výstupy modelu'!$H$9),0))","v":0},null,null,{"$f":"W5600","v":1865.4300000000003},1885.4300000000003,0,{"$f":"MAX(0,D5601-'Vstupní hodnoty'!$C$5)","v":0}]
[null,"2017-02-28T20:15:00",2,776.5200000000001,{"$f":"CEILING(IF(C5652-C5651=0,IF(H5651=0,I5651,IF(J5651>K5651,I5651,E5651)),'Výstupy modelu'!$C$7),1)","v":1664},0,0,{"$f":"IF(F5652=1,IF(G5652>'Zdrojová data'!$C$19,0,1),\"\")","v":""},1664,0,{"$f":"MIN(J5652,'Zdrojová data'!$C$17)","v":0},0,{"$f":"L5652/'Zdrojová data'!$C$16","v":0},{"$f":"M5652*'Zdrojová data'!$C$13","v":0},{"$f":"N5652*'Zdrojová data'!$C$14","v":0},0,{"$f":"IF(H5652=0,D5652-'Výstupy modelu'!$C$7,IF(P5652=1,J5652-K5652,0))","v":0},0,null,{"$f":"MAX(0,IF(Q5652>0,Q5652-('Výstupy modelu'!$H$10-'Výstupy modelu'!$H$9),0))","v":0},null,null,{"$f":"W5651","v":1865.4300000000003},1885.4300000000003,0,{"$f":"MAX(0,D5652-'Vstupní hodnoty'!$C$5)","v":0}]
[null,"2017-03-01T00:30:00",3,362.88,{"$f":"CEILING(IF(C5669-C5668=0,IF(H5668=0,I5668,IF(J5668>K5668,I5668,E5668)),'Výstupy modelu'!$C$7),1)","v":1664},0,0,{"$f":"IF(F5669=1,IF(G5669>'Zdrojová data'!$C$19,0,1),\"\")","v":""},1664,0,{"$f":"MIN(J5669,'Zdrojová data'!$C$17)","v":0},0,{"$f":"L5669/'Zdrojová data'!$C$16","v":0},{"$f":"M5669*'Zdrojová data'!$C$13","v":0},{"$f":"N5669*'Zdrojová data'!$C$14","v":0},0,{"$f":"IF(H5669=0,D5669-'Výstupy modelu'!$C$7,IF(P5669=1,J5669-K5669,0))","v":0},0,null,{"$f":"MAX(0,IF(Q5669>0,Q5669-('Výstupy modelu'!$H$10-'Výstupy modelu'!$H$9),0))","v":0},null,null,{"$f":"W5668","v":1865.4300000000003},1885.4300000000003,0,{"$f":"MAX(0,D5669-'Vstupní hodnoty'!$C$5)","v":0}]
[null,"2017-03-01T09:15:00",3,1411.5600000000002,{"$f":"CEILING(IF(C5704-C5703=0,IF(H5703=0,I5703,IF(J5703>K5703,I5703,E5703)),'Výstupy modelu'!$C$7),1)","v":1664},0,0,{"$f":"IF(F5704=1,IF(G5704>'Zdrojová data'!$C$19,0,1),\"\")","v":""},1664,0,{"$f":"MIN(J5704,'Zdrojová data'!$C$17)","v":0},0,{"$f":"L5704/'Zdrojová data'!$C$16","v":0},{"$f":"M5704*'Zdrojová data'!$C$13","v":0},{"$f":"N5704*'Zdrojová data'!$C$14","v":0},0,{"$f":"IF(H5704=0,D5704-'Výstupy modelu'!$C$7,IF(P5704=1,J5704-K5704,0))","v":0},0,null,{"$f":"MAX(0,IF(Q5704>0,Q5704-('Výstupy modelu'!$H$10-'Výstupy modelu'!$H$9),0))","v":0},null,null,{"$f":"W5703","v":1865.4300000000003},1885.4300000000003,0,{"$f":"MAX(0,D5704-'Vstupní hodnoty'!$C$5)","v":0}]
[null,"2017-03-01T22:00:00",3,510.84000000000003,{"$f":"CEILING(IF(C5755-C5754=0,IF(H5754=0,I5754,IF(J5754>K5754,I5754,E5754)),'Výstupy modelu'!$C$7),1)","v":1664},0,0,{"$f":"IF(F5755=1,IF(G5755>'Zdrojová data'!$C$19,0,1),\"\")","v":""},1664,0,{"$f":"MIN(J5755,'Zdrojová data'!$C$17)","v":0},0,{"$f":"L5755/'Zdrojová data'!$C$16","v":0},{"$f":"M5755*'Zdrojová data'!$C$13","v":0},{"$f":"N5755*'Zdrojová data'!$C$14","v":0},0,{"$f":"IF(H5755=0,D5755-'Výstupy modelu'!$C$7,IF(P5755=1,J5755-K5755,0))","v":0},0,null,{"$f":"MAX(0,IF(Q5755>0,Q5755-('Výstupy modelu'!$H$10-'Výstupy modelu'!$H$9),0))","v":0},null,null,{"$f":"W5754","v":1865.4300000000003},1885.4300000000003,0,{"$f":"MAX(0,D5755-'Vstupní hodnoty'!$C$5)","v":0}]
[null,"2017-03-02T03:00:00",3,488.16,{"$f":"CEILING(IF(C5775-C5774=0,IF(H5774=0,I5774,IF(J5774>K5774,I5774,E5774)),'Výstupy modelu'!$C$7),1)","v":1664},0,0,{"$f":"IF(F5775=1,IF(G5775>'Zdrojová data'!$C$19,0,1),\"\")","v":""},1664,0,{"$f":"MIN(J5775,'Zdrojová data'!$C$17)","v":0},0,{"$f":"L5775/'Zdrojová data'!$C$16","v":0},{"$f":"M5775*'Zdrojová data'!$C$13","v":0},{"$f":"N5775*'Zdrojová data'!$C$14","v":0},0,{"$f":"IF(H5775=0,D5775-'Výstupy modelu'!$C$7,IF(P5775=1,J5775-K5775,0))","v":0},0,null,{"$f":"MAX(0,IF(Q5775>0,Q5775-('Výstupy modelu'!$H$10-'Výstupy modelu'!$H$9),0))","v":0},null,null,{"$f":"W5774","v":1865.4300000000003},1885.4300000000003,0,{"$f":"MAX(0,D5775-'Vstupní hodnoty'!$C$5)","v":0}]
[null,"2017-03-02T10:45:00",3,1382.4,{"$f":"CEILING(IF(C5806-C5805=0,IF(H5805=0,I5805,IF(J5805>K5805,I5805,E5805)),'Výstupy modelu'!$C$7),1)","v":1664},0,0,{"$f":"IF(F5806=1,IF(G5806>'Zdrojová data'!$C$19,0,1),\"\")","v":""},1664,0,{"$f":"MIN(J5806,'Zdrojová data'!$C$17)","v":0},0,{"$f":"L5806/'Zdrojová data'!$C$16","v":0},{"$f":"M5806*'Zdrojová data'!$C$13","v":0},{"$f":"N5806*'Zdrojová data'!$C$14","v":0},0,{"$f":"IF(H5806=0,D5806-'Výstupy modelu'!$C$7,IF(P5806=1,J5806-K5806,0))","v":0},0,null,{"$f":"MAX(0,IF(Q5806>0,Q5806-('Výstupy modelu'!$H$10-'Výstupy modelu'!$H$9),0))","v":0},null,null,{"$f":"W5805","v":1865.4300000000003},1885.4300000000003,0,{"$f":"MAX(0,D5806-'Vstupní hodnoty'!$C$5)","v":0}]
[null,"2017-03-02T23:30:00",3,483.84000000000003,{"$f":"CEILING(IF(C5857-C5856=0,IF(H5856=0,I5856,IF(J5856>K5856,I5856,E5856)),'Výstupy modelu'!$C$7),1)","v":1664},0,0,{"$f":"IF(F5857=1,IF(G5857>'Zdrojová data'!$C$19,0,1),\"\")","v":""},1664,0,{"$f":"MIN(J5857,'Zdrojová data'!$C$17)","v":0},0,{"$f":"L5857/'Zdrojová data'!$C$16","v":0},{"$f":"M5857*'Zdrojová data'!$C$13","v":0},{"$f":"N5857*'Zdrojová data'!$C$14","v":0},0,{"$f":"IF(H5857=0,D5857-'Výstupy modelu'!$C$7,IF(P5857=1,J5857-K5857,0))","v":0},0,null,{"$f":"MAX(0,IF(Q5857>0,Q5857-('Výstupy modelu'!$H$10-'Výstupy modelu'!$H$9),0))","v":0},null,null,{"$f":"W5856","v":1865.4300000000003},1885.4300000000003,0,{"$f":"MAX(0,D5857-'Vstupní hodnoty'!$C$5)","v":0}]
[null,"2017-03-03T08:15:00",3,1262.52,{"$f":"CEILING(IF(C5892-C5891=0,IF(H5891=0,I5891,IF(J5891>K5891,I5891,E5891)),'Výstupy modelu'!$C$7),1)","v":1664},{"$f":"IF(D5892>E5892,1,0)","v":0},0,{"$f":"IF(F5892=1,IF(G5892>'Zdrojová data'!$C$19,0,1),\"\")","v":""},{"$f":"IF(H5892=0,D5892,IF(J5892>K5892,E5892+J5892-K5892,E5892))","v":1664},{"$f":"IF(H5892=1,D5892-E5892,0)","v":0},{"$f":"MIN(J5892,'Zdrojová data'!$C$17)","v":0},0,{"$f":"L5892/'Zdrojová data'!$C$16","v":0},{"$f":"M5892*'Zdrojová data'!$C$13","v":0},{"$f":"N5892*'Zdrojová data'!$C$14","v":0},0,{"$f":"IF(H5892=0,D5892-'Výstupy modelu'!$C$7,IF(P5892=1,J5892-K5892,0))","v":0},0,null,{"$f":"MAX(0,IF(Q5892>0,Q5892-('Výstupy modelu'!$H$10-'Výstupy modelu'!$H$9),0))","v":0},null,null,{"$f":"W5891","v":1865.4300000000003},1885.4300000000003,0,{"$f":"MAX(0,D5892-'Vstupní hodnoty'!$C$5)","v":0}]
[null,"2017-03-03T12:30:00",3,1090.8000000000002,{"$f":"CEILING(IF(C5909-C5908=0,IF(H5908=0,I5908,IF(J5908>K5908,I5908,E5908)),'Výstupy modelu'!$C$7),1)","v":1664},0,0,{"$f":"IF(F5909=1,IF(G5909>'Zdrojová data'!$C$19,0,1),\"\")","v":""},1664,0,{"$f":"MIN(J5909,'Zdrojová data'!$C$17)","v":0},0,{"$f":"L5909/'Zdrojová data'!$C$16","v":0},{"$f":"M5909*'Zdrojová data'!$C$13","v":0},{"$f":"N5909*'Zdrojová data'!$C$14","v":0},0,{"$f":"IF(H5909=0,D5909-'Výstupy modelu'!$C$7,IF(P5909=1,J5909-K5909,0))","v":0},0,null,{"$f":"MAX(0,IF(Q5909>0,Q5909-('Výstupy modelu'!$H$10-'Výstupy modelu'!$H$9),0))","v":0},null,null,{"$f":"W5908","v":1865.4300000000003},1885.4300000000003,0,{"$f":"MAX(0,D5909-'Vstupní hodnoty'!$C$5)","v":0}]
[null,"2017-03-03T22:30:00",3,301.32,{"$f":"CEILING(IF(C5949-C5948=0,IF(H5948=0,I5948,IF(J5948>K5948,I5948,E5948)),'Výstupy modelu'!$C$7),1)","v":1664},0,0,{"$f":"IF(F5949=1,IF(G5949>'Zdrojová data'!$C$19,0,1),\"\")","v":""},1664,0,{"$f":"MIN(J5949,'Zdrojová data'!$C$17)","v":0},0,{"$f":"L5949/'Zdrojová data'!$C$16","v":0},{"$f":"M5949*'Zdrojová data'!$C$13","v":0},{"$f":"N5949*'Zdrojová data'!$C$14","v":0},0,{"$f":"IF(H5949=0,D5949-'Výstupy modelu'!$C$7,IF(P5949=1,J5949-K5949,0))","v":0},0,null,{"$f":"MAX(0,IF(Q5949>0,Q5949-('Výstupy modelu'!$H$10-'Výstupy modelu'!$H$9),0))","v":0},null,null,{"$f":"W5948","v":1865.4300000000003},1885.4300000000003,0,{"$f":"MAX(0,D5949-'Vstupní hodnoty'!$C$5)","v":0}]
[null,"2017-03-04T09:45:00",3,541.08000000000004,{"$f":"CEILING(IF(C5994-C5993=0,IF(H5993=0,I5993,IF(J5993>K5993,I5993,E5993)),'Výstupy modelu'!$C$7),1)","v":1664},0,0,{"$f":"IF(F5994=1,IF(G5994>'Zdrojová data'!$C$19,0,1),\"\")","v":""},1664,0,{"$f":"MIN(J5994,'Zdrojová data'!$C$17)","v":0},0,{"$f":"L5994/'Zdrojová data'!$C$16","v":0},{"$f":"M5994*'Zdrojová data'!$C$13","v":0},{"$f":"N5994*'Zdrojová data'!$C$14","v":0},0,{"$f":"IF(H5994=0,D5994-'Výstupy modelu'!$C$7,IF(P5994=1,J5994-K5994,0))","v":0},0,null,{"$f":"MAX(0,IF(Q5994>0,Q5994-('Výstupy modelu'!$H$10-'Výstupy modelu'!$H$9),0))","v":0},null,null,{"$f":"W5993","v":1865.4300000000003},1885.4300000000003,0,{"$f":"MAX(0,D5994-'Vstupní hodnoty'!$C$5)","v":0}]
[null,"2017-03-04T14:00:00",3,330.48,{"$f":"CEILING(IF(C6011-C6010=0,IF(H6010=0,I6010,IF(J6010>K6010,I6010,E6010)),'Výstupy modelu'!$C$7),1)","v":1664},0,0,{"$f":"IF(F6011=1,IF(G6011>'Zdrojová data'!$C$19,0,1),\"\")","v":""},1664,0,{"$f":"MIN(J6011,'Zdrojová data'!$C$17)","v":0},0,{"$f":"L6011/'Zdrojová data'!$C$16","v":0},{"$f":"M6011*'Zdrojová data'!$C$13","v":0},{"$f":"N6011*'Zdrojová data'!$C$14","v":0},0,{"$f":"IF(H6011=0,D6011-'Výstupy modelu'!$C$7,IF(P6011=1,J6011-K6011,0))","v":0},0,null,{"$f":"MAX(0,IF(Q6011>0,Q6011-('Výstupy modelu'!$H$10-'Výstupy modelu'!$H$9),0))","v":0},null,null,{"$f":"W6010","v":1865.4300000000003},1885.4300000000003,0,{"$f":"MAX(0,D6011-'Vstupní hodnoty'!$C$5)","v":0}]
[null,"2017-03-05T02:45:00",3,211.68,{"$f":"CEILING(IF(C6062-C6061=0,IF(H6061=0,I6061,IF(J6061>K6061,I6061,E6061)),'Výstupy modelu'!$C$7),1)","v":1664},0,0,{"$f":"IF(F6062=1,IF(G6062>'Zdrojová data'!$C$19,0,1),\"\")","v":""},1664,0,{"$f":"MIN(J6062,'Zdrojová data'!$C$17)","v":0},0,{"$f":"L6062/'Zdrojová data'!$C$16","v":0},{"$f":"M6062*'Zdrojová data'!$C$13","v":0},{"$f":"N6062*'Zdrojová data'!$C$14","v":0},0,{"$f":"IF(H6062=0,D6062-'Výstupy modelu'!$C$7,IF(P6062=1,J6062-K6062,0))","v":0},0,null,{"$f":"MAX(0,IF(Q6062>0,Q6062-('Výstupy modelu'!$H$10-'Výstupy modelu'!$H$9),0))","v":0},null,null,{"$f":"W6061","v":1865.4300000000003},1885.4300000000003,0,{"$f":"MAX(0,D6062-'Vstupní hodnoty'!$C$5)","v":0}]
[null,"2017-03-05T11:30:00",3,208.44000000000003,{"$f":"CEILING(IF(C6097-C6096=0,IF(H6096=0,I6096,IF(J6096>K6096,I6096,E6096)),'Výstupy modelu'!$C$7),1)","v":1664},0,0,{"$f":"IF(F6097=1,IF(G6097>'Zdrojová data'!$C$19,0,1),\"\")","v":""},1664,0,{"$f":"MIN(J6097,'Zdrojová data'!$C$17)","v":0},0,{"$f":"L6097/'Zdrojová data'!$C$16","v":0},{"$f":"M6097*'Zdrojová data'!$C$13","v":0},{"$f":"N6097*'Zdrojová data'!$C$14","v":0},0,{"$f":"IF(H6097=0,D6097-'Výstupy modelu'!$C$7,IF(P6097=1,J6097-K6097,0))","v":0},0,null,{"$f":"MAX(0,IF(Q6097>0,Q6097-('Výstupy modelu'!$H$10-'Výstupy modelu'!$H$9),0))","v":0},null,null,{"$f":"W6096","v":1865.4300000000003},1885.4300000000003,0,{"$f":"MAX(0,D6097-'Vstupní hodnoty'!$C$5)","v":0}]
[null,"2017-03-05T18:00:00",3,212.76000000000002,{"$f":"CEILING(IF(C6123-C6122=0,IF(H6122=0,I6122,IF(J6122>K6122,I6122,E6122)),'Výstupy modelu'!$C$7),1)","v":1664},0,0,{"$f":"IF(F6123=1,IF(G6123>'Zdrojová data'!$C$19,0,1),\"\")","v":""},1664,0,{"$f":"MIN(J6123,'Zdrojová data'!$C$17)","v":0},0,{"$f":"L6123/'Zdrojová data'!$C$16","v":0},{"$f":"M6123*'Zdrojová data'!$C$13","v":0},{"$f":"N6123*'Zdrojová data'!$C$14","v":0},0,{"$f":"IF(H6123=0,D6123-'Výstupy modelu'!$C$7,IF(P6123=1,J6123-K6123,0))","v":0},0,null,{"$f":"MAX(0,IF(Q6123>0,Q6123-('Výstupy modelu'!$H$10-'Výstupy modelu'!$H$9),0))","v":0},null,null,{"$f":"W6122","v":1865.4300000000003},1885.4300000000003,0,{"$f":"MAX(0,D6123-'Vstupní hodnoty'!$C$5)","v":0}]
[null,"2017-03-06T00:15:00",3,281.88,{"$f":"CEILING(IF(C6148-C6147=0,IF(H6147=0,I6147,IF(J6147>K6147,I6147,E6147)),'Výstupy modelu'!$C$7),1)","v":1664},{"$f":"IF(D6148>E6148,1,0)","v":0},0,{"$f":"IF(F6148=1,IF(G6148>'Zdrojová data'!$C$19,0,1),\"\")","v":""},{"$f":"IF(H6148=0,D6148,IF(J6148>K6148,E6148+J6148-K6148,E6148))","v":1664},{"$f":"IF(H6148=1,D6148-E6148,0)","v":0},{"$f":"MIN(J6148,'Zdrojová data'!$C$17)","v":0},0,{"$f":"L6148/'Zdrojová data'!$C$16","v":0},{"$f":"M6148*'Zdrojová data'!$C$13","v":0},{"$f":"N6148*'Zdrojová data'!$C$14","v":0},0,{"$f":"IF(H6148=0,D6148-'Výstupy modelu'!$C$7,IF(P6148=1,J6148-K6148,0))","v":0},0,null,{"$f":"MAX(0,IF(Q6148>0,Q6148-('Výstupy modelu'!$H$10-'Výstupy modelu'!$H$9),0))","v":0},null,null,{"$f":"W6147","v":1865.4300000000003},1885.4300000000003,0,{"$f":"MAX(0,D6148-'Vstupní hodnoty'!$C$5)","v":0}]
[null,"2017-03-06T13:00:00",3,1326.24,{"$f":"CEILING(IF(C6199-C6198=0,IF(H6198=0,I6198,IF(J6198>K6198,I6198,E6198)),'Výstupy modelu'!$C$7),1)","v":1664},0,0,{"$f":"IF(F6199=1,IF(G6199>'Zdrojová data'!$C$19,0,1),\"\")","v":""},1664,0,{"$f":"MIN(J6199,'Zdrojová data'!$C$17)","v":0},0,{"$f":"L6199/'Zdrojová data'!$C$16","v":0},{"$f":"M6199*'Zdrojová data'!$C$13","v":0},{"$f":"N6199*'Zdrojová data'!$C$14","v":0},0,{"$f":"IF(H6199=0,D6199-'Výstupy modelu'!$C$7,IF(P6199=1,J6199-K6199,0))","v":0},0,null,{"$f":"MAX(0,IF(Q6199>0,Q6199-('Výstupy modelu'!$H$10-'Výstupy modelu'!$H$9),0))","v":0},null,null,{"$f":"W6198","v":1865.4300000000003},1885.4300000000003,0,{"$f":"MAX(0,D6199-'Vstupní hodnoty'!$C$5)","v":0}]
[null,"2017-03-06T17:15:00",3,869.40000000000009,{"$f":"CEILING(IF(C6216-C6215=0,IF(H6215=0,I6215,IF(J6215>K6215,I6215,E6215)),'Výstupy modelu'!$C$7),1)","v":1664},0,0,{"$f":"IF(F6216=1,IF(G6216>'Zdrojová data'!$C$19,0,1),\"\")","v":""},1664,0,{"$f":"MIN(J6216,'Zdrojová data'!$C$17)","v":0},0,{"$f":"L6216/'Zdrojová data'!$C$16","v":0},{"$f":"M6216*'Zdrojová data'!$C$13","v":0},{"$f":"N6216*'Zdrojová data'!$C$14","v":0},0,{"$f":"IF(H6216=0,D6216-'Výstupy modelu'!$C$7,IF(P6216=1,J6216-K6216,0))","v":0},0,null,{"$f":"MAX(0,IF(Q6216>0,Q6216-('Výstupy modelu'!$H$10-'Výstupy modelu'!$H$9),0))","v":0},null,null,{"$f":"W6215","v":1865.4300000000003},1885.4300000000003,0,{"$f":"MAX(0,D6216-'Vstupní hodnoty'!$C$5)","v":0}]
[null,"2017-03-07T02:00:00",3,415.8,{"$f":"CEILING(IF(C6251-C6250=0,IF(H6250=0,I6250,IF(J6250>K6250,I6250,E6250)),'Výstupy modelu'!$C$7),1)","v":1664},0,0,{"$f":"IF(F6251=1,IF(G6251>'Zdrojová data'!$C$19,0,1),\"\")","v":""},1664,0,{"$f":"MIN(J6251,'Zdrojová data'!$C$17)","v":0},0,{"$f":"L6251/'Zdrojová data'!$C$16","v":0},{"$f":"M6251*'Zdrojová data'!$C$13","v":0},{"$f":"N6251*'Zdrojová data'!$C$14","v":0},0,{"$f":"IF(H6251=0,D6251-'Výstupy modelu'!$C$7,IF(P6251=1,J6251-K6251,0))","v":0},0,null,{"$f":"MAX(0,IF(Q6251>0,Q6251-('Výstupy modelu'!$H$10-'Výstupy modelu'!$H$9),0))","v":0},null,null,{"$f":"W6250","v":1865.4300000000003},1885.4300000000003,0,{"$f":"MAX(0,D6251-'Vstupní hodnoty'!$C$5)","v":0}]
[null,"2017-03-07T13:30:00",3,1281.96,{"$f":"CEILING(IF(C6297-C6296=0,IF(H6296=0,I6296,IF(J6296>K6296,I6296,E6296)),'Výstupy modelu'!$C$7),1)","v":1664},0,0,{"$f":"IF(F6297=1,IF(G6297>'Zdrojová data'!$C$19,0,1),\"\")","v":""},1664,0,{"$f":"MIN(J6297,'Zdrojová data'!$C$17)","v":0},0,{"$f":"L6297/'Zdrojová data'!$C$16","v":0},{"$f":"M6297*'Zdrojová data'!$C$13","v":0},{"$f":"N6297*'Zdrojová data'!$C$14","v":0},0,{"$f":"IF(H6297=0,D6297-'Výstupy modelu'!$C$7,IF(P6297=1,J6297-K6297,0))","v":0},0,null,{"$f":"MAX(0,IF(Q6297>0,Q6297-('Výstupy modelu'!$H$10-'Výstupy modelu'!$H$9),0))","v":0},null,null,{"$f":"W6296","v":1865.4300000000003},1885.4300000000003,0,{"$f":"MAX(0,D6297-'Vstupní hodnoty'!$C$5)","v":0}]
[null,"2017-03-07T18:45:00",3,837,{"$f":"CEILING(IF(C6318-C6317=0,IF(H6317=0,I6317,IF(J6317>K6317,I6317,E6317)),'Výstupy modelu'!$C$7),1)","v":1664},0,0,{"$f":"IF(F6318=1,IF(G6318>'Zdrojová data'!$C$19,0,1),\"\")","v":""},1664,0,{"$f":"MIN(J6318,'Zdrojová data'!$C$17)","v":0},0,{"$f":"L6318/'Zdrojová data'!$C$16","v":0},{"$f":"M6318*'Zdrojová data'!$C$13","v":0},{"$f":"N6318*'Zdrojová data'!$C$14","v":0},0,{"$f":"IF(H6318=0,D6318-'Výstupy modelu'!$C$7,IF(P6318=1,J6318-K6318,0))","v":0},0,null,{"$f":"MAX(0,IF(Q6318>0,Q6318-('Výstupy modelu'!$H$10-'Výstupy modelu'!$H$9),0))","v":0},null,null,{"$f":"W6317","v":1865.4300000000003},1885.4300000000003,0,{"$f":"MAX(0,D6318-'Vstupní hodnoty'!$C$5)","v":0}]
[null,"2017-03-08T03:30:00",3,434.16,{"$f":"CEILING(IF(C6353-C6352=0,IF(H6352=0,I6352,IF(J6352>K6352,I6352,E6352)),'Výstupy modelu'!$C$7),1)","v":1664},0,0,{"$f":"IF(F6353=1,IF(G6353>'Zdrojová data'!$C$19,0,1),\"\")","v":""},1664,0,{"$f":"MIN(J6353,'Zdrojová data'!$C$17)","v":0},0,{"$f":"L6353/'Zdrojová data'!$C$16","v":0},{"$f":"M6353*'Zdrojová data'!$C$13","v":0},{"$f":"N6353*'Zdrojová data'!$C$14","v":0},0,{"$f":"IF(H6353=0,D6353-'Výstupy modelu'!$C$7,IF(P6353=1,J6353-K6353,0))","v":0},0,null,{"$f":"MAX(0,IF(Q6353>0,Q6353-('Výstupy modelu'!$H$10-'Výstupy modelu'!$H$9),0))","v":0},null,null,{"$f":"W6352","v":1865.4300000000003},1885.4300000000003,0,{"$f":"MAX(0,D6353-'Vstupní hodnoty'!$C$5)","v":0}]
[null,"2017-03-08T16:15:00",3,916.92000000000007,{"$f":"CEILING(IF(C6404-C6403=0,IF(H6403=0,I6403,IF(J6403>K6403,I6403,E6403)),'Výstupy modelu'!$C$7),1)","v":1664},{"$f":"IF(D6404>E6404,1,0)","v":0},0,{"$f":"IF(F6404=1,IF(G6404>'Zdrojová data'!$C$19,0,1),\"\")","v":""},{"$f":"IF(H6404=0,D6404,IF(J6404>K6404,E6404+J6404-K6404,E6404))","v":1664},{"$f":"IF(H6404=1,D6404-E6404,0)","v":0},{"$f":"MIN(J6404,'Zdrojová data'!$C$17)","v":0},0,{"$f":"L6404/'Zdrojová data'!$C$16","v":0},{"$f":"M6404*'Zdrojová data'!$C$13","v":0},{"$f":"N6404*'Zdrojová data'!$C$14","v":0},0,{"$f":"IF(H6404=0,D6404-'Výstupy modelu'!$C$7,IF(P6404=1,J6404-K6404,0))","v":0},0,null,{"$f":"MAX(0,IF(Q6404>0,Q6404-('Výstupy modelu'!$H$10-'Výstupy modelu'!$H$9),0))","v":0},null,null,{"$f":"W6403","v":1865.4300000000003},1885.4300000000003,0,{"$f":"MAX(0,D6404-'Vstupní hodnoty'!$C$5)","v":0}]
[null,"2017-03-08T23:00:00",3,400.68,{"$f":"CEILING(IF(C6431-C6430=0,IF(H6430=0,I6430,IF(J6430>K6430,I6430,E6430)),'Výstupy modelu'!$C$7),1)","v":1664},0,0,{"$f":"IF(F6431=1,IF(G6431>'Zdrojová data'!$C$19,0,1),\"\")","v":""},1664,0,{"$f":"MIN(J6431,'Zdrojová data'!$C$17)","v":0},0,{"$f":"L6431/'Zdrojová data'!$C$16","v":0},{"$f":"M6431*'Zdrojová data'!$C$13","v":0},{"$f":"N6431*'Zdrojová data'!$C$14","v":0},0,{"$f":"IF(H6431=0,D6431-'Výstupy modelu'!$C$7,IF(P6431=1,J6431-K6431,0))","v":0},0,null,{"$f":"MAX(0,IF(Q6431>0,Q6431-('Výstupy modelu'!$H$10-'Výstupy modelu'!$H$9),0))","v":0},null,null,{"$f":"W6430","v":1865.4300000000003},1885.4300000000003,0,{"$f":"MAX(0,D6431-'Vstupní hodnoty'!$C$5)","v":0}]
[null,"2017-03-09T05:00:00",3,533.52,{"$f":"CEILING(IF(C6455-C6454=0,IF(H6454=0,I6454,IF(J6454>K6454,I6454,E6454)),'Výstupy modelu'!$C$7),1)","v":1664},0,0,{"$f":"IF(F6455=1,IF(G6455>'Zdrojová data'!$C$19,0,1),\"\")","v":""},1664,0,{"$f":"MIN(J6455,'Zdrojová data'!$C$17)","v":0},0,{"$f":"L6455/'Zdrojová data'!$C$16","v":0},{"$f":"M6455*'Zdrojová data'!$C$13","v":0},{"$f":"N6455*'Zdrojová data'!$C$14","v":0},0,{"$f":"IF(H6455=0,D6455-'Výstupy modelu'!$C$7,IF(P6455=1,J6455-K6455,0))","v":0},0,null,{"$f":"MAX(0,IF(Q6455>0,Q6455-('Výstupy modelu'!$H$10-'Výstupy modelu'!$H$9),0))","v":0},null,null,{"$f":"W6454","v":1865.4300000000003},1885.4300000000003,0,{"$f":"MAX(0,D6455-'Vstupní hodnoty'!$C$5)","v":0}]
[null,"2017-03-09T17:45:00",3,669.6,{"$f":"CEILING(IF(C6506-C6505=0,IF(H6505=0,I6505,IF(J6505>K6505,I6505,E6505)),'Výstupy modelu'!$C$7),1)","v":1664},0,0,{"$f":"IF(F6506=1,IF(G6506>'Zdrojová data'!$C$19,0,1),\"\")","v":""},1664,0,{"$f":"MIN(J6506,'Zdrojová data'!$C$17)","v":0},0,{"$f":"L6506/'Zdrojová data'!$C$16","v":0},{"$f":"M6506*'Zdrojová data'!$C$13","v":0},{"$f":"N6506*'Zdrojová data'!$C$14","v":0},0,{"$f":"IF(H6506=0,D6506-'Výstupy modelu'!$C$7,IF(P6506=1,J6506-K6506,0))","v":0},0,null,{"$f":"MAX(0,IF(Q6506>0,Q6506-('Výstupy modelu'!$H$10-'Výstupy modelu'!$H$9),0))","v":0},null,null,{"$f":"W6505","v":1865.4300000000003},1885.4300000000003,0,{"$f":"MAX(0,D6506-'Vstupní hodnoty'!$C$5)","v":0}]
[null,"2017-03-10T02:30:00",3,493.56000000000006,{"$f":"CEILING(IF(C6541-C6540=0,IF(H6540=0,I6540,IF(J6540>K6540,I6540,E6540)),'Výstupy modelu'!$C$7),1)","v":1664},0,0,{"$f":"IF(F6541=1,IF(G6541>'Zdrojová data'!$C$19,0,1),\"\")","v":""},1664,0,{"$f":"MIN(J6541,'Zdrojová data'!$C$17)","v":0},0,{"$f":"L6541/'Zdrojová data'!$C$16","v":0},{"$f":"M6541*'Zdrojová data'!$C$13","v":0},{"$f":"N6541*'Zdrojová data'!$C$14","v":0},0,{"$f":"IF(H6541=0,D6541-'Výstupy modelu'!$C$7,IF(P6541=1,J6541-K6541,0))","v":0},0,null,{"$f":"MAX(0,IF(Q6541>0,Q6541-('Výstupy modelu'!$H$10-'Výstupy modelu'!$H$9),0))","v":0},null,null,{"$f":"W6540","v":1865.4300000000003},1885.4300000000003,0,{"$f":"MAX(0,D6541-'Vstupní hodnoty'!$C$5)","v":0}]
[null,"2017-03-10T06:45:00",3,1356.48,{"$f":"CEILING(IF(C6558-C6557=0,IF(H6557=0,I6557,IF(J6557>K6557,I6557,E6557)),'Výstupy modelu'!$C$7),1)","v":1664},0,0,{"$f":"IF(F6558=1,IF(G6558>'Zdrojová data'!$C$19,0,1),\"\")","v":""},1664,0,{"$f":"MIN(J6558,'Zdrojová data'!$C$17)","v":0},0,{"$f":"L6558/'Zdrojová data'!$C$16","v":0},{"$f":"M6558*'Zdrojová data'!$C$13","v":0},{"$f":"N6558*'Zdrojová data'!$C$14","v":0},0,{"$f":"IF(H6558=0,D6558-'Výstupy modelu'!$C$7,IF(P6558=1,J6558-K6558,0))","v":0},0,null,{"$f":"MAX(0,IF(Q6558>0,Q6558-('Výstupy modelu'!$H$10-'Výstupy modelu'!$H$9),0))","v":0},null,null,{"$f":"W6557","v":1865.4300000000003},1885.4300000000003,0,{"$f":"MAX(0,D6558-'Vstupní hodnoty'!$C$5)","v":0}]
[null,"2017-03-10T18:30:00",3,778.68000000000006,{"$f":"CEILING(IF(C6605-C6604=0,IF(H6604=0,I6604,IF(J6604>K6604,I6604,E6604)),'Výstupy modelu'!$C$7),1)","v":1664},0,0,{"$f":"IF(F6605=1,IF(G6605>'Zdrojová data'!$C$19,0,1),\"\")","v":""},1664,0,{"$f":"MIN(J6605,'Zdrojová data'!$C$17)","v":0},0,{"$f":"L6605/'Zdrojová data'!$C$16","v":0},{"$f":"M6605*'Zdrojová data'!$C$13","v":0},{"$f":"N6605*'Zdrojová data'!$C$14","v":0},0,{"$f":"IF(H6605=0,D6605-'Výstupy modelu'!$C$7,IF(P6605=1,J6605-K6605,0))","v":0},0,null,{"$f":"MAX(0,IF(Q6605>0,Q6605-('Výstupy modelu'!$H$10-'Výstupy modelu'!$H$9),0))","v":0},null,null,{"$f":"W6604","v":1865.4300000000003},1885.4300000000003,0,{"$f":"MAX(0,D6605-'Vstupní hodnoty'!$C$5)","v":0}]
[null,"2017-03-11T04:00:00",3,240.84,{"$f":"CEILING(IF(C6643-C6642=0,IF(H6642=0,I6642,IF(J6642>K6642,I6642,E6642)),'Výstupy modelu'!$C$7),1)","v":1664},0,0,{"$f":"IF(F6643=1,IF(G6643>'Zdrojová data'!$C$19,0,1),\"\")","v":""},1664,0,{"$f":"MIN(J6643,'Zdrojová data'!$C$17)","v":0},0,{"$f":"L6643/'Zdrojová data'!$C$16","v":0},{"$f":"M6643*'Zdrojová data'!$C$13","v":0},{"$f":"N6643*'Zdrojová data'!$C$14","v":0},0,{"$f":"IF(H6643=0,D6643-'Výstupy modelu'!$C$7,IF(P6643=1,J6643-K6643,0))","v":0},0,null,{"$f":"MAX(0,IF(Q6643>0,Q6643-('Výstupy modelu'!$H$10-'Výstupy modelu'!$H$9),0))","v":0},null,null,{"$f":"W6642","v":1865.4300000000003},1885.4300000000003,0,{"$f":"MAX(0,D6643-'Vstupní hodnoty'!$C$5)","v":0}]
[null,"2017-03-11T08:15:00",3,473.04,{"$f":"CEILING(IF(C6660-C6659=0,IF(H6659=0,I6659,IF(J6659>K6659,I6659,E6659)),'Výstupy modelu'!$C$7),1)","v":1664},{"$f":"IF(D6660>E6660,1,0)","v":0},0,{"$f":"IF(F6660=1,IF(G6660>'Zdrojová data'!$C$19,0,1),\"\")","v":""},{"$f":"IF(H6660=0,D6660,IF(J6660>K6660,E6660+J6660-K6660,E6660))","v":1664},{"$f":"IF(H6660=1,D6660-E6660,0)","v":0},{"$f":"MIN(J6660,'Zdrojová data'!$C$17)","v":0},0,{"$f":"L6660/'Zdrojová data'!$C$16","v":0},{"$f":"M6660*'Zdrojová data'!$C$13","v":0},{"$f":"N6660*'Zdrojová data'!$C$14","v":0},0,{"$f":"IF(H6660=0,D6660-'Výstupy modelu'!$C$7,IF(P6660=1,J6660-K6660,0))","v":0},0,null,{"$f":"MAX(0,IF(Q6660>0,Q6660-('Výstupy modelu'!$H$10-'Výstupy modelu'!$H$9),0))","v":0},null,null,{"$f":"W6659","v":1865.4300000000003},1885.4300000000003,0,{"$f":"MAX(0,D6660-'Vstupní hodnoty'!$C$5)","v":0}]
[null,"2017-03-11T17:00:00",3,203.04000000000002,{"$f":"CEILING(IF(C6695-C6694=0,IF(H6694=0,I6694,IF(J6694>K6694,I6694,E6694)),'Výstupy modelu'!$C$7),1)","v":1664},0,0,{"$f":"IF(F6695=1,IF(G6695>'Zdrojová data'!$C$19,0,1),\"\")","v":""},1664,0,{"$f":"MIN(J6695,'Zdrojová data'!$C$17)","v":0},0,{"$f":"L6695/'Zdrojová data'!$C$16","v":0},{"$f":"M6695*'Zdrojová data'!$C$13","v":0},{"$f":"N6695*'Zdrojová data'!$C$14","v":0},0,{"$f":"IF(H6695=0,D6695-'Výstupy modelu'!$C$7,IF(P6695=1,J6695-K6695,0))","v":0},0,null,{"$f":"MAX(0,IF(Q6695>0,Q6695-('Výstupy modelu'!$H$10-'Výstupy modelu'!$H$9),0))","v":0},null,null,{"$f":"W6694","v":1865.4300000000003},1885.4300000000003,0,{"$f":"MAX(0,D6695-'Vstupní hodnoty'!$C$5)","v":0}]
[null,"2017-03-11T21:15:00",3,204.12,{"$f":"CEILING(IF(C6712-C6711=0,IF(H6711=0,I6711,IF(J6711>K6711,I6711,E6711)),'Výstupy modelu'!$C$7),1)","v":1664},0,0,{"$f":"IF(F6712=1,IF(G6712>'Zdrojová data'!$C$19,0,1),\"\")","v":""},1664,0,{"$f":"MIN(J6712,'Zdrojová data'!$C$17)","v":0},0,{"$f":"L6712/'Zdrojová data'!$C$16","v":0},{"$f":"M6712*'Zdrojová data'!$C$13","v":0},{"$f":"N6712*'Zdrojová data'!$C$14","v":0},0,{"$f":"IF(H6712=0,D6712-'Výstupy modelu'!$C$7,IF(P6712=1,J6712-K6712,0))","v":0},0,null,{"$f":"MAX(0,IF(Q6712>0,Q6712-('Výstupy modelu'!$H$10-'Výstupy modelu'!$H$9),0))","v":0},null,null,{"$f":"W6711","v":1865.4300000000003},1885.4300000000003,0,{"$f":"MAX(0,D6712-'Vstupní hodnoty'!$C$5)","v":0}]
[null,"2017-03-12T13:00:00",3,184.68,{"$f":"CEILING(IF(C6775-C6774=0,IF(H6774=0,I6774,IF(J6774>K6774,I6774,E6774)),'Výstupy modelu'!$C$7),1)","v":1664},0,0,{"$f":"IF(F6775=1,IF(G6775>'Zdrojová data'!$C$19,0,1),\"\")","v":""},1664,0,{"$f":"MIN(J6775,'Zdrojová data'!$C$17)","v":0},0,{"$f":"L6775/'Zdrojová data'!$C$16","v":0},{"$f":"M6775*'Zdrojová data'!$C$13","v":0},{"$f":"N6775*'Zdrojová data'!$C$14","v":0},0,{"$f":"IF(H6775=0,D6775-'Výstupy modelu'!$C$7,IF(P6775=1,J6775-K6775,0))","v":0},0,null,{"$f":"MAX(0,IF(Q6775>0,Q6775-('Výstupy modelu'!$H$10-'Výstupy modelu'!$H$9),0))","v":0},null,null,{"$f":"W6774","v":1865.4300000000003},1885.4300000000003,0,{"$f":"MAX(0,D6775-'Vstupní hodnoty'!$C$5)","v":0}]
[null,"2017-03-12T18:30:00",3,187.92000000000002,{"$f":"CEILING(IF(C6797-C6796=0,IF(H6796=0,I6796,IF(J6796>K6796,I6796,E6796)),'Výstupy modelu'!$C$7),1)","v":1664},0,0,{"$f":"IF(F6797=1,IF(G6797>'Zdrojová data'!$C$19,0,1),\"\")","v":""},1664,0,{"$f":"MIN(J6797,'Zdrojová data'!$C$17)","v":0},0,{"$f":"L6797/'Zdrojová data'!$C$16","v":0},{"$f":"M6797*'Zdrojová data'!$C$13","v":0},{"$f":"N6797*'Zdrojová data'!$C$14","v":0},0,{"$f":"IF(H6797=0,D6797-'Výstupy modelu'!$C$7,IF(P6797=1,J6797-K6797,0))","v":0},0,null,{"$f":"MAX(0,IF(Q6797>0,Q6797-('Výstupy modelu'!$H$10-'Výstupy modelu'!$H$9),0))","v":0},null,null,{"$f":"W6796","v":1865.4300000000003},1885.4300000000003,0,{"$f":"MAX(0,D6797-'Vstupní hodnoty'!$C$5)","v":0}]
[null,"2017-03-12T22:45:00",3,277.56,{"$f":"CEILING(IF(C6814-C6813=0,IF(H6813=0,I6813,IF(J6813>K6813,I6813,E6813)),'Výstupy modelu'!$C$7),1)","v":1664},0,0,{"$f":"IF(F6814=1,IF(G6814>'Zdrojová data'!$C$19,0,1),\"\")","v":""},1664,0,{"$f":"MIN(J6814,'Zdrojová data'!$C$17)","v":0},0,{"$f":"L6814/'Zdrojová data'!$C$16","v":0},{"$f":"M6814*'Zdrojová data'!$C$13","v":0},{"$f":"N6814*'Zdrojová data'!$C$14","v":0},0,{"$f":"IF(H6814=0,D6814-'Výstupy modelu'!$C$7,IF(P6814=1,J6814-K6814,0))","v":0},0,null,{"$f":"MAX(0,IF(Q6814>0,Q6814-('Výstupy modelu'!$H$10-'Výstupy modelu'!$H$9),0))","v":0},null,null,{"$f":"W6813","v":1865.4300000000003},1885.4300000000003,0,{"$f":"MAX(0,D6814-'Vstupní hodnoty'!$C$5)","v":0}]
[null,"2017-03-13T07:30:00",3,1382.4,{"$f":"CEILING(IF(C6849-C6848=0,IF(H6848=0,I6848,IF(J6848>K6848,I6848,E6848)),'Výstupy modelu'!$C$7),1)","v":1664},0,0,{"$f":"IF(F6849=1,IF(G6849>'Zdrojová data'!$C$19,0,1),\"\")","v":""},1664,0,{"$f":"MIN(J6849,'Zdrojová data'!$C$17)","v":0},0,{"$f":"L6849/'Zdrojová data'!$C$16","v":0},{"$f":"M6849*'Zdrojová data'!$C$13","v":0},{"$f":"N6849*'Zdrojová data'!$C$14","v":0},0,{"$f":"IF(H6849=0,D6849-'Výstupy modelu'!$C$7,IF(P6849=1,J6849-K6849,0))","v":0},0,null,{"$f":"MAX(0,IF(Q6849>0,Q6849-('Výstupy modelu'!$H$10-'Výstupy modelu'!$H$9),0))","v":0},null,null,{"$f":"W6848","v":1865.4300000000003},1885.4300000000003,0,{"$f":"MAX(0,D6849-'Vstupní hodnoty'!$C$5)","v":0}]
[null,"2017-03-13T20:15:00",3,665.28000000000009,{"$f":"CEILING(IF(C6900-C6899=0,IF(H6899=0,I6899,IF(J6899>K6899,I6899,E6899)),'Výstupy modelu'!$C$7),1)","v":1664},0,0,{"$f":"IF(F6900=1,IF(G6900>'Zdrojová data'!$C$19,0,1),\"\")","v":""},1664,0,{"$f":"MIN(J6900,'Zdrojová data'!$C$17)","v":0},0,{"$f":"L6900/'Zdrojová data'!$C$16","v":0},{"$f":"M6900*'Zdrojová data'!$C$13","v":0},{"$f":"N6900*'Zdrojová data'!$C$14","v":0},0,{"$f":"IF(H6900=0,D6900-'Výstupy modelu'!$C$7,IF(P6900=1,J6900-K6900,0))","v":0},0,null,{"$f":"MAX(0,IF(Q6900>0,Q6900-('Výstupy modelu'!$H$10-'Výstupy modelu'!$H$9),0))","v":0},null,null,{"$f":"W6899","v":1865.4300000000003},1885.4300000000003,0,{"$f":"MAX(0,D6900-'Vstupní hodnoty'!$C$5)","v":0}]
[null,"2017-03-14T00:15:00",3,349.92,{"$f":"CEILING(IF(C6916-C6915=0,IF(H6915=0,I6915,IF(J6915>K6915,I6915,E6915)),'Výstupy modelu'!$C$7),1)","v":1664},{"$f":"IF(D6916>E6916,1,0)","v":0},0,{"$f":"IF(F6916=1,IF(G6916>'Zdrojová data'!$C$19,0,1),\"\")","v":""},{"$f":"IF(H6916=0,D6916,IF(J6916>K6916,E6916+J6916-K6916,E6916))","v":1664},{"$f":"IF(H6916=1,D6916-E6916,0)","v":0},{"$f":"MIN(J6916,'Zdrojová data'!$C$17)","v":0},0,{"$f":"L6916/'Zdrojová data'!$C$16","v":0},{"$f":"M6916*'Zdrojová data'!$C$13","v":0},{"$f":"N6916*'Zdrojová data'!$C$14","v":0},0,{"$f":"IF(H6916=0,D6916-'Výstupy modelu'!$C$7,IF(P6916=1,J6916-K6916,0))","v":0},0,null,{"$f":"MAX(0,IF(Q6916>0,Q6916-('Výstupy modelu'!$H$10-'Výstupy modelu'!$H$9),0))","v":0},null,null,{"$f":"W6915","v":1865.4300000000003},1885.4300000000003,0,{"$f":"MAX(0,D6916-'Vstupní hodnoty'!$C$5)","v":0}]
[null,"2017-03-14T09:00:00",3,1379.16,{"$f":"CEILING(IF(C6951-C6950=0,IF(H6950=0,I6950,IF(J6950>K6950,I6950,E6950)),'Výstupy modelu'!$C$7),1)","v":1664},0,0,{"$f":"IF(F6951=1,IF(G6951>'Zdrojová data'!$C$19,0,1),\"\")","v":""},1664,0,{"$f":"MIN(J6951,'Zdrojová data'!$C$17)","v":0},0,{"$f":"L6951/'Zdrojová data'!$C$16","v":0},{"$f":"M6951*'Zdrojová data'!$C$13","v":0},{"$f":"N6951*'Zdrojová data'!$C$14","v":0},0,{"$f":"IF(H6951=0,D6951-'Výstupy modelu'!$C$7,IF(P6951=1,J6951-K6951,0))","v":0},0,null,{"$f":"MAX(0,IF(Q6951>0,Q6951-('Výstupy modelu'!$H$10-'Výstupy modelu'!$H$9),0))","v":0},null,null,{"$f":"W6950","v":1865.4300000000003},1885.4300000000003,0,{"$f":"MAX(0,D6951-'Vstupní hodnoty'!$C$5)","v":0}]
[null,"2017-03-14T21:45:00",3,563.76,{"$f":"CEILING(IF(C7002-C7001=0,IF(H7001=0,I7001,IF(J7001>K7001,I7001,E7001)),'Výstupy modelu'!$C$7),1)","v":1664},0,0,{"$f":"IF(F7002=1,IF(G7002>'Zdrojová data'!$C$19,0,1),\"\")","v":""},1664,0,{"$f":"MIN(J7002,'Zdrojová data'!$C$17)","v":0},0,{"$f":"L7002/'Zdrojová data'!$C$16","v":0},{"$f":"M7002*'Zdrojová data'!$C$13","v":0},{"$f":"N7002*'Zdrojová data'!$C$14","v":0},0,{"$f":"IF(H7002=0,D7002-'Výstupy modelu'!$C$7,IF(P7002=1,J7002-K7002,0))","v":0},0,null,{"$f":"MAX(0,IF(Q7002>0,Q7002-('Výstupy modelu'!$H$10-'Výstupy modelu'!$H$9),0))","v":0},null,null,{"$f":"W7001","v":1865.4300000000003},1885.4300000000003,0,{"$f":"MAX(0,D7002-'Vstupní hodnoty'!$C$5)","v":0}]
[null,"2017-03-15T02:00:00",3,452.52000000000004,{"$f":"CEILING(IF(C7019-C7018=0,IF(H7018=0,I7018,IF(J7018>K7018,I7018,E7018)),'Výstupy modelu'!$C$7),1)","v":1664},0,0,{"$f":"IF(F7019=1,IF(G7019>'Zdrojová data'!$C$19,0,1),\"\")","v":""},1664,0,{"$f":"MIN(J7019,'Zdrojová data'!$C$17)","v":0},0,{"$f":"L7019/'Zdrojová data'!$C$16","v":0},{"$f":"M7019*'Zdrojová data'!$C$13","v":0},{"$f":"N7019*'Zdrojová data'!$C$14","v":0},0,{"$f":"IF(H7019=0,D7019-'Výstupy modelu'!$C$7,IF(P7019=1,J7019-K7019,0))","v":0},0,null,{"$f":"MAX(0,IF(Q7019>0,Q7019-('Výstupy modelu'!$H$10-'Výstupy modelu'!$H$9),0))","v":0},null,null,{"$f":"W7018","v":1865.4300000000003},1885.4300000000003,0,{"$f":"MAX(0,D7019-'Vstupní hodnoty'!$C$5)","v":0}]
[null,"2017-03-15T10:45:00",3,1389.96,{"$f":"CEILING(IF(C7054-C7053=0,IF(H7053=0,I7053,IF(J7053>K7053,I7053,E7053)),'Výstupy modelu'!$C$7),1)","v":1664},0,0,{"$f":"IF(F7054=1,IF(G7054>'Zdrojová data'!$C$19,0,1),\"\")","v":""},1664,0,{"$f":"MIN(J7054,'Zdrojová data'!$C$17)","v":0},0,{"$f":"L7054/'Zdrojová data'!$C$16","v":0},{"$f":"M7054*'Zdrojová data'!$C$13","v":0},{"$f":"N7054*'Zdrojová data'!$C$14","v":0},0,{"$f":"IF(H7054=0,D7054-'Výstupy modelu'!$C$7,IF(P7054=1,J7054-K7054,0))","v":0},0,null,{"$f":"MAX(0,IF(Q7054>0,Q7054-('Výstupy modelu'!$H$10-'Výstupy modelu'!$H$9),0))","v":0},null,null,{"$f":"W7053","v":1865.4300000000003},1885.4300000000003,0,{"$f":"MAX(0,D7054-'Vstupní hodnoty'!$C$5)","v":0}]
[null,"2017-03-15T19:45:00",3,834.84,{"$f":"CEILING(IF(C7090-C7089=0,IF(H7089=0,I7089,IF(J7089>K7089,I7089,E7089)),'Výstupy modelu'!$C$7),1)","v":1664},0,0,{"$f":"IF(F7090=1,IF(G7090>'Zdrojová data'!$C$19,0,1),\"\")","v":""},1664,0,{"$f":"MIN(J7090,'Zdrojová data'!$C$17)","v":0},0,{"$f":"L7090/'Zdrojová data'!$C$16","v":0},{"$f":"M7090*'Zdrojová data'!$C$13","v":0},{"$f":"N7090*'Zdrojová data'!$C$14","v":0},0,{"$f":"IF(H7090=0,D7090-'Výstupy modelu'!$C$7,IF(P7090=1,J7090-K7090,0))","v":0},0,null,{"$f":"MAX(0,IF(Q7090>0,Q7090-('Výstupy modelu'!$H$10-'Výstupy modelu'!$H$9),0))","v":0},null,null,{"$f":"W7089","v":1865.4300000000003},1885.4300000000003,0,{"$f":"MAX(0,D7090-'Vstupní hodnoty'!$C$5)","v":0}]
[null,"2017-03-16T08:00:00",3,1299.24,{"$f":"CEILING(IF(C7139-C7138=0,IF(H7138=0,I7138,IF(J7138>K7138,I7138,E7138)),'Výstupy modelu'!$C$7),1)","v":1664},0,0,{"$f":"IF(F7139=1,IF(G7139>'Zdrojová data'!$C$19,0,1),\"\")","v":""},1664,0,{"$f":"MIN(J7139,'Zdrojová data'!$C$17)","v":0},0,{"$f":"L7139/'Zdrojová data'!$C$16","v":0},{"$f":"M7139*'Zdrojová data'!$C$13","v":0},{"$f":"N7139*'Zdrojová data'!$C$14","v":0},0,{"$f":"IF(H7139=0,D7139-'Výstupy modelu'!$C$7,IF(P7139=1,J7139-K7139,0))","v":0},0,null,{"$f":"MAX(0,IF(Q7139>0,Q7139-('Výstupy modelu'!$H$10-'Výstupy modelu'!$H$9),0))","v":0},null,null,{"$f":"W7138","v":1865.4300000000003},1885.4300000000003,0,{"$f":"MAX(0,D7139-'Vstupní hodnoty'!$C$5)","v":0}]
[null,"2017-03-16T12:15:00",3,1024.92,{"$f":"CEILING(IF(C7156-C7155=0,IF(H7155=0,I7155,IF(J7155>K7155,I7155,E7155)),'Výstupy modelu'!$C$7),1)","v":1664},0,0,{"$f":"IF(F7156=1,IF(G7156>'Zdrojová data'!$C$19,0,1),\"\")","v":""},1664,0,{"$f":"MIN(J7156,'Zdrojová data'!$C$17)","v":0},0,{"$f":"L7156/'Zdrojová data'!$C$16","v":0},{"$f":"M7156*'Zdrojová data'!$C$13","v":0},{"$f":"N7156*'Zdrojová data'!$C$14","v":0},0,{"$f":"IF(H7156=0,D7156-'Výstupy modelu'!$C$7,IF(P7156=1,J7156-K7156,0))","v":0},0,null,{"$f":"MAX(0,IF(Q7156>0,Q7156-('Výstupy modelu'!$H$10-'Výstupy modelu'!$H$9),0))","v":0},null,null,{"$f":"W7155","v":1865.4300000000003},1885.4300000000003,0,{"$f":"MAX(0,D7156-'Vstupní hodnoty'!$C$5)","v":0}]
[null,"2017-03-17T01:00:00",3,329.40000000000003,{"$f":"CEILING(IF(C7207-C7206=0,IF(H7206=0,I7206,IF(J7206>K7206,I7206,E7206)),'Výstupy modelu'!$C$7),1)","v":1664},0,0,{"$f":"IF(F7207=1,IF(G7207>'Zdrojová data'!$C$19,0,1),\"\")","v":""},1664,0,{"$f":"MIN(J7207,'Zdrojová data'!$C$17)","v":0},0,{"$f":"L7207/'Zdrojová data'!$C$16","v":0},{"$f":"M7207*'Zdrojová data'!$C$13","v":0},{"$f":"N7207*'Zdrojová data'!$C$14","v":0},0,{"$f":"IF(H7207=0,D7207-'Výstupy modelu'!$C$7,IF(P7207=1,J7207-K7207,0))","v":0},0,null,{"$f":"MAX(0,IF(Q7207>0,Q7207-('Výstupy modelu'!$H$10-'Výstupy modelu'!$H$9),0))","v":0},null,null,{"$f":"W7206","v":1865.4300000000003},1885.4300000000003,0,{"$f":"MAX(0,D7207-'Vstupní hodnoty'!$C$5)","v":0}]
[null,"2017-03-17T09:45:00",3,1290.6000000000001,{"$f":"CEILING(IF(C7242-C7241=0,IF(H7241=0,I7241,IF(J7241>K7241,I7241,E7241)),'Výstupy modelu'!$C$7),1)","v":1664},0,0,{"$f":"IF(F7242=1,IF(G7242>'Zdrojová data'!$C$19,0,1),\"\")","v":""},1664,0,{"$f":"MIN(J7242,'Zdrojová data'!$C$17)","v":0},0,{"$f":"L7242/'Zdrojová data'!$C$16","v":0},{"$f":"M7242*'Zdrojová data'!$C$13","v":0},{"$f":"N7242*'Zdrojová data'!$C$14","v":0},0,{"$f":"IF(H7242=0,D7242-'Výstupy modelu'!$C$7,IF(P7242=1,J7242-K7242,0))","v":0},0,null,{"$f":"MAX(0,IF(Q7242>0,Q7242-('Výstupy modelu'!$H$10-'Výstupy modelu'!$H$9),0))","v":0},null,null,{"$f":"W7241","v":1865.4300000000003},1885.4300000000003,0,{"$f":"MAX(0,D7242-'Vstupní hodnoty'!$C$5)","v":0}]
[null,"2017-03-17T15:15:00",3,951.48,{"$f":"CEILING(IF(C7264-C7263=0,IF(H7263=0,I7263,IF(J7263>K7263,I7263,E7263)),'Výstupy modelu'!$C$7),1)","v":1664},0,0,{"$f":"IF(F7264=1,IF(G7264>'Zdrojová data'!$C$19,0,1),\"\")","v":""},1664,0,{"$f":"MIN(J7264,'Zdrojová data'!$C$17)","v":0},0,{"$f":"L7264/'Zdrojová data'!$C$16","v":0},{"$f":"M7264*'Zdrojová data'!$C$13","v":0},{"$f":"N7264*'Zdrojová data'!$C$14","v":0},0,{"$f":"IF(H7264=0,D7264-'Výstupy modelu'!$C$7,IF(P7264=1,J7264-K7264,0))","v":0},0,null,{"$f":"MAX(0,IF(Q7264>0,Q7264-('Výstupy modelu'!$H$10-'Výstupy modelu'!$H$9),0))","v":0},null,null,{"$f":"W7263","v":1865.4300000000003},1885.4300000000003,0,{"$f":"MAX(0,D7264-'Vstupní hodnoty'!$C$5)","v":0}]
[null,"2017-03-17T22:30:00",3,316.44,{"$f":"CEILING(IF(C7293-C7292=0,IF(H7292=0,I7292,IF(J7292>K7292,I7292,E7292)),'Výstupy modelu'!$C$7),1)","v":1664},0,0,{"$f":"IF(F7293=1,IF(G7293>'Zdrojová data'!$C$19,0,1),\"\")","v":""},1664,0,{"$f":"MIN(J7293,'Zdrojová data'!$C$17)","v":0},0,{"$f":"L7293/'Zdrojová data'!$C$16","v":0},{"$f":"M7293*'Zdrojová data'!$C$13","v":0},{"$f":"N7293*'Zdrojová data'!$C$14","v":0},0,{"$f":"IF(H7293=0,D7293-'Výstupy modelu'!$C$7,IF(P7293=1,J7293-K7293,0))","v":0},0,null,{"$f":"MAX(0,IF(Q7293>0,Q7293-('Výstupy modelu'!$H$10-'Výstupy modelu'!$H$9),0))","v":0},null,null,{"$f":"W7292","v":1865.4300000000003},1885.4300000000003,0,{"$f":"MAX(0,D7293-'Vstupní hodnoty'!$C$5)","v":0}]
[null,"2017-03-18T11:15:00",3,471.96000000000004,{"$f":"CEILING(IF(C7344-C7343=0,IF(H7343=0,I7343,IF(J7343>K7343,I7343,E7343)),'Výstupy modelu'!$C$7),1)","v":1664},0,0,{"$f":"IF(F7344=1,IF(G7344>'Zdrojová data'!$C$19,0,1),\"\")","v":""},1664,0,{"$f":"MIN(J7344,'Zdrojová data'!$C$17)","v":0},0,{"$f":"L7344/'Zdrojová data'!$C$16","v":0},{"$f":"M7344*'Zdrojová data'!$C$13","v":0},{"$f":"N7344*'Zdrojová data'!$C$14","v":0},0,{"$f":"IF(H7344=0,D7344-'Výstupy modelu'!$C$7,IF(P7344=1,J7344-K7344,0))","v":0},0,null,{"$f":"MAX(0,IF(Q7344>0,Q7344-('Výstupy modelu'!$H$10-'Výstupy modelu'!$H$9),0))","v":0},null,null,{"$f":"W7343","v":1865.4300000000003},1885.4300000000003,0,{"$f":"MAX(0,D7344-'Vstupní hodnoty'!$C$5)","v":0}]
[null,"2017-03-18T15:30:00",3,225.72000000000003,{"$f":"CEILING(IF(C7361-C7360=0,IF(H7360=0,I7360,IF(J7360>K7360,I7360,E7360)),'Výstupy modelu'!$C$7),1)","v":1664},0,0,{"$f":"IF(F7361=1,IF(G7361>'Zdrojová data'!$C$19,0,1),\"\")","v":""},1664,0,{"$f":"MIN(J7361,'Zdrojová data'!$C$17)","v":0},0,{"$f":"L7361/'Zdrojová data'!$C$16","v":0},{"$f":"M7361*'Zdrojová data'!$C$13","v":0},{"$f":"N7361*'Zdrojová data'!$C$14","v":0},0,{"$f":"IF(H7361=0,D7361-'Výstupy modelu'!$C$7,IF(P7361=1,J7361-K7361,0))","v":0},0,null,{"$f":"MAX(0,IF(Q7361>0,Q7361-('Výstupy modelu'!$H$10-'Výstupy modelu'!$H$9),0))","v":0},null,null,{"$f":"W7360","v":1865.4300000000003},1885.4300000000003,0,{"$f":"MAX(0,D7361-'Vstupní hodnoty'!$C$5)","v":0}]
[null,"2017-03-19T00:15:00",3,208.44000000000003,{"$f":"CEILING(IF(C7396-C7395=0,IF(H7395=0,I7395,IF(J7395>K7395,I7395,E7395)),'Výstupy modelu'!$C$7),1)","v":1664},0,0,{"$f":"IF(F7396=1,IF(G7396>'Zdrojová data'!$C$19,0,1),\"\")","v":""},1664,0,{"$f":"MIN(J7396,'Zdrojová data'!$C$17)","v":0},0,{"$f":"L7396/'Zdrojová data'!$C$16","v":0},{"$f":"M7396*'Zdrojová data'!$C$13","v":0},{"$f":"N7396*'Zdrojová data'!$C$14","v":0},0,{"$f":"IF(H7396=0,D7396-'Výstupy modelu'!$C$7,IF(P7396=1,J7396-K7396,0))","v":0},0,null,{"$f":"MAX(0,IF(Q7396>0,Q7396-('Výstupy modelu'!$H$10-'Výstupy modelu'!$H$9),0))","v":0},null,null,{"$f":"W7395","v":1865.4300000000003},1885.4300000000003,0,{"$f":"MAX(0,D7396-'Vstupní hodnoty'!$C$5)","v":0}]
[null,"2017-03-19T10:45:00",3,205.20000000000002,{"$f":"CEILING(IF(C7438-C7437=0,IF(H7437=0,I7437,IF(J7437>K7437,I7437,E7437)),'Výstupy modelu'!$C$7),1)","v":1664},0,0,{"$f":"IF(F7438=1,IF(G7438>'Zdrojová data'!$C$19,0,1),\"\")","v":""},1664,0,{"$f":"MIN(J7438,'Zdrojová data'!$C$17)","v":0},0,{"$f":"L7438/'Zdrojová data'!$C$16","v":0},{"$f":"M7438*'Zdrojová data'!$C$13","v":0},{"$f":"N7438*'Zdrojová data'!$C$14","v":0},0,{"$f":"IF(H7438=0,D7438-'Výstupy modelu'!$C$7,IF(P7438=1,J7438-K7438,0))","v":0},0,null,{"$f":"MAX(0,IF(Q7438>0,Q7438-('Výstupy modelu'!$H$10-'Výstupy modelu'!$H$9),0))","v":0},null,null,{"$f":"W7437","v":1865.4300000000003},1885.4300000000003,0,{"$f":"MAX(0,D7438-'Vstupní hodnoty'!$C$5)","v":0}]
[null,"2017-03-19T17:00:00",3,206.28,{"$f":"CEILING(IF(C7463-C7462=0,IF(H7462=0,I7462,IF(J7462>K7462,I7462,E7462)),'Výstupy modelu'!$C$7),1)","v":1664},0,0,{"$f":"IF(F7463=1,IF(G7463>'Zdrojová data'!$C$19,0,1),\"\")","v":""},1664,0,{"$f":"MIN(J7463,'Zdrojová data'!$C$17)","v":0},0,{"$f":"L7463/'Zdrojová data'!$C$16","v":0},{"$f":"M7463*'Zdrojová data'!$C$13","v":0},{"$f":"N7463*'Zdrojová data'!$C$14","v":0},0,{"$f":"IF(H7463=0,D7463-'Výstupy modelu'!$C$7,IF(P7463=1,J7463-K7463,0))","v":0},0,null,{"$f":"MAX(0,IF(Q7463>0,Q7463-('Výstupy modelu'!$H$10-'Výstupy modelu'!$H$9),0))","v":0},null,null,{"$f":"W7462","v":1865.4300000000003},1885.4300000000003,0,{"$f":"MAX(0,D7463-'Vstupní hodnoty'!$C$5)","v":0}]
[null,"2017-03-20T01:45:00",3,303.48,{"$f":"CEILING(IF(C7498-C7497=0,IF(H7497=0,I7497,IF(J7497>K7497,I7497,E7497)),'Výstupy modelu'!$C$7),1)","v":1664},0,0,{"$f":"IF(F7498=1,IF(G7498>'Zdrojová data'!$C$19,0,1),\"\")","v":""},1664,0,{"$f":"MIN(J7498,'Zdrojová data'!$C$17)","v":0},0,{"$f":"L7498/'Zdrojová data'!$C$16","v":0},{"$f":"M7498*'Zdrojová data'!$C$13","v":0},{"$f":"N7498*'Zdrojová data'!$C$14","v":0},0,{"$f":"IF(H7498=0,D7498-'Výstupy modelu'!$C$7,IF(P7498=1,J7498-K7498,0))","v":0},0,null,{"$f":"MAX(0,IF(Q7498>0,Q7498-('Výstupy modelu'!$H$10-'Výstupy modelu'!$H$9),0))","v":0},null,null,{"$f":"W7497","v":1865.4300000000003},1885.4300000000003,0,{"$f":"MAX(0,D7498-'Vstupní hodnoty'!$C$5)","v":0}]
[null,"2017-03-20T14:30:00",3,1151.28,{"$f":"CEILING(IF(C7549-C7548=0,IF(H7548=0,I7548,IF(J7548>K7548,I7548,E7548)),'Výstupy modelu'!$C$7),1)","v":1664},0,0,{"$f":"IF(F7549=1,IF(G7549>'Zdrojová data'!$C$19,0,1),\"\")","v":""},1664,0,{"$f":"MIN(J7549,'Zdrojová data'!$C$17)","v":0},0,{"$f":"L7549/'Zdrojová data'!$C$16","v":0},{"$f":"M7549*'Zdrojová data'!$C$13","v":0},{"$f":"N7549*'Zdrojová data'!$C$14","v":0},0,{"$f":"IF(H7549=0,D7549-'Výstupy modelu'!$C$7,IF(P7549=1,J7549-K7549,0))","v":0},0,null,{"$f":"MAX(0,IF(Q7549>0,Q7549-('Výstupy modelu'!$H$10-'Výstupy modelu'!$H$9),0))","v":0},null,null,{"$f":"W7548","v":1865.4300000000003},1885.4300000000003,0,{"$f":"MAX(0,D7549-'Vstupní hodnoty'!$C$5)","v":0}]
[null,"2017-03-20T23:15:00",3,432,{"$f":"CEILING(IF(C7584-C7583=0,IF(H7583=0,I7583,IF(J7583>K7583,I7583,E7583)),'Výstupy modelu'!$C$7),1)","v":1664},0,0,{"$f":"IF(F7584=1,IF(G7584>'Zdrojová data'!$C$19,0,1),\"\")","v":""},1664,0,{"$f":"MIN(J7584,'Zdrojová data'!$C$17)","v":0},0,{"$f":"L7584/'Zdrojová data'!$C$16","v":0},{"$f":"M7584*'Zdrojová data'!$C$13","v":0},{"$f":"N7584*'Zdrojová data'!$C$14","v":0},0,{"$f":"IF(H7584=0,D7584-'Výstupy modelu'!$C$7,IF(P7584=1,J7584-K7584,0))","v":0},0,null,{"$f":"MAX(0,IF(Q7584>0,Q7584-('Výstupy modelu'!$H$10-'Výstupy modelu'!$H$9),0))","v":0},null,null,{"$f":"W7583","v":1865.4300000000003},1885.4300000000003,0,{"$f":"MAX(0,D7584-'Vstupní hodnoty'!$C$5)","v":0}]
[null,"2017-03-21T06:15:00",3,1260.3600000000001,{"$f":"CEILING(IF(C7612-C7611=0,IF(H7611=0,I7611,IF(J7611>K7611,I7611,E7611)),'Výstupy modelu'!$C$7),1)","v":1664},0,0,{"$f":"IF(F7612=1,IF(G7612>'Zdrojová data'!$C$19,0,1),\"\")","v":""},1664,0,{"$f":"MIN(J7612,'Zdrojová data'!$C$17)","v":0},0,{"$f":"L7612/'Zdrojová data'!$C$16","v":0},{"$f":"M7612*'Zdrojová data'!$C$13","v":0},{"$f":"N7612*'Zdrojová data'!$C$14","v":0},0,{"$f":"IF(H7612=0,D7612-'Výstupy modelu'!$C$7,IF(P7612=1,J7612-K7612,0))","v":0},0,null,{"$f":"MAX(0,IF(Q7612>0,Q7612-('Výstupy modelu'!$H$10-'Výstupy modelu'!$H$9),0))","v":0},null,null,{"$f":"W7611","v":1865.4300000000003},1885.4300000000003,0,{"$f":"MAX(0,D7612-'Vstupní hodnoty'!$C$5)","v":0}]
[null,"2017-03-21T16:00:00",3,808.92000000000007,{"$f":"CEILING(IF(C7651-C7650=0,IF(H7650=0,I7650,IF(J7650>K7650,I7650,E7650)),'Výstupy modelu'!$C$7),1)","v":1664},0,0,{"$f":"IF(F7651=1,IF(G7651>'Zdrojová data'!$C$19,0,1),\"\")","v":""},1664,0,{"$f":"MIN(J7651,'Zdrojová data'!$C$17)","v":0},0,{"$f":"L7651/'Zdrojová data'!$C$16","v":0},{"$f":"M7651*'Zdrojová data'!$C$13","v":0},{"$f":"N7651*'Zdrojová data'!$C$14","v":0},0,{"$f":"IF(H7651=0,D7651-'Výstupy modelu'!$C$7,IF(P7651=1,J7651-K7651,0))","v":0},0,null,{"$f":"MAX(0,IF(Q7651>0,Q7651-('Výstupy modelu'!$H$10-'Výstupy modelu'!$H$9),0))","v":0},null,null,{"$f":"W7650","v":1865.4300000000003},1885.4300000000003,0,{"$f":"MAX(0,D7651-'Vstupní hodnoty'!$C$5)","v":0}]
[null,"2017-03-22T00:45:00",3,353.16,{"$f":"CEILING(IF(C7686-C7685=0,IF(H7685=0,I7685,IF(J7685>K7685,I7685,E7685)),'Výstupy modelu'!$C$7),1)","v":1664},0,0,{"$f":"IF(F7686=1,IF(G7686>'Zdrojová data'!$C$19,0,1),\"\")","v":""},1664,0,{"$f":"MIN(J7686,'Zdrojová data'!$C$17)","v":0},0,{"$f":"L7686/'Zdrojová data'!$C$16","v":0},{"$f":"M7686*'Zdrojová data'!$C$13","v":0},{"$f":"N7686*'Zdrojová data'!$C$14","v":0},0,{"$f":"IF(H7686=0,D7686-'Výstupy modelu'!$C$7,IF(P7686=1,J7686-K7686,0))","v":0},0,null,{"$f":"MAX(0,IF(Q7686>0,Q7686-('Výstupy modelu'!$H$10-'Výstupy modelu'!$H$9),0))","v":0},null,null,{"$f":"W7685","v":1865.4300000000003},1885.4300000000003,0,{"$f":"MAX(0,D7686-'Vstupní hodnoty'!$C$5)","v":0}]
[null,"2017-03-22T05:00:00",3,515.16000000000008,{"$f":"CEILING(IF(C7703-C7702=0,IF(H7702=0,I7702,IF(J7702>K7702,I7702,E7702)),'Výstupy modelu'!$C$7),1)","v":1664},0,0,{"$f":"IF(F7703=1,IF(G7703>'Zdrojová data'!$C$19,0,1),\"\")","v":""},1664,0,{"$f":"MIN(J7703,'Zdrojová data'!$C$17)","v":0},0,{"$f":"L7703/'Zdrojová data'!$C$16","v":0},{"$f":"M7703*'Zdrojová data'!$C$13","v":0},{"$f":"N7703*'Zdrojová data'!$C$14","v":0},0,{"$f":"IF(H7703=0,D7703-'Výstupy modelu'!$C$7,IF(P7703=1,J7703-K7703,0))","v":0},0,null,{"$f":"MAX(0,IF(Q7703>0,Q7703-('Výstupy modelu'!$H$10-'Výstupy modelu'!$H$9),0))","v":0},null,null,{"$f":"W7702","v":1865.4300000000003},1885.4300000000003,0,{"$f":"MAX(0,D7703-'Vstupní hodnoty'!$C$5)","v":0}]
[null,"2017-03-22T13:45:00",3,1354.3200000000002,{"$f":"CEILING(IF(C7738-C7737=0,IF(H7737=0,I7737,IF(J7737>K7737,I7737,E7737)),'Výstupy modelu'!$C$7),1)","v":1664},0,0,{"$f":"IF(F7738=1,IF(G7738>'Zdrojová data'!$C$19,0,1),\"\")","v":""},1664,0,{"$f":"MIN(J7738,'Zdrojová data'!$C$17)","v":0},0,{"$f":"L7738/'Zdrojová data'!$C$16","v":0},{"$f":"M7738*'Zdrojová data'!$C$13","v":0},{"$f":"N7738*'Zdrojová data'!$C$14","v":0},0,{"$f":"IF(H7738=0,D7738-'Výstupy modelu'!$C$7,IF(P7738=1,J7738-K7738,0))","v":0},0,null,{"$f":"MAX(0,IF(Q7738>0,Q7738-('Výstupy modelu'!$H$10-'Výstupy modelu'!$H$9),0))","v":0},null,null,{"$f":"W7737","v":1865.4300000000003},1885.4300000000003,0,{"$f":"MAX(0,D7738-'Vstupní hodnoty'!$C$5)","v":0}]
[null,"2017-03-23T01:45:00",3,483.84000000000003,{"$f":"CEILING(IF(C7786-C7785=0,IF(H7785=0,I7785,IF(J7785>K7785,I7785,E7785)),'Výstupy modelu'!$C$7),1)","v":1664},0,0,{"$f":"IF(F7786=1,IF(G7786>'Zdrojová data'!$C$19,0,1),\"\")","v":""},1664,0,{"$f":"MIN(J7786,'Zdrojová data'!$C$17)","v":0},0,{"$f":"L7786/'Zdrojová data'!$C$16","v":0},{"$f":"M7786*'Zdrojová data'!$C$13","v":0},{"$f":"N7786*'Zdrojová data'!$C$14","v":0},0,{"$f":"IF(H7786=0,D7786-'Výstupy modelu'!$C$7,IF(P7786=1,J7786-K7786,0))","v":0},0,null,{"$f":"MAX(0,IF(Q7786>0,Q7786-('Výstupy modelu'!$H$10-'Výstupy modelu'!$H$9),0))","v":0},null,null,{"$f":"W7785","v":1865.4300000000003},1885.4300000000003,0,{"$f":"MAX(0,D7786-'Vstupní hodnoty'!$C$5)","v":0}]
[null,"2017-03-23T06:30:00",3,1329.48,{"$f":"CEILING(IF(C7805-C7804=0,IF(H7804=0,I7804,IF(J7804>K7804,I7804,E7804)),'Výstupy modelu'!$C$7),1)","v":1664},0,0,{"$f":"IF(F7805=1,IF(G7805>'Zdrojová data'!$C$19,0,1),\"\")","v":""},1664,0,{"$f":"MIN(J7805,'Zdrojová data'!$C$17)","v":0},0,{"$f":"L7805/'Zdrojová data'!$C$16","v":0},{"$f":"M7805*'Zdrojová data'!$C$13","v":0},{"$f":"N7805*'Zdrojová data'!$C$14","v":0},0,{"$f":"IF(H7805=0,D7805-'Výstupy modelu'!$C$7,IF(P7805=1,J7805-K7805,0))","v":0},0,null,{"$f":"MAX(0,IF(Q7805>0,Q7805-('Výstupy modelu'!$H$10-'Výstupy modelu'!$H$9),0))","v":0},null,null,{"$f":"W7804","v":1865.4300000000003},1885.4300000000003,0,{"$f":"MAX(0,D7805-'Vstupní hodnoty'!$C$5)","v":0}]
[null,"2017-03-23T15:15:00",3,1003.32,{"$f":"CEILING(IF(C7840-C7839=0,IF(H7839=0,I7839,IF(J7839>K7839,I7839,E7839)),'Výstupy modelu'!$C$7),1)","v":1664},0,0,{"$f":"IF(F7840=1,IF(G7840>'Zdrojová data'!$C$19,0,1),\"\")","v":""},1664,0,{"$f":"MIN(J7840,'Zdrojová data'!$C$17)","v":0},0,{"$f":"L7840/'Zdrojová data'!$C$16","v":0},{"$f":"M7840*'Zdrojová data'!$C$13","v":0},{"$f":"N7840*'Zdrojová data'!$C$14","v":0},0,{"$f":"IF(H7840=0,D7840-'Výstupy modelu'!$C$7,IF(P7840=1,J7840-K7840,0))","v":0},0,null,{"$f":"MAX(0,IF(Q7840>0,Q7840-('Výstupy modelu'!$H$10-'Výstupy modelu'!$H$9),0))","v":0},null,null,{"$f":"W7839","v":1865.4300000000003},1885.4300000000003,0,{"$f":"MAX(0,D7840-'Vstupní hodnoty'!$C$5)","v":0}]
[null,"2017-03-24T04:00:00",3,470.88000000000005,{"$f":"CEILING(IF(C7891-C7890=0,IF(H7890=0,I7890,IF(J7890>K7890,I7890,E7890)),'Výstupy modelu'!$C$7),1)","v":1664},0,0,{"$f":"IF(F7891=1,IF(G7891>'Zdrojová data'!$C$19,0,1),\"\")","v":""},1664,0,{"$f":"MIN(J7891,'Zdrojová data'!$C$17)","v":0},0,{"$f":"L7891/'Zdrojová data'!$C$16","v":0},{"$f":"M7891*'Zdrojová data'!$C$13","v":0},{"$f":"N7891*'Zdrojová data'!$C$14","v":0},0,{"$f":"IF(H7891=0,D7891-'Výstupy modelu'!$C$7,IF(P7891=1,J7891-K7891,0))","v":0},0,null,{"$f":"MAX(0,IF(Q7891>0,Q7891-('Výstupy modelu'!$H$10-'Výstupy modelu'!$H$9),0))","v":0},null,null,{"$f":"W7890","v":1865.4300000000003},1885.4300000000003,0,{"$f":"MAX(0,D7891-'Vstupní hodnoty'!$C$5)","v":0}]
[null,"2017-03-24T10:15:00",3,1317.6000000000001,{"$f":"CEILING(IF(C7916-C7915=0,IF(H7915=0,I7915,IF(J7915>K7915,I7915,E7915)),'Výstupy modelu'!$C$7),1)","v":1664},0,0,{"$f":"IF(F7916=1,IF(G7916>'Zdrojová data'!$C$19,0,1),\"\")","v":""},1664,0,{"$f":"MIN(J7916,'Zdrojová data'!$C$17)","v":0},0,{"$f":"L7916/'Zdrojová data'!$C$16","v":0},{"$f":"M7916*'Zdrojová data'!$C$13","v":0},{"$f":"N7916*'Zdrojová data'!$C$14","v":0},0,{"$f":"IF(H7916=0,D7916-'Výstupy modelu'!$C$7,IF(P7916=1,J7916-K7916,0))","v":0},0,null,{"$f":"MAX(0,IF(Q7916>0,Q7916-('Výstupy modelu'!$H$10-'Výstupy modelu'!$H$9),0))","v":0},null,null,{"$f":"W7915","v":1865.4300000000003},1885.4300000000003,0,{"$f":"MAX(0,D7916-'Vstupní hodnoty'!$C$5)","v":0}]
[null,"2017-03-24T16:45:00",3,984.96,{"$f":"CEILING(IF(C7942-C7941=0,IF(H7941=0,I7941,IF(J7941>K7941,I7941,E7941)),'Výstupy modelu'!$C$7),1)","v":1664},0,0,{"$f":"IF(F7942=1,IF(G7942>'Zdrojová data'!$C$19,0,1),\"\")","v":""},1664,0,{"$f":"MIN(J7942,'Zdrojová data'!$C$17)","v":0},0,{"$f":"L7942/'Zdrojová data'!$C$16","v":0},{"$f":"M7942*'Zdrojová data'!$C$13","v":0},{"$f":"N7942*'Zdrojová data'!$C$14","v":0},0,{"$f":"IF(H7942=0,D7942-'Výstupy modelu'!$C$7,IF(P7942=1,J7942-K7942,0))","v":0},0,null,{"$f":"MAX(0,IF(Q7942>0,Q7942-('Výstupy modelu'!$H$10-'Výstupy modelu'!$H$9),0))","v":0},null,null,{"$f":"W7941","v":1865.4300000000003},1885.4300000000003,0,{"$f":"MAX(0,D7942-'Vstupní hodnoty'!$C$5)","v":0}]
[null,"2017-03-25T05:30:00",3,386.64000000000004,{"$f":"CEILING(IF(C7993-C7992=0,IF(H7992=0,I7992,IF(J7992>K7992,I7992,E7992)),'Výstupy modelu'!$C$7),1)","v":1664},0,0,{"$f":"IF(F7993=1,IF(G7993>'Zdrojová data'!$C$19,0,1),\"\")","v":""},1664,0,{"$f":"MIN(J7993,'Zdrojová data'!$C$17)","v":0},0,{"$f":"L7993/'Zdrojová data'!$C$16","v":0},{"$f":"M7993*'Zdrojová data'!$C$13","v":0},{"$f":"N7993*'Zdrojová data'!$C$14","v":0},0,{"$f":"IF(H7993=0,D7993-'Výstupy modelu'!$C$7,IF(P7993=1,J7993-K7993,0))","v":0},0,null,{"$f":"MAX(0,IF(Q7993>0,Q7993-('Výstupy modelu'!$H$10-'Výstupy modelu'!$H$9),0))","v":0},null,null,{"$f":"W7992","v":1865.4300000000003},1885.4300000000003,0,{"$f":"MAX(0,D7993-'Vstupní hodnoty'!$C$5)","v":0}]
[null,"2017-03-25T14:15:00",3,298.08000000000004,{"$f":"CEILING(IF(C8028-C8027=0,IF(H8027=0,I8027,IF(J8027>K8027,I8027,E8027)),'Výstupy modelu'!$C$7),1)","v":1664},0,0,{"$f":"IF(F8028=1,IF(G8028>'Zdrojová data'!$C$19,0,1),\"\")","v":""},1664,0,{"$f":"MIN(J8028,'Zdrojová data'!$C$17)","v":0},0,{"$f":"L8028/'Zdrojová data'!$C$16","v":0},{"$f":"M8028*'Zdrojová data'!$C$13","v":0},{"$f":"N8028*'Zdrojová data'!$C$14","v":0},0,{"$f":"IF(H8028=0,D8028-'Výstupy modelu'!$C$7,IF(P8028=1,J8028-K8028,0))","v":0},0,null,{"$f":"MAX(0,IF(Q8028>0,Q8028-('Výstupy modelu'!$H$10-'Výstupy modelu'!$H$9),0))","v":0},null,null,{"$f":"W8027","v":1865.4300000000003},1885.4300000000003,0,{"$f":"MAX(0,D8028-'Vstupní hodnoty'!$C$5)","v":0}]
[null,"2017-03-25T18:30:00",3,228.96,{"$f":"CEILING(IF(C8045-C8044=0,IF(H8044=0,I8044,IF(J8044>K8044,I8044,E8044)),'Výstupy modelu'!$C$7),1)","v":1664},0,0,{"$f":"IF(F8045=1,IF(G8045>'Zdrojová data'!$C$19,0,1),\"\")","v":""},1664,0,{"$f":"MIN(J8045,'Zdrojová data'!$C$17)","v":0},0,{"$f":"L8045/'Zdrojová data'!$C$16","v":0},{"$f":"M8045*'Zdrojová data'!$C$13","v":0},{"$f":"N8045*'Zdrojová data'!$C$14","v":0},0,{"$f":"IF(H8045=0,D8045-'Výstupy modelu'!$C$7,IF(P8045=1,J8045-K8045,0))","v":0},0,null,{"$f":"MAX(0,IF(Q8045>0,Q8045-('Výstupy modelu'!$H$10-'Výstupy modelu'!$H$9),0))","v":0},null,null,{"$f":"W8044","v":1865.4300000000003},1885.4300000000003,0,{"$f":"MAX(0,D8045-'Vstupní hodnoty'!$C$5)","v":0}]
[null,"2017-03-26T06:45:00",3,231.12,{"$f":"CEILING(IF(C8090-C8089=0,IF(H8089=0,I8089,IF(J8089>K8089,I8089,E8089)),'Výstupy modelu'!$C$7),1)","v":1664},0,0,{"$f":"IF(F8090=1,IF(G8090>'Zdrojová data'!$C$19,0,1),\"\")","v":""},1664,0,{"$f":"MIN(J8090,'Zdrojová data'!$C$17)","v":0},0,{"$f":"L8090/'Zdrojová data'!$C$16","v":0},{"$f":"M8090*'Zdrojová data'!$C$13","v":0},{"$f":"N8090*'Zdrojová data'!$C$14","v":0},0,{"$f":"IF(H8090=0,D8090-'Výstupy modelu'!$C$7,IF(P8090=1,J8090-K8090,0))","v":0},0,null,{"$f":"MAX(0,IF(Q8090>0,Q8090-('Výstupy modelu'!$H$10-'Výstupy modelu'!$H$9),0))","v":0},null,null,{"$f":"W8089","v":1865.4300000000003},1885.4300000000003,0,{"$f":"MAX(0,D8090-'Vstupní hodnoty'!$C$5)","v":0}]
[null,"2017-03-26T16:45:00",3,211.68,{"$f":"CEILING(IF(C8130-C8129=0,IF(H8129=0,I8129,IF(J8129>K8129,I8129,E8129)),'Výstupy modelu'!$C$7),1)","v":1664},0,0,{"$f":"IF(F8130=1,IF(G8130>'Zdrojová data'!$C$19,0,1),\"\")","v":""},1664,0,{"$f":"MIN(J8130,'Zdrojová data'!$C$17)","v":0},0,{"$f":"L8130/'Zdrojová data'!$C$16","v":0},{"$f":"M8130*'Zdrojová data'!$C$13","v":0},{"$f":"N8130*'Zdrojová data'!$C$14","v":0},0,{"$f":"IF(H8130=0,D8130-'Výstupy modelu'!$C$7,IF(P8130=1,J8130-K8130,0))","v":0},0,null,{"$f":"MAX(0,IF(Q8130>0,Q8130-('Výstupy modelu'!$H$10-'Výstupy modelu'!$H$9),0))","v":0},null,null,{"$f":"W8129","v":1865.4300000000003},1885.4300000000003,0,{"$f":"MAX(0,D8130-'Vstupní hodnoty'!$C$5)","v":0}]
[null,"2017-03-26T21:00:00",3,214.92000000000002,{"$f":"CEILING(IF(C8147-C8146=0,IF(H8146=0,I8146,IF(J8146>K8146,I8146,E8146)),'Výstupy modelu'!$C$7),1)","v":1664},0,0,{"$f":"IF(F8147=1,IF(G8147>'Zdrojová data'!$C$19,0,1),\"\")","v":""},1664,0,{"$f":"MIN(J8147,'Zdrojová data'!$C$17)","v":0},0,{"$f":"L8147/'Zdrojová data'!$C$16","v":0},{"$f":"M8147*'Zdrojová data'!$C$13","v":0},{"$f":"N8147*'Zdrojová data'!$C$14","v":0},0,{"$f":"IF(H8147=0,D8147-'Výstupy modelu'!$C$7,IF(P8147=1,J8147-K8147,0))","v":0},0,null,{"$f":"MAX(0,IF(Q8147>0,Q8147-('Výstupy modelu'!$H$10-'Výstupy modelu'!$H$9),0))","v":0},null,null,{"$f":"W8146","v":1865.4300000000003},1885.4300000000003,0,{"$f":"MAX(0,D8147-'Vstupní hodnoty'!$C$5)","v":0}]
[null,"2017-03-27T09:45:00",3,1375.92,{"$f":"CEILING(IF(C8198-C8197=0,IF(H8197=0,I8197,IF(J8197>K8197,I8197,E8197)),'Výstupy modelu'!$C$7),1)","v":1664},0,0,{"$f":"IF(F8198=1,IF(G8198>'Zdrojová data'!$C$19,0,1),\"\")","v":""},1664,0,{"$f":"MIN(J8198,'Zdrojová data'!$C$17)","v":0},0,{"$f":"L8198/'Zdrojová data'!$C$16","v":0},{"$f":"M8198*'Zdrojová data'!$C$13","v":0},{"$f":"N8198*'Zdrojová data'!$C$14","v":0},0,{"$f":"IF(H8198=0,D8198-'Výstupy modelu'!$C$7,IF(P8198=1,J8198-K8198,0))","v":0},0,null,{"$f":"MAX(0,IF(Q8198>0,Q8198-('Výstupy modelu'!$H$10-'Výstupy modelu'!$H$9),0))","v":0},null,null,{"$f":"W8197","v":1865.4300000000003},1885.4300000000003,0,{"$f":"MAX(0,D8198-'Vstupní hodnoty'!$C$5)","v":0}]
[null,"2017-03-27T10:00:00",3,1356.48,{"$f":"CEILING(IF(C8199-C8198=0,IF(H8198=0,I8198,IF(J8198>K8198,I8198,E8198)),'Výstupy modelu'!$C$7),1)","v":1664},0,0,{"$f":"IF(F8199=1,IF(G8199>'Zdrojová data'!$C$19,0,1),\"\")","v":""},1664,0,{"$f":"MIN(J8199,'Zdrojová data'!$C$17)","v":0},0,{"$f":"L8199/'Zdrojová data'!$C$16","v":0},{"$f":"M8199*'Zdrojová data'!$C$13","v":0},{"$f":"N8199*'Zdrojová data'!$C$14","v":0},0,{"$f":"IF(H8199=0,D8199-'Výstupy modelu'!$C$7,IF(P8199=1,J8199-K8199,0))","v":0},0,null,{"$f":"MAX(0,IF(Q8199>0,Q8199-('Výstupy modelu'!$H$10-'Výstupy modelu'!$H$9),0))","v":0},null,null,{"$f":"W8198","v":1865.4300000000003},1885.4300000000003,0,{"$f":"MAX(0,D8199-'Vstupní hodnoty'!$C$5)","v":0}]
[null,"2017-03-28T02:15:00",3,451.44000000000005,{"$f":"CEILING(IF(C8264-C8263=0,IF(H8263=0,I8263,IF(J8263>K8263,I8263,E8263)),'Výstupy modelu'!$C$7),1)","v":1664},0,0,{"$f":"IF(F8264=1,IF(G8264>'Zdrojová data'!$C$19,0,1),\"\")","v":""},1664,0,{"$f":"MIN(J8264,'Zdrojová data'!$C$17)","v":0},0,{"$f":"L8264/'Zdrojová data'!$C$16","v":0},{"$f":"M8264*'Zdrojová data'!$C$13","v":0},{"$f":"N8264*'Zdrojová data'!$C$14","v":0},0,{"$f":"IF(H8264=0,D8264-'Výstupy modelu'!$C$7,IF(P8264=1,J8264-K8264,0))","v":0},0,null,{"$f":"MAX(0,IF(Q8264>0,Q8264-('Výstupy modelu'!$H$10-'Výstupy modelu'!$H$9),0))","v":0},null,null,{"$f":"W8263","v":1865.4300000000003},1885.4300000000003,0,{"$f":"MAX(0,D8264-'Vstupní hodnoty'!$C$5)","v":0}]
[null,"2017-03-28T07:15:00",3,1365.1200000000001,{"$f":"CEILING(IF(C8284-C8283=0,IF(H8283=0,I8283,IF(J8283>K8283,I8283,E8283)),'Výstupy modelu'!$C$7),1)","v":1664},0,0,{"$f":"IF(F8284=1,IF(G8284>'Zdrojová data'!$C$19,0,1),\"\")","v":""},1664,0,{"$f":"MIN(J8284,'Zdrojová data'!$C$17)","v":0},0,{"$f":"L8284/'Zdrojová data'!$C$16","v":0},{"$f":"M8284*'Zdrojová data'!$C$13","v":0},{"$f":"N8284*'Zdrojová data'!$C$14","v":0},0,{"$f":"IF(H8284=0,D8284-'Výstupy modelu'!$C$7,IF(P8284=1,J8284-K8284,0))","v":0},0,null,{"$f":"MAX(0,IF(Q8284>0,Q8284-('Výstupy modelu'!$H$10-'Výstupy modelu'!$H$9),0))","v":0},null,null,{"$f":"W8283","v":1865.4300000000003},1885.4300000000003,0,{"$f":"MAX(0,D8284-'Vstupní hodnoty'!$C$5)","v":0}]
[null,"2017-03-28T11:30:00",3,1181.52,{"$f":"CEILING(IF(C8301-C8300=0,IF(H8300=0,I8300,IF(J8300>K8300,I8300,E8300)),'Výstupy modelu'!$C$7),1)","v":1664},0,0,{"$f":"IF(F8301=1,IF(G8301>'Zdrojová data'!$C$19,0,1),\"\")","v":""},1664,0,{"$f":"MIN(J8301,'Zdrojová data'!$C$17)","v":0},0,{"$f":"L8301/'Zdrojová data'!$C$16","v":0},{"$f":"M8301*'Zdrojová data'!$C$13","v":0},{"$f":"N8301*'Zdrojová data'!$C$14","v":0},0,{"$f":"IF(H8301=0,D8301-'Výstupy modelu'!$C$7,IF(P8301=1,J8301-K8301,0))","v":0},0,null,{"$f":"MAX(0,IF(Q8301>0,Q8301-('Výstupy modelu'!$H$10-'Výstupy modelu'!$H$9),0))","v":0},null,null,{"$f":"W8300","v":1865.4300000000003},1885.4300000000003,0,{"$f":"MAX(0,D8301-'Vstupní hodnoty'!$C$5)","v":0}]
[null,"2017-03-29T00:15:00",3,326.16000000000003,{"$f":"CEILING(IF(C8352-C8351=0,IF(H8351=0,I8351,IF(J8351>K8351,I8351,E8351)),'Výstupy modelu'!$C$7),1)","v":1664},0,0,{"$f":"IF(F8352=1,IF(G8352>'Zdrojová data'!$C$19,0,1),\"\")","v":""},1664,0,{"$f":"MIN(J8352,'Zdrojová data'!$C$17)","v":0},0,{"$f":"L8352/'Zdrojová data'!$C$16","v":0},{"$f":"M8352*'Zdrojová data'!$C$13","v":0},{"$f":"N8352*'Zdrojová data'!$C$14","v":0},0,{"$f":"IF(H8352=0,D8352-'Výstupy modelu'!$C$7,IF(P8352=1,J8352-K8352,0))","v":0},0,null,{"$f":"MAX(0,IF(Q8352>0,Q8352-('Výstupy modelu'!$H$10-'Výstupy modelu'!$H$9),0))","v":0},null,null,{"$f":"W8351","v":1865.4300000000003},1885.4300000000003,0,{"$f":"MAX(0,D8352-'Vstupní hodnoty'!$C$5)","v":0}]
[null,"2017-03-29T09:00:00",3,1321.92,{"$f":"CEILING(IF(C8387-C8386=0,IF(H8386=0,I8386,IF(J8386>K8386,I8386,E8386)),'Výstupy modelu'!$C$7),1)","v":1664},0,0,{"$f":"IF(F8387=1,IF(G8387>'Zdrojová data'!$C$19,0,1),\"\")","v":""},1664,0,{"$f":"MIN(J8387,'Zdrojová data'!$C$17)","v":0},0,{"$f":"L8387/'Zdrojová data'!$C$16","v":0},{"$f":"M8387*'Zdrojová data'!$C$13","v":0},{"$f":"N8387*'Zdrojová data'!$C$14","v":0},0,{"$f":"IF(H8387=0,D8387-'Výstupy modelu'!$C$7,IF(P8387=1,J8387-K8387,0))","v":0},0,null,{"$f":"MAX(0,IF(Q8387>0,Q8387-('Výstupy modelu'!$H$10-'Výstupy modelu'!$H$9),0))","v":0},null,null,{"$f":"W8386","v":1865.4300000000003},1885.4300000000003,0,{"$f":"MAX(0,D8387-'Vstupní hodnoty'!$C$5)","v":0}]
[null,"2017-03-29T13:30:00",3,1350,{"$f":"CEILING(IF(C8405-C8404=0,IF(H8404=0,I8404,IF(J8404>K8404,I8404,E8404)),'Výstupy modelu'!$C$7),1)","v":1664},0,0,{"$f":"IF(F8405=1,IF(G8405>'Zdrojová data'!$C$19,0,1),\"\")","v":""},1664,0,{"$f":"MIN(J8405,'Zdrojová data'!$C$17)","v":0},0,{"$f":"L8405/'Zdrojová data'!$C$16","v":0},{"$f":"M8405*'Zdrojová data'!$C$13","v":0},{"$f":"N8405*'Zdrojová data'!$C$14","v":0},0,{"$f":"IF(H8405=0,D8405-'Výstupy modelu'!$C$7,IF(P8405=1,J8405-K8405,0))","v":0},0,null,{"$f":"MAX(0,IF(Q8405>0,Q8405-('Výstupy modelu'!$H$10-'Výstupy modelu'!$H$9),0))","v":0},null,null,{"$f":"W8404","v":1865.4300000000003},1885.4300000000003,0,{"$f":"MAX(0,D8405-'Vstupní hodnoty'!$C$5)","v":0}]
[null,"2017-03-29T21:45:00",3,559.44000000000005,{"$f":"CEILING(IF(C8438-C8437=0,IF(H8437=0,I8437,IF(J8437>K8437,I8437,E8437)),'Výstupy modelu'!$C$7),1)","v":1664},0,0,{"$f":"IF(F8438=1,IF(G8438>'Zdrojová data'!$C$19,0,1),\"\")","v":""},1664,0,{"$f":"MIN(J8438,'Zdrojová data'!$C$17)","v":0},0,{"$f":"L8438/'Zdrojová data'!$C$16","v":0},{"$f":"M8438*'Zdrojová data'!$C$13","v":0},{"$f":"N8438*'Zdrojová data'!$C$14","v":0},0,{"$f":"IF(H8438=0,D8438-'Výstupy modelu'!$C$7,IF(P8438=1,J8438-K8438,0))","v":0},0,null,{"$f":"MAX(0,IF(Q8438>0,Q8438-('Výstupy modelu'!$H$10-'Výstupy modelu'!$H$9),0))","v":0},null,null,{"$f":"W8437","v":1865.4300000000003},1885.4300000000003,0,{"$f":"MAX(0,D8438-'Vstupní hodnoty'!$C$5)","v":0}]
[null,"2017-03-30T10:30:00",3,1348.92,{"$f":"CEILING(IF(C8489-C8488=0,IF(H8488=0,I8488,IF(J8488>K8488,I8488,E8488)),'Výstupy modelu'!$C$7),1)","v":1664},0,0,{"$f":"IF(F8489=1,IF(G8489>'Zdrojová data'!$C$19,0,1),\"\")","v":""},1664,0,{"$f":"MIN(J8489,'Zdrojová data'!$C$17)","v":0},0,{"$f":"L8489/'Zdrojová data'!$C$16","v":0},{"$f":"M8489*'Zdrojová data'!$C$13","v":0},{"$f":"N8489*'Zdrojová data'!$C$14","v":0},0,{"$f":"IF(H8489=0,D8489-'Výstupy modelu'!$C$7,IF(P8489=1,J8489-K8489,0))","v":0},0,null,{"$f":"MAX(0,IF(Q8489>0,Q8489-('Výstupy modelu'!$H$10-'Výstupy modelu'!$H$9),0))","v":0},null,null,{"$f":"W8488","v":1865.4300000000003},1885.4300000000003,0,{"$f":"MAX(0,D8489-'Vstupní hodnoty'!$C$5)","v":0}]
[null,"2017-03-30T14:45:00",3,1199.8800000000001,{"$f":"CEILING(IF(C8506-C8505=0,IF(H8505=0,I8505,IF(J8505>K8505,I8505,E8505)),'Výstupy modelu'!$C$7),1)","v":1664},0,0,{"$f":"IF(F8506=1,IF(G8506>'Zdrojová data'!$C$19,0,1),\"\")","v":""},1664,0,{"$f":"MIN(J8506,'Zdrojová data'!$C$17)","v":0},0,{"$f":"L8506/'Zdrojová data'!$C$16","v":0},{"$f":"M8506*'Zdrojová data'!$C$13","v":0},{"$f":"N8506*'Zdrojová data'!$C$14","v":0},0,{"$f":"IF(H8506=0,D8506-'Výstupy modelu'!$C$7,IF(P8506=1,J8506-K8506,0))","v":0},0,null,{"$f":"MAX(0,IF(Q8506>0,Q8506-('Výstupy modelu'!$H$10-'Výstupy modelu'!$H$9),0))","v":0},null,null,{"$f":"W8505","v":1865.4300000000003},1885.4300000000003,0,{"$f":"MAX(0,D8506-'Vstupní hodnoty'!$C$5)","v":0}]
[null,"2017-03-30T23:30:00",3,405,{"$f":"CEILING(IF(C8541-C8540=0,IF(H8540=0,I8540,IF(J8540>K8540,I8540,E8540)),'Výstupy modelu'!$C$7),1)","v":1664},0,0,{"$f":"IF(F8541=1,IF(G8541>'Zdrojová data'!$C$19,0,1),\"\")","v":""},1664,0,{"$f":"MIN(J8541,'Zdrojová data'!$C$17)","v":0},0,{"$f":"L8541/'Zdrojová data'!$C$16","v":0},{"$f":"M8541*'Zdrojová data'!$C$13","v":0},{"$f":"N8541*'Zdrojová data'!$C$14","v":0},0,{"$f":"IF(H8541=0,D8541-'Výstupy modelu'!$C$7,IF(P8541=1,J8541-K8541,0))","v":0},0,null,{"$f":"MAX(0,IF(Q8541>0,Q8541-('Výstupy modelu'!$H$10-'Výstupy modelu'!$H$9),0))","v":0},null,null,{"$f":"W8540","v":1865.4300000000003},1885.4300000000003,0,{"$f":"MAX(0,D8541-'Vstupní hodnoty'!$C$5)","v":0}]
[null,"2017-03-31T09:00:00",3,1355.4,{"$f":"CEILING(IF(C8579-C8578=0,IF(H8578=0,I8578,IF(J8578>K8578,I8578,E8578)),'Výstupy modelu'!$C$7),1)","v":1664},0,0,{"$f":"IF(F8579=1,IF(G8579>'Zdrojová data'!$C$19,0,1),\"\")","v":""},1664,0,{"$f":"MIN(J8579,'Zdrojová data'!$C$17)","v":0},0,{"$f":"L8579/'Zdrojová data'!$C$16","v":0},{"$f":"M8579*'Zdrojová data'!$C$13","v":0},{"$f":"N8579*'Zdrojová data'!$C$14","v":0},0,{"$f":"IF(H8579=0,D8579-'Výstupy modelu'!$C$7,IF(P8579=1,J8579-K8579,0))","v":0},0,null,{"$f":"MAX(0,IF(Q8579>0,Q8579-('Výstupy modelu'!$H$10-'Výstupy modelu'!$H$9),0))","v":0},null,null,{"$f":"W8578","v":1865.4300000000003},1885.4300000000003,0,{"$f":"MAX(0,D8579-'Vstupní hodnoty'!$C$5)","v":0}]
[null,"2017-03-31T16:15:00",3,1020.6,{"$f":"CEILING(IF(C8608-C8607=0,IF(H8607=0,I8607,IF(J8607>K8607,I8607,E8607)),'Výstupy modelu'!$C$7),1)","v":1664},0,0,{"$f":"IF(F8608=1,IF(G8608>'Zdrojová data'!$C$19,0,1),\"\")","v":""},1664,0,{"$f":"MIN(J8608,'Zdrojová data'!$C$17)","v":0},0,{"$f":"L8608/'Zdrojová data'!$C$16","v":0},{"$f":"M8608*'Zdrojová data'!$C$13","v":0},{"$f":"N8608*'Zdrojová data'!$C$14","v":0},0,{"$f":"IF(H8608=0,D8608-'Výstupy modelu'!$C$7,IF(P8608=1,J8608-K8608,0))","v":0},0,null,{"$f":"MAX(0,IF(Q8608>0,Q8608-('Výstupy modelu'!$H$10-'Výstupy modelu'!$H$9),0))","v":0},null,null,{"$f":"W8607","v":1865.4300000000003},1885.4300000000003,0,{"$f":"MAX(0,D8608-'Vstupní hodnoty'!$C$5)","v":0}]
[null,"2017-04-01T01:00:00",4,233.28000000000003,{"$f":"CEILING(IF(C8643-C8642=0,IF(H8642=0,I8642,IF(J8642>K8642,I8642,E8642)),'Výstupy modelu'!$C$7),1)","v":1664},0,0,{"$f":"IF(F8643=1,IF(G8643>'Zdrojová data'!$C$19,0,1),\"\")","v":""},1664,0,{"$f":"MIN(J8643,'Zdrojová data'!$C$17)","v":0},0,{"$f":"L8643/'Zdrojová data'!$C$16","v":0},{"$f":"M8643*'Zdrojová data'!$C$13","v":0},{"$f":"N8643*'Zdrojová data'!$C$14","v":0},0,{"$f":"IF(H8643=0,D8643-'Výstupy modelu'!$C$7,IF(P8643=1,J8643-K8643,0))","v":0},0,null,{"$f":"MAX(0,IF(Q8643>0,Q8643-('Výstupy modelu'!$H$10-'Výstupy modelu'!$H$9),0))","v":0},null,null,{"$f":"W8642","v":1865.4300000000003},1885.4300000000003,0,{"$f":"MAX(0,D8643-'Vstupní hodnoty'!$C$5)","v":0}]
[null,"2017-04-01T13:45:00",4,327.24,{"$f":"CEILING(IF(C8694-C8693=0,IF(H8693=0,I8693,IF(J8693>K8693,I8693,E8693)),'Výstupy modelu'!$C$7),1)","v":1664},0,0,{"$f":"IF(F8694=1,IF(G8694>'Zdrojová data'!$C$19,0,1),\"\")","v":""},1664,0,{"$f":"MIN(J8694,'Zdrojová data'!$C$17)","v":0},0,{"$f":"L8694/'Zdrojová data'!$C$16","v":0},{"$f":"M8694*'Zdrojová data'!$C$13","v":0},{"$f":"N8694*'Zdrojová data'!$C$14","v":0},0,{"$f":"IF(H8694=0,D8694-'Výstupy modelu'!$C$7,IF(P8694=1,J8694-K8694,0))","v":0},0,null,{"$f":"MAX(0,IF(Q8694>0,Q8694-('Výstupy modelu'!$H$10-'Výstupy modelu'!$H$9),0))","v":0},null,null,{"$f":"W8693","v":1865.4300000000003},1885.4300000000003,0,{"$f":"MAX(0,D8694-'Vstupní hodnoty'!$C$5)","v":0}]
[null,"2017-04-01T22:30:00",4,224.64000000000001,{"$f":"CEILING(IF(C8729-C8728=0,IF(H8728=0,I8728,IF(J8728>K8728,I8728,E8728)),'Výstupy modelu'!$C$7),1)","v":1664},0,0,{"$f":"IF(F8729=1,IF(G8729>'Zdrojová data'!$C$19,0,1),\"\")","v":""},1664,0,{"$f":"MIN(J8729,'Zdrojová data'!$C$17)","v":0},0,{"$f":"L8729/'Zdrojová data'!$C$16","v":0},{"$f":"M8729*'Zdrojová data'!$C$13","v":0},{"$f":"N8729*'Zdrojová data'!$C$14","v":0},0,{"$f":"IF(H8729=0,D8729-'Výstupy modelu'!$C$7,IF(P8729=1,J8729-K8729,0))","v":0},0,null,{"$f":"MAX(0,IF(Q8729>0,Q8729-('Výstupy modelu'!$H$10-'Výstupy modelu'!$H$9),0))","v":0},null,null,{"$f":"W8728","v":1865.4300000000003},1885.4300000000003,0,{"$f":"MAX(0,D8729-'Vstupní hodnoty'!$C$5)","v":0}]
[null,"2017-04-02T04:30:00",4,231.12,{"$f":"CEILING(IF(C8753-C8752=0,IF(H8752=0,I8752,IF(J8752>K8752,I8752,E8752)),'Výstupy modelu'!$C$7),1)","v":1664},0,0,{"$f":"IF(F8753=1,IF(G8753>'Zdrojová data'!$C$19,0,1),\"\")","v":""},1664,0,{"$f":"MIN(J8753,'Zdrojová data'!$C$17)","v":0},0,{"$f":"L8753/'Zdrojová data'!$C$16","v":0},{"$f":"M8753*'Zdrojová data'!$C$13","v":0},{"$f":"N8753*'Zdrojová data'!$C$14","v":0},0,{"$f":"IF(H8753=0,D8753-'Výstupy modelu'!$C$7,IF(P8753=1,J8753-K8753,0))","v":0},0,null,{"$f":"MAX(0,IF(Q8753>0,Q8753-('Výstupy modelu'!$H$10-'Výstupy modelu'!$H$9),0))","v":0},null,null,{"$f":"W8752","v":1865.4300000000003},1885.4300000000003,{"$f":"MAX(0,D8753-W8753)","v":0},{"$f":"MAX(0,D8753-'Vstupní hodnoty'!$C$5)","v":0}]
[null,"2017-04-02T15:15:00",4,237.60000000000002,{"$f":"CEILING(IF(C8796-C8795=0,IF(H8795=0,I8795,IF(J8795>K8795,I8795,E8795)),'Výstupy modelu'!$C$7),1)","v":1664},0,0,{"$f":"IF(F8796=1,IF(G8796>'Zdrojová data'!$C$19,0,1),\"\")","v":""},1664,0,{"$f":"MIN(J8796,'Zdrojová data'!$C$17)","v":0},0,{"$f":"L8796/'Zdrojová data'!$C$16","v":0},{"$f":"M8796*'Zdrojová data'!$C$13","v":0},{"$f":"N8796*'Zdrojová data'!$C$14","v":0},0,{"$f":"IF(H8796=0,D8796-'Výstupy modelu'!$C$7,IF(P8796=1,J8796-K8796,0))","v":0},0,null,{"$f":"MAX(0,IF(Q8796>0,Q8796-('Výstupy modelu'!$H$10-'Výstupy modelu'!$H$9),0))","v":0},null,null,{"$f":"W8795","v":1865.4300000000003},1885.4300000000003,0,{"$f":"MAX(0,D8796-'Vstupní hodnoty'!$C$5)","v":0}]
[null,"2017-04-03",4,313.20000000000005,{"$f":"CEILING(IF(C8831-C8830=0,IF(H8830=0,I8830,IF(J8830>K8830,I8830,E8830)),'Výstupy modelu'!$C$7),1)","v":1664},0,0,{"$f":"IF(F8831=1,IF(G8831>'Zdrojová data'!$C$19,0,1),\"\")","v":""},1664,0,{"$f":"MIN(J8831,'Zdrojová data'!$C$17)","v":0},0,{"$f":"L8831/'Zdrojová data'!$C$16","v":0},{"$f":"M8831*'Zdrojová data'!$C$13","v":0},{"$f":"N8831*'Zdrojová data'!$C$14","v":0},0,{"$f":"IF(H8831=0,D8831-'Výstupy modelu'!$C$7,IF(P8831=1,J8831-K8831,0))","v":0},0,null,{"$f":"MAX(0,IF(Q8831>0,Q8831-('Výstupy modelu'!$H$10-'Výstupy modelu'!$H$9),0))","v":0},null,null,{"$f":"W8830","v":1865.4300000000003},1885.4300000000003,0,{"$f":"MAX(0,D8831-'Vstupní hodnoty'!$C$5)","v":0}]
[null,"2017-04-03T04:15:00",4,546.48,{"$f":"CEILING(IF(C8848-C8847=0,IF(H8847=0,I8847,IF(J8847>K8847,I8847,E8847)),'Výstupy modelu'!$C$7),1)","v":1664},0,0,{"$f":"IF(F8848=1,IF(G8848>'Zdrojová data'!$C$19,0,1),\"\")","v":""},1664,0,{"$f":"MIN(J8848,'Zdrojová data'!$C$17)","v":0},0,{"$f":"L8848/'Zdrojová data'!$C$16","v":0},{"$f":"M8848*'Zdrojová data'!$C$13","v":0},{"$f":"N8848*'Zdrojová data'!$C$14","v":0},0,{"$f":"IF(H8848=0,D8848-'Výstupy modelu'!$C$7,IF(P8848=1,J8848-K8848,0))","v":0},0,null,{"$f":"MAX(0,IF(Q8848>0,Q8848-('Výstupy modelu'!$H$10-'Výstupy modelu'!$H$9),0))","v":0},null,null,{"$f":"W8847","v":1865.4300000000003},1885.4300000000003,0,{"$f":"MAX(0,D8848-'Vstupní hodnoty'!$C$5)","v":0}]
[null,"2017-04-03T17:00:00",4,945.00000000000011,{"$f":"CEILING(IF(C8899-C8898=0,IF(H8898=0,I8898,IF(J8898>K8898,I8898,E8898)),'Výstupy modelu'!$C$7),1)","v":1664},0,0,{"$f":"IF(F8899=1,IF(G8899>'Zdrojová data'!$C$19,0,1),\"\")","v":""},1664,0,{"$f":"MIN(J8899,'Zdrojová data'!$C$17)","v":0},0,{"$f":"L8899/'Zdrojová data'!$C$16","v":0},{"$f":"M8899*'Zdrojová data'!$C$13","v":0},{"$f":"N8899*'Zdrojová data'!$C$14","v":0},0,{"$f":"IF(H8899=0,D8899-'Výstupy modelu'!$C$7,IF(P8899=1,J8899-K8899,0))","v":0},0,null,{"$f":"MAX(0,IF(Q8899>0,Q8899-('Výstupy modelu'!$H$10-'Výstupy modelu'!$H$9),0))","v":0},null,null,{"$f":"W8898","v":1865.4300000000003},1885.4300000000003,0,{"$f":"MAX(0,D8899-'Vstupní hodnoty'!$C$5)","v":0}]
[null,"2017-04-04",4,381.24,{"$f":"CEILING(IF(C8927-C8926=0,IF(H8926=0,I8926,IF(J8926>K8926,I8926,E8926)),'Výstupy modelu'!$C$7),1)","v":1664},0,0,{"$f":"IF(F8927=1,IF(G8927>'Zdrojová data'!$C$19,0,1),\"\")","v":""},1664,0,{"$f":"MIN(J8927,'Zdrojová data'!$C$17)","v":0},0,{"$f":"L8927/'Zdrojová data'!$C$16","v":0},{"$f":"M8927*'Zdrojová data'!$C$13","v":0},{"$f":"N8927*'Zdrojová data'!$C$14","v":0},0,{"$f":"IF(H8927=0,D8927-'Výstupy modelu'!$C$7,IF(P8927=1,J8927-K8927,0))","v":0},0,null,{"$f":"MAX(0,IF(Q8927>0,Q8927-('Výstupy modelu'!$H$10-'Výstupy modelu'!$H$9),0))","v":0},null,null,{"$f":"W8926","v":1865.4300000000003},1885.4300000000003,0,{"$f":"MAX(0,D8927-'Vstupní hodnoty'!$C$5)","v":0}]
[null,"2017-04-04T05:45:00",4,692.28000000000009,{"$f":"CEILING(IF(C8950-C8949=0,IF(H8949=0,I8949,IF(J8949>K8949,I8949,E8949)),'Výstupy modelu'!$C$7),1)","v":1664},0,0,{"$f":"IF(F8950=1,IF(G8950>'Zdrojová data'!$C$19,0,1),\"\")","v":""},1664,0,{"$f":"MIN(J8950,'Zdrojová data'!$C$17)","v":0},0,{"$f":"L8950/'Zdrojová data'!$C$16","v":0},{"$f":"M8950*'Zdrojová data'!$C$13","v":0},{"$f":"N8950*'Zdrojová data'!$C$14","v":0},0,{"$f":"IF(H8950=0,D8950-'Výstupy modelu'!$C$7,IF(P8950=1,J8950-K8950,0))","v":0},0,null,{"$f":"MAX(0,IF(Q8950>0,Q8950-('Výstupy modelu'!$H$10-'Výstupy modelu'!$H$9),0))","v":0},null,null,{"$f":"W8949","v":1865.4300000000003},1885.4300000000003,0,{"$f":"MAX(0,D8950-'Vstupní hodnoty'!$C$5)","v":0}]
[null,"2017-04-04T14:30:00",4,1142.6400000000001,{"$f":"CEILING(IF(C8985-C8984=0,IF(H8984=0,I8984,IF(J8984>K8984,I8984,E8984)),'Výstupy modelu'!$C$7),1)","v":1664},0,0,{"$f":"IF(F8985=1,IF(G8985>'Zdrojová data'!$C$19,0,1),\"\")","v":""},1664,0,{"$f":"MIN(J8985,'Zdrojová data'!$C$17)","v":0},0,{"$f":"L8985/'Zdrojová data'!$C$16","v":0},{"$f":"M8985*'Zdrojová data'!$C$13","v":0},{"$f":"N8985*'Zdrojová data'!$C$14","v":0},0,{"$f":"IF(H8985=0,D8985-'Výstupy modelu'!$C$7,IF(P8985=1,J8985-K8985,0))","v":0},0,null,{"$f":"MAX(0,IF(Q8985>0,Q8985-('Výstupy modelu'!$H$10-'Výstupy modelu'!$H$9),0))","v":0},null,null,{"$f":"W8984","v":1865.4300000000003},1885.4300000000003,0,{"$f":"MAX(0,D8985-'Vstupní hodnoty'!$C$5)","v":0}]
[null,"2017-04-05T03:15:00",4,473.04,{"$f":"CEILING(IF(C9036-C9035=0,IF(H9035=0,I9035,IF(J9035>K9035,I9035,E9035)),'Výstupy modelu'!$C$7),1)","v":1664},0,0,{"$f":"IF(F9036=1,IF(G9036>'Zdrojová data'!$C$19,0,1),\"\")","v":""},1664,0,{"$f":"MIN(J9036,'Zdrojová data'!$C$17)","v":0},0,{"$f":"L9036/'Zdrojová data'!$C$16","v":0},{"$f":"M9036*'Zdrojová data'!$C$13","v":0},{"$f":"N9036*'Zdrojová data'!$C$14","v":0},0,{"$f":"IF(H9036=0,D9036-'Výstupy modelu'!$C$7,IF(P9036=1,J9036-K9036,0))","v":0},0,null,{"$f":"MAX(0,IF(Q9036>0,Q9036-('Výstupy modelu'!$H$10-'Výstupy modelu'!$H$9),0))","v":0},null,null,{"$f":"W9035","v":1865.4300000000003},1885.4300000000003,0,{"$f":"MAX(0,D9036-'Vstupní hodnoty'!$C$5)","v":0}]
[null,"2017-04-05T07:30:00",4,1240.92,{"$f":"CEILING(IF(C9053-C9052=0,IF(H9052=0,I9052,IF(J9052>K9052,I9052,E9052)),'Výstupy modelu'!$C$7),1)","v":1664},0,0,{"$f":"IF(F9053=1,IF(G9053>'Zdrojová data'!$C$19,0,1),\"\")","v":""},1664,0,{"$f":"MIN(J9053,'Zdrojová data'!$C$17)","v":0},0,{"$f":"L9053/'Zdrojová data'!$C$16","v":0},{"$f":"M9053*'Zdrojová data'!$C$13","v":0},{"$f":"N9053*'Zdrojová data'!$C$14","v":0},0,{"$f":"IF(H9053=0,D9053-'Výstupy modelu'!$C$7,IF(P9053=1,J9053-K9053,0))","v":0},0,null,{"$f":"MAX(0,IF(Q9053>0,Q9053-('Výstupy modelu'!$H$10-'Výstupy modelu'!$H$9),0))","v":0},null,null,{"$f":"W9052","v":1865.4300000000003},1885.4300000000003,0,{"$f":"MAX(0,D9053-'Vstupní hodnoty'!$C$5)","v":0}]
[null,"2017-04-05T19:30:00",4,914.7600000000001,{"$f":"CEILING(IF(C9101-C9100=0,IF(H9100=0,I9100,IF(J9100>K9100,I9100,E9100)),'Výstupy modelu'!$C$7),1)","v":1664},0,0,{"$f":"IF(F9101=1,IF(G9101>'Zdrojová data'!$C$19,0,1),\"\")","v":""},1664,0,{"$f":"MIN(J9101,'Zdrojová data'!$C$17)","v":0},0,{"$f":"L9101/'Zdrojová data'!$C$16","v":0},{"$f":"M9101*'Zdrojová data'!$C$13","v":0},{"$f":"N9101*'Zdrojová data'!$C$14","v":0},0,{"$f":"IF(H9101=0,D9101-'Výstupy modelu'!$C$7,IF(P9101=1,J9101-K9101,0))","v":0},0,null,{"$f":"MAX(0,IF(Q9101>0,Q9101-('Výstupy modelu'!$H$10-'Výstupy modelu'!$H$9),0))","v":0},null,null,{"$f":"W9100","v":1865.4300000000003},1885.4300000000003,0,{"$f":"MAX(0,D9101-'Vstupní hodnoty'!$C$5)","v":0}]
[null,"2017-04-06T04:45:00",4,507.6,{"$f":"CEILING(IF(C9138-C9137=0,IF(H9137=0,I9137,IF(J9137>K9137,I9137,E9137)),'Výstupy modelu'!$C$7),1)","v":1664},0,0,{"$f":"IF(F9138=1,IF(G9138>'Zdrojová data'!$C$19,0,1),\"\")","v":""},1664,0,{"$f":"MIN(J9138,'Zdrojová data'!$C$17)","v":0},0,{"$f":"L9138/'Zdrojová data'!$C$16","v":0},{"$f":"M9138*'Zdrojová data'!$C$13","v":0},{"$f":"N9138*'Zdrojová data'!$C$14","v":0},0,{"$f":"IF(H9138=0,D9138-'Výstupy modelu'!$C$7,IF(P9138=1,J9138-K9138,0))","v":0},0,null,{"$f":"MAX(0,IF(Q9138>0,Q9138-('Výstupy modelu'!$H$10-'Výstupy modelu'!$H$9),0))","v":0},null,null,{"$f":"W9137","v":1865.4300000000003},1885.4300000000003,0,{"$f":"MAX(0,D9138-'Vstupní hodnoty'!$C$5)","v":0}]
[null,"2017-04-06T13:30:00",4,1400.76,{"$f":"CEILING(IF(C9173-C9172=0,IF(H9172=0,I9172,IF(J9172>K9172,I9172,E9172)),'Výstupy modelu'!$C$7),1)","v":1664},0,0,{"$f":"IF(F9173=1,IF(G9173>'Zdrojová data'!$C$19,0,1),\"\")","v":""},1664,0,{"$f":"MIN(J9173,'Zdrojová data'!$C$17)","v":0},0,{"$f":"L9173/'Zdrojová data'!$C$16","v":0},{"$f":"M9173*'Zdrojová data'!$C$13","v":0},{"$f":"N9173*'Zdrojová data'!$C$14","v":0},0,{"$f":"IF(H9173=0,D9173-'Výstupy modelu'!$C$7,IF(P9173=1,J9173-K9173,0))","v":0},0,null,{"$f":"MAX(0,IF(Q9173>0,Q9173-('Výstupy modelu'!$H$10-'Výstupy modelu'!$H$9),0))","v":0},null,null,{"$f":"W9172","v":1865.4300000000003},1885.4300000000003,0,{"$f":"MAX(0,D9173-'Vstupní hodnoty'!$C$5)","v":0}]
[null,"2017-04-06T17:45:00",4,795.96,{"$f":"CEILING(IF(C9190-C9189=0,IF(H9189=0,I9189,IF(J9189>K9189,I9189,E9189)),'Výstupy modelu'!$C$7),1)","v":1664},0,0,{"$f":"IF(F9190=1,IF(G9190>'Zdrojová data'!$C$19,0,1),\"\")","v":""},1664,0,{"$f":"MIN(J9190,'Zdrojová data'!$C$17)","v":0},0,{"$f":"L9190/'Zdrojová data'!$C$16","v":0},{"$f":"M9190*'Zdrojová data'!$C$13","v":0},{"$f":"N9190*'Zdrojová data'!$C$14","v":0},0,{"$f":"IF(H9190=0,D9190-'Výstupy modelu'!$C$7,IF(P9190=1,J9190-K9190,0))","v":0},0,null,{"$f":"MAX(0,IF(Q9190>0,Q9190-('Výstupy modelu'!$H$10-'Výstupy modelu'!$H$9),0))","v":0},null,null,{"$f":"W9189","v":1865.4300000000003},1885.4300000000003,0,{"$f":"MAX(0,D9190-'Vstupní hodnoty'!$C$5)","v":0}]
[null,"2017-04-07T04:00:00",4,517.32000000000005,{"$f":"CEILING(IF(C9231-C9230=0,IF(H9230=0,I9230,IF(J9230>K9230,I9230,E9230)),'Výstupy modelu'!$C$7),1)","v":1664},0,0,{"$f":"IF(F9231=1,IF(G9231>'Zdrojová data'!$C$19,0,1),\"\")","v":""},1664,0,{"$f":"MIN(J9231,'Zdrojová data'!$C$17)","v":0},0,{"$f":"L9231/'Zdrojová data'!$C$16","v":0},{"$f":"M9231*'Zdrojová data'!$C$13","v":0},{"$f":"N9231*'Zdrojová data'!$C$14","v":0},0,{"$f":"IF(H9231=0,D9231-'Výstupy modelu'!$C$7,IF(P9231=1,J9231-K9231,0))","v":0},0,null,{"$f":"MAX(0,IF(Q9231>0,Q9231-('Výstupy modelu'!$H$10-'Výstupy modelu'!$H$9),0))","v":0},null,null,{"$f":"W9230","v":1865.4300000000003},1885.4300000000003,0,{"$f":"MAX(0,D9231-'Vstupní hodnoty'!$C$5)","v":0}]
[null,"2017-04-07T15:00:00",4,1024.92,{"$f":"CEILING(IF(C9275-C9274=0,IF(H9274=0,I9274,IF(J9274>K9274,I9274,E9274)),'Výstupy modelu'!$C$7),1)","v":1664},0,0,{"$f":"IF(F9275=1,IF(G9275>'Zdrojová data'!$C$19,0,1),\"\")","v":""},1664,0,{"$f":"MIN(J9275,'Zdrojová data'!$C$17)","v":0},0,{"$f":"L9275/'Zdrojová data'!$C$16","v":0},{"$f":"M9275*'Zdrojová data'!$C$13","v":0},{"$f":"N9275*'Zdrojová data'!$C$14","v":0},0,{"$f":"IF(H9275=0,D9275-'Výstupy modelu'!$C$7,IF(P9275=1,J9275-K9275,0))","v":0},0,null,{"$f":"MAX(0,IF(Q9275>0,Q9275-('Výstupy modelu'!$H$10-'Výstupy modelu'!$H$9),0))","v":0},null,null,{"$f":"W9274","v":1865.4300000000003},1885.4300000000003,0,{"$f":"MAX(0,D9275-'Vstupní hodnoty'!$C$5)","v":0}]
[null,"2017-04-07T19:15:00",4,900.72,{"$f":"CEILING(IF(C9292-C9291=0,IF(H9291=0,I9291,IF(J9291>K9291,I9291,E9291)),'Výstupy modelu'!$C$7),1)","v":1664},0,0,{"$f":"IF(F9292=1,IF(G9292>'Zdrojová data'!$C$19,0,1),\"\")","v":""},1664,0,{"$f":"MIN(J9292,'Zdrojová data'!$C$17)","v":0},0,{"$f":"L9292/'Zdrojová data'!$C$16","v":0},{"$f":"M9292*'Zdrojová data'!$C$13","v":0},{"$f":"N9292*'Zdrojová data'!$C$14","v":0},0,{"$f":"IF(H9292=0,D9292-'Výstupy modelu'!$C$7,IF(P9292=1,J9292-K9292,0))","v":0},0,null,{"$f":"MAX(0,IF(Q9292>0,Q9292-('Výstupy modelu'!$H$10-'Výstupy modelu'!$H$9),0))","v":0},null,null,{"$f":"W9291","v":1865.4300000000003},1885.4300000000003,0,{"$f":"MAX(0,D9292-'Vstupní hodnoty'!$C$5)","v":0}]
[null,"2017-04-08T08:00:00",4,522.72,{"$f":"CEILING(IF(C9343-C9342=0,IF(H9342=0,I9342,IF(J9342>K9342,I9342,E9342)),'Výstupy modelu'!$C$7),1)","v":1664},0,0,{"$f":"IF(F9343=1,IF(G9343>'Zdrojová data'!$C$19,0,1),\"\")","v":""},1664,0,{"$f":"MIN(J9343,'Zdrojová data'!$C$17)","v":0},0,{"$f":"L9343/'Zdrojová data'!$C$16","v":0},{"$f":"M9343*'Zdrojová data'!$C$13","v":0},{"$f":"N9343*'Zdrojová data'!$C$14","v":0},0,{"$f":"IF(H9343=0,D9343-'Výstupy modelu'!$C$7,IF(P9343=1,J9343-K9343,0))","v":0},0,null,{"$f":"MAX(0,IF(Q9343>0,Q9343-('Výstupy modelu'!$H$10-'Výstupy modelu'!$H$9),0))","v":0},null,null,{"$f":"W9342","v":1865.4300000000003},1885.4300000000003,0,{"$f":"MAX(0,D9343-'Vstupní hodnoty'!$C$5)","v":0}]
[null,"2017-04-08T16:45:00",4,234.36,{"$f":"CEILING(IF(C9378-C9377=0,IF(H9377=0,I9377,IF(J9377>K9377,I9377,E9377)),'Výstupy modelu'!$C$7),1)","v":1664},0,0,{"$f":"IF(F9378=1,IF(G9378>'Zdrojová data'!$C$19,0,1),\"\")","v":""},1664,0,{"$f":"MIN(J9378,'Zdrojová data'!$C$17)","v":0},0,{"$f":"L9378/'Zdrojová data'!$C$16","v":0},{"$f":"M9378*'Zdrojová data'!$C$13","v":0},{"$f":"N9378*'Zdrojová data'!$C$14","v":0},0,{"$f":"IF(H9378=0,D9378-'Výstupy modelu'!$C$7,IF(P9378=1,J9378-K9378,0))","v":0},0,null,{"$f":"MAX(0,IF(Q9378>0,Q9378-('Výstupy modelu'!$H$10-'Výstupy modelu'!$H$9),0))","v":0},null,null,{"$f":"W9377","v":1865.4300000000003},1885.4300000000003,0,{"$f":"MAX(0,D9378-'Vstupní hodnoty'!$C$5)","v":0}]
[null,"2017-04-08T23:30:00",4,232.20000000000002,{"$f":"CEILING(IF(C9405-C9404=0,IF(H9404=0,I9404,IF(J9404>K9404,I9404,E9404)),'Výstupy modelu'!$C$7),1)","v":1664},0,0,{"$f":"IF(F9405=1,IF(G9405>'Zdrojová data'!$C$19,0,1),\"\")","v":""},1664,0,{"$f":"MIN(J9405,'Zdrojová data'!$C$17)","v":0},0,{"$f":"L9405/'Zdrojová data'!$C$16","v":0},{"$f":"M9405*'Zdrojová data'!$C$13","v":0},{"$f":"N9405*'Zdrojová data'!$C$14","v":0},0,{"$f":"IF(H9405=0,D9405-'Výstupy modelu'!$C$7,IF(P9405=1,J9405-K9405,0))","v":0},0,null,{"$f":"MAX(0,IF(Q9405>0,Q9405-('Výstupy modelu'!$H$10-'Výstupy modelu'!$H$9),0))","v":0},null,null,{"$f":"W9404","v":1865.4300000000003},1885.4300000000003,0,{"$f":"MAX(0,D9405-'Vstupní hodnoty'!$C$5)","v":0}]
[null,"2017-04-09T05:30:00",4,236.52,{"$f":"CEILING(IF(C9429-C9428=0,IF(H9428=0,I9428,IF(J9428>K9428,I9428,E9428)),'Výstupy modelu'!$C$7),1)","v":1664},0,0,{"$f":"IF(F9429=1,IF(G9429>'Zdrojová data'!$C$19,0,1),\"\")","v":""},1664,0,{"$f":"MIN(J9429,'Zdrojová data'!$C$17)","v":0},0,{"$f":"L9429/'Zdrojová data'!$C$16","v":0},{"$f":"M9429*'Zdrojová data'!$C$13","v":0},{"$f":"N9429*'Zdrojová data'!$C$14","v":0},0,{"$f":"IF(H9429=0,D9429-'Výstupy modelu'!$C$7,IF(P9429=1,J9429-K9429,0))","v":0},0,null,{"$f":"MAX(0,IF(Q9429>0,Q9429-('Výstupy modelu'!$H$10-'Výstupy modelu'!$H$9),0))","v":0},null,null,{"$f":"W9428","v":1865.4300000000003},1885.4300000000003,0,{"$f":"MAX(0,D9429-'Vstupní hodnoty'!$C$5)","v":0}]
[null,"2017-04-09T18:15:00",4,231.12,{"$f":"CEILING(IF(C9480-C9479=0,IF(H9479=0,I9479,IF(J9479>K9479,I9479,E9479)),'Výstupy modelu'!$C$7),1)","v":1664},0,0,{"$f":"IF(F9480=1,IF(G9480>'Zdrojová data'!$C$19,0,1),\"\")","v":""},1664,0,{"$f":"MIN(J9480,'Zdrojová data'!$C$17)","v":0},0,{"$f":"L9480/'Zdrojová data'!$C$16","v":0},{"$f":"M9480*'Zdrojová data'!$C$13","v":0},{"$f":"N9480*'Zdrojová data'!$C$14","v":0},0,{"$f":"IF(H9480=0,D9480-'Výstupy modelu'!$C$7,IF(P9480=1,J9480-K9480,0))","v":0},0,null,{"$f":"MAX(0,IF(Q9480>0,Q9480-('Výstupy modelu'!$H$10-'Výstupy modelu'!$H$9),0))","v":0},null,null,{"$f":"W9479","v":1865.4300000000003},1885.4300000000003,0,{"$f":"MAX(0,D9480-'Vstupní hodnoty'!$C$5)","v":0}]
[null,"2017-04-09T22:30:00",4,276.48,{"$f":"CEILING(IF(C9497-C9496=0,IF(H9496=0,I9496,IF(J9496>K9496,I9496,E9496)),'Výstupy modelu'!$C$7),1)","v":1664},0,0,{"$f":"IF(F9497=1,IF(G9497>'Zdrojová data'!$C$19,0,1),\"\")","v":""},1664,0,{"$f":"MIN(J9497,'Zdrojová data'!$C$17)","v":0},0,{"$f":"L9497/'Zdrojová data'!$C$16","v":0},{"$f":"M9497*'Zdrojová data'!$C$13","v":0},{"$f":"N9497*'Zdrojová data'!$C$14","v":0},0,{"$f":"IF(H9497=0,D9497-'Výstupy modelu'!$C$7,IF(P9497=1,J9497-K9497,0))","v":0},0,null,{"$f":"MAX(0,IF(Q9497>0,Q9497-('Výstupy modelu'!$H$10-'Výstupy modelu'!$H$9),0))","v":0},null,null,{"$f":"W9496","v":1865.4300000000003},1885.4300000000003,0,{"$f":"MAX(0,D9497-'Vstupní hodnoty'!$C$5)","v":0}]
[null,"2017-04-10T07:15:00",4,1395.3600000000001,{"$f":"CEILING(IF(C9532-C9531=0,IF(H9531=0,I9531,IF(J9531>K9531,I9531,E9531)),'Výstupy modelu'!$C$7),1)","v":1664},0,0,{"$f":"IF(F9532=1,IF(G9532>'Zdrojová data'!$C$19,0,1),\"\")","v":""},1664,0,{"$f":"MIN(J9532,'Zdrojová data'!$C$17)","v":0},0,{"$f":"L9532/'Zdrojová data'!$C$16","v":0},{"$f":"M9532*'Zdrojová data'!$C$13","v":0},{"$f":"N9532*'Zdrojová data'!$C$14","v":0},0,{"$f":"IF(H9532=0,D9532-'Výstupy modelu'!$C$7,IF(P9532=1,J9532-K9532,0))","v":0},0,null,{"$f":"MAX(0,IF(Q9532>0,Q9532-('Výstupy modelu'!$H$10-'Výstupy modelu'!$H$9),0))","v":0},null,null,{"$f":"W9531","v":1865.4300000000003},1885.4300000000003,0,{"$f":"MAX(0,D9532-'Vstupní hodnoty'!$C$5)","v":0}]
[null,"2017-04-10T19:00:00",4,871.56000000000006,{"$f":"CEILING(IF(C9579-C9578=0,IF(H9578=0,I9578,IF(J9578>K9578,I9578,E9578)),'Výstupy modelu'!$C$7),1)","v":1664},0,0,{"$f":"IF(F9579=1,IF(G9579>'Zdrojová data'!$C$19,0,1),\"\")","v":""},1664,0,{"$f":"MIN(J9579,'Zdrojová data'!$C$17)","v":0},0,{"$f":"L9579/'Zdrojová data'!$C$16","v":0},{"$f":"M9579*'Zdrojová data'!$C$13","v":0},{"$f":"N9579*'Zdrojová data'!$C$14","v":0},0,{"$f":"IF(H9579=0,D9579-'Výstupy modelu'!$C$7,IF(P9579=1,J9579-K9579,0))","v":0},0,null,{"$f":"MAX(0,IF(Q9579>0,Q9579-('Výstupy modelu'!$H$10-'Výstupy modelu'!$H$9),0))","v":0},null,null,{"$f":"W9578","v":1865.4300000000003},1885.4300000000003,0,{"$f":"MAX(0,D9579-'Vstupní hodnoty'!$C$5)","v":0}]
[null,"2017-04-11T04:30:00",4,554.04000000000008,{"$f":"CEILING(IF(C9617-C9616=0,IF(H9616=0,I9616,IF(J9616>K9616,I9616,E9616)),'Výstupy modelu'!$C$7),1)","v":1664},0,0,{"$f":"IF(F9617=1,IF(G9617>'Zdrojová data'!$C$19,0,1),\"\")","v":""},1664,0,{"$f":"MIN(J9617,'Zdrojová data'!$C$17)","v":0},0,{"$f":"L9617/'Zdrojová data'!$C$16","v":0},{"$f":"M9617*'Zdrojová data'!$C$13","v":0},{"$f":"N9617*'Zdrojová data'!$C$14","v":0},0,{"$f":"IF(H9617=0,D9617-'Výstupy modelu'!$C$7,IF(P9617=1,J9617-K9617,0))","v":0},0,null,{"$f":"MAX(0,IF(Q9617>0,Q9617-('Výstupy modelu'!$H$10-'Výstupy modelu'!$H$9),0))","v":0},null,null,{"$f":"W9616","v":1865.4300000000003},1885.4300000000003,0,{"$f":"MAX(0,D9617-'Vstupní hodnoty'!$C$5)","v":0}]
[null,"2017-04-11T08:45:00",4,1455.8400000000001,{"$f":"CEILING(IF(C9634-C9633=0,IF(H9633=0,I9633,IF(J9633>K9633,I9633,E9633)),'Výstupy modelu'!$C$7),1)","v":1664},0,0,{"$f":"IF(F9634=1,IF(G9634>'Zdrojová data'!$C$19,0,1),\"\")","v":""},1664,0,{"$f":"MIN(J9634,'Zdrojová data'!$C$17)","v":0},0,{"$f":"L9634/'Zdrojová data'!$C$16","v":0},{"$f":"M9634*'Zdrojová data'!$C$13","v":0},{"$f":"N9634*'Zdrojová data'!$C$14","v":0},0,{"$f":"IF(H9634=0,D9634-'Výstupy modelu'!$C$7,IF(P9634=1,J9634-K9634,0))","v":0},0,null,{"$f":"MAX(0,IF(Q9634>0,Q9634-('Výstupy modelu'!$H$10-'Výstupy modelu'!$H$9),0))","v":0},null,null,{"$f":"W9633","v":1865.4300000000003},1885.4300000000003,0,{"$f":"MAX(0,D9634-'Vstupní hodnoty'!$C$5)","v":0}]
[null,"2017-04-11T21:30:00",4,637.20000000000005,{"$f":"CEILING(IF(C9685-C9684=0,IF(H9684=0,I9684,IF(J9684>K9684,I9684,E9684)),'Výstupy modelu'!$C$7),1)","v":1664},0,0,{"$f":"IF(F9685=1,IF(G9685>'Zdrojová data'!$C$19,0,1),\"\")","v":""},1664,0,{"$f":"MIN(J9685,'Zdrojová data'!$C$17)","v":0},0,{"$f":"L9685/'Zdrojová data'!$C$16","v":0},{"$f":"M9685*'Zdrojová data'!$C$13","v":0},{"$f":"N9685*'Zdrojová data'!$C$14","v":0},0,{"$f":"IF(H9685=0,D9685-'Výstupy modelu'!$C$7,IF(P9685=1,J9685-K9685,0))","v":0},0,null,{"$f":"MAX(0,IF(Q9685>0,Q9685-('Výstupy modelu'!$H$10-'Výstupy modelu'!$H$9),0))","v":0},null,null,{"$f":"W9684","v":1865.4300000000003},1885.4300000000003,0,{"$f":"MAX(0,D9685-'Vstupní hodnoty'!$C$5)","v":0}]
[null,"2017-04-11T21:45:00",4,570.24,{"$f":"CEILING(IF(C9686-C9685=0,IF(H9685=0,I9685,IF(J9685>K9685,I9685,E9685)),'Výstupy modelu'!$C$7),1)","v":1664},0,0,{"$f":"IF(F9686=1,IF(G9686>'Zdrojová data'!$C$19,0,1),\"\")","v":""},1664,0,{"$f":"MIN(J9686,'Zdrojová data'!$C$17)","v":0},0,{"$f":"L9686/'Zdrojová data'!$C$16","v":0},{"$f":"M9686*'Zdrojová data'!$C$13","v":0},{"$f":"N9686*'Zdrojová data'!$C$14","v":0},0,{"$f":"IF(H9686=0,D9686-'Výstupy modelu'!$C$7,IF(P9686=1,J9686-K9686,0))","v":0},0,null,{"$f":"MAX(0,IF(Q9686>0,Q9686-('Výstupy modelu'!$H$10-'Výstupy modelu'!$H$9),0))","v":0},null,null,{"$f":"W9685","v":1865.4300000000003},1885.4300000000003,0,{"$f":"MAX(0,D9686-'Vstupní hodnoty'!$C$5)","v":0}]
[null,"2017-04-12T06:15:00",4,1366.2,{"$f":"CEILING(IF(C9720-C9719=0,IF(H9719=0,I9719,IF(J9719>K9719,I9719,E9719)),'Výstupy modelu'!$C$7),1)","v":1664},0,0,{"$f":"IF(F9720=1,IF(G9720>'Zdrojová data'!$C$19,0,1),\"\")","v":""},1664,0,{"$f":"MIN(J9720,'Zdrojová data'!$C$17)","v":0},0,{"$f":"L9720/'Zdrojová data'!$C$16","v":0},{"$f":"M9720*'Zdrojová data'!$C$13","v":0},{"$f":"N9720*'Zdrojová data'!$C$14","v":0},0,{"$f":"IF(H9720=0,D9720-'Výstupy modelu'!$C$7,IF(P9720=1,J9720-K9720,0))","v":0},0,null,{"$f":"MAX(0,IF(Q9720>0,Q9720-('Výstupy modelu'!$H$10-'Výstupy modelu'!$H$9),0))","v":0},null,null,{"$f":"W9719","v":1865.4300000000003},1885.4300000000003,0,{"$f":"MAX(0,D9720-'Vstupní hodnoty'!$C$5)","v":0}]
[null,"2017-04-12T14:30:00",4,1169.6400000000001,{"$f":"CEILING(IF(C9753-C9752=0,IF(H9752=0,I9752,IF(J9752>K9752,I9752,E9752)),'Výstupy modelu'!$C$7),1)","v":1664},0,0,{"$f":"IF(F9753=1,IF(G9753>'Zdrojová data'!$C$19,0,1),\"\")","v":""},1664,0,{"$f":"MIN(J9753,'Zdrojová data'!$C$17)","v":0},0,{"$f":"L9753/'Zdrojová data'!$C$16","v":0},{"$f":"M9753*'Zdrojová data'!$C$13","v":0},{"$f":"N9753*'Zdrojová data'!$C$14","v":0},0,{"$f":"IF(H9753=0,D9753-'Výstupy modelu'!$C$7,IF(P9753=1,J9753-K9753,0))","v":0},0,null,{"$f":"MAX(0,IF(Q9753>0,Q9753-('Výstupy modelu'!$H$10-'Výstupy modelu'!$H$9),0))","v":0},null,null,{"$f":"W9752","v":1865.4300000000003},1885.4300000000003,0,{"$f":"MAX(0,D9753-'Vstupní hodnoty'!$C$5)","v":0}]
[null,"2017-04-12T23:15:00",4,430.92,{"$f":"CEILING(IF(C9788-C9787=0,IF(H9787=0,I9787,IF(J9787>K9787,I9787,E9787)),'Výstupy modelu'!$C$7),1)","v":1664},0,0,{"$f":"IF(F9788=1,IF(G9788>'Zdrojová data'!$C$19,0,1),\"\")","v":""},1664,0,{"$f":"MIN(J9788,'Zdrojová data'!$C$17)","v":0},0,{"$f":"L9788/'Zdrojová data'!$C$16","v":0},{"$f":"M9788*'Zdrojová data'!$C$13","v":0},{"$f":"N9788*'Zdrojová data'!$C$14","v":0},0,{"$f":"IF(H9788=0,D9788-'Výstupy modelu'!$C$7,IF(P9788=1,J9788-K9788,0))","v":0},0,null,{"$f":"MAX(0,IF(Q9788>0,Q9788-('Výstupy modelu'!$H$10-'Výstupy modelu'!$H$9),0))","v":0},null,null,{"$f":"W9787","v":1865.4300000000003},1885.4300000000003,0,{"$f":"MAX(0,D9788-'Vstupní hodnoty'!$C$5)","v":0}]
[null,"2017-04-13T12:00:00",4,1096.2,{"$f":"CEILING(IF(C9839-C9838=0,IF(H9838=0,I9838,IF(J9838>K9838,I9838,E9838)),'Výstupy modelu'!$C$7),1)","v":1664},0,0,{"$f":"IF(F9839=1,IF(G9839>'Zdrojová data'!$C$19,0,1),\"\")","v":""},1664,0,{"$f":"MIN(J9839,'Zdrojová data'!$C$17)","v":0},0,{"$f":"L9839/'Zdrojová data'!$C$16","v":0},{"$f":"M9839*'Zdrojová data'!$C$13","v":0},{"$f":"N9839*'Zdrojová data'!$C$14","v":0},0,{"$f":"IF(H9839=0,D9839-'Výstupy modelu'!$C$7,IF(P9839=1,J9839-K9839,0))","v":0},0,null,{"$f":"MAX(0,IF(Q9839>0,Q9839-('Výstupy modelu'!$H$10-'Výstupy modelu'!$H$9),0))","v":0},null,null,{"$f":"W9838","v":1865.4300000000003},1885.4300000000003,0,{"$f":"MAX(0,D9839-'Vstupní hodnoty'!$C$5)","v":0}]
[null,"2017-04-13T20:45:00",4,741.96,{"$f":"CEILING(IF(C9874-C9873=0,IF(H9873=0,I9873,IF(J9873>K9873,I9873,E9873)),'Výstupy modelu'!$C$7),1)","v":1664},0,0,{"$f":"IF(F9874=1,IF(G9874>'Zdrojová data'!$C$19,0,1),\"\")","v":""},1664,0,{"$f":"MIN(J9874,'Zdrojová data'!$C$17)","v":0},0,{"$f":"L9874/'Zdrojová data'!$C$16","v":0},{"$f":"M9874*'Zdrojová data'!$C$13","v":0},{"$f":"N9874*'Zdrojová data'!$C$14","v":0},0,{"$f":"IF(H9874=0,D9874-'Výstupy modelu'!$C$7,IF(P9874=1,J9874-K9874,0))","v":0},0,null,{"$f":"MAX(0,IF(Q9874>0,Q9874-('Výstupy modelu'!$H$10-'Výstupy modelu'!$H$9),0))","v":0},null,null,{"$f":"W9873","v":1865.4300000000003},1885.4300000000003,0,{"$f":"MAX(0,D9874-'Vstupní hodnoty'!$C$5)","v":0}]
[null,"2017-04-14T01:45:00",4,228.96,{"$f":"CEILING(IF(C9894-C9893=0,IF(H9893=0,I9893,IF(J9893>K9893,I9893,E9893)),'Výstupy modelu'!$C$7),1)","v":1664},0,0,{"$f":"IF(F9894=1,IF(G9894>'Zdrojová data'!$C$19,0,1),\"\")","v":""},1664,0,{"$f":"MIN(J9894,'Zdrojová data'!$C$17)","v":0},0,{"$f":"L9894/'Zdrojová data'!$C$16","v":0},{"$f":"M9894*'Zdrojová data'!$C$13","v":0},{"$f":"N9894*'Zdrojová data'!$C$14","v":0},0,{"$f":"IF(H9894=0,D9894-'Výstupy modelu'!$C$7,IF(P9894=1,J9894-K9894,0))","v":0},0,null,{"$f":"MAX(0,IF(Q9894>0,Q9894-('Výstupy modelu'!$H$10-'Výstupy modelu'!$H$9),0))","v":0},null,null,{"$f":"W9893","v":1865.4300000000003},1885.4300000000003,0,{"$f":"MAX(0,D9894-'Vstupní hodnoty'!$C$5)","v":0}]
[null,"2017-04-14T13:30:00",4,385.56,{"$f":"CEILING(IF(C9941-C9940=0,IF(H9940=0,I9940,IF(J9940>K9940,I9940,E9940)),'Výstupy modelu'!$C$7),1)","v":1664},0,0,{"$f":"IF(F9941=1,IF(G9941>'Zdrojová data'!$C$19,0,1),\"\")","v":""},1664,0,{"$f":"MIN(J9941,'Zdrojová data'!$C$17)","v":0},0,{"$f":"L9941/'Zdrojová data'!$C$16","v":0},{"$f":"M9941*'Zdrojová data'!$C$13","v":0},{"$f":"N9941*'Zdrojová data'!$C$14","v":0},0,{"$f":"IF(H9941=0,D9941-'Výstupy modelu'!$C$7,IF(P9941=1,J9941-K9941,0))","v":0},0,null,{"$f":"MAX(0,IF(Q9941>0,Q9941-('Výstupy modelu'!$H$10-'Výstupy modelu'!$H$9),0))","v":0},null,null,{"$f":"W9940","v":1865.4300000000003},1885.4300000000003,0,{"$f":"MAX(0,D9941-'Vstupní hodnoty'!$C$5)","v":0}]
[null,"2017-04-14T22:15:00",4,247.32000000000002,{"$f":"CEILING(IF(C9976-C9975=0,IF(H9975=0,I9975,IF(J9975>K9975,I9975,E9975)),'Výstupy modelu'!$C$7),1)","v":1664},0,0,{"$f":"IF(F9976=1,IF(G9976>'Zdrojová data'!$C$19,0,1),\"\")","v":""},1664,0,{"$f":"MIN(J9976,'Zdrojová data'!$C$17)","v":0},0,{"$f":"L9976/'Zdrojová data'!$C$16","v":0},{"$f":"M9976*'Zdrojová data'!$C$13","v":0},{"$f":"N9976*'Zdrojová data'!$C$14","v":0},0,{"$f":"IF(H9976=0,D9976-'Výstupy modelu'!$C$7,IF(P9976=1,J9976-K9976,0))","v":0},0,null,{"$f":"MAX(0,IF(Q9976>0,Q9976-('Výstupy modelu'!$H$10-'Výstupy modelu'!$H$9),0))","v":0},null,null,{"$f":"W9975","v":1865.4300000000003},1885.4300000000003,0,{"$f":"MAX(0,D9976-'Vstupní hodnoty'!$C$5)","v":0}]
[null,"2017-04-15T02:30:00",4,217.08,{"$f":"CEILING(IF(C9993-C9992=0,IF(H9992=0,I9992,IF(J9992>K9992,I9992,E9992)),'Výstupy modelu'!$C$7),1)","v":1664},0,0,{"$f":"IF(F9993=1,IF(G9993>'Zdrojová data'!$C$19,0,1),\"\")","v":""},1664,0,{"$f":"MIN(J9993,'Zdrojová data'!$C$17)","v":0},0,{"$f":"L9993/'Zdrojová data'!$C$16","v":0},{"$f":"M9993*'Zdrojová data'!$C$13","v":0},{"$f":"N9993*'Zdrojová data'!$C$14","v":0},0,{"$f":"IF(H9993=0,D9993-'Výstupy modelu'!$C$7,IF(P9993=1,J9993-K9993,0))","v":0},0,null,{"$f":"MAX(0,IF(Q9993>0,Q9993-('Výstupy modelu'!$H$10-'Výstupy modelu'!$H$9),0))","v":0},null,null,{"$f":"W9992","v":1865.4300000000003},1885.4300000000003,0,{"$f":"MAX(0,D9993-'Vstupní hodnoty'!$C$5)","v":0}]
[null,"2017-04-15T15:15:00",4,228.96,{"$f":"CEILING(IF(C10044-C10043=0,IF(H10043=0,I10043,IF(J10043>K10043,I10043,E10043)),'Výstupy modelu'!$C$7),1)","v":1664},0,0,{"$f":"IF(F10044=1,IF(G10044>'Zdrojová data'!$C$19,0,1),\"\")","v":""},1664,0,{"$f":"MIN(J10044,'Zdrojová data'!$C$17)","v":0},0,{"$f":"L10044/'Zdrojová data'!$C$16","v":0},{"$f":"M10044*'Zdrojová data'!$C$13","v":0},{"$f":"N10044*'Zdrojová data'!$C$14","v":0},0,{"$f":"IF(H10044=0,D10044-'Výstupy modelu'!$C$7,IF(P10044=1,J10044-K10044,0))","v":0},0,null,{"$f":"MAX(0,IF(Q10044>0,Q10044-('Výstupy modelu'!$H$10-'Výstupy modelu'!$H$9),0))","v":0},null,null,{"$f":"W10043","v":1865.4300000000003},1885.4300000000003,0,{"$f":"MAX(0,D10044-'Vstupní hodnoty'!$C$5)","v":0}]
[null,"2017-04-15T21:15:00",4,217.08,{"$f":"CEILING(IF(C10068-C10067=0,IF(H10067=0,I10067,IF(J10067>K10067,I10067,E10067)),'Výstupy modelu'!$C$7),1)","v":1664},0,0,{"$f":"IF(F10068=1,IF(G10068>'Zdrojová data'!$C$19,0,1),\"\")","v":""},1664,0,{"$f":"MIN(J10068,'Zdrojová data'!$C$17)","v":0},0,{"$f":"L10068/'Zdrojová data'!$C$16","v":0},{"$f":"M10068*'Zdrojová data'!$C$13","v":0},{"$f":"N10068*'Zdrojová data'!$C$14","v":0},0,{"$f":"IF(H10068=0,D10068-'Výstupy modelu'!$C$7,IF(P10068=1,J10068-K10068,0))","v":0},0,null,{"$f":"MAX(0,IF(Q10068>0,Q10068-('Výstupy modelu'!$H$10-'Výstupy modelu'!$H$9),0))","v":0},null,null,{"$f":"W10067","v":1865.4300000000003},1885.4300000000003,0,{"$f":"MAX(0,D10068-'Vstupní hodnoty'!$C$5)","v":0}]
[null,"2017-04-16T04:00:00",4,223.56,{"$f":"CEILING(IF(C10095-C10094=0,IF(H10094=0,I10094,IF(J10094>K10094,I10094,E10094)),'Výstupy modelu'!$C$7),1)","v":1664},0,0,{"$f":"IF(F10095=1,IF(G10095>'Zdrojová data'!$C$19,0,1),\"\")","v":""},1664,0,{"$f":"MIN(J10095,'Zdrojová data'!$C$17)","v":0},0,{"$f":"L10095/'Zdrojová data'!$C$16","v":0},{"$f":"M10095*'Zdrojová data'!$C$13","v":0},{"$f":"N10095*'Zdrojová data'!$C$14","v":0},0,{"$f":"IF(H10095=0,D10095-'Výstupy modelu'!$C$7,IF(P10095=1,J10095-K10095,0))","v":0},0,null,{"$f":"MAX(0,IF(Q10095>0,Q10095-('Výstupy modelu'!$H$10-'Výstupy modelu'!$H$9),0))","v":0},null,null,{"$f":"W10094","v":1865.4300000000003},1885.4300000000003,0,{"$f":"MAX(0,D10095-'Vstupní hodnoty'!$C$5)","v":0}]
[null,"2017-04-16T12:45:00",4,216,{"$f":"CEILING(IF(C10130-C10129=0,IF(H10129=0,I10129,IF(J10129>K10129,I10129,E10129)),'Výstupy modelu'!$C$7),1)","v":1664},0,0,{"$f":"IF(F10130=1,IF(G10130>'Zdrojová data'!$C$19,0,1),\"\")","v":""},1664,0,{"$f":"MIN(J10130,'Zdrojová data'!$C$17)","v":0},0,{"$f":"L10130/'Zdrojová data'!$C$16","v":0},{"$f":"M10130*'Zdrojová data'!$C$13","v":0},{"$f":"N10130*'Zdrojová data'!$C$14","v":0},0,{"$f":"IF(H10130=0,D10130-'Výstupy modelu'!$C$7,IF(P10130=1,J10130-K10130,0))","v":0},0,null,{"$f":"MAX(0,IF(Q10130>0,Q10130-('Výstupy modelu'!$H$10-'Výstupy modelu'!$H$9),0))","v":0},null,null,{"$f":"W10129","v":1865.4300000000003},1885.4300000000003,0,{"$f":"MAX(0,D10130-'Vstupní hodnoty'!$C$5)","v":0}]
[null,"2017-04-17T01:30:00",{"$f":"MONTH(B10181)","v":4},234.36,{"$f":"CEILING(IF(C10181-C10180=0,IF(H10180=0,I10180,IF(J10180>K10180,I10180,E10180)),'Výstupy modelu'!$C$7),1)","v":1664},0,{"$f":"IF(F10181=1,RANDBETWEEN(0,100),0)","v":0},{"$f":"IF(F10181=1,IF(G10181>'Zdrojová data'!$C$19,0,1),\"\")","v":""},1664,0,{"$f":"MIN(J10181,'Zdrojová data'!$C$17)","v":0},{"$f":"K10181/4","v":0},{"$f":"L10181/'Zdrojová data'!$C$16","v":0},{"$f":"M10181*'Zdrojová data'!$C$13","v":0},{"$f":"N10181*'Zdrojová data'!$C$14","v":0},{"$f":"IF(H10181=0,1,IF(J10181>K10181,1,0))","v":0},{"$f":"IF(H10181=0,D10181-'Výstupy modelu'!$C$7,IF(P10181=1,J10181-K10181,0))","v":0},{"$f":"IF(H10181=0,1,IF(J10181>K10181,1,0))","v":0},null,{"$f":"MAX(0,IF(Q10181>0,Q10181-('Výstupy modelu'!$H$10-'Výstupy modelu'!$H$9),0))","v":0},null,null,{"$f":"W10180","v":1865.4300000000003},1885.4300000000003,0,{"$f":"MAX(0,D10181-'Vstupní hodnoty'!$C$5)","v":0}]
[null,"2017-04-17T05:45:00",4,314.28000000000003,{"$f":"CEILING(IF(C10198-C10197=0,IF(H10197=0,I10197,IF(J10197>K10197,I10197,E10197)),'Výstupy modelu'!$C$7),1)","v":1664},0,0,{"$f":"IF(F10198=1,IF(G10198>'Zdrojová data'!$C$19,0,1),\"\")","v":""},1664,0,{"$f":"MIN(J10198,'Zdrojová data'!$C$17)","v":0},0,{"$f":"L10198/'Zdrojová data'!$C$16","v":0},{"$f":"M10198*'Zdrojová data'!$C$13","v":0},{"$f":"N10198*'Zdrojová data'!$C$14","v":0},0,{"$f":"IF(H10198=0,D10198-'Výstupy modelu'!$C$7,IF(P10198=1,J10198-K10198,0))","v":0},0,null,{"$f":"MAX(0,IF(Q10198>0,Q10198-('Výstupy modelu'!$H$10-'Výstupy modelu'!$H$9),0))","v":0},null,null,{"$f":"W10197","v":1865.4300000000003},1885.4300000000003,0,{"$f":"MAX(0,D10198-'Vstupní hodnoty'!$C$5)","v":0}]
[null,"2017-04-17T16:45:00",4,314.28000000000003,{"$f":"CEILING(IF(C10242-C10241=0,IF(H10241=0,I10241,IF(J10241>K10241,I10241,E10241)),'Výstupy modelu'!$C$7),1)","v":1664},0,0,{"$f":"IF(F10242=1,IF(G10242>'Zdrojová data'!$C$19,0,1),\"\")","v":""},1664,0,{"$f":"MIN(J10242,'Zdrojová data'!$C$17)","v":0},0,{"$f":"L10242/'Zdrojová data'!$C$16","v":0},{"$f":"M10242*'Zdrojová data'!$C$13","v":0},{"$f":"N10242*'Zdrojová data'!$C$14","v":0},0,{"$f":"IF(H10242=0,D10242-'Výstupy modelu'!$C$7,IF(P10242=1,J10242-K10242,0))","v":0},0,null,{"$f":"MAX(0,IF(Q10242>0,Q10242-('Výstupy modelu'!$H$10-'Výstupy modelu'!$H$9),0))","v":0},null,null,{"$f":"W10241","v":1865.4300000000003},1885.4300000000003,0,{"$f":"MAX(0,D10242-'Vstupní hodnoty'!$C$5)","v":0}]
[null,"2017-04-18T03:00:00",4,461.16,{"$f":"CEILING(IF(C10283-C10282=0,IF(H10282=0,I10282,IF(J10282>K10282,I10282,E10282)),'Výstupy modelu'!$C$7),1)","v":1664},0,0,{"$f":"IF(F10283=1,IF(G10283>'Zdrojová data'!$C$19,0,1),\"\")","v":""},1664,0,{"$f":"MIN(J10283,'Zdrojová data'!$C$17)","v":0},0,{"$f":"L10283/'Zdrojová data'!$C$16","v":0},{"$f":"M10283*'Zdrojová data'!$C$13","v":0},{"$f":"N10283*'Zdrojová data'!$C$14","v":0},0,{"$f":"IF(H10283=0,D10283-'Výstupy modelu'!$C$7,IF(P10283=1,J10283-K10283,0))","v":0},0,null,{"$f":"MAX(0,IF(Q10283>0,Q10283-('Výstupy modelu'!$H$10-'Výstupy modelu'!$H$9),0))","v":0},null,null,{"$f":"W10282","v":1865.4300000000003},1885.4300000000003,0,{"$f":"MAX(0,D10283-'Vstupní hodnoty'!$C$5)","v":0}]
[null,"2017-04-18T11:45:00",4,1218.24,{"$f":"CEILING(IF(C10318-C10317=0,IF(H10317=0,I10317,IF(J10317>K10317,I10317,E10317)),'Výstupy modelu'!$C$7),1)","v":1664},0,0,{"$f":"IF(F10318=1,IF(G10318>'Zdrojová data'!$C$19,0,1),\"\")","v":""},1664,0,{"$f":"MIN(J10318,'Zdrojová data'!$C$17)","v":0},0,{"$f":"L10318/'Zdrojová data'!$C$16","v":0},{"$f":"M10318*'Zdrojová data'!$C$13","v":0},{"$f":"N10318*'Zdrojová data'!$C$14","v":0},0,{"$f":"IF(H10318=0,D10318-'Výstupy modelu'!$C$7,IF(P10318=1,J10318-K10318,0))","v":0},0,null,{"$f":"MAX(0,IF(Q10318>0,Q10318-('Výstupy modelu'!$H$10-'Výstupy modelu'!$H$9),0))","v":0},null,null,{"$f":"W10317","v":1865.4300000000003},1885.4300000000003,0,{"$f":"MAX(0,D10318-'Vstupní hodnoty'!$C$5)","v":0}]
[null,"2017-04-18T16:00:00",4,975.24,{"$f":"CEILING(IF(C10335-C10334=0,IF(H10334=0,I10334,IF(J10334>K10334,I10334,E10334)),'Výstupy modelu'!$C$7),1)","v":1664},0,0,{"$f":"IF(F10335=1,IF(G10335>'Zdrojová data'!$C$19,0,1),\"\")","v":""},1664,0,{"$f":"MIN(J10335,'Zdrojová data'!$C$17)","v":0},0,{"$f":"L10335/'Zdrojová data'!$C$16","v":0},{"$f":"M10335*'Zdrojová data'!$C$13","v":0},{"$f":"N10335*'Zdrojová data'!$C$14","v":0},0,{"$f":"IF(H10335=0,D10335-'Výstupy modelu'!$C$7,IF(P10335=1,J10335-K10335,0))","v":0},0,null,{"$f":"MAX(0,IF(Q10335>0,Q10335-('Výstupy modelu'!$H$10-'Výstupy modelu'!$H$9),0))","v":0},null,null,{"$f":"W10334","v":1865.4300000000003},1885.4300000000003,0,{"$f":"MAX(0,D10335-'Vstupní hodnoty'!$C$5)","v":0}]
[null,"2017-04-19T04:45:00",4,545.40000000000009,{"$f":"CEILING(IF(C10386-C10385=0,IF(H10385=0,I10385,IF(J10385>K10385,I10385,E10385)),'Výstupy modelu'!$C$7),1)","v":1664},0,0,{"$f":"IF(F10386=1,IF(G10386>'Zdrojová data'!$C$19,0,1),\"\")","v":""},1664,0,{"$f":"MIN(J10386,'Zdrojová data'!$C$17)","v":0},0,{"$f":"L10386/'Zdrojová data'!$C$16","v":0},{"$f":"M10386*'Zdrojová data'!$C$13","v":0},{"$f":"N10386*'Zdrojová data'!$C$14","v":0},0,{"$f":"IF(H10386=0,D10386-'Výstupy modelu'!$C$7,IF(P10386=1,J10386-K10386,0))","v":0},0,null,{"$f":"MAX(0,IF(Q10386>0,Q10386-('Výstupy modelu'!$H$10-'Výstupy modelu'!$H$9),0))","v":0},null,null,{"$f":"W10385","v":1865.4300000000003},1885.4300000000003,0,{"$f":"MAX(0,D10386-'Vstupní hodnoty'!$C$5)","v":0}]
[null,"2017-04-19T12:15:00",4,1004.4000000000001,{"$f":"CEILING(IF(C10416-C10415=0,IF(H10415=0,I10415,IF(J10415>K10415,I10415,E10415)),'Výstupy modelu'!$C$7),1)","v":1664},0,0,{"$f":"IF(F10416=1,IF(G10416>'Zdrojová data'!$C$19,0,1),\"\")","v":""},1664,0,{"$f":"MIN(J10416,'Zdrojová data'!$C$17)","v":0},0,{"$f":"L10416/'Zdrojová data'!$C$16","v":0},{"$f":"M10416*'Zdrojová data'!$C$13","v":0},{"$f":"N10416*'Zdrojová data'!$C$14","v":0},0,{"$f":"IF(H10416=0,D10416-'Výstupy modelu'!$C$7,IF(P10416=1,J10416-K10416,0))","v":0},0,null,{"$f":"MAX(0,IF(Q10416>0,Q10416-('Výstupy modelu'!$H$10-'Výstupy modelu'!$H$9),0))","v":0},null,null,{"$f":"W10415","v":1865.4300000000003},1885.4300000000003,0,{"$f":"MAX(0,D10416-'Vstupní hodnoty'!$C$5)","v":0}]
[null,"2017-04-19T17:30:00",{"$f":"MONTH(B10437)","v":4},935.28000000000009,{"$f":"CEILING(IF(C10437-C10436=0,IF(H10436=0,I10436,IF(J10436>K10436,I10436,E10436)),'Výstupy modelu'!$C$7),1)","v":1664},0,{"$f":"IF(F10437=1,RANDBETWEEN(0,100),0)","v":0},{"$f":"IF(F10437=1,IF(G10437>'Zdrojová data'!$C$19,0,1),\"\")","v":""},1664,0,{"$f":"MIN(J10437,'Zdrojová data'!$C$17)","v":0},{"$f":"K10437/4","v":0},{"$f":"L10437/'Zdrojová data'!$C$16","v":0},{"$f":"M10437*'Zdrojová data'!$C$13","v":0},{"$f":"N10437*'Zdrojová data'!$C$14","v":0},{"$f":"IF(H10437=0,1,IF(J10437>K10437,1,0))","v":0},{"$f":"IF(H10437=0,D10437-'Výstupy modelu'!$C$7,IF(P10437=1,J10437-K10437,0))","v":0},{"$f":"IF(H10437=0,1,IF(J10437>K10437,1,0))","v":0},null,{"$f":"MAX(0,IF(Q10437>0,Q10437-('Výstupy modelu'!$H$10-'Výstupy modelu'!$H$9),0))","v":0},null,null,{"$f":"W10436","v":1865.4300000000003},1885.4300000000003,0,{"$f":"MAX(0,D10437-'Vstupní hodnoty'!$C$5)","v":0}]
[null,"2017-04-20T06:15:00",4,1365.1200000000001,{"$f":"CEILING(IF(C10488-C10487=0,IF(H10487=0,I10487,IF(J10487>K10487,I10487,E10487)),'Výstupy modelu'!$C$7),1)","v":1664},0,0,{"$f":"IF(F10488=1,IF(G10488>'Zdrojová data'!$C$19,0,1),\"\")","v":""},1664,0,{"$f":"MIN(J10488,'Zdrojová data'!$C$17)","v":0},0,{"$f":"L10488/'Zdrojová data'!$C$16","v":0},{"$f":"M10488*'Zdrojová data'!$C$13","v":0},{"$f":"N10488*'Zdrojová data'!$C$14","v":0},0,{"$f":"IF(H10488=0,D10488-'Výstupy modelu'!$C$7,IF(P10488=1,J10488-K10488,0))","v":0},0,null,{"$f":"MAX(0,IF(Q10488>0,Q10488-('Výstupy modelu'!$H$10-'Výstupy modelu'!$H$9),0))","v":0},null,null,{"$f":"W10487","v":1865.4300000000003},1885.4300000000003,0,{"$f":"MAX(0,D10488-'Vstupní hodnoty'!$C$5)","v":0}]
[null,"2017-04-20T15:00:00",4,1151.28,{"$f":"CEILING(IF(C10523-C10522=0,IF(H10522=0,I10522,IF(J10522>K10522,I10522,E10522)),'Výstupy modelu'!$C$7),1)","v":1664},0,0,{"$f":"IF(F10523=1,IF(G10523>'Zdrojová data'!$C$19,0,1),\"\")","v":""},1664,0,{"$f":"MIN(J10523,'Zdrojová data'!$C$17)","v":0},0,{"$f":"L10523/'Zdrojová data'!$C$16","v":0},{"$f":"M10523*'Zdrojová data'!$C$13","v":0},{"$f":"N10523*'Zdrojová data'!$C$14","v":0},0,{"$f":"IF(H10523=0,D10523-'Výstupy modelu'!$C$7,IF(P10523=1,J10523-K10523,0))","v":0},0,null,{"$f":"MAX(0,IF(Q10523>0,Q10523-('Výstupy modelu'!$H$10-'Výstupy modelu'!$H$9),0))","v":0},null,null,{"$f":"W10522","v":1865.4300000000003},1885.4300000000003,0,{"$f":"MAX(0,D10523-'Vstupní hodnoty'!$C$5)","v":0}]
[null,"2017-04-20T20:45:00",4,869.40000000000009,{"$f":"CEILING(IF(C10546-C10545=0,IF(H10545=0,I10545,IF(J10545>K10545,I10545,E10545)),'Výstupy modelu'!$C$7),1)","v":1664},0,0,{"$f":"IF(F10546=1,IF(G10546>'Zdrojová data'!$C$19,0,1),\"\")","v":""},1664,0,{"$f":"MIN(J10546,'Zdrojová data'!$C$17)","v":0},0,{"$f":"L10546/'Zdrojová data'!$C$16","v":0},{"$f":"M10546*'Zdrojová data'!$C$13","v":0},{"$f":"N10546*'Zdrojová data'!$C$14","v":0},0,{"$f":"IF(H10546=0,D10546-'Výstupy modelu'!$C$7,IF(P10546=1,J10546-K10546,0))","v":0},0,null,{"$f":"MAX(0,IF(Q10546>0,Q10546-('Výstupy modelu'!$H$10-'Výstupy modelu'!$H$9),0))","v":0},null,null,{"$f":"W10545","v":1865.4300000000003},1885.4300000000003,0,{"$f":"MAX(0,D10546-'Vstupní hodnoty'!$C$5)","v":0}]
[null,"2017-04-21T03:45:00",4,460.08000000000004,{"$f":"CEILING(IF(C10574-C10573=0,IF(H10573=0,I10573,IF(J10573>K10573,I10573,E10573)),'Výstupy modelu'!$C$7),1)","v":1664},0,0,{"$f":"IF(F10574=1,IF(G10574>'Zdrojová data'!$C$19,0,1),\"\")","v":""},1664,0,{"$f":"MIN(J10574,'Zdrojová data'!$C$17)","v":0},0,{"$f":"L10574/'Zdrojová data'!$C$16","v":0},{"$f":"M10574*'Zdrojová data'!$C$13","v":0},{"$f":"N10574*'Zdrojová data'!$C$14","v":0},0,{"$f":"IF(H10574=0,D10574-'Výstupy modelu'!$C$7,IF(P10574=1,J10574-K10574,0))","v":0},0,null,{"$f":"MAX(0,IF(Q10574>0,Q10574-('Výstupy modelu'!$H$10-'Výstupy modelu'!$H$9),0))","v":0},null,null,{"$f":"W10573","v":1865.4300000000003},1885.4300000000003,0,{"$f":"MAX(0,D10574-'Vstupní hodnoty'!$C$5)","v":0}]
[null,"2017-04-21T16:30:00",4,989.28000000000009,{"$f":"CEILING(IF(C10625-C10624=0,IF(H10624=0,I10624,IF(J10624>K10624,I10624,E10624)),'Výstupy modelu'!$C$7),1)","v":1664},0,0,{"$f":"IF(F10625=1,IF(G10625>'Zdrojová data'!$C$19,0,1),\"\")","v":""},1664,0,{"$f":"MIN(J10625,'Zdrojová data'!$C$17)","v":0},0,{"$f":"L10625/'Zdrojová data'!$C$16","v":0},{"$f":"M10625*'Zdrojová data'!$C$13","v":0},{"$f":"N10625*'Zdrojová data'!$C$14","v":0},0,{"$f":"IF(H10625=0,D10625-'Výstupy modelu'!$C$7,IF(P10625=1,J10625-K10625,0))","v":0},0,null,{"$f":"MAX(0,IF(Q10625>0,Q10625-('Výstupy modelu'!$H$10-'Výstupy modelu'!$H$9),0))","v":0},null,null,{"$f":"W10624","v":1865.4300000000003},1885.4300000000003,0,{"$f":"MAX(0,D10625-'Vstupní hodnoty'!$C$5)","v":0}]
[null,"2017-04-21T20:45:00",4,639.36,{"$f":"CEILING(IF(C10642-C10641=0,IF(H10641=0,I10641,IF(J10641>K10641,I10641,E10641)),'Výstupy modelu'!$C$7),1)","v":1664},0,0,{"$f":"IF(F10642=1,IF(G10642>'Zdrojová data'!$C$19,0,1),\"\")","v":""},1664,0,{"$f":"MIN(J10642,'Zdrojová data'!$C$17)","v":0},0,{"$f":"L10642/'Zdrojová data'!$C$16","v":0},{"$f":"M10642*'Zdrojová data'!$C$13","v":0},{"$f":"N10642*'Zdrojová data'!$C$14","v":0},0,{"$f":"IF(H10642=0,D10642-'Výstupy modelu'!$C$7,IF(P10642=1,J10642-K10642,0))","v":0},0,null,{"$f":"MAX(0,IF(Q10642>0,Q10642-('Výstupy modelu'!$H$10-'Výstupy modelu'!$H$9),0))","v":0},null,null,{"$f":"W10641","v":1865.4300000000003},1885.4300000000003,0,{"$f":"MAX(0,D10642-'Vstupní hodnoty'!$C$5)","v":0}]
[null,"2017-04-22T05:30:00",4,443.88000000000005,{"$f":"CEILING(IF(C10677-C10676=0,IF(H10676=0,I10676,IF(J10676>K10676,I10676,E10676)),'Výstupy modelu'!$C$7),1)","v":1664},0,0,{"$f":"IF(F10677=1,IF(G10677>'Zdrojová data'!$C$19,0,1),\"\")","v":""},1664,0,{"$f":"MIN(J10677,'Zdrojová data'!$C$17)","v":0},0,{"$f":"L10677/'Zdrojová data'!$C$16","v":0},{"$f":"M10677*'Zdrojová data'!$C$13","v":0},{"$f":"N10677*'Zdrojová data'!$C$14","v":0},0,{"$f":"IF(H10677=0,D10677-'Výstupy modelu'!$C$7,IF(P10677=1,J10677-K10677,0))","v":0},0,null,{"$f":"MAX(0,IF(Q10677>0,Q10677-('Výstupy modelu'!$H$10-'Výstupy modelu'!$H$9),0))","v":0},null,null,{"$f":"W10676","v":1865.4300000000003},1885.4300000000003,0,{"$f":"MAX(0,D10677-'Vstupní hodnoty'!$C$5)","v":0}]
[null,"2017-04-22T16:15:00",4,240.84,{"$f":"CEILING(IF(C10720-C10719=0,IF(H10719=0,I10719,IF(J10719>K10719,I10719,E10719)),'Výstupy modelu'!$C$7),1)","v":1664},0,0,{"$f":"IF(F10720=1,IF(G10720>'Zdrojová data'!$C$19,0,1),\"\")","v":""},1664,0,{"$f":"MIN(J10720,'Zdrojová data'!$C$17)","v":0},0,{"$f":"L10720/'Zdrojová data'!$C$16","v":0},{"$f":"M10720*'Zdrojová data'!$C$13","v":0},{"$f":"N10720*'Zdrojová data'!$C$14","v":0},0,{"$f":"IF(H10720=0,D10720-'Výstupy modelu'!$C$7,IF(P10720=1,J10720-K10720,0))","v":0},0,null,{"$f":"MAX(0,IF(Q10720>0,Q10720-('Výstupy modelu'!$H$10-'Výstupy modelu'!$H$9),0))","v":0},null,null,{"$f":"W10719","v":1865.4300000000003},1885.4300000000003,0,{"$f":"MAX(0,D10720-'Vstupní hodnoty'!$C$5)","v":0}]
[null,"2017-04-23T02:45:00",4,219.24,{"$f":"CEILING(IF(C10762-C10761=0,IF(H10761=0,I10761,IF(J10761>K10761,I10761,E10761)),'Výstupy modelu'!$C$7),1)","v":1664},0,0,{"$f":"IF(F10762=1,IF(G10762>'Zdrojová data'!$C$19,0,1),\"\")","v":""},1664,0,{"$f":"MIN(J10762,'Zdrojová data'!$C$17)","v":0},0,{"$f":"L10762/'Zdrojová data'!$C$16","v":0},{"$f":"M10762*'Zdrojová data'!$C$13","v":0},{"$f":"N10762*'Zdrojová data'!$C$14","v":0},0,{"$f":"IF(H10762=0,D10762-'Výstupy modelu'!$C$7,IF(P10762=1,J10762-K10762,0))","v":0},0,null,{"$f":"MAX(0,IF(Q10762>0,Q10762-('Výstupy modelu'!$H$10-'Výstupy modelu'!$H$9),0))","v":0},null,null,{"$f":"W10761","v":1865.4300000000003},1885.4300000000003,0,{"$f":"MAX(0,D10762-'Vstupní hodnoty'!$C$5)","v":0}]
[null,"2017-04-23T07:00:00",4,223.56,{"$f":"CEILING(IF(C10779-C10778=0,IF(H10778=0,I10778,IF(J10778>K10778,I10778,E10778)),'Výstupy modelu'!$C$7),1)","v":1664},0,0,{"$f":"IF(F10779=1,IF(G10779>'Zdrojová data'!$C$19,0,1),\"\")","v":""},1664,0,{"$f":"MIN(J10779,'Zdrojová data'!$C$17)","v":0},0,{"$f":"L10779/'Zdrojová data'!$C$16","v":0},{"$f":"M10779*'Zdrojová data'!$C$13","v":0},{"$f":"N10779*'Zdrojová data'!$C$14","v":0},0,{"$f":"IF(H10779=0,D10779-'Výstupy modelu'!$C$7,IF(P10779=1,J10779-K10779,0))","v":0},0,null,{"$f":"MAX(0,IF(Q10779>0,Q10779-('Výstupy modelu'!$H$10-'Výstupy modelu'!$H$9),0))","v":0},null,null,{"$f":"W10778","v":1865.4300000000003},1885.4300000000003,0,{"$f":"MAX(0,D10779-'Vstupní hodnoty'!$C$5)","v":0}]
[null,"2017-04-23T19:45:00",4,211.68,{"$f":"CEILING(IF(C10830-C10829=0,IF(H10829=0,I10829,IF(J10829>K10829,I10829,E10829)),'Výstupy modelu'!$C$7),1)","v":1664},0,0,{"$f":"IF(F10830=1,IF(G10830>'Zdrojová data'!$C$19,0,1),\"\")","v":""},1664,0,{"$f":"MIN(J10830,'Zdrojová data'!$C$17)","v":0},0,{"$f":"L10830/'Zdrojová data'!$C$16","v":0},{"$f":"M10830*'Zdrojová data'!$C$13","v":0},{"$f":"N10830*'Zdrojová data'!$C$14","v":0},0,{"$f":"IF(H10830=0,D10830-'Výstupy modelu'!$C$7,IF(P10830=1,J10830-K10830,0))","v":0},0,null,{"$f":"MAX(0,IF(Q10830>0,Q10830-('Výstupy modelu'!$H$10-'Výstupy modelu'!$H$9),0))","v":0},null,null,{"$f":"W10829","v":1865.4300000000003},1885.4300000000003,0,{"$f":"MAX(0,D10830-'Vstupní hodnoty'!$C$5)","v":0}]
[null,"2017-04-24T04:30:00",4,558.36,{"$f":"CEILING(IF(C10865-C10864=0,IF(H10864=0,I10864,IF(J10864>K10864,I10864,E10864)),'Výstupy modelu'!$C$7),1)","v":1664},0,0,{"$f":"IF(F10865=1,IF(G10865>'Zdrojová data'!$C$19,0,1),\"\")","v":""},1664,0,{"$f":"MIN(J10865,'Zdrojová data'!$C$17)","v":0},0,{"$f":"L10865/'Zdrojová data'!$C$16","v":0},{"$f":"M10865*'Zdrojová data'!$C$13","v":0},{"$f":"N10865*'Zdrojová data'!$C$14","v":0},0,{"$f":"IF(H10865=0,D10865-'Výstupy modelu'!$C$7,IF(P10865=1,J10865-K10865,0))","v":0},0,null,{"$f":"MAX(0,IF(Q10865>0,Q10865-('Výstupy modelu'!$H$10-'Výstupy modelu'!$H$9),0))","v":0},null,null,{"$f":"W10864","v":1865.4300000000003},1885.4300000000003,{"$f":"MAX(0,D10865-W10865)","v":0},{"$f":"MAX(0,D10865-'Vstupní hodnoty'!$C$5)","v":0}]
[null,"2017-04-24T11:45:00",4,1294.92,{"$f":"CEILING(IF(C10894-C10893=0,IF(H10893=0,I10893,IF(J10893>K10893,I10893,E10893)),'Výstupy modelu'!$C$7),1)","v":1664},0,0,{"$f":"IF(F10894=1,IF(G10894>'Zdrojová data'!$C$19,0,1),\"\")","v":""},1664,0,{"$f":"MIN(J10894,'Zdrojová data'!$C$17)","v":0},0,{"$f":"L10894/'Zdrojová data'!$C$16","v":0},{"$f":"M10894*'Zdrojová data'!$C$13","v":0},{"$f":"N10894*'Zdrojová data'!$C$14","v":0},0,{"$f":"IF(H10894=0,D10894-'Výstupy modelu'!$C$7,IF(P10894=1,J10894-K10894,0))","v":0},0,null,{"$f":"MAX(0,IF(Q10894>0,Q10894-('Výstupy modelu'!$H$10-'Výstupy modelu'!$H$9),0))","v":0},null,null,{"$f":"W10893","v":1865.4300000000003},1885.4300000000003,0,{"$f":"MAX(0,D10894-'Vstupní hodnoty'!$C$5)","v":0}]
[null,"2017-04-24T21:15:00",4,731.16000000000008,{"$f":"CEILING(IF(C10932-C10931=0,IF(H10931=0,I10931,IF(J10931>K10931,I10931,E10931)),'Výstupy modelu'!$C$7),1)","v":1664},0,0,{"$f":"IF(F10932=1,IF(G10932>'Zdrojová data'!$C$19,0,1),\"\")","v":""},1664,0,{"$f":"MIN(J10932,'Zdrojová data'!$C$17)","v":0},0,{"$f":"L10932/'Zdrojová data'!$C$16","v":0},{"$f":"M10932*'Zdrojová data'!$C$13","v":0},{"$f":"N10932*'Zdrojová data'!$C$14","v":0},0,{"$f":"IF(H10932=0,D10932-'Výstupy modelu'!$C$7,IF(P10932=1,J10932-K10932,0))","v":0},0,null,{"$f":"MAX(0,IF(Q10932>0,Q10932-('Výstupy modelu'!$H$10-'Výstupy modelu'!$H$9),0))","v":0},null,null,{"$f":"W10931","v":1865.4300000000003},1885.4300000000003,0,{"$f":"MAX(0,D10932-'Vstupní hodnoty'!$C$5)","v":0}]
[null,"2017-04-25T06:00:00",4,1156.68,{"$f":"CEILING(IF(C10967-C10966=0,IF(H10966=0,I10966,IF(J10966>K10966,I10966,E10966)),'Výstupy modelu'!$C$7),1)","v":1664},0,0,{"$f":"IF(F10967=1,IF(G10967>'Zdrojová data'!$C$19,0,1),\"\")","v":""},1664,0,{"$f":"MIN(J10967,'Zdrojová data'!$C$17)","v":0},0,{"$f":"L10967/'Zdrojová data'!$C$16","v":0},{"$f":"M10967*'Zdrojová data'!$C$13","v":0},{"$f":"N10967*'Zdrojová data'!$C$14","v":0},0,{"$f":"IF(H10967=0,D10967-'Výstupy modelu'!$C$7,IF(P10967=1,J10967-K10967,0))","v":0},0,null,{"$f":"MAX(0,IF(Q10967>0,Q10967-('Výstupy modelu'!$H$10-'Výstupy modelu'!$H$9),0))","v":0},null,null,{"$f":"W10966","v":1865.4300000000003},1885.4300000000003,0,{"$f":"MAX(0,D10967-'Vstupní hodnoty'!$C$5)","v":0}]
[null,"2017-04-25T10:15:00",4,1289.52,{"$f":"CEILING(IF(C10984-C10983=0,IF(H10983=0,I10983,IF(J10983>K10983,I10983,E10983)),'Výstupy modelu'!$C$7),1)","v":1664},0,0,{"$f":"IF(F10984=1,IF(G10984>'Zdrojová data'!$C$19,0,1),\"\")","v":""},1664,0,{"$f":"MIN(J10984,'Zdrojová data'!$C$17)","v":0},0,{"$f":"L10984/'Zdrojová data'!$C$16","v":0},{"$f":"M10984*'Zdrojová data'!$C$13","v":0},{"$f":"N10984*'Zdrojová data'!$C$14","v":0},0,{"$f":"IF(H10984=0,D10984-'Výstupy modelu'!$C$7,IF(P10984=1,J10984-K10984,0))","v":0},0,null,{"$f":"MAX(0,IF(Q10984>0,Q10984-('Výstupy modelu'!$H$10-'Výstupy modelu'!$H$9),0))","v":0},null,null,{"$f":"W10983","v":1865.4300000000003},1885.4300000000003,0,{"$f":"MAX(0,D10984-'Vstupní hodnoty'!$C$5)","v":0}]
[null,"2017-04-25T19:00:00",4,878.04000000000008,{"$f":"CEILING(IF(C11019-C11018=0,IF(H11018=0,I11018,IF(J11018>K11018,I11018,E11018)),'Výstupy modelu'!$C$7),1)","v":1664},0,0,{"$f":"IF(F11019=1,IF(G11019>'Zdrojová data'!$C$19,0,1),\"\")","v":""},1664,0,{"$f":"MIN(J11019,'Zdrojová data'!$C$17)","v":0},0,{"$f":"L11019/'Zdrojová data'!$C$16","v":0},{"$f":"M11019*'Zdrojová data'!$C$13","v":0},{"$f":"N11019*'Zdrojová data'!$C$14","v":0},0,{"$f":"IF(H11019=0,D11019-'Výstupy modelu'!$C$7,IF(P11019=1,J11019-K11019,0))","v":0},0,null,{"$f":"MAX(0,IF(Q11019>0,Q11019-('Výstupy modelu'!$H$10-'Výstupy modelu'!$H$9),0))","v":0},null,null,{"$f":"W11018","v":1865.4300000000003},1885.4300000000003,0,{"$f":"MAX(0,D11019-'Vstupní hodnoty'!$C$5)","v":0}]
[null,"2017-04-26T07:15:00",4,1398.6000000000001,{"$f":"CEILING(IF(C11068-C11067=0,IF(H11067=0,I11067,IF(J11067>K11067,I11067,E11067)),'Výstupy modelu'!$C$7),1)","v":1664},0,0,{"$f":"IF(F11068=1,IF(G11068>'Zdrojová data'!$C$19,0,1),\"\")","v":""},1664,0,{"$f":"MIN(J11068,'Zdrojová data'!$C$17)","v":0},0,{"$f":"L11068/'Zdrojová data'!$C$16","v":0},{"$f":"M11068*'Zdrojová data'!$C$13","v":0},{"$f":"N11068*'Zdrojová data'!$C$14","v":0},0,{"$f":"IF(H11068=0,D11068-'Výstupy modelu'!$C$7,IF(P11068=1,J11068-K11068,0))","v":0},0,null,{"$f":"MAX(0,IF(Q11068>0,Q11068-('Výstupy modelu'!$H$10-'Výstupy modelu'!$H$9),0))","v":0},null,null,{"$f":"W11067","v":1865.4300000000003},1885.4300000000003,0,{"$f":"MAX(0,D11068-'Vstupní hodnoty'!$C$5)","v":0}]
[null,"2017-04-26T11:45:00",4,1235.52,{"$f":"CEILING(IF(C11086-C11085=0,IF(H11085=0,I11085,IF(J11085>K11085,I11085,E11085)),'Výstupy modelu'!$C$7),1)","v":1664},0,0,{"$f":"IF(F11086=1,IF(G11086>'Zdrojová data'!$C$19,0,1),\"\")","v":""},1664,0,{"$f":"MIN(J11086,'Zdrojová data'!$C$17)","v":0},0,{"$f":"L11086/'Zdrojová data'!$C$16","v":0},{"$f":"M11086*'Zdrojová data'!$C$13","v":0},{"$f":"N11086*'Zdrojová data'!$C$14","v":0},0,{"$f":"IF(H11086=0,D11086-'Výstupy modelu'!$C$7,IF(P11086=1,J11086-K11086,0))","v":0},0,null,{"$f":"MAX(0,IF(Q11086>0,Q11086-('Výstupy modelu'!$H$10-'Výstupy modelu'!$H$9),0))","v":0},null,null,{"$f":"W11085","v":1865.4300000000003},1885.4300000000003,0,{"$f":"MAX(0,D11086-'Vstupní hodnoty'!$C$5)","v":0}]
[null,"2017-04-26T20:30:00",4,918.00000000000011,{"$f":"CEILING(IF(C11121-C11120=0,IF(H11120=0,I11120,IF(J11120>K11120,I11120,E11120)),'Výstupy modelu'!$C$7),1)","v":1664},0,0,{"$f":"IF(F11121=1,IF(G11121>'Zdrojová data'!$C$19,0,1),\"\")","v":""},1664,0,{"$f":"MIN(J11121,'Zdrojová data'!$C$17)","v":0},0,{"$f":"L11121/'Zdrojová data'!$C$16","v":0},{"$f":"M11121*'Zdrojová data'!$C$13","v":0},{"$f":"N11121*'Zdrojová data'!$C$14","v":0},0,{"$f":"IF(H11121=0,D11121-'Výstupy modelu'!$C$7,IF(P11121=1,J11121-K11121,0))","v":0},0,null,{"$f":"MAX(0,IF(Q11121>0,Q11121-('Výstupy modelu'!$H$10-'Výstupy modelu'!$H$9),0))","v":0},null,null,{"$f":"W11120","v":1865.4300000000003},1885.4300000000003,{"$f":"MAX(0,D11121-W11121)","v":0},{"$f":"MAX(0,D11121-'Vstupní hodnoty'!$C$5)","v":0}]
[null,"2017-04-27T09:15:00",4,1443.96,{"$f":"CEILING(IF(C11172-C11171=0,IF(H11171=0,I11171,IF(J11171>K11171,I11171,E11171)),'Výstupy modelu'!$C$7),1)","v":1664},0,0,{"$f":"IF(F11172=1,IF(G11172>'Zdrojová data'!$C$19,0,1),\"\")","v":""},1664,0,{"$f":"MIN(J11172,'Zdrojová data'!$C$17)","v":0},0,{"$f":"L11172/'Zdrojová data'!$C$16","v":0},{"$f":"M11172*'Zdrojová data'!$C$13","v":0},{"$f":"N11172*'Zdrojová data'!$C$14","v":0},0,{"$f":"IF(H11172=0,D11172-'Výstupy modelu'!$C$7,IF(P11172=1,J11172-K11172,0))","v":0},0,null,{"$f":"MAX(0,IF(Q11172>0,Q11172-('Výstupy modelu'!$H$10-'Výstupy modelu'!$H$9),0))","v":0},null,null,{"$f":"W11171","v":1865.4300000000003},1885.4300000000003,0,{"$f":"MAX(0,D11172-'Vstupní hodnoty'!$C$5)","v":0}]
[null,"2017-04-27T13:30:00",4,1308.96,{"$f":"CEILING(IF(C11189-C11188=0,IF(H11188=0,I11188,IF(J11188>K11188,I11188,E11188)),'Výstupy modelu'!$C$7),1)","v":1664},0,0,{"$f":"IF(F11189=1,IF(G11189>'Zdrojová data'!$C$19,0,1),\"\")","v":""},1664,0,{"$f":"MIN(J11189,'Zdrojová data'!$C$17)","v":0},0,{"$f":"L11189/'Zdrojová data'!$C$16","v":0},{"$f":"M11189*'Zdrojová data'!$C$13","v":0},{"$f":"N11189*'Zdrojová data'!$C$14","v":0},0,{"$f":"IF(H11189=0,D11189-'Výstupy modelu'!$C$7,IF(P11189=1,J11189-K11189,0))","v":0},0,null,{"$f":"MAX(0,IF(Q11189>0,Q11189-('Výstupy modelu'!$H$10-'Výstupy modelu'!$H$9),0))","v":0},null,null,{"$f":"W11188","v":1865.4300000000003},1885.4300000000003,0,{"$f":"MAX(0,D11189-'Vstupní hodnoty'!$C$5)","v":0}]
[null,"2017-04-27T18:30:00",4,996.84,{"$f":"CEILING(IF(C11209-C11208=0,IF(H11208=0,I11208,IF(J11208>K11208,I11208,E11208)),'Výstupy modelu'!$C$7),1)","v":1664},0,0,{"$f":"IF(F11209=1,IF(G11209>'Zdrojová data'!$C$19,0,1),\"\")","v":""},1664,0,{"$f":"MIN(J11209,'Zdrojová data'!$C$17)","v":0},0,{"$f":"L11209/'Zdrojová data'!$C$16","v":0},{"$f":"M11209*'Zdrojová data'!$C$13","v":0},{"$f":"N11209*'Zdrojová data'!$C$14","v":0},0,{"$f":"IF(H11209=0,D11209-'Výstupy modelu'!$C$7,IF(P11209=1,J11209-K11209,0))","v":0},0,null,{"$f":"MAX(0,IF(Q11209>0,Q11209-('Výstupy modelu'!$H$10-'Výstupy modelu'!$H$9),0))","v":0},null,null,{"$f":"W11208","v":1865.4300000000003},1885.4300000000003,0,{"$f":"MAX(0,D11209-'Vstupní hodnoty'!$C$5)","v":0}]
[null,"2017-04-28T02:15:00",4,479.52000000000004,{"$f":"CEILING(IF(C11240-C11239=0,IF(H11239=0,I11239,IF(J11239>K11239,I11239,E11239)),'Výstupy modelu'!$C$7),1)","v":1664},0,0,{"$f":"IF(F11240=1,IF(G11240>'Zdrojová data'!$C$19,0,1),\"\")","v":""},1664,0,{"$f":"MIN(J11240,'Zdrojová data'!$C$17)","v":0},0,{"$f":"L11240/'Zdrojová data'!$C$16","v":0},{"$f":"M11240*'Zdrojová data'!$C$13","v":0},{"$f":"N11240*'Zdrojová data'!$C$14","v":0},0,{"$f":"IF(H11240=0,D11240-'Výstupy modelu'!$C$7,IF(P11240=1,J11240-K11240,0))","v":0},0,null,{"$f":"MAX(0,IF(Q11240>0,Q11240-('Výstupy modelu'!$H$10-'Výstupy modelu'!$H$9),0))","v":0},null,null,{"$f":"W11239","v":1865.4300000000003},1885.4300000000003,0,{"$f":"MAX(0,D11240-'Vstupní hodnoty'!$C$5)","v":0}]
[null,"2017-04-28T11:00:00",4,1296,{"$f":"CEILING(IF(C11275-C11274=0,IF(H11274=0,I11274,IF(J11274>K11274,I11274,E11274)),'Výstupy modelu'!$C$7),1)","v":1664},0,0,{"$f":"IF(F11275=1,IF(G11275>'Zdrojová data'!$C$19,0,1),\"\")","v":""},1664,0,{"$f":"MIN(J11275,'Zdrojová data'!$C$17)","v":0},0,{"$f":"L11275/'Zdrojová data'!$C$16","v":0},{"$f":"M11275*'Zdrojová data'!$C$13","v":0},{"$f":"N11275*'Zdrojová data'!$C$14","v":0},0,{"$f":"IF(H11275=0,D11275-'Výstupy modelu'!$C$7,IF(P11275=1,J11275-K11275,0))","v":0},0,null,{"$f":"MAX(0,IF(Q11275>0,Q11275-('Výstupy modelu'!$H$10-'Výstupy modelu'!$H$9),0))","v":0},null,null,{"$f":"W11274","v":1865.4300000000003},1885.4300000000003,0,{"$f":"MAX(0,D11275-'Vstupní hodnoty'!$C$5)","v":0}]
[null,"2017-04-28T23:45:00",4,268.92,{"$f":"CEILING(IF(C11326-C11325=0,IF(H11325=0,I11325,IF(J11325>K11325,I11325,E11325)),'Výstupy modelu'!$C$7),1)","v":1664},0,0,{"$f":"IF(F11326=1,IF(G11326>'Zdrojová data'!$C$19,0,1),\"\")","v":""},1664,0,{"$f":"MIN(J11326,'Zdrojová data'!$C$17)","v":0},0,{"$f":"L11326/'Zdrojová data'!$C$16","v":0},{"$f":"M11326*'Zdrojová data'!$C$13","v":0},{"$f":"N11326*'Zdrojová data'!$C$14","v":0},0,{"$f":"IF(H11326=0,D11326-'Výstupy modelu'!$C$7,IF(P11326=1,J11326-K11326,0))","v":0},0,null,{"$f":"MAX(0,IF(Q11326>0,Q11326-('Výstupy modelu'!$H$10-'Výstupy modelu'!$H$9),0))","v":0},null,null,{"$f":"W11325","v":1865.4300000000003},1885.4300000000003,0,{"$f":"MAX(0,D11326-'Vstupní hodnoty'!$C$5)","v":0}]
[null,"2017-04-29T04:00:00",4,254.88000000000002,{"$f":"CEILING(IF(C11343-C11342=0,IF(H11342=0,I11342,IF(J11342>K11342,I11342,E11342)),'Výstupy modelu'!$C$7),1)","v":1664},0,0,{"$f":"IF(F11343=1,IF(G11343>'Zdrojová data'!$C$19,0,1),\"\")","v":""},1664,0,{"$f":"MIN(J11343,'Zdrojová data'!$C$17)","v":0},0,{"$f":"L11343/'Zdrojová data'!$C$16","v":0},{"$f":"M11343*'Zdrojová data'!$C$13","v":0},{"$f":"N11343*'Zdrojová data'!$C$14","v":0},0,{"$f":"IF(H11343=0,D11343-'Výstupy modelu'!$C$7,IF(P11343=1,J11343-K11343,0))","v":0},0,null,{"$f":"MAX(0,IF(Q11343>0,Q11343-('Výstupy modelu'!$H$10-'Výstupy modelu'!$H$9),0))","v":0},null,null,{"$f":"W11342","v":1865.4300000000003},1885.4300000000003,0,{"$f":"MAX(0,D11343-'Vstupní hodnoty'!$C$5)","v":0}]
[null,"2017-04-29T14:00:00",4,334.8,{"$f":"CEILING(IF(C11383-C11382=0,IF(H11382=0,I11382,IF(J11382>K11382,I11382,E11382)),'Výstupy modelu'!$C$7),1)","v":1664},0,0,{"$f":"IF(F11383=1,IF(G11383>'Zdrojová data'!$C$19,0,1),\"\")","v":""},1664,0,{"$f":"MIN(J11383,'Zdrojová data'!$C$17)","v":0},0,{"$f":"L11383/'Zdrojová data'!$C$16","v":0},{"$f":"M11383*'Zdrojová data'!$C$13","v":0},{"$f":"N11383*'Zdrojová data'!$C$14","v":0},0,{"$f":"IF(H11383=0,D11383-'Výstupy modelu'!$C$7,IF(P11383=1,J11383-K11383,0))","v":0},0,null,{"$f":"MAX(0,IF(Q11383>0,Q11383-('Výstupy modelu'!$H$10-'Výstupy modelu'!$H$9),0))","v":0},null,null,{"$f":"W11382","v":1865.4300000000003},1885.4300000000003,0,{"$f":"MAX(0,D11383-'Vstupní hodnoty'!$C$5)","v":0}]
[null,"2017-04-30T01:15:00",4,226.8,{"$f":"CEILING(IF(C11428-C11427=0,IF(H11427=0,I11427,IF(J11427>K11427,I11427,E11427)),'Výstupy modelu'!$C$7),1)","v":1664},0,0,{"$f":"IF(F11428=1,IF(G11428>'Zdrojová data'!$C$19,0,1),\"\")","v":""},1664,0,{"$f":"MIN(J11428,'Zdrojová data'!$C$17)","v":0},0,{"$f":"L11428/'Zdrojová data'!$C$16","v":0},{"$f":"M11428*'Zdrojová data'!$C$13","v":0},{"$f":"N11428*'Zdrojová data'!$C$14","v":0},0,{"$f":"IF(H11428=0,D11428-'Výstupy modelu'!$C$7,IF(P11428=1,J11428-K11428,0))","v":0},0,null,{"$f":"MAX(0,IF(Q11428>0,Q11428-('Výstupy modelu'!$H$10-'Výstupy modelu'!$H$9),0))","v":0},null,null,{"$f":"W11427","v":1865.4300000000003},1885.4300000000003,0,{"$f":"MAX(0,D11428-'Vstupní hodnoty'!$C$5)","v":0}]
[null,"2017-04-30T10:00:00",4,217.08,{"$f":"CEILING(IF(C11463-C11462=0,IF(H11462=0,I11462,IF(J11462>K11462,I11462,E11462)),'Výstupy modelu'!$C$7),1)","v":1664},0,0,{"$f":"IF(F11463=1,IF(G11463>'Zdrojová data'!$C$19,0,1),\"\")","v":""},1664,0,{"$f":"MIN(J11463,'Zdrojová data'!$C$17)","v":0},0,{"$f":"L11463/'Zdrojová data'!$C$16","v":0},{"$f":"M11463*'Zdrojová data'!$C$13","v":0},{"$f":"N11463*'Zdrojová data'!$C$14","v":0},0,{"$f":"IF(H11463=0,D11463-'Výstupy modelu'!$C$7,IF(P11463=1,J11463-K11463,0))","v":0},0,null,{"$f":"MAX(0,IF(Q11463>0,Q11463-('Výstupy modelu'!$H$10-'Výstupy modelu'!$H$9),0))","v":0},null,null,{"$f":"W11462","v":1865.4300000000003},1885.4300000000003,0,{"$f":"MAX(0,D11463-'Vstupní hodnoty'!$C$5)","v":0}]
[null,"2017-04-30T14:15:00",4,214.92000000000002,{"$f":"CEILING(IF(C11480-C11479=0,IF(H11479=0,I11479,IF(J11479>K11479,I11479,E11479)),'Výstupy modelu'!$C$7),1)","v":1664},0,0,{"$f":"IF(F11480=1,IF(G11480>'Zdrojová data'!$C$19,0,1),\"\")","v":""},1664,0,{"$f":"MIN(J11480,'Zdrojová data'!$C$17)","v":0},0,{"$f":"L11480/'Zdrojová data'!$C$16","v":0},{"$f":"M11480*'Zdrojová data'!$C$13","v":0},{"$f":"N11480*'Zdrojová data'!$C$14","v":0},0,{"$f":"IF(H11480=0,D11480-'Výstupy modelu'!$C$7,IF(P11480=1,J11480-K11480,0))","v":0},0,null,{"$f":"MAX(0,IF(Q11480>0,Q11480-('Výstupy modelu'!$H$10-'Výstupy modelu'!$H$9),0))","v":0},null,null,{"$f":"W11479","v":1865.4300000000003},1885.4300000000003,0,{"$f":"MAX(0,D11480-'Vstupní hodnoty'!$C$5)","v":0}]
[null,"2017-05-01T03:00:00",5,225.72000000000003,{"$f":"CEILING(IF(C11531-C11530=0,IF(H11530=0,I11530,IF(J11530>K11530,I11530,E11530)),'Výstupy modelu'!$C$7),1)","v":1664},0,0,{"$f":"IF(F11531=1,IF(G11531>'Zdrojová data'!$C$19,0,1),\"\")","v":""},1664,0,{"$f":"MIN(J11531,'Zdrojová data'!$C$17)","v":0},0,{"$f":"L11531/'Zdrojová data'!$C$16","v":0},{"$f":"M11531*'Zdrojová data'!$C$13","v":0},{"$f":"N11531*'Zdrojová data'!$C$14","v":0},0,{"$f":"IF(H11531=0,D11531-'Výstupy modelu'!$C$7,IF(P11531=1,J11531-K11531,0))","v":0},0,null,{"$f":"MAX(0,IF(Q11531>0,Q11531-('Výstupy modelu'!$H$10-'Výstupy modelu'!$H$9),0))","v":0},null,null,{"$f":"W11530","v":1865.4300000000003},1885.4300000000003,0,{"$f":"MAX(0,D11531-'Vstupní hodnoty'!$C$5)","v":0}]
[null,"2017-05-01T09:30:00",5,393.12,{"$f":"CEILING(IF(C11557-C11556=0,IF(H11556=0,I11556,IF(J11556>K11556,I11556,E11556)),'Výstupy modelu'!$C$7),1)","v":1664},0,0,{"$f":"IF(F11557=1,IF(G11557>'Zdrojová data'!$C$19,0,1),\"\")","v":""},1664,0,{"$f":"MIN(J11557,'Zdrojová data'!$C$17)","v":0},0,{"$f":"L11557/'Zdrojová data'!$C$16","v":0},{"$f":"M11557*'Zdrojová data'!$C$13","v":0},{"$f":"N11557*'Zdrojová data'!$C$14","v":0},0,{"$f":"IF(H11557=0,D11557-'Výstupy modelu'!$C$7,IF(P11557=1,J11557-K11557,0))","v":0},0,null,{"$f":"MAX(0,IF(Q11557>0,Q11557-('Výstupy modelu'!$H$10-'Výstupy modelu'!$H$9),0))","v":0},null,null,{"$f":"W11556","v":1865.4300000000003},1885.4300000000003,0,{"$f":"MAX(0,D11557-'Vstupní hodnoty'!$C$5)","v":0}]
[null,"2017-05-01T15:45:00",5,388.8,{"$f":"CEILING(IF(C11582-C11581=0,IF(H11581=0,I11581,IF(J11581>K11581,I11581,E11581)),'Výstupy modelu'!$C$7),1)","v":1664},0,0,{"$f":"IF(F11582=1,IF(G11582>'Zdrojová data'!$C$19,0,1),\"\")","v":""},1664,0,{"$f":"MIN(J11582,'Zdrojová data'!$C$17)","v":0},0,{"$f":"L11582/'Zdrojová data'!$C$16","v":0},{"$f":"M11582*'Zdrojová data'!$C$13","v":0},{"$f":"N11582*'Zdrojová data'!$C$14","v":0},0,{"$f":"IF(H11582=0,D11582-'Výstupy modelu'!$C$7,IF(P11582=1,J11582-K11582,0))","v":0},0,null,{"$f":"MAX(0,IF(Q11582>0,Q11582-('Výstupy modelu'!$H$10-'Výstupy modelu'!$H$9),0))","v":0},null,null,{"$f":"W11581","v":1865.4300000000003},1885.4300000000003,0,{"$f":"MAX(0,D11582-'Vstupní hodnoty'!$C$5)","v":0}]
[null,"2017-05-02T04:30:00",5,491.40000000000003,{"$f":"CEILING(IF(C11633-C11632=0,IF(H11632=0,I11632,IF(J11632>K11632,I11632,E11632)),'Výstupy modelu'!$C$7),1)","v":1664},0,0,{"$f":"IF(F11633=1,IF(G11633>'Zdrojová data'!$C$19,0,1),\"\")","v":""},1664,0,{"$f":"MIN(J11633,'Zdrojová data'!$C$17)","v":0},0,{"$f":"L11633/'Zdrojová data'!$C$16","v":0},{"$f":"M11633*'Zdrojová data'!$C$13","v":0},{"$f":"N11633*'Zdrojová data'!$C$14","v":0},0,{"$f":"IF(H11633=0,D11633-'Výstupy modelu'!$C$7,IF(P11633=1,J11633-K11633,0))","v":0},0,null,{"$f":"MAX(0,IF(Q11633>0,Q11633-('Výstupy modelu'!$H$10-'Výstupy modelu'!$H$9),0))","v":0},null,null,{"$f":"W11632","v":1865.4300000000003},1885.4300000000003,{"$f":"MAX(0,D11633-W11633)","v":0},{"$f":"MAX(0,D11633-'Vstupní hodnoty'!$C$5)","v":0}]
[null,"2017-05-02T13:15:00",5,1312.2,{"$f":"CEILING(IF(C11668-C11667=0,IF(H11667=0,I11667,IF(J11667>K11667,I11667,E11667)),'Výstupy modelu'!$C$7),1)","v":1664},0,0,{"$f":"IF(F11668=1,IF(G11668>'Zdrojová data'!$C$19,0,1),\"\")","v":""},1664,0,{"$f":"MIN(J11668,'Zdrojová data'!$C$17)","v":0},0,{"$f":"L11668/'Zdrojová data'!$C$16","v":0},{"$f":"M11668*'Zdrojová data'!$C$13","v":0},{"$f":"N11668*'Zdrojová data'!$C$14","v":0},0,{"$f":"IF(H11668=0,D11668-'Výstupy modelu'!$C$7,IF(P11668=1,J11668-K11668,0))","v":0},0,null,{"$f":"MAX(0,IF(Q11668>0,Q11668-('Výstupy modelu'!$H$10-'Výstupy modelu'!$H$9),0))","v":0},null,null,{"$f":"W11667","v":1865.4300000000003},1885.4300000000003,0,{"$f":"MAX(0,D11668-'Vstupní hodnoty'!$C$5)","v":0}]
[null,"2017-05-02T17:30:00",5,919.08,{"$f":"CEILING(IF(C11685-C11684=0,IF(H11684=0,I11684,IF(J11684>K11684,I11684,E11684)),'Výstupy modelu'!$C$7),1)","v":1664},0,0,{"$f":"IF(F11685=1,IF(G11685>'Zdrojová data'!$C$19,0,1),\"\")","v":""},1664,0,{"$f":"MIN(J11685,'Zdrojová data'!$C$17)","v":0},0,{"$f":"L11685/'Zdrojová data'!$C$16","v":0},{"$f":"M11685*'Zdrojová data'!$C$13","v":0},{"$f":"N11685*'Zdrojová data'!$C$14","v":0},0,{"$f":"IF(H11685=0,D11685-'Výstupy modelu'!$C$7,IF(P11685=1,J11685-K11685,0))","v":0},0,null,{"$f":"MAX(0,IF(Q11685>0,Q11685-('Výstupy modelu'!$H$10-'Výstupy modelu'!$H$9),0))","v":0},null,null,{"$f":"W11684","v":1865.4300000000003},1885.4300000000003,0,{"$f":"MAX(0,D11685-'Vstupní hodnoty'!$C$5)","v":0}]
[null,"2017-05-03T05:00:00",5,567,{"$f":"CEILING(IF(C11731-C11730=0,IF(H11730=0,I11730,IF(J11730>K11730,I11730,E11730)),'Výstupy modelu'!$C$7),1)","v":1664},0,0,{"$f":"IF(F11731=1,IF(G11731>'Zdrojová data'!$C$19,0,1),\"\")","v":""},1664,0,{"$f":"MIN(J11731,'Zdrojová data'!$C$17)","v":0},0,{"$f":"L11731/'Zdrojová data'!$C$16","v":0},{"$f":"M11731*'Zdrojová data'!$C$13","v":0},{"$f":"N11731*'Zdrojová data'!$C$14","v":0},0,{"$f":"IF(H11731=0,D11731-'Výstupy modelu'!$C$7,IF(P11731=1,J11731-K11731,0))","v":0},0,null,{"$f":"MAX(0,IF(Q11731>0,Q11731-('Výstupy modelu'!$H$10-'Výstupy modelu'!$H$9),0))","v":0},null,null,{"$f":"W11730","v":1865.4300000000003},1885.4300000000003,0,{"$f":"MAX(0,D11731-'Vstupní hodnoty'!$C$5)","v":0}]
[null,"2017-05-03T14:45:00",5,1177.2,{"$f":"CEILING(IF(C11770-C11769=0,IF(H11769=0,I11769,IF(J11769>K11769,I11769,E11769)),'Výstupy modelu'!$C$7),1)","v":1664},0,0,{"$f":"IF(F11770=1,IF(G11770>'Zdrojová data'!$C$19,0,1),\"\")","v":""},1664,0,{"$f":"MIN(J11770,'Zdrojová data'!$C$17)","v":0},0,{"$f":"L11770/'Zdrojová data'!$C$16","v":0},{"$f":"M11770*'Zdrojová data'!$C$13","v":0},{"$f":"N11770*'Zdrojová data'!$C$14","v":0},0,{"$f":"IF(H11770=0,D11770-'Výstupy modelu'!$C$7,IF(P11770=1,J11770-K11770,0))","v":0},0,null,{"$f":"MAX(0,IF(Q11770>0,Q11770-('Výstupy modelu'!$H$10-'Výstupy modelu'!$H$9),0))","v":0},null,null,{"$f":"W11769","v":1865.4300000000003},1885.4300000000003,0,{"$f":"MAX(0,D11770-'Vstupní hodnoty'!$C$5)","v":0}]
[null,"2017-05-03T19:00:00",5,963.36,{"$f":"CEILING(IF(C11787-C11786=0,IF(H11786=0,I11786,IF(J11786>K11786,I11786,E11786)),'Výstupy modelu'!$C$7),1)","v":1664},0,0,{"$f":"IF(F11787=1,IF(G11787>'Zdrojová data'!$C$19,0,1),\"\")","v":""},1664,0,{"$f":"MIN(J11787,'Zdrojová data'!$C$17)","v":0},0,{"$f":"L11787/'Zdrojová data'!$C$16","v":0},{"$f":"M11787*'Zdrojová data'!$C$13","v":0},{"$f":"N11787*'Zdrojová data'!$C$14","v":0},0,{"$f":"IF(H11787=0,D11787-'Výstupy modelu'!$C$7,IF(P11787=1,J11787-K11787,0))","v":0},0,null,{"$f":"MAX(0,IF(Q11787>0,Q11787-('Výstupy modelu'!$H$10-'Výstupy modelu'!$H$9),0))","v":0},null,null,{"$f":"W11786","v":1865.4300000000003},1885.4300000000003,0,{"$f":"MAX(0,D11787-'Vstupní hodnoty'!$C$5)","v":0}]
[null,"2017-05-04T03:45:00",5,456.84000000000003,{"$f":"CEILING(IF(C11822-C11821=0,IF(H11821=0,I11821,IF(J11821>K11821,I11821,E11821)),'Výstupy modelu'!$C$7),1)","v":1664},0,0,{"$f":"IF(F11822=1,IF(G11822>'Zdrojová data'!$C$19,0,1),\"\")","v":""},1664,0,{"$f":"MIN(J11822,'Zdrojová data'!$C$17)","v":0},0,{"$f":"L11822/'Zdrojová data'!$C$16","v":0},{"$f":"M11822*'Zdrojová data'!$C$13","v":0},{"$f":"N11822*'Zdrojová data'!$C$14","v":0},0,{"$f":"IF(H11822=0,D11822-'Výstupy modelu'!$C$7,IF(P11822=1,J11822-K11822,0))","v":0},0,null,{"$f":"MAX(0,IF(Q11822>0,Q11822-('Výstupy modelu'!$H$10-'Výstupy modelu'!$H$9),0))","v":0},null,null,{"$f":"W11821","v":1865.4300000000003},1885.4300000000003,0,{"$f":"MAX(0,D11822-'Vstupní hodnoty'!$C$5)","v":0}]
[null,"2017-05-04T13:30:00",5,1355.4,{"$f":"CEILING(IF(C11861-C11860=0,IF(H11860=0,I11860,IF(J11860>K11860,I11860,E11860)),'Výstupy modelu'!$C$7),1)","v":1664},0,0,{"$f":"IF(F11861=1,IF(G11861>'Zdrojová data'!$C$19,0,1),\"\")","v":""},1664,0,{"$f":"MIN(J11861,'Zdrojová data'!$C$17)","v":0},0,{"$f":"L11861/'Zdrojová data'!$C$16","v":0},{"$f":"M11861*'Zdrojová data'!$C$13","v":0},{"$f":"N11861*'Zdrojová data'!$C$14","v":0},0,{"$f":"IF(H11861=0,D11861-'Výstupy modelu'!$C$7,IF(P11861=1,J11861-K11861,0))","v":0},0,null,{"$f":"MAX(0,IF(Q11861>0,Q11861-('Výstupy modelu'!$H$10-'Výstupy modelu'!$H$9),0))","v":0},null,null,{"$f":"W11860","v":1865.4300000000003},1885.4300000000003,0,{"$f":"MAX(0,D11861-'Vstupní hodnoty'!$C$5)","v":0}]
[null,"2017-05-04T20:30:00",5,814.32,{"$f":"CEILING(IF(C11889-C11888=0,IF(H11888=0,I11888,IF(J11888>K11888,I11888,E11888)),'Výstupy modelu'!$C$7),1)","v":1664},0,0,{"$f":"IF(F11889=1,IF(G11889>'Zdrojová data'!$C$19,0,1),\"\")","v":""},1664,0,{"$f":"MIN(J11889,'Zdrojová data'!$C$17)","v":0},0,{"$f":"L11889/'Zdrojová data'!$C$16","v":0},{"$f":"M11889*'Zdrojová data'!$C$13","v":0},{"$f":"N11889*'Zdrojová data'!$C$14","v":0},0,{"$f":"IF(H11889=0,D11889-'Výstupy modelu'!$C$7,IF(P11889=1,J11889-K11889,0))","v":0},0,null,{"$f":"MAX(0,IF(Q11889>0,Q11889-('Výstupy modelu'!$H$10-'Výstupy modelu'!$H$9),0))","v":0},null,null,{"$f":"W11888","v":1865.4300000000003},1885.4300000000003,{"$f":"MAX(0,D11889-W11889)","v":0},{"$f":"MAX(0,D11889-'Vstupní hodnoty'!$C$5)","v":0}]
[null,"2017-05-05T05:15:00",5,569.16000000000008,{"$f":"CEILING(IF(C11924-C11923=0,IF(H11923=0,I11923,IF(J11923>K11923,I11923,E11923)),'Výstupy modelu'!$C$7),1)","v":1664},0,0,{"$f":"IF(F11924=1,IF(G11924>'Zdrojová data'!$C$19,0,1),\"\")","v":""},1664,0,{"$f":"MIN(J11924,'Zdrojová data'!$C$17)","v":0},0,{"$f":"L11924/'Zdrojová data'!$C$16","v":0},{"$f":"M11924*'Zdrojová data'!$C$13","v":0},{"$f":"N11924*'Zdrojová data'!$C$14","v":0},0,{"$f":"IF(H11924=0,D11924-'Výstupy modelu'!$C$7,IF(P11924=1,J11924-K11924,0))","v":0},0,null,{"$f":"MAX(0,IF(Q11924>0,Q11924-('Výstupy modelu'!$H$10-'Výstupy modelu'!$H$9),0))","v":0},null,null,{"$f":"W11923","v":1865.4300000000003},1885.4300000000003,0,{"$f":"MAX(0,D11924-'Vstupní hodnoty'!$C$5)","v":0}]
[null,"2017-05-05T18:00:00",5,737.6400000000001,{"$f":"CEILING(IF(C11975-C11974=0,IF(H11974=0,I11974,IF(J11974>K11974,I11974,E11974)),'Výstupy modelu'!$C$7),1)","v":1664},0,0,{"$f":"IF(F11975=1,IF(G11975>'Zdrojová data'!$C$19,0,1),\"\")","v":""},1664,0,{"$f":"MIN(J11975,'Zdrojová data'!$C$17)","v":0},0,{"$f":"L11975/'Zdrojová data'!$C$16","v":0},{"$f":"M11975*'Zdrojová data'!$C$13","v":0},{"$f":"N11975*'Zdrojová data'!$C$14","v":0},0,{"$f":"IF(H11975=0,D11975-'Výstupy modelu'!$C$7,IF(P11975=1,J11975-K11975,0))","v":0},0,null,{"$f":"MAX(0,IF(Q11975>0,Q11975-('Výstupy modelu'!$H$10-'Výstupy modelu'!$H$9),0))","v":0},null,null,{"$f":"W11974","v":1865.4300000000003},1885.4300000000003,0,{"$f":"MAX(0,D11975-'Vstupní hodnoty'!$C$5)","v":0}]
[null,"2017-05-06T02:45:00",5,235.44000000000003,{"$f":"CEILING(IF(C12010-C12009=0,IF(H12009=0,I12009,IF(J12009>K12009,I12009,E12009)),'Výstupy modelu'!$C$7),1)","v":1664},0,0,{"$f":"IF(F12010=1,IF(G12010>'Zdrojová data'!$C$19,0,1),\"\")","v":""},1664,0,{"$f":"MIN(J12010,'Zdrojová data'!$C$17)","v":0},0,{"$f":"L12010/'Zdrojová data'!$C$16","v":0},{"$f":"M12010*'Zdrojová data'!$C$13","v":0},{"$f":"N12010*'Zdrojová data'!$C$14","v":0},0,{"$f":"IF(H12010=0,D12010-'Výstupy modelu'!$C$7,IF(P12010=1,J12010-K12010,0))","v":0},0,null,{"$f":"MAX(0,IF(Q12010>0,Q12010-('Výstupy modelu'!$H$10-'Výstupy modelu'!$H$9),0))","v":0},null,null,{"$f":"W12009","v":1865.4300000000003},1885.4300000000003,0,{"$f":"MAX(0,D12010-'Vstupní hodnoty'!$C$5)","v":0}]
[null,"2017-05-06T09:00:00",5,641.5200000000001,{"$f":"CEILING(IF(C12035-C12034=0,IF(H12034=0,I12034,IF(J12034>K12034,I12034,E12034)),'Výstupy modelu'!$C$7),1)","v":1664},0,0,{"$f":"IF(F12035=1,IF(G12035>'Zdrojová data'!$C$19,0,1),\"\")","v":""},1664,0,{"$f":"MIN(J12035,'Zdrojová data'!$C$17)","v":0},0,{"$f":"L12035/'Zdrojová data'!$C$16","v":0},{"$f":"M12035*'Zdrojová data'!$C$13","v":0},{"$f":"N12035*'Zdrojová data'!$C$14","v":0},0,{"$f":"IF(H12035=0,D12035-'Výstupy modelu'!$C$7,IF(P12035=1,J12035-K12035,0))","v":0},0,null,{"$f":"MAX(0,IF(Q12035>0,Q12035-('Výstupy modelu'!$H$10-'Výstupy modelu'!$H$9),0))","v":0},null,null,{"$f":"W12034","v":1865.4300000000003},1885.4300000000003,0,{"$f":"MAX(0,D12035-'Vstupní hodnoty'!$C$5)","v":0}]
[null,"2017-05-06T19:30:00",5,234.36,{"$f":"CEILING(IF(C12077-C12076=0,IF(H12076=0,I12076,IF(J12076>K12076,I12076,E12076)),'Výstupy modelu'!$C$7),1)","v":1664},0,0,{"$f":"IF(F12077=1,IF(G12077>'Zdrojová data'!$C$19,0,1),\"\")","v":""},1664,0,{"$f":"MIN(J12077,'Zdrojová data'!$C$17)","v":0},0,{"$f":"L12077/'Zdrojová data'!$C$16","v":0},{"$f":"M12077*'Zdrojová data'!$C$13","v":0},{"$f":"N12077*'Zdrojová data'!$C$14","v":0},0,{"$f":"IF(H12077=0,D12077-'Výstupy modelu'!$C$7,IF(P12077=1,J12077-K12077,0))","v":0},0,null,{"$f":"MAX(0,IF(Q12077>0,Q12077-('Výstupy modelu'!$H$10-'Výstupy modelu'!$H$9),0))","v":0},null,null,{"$f":"W12076","v":1865.4300000000003},1885.4300000000003,0,{"$f":"MAX(0,D12077-'Vstupní hodnoty'!$C$5)","v":0}]
[null,"2017-05-07T04:15:00",5,213.84,{"$f":"CEILING(IF(C12112-C12111=0,IF(H12111=0,I12111,IF(J12111>K12111,I12111,E12111)),'Výstupy modelu'!$C$7),1)","v":1664},0,0,{"$f":"IF(F12112=1,IF(G12112>'Zdrojová data'!$C$19,0,1),\"\")","v":""},1664,0,{"$f":"MIN(J12112,'Zdrojová data'!$C$17)","v":0},0,{"$f":"L12112/'Zdrojová data'!$C$16","v":0},{"$f":"M12112*'Zdrojová data'!$C$13","v":0},{"$f":"N12112*'Zdrojová data'!$C$14","v":0},0,{"$f":"IF(H12112=0,D12112-'Výstupy modelu'!$C$7,IF(P12112=1,J12112-K12112,0))","v":0},0,null,{"$f":"MAX(0,IF(Q12112>0,Q12112-('Výstupy modelu'!$H$10-'Výstupy modelu'!$H$9),0))","v":0},null,null,{"$f":"W12111","v":1865.4300000000003},1885.4300000000003,0,{"$f":"MAX(0,D12112-'Vstupní hodnoty'!$C$5)","v":0}]
[null,"2017-05-07T08:30:00",5,208.44000000000003,{"$f":"CEILING(IF(C12129-C12128=0,IF(H12128=0,I12128,IF(J12128>K12128,I12128,E12128)),'Výstupy modelu'!$C$7),1)","v":1664},0,0,{"$f":"IF(F12129=1,IF(G12129>'Zdrojová data'!$C$19,0,1),\"\")","v":""},1664,0,{"$f":"MIN(J12129,'Zdrojová data'!$C$17)","v":0},0,{"$f":"L12129/'Zdrojová data'!$C$16","v":0},{"$f":"M12129*'Zdrojová data'!$C$13","v":0},{"$f":"N12129*'Zdrojová data'!$C$14","v":0},0,{"$f":"IF(H12129=0,D12129-'Výstupy modelu'!$C$7,IF(P12129=1,J12129-K12129,0))","v":0},0,null,{"$f":"MAX(0,IF(Q12129>0,Q12129-('Výstupy modelu'!$H$10-'Výstupy modelu'!$H$9),0))","v":0},null,null,{"$f":"W12128","v":1865.4300000000003},1885.4300000000003,0,{"$f":"MAX(0,D12129-'Vstupní hodnoty'!$C$5)","v":0}]
[null,"2017-05-07T17:15:00",5,212.76000000000002,{"$f":"CEILING(IF(C12164-C12163=0,IF(H12163=0,I12163,IF(J12163>K12163,I12163,E12163)),'Výstupy modelu'!$C$7),1)","v":1664},{"$f":"IF(D12164>E12164,1,0)","v":0},0,{"$f":"IF(F12164=1,IF(G12164>'Zdrojová data'!$C$19,0,1),\"\")","v":""},{"$f":"IF(H12164=0,D12164,IF(J12164>K12164,E12164+J12164-K12164,E12164))","v":1664},{"$f":"IF(H12164=1,D12164-E12164,0)","v":0},{"$f":"MIN(J12164,'Zdrojová data'!$C$17)","v":0},0,{"$f":"L12164/'Zdrojová data'!$C$16","v":0},{"$f":"M12164*'Zdrojová data'!$C$13","v":0},{"$f":"N12164*'Zdrojová data'!$C$14","v":0},0,{"$f":"IF(H12164=0,D12164-'Výstupy modelu'!$C$7,IF(P12164=1,J12164-K12164,0))","v":0},0,null,{"$f":"MAX(0,IF(Q12164>0,Q12164-('Výstupy modelu'!$H$10-'Výstupy modelu'!$H$9),0))","v":0},null,null,{"$f":"W12163","v":1865.4300000000003},1885.4300000000003,0,{"$f":"MAX(0,D12164-'Vstupní hodnoty'!$C$5)","v":0}]
[null,"2017-05-08T04:30:00",5,246.24,{"$f":"CEILING(IF(C12209-C12208=0,IF(H12208=0,I12208,IF(J12208>K12208,I12208,E12208)),'Výstupy modelu'!$C$7),1)","v":1664},0,0,{"$f":"IF(F12209=1,IF(G12209>'Zdrojová data'!$C$19,0,1),\"\")","v":""},1664,0,{"$f":"MIN(J12209,'Zdrojová data'!$C$17)","v":0},0,{"$f":"L12209/'Zdrojová data'!$C$16","v":0},{"$f":"M12209*'Zdrojová data'!$C$13","v":0},{"$f":"N12209*'Zdrojová data'!$C$14","v":0},0,{"$f":"IF(H12209=0,D12209-'Výstupy modelu'!$C$7,IF(P12209=1,J12209-K12209,0))","v":0},0,null,{"$f":"MAX(0,IF(Q12209>0,Q12209-('Výstupy modelu'!$H$10-'Výstupy modelu'!$H$9),0))","v":0},null,null,{"$f":"W12208","v":1865.4300000000003},1885.4300000000003,{"$f":"MAX(0,D12209-W12209)","v":0},{"$f":"MAX(0,D12209-'Vstupní hodnoty'!$C$5)","v":0}]
[null,"2017-05-08T10:00:00",5,357.48,{"$f":"CEILING(IF(C12231-C12230=0,IF(H12230=0,I12230,IF(J12230>K12230,I12230,E12230)),'Výstupy modelu'!$C$7),1)","v":1664},0,0,{"$f":"IF(F12231=1,IF(G12231>'Zdrojová data'!$C$19,0,1),\"\")","v":""},1664,0,{"$f":"MIN(J12231,'Zdrojová data'!$C$17)","v":0},0,{"$f":"L12231/'Zdrojová data'!$C$16","v":0},{"$f":"M12231*'Zdrojová data'!$C$13","v":0},{"$f":"N12231*'Zdrojová data'!$C$14","v":0},0,{"$f":"IF(H12231=0,D12231-'Výstupy modelu'!$C$7,IF(P12231=1,J12231-K12231,0))","v":0},0,null,{"$f":"MAX(0,IF(Q12231>0,Q12231-('Výstupy modelu'!$H$10-'Výstupy modelu'!$H$9),0))","v":0},null,null,{"$f":"W12230","v":1865.4300000000003},1885.4300000000003,0,{"$f":"MAX(0,D12231-'Vstupní hodnoty'!$C$5)","v":0}]
[null,"2017-05-08T18:45:00",5,292.68,{"$f":"CEILING(IF(C12266-C12265=0,IF(H12265=0,I12265,IF(J12265>K12265,I12265,E12265)),'Výstupy modelu'!$C$7),1)","v":1664},0,0,{"$f":"IF(F12266=1,IF(G12266>'Zdrojová data'!$C$19,0,1),\"\")","v":""},1664,0,{"$f":"MIN(J12266,'Zdrojová data'!$C$17)","v":0},0,{"$f":"L12266/'Zdrojová data'!$C$16","v":0},{"$f":"M12266*'Zdrojová data'!$C$13","v":0},{"$f":"N12266*'Zdrojová data'!$C$14","v":0},0,{"$f":"IF(H12266=0,D12266-'Výstupy modelu'!$C$7,IF(P12266=1,J12266-K12266,0))","v":0},0,null,{"$f":"MAX(0,IF(Q12266>0,Q12266-('Výstupy modelu'!$H$10-'Výstupy modelu'!$H$9),0))","v":0},null,null,{"$f":"W12265","v":1865.4300000000003},1885.4300000000003,0,{"$f":"MAX(0,D12266-'Vstupní hodnoty'!$C$5)","v":0}]
[null,"2017-05-09T07:30:00",5,1328.4,{"$f":"CEILING(IF(C12317-C12316=0,IF(H12316=0,I12316,IF(J12316>K12316,I12316,E12316)),'Výstupy modelu'!$C$7),1)","v":1664},0,0,{"$f":"IF(F12317=1,IF(G12317>'Zdrojová data'!$C$19,0,1),\"\")","v":""},1664,0,{"$f":"MIN(J12317,'Zdrojová data'!$C$17)","v":0},0,{"$f":"L12317/'Zdrojová data'!$C$16","v":0},{"$f":"M12317*'Zdrojová data'!$C$13","v":0},{"$f":"N12317*'Zdrojová data'!$C$14","v":0},0,{"$f":"IF(H12317=0,D12317-'Výstupy modelu'!$C$7,IF(P12317=1,J12317-K12317,0))","v":0},0,null,{"$f":"MAX(0,IF(Q12317>0,Q12317-('Výstupy modelu'!$H$10-'Výstupy modelu'!$H$9),0))","v":0},null,null,{"$f":"W12316","v":1865.4300000000003},1885.4300000000003,0,{"$f":"MAX(0,D12317-'Vstupní hodnoty'!$C$5)","v":0}]
[null,"2017-05-09T11:45:00",5,1158.8400000000001,{"$f":"CEILING(IF(C12334-C12333=0,IF(H12333=0,I12333,IF(J12333>K12333,I12333,E12333)),'Výstupy modelu'!$C$7),1)","v":1664},0,0,{"$f":"IF(F12334=1,IF(G12334>'Zdrojová data'!$C$19,0,1),\"\")","v":""},1664,0,{"$f":"MIN(J12334,'Zdrojová data'!$C$17)","v":0},0,{"$f":"L12334/'Zdrojová data'!$C$16","v":0},{"$f":"M12334*'Zdrojová data'!$C$13","v":0},{"$f":"N12334*'Zdrojová data'!$C$14","v":0},0,{"$f":"IF(H12334=0,D12334-'Výstupy modelu'!$C$7,IF(P12334=1,J12334-K12334,0))","v":0},0,null,{"$f":"MAX(0,IF(Q12334>0,Q12334-('Výstupy modelu'!$H$10-'Výstupy modelu'!$H$9),0))","v":0},null,null,{"$f":"W12333","v":1865.4300000000003},1885.4300000000003,0,{"$f":"MAX(0,D12334-'Vstupní hodnoty'!$C$5)","v":0}]
[null,"2017-05-10",5,387.72,{"$f":"CEILING(IF(C12383-C12382=0,IF(H12382=0,I12382,IF(J12382>K12382,I12382,E12382)),'Výstupy modelu'!$C$7),1)","v":1664},0,0,{"$f":"IF(F12383=1,IF(G12383>'Zdrojová data'!$C$19,0,1),\"\")","v":""},1664,0,{"$f":"MIN(J12383,'Zdrojová data'!$C$17)","v":0},0,{"$f":"L12383/'Zdrojová data'!$C$16","v":0},{"$f":"M12383*'Zdrojová data'!$C$13","v":0},{"$f":"N12383*'Zdrojová data'!$C$14","v":0},0,{"$f":"IF(H12383=0,D12383-'Výstupy modelu'!$C$7,IF(P12383=1,J12383-K12383,0))","v":0},0,null,{"$f":"MAX(0,IF(Q12383>0,Q12383-('Výstupy modelu'!$H$10-'Výstupy modelu'!$H$9),0))","v":0},null,null,{"$f":"W12382","v":1865.4300000000003},1885.4300000000003,0,{"$f":"MAX(0,D12383-'Vstupní hodnoty'!$C$5)","v":0}]
[null,"2017-05-10T09:00:00",5,1337.0400000000002,{"$f":"CEILING(IF(C12419-C12418=0,IF(H12418=0,I12418,IF(J12418>K12418,I12418,E12418)),'Výstupy modelu'!$C$7),1)","v":1664},0,0,{"$f":"IF(F12419=1,IF(G12419>'Zdrojová data'!$C$19,0,1),\"\")","v":""},1664,0,{"$f":"MIN(J12419,'Zdrojová data'!$C$17)","v":0},0,{"$f":"L12419/'Zdrojová data'!$C$16","v":0},{"$f":"M12419*'Zdrojová data'!$C$13","v":0},{"$f":"N12419*'Zdrojová data'!$C$14","v":0},0,{"$f":"IF(H12419=0,D12419-'Výstupy modelu'!$C$7,IF(P12419=1,J12419-K12419,0))","v":0},0,null,{"$f":"MAX(0,IF(Q12419>0,Q12419-('Výstupy modelu'!$H$10-'Výstupy modelu'!$H$9),0))","v":0},null,null,{"$f":"W12418","v":1865.4300000000003},1885.4300000000003,0,{"$f":"MAX(0,D12419-'Vstupní hodnoty'!$C$5)","v":0}]
[null,"2017-05-10T17:45:00",5,825.12,{"$f":"CEILING(IF(C12454-C12453=0,IF(H12453=0,I12453,IF(J12453>K12453,I12453,E12453)),'Výstupy modelu'!$C$7),1)","v":1664},0,0,{"$f":"IF(F12454=1,IF(G12454>'Zdrojová data'!$C$19,0,1),\"\")","v":""},1664,0,{"$f":"MIN(J12454,'Zdrojová data'!$C$17)","v":0},0,{"$f":"L12454/'Zdrojová data'!$C$16","v":0},{"$f":"M12454*'Zdrojová data'!$C$13","v":0},{"$f":"N12454*'Zdrojová data'!$C$14","v":0},0,{"$f":"IF(H12454=0,D12454-'Výstupy modelu'!$C$7,IF(P12454=1,J12454-K12454,0))","v":0},0,null,{"$f":"MAX(0,IF(Q12454>0,Q12454-('Výstupy modelu'!$H$10-'Výstupy modelu'!$H$9),0))","v":0},null,null,{"$f":"W12453","v":1865.4300000000003},1885.4300000000003,0,{"$f":"MAX(0,D12454-'Vstupní hodnoty'!$C$5)","v":0}]
[null,"2017-05-10T22:00:00",5,501.12,{"$f":"CEILING(IF(C12471-C12470=0,IF(H12470=0,I12470,IF(J12470>K12470,I12470,E12470)),'Výstupy modelu'!$C$7),1)","v":1664},0,0,{"$f":"IF(F12471=1,IF(G12471>'Zdrojová data'!$C$19,0,1),\"\")","v":""},1664,0,{"$f":"MIN(J12471,'Zdrojová data'!$C$17)","v":0},0,{"$f":"L12471/'Zdrojová data'!$C$16","v":0},{"$f":"M12471*'Zdrojová data'!$C$13","v":0},{"$f":"N12471*'Zdrojová data'!$C$14","v":0},0,{"$f":"IF(H12471=0,D12471-'Výstupy modelu'!$C$7,IF(P12471=1,J12471-K12471,0))","v":0},0,null,{"$f":"MAX(0,IF(Q12471>0,Q12471-('Výstupy modelu'!$H$10-'Výstupy modelu'!$H$9),0))","v":0},null,null,{"$f":"W12470","v":1865.4300000000003},1885.4300000000003,0,{"$f":"MAX(0,D12471-'Vstupní hodnoty'!$C$5)","v":0}]
[null,"2017-05-11T10:45:00",5,1332.72,{"$f":"CEILING(IF(C12522-C12521=0,IF(H12521=0,I12521,IF(J12521>K12521,I12521,E12521)),'Výstupy modelu'!$C$7),1)","v":1664},0,0,{"$f":"IF(F12522=1,IF(G12522>'Zdrojová data'!$C$19,0,1),\"\")","v":""},1664,0,{"$f":"MIN(J12522,'Zdrojová data'!$C$17)","v":0},0,{"$f":"L12522/'Zdrojová data'!$C$16","v":0},{"$f":"M12522*'Zdrojová data'!$C$13","v":0},{"$f":"N12522*'Zdrojová data'!$C$14","v":0},0,{"$f":"IF(H12522=0,D12522-'Výstupy modelu'!$C$7,IF(P12522=1,J12522-K12522,0))","v":0},0,null,{"$f":"MAX(0,IF(Q12522>0,Q12522-('Výstupy modelu'!$H$10-'Výstupy modelu'!$H$9),0))","v":0},null,null,{"$f":"W12521","v":1865.4300000000003},1885.4300000000003,0,{"$f":"MAX(0,D12522-'Vstupní hodnoty'!$C$5)","v":0}]
[null,"2017-05-11T19:30:00",5,902.88000000000011,{"$f":"CEILING(IF(C12557-C12556=0,IF(H12556=0,I12556,IF(J12556>K12556,I12556,E12556)),'Výstupy modelu'!$C$7),1)","v":1664},0,0,{"$f":"IF(F12557=1,IF(G12557>'Zdrojová data'!$C$19,0,1),\"\")","v":""},1664,0,{"$f":"MIN(J12557,'Zdrojová data'!$C$17)","v":0},0,{"$f":"L12557/'Zdrojová data'!$C$16","v":0},{"$f":"M12557*'Zdrojová data'!$C$13","v":0},{"$f":"N12557*'Zdrojová data'!$C$14","v":0},0,{"$f":"IF(H12557=0,D12557-'Výstupy modelu'!$C$7,IF(P12557=1,J12557-K12557,0))","v":0},0,null,{"$f":"MAX(0,IF(Q12557>0,Q12557-('Výstupy modelu'!$H$10-'Výstupy modelu'!$H$9),0))","v":0},null,null,{"$f":"W12556","v":1865.4300000000003},1885.4300000000003,0,{"$f":"MAX(0,D12557-'Vstupní hodnoty'!$C$5)","v":0}]
[null,"2017-05-11T23:30:00",5,425.52000000000004,{"$f":"CEILING(IF(C12573-C12572=0,IF(H12572=0,I12572,IF(J12572>K12572,I12572,E12572)),'Výstupy modelu'!$C$7),1)","v":1664},0,0,{"$f":"IF(F12573=1,IF(G12573>'Zdrojová data'!$C$19,0,1),\"\")","v":""},1664,0,{"$f":"MIN(J12573,'Zdrojová data'!$C$17)","v":0},0,{"$f":"L12573/'Zdrojová data'!$C$16","v":0},{"$f":"M12573*'Zdrojová data'!$C$13","v":0},{"$f":"N12573*'Zdrojová data'!$C$14","v":0},0,{"$f":"IF(H12573=0,D12573-'Výstupy modelu'!$C$7,IF(P12573=1,J12573-K12573,0))","v":0},0,null,{"$f":"MAX(0,IF(Q12573>0,Q12573-('Výstupy modelu'!$H$10-'Výstupy modelu'!$H$9),0))","v":0},null,null,{"$f":"W12572","v":1865.4300000000003},1885.4300000000003,0,{"$f":"MAX(0,D12573-'Vstupní hodnoty'!$C$5)","v":0}]
[null,"2017-05-12T08:15:00",5,1338.1200000000001,{"$f":"CEILING(IF(C12608-C12607=0,IF(H12607=0,I12607,IF(J12607>K12607,I12607,E12607)),'Výstupy modelu'!$C$7),1)","v":1664},0,0,{"$f":"IF(F12608=1,IF(G12608>'Zdrojová data'!$C$19,0,1),\"\")","v":""},1664,0,{"$f":"MIN(J12608,'Zdrojová data'!$C$17)","v":0},0,{"$f":"L12608/'Zdrojová data'!$C$16","v":0},{"$f":"M12608*'Zdrojová data'!$C$13","v":0},{"$f":"N12608*'Zdrojová data'!$C$14","v":0},0,{"$f":"IF(H12608=0,D12608-'Výstupy modelu'!$C$7,IF(P12608=1,J12608-K12608,0))","v":0},0,null,{"$f":"MAX(0,IF(Q12608>0,Q12608-('Výstupy modelu'!$H$10-'Výstupy modelu'!$H$9),0))","v":0},null,null,{"$f":"W12607","v":1865.4300000000003},1885.4300000000003,0,{"$f":"MAX(0,D12608-'Vstupní hodnoty'!$C$5)","v":0}]
[null,"2017-05-12T21:00:00",5,768.96,{"$f":"CEILING(IF(C12659-C12658=0,IF(H12658=0,I12658,IF(J12658>K12658,I12658,E12658)),'Výstupy modelu'!$C$7),1)","v":1664},0,0,{"$f":"IF(F12659=1,IF(G12659>'Zdrojová data'!$C$19,0,1),\"\")","v":""},1664,0,{"$f":"MIN(J12659,'Zdrojová data'!$C$17)","v":0},0,{"$f":"L12659/'Zdrojová data'!$C$16","v":0},{"$f":"M12659*'Zdrojová data'!$C$13","v":0},{"$f":"N12659*'Zdrojová data'!$C$14","v":0},0,{"$f":"IF(H12659=0,D12659-'Výstupy modelu'!$C$7,IF(P12659=1,J12659-K12659,0))","v":0},0,null,{"$f":"MAX(0,IF(Q12659>0,Q12659-('Výstupy modelu'!$H$10-'Výstupy modelu'!$H$9),0))","v":0},null,null,{"$f":"W12658","v":1865.4300000000003},1885.4300000000003,0,{"$f":"MAX(0,D12659-'Vstupní hodnoty'!$C$5)","v":0}]
[null,"2017-05-13T01:15:00",5,386.64000000000004,{"$f":"CEILING(IF(C12676-C12675=0,IF(H12675=0,I12675,IF(J12675>K12675,I12675,E12675)),'Výstupy modelu'!$C$7),1)","v":1664},{"$f":"IF(D12676>E12676,1,0)","v":0},0,{"$f":"IF(F12676=1,IF(G12676>'Zdrojová data'!$C$19,0,1),\"\")","v":""},{"$f":"IF(H12676=0,D12676,IF(J12676>K12676,E12676+J12676-K12676,E12676))","v":1664},{"$f":"IF(H12676=1,D12676-E12676,0)","v":0},{"$f":"MIN(J12676,'Zdrojová data'!$C$17)","v":0},0,{"$f":"L12676/'Zdrojová data'!$C$16","v":0},{"$f":"M12676*'Zdrojová data'!$C$13","v":0},{"$f":"N12676*'Zdrojová data'!$C$14","v":0},0,{"$f":"IF(H12676=0,D12676-'Výstupy modelu'!$C$7,IF(P12676=1,J12676-K12676,0))","v":0},0,null,{"$f":"MAX(0,IF(Q12676>0,Q12676-('Výstupy modelu'!$H$10-'Výstupy modelu'!$H$9),0))","v":0},null,null,{"$f":"W12675","v":1865.4300000000003},1885.4300000000003,0,{"$f":"MAX(0,D12676-'Vstupní hodnoty'!$C$5)","v":0}]
[null,"2017-05-13T06:45:00",5,408.24,{"$f":"CEILING(IF(C12698-C12697=0,IF(H12697=0,I12697,IF(J12697>K12697,I12697,E12697)),'Výstupy modelu'!$C$7),1)","v":1664},0,0,{"$f":"IF(F12698=1,IF(G12698>'Zdrojová data'!$C$19,0,1),\"\")","v":""},1664,0,{"$f":"MIN(J12698,'Zdrojová data'!$C$17)","v":0},0,{"$f":"L12698/'Zdrojová data'!$C$16","v":0},{"$f":"M12698*'Zdrojová data'!$C$13","v":0},{"$f":"N12698*'Zdrojová data'!$C$14","v":0},0,{"$f":"IF(H12698=0,D12698-'Výstupy modelu'!$C$7,IF(P12698=1,J12698-K12698,0))","v":0},0,null,{"$f":"MAX(0,IF(Q12698>0,Q12698-('Výstupy modelu'!$H$10-'Výstupy modelu'!$H$9),0))","v":0},null,null,{"$f":"W12697","v":1865.4300000000003},1885.4300000000003,0,{"$f":"MAX(0,D12698-'Vstupní hodnoty'!$C$5)","v":0}]
[null,"2017-05-13T14:00:00",5,254.88000000000002,{"$f":"CEILING(IF(C12727-C12726=0,IF(H12726=0,I12726,IF(J12726>K12726,I12726,E12726)),'Výstupy modelu'!$C$7),1)","v":1664},0,0,{"$f":"IF(F12727=1,IF(G12727>'Zdrojová data'!$C$19,0,1),\"\")","v":""},1664,0,{"$f":"MIN(J12727,'Zdrojová data'!$C$17)","v":0},0,{"$f":"L12727/'Zdrojová data'!$C$16","v":0},{"$f":"M12727*'Zdrojová data'!$C$13","v":0},{"$f":"N12727*'Zdrojová data'!$C$14","v":0},0,{"$f":"IF(H12727=0,D12727-'Výstupy modelu'!$C$7,IF(P12727=1,J12727-K12727,0))","v":0},0,null,{"$f":"MAX(0,IF(Q12727>0,Q12727-('Výstupy modelu'!$H$10-'Výstupy modelu'!$H$9),0))","v":0},null,null,{"$f":"W12726","v":1865.4300000000003},1885.4300000000003,0,{"$f":"MAX(0,D12727-'Vstupní hodnoty'!$C$5)","v":0}]
[null,"2017-05-14T02:45:00",5,216,{"$f":"CEILING(IF(C12778-C12777=0,IF(H12777=0,I12777,IF(J12777>K12777,I12777,E12777)),'Výstupy modelu'!$C$7),1)","v":1664},0,0,{"$f":"IF(F12778=1,IF(G12778>'Zdrojová data'!$C$19,0,1),\"\")","v":""},1664,0,{"$f":"MIN(J12778,'Zdrojová data'!$C$17)","v":0},0,{"$f":"L12778/'Zdrojová data'!$C$16","v":0},{"$f":"M12778*'Zdrojová data'!$C$13","v":0},{"$f":"N12778*'Zdrojová data'!$C$14","v":0},0,{"$f":"IF(H12778=0,D12778-'Výstupy modelu'!$C$7,IF(P12778=1,J12778-K12778,0))","v":0},0,null,{"$f":"MAX(0,IF(Q12778>0,Q12778-('Výstupy modelu'!$H$10-'Výstupy modelu'!$H$9),0))","v":0},null,null,{"$f":"W12777","v":1865.4300000000003},1885.4300000000003,0,{"$f":"MAX(0,D12778-'Vstupní hodnoty'!$C$5)","v":0}]
[null,"2017-05-14T11:30:00",5,227.88000000000002,{"$f":"CEILING(IF(C12813-C12812=0,IF(H12812=0,I12812,IF(J12812>K12812,I12812,E12812)),'Výstupy modelu'!$C$7),1)","v":1664},0,0,{"$f":"IF(F12813=1,IF(G12813>'Zdrojová data'!$C$19,0,1),\"\")","v":""},1664,0,{"$f":"MIN(J12813,'Zdrojová data'!$C$17)","v":0},0,{"$f":"L12813/'Zdrojová data'!$C$16","v":0},{"$f":"M12813*'Zdrojová data'!$C$13","v":0},{"$f":"N12813*'Zdrojová data'!$C$14","v":0},0,{"$f":"IF(H12813=0,D12813-'Výstupy modelu'!$C$7,IF(P12813=1,J12813-K12813,0))","v":0},0,null,{"$f":"MAX(0,IF(Q12813>0,Q12813-('Výstupy modelu'!$H$10-'Výstupy modelu'!$H$9),0))","v":0},null,null,{"$f":"W12812","v":1865.4300000000003},1885.4300000000003,0,{"$f":"MAX(0,D12813-'Vstupní hodnoty'!$C$5)","v":0}]
[null,"2017-05-14T15:45:00",5,225.72000000000003,{"$f":"CEILING(IF(C12830-C12829=0,IF(H12829=0,I12829,IF(J12829>K12829,I12829,E12829)),'Výstupy modelu'!$C$7),1)","v":1664},0,0,{"$f":"IF(F12830=1,IF(G12830>'Zdrojová data'!$C$19,0,1),\"\")","v":""},1664,0,{"$f":"MIN(J12830,'Zdrojová data'!$C$17)","v":0},0,{"$f":"L12830/'Zdrojová data'!$C$16","v":0},{"$f":"M12830*'Zdrojová data'!$C$13","v":0},{"$f":"N12830*'Zdrojová data'!$C$14","v":0},0,{"$f":"IF(H12830=0,D12830-'Výstupy modelu'!$C$7,IF(P12830=1,J12830-K12830,0))","v":0},0,null,{"$f":"MAX(0,IF(Q12830>0,Q12830-('Výstupy modelu'!$H$10-'Výstupy modelu'!$H$9),0))","v":0},null,null,{"$f":"W12829","v":1865.4300000000003},1885.4300000000003,0,{"$f":"MAX(0,D12830-'Vstupní hodnoty'!$C$5)","v":0}]
[null,"2017-05-15T02:15:00",5,459.00000000000006,{"$f":"CEILING(IF(C12872-C12871=0,IF(H12871=0,I12871,IF(J12871>K12871,I12871,E12871)),'Výstupy modelu'!$C$7),1)","v":1664},0,0,{"$f":"IF(F12872=1,IF(G12872>'Zdrojová data'!$C$19,0,1),\"\")","v":""},1664,0,{"$f":"MIN(J12872,'Zdrojová data'!$C$17)","v":0},0,{"$f":"L12872/'Zdrojová data'!$C$16","v":0},{"$f":"M12872*'Zdrojová data'!$C$13","v":0},{"$f":"N12872*'Zdrojová data'!$C$14","v":0},0,{"$f":"IF(H12872=0,D12872-'Výstupy modelu'!$C$7,IF(P12872=1,J12872-K12872,0))","v":0},0,null,{"$f":"MAX(0,IF(Q12872>0,Q12872-('Výstupy modelu'!$H$10-'Výstupy modelu'!$H$9),0))","v":0},null,null,{"$f":"W12871","v":1865.4300000000003},1885.4300000000003,0,{"$f":"MAX(0,D12872-'Vstupní hodnoty'!$C$5)","v":0}]
[null,"2017-05-15T13:00:00",5,1331.64,{"$f":"CEILING(IF(C12915-C12914=0,IF(H12914=0,I12914,IF(J12914>K12914,I12914,E12914)),'Výstupy modelu'!$C$7),1)","v":1664},0,0,{"$f":"IF(F12915=1,IF(G12915>'Zdrojová data'!$C$19,0,1),\"\")","v":""},1664,0,{"$f":"MIN(J12915,'Zdrojová data'!$C$17)","v":0},0,{"$f":"L12915/'Zdrojová data'!$C$16","v":0},{"$f":"M12915*'Zdrojová data'!$C$13","v":0},{"$f":"N12915*'Zdrojová data'!$C$14","v":0},0,{"$f":"IF(H12915=0,D12915-'Výstupy modelu'!$C$7,IF(P12915=1,J12915-K12915,0))","v":0},0,null,{"$f":"MAX(0,IF(Q12915>0,Q12915-('Výstupy modelu'!$H$10-'Výstupy modelu'!$H$9),0))","v":0},null,null,{"$f":"W12914","v":1865.4300000000003},1885.4300000000003,0,{"$f":"MAX(0,D12915-'Vstupní hodnoty'!$C$5)","v":0}]
[null,"2017-05-15T17:15:00",5,977.40000000000009,{"$f":"CEILING(IF(C12932-C12931=0,IF(H12931=0,I12931,IF(J12931>K12931,I12931,E12931)),'Výstupy modelu'!$C$7),1)","v":1664},{"$f":"IF(D12932>E12932,1,0)","v":0},0,{"$f":"IF(F12932=1,IF(G12932>'Zdrojová data'!$C$19,0,1),\"\")","v":""},{"$f":"IF(H12932=0,D12932,IF(J12932>K12932,E12932+J12932-K12932,E12932))","v":1664},{"$f":"IF(H12932=1,D12932-E12932,0)","v":0},{"$f":"MIN(J12932,'Zdrojová data'!$C$17)","v":0},0,{"$f":"L12932/'Zdrojová data'!$C$16","v":0},{"$f":"M12932*'Zdrojová data'!$C$13","v":0},{"$f":"N12932*'Zdrojová data'!$C$14","v":0},0,{"$f":"IF(H12932=0,D12932-'Výstupy modelu'!$C$7,IF(P12932=1,J12932-K12932,0))","v":0},0,null,{"$f":"MAX(0,IF(Q12932>0,Q12932-('Výstupy modelu'!$H$10-'Výstupy modelu'!$H$9),0))","v":0},null,null,{"$f":"W12931","v":1865.4300000000003},1885.4300000000003,0,{"$f":"MAX(0,D12932-'Vstupní hodnoty'!$C$5)","v":0}]
[null,"2017-05-16T02:00:00",5,468.72,{"$f":"CEILING(IF(C12967-C12966=0,IF(H12966=0,I12966,IF(J12966>K12966,I12966,E12966)),'Výstupy modelu'!$C$7),1)","v":1664},0,0,{"$f":"IF(F12967=1,IF(G12967>'Zdrojová data'!$C$19,0,1),\"\")","v":""},1664,0,{"$f":"MIN(J12967,'Zdrojová data'!$C$17)","v":0},0,{"$f":"L12967/'Zdrojová data'!$C$16","v":0},{"$f":"M12967*'Zdrojová data'!$C$13","v":0},{"$f":"N12967*'Zdrojová data'!$C$14","v":0},0,{"$f":"IF(H12967=0,D12967-'Výstupy modelu'!$C$7,IF(P12967=1,J12967-K12967,0))","v":0},0,null,{"$f":"MAX(0,IF(Q12967>0,Q12967-('Výstupy modelu'!$H$10-'Výstupy modelu'!$H$9),0))","v":0},null,null,{"$f":"W12966","v":1865.4300000000003},1885.4300000000003,0,{"$f":"MAX(0,D12967-'Vstupní hodnoty'!$C$5)","v":0}]
[null,"2017-05-16T14:45:00",5,1166.4000000000001,{"$f":"CEILING(IF(C13018-C13017=0,IF(H13017=0,I13017,IF(J13017>K13017,I13017,E13017)),'Výstupy modelu'!$C$7),1)","v":1664},0,0,{"$f":"IF(F13018=1,IF(G13018>'Zdrojová data'!$C$19,0,1),\"\")","v":""},1664,0,{"$f":"MIN(J13018,'Zdrojová data'!$C$17)","v":0},0,{"$f":"L13018/'Zdrojová data'!$C$16","v":0},{"$f":"M13018*'Zdrojová data'!$C$13","v":0},{"$f":"N13018*'Zdrojová data'!$C$14","v":0},0,{"$f":"IF(H13018=0,D13018-'Výstupy modelu'!$C$7,IF(P13018=1,J13018-K13018,0))","v":0},0,null,{"$f":"MAX(0,IF(Q13018>0,Q13018-('Výstupy modelu'!$H$10-'Výstupy modelu'!$H$9),0))","v":0},null,null,{"$f":"W13017","v":1865.4300000000003},1885.4300000000003,0,{"$f":"MAX(0,D13018-'Vstupní hodnoty'!$C$5)","v":0}]
[null,"2017-05-16T20:45:00",5,865.08,{"$f":"CEILING(IF(C13042-C13041=0,IF(H13041=0,I13041,IF(J13041>K13041,I13041,E13041)),'Výstupy modelu'!$C$7),1)","v":1664},0,0,{"$f":"IF(F13042=1,IF(G13042>'Zdrojová data'!$C$19,0,1),\"\")","v":""},1664,0,{"$f":"MIN(J13042,'Zdrojová data'!$C$17)","v":0},0,{"$f":"L13042/'Zdrojová data'!$C$16","v":0},{"$f":"M13042*'Zdrojová data'!$C$13","v":0},{"$f":"N13042*'Zdrojová data'!$C$14","v":0},0,{"$f":"IF(H13042=0,D13042-'Výstupy modelu'!$C$7,IF(P13042=1,J13042-K13042,0))","v":0},0,null,{"$f":"MAX(0,IF(Q13042>0,Q13042-('Výstupy modelu'!$H$10-'Výstupy modelu'!$H$9),0))","v":0},null,null,{"$f":"W13041","v":1865.4300000000003},1885.4300000000003,0,{"$f":"MAX(0,D13042-'Vstupní hodnoty'!$C$5)","v":0}]
[null,"2017-05-17T03:30:00",5,548.64,{"$f":"CEILING(IF(C13069-C13068=0,IF(H13068=0,I13068,IF(J13068>K13068,I13068,E13068)),'Výstupy modelu'!$C$7),1)","v":1664},0,0,{"$f":"IF(F13069=1,IF(G13069>'Zdrojová data'!$C$19,0,1),\"\")","v":""},1664,0,{"$f":"MIN(J13069,'Zdrojová data'!$C$17)","v":0},0,{"$f":"L13069/'Zdrojová data'!$C$16","v":0},{"$f":"M13069*'Zdrojová data'!$C$13","v":0},{"$f":"N13069*'Zdrojová data'!$C$14","v":0},0,{"$f":"IF(H13069=0,D13069-'Výstupy modelu'!$C$7,IF(P13069=1,J13069-K13069,0))","v":0},0,null,{"$f":"MAX(0,IF(Q13069>0,Q13069-('Výstupy modelu'!$H$10-'Výstupy modelu'!$H$9),0))","v":0},null,null,{"$f":"W13068","v":1865.4300000000003},1885.4300000000003,0,{"$f":"MAX(0,D13069-'Vstupní hodnoty'!$C$5)","v":0}]
[null,"2017-05-17T16:15:00",5,1070.28,{"$f":"CEILING(IF(C13120-C13119=0,IF(H13119=0,I13119,IF(J13119>K13119,I13119,E13119)),'Výstupy modelu'!$C$7),1)","v":1664},0,0,{"$f":"IF(F13120=1,IF(G13120>'Zdrojová data'!$C$19,0,1),\"\")","v":""},1664,0,{"$f":"MIN(J13120,'Zdrojová data'!$C$17)","v":0},0,{"$f":"L13120/'Zdrojová data'!$C$16","v":0},{"$f":"M13120*'Zdrojová data'!$C$13","v":0},{"$f":"N13120*'Zdrojová data'!$C$14","v":0},0,{"$f":"IF(H13120=0,D13120-'Výstupy modelu'!$C$7,IF(P13120=1,J13120-K13120,0))","v":0},0,null,{"$f":"MAX(0,IF(Q13120>0,Q13120-('Výstupy modelu'!$H$10-'Výstupy modelu'!$H$9),0))","v":0},null,null,{"$f":"W13119","v":1865.4300000000003},1885.4300000000003,0,{"$f":"MAX(0,D13120-'Vstupní hodnoty'!$C$5)","v":0}]
[null,"2017-05-18T01:00:00",5,548.64,{"$f":"CEILING(IF(C13155-C13154=0,IF(H13154=0,I13154,IF(J13154>K13154,I13154,E13154)),'Výstupy modelu'!$C$7),1)","v":1664},0,0,{"$f":"IF(F13155=1,IF(G13155>'Zdrojová data'!$C$19,0,1),\"\")","v":""},1664,0,{"$f":"MIN(J13155,'Zdrojová data'!$C$17)","v":0},0,{"$f":"L13155/'Zdrojová data'!$C$16","v":0},{"$f":"M13155*'Zdrojová data'!$C$13","v":0},{"$f":"N13155*'Zdrojová data'!$C$14","v":0},0,{"$f":"IF(H13155=0,D13155-'Výstupy modelu'!$C$7,IF(P13155=1,J13155-K13155,0))","v":0},0,null,{"$f":"MAX(0,IF(Q13155>0,Q13155-('Výstupy modelu'!$H$10-'Výstupy modelu'!$H$9),0))","v":0},null,null,{"$f":"W13154","v":1865.4300000000003},1885.4300000000003,0,{"$f":"MAX(0,D13155-'Vstupní hodnoty'!$C$5)","v":0}]
[null,"2017-05-18T06:15:00",5,1339.2,{"$f":"CEILING(IF(C13176-C13175=0,IF(H13175=0,I13175,IF(J13175>K13175,I13175,E13175)),'Výstupy modelu'!$C$7),1)","v":1664},0,0,{"$f":"IF(F13176=1,IF(G13176>'Zdrojová data'!$C$19,0,1),\"\")","v":""},1664,0,{"$f":"MIN(J13176,'Zdrojová data'!$C$17)","v":0},0,{"$f":"L13176/'Zdrojová data'!$C$16","v":0},{"$f":"M13176*'Zdrojová data'!$C$13","v":0},{"$f":"N13176*'Zdrojová data'!$C$14","v":0},0,{"$f":"IF(H13176=0,D13176-'Výstupy modelu'!$C$7,IF(P13176=1,J13176-K13176,0))","v":0},0,null,{"$f":"MAX(0,IF(Q13176>0,Q13176-('Výstupy modelu'!$H$10-'Výstupy modelu'!$H$9),0))","v":0},null,null,{"$f":"W13175","v":1865.4300000000003},1885.4300000000003,0,{"$f":"MAX(0,D13176-'Vstupní hodnoty'!$C$5)","v":0}]
[null,"2017-05-18T17:45:00",5,867.24,{"$f":"CEILING(IF(C13222-C13221=0,IF(H13221=0,I13221,IF(J13221>K13221,I13221,E13221)),'Výstupy modelu'!$C$7),1)","v":1664},0,0,{"$f":"IF(F13222=1,IF(G13222>'Zdrojová data'!$C$19,0,1),\"\")","v":""},1664,0,{"$f":"MIN(J13222,'Zdrojová data'!$C$17)","v":0},0,{"$f":"L13222/'Zdrojová data'!$C$16","v":0},{"$f":"M13222*'Zdrojová data'!$C$13","v":0},{"$f":"N13222*'Zdrojová data'!$C$14","v":0},0,{"$f":"IF(H13222=0,D13222-'Výstupy modelu'!$C$7,IF(P13222=1,J13222-K13222,0))","v":0},0,null,{"$f":"MAX(0,IF(Q13222>0,Q13222-('Výstupy modelu'!$H$10-'Výstupy modelu'!$H$9),0))","v":0},null,null,{"$f":"W13221","v":1865.4300000000003},1885.4300000000003,0,{"$f":"MAX(0,D13222-'Vstupní hodnoty'!$C$5)","v":0}]
[null,"2017-05-19T02:30:00",5,562.68000000000006,{"$f":"CEILING(IF(C13257-C13256=0,IF(H13256=0,I13256,IF(J13256>K13256,I13256,E13256)),'Výstupy modelu'!$C$7),1)","v":1664},0,0,{"$f":"IF(F13257=1,IF(G13257>'Zdrojová data'!$C$19,0,1),\"\")","v":""},1664,0,{"$f":"MIN(J13257,'Zdrojová data'!$C$17)","v":0},0,{"$f":"L13257/'Zdrojová data'!$C$16","v":0},{"$f":"M13257*'Zdrojová data'!$C$13","v":0},{"$f":"N13257*'Zdrojová data'!$C$14","v":0},0,{"$f":"IF(H13257=0,D13257-'Výstupy modelu'!$C$7,IF(P13257=1,J13257-K13257,0))","v":0},0,null,{"$f":"MAX(0,IF(Q13257>0,Q13257-('Výstupy modelu'!$H$10-'Výstupy modelu'!$H$9),0))","v":0},null,null,{"$f":"W13256","v":1865.4300000000003},1885.4300000000003,0,{"$f":"MAX(0,D13257-'Vstupní hodnoty'!$C$5)","v":0}]
[null,"2017-05-19T06:45:00",5,1368.3600000000001,{"$f":"CEILING(IF(C13274-C13273=0,IF(H13273=0,I13273,IF(J13273>K13273,I13273,E13273)),'Výstupy modelu'!$C$7),1)","v":1664},0,0,{"$f":"IF(F13274=1,IF(G13274>'Zdrojová data'!$C$19,0,1),\"\")","v":""},1664,0,{"$f":"MIN(J13274,'Zdrojová data'!$C$17)","v":0},0,{"$f":"L13274/'Zdrojová data'!$C$16","v":0},{"$f":"M13274*'Zdrojová data'!$C$13","v":0},{"$f":"N13274*'Zdrojová data'!$C$14","v":0},0,{"$f":"IF(H13274=0,D13274-'Výstupy modelu'!$C$7,IF(P13274=1,J13274-K13274,0))","v":0},0,null,{"$f":"MAX(0,IF(Q13274>0,Q13274-('Výstupy modelu'!$H$10-'Výstupy modelu'!$H$9),0))","v":0},null,null,{"$f":"W13273","v":1865.4300000000003},1885.4300000000003,0,{"$f":"MAX(0,D13274-'Vstupní hodnoty'!$C$5)","v":0}]
[null,"2017-05-19T15:30:00",5,1192.3200000000002,{"$f":"CEILING(IF(C13309-C13308=0,IF(H13308=0,I13308,IF(J13308>K13308,I13308,E13308)),'Výstupy modelu'!$C$7),1)","v":1664},0,0,{"$f":"IF(F13309=1,IF(G13309>'Zdrojová data'!$C$19,0,1),\"\")","v":""},1664,0,{"$f":"MIN(J13309,'Zdrojová data'!$C$17)","v":0},0,{"$f":"L13309/'Zdrojová data'!$C$16","v":0},{"$f":"M13309*'Zdrojová data'!$C$13","v":0},{"$f":"N13309*'Zdrojová data'!$C$14","v":0},0,{"$f":"IF(H13309=0,D13309-'Výstupy modelu'!$C$7,IF(P13309=1,J13309-K13309,0))","v":0},0,null,{"$f":"MAX(0,IF(Q13309>0,Q13309-('Výstupy modelu'!$H$10-'Výstupy modelu'!$H$9),0))","v":0},null,null,{"$f":"W13308","v":1865.4300000000003},1885.4300000000003,0,{"$f":"MAX(0,D13309-'Vstupní hodnoty'!$C$5)","v":0}]
[null,"2017-05-20T01:45:00",5,261.36,{"$f":"CEILING(IF(C13350-C13349=0,IF(H13349=0,I13349,IF(J13349>K13349,I13349,E13349)),'Výstupy modelu'!$C$7),1)","v":1664},0,0,{"$f":"IF(F13350=1,IF(G13350>'Zdrojová data'!$C$19,0,1),\"\")","v":""},1664,0,{"$f":"MIN(J13350,'Zdrojová data'!$C$17)","v":0},0,{"$f":"L13350/'Zdrojová data'!$C$16","v":0},{"$f":"M13350*'Zdrojová data'!$C$13","v":0},{"$f":"N13350*'Zdrojová data'!$C$14","v":0},0,{"$f":"IF(H13350=0,D13350-'Výstupy modelu'!$C$7,IF(P13350=1,J13350-K13350,0))","v":0},0,null,{"$f":"MAX(0,IF(Q13350>0,Q13350-('Výstupy modelu'!$H$10-'Výstupy modelu'!$H$9),0))","v":0},null,null,{"$f":"W13349","v":1865.4300000000003},1885.4300000000003,0,{"$f":"MAX(0,D13350-'Vstupní hodnoty'!$C$5)","v":0}]
[null,"2017-05-20T08:15:00",5,500.04,{"$f":"CEILING(IF(C13376-C13375=0,IF(H13375=0,I13375,IF(J13375>K13375,I13375,E13375)),'Výstupy modelu'!$C$7),1)","v":1664},0,0,{"$f":"IF(F13376=1,IF(G13376>'Zdrojová data'!$C$19,0,1),\"\")","v":""},1664,0,{"$f":"MIN(J13376,'Zdrojová data'!$C$17)","v":0},0,{"$f":"L13376/'Zdrojová data'!$C$16","v":0},{"$f":"M13376*'Zdrojová data'!$C$13","v":0},{"$f":"N13376*'Zdrojová data'!$C$14","v":0},0,{"$f":"IF(H13376=0,D13376-'Výstupy modelu'!$C$7,IF(P13376=1,J13376-K13376,0))","v":0},0,null,{"$f":"MAX(0,IF(Q13376>0,Q13376-('Výstupy modelu'!$H$10-'Výstupy modelu'!$H$9),0))","v":0},null,null,{"$f":"W13375","v":1865.4300000000003},1885.4300000000003,0,{"$f":"MAX(0,D13376-'Vstupní hodnoty'!$C$5)","v":0}]
[null,"2017-05-20T17:00:00",5,245.16000000000003,{"$f":"CEILING(IF(C13411-C13410=0,IF(H13410=0,I13410,IF(J13410>K13410,I13410,E13410)),'Výstupy modelu'!$C$7),1)","v":1664},0,0,{"$f":"IF(F13411=1,IF(G13411>'Zdrojová data'!$C$19,0,1),\"\")","v":""},1664,0,{"$f":"MIN(J13411,'Zdrojová data'!$C$17)","v":0},0,{"$f":"L13411/'Zdrojová data'!$C$16","v":0},{"$f":"M13411*'Zdrojová data'!$C$13","v":0},{"$f":"N13411*'Zdrojová data'!$C$14","v":0},0,{"$f":"IF(H13411=0,D13411-'Výstupy modelu'!$C$7,IF(P13411=1,J13411-K13411,0))","v":0},0,null,{"$f":"MAX(0,IF(Q13411>0,Q13411-('Výstupy modelu'!$H$10-'Výstupy modelu'!$H$9),0))","v":0},null,null,{"$f":"W13410","v":1865.4300000000003},1885.4300000000003,0,{"$f":"MAX(0,D13411-'Vstupní hodnoty'!$C$5)","v":0}]
[null,"2017-05-21T05:45:00",5,231.12,{"$f":"CEILING(IF(C13462-C13461=0,IF(H13461=0,I13461,IF(J13461>K13461,I13461,E13461)),'Výstupy modelu'!$C$7),1)","v":1664},0,0,{"$f":"IF(F13462=1,IF(G13462>'Zdrojová data'!$C$19,0,1),\"\")","v":""},1664,0,{"$f":"MIN(J13462,'Zdrojová data'!$C$17)","v":0},0,{"$f":"L13462/'Zdrojová data'!$C$16","v":0},{"$f":"M13462*'Zdrojová data'!$C$13","v":0},{"$f":"N13462*'Zdrojová data'!$C$14","v":0},0,{"$f":"IF(H13462=0,D13462-'Výstupy modelu'!$C$7,IF(P13462=1,J13462-K13462,0))","v":0},0,null,{"$f":"MAX(0,IF(Q13462>0,Q13462-('Výstupy modelu'!$H$10-'Výstupy modelu'!$H$9),0))","v":0},null,null,{"$f":"W13461","v":1865.4300000000003},1885.4300000000003,0,{"$f":"MAX(0,D13462-'Vstupní hodnoty'!$C$5)","v":0}]
[null,"2017-05-21T10:00:00",5,221.4,{"$f":"CEILING(IF(C13479-C13478=0,IF(H13478=0,I13478,IF(J13478>K13478,I13478,E13478)),'Výstupy modelu'!$C$7),1)","v":1664},0,0,{"$f":"IF(F13479=1,IF(G13479>'Zdrojová data'!$C$19,0,1),\"\")","v":""},1664,0,{"$f":"MIN(J13479,'Zdrojová data'!$C$17)","v":0},0,{"$f":"L13479/'Zdrojová data'!$C$16","v":0},{"$f":"M13479*'Zdrojová data'!$C$13","v":0},{"$f":"N13479*'Zdrojová data'!$C$14","v":0},0,{"$f":"IF(H13479=0,D13479-'Výstupy modelu'!$C$7,IF(P13479=1,J13479-K13479,0))","v":0},0,null,{"$f":"MAX(0,IF(Q13479>0,Q13479-('Výstupy modelu'!$H$10-'Výstupy modelu'!$H$9),0))","v":0},null,null,{"$f":"W13478","v":1865.4300000000003},1885.4300000000003,0,{"$f":"MAX(0,D13479-'Vstupní hodnoty'!$C$5)","v":0}]
[null,"2017-05-21T21:15:00",5,248.4,{"$f":"CEILING(IF(C13524-C13523=0,IF(H13523=0,I13523,IF(J13523>K13523,I13523,E13523)),'Výstupy modelu'!$C$7),1)","v":1664},0,0,{"$f":"IF(F13524=1,IF(G13524>'Zdrojová data'!$C$19,0,1),\"\")","v":""},1664,0,{"$f":"MIN(J13524,'Zdrojová data'!$C$17)","v":0},0,{"$f":"L13524/'Zdrojová data'!$C$16","v":0},{"$f":"M13524*'Zdrojová data'!$C$13","v":0},{"$f":"N13524*'Zdrojová data'!$C$14","v":0},0,{"$f":"IF(H13524=0,D13524-'Výstupy modelu'!$C$7,IF(P13524=1,J13524-K13524,0))","v":0},0,null,{"$f":"MAX(0,IF(Q13524>0,Q13524-('Výstupy modelu'!$H$10-'Výstupy modelu'!$H$9),0))","v":0},null,null,{"$f":"W13523","v":1865.4300000000003},1885.4300000000003,0,{"$f":"MAX(0,D13524-'Vstupní hodnoty'!$C$5)","v":0}]
[null,"2017-05-22T07:15:00",5,1370.52,{"$f":"CEILING(IF(C13564-C13563=0,IF(H13563=0,I13563,IF(J13563>K13563,I13563,E13563)),'Výstupy modelu'!$C$7),1)","v":1664},0,0,{"$f":"IF(F13564=1,IF(G13564>'Zdrojová data'!$C$19,0,1),\"\")","v":""},1664,0,{"$f":"MIN(J13564,'Zdrojová data'!$C$17)","v":0},0,{"$f":"L13564/'Zdrojová data'!$C$16","v":0},{"$f":"M13564*'Zdrojová data'!$C$13","v":0},{"$f":"N13564*'Zdrojová data'!$C$14","v":0},0,{"$f":"IF(H13564=0,D13564-'Výstupy modelu'!$C$7,IF(P13564=1,J13564-K13564,0))","v":0},0,null,{"$f":"MAX(0,IF(Q13564>0,Q13564-('Výstupy modelu'!$H$10-'Výstupy modelu'!$H$9),0))","v":0},null,null,{"$f":"W13563","v":1865.4300000000003},1885.4300000000003,0,{"$f":"MAX(0,D13564-'Vstupní hodnoty'!$C$5)","v":0}]
[null,"2017-05-22T16:00:00",5,1008.72,{"$f":"CEILING(IF(C13599-C13598=0,IF(H13598=0,I13598,IF(J13598>K13598,I13598,E13598)),'Výstupy modelu'!$C$7),1)","v":1664},0,0,{"$f":"IF(F13599=1,IF(G13599>'Zdrojová data'!$C$19,0,1),\"\")","v":""},1664,0,{"$f":"MIN(J13599,'Zdrojová data'!$C$17)","v":0},0,{"$f":"L13599/'Zdrojová data'!$C$16","v":0},{"$f":"M13599*'Zdrojová data'!$C$13","v":0},{"$f":"N13599*'Zdrojová data'!$C$14","v":0},0,{"$f":"IF(H13599=0,D13599-'Výstupy modelu'!$C$7,IF(P13599=1,J13599-K13599,0))","v":0},0,null,{"$f":"MAX(0,IF(Q13599>0,Q13599-('Výstupy modelu'!$H$10-'Výstupy modelu'!$H$9),0))","v":0},null,null,{"$f":"W13598","v":1865.4300000000003},1885.4300000000003,0,{"$f":"MAX(0,D13599-'Vstupní hodnoty'!$C$5)","v":0}]
[null,"2017-05-22T20:15:00",5,873.72,{"$f":"CEILING(IF(C13616-C13615=0,IF(H13615=0,I13615,IF(J13615>K13615,I13615,E13615)),'Výstupy modelu'!$C$7),1)","v":1664},0,0,{"$f":"IF(F13616=1,IF(G13616>'Zdrojová data'!$C$19,0,1),\"\")","v":""},1664,0,{"$f":"MIN(J13616,'Zdrojová data'!$C$17)","v":0},0,{"$f":"L13616/'Zdrojová data'!$C$16","v":0},{"$f":"M13616*'Zdrojová data'!$C$13","v":0},{"$f":"N13616*'Zdrojová data'!$C$14","v":0},0,{"$f":"IF(H13616=0,D13616-'Výstupy modelu'!$C$7,IF(P13616=1,J13616-K13616,0))","v":0},0,null,{"$f":"MAX(0,IF(Q13616>0,Q13616-('Výstupy modelu'!$H$10-'Výstupy modelu'!$H$9),0))","v":0},null,null,{"$f":"W13615","v":1865.4300000000003},1885.4300000000003,0,{"$f":"MAX(0,D13616-'Vstupní hodnoty'!$C$5)","v":0}]
[null,"2017-05-23T09:00:00",5,1422.3600000000001,{"$f":"CEILING(IF(C13667-C13666=0,IF(H13666=0,I13666,IF(J13666>K13666,I13666,E13666)),'Výstupy modelu'!$C$7),1)","v":1664},0,0,{"$f":"IF(F13667=1,IF(G13667>'Zdrojová data'!$C$19,0,1),\"\")","v":""},1664,0,{"$f":"MIN(J13667,'Zdrojová data'!$C$17)","v":0},0,{"$f":"L13667/'Zdrojová data'!$C$16","v":0},{"$f":"M13667*'Zdrojová data'!$C$13","v":0},{"$f":"N13667*'Zdrojová data'!$C$14","v":0},0,{"$f":"IF(H13667=0,D13667-'Výstupy modelu'!$C$7,IF(P13667=1,J13667-K13667,0))","v":0},0,null,{"$f":"MAX(0,IF(Q13667>0,Q13667-('Výstupy modelu'!$H$10-'Výstupy modelu'!$H$9),0))","v":0},null,null,{"$f":"W13666","v":1865.4300000000003},1885.4300000000003,0,{"$f":"MAX(0,D13667-'Vstupní hodnoty'!$C$5)","v":0}]
[null,"2017-05-23T16:45:00",5,1148.04,{"$f":"CEILING(IF(C13698-C13697=0,IF(H13697=0,I13697,IF(J13697>K13697,I13697,E13697)),'Výstupy modelu'!$C$7),1)","v":1664},0,0,{"$f":"IF(F13698=1,IF(G13698>'Zdrojová data'!$C$19,0,1),\"\")","v":""},1664,0,{"$f":"MIN(J13698,'Zdrojová data'!$C$17)","v":0},0,{"$f":"L13698/'Zdrojová data'!$C$16","v":0},{"$f":"M13698*'Zdrojová data'!$C$13","v":0},{"$f":"N13698*'Zdrojová data'!$C$14","v":0},0,{"$f":"IF(H13698=0,D13698-'Výstupy modelu'!$C$7,IF(P13698=1,J13698-K13698,0))","v":0},0,null,{"$f":"MAX(0,IF(Q13698>0,Q13698-('Výstupy modelu'!$H$10-'Výstupy modelu'!$H$9),0))","v":0},null,null,{"$f":"W13697","v":1865.4300000000003},1885.4300000000003,0,{"$f":"MAX(0,D13698-'Vstupní hodnoty'!$C$5)","v":0}]
[null,"2017-05-23T21:45:00",5,645.84,{"$f":"CEILING(IF(C13718-C13717=0,IF(H13717=0,I13717,IF(J13717>K13717,I13717,E13717)),'Výstupy modelu'!$C$7),1)","v":1664},0,0,{"$f":"IF(F13718=1,IF(G13718>'Zdrojová data'!$C$19,0,1),\"\")","v":""},1664,0,{"$f":"MIN(J13718,'Zdrojová data'!$C$17)","v":0},0,{"$f":"L13718/'Zdrojová data'!$C$16","v":0},{"$f":"M13718*'Zdrojová data'!$C$13","v":0},{"$f":"N13718*'Zdrojová data'!$C$14","v":0},0,{"$f":"IF(H13718=0,D13718-'Výstupy modelu'!$C$7,IF(P13718=1,J13718-K13718,0))","v":0},0,null,{"$f":"MAX(0,IF(Q13718>0,Q13718-('Výstupy modelu'!$H$10-'Výstupy modelu'!$H$9),0))","v":0},null,null,{"$f":"W13717","v":1865.4300000000003},1885.4300000000003,0,{"$f":"MAX(0,D13718-'Vstupní hodnoty'!$C$5)","v":0}]
[null,"2017-05-24T06:30:00",5,1413.72,{"$f":"CEILING(IF(C13753-C13752=0,IF(H13752=0,I13752,IF(J13752>K13752,I13752,E13752)),'Výstupy modelu'!$C$7),1)","v":1664},0,0,{"$f":"IF(F13753=1,IF(G13753>'Zdrojová data'!$C$19,0,1),\"\")","v":""},1664,0,{"$f":"MIN(J13753,'Zdrojová data'!$C$17)","v":0},0,{"$f":"L13753/'Zdrojová data'!$C$16","v":0},{"$f":"M13753*'Zdrojová data'!$C$13","v":0},{"$f":"N13753*'Zdrojová data'!$C$14","v":0},0,{"$f":"IF(H13753=0,D13753-'Výstupy modelu'!$C$7,IF(P13753=1,J13753-K13753,0))","v":0},0,null,{"$f":"MAX(0,IF(Q13753>0,Q13753-('Výstupy modelu'!$H$10-'Výstupy modelu'!$H$9),0))","v":0},null,null,{"$f":"W13752","v":1865.4300000000003},1885.4300000000003,0,{"$f":"MAX(0,D13753-'Vstupní hodnoty'!$C$5)","v":0}]
[null,"2017-05-24T19:15:00",5,982.80000000000007,{"$f":"CEILING(IF(C13804-C13803=0,IF(H13803=0,I13803,IF(J13803>K13803,I13803,E13803)),'Výstupy modelu'!$C$7),1)","v":1664},0,0,{"$f":"IF(F13804=1,IF(G13804>'Zdrojová data'!$C$19,0,1),\"\")","v":""},1664,0,{"$f":"MIN(J13804,'Zdrojová data'!$C$17)","v":0},0,{"$f":"L13804/'Zdrojová data'!$C$16","v":0},{"$f":"M13804*'Zdrojová data'!$C$13","v":0},{"$f":"N13804*'Zdrojová data'!$C$14","v":0},0,{"$f":"IF(H13804=0,D13804-'Výstupy modelu'!$C$7,IF(P13804=1,J13804-K13804,0))","v":0},0,null,{"$f":"MAX(0,IF(Q13804>0,Q13804-('Výstupy modelu'!$H$10-'Výstupy modelu'!$H$9),0))","v":0},null,null,{"$f":"W13803","v":1865.4300000000003},1885.4300000000003,0,{"$f":"MAX(0,D13804-'Vstupní hodnoty'!$C$5)","v":0}]
[null,"2017-05-24T23:30:00",5,466.56000000000006,{"$f":"CEILING(IF(C13821-C13820=0,IF(H13820=0,I13820,IF(J13820>K13820,I13820,E13820)),'Výstupy modelu'!$C$7),1)","v":1664},0,0,{"$f":"IF(F13821=1,IF(G13821>'Zdrojová data'!$C$19,0,1),\"\")","v":""},1664,0,{"$f":"MIN(J13821,'Zdrojová data'!$C$17)","v":0},0,{"$f":"L13821/'Zdrojová data'!$C$16","v":0},{"$f":"M13821*'Zdrojová data'!$C$13","v":0},{"$f":"N13821*'Zdrojová data'!$C$14","v":0},0,{"$f":"IF(H13821=0,D13821-'Výstupy modelu'!$C$7,IF(P13821=1,J13821-K13821,0))","v":0},0,null,{"$f":"MAX(0,IF(Q13821>0,Q13821-('Výstupy modelu'!$H$10-'Výstupy modelu'!$H$9),0))","v":0},null,null,{"$f":"W13820","v":1865.4300000000003},1885.4300000000003,0,{"$f":"MAX(0,D13821-'Vstupní hodnoty'!$C$5)","v":0}]
[null,"2017-05-25T12:15:00",5,1083.24,{"$f":"CEILING(IF(C13872-C13871=0,IF(H13871=0,I13871,IF(J13871>K13871,I13871,E13871)),'Výstupy modelu'!$C$7),1)","v":1664},0,0,{"$f":"IF(F13872=1,IF(G13872>'Zdrojová data'!$C$19,0,1),\"\")","v":""},1664,0,{"$f":"MIN(J13872,'Zdrojová data'!$C$17)","v":0},0,{"$f":"L13872/'Zdrojová data'!$C$16","v":0},{"$f":"M13872*'Zdrojová data'!$C$13","v":0},{"$f":"N13872*'Zdrojová data'!$C$14","v":0},0,{"$f":"IF(H13872=0,D13872-'Výstupy modelu'!$C$7,IF(P13872=1,J13872-K13872,0))","v":0},0,null,{"$f":"MAX(0,IF(Q13872>0,Q13872-('Výstupy modelu'!$H$10-'Výstupy modelu'!$H$9),0))","v":0},null,null,{"$f":"W13871","v":1865.4300000000003},1885.4300000000003,0,{"$f":"MAX(0,D13872-'Vstupní hodnoty'!$C$5)","v":0}]
[null,"2017-05-25T20:45:00",5,857.5200000000001,{"$f":"CEILING(IF(C13906-C13905=0,IF(H13905=0,I13905,IF(J13905>K13905,I13905,E13905)),'Výstupy modelu'!$C$7),1)","v":1664},0,0,{"$f":"IF(F13906=1,IF(G13906>'Zdrojová data'!$C$19,0,1),\"\")","v":""},1664,0,{"$f":"MIN(J13906,'Zdrojová data'!$C$17)","v":0},0,{"$f":"L13906/'Zdrojová data'!$C$16","v":0},{"$f":"M13906*'Zdrojová data'!$C$13","v":0},{"$f":"N13906*'Zdrojová data'!$C$14","v":0},0,{"$f":"IF(H13906=0,D13906-'Výstupy modelu'!$C$7,IF(P13906=1,J13906-K13906,0))","v":0},0,null,{"$f":"MAX(0,IF(Q13906>0,Q13906-('Výstupy modelu'!$H$10-'Výstupy modelu'!$H$9),0))","v":0},null,null,{"$f":"W13905","v":1865.4300000000003},1885.4300000000003,0,{"$f":"MAX(0,D13906-'Vstupní hodnoty'!$C$5)","v":0}]
[null,"2017-05-26T01:00:00",5,555.12,{"$f":"CEILING(IF(C13923-C13922=0,IF(H13922=0,I13922,IF(J13922>K13922,I13922,E13922)),'Výstupy modelu'!$C$7),1)","v":1664},0,0,{"$f":"IF(F13923=1,IF(G13923>'Zdrojová data'!$C$19,0,1),\"\")","v":""},1664,0,{"$f":"MIN(J13923,'Zdrojová data'!$C$17)","v":0},0,{"$f":"L13923/'Zdrojová data'!$C$16","v":0},{"$f":"M13923*'Zdrojová data'!$C$13","v":0},{"$f":"N13923*'Zdrojová data'!$C$14","v":0},0,{"$f":"IF(H13923=0,D13923-'Výstupy modelu'!$C$7,IF(P13923=1,J13923-K13923,0))","v":0},0,null,{"$f":"MAX(0,IF(Q13923>0,Q13923-('Výstupy modelu'!$H$10-'Výstupy modelu'!$H$9),0))","v":0},null,null,{"$f":"W13922","v":1865.4300000000003},1885.4300000000003,0,{"$f":"MAX(0,D13923-'Vstupní hodnoty'!$C$5)","v":0}]
[null,"2017-05-26T09:45:00",5,1436.4,{"$f":"CEILING(IF(C13958-C13957=0,IF(H13957=0,I13957,IF(J13957>K13957,I13957,E13957)),'Výstupy modelu'!$C$7),1)","v":1664},0,0,{"$f":"IF(F13958=1,IF(G13958>'Zdrojová data'!$C$19,0,1),\"\")","v":""},1664,0,{"$f":"MIN(J13958,'Zdrojová data'!$C$17)","v":0},0,{"$f":"L13958/'Zdrojová data'!$C$16","v":0},{"$f":"M13958*'Zdrojová data'!$C$13","v":0},{"$f":"N13958*'Zdrojová data'!$C$14","v":0},0,{"$f":"IF(H13958=0,D13958-'Výstupy modelu'!$C$7,IF(P13958=1,J13958-K13958,0))","v":0},0,null,{"$f":"MAX(0,IF(Q13958>0,Q13958-('Výstupy modelu'!$H$10-'Výstupy modelu'!$H$9),0))","v":0},null,null,{"$f":"W13957","v":1865.4300000000003},1885.4300000000003,0,{"$f":"MAX(0,D13958-'Vstupní hodnoty'!$C$5)","v":0}]
[null,"2017-05-26T22:30:00",5,366.12,{"$f":"CEILING(IF(C14009-C14008=0,IF(H14008=0,I14008,IF(J14008>K14008,I14008,E14008)),'Výstupy modelu'!$C$7),1)","v":1664},0,0,{"$f":"IF(F14009=1,IF(G14009>'Zdrojová data'!$C$19,0,1),\"\")","v":""},1664,0,{"$f":"MIN(J14009,'Zdrojová data'!$C$17)","v":0},0,{"$f":"L14009/'Zdrojová data'!$C$16","v":0},{"$f":"M14009*'Zdrojová data'!$C$13","v":0},{"$f":"N14009*'Zdrojová data'!$C$14","v":0},0,{"$f":"IF(H14009=0,D14009-'Výstupy modelu'!$C$7,IF(P14009=1,J14009-K14009,0))","v":0},0,null,{"$f":"MAX(0,IF(Q14009>0,Q14009-('Výstupy modelu'!$H$10-'Výstupy modelu'!$H$9),0))","v":0},null,null,{"$f":"W14008","v":1865.4300000000003},1885.4300000000003,0,{"$f":"MAX(0,D14009-'Vstupní hodnoty'!$C$5)","v":0}]
[null,"2017-05-26T23:30:00",5,331.56,{"$f":"CEILING(IF(C14013-C14012=0,IF(H14012=0,I14012,IF(J14012>K14012,I14012,E14012)),'Výstupy modelu'!$C$7),1)","v":1664},0,0,{"$f":"IF(F14013=1,IF(G14013>'Zdrojová data'!$C$19,0,1),\"\")","v":""},1664,0,{"$f":"MIN(J14013,'Zdrojová data'!$C$17)","v":0},0,{"$f":"L14013/'Zdrojová data'!$C$16","v":0},{"$f":"M14013*'Zdrojová data'!$C$13","v":0},{"$f":"N14013*'Zdrojová data'!$C$14","v":0},0,{"$f":"IF(H14013=0,D14013-'Výstupy modelu'!$C$7,IF(P14013=1,J14013-K14013,0))","v":0},0,null,{"$f":"MAX(0,IF(Q14013>0,Q14013-('Výstupy modelu'!$H$10-'Výstupy modelu'!$H$9),0))","v":0},null,null,{"$f":"W14012","v":1865.4300000000003},1885.4300000000003,0,{"$f":"MAX(0,D14013-'Vstupní hodnoty'!$C$5)","v":0}]
[null,"2017-05-27T11:15:00",5,454.68,{"$f":"CEILING(IF(C14060-C14059=0,IF(H14059=0,I14059,IF(J14059>K14059,I14059,E14059)),'Výstupy modelu'!$C$7),1)","v":1664},0,0,{"$f":"IF(F14060=1,IF(G14060>'Zdrojová data'!$C$19,0,1),\"\")","v":""},1664,0,{"$f":"MIN(J14060,'Zdrojová data'!$C$17)","v":0},0,{"$f":"L14060/'Zdrojová data'!$C$16","v":0},{"$f":"M14060*'Zdrojová data'!$C$13","v":0},{"$f":"N14060*'Zdrojová data'!$C$14","v":0},0,{"$f":"IF(H14060=0,D14060-'Výstupy modelu'!$C$7,IF(P14060=1,J14060-K14060,0))","v":0},0,null,{"$f":"MAX(0,IF(Q14060>0,Q14060-('Výstupy modelu'!$H$10-'Výstupy modelu'!$H$9),0))","v":0},null,null,{"$f":"W14059","v":1865.4300000000003},1885.4300000000003,0,{"$f":"MAX(0,D14060-'Vstupní hodnoty'!$C$5)","v":0}]
[null,"2017-05-28",5,266.76,{"$f":"CEILING(IF(C14111-C14110=0,IF(H14110=0,I14110,IF(J14110>K14110,I14110,E14110)),'Výstupy modelu'!$C$7),1)","v":1664},0,0,{"$f":"IF(F14111=1,IF(G14111>'Zdrojová data'!$C$19,0,1),\"\")","v":""},1664,0,{"$f":"MIN(J14111,'Zdrojová data'!$C$17)","v":0},0,{"$f":"L14111/'Zdrojová data'!$C$16","v":0},{"$f":"M14111*'Zdrojová data'!$C$13","v":0},{"$f":"N14111*'Zdrojová data'!$C$14","v":0},0,{"$f":"IF(H14111=0,D14111-'Výstupy modelu'!$C$7,IF(P14111=1,J14111-K14111,0))","v":0},0,null,{"$f":"MAX(0,IF(Q14111>0,Q14111-('Výstupy modelu'!$H$10-'Výstupy modelu'!$H$9),0))","v":0},null,null,{"$f":"W14110","v":1865.4300000000003},1885.4300000000003,0,{"$f":"MAX(0,D14111-'Vstupní hodnoty'!$C$5)","v":0}]
[null,"2017-05-28T08:45:00",5,250.56,{"$f":"CEILING(IF(C14146-C14145=0,IF(H14145=0,I14145,IF(J14145>K14145,I14145,E14145)),'Výstupy modelu'!$C$7),1)","v":1664},0,0,{"$f":"IF(F14146=1,IF(G14146>'Zdrojová data'!$C$19,0,1),\"\")","v":""},1664,0,{"$f":"MIN(J14146,'Zdrojová data'!$C$17)","v":0},0,{"$f":"L14146/'Zdrojová data'!$C$16","v":0},{"$f":"M14146*'Zdrojová data'!$C$13","v":0},{"$f":"N14146*'Zdrojová data'!$C$14","v":0},0,{"$f":"IF(H14146=0,D14146-'Výstupy modelu'!$C$7,IF(P14146=1,J14146-K14146,0))","v":0},0,null,{"$f":"MAX(0,IF(Q14146>0,Q14146-('Výstupy modelu'!$H$10-'Výstupy modelu'!$H$9),0))","v":0},null,null,{"$f":"W14145","v":1865.4300000000003},1885.4300000000003,0,{"$f":"MAX(0,D14146-'Vstupní hodnoty'!$C$5)","v":0}]
[null,"2017-05-28T13:00:00",5,343.44,{"$f":"CEILING(IF(C14163-C14162=0,IF(H14162=0,I14162,IF(J14162>K14162,I14162,E14162)),'Výstupy modelu'!$C$7),1)","v":1664},0,0,{"$f":"IF(F14163=1,IF(G14163>'Zdrojová data'!$C$19,0,1),\"\")","v":""},1664,0,{"$f":"MIN(J14163,'Zdrojová data'!$C$17)","v":0},0,{"$f":"L14163/'Zdrojová data'!$C$16","v":0},{"$f":"M14163*'Zdrojová data'!$C$13","v":0},{"$f":"N14163*'Zdrojová data'!$C$14","v":0},0,{"$f":"IF(H14163=0,D14163-'Výstupy modelu'!$C$7,IF(P14163=1,J14163-K14163,0))","v":0},0,null,{"$f":"MAX(0,IF(Q14163>0,Q14163-('Výstupy modelu'!$H$10-'Výstupy modelu'!$H$9),0))","v":0},null,null,{"$f":"W14162","v":1865.4300000000003},1885.4300000000003,0,{"$f":"MAX(0,D14163-'Vstupní hodnoty'!$C$5)","v":0}]
[null,"2017-05-28T18:00:00",5,381.24,{"$f":"CEILING(IF(C14183-C14182=0,IF(H14182=0,I14182,IF(J14182>K14182,I14182,E14182)),'Výstupy modelu'!$C$7),1)","v":1664},0,0,{"$f":"IF(F14183=1,IF(G14183>'Zdrojová data'!$C$19,0,1),\"\")","v":""},1664,0,{"$f":"MIN(J14183,'Zdrojová data'!$C$17)","v":0},0,{"$f":"L14183/'Zdrojová data'!$C$16","v":0},{"$f":"M14183*'Zdrojová data'!$C$13","v":0},{"$f":"N14183*'Zdrojová data'!$C$14","v":0},0,{"$f":"IF(H14183=0,D14183-'Výstupy modelu'!$C$7,IF(P14183=1,J14183-K14183,0))","v":0},0,null,{"$f":"MAX(0,IF(Q14183>0,Q14183-('Výstupy modelu'!$H$10-'Výstupy modelu'!$H$9),0))","v":0},null,null,{"$f":"W14182","v":1865.4300000000003},1885.4300000000003,0,{"$f":"MAX(0,D14183-'Vstupní hodnoty'!$C$5)","v":0}]
[null,"2017-05-29T01:45:00",5,504.36,{"$f":"CEILING(IF(C14214-C14213=0,IF(H14213=0,I14213,IF(J14213>K14213,I14213,E14213)),'Výstupy modelu'!$C$7),1)","v":1664},0,0,{"$f":"IF(F14214=1,IF(G14214>'Zdrojová data'!$C$19,0,1),\"\")","v":""},1664,0,{"$f":"MIN(J14214,'Zdrojová data'!$C$17)","v":0},0,{"$f":"L14214/'Zdrojová data'!$C$16","v":0},{"$f":"M14214*'Zdrojová data'!$C$13","v":0},{"$f":"N14214*'Zdrojová data'!$C$14","v":0},0,{"$f":"IF(H14214=0,D14214-'Výstupy modelu'!$C$7,IF(P14214=1,J14214-K14214,0))","v":0},0,null,{"$f":"MAX(0,IF(Q14214>0,Q14214-('Výstupy modelu'!$H$10-'Výstupy modelu'!$H$9),0))","v":0},null,null,{"$f":"W14213","v":1865.4300000000003},1885.4300000000003,0,{"$f":"MAX(0,D14214-'Vstupní hodnoty'!$C$5)","v":0}]
[null,"2017-05-29T14:30:00",5,1436.4,{"$f":"CEILING(IF(C14265-C14264=0,IF(H14264=0,I14264,IF(J14264>K14264,I14264,E14264)),'Výstupy modelu'!$C$7),1)","v":1664},0,0,{"$f":"IF(F14265=1,IF(G14265>'Zdrojová data'!$C$19,0,1),\"\")","v":""},1664,0,{"$f":"MIN(J14265,'Zdrojová data'!$C$17)","v":0},0,{"$f":"L14265/'Zdrojová data'!$C$16","v":0},{"$f":"M14265*'Zdrojová data'!$C$13","v":0},{"$f":"N14265*'Zdrojová data'!$C$14","v":0},0,{"$f":"IF(H14265=0,D14265-'Výstupy modelu'!$C$7,IF(P14265=1,J14265-K14265,0))","v":0},0,null,{"$f":"MAX(0,IF(Q14265>0,Q14265-('Výstupy modelu'!$H$10-'Výstupy modelu'!$H$9),0))","v":0},null,null,{"$f":"W14264","v":1865.4300000000003},1885.4300000000003,0,{"$f":"MAX(0,D14265-'Vstupní hodnoty'!$C$5)","v":0}]
[null,"2017-05-29T23:15:00",5,492.48,{"$f":"CEILING(IF(C14300-C14299=0,IF(H14299=0,I14299,IF(J14299>K14299,I14299,E14299)),'Výstupy modelu'!$C$7),1)","v":1664},0,0,{"$f":"IF(F14300=1,IF(G14300>'Zdrojová data'!$C$19,0,1),\"\")","v":""},1664,0,{"$f":"MIN(J14300,'Zdrojová data'!$C$17)","v":0},0,{"$f":"L14300/'Zdrojová data'!$C$16","v":0},{"$f":"M14300*'Zdrojová data'!$C$13","v":0},{"$f":"N14300*'Zdrojová data'!$C$14","v":0},0,{"$f":"IF(H14300=0,D14300-'Výstupy modelu'!$C$7,IF(P14300=1,J14300-K14300,0))","v":0},0,null,{"$f":"MAX(0,IF(Q14300>0,Q14300-('Výstupy modelu'!$H$10-'Výstupy modelu'!$H$9),0))","v":0},null,null,{"$f":"W14299","v":1865.4300000000003},1885.4300000000003,0,{"$f":"MAX(0,D14300-'Vstupní hodnoty'!$C$5)","v":0}]
[null,"2017-05-30T03:30:00",5,538.92000000000007,{"$f":"CEILING(IF(C14317-C14316=0,IF(H14316=0,I14316,IF(J14316>K14316,I14316,E14316)),'Výstupy modelu'!$C$7),1)","v":1664},0,0,{"$f":"IF(F14317=1,IF(G14317>'Zdrojová data'!$C$19,0,1),\"\")","v":""},1664,0,{"$f":"MIN(J14317,'Zdrojová data'!$C$17)","v":0},0,{"$f":"L14317/'Zdrojová data'!$C$16","v":0},{"$f":"M14317*'Zdrojová data'!$C$13","v":0},{"$f":"N14317*'Zdrojová data'!$C$14","v":0},0,{"$f":"IF(H14317=0,D14317-'Výstupy modelu'!$C$7,IF(P14317=1,J14317-K14317,0))","v":0},0,null,{"$f":"MAX(0,IF(Q14317>0,Q14317-('Výstupy modelu'!$H$10-'Výstupy modelu'!$H$9),0))","v":0},null,null,{"$f":"W14316","v":1865.4300000000003},1885.4300000000003,0,{"$f":"MAX(0,D14317-'Vstupní hodnoty'!$C$5)","v":0}]
[null,"2017-05-30T13:30:00",5,1671.8400000000001,{"$f":"CEILING(IF(C14357-C14356=0,IF(H14356=0,I14356,IF(J14356>K14356,I14356,E14356)),'Výstupy modelu'!$C$7),1)","v":1664},1,6,{"$f":"IF(F14357=1,IF(G14357>'Zdrojová data'!$C$19,0,1),\"\")","v":1},1664,7.8400000000001455,{"$f":"MIN(J14357,'Zdrojová data'!$C$17)","v":7.8400000000001455},1.9600000000000364,{"$f":"L14357/'Zdrojová data'!$C$16","v":0.32666666666667271},{"$f":"M14357*'Zdrojová data'!$C$13","v":0.45461111111111951},{"$f":"N14357*'Zdrojová data'!$C$14","v":10.706046205555754},0,{"$f":"IF(H14357=0,D14357-'Výstupy modelu'!$C$7,IF(P14357=1,J14357-K14357,0))","v":0},0,null,{"$f":"MAX(0,IF(Q14357>0,Q14357-('Výstupy modelu'!$H$10-'Výstupy modelu'!$H$9),0))","v":0},null,null,{"$f":"W14356","v":1865.4300000000003},1885.4300000000003,0,{"$f":"MAX(0,D14357-'Vstupní hodnoty'!$C$5)","v":0}]
[null,"2017-05-31T00:45:00",5,703.08,{"$f":"CEILING(IF(C14402-C14401=0,IF(H14401=0,I14401,IF(J14401>K14401,I14401,E14401)),'Výstupy modelu'!$C$7),1)","v":1664},0,0,{"$f":"IF(F14402=1,IF(G14402>'Zdrojová data'!$C$19,0,1),\"\")","v":""},1664,0,{"$f":"MIN(J14402,'Zdrojová data'!$C$17)","v":0},0,{"$f":"L14402/'Zdrojová data'!$C$16","v":0},{"$f":"M14402*'Zdrojová data'!$C$13","v":0},{"$f":"N14402*'Zdrojová data'!$C$14","v":0},0,{"$f":"IF(H14402=0,D14402-'Výstupy modelu'!$C$7,IF(P14402=1,J14402-K14402,0))","v":0},0,null,{"$f":"MAX(0,IF(Q14402>0,Q14402-('Výstupy modelu'!$H$10-'Výstupy modelu'!$H$9),0))","v":0},null,null,{"$f":"W14401","v":1865.4300000000003},1885.4300000000003,0,{"$f":"MAX(0,D14402-'Vstupní hodnoty'!$C$5)","v":0}]
[null,"2017-05-31T05:00:00",5,699.84,{"$f":"CEILING(IF(C14419-C14418=0,IF(H14418=0,I14418,IF(J14418>K14418,I14418,E14418)),'Výstupy modelu'!$C$7),1)","v":1664},0,0,{"$f":"IF(F14419=1,IF(G14419>'Zdrojová data'!$C$19,0,1),\"\")","v":""},1664,0,{"$f":"MIN(J14419,'Zdrojová data'!$C$17)","v":0},0,{"$f":"L14419/'Zdrojová data'!$C$16","v":0},{"$f":"M14419*'Zdrojová data'!$C$13","v":0},{"$f":"N14419*'Zdrojová data'!$C$14","v":0},0,{"$f":"IF(H14419=0,D14419-'Výstupy modelu'!$C$7,IF(P14419=1,J14419-K14419,0))","v":0},0,null,{"$f":"MAX(0,IF(Q14419>0,Q14419-('Výstupy modelu'!$H$10-'Výstupy modelu'!$H$9),0))","v":0},null,null,{"$f":"W14418","v":1865.4300000000003},1885.4300000000003,0,{"$f":"MAX(0,D14419-'Vstupní hodnoty'!$C$5)","v":0}]
[null,"2017-05-31T13:45:00",5,1647,{"$f":"CEILING(IF(C14454-C14453=0,IF(H14453=0,I14453,IF(J14453>K14453,I14453,E14453)),'Výstupy modelu'!$C$7),1)","v":1664},0,0,{"$f":"IF(F14454=1,IF(G14454>'Zdrojová data'!$C$19,0,1),\"\")","v":""},1664,0,{"$f":"MIN(J14454,'Zdrojová data'!$C$17)","v":0},0,{"$f":"L14454/'Zdrojová data'!$C$16","v":0},{"$f":"M14454*'Zdrojová data'!$C$13","v":0},{"$f":"N14454*'Zdrojová data'!$C$14","v":0},0,{"$f":"IF(H14454=0,D14454-'Výstupy modelu'!$C$7,IF(P14454=1,J14454-K14454,0))","v":0},0,null,{"$f":"MAX(0,IF(Q14454>0,Q14454-('Výstupy modelu'!$H$10-'Výstupy modelu'!$H$9),0))","v":0},null,null,{"$f":"W14453","v":1865.4300000000003},1885.4300000000003,0,{"$f":"MAX(0,D14454-'Vstupní hodnoty'!$C$5)","v":0}]
[null,"2017-06-01T02:30:00",6,497.88000000000005,{"$f":"CEILING(IF(C14505-C14504=0,IF(H14504=0,I14504,IF(J14504>K14504,I14504,E14504)),'Výstupy modelu'!$C$7),1)","v":1664},0,0,{"$f":"IF(F14505=1,IF(G14505>'Zdrojová data'!$C$19,0,1),\"\")","v":""},1664,0,{"$f":"MIN(J14505,'Zdrojová data'!$C$17)","v":0},0,{"$f":"L14505/'Zdrojová data'!$C$16","v":0},{"$f":"M14505*'Zdrojová data'!$C$13","v":0},{"$f":"N14505*'Zdrojová data'!$C$14","v":0},0,{"$f":"IF(H14505=0,D14505-'Výstupy modelu'!$C$7,IF(P14505=1,J14505-K14505,0))","v":0},0,null,{"$f":"MAX(0,IF(Q14505>0,Q14505-('Výstupy modelu'!$H$10-'Výstupy modelu'!$H$9),0))","v":0},null,null,{"$f":"W14504","v":1865.4300000000003},1885.4300000000003,0,{"$f":"MAX(0,D14505-'Vstupní hodnoty'!$C$5)","v":0}]
[null,"2017-06-01T09:00:00",6,1551.96,{"$f":"CEILING(IF(C14531-C14530=0,IF(H14530=0,I14530,IF(J14530>K14530,I14530,E14530)),'Výstupy modelu'!$C$7),1)","v":1664},0,0,{"$f":"IF(F14531=1,IF(G14531>'Zdrojová data'!$C$19,0,1),\"\")","v":""},1664,0,{"$f":"MIN(J14531,'Zdrojová data'!$C$17)","v":0},0,{"$f":"L14531/'Zdrojová data'!$C$16","v":0},{"$f":"M14531*'Zdrojová data'!$C$13","v":0},{"$f":"N14531*'Zdrojová data'!$C$14","v":0},0,{"$f":"IF(H14531=0,D14531-'Výstupy modelu'!$C$7,IF(P14531=1,J14531-K14531,0))","v":0},0,null,{"$f":"MAX(0,IF(Q14531>0,Q14531-('Výstupy modelu'!$H$10-'Výstupy modelu'!$H$9),0))","v":0},null,null,{"$f":"W14530","v":1865.4300000000003},1885.4300000000003,0,{"$f":"MAX(0,D14531-'Vstupní hodnoty'!$C$5)","v":0}]
[null,"2017-06-01T15:15:00",6,1385.64,{"$f":"CEILING(IF(C14556-C14555=0,IF(H14555=0,I14555,IF(J14555>K14555,I14555,E14555)),'Výstupy modelu'!$C$7),1)","v":1664},0,0,{"$f":"IF(F14556=1,IF(G14556>'Zdrojová data'!$C$19,0,1),\"\")","v":""},1664,0,{"$f":"MIN(J14556,'Zdrojová data'!$C$17)","v":0},0,{"$f":"L14556/'Zdrojová data'!$C$16","v":0},{"$f":"M14556*'Zdrojová data'!$C$13","v":0},{"$f":"N14556*'Zdrojová data'!$C$14","v":0},0,{"$f":"IF(H14556=0,D14556-'Výstupy modelu'!$C$7,IF(P14556=1,J14556-K14556,0))","v":0},0,null,{"$f":"MAX(0,IF(Q14556>0,Q14556-('Výstupy modelu'!$H$10-'Výstupy modelu'!$H$9),0))","v":0},null,null,{"$f":"W14555","v":1865.4300000000003},1885.4300000000003,0,{"$f":"MAX(0,D14556-'Vstupní hodnoty'!$C$5)","v":0}]
[null,"2017-06-02T04:00:00",6,557.28000000000009,{"$f":"CEILING(IF(C14607-C14606=0,IF(H14606=0,I14606,IF(J14606>K14606,I14606,E14606)),'Výstupy modelu'!$C$7),1)","v":1664},0,0,{"$f":"IF(F14607=1,IF(G14607>'Zdrojová data'!$C$19,0,1),\"\")","v":""},1664,0,{"$f":"MIN(J14607,'Zdrojová data'!$C$17)","v":0},0,{"$f":"L14607/'Zdrojová data'!$C$16","v":0},{"$f":"M14607*'Zdrojová data'!$C$13","v":0},{"$f":"N14607*'Zdrojová data'!$C$14","v":0},0,{"$f":"IF(H14607=0,D14607-'Výstupy modelu'!$C$7,IF(P14607=1,J14607-K14607,0))","v":0},0,null,{"$f":"MAX(0,IF(Q14607>0,Q14607-('Výstupy modelu'!$H$10-'Výstupy modelu'!$H$9),0))","v":0},null,null,{"$f":"W14606","v":1865.4300000000003},1885.4300000000003,0,{"$f":"MAX(0,D14607-'Vstupní hodnoty'!$C$5)","v":0}]
[null,"2017-06-02T08:15:00",6,1442.88,{"$f":"CEILING(IF(C14624-C14623=0,IF(H14623=0,I14623,IF(J14623>K14623,I14623,E14623)),'Výstupy modelu'!$C$7),1)","v":1664},0,0,{"$f":"IF(F14624=1,IF(G14624>'Zdrojová data'!$C$19,0,1),\"\")","v":""},1664,0,{"$f":"MIN(J14624,'Zdrojová data'!$C$17)","v":0},0,{"$f":"L14624/'Zdrojová data'!$C$16","v":0},{"$f":"M14624*'Zdrojová data'!$C$13","v":0},{"$f":"N14624*'Zdrojová data'!$C$14","v":0},0,{"$f":"IF(H14624=0,D14624-'Výstupy modelu'!$C$7,IF(P14624=1,J14624-K14624,0))","v":0},0,null,{"$f":"MAX(0,IF(Q14624>0,Q14624-('Výstupy modelu'!$H$10-'Výstupy modelu'!$H$9),0))","v":0},null,null,{"$f":"W14623","v":1865.4300000000003},1885.4300000000003,0,{"$f":"MAX(0,D14624-'Vstupní hodnoty'!$C$5)","v":0}]
[null,"2017-06-02T18:30:00",6,1028.1600000000001,{"$f":"CEILING(IF(C14665-C14664=0,IF(H14664=0,I14664,IF(J14664>K14664,I14664,E14664)),'Výstupy modelu'!$C$7),1)","v":1664},0,0,{"$f":"IF(F14665=1,IF(G14665>'Zdrojová data'!$C$19,0,1),\"\")","v":""},1664,0,{"$f":"MIN(J14665,'Zdrojová data'!$C$17)","v":0},0,{"$f":"L14665/'Zdrojová data'!$C$16","v":0},{"$f":"M14665*'Zdrojová data'!$C$13","v":0},{"$f":"N14665*'Zdrojová data'!$C$14","v":0},0,{"$f":"IF(H14665=0,D14665-'Výstupy modelu'!$C$7,IF(P14665=1,J14665-K14665,0))","v":0},0,null,{"$f":"MAX(0,IF(Q14665>0,Q14665-('Výstupy modelu'!$H$10-'Výstupy modelu'!$H$9),0))","v":0},null,null,{"$f":"W14664","v":1865.4300000000003},1885.4300000000003,0,{"$f":"MAX(0,D14665-'Vstupní hodnoty'!$C$5)","v":0}]
[null,"2017-06-03T05:30:00",6,406.08000000000004,{"$f":"CEILING(IF(C14709-C14708=0,IF(H14708=0,I14708,IF(J14708>K14708,I14708,E14708)),'Výstupy modelu'!$C$7),1)","v":1664},0,0,{"$f":"IF(F14709=1,IF(G14709>'Zdrojová data'!$C$19,0,1),\"\")","v":""},1664,0,{"$f":"MIN(J14709,'Zdrojová data'!$C$17)","v":0},0,{"$f":"L14709/'Zdrojová data'!$C$16","v":0},{"$f":"M14709*'Zdrojová data'!$C$13","v":0},{"$f":"N14709*'Zdrojová data'!$C$14","v":0},0,{"$f":"IF(H14709=0,D14709-'Výstupy modelu'!$C$7,IF(P14709=1,J14709-K14709,0))","v":0},0,null,{"$f":"MAX(0,IF(Q14709>0,Q14709-('Výstupy modelu'!$H$10-'Výstupy modelu'!$H$9),0))","v":0},null,null,{"$f":"W14708","v":1865.4300000000003},1885.4300000000003,0,{"$f":"MAX(0,D14709-'Vstupní hodnoty'!$C$5)","v":0}]
[null,"2017-06-03T14:15:00",6,466.56000000000006,{"$f":"CEILING(IF(C14744-C14743=0,IF(H14743=0,I14743,IF(J14743>K14743,I14743,E14743)),'Výstupy modelu'!$C$7),1)","v":1664},0,0,{"$f":"IF(F14744=1,IF(G14744>'Zdrojová data'!$C$19,0,1),\"\")","v":""},1664,0,{"$f":"MIN(J14744,'Zdrojová data'!$C$17)","v":0},0,{"$f":"L14744/'Zdrojová data'!$C$16","v":0},{"$f":"M14744*'Zdrojová data'!$C$13","v":0},{"$f":"N14744*'Zdrojová data'!$C$14","v":0},0,{"$f":"IF(H14744=0,D14744-'Výstupy modelu'!$C$7,IF(P14744=1,J14744-K14744,0))","v":0},0,null,{"$f":"MAX(0,IF(Q14744>0,Q14744-('Výstupy modelu'!$H$10-'Výstupy modelu'!$H$9),0))","v":0},null,null,{"$f":"W14743","v":1865.4300000000003},1885.4300000000003,0,{"$f":"MAX(0,D14744-'Vstupní hodnoty'!$C$5)","v":0}]
[null,"2017-06-03T18:30:00",6,396.36,{"$f":"CEILING(IF(C14761-C14760=0,IF(H14760=0,I14760,IF(J14760>K14760,I14760,E14760)),'Výstupy modelu'!$C$7),1)","v":1664},0,0,{"$f":"IF(F14761=1,IF(G14761>'Zdrojová data'!$C$19,0,1),\"\")","v":""},1664,0,{"$f":"MIN(J14761,'Zdrojová data'!$C$17)","v":0},0,{"$f":"L14761/'Zdrojová data'!$C$16","v":0},{"$f":"M14761*'Zdrojová data'!$C$13","v":0},{"$f":"N14761*'Zdrojová data'!$C$14","v":0},0,{"$f":"IF(H14761=0,D14761-'Výstupy modelu'!$C$7,IF(P14761=1,J14761-K14761,0))","v":0},0,null,{"$f":"MAX(0,IF(Q14761>0,Q14761-('Výstupy modelu'!$H$10-'Výstupy modelu'!$H$9),0))","v":0},null,null,{"$f":"W14760","v":1865.4300000000003},1885.4300000000003,0,{"$f":"MAX(0,D14761-'Vstupní hodnoty'!$C$5)","v":0}]
[null,"2017-06-04T07:15:00",6,287.28000000000003,{"$f":"CEILING(IF(C14812-C14811=0,IF(H14811=0,I14811,IF(J14811>K14811,I14811,E14811)),'Výstupy modelu'!$C$7),1)","v":1664},0,0,{"$f":"IF(F14812=1,IF(G14812>'Zdrojová data'!$C$19,0,1),\"\")","v":""},1664,0,{"$f":"MIN(J14812,'Zdrojová data'!$C$17)","v":0},0,{"$f":"L14812/'Zdrojová data'!$C$16","v":0},{"$f":"M14812*'Zdrojová data'!$C$13","v":0},{"$f":"N14812*'Zdrojová data'!$C$14","v":0},0,{"$f":"IF(H14812=0,D14812-'Výstupy modelu'!$C$7,IF(P14812=1,J14812-K14812,0))","v":0},0,null,{"$f":"MAX(0,IF(Q14812>0,Q14812-('Výstupy modelu'!$H$10-'Výstupy modelu'!$H$9),0))","v":0},null,null,{"$f":"W14811","v":1865.4300000000003},1885.4300000000003,0,{"$f":"MAX(0,D14812-'Vstupní hodnoty'!$C$5)","v":0}]
[null,"2017-06-04T14:00:00",6,345.6,{"$f":"CEILING(IF(C14839-C14838=0,IF(H14838=0,I14838,IF(J14838>K14838,I14838,E14838)),'Výstupy modelu'!$C$7),1)","v":1664},0,0,{"$f":"IF(F14839=1,IF(G14839>'Zdrojová data'!$C$19,0,1),\"\")","v":""},1664,0,{"$f":"MIN(J14839,'Zdrojová data'!$C$17)","v":0},0,{"$f":"L14839/'Zdrojová data'!$C$16","v":0},{"$f":"M14839*'Zdrojová data'!$C$13","v":0},{"$f":"N14839*'Zdrojová data'!$C$14","v":0},0,{"$f":"IF(H14839=0,D14839-'Výstupy modelu'!$C$7,IF(P14839=1,J14839-K14839,0))","v":0},0,null,{"$f":"MAX(0,IF(Q14839>0,Q14839-('Výstupy modelu'!$H$10-'Výstupy modelu'!$H$9),0))","v":0},null,null,{"$f":"W14838","v":1865.4300000000003},1885.4300000000003,0,{"$f":"MAX(0,D14839-'Vstupní hodnoty'!$C$5)","v":0}]
[null,"2017-06-04T20:00:00",6,265.68,{"$f":"CEILING(IF(C14863-C14862=0,IF(H14862=0,I14862,IF(J14862>K14862,I14862,E14862)),'Výstupy modelu'!$C$7),1)","v":1664},0,0,{"$f":"IF(F14863=1,IF(G14863>'Zdrojová data'!$C$19,0,1),\"\")","v":""},1664,0,{"$f":"MIN(J14863,'Zdrojová data'!$C$17)","v":0},0,{"$f":"L14863/'Zdrojová data'!$C$16","v":0},{"$f":"M14863*'Zdrojová data'!$C$13","v":0},{"$f":"N14863*'Zdrojová data'!$C$14","v":0},0,{"$f":"IF(H14863=0,D14863-'Výstupy modelu'!$C$7,IF(P14863=1,J14863-K14863,0))","v":0},0,null,{"$f":"MAX(0,IF(Q14863>0,Q14863-('Výstupy modelu'!$H$10-'Výstupy modelu'!$H$9),0))","v":0},null,null,{"$f":"W14862","v":1865.4300000000003},1885.4300000000003,0,{"$f":"MAX(0,D14863-'Vstupní hodnoty'!$C$5)","v":0}]
[null,"2017-06-05T08:45:00",6,1459.0800000000002,{"$f":"CEILING(IF(C14914-C14913=0,IF(H14913=0,I14913,IF(J14913>K14913,I14913,E14913)),'Výstupy modelu'!$C$7),1)","v":1664},0,0,{"$f":"IF(F14914=1,IF(G14914>'Zdrojová data'!$C$19,0,1),\"\")","v":""},1664,0,{"$f":"MIN(J14914,'Zdrojová data'!$C$17)","v":0},0,{"$f":"L14914/'Zdrojová data'!$C$16","v":0},{"$f":"M14914*'Zdrojová data'!$C$13","v":0},{"$f":"N14914*'Zdrojová data'!$C$14","v":0},0,{"$f":"IF(H14914=0,D14914-'Výstupy modelu'!$C$7,IF(P14914=1,J14914-K14914,0))","v":0},0,null,{"$f":"MAX(0,IF(Q14914>0,Q14914-('Výstupy modelu'!$H$10-'Výstupy modelu'!$H$9),0))","v":0},null,null,{"$f":"W14913","v":1865.4300000000003},1885.4300000000003,0,{"$f":"MAX(0,D14914-'Vstupní hodnoty'!$C$5)","v":0}]
[null,"2017-06-05T17:30:00",6,1065.96,{"$f":"CEILING(IF(C14949-C14948=0,IF(H14948=0,I14948,IF(J14948>K14948,I14948,E14948)),'Výstupy modelu'!$C$7),1)","v":1664},0,0,{"$f":"IF(F14949=1,IF(G14949>'Zdrojová data'!$C$19,0,1),\"\")","v":""},1664,0,{"$f":"MIN(J14949,'Zdrojová data'!$C$17)","v":0},0,{"$f":"L14949/'Zdrojová data'!$C$16","v":0},{"$f":"M14949*'Zdrojová data'!$C$13","v":0},{"$f":"N14949*'Zdrojová data'!$C$14","v":0},0,{"$f":"IF(H14949=0,D14949-'Výstupy modelu'!$C$7,IF(P14949=1,J14949-K14949,0))","v":0},0,null,{"$f":"MAX(0,IF(Q14949>0,Q14949-('Výstupy modelu'!$H$10-'Výstupy modelu'!$H$9),0))","v":0},null,null,{"$f":"W14948","v":1865.4300000000003},1885.4300000000003,0,{"$f":"MAX(0,D14949-'Vstupní hodnoty'!$C$5)","v":0}]
[null,"2017-06-05T21:45:00",6,675,{"$f":"CEILING(IF(C14966-C14965=0,IF(H14965=0,I14965,IF(J14965>K14965,I14965,E14965)),'Výstupy modelu'!$C$7),1)","v":1664},0,0,{"$f":"IF(F14966=1,IF(G14966>'Zdrojová data'!$C$19,0,1),\"\")","v":""},1664,0,{"$f":"MIN(J14966,'Zdrojová data'!$C$17)","v":0},0,{"$f":"L14966/'Zdrojová data'!$C$16","v":0},{"$f":"M14966*'Zdrojová data'!$C$13","v":0},{"$f":"N14966*'Zdrojová data'!$C$14","v":0},0,{"$f":"IF(H14966=0,D14966-'Výstupy modelu'!$C$7,IF(P14966=1,J14966-K14966,0))","v":0},0,null,{"$f":"MAX(0,IF(Q14966>0,Q14966-('Výstupy modelu'!$H$10-'Výstupy modelu'!$H$9),0))","v":0},null,null,{"$f":"W14965","v":1865.4300000000003},1885.4300000000003,0,{"$f":"MAX(0,D14966-'Vstupní hodnoty'!$C$5)","v":0}]
[null,"2017-06-06T09:30:00",6,1571.4,{"$f":"CEILING(IF(C15013-C15012=0,IF(H15012=0,I15012,IF(J15012>K15012,I15012,E15012)),'Výstupy modelu'!$C$7),1)","v":1664},0,0,{"$f":"IF(F15013=1,IF(G15013>'Zdrojová data'!$C$19,0,1),\"\")","v":""},1664,0,{"$f":"MIN(J15013,'Zdrojová data'!$C$17)","v":0},0,{"$f":"L15013/'Zdrojová data'!$C$16","v":0},{"$f":"M15013*'Zdrojová data'!$C$13","v":0},{"$f":"N15013*'Zdrojová data'!$C$14","v":0},0,{"$f":"IF(H15013=0,D15013-'Výstupy modelu'!$C$7,IF(P15013=1,J15013-K15013,0))","v":0},0,null,{"$f":"MAX(0,IF(Q15013>0,Q15013-('Výstupy modelu'!$H$10-'Výstupy modelu'!$H$9),0))","v":0},null,null,{"$f":"W15012","v":1865.4300000000003},1885.4300000000003,0,{"$f":"MAX(0,D15013-'Vstupní hodnoty'!$C$5)","v":0}]
[null,"2017-06-06T19:00:00",6,1009.8000000000001,{"$f":"CEILING(IF(C15051-C15050=0,IF(H15050=0,I15050,IF(J15050>K15050,I15050,E15050)),'Výstupy modelu'!$C$7),1)","v":1664},0,0,{"$f":"IF(F15051=1,IF(G15051>'Zdrojová data'!$C$19,0,1),\"\")","v":""},1664,0,{"$f":"MIN(J15051,'Zdrojová data'!$C$17)","v":0},0,{"$f":"L15051/'Zdrojová data'!$C$16","v":0},{"$f":"M15051*'Zdrojová data'!$C$13","v":0},{"$f":"N15051*'Zdrojová data'!$C$14","v":0},0,{"$f":"IF(H15051=0,D15051-'Výstupy modelu'!$C$7,IF(P15051=1,J15051-K15051,0))","v":0},0,null,{"$f":"MAX(0,IF(Q15051>0,Q15051-('Výstupy modelu'!$H$10-'Výstupy modelu'!$H$9),0))","v":0},null,null,{"$f":"W15050","v":1865.4300000000003},1885.4300000000003,0,{"$f":"MAX(0,D15051-'Vstupní hodnoty'!$C$5)","v":0}]
[null,"2017-06-06T23:15:00",6,504.36,{"$f":"CEILING(IF(C15068-C15067=0,IF(H15067=0,I15067,IF(J15067>K15067,I15067,E15067)),'Výstupy modelu'!$C$7),1)","v":1664},0,0,{"$f":"IF(F15068=1,IF(G15068>'Zdrojová data'!$C$19,0,1),\"\")","v":""},1664,0,{"$f":"MIN(J15068,'Zdrojová data'!$C$17)","v":0},0,{"$f":"L15068/'Zdrojová data'!$C$16","v":0},{"$f":"M15068*'Zdrojová data'!$C$13","v":0},{"$f":"N15068*'Zdrojová data'!$C$14","v":0},0,{"$f":"IF(H15068=0,D15068-'Výstupy modelu'!$C$7,IF(P15068=1,J15068-K15068,0))","v":0},0,null,{"$f":"MAX(0,IF(Q15068>0,Q15068-('Výstupy modelu'!$H$10-'Výstupy modelu'!$H$9),0))","v":0},null,null,{"$f":"W15067","v":1865.4300000000003},1885.4300000000003,0,{"$f":"MAX(0,D15068-'Vstupní hodnoty'!$C$5)","v":0}]
[null,"2017-06-07T08:00:00",6,1298.1600000000001,{"$f":"CEILING(IF(C15103-C15102=0,IF(H15102=0,I15102,IF(J15102>K15102,I15102,E15102)),'Výstupy modelu'!$C$7),1)","v":1664},0,0,{"$f":"IF(F15103=1,IF(G15103>'Zdrojová data'!$C$19,0,1),\"\")","v":""},1664,0,{"$f":"MIN(J15103,'Zdrojová data'!$C$17)","v":0},0,{"$f":"L15103/'Zdrojová data'!$C$16","v":0},{"$f":"M15103*'Zdrojová data'!$C$13","v":0},{"$f":"N15103*'Zdrojová data'!$C$14","v":0},0,{"$f":"IF(H15103=0,D15103-'Výstupy modelu'!$C$7,IF(P15103=1,J15103-K15103,0))","v":0},0,null,{"$f":"MAX(0,IF(Q15103>0,Q15103-('Výstupy modelu'!$H$10-'Výstupy modelu'!$H$9),0))","v":0},null,null,{"$f":"W15102","v":1865.4300000000003},1885.4300000000003,0,{"$f":"MAX(0,D15103-'Vstupní hodnoty'!$C$5)","v":0}]
[null,"2017-06-07T20:45:00",6,902.88000000000011,{"$f":"CEILING(IF(C15154-C15153=0,IF(H15153=0,I15153,IF(J15153>K15153,I15153,E15153)),'Výstupy modelu'!$C$7),1)","v":1664},0,0,{"$f":"IF(F15154=1,IF(G15154>'Zdrojová data'!$C$19,0,1),\"\")","v":""},1664,0,{"$f":"MIN(J15154,'Zdrojová data'!$C$17)","v":0},0,{"$f":"L15154/'Zdrojová data'!$C$16","v":0},{"$f":"M15154*'Zdrojová data'!$C$13","v":0},{"$f":"N15154*'Zdrojová data'!$C$14","v":0},0,{"$f":"IF(H15154=0,D15154-'Výstupy modelu'!$C$7,IF(P15154=1,J15154-K15154,0))","v":0},0,null,{"$f":"MAX(0,IF(Q15154>0,Q15154-('Výstupy modelu'!$H$10-'Výstupy modelu'!$H$9),0))","v":0},null,null,{"$f":"W15153","v":1865.4300000000003},1885.4300000000003,0,{"$f":"MAX(0,D15154-'Vstupní hodnoty'!$C$5)","v":0}]
[null,"2017-06-08T05:00:00",6,615.6,{"$f":"CEILING(IF(C15187-C15186=0,IF(H15186=0,I15186,IF(J15186>K15186,I15186,E15186)),'Výstupy modelu'!$C$7),1)","v":1664},0,0,{"$f":"IF(F15187=1,IF(G15187>'Zdrojová data'!$C$19,0,1),\"\")","v":""},1664,0,{"$f":"MIN(J15187,'Zdrojová data'!$C$17)","v":0},0,{"$f":"L15187/'Zdrojová data'!$C$16","v":0},{"$f":"M15187*'Zdrojová data'!$C$13","v":0},{"$f":"N15187*'Zdrojová data'!$C$14","v":0},0,{"$f":"IF(H15187=0,D15187-'Výstupy modelu'!$C$7,IF(P15187=1,J15187-K15187,0))","v":0},0,null,{"$f":"MAX(0,IF(Q15187>0,Q15187-('Výstupy modelu'!$H$10-'Výstupy modelu'!$H$9),0))","v":0},null,null,{"$f":"W15186","v":1865.4300000000003},1885.4300000000003,0,{"$f":"MAX(0,D15187-'Vstupní hodnoty'!$C$5)","v":0}]
[null,"2017-06-08T09:30:00",6,1497.96,{"$f":"CEILING(IF(C15205-C15204=0,IF(H15204=0,I15204,IF(J15204>K15204,I15204,E15204)),'Výstupy modelu'!$C$7),1)","v":1664},0,0,{"$f":"IF(F15205=1,IF(G15205>'Zdrojová data'!$C$19,0,1),\"\")","v":""},1664,0,{"$f":"MIN(J15205,'Zdrojová data'!$C$17)","v":0},0,{"$f":"L15205/'Zdrojová data'!$C$16","v":0},{"$f":"M15205*'Zdrojová data'!$C$13","v":0},{"$f":"N15205*'Zdrojová data'!$C$14","v":0},0,{"$f":"IF(H15205=0,D15205-'Výstupy modelu'!$C$7,IF(P15205=1,J15205-K15205,0))","v":0},0,null,{"$f":"MAX(0,IF(Q15205>0,Q15205-('Výstupy modelu'!$H$10-'Výstupy modelu'!$H$9),0))","v":0},null,null,{"$f":"W15204","v":1865.4300000000003},1885.4300000000003,0,{"$f":"MAX(0,D15205-'Vstupní hodnoty'!$C$5)","v":0}]
[null,"2017-06-08T22:15:00",6,492.48,{"$f":"CEILING(IF(C15256-C15255=0,IF(H15255=0,I15255,IF(J15255>K15255,I15255,E15255)),'Výstupy modelu'!$C$7),1)","v":1664},0,0,{"$f":"IF(F15256=1,IF(G15256>'Zdrojová data'!$C$19,0,1),\"\")","v":""},1664,0,{"$f":"MIN(J15256,'Zdrojová data'!$C$17)","v":0},0,{"$f":"L15256/'Zdrojová data'!$C$16","v":0},{"$f":"M15256*'Zdrojová data'!$C$13","v":0},{"$f":"N15256*'Zdrojová data'!$C$14","v":0},0,{"$f":"IF(H15256=0,D15256-'Výstupy modelu'!$C$7,IF(P15256=1,J15256-K15256,0))","v":0},0,null,{"$f":"MAX(0,IF(Q15256>0,Q15256-('Výstupy modelu'!$H$10-'Výstupy modelu'!$H$9),0))","v":0},null,null,{"$f":"W15255","v":1865.4300000000003},1885.4300000000003,0,{"$f":"MAX(0,D15256-'Vstupní hodnoty'!$C$5)","v":0}]
[null,"2017-06-09T07:00:00",6,1427.76,{"$f":"CEILING(IF(C15291-C15290=0,IF(H15290=0,I15290,IF(J15290>K15290,I15290,E15290)),'Výstupy modelu'!$C$7),1)","v":1664},0,0,{"$f":"IF(F15291=1,IF(G15291>'Zdrojová data'!$C$19,0,1),\"\")","v":""},1664,0,{"$f":"MIN(J15291,'Zdrojová data'!$C$17)","v":0},0,{"$f":"L15291/'Zdrojová data'!$C$16","v":0},{"$f":"M15291*'Zdrojová data'!$C$13","v":0},{"$f":"N15291*'Zdrojová data'!$C$14","v":0},0,{"$f":"IF(H15291=0,D15291-'Výstupy modelu'!$C$7,IF(P15291=1,J15291-K15291,0))","v":0},0,null,{"$f":"MAX(0,IF(Q15291>0,Q15291-('Výstupy modelu'!$H$10-'Výstupy modelu'!$H$9),0))","v":0},null,null,{"$f":"W15290","v":1865.4300000000003},1885.4300000000003,0,{"$f":"MAX(0,D15291-'Vstupní hodnoty'!$C$5)","v":0}]
[null,"2017-06-09T11:15:00",6,1580.0400000000002,{"$f":"CEILING(IF(C15308-C15307=0,IF(H15307=0,I15307,IF(J15307>K15307,I15307,E15307)),'Výstupy modelu'!$C$7),1)","v":1664},0,0,{"$f":"IF(F15308=1,IF(G15308>'Zdrojová data'!$C$19,0,1),\"\")","v":""},1664,0,{"$f":"MIN(J15308,'Zdrojová data'!$C$17)","v":0},0,{"$f":"L15308/'Zdrojová data'!$C$16","v":0},{"$f":"M15308*'Zdrojová data'!$C$13","v":0},{"$f":"N15308*'Zdrojová data'!$C$14","v":0},0,{"$f":"IF(H15308=0,D15308-'Výstupy modelu'!$C$7,IF(P15308=1,J15308-K15308,0))","v":0},0,null,{"$f":"MAX(0,IF(Q15308>0,Q15308-('Výstupy modelu'!$H$10-'Výstupy modelu'!$H$9),0))","v":0},null,null,{"$f":"W15307","v":1865.4300000000003},1885.4300000000003,0,{"$f":"MAX(0,D15308-'Vstupní hodnoty'!$C$5)","v":0}]
[null,"2017-06-09T23:30:00",6,444.96000000000004,{"$f":"CEILING(IF(C15357-C15356=0,IF(H15356=0,I15356,IF(J15356>K15356,I15356,E15356)),'Výstupy modelu'!$C$7),1)","v":1664},0,0,{"$f":"IF(F15357=1,IF(G15357>'Zdrojová data'!$C$19,0,1),\"\")","v":""},1664,0,{"$f":"MIN(J15357,'Zdrojová data'!$C$17)","v":0},0,{"$f":"L15357/'Zdrojová data'!$C$16","v":0},{"$f":"M15357*'Zdrojová data'!$C$13","v":0},{"$f":"N15357*'Zdrojová data'!$C$14","v":0},0,{"$f":"IF(H15357=0,D15357-'Výstupy modelu'!$C$7,IF(P15357=1,J15357-K15357,0))","v":0},0,null,{"$f":"MAX(0,IF(Q15357>0,Q15357-('Výstupy modelu'!$H$10-'Výstupy modelu'!$H$9),0))","v":0},null,null,{"$f":"W15356","v":1865.4300000000003},1885.4300000000003,0,{"$f":"MAX(0,D15357-'Vstupní hodnoty'!$C$5)","v":0}]
[null,"2017-06-10T08:30:00",6,621,{"$f":"CEILING(IF(C15393-C15392=0,IF(H15392=0,I15392,IF(J15392>K15392,I15392,E15392)),'Výstupy modelu'!$C$7),1)","v":1664},0,0,{"$f":"IF(F15393=1,IF(G15393>'Zdrojová data'!$C$19,0,1),\"\")","v":""},1664,0,{"$f":"MIN(J15393,'Zdrojová data'!$C$17)","v":0},0,{"$f":"L15393/'Zdrojová data'!$C$16","v":0},{"$f":"M15393*'Zdrojová data'!$C$13","v":0},{"$f":"N15393*'Zdrojová data'!$C$14","v":0},0,{"$f":"IF(H15393=0,D15393-'Výstupy modelu'!$C$7,IF(P15393=1,J15393-K15393,0))","v":0},0,null,{"$f":"MAX(0,IF(Q15393>0,Q15393-('Výstupy modelu'!$H$10-'Výstupy modelu'!$H$9),0))","v":0},null,null,{"$f":"W15392","v":1865.4300000000003},1885.4300000000003,0,{"$f":"MAX(0,D15393-'Vstupní hodnoty'!$C$5)","v":0}]
[null,"2017-06-10T12:45:00",6,456.84000000000003,{"$f":"CEILING(IF(C15410-C15409=0,IF(H15409=0,I15409,IF(J15409>K15409,I15409,E15409)),'Výstupy modelu'!$C$7),1)","v":1664},0,0,{"$f":"IF(F15410=1,IF(G15410>'Zdrojová data'!$C$19,0,1),\"\")","v":""},1664,0,{"$f":"MIN(J15410,'Zdrojová data'!$C$17)","v":0},0,{"$f":"L15410/'Zdrojová data'!$C$16","v":0},{"$f":"M15410*'Zdrojová data'!$C$13","v":0},{"$f":"N15410*'Zdrojová data'!$C$14","v":0},0,{"$f":"IF(H15410=0,D15410-'Výstupy modelu'!$C$7,IF(P15410=1,J15410-K15410,0))","v":0},0,null,{"$f":"MAX(0,IF(Q15410>0,Q15410-('Výstupy modelu'!$H$10-'Výstupy modelu'!$H$9),0))","v":0},null,null,{"$f":"W15409","v":1865.4300000000003},1885.4300000000003,0,{"$f":"MAX(0,D15410-'Vstupní hodnoty'!$C$5)","v":0}]
[null,"2017-06-10T21:30:00",6,309.96000000000004,{"$f":"CEILING(IF(C15445-C15444=0,IF(H15444=0,I15444,IF(J15444>K15444,I15444,E15444)),'Výstupy modelu'!$C$7),1)","v":1664},0,0,{"$f":"IF(F15445=1,IF(G15445>'Zdrojová data'!$C$19,0,1),\"\")","v":""},1664,0,{"$f":"MIN(J15445,'Zdrojová data'!$C$17)","v":0},0,{"$f":"L15445/'Zdrojová data'!$C$16","v":0},{"$f":"M15445*'Zdrojová data'!$C$13","v":0},{"$f":"N15445*'Zdrojová data'!$C$14","v":0},0,{"$f":"IF(H15445=0,D15445-'Výstupy modelu'!$C$7,IF(P15445=1,J15445-K15445,0))","v":0},0,null,{"$f":"MAX(0,IF(Q15445>0,Q15445-('Výstupy modelu'!$H$10-'Výstupy modelu'!$H$9),0))","v":0},null,null,{"$f":"W15444","v":1865.4300000000003},1885.4300000000003,0,{"$f":"MAX(0,D15445-'Vstupní hodnoty'!$C$5)","v":0}]
[null,"2017-06-11T10:15:00",6,299.16000000000003,{"$f":"CEILING(IF(C15496-C15495=0,IF(H15495=0,I15495,IF(J15495>K15495,I15495,E15495)),'Výstupy modelu'!$C$7),1)","v":1664},0,0,{"$f":"IF(F15496=1,IF(G15496>'Zdrojová data'!$C$19,0,1),\"\")","v":""},1664,0,{"$f":"MIN(J15496,'Zdrojová data'!$C$17)","v":0},0,{"$f":"L15496/'Zdrojová data'!$C$16","v":0},{"$f":"M15496*'Zdrojová data'!$C$13","v":0},{"$f":"N15496*'Zdrojová data'!$C$14","v":0},0,{"$f":"IF(H15496=0,D15496-'Výstupy modelu'!$C$7,IF(P15496=1,J15496-K15496,0))","v":0},0,null,{"$f":"MAX(0,IF(Q15496>0,Q15496-('Výstupy modelu'!$H$10-'Výstupy modelu'!$H$9),0))","v":0},null,null,{"$f":"W15495","v":1865.4300000000003},1885.4300000000003,0,{"$f":"MAX(0,D15496-'Vstupní hodnoty'!$C$5)","v":0}]
[null,"2017-06-11T19:00:00",6,379.08000000000004,{"$f":"CEILING(IF(C15531-C15530=0,IF(H15530=0,I15530,IF(J15530>K15530,I15530,E15530)),'Výstupy modelu'!$C$7),1)","v":1664},0,0,{"$f":"IF(F15531=1,IF(G15531>'Zdrojová data'!$C$19,0,1),\"\")","v":""},1664,0,{"$f":"MIN(J15531,'Zdrojová data'!$C$17)","v":0},0,{"$f":"L15531/'Zdrojová data'!$C$16","v":0},{"$f":"M15531*'Zdrojová data'!$C$13","v":0},{"$f":"N15531*'Zdrojová data'!$C$14","v":0},0,{"$f":"IF(H15531=0,D15531-'Výstupy modelu'!$C$7,IF(P15531=1,J15531-K15531,0))","v":0},0,null,{"$f":"MAX(0,IF(Q15531>0,Q15531-('Výstupy modelu'!$H$10-'Výstupy modelu'!$H$9),0))","v":0},null,null,{"$f":"W15530","v":1865.4300000000003},1885.4300000000003,0,{"$f":"MAX(0,D15531-'Vstupní hodnoty'!$C$5)","v":0}]
[null,"2017-06-11T23:00:00",6,423.36,{"$f":"CEILING(IF(C15547-C15546=0,IF(H15546=0,I15546,IF(J15546>K15546,I15546,E15546)),'Výstupy modelu'!$C$7),1)","v":1664},0,0,{"$f":"IF(F15547=1,IF(G15547>'Zdrojová data'!$C$19,0,1),\"\")","v":""},1664,0,{"$f":"MIN(J15547,'Zdrojová data'!$C$17)","v":0},0,{"$f":"L15547/'Zdrojová data'!$C$16","v":0},{"$f":"M15547*'Zdrojová data'!$C$13","v":0},{"$f":"N15547*'Zdrojová data'!$C$14","v":0},0,{"$f":"IF(H15547=0,D15547-'Výstupy modelu'!$C$7,IF(P15547=1,J15547-K15547,0))","v":0},0,null,{"$f":"MAX(0,IF(Q15547>0,Q15547-('Výstupy modelu'!$H$10-'Výstupy modelu'!$H$9),0))","v":0},null,null,{"$f":"W15546","v":1865.4300000000003},1885.4300000000003,0,{"$f":"MAX(0,D15547-'Vstupní hodnoty'!$C$5)","v":0}]
[null,"2017-06-12T11:45:00",6,1458,{"$f":"CEILING(IF(C15598-C15597=0,IF(H15597=0,I15597,IF(J15597>K15597,I15597,E15597)),'Výstupy modelu'!$C$7),1)","v":1664},0,0,{"$f":"IF(F15598=1,IF(G15598>'Zdrojová data'!$C$19,0,1),\"\")","v":""},1664,0,{"$f":"MIN(J15598,'Zdrojová data'!$C$17)","v":0},0,{"$f":"L15598/'Zdrojová data'!$C$16","v":0},{"$f":"M15598*'Zdrojová data'!$C$13","v":0},{"$f":"N15598*'Zdrojová data'!$C$14","v":0},0,{"$f":"IF(H15598=0,D15598-'Výstupy modelu'!$C$7,IF(P15598=1,J15598-K15598,0))","v":0},0,null,{"$f":"MAX(0,IF(Q15598>0,Q15598-('Výstupy modelu'!$H$10-'Výstupy modelu'!$H$9),0))","v":0},null,null,{"$f":"W15597","v":1865.4300000000003},1885.4300000000003,0,{"$f":"MAX(0,D15598-'Vstupní hodnoty'!$C$5)","v":0}]
[null,"2017-06-12T20:30:00",6,1007.6400000000001,{"$f":"CEILING(IF(C15633-C15632=0,IF(H15632=0,I15632,IF(J15632>K15632,I15632,E15632)),'Výstupy modelu'!$C$7),1)","v":1664},0,0,{"$f":"IF(F15633=1,IF(G15633>'Zdrojová data'!$C$19,0,1),\"\")","v":""},1664,0,{"$f":"MIN(J15633,'Zdrojová data'!$C$17)","v":0},0,{"$f":"L15633/'Zdrojová data'!$C$16","v":0},{"$f":"M15633*'Zdrojová data'!$C$13","v":0},{"$f":"N15633*'Zdrojová data'!$C$14","v":0},0,{"$f":"IF(H15633=0,D15633-'Výstupy modelu'!$C$7,IF(P15633=1,J15633-K15633,0))","v":0},0,null,{"$f":"MAX(0,IF(Q15633>0,Q15633-('Výstupy modelu'!$H$10-'Výstupy modelu'!$H$9),0))","v":0},null,null,{"$f":"W15632","v":1865.4300000000003},1885.4300000000003,0,{"$f":"MAX(0,D15633-'Vstupní hodnoty'!$C$5)","v":0}]
[null,"2017-06-13T00:45:00",6,613.44000000000005,{"$f":"CEILING(IF(C15650-C15649=0,IF(H15649=0,I15649,IF(J15649>K15649,I15649,E15649)),'Výstupy modelu'!$C$7),1)","v":1664},0,0,{"$f":"IF(F15650=1,IF(G15650>'Zdrojová data'!$C$19,0,1),\"\")","v":""},1664,0,{"$f":"MIN(J15650,'Zdrojová data'!$C$17)","v":0},0,{"$f":"L15650/'Zdrojová data'!$C$16","v":0},{"$f":"M15650*'Zdrojová data'!$C$13","v":0},{"$f":"N15650*'Zdrojová data'!$C$14","v":0},0,{"$f":"IF(H15650=0,D15650-'Výstupy modelu'!$C$7,IF(P15650=1,J15650-K15650,0))","v":0},0,null,{"$f":"MAX(0,IF(Q15650>0,Q15650-('Výstupy modelu'!$H$10-'Výstupy modelu'!$H$9),0))","v":0},null,null,{"$f":"W15649","v":1865.4300000000003},1885.4300000000003,0,{"$f":"MAX(0,D15650-'Vstupní hodnoty'!$C$5)","v":0}]
[null,"2017-06-13T06:15:00",6,1397.52,{"$f":"CEILING(IF(C15672-C15671=0,IF(H15671=0,I15671,IF(J15671>K15671,I15671,E15671)),'Výstupy modelu'!$C$7),1)","v":1664},0,0,{"$f":"IF(F15672=1,IF(G15672>'Zdrojová data'!$C$19,0,1),\"\")","v":""},1664,0,{"$f":"MIN(J15672,'Zdrojová data'!$C$17)","v":0},0,{"$f":"L15672/'Zdrojová data'!$C$16","v":0},{"$f":"M15672*'Zdrojová data'!$C$13","v":0},{"$f":"N15672*'Zdrojová data'!$C$14","v":0},0,{"$f":"IF(H15672=0,D15672-'Výstupy modelu'!$C$7,IF(P15672=1,J15672-K15672,0))","v":0},0,null,{"$f":"MAX(0,IF(Q15672>0,Q15672-('Výstupy modelu'!$H$10-'Výstupy modelu'!$H$9),0))","v":0},null,null,{"$f":"W15671","v":1865.4300000000003},1885.4300000000003,0,{"$f":"MAX(0,D15672-'Vstupní hodnoty'!$C$5)","v":0}]
[null,"2017-06-13T13:30:00",6,1586.5200000000002,{"$f":"CEILING(IF(C15701-C15700=0,IF(H15700=0,I15700,IF(J15700>K15700,I15700,E15700)),'Výstupy modelu'!$C$7),1)","v":1664},0,0,{"$f":"IF(F15701=1,IF(G15701>'Zdrojová data'!$C$19,0,1),\"\")","v":""},1664,0,{"$f":"MIN(J15701,'Zdrojová data'!$C$17)","v":0},0,{"$f":"L15701/'Zdrojová data'!$C$16","v":0},{"$f":"M15701*'Zdrojová data'!$C$13","v":0},{"$f":"N15701*'Zdrojová data'!$C$14","v":0},0,{"$f":"IF(H15701=0,D15701-'Výstupy modelu'!$C$7,IF(P15701=1,J15701-K15701,0))","v":0},0,null,{"$f":"MAX(0,IF(Q15701>0,Q15701-('Výstupy modelu'!$H$10-'Výstupy modelu'!$H$9),0))","v":0},null,null,{"$f":"W15700","v":1865.4300000000003},1885.4300000000003,0,{"$f":"MAX(0,D15701-'Vstupní hodnoty'!$C$5)","v":0}]
[null,"2017-06-14T02:15:00",6,547.56000000000006,{"$f":"CEILING(IF(C15752-C15751=0,IF(H15751=0,I15751,IF(J15751>K15751,I15751,E15751)),'Výstupy modelu'!$C$7),1)","v":1664},0,0,{"$f":"IF(F15752=1,IF(G15752>'Zdrojová data'!$C$19,0,1),\"\")","v":""},1664,0,{"$f":"MIN(J15752,'Zdrojová data'!$C$17)","v":0},0,{"$f":"L15752/'Zdrojová data'!$C$16","v":0},{"$f":"M15752*'Zdrojová data'!$C$13","v":0},{"$f":"N15752*'Zdrojová data'!$C$14","v":0},0,{"$f":"IF(H15752=0,D15752-'Výstupy modelu'!$C$7,IF(P15752=1,J15752-K15752,0))","v":0},0,null,{"$f":"MAX(0,IF(Q15752>0,Q15752-('Výstupy modelu'!$H$10-'Výstupy modelu'!$H$9),0))","v":0},null,null,{"$f":"W15751","v":1865.4300000000003},1885.4300000000003,0,{"$f":"MAX(0,D15752-'Vstupní hodnoty'!$C$5)","v":0}]
[null,"2017-06-14T06:30:00",6,1368.3600000000001,{"$f":"CEILING(IF(C15769-C15768=0,IF(H15768=0,I15768,IF(J15768>K15768,I15768,E15768)),'Výstupy modelu'!$C$7),1)","v":1664},0,0,{"$f":"IF(F15769=1,IF(G15769>'Zdrojová data'!$C$19,0,1),\"\")","v":""},1664,0,{"$f":"MIN(J15769,'Zdrojová data'!$C$17)","v":0},0,{"$f":"L15769/'Zdrojová data'!$C$16","v":0},{"$f":"M15769*'Zdrojová data'!$C$13","v":0},{"$f":"N15769*'Zdrojová data'!$C$14","v":0},0,{"$f":"IF(H15769=0,D15769-'Výstupy modelu'!$C$7,IF(P15769=1,J15769-K15769,0))","v":0},0,null,{"$f":"MAX(0,IF(Q15769>0,Q15769-('Výstupy modelu'!$H$10-'Výstupy modelu'!$H$9),0))","v":0},null,null,{"$f":"W15768","v":1865.4300000000003},1885.4300000000003,0,{"$f":"MAX(0,D15769-'Vstupní hodnoty'!$C$5)","v":0}]
[null,"2017-06-14T15:15:00",6,1370.52,{"$f":"CEILING(IF(C15804-C15803=0,IF(H15803=0,I15803,IF(J15803>K15803,I15803,E15803)),'Výstupy modelu'!$C$7),1)","v":1664},0,0,{"$f":"IF(F15804=1,IF(G15804>'Zdrojová data'!$C$19,0,1),\"\")","v":""},1664,0,{"$f":"MIN(J15804,'Zdrojová data'!$C$17)","v":0},0,{"$f":"L15804/'Zdrojová data'!$C$16","v":0},{"$f":"M15804*'Zdrojová data'!$C$13","v":0},{"$f":"N15804*'Zdrojová data'!$C$14","v":0},0,{"$f":"IF(H15804=0,D15804-'Výstupy modelu'!$C$7,IF(P15804=1,J15804-K15804,0))","v":0},0,null,{"$f":"MAX(0,IF(Q15804>0,Q15804-('Výstupy modelu'!$H$10-'Výstupy modelu'!$H$9),0))","v":0},null,null,{"$f":"W15803","v":1865.4300000000003},1885.4300000000003,0,{"$f":"MAX(0,D15804-'Vstupní hodnoty'!$C$5)","v":0}]
[null,"2017-06-15T01:45:00",6,611.28000000000009,{"$f":"CEILING(IF(C15846-C15845=0,IF(H15845=0,I15845,IF(J15845>K15845,I15845,E15845)),'Výstupy modelu'!$C$7),1)","v":1664},0,0,{"$f":"IF(F15846=1,IF(G15846>'Zdrojová data'!$C$19,0,1),\"\")","v":""},1664,0,{"$f":"MIN(J15846,'Zdrojová data'!$C$17)","v":0},0,{"$f":"L15846/'Zdrojová data'!$C$16","v":0},{"$f":"M15846*'Zdrojová data'!$C$13","v":0},{"$f":"N15846*'Zdrojová data'!$C$14","v":0},0,{"$f":"IF(H15846=0,D15846-'Výstupy modelu'!$C$7,IF(P15846=1,J15846-K15846,0))","v":0},0,null,{"$f":"MAX(0,IF(Q15846>0,Q15846-('Výstupy modelu'!$H$10-'Výstupy modelu'!$H$9),0))","v":0},null,null,{"$f":"W15845","v":1865.4300000000003},1885.4300000000003,0,{"$f":"MAX(0,D15846-'Vstupní hodnoty'!$C$5)","v":0}]
[null,"2017-06-15T12:30:00",6,1416.96,{"$f":"CEILING(IF(C15889-C15888=0,IF(H15888=0,I15888,IF(J15888>K15888,I15888,E15888)),'Výstupy modelu'!$C$7),1)","v":1664},0,0,{"$f":"IF(F15889=1,IF(G15889>'Zdrojová data'!$C$19,0,1),\"\")","v":""},1664,0,{"$f":"MIN(J15889,'Zdrojová data'!$C$17)","v":0},0,{"$f":"L15889/'Zdrojová data'!$C$16","v":0},{"$f":"M15889*'Zdrojová data'!$C$13","v":0},{"$f":"N15889*'Zdrojová data'!$C$14","v":0},0,{"$f":"IF(H15889=0,D15889-'Výstupy modelu'!$C$7,IF(P15889=1,J15889-K15889,0))","v":0},0,null,{"$f":"MAX(0,IF(Q15889>0,Q15889-('Výstupy modelu'!$H$10-'Výstupy modelu'!$H$9),0))","v":0},null,null,{"$f":"W15888","v":1865.4300000000003},1885.4300000000003,0,{"$f":"MAX(0,D15889-'Vstupní hodnoty'!$C$5)","v":0}]
[null,"2017-06-15T16:45:00",6,1165.3200000000002,{"$f":"CEILING(IF(C15906-C15905=0,IF(H15905=0,I15905,IF(J15905>K15905,I15905,E15905)),'Výstupy modelu'!$C$7),1)","v":1664},0,0,{"$f":"IF(F15906=1,IF(G15906>'Zdrojová data'!$C$19,0,1),\"\")","v":""},1664,0,{"$f":"MIN(J15906,'Zdrojová data'!$C$17)","v":0},0,{"$f":"L15906/'Zdrojová data'!$C$16","v":0},{"$f":"M15906*'Zdrojová data'!$C$13","v":0},{"$f":"N15906*'Zdrojová data'!$C$14","v":0},0,{"$f":"IF(H15906=0,D15906-'Výstupy modelu'!$C$7,IF(P15906=1,J15906-K15906,0))","v":0},0,null,{"$f":"MAX(0,IF(Q15906>0,Q15906-('Výstupy modelu'!$H$10-'Výstupy modelu'!$H$9),0))","v":0},null,null,{"$f":"W15905","v":1865.4300000000003},1885.4300000000003,0,{"$f":"MAX(0,D15906-'Vstupní hodnoty'!$C$5)","v":0}]
[null,"2017-06-16T05:30:00",6,881.28000000000009,{"$f":"CEILING(IF(C15957-C15956=0,IF(H15956=0,I15956,IF(J15956>K15956,I15956,E15956)),'Výstupy modelu'!$C$7),1)","v":1664},0,0,{"$f":"IF(F15957=1,IF(G15957>'Zdrojová data'!$C$19,0,1),\"\")","v":""},1664,0,{"$f":"MIN(J15957,'Zdrojová data'!$C$17)","v":0},0,{"$f":"L15957/'Zdrojová data'!$C$16","v":0},{"$f":"M15957*'Zdrojová data'!$C$13","v":0},{"$f":"N15957*'Zdrojová data'!$C$14","v":0},0,{"$f":"IF(H15957=0,D15957-'Výstupy modelu'!$C$7,IF(P15957=1,J15957-K15957,0))","v":0},0,null,{"$f":"MAX(0,IF(Q15957>0,Q15957-('Výstupy modelu'!$H$10-'Výstupy modelu'!$H$9),0))","v":0},null,null,{"$f":"W15956","v":1865.4300000000003},1885.4300000000003,0,{"$f":"MAX(0,D15957-'Vstupní hodnoty'!$C$5)","v":0}]
[null,"2017-06-16T11:15:00",6,1495.8000000000002,{"$f":"CEILING(IF(C15980-C15979=0,IF(H15979=0,I15979,IF(J15979>K15979,I15979,E15979)),'Výstupy modelu'!$C$7),1)","v":1664},0,0,{"$f":"IF(F15980=1,IF(G15980>'Zdrojová data'!$C$19,0,1),\"\")","v":""},1664,0,{"$f":"MIN(J15980,'Zdrojová data'!$C$17)","v":0},0,{"$f":"L15980/'Zdrojová data'!$C$16","v":0},{"$f":"M15980*'Zdrojová data'!$C$13","v":0},{"$f":"N15980*'Zdrojová data'!$C$14","v":0},0,{"$f":"IF(H15980=0,D15980-'Výstupy modelu'!$C$7,IF(P15980=1,J15980-K15980,0))","v":0},0,null,{"$f":"MAX(0,IF(Q15980>0,Q15980-('Výstupy modelu'!$H$10-'Výstupy modelu'!$H$9),0))","v":0},null,null,{"$f":"W15979","v":1865.4300000000003},1885.4300000000003,0,{"$f":"MAX(0,D15980-'Vstupní hodnoty'!$C$5)","v":0}]
[null,"2017-06-16T18:15:00",6,976.32,{"$f":"CEILING(IF(C16008-C16007=0,IF(H16007=0,I16007,IF(J16007>K16007,I16007,E16007)),'Výstupy modelu'!$C$7),1)","v":1664},0,0,{"$f":"IF(F16008=1,IF(G16008>'Zdrojová data'!$C$19,0,1),\"\")","v":""},1664,0,{"$f":"MIN(J16008,'Zdrojová data'!$C$17)","v":0},0,{"$f":"L16008/'Zdrojová data'!$C$16","v":0},{"$f":"M16008*'Zdrojová data'!$C$13","v":0},{"$f":"N16008*'Zdrojová data'!$C$14","v":0},0,{"$f":"IF(H16008=0,D16008-'Výstupy modelu'!$C$7,IF(P16008=1,J16008-K16008,0))","v":0},0,null,{"$f":"MAX(0,IF(Q16008>0,Q16008-('Výstupy modelu'!$H$10-'Výstupy modelu'!$H$9),0))","v":0},null,null,{"$f":"W16007","v":1865.4300000000003},1885.4300000000003,0,{"$f":"MAX(0,D16008-'Vstupní hodnoty'!$C$5)","v":0}]
[null,"2017-06-17T07:00:00",6,378,{"$f":"CEILING(IF(C16059-C16058=0,IF(H16058=0,I16058,IF(J16058>K16058,I16058,E16058)),'Výstupy modelu'!$C$7),1)","v":1664},0,0,{"$f":"IF(F16059=1,IF(G16059>'Zdrojová data'!$C$19,0,1),\"\")","v":""},1664,0,{"$f":"MIN(J16059,'Zdrojová data'!$C$17)","v":0},0,{"$f":"L16059/'Zdrojová data'!$C$16","v":0},{"$f":"M16059*'Zdrojová data'!$C$13","v":0},{"$f":"N16059*'Zdrojová data'!$C$14","v":0},0,{"$f":"IF(H16059=0,D16059-'Výstupy modelu'!$C$7,IF(P16059=1,J16059-K16059,0))","v":0},0,null,{"$f":"MAX(0,IF(Q16059>0,Q16059-('Výstupy modelu'!$H$10-'Výstupy modelu'!$H$9),0))","v":0},null,null,{"$f":"W16058","v":1865.4300000000003},1885.4300000000003,0,{"$f":"MAX(0,D16059-'Vstupní hodnoty'!$C$5)","v":0}]
[null,"2017-06-17T15:45:00",6,318.60000000000002,{"$f":"CEILING(IF(C16094-C16093=0,IF(H16093=0,I16093,IF(J16093>K16093,I16093,E16093)),'Výstupy modelu'!$C$7),1)","v":1664},0,0,{"$f":"IF(F16094=1,IF(G16094>'Zdrojová data'!$C$19,0,1),\"\")","v":""},1664,0,{"$f":"MIN(J16094,'Zdrojová data'!$C$17)","v":0},0,{"$f":"L16094/'Zdrojová data'!$C$16","v":0},{"$f":"M16094*'Zdrojová data'!$C$13","v":0},{"$f":"N16094*'Zdrojová data'!$C$14","v":0},0,{"$f":"IF(H16094=0,D16094-'Výstupy modelu'!$C$7,IF(P16094=1,J16094-K16094,0))","v":0},0,null,{"$f":"MAX(0,IF(Q16094>0,Q16094-('Výstupy modelu'!$H$10-'Výstupy modelu'!$H$9),0))","v":0},null,null,{"$f":"W16093","v":1865.4300000000003},1885.4300000000003,0,{"$f":"MAX(0,D16094-'Vstupní hodnoty'!$C$5)","v":0}]
[null,"2017-06-17T20:00:00",6,325.08000000000004,{"$f":"CEILING(IF(C16111-C16110=0,IF(H16110=0,I16110,IF(J16110>K16110,I16110,E16110)),'Výstupy modelu'!$C$7),1)","v":1664},0,0,{"$f":"IF(F16111=1,IF(G16111>'Zdrojová data'!$C$19,0,1),\"\")","v":""},1664,0,{"$f":"MIN(J16111,'Zdrojová data'!$C$17)","v":0},0,{"$f":"L16111/'Zdrojová data'!$C$16","v":0},{"$f":"M16111*'Zdrojová data'!$C$13","v":0},{"$f":"N16111*'Zdrojová data'!$C$14","v":0},0,{"$f":"IF(H16111=0,D16111-'Výstupy modelu'!$C$7,IF(P16111=1,J16111-K16111,0))","v":0},0,null,{"$f":"MAX(0,IF(Q16111>0,Q16111-('Výstupy modelu'!$H$10-'Výstupy modelu'!$H$9),0))","v":0},null,null,{"$f":"W16110","v":1865.4300000000003},1885.4300000000003,0,{"$f":"MAX(0,D16111-'Vstupní hodnoty'!$C$5)","v":0}]
[null,"2017-06-18T06:45:00",6,245.16000000000003,{"$f":"CEILING(IF(C16154-C16153=0,IF(H16153=0,I16153,IF(J16153>K16153,I16153,E16153)),'Výstupy modelu'!$C$7),1)","v":1664},0,0,{"$f":"IF(F16154=1,IF(G16154>'Zdrojová data'!$C$19,0,1),\"\")","v":""},1664,0,{"$f":"MIN(J16154,'Zdrojová data'!$C$17)","v":0},0,{"$f":"L16154/'Zdrojová data'!$C$16","v":0},{"$f":"M16154*'Zdrojová data'!$C$13","v":0},{"$f":"N16154*'Zdrojová data'!$C$14","v":0},0,{"$f":"IF(H16154=0,D16154-'Výstupy modelu'!$C$7,IF(P16154=1,J16154-K16154,0))","v":0},0,null,{"$f":"MAX(0,IF(Q16154>0,Q16154-('Výstupy modelu'!$H$10-'Výstupy modelu'!$H$9),0))","v":0},null,null,{"$f":"W16153","v":1865.4300000000003},1885.4300000000003,0,{"$f":"MAX(0,D16154-'Vstupní hodnoty'!$C$5)","v":0}]
[null,"2017-06-18T17:15:00",6,353.16,{"$f":"CEILING(IF(C16196-C16195=0,IF(H16195=0,I16195,IF(J16195>K16195,I16195,E16195)),'Výstupy modelu'!$C$7),1)","v":1664},{"$f":"IF(D16196>E16196,1,0)","v":0},0,{"$f":"IF(F16196=1,IF(G16196>'Zdrojová data'!$C$19,0,1),\"\")","v":""},{"$f":"IF(H16196=0,D16196,IF(J16196>K16196,E16196+J16196-K16196,E16196))","v":1664},{"$f":"IF(H16196=1,D16196-E16196,0)","v":0},{"$f":"MIN(J16196,'Zdrojová data'!$C$17)","v":0},0,{"$f":"L16196/'Zdrojová data'!$C$16","v":0},{"$f":"M16196*'Zdrojová data'!$C$13","v":0},{"$f":"N16196*'Zdrojová data'!$C$14","v":0},0,{"$f":"IF(H16196=0,D16196-'Výstupy modelu'!$C$7,IF(P16196=1,J16196-K16196,0))","v":0},0,null,{"$f":"MAX(0,IF(Q16196>0,Q16196-('Výstupy modelu'!$H$10-'Výstupy modelu'!$H$9),0))","v":0},null,null,{"$f":"W16195","v":1865.4300000000003},1885.4300000000003,0,{"$f":"MAX(0,D16196-'Vstupní hodnoty'!$C$5)","v":0}]
[null,"2017-06-18T21:30:00",6,359.64000000000004,{"$f":"CEILING(IF(C16213-C16212=0,IF(H16212=0,I16212,IF(J16212>K16212,I16212,E16212)),'Výstupy modelu'!$C$7),1)","v":1664},0,0,{"$f":"IF(F16213=1,IF(G16213>'Zdrojová data'!$C$19,0,1),\"\")","v":""},1664,0,{"$f":"MIN(J16213,'Zdrojová data'!$C$17)","v":0},0,{"$f":"L16213/'Zdrojová data'!$C$16","v":0},{"$f":"M16213*'Zdrojová data'!$C$13","v":0},{"$f":"N16213*'Zdrojová data'!$C$14","v":0},0,{"$f":"IF(H16213=0,D16213-'Výstupy modelu'!$C$7,IF(P16213=1,J16213-K16213,0))","v":0},0,null,{"$f":"MAX(0,IF(Q16213>0,Q16213-('Výstupy modelu'!$H$10-'Výstupy modelu'!$H$9),0))","v":0},null,null,{"$f":"W16212","v":1865.4300000000003},1885.4300000000003,0,{"$f":"MAX(0,D16213-'Vstupní hodnoty'!$C$5)","v":0}]
[null,"2017-06-19T06:15:00",6,1352.16,{"$f":"CEILING(IF(C16248-C16247=0,IF(H16247=0,I16247,IF(J16247>K16247,I16247,E16247)),'Výstupy modelu'!$C$7),1)","v":1664},0,0,{"$f":"IF(F16248=1,IF(G16248>'Zdrojová data'!$C$19,0,1),\"\")","v":""},1664,0,{"$f":"MIN(J16248,'Zdrojová data'!$C$17)","v":0},0,{"$f":"L16248/'Zdrojová data'!$C$16","v":0},{"$f":"M16248*'Zdrojová data'!$C$13","v":0},{"$f":"N16248*'Zdrojová data'!$C$14","v":0},0,{"$f":"IF(H16248=0,D16248-'Výstupy modelu'!$C$7,IF(P16248=1,J16248-K16248,0))","v":0},0,null,{"$f":"MAX(0,IF(Q16248>0,Q16248-('Výstupy modelu'!$H$10-'Výstupy modelu'!$H$9),0))","v":0},null,null,{"$f":"W16247","v":1865.4300000000003},1885.4300000000003,0,{"$f":"MAX(0,D16248-'Vstupní hodnoty'!$C$5)","v":0}]
[null,"2017-06-19T19:00:00",6,1072.44,{"$f":"CEILING(IF(C16299-C16298=0,IF(H16298=0,I16298,IF(J16298>K16298,I16298,E16298)),'Výstupy modelu'!$C$7),1)","v":1664},0,0,{"$f":"IF(F16299=1,IF(G16299>'Zdrojová data'!$C$19,0,1),\"\")","v":""},1664,0,{"$f":"MIN(J16299,'Zdrojová data'!$C$17)","v":0},0,{"$f":"L16299/'Zdrojová data'!$C$16","v":0},{"$f":"M16299*'Zdrojová data'!$C$13","v":0},{"$f":"N16299*'Zdrojová data'!$C$14","v":0},0,{"$f":"IF(H16299=0,D16299-'Výstupy modelu'!$C$7,IF(P16299=1,J16299-K16299,0))","v":0},0,null,{"$f":"MAX(0,IF(Q16299>0,Q16299-('Výstupy modelu'!$H$10-'Výstupy modelu'!$H$9),0))","v":0},null,null,{"$f":"W16298","v":1865.4300000000003},1885.4300000000003,0,{"$f":"MAX(0,D16299-'Vstupní hodnoty'!$C$5)","v":0}]
[null,"2017-06-20T02:15:00",6,559.44000000000005,{"$f":"CEILING(IF(C16328-C16327=0,IF(H16327=0,I16327,IF(J16327>K16327,I16327,E16327)),'Výstupy modelu'!$C$7),1)","v":1664},0,0,{"$f":"IF(F16328=1,IF(G16328>'Zdrojová data'!$C$19,0,1),\"\")","v":""},1664,0,{"$f":"MIN(J16328,'Zdrojová data'!$C$17)","v":0},0,{"$f":"L16328/'Zdrojová data'!$C$16","v":0},{"$f":"M16328*'Zdrojová data'!$C$13","v":0},{"$f":"N16328*'Zdrojová data'!$C$14","v":0},0,{"$f":"IF(H16328=0,D16328-'Výstupy modelu'!$C$7,IF(P16328=1,J16328-K16328,0))","v":0},0,null,{"$f":"MAX(0,IF(Q16328>0,Q16328-('Výstupy modelu'!$H$10-'Výstupy modelu'!$H$9),0))","v":0},null,null,{"$f":"W16327","v":1865.4300000000003},1885.4300000000003,0,{"$f":"MAX(0,D16328-'Vstupní hodnoty'!$C$5)","v":0}]
[null,"2017-06-20T07:45:00",6,1467.72,{"$f":"CEILING(IF(C16350-C16349=0,IF(H16349=0,I16349,IF(J16349>K16349,I16349,E16349)),'Výstupy modelu'!$C$7),1)","v":1664},0,0,{"$f":"IF(F16350=1,IF(G16350>'Zdrojová data'!$C$19,0,1),\"\")","v":""},1664,0,{"$f":"MIN(J16350,'Zdrojová data'!$C$17)","v":0},0,{"$f":"L16350/'Zdrojová data'!$C$16","v":0},{"$f":"M16350*'Zdrojová data'!$C$13","v":0},{"$f":"N16350*'Zdrojová data'!$C$14","v":0},0,{"$f":"IF(H16350=0,D16350-'Výstupy modelu'!$C$7,IF(P16350=1,J16350-K16350,0))","v":0},0,null,{"$f":"MAX(0,IF(Q16350>0,Q16350-('Výstupy modelu'!$H$10-'Výstupy modelu'!$H$9),0))","v":0},null,null,{"$f":"W16349","v":1865.4300000000003},1885.4300000000003,0,{"$f":"MAX(0,D16350-'Vstupní hodnoty'!$C$5)","v":0}]
[null,"2017-06-20T20:30:00",6,1045.44,{"$f":"CEILING(IF(C16401-C16400=0,IF(H16400=0,I16400,IF(J16400>K16400,I16400,E16400)),'Výstupy modelu'!$C$7),1)","v":1664},0,0,{"$f":"IF(F16401=1,IF(G16401>'Zdrojová data'!$C$19,0,1),\"\")","v":""},1664,0,{"$f":"MIN(J16401,'Zdrojová data'!$C$17)","v":0},0,{"$f":"L16401/'Zdrojová data'!$C$16","v":0},{"$f":"M16401*'Zdrojová data'!$C$13","v":0},{"$f":"N16401*'Zdrojová data'!$C$14","v":0},0,{"$f":"IF(H16401=0,D16401-'Výstupy modelu'!$C$7,IF(P16401=1,J16401-K16401,0))","v":0},0,null,{"$f":"MAX(0,IF(Q16401>0,Q16401-('Výstupy modelu'!$H$10-'Výstupy modelu'!$H$9),0))","v":0},null,null,{"$f":"W16400","v":1865.4300000000003},1885.4300000000003,0,{"$f":"MAX(0,D16401-'Vstupní hodnoty'!$C$5)","v":0}]
[null,"2017-06-21T05:15:00",6,818.6400000000001,{"$f":"CEILING(IF(C16436-C16435=0,IF(H16435=0,I16435,IF(J16435>K16435,I16435,E16435)),'Výstupy modelu'!$C$7),1)","v":1664},0,0,{"$f":"IF(F16436=1,IF(G16436>'Zdrojová data'!$C$19,0,1),\"\")","v":""},1664,0,{"$f":"MIN(J16436,'Zdrojová data'!$C$17)","v":0},0,{"$f":"L16436/'Zdrojová data'!$C$16","v":0},{"$f":"M16436*'Zdrojová data'!$C$13","v":0},{"$f":"N16436*'Zdrojová data'!$C$14","v":0},0,{"$f":"IF(H16436=0,D16436-'Výstupy modelu'!$C$7,IF(P16436=1,J16436-K16436,0))","v":0},0,null,{"$f":"MAX(0,IF(Q16436>0,Q16436-('Výstupy modelu'!$H$10-'Výstupy modelu'!$H$9),0))","v":0},null,null,{"$f":"W16435","v":1865.4300000000003},1885.4300000000003,0,{"$f":"MAX(0,D16436-'Vstupní hodnoty'!$C$5)","v":0}]
[null,"2017-06-21T09:30:00",{"$f":"MONTH(B16453)","v":6},1662.1200000000001,{"$f":"CEILING(IF(C16453-C16452=0,IF(H16452=0,I16452,IF(J16452>K16452,I16452,E16452)),'Výstupy modelu'!$C$7),1)","v":1664},0,{"$f":"IF(F16453=1,RANDBETWEEN(0,100),0)","v":0},{"$f":"IF(F16453=1,IF(G16453>'Zdrojová data'!$C$19,0,1),\"\")","v":""},1664,0,{"$f":"MIN(J16453,'Zdrojová data'!$C$17)","v":0},{"$f":"K16453/4","v":0},{"$f":"L16453/'Zdrojová data'!$C$16","v":0},{"$f":"M16453*'Zdrojová data'!$C$13","v":0},{"$f":"N16453*'Zdrojová data'!$C$14","v":0},{"$f":"IF(H16453=0,1,IF(J16453>K16453,1,0))","v":0},{"$f":"IF(H16453=0,D16453-'Výstupy modelu'!$C$7,IF(P16453=1,J16453-K16453,0))","v":0},{"$f":"IF(H16453=0,1,IF(J16453>K16453,1,0))","v":0},null,{"$f":"MAX(0,IF(Q16453>0,Q16453-('Výstupy modelu'!$H$10-'Výstupy modelu'!$H$9),0))","v":0},null,null,{"$f":"W16452","v":1865.4300000000003},1885.4300000000003,0,{"$f":"MAX(0,D16453-'Vstupní hodnoty'!$C$5)","v":0}]
[null,"2017-06-21T20:45:00",6,990.36,{"$f":"CEILING(IF(C16498-C16497=0,IF(H16497=0,I16497,IF(J16497>K16497,I16497,E16497)),'Výstupy modelu'!$C$7),1)","v":1664},0,0,{"$f":"IF(F16498=1,IF(G16498>'Zdrojová data'!$C$19,0,1),\"\")","v":""},1664,0,{"$f":"MIN(J16498,'Zdrojová data'!$C$17)","v":0},0,{"$f":"L16498/'Zdrojová data'!$C$16","v":0},{"$f":"M16498*'Zdrojová data'!$C$13","v":0},{"$f":"N16498*'Zdrojová data'!$C$14","v":0},0,{"$f":"IF(H16498=0,D16498-'Výstupy modelu'!$C$7,IF(P16498=1,J16498-K16498,0))","v":0},0,null,{"$f":"MAX(0,IF(Q16498>0,Q16498-('Výstupy modelu'!$H$10-'Výstupy modelu'!$H$9),0))","v":0},null,null,{"$f":"W16497","v":1865.4300000000003},1885.4300000000003,0,{"$f":"MAX(0,D16498-'Vstupní hodnoty'!$C$5)","v":0}]
[null,"2017-06-22T06:45:00",6,1584.3600000000001,{"$f":"CEILING(IF(C16538-C16537=0,IF(H16537=0,I16537,IF(J16537>K16537,I16537,E16537)),'Výstupy modelu'!$C$7),1)","v":1664},0,0,{"$f":"IF(F16538=1,IF(G16538>'Zdrojová data'!$C$19,0,1),\"\")","v":""},1664,0,{"$f":"MIN(J16538,'Zdrojová data'!$C$17)","v":0},0,{"$f":"L16538/'Zdrojová data'!$C$16","v":0},{"$f":"M16538*'Zdrojová data'!$C$13","v":0},{"$f":"N16538*'Zdrojová data'!$C$14","v":0},0,{"$f":"IF(H16538=0,D16538-'Výstupy modelu'!$C$7,IF(P16538=1,J16538-K16538,0))","v":0},0,null,{"$f":"MAX(0,IF(Q16538>0,Q16538-('Výstupy modelu'!$H$10-'Výstupy modelu'!$H$9),0))","v":0},null,null,{"$f":"W16537","v":1865.4300000000003},1885.4300000000003,0,{"$f":"MAX(0,D16538-'Vstupní hodnoty'!$C$5)","v":0}]
[null,"2017-06-22T11:00:00",6,1732.3200000000002,{"$f":"CEILING(IF(C16555-C16554=0,IF(H16554=0,I16554,IF(J16554>K16554,I16554,E16554)),'Výstupy modelu'!$C$7),1)","v":1664},1,53,{"$f":"IF(F16555=1,IF(G16555>'Zdrojová data'!$C$19,0,1),\"\")","v":1},1664,68.320000000000164,{"$f":"MIN(J16555,'Zdrojová data'!$C$17)","v":68.320000000000164},17.080000000000041,{"$f":"L16555/'Zdrojová data'!$C$16","v":2.8466666666666733},{"$f":"M16555*'Zdrojová data'!$C$13","v":3.9616111111111203},{"$f":"N16555*'Zdrojová data'!$C$14","v":93.295545505555779},0,{"$f":"IF(H16555=0,D16555-'Výstupy modelu'!$C$7,IF(P16555=1,J16555-K16555,0))","v":0},0,null,{"$f":"MAX(0,IF(Q16555>0,Q16555-('Výstupy modelu'!$H$10-'Výstupy modelu'!$H$9),0))","v":0},null,null,{"$f":"W16554","v":1865.4300000000003},1885.4300000000003,0,{"$f":"MAX(0,D16555-'Vstupní hodnoty'!$C$5)","v":0}]
[null,"2017-06-22T19:45:00",6,1013.0400000000001,{"$f":"CEILING(IF(C16590-C16589=0,IF(H16589=0,I16589,IF(J16589>K16589,I16589,E16589)),'Výstupy modelu'!$C$7),1)","v":1664},0,0,{"$f":"IF(F16590=1,IF(G16590>'Zdrojová data'!$C$19,0,1),\"\")","v":""},1664,0,{"$f":"MIN(J16590,'Zdrojová data'!$C$17)","v":0},0,{"$f":"L16590/'Zdrojová data'!$C$16","v":0},{"$f":"M16590*'Zdrojová data'!$C$13","v":0},{"$f":"N16590*'Zdrojová data'!$C$14","v":0},0,{"$f":"IF(H16590=0,D16590-'Výstupy modelu'!$C$7,IF(P16590=1,J16590-K16590,0))","v":0},0,null,{"$f":"MAX(0,IF(Q16590>0,Q16590-('Výstupy modelu'!$H$10-'Výstupy modelu'!$H$9),0))","v":0},null,null,{"$f":"W16589","v":1865.4300000000003},1885.4300000000003,0,{"$f":"MAX(0,D16590-'Vstupní hodnoty'!$C$5)","v":0}]
[null,"2017-06-23T08:30:00",6,1584.3600000000001,{"$f":"CEILING(IF(C16641-C16640=0,IF(H16640=0,I16640,IF(J16640>K16640,I16640,E16640)),'Výstupy modelu'!$C$7),1)","v":1664},0,0,{"$f":"IF(F16641=1,IF(G16641>'Zdrojová data'!$C$19,0,1),\"\")","v":""},1664,0,{"$f":"MIN(J16641,'Zdrojová data'!$C$17)","v":0},0,{"$f":"L16641/'Zdrojová data'!$C$16","v":0},{"$f":"M16641*'Zdrojová data'!$C$13","v":0},{"$f":"N16641*'Zdrojová data'!$C$14","v":0},0,{"$f":"IF(H16641=0,D16641-'Výstupy modelu'!$C$7,IF(P16641=1,J16641-K16641,0))","v":0},0,null,{"$f":"MAX(0,IF(Q16641>0,Q16641-('Výstupy modelu'!$H$10-'Výstupy modelu'!$H$9),0))","v":0},null,null,{"$f":"W16640","v":1865.4300000000003},1885.4300000000003,0,{"$f":"MAX(0,D16641-'Vstupní hodnoty'!$C$5)","v":0}]
[null,"2017-06-23T16:15:00",6,1172.8800000000001,{"$f":"CEILING(IF(C16672-C16671=0,IF(H16671=0,I16671,IF(J16671>K16671,I16671,E16671)),'Výstupy modelu'!$C$7),1)","v":1664},0,0,{"$f":"IF(F16672=1,IF(G16672>'Zdrojová data'!$C$19,0,1),\"\")","v":""},1664,0,{"$f":"MIN(J16672,'Zdrojová data'!$C$17)","v":0},0,{"$f":"L16672/'Zdrojová data'!$C$16","v":0},{"$f":"M16672*'Zdrojová data'!$C$13","v":0},{"$f":"N16672*'Zdrojová data'!$C$14","v":0},0,{"$f":"IF(H16672=0,D16672-'Výstupy modelu'!$C$7,IF(P16672=1,J16672-K16672,0))","v":0},0,null,{"$f":"MAX(0,IF(Q16672>0,Q16672-('Výstupy modelu'!$H$10-'Výstupy modelu'!$H$9),0))","v":0},null,null,{"$f":"W16671","v":1865.4300000000003},1885.4300000000003,0,{"$f":"MAX(0,D16672-'Vstupní hodnoty'!$C$5)","v":0}]
[null,"2017-06-23T21:15:00",6,751.68000000000006,{"$f":"CEILING(IF(C16692-C16691=0,IF(H16691=0,I16691,IF(J16691>K16691,I16691,E16691)),'Výstupy modelu'!$C$7),1)","v":1664},0,0,{"$f":"IF(F16692=1,IF(G16692>'Zdrojová data'!$C$19,0,1),\"\")","v":""},1664,0,{"$f":"MIN(J16692,'Zdrojová data'!$C$17)","v":0},0,{"$f":"L16692/'Zdrojová data'!$C$16","v":0},{"$f":"M16692*'Zdrojová data'!$C$13","v":0},{"$f":"N16692*'Zdrojová data'!$C$14","v":0},0,{"$f":"IF(H16692=0,D16692-'Výstupy modelu'!$C$7,IF(P16692=1,J16692-K16692,0))","v":0},0,null,{"$f":"MAX(0,IF(Q16692>0,Q16692-('Výstupy modelu'!$H$10-'Výstupy modelu'!$H$9),0))","v":0},null,null,{"$f":"W16691","v":1865.4300000000003},1885.4300000000003,0,{"$f":"MAX(0,D16692-'Vstupní hodnoty'!$C$5)","v":0}]
[null,"2017-06-24T10:00:00",6,790.56000000000006,{"$f":"CEILING(IF(C16743-C16742=0,IF(H16742=0,I16742,IF(J16742>K16742,I16742,E16742)),'Výstupy modelu'!$C$7),1)","v":1664},0,0,{"$f":"IF(F16743=1,IF(G16743>'Zdrojová data'!$C$19,0,1),\"\")","v":""},1664,0,{"$f":"MIN(J16743,'Zdrojová data'!$C$17)","v":0},0,{"$f":"L16743/'Zdrojová data'!$C$16","v":0},{"$f":"M16743*'Zdrojová data'!$C$13","v":0},{"$f":"N16743*'Zdrojová data'!$C$14","v":0},0,{"$f":"IF(H16743=0,D16743-'Výstupy modelu'!$C$7,IF(P16743=1,J16743-K16743,0))","v":0},0,null,{"$f":"MAX(0,IF(Q16743>0,Q16743-('Výstupy modelu'!$H$10-'Výstupy modelu'!$H$9),0))","v":0},null,null,{"$f":"W16742","v":1865.4300000000003},1885.4300000000003,0,{"$f":"MAX(0,D16743-'Vstupní hodnoty'!$C$5)","v":0}]
[null,"2017-06-24T14:15:00",6,466.56000000000006,{"$f":"CEILING(IF(C16760-C16759=0,IF(H16759=0,I16759,IF(J16759>K16759,I16759,E16759)),'Výstupy modelu'!$C$7),1)","v":1664},0,0,{"$f":"IF(F16760=1,IF(G16760>'Zdrojová data'!$C$19,0,1),\"\")","v":""},1664,0,{"$f":"MIN(J16760,'Zdrojová data'!$C$17)","v":0},0,{"$f":"L16760/'Zdrojová data'!$C$16","v":0},{"$f":"M16760*'Zdrojová data'!$C$13","v":0},{"$f":"N16760*'Zdrojová data'!$C$14","v":0},0,{"$f":"IF(H16760=0,D16760-'Výstupy modelu'!$C$7,IF(P16760=1,J16760-K16760,0))","v":0},0,null,{"$f":"MAX(0,IF(Q16760>0,Q16760-('Výstupy modelu'!$H$10-'Výstupy modelu'!$H$9),0))","v":0},null,null,{"$f":"W16759","v":1865.4300000000003},1885.4300000000003,0,{"$f":"MAX(0,D16760-'Vstupní hodnoty'!$C$5)","v":0}]
[null,"2017-06-24T23:00:00",6,405,{"$f":"CEILING(IF(C16795-C16794=0,IF(H16794=0,I16794,IF(J16794>K16794,I16794,E16794)),'Výstupy modelu'!$C$7),1)","v":1664},0,0,{"$f":"IF(F16795=1,IF(G16795>'Zdrojová data'!$C$19,0,1),\"\")","v":""},1664,0,{"$f":"MIN(J16795,'Zdrojová data'!$C$17)","v":0},0,{"$f":"L16795/'Zdrojová data'!$C$16","v":0},{"$f":"M16795*'Zdrojová data'!$C$13","v":0},{"$f":"N16795*'Zdrojová data'!$C$14","v":0},0,{"$f":"IF(H16795=0,D16795-'Výstupy modelu'!$C$7,IF(P16795=1,J16795-K16795,0))","v":0},0,null,{"$f":"MAX(0,IF(Q16795>0,Q16795-('Výstupy modelu'!$H$10-'Výstupy modelu'!$H$9),0))","v":0},null,null,{"$f":"W16794","v":1865.4300000000003},1885.4300000000003,0,{"$f":"MAX(0,D16795-'Vstupní hodnoty'!$C$5)","v":0}]
[null,"2017-06-25T11:45:00",6,392.04,{"$f":"CEILING(IF(C16846-C16845=0,IF(H16845=0,I16845,IF(J16845>K16845,I16845,E16845)),'Výstupy modelu'!$C$7),1)","v":1664},0,0,{"$f":"IF(F16846=1,IF(G16846>'Zdrojová data'!$C$19,0,1),\"\")","v":""},1664,0,{"$f":"MIN(J16846,'Zdrojová data'!$C$17)","v":0},0,{"$f":"L16846/'Zdrojová data'!$C$16","v":0},{"$f":"M16846*'Zdrojová data'!$C$13","v":0},{"$f":"N16846*'Zdrojová data'!$C$14","v":0},0,{"$f":"IF(H16846=0,D16846-'Výstupy modelu'!$C$7,IF(P16846=1,J16846-K16846,0))","v":0},0,null,{"$f":"MAX(0,IF(Q16846>0,Q16846-('Výstupy modelu'!$H$10-'Výstupy modelu'!$H$9),0))","v":0},null,null,{"$f":"W16845","v":1865.4300000000003},1885.4300000000003,0,{"$f":"MAX(0,D16846-'Vstupní hodnoty'!$C$5)","v":0}]
[null,"2017-06-25T20:15:00",6,353.16,{"$f":"CEILING(IF(C16880-C16879=0,IF(H16879=0,I16879,IF(J16879>K16879,I16879,E16879)),'Výstupy modelu'!$C$7),1)","v":1664},0,0,{"$f":"IF(F16880=1,IF(G16880>'Zdrojová data'!$C$19,0,1),\"\")","v":""},1664,0,{"$f":"MIN(J16880,'Zdrojová data'!$C$17)","v":0},0,{"$f":"L16880/'Zdrojová data'!$C$16","v":0},{"$f":"M16880*'Zdrojová data'!$C$13","v":0},{"$f":"N16880*'Zdrojová data'!$C$14","v":0},0,{"$f":"IF(H16880=0,D16880-'Výstupy modelu'!$C$7,IF(P16880=1,J16880-K16880,0))","v":0},0,null,{"$f":"MAX(0,IF(Q16880>0,Q16880-('Výstupy modelu'!$H$10-'Výstupy modelu'!$H$9),0))","v":0},null,null,{"$f":"W16879","v":1865.4300000000003},1885.4300000000003,0,{"$f":"MAX(0,D16880-'Vstupní hodnoty'!$C$5)","v":0}]
[null,"2017-06-26T00:30:00",6,522.72,{"$f":"CEILING(IF(C16897-C16896=0,IF(H16896=0,I16896,IF(J16896>K16896,I16896,E16896)),'Výstupy modelu'!$C$7),1)","v":1664},0,0,{"$f":"IF(F16897=1,IF(G16897>'Zdrojová data'!$C$19,0,1),\"\")","v":""},1664,0,{"$f":"MIN(J16897,'Zdrojová data'!$C$17)","v":0},0,{"$f":"L16897/'Zdrojová data'!$C$16","v":0},{"$f":"M16897*'Zdrojová data'!$C$13","v":0},{"$f":"N16897*'Zdrojová data'!$C$14","v":0},0,{"$f":"IF(H16897=0,D16897-'Výstupy modelu'!$C$7,IF(P16897=1,J16897-K16897,0))","v":0},0,null,{"$f":"MAX(0,IF(Q16897>0,Q16897-('Výstupy modelu'!$H$10-'Výstupy modelu'!$H$9),0))","v":0},null,null,{"$f":"W16896","v":1865.4300000000003},1885.4300000000003,0,{"$f":"MAX(0,D16897-'Vstupní hodnoty'!$C$5)","v":0}]
[null,"2017-06-26T13:15:00",6,1629.72,{"$f":"CEILING(IF(C16948-C16947=0,IF(H16947=0,I16947,IF(J16947>K16947,I16947,E16947)),'Výstupy modelu'!$C$7),1)","v":1664},0,0,{"$f":"IF(F16948=1,IF(G16948>'Zdrojová data'!$C$19,0,1),\"\")","v":""},1664,0,{"$f":"MIN(J16948,'Zdrojová data'!$C$17)","v":0},0,{"$f":"L16948/'Zdrojová data'!$C$16","v":0},{"$f":"M16948*'Zdrojová data'!$C$13","v":0},{"$f":"N16948*'Zdrojová data'!$C$14","v":0},0,{"$f":"IF(H16948=0,D16948-'Výstupy modelu'!$C$7,IF(P16948=1,J16948-K16948,0))","v":0},0,null,{"$f":"MAX(0,IF(Q16948>0,Q16948-('Výstupy modelu'!$H$10-'Výstupy modelu'!$H$9),0))","v":0},null,null,{"$f":"W16947","v":1865.4300000000003},1885.4300000000003,0,{"$f":"MAX(0,D16948-'Vstupní hodnoty'!$C$5)","v":0}]
[null,"2017-06-26T22:00:00",6,675,{"$f":"CEILING(IF(C16983-C16982=0,IF(H16982=0,I16982,IF(J16982>K16982,I16982,E16982)),'Výstupy modelu'!$C$7),1)","v":1664},0,0,{"$f":"IF(F16983=1,IF(G16983>'Zdrojová data'!$C$19,0,1),\"\")","v":""},1664,0,{"$f":"MIN(J16983,'Zdrojová data'!$C$17)","v":0},0,{"$f":"L16983/'Zdrojová data'!$C$16","v":0},{"$f":"M16983*'Zdrojová data'!$C$13","v":0},{"$f":"N16983*'Zdrojová data'!$C$14","v":0},0,{"$f":"IF(H16983=0,D16983-'Výstupy modelu'!$C$7,IF(P16983=1,J16983-K16983,0))","v":0},0,null,{"$f":"MAX(0,IF(Q16983>0,Q16983-('Výstupy modelu'!$H$10-'Výstupy modelu'!$H$9),0))","v":0},null,null,{"$f":"W16982","v":1865.4300000000003},1885.4300000000003,0,{"$f":"MAX(0,D16983-'Vstupní hodnoty'!$C$5)","v":0}]
[null,"2017-06-26T23:00:00",6,543.24,{"$f":"CEILING(IF(C16987-C16986=0,IF(H16986=0,I16986,IF(J16986>K16986,I16986,E16986)),'Výstupy modelu'!$C$7),1)","v":1664},0,0,{"$f":"IF(F16987=1,IF(G16987>'Zdrojová data'!$C$19,0,1),\"\")","v":""},1664,0,{"$f":"MIN(J16987,'Zdrojová data'!$C$17)","v":0},0,{"$f":"L16987/'Zdrojová data'!$C$16","v":0},{"$f":"M16987*'Zdrojová data'!$C$13","v":0},{"$f":"N16987*'Zdrojová data'!$C$14","v":0},0,{"$f":"IF(H16987=0,D16987-'Výstupy modelu'!$C$7,IF(P16987=1,J16987-K16987,0))","v":0},0,null,{"$f":"MAX(0,IF(Q16987>0,Q16987-('Výstupy modelu'!$H$10-'Výstupy modelu'!$H$9),0))","v":0},null,null,{"$f":"W16986","v":1865.4300000000003},1885.4300000000003,0,{"$f":"MAX(0,D16987-'Vstupní hodnoty'!$C$5)","v":0}]
[null,"2017-06-27T10:45:00",6,1650.24,{"$f":"CEILING(IF(C17034-C17033=0,IF(H17033=0,I17033,IF(J17033>K17033,I17033,E17033)),'Výstupy modelu'!$C$7),1)","v":1664},0,0,{"$f":"IF(F17034=1,IF(G17034>'Zdrojová data'!$C$19,0,1),\"\")","v":""},1664,0,{"$f":"MIN(J17034,'Zdrojová data'!$C$17)","v":0},0,{"$f":"L17034/'Zdrojová data'!$C$16","v":0},{"$f":"M17034*'Zdrojová data'!$C$13","v":0},{"$f":"N17034*'Zdrojová data'!$C$14","v":0},0,{"$f":"IF(H17034=0,D17034-'Výstupy modelu'!$C$7,IF(P17034=1,J17034-K17034,0))","v":0},0,null,{"$f":"MAX(0,IF(Q17034>0,Q17034-('Výstupy modelu'!$H$10-'Výstupy modelu'!$H$9),0))","v":0},null,null,{"$f":"W17033","v":1865.4300000000003},1885.4300000000003,0,{"$f":"MAX(0,D17034-'Vstupní hodnoty'!$C$5)","v":0}]
[null,"2017-06-27T23:30:00",6,548.64,{"$f":"CEILING(IF(C17085-C17084=0,IF(H17084=0,I17084,IF(J17084>K17084,I17084,E17084)),'Výstupy modelu'!$C$7),1)","v":1664},0,0,{"$f":"IF(F17085=1,IF(G17085>'Zdrojová data'!$C$19,0,1),\"\")","v":""},1664,0,{"$f":"MIN(J17085,'Zdrojová data'!$C$17)","v":0},0,{"$f":"L17085/'Zdrojová data'!$C$16","v":0},{"$f":"M17085*'Zdrojová data'!$C$13","v":0},{"$f":"N17085*'Zdrojová data'!$C$14","v":0},0,{"$f":"IF(H17085=0,D17085-'Výstupy modelu'!$C$7,IF(P17085=1,J17085-K17085,0))","v":0},0,null,{"$f":"MAX(0,IF(Q17085>0,Q17085-('Výstupy modelu'!$H$10-'Výstupy modelu'!$H$9),0))","v":0},null,null,{"$f":"W17084","v":1865.4300000000003},1885.4300000000003,0,{"$f":"MAX(0,D17085-'Vstupní hodnoty'!$C$5)","v":0}]
[null,"2017-06-28T03:45:00",6,650.16000000000008,{"$f":"CEILING(IF(C17102-C17101=0,IF(H17101=0,I17101,IF(J17101>K17101,I17101,E17101)),'Výstupy modelu'!$C$7),1)","v":1664},0,0,{"$f":"IF(F17102=1,IF(G17102>'Zdrojová data'!$C$19,0,1),\"\")","v":""},1664,0,{"$f":"MIN(J17102,'Zdrojová data'!$C$17)","v":0},0,{"$f":"L17102/'Zdrojová data'!$C$16","v":0},{"$f":"M17102*'Zdrojová data'!$C$13","v":0},{"$f":"N17102*'Zdrojová data'!$C$14","v":0},0,{"$f":"IF(H17102=0,D17102-'Výstupy modelu'!$C$7,IF(P17102=1,J17102-K17102,0))","v":0},0,null,{"$f":"MAX(0,IF(Q17102>0,Q17102-('Výstupy modelu'!$H$10-'Výstupy modelu'!$H$9),0))","v":0},null,null,{"$f":"W17101","v":1865.4300000000003},1885.4300000000003,0,{"$f":"MAX(0,D17102-'Vstupní hodnoty'!$C$5)","v":0}]
[null,"2017-06-28T12:30:00",6,1488.24,{"$f":"CEILING(IF(C17137-C17136=0,IF(H17136=0,I17136,IF(J17136>K17136,I17136,E17136)),'Výstupy modelu'!$C$7),1)","v":1664},0,0,{"$f":"IF(F17137=1,IF(G17137>'Zdrojová data'!$C$19,0,1),\"\")","v":""},1664,0,{"$f":"MIN(J17137,'Zdrojová data'!$C$17)","v":0},0,{"$f":"L17137/'Zdrojová data'!$C$16","v":0},{"$f":"M17137*'Zdrojová data'!$C$13","v":0},{"$f":"N17137*'Zdrojová data'!$C$14","v":0},0,{"$f":"IF(H17137=0,D17137-'Výstupy modelu'!$C$7,IF(P17137=1,J17137-K17137,0))","v":0},0,null,{"$f":"MAX(0,IF(Q17137>0,Q17137-('Výstupy modelu'!$H$10-'Výstupy modelu'!$H$9),0))","v":0},null,null,{"$f":"W17136","v":1865.4300000000003},1885.4300000000003,{"$f":"MAX(0,D17137-W17137)","v":0},{"$f":"MAX(0,D17137-'Vstupní hodnoty'!$C$5)","v":0}]
[null,"2017-06-28T18:30:00",6,1031.4000000000001,{"$f":"CEILING(IF(C17161-C17160=0,IF(H17160=0,I17160,IF(J17160>K17160,I17160,E17160)),'Výstupy modelu'!$C$7),1)","v":1664},0,0,{"$f":"IF(F17161=1,IF(G17161>'Zdrojová data'!$C$19,0,1),\"\")","v":""},1664,0,{"$f":"MIN(J17161,'Zdrojová data'!$C$17)","v":0},0,{"$f":"L17161/'Zdrojová data'!$C$16","v":0},{"$f":"M17161*'Zdrojová data'!$C$13","v":0},{"$f":"N17161*'Zdrojová data'!$C$14","v":0},0,{"$f":"IF(H17161=0,D17161-'Výstupy modelu'!$C$7,IF(P17161=1,J17161-K17161,0))","v":0},0,null,{"$f":"MAX(0,IF(Q17161>0,Q17161-('Výstupy modelu'!$H$10-'Výstupy modelu'!$H$9),0))","v":0},null,null,1865.4300000000003,1885.4300000000003,0,{"$f":"MAX(0,D17161-'Vstupní hodnoty'!$C$5)","v":0}]
[null,"2017-06-29T05:15:00",6,671.76,{"$f":"CEILING(IF(C17204-C17203=0,IF(H17203=0,I17203,IF(J17203>K17203,I17203,E17203)),'Výstupy modelu'!$C$7),1)","v":1664},0,0,{"$f":"IF(F17204=1,IF(G17204>'Zdrojová data'!$C$19,0,1),\"\")","v":""},1664,0,{"$f":"MIN(J17204,'Zdrojová data'!$C$17)","v":0},0,{"$f":"L17204/'Zdrojová data'!$C$16","v":0},{"$f":"M17204*'Zdrojová data'!$C$13","v":0},{"$f":"N17204*'Zdrojová data'!$C$14","v":0},0,{"$f":"IF(H17204=0,D17204-'Výstupy modelu'!$C$7,IF(P17204=1,J17204-K17204,0))","v":0},0,null,{"$f":"MAX(0,IF(Q17204>0,Q17204-('Výstupy modelu'!$H$10-'Výstupy modelu'!$H$9),0))","v":0},null,null,1865.4300000000003,1885.4300000000003,0,{"$f":"MAX(0,D17204-'Vstupní hodnoty'!$C$5)","v":0}]
[null,"2017-06-29T14:00:00",6,1434.24,{"$f":"CEILING(IF(C17239-C17238=0,IF(H17238=0,I17238,IF(J17238>K17238,I17238,E17238)),'Výstupy modelu'!$C$7),1)","v":1664},0,0,{"$f":"IF(F17239=1,IF(G17239>'Zdrojová data'!$C$19,0,1),\"\")","v":""},1664,0,{"$f":"MIN(J17239,'Zdrojová data'!$C$17)","v":0},0,{"$f":"L17239/'Zdrojová data'!$C$16","v":0},{"$f":"M17239*'Zdrojová data'!$C$13","v":0},{"$f":"N17239*'Zdrojová data'!$C$14","v":0},0,{"$f":"IF(H17239=0,D17239-'Výstupy modelu'!$C$7,IF(P17239=1,J17239-K17239,0))","v":0},0,null,{"$f":"MAX(0,IF(Q17239>0,Q17239-('Výstupy modelu'!$H$10-'Výstupy modelu'!$H$9),0))","v":0},null,null,1865.4300000000003,1885.4300000000003,0,{"$f":"MAX(0,D17239-'Vstupní hodnoty'!$C$5)","v":0}]
[null,"2017-06-29T18:15:00",6,1003.32,{"$f":"CEILING(IF(C17256-C17255=0,IF(H17255=0,I17255,IF(J17255>K17255,I17255,E17255)),'Výstupy modelu'!$C$7),1)","v":1664},0,0,{"$f":"IF(F17256=1,IF(G17256>'Zdrojová data'!$C$19,0,1),\"\")","v":""},1664,0,{"$f":"MIN(J17256,'Zdrojová data'!$C$17)","v":0},0,{"$f":"L17256/'Zdrojová data'!$C$16","v":0},{"$f":"M17256*'Zdrojová data'!$C$13","v":0},{"$f":"N17256*'Zdrojová data'!$C$14","v":0},0,{"$f":"IF(H17256=0,D17256-'Výstupy modelu'!$C$7,IF(P17256=1,J17256-K17256,0))","v":0},0,null,{"$f":"MAX(0,IF(Q17256>0,Q17256-('Výstupy modelu'!$H$10-'Výstupy modelu'!$H$9),0))","v":0},null,null,1865.4300000000003,1885.4300000000003,0,{"$f":"MAX(0,D17256-'Vstupní hodnoty'!$C$5)","v":0}]
[null,"2017-06-30T04:00:00",6,627.48,{"$f":"CEILING(IF(C17295-C17294=0,IF(H17294=0,I17294,IF(J17294>K17294,I17294,E17294)),'Výstupy modelu'!$C$7),1)","v":1664},0,0,{"$f":"IF(F17295=1,IF(G17295>'Zdrojová data'!$C$19,0,1),\"\")","v":""},1664,0,{"$f":"MIN(J17295,'Zdrojová data'!$C$17)","v":0},0,{"$f":"L17295/'Zdrojová data'!$C$16","v":0},{"$f":"M17295*'Zdrojová data'!$C$13","v":0},{"$f":"N17295*'Zdrojová data'!$C$14","v":0},0,{"$f":"IF(H17295=0,D17295-'Výstupy modelu'!$C$7,IF(P17295=1,J17295-K17295,0))","v":0},0,null,{"$f":"MAX(0,IF(Q17295>0,Q17295-('Výstupy modelu'!$H$10-'Výstupy modelu'!$H$9),0))","v":0},null,null,1865.4300000000003,1885.4300000000003,0,{"$f":"MAX(0,D17295-'Vstupní hodnoty'!$C$5)","v":0}]
[null,"2017-06-30T15:30:00",6,1266.8400000000001,{"$f":"CEILING(IF(C17341-C17340=0,IF(H17340=0,I17340,IF(J17340>K17340,I17340,E17340)),'Výstupy modelu'!$C$7),1)","v":1664},0,0,{"$f":"IF(F17341=1,IF(G17341>'Zdrojová data'!$C$19,0,1),\"\")","v":""},1664,0,{"$f":"MIN(J17341,'Zdrojová data'!$C$17)","v":0},0,{"$f":"L17341/'Zdrojová data'!$C$16","v":0},{"$f":"M17341*'Zdrojová data'!$C$13","v":0},{"$f":"N17341*'Zdrojová data'!$C$14","v":0},0,{"$f":"IF(H17341=0,D17341-'Výstupy modelu'!$C$7,IF(P17341=1,J17341-K17341,0))","v":0},0,null,{"$f":"MAX(0,IF(Q17341>0,Q17341-('Výstupy modelu'!$H$10-'Výstupy modelu'!$H$9),0))","v":0},null,null,1865.4300000000003,1885.4300000000003,0,{"$f":"MAX(0,D17341-'Vstupní hodnoty'!$C$5)","v":0}]
[null,"2017-06-30T19:45:00",6,960.12000000000012,{"$f":"CEILING(IF(C17358-C17357=0,IF(H17357=0,I17357,IF(J17357>K17357,I17357,E17357)),'Výstupy modelu'!$C$7),1)","v":1664},0,0,{"$f":"IF(F17358=1,IF(G17358>'Zdrojová data'!$C$19,0,1),\"\")","v":""},1664,0,{"$f":"MIN(J17358,'Zdrojová data'!$C$17)","v":0},0,{"$f":"L17358/'Zdrojová data'!$C$16","v":0},{"$f":"M17358*'Zdrojová data'!$C$13","v":0},{"$f":"N17358*'Zdrojová data'!$C$14","v":0},0,{"$f":"IF(H17358=0,D17358-'Výstupy modelu'!$C$7,IF(P17358=1,J17358-K17358,0))","v":0},0,null,{"$f":"MAX(0,IF(Q17358>0,Q17358-('Výstupy modelu'!$H$10-'Výstupy modelu'!$H$9),0))","v":0},null,null,1865.4300000000003,1885.4300000000003,0,{"$f":"MAX(0,D17358-'Vstupní hodnoty'!$C$5)","v":0}]
[null,"2017-07-01T04:30:00",7,365.04,{"$f":"CEILING(IF(C17393-C17392=0,IF(H17392=0,I17392,IF(J17392>K17392,I17392,E17392)),'Výstupy modelu'!$C$7),1)","v":1664},0,0,{"$f":"IF(F17393=1,IF(G17393>'Zdrojová data'!$C$19,0,1),\"\")","v":""},1664,0,{"$f":"MIN(J17393,'Zdrojová data'!$C$17)","v":0},0,{"$f":"L17393/'Zdrojová data'!$C$16","v":0},{"$f":"M17393*'Zdrojová data'!$C$13","v":0},{"$f":"N17393*'Zdrojová data'!$C$14","v":0},0,{"$f":"IF(H17393=0,D17393-'Výstupy modelu'!$C$7,IF(P17393=1,J17393-K17393,0))","v":0},0,null,{"$f":"MAX(0,IF(Q17393>0,Q17393-('Výstupy modelu'!$H$10-'Výstupy modelu'!$H$9),0))","v":0},null,null,1865.4300000000003,1885.4300000000003,{"$f":"MAX(0,D17393-W17393)","v":0},{"$f":"MAX(0,D17393-'Vstupní hodnoty'!$C$5)","v":0}]
[null,"2017-07-01T17:15:00",7,373.68,{"$f":"CEILING(IF(C17444-C17443=0,IF(H17443=0,I17443,IF(J17443>K17443,I17443,E17443)),'Výstupy modelu'!$C$7),1)","v":1664},0,0,{"$f":"IF(F17444=1,IF(G17444>'Zdrojová data'!$C$19,0,1),\"\")","v":""},1664,0,{"$f":"MIN(J17444,'Zdrojová data'!$C$17)","v":0},0,{"$f":"L17444/'Zdrojová data'!$C$16","v":0},{"$f":"M17444*'Zdrojová data'!$C$13","v":0},{"$f":"N17444*'Zdrojová data'!$C$14","v":0},0,{"$f":"IF(H17444=0,D17444-'Výstupy modelu'!$C$7,IF(P17444=1,J17444-K17444,0))","v":0},0,null,{"$f":"MAX(0,IF(Q17444>0,Q17444-('Výstupy modelu'!$H$10-'Výstupy modelu'!$H$9),0))","v":0},null,null,1865.4300000000003,1885.4300000000003,0,{"$f":"MAX(0,D17444-'Vstupní hodnoty'!$C$5)","v":0}]
[null,"2017-07-01T23:30:00",7,320.76000000000005,{"$f":"CEILING(IF(C17469-C17468=0,IF(H17468=0,I17468,IF(J17468>K17468,I17468,E17468)),'Výstupy modelu'!$C$7),1)","v":1664},0,0,{"$f":"IF(F17469=1,IF(G17469>'Zdrojová data'!$C$19,0,1),\"\")","v":""},1664,0,{"$f":"MIN(J17469,'Zdrojová data'!$C$17)","v":0},0,{"$f":"L17469/'Zdrojová data'!$C$16","v":0},{"$f":"M17469*'Zdrojová data'!$C$13","v":0},{"$f":"N17469*'Zdrojová data'!$C$14","v":0},0,{"$f":"IF(H17469=0,D17469-'Výstupy modelu'!$C$7,IF(P17469=1,J17469-K17469,0))","v":0},0,null,{"$f":"MAX(0,IF(Q17469>0,Q17469-('Výstupy modelu'!$H$10-'Výstupy modelu'!$H$9),0))","v":0},null,null,1865.4300000000003,1885.4300000000003,0,{"$f":"MAX(0,D17469-'Vstupní hodnoty'!$C$5)","v":0}]
[null,"2017-07-02T06:00:00",7,262.44,{"$f":"CEILING(IF(C17495-C17494=0,IF(H17494=0,I17494,IF(J17494>K17494,I17494,E17494)),'Výstupy modelu'!$C$7),1)","v":1664},0,0,{"$f":"IF(F17495=1,IF(G17495>'Zdrojová data'!$C$19,0,1),\"\")","v":""},1664,0,{"$f":"MIN(J17495,'Zdrojová data'!$C$17)","v":0},0,{"$f":"L17495/'Zdrojová data'!$C$16","v":0},{"$f":"M17495*'Zdrojová data'!$C$13","v":0},{"$f":"N17495*'Zdrojová data'!$C$14","v":0},0,{"$f":"IF(H17495=0,D17495-'Výstupy modelu'!$C$7,IF(P17495=1,J17495-K17495,0))","v":0},0,null,{"$f":"MAX(0,IF(Q17495>0,Q17495-('Výstupy modelu'!$H$10-'Výstupy modelu'!$H$9),0))","v":0},null,null,1865.4300000000003,1885.4300000000003,0,{"$f":"MAX(0,D17495-'Vstupní hodnoty'!$C$5)","v":0}]
[null,"2017-07-02T18:45:00",7,352.08000000000004,{"$f":"CEILING(IF(C17546-C17545=0,IF(H17545=0,I17545,IF(J17545>K17545,I17545,E17545)),'Výstupy modelu'!$C$7),1)","v":1664},0,0,{"$f":"IF(F17546=1,IF(G17546>'Zdrojová data'!$C$19,0,1),\"\")","v":""},1664,0,{"$f":"MIN(J17546,'Zdrojová data'!$C$17)","v":0},0,{"$f":"L17546/'Zdrojová data'!$C$16","v":0},{"$f":"M17546*'Zdrojová data'!$C$13","v":0},{"$f":"N17546*'Zdrojová data'!$C$14","v":0},0,{"$f":"IF(H17546=0,D17546-'Výstupy modelu'!$C$7,IF(P17546=1,J17546-K17546,0))","v":0},0,null,{"$f":"MAX(0,IF(Q17546>0,Q17546-('Výstupy modelu'!$H$10-'Výstupy modelu'!$H$9),0))","v":0},null,null,1865.4300000000003,1885.4300000000003,0,{"$f":"MAX(0,D17546-'Vstupní hodnoty'!$C$5)","v":0}]
[null,"2017-07-03T03:30:00",7,555.12,{"$f":"CEILING(IF(C17581-C17580=0,IF(H17580=0,I17580,IF(J17580>K17580,I17580,E17580)),'Výstupy modelu'!$C$7),1)","v":1664},0,0,{"$f":"IF(F17581=1,IF(G17581>'Zdrojová data'!$C$19,0,1),\"\")","v":""},1664,0,{"$f":"MIN(J17581,'Zdrojová data'!$C$17)","v":0},0,{"$f":"L17581/'Zdrojová data'!$C$16","v":0},{"$f":"M17581*'Zdrojová data'!$C$13","v":0},{"$f":"N17581*'Zdrojová data'!$C$14","v":0},0,{"$f":"IF(H17581=0,D17581-'Výstupy modelu'!$C$7,IF(P17581=1,J17581-K17581,0))","v":0},0,null,{"$f":"MAX(0,IF(Q17581>0,Q17581-('Výstupy modelu'!$H$10-'Výstupy modelu'!$H$9),0))","v":0},null,null,1865.4300000000003,1885.4300000000003,0,{"$f":"MAX(0,D17581-'Vstupní hodnoty'!$C$5)","v":0}]
[null,"2017-07-03T07:45:00",7,1362.96,{"$f":"CEILING(IF(C17598-C17597=0,IF(H17597=0,I17597,IF(J17597>K17597,I17597,E17597)),'Výstupy modelu'!$C$7),1)","v":1664},0,0,{"$f":"IF(F17598=1,IF(G17598>'Zdrojová data'!$C$19,0,1),\"\")","v":""},1664,0,{"$f":"MIN(J17598,'Zdrojová data'!$C$17)","v":0},0,{"$f":"L17598/'Zdrojová data'!$C$16","v":0},{"$f":"M17598*'Zdrojová data'!$C$13","v":0},{"$f":"N17598*'Zdrojová data'!$C$14","v":0},0,{"$f":"IF(H17598=0,D17598-'Výstupy modelu'!$C$7,IF(P17598=1,J17598-K17598,0))","v":0},0,null,{"$f":"MAX(0,IF(Q17598>0,Q17598-('Výstupy modelu'!$H$10-'Výstupy modelu'!$H$9),0))","v":0},null,null,1865.4300000000003,1885.4300000000003,0,{"$f":"MAX(0,D17598-'Vstupní hodnoty'!$C$5)","v":0}]
[null,"2017-07-03T18:00:00",7,914.7600000000001,{"$f":"CEILING(IF(C17639-C17638=0,IF(H17638=0,I17638,IF(J17638>K17638,I17638,E17638)),'Výstupy modelu'!$C$7),1)","v":1664},0,0,{"$f":"IF(F17639=1,IF(G17639>'Zdrojová data'!$C$19,0,1),\"\")","v":""},1664,0,{"$f":"MIN(J17639,'Zdrojová data'!$C$17)","v":0},0,{"$f":"L17639/'Zdrojová data'!$C$16","v":0},{"$f":"M17639*'Zdrojová data'!$C$13","v":0},{"$f":"N17639*'Zdrojová data'!$C$14","v":0},0,{"$f":"IF(H17639=0,D17639-'Výstupy modelu'!$C$7,IF(P17639=1,J17639-K17639,0))","v":0},0,null,{"$f":"MAX(0,IF(Q17639>0,Q17639-('Výstupy modelu'!$H$10-'Výstupy modelu'!$H$9),0))","v":0},null,null,1865.4300000000003,1885.4300000000003,0,{"$f":"MAX(0,D17639-'Vstupní hodnoty'!$C$5)","v":0}]
[null,"2017-07-04T05:00:00",7,618.84,{"$f":"CEILING(IF(C17683-C17682=0,IF(H17682=0,I17682,IF(J17682>K17682,I17682,E17682)),'Výstupy modelu'!$C$7),1)","v":1664},0,0,{"$f":"IF(F17683=1,IF(G17683>'Zdrojová data'!$C$19,0,1),\"\")","v":""},1664,0,{"$f":"MIN(J17683,'Zdrojová data'!$C$17)","v":0},0,{"$f":"L17683/'Zdrojová data'!$C$16","v":0},{"$f":"M17683*'Zdrojová data'!$C$13","v":0},{"$f":"N17683*'Zdrojová data'!$C$14","v":0},0,{"$f":"IF(H17683=0,D17683-'Výstupy modelu'!$C$7,IF(P17683=1,J17683-K17683,0))","v":0},0,null,{"$f":"MAX(0,IF(Q17683>0,Q17683-('Výstupy modelu'!$H$10-'Výstupy modelu'!$H$9),0))","v":0},null,null,1865.4300000000003,1885.4300000000003,0,{"$f":"MAX(0,D17683-'Vstupní hodnoty'!$C$5)","v":0}]
[null,"2017-07-04T09:15:00",7,1487.16,{"$f":"CEILING(IF(C17700-C17699=0,IF(H17699=0,I17699,IF(J17699>K17699,I17699,E17699)),'Výstupy modelu'!$C$7),1)","v":1664},0,0,{"$f":"IF(F17700=1,IF(G17700>'Zdrojová data'!$C$19,0,1),\"\")","v":""},1664,0,{"$f":"MIN(J17700,'Zdrojová data'!$C$17)","v":0},0,{"$f":"L17700/'Zdrojová data'!$C$16","v":0},{"$f":"M17700*'Zdrojová data'!$C$13","v":0},{"$f":"N17700*'Zdrojová data'!$C$14","v":0},0,{"$f":"IF(H17700=0,D17700-'Výstupy modelu'!$C$7,IF(P17700=1,J17700-K17700,0))","v":0},0,null,{"$f":"MAX(0,IF(Q17700>0,Q17700-('Výstupy modelu'!$H$10-'Výstupy modelu'!$H$9),0))","v":0},null,null,1865.4300000000003,1885.4300000000003,0,{"$f":"MAX(0,D17700-'Vstupní hodnoty'!$C$5)","v":0}]
[null,"2017-07-04T18:00:00",7,868.32,{"$f":"CEILING(IF(C17735-C17734=0,IF(H17734=0,I17734,IF(J17734>K17734,I17734,E17734)),'Výstupy modelu'!$C$7),1)","v":1664},0,0,{"$f":"IF(F17735=1,IF(G17735>'Zdrojová data'!$C$19,0,1),\"\")","v":""},1664,0,{"$f":"MIN(J17735,'Zdrojová data'!$C$17)","v":0},0,{"$f":"L17735/'Zdrojová data'!$C$16","v":0},{"$f":"M17735*'Zdrojová data'!$C$13","v":0},{"$f":"N17735*'Zdrojová data'!$C$14","v":0},0,{"$f":"IF(H17735=0,D17735-'Výstupy modelu'!$C$7,IF(P17735=1,J17735-K17735,0))","v":0},0,null,{"$f":"MAX(0,IF(Q17735>0,Q17735-('Výstupy modelu'!$H$10-'Výstupy modelu'!$H$9),0))","v":0},null,null,1865.4300000000003,1885.4300000000003,0,{"$f":"MAX(0,D17735-'Vstupní hodnoty'!$C$5)","v":0}]
[null,"2017-07-05T06:45:00",7,381.24,{"$f":"CEILING(IF(C17786-C17785=0,IF(H17785=0,I17785,IF(J17785>K17785,I17785,E17785)),'Výstupy modelu'!$C$7),1)","v":1664},0,0,{"$f":"IF(F17786=1,IF(G17786>'Zdrojová data'!$C$19,0,1),\"\")","v":""},1664,0,{"$f":"MIN(J17786,'Zdrojová data'!$C$17)","v":0},0,{"$f":"L17786/'Zdrojová data'!$C$16","v":0},{"$f":"M17786*'Zdrojová data'!$C$13","v":0},{"$f":"N17786*'Zdrojová data'!$C$14","v":0},0,{"$f":"IF(H17786=0,D17786-'Výstupy modelu'!$C$7,IF(P17786=1,J17786-K17786,0))","v":0},0,null,{"$f":"MAX(0,IF(Q17786>0,Q17786-('Výstupy modelu'!$H$10-'Výstupy modelu'!$H$9),0))","v":0},null,null,1865.4300000000003,1885.4300000000003,0,{"$f":"MAX(0,D17786-'Vstupní hodnoty'!$C$5)","v":0}]
[null,"2017-07-05T13:30:00",7,682.56000000000006,{"$f":"CEILING(IF(C17813-C17812=0,IF(H17812=0,I17812,IF(J17812>K17812,I17812,E17812)),'Výstupy modelu'!$C$7),1)","v":1664},0,0,{"$f":"IF(F17813=1,IF(G17813>'Zdrojová data'!$C$19,0,1),\"\")","v":""},1664,0,{"$f":"MIN(J17813,'Zdrojová data'!$C$17)","v":0},0,{"$f":"L17813/'Zdrojová data'!$C$16","v":0},{"$f":"M17813*'Zdrojová data'!$C$13","v":0},{"$f":"N17813*'Zdrojová data'!$C$14","v":0},0,{"$f":"IF(H17813=0,D17813-'Výstupy modelu'!$C$7,IF(P17813=1,J17813-K17813,0))","v":0},0,null,{"$f":"MAX(0,IF(Q17813>0,Q17813-('Výstupy modelu'!$H$10-'Výstupy modelu'!$H$9),0))","v":0},null,null,1865.4300000000003,1885.4300000000003,0,{"$f":"MAX(0,D17813-'Vstupní hodnoty'!$C$5)","v":0}]
[null,"2017-07-05T19:30:00",7,363.96000000000004,{"$f":"CEILING(IF(C17837-C17836=0,IF(H17836=0,I17836,IF(J17836>K17836,I17836,E17836)),'Výstupy modelu'!$C$7),1)","v":1664},0,0,{"$f":"IF(F17837=1,IF(G17837>'Zdrojová data'!$C$19,0,1),\"\")","v":""},1664,0,{"$f":"MIN(J17837,'Zdrojová data'!$C$17)","v":0},0,{"$f":"L17837/'Zdrojová data'!$C$16","v":0},{"$f":"M17837*'Zdrojová data'!$C$13","v":0},{"$f":"N17837*'Zdrojová data'!$C$14","v":0},0,{"$f":"IF(H17837=0,D17837-'Výstupy modelu'!$C$7,IF(P17837=1,J17837-K17837,0))","v":0},0,null,{"$f":"MAX(0,IF(Q17837>0,Q17837-('Výstupy modelu'!$H$10-'Výstupy modelu'!$H$9),0))","v":0},null,null,1865.4300000000003,1885.4300000000003,0,{"$f":"MAX(0,D17837-'Vstupní hodnoty'!$C$5)","v":0}]
[null,"2017-07-06T08:15:00",7,393.12,{"$f":"CEILING(IF(C17888-C17887=0,IF(H17887=0,I17887,IF(J17887>K17887,I17887,E17887)),'Výstupy modelu'!$C$7),1)","v":1664},0,0,{"$f":"IF(F17888=1,IF(G17888>'Zdrojová data'!$C$19,0,1),\"\")","v":""},1664,0,{"$f":"MIN(J17888,'Zdrojová data'!$C$17)","v":0},0,{"$f":"L17888/'Zdrojová data'!$C$16","v":0},{"$f":"M17888*'Zdrojová data'!$C$13","v":0},{"$f":"N17888*'Zdrojová data'!$C$14","v":0},0,{"$f":"IF(H17888=0,D17888-'Výstupy modelu'!$C$7,IF(P17888=1,J17888-K17888,0))","v":0},0,null,{"$f":"MAX(0,IF(Q17888>0,Q17888-('Výstupy modelu'!$H$10-'Výstupy modelu'!$H$9),0))","v":0},null,null,1865.4300000000003,1885.4300000000003,0,{"$f":"MAX(0,D17888-'Vstupní hodnoty'!$C$5)","v":0}]
[null,"2017-07-06T12:30:00",7,563.76,{"$f":"CEILING(IF(C17905-C17904=0,IF(H17904=0,I17904,IF(J17904>K17904,I17904,E17904)),'Výstupy modelu'!$C$7),1)","v":1664},0,0,{"$f":"IF(F17905=1,IF(G17905>'Zdrojová data'!$C$19,0,1),\"\")","v":""},1664,0,{"$f":"MIN(J17905,'Zdrojová data'!$C$17)","v":0},0,{"$f":"L17905/'Zdrojová data'!$C$16","v":0},{"$f":"M17905*'Zdrojová data'!$C$13","v":0},{"$f":"N17905*'Zdrojová data'!$C$14","v":0},0,{"$f":"IF(H17905=0,D17905-'Výstupy modelu'!$C$7,IF(P17905=1,J17905-K17905,0))","v":0},0,null,{"$f":"MAX(0,IF(Q17905>0,Q17905-('Výstupy modelu'!$H$10-'Výstupy modelu'!$H$9),0))","v":0},null,null,1865.4300000000003,1885.4300000000003,{"$f":"MAX(0,D17905-W17905)","v":0},{"$f":"MAX(0,D17905-'Vstupní hodnoty'!$C$5)","v":0}]
[null,"2017-07-06T21:15:00",7,439.56,{"$f":"CEILING(IF(C17940-C17939=0,IF(H17939=0,I17939,IF(J17939>K17939,I17939,E17939)),'Výstupy modelu'!$C$7),1)","v":1664},0,0,{"$f":"IF(F17940=1,IF(G17940>'Zdrojová data'!$C$19,0,1),\"\")","v":""},1664,0,{"$f":"MIN(J17940,'Zdrojová data'!$C$17)","v":0},0,{"$f":"L17940/'Zdrojová data'!$C$16","v":0},{"$f":"M17940*'Zdrojová data'!$C$13","v":0},{"$f":"N17940*'Zdrojová data'!$C$14","v":0},0,{"$f":"IF(H17940=0,D17940-'Výstupy modelu'!$C$7,IF(P17940=1,J17940-K17940,0))","v":0},0,null,{"$f":"MAX(0,IF(Q17940>0,Q17940-('Výstupy modelu'!$H$10-'Výstupy modelu'!$H$9),0))","v":0},null,null,1865.4300000000003,1885.4300000000003,0,{"$f":"MAX(0,D17940-'Vstupní hodnoty'!$C$5)","v":0}]
[null,"2017-07-07T09:00:00",7,530.28000000000009,{"$f":"CEILING(IF(C17987-C17986=0,IF(H17986=0,I17986,IF(J17986>K17986,I17986,E17986)),'Výstupy modelu'!$C$7),1)","v":1664},0,0,{"$f":"IF(F17987=1,IF(G17987>'Zdrojová data'!$C$19,0,1),\"\")","v":""},1664,0,{"$f":"MIN(J17987,'Zdrojová data'!$C$17)","v":0},0,{"$f":"L17987/'Zdrojová data'!$C$16","v":0},{"$f":"M17987*'Zdrojová data'!$C$13","v":0},{"$f":"N17987*'Zdrojová data'!$C$14","v":0},0,{"$f":"IF(H17987=0,D17987-'Výstupy modelu'!$C$7,IF(P17987=1,J17987-K17987,0))","v":0},0,null,{"$f":"MAX(0,IF(Q17987>0,Q17987-('Výstupy modelu'!$H$10-'Výstupy modelu'!$H$9),0))","v":0},null,null,1865.4300000000003,1885.4300000000003,0,{"$f":"MAX(0,D17987-'Vstupní hodnoty'!$C$5)","v":0}]
[null,"2017-07-07T18:30:00",7,476.28000000000003,{"$f":"CEILING(IF(C18025-C18024=0,IF(H18024=0,I18024,IF(J18024>K18024,I18024,E18024)),'Výstupy modelu'!$C$7),1)","v":1664},0,0,{"$f":"IF(F18025=1,IF(G18025>'Zdrojová data'!$C$19,0,1),\"\")","v":""},1664,0,{"$f":"MIN(J18025,'Zdrojová data'!$C$17)","v":0},0,{"$f":"L18025/'Zdrojová data'!$C$16","v":0},{"$f":"M18025*'Zdrojová data'!$C$13","v":0},{"$f":"N18025*'Zdrojová data'!$C$14","v":0},0,{"$f":"IF(H18025=0,D18025-'Výstupy modelu'!$C$7,IF(P18025=1,J18025-K18025,0))","v":0},0,null,{"$f":"MAX(0,IF(Q18025>0,Q18025-('Výstupy modelu'!$H$10-'Výstupy modelu'!$H$9),0))","v":0},null,null,1865.4300000000003,1885.4300000000003,0,{"$f":"MAX(0,D18025-'Vstupní hodnoty'!$C$5)","v":0}]
[null,"2017-07-07T22:45:00",7,375.84000000000003,{"$f":"CEILING(IF(C18042-C18041=0,IF(H18041=0,I18041,IF(J18041>K18041,I18041,E18041)),'Výstupy modelu'!$C$7),1)","v":1664},0,0,{"$f":"IF(F18042=1,IF(G18042>'Zdrojová data'!$C$19,0,1),\"\")","v":""},1664,0,{"$f":"MIN(J18042,'Zdrojová data'!$C$17)","v":0},0,{"$f":"L18042/'Zdrojová data'!$C$16","v":0},{"$f":"M18042*'Zdrojová data'!$C$13","v":0},{"$f":"N18042*'Zdrojová data'!$C$14","v":0},0,{"$f":"IF(H18042=0,D18042-'Výstupy modelu'!$C$7,IF(P18042=1,J18042-K18042,0))","v":0},0,null,{"$f":"MAX(0,IF(Q18042>0,Q18042-('Výstupy modelu'!$H$10-'Výstupy modelu'!$H$9),0))","v":0},null,null,1865.4300000000003,1885.4300000000003,0,{"$f":"MAX(0,D18042-'Vstupní hodnoty'!$C$5)","v":0}]
[null,"2017-07-08T11:30:00",7,414.72,{"$f":"CEILING(IF(C18093-C18092=0,IF(H18092=0,I18092,IF(J18092>K18092,I18092,E18092)),'Výstupy modelu'!$C$7),1)","v":1664},0,0,{"$f":"IF(F18093=1,IF(G18093>'Zdrojová data'!$C$19,0,1),\"\")","v":""},1664,0,{"$f":"MIN(J18093,'Zdrojová data'!$C$17)","v":0},0,{"$f":"L18093/'Zdrojová data'!$C$16","v":0},{"$f":"M18093*'Zdrojová data'!$C$13","v":0},{"$f":"N18093*'Zdrojová data'!$C$14","v":0},0,{"$f":"IF(H18093=0,D18093-'Výstupy modelu'!$C$7,IF(P18093=1,J18093-K18093,0))","v":0},0,null,{"$f":"MAX(0,IF(Q18093>0,Q18093-('Výstupy modelu'!$H$10-'Výstupy modelu'!$H$9),0))","v":0},null,null,1865.4300000000003,1885.4300000000003,0,{"$f":"MAX(0,D18093-'Vstupní hodnoty'!$C$5)","v":0}]
[null,"2017-07-08T20:15:00",7,412.56,{"$f":"CEILING(IF(C18128-C18127=0,IF(H18127=0,I18127,IF(J18127>K18127,I18127,E18127)),'Výstupy modelu'!$C$7),1)","v":1664},0,0,{"$f":"IF(F18128=1,IF(G18128>'Zdrojová data'!$C$19,0,1),\"\")","v":""},1664,0,{"$f":"MIN(J18128,'Zdrojová data'!$C$17)","v":0},0,{"$f":"L18128/'Zdrojová data'!$C$16","v":0},{"$f":"M18128*'Zdrojová data'!$C$13","v":0},{"$f":"N18128*'Zdrojová data'!$C$14","v":0},0,{"$f":"IF(H18128=0,D18128-'Výstupy modelu'!$C$7,IF(P18128=1,J18128-K18128,0))","v":0},0,null,{"$f":"MAX(0,IF(Q18128>0,Q18128-('Výstupy modelu'!$H$10-'Výstupy modelu'!$H$9),0))","v":0},null,null,1865.4300000000003,1885.4300000000003,0,{"$f":"MAX(0,D18128-'Vstupní hodnoty'!$C$5)","v":0}]
[null,"2017-07-09T04:30:00",7,314.28000000000003,{"$f":"CEILING(IF(C18161-C18160=0,IF(H18160=0,I18160,IF(J18160>K18160,I18160,E18160)),'Výstupy modelu'!$C$7),1)","v":1664},0,0,{"$f":"IF(F18161=1,IF(G18161>'Zdrojová data'!$C$19,0,1),\"\")","v":""},1664,0,{"$f":"MIN(J18161,'Zdrojová data'!$C$17)","v":0},0,{"$f":"L18161/'Zdrojová data'!$C$16","v":0},{"$f":"M18161*'Zdrojová data'!$C$13","v":0},{"$f":"N18161*'Zdrojová data'!$C$14","v":0},0,{"$f":"IF(H18161=0,D18161-'Výstupy modelu'!$C$7,IF(P18161=1,J18161-K18161,0))","v":0},0,null,{"$f":"MAX(0,IF(Q18161>0,Q18161-('Výstupy modelu'!$H$10-'Výstupy modelu'!$H$9),0))","v":0},null,null,1865.4300000000003,1885.4300000000003,{"$f":"MAX(0,D18161-W18161)","v":0},{"$f":"MAX(0,D18161-'Vstupní hodnoty'!$C$5)","v":0}]
[null,"2017-07-09T09:00:00",7,368.28000000000003,{"$f":"CEILING(IF(C18179-C18178=0,IF(H18178=0,I18178,IF(J18178>K18178,I18178,E18178)),'Výstupy modelu'!$C$7),1)","v":1664},0,0,{"$f":"IF(F18179=1,IF(G18179>'Zdrojová data'!$C$19,0,1),\"\")","v":""},1664,0,{"$f":"MIN(J18179,'Zdrojová data'!$C$17)","v":0},0,{"$f":"L18179/'Zdrojová data'!$C$16","v":0},{"$f":"M18179*'Zdrojová data'!$C$13","v":0},{"$f":"N18179*'Zdrojová data'!$C$14","v":0},0,{"$f":"IF(H18179=0,D18179-'Výstupy modelu'!$C$7,IF(P18179=1,J18179-K18179,0))","v":0},0,null,{"$f":"MAX(0,IF(Q18179>0,Q18179-('Výstupy modelu'!$H$10-'Výstupy modelu'!$H$9),0))","v":0},null,null,1865.4300000000003,1885.4300000000003,0,{"$f":"MAX(0,D18179-'Vstupní hodnoty'!$C$5)","v":0}]
[null,"2017-07-09T21:45:00",7,455.76000000000005,{"$f":"CEILING(IF(C18230-C18229=0,IF(H18229=0,I18229,IF(J18229>K18229,I18229,E18229)),'Výstupy modelu'!$C$7),1)","v":1664},0,0,{"$f":"IF(F18230=1,IF(G18230>'Zdrojová data'!$C$19,0,1),\"\")","v":""},1664,0,{"$f":"MIN(J18230,'Zdrojová data'!$C$17)","v":0},0,{"$f":"L18230/'Zdrojová data'!$C$16","v":0},{"$f":"M18230*'Zdrojová data'!$C$13","v":0},{"$f":"N18230*'Zdrojová data'!$C$14","v":0},0,{"$f":"IF(H18230=0,D18230-'Výstupy modelu'!$C$7,IF(P18230=1,J18230-K18230,0))","v":0},0,null,{"$f":"MAX(0,IF(Q18230>0,Q18230-('Výstupy modelu'!$H$10-'Výstupy modelu'!$H$9),0))","v":0},null,null,1865.4300000000003,1885.4300000000003,0,{"$f":"MAX(0,D18230-'Vstupní hodnoty'!$C$5)","v":0}]
[null,"2017-07-10T02:00:00",7,631.80000000000007,{"$f":"CEILING(IF(C18247-C18246=0,IF(H18246=0,I18246,IF(J18246>K18246,I18246,E18246)),'Výstupy modelu'!$C$7),1)","v":1664},0,0,{"$f":"IF(F18247=1,IF(G18247>'Zdrojová data'!$C$19,0,1),\"\")","v":""},1664,0,{"$f":"MIN(J18247,'Zdrojová data'!$C$17)","v":0},0,{"$f":"L18247/'Zdrojová data'!$C$16","v":0},{"$f":"M18247*'Zdrojová data'!$C$13","v":0},{"$f":"N18247*'Zdrojová data'!$C$14","v":0},0,{"$f":"IF(H18247=0,D18247-'Výstupy modelu'!$C$7,IF(P18247=1,J18247-K18247,0))","v":0},0,null,{"$f":"MAX(0,IF(Q18247>0,Q18247-('Výstupy modelu'!$H$10-'Výstupy modelu'!$H$9),0))","v":0},null,null,1865.4300000000003,1885.4300000000003,0,{"$f":"MAX(0,D18247-'Vstupní hodnoty'!$C$5)","v":0}]
[null,"2017-07-10T10:45:00",7,1679.4,{"$f":"CEILING(IF(C18282-C18281=0,IF(H18281=0,I18281,IF(J18281>K18281,I18281,E18281)),'Výstupy modelu'!$C$7),1)","v":1664},1,0,{"$f":"IF(F18282=1,IF(G18282>'Zdrojová data'!$C$19,0,1),\"\")","v":1},1664,15.400000000000091,{"$f":"MIN(J18282,'Zdrojová data'!$C$17)","v":15.400000000000091},3.8500000000000227,{"$f":"L18282/'Zdrojová data'!$C$16","v":0.64166666666667049},{"$f":"M18282*'Zdrojová data'!$C$13","v":0.89298611111111637},{"$f":"N18282*'Zdrojová data'!$C$14","v":21.02973361805568},0,{"$f":"IF(H18282=0,D18282-'Výstupy modelu'!$C$7,IF(P18282=1,J18282-K18282,0))","v":0},0,null,{"$f":"MAX(0,IF(Q18282>0,Q18282-('Výstupy modelu'!$H$10-'Výstupy modelu'!$H$9),0))","v":0},null,null,1865.4300000000003,1885.4300000000003,0,{"$f":"MAX(0,D18282-'Vstupní hodnoty'!$C$5)","v":0}]
[null,"2017-07-11",7,575.64,{"$f":"CEILING(IF(C18335-C18334=0,IF(H18334=0,I18334,IF(J18334>K18334,I18334,E18334)),'Výstupy modelu'!$C$7),1)","v":1664},0,0,{"$f":"IF(F18335=1,IF(G18335>'Zdrojová data'!$C$19,0,1),\"\")","v":""},1664,0,{"$f":"MIN(J18335,'Zdrojová data'!$C$17)","v":0},0,{"$f":"L18335/'Zdrojová data'!$C$16","v":0},{"$f":"M18335*'Zdrojová data'!$C$13","v":0},{"$f":"N18335*'Zdrojová data'!$C$14","v":0},0,{"$f":"IF(H18335=0,D18335-'Výstupy modelu'!$C$7,IF(P18335=1,J18335-K18335,0))","v":0},0,null,{"$f":"MAX(0,IF(Q18335>0,Q18335-('Výstupy modelu'!$H$10-'Výstupy modelu'!$H$9),0))","v":0},null,null,1865.4300000000003,1885.4300000000003,0,{"$f":"MAX(0,D18335-'Vstupní hodnoty'!$C$5)","v":0}]
[null,"2017-07-11T03:30:00",7,664.2,{"$f":"CEILING(IF(C18349-C18348=0,IF(H18348=0,I18348,IF(J18348>K18348,I18348,E18348)),'Výstupy modelu'!$C$7),1)","v":1664},0,0,{"$f":"IF(F18349=1,IF(G18349>'Zdrojová data'!$C$19,0,1),\"\")","v":""},1664,0,{"$f":"MIN(J18349,'Zdrojová data'!$C$17)","v":0},0,{"$f":"L18349/'Zdrojová data'!$C$16","v":0},{"$f":"M18349*'Zdrojová data'!$C$13","v":0},{"$f":"N18349*'Zdrojová data'!$C$14","v":0},0,{"$f":"IF(H18349=0,D18349-'Výstupy modelu'!$C$7,IF(P18349=1,J18349-K18349,0))","v":0},0,null,{"$f":"MAX(0,IF(Q18349>0,Q18349-('Výstupy modelu'!$H$10-'Výstupy modelu'!$H$9),0))","v":0},null,null,1865.4300000000003,1885.4300000000003,0,{"$f":"MAX(0,D18349-'Vstupní hodnoty'!$C$5)","v":0}]
[null,"2017-07-11T12:15:00",7,1252.8000000000002,{"$f":"CEILING(IF(C18384-C18383=0,IF(H18383=0,I18383,IF(J18383>K18383,I18383,E18383)),'Výstupy modelu'!$C$7),1)","v":1664},0,0,{"$f":"IF(F18384=1,IF(G18384>'Zdrojová data'!$C$19,0,1),\"\")","v":""},1664,0,{"$f":"MIN(J18384,'Zdrojová data'!$C$17)","v":0},0,{"$f":"L18384/'Zdrojová data'!$C$16","v":0},{"$f":"M18384*'Zdrojová data'!$C$13","v":0},{"$f":"N18384*'Zdrojová data'!$C$14","v":0},0,{"$f":"IF(H18384=0,D18384-'Výstupy modelu'!$C$7,IF(P18384=1,J18384-K18384,0))","v":0},0,null,{"$f":"MAX(0,IF(Q18384>0,Q18384-('Výstupy modelu'!$H$10-'Výstupy modelu'!$H$9),0))","v":0},null,null,1865.4300000000003,1885.4300000000003,0,{"$f":"MAX(0,D18384-'Vstupní hodnoty'!$C$5)","v":0}]
[null,"2017-07-12T01:00:00",7,600.48,{"$f":"CEILING(IF(C18435-C18434=0,IF(H18434=0,I18434,IF(J18434>K18434,I18434,E18434)),'Výstupy modelu'!$C$7),1)","v":1664},0,0,{"$f":"IF(F18435=1,IF(G18435>'Zdrojová data'!$C$19,0,1),\"\")","v":""},1664,0,{"$f":"MIN(J18435,'Zdrojová data'!$C$17)","v":0},0,{"$f":"L18435/'Zdrojová data'!$C$16","v":0},{"$f":"M18435*'Zdrojová data'!$C$13","v":0},{"$f":"N18435*'Zdrojová data'!$C$14","v":0},0,{"$f":"IF(H18435=0,D18435-'Výstupy modelu'!$C$7,IF(P18435=1,J18435-K18435,0))","v":0},0,null,{"$f":"MAX(0,IF(Q18435>0,Q18435-('Výstupy modelu'!$H$10-'Výstupy modelu'!$H$9),0))","v":0},null,null,1865.4300000000003,1885.4300000000003,0,{"$f":"MAX(0,D18435-'Vstupní hodnoty'!$C$5)","v":0}]
[null,"2017-07-12T09:45:00",7,1604.88,{"$f":"CEILING(IF(C18470-C18469=0,IF(H18469=0,I18469,IF(J18469>K18469,I18469,E18469)),'Výstupy modelu'!$C$7),1)","v":1664},0,0,{"$f":"IF(F18470=1,IF(G18470>'Zdrojová data'!$C$19,0,1),\"\")","v":""},1664,0,{"$f":"MIN(J18470,'Zdrojová data'!$C$17)","v":0},0,{"$f":"L18470/'Zdrojová data'!$C$16","v":0},{"$f":"M18470*'Zdrojová data'!$C$13","v":0},{"$f":"N18470*'Zdrojová data'!$C$14","v":0},0,{"$f":"IF(H18470=0,D18470-'Výstupy modelu'!$C$7,IF(P18470=1,J18470-K18470,0))","v":0},0,null,{"$f":"MAX(0,IF(Q18470>0,Q18470-('Výstupy modelu'!$H$10-'Výstupy modelu'!$H$9),0))","v":0},null,null,1865.4300000000003,1885.4300000000003,0,{"$f":"MAX(0,D18470-'Vstupní hodnoty'!$C$5)","v":0}]
[null,"2017-07-12T11:15:00",7,1655.64,{"$f":"CEILING(IF(C18476-C18475=0,IF(H18475=0,I18475,IF(J18475>K18475,I18475,E18475)),'Výstupy modelu'!$C$7),1)","v":1664},0,0,{"$f":"IF(F18476=1,IF(G18476>'Zdrojová data'!$C$19,0,1),\"\")","v":""},1664,0,{"$f":"MIN(J18476,'Zdrojová data'!$C$17)","v":0},0,{"$f":"L18476/'Zdrojová data'!$C$16","v":0},{"$f":"M18476*'Zdrojová data'!$C$13","v":0},{"$f":"N18476*'Zdrojová data'!$C$14","v":0},0,{"$f":"IF(H18476=0,D18476-'Výstupy modelu'!$C$7,IF(P18476=1,J18476-K18476,0))","v":0},0,null,{"$f":"MAX(0,IF(Q18476>0,Q18476-('Výstupy modelu'!$H$10-'Výstupy modelu'!$H$9),0))","v":0},null,null,1865.4300000000003,1885.4300000000003,0,{"$f":"MAX(0,D18476-'Vstupní hodnoty'!$C$5)","v":0}]
[null,"2017-07-13T02:30:00",7,599.40000000000009,{"$f":"CEILING(IF(C18537-C18536=0,IF(H18536=0,I18536,IF(J18536>K18536,I18536,E18536)),'Výstupy modelu'!$C$7),1)","v":1664},0,0,{"$f":"IF(F18537=1,IF(G18537>'Zdrojová data'!$C$19,0,1),\"\")","v":""},1664,0,{"$f":"MIN(J18537,'Zdrojová data'!$C$17)","v":0},0,{"$f":"L18537/'Zdrojová data'!$C$16","v":0},{"$f":"M18537*'Zdrojová data'!$C$13","v":0},{"$f":"N18537*'Zdrojová data'!$C$14","v":0},0,{"$f":"IF(H18537=0,D18537-'Výstupy modelu'!$C$7,IF(P18537=1,J18537-K18537,0))","v":0},0,null,{"$f":"MAX(0,IF(Q18537>0,Q18537-('Výstupy modelu'!$H$10-'Výstupy modelu'!$H$9),0))","v":0},null,null,1865.4300000000003,1885.4300000000003,0,{"$f":"MAX(0,D18537-'Vstupní hodnoty'!$C$5)","v":0}]
[null,"2017-07-13T11:15:00",7,1572.48,{"$f":"CEILING(IF(C18572-C18571=0,IF(H18571=0,I18571,IF(J18571>K18571,I18571,E18571)),'Výstupy modelu'!$C$7),1)","v":1664},0,0,{"$f":"IF(F18572=1,IF(G18572>'Zdrojová data'!$C$19,0,1),\"\")","v":""},1664,0,{"$f":"MIN(J18572,'Zdrojová data'!$C$17)","v":0},0,{"$f":"L18572/'Zdrojová data'!$C$16","v":0},{"$f":"M18572*'Zdrojová data'!$C$13","v":0},{"$f":"N18572*'Zdrojová data'!$C$14","v":0},0,{"$f":"IF(H18572=0,D18572-'Výstupy modelu'!$C$7,IF(P18572=1,J18572-K18572,0))","v":0},0,null,{"$f":"MAX(0,IF(Q18572>0,Q18572-('Výstupy modelu'!$H$10-'Výstupy modelu'!$H$9),0))","v":0},null,null,1865.4300000000003,1885.4300000000003,0,{"$f":"MAX(0,D18572-'Vstupní hodnoty'!$C$5)","v":0}]
[null,"2017-07-13T15:30:00",7,1315.44,{"$f":"CEILING(IF(C18589-C18588=0,IF(H18588=0,I18588,IF(J18588>K18588,I18588,E18588)),'Výstupy modelu'!$C$7),1)","v":1664},0,0,{"$f":"IF(F18589=1,IF(G18589>'Zdrojová data'!$C$19,0,1),\"\")","v":""},1664,0,{"$f":"MIN(J18589,'Zdrojová data'!$C$17)","v":0},0,{"$f":"L18589/'Zdrojová data'!$C$16","v":0},{"$f":"M18589*'Zdrojová data'!$C$13","v":0},{"$f":"N18589*'Zdrojová data'!$C$14","v":0},0,{"$f":"IF(H18589=0,D18589-'Výstupy modelu'!$C$7,IF(P18589=1,J18589-K18589,0))","v":0},0,null,{"$f":"MAX(0,IF(Q18589>0,Q18589-('Výstupy modelu'!$H$10-'Výstupy modelu'!$H$9),0))","v":0},null,null,1865.4300000000003,1885.4300000000003,0,{"$f":"MAX(0,D18589-'Vstupní hodnoty'!$C$5)","v":0}]
[null,"2017-07-13T20:45:00",7,720.36,{"$f":"CEILING(IF(C18610-C18609=0,IF(H18609=0,I18609,IF(J18609>K18609,I18609,E18609)),'Výstupy modelu'!$C$7),1)","v":1664},0,0,{"$f":"IF(F18610=1,IF(G18610>'Zdrojová data'!$C$19,0,1),\"\")","v":""},1664,0,{"$f":"MIN(J18610,'Zdrojová data'!$C$17)","v":0},0,{"$f":"L18610/'Zdrojová data'!$C$16","v":0},{"$f":"M18610*'Zdrojová data'!$C$13","v":0},{"$f":"N18610*'Zdrojová data'!$C$14","v":0},0,{"$f":"IF(H18610=0,D18610-'Výstupy modelu'!$C$7,IF(P18610=1,J18610-K18610,0))","v":0},0,null,{"$f":"MAX(0,IF(Q18610>0,Q18610-('Výstupy modelu'!$H$10-'Výstupy modelu'!$H$9),0))","v":0},null,null,1865.4300000000003,1885.4300000000003,0,{"$f":"MAX(0,D18610-'Vstupní hodnoty'!$C$5)","v":0}]
[null,"2017-07-14T12:45:00",7,1394.2800000000002,{"$f":"CEILING(IF(C18674-C18673=0,IF(H18673=0,I18673,IF(J18673>K18673,I18673,E18673)),'Výstupy modelu'!$C$7),1)","v":1664},0,0,{"$f":"IF(F18674=1,IF(G18674>'Zdrojová data'!$C$19,0,1),\"\")","v":""},1664,0,{"$f":"MIN(J18674,'Zdrojová data'!$C$17)","v":0},0,{"$f":"L18674/'Zdrojová data'!$C$16","v":0},{"$f":"M18674*'Zdrojová data'!$C$13","v":0},{"$f":"N18674*'Zdrojová data'!$C$14","v":0},0,{"$f":"IF(H18674=0,D18674-'Výstupy modelu'!$C$7,IF(P18674=1,J18674-K18674,0))","v":0},0,null,{"$f":"MAX(0,IF(Q18674>0,Q18674-('Výstupy modelu'!$H$10-'Výstupy modelu'!$H$9),0))","v":0},null,null,1865.4300000000003,1885.4300000000003,0,{"$f":"MAX(0,D18674-'Vstupní hodnoty'!$C$5)","v":0}]
[null,"2017-07-14T17:00:00",7,421.20000000000005,{"$f":"CEILING(IF(C18691-C18690=0,IF(H18690=0,I18690,IF(J18690>K18690,I18690,E18690)),'Výstupy modelu'!$C$7),1)","v":1664},0,0,{"$f":"IF(F18691=1,IF(G18691>'Zdrojová data'!$C$19,0,1),\"\")","v":""},1664,0,{"$f":"MIN(J18691,'Zdrojová data'!$C$17)","v":0},0,{"$f":"L18691/'Zdrojová data'!$C$16","v":0},{"$f":"M18691*'Zdrojová data'!$C$13","v":0},{"$f":"N18691*'Zdrojová data'!$C$14","v":0},0,{"$f":"IF(H18691=0,D18691-'Výstupy modelu'!$C$7,IF(P18691=1,J18691-K18691,0))","v":0},0,null,{"$f":"MAX(0,IF(Q18691>0,Q18691-('Výstupy modelu'!$H$10-'Výstupy modelu'!$H$9),0))","v":0},null,null,1865.4300000000003,1885.4300000000003,0,{"$f":"MAX(0,D18691-'Vstupní hodnoty'!$C$5)","v":0}]
[null,"2017-07-15T01:45:00",7,254.88000000000002,{"$f":"CEILING(IF(C18726-C18725=0,IF(H18725=0,I18725,IF(J18725>K18725,I18725,E18725)),'Výstupy modelu'!$C$7),1)","v":1664},0,0,{"$f":"IF(F18726=1,IF(G18726>'Zdrojová data'!$C$19,0,1),\"\")","v":""},1664,0,{"$f":"MIN(J18726,'Zdrojová data'!$C$17)","v":0},0,{"$f":"L18726/'Zdrojová data'!$C$16","v":0},{"$f":"M18726*'Zdrojová data'!$C$13","v":0},{"$f":"N18726*'Zdrojová data'!$C$14","v":0},0,{"$f":"IF(H18726=0,D18726-'Výstupy modelu'!$C$7,IF(P18726=1,J18726-K18726,0))","v":0},0,null,{"$f":"MAX(0,IF(Q18726>0,Q18726-('Výstupy modelu'!$H$10-'Výstupy modelu'!$H$9),0))","v":0},null,null,1865.4300000000003,1885.4300000000003,0,{"$f":"MAX(0,D18726-'Vstupní hodnoty'!$C$5)","v":0}]
[null,"2017-07-15T06:00:00",7,325.08000000000004,{"$f":"CEILING(IF(C18743-C18742=0,IF(H18742=0,I18742,IF(J18742>K18742,I18742,E18742)),'Výstupy modelu'!$C$7),1)","v":1664},0,0,{"$f":"IF(F18743=1,IF(G18743>'Zdrojová data'!$C$19,0,1),\"\")","v":""},1664,0,{"$f":"MIN(J18743,'Zdrojová data'!$C$17)","v":0},0,{"$f":"L18743/'Zdrojová data'!$C$16","v":0},{"$f":"M18743*'Zdrojová data'!$C$13","v":0},{"$f":"N18743*'Zdrojová data'!$C$14","v":0},0,{"$f":"IF(H18743=0,D18743-'Výstupy modelu'!$C$7,IF(P18743=1,J18743-K18743,0))","v":0},0,null,{"$f":"MAX(0,IF(Q18743>0,Q18743-('Výstupy modelu'!$H$10-'Výstupy modelu'!$H$9),0))","v":0},null,null,1865.4300000000003,1885.4300000000003,0,{"$f":"MAX(0,D18743-'Vstupní hodnoty'!$C$5)","v":0}]
[null,"2017-07-15T15:15:00",7,268.92,{"$f":"CEILING(IF(C18780-C18779=0,IF(H18779=0,I18779,IF(J18779>K18779,I18779,E18779)),'Výstupy modelu'!$C$7),1)","v":1664},0,0,{"$f":"IF(F18780=1,IF(G18780>'Zdrojová data'!$C$19,0,1),\"\")","v":""},1664,0,{"$f":"MIN(J18780,'Zdrojová data'!$C$17)","v":0},0,{"$f":"L18780/'Zdrojová data'!$C$16","v":0},{"$f":"M18780*'Zdrojová data'!$C$13","v":0},{"$f":"N18780*'Zdrojová data'!$C$14","v":0},0,{"$f":"IF(H18780=0,D18780-'Výstupy modelu'!$C$7,IF(P18780=1,J18780-K18780,0))","v":0},0,null,{"$f":"MAX(0,IF(Q18780>0,Q18780-('Výstupy modelu'!$H$10-'Výstupy modelu'!$H$9),0))","v":0},null,null,1865.4300000000003,1885.4300000000003,0,{"$f":"MAX(0,D18780-'Vstupní hodnoty'!$C$5)","v":0}]
[null,"2017-07-16T03:15:00",7,243.00000000000003,{"$f":"CEILING(IF(C18828-C18827=0,IF(H18827=0,I18827,IF(J18827>K18827,I18827,E18827)),'Výstupy modelu'!$C$7),1)","v":1664},0,0,{"$f":"IF(F18828=1,IF(G18828>'Zdrojová data'!$C$19,0,1),\"\")","v":""},1664,0,{"$f":"MIN(J18828,'Zdrojová data'!$C$17)","v":0},0,{"$f":"L18828/'Zdrojová data'!$C$16","v":0},{"$f":"M18828*'Zdrojová data'!$C$13","v":0},{"$f":"N18828*'Zdrojová data'!$C$14","v":0},0,{"$f":"IF(H18828=0,D18828-'Výstupy modelu'!$C$7,IF(P18828=1,J18828-K18828,0))","v":0},0,null,{"$f":"MAX(0,IF(Q18828>0,Q18828-('Výstupy modelu'!$H$10-'Výstupy modelu'!$H$9),0))","v":0},null,null,1865.4300000000003,1885.4300000000003,0,{"$f":"MAX(0,D18828-'Vstupní hodnoty'!$C$5)","v":0}]
[null,"2017-07-16T07:30:00",7,244.08,{"$f":"CEILING(IF(C18845-C18844=0,IF(H18844=0,I18844,IF(J18844>K18844,I18844,E18844)),'Výstupy modelu'!$C$7),1)","v":1664},0,0,{"$f":"IF(F18845=1,IF(G18845>'Zdrojová data'!$C$19,0,1),\"\")","v":""},1664,0,{"$f":"MIN(J18845,'Zdrojová data'!$C$17)","v":0},0,{"$f":"L18845/'Zdrojová data'!$C$16","v":0},{"$f":"M18845*'Zdrojová data'!$C$13","v":0},{"$f":"N18845*'Zdrojová data'!$C$14","v":0},0,{"$f":"IF(H18845=0,D18845-'Výstupy modelu'!$C$7,IF(P18845=1,J18845-K18845,0))","v":0},0,null,{"$f":"MAX(0,IF(Q18845>0,Q18845-('Výstupy modelu'!$H$10-'Výstupy modelu'!$H$9),0))","v":0},null,null,1865.4300000000003,1885.4300000000003,0,{"$f":"MAX(0,D18845-'Vstupní hodnoty'!$C$5)","v":0}]
[null,"2017-07-16T16:15:00",7,355.32000000000005,{"$f":"CEILING(IF(C18880-C18879=0,IF(H18879=0,I18879,IF(J18879>K18879,I18879,E18879)),'Výstupy modelu'!$C$7),1)","v":1664},0,0,{"$f":"IF(F18880=1,IF(G18880>'Zdrojová data'!$C$19,0,1),\"\")","v":""},1664,0,{"$f":"MIN(J18880,'Zdrojová data'!$C$17)","v":0},0,{"$f":"L18880/'Zdrojová data'!$C$16","v":0},{"$f":"M18880*'Zdrojová data'!$C$13","v":0},{"$f":"N18880*'Zdrojová data'!$C$14","v":0},0,{"$f":"IF(H18880=0,D18880-'Výstupy modelu'!$C$7,IF(P18880=1,J18880-K18880,0))","v":0},0,null,{"$f":"MAX(0,IF(Q18880>0,Q18880-('Výstupy modelu'!$H$10-'Výstupy modelu'!$H$9),0))","v":0},null,null,1865.4300000000003,1885.4300000000003,0,{"$f":"MAX(0,D18880-'Vstupní hodnoty'!$C$5)","v":0}]
[null,"2017-07-17T05:00:00",7,565.92000000000007,{"$f":"CEILING(IF(C18931-C18930=0,IF(H18930=0,I18930,IF(J18930>K18930,I18930,E18930)),'Výstupy modelu'!$C$7),1)","v":1664},0,0,{"$f":"IF(F18931=1,IF(G18931>'Zdrojová data'!$C$19,0,1),\"\")","v":""},1664,0,{"$f":"MIN(J18931,'Zdrojová data'!$C$17)","v":0},0,{"$f":"L18931/'Zdrojová data'!$C$16","v":0},{"$f":"M18931*'Zdrojová data'!$C$13","v":0},{"$f":"N18931*'Zdrojová data'!$C$14","v":0},0,{"$f":"IF(H18931=0,D18931-'Výstupy modelu'!$C$7,IF(P18931=1,J18931-K18931,0))","v":0},0,null,{"$f":"MAX(0,IF(Q18931>0,Q18931-('Výstupy modelu'!$H$10-'Výstupy modelu'!$H$9),0))","v":0},null,null,1865.4300000000003,1885.4300000000003,0,{"$f":"MAX(0,D18931-'Vstupní hodnoty'!$C$5)","v":0}]
[null,"2017-07-17T10:45:00",7,1531.44,{"$f":"CEILING(IF(C18954-C18953=0,IF(H18953=0,I18953,IF(J18953>K18953,I18953,E18953)),'Výstupy modelu'!$C$7),1)","v":1664},0,0,{"$f":"IF(F18954=1,IF(G18954>'Zdrojová data'!$C$19,0,1),\"\")","v":""},1664,0,{"$f":"MIN(J18954,'Zdrojová data'!$C$17)","v":0},0,{"$f":"L18954/'Zdrojová data'!$C$16","v":0},{"$f":"M18954*'Zdrojová data'!$C$13","v":0},{"$f":"N18954*'Zdrojová data'!$C$14","v":0},0,{"$f":"IF(H18954=0,D18954-'Výstupy modelu'!$C$7,IF(P18954=1,J18954-K18954,0))","v":0},0,null,{"$f":"MAX(0,IF(Q18954>0,Q18954-('Výstupy modelu'!$H$10-'Výstupy modelu'!$H$9),0))","v":0},null,null,1865.4300000000003,1885.4300000000003,0,{"$f":"MAX(0,D18954-'Vstupní hodnoty'!$C$5)","v":0}]
[null,"2017-07-17T17:45:00",7,992.5200000000001,{"$f":"CEILING(IF(C18982-C18981=0,IF(H18981=0,I18981,IF(J18981>K18981,I18981,E18981)),'Výstupy modelu'!$C$7),1)","v":1664},0,0,{"$f":"IF(F18982=1,IF(G18982>'Zdrojová data'!$C$19,0,1),\"\")","v":""},1664,0,{"$f":"MIN(J18982,'Zdrojová data'!$C$17)","v":0},0,{"$f":"L18982/'Zdrojová data'!$C$16","v":0},{"$f":"M18982*'Zdrojová data'!$C$13","v":0},{"$f":"N18982*'Zdrojová data'!$C$14","v":0},0,{"$f":"IF(H18982=0,D18982-'Výstupy modelu'!$C$7,IF(P18982=1,J18982-K18982,0))","v":0},0,null,{"$f":"MAX(0,IF(Q18982>0,Q18982-('Výstupy modelu'!$H$10-'Výstupy modelu'!$H$9),0))","v":0},null,null,1865.4300000000003,1885.4300000000003,0,{"$f":"MAX(0,D18982-'Vstupní hodnoty'!$C$5)","v":0}]
[null,"2017-07-18T06:30:00",7,1469.88,{"$f":"CEILING(IF(C19033-C19032=0,IF(H19032=0,I19032,IF(J19032>K19032,I19032,E19032)),'Výstupy modelu'!$C$7),1)","v":1664},0,0,{"$f":"IF(F19033=1,IF(G19033>'Zdrojová data'!$C$19,0,1),\"\")","v":""},1664,0,{"$f":"MIN(J19033,'Zdrojová data'!$C$17)","v":0},0,{"$f":"L19033/'Zdrojová data'!$C$16","v":0},{"$f":"M19033*'Zdrojová data'!$C$13","v":0},{"$f":"N19033*'Zdrojová data'!$C$14","v":0},0,{"$f":"IF(H19033=0,D19033-'Výstupy modelu'!$C$7,IF(P19033=1,J19033-K19033,0))","v":0},0,null,{"$f":"MAX(0,IF(Q19033>0,Q19033-('Výstupy modelu'!$H$10-'Výstupy modelu'!$H$9),0))","v":0},null,null,1865.4300000000003,1885.4300000000003,0,{"$f":"MAX(0,D19033-'Vstupní hodnoty'!$C$5)","v":0}]
[null,"2017-07-18T10:45:00",7,1651.3200000000002,{"$f":"CEILING(IF(C19050-C19049=0,IF(H19049=0,I19049,IF(J19049>K19049,I19049,E19049)),'Výstupy modelu'!$C$7),1)","v":1664},0,0,{"$f":"IF(F19050=1,IF(G19050>'Zdrojová data'!$C$19,0,1),\"\")","v":""},1664,0,{"$f":"MIN(J19050,'Zdrojová data'!$C$17)","v":0},0,{"$f":"L19050/'Zdrojová data'!$C$16","v":0},{"$f":"M19050*'Zdrojová data'!$C$13","v":0},{"$f":"N19050*'Zdrojová data'!$C$14","v":0},0,{"$f":"IF(H19050=0,D19050-'Výstupy modelu'!$C$7,IF(P19050=1,J19050-K19050,0))","v":0},0,null,{"$f":"MAX(0,IF(Q19050>0,Q19050-('Výstupy modelu'!$H$10-'Výstupy modelu'!$H$9),0))","v":0},null,null,1865.4300000000003,1885.4300000000003,0,{"$f":"MAX(0,D19050-'Vstupní hodnoty'!$C$5)","v":0}]
[null,"2017-07-18T19:30:00",7,1021.6800000000001,{"$f":"CEILING(IF(C19085-C19084=0,IF(H19084=0,I19084,IF(J19084>K19084,I19084,E19084)),'Výstupy modelu'!$C$7),1)","v":1664},0,0,{"$f":"IF(F19085=1,IF(G19085>'Zdrojová data'!$C$19,0,1),\"\")","v":""},1664,0,{"$f":"MIN(J19085,'Zdrojová data'!$C$17)","v":0},0,{"$f":"L19085/'Zdrojová data'!$C$16","v":0},{"$f":"M19085*'Zdrojová data'!$C$13","v":0},{"$f":"N19085*'Zdrojová data'!$C$14","v":0},0,{"$f":"IF(H19085=0,D19085-'Výstupy modelu'!$C$7,IF(P19085=1,J19085-K19085,0))","v":0},0,null,{"$f":"MAX(0,IF(Q19085>0,Q19085-('Výstupy modelu'!$H$10-'Výstupy modelu'!$H$9),0))","v":0},null,null,1865.4300000000003,1885.4300000000003,0,{"$f":"MAX(0,D19085-'Vstupní hodnoty'!$C$5)","v":0}]
[null,"2017-07-19T06:15:00",7,1524.96,{"$f":"CEILING(IF(C19128-C19127=0,IF(H19127=0,I19127,IF(J19127>K19127,I19127,E19127)),'Výstupy modelu'!$C$7),1)","v":1664},0,0,{"$f":"IF(F19128=1,IF(G19128>'Zdrojová data'!$C$19,0,1),\"\")","v":""},1664,0,{"$f":"MIN(J19128,'Zdrojová data'!$C$17)","v":0},0,{"$f":"L19128/'Zdrojová data'!$C$16","v":0},{"$f":"M19128*'Zdrojová data'!$C$13","v":0},{"$f":"N19128*'Zdrojová data'!$C$14","v":0},0,{"$f":"IF(H19128=0,D19128-'Výstupy modelu'!$C$7,IF(P19128=1,J19128-K19128,0))","v":0},0,null,{"$f":"MAX(0,IF(Q19128>0,Q19128-('Výstupy modelu'!$H$10-'Výstupy modelu'!$H$9),0))","v":0},null,null,1865.4300000000003,1885.4300000000003,0,{"$f":"MAX(0,D19128-'Vstupní hodnoty'!$C$5)","v":0}]
[null,"2017-07-19T16:45:00",7,1176.1200000000001,{"$f":"CEILING(IF(C19170-C19169=0,IF(H19169=0,I19169,IF(J19169>K19169,I19169,E19169)),'Výstupy modelu'!$C$7),1)","v":1664},0,0,{"$f":"IF(F19170=1,IF(G19170>'Zdrojová data'!$C$19,0,1),\"\")","v":""},1664,0,{"$f":"MIN(J19170,'Zdrojová data'!$C$17)","v":0},0,{"$f":"L19170/'Zdrojová data'!$C$16","v":0},{"$f":"M19170*'Zdrojová data'!$C$13","v":0},{"$f":"N19170*'Zdrojová data'!$C$14","v":0},0,{"$f":"IF(H19170=0,D19170-'Výstupy modelu'!$C$7,IF(P19170=1,J19170-K19170,0))","v":0},0,null,{"$f":"MAX(0,IF(Q19170>0,Q19170-('Výstupy modelu'!$H$10-'Výstupy modelu'!$H$9),0))","v":0},null,null,1865.4300000000003,1885.4300000000003,0,{"$f":"MAX(0,D19170-'Vstupní hodnoty'!$C$5)","v":0}]
[null,"2017-07-19T21:00:00",7,988.2,{"$f":"CEILING(IF(C19187-C19186=0,IF(H19186=0,I19186,IF(J19186>K19186,I19186,E19186)),'Výstupy modelu'!$C$7),1)","v":1664},0,0,{"$f":"IF(F19187=1,IF(G19187>'Zdrojová data'!$C$19,0,1),\"\")","v":""},1664,0,{"$f":"MIN(J19187,'Zdrojová data'!$C$17)","v":0},0,{"$f":"L19187/'Zdrojová data'!$C$16","v":0},{"$f":"M19187*'Zdrojová data'!$C$13","v":0},{"$f":"N19187*'Zdrojová data'!$C$14","v":0},0,{"$f":"IF(H19187=0,D19187-'Výstupy modelu'!$C$7,IF(P19187=1,J19187-K19187,0))","v":0},0,null,{"$f":"MAX(0,IF(Q19187>0,Q19187-('Výstupy modelu'!$H$10-'Výstupy modelu'!$H$9),0))","v":0},null,null,1865.4300000000003,1885.4300000000003,0,{"$f":"MAX(0,D19187-'Vstupní hodnoty'!$C$5)","v":0}]
[null,"2017-07-20T09:45:00",7,1705.3200000000002,{"$f":"CEILING(IF(C19238-C19237=0,IF(H19237=0,I19237,IF(J19237>K19237,I19237,E19237)),'Výstupy modelu'!$C$7),1)","v":1664},1,93,{"$f":"IF(F19238=1,IF(G19238>'Zdrojová data'!$C$19,0,1),\"\")","v":1},1664,41.320000000000164,{"$f":"MIN(J19238,'Zdrojová data'!$C$17)","v":41.320000000000164},10.330000000000041,{"$f":"L19238/'Zdrojová data'!$C$16","v":1.7216666666666736},{"$f":"M19238*'Zdrojová data'!$C$13","v":2.3959861111111205},{"$f":"N19238*'Zdrojová data'!$C$14","v":56.425233318055781},0,{"$f":"IF(H19238=0,D19238-'Výstupy modelu'!$C$7,IF(P19238=1,J19238-K19238,0))","v":0},0,null,{"$f":"MAX(0,IF(Q19238>0,Q19238-('Výstupy modelu'!$H$10-'Výstupy modelu'!$H$9),0))","v":0},null,null,1865.4300000000003,1885.4300000000003,0,{"$f":"MAX(0,D19238-'Vstupní hodnoty'!$C$5)","v":0}]
[null,"2017-07-20T18:30:00",7,989.28000000000009,{"$f":"CEILING(IF(C19273-C19272=0,IF(H19272=0,I19272,IF(J19272>K19272,I19272,E19272)),'Výstupy modelu'!$C$7),1)","v":1664},0,0,{"$f":"IF(F19273=1,IF(G19273>'Zdrojová data'!$C$19,0,1),\"\")","v":""},1664,0,{"$f":"MIN(J19273,'Zdrojová data'!$C$17)","v":0},0,{"$f":"L19273/'Zdrojová data'!$C$16","v":0},{"$f":"M19273*'Zdrojová data'!$C$13","v":0},{"$f":"N19273*'Zdrojová data'!$C$14","v":0},0,{"$f":"IF(H19273=0,D19273-'Výstupy modelu'!$C$7,IF(P19273=1,J19273-K19273,0))","v":0},0,null,{"$f":"MAX(0,IF(Q19273>0,Q19273-('Výstupy modelu'!$H$10-'Výstupy modelu'!$H$9),0))","v":0},null,null,1865.4300000000003,1885.4300000000003,0,{"$f":"MAX(0,D19273-'Vstupní hodnoty'!$C$5)","v":0}]
[null,"2017-07-21T01:45:00",7,541.08000000000004,{"$f":"CEILING(IF(C19302-C19301=0,IF(H19301=0,I19301,IF(J19301>K19301,I19301,E19301)),'Výstupy modelu'!$C$7),1)","v":1664},0,0,{"$f":"IF(F19302=1,IF(G19302>'Zdrojová data'!$C$19,0,1),\"\")","v":""},1664,0,{"$f":"MIN(J19302,'Zdrojová data'!$C$17)","v":0},0,{"$f":"L19302/'Zdrojová data'!$C$16","v":0},{"$f":"M19302*'Zdrojová data'!$C$13","v":0},{"$f":"N19302*'Zdrojová data'!$C$14","v":0},0,{"$f":"IF(H19302=0,D19302-'Výstupy modelu'!$C$7,IF(P19302=1,J19302-K19302,0))","v":0},0,null,{"$f":"MAX(0,IF(Q19302>0,Q19302-('Výstupy modelu'!$H$10-'Výstupy modelu'!$H$9),0))","v":0},null,null,1865.4300000000003,1885.4300000000003,0,{"$f":"MAX(0,D19302-'Vstupní hodnoty'!$C$5)","v":0}]
[null,"2017-07-21T07:15:00",7,1513.0800000000002,{"$f":"CEILING(IF(C19324-C19323=0,IF(H19323=0,I19323,IF(J19323>K19323,I19323,E19323)),'Výstupy modelu'!$C$7),1)","v":1664},0,0,{"$f":"IF(F19324=1,IF(G19324>'Zdrojová data'!$C$19,0,1),\"\")","v":""},1664,0,{"$f":"MIN(J19324,'Zdrojová data'!$C$17)","v":0},0,{"$f":"L19324/'Zdrojová data'!$C$16","v":0},{"$f":"M19324*'Zdrojová data'!$C$13","v":0},{"$f":"N19324*'Zdrojová data'!$C$14","v":0},0,{"$f":"IF(H19324=0,D19324-'Výstupy modelu'!$C$7,IF(P19324=1,J19324-K19324,0))","v":0},0,null,{"$f":"MAX(0,IF(Q19324>0,Q19324-('Výstupy modelu'!$H$10-'Výstupy modelu'!$H$9),0))","v":0},null,null,1865.4300000000003,1885.4300000000003,0,{"$f":"MAX(0,D19324-'Vstupní hodnoty'!$C$5)","v":0}]
[null,"2017-07-21T20:00:00",7,932.04000000000008,{"$f":"CEILING(IF(C19375-C19374=0,IF(H19374=0,I19374,IF(J19374>K19374,I19374,E19374)),'Výstupy modelu'!$C$7),1)","v":1664},0,0,{"$f":"IF(F19375=1,IF(G19375>'Zdrojová data'!$C$19,0,1),\"\")","v":""},1664,0,{"$f":"MIN(J19375,'Zdrojová data'!$C$17)","v":0},0,{"$f":"L19375/'Zdrojová data'!$C$16","v":0},{"$f":"M19375*'Zdrojová data'!$C$13","v":0},{"$f":"N19375*'Zdrojová data'!$C$14","v":0},0,{"$f":"IF(H19375=0,D19375-'Výstupy modelu'!$C$7,IF(P19375=1,J19375-K19375,0))","v":0},0,null,{"$f":"MAX(0,IF(Q19375>0,Q19375-('Výstupy modelu'!$H$10-'Výstupy modelu'!$H$9),0))","v":0},null,null,1865.4300000000003,1885.4300000000003,0,{"$f":"MAX(0,D19375-'Vstupní hodnoty'!$C$5)","v":0}]
[null,"2017-07-22T00:15:00",7,527.04000000000008,{"$f":"CEILING(IF(C19392-C19391=0,IF(H19391=0,I19391,IF(J19391>K19391,I19391,E19391)),'Výstupy modelu'!$C$7),1)","v":1664},0,0,{"$f":"IF(F19392=1,IF(G19392>'Zdrojová data'!$C$19,0,1),\"\")","v":""},1664,0,{"$f":"MIN(J19392,'Zdrojová data'!$C$17)","v":0},0,{"$f":"L19392/'Zdrojová data'!$C$16","v":0},{"$f":"M19392*'Zdrojová data'!$C$13","v":0},{"$f":"N19392*'Zdrojová data'!$C$14","v":0},0,{"$f":"IF(H19392=0,D19392-'Výstupy modelu'!$C$7,IF(P19392=1,J19392-K19392,0))","v":0},0,null,{"$f":"MAX(0,IF(Q19392>0,Q19392-('Výstupy modelu'!$H$10-'Výstupy modelu'!$H$9),0))","v":0},null,null,1865.4300000000003,1885.4300000000003,0,{"$f":"MAX(0,D19392-'Vstupní hodnoty'!$C$5)","v":0}]
[null,"2017-07-22T09:00:00",7,854.28000000000009,{"$f":"CEILING(IF(C19427-C19426=0,IF(H19426=0,I19426,IF(J19426>K19426,I19426,E19426)),'Výstupy modelu'!$C$7),1)","v":1664},0,0,{"$f":"IF(F19427=1,IF(G19427>'Zdrojová data'!$C$19,0,1),\"\")","v":""},1664,0,{"$f":"MIN(J19427,'Zdrojová data'!$C$17)","v":0},0,{"$f":"L19427/'Zdrojová data'!$C$16","v":0},{"$f":"M19427*'Zdrojová data'!$C$13","v":0},{"$f":"N19427*'Zdrojová data'!$C$14","v":0},0,{"$f":"IF(H19427=0,D19427-'Výstupy modelu'!$C$7,IF(P19427=1,J19427-K19427,0))","v":0},0,null,{"$f":"MAX(0,IF(Q19427>0,Q19427-('Výstupy modelu'!$H$10-'Výstupy modelu'!$H$9),0))","v":0},null,null,1865.4300000000003,1885.4300000000003,0,{"$f":"MAX(0,D19427-'Vstupní hodnoty'!$C$5)","v":0}]
[null,"2017-07-22T21:15:00",7,475.20000000000005,{"$f":"CEILING(IF(C19476-C19475=0,IF(H19475=0,I19475,IF(J19475>K19475,I19475,E19475)),'Výstupy modelu'!$C$7),1)","v":1664},0,0,{"$f":"IF(F19476=1,IF(G19476>'Zdrojová data'!$C$19,0,1),\"\")","v":""},1664,0,{"$f":"MIN(J19476,'Zdrojová data'!$C$17)","v":0},0,{"$f":"L19476/'Zdrojová data'!$C$16","v":0},{"$f":"M19476*'Zdrojová data'!$C$13","v":0},{"$f":"N19476*'Zdrojová data'!$C$14","v":0},0,{"$f":"IF(H19476=0,D19476-'Výstupy modelu'!$C$7,IF(P19476=1,J19476-K19476,0))","v":0},0,null,{"$f":"MAX(0,IF(Q19476>0,Q19476-('Výstupy modelu'!$H$10-'Výstupy modelu'!$H$9),0))","v":0},null,null,1865.4300000000003,1885.4300000000003,0,{"$f":"MAX(0,D19476-'Vstupní hodnoty'!$C$5)","v":0}]
[null,"2017-07-23T01:45:00",7,381.24,{"$f":"CEILING(IF(C19494-C19493=0,IF(H19493=0,I19493,IF(J19493>K19493,I19493,E19493)),'Výstupy modelu'!$C$7),1)","v":1664},0,0,{"$f":"IF(F19494=1,IF(G19494>'Zdrojová data'!$C$19,0,1),\"\")","v":""},1664,0,{"$f":"MIN(J19494,'Zdrojová data'!$C$17)","v":0},0,{"$f":"L19494/'Zdrojová data'!$C$16","v":0},{"$f":"M19494*'Zdrojová data'!$C$13","v":0},{"$f":"N19494*'Zdrojová data'!$C$14","v":0},0,{"$f":"IF(H19494=0,D19494-'Výstupy modelu'!$C$7,IF(P19494=1,J19494-K19494,0))","v":0},0,null,{"$f":"MAX(0,IF(Q19494>0,Q19494-('Výstupy modelu'!$H$10-'Výstupy modelu'!$H$9),0))","v":0},null,null,1865.4300000000003,1885.4300000000003,0,{"$f":"MAX(0,D19494-'Vstupní hodnoty'!$C$5)","v":0}]
[null,"2017-07-23T10:30:00",7,383.40000000000003,{"$f":"CEILING(IF(C19529-C19528=0,IF(H19528=0,I19528,IF(J19528>K19528,I19528,E19528)),'Výstupy modelu'!$C$7),1)","v":1664},0,0,{"$f":"IF(F19529=1,IF(G19529>'Zdrojová data'!$C$19,0,1),\"\")","v":""},1664,0,{"$f":"MIN(J19529,'Zdrojová data'!$C$17)","v":0},0,{"$f":"L19529/'Zdrojová data'!$C$16","v":0},{"$f":"M19529*'Zdrojová data'!$C$13","v":0},{"$f":"N19529*'Zdrojová data'!$C$14","v":0},0,{"$f":"IF(H19529=0,D19529-'Výstupy modelu'!$C$7,IF(P19529=1,J19529-K19529,0))","v":0},0,null,{"$f":"MAX(0,IF(Q19529>0,Q19529-('Výstupy modelu'!$H$10-'Výstupy modelu'!$H$9),0))","v":0},null,null,1865.4300000000003,1885.4300000000003,0,{"$f":"MAX(0,D19529-'Vstupní hodnoty'!$C$5)","v":0}]
[null,"2017-07-23T23:15:00",7,504.36,{"$f":"CEILING(IF(C19580-C19579=0,IF(H19579=0,I19579,IF(J19579>K19579,I19579,E19579)),'Výstupy modelu'!$C$7),1)","v":1664},0,0,{"$f":"IF(F19580=1,IF(G19580>'Zdrojová data'!$C$19,0,1),\"\")","v":""},1664,0,{"$f":"MIN(J19580,'Zdrojová data'!$C$17)","v":0},0,{"$f":"L19580/'Zdrojová data'!$C$16","v":0},{"$f":"M19580*'Zdrojová data'!$C$13","v":0},{"$f":"N19580*'Zdrojová data'!$C$14","v":0},0,{"$f":"IF(H19580=0,D19580-'Výstupy modelu'!$C$7,IF(P19580=1,J19580-K19580,0))","v":0},0,null,{"$f":"MAX(0,IF(Q19580>0,Q19580-('Výstupy modelu'!$H$10-'Výstupy modelu'!$H$9),0))","v":0},null,null,1865.4300000000003,1885.4300000000003,0,{"$f":"MAX(0,D19580-'Vstupní hodnoty'!$C$5)","v":0}]
[null,"2017-07-24T08:00:00",7,1286.28,{"$f":"CEILING(IF(C19615-C19614=0,IF(H19614=0,I19614,IF(J19614>K19614,I19614,E19614)),'Výstupy modelu'!$C$7),1)","v":1664},0,0,{"$f":"IF(F19615=1,IF(G19615>'Zdrojová data'!$C$19,0,1),\"\")","v":""},1664,0,{"$f":"MIN(J19615,'Zdrojová data'!$C$17)","v":0},0,{"$f":"L19615/'Zdrojová data'!$C$16","v":0},{"$f":"M19615*'Zdrojová data'!$C$13","v":0},{"$f":"N19615*'Zdrojová data'!$C$14","v":0},0,{"$f":"IF(H19615=0,D19615-'Výstupy modelu'!$C$7,IF(P19615=1,J19615-K19615,0))","v":0},0,null,{"$f":"MAX(0,IF(Q19615>0,Q19615-('Výstupy modelu'!$H$10-'Výstupy modelu'!$H$9),0))","v":0},null,null,1865.4300000000003,1885.4300000000003,0,{"$f":"MAX(0,D19615-'Vstupní hodnoty'!$C$5)","v":0}]
[null,"2017-07-24T16:45:00",7,1078.92,{"$f":"CEILING(IF(C19650-C19649=0,IF(H19649=0,I19649,IF(J19649>K19649,I19649,E19649)),'Výstupy modelu'!$C$7),1)","v":1664},0,0,{"$f":"IF(F19650=1,IF(G19650>'Zdrojová data'!$C$19,0,1),\"\")","v":""},1664,0,{"$f":"MIN(J19650,'Zdrojová data'!$C$17)","v":0},0,{"$f":"L19650/'Zdrojová data'!$C$16","v":0},{"$f":"M19650*'Zdrojová data'!$C$13","v":0},{"$f":"N19650*'Zdrojová data'!$C$14","v":0},0,{"$f":"IF(H19650=0,D19650-'Výstupy modelu'!$C$7,IF(P19650=1,J19650-K19650,0))","v":0},0,null,{"$f":"MAX(0,IF(Q19650>0,Q19650-('Výstupy modelu'!$H$10-'Výstupy modelu'!$H$9),0))","v":0},null,null,{"$f":"W19649","v":1865.4300000000003},1885.4300000000003,0,{"$f":"MAX(0,D19650-'Vstupní hodnoty'!$C$5)","v":0}]
[null,"2017-07-25T00:45:00",7,542.16000000000008,{"$f":"CEILING(IF(C19682-C19681=0,IF(H19681=0,I19681,IF(J19681>K19681,I19681,E19681)),'Výstupy modelu'!$C$7),1)","v":1664},0,0,{"$f":"IF(F19682=1,IF(G19682>'Zdrojová data'!$C$19,0,1),\"\")","v":""},1664,0,{"$f":"MIN(J19682,'Zdrojová data'!$C$17)","v":0},0,{"$f":"L19682/'Zdrojová data'!$C$16","v":0},{"$f":"M19682*'Zdrojová data'!$C$13","v":0},{"$f":"N19682*'Zdrojová data'!$C$14","v":0},0,{"$f":"IF(H19682=0,D19682-'Výstupy modelu'!$C$7,IF(P19682=1,J19682-K19682,0))","v":0},0,null,{"$f":"MAX(0,IF(Q19682>0,Q19682-('Výstupy modelu'!$H$10-'Výstupy modelu'!$H$9),0))","v":0},null,null,1865.4300000000003,1885.4300000000003,0,{"$f":"MAX(0,D19682-'Vstupní hodnoty'!$C$5)","v":0}]
[null,"2017-07-25T09:30:00",{"$f":"MONTH(B19717)","v":7},1420.2,{"$f":"CEILING(IF(C19717-C19716=0,IF(H19716=0,I19716,IF(J19716>K19716,I19716,E19716)),'Výstupy modelu'!$C$7),1)","v":1664},0,{"$f":"IF(F19717=1,RANDBETWEEN(0,100),0)","v":0},{"$f":"IF(F19717=1,IF(G19717>'Zdrojová data'!$C$19,0,1),\"\")","v":""},1664,0,{"$f":"MIN(J19717,'Zdrojová data'!$C$17)","v":0},{"$f":"K19717/4","v":0},{"$f":"L19717/'Zdrojová data'!$C$16","v":0},{"$f":"M19717*'Zdrojová data'!$C$13","v":0},{"$f":"N19717*'Zdrojová data'!$C$14","v":0},{"$f":"IF(H19717=0,1,IF(J19717>K19717,1,0))","v":0},{"$f":"IF(H19717=0,D19717-'Výstupy modelu'!$C$7,IF(P19717=1,J19717-K19717,0))","v":0},{"$f":"IF(H19717=0,1,IF(J19717>K19717,1,0))","v":0},null,{"$f":"MAX(0,IF(Q19717>0,Q19717-('Výstupy modelu'!$H$10-'Výstupy modelu'!$H$9),0))","v":0},null,null,1865.4300000000003,1885.4300000000003,0,{"$f":"MAX(0,D19717-'Vstupní hodnoty'!$C$5)","v":0}]
[null,"2017-07-25T13:45:00",7,1425.6000000000001,{"$f":"CEILING(IF(C19734-C19733=0,IF(H19733=0,I19733,IF(J19733>K19733,I19733,E19733)),'Výstupy modelu'!$C$7),1)","v":1664},0,0,{"$f":"IF(F19734=1,IF(G19734>'Zdrojová data'!$C$19,0,1),\"\")","v":""},1664,0,{"$f":"MIN(J19734,'Zdrojová data'!$C$17)","v":0},0,{"$f":"L19734/'Zdrojová data'!$C$16","v":0},{"$f":"M19734*'Zdrojová data'!$C$13","v":0},{"$f":"N19734*'Zdrojová data'!$C$14","v":0},0,{"$f":"IF(H19734=0,D19734-'Výstupy modelu'!$C$7,IF(P19734=1,J19734-K19734,0))","v":0},0,null,{"$f":"MAX(0,IF(Q19734>0,Q19734-('Výstupy modelu'!$H$10-'Výstupy modelu'!$H$9),0))","v":0},null,null,1865.4300000000003,1885.4300000000003,0,{"$f":"MAX(0,D19734-'Vstupní hodnoty'!$C$5)","v":0}]
[null,"2017-07-26T02:30:00",7,542.16000000000008,{"$f":"CEILING(IF(C19785-C19784=0,IF(H19784=0,I19784,IF(J19784>K19784,I19784,E19784)),'Výstupy modelu'!$C$7),1)","v":1664},0,0,{"$f":"IF(F19785=1,IF(G19785>'Zdrojová data'!$C$19,0,1),\"\")","v":""},1664,0,{"$f":"MIN(J19785,'Zdrojová data'!$C$17)","v":0},0,{"$f":"L19785/'Zdrojová data'!$C$16","v":0},{"$f":"M19785*'Zdrojová data'!$C$13","v":0},{"$f":"N19785*'Zdrojová data'!$C$14","v":0},0,{"$f":"IF(H19785=0,D19785-'Výstupy modelu'!$C$7,IF(P19785=1,J19785-K19785,0))","v":0},0,null,{"$f":"MAX(0,IF(Q19785>0,Q19785-('Výstupy modelu'!$H$10-'Výstupy modelu'!$H$9),0))","v":0},null,null,1865.4300000000003,1885.4300000000003,0,{"$f":"MAX(0,D19785-'Vstupní hodnoty'!$C$5)","v":0}]
[null,"2017-07-26T04:00:00",7,515.16000000000008,{"$f":"CEILING(IF(C19791-C19790=0,IF(H19790=0,I19790,IF(J19790>K19790,I19790,E19790)),'Výstupy modelu'!$C$7),1)","v":1664},0,0,{"$f":"IF(F19791=1,IF(G19791>'Zdrojová data'!$C$19,0,1),\"\")","v":""},1664,0,{"$f":"MIN(J19791,'Zdrojová data'!$C$17)","v":0},0,{"$f":"L19791/'Zdrojová data'!$C$16","v":0},{"$f":"M19791*'Zdrojová data'!$C$13","v":0},{"$f":"N19791*'Zdrojová data'!$C$14","v":0},0,{"$f":"IF(H19791=0,D19791-'Výstupy modelu'!$C$7,IF(P19791=1,J19791-K19791,0))","v":0},0,null,{"$f":"MAX(0,IF(Q19791>0,Q19791-('Výstupy modelu'!$H$10-'Výstupy modelu'!$H$9),0))","v":0},null,null,1865.4300000000003,1885.4300000000003,0,{"$f":"MAX(0,D19791-'Vstupní hodnoty'!$C$5)","v":0}]
[null,"2017-07-26T15:15:00",7,1042.2,{"$f":"CEILING(IF(C19836-C19835=0,IF(H19835=0,I19835,IF(J19835>K19835,I19835,E19835)),'Výstupy modelu'!$C$7),1)","v":1664},0,0,{"$f":"IF(F19836=1,IF(G19836>'Zdrojová data'!$C$19,0,1),\"\")","v":""},1664,0,{"$f":"MIN(J19836,'Zdrojová data'!$C$17)","v":0},0,{"$f":"L19836/'Zdrojová data'!$C$16","v":0},{"$f":"M19836*'Zdrojová data'!$C$13","v":0},{"$f":"N19836*'Zdrojová data'!$C$14","v":0},0,{"$f":"IF(H19836=0,D19836-'Výstupy modelu'!$C$7,IF(P19836=1,J19836-K19836,0))","v":0},0,null,{"$f":"MAX(0,IF(Q19836>0,Q19836-('Výstupy modelu'!$H$10-'Výstupy modelu'!$H$9),0))","v":0},null,null,1865.4300000000003,1885.4300000000003,0,{"$f":"MAX(0,D19836-'Vstupní hodnoty'!$C$5)","v":0}]
[null,"2017-07-27",7,483.84000000000003,{"$f":"CEILING(IF(C19871-C19870=0,IF(H19870=0,I19870,IF(J19870>K19870,I19870,E19870)),'Výstupy modelu'!$C$7),1)","v":1664},0,0,{"$f":"IF(F19871=1,IF(G19871>'Zdrojová data'!$C$19,0,1),\"\")","v":""},1664,0,{"$f":"MIN(J19871,'Zdrojová data'!$C$17)","v":0},0,{"$f":"L19871/'Zdrojová data'!$C$16","v":0},{"$f":"M19871*'Zdrojová data'!$C$13","v":0},{"$f":"N19871*'Zdrojová data'!$C$14","v":0},0,{"$f":"IF(H19871=0,D19871-'Výstupy modelu'!$C$7,IF(P19871=1,J19871-K19871,0))","v":0},0,null,{"$f":"MAX(0,IF(Q19871>0,Q19871-('Výstupy modelu'!$H$10-'Výstupy modelu'!$H$9),0))","v":0},null,null,1865.4300000000003,1885.4300000000003,0,{"$f":"MAX(0,D19871-'Vstupní hodnoty'!$C$5)","v":0}]
[null,"2017-07-27T12:45:00",7,1602.72,{"$f":"CEILING(IF(C19922-C19921=0,IF(H19921=0,I19921,IF(J19921>K19921,I19921,E19921)),'Výstupy modelu'!$C$7),1)","v":1664},0,0,{"$f":"IF(F19922=1,IF(G19922>'Zdrojová data'!$C$19,0,1),\"\")","v":""},1664,0,{"$f":"MIN(J19922,'Zdrojová data'!$C$17)","v":0},0,{"$f":"L19922/'Zdrojová data'!$C$16","v":0},{"$f":"M19922*'Zdrojová data'!$C$13","v":0},{"$f":"N19922*'Zdrojová data'!$C$14","v":0},0,{"$f":"IF(H19922=0,D19922-'Výstupy modelu'!$C$7,IF(P19922=1,J19922-K19922,0))","v":0},0,null,{"$f":"MAX(0,IF(Q19922>0,Q19922-('Výstupy modelu'!$H$10-'Výstupy modelu'!$H$9),0))","v":0},null,null,1865.4300000000003,1885.4300000000003,0,{"$f":"MAX(0,D19922-'Vstupní hodnoty'!$C$5)","v":0}]
[null,"2017-07-27T20:45:00",7,817.56000000000006,{"$f":"CEILING(IF(C19954-C19953=0,IF(H19953=0,I19953,IF(J19953>K19953,I19953,E19953)),'Výstupy modelu'!$C$7),1)","v":1664},0,0,{"$f":"IF(F19954=1,IF(G19954>'Zdrojová data'!$C$19,0,1),\"\")","v":""},1664,0,{"$f":"MIN(J19954,'Zdrojová data'!$C$17)","v":0},0,{"$f":"L19954/'Zdrojová data'!$C$16","v":0},{"$f":"M19954*'Zdrojová data'!$C$13","v":0},{"$f":"N19954*'Zdrojová data'!$C$14","v":0},0,{"$f":"IF(H19954=0,D19954-'Výstupy modelu'!$C$7,IF(P19954=1,J19954-K19954,0))","v":0},0,null,{"$f":"MAX(0,IF(Q19954>0,Q19954-('Výstupy modelu'!$H$10-'Výstupy modelu'!$H$9),0))","v":0},null,null,1865.4300000000003,1885.4300000000003,0,{"$f":"MAX(0,D19954-'Vstupní hodnoty'!$C$5)","v":0}]
[null,"2017-07-28T01:30:00",{"$f":"MONTH(B19973)","v":7},600.48,{"$f":"CEILING(IF(C19973-C19972=0,IF(H19972=0,I19972,IF(J19972>K19972,I19972,E19972)),'Výstupy modelu'!$C$7),1)","v":1664},0,{"$f":"IF(F19973=1,RANDBETWEEN(0,100),0)","v":0},{"$f":"IF(F19973=1,IF(G19973>'Zdrojová data'!$C$19,0,1),\"\")","v":""},1664,0,{"$f":"MIN(J19973,'Zdrojová data'!$C$17)","v":0},{"$f":"K19973/4","v":0},{"$f":"L19973/'Zdrojová data'!$C$16","v":0},{"$f":"M19973*'Zdrojová data'!$C$13","v":0},{"$f":"N19973*'Zdrojová data'!$C$14","v":0},{"$f":"IF(H19973=0,1,IF(J19973>K19973,1,0))","v":0},{"$f":"IF(H19973=0,D19973-'Výstupy modelu'!$C$7,IF(P19973=1,J19973-K19973,0))","v":0},{"$f":"IF(H19973=0,1,IF(J19973>K19973,1,0))","v":0},null,{"$f":"MAX(0,IF(Q19973>0,Q19973-('Výstupy modelu'!$H$10-'Výstupy modelu'!$H$9),0))","v":0},null,null,1865.4300000000003,1885.4300000000003,0,{"$f":"MAX(0,D19973-'Vstupní hodnoty'!$C$5)","v":0}]
[null,"2017-07-28T14:15:00",7,334.8,{"$f":"CEILING(IF(C20024-C20023=0,IF(H20023=0,I20023,IF(J20023>K20023,I20023,E20023)),'Výstupy modelu'!$C$7),1)","v":1664},0,0,{"$f":"IF(F20024=1,IF(G20024>'Zdrojová data'!$C$19,0,1),\"\")","v":""},1664,0,{"$f":"MIN(J20024,'Zdrojová data'!$C$17)","v":0},0,{"$f":"L20024/'Zdrojová data'!$C$16","v":0},{"$f":"M20024*'Zdrojová data'!$C$13","v":0},{"$f":"N20024*'Zdrojová data'!$C$14","v":0},0,{"$f":"IF(H20024=0,D20024-'Výstupy modelu'!$C$7,IF(P20024=1,J20024-K20024,0))","v":0},0,null,{"$f":"MAX(0,IF(Q20024>0,Q20024-('Výstupy modelu'!$H$10-'Výstupy modelu'!$H$9),0))","v":0},null,null,1865.4300000000003,1885.4300000000003,0,{"$f":"MAX(0,D20024-'Vstupní hodnoty'!$C$5)","v":0}]
[null,"2017-07-28T23:00:00",7,76.680000000000007,{"$f":"CEILING(IF(C20059-C20058=0,IF(H20058=0,I20058,IF(J20058>K20058,I20058,E20058)),'Výstupy modelu'!$C$7),1)","v":1664},0,0,{"$f":"IF(F20059=1,IF(G20059>'Zdrojová data'!$C$19,0,1),\"\")","v":""},1664,0,{"$f":"MIN(J20059,'Zdrojová data'!$C$17)","v":0},0,{"$f":"L20059/'Zdrojová data'!$C$16","v":0},{"$f":"M20059*'Zdrojová data'!$C$13","v":0},{"$f":"N20059*'Zdrojová data'!$C$14","v":0},0,{"$f":"IF(H20059=0,D20059-'Výstupy modelu'!$C$7,IF(P20059=1,J20059-K20059,0))","v":0},0,null,{"$f":"MAX(0,IF(Q20059>0,Q20059-('Výstupy modelu'!$H$10-'Výstupy modelu'!$H$9),0))","v":0},null,null,1865.4300000000003,1885.4300000000003,0,{"$f":"MAX(0,D20059-'Vstupní hodnoty'!$C$5)","v":0}]
[null,"2017-07-29T03:15:00",7,73.44,{"$f":"CEILING(IF(C20076-C20075=0,IF(H20075=0,I20075,IF(J20075>K20075,I20075,E20075)),'Výstupy modelu'!$C$7),1)","v":1664},0,0,{"$f":"IF(F20076=1,IF(G20076>'Zdrojová data'!$C$19,0,1),\"\")","v":""},1664,0,{"$f":"MIN(J20076,'Zdrojová data'!$C$17)","v":0},0,{"$f":"L20076/'Zdrojová data'!$C$16","v":0},{"$f":"M20076*'Zdrojová data'!$C$13","v":0},{"$f":"N20076*'Zdrojová data'!$C$14","v":0},0,{"$f":"IF(H20076=0,D20076-'Výstupy modelu'!$C$7,IF(P20076=1,J20076-K20076,0))","v":0},0,null,{"$f":"MAX(0,IF(Q20076>0,Q20076-('Výstupy modelu'!$H$10-'Výstupy modelu'!$H$9),0))","v":0},null,null,1865.4300000000003,1885.4300000000003,0,{"$f":"MAX(0,D20076-'Vstupní hodnoty'!$C$5)","v":0}]
[null,"2017-07-29T08:00:00",7,64.800000000000011,{"$f":"CEILING(IF(C20095-C20094=0,IF(H20094=0,I20094,IF(J20094>K20094,I20094,E20094)),'Výstupy modelu'!$C$7),1)","v":1664},0,0,{"$f":"IF(F20095=1,IF(G20095>'Zdrojová data'!$C$19,0,1),\"\")","v":""},1664,0,{"$f":"MIN(J20095,'Zdrojová data'!$C$17)","v":0},0,{"$f":"L20095/'Zdrojová data'!$C$16","v":0},{"$f":"M20095*'Zdrojová data'!$C$13","v":0},{"$f":"N20095*'Zdrojová data'!$C$14","v":0},0,{"$f":"IF(H20095=0,D20095-'Výstupy modelu'!$C$7,IF(P20095=1,J20095-K20095,0))","v":0},0,null,{"$f":"MAX(0,IF(Q20095>0,Q20095-('Výstupy modelu'!$H$10-'Výstupy modelu'!$H$9),0))","v":0},null,null,1865.4300000000003,1885.4300000000003,0,{"$f":"MAX(0,D20095-'Vstupní hodnoty'!$C$5)","v":0}]
[null,"2017-07-30T00:30:00",7,88.56,{"$f":"CEILING(IF(C20161-C20160=0,IF(H20160=0,I20160,IF(J20160>K20160,I20160,E20160)),'Výstupy modelu'!$C$7),1)","v":1664},0,0,{"$f":"IF(F20161=1,IF(G20161>'Zdrojová data'!$C$19,0,1),\"\")","v":""},1664,0,{"$f":"MIN(J20161,'Zdrojová data'!$C$17)","v":0},0,{"$f":"L20161/'Zdrojová data'!$C$16","v":0},{"$f":"M20161*'Zdrojová data'!$C$13","v":0},{"$f":"N20161*'Zdrojová data'!$C$14","v":0},0,{"$f":"IF(H20161=0,D20161-'Výstupy modelu'!$C$7,IF(P20161=1,J20161-K20161,0))","v":0},0,null,{"$f":"MAX(0,IF(Q20161>0,Q20161-('Výstupy modelu'!$H$10-'Výstupy modelu'!$H$9),0))","v":0},null,null,1865.4300000000003,1885.4300000000003,0,{"$f":"MAX(0,D20161-'Vstupní hodnoty'!$C$5)","v":0}]
[null,"2017-07-30T04:45:00",7,73.44,{"$f":"CEILING(IF(C20178-C20177=0,IF(H20177=0,I20177,IF(J20177>K20177,I20177,E20177)),'Výstupy modelu'!$C$7),1)","v":1664},0,0,{"$f":"IF(F20178=1,IF(G20178>'Zdrojová data'!$C$19,0,1),\"\")","v":""},1664,0,{"$f":"MIN(J20178,'Zdrojová data'!$C$17)","v":0},0,{"$f":"L20178/'Zdrojová data'!$C$16","v":0},{"$f":"M20178*'Zdrojová data'!$C$13","v":0},{"$f":"N20178*'Zdrojová data'!$C$14","v":0},0,{"$f":"IF(H20178=0,D20178-'Výstupy modelu'!$C$7,IF(P20178=1,J20178-K20178,0))","v":0},0,null,{"$f":"MAX(0,IF(Q20178>0,Q20178-('Výstupy modelu'!$H$10-'Výstupy modelu'!$H$9),0))","v":0},null,null,1865.4300000000003,1885.4300000000003,0,{"$f":"MAX(0,D20178-'Vstupní hodnoty'!$C$5)","v":0}]
[null,"2017-07-30T17:30:00",{"$f":"MONTH(B20229)","v":7},58.320000000000007,{"$f":"CEILING(IF(C20229-C20228=0,IF(H20228=0,I20228,IF(J20228>K20228,I20228,E20228)),'Výstupy modelu'!$C$7),1)","v":1664},0,{"$f":"IF(F20229=1,RANDBETWEEN(0,100),0)","v":0},{"$f":"IF(F20229=1,IF(G20229>'Zdrojová data'!$C$19,0,1),\"\")","v":""},1664,0,{"$f":"MIN(J20229,'Zdrojová data'!$C$17)","v":0},{"$f":"K20229/4","v":0},{"$f":"L20229/'Zdrojová data'!$C$16","v":0},{"$f":"M20229*'Zdrojová data'!$C$13","v":0},{"$f":"N20229*'Zdrojová data'!$C$14","v":0},{"$f":"IF(H20229=0,1,IF(J20229>K20229,1,0))","v":0},{"$f":"IF(H20229=0,D20229-'Výstupy modelu'!$C$7,IF(P20229=1,J20229-K20229,0))","v":0},{"$f":"IF(H20229=0,1,IF(J20229>K20229,1,0))","v":0},null,{"$f":"MAX(0,IF(Q20229>0,Q20229-('Výstupy modelu'!$H$10-'Výstupy modelu'!$H$9),0))","v":0},null,null,1865.4300000000003,1885.4300000000003,0,{"$f":"MAX(0,D20229-'Vstupní hodnoty'!$C$5)","v":0}]
[null,"2017-07-30T17:45:00",7,52.92,{"$f":"CEILING(IF(C20230-C20229=0,IF(H20229=0,I20229,IF(J20229>K20229,I20229,E20229)),'Výstupy modelu'!$C$7),1)","v":1664},0,0,{"$f":"IF(F20230=1,IF(G20230>'Zdrojová data'!$C$19,0,1),\"\")","v":""},1664,0,{"$f":"MIN(J20230,'Zdrojová data'!$C$17)","v":0},0,{"$f":"L20230/'Zdrojová data'!$C$16","v":0},{"$f":"M20230*'Zdrojová data'!$C$13","v":0},{"$f":"N20230*'Zdrojová data'!$C$14","v":0},0,{"$f":"IF(H20230=0,D20230-'Výstupy modelu'!$C$7,IF(P20230=1,J20230-K20230,0))","v":0},0,null,{"$f":"MAX(0,IF(Q20230>0,Q20230-('Výstupy modelu'!$H$10-'Výstupy modelu'!$H$9),0))","v":0},null,null,1865.4300000000003,1885.4300000000003,0,{"$f":"MAX(0,D20230-'Vstupní hodnoty'!$C$5)","v":0}]
[null,"2017-07-31T03:30:00",7,159.84,{"$f":"CEILING(IF(C20269-C20268=0,IF(H20268=0,I20268,IF(J20268>K20268,I20268,E20268)),'Výstupy modelu'!$C$7),1)","v":1664},0,0,{"$f":"IF(F20269=1,IF(G20269>'Zdrojová data'!$C$19,0,1),\"\")","v":""},1664,0,{"$f":"MIN(J20269,'Zdrojová data'!$C$17)","v":0},0,{"$f":"L20269/'Zdrojová data'!$C$16","v":0},{"$f":"M20269*'Zdrojová data'!$C$13","v":0},{"$f":"N20269*'Zdrojová data'!$C$14","v":0},0,{"$f":"IF(H20269=0,D20269-'Výstupy modelu'!$C$7,IF(P20269=1,J20269-K20269,0))","v":0},0,null,{"$f":"MAX(0,IF(Q20269>0,Q20269-('Výstupy modelu'!$H$10-'Výstupy modelu'!$H$9),0))","v":0},null,null,1865.4300000000003,1885.4300000000003,0,{"$f":"MAX(0,D20269-'Vstupní hodnoty'!$C$5)","v":0}]
[null,"2017-07-31T15:00:00",7,116.64000000000001,{"$f":"CEILING(IF(C20315-C20314=0,IF(H20314=0,I20314,IF(J20314>K20314,I20314,E20314)),'Výstupy modelu'!$C$7),1)","v":1664},0,0,{"$f":"IF(F20315=1,IF(G20315>'Zdrojová data'!$C$19,0,1),\"\")","v":""},1664,0,{"$f":"MIN(J20315,'Zdrojová data'!$C$17)","v":0},0,{"$f":"L20315/'Zdrojová data'!$C$16","v":0},{"$f":"M20315*'Zdrojová data'!$C$13","v":0},{"$f":"N20315*'Zdrojová data'!$C$14","v":0},0,{"$f":"IF(H20315=0,D20315-'Výstupy modelu'!$C$7,IF(P20315=1,J20315-K20315,0))","v":0},0,null,{"$f":"MAX(0,IF(Q20315>0,Q20315-('Výstupy modelu'!$H$10-'Výstupy modelu'!$H$9),0))","v":0},null,null,1865.4300000000003,1885.4300000000003,0,{"$f":"MAX(0,D20315-'Vstupní hodnoty'!$C$5)","v":0}]
[null,"2017-07-31T19:15:00",7,66.960000000000008,{"$f":"CEILING(IF(C20332-C20331=0,IF(H20331=0,I20331,IF(J20331>K20331,I20331,E20331)),'Výstupy modelu'!$C$7),1)","v":1664},0,0,{"$f":"IF(F20332=1,IF(G20332>'Zdrojová data'!$C$19,0,1),\"\")","v":""},1664,0,{"$f":"MIN(J20332,'Zdrojová data'!$C$17)","v":0},0,{"$f":"L20332/'Zdrojová data'!$C$16","v":0},{"$f":"M20332*'Zdrojová data'!$C$13","v":0},{"$f":"N20332*'Zdrojová data'!$C$14","v":0},0,{"$f":"IF(H20332=0,D20332-'Výstupy modelu'!$C$7,IF(P20332=1,J20332-K20332,0))","v":0},0,null,{"$f":"MAX(0,IF(Q20332>0,Q20332-('Výstupy modelu'!$H$10-'Výstupy modelu'!$H$9),0))","v":0},null,null,1865.4300000000003,1885.4300000000003,0,{"$f":"MAX(0,D20332-'Vstupní hodnoty'!$C$5)","v":0}]
[null,"2017-08-01T08:00:00",8,195.48000000000002,{"$f":"CEILING(IF(C20383-C20382=0,IF(H20382=0,I20382,IF(J20382>K20382,I20382,E20382)),'Výstupy modelu'!$C$7),1)","v":1664},0,0,{"$f":"IF(F20383=1,IF(G20383>'Zdrojová data'!$C$19,0,1),\"\")","v":""},1664,0,{"$f":"MIN(J20383,'Zdrojová data'!$C$17)","v":0},0,{"$f":"L20383/'Zdrojová data'!$C$16","v":0},{"$f":"M20383*'Zdrojová data'!$C$13","v":0},{"$f":"N20383*'Zdrojová data'!$C$14","v":0},0,{"$f":"IF(H20383=0,D20383-'Výstupy modelu'!$C$7,IF(P20383=1,J20383-K20383,0))","v":0},0,null,{"$f":"MAX(0,IF(Q20383>0,Q20383-('Výstupy modelu'!$H$10-'Výstupy modelu'!$H$9),0))","v":0},null,null,1865.4300000000003,1885.4300000000003,0,{"$f":"MAX(0,D20383-'Vstupní hodnoty'!$C$5)","v":0}]
[null,"2017-08-01T16:45:00",8,86.4,{"$f":"CEILING(IF(C20418-C20417=0,IF(H20417=0,I20417,IF(J20417>K20417,I20417,E20417)),'Výstupy modelu'!$C$7),1)","v":1664},0,0,{"$f":"IF(F20418=1,IF(G20418>'Zdrojová data'!$C$19,0,1),\"\")","v":""},1664,0,{"$f":"MIN(J20418,'Zdrojová data'!$C$17)","v":0},0,{"$f":"L20418/'Zdrojová data'!$C$16","v":0},{"$f":"M20418*'Zdrojová data'!$C$13","v":0},{"$f":"N20418*'Zdrojová data'!$C$14","v":0},0,{"$f":"IF(H20418=0,D20418-'Výstupy modelu'!$C$7,IF(P20418=1,J20418-K20418,0))","v":0},0,null,{"$f":"MAX(0,IF(Q20418>0,Q20418-('Výstupy modelu'!$H$10-'Výstupy modelu'!$H$9),0))","v":0},null,null,{"$f":"W20417","v":1865.4300000000003},1885.4300000000003,0,{"$f":"MAX(0,D20418-'Vstupní hodnoty'!$C$5)","v":0}]
[null,"2017-08-01T23:00:00",8,91.800000000000011,{"$f":"CEILING(IF(C20443-C20442=0,IF(H20442=0,I20442,IF(J20442>K20442,I20442,E20442)),'Výstupy modelu'!$C$7),1)","v":1664},0,0,{"$f":"IF(F20443=1,IF(G20443>'Zdrojová data'!$C$19,0,1),\"\")","v":""},1664,0,{"$f":"MIN(J20443,'Zdrojová data'!$C$17)","v":0},0,{"$f":"L20443/'Zdrojová data'!$C$16","v":0},{"$f":"M20443*'Zdrojová data'!$C$13","v":0},{"$f":"N20443*'Zdrojová data'!$C$14","v":0},0,{"$f":"IF(H20443=0,D20443-'Výstupy modelu'!$C$7,IF(P20443=1,J20443-K20443,0))","v":0},0,null,{"$f":"MAX(0,IF(Q20443>0,Q20443-('Výstupy modelu'!$H$10-'Výstupy modelu'!$H$9),0))","v":0},null,null,1865.4300000000003,1885.4300000000003,0,{"$f":"MAX(0,D20443-'Vstupní hodnoty'!$C$5)","v":0}]
[null,"2017-08-02T05:30:00",8,154.44,{"$f":"CEILING(IF(C20469-C20468=0,IF(H20468=0,I20468,IF(J20468>K20468,I20468,E20468)),'Výstupy modelu'!$C$7),1)","v":1664},0,0,{"$f":"IF(F20469=1,IF(G20469>'Zdrojová data'!$C$19,0,1),\"\")","v":""},1664,0,{"$f":"MIN(J20469,'Zdrojová data'!$C$17)","v":0},0,{"$f":"L20469/'Zdrojová data'!$C$16","v":0},{"$f":"M20469*'Zdrojová data'!$C$13","v":0},{"$f":"N20469*'Zdrojová data'!$C$14","v":0},0,{"$f":"IF(H20469=0,D20469-'Výstupy modelu'!$C$7,IF(P20469=1,J20469-K20469,0))","v":0},0,null,{"$f":"MAX(0,IF(Q20469>0,Q20469-('Výstupy modelu'!$H$10-'Výstupy modelu'!$H$9),0))","v":0},null,null,1865.4300000000003,1885.4300000000003,0,{"$f":"MAX(0,D20469-'Vstupní hodnoty'!$C$5)","v":0}]
[null,"2017-08-02T18:15:00",8,97.2,{"$f":"CEILING(IF(C20520-C20519=0,IF(H20519=0,I20519,IF(J20519>K20519,I20519,E20519)),'Výstupy modelu'!$C$7),1)","v":1664},0,0,{"$f":"IF(F20520=1,IF(G20520>'Zdrojová data'!$C$19,0,1),\"\")","v":""},1664,0,{"$f":"MIN(J20520,'Zdrojová data'!$C$17)","v":0},0,{"$f":"L20520/'Zdrojová data'!$C$16","v":0},{"$f":"M20520*'Zdrojová data'!$C$13","v":0},{"$f":"N20520*'Zdrojová data'!$C$14","v":0},0,{"$f":"IF(H20520=0,D20520-'Výstupy modelu'!$C$7,IF(P20520=1,J20520-K20520,0))","v":0},0,null,{"$f":"MAX(0,IF(Q20520>0,Q20520-('Výstupy modelu'!$H$10-'Výstupy modelu'!$H$9),0))","v":0},null,null,1865.4300000000003,1885.4300000000003,0,{"$f":"MAX(0,D20520-'Vstupní hodnoty'!$C$5)","v":0}]
[null,"2017-08-02T22:30:00",8,90.72,{"$f":"CEILING(IF(C20537-C20536=0,IF(H20536=0,I20536,IF(J20536>K20536,I20536,E20536)),'Výstupy modelu'!$C$7),1)","v":1664},0,0,{"$f":"IF(F20537=1,IF(G20537>'Zdrojová data'!$C$19,0,1),\"\")","v":""},1664,0,{"$f":"MIN(J20537,'Zdrojová data'!$C$17)","v":0},0,{"$f":"L20537/'Zdrojová data'!$C$16","v":0},{"$f":"M20537*'Zdrojová data'!$C$13","v":0},{"$f":"N20537*'Zdrojová data'!$C$14","v":0},0,{"$f":"IF(H20537=0,D20537-'Výstupy modelu'!$C$7,IF(P20537=1,J20537-K20537,0))","v":0},0,null,{"$f":"MAX(0,IF(Q20537>0,Q20537-('Výstupy modelu'!$H$10-'Výstupy modelu'!$H$9),0))","v":0},null,null,1865.4300000000003,1885.4300000000003,0,{"$f":"MAX(0,D20537-'Vstupní hodnoty'!$C$5)","v":0}]
[null,"2017-08-03T07:15:00",8,198.72000000000003,{"$f":"CEILING(IF(C20572-C20571=0,IF(H20571=0,I20571,IF(J20571>K20571,I20571,E20571)),'Výstupy modelu'!$C$7),1)","v":1664},0,0,{"$f":"IF(F20572=1,IF(G20572>'Zdrojová data'!$C$19,0,1),\"\")","v":""},1664,0,{"$f":"MIN(J20572,'Zdrojová data'!$C$17)","v":0},0,{"$f":"L20572/'Zdrojová data'!$C$16","v":0},{"$f":"M20572*'Zdrojová data'!$C$13","v":0},{"$f":"N20572*'Zdrojová data'!$C$14","v":0},0,{"$f":"IF(H20572=0,D20572-'Výstupy modelu'!$C$7,IF(P20572=1,J20572-K20572,0))","v":0},0,null,{"$f":"MAX(0,IF(Q20572>0,Q20572-('Výstupy modelu'!$H$10-'Výstupy modelu'!$H$9),0))","v":0},null,null,1865.4300000000003,1885.4300000000003,0,{"$f":"MAX(0,D20572-'Vstupní hodnoty'!$C$5)","v":0}]
[null,"2017-08-03T18:30:00",8,81,{"$f":"CEILING(IF(C20617-C20616=0,IF(H20616=0,I20616,IF(J20616>K20616,I20616,E20616)),'Výstupy modelu'!$C$7),1)","v":1664},0,0,{"$f":"IF(F20617=1,IF(G20617>'Zdrojová data'!$C$19,0,1),\"\")","v":""},1664,0,{"$f":"MIN(J20617,'Zdrojová data'!$C$17)","v":0},0,{"$f":"L20617/'Zdrojová data'!$C$16","v":0},{"$f":"M20617*'Zdrojová data'!$C$13","v":0},{"$f":"N20617*'Zdrojová data'!$C$14","v":0},0,{"$f":"IF(H20617=0,D20617-'Výstupy modelu'!$C$7,IF(P20617=1,J20617-K20617,0))","v":0},0,null,{"$f":"MAX(0,IF(Q20617>0,Q20617-('Výstupy modelu'!$H$10-'Výstupy modelu'!$H$9),0))","v":0},null,null,1865.4300000000003,1885.4300000000003,0,{"$f":"MAX(0,D20617-'Vstupní hodnoty'!$C$5)","v":0}]
[null,"2017-08-04",8,78.84,{"$f":"CEILING(IF(C20639-C20638=0,IF(H20638=0,I20638,IF(J20638>K20638,I20638,E20638)),'Výstupy modelu'!$C$7),1)","v":1664},0,0,{"$f":"IF(F20639=1,IF(G20639>'Zdrojová data'!$C$19,0,1),\"\")","v":""},1664,0,{"$f":"MIN(J20639,'Zdrojová data'!$C$17)","v":0},0,{"$f":"L20639/'Zdrojová data'!$C$16","v":0},{"$f":"M20639*'Zdrojová data'!$C$13","v":0},{"$f":"N20639*'Zdrojová data'!$C$14","v":0},0,{"$f":"IF(H20639=0,D20639-'Výstupy modelu'!$C$7,IF(P20639=1,J20639-K20639,0))","v":0},0,null,{"$f":"MAX(0,IF(Q20639>0,Q20639-('Výstupy modelu'!$H$10-'Výstupy modelu'!$H$9),0))","v":0},null,null,1865.4300000000003,1885.4300000000003,0,{"$f":"MAX(0,D20639-'Vstupní hodnoty'!$C$5)","v":0}]
[null,"2017-08-04T08:45:00",8,191.16000000000003,{"$f":"CEILING(IF(C20674-C20673=0,IF(H20673=0,I20673,IF(J20673>K20673,I20673,E20673)),'Výstupy modelu'!$C$7),1)","v":1664},0,0,{"$f":"IF(F20674=1,IF(G20674>'Zdrojová data'!$C$19,0,1),\"\")","v":""},1664,0,{"$f":"MIN(J20674,'Zdrojová data'!$C$17)","v":0},0,{"$f":"L20674/'Zdrojová data'!$C$16","v":0},{"$f":"M20674*'Zdrojová data'!$C$13","v":0},{"$f":"N20674*'Zdrojová data'!$C$14","v":0},0,{"$f":"IF(H20674=0,D20674-'Výstupy modelu'!$C$7,IF(P20674=1,J20674-K20674,0))","v":0},0,null,{"$f":"MAX(0,IF(Q20674>0,Q20674-('Výstupy modelu'!$H$10-'Výstupy modelu'!$H$9),0))","v":0},null,null,{"$f":"W20673","v":1865.4300000000003},1885.4300000000003,0,{"$f":"MAX(0,D20674-'Vstupní hodnoty'!$C$5)","v":0}]
[null,"2017-08-04T21:30:00",8,82.080000000000013,{"$f":"CEILING(IF(C20725-C20724=0,IF(H20724=0,I20724,IF(J20724>K20724,I20724,E20724)),'Výstupy modelu'!$C$7),1)","v":1664},0,0,{"$f":"IF(F20725=1,IF(G20725>'Zdrojová data'!$C$19,0,1),\"\")","v":""},1664,0,{"$f":"MIN(J20725,'Zdrojová data'!$C$17)","v":0},0,{"$f":"L20725/'Zdrojová data'!$C$16","v":0},{"$f":"M20725*'Zdrojová data'!$C$13","v":0},{"$f":"N20725*'Zdrojová data'!$C$14","v":0},0,{"$f":"IF(H20725=0,D20725-'Výstupy modelu'!$C$7,IF(P20725=1,J20725-K20725,0))","v":0},0,null,{"$f":"MAX(0,IF(Q20725>0,Q20725-('Výstupy modelu'!$H$10-'Výstupy modelu'!$H$9),0))","v":0},null,null,1865.4300000000003,1885.4300000000003,0,{"$f":"MAX(0,D20725-'Vstupní hodnoty'!$C$5)","v":0}]
[null,"2017-08-05T06:15:00",8,74.52000000000001,{"$f":"CEILING(IF(C20760-C20759=0,IF(H20759=0,I20759,IF(J20759>K20759,I20759,E20759)),'Výstupy modelu'!$C$7),1)","v":1664},0,0,{"$f":"IF(F20760=1,IF(G20760>'Zdrojová data'!$C$19,0,1),\"\")","v":""},1664,0,{"$f":"MIN(J20760,'Zdrojová data'!$C$17)","v":0},0,{"$f":"L20760/'Zdrojová data'!$C$16","v":0},{"$f":"M20760*'Zdrojová data'!$C$13","v":0},{"$f":"N20760*'Zdrojová data'!$C$14","v":0},0,{"$f":"IF(H20760=0,D20760-'Výstupy modelu'!$C$7,IF(P20760=1,J20760-K20760,0))","v":0},0,null,{"$f":"MAX(0,IF(Q20760>0,Q20760-('Výstupy modelu'!$H$10-'Výstupy modelu'!$H$9),0))","v":0},null,null,1865.4300000000003,1885.4300000000003,0,{"$f":"MAX(0,D20760-'Vstupní hodnoty'!$C$5)","v":0}]
[null,"2017-08-05T14:00:00",8,74.52000000000001,{"$f":"CEILING(IF(C20791-C20790=0,IF(H20790=0,I20790,IF(J20790>K20790,I20790,E20790)),'Výstupy modelu'!$C$7),1)","v":1664},0,0,{"$f":"IF(F20791=1,IF(G20791>'Zdrojová data'!$C$19,0,1),\"\")","v":""},1664,0,{"$f":"MIN(J20791,'Zdrojová data'!$C$17)","v":0},0,{"$f":"L20791/'Zdrojová data'!$C$16","v":0},{"$f":"M20791*'Zdrojová data'!$C$13","v":0},{"$f":"N20791*'Zdrojová data'!$C$14","v":0},0,{"$f":"IF(H20791=0,D20791-'Výstupy modelu'!$C$7,IF(P20791=1,J20791-K20791,0))","v":0},0,null,{"$f":"MAX(0,IF(Q20791>0,Q20791-('Výstupy modelu'!$H$10-'Výstupy modelu'!$H$9),0))","v":0},null,null,1865.4300000000003,1885.4300000000003,0,{"$f":"MAX(0,D20791-'Vstupní hodnoty'!$C$5)","v":0}]
[null,"2017-08-05T23:00:00",8,78.84,{"$f":"CEILING(IF(C20827-C20826=0,IF(H20826=0,I20826,IF(J20826>K20826,I20826,E20826)),'Výstupy modelu'!$C$7),1)","v":1664},0,0,{"$f":"IF(F20827=1,IF(G20827>'Zdrojová data'!$C$19,0,1),\"\")","v":""},1664,0,{"$f":"MIN(J20827,'Zdrojová data'!$C$17)","v":0},0,{"$f":"L20827/'Zdrojová data'!$C$16","v":0},{"$f":"M20827*'Zdrojová data'!$C$13","v":0},{"$f":"N20827*'Zdrojová data'!$C$14","v":0},0,{"$f":"IF(H20827=0,D20827-'Výstupy modelu'!$C$7,IF(P20827=1,J20827-K20827,0))","v":0},0,null,{"$f":"MAX(0,IF(Q20827>0,Q20827-('Výstupy modelu'!$H$10-'Výstupy modelu'!$H$9),0))","v":0},null,null,1865.4300000000003,1885.4300000000003,0,{"$f":"MAX(0,D20827-'Vstupní hodnoty'!$C$5)","v":0}]
[null,"2017-08-06T07:45:00",8,75.600000000000009,{"$f":"CEILING(IF(C20862-C20861=0,IF(H20861=0,I20861,IF(J20861>K20861,I20861,E20861)),'Výstupy modelu'!$C$7),1)","v":1664},0,0,{"$f":"IF(F20862=1,IF(G20862>'Zdrojová data'!$C$19,0,1),\"\")","v":""},1664,0,{"$f":"MIN(J20862,'Zdrojová data'!$C$17)","v":0},0,{"$f":"L20862/'Zdrojová data'!$C$16","v":0},{"$f":"M20862*'Zdrojová data'!$C$13","v":0},{"$f":"N20862*'Zdrojová data'!$C$14","v":0},0,{"$f":"IF(H20862=0,D20862-'Výstupy modelu'!$C$7,IF(P20862=1,J20862-K20862,0))","v":0},0,null,{"$f":"MAX(0,IF(Q20862>0,Q20862-('Výstupy modelu'!$H$10-'Výstupy modelu'!$H$9),0))","v":0},null,null,1865.4300000000003,1885.4300000000003,0,{"$f":"MAX(0,D20862-'Vstupní hodnoty'!$C$5)","v":0}]
[null,"2017-08-06T12:00:00",8,73.44,{"$f":"CEILING(IF(C20879-C20878=0,IF(H20878=0,I20878,IF(J20878>K20878,I20878,E20878)),'Výstupy modelu'!$C$7),1)","v":1664},0,0,{"$f":"IF(F20879=1,IF(G20879>'Zdrojová data'!$C$19,0,1),\"\")","v":""},1664,0,{"$f":"MIN(J20879,'Zdrojová data'!$C$17)","v":0},0,{"$f":"L20879/'Zdrojová data'!$C$16","v":0},{"$f":"M20879*'Zdrojová data'!$C$13","v":0},{"$f":"N20879*'Zdrojová data'!$C$14","v":0},0,{"$f":"IF(H20879=0,D20879-'Výstupy modelu'!$C$7,IF(P20879=1,J20879-K20879,0))","v":0},0,null,{"$f":"MAX(0,IF(Q20879>0,Q20879-('Výstupy modelu'!$H$10-'Výstupy modelu'!$H$9),0))","v":0},null,null,1865.4300000000003,1885.4300000000003,0,{"$f":"MAX(0,D20879-'Vstupní hodnoty'!$C$5)","v":0}]
[null,"2017-08-07T00:45:00",8,183.60000000000002,{"$f":"CEILING(IF(C20930-C20929=0,IF(H20929=0,I20929,IF(J20929>K20929,I20929,E20929)),'Výstupy modelu'!$C$7),1)","v":1664},0,0,{"$f":"IF(F20930=1,IF(G20930>'Zdrojová data'!$C$19,0,1),\"\")","v":""},1664,0,{"$f":"MIN(J20930,'Zdrojová data'!$C$17)","v":0},0,{"$f":"L20930/'Zdrojová data'!$C$16","v":0},{"$f":"M20930*'Zdrojová data'!$C$13","v":0},{"$f":"N20930*'Zdrojová data'!$C$14","v":0},0,{"$f":"IF(H20930=0,D20930-'Výstupy modelu'!$C$7,IF(P20930=1,J20930-K20930,0))","v":0},0,null,{"$f":"MAX(0,IF(Q20930>0,Q20930-('Výstupy modelu'!$H$10-'Výstupy modelu'!$H$9),0))","v":0},null,null,{"$f":"W20929","v":1865.4300000000003},1885.4300000000003,0,{"$f":"MAX(0,D20930-'Vstupní hodnoty'!$C$5)","v":0}]
[null,"2017-08-07T09:30:00",8,163.08000000000001,{"$f":"CEILING(IF(C20965-C20964=0,IF(H20964=0,I20964,IF(J20964>K20964,I20964,E20964)),'Výstupy modelu'!$C$7),1)","v":1664},0,0,{"$f":"IF(F20965=1,IF(G20965>'Zdrojová data'!$C$19,0,1),\"\")","v":""},1664,0,{"$f":"MIN(J20965,'Zdrojová data'!$C$17)","v":0},0,{"$f":"L20965/'Zdrojová data'!$C$16","v":0},{"$f":"M20965*'Zdrojová data'!$C$13","v":0},{"$f":"N20965*'Zdrojová data'!$C$14","v":0},0,{"$f":"IF(H20965=0,D20965-'Výstupy modelu'!$C$7,IF(P20965=1,J20965-K20965,0))","v":0},0,null,{"$f":"MAX(0,IF(Q20965>0,Q20965-('Výstupy modelu'!$H$10-'Výstupy modelu'!$H$9),0))","v":0},null,null,1865.4300000000003,1885.4300000000003,0,{"$f":"MAX(0,D20965-'Vstupní hodnoty'!$C$5)","v":0}]
[null,"2017-08-07T13:30:00",8,208.44000000000003,{"$f":"CEILING(IF(C20981-C20980=0,IF(H20980=0,I20980,IF(J20980>K20980,I20980,E20980)),'Výstupy modelu'!$C$7),1)","v":1664},0,0,{"$f":"IF(F20981=1,IF(G20981>'Zdrojová data'!$C$19,0,1),\"\")","v":""},1664,0,{"$f":"MIN(J20981,'Zdrojová data'!$C$17)","v":0},0,{"$f":"L20981/'Zdrojová data'!$C$16","v":0},{"$f":"M20981*'Zdrojová data'!$C$13","v":0},{"$f":"N20981*'Zdrojová data'!$C$14","v":0},0,{"$f":"IF(H20981=0,D20981-'Výstupy modelu'!$C$7,IF(P20981=1,J20981-K20981,0))","v":0},0,null,{"$f":"MAX(0,IF(Q20981>0,Q20981-('Výstupy modelu'!$H$10-'Výstupy modelu'!$H$9),0))","v":0},null,null,1865.4300000000003,1885.4300000000003,0,{"$f":"MAX(0,D20981-'Vstupní hodnoty'!$C$5)","v":0}]
[null,"2017-08-07T22:15:00",8,78.84,{"$f":"CEILING(IF(C21016-C21015=0,IF(H21015=0,I21015,IF(J21015>K21015,I21015,E21015)),'Výstupy modelu'!$C$7),1)","v":1664},0,0,{"$f":"IF(F21016=1,IF(G21016>'Zdrojová data'!$C$19,0,1),\"\")","v":""},1664,0,{"$f":"MIN(J21016,'Zdrojová data'!$C$17)","v":0},0,{"$f":"L21016/'Zdrojová data'!$C$16","v":0},{"$f":"M21016*'Zdrojová data'!$C$13","v":0},{"$f":"N21016*'Zdrojová data'!$C$14","v":0},0,{"$f":"IF(H21016=0,D21016-'Výstupy modelu'!$C$7,IF(P21016=1,J21016-K21016,0))","v":0},0,null,{"$f":"MAX(0,IF(Q21016>0,Q21016-('Výstupy modelu'!$H$10-'Výstupy modelu'!$H$9),0))","v":0},null,null,1865.4300000000003,1885.4300000000003,0,{"$f":"MAX(0,D21016-'Vstupní hodnoty'!$C$5)","v":0}]
[null,"2017-08-08T11:00:00",8,199.8,{"$f":"CEILING(IF(C21067-C21066=0,IF(H21066=0,I21066,IF(J21066>K21066,I21066,E21066)),'Výstupy modelu'!$C$7),1)","v":1664},0,0,{"$f":"IF(F21067=1,IF(G21067>'Zdrojová data'!$C$19,0,1),\"\")","v":""},1664,0,{"$f":"MIN(J21067,'Zdrojová data'!$C$17)","v":0},0,{"$f":"L21067/'Zdrojová data'!$C$16","v":0},{"$f":"M21067*'Zdrojová data'!$C$13","v":0},{"$f":"N21067*'Zdrojová data'!$C$14","v":0},0,{"$f":"IF(H21067=0,D21067-'Výstupy modelu'!$C$7,IF(P21067=1,J21067-K21067,0))","v":0},0,null,{"$f":"MAX(0,IF(Q21067>0,Q21067-('Výstupy modelu'!$H$10-'Výstupy modelu'!$H$9),0))","v":0},null,null,1865.4300000000003,1885.4300000000003,0,{"$f":"MAX(0,D21067-'Vstupní hodnoty'!$C$5)","v":0}]
[null,"2017-08-08T15:15:00",8,111.24000000000001,{"$f":"CEILING(IF(C21084-C21083=0,IF(H21083=0,I21083,IF(J21083>K21083,I21083,E21083)),'Výstupy modelu'!$C$7),1)","v":1664},0,0,{"$f":"IF(F21084=1,IF(G21084>'Zdrojová data'!$C$19,0,1),\"\")","v":""},1664,0,{"$f":"MIN(J21084,'Zdrojová data'!$C$17)","v":0},0,{"$f":"L21084/'Zdrojová data'!$C$16","v":0},{"$f":"M21084*'Zdrojová data'!$C$13","v":0},{"$f":"N21084*'Zdrojová data'!$C$14","v":0},0,{"$f":"IF(H21084=0,D21084-'Výstupy modelu'!$C$7,IF(P21084=1,J21084-K21084,0))","v":0},0,null,{"$f":"MAX(0,IF(Q21084>0,Q21084-('Výstupy modelu'!$H$10-'Výstupy modelu'!$H$9),0))","v":0},null,null,1865.4300000000003,1885.4300000000003,0,{"$f":"MAX(0,D21084-'Vstupní hodnoty'!$C$5)","v":0}]
[null,"2017-08-09T05:00:00",8,133.92000000000002,{"$f":"CEILING(IF(C21139-C21138=0,IF(H21138=0,I21138,IF(J21138>K21138,I21138,E21138)),'Výstupy modelu'!$C$7),1)","v":1664},0,0,{"$f":"IF(F21139=1,IF(G21139>'Zdrojová data'!$C$19,0,1),\"\")","v":""},1664,0,{"$f":"MIN(J21139,'Zdrojová data'!$C$17)","v":0},0,{"$f":"L21139/'Zdrojová data'!$C$16","v":0},{"$f":"M21139*'Zdrojová data'!$C$13","v":0},{"$f":"N21139*'Zdrojová data'!$C$14","v":0},0,{"$f":"IF(H21139=0,D21139-'Výstupy modelu'!$C$7,IF(P21139=1,J21139-K21139,0))","v":0},0,null,{"$f":"MAX(0,IF(Q21139>0,Q21139-('Výstupy modelu'!$H$10-'Výstupy modelu'!$H$9),0))","v":0},null,null,1865.4300000000003,1885.4300000000003,0,{"$f":"MAX(0,D21139-'Vstupní hodnoty'!$C$5)","v":0}]
[null,"2017-08-09T12:30:00",8,212.76000000000002,{"$f":"CEILING(IF(C21169-C21168=0,IF(H21168=0,I21168,IF(J21168>K21168,I21168,E21168)),'Výstupy modelu'!$C$7),1)","v":1664},0,0,{"$f":"IF(F21169=1,IF(G21169>'Zdrojová data'!$C$19,0,1),\"\")","v":""},1664,0,{"$f":"MIN(J21169,'Zdrojová data'!$C$17)","v":0},0,{"$f":"L21169/'Zdrojová data'!$C$16","v":0},{"$f":"M21169*'Zdrojová data'!$C$13","v":0},{"$f":"N21169*'Zdrojová data'!$C$14","v":0},0,{"$f":"IF(H21169=0,D21169-'Výstupy modelu'!$C$7,IF(P21169=1,J21169-K21169,0))","v":0},0,null,{"$f":"MAX(0,IF(Q21169>0,Q21169-('Výstupy modelu'!$H$10-'Výstupy modelu'!$H$9),0))","v":0},null,null,1865.4300000000003,1885.4300000000003,{"$f":"MAX(0,D21169-W21169)","v":0},{"$f":"MAX(0,D21169-'Vstupní hodnoty'!$C$5)","v":0}]
[null,"2017-08-09T21:15:00",8,66.960000000000008,{"$f":"CEILING(IF(C21204-C21203=0,IF(H21203=0,I21203,IF(J21203>K21203,I21203,E21203)),'Výstupy modelu'!$C$7),1)","v":1664},0,0,{"$f":"IF(F21204=1,IF(G21204>'Zdrojová data'!$C$19,0,1),\"\")","v":""},1664,0,{"$f":"MIN(J21204,'Zdrojová data'!$C$17)","v":0},0,{"$f":"L21204/'Zdrojová data'!$C$16","v":0},{"$f":"M21204*'Zdrojová data'!$C$13","v":0},{"$f":"N21204*'Zdrojová data'!$C$14","v":0},0,{"$f":"IF(H21204=0,D21204-'Výstupy modelu'!$C$7,IF(P21204=1,J21204-K21204,0))","v":0},0,null,{"$f":"MAX(0,IF(Q21204>0,Q21204-('Výstupy modelu'!$H$10-'Výstupy modelu'!$H$9),0))","v":0},null,null,1865.4300000000003,1885.4300000000003,0,{"$f":"MAX(0,D21204-'Vstupní hodnoty'!$C$5)","v":0}]
[null,"2017-08-10T01:30:00",8,163.08000000000001,{"$f":"CEILING(IF(C21221-C21220=0,IF(H21220=0,I21220,IF(J21220>K21220,I21220,E21220)),'Výstupy modelu'!$C$7),1)","v":1664},0,0,{"$f":"IF(F21221=1,IF(G21221>'Zdrojová data'!$C$19,0,1),\"\")","v":""},1664,0,{"$f":"MIN(J21221,'Zdrojová data'!$C$17)","v":0},0,{"$f":"L21221/'Zdrojová data'!$C$16","v":0},{"$f":"M21221*'Zdrojová data'!$C$13","v":0},{"$f":"N21221*'Zdrojová data'!$C$14","v":0},0,{"$f":"IF(H21221=0,D21221-'Výstupy modelu'!$C$7,IF(P21221=1,J21221-K21221,0))","v":0},0,null,{"$f":"MAX(0,IF(Q21221>0,Q21221-('Výstupy modelu'!$H$10-'Výstupy modelu'!$H$9),0))","v":0},null,null,1865.4300000000003,1885.4300000000003,0,{"$f":"MAX(0,D21221-'Vstupní hodnoty'!$C$5)","v":0}]
[null,"2017-08-10T14:15:00",8,274.32,{"$f":"CEILING(IF(C21272-C21271=0,IF(H21271=0,I21271,IF(J21271>K21271,I21271,E21271)),'Výstupy modelu'!$C$7),1)","v":1664},0,0,{"$f":"IF(F21272=1,IF(G21272>'Zdrojová data'!$C$19,0,1),\"\")","v":""},1664,0,{"$f":"MIN(J21272,'Zdrojová data'!$C$17)","v":0},0,{"$f":"L21272/'Zdrojová data'!$C$16","v":0},{"$f":"M21272*'Zdrojová data'!$C$13","v":0},{"$f":"N21272*'Zdrojová data'!$C$14","v":0},0,{"$f":"IF(H21272=0,D21272-'Výstupy modelu'!$C$7,IF(P21272=1,J21272-K21272,0))","v":0},0,null,{"$f":"MAX(0,IF(Q21272>0,Q21272-('Výstupy modelu'!$H$10-'Výstupy modelu'!$H$9),0))","v":0},null,null,1865.4300000000003,1885.4300000000003,0,{"$f":"MAX(0,D21272-'Vstupní hodnoty'!$C$5)","v":0}]
[null,"2017-08-10T16:15:00",8,150.12,{"$f":"CEILING(IF(C21280-C21279=0,IF(H21279=0,I21279,IF(J21279>K21279,I21279,E21279)),'Výstupy modelu'!$C$7),1)","v":1664},0,0,{"$f":"IF(F21280=1,IF(G21280>'Zdrojová data'!$C$19,0,1),\"\")","v":""},1664,0,{"$f":"MIN(J21280,'Zdrojová data'!$C$17)","v":0},0,{"$f":"L21280/'Zdrojová data'!$C$16","v":0},{"$f":"M21280*'Zdrojová data'!$C$13","v":0},{"$f":"N21280*'Zdrojová data'!$C$14","v":0},0,{"$f":"IF(H21280=0,D21280-'Výstupy modelu'!$C$7,IF(P21280=1,J21280-K21280,0))","v":0},0,null,{"$f":"MAX(0,IF(Q21280>0,Q21280-('Výstupy modelu'!$H$10-'Výstupy modelu'!$H$9),0))","v":0},null,null,1865.4300000000003,1885.4300000000003,0,{"$f":"MAX(0,D21280-'Vstupní hodnoty'!$C$5)","v":0}]
[null,"2017-08-11T03:00:00",8,309.96000000000004,{"$f":"CEILING(IF(C21323-C21322=0,IF(H21322=0,I21322,IF(J21322>K21322,I21322,E21322)),'Výstupy modelu'!$C$7),1)","v":1664},0,0,{"$f":"IF(F21323=1,IF(G21323>'Zdrojová data'!$C$19,0,1),\"\")","v":""},1664,0,{"$f":"MIN(J21323,'Zdrojová data'!$C$17)","v":0},0,{"$f":"L21323/'Zdrojová data'!$C$16","v":0},{"$f":"M21323*'Zdrojová data'!$C$13","v":0},{"$f":"N21323*'Zdrojová data'!$C$14","v":0},0,{"$f":"IF(H21323=0,D21323-'Výstupy modelu'!$C$7,IF(P21323=1,J21323-K21323,0))","v":0},0,null,{"$f":"MAX(0,IF(Q21323>0,Q21323-('Výstupy modelu'!$H$10-'Výstupy modelu'!$H$9),0))","v":0},null,null,1865.4300000000003,1885.4300000000003,0,{"$f":"MAX(0,D21323-'Vstupní hodnoty'!$C$5)","v":0}]
[null,"2017-08-11T15:45:00",8,341.28000000000003,{"$f":"CEILING(IF(C21374-C21373=0,IF(H21373=0,I21373,IF(J21373>K21373,I21373,E21373)),'Výstupy modelu'!$C$7),1)","v":1664},0,0,{"$f":"IF(F21374=1,IF(G21374>'Zdrojová data'!$C$19,0,1),\"\")","v":""},1664,0,{"$f":"MIN(J21374,'Zdrojová data'!$C$17)","v":0},0,{"$f":"L21374/'Zdrojová data'!$C$16","v":0},{"$f":"M21374*'Zdrojová data'!$C$13","v":0},{"$f":"N21374*'Zdrojová data'!$C$14","v":0},0,{"$f":"IF(H21374=0,D21374-'Výstupy modelu'!$C$7,IF(P21374=1,J21374-K21374,0))","v":0},0,null,{"$f":"MAX(0,IF(Q21374>0,Q21374-('Výstupy modelu'!$H$10-'Výstupy modelu'!$H$9),0))","v":0},null,null,1865.4300000000003,1885.4300000000003,0,{"$f":"MAX(0,D21374-'Vstupní hodnoty'!$C$5)","v":0}]
[null,"2017-08-12T00:30:00",8,287.28000000000003,{"$f":"CEILING(IF(C21409-C21408=0,IF(H21408=0,I21408,IF(J21408>K21408,I21408,E21408)),'Výstupy modelu'!$C$7),1)","v":1664},0,0,{"$f":"IF(F21409=1,IF(G21409>'Zdrojová data'!$C$19,0,1),\"\")","v":""},1664,0,{"$f":"MIN(J21409,'Zdrojová data'!$C$17)","v":0},0,{"$f":"L21409/'Zdrojová data'!$C$16","v":0},{"$f":"M21409*'Zdrojová data'!$C$13","v":0},{"$f":"N21409*'Zdrojová data'!$C$14","v":0},0,{"$f":"IF(H21409=0,D21409-'Výstupy modelu'!$C$7,IF(P21409=1,J21409-K21409,0))","v":0},0,null,{"$f":"MAX(0,IF(Q21409>0,Q21409-('Výstupy modelu'!$H$10-'Výstupy modelu'!$H$9),0))","v":0},null,null,1865.4300000000003,1885.4300000000003,0,{"$f":"MAX(0,D21409-'Vstupní hodnoty'!$C$5)","v":0}]
[null,"2017-08-12T09:00:00",8,290.52000000000004,{"$f":"CEILING(IF(C21443-C21442=0,IF(H21442=0,I21442,IF(J21442>K21442,I21442,E21442)),'Výstupy modelu'!$C$7),1)","v":1664},0,0,{"$f":"IF(F21443=1,IF(G21443>'Zdrojová data'!$C$19,0,1),\"\")","v":""},1664,0,{"$f":"MIN(J21443,'Zdrojová data'!$C$17)","v":0},0,{"$f":"L21443/'Zdrojová data'!$C$16","v":0},{"$f":"M21443*'Zdrojová data'!$C$13","v":0},{"$f":"N21443*'Zdrojová data'!$C$14","v":0},0,{"$f":"IF(H21443=0,D21443-'Výstupy modelu'!$C$7,IF(P21443=1,J21443-K21443,0))","v":0},0,null,{"$f":"MAX(0,IF(Q21443>0,Q21443-('Výstupy modelu'!$H$10-'Výstupy modelu'!$H$9),0))","v":0},null,null,1865.4300000000003,1885.4300000000003,0,{"$f":"MAX(0,D21443-'Vstupní hodnoty'!$C$5)","v":0}]
[null,"2017-08-12T13:15:00",8,328.32000000000005,{"$f":"CEILING(IF(C21460-C21459=0,IF(H21459=0,I21459,IF(J21459>K21459,I21459,E21459)),'Výstupy modelu'!$C$7),1)","v":1664},0,0,{"$f":"IF(F21460=1,IF(G21460>'Zdrojová data'!$C$19,0,1),\"\")","v":""},1664,0,{"$f":"MIN(J21460,'Zdrojová data'!$C$17)","v":0},0,{"$f":"L21460/'Zdrojová data'!$C$16","v":0},{"$f":"M21460*'Zdrojová data'!$C$13","v":0},{"$f":"N21460*'Zdrojová data'!$C$14","v":0},0,{"$f":"IF(H21460=0,D21460-'Výstupy modelu'!$C$7,IF(P21460=1,J21460-K21460,0))","v":0},0,null,{"$f":"MAX(0,IF(Q21460>0,Q21460-('Výstupy modelu'!$H$10-'Výstupy modelu'!$H$9),0))","v":0},null,null,1865.4300000000003,1885.4300000000003,0,{"$f":"MAX(0,D21460-'Vstupní hodnoty'!$C$5)","v":0}]
[null,"2017-08-13T02:00:00",8,299.16000000000003,{"$f":"CEILING(IF(C21511-C21510=0,IF(H21510=0,I21510,IF(J21510>K21510,I21510,E21510)),'Výstupy modelu'!$C$7),1)","v":1664},0,0,{"$f":"IF(F21511=1,IF(G21511>'Zdrojová data'!$C$19,0,1),\"\")","v":""},1664,0,{"$f":"MIN(J21511,'Zdrojová data'!$C$17)","v":0},0,{"$f":"L21511/'Zdrojová data'!$C$16","v":0},{"$f":"M21511*'Zdrojová data'!$C$13","v":0},{"$f":"N21511*'Zdrojová data'!$C$14","v":0},0,{"$f":"IF(H21511=0,D21511-'Výstupy modelu'!$C$7,IF(P21511=1,J21511-K21511,0))","v":0},0,null,{"$f":"MAX(0,IF(Q21511>0,Q21511-('Výstupy modelu'!$H$10-'Výstupy modelu'!$H$9),0))","v":0},null,null,1865.4300000000003,1885.4300000000003,0,{"$f":"MAX(0,D21511-'Vstupní hodnoty'!$C$5)","v":0}]
[null,"2017-08-13T06:15:00",8,280.8,{"$f":"CEILING(IF(C21528-C21527=0,IF(H21527=0,I21527,IF(J21527>K21527,I21527,E21527)),'Výstupy modelu'!$C$7),1)","v":1664},0,0,{"$f":"IF(F21528=1,IF(G21528>'Zdrojová data'!$C$19,0,1),\"\")","v":""},1664,0,{"$f":"MIN(J21528,'Zdrojová data'!$C$17)","v":0},0,{"$f":"L21528/'Zdrojová data'!$C$16","v":0},{"$f":"M21528*'Zdrojová data'!$C$13","v":0},{"$f":"N21528*'Zdrojová data'!$C$14","v":0},0,{"$f":"IF(H21528=0,D21528-'Výstupy modelu'!$C$7,IF(P21528=1,J21528-K21528,0))","v":0},0,null,{"$f":"MAX(0,IF(Q21528>0,Q21528-('Výstupy modelu'!$H$10-'Výstupy modelu'!$H$9),0))","v":0},null,null,1865.4300000000003,1885.4300000000003,0,{"$f":"MAX(0,D21528-'Vstupní hodnoty'!$C$5)","v":0}]
[null,"2017-08-13T15:00:00",8,356.40000000000003,{"$f":"CEILING(IF(C21563-C21562=0,IF(H21562=0,I21562,IF(J21562>K21562,I21562,E21562)),'Výstupy modelu'!$C$7),1)","v":1664},0,0,{"$f":"IF(F21563=1,IF(G21563>'Zdrojová data'!$C$19,0,1),\"\")","v":""},1664,0,{"$f":"MIN(J21563,'Zdrojová data'!$C$17)","v":0},0,{"$f":"L21563/'Zdrojová data'!$C$16","v":0},{"$f":"M21563*'Zdrojová data'!$C$13","v":0},{"$f":"N21563*'Zdrojová data'!$C$14","v":0},0,{"$f":"IF(H21563=0,D21563-'Výstupy modelu'!$C$7,IF(P21563=1,J21563-K21563,0))","v":0},0,null,{"$f":"MAX(0,IF(Q21563>0,Q21563-('Výstupy modelu'!$H$10-'Výstupy modelu'!$H$9),0))","v":0},null,null,1865.4300000000003,1885.4300000000003,0,{"$f":"MAX(0,D21563-'Vstupní hodnoty'!$C$5)","v":0}]
[null,"2017-08-13T20:15:00",8,324,{"$f":"CEILING(IF(C21584-C21583=0,IF(H21583=0,I21583,IF(J21583>K21583,I21583,E21583)),'Výstupy modelu'!$C$7),1)","v":1664},0,0,{"$f":"IF(F21584=1,IF(G21584>'Zdrojová data'!$C$19,0,1),\"\")","v":""},1664,0,{"$f":"MIN(J21584,'Zdrojová data'!$C$17)","v":0},0,{"$f":"L21584/'Zdrojová data'!$C$16","v":0},{"$f":"M21584*'Zdrojová data'!$C$13","v":0},{"$f":"N21584*'Zdrojová data'!$C$14","v":0},0,{"$f":"IF(H21584=0,D21584-'Výstupy modelu'!$C$7,IF(P21584=1,J21584-K21584,0))","v":0},0,null,{"$f":"MAX(0,IF(Q21584>0,Q21584-('Výstupy modelu'!$H$10-'Výstupy modelu'!$H$9),0))","v":0},null,null,1865.4300000000003,1885.4300000000003,0,{"$f":"MAX(0,D21584-'Vstupní hodnoty'!$C$5)","v":0}]
[null,"2017-08-14T07:45:00",8,1257.1200000000001,{"$f":"CEILING(IF(C21630-C21629=0,IF(H21629=0,I21629,IF(J21629>K21629,I21629,E21629)),'Výstupy modelu'!$C$7),1)","v":1664},0,0,{"$f":"IF(F21630=1,IF(G21630>'Zdrojová data'!$C$19,0,1),\"\")","v":""},1664,0,{"$f":"MIN(J21630,'Zdrojová data'!$C$17)","v":0},0,{"$f":"L21630/'Zdrojová data'!$C$16","v":0},{"$f":"M21630*'Zdrojová data'!$C$13","v":0},{"$f":"N21630*'Zdrojová data'!$C$14","v":0},0,{"$f":"IF(H21630=0,D21630-'Výstupy modelu'!$C$7,IF(P21630=1,J21630-K21630,0))","v":0},0,null,{"$f":"MAX(0,IF(Q21630>0,Q21630-('Výstupy modelu'!$H$10-'Výstupy modelu'!$H$9),0))","v":0},null,null,1865.4300000000003,1885.4300000000003,0,{"$f":"MAX(0,D21630-'Vstupní hodnoty'!$C$5)","v":0}]
[null,"2017-08-14T16:30:00",8,1097.28,{"$f":"CEILING(IF(C21665-C21664=0,IF(H21664=0,I21664,IF(J21664>K21664,I21664,E21664)),'Výstupy modelu'!$C$7),1)","v":1664},0,0,{"$f":"IF(F21665=1,IF(G21665>'Zdrojová data'!$C$19,0,1),\"\")","v":""},1664,0,{"$f":"MIN(J21665,'Zdrojová data'!$C$17)","v":0},0,{"$f":"L21665/'Zdrojová data'!$C$16","v":0},{"$f":"M21665*'Zdrojová data'!$C$13","v":0},{"$f":"N21665*'Zdrojová data'!$C$14","v":0},0,{"$f":"IF(H21665=0,D21665-'Výstupy modelu'!$C$7,IF(P21665=1,J21665-K21665,0))","v":0},0,null,{"$f":"MAX(0,IF(Q21665>0,Q21665-('Výstupy modelu'!$H$10-'Výstupy modelu'!$H$9),0))","v":0},null,null,1865.4300000000003,1885.4300000000003,0,{"$f":"MAX(0,D21665-'Vstupní hodnoty'!$C$5)","v":0}]
[null,"2017-08-15T05:15:00",8,705.24,{"$f":"CEILING(IF(C21716-C21715=0,IF(H21715=0,I21715,IF(J21715>K21715,I21715,E21715)),'Výstupy modelu'!$C$7),1)","v":1664},0,0,{"$f":"IF(F21716=1,IF(G21716>'Zdrojová data'!$C$19,0,1),\"\")","v":""},1664,0,{"$f":"MIN(J21716,'Zdrojová data'!$C$17)","v":0},0,{"$f":"L21716/'Zdrojová data'!$C$16","v":0},{"$f":"M21716*'Zdrojová data'!$C$13","v":0},{"$f":"N21716*'Zdrojová data'!$C$14","v":0},0,{"$f":"IF(H21716=0,D21716-'Výstupy modelu'!$C$7,IF(P21716=1,J21716-K21716,0))","v":0},0,null,{"$f":"MAX(0,IF(Q21716>0,Q21716-('Výstupy modelu'!$H$10-'Výstupy modelu'!$H$9),0))","v":0},null,null,1865.4300000000003,1885.4300000000003,0,{"$f":"MAX(0,D21716-'Vstupní hodnoty'!$C$5)","v":0}]
[null,"2017-08-15T05:30:00",8,723.6,{"$f":"CEILING(IF(C21717-C21716=0,IF(H21716=0,I21716,IF(J21716>K21716,I21716,E21716)),'Výstupy modelu'!$C$7),1)","v":1664},0,0,{"$f":"IF(F21717=1,IF(G21717>'Zdrojová data'!$C$19,0,1),\"\")","v":""},1664,0,{"$f":"MIN(J21717,'Zdrojová data'!$C$17)","v":0},0,{"$f":"L21717/'Zdrojová data'!$C$16","v":0},{"$f":"M21717*'Zdrojová data'!$C$13","v":0},{"$f":"N21717*'Zdrojová data'!$C$14","v":0},0,{"$f":"IF(H21717=0,D21717-'Výstupy modelu'!$C$7,IF(P21717=1,J21717-K21717,0))","v":0},0,null,{"$f":"MAX(0,IF(Q21717>0,Q21717-('Výstupy modelu'!$H$10-'Výstupy modelu'!$H$9),0))","v":0},null,null,1865.4300000000003,1885.4300000000003,0,{"$f":"MAX(0,D21717-'Vstupní hodnoty'!$C$5)","v":0}]
[null,"2017-08-15T15:45:00",8,1326.24,{"$f":"CEILING(IF(C21758-C21757=0,IF(H21757=0,I21757,IF(J21757>K21757,I21757,E21757)),'Výstupy modelu'!$C$7),1)","v":1664},0,0,{"$f":"IF(F21758=1,IF(G21758>'Zdrojová data'!$C$19,0,1),\"\")","v":""},1664,0,{"$f":"MIN(J21758,'Zdrojová data'!$C$17)","v":0},0,{"$f":"L21758/'Zdrojová data'!$C$16","v":0},{"$f":"M21758*'Zdrojová data'!$C$13","v":0},{"$f":"N21758*'Zdrojová data'!$C$14","v":0},0,{"$f":"IF(H21758=0,D21758-'Výstupy modelu'!$C$7,IF(P21758=1,J21758-K21758,0))","v":0},0,null,{"$f":"MAX(0,IF(Q21758>0,Q21758-('Výstupy modelu'!$H$10-'Výstupy modelu'!$H$9),0))","v":0},null,null,1865.4300000000003,1885.4300000000003,0,{"$f":"MAX(0,D21758-'Vstupní hodnoty'!$C$5)","v":0}]
[null,"2017-08-15T22:15:00",8,644.76,{"$f":"CEILING(IF(C21784-C21783=0,IF(H21783=0,I21783,IF(J21783>K21783,I21783,E21783)),'Výstupy modelu'!$C$7),1)","v":1664},0,0,{"$f":"IF(F21784=1,IF(G21784>'Zdrojová data'!$C$19,0,1),\"\")","v":""},1664,0,{"$f":"MIN(J21784,'Zdrojová data'!$C$17)","v":0},0,{"$f":"L21784/'Zdrojová data'!$C$16","v":0},{"$f":"M21784*'Zdrojová data'!$C$13","v":0},{"$f":"N21784*'Zdrojová data'!$C$14","v":0},0,{"$f":"IF(H21784=0,D21784-'Výstupy modelu'!$C$7,IF(P21784=1,J21784-K21784,0))","v":0},0,null,{"$f":"MAX(0,IF(Q21784>0,Q21784-('Výstupy modelu'!$H$10-'Výstupy modelu'!$H$9),0))","v":0},null,null,1865.4300000000003,1885.4300000000003,0,{"$f":"MAX(0,D21784-'Vstupní hodnoty'!$C$5)","v":0}]
[null,"2017-08-16T07:00:00",8,1572.48,{"$f":"CEILING(IF(C21819-C21818=0,IF(H21818=0,I21818,IF(J21818>K21818,I21818,E21818)),'Výstupy modelu'!$C$7),1)","v":1664},0,0,{"$f":"IF(F21819=1,IF(G21819>'Zdrojová data'!$C$19,0,1),\"\")","v":""},1664,0,{"$f":"MIN(J21819,'Zdrojová data'!$C$17)","v":0},0,{"$f":"L21819/'Zdrojová data'!$C$16","v":0},{"$f":"M21819*'Zdrojová data'!$C$13","v":0},{"$f":"N21819*'Zdrojová data'!$C$14","v":0},0,{"$f":"IF(H21819=0,D21819-'Výstupy modelu'!$C$7,IF(P21819=1,J21819-K21819,0))","v":0},0,null,{"$f":"MAX(0,IF(Q21819>0,Q21819-('Výstupy modelu'!$H$10-'Výstupy modelu'!$H$9),0))","v":0},null,null,1865.4300000000003,1885.4300000000003,0,{"$f":"MAX(0,D21819-'Vstupní hodnoty'!$C$5)","v":0}]
[null,"2017-08-16T19:45:00",8,1055.1600000000001,{"$f":"CEILING(IF(C21870-C21869=0,IF(H21869=0,I21869,IF(J21869>K21869,I21869,E21869)),'Výstupy modelu'!$C$7),1)","v":1664},0,0,{"$f":"IF(F21870=1,IF(G21870>'Zdrojová data'!$C$19,0,1),\"\")","v":""},1664,0,{"$f":"MIN(J21870,'Zdrojová data'!$C$17)","v":0},0,{"$f":"L21870/'Zdrojová data'!$C$16","v":0},{"$f":"M21870*'Zdrojová data'!$C$13","v":0},{"$f":"N21870*'Zdrojová data'!$C$14","v":0},0,{"$f":"IF(H21870=0,D21870-'Výstupy modelu'!$C$7,IF(P21870=1,J21870-K21870,0))","v":0},0,null,{"$f":"MAX(0,IF(Q21870>0,Q21870-('Výstupy modelu'!$H$10-'Výstupy modelu'!$H$9),0))","v":0},null,null,1865.4300000000003,1885.4300000000003,0,{"$f":"MAX(0,D21870-'Vstupní hodnoty'!$C$5)","v":0}]
[null,"2017-08-17T04:30:00",8,682.56000000000006,{"$f":"CEILING(IF(C21905-C21904=0,IF(H21904=0,I21904,IF(J21904>K21904,I21904,E21904)),'Výstupy modelu'!$C$7),1)","v":1664},0,0,{"$f":"IF(F21905=1,IF(G21905>'Zdrojová data'!$C$19,0,1),\"\")","v":""},1664,0,{"$f":"MIN(J21905,'Zdrojová data'!$C$17)","v":0},0,{"$f":"L21905/'Zdrojová data'!$C$16","v":0},{"$f":"M21905*'Zdrojová data'!$C$13","v":0},{"$f":"N21905*'Zdrojová data'!$C$14","v":0},0,{"$f":"IF(H21905=0,D21905-'Výstupy modelu'!$C$7,IF(P21905=1,J21905-K21905,0))","v":0},0,null,{"$f":"MAX(0,IF(Q21905>0,Q21905-('Výstupy modelu'!$H$10-'Výstupy modelu'!$H$9),0))","v":0},null,null,1865.4300000000003,1885.4300000000003,0,{"$f":"MAX(0,D21905-'Vstupní hodnoty'!$C$5)","v":0}]
[null,"2017-08-17T11:15:00",8,1685.88,{"$f":"CEILING(IF(C21932-C21931=0,IF(H21931=0,I21931,IF(J21931>K21931,I21931,E21931)),'Výstupy modelu'!$C$7),1)","v":1664},1,58,{"$f":"IF(F21932=1,IF(G21932>'Zdrojová data'!$C$19,0,1),\"\")","v":1},1664,21.880000000000109,{"$f":"MIN(J21932,'Zdrojová data'!$C$17)","v":21.880000000000109},5.4700000000000273,{"$f":"L21932/'Zdrojová data'!$C$16","v":0.91166666666667118},{"$f":"M21932*'Zdrojová data'!$C$13","v":1.2687361111111173},{"$f":"N21932*'Zdrojová data'!$C$14","v":29.878608543055702},0,{"$f":"IF(H21932=0,D21932-'Výstupy modelu'!$C$7,IF(P21932=1,J21932-K21932,0))","v":0},0,null,{"$f":"MAX(0,IF(Q21932>0,Q21932-('Výstupy modelu'!$H$10-'Výstupy modelu'!$H$9),0))","v":0},null,null,1865.4300000000003,1885.4300000000003,0,{"$f":"MAX(0,D21932-'Vstupní hodnoty'!$C$5)","v":0}]
[null,"2017-08-17T21:15:00",8,916.92000000000007,{"$f":"CEILING(IF(C21972-C21971=0,IF(H21971=0,I21971,IF(J21971>K21971,I21971,E21971)),'Výstupy modelu'!$C$7),1)","v":1664},0,0,{"$f":"IF(F21972=1,IF(G21972>'Zdrojová data'!$C$19,0,1),\"\")","v":""},1664,0,{"$f":"MIN(J21972,'Zdrojová data'!$C$17)","v":0},0,{"$f":"L21972/'Zdrojová data'!$C$16","v":0},{"$f":"M21972*'Zdrojová data'!$C$13","v":0},{"$f":"N21972*'Zdrojová data'!$C$14","v":0},0,{"$f":"IF(H21972=0,D21972-'Výstupy modelu'!$C$7,IF(P21972=1,J21972-K21972,0))","v":0},0,null,{"$f":"MAX(0,IF(Q21972>0,Q21972-('Výstupy modelu'!$H$10-'Výstupy modelu'!$H$9),0))","v":0},null,null,1865.4300000000003,1885.4300000000003,0,{"$f":"MAX(0,D21972-'Vstupní hodnoty'!$C$5)","v":0}]
[null,"2017-08-18T06:00:00",8,1180.44,{"$f":"CEILING(IF(C22007-C22006=0,IF(H22006=0,I22006,IF(J22006>K22006,I22006,E22006)),'Výstupy modelu'!$C$7),1)","v":1664},0,0,{"$f":"IF(F22007=1,IF(G22007>'Zdrojová data'!$C$19,0,1),\"\")","v":""},1664,0,{"$f":"MIN(J22007,'Zdrojová data'!$C$17)","v":0},0,{"$f":"L22007/'Zdrojová data'!$C$16","v":0},{"$f":"M22007*'Zdrojová data'!$C$13","v":0},{"$f":"N22007*'Zdrojová data'!$C$14","v":0},0,{"$f":"IF(H22007=0,D22007-'Výstupy modelu'!$C$7,IF(P22007=1,J22007-K22007,0))","v":0},0,null,{"$f":"MAX(0,IF(Q22007>0,Q22007-('Výstupy modelu'!$H$10-'Výstupy modelu'!$H$9),0))","v":0},null,null,1865.4300000000003,1885.4300000000003,0,{"$f":"MAX(0,D22007-'Vstupní hodnoty'!$C$5)","v":0}]
[null,"2017-08-18T10:15:00",8,1501.2,{"$f":"CEILING(IF(C22024-C22023=0,IF(H22023=0,I22023,IF(J22023>K22023,I22023,E22023)),'Výstupy modelu'!$C$7),1)","v":1664},0,0,{"$f":"IF(F22024=1,IF(G22024>'Zdrojová data'!$C$19,0,1),\"\")","v":""},1664,0,{"$f":"MIN(J22024,'Zdrojová data'!$C$17)","v":0},0,{"$f":"L22024/'Zdrojová data'!$C$16","v":0},{"$f":"M22024*'Zdrojová data'!$C$13","v":0},{"$f":"N22024*'Zdrojová data'!$C$14","v":0},0,{"$f":"IF(H22024=0,D22024-'Výstupy modelu'!$C$7,IF(P22024=1,J22024-K22024,0))","v":0},0,null,{"$f":"MAX(0,IF(Q22024>0,Q22024-('Výstupy modelu'!$H$10-'Výstupy modelu'!$H$9),0))","v":0},null,null,1865.4300000000003,1885.4300000000003,0,{"$f":"MAX(0,D22024-'Vstupní hodnoty'!$C$5)","v":0}]
[null,"2017-08-18T23:00:00",8,556.20000000000005,{"$f":"CEILING(IF(C22075-C22074=0,IF(H22074=0,I22074,IF(J22074>K22074,I22074,E22074)),'Výstupy modelu'!$C$7),1)","v":1664},0,0,{"$f":"IF(F22075=1,IF(G22075>'Zdrojová data'!$C$19,0,1),\"\")","v":""},1664,0,{"$f":"MIN(J22075,'Zdrojová data'!$C$17)","v":0},0,{"$f":"L22075/'Zdrojová data'!$C$16","v":0},{"$f":"M22075*'Zdrojová data'!$C$13","v":0},{"$f":"N22075*'Zdrojová data'!$C$14","v":0},0,{"$f":"IF(H22075=0,D22075-'Výstupy modelu'!$C$7,IF(P22075=1,J22075-K22075,0))","v":0},0,null,{"$f":"MAX(0,IF(Q22075>0,Q22075-('Výstupy modelu'!$H$10-'Výstupy modelu'!$H$9),0))","v":0},null,null,1865.4300000000003,1885.4300000000003,0,{"$f":"MAX(0,D22075-'Vstupní hodnoty'!$C$5)","v":0}]
[null,"2017-08-19T06:45:00",8,730.08,{"$f":"CEILING(IF(C22106-C22105=0,IF(H22105=0,I22105,IF(J22105>K22105,I22105,E22105)),'Výstupy modelu'!$C$7),1)","v":1664},0,0,{"$f":"IF(F22106=1,IF(G22106>'Zdrojová data'!$C$19,0,1),\"\")","v":""},1664,0,{"$f":"MIN(J22106,'Zdrojová data'!$C$17)","v":0},0,{"$f":"L22106/'Zdrojová data'!$C$16","v":0},{"$f":"M22106*'Zdrojová data'!$C$13","v":0},{"$f":"N22106*'Zdrojová data'!$C$14","v":0},0,{"$f":"IF(H22106=0,D22106-'Výstupy modelu'!$C$7,IF(P22106=1,J22106-K22106,0))","v":0},0,null,{"$f":"MAX(0,IF(Q22106>0,Q22106-('Výstupy modelu'!$H$10-'Výstupy modelu'!$H$9),0))","v":0},null,null,1865.4300000000003,1885.4300000000003,0,{"$f":"MAX(0,D22106-'Vstupní hodnoty'!$C$5)","v":0}]
[null,"2017-08-19T11:45:00",8,718.2,{"$f":"CEILING(IF(C22126-C22125=0,IF(H22125=0,I22125,IF(J22125>K22125,I22125,E22125)),'Výstupy modelu'!$C$7),1)","v":1664},0,0,{"$f":"IF(F22126=1,IF(G22126>'Zdrojová data'!$C$19,0,1),\"\")","v":""},1664,0,{"$f":"MIN(J22126,'Zdrojová data'!$C$17)","v":0},0,{"$f":"L22126/'Zdrojová data'!$C$16","v":0},{"$f":"M22126*'Zdrojová data'!$C$13","v":0},{"$f":"N22126*'Zdrojová data'!$C$14","v":0},0,{"$f":"IF(H22126=0,D22126-'Výstupy modelu'!$C$7,IF(P22126=1,J22126-K22126,0))","v":0},0,null,{"$f":"MAX(0,IF(Q22126>0,Q22126-('Výstupy modelu'!$H$10-'Výstupy modelu'!$H$9),0))","v":0},null,null,1865.4300000000003,1885.4300000000003,0,{"$f":"MAX(0,D22126-'Vstupní hodnoty'!$C$5)","v":0}]
[null,"2017-08-19T20:30:00",8,315.36,{"$f":"CEILING(IF(C22161-C22160=0,IF(H22160=0,I22160,IF(J22160>K22160,I22160,E22160)),'Výstupy modelu'!$C$7),1)","v":1664},0,0,{"$f":"IF(F22161=1,IF(G22161>'Zdrojová data'!$C$19,0,1),\"\")","v":""},1664,0,{"$f":"MIN(J22161,'Zdrojová data'!$C$17)","v":0},0,{"$f":"L22161/'Zdrojová data'!$C$16","v":0},{"$f":"M22161*'Zdrojová data'!$C$13","v":0},{"$f":"N22161*'Zdrojová data'!$C$14","v":0},0,{"$f":"IF(H22161=0,D22161-'Výstupy modelu'!$C$7,IF(P22161=1,J22161-K22161,0))","v":0},0,null,{"$f":"MAX(0,IF(Q22161>0,Q22161-('Výstupy modelu'!$H$10-'Výstupy modelu'!$H$9),0))","v":0},null,null,1865.4300000000003,1885.4300000000003,0,{"$f":"MAX(0,D22161-'Vstupní hodnoty'!$C$5)","v":0}]
[null,"2017-08-20T09:15:00",8,309.96000000000004,{"$f":"CEILING(IF(C22212-C22211=0,IF(H22211=0,I22211,IF(J22211>K22211,I22211,E22211)),'Výstupy modelu'!$C$7),1)","v":1664},{"$f":"IF(D22212>E22212,1,0)","v":0},0,{"$f":"IF(F22212=1,IF(G22212>'Zdrojová data'!$C$19,0,1),\"\")","v":""},{"$f":"IF(H22212=0,D22212,IF(J22212>K22212,E22212+J22212-K22212,E22212))","v":1664},{"$f":"IF(H22212=1,D22212-E22212,0)","v":0},{"$f":"MIN(J22212,'Zdrojová data'!$C$17)","v":0},0,{"$f":"L22212/'Zdrojová data'!$C$16","v":0},{"$f":"M22212*'Zdrojová data'!$C$13","v":0},{"$f":"N22212*'Zdrojová data'!$C$14","v":0},0,{"$f":"IF(H22212=0,D22212-'Výstupy modelu'!$C$7,IF(P22212=1,J22212-K22212,0))","v":0},0,null,{"$f":"MAX(0,IF(Q22212>0,Q22212-('Výstupy modelu'!$H$10-'Výstupy modelu'!$H$9),0))","v":0},null,null,1865.4300000000003,1885.4300000000003,0,{"$f":"MAX(0,D22212-'Vstupní hodnoty'!$C$5)","v":0}]
[null,"2017-08-20T13:30:00",8,320.76000000000005,{"$f":"CEILING(IF(C22229-C22228=0,IF(H22228=0,I22228,IF(J22228>K22228,I22228,E22228)),'Výstupy modelu'!$C$7),1)","v":1664},0,0,{"$f":"IF(F22229=1,IF(G22229>'Zdrojová data'!$C$19,0,1),\"\")","v":""},1664,0,{"$f":"MIN(J22229,'Zdrojová data'!$C$17)","v":0},0,{"$f":"L22229/'Zdrojová data'!$C$16","v":0},{"$f":"M22229*'Zdrojová data'!$C$13","v":0},{"$f":"N22229*'Zdrojová data'!$C$14","v":0},0,{"$f":"IF(H22229=0,D22229-'Výstupy modelu'!$C$7,IF(P22229=1,J22229-K22229,0))","v":0},0,null,{"$f":"MAX(0,IF(Q22229>0,Q22229-('Výstupy modelu'!$H$10-'Výstupy modelu'!$H$9),0))","v":0},null,null,1865.4300000000003,1885.4300000000003,0,{"$f":"MAX(0,D22229-'Vstupní hodnoty'!$C$5)","v":0}]
[null,"2017-08-21T02:15:00",8,638.28000000000009,{"$f":"CEILING(IF(C22280-C22279=0,IF(H22279=0,I22279,IF(J22279>K22279,I22279,E22279)),'Výstupy modelu'!$C$7),1)","v":1664},0,0,{"$f":"IF(F22280=1,IF(G22280>'Zdrojová data'!$C$19,0,1),\"\")","v":""},1664,0,{"$f":"MIN(J22280,'Zdrojová data'!$C$17)","v":0},0,{"$f":"L22280/'Zdrojová data'!$C$16","v":0},{"$f":"M22280*'Zdrojová data'!$C$13","v":0},{"$f":"N22280*'Zdrojová data'!$C$14","v":0},0,{"$f":"IF(H22280=0,D22280-'Výstupy modelu'!$C$7,IF(P22280=1,J22280-K22280,0))","v":0},0,null,{"$f":"MAX(0,IF(Q22280>0,Q22280-('Výstupy modelu'!$H$10-'Výstupy modelu'!$H$9),0))","v":0},null,null,1865.4300000000003,1885.4300000000003,0,{"$f":"MAX(0,D22280-'Vstupní hodnoty'!$C$5)","v":0}]
[null,"2017-08-21T10:45:00",8,1467.72,{"$f":"CEILING(IF(C22314-C22313=0,IF(H22313=0,I22313,IF(J22313>K22313,I22313,E22313)),'Výstupy modelu'!$C$7),1)","v":1664},0,0,{"$f":"IF(F22314=1,IF(G22314>'Zdrojová data'!$C$19,0,1),\"\")","v":""},1664,0,{"$f":"MIN(J22314,'Zdrojová data'!$C$17)","v":0},0,{"$f":"L22314/'Zdrojová data'!$C$16","v":0},{"$f":"M22314*'Zdrojová data'!$C$13","v":0},{"$f":"N22314*'Zdrojová data'!$C$14","v":0},0,{"$f":"IF(H22314=0,D22314-'Výstupy modelu'!$C$7,IF(P22314=1,J22314-K22314,0))","v":0},0,null,{"$f":"MAX(0,IF(Q22314>0,Q22314-('Výstupy modelu'!$H$10-'Výstupy modelu'!$H$9),0))","v":0},null,null,1865.4300000000003,1885.4300000000003,0,{"$f":"MAX(0,D22314-'Vstupní hodnoty'!$C$5)","v":0}]
[null,"2017-08-21T19:30:00",8,1089.72,{"$f":"CEILING(IF(C22349-C22348=0,IF(H22348=0,I22348,IF(J22348>K22348,I22348,E22348)),'Výstupy modelu'!$C$7),1)","v":1664},0,0,{"$f":"IF(F22349=1,IF(G22349>'Zdrojová data'!$C$19,0,1),\"\")","v":""},1664,0,{"$f":"MIN(J22349,'Zdrojová data'!$C$17)","v":0},0,{"$f":"L22349/'Zdrojová data'!$C$16","v":0},{"$f":"M22349*'Zdrojová data'!$C$13","v":0},{"$f":"N22349*'Zdrojová data'!$C$14","v":0},0,{"$f":"IF(H22349=0,D22349-'Výstupy modelu'!$C$7,IF(P22349=1,J22349-K22349,0))","v":0},0,null,{"$f":"MAX(0,IF(Q22349>0,Q22349-('Výstupy modelu'!$H$10-'Výstupy modelu'!$H$9),0))","v":0},null,null,1865.4300000000003,1885.4300000000003,0,{"$f":"MAX(0,D22349-'Vstupní hodnoty'!$C$5)","v":0}]
[null,"2017-08-21T23:45:00",8,469.8,{"$f":"CEILING(IF(C22366-C22365=0,IF(H22365=0,I22365,IF(J22365>K22365,I22365,E22365)),'Výstupy modelu'!$C$7),1)","v":1664},0,0,{"$f":"IF(F22366=1,IF(G22366>'Zdrojová data'!$C$19,0,1),\"\")","v":""},1664,0,{"$f":"MIN(J22366,'Zdrojová data'!$C$17)","v":0},0,{"$f":"L22366/'Zdrojová data'!$C$16","v":0},{"$f":"M22366*'Zdrojová data'!$C$13","v":0},{"$f":"N22366*'Zdrojová data'!$C$14","v":0},0,{"$f":"IF(H22366=0,D22366-'Výstupy modelu'!$C$7,IF(P22366=1,J22366-K22366,0))","v":0},0,null,{"$f":"MAX(0,IF(Q22366>0,Q22366-('Výstupy modelu'!$H$10-'Výstupy modelu'!$H$9),0))","v":0},null,null,1865.4300000000003,1885.4300000000003,0,{"$f":"MAX(0,D22366-'Vstupní hodnoty'!$C$5)","v":0}]
[null,"2017-08-22T12:30:00",8,1387.8000000000002,{"$f":"CEILING(IF(C22417-C22416=0,IF(H22416=0,I22416,IF(J22416>K22416,I22416,E22416)),'Výstupy modelu'!$C$7),1)","v":1664},0,0,{"$f":"IF(F22417=1,IF(G22417>'Zdrojová data'!$C$19,0,1),\"\")","v":""},1664,0,{"$f":"MIN(J22417,'Zdrojová data'!$C$17)","v":0},0,{"$f":"L22417/'Zdrojová data'!$C$16","v":0},{"$f":"M22417*'Zdrojová data'!$C$13","v":0},{"$f":"N22417*'Zdrojová data'!$C$14","v":0},0,{"$f":"IF(H22417=0,D22417-'Výstupy modelu'!$C$7,IF(P22417=1,J22417-K22417,0))","v":0},0,null,{"$f":"MAX(0,IF(Q22417>0,Q22417-('Výstupy modelu'!$H$10-'Výstupy modelu'!$H$9),0))","v":0},null,null,1865.4300000000003,1885.4300000000003,0,{"$f":"MAX(0,D22417-'Vstupní hodnoty'!$C$5)","v":0}]
[null,"2017-08-22T21:45:00",8,689.04000000000008,{"$f":"CEILING(IF(C22454-C22453=0,IF(H22453=0,I22453,IF(J22453>K22453,I22453,E22453)),'Výstupy modelu'!$C$7),1)","v":1664},0,0,{"$f":"IF(F22454=1,IF(G22454>'Zdrojová data'!$C$19,0,1),\"\")","v":""},1664,0,{"$f":"MIN(J22454,'Zdrojová data'!$C$17)","v":0},0,{"$f":"L22454/'Zdrojová data'!$C$16","v":0},{"$f":"M22454*'Zdrojová data'!$C$13","v":0},{"$f":"N22454*'Zdrojová data'!$C$14","v":0},0,{"$f":"IF(H22454=0,D22454-'Výstupy modelu'!$C$7,IF(P22454=1,J22454-K22454,0))","v":0},0,null,{"$f":"MAX(0,IF(Q22454>0,Q22454-('Výstupy modelu'!$H$10-'Výstupy modelu'!$H$9),0))","v":0},null,null,1865.4300000000003,1885.4300000000003,0,{"$f":"MAX(0,D22454-'Vstupní hodnoty'!$C$5)","v":0}]
[null,"2017-08-23T01:15:00",8,592.92000000000007,{"$f":"CEILING(IF(C22468-C22467=0,IF(H22467=0,I22467,IF(J22467>K22467,I22467,E22467)),'Výstupy modelu'!$C$7),1)","v":1664},{"$f":"IF(D22468>E22468,1,0)","v":0},0,{"$f":"IF(F22468=1,IF(G22468>'Zdrojová data'!$C$19,0,1),\"\")","v":""},{"$f":"IF(H22468=0,D22468,IF(J22468>K22468,E22468+J22468-K22468,E22468))","v":1664},{"$f":"IF(H22468=1,D22468-E22468,0)","v":0},{"$f":"MIN(J22468,'Zdrojová data'!$C$17)","v":0},0,{"$f":"L22468/'Zdrojová data'!$C$16","v":0},{"$f":"M22468*'Zdrojová data'!$C$13","v":0},{"$f":"N22468*'Zdrojová data'!$C$14","v":0},0,{"$f":"IF(H22468=0,D22468-'Výstupy modelu'!$C$7,IF(P22468=1,J22468-K22468,0))","v":0},0,null,{"$f":"MAX(0,IF(Q22468>0,Q22468-('Výstupy modelu'!$H$10-'Výstupy modelu'!$H$9),0))","v":0},null,null,1865.4300000000003,1885.4300000000003,0,{"$f":"MAX(0,D22468-'Vstupní hodnoty'!$C$5)","v":0}]
[null,"2017-08-23T14:00:00",8,1373.76,{"$f":"CEILING(IF(C22519-C22518=0,IF(H22518=0,I22518,IF(J22518>K22518,I22518,E22518)),'Výstupy modelu'!$C$7),1)","v":1664},0,0,{"$f":"IF(F22519=1,IF(G22519>'Zdrojová data'!$C$19,0,1),\"\")","v":""},1664,0,{"$f":"MIN(J22519,'Zdrojová data'!$C$17)","v":0},0,{"$f":"L22519/'Zdrojová data'!$C$16","v":0},{"$f":"M22519*'Zdrojová data'!$C$13","v":0},{"$f":"N22519*'Zdrojová data'!$C$14","v":0},0,{"$f":"IF(H22519=0,D22519-'Výstupy modelu'!$C$7,IF(P22519=1,J22519-K22519,0))","v":0},0,null,{"$f":"MAX(0,IF(Q22519>0,Q22519-('Výstupy modelu'!$H$10-'Výstupy modelu'!$H$9),0))","v":0},null,null,1865.4300000000003,1885.4300000000003,0,{"$f":"MAX(0,D22519-'Vstupní hodnoty'!$C$5)","v":0}]
[null,"2017-08-23T22:45:00",8,533.52,{"$f":"CEILING(IF(C22554-C22553=0,IF(H22553=0,I22553,IF(J22553>K22553,I22553,E22553)),'Výstupy modelu'!$C$7),1)","v":1664},0,0,{"$f":"IF(F22554=1,IF(G22554>'Zdrojová data'!$C$19,0,1),\"\")","v":""},1664,0,{"$f":"MIN(J22554,'Zdrojová data'!$C$17)","v":0},0,{"$f":"L22554/'Zdrojová data'!$C$16","v":0},{"$f":"M22554*'Zdrojová data'!$C$13","v":0},{"$f":"N22554*'Zdrojová data'!$C$14","v":0},0,{"$f":"IF(H22554=0,D22554-'Výstupy modelu'!$C$7,IF(P22554=1,J22554-K22554,0))","v":0},0,null,{"$f":"MAX(0,IF(Q22554>0,Q22554-('Výstupy modelu'!$H$10-'Výstupy modelu'!$H$9),0))","v":0},null,null,1865.4300000000003,1885.4300000000003,0,{"$f":"MAX(0,D22554-'Vstupní hodnoty'!$C$5)","v":0}]
[null,"2017-08-24T03:00:00",8,584.28000000000009,{"$f":"CEILING(IF(C22571-C22570=0,IF(H22570=0,I22570,IF(J22570>K22570,I22570,E22570)),'Výstupy modelu'!$C$7),1)","v":1664},0,0,{"$f":"IF(F22571=1,IF(G22571>'Zdrojová data'!$C$19,0,1),\"\")","v":""},1664,0,{"$f":"MIN(J22571,'Zdrojová data'!$C$17)","v":0},0,{"$f":"L22571/'Zdrojová data'!$C$16","v":0},{"$f":"M22571*'Zdrojová data'!$C$13","v":0},{"$f":"N22571*'Zdrojová data'!$C$14","v":0},0,{"$f":"IF(H22571=0,D22571-'Výstupy modelu'!$C$7,IF(P22571=1,J22571-K22571,0))","v":0},0,null,{"$f":"MAX(0,IF(Q22571>0,Q22571-('Výstupy modelu'!$H$10-'Výstupy modelu'!$H$9),0))","v":0},null,null,1865.4300000000003,1885.4300000000003,0,{"$f":"MAX(0,D22571-'Vstupní hodnoty'!$C$5)","v":0}]
[null,"2017-08-24T17:15:00",8,1246.3200000000002,{"$f":"CEILING(IF(C22628-C22627=0,IF(H22627=0,I22627,IF(J22627>K22627,I22627,E22627)),'Výstupy modelu'!$C$7),1)","v":1664},0,0,{"$f":"IF(F22628=1,IF(G22628>'Zdrojová data'!$C$19,0,1),\"\")","v":""},1664,0,{"$f":"MIN(J22628,'Zdrojová data'!$C$17)","v":0},0,{"$f":"L22628/'Zdrojová data'!$C$16","v":0},{"$f":"M22628*'Zdrojová data'!$C$13","v":0},{"$f":"N22628*'Zdrojová data'!$C$14","v":0},0,{"$f":"IF(H22628=0,D22628-'Výstupy modelu'!$C$7,IF(P22628=1,J22628-K22628,0))","v":0},0,null,{"$f":"MAX(0,IF(Q22628>0,Q22628-('Výstupy modelu'!$H$10-'Výstupy modelu'!$H$9),0))","v":0},null,null,1865.4300000000003,1885.4300000000003,0,{"$f":"MAX(0,D22628-'Vstupní hodnoty'!$C$5)","v":0}]
[null,"2017-08-25T00:15:00",8,572.40000000000009,{"$f":"CEILING(IF(C22656-C22655=0,IF(H22655=0,I22655,IF(J22655>K22655,I22655,E22655)),'Výstupy modelu'!$C$7),1)","v":1664},0,0,{"$f":"IF(F22656=1,IF(G22656>'Zdrojová data'!$C$19,0,1),\"\")","v":""},1664,0,{"$f":"MIN(J22656,'Zdrojová data'!$C$17)","v":0},0,{"$f":"L22656/'Zdrojová data'!$C$16","v":0},{"$f":"M22656*'Zdrojová data'!$C$13","v":0},{"$f":"N22656*'Zdrojová data'!$C$14","v":0},0,{"$f":"IF(H22656=0,D22656-'Výstupy modelu'!$C$7,IF(P22656=1,J22656-K22656,0))","v":0},0,null,{"$f":"MAX(0,IF(Q22656>0,Q22656-('Výstupy modelu'!$H$10-'Výstupy modelu'!$H$9),0))","v":0},null,null,1865.4300000000003,1885.4300000000003,0,{"$f":"MAX(0,D22656-'Vstupní hodnoty'!$C$5)","v":0}]
[null,"2017-08-25T04:30:00",8,605.88,{"$f":"CEILING(IF(C22673-C22672=0,IF(H22672=0,I22672,IF(J22672>K22672,I22672,E22672)),'Výstupy modelu'!$C$7),1)","v":1664},0,0,{"$f":"IF(F22673=1,IF(G22673>'Zdrojová data'!$C$19,0,1),\"\")","v":""},1664,0,{"$f":"MIN(J22673,'Zdrojová data'!$C$17)","v":0},0,{"$f":"L22673/'Zdrojová data'!$C$16","v":0},{"$f":"M22673*'Zdrojová data'!$C$13","v":0},{"$f":"N22673*'Zdrojová data'!$C$14","v":0},0,{"$f":"IF(H22673=0,D22673-'Výstupy modelu'!$C$7,IF(P22673=1,J22673-K22673,0))","v":0},0,null,{"$f":"MAX(0,IF(Q22673>0,Q22673-('Výstupy modelu'!$H$10-'Výstupy modelu'!$H$9),0))","v":0},null,null,1865.4300000000003,1885.4300000000003,0,{"$f":"MAX(0,D22673-'Vstupní hodnoty'!$C$5)","v":0}]
[null,"2017-08-25T13:15:00",8,1582.2,{"$f":"CEILING(IF(C22708-C22707=0,IF(H22707=0,I22707,IF(J22707>K22707,I22707,E22707)),'Výstupy modelu'!$C$7),1)","v":1664},0,0,{"$f":"IF(F22708=1,IF(G22708>'Zdrojová data'!$C$19,0,1),\"\")","v":""},1664,0,{"$f":"MIN(J22708,'Zdrojová data'!$C$17)","v":0},0,{"$f":"L22708/'Zdrojová data'!$C$16","v":0},{"$f":"M22708*'Zdrojová data'!$C$13","v":0},{"$f":"N22708*'Zdrojová data'!$C$14","v":0},0,{"$f":"IF(H22708=0,D22708-'Výstupy modelu'!$C$7,IF(P22708=1,J22708-K22708,0))","v":0},0,null,{"$f":"MAX(0,IF(Q22708>0,Q22708-('Výstupy modelu'!$H$10-'Výstupy modelu'!$H$9),0))","v":0},null,null,1865.4300000000003,1885.4300000000003,0,{"$f":"MAX(0,D22708-'Vstupní hodnoty'!$C$5)","v":0}]
[null,"2017-08-26T01:45:00",8,320.76000000000005,{"$f":"CEILING(IF(C22758-C22757=0,IF(H22757=0,I22757,IF(J22757>K22757,I22757,E22757)),'Výstupy modelu'!$C$7),1)","v":1664},0,0,{"$f":"IF(F22758=1,IF(G22758>'Zdrojová data'!$C$19,0,1),\"\")","v":""},1664,0,{"$f":"MIN(J22758,'Zdrojová data'!$C$17)","v":0},0,{"$f":"L22758/'Zdrojová data'!$C$16","v":0},{"$f":"M22758*'Zdrojová data'!$C$13","v":0},{"$f":"N22758*'Zdrojová data'!$C$14","v":0},0,{"$f":"IF(H22758=0,D22758-'Výstupy modelu'!$C$7,IF(P22758=1,J22758-K22758,0))","v":0},0,null,{"$f":"MAX(0,IF(Q22758>0,Q22758-('Výstupy modelu'!$H$10-'Výstupy modelu'!$H$9),0))","v":0},null,null,1865.4300000000003,1885.4300000000003,0,{"$f":"MAX(0,D22758-'Vstupní hodnoty'!$C$5)","v":0}]
[null,"2017-08-26T06:00:00",8,541.08000000000004,{"$f":"CEILING(IF(C22775-C22774=0,IF(H22774=0,I22774,IF(J22774>K22774,I22774,E22774)),'Výstupy modelu'!$C$7),1)","v":1664},0,0,{"$f":"IF(F22775=1,IF(G22775>'Zdrojová data'!$C$19,0,1),\"\")","v":""},1664,0,{"$f":"MIN(J22775,'Zdrojová data'!$C$17)","v":0},0,{"$f":"L22775/'Zdrojová data'!$C$16","v":0},{"$f":"M22775*'Zdrojová data'!$C$13","v":0},{"$f":"N22775*'Zdrojová data'!$C$14","v":0},0,{"$f":"IF(H22775=0,D22775-'Výstupy modelu'!$C$7,IF(P22775=1,J22775-K22775,0))","v":0},0,null,{"$f":"MAX(0,IF(Q22775>0,Q22775-('Výstupy modelu'!$H$10-'Výstupy modelu'!$H$9),0))","v":0},null,null,1865.4300000000003,1885.4300000000003,0,{"$f":"MAX(0,D22775-'Vstupní hodnoty'!$C$5)","v":0}]
[null,"2017-08-26T14:45:00",8,321.84000000000003,{"$f":"CEILING(IF(C22810-C22809=0,IF(H22809=0,I22809,IF(J22809>K22809,I22809,E22809)),'Výstupy modelu'!$C$7),1)","v":1664},0,0,{"$f":"IF(F22810=1,IF(G22810>'Zdrojová data'!$C$19,0,1),\"\")","v":""},1664,0,{"$f":"MIN(J22810,'Zdrojová data'!$C$17)","v":0},0,{"$f":"L22810/'Zdrojová data'!$C$16","v":0},{"$f":"M22810*'Zdrojová data'!$C$13","v":0},{"$f":"N22810*'Zdrojová data'!$C$14","v":0},0,{"$f":"IF(H22810=0,D22810-'Výstupy modelu'!$C$7,IF(P22810=1,J22810-K22810,0))","v":0},0,null,{"$f":"MAX(0,IF(Q22810>0,Q22810-('Výstupy modelu'!$H$10-'Výstupy modelu'!$H$9),0))","v":0},null,null,1865.4300000000003,1885.4300000000003,0,{"$f":"MAX(0,D22810-'Vstupní hodnoty'!$C$5)","v":0}]
[null,"2017-08-27T03:30:00",8,393.12,{"$f":"CEILING(IF(C22861-C22860=0,IF(H22860=0,I22860,IF(J22860>K22860,I22860,E22860)),'Výstupy modelu'!$C$7),1)","v":1664},0,0,{"$f":"IF(F22861=1,IF(G22861>'Zdrojová data'!$C$19,0,1),\"\")","v":""},1664,0,{"$f":"MIN(J22861,'Zdrojová data'!$C$17)","v":0},0,{"$f":"L22861/'Zdrojová data'!$C$16","v":0},{"$f":"M22861*'Zdrojová data'!$C$13","v":0},{"$f":"N22861*'Zdrojová data'!$C$14","v":0},0,{"$f":"IF(H22861=0,D22861-'Výstupy modelu'!$C$7,IF(P22861=1,J22861-K22861,0))","v":0},0,null,{"$f":"MAX(0,IF(Q22861>0,Q22861-('Výstupy modelu'!$H$10-'Výstupy modelu'!$H$9),0))","v":0},null,null,1865.4300000000003,1885.4300000000003,0,{"$f":"MAX(0,D22861-'Vstupní hodnoty'!$C$5)","v":0}]
[null,"2017-08-27T12:15:00",8,333.72,{"$f":"CEILING(IF(C22896-C22895=0,IF(H22895=0,I22895,IF(J22895>K22895,I22895,E22895)),'Výstupy modelu'!$C$7),1)","v":1664},0,0,{"$f":"IF(F22896=1,IF(G22896>'Zdrojová data'!$C$19,0,1),\"\")","v":""},1664,0,{"$f":"MIN(J22896,'Zdrojová data'!$C$17)","v":0},0,{"$f":"L22896/'Zdrojová data'!$C$16","v":0},{"$f":"M22896*'Zdrojová data'!$C$13","v":0},{"$f":"N22896*'Zdrojová data'!$C$14","v":0},0,{"$f":"IF(H22896=0,D22896-'Výstupy modelu'!$C$7,IF(P22896=1,J22896-K22896,0))","v":0},0,null,{"$f":"MAX(0,IF(Q22896>0,Q22896-('Výstupy modelu'!$H$10-'Výstupy modelu'!$H$9),0))","v":0},null,null,1865.4300000000003,1885.4300000000003,0,{"$f":"MAX(0,D22896-'Vstupní hodnoty'!$C$5)","v":0}]
[null,"2017-08-27T21:15:00",8,280.8,{"$f":"CEILING(IF(C22932-C22931=0,IF(H22931=0,I22931,IF(J22931>K22931,I22931,E22931)),'Výstupy modelu'!$C$7),1)","v":1664},0,0,{"$f":"IF(F22932=1,IF(G22932>'Zdrojová data'!$C$19,0,1),\"\")","v":""},1664,0,{"$f":"MIN(J22932,'Zdrojová data'!$C$17)","v":0},0,{"$f":"L22932/'Zdrojová data'!$C$16","v":0},{"$f":"M22932*'Zdrojová data'!$C$13","v":0},{"$f":"N22932*'Zdrojová data'!$C$14","v":0},0,{"$f":"IF(H22932=0,D22932-'Výstupy modelu'!$C$7,IF(P22932=1,J22932-K22932,0))","v":0},0,null,{"$f":"MAX(0,IF(Q22932>0,Q22932-('Výstupy modelu'!$H$10-'Výstupy modelu'!$H$9),0))","v":0},null,null,1865.4300000000003,1885.4300000000003,0,{"$f":"MAX(0,D22932-'Vstupní hodnoty'!$C$5)","v":0}]
[null,"2017-08-28T05:00:00",8,616.68000000000006,{"$f":"CEILING(IF(C22963-C22962=0,IF(H22962=0,I22962,IF(J22962>K22962,I22962,E22962)),'Výstupy modelu'!$C$7),1)","v":1664},0,0,{"$f":"IF(F22963=1,IF(G22963>'Zdrojová data'!$C$19,0,1),\"\")","v":""},1664,0,{"$f":"MIN(J22963,'Zdrojová data'!$C$17)","v":0},0,{"$f":"L22963/'Zdrojová data'!$C$16","v":0},{"$f":"M22963*'Zdrojová data'!$C$13","v":0},{"$f":"N22963*'Zdrojová data'!$C$14","v":0},0,{"$f":"IF(H22963=0,D22963-'Výstupy modelu'!$C$7,IF(P22963=1,J22963-K22963,0))","v":0},0,null,{"$f":"MAX(0,IF(Q22963>0,Q22963-('Výstupy modelu'!$H$10-'Výstupy modelu'!$H$9),0))","v":0},null,null,1865.4300000000003,1885.4300000000003,0,{"$f":"MAX(0,D22963-'Vstupní hodnoty'!$C$5)","v":0}]
[null,"2017-08-28T13:45:00",8,1626.48,{"$f":"CEILING(IF(C22998-C22997=0,IF(H22997=0,I22997,IF(J22997>K22997,I22997,E22997)),'Výstupy modelu'!$C$7),1)","v":1664},0,0,{"$f":"IF(F22998=1,IF(G22998>'Zdrojová data'!$C$19,0,1),\"\")","v":""},1664,0,{"$f":"MIN(J22998,'Zdrojová data'!$C$17)","v":0},0,{"$f":"L22998/'Zdrojová data'!$C$16","v":0},{"$f":"M22998*'Zdrojová data'!$C$13","v":0},{"$f":"N22998*'Zdrojová data'!$C$14","v":0},0,{"$f":"IF(H22998=0,D22998-'Výstupy modelu'!$C$7,IF(P22998=1,J22998-K22998,0))","v":0},0,null,{"$f":"MAX(0,IF(Q22998>0,Q22998-('Výstupy modelu'!$H$10-'Výstupy modelu'!$H$9),0))","v":0},null,null,1865.4300000000003,1885.4300000000003,0,{"$f":"MAX(0,D22998-'Vstupní hodnoty'!$C$5)","v":0}]
[null,"2017-08-28T18:00:00",8,1022.7600000000001,{"$f":"CEILING(IF(C23015-C23014=0,IF(H23014=0,I23014,IF(J23014>K23014,I23014,E23014)),'Výstupy modelu'!$C$7),1)","v":1664},0,0,{"$f":"IF(F23015=1,IF(G23015>'Zdrojová data'!$C$19,0,1),\"\")","v":""},1664,0,{"$f":"MIN(J23015,'Zdrojová data'!$C$17)","v":0},0,{"$f":"L23015/'Zdrojová data'!$C$16","v":0},{"$f":"M23015*'Zdrojová data'!$C$13","v":0},{"$f":"N23015*'Zdrojová data'!$C$14","v":0},0,{"$f":"IF(H23015=0,D23015-'Výstupy modelu'!$C$7,IF(P23015=1,J23015-K23015,0))","v":0},0,null,{"$f":"MAX(0,IF(Q23015>0,Q23015-('Výstupy modelu'!$H$10-'Výstupy modelu'!$H$9),0))","v":0},null,null,1865.4300000000003,1885.4300000000003,0,{"$f":"MAX(0,D23015-'Vstupní hodnoty'!$C$5)","v":0}]
[null,"2017-08-29T02:45:00",8,587.52,{"$f":"CEILING(IF(C23050-C23049=0,IF(H23049=0,I23049,IF(J23049>K23049,I23049,E23049)),'Výstupy modelu'!$C$7),1)","v":1664},0,0,{"$f":"IF(F23050=1,IF(G23050>'Zdrojová data'!$C$19,0,1),\"\")","v":""},1664,0,{"$f":"MIN(J23050,'Zdrojová data'!$C$17)","v":0},0,{"$f":"L23050/'Zdrojová data'!$C$16","v":0},{"$f":"M23050*'Zdrojová data'!$C$13","v":0},{"$f":"N23050*'Zdrojová data'!$C$14","v":0},0,{"$f":"IF(H23050=0,D23050-'Výstupy modelu'!$C$7,IF(P23050=1,J23050-K23050,0))","v":0},0,null,{"$f":"MAX(0,IF(Q23050>0,Q23050-('Výstupy modelu'!$H$10-'Výstupy modelu'!$H$9),0))","v":0},null,null,1865.4300000000003,1885.4300000000003,0,{"$f":"MAX(0,D23050-'Vstupní hodnoty'!$C$5)","v":0}]
[null,"2017-08-29T08:30:00",8,1422.3600000000001,{"$f":"CEILING(IF(C23073-C23072=0,IF(H23072=0,I23072,IF(J23072>K23072,I23072,E23072)),'Výstupy modelu'!$C$7),1)","v":1664},0,0,{"$f":"IF(F23073=1,IF(G23073>'Zdrojová data'!$C$19,0,1),\"\")","v":""},1664,0,{"$f":"MIN(J23073,'Zdrojová data'!$C$17)","v":0},0,{"$f":"L23073/'Zdrojová data'!$C$16","v":0},{"$f":"M23073*'Zdrojová data'!$C$13","v":0},{"$f":"N23073*'Zdrojová data'!$C$14","v":0},0,{"$f":"IF(H23073=0,D23073-'Výstupy modelu'!$C$7,IF(P23073=1,J23073-K23073,0))","v":0},0,null,{"$f":"MAX(0,IF(Q23073>0,Q23073-('Výstupy modelu'!$H$10-'Výstupy modelu'!$H$9),0))","v":0},null,null,1865.4300000000003,1885.4300000000003,0,{"$f":"MAX(0,D23073-'Vstupní hodnoty'!$C$5)","v":0}]
[null,"2017-08-29T19:30:00",8,1128.6000000000001,{"$f":"CEILING(IF(C23117-C23116=0,IF(H23116=0,I23116,IF(J23116>K23116,I23116,E23116)),'Výstupy modelu'!$C$7),1)","v":1664},0,0,{"$f":"IF(F23117=1,IF(G23117>'Zdrojová data'!$C$19,0,1),\"\")","v":""},1664,0,{"$f":"MIN(J23117,'Zdrojová data'!$C$17)","v":0},0,{"$f":"L23117/'Zdrojová data'!$C$16","v":0},{"$f":"M23117*'Zdrojová data'!$C$13","v":0},{"$f":"N23117*'Zdrojová data'!$C$14","v":0},0,{"$f":"IF(H23117=0,D23117-'Výstupy modelu'!$C$7,IF(P23117=1,J23117-K23117,0))","v":0},0,null,{"$f":"MAX(0,IF(Q23117>0,Q23117-('Výstupy modelu'!$H$10-'Výstupy modelu'!$H$9),0))","v":0},null,null,1865.4300000000003,1885.4300000000003,0,{"$f":"MAX(0,D23117-'Vstupní hodnoty'!$C$5)","v":0}]
[null,"2017-08-30T04:15:00",8,617.76,{"$f":"CEILING(IF(C23152-C23151=0,IF(H23151=0,I23151,IF(J23151>K23151,I23151,E23151)),'Výstupy modelu'!$C$7),1)","v":1664},0,0,{"$f":"IF(F23152=1,IF(G23152>'Zdrojová data'!$C$19,0,1),\"\")","v":""},1664,0,{"$f":"MIN(J23152,'Zdrojová data'!$C$17)","v":0},0,{"$f":"L23152/'Zdrojová data'!$C$16","v":0},{"$f":"M23152*'Zdrojová data'!$C$13","v":0},{"$f":"N23152*'Zdrojová data'!$C$14","v":0},0,{"$f":"IF(H23152=0,D23152-'Výstupy modelu'!$C$7,IF(P23152=1,J23152-K23152,0))","v":0},0,null,{"$f":"MAX(0,IF(Q23152>0,Q23152-('Výstupy modelu'!$H$10-'Výstupy modelu'!$H$9),0))","v":0},null,null,1865.4300000000003,1885.4300000000003,0,{"$f":"MAX(0,D23152-'Vstupní hodnoty'!$C$5)","v":0}]
[null,"2017-08-30T17:00:00",8,1127.52,{"$f":"CEILING(IF(C23203-C23202=0,IF(H23202=0,I23202,IF(J23202>K23202,I23202,E23202)),'Výstupy modelu'!$C$7),1)","v":1664},0,0,{"$f":"IF(F23203=1,IF(G23203>'Zdrojová data'!$C$19,0,1),\"\")","v":""},1664,0,{"$f":"MIN(J23203,'Zdrojová data'!$C$17)","v":0},0,{"$f":"L23203/'Zdrojová data'!$C$16","v":0},{"$f":"M23203*'Zdrojová data'!$C$13","v":0},{"$f":"N23203*'Zdrojová data'!$C$14","v":0},0,{"$f":"IF(H23203=0,D23203-'Výstupy modelu'!$C$7,IF(P23203=1,J23203-K23203,0))","v":0},0,null,{"$f":"MAX(0,IF(Q23203>0,Q23203-('Výstupy modelu'!$H$10-'Výstupy modelu'!$H$9),0))","v":0},null,null,1865.4300000000003,1885.4300000000003,0,{"$f":"MAX(0,D23203-'Vstupní hodnoty'!$C$5)","v":0}]
[null,"2017-08-30T21:15:00",8,868.32,{"$f":"CEILING(IF(C23220-C23219=0,IF(H23219=0,I23219,IF(J23219>K23219,I23219,E23219)),'Výstupy modelu'!$C$7),1)","v":1664},0,0,{"$f":"IF(F23220=1,IF(G23220>'Zdrojová data'!$C$19,0,1),\"\")","v":""},1664,0,{"$f":"MIN(J23220,'Zdrojová data'!$C$17)","v":0},0,{"$f":"L23220/'Zdrojová data'!$C$16","v":0},{"$f":"M23220*'Zdrojová data'!$C$13","v":0},{"$f":"N23220*'Zdrojová data'!$C$14","v":0},0,{"$f":"IF(H23220=0,D23220-'Výstupy modelu'!$C$7,IF(P23220=1,J23220-K23220,0))","v":0},0,null,{"$f":"MAX(0,IF(Q23220>0,Q23220-('Výstupy modelu'!$H$10-'Výstupy modelu'!$H$9),0))","v":0},null,null,1865.4300000000003,1885.4300000000003,0,{"$f":"MAX(0,D23220-'Vstupní hodnoty'!$C$5)","v":0}]
[null,"2017-08-31T04:00:00",8,547.56000000000006,{"$f":"CEILING(IF(C23247-C23246=0,IF(H23246=0,I23246,IF(J23246>K23246,I23246,E23246)),'Výstupy modelu'!$C$7),1)","v":1664},0,0,{"$f":"IF(F23247=1,IF(G23247>'Zdrojová data'!$C$19,0,1),\"\")","v":""},1664,0,{"$f":"MIN(J23247,'Zdrojová data'!$C$17)","v":0},0,{"$f":"L23247/'Zdrojová data'!$C$16","v":0},{"$f":"M23247*'Zdrojová data'!$C$13","v":0},{"$f":"N23247*'Zdrojová data'!$C$14","v":0},0,{"$f":"IF(H23247=0,D23247-'Výstupy modelu'!$C$7,IF(P23247=1,J23247-K23247,0))","v":0},0,null,{"$f":"MAX(0,IF(Q23247>0,Q23247-('Výstupy modelu'!$H$10-'Výstupy modelu'!$H$9),0))","v":0},null,null,1865.4300000000003,1885.4300000000003,0,{"$f":"MAX(0,D23247-'Vstupní hodnoty'!$C$5)","v":0}]
[null,"2017-08-31T10:00:00",8,1574.64,{"$f":"CEILING(IF(C23271-C23270=0,IF(H23270=0,I23270,IF(J23270>K23270,I23270,E23270)),'Výstupy modelu'!$C$7),1)","v":1664},0,0,{"$f":"IF(F23271=1,IF(G23271>'Zdrojová data'!$C$19,0,1),\"\")","v":""},1664,0,{"$f":"MIN(J23271,'Zdrojová data'!$C$17)","v":0},0,{"$f":"L23271/'Zdrojová data'!$C$16","v":0},{"$f":"M23271*'Zdrojová data'!$C$13","v":0},{"$f":"N23271*'Zdrojová data'!$C$14","v":0},0,{"$f":"IF(H23271=0,D23271-'Výstupy modelu'!$C$7,IF(P23271=1,J23271-K23271,0))","v":0},0,null,{"$f":"MAX(0,IF(Q23271>0,Q23271-('Výstupy modelu'!$H$10-'Výstupy modelu'!$H$9),0))","v":0},null,null,1865.4300000000003,1885.4300000000003,0,{"$f":"MAX(0,D23271-'Vstupní hodnoty'!$C$5)","v":0}]
[null,"2017-08-31T18:45:00",8,1103.76,{"$f":"CEILING(IF(C23306-C23305=0,IF(H23305=0,I23305,IF(J23305>K23305,I23305,E23305)),'Výstupy modelu'!$C$7),1)","v":1664},0,0,{"$f":"IF(F23306=1,IF(G23306>'Zdrojová data'!$C$19,0,1),\"\")","v":""},1664,0,{"$f":"MIN(J23306,'Zdrojová data'!$C$17)","v":0},0,{"$f":"L23306/'Zdrojová data'!$C$16","v":0},{"$f":"M23306*'Zdrojová data'!$C$13","v":0},{"$f":"N23306*'Zdrojová data'!$C$14","v":0},0,{"$f":"IF(H23306=0,D23306-'Výstupy modelu'!$C$7,IF(P23306=1,J23306-K23306,0))","v":0},0,null,{"$f":"MAX(0,IF(Q23306>0,Q23306-('Výstupy modelu'!$H$10-'Výstupy modelu'!$H$9),0))","v":0},null,null,1865.4300000000003,1885.4300000000003,0,{"$f":"MAX(0,D23306-'Vstupní hodnoty'!$C$5)","v":0}]
[null,"2017-09-01T07:30:00",9,1365.1200000000001,{"$f":"CEILING(IF(C23357-C23356=0,IF(H23356=0,I23356,IF(J23356>K23356,I23356,E23356)),'Výstupy modelu'!$C$7),1)","v":1664},0,0,{"$f":"IF(F23357=1,IF(G23357>'Zdrojová data'!$C$19,0,1),\"\")","v":""},1664,0,{"$f":"MIN(J23357,'Zdrojová data'!$C$17)","v":0},0,{"$f":"L23357/'Zdrojová data'!$C$16","v":0},{"$f":"M23357*'Zdrojová data'!$C$13","v":0},{"$f":"N23357*'Zdrojová data'!$C$14","v":0},0,{"$f":"IF(H23357=0,D23357-'Výstupy modelu'!$C$7,IF(P23357=1,J23357-K23357,0))","v":0},0,null,{"$f":"MAX(0,IF(Q23357>0,Q23357-('Výstupy modelu'!$H$10-'Výstupy modelu'!$H$9),0))","v":0},null,null,1865.4300000000003,1885.4300000000003,0,{"$f":"MAX(0,D23357-'Vstupní hodnoty'!$C$5)","v":0}]
[null,"2017-09-01T11:45:00",9,1405.0800000000002,{"$f":"CEILING(IF(C23374-C23373=0,IF(H23373=0,I23373,IF(J23373>K23373,I23373,E23373)),'Výstupy modelu'!$C$7),1)","v":1664},0,0,{"$f":"IF(F23374=1,IF(G23374>'Zdrojová data'!$C$19,0,1),\"\")","v":""},1664,0,{"$f":"MIN(J23374,'Zdrojová data'!$C$17)","v":0},0,{"$f":"L23374/'Zdrojová data'!$C$16","v":0},{"$f":"M23374*'Zdrojová data'!$C$13","v":0},{"$f":"N23374*'Zdrojová data'!$C$14","v":0},0,{"$f":"IF(H23374=0,D23374-'Výstupy modelu'!$C$7,IF(P23374=1,J23374-K23374,0))","v":0},0,null,{"$f":"MAX(0,IF(Q23374>0,Q23374-('Výstupy modelu'!$H$10-'Výstupy modelu'!$H$9),0))","v":0},null,null,1865.4300000000003,1885.4300000000003,0,{"$f":"MAX(0,D23374-'Vstupní hodnoty'!$C$5)","v":0}]
[null,"2017-09-01T23:30:00",9,265.68,{"$f":"CEILING(IF(C23421-C23420=0,IF(H23420=0,I23420,IF(J23420>K23420,I23420,E23420)),'Výstupy modelu'!$C$7),1)","v":1664},0,0,{"$f":"IF(F23421=1,IF(G23421>'Zdrojová data'!$C$19,0,1),\"\")","v":""},1664,0,{"$f":"MIN(J23421,'Zdrojová data'!$C$17)","v":0},0,{"$f":"L23421/'Zdrojová data'!$C$16","v":0},{"$f":"M23421*'Zdrojová data'!$C$13","v":0},{"$f":"N23421*'Zdrojová data'!$C$14","v":0},0,{"$f":"IF(H23421=0,D23421-'Výstupy modelu'!$C$7,IF(P23421=1,J23421-K23421,0))","v":0},0,null,{"$f":"MAX(0,IF(Q23421>0,Q23421-('Výstupy modelu'!$H$10-'Výstupy modelu'!$H$9),0))","v":0},null,null,1865.4300000000003,1885.4300000000003,0,{"$f":"MAX(0,D23421-'Vstupní hodnoty'!$C$5)","v":0}]
[null,"2017-09-02T09:00:00",9,662.04000000000008,{"$f":"CEILING(IF(C23459-C23458=0,IF(H23458=0,I23458,IF(J23458>K23458,I23458,E23458)),'Výstupy modelu'!$C$7),1)","v":1664},0,0,{"$f":"IF(F23459=1,IF(G23459>'Zdrojová data'!$C$19,0,1),\"\")","v":""},1664,0,{"$f":"MIN(J23459,'Zdrojová data'!$C$17)","v":0},0,{"$f":"L23459/'Zdrojová data'!$C$16","v":0},{"$f":"M23459*'Zdrojová data'!$C$13","v":0},{"$f":"N23459*'Zdrojová data'!$C$14","v":0},0,{"$f":"IF(H23459=0,D23459-'Výstupy modelu'!$C$7,IF(P23459=1,J23459-K23459,0))","v":0},0,null,{"$f":"MAX(0,IF(Q23459>0,Q23459-('Výstupy modelu'!$H$10-'Výstupy modelu'!$H$9),0))","v":0},null,null,1865.4300000000003,1885.4300000000003,0,{"$f":"MAX(0,D23459-'Vstupní hodnoty'!$C$5)","v":0}]
[null,"2017-09-02T17:45:00",9,245.16000000000003,{"$f":"CEILING(IF(C23494-C23493=0,IF(H23493=0,I23493,IF(J23493>K23493,I23493,E23493)),'Výstupy modelu'!$C$7),1)","v":1664},0,0,{"$f":"IF(F23494=1,IF(G23494>'Zdrojová data'!$C$19,0,1),\"\")","v":""},1664,0,{"$f":"MIN(J23494,'Zdrojová data'!$C$17)","v":0},0,{"$f":"L23494/'Zdrojová data'!$C$16","v":0},{"$f":"M23494*'Zdrojová data'!$C$13","v":0},{"$f":"N23494*'Zdrojová data'!$C$14","v":0},0,{"$f":"IF(H23494=0,D23494-'Výstupy modelu'!$C$7,IF(P23494=1,J23494-K23494,0))","v":0},0,null,{"$f":"MAX(0,IF(Q23494>0,Q23494-('Výstupy modelu'!$H$10-'Výstupy modelu'!$H$9),0))","v":0},null,null,1865.4300000000003,1885.4300000000003,0,{"$f":"MAX(0,D23494-'Vstupní hodnoty'!$C$5)","v":0}]
[null,"2017-09-02T22:00:00",9,237.60000000000002,{"$f":"CEILING(IF(C23511-C23510=0,IF(H23510=0,I23510,IF(J23510>K23510,I23510,E23510)),'Výstupy modelu'!$C$7),1)","v":1664},0,0,{"$f":"IF(F23511=1,IF(G23511>'Zdrojová data'!$C$19,0,1),\"\")","v":""},1664,0,{"$f":"MIN(J23511,'Zdrojová data'!$C$17)","v":0},0,{"$f":"L23511/'Zdrojová data'!$C$16","v":0},{"$f":"M23511*'Zdrojová data'!$C$13","v":0},{"$f":"N23511*'Zdrojová data'!$C$14","v":0},0,{"$f":"IF(H23511=0,D23511-'Výstupy modelu'!$C$7,IF(P23511=1,J23511-K23511,0))","v":0},0,null,{"$f":"MAX(0,IF(Q23511>0,Q23511-('Výstupy modelu'!$H$10-'Výstupy modelu'!$H$9),0))","v":0},null,null,1865.4300000000003,1885.4300000000003,0,{"$f":"MAX(0,D23511-'Vstupní hodnoty'!$C$5)","v":0}]
[null,"2017-09-03T10:45:00",9,219.24,{"$f":"CEILING(IF(C23562-C23561=0,IF(H23561=0,I23561,IF(J23561>K23561,I23561,E23561)),'Výstupy modelu'!$C$7),1)","v":1664},0,0,{"$f":"IF(F23562=1,IF(G23562>'Zdrojová data'!$C$19,0,1),\"\")","v":""},1664,0,{"$f":"MIN(J23562,'Zdrojová data'!$C$17)","v":0},0,{"$f":"L23562/'Zdrojová data'!$C$16","v":0},{"$f":"M23562*'Zdrojová data'!$C$13","v":0},{"$f":"N23562*'Zdrojová data'!$C$14","v":0},0,{"$f":"IF(H23562=0,D23562-'Výstupy modelu'!$C$7,IF(P23562=1,J23562-K23562,0))","v":0},0,null,{"$f":"MAX(0,IF(Q23562>0,Q23562-('Výstupy modelu'!$H$10-'Výstupy modelu'!$H$9),0))","v":0},null,null,1865.4300000000003,1885.4300000000003,0,{"$f":"MAX(0,D23562-'Vstupní hodnoty'!$C$5)","v":0}]
[null,"2017-09-03T19:00:00",9,236.52,{"$f":"CEILING(IF(C23595-C23594=0,IF(H23594=0,I23594,IF(J23594>K23594,I23594,E23594)),'Výstupy modelu'!$C$7),1)","v":1664},0,0,{"$f":"IF(F23595=1,IF(G23595>'Zdrojová data'!$C$19,0,1),\"\")","v":""},1664,0,{"$f":"MIN(J23595,'Zdrojová data'!$C$17)","v":0},0,{"$f":"L23595/'Zdrojová data'!$C$16","v":0},{"$f":"M23595*'Zdrojová data'!$C$13","v":0},{"$f":"N23595*'Zdrojová data'!$C$14","v":0},0,{"$f":"IF(H23595=0,D23595-'Výstupy modelu'!$C$7,IF(P23595=1,J23595-K23595,0))","v":0},0,null,{"$f":"MAX(0,IF(Q23595>0,Q23595-('Výstupy modelu'!$H$10-'Výstupy modelu'!$H$9),0))","v":0},null,null,1865.4300000000003,1885.4300000000003,0,{"$f":"MAX(0,D23595-'Vstupní hodnoty'!$C$5)","v":0}]
[null,"2017-09-03T23:30:00",9,371.52000000000004,{"$f":"CEILING(IF(C23613-C23612=0,IF(H23612=0,I23612,IF(J23612>K23612,I23612,E23612)),'Výstupy modelu'!$C$7),1)","v":1664},0,0,{"$f":"IF(F23613=1,IF(G23613>'Zdrojová data'!$C$19,0,1),\"\")","v":""},1664,0,{"$f":"MIN(J23613,'Zdrojová data'!$C$17)","v":0},0,{"$f":"L23613/'Zdrojová data'!$C$16","v":0},{"$f":"M23613*'Zdrojová data'!$C$13","v":0},{"$f":"N23613*'Zdrojová data'!$C$14","v":0},0,{"$f":"IF(H23613=0,D23613-'Výstupy modelu'!$C$7,IF(P23613=1,J23613-K23613,0))","v":0},0,null,{"$f":"MAX(0,IF(Q23613>0,Q23613-('Výstupy modelu'!$H$10-'Výstupy modelu'!$H$9),0))","v":0},null,null,1865.4300000000003,1885.4300000000003,0,{"$f":"MAX(0,D23613-'Vstupní hodnoty'!$C$5)","v":0}]
[null,"2017-09-04T12:15:00",9,1126.44,{"$f":"CEILING(IF(C23664-C23663=0,IF(H23663=0,I23663,IF(J23663>K23663,I23663,E23663)),'Výstupy modelu'!$C$7),1)","v":1664},0,0,{"$f":"IF(F23664=1,IF(G23664>'Zdrojová data'!$C$19,0,1),\"\")","v":""},1664,0,{"$f":"MIN(J23664,'Zdrojová data'!$C$17)","v":0},0,{"$f":"L23664/'Zdrojová data'!$C$16","v":0},{"$f":"M23664*'Zdrojová data'!$C$13","v":0},{"$f":"N23664*'Zdrojová data'!$C$14","v":0},0,{"$f":"IF(H23664=0,D23664-'Výstupy modelu'!$C$7,IF(P23664=1,J23664-K23664,0))","v":0},0,null,{"$f":"MAX(0,IF(Q23664>0,Q23664-('Výstupy modelu'!$H$10-'Výstupy modelu'!$H$9),0))","v":0},null,null,1865.4300000000003,1885.4300000000003,0,{"$f":"MAX(0,D23664-'Vstupní hodnoty'!$C$5)","v":0}]
[null,"2017-09-04T21:00:00",9,819.72,{"$f":"CEILING(IF(C23699-C23698=0,IF(H23698=0,I23698,IF(J23698>K23698,I23698,E23698)),'Výstupy modelu'!$C$7),1)","v":1664},0,0,{"$f":"IF(F23699=1,IF(G23699>'Zdrojová data'!$C$19,0,1),\"\")","v":""},1664,0,{"$f":"MIN(J23699,'Zdrojová data'!$C$17)","v":0},0,{"$f":"L23699/'Zdrojová data'!$C$16","v":0},{"$f":"M23699*'Zdrojová data'!$C$13","v":0},{"$f":"N23699*'Zdrojová data'!$C$14","v":0},0,{"$f":"IF(H23699=0,D23699-'Výstupy modelu'!$C$7,IF(P23699=1,J23699-K23699,0))","v":0},0,null,{"$f":"MAX(0,IF(Q23699>0,Q23699-('Výstupy modelu'!$H$10-'Výstupy modelu'!$H$9),0))","v":0},null,null,1865.4300000000003,1885.4300000000003,0,{"$f":"MAX(0,D23699-'Vstupní hodnoty'!$C$5)","v":0}]
[null,"2017-09-05T01:15:00",9,639.36,{"$f":"CEILING(IF(C23716-C23715=0,IF(H23715=0,I23715,IF(J23715>K23715,I23715,E23715)),'Výstupy modelu'!$C$7),1)","v":1664},0,0,{"$f":"IF(F23716=1,IF(G23716>'Zdrojová data'!$C$19,0,1),\"\")","v":""},1664,0,{"$f":"MIN(J23716,'Zdrojová data'!$C$17)","v":0},0,{"$f":"L23716/'Zdrojová data'!$C$16","v":0},{"$f":"M23716*'Zdrojová data'!$C$13","v":0},{"$f":"N23716*'Zdrojová data'!$C$14","v":0},0,{"$f":"IF(H23716=0,D23716-'Výstupy modelu'!$C$7,IF(P23716=1,J23716-K23716,0))","v":0},0,null,{"$f":"MAX(0,IF(Q23716>0,Q23716-('Výstupy modelu'!$H$10-'Výstupy modelu'!$H$9),0))","v":0},null,null,1865.4300000000003,1885.4300000000003,0,{"$f":"MAX(0,D23716-'Vstupní hodnoty'!$C$5)","v":0}]
[null,"2017-09-05T14:30:00",9,1374.8400000000001,{"$f":"CEILING(IF(C23769-C23768=0,IF(H23768=0,I23768,IF(J23768>K23768,I23768,E23768)),'Výstupy modelu'!$C$7),1)","v":1664},0,0,{"$f":"IF(F23769=1,IF(G23769>'Zdrojová data'!$C$19,0,1),\"\")","v":""},1664,0,{"$f":"MIN(J23769,'Zdrojová data'!$C$17)","v":0},0,{"$f":"L23769/'Zdrojová data'!$C$16","v":0},{"$f":"M23769*'Zdrojová data'!$C$13","v":0},{"$f":"N23769*'Zdrojová data'!$C$14","v":0},0,{"$f":"IF(H23769=0,D23769-'Výstupy modelu'!$C$7,IF(P23769=1,J23769-K23769,0))","v":0},0,null,{"$f":"MAX(0,IF(Q23769>0,Q23769-('Výstupy modelu'!$H$10-'Výstupy modelu'!$H$9),0))","v":0},null,null,1865.4300000000003,1885.4300000000003,0,{"$f":"MAX(0,D23769-'Vstupní hodnoty'!$C$5)","v":0}]
[null,"2017-09-05T22:30:00",9,530.28000000000009,{"$f":"CEILING(IF(C23801-C23800=0,IF(H23800=0,I23800,IF(J23800>K23800,I23800,E23800)),'Výstupy modelu'!$C$7),1)","v":1664},0,0,{"$f":"IF(F23801=1,IF(G23801>'Zdrojová data'!$C$19,0,1),\"\")","v":""},1664,0,{"$f":"MIN(J23801,'Zdrojová data'!$C$17)","v":0},0,{"$f":"L23801/'Zdrojová data'!$C$16","v":0},{"$f":"M23801*'Zdrojová data'!$C$13","v":0},{"$f":"N23801*'Zdrojová data'!$C$14","v":0},0,{"$f":"IF(H23801=0,D23801-'Výstupy modelu'!$C$7,IF(P23801=1,J23801-K23801,0))","v":0},0,null,{"$f":"MAX(0,IF(Q23801>0,Q23801-('Výstupy modelu'!$H$10-'Výstupy modelu'!$H$9),0))","v":0},null,null,1865.4300000000003,1885.4300000000003,0,{"$f":"MAX(0,D23801-'Vstupní hodnoty'!$C$5)","v":0}]
[null,"2017-09-06T02:45:00",9,587.52,{"$f":"CEILING(IF(C23818-C23817=0,IF(H23817=0,I23817,IF(J23817>K23817,I23817,E23817)),'Výstupy modelu'!$C$7),1)","v":1664},0,0,{"$f":"IF(F23818=1,IF(G23818>'Zdrojová data'!$C$19,0,1),\"\")","v":""},1664,0,{"$f":"MIN(J23818,'Zdrojová data'!$C$17)","v":0},0,{"$f":"L23818/'Zdrojová data'!$C$16","v":0},{"$f":"M23818*'Zdrojová data'!$C$13","v":0},{"$f":"N23818*'Zdrojová data'!$C$14","v":0},0,{"$f":"IF(H23818=0,D23818-'Výstupy modelu'!$C$7,IF(P23818=1,J23818-K23818,0))","v":0},0,null,{"$f":"MAX(0,IF(Q23818>0,Q23818-('Výstupy modelu'!$H$10-'Výstupy modelu'!$H$9),0))","v":0},null,null,1865.4300000000003,1885.4300000000003,0,{"$f":"MAX(0,D23818-'Vstupní hodnoty'!$C$5)","v":0}]
[null,"2017-09-06T11:30:00",9,1388.88,{"$f":"CEILING(IF(C23853-C23852=0,IF(H23852=0,I23852,IF(J23852>K23852,I23852,E23852)),'Výstupy modelu'!$C$7),1)","v":1664},0,0,{"$f":"IF(F23853=1,IF(G23853>'Zdrojová data'!$C$19,0,1),\"\")","v":""},1664,0,{"$f":"MIN(J23853,'Zdrojová data'!$C$17)","v":0},0,{"$f":"L23853/'Zdrojová data'!$C$16","v":0},{"$f":"M23853*'Zdrojová data'!$C$13","v":0},{"$f":"N23853*'Zdrojová data'!$C$14","v":0},0,{"$f":"IF(H23853=0,D23853-'Výstupy modelu'!$C$7,IF(P23853=1,J23853-K23853,0))","v":0},0,null,{"$f":"MAX(0,IF(Q23853>0,Q23853-('Výstupy modelu'!$H$10-'Výstupy modelu'!$H$9),0))","v":0},null,null,1865.4300000000003,1885.4300000000003,0,{"$f":"MAX(0,D23853-'Vstupní hodnoty'!$C$5)","v":0}]
[null,"2017-09-07T00:15:00",9,560.52,{"$f":"CEILING(IF(C23904-C23903=0,IF(H23903=0,I23903,IF(J23903>K23903,I23903,E23903)),'Výstupy modelu'!$C$7),1)","v":1664},0,0,{"$f":"IF(F23904=1,IF(G23904>'Zdrojová data'!$C$19,0,1),\"\")","v":""},1664,0,{"$f":"MIN(J23904,'Zdrojová data'!$C$17)","v":0},0,{"$f":"L23904/'Zdrojová data'!$C$16","v":0},{"$f":"M23904*'Zdrojová data'!$C$13","v":0},{"$f":"N23904*'Zdrojová data'!$C$14","v":0},0,{"$f":"IF(H23904=0,D23904-'Výstupy modelu'!$C$7,IF(P23904=1,J23904-K23904,0))","v":0},0,null,{"$f":"MAX(0,IF(Q23904>0,Q23904-('Výstupy modelu'!$H$10-'Výstupy modelu'!$H$9),0))","v":0},null,null,1865.4300000000003,1885.4300000000003,0,{"$f":"MAX(0,D23904-'Vstupní hodnoty'!$C$5)","v":0}]
[null,"2017-09-07T09:00:00",9,1481.76,{"$f":"CEILING(IF(C23939-C23938=0,IF(H23938=0,I23938,IF(J23938>K23938,I23938,E23938)),'Výstupy modelu'!$C$7),1)","v":1664},0,0,{"$f":"IF(F23939=1,IF(G23939>'Zdrojová data'!$C$19,0,1),\"\")","v":""},1664,0,{"$f":"MIN(J23939,'Zdrojová data'!$C$17)","v":0},0,{"$f":"L23939/'Zdrojová data'!$C$16","v":0},{"$f":"M23939*'Zdrojová data'!$C$13","v":0},{"$f":"N23939*'Zdrojová data'!$C$14","v":0},0,{"$f":"IF(H23939=0,D23939-'Výstupy modelu'!$C$7,IF(P23939=1,J23939-K23939,0))","v":0},0,null,{"$f":"MAX(0,IF(Q23939>0,Q23939-('Výstupy modelu'!$H$10-'Výstupy modelu'!$H$9),0))","v":0},null,null,1865.4300000000003,1885.4300000000003,0,{"$f":"MAX(0,D23939-'Vstupní hodnoty'!$C$5)","v":0}]
[null,"2017-09-07T13:00:00",9,1429.92,{"$f":"CEILING(IF(C23955-C23954=0,IF(H23954=0,I23954,IF(J23954>K23954,I23954,E23954)),'Výstupy modelu'!$C$7),1)","v":1664},0,0,{"$f":"IF(F23955=1,IF(G23955>'Zdrojová data'!$C$19,0,1),\"\")","v":""},1664,0,{"$f":"MIN(J23955,'Zdrojová data'!$C$17)","v":0},0,{"$f":"L23955/'Zdrojová data'!$C$16","v":0},{"$f":"M23955*'Zdrojová data'!$C$13","v":0},{"$f":"N23955*'Zdrojová data'!$C$14","v":0},0,{"$f":"IF(H23955=0,D23955-'Výstupy modelu'!$C$7,IF(P23955=1,J23955-K23955,0))","v":0},0,null,{"$f":"MAX(0,IF(Q23955>0,Q23955-('Výstupy modelu'!$H$10-'Výstupy modelu'!$H$9),0))","v":0},null,null,1865.4300000000003,1885.4300000000003,0,{"$f":"MAX(0,D23955-'Vstupní hodnoty'!$C$5)","v":0}]
[null,"2017-09-08T01:45:00",9,540,{"$f":"CEILING(IF(C24006-C24005=0,IF(H24005=0,I24005,IF(J24005>K24005,I24005,E24005)),'Výstupy modelu'!$C$7),1)","v":1664},0,0,{"$f":"IF(F24006=1,IF(G24006>'Zdrojová data'!$C$19,0,1),\"\")","v":""},1664,0,{"$f":"MIN(J24006,'Zdrojová data'!$C$17)","v":0},0,{"$f":"L24006/'Zdrojová data'!$C$16","v":0},{"$f":"M24006*'Zdrojová data'!$C$13","v":0},{"$f":"N24006*'Zdrojová data'!$C$14","v":0},0,{"$f":"IF(H24006=0,D24006-'Výstupy modelu'!$C$7,IF(P24006=1,J24006-K24006,0))","v":0},0,null,{"$f":"MAX(0,IF(Q24006>0,Q24006-('Výstupy modelu'!$H$10-'Výstupy modelu'!$H$9),0))","v":0},null,null,1865.4300000000003,1885.4300000000003,0,{"$f":"MAX(0,D24006-'Vstupní hodnoty'!$C$5)","v":0}]
[null,"2017-09-08T10:30:00",9,1491.48,{"$f":"CEILING(IF(C24041-C24040=0,IF(H24040=0,I24040,IF(J24040>K24040,I24040,E24040)),'Výstupy modelu'!$C$7),1)","v":1664},0,0,{"$f":"IF(F24041=1,IF(G24041>'Zdrojová data'!$C$19,0,1),\"\")","v":""},1664,0,{"$f":"MIN(J24041,'Zdrojová data'!$C$17)","v":0},0,{"$f":"L24041/'Zdrojová data'!$C$16","v":0},{"$f":"M24041*'Zdrojová data'!$C$13","v":0},{"$f":"N24041*'Zdrojová data'!$C$14","v":0},0,{"$f":"IF(H24041=0,D24041-'Výstupy modelu'!$C$7,IF(P24041=1,J24041-K24041,0))","v":0},0,null,{"$f":"MAX(0,IF(Q24041>0,Q24041-('Výstupy modelu'!$H$10-'Výstupy modelu'!$H$9),0))","v":0},null,null,1865.4300000000003,1885.4300000000003,0,{"$f":"MAX(0,D24041-'Vstupní hodnoty'!$C$5)","v":0}]
[null,"2017-09-08T18:30:00",9,1054.0800000000002,{"$f":"CEILING(IF(C24073-C24072=0,IF(H24072=0,I24072,IF(J24072>K24072,I24072,E24072)),'Výstupy modelu'!$C$7),1)","v":1664},0,0,{"$f":"IF(F24073=1,IF(G24073>'Zdrojová data'!$C$19,0,1),\"\")","v":""},1664,0,{"$f":"MIN(J24073,'Zdrojová data'!$C$17)","v":0},0,{"$f":"L24073/'Zdrojová data'!$C$16","v":0},{"$f":"M24073*'Zdrojová data'!$C$13","v":0},{"$f":"N24073*'Zdrojová data'!$C$14","v":0},0,{"$f":"IF(H24073=0,D24073-'Výstupy modelu'!$C$7,IF(P24073=1,J24073-K24073,0))","v":0},0,null,{"$f":"MAX(0,IF(Q24073>0,Q24073-('Výstupy modelu'!$H$10-'Výstupy modelu'!$H$9),0))","v":0},null,null,1865.4300000000003,1885.4300000000003,0,{"$f":"MAX(0,D24073-'Vstupní hodnoty'!$C$5)","v":0}]
[null,"2017-09-09T03:15:00",9,237.60000000000002,{"$f":"CEILING(IF(C24108-C24107=0,IF(H24107=0,I24107,IF(J24107>K24107,I24107,E24107)),'Výstupy modelu'!$C$7),1)","v":1664},0,0,{"$f":"IF(F24108=1,IF(G24108>'Zdrojová data'!$C$19,0,1),\"\")","v":""},1664,0,{"$f":"MIN(J24108,'Zdrojová data'!$C$17)","v":0},0,{"$f":"L24108/'Zdrojová data'!$C$16","v":0},{"$f":"M24108*'Zdrojová data'!$C$13","v":0},{"$f":"N24108*'Zdrojová data'!$C$14","v":0},0,{"$f":"IF(H24108=0,D24108-'Výstupy modelu'!$C$7,IF(P24108=1,J24108-K24108,0))","v":0},0,null,{"$f":"MAX(0,IF(Q24108>0,Q24108-('Výstupy modelu'!$H$10-'Výstupy modelu'!$H$9),0))","v":0},null,null,1865.4300000000003,1885.4300000000003,0,{"$f":"MAX(0,D24108-'Vstupní hodnoty'!$C$5)","v":0}]
[null,"2017-09-09T12:00:00",9,378,{"$f":"CEILING(IF(C24143-C24142=0,IF(H24142=0,I24142,IF(J24142>K24142,I24142,E24142)),'Výstupy modelu'!$C$7),1)","v":1664},0,0,{"$f":"IF(F24143=1,IF(G24143>'Zdrojová data'!$C$19,0,1),\"\")","v":""},1664,0,{"$f":"MIN(J24143,'Zdrojová data'!$C$17)","v":0},0,{"$f":"L24143/'Zdrojová data'!$C$16","v":0},{"$f":"M24143*'Zdrojová data'!$C$13","v":0},{"$f":"N24143*'Zdrojová data'!$C$14","v":0},0,{"$f":"IF(H24143=0,D24143-'Výstupy modelu'!$C$7,IF(P24143=1,J24143-K24143,0))","v":0},0,null,{"$f":"MAX(0,IF(Q24143>0,Q24143-('Výstupy modelu'!$H$10-'Výstupy modelu'!$H$9),0))","v":0},null,null,1865.4300000000003,1885.4300000000003,0,{"$f":"MAX(0,D24143-'Vstupní hodnoty'!$C$5)","v":0}]
[null,"2017-09-09T16:15:00",9,266.76,{"$f":"CEILING(IF(C24160-C24159=0,IF(H24159=0,I24159,IF(J24159>K24159,I24159,E24159)),'Výstupy modelu'!$C$7),1)","v":1664},0,0,{"$f":"IF(F24160=1,IF(G24160>'Zdrojová data'!$C$19,0,1),\"\")","v":""},1664,0,{"$f":"MIN(J24160,'Zdrojová data'!$C$17)","v":0},0,{"$f":"L24160/'Zdrojová data'!$C$16","v":0},{"$f":"M24160*'Zdrojová data'!$C$13","v":0},{"$f":"N24160*'Zdrojová data'!$C$14","v":0},0,{"$f":"IF(H24160=0,D24160-'Výstupy modelu'!$C$7,IF(P24160=1,J24160-K24160,0))","v":0},0,null,{"$f":"MAX(0,IF(Q24160>0,Q24160-('Výstupy modelu'!$H$10-'Výstupy modelu'!$H$9),0))","v":0},null,null,1865.4300000000003,1885.4300000000003,0,{"$f":"MAX(0,D24160-'Vstupní hodnoty'!$C$5)","v":0}]
[null,"2017-09-10T01:00:00",9,292.68,{"$f":"CEILING(IF(C24195-C24194=0,IF(H24194=0,I24194,IF(J24194>K24194,I24194,E24194)),'Výstupy modelu'!$C$7),1)","v":1664},0,0,{"$f":"IF(F24195=1,IF(G24195>'Zdrojová data'!$C$19,0,1),\"\")","v":""},1664,0,{"$f":"MIN(J24195,'Zdrojová data'!$C$17)","v":0},0,{"$f":"L24195/'Zdrojová data'!$C$16","v":0},{"$f":"M24195*'Zdrojová data'!$C$13","v":0},{"$f":"N24195*'Zdrojová data'!$C$14","v":0},0,{"$f":"IF(H24195=0,D24195-'Výstupy modelu'!$C$7,IF(P24195=1,J24195-K24195,0))","v":0},0,null,{"$f":"MAX(0,IF(Q24195>0,Q24195-('Výstupy modelu'!$H$10-'Výstupy modelu'!$H$9),0))","v":0},null,null,1865.4300000000003,1885.4300000000003,0,{"$f":"MAX(0,D24195-'Vstupní hodnoty'!$C$5)","v":0}]
[null,"2017-09-10T14:00:00",9,243.00000000000003,{"$f":"CEILING(IF(C24247-C24246=0,IF(H24246=0,I24246,IF(J24246>K24246,I24246,E24246)),'Výstupy modelu'!$C$7),1)","v":1664},0,0,{"$f":"IF(F24247=1,IF(G24247>'Zdrojová data'!$C$19,0,1),\"\")","v":""},1664,0,{"$f":"MIN(J24247,'Zdrojová data'!$C$17)","v":0},0,{"$f":"L24247/'Zdrojová data'!$C$16","v":0},{"$f":"M24247*'Zdrojová data'!$C$13","v":0},{"$f":"N24247*'Zdrojová data'!$C$14","v":0},0,{"$f":"IF(H24247=0,D24247-'Výstupy modelu'!$C$7,IF(P24247=1,J24247-K24247,0))","v":0},0,null,{"$f":"MAX(0,IF(Q24247>0,Q24247-('Výstupy modelu'!$H$10-'Výstupy modelu'!$H$9),0))","v":0},null,null,1865.4300000000003,1885.4300000000003,0,{"$f":"MAX(0,D24247-'Vstupní hodnoty'!$C$5)","v":0}]
[null,"2017-09-10T17:45:00",9,247.32000000000002,{"$f":"CEILING(IF(C24262-C24261=0,IF(H24261=0,I24261,IF(J24261>K24261,I24261,E24261)),'Výstupy modelu'!$C$7),1)","v":1664},0,0,{"$f":"IF(F24262=1,IF(G24262>'Zdrojová data'!$C$19,0,1),\"\")","v":""},1664,0,{"$f":"MIN(J24262,'Zdrojová data'!$C$17)","v":0},0,{"$f":"L24262/'Zdrojová data'!$C$16","v":0},{"$f":"M24262*'Zdrojová data'!$C$13","v":0},{"$f":"N24262*'Zdrojová data'!$C$14","v":0},0,{"$f":"IF(H24262=0,D24262-'Výstupy modelu'!$C$7,IF(P24262=1,J24262-K24262,0))","v":0},0,null,{"$f":"MAX(0,IF(Q24262>0,Q24262-('Výstupy modelu'!$H$10-'Výstupy modelu'!$H$9),0))","v":0},null,null,1865.4300000000003,1885.4300000000003,0,{"$f":"MAX(0,D24262-'Vstupní hodnoty'!$C$5)","v":0}]
[null,"2017-09-11T02:30:00",9,589.68000000000006,{"$f":"CEILING(IF(C24297-C24296=0,IF(H24296=0,I24296,IF(J24296>K24296,I24296,E24296)),'Výstupy modelu'!$C$7),1)","v":1664},0,0,{"$f":"IF(F24297=1,IF(G24297>'Zdrojová data'!$C$19,0,1),\"\")","v":""},1664,0,{"$f":"MIN(J24297,'Zdrojová data'!$C$17)","v":0},0,{"$f":"L24297/'Zdrojová data'!$C$16","v":0},{"$f":"M24297*'Zdrojová data'!$C$13","v":0},{"$f":"N24297*'Zdrojová data'!$C$14","v":0},0,{"$f":"IF(H24297=0,D24297-'Výstupy modelu'!$C$7,IF(P24297=1,J24297-K24297,0))","v":0},0,null,{"$f":"MAX(0,IF(Q24297>0,Q24297-('Výstupy modelu'!$H$10-'Výstupy modelu'!$H$9),0))","v":0},null,null,1865.4300000000003,1885.4300000000003,0,{"$f":"MAX(0,D24297-'Vstupní hodnoty'!$C$5)","v":0}]
[null,"2017-09-11T15:15:00",9,1154.52,{"$f":"CEILING(IF(C24348-C24347=0,IF(H24347=0,I24347,IF(J24347>K24347,I24347,E24347)),'Výstupy modelu'!$C$7),1)","v":1664},0,0,{"$f":"IF(F24348=1,IF(G24348>'Zdrojová data'!$C$19,0,1),\"\")","v":""},1664,0,{"$f":"MIN(J24348,'Zdrojová data'!$C$17)","v":0},0,{"$f":"L24348/'Zdrojová data'!$C$16","v":0},{"$f":"M24348*'Zdrojová data'!$C$13","v":0},{"$f":"N24348*'Zdrojová data'!$C$14","v":0},0,{"$f":"IF(H24348=0,D24348-'Výstupy modelu'!$C$7,IF(P24348=1,J24348-K24348,0))","v":0},0,null,{"$f":"MAX(0,IF(Q24348>0,Q24348-('Výstupy modelu'!$H$10-'Výstupy modelu'!$H$9),0))","v":0},null,null,1865.4300000000003,1885.4300000000003,0,{"$f":"MAX(0,D24348-'Vstupní hodnoty'!$C$5)","v":0}]
[null,"2017-09-11T19:30:00",9,1021.6800000000001,{"$f":"CEILING(IF(C24365-C24364=0,IF(H24364=0,I24364,IF(J24364>K24364,I24364,E24364)),'Výstupy modelu'!$C$7),1)","v":1664},0,0,{"$f":"IF(F24365=1,IF(G24365>'Zdrojová data'!$C$19,0,1),\"\")","v":""},1664,0,{"$f":"MIN(J24365,'Zdrojová data'!$C$17)","v":0},0,{"$f":"L24365/'Zdrojová data'!$C$16","v":0},{"$f":"M24365*'Zdrojová data'!$C$13","v":0},{"$f":"N24365*'Zdrojová data'!$C$14","v":0},0,{"$f":"IF(H24365=0,D24365-'Výstupy modelu'!$C$7,IF(P24365=1,J24365-K24365,0))","v":0},0,null,{"$f":"MAX(0,IF(Q24365>0,Q24365-('Výstupy modelu'!$H$10-'Výstupy modelu'!$H$9),0))","v":0},null,null,1865.4300000000003,1885.4300000000003,0,{"$f":"MAX(0,D24365-'Vstupní hodnoty'!$C$5)","v":0}]
[null,"2017-09-12T01:15:00",9,611.28000000000009,{"$f":"CEILING(IF(C24388-C24387=0,IF(H24387=0,I24387,IF(J24387>K24387,I24387,E24387)),'Výstupy modelu'!$C$7),1)","v":1664},{"$f":"IF(D24388>E24388,1,0)","v":0},0,{"$f":"IF(F24388=1,IF(G24388>'Zdrojová data'!$C$19,0,1),\"\")","v":""},{"$f":"IF(H24388=0,D24388,IF(J24388>K24388,E24388+J24388-K24388,E24388))","v":1664},{"$f":"IF(H24388=1,D24388-E24388,0)","v":0},{"$f":"MIN(J24388,'Zdrojová data'!$C$17)","v":0},0,{"$f":"L24388/'Zdrojová data'!$C$16","v":0},{"$f":"M24388*'Zdrojová data'!$C$13","v":0},{"$f":"N24388*'Zdrojová data'!$C$14","v":0},0,{"$f":"IF(H24388=0,D24388-'Výstupy modelu'!$C$7,IF(P24388=1,J24388-K24388,0))","v":0},0,null,{"$f":"MAX(0,IF(Q24388>0,Q24388-('Výstupy modelu'!$H$10-'Výstupy modelu'!$H$9),0))","v":0},null,null,1865.4300000000003,1885.4300000000003,0,{"$f":"MAX(0,D24388-'Vstupní hodnoty'!$C$5)","v":0}]
[null,"2017-09-12T16:45:00",9,1131.8400000000001,{"$f":"CEILING(IF(C24450-C24449=0,IF(H24449=0,I24449,IF(J24449>K24449,I24449,E24449)),'Výstupy modelu'!$C$7),1)","v":1664},0,0,{"$f":"IF(F24450=1,IF(G24450>'Zdrojová data'!$C$19,0,1),\"\")","v":""},1664,0,{"$f":"MIN(J24450,'Zdrojová data'!$C$17)","v":0},0,{"$f":"L24450/'Zdrojová data'!$C$16","v":0},{"$f":"M24450*'Zdrojová data'!$C$13","v":0},{"$f":"N24450*'Zdrojová data'!$C$14","v":0},0,{"$f":"IF(H24450=0,D24450-'Výstupy modelu'!$C$7,IF(P24450=1,J24450-K24450,0))","v":0},0,null,{"$f":"MAX(0,IF(Q24450>0,Q24450-('Výstupy modelu'!$H$10-'Výstupy modelu'!$H$9),0))","v":0},null,null,{"$f":"W24449","v":1865.4300000000003},1885.4300000000003,0,{"$f":"MAX(0,D24450-'Vstupní hodnoty'!$C$5)","v":0}]
[null,"2017-09-13T01:30:00",9,545.40000000000009,{"$f":"CEILING(IF(C24485-C24484=0,IF(H24484=0,I24484,IF(J24484>K24484,I24484,E24484)),'Výstupy modelu'!$C$7),1)","v":1664},0,0,{"$f":"IF(F24485=1,IF(G24485>'Zdrojová data'!$C$19,0,1),\"\")","v":""},1664,0,{"$f":"MIN(J24485,'Zdrojová data'!$C$17)","v":0},0,{"$f":"L24485/'Zdrojová data'!$C$16","v":0},{"$f":"M24485*'Zdrojová data'!$C$13","v":0},{"$f":"N24485*'Zdrojová data'!$C$14","v":0},0,{"$f":"IF(H24485=0,D24485-'Výstupy modelu'!$C$7,IF(P24485=1,J24485-K24485,0))","v":0},0,null,{"$f":"MAX(0,IF(Q24485>0,Q24485-('Výstupy modelu'!$H$10-'Výstupy modelu'!$H$9),0))","v":0},null,null,1865.4300000000003,1885.4300000000003,0,{"$f":"MAX(0,D24485-'Vstupní hodnoty'!$C$5)","v":0}]
[null,"2017-09-13T05:45:00",9,795.96,{"$f":"CEILING(IF(C24502-C24501=0,IF(H24501=0,I24501,IF(J24501>K24501,I24501,E24501)),'Výstupy modelu'!$C$7),1)","v":1664},0,0,{"$f":"IF(F24502=1,IF(G24502>'Zdrojová data'!$C$19,0,1),\"\")","v":""},1664,0,{"$f":"MIN(J24502,'Zdrojová data'!$C$17)","v":0},0,{"$f":"L24502/'Zdrojová data'!$C$16","v":0},{"$f":"M24502*'Zdrojová data'!$C$13","v":0},{"$f":"N24502*'Zdrojová data'!$C$14","v":0},0,{"$f":"IF(H24502=0,D24502-'Výstupy modelu'!$C$7,IF(P24502=1,J24502-K24502,0))","v":0},0,null,{"$f":"MAX(0,IF(Q24502>0,Q24502-('Výstupy modelu'!$H$10-'Výstupy modelu'!$H$9),0))","v":0},null,null,1865.4300000000003,1885.4300000000003,0,{"$f":"MAX(0,D24502-'Vstupní hodnoty'!$C$5)","v":0}]
[null,"2017-09-13T18:30:00",9,1022.7600000000001,{"$f":"CEILING(IF(C24553-C24552=0,IF(H24552=0,I24552,IF(J24552>K24552,I24552,E24552)),'Výstupy modelu'!$C$7),1)","v":1664},0,0,{"$f":"IF(F24553=1,IF(G24553>'Zdrojová data'!$C$19,0,1),\"\")","v":""},1664,0,{"$f":"MIN(J24553,'Zdrojová data'!$C$17)","v":0},0,{"$f":"L24553/'Zdrojová data'!$C$16","v":0},{"$f":"M24553*'Zdrojová data'!$C$13","v":0},{"$f":"N24553*'Zdrojová data'!$C$14","v":0},0,{"$f":"IF(H24553=0,D24553-'Výstupy modelu'!$C$7,IF(P24553=1,J24553-K24553,0))","v":0},0,null,{"$f":"MAX(0,IF(Q24553>0,Q24553-('Výstupy modelu'!$H$10-'Výstupy modelu'!$H$9),0))","v":0},null,null,1865.4300000000003,1885.4300000000003,0,{"$f":"MAX(0,D24553-'Vstupní hodnoty'!$C$5)","v":0}]
[null,"2017-09-13T20:45:00",9,975.24,{"$f":"CEILING(IF(C24562-C24561=0,IF(H24561=0,I24561,IF(J24561>K24561,I24561,E24561)),'Výstupy modelu'!$C$7),1)","v":1664},0,0,{"$f":"IF(F24562=1,IF(G24562>'Zdrojová data'!$C$19,0,1),\"\")","v":""},1664,0,{"$f":"MIN(J24562,'Zdrojová data'!$C$17)","v":0},0,{"$f":"L24562/'Zdrojová data'!$C$16","v":0},{"$f":"M24562*'Zdrojová data'!$C$13","v":0},{"$f":"N24562*'Zdrojová data'!$C$14","v":0},0,{"$f":"IF(H24562=0,D24562-'Výstupy modelu'!$C$7,IF(P24562=1,J24562-K24562,0))","v":0},0,null,{"$f":"MAX(0,IF(Q24562>0,Q24562-('Výstupy modelu'!$H$10-'Výstupy modelu'!$H$9),0))","v":0},null,null,1865.4300000000003,1885.4300000000003,0,{"$f":"MAX(0,D24562-'Vstupní hodnoty'!$C$5)","v":0}]
[null,"2017-09-14T07:15:00",9,1446.1200000000001,{"$f":"CEILING(IF(C24604-C24603=0,IF(H24603=0,I24603,IF(J24603>K24603,I24603,E24603)),'Výstupy modelu'!$C$7),1)","v":1664},0,0,{"$f":"IF(F24604=1,IF(G24604>'Zdrojová data'!$C$19,0,1),\"\")","v":""},1664,0,{"$f":"MIN(J24604,'Zdrojová data'!$C$17)","v":0},0,{"$f":"L24604/'Zdrojová data'!$C$16","v":0},{"$f":"M24604*'Zdrojová data'!$C$13","v":0},{"$f":"N24604*'Zdrojová data'!$C$14","v":0},0,{"$f":"IF(H24604=0,D24604-'Výstupy modelu'!$C$7,IF(P24604=1,J24604-K24604,0))","v":0},0,null,{"$f":"MAX(0,IF(Q24604>0,Q24604-('Výstupy modelu'!$H$10-'Výstupy modelu'!$H$9),0))","v":0},null,null,1865.4300000000003,1885.4300000000003,0,{"$f":"MAX(0,D24604-'Vstupní hodnoty'!$C$5)","v":0}]
[null,"2017-09-14T20:00:00",9,923.40000000000009,{"$f":"CEILING(IF(C24655-C24654=0,IF(H24654=0,I24654,IF(J24654>K24654,I24654,E24654)),'Výstupy modelu'!$C$7),1)","v":1664},0,0,{"$f":"IF(F24655=1,IF(G24655>'Zdrojová data'!$C$19,0,1),\"\")","v":""},1664,0,{"$f":"MIN(J24655,'Zdrojová data'!$C$17)","v":0},0,{"$f":"L24655/'Zdrojová data'!$C$16","v":0},{"$f":"M24655*'Zdrojová data'!$C$13","v":0},{"$f":"N24655*'Zdrojová data'!$C$14","v":0},0,{"$f":"IF(H24655=0,D24655-'Výstupy modelu'!$C$7,IF(P24655=1,J24655-K24655,0))","v":0},0,null,{"$f":"MAX(0,IF(Q24655>0,Q24655-('Výstupy modelu'!$H$10-'Výstupy modelu'!$H$9),0))","v":0},null,null,1865.4300000000003,1885.4300000000003,0,{"$f":"MAX(0,D24655-'Vstupní hodnoty'!$C$5)","v":0}]
[null,"2017-09-15T04:45:00",9,571.32000000000005,{"$f":"CEILING(IF(C24690-C24689=0,IF(H24689=0,I24689,IF(J24689>K24689,I24689,E24689)),'Výstupy modelu'!$C$7),1)","v":1664},0,0,{"$f":"IF(F24690=1,IF(G24690>'Zdrojová data'!$C$19,0,1),\"\")","v":""},1664,0,{"$f":"MIN(J24690,'Zdrojová data'!$C$17)","v":0},0,{"$f":"L24690/'Zdrojová data'!$C$16","v":0},{"$f":"M24690*'Zdrojová data'!$C$13","v":0},{"$f":"N24690*'Zdrojová data'!$C$14","v":0},0,{"$f":"IF(H24690=0,D24690-'Výstupy modelu'!$C$7,IF(P24690=1,J24690-K24690,0))","v":0},0,null,{"$f":"MAX(0,IF(Q24690>0,Q24690-('Výstupy modelu'!$H$10-'Výstupy modelu'!$H$9),0))","v":0},null,null,1865.4300000000003,1885.4300000000003,0,{"$f":"MAX(0,D24690-'Vstupní hodnoty'!$C$5)","v":0}]
[null,"2017-09-15T09:00:00",9,1362.96,{"$f":"CEILING(IF(C24707-C24706=0,IF(H24706=0,I24706,IF(J24706>K24706,I24706,E24706)),'Výstupy modelu'!$C$7),1)","v":1664},0,0,{"$f":"IF(F24707=1,IF(G24707>'Zdrojová data'!$C$19,0,1),\"\")","v":""},1664,0,{"$f":"MIN(J24707,'Zdrojová data'!$C$17)","v":0},0,{"$f":"L24707/'Zdrojová data'!$C$16","v":0},{"$f":"M24707*'Zdrojová data'!$C$13","v":0},{"$f":"N24707*'Zdrojová data'!$C$14","v":0},0,{"$f":"IF(H24707=0,D24707-'Výstupy modelu'!$C$7,IF(P24707=1,J24707-K24707,0))","v":0},0,null,{"$f":"MAX(0,IF(Q24707>0,Q24707-('Výstupy modelu'!$H$10-'Výstupy modelu'!$H$9),0))","v":0},null,null,1865.4300000000003,1885.4300000000003,0,{"$f":"MAX(0,D24707-'Vstupní hodnoty'!$C$5)","v":0}]
[null,"2017-09-15T16:15:00",9,977.40000000000009,{"$f":"CEILING(IF(C24736-C24735=0,IF(H24735=0,I24735,IF(J24735>K24735,I24735,E24735)),'Výstupy modelu'!$C$7),1)","v":1664},0,0,{"$f":"IF(F24736=1,IF(G24736>'Zdrojová data'!$C$19,0,1),\"\")","v":""},1664,0,{"$f":"MIN(J24736,'Zdrojová data'!$C$17)","v":0},0,{"$f":"L24736/'Zdrojová data'!$C$16","v":0},{"$f":"M24736*'Zdrojová data'!$C$13","v":0},{"$f":"N24736*'Zdrojová data'!$C$14","v":0},0,{"$f":"IF(H24736=0,D24736-'Výstupy modelu'!$C$7,IF(P24736=1,J24736-K24736,0))","v":0},0,null,{"$f":"MAX(0,IF(Q24736>0,Q24736-('Výstupy modelu'!$H$10-'Výstupy modelu'!$H$9),0))","v":0},null,null,1865.4300000000003,1885.4300000000003,0,{"$f":"MAX(0,D24736-'Vstupní hodnoty'!$C$5)","v":0}]
[null,"2017-09-15T21:45:00",9,567,{"$f":"CEILING(IF(C24758-C24757=0,IF(H24757=0,I24757,IF(J24757>K24757,I24757,E24757)),'Výstupy modelu'!$C$7),1)","v":1664},0,0,{"$f":"IF(F24758=1,IF(G24758>'Zdrojová data'!$C$19,0,1),\"\")","v":""},1664,0,{"$f":"MIN(J24758,'Zdrojová data'!$C$17)","v":0},0,{"$f":"L24758/'Zdrojová data'!$C$16","v":0},{"$f":"M24758*'Zdrojová data'!$C$13","v":0},{"$f":"N24758*'Zdrojová data'!$C$14","v":0},0,{"$f":"IF(H24758=0,D24758-'Výstupy modelu'!$C$7,IF(P24758=1,J24758-K24758,0))","v":0},0,null,{"$f":"MAX(0,IF(Q24758>0,Q24758-('Výstupy modelu'!$H$10-'Výstupy modelu'!$H$9),0))","v":0},null,null,1865.4300000000003,1885.4300000000003,0,{"$f":"MAX(0,D24758-'Vstupní hodnoty'!$C$5)","v":0}]
[null,"2017-09-16T10:30:00",9,475.20000000000005,{"$f":"CEILING(IF(C24809-C24808=0,IF(H24808=0,I24808,IF(J24808>K24808,I24808,E24808)),'Výstupy modelu'!$C$7),1)","v":1664},0,0,{"$f":"IF(F24809=1,IF(G24809>'Zdrojová data'!$C$19,0,1),\"\")","v":""},1664,0,{"$f":"MIN(J24809,'Zdrojová data'!$C$17)","v":0},0,{"$f":"L24809/'Zdrojová data'!$C$16","v":0},{"$f":"M24809*'Zdrojová data'!$C$13","v":0},{"$f":"N24809*'Zdrojová data'!$C$14","v":0},0,{"$f":"IF(H24809=0,D24809-'Výstupy modelu'!$C$7,IF(P24809=1,J24809-K24809,0))","v":0},0,null,{"$f":"MAX(0,IF(Q24809>0,Q24809-('Výstupy modelu'!$H$10-'Výstupy modelu'!$H$9),0))","v":0},null,null,1865.4300000000003,1885.4300000000003,0,{"$f":"MAX(0,D24809-'Vstupní hodnoty'!$C$5)","v":0}]
[null,"2017-09-16T19:15:00",9,238.68,{"$f":"CEILING(IF(C24844-C24843=0,IF(H24843=0,I24843,IF(J24843>K24843,I24843,E24843)),'Výstupy modelu'!$C$7),1)","v":1664},0,0,{"$f":"IF(F24844=1,IF(G24844>'Zdrojová data'!$C$19,0,1),\"\")","v":""},1664,0,{"$f":"MIN(J24844,'Zdrojová data'!$C$17)","v":0},0,{"$f":"L24844/'Zdrojová data'!$C$16","v":0},{"$f":"M24844*'Zdrojová data'!$C$13","v":0},{"$f":"N24844*'Zdrojová data'!$C$14","v":0},0,{"$f":"IF(H24844=0,D24844-'Výstupy modelu'!$C$7,IF(P24844=1,J24844-K24844,0))","v":0},0,null,{"$f":"MAX(0,IF(Q24844>0,Q24844-('Výstupy modelu'!$H$10-'Výstupy modelu'!$H$9),0))","v":0},null,null,1865.4300000000003,1885.4300000000003,0,{"$f":"MAX(0,D24844-'Vstupní hodnoty'!$C$5)","v":0}]
[null,"2017-09-16T23:30:00",9,238.68,{"$f":"CEILING(IF(C24861-C24860=0,IF(H24860=0,I24860,IF(J24860>K24860,I24860,E24860)),'Výstupy modelu'!$C$7),1)","v":1664},0,0,{"$f":"IF(F24861=1,IF(G24861>'Zdrojová data'!$C$19,0,1),\"\")","v":""},1664,0,{"$f":"MIN(J24861,'Zdrojová data'!$C$17)","v":0},0,{"$f":"L24861/'Zdrojová data'!$C$16","v":0},{"$f":"M24861*'Zdrojová data'!$C$13","v":0},{"$f":"N24861*'Zdrojová data'!$C$14","v":0},0,{"$f":"IF(H24861=0,D24861-'Výstupy modelu'!$C$7,IF(P24861=1,J24861-K24861,0))","v":0},0,null,{"$f":"MAX(0,IF(Q24861>0,Q24861-('Výstupy modelu'!$H$10-'Výstupy modelu'!$H$9),0))","v":0},null,null,1865.4300000000003,1885.4300000000003,0,{"$f":"MAX(0,D24861-'Vstupní hodnoty'!$C$5)","v":0}]
[null,"2017-09-17T11:45:00",9,220.32000000000002,{"$f":"CEILING(IF(C24910-C24909=0,IF(H24909=0,I24909,IF(J24909>K24909,I24909,E24909)),'Výstupy modelu'!$C$7),1)","v":1664},0,0,{"$f":"IF(F24910=1,IF(G24910>'Zdrojová data'!$C$19,0,1),\"\")","v":""},1664,0,{"$f":"MIN(J24910,'Zdrojová data'!$C$17)","v":0},0,{"$f":"L24910/'Zdrojová data'!$C$16","v":0},{"$f":"M24910*'Zdrojová data'!$C$13","v":0},{"$f":"N24910*'Zdrojová data'!$C$14","v":0},0,{"$f":"IF(H24910=0,D24910-'Výstupy modelu'!$C$7,IF(P24910=1,J24910-K24910,0))","v":0},0,null,{"$f":"MAX(0,IF(Q24910>0,Q24910-('Výstupy modelu'!$H$10-'Výstupy modelu'!$H$9),0))","v":0},null,null,1865.4300000000003,1885.4300000000003,0,{"$f":"MAX(0,D24910-'Vstupní hodnoty'!$C$5)","v":0}]
[null,"2017-09-17T20:45:00",9,241.92000000000002,{"$f":"CEILING(IF(C24946-C24945=0,IF(H24945=0,I24945,IF(J24945>K24945,I24945,E24945)),'Výstupy modelu'!$C$7),1)","v":1664},0,0,{"$f":"IF(F24946=1,IF(G24946>'Zdrojová data'!$C$19,0,1),\"\")","v":""},1664,0,{"$f":"MIN(J24946,'Zdrojová data'!$C$17)","v":0},0,{"$f":"L24946/'Zdrojová data'!$C$16","v":0},{"$f":"M24946*'Zdrojová data'!$C$13","v":0},{"$f":"N24946*'Zdrojová data'!$C$14","v":0},0,{"$f":"IF(H24946=0,D24946-'Výstupy modelu'!$C$7,IF(P24946=1,J24946-K24946,0))","v":0},0,null,{"$f":"MAX(0,IF(Q24946>0,Q24946-('Výstupy modelu'!$H$10-'Výstupy modelu'!$H$9),0))","v":0},null,null,1865.4300000000003,1885.4300000000003,0,{"$f":"MAX(0,D24946-'Vstupní hodnoty'!$C$5)","v":0}]
[null,"2017-09-18T01:00:00",9,570.24,{"$f":"CEILING(IF(C24963-C24962=0,IF(H24962=0,I24962,IF(J24962>K24962,I24962,E24962)),'Výstupy modelu'!$C$7),1)","v":1664},0,0,{"$f":"IF(F24963=1,IF(G24963>'Zdrojová data'!$C$19,0,1),\"\")","v":""},1664,0,{"$f":"MIN(J24963,'Zdrojová data'!$C$17)","v":0},0,{"$f":"L24963/'Zdrojová data'!$C$16","v":0},{"$f":"M24963*'Zdrojová data'!$C$13","v":0},{"$f":"N24963*'Zdrojová data'!$C$14","v":0},0,{"$f":"IF(H24963=0,D24963-'Výstupy modelu'!$C$7,IF(P24963=1,J24963-K24963,0))","v":0},0,null,{"$f":"MAX(0,IF(Q24963>0,Q24963-('Výstupy modelu'!$H$10-'Výstupy modelu'!$H$9),0))","v":0},null,null,1865.4300000000003,1885.4300000000003,0,{"$f":"MAX(0,D24963-'Vstupní hodnoty'!$C$5)","v":0}]
[null,"2017-09-18T09:45:00",9,1262.52,{"$f":"CEILING(IF(C24998-C24997=0,IF(H24997=0,I24997,IF(J24997>K24997,I24997,E24997)),'Výstupy modelu'!$C$7),1)","v":1664},0,0,{"$f":"IF(F24998=1,IF(G24998>'Zdrojová data'!$C$19,0,1),\"\")","v":""},1664,0,{"$f":"MIN(J24998,'Zdrojová data'!$C$17)","v":0},0,{"$f":"L24998/'Zdrojová data'!$C$16","v":0},{"$f":"M24998*'Zdrojová data'!$C$13","v":0},{"$f":"N24998*'Zdrojová data'!$C$14","v":0},0,{"$f":"IF(H24998=0,D24998-'Výstupy modelu'!$C$7,IF(P24998=1,J24998-K24998,0))","v":0},0,null,{"$f":"MAX(0,IF(Q24998>0,Q24998-('Výstupy modelu'!$H$10-'Výstupy modelu'!$H$9),0))","v":0},null,null,1865.4300000000003,1885.4300000000003,0,{"$f":"MAX(0,D24998-'Vstupní hodnoty'!$C$5)","v":0}]
[null,"2017-09-18T22:30:00",9,483.84000000000003,{"$f":"CEILING(IF(C25049-C25048=0,IF(H25048=0,I25048,IF(J25048>K25048,I25048,E25048)),'Výstupy modelu'!$C$7),1)","v":1664},0,0,{"$f":"IF(F25049=1,IF(G25049>'Zdrojová data'!$C$19,0,1),\"\")","v":""},1664,0,{"$f":"MIN(J25049,'Zdrojová data'!$C$17)","v":0},0,{"$f":"L25049/'Zdrojová data'!$C$16","v":0},{"$f":"M25049*'Zdrojová data'!$C$13","v":0},{"$f":"N25049*'Zdrojová data'!$C$14","v":0},0,{"$f":"IF(H25049=0,D25049-'Výstupy modelu'!$C$7,IF(P25049=1,J25049-K25049,0))","v":0},0,null,{"$f":"MAX(0,IF(Q25049>0,Q25049-('Výstupy modelu'!$H$10-'Výstupy modelu'!$H$9),0))","v":0},null,null,1865.4300000000003,1885.4300000000003,0,{"$f":"MAX(0,D25049-'Vstupní hodnoty'!$C$5)","v":0}]
[null,"2017-09-19T06:15:00",9,1283.0400000000002,{"$f":"CEILING(IF(C25080-C25079=0,IF(H25079=0,I25079,IF(J25079>K25079,I25079,E25079)),'Výstupy modelu'!$C$7),1)","v":1664},0,0,{"$f":"IF(F25080=1,IF(G25080>'Zdrojová data'!$C$19,0,1),\"\")","v":""},1664,0,{"$f":"MIN(J25080,'Zdrojová data'!$C$17)","v":0},0,{"$f":"L25080/'Zdrojová data'!$C$16","v":0},{"$f":"M25080*'Zdrojová data'!$C$13","v":0},{"$f":"N25080*'Zdrojová data'!$C$14","v":0},0,{"$f":"IF(H25080=0,D25080-'Výstupy modelu'!$C$7,IF(P25080=1,J25080-K25080,0))","v":0},0,null,{"$f":"MAX(0,IF(Q25080>0,Q25080-('Výstupy modelu'!$H$10-'Výstupy modelu'!$H$9),0))","v":0},null,null,1865.4300000000003,1885.4300000000003,0,{"$f":"MAX(0,D25080-'Vstupní hodnoty'!$C$5)","v":0}]
[null,"2017-09-19T11:15:00",9,1366.2,{"$f":"CEILING(IF(C25100-C25099=0,IF(H25099=0,I25099,IF(J25099>K25099,I25099,E25099)),'Výstupy modelu'!$C$7),1)","v":1664},0,0,{"$f":"IF(F25100=1,IF(G25100>'Zdrojová data'!$C$19,0,1),\"\")","v":""},1664,0,{"$f":"MIN(J25100,'Zdrojová data'!$C$17)","v":0},0,{"$f":"L25100/'Zdrojová data'!$C$16","v":0},{"$f":"M25100*'Zdrojová data'!$C$13","v":0},{"$f":"N25100*'Zdrojová data'!$C$14","v":0},0,{"$f":"IF(H25100=0,D25100-'Výstupy modelu'!$C$7,IF(P25100=1,J25100-K25100,0))","v":0},0,null,{"$f":"MAX(0,IF(Q25100>0,Q25100-('Výstupy modelu'!$H$10-'Výstupy modelu'!$H$9),0))","v":0},null,null,1865.4300000000003,1885.4300000000003,0,{"$f":"MAX(0,D25100-'Vstupní hodnoty'!$C$5)","v":0}]
[null,"2017-09-20",9,483.84000000000003,{"$f":"CEILING(IF(C25151-C25150=0,IF(H25150=0,I25150,IF(J25150>K25150,I25150,E25150)),'Výstupy modelu'!$C$7),1)","v":1664},0,0,{"$f":"IF(F25151=1,IF(G25151>'Zdrojová data'!$C$19,0,1),\"\")","v":""},1664,0,{"$f":"MIN(J25151,'Zdrojová data'!$C$17)","v":0},0,{"$f":"L25151/'Zdrojová data'!$C$16","v":0},{"$f":"M25151*'Zdrojová data'!$C$13","v":0},{"$f":"N25151*'Zdrojová data'!$C$14","v":0},0,{"$f":"IF(H25151=0,D25151-'Výstupy modelu'!$C$7,IF(P25151=1,J25151-K25151,0))","v":0},0,null,{"$f":"MAX(0,IF(Q25151>0,Q25151-('Výstupy modelu'!$H$10-'Výstupy modelu'!$H$9),0))","v":0},null,null,1865.4300000000003,1885.4300000000003,0,{"$f":"MAX(0,D25151-'Vstupní hodnoty'!$C$5)","v":0}]
[null,"2017-09-20T08:45:00",9,1412.64,{"$f":"CEILING(IF(C25186-C25185=0,IF(H25185=0,I25185,IF(J25185>K25185,I25185,E25185)),'Výstupy modelu'!$C$7),1)","v":1664},0,0,{"$f":"IF(F25186=1,IF(G25186>'Zdrojová data'!$C$19,0,1),\"\")","v":""},1664,0,{"$f":"MIN(J25186,'Zdrojová data'!$C$17)","v":0},0,{"$f":"L25186/'Zdrojová data'!$C$16","v":0},{"$f":"M25186*'Zdrojová data'!$C$13","v":0},{"$f":"N25186*'Zdrojová data'!$C$14","v":0},0,{"$f":"IF(H25186=0,D25186-'Výstupy modelu'!$C$7,IF(P25186=1,J25186-K25186,0))","v":0},0,null,{"$f":"MAX(0,IF(Q25186>0,Q25186-('Výstupy modelu'!$H$10-'Výstupy modelu'!$H$9),0))","v":0},null,null,1865.4300000000003,1885.4300000000003,0,{"$f":"MAX(0,D25186-'Vstupní hodnoty'!$C$5)","v":0}]
[null,"2017-09-20T13:00:00",9,1318.68,{"$f":"CEILING(IF(C25203-C25202=0,IF(H25202=0,I25202,IF(J25202>K25202,I25202,E25202)),'Výstupy modelu'!$C$7),1)","v":1664},0,0,{"$f":"IF(F25203=1,IF(G25203>'Zdrojová data'!$C$19,0,1),\"\")","v":""},1664,0,{"$f":"MIN(J25203,'Zdrojová data'!$C$17)","v":0},0,{"$f":"L25203/'Zdrojová data'!$C$16","v":0},{"$f":"M25203*'Zdrojová data'!$C$13","v":0},{"$f":"N25203*'Zdrojová data'!$C$14","v":0},0,{"$f":"IF(H25203=0,D25203-'Výstupy modelu'!$C$7,IF(P25203=1,J25203-K25203,0))","v":0},0,null,{"$f":"MAX(0,IF(Q25203>0,Q25203-('Výstupy modelu'!$H$10-'Výstupy modelu'!$H$9),0))","v":0},null,null,1865.4300000000003,1885.4300000000003,0,{"$f":"MAX(0,D25203-'Vstupní hodnoty'!$C$5)","v":0}]
[null,"2017-09-21T01:45:00",9,543.24,{"$f":"CEILING(IF(C25254-C25253=0,IF(H25253=0,I25253,IF(J25253>K25253,I25253,E25253)),'Výstupy modelu'!$C$7),1)","v":1664},0,0,{"$f":"IF(F25254=1,IF(G25254>'Zdrojová data'!$C$19,0,1),\"\")","v":""},1664,0,{"$f":"MIN(J25254,'Zdrojová data'!$C$17)","v":0},0,{"$f":"L25254/'Zdrojová data'!$C$16","v":0},{"$f":"M25254*'Zdrojová data'!$C$13","v":0},{"$f":"N25254*'Zdrojová data'!$C$14","v":0},0,{"$f":"IF(H25254=0,D25254-'Výstupy modelu'!$C$7,IF(P25254=1,J25254-K25254,0))","v":0},0,null,{"$f":"MAX(0,IF(Q25254>0,Q25254-('Výstupy modelu'!$H$10-'Výstupy modelu'!$H$9),0))","v":0},null,null,1865.4300000000003,1885.4300000000003,0,{"$f":"MAX(0,D25254-'Vstupní hodnoty'!$C$5)","v":0}]
[null,"2017-09-21T10:15:00",9,1284.1200000000001,{"$f":"CEILING(IF(C25288-C25287=0,IF(H25287=0,I25287,IF(J25287>K25287,I25287,E25287)),'Výstupy modelu'!$C$7),1)","v":1664},0,0,{"$f":"IF(F25288=1,IF(G25288>'Zdrojová data'!$C$19,0,1),\"\")","v":""},1664,0,{"$f":"MIN(J25288,'Zdrojová data'!$C$17)","v":0},0,{"$f":"L25288/'Zdrojová data'!$C$16","v":0},{"$f":"M25288*'Zdrojová data'!$C$13","v":0},{"$f":"N25288*'Zdrojová data'!$C$14","v":0},0,{"$f":"IF(H25288=0,D25288-'Výstupy modelu'!$C$7,IF(P25288=1,J25288-K25288,0))","v":0},0,null,{"$f":"MAX(0,IF(Q25288>0,Q25288-('Výstupy modelu'!$H$10-'Výstupy modelu'!$H$9),0))","v":0},null,null,1865.4300000000003,1885.4300000000003,0,{"$f":"MAX(0,D25288-'Vstupní hodnoty'!$C$5)","v":0}]
[null,"2017-09-21T14:30:00",9,1194.48,{"$f":"CEILING(IF(C25305-C25304=0,IF(H25304=0,I25304,IF(J25304>K25304,I25304,E25304)),'Výstupy modelu'!$C$7),1)","v":1664},0,0,{"$f":"IF(F25305=1,IF(G25305>'Zdrojová data'!$C$19,0,1),\"\")","v":""},1664,0,{"$f":"MIN(J25305,'Zdrojová data'!$C$17)","v":0},0,{"$f":"L25305/'Zdrojová data'!$C$16","v":0},{"$f":"M25305*'Zdrojová data'!$C$13","v":0},{"$f":"N25305*'Zdrojová data'!$C$14","v":0},0,{"$f":"IF(H25305=0,D25305-'Výstupy modelu'!$C$7,IF(P25305=1,J25305-K25305,0))","v":0},0,null,{"$f":"MAX(0,IF(Q25305>0,Q25305-('Výstupy modelu'!$H$10-'Výstupy modelu'!$H$9),0))","v":0},null,null,1865.4300000000003,1885.4300000000003,0,{"$f":"MAX(0,D25305-'Vstupní hodnoty'!$C$5)","v":0}]
[null,"2017-09-21T23:15:00",9,482.76000000000005,{"$f":"CEILING(IF(C25340-C25339=0,IF(H25339=0,I25339,IF(J25339>K25339,I25339,E25339)),'Výstupy modelu'!$C$7),1)","v":1664},0,0,{"$f":"IF(F25340=1,IF(G25340>'Zdrojová data'!$C$19,0,1),\"\")","v":""},1664,0,{"$f":"MIN(J25340,'Zdrojová data'!$C$17)","v":0},0,{"$f":"L25340/'Zdrojová data'!$C$16","v":0},{"$f":"M25340*'Zdrojová data'!$C$13","v":0},{"$f":"N25340*'Zdrojová data'!$C$14","v":0},0,{"$f":"IF(H25340=0,D25340-'Výstupy modelu'!$C$7,IF(P25340=1,J25340-K25340,0))","v":0},0,null,{"$f":"MAX(0,IF(Q25340>0,Q25340-('Výstupy modelu'!$H$10-'Výstupy modelu'!$H$9),0))","v":0},null,null,1865.4300000000003,1885.4300000000003,0,{"$f":"MAX(0,D25340-'Vstupní hodnoty'!$C$5)","v":0}]
[null,"2017-09-22T11:15:00",9,1276.5600000000002,{"$f":"CEILING(IF(C25388-C25387=0,IF(H25387=0,I25387,IF(J25387>K25387,I25387,E25387)),'Výstupy modelu'!$C$7),1)","v":1664},0,0,{"$f":"IF(F25388=1,IF(G25388>'Zdrojová data'!$C$19,0,1),\"\")","v":""},1664,0,{"$f":"MIN(J25388,'Zdrojová data'!$C$17)","v":0},0,{"$f":"L25388/'Zdrojová data'!$C$16","v":0},{"$f":"M25388*'Zdrojová data'!$C$13","v":0},{"$f":"N25388*'Zdrojová data'!$C$14","v":0},0,{"$f":"IF(H25388=0,D25388-'Výstupy modelu'!$C$7,IF(P25388=1,J25388-K25388,0))","v":0},0,null,{"$f":"MAX(0,IF(Q25388>0,Q25388-('Výstupy modelu'!$H$10-'Výstupy modelu'!$H$9),0))","v":0},null,null,1865.4300000000003,1885.4300000000003,0,{"$f":"MAX(0,D25388-'Vstupní hodnoty'!$C$5)","v":0}]
[null,"2017-09-22T16:00:00",9,938.5200000000001,{"$f":"CEILING(IF(C25407-C25406=0,IF(H25406=0,I25406,IF(J25406>K25406,I25406,E25406)),'Výstupy modelu'!$C$7),1)","v":1664},0,0,{"$f":"IF(F25407=1,IF(G25407>'Zdrojová data'!$C$19,0,1),\"\")","v":""},1664,0,{"$f":"MIN(J25407,'Zdrojová data'!$C$17)","v":0},0,{"$f":"L25407/'Zdrojová data'!$C$16","v":0},{"$f":"M25407*'Zdrojová data'!$C$13","v":0},{"$f":"N25407*'Zdrojová data'!$C$14","v":0},0,{"$f":"IF(H25407=0,D25407-'Výstupy modelu'!$C$7,IF(P25407=1,J25407-K25407,0))","v":0},0,null,{"$f":"MAX(0,IF(Q25407>0,Q25407-('Výstupy modelu'!$H$10-'Výstupy modelu'!$H$9),0))","v":0},null,null,1865.4300000000003,1885.4300000000003,0,{"$f":"MAX(0,D25407-'Vstupní hodnoty'!$C$5)","v":0}]
[null,"2017-09-23T00:45:00",9,311.04000000000002,{"$f":"CEILING(IF(C25442-C25441=0,IF(H25441=0,I25441,IF(J25441>K25441,I25441,E25441)),'Výstupy modelu'!$C$7),1)","v":1664},0,0,{"$f":"IF(F25442=1,IF(G25442>'Zdrojová data'!$C$19,0,1),\"\")","v":""},1664,0,{"$f":"MIN(J25442,'Zdrojová data'!$C$17)","v":0},0,{"$f":"L25442/'Zdrojová data'!$C$16","v":0},{"$f":"M25442*'Zdrojová data'!$C$13","v":0},{"$f":"N25442*'Zdrojová data'!$C$14","v":0},0,{"$f":"IF(H25442=0,D25442-'Výstupy modelu'!$C$7,IF(P25442=1,J25442-K25442,0))","v":0},0,null,{"$f":"MAX(0,IF(Q25442>0,Q25442-('Výstupy modelu'!$H$10-'Výstupy modelu'!$H$9),0))","v":0},null,null,1865.4300000000003,1885.4300000000003,0,{"$f":"MAX(0,D25442-'Vstupní hodnoty'!$C$5)","v":0}]
[null,"2017-09-23T13:30:00",9,448.20000000000005,{"$f":"CEILING(IF(C25493-C25492=0,IF(H25492=0,I25492,IF(J25492>K25492,I25492,E25492)),'Výstupy modelu'!$C$7),1)","v":1664},0,0,{"$f":"IF(F25493=1,IF(G25493>'Zdrojová data'!$C$19,0,1),\"\")","v":""},1664,0,{"$f":"MIN(J25493,'Zdrojová data'!$C$17)","v":0},0,{"$f":"L25493/'Zdrojová data'!$C$16","v":0},{"$f":"M25493*'Zdrojová data'!$C$13","v":0},{"$f":"N25493*'Zdrojová data'!$C$14","v":0},0,{"$f":"IF(H25493=0,D25493-'Výstupy modelu'!$C$7,IF(P25493=1,J25493-K25493,0))","v":0},0,null,{"$f":"MAX(0,IF(Q25493>0,Q25493-('Výstupy modelu'!$H$10-'Výstupy modelu'!$H$9),0))","v":0},null,null,1865.4300000000003,1885.4300000000003,0,{"$f":"MAX(0,D25493-'Vstupní hodnoty'!$C$5)","v":0}]
[null,"2017-09-23T17:45:00",9,250.56,{"$f":"CEILING(IF(C25510-C25509=0,IF(H25509=0,I25509,IF(J25509>K25509,I25509,E25509)),'Výstupy modelu'!$C$7),1)","v":1664},0,0,{"$f":"IF(F25510=1,IF(G25510>'Zdrojová data'!$C$19,0,1),\"\")","v":""},1664,0,{"$f":"MIN(J25510,'Zdrojová data'!$C$17)","v":0},0,{"$f":"L25510/'Zdrojová data'!$C$16","v":0},{"$f":"M25510*'Zdrojová data'!$C$13","v":0},{"$f":"N25510*'Zdrojová data'!$C$14","v":0},0,{"$f":"IF(H25510=0,D25510-'Výstupy modelu'!$C$7,IF(P25510=1,J25510-K25510,0))","v":0},0,null,{"$f":"MAX(0,IF(Q25510>0,Q25510-('Výstupy modelu'!$H$10-'Výstupy modelu'!$H$9),0))","v":0},null,null,1865.4300000000003,1885.4300000000003,0,{"$f":"MAX(0,D25510-'Vstupní hodnoty'!$C$5)","v":0}]
[null,"2017-09-24T06:45:00",9,274.32,{"$f":"CEILING(IF(C25562-C25561=0,IF(H25561=0,I25561,IF(J25561>K25561,I25561,E25561)),'Výstupy modelu'!$C$7),1)","v":1664},0,0,{"$f":"IF(F25562=1,IF(G25562>'Zdrojová data'!$C$19,0,1),\"\")","v":""},1664,0,{"$f":"MIN(J25562,'Zdrojová data'!$C$17)","v":0},0,{"$f":"L25562/'Zdrojová data'!$C$16","v":0},{"$f":"M25562*'Zdrojová data'!$C$13","v":0},{"$f":"N25562*'Zdrojová data'!$C$14","v":0},0,{"$f":"IF(H25562=0,D25562-'Výstupy modelu'!$C$7,IF(P25562=1,J25562-K25562,0))","v":0},0,null,{"$f":"MAX(0,IF(Q25562>0,Q25562-('Výstupy modelu'!$H$10-'Výstupy modelu'!$H$9),0))","v":0},null,null,1865.4300000000003,1885.4300000000003,0,{"$f":"MAX(0,D25562-'Vstupní hodnoty'!$C$5)","v":0}]
[null,"2017-09-24T15:00:00",9,248.4,{"$f":"CEILING(IF(C25595-C25594=0,IF(H25594=0,I25594,IF(J25594>K25594,I25594,E25594)),'Výstupy modelu'!$C$7),1)","v":1664},0,0,{"$f":"IF(F25595=1,IF(G25595>'Zdrojová data'!$C$19,0,1),\"\")","v":""},1664,0,{"$f":"MIN(J25595,'Zdrojová data'!$C$17)","v":0},0,{"$f":"L25595/'Zdrojová data'!$C$16","v":0},{"$f":"M25595*'Zdrojová data'!$C$13","v":0},{"$f":"N25595*'Zdrojová data'!$C$14","v":0},0,{"$f":"IF(H25595=0,D25595-'Výstupy modelu'!$C$7,IF(P25595=1,J25595-K25595,0))","v":0},0,null,{"$f":"MAX(0,IF(Q25595>0,Q25595-('Výstupy modelu'!$H$10-'Výstupy modelu'!$H$9),0))","v":0},null,null,1865.4300000000003,1885.4300000000003,0,{"$f":"MAX(0,D25595-'Vstupní hodnoty'!$C$5)","v":0}]
[null,"2017-09-24T23:45:00",9,415.8,{"$f":"CEILING(IF(C25630-C25629=0,IF(H25629=0,I25629,IF(J25629>K25629,I25629,E25629)),'Výstupy modelu'!$C$7),1)","v":1664},0,0,{"$f":"IF(F25630=1,IF(G25630>'Zdrojová data'!$C$19,0,1),\"\")","v":""},1664,0,{"$f":"MIN(J25630,'Zdrojová data'!$C$17)","v":0},0,{"$f":"L25630/'Zdrojová data'!$C$16","v":0},{"$f":"M25630*'Zdrojová data'!$C$13","v":0},{"$f":"N25630*'Zdrojová data'!$C$14","v":0},0,{"$f":"IF(H25630=0,D25630-'Výstupy modelu'!$C$7,IF(P25630=1,J25630-K25630,0))","v":0},0,null,{"$f":"MAX(0,IF(Q25630>0,Q25630-('Výstupy modelu'!$H$10-'Výstupy modelu'!$H$9),0))","v":0},null,null,1865.4300000000003,1885.4300000000003,0,{"$f":"MAX(0,D25630-'Vstupní hodnoty'!$C$5)","v":0}]
[null,"2017-09-25T04:00:00",9,662.04000000000008,{"$f":"CEILING(IF(C25647-C25646=0,IF(H25646=0,I25646,IF(J25646>K25646,I25646,E25646)),'Výstupy modelu'!$C$7),1)","v":1664},0,0,{"$f":"IF(F25647=1,IF(G25647>'Zdrojová data'!$C$19,0,1),\"\")","v":""},1664,0,{"$f":"MIN(J25647,'Zdrojová data'!$C$17)","v":0},0,{"$f":"L25647/'Zdrojová data'!$C$16","v":0},{"$f":"M25647*'Zdrojová data'!$C$13","v":0},{"$f":"N25647*'Zdrojová data'!$C$14","v":0},0,{"$f":"IF(H25647=0,D25647-'Výstupy modelu'!$C$7,IF(P25647=1,J25647-K25647,0))","v":0},0,null,{"$f":"MAX(0,IF(Q25647>0,Q25647-('Výstupy modelu'!$H$10-'Výstupy modelu'!$H$9),0))","v":0},null,null,1865.4300000000003,1885.4300000000003,0,{"$f":"MAX(0,D25647-'Vstupní hodnoty'!$C$5)","v":0}]
[null,"2017-09-25T16:45:00",9,1104.8400000000001,{"$f":"CEILING(IF(C25698-C25697=0,IF(H25697=0,I25697,IF(J25697>K25697,I25697,E25697)),'Výstupy modelu'!$C$7),1)","v":1664},0,0,{"$f":"IF(F25698=1,IF(G25698>'Zdrojová data'!$C$19,0,1),\"\")","v":""},1664,0,{"$f":"MIN(J25698,'Zdrojová data'!$C$17)","v":0},0,{"$f":"L25698/'Zdrojová data'!$C$16","v":0},{"$f":"M25698*'Zdrojová data'!$C$13","v":0},{"$f":"N25698*'Zdrojová data'!$C$14","v":0},0,{"$f":"IF(H25698=0,D25698-'Výstupy modelu'!$C$7,IF(P25698=1,J25698-K25698,0))","v":0},0,null,{"$f":"MAX(0,IF(Q25698>0,Q25698-('Výstupy modelu'!$H$10-'Výstupy modelu'!$H$9),0))","v":0},null,null,1865.4300000000003,1885.4300000000003,0,{"$f":"MAX(0,D25698-'Vstupní hodnoty'!$C$5)","v":0}]
[null,"2017-09-26T02:15:00",9,575.64,{"$f":"CEILING(IF(C25736-C25735=0,IF(H25735=0,I25735,IF(J25735>K25735,I25735,E25735)),'Výstupy modelu'!$C$7),1)","v":1664},0,0,{"$f":"IF(F25736=1,IF(G25736>'Zdrojová data'!$C$19,0,1),\"\")","v":""},1664,0,{"$f":"MIN(J25736,'Zdrojová data'!$C$17)","v":0},0,{"$f":"L25736/'Zdrojová data'!$C$16","v":0},{"$f":"M25736*'Zdrojová data'!$C$13","v":0},{"$f":"N25736*'Zdrojová data'!$C$14","v":0},0,{"$f":"IF(H25736=0,D25736-'Výstupy modelu'!$C$7,IF(P25736=1,J25736-K25736,0))","v":0},0,null,{"$f":"MAX(0,IF(Q25736>0,Q25736-('Výstupy modelu'!$H$10-'Výstupy modelu'!$H$9),0))","v":0},null,null,1865.4300000000003,1885.4300000000003,0,{"$f":"MAX(0,D25736-'Vstupní hodnoty'!$C$5)","v":0}]
[null,"2017-09-26T05:30:00",9,761.40000000000009,{"$f":"CEILING(IF(C25749-C25748=0,IF(H25748=0,I25748,IF(J25748>K25748,I25748,E25748)),'Výstupy modelu'!$C$7),1)","v":1664},0,0,{"$f":"IF(F25749=1,IF(G25749>'Zdrojová data'!$C$19,0,1),\"\")","v":""},1664,0,{"$f":"MIN(J25749,'Zdrojová data'!$C$17)","v":0},0,{"$f":"L25749/'Zdrojová data'!$C$16","v":0},{"$f":"M25749*'Zdrojová data'!$C$13","v":0},{"$f":"N25749*'Zdrojová data'!$C$14","v":0},0,{"$f":"IF(H25749=0,D25749-'Výstupy modelu'!$C$7,IF(P25749=1,J25749-K25749,0))","v":0},0,null,{"$f":"MAX(0,IF(Q25749>0,Q25749-('Výstupy modelu'!$H$10-'Výstupy modelu'!$H$9),0))","v":0},null,null,1865.4300000000003,1885.4300000000003,0,{"$f":"MAX(0,D25749-'Vstupní hodnoty'!$C$5)","v":0}]
[null,"2017-09-26T18:15:00",9,962.28000000000009,{"$f":"CEILING(IF(C25800-C25799=0,IF(H25799=0,I25799,IF(J25799>K25799,I25799,E25799)),'Výstupy modelu'!$C$7),1)","v":1664},0,0,{"$f":"IF(F25800=1,IF(G25800>'Zdrojová data'!$C$19,0,1),\"\")","v":""},1664,0,{"$f":"MIN(J25800,'Zdrojová data'!$C$17)","v":0},0,{"$f":"L25800/'Zdrojová data'!$C$16","v":0},{"$f":"M25800*'Zdrojová data'!$C$13","v":0},{"$f":"N25800*'Zdrojová data'!$C$14","v":0},0,{"$f":"IF(H25800=0,D25800-'Výstupy modelu'!$C$7,IF(P25800=1,J25800-K25800,0))","v":0},0,null,{"$f":"MAX(0,IF(Q25800>0,Q25800-('Výstupy modelu'!$H$10-'Výstupy modelu'!$H$9),0))","v":0},null,null,1865.4300000000003,1885.4300000000003,0,{"$f":"MAX(0,D25800-'Vstupní hodnoty'!$C$5)","v":0}]
[null,"2017-09-27T03:00:00",9,642.6,{"$f":"CEILING(IF(C25835-C25834=0,IF(H25834=0,I25834,IF(J25834>K25834,I25834,E25834)),'Výstupy modelu'!$C$7),1)","v":1664},0,0,{"$f":"IF(F25835=1,IF(G25835>'Zdrojová data'!$C$19,0,1),\"\")","v":""},1664,0,{"$f":"MIN(J25835,'Zdrojová data'!$C$17)","v":0},0,{"$f":"L25835/'Zdrojová data'!$C$16","v":0},{"$f":"M25835*'Zdrojová data'!$C$13","v":0},{"$f":"N25835*'Zdrojová data'!$C$14","v":0},0,{"$f":"IF(H25835=0,D25835-'Výstupy modelu'!$C$7,IF(P25835=1,J25835-K25835,0))","v":0},0,null,{"$f":"MAX(0,IF(Q25835>0,Q25835-('Výstupy modelu'!$H$10-'Výstupy modelu'!$H$9),0))","v":0},null,null,1865.4300000000003,1885.4300000000003,0,{"$f":"MAX(0,D25835-'Vstupní hodnoty'!$C$5)","v":0}]
[null,"2017-09-27T07:15:00",9,1418.0400000000002,{"$f":"CEILING(IF(C25852-C25851=0,IF(H25851=0,I25851,IF(J25851>K25851,I25851,E25851)),'Výstupy modelu'!$C$7),1)","v":1664},0,0,{"$f":"IF(F25852=1,IF(G25852>'Zdrojová data'!$C$19,0,1),\"\")","v":""},1664,0,{"$f":"MIN(J25852,'Zdrojová data'!$C$17)","v":0},0,{"$f":"L25852/'Zdrojová data'!$C$16","v":0},{"$f":"M25852*'Zdrojová data'!$C$13","v":0},{"$f":"N25852*'Zdrojová data'!$C$14","v":0},0,{"$f":"IF(H25852=0,D25852-'Výstupy modelu'!$C$7,IF(P25852=1,J25852-K25852,0))","v":0},0,null,{"$f":"MAX(0,IF(Q25852>0,Q25852-('Výstupy modelu'!$H$10-'Výstupy modelu'!$H$9),0))","v":0},null,null,1865.4300000000003,1885.4300000000003,0,{"$f":"MAX(0,D25852-'Vstupní hodnoty'!$C$5)","v":0}]
[null,"2017-09-27T13:30:00",9,1324.0800000000002,{"$f":"CEILING(IF(C25877-C25876=0,IF(H25876=0,I25876,IF(J25876>K25876,I25876,E25876)),'Výstupy modelu'!$C$7),1)","v":1664},0,0,{"$f":"IF(F25877=1,IF(G25877>'Zdrojová data'!$C$19,0,1),\"\")","v":""},1664,0,{"$f":"MIN(J25877,'Zdrojová data'!$C$17)","v":0},0,{"$f":"L25877/'Zdrojová data'!$C$16","v":0},{"$f":"M25877*'Zdrojová data'!$C$13","v":0},{"$f":"N25877*'Zdrojová data'!$C$14","v":0},0,{"$f":"IF(H25877=0,D25877-'Výstupy modelu'!$C$7,IF(P25877=1,J25877-K25877,0))","v":0},0,null,{"$f":"MAX(0,IF(Q25877>0,Q25877-('Výstupy modelu'!$H$10-'Výstupy modelu'!$H$9),0))","v":0},null,null,1865.4300000000003,1885.4300000000003,0,{"$f":"MAX(0,D25877-'Vstupní hodnoty'!$C$5)","v":0}]
[null,"2017-09-28T04:30:00",9,388.8,{"$f":"CEILING(IF(C25937-C25936=0,IF(H25936=0,I25936,IF(J25936>K25936,I25936,E25936)),'Výstupy modelu'!$C$7),1)","v":1664},0,0,{"$f":"IF(F25937=1,IF(G25937>'Zdrojová data'!$C$19,0,1),\"\")","v":""},1664,0,{"$f":"MIN(J25937,'Zdrojová data'!$C$17)","v":0},0,{"$f":"L25937/'Zdrojová data'!$C$16","v":0},{"$f":"M25937*'Zdrojová data'!$C$13","v":0},{"$f":"N25937*'Zdrojová data'!$C$14","v":0},0,{"$f":"IF(H25937=0,D25937-'Výstupy modelu'!$C$7,IF(P25937=1,J25937-K25937,0))","v":0},0,null,{"$f":"MAX(0,IF(Q25937>0,Q25937-('Výstupy modelu'!$H$10-'Výstupy modelu'!$H$9),0))","v":0},null,null,1865.4300000000003,1885.4300000000003,0,{"$f":"MAX(0,D25937-'Vstupní hodnoty'!$C$5)","v":0}]
[null,"2017-09-28T08:45:00",9,384.48,{"$f":"CEILING(IF(C25954-C25953=0,IF(H25953=0,I25953,IF(J25953>K25953,I25953,E25953)),'Výstupy modelu'!$C$7),1)","v":1664},0,0,{"$f":"IF(F25954=1,IF(G25954>'Zdrojová data'!$C$19,0,1),\"\")","v":""},1664,0,{"$f":"MIN(J25954,'Zdrojová data'!$C$17)","v":0},0,{"$f":"L25954/'Zdrojová data'!$C$16","v":0},{"$f":"M25954*'Zdrojová data'!$C$13","v":0},{"$f":"N25954*'Zdrojová data'!$C$14","v":0},0,{"$f":"IF(H25954=0,D25954-'Výstupy modelu'!$C$7,IF(P25954=1,J25954-K25954,0))","v":0},0,null,{"$f":"MAX(0,IF(Q25954>0,Q25954-('Výstupy modelu'!$H$10-'Výstupy modelu'!$H$9),0))","v":0},null,null,1865.4300000000003,1885.4300000000003,0,{"$f":"MAX(0,D25954-'Vstupní hodnoty'!$C$5)","v":0}]
[null,"2017-09-28T17:30:00",{"$f":"MONTH(B25989)","v":9},413.64000000000004,{"$f":"CEILING(IF(C25989-C25988=0,IF(H25988=0,I25988,IF(J25988>K25988,I25988,E25988)),'Výstupy modelu'!$C$7),1)","v":1664},0,{"$f":"IF(F25989=1,RANDBETWEEN(0,100),0)","v":0},{"$f":"IF(F25989=1,IF(G25989>'Zdrojová data'!$C$19,0,1),\"\")","v":""},1664,0,{"$f":"MIN(J25989,'Zdrojová data'!$C$17)","v":0},{"$f":"K25989/4","v":0},{"$f":"L25989/'Zdrojová data'!$C$16","v":0},{"$f":"M25989*'Zdrojová data'!$C$13","v":0},{"$f":"N25989*'Zdrojová data'!$C$14","v":0},{"$f":"IF(H25989=0,1,IF(J25989>K25989,1,0))","v":0},{"$f":"IF(H25989=0,D25989-'Výstupy modelu'!$C$7,IF(P25989=1,J25989-K25989,0))","v":0},{"$f":"IF(H25989=0,1,IF(J25989>K25989,1,0))","v":0},null,{"$f":"MAX(0,IF(Q25989>0,Q25989-('Výstupy modelu'!$H$10-'Výstupy modelu'!$H$9),0))","v":0},null,null,1865.4300000000003,1885.4300000000003,0,{"$f":"MAX(0,D25989-'Vstupní hodnoty'!$C$5)","v":0}]
[null,"2017-09-29T06:15:00",9,502.20000000000005,{"$f":"CEILING(IF(C26040-C26039=0,IF(H26039=0,I26039,IF(J26039>K26039,I26039,E26039)),'Výstupy modelu'!$C$7),1)","v":1664},0,0,{"$f":"IF(F26040=1,IF(G26040>'Zdrojová data'!$C$19,0,1),\"\")","v":""},1664,0,{"$f":"MIN(J26040,'Zdrojová data'!$C$17)","v":0},0,{"$f":"L26040/'Zdrojová data'!$C$16","v":0},{"$f":"M26040*'Zdrojová data'!$C$13","v":0},{"$f":"N26040*'Zdrojová data'!$C$14","v":0},0,{"$f":"IF(H26040=0,D26040-'Výstupy modelu'!$C$7,IF(P26040=1,J26040-K26040,0))","v":0},0,null,{"$f":"MAX(0,IF(Q26040>0,Q26040-('Výstupy modelu'!$H$10-'Výstupy modelu'!$H$9),0))","v":0},null,null,1865.4300000000003,1885.4300000000003,0,{"$f":"MAX(0,D26040-'Vstupní hodnoty'!$C$5)","v":0}]
[null,"2017-09-29T09:00:00",9,413.64000000000004,{"$f":"CEILING(IF(C26051-C26050=0,IF(H26050=0,I26050,IF(J26050>K26050,I26050,E26050)),'Výstupy modelu'!$C$7),1)","v":1664},0,0,{"$f":"IF(F26051=1,IF(G26051>'Zdrojová data'!$C$19,0,1),\"\")","v":""},1664,0,{"$f":"MIN(J26051,'Zdrojová data'!$C$17)","v":0},0,{"$f":"L26051/'Zdrojová data'!$C$16","v":0},{"$f":"M26051*'Zdrojová data'!$C$13","v":0},{"$f":"N26051*'Zdrojová data'!$C$14","v":0},0,{"$f":"IF(H26051=0,D26051-'Výstupy modelu'!$C$7,IF(P26051=1,J26051-K26051,0))","v":0},0,null,{"$f":"MAX(0,IF(Q26051>0,Q26051-('Výstupy modelu'!$H$10-'Výstupy modelu'!$H$9),0))","v":0},null,null,1865.4300000000003,1885.4300000000003,0,{"$f":"MAX(0,D26051-'Vstupní hodnoty'!$C$5)","v":0}]
[null,"2017-09-29T19:00:00",9,405,{"$f":"CEILING(IF(C26091-C26090=0,IF(H26090=0,I26090,IF(J26090>K26090,I26090,E26090)),'Výstupy modelu'!$C$7),1)","v":1664},0,0,{"$f":"IF(F26091=1,IF(G26091>'Zdrojová data'!$C$19,0,1),\"\")","v":""},1664,0,{"$f":"MIN(J26091,'Zdrojová data'!$C$17)","v":0},0,{"$f":"L26091/'Zdrojová data'!$C$16","v":0},{"$f":"M26091*'Zdrojová data'!$C$13","v":0},{"$f":"N26091*'Zdrojová data'!$C$14","v":0},0,{"$f":"IF(H26091=0,D26091-'Výstupy modelu'!$C$7,IF(P26091=1,J26091-K26091,0))","v":0},0,null,{"$f":"MAX(0,IF(Q26091>0,Q26091-('Výstupy modelu'!$H$10-'Výstupy modelu'!$H$9),0))","v":0},null,null,1865.4300000000003,1885.4300000000003,0,{"$f":"MAX(0,D26091-'Vstupní hodnoty'!$C$5)","v":0}]
[null,"2017-09-30T07:45:00",9,250.56,{"$f":"CEILING(IF(C26142-C26141=0,IF(H26141=0,I26141,IF(J26141>K26141,I26141,E26141)),'Výstupy modelu'!$C$7),1)","v":1664},0,0,{"$f":"IF(F26142=1,IF(G26142>'Zdrojová data'!$C$19,0,1),\"\")","v":""},1664,0,{"$f":"MIN(J26142,'Zdrojová data'!$C$17)","v":0},0,{"$f":"L26142/'Zdrojová data'!$C$16","v":0},{"$f":"M26142*'Zdrojová data'!$C$13","v":0},{"$f":"N26142*'Zdrojová data'!$C$14","v":0},0,{"$f":"IF(H26142=0,D26142-'Výstupy modelu'!$C$7,IF(P26142=1,J26142-K26142,0))","v":0},0,null,{"$f":"MAX(0,IF(Q26142>0,Q26142-('Výstupy modelu'!$H$10-'Výstupy modelu'!$H$9),0))","v":0},null,null,1865.4300000000003,1885.4300000000003,0,{"$f":"MAX(0,D26142-'Vstupní hodnoty'!$C$5)","v":0}]
[null,"2017-09-30T16:30:00",9,267.84000000000003,{"$f":"CEILING(IF(C26177-C26176=0,IF(H26176=0,I26176,IF(J26176>K26176,I26176,E26176)),'Výstupy modelu'!$C$7),1)","v":1664},0,0,{"$f":"IF(F26177=1,IF(G26177>'Zdrojová data'!$C$19,0,1),\"\")","v":""},1664,0,{"$f":"MIN(J26177,'Zdrojová data'!$C$17)","v":0},0,{"$f":"L26177/'Zdrojová data'!$C$16","v":0},{"$f":"M26177*'Zdrojová data'!$C$13","v":0},{"$f":"N26177*'Zdrojová data'!$C$14","v":0},0,{"$f":"IF(H26177=0,D26177-'Výstupy modelu'!$C$7,IF(P26177=1,J26177-K26177,0))","v":0},0,null,{"$f":"MAX(0,IF(Q26177>0,Q26177-('Výstupy modelu'!$H$10-'Výstupy modelu'!$H$9),0))","v":0},null,null,1865.4300000000003,1885.4300000000003,0,{"$f":"MAX(0,D26177-'Vstupní hodnoty'!$C$5)","v":0}]
[null,"2017-09-30T20:45:00",9,252.72000000000003,{"$f":"CEILING(IF(C26194-C26193=0,IF(H26193=0,I26193,IF(J26193>K26193,I26193,E26193)),'Výstupy modelu'!$C$7),1)","v":1664},0,0,{"$f":"IF(F26194=1,IF(G26194>'Zdrojová data'!$C$19,0,1),\"\")","v":""},1664,0,{"$f":"MIN(J26194,'Zdrojová data'!$C$17)","v":0},0,{"$f":"L26194/'Zdrojová data'!$C$16","v":0},{"$f":"M26194*'Zdrojová data'!$C$13","v":0},{"$f":"N26194*'Zdrojová data'!$C$14","v":0},0,{"$f":"IF(H26194=0,D26194-'Výstupy modelu'!$C$7,IF(P26194=1,J26194-K26194,0))","v":0},0,null,{"$f":"MAX(0,IF(Q26194>0,Q26194-('Výstupy modelu'!$H$10-'Výstupy modelu'!$H$9),0))","v":0},null,null,1865.4300000000003,1885.4300000000003,0,{"$f":"MAX(0,D26194-'Vstupní hodnoty'!$C$5)","v":0}]
[null,"2017-10-01T03:30:00",10,282.96000000000004,{"$f":"CEILING(IF(C26221-C26220=0,IF(H26220=0,I26220,IF(J26220>K26220,I26220,E26220)),'Výstupy modelu'!$C$7),1)","v":1664},0,0,{"$f":"IF(F26221=1,IF(G26221>'Zdrojová data'!$C$19,0,1),\"\")","v":""},1664,0,{"$f":"MIN(J26221,'Zdrojová data'!$C$17)","v":0},0,{"$f":"L26221/'Zdrojová data'!$C$16","v":0},{"$f":"M26221*'Zdrojová data'!$C$13","v":0},{"$f":"N26221*'Zdrojová data'!$C$14","v":0},0,{"$f":"IF(H26221=0,D26221-'Výstupy modelu'!$C$7,IF(P26221=1,J26221-K26221,0))","v":0},0,null,{"$f":"MAX(0,IF(Q26221>0,Q26221-('Výstupy modelu'!$H$10-'Výstupy modelu'!$H$9),0))","v":0},null,null,1865.4300000000003,1885.4300000000003,0,{"$f":"MAX(0,D26221-'Vstupní hodnoty'!$C$5)","v":0}]
[null,"2017-10-01T09:30:00",{"$f":"MONTH(B26245)","v":10},248.4,{"$f":"CEILING(IF(C26245-C26244=0,IF(H26244=0,I26244,IF(J26244>K26244,I26244,E26244)),'Výstupy modelu'!$C$7),1)","v":1664},0,{"$f":"IF(F26245=1,RANDBETWEEN(0,100),0)","v":0},{"$f":"IF(F26245=1,IF(G26245>'Zdrojová data'!$C$19,0,1),\"\")","v":""},1664,0,{"$f":"MIN(J26245,'Zdrojová data'!$C$17)","v":0},{"$f":"K26245/4","v":0},{"$f":"L26245/'Zdrojová data'!$C$16","v":0},{"$f":"M26245*'Zdrojová data'!$C$13","v":0},{"$f":"N26245*'Zdrojová data'!$C$14","v":0},{"$f":"IF(H26245=0,1,IF(J26245>K26245,1,0))","v":0},{"$f":"IF(H26245=0,D26245-'Výstupy modelu'!$C$7,IF(P26245=1,J26245-K26245,0))","v":0},{"$f":"IF(H26245=0,1,IF(J26245>K26245,1,0))","v":0},null,{"$f":"MAX(0,IF(Q26245>0,Q26245-('Výstupy modelu'!$H$10-'Výstupy modelu'!$H$9),0))","v":0},null,null,1865.4300000000003,1885.4300000000003,0,{"$f":"MAX(0,D26245-'Vstupní hodnoty'!$C$5)","v":0}]
[null,"2017-10-01T22:15:00",10,303.48,{"$f":"CEILING(IF(C26296-C26295=0,IF(H26295=0,I26295,IF(J26295>K26295,I26295,E26295)),'Výstupy modelu'!$C$7),1)","v":1664},0,0,{"$f":"IF(F26296=1,IF(G26296>'Zdrojová data'!$C$19,0,1),\"\")","v":""},1664,0,{"$f":"MIN(J26296,'Zdrojová data'!$C$17)","v":0},0,{"$f":"L26296/'Zdrojová data'!$C$16","v":0},{"$f":"M26296*'Zdrojová data'!$C$13","v":0},{"$f":"N26296*'Zdrojová data'!$C$14","v":0},0,{"$f":"IF(H26296=0,D26296-'Výstupy modelu'!$C$7,IF(P26296=1,J26296-K26296,0))","v":0},0,null,{"$f":"MAX(0,IF(Q26296>0,Q26296-('Výstupy modelu'!$H$10-'Výstupy modelu'!$H$9),0))","v":0},null,null,1865.4300000000003,1885.4300000000003,0,{"$f":"MAX(0,D26296-'Vstupní hodnoty'!$C$5)","v":0}]
[null,"2017-10-02T07:00:00",10,1415.88,{"$f":"CEILING(IF(C26331-C26330=0,IF(H26330=0,I26330,IF(J26330>K26330,I26330,E26330)),'Výstupy modelu'!$C$7),1)","v":1664},0,0,{"$f":"IF(F26331=1,IF(G26331>'Zdrojová data'!$C$19,0,1),\"\")","v":""},1664,0,{"$f":"MIN(J26331,'Zdrojová data'!$C$17)","v":0},0,{"$f":"L26331/'Zdrojová data'!$C$16","v":0},{"$f":"M26331*'Zdrojová data'!$C$13","v":0},{"$f":"N26331*'Zdrojová data'!$C$14","v":0},0,{"$f":"IF(H26331=0,D26331-'Výstupy modelu'!$C$7,IF(P26331=1,J26331-K26331,0))","v":0},0,null,{"$f":"MAX(0,IF(Q26331>0,Q26331-('Výstupy modelu'!$H$10-'Výstupy modelu'!$H$9),0))","v":0},null,null,1865.4300000000003,1885.4300000000003,0,{"$f":"MAX(0,D26331-'Vstupní hodnoty'!$C$5)","v":0}]
[null,"2017-10-02T11:15:00",10,1443.96,{"$f":"CEILING(IF(C26348-C26347=0,IF(H26347=0,I26347,IF(J26347>K26347,I26347,E26347)),'Výstupy modelu'!$C$7),1)","v":1664},0,0,{"$f":"IF(F26348=1,IF(G26348>'Zdrojová data'!$C$19,0,1),\"\")","v":""},1664,0,{"$f":"MIN(J26348,'Zdrojová data'!$C$17)","v":0},0,{"$f":"L26348/'Zdrojová data'!$C$16","v":0},{"$f":"M26348*'Zdrojová data'!$C$13","v":0},{"$f":"N26348*'Zdrojová data'!$C$14","v":0},0,{"$f":"IF(H26348=0,D26348-'Výstupy modelu'!$C$7,IF(P26348=1,J26348-K26348,0))","v":0},0,null,{"$f":"MAX(0,IF(Q26348>0,Q26348-('Výstupy modelu'!$H$10-'Výstupy modelu'!$H$9),0))","v":0},null,null,1865.4300000000003,1885.4300000000003,0,{"$f":"MAX(0,D26348-'Vstupní hodnoty'!$C$5)","v":0}]
[null,"2017-10-02T23:00:00",10,517.32000000000005,{"$f":"CEILING(IF(C26395-C26394=0,IF(H26394=0,I26394,IF(J26394>K26394,I26394,E26394)),'Výstupy modelu'!$C$7),1)","v":1664},0,0,{"$f":"IF(F26395=1,IF(G26395>'Zdrojová data'!$C$19,0,1),\"\")","v":""},1664,0,{"$f":"MIN(J26395,'Zdrojová data'!$C$17)","v":0},0,{"$f":"L26395/'Zdrojová data'!$C$16","v":0},{"$f":"M26395*'Zdrojová data'!$C$13","v":0},{"$f":"N26395*'Zdrojová data'!$C$14","v":0},0,{"$f":"IF(H26395=0,D26395-'Výstupy modelu'!$C$7,IF(P26395=1,J26395-K26395,0))","v":0},0,null,{"$f":"MAX(0,IF(Q26395>0,Q26395-('Výstupy modelu'!$H$10-'Výstupy modelu'!$H$9),0))","v":0},null,null,1865.4300000000003,1885.4300000000003,0,{"$f":"MAX(0,D26395-'Vstupní hodnoty'!$C$5)","v":0}]
[null,"2017-10-03T08:30:00",10,1442.88,{"$f":"CEILING(IF(C26433-C26432=0,IF(H26432=0,I26432,IF(J26432>K26432,I26432,E26432)),'Výstupy modelu'!$C$7),1)","v":1664},0,0,{"$f":"IF(F26433=1,IF(G26433>'Zdrojová data'!$C$19,0,1),\"\")","v":""},1664,0,{"$f":"MIN(J26433,'Zdrojová data'!$C$17)","v":0},0,{"$f":"L26433/'Zdrojová data'!$C$16","v":0},{"$f":"M26433*'Zdrojová data'!$C$13","v":0},{"$f":"N26433*'Zdrojová data'!$C$14","v":0},0,{"$f":"IF(H26433=0,D26433-'Výstupy modelu'!$C$7,IF(P26433=1,J26433-K26433,0))","v":0},0,null,{"$f":"MAX(0,IF(Q26433>0,Q26433-('Výstupy modelu'!$H$10-'Výstupy modelu'!$H$9),0))","v":0},null,null,1865.4300000000003,1885.4300000000003,0,{"$f":"MAX(0,D26433-'Vstupní hodnoty'!$C$5)","v":0}]
[null,"2017-10-03T12:45:00",10,1429.92,{"$f":"CEILING(IF(C26450-C26449=0,IF(H26449=0,I26449,IF(J26449>K26449,I26449,E26449)),'Výstupy modelu'!$C$7),1)","v":1664},0,0,{"$f":"IF(F26450=1,IF(G26450>'Zdrojová data'!$C$19,0,1),\"\")","v":""},1664,0,{"$f":"MIN(J26450,'Zdrojová data'!$C$17)","v":0},0,{"$f":"L26450/'Zdrojová data'!$C$16","v":0},{"$f":"M26450*'Zdrojová data'!$C$13","v":0},{"$f":"N26450*'Zdrojová data'!$C$14","v":0},0,{"$f":"IF(H26450=0,D26450-'Výstupy modelu'!$C$7,IF(P26450=1,J26450-K26450,0))","v":0},0,null,{"$f":"MAX(0,IF(Q26450>0,Q26450-('Výstupy modelu'!$H$10-'Výstupy modelu'!$H$9),0))","v":0},null,null,1865.4300000000003,1885.4300000000003,0,{"$f":"MAX(0,D26450-'Vstupní hodnoty'!$C$5)","v":0}]
[null,"2017-10-03T21:30:00",10,834.84,{"$f":"CEILING(IF(C26485-C26484=0,IF(H26484=0,I26484,IF(J26484>K26484,I26484,E26484)),'Výstupy modelu'!$C$7),1)","v":1664},0,0,{"$f":"IF(F26485=1,IF(G26485>'Zdrojová data'!$C$19,0,1),\"\")","v":""},1664,0,{"$f":"MIN(J26485,'Zdrojová data'!$C$17)","v":0},0,{"$f":"L26485/'Zdrojová data'!$C$16","v":0},{"$f":"M26485*'Zdrojová data'!$C$13","v":0},{"$f":"N26485*'Zdrojová data'!$C$14","v":0},0,{"$f":"IF(H26485=0,D26485-'Výstupy modelu'!$C$7,IF(P26485=1,J26485-K26485,0))","v":0},0,null,{"$f":"MAX(0,IF(Q26485>0,Q26485-('Výstupy modelu'!$H$10-'Výstupy modelu'!$H$9),0))","v":0},null,null,1865.4300000000003,1885.4300000000003,0,{"$f":"MAX(0,D26485-'Vstupní hodnoty'!$C$5)","v":0}]
[null,"2017-10-04T10:15:00",10,1341.3600000000001,{"$f":"CEILING(IF(C26536-C26535=0,IF(H26535=0,I26535,IF(J26535>K26535,I26535,E26535)),'Výstupy modelu'!$C$7),1)","v":1664},0,0,{"$f":"IF(F26536=1,IF(G26536>'Zdrojová data'!$C$19,0,1),\"\")","v":""},1664,0,{"$f":"MIN(J26536,'Zdrojová data'!$C$17)","v":0},0,{"$f":"L26536/'Zdrojová data'!$C$16","v":0},{"$f":"M26536*'Zdrojová data'!$C$13","v":0},{"$f":"N26536*'Zdrojová data'!$C$14","v":0},0,{"$f":"IF(H26536=0,D26536-'Výstupy modelu'!$C$7,IF(P26536=1,J26536-K26536,0))","v":0},0,null,{"$f":"MAX(0,IF(Q26536>0,Q26536-('Výstupy modelu'!$H$10-'Výstupy modelu'!$H$9),0))","v":0},null,null,1865.4300000000003,1885.4300000000003,0,{"$f":"MAX(0,D26536-'Vstupní hodnoty'!$C$5)","v":0}]
[null,"2017-10-04T18:30:00",10,1045.44,{"$f":"CEILING(IF(C26569-C26568=0,IF(H26568=0,I26568,IF(J26568>K26568,I26568,E26568)),'Výstupy modelu'!$C$7),1)","v":1664},0,0,{"$f":"IF(F26569=1,IF(G26569>'Zdrojová data'!$C$19,0,1),\"\")","v":""},1664,0,{"$f":"MIN(J26569,'Zdrojová data'!$C$17)","v":0},0,{"$f":"L26569/'Zdrojová data'!$C$16","v":0},{"$f":"M26569*'Zdrojová data'!$C$13","v":0},{"$f":"N26569*'Zdrojová data'!$C$14","v":0},0,{"$f":"IF(H26569=0,D26569-'Výstupy modelu'!$C$7,IF(P26569=1,J26569-K26569,0))","v":0},0,null,{"$f":"MAX(0,IF(Q26569>0,Q26569-('Výstupy modelu'!$H$10-'Výstupy modelu'!$H$9),0))","v":0},null,null,1865.4300000000003,1885.4300000000003,0,{"$f":"MAX(0,D26569-'Vstupní hodnoty'!$C$5)","v":0}]
[null,"2017-10-04T23:00:00",10,473.04,{"$f":"CEILING(IF(C26587-C26586=0,IF(H26586=0,I26586,IF(J26586>K26586,I26586,E26586)),'Výstupy modelu'!$C$7),1)","v":1664},0,0,{"$f":"IF(F26587=1,IF(G26587>'Zdrojová data'!$C$19,0,1),\"\")","v":""},1664,0,{"$f":"MIN(J26587,'Zdrojová data'!$C$17)","v":0},0,{"$f":"L26587/'Zdrojová data'!$C$16","v":0},{"$f":"M26587*'Zdrojová data'!$C$13","v":0},{"$f":"N26587*'Zdrojová data'!$C$14","v":0},0,{"$f":"IF(H26587=0,D26587-'Výstupy modelu'!$C$7,IF(P26587=1,J26587-K26587,0))","v":0},0,null,{"$f":"MAX(0,IF(Q26587>0,Q26587-('Výstupy modelu'!$H$10-'Výstupy modelu'!$H$9),0))","v":0},null,null,1865.4300000000003,1885.4300000000003,0,{"$f":"MAX(0,D26587-'Vstupní hodnoty'!$C$5)","v":0}]
[null,"2017-10-05T11:45:00",10,1463.4,{"$f":"CEILING(IF(C26638-C26637=0,IF(H26637=0,I26637,IF(J26637>K26637,I26637,E26637)),'Výstupy modelu'!$C$7),1)","v":1664},0,0,{"$f":"IF(F26638=1,IF(G26638>'Zdrojová data'!$C$19,0,1),\"\")","v":""},1664,0,{"$f":"MIN(J26638,'Zdrojová data'!$C$17)","v":0},0,{"$f":"L26638/'Zdrojová data'!$C$16","v":0},{"$f":"M26638*'Zdrojová data'!$C$13","v":0},{"$f":"N26638*'Zdrojová data'!$C$14","v":0},0,{"$f":"IF(H26638=0,D26638-'Výstupy modelu'!$C$7,IF(P26638=1,J26638-K26638,0))","v":0},0,null,{"$f":"MAX(0,IF(Q26638>0,Q26638-('Výstupy modelu'!$H$10-'Výstupy modelu'!$H$9),0))","v":0},null,null,1865.4300000000003,1885.4300000000003,0,{"$f":"MAX(0,D26638-'Vstupní hodnoty'!$C$5)","v":0}]
[null,"2017-10-05T16:00:00",10,1046.52,{"$f":"CEILING(IF(C26655-C26654=0,IF(H26654=0,I26654,IF(J26654>K26654,I26654,E26654)),'Výstupy modelu'!$C$7),1)","v":1664},0,0,{"$f":"IF(F26655=1,IF(G26655>'Zdrojová data'!$C$19,0,1),\"\")","v":""},1664,0,{"$f":"MIN(J26655,'Zdrojová data'!$C$17)","v":0},0,{"$f":"L26655/'Zdrojová data'!$C$16","v":0},{"$f":"M26655*'Zdrojová data'!$C$13","v":0},{"$f":"N26655*'Zdrojová data'!$C$14","v":0},0,{"$f":"IF(H26655=0,D26655-'Výstupy modelu'!$C$7,IF(P26655=1,J26655-K26655,0))","v":0},0,null,{"$f":"MAX(0,IF(Q26655>0,Q26655-('Výstupy modelu'!$H$10-'Výstupy modelu'!$H$9),0))","v":0},null,null,1865.4300000000003,1885.4300000000003,0,{"$f":"MAX(0,D26655-'Vstupní hodnoty'!$C$5)","v":0}]
[null,"2017-10-06T04:00:00",10,490.32000000000005,{"$f":"CEILING(IF(C26703-C26702=0,IF(H26702=0,I26702,IF(J26702>K26702,I26702,E26702)),'Výstupy modelu'!$C$7),1)","v":1664},0,0,{"$f":"IF(F26703=1,IF(G26703>'Zdrojová data'!$C$19,0,1),\"\")","v":""},1664,0,{"$f":"MIN(J26703,'Zdrojová data'!$C$17)","v":0},0,{"$f":"L26703/'Zdrojová data'!$C$16","v":0},{"$f":"M26703*'Zdrojová data'!$C$13","v":0},{"$f":"N26703*'Zdrojová data'!$C$14","v":0},0,{"$f":"IF(H26703=0,D26703-'Výstupy modelu'!$C$7,IF(P26703=1,J26703-K26703,0))","v":0},0,null,{"$f":"MAX(0,IF(Q26703>0,Q26703-('Výstupy modelu'!$H$10-'Výstupy modelu'!$H$9),0))","v":0},null,null,1865.4300000000003,1885.4300000000003,0,{"$f":"MAX(0,D26703-'Vstupní hodnoty'!$C$5)","v":0}]
[null,"2017-10-06T13:15:00",10,1306.8000000000002,{"$f":"CEILING(IF(C26740-C26739=0,IF(H26739=0,I26739,IF(J26739>K26739,I26739,E26739)),'Výstupy modelu'!$C$7),1)","v":1664},0,0,{"$f":"IF(F26740=1,IF(G26740>'Zdrojová data'!$C$19,0,1),\"\")","v":""},1664,0,{"$f":"MIN(J26740,'Zdrojová data'!$C$17)","v":0},0,{"$f":"L26740/'Zdrojová data'!$C$16","v":0},{"$f":"M26740*'Zdrojová data'!$C$13","v":0},{"$f":"N26740*'Zdrojová data'!$C$14","v":0},0,{"$f":"IF(H26740=0,D26740-'Výstupy modelu'!$C$7,IF(P26740=1,J26740-K26740,0))","v":0},0,null,{"$f":"MAX(0,IF(Q26740>0,Q26740-('Výstupy modelu'!$H$10-'Výstupy modelu'!$H$9),0))","v":0},null,null,1865.4300000000003,1885.4300000000003,0,{"$f":"MAX(0,D26740-'Vstupní hodnoty'!$C$5)","v":0}]
[null,"2017-10-06T22:00:00",10,550.80000000000007,{"$f":"CEILING(IF(C26775-C26774=0,IF(H26774=0,I26774,IF(J26774>K26774,I26774,E26774)),'Výstupy modelu'!$C$7),1)","v":1664},0,0,{"$f":"IF(F26775=1,IF(G26775>'Zdrojová data'!$C$19,0,1),\"\")","v":""},1664,0,{"$f":"MIN(J26775,'Zdrojová data'!$C$17)","v":0},0,{"$f":"L26775/'Zdrojová data'!$C$16","v":0},{"$f":"M26775*'Zdrojová data'!$C$13","v":0},{"$f":"N26775*'Zdrojová data'!$C$14","v":0},0,{"$f":"IF(H26775=0,D26775-'Výstupy modelu'!$C$7,IF(P26775=1,J26775-K26775,0))","v":0},0,null,{"$f":"MAX(0,IF(Q26775>0,Q26775-('Výstupy modelu'!$H$10-'Výstupy modelu'!$H$9),0))","v":0},null,null,1865.4300000000003,1885.4300000000003,0,{"$f":"MAX(0,D26775-'Vstupní hodnoty'!$C$5)","v":0}]
[null,"2017-10-07T02:15:00",10,253.8,{"$f":"CEILING(IF(C26792-C26791=0,IF(H26791=0,I26791,IF(J26791>K26791,I26791,E26791)),'Výstupy modelu'!$C$7),1)","v":1664},0,0,{"$f":"IF(F26792=1,IF(G26792>'Zdrojová data'!$C$19,0,1),\"\")","v":""},1664,0,{"$f":"MIN(J26792,'Zdrojová data'!$C$17)","v":0},0,{"$f":"L26792/'Zdrojová data'!$C$16","v":0},{"$f":"M26792*'Zdrojová data'!$C$13","v":0},{"$f":"N26792*'Zdrojová data'!$C$14","v":0},0,{"$f":"IF(H26792=0,D26792-'Výstupy modelu'!$C$7,IF(P26792=1,J26792-K26792,0))","v":0},0,null,{"$f":"MAX(0,IF(Q26792>0,Q26792-('Výstupy modelu'!$H$10-'Výstupy modelu'!$H$9),0))","v":0},null,null,1865.4300000000003,1885.4300000000003,0,{"$f":"MAX(0,D26792-'Vstupní hodnoty'!$C$5)","v":0}]
[null,"2017-10-07T15:00:00",10,293.76,{"$f":"CEILING(IF(C26843-C26842=0,IF(H26842=0,I26842,IF(J26842>K26842,I26842,E26842)),'Výstupy modelu'!$C$7),1)","v":1664},0,0,{"$f":"IF(F26843=1,IF(G26843>'Zdrojová data'!$C$19,0,1),\"\")","v":""},1664,0,{"$f":"MIN(J26843,'Zdrojová data'!$C$17)","v":0},0,{"$f":"L26843/'Zdrojová data'!$C$16","v":0},{"$f":"M26843*'Zdrojová data'!$C$13","v":0},{"$f":"N26843*'Zdrojová data'!$C$14","v":0},0,{"$f":"IF(H26843=0,D26843-'Výstupy modelu'!$C$7,IF(P26843=1,J26843-K26843,0))","v":0},0,null,{"$f":"MAX(0,IF(Q26843>0,Q26843-('Výstupy modelu'!$H$10-'Výstupy modelu'!$H$9),0))","v":0},null,null,1865.4300000000003,1885.4300000000003,0,{"$f":"MAX(0,D26843-'Vstupní hodnoty'!$C$5)","v":0}]
[null,"2017-10-07T23:30:00",10,233.28000000000003,{"$f":"CEILING(IF(C26877-C26876=0,IF(H26876=0,I26876,IF(J26876>K26876,I26876,E26876)),'Výstupy modelu'!$C$7),1)","v":1664},0,0,{"$f":"IF(F26877=1,IF(G26877>'Zdrojová data'!$C$19,0,1),\"\")","v":""},1664,0,{"$f":"MIN(J26877,'Zdrojová data'!$C$17)","v":0},0,{"$f":"L26877/'Zdrojová data'!$C$16","v":0},{"$f":"M26877*'Zdrojová data'!$C$13","v":0},{"$f":"N26877*'Zdrojová data'!$C$14","v":0},0,{"$f":"IF(H26877=0,D26877-'Výstupy modelu'!$C$7,IF(P26877=1,J26877-K26877,0))","v":0},0,null,{"$f":"MAX(0,IF(Q26877>0,Q26877-('Výstupy modelu'!$H$10-'Výstupy modelu'!$H$9),0))","v":0},null,null,1865.4300000000003,1885.4300000000003,0,{"$f":"MAX(0,D26877-'Vstupní hodnoty'!$C$5)","v":0}]
[null,"2017-10-08T03:45:00",10,267.84000000000003,{"$f":"CEILING(IF(C26894-C26893=0,IF(H26893=0,I26893,IF(J26893>K26893,I26893,E26893)),'Výstupy modelu'!$C$7),1)","v":1664},0,0,{"$f":"IF(F26894=1,IF(G26894>'Zdrojová data'!$C$19,0,1),\"\")","v":""},1664,0,{"$f":"MIN(J26894,'Zdrojová data'!$C$17)","v":0},0,{"$f":"L26894/'Zdrojová data'!$C$16","v":0},{"$f":"M26894*'Zdrojová data'!$C$13","v":0},{"$f":"N26894*'Zdrojová data'!$C$14","v":0},0,{"$f":"IF(H26894=0,D26894-'Výstupy modelu'!$C$7,IF(P26894=1,J26894-K26894,0))","v":0},0,null,{"$f":"MAX(0,IF(Q26894>0,Q26894-('Výstupy modelu'!$H$10-'Výstupy modelu'!$H$9),0))","v":0},null,null,1865.4300000000003,1885.4300000000003,0,{"$f":"MAX(0,D26894-'Vstupní hodnoty'!$C$5)","v":0}]
[null,"2017-10-08T16:30:00",10,240.84,{"$f":"CEILING(IF(C26945-C26944=0,IF(H26944=0,I26944,IF(J26944>K26944,I26944,E26944)),'Výstupy modelu'!$C$7),1)","v":1664},0,0,{"$f":"IF(F26945=1,IF(G26945>'Zdrojová data'!$C$19,0,1),\"\")","v":""},1664,0,{"$f":"MIN(J26945,'Zdrojová data'!$C$17)","v":0},0,{"$f":"L26945/'Zdrojová data'!$C$16","v":0},{"$f":"M26945*'Zdrojová data'!$C$13","v":0},{"$f":"N26945*'Zdrojová data'!$C$14","v":0},0,{"$f":"IF(H26945=0,D26945-'Výstupy modelu'!$C$7,IF(P26945=1,J26945-K26945,0))","v":0},0,null,{"$f":"MAX(0,IF(Q26945>0,Q26945-('Výstupy modelu'!$H$10-'Výstupy modelu'!$H$9),0))","v":0},null,null,1865.4300000000003,1885.4300000000003,0,{"$f":"MAX(0,D26945-'Vstupní hodnoty'!$C$5)","v":0}]
[null,"2017-10-09T01:15:00",10,547.56000000000006,{"$f":"CEILING(IF(C26980-C26979=0,IF(H26979=0,I26979,IF(J26979>K26979,I26979,E26979)),'Výstupy modelu'!$C$7),1)","v":1664},0,0,{"$f":"IF(F26980=1,IF(G26980>'Zdrojová data'!$C$19,0,1),\"\")","v":""},1664,0,{"$f":"MIN(J26980,'Zdrojová data'!$C$17)","v":0},0,{"$f":"L26980/'Zdrojová data'!$C$16","v":0},{"$f":"M26980*'Zdrojová data'!$C$13","v":0},{"$f":"N26980*'Zdrojová data'!$C$14","v":0},0,{"$f":"IF(H26980=0,D26980-'Výstupy modelu'!$C$7,IF(P26980=1,J26980-K26980,0))","v":0},0,null,{"$f":"MAX(0,IF(Q26980>0,Q26980-('Výstupy modelu'!$H$10-'Výstupy modelu'!$H$9),0))","v":0},null,null,1865.4300000000003,1885.4300000000003,0,{"$f":"MAX(0,D26980-'Vstupní hodnoty'!$C$5)","v":0}]
[null,"2017-10-09T05:30:00",10,640.44000000000005,{"$f":"CEILING(IF(C26997-C26996=0,IF(H26996=0,I26996,IF(J26996>K26996,I26996,E26996)),'Výstupy modelu'!$C$7),1)","v":1664},0,0,{"$f":"IF(F26997=1,IF(G26997>'Zdrojová data'!$C$19,0,1),\"\")","v":""},1664,0,{"$f":"MIN(J26997,'Zdrojová data'!$C$17)","v":0},0,{"$f":"L26997/'Zdrojová data'!$C$16","v":0},{"$f":"M26997*'Zdrojová data'!$C$13","v":0},{"$f":"N26997*'Zdrojová data'!$C$14","v":0},0,{"$f":"IF(H26997=0,D26997-'Výstupy modelu'!$C$7,IF(P26997=1,J26997-K26997,0))","v":0},0,null,{"$f":"MAX(0,IF(Q26997>0,Q26997-('Výstupy modelu'!$H$10-'Výstupy modelu'!$H$9),0))","v":0},null,null,1865.4300000000003,1885.4300000000003,0,{"$f":"MAX(0,D26997-'Vstupní hodnoty'!$C$5)","v":0}]
[null,"2017-10-09T19:00:00",10,984.96,{"$f":"CEILING(IF(C27051-C27050=0,IF(H27050=0,I27050,IF(J27050>K27050,I27050,E27050)),'Výstupy modelu'!$C$7),1)","v":1664},0,0,{"$f":"IF(F27051=1,IF(G27051>'Zdrojová data'!$C$19,0,1),\"\")","v":""},1664,0,{"$f":"MIN(J27051,'Zdrojová data'!$C$17)","v":0},0,{"$f":"L27051/'Zdrojová data'!$C$16","v":0},{"$f":"M27051*'Zdrojová data'!$C$13","v":0},{"$f":"N27051*'Zdrojová data'!$C$14","v":0},0,{"$f":"IF(H27051=0,D27051-'Výstupy modelu'!$C$7,IF(P27051=1,J27051-K27051,0))","v":0},0,null,{"$f":"MAX(0,IF(Q27051>0,Q27051-('Výstupy modelu'!$H$10-'Výstupy modelu'!$H$9),0))","v":0},null,null,1865.4300000000003,1885.4300000000003,0,{"$f":"MAX(0,D27051-'Vstupní hodnoty'!$C$5)","v":0}]
[null,"2017-10-10T02:45:00",10,603.72,{"$f":"CEILING(IF(C27082-C27081=0,IF(H27081=0,I27081,IF(J27081>K27081,I27081,E27081)),'Výstupy modelu'!$C$7),1)","v":1664},0,0,{"$f":"IF(F27082=1,IF(G27082>'Zdrojová data'!$C$19,0,1),\"\")","v":""},1664,0,{"$f":"MIN(J27082,'Zdrojová data'!$C$17)","v":0},0,{"$f":"L27082/'Zdrojová data'!$C$16","v":0},{"$f":"M27082*'Zdrojová data'!$C$13","v":0},{"$f":"N27082*'Zdrojová data'!$C$14","v":0},0,{"$f":"IF(H27082=0,D27082-'Výstupy modelu'!$C$7,IF(P27082=1,J27082-K27082,0))","v":0},0,null,{"$f":"MAX(0,IF(Q27082>0,Q27082-('Výstupy modelu'!$H$10-'Výstupy modelu'!$H$9),0))","v":0},null,null,1865.4300000000003,1885.4300000000003,0,{"$f":"MAX(0,D27082-'Vstupní hodnoty'!$C$5)","v":0}]
[null,"2017-10-10T07:00:00",10,1447.2,{"$f":"CEILING(IF(C27099-C27098=0,IF(H27098=0,I27098,IF(J27098>K27098,I27098,E27098)),'Výstupy modelu'!$C$7),1)","v":1664},0,0,{"$f":"IF(F27099=1,IF(G27099>'Zdrojová data'!$C$19,0,1),\"\")","v":""},1664,0,{"$f":"MIN(J27099,'Zdrojová data'!$C$17)","v":0},0,{"$f":"L27099/'Zdrojová data'!$C$16","v":0},{"$f":"M27099*'Zdrojová data'!$C$13","v":0},{"$f":"N27099*'Zdrojová data'!$C$14","v":0},0,{"$f":"IF(H27099=0,D27099-'Výstupy modelu'!$C$7,IF(P27099=1,J27099-K27099,0))","v":0},0,null,{"$f":"MAX(0,IF(Q27099>0,Q27099-('Výstupy modelu'!$H$10-'Výstupy modelu'!$H$9),0))","v":0},null,null,1865.4300000000003,1885.4300000000003,0,{"$f":"MAX(0,D27099-'Vstupní hodnoty'!$C$5)","v":0}]
[null,"2017-10-10T15:45:00",10,1130.76,{"$f":"CEILING(IF(C27134-C27133=0,IF(H27133=0,I27133,IF(J27133>K27133,I27133,E27133)),'Výstupy modelu'!$C$7),1)","v":1664},0,0,{"$f":"IF(F27134=1,IF(G27134>'Zdrojová data'!$C$19,0,1),\"\")","v":""},1664,0,{"$f":"MIN(J27134,'Zdrojová data'!$C$17)","v":0},0,{"$f":"L27134/'Zdrojová data'!$C$16","v":0},{"$f":"M27134*'Zdrojová data'!$C$13","v":0},{"$f":"N27134*'Zdrojová data'!$C$14","v":0},0,{"$f":"IF(H27134=0,D27134-'Výstupy modelu'!$C$7,IF(P27134=1,J27134-K27134,0))","v":0},0,null,{"$f":"MAX(0,IF(Q27134>0,Q27134-('Výstupy modelu'!$H$10-'Výstupy modelu'!$H$9),0))","v":0},null,null,1865.4300000000003,1885.4300000000003,0,{"$f":"MAX(0,D27134-'Vstupní hodnoty'!$C$5)","v":0}]
[null,"2017-10-11T04:30:00",10,665.28000000000009,{"$f":"CEILING(IF(C27185-C27184=0,IF(H27184=0,I27184,IF(J27184>K27184,I27184,E27184)),'Výstupy modelu'!$C$7),1)","v":1664},0,0,{"$f":"IF(F27185=1,IF(G27185>'Zdrojová data'!$C$19,0,1),\"\")","v":""},1664,0,{"$f":"MIN(J27185,'Zdrojová data'!$C$17)","v":0},0,{"$f":"L27185/'Zdrojová data'!$C$16","v":0},{"$f":"M27185*'Zdrojová data'!$C$13","v":0},{"$f":"N27185*'Zdrojová data'!$C$14","v":0},0,{"$f":"IF(H27185=0,D27185-'Výstupy modelu'!$C$7,IF(P27185=1,J27185-K27185,0))","v":0},0,null,{"$f":"MAX(0,IF(Q27185>0,Q27185-('Výstupy modelu'!$H$10-'Výstupy modelu'!$H$9),0))","v":0},null,null,1865.4300000000003,1885.4300000000003,{"$f":"MAX(0,D27185-W27185)","v":0},{"$f":"MAX(0,D27185-'Vstupní hodnoty'!$C$5)","v":0}]
[null,"2017-10-11T06:15:00",10,1350,{"$f":"CEILING(IF(C27192-C27191=0,IF(H27191=0,I27191,IF(J27191>K27191,I27191,E27191)),'Výstupy modelu'!$C$7),1)","v":1664},0,0,{"$f":"IF(F27192=1,IF(G27192>'Zdrojová data'!$C$19,0,1),\"\")","v":""},1664,0,{"$f":"MIN(J27192,'Zdrojová data'!$C$17)","v":0},0,{"$f":"L27192/'Zdrojová data'!$C$16","v":0},{"$f":"M27192*'Zdrojová data'!$C$13","v":0},{"$f":"N27192*'Zdrojová data'!$C$14","v":0},0,{"$f":"IF(H27192=0,D27192-'Výstupy modelu'!$C$7,IF(P27192=1,J27192-K27192,0))","v":0},0,null,{"$f":"MAX(0,IF(Q27192>0,Q27192-('Výstupy modelu'!$H$10-'Výstupy modelu'!$H$9),0))","v":0},null,null,1865.4300000000003,1885.4300000000003,0,{"$f":"MAX(0,D27192-'Vstupní hodnoty'!$C$5)","v":0}]
[null,"2017-10-11T17:15:00",10,1013.0400000000001,{"$f":"CEILING(IF(C27236-C27235=0,IF(H27235=0,I27235,IF(J27235>K27235,I27235,E27235)),'Výstupy modelu'!$C$7),1)","v":1664},0,0,{"$f":"IF(F27236=1,IF(G27236>'Zdrojová data'!$C$19,0,1),\"\")","v":""},1664,0,{"$f":"MIN(J27236,'Zdrojová data'!$C$17)","v":0},0,{"$f":"L27236/'Zdrojová data'!$C$16","v":0},{"$f":"M27236*'Zdrojová data'!$C$13","v":0},{"$f":"N27236*'Zdrojová data'!$C$14","v":0},0,{"$f":"IF(H27236=0,D27236-'Výstupy modelu'!$C$7,IF(P27236=1,J27236-K27236,0))","v":0},0,null,{"$f":"MAX(0,IF(Q27236>0,Q27236-('Výstupy modelu'!$H$10-'Výstupy modelu'!$H$9),0))","v":0},null,null,1865.4300000000003,1885.4300000000003,0,{"$f":"MAX(0,D27236-'Vstupní hodnoty'!$C$5)","v":0}]
[null,"2017-10-12T06:00:00",10,1227.96,{"$f":"CEILING(IF(C27287-C27286=0,IF(H27286=0,I27286,IF(J27286>K27286,I27286,E27286)),'Výstupy modelu'!$C$7),1)","v":1664},0,0,{"$f":"IF(F27287=1,IF(G27287>'Zdrojová data'!$C$19,0,1),\"\")","v":""},1664,0,{"$f":"MIN(J27287,'Zdrojová data'!$C$17)","v":0},0,{"$f":"L27287/'Zdrojová data'!$C$16","v":0},{"$f":"M27287*'Zdrojová data'!$C$13","v":0},{"$f":"N27287*'Zdrojová data'!$C$14","v":0},0,{"$f":"IF(H27287=0,D27287-'Výstupy modelu'!$C$7,IF(P27287=1,J27287-K27287,0))","v":0},0,null,{"$f":"MAX(0,IF(Q27287>0,Q27287-('Výstupy modelu'!$H$10-'Výstupy modelu'!$H$9),0))","v":0},null,null,1865.4300000000003,1885.4300000000003,0,{"$f":"MAX(0,D27287-'Vstupní hodnoty'!$C$5)","v":0}]
[null,"2017-10-12T14:45:00",10,1317.6000000000001,{"$f":"CEILING(IF(C27322-C27321=0,IF(H27321=0,I27321,IF(J27321>K27321,I27321,E27321)),'Výstupy modelu'!$C$7),1)","v":1664},0,0,{"$f":"IF(F27322=1,IF(G27322>'Zdrojová data'!$C$19,0,1),\"\")","v":""},1664,0,{"$f":"MIN(J27322,'Zdrojová data'!$C$17)","v":0},0,{"$f":"L27322/'Zdrojová data'!$C$16","v":0},{"$f":"M27322*'Zdrojová data'!$C$13","v":0},{"$f":"N27322*'Zdrojová data'!$C$14","v":0},0,{"$f":"IF(H27322=0,D27322-'Výstupy modelu'!$C$7,IF(P27322=1,J27322-K27322,0))","v":0},0,null,{"$f":"MAX(0,IF(Q27322>0,Q27322-('Výstupy modelu'!$H$10-'Výstupy modelu'!$H$9),0))","v":0},null,null,1865.4300000000003,1885.4300000000003,0,{"$f":"MAX(0,D27322-'Vstupní hodnoty'!$C$5)","v":0}]
[null,"2017-10-12T19:00:00",10,912.6,{"$f":"CEILING(IF(C27339-C27338=0,IF(H27338=0,I27338,IF(J27338>K27338,I27338,E27338)),'Výstupy modelu'!$C$7),1)","v":1664},0,0,{"$f":"IF(F27339=1,IF(G27339>'Zdrojová data'!$C$19,0,1),\"\")","v":""},1664,0,{"$f":"MIN(J27339,'Zdrojová data'!$C$17)","v":0},0,{"$f":"L27339/'Zdrojová data'!$C$16","v":0},{"$f":"M27339*'Zdrojová data'!$C$13","v":0},{"$f":"N27339*'Zdrojová data'!$C$14","v":0},0,{"$f":"IF(H27339=0,D27339-'Výstupy modelu'!$C$7,IF(P27339=1,J27339-K27339,0))","v":0},0,null,{"$f":"MAX(0,IF(Q27339>0,Q27339-('Výstupy modelu'!$H$10-'Výstupy modelu'!$H$9),0))","v":0},null,null,1865.4300000000003,1885.4300000000003,0,{"$f":"MAX(0,D27339-'Vstupní hodnoty'!$C$5)","v":0}]
[null,"2017-10-13T00:45:00",10,536.76,{"$f":"CEILING(IF(C27362-C27361=0,IF(H27361=0,I27361,IF(J27361>K27361,I27361,E27361)),'Výstupy modelu'!$C$7),1)","v":1664},0,0,{"$f":"IF(F27362=1,IF(G27362>'Zdrojová data'!$C$19,0,1),\"\")","v":""},1664,0,{"$f":"MIN(J27362,'Zdrojová data'!$C$17)","v":0},0,{"$f":"L27362/'Zdrojová data'!$C$16","v":0},{"$f":"M27362*'Zdrojová data'!$C$13","v":0},{"$f":"N27362*'Zdrojová data'!$C$14","v":0},0,{"$f":"IF(H27362=0,D27362-'Výstupy modelu'!$C$7,IF(P27362=1,J27362-K27362,0))","v":0},0,null,{"$f":"MAX(0,IF(Q27362>0,Q27362-('Výstupy modelu'!$H$10-'Výstupy modelu'!$H$9),0))","v":0},null,null,1865.4300000000003,1885.4300000000003,0,{"$f":"MAX(0,D27362-'Vstupní hodnoty'!$C$5)","v":0}]
[null,"2017-10-13T16:15:00",10,1069.2,{"$f":"CEILING(IF(C27424-C27423=0,IF(H27423=0,I27423,IF(J27423>K27423,I27423,E27423)),'Výstupy modelu'!$C$7),1)","v":1664},0,0,{"$f":"IF(F27424=1,IF(G27424>'Zdrojová data'!$C$19,0,1),\"\")","v":""},1664,0,{"$f":"MIN(J27424,'Zdrojová data'!$C$17)","v":0},0,{"$f":"L27424/'Zdrojová data'!$C$16","v":0},{"$f":"M27424*'Zdrojová data'!$C$13","v":0},{"$f":"N27424*'Zdrojová data'!$C$14","v":0},0,{"$f":"IF(H27424=0,D27424-'Výstupy modelu'!$C$7,IF(P27424=1,J27424-K27424,0))","v":0},0,null,{"$f":"MAX(0,IF(Q27424>0,Q27424-('Výstupy modelu'!$H$10-'Výstupy modelu'!$H$9),0))","v":0},null,null,1865.4300000000003,1885.4300000000003,0,{"$f":"MAX(0,D27424-'Vstupní hodnoty'!$C$5)","v":0}]
[null,"2017-10-13T20:30:00",10,926.6400000000001,{"$f":"CEILING(IF(C27441-C27440=0,IF(H27440=0,I27440,IF(J27440>K27440,I27440,E27440)),'Výstupy modelu'!$C$7),1)","v":1664},0,0,{"$f":"IF(F27441=1,IF(G27441>'Zdrojová data'!$C$19,0,1),\"\")","v":""},1664,0,{"$f":"MIN(J27441,'Zdrojová data'!$C$17)","v":0},0,{"$f":"L27441/'Zdrojová data'!$C$16","v":0},{"$f":"M27441*'Zdrojová data'!$C$13","v":0},{"$f":"N27441*'Zdrojová data'!$C$14","v":0},0,{"$f":"IF(H27441=0,D27441-'Výstupy modelu'!$C$7,IF(P27441=1,J27441-K27441,0))","v":0},0,null,{"$f":"MAX(0,IF(Q27441>0,Q27441-('Výstupy modelu'!$H$10-'Výstupy modelu'!$H$9),0))","v":0},null,null,1865.4300000000003,1885.4300000000003,{"$f":"MAX(0,D27441-W27441)","v":0},{"$f":"MAX(0,D27441-'Vstupní hodnoty'!$C$5)","v":0}]
[null,"2017-10-14T05:15:00",10,315.36,{"$f":"CEILING(IF(C27476-C27475=0,IF(H27475=0,I27475,IF(J27475>K27475,I27475,E27475)),'Výstupy modelu'!$C$7),1)","v":1664},0,0,{"$f":"IF(F27476=1,IF(G27476>'Zdrojová data'!$C$19,0,1),\"\")","v":""},1664,0,{"$f":"MIN(J27476,'Zdrojová data'!$C$17)","v":0},0,{"$f":"L27476/'Zdrojová data'!$C$16","v":0},{"$f":"M27476*'Zdrojová data'!$C$13","v":0},{"$f":"N27476*'Zdrojová data'!$C$14","v":0},0,{"$f":"IF(H27476=0,D27476-'Výstupy modelu'!$C$7,IF(P27476=1,J27476-K27476,0))","v":0},0,null,{"$f":"MAX(0,IF(Q27476>0,Q27476-('Výstupy modelu'!$H$10-'Výstupy modelu'!$H$9),0))","v":0},null,null,1865.4300000000003,1885.4300000000003,0,{"$f":"MAX(0,D27476-'Vstupní hodnoty'!$C$5)","v":0}]
[null,"2017-10-14T18:00:00",10,244.08,{"$f":"CEILING(IF(C27527-C27526=0,IF(H27526=0,I27526,IF(J27526>K27526,I27526,E27526)),'Výstupy modelu'!$C$7),1)","v":1664},0,0,{"$f":"IF(F27527=1,IF(G27527>'Zdrojová data'!$C$19,0,1),\"\")","v":""},1664,0,{"$f":"MIN(J27527,'Zdrojová data'!$C$17)","v":0},0,{"$f":"L27527/'Zdrojová data'!$C$16","v":0},{"$f":"M27527*'Zdrojová data'!$C$13","v":0},{"$f":"N27527*'Zdrojová data'!$C$14","v":0},0,{"$f":"IF(H27527=0,D27527-'Výstupy modelu'!$C$7,IF(P27527=1,J27527-K27527,0))","v":0},0,null,{"$f":"MAX(0,IF(Q27527>0,Q27527-('Výstupy modelu'!$H$10-'Výstupy modelu'!$H$9),0))","v":0},null,null,1865.4300000000003,1885.4300000000003,0,{"$f":"MAX(0,D27527-'Vstupní hodnoty'!$C$5)","v":0}]
[null,"2017-10-14T20:15:00",10,243.00000000000003,{"$f":"CEILING(IF(C27536-C27535=0,IF(H27535=0,I27535,IF(J27535>K27535,I27535,E27535)),'Výstupy modelu'!$C$7),1)","v":1664},0,0,{"$f":"IF(F27536=1,IF(G27536>'Zdrojová data'!$C$19,0,1),\"\")","v":""},1664,0,{"$f":"MIN(J27536,'Zdrojová data'!$C$17)","v":0},0,{"$f":"L27536/'Zdrojová data'!$C$16","v":0},{"$f":"M27536*'Zdrojová data'!$C$13","v":0},{"$f":"N27536*'Zdrojová data'!$C$14","v":0},0,{"$f":"IF(H27536=0,D27536-'Výstupy modelu'!$C$7,IF(P27536=1,J27536-K27536,0))","v":0},0,null,{"$f":"MAX(0,IF(Q27536>0,Q27536-('Výstupy modelu'!$H$10-'Výstupy modelu'!$H$9),0))","v":0},null,null,1865.4300000000003,1885.4300000000003,0,{"$f":"MAX(0,D27536-'Vstupní hodnoty'!$C$5)","v":0}]
[null,"2017-10-15T06:45:00",10,234.36,{"$f":"CEILING(IF(C27578-C27577=0,IF(H27577=0,I27577,IF(J27577>K27577,I27577,E27577)),'Výstupy modelu'!$C$7),1)","v":1664},0,0,{"$f":"IF(F27578=1,IF(G27578>'Zdrojová data'!$C$19,0,1),\"\")","v":""},1664,0,{"$f":"MIN(J27578,'Zdrojová data'!$C$17)","v":0},0,{"$f":"L27578/'Zdrojová data'!$C$16","v":0},{"$f":"M27578*'Zdrojová data'!$C$13","v":0},{"$f":"N27578*'Zdrojová data'!$C$14","v":0},0,{"$f":"IF(H27578=0,D27578-'Výstupy modelu'!$C$7,IF(P27578=1,J27578-K27578,0))","v":0},0,null,{"$f":"MAX(0,IF(Q27578>0,Q27578-('Výstupy modelu'!$H$10-'Výstupy modelu'!$H$9),0))","v":0},null,null,1865.4300000000003,1885.4300000000003,0,{"$f":"MAX(0,D27578-'Vstupní hodnoty'!$C$5)","v":0}]
[null,"2017-10-15T19:30:00",10,251.64000000000001,{"$f":"CEILING(IF(C27629-C27628=0,IF(H27628=0,I27628,IF(J27628>K27628,I27628,E27628)),'Výstupy modelu'!$C$7),1)","v":1664},0,0,{"$f":"IF(F27629=1,IF(G27629>'Zdrojová data'!$C$19,0,1),\"\")","v":""},1664,0,{"$f":"MIN(J27629,'Zdrojová data'!$C$17)","v":0},0,{"$f":"L27629/'Zdrojová data'!$C$16","v":0},{"$f":"M27629*'Zdrojová data'!$C$13","v":0},{"$f":"N27629*'Zdrojová data'!$C$14","v":0},0,{"$f":"IF(H27629=0,D27629-'Výstupy modelu'!$C$7,IF(P27629=1,J27629-K27629,0))","v":0},0,null,{"$f":"MAX(0,IF(Q27629>0,Q27629-('Výstupy modelu'!$H$10-'Výstupy modelu'!$H$9),0))","v":0},null,null,1865.4300000000003,1885.4300000000003,0,{"$f":"MAX(0,D27629-'Vstupní hodnoty'!$C$5)","v":0}]
[null,"2017-10-15T23:45:00",10,365.04,{"$f":"CEILING(IF(C27646-C27645=0,IF(H27645=0,I27645,IF(J27645>K27645,I27645,E27645)),'Výstupy modelu'!$C$7),1)","v":1664},0,0,{"$f":"IF(F27646=1,IF(G27646>'Zdrojová data'!$C$19,0,1),\"\")","v":""},1664,0,{"$f":"MIN(J27646,'Zdrojová data'!$C$17)","v":0},0,{"$f":"L27646/'Zdrojová data'!$C$16","v":0},{"$f":"M27646*'Zdrojová data'!$C$13","v":0},{"$f":"N27646*'Zdrojová data'!$C$14","v":0},0,{"$f":"IF(H27646=0,D27646-'Výstupy modelu'!$C$7,IF(P27646=1,J27646-K27646,0))","v":0},0,null,{"$f":"MAX(0,IF(Q27646>0,Q27646-('Výstupy modelu'!$H$10-'Výstupy modelu'!$H$9),0))","v":0},null,null,1865.4300000000003,1885.4300000000003,0,{"$f":"MAX(0,D27646-'Vstupní hodnoty'!$C$5)","v":0}]
[null,"2017-10-16T08:30:00",10,1381.3200000000002,{"$f":"CEILING(IF(C27681-C27680=0,IF(H27680=0,I27680,IF(J27680>K27680,I27680,E27680)),'Výstupy modelu'!$C$7),1)","v":1664},0,0,{"$f":"IF(F27681=1,IF(G27681>'Zdrojová data'!$C$19,0,1),\"\")","v":""},1664,0,{"$f":"MIN(J27681,'Zdrojová data'!$C$17)","v":0},0,{"$f":"L27681/'Zdrojová data'!$C$16","v":0},{"$f":"M27681*'Zdrojová data'!$C$13","v":0},{"$f":"N27681*'Zdrojová data'!$C$14","v":0},0,{"$f":"IF(H27681=0,D27681-'Výstupy modelu'!$C$7,IF(P27681=1,J27681-K27681,0))","v":0},0,null,{"$f":"MAX(0,IF(Q27681>0,Q27681-('Výstupy modelu'!$H$10-'Výstupy modelu'!$H$9),0))","v":0},null,null,1865.4300000000003,1885.4300000000003,0,{"$f":"MAX(0,D27681-'Vstupní hodnoty'!$C$5)","v":0}]
[null,"2017-10-16T15:45:00",10,1211.76,{"$f":"CEILING(IF(C27710-C27709=0,IF(H27709=0,I27709,IF(J27709>K27709,I27709,E27709)),'Výstupy modelu'!$C$7),1)","v":1664},0,0,{"$f":"IF(F27710=1,IF(G27710>'Zdrojová data'!$C$19,0,1),\"\")","v":""},1664,0,{"$f":"MIN(J27710,'Zdrojová data'!$C$17)","v":0},0,{"$f":"L27710/'Zdrojová data'!$C$16","v":0},{"$f":"M27710*'Zdrojová data'!$C$13","v":0},{"$f":"N27710*'Zdrojová data'!$C$14","v":0},0,{"$f":"IF(H27710=0,D27710-'Výstupy modelu'!$C$7,IF(P27710=1,J27710-K27710,0))","v":0},0,null,{"$f":"MAX(0,IF(Q27710>0,Q27710-('Výstupy modelu'!$H$10-'Výstupy modelu'!$H$9),0))","v":0},null,null,1865.4300000000003,1885.4300000000003,0,{"$f":"MAX(0,D27710-'Vstupní hodnoty'!$C$5)","v":0}]
[null,"2017-10-16T21:15:00",10,789.48,{"$f":"CEILING(IF(C27732-C27731=0,IF(H27731=0,I27731,IF(J27731>K27731,I27731,E27731)),'Výstupy modelu'!$C$7),1)","v":1664},0,0,{"$f":"IF(F27732=1,IF(G27732>'Zdrojová data'!$C$19,0,1),\"\")","v":""},1664,0,{"$f":"MIN(J27732,'Zdrojová data'!$C$17)","v":0},0,{"$f":"L27732/'Zdrojová data'!$C$16","v":0},{"$f":"M27732*'Zdrojová data'!$C$13","v":0},{"$f":"N27732*'Zdrojová data'!$C$14","v":0},0,{"$f":"IF(H27732=0,D27732-'Výstupy modelu'!$C$7,IF(P27732=1,J27732-K27732,0))","v":0},0,null,{"$f":"MAX(0,IF(Q27732>0,Q27732-('Výstupy modelu'!$H$10-'Výstupy modelu'!$H$9),0))","v":0},null,null,1865.4300000000003,1885.4300000000003,0,{"$f":"MAX(0,D27732-'Vstupní hodnoty'!$C$5)","v":0}]
[null,"2017-10-17T10:00:00",10,1394.2800000000002,{"$f":"CEILING(IF(C27783-C27782=0,IF(H27782=0,I27782,IF(J27782>K27782,I27782,E27782)),'Výstupy modelu'!$C$7),1)","v":1664},0,0,{"$f":"IF(F27783=1,IF(G27783>'Zdrojová data'!$C$19,0,1),\"\")","v":""},1664,0,{"$f":"MIN(J27783,'Zdrojová data'!$C$17)","v":0},0,{"$f":"L27783/'Zdrojová data'!$C$16","v":0},{"$f":"M27783*'Zdrojová data'!$C$13","v":0},{"$f":"N27783*'Zdrojová data'!$C$14","v":0},0,{"$f":"IF(H27783=0,D27783-'Výstupy modelu'!$C$7,IF(P27783=1,J27783-K27783,0))","v":0},0,null,{"$f":"MAX(0,IF(Q27783>0,Q27783-('Výstupy modelu'!$H$10-'Výstupy modelu'!$H$9),0))","v":0},null,null,1865.4300000000003,1885.4300000000003,0,{"$f":"MAX(0,D27783-'Vstupní hodnoty'!$C$5)","v":0}]
[null,"2017-10-17T14:15:00",10,1475.2800000000002,{"$f":"CEILING(IF(C27800-C27799=0,IF(H27799=0,I27799,IF(J27799>K27799,I27799,E27799)),'Výstupy modelu'!$C$7),1)","v":1664},0,0,{"$f":"IF(F27800=1,IF(G27800>'Zdrojová data'!$C$19,0,1),\"\")","v":""},1664,0,{"$f":"MIN(J27800,'Zdrojová data'!$C$17)","v":0},0,{"$f":"L27800/'Zdrojová data'!$C$16","v":0},{"$f":"M27800*'Zdrojová data'!$C$13","v":0},{"$f":"N27800*'Zdrojová data'!$C$14","v":0},0,{"$f":"IF(H27800=0,D27800-'Výstupy modelu'!$C$7,IF(P27800=1,J27800-K27800,0))","v":0},0,null,{"$f":"MAX(0,IF(Q27800>0,Q27800-('Výstupy modelu'!$H$10-'Výstupy modelu'!$H$9),0))","v":0},null,null,1865.4300000000003,1885.4300000000003,0,{"$f":"MAX(0,D27800-'Vstupní hodnoty'!$C$5)","v":0}]
[null,"2017-10-17T23:00:00",10,430.92,{"$f":"CEILING(IF(C27835-C27834=0,IF(H27834=0,I27834,IF(J27834>K27834,I27834,E27834)),'Výstupy modelu'!$C$7),1)","v":1664},0,0,{"$f":"IF(F27835=1,IF(G27835>'Zdrojová data'!$C$19,0,1),\"\")","v":""},1664,0,{"$f":"MIN(J27835,'Zdrojová data'!$C$17)","v":0},0,{"$f":"L27835/'Zdrojová data'!$C$16","v":0},{"$f":"M27835*'Zdrojová data'!$C$13","v":0},{"$f":"N27835*'Zdrojová data'!$C$14","v":0},0,{"$f":"IF(H27835=0,D27835-'Výstupy modelu'!$C$7,IF(P27835=1,J27835-K27835,0))","v":0},0,null,{"$f":"MAX(0,IF(Q27835>0,Q27835-('Výstupy modelu'!$H$10-'Výstupy modelu'!$H$9),0))","v":0},null,null,1865.4300000000003,1885.4300000000003,0,{"$f":"MAX(0,D27835-'Vstupní hodnoty'!$C$5)","v":0}]
[null,"2017-10-18T11:15:00",10,1420.2,{"$f":"CEILING(IF(C27884-C27883=0,IF(H27883=0,I27883,IF(J27883>K27883,I27883,E27883)),'Výstupy modelu'!$C$7),1)","v":1664},0,0,{"$f":"IF(F27884=1,IF(G27884>'Zdrojová data'!$C$19,0,1),\"\")","v":""},1664,0,{"$f":"MIN(J27884,'Zdrojová data'!$C$17)","v":0},0,{"$f":"L27884/'Zdrojová data'!$C$16","v":0},{"$f":"M27884*'Zdrojová data'!$C$13","v":0},{"$f":"N27884*'Zdrojová data'!$C$14","v":0},0,{"$f":"IF(H27884=0,D27884-'Výstupy modelu'!$C$7,IF(P27884=1,J27884-K27884,0))","v":0},0,null,{"$f":"MAX(0,IF(Q27884>0,Q27884-('Výstupy modelu'!$H$10-'Výstupy modelu'!$H$9),0))","v":0},null,null,1865.4300000000003,1885.4300000000003,0,{"$f":"MAX(0,D27884-'Vstupní hodnoty'!$C$5)","v":0}]
[null,"2017-10-18T20:15:00",10,840.24,{"$f":"CEILING(IF(C27920-C27919=0,IF(H27919=0,I27919,IF(J27919>K27919,I27919,E27919)),'Výstupy modelu'!$C$7),1)","v":1664},0,0,{"$f":"IF(F27920=1,IF(G27920>'Zdrojová data'!$C$19,0,1),\"\")","v":""},1664,0,{"$f":"MIN(J27920,'Zdrojová data'!$C$17)","v":0},0,{"$f":"L27920/'Zdrojová data'!$C$16","v":0},{"$f":"M27920*'Zdrojová data'!$C$13","v":0},{"$f":"N27920*'Zdrojová data'!$C$14","v":0},0,{"$f":"IF(H27920=0,D27920-'Výstupy modelu'!$C$7,IF(P27920=1,J27920-K27920,0))","v":0},0,null,{"$f":"MAX(0,IF(Q27920>0,Q27920-('Výstupy modelu'!$H$10-'Výstupy modelu'!$H$9),0))","v":0},null,null,1865.4300000000003,1885.4300000000003,0,{"$f":"MAX(0,D27920-'Vstupní hodnoty'!$C$5)","v":0}]
[null,"2017-10-19T00:30:00",10,534.6,{"$f":"CEILING(IF(C27937-C27936=0,IF(H27936=0,I27936,IF(J27936>K27936,I27936,E27936)),'Výstupy modelu'!$C$7),1)","v":1664},0,0,{"$f":"IF(F27937=1,IF(G27937>'Zdrojová data'!$C$19,0,1),\"\")","v":""},1664,0,{"$f":"MIN(J27937,'Zdrojová data'!$C$17)","v":0},0,{"$f":"L27937/'Zdrojová data'!$C$16","v":0},{"$f":"M27937*'Zdrojová data'!$C$13","v":0},{"$f":"N27937*'Zdrojová data'!$C$14","v":0},0,{"$f":"IF(H27937=0,D27937-'Výstupy modelu'!$C$7,IF(P27937=1,J27937-K27937,0))","v":0},0,null,{"$f":"MAX(0,IF(Q27937>0,Q27937-('Výstupy modelu'!$H$10-'Výstupy modelu'!$H$9),0))","v":0},null,null,1865.4300000000003,1885.4300000000003,0,{"$f":"MAX(0,D27937-'Vstupní hodnoty'!$C$5)","v":0}]
[null,"2017-10-19T13:15:00",10,1423.44,{"$f":"CEILING(IF(C27988-C27987=0,IF(H27987=0,I27987,IF(J27987>K27987,I27987,E27987)),'Výstupy modelu'!$C$7),1)","v":1664},0,0,{"$f":"IF(F27988=1,IF(G27988>'Zdrojová data'!$C$19,0,1),\"\")","v":""},1664,0,{"$f":"MIN(J27988,'Zdrojová data'!$C$17)","v":0},0,{"$f":"L27988/'Zdrojová data'!$C$16","v":0},{"$f":"M27988*'Zdrojová data'!$C$13","v":0},{"$f":"N27988*'Zdrojová data'!$C$14","v":0},0,{"$f":"IF(H27988=0,D27988-'Výstupy modelu'!$C$7,IF(P27988=1,J27988-K27988,0))","v":0},0,null,{"$f":"MAX(0,IF(Q27988>0,Q27988-('Výstupy modelu'!$H$10-'Výstupy modelu'!$H$9),0))","v":0},null,null,1865.4300000000003,1885.4300000000003,0,{"$f":"MAX(0,D27988-'Vstupní hodnoty'!$C$5)","v":0}]
[null,"2017-10-19T22:00:00",10,635.04000000000008,{"$f":"CEILING(IF(C28023-C28022=0,IF(H28022=0,I28022,IF(J28022>K28022,I28022,E28022)),'Výstupy modelu'!$C$7),1)","v":1664},0,0,{"$f":"IF(F28023=1,IF(G28023>'Zdrojová data'!$C$19,0,1),\"\")","v":""},1664,0,{"$f":"MIN(J28023,'Zdrojová data'!$C$17)","v":0},0,{"$f":"L28023/'Zdrojová data'!$C$16","v":0},{"$f":"M28023*'Zdrojová data'!$C$13","v":0},{"$f":"N28023*'Zdrojová data'!$C$14","v":0},0,{"$f":"IF(H28023=0,D28023-'Výstupy modelu'!$C$7,IF(P28023=1,J28023-K28023,0))","v":0},0,null,{"$f":"MAX(0,IF(Q28023>0,Q28023-('Výstupy modelu'!$H$10-'Výstupy modelu'!$H$9),0))","v":0},null,null,1865.4300000000003,1885.4300000000003,0,{"$f":"MAX(0,D28023-'Vstupní hodnoty'!$C$5)","v":0}]
[null,"2017-10-20T06:45:00",10,1418.0400000000002,{"$f":"CEILING(IF(C28058-C28057=0,IF(H28057=0,I28057,IF(J28057>K28057,I28057,E28057)),'Výstupy modelu'!$C$7),1)","v":1664},0,0,{"$f":"IF(F28058=1,IF(G28058>'Zdrojová data'!$C$19,0,1),\"\")","v":""},1664,0,{"$f":"MIN(J28058,'Zdrojová data'!$C$17)","v":0},0,{"$f":"L28058/'Zdrojová data'!$C$16","v":0},{"$f":"M28058*'Zdrojová data'!$C$13","v":0},{"$f":"N28058*'Zdrojová data'!$C$14","v":0},0,{"$f":"IF(H28058=0,D28058-'Výstupy modelu'!$C$7,IF(P28058=1,J28058-K28058,0))","v":0},0,null,{"$f":"MAX(0,IF(Q28058>0,Q28058-('Výstupy modelu'!$H$10-'Výstupy modelu'!$H$9),0))","v":0},null,null,1865.4300000000003,1885.4300000000003,0,{"$f":"MAX(0,D28058-'Vstupní hodnoty'!$C$5)","v":0}]
[null,"2017-10-20T14:45:00",10,1108.0800000000002,{"$f":"CEILING(IF(C28090-C28089=0,IF(H28089=0,I28089,IF(J28089>K28089,I28089,E28089)),'Výstupy modelu'!$C$7),1)","v":1664},0,0,{"$f":"IF(F28090=1,IF(G28090>'Zdrojová data'!$C$19,0,1),\"\")","v":""},1664,0,{"$f":"MIN(J28090,'Zdrojová data'!$C$17)","v":0},0,{"$f":"L28090/'Zdrojová data'!$C$16","v":0},{"$f":"M28090*'Zdrojová data'!$C$13","v":0},{"$f":"N28090*'Zdrojová data'!$C$14","v":0},0,{"$f":"IF(H28090=0,D28090-'Výstupy modelu'!$C$7,IF(P28090=1,J28090-K28090,0))","v":0},0,null,{"$f":"MAX(0,IF(Q28090>0,Q28090-('Výstupy modelu'!$H$10-'Výstupy modelu'!$H$9),0))","v":0},null,null,1865.4300000000003,1885.4300000000003,0,{"$f":"MAX(0,D28090-'Vstupní hodnoty'!$C$5)","v":0}]
[null,"2017-10-20T23:30:00",10,331.56,{"$f":"CEILING(IF(C28125-C28124=0,IF(H28124=0,I28124,IF(J28124>K28124,I28124,E28124)),'Výstupy modelu'!$C$7),1)","v":1664},0,0,{"$f":"IF(F28125=1,IF(G28125>'Zdrojová data'!$C$19,0,1),\"\")","v":""},1664,0,{"$f":"MIN(J28125,'Zdrojová data'!$C$17)","v":0},0,{"$f":"L28125/'Zdrojová data'!$C$16","v":0},{"$f":"M28125*'Zdrojová data'!$C$13","v":0},{"$f":"N28125*'Zdrojová data'!$C$14","v":0},0,{"$f":"IF(H28125=0,D28125-'Výstupy modelu'!$C$7,IF(P28125=1,J28125-K28125,0))","v":0},0,null,{"$f":"MAX(0,IF(Q28125>0,Q28125-('Výstupy modelu'!$H$10-'Výstupy modelu'!$H$9),0))","v":0},null,null,1865.4300000000003,1885.4300000000003,0,{"$f":"MAX(0,D28125-'Vstupní hodnoty'!$C$5)","v":0}]
[null,"2017-10-21T03:45:00",10,279.72000000000003,{"$f":"CEILING(IF(C28142-C28141=0,IF(H28141=0,I28141,IF(J28141>K28141,I28141,E28141)),'Výstupy modelu'!$C$7),1)","v":1664},0,0,{"$f":"IF(F28142=1,IF(G28142>'Zdrojová data'!$C$19,0,1),\"\")","v":""},1664,0,{"$f":"MIN(J28142,'Zdrojová data'!$C$17)","v":0},0,{"$f":"L28142/'Zdrojová data'!$C$16","v":0},{"$f":"M28142*'Zdrojová data'!$C$13","v":0},{"$f":"N28142*'Zdrojová data'!$C$14","v":0},0,{"$f":"IF(H28142=0,D28142-'Výstupy modelu'!$C$7,IF(P28142=1,J28142-K28142,0))","v":0},0,null,{"$f":"MAX(0,IF(Q28142>0,Q28142-('Výstupy modelu'!$H$10-'Výstupy modelu'!$H$9),0))","v":0},null,null,1865.4300000000003,1885.4300000000003,0,{"$f":"MAX(0,D28142-'Vstupní hodnoty'!$C$5)","v":0}]
[null,"2017-10-21T16:15:00",10,267.84000000000003,{"$f":"CEILING(IF(C28192-C28191=0,IF(H28191=0,I28191,IF(J28191>K28191,I28191,E28191)),'Výstupy modelu'!$C$7),1)","v":1664},0,0,{"$f":"IF(F28192=1,IF(G28192>'Zdrojová data'!$C$19,0,1),\"\")","v":""},1664,0,{"$f":"MIN(J28192,'Zdrojová data'!$C$17)","v":0},0,{"$f":"L28192/'Zdrojová data'!$C$16","v":0},{"$f":"M28192*'Zdrojová data'!$C$13","v":0},{"$f":"N28192*'Zdrojová data'!$C$14","v":0},0,{"$f":"IF(H28192=0,D28192-'Výstupy modelu'!$C$7,IF(P28192=1,J28192-K28192,0))","v":0},0,null,{"$f":"MAX(0,IF(Q28192>0,Q28192-('Výstupy modelu'!$H$10-'Výstupy modelu'!$H$9),0))","v":0},null,null,1865.4300000000003,1885.4300000000003,0,{"$f":"MAX(0,D28192-'Vstupní hodnoty'!$C$5)","v":0}]
[null,"2017-10-22T01:00:00",10,265.68,{"$f":"CEILING(IF(C28227-C28226=0,IF(H28226=0,I28226,IF(J28226>K28226,I28226,E28226)),'Výstupy modelu'!$C$7),1)","v":1664},0,0,{"$f":"IF(F28227=1,IF(G28227>'Zdrojová data'!$C$19,0,1),\"\")","v":""},1664,0,{"$f":"MIN(J28227,'Zdrojová data'!$C$17)","v":0},0,{"$f":"L28227/'Zdrojová data'!$C$16","v":0},{"$f":"M28227*'Zdrojová data'!$C$13","v":0},{"$f":"N28227*'Zdrojová data'!$C$14","v":0},0,{"$f":"IF(H28227=0,D28227-'Výstupy modelu'!$C$7,IF(P28227=1,J28227-K28227,0))","v":0},0,null,{"$f":"MAX(0,IF(Q28227>0,Q28227-('Výstupy modelu'!$H$10-'Výstupy modelu'!$H$9),0))","v":0},null,null,1865.4300000000003,1885.4300000000003,0,{"$f":"MAX(0,D28227-'Vstupní hodnoty'!$C$5)","v":0}]
[null,"2017-10-22T05:15:00",10,235.44000000000003,{"$f":"CEILING(IF(C28244-C28243=0,IF(H28243=0,I28243,IF(J28243>K28243,I28243,E28243)),'Výstupy modelu'!$C$7),1)","v":1664},0,0,{"$f":"IF(F28244=1,IF(G28244>'Zdrojová data'!$C$19,0,1),\"\")","v":""},1664,0,{"$f":"MIN(J28244,'Zdrojová data'!$C$17)","v":0},0,{"$f":"L28244/'Zdrojová data'!$C$16","v":0},{"$f":"M28244*'Zdrojová data'!$C$13","v":0},{"$f":"N28244*'Zdrojová data'!$C$14","v":0},0,{"$f":"IF(H28244=0,D28244-'Výstupy modelu'!$C$7,IF(P28244=1,J28244-K28244,0))","v":0},0,null,{"$f":"MAX(0,IF(Q28244>0,Q28244-('Výstupy modelu'!$H$10-'Výstupy modelu'!$H$9),0))","v":0},null,null,1865.4300000000003,1885.4300000000003,0,{"$f":"MAX(0,D28244-'Vstupní hodnoty'!$C$5)","v":0}]
[null,"2017-10-22T14:00:00",10,237.60000000000002,{"$f":"CEILING(IF(C28279-C28278=0,IF(H28278=0,I28278,IF(J28278>K28278,I28278,E28278)),'Výstupy modelu'!$C$7),1)","v":1664},0,0,{"$f":"IF(F28279=1,IF(G28279>'Zdrojová data'!$C$19,0,1),\"\")","v":""},1664,0,{"$f":"MIN(J28279,'Zdrojová data'!$C$17)","v":0},0,{"$f":"L28279/'Zdrojová data'!$C$16","v":0},{"$f":"M28279*'Zdrojová data'!$C$13","v":0},{"$f":"N28279*'Zdrojová data'!$C$14","v":0},0,{"$f":"IF(H28279=0,D28279-'Výstupy modelu'!$C$7,IF(P28279=1,J28279-K28279,0))","v":0},0,null,{"$f":"MAX(0,IF(Q28279>0,Q28279-('Výstupy modelu'!$H$10-'Výstupy modelu'!$H$9),0))","v":0},null,null,1865.4300000000003,1885.4300000000003,0,{"$f":"MAX(0,D28279-'Vstupní hodnoty'!$C$5)","v":0}]
[null,"2017-10-23T02:45:00",10,498.96000000000004,{"$f":"CEILING(IF(C28330-C28329=0,IF(H28329=0,I28329,IF(J28329>K28329,I28329,E28329)),'Výstupy modelu'!$C$7),1)","v":1664},0,0,{"$f":"IF(F28330=1,IF(G28330>'Zdrojová data'!$C$19,0,1),\"\")","v":""},1664,0,{"$f":"MIN(J28330,'Zdrojová data'!$C$17)","v":0},0,{"$f":"L28330/'Zdrojová data'!$C$16","v":0},{"$f":"M28330*'Zdrojová data'!$C$13","v":0},{"$f":"N28330*'Zdrojová data'!$C$14","v":0},0,{"$f":"IF(H28330=0,D28330-'Výstupy modelu'!$C$7,IF(P28330=1,J28330-K28330,0))","v":0},0,null,{"$f":"MAX(0,IF(Q28330>0,Q28330-('Výstupy modelu'!$H$10-'Výstupy modelu'!$H$9),0))","v":0},null,null,1865.4300000000003,1885.4300000000003,0,{"$f":"MAX(0,D28330-'Vstupní hodnoty'!$C$5)","v":0}]
[null,"2017-10-23T11:45:00",10,1355.4,{"$f":"CEILING(IF(C28366-C28365=0,IF(H28365=0,I28365,IF(J28365>K28365,I28365,E28365)),'Výstupy modelu'!$C$7),1)","v":1664},0,0,{"$f":"IF(F28366=1,IF(G28366>'Zdrojová data'!$C$19,0,1),\"\")","v":""},1664,0,{"$f":"MIN(J28366,'Zdrojová data'!$C$17)","v":0},0,{"$f":"L28366/'Zdrojová data'!$C$16","v":0},{"$f":"M28366*'Zdrojová data'!$C$13","v":0},{"$f":"N28366*'Zdrojová data'!$C$14","v":0},0,{"$f":"IF(H28366=0,D28366-'Výstupy modelu'!$C$7,IF(P28366=1,J28366-K28366,0))","v":0},0,null,{"$f":"MAX(0,IF(Q28366>0,Q28366-('Výstupy modelu'!$H$10-'Výstupy modelu'!$H$9),0))","v":0},null,null,1865.4300000000003,1885.4300000000003,0,{"$f":"MAX(0,D28366-'Vstupní hodnoty'!$C$5)","v":0}]
[null,"2017-10-23T15:30:00",10,1035.72,{"$f":"CEILING(IF(C28381-C28380=0,IF(H28380=0,I28380,IF(J28380>K28380,I28380,E28380)),'Výstupy modelu'!$C$7),1)","v":1664},0,0,{"$f":"IF(F28381=1,IF(G28381>'Zdrojová data'!$C$19,0,1),\"\")","v":""},1664,0,{"$f":"MIN(J28381,'Zdrojová data'!$C$17)","v":0},0,{"$f":"L28381/'Zdrojová data'!$C$16","v":0},{"$f":"M28381*'Zdrojová data'!$C$13","v":0},{"$f":"N28381*'Zdrojová data'!$C$14","v":0},0,{"$f":"IF(H28381=0,D28381-'Výstupy modelu'!$C$7,IF(P28381=1,J28381-K28381,0))","v":0},0,null,{"$f":"MAX(0,IF(Q28381>0,Q28381-('Výstupy modelu'!$H$10-'Výstupy modelu'!$H$9),0))","v":0},null,null,1865.4300000000003,1885.4300000000003,0,{"$f":"MAX(0,D28381-'Vstupní hodnoty'!$C$5)","v":0}]
[null,"2017-10-24T04:15:00",10,651.24,{"$f":"CEILING(IF(C28432-C28431=0,IF(H28431=0,I28431,IF(J28431>K28431,I28431,E28431)),'Výstupy modelu'!$C$7),1)","v":1664},0,0,{"$f":"IF(F28432=1,IF(G28432>'Zdrojová data'!$C$19,0,1),\"\")","v":""},1664,0,{"$f":"MIN(J28432,'Zdrojová data'!$C$17)","v":0},0,{"$f":"L28432/'Zdrojová data'!$C$16","v":0},{"$f":"M28432*'Zdrojová data'!$C$13","v":0},{"$f":"N28432*'Zdrojová data'!$C$14","v":0},0,{"$f":"IF(H28432=0,D28432-'Výstupy modelu'!$C$7,IF(P28432=1,J28432-K28432,0))","v":0},0,null,{"$f":"MAX(0,IF(Q28432>0,Q28432-('Výstupy modelu'!$H$10-'Výstupy modelu'!$H$9),0))","v":0},null,null,1865.4300000000003,1885.4300000000003,0,{"$f":"MAX(0,D28432-'Vstupní hodnoty'!$C$5)","v":0}]
[null,"2017-10-24T13:00:00",10,1411.5600000000002,{"$f":"CEILING(IF(C28467-C28466=0,IF(H28466=0,I28466,IF(J28466>K28466,I28466,E28466)),'Výstupy modelu'!$C$7),1)","v":1664},0,0,{"$f":"IF(F28467=1,IF(G28467>'Zdrojová data'!$C$19,0,1),\"\")","v":""},1664,0,{"$f":"MIN(J28467,'Zdrojová data'!$C$17)","v":0},0,{"$f":"L28467/'Zdrojová data'!$C$16","v":0},{"$f":"M28467*'Zdrojová data'!$C$13","v":0},{"$f":"N28467*'Zdrojová data'!$C$14","v":0},0,{"$f":"IF(H28467=0,D28467-'Výstupy modelu'!$C$7,IF(P28467=1,J28467-K28467,0))","v":0},0,null,{"$f":"MAX(0,IF(Q28467>0,Q28467-('Výstupy modelu'!$H$10-'Výstupy modelu'!$H$9),0))","v":0},null,null,1865.4300000000003,1885.4300000000003,0,{"$f":"MAX(0,D28467-'Vstupní hodnoty'!$C$5)","v":0}]
[null,"2017-10-24T17:15:00",10,996.84,{"$f":"CEILING(IF(C28484-C28483=0,IF(H28483=0,I28483,IF(J28483>K28483,I28483,E28483)),'Výstupy modelu'!$C$7),1)","v":1664},{"$f":"IF(D28484>E28484,1,0)","v":0},0,{"$f":"IF(F28484=1,IF(G28484>'Zdrojová data'!$C$19,0,1),\"\")","v":""},{"$f":"IF(H28484=0,D28484,IF(J28484>K28484,E28484+J28484-K28484,E28484))","v":1664},{"$f":"IF(H28484=1,D28484-E28484,0)","v":0},{"$f":"MIN(J28484,'Zdrojová data'!$C$17)","v":0},0,{"$f":"L28484/'Zdrojová data'!$C$16","v":0},{"$f":"M28484*'Zdrojová data'!$C$13","v":0},{"$f":"N28484*'Zdrojová data'!$C$14","v":0},0,{"$f":"IF(H28484=0,D28484-'Výstupy modelu'!$C$7,IF(P28484=1,J28484-K28484,0))","v":0},0,null,{"$f":"MAX(0,IF(Q28484>0,Q28484-('Výstupy modelu'!$H$10-'Výstupy modelu'!$H$9),0))","v":0},null,null,1865.4300000000003,1885.4300000000003,0,{"$f":"MAX(0,D28484-'Vstupní hodnoty'!$C$5)","v":0}]
[null,"2017-10-25T06:15:00",10,1421.2800000000002,{"$f":"CEILING(IF(C28536-C28535=0,IF(H28535=0,I28535,IF(J28535>K28535,I28535,E28535)),'Výstupy modelu'!$C$7),1)","v":1664},0,0,{"$f":"IF(F28536=1,IF(G28536>'Zdrojová data'!$C$19,0,1),\"\")","v":""},1664,0,{"$f":"MIN(J28536,'Zdrojová data'!$C$17)","v":0},0,{"$f":"L28536/'Zdrojová data'!$C$16","v":0},{"$f":"M28536*'Zdrojová data'!$C$13","v":0},{"$f":"N28536*'Zdrojová data'!$C$14","v":0},0,{"$f":"IF(H28536=0,D28536-'Výstupy modelu'!$C$7,IF(P28536=1,J28536-K28536,0))","v":0},0,null,{"$f":"MAX(0,IF(Q28536>0,Q28536-('Výstupy modelu'!$H$10-'Výstupy modelu'!$H$9),0))","v":0},null,null,1865.4300000000003,1885.4300000000003,0,{"$f":"MAX(0,D28536-'Vstupní hodnoty'!$C$5)","v":0}]
[null,"2017-10-25T14:30:00",10,1311.1200000000001,{"$f":"CEILING(IF(C28569-C28568=0,IF(H28568=0,I28568,IF(J28568>K28568,I28568,E28568)),'Výstupy modelu'!$C$7),1)","v":1664},0,0,{"$f":"IF(F28569=1,IF(G28569>'Zdrojová data'!$C$19,0,1),\"\")","v":""},1664,0,{"$f":"MIN(J28569,'Zdrojová data'!$C$17)","v":0},0,{"$f":"L28569/'Zdrojová data'!$C$16","v":0},{"$f":"M28569*'Zdrojová data'!$C$13","v":0},{"$f":"N28569*'Zdrojová data'!$C$14","v":0},0,{"$f":"IF(H28569=0,D28569-'Výstupy modelu'!$C$7,IF(P28569=1,J28569-K28569,0))","v":0},0,null,{"$f":"MAX(0,IF(Q28569>0,Q28569-('Výstupy modelu'!$H$10-'Výstupy modelu'!$H$9),0))","v":0},null,null,1865.4300000000003,1885.4300000000003,0,{"$f":"MAX(0,D28569-'Vstupní hodnoty'!$C$5)","v":0}]
[null,"2017-10-25T18:45:00",10,987.12000000000012,{"$f":"CEILING(IF(C28586-C28585=0,IF(H28585=0,I28585,IF(J28585>K28585,I28585,E28585)),'Výstupy modelu'!$C$7),1)","v":1664},0,0,{"$f":"IF(F28586=1,IF(G28586>'Zdrojová data'!$C$19,0,1),\"\")","v":""},1664,0,{"$f":"MIN(J28586,'Zdrojová data'!$C$17)","v":0},0,{"$f":"L28586/'Zdrojová data'!$C$16","v":0},{"$f":"M28586*'Zdrojová data'!$C$13","v":0},{"$f":"N28586*'Zdrojová data'!$C$14","v":0},0,{"$f":"IF(H28586=0,D28586-'Výstupy modelu'!$C$7,IF(P28586=1,J28586-K28586,0))","v":0},0,null,{"$f":"MAX(0,IF(Q28586>0,Q28586-('Výstupy modelu'!$H$10-'Výstupy modelu'!$H$9),0))","v":0},null,null,1865.4300000000003,1885.4300000000003,0,{"$f":"MAX(0,D28586-'Vstupní hodnoty'!$C$5)","v":0}]
[null,"2017-10-26T03:30:00",10,555.12,{"$f":"CEILING(IF(C28621-C28620=0,IF(H28620=0,I28620,IF(J28620>K28620,I28620,E28620)),'Výstupy modelu'!$C$7),1)","v":1664},0,0,{"$f":"IF(F28621=1,IF(G28621>'Zdrojová data'!$C$19,0,1),\"\")","v":""},1664,0,{"$f":"MIN(J28621,'Zdrojová data'!$C$17)","v":0},0,{"$f":"L28621/'Zdrojová data'!$C$16","v":0},{"$f":"M28621*'Zdrojová data'!$C$13","v":0},{"$f":"N28621*'Zdrojová data'!$C$14","v":0},0,{"$f":"IF(H28621=0,D28621-'Výstupy modelu'!$C$7,IF(P28621=1,J28621-K28621,0))","v":0},0,null,{"$f":"MAX(0,IF(Q28621>0,Q28621-('Výstupy modelu'!$H$10-'Výstupy modelu'!$H$9),0))","v":0},null,null,1865.4300000000003,1885.4300000000003,0,{"$f":"MAX(0,D28621-'Vstupní hodnoty'!$C$5)","v":0}]
[null,"2017-10-26T16:15:00",10,995.7600000000001,{"$f":"CEILING(IF(C28672-C28671=0,IF(H28671=0,I28671,IF(J28671>K28671,I28671,E28671)),'Výstupy modelu'!$C$7),1)","v":1664},0,0,{"$f":"IF(F28672=1,IF(G28672>'Zdrojová data'!$C$19,0,1),\"\")","v":""},1664,0,{"$f":"MIN(J28672,'Zdrojová data'!$C$17)","v":0},0,{"$f":"L28672/'Zdrojová data'!$C$16","v":0},{"$f":"M28672*'Zdrojová data'!$C$13","v":0},{"$f":"N28672*'Zdrojová data'!$C$14","v":0},0,{"$f":"IF(H28672=0,D28672-'Výstupy modelu'!$C$7,IF(P28672=1,J28672-K28672,0))","v":0},0,null,{"$f":"MAX(0,IF(Q28672>0,Q28672-('Výstupy modelu'!$H$10-'Výstupy modelu'!$H$9),0))","v":0},null,null,1865.4300000000003,1885.4300000000003,0,{"$f":"MAX(0,D28672-'Vstupní hodnoty'!$C$5)","v":0}]
[null,"2017-10-27T01:45:00",10,535.68000000000006,{"$f":"CEILING(IF(C28710-C28709=0,IF(H28709=0,I28709,IF(J28709>K28709,I28709,E28709)),'Výstupy modelu'!$C$7),1)","v":1664},0,0,{"$f":"IF(F28710=1,IF(G28710>'Zdrojová data'!$C$19,0,1),\"\")","v":""},1664,0,{"$f":"MIN(J28710,'Zdrojová data'!$C$17)","v":0},0,{"$f":"L28710/'Zdrojová data'!$C$16","v":0},{"$f":"M28710*'Zdrojová data'!$C$13","v":0},{"$f":"N28710*'Zdrojová data'!$C$14","v":0},0,{"$f":"IF(H28710=0,D28710-'Výstupy modelu'!$C$7,IF(P28710=1,J28710-K28710,0))","v":0},0,null,{"$f":"MAX(0,IF(Q28710>0,Q28710-('Výstupy modelu'!$H$10-'Výstupy modelu'!$H$9),0))","v":0},null,null,1865.4300000000003,1885.4300000000003,0,{"$f":"MAX(0,D28710-'Vstupní hodnoty'!$C$5)","v":0}]
[null,"2017-10-27T05:00:00",10,610.20000000000005,{"$f":"CEILING(IF(C28723-C28722=0,IF(H28722=0,I28722,IF(J28722>K28722,I28722,E28722)),'Výstupy modelu'!$C$7),1)","v":1664},0,0,{"$f":"IF(F28723=1,IF(G28723>'Zdrojová data'!$C$19,0,1),\"\")","v":""},1664,0,{"$f":"MIN(J28723,'Zdrojová data'!$C$17)","v":0},0,{"$f":"L28723/'Zdrojová data'!$C$16","v":0},{"$f":"M28723*'Zdrojová data'!$C$13","v":0},{"$f":"N28723*'Zdrojová data'!$C$14","v":0},0,{"$f":"IF(H28723=0,D28723-'Výstupy modelu'!$C$7,IF(P28723=1,J28723-K28723,0))","v":0},0,null,{"$f":"MAX(0,IF(Q28723>0,Q28723-('Výstupy modelu'!$H$10-'Výstupy modelu'!$H$9),0))","v":0},null,null,1865.4300000000003,1885.4300000000003,0,{"$f":"MAX(0,D28723-'Vstupní hodnoty'!$C$5)","v":0}]
[null,"2017-10-27T17:45:00",10,765.72,{"$f":"CEILING(IF(C28774-C28773=0,IF(H28773=0,I28773,IF(J28773>K28773,I28773,E28773)),'Výstupy modelu'!$C$7),1)","v":1664},0,0,{"$f":"IF(F28774=1,IF(G28774>'Zdrojová data'!$C$19,0,1),\"\")","v":""},1664,0,{"$f":"MIN(J28774,'Zdrojová data'!$C$17)","v":0},0,{"$f":"L28774/'Zdrojová data'!$C$16","v":0},{"$f":"M28774*'Zdrojová data'!$C$13","v":0},{"$f":"N28774*'Zdrojová data'!$C$14","v":0},0,{"$f":"IF(H28774=0,D28774-'Výstupy modelu'!$C$7,IF(P28774=1,J28774-K28774,0))","v":0},0,null,{"$f":"MAX(0,IF(Q28774>0,Q28774-('Výstupy modelu'!$H$10-'Výstupy modelu'!$H$9),0))","v":0},null,null,1865.4300000000003,1885.4300000000003,0,{"$f":"MAX(0,D28774-'Vstupní hodnoty'!$C$5)","v":0}]
[null,"2017-10-27T22:00:00",10,394.20000000000005,{"$f":"CEILING(IF(C28791-C28790=0,IF(H28790=0,I28790,IF(J28790>K28790,I28790,E28790)),'Výstupy modelu'!$C$7),1)","v":1664},0,0,{"$f":"IF(F28791=1,IF(G28791>'Zdrojová data'!$C$19,0,1),\"\")","v":""},1664,0,{"$f":"MIN(J28791,'Zdrojová data'!$C$17)","v":0},0,{"$f":"L28791/'Zdrojová data'!$C$16","v":0},{"$f":"M28791*'Zdrojová data'!$C$13","v":0},{"$f":"N28791*'Zdrojová data'!$C$14","v":0},0,{"$f":"IF(H28791=0,D28791-'Výstupy modelu'!$C$7,IF(P28791=1,J28791-K28791,0))","v":0},0,null,{"$f":"MAX(0,IF(Q28791>0,Q28791-('Výstupy modelu'!$H$10-'Výstupy modelu'!$H$9),0))","v":0},null,null,1865.4300000000003,1885.4300000000003,0,{"$f":"MAX(0,D28791-'Vstupní hodnoty'!$C$5)","v":0}]
[null,"2017-10-28T06:45:00",10,228.96,{"$f":"CEILING(IF(C28826-C28825=0,IF(H28825=0,I28825,IF(J28825>K28825,I28825,E28825)),'Výstupy modelu'!$C$7),1)","v":1664},0,0,{"$f":"IF(F28826=1,IF(G28826>'Zdrojová data'!$C$19,0,1),\"\")","v":""},1664,0,{"$f":"MIN(J28826,'Zdrojová data'!$C$17)","v":0},0,{"$f":"L28826/'Zdrojová data'!$C$16","v":0},{"$f":"M28826*'Zdrojová data'!$C$13","v":0},{"$f":"N28826*'Zdrojová data'!$C$14","v":0},0,{"$f":"IF(H28826=0,D28826-'Výstupy modelu'!$C$7,IF(P28826=1,J28826-K28826,0))","v":0},0,null,{"$f":"MAX(0,IF(Q28826>0,Q28826-('Výstupy modelu'!$H$10-'Výstupy modelu'!$H$9),0))","v":0},null,null,1865.4300000000003,1885.4300000000003,0,{"$f":"MAX(0,D28826-'Vstupní hodnoty'!$C$5)","v":0}]
[null,"2017-10-28T13:00:00",10,185.76000000000002,{"$f":"CEILING(IF(C28851-C28850=0,IF(H28850=0,I28850,IF(J28850>K28850,I28850,E28850)),'Výstupy modelu'!$C$7),1)","v":1664},0,0,{"$f":"IF(F28851=1,IF(G28851>'Zdrojová data'!$C$19,0,1),\"\")","v":""},1664,0,{"$f":"MIN(J28851,'Zdrojová data'!$C$17)","v":0},0,{"$f":"L28851/'Zdrojová data'!$C$16","v":0},{"$f":"M28851*'Zdrojová data'!$C$13","v":0},{"$f":"N28851*'Zdrojová data'!$C$14","v":0},0,{"$f":"IF(H28851=0,D28851-'Výstupy modelu'!$C$7,IF(P28851=1,J28851-K28851,0))","v":0},0,null,{"$f":"MAX(0,IF(Q28851>0,Q28851-('Výstupy modelu'!$H$10-'Výstupy modelu'!$H$9),0))","v":0},null,null,1865.4300000000003,1885.4300000000003,0,{"$f":"MAX(0,D28851-'Vstupní hodnoty'!$C$5)","v":0}]
[null,"2017-10-29T03:00:00",10,212.76000000000002,{"$f":"CEILING(IF(C28911-C28910=0,IF(H28910=0,I28910,IF(J28910>K28910,I28910,E28910)),'Výstupy modelu'!$C$7),1)","v":1664},0,0,{"$f":"IF(F28911=1,IF(G28911>'Zdrojová data'!$C$19,0,1),\"\")","v":""},1664,0,{"$f":"MIN(J28911,'Zdrojová data'!$C$17)","v":0},0,{"$f":"L28911/'Zdrojová data'!$C$16","v":0},{"$f":"M28911*'Zdrojová data'!$C$13","v":0},{"$f":"N28911*'Zdrojová data'!$C$14","v":0},0,{"$f":"IF(H28911=0,D28911-'Výstupy modelu'!$C$7,IF(P28911=1,J28911-K28911,0))","v":0},0,null,{"$f":"MAX(0,IF(Q28911>0,Q28911-('Výstupy modelu'!$H$10-'Výstupy modelu'!$H$9),0))","v":0},null,null,1865.4300000000003,1885.4300000000003,0,{"$f":"MAX(0,D28911-'Vstupní hodnoty'!$C$5)","v":0}]
[null,"2017-10-29T07:15:00",10,172.8,{"$f":"CEILING(IF(C28928-C28927=0,IF(H28927=0,I28927,IF(J28927>K28927,I28927,E28927)),'Výstupy modelu'!$C$7),1)","v":1664},0,0,{"$f":"IF(F28928=1,IF(G28928>'Zdrojová data'!$C$19,0,1),\"\")","v":""},1664,0,{"$f":"MIN(J28928,'Zdrojová data'!$C$17)","v":0},0,{"$f":"L28928/'Zdrojová data'!$C$16","v":0},{"$f":"M28928*'Zdrojová data'!$C$13","v":0},{"$f":"N28928*'Zdrojová data'!$C$14","v":0},0,{"$f":"IF(H28928=0,D28928-'Výstupy modelu'!$C$7,IF(P28928=1,J28928-K28928,0))","v":0},0,null,{"$f":"MAX(0,IF(Q28928>0,Q28928-('Výstupy modelu'!$H$10-'Výstupy modelu'!$H$9),0))","v":0},null,null,1865.4300000000003,1885.4300000000003,0,{"$f":"MAX(0,D28928-'Vstupní hodnoty'!$C$5)","v":0}]
[null,"2017-10-29T20:00:00",10,185.76000000000002,{"$f":"CEILING(IF(C28979-C28978=0,IF(H28978=0,I28978,IF(J28978>K28978,I28978,E28978)),'Výstupy modelu'!$C$7),1)","v":1664},0,0,{"$f":"IF(F28979=1,IF(G28979>'Zdrojová data'!$C$19,0,1),\"\")","v":""},1664,0,{"$f":"MIN(J28979,'Zdrojová data'!$C$17)","v":0},0,{"$f":"L28979/'Zdrojová data'!$C$16","v":0},{"$f":"M28979*'Zdrojová data'!$C$13","v":0},{"$f":"N28979*'Zdrojová data'!$C$14","v":0},0,{"$f":"IF(H28979=0,D28979-'Výstupy modelu'!$C$7,IF(P28979=1,J28979-K28979,0))","v":0},0,null,{"$f":"MAX(0,IF(Q28979>0,Q28979-('Výstupy modelu'!$H$10-'Výstupy modelu'!$H$9),0))","v":0},null,null,1865.4300000000003,1885.4300000000003,0,{"$f":"MAX(0,D28979-'Vstupní hodnoty'!$C$5)","v":0}]
[null,"2017-10-30T04:45:00",10,514.08000000000004,{"$f":"CEILING(IF(C29014-C29013=0,IF(H29013=0,I29013,IF(J29013>K29013,I29013,E29013)),'Výstupy modelu'!$C$7),1)","v":1664},0,0,{"$f":"IF(F29014=1,IF(G29014>'Zdrojová data'!$C$19,0,1),\"\")","v":""},1664,0,{"$f":"MIN(J29014,'Zdrojová data'!$C$17)","v":0},0,{"$f":"L29014/'Zdrojová data'!$C$16","v":0},{"$f":"M29014*'Zdrojová data'!$C$13","v":0},{"$f":"N29014*'Zdrojová data'!$C$14","v":0},0,{"$f":"IF(H29014=0,D29014-'Výstupy modelu'!$C$7,IF(P29014=1,J29014-K29014,0))","v":0},0,null,{"$f":"MAX(0,IF(Q29014>0,Q29014-('Výstupy modelu'!$H$10-'Výstupy modelu'!$H$9),0))","v":0},null,null,1865.4300000000003,1885.4300000000003,0,{"$f":"MAX(0,D29014-'Vstupní hodnoty'!$C$5)","v":0}]
[null,"2017-10-30T07:30:00",10,1447.2,{"$f":"CEILING(IF(C29025-C29024=0,IF(H29024=0,I29024,IF(J29024>K29024,I29024,E29024)),'Výstupy modelu'!$C$7),1)","v":1664},0,0,{"$f":"IF(F29025=1,IF(G29025>'Zdrojová data'!$C$19,0,1),\"\")","v":""},1664,0,{"$f":"MIN(J29025,'Zdrojová data'!$C$17)","v":0},0,{"$f":"L29025/'Zdrojová data'!$C$16","v":0},{"$f":"M29025*'Zdrojová data'!$C$13","v":0},{"$f":"N29025*'Zdrojová data'!$C$14","v":0},0,{"$f":"IF(H29025=0,D29025-'Výstupy modelu'!$C$7,IF(P29025=1,J29025-K29025,0))","v":0},0,null,{"$f":"MAX(0,IF(Q29025>0,Q29025-('Výstupy modelu'!$H$10-'Výstupy modelu'!$H$9),0))","v":0},null,null,1865.4300000000003,1885.4300000000003,0,{"$f":"MAX(0,D29025-'Vstupní hodnoty'!$C$5)","v":0}]
[null,"2017-10-30T17:30:00",10,911.5200000000001,{"$f":"CEILING(IF(C29065-C29064=0,IF(H29064=0,I29064,IF(J29064>K29064,I29064,E29064)),'Výstupy modelu'!$C$7),1)","v":1664},0,0,{"$f":"IF(F29065=1,IF(G29065>'Zdrojová data'!$C$19,0,1),\"\")","v":""},1664,0,{"$f":"MIN(J29065,'Zdrojová data'!$C$17)","v":0},0,{"$f":"L29065/'Zdrojová data'!$C$16","v":0},{"$f":"M29065*'Zdrojová data'!$C$13","v":0},{"$f":"N29065*'Zdrojová data'!$C$14","v":0},0,{"$f":"IF(H29065=0,D29065-'Výstupy modelu'!$C$7,IF(P29065=1,J29065-K29065,0))","v":0},0,null,{"$f":"MAX(0,IF(Q29065>0,Q29065-('Výstupy modelu'!$H$10-'Výstupy modelu'!$H$9),0))","v":0},null,null,1865.4300000000003,1885.4300000000003,0,{"$f":"MAX(0,D29065-'Vstupní hodnoty'!$C$5)","v":0}]
[null,"2017-10-31T06:15:00",10,1408.3200000000002,{"$f":"CEILING(IF(C29116-C29115=0,IF(H29115=0,I29115,IF(J29115>K29115,I29115,E29115)),'Výstupy modelu'!$C$7),1)","v":1664},0,0,{"$f":"IF(F29116=1,IF(G29116>'Zdrojová data'!$C$19,0,1),\"\")","v":""},1664,0,{"$f":"MIN(J29116,'Zdrojová data'!$C$17)","v":0},0,{"$f":"L29116/'Zdrojová data'!$C$16","v":0},{"$f":"M29116*'Zdrojová data'!$C$13","v":0},{"$f":"N29116*'Zdrojová data'!$C$14","v":0},0,{"$f":"IF(H29116=0,D29116-'Výstupy modelu'!$C$7,IF(P29116=1,J29116-K29116,0))","v":0},0,null,{"$f":"MAX(0,IF(Q29116>0,Q29116-('Výstupy modelu'!$H$10-'Výstupy modelu'!$H$9),0))","v":0},null,null,1865.4300000000003,1885.4300000000003,0,{"$f":"MAX(0,D29116-'Vstupní hodnoty'!$C$5)","v":0}]
[null,"2017-10-31T10:30:00",10,1438.5600000000002,{"$f":"CEILING(IF(C29133-C29132=0,IF(H29132=0,I29132,IF(J29132>K29132,I29132,E29132)),'Výstupy modelu'!$C$7),1)","v":1664},0,0,{"$f":"IF(F29133=1,IF(G29133>'Zdrojová data'!$C$19,0,1),\"\")","v":""},1664,0,{"$f":"MIN(J29133,'Zdrojová data'!$C$17)","v":0},0,{"$f":"L29133/'Zdrojová data'!$C$16","v":0},{"$f":"M29133*'Zdrojová data'!$C$13","v":0},{"$f":"N29133*'Zdrojová data'!$C$14","v":0},0,{"$f":"IF(H29133=0,D29133-'Výstupy modelu'!$C$7,IF(P29133=1,J29133-K29133,0))","v":0},0,null,{"$f":"MAX(0,IF(Q29133>0,Q29133-('Výstupy modelu'!$H$10-'Výstupy modelu'!$H$9),0))","v":0},null,null,1865.4300000000003,1885.4300000000003,0,{"$f":"MAX(0,D29133-'Vstupní hodnoty'!$C$5)","v":0}]
[null,"2017-10-31T19:15:00",10,988.2,{"$f":"CEILING(IF(C29168-C29167=0,IF(H29167=0,I29167,IF(J29167>K29167,I29167,E29167)),'Výstupy modelu'!$C$7),1)","v":1664},0,0,{"$f":"IF(F29168=1,IF(G29168>'Zdrojová data'!$C$19,0,1),\"\")","v":""},1664,0,{"$f":"MIN(J29168,'Zdrojová data'!$C$17)","v":0},0,{"$f":"L29168/'Zdrojová data'!$C$16","v":0},{"$f":"M29168*'Zdrojová data'!$C$13","v":0},{"$f":"N29168*'Zdrojová data'!$C$14","v":0},0,{"$f":"IF(H29168=0,D29168-'Výstupy modelu'!$C$7,IF(P29168=1,J29168-K29168,0))","v":0},0,null,{"$f":"MAX(0,IF(Q29168>0,Q29168-('Výstupy modelu'!$H$10-'Výstupy modelu'!$H$9),0))","v":0},null,null,1865.4300000000003,1885.4300000000003,0,{"$f":"MAX(0,D29168-'Vstupní hodnoty'!$C$5)","v":0}]
[null,"2017-11-01T03:00:00",11,586.44000000000005,{"$f":"CEILING(IF(C29199-C29198=0,IF(H29198=0,I29198,IF(J29198>K29198,I29198,E29198)),'Výstupy modelu'!$C$7),1)","v":1664},0,0,{"$f":"IF(F29199=1,IF(G29199>'Zdrojová data'!$C$19,0,1),\"\")","v":""},1664,0,{"$f":"MIN(J29199,'Zdrojová data'!$C$17)","v":0},0,{"$f":"L29199/'Zdrojová data'!$C$16","v":0},{"$f":"M29199*'Zdrojová data'!$C$13","v":0},{"$f":"N29199*'Zdrojová data'!$C$14","v":0},0,{"$f":"IF(H29199=0,D29199-'Výstupy modelu'!$C$7,IF(P29199=1,J29199-K29199,0))","v":0},0,null,{"$f":"MAX(0,IF(Q29199>0,Q29199-('Výstupy modelu'!$H$10-'Výstupy modelu'!$H$9),0))","v":0},null,null,1865.4300000000003,1885.4300000000003,0,{"$f":"MAX(0,D29199-'Vstupní hodnoty'!$C$5)","v":0}]
[null,"2017-11-01T12:00:00",11,1099.44,{"$f":"CEILING(IF(C29235-C29234=0,IF(H29234=0,I29234,IF(J29234>K29234,I29234,E29234)),'Výstupy modelu'!$C$7),1)","v":1664},0,0,{"$f":"IF(F29235=1,IF(G29235>'Zdrojová data'!$C$19,0,1),\"\")","v":""},1664,0,{"$f":"MIN(J29235,'Zdrojová data'!$C$17)","v":0},0,{"$f":"L29235/'Zdrojová data'!$C$16","v":0},{"$f":"M29235*'Zdrojová data'!$C$13","v":0},{"$f":"N29235*'Zdrojová data'!$C$14","v":0},0,{"$f":"IF(H29235=0,D29235-'Výstupy modelu'!$C$7,IF(P29235=1,J29235-K29235,0))","v":0},0,null,{"$f":"MAX(0,IF(Q29235>0,Q29235-('Výstupy modelu'!$H$10-'Výstupy modelu'!$H$9),0))","v":0},null,null,1865.4300000000003,1885.4300000000003,0,{"$f":"MAX(0,D29235-'Vstupní hodnoty'!$C$5)","v":0}]
[null,"2017-11-01T20:45:00",11,930.96,{"$f":"CEILING(IF(C29270-C29269=0,IF(H29269=0,I29269,IF(J29269>K29269,I29269,E29269)),'Výstupy modelu'!$C$7),1)","v":1664},0,0,{"$f":"IF(F29270=1,IF(G29270>'Zdrojová data'!$C$19,0,1),\"\")","v":""},1664,0,{"$f":"MIN(J29270,'Zdrojová data'!$C$17)","v":0},0,{"$f":"L29270/'Zdrojová data'!$C$16","v":0},{"$f":"M29270*'Zdrojová data'!$C$13","v":0},{"$f":"N29270*'Zdrojová data'!$C$14","v":0},0,{"$f":"IF(H29270=0,D29270-'Výstupy modelu'!$C$7,IF(P29270=1,J29270-K29270,0))","v":0},0,null,{"$f":"MAX(0,IF(Q29270>0,Q29270-('Výstupy modelu'!$H$10-'Výstupy modelu'!$H$9),0))","v":0},null,null,1865.4300000000003,1885.4300000000003,0,{"$f":"MAX(0,D29270-'Vstupní hodnoty'!$C$5)","v":0}]
[null,"2017-11-02T01:00:00",11,581.04000000000008,{"$f":"CEILING(IF(C29287-C29286=0,IF(H29286=0,I29286,IF(J29286>K29286,I29286,E29286)),'Výstupy modelu'!$C$7),1)","v":1664},0,0,{"$f":"IF(F29287=1,IF(G29287>'Zdrojová data'!$C$19,0,1),\"\")","v":""},1664,0,{"$f":"MIN(J29287,'Zdrojová data'!$C$17)","v":0},0,{"$f":"L29287/'Zdrojová data'!$C$16","v":0},{"$f":"M29287*'Zdrojová data'!$C$13","v":0},{"$f":"N29287*'Zdrojová data'!$C$14","v":0},0,{"$f":"IF(H29287=0,D29287-'Výstupy modelu'!$C$7,IF(P29287=1,J29287-K29287,0))","v":0},0,null,{"$f":"MAX(0,IF(Q29287>0,Q29287-('Výstupy modelu'!$H$10-'Výstupy modelu'!$H$9),0))","v":0},null,null,1865.4300000000003,1885.4300000000003,0,{"$f":"MAX(0,D29287-'Vstupní hodnoty'!$C$5)","v":0}]
[null,"2017-11-02T09:45:00",11,1447.2,{"$f":"CEILING(IF(C29322-C29321=0,IF(H29321=0,I29321,IF(J29321>K29321,I29321,E29321)),'Výstupy modelu'!$C$7),1)","v":1664},0,0,{"$f":"IF(F29322=1,IF(G29322>'Zdrojová data'!$C$19,0,1),\"\")","v":""},1664,0,{"$f":"MIN(J29322,'Zdrojová data'!$C$17)","v":0},0,{"$f":"L29322/'Zdrojová data'!$C$16","v":0},{"$f":"M29322*'Zdrojová data'!$C$13","v":0},{"$f":"N29322*'Zdrojová data'!$C$14","v":0},0,{"$f":"IF(H29322=0,D29322-'Výstupy modelu'!$C$7,IF(P29322=1,J29322-K29322,0))","v":0},0,null,{"$f":"MAX(0,IF(Q29322>0,Q29322-('Výstupy modelu'!$H$10-'Výstupy modelu'!$H$9),0))","v":0},null,null,1865.4300000000003,1885.4300000000003,0,{"$f":"MAX(0,D29322-'Vstupní hodnoty'!$C$5)","v":0}]
[null,"2017-11-02T22:30:00",11,410.40000000000003,{"$f":"CEILING(IF(C29373-C29372=0,IF(H29372=0,I29372,IF(J29372>K29372,I29372,E29372)),'Výstupy modelu'!$C$7),1)","v":1664},0,0,{"$f":"IF(F29373=1,IF(G29373>'Zdrojová data'!$C$19,0,1),\"\")","v":""},1664,0,{"$f":"MIN(J29373,'Zdrojová data'!$C$17)","v":0},0,{"$f":"L29373/'Zdrojová data'!$C$16","v":0},{"$f":"M29373*'Zdrojová data'!$C$13","v":0},{"$f":"N29373*'Zdrojová data'!$C$14","v":0},0,{"$f":"IF(H29373=0,D29373-'Výstupy modelu'!$C$7,IF(P29373=1,J29373-K29373,0))","v":0},0,null,{"$f":"MAX(0,IF(Q29373>0,Q29373-('Výstupy modelu'!$H$10-'Výstupy modelu'!$H$9),0))","v":0},null,null,1865.4300000000003,1885.4300000000003,0,{"$f":"MAX(0,D29373-'Vstupní hodnoty'!$C$5)","v":0}]
[null,"2017-11-03T02:30:00",11,578.88,{"$f":"CEILING(IF(C29389-C29388=0,IF(H29388=0,I29388,IF(J29388>K29388,I29388,E29388)),'Výstupy modelu'!$C$7),1)","v":1664},0,0,{"$f":"IF(F29389=1,IF(G29389>'Zdrojová data'!$C$19,0,1),\"\")","v":""},1664,0,{"$f":"MIN(J29389,'Zdrojová data'!$C$17)","v":0},0,{"$f":"L29389/'Zdrojová data'!$C$16","v":0},{"$f":"M29389*'Zdrojová data'!$C$13","v":0},{"$f":"N29389*'Zdrojová data'!$C$14","v":0},0,{"$f":"IF(H29389=0,D29389-'Výstupy modelu'!$C$7,IF(P29389=1,J29389-K29389,0))","v":0},0,null,{"$f":"MAX(0,IF(Q29389>0,Q29389-('Výstupy modelu'!$H$10-'Výstupy modelu'!$H$9),0))","v":0},null,null,1865.4300000000003,1885.4300000000003,0,{"$f":"MAX(0,D29389-'Vstupní hodnoty'!$C$5)","v":0}]
[null,"2017-11-03T11:15:00",11,1391.0400000000002,{"$f":"CEILING(IF(C29424-C29423=0,IF(H29423=0,I29423,IF(J29423>K29423,I29423,E29423)),'Výstupy modelu'!$C$7),1)","v":1664},0,0,{"$f":"IF(F29424=1,IF(G29424>'Zdrojová data'!$C$19,0,1),\"\")","v":""},1664,0,{"$f":"MIN(J29424,'Zdrojová data'!$C$17)","v":0},0,{"$f":"L29424/'Zdrojová data'!$C$16","v":0},{"$f":"M29424*'Zdrojová data'!$C$13","v":0},{"$f":"N29424*'Zdrojová data'!$C$14","v":0},0,{"$f":"IF(H29424=0,D29424-'Výstupy modelu'!$C$7,IF(P29424=1,J29424-K29424,0))","v":0},0,null,{"$f":"MAX(0,IF(Q29424>0,Q29424-('Výstupy modelu'!$H$10-'Výstupy modelu'!$H$9),0))","v":0},null,null,1865.4300000000003,1885.4300000000003,0,{"$f":"MAX(0,D29424-'Vstupní hodnoty'!$C$5)","v":0}]
[null,"2017-11-04",11,255.96,{"$f":"CEILING(IF(C29475-C29474=0,IF(H29474=0,I29474,IF(J29474>K29474,I29474,E29474)),'Výstupy modelu'!$C$7),1)","v":1664},0,0,{"$f":"IF(F29475=1,IF(G29475>'Zdrojová data'!$C$19,0,1),\"\")","v":""},1664,0,{"$f":"MIN(J29475,'Zdrojová data'!$C$17)","v":0},0,{"$f":"L29475/'Zdrojová data'!$C$16","v":0},{"$f":"M29475*'Zdrojová data'!$C$13","v":0},{"$f":"N29475*'Zdrojová data'!$C$14","v":0},0,{"$f":"IF(H29475=0,D29475-'Výstupy modelu'!$C$7,IF(P29475=1,J29475-K29475,0))","v":0},0,null,{"$f":"MAX(0,IF(Q29475>0,Q29475-('Výstupy modelu'!$H$10-'Výstupy modelu'!$H$9),0))","v":0},null,null,1865.4300000000003,1885.4300000000003,0,{"$f":"MAX(0,D29475-'Vstupní hodnoty'!$C$5)","v":0}]
[null,"2017-11-04T07:00:00",11,725.76,{"$f":"CEILING(IF(C29503-C29502=0,IF(H29502=0,I29502,IF(J29502>K29502,I29502,E29502)),'Výstupy modelu'!$C$7),1)","v":1664},0,0,{"$f":"IF(F29503=1,IF(G29503>'Zdrojová data'!$C$19,0,1),\"\")","v":""},1664,0,{"$f":"MIN(J29503,'Zdrojová data'!$C$17)","v":0},0,{"$f":"L29503/'Zdrojová data'!$C$16","v":0},{"$f":"M29503*'Zdrojová data'!$C$13","v":0},{"$f":"N29503*'Zdrojová data'!$C$14","v":0},0,{"$f":"IF(H29503=0,D29503-'Výstupy modelu'!$C$7,IF(P29503=1,J29503-K29503,0))","v":0},0,null,{"$f":"MAX(0,IF(Q29503>0,Q29503-('Výstupy modelu'!$H$10-'Výstupy modelu'!$H$9),0))","v":0},null,null,1865.4300000000003,1885.4300000000003,0,{"$f":"MAX(0,D29503-'Vstupní hodnoty'!$C$5)","v":0}]
[null,"2017-11-04T12:45:00",11,555.12,{"$f":"CEILING(IF(C29526-C29525=0,IF(H29525=0,I29525,IF(J29525>K29525,I29525,E29525)),'Výstupy modelu'!$C$7),1)","v":1664},0,0,{"$f":"IF(F29526=1,IF(G29526>'Zdrojová data'!$C$19,0,1),\"\")","v":""},1664,0,{"$f":"MIN(J29526,'Zdrojová data'!$C$17)","v":0},0,{"$f":"L29526/'Zdrojová data'!$C$16","v":0},{"$f":"M29526*'Zdrojová data'!$C$13","v":0},{"$f":"N29526*'Zdrojová data'!$C$14","v":0},0,{"$f":"IF(H29526=0,D29526-'Výstupy modelu'!$C$7,IF(P29526=1,J29526-K29526,0))","v":0},0,null,{"$f":"MAX(0,IF(Q29526>0,Q29526-('Výstupy modelu'!$H$10-'Výstupy modelu'!$H$9),0))","v":0},null,null,1865.4300000000003,1885.4300000000003,0,{"$f":"MAX(0,D29526-'Vstupní hodnoty'!$C$5)","v":0}]
[null,"2017-11-05T01:30:00",11,264.60000000000002,{"$f":"CEILING(IF(C29577-C29576=0,IF(H29576=0,I29576,IF(J29576>K29576,I29576,E29576)),'Výstupy modelu'!$C$7),1)","v":1664},0,0,{"$f":"IF(F29577=1,IF(G29577>'Zdrojová data'!$C$19,0,1),\"\")","v":""},1664,0,{"$f":"MIN(J29577,'Zdrojová data'!$C$17)","v":0},0,{"$f":"L29577/'Zdrojová data'!$C$16","v":0},{"$f":"M29577*'Zdrojová data'!$C$13","v":0},{"$f":"N29577*'Zdrojová data'!$C$14","v":0},0,{"$f":"IF(H29577=0,D29577-'Výstupy modelu'!$C$7,IF(P29577=1,J29577-K29577,0))","v":0},0,null,{"$f":"MAX(0,IF(Q29577>0,Q29577-('Výstupy modelu'!$H$10-'Výstupy modelu'!$H$9),0))","v":0},null,null,1865.4300000000003,1885.4300000000003,0,{"$f":"MAX(0,D29577-'Vstupní hodnoty'!$C$5)","v":0}]
[null,"2017-11-05T10:15:00",11,237.60000000000002,{"$f":"CEILING(IF(C29612-C29611=0,IF(H29611=0,I29611,IF(J29611>K29611,I29611,E29611)),'Výstupy modelu'!$C$7),1)","v":1664},0,0,{"$f":"IF(F29612=1,IF(G29612>'Zdrojová data'!$C$19,0,1),\"\")","v":""},1664,0,{"$f":"MIN(J29612,'Zdrojová data'!$C$17)","v":0},0,{"$f":"L29612/'Zdrojová data'!$C$16","v":0},{"$f":"M29612*'Zdrojová data'!$C$13","v":0},{"$f":"N29612*'Zdrojová data'!$C$14","v":0},0,{"$f":"IF(H29612=0,D29612-'Výstupy modelu'!$C$7,IF(P29612=1,J29612-K29612,0))","v":0},0,null,{"$f":"MAX(0,IF(Q29612>0,Q29612-('Výstupy modelu'!$H$10-'Výstupy modelu'!$H$9),0))","v":0},null,null,1865.4300000000003,1885.4300000000003,0,{"$f":"MAX(0,D29612-'Vstupní hodnoty'!$C$5)","v":0}]
[null,"2017-11-05T14:30:00",11,230.04000000000002,{"$f":"CEILING(IF(C29629-C29628=0,IF(H29628=0,I29628,IF(J29628>K29628,I29628,E29628)),'Výstupy modelu'!$C$7),1)","v":1664},0,0,{"$f":"IF(F29629=1,IF(G29629>'Zdrojová data'!$C$19,0,1),\"\")","v":""},1664,0,{"$f":"MIN(J29629,'Zdrojová data'!$C$17)","v":0},0,{"$f":"L29629/'Zdrojová data'!$C$16","v":0},{"$f":"M29629*'Zdrojová data'!$C$13","v":0},{"$f":"N29629*'Zdrojová data'!$C$14","v":0},0,{"$f":"IF(H29629=0,D29629-'Výstupy modelu'!$C$7,IF(P29629=1,J29629-K29629,0))","v":0},0,null,{"$f":"MAX(0,IF(Q29629>0,Q29629-('Výstupy modelu'!$H$10-'Výstupy modelu'!$H$9),0))","v":0},null,null,1865.4300000000003,1885.4300000000003,0,{"$f":"MAX(0,D29629-'Vstupní hodnoty'!$C$5)","v":0}]
[null,"2017-11-06T02:30:00",11,535.68000000000006,{"$f":"CEILING(IF(C29677-C29676=0,IF(H29676=0,I29676,IF(J29676>K29676,I29676,E29676)),'Výstupy modelu'!$C$7),1)","v":1664},0,0,{"$f":"IF(F29677=1,IF(G29677>'Zdrojová data'!$C$19,0,1),\"\")","v":""},1664,0,{"$f":"MIN(J29677,'Zdrojová data'!$C$17)","v":0},0,{"$f":"L29677/'Zdrojová data'!$C$16","v":0},{"$f":"M29677*'Zdrojová data'!$C$13","v":0},{"$f":"N29677*'Zdrojová data'!$C$14","v":0},0,{"$f":"IF(H29677=0,D29677-'Výstupy modelu'!$C$7,IF(P29677=1,J29677-K29677,0))","v":0},0,null,{"$f":"MAX(0,IF(Q29677>0,Q29677-('Výstupy modelu'!$H$10-'Výstupy modelu'!$H$9),0))","v":0},null,null,1865.4300000000003,1885.4300000000003,0,{"$f":"MAX(0,D29677-'Vstupní hodnoty'!$C$5)","v":0}]
[null,"2017-11-06T11:45:00",11,1361.88,{"$f":"CEILING(IF(C29714-C29713=0,IF(H29713=0,I29713,IF(J29713>K29713,I29713,E29713)),'Výstupy modelu'!$C$7),1)","v":1664},0,0,{"$f":"IF(F29714=1,IF(G29714>'Zdrojová data'!$C$19,0,1),\"\")","v":""},1664,0,{"$f":"MIN(J29714,'Zdrojová data'!$C$17)","v":0},0,{"$f":"L29714/'Zdrojová data'!$C$16","v":0},{"$f":"M29714*'Zdrojová data'!$C$13","v":0},{"$f":"N29714*'Zdrojová data'!$C$14","v":0},0,{"$f":"IF(H29714=0,D29714-'Výstupy modelu'!$C$7,IF(P29714=1,J29714-K29714,0))","v":0},0,null,{"$f":"MAX(0,IF(Q29714>0,Q29714-('Výstupy modelu'!$H$10-'Výstupy modelu'!$H$9),0))","v":0},null,null,1865.4300000000003,1885.4300000000003,0,{"$f":"MAX(0,D29714-'Vstupní hodnoty'!$C$5)","v":0}]
[null,"2017-11-06T16:00:00",11,912.6,{"$f":"CEILING(IF(C29731-C29730=0,IF(H29730=0,I29730,IF(J29730>K29730,I29730,E29730)),'Výstupy modelu'!$C$7),1)","v":1664},0,0,{"$f":"IF(F29731=1,IF(G29731>'Zdrojová data'!$C$19,0,1),\"\")","v":""},1664,0,{"$f":"MIN(J29731,'Zdrojová data'!$C$17)","v":0},0,{"$f":"L29731/'Zdrojová data'!$C$16","v":0},{"$f":"M29731*'Zdrojová data'!$C$13","v":0},{"$f":"N29731*'Zdrojová data'!$C$14","v":0},0,{"$f":"IF(H29731=0,D29731-'Výstupy modelu'!$C$7,IF(P29731=1,J29731-K29731,0))","v":0},0,null,{"$f":"MAX(0,IF(Q29731>0,Q29731-('Výstupy modelu'!$H$10-'Výstupy modelu'!$H$9),0))","v":0},null,null,1865.4300000000003,1885.4300000000003,0,{"$f":"MAX(0,D29731-'Vstupní hodnoty'!$C$5)","v":0}]
[null,"2017-11-07T00:45:00",11,572.40000000000009,{"$f":"CEILING(IF(C29766-C29765=0,IF(H29765=0,I29765,IF(J29765>K29765,I29765,E29765)),'Výstupy modelu'!$C$7),1)","v":1664},0,0,{"$f":"IF(F29766=1,IF(G29766>'Zdrojová data'!$C$19,0,1),\"\")","v":""},1664,0,{"$f":"MIN(J29766,'Zdrojová data'!$C$17)","v":0},0,{"$f":"L29766/'Zdrojová data'!$C$16","v":0},{"$f":"M29766*'Zdrojová data'!$C$13","v":0},{"$f":"N29766*'Zdrojová data'!$C$14","v":0},0,{"$f":"IF(H29766=0,D29766-'Výstupy modelu'!$C$7,IF(P29766=1,J29766-K29766,0))","v":0},0,null,{"$f":"MAX(0,IF(Q29766>0,Q29766-('Výstupy modelu'!$H$10-'Výstupy modelu'!$H$9),0))","v":0},null,null,1865.4300000000003,1885.4300000000003,0,{"$f":"MAX(0,D29766-'Vstupní hodnoty'!$C$5)","v":0}]
[null,"2017-11-07T13:30:00",11,1453.68,{"$f":"CEILING(IF(C29817-C29816=0,IF(H29816=0,I29816,IF(J29816>K29816,I29816,E29816)),'Výstupy modelu'!$C$7),1)","v":1664},0,0,{"$f":"IF(F29817=1,IF(G29817>'Zdrojová data'!$C$19,0,1),\"\")","v":""},1664,0,{"$f":"MIN(J29817,'Zdrojová data'!$C$17)","v":0},0,{"$f":"L29817/'Zdrojová data'!$C$16","v":0},{"$f":"M29817*'Zdrojová data'!$C$13","v":0},{"$f":"N29817*'Zdrojová data'!$C$14","v":0},0,{"$f":"IF(H29817=0,D29817-'Výstupy modelu'!$C$7,IF(P29817=1,J29817-K29817,0))","v":0},0,null,{"$f":"MAX(0,IF(Q29817>0,Q29817-('Výstupy modelu'!$H$10-'Výstupy modelu'!$H$9),0))","v":0},null,null,1865.4300000000003,1885.4300000000003,0,{"$f":"MAX(0,D29817-'Vstupní hodnoty'!$C$5)","v":0}]
[null,"2017-11-07T22:00:00",11,610.20000000000005,{"$f":"CEILING(IF(C29851-C29850=0,IF(H29850=0,I29850,IF(J29850>K29850,I29850,E29850)),'Výstupy modelu'!$C$7),1)","v":1664},0,0,{"$f":"IF(F29851=1,IF(G29851>'Zdrojová data'!$C$19,0,1),\"\")","v":""},1664,0,{"$f":"MIN(J29851,'Zdrojová data'!$C$17)","v":0},0,{"$f":"L29851/'Zdrojová data'!$C$16","v":0},{"$f":"M29851*'Zdrojová data'!$C$13","v":0},{"$f":"N29851*'Zdrojová data'!$C$14","v":0},0,{"$f":"IF(H29851=0,D29851-'Výstupy modelu'!$C$7,IF(P29851=1,J29851-K29851,0))","v":0},0,null,{"$f":"MAX(0,IF(Q29851>0,Q29851-('Výstupy modelu'!$H$10-'Výstupy modelu'!$H$9),0))","v":0},null,null,1865.4300000000003,1885.4300000000003,0,{"$f":"MAX(0,D29851-'Vstupní hodnoty'!$C$5)","v":0}]
[null,"2017-11-08T02:15:00",11,581.04000000000008,{"$f":"CEILING(IF(C29868-C29867=0,IF(H29867=0,I29867,IF(J29867>K29867,I29867,E29867)),'Výstupy modelu'!$C$7),1)","v":1664},0,0,{"$f":"IF(F29868=1,IF(G29868>'Zdrojová data'!$C$19,0,1),\"\")","v":""},1664,0,{"$f":"MIN(J29868,'Zdrojová data'!$C$17)","v":0},0,{"$f":"L29868/'Zdrojová data'!$C$16","v":0},{"$f":"M29868*'Zdrojová data'!$C$13","v":0},{"$f":"N29868*'Zdrojová data'!$C$14","v":0},0,{"$f":"IF(H29868=0,D29868-'Výstupy modelu'!$C$7,IF(P29868=1,J29868-K29868,0))","v":0},0,null,{"$f":"MAX(0,IF(Q29868>0,Q29868-('Výstupy modelu'!$H$10-'Výstupy modelu'!$H$9),0))","v":0},null,null,1865.4300000000003,1885.4300000000003,0,{"$f":"MAX(0,D29868-'Vstupní hodnoty'!$C$5)","v":0}]
[null,"2017-11-08T15:00:00",11,1263.6000000000001,{"$f":"CEILING(IF(C29919-C29918=0,IF(H29918=0,I29918,IF(J29918>K29918,I29918,E29918)),'Výstupy modelu'!$C$7),1)","v":1664},0,0,{"$f":"IF(F29919=1,IF(G29919>'Zdrojová data'!$C$19,0,1),\"\")","v":""},1664,0,{"$f":"MIN(J29919,'Zdrojová data'!$C$17)","v":0},0,{"$f":"L29919/'Zdrojová data'!$C$16","v":0},{"$f":"M29919*'Zdrojová data'!$C$13","v":0},{"$f":"N29919*'Zdrojová data'!$C$14","v":0},0,{"$f":"IF(H29919=0,D29919-'Výstupy modelu'!$C$7,IF(P29919=1,J29919-K29919,0))","v":0},0,null,{"$f":"MAX(0,IF(Q29919>0,Q29919-('Výstupy modelu'!$H$10-'Výstupy modelu'!$H$9),0))","v":0},null,null,1865.4300000000003,1885.4300000000003,0,{"$f":"MAX(0,D29919-'Vstupní hodnoty'!$C$5)","v":0}]
[null,"2017-11-08T19:15:00",11,948.24,{"$f":"CEILING(IF(C29936-C29935=0,IF(H29935=0,I29935,IF(J29935>K29935,I29935,E29935)),'Výstupy modelu'!$C$7),1)","v":1664},0,0,{"$f":"IF(F29936=1,IF(G29936>'Zdrojová data'!$C$19,0,1),\"\")","v":""},1664,0,{"$f":"MIN(J29936,'Zdrojová data'!$C$17)","v":0},0,{"$f":"L29936/'Zdrojová data'!$C$16","v":0},{"$f":"M29936*'Zdrojová data'!$C$13","v":0},{"$f":"N29936*'Zdrojová data'!$C$14","v":0},0,{"$f":"IF(H29936=0,D29936-'Výstupy modelu'!$C$7,IF(P29936=1,J29936-K29936,0))","v":0},0,null,{"$f":"MAX(0,IF(Q29936>0,Q29936-('Výstupy modelu'!$H$10-'Výstupy modelu'!$H$9),0))","v":0},null,null,1865.4300000000003,1885.4300000000003,0,{"$f":"MAX(0,D29936-'Vstupní hodnoty'!$C$5)","v":0}]
[null,"2017-11-09T04:00:00",11,549.72,{"$f":"CEILING(IF(C29971-C29970=0,IF(H29970=0,I29970,IF(J29970>K29970,I29970,E29970)),'Výstupy modelu'!$C$7),1)","v":1664},0,0,{"$f":"IF(F29971=1,IF(G29971>'Zdrojová data'!$C$19,0,1),\"\")","v":""},1664,0,{"$f":"MIN(J29971,'Zdrojová data'!$C$17)","v":0},0,{"$f":"L29971/'Zdrojová data'!$C$16","v":0},{"$f":"M29971*'Zdrojová data'!$C$13","v":0},{"$f":"N29971*'Zdrojová data'!$C$14","v":0},0,{"$f":"IF(H29971=0,D29971-'Výstupy modelu'!$C$7,IF(P29971=1,J29971-K29971,0))","v":0},0,null,{"$f":"MAX(0,IF(Q29971>0,Q29971-('Výstupy modelu'!$H$10-'Výstupy modelu'!$H$9),0))","v":0},null,null,1865.4300000000003,1885.4300000000003,0,{"$f":"MAX(0,D29971-'Vstupní hodnoty'!$C$5)","v":0}]
[null,"2017-11-09T17:30:00",11,938.5200000000001,{"$f":"CEILING(IF(C30025-C30024=0,IF(H30024=0,I30024,IF(J30024>K30024,I30024,E30024)),'Výstupy modelu'!$C$7),1)","v":1664},0,0,{"$f":"IF(F30025=1,IF(G30025>'Zdrojová data'!$C$19,0,1),\"\")","v":""},1664,0,{"$f":"MIN(J30025,'Zdrojová data'!$C$17)","v":0},0,{"$f":"L30025/'Zdrojová data'!$C$16","v":0},{"$f":"M30025*'Zdrojová data'!$C$13","v":0},{"$f":"N30025*'Zdrojová data'!$C$14","v":0},0,{"$f":"IF(H30025=0,D30025-'Výstupy modelu'!$C$7,IF(P30025=1,J30025-K30025,0))","v":0},0,null,{"$f":"MAX(0,IF(Q30025>0,Q30025-('Výstupy modelu'!$H$10-'Výstupy modelu'!$H$9),0))","v":0},null,null,1865.4300000000003,1885.4300000000003,0,{"$f":"MAX(0,D30025-'Vstupní hodnoty'!$C$5)","v":0}]
[null,"2017-11-10T01:15:00",11,557.28000000000009,{"$f":"CEILING(IF(C30056-C30055=0,IF(H30055=0,I30055,IF(J30055>K30055,I30055,E30055)),'Výstupy modelu'!$C$7),1)","v":1664},0,0,{"$f":"IF(F30056=1,IF(G30056>'Zdrojová data'!$C$19,0,1),\"\")","v":""},1664,0,{"$f":"MIN(J30056,'Zdrojová data'!$C$17)","v":0},0,{"$f":"L30056/'Zdrojová data'!$C$16","v":0},{"$f":"M30056*'Zdrojová data'!$C$13","v":0},{"$f":"N30056*'Zdrojová data'!$C$14","v":0},0,{"$f":"IF(H30056=0,D30056-'Výstupy modelu'!$C$7,IF(P30056=1,J30056-K30056,0))","v":0},0,null,{"$f":"MAX(0,IF(Q30056>0,Q30056-('Výstupy modelu'!$H$10-'Výstupy modelu'!$H$9),0))","v":0},null,null,1865.4300000000003,1885.4300000000003,0,{"$f":"MAX(0,D30056-'Vstupní hodnoty'!$C$5)","v":0}]
[null,"2017-11-10T05:30:00",11,716.04000000000008,{"$f":"CEILING(IF(C30073-C30072=0,IF(H30072=0,I30072,IF(J30072>K30072,I30072,E30072)),'Výstupy modelu'!$C$7),1)","v":1664},0,0,{"$f":"IF(F30073=1,IF(G30073>'Zdrojová data'!$C$19,0,1),\"\")","v":""},1664,0,{"$f":"MIN(J30073,'Zdrojová data'!$C$17)","v":0},0,{"$f":"L30073/'Zdrojová data'!$C$16","v":0},{"$f":"M30073*'Zdrojová data'!$C$13","v":0},{"$f":"N30073*'Zdrojová data'!$C$14","v":0},0,{"$f":"IF(H30073=0,D30073-'Výstupy modelu'!$C$7,IF(P30073=1,J30073-K30073,0))","v":0},0,null,{"$f":"MAX(0,IF(Q30073>0,Q30073-('Výstupy modelu'!$H$10-'Výstupy modelu'!$H$9),0))","v":0},null,null,1865.4300000000003,1885.4300000000003,0,{"$f":"MAX(0,D30073-'Vstupní hodnoty'!$C$5)","v":0}]
[null,"2017-11-10T18:15:00",11,798.12,{"$f":"CEILING(IF(C30124-C30123=0,IF(H30123=0,I30123,IF(J30123>K30123,I30123,E30123)),'Výstupy modelu'!$C$7),1)","v":1664},0,0,{"$f":"IF(F30124=1,IF(G30124>'Zdrojová data'!$C$19,0,1),\"\")","v":""},1664,0,{"$f":"MIN(J30124,'Zdrojová data'!$C$17)","v":0},0,{"$f":"L30124/'Zdrojová data'!$C$16","v":0},{"$f":"M30124*'Zdrojová data'!$C$13","v":0},{"$f":"N30124*'Zdrojová data'!$C$14","v":0},0,{"$f":"IF(H30124=0,D30124-'Výstupy modelu'!$C$7,IF(P30124=1,J30124-K30124,0))","v":0},0,null,{"$f":"MAX(0,IF(Q30124>0,Q30124-('Výstupy modelu'!$H$10-'Výstupy modelu'!$H$9),0))","v":0},null,null,1865.4300000000003,1885.4300000000003,0,{"$f":"MAX(0,D30124-'Vstupní hodnoty'!$C$5)","v":0}]
[null,"2017-11-11T03:00:00",11,341.28000000000003,{"$f":"CEILING(IF(C30159-C30158=0,IF(H30158=0,I30158,IF(J30158>K30158,I30158,E30158)),'Výstupy modelu'!$C$7),1)","v":1664},0,0,{"$f":"IF(F30159=1,IF(G30159>'Zdrojová data'!$C$19,0,1),\"\")","v":""},1664,0,{"$f":"MIN(J30159,'Zdrojová data'!$C$17)","v":0},0,{"$f":"L30159/'Zdrojová data'!$C$16","v":0},{"$f":"M30159*'Zdrojová data'!$C$13","v":0},{"$f":"N30159*'Zdrojová data'!$C$14","v":0},0,{"$f":"IF(H30159=0,D30159-'Výstupy modelu'!$C$7,IF(P30159=1,J30159-K30159,0))","v":0},0,null,{"$f":"MAX(0,IF(Q30159>0,Q30159-('Výstupy modelu'!$H$10-'Výstupy modelu'!$H$9),0))","v":0},null,null,1865.4300000000003,1885.4300000000003,0,{"$f":"MAX(0,D30159-'Vstupní hodnoty'!$C$5)","v":0}]
[null,"2017-11-11T04:45:00",11,329.40000000000003,{"$f":"CEILING(IF(C30166-C30165=0,IF(H30165=0,I30165,IF(J30165>K30165,I30165,E30165)),'Výstupy modelu'!$C$7),1)","v":1664},0,0,{"$f":"IF(F30166=1,IF(G30166>'Zdrojová data'!$C$19,0,1),\"\")","v":""},1664,0,{"$f":"MIN(J30166,'Zdrojová data'!$C$17)","v":0},0,{"$f":"L30166/'Zdrojová data'!$C$16","v":0},{"$f":"M30166*'Zdrojová data'!$C$13","v":0},{"$f":"N30166*'Zdrojová data'!$C$14","v":0},0,{"$f":"IF(H30166=0,D30166-'Výstupy modelu'!$C$7,IF(P30166=1,J30166-K30166,0))","v":0},0,null,{"$f":"MAX(0,IF(Q30166>0,Q30166-('Výstupy modelu'!$H$10-'Výstupy modelu'!$H$9),0))","v":0},null,null,1865.4300000000003,1885.4300000000003,0,{"$f":"MAX(0,D30166-'Vstupní hodnoty'!$C$5)","v":0}]
[null,"2017-11-11T15:45:00",11,234.36,{"$f":"CEILING(IF(C30210-C30209=0,IF(H30209=0,I30209,IF(J30209>K30209,I30209,E30209)),'Výstupy modelu'!$C$7),1)","v":1664},0,0,{"$f":"IF(F30210=1,IF(G30210>'Zdrojová data'!$C$19,0,1),\"\")","v":""},1664,0,{"$f":"MIN(J30210,'Zdrojová data'!$C$17)","v":0},0,{"$f":"L30210/'Zdrojová data'!$C$16","v":0},{"$f":"M30210*'Zdrojová data'!$C$13","v":0},{"$f":"N30210*'Zdrojová data'!$C$14","v":0},0,{"$f":"IF(H30210=0,D30210-'Výstupy modelu'!$C$7,IF(P30210=1,J30210-K30210,0))","v":0},0,null,{"$f":"MAX(0,IF(Q30210>0,Q30210-('Výstupy modelu'!$H$10-'Výstupy modelu'!$H$9),0))","v":0},null,null,{"$f":"W30209","v":1865.4300000000003},1885.4300000000003,0,{"$f":"MAX(0,D30210-'Vstupní hodnoty'!$C$5)","v":0}]
[null,"2017-11-12T04:30:00",11,232.20000000000002,{"$f":"CEILING(IF(C30261-C30260=0,IF(H30260=0,I30260,IF(J30260>K30260,I30260,E30260)),'Výstupy modelu'!$C$7),1)","v":1664},0,0,{"$f":"IF(F30261=1,IF(G30261>'Zdrojová data'!$C$19,0,1),\"\")","v":""},1664,0,{"$f":"MIN(J30261,'Zdrojová data'!$C$17)","v":0},0,{"$f":"L30261/'Zdrojová data'!$C$16","v":0},{"$f":"M30261*'Zdrojová data'!$C$13","v":0},{"$f":"N30261*'Zdrojová data'!$C$14","v":0},0,{"$f":"IF(H30261=0,D30261-'Výstupy modelu'!$C$7,IF(P30261=1,J30261-K30261,0))","v":0},0,null,{"$f":"MAX(0,IF(Q30261>0,Q30261-('Výstupy modelu'!$H$10-'Výstupy modelu'!$H$9),0))","v":0},null,null,1865.4300000000003,1885.4300000000003,0,{"$f":"MAX(0,D30261-'Vstupní hodnoty'!$C$5)","v":0}]
[null,"2017-11-12T08:45:00",11,239.76000000000002,{"$f":"CEILING(IF(C30278-C30277=0,IF(H30277=0,I30277,IF(J30277>K30277,I30277,E30277)),'Výstupy modelu'!$C$7),1)","v":1664},0,0,{"$f":"IF(F30278=1,IF(G30278>'Zdrojová data'!$C$19,0,1),\"\")","v":""},1664,0,{"$f":"MIN(J30278,'Zdrojová data'!$C$17)","v":0},0,{"$f":"L30278/'Zdrojová data'!$C$16","v":0},{"$f":"M30278*'Zdrojová data'!$C$13","v":0},{"$f":"N30278*'Zdrojová data'!$C$14","v":0},0,{"$f":"IF(H30278=0,D30278-'Výstupy modelu'!$C$7,IF(P30278=1,J30278-K30278,0))","v":0},0,null,{"$f":"MAX(0,IF(Q30278>0,Q30278-('Výstupy modelu'!$H$10-'Výstupy modelu'!$H$9),0))","v":0},null,null,1865.4300000000003,1885.4300000000003,0,{"$f":"MAX(0,D30278-'Vstupní hodnoty'!$C$5)","v":0}]
[null,"2017-11-12T17:30:00",11,239.76000000000002,{"$f":"CEILING(IF(C30313-C30312=0,IF(H30312=0,I30312,IF(J30312>K30312,I30312,E30312)),'Výstupy modelu'!$C$7),1)","v":1664},0,0,{"$f":"IF(F30313=1,IF(G30313>'Zdrojová data'!$C$19,0,1),\"\")","v":""},1664,0,{"$f":"MIN(J30313,'Zdrojová data'!$C$17)","v":0},0,{"$f":"L30313/'Zdrojová data'!$C$16","v":0},{"$f":"M30313*'Zdrojová data'!$C$13","v":0},{"$f":"N30313*'Zdrojová data'!$C$14","v":0},0,{"$f":"IF(H30313=0,D30313-'Výstupy modelu'!$C$7,IF(P30313=1,J30313-K30313,0))","v":0},0,null,{"$f":"MAX(0,IF(Q30313>0,Q30313-('Výstupy modelu'!$H$10-'Výstupy modelu'!$H$9),0))","v":0},null,null,1865.4300000000003,1885.4300000000003,0,{"$f":"MAX(0,D30313-'Vstupní hodnoty'!$C$5)","v":0}]
[null,"2017-11-13T00:15:00",11,538.92000000000007,{"$f":"CEILING(IF(C30340-C30339=0,IF(H30339=0,I30339,IF(J30339>K30339,I30339,E30339)),'Výstupy modelu'!$C$7),1)","v":1664},{"$f":"IF(D30340>E30340,1,0)","v":0},0,{"$f":"IF(F30340=1,IF(G30340>'Zdrojová data'!$C$19,0,1),\"\")","v":""},{"$f":"IF(H30340=0,D30340,IF(J30340>K30340,E30340+J30340-K30340,E30340))","v":1664},{"$f":"IF(H30340=1,D30340-E30340,0)","v":0},{"$f":"MIN(J30340,'Zdrojová data'!$C$17)","v":0},0,{"$f":"L30340/'Zdrojová data'!$C$16","v":0},{"$f":"M30340*'Zdrojová data'!$C$13","v":0},{"$f":"N30340*'Zdrojová data'!$C$14","v":0},0,{"$f":"IF(H30340=0,D30340-'Výstupy modelu'!$C$7,IF(P30340=1,J30340-K30340,0))","v":0},0,null,{"$f":"MAX(0,IF(Q30340>0,Q30340-('Výstupy modelu'!$H$10-'Výstupy modelu'!$H$9),0))","v":0},null,null,1865.4300000000003,1885.4300000000003,0,{"$f":"MAX(0,D30340-'Vstupní hodnoty'!$C$5)","v":0}]
[null,"2017-11-13T10:15:00",11,1407.24,{"$f":"CEILING(IF(C30380-C30379=0,IF(H30379=0,I30379,IF(J30379>K30379,I30379,E30379)),'Výstupy modelu'!$C$7),1)","v":1664},0,0,{"$f":"IF(F30380=1,IF(G30380>'Zdrojová data'!$C$19,0,1),\"\")","v":""},1664,0,{"$f":"MIN(J30380,'Zdrojová data'!$C$17)","v":0},0,{"$f":"L30380/'Zdrojová data'!$C$16","v":0},{"$f":"M30380*'Zdrojová data'!$C$13","v":0},{"$f":"N30380*'Zdrojová data'!$C$14","v":0},0,{"$f":"IF(H30380=0,D30380-'Výstupy modelu'!$C$7,IF(P30380=1,J30380-K30380,0))","v":0},0,null,{"$f":"MAX(0,IF(Q30380>0,Q30380-('Výstupy modelu'!$H$10-'Výstupy modelu'!$H$9),0))","v":0},null,null,1865.4300000000003,1885.4300000000003,0,{"$f":"MAX(0,D30380-'Vstupní hodnoty'!$C$5)","v":0}]
[null,"2017-11-13T19:00:00",11,921.24,{"$f":"CEILING(IF(C30415-C30414=0,IF(H30414=0,I30414,IF(J30414>K30414,I30414,E30414)),'Výstupy modelu'!$C$7),1)","v":1664},0,0,{"$f":"IF(F30415=1,IF(G30415>'Zdrojová data'!$C$19,0,1),\"\")","v":""},1664,0,{"$f":"MIN(J30415,'Zdrojová data'!$C$17)","v":0},0,{"$f":"L30415/'Zdrojová data'!$C$16","v":0},{"$f":"M30415*'Zdrojová data'!$C$13","v":0},{"$f":"N30415*'Zdrojová data'!$C$14","v":0},0,{"$f":"IF(H30415=0,D30415-'Výstupy modelu'!$C$7,IF(P30415=1,J30415-K30415,0))","v":0},0,null,{"$f":"MAX(0,IF(Q30415>0,Q30415-('Výstupy modelu'!$H$10-'Výstupy modelu'!$H$9),0))","v":0},null,null,1865.4300000000003,1885.4300000000003,0,{"$f":"MAX(0,D30415-'Vstupní hodnoty'!$C$5)","v":0}]
[null,"2017-11-14T07:45:00",11,1415.88,{"$f":"CEILING(IF(C30466-C30465=0,IF(H30465=0,I30465,IF(J30465>K30465,I30465,E30465)),'Výstupy modelu'!$C$7),1)","v":1664},0,0,{"$f":"IF(F30466=1,IF(G30466>'Zdrojová data'!$C$19,0,1),\"\")","v":""},1664,0,{"$f":"MIN(J30466,'Zdrojová data'!$C$17)","v":0},0,{"$f":"L30466/'Zdrojová data'!$C$16","v":0},{"$f":"M30466*'Zdrojová data'!$C$13","v":0},{"$f":"N30466*'Zdrojová data'!$C$14","v":0},0,{"$f":"IF(H30466=0,D30466-'Výstupy modelu'!$C$7,IF(P30466=1,J30466-K30466,0))","v":0},0,null,{"$f":"MAX(0,IF(Q30466>0,Q30466-('Výstupy modelu'!$H$10-'Výstupy modelu'!$H$9),0))","v":0},null,null,{"$f":"W30465","v":1865.4300000000003},1885.4300000000003,0,{"$f":"MAX(0,D30466-'Vstupní hodnoty'!$C$5)","v":0}]
[null,"2017-11-14T16:30:00",11,1032.48,{"$f":"CEILING(IF(C30501-C30500=0,IF(H30500=0,I30500,IF(J30500>K30500,I30500,E30500)),'Výstupy modelu'!$C$7),1)","v":1664},0,0,{"$f":"IF(F30501=1,IF(G30501>'Zdrojová data'!$C$19,0,1),\"\")","v":""},1664,0,{"$f":"MIN(J30501,'Zdrojová data'!$C$17)","v":0},0,{"$f":"L30501/'Zdrojová data'!$C$16","v":0},{"$f":"M30501*'Zdrojová data'!$C$13","v":0},{"$f":"N30501*'Zdrojová data'!$C$14","v":0},0,{"$f":"IF(H30501=0,D30501-'Výstupy modelu'!$C$7,IF(P30501=1,J30501-K30501,0))","v":0},0,null,{"$f":"MAX(0,IF(Q30501>0,Q30501-('Výstupy modelu'!$H$10-'Výstupy modelu'!$H$9),0))","v":0},null,null,1865.4300000000003,1885.4300000000003,0,{"$f":"MAX(0,D30501-'Vstupní hodnoty'!$C$5)","v":0}]
[null,"2017-11-14T19:45:00",11,916.92000000000007,{"$f":"CEILING(IF(C30514-C30513=0,IF(H30513=0,I30513,IF(J30513>K30513,I30513,E30513)),'Výstupy modelu'!$C$7),1)","v":1664},0,0,{"$f":"IF(F30514=1,IF(G30514>'Zdrojová data'!$C$19,0,1),\"\")","v":""},1664,0,{"$f":"MIN(J30514,'Zdrojová data'!$C$17)","v":0},0,{"$f":"L30514/'Zdrojová data'!$C$16","v":0},{"$f":"M30514*'Zdrojová data'!$C$13","v":0},{"$f":"N30514*'Zdrojová data'!$C$14","v":0},0,{"$f":"IF(H30514=0,D30514-'Výstupy modelu'!$C$7,IF(P30514=1,J30514-K30514,0))","v":0},0,null,{"$f":"MAX(0,IF(Q30514>0,Q30514-('Výstupy modelu'!$H$10-'Výstupy modelu'!$H$9),0))","v":0},null,null,1865.4300000000003,1885.4300000000003,0,{"$f":"MAX(0,D30514-'Vstupní hodnoty'!$C$5)","v":0}]
[null,"2017-11-15T09:15:00",11,1524.96,{"$f":"CEILING(IF(C30568-C30567=0,IF(H30567=0,I30567,IF(J30567>K30567,I30567,E30567)),'Výstupy modelu'!$C$7),1)","v":1664},0,0,{"$f":"IF(F30568=1,IF(G30568>'Zdrojová data'!$C$19,0,1),\"\")","v":""},1664,0,{"$f":"MIN(J30568,'Zdrojová data'!$C$17)","v":0},0,{"$f":"L30568/'Zdrojová data'!$C$16","v":0},{"$f":"M30568*'Zdrojová data'!$C$13","v":0},{"$f":"N30568*'Zdrojová data'!$C$14","v":0},0,{"$f":"IF(H30568=0,D30568-'Výstupy modelu'!$C$7,IF(P30568=1,J30568-K30568,0))","v":0},0,null,{"$f":"MAX(0,IF(Q30568>0,Q30568-('Výstupy modelu'!$H$10-'Výstupy modelu'!$H$9),0))","v":0},null,null,1865.4300000000003,1885.4300000000003,0,{"$f":"MAX(0,D30568-'Vstupní hodnoty'!$C$5)","v":0}]
[null,"2017-11-15T18:00:00",11,837,{"$f":"CEILING(IF(C30603-C30602=0,IF(H30602=0,I30602,IF(J30602>K30602,I30602,E30602)),'Výstupy modelu'!$C$7),1)","v":1664},0,0,{"$f":"IF(F30603=1,IF(G30603>'Zdrojová data'!$C$19,0,1),\"\")","v":""},1664,0,{"$f":"MIN(J30603,'Zdrojová data'!$C$17)","v":0},0,{"$f":"L30603/'Zdrojová data'!$C$16","v":0},{"$f":"M30603*'Zdrojová data'!$C$13","v":0},{"$f":"N30603*'Zdrojová data'!$C$14","v":0},0,{"$f":"IF(H30603=0,D30603-'Výstupy modelu'!$C$7,IF(P30603=1,J30603-K30603,0))","v":0},0,null,{"$f":"MAX(0,IF(Q30603>0,Q30603-('Výstupy modelu'!$H$10-'Výstupy modelu'!$H$9),0))","v":0},null,null,1865.4300000000003,1885.4300000000003,0,{"$f":"MAX(0,D30603-'Vstupní hodnoty'!$C$5)","v":0}]
[null,"2017-11-15T22:15:00",11,479.52000000000004,{"$f":"CEILING(IF(C30620-C30619=0,IF(H30619=0,I30619,IF(J30619>K30619,I30619,E30619)),'Výstupy modelu'!$C$7),1)","v":1664},0,0,{"$f":"IF(F30620=1,IF(G30620>'Zdrojová data'!$C$19,0,1),\"\")","v":""},1664,0,{"$f":"MIN(J30620,'Zdrojová data'!$C$17)","v":0},0,{"$f":"L30620/'Zdrojová data'!$C$16","v":0},{"$f":"M30620*'Zdrojová data'!$C$13","v":0},{"$f":"N30620*'Zdrojová data'!$C$14","v":0},0,{"$f":"IF(H30620=0,D30620-'Výstupy modelu'!$C$7,IF(P30620=1,J30620-K30620,0))","v":0},0,null,{"$f":"MAX(0,IF(Q30620>0,Q30620-('Výstupy modelu'!$H$10-'Výstupy modelu'!$H$9),0))","v":0},null,null,1865.4300000000003,1885.4300000000003,0,{"$f":"MAX(0,D30620-'Vstupní hodnoty'!$C$5)","v":0}]
[null,"2017-11-16T11:00:00",11,1445.0400000000002,{"$f":"CEILING(IF(C30671-C30670=0,IF(H30670=0,I30670,IF(J30670>K30670,I30670,E30670)),'Výstupy modelu'!$C$7),1)","v":1664},0,0,{"$f":"IF(F30671=1,IF(G30671>'Zdrojová data'!$C$19,0,1),\"\")","v":""},1664,0,{"$f":"MIN(J30671,'Zdrojová data'!$C$17)","v":0},0,{"$f":"L30671/'Zdrojová data'!$C$16","v":0},{"$f":"M30671*'Zdrojová data'!$C$13","v":0},{"$f":"N30671*'Zdrojová data'!$C$14","v":0},0,{"$f":"IF(H30671=0,D30671-'Výstupy modelu'!$C$7,IF(P30671=1,J30671-K30671,0))","v":0},0,null,{"$f":"MAX(0,IF(Q30671>0,Q30671-('Výstupy modelu'!$H$10-'Výstupy modelu'!$H$9),0))","v":0},null,null,1865.4300000000003,1885.4300000000003,0,{"$f":"MAX(0,D30671-'Vstupní hodnoty'!$C$5)","v":0}]
[null,"2017-11-16T15:15:00",11,1010.8800000000001,{"$f":"CEILING(IF(C30688-C30687=0,IF(H30687=0,I30687,IF(J30687>K30687,I30687,E30687)),'Výstupy modelu'!$C$7),1)","v":1664},0,0,{"$f":"IF(F30688=1,IF(G30688>'Zdrojová data'!$C$19,0,1),\"\")","v":""},1664,0,{"$f":"MIN(J30688,'Zdrojová data'!$C$17)","v":0},0,{"$f":"L30688/'Zdrojová data'!$C$16","v":0},{"$f":"M30688*'Zdrojová data'!$C$13","v":0},{"$f":"N30688*'Zdrojová data'!$C$14","v":0},0,{"$f":"IF(H30688=0,D30688-'Výstupy modelu'!$C$7,IF(P30688=1,J30688-K30688,0))","v":0},0,null,{"$f":"MAX(0,IF(Q30688>0,Q30688-('Výstupy modelu'!$H$10-'Výstupy modelu'!$H$9),0))","v":0},null,null,1865.4300000000003,1885.4300000000003,0,{"$f":"MAX(0,D30688-'Vstupní hodnoty'!$C$5)","v":0}]
[null,"2017-11-16T23:45:00",11,307.8,{"$f":"CEILING(IF(C30722-C30721=0,IF(H30721=0,I30721,IF(J30721>K30721,I30721,E30721)),'Výstupy modelu'!$C$7),1)","v":1664},0,0,{"$f":"IF(F30722=1,IF(G30722>'Zdrojová data'!$C$19,0,1),\"\")","v":""},1664,0,{"$f":"MIN(J30722,'Zdrojová data'!$C$17)","v":0},0,{"$f":"L30722/'Zdrojová data'!$C$16","v":0},{"$f":"M30722*'Zdrojová data'!$C$13","v":0},{"$f":"N30722*'Zdrojová data'!$C$14","v":0},0,{"$f":"IF(H30722=0,D30722-'Výstupy modelu'!$C$7,IF(P30722=1,J30722-K30722,0))","v":0},0,null,{"$f":"MAX(0,IF(Q30722>0,Q30722-('Výstupy modelu'!$H$10-'Výstupy modelu'!$H$9),0))","v":0},null,null,{"$f":"W30721","v":1865.4300000000003},1885.4300000000003,0,{"$f":"MAX(0,D30722-'Vstupní hodnoty'!$C$5)","v":0}]
[null,"2017-11-17T08:30:00",11,414.72,{"$f":"CEILING(IF(C30757-C30756=0,IF(H30756=0,I30756,IF(J30756>K30756,I30756,E30756)),'Výstupy modelu'!$C$7),1)","v":1664},0,0,{"$f":"IF(F30757=1,IF(G30757>'Zdrojová data'!$C$19,0,1),\"\")","v":""},1664,0,{"$f":"MIN(J30757,'Zdrojová data'!$C$17)","v":0},0,{"$f":"L30757/'Zdrojová data'!$C$16","v":0},{"$f":"M30757*'Zdrojová data'!$C$13","v":0},{"$f":"N30757*'Zdrojová data'!$C$14","v":0},0,{"$f":"IF(H30757=0,D30757-'Výstupy modelu'!$C$7,IF(P30757=1,J30757-K30757,0))","v":0},0,null,{"$f":"MAX(0,IF(Q30757>0,Q30757-('Výstupy modelu'!$H$10-'Výstupy modelu'!$H$9),0))","v":0},null,null,1865.4300000000003,1885.4300000000003,0,{"$f":"MAX(0,D30757-'Vstupní hodnoty'!$C$5)","v":0}]
[null,"2017-11-17T12:45:00",11,420.12,{"$f":"CEILING(IF(C30774-C30773=0,IF(H30773=0,I30773,IF(J30773>K30773,I30773,E30773)),'Výstupy modelu'!$C$7),1)","v":1664},0,0,{"$f":"IF(F30774=1,IF(G30774>'Zdrojová data'!$C$19,0,1),\"\")","v":""},1664,0,{"$f":"MIN(J30774,'Zdrojová data'!$C$17)","v":0},0,{"$f":"L30774/'Zdrojová data'!$C$16","v":0},{"$f":"M30774*'Zdrojová data'!$C$13","v":0},{"$f":"N30774*'Zdrojová data'!$C$14","v":0},0,{"$f":"IF(H30774=0,D30774-'Výstupy modelu'!$C$7,IF(P30774=1,J30774-K30774,0))","v":0},0,null,{"$f":"MAX(0,IF(Q30774>0,Q30774-('Výstupy modelu'!$H$10-'Výstupy modelu'!$H$9),0))","v":0},null,null,1865.4300000000003,1885.4300000000003,0,{"$f":"MAX(0,D30774-'Vstupní hodnoty'!$C$5)","v":0}]
[null,"2017-11-17T23:45:00",11,236.52,{"$f":"CEILING(IF(C30818-C30817=0,IF(H30817=0,I30817,IF(J30817>K30817,I30817,E30817)),'Výstupy modelu'!$C$7),1)","v":1664},0,0,{"$f":"IF(F30818=1,IF(G30818>'Zdrojová data'!$C$19,0,1),\"\")","v":""},1664,0,{"$f":"MIN(J30818,'Zdrojová data'!$C$17)","v":0},0,{"$f":"L30818/'Zdrojová data'!$C$16","v":0},{"$f":"M30818*'Zdrojová data'!$C$13","v":0},{"$f":"N30818*'Zdrojová data'!$C$14","v":0},0,{"$f":"IF(H30818=0,D30818-'Výstupy modelu'!$C$7,IF(P30818=1,J30818-K30818,0))","v":0},0,null,{"$f":"MAX(0,IF(Q30818>0,Q30818-('Výstupy modelu'!$H$10-'Výstupy modelu'!$H$9),0))","v":0},null,null,1865.4300000000003,1885.4300000000003,0,{"$f":"MAX(0,D30818-'Vstupní hodnoty'!$C$5)","v":0}]
[null,"2017-11-18T10:00:00",11,273.24,{"$f":"CEILING(IF(C30859-C30858=0,IF(H30858=0,I30858,IF(J30858>K30858,I30858,E30858)),'Výstupy modelu'!$C$7),1)","v":1664},0,0,{"$f":"IF(F30859=1,IF(G30859>'Zdrojová data'!$C$19,0,1),\"\")","v":""},1664,0,{"$f":"MIN(J30859,'Zdrojová data'!$C$17)","v":0},0,{"$f":"L30859/'Zdrojová data'!$C$16","v":0},{"$f":"M30859*'Zdrojová data'!$C$13","v":0},{"$f":"N30859*'Zdrojová data'!$C$14","v":0},0,{"$f":"IF(H30859=0,D30859-'Výstupy modelu'!$C$7,IF(P30859=1,J30859-K30859,0))","v":0},0,null,{"$f":"MAX(0,IF(Q30859>0,Q30859-('Výstupy modelu'!$H$10-'Výstupy modelu'!$H$9),0))","v":0},null,null,1865.4300000000003,1885.4300000000003,0,{"$f":"MAX(0,D30859-'Vstupní hodnoty'!$C$5)","v":0}]
[null,"2017-11-18T14:15:00",11,226.8,{"$f":"CEILING(IF(C30876-C30875=0,IF(H30875=0,I30875,IF(J30875>K30875,I30875,E30875)),'Výstupy modelu'!$C$7),1)","v":1664},0,0,{"$f":"IF(F30876=1,IF(G30876>'Zdrojová data'!$C$19,0,1),\"\")","v":""},1664,0,{"$f":"MIN(J30876,'Zdrojová data'!$C$17)","v":0},0,{"$f":"L30876/'Zdrojová data'!$C$16","v":0},{"$f":"M30876*'Zdrojová data'!$C$13","v":0},{"$f":"N30876*'Zdrojová data'!$C$14","v":0},0,{"$f":"IF(H30876=0,D30876-'Výstupy modelu'!$C$7,IF(P30876=1,J30876-K30876,0))","v":0},0,null,{"$f":"MAX(0,IF(Q30876>0,Q30876-('Výstupy modelu'!$H$10-'Výstupy modelu'!$H$9),0))","v":0},null,null,1865.4300000000003,1885.4300000000003,0,{"$f":"MAX(0,D30876-'Vstupní hodnoty'!$C$5)","v":0}]
[null,"2017-11-18T23:00:00",11,231.12,{"$f":"CEILING(IF(C30911-C30910=0,IF(H30910=0,I30910,IF(J30910>K30910,I30910,E30910)),'Výstupy modelu'!$C$7),1)","v":1664},0,0,{"$f":"IF(F30911=1,IF(G30911>'Zdrojová data'!$C$19,0,1),\"\")","v":""},1664,0,{"$f":"MIN(J30911,'Zdrojová data'!$C$17)","v":0},0,{"$f":"L30911/'Zdrojová data'!$C$16","v":0},{"$f":"M30911*'Zdrojová data'!$C$13","v":0},{"$f":"N30911*'Zdrojová data'!$C$14","v":0},0,{"$f":"IF(H30911=0,D30911-'Výstupy modelu'!$C$7,IF(P30911=1,J30911-K30911,0))","v":0},0,null,{"$f":"MAX(0,IF(Q30911>0,Q30911-('Výstupy modelu'!$H$10-'Výstupy modelu'!$H$9),0))","v":0},null,null,1865.4300000000003,1885.4300000000003,0,{"$f":"MAX(0,D30911-'Vstupní hodnoty'!$C$5)","v":0}]
[null,"2017-11-19T11:45:00",11,219.24,{"$f":"CEILING(IF(C30962-C30961=0,IF(H30961=0,I30961,IF(J30961>K30961,I30961,E30961)),'Výstupy modelu'!$C$7),1)","v":1664},0,0,{"$f":"IF(F30962=1,IF(G30962>'Zdrojová data'!$C$19,0,1),\"\")","v":""},1664,0,{"$f":"MIN(J30962,'Zdrojová data'!$C$17)","v":0},0,{"$f":"L30962/'Zdrojová data'!$C$16","v":0},{"$f":"M30962*'Zdrojová data'!$C$13","v":0},{"$f":"N30962*'Zdrojová data'!$C$14","v":0},0,{"$f":"IF(H30962=0,D30962-'Výstupy modelu'!$C$7,IF(P30962=1,J30962-K30962,0))","v":0},0,null,{"$f":"MAX(0,IF(Q30962>0,Q30962-('Výstupy modelu'!$H$10-'Výstupy modelu'!$H$9),0))","v":0},null,null,1865.4300000000003,1885.4300000000003,0,{"$f":"MAX(0,D30962-'Vstupní hodnoty'!$C$5)","v":0}]
[null,"2017-11-19T19:15:00",11,226.8,{"$f":"CEILING(IF(C30992-C30991=0,IF(H30991=0,I30991,IF(J30991>K30991,I30991,E30991)),'Výstupy modelu'!$C$7),1)","v":1664},0,0,{"$f":"IF(F30992=1,IF(G30992>'Zdrojová data'!$C$19,0,1),\"\")","v":""},1664,0,{"$f":"MIN(J30992,'Zdrojová data'!$C$17)","v":0},0,{"$f":"L30992/'Zdrojová data'!$C$16","v":0},{"$f":"M30992*'Zdrojová data'!$C$13","v":0},{"$f":"N30992*'Zdrojová data'!$C$14","v":0},0,{"$f":"IF(H30992=0,D30992-'Výstupy modelu'!$C$7,IF(P30992=1,J30992-K30992,0))","v":0},0,null,{"$f":"MAX(0,IF(Q30992>0,Q30992-('Výstupy modelu'!$H$10-'Výstupy modelu'!$H$9),0))","v":0},null,null,1865.4300000000003,1885.4300000000003,0,{"$f":"MAX(0,D30992-'Vstupní hodnoty'!$C$5)","v":0}]
[null,"2017-11-20T00:30:00",11,598.32000000000005,{"$f":"CEILING(IF(C31013-C31012=0,IF(H31012=0,I31012,IF(J31012>K31012,I31012,E31012)),'Výstupy modelu'!$C$7),1)","v":1664},0,0,{"$f":"IF(F31013=1,IF(G31013>'Zdrojová data'!$C$19,0,1),\"\")","v":""},1664,0,{"$f":"MIN(J31013,'Zdrojová data'!$C$17)","v":0},0,{"$f":"L31013/'Zdrojová data'!$C$16","v":0},{"$f":"M31013*'Zdrojová data'!$C$13","v":0},{"$f":"N31013*'Zdrojová data'!$C$14","v":0},0,{"$f":"IF(H31013=0,D31013-'Výstupy modelu'!$C$7,IF(P31013=1,J31013-K31013,0))","v":0},0,null,{"$f":"MAX(0,IF(Q31013>0,Q31013-('Výstupy modelu'!$H$10-'Výstupy modelu'!$H$9),0))","v":0},null,null,1865.4300000000003,1885.4300000000003,0,{"$f":"MAX(0,D31013-'Vstupní hodnoty'!$C$5)","v":0}]
[null,"2017-11-20T13:15:00",11,1381.3200000000002,{"$f":"CEILING(IF(C31064-C31063=0,IF(H31063=0,I31063,IF(J31063>K31063,I31063,E31063)),'Výstupy modelu'!$C$7),1)","v":1664},0,0,{"$f":"IF(F31064=1,IF(G31064>'Zdrojová data'!$C$19,0,1),\"\")","v":""},1664,0,{"$f":"MIN(J31064,'Zdrojová data'!$C$17)","v":0},0,{"$f":"L31064/'Zdrojová data'!$C$16","v":0},{"$f":"M31064*'Zdrojová data'!$C$13","v":0},{"$f":"N31064*'Zdrojová data'!$C$14","v":0},0,{"$f":"IF(H31064=0,D31064-'Výstupy modelu'!$C$7,IF(P31064=1,J31064-K31064,0))","v":0},0,null,{"$f":"MAX(0,IF(Q31064>0,Q31064-('Výstupy modelu'!$H$10-'Výstupy modelu'!$H$9),0))","v":0},null,null,1865.4300000000003,1885.4300000000003,0,{"$f":"MAX(0,D31064-'Vstupní hodnoty'!$C$5)","v":0}]
[null,"2017-11-20T17:30:00",11,959.04000000000008,{"$f":"CEILING(IF(C31081-C31080=0,IF(H31080=0,I31080,IF(J31080>K31080,I31080,E31080)),'Výstupy modelu'!$C$7),1)","v":1664},0,0,{"$f":"IF(F31081=1,IF(G31081>'Zdrojová data'!$C$19,0,1),\"\")","v":""},1664,0,{"$f":"MIN(J31081,'Zdrojová data'!$C$17)","v":0},0,{"$f":"L31081/'Zdrojová data'!$C$16","v":0},{"$f":"M31081*'Zdrojová data'!$C$13","v":0},{"$f":"N31081*'Zdrojová data'!$C$14","v":0},0,{"$f":"IF(H31081=0,D31081-'Výstupy modelu'!$C$7,IF(P31081=1,J31081-K31081,0))","v":0},0,null,{"$f":"MAX(0,IF(Q31081>0,Q31081-('Výstupy modelu'!$H$10-'Výstupy modelu'!$H$9),0))","v":0},null,null,1865.4300000000003,1885.4300000000003,0,{"$f":"MAX(0,D31081-'Vstupní hodnoty'!$C$5)","v":0}]
[null,"2017-11-21T02:15:00",11,513,{"$f":"CEILING(IF(C31116-C31115=0,IF(H31115=0,I31115,IF(J31115>K31115,I31115,E31115)),'Výstupy modelu'!$C$7),1)","v":1664},0,0,{"$f":"IF(F31116=1,IF(G31116>'Zdrojová data'!$C$19,0,1),\"\")","v":""},1664,0,{"$f":"MIN(J31116,'Zdrojová data'!$C$17)","v":0},0,{"$f":"L31116/'Zdrojová data'!$C$16","v":0},{"$f":"M31116*'Zdrojová data'!$C$13","v":0},{"$f":"N31116*'Zdrojová data'!$C$14","v":0},0,{"$f":"IF(H31116=0,D31116-'Výstupy modelu'!$C$7,IF(P31116=1,J31116-K31116,0))","v":0},0,null,{"$f":"MAX(0,IF(Q31116>0,Q31116-('Výstupy modelu'!$H$10-'Výstupy modelu'!$H$9),0))","v":0},null,null,1865.4300000000003,1885.4300000000003,0,{"$f":"MAX(0,D31116-'Vstupní hodnoty'!$C$5)","v":0}]
[null,"2017-11-21T14:45:00",11,1257.1200000000001,{"$f":"CEILING(IF(C31166-C31165=0,IF(H31165=0,I31165,IF(J31165>K31165,I31165,E31165)),'Výstupy modelu'!$C$7),1)","v":1664},0,0,{"$f":"IF(F31166=1,IF(G31166>'Zdrojová data'!$C$19,0,1),\"\")","v":""},1664,0,{"$f":"MIN(J31166,'Zdrojová data'!$C$17)","v":0},0,{"$f":"L31166/'Zdrojová data'!$C$16","v":0},{"$f":"M31166*'Zdrojová data'!$C$13","v":0},{"$f":"N31166*'Zdrojová data'!$C$14","v":0},0,{"$f":"IF(H31166=0,D31166-'Výstupy modelu'!$C$7,IF(P31166=1,J31166-K31166,0))","v":0},0,null,{"$f":"MAX(0,IF(Q31166>0,Q31166-('Výstupy modelu'!$H$10-'Výstupy modelu'!$H$9),0))","v":0},null,null,1865.4300000000003,1885.4300000000003,0,{"$f":"MAX(0,D31166-'Vstupní hodnoty'!$C$5)","v":0}]
[null,"2017-11-21T23:30:00",11,488.16,{"$f":"CEILING(IF(C31201-C31200=0,IF(H31200=0,I31200,IF(J31200>K31200,I31200,E31200)),'Výstupy modelu'!$C$7),1)","v":1664},0,0,{"$f":"IF(F31201=1,IF(G31201>'Zdrojová data'!$C$19,0,1),\"\")","v":""},1664,0,{"$f":"MIN(J31201,'Zdrojová data'!$C$17)","v":0},0,{"$f":"L31201/'Zdrojová data'!$C$16","v":0},{"$f":"M31201*'Zdrojová data'!$C$13","v":0},{"$f":"N31201*'Zdrojová data'!$C$14","v":0},0,{"$f":"IF(H31201=0,D31201-'Výstupy modelu'!$C$7,IF(P31201=1,J31201-K31201,0))","v":0},0,null,{"$f":"MAX(0,IF(Q31201>0,Q31201-('Výstupy modelu'!$H$10-'Výstupy modelu'!$H$9),0))","v":0},null,null,1865.4300000000003,1885.4300000000003,0,{"$f":"MAX(0,D31201-'Vstupní hodnoty'!$C$5)","v":0}]
[null,"2017-11-22T03:45:00",11,584.28000000000009,{"$f":"CEILING(IF(C31218-C31217=0,IF(H31217=0,I31217,IF(J31217>K31217,I31217,E31217)),'Výstupy modelu'!$C$7),1)","v":1664},0,0,{"$f":"IF(F31218=1,IF(G31218>'Zdrojová data'!$C$19,0,1),\"\")","v":""},1664,0,{"$f":"MIN(J31218,'Zdrojová data'!$C$17)","v":0},0,{"$f":"L31218/'Zdrojová data'!$C$16","v":0},{"$f":"M31218*'Zdrojová data'!$C$13","v":0},{"$f":"N31218*'Zdrojová data'!$C$14","v":0},0,{"$f":"IF(H31218=0,D31218-'Výstupy modelu'!$C$7,IF(P31218=1,J31218-K31218,0))","v":0},0,null,{"$f":"MAX(0,IF(Q31218>0,Q31218-('Výstupy modelu'!$H$10-'Výstupy modelu'!$H$9),0))","v":0},null,null,1865.4300000000003,1885.4300000000003,0,{"$f":"MAX(0,D31218-'Vstupní hodnoty'!$C$5)","v":0}]
[null,"2017-11-22T16:30:00",11,1134,{"$f":"CEILING(IF(C31269-C31268=0,IF(H31268=0,I31268,IF(J31268>K31268,I31268,E31268)),'Výstupy modelu'!$C$7),1)","v":1664},0,0,{"$f":"IF(F31269=1,IF(G31269>'Zdrojová data'!$C$19,0,1),\"\")","v":""},1664,0,{"$f":"MIN(J31269,'Zdrojová data'!$C$17)","v":0},0,{"$f":"L31269/'Zdrojová data'!$C$16","v":0},{"$f":"M31269*'Zdrojová data'!$C$13","v":0},{"$f":"N31269*'Zdrojová data'!$C$14","v":0},0,{"$f":"IF(H31269=0,D31269-'Výstupy modelu'!$C$7,IF(P31269=1,J31269-K31269,0))","v":0},0,null,{"$f":"MAX(0,IF(Q31269>0,Q31269-('Výstupy modelu'!$H$10-'Výstupy modelu'!$H$9),0))","v":0},null,null,1865.4300000000003,1885.4300000000003,0,{"$f":"MAX(0,D31269-'Vstupní hodnoty'!$C$5)","v":0}]
[null,"2017-11-23T01:15:00",11,574.56000000000006,{"$f":"CEILING(IF(C31304-C31303=0,IF(H31303=0,I31303,IF(J31303>K31303,I31303,E31303)),'Výstupy modelu'!$C$7),1)","v":1664},0,0,{"$f":"IF(F31304=1,IF(G31304>'Zdrojová data'!$C$19,0,1),\"\")","v":""},1664,0,{"$f":"MIN(J31304,'Zdrojová data'!$C$17)","v":0},0,{"$f":"L31304/'Zdrojová data'!$C$16","v":0},{"$f":"M31304*'Zdrojová data'!$C$13","v":0},{"$f":"N31304*'Zdrojová data'!$C$14","v":0},0,{"$f":"IF(H31304=0,D31304-'Výstupy modelu'!$C$7,IF(P31304=1,J31304-K31304,0))","v":0},0,null,{"$f":"MAX(0,IF(Q31304>0,Q31304-('Výstupy modelu'!$H$10-'Výstupy modelu'!$H$9),0))","v":0},null,null,1865.4300000000003,1885.4300000000003,0,{"$f":"MAX(0,D31304-'Vstupní hodnoty'!$C$5)","v":0}]
[null,"2017-11-23T10:15:00",11,1445.0400000000002,{"$f":"CEILING(IF(C31340-C31339=0,IF(H31339=0,I31339,IF(J31339>K31339,I31339,E31339)),'Výstupy modelu'!$C$7),1)","v":1664},0,0,{"$f":"IF(F31340=1,IF(G31340>'Zdrojová data'!$C$19,0,1),\"\")","v":""},1664,0,{"$f":"MIN(J31340,'Zdrojová data'!$C$17)","v":0},0,{"$f":"L31340/'Zdrojová data'!$C$16","v":0},{"$f":"M31340*'Zdrojová data'!$C$13","v":0},{"$f":"N31340*'Zdrojová data'!$C$14","v":0},0,{"$f":"IF(H31340=0,D31340-'Výstupy modelu'!$C$7,IF(P31340=1,J31340-K31340,0))","v":0},0,null,{"$f":"MAX(0,IF(Q31340>0,Q31340-('Výstupy modelu'!$H$10-'Výstupy modelu'!$H$9),0))","v":0},null,null,1865.4300000000003,1885.4300000000003,0,{"$f":"MAX(0,D31340-'Vstupní hodnoty'!$C$5)","v":0}]
[null,"2017-11-23T14:00:00",11,1274.4000000000001,{"$f":"CEILING(IF(C31355-C31354=0,IF(H31354=0,I31354,IF(J31354>K31354,I31354,E31354)),'Výstupy modelu'!$C$7),1)","v":1664},0,0,{"$f":"IF(F31355=1,IF(G31355>'Zdrojová data'!$C$19,0,1),\"\")","v":""},1664,0,{"$f":"MIN(J31355,'Zdrojová data'!$C$17)","v":0},0,{"$f":"L31355/'Zdrojová data'!$C$16","v":0},{"$f":"M31355*'Zdrojová data'!$C$13","v":0},{"$f":"N31355*'Zdrojová data'!$C$14","v":0},0,{"$f":"IF(H31355=0,D31355-'Výstupy modelu'!$C$7,IF(P31355=1,J31355-K31355,0))","v":0},0,null,{"$f":"MAX(0,IF(Q31355>0,Q31355-('Výstupy modelu'!$H$10-'Výstupy modelu'!$H$9),0))","v":0},null,null,1865.4300000000003,1885.4300000000003,0,{"$f":"MAX(0,D31355-'Vstupní hodnoty'!$C$5)","v":0}]
[null,"2017-11-24T02:45:00",11,552.96,{"$f":"CEILING(IF(C31406-C31405=0,IF(H31405=0,I31405,IF(J31405>K31405,I31405,E31405)),'Výstupy modelu'!$C$7),1)","v":1664},0,0,{"$f":"IF(F31406=1,IF(G31406>'Zdrojová data'!$C$19,0,1),\"\")","v":""},1664,0,{"$f":"MIN(J31406,'Zdrojová data'!$C$17)","v":0},0,{"$f":"L31406/'Zdrojová data'!$C$16","v":0},{"$f":"M31406*'Zdrojová data'!$C$13","v":0},{"$f":"N31406*'Zdrojová data'!$C$14","v":0},0,{"$f":"IF(H31406=0,D31406-'Výstupy modelu'!$C$7,IF(P31406=1,J31406-K31406,0))","v":0},0,null,{"$f":"MAX(0,IF(Q31406>0,Q31406-('Výstupy modelu'!$H$10-'Výstupy modelu'!$H$9),0))","v":0},null,null,1865.4300000000003,1885.4300000000003,0,{"$f":"MAX(0,D31406-'Vstupní hodnoty'!$C$5)","v":0}]
[null,"2017-11-24T07:00:00",11,1406.16,{"$f":"CEILING(IF(C31423-C31422=0,IF(H31422=0,I31422,IF(J31422>K31422,I31422,E31422)),'Výstupy modelu'!$C$7),1)","v":1664},0,0,{"$f":"IF(F31423=1,IF(G31423>'Zdrojová data'!$C$19,0,1),\"\")","v":""},1664,0,{"$f":"MIN(J31423,'Zdrojová data'!$C$17)","v":0},0,{"$f":"L31423/'Zdrojová data'!$C$16","v":0},{"$f":"M31423*'Zdrojová data'!$C$13","v":0},{"$f":"N31423*'Zdrojová data'!$C$14","v":0},0,{"$f":"IF(H31423=0,D31423-'Výstupy modelu'!$C$7,IF(P31423=1,J31423-K31423,0))","v":0},0,null,{"$f":"MAX(0,IF(Q31423>0,Q31423-('Výstupy modelu'!$H$10-'Výstupy modelu'!$H$9),0))","v":0},null,null,1865.4300000000003,1885.4300000000003,0,{"$f":"MAX(0,D31423-'Vstupní hodnoty'!$C$5)","v":0}]
[null,"2017-11-24T15:45:00",11,980.6400000000001,{"$f":"CEILING(IF(C31458-C31457=0,IF(H31457=0,I31457,IF(J31457>K31457,I31457,E31457)),'Výstupy modelu'!$C$7),1)","v":1664},0,0,{"$f":"IF(F31458=1,IF(G31458>'Zdrojová data'!$C$19,0,1),\"\")","v":""},1664,0,{"$f":"MIN(J31458,'Zdrojová data'!$C$17)","v":0},0,{"$f":"L31458/'Zdrojová data'!$C$16","v":0},{"$f":"M31458*'Zdrojová data'!$C$13","v":0},{"$f":"N31458*'Zdrojová data'!$C$14","v":0},0,{"$f":"IF(H31458=0,D31458-'Výstupy modelu'!$C$7,IF(P31458=1,J31458-K31458,0))","v":0},0,null,{"$f":"MAX(0,IF(Q31458>0,Q31458-('Výstupy modelu'!$H$10-'Výstupy modelu'!$H$9),0))","v":0},null,null,1865.4300000000003,1885.4300000000003,0,{"$f":"MAX(0,D31458-'Vstupní hodnoty'!$C$5)","v":0}]
[null,"2017-11-25T05:45:00",11,367.20000000000005,{"$f":"CEILING(IF(C31514-C31513=0,IF(H31513=0,I31513,IF(J31513>K31513,I31513,E31513)),'Výstupy modelu'!$C$7),1)","v":1664},0,0,{"$f":"IF(F31514=1,IF(G31514>'Zdrojová data'!$C$19,0,1),\"\")","v":""},1664,0,{"$f":"MIN(J31514,'Zdrojová data'!$C$17)","v":0},0,{"$f":"L31514/'Zdrojová data'!$C$16","v":0},{"$f":"M31514*'Zdrojová data'!$C$13","v":0},{"$f":"N31514*'Zdrojová data'!$C$14","v":0},0,{"$f":"IF(H31514=0,D31514-'Výstupy modelu'!$C$7,IF(P31514=1,J31514-K31514,0))","v":0},0,null,{"$f":"MAX(0,IF(Q31514>0,Q31514-('Výstupy modelu'!$H$10-'Výstupy modelu'!$H$9),0))","v":0},null,null,1865.4300000000003,1885.4300000000003,0,{"$f":"MAX(0,D31514-'Vstupní hodnoty'!$C$5)","v":0}]
[null,"2017-11-25T08:30:00",11,638.28000000000009,{"$f":"CEILING(IF(C31525-C31524=0,IF(H31524=0,I31524,IF(J31524>K31524,I31524,E31524)),'Výstupy modelu'!$C$7),1)","v":1664},0,0,{"$f":"IF(F31525=1,IF(G31525>'Zdrojová data'!$C$19,0,1),\"\")","v":""},1664,0,{"$f":"MIN(J31525,'Zdrojová data'!$C$17)","v":0},0,{"$f":"L31525/'Zdrojová data'!$C$16","v":0},{"$f":"M31525*'Zdrojová data'!$C$13","v":0},{"$f":"N31525*'Zdrojová data'!$C$14","v":0},0,{"$f":"IF(H31525=0,D31525-'Výstupy modelu'!$C$7,IF(P31525=1,J31525-K31525,0))","v":0},0,null,{"$f":"MAX(0,IF(Q31525>0,Q31525-('Výstupy modelu'!$H$10-'Výstupy modelu'!$H$9),0))","v":0},null,null,1865.4300000000003,1885.4300000000003,0,{"$f":"MAX(0,D31525-'Vstupní hodnoty'!$C$5)","v":0}]
[null,"2017-11-25T17:15:00",11,255.96,{"$f":"CEILING(IF(C31560-C31559=0,IF(H31559=0,I31559,IF(J31559>K31559,I31559,E31559)),'Výstupy modelu'!$C$7),1)","v":1664},0,0,{"$f":"IF(F31560=1,IF(G31560>'Zdrojová data'!$C$19,0,1),\"\")","v":""},1664,0,{"$f":"MIN(J31560,'Zdrojová data'!$C$17)","v":0},0,{"$f":"L31560/'Zdrojová data'!$C$16","v":0},{"$f":"M31560*'Zdrojová data'!$C$13","v":0},{"$f":"N31560*'Zdrojová data'!$C$14","v":0},0,{"$f":"IF(H31560=0,D31560-'Výstupy modelu'!$C$7,IF(P31560=1,J31560-K31560,0))","v":0},0,null,{"$f":"MAX(0,IF(Q31560>0,Q31560-('Výstupy modelu'!$H$10-'Výstupy modelu'!$H$9),0))","v":0},null,null,1865.4300000000003,1885.4300000000003,0,{"$f":"MAX(0,D31560-'Vstupní hodnoty'!$C$5)","v":0}]
[null,"2017-11-26T06:00:00",11,257.04000000000002,{"$f":"CEILING(IF(C31611-C31610=0,IF(H31610=0,I31610,IF(J31610>K31610,I31610,E31610)),'Výstupy modelu'!$C$7),1)","v":1664},0,0,{"$f":"IF(F31611=1,IF(G31611>'Zdrojová data'!$C$19,0,1),\"\")","v":""},1664,0,{"$f":"MIN(J31611,'Zdrojová data'!$C$17)","v":0},0,{"$f":"L31611/'Zdrojová data'!$C$16","v":0},{"$f":"M31611*'Zdrojová data'!$C$13","v":0},{"$f":"N31611*'Zdrojová data'!$C$14","v":0},0,{"$f":"IF(H31611=0,D31611-'Výstupy modelu'!$C$7,IF(P31611=1,J31611-K31611,0))","v":0},0,null,{"$f":"MAX(0,IF(Q31611>0,Q31611-('Výstupy modelu'!$H$10-'Výstupy modelu'!$H$9),0))","v":0},null,null,1865.4300000000003,1885.4300000000003,0,{"$f":"MAX(0,D31611-'Vstupní hodnoty'!$C$5)","v":0}]
[null,"2017-11-26T14:45:00",11,250.56,{"$f":"CEILING(IF(C31646-C31645=0,IF(H31645=0,I31645,IF(J31645>K31645,I31645,E31645)),'Výstupy modelu'!$C$7),1)","v":1664},0,0,{"$f":"IF(F31646=1,IF(G31646>'Zdrojová data'!$C$19,0,1),\"\")","v":""},1664,0,{"$f":"MIN(J31646,'Zdrojová data'!$C$17)","v":0},0,{"$f":"L31646/'Zdrojová data'!$C$16","v":0},{"$f":"M31646*'Zdrojová data'!$C$13","v":0},{"$f":"N31646*'Zdrojová data'!$C$14","v":0},0,{"$f":"IF(H31646=0,D31646-'Výstupy modelu'!$C$7,IF(P31646=1,J31646-K31646,0))","v":0},0,null,{"$f":"MAX(0,IF(Q31646>0,Q31646-('Výstupy modelu'!$H$10-'Výstupy modelu'!$H$9),0))","v":0},null,null,1865.4300000000003,1885.4300000000003,0,{"$f":"MAX(0,D31646-'Vstupní hodnoty'!$C$5)","v":0}]
[null,"2017-11-26T17:00:00",11,251.64000000000001,{"$f":"CEILING(IF(C31655-C31654=0,IF(H31654=0,I31654,IF(J31654>K31654,I31654,E31654)),'Výstupy modelu'!$C$7),1)","v":1664},0,0,{"$f":"IF(F31655=1,IF(G31655>'Zdrojová data'!$C$19,0,1),\"\")","v":""},1664,0,{"$f":"MIN(J31655,'Zdrojová data'!$C$17)","v":0},0,{"$f":"L31655/'Zdrojová data'!$C$16","v":0},{"$f":"M31655*'Zdrojová data'!$C$13","v":0},{"$f":"N31655*'Zdrojová data'!$C$14","v":0},0,{"$f":"IF(H31655=0,D31655-'Výstupy modelu'!$C$7,IF(P31655=1,J31655-K31655,0))","v":0},0,null,{"$f":"MAX(0,IF(Q31655>0,Q31655-('Výstupy modelu'!$H$10-'Výstupy modelu'!$H$9),0))","v":0},null,null,1865.4300000000003,1885.4300000000003,0,{"$f":"MAX(0,D31655-'Vstupní hodnoty'!$C$5)","v":0}]
[null,"2017-11-27T07:30:00",11,1461.24,{"$f":"CEILING(IF(C31713-C31712=0,IF(H31712=0,I31712,IF(J31712>K31712,I31712,E31712)),'Výstupy modelu'!$C$7),1)","v":1664},0,0,{"$f":"IF(F31713=1,IF(G31713>'Zdrojová data'!$C$19,0,1),\"\")","v":""},1664,0,{"$f":"MIN(J31713,'Zdrojová data'!$C$17)","v":0},0,{"$f":"L31713/'Zdrojová data'!$C$16","v":0},{"$f":"M31713*'Zdrojová data'!$C$13","v":0},{"$f":"N31713*'Zdrojová data'!$C$14","v":0},0,{"$f":"IF(H31713=0,D31713-'Výstupy modelu'!$C$7,IF(P31713=1,J31713-K31713,0))","v":0},0,null,{"$f":"MAX(0,IF(Q31713>0,Q31713-('Výstupy modelu'!$H$10-'Výstupy modelu'!$H$9),0))","v":0},null,null,1865.4300000000003,1885.4300000000003,0,{"$f":"MAX(0,D31713-'Vstupní hodnoty'!$C$5)","v":0}]
[null,"2017-11-27T16:15:00",11,1078.92,{"$f":"CEILING(IF(C31748-C31747=0,IF(H31747=0,I31747,IF(J31747>K31747,I31747,E31747)),'Výstupy modelu'!$C$7),1)","v":1664},{"$f":"IF(D31748>E31748,1,0)","v":0},0,{"$f":"IF(F31748=1,IF(G31748>'Zdrojová data'!$C$19,0,1),\"\")","v":""},{"$f":"IF(H31748=0,D31748,IF(J31748>K31748,E31748+J31748-K31748,E31748))","v":1664},{"$f":"IF(H31748=1,D31748-E31748,0)","v":0},{"$f":"MIN(J31748,'Zdrojová data'!$C$17)","v":0},0,{"$f":"L31748/'Zdrojová data'!$C$16","v":0},{"$f":"M31748*'Zdrojová data'!$C$13","v":0},{"$f":"N31748*'Zdrojová data'!$C$14","v":0},0,{"$f":"IF(H31748=0,D31748-'Výstupy modelu'!$C$7,IF(P31748=1,J31748-K31748,0))","v":0},0,null,{"$f":"MAX(0,IF(Q31748>0,Q31748-('Výstupy modelu'!$H$10-'Výstupy modelu'!$H$9),0))","v":0},null,null,1865.4300000000003,1885.4300000000003,0,{"$f":"MAX(0,D31748-'Vstupní hodnoty'!$C$5)","v":0}]
[null,"2017-11-27T20:30:00",11,920.16000000000008,{"$f":"CEILING(IF(C31765-C31764=0,IF(H31764=0,I31764,IF(J31764>K31764,I31764,E31764)),'Výstupy modelu'!$C$7),1)","v":1664},0,0,{"$f":"IF(F31765=1,IF(G31765>'Zdrojová data'!$C$19,0,1),\"\")","v":""},1664,0,{"$f":"MIN(J31765,'Zdrojová data'!$C$17)","v":0},0,{"$f":"L31765/'Zdrojová data'!$C$16","v":0},{"$f":"M31765*'Zdrojová data'!$C$13","v":0},{"$f":"N31765*'Zdrojová data'!$C$14","v":0},0,{"$f":"IF(H31765=0,D31765-'Výstupy modelu'!$C$7,IF(P31765=1,J31765-K31765,0))","v":0},0,null,{"$f":"MAX(0,IF(Q31765>0,Q31765-('Výstupy modelu'!$H$10-'Výstupy modelu'!$H$9),0))","v":0},null,null,1865.4300000000003,1885.4300000000003,0,{"$f":"MAX(0,D31765-'Vstupní hodnoty'!$C$5)","v":0}]
[null,"2017-11-28T09:15:00",11,1455.8400000000001,{"$f":"CEILING(IF(C31816-C31815=0,IF(H31815=0,I31815,IF(J31815>K31815,I31815,E31815)),'Výstupy modelu'!$C$7),1)","v":1664},0,0,{"$f":"IF(F31816=1,IF(G31816>'Zdrojová data'!$C$19,0,1),\"\")","v":""},1664,0,{"$f":"MIN(J31816,'Zdrojová data'!$C$17)","v":0},0,{"$f":"L31816/'Zdrojová data'!$C$16","v":0},{"$f":"M31816*'Zdrojová data'!$C$13","v":0},{"$f":"N31816*'Zdrojová data'!$C$14","v":0},0,{"$f":"IF(H31816=0,D31816-'Výstupy modelu'!$C$7,IF(P31816=1,J31816-K31816,0))","v":0},0,null,{"$f":"MAX(0,IF(Q31816>0,Q31816-('Výstupy modelu'!$H$10-'Výstupy modelu'!$H$9),0))","v":0},null,null,1865.4300000000003,1885.4300000000003,0,{"$f":"MAX(0,D31816-'Vstupní hodnoty'!$C$5)","v":0}]
[null,"2017-11-28T12:30:00",11,1245.24,{"$f":"CEILING(IF(C31829-C31828=0,IF(H31828=0,I31828,IF(J31828>K31828,I31828,E31828)),'Výstupy modelu'!$C$7),1)","v":1664},0,0,{"$f":"IF(F31829=1,IF(G31829>'Zdrojová data'!$C$19,0,1),\"\")","v":""},1664,0,{"$f":"MIN(J31829,'Zdrojová data'!$C$17)","v":0},0,{"$f":"L31829/'Zdrojová data'!$C$16","v":0},{"$f":"M31829*'Zdrojová data'!$C$13","v":0},{"$f":"N31829*'Zdrojová data'!$C$14","v":0},0,{"$f":"IF(H31829=0,D31829-'Výstupy modelu'!$C$7,IF(P31829=1,J31829-K31829,0))","v":0},0,null,{"$f":"MAX(0,IF(Q31829>0,Q31829-('Výstupy modelu'!$H$10-'Výstupy modelu'!$H$9),0))","v":0},null,null,1865.4300000000003,1885.4300000000003,0,{"$f":"MAX(0,D31829-'Vstupní hodnoty'!$C$5)","v":0}]
[null,"2017-11-28T22:00:00",11,588.6,{"$f":"CEILING(IF(C31867-C31866=0,IF(H31866=0,I31866,IF(J31866>K31866,I31866,E31866)),'Výstupy modelu'!$C$7),1)","v":1664},0,0,{"$f":"IF(F31867=1,IF(G31867>'Zdrojová data'!$C$19,0,1),\"\")","v":""},1664,0,{"$f":"MIN(J31867,'Zdrojová data'!$C$17)","v":0},0,{"$f":"L31867/'Zdrojová data'!$C$16","v":0},{"$f":"M31867*'Zdrojová data'!$C$13","v":0},{"$f":"N31867*'Zdrojová data'!$C$14","v":0},0,{"$f":"IF(H31867=0,D31867-'Výstupy modelu'!$C$7,IF(P31867=1,J31867-K31867,0))","v":0},0,null,{"$f":"MAX(0,IF(Q31867>0,Q31867-('Výstupy modelu'!$H$10-'Výstupy modelu'!$H$9),0))","v":0},null,null,1865.4300000000003,1885.4300000000003,0,{"$f":"MAX(0,D31867-'Vstupní hodnoty'!$C$5)","v":0}]
[null,"2017-11-29T06:45:00",11,1476.3600000000001,{"$f":"CEILING(IF(C31902-C31901=0,IF(H31901=0,I31901,IF(J31901>K31901,I31901,E31901)),'Výstupy modelu'!$C$7),1)","v":1664},0,0,{"$f":"IF(F31902=1,IF(G31902>'Zdrojová data'!$C$19,0,1),\"\")","v":""},1664,0,{"$f":"MIN(J31902,'Zdrojová data'!$C$17)","v":0},0,{"$f":"L31902/'Zdrojová data'!$C$16","v":0},{"$f":"M31902*'Zdrojová data'!$C$13","v":0},{"$f":"N31902*'Zdrojová data'!$C$14","v":0},0,{"$f":"IF(H31902=0,D31902-'Výstupy modelu'!$C$7,IF(P31902=1,J31902-K31902,0))","v":0},0,null,{"$f":"MAX(0,IF(Q31902>0,Q31902-('Výstupy modelu'!$H$10-'Výstupy modelu'!$H$9),0))","v":0},null,null,1865.4300000000003,1885.4300000000003,0,{"$f":"MAX(0,D31902-'Vstupní hodnoty'!$C$5)","v":0}]
[null,"2017-11-29T19:30:00",11,933.12000000000012,{"$f":"CEILING(IF(C31953-C31952=0,IF(H31952=0,I31952,IF(J31952>K31952,I31952,E31952)),'Výstupy modelu'!$C$7),1)","v":1664},0,0,{"$f":"IF(F31953=1,IF(G31953>'Zdrojová data'!$C$19,0,1),\"\")","v":""},1664,0,{"$f":"MIN(J31953,'Zdrojová data'!$C$17)","v":0},0,{"$f":"L31953/'Zdrojová data'!$C$16","v":0},{"$f":"M31953*'Zdrojová data'!$C$13","v":0},{"$f":"N31953*'Zdrojová data'!$C$14","v":0},0,{"$f":"IF(H31953=0,D31953-'Výstupy modelu'!$C$7,IF(P31953=1,J31953-K31953,0))","v":0},0,null,{"$f":"MAX(0,IF(Q31953>0,Q31953-('Výstupy modelu'!$H$10-'Výstupy modelu'!$H$9),0))","v":0},null,null,1865.4300000000003,1885.4300000000003,0,{"$f":"MAX(0,D31953-'Vstupní hodnoty'!$C$5)","v":0}]
[null,"2017-11-29T23:45:00",11,508.68,{"$f":"CEILING(IF(C31970-C31969=0,IF(H31969=0,I31969,IF(J31969>K31969,I31969,E31969)),'Výstupy modelu'!$C$7),1)","v":1664},0,0,{"$f":"IF(F31970=1,IF(G31970>'Zdrojová data'!$C$19,0,1),\"\")","v":""},1664,0,{"$f":"MIN(J31970,'Zdrojová data'!$C$17)","v":0},0,{"$f":"L31970/'Zdrojová data'!$C$16","v":0},{"$f":"M31970*'Zdrojová data'!$C$13","v":0},{"$f":"N31970*'Zdrojová data'!$C$14","v":0},0,{"$f":"IF(H31970=0,D31970-'Výstupy modelu'!$C$7,IF(P31970=1,J31970-K31970,0))","v":0},0,null,{"$f":"MAX(0,IF(Q31970>0,Q31970-('Výstupy modelu'!$H$10-'Výstupy modelu'!$H$9),0))","v":0},null,null,1865.4300000000003,1885.4300000000003,0,{"$f":"MAX(0,D31970-'Vstupní hodnoty'!$C$5)","v":0}]
[null,"2017-11-30T08:00:00",11,1361.88,{"$f":"CEILING(IF(C32003-C32002=0,IF(H32002=0,I32002,IF(J32002>K32002,I32002,E32002)),'Výstupy modelu'!$C$7),1)","v":1664},0,0,{"$f":"IF(F32003=1,IF(G32003>'Zdrojová data'!$C$19,0,1),\"\")","v":""},1664,0,{"$f":"MIN(J32003,'Zdrojová data'!$C$17)","v":0},0,{"$f":"L32003/'Zdrojová data'!$C$16","v":0},{"$f":"M32003*'Zdrojová data'!$C$13","v":0},{"$f":"N32003*'Zdrojová data'!$C$14","v":0},0,{"$f":"IF(H32003=0,D32003-'Výstupy modelu'!$C$7,IF(P32003=1,J32003-K32003,0))","v":0},0,null,{"$f":"MAX(0,IF(Q32003>0,Q32003-('Výstupy modelu'!$H$10-'Výstupy modelu'!$H$9),0))","v":0},null,null,1865.4300000000003,1885.4300000000003,0,{"$f":"MAX(0,D32003-'Vstupní hodnoty'!$C$5)","v":0}]
[null,"2017-11-30T21:00:00",11,821.88000000000011,{"$f":"CEILING(IF(C32055-C32054=0,IF(H32054=0,I32054,IF(J32054>K32054,I32054,E32054)),'Výstupy modelu'!$C$7),1)","v":1664},0,0,{"$f":"IF(F32055=1,IF(G32055>'Zdrojová data'!$C$19,0,1),\"\")","v":""},1664,0,{"$f":"MIN(J32055,'Zdrojová data'!$C$17)","v":0},0,{"$f":"L32055/'Zdrojová data'!$C$16","v":0},{"$f":"M32055*'Zdrojová data'!$C$13","v":0},{"$f":"N32055*'Zdrojová data'!$C$14","v":0},0,{"$f":"IF(H32055=0,D32055-'Výstupy modelu'!$C$7,IF(P32055=1,J32055-K32055,0))","v":0},0,null,{"$f":"MAX(0,IF(Q32055>0,Q32055-('Výstupy modelu'!$H$10-'Výstupy modelu'!$H$9),0))","v":0},null,null,1865.4300000000003,1885.4300000000003,0,{"$f":"MAX(0,D32055-'Vstupní hodnoty'!$C$5)","v":0}]
[null,"2017-12-01T05:45:00",12,763.56000000000006,{"$f":"CEILING(IF(C32090-C32089=0,IF(H32089=0,I32089,IF(J32089>K32089,I32089,E32089)),'Výstupy modelu'!$C$7),1)","v":1664},0,0,{"$f":"IF(F32090=1,IF(G32090>'Zdrojová data'!$C$19,0,1),\"\")","v":""},1664,0,{"$f":"MIN(J32090,'Zdrojová data'!$C$17)","v":0},0,{"$f":"L32090/'Zdrojová data'!$C$16","v":0},{"$f":"M32090*'Zdrojová data'!$C$13","v":0},{"$f":"N32090*'Zdrojová data'!$C$14","v":0},0,{"$f":"IF(H32090=0,D32090-'Výstupy modelu'!$C$7,IF(P32090=1,J32090-K32090,0))","v":0},0,null,{"$f":"MAX(0,IF(Q32090>0,Q32090-('Výstupy modelu'!$H$10-'Výstupy modelu'!$H$9),0))","v":0},null,null,1865.4300000000003,1885.4300000000003,0,{"$f":"MAX(0,D32090-'Vstupní hodnoty'!$C$5)","v":0}]
[null,"2017-12-01T10:00:00",12,1447.2,{"$f":"CEILING(IF(C32107-C32106=0,IF(H32106=0,I32106,IF(J32106>K32106,I32106,E32106)),'Výstupy modelu'!$C$7),1)","v":1664},0,0,{"$f":"IF(F32107=1,IF(G32107>'Zdrojová data'!$C$19,0,1),\"\")","v":""},1664,0,{"$f":"MIN(J32107,'Zdrojová data'!$C$17)","v":0},0,{"$f":"L32107/'Zdrojová data'!$C$16","v":0},{"$f":"M32107*'Zdrojová data'!$C$13","v":0},{"$f":"N32107*'Zdrojová data'!$C$14","v":0},0,{"$f":"IF(H32107=0,D32107-'Výstupy modelu'!$C$7,IF(P32107=1,J32107-K32107,0))","v":0},0,null,{"$f":"MAX(0,IF(Q32107>0,Q32107-('Výstupy modelu'!$H$10-'Výstupy modelu'!$H$9),0))","v":0},null,null,1865.4300000000003,1885.4300000000003,0,{"$f":"MAX(0,D32107-'Vstupní hodnoty'!$C$5)","v":0}]
[null,"2017-12-01T16:30:00",{"$f":"MONTH(B32133)","v":12},960.12000000000012,{"$f":"CEILING(IF(C32133-C32132=0,IF(H32132=0,I32132,IF(J32132>K32132,I32132,E32132)),'Výstupy modelu'!$C$7),1)","v":1664},0,{"$f":"IF(F32133=1,RANDBETWEEN(0,100),0)","v":0},{"$f":"IF(F32133=1,IF(G32133>'Zdrojová data'!$C$19,0,1),\"\")","v":""},1664,0,{"$f":"MIN(J32133,'Zdrojová data'!$C$17)","v":0},{"$f":"K32133/4","v":0},{"$f":"L32133/'Zdrojová data'!$C$16","v":0},{"$f":"M32133*'Zdrojová data'!$C$13","v":0},{"$f":"N32133*'Zdrojová data'!$C$14","v":0},{"$f":"IF(H32133=0,1,IF(J32133>K32133,1,0))","v":0},{"$f":"IF(H32133=0,D32133-'Výstupy modelu'!$C$7,IF(P32133=1,J32133-K32133,0))","v":0},{"$f":"IF(H32133=0,1,IF(J32133>K32133,1,0))","v":0},null,{"$f":"MAX(0,IF(Q32133>0,Q32133-('Výstupy modelu'!$H$10-'Výstupy modelu'!$H$9),0))","v":0},null,null,1865.4300000000003,1885.4300000000003,0,{"$f":"MAX(0,D32133-'Vstupní hodnoty'!$C$5)","v":0}]
[null,"2017-12-02T07:15:00",12,489.24,{"$f":"CEILING(IF(C32192-C32191=0,IF(H32191=0,I32191,IF(J32191>K32191,I32191,E32191)),'Výstupy modelu'!$C$7),1)","v":1664},0,0,{"$f":"IF(F32192=1,IF(G32192>'Zdrojová data'!$C$19,0,1),\"\")","v":""},1664,0,{"$f":"MIN(J32192,'Zdrojová data'!$C$17)","v":0},0,{"$f":"L32192/'Zdrojová data'!$C$16","v":0},{"$f":"M32192*'Zdrojová data'!$C$13","v":0},{"$f":"N32192*'Zdrojová data'!$C$14","v":0},0,{"$f":"IF(H32192=0,D32192-'Výstupy modelu'!$C$7,IF(P32192=1,J32192-K32192,0))","v":0},0,null,{"$f":"MAX(0,IF(Q32192>0,Q32192-('Výstupy modelu'!$H$10-'Výstupy modelu'!$H$9),0))","v":0},null,null,1865.4300000000003,1885.4300000000003,0,{"$f":"MAX(0,D32192-'Vstupní hodnoty'!$C$5)","v":0}]
[null,"2017-12-02T11:30:00",12,401.76000000000005,{"$f":"CEILING(IF(C32209-C32208=0,IF(H32208=0,I32208,IF(J32208>K32208,I32208,E32208)),'Výstupy modelu'!$C$7),1)","v":1664},0,0,{"$f":"IF(F32209=1,IF(G32209>'Zdrojová data'!$C$19,0,1),\"\")","v":""},1664,0,{"$f":"MIN(J32209,'Zdrojová data'!$C$17)","v":0},0,{"$f":"L32209/'Zdrojová data'!$C$16","v":0},{"$f":"M32209*'Zdrojová data'!$C$13","v":0},{"$f":"N32209*'Zdrojová data'!$C$14","v":0},0,{"$f":"IF(H32209=0,D32209-'Výstupy modelu'!$C$7,IF(P32209=1,J32209-K32209,0))","v":0},0,null,{"$f":"MAX(0,IF(Q32209>0,Q32209-('Výstupy modelu'!$H$10-'Výstupy modelu'!$H$9),0))","v":0},null,null,1865.4300000000003,1885.4300000000003,0,{"$f":"MAX(0,D32209-'Vstupní hodnoty'!$C$5)","v":0}]
[null,"2017-12-03T00:15:00",12,257.04000000000002,{"$f":"CEILING(IF(C32260-C32259=0,IF(H32259=0,I32259,IF(J32259>K32259,I32259,E32259)),'Výstupy modelu'!$C$7),1)","v":1664},{"$f":"IF(D32260>E32260,1,0)","v":0},0,{"$f":"IF(F32260=1,IF(G32260>'Zdrojová data'!$C$19,0,1),\"\")","v":""},{"$f":"IF(H32260=0,D32260,IF(J32260>K32260,E32260+J32260-K32260,E32260))","v":1664},{"$f":"IF(H32260=1,D32260-E32260,0)","v":0},{"$f":"MIN(J32260,'Zdrojová data'!$C$17)","v":0},0,{"$f":"L32260/'Zdrojová data'!$C$16","v":0},{"$f":"M32260*'Zdrojová data'!$C$13","v":0},{"$f":"N32260*'Zdrojová data'!$C$14","v":0},0,{"$f":"IF(H32260=0,D32260-'Výstupy modelu'!$C$7,IF(P32260=1,J32260-K32260,0))","v":0},0,null,{"$f":"MAX(0,IF(Q32260>0,Q32260-('Výstupy modelu'!$H$10-'Výstupy modelu'!$H$9),0))","v":0},null,null,1865.4300000000003,1885.4300000000003,0,{"$f":"MAX(0,D32260-'Vstupní hodnoty'!$C$5)","v":0}]
[null,"2017-12-03T00:30:00",{"$f":"MONTH(B32261)","v":12},266.76,{"$f":"CEILING(IF(C32261-C32260=0,IF(H32260=0,I32260,IF(J32260>K32260,I32260,E32260)),'Výstupy modelu'!$C$7),1)","v":1664},0,{"$f":"IF(F32261=1,RANDBETWEEN(0,100),0)","v":0},{"$f":"IF(F32261=1,IF(G32261>'Zdrojová data'!$C$19,0,1),\"\")","v":""},1664,0,{"$f":"MIN(J32261,'Zdrojová data'!$C$17)","v":0},{"$f":"K32261/4","v":0},{"$f":"L32261/'Zdrojová data'!$C$16","v":0},{"$f":"M32261*'Zdrojová data'!$C$13","v":0},{"$f":"N32261*'Zdrojová data'!$C$14","v":0},{"$f":"IF(H32261=0,1,IF(J32261>K32261,1,0))","v":0},{"$f":"IF(H32261=0,D32261-'Výstupy modelu'!$C$7,IF(P32261=1,J32261-K32261,0))","v":0},{"$f":"IF(H32261=0,1,IF(J32261>K32261,1,0))","v":0},null,{"$f":"MAX(0,IF(Q32261>0,Q32261-('Výstupy modelu'!$H$10-'Výstupy modelu'!$H$9),0))","v":0},null,null,1865.4300000000003,1885.4300000000003,0,{"$f":"MAX(0,D32261-'Vstupní hodnoty'!$C$5)","v":0}]
[null,"2017-12-03T12:00:00",12,250.56,{"$f":"CEILING(IF(C32307-C32306=0,IF(H32306=0,I32306,IF(J32306>K32306,I32306,E32306)),'Výstupy modelu'!$C$7),1)","v":1664},0,0,{"$f":"IF(F32307=1,IF(G32307>'Zdrojová data'!$C$19,0,1),\"\")","v":""},1664,0,{"$f":"MIN(J32307,'Zdrojová data'!$C$17)","v":0},0,{"$f":"L32307/'Zdrojová data'!$C$16","v":0},{"$f":"M32307*'Zdrojová data'!$C$13","v":0},{"$f":"N32307*'Zdrojová data'!$C$14","v":0},0,{"$f":"IF(H32307=0,D32307-'Výstupy modelu'!$C$7,IF(P32307=1,J32307-K32307,0))","v":0},0,null,{"$f":"MAX(0,IF(Q32307>0,Q32307-('Výstupy modelu'!$H$10-'Výstupy modelu'!$H$9),0))","v":0},null,null,1865.4300000000003,1885.4300000000003,0,{"$f":"MAX(0,D32307-'Vstupní hodnoty'!$C$5)","v":0}]
[null,"2017-12-03T21:45:00",12,254.88000000000002,{"$f":"CEILING(IF(C32346-C32345=0,IF(H32345=0,I32345,IF(J32345>K32345,I32345,E32345)),'Výstupy modelu'!$C$7),1)","v":1664},0,0,{"$f":"IF(F32346=1,IF(G32346>'Zdrojová data'!$C$19,0,1),\"\")","v":""},1664,0,{"$f":"MIN(J32346,'Zdrojová data'!$C$17)","v":0},0,{"$f":"L32346/'Zdrojová data'!$C$16","v":0},{"$f":"M32346*'Zdrojová data'!$C$13","v":0},{"$f":"N32346*'Zdrojová data'!$C$14","v":0},0,{"$f":"IF(H32346=0,D32346-'Výstupy modelu'!$C$7,IF(P32346=1,J32346-K32346,0))","v":0},0,null,{"$f":"MAX(0,IF(Q32346>0,Q32346-('Výstupy modelu'!$H$10-'Výstupy modelu'!$H$9),0))","v":0},null,null,1865.4300000000003,1885.4300000000003,0,{"$f":"MAX(0,D32346-'Vstupní hodnoty'!$C$5)","v":0}]
[null,"2017-12-04T02:00:00",12,565.92000000000007,{"$f":"CEILING(IF(C32363-C32362=0,IF(H32362=0,I32362,IF(J32362>K32362,I32362,E32362)),'Výstupy modelu'!$C$7),1)","v":1664},0,0,{"$f":"IF(F32363=1,IF(G32363>'Zdrojová data'!$C$19,0,1),\"\")","v":""},1664,0,{"$f":"MIN(J32363,'Zdrojová data'!$C$17)","v":0},0,{"$f":"L32363/'Zdrojová data'!$C$16","v":0},{"$f":"M32363*'Zdrojová data'!$C$13","v":0},{"$f":"N32363*'Zdrojová data'!$C$14","v":0},0,{"$f":"IF(H32363=0,D32363-'Výstupy modelu'!$C$7,IF(P32363=1,J32363-K32363,0))","v":0},0,null,{"$f":"MAX(0,IF(Q32363>0,Q32363-('Výstupy modelu'!$H$10-'Výstupy modelu'!$H$9),0))","v":0},null,null,1865.4300000000003,1885.4300000000003,0,{"$f":"MAX(0,D32363-'Vstupní hodnoty'!$C$5)","v":0}]
[null,"2017-12-04T14:45:00",12,1224.72,{"$f":"CEILING(IF(C32414-C32413=0,IF(H32413=0,I32413,IF(J32413>K32413,I32413,E32413)),'Výstupy modelu'!$C$7),1)","v":1664},0,0,{"$f":"IF(F32414=1,IF(G32414>'Zdrojová data'!$C$19,0,1),\"\")","v":""},1664,0,{"$f":"MIN(J32414,'Zdrojová data'!$C$17)","v":0},0,{"$f":"L32414/'Zdrojová data'!$C$16","v":0},{"$f":"M32414*'Zdrojová data'!$C$13","v":0},{"$f":"N32414*'Zdrojová data'!$C$14","v":0},0,{"$f":"IF(H32414=0,D32414-'Výstupy modelu'!$C$7,IF(P32414=1,J32414-K32414,0))","v":0},0,null,{"$f":"MAX(0,IF(Q32414>0,Q32414-('Výstupy modelu'!$H$10-'Výstupy modelu'!$H$9),0))","v":0},null,null,1865.4300000000003,1885.4300000000003,0,{"$f":"MAX(0,D32414-'Vstupní hodnoty'!$C$5)","v":0}]
[null,"2017-12-04T23:30:00",12,543.24,{"$f":"CEILING(IF(C32449-C32448=0,IF(H32448=0,I32448,IF(J32448>K32448,I32448,E32448)),'Výstupy modelu'!$C$7),1)","v":1664},0,0,{"$f":"IF(F32449=1,IF(G32449>'Zdrojová data'!$C$19,0,1),\"\")","v":""},1664,0,{"$f":"MIN(J32449,'Zdrojová data'!$C$17)","v":0},0,{"$f":"L32449/'Zdrojová data'!$C$16","v":0},{"$f":"M32449*'Zdrojová data'!$C$13","v":0},{"$f":"N32449*'Zdrojová data'!$C$14","v":0},0,{"$f":"IF(H32449=0,D32449-'Výstupy modelu'!$C$7,IF(P32449=1,J32449-K32449,0))","v":0},0,null,{"$f":"MAX(0,IF(Q32449>0,Q32449-('Výstupy modelu'!$H$10-'Výstupy modelu'!$H$9),0))","v":0},null,null,1865.4300000000003,1885.4300000000003,0,{"$f":"MAX(0,D32449-'Vstupní hodnoty'!$C$5)","v":0}]
[null,"2017-12-05T07:30:00",12,1439.64,{"$f":"CEILING(IF(C32481-C32480=0,IF(H32480=0,I32480,IF(J32480>K32480,I32480,E32480)),'Výstupy modelu'!$C$7),1)","v":1664},0,0,{"$f":"IF(F32481=1,IF(G32481>'Zdrojová data'!$C$19,0,1),\"\")","v":""},1664,0,{"$f":"MIN(J32481,'Zdrojová data'!$C$17)","v":0},0,{"$f":"L32481/'Zdrojová data'!$C$16","v":0},{"$f":"M32481*'Zdrojová data'!$C$13","v":0},{"$f":"N32481*'Zdrojová data'!$C$14","v":0},0,{"$f":"IF(H32481=0,D32481-'Výstupy modelu'!$C$7,IF(P32481=1,J32481-K32481,0))","v":0},0,null,{"$f":"MAX(0,IF(Q32481>0,Q32481-('Výstupy modelu'!$H$10-'Výstupy modelu'!$H$9),0))","v":0},null,null,1865.4300000000003,1885.4300000000003,0,{"$f":"MAX(0,D32481-'Vstupní hodnoty'!$C$5)","v":0}]
[null,"2017-12-05T16:15:00",12,1053,{"$f":"CEILING(IF(C32516-C32515=0,IF(H32515=0,I32515,IF(J32515>K32515,I32515,E32515)),'Výstupy modelu'!$C$7),1)","v":1664},{"$f":"IF(D32516>E32516,1,0)","v":0},0,{"$f":"IF(F32516=1,IF(G32516>'Zdrojová data'!$C$19,0,1),\"\")","v":""},{"$f":"IF(H32516=0,D32516,IF(J32516>K32516,E32516+J32516-K32516,E32516))","v":1664},{"$f":"IF(H32516=1,D32516-E32516,0)","v":0},{"$f":"MIN(J32516,'Zdrojová data'!$C$17)","v":0},0,{"$f":"L32516/'Zdrojová data'!$C$16","v":0},{"$f":"M32516*'Zdrojová data'!$C$13","v":0},{"$f":"N32516*'Zdrojová data'!$C$14","v":0},0,{"$f":"IF(H32516=0,D32516-'Výstupy modelu'!$C$7,IF(P32516=1,J32516-K32516,0))","v":0},0,null,{"$f":"MAX(0,IF(Q32516>0,Q32516-('Výstupy modelu'!$H$10-'Výstupy modelu'!$H$9),0))","v":0},null,null,1865.4300000000003,1885.4300000000003,0,{"$f":"MAX(0,D32516-'Vstupní hodnoty'!$C$5)","v":0}]
[null,"2017-12-06T01:00:00",12,605.88,{"$f":"CEILING(IF(C32551-C32550=0,IF(H32550=0,I32550,IF(J32550>K32550,I32550,E32550)),'Výstupy modelu'!$C$7),1)","v":1664},0,0,{"$f":"IF(F32551=1,IF(G32551>'Zdrojová data'!$C$19,0,1),\"\")","v":""},1664,0,{"$f":"MIN(J32551,'Zdrojová data'!$C$17)","v":0},0,{"$f":"L32551/'Zdrojová data'!$C$16","v":0},{"$f":"M32551*'Zdrojová data'!$C$13","v":0},{"$f":"N32551*'Zdrojová data'!$C$14","v":0},0,{"$f":"IF(H32551=0,D32551-'Výstupy modelu'!$C$7,IF(P32551=1,J32551-K32551,0))","v":0},0,null,{"$f":"MAX(0,IF(Q32551>0,Q32551-('Výstupy modelu'!$H$10-'Výstupy modelu'!$H$9),0))","v":0},null,null,1865.4300000000003,1885.4300000000003,0,{"$f":"MAX(0,D32551-'Vstupní hodnoty'!$C$5)","v":0}]
[null,"2017-12-06T05:15:00",12,709.56000000000006,{"$f":"CEILING(IF(C32568-C32567=0,IF(H32567=0,I32567,IF(J32567>K32567,I32567,E32567)),'Výstupy modelu'!$C$7),1)","v":1664},0,0,{"$f":"IF(F32568=1,IF(G32568>'Zdrojová data'!$C$19,0,1),\"\")","v":""},1664,0,{"$f":"MIN(J32568,'Zdrojová data'!$C$17)","v":0},0,{"$f":"L32568/'Zdrojová data'!$C$16","v":0},{"$f":"M32568*'Zdrojová data'!$C$13","v":0},{"$f":"N32568*'Zdrojová data'!$C$14","v":0},0,{"$f":"IF(H32568=0,D32568-'Výstupy modelu'!$C$7,IF(P32568=1,J32568-K32568,0))","v":0},0,null,{"$f":"MAX(0,IF(Q32568>0,Q32568-('Výstupy modelu'!$H$10-'Výstupy modelu'!$H$9),0))","v":0},null,null,1865.4300000000003,1885.4300000000003,0,{"$f":"MAX(0,D32568-'Vstupní hodnoty'!$C$5)","v":0}]
[null,"2017-12-06T14:00:00",12,1342.44,{"$f":"CEILING(IF(C32603-C32602=0,IF(H32602=0,I32602,IF(J32602>K32602,I32602,E32602)),'Výstupy modelu'!$C$7),1)","v":1664},0,0,{"$f":"IF(F32603=1,IF(G32603>'Zdrojová data'!$C$19,0,1),\"\")","v":""},1664,0,{"$f":"MIN(J32603,'Zdrojová data'!$C$17)","v":0},0,{"$f":"L32603/'Zdrojová data'!$C$16","v":0},{"$f":"M32603*'Zdrojová data'!$C$13","v":0},{"$f":"N32603*'Zdrojová data'!$C$14","v":0},0,{"$f":"IF(H32603=0,D32603-'Výstupy modelu'!$C$7,IF(P32603=1,J32603-K32603,0))","v":0},0,null,{"$f":"MAX(0,IF(Q32603>0,Q32603-('Výstupy modelu'!$H$10-'Výstupy modelu'!$H$9),0))","v":0},null,null,1865.4300000000003,1885.4300000000003,0,{"$f":"MAX(0,D32603-'Vstupní hodnoty'!$C$5)","v":0}]
[null,"2017-12-07T03:00:00",12,601.56000000000006,{"$f":"CEILING(IF(C32655-C32654=0,IF(H32654=0,I32654,IF(J32654>K32654,I32654,E32654)),'Výstupy modelu'!$C$7),1)","v":1664},0,0,{"$f":"IF(F32655=1,IF(G32655>'Zdrojová data'!$C$19,0,1),\"\")","v":""},1664,0,{"$f":"MIN(J32655,'Zdrojová data'!$C$17)","v":0},0,{"$f":"L32655/'Zdrojová data'!$C$16","v":0},{"$f":"M32655*'Zdrojová data'!$C$13","v":0},{"$f":"N32655*'Zdrojová data'!$C$14","v":0},0,{"$f":"IF(H32655=0,D32655-'Výstupy modelu'!$C$7,IF(P32655=1,J32655-K32655,0))","v":0},0,null,{"$f":"MAX(0,IF(Q32655>0,Q32655-('Výstupy modelu'!$H$10-'Výstupy modelu'!$H$9),0))","v":0},null,null,1865.4300000000003,1885.4300000000003,0,{"$f":"MAX(0,D32655-'Vstupní hodnoty'!$C$5)","v":0}]
[null,"2017-12-07T06:45:00",12,1371.6000000000001,{"$f":"CEILING(IF(C32670-C32669=0,IF(H32669=0,I32669,IF(J32669>K32669,I32669,E32669)),'Výstupy modelu'!$C$7),1)","v":1664},0,0,{"$f":"IF(F32670=1,IF(G32670>'Zdrojová data'!$C$19,0,1),\"\")","v":""},1664,0,{"$f":"MIN(J32670,'Zdrojová data'!$C$17)","v":0},0,{"$f":"L32670/'Zdrojová data'!$C$16","v":0},{"$f":"M32670*'Zdrojová data'!$C$13","v":0},{"$f":"N32670*'Zdrojová data'!$C$14","v":0},0,{"$f":"IF(H32670=0,D32670-'Výstupy modelu'!$C$7,IF(P32670=1,J32670-K32670,0))","v":0},0,null,{"$f":"MAX(0,IF(Q32670>0,Q32670-('Výstupy modelu'!$H$10-'Výstupy modelu'!$H$9),0))","v":0},null,null,1865.4300000000003,1885.4300000000003,0,{"$f":"MAX(0,D32670-'Vstupní hodnoty'!$C$5)","v":0}]
[null,"2017-12-07T15:30:00",12,1091.8800000000001,{"$f":"CEILING(IF(C32705-C32704=0,IF(H32704=0,I32704,IF(J32704>K32704,I32704,E32704)),'Výstupy modelu'!$C$7),1)","v":1664},0,0,{"$f":"IF(F32705=1,IF(G32705>'Zdrojová data'!$C$19,0,1),\"\")","v":""},1664,0,{"$f":"MIN(J32705,'Zdrojová data'!$C$17)","v":0},0,{"$f":"L32705/'Zdrojová data'!$C$16","v":0},{"$f":"M32705*'Zdrojová data'!$C$13","v":0},{"$f":"N32705*'Zdrojová data'!$C$14","v":0},0,{"$f":"IF(H32705=0,D32705-'Výstupy modelu'!$C$7,IF(P32705=1,J32705-K32705,0))","v":0},0,null,{"$f":"MAX(0,IF(Q32705>0,Q32705-('Výstupy modelu'!$H$10-'Výstupy modelu'!$H$9),0))","v":0},null,null,1865.4300000000003,1885.4300000000003,0,{"$f":"MAX(0,D32705-'Vstupní hodnoty'!$C$5)","v":0}]
[null,"2017-12-08T04:15:00",12,530.28000000000009,{"$f":"CEILING(IF(C32756-C32755=0,IF(H32755=0,I32755,IF(J32755>K32755,I32755,E32755)),'Výstupy modelu'!$C$7),1)","v":1664},0,0,{"$f":"IF(F32756=1,IF(G32756>'Zdrojová data'!$C$19,0,1),\"\")","v":""},1664,0,{"$f":"MIN(J32756,'Zdrojová data'!$C$17)","v":0},0,{"$f":"L32756/'Zdrojová data'!$C$16","v":0},{"$f":"M32756*'Zdrojová data'!$C$13","v":0},{"$f":"N32756*'Zdrojová data'!$C$14","v":0},0,{"$f":"IF(H32756=0,D32756-'Výstupy modelu'!$C$7,IF(P32756=1,J32756-K32756,0))","v":0},0,null,{"$f":"MAX(0,IF(Q32756>0,Q32756-('Výstupy modelu'!$H$10-'Výstupy modelu'!$H$9),0))","v":0},null,null,1865.4300000000003,1885.4300000000003,0,{"$f":"MAX(0,D32756-'Vstupní hodnoty'!$C$5)","v":0}]
[null,"2017-12-08T13:00:00",12,1316.52,{"$f":"CEILING(IF(C32791-C32790=0,IF(H32790=0,I32790,IF(J32790>K32790,I32790,E32790)),'Výstupy modelu'!$C$7),1)","v":1664},0,0,{"$f":"IF(F32791=1,IF(G32791>'Zdrojová data'!$C$19,0,1),\"\")","v":""},1664,0,{"$f":"MIN(J32791,'Zdrojová data'!$C$17)","v":0},0,{"$f":"L32791/'Zdrojová data'!$C$16","v":0},{"$f":"M32791*'Zdrojová data'!$C$13","v":0},{"$f":"N32791*'Zdrojová data'!$C$14","v":0},0,{"$f":"IF(H32791=0,D32791-'Výstupy modelu'!$C$7,IF(P32791=1,J32791-K32791,0))","v":0},0,null,{"$f":"MAX(0,IF(Q32791>0,Q32791-('Výstupy modelu'!$H$10-'Výstupy modelu'!$H$9),0))","v":0},null,null,1865.4300000000003,1885.4300000000003,0,{"$f":"MAX(0,D32791-'Vstupní hodnoty'!$C$5)","v":0}]
[null,"2017-12-08T22:30:00",12,238.68,{"$f":"CEILING(IF(C32829-C32828=0,IF(H32828=0,I32828,IF(J32828>K32828,I32828,E32828)),'Výstupy modelu'!$C$7),1)","v":1664},0,0,{"$f":"IF(F32829=1,IF(G32829>'Zdrojová data'!$C$19,0,1),\"\")","v":""},1664,0,{"$f":"MIN(J32829,'Zdrojová data'!$C$17)","v":0},0,{"$f":"L32829/'Zdrojová data'!$C$16","v":0},{"$f":"M32829*'Zdrojová data'!$C$13","v":0},{"$f":"N32829*'Zdrojová data'!$C$14","v":0},0,{"$f":"IF(H32829=0,D32829-'Výstupy modelu'!$C$7,IF(P32829=1,J32829-K32829,0))","v":0},0,null,{"$f":"MAX(0,IF(Q32829>0,Q32829-('Výstupy modelu'!$H$10-'Výstupy modelu'!$H$9),0))","v":0},null,null,1865.4300000000003,1885.4300000000003,0,{"$f":"MAX(0,D32829-'Vstupní hodnoty'!$C$5)","v":0}]
[null,"2017-12-09T05:45:00",12,292.68,{"$f":"CEILING(IF(C32858-C32857=0,IF(H32857=0,I32857,IF(J32857>K32857,I32857,E32857)),'Výstupy modelu'!$C$7),1)","v":1664},0,0,{"$f":"IF(F32858=1,IF(G32858>'Zdrojová data'!$C$19,0,1),\"\")","v":""},1664,0,{"$f":"MIN(J32858,'Zdrojová data'!$C$17)","v":0},0,{"$f":"L32858/'Zdrojová data'!$C$16","v":0},{"$f":"M32858*'Zdrojová data'!$C$13","v":0},{"$f":"N32858*'Zdrojová data'!$C$14","v":0},0,{"$f":"IF(H32858=0,D32858-'Výstupy modelu'!$C$7,IF(P32858=1,J32858-K32858,0))","v":0},0,null,{"$f":"MAX(0,IF(Q32858>0,Q32858-('Výstupy modelu'!$H$10-'Výstupy modelu'!$H$9),0))","v":0},null,null,1865.4300000000003,1885.4300000000003,0,{"$f":"MAX(0,D32858-'Vstupní hodnoty'!$C$5)","v":0}]
[null,"2017-12-09T14:30:00",12,236.52,{"$f":"CEILING(IF(C32893-C32892=0,IF(H32892=0,I32892,IF(J32892>K32892,I32892,E32892)),'Výstupy modelu'!$C$7),1)","v":1664},0,0,{"$f":"IF(F32893=1,IF(G32893>'Zdrojová data'!$C$19,0,1),\"\")","v":""},1664,0,{"$f":"MIN(J32893,'Zdrojová data'!$C$17)","v":0},0,{"$f":"L32893/'Zdrojová data'!$C$16","v":0},{"$f":"M32893*'Zdrojová data'!$C$13","v":0},{"$f":"N32893*'Zdrojová data'!$C$14","v":0},0,{"$f":"IF(H32893=0,D32893-'Výstupy modelu'!$C$7,IF(P32893=1,J32893-K32893,0))","v":0},0,null,{"$f":"MAX(0,IF(Q32893>0,Q32893-('Výstupy modelu'!$H$10-'Výstupy modelu'!$H$9),0))","v":0},null,null,1865.4300000000003,1885.4300000000003,0,{"$f":"MAX(0,D32893-'Vstupní hodnoty'!$C$5)","v":0}]
[null,"2017-12-09T18:45:00",12,227.88000000000002,{"$f":"CEILING(IF(C32910-C32909=0,IF(H32909=0,I32909,IF(J32909>K32909,I32909,E32909)),'Výstupy modelu'!$C$7),1)","v":1664},0,0,{"$f":"IF(F32910=1,IF(G32910>'Zdrojová data'!$C$19,0,1),\"\")","v":""},1664,0,{"$f":"MIN(J32910,'Zdrojová data'!$C$17)","v":0},0,{"$f":"L32910/'Zdrojová data'!$C$16","v":0},{"$f":"M32910*'Zdrojová data'!$C$13","v":0},{"$f":"N32910*'Zdrojová data'!$C$14","v":0},0,{"$f":"IF(H32910=0,D32910-'Výstupy modelu'!$C$7,IF(P32910=1,J32910-K32910,0))","v":0},0,null,{"$f":"MAX(0,IF(Q32910>0,Q32910-('Výstupy modelu'!$H$10-'Výstupy modelu'!$H$9),0))","v":0},null,null,1865.4300000000003,1885.4300000000003,0,{"$f":"MAX(0,D32910-'Vstupní hodnoty'!$C$5)","v":0}]
[null,"2017-12-10T07:30:00",12,218.16000000000003,{"$f":"CEILING(IF(C32961-C32960=0,IF(H32960=0,I32960,IF(J32960>K32960,I32960,E32960)),'Výstupy modelu'!$C$7),1)","v":1664},0,0,{"$f":"IF(F32961=1,IF(G32961>'Zdrojová data'!$C$19,0,1),\"\")","v":""},1664,0,{"$f":"MIN(J32961,'Zdrojová data'!$C$17)","v":0},0,{"$f":"L32961/'Zdrojová data'!$C$16","v":0},{"$f":"M32961*'Zdrojová data'!$C$13","v":0},{"$f":"N32961*'Zdrojová data'!$C$14","v":0},0,{"$f":"IF(H32961=0,D32961-'Výstupy modelu'!$C$7,IF(P32961=1,J32961-K32961,0))","v":0},0,null,{"$f":"MAX(0,IF(Q32961>0,Q32961-('Výstupy modelu'!$H$10-'Výstupy modelu'!$H$9),0))","v":0},null,null,1865.4300000000003,1885.4300000000003,0,{"$f":"MAX(0,D32961-'Vstupní hodnoty'!$C$5)","v":0}]
[null,"2017-12-10T18:00:00",12,228.96,{"$f":"CEILING(IF(C33003-C33002=0,IF(H33002=0,I33002,IF(J33002>K33002,I33002,E33002)),'Výstupy modelu'!$C$7),1)","v":1664},0,0,{"$f":"IF(F33003=1,IF(G33003>'Zdrojová data'!$C$19,0,1),\"\")","v":""},1664,0,{"$f":"MIN(J33003,'Zdrojová data'!$C$17)","v":0},0,{"$f":"L33003/'Zdrojová data'!$C$16","v":0},{"$f":"M33003*'Zdrojová data'!$C$13","v":0},{"$f":"N33003*'Zdrojová data'!$C$14","v":0},0,{"$f":"IF(H33003=0,D33003-'Výstupy modelu'!$C$7,IF(P33003=1,J33003-K33003,0))","v":0},0,null,{"$f":"MAX(0,IF(Q33003>0,Q33003-('Výstupy modelu'!$H$10-'Výstupy modelu'!$H$9),0))","v":0},null,null,1865.4300000000003,1885.4300000000003,0,{"$f":"MAX(0,D33003-'Vstupní hodnoty'!$C$5)","v":0}]
[null,"2017-12-10T20:15:00",12,221.4,{"$f":"CEILING(IF(C33012-C33011=0,IF(H33011=0,I33011,IF(J33011>K33011,I33011,E33011)),'Výstupy modelu'!$C$7),1)","v":1664},0,0,{"$f":"IF(F33012=1,IF(G33012>'Zdrojová data'!$C$19,0,1),\"\")","v":""},1664,0,{"$f":"MIN(J33012,'Zdrojová data'!$C$17)","v":0},0,{"$f":"L33012/'Zdrojová data'!$C$16","v":0},{"$f":"M33012*'Zdrojová data'!$C$13","v":0},{"$f":"N33012*'Zdrojová data'!$C$14","v":0},0,{"$f":"IF(H33012=0,D33012-'Výstupy modelu'!$C$7,IF(P33012=1,J33012-K33012,0))","v":0},0,null,{"$f":"MAX(0,IF(Q33012>0,Q33012-('Výstupy modelu'!$H$10-'Výstupy modelu'!$H$9),0))","v":0},null,null,1865.4300000000003,1885.4300000000003,0,{"$f":"MAX(0,D33012-'Vstupní hodnoty'!$C$5)","v":0}]
[null,"2017-12-11T05:00:00",12,571.32000000000005,{"$f":"CEILING(IF(C33047-C33046=0,IF(H33046=0,I33046,IF(J33046>K33046,I33046,E33046)),'Výstupy modelu'!$C$7),1)","v":1664},0,0,{"$f":"IF(F33047=1,IF(G33047>'Zdrojová data'!$C$19,0,1),\"\")","v":""},1664,0,{"$f":"MIN(J33047,'Zdrojová data'!$C$17)","v":0},0,{"$f":"L33047/'Zdrojová data'!$C$16","v":0},{"$f":"M33047*'Zdrojová data'!$C$13","v":0},{"$f":"N33047*'Zdrojová data'!$C$14","v":0},0,{"$f":"IF(H33047=0,D33047-'Výstupy modelu'!$C$7,IF(P33047=1,J33047-K33047,0))","v":0},0,null,{"$f":"MAX(0,IF(Q33047>0,Q33047-('Výstupy modelu'!$H$10-'Výstupy modelu'!$H$9),0))","v":0},null,null,1865.4300000000003,1885.4300000000003,0,{"$f":"MAX(0,D33047-'Vstupní hodnoty'!$C$5)","v":0}]
[null,"2017-12-11T17:45:00",12,824.04000000000008,{"$f":"CEILING(IF(C33098-C33097=0,IF(H33097=0,I33097,IF(J33097>K33097,I33097,E33097)),'Výstupy modelu'!$C$7),1)","v":1664},0,0,{"$f":"IF(F33098=1,IF(G33098>'Zdrojová data'!$C$19,0,1),\"\")","v":""},1664,0,{"$f":"MIN(J33098,'Zdrojová data'!$C$17)","v":0},0,{"$f":"L33098/'Zdrojová data'!$C$16","v":0},{"$f":"M33098*'Zdrojová data'!$C$13","v":0},{"$f":"N33098*'Zdrojová data'!$C$14","v":0},0,{"$f":"IF(H33098=0,D33098-'Výstupy modelu'!$C$7,IF(P33098=1,J33098-K33098,0))","v":0},0,null,{"$f":"MAX(0,IF(Q33098>0,Q33098-('Výstupy modelu'!$H$10-'Výstupy modelu'!$H$9),0))","v":0},null,null,1865.4300000000003,1885.4300000000003,0,{"$f":"MAX(0,D33098-'Vstupní hodnoty'!$C$5)","v":0}]
[null,"2017-12-11T22:00:00",12,640.44000000000005,{"$f":"CEILING(IF(C33115-C33114=0,IF(H33114=0,I33114,IF(J33114>K33114,I33114,E33114)),'Výstupy modelu'!$C$7),1)","v":1664},0,0,{"$f":"IF(F33115=1,IF(G33115>'Zdrojová data'!$C$19,0,1),\"\")","v":""},1664,0,{"$f":"MIN(J33115,'Zdrojová data'!$C$17)","v":0},0,{"$f":"L33115/'Zdrojová data'!$C$16","v":0},{"$f":"M33115*'Zdrojová data'!$C$13","v":0},{"$f":"N33115*'Zdrojová data'!$C$14","v":0},0,{"$f":"IF(H33115=0,D33115-'Výstupy modelu'!$C$7,IF(P33115=1,J33115-K33115,0))","v":0},0,null,{"$f":"MAX(0,IF(Q33115>0,Q33115-('Výstupy modelu'!$H$10-'Výstupy modelu'!$H$9),0))","v":0},null,null,1865.4300000000003,1885.4300000000003,0,{"$f":"MAX(0,D33115-'Vstupní hodnoty'!$C$5)","v":0}]
[null,"2017-12-12T05:15:00",12,642.6,{"$f":"CEILING(IF(C33144-C33143=0,IF(H33143=0,I33143,IF(J33143>K33143,I33143,E33143)),'Výstupy modelu'!$C$7),1)","v":1664},0,0,{"$f":"IF(F33144=1,IF(G33144>'Zdrojová data'!$C$19,0,1),\"\")","v":""},1664,0,{"$f":"MIN(J33144,'Zdrojová data'!$C$17)","v":0},0,{"$f":"L33144/'Zdrojová data'!$C$16","v":0},{"$f":"M33144*'Zdrojová data'!$C$13","v":0},{"$f":"N33144*'Zdrojová data'!$C$14","v":0},0,{"$f":"IF(H33144=0,D33144-'Výstupy modelu'!$C$7,IF(P33144=1,J33144-K33144,0))","v":0},0,null,{"$f":"MAX(0,IF(Q33144>0,Q33144-('Výstupy modelu'!$H$10-'Výstupy modelu'!$H$9),0))","v":0},null,null,1865.4300000000003,1885.4300000000003,0,{"$f":"MAX(0,D33144-'Vstupní hodnoty'!$C$5)","v":0}]
[null,"2017-12-12T19:15:00",12,1008.72,{"$f":"CEILING(IF(C33200-C33199=0,IF(H33199=0,I33199,IF(J33199>K33199,I33199,E33199)),'Výstupy modelu'!$C$7),1)","v":1664},0,0,{"$f":"IF(F33200=1,IF(G33200>'Zdrojová data'!$C$19,0,1),\"\")","v":""},1664,0,{"$f":"MIN(J33200,'Zdrojová data'!$C$17)","v":0},0,{"$f":"L33200/'Zdrojová data'!$C$16","v":0},{"$f":"M33200*'Zdrojová data'!$C$13","v":0},{"$f":"N33200*'Zdrojová data'!$C$14","v":0},0,{"$f":"IF(H33200=0,D33200-'Výstupy modelu'!$C$7,IF(P33200=1,J33200-K33200,0))","v":0},0,null,{"$f":"MAX(0,IF(Q33200>0,Q33200-('Výstupy modelu'!$H$10-'Výstupy modelu'!$H$9),0))","v":0},null,null,1865.4300000000003,1885.4300000000003,0,{"$f":"MAX(0,D33200-'Vstupní hodnoty'!$C$5)","v":0}]
[null,"2017-12-13T04:00:00",12,541.08000000000004,{"$f":"CEILING(IF(C33235-C33234=0,IF(H33234=0,I33234,IF(J33234>K33234,I33234,E33234)),'Výstupy modelu'!$C$7),1)","v":1664},0,0,{"$f":"IF(F33235=1,IF(G33235>'Zdrojová data'!$C$19,0,1),\"\")","v":""},1664,0,{"$f":"MIN(J33235,'Zdrojová data'!$C$17)","v":0},0,{"$f":"L33235/'Zdrojová data'!$C$16","v":0},{"$f":"M33235*'Zdrojová data'!$C$13","v":0},{"$f":"N33235*'Zdrojová data'!$C$14","v":0},0,{"$f":"IF(H33235=0,D33235-'Výstupy modelu'!$C$7,IF(P33235=1,J33235-K33235,0))","v":0},0,null,{"$f":"MAX(0,IF(Q33235>0,Q33235-('Výstupy modelu'!$H$10-'Výstupy modelu'!$H$9),0))","v":0},null,null,1865.4300000000003,1885.4300000000003,0,{"$f":"MAX(0,D33235-'Vstupní hodnoty'!$C$5)","v":0}]
[null,"2017-12-13T08:15:00",12,1514.16,{"$f":"CEILING(IF(C33252-C33251=0,IF(H33251=0,I33251,IF(J33251>K33251,I33251,E33251)),'Výstupy modelu'!$C$7),1)","v":1664},0,0,{"$f":"IF(F33252=1,IF(G33252>'Zdrojová data'!$C$19,0,1),\"\")","v":""},1664,0,{"$f":"MIN(J33252,'Zdrojová data'!$C$17)","v":0},0,{"$f":"L33252/'Zdrojová data'!$C$16","v":0},{"$f":"M33252*'Zdrojová data'!$C$13","v":0},{"$f":"N33252*'Zdrojová data'!$C$14","v":0},0,{"$f":"IF(H33252=0,D33252-'Výstupy modelu'!$C$7,IF(P33252=1,J33252-K33252,0))","v":0},0,null,{"$f":"MAX(0,IF(Q33252>0,Q33252-('Výstupy modelu'!$H$10-'Výstupy modelu'!$H$9),0))","v":0},null,null,1865.4300000000003,1885.4300000000003,0,{"$f":"MAX(0,D33252-'Vstupní hodnoty'!$C$5)","v":0}]
[null,"2017-12-13T21:00:00",12,854.28000000000009,{"$f":"CEILING(IF(C33303-C33302=0,IF(H33302=0,I33302,IF(J33302>K33302,I33302,E33302)),'Výstupy modelu'!$C$7),1)","v":1664},0,0,{"$f":"IF(F33303=1,IF(G33303>'Zdrojová data'!$C$19,0,1),\"\")","v":""},1664,0,{"$f":"MIN(J33303,'Zdrojová data'!$C$17)","v":0},0,{"$f":"L33303/'Zdrojová data'!$C$16","v":0},{"$f":"M33303*'Zdrojová data'!$C$13","v":0},{"$f":"N33303*'Zdrojová data'!$C$14","v":0},0,{"$f":"IF(H33303=0,D33303-'Výstupy modelu'!$C$7,IF(P33303=1,J33303-K33303,0))","v":0},0,null,{"$f":"MAX(0,IF(Q33303>0,Q33303-('Výstupy modelu'!$H$10-'Výstupy modelu'!$H$9),0))","v":0},null,null,1865.4300000000003,1885.4300000000003,0,{"$f":"MAX(0,D33303-'Vstupní hodnoty'!$C$5)","v":0}]
[null,"2017-12-14T00:45:00",12,501.12,{"$f":"CEILING(IF(C33318-C33317=0,IF(H33317=0,I33317,IF(J33317>K33317,I33317,E33317)),'Výstupy modelu'!$C$7),1)","v":1664},0,0,{"$f":"IF(F33318=1,IF(G33318>'Zdrojová data'!$C$19,0,1),\"\")","v":""},1664,0,{"$f":"MIN(J33318,'Zdrojová data'!$C$17)","v":0},0,{"$f":"L33318/'Zdrojová data'!$C$16","v":0},{"$f":"M33318*'Zdrojová data'!$C$13","v":0},{"$f":"N33318*'Zdrojová data'!$C$14","v":0},0,{"$f":"IF(H33318=0,D33318-'Výstupy modelu'!$C$7,IF(P33318=1,J33318-K33318,0))","v":0},0,null,{"$f":"MAX(0,IF(Q33318>0,Q33318-('Výstupy modelu'!$H$10-'Výstupy modelu'!$H$9),0))","v":0},null,null,1865.4300000000003,1885.4300000000003,0,{"$f":"MAX(0,D33318-'Vstupní hodnoty'!$C$5)","v":0}]
[null,"2017-12-14T09:45:00",12,1550.88,{"$f":"CEILING(IF(C33354-C33353=0,IF(H33353=0,I33353,IF(J33353>K33353,I33353,E33353)),'Výstupy modelu'!$C$7),1)","v":1664},0,0,{"$f":"IF(F33354=1,IF(G33354>'Zdrojová data'!$C$19,0,1),\"\")","v":""},1664,0,{"$f":"MIN(J33354,'Zdrojová data'!$C$17)","v":0},0,{"$f":"L33354/'Zdrojová data'!$C$16","v":0},{"$f":"M33354*'Zdrojová data'!$C$13","v":0},{"$f":"N33354*'Zdrojová data'!$C$14","v":0},0,{"$f":"IF(H33354=0,D33354-'Výstupy modelu'!$C$7,IF(P33354=1,J33354-K33354,0))","v":0},0,null,{"$f":"MAX(0,IF(Q33354>0,Q33354-('Výstupy modelu'!$H$10-'Výstupy modelu'!$H$9),0))","v":0},null,null,1865.4300000000003,1885.4300000000003,0,{"$f":"MAX(0,D33354-'Vstupní hodnoty'!$C$5)","v":0}]
[null,"2017-12-14T22:30:00",12,353.16,{"$f":"CEILING(IF(C33405-C33404=0,IF(H33404=0,I33404,IF(J33404>K33404,I33404,E33404)),'Výstupy modelu'!$C$7),1)","v":1664},0,0,{"$f":"IF(F33405=1,IF(G33405>'Zdrojová data'!$C$19,0,1),\"\")","v":""},1664,0,{"$f":"MIN(J33405,'Zdrojová data'!$C$17)","v":0},0,{"$f":"L33405/'Zdrojová data'!$C$16","v":0},{"$f":"M33405*'Zdrojová data'!$C$13","v":0},{"$f":"N33405*'Zdrojová data'!$C$14","v":0},0,{"$f":"IF(H33405=0,D33405-'Výstupy modelu'!$C$7,IF(P33405=1,J33405-K33405,0))","v":0},0,null,{"$f":"MAX(0,IF(Q33405>0,Q33405-('Výstupy modelu'!$H$10-'Výstupy modelu'!$H$9),0))","v":0},null,null,1865.4300000000003,1885.4300000000003,0,{"$f":"MAX(0,D33405-'Vstupní hodnoty'!$C$5)","v":0}]
[null,"2017-12-15T07:15:00",12,1433.16,{"$f":"CEILING(IF(C33440-C33439=0,IF(H33439=0,I33439,IF(J33439>K33439,I33439,E33439)),'Výstupy modelu'!$C$7),1)","v":1664},0,0,{"$f":"IF(F33440=1,IF(G33440>'Zdrojová data'!$C$19,0,1),\"\")","v":""},1664,0,{"$f":"MIN(J33440,'Zdrojová data'!$C$17)","v":0},0,{"$f":"L33440/'Zdrojová data'!$C$16","v":0},{"$f":"M33440*'Zdrojová data'!$C$13","v":0},{"$f":"N33440*'Zdrojová data'!$C$14","v":0},0,{"$f":"IF(H33440=0,D33440-'Výstupy modelu'!$C$7,IF(P33440=1,J33440-K33440,0))","v":0},0,null,{"$f":"MAX(0,IF(Q33440>0,Q33440-('Výstupy modelu'!$H$10-'Výstupy modelu'!$H$9),0))","v":0},null,null,1865.4300000000003,1885.4300000000003,0,{"$f":"MAX(0,D33440-'Vstupní hodnoty'!$C$5)","v":0}]
[null,"2017-12-15T09:15:00",12,1401.8400000000001,{"$f":"CEILING(IF(C33448-C33447=0,IF(H33447=0,I33447,IF(J33447>K33447,I33447,E33447)),'Výstupy modelu'!$C$7),1)","v":1664},0,0,{"$f":"IF(F33448=1,IF(G33448>'Zdrojová data'!$C$19,0,1),\"\")","v":""},1664,0,{"$f":"MIN(J33448,'Zdrojová data'!$C$17)","v":0},0,{"$f":"L33448/'Zdrojová data'!$C$16","v":0},{"$f":"M33448*'Zdrojová data'!$C$13","v":0},{"$f":"N33448*'Zdrojová data'!$C$14","v":0},0,{"$f":"IF(H33448=0,D33448-'Výstupy modelu'!$C$7,IF(P33448=1,J33448-K33448,0))","v":0},0,null,{"$f":"MAX(0,IF(Q33448>0,Q33448-('Výstupy modelu'!$H$10-'Výstupy modelu'!$H$9),0))","v":0},null,null,1865.4300000000003,1885.4300000000003,0,{"$f":"MAX(0,D33448-'Vstupní hodnoty'!$C$5)","v":0}]
[null,"2017-12-15T20:00:00",12,754.92000000000007,{"$f":"CEILING(IF(C33491-C33490=0,IF(H33490=0,I33490,IF(J33490>K33490,I33490,E33490)),'Výstupy modelu'!$C$7),1)","v":1664},0,0,{"$f":"IF(F33491=1,IF(G33491>'Zdrojová data'!$C$19,0,1),\"\")","v":""},1664,0,{"$f":"MIN(J33491,'Zdrojová data'!$C$17)","v":0},0,{"$f":"L33491/'Zdrojová data'!$C$16","v":0},{"$f":"M33491*'Zdrojová data'!$C$13","v":0},{"$f":"N33491*'Zdrojová data'!$C$14","v":0},0,{"$f":"IF(H33491=0,D33491-'Výstupy modelu'!$C$7,IF(P33491=1,J33491-K33491,0))","v":0},0,null,{"$f":"MAX(0,IF(Q33491>0,Q33491-('Výstupy modelu'!$H$10-'Výstupy modelu'!$H$9),0))","v":0},null,null,1865.4300000000003,1885.4300000000003,0,{"$f":"MAX(0,D33491-'Vstupní hodnoty'!$C$5)","v":0}]
[null,"2017-12-16T08:45:00",12,450.36,{"$f":"CEILING(IF(C33542-C33541=0,IF(H33541=0,I33541,IF(J33541>K33541,I33541,E33541)),'Výstupy modelu'!$C$7),1)","v":1664},0,0,{"$f":"IF(F33542=1,IF(G33542>'Zdrojová data'!$C$19,0,1),\"\")","v":""},1664,0,{"$f":"MIN(J33542,'Zdrojová data'!$C$17)","v":0},0,{"$f":"L33542/'Zdrojová data'!$C$16","v":0},{"$f":"M33542*'Zdrojová data'!$C$13","v":0},{"$f":"N33542*'Zdrojová data'!$C$14","v":0},0,{"$f":"IF(H33542=0,D33542-'Výstupy modelu'!$C$7,IF(P33542=1,J33542-K33542,0))","v":0},0,null,{"$f":"MAX(0,IF(Q33542>0,Q33542-('Výstupy modelu'!$H$10-'Výstupy modelu'!$H$9),0))","v":0},null,null,1865.4300000000003,1885.4300000000003,0,{"$f":"MAX(0,D33542-'Vstupní hodnoty'!$C$5)","v":0}]
[null,"2017-12-16T13:00:00",12,319.68,{"$f":"CEILING(IF(C33559-C33558=0,IF(H33558=0,I33558,IF(J33558>K33558,I33558,E33558)),'Výstupy modelu'!$C$7),1)","v":1664},0,0,{"$f":"IF(F33559=1,IF(G33559>'Zdrojová data'!$C$19,0,1),\"\")","v":""},1664,0,{"$f":"MIN(J33559,'Zdrojová data'!$C$17)","v":0},0,{"$f":"L33559/'Zdrojová data'!$C$16","v":0},{"$f":"M33559*'Zdrojová data'!$C$13","v":0},{"$f":"N33559*'Zdrojová data'!$C$14","v":0},0,{"$f":"IF(H33559=0,D33559-'Výstupy modelu'!$C$7,IF(P33559=1,J33559-K33559,0))","v":0},0,null,{"$f":"MAX(0,IF(Q33559>0,Q33559-('Výstupy modelu'!$H$10-'Výstupy modelu'!$H$9),0))","v":0},null,null,1865.4300000000003,1885.4300000000003,0,{"$f":"MAX(0,D33559-'Vstupní hodnoty'!$C$5)","v":0}]
[null,"2017-12-16T21:45:00",12,246.24,{"$f":"CEILING(IF(C33594-C33593=0,IF(H33593=0,I33593,IF(J33593>K33593,I33593,E33593)),'Výstupy modelu'!$C$7),1)","v":1664},0,0,{"$f":"IF(F33594=1,IF(G33594>'Zdrojová data'!$C$19,0,1),\"\")","v":""},1664,0,{"$f":"MIN(J33594,'Zdrojová data'!$C$17)","v":0},0,{"$f":"L33594/'Zdrojová data'!$C$16","v":0},{"$f":"M33594*'Zdrojová data'!$C$13","v":0},{"$f":"N33594*'Zdrojová data'!$C$14","v":0},0,{"$f":"IF(H33594=0,D33594-'Výstupy modelu'!$C$7,IF(P33594=1,J33594-K33594,0))","v":0},0,null,{"$f":"MAX(0,IF(Q33594>0,Q33594-('Výstupy modelu'!$H$10-'Výstupy modelu'!$H$9),0))","v":0},null,null,1865.4300000000003,1885.4300000000003,0,{"$f":"MAX(0,D33594-'Vstupní hodnoty'!$C$5)","v":0}]
[null,"2017-12-17T04:45:00",12,234.36,{"$f":"CEILING(IF(C33622-C33621=0,IF(H33621=0,I33621,IF(J33621>K33621,I33621,E33621)),'Výstupy modelu'!$C$7),1)","v":1664},0,0,{"$f":"IF(F33622=1,IF(G33622>'Zdrojová data'!$C$19,0,1),\"\")","v":""},1664,0,{"$f":"MIN(J33622,'Zdrojová data'!$C$17)","v":0},0,{"$f":"L33622/'Zdrojová data'!$C$16","v":0},{"$f":"M33622*'Zdrojová data'!$C$13","v":0},{"$f":"N33622*'Zdrojová data'!$C$14","v":0},0,{"$f":"IF(H33622=0,D33622-'Výstupy modelu'!$C$7,IF(P33622=1,J33622-K33622,0))","v":0},0,null,{"$f":"MAX(0,IF(Q33622>0,Q33622-('Výstupy modelu'!$H$10-'Výstupy modelu'!$H$9),0))","v":0},null,null,1865.4300000000003,1885.4300000000003,0,{"$f":"MAX(0,D33622-'Vstupní hodnoty'!$C$5)","v":0}]
[null,"2017-12-17T14:30:00",12,236.52,{"$f":"CEILING(IF(C33661-C33660=0,IF(H33660=0,I33660,IF(J33660>K33660,I33660,E33660)),'Výstupy modelu'!$C$7),1)","v":1664},0,0,{"$f":"IF(F33661=1,IF(G33661>'Zdrojová data'!$C$19,0,1),\"\")","v":""},1664,0,{"$f":"MIN(J33661,'Zdrojová data'!$C$17)","v":0},0,{"$f":"L33661/'Zdrojová data'!$C$16","v":0},{"$f":"M33661*'Zdrojová data'!$C$13","v":0},{"$f":"N33661*'Zdrojová data'!$C$14","v":0},0,{"$f":"IF(H33661=0,D33661-'Výstupy modelu'!$C$7,IF(P33661=1,J33661-K33661,0))","v":0},0,null,{"$f":"MAX(0,IF(Q33661>0,Q33661-('Výstupy modelu'!$H$10-'Výstupy modelu'!$H$9),0))","v":0},null,null,1865.4300000000003,1885.4300000000003,0,{"$f":"MAX(0,D33661-'Vstupní hodnoty'!$C$5)","v":0}]
[null,"2017-12-17T23:15:00",12,354.24,{"$f":"CEILING(IF(C33696-C33695=0,IF(H33695=0,I33695,IF(J33695>K33695,I33695,E33695)),'Výstupy modelu'!$C$7),1)","v":1664},0,0,{"$f":"IF(F33696=1,IF(G33696>'Zdrojová data'!$C$19,0,1),\"\")","v":""},1664,0,{"$f":"MIN(J33696,'Zdrojová data'!$C$17)","v":0},0,{"$f":"L33696/'Zdrojová data'!$C$16","v":0},{"$f":"M33696*'Zdrojová data'!$C$13","v":0},{"$f":"N33696*'Zdrojová data'!$C$14","v":0},0,{"$f":"IF(H33696=0,D33696-'Výstupy modelu'!$C$7,IF(P33696=1,J33696-K33696,0))","v":0},0,null,{"$f":"MAX(0,IF(Q33696>0,Q33696-('Výstupy modelu'!$H$10-'Výstupy modelu'!$H$9),0))","v":0},null,null,1865.4300000000003,1885.4300000000003,0,{"$f":"MAX(0,D33696-'Vstupní hodnoty'!$C$5)","v":0}]
[null,"2017-12-18T12:00:00",12,1283.0400000000002,{"$f":"CEILING(IF(C33747-C33746=0,IF(H33746=0,I33746,IF(J33746>K33746,I33746,E33746)),'Výstupy modelu'!$C$7),1)","v":1664},0,0,{"$f":"IF(F33747=1,IF(G33747>'Zdrojová data'!$C$19,0,1),\"\")","v":""},1664,0,{"$f":"MIN(J33747,'Zdrojová data'!$C$17)","v":0},0,{"$f":"L33747/'Zdrojová data'!$C$16","v":0},{"$f":"M33747*'Zdrojová data'!$C$13","v":0},{"$f":"N33747*'Zdrojová data'!$C$14","v":0},0,{"$f":"IF(H33747=0,D33747-'Výstupy modelu'!$C$7,IF(P33747=1,J33747-K33747,0))","v":0},0,null,{"$f":"MAX(0,IF(Q33747>0,Q33747-('Výstupy modelu'!$H$10-'Výstupy modelu'!$H$9),0))","v":0},null,null,1865.4300000000003,1885.4300000000003,0,{"$f":"MAX(0,D33747-'Vstupní hodnoty'!$C$5)","v":0}]
[null,"2017-12-18T12:15:00",12,1195.5600000000002,{"$f":"CEILING(IF(C33748-C33747=0,IF(H33747=0,I33747,IF(J33747>K33747,I33747,E33747)),'Výstupy modelu'!$C$7),1)","v":1664},0,0,{"$f":"IF(F33748=1,IF(G33748>'Zdrojová data'!$C$19,0,1),\"\")","v":""},1664,0,{"$f":"MIN(J33748,'Zdrojová data'!$C$17)","v":0},0,{"$f":"L33748/'Zdrojová data'!$C$16","v":0},{"$f":"M33748*'Zdrojová data'!$C$13","v":0},{"$f":"N33748*'Zdrojová data'!$C$14","v":0},0,{"$f":"IF(H33748=0,D33748-'Výstupy modelu'!$C$7,IF(P33748=1,J33748-K33748,0))","v":0},0,null,{"$f":"MAX(0,IF(Q33748>0,Q33748-('Výstupy modelu'!$H$10-'Výstupy modelu'!$H$9),0))","v":0},null,null,1865.4300000000003,1885.4300000000003,0,{"$f":"MAX(0,D33748-'Vstupní hodnoty'!$C$5)","v":0}]
[null,"2017-12-19T00:15:00",12,545.40000000000009,{"$f":"CEILING(IF(C33796-C33795=0,IF(H33795=0,I33795,IF(J33795>K33795,I33795,E33795)),'Výstupy modelu'!$C$7),1)","v":1664},{"$f":"IF(D33796>E33796,1,0)","v":0},0,{"$f":"IF(F33796=1,IF(G33796>'Zdrojová data'!$C$19,0,1),\"\")","v":""},{"$f":"IF(H33796=0,D33796,IF(J33796>K33796,E33796+J33796-K33796,E33796))","v":1664},{"$f":"IF(H33796=1,D33796-E33796,0)","v":0},{"$f":"MIN(J33796,'Zdrojová data'!$C$17)","v":0},0,{"$f":"L33796/'Zdrojová data'!$C$16","v":0},{"$f":"M33796*'Zdrojová data'!$C$13","v":0},{"$f":"N33796*'Zdrojová data'!$C$14","v":0},0,{"$f":"IF(H33796=0,D33796-'Výstupy modelu'!$C$7,IF(P33796=1,J33796-K33796,0))","v":0},0,null,{"$f":"MAX(0,IF(Q33796>0,Q33796-('Výstupy modelu'!$H$10-'Výstupy modelu'!$H$9),0))","v":0},null,null,1865.4300000000003,1885.4300000000003,0,{"$f":"MAX(0,D33796-'Vstupní hodnoty'!$C$5)","v":0}]
[null,"2017-12-19T05:00:00",12,561.6,{"$f":"CEILING(IF(C33815-C33814=0,IF(H33814=0,I33814,IF(J33814>K33814,I33814,E33814)),'Výstupy modelu'!$C$7),1)","v":1664},0,0,{"$f":"IF(F33815=1,IF(G33815>'Zdrojová data'!$C$19,0,1),\"\")","v":""},1664,0,{"$f":"MIN(J33815,'Zdrojová data'!$C$17)","v":0},0,{"$f":"L33815/'Zdrojová data'!$C$16","v":0},{"$f":"M33815*'Zdrojová data'!$C$13","v":0},{"$f":"N33815*'Zdrojová data'!$C$14","v":0},0,{"$f":"IF(H33815=0,D33815-'Výstupy modelu'!$C$7,IF(P33815=1,J33815-K33815,0))","v":0},0,null,{"$f":"MAX(0,IF(Q33815>0,Q33815-('Výstupy modelu'!$H$10-'Výstupy modelu'!$H$9),0))","v":0},null,null,1865.4300000000003,1885.4300000000003,0,{"$f":"MAX(0,D33815-'Vstupní hodnoty'!$C$5)","v":0}]
[null,"2017-12-19T13:45:00",12,1310.0400000000002,{"$f":"CEILING(IF(C33850-C33849=0,IF(H33849=0,I33849,IF(J33849>K33849,I33849,E33849)),'Výstupy modelu'!$C$7),1)","v":1664},0,0,{"$f":"IF(F33850=1,IF(G33850>'Zdrojová data'!$C$19,0,1),\"\")","v":""},1664,0,{"$f":"MIN(J33850,'Zdrojová data'!$C$17)","v":0},0,{"$f":"L33850/'Zdrojová data'!$C$16","v":0},{"$f":"M33850*'Zdrojová data'!$C$13","v":0},{"$f":"N33850*'Zdrojová data'!$C$14","v":0},0,{"$f":"IF(H33850=0,D33850-'Výstupy modelu'!$C$7,IF(P33850=1,J33850-K33850,0))","v":0},0,null,{"$f":"MAX(0,IF(Q33850>0,Q33850-('Výstupy modelu'!$H$10-'Výstupy modelu'!$H$9),0))","v":0},null,null,1865.4300000000003,1885.4300000000003,0,{"$f":"MAX(0,D33850-'Vstupní hodnoty'!$C$5)","v":0}]
[null,"2017-12-20T02:30:00",12,586.44000000000005,{"$f":"CEILING(IF(C33901-C33900=0,IF(H33900=0,I33900,IF(J33900>K33900,I33900,E33900)),'Výstupy modelu'!$C$7),1)","v":1664},0,0,{"$f":"IF(F33901=1,IF(G33901>'Zdrojová data'!$C$19,0,1),\"\")","v":""},1664,0,{"$f":"MIN(J33901,'Zdrojová data'!$C$17)","v":0},0,{"$f":"L33901/'Zdrojová data'!$C$16","v":0},{"$f":"M33901*'Zdrojová data'!$C$13","v":0},{"$f":"N33901*'Zdrojová data'!$C$14","v":0},0,{"$f":"IF(H33901=0,D33901-'Výstupy modelu'!$C$7,IF(P33901=1,J33901-K33901,0))","v":0},0,null,{"$f":"MAX(0,IF(Q33901>0,Q33901-('Výstupy modelu'!$H$10-'Výstupy modelu'!$H$9),0))","v":0},null,null,1865.4300000000003,1885.4300000000003,0,{"$f":"MAX(0,D33901-'Vstupní hodnoty'!$C$5)","v":0}]
[null,"2017-12-20T11:15:00",12,1327.3200000000002,{"$f":"CEILING(IF(C33936-C33935=0,IF(H33935=0,I33935,IF(J33935>K33935,I33935,E33935)),'Výstupy modelu'!$C$7),1)","v":1664},0,0,{"$f":"IF(F33936=1,IF(G33936>'Zdrojová data'!$C$19,0,1),\"\")","v":""},1664,0,{"$f":"MIN(J33936,'Zdrojová data'!$C$17)","v":0},0,{"$f":"L33936/'Zdrojová data'!$C$16","v":0},{"$f":"M33936*'Zdrojová data'!$C$13","v":0},{"$f":"N33936*'Zdrojová data'!$C$14","v":0},0,{"$f":"IF(H33936=0,D33936-'Výstupy modelu'!$C$7,IF(P33936=1,J33936-K33936,0))","v":0},0,null,{"$f":"MAX(0,IF(Q33936>0,Q33936-('Výstupy modelu'!$H$10-'Výstupy modelu'!$H$9),0))","v":0},null,null,1865.4300000000003,1885.4300000000003,0,{"$f":"MAX(0,D33936-'Vstupní hodnoty'!$C$5)","v":0}]
[null,"2017-12-20T19:45:00",12,753.84,{"$f":"CEILING(IF(C33970-C33969=0,IF(H33969=0,I33969,IF(J33969>K33969,I33969,E33969)),'Výstupy modelu'!$C$7),1)","v":1664},0,0,{"$f":"IF(F33970=1,IF(G33970>'Zdrojová data'!$C$19,0,1),\"\")","v":""},1664,0,{"$f":"MIN(J33970,'Zdrojová data'!$C$17)","v":0},0,{"$f":"L33970/'Zdrojová data'!$C$16","v":0},{"$f":"M33970*'Zdrojová data'!$C$13","v":0},{"$f":"N33970*'Zdrojová data'!$C$14","v":0},0,{"$f":"IF(H33970=0,D33970-'Výstupy modelu'!$C$7,IF(P33970=1,J33970-K33970,0))","v":0},0,null,{"$f":"MAX(0,IF(Q33970>0,Q33970-('Výstupy modelu'!$H$10-'Výstupy modelu'!$H$9),0))","v":0},null,null,1865.4300000000003,1885.4300000000003,0,{"$f":"MAX(0,D33970-'Vstupní hodnoty'!$C$5)","v":0}]
[null,"2017-12-21T04:00:00",12,590.76,{"$f":"CEILING(IF(C34003-C34002=0,IF(H34002=0,I34002,IF(J34002>K34002,I34002,E34002)),'Výstupy modelu'!$C$7),1)","v":1664},0,0,{"$f":"IF(F34003=1,IF(G34003>'Zdrojová data'!$C$19,0,1),\"\")","v":""},1664,0,{"$f":"MIN(J34003,'Zdrojová data'!$C$17)","v":0},0,{"$f":"L34003/'Zdrojová data'!$C$16","v":0},{"$f":"M34003*'Zdrojová data'!$C$13","v":0},{"$f":"N34003*'Zdrojová data'!$C$14","v":0},0,{"$f":"IF(H34003=0,D34003-'Výstupy modelu'!$C$7,IF(P34003=1,J34003-K34003,0))","v":0},0,null,{"$f":"MAX(0,IF(Q34003>0,Q34003-('Výstupy modelu'!$H$10-'Výstupy modelu'!$H$9),0))","v":0},null,null,1865.4300000000003,1885.4300000000003,0,{"$f":"MAX(0,D34003-'Vstupní hodnoty'!$C$5)","v":0}]
[null,"2017-12-21T12:45:00",12,1103.76,{"$f":"CEILING(IF(C34038-C34037=0,IF(H34037=0,I34037,IF(J34037>K34037,I34037,E34037)),'Výstupy modelu'!$C$7),1)","v":1664},0,0,{"$f":"IF(F34038=1,IF(G34038>'Zdrojová data'!$C$19,0,1),\"\")","v":""},1664,0,{"$f":"MIN(J34038,'Zdrojová data'!$C$17)","v":0},0,{"$f":"L34038/'Zdrojová data'!$C$16","v":0},{"$f":"M34038*'Zdrojová data'!$C$13","v":0},{"$f":"N34038*'Zdrojová data'!$C$14","v":0},0,{"$f":"IF(H34038=0,D34038-'Výstupy modelu'!$C$7,IF(P34038=1,J34038-K34038,0))","v":0},0,null,{"$f":"MAX(0,IF(Q34038>0,Q34038-('Výstupy modelu'!$H$10-'Výstupy modelu'!$H$9),0))","v":0},null,null,1865.4300000000003,1885.4300000000003,0,{"$f":"MAX(0,D34038-'Vstupní hodnoty'!$C$5)","v":0}]
[null,"2017-12-21T17:00:00",12,790.56000000000006,{"$f":"CEILING(IF(C34055-C34054=0,IF(H34054=0,I34054,IF(J34054>K34054,I34054,E34054)),'Výstupy modelu'!$C$7),1)","v":1664},0,0,{"$f":"IF(F34055=1,IF(G34055>'Zdrojová data'!$C$19,0,1),\"\")","v":""},1664,0,{"$f":"MIN(J34055,'Zdrojová data'!$C$17)","v":0},0,{"$f":"L34055/'Zdrojová data'!$C$16","v":0},{"$f":"M34055*'Zdrojová data'!$C$13","v":0},{"$f":"N34055*'Zdrojová data'!$C$14","v":0},0,{"$f":"IF(H34055=0,D34055-'Výstupy modelu'!$C$7,IF(P34055=1,J34055-K34055,0))","v":0},0,null,{"$f":"MAX(0,IF(Q34055>0,Q34055-('Výstupy modelu'!$H$10-'Výstupy modelu'!$H$9),0))","v":0},null,null,1865.4300000000003,1885.4300000000003,0,{"$f":"MAX(0,D34055-'Vstupní hodnoty'!$C$5)","v":0}]
[null,"2017-12-22T05:45:00",12,548.64,{"$f":"CEILING(IF(C34106-C34105=0,IF(H34105=0,I34105,IF(J34105>K34105,I34105,E34105)),'Výstupy modelu'!$C$7),1)","v":1664},0,0,{"$f":"IF(F34106=1,IF(G34106>'Zdrojová data'!$C$19,0,1),\"\")","v":""},1664,0,{"$f":"MIN(J34106,'Zdrojová data'!$C$17)","v":0},0,{"$f":"L34106/'Zdrojová data'!$C$16","v":0},{"$f":"M34106*'Zdrojová data'!$C$13","v":0},{"$f":"N34106*'Zdrojová data'!$C$14","v":0},0,{"$f":"IF(H34106=0,D34106-'Výstupy modelu'!$C$7,IF(P34106=1,J34106-K34106,0))","v":0},0,null,{"$f":"MAX(0,IF(Q34106>0,Q34106-('Výstupy modelu'!$H$10-'Výstupy modelu'!$H$9),0))","v":0},null,null,1865.4300000000003,1885.4300000000003,0,{"$f":"MAX(0,D34106-'Vstupní hodnoty'!$C$5)","v":0}]
[null,"2017-12-22T15:15:00",12,146.88,{"$f":"CEILING(IF(C34144-C34143=0,IF(H34143=0,I34143,IF(J34143>K34143,I34143,E34143)),'Výstupy modelu'!$C$7),1)","v":1664},0,0,{"$f":"IF(F34144=1,IF(G34144>'Zdrojová data'!$C$19,0,1),\"\")","v":""},1664,0,{"$f":"MIN(J34144,'Zdrojová data'!$C$17)","v":0},0,{"$f":"L34144/'Zdrojová data'!$C$16","v":0},{"$f":"M34144*'Zdrojová data'!$C$13","v":0},{"$f":"N34144*'Zdrojová data'!$C$14","v":0},0,{"$f":"IF(H34144=0,D34144-'Výstupy modelu'!$C$7,IF(P34144=1,J34144-K34144,0))","v":0},0,null,{"$f":"MAX(0,IF(Q34144>0,Q34144-('Výstupy modelu'!$H$10-'Výstupy modelu'!$H$9),0))","v":0},null,null,1865.4300000000003,1885.4300000000003,0,{"$f":"MAX(0,D34144-'Vstupní hodnoty'!$C$5)","v":0}]
[null,"2017-12-22T18:30:00",12,147.96,{"$f":"CEILING(IF(C34157-C34156=0,IF(H34156=0,I34156,IF(J34156>K34156,I34156,E34156)),'Výstupy modelu'!$C$7),1)","v":1664},0,0,{"$f":"IF(F34157=1,IF(G34157>'Zdrojová data'!$C$19,0,1),\"\")","v":""},1664,0,{"$f":"MIN(J34157,'Zdrojová data'!$C$17)","v":0},0,{"$f":"L34157/'Zdrojová data'!$C$16","v":0},{"$f":"M34157*'Zdrojová data'!$C$13","v":0},{"$f":"N34157*'Zdrojová data'!$C$14","v":0},0,{"$f":"IF(H34157=0,D34157-'Výstupy modelu'!$C$7,IF(P34157=1,J34157-K34157,0))","v":0},0,null,{"$f":"MAX(0,IF(Q34157>0,Q34157-('Výstupy modelu'!$H$10-'Výstupy modelu'!$H$9),0))","v":0},null,null,1865.4300000000003,1885.4300000000003,0,{"$f":"MAX(0,D34157-'Vstupní hodnoty'!$C$5)","v":0}]
[null,"2017-12-23T03:15:00",12,149.04000000000002,{"$f":"CEILING(IF(C34192-C34191=0,IF(H34191=0,I34191,IF(J34191>K34191,I34191,E34191)),'Výstupy modelu'!$C$7),1)","v":1664},0,0,{"$f":"IF(F34192=1,IF(G34192>'Zdrojová data'!$C$19,0,1),\"\")","v":""},1664,0,{"$f":"MIN(J34192,'Zdrojová data'!$C$17)","v":0},0,{"$f":"L34192/'Zdrojová data'!$C$16","v":0},{"$f":"M34192*'Zdrojová data'!$C$13","v":0},{"$f":"N34192*'Zdrojová data'!$C$14","v":0},0,{"$f":"IF(H34192=0,D34192-'Výstupy modelu'!$C$7,IF(P34192=1,J34192-K34192,0))","v":0},0,null,{"$f":"MAX(0,IF(Q34192>0,Q34192-('Výstupy modelu'!$H$10-'Výstupy modelu'!$H$9),0))","v":0},null,null,1865.4300000000003,1885.4300000000003,0,{"$f":"MAX(0,D34192-'Vstupní hodnoty'!$C$5)","v":0}]
[null,"2017-12-23T16:00:00",12,136.08000000000001,{"$f":"CEILING(IF(C34243-C34242=0,IF(H34242=0,I34242,IF(J34242>K34242,I34242,E34242)),'Výstupy modelu'!$C$7),1)","v":1664},0,0,{"$f":"IF(F34243=1,IF(G34243>'Zdrojová data'!$C$19,0,1),\"\")","v":""},1664,0,{"$f":"MIN(J34243,'Zdrojová data'!$C$17)","v":0},0,{"$f":"L34243/'Zdrojová data'!$C$16","v":0},{"$f":"M34243*'Zdrojová data'!$C$13","v":0},{"$f":"N34243*'Zdrojová data'!$C$14","v":0},0,{"$f":"IF(H34243=0,D34243-'Výstupy modelu'!$C$7,IF(P34243=1,J34243-K34243,0))","v":0},0,null,{"$f":"MAX(0,IF(Q34243>0,Q34243-('Výstupy modelu'!$H$10-'Výstupy modelu'!$H$9),0))","v":0},null,null,1865.4300000000003,1885.4300000000003,0,{"$f":"MAX(0,D34243-'Vstupní hodnoty'!$C$5)","v":0}]
[null,"2017-12-23T20:15:00",12,138.24,{"$f":"CEILING(IF(C34260-C34259=0,IF(H34259=0,I34259,IF(J34259>K34259,I34259,E34259)),'Výstupy modelu'!$C$7),1)","v":1664},0,0,{"$f":"IF(F34260=1,IF(G34260>'Zdrojová data'!$C$19,0,1),\"\")","v":""},1664,0,{"$f":"MIN(J34260,'Zdrojová data'!$C$17)","v":0},0,{"$f":"L34260/'Zdrojová data'!$C$16","v":0},{"$f":"M34260*'Zdrojová data'!$C$13","v":0},{"$f":"N34260*'Zdrojová data'!$C$14","v":0},0,{"$f":"IF(H34260=0,D34260-'Výstupy modelu'!$C$7,IF(P34260=1,J34260-K34260,0))","v":0},0,null,{"$f":"MAX(0,IF(Q34260>0,Q34260-('Výstupy modelu'!$H$10-'Výstupy modelu'!$H$9),0))","v":0},null,null,1865.4300000000003,1885.4300000000003,0,{"$f":"MAX(0,D34260-'Vstupní hodnoty'!$C$5)","v":0}]
[null,"2017-12-24T10:45:00",12,152.28,{"$f":"CEILING(IF(C34318-C34317=0,IF(H34317=0,I34317,IF(J34317>K34317,I34317,E34317)),'Výstupy modelu'!$C$7),1)","v":1664},0,0,{"$f":"IF(F34318=1,IF(G34318>'Zdrojová data'!$C$19,0,1),\"\")","v":""},1664,0,{"$f":"MIN(J34318,'Zdrojová data'!$C$17)","v":0},0,{"$f":"L34318/'Zdrojová data'!$C$16","v":0},{"$f":"M34318*'Zdrojová data'!$C$13","v":0},{"$f":"N34318*'Zdrojová data'!$C$14","v":0},0,{"$f":"IF(H34318=0,D34318-'Výstupy modelu'!$C$7,IF(P34318=1,J34318-K34318,0))","v":0},0,null,{"$f":"MAX(0,IF(Q34318>0,Q34318-('Výstupy modelu'!$H$10-'Výstupy modelu'!$H$9),0))","v":0},null,null,1865.4300000000003,1885.4300000000003,0,{"$f":"MAX(0,D34318-'Vstupní hodnoty'!$C$5)","v":0}]
[null,"2017-12-24T17:30:00",12,139.32000000000002,{"$f":"CEILING(IF(C34345-C34344=0,IF(H34344=0,I34344,IF(J34344>K34344,I34344,E34344)),'Výstupy modelu'!$C$7),1)","v":1664},0,0,{"$f":"IF(F34345=1,IF(G34345>'Zdrojová data'!$C$19,0,1),\"\")","v":""},1664,0,{"$f":"MIN(J34345,'Zdrojová data'!$C$17)","v":0},0,{"$f":"L34345/'Zdrojová data'!$C$16","v":0},{"$f":"M34345*'Zdrojová data'!$C$13","v":0},{"$f":"N34345*'Zdrojová data'!$C$14","v":0},0,{"$f":"IF(H34345=0,D34345-'Výstupy modelu'!$C$7,IF(P34345=1,J34345-K34345,0))","v":0},0,null,{"$f":"MAX(0,IF(Q34345>0,Q34345-('Výstupy modelu'!$H$10-'Výstupy modelu'!$H$9),0))","v":0},null,null,1865.4300000000003,1885.4300000000003,0,{"$f":"MAX(0,D34345-'Vstupní hodnoty'!$C$5)","v":0}]
[null,"2017-12-25T02:15:00",12,150.12,{"$f":"CEILING(IF(C34380-C34379=0,IF(H34379=0,I34379,IF(J34379>K34379,I34379,E34379)),'Výstupy modelu'!$C$7),1)","v":1664},0,0,{"$f":"IF(F34380=1,IF(G34380>'Zdrojová data'!$C$19,0,1),\"\")","v":""},1664,0,{"$f":"MIN(J34380,'Zdrojová data'!$C$17)","v":0},0,{"$f":"L34380/'Zdrojová data'!$C$16","v":0},{"$f":"M34380*'Zdrojová data'!$C$13","v":0},{"$f":"N34380*'Zdrojová data'!$C$14","v":0},0,{"$f":"IF(H34380=0,D34380-'Výstupy modelu'!$C$7,IF(P34380=1,J34380-K34380,0))","v":0},0,null,{"$f":"MAX(0,IF(Q34380>0,Q34380-('Výstupy modelu'!$H$10-'Výstupy modelu'!$H$9),0))","v":0},null,null,1865.4300000000003,1885.4300000000003,0,{"$f":"MAX(0,D34380-'Vstupní hodnoty'!$C$5)","v":0}]
[null,"2017-12-25T06:30:00",12,147.96,{"$f":"CEILING(IF(C34397-C34396=0,IF(H34396=0,I34396,IF(J34396>K34396,I34396,E34396)),'Výstupy modelu'!$C$7),1)","v":1664},0,0,{"$f":"IF(F34397=1,IF(G34397>'Zdrojová data'!$C$19,0,1),\"\")","v":""},1664,0,{"$f":"MIN(J34397,'Zdrojová data'!$C$17)","v":0},0,{"$f":"L34397/'Zdrojová data'!$C$16","v":0},{"$f":"M34397*'Zdrojová data'!$C$13","v":0},{"$f":"N34397*'Zdrojová data'!$C$14","v":0},0,{"$f":"IF(H34397=0,D34397-'Výstupy modelu'!$C$7,IF(P34397=1,J34397-K34397,0))","v":0},0,null,{"$f":"MAX(0,IF(Q34397>0,Q34397-('Výstupy modelu'!$H$10-'Výstupy modelu'!$H$9),0))","v":0},null,null,1865.4300000000003,1885.4300000000003,0,{"$f":"MAX(0,D34397-'Vstupní hodnoty'!$C$5)","v":0}]
[null,"2017-12-25T19:15:00",12,158.76000000000002,{"$f":"CEILING(IF(C34448-C34447=0,IF(H34447=0,I34447,IF(J34447>K34447,I34447,E34447)),'Výstupy modelu'!$C$7),1)","v":1664},0,0,{"$f":"IF(F34448=1,IF(G34448>'Zdrojová data'!$C$19,0,1),\"\")","v":""},1664,0,{"$f":"MIN(J34448,'Zdrojová data'!$C$17)","v":0},0,{"$f":"L34448/'Zdrojová data'!$C$16","v":0},{"$f":"M34448*'Zdrojová data'!$C$13","v":0},{"$f":"N34448*'Zdrojová data'!$C$14","v":0},0,{"$f":"IF(H34448=0,D34448-'Výstupy modelu'!$C$7,IF(P34448=1,J34448-K34448,0))","v":0},0,null,{"$f":"MAX(0,IF(Q34448>0,Q34448-('Výstupy modelu'!$H$10-'Výstupy modelu'!$H$9),0))","v":0},null,null,1865.4300000000003,1885.4300000000003,0,{"$f":"MAX(0,D34448-'Vstupní hodnoty'!$C$5)","v":0}]
[null,"2017-12-25T22:00:00",12,155.52000000000001,{"$f":"CEILING(IF(C34459-C34458=0,IF(H34458=0,I34458,IF(J34458>K34458,I34458,E34458)),'Výstupy modelu'!$C$7),1)","v":1664},0,0,{"$f":"IF(F34459=1,IF(G34459>'Zdrojová data'!$C$19,0,1),\"\")","v":""},1664,0,{"$f":"MIN(J34459,'Zdrojová data'!$C$17)","v":0},0,{"$f":"L34459/'Zdrojová data'!$C$16","v":0},{"$f":"M34459*'Zdrojová data'!$C$13","v":0},{"$f":"N34459*'Zdrojová data'!$C$14","v":0},0,{"$f":"IF(H34459=0,D34459-'Výstupy modelu'!$C$7,IF(P34459=1,J34459-K34459,0))","v":0},0,null,{"$f":"MAX(0,IF(Q34459>0,Q34459-('Výstupy modelu'!$H$10-'Výstupy modelu'!$H$9),0))","v":0},null,null,1865.4300000000003,1885.4300000000003,0,{"$f":"MAX(0,D34459-'Vstupní hodnoty'!$C$5)","v":0}]
[null,"2017-12-26T08:00:00",12,154.44,{"$f":"CEILING(IF(C34499-C34498=0,IF(H34498=0,I34498,IF(J34498>K34498,I34498,E34498)),'Výstupy modelu'!$C$7),1)","v":1664},0,0,{"$f":"IF(F34499=1,IF(G34499>'Zdrojová data'!$C$19,0,1),\"\")","v":""},1664,0,{"$f":"MIN(J34499,'Zdrojová data'!$C$17)","v":0},0,{"$f":"L34499/'Zdrojová data'!$C$16","v":0},{"$f":"M34499*'Zdrojová data'!$C$13","v":0},{"$f":"N34499*'Zdrojová data'!$C$14","v":0},0,{"$f":"IF(H34499=0,D34499-'Výstupy modelu'!$C$7,IF(P34499=1,J34499-K34499,0))","v":0},0,null,{"$f":"MAX(0,IF(Q34499>0,Q34499-('Výstupy modelu'!$H$10-'Výstupy modelu'!$H$9),0))","v":0},null,null,{"$f":"W34498","v":1865.4300000000003},1885.4300000000003,0,{"$f":"MAX(0,D34499-'Vstupní hodnoty'!$C$5)","v":0}]
[null,"2017-12-26T20:45:00",12,156.60000000000002,{"$f":"CEILING(IF(C34550-C34549=0,IF(H34549=0,I34549,IF(J34549>K34549,I34549,E34549)),'Výstupy modelu'!$C$7),1)","v":1664},0,0,{"$f":"IF(F34550=1,IF(G34550>'Zdrojová data'!$C$19,0,1),\"\")","v":""},1664,0,{"$f":"MIN(J34550,'Zdrojová data'!$C$17)","v":0},0,{"$f":"L34550/'Zdrojová data'!$C$16","v":0},{"$f":"M34550*'Zdrojová data'!$C$13","v":0},{"$f":"N34550*'Zdrojová data'!$C$14","v":0},0,{"$f":"IF(H34550=0,D34550-'Výstupy modelu'!$C$7,IF(P34550=1,J34550-K34550,0))","v":0},0,null,{"$f":"MAX(0,IF(Q34550>0,Q34550-('Výstupy modelu'!$H$10-'Výstupy modelu'!$H$9),0))","v":0},null,null,1865.4300000000003,1885.4300000000003,0,{"$f":"MAX(0,D34550-'Vstupní hodnoty'!$C$5)","v":0}]
[null,"2017-12-27T05:30:00",12,198.72000000000003,{"$f":"CEILING(IF(C34585-C34584=0,IF(H34584=0,I34584,IF(J34584>K34584,I34584,E34584)),'Výstupy modelu'!$C$7),1)","v":1664},0,0,{"$f":"IF(F34585=1,IF(G34585>'Zdrojová data'!$C$19,0,1),\"\")","v":""},1664,0,{"$f":"MIN(J34585,'Zdrojová data'!$C$17)","v":0},0,{"$f":"L34585/'Zdrojová data'!$C$16","v":0},{"$f":"M34585*'Zdrojová data'!$C$13","v":0},{"$f":"N34585*'Zdrojová data'!$C$14","v":0},0,{"$f":"IF(H34585=0,D34585-'Výstupy modelu'!$C$7,IF(P34585=1,J34585-K34585,0))","v":0},0,null,{"$f":"MAX(0,IF(Q34585>0,Q34585-('Výstupy modelu'!$H$10-'Výstupy modelu'!$H$9),0))","v":0},null,null,1865.4300000000003,1885.4300000000003,0,{"$f":"MAX(0,D34585-'Vstupní hodnoty'!$C$5)","v":0}]
[null,"2017-12-27T09:45:00",12,149.04000000000002,{"$f":"CEILING(IF(C34602-C34601=0,IF(H34601=0,I34601,IF(J34601>K34601,I34601,E34601)),'Výstupy modelu'!$C$7),1)","v":1664},0,0,{"$f":"IF(F34602=1,IF(G34602>'Zdrojová data'!$C$19,0,1),\"\")","v":""},1664,0,{"$f":"MIN(J34602,'Zdrojová data'!$C$17)","v":0},0,{"$f":"L34602/'Zdrojová data'!$C$16","v":0},{"$f":"M34602*'Zdrojová data'!$C$13","v":0},{"$f":"N34602*'Zdrojová data'!$C$14","v":0},0,{"$f":"IF(H34602=0,D34602-'Výstupy modelu'!$C$7,IF(P34602=1,J34602-K34602,0))","v":0},0,null,{"$f":"MAX(0,IF(Q34602>0,Q34602-('Výstupy modelu'!$H$10-'Výstupy modelu'!$H$9),0))","v":0},null,null,1865.4300000000003,1885.4300000000003,0,{"$f":"MAX(0,D34602-'Vstupní hodnoty'!$C$5)","v":0}]
[null,"2017-12-27T17:30:00",12,158.76000000000002,{"$f":"CEILING(IF(C34633-C34632=0,IF(H34632=0,I34632,IF(J34632>K34632,I34632,E34632)),'Výstupy modelu'!$C$7),1)","v":1664},0,0,{"$f":"IF(F34633=1,IF(G34633>'Zdrojová data'!$C$19,0,1),\"\")","v":""},1664,0,{"$f":"MIN(J34633,'Zdrojová data'!$C$17)","v":0},0,{"$f":"L34633/'Zdrojová data'!$C$16","v":0},{"$f":"M34633*'Zdrojová data'!$C$13","v":0},{"$f":"N34633*'Zdrojová data'!$C$14","v":0},0,{"$f":"IF(H34633=0,D34633-'Výstupy modelu'!$C$7,IF(P34633=1,J34633-K34633,0))","v":0},0,null,{"$f":"MAX(0,IF(Q34633>0,Q34633-('Výstupy modelu'!$H$10-'Výstupy modelu'!$H$9),0))","v":0},null,null,1865.4300000000003,1885.4300000000003,0,{"$f":"MAX(0,D34633-'Vstupní hodnoty'!$C$5)","v":0}]
[null,"2017-12-28T07:00:00",12,186.84,{"$f":"CEILING(IF(C34687-C34686=0,IF(H34686=0,I34686,IF(J34686>K34686,I34686,E34686)),'Výstupy modelu'!$C$7),1)","v":1664},0,0,{"$f":"IF(F34687=1,IF(G34687>'Zdrojová data'!$C$19,0,1),\"\")","v":""},1664,0,{"$f":"MIN(J34687,'Zdrojová data'!$C$17)","v":0},0,{"$f":"L34687/'Zdrojová data'!$C$16","v":0},{"$f":"M34687*'Zdrojová data'!$C$13","v":0},{"$f":"N34687*'Zdrojová data'!$C$14","v":0},0,{"$f":"IF(H34687=0,D34687-'Výstupy modelu'!$C$7,IF(P34687=1,J34687-K34687,0))","v":0},0,null,{"$f":"MAX(0,IF(Q34687>0,Q34687-('Výstupy modelu'!$H$10-'Výstupy modelu'!$H$9),0))","v":0},null,null,1865.4300000000003,1885.4300000000003,0,{"$f":"MAX(0,D34687-'Vstupní hodnoty'!$C$5)","v":0}]
[null,"2017-12-28T11:15:00",12,172.8,{"$f":"CEILING(IF(C34704-C34703=0,IF(H34703=0,I34703,IF(J34703>K34703,I34703,E34703)),'Výstupy modelu'!$C$7),1)","v":1664},0,0,{"$f":"IF(F34704=1,IF(G34704>'Zdrojová data'!$C$19,0,1),\"\")","v":""},1664,0,{"$f":"MIN(J34704,'Zdrojová data'!$C$17)","v":0},0,{"$f":"L34704/'Zdrojová data'!$C$16","v":0},{"$f":"M34704*'Zdrojová data'!$C$13","v":0},{"$f":"N34704*'Zdrojová data'!$C$14","v":0},0,{"$f":"IF(H34704=0,D34704-'Výstupy modelu'!$C$7,IF(P34704=1,J34704-K34704,0))","v":0},0,null,{"$f":"MAX(0,IF(Q34704>0,Q34704-('Výstupy modelu'!$H$10-'Výstupy modelu'!$H$9),0))","v":0},null,null,1865.4300000000003,1885.4300000000003,0,{"$f":"MAX(0,D34704-'Vstupní hodnoty'!$C$5)","v":0}]
[null,"2017-12-28T20:00:00",12,179.28,{"$f":"CEILING(IF(C34739-C34738=0,IF(H34738=0,I34738,IF(J34738>K34738,I34738,E34738)),'Výstupy modelu'!$C$7),1)","v":1664},0,0,{"$f":"IF(F34739=1,IF(G34739>'Zdrojová data'!$C$19,0,1),\"\")","v":""},1664,0,{"$f":"MIN(J34739,'Zdrojová data'!$C$17)","v":0},0,{"$f":"L34739/'Zdrojová data'!$C$16","v":0},{"$f":"M34739*'Zdrojová data'!$C$13","v":0},{"$f":"N34739*'Zdrojová data'!$C$14","v":0},0,{"$f":"IF(H34739=0,D34739-'Výstupy modelu'!$C$7,IF(P34739=1,J34739-K34739,0))","v":0},0,null,{"$f":"MAX(0,IF(Q34739>0,Q34739-('Výstupy modelu'!$H$10-'Výstupy modelu'!$H$9),0))","v":0},null,null,1865.4300000000003,1885.4300000000003,0,{"$f":"MAX(0,D34739-'Vstupní hodnoty'!$C$5)","v":0}]
[null,"2017-12-29T08:45:00",12,158.76000000000002,{"$f":"CEILING(IF(C34790-C34789=0,IF(H34789=0,I34789,IF(J34789>K34789,I34789,E34789)),'Výstupy modelu'!$C$7),1)","v":1664},0,0,{"$f":"IF(F34790=1,IF(G34790>'Zdrojová data'!$C$19,0,1),\"\")","v":""},1664,0,{"$f":"MIN(J34790,'Zdrojová data'!$C$17)","v":0},0,{"$f":"L34790/'Zdrojová data'!$C$16","v":0},{"$f":"M34790*'Zdrojová data'!$C$13","v":0},{"$f":"N34790*'Zdrojová data'!$C$14","v":0},0,{"$f":"IF(H34790=0,D34790-'Výstupy modelu'!$C$7,IF(P34790=1,J34790-K34790,0))","v":0},0,null,{"$f":"MAX(0,IF(Q34790>0,Q34790-('Výstupy modelu'!$H$10-'Výstupy modelu'!$H$9),0))","v":0},null,null,1865.4300000000003,1885.4300000000003,0,{"$f":"MAX(0,D34790-'Vstupní hodnoty'!$C$5)","v":0}]
[null,"2017-12-29T10:15:00",12,171.72,{"$f":"CEILING(IF(C34796-C34795=0,IF(H34795=0,I34795,IF(J34795>K34795,I34795,E34795)),'Výstupy modelu'!$C$7),1)","v":1664},0,0,{"$f":"IF(F34796=1,IF(G34796>'Zdrojová data'!$C$19,0,1),\"\")","v":""},1664,0,{"$f":"MIN(J34796,'Zdrojová data'!$C$17)","v":0},0,{"$f":"L34796/'Zdrojová data'!$C$16","v":0},{"$f":"M34796*'Zdrojová data'!$C$13","v":0},{"$f":"N34796*'Zdrojová data'!$C$14","v":0},0,{"$f":"IF(H34796=0,D34796-'Výstupy modelu'!$C$7,IF(P34796=1,J34796-K34796,0))","v":0},0,null,{"$f":"MAX(0,IF(Q34796>0,Q34796-('Výstupy modelu'!$H$10-'Výstupy modelu'!$H$9),0))","v":0},null,null,1865.4300000000003,1885.4300000000003,0,{"$f":"MAX(0,D34796-'Vstupní hodnoty'!$C$5)","v":0}]
[null,"2017-12-29T10:30:00",12,169.56,{"$f":"CEILING(IF(C34797-C34796=0,IF(H34796=0,I34796,IF(J34796>K34796,I34796,E34796)),'Výstupy modelu'!$C$7),1)","v":1664},0,0,{"$f":"IF(F34797=1,IF(G34797>'Zdrojová data'!$C$19,0,1),\"\")","v":""},1664,0,{"$f":"MIN(J34797,'Zdrojová data'!$C$17)","v":0},0,{"$f":"L34797/'Zdrojová data'!$C$16","v":0},{"$f":"M34797*'Zdrojová data'!$C$13","v":0},{"$f":"N34797*'Zdrojová data'!$C$14","v":0},0,{"$f":"IF(H34797=0,D34797-'Výstupy modelu'!$C$7,IF(P34797=1,J34797-K34797,0))","v":0},0,null,{"$f":"MAX(0,IF(Q34797>0,Q34797-('Výstupy modelu'!$H$10-'Výstupy modelu'!$H$9),0))","v":0},null,null,1865.4300000000003,1885.4300000000003,0,{"$f":"MAX(0,D34797-'Vstupní hodnoty'!$C$5)","v":0}]
[null,"2017-12-29T10:45:00",12,170.64000000000001,{"$f":"CEILING(IF(C34798-C34797=0,IF(H34797=0,I34797,IF(J34797>K34797,I34797,E34797)),'Výstupy modelu'!$C$7),1)","v":1664},0,0,{"$f":"IF(F34798=1,IF(G34798>'Zdrojová data'!$C$19,0,1),\"\")","v":""},1664,0,{"$f":"MIN(J34798,'Zdrojová data'!$C$17)","v":0},0,{"$f":"L34798/'Zdrojová data'!$C$16","v":0},{"$f":"M34798*'Zdrojová data'!$C$13","v":0},{"$f":"N34798*'Zdrojová data'!$C$14","v":0},0,{"$f":"IF(H34798=0,D34798-'Výstupy modelu'!$C$7,IF(P34798=1,J34798-K34798,0))","v":0},0,null,{"$f":"MAX(0,IF(Q34798>0,Q34798-('Výstupy modelu'!$H$10-'Výstupy modelu'!$H$9),0))","v":0},null,null,1865.4300000000003,1885.4300000000003,0,{"$f":"MAX(0,D34798-'Vstupní hodnoty'!$C$5)","v":0}]
[null,"2017-12-29T11:00:00",12,165.24,{"$f":"CEILING(IF(C34799-C34798=0,IF(H34798=0,I34798,IF(J34798>K34798,I34798,E34798)),'Výstupy modelu'!$C$7),1)","v":1664},0,0,{"$f":"IF(F34799=1,IF(G34799>'Zdrojová data'!$C$19,0,1),\"\")","v":""},1664,0,{"$f":"MIN(J34799,'Zdrojová data'!$C$17)","v":0},0,{"$f":"L34799/'Zdrojová data'!$C$16","v":0},{"$f":"M34799*'Zdrojová data'!$C$13","v":0},{"$f":"N34799*'Zdrojová data'!$C$14","v":0},0,{"$f":"IF(H34799=0,D34799-'Výstupy modelu'!$C$7,IF(P34799=1,J34799-K34799,0))","v":0},0,null,{"$f":"MAX(0,IF(Q34799>0,Q34799-('Výstupy modelu'!$H$10-'Výstupy modelu'!$H$9),0))","v":0},null,null,1865.4300000000003,1885.4300000000003,0,{"$f":"MAX(0,D34799-'Vstupní hodnoty'!$C$5)","v":0}]
[null,"2017-12-29T11:15:00",12,178.20000000000002,{"$f":"CEILING(IF(C34800-C34799=0,IF(H34799=0,I34799,IF(J34799>K34799,I34799,E34799)),'Výstupy modelu'!$C$7),1)","v":1664},0,0,{"$f":"IF(F34800=1,IF(G34800>'Zdrojová data'!$C$19,0,1),\"\")","v":""},1664,0,{"$f":"MIN(J34800,'Zdrojová data'!$C$17)","v":0},0,{"$f":"L34800/'Zdrojová data'!$C$16","v":0},{"$f":"M34800*'Zdrojová data'!$C$13","v":0},{"$f":"N34800*'Zdrojová data'!$C$14","v":0},0,{"$f":"IF(H34800=0,D34800-'Výstupy modelu'!$C$7,IF(P34800=1,J34800-K34800,0))","v":0},0,null,{"$f":"MAX(0,IF(Q34800>0,Q34800-('Výstupy modelu'!$H$10-'Výstupy modelu'!$H$9),0))","v":0},null,null,1865.4300000000003,1885.4300000000003,0,{"$f":"MAX(0,D34800-'Vstupní hodnoty'!$C$5)","v":0}]
[null,"2017-12-29T11:30:00",12,194.4,{"$f":"CEILING(IF(C34801-C34800=0,IF(H34800=0,I34800,IF(J34800>K34800,I34800,E34800)),'Výstupy modelu'!$C$7),1)","v":1664},0,0,{"$f":"IF(F34801=1,IF(G34801>'Zdrojová data'!$C$19,0,1),\"\")","v":""},1664,0,{"$f":"MIN(J34801,'Zdrojová data'!$C$17)","v":0},0,{"$f":"L34801/'Zdrojová data'!$C$16","v":0},{"$f":"M34801*'Zdrojová data'!$C$13","v":0},{"$f":"N34801*'Zdrojová data'!$C$14","v":0},0,{"$f":"IF(H34801=0,D34801-'Výstupy modelu'!$C$7,IF(P34801=1,J34801-K34801,0))","v":0},0,null,{"$f":"MAX(0,IF(Q34801>0,Q34801-('Výstupy modelu'!$H$10-'Výstupy modelu'!$H$9),0))","v":0},null,null,1865.4300000000003,1885.4300000000003,{"$f":"MAX(0,D34801-W34801)","v":0},{"$f":"MAX(0,D34801-'Vstupní hodnoty'!$C$5)","v":0}]
[null,"2017-12-29T11:45:00",12,180.36,{"$f":"CEILING(IF(C34802-C34801=0,IF(H34801=0,I34801,IF(J34801>K34801,I34801,E34801)),'Výstupy modelu'!$C$7),1)","v":1664},0,0,{"$f":"IF(F34802=1,IF(G34802>'Zdrojová data'!$C$19,0,1),\"\")","v":""},1664,0,{"$f":"MIN(J34802,'Zdrojová data'!$C$17)","v":0},0,{"$f":"L34802/'Zdrojová data'!$C$16","v":0},{"$f":"M34802*'Zdrojová data'!$C$13","v":0},{"$f":"N34802*'Zdrojová data'!$C$14","v":0},0,{"$f":"IF(H34802=0,D34802-'Výstupy modelu'!$C$7,IF(P34802=1,J34802-K34802,0))","v":0},0,null,{"$f":"MAX(0,IF(Q34802>0,Q34802-('Výstupy modelu'!$H$10-'Výstupy modelu'!$H$9),0))","v":0},null,null,1865.4300000000003,1885.4300000000003,0,{"$f":"MAX(0,D34802-'Vstupní hodnoty'!$C$5)","v":0}]
[null,"2017-12-29T12:00:00",12,173.88000000000002,{"$f":"CEILING(IF(C34803-C34802=0,IF(H34802=0,I34802,IF(J34802>K34802,I34802,E34802)),'Výstupy modelu'!$C$7),1)","v":1664},0,0,{"$f":"IF(F34803=1,IF(G34803>'Zdrojová data'!$C$19,0,1),\"\")","v":""},1664,0,{"$f":"MIN(J34803,'Zdrojová data'!$C$17)","v":0},0,{"$f":"L34803/'Zdrojová data'!$C$16","v":0},{"$f":"M34803*'Zdrojová data'!$C$13","v":0},{"$f":"N34803*'Zdrojová data'!$C$14","v":0},0,{"$f":"IF(H34803=0,D34803-'Výstupy modelu'!$C$7,IF(P34803=1,J34803-K34803,0))","v":0},0,null,{"$f":"MAX(0,IF(Q34803>0,Q34803-('Výstupy modelu'!$H$10-'Výstupy modelu'!$H$9),0))","v":0},null,null,1865.4300000000003,1885.4300000000003,0,{"$f":"MAX(0,D34803-'Vstupní hodnoty'!$C$5)","v":0}]
[null,"2017-12-29T12:15:00",12,163.08000000000001,{"$f":"CEILING(IF(C34804-C34803=0,IF(H34803=0,I34803,IF(J34803>K34803,I34803,E34803)),'Výstupy modelu'!$C$7),1)","v":1664},0,0,{"$f":"IF(F34804=1,IF(G34804>'Zdrojová data'!$C$19,0,1),\"\")","v":""},1664,0,{"$f":"MIN(J34804,'Zdrojová data'!$C$17)","v":0},0,{"$f":"L34804/'Zdrojová data'!$C$16","v":0},{"$f":"M34804*'Zdrojová data'!$C$13","v":0},{"$f":"N34804*'Zdrojová data'!$C$14","v":0},0,{"$f":"IF(H34804=0,D34804-'Výstupy modelu'!$C$7,IF(P34804=1,J34804-K34804,0))","v":0},0,null,{"$f":"MAX(0,IF(Q34804>0,Q34804-('Výstupy modelu'!$H$10-'Výstupy modelu'!$H$9),0))","v":0},null,null,1865.4300000000003,1885.4300000000003,0,{"$f":"MAX(0,D34804-'Vstupní hodnoty'!$C$5)","v":0}]
[null,"2017-12-29T12:30:00",12,164.16000000000003,{"$f":"CEILING(IF(C34805-C34804=0,IF(H34804=0,I34804,IF(J34804>K34804,I34804,E34804)),'Výstupy modelu'!$C$7),1)","v":1664},0,0,{"$f":"IF(F34805=1,IF(G34805>'Zdrojová data'!$C$19,0,1),\"\")","v":""},1664,0,{"$f":"MIN(J34805,'Zdrojová data'!$C$17)","v":0},0,{"$f":"L34805/'Zdrojová data'!$C$16","v":0},{"$f":"M34805*'Zdrojová data'!$C$13","v":0},{"$f":"N34805*'Zdrojová data'!$C$14","v":0},0,{"$f":"IF(H34805=0,D34805-'Výstupy modelu'!$C$7,IF(P34805=1,J34805-K34805,0))","v":0},0,null,{"$f":"MAX(0,IF(Q34805>0,Q34805-('Výstupy modelu'!$H$10-'Výstupy modelu'!$H$9),0))","v":0},null,null,1865.4300000000003,1885.4300000000003,0,{"$f":"MAX(0,D34805-'Vstupní hodnoty'!$C$5)","v":0}]
[null,"2017-12-29T12:45:00",12,173.88000000000002,{"$f":"CEILING(IF(C34806-C34805=0,IF(H34805=0,I34805,IF(J34805>K34805,I34805,E34805)),'Výstupy modelu'!$C$7),1)","v":1664},0,0,{"$f":"IF(F34806=1,IF(G34806>'Zdrojová data'!$C$19,0,1),\"\")","v":""},1664,0,{"$f":"MIN(J34806,'Zdrojová data'!$C$17)","v":0},0,{"$f":"L34806/'Zdrojová data'!$C$16","v":0},{"$f":"M34806*'Zdrojová data'!$C$13","v":0},{"$f":"N34806*'Zdrojová data'!$C$14","v":0},0,{"$f":"IF(H34806=0,D34806-'Výstupy modelu'!$C$7,IF(P34806=1,J34806-K34806,0))","v":0},0,null,{"$f":"MAX(0,IF(Q34806>0,Q34806-('Výstupy modelu'!$H$10-'Výstupy modelu'!$H$9),0))","v":0},null,null,1865.4300000000003,1885.4300000000003,0,{"$f":"MAX(0,D34806-'Vstupní hodnoty'!$C$5)","v":0}]
[null,"2017-12-29T13:00:00",12,168.48000000000002,{"$f":"CEILING(IF(C34807-C34806=0,IF(H34806=0,I34806,IF(J34806>K34806,I34806,E34806)),'Výstupy modelu'!$C$7),1)","v":1664},0,0,{"$f":"IF(F34807=1,IF(G34807>'Zdrojová data'!$C$19,0,1),\"\")","v":""},1664,0,{"$f":"MIN(J34807,'Zdrojová data'!$C$17)","v":0},0,{"$f":"L34807/'Zdrojová data'!$C$16","v":0},{"$f":"M34807*'Zdrojová data'!$C$13","v":0},{"$f":"N34807*'Zdrojová data'!$C$14","v":0},0,{"$f":"IF(H34807=0,D34807-'Výstupy modelu'!$C$7,IF(P34807=1,J34807-K34807,0))","v":0},0,null,{"$f":"MAX(0,IF(Q34807>0,Q34807-('Výstupy modelu'!$H$10-'Výstupy modelu'!$H$9),0))","v":0},null,null,1865.4300000000003,1885.4300000000003,0,{"$f":"MAX(0,D34807-'Vstupní hodnoty'!$C$5)","v":0}]
[null,"2017-12-29T13:15:00",12,167.4,{"$f":"CEILING(IF(C34808-C34807=0,IF(H34807=0,I34807,IF(J34807>K34807,I34807,E34807)),'Výstupy modelu'!$C$7),1)","v":1664},0,0,{"$f":"IF(F34808=1,IF(G34808>'Zdrojová data'!$C$19,0,1),\"\")","v":""},1664,0,{"$f":"MIN(J34808,'Zdrojová data'!$C$17)","v":0},0,{"$f":"L34808/'Zdrojová data'!$C$16","v":0},{"$f":"M34808*'Zdrojová data'!$C$13","v":0},{"$f":"N34808*'Zdrojová data'!$C$14","v":0},0,{"$f":"IF(H34808=0,D34808-'Výstupy modelu'!$C$7,IF(P34808=1,J34808-K34808,0))","v":0},0,null,{"$f":"MAX(0,IF(Q34808>0,Q34808-('Výstupy modelu'!$H$10-'Výstupy modelu'!$H$9),0))","v":0},null,null,1865.4300000000003,1885.4300000000003,0,{"$f":"MAX(0,D34808-'Vstupní hodnoty'!$C$5)","v":0}]
[null,"2017-12-29T13:30:00",12,167.4,{"$f":"CEILING(IF(C34809-C34808=0,IF(H34808=0,I34808,IF(J34808>K34808,I34808,E34808)),'Výstupy modelu'!$C$7),1)","v":1664},0,0,{"$f":"IF(F34809=1,IF(G34809>'Zdrojová data'!$C$19,0,1),\"\")","v":""},1664,0,{"$f":"MIN(J34809,'Zdrojová data'!$C$17)","v":0},0,{"$f":"L34809/'Zdrojová data'!$C$16","v":0},{"$f":"M34809*'Zdrojová data'!$C$13","v":0},{"$f":"N34809*'Zdrojová data'!$C$14","v":0},0,{"$f":"IF(H34809=0,D34809-'Výstupy modelu'!$C$7,IF(P34809=1,J34809-K34809,0))","v":0},0,null,{"$f":"MAX(0,IF(Q34809>0,Q34809-('Výstupy modelu'!$H$10-'Výstupy modelu'!$H$9),0))","v":0},null,null,1865.4300000000003,1885.4300000000003,0,{"$f":"MAX(0,D34809-'Vstupní hodnoty'!$C$5)","v":0}]
[null,"2017-12-29T13:45:00",12,156.60000000000002,{"$f":"CEILING(IF(C34810-C34809=0,IF(H34809=0,I34809,IF(J34809>K34809,I34809,E34809)),'Výstupy modelu'!$C$7),1)","v":1664},0,0,{"$f":"IF(F34810=1,IF(G34810>'Zdrojová data'!$C$19,0,1),\"\")","v":""},1664,0,{"$f":"MIN(J34810,'Zdrojová data'!$C$17)","v":0},0,{"$f":"L34810/'Zdrojová data'!$C$16","v":0},{"$f":"M34810*'Zdrojová data'!$C$13","v":0},{"$f":"N34810*'Zdrojová data'!$C$14","v":0},0,{"$f":"IF(H34810=0,D34810-'Výstupy modelu'!$C$7,IF(P34810=1,J34810-K34810,0))","v":0},0,null,{"$f":"MAX(0,IF(Q34810>0,Q34810-('Výstupy modelu'!$H$10-'Výstupy modelu'!$H$9),0))","v":0},null,null,1865.4300000000003,1885.4300000000003,0,{"$f":"MAX(0,D34810-'Vstupní hodnoty'!$C$5)","v":0}]
[null,"2017-12-29T14:00:00",12,158.76000000000002,{"$f":"CEILING(IF(C34811-C34810=0,IF(H34810=0,I34810,IF(J34810>K34810,I34810,E34810)),'Výstupy modelu'!$C$7),1)","v":1664},0,0,{"$f":"IF(F34811=1,IF(G34811>'Zdrojová data'!$C$19,0,1),\"\")","v":""},1664,0,{"$f":"MIN(J34811,'Zdrojová data'!$C$17)","v":0},0,{"$f":"L34811/'Zdrojová data'!$C$16","v":0},{"$f":"M34811*'Zdrojová data'!$C$13","v":0},{"$f":"N34811*'Zdrojová data'!$C$14","v":0},0,{"$f":"IF(H34811=0,D34811-'Výstupy modelu'!$C$7,IF(P34811=1,J34811-K34811,0))","v":0},0,null,{"$f":"MAX(0,IF(Q34811>0,Q34811-('Výstupy modelu'!$H$10-'Výstupy modelu'!$H$9),0))","v":0},null,null,1865.4300000000003,1885.4300000000003,0,{"$f":"MAX(0,D34811-'Vstupní hodnoty'!$C$5)","v":0}]
[null,"2017-12-29T14:15:00",12,164.16000000000003,{"$f":"CEILING(IF(C34812-C34811=0,IF(H34811=0,I34811,IF(J34811>K34811,I34811,E34811)),'Výstupy modelu'!$C$7),1)","v":1664},0,0,{"$f":"IF(F34812=1,IF(G34812>'Zdrojová data'!$C$19,0,1),\"\")","v":""},1664,0,{"$f":"MIN(J34812,'Zdrojová data'!$C$17)","v":0},0,{"$f":"L34812/'Zdrojová data'!$C$16","v":0},{"$f":"M34812*'Zdrojová data'!$C$13","v":0},{"$f":"N34812*'Zdrojová data'!$C$14","v":0},0,{"$f":"IF(H34812=0,D34812-'Výstupy modelu'!$C$7,IF(P34812=1,J34812-K34812,0))","v":0},0,null,{"$f":"MAX(0,IF(Q34812>0,Q34812-('Výstupy modelu'!$H$10-'Výstupy modelu'!$H$9),0))","v":0},null,null,1865.4300000000003,1885.4300000000003,0,{"$f":"MAX(0,D34812-'Vstupní hodnoty'!$C$5)","v":0}]
[null,"2017-12-29T14:30:00",12,147.96,{"$f":"CEILING(IF(C34813-C34812=0,IF(H34812=0,I34812,IF(J34812>K34812,I34812,E34812)),'Výstupy modelu'!$C$7),1)","v":1664},0,0,{"$f":"IF(F34813=1,IF(G34813>'Zdrojová data'!$C$19,0,1),\"\")","v":""},1664,0,{"$f":"MIN(J34813,'Zdrojová data'!$C$17)","v":0},0,{"$f":"L34813/'Zdrojová data'!$C$16","v":0},{"$f":"M34813*'Zdrojová data'!$C$13","v":0},{"$f":"N34813*'Zdrojová data'!$C$14","v":0},0,{"$f":"IF(H34813=0,D34813-'Výstupy modelu'!$C$7,IF(P34813=1,J34813-K34813,0))","v":0},0,null,{"$f":"MAX(0,IF(Q34813>0,Q34813-('Výstupy modelu'!$H$10-'Výstupy modelu'!$H$9),0))","v":0},null,null,1865.4300000000003,1885.4300000000003,0,{"$f":"MAX(0,D34813-'Vstupní hodnoty'!$C$5)","v":0}]
[null,"2017-12-29T14:45:00",12,147.96,{"$f":"CEILING(IF(C34814-C34813=0,IF(H34813=0,I34813,IF(J34813>K34813,I34813,E34813)),'Výstupy modelu'!$C$7),1)","v":1664},0,0,{"$f":"IF(F34814=1,IF(G34814>'Zdrojová data'!$C$19,0,1),\"\")","v":""},1664,0,{"$f":"MIN(J34814,'Zdrojová data'!$C$17)","v":0},0,{"$f":"L34814/'Zdrojová data'!$C$16","v":0},{"$f":"M34814*'Zdrojová data'!$C$13","v":0},{"$f":"N34814*'Zdrojová data'!$C$14","v":0},0,{"$f":"IF(H34814=0,D34814-'Výstupy modelu'!$C$7,IF(P34814=1,J34814-K34814,0))","v":0},0,null,{"$f":"MAX(0,IF(Q34814>0,Q34814-('Výstupy modelu'!$H$10-'Výstupy modelu'!$H$9),0))","v":0},null,null,1865.4300000000003,1885.4300000000003,0,{"$f":"MAX(0,D34814-'Vstupní hodnoty'!$C$5)","v":0}]
[null,"2017-12-29T15:00:00",12,144.72,{"$f":"CEILING(IF(C34815-C34814=0,IF(H34814=0,I34814,IF(J34814>K34814,I34814,E34814)),'Výstupy modelu'!$C$7),1)","v":1664},0,0,{"$f":"IF(F34815=1,IF(G34815>'Zdrojová data'!$C$19,0,1),\"\")","v":""},1664,0,{"$f":"MIN(J34815,'Zdrojová data'!$C$17)","v":0},0,{"$f":"L34815/'Zdrojová data'!$C$16","v":0},{"$f":"M34815*'Zdrojová data'!$C$13","v":0},{"$f":"N34815*'Zdrojová data'!$C$14","v":0},0,{"$f":"IF(H34815=0,D34815-'Výstupy modelu'!$C$7,IF(P34815=1,J34815-K34815,0))","v":0},0,null,{"$f":"MAX(0,IF(Q34815>0,Q34815-('Výstupy modelu'!$H$10-'Výstupy modelu'!$H$9),0))","v":0},null,null,1865.4300000000003,1885.4300000000003,0,{"$f":"MAX(0,D34815-'Vstupní hodnoty'!$C$5)","v":0}]
[null,"2017-12-29T15:15:00",12,144.72,{"$f":"CEILING(IF(C34816-C34815=0,IF(H34815=0,I34815,IF(J34815>K34815,I34815,E34815)),'Výstupy modelu'!$C$7),1)","v":1664},0,0,{"$f":"IF(F34816=1,IF(G34816>'Zdrojová data'!$C$19,0,1),\"\")","v":""},1664,0,{"$f":"MIN(J34816,'Zdrojová data'!$C$17)","v":0},0,{"$f":"L34816/'Zdrojová data'!$C$16","v":0},{"$f":"M34816*'Zdrojová data'!$C$13","v":0},{"$f":"N34816*'Zdrojová data'!$C$14","v":0},0,{"$f":"IF(H34816=0,D34816-'Výstupy modelu'!$C$7,IF(P34816=1,J34816-K34816,0))","v":0},0,null,{"$f":"MAX(0,IF(Q34816>0,Q34816-('Výstupy modelu'!$H$10-'Výstupy modelu'!$H$9),0))","v":0},null,null,1865.4300000000003,1885.4300000000003,0,{"$f":"MAX(0,D34816-'Vstupní hodnoty'!$C$5)","v":0}]
[null,"2017-12-29T15:30:00",12,155.52000000000001,{"$f":"CEILING(IF(C34817-C34816=0,IF(H34816=0,I34816,IF(J34816>K34816,I34816,E34816)),'Výstupy modelu'!$C$7),1)","v":1664},0,0,{"$f":"IF(F34817=1,IF(G34817>'Zdrojová data'!$C$19,0,1),\"\")","v":""},1664,0,{"$f":"MIN(J34817,'Zdrojová data'!$C$17)","v":0},0,{"$f":"L34817/'Zdrojová data'!$C$16","v":0},{"$f":"M34817*'Zdrojová data'!$C$13","v":0},{"$f":"N34817*'Zdrojová data'!$C$14","v":0},0,{"$f":"IF(H34817=0,D34817-'Výstupy modelu'!$C$7,IF(P34817=1,J34817-K34817,0))","v":0},0,null,{"$f":"MAX(0,IF(Q34817>0,Q34817-('Výstupy modelu'!$H$10-'Výstupy modelu'!$H$9),0))","v":0},null,null,1865.4300000000003,1885.4300000000003,0,{"$f":"MAX(0,D34817-'Vstupní hodnoty'!$C$5)","v":0}]
[null,"2017-12-29T15:45:00",12,147.96,{"$f":"CEILING(IF(C34818-C34817=0,IF(H34817=0,I34817,IF(J34817>K34817,I34817,E34817)),'Výstupy modelu'!$C$7),1)","v":1664},0,0,{"$f":"IF(F34818=1,IF(G34818>'Zdrojová data'!$C$19,0,1),\"\")","v":""},1664,0,{"$f":"MIN(J34818,'Zdrojová data'!$C$17)","v":0},0,{"$f":"L34818/'Zdrojová data'!$C$16","v":0},{"$f":"M34818*'Zdrojová data'!$C$13","v":0},{"$f":"N34818*'Zdrojová data'!$C$14","v":0},0,{"$f":"IF(H34818=0,D34818-'Výstupy modelu'!$C$7,IF(P34818=1,J34818-K34818,0))","v":0},0,null,{"$f":"MAX(0,IF(Q34818>0,Q34818-('Výstupy modelu'!$H$10-'Výstupy modelu'!$H$9),0))","v":0},null,null,1865.4300000000003,1885.4300000000003,0,{"$f":"MAX(0,D34818-'Vstupní hodnoty'!$C$5)","v":0}]
[null,"2017-12-29T16:00:00",12,165.24,{"$f":"CEILING(IF(C34819-C34818=0,IF(H34818=0,I34818,IF(J34818>K34818,I34818,E34818)),'Výstupy modelu'!$C$7),1)","v":1664},0,0,{"$f":"IF(F34819=1,IF(G34819>'Zdrojová data'!$C$19,0,1),\"\")","v":""},1664,0,{"$f":"MIN(J34819,'Zdrojová data'!$C$17)","v":0},0,{"$f":"L34819/'Zdrojová data'!$C$16","v":0},{"$f":"M34819*'Zdrojová data'!$C$13","v":0},{"$f":"N34819*'Zdrojová data'!$C$14","v":0},0,{"$f":"IF(H34819=0,D34819-'Výstupy modelu'!$C$7,IF(P34819=1,J34819-K34819,0))","v":0},0,null,{"$f":"MAX(0,IF(Q34819>0,Q34819-('Výstupy modelu'!$H$10-'Výstupy modelu'!$H$9),0))","v":0},null,null,{"$f":"W34818","v":1865.4300000000003},1885.4300000000003,0,{"$f":"MAX(0,D34819-'Vstupní hodnoty'!$C$5)","v":0}]
[null,"2017-12-29T16:15:00",12,163.08000000000001,{"$f":"CEILING(IF(C34820-C34819=0,IF(H34819=0,I34819,IF(J34819>K34819,I34819,E34819)),'Výstupy modelu'!$C$7),1)","v":1664},{"$f":"IF(D34820>E34820,1,0)","v":0},0,{"$f":"IF(F34820=1,IF(G34820>'Zdrojová data'!$C$19,0,1),\"\")","v":""},{"$f":"IF(H34820=0,D34820,IF(J34820>K34820,E34820+J34820-K34820,E34820))","v":1664},{"$f":"IF(H34820=1,D34820-E34820,0)","v":0},{"$f":"MIN(J34820,'Zdrojová data'!$C$17)","v":0},0,{"$f":"L34820/'Zdrojová data'!$C$16","v":0},{"$f":"M34820*'Zdrojová data'!$C$13","v":0},{"$f":"N34820*'Zdrojová data'!$C$14","v":0},0,{"$f":"IF(H34820=0,D34820-'Výstupy modelu'!$C$7,IF(P34820=1,J34820-K34820,0))","v":0},0,null,{"$f":"MAX(0,IF(Q34820>0,Q34820-('Výstupy modelu'!$H$10-'Výstupy modelu'!$H$9),0))","v":0},null,null,1865.4300000000003,1885.4300000000003,0,{"$f":"MAX(0,D34820-'Vstupní hodnoty'!$C$5)","v":0}]
[null,"2017-12-29T16:30:00",{"$f":"MONTH(B34821)","v":12},154.44,{"$f":"CEILING(IF(C34821-C34820=0,IF(H34820=0,I34820,IF(J34820>K34820,I34820,E34820)),'Výstupy modelu'!$C$7),1)","v":1664},0,{"$f":"IF(F34821=1,RANDBETWEEN(0,100),0)","v":0},{"$f":"IF(F34821=1,IF(G34821>'Zdrojová data'!$C$19,0,1),\"\")","v":""},1664,0,{"$f":"MIN(J34821,'Zdrojová data'!$C$17)","v":0},{"$f":"K34821/4","v":0},{"$f":"L34821/'Zdrojová data'!$C$16","v":0},{"$f":"M34821*'Zdrojová data'!$C$13","v":0},{"$f":"N34821*'Zdrojová data'!$C$14","v":0},{"$f":"IF(H34821=0,1,IF(J34821>K34821,1,0))","v":0},{"$f":"IF(H34821=0,D34821-'Výstupy modelu'!$C$7,IF(P34821=1,J34821-K34821,0))","v":0},{"$f":"IF(H34821=0,1,IF(J34821>K34821,1,0))","v":0},null,{"$f":"MAX(0,IF(Q34821>0,Q34821-('Výstupy modelu'!$H$10-'Výstupy modelu'!$H$9),0))","v":0},null,null,1865.4300000000003,1885.4300000000003,0,{"$f":"MAX(0,D34821-'Vstupní hodnoty'!$C$5)","v":0}]
[null,"2017-12-29T16:45:00",12,154.44,{"$f":"CEILING(IF(C34822-C34821=0,IF(H34821=0,I34821,IF(J34821>K34821,I34821,E34821)),'Výstupy modelu'!$C$7),1)","v":1664},0,0,{"$f":"IF(F34822=1,IF(G34822>'Zdrojová data'!$C$19,0,1),\"\")","v":""},1664,0,{"$f":"MIN(J34822,'Zdrojová data'!$C$17)","v":0},0,{"$f":"L34822/'Zdrojová data'!$C$16","v":0},{"$f":"M34822*'Zdrojová data'!$C$13","v":0},{"$f":"N34822*'Zdrojová data'!$C$14","v":0},0,{"$f":"IF(H34822=0,D34822-'Výstupy modelu'!$C$7,IF(P34822=1,J34822-K34822,0))","v":0},0,null,{"$f":"MAX(0,IF(Q34822>0,Q34822-('Výstupy modelu'!$H$10-'Výstupy modelu'!$H$9),0))","v":0},null,null,1865.4300000000003,1885.4300000000003,0,{"$f":"MAX(0,D34822-'Vstupní hodnoty'!$C$5)","v":0}]
[null,"2017-12-29T17:00:00",12,159.84,{"$f":"CEILING(IF(C34823-C34822=0,IF(H34822=0,I34822,IF(J34822>K34822,I34822,E34822)),'Výstupy modelu'!$C$7),1)","v":1664},0,0,{"$f":"IF(F34823=1,IF(G34823>'Zdrojová data'!$C$19,0,1),\"\")","v":""},1664,0,{"$f":"MIN(J34823,'Zdrojová data'!$C$17)","v":0},0,{"$f":"L34823/'Zdrojová data'!$C$16","v":0},{"$f":"M34823*'Zdrojová data'!$C$13","v":0},{"$f":"N34823*'Zdrojová data'!$C$14","v":0},0,{"$f":"IF(H34823=0,D34823-'Výstupy modelu'!$C$7,IF(P34823=1,J34823-K34823,0))","v":0},0,null,{"$f":"MAX(0,IF(Q34823>0,Q34823-('Výstupy modelu'!$H$10-'Výstupy modelu'!$H$9),0))","v":0},null,null,1865.4300000000003,1885.4300000000003,0,{"$f":"MAX(0,D34823-'Vstupní hodnoty'!$C$5)","v":0}]
[null,"2017-12-29T17:15:00",12,173.88000000000002,{"$f":"CEILING(IF(C34824-C34823=0,IF(H34823=0,I34823,IF(J34823>K34823,I34823,E34823)),'Výstupy modelu'!$C$7),1)","v":1664},0,0,{"$f":"IF(F34824=1,IF(G34824>'Zdrojová data'!$C$19,0,1),\"\")","v":""},1664,0,{"$f":"MIN(J34824,'Zdrojová data'!$C$17)","v":0},0,{"$f":"L34824/'Zdrojová data'!$C$16","v":0},{"$f":"M34824*'Zdrojová data'!$C$13","v":0},{"$f":"N34824*'Zdrojová data'!$C$14","v":0},0,{"$f":"IF(H34824=0,D34824-'Výstupy modelu'!$C$7,IF(P34824=1,J34824-K34824,0))","v":0},0,null,{"$f":"MAX(0,IF(Q34824>0,Q34824-('Výstupy modelu'!$H$10-'Výstupy modelu'!$H$9),0))","v":0},null,null,1865.4300000000003,1885.4300000000003,0,{"$f":"MAX(0,D34824-'Vstupní hodnoty'!$C$5)","v":0}]
[null,"2017-12-29T17:30:00",12,167.4,{"$f":"CEILING(IF(C34825-C34824=0,IF(H34824=0,I34824,IF(J34824>K34824,I34824,E34824)),'Výstupy modelu'!$C$7),1)","v":1664},0,0,{"$f":"IF(F34825=1,IF(G34825>'Zdrojová data'!$C$19,0,1),\"\")","v":""},1664,0,{"$f":"MIN(J34825,'Zdrojová data'!$C$17)","v":0},0,{"$f":"L34825/'Zdrojová data'!$C$16","v":0},{"$f":"M34825*'Zdrojová data'!$C$13","v":0},{"$f":"N34825*'Zdrojová data'!$C$14","v":0},0,{"$f":"IF(H34825=0,D34825-'Výstupy modelu'!$C$7,IF(P34825=1,J34825-K34825,0))","v":0},0,null,{"$f":"MAX(0,IF(Q34825>0,Q34825-('Výstupy modelu'!$H$10-'Výstupy modelu'!$H$9),0))","v":0},null,null,1865.4300000000003,1885.4300000000003,0,{"$f":"MAX(0,D34825-'Vstupní hodnoty'!$C$5)","v":0}]
[null,"2017-12-29T17:45:00",12,166.32000000000002,{"$f":"CEILING(IF(C34826-C34825=0,IF(H34825=0,I34825,IF(J34825>K34825,I34825,E34825)),'Výstupy modelu'!$C$7),1)","v":1664},0,0,{"$f":"IF(F34826=1,IF(G34826>'Zdrojová data'!$C$19,0,1),\"\")","v":""},1664,0,{"$f":"MIN(J34826,'Zdrojová data'!$C$17)","v":0},0,{"$f":"L34826/'Zdrojová data'!$C$16","v":0},{"$f":"M34826*'Zdrojová data'!$C$13","v":0},{"$f":"N34826*'Zdrojová data'!$C$14","v":0},0,{"$f":"IF(H34826=0,D34826-'Výstupy modelu'!$C$7,IF(P34826=1,J34826-K34826,0))","v":0},0,null,{"$f":"MAX(0,IF(Q34826>0,Q34826-('Výstupy modelu'!$H$10-'Výstupy modelu'!$H$9),0))","v":0},null,null,1865.4300000000003,1885.4300000000003,0,{"$f":"MAX(0,D34826-'Vstupní hodnoty'!$C$5)","v":0}]
[null,"2017-12-29T18:00:00",12,168.48000000000002,{"$f":"CEILING(IF(C34827-C34826=0,IF(H34826=0,I34826,IF(J34826>K34826,I34826,E34826)),'Výstupy modelu'!$C$7),1)","v":1664},0,0,{"$f":"IF(F34827=1,IF(G34827>'Zdrojová data'!$C$19,0,1),\"\")","v":""},1664,0,{"$f":"MIN(J34827,'Zdrojová data'!$C$17)","v":0},0,{"$f":"L34827/'Zdrojová data'!$C$16","v":0},{"$f":"M34827*'Zdrojová data'!$C$13","v":0},{"$f":"N34827*'Zdrojová data'!$C$14","v":0},0,{"$f":"IF(H34827=0,D34827-'Výstupy modelu'!$C$7,IF(P34827=1,J34827-K34827,0))","v":0},0,null,{"$f":"MAX(0,IF(Q34827>0,Q34827-('Výstupy modelu'!$H$10-'Výstupy modelu'!$H$9),0))","v":0},null,null,1865.4300000000003,1885.4300000000003,0,{"$f":"MAX(0,D34827-'Vstupní hodnoty'!$C$5)","v":0}]
[null,"2017-12-29T18:15:00",12,173.88000000000002,{"$f":"CEILING(IF(C34828-C34827=0,IF(H34827=0,I34827,IF(J34827>K34827,I34827,E34827)),'Výstupy modelu'!$C$7),1)","v":1664},0,0,{"$f":"IF(F34828=1,IF(G34828>'Zdrojová data'!$C$19,0,1),\"\")","v":""},1664,0,{"$f":"MIN(J34828,'Zdrojová data'!$C$17)","v":0},0,{"$f":"L34828/'Zdrojová data'!$C$16","v":0},{"$f":"M34828*'Zdrojová data'!$C$13","v":0},{"$f":"N34828*'Zdrojová data'!$C$14","v":0},0,{"$f":"IF(H34828=0,D34828-'Výstupy modelu'!$C$7,IF(P34828=1,J34828-K34828,0))","v":0},0,null,{"$f":"MAX(0,IF(Q34828>0,Q34828-('Výstupy modelu'!$H$10-'Výstupy modelu'!$H$9),0))","v":0},null,null,1865.4300000000003,1885.4300000000003,0,{"$f":"MAX(0,D34828-'Vstupní hodnoty'!$C$5)","v":0}]
[null,"2017-12-29T18:30:00",12,167.4,{"$f":"CEILING(IF(C34829-C34828=0,IF(H34828=0,I34828,IF(J34828>K34828,I34828,E34828)),'Výstupy modelu'!$C$7),1)","v":1664},0,0,{"$f":"IF(F34829=1,IF(G34829>'Zdrojová data'!$C$19,0,1),\"\")","v":""},1664,0,{"$f":"MIN(J34829,'Zdrojová data'!$C$17)","v":0},0,{"$f":"L34829/'Zdrojová data'!$C$16","v":0},{"$f":"M34829*'Zdrojová data'!$C$13","v":0},{"$f":"N34829*'Zdrojová data'!$C$14","v":0},0,{"$f":"IF(H34829=0,D34829-'Výstupy modelu'!$C$7,IF(P34829=1,J34829-K34829,0))","v":0},0,null,{"$f":"MAX(0,IF(Q34829>0,Q34829-('Výstupy modelu'!$H$10-'Výstupy modelu'!$H$9),0))","v":0},null,null,1865.4300000000003,1885.4300000000003,0,{"$f":"MAX(0,D34829-'Vstupní hodnoty'!$C$5)","v":0}]
[null,"2017-12-29T18:45:00",12,176.04000000000002,{"$f":"CEILING(IF(C34830-C34829=0,IF(H34829=0,I34829,IF(J34829>K34829,I34829,E34829)),'Výstupy modelu'!$C$7),1)","v":1664},0,0,{"$f":"IF(F34830=1,IF(G34830>'Zdrojová data'!$C$19,0,1),\"\")","v":""},1664,0,{"$f":"MIN(J34830,'Zdrojová data'!$C$17)","v":0},0,{"$f":"L34830/'Zdrojová data'!$C$16","v":0},{"$f":"M34830*'Zdrojová data'!$C$13","v":0},{"$f":"N34830*'Zdrojová data'!$C$14","v":0},0,{"$f":"IF(H34830=0,D34830-'Výstupy modelu'!$C$7,IF(P34830=1,J34830-K34830,0))","v":0},0,null,{"$f":"MAX(0,IF(Q34830>0,Q34830-('Výstupy modelu'!$H$10-'Výstupy modelu'!$H$9),0))","v":0},null,null,1865.4300000000003,1885.4300000000003,0,{"$f":"MAX(0,D34830-'Vstupní hodnoty'!$C$5)","v":0}]
[null,"2017-12-29T19:00:00",12,159.84,{"$f":"CEILING(IF(C34831-C34830=0,IF(H34830=0,I34830,IF(J34830>K34830,I34830,E34830)),'Výstupy modelu'!$C$7),1)","v":1664},0,0,{"$f":"IF(F34831=1,IF(G34831>'Zdrojová data'!$C$19,0,1),\"\")","v":""},1664,0,{"$f":"MIN(J34831,'Zdrojová data'!$C$17)","v":0},0,{"$f":"L34831/'Zdrojová data'!$C$16","v":0},{"$f":"M34831*'Zdrojová data'!$C$13","v":0},{"$f":"N34831*'Zdrojová data'!$C$14","v":0},0,{"$f":"IF(H34831=0,D34831-'Výstupy modelu'!$C$7,IF(P34831=1,J34831-K34831,0))","v":0},0,null,{"$f":"MAX(0,IF(Q34831>0,Q34831-('Výstupy modelu'!$H$10-'Výstupy modelu'!$H$9),0))","v":0},null,null,1865.4300000000003,1885.4300000000003,0,{"$f":"MAX(0,D34831-'Vstupní hodnoty'!$C$5)","v":0}]
[null,"2017-12-29T19:15:00",12,157.68,{"$f":"CEILING(IF(C34832-C34831=0,IF(H34831=0,I34831,IF(J34831>K34831,I34831,E34831)),'Výstupy modelu'!$C$7),1)","v":1664},0,0,{"$f":"IF(F34832=1,IF(G34832>'Zdrojová data'!$C$19,0,1),\"\")","v":""},1664,0,{"$f":"MIN(J34832,'Zdrojová data'!$C$17)","v":0},0,{"$f":"L34832/'Zdrojová data'!$C$16","v":0},{"$f":"M34832*'Zdrojová data'!$C$13","v":0},{"$f":"N34832*'Zdrojová data'!$C$14","v":0},0,{"$f":"IF(H34832=0,D34832-'Výstupy modelu'!$C$7,IF(P34832=1,J34832-K34832,0))","v":0},0,null,{"$f":"MAX(0,IF(Q34832>0,Q34832-('Výstupy modelu'!$H$10-'Výstupy modelu'!$H$9),0))","v":0},null,null,1865.4300000000003,1885.4300000000003,0,{"$f":"MAX(0,D34832-'Vstupní hodnoty'!$C$5)","v":0}]
[null,"2017-12-29T19:30:00",12,155.52000000000001,{"$f":"CEILING(IF(C34833-C34832=0,IF(H34832=0,I34832,IF(J34832>K34832,I34832,E34832)),'Výstupy modelu'!$C$7),1)","v":1664},0,0,{"$f":"IF(F34833=1,IF(G34833>'Zdrojová data'!$C$19,0,1),\"\")","v":""},1664,0,{"$f":"MIN(J34833,'Zdrojová data'!$C$17)","v":0},0,{"$f":"L34833/'Zdrojová data'!$C$16","v":0},{"$f":"M34833*'Zdrojová data'!$C$13","v":0},{"$f":"N34833*'Zdrojová data'!$C$14","v":0},0,{"$f":"IF(H34833=0,D34833-'Výstupy modelu'!$C$7,IF(P34833=1,J34833-K34833,0))","v":0},0,null,{"$f":"MAX(0,IF(Q34833>0,Q34833-('Výstupy modelu'!$H$10-'Výstupy modelu'!$H$9),0))","v":0},null,null,1865.4300000000003,1885.4300000000003,0,{"$f":"MAX(0,D34833-'Vstupní hodnoty'!$C$5)","v":0}]
[null,"2017-12-29T19:45:00",12,155.52000000000001,{"$f":"CEILING(IF(C34834-C34833=0,IF(H34833=0,I34833,IF(J34833>K34833,I34833,E34833)),'Výstupy modelu'!$C$7),1)","v":1664},0,0,{"$f":"IF(F34834=1,IF(G34834>'Zdrojová data'!$C$19,0,1),\"\")","v":""},1664,0,{"$f":"MIN(J34834,'Zdrojová data'!$C$17)","v":0},0,{"$f":"L34834/'Zdrojová data'!$C$16","v":0},{"$f":"M34834*'Zdrojová data'!$C$13","v":0},{"$f":"N34834*'Zdrojová data'!$C$14","v":0},0,{"$f":"IF(H34834=0,D34834-'Výstupy modelu'!$C$7,IF(P34834=1,J34834-K34834,0))","v":0},0,null,{"$f":"MAX(0,IF(Q34834>0,Q34834-('Výstupy modelu'!$H$10-'Výstupy modelu'!$H$9),0))","v":0},null,null,1865.4300000000003,1885.4300000000003,0,{"$f":"MAX(0,D34834-'Vstupní hodnoty'!$C$5)","v":0}]
[null,"2017-12-29T20:00:00",12,166.32000000000002,{"$f":"CEILING(IF(C34835-C34834=0,IF(H34834=0,I34834,IF(J34834>K34834,I34834,E34834)),'Výstupy modelu'!$C$7),1)","v":1664},0,0,{"$f":"IF(F34835=1,IF(G34835>'Zdrojová data'!$C$19,0,1),\"\")","v":""},1664,0,{"$f":"MIN(J34835,'Zdrojová data'!$C$17)","v":0},0,{"$f":"L34835/'Zdrojová data'!$C$16","v":0},{"$f":"M34835*'Zdrojová data'!$C$13","v":0},{"$f":"N34835*'Zdrojová data'!$C$14","v":0},0,{"$f":"IF(H34835=0,D34835-'Výstupy modelu'!$C$7,IF(P34835=1,J34835-K34835,0))","v":0},0,null,{"$f":"MAX(0,IF(Q34835>0,Q34835-('Výstupy modelu'!$H$10-'Výstupy modelu'!$H$9),0))","v":0},null,null,1865.4300000000003,1885.4300000000003,0,{"$f":"MAX(0,D34835-'Vstupní hodnoty'!$C$5)","v":0}]
[null,"2017-12-29T20:15:00",12,158.76000000000002,{"$f":"CEILING(IF(C34836-C34835=0,IF(H34835=0,I34835,IF(J34835>K34835,I34835,E34835)),'Výstupy modelu'!$C$7),1)","v":1664},0,0,{"$f":"IF(F34836=1,IF(G34836>'Zdrojová data'!$C$19,0,1),\"\")","v":""},1664,0,{"$f":"MIN(J34836,'Zdrojová data'!$C$17)","v":0},0,{"$f":"L34836/'Zdrojová data'!$C$16","v":0},{"$f":"M34836*'Zdrojová data'!$C$13","v":0},{"$f":"N34836*'Zdrojová data'!$C$14","v":0},0,{"$f":"IF(H34836=0,D34836-'Výstupy modelu'!$C$7,IF(P34836=1,J34836-K34836,0))","v":0},0,null,{"$f":"MAX(0,IF(Q34836>0,Q34836-('Výstupy modelu'!$H$10-'Výstupy modelu'!$H$9),0))","v":0},null,null,1865.4300000000003,1885.4300000000003,0,{"$f":"MAX(0,D34836-'Vstupní hodnoty'!$C$5)","v":0}]
[null,"2017-12-29T20:30:00",12,163.08000000000001,{"$f":"CEILING(IF(C34837-C34836=0,IF(H34836=0,I34836,IF(J34836>K34836,I34836,E34836)),'Výstupy modelu'!$C$7),1)","v":1664},0,0,{"$f":"IF(F34837=1,IF(G34837>'Zdrojová data'!$C$19,0,1),\"\")","v":""},1664,0,{"$f":"MIN(J34837,'Zdrojová data'!$C$17)","v":0},0,{"$f":"L34837/'Zdrojová data'!$C$16","v":0},{"$f":"M34837*'Zdrojová data'!$C$13","v":0},{"$f":"N34837*'Zdrojová data'!$C$14","v":0},0,{"$f":"IF(H34837=0,D34837-'Výstupy modelu'!$C$7,IF(P34837=1,J34837-K34837,0))","v":0},0,null,{"$f":"MAX(0,IF(Q34837>0,Q34837-('Výstupy modelu'!$H$10-'Výstupy modelu'!$H$9),0))","v":0},null,null,1865.4300000000003,1885.4300000000003,0,{"$f":"MAX(0,D34837-'Vstupní hodnoty'!$C$5)","v":0}]
[null,"2017-12-29T20:45:00",12,170.64000000000001,{"$f":"CEILING(IF(C34838-C34837=0,IF(H34837=0,I34837,IF(J34837>K34837,I34837,E34837)),'Výstupy modelu'!$C$7),1)","v":1664},0,0,{"$f":"IF(F34838=1,IF(G34838>'Zdrojová data'!$C$19,0,1),\"\")","v":""},1664,0,{"$f":"MIN(J34838,'Zdrojová data'!$C$17)","v":0},0,{"$f":"L34838/'Zdrojová data'!$C$16","v":0},{"$f":"M34838*'Zdrojová data'!$C$13","v":0},{"$f":"N34838*'Zdrojová data'!$C$14","v":0},0,{"$f":"IF(H34838=0,D34838-'Výstupy modelu'!$C$7,IF(P34838=1,J34838-K34838,0))","v":0},0,null,{"$f":"MAX(0,IF(Q34838>0,Q34838-('Výstupy modelu'!$H$10-'Výstupy modelu'!$H$9),0))","v":0},null,null,1865.4300000000003,1885.4300000000003,0,{"$f":"MAX(0,D34838-'Vstupní hodnoty'!$C$5)","v":0}]
[null,"2017-12-29T21:00:00",12,160.92000000000002,{"$f":"CEILING(IF(C34839-C34838=0,IF(H34838=0,I34838,IF(J34838>K34838,I34838,E34838)),'Výstupy modelu'!$C$7),1)","v":1664},0,0,{"$f":"IF(F34839=1,IF(G34839>'Zdrojová data'!$C$19,0,1),\"\")","v":""},1664,0,{"$f":"MIN(J34839,'Zdrojová data'!$C$17)","v":0},0,{"$f":"L34839/'Zdrojová data'!$C$16","v":0},{"$f":"M34839*'Zdrojová data'!$C$13","v":0},{"$f":"N34839*'Zdrojová data'!$C$14","v":0},0,{"$f":"IF(H34839=0,D34839-'Výstupy modelu'!$C$7,IF(P34839=1,J34839-K34839,0))","v":0},0,null,{"$f":"MAX(0,IF(Q34839>0,Q34839-('Výstupy modelu'!$H$10-'Výstupy modelu'!$H$9),0))","v":0},null,null,1865.4300000000003,1885.4300000000003,0,{"$f":"MAX(0,D34839-'Vstupní hodnoty'!$C$5)","v":0}]
[null,"2017-12-29T21:15:00",12,160.92000000000002,{"$f":"CEILING(IF(C34840-C34839=0,IF(H34839=0,I34839,IF(J34839>K34839,I34839,E34839)),'Výstupy modelu'!$C$7),1)","v":1664},0,0,{"$f":"IF(F34840=1,IF(G34840>'Zdrojová data'!$C$19,0,1),\"\")","v":""},1664,0,{"$f":"MIN(J34840,'Zdrojová data'!$C$17)","v":0},0,{"$f":"L34840/'Zdrojová data'!$C$16","v":0},{"$f":"M34840*'Zdrojová data'!$C$13","v":0},{"$f":"N34840*'Zdrojová data'!$C$14","v":0},0,{"$f":"IF(H34840=0,D34840-'Výstupy modelu'!$C$7,IF(P34840=1,J34840-K34840,0))","v":0},0,null,{"$f":"MAX(0,IF(Q34840>0,Q34840-('Výstupy modelu'!$H$10-'Výstupy modelu'!$H$9),0))","v":0},null,null,1865.4300000000003,1885.4300000000003,0,{"$f":"MAX(0,D34840-'Vstupní hodnoty'!$C$5)","v":0}]
[null,"2017-12-29T21:30:00",12,164.16000000000003,{"$f":"CEILING(IF(C34841-C34840=0,IF(H34840=0,I34840,IF(J34840>K34840,I34840,E34840)),'Výstupy modelu'!$C$7),1)","v":1664},0,0,{"$f":"IF(F34841=1,IF(G34841>'Zdrojová data'!$C$19,0,1),\"\")","v":""},1664,0,{"$f":"MIN(J34841,'Zdrojová data'!$C$17)","v":0},0,{"$f":"L34841/'Zdrojová data'!$C$16","v":0},{"$f":"M34841*'Zdrojová data'!$C$13","v":0},{"$f":"N34841*'Zdrojová data'!$C$14","v":0},0,{"$f":"IF(H34841=0,D34841-'Výstupy modelu'!$C$7,IF(P34841=1,J34841-K34841,0))","v":0},0,null,{"$f":"MAX(0,IF(Q34841>0,Q34841-('Výstupy modelu'!$H$10-'Výstupy modelu'!$H$9),0))","v":0},null,null,1865.4300000000003,1885.4300000000003,0,{"$f":"MAX(0,D34841-'Vstupní hodnoty'!$C$5)","v":0}]
[null,"2017-12-29T21:45:00",12,167.4,{"$f":"CEILING(IF(C34842-C34841=0,IF(H34841=0,I34841,IF(J34841>K34841,I34841,E34841)),'Výstupy modelu'!$C$7),1)","v":1664},0,0,{"$f":"IF(F34842=1,IF(G34842>'Zdrojová data'!$C$19,0,1),\"\")","v":""},1664,0,{"$f":"MIN(J34842,'Zdrojová data'!$C$17)","v":0},0,{"$f":"L34842/'Zdrojová data'!$C$16","v":0},{"$f":"M34842*'Zdrojová data'!$C$13","v":0},{"$f":"N34842*'Zdrojová data'!$C$14","v":0},0,{"$f":"IF(H34842=0,D34842-'Výstupy modelu'!$C$7,IF(P34842=1,J34842-K34842,0))","v":0},0,null,{"$f":"MAX(0,IF(Q34842>0,Q34842-('Výstupy modelu'!$H$10-'Výstupy modelu'!$H$9),0))","v":0},null,null,1865.4300000000003,1885.4300000000003,0,{"$f":"MAX(0,D34842-'Vstupní hodnoty'!$C$5)","v":0}]
[null,"2017-12-29T22:00:00",12,154.44,{"$f":"CEILING(IF(C34843-C34842=0,IF(H34842=0,I34842,IF(J34842>K34842,I34842,E34842)),'Výstupy modelu'!$C$7),1)","v":1664},0,0,{"$f":"IF(F34843=1,IF(G34843>'Zdrojová data'!$C$19,0,1),\"\")","v":""},1664,0,{"$f":"MIN(J34843,'Zdrojová data'!$C$17)","v":0},0,{"$f":"L34843/'Zdrojová data'!$C$16","v":0},{"$f":"M34843*'Zdrojová data'!$C$13","v":0},{"$f":"N34843*'Zdrojová data'!$C$14","v":0},0,{"$f":"IF(H34843=0,D34843-'Výstupy modelu'!$C$7,IF(P34843=1,J34843-K34843,0))","v":0},0,null,{"$f":"MAX(0,IF(Q34843>0,Q34843-('Výstupy modelu'!$H$10-'Výstupy modelu'!$H$9),0))","v":0},null,null,1865.4300000000003,1885.4300000000003,0,{"$f":"MAX(0,D34843-'Vstupní hodnoty'!$C$5)","v":0}]
[null,"2017-12-29T22:15:00",12,158.76000000000002,{"$f":"CEILING(IF(C34844-C34843=0,IF(H34843=0,I34843,IF(J34843>K34843,I34843,E34843)),'Výstupy modelu'!$C$7),1)","v":1664},0,0,{"$f":"IF(F34844=1,IF(G34844>'Zdrojová data'!$C$19,0,1),\"\")","v":""},1664,0,{"$f":"MIN(J34844,'Zdrojová data'!$C$17)","v":0},0,{"$f":"L34844/'Zdrojová data'!$C$16","v":0},{"$f":"M34844*'Zdrojová data'!$C$13","v":0},{"$f":"N34844*'Zdrojová data'!$C$14","v":0},0,{"$f":"IF(H34844=0,D34844-'Výstupy modelu'!$C$7,IF(P34844=1,J34844-K34844,0))","v":0},0,null,{"$f":"MAX(0,IF(Q34844>0,Q34844-('Výstupy modelu'!$H$10-'Výstupy modelu'!$H$9),0))","v":0},null,null,1865.4300000000003,1885.4300000000003,0,{"$f":"MAX(0,D34844-'Vstupní hodnoty'!$C$5)","v":0}]
[null,"2017-12-29T22:30:00",12,156.60000000000002,{"$f":"CEILING(IF(C34845-C34844=0,IF(H34844=0,I34844,IF(J34844>K34844,I34844,E34844)),'Výstupy modelu'!$C$7),1)","v":1664},0,0,{"$f":"IF(F34845=1,IF(G34845>'Zdrojová data'!$C$19,0,1),\"\")","v":""},1664,0,{"$f":"MIN(J34845,'Zdrojová data'!$C$17)","v":0},0,{"$f":"L34845/'Zdrojová data'!$C$16","v":0},{"$f":"M34845*'Zdrojová data'!$C$13","v":0},{"$f":"N34845*'Zdrojová data'!$C$14","v":0},0,{"$f":"IF(H34845=0,D34845-'Výstupy modelu'!$C$7,IF(P34845=1,J34845-K34845,0))","v":0},0,null,{"$f":"MAX(0,IF(Q34845>0,Q34845-('Výstupy modelu'!$H$10-'Výstupy modelu'!$H$9),0))","v":0},null,null,1865.4300000000003,1885.4300000000003,0,{"$f":"MAX(0,D34845-'Vstupní hodnoty'!$C$5)","v":0}]
[null,"2017-12-29T22:45:00",12,154.44,{"$f":"CEILING(IF(C34846-C34845=0,IF(H34845=0,I34845,IF(J34845>K34845,I34845,E34845)),'Výstupy modelu'!$C$7),1)","v":1664},0,0,{"$f":"IF(F34846=1,IF(G34846>'Zdrojová data'!$C$19,0,1),\"\")","v":""},1664,0,{"$f":"MIN(J34846,'Zdrojová data'!$C$17)","v":0},0,{"$f":"L34846/'Zdrojová data'!$C$16","v":0},{"$f":"M34846*'Zdrojová data'!$C$13","v":0},{"$f":"N34846*'Zdrojová data'!$C$14","v":0},0,{"$f":"IF(H34846=0,D34846-'Výstupy modelu'!$C$7,IF(P34846=1,J34846-K34846,0))","v":0},0,null,{"$f":"MAX(0,IF(Q34846>0,Q34846-('Výstupy modelu'!$H$10-'Výstupy modelu'!$H$9),0))","v":0},null,null,1865.4300000000003,1885.4300000000003,0,{"$f":"MAX(0,D34846-'Vstupní hodnoty'!$C$5)","v":0}]
[null,"2017-12-29T23:00:00",12,156.60000000000002,{"$f":"CEILING(IF(C34847-C34846=0,IF(H34846=0,I34846,IF(J34846>K34846,I34846,E34846)),'Výstupy modelu'!$C$7),1)","v":1664},0,0,{"$f":"IF(F34847=1,IF(G34847>'Zdrojová data'!$C$19,0,1),\"\")","v":""},1664,0,{"$f":"MIN(J34847,'Zdrojová data'!$C$17)","v":0},0,{"$f":"L34847/'Zdrojová data'!$C$16","v":0},{"$f":"M34847*'Zdrojová data'!$C$13","v":0},{"$f":"N34847*'Zdrojová data'!$C$14","v":0},0,{"$f":"IF(H34847=0,D34847-'Výstupy modelu'!$C$7,IF(P34847=1,J34847-K34847,0))","v":0},0,null,{"$f":"MAX(0,IF(Q34847>0,Q34847-('Výstupy modelu'!$H$10-'Výstupy modelu'!$H$9),0))","v":0},null,null,1865.4300000000003,1885.4300000000003,0,{"$f":"MAX(0,D34847-'Vstupní hodnoty'!$C$5)","v":0}]
[null,"2017-12-29T23:15:00",12,168.48000000000002,{"$f":"CEILING(IF(C34848-C34847=0,IF(H34847=0,I34847,IF(J34847>K34847,I34847,E34847)),'Výstupy modelu'!$C$7),1)","v":1664},0,0,{"$f":"IF(F34848=1,IF(G34848>'Zdrojová data'!$C$19,0,1),\"\")","v":""},1664,0,{"$f":"MIN(J34848,'Zdrojová data'!$C$17)","v":0},0,{"$f":"L34848/'Zdrojová data'!$C$16","v":0},{"$f":"M34848*'Zdrojová data'!$C$13","v":0},{"$f":"N34848*'Zdrojová data'!$C$14","v":0},0,{"$f":"IF(H34848=0,D34848-'Výstupy modelu'!$C$7,IF(P34848=1,J34848-K34848,0))","v":0},0,null,{"$f":"MAX(0,IF(Q34848>0,Q34848-('Výstupy modelu'!$H$10-'Výstupy modelu'!$H$9),0))","v":0},null,null,1865.4300000000003,1885.4300000000003,0,{"$f":"MAX(0,D34848-'Vstupní hodnoty'!$C$5)","v":0}]
[null,"2017-12-29T23:30:00",12,169.56,{"$f":"CEILING(IF(C34849-C34848=0,IF(H34848=0,I34848,IF(J34848>K34848,I34848,E34848)),'Výstupy modelu'!$C$7),1)","v":1664},0,0,{"$f":"IF(F34849=1,IF(G34849>'Zdrojová data'!$C$19,0,1),\"\")","v":""},1664,0,{"$f":"MIN(J34849,'Zdrojová data'!$C$17)","v":0},0,{"$f":"L34849/'Zdrojová data'!$C$16","v":0},{"$f":"M34849*'Zdrojová data'!$C$13","v":0},{"$f":"N34849*'Zdrojová data'!$C$14","v":0},0,{"$f":"IF(H34849=0,D34849-'Výstupy modelu'!$C$7,IF(P34849=1,J34849-K34849,0))","v":0},0,null,{"$f":"MAX(0,IF(Q34849>0,Q34849-('Výstupy modelu'!$H$10-'Výstupy modelu'!$H$9),0))","v":0},null,null,1865.4300000000003,1885.4300000000003,0,{"$f":"MAX(0,D34849-'Vstupní hodnoty'!$C$5)","v":0}]
[null,"2017-12-29T23:45:00",12,153.36000000000001,{"$f":"CEILING(IF(C34850-C34849=0,IF(H34849=0,I34849,IF(J34849>K34849,I34849,E34849)),'Výstupy modelu'!$C$7),1)","v":1664},0,0,{"$f":"IF(F34850=1,IF(G34850>'Zdrojová data'!$C$19,0,1),\"\")","v":""},1664,0,{"$f":"MIN(J34850,'Zdrojová data'!$C$17)","v":0},0,{"$f":"L34850/'Zdrojová data'!$C$16","v":0},{"$f":"M34850*'Zdrojová data'!$C$13","v":0},{"$f":"N34850*'Zdrojová data'!$C$14","v":0},0,{"$f":"IF(H34850=0,D34850-'Výstupy modelu'!$C$7,IF(P34850=1,J34850-K34850,0))","v":0},0,null,{"$f":"MAX(0,IF(Q34850>0,Q34850-('Výstupy modelu'!$H$10-'Výstupy modelu'!$H$9),0))","v":0},null,null,1865.4300000000003,1885.4300000000003,0,{"$f":"MAX(0,D34850-'Vstupní hodnoty'!$C$5)","v":0}]
[null,"2017-12-30",12,162,{"$f":"CEILING(IF(C34851-C34850=0,IF(H34850=0,I34850,IF(J34850>K34850,I34850,E34850)),'Výstupy modelu'!$C$7),1)","v":1664},0,0,{"$f":"IF(F34851=1,IF(G34851>'Zdrojová data'!$C$19,0,1),\"\")","v":""},1664,0,{"$f":"MIN(J34851,'Zdrojová data'!$C$17)","v":0},0,{"$f":"L34851/'Zdrojová data'!$C$16","v":0},{"$f":"M34851*'Zdrojová data'!$C$13","v":0},{"$f":"N34851*'Zdrojová data'!$C$14","v":0},0,{"$f":"IF(H34851=0,D34851-'Výstupy modelu'!$C$7,IF(P34851=1,J34851-K34851,0))","v":0},0,null,{"$f":"MAX(0,IF(Q34851>0,Q34851-('Výstupy modelu'!$H$10-'Výstupy modelu'!$H$9),0))","v":0},null,null,1865.4300000000003,1885.4300000000003,0,{"$f":"MAX(0,D34851-'Vstupní hodnoty'!$C$5)","v":0}]
[null,"2017-12-30T00:15:00",12,157.68,{"$f":"CEILING(IF(C34852-C34851=0,IF(H34851=0,I34851,IF(J34851>K34851,I34851,E34851)),'Výstupy modelu'!$C$7),1)","v":1664},0,0,{"$f":"IF(F34852=1,IF(G34852>'Zdrojová data'!$C$19,0,1),\"\")","v":""},1664,0,{"$f":"MIN(J34852,'Zdrojová data'!$C$17)","v":0},0,{"$f":"L34852/'Zdrojová data'!$C$16","v":0},{"$f":"M34852*'Zdrojová data'!$C$13","v":0},{"$f":"N34852*'Zdrojová data'!$C$14","v":0},0,{"$f":"IF(H34852=0,D34852-'Výstupy modelu'!$C$7,IF(P34852=1,J34852-K34852,0))","v":0},0,null,{"$f":"MAX(0,IF(Q34852>0,Q34852-('Výstupy modelu'!$H$10-'Výstupy modelu'!$H$9),0))","v":0},null,null,1865.4300000000003,1885.4300000000003,0,{"$f":"MAX(0,D34852-'Vstupní hodnoty'!$C$5)","v":0}]
[null,"2017-12-30T00:30:00",12,154.44,{"$f":"CEILING(IF(C34853-C34852=0,IF(H34852=0,I34852,IF(J34852>K34852,I34852,E34852)),'Výstupy modelu'!$C$7),1)","v":1664},0,0,{"$f":"IF(F34853=1,IF(G34853>'Zdrojová data'!$C$19,0,1),\"\")","v":""},1664,0,{"$f":"MIN(J34853,'Zdrojová data'!$C$17)","v":0},0,{"$f":"L34853/'Zdrojová data'!$C$16","v":0},{"$f":"M34853*'Zdrojová data'!$C$13","v":0},{"$f":"N34853*'Zdrojová data'!$C$14","v":0},0,{"$f":"IF(H34853=0,D34853-'Výstupy modelu'!$C$7,IF(P34853=1,J34853-K34853,0))","v":0},0,null,{"$f":"MAX(0,IF(Q34853>0,Q34853-('Výstupy modelu'!$H$10-'Výstupy modelu'!$H$9),0))","v":0},null,null,1865.4300000000003,1885.4300000000003,0,{"$f":"MAX(0,D34853-'Vstupní hodnoty'!$C$5)","v":0}]
[null,"2017-12-30T00:45:00",12,164.16000000000003,{"$f":"CEILING(IF(C34854-C34853=0,IF(H34853=0,I34853,IF(J34853>K34853,I34853,E34853)),'Výstupy modelu'!$C$7),1)","v":1664},0,0,{"$f":"IF(F34854=1,IF(G34854>'Zdrojová data'!$C$19,0,1),\"\")","v":""},1664,0,{"$f":"MIN(J34854,'Zdrojová data'!$C$17)","v":0},0,{"$f":"L34854/'Zdrojová data'!$C$16","v":0},{"$f":"M34854*'Zdrojová data'!$C$13","v":0},{"$f":"N34854*'Zdrojová data'!$C$14","v":0},0,{"$f":"IF(H34854=0,D34854-'Výstupy modelu'!$C$7,IF(P34854=1,J34854-K34854,0))","v":0},0,null,{"$f":"MAX(0,IF(Q34854>0,Q34854-('Výstupy modelu'!$H$10-'Výstupy modelu'!$H$9),0))","v":0},null,null,1865.4300000000003,1885.4300000000003,0,{"$f":"MAX(0,D34854-'Vstupní hodnoty'!$C$5)","v":0}]
[null,"2017-12-30T01:00:00",12,153.36000000000001,{"$f":"CEILING(IF(C34855-C34854=0,IF(H34854=0,I34854,IF(J34854>K34854,I34854,E34854)),'Výstupy modelu'!$C$7),1)","v":1664},0,0,{"$f":"IF(F34855=1,IF(G34855>'Zdrojová data'!$C$19,0,1),\"\")","v":""},1664,0,{"$f":"MIN(J34855,'Zdrojová data'!$C$17)","v":0},0,{"$f":"L34855/'Zdrojová data'!$C$16","v":0},{"$f":"M34855*'Zdrojová data'!$C$13","v":0},{"$f":"N34855*'Zdrojová data'!$C$14","v":0},0,{"$f":"IF(H34855=0,D34855-'Výstupy modelu'!$C$7,IF(P34855=1,J34855-K34855,0))","v":0},0,null,{"$f":"MAX(0,IF(Q34855>0,Q34855-('Výstupy modelu'!$H$10-'Výstupy modelu'!$H$9),0))","v":0},null,null,1865.4300000000003,1885.4300000000003,0,{"$f":"MAX(0,D34855-'Vstupní hodnoty'!$C$5)","v":0}]
[null,"2017-12-30T01:15:00",12,160.92000000000002,{"$f":"CEILING(IF(C34856-C34855=0,IF(H34855=0,I34855,IF(J34855>K34855,I34855,E34855)),'Výstupy modelu'!$C$7),1)","v":1664},0,0,{"$f":"IF(F34856=1,IF(G34856>'Zdrojová data'!$C$19,0,1),\"\")","v":""},1664,0,{"$f":"MIN(J34856,'Zdrojová data'!$C$17)","v":0},0,{"$f":"L34856/'Zdrojová data'!$C$16","v":0},{"$f":"M34856*'Zdrojová data'!$C$13","v":0},{"$f":"N34856*'Zdrojová data'!$C$14","v":0},0,{"$f":"IF(H34856=0,D34856-'Výstupy modelu'!$C$7,IF(P34856=1,J34856-K34856,0))","v":0},0,null,{"$f":"MAX(0,IF(Q34856>0,Q34856-('Výstupy modelu'!$H$10-'Výstupy modelu'!$H$9),0))","v":0},null,null,1865.4300000000003,1885.4300000000003,0,{"$f":"MAX(0,D34856-'Vstupní hodnoty'!$C$5)","v":0}]
[null,"2017-12-30T01:30:00",12,153.36000000000001,{"$f":"CEILING(IF(C34857-C34856=0,IF(H34856=0,I34856,IF(J34856>K34856,I34856,E34856)),'Výstupy modelu'!$C$7),1)","v":1664},0,0,{"$f":"IF(F34857=1,IF(G34857>'Zdrojová data'!$C$19,0,1),\"\")","v":""},1664,0,{"$f":"MIN(J34857,'Zdrojová data'!$C$17)","v":0},0,{"$f":"L34857/'Zdrojová data'!$C$16","v":0},{"$f":"M34857*'Zdrojová data'!$C$13","v":0},{"$f":"N34857*'Zdrojová data'!$C$14","v":0},0,{"$f":"IF(H34857=0,D34857-'Výstupy modelu'!$C$7,IF(P34857=1,J34857-K34857,0))","v":0},0,null,{"$f":"MAX(0,IF(Q34857>0,Q34857-('Výstupy modelu'!$H$10-'Výstupy modelu'!$H$9),0))","v":0},null,null,1865.4300000000003,1885.4300000000003,0,{"$f":"MAX(0,D34857-'Vstupní hodnoty'!$C$5)","v":0}]
[null,"2017-12-30T01:45:00",12,152.28,{"$f":"CEILING(IF(C34858-C34857=0,IF(H34857=0,I34857,IF(J34857>K34857,I34857,E34857)),'Výstupy modelu'!$C$7),1)","v":1664},0,0,{"$f":"IF(F34858=1,IF(G34858>'Zdrojová data'!$C$19,0,1),\"\")","v":""},1664,0,{"$f":"MIN(J34858,'Zdrojová data'!$C$17)","v":0},0,{"$f":"L34858/'Zdrojová data'!$C$16","v":0},{"$f":"M34858*'Zdrojová data'!$C$13","v":0},{"$f":"N34858*'Zdrojová data'!$C$14","v":0},0,{"$f":"IF(H34858=0,D34858-'Výstupy modelu'!$C$7,IF(P34858=1,J34858-K34858,0))","v":0},0,null,{"$f":"MAX(0,IF(Q34858>0,Q34858-('Výstupy modelu'!$H$10-'Výstupy modelu'!$H$9),0))","v":0},null,null,1865.4300000000003,1885.4300000000003,0,{"$f":"MAX(0,D34858-'Vstupní hodnoty'!$C$5)","v":0}]
[null,"2017-12-30T02:00:00",12,159.84,{"$f":"CEILING(IF(C34859-C34858=0,IF(H34858=0,I34858,IF(J34858>K34858,I34858,E34858)),'Výstupy modelu'!$C$7),1)","v":1664},0,0,{"$f":"IF(F34859=1,IF(G34859>'Zdrojová data'!$C$19,0,1),\"\")","v":""},1664,0,{"$f":"MIN(J34859,'Zdrojová data'!$C$17)","v":0},0,{"$f":"L34859/'Zdrojová data'!$C$16","v":0},{"$f":"M34859*'Zdrojová data'!$C$13","v":0},{"$f":"N34859*'Zdrojová data'!$C$14","v":0},0,{"$f":"IF(H34859=0,D34859-'Výstupy modelu'!$C$7,IF(P34859=1,J34859-K34859,0))","v":0},0,null,{"$f":"MAX(0,IF(Q34859>0,Q34859-('Výstupy modelu'!$H$10-'Výstupy modelu'!$H$9),0))","v":0},null,null,1865.4300000000003,1885.4300000000003,0,{"$f":"MAX(0,D34859-'Vstupní hodnoty'!$C$5)","v":0}]
[null,"2017-12-30T02:15:00",12,158.76000000000002,{"$f":"CEILING(IF(C34860-C34859=0,IF(H34859=0,I34859,IF(J34859>K34859,I34859,E34859)),'Výstupy modelu'!$C$7),1)","v":1664},0,0,{"$f":"IF(F34860=1,IF(G34860>'Zdrojová data'!$C$19,0,1),\"\")","v":""},1664,0,{"$f":"MIN(J34860,'Zdrojová data'!$C$17)","v":0},0,{"$f":"L34860/'Zdrojová data'!$C$16","v":0},{"$f":"M34860*'Zdrojová data'!$C$13","v":0},{"$f":"N34860*'Zdrojová data'!$C$14","v":0},0,{"$f":"IF(H34860=0,D34860-'Výstupy modelu'!$C$7,IF(P34860=1,J34860-K34860,0))","v":0},0,null,{"$f":"MAX(0,IF(Q34860>0,Q34860-('Výstupy modelu'!$H$10-'Výstupy modelu'!$H$9),0))","v":0},null,null,1865.4300000000003,1885.4300000000003,0,{"$f":"MAX(0,D34860-'Vstupní hodnoty'!$C$5)","v":0}]
[null,"2017-12-30T02:30:00",12,156.60000000000002,{"$f":"CEILING(IF(C34861-C34860=0,IF(H34860=0,I34860,IF(J34860>K34860,I34860,E34860)),'Výstupy modelu'!$C$7),1)","v":1664},0,0,{"$f":"IF(F34861=1,IF(G34861>'Zdrojová data'!$C$19,0,1),\"\")","v":""},1664,0,{"$f":"MIN(J34861,'Zdrojová data'!$C$17)","v":0},0,{"$f":"L34861/'Zdrojová data'!$C$16","v":0},{"$f":"M34861*'Zdrojová data'!$C$13","v":0},{"$f":"N34861*'Zdrojová data'!$C$14","v":0},0,{"$f":"IF(H34861=0,D34861-'Výstupy modelu'!$C$7,IF(P34861=1,J34861-K34861,0))","v":0},0,null,{"$f":"MAX(0,IF(Q34861>0,Q34861-('Výstupy modelu'!$H$10-'Výstupy modelu'!$H$9),0))","v":0},null,null,1865.4300000000003,1885.4300000000003,0,{"$f":"MAX(0,D34861-'Vstupní hodnoty'!$C$5)","v":0}]
[null,"2017-12-30T02:45:00",12,162,{"$f":"CEILING(IF(C34862-C34861=0,IF(H34861=0,I34861,IF(J34861>K34861,I34861,E34861)),'Výstupy modelu'!$C$7),1)","v":1664},0,0,{"$f":"IF(F34862=1,IF(G34862>'Zdrojová data'!$C$19,0,1),\"\")","v":""},1664,0,{"$f":"MIN(J34862,'Zdrojová data'!$C$17)","v":0},0,{"$f":"L34862/'Zdrojová data'!$C$16","v":0},{"$f":"M34862*'Zdrojová data'!$C$13","v":0},{"$f":"N34862*'Zdrojová data'!$C$14","v":0},0,{"$f":"IF(H34862=0,D34862-'Výstupy modelu'!$C$7,IF(P34862=1,J34862-K34862,0))","v":0},0,null,{"$f":"MAX(0,IF(Q34862>0,Q34862-('Výstupy modelu'!$H$10-'Výstupy modelu'!$H$9),0))","v":0},null,null,1865.4300000000003,1885.4300000000003,0,{"$f":"MAX(0,D34862-'Vstupní hodnoty'!$C$5)","v":0}]
[null,"2017-12-30T03:00:00",12,159.84,{"$f":"CEILING(IF(C34863-C34862=0,IF(H34862=0,I34862,IF(J34862>K34862,I34862,E34862)),'Výstupy modelu'!$C$7),1)","v":1664},0,0,{"$f":"IF(F34863=1,IF(G34863>'Zdrojová data'!$C$19,0,1),\"\")","v":""},1664,0,{"$f":"MIN(J34863,'Zdrojová data'!$C$17)","v":0},0,{"$f":"L34863/'Zdrojová data'!$C$16","v":0},{"$f":"M34863*'Zdrojová data'!$C$13","v":0},{"$f":"N34863*'Zdrojová data'!$C$14","v":0},0,{"$f":"IF(H34863=0,D34863-'Výstupy modelu'!$C$7,IF(P34863=1,J34863-K34863,0))","v":0},0,null,{"$f":"MAX(0,IF(Q34863>0,Q34863-('Výstupy modelu'!$H$10-'Výstupy modelu'!$H$9),0))","v":0},null,null,1865.4300000000003,1885.4300000000003,0,{"$f":"MAX(0,D34863-'Vstupní hodnoty'!$C$5)","v":0}]
[null,"2017-12-30T03:15:00",12,159.84,{"$f":"CEILING(IF(C34864-C34863=0,IF(H34863=0,I34863,IF(J34863>K34863,I34863,E34863)),'Výstupy modelu'!$C$7),1)","v":1664},0,0,{"$f":"IF(F34864=1,IF(G34864>'Zdrojová data'!$C$19,0,1),\"\")","v":""},1664,0,{"$f":"MIN(J34864,'Zdrojová data'!$C$17)","v":0},0,{"$f":"L34864/'Zdrojová data'!$C$16","v":0},{"$f":"M34864*'Zdrojová data'!$C$13","v":0},{"$f":"N34864*'Zdrojová data'!$C$14","v":0},0,{"$f":"IF(H34864=0,D34864-'Výstupy modelu'!$C$7,IF(P34864=1,J34864-K34864,0))","v":0},0,null,{"$f":"MAX(0,IF(Q34864>0,Q34864-('Výstupy modelu'!$H$10-'Výstupy modelu'!$H$9),0))","v":0},null,null,1865.4300000000003,1885.4300000000003,0,{"$f":"MAX(0,D34864-'Vstupní hodnoty'!$C$5)","v":0}]
[null,"2017-12-30T03:30:00",12,165.24,{"$f":"CEILING(IF(C34865-C34864=0,IF(H34864=0,I34864,IF(J34864>K34864,I34864,E34864)),'Výstupy modelu'!$C$7),1)","v":1664},0,0,{"$f":"IF(F34865=1,IF(G34865>'Zdrojová data'!$C$19,0,1),\"\")","v":""},1664,0,{"$f":"MIN(J34865,'Zdrojová data'!$C$17)","v":0},0,{"$f":"L34865/'Zdrojová data'!$C$16","v":0},{"$f":"M34865*'Zdrojová data'!$C$13","v":0},{"$f":"N34865*'Zdrojová data'!$C$14","v":0},0,{"$f":"IF(H34865=0,D34865-'Výstupy modelu'!$C$7,IF(P34865=1,J34865-K34865,0))","v":0},0,null,{"$f":"MAX(0,IF(Q34865>0,Q34865-('Výstupy modelu'!$H$10-'Výstupy modelu'!$H$9),0))","v":0},null,null,1865.4300000000003,1885.4300000000003,{"$f":"MAX(0,D34865-W34865)","v":0},{"$f":"MAX(0,D34865-'Vstupní hodnoty'!$C$5)","v":0}]
[null,"2017-12-30T03:45:00",12,157.68,{"$f":"CEILING(IF(C34866-C34865=0,IF(H34865=0,I34865,IF(J34865>K34865,I34865,E34865)),'Výstupy modelu'!$C$7),1)","v":1664},0,0,{"$f":"IF(F34866=1,IF(G34866>'Zdrojová data'!$C$19,0,1),\"\")","v":""},1664,0,{"$f":"MIN(J34866,'Zdrojová data'!$C$17)","v":0},0,{"$f":"L34866/'Zdrojová data'!$C$16","v":0},{"$f":"M34866*'Zdrojová data'!$C$13","v":0},{"$f":"N34866*'Zdrojová data'!$C$14","v":0},0,{"$f":"IF(H34866=0,D34866-'Výstupy modelu'!$C$7,IF(P34866=1,J34866-K34866,0))","v":0},0,null,{"$f":"MAX(0,IF(Q34866>0,Q34866-('Výstupy modelu'!$H$10-'Výstupy modelu'!$H$9),0))","v":0},null,null,1865.4300000000003,1885.4300000000003,0,{"$f":"MAX(0,D34866-'Vstupní hodnoty'!$C$5)","v":0}]
[null,"2017-12-30T04:00:00",12,172.8,{"$f":"CEILING(IF(C34867-C34866=0,IF(H34866=0,I34866,IF(J34866>K34866,I34866,E34866)),'Výstupy modelu'!$C$7),1)","v":1664},0,0,{"$f":"IF(F34867=1,IF(G34867>'Zdrojová data'!$C$19,0,1),\"\")","v":""},1664,0,{"$f":"MIN(J34867,'Zdrojová data'!$C$17)","v":0},0,{"$f":"L34867/'Zdrojová data'!$C$16","v":0},{"$f":"M34867*'Zdrojová data'!$C$13","v":0},{"$f":"N34867*'Zdrojová data'!$C$14","v":0},0,{"$f":"IF(H34867=0,D34867-'Výstupy modelu'!$C$7,IF(P34867=1,J34867-K34867,0))","v":0},0,null,{"$f":"MAX(0,IF(Q34867>0,Q34867-('Výstupy modelu'!$H$10-'Výstupy modelu'!$H$9),0))","v":0},null,null,1865.4300000000003,1885.4300000000003,0,{"$f":"MAX(0,D34867-'Vstupní hodnoty'!$C$5)","v":0}]
[null,"2017-12-30T04:15:00",12,157.68,{"$f":"CEILING(IF(C34868-C34867=0,IF(H34867=0,I34867,IF(J34867>K34867,I34867,E34867)),'Výstupy modelu'!$C$7),1)","v":1664},0,0,{"$f":"IF(F34868=1,IF(G34868>'Zdrojová data'!$C$19,0,1),\"\")","v":""},1664,0,{"$f":"MIN(J34868,'Zdrojová data'!$C$17)","v":0},0,{"$f":"L34868/'Zdrojová data'!$C$16","v":0},{"$f":"M34868*'Zdrojová data'!$C$13","v":0},{"$f":"N34868*'Zdrojová data'!$C$14","v":0},0,{"$f":"IF(H34868=0,D34868-'Výstupy modelu'!$C$7,IF(P34868=1,J34868-K34868,0))","v":0},0,null,{"$f":"MAX(0,IF(Q34868>0,Q34868-('Výstupy modelu'!$H$10-'Výstupy modelu'!$H$9),0))","v":0},null,null,1865.4300000000003,1885.4300000000003,0,{"$f":"MAX(0,D34868-'Vstupní hodnoty'!$C$5)","v":0}]
[null,"2017-12-30T04:30:00",12,150.12,{"$f":"CEILING(IF(C34869-C34868=0,IF(H34868=0,I34868,IF(J34868>K34868,I34868,E34868)),'Výstupy modelu'!$C$7),1)","v":1664},0,0,{"$f":"IF(F34869=1,IF(G34869>'Zdrojová data'!$C$19,0,1),\"\")","v":""},1664,0,{"$f":"MIN(J34869,'Zdrojová data'!$C$17)","v":0},0,{"$f":"L34869/'Zdrojová data'!$C$16","v":0},{"$f":"M34869*'Zdrojová data'!$C$13","v":0},{"$f":"N34869*'Zdrojová data'!$C$14","v":0},0,{"$f":"IF(H34869=0,D34869-'Výstupy modelu'!$C$7,IF(P34869=1,J34869-K34869,0))","v":0},0,null,{"$f":"MAX(0,IF(Q34869>0,Q34869-('Výstupy modelu'!$H$10-'Výstupy modelu'!$H$9),0))","v":0},null,null,1865.4300000000003,1885.4300000000003,0,{"$f":"MAX(0,D34869-'Vstupní hodnoty'!$C$5)","v":0}]
[null,"2017-12-30T04:45:00",12,149.04000000000002,{"$f":"CEILING(IF(C34870-C34869=0,IF(H34869=0,I34869,IF(J34869>K34869,I34869,E34869)),'Výstupy modelu'!$C$7),1)","v":1664},0,0,{"$f":"IF(F34870=1,IF(G34870>'Zdrojová data'!$C$19,0,1),\"\")","v":""},1664,0,{"$f":"MIN(J34870,'Zdrojová data'!$C$17)","v":0},0,{"$f":"L34870/'Zdrojová data'!$C$16","v":0},{"$f":"M34870*'Zdrojová data'!$C$13","v":0},{"$f":"N34870*'Zdrojová data'!$C$14","v":0},0,{"$f":"IF(H34870=0,D34870-'Výstupy modelu'!$C$7,IF(P34870=1,J34870-K34870,0))","v":0},0,null,{"$f":"MAX(0,IF(Q34870>0,Q34870-('Výstupy modelu'!$H$10-'Výstupy modelu'!$H$9),0))","v":0},null,null,1865.4300000000003,1885.4300000000003,0,{"$f":"MAX(0,D34870-'Vstupní hodnoty'!$C$5)","v":0}]
[null,"2017-12-30T05:00:00",12,159.84,{"$f":"CEILING(IF(C34871-C34870=0,IF(H34870=0,I34870,IF(J34870>K34870,I34870,E34870)),'Výstupy modelu'!$C$7),1)","v":1664},0,0,{"$f":"IF(F34871=1,IF(G34871>'Zdrojová data'!$C$19,0,1),\"\")","v":""},1664,0,{"$f":"MIN(J34871,'Zdrojová data'!$C$17)","v":0},0,{"$f":"L34871/'Zdrojová data'!$C$16","v":0},{"$f":"M34871*'Zdrojová data'!$C$13","v":0},{"$f":"N34871*'Zdrojová data'!$C$14","v":0},0,{"$f":"IF(H34871=0,D34871-'Výstupy modelu'!$C$7,IF(P34871=1,J34871-K34871,0))","v":0},0,null,{"$f":"MAX(0,IF(Q34871>0,Q34871-('Výstupy modelu'!$H$10-'Výstupy modelu'!$H$9),0))","v":0},null,null,1865.4300000000003,1885.4300000000003,0,{"$f":"MAX(0,D34871-'Vstupní hodnoty'!$C$5)","v":0}]
[null,"2017-12-30T05:15:00",12,159.84,{"$f":"CEILING(IF(C34872-C34871=0,IF(H34871=0,I34871,IF(J34871>K34871,I34871,E34871)),'Výstupy modelu'!$C$7),1)","v":1664},0,0,{"$f":"IF(F34872=1,IF(G34872>'Zdrojová data'!$C$19,0,1),\"\")","v":""},1664,0,{"$f":"MIN(J34872,'Zdrojová data'!$C$17)","v":0},0,{"$f":"L34872/'Zdrojová data'!$C$16","v":0},{"$f":"M34872*'Zdrojová data'!$C$13","v":0},{"$f":"N34872*'Zdrojová data'!$C$14","v":0},0,{"$f":"IF(H34872=0,D34872-'Výstupy modelu'!$C$7,IF(P34872=1,J34872-K34872,0))","v":0},0,null,{"$f":"MAX(0,IF(Q34872>0,Q34872-('Výstupy modelu'!$H$10-'Výstupy modelu'!$H$9),0))","v":0},null,null,1865.4300000000003,1885.4300000000003,0,{"$f":"MAX(0,D34872-'Vstupní hodnoty'!$C$5)","v":0}]
[null,"2017-12-30T05:30:00",12,150.12,{"$f":"CEILING(IF(C34873-C34872=0,IF(H34872=0,I34872,IF(J34872>K34872,I34872,E34872)),'Výstupy modelu'!$C$7),1)","v":1664},0,0,{"$f":"IF(F34873=1,IF(G34873>'Zdrojová data'!$C$19,0,1),\"\")","v":""},1664,0,{"$f":"MIN(J34873,'Zdrojová data'!$C$17)","v":0},0,{"$f":"L34873/'Zdrojová data'!$C$16","v":0},{"$f":"M34873*'Zdrojová data'!$C$13","v":0},{"$f":"N34873*'Zdrojová data'!$C$14","v":0},0,{"$f":"IF(H34873=0,D34873-'Výstupy modelu'!$C$7,IF(P34873=1,J34873-K34873,0))","v":0},0,null,{"$f":"MAX(0,IF(Q34873>0,Q34873-('Výstupy modelu'!$H$10-'Výstupy modelu'!$H$9),0))","v":0},null,null,1865.4300000000003,1885.4300000000003,0,{"$f":"MAX(0,D34873-'Vstupní hodnoty'!$C$5)","v":0}]
[null,"2017-12-30T05:45:00",12,162,{"$f":"CEILING(IF(C34874-C34873=0,IF(H34873=0,I34873,IF(J34873>K34873,I34873,E34873)),'Výstupy modelu'!$C$7),1)","v":1664},0,0,{"$f":"IF(F34874=1,IF(G34874>'Zdrojová data'!$C$19,0,1),\"\")","v":""},1664,0,{"$f":"MIN(J34874,'Zdrojová data'!$C$17)","v":0},0,{"$f":"L34874/'Zdrojová data'!$C$16","v":0},{"$f":"M34874*'Zdrojová data'!$C$13","v":0},{"$f":"N34874*'Zdrojová data'!$C$14","v":0},0,{"$f":"IF(H34874=0,D34874-'Výstupy modelu'!$C$7,IF(P34874=1,J34874-K34874,0))","v":0},0,null,{"$f":"MAX(0,IF(Q34874>0,Q34874-('Výstupy modelu'!$H$10-'Výstupy modelu'!$H$9),0))","v":0},null,null,1865.4300000000003,1885.4300000000003,0,{"$f":"MAX(0,D34874-'Vstupní hodnoty'!$C$5)","v":0}]
[null,"2017-12-30T06:00:00",12,166.32000000000002,{"$f":"CEILING(IF(C34875-C34874=0,IF(H34874=0,I34874,IF(J34874>K34874,I34874,E34874)),'Výstupy modelu'!$C$7),1)","v":1664},0,0,{"$f":"IF(F34875=1,IF(G34875>'Zdrojová data'!$C$19,0,1),\"\")","v":""},1664,0,{"$f":"MIN(J34875,'Zdrojová data'!$C$17)","v":0},0,{"$f":"L34875/'Zdrojová data'!$C$16","v":0},{"$f":"M34875*'Zdrojová data'!$C$13","v":0},{"$f":"N34875*'Zdrojová data'!$C$14","v":0},0,{"$f":"IF(H34875=0,D34875-'Výstupy modelu'!$C$7,IF(P34875=1,J34875-K34875,0))","v":0},0,null,{"$f":"MAX(0,IF(Q34875>0,Q34875-('Výstupy modelu'!$H$10-'Výstupy modelu'!$H$9),0))","v":0},null,null,1865.4300000000003,1885.4300000000003,0,{"$f":"MAX(0,D34875-'Vstupní hodnoty'!$C$5)","v":0}]
[null,"2017-12-30T06:15:00",12,158.76000000000002,{"$f":"CEILING(IF(C34876-C34875=0,IF(H34875=0,I34875,IF(J34875>K34875,I34875,E34875)),'Výstupy modelu'!$C$7),1)","v":1664},0,0,{"$f":"IF(F34876=1,IF(G34876>'Zdrojová data'!$C$19,0,1),\"\")","v":""},1664,0,{"$f":"MIN(J34876,'Zdrojová data'!$C$17)","v":0},0,{"$f":"L34876/'Zdrojová data'!$C$16","v":0},{"$f":"M34876*'Zdrojová data'!$C$13","v":0},{"$f":"N34876*'Zdrojová data'!$C$14","v":0},0,{"$f":"IF(H34876=0,D34876-'Výstupy modelu'!$C$7,IF(P34876=1,J34876-K34876,0))","v":0},0,null,{"$f":"MAX(0,IF(Q34876>0,Q34876-('Výstupy modelu'!$H$10-'Výstupy modelu'!$H$9),0))","v":0},null,null,1865.4300000000003,1885.4300000000003,0,{"$f":"MAX(0,D34876-'Vstupní hodnoty'!$C$5)","v":0}]
[null,"2017-12-30T06:30:00",12,156.60000000000002,{"$f":"CEILING(IF(C34877-C34876=0,IF(H34876=0,I34876,IF(J34876>K34876,I34876,E34876)),'Výstupy modelu'!$C$7),1)","v":1664},0,0,{"$f":"IF(F34877=1,IF(G34877>'Zdrojová data'!$C$19,0,1),\"\")","v":""},1664,0,{"$f":"MIN(J34877,'Zdrojová data'!$C$17)","v":0},0,{"$f":"L34877/'Zdrojová data'!$C$16","v":0},{"$f":"M34877*'Zdrojová data'!$C$13","v":0},{"$f":"N34877*'Zdrojová data'!$C$14","v":0},0,{"$f":"IF(H34877=0,D34877-'Výstupy modelu'!$C$7,IF(P34877=1,J34877-K34877,0))","v":0},0,null,{"$f":"MAX(0,IF(Q34877>0,Q34877-('Výstupy modelu'!$H$10-'Výstupy modelu'!$H$9),0))","v":0},null,null,1865.4300000000003,1885.4300000000003,0,{"$f":"MAX(0,D34877-'Vstupní hodnoty'!$C$5)","v":0}]
[null,"2017-12-30T06:45:00",12,163.08000000000001,{"$f":"CEILING(IF(C34878-C34877=0,IF(H34877=0,I34877,IF(J34877>K34877,I34877,E34877)),'Výstupy modelu'!$C$7),1)","v":1664},0,0,{"$f":"IF(F34878=1,IF(G34878>'Zdrojová data'!$C$19,0,1),\"\")","v":""},1664,0,{"$f":"MIN(J34878,'Zdrojová data'!$C$17)","v":0},0,{"$f":"L34878/'Zdrojová data'!$C$16","v":0},{"$f":"M34878*'Zdrojová data'!$C$13","v":0},{"$f":"N34878*'Zdrojová data'!$C$14","v":0},0,{"$f":"IF(H34878=0,D34878-'Výstupy modelu'!$C$7,IF(P34878=1,J34878-K34878,0))","v":0},0,null,{"$f":"MAX(0,IF(Q34878>0,Q34878-('Výstupy modelu'!$H$10-'Výstupy modelu'!$H$9),0))","v":0},null,null,1865.4300000000003,1885.4300000000003,0,{"$f":"MAX(0,D34878-'Vstupní hodnoty'!$C$5)","v":0}]
[null,"2017-12-30T07:00:00",12,152.28,{"$f":"CEILING(IF(C34879-C34878=0,IF(H34878=0,I34878,IF(J34878>K34878,I34878,E34878)),'Výstupy modelu'!$C$7),1)","v":1664},0,0,{"$f":"IF(F34879=1,IF(G34879>'Zdrojová data'!$C$19,0,1),\"\")","v":""},1664,0,{"$f":"MIN(J34879,'Zdrojová data'!$C$17)","v":0},0,{"$f":"L34879/'Zdrojová data'!$C$16","v":0},{"$f":"M34879*'Zdrojová data'!$C$13","v":0},{"$f":"N34879*'Zdrojová data'!$C$14","v":0},0,{"$f":"IF(H34879=0,D34879-'Výstupy modelu'!$C$7,IF(P34879=1,J34879-K34879,0))","v":0},0,null,{"$f":"MAX(0,IF(Q34879>0,Q34879-('Výstupy modelu'!$H$10-'Výstupy modelu'!$H$9),0))","v":0},null,null,1865.4300000000003,1885.4300000000003,0,{"$f":"MAX(0,D34879-'Vstupní hodnoty'!$C$5)","v":0}]
[null,"2017-12-30T07:15:00",12,152.28,{"$f":"CEILING(IF(C34880-C34879=0,IF(H34879=0,I34879,IF(J34879>K34879,I34879,E34879)),'Výstupy modelu'!$C$7),1)","v":1664},0,0,{"$f":"IF(F34880=1,IF(G34880>'Zdrojová data'!$C$19,0,1),\"\")","v":""},1664,0,{"$f":"MIN(J34880,'Zdrojová data'!$C$17)","v":0},0,{"$f":"L34880/'Zdrojová data'!$C$16","v":0},{"$f":"M34880*'Zdrojová data'!$C$13","v":0},{"$f":"N34880*'Zdrojová data'!$C$14","v":0},0,{"$f":"IF(H34880=0,D34880-'Výstupy modelu'!$C$7,IF(P34880=1,J34880-K34880,0))","v":0},0,null,{"$f":"MAX(0,IF(Q34880>0,Q34880-('Výstupy modelu'!$H$10-'Výstupy modelu'!$H$9),0))","v":0},null,null,1865.4300000000003,1885.4300000000003,0,{"$f":"MAX(0,D34880-'Vstupní hodnoty'!$C$5)","v":0}]
[null,"2017-12-30T07:30:00",12,158.76000000000002,{"$f":"CEILING(IF(C34881-C34880=0,IF(H34880=0,I34880,IF(J34880>K34880,I34880,E34880)),'Výstupy modelu'!$C$7),1)","v":1664},0,0,{"$f":"IF(F34881=1,IF(G34881>'Zdrojová data'!$C$19,0,1),\"\")","v":""},1664,0,{"$f":"MIN(J34881,'Zdrojová data'!$C$17)","v":0},0,{"$f":"L34881/'Zdrojová data'!$C$16","v":0},{"$f":"M34881*'Zdrojová data'!$C$13","v":0},{"$f":"N34881*'Zdrojová data'!$C$14","v":0},0,{"$f":"IF(H34881=0,D34881-'Výstupy modelu'!$C$7,IF(P34881=1,J34881-K34881,0))","v":0},0,null,{"$f":"MAX(0,IF(Q34881>0,Q34881-('Výstupy modelu'!$H$10-'Výstupy modelu'!$H$9),0))","v":0},null,null,1865.4300000000003,1885.4300000000003,0,{"$f":"MAX(0,D34881-'Vstupní hodnoty'!$C$5)","v":0}]
[null,"2017-12-30T07:45:00",12,153.36000000000001,{"$f":"CEILING(IF(C34882-C34881=0,IF(H34881=0,I34881,IF(J34881>K34881,I34881,E34881)),'Výstupy modelu'!$C$7),1)","v":1664},0,0,{"$f":"IF(F34882=1,IF(G34882>'Zdrojová data'!$C$19,0,1),\"\")","v":""},1664,0,{"$f":"MIN(J34882,'Zdrojová data'!$C$17)","v":0},0,{"$f":"L34882/'Zdrojová data'!$C$16","v":0},{"$f":"M34882*'Zdrojová data'!$C$13","v":0},{"$f":"N34882*'Zdrojová data'!$C$14","v":0},0,{"$f":"IF(H34882=0,D34882-'Výstupy modelu'!$C$7,IF(P34882=1,J34882-K34882,0))","v":0},0,null,{"$f":"MAX(0,IF(Q34882>0,Q34882-('Výstupy modelu'!$H$10-'Výstupy modelu'!$H$9),0))","v":0},null,null,1865.4300000000003,1885.4300000000003,0,{"$f":"MAX(0,D34882-'Vstupní hodnoty'!$C$5)","v":0}]
[null,"2017-12-30T08:00:00",12,152.28,{"$f":"CEILING(IF(C34883-C34882=0,IF(H34882=0,I34882,IF(J34882>K34882,I34882,E34882)),'Výstupy modelu'!$C$7),1)","v":1664},0,0,{"$f":"IF(F34883=1,IF(G34883>'Zdrojová data'!$C$19,0,1),\"\")","v":""},1664,0,{"$f":"MIN(J34883,'Zdrojová data'!$C$17)","v":0},0,{"$f":"L34883/'Zdrojová data'!$C$16","v":0},{"$f":"M34883*'Zdrojová data'!$C$13","v":0},{"$f":"N34883*'Zdrojová data'!$C$14","v":0},0,{"$f":"IF(H34883=0,D34883-'Výstupy modelu'!$C$7,IF(P34883=1,J34883-K34883,0))","v":0},0,null,{"$f":"MAX(0,IF(Q34883>0,Q34883-('Výstupy modelu'!$H$10-'Výstupy modelu'!$H$9),0))","v":0},null,null,{"$f":"W34882","v":1865.4300000000003},1885.4300000000003,0,{"$f":"MAX(0,D34883-'Vstupní hodnoty'!$C$5)","v":0}]
[null,"2017-12-30T08:15:00",12,151.20000000000002,{"$f":"CEILING(IF(C34884-C34883=0,IF(H34883=0,I34883,IF(J34883>K34883,I34883,E34883)),'Výstupy modelu'!$C$7),1)","v":1664},{"$f":"IF(D34884>E34884,1,0)","v":0},0,{"$f":"IF(F34884=1,IF(G34884>'Zdrojová data'!$C$19,0,1),\"\")","v":""},{"$f":"IF(H34884=0,D34884,IF(J34884>K34884,E34884+J34884-K34884,E34884))","v":1664},{"$f":"IF(H34884=1,D34884-E34884,0)","v":0},{"$f":"MIN(J34884,'Zdrojová data'!$C$17)","v":0},0,{"$f":"L34884/'Zdrojová data'!$C$16","v":0},{"$f":"M34884*'Zdrojová data'!$C$13","v":0},{"$f":"N34884*'Zdrojová data'!$C$14","v":0},0,{"$f":"IF(H34884=0,D34884-'Výstupy modelu'!$C$7,IF(P34884=1,J34884-K34884,0))","v":0},0,null,{"$f":"MAX(0,IF(Q34884>0,Q34884-('Výstupy modelu'!$H$10-'Výstupy modelu'!$H$9),0))","v":0},null,null,1865.4300000000003,1885.4300000000003,0,{"$f":"MAX(0,D34884-'Vstupní hodnoty'!$C$5)","v":0}]
[null,"2017-12-30T08:30:00",{"$f":"MONTH(B34885)","v":12},168.48000000000002,{"$f":"CEILING(IF(C34885-C34884=0,IF(H34884=0,I34884,IF(J34884>K34884,I34884,E34884)),'Výstupy modelu'!$C$7),1)","v":1664},0,{"$f":"IF(F34885=1,RANDBETWEEN(0,100),0)","v":0},{"$f":"IF(F34885=1,IF(G34885>'Zdrojová data'!$C$19,0,1),\"\")","v":""},1664,0,{"$f":"MIN(J34885,'Zdrojová data'!$C$17)","v":0},{"$f":"K34885/4","v":0},{"$f":"L34885/'Zdrojová data'!$C$16","v":0},{"$f":"M34885*'Zdrojová data'!$C$13","v":0},{"$f":"N34885*'Zdrojová data'!$C$14","v":0},{"$f":"IF(H34885=0,1,IF(J34885>K34885,1,0))","v":0},{"$f":"IF(H34885=0,D34885-'Výstupy modelu'!$C$7,IF(P34885=1,J34885-K34885,0))","v":0},{"$f":"IF(H34885=0,1,IF(J34885>K34885,1,0))","v":0},null,{"$f":"MAX(0,IF(Q34885>0,Q34885-('Výstupy modelu'!$H$10-'Výstupy modelu'!$H$9),0))","v":0},null,null,1865.4300000000003,1885.4300000000003,0,{"$f":"MAX(0,D34885-'Vstupní hodnoty'!$C$5)","v":0}]
[null,"2017-12-30T08:45:00",12,163.08000000000001,{"$f":"CEILING(IF(C34886-C34885=0,IF(H34885=0,I34885,IF(J34885>K34885,I34885,E34885)),'Výstupy modelu'!$C$7),1)","v":1664},0,0,{"$f":"IF(F34886=1,IF(G34886>'Zdrojová data'!$C$19,0,1),\"\")","v":""},1664,0,{"$f":"MIN(J34886,'Zdrojová data'!$C$17)","v":0},0,{"$f":"L34886/'Zdrojová data'!$C$16","v":0},{"$f":"M34886*'Zdrojová data'!$C$13","v":0},{"$f":"N34886*'Zdrojová data'!$C$14","v":0},0,{"$f":"IF(H34886=0,D34886-'Výstupy modelu'!$C$7,IF(P34886=1,J34886-K34886,0))","v":0},0,null,{"$f":"MAX(0,IF(Q34886>0,Q34886-('Výstupy modelu'!$H$10-'Výstupy modelu'!$H$9),0))","v":0},null,null,1865.4300000000003,1885.4300000000003,0,{"$f":"MAX(0,D34886-'Vstupní hodnoty'!$C$5)","v":0}]
[null,"2017-12-30T09:00:00",12,157.68,{"$f":"CEILING(IF(C34887-C34886=0,IF(H34886=0,I34886,IF(J34886>K34886,I34886,E34886)),'Výstupy modelu'!$C$7),1)","v":1664},0,0,{"$f":"IF(F34887=1,IF(G34887>'Zdrojová data'!$C$19,0,1),\"\")","v":""},1664,0,{"$f":"MIN(J34887,'Zdrojová data'!$C$17)","v":0},0,{"$f":"L34887/'Zdrojová data'!$C$16","v":0},{"$f":"M34887*'Zdrojová data'!$C$13","v":0},{"$f":"N34887*'Zdrojová data'!$C$14","v":0},0,{"$f":"IF(H34887=0,D34887-'Výstupy modelu'!$C$7,IF(P34887=1,J34887-K34887,0))","v":0},0,null,{"$f":"MAX(0,IF(Q34887>0,Q34887-('Výstupy modelu'!$H$10-'Výstupy modelu'!$H$9),0))","v":0},null,null,1865.4300000000003,1885.4300000000003,0,{"$f":"MAX(0,D34887-'Vstupní hodnoty'!$C$5)","v":0}]
[null,"2017-12-30T09:15:00",12,155.52000000000001,{"$f":"CEILING(IF(C34888-C34887=0,IF(H34887=0,I34887,IF(J34887>K34887,I34887,E34887)),'Výstupy modelu'!$C$7),1)","v":1664},0,0,{"$f":"IF(F34888=1,IF(G34888>'Zdrojová data'!$C$19,0,1),\"\")","v":""},1664,0,{"$f":"MIN(J34888,'Zdrojová data'!$C$17)","v":0},0,{"$f":"L34888/'Zdrojová data'!$C$16","v":0},{"$f":"M34888*'Zdrojová data'!$C$13","v":0},{"$f":"N34888*'Zdrojová data'!$C$14","v":0},0,{"$f":"IF(H34888=0,D34888-'Výstupy modelu'!$C$7,IF(P34888=1,J34888-K34888,0))","v":0},0,null,{"$f":"MAX(0,IF(Q34888>0,Q34888-('Výstupy modelu'!$H$10-'Výstupy modelu'!$H$9),0))","v":0},null,null,1865.4300000000003,1885.4300000000003,0,{"$f":"MAX(0,D34888-'Vstupní hodnoty'!$C$5)","v":0}]
[null,"2017-12-30T09:30:00",12,169.56,{"$f":"CEILING(IF(C34889-C34888=0,IF(H34888=0,I34888,IF(J34888>K34888,I34888,E34888)),'Výstupy modelu'!$C$7),1)","v":1664},0,0,{"$f":"IF(F34889=1,IF(G34889>'Zdrojová data'!$C$19,0,1),\"\")","v":""},1664,0,{"$f":"MIN(J34889,'Zdrojová data'!$C$17)","v":0},0,{"$f":"L34889/'Zdrojová data'!$C$16","v":0},{"$f":"M34889*'Zdrojová data'!$C$13","v":0},{"$f":"N34889*'Zdrojová data'!$C$14","v":0},0,{"$f":"IF(H34889=0,D34889-'Výstupy modelu'!$C$7,IF(P34889=1,J34889-K34889,0))","v":0},0,null,{"$f":"MAX(0,IF(Q34889>0,Q34889-('Výstupy modelu'!$H$10-'Výstupy modelu'!$H$9),0))","v":0},null,null,1865.4300000000003,1885.4300000000003,0,{"$f":"MAX(0,D34889-'Vstupní hodnoty'!$C$5)","v":0}]
[null,"2017-12-30T09:45:00",12,163.08000000000001,{"$f":"CEILING(IF(C34890-C34889=0,IF(H34889=0,I34889,IF(J34889>K34889,I34889,E34889)),'Výstupy modelu'!$C$7),1)","v":1664},0,0,{"$f":"IF(F34890=1,IF(G34890>'Zdrojová data'!$C$19,0,1),\"\")","v":""},1664,0,{"$f":"MIN(J34890,'Zdrojová data'!$C$17)","v":0},0,{"$f":"L34890/'Zdrojová data'!$C$16","v":0},{"$f":"M34890*'Zdrojová data'!$C$13","v":0},{"$f":"N34890*'Zdrojová data'!$C$14","v":0},0,{"$f":"IF(H34890=0,D34890-'Výstupy modelu'!$C$7,IF(P34890=1,J34890-K34890,0))","v":0},0,null,{"$f":"MAX(0,IF(Q34890>0,Q34890-('Výstupy modelu'!$H$10-'Výstupy modelu'!$H$9),0))","v":0},null,null,1865.4300000000003,1885.4300000000003,0,{"$f":"MAX(0,D34890-'Vstupní hodnoty'!$C$5)","v":0}]
[null,"2017-12-30T10:00:00",12,157.68,{"$f":"CEILING(IF(C34891-C34890=0,IF(H34890=0,I34890,IF(J34890>K34890,I34890,E34890)),'Výstupy modelu'!$C$7),1)","v":1664},0,0,{"$f":"IF(F34891=1,IF(G34891>'Zdrojová data'!$C$19,0,1),\"\")","v":""},1664,0,{"$f":"MIN(J34891,'Zdrojová data'!$C$17)","v":0},0,{"$f":"L34891/'Zdrojová data'!$C$16","v":0},{"$f":"M34891*'Zdrojová data'!$C$13","v":0},{"$f":"N34891*'Zdrojová data'!$C$14","v":0},0,{"$f":"IF(H34891=0,D34891-'Výstupy modelu'!$C$7,IF(P34891=1,J34891-K34891,0))","v":0},0,null,{"$f":"MAX(0,IF(Q34891>0,Q34891-('Výstupy modelu'!$H$10-'Výstupy modelu'!$H$9),0))","v":0},null,null,1865.4300000000003,1885.4300000000003,0,{"$f":"MAX(0,D34891-'Vstupní hodnoty'!$C$5)","v":0}]
[null,"2017-12-30T10:15:00",12,163.08000000000001,{"$f":"CEILING(IF(C34892-C34891=0,IF(H34891=0,I34891,IF(J34891>K34891,I34891,E34891)),'Výstupy modelu'!$C$7),1)","v":1664},0,0,{"$f":"IF(F34892=1,IF(G34892>'Zdrojová data'!$C$19,0,1),\"\")","v":""},1664,0,{"$f":"MIN(J34892,'Zdrojová data'!$C$17)","v":0},0,{"$f":"L34892/'Zdrojová data'!$C$16","v":0},{"$f":"M34892*'Zdrojová data'!$C$13","v":0},{"$f":"N34892*'Zdrojová data'!$C$14","v":0},0,{"$f":"IF(H34892=0,D34892-'Výstupy modelu'!$C$7,IF(P34892=1,J34892-K34892,0))","v":0},0,null,{"$f":"MAX(0,IF(Q34892>0,Q34892-('Výstupy modelu'!$H$10-'Výstupy modelu'!$H$9),0))","v":0},null,null,1865.4300000000003,1885.4300000000003,0,{"$f":"MAX(0,D34892-'Vstupní hodnoty'!$C$5)","v":0}]
[null,"2017-12-30T10:30:00",12,154.44,{"$f":"CEILING(IF(C34893-C34892=0,IF(H34892=0,I34892,IF(J34892>K34892,I34892,E34892)),'Výstupy modelu'!$C$7),1)","v":1664},0,0,{"$f":"IF(F34893=1,IF(G34893>'Zdrojová data'!$C$19,0,1),\"\")","v":""},1664,0,{"$f":"MIN(J34893,'Zdrojová data'!$C$17)","v":0},0,{"$f":"L34893/'Zdrojová data'!$C$16","v":0},{"$f":"M34893*'Zdrojová data'!$C$13","v":0},{"$f":"N34893*'Zdrojová data'!$C$14","v":0},0,{"$f":"IF(H34893=0,D34893-'Výstupy modelu'!$C$7,IF(P34893=1,J34893-K34893,0))","v":0},0,null,{"$f":"MAX(0,IF(Q34893>0,Q34893-('Výstupy modelu'!$H$10-'Výstupy modelu'!$H$9),0))","v":0},null,null,1865.4300000000003,1885.4300000000003,0,{"$f":"MAX(0,D34893-'Vstupní hodnoty'!$C$5)","v":0}]
[null,"2017-12-30T10:45:00",12,145.80000000000001,{"$f":"CEILING(IF(C34894-C34893=0,IF(H34893=0,I34893,IF(J34893>K34893,I34893,E34893)),'Výstupy modelu'!$C$7),1)","v":1664},0,0,{"$f":"IF(F34894=1,IF(G34894>'Zdrojová data'!$C$19,0,1),\"\")","v":""},1664,0,{"$f":"MIN(J34894,'Zdrojová data'!$C$17)","v":0},0,{"$f":"L34894/'Zdrojová data'!$C$16","v":0},{"$f":"M34894*'Zdrojová data'!$C$13","v":0},{"$f":"N34894*'Zdrojová data'!$C$14","v":0},0,{"$f":"IF(H34894=0,D34894-'Výstupy modelu'!$C$7,IF(P34894=1,J34894-K34894,0))","v":0},0,null,{"$f":"MAX(0,IF(Q34894>0,Q34894-('Výstupy modelu'!$H$10-'Výstupy modelu'!$H$9),0))","v":0},null,null,1865.4300000000003,1885.4300000000003,0,{"$f":"MAX(0,D34894-'Vstupní hodnoty'!$C$5)","v":0}]
[null,"2017-12-30T11:00:00",12,153.36000000000001,{"$f":"CEILING(IF(C34895-C34894=0,IF(H34894=0,I34894,IF(J34894>K34894,I34894,E34894)),'Výstupy modelu'!$C$7),1)","v":1664},0,0,{"$f":"IF(F34895=1,IF(G34895>'Zdrojová data'!$C$19,0,1),\"\")","v":""},1664,0,{"$f":"MIN(J34895,'Zdrojová data'!$C$17)","v":0},0,{"$f":"L34895/'Zdrojová data'!$C$16","v":0},{"$f":"M34895*'Zdrojová data'!$C$13","v":0},{"$f":"N34895*'Zdrojová data'!$C$14","v":0},0,{"$f":"IF(H34895=0,D34895-'Výstupy modelu'!$C$7,IF(P34895=1,J34895-K34895,0))","v":0},0,null,{"$f":"MAX(0,IF(Q34895>0,Q34895-('Výstupy modelu'!$H$10-'Výstupy modelu'!$H$9),0))","v":0},null,null,1865.4300000000003,1885.4300000000003,0,{"$f":"MAX(0,D34895-'Vstupní hodnoty'!$C$5)","v":0}]
[null,"2017-12-30T11:15:00",12,146.88,{"$f":"CEILING(IF(C34896-C34895=0,IF(H34895=0,I34895,IF(J34895>K34895,I34895,E34895)),'Výstupy modelu'!$C$7),1)","v":1664},0,0,{"$f":"IF(F34896=1,IF(G34896>'Zdrojová data'!$C$19,0,1),\"\")","v":""},1664,0,{"$f":"MIN(J34896,'Zdrojová data'!$C$17)","v":0},0,{"$f":"L34896/'Zdrojová data'!$C$16","v":0},{"$f":"M34896*'Zdrojová data'!$C$13","v":0},{"$f":"N34896*'Zdrojová data'!$C$14","v":0},0,{"$f":"IF(H34896=0,D34896-'Výstupy modelu'!$C$7,IF(P34896=1,J34896-K34896,0))","v":0},0,null,{"$f":"MAX(0,IF(Q34896>0,Q34896-('Výstupy modelu'!$H$10-'Výstupy modelu'!$H$9),0))","v":0},null,null,1865.4300000000003,1885.4300000000003,0,{"$f":"MAX(0,D34896-'Vstupní hodnoty'!$C$5)","v":0}]
[null,"2017-12-30T11:30:00",12,141.48000000000002,{"$f":"CEILING(IF(C34897-C34896=0,IF(H34896=0,I34896,IF(J34896>K34896,I34896,E34896)),'Výstupy modelu'!$C$7),1)","v":1664},0,0,{"$f":"IF(F34897=1,IF(G34897>'Zdrojová data'!$C$19,0,1),\"\")","v":""},1664,0,{"$f":"MIN(J34897,'Zdrojová data'!$C$17)","v":0},0,{"$f":"L34897/'Zdrojová data'!$C$16","v":0},{"$f":"M34897*'Zdrojová data'!$C$13","v":0},{"$f":"N34897*'Zdrojová data'!$C$14","v":0},0,{"$f":"IF(H34897=0,D34897-'Výstupy modelu'!$C$7,IF(P34897=1,J34897-K34897,0))","v":0},0,null,{"$f":"MAX(0,IF(Q34897>0,Q34897-('Výstupy modelu'!$H$10-'Výstupy modelu'!$H$9),0))","v":0},null,null,1865.4300000000003,1885.4300000000003,0,{"$f":"MAX(0,D34897-'Vstupní hodnoty'!$C$5)","v":0}]
[null,"2017-12-30T11:45:00",12,140.4,{"$f":"CEILING(IF(C34898-C34897=0,IF(H34897=0,I34897,IF(J34897>K34897,I34897,E34897)),'Výstupy modelu'!$C$7),1)","v":1664},0,0,{"$f":"IF(F34898=1,IF(G34898>'Zdrojová data'!$C$19,0,1),\"\")","v":""},1664,0,{"$f":"MIN(J34898,'Zdrojová data'!$C$17)","v":0},0,{"$f":"L34898/'Zdrojová data'!$C$16","v":0},{"$f":"M34898*'Zdrojová data'!$C$13","v":0},{"$f":"N34898*'Zdrojová data'!$C$14","v":0},0,{"$f":"IF(H34898=0,D34898-'Výstupy modelu'!$C$7,IF(P34898=1,J34898-K34898,0))","v":0},0,null,{"$f":"MAX(0,IF(Q34898>0,Q34898-('Výstupy modelu'!$H$10-'Výstupy modelu'!$H$9),0))","v":0},null,null,1865.4300000000003,1885.4300000000003,0,{"$f":"MAX(0,D34898-'Vstupní hodnoty'!$C$5)","v":0}]
[null,"2017-12-30T12:00:00",12,143.64000000000001,{"$f":"CEILING(IF(C34899-C34898=0,IF(H34898=0,I34898,IF(J34898>K34898,I34898,E34898)),'Výstupy modelu'!$C$7),1)","v":1664},0,0,{"$f":"IF(F34899=1,IF(G34899>'Zdrojová data'!$C$19,0,1),\"\")","v":""},1664,0,{"$f":"MIN(J34899,'Zdrojová data'!$C$17)","v":0},0,{"$f":"L34899/'Zdrojová data'!$C$16","v":0},{"$f":"M34899*'Zdrojová data'!$C$13","v":0},{"$f":"N34899*'Zdrojová data'!$C$14","v":0},0,{"$f":"IF(H34899=0,D34899-'Výstupy modelu'!$C$7,IF(P34899=1,J34899-K34899,0))","v":0},0,null,{"$f":"MAX(0,IF(Q34899>0,Q34899-('Výstupy modelu'!$H$10-'Výstupy modelu'!$H$9),0))","v":0},null,null,1865.4300000000003,1885.4300000000003,0,{"$f":"MAX(0,D34899-'Vstupní hodnoty'!$C$5)","v":0}]
[null,"2017-12-30T12:15:00",12,139.32000000000002,{"$f":"CEILING(IF(C34900-C34899=0,IF(H34899=0,I34899,IF(J34899>K34899,I34899,E34899)),'Výstupy modelu'!$C$7),1)","v":1664},0,0,{"$f":"IF(F34900=1,IF(G34900>'Zdrojová data'!$C$19,0,1),\"\")","v":""},1664,0,{"$f":"MIN(J34900,'Zdrojová data'!$C$17)","v":0},0,{"$f":"L34900/'Zdrojová data'!$C$16","v":0},{"$f":"M34900*'Zdrojová data'!$C$13","v":0},{"$f":"N34900*'Zdrojová data'!$C$14","v":0},0,{"$f":"IF(H34900=0,D34900-'Výstupy modelu'!$C$7,IF(P34900=1,J34900-K34900,0))","v":0},0,null,{"$f":"MAX(0,IF(Q34900>0,Q34900-('Výstupy modelu'!$H$10-'Výstupy modelu'!$H$9),0))","v":0},null,null,1865.4300000000003,1885.4300000000003,0,{"$f":"MAX(0,D34900-'Vstupní hodnoty'!$C$5)","v":0}]
[null,"2017-12-30T12:30:00",12,145.80000000000001,{"$f":"CEILING(IF(C34901-C34900=0,IF(H34900=0,I34900,IF(J34900>K34900,I34900,E34900)),'Výstupy modelu'!$C$7),1)","v":1664},0,0,{"$f":"IF(F34901=1,IF(G34901>'Zdrojová data'!$C$19,0,1),\"\")","v":""},1664,0,{"$f":"MIN(J34901,'Zdrojová data'!$C$17)","v":0},0,{"$f":"L34901/'Zdrojová data'!$C$16","v":0},{"$f":"M34901*'Zdrojová data'!$C$13","v":0},{"$f":"N34901*'Zdrojová data'!$C$14","v":0},0,{"$f":"IF(H34901=0,D34901-'Výstupy modelu'!$C$7,IF(P34901=1,J34901-K34901,0))","v":0},0,null,{"$f":"MAX(0,IF(Q34901>0,Q34901-('Výstupy modelu'!$H$10-'Výstupy modelu'!$H$9),0))","v":0},null,null,1865.4300000000003,1885.4300000000003,0,{"$f":"MAX(0,D34901-'Vstupní hodnoty'!$C$5)","v":0}]
[null,"2017-12-30T12:45:00",12,137.16,{"$f":"CEILING(IF(C34902-C34901=0,IF(H34901=0,I34901,IF(J34901>K34901,I34901,E34901)),'Výstupy modelu'!$C$7),1)","v":1664},0,0,{"$f":"IF(F34902=1,IF(G34902>'Zdrojová data'!$C$19,0,1),\"\")","v":""},1664,0,{"$f":"MIN(J34902,'Zdrojová data'!$C$17)","v":0},0,{"$f":"L34902/'Zdrojová data'!$C$16","v":0},{"$f":"M34902*'Zdrojová data'!$C$13","v":0},{"$f":"N34902*'Zdrojová data'!$C$14","v":0},0,{"$f":"IF(H34902=0,D34902-'Výstupy modelu'!$C$7,IF(P34902=1,J34902-K34902,0))","v":0},0,null,{"$f":"MAX(0,IF(Q34902>0,Q34902-('Výstupy modelu'!$H$10-'Výstupy modelu'!$H$9),0))","v":0},null,null,1865.4300000000003,1885.4300000000003,0,{"$f":"MAX(0,D34902-'Vstupní hodnoty'!$C$5)","v":0}]
[null,"2017-12-30T13:00:00",12,141.48000000000002,{"$f":"CEILING(IF(C34903-C34902=0,IF(H34902=0,I34902,IF(J34902>K34902,I34902,E34902)),'Výstupy modelu'!$C$7),1)","v":1664},0,0,{"$f":"IF(F34903=1,IF(G34903>'Zdrojová data'!$C$19,0,1),\"\")","v":""},1664,0,{"$f":"MIN(J34903,'Zdrojová data'!$C$17)","v":0},0,{"$f":"L34903/'Zdrojová data'!$C$16","v":0},{"$f":"M34903*'Zdrojová data'!$C$13","v":0},{"$f":"N34903*'Zdrojová data'!$C$14","v":0},0,{"$f":"IF(H34903=0,D34903-'Výstupy modelu'!$C$7,IF(P34903=1,J34903-K34903,0))","v":0},0,null,{"$f":"MAX(0,IF(Q34903>0,Q34903-('Výstupy modelu'!$H$10-'Výstupy modelu'!$H$9),0))","v":0},null,null,1865.4300000000003,1885.4300000000003,0,{"$f":"MAX(0,D34903-'Vstupní hodnoty'!$C$5)","v":0}]
[null,"2017-12-30T13:15:00",12,155.52000000000001,{"$f":"CEILING(IF(C34904-C34903=0,IF(H34903=0,I34903,IF(J34903>K34903,I34903,E34903)),'Výstupy modelu'!$C$7),1)","v":1664},0,0,{"$f":"IF(F34904=1,IF(G34904>'Zdrojová data'!$C$19,0,1),\"\")","v":""},1664,0,{"$f":"MIN(J34904,'Zdrojová data'!$C$17)","v":0},0,{"$f":"L34904/'Zdrojová data'!$C$16","v":0},{"$f":"M34904*'Zdrojová data'!$C$13","v":0},{"$f":"N34904*'Zdrojová data'!$C$14","v":0},0,{"$f":"IF(H34904=0,D34904-'Výstupy modelu'!$C$7,IF(P34904=1,J34904-K34904,0))","v":0},0,null,{"$f":"MAX(0,IF(Q34904>0,Q34904-('Výstupy modelu'!$H$10-'Výstupy modelu'!$H$9),0))","v":0},null,null,1865.4300000000003,1885.4300000000003,0,{"$f":"MAX(0,D34904-'Vstupní hodnoty'!$C$5)","v":0}]
[null,"2017-12-30T13:30:00",12,137.16,{"$f":"CEILING(IF(C34905-C34904=0,IF(H34904=0,I34904,IF(J34904>K34904,I34904,E34904)),'Výstupy modelu'!$C$7),1)","v":1664},0,0,{"$f":"IF(F34905=1,IF(G34905>'Zdrojová data'!$C$19,0,1),\"\")","v":""},1664,0,{"$f":"MIN(J34905,'Zdrojová data'!$C$17)","v":0},0,{"$f":"L34905/'Zdrojová data'!$C$16","v":0},{"$f":"M34905*'Zdrojová data'!$C$13","v":0},{"$f":"N34905*'Zdrojová data'!$C$14","v":0},0,{"$f":"IF(H34905=0,D34905-'Výstupy modelu'!$C$7,IF(P34905=1,J34905-K34905,0))","v":0},0,null,{"$f":"MAX(0,IF(Q34905>0,Q34905-('Výstupy modelu'!$H$10-'Výstupy modelu'!$H$9),0))","v":0},null,null,1865.4300000000003,1885.4300000000003,0,{"$f":"MAX(0,D34905-'Vstupní hodnoty'!$C$5)","v":0}]
[null,"2017-12-30T13:45:00",12,136.08000000000001,{"$f":"CEILING(IF(C34906-C34905=0,IF(H34905=0,I34905,IF(J34905>K34905,I34905,E34905)),'Výstupy modelu'!$C$7),1)","v":1664},0,0,{"$f":"IF(F34906=1,IF(G34906>'Zdrojová data'!$C$19,0,1),\"\")","v":""},1664,0,{"$f":"MIN(J34906,'Zdrojová data'!$C$17)","v":0},0,{"$f":"L34906/'Zdrojová data'!$C$16","v":0},{"$f":"M34906*'Zdrojová data'!$C$13","v":0},{"$f":"N34906*'Zdrojová data'!$C$14","v":0},0,{"$f":"IF(H34906=0,D34906-'Výstupy modelu'!$C$7,IF(P34906=1,J34906-K34906,0))","v":0},0,null,{"$f":"MAX(0,IF(Q34906>0,Q34906-('Výstupy modelu'!$H$10-'Výstupy modelu'!$H$9),0))","v":0},null,null,1865.4300000000003,1885.4300000000003,0,{"$f":"MAX(0,D34906-'Vstupní hodnoty'!$C$5)","v":0}]
[null,"2017-12-30T14:00:00",12,151.20000000000002,{"$f":"CEILING(IF(C34907-C34906=0,IF(H34906=0,I34906,IF(J34906>K34906,I34906,E34906)),'Výstupy modelu'!$C$7),1)","v":1664},0,0,{"$f":"IF(F34907=1,IF(G34907>'Zdrojová data'!$C$19,0,1),\"\")","v":""},1664,0,{"$f":"MIN(J34907,'Zdrojová data'!$C$17)","v":0},0,{"$f":"L34907/'Zdrojová data'!$C$16","v":0},{"$f":"M34907*'Zdrojová data'!$C$13","v":0},{"$f":"N34907*'Zdrojová data'!$C$14","v":0},0,{"$f":"IF(H34907=0,D34907-'Výstupy modelu'!$C$7,IF(P34907=1,J34907-K34907,0))","v":0},0,null,{"$f":"MAX(0,IF(Q34907>0,Q34907-('Výstupy modelu'!$H$10-'Výstupy modelu'!$H$9),0))","v":0},null,null,1865.4300000000003,1885.4300000000003,0,{"$f":"MAX(0,D34907-'Vstupní hodnoty'!$C$5)","v":0}]
[null,"2017-12-30T14:15:00",12,141.48000000000002,{"$f":"CEILING(IF(C34908-C34907=0,IF(H34907=0,I34907,IF(J34907>K34907,I34907,E34907)),'Výstupy modelu'!$C$7),1)","v":1664},0,0,{"$f":"IF(F34908=1,IF(G34908>'Zdrojová data'!$C$19,0,1),\"\")","v":""},1664,0,{"$f":"MIN(J34908,'Zdrojová data'!$C$17)","v":0},0,{"$f":"L34908/'Zdrojová data'!$C$16","v":0},{"$f":"M34908*'Zdrojová data'!$C$13","v":0},{"$f":"N34908*'Zdrojová data'!$C$14","v":0},0,{"$f":"IF(H34908=0,D34908-'Výstupy modelu'!$C$7,IF(P34908=1,J34908-K34908,0))","v":0},0,null,{"$f":"MAX(0,IF(Q34908>0,Q34908-('Výstupy modelu'!$H$10-'Výstupy modelu'!$H$9),0))","v":0},null,null,1865.4300000000003,1885.4300000000003,0,{"$f":"MAX(0,D34908-'Vstupní hodnoty'!$C$5)","v":0}]
[null,"2017-12-30T14:30:00",12,136.08000000000001,{"$f":"CEILING(IF(C34909-C34908=0,IF(H34908=0,I34908,IF(J34908>K34908,I34908,E34908)),'Výstupy modelu'!$C$7),1)","v":1664},0,0,{"$f":"IF(F34909=1,IF(G34909>'Zdrojová data'!$C$19,0,1),\"\")","v":""},1664,0,{"$f":"MIN(J34909,'Zdrojová data'!$C$17)","v":0},0,{"$f":"L34909/'Zdrojová data'!$C$16","v":0},{"$f":"M34909*'Zdrojová data'!$C$13","v":0},{"$f":"N34909*'Zdrojová data'!$C$14","v":0},0,{"$f":"IF(H34909=0,D34909-'Výstupy modelu'!$C$7,IF(P34909=1,J34909-K34909,0))","v":0},0,null,{"$f":"MAX(0,IF(Q34909>0,Q34909-('Výstupy modelu'!$H$10-'Výstupy modelu'!$H$9),0))","v":0},null,null,1865.4300000000003,1885.4300000000003,0,{"$f":"MAX(0,D34909-'Vstupní hodnoty'!$C$5)","v":0}]
[null,"2017-12-30T14:45:00",12,141.48000000000002,{"$f":"CEILING(IF(C34910-C34909=0,IF(H34909=0,I34909,IF(J34909>K34909,I34909,E34909)),'Výstupy modelu'!$C$7),1)","v":1664},0,0,{"$f":"IF(F34910=1,IF(G34910>'Zdrojová data'!$C$19,0,1),\"\")","v":""},1664,0,{"$f":"MIN(J34910,'Zdrojová data'!$C$17)","v":0},0,{"$f":"L34910/'Zdrojová data'!$C$16","v":0},{"$f":"M34910*'Zdrojová data'!$C$13","v":0},{"$f":"N34910*'Zdrojová data'!$C$14","v":0},0,{"$f":"IF(H34910=0,D34910-'Výstupy modelu'!$C$7,IF(P34910=1,J34910-K34910,0))","v":0},0,null,{"$f":"MAX(0,IF(Q34910>0,Q34910-('Výstupy modelu'!$H$10-'Výstupy modelu'!$H$9),0))","v":0},null,null,1865.4300000000003,1885.4300000000003,0,{"$f":"MAX(0,D34910-'Vstupní hodnoty'!$C$5)","v":0}]
[null,"2017-12-30T15:00:00",12,142.56,{"$f":"CEILING(IF(C34911-C34910=0,IF(H34910=0,I34910,IF(J34910>K34910,I34910,E34910)),'Výstupy modelu'!$C$7),1)","v":1664},0,0,{"$f":"IF(F34911=1,IF(G34911>'Zdrojová data'!$C$19,0,1),\"\")","v":""},1664,0,{"$f":"MIN(J34911,'Zdrojová data'!$C$17)","v":0},0,{"$f":"L34911/'Zdrojová data'!$C$16","v":0},{"$f":"M34911*'Zdrojová data'!$C$13","v":0},{"$f":"N34911*'Zdrojová data'!$C$14","v":0},0,{"$f":"IF(H34911=0,D34911-'Výstupy modelu'!$C$7,IF(P34911=1,J34911-K34911,0))","v":0},0,null,{"$f":"MAX(0,IF(Q34911>0,Q34911-('Výstupy modelu'!$H$10-'Výstupy modelu'!$H$9),0))","v":0},null,null,1865.4300000000003,1885.4300000000003,0,{"$f":"MAX(0,D34911-'Vstupní hodnoty'!$C$5)","v":0}]
[null,"2017-12-30T15:15:00",12,153.36000000000001,{"$f":"CEILING(IF(C34912-C34911=0,IF(H34911=0,I34911,IF(J34911>K34911,I34911,E34911)),'Výstupy modelu'!$C$7),1)","v":1664},0,0,{"$f":"IF(F34912=1,IF(G34912>'Zdrojová data'!$C$19,0,1),\"\")","v":""},1664,0,{"$f":"MIN(J34912,'Zdrojová data'!$C$17)","v":0},0,{"$f":"L34912/'Zdrojová data'!$C$16","v":0},{"$f":"M34912*'Zdrojová data'!$C$13","v":0},{"$f":"N34912*'Zdrojová data'!$C$14","v":0},0,{"$f":"IF(H34912=0,D34912-'Výstupy modelu'!$C$7,IF(P34912=1,J34912-K34912,0))","v":0},0,null,{"$f":"MAX(0,IF(Q34912>0,Q34912-('Výstupy modelu'!$H$10-'Výstupy modelu'!$H$9),0))","v":0},null,null,1865.4300000000003,1885.4300000000003,0,{"$f":"MAX(0,D34912-'Vstupní hodnoty'!$C$5)","v":0}]
[null,"2017-12-30T15:30:00",12,154.44,{"$f":"CEILING(IF(C34913-C34912=0,IF(H34912=0,I34912,IF(J34912>K34912,I34912,E34912)),'Výstupy modelu'!$C$7),1)","v":1664},0,0,{"$f":"IF(F34913=1,IF(G34913>'Zdrojová data'!$C$19,0,1),\"\")","v":""},1664,0,{"$f":"MIN(J34913,'Zdrojová data'!$C$17)","v":0},0,{"$f":"L34913/'Zdrojová data'!$C$16","v":0},{"$f":"M34913*'Zdrojová data'!$C$13","v":0},{"$f":"N34913*'Zdrojová data'!$C$14","v":0},0,{"$f":"IF(H34913=0,D34913-'Výstupy modelu'!$C$7,IF(P34913=1,J34913-K34913,0))","v":0},0,null,{"$f":"MAX(0,IF(Q34913>0,Q34913-('Výstupy modelu'!$H$10-'Výstupy modelu'!$H$9),0))","v":0},null,null,1865.4300000000003,1885.4300000000003,0,{"$f":"MAX(0,D34913-'Vstupní hodnoty'!$C$5)","v":0}]
[null,"2017-12-30T15:45:00",12,147.96,{"$f":"CEILING(IF(C34914-C34913=0,IF(H34913=0,I34913,IF(J34913>K34913,I34913,E34913)),'Výstupy modelu'!$C$7),1)","v":1664},0,0,{"$f":"IF(F34914=1,IF(G34914>'Zdrojová data'!$C$19,0,1),\"\")","v":""},1664,0,{"$f":"MIN(J34914,'Zdrojová data'!$C$17)","v":0},0,{"$f":"L34914/'Zdrojová data'!$C$16","v":0},{"$f":"M34914*'Zdrojová data'!$C$13","v":0},{"$f":"N34914*'Zdrojová data'!$C$14","v":0},0,{"$f":"IF(H34914=0,D34914-'Výstupy modelu'!$C$7,IF(P34914=1,J34914-K34914,0))","v":0},0,null,{"$f":"MAX(0,IF(Q34914>0,Q34914-('Výstupy modelu'!$H$10-'Výstupy modelu'!$H$9),0))","v":0},null,null,1865.4300000000003,1885.4300000000003,0,{"$f":"MAX(0,D34914-'Vstupní hodnoty'!$C$5)","v":0}]
[null,"2017-12-30T16:00:00",12,144.72,{"$f":"CEILING(IF(C34915-C34914=0,IF(H34914=0,I34914,IF(J34914>K34914,I34914,E34914)),'Výstupy modelu'!$C$7),1)","v":1664},0,0,{"$f":"IF(F34915=1,IF(G34915>'Zdrojová data'!$C$19,0,1),\"\")","v":""},1664,0,{"$f":"MIN(J34915,'Zdrojová data'!$C$17)","v":0},0,{"$f":"L34915/'Zdrojová data'!$C$16","v":0},{"$f":"M34915*'Zdrojová data'!$C$13","v":0},{"$f":"N34915*'Zdrojová data'!$C$14","v":0},0,{"$f":"IF(H34915=0,D34915-'Výstupy modelu'!$C$7,IF(P34915=1,J34915-K34915,0))","v":0},0,null,{"$f":"MAX(0,IF(Q34915>0,Q34915-('Výstupy modelu'!$H$10-'Výstupy modelu'!$H$9),0))","v":0},null,null,1865.4300000000003,1885.4300000000003,0,{"$f":"MAX(0,D34915-'Vstupní hodnoty'!$C$5)","v":0}]
[null,"2017-12-30T16:15:00",12,152.28,{"$f":"CEILING(IF(C34916-C34915=0,IF(H34915=0,I34915,IF(J34915>K34915,I34915,E34915)),'Výstupy modelu'!$C$7),1)","v":1664},0,0,{"$f":"IF(F34916=1,IF(G34916>'Zdrojová data'!$C$19,0,1),\"\")","v":""},1664,0,{"$f":"MIN(J34916,'Zdrojová data'!$C$17)","v":0},0,{"$f":"L34916/'Zdrojová data'!$C$16","v":0},{"$f":"M34916*'Zdrojová data'!$C$13","v":0},{"$f":"N34916*'Zdrojová data'!$C$14","v":0},0,{"$f":"IF(H34916=0,D34916-'Výstupy modelu'!$C$7,IF(P34916=1,J34916-K34916,0))","v":0},0,null,{"$f":"MAX(0,IF(Q34916>0,Q34916-('Výstupy modelu'!$H$10-'Výstupy modelu'!$H$9),0))","v":0},null,null,1865.4300000000003,1885.4300000000003,0,{"$f":"MAX(0,D34916-'Vstupní hodnoty'!$C$5)","v":0}]
[null,"2017-12-30T16:30:00",12,167.4,{"$f":"CEILING(IF(C34917-C34916=0,IF(H34916=0,I34916,IF(J34916>K34916,I34916,E34916)),'Výstupy modelu'!$C$7),1)","v":1664},0,0,{"$f":"IF(F34917=1,IF(G34917>'Zdrojová data'!$C$19,0,1),\"\")","v":""},1664,0,{"$f":"MIN(J34917,'Zdrojová data'!$C$17)","v":0},0,{"$f":"L34917/'Zdrojová data'!$C$16","v":0},{"$f":"M34917*'Zdrojová data'!$C$13","v":0},{"$f":"N34917*'Zdrojová data'!$C$14","v":0},0,{"$f":"IF(H34917=0,D34917-'Výstupy modelu'!$C$7,IF(P34917=1,J34917-K34917,0))","v":0},0,null,{"$f":"MAX(0,IF(Q34917>0,Q34917-('Výstupy modelu'!$H$10-'Výstupy modelu'!$H$9),0))","v":0},null,null,1865.4300000000003,1885.4300000000003,0,{"$f":"MAX(0,D34917-'Vstupní hodnoty'!$C$5)","v":0}]
[null,"2017-12-30T16:45:00",12,178.20000000000002,{"$f":"CEILING(IF(C34918-C34917=0,IF(H34917=0,I34917,IF(J34917>K34917,I34917,E34917)),'Výstupy modelu'!$C$7),1)","v":1664},0,0,{"$f":"IF(F34918=1,IF(G34918>'Zdrojová data'!$C$19,0,1),\"\")","v":""},1664,0,{"$f":"MIN(J34918,'Zdrojová data'!$C$17)","v":0},0,{"$f":"L34918/'Zdrojová data'!$C$16","v":0},{"$f":"M34918*'Zdrojová data'!$C$13","v":0},{"$f":"N34918*'Zdrojová data'!$C$14","v":0},0,{"$f":"IF(H34918=0,D34918-'Výstupy modelu'!$C$7,IF(P34918=1,J34918-K34918,0))","v":0},0,null,{"$f":"MAX(0,IF(Q34918>0,Q34918-('Výstupy modelu'!$H$10-'Výstupy modelu'!$H$9),0))","v":0},null,null,1865.4300000000003,1885.4300000000003,0,{"$f":"MAX(0,D34918-'Vstupní hodnoty'!$C$5)","v":0}]
[null,"2017-12-30T17:00:00",12,191.16000000000003,{"$f":"CEILING(IF(C34919-C34918=0,IF(H34918=0,I34918,IF(J34918>K34918,I34918,E34918)),'Výstupy modelu'!$C$7),1)","v":1664},0,0,{"$f":"IF(F34919=1,IF(G34919>'Zdrojová data'!$C$19,0,1),\"\")","v":""},1664,0,{"$f":"MIN(J34919,'Zdrojová data'!$C$17)","v":0},0,{"$f":"L34919/'Zdrojová data'!$C$16","v":0},{"$f":"M34919*'Zdrojová data'!$C$13","v":0},{"$f":"N34919*'Zdrojová data'!$C$14","v":0},0,{"$f":"IF(H34919=0,D34919-'Výstupy modelu'!$C$7,IF(P34919=1,J34919-K34919,0))","v":0},0,null,{"$f":"MAX(0,IF(Q34919>0,Q34919-('Výstupy modelu'!$H$10-'Výstupy modelu'!$H$9),0))","v":0},null,null,1865.4300000000003,1885.4300000000003,0,{"$f":"MAX(0,D34919-'Vstupní hodnoty'!$C$5)","v":0}]
[null,"2017-12-30T17:15:00",12,191.16000000000003,{"$f":"CEILING(IF(C34920-C34919=0,IF(H34919=0,I34919,IF(J34919>K34919,I34919,E34919)),'Výstupy modelu'!$C$7),1)","v":1664},0,0,{"$f":"IF(F34920=1,IF(G34920>'Zdrojová data'!$C$19,0,1),\"\")","v":""},1664,0,{"$f":"MIN(J34920,'Zdrojová data'!$C$17)","v":0},0,{"$f":"L34920/'Zdrojová data'!$C$16","v":0},{"$f":"M34920*'Zdrojová data'!$C$13","v":0},{"$f":"N34920*'Zdrojová data'!$C$14","v":0},0,{"$f":"IF(H34920=0,D34920-'Výstupy modelu'!$C$7,IF(P34920=1,J34920-K34920,0))","v":0},0,null,{"$f":"MAX(0,IF(Q34920>0,Q34920-('Výstupy modelu'!$H$10-'Výstupy modelu'!$H$9),0))","v":0},null,null,1865.4300000000003,1885.4300000000003,0,{"$f":"MAX(0,D34920-'Vstupní hodnoty'!$C$5)","v":0}]
[null,"2017-12-30T17:30:00",12,190.08,{"$f":"CEILING(IF(C34921-C34920=0,IF(H34920=0,I34920,IF(J34920>K34920,I34920,E34920)),'Výstupy modelu'!$C$7),1)","v":1664},0,0,{"$f":"IF(F34921=1,IF(G34921>'Zdrojová data'!$C$19,0,1),\"\")","v":""},1664,0,{"$f":"MIN(J34921,'Zdrojová data'!$C$17)","v":0},0,{"$f":"L34921/'Zdrojová data'!$C$16","v":0},{"$f":"M34921*'Zdrojová data'!$C$13","v":0},{"$f":"N34921*'Zdrojová data'!$C$14","v":0},0,{"$f":"IF(H34921=0,D34921-'Výstupy modelu'!$C$7,IF(P34921=1,J34921-K34921,0))","v":0},0,null,{"$f":"MAX(0,IF(Q34921>0,Q34921-('Výstupy modelu'!$H$10-'Výstupy modelu'!$H$9),0))","v":0},null,null,1865.4300000000003,1885.4300000000003,0,{"$f":"MAX(0,D34921-'Vstupní hodnoty'!$C$5)","v":0}]
[null,"2017-12-30T17:45:00",12,193.32000000000002,{"$f":"CEILING(IF(C34922-C34921=0,IF(H34921=0,I34921,IF(J34921>K34921,I34921,E34921)),'Výstupy modelu'!$C$7),1)","v":1664},0,0,{"$f":"IF(F34922=1,IF(G34922>'Zdrojová data'!$C$19,0,1),\"\")","v":""},1664,0,{"$f":"MIN(J34922,'Zdrojová data'!$C$17)","v":0},0,{"$f":"L34922/'Zdrojová data'!$C$16","v":0},{"$f":"M34922*'Zdrojová data'!$C$13","v":0},{"$f":"N34922*'Zdrojová data'!$C$14","v":0},0,{"$f":"IF(H34922=0,D34922-'Výstupy modelu'!$C$7,IF(P34922=1,J34922-K34922,0))","v":0},0,null,{"$f":"MAX(0,IF(Q34922>0,Q34922-('Výstupy modelu'!$H$10-'Výstupy modelu'!$H$9),0))","v":0},null,null,1865.4300000000003,1885.4300000000003,0,{"$f":"MAX(0,D34922-'Vstupní hodnoty'!$C$5)","v":0}]
[null,"2017-12-30T18:00:00",12,208.44000000000003,{"$f":"CEILING(IF(C34923-C34922=0,IF(H34922=0,I34922,IF(J34922>K34922,I34922,E34922)),'Výstupy modelu'!$C$7),1)","v":1664},0,0,{"$f":"IF(F34923=1,IF(G34923>'Zdrojová data'!$C$19,0,1),\"\")","v":""},1664,0,{"$f":"MIN(J34923,'Zdrojová data'!$C$17)","v":0},0,{"$f":"L34923/'Zdrojová data'!$C$16","v":0},{"$f":"M34923*'Zdrojová data'!$C$13","v":0},{"$f":"N34923*'Zdrojová data'!$C$14","v":0},0,{"$f":"IF(H34923=0,D34923-'Výstupy modelu'!$C$7,IF(P34923=1,J34923-K34923,0))","v":0},0,null,{"$f":"MAX(0,IF(Q34923>0,Q34923-('Výstupy modelu'!$H$10-'Výstupy modelu'!$H$9),0))","v":0},null,null,1865.4300000000003,1885.4300000000003,0,{"$f":"MAX(0,D34923-'Vstupní hodnoty'!$C$5)","v":0}]
[null,"2017-12-30T18:15:00",12,194.4,{"$f":"CEILING(IF(C34924-C34923=0,IF(H34923=0,I34923,IF(J34923>K34923,I34923,E34923)),'Výstupy modelu'!$C$7),1)","v":1664},0,0,{"$f":"IF(F34924=1,IF(G34924>'Zdrojová data'!$C$19,0,1),\"\")","v":""},1664,0,{"$f":"MIN(J34924,'Zdrojová data'!$C$17)","v":0},0,{"$f":"L34924/'Zdrojová data'!$C$16","v":0},{"$f":"M34924*'Zdrojová data'!$C$13","v":0},{"$f":"N34924*'Zdrojová data'!$C$14","v":0},0,{"$f":"IF(H34924=0,D34924-'Výstupy modelu'!$C$7,IF(P34924=1,J34924-K34924,0))","v":0},0,null,{"$f":"MAX(0,IF(Q34924>0,Q34924-('Výstupy modelu'!$H$10-'Výstupy modelu'!$H$9),0))","v":0},null,null,1865.4300000000003,1885.4300000000003,0,{"$f":"MAX(0,D34924-'Vstupní hodnoty'!$C$5)","v":0}]
[null,"2017-12-30T18:30:00",12,194.4,{"$f":"CEILING(IF(C34925-C34924=0,IF(H34924=0,I34924,IF(J34924>K34924,I34924,E34924)),'Výstupy modelu'!$C$7),1)","v":1664},0,0,{"$f":"IF(F34925=1,IF(G34925>'Zdrojová data'!$C$19,0,1),\"\")","v":""},1664,0,{"$f":"MIN(J34925,'Zdrojová data'!$C$17)","v":0},0,{"$f":"L34925/'Zdrojová data'!$C$16","v":0},{"$f":"M34925*'Zdrojová data'!$C$13","v":0},{"$f":"N34925*'Zdrojová data'!$C$14","v":0},0,{"$f":"IF(H34925=0,D34925-'Výstupy modelu'!$C$7,IF(P34925=1,J34925-K34925,0))","v":0},0,null,{"$f":"MAX(0,IF(Q34925>0,Q34925-('Výstupy modelu'!$H$10-'Výstupy modelu'!$H$9),0))","v":0},null,null,1865.4300000000003,1885.4300000000003,0,{"$f":"MAX(0,D34925-'Vstupní hodnoty'!$C$5)","v":0}]
[null,"2017-12-30T18:45:00",12,200.88000000000002,{"$f":"CEILING(IF(C34926-C34925=0,IF(H34925=0,I34925,IF(J34925>K34925,I34925,E34925)),'Výstupy modelu'!$C$7),1)","v":1664},0,0,{"$f":"IF(F34926=1,IF(G34926>'Zdrojová data'!$C$19,0,1),\"\")","v":""},1664,0,{"$f":"MIN(J34926,'Zdrojová data'!$C$17)","v":0},0,{"$f":"L34926/'Zdrojová data'!$C$16","v":0},{"$f":"M34926*'Zdrojová data'!$C$13","v":0},{"$f":"N34926*'Zdrojová data'!$C$14","v":0},0,{"$f":"IF(H34926=0,D34926-'Výstupy modelu'!$C$7,IF(P34926=1,J34926-K34926,0))","v":0},0,null,{"$f":"MAX(0,IF(Q34926>0,Q34926-('Výstupy modelu'!$H$10-'Výstupy modelu'!$H$9),0))","v":0},null,null,1865.4300000000003,1885.4300000000003,0,{"$f":"MAX(0,D34926-'Vstupní hodnoty'!$C$5)","v":0}]
[null,"2017-12-30T19:00:00",12,206.28,{"$f":"CEILING(IF(C34927-C34926=0,IF(H34926=0,I34926,IF(J34926>K34926,I34926,E34926)),'Výstupy modelu'!$C$7),1)","v":1664},0,0,{"$f":"IF(F34927=1,IF(G34927>'Zdrojová data'!$C$19,0,1),\"\")","v":""},1664,0,{"$f":"MIN(J34927,'Zdrojová data'!$C$17)","v":0},0,{"$f":"L34927/'Zdrojová data'!$C$16","v":0},{"$f":"M34927*'Zdrojová data'!$C$13","v":0},{"$f":"N34927*'Zdrojová data'!$C$14","v":0},0,{"$f":"IF(H34927=0,D34927-'Výstupy modelu'!$C$7,IF(P34927=1,J34927-K34927,0))","v":0},0,null,{"$f":"MAX(0,IF(Q34927>0,Q34927-('Výstupy modelu'!$H$10-'Výstupy modelu'!$H$9),0))","v":0},null,null,1865.4300000000003,1885.4300000000003,0,{"$f":"MAX(0,D34927-'Vstupní hodnoty'!$C$5)","v":0}]
[null,"2017-12-30T19:15:00",12,198.72000000000003,{"$f":"CEILING(IF(C34928-C34927=0,IF(H34927=0,I34927,IF(J34927>K34927,I34927,E34927)),'Výstupy modelu'!$C$7),1)","v":1664},0,0,{"$f":"IF(F34928=1,IF(G34928>'Zdrojová data'!$C$19,0,1),\"\")","v":""},1664,0,{"$f":"MIN(J34928,'Zdrojová data'!$C$17)","v":0},0,{"$f":"L34928/'Zdrojová data'!$C$16","v":0},{"$f":"M34928*'Zdrojová data'!$C$13","v":0},{"$f":"N34928*'Zdrojová data'!$C$14","v":0},0,{"$f":"IF(H34928=0,D34928-'Výstupy modelu'!$C$7,IF(P34928=1,J34928-K34928,0))","v":0},0,null,{"$f":"MAX(0,IF(Q34928>0,Q34928-('Výstupy modelu'!$H$10-'Výstupy modelu'!$H$9),0))","v":0},null,null,1865.4300000000003,1885.4300000000003,0,{"$f":"MAX(0,D34928-'Vstupní hodnoty'!$C$5)","v":0}]
[null,"2017-12-30T19:30:00",12,192.24,{"$f":"CEILING(IF(C34929-C34928=0,IF(H34928=0,I34928,IF(J34928>K34928,I34928,E34928)),'Výstupy modelu'!$C$7),1)","v":1664},0,0,{"$f":"IF(F34929=1,IF(G34929>'Zdrojová data'!$C$19,0,1),\"\")","v":""},1664,0,{"$f":"MIN(J34929,'Zdrojová data'!$C$17)","v":0},0,{"$f":"L34929/'Zdrojová data'!$C$16","v":0},{"$f":"M34929*'Zdrojová data'!$C$13","v":0},{"$f":"N34929*'Zdrojová data'!$C$14","v":0},0,{"$f":"IF(H34929=0,D34929-'Výstupy modelu'!$C$7,IF(P34929=1,J34929-K34929,0))","v":0},0,null,{"$f":"MAX(0,IF(Q34929>0,Q34929-('Výstupy modelu'!$H$10-'Výstupy modelu'!$H$9),0))","v":0},null,null,1865.4300000000003,1885.4300000000003,{"$f":"MAX(0,D34929-W34929)","v":0},{"$f":"MAX(0,D34929-'Vstupní hodnoty'!$C$5)","v":0}]
[null,"2017-12-30T19:45:00",12,198.72000000000003,{"$f":"CEILING(IF(C34930-C34929=0,IF(H34929=0,I34929,IF(J34929>K34929,I34929,E34929)),'Výstupy modelu'!$C$7),1)","v":1664},0,0,{"$f":"IF(F34930=1,IF(G34930>'Zdrojová data'!$C$19,0,1),\"\")","v":""},1664,0,{"$f":"MIN(J34930,'Zdrojová data'!$C$17)","v":0},0,{"$f":"L34930/'Zdrojová data'!$C$16","v":0},{"$f":"M34930*'Zdrojová data'!$C$13","v":0},{"$f":"N34930*'Zdrojová data'!$C$14","v":0},0,{"$f":"IF(H34930=0,D34930-'Výstupy modelu'!$C$7,IF(P34930=1,J34930-K34930,0))","v":0},0,null,{"$f":"MAX(0,IF(Q34930>0,Q34930-('Výstupy modelu'!$H$10-'Výstupy modelu'!$H$9),0))","v":0},null,null,1865.4300000000003,1885.4300000000003,0,{"$f":"MAX(0,D34930-'Vstupní hodnoty'!$C$5)","v":0}]
[null,"2017-12-30T20:00:00",12,211.68,{"$f":"CEILING(IF(C34931-C34930=0,IF(H34930=0,I34930,IF(J34930>K34930,I34930,E34930)),'Výstupy modelu'!$C$7),1)","v":1664},0,0,{"$f":"IF(F34931=1,IF(G34931>'Zdrojová data'!$C$19,0,1),\"\")","v":""},1664,0,{"$f":"MIN(J34931,'Zdrojová data'!$C$17)","v":0},0,{"$f":"L34931/'Zdrojová data'!$C$16","v":0},{"$f":"M34931*'Zdrojová data'!$C$13","v":0},{"$f":"N34931*'Zdrojová data'!$C$14","v":0},0,{"$f":"IF(H34931=0,D34931-'Výstupy modelu'!$C$7,IF(P34931=1,J34931-K34931,0))","v":0},0,null,{"$f":"MAX(0,IF(Q34931>0,Q34931-('Výstupy modelu'!$H$10-'Výstupy modelu'!$H$9),0))","v":0},null,null,1865.4300000000003,1885.4300000000003,0,{"$f":"MAX(0,D34931-'Vstupní hodnoty'!$C$5)","v":0}]
[null,"2017-12-30T20:15:00",12,191.16000000000003,{"$f":"CEILING(IF(C34932-C34931=0,IF(H34931=0,I34931,IF(J34931>K34931,I34931,E34931)),'Výstupy modelu'!$C$7),1)","v":1664},0,0,{"$f":"IF(F34932=1,IF(G34932>'Zdrojová data'!$C$19,0,1),\"\")","v":""},1664,0,{"$f":"MIN(J34932,'Zdrojová data'!$C$17)","v":0},0,{"$f":"L34932/'Zdrojová data'!$C$16","v":0},{"$f":"M34932*'Zdrojová data'!$C$13","v":0},{"$f":"N34932*'Zdrojová data'!$C$14","v":0},0,{"$f":"IF(H34932=0,D34932-'Výstupy modelu'!$C$7,IF(P34932=1,J34932-K34932,0))","v":0},0,null,{"$f":"MAX(0,IF(Q34932>0,Q34932-('Výstupy modelu'!$H$10-'Výstupy modelu'!$H$9),0))","v":0},null,null,1865.4300000000003,1885.4300000000003,0,{"$f":"MAX(0,D34932-'Vstupní hodnoty'!$C$5)","v":0}]
[null,"2017-12-30T20:30:00",12,184.68,{"$f":"CEILING(IF(C34933-C34932=0,IF(H34932=0,I34932,IF(J34932>K34932,I34932,E34932)),'Výstupy modelu'!$C$7),1)","v":1664},0,0,{"$f":"IF(F34933=1,IF(G34933>'Zdrojová data'!$C$19,0,1),\"\")","v":""},1664,0,{"$f":"MIN(J34933,'Zdrojová data'!$C$17)","v":0},0,{"$f":"L34933/'Zdrojová data'!$C$16","v":0},{"$f":"M34933*'Zdrojová data'!$C$13","v":0},{"$f":"N34933*'Zdrojová data'!$C$14","v":0},0,{"$f":"IF(H34933=0,D34933-'Výstupy modelu'!$C$7,IF(P34933=1,J34933-K34933,0))","v":0},0,null,{"$f":"MAX(0,IF(Q34933>0,Q34933-('Výstupy modelu'!$H$10-'Výstupy modelu'!$H$9),0))","v":0},null,null,1865.4300000000003,1885.4300000000003,0,{"$f":"MAX(0,D34933-'Vstupní hodnoty'!$C$5)","v":0}]
[null,"2017-12-30T20:45:00",12,190.08,{"$f":"CEILING(IF(C34934-C34933=0,IF(H34933=0,I34933,IF(J34933>K34933,I34933,E34933)),'Výstupy modelu'!$C$7),1)","v":1664},0,0,{"$f":"IF(F34934=1,IF(G34934>'Zdrojová data'!$C$19,0,1),\"\")","v":""},1664,0,{"$f":"MIN(J34934,'Zdrojová data'!$C$17)","v":0},0,{"$f":"L34934/'Zdrojová data'!$C$16","v":0},{"$f":"M34934*'Zdrojová data'!$C$13","v":0},{"$f":"N34934*'Zdrojová data'!$C$14","v":0},0,{"$f":"IF(H34934=0,D34934-'Výstupy modelu'!$C$7,IF(P34934=1,J34934-K34934,0))","v":0},0,null,{"$f":"MAX(0,IF(Q34934>0,Q34934-('Výstupy modelu'!$H$10-'Výstupy modelu'!$H$9),0))","v":0},null,null,1865.4300000000003,1885.4300000000003,0,{"$f":"MAX(0,D34934-'Vstupní hodnoty'!$C$5)","v":0}]
[null,"2017-12-30T21:00:00",12,193.32000000000002,{"$f":"CEILING(IF(C34935-C34934=0,IF(H34934=0,I34934,IF(J34934>K34934,I34934,E34934)),'Výstupy modelu'!$C$7),1)","v":1664},0,0,{"$f":"IF(F34935=1,IF(G34935>'Zdrojová data'!$C$19,0,1),\"\")","v":""},1664,0,{"$f":"MIN(J34935,'Zdrojová data'!$C$17)","v":0},0,{"$f":"L34935/'Zdrojová data'!$C$16","v":0},{"$f":"M34935*'Zdrojová data'!$C$13","v":0},{"$f":"N34935*'Zdrojová data'!$C$14","v":0},0,{"$f":"IF(H34935=0,D34935-'Výstupy modelu'!$C$7,IF(P34935=1,J34935-K34935,0))","v":0},0,null,{"$f":"MAX(0,IF(Q34935>0,Q34935-('Výstupy modelu'!$H$10-'Výstupy modelu'!$H$9),0))","v":0},null,null,1865.4300000000003,1885.4300000000003,0,{"$f":"MAX(0,D34935-'Vstupní hodnoty'!$C$5)","v":0}]
[null,"2017-12-30T21:15:00",12,192.24,{"$f":"CEILING(IF(C34936-C34935=0,IF(H34935=0,I34935,IF(J34935>K34935,I34935,E34935)),'Výstupy modelu'!$C$7),1)","v":1664},0,0,{"$f":"IF(F34936=1,IF(G34936>'Zdrojová data'!$C$19,0,1),\"\")","v":""},1664,0,{"$f":"MIN(J34936,'Zdrojová data'!$C$17)","v":0},0,{"$f":"L34936/'Zdrojová data'!$C$16","v":0},{"$f":"M34936*'Zdrojová data'!$C$13","v":0},{"$f":"N34936*'Zdrojová data'!$C$14","v":0},0,{"$f":"IF(H34936=0,D34936-'Výstupy modelu'!$C$7,IF(P34936=1,J34936-K34936,0))","v":0},0,null,{"$f":"MAX(0,IF(Q34936>0,Q34936-('Výstupy modelu'!$H$10-'Výstupy modelu'!$H$9),0))","v":0},null,null,1865.4300000000003,1885.4300000000003,0,{"$f":"MAX(0,D34936-'Vstupní hodnoty'!$C$5)","v":0}]
[null,"2017-12-30T21:30:00",12,189,{"$f":"CEILING(IF(C34937-C34936=0,IF(H34936=0,I34936,IF(J34936>K34936,I34936,E34936)),'Výstupy modelu'!$C$7),1)","v":1664},0,0,{"$f":"IF(F34937=1,IF(G34937>'Zdrojová data'!$C$19,0,1),\"\")","v":""},1664,0,{"$f":"MIN(J34937,'Zdrojová data'!$C$17)","v":0},0,{"$f":"L34937/'Zdrojová data'!$C$16","v":0},{"$f":"M34937*'Zdrojová data'!$C$13","v":0},{"$f":"N34937*'Zdrojová data'!$C$14","v":0},0,{"$f":"IF(H34937=0,D34937-'Výstupy modelu'!$C$7,IF(P34937=1,J34937-K34937,0))","v":0},0,null,{"$f":"MAX(0,IF(Q34937>0,Q34937-('Výstupy modelu'!$H$10-'Výstupy modelu'!$H$9),0))","v":0},null,null,1865.4300000000003,1885.4300000000003,0,{"$f":"MAX(0,D34937-'Vstupní hodnoty'!$C$5)","v":0}]
[null,"2017-12-30T21:45:00",12,189,{"$f":"CEILING(IF(C34938-C34937=0,IF(H34937=0,I34937,IF(J34937>K34937,I34937,E34937)),'Výstupy modelu'!$C$7),1)","v":1664},0,0,{"$f":"IF(F34938=1,IF(G34938>'Zdrojová data'!$C$19,0,1),\"\")","v":""},1664,0,{"$f":"MIN(J34938,'Zdrojová data'!$C$17)","v":0},0,{"$f":"L34938/'Zdrojová data'!$C$16","v":0},{"$f":"M34938*'Zdrojová data'!$C$13","v":0},{"$f":"N34938*'Zdrojová data'!$C$14","v":0},0,{"$f":"IF(H34938=0,D34938-'Výstupy modelu'!$C$7,IF(P34938=1,J34938-K34938,0))","v":0},0,null,{"$f":"MAX(0,IF(Q34938>0,Q34938-('Výstupy modelu'!$H$10-'Výstupy modelu'!$H$9),0))","v":0},null,null,1865.4300000000003,1885.4300000000003,0,{"$f":"MAX(0,D34938-'Vstupní hodnoty'!$C$5)","v":0}]
[null,"2017-12-30T22:00:00",12,187.92000000000002,{"$f":"CEILING(IF(C34939-C34938=0,IF(H34938=0,I34938,IF(J34938>K34938,I34938,E34938)),'Výstupy modelu'!$C$7),1)","v":1664},0,0,{"$f":"IF(F34939=1,IF(G34939>'Zdrojová data'!$C$19,0,1),\"\")","v":""},1664,0,{"$f":"MIN(J34939,'Zdrojová data'!$C$17)","v":0},0,{"$f":"L34939/'Zdrojová data'!$C$16","v":0},{"$f":"M34939*'Zdrojová data'!$C$13","v":0},{"$f":"N34939*'Zdrojová data'!$C$14","v":0},0,{"$f":"IF(H34939=0,D34939-'Výstupy modelu'!$C$7,IF(P34939=1,J34939-K34939,0))","v":0},0,null,{"$f":"MAX(0,IF(Q34939>0,Q34939-('Výstupy modelu'!$H$10-'Výstupy modelu'!$H$9),0))","v":0},null,null,1865.4300000000003,1885.4300000000003,0,{"$f":"MAX(0,D34939-'Vstupní hodnoty'!$C$5)","v":0}]
[null,"2017-12-30T22:15:00",12,189,{"$f":"CEILING(IF(C34940-C34939=0,IF(H34939=0,I34939,IF(J34939>K34939,I34939,E34939)),'Výstupy modelu'!$C$7),1)","v":1664},0,0,{"$f":"IF(F34940=1,IF(G34940>'Zdrojová data'!$C$19,0,1),\"\")","v":""},1664,0,{"$f":"MIN(J34940,'Zdrojová data'!$C$17)","v":0},0,{"$f":"L34940/'Zdrojová data'!$C$16","v":0},{"$f":"M34940*'Zdrojová data'!$C$13","v":0},{"$f":"N34940*'Zdrojová data'!$C$14","v":0},0,{"$f":"IF(H34940=0,D34940-'Výstupy modelu'!$C$7,IF(P34940=1,J34940-K34940,0))","v":0},0,null,{"$f":"MAX(0,IF(Q34940>0,Q34940-('Výstupy modelu'!$H$10-'Výstupy modelu'!$H$9),0))","v":0},null,null,1865.4300000000003,1885.4300000000003,0,{"$f":"MAX(0,D34940-'Vstupní hodnoty'!$C$5)","v":0}]
[null,"2017-12-30T22:30:00",12,193.32000000000002,{"$f":"CEILING(IF(C34941-C34940=0,IF(H34940=0,I34940,IF(J34940>K34940,I34940,E34940)),'Výstupy modelu'!$C$7),1)","v":1664},0,0,{"$f":"IF(F34941=1,IF(G34941>'Zdrojová data'!$C$19,0,1),\"\")","v":""},1664,0,{"$f":"MIN(J34941,'Zdrojová data'!$C$17)","v":0},0,{"$f":"L34941/'Zdrojová data'!$C$16","v":0},{"$f":"M34941*'Zdrojová data'!$C$13","v":0},{"$f":"N34941*'Zdrojová data'!$C$14","v":0},0,{"$f":"IF(H34941=0,D34941-'Výstupy modelu'!$C$7,IF(P34941=1,J34941-K34941,0))","v":0},0,null,{"$f":"MAX(0,IF(Q34941>0,Q34941-('Výstupy modelu'!$H$10-'Výstupy modelu'!$H$9),0))","v":0},null,null,1865.4300000000003,1885.4300000000003,0,{"$f":"MAX(0,D34941-'Vstupní hodnoty'!$C$5)","v":0}]
[null,"2017-12-30T22:45:00",12,184.68,{"$f":"CEILING(IF(C34942-C34941=0,IF(H34941=0,I34941,IF(J34941>K34941,I34941,E34941)),'Výstupy modelu'!$C$7),1)","v":1664},0,0,{"$f":"IF(F34942=1,IF(G34942>'Zdrojová data'!$C$19,0,1),\"\")","v":""},1664,0,{"$f":"MIN(J34942,'Zdrojová data'!$C$17)","v":0},0,{"$f":"L34942/'Zdrojová data'!$C$16","v":0},{"$f":"M34942*'Zdrojová data'!$C$13","v":0},{"$f":"N34942*'Zdrojová data'!$C$14","v":0},0,{"$f":"IF(H34942=0,D34942-'Výstupy modelu'!$C$7,IF(P34942=1,J34942-K34942,0))","v":0},0,null,{"$f":"MAX(0,IF(Q34942>0,Q34942-('Výstupy modelu'!$H$10-'Výstupy modelu'!$H$9),0))","v":0},null,null,1865.4300000000003,1885.4300000000003,0,{"$f":"MAX(0,D34942-'Vstupní hodnoty'!$C$5)","v":0}]
[null,"2017-12-30T23:00:00",12,189,{"$f":"CEILING(IF(C34943-C34942=0,IF(H34942=0,I34942,IF(J34942>K34942,I34942,E34942)),'Výstupy modelu'!$C$7),1)","v":1664},0,0,{"$f":"IF(F34943=1,IF(G34943>'Zdrojová data'!$C$19,0,1),\"\")","v":""},1664,0,{"$f":"MIN(J34943,'Zdrojová data'!$C$17)","v":0},0,{"$f":"L34943/'Zdrojová data'!$C$16","v":0},{"$f":"M34943*'Zdrojová data'!$C$13","v":0},{"$f":"N34943*'Zdrojová data'!$C$14","v":0},0,{"$f":"IF(H34943=0,D34943-'Výstupy modelu'!$C$7,IF(P34943=1,J34943-K34943,0))","v":0},0,null,{"$f":"MAX(0,IF(Q34943>0,Q34943-('Výstupy modelu'!$H$10-'Výstupy modelu'!$H$9),0))","v":0},null,null,1865.4300000000003,1885.4300000000003,0,{"$f":"MAX(0,D34943-'Vstupní hodnoty'!$C$5)","v":0}]
[null,"2017-12-30T23:15:00",12,184.68,{"$f":"CEILING(IF(C34944-C34943=0,IF(H34943=0,I34943,IF(J34943>K34943,I34943,E34943)),'Výstupy modelu'!$C$7),1)","v":1664},0,0,{"$f":"IF(F34944=1,IF(G34944>'Zdrojová data'!$C$19,0,1),\"\")","v":""},1664,0,{"$f":"MIN(J34944,'Zdrojová data'!$C$17)","v":0},0,{"$f":"L34944/'Zdrojová data'!$C$16","v":0},{"$f":"M34944*'Zdrojová data'!$C$13","v":0},{"$f":"N34944*'Zdrojová data'!$C$14","v":0},0,{"$f":"IF(H34944=0,D34944-'Výstupy modelu'!$C$7,IF(P34944=1,J34944-K34944,0))","v":0},0,null,{"$f":"MAX(0,IF(Q34944>0,Q34944-('Výstupy modelu'!$H$10-'Výstupy modelu'!$H$9),0))","v":0},null,null,1865.4300000000003,1885.4300000000003,0,{"$f":"MAX(0,D34944-'Vstupní hodnoty'!$C$5)","v":0}]
[null,"2017-12-30T23:30:00",12,182.52,{"$f":"CEILING(IF(C34945-C34944=0,IF(H34944=0,I34944,IF(J34944>K34944,I34944,E34944)),'Výstupy modelu'!$C$7),1)","v":1664},0,0,{"$f":"IF(F34945=1,IF(G34945>'Zdrojová data'!$C$19,0,1),\"\")","v":""},1664,0,{"$f":"MIN(J34945,'Zdrojová data'!$C$17)","v":0},0,{"$f":"L34945/'Zdrojová data'!$C$16","v":0},{"$f":"M34945*'Zdrojová data'!$C$13","v":0},{"$f":"N34945*'Zdrojová data'!$C$14","v":0},0,{"$f":"IF(H34945=0,D34945-'Výstupy modelu'!$C$7,IF(P34945=1,J34945-K34945,0))","v":0},0,null,{"$f":"MAX(0,IF(Q34945>0,Q34945-('Výstupy modelu'!$H$10-'Výstupy modelu'!$H$9),0))","v":0},null,null,1865.4300000000003,1885.4300000000003,0,{"$f":"MAX(0,D34945-'Vstupní hodnoty'!$C$5)","v":0}]
[null,"2017-12-30T23:45:00",12,180.36,{"$f":"CEILING(IF(C34946-C34945=0,IF(H34945=0,I34945,IF(J34945>K34945,I34945,E34945)),'Výstupy modelu'!$C$7),1)","v":1664},0,0,{"$f":"IF(F34946=1,IF(G34946>'Zdrojová data'!$C$19,0,1),\"\")","v":""},1664,0,{"$f":"MIN(J34946,'Zdrojová data'!$C$17)","v":0},0,{"$f":"L34946/'Zdrojová data'!$C$16","v":0},{"$f":"M34946*'Zdrojová data'!$C$13","v":0},{"$f":"N34946*'Zdrojová data'!$C$14","v":0},0,{"$f":"IF(H34946=0,D34946-'Výstupy modelu'!$C$7,IF(P34946=1,J34946-K34946,0))","v":0},0,null,{"$f":"MAX(0,IF(Q34946>0,Q34946-('Výstupy modelu'!$H$10-'Výstupy modelu'!$H$9),0))","v":0},null,null,1865.4300000000003,1885.4300000000003,0,{"$f":"MAX(0,D34946-'Vstupní hodnoty'!$C$5)","v":0}]
[null,"2017-12-31",12,179.28,{"$f":"CEILING(IF(C34947-C34946=0,IF(H34946=0,I34946,IF(J34946>K34946,I34946,E34946)),'Výstupy modelu'!$C$7),1)","v":1664},0,0,{"$f":"IF(F34947=1,IF(G34947>'Zdrojová data'!$C$19,0,1),\"\")","v":""},1664,0,{"$f":"MIN(J34947,'Zdrojová data'!$C$17)","v":0},0,{"$f":"L34947/'Zdrojová data'!$C$16","v":0},{"$f":"M34947*'Zdrojová data'!$C$13","v":0},{"$f":"N34947*'Zdrojová data'!$C$14","v":0},0,{"$f":"IF(H34947=0,D34947-'Výstupy modelu'!$C$7,IF(P34947=1,J34947-K34947,0))","v":0},0,null,{"$f":"MAX(0,IF(Q34947>0,Q34947-('Výstupy modelu'!$H$10-'Výstupy modelu'!$H$9),0))","v":0},null,null,{"$f":"W34946","v":1865.4300000000003},1885.4300000000003,0,{"$f":"MAX(0,D34947-'Vstupní hodnoty'!$C$5)","v":0}]
[null,"2017-12-31T00:15:00",12,183.60000000000002,{"$f":"CEILING(IF(C34948-C34947=0,IF(H34947=0,I34947,IF(J34947>K34947,I34947,E34947)),'Výstupy modelu'!$C$7),1)","v":1664},{"$f":"IF(D34948>E34948,1,0)","v":0},0,{"$f":"IF(F34948=1,IF(G34948>'Zdrojová data'!$C$19,0,1),\"\")","v":""},{"$f":"IF(H34948=0,D34948,IF(J34948>K34948,E34948+J34948-K34948,E34948))","v":1664},{"$f":"IF(H34948=1,D34948-E34948,0)","v":0},{"$f":"MIN(J34948,'Zdrojová data'!$C$17)","v":0},0,{"$f":"L34948/'Zdrojová data'!$C$16","v":0},{"$f":"M34948*'Zdrojová data'!$C$13","v":0},{"$f":"N34948*'Zdrojová data'!$C$14","v":0},0,{"$f":"IF(H34948=0,D34948-'Výstupy modelu'!$C$7,IF(P34948=1,J34948-K34948,0))","v":0},0,null,{"$f":"MAX(0,IF(Q34948>0,Q34948-('Výstupy modelu'!$H$10-'Výstupy modelu'!$H$9),0))","v":0},null,null,1865.4300000000003,1885.4300000000003,0,{"$f":"MAX(0,D34948-'Vstupní hodnoty'!$C$5)","v":0}]
[null,"2017-12-31T00:30:00",{"$f":"MONTH(B34949)","v":12},205.20000000000002,{"$f":"CEILING(IF(C34949-C34948=0,IF(H34948=0,I34948,IF(J34948>K34948,I34948,E34948)),'Výstupy modelu'!$C$7),1)","v":1664},0,{"$f":"IF(F34949=1,RANDBETWEEN(0,100),0)","v":0},{"$f":"IF(F34949=1,IF(G34949>'Zdrojová data'!$C$19,0,1),\"\")","v":""},1664,0,{"$f":"MIN(J34949,'Zdrojová data'!$C$17)","v":0},{"$f":"K34949/4","v":0},{"$f":"L34949/'Zdrojová data'!$C$16","v":0},{"$f":"M34949*'Zdrojová data'!$C$13","v":0},{"$f":"N34949*'Zdrojová data'!$C$14","v":0},{"$f":"IF(H34949=0,1,IF(J34949>K34949,1,0))","v":0},{"$f":"IF(H34949=0,D34949-'Výstupy modelu'!$C$7,IF(P34949=1,J34949-K34949,0))","v":0},{"$f":"IF(H34949=0,1,IF(J34949>K34949,1,0))","v":0},null,{"$f":"MAX(0,IF(Q34949>0,Q34949-('Výstupy modelu'!$H$10-'Výstupy modelu'!$H$9),0))","v":0},null,null,1865.4300000000003,1885.4300000000003,0,{"$f":"MAX(0,D34949-'Vstupní hodnoty'!$C$5)","v":0}]
[null,"2017-12-31T00:45:00",12,207.36,{"$f":"CEILING(IF(C34950-C34949=0,IF(H34949=0,I34949,IF(J34949>K34949,I34949,E34949)),'Výstupy modelu'!$C$7),1)","v":1664},0,0,{"$f":"IF(F34950=1,IF(G34950>'Zdrojová data'!$C$19,0,1),\"\")","v":""},1664,0,{"$f":"MIN(J34950,'Zdrojová data'!$C$17)","v":0},0,{"$f":"L34950/'Zdrojová data'!$C$16","v":0},{"$f":"M34950*'Zdrojová data'!$C$13","v":0},{"$f":"N34950*'Zdrojová data'!$C$14","v":0},0,{"$f":"IF(H34950=0,D34950-'Výstupy modelu'!$C$7,IF(P34950=1,J34950-K34950,0))","v":0},0,null,{"$f":"MAX(0,IF(Q34950>0,Q34950-('Výstupy modelu'!$H$10-'Výstupy modelu'!$H$9),0))","v":0},null,null,1865.4300000000003,1885.4300000000003,0,{"$f":"MAX(0,D34950-'Vstupní hodnoty'!$C$5)","v":0}]
[null,"2017-12-31T01:00:00",12,198.72000000000003,{"$f":"CEILING(IF(C34951-C34950=0,IF(H34950=0,I34950,IF(J34950>K34950,I34950,E34950)),'Výstupy modelu'!$C$7),1)","v":1664},0,0,{"$f":"IF(F34951=1,IF(G34951>'Zdrojová data'!$C$19,0,1),\"\")","v":""},1664,0,{"$f":"MIN(J34951,'Zdrojová data'!$C$17)","v":0},0,{"$f":"L34951/'Zdrojová data'!$C$16","v":0},{"$f":"M34951*'Zdrojová data'!$C$13","v":0},{"$f":"N34951*'Zdrojová data'!$C$14","v":0},0,{"$f":"IF(H34951=0,D34951-'Výstupy modelu'!$C$7,IF(P34951=1,J34951-K34951,0))","v":0},0,null,{"$f":"MAX(0,IF(Q34951>0,Q34951-('Výstupy modelu'!$H$10-'Výstupy modelu'!$H$9),0))","v":0},null,null,1865.4300000000003,1885.4300000000003,0,{"$f":"MAX(0,D34951-'Vstupní hodnoty'!$C$5)","v":0}]
[null,"2017-12-31T01:15:00",12,211.68,{"$f":"CEILING(IF(C34952-C34951=0,IF(H34951=0,I34951,IF(J34951>K34951,I34951,E34951)),'Výstupy modelu'!$C$7),1)","v":1664},0,0,{"$f":"IF(F34952=1,IF(G34952>'Zdrojová data'!$C$19,0,1),\"\")","v":""},1664,0,{"$f":"MIN(J34952,'Zdrojová data'!$C$17)","v":0},0,{"$f":"L34952/'Zdrojová data'!$C$16","v":0},{"$f":"M34952*'Zdrojová data'!$C$13","v":0},{"$f":"N34952*'Zdrojová data'!$C$14","v":0},0,{"$f":"IF(H34952=0,D34952-'Výstupy modelu'!$C$7,IF(P34952=1,J34952-K34952,0))","v":0},0,null,{"$f":"MAX(0,IF(Q34952>0,Q34952-('Výstupy modelu'!$H$10-'Výstupy modelu'!$H$9),0))","v":0},null,null,1865.4300000000003,1885.4300000000003,0,{"$f":"MAX(0,D34952-'Vstupní hodnoty'!$C$5)","v":0}]
[null,"2017-12-31T01:30:00",12,208.44000000000003,{"$f":"CEILING(IF(C34953-C34952=0,IF(H34952=0,I34952,IF(J34952>K34952,I34952,E34952)),'Výstupy modelu'!$C$7),1)","v":1664},0,0,{"$f":"IF(F34953=1,IF(G34953>'Zdrojová data'!$C$19,0,1),\"\")","v":""},1664,0,{"$f":"MIN(J34953,'Zdrojová data'!$C$17)","v":0},0,{"$f":"L34953/'Zdrojová data'!$C$16","v":0},{"$f":"M34953*'Zdrojová data'!$C$13","v":0},{"$f":"N34953*'Zdrojová data'!$C$14","v":0},0,{"$f":"IF(H34953=0,D34953-'Výstupy modelu'!$C$7,IF(P34953=1,J34953-K34953,0))","v":0},0,null,{"$f":"MAX(0,IF(Q34953>0,Q34953-('Výstupy modelu'!$H$10-'Výstupy modelu'!$H$9),0))","v":0},null,null,1865.4300000000003,1885.4300000000003,0,{"$f":"MAX(0,D34953-'Vstupní hodnoty'!$C$5)","v":0}]
[null,"2017-12-31T01:45:00",12,208.44000000000003,{"$f":"CEILING(IF(C34954-C34953=0,IF(H34953=0,I34953,IF(J34953>K34953,I34953,E34953)),'Výstupy modelu'!$C$7),1)","v":1664},0,0,{"$f":"IF(F34954=1,IF(G34954>'Zdrojová data'!$C$19,0,1),\"\")","v":""},1664,0,{"$f":"MIN(J34954,'Zdrojová data'!$C$17)","v":0},0,{"$f":"L34954/'Zdrojová data'!$C$16","v":0},{"$f":"M34954*'Zdrojová data'!$C$13","v":0},{"$f":"N34954*'Zdrojová data'!$C$14","v":0},0,{"$f":"IF(H34954=0,D34954-'Výstupy modelu'!$C$7,IF(P34954=1,J34954-K34954,0))","v":0},0,null,{"$f":"MAX(0,IF(Q34954>0,Q34954-('Výstupy modelu'!$H$10-'Výstupy modelu'!$H$9),0))","v":0},null,null,1865.4300000000003,1885.4300000000003,0,{"$f":"MAX(0,D34954-'Vstupní hodnoty'!$C$5)","v":0}]
[null,"2017-12-31T02:00:00",12,211.68,{"$f":"CEILING(IF(C34955-C34954=0,IF(H34954=0,I34954,IF(J34954>K34954,I34954,E34954)),'Výstupy modelu'!$C$7),1)","v":1664},0,0,{"$f":"IF(F34955=1,IF(G34955>'Zdrojová data'!$C$19,0,1),\"\")","v":""},1664,0,{"$f":"MIN(J34955,'Zdrojová data'!$C$17)","v":0},0,{"$f":"L34955/'Zdrojová data'!$C$16","v":0},{"$f":"M34955*'Zdrojová data'!$C$13","v":0},{"$f":"N34955*'Zdrojová data'!$C$14","v":0},0,{"$f":"IF(H34955=0,D34955-'Výstupy modelu'!$C$7,IF(P34955=1,J34955-K34955,0))","v":0},0,null,{"$f":"MAX(0,IF(Q34955>0,Q34955-('Výstupy modelu'!$H$10-'Výstupy modelu'!$H$9),0))","v":0},null,null,1865.4300000000003,1885.4300000000003,0,{"$f":"MAX(0,D34955-'Vstupní hodnoty'!$C$5)","v":0}]
[null,"2017-12-31T02:15:00",12,208.44000000000003,{"$f":"CEILING(IF(C34956-C34955=0,IF(H34955=0,I34955,IF(J34955>K34955,I34955,E34955)),'Výstupy modelu'!$C$7),1)","v":1664},0,0,{"$f":"IF(F34956=1,IF(G34956>'Zdrojová data'!$C$19,0,1),\"\")","v":""},1664,0,{"$f":"MIN(J34956,'Zdrojová data'!$C$17)","v":0},0,{"$f":"L34956/'Zdrojová data'!$C$16","v":0},{"$f":"M34956*'Zdrojová data'!$C$13","v":0},{"$f":"N34956*'Zdrojová data'!$C$14","v":0},0,{"$f":"IF(H34956=0,D34956-'Výstupy modelu'!$C$7,IF(P34956=1,J34956-K34956,0))","v":0},0,null,{"$f":"MAX(0,IF(Q34956>0,Q34956-('Výstupy modelu'!$H$10-'Výstupy modelu'!$H$9),0))","v":0},null,null,1865.4300000000003,1885.4300000000003,0,{"$f":"MAX(0,D34956-'Vstupní hodnoty'!$C$5)","v":0}]
[null,"2017-12-31T02:30:00",12,203.04000000000002,{"$f":"CEILING(IF(C34957-C34956=0,IF(H34956=0,I34956,IF(J34956>K34956,I34956,E34956)),'Výstupy modelu'!$C$7),1)","v":1664},0,0,{"$f":"IF(F34957=1,IF(G34957>'Zdrojová data'!$C$19,0,1),\"\")","v":""},1664,0,{"$f":"MIN(J34957,'Zdrojová data'!$C$17)","v":0},0,{"$f":"L34957/'Zdrojová data'!$C$16","v":0},{"$f":"M34957*'Zdrojová data'!$C$13","v":0},{"$f":"N34957*'Zdrojová data'!$C$14","v":0},0,{"$f":"IF(H34957=0,D34957-'Výstupy modelu'!$C$7,IF(P34957=1,J34957-K34957,0))","v":0},0,null,{"$f":"MAX(0,IF(Q34957>0,Q34957-('Výstupy modelu'!$H$10-'Výstupy modelu'!$H$9),0))","v":0},null,null,1865.4300000000003,1885.4300000000003,0,{"$f":"MAX(0,D34957-'Vstupní hodnoty'!$C$5)","v":0}]
[null,"2017-12-31T02:45:00",12,201.96,{"$f":"CEILING(IF(C34958-C34957=0,IF(H34957=0,I34957,IF(J34957>K34957,I34957,E34957)),'Výstupy modelu'!$C$7),1)","v":1664},0,0,{"$f":"IF(F34958=1,IF(G34958>'Zdrojová data'!$C$19,0,1),\"\")","v":""},1664,0,{"$f":"MIN(J34958,'Zdrojová data'!$C$17)","v":0},0,{"$f":"L34958/'Zdrojová data'!$C$16","v":0},{"$f":"M34958*'Zdrojová data'!$C$13","v":0},{"$f":"N34958*'Zdrojová data'!$C$14","v":0},0,{"$f":"IF(H34958=0,D34958-'Výstupy modelu'!$C$7,IF(P34958=1,J34958-K34958,0))","v":0},0,null,{"$f":"MAX(0,IF(Q34958>0,Q34958-('Výstupy modelu'!$H$10-'Výstupy modelu'!$H$9),0))","v":0},null,null,1865.4300000000003,1885.4300000000003,0,{"$f":"MAX(0,D34958-'Vstupní hodnoty'!$C$5)","v":0}]
[null,"2017-12-31T03:00:00",12,210.60000000000002,{"$f":"CEILING(IF(C34959-C34958=0,IF(H34958=0,I34958,IF(J34958>K34958,I34958,E34958)),'Výstupy modelu'!$C$7),1)","v":1664},0,0,{"$f":"IF(F34959=1,IF(G34959>'Zdrojová data'!$C$19,0,1),\"\")","v":""},1664,0,{"$f":"MIN(J34959,'Zdrojová data'!$C$17)","v":0},0,{"$f":"L34959/'Zdrojová data'!$C$16","v":0},{"$f":"M34959*'Zdrojová data'!$C$13","v":0},{"$f":"N34959*'Zdrojová data'!$C$14","v":0},0,{"$f":"IF(H34959=0,D34959-'Výstupy modelu'!$C$7,IF(P34959=1,J34959-K34959,0))","v":0},0,null,{"$f":"MAX(0,IF(Q34959>0,Q34959-('Výstupy modelu'!$H$10-'Výstupy modelu'!$H$9),0))","v":0},null,null,1865.4300000000003,1885.4300000000003,0,{"$f":"MAX(0,D34959-'Vstupní hodnoty'!$C$5)","v":0}]
[null,"2017-12-31T03:15:00",12,214.92000000000002,{"$f":"CEILING(IF(C34960-C34959=0,IF(H34959=0,I34959,IF(J34959>K34959,I34959,E34959)),'Výstupy modelu'!$C$7),1)","v":1664},0,0,{"$f":"IF(F34960=1,IF(G34960>'Zdrojová data'!$C$19,0,1),\"\")","v":""},1664,0,{"$f":"MIN(J34960,'Zdrojová data'!$C$17)","v":0},0,{"$f":"L34960/'Zdrojová data'!$C$16","v":0},{"$f":"M34960*'Zdrojová data'!$C$13","v":0},{"$f":"N34960*'Zdrojová data'!$C$14","v":0},0,{"$f":"IF(H34960=0,D34960-'Výstupy modelu'!$C$7,IF(P34960=1,J34960-K34960,0))","v":0},0,null,{"$f":"MAX(0,IF(Q34960>0,Q34960-('Výstupy modelu'!$H$10-'Výstupy modelu'!$H$9),0))","v":0},null,null,1865.4300000000003,1885.4300000000003,0,{"$f":"MAX(0,D34960-'Vstupní hodnoty'!$C$5)","v":0}]
[null,"2017-12-31T03:30:00",12,213.84,{"$f":"CEILING(IF(C34961-C34960=0,IF(H34960=0,I34960,IF(J34960>K34960,I34960,E34960)),'Výstupy modelu'!$C$7),1)","v":1664},0,0,{"$f":"IF(F34961=1,IF(G34961>'Zdrojová data'!$C$19,0,1),\"\")","v":""},1664,0,{"$f":"MIN(J34961,'Zdrojová data'!$C$17)","v":0},0,{"$f":"L34961/'Zdrojová data'!$C$16","v":0},{"$f":"M34961*'Zdrojová data'!$C$13","v":0},{"$f":"N34961*'Zdrojová data'!$C$14","v":0},0,{"$f":"IF(H34961=0,D34961-'Výstupy modelu'!$C$7,IF(P34961=1,J34961-K34961,0))","v":0},0,null,{"$f":"MAX(0,IF(Q34961>0,Q34961-('Výstupy modelu'!$H$10-'Výstupy modelu'!$H$9),0))","v":0},null,null,1865.4300000000003,1885.4300000000003,0,{"$f":"MAX(0,D34961-'Vstupní hodnoty'!$C$5)","v":0}]
[null,"2017-12-31T03:45:00",12,200.88000000000002,{"$f":"CEILING(IF(C34962-C34961=0,IF(H34961=0,I34961,IF(J34961>K34961,I34961,E34961)),'Výstupy modelu'!$C$7),1)","v":1664},0,0,{"$f":"IF(F34962=1,IF(G34962>'Zdrojová data'!$C$19,0,1),\"\")","v":""},1664,0,{"$f":"MIN(J34962,'Zdrojová data'!$C$17)","v":0},0,{"$f":"L34962/'Zdrojová data'!$C$16","v":0},{"$f":"M34962*'Zdrojová data'!$C$13","v":0},{"$f":"N34962*'Zdrojová data'!$C$14","v":0},0,{"$f":"IF(H34962=0,D34962-'Výstupy modelu'!$C$7,IF(P34962=1,J34962-K34962,0))","v":0},0,null,{"$f":"MAX(0,IF(Q34962>0,Q34962-('Výstupy modelu'!$H$10-'Výstupy modelu'!$H$9),0))","v":0},null,null,1865.4300000000003,1885.4300000000003,0,{"$f":"MAX(0,D34962-'Vstupní hodnoty'!$C$5)","v":0}]
[null,"2017-12-31T04:00:00",12,201.96,{"$f":"CEILING(IF(C34963-C34962=0,IF(H34962=0,I34962,IF(J34962>K34962,I34962,E34962)),'Výstupy modelu'!$C$7),1)","v":1664},0,0,{"$f":"IF(F34963=1,IF(G34963>'Zdrojová data'!$C$19,0,1),\"\")","v":""},1664,0,{"$f":"MIN(J34963,'Zdrojová data'!$C$17)","v":0},0,{"$f":"L34963/'Zdrojová data'!$C$16","v":0},{"$f":"M34963*'Zdrojová data'!$C$13","v":0},{"$f":"N34963*'Zdrojová data'!$C$14","v":0},0,{"$f":"IF(H34963=0,D34963-'Výstupy modelu'!$C$7,IF(P34963=1,J34963-K34963,0))","v":0},0,null,{"$f":"MAX(0,IF(Q34963>0,Q34963-('Výstupy modelu'!$H$10-'Výstupy modelu'!$H$9),0))","v":0},null,null,1865.4300000000003,1885.4300000000003,0,{"$f":"MAX(0,D34963-'Vstupní hodnoty'!$C$5)","v":0}]
[null,"2017-12-31T04:15:00",12,207.36,{"$f":"CEILING(IF(C34964-C34963=0,IF(H34963=0,I34963,IF(J34963>K34963,I34963,E34963)),'Výstupy modelu'!$C$7),1)","v":1664},0,0,{"$f":"IF(F34964=1,IF(G34964>'Zdrojová data'!$C$19,0,1),\"\")","v":""},1664,0,{"$f":"MIN(J34964,'Zdrojová data'!$C$17)","v":0},0,{"$f":"L34964/'Zdrojová data'!$C$16","v":0},{"$f":"M34964*'Zdrojová data'!$C$13","v":0},{"$f":"N34964*'Zdrojová data'!$C$14","v":0},0,{"$f":"IF(H34964=0,D34964-'Výstupy modelu'!$C$7,IF(P34964=1,J34964-K34964,0))","v":0},0,null,{"$f":"MAX(0,IF(Q34964>0,Q34964-('Výstupy modelu'!$H$10-'Výstupy modelu'!$H$9),0))","v":0},null,null,1865.4300000000003,1885.4300000000003,0,{"$f":"MAX(0,D34964-'Vstupní hodnoty'!$C$5)","v":0}]
[null,"2017-12-31T04:30:00",12,180.36,{"$f":"CEILING(IF(C34965-C34964=0,IF(H34964=0,I34964,IF(J34964>K34964,I34964,E34964)),'Výstupy modelu'!$C$7),1)","v":1664},0,0,{"$f":"IF(F34965=1,IF(G34965>'Zdrojová data'!$C$19,0,1),\"\")","v":""},1664,0,{"$f":"MIN(J34965,'Zdrojová data'!$C$17)","v":0},0,{"$f":"L34965/'Zdrojová data'!$C$16","v":0},{"$f":"M34965*'Zdrojová data'!$C$13","v":0},{"$f":"N34965*'Zdrojová data'!$C$14","v":0},0,{"$f":"IF(H34965=0,D34965-'Výstupy modelu'!$C$7,IF(P34965=1,J34965-K34965,0))","v":0},0,null,{"$f":"MAX(0,IF(Q34965>0,Q34965-('Výstupy modelu'!$H$10-'Výstupy modelu'!$H$9),0))","v":0},null,null,1865.4300000000003,1885.4300000000003,0,{"$f":"MAX(0,D34965-'Vstupní hodnoty'!$C$5)","v":0}]
[null,"2017-12-31T04:45:00",12,189,{"$f":"CEILING(IF(C34966-C34965=0,IF(H34965=0,I34965,IF(J34965>K34965,I34965,E34965)),'Výstupy modelu'!$C$7),1)","v":1664},0,0,{"$f":"IF(F34966=1,IF(G34966>'Zdrojová data'!$C$19,0,1),\"\")","v":""},1664,0,{"$f":"MIN(J34966,'Zdrojová data'!$C$17)","v":0},0,{"$f":"L34966/'Zdrojová data'!$C$16","v":0},{"$f":"M34966*'Zdrojová data'!$C$13","v":0},{"$f":"N34966*'Zdrojová data'!$C$14","v":0},0,{"$f":"IF(H34966=0,D34966-'Výstupy modelu'!$C$7,IF(P34966=1,J34966-K34966,0))","v":0},0,null,{"$f":"MAX(0,IF(Q34966>0,Q34966-('Výstupy modelu'!$H$10-'Výstupy modelu'!$H$9),0))","v":0},null,null,1865.4300000000003,1885.4300000000003,0,{"$f":"MAX(0,D34966-'Vstupní hodnoty'!$C$5)","v":0}]
[null,"2017-12-31T05:00:00",12,181.44,{"$f":"CEILING(IF(C34967-C34966=0,IF(H34966=0,I34966,IF(J34966>K34966,I34966,E34966)),'Výstupy modelu'!$C$7),1)","v":1664},0,0,{"$f":"IF(F34967=1,IF(G34967>'Zdrojová data'!$C$19,0,1),\"\")","v":""},1664,0,{"$f":"MIN(J34967,'Zdrojová data'!$C$17)","v":0},0,{"$f":"L34967/'Zdrojová data'!$C$16","v":0},{"$f":"M34967*'Zdrojová data'!$C$13","v":0},{"$f":"N34967*'Zdrojová data'!$C$14","v":0},0,{"$f":"IF(H34967=0,D34967-'Výstupy modelu'!$C$7,IF(P34967=1,J34967-K34967,0))","v":0},0,null,{"$f":"MAX(0,IF(Q34967>0,Q34967-('Výstupy modelu'!$H$10-'Výstupy modelu'!$H$9),0))","v":0},null,null,1865.4300000000003,1885.4300000000003,0,{"$f":"MAX(0,D34967-'Vstupní hodnoty'!$C$5)","v":0}]
[null,"2017-12-31T05:15:00",12,189,{"$f":"CEILING(IF(C34968-C34967=0,IF(H34967=0,I34967,IF(J34967>K34967,I34967,E34967)),'Výstupy modelu'!$C$7),1)","v":1664},0,0,{"$f":"IF(F34968=1,IF(G34968>'Zdrojová data'!$C$19,0,1),\"\")","v":""},1664,0,{"$f":"MIN(J34968,'Zdrojová data'!$C$17)","v":0},0,{"$f":"L34968/'Zdrojová data'!$C$16","v":0},{"$f":"M34968*'Zdrojová data'!$C$13","v":0},{"$f":"N34968*'Zdrojová data'!$C$14","v":0},0,{"$f":"IF(H34968=0,D34968-'Výstupy modelu'!$C$7,IF(P34968=1,J34968-K34968,0))","v":0},0,null,{"$f":"MAX(0,IF(Q34968>0,Q34968-('Výstupy modelu'!$H$10-'Výstupy modelu'!$H$9),0))","v":0},null,null,1865.4300000000003,1885.4300000000003,0,{"$f":"MAX(0,D34968-'Vstupní hodnoty'!$C$5)","v":0}]
[null,"2017-12-31T05:30:00",12,187.92000000000002,{"$f":"CEILING(IF(C34969-C34968=0,IF(H34968=0,I34968,IF(J34968>K34968,I34968,E34968)),'Výstupy modelu'!$C$7),1)","v":1664},0,0,{"$f":"IF(F34969=1,IF(G34969>'Zdrojová data'!$C$19,0,1),\"\")","v":""},1664,0,{"$f":"MIN(J34969,'Zdrojová data'!$C$17)","v":0},0,{"$f":"L34969/'Zdrojová data'!$C$16","v":0},{"$f":"M34969*'Zdrojová data'!$C$13","v":0},{"$f":"N34969*'Zdrojová data'!$C$14","v":0},0,{"$f":"IF(H34969=0,D34969-'Výstupy modelu'!$C$7,IF(P34969=1,J34969-K34969,0))","v":0},0,null,{"$f":"MAX(0,IF(Q34969>0,Q34969-('Výstupy modelu'!$H$10-'Výstupy modelu'!$H$9),0))","v":0},null,null,1865.4300000000003,1885.4300000000003,0,{"$f":"MAX(0,D34969-'Vstupní hodnoty'!$C$5)","v":0}]
[null,"2017-12-31T05:45:00",12,182.52,{"$f":"CEILING(IF(C34970-C34969=0,IF(H34969=0,I34969,IF(J34969>K34969,I34969,E34969)),'Výstupy modelu'!$C$7),1)","v":1664},0,0,{"$f":"IF(F34970=1,IF(G34970>'Zdrojová data'!$C$19,0,1),\"\")","v":""},1664,0,{"$f":"MIN(J34970,'Zdrojová data'!$C$17)","v":0},0,{"$f":"L34970/'Zdrojová data'!$C$16","v":0},{"$f":"M34970*'Zdrojová data'!$C$13","v":0},{"$f":"N34970*'Zdrojová data'!$C$14","v":0},0,{"$f":"IF(H34970=0,D34970-'Výstupy modelu'!$C$7,IF(P34970=1,J34970-K34970,0))","v":0},0,null,{"$f":"MAX(0,IF(Q34970>0,Q34970-('Výstupy modelu'!$H$10-'Výstupy modelu'!$H$9),0))","v":0},null,null,1865.4300000000003,1885.4300000000003,0,{"$f":"MAX(0,D34970-'Vstupní hodnoty'!$C$5)","v":0}]
[null,"2017-12-31T06:00:00",12,184.68,{"$f":"CEILING(IF(C34971-C34970=0,IF(H34970=0,I34970,IF(J34970>K34970,I34970,E34970)),'Výstupy modelu'!$C$7),1)","v":1664},0,0,{"$f":"IF(F34971=1,IF(G34971>'Zdrojová data'!$C$19,0,1),\"\")","v":""},1664,0,{"$f":"MIN(J34971,'Zdrojová data'!$C$17)","v":0},0,{"$f":"L34971/'Zdrojová data'!$C$16","v":0},{"$f":"M34971*'Zdrojová data'!$C$13","v":0},{"$f":"N34971*'Zdrojová data'!$C$14","v":0},0,{"$f":"IF(H34971=0,D34971-'Výstupy modelu'!$C$7,IF(P34971=1,J34971-K34971,0))","v":0},0,null,{"$f":"MAX(0,IF(Q34971>0,Q34971-('Výstupy modelu'!$H$10-'Výstupy modelu'!$H$9),0))","v":0},null,null,1865.4300000000003,1885.4300000000003,0,{"$f":"MAX(0,D34971-'Vstupní hodnoty'!$C$5)","v":0}]
[null,"2017-12-31T06:15:00",12,189,{"$f":"CEILING(IF(C34972-C34971=0,IF(H34971=0,I34971,IF(J34971>K34971,I34971,E34971)),'Výstupy modelu'!$C$7),1)","v":1664},0,0,{"$f":"IF(F34972=1,IF(G34972>'Zdrojová data'!$C$19,0,1),\"\")","v":""},1664,0,{"$f":"MIN(J34972,'Zdrojová data'!$C$17)","v":0},0,{"$f":"L34972/'Zdrojová data'!$C$16","v":0},{"$f":"M34972*'Zdrojová data'!$C$13","v":0},{"$f":"N34972*'Zdrojová data'!$C$14","v":0},0,{"$f":"IF(H34972=0,D34972-'Výstupy modelu'!$C$7,IF(P34972=1,J34972-K34972,0))","v":0},0,null,{"$f":"MAX(0,IF(Q34972>0,Q34972-('Výstupy modelu'!$H$10-'Výstupy modelu'!$H$9),0))","v":0},null,null,1865.4300000000003,1885.4300000000003,0,{"$f":"MAX(0,D34972-'Vstupní hodnoty'!$C$5)","v":0}]
[null,"2017-12-31T06:30:00",12,180.36,{"$f":"CEILING(IF(C34973-C34972=0,IF(H34972=0,I34972,IF(J34972>K34972,I34972,E34972)),'Výstupy modelu'!$C$7),1)","v":1664},0,0,{"$f":"IF(F34973=1,IF(G34973>'Zdrojová data'!$C$19,0,1),\"\")","v":""},1664,0,{"$f":"MIN(J34973,'Zdrojová data'!$C$17)","v":0},0,{"$f":"L34973/'Zdrojová data'!$C$16","v":0},{"$f":"M34973*'Zdrojová data'!$C$13","v":0},{"$f":"N34973*'Zdrojová data'!$C$14","v":0},0,{"$f":"IF(H34973=0,D34973-'Výstupy modelu'!$C$7,IF(P34973=1,J34973-K34973,0))","v":0},0,null,{"$f":"MAX(0,IF(Q34973>0,Q34973-('Výstupy modelu'!$H$10-'Výstupy modelu'!$H$9),0))","v":0},null,null,1865.4300000000003,1885.4300000000003,0,{"$f":"MAX(0,D34973-'Vstupní hodnoty'!$C$5)","v":0}]
[null,"2017-12-31T06:45:00",12,183.60000000000002,{"$f":"CEILING(IF(C34974-C34973=0,IF(H34973=0,I34973,IF(J34973>K34973,I34973,E34973)),'Výstupy modelu'!$C$7),1)","v":1664},0,0,{"$f":"IF(F34974=1,IF(G34974>'Zdrojová data'!$C$19,0,1),\"\")","v":""},1664,0,{"$f":"MIN(J34974,'Zdrojová data'!$C$17)","v":0},0,{"$f":"L34974/'Zdrojová data'!$C$16","v":0},{"$f":"M34974*'Zdrojová data'!$C$13","v":0},{"$f":"N34974*'Zdrojová data'!$C$14","v":0},0,{"$f":"IF(H34974=0,D34974-'Výstupy modelu'!$C$7,IF(P34974=1,J34974-K34974,0))","v":0},0,null,{"$f":"MAX(0,IF(Q34974>0,Q34974-('Výstupy modelu'!$H$10-'Výstupy modelu'!$H$9),0))","v":0},null,null,1865.4300000000003,1885.4300000000003,0,{"$f":"MAX(0,D34974-'Vstupní hodnoty'!$C$5)","v":0}]
[null,"2017-12-31T07:00:00",12,183.60000000000002,{"$f":"CEILING(IF(C34975-C34974=0,IF(H34974=0,I34974,IF(J34974>K34974,I34974,E34974)),'Výstupy modelu'!$C$7),1)","v":1664},0,0,{"$f":"IF(F34975=1,IF(G34975>'Zdrojová data'!$C$19,0,1),\"\")","v":""},1664,0,{"$f":"MIN(J34975,'Zdrojová data'!$C$17)","v":0},0,{"$f":"L34975/'Zdrojová data'!$C$16","v":0},{"$f":"M34975*'Zdrojová data'!$C$13","v":0},{"$f":"N34975*'Zdrojová data'!$C$14","v":0},0,{"$f":"IF(H34975=0,D34975-'Výstupy modelu'!$C$7,IF(P34975=1,J34975-K34975,0))","v":0},0,null,{"$f":"MAX(0,IF(Q34975>0,Q34975-('Výstupy modelu'!$H$10-'Výstupy modelu'!$H$9),0))","v":0},null,null,1865.4300000000003,1885.4300000000003,0,{"$f":"MAX(0,D34975-'Vstupní hodnoty'!$C$5)","v":0}]
[null,"2017-12-31T07:15:00",12,178.20000000000002,{"$f":"CEILING(IF(C34976-C34975=0,IF(H34975=0,I34975,IF(J34975>K34975,I34975,E34975)),'Výstupy modelu'!$C$7),1)","v":1664},0,0,{"$f":"IF(F34976=1,IF(G34976>'Zdrojová data'!$C$19,0,1),\"\")","v":""},1664,0,{"$f":"MIN(J34976,'Zdrojová data'!$C$17)","v":0},0,{"$f":"L34976/'Zdrojová data'!$C$16","v":0},{"$f":"M34976*'Zdrojová data'!$C$13","v":0},{"$f":"N34976*'Zdrojová data'!$C$14","v":0},0,{"$f":"IF(H34976=0,D34976-'Výstupy modelu'!$C$7,IF(P34976=1,J34976-K34976,0))","v":0},0,null,{"$f":"MAX(0,IF(Q34976>0,Q34976-('Výstupy modelu'!$H$10-'Výstupy modelu'!$H$9),0))","v":0},null,null,1865.4300000000003,1885.4300000000003,0,{"$f":"MAX(0,D34976-'Vstupní hodnoty'!$C$5)","v":0}]
[null,"2017-12-31T07:30:00",12,180.36,{"$f":"CEILING(IF(C34977-C34976=0,IF(H34976=0,I34976,IF(J34976>K34976,I34976,E34976)),'Výstupy modelu'!$C$7),1)","v":1664},0,0,{"$f":"IF(F34977=1,IF(G34977>'Zdrojová data'!$C$19,0,1),\"\")","v":""},1664,0,{"$f":"MIN(J34977,'Zdrojová data'!$C$17)","v":0},0,{"$f":"L34977/'Zdrojová data'!$C$16","v":0},{"$f":"M34977*'Zdrojová data'!$C$13","v":0},{"$f":"N34977*'Zdrojová data'!$C$14","v":0},0,{"$f":"IF(H34977=0,D34977-'Výstupy modelu'!$C$7,IF(P34977=1,J34977-K34977,0))","v":0},0,null,{"$f":"MAX(0,IF(Q34977>0,Q34977-('Výstupy modelu'!$H$10-'Výstupy modelu'!$H$9),0))","v":0},null,null,1865.4300000000003,1885.4300000000003,0,{"$f":"MAX(0,D34977-'Vstupní hodnoty'!$C$5)","v":0}]
[null,"2017-12-31T07:45:00",12,187.92000000000002,{"$f":"CEILING(IF(C34978-C34977=0,IF(H34977=0,I34977,IF(J34977>K34977,I34977,E34977)),'Výstupy modelu'!$C$7),1)","v":1664},0,0,{"$f":"IF(F34978=1,IF(G34978>'Zdrojová data'!$C$19,0,1),\"\")","v":""},1664,0,{"$f":"MIN(J34978,'Zdrojová data'!$C$17)","v":0},0,{"$f":"L34978/'Zdrojová data'!$C$16","v":0},{"$f":"M34978*'Zdrojová data'!$C$13","v":0},{"$f":"N34978*'Zdrojová data'!$C$14","v":0},0,{"$f":"IF(H34978=0,D34978-'Výstupy modelu'!$C$7,IF(P34978=1,J34978-K34978,0))","v":0},0,null,{"$f":"MAX(0,IF(Q34978>0,Q34978-('Výstupy modelu'!$H$10-'Výstupy modelu'!$H$9),0))","v":0},null,null,1865.4300000000003,1885.4300000000003,0,{"$f":"MAX(0,D34978-'Vstupní hodnoty'!$C$5)","v":0}]
[null,"2017-12-31T08:00:00",12,192.24,{"$f":"CEILING(IF(C34979-C34978=0,IF(H34978=0,I34978,IF(J34978>K34978,I34978,E34978)),'Výstupy modelu'!$C$7),1)","v":1664},0,0,{"$f":"IF(F34979=1,IF(G34979>'Zdrojová data'!$C$19,0,1),\"\")","v":""},1664,0,{"$f":"MIN(J34979,'Zdrojová data'!$C$17)","v":0},0,{"$f":"L34979/'Zdrojová data'!$C$16","v":0},{"$f":"M34979*'Zdrojová data'!$C$13","v":0},{"$f":"N34979*'Zdrojová data'!$C$14","v":0},0,{"$f":"IF(H34979=0,D34979-'Výstupy modelu'!$C$7,IF(P34979=1,J34979-K34979,0))","v":0},0,null,{"$f":"MAX(0,IF(Q34979>0,Q34979-('Výstupy modelu'!$H$10-'Výstupy modelu'!$H$9),0))","v":0},null,null,1865.4300000000003,1885.4300000000003,0,{"$f":"MAX(0,D34979-'Vstupní hodnoty'!$C$5)","v":0}]
[null,"2017-12-31T08:15:00",12,181.44,{"$f":"CEILING(IF(C34980-C34979=0,IF(H34979=0,I34979,IF(J34979>K34979,I34979,E34979)),'Výstupy modelu'!$C$7),1)","v":1664},0,0,{"$f":"IF(F34980=1,IF(G34980>'Zdrojová data'!$C$19,0,1),\"\")","v":""},1664,0,{"$f":"MIN(J34980,'Zdrojová data'!$C$17)","v":0},0,{"$f":"L34980/'Zdrojová data'!$C$16","v":0},{"$f":"M34980*'Zdrojová data'!$C$13","v":0},{"$f":"N34980*'Zdrojová data'!$C$14","v":0},0,{"$f":"IF(H34980=0,D34980-'Výstupy modelu'!$C$7,IF(P34980=1,J34980-K34980,0))","v":0},0,null,{"$f":"MAX(0,IF(Q34980>0,Q34980-('Výstupy modelu'!$H$10-'Výstupy modelu'!$H$9),0))","v":0},null,null,1865.4300000000003,1885.4300000000003,0,{"$f":"MAX(0,D34980-'Vstupní hodnoty'!$C$5)","v":0}]
[null,"2017-12-31T08:30:00",12,184.68,{"$f":"CEILING(IF(C34981-C34980=0,IF(H34980=0,I34980,IF(J34980>K34980,I34980,E34980)),'Výstupy modelu'!$C$7),1)","v":1664},0,0,{"$f":"IF(F34981=1,IF(G34981>'Zdrojová data'!$C$19,0,1),\"\")","v":""},1664,0,{"$f":"MIN(J34981,'Zdrojová data'!$C$17)","v":0},0,{"$f":"L34981/'Zdrojová data'!$C$16","v":0},{"$f":"M34981*'Zdrojová data'!$C$13","v":0},{"$f":"N34981*'Zdrojová data'!$C$14","v":0},0,{"$f":"IF(H34981=0,D34981-'Výstupy modelu'!$C$7,IF(P34981=1,J34981-K34981,0))","v":0},0,null,{"$f":"MAX(0,IF(Q34981>0,Q34981-('Výstupy modelu'!$H$10-'Výstupy modelu'!$H$9),0))","v":0},null,null,1865.4300000000003,1885.4300000000003,0,{"$f":"MAX(0,D34981-'Vstupní hodnoty'!$C$5)","v":0}]
[null,"2017-12-31T08:45:00",12,177.12,{"$f":"CEILING(IF(C34982-C34981=0,IF(H34981=0,I34981,IF(J34981>K34981,I34981,E34981)),'Výstupy modelu'!$C$7),1)","v":1664},0,0,{"$f":"IF(F34982=1,IF(G34982>'Zdrojová data'!$C$19,0,1),\"\")","v":""},1664,0,{"$f":"MIN(J34982,'Zdrojová data'!$C$17)","v":0},0,{"$f":"L34982/'Zdrojová data'!$C$16","v":0},{"$f":"M34982*'Zdrojová data'!$C$13","v":0},{"$f":"N34982*'Zdrojová data'!$C$14","v":0},0,{"$f":"IF(H34982=0,D34982-'Výstupy modelu'!$C$7,IF(P34982=1,J34982-K34982,0))","v":0},0,null,{"$f":"MAX(0,IF(Q34982>0,Q34982-('Výstupy modelu'!$H$10-'Výstupy modelu'!$H$9),0))","v":0},null,null,1865.4300000000003,1885.4300000000003,0,{"$f":"MAX(0,D34982-'Vstupní hodnoty'!$C$5)","v":0}]
[null,"2017-12-31T09:00:00",12,174.96,{"$f":"CEILING(IF(C34983-C34982=0,IF(H34982=0,I34982,IF(J34982>K34982,I34982,E34982)),'Výstupy modelu'!$C$7),1)","v":1664},0,0,{"$f":"IF(F34983=1,IF(G34983>'Zdrojová data'!$C$19,0,1),\"\")","v":""},1664,0,{"$f":"MIN(J34983,'Zdrojová data'!$C$17)","v":0},0,{"$f":"L34983/'Zdrojová data'!$C$16","v":0},{"$f":"M34983*'Zdrojová data'!$C$13","v":0},{"$f":"N34983*'Zdrojová data'!$C$14","v":0},0,{"$f":"IF(H34983=0,D34983-'Výstupy modelu'!$C$7,IF(P34983=1,J34983-K34983,0))","v":0},0,null,{"$f":"MAX(0,IF(Q34983>0,Q34983-('Výstupy modelu'!$H$10-'Výstupy modelu'!$H$9),0))","v":0},null,null,1865.4300000000003,1885.4300000000003,0,{"$f":"MAX(0,D34983-'Vstupní hodnoty'!$C$5)","v":0}]
[null,"2017-12-31T09:15:00",12,178.20000000000002,{"$f":"CEILING(IF(C34984-C34983=0,IF(H34983=0,I34983,IF(J34983>K34983,I34983,E34983)),'Výstupy modelu'!$C$7),1)","v":1664},0,0,{"$f":"IF(F34984=1,IF(G34984>'Zdrojová data'!$C$19,0,1),\"\")","v":""},1664,0,{"$f":"MIN(J34984,'Zdrojová data'!$C$17)","v":0},0,{"$f":"L34984/'Zdrojová data'!$C$16","v":0},{"$f":"M34984*'Zdrojová data'!$C$13","v":0},{"$f":"N34984*'Zdrojová data'!$C$14","v":0},0,{"$f":"IF(H34984=0,D34984-'Výstupy modelu'!$C$7,IF(P34984=1,J34984-K34984,0))","v":0},0,null,{"$f":"MAX(0,IF(Q34984>0,Q34984-('Výstupy modelu'!$H$10-'Výstupy modelu'!$H$9),0))","v":0},null,null,1865.4300000000003,1885.4300000000003,0,{"$f":"MAX(0,D34984-'Vstupní hodnoty'!$C$5)","v":0}]
[null,"2017-12-31T09:30:00",12,181.44,{"$f":"CEILING(IF(C34985-C34984=0,IF(H34984=0,I34984,IF(J34984>K34984,I34984,E34984)),'Výstupy modelu'!$C$7),1)","v":1664},0,0,{"$f":"IF(F34985=1,IF(G34985>'Zdrojová data'!$C$19,0,1),\"\")","v":""},1664,0,{"$f":"MIN(J34985,'Zdrojová data'!$C$17)","v":0},0,{"$f":"L34985/'Zdrojová data'!$C$16","v":0},{"$f":"M34985*'Zdrojová data'!$C$13","v":0},{"$f":"N34985*'Zdrojová data'!$C$14","v":0},0,{"$f":"IF(H34985=0,D34985-'Výstupy modelu'!$C$7,IF(P34985=1,J34985-K34985,0))","v":0},0,null,{"$f":"MAX(0,IF(Q34985>0,Q34985-('Výstupy modelu'!$H$10-'Výstupy modelu'!$H$9),0))","v":0},null,null,1865.4300000000003,1885.4300000000003,0,{"$f":"MAX(0,D34985-'Vstupní hodnoty'!$C$5)","v":0}]
[null,"2017-12-31T09:45:00",12,172.8,{"$f":"CEILING(IF(C34986-C34985=0,IF(H34985=0,I34985,IF(J34985>K34985,I34985,E34985)),'Výstupy modelu'!$C$7),1)","v":1664},0,0,{"$f":"IF(F34986=1,IF(G34986>'Zdrojová data'!$C$19,0,1),\"\")","v":""},1664,0,{"$f":"MIN(J34986,'Zdrojová data'!$C$17)","v":0},0,{"$f":"L34986/'Zdrojová data'!$C$16","v":0},{"$f":"M34986*'Zdrojová data'!$C$13","v":0},{"$f":"N34986*'Zdrojová data'!$C$14","v":0},0,{"$f":"IF(H34986=0,D34986-'Výstupy modelu'!$C$7,IF(P34986=1,J34986-K34986,0))","v":0},0,null,{"$f":"MAX(0,IF(Q34986>0,Q34986-('Výstupy modelu'!$H$10-'Výstupy modelu'!$H$9),0))","v":0},null,null,1865.4300000000003,1885.4300000000003,0,{"$f":"MAX(0,D34986-'Vstupní hodnoty'!$C$5)","v":0}]
[null,"2017-12-31T10:00:00",12,179.28,{"$f":"CEILING(IF(C34987-C34986=0,IF(H34986=0,I34986,IF(J34986>K34986,I34986,E34986)),'Výstupy modelu'!$C$7),1)","v":1664},0,0,{"$f":"IF(F34987=1,IF(G34987>'Zdrojová data'!$C$19,0,1),\"\")","v":""},1664,0,{"$f":"MIN(J34987,'Zdrojová data'!$C$17)","v":0},0,{"$f":"L34987/'Zdrojová data'!$C$16","v":0},{"$f":"M34987*'Zdrojová data'!$C$13","v":0},{"$f":"N34987*'Zdrojová data'!$C$14","v":0},0,{"$f":"IF(H34987=0,D34987-'Výstupy modelu'!$C$7,IF(P34987=1,J34987-K34987,0))","v":0},0,null,{"$f":"MAX(0,IF(Q34987>0,Q34987-('Výstupy modelu'!$H$10-'Výstupy modelu'!$H$9),0))","v":0},null,null,1865.4300000000003,1885.4300000000003,0,{"$f":"MAX(0,D34987-'Vstupní hodnoty'!$C$5)","v":0}]
[null,"2017-12-31T10:15:00",12,181.44,{"$f":"CEILING(IF(C34988-C34987=0,IF(H34987=0,I34987,IF(J34987>K34987,I34987,E34987)),'Výstupy modelu'!$C$7),1)","v":1664},0,0,{"$f":"IF(F34988=1,IF(G34988>'Zdrojová data'!$C$19,0,1),\"\")","v":""},1664,0,{"$f":"MIN(J34988,'Zdrojová data'!$C$17)","v":0},0,{"$f":"L34988/'Zdrojová data'!$C$16","v":0},{"$f":"M34988*'Zdrojová data'!$C$13","v":0},{"$f":"N34988*'Zdrojová data'!$C$14","v":0},0,{"$f":"IF(H34988=0,D34988-'Výstupy modelu'!$C$7,IF(P34988=1,J34988-K34988,0))","v":0},0,null,{"$f":"MAX(0,IF(Q34988>0,Q34988-('Výstupy modelu'!$H$10-'Výstupy modelu'!$H$9),0))","v":0},null,null,1865.4300000000003,1885.4300000000003,0,{"$f":"MAX(0,D34988-'Vstupní hodnoty'!$C$5)","v":0}]
[null,"2017-12-31T10:30:00",12,174.96,{"$f":"CEILING(IF(C34989-C34988=0,IF(H34988=0,I34988,IF(J34988>K34988,I34988,E34988)),'Výstupy modelu'!$C$7),1)","v":1664},0,0,{"$f":"IF(F34989=1,IF(G34989>'Zdrojová data'!$C$19,0,1),\"\")","v":""},1664,0,{"$f":"MIN(J34989,'Zdrojová data'!$C$17)","v":0},0,{"$f":"L34989/'Zdrojová data'!$C$16","v":0},{"$f":"M34989*'Zdrojová data'!$C$13","v":0},{"$f":"N34989*'Zdrojová data'!$C$14","v":0},0,{"$f":"IF(H34989=0,D34989-'Výstupy modelu'!$C$7,IF(P34989=1,J34989-K34989,0))","v":0},0,null,{"$f":"MAX(0,IF(Q34989>0,Q34989-('Výstupy modelu'!$H$10-'Výstupy modelu'!$H$9),0))","v":0},null,null,1865.4300000000003,1885.4300000000003,0,{"$f":"MAX(0,D34989-'Vstupní hodnoty'!$C$5)","v":0}]
[null,"2017-12-31T10:45:00",12,180.36,{"$f":"CEILING(IF(C34990-C34989=0,IF(H34989=0,I34989,IF(J34989>K34989,I34989,E34989)),'Výstupy modelu'!$C$7),1)","v":1664},0,0,{"$f":"IF(F34990=1,IF(G34990>'Zdrojová data'!$C$19,0,1),\"\")","v":""},1664,0,{"$f":"MIN(J34990,'Zdrojová data'!$C$17)","v":0},0,{"$f":"L34990/'Zdrojová data'!$C$16","v":0},{"$f":"M34990*'Zdrojová data'!$C$13","v":0},{"$f":"N34990*'Zdrojová data'!$C$14","v":0},0,{"$f":"IF(H34990=0,D34990-'Výstupy modelu'!$C$7,IF(P34990=1,J34990-K34990,0))","v":0},0,null,{"$f":"MAX(0,IF(Q34990>0,Q34990-('Výstupy modelu'!$H$10-'Výstupy modelu'!$H$9),0))","v":0},null,null,1865.4300000000003,1885.4300000000003,0,{"$f":"MAX(0,D34990-'Vstupní hodnoty'!$C$5)","v":0}]
[null,"2017-12-31T11:00:00",12,174.96,{"$f":"CEILING(IF(C34991-C34990=0,IF(H34990=0,I34990,IF(J34990>K34990,I34990,E34990)),'Výstupy modelu'!$C$7),1)","v":1664},0,0,{"$f":"IF(F34991=1,IF(G34991>'Zdrojová data'!$C$19,0,1),\"\")","v":""},1664,0,{"$f":"MIN(J34991,'Zdrojová data'!$C$17)","v":0},0,{"$f":"L34991/'Zdrojová data'!$C$16","v":0},{"$f":"M34991*'Zdrojová data'!$C$13","v":0},{"$f":"N34991*'Zdrojová data'!$C$14","v":0},0,{"$f":"IF(H34991=0,D34991-'Výstupy modelu'!$C$7,IF(P34991=1,J34991-K34991,0))","v":0},0,null,{"$f":"MAX(0,IF(Q34991>0,Q34991-('Výstupy modelu'!$H$10-'Výstupy modelu'!$H$9),0))","v":0},null,null,1865.4300000000003,1885.4300000000003,0,{"$f":"MAX(0,D34991-'Vstupní hodnoty'!$C$5)","v":0}]
[null,"2017-12-31T11:15:00",12,173.88000000000002,{"$f":"CEILING(IF(C34992-C34991=0,IF(H34991=0,I34991,IF(J34991>K34991,I34991,E34991)),'Výstupy modelu'!$C$7),1)","v":1664},0,0,{"$f":"IF(F34992=1,IF(G34992>'Zdrojová data'!$C$19,0,1),\"\")","v":""},1664,0,{"$f":"MIN(J34992,'Zdrojová data'!$C$17)","v":0},0,{"$f":"L34992/'Zdrojová data'!$C$16","v":0},{"$f":"M34992*'Zdrojová data'!$C$13","v":0},{"$f":"N34992*'Zdrojová data'!$C$14","v":0},0,{"$f":"IF(H34992=0,D34992-'Výstupy modelu'!$C$7,IF(P34992=1,J34992-K34992,0))","v":0},0,null,{"$f":"MAX(0,IF(Q34992>0,Q34992-('Výstupy modelu'!$H$10-'Výstupy modelu'!$H$9),0))","v":0},null,null,1865.4300000000003,1885.4300000000003,0,{"$f":"MAX(0,D34992-'Vstupní hodnoty'!$C$5)","v":0}]
[null,"2017-12-31T11:30:00",12,176.04000000000002,{"$f":"CEILING(IF(C34993-C34992=0,IF(H34992=0,I34992,IF(J34992>K34992,I34992,E34992)),'Výstupy modelu'!$C$7),1)","v":1664},0,0,{"$f":"IF(F34993=1,IF(G34993>'Zdrojová data'!$C$19,0,1),\"\")","v":""},1664,0,{"$f":"MIN(J34993,'Zdrojová data'!$C$17)","v":0},0,{"$f":"L34993/'Zdrojová data'!$C$16","v":0},{"$f":"M34993*'Zdrojová data'!$C$13","v":0},{"$f":"N34993*'Zdrojová data'!$C$14","v":0},0,{"$f":"IF(H34993=0,D34993-'Výstupy modelu'!$C$7,IF(P34993=1,J34993-K34993,0))","v":0},0,null,{"$f":"MAX(0,IF(Q34993>0,Q34993-('Výstupy modelu'!$H$10-'Výstupy modelu'!$H$9),0))","v":0},null,null,1865.4300000000003,1885.4300000000003,{"$f":"MAX(0,D34993-W34993)","v":0},{"$f":"MAX(0,D34993-'Vstupní hodnoty'!$C$5)","v":0}]
[null,"2017-12-31T11:45:00",12,174.96,{"$f":"CEILING(IF(C34994-C34993=0,IF(H34993=0,I34993,IF(J34993>K34993,I34993,E34993)),'Výstupy modelu'!$C$7),1)","v":1664},0,0,{"$f":"IF(F34994=1,IF(G34994>'Zdrojová data'!$C$19,0,1),\"\")","v":""},1664,0,{"$f":"MIN(J34994,'Zdrojová data'!$C$17)","v":0},0,{"$f":"L34994/'Zdrojová data'!$C$16","v":0},{"$f":"M34994*'Zdrojová data'!$C$13","v":0},{"$f":"N34994*'Zdrojová data'!$C$14","v":0},0,{"$f":"IF(H34994=0,D34994-'Výstupy modelu'!$C$7,IF(P34994=1,J34994-K34994,0))","v":0},0,null,{"$f":"MAX(0,IF(Q34994>0,Q34994-('Výstupy modelu'!$H$10-'Výstupy modelu'!$H$9),0))","v":0},null,null,1865.4300000000003,1885.4300000000003,0,{"$f":"MAX(0,D34994-'Vstupní hodnoty'!$C$5)","v":0}]
[null,"2017-12-31T12:00:00",12,171.72,{"$f":"CEILING(IF(C34995-C34994=0,IF(H34994=0,I34994,IF(J34994>K34994,I34994,E34994)),'Výstupy modelu'!$C$7),1)","v":1664},0,0,{"$f":"IF(F34995=1,IF(G34995>'Zdrojová data'!$C$19,0,1),\"\")","v":""},1664,0,{"$f":"MIN(J34995,'Zdrojová data'!$C$17)","v":0},0,{"$f":"L34995/'Zdrojová data'!$C$16","v":0},{"$f":"M34995*'Zdrojová data'!$C$13","v":0},{"$f":"N34995*'Zdrojová data'!$C$14","v":0},0,{"$f":"IF(H34995=0,D34995-'Výstupy modelu'!$C$7,IF(P34995=1,J34995-K34995,0))","v":0},0,null,{"$f":"MAX(0,IF(Q34995>0,Q34995-('Výstupy modelu'!$H$10-'Výstupy modelu'!$H$9),0))","v":0},null,null,1865.4300000000003,1885.4300000000003,0,{"$f":"MAX(0,D34995-'Vstupní hodnoty'!$C$5)","v":0}]
[null,"2017-12-31T12:15:00",12,177.12,{"$f":"CEILING(IF(C34996-C34995=0,IF(H34995=0,I34995,IF(J34995>K34995,I34995,E34995)),'Výstupy modelu'!$C$7),1)","v":1664},0,0,{"$f":"IF(F34996=1,IF(G34996>'Zdrojová data'!$C$19,0,1),\"\")","v":""},1664,0,{"$f":"MIN(J34996,'Zdrojová data'!$C$17)","v":0},0,{"$f":"L34996/'Zdrojová data'!$C$16","v":0},{"$f":"M34996*'Zdrojová data'!$C$13","v":0},{"$f":"N34996*'Zdrojová data'!$C$14","v":0},0,{"$f":"IF(H34996=0,D34996-'Výstupy modelu'!$C$7,IF(P34996=1,J34996-K34996,0))","v":0},0,null,{"$f":"MAX(0,IF(Q34996>0,Q34996-('Výstupy modelu'!$H$10-'Výstupy modelu'!$H$9),0))","v":0},null,null,1865.4300000000003,1885.4300000000003,0,{"$f":"MAX(0,D34996-'Vstupní hodnoty'!$C$5)","v":0}]
[null,"2017-12-31T12:30:00",12,177.12,{"$f":"CEILING(IF(C34997-C34996=0,IF(H34996=0,I34996,IF(J34996>K34996,I34996,E34996)),'Výstupy modelu'!$C$7),1)","v":1664},0,0,{"$f":"IF(F34997=1,IF(G34997>'Zdrojová data'!$C$19,0,1),\"\")","v":""},1664,0,{"$f":"MIN(J34997,'Zdrojová data'!$C$17)","v":0},0,{"$f":"L34997/'Zdrojová data'!$C$16","v":0},{"$f":"M34997*'Zdrojová data'!$C$13","v":0},{"$f":"N34997*'Zdrojová data'!$C$14","v":0},0,{"$f":"IF(H34997=0,D34997-'Výstupy modelu'!$C$7,IF(P34997=1,J34997-K34997,0))","v":0},0,null,{"$f":"MAX(0,IF(Q34997>0,Q34997-('Výstupy modelu'!$H$10-'Výstupy modelu'!$H$9),0))","v":0},null,null,1865.4300000000003,1885.4300000000003,0,{"$f":"MAX(0,D34997-'Vstupní hodnoty'!$C$5)","v":0}]
[null,"2017-12-31T12:45:00",12,186.84,{"$f":"CEILING(IF(C34998-C34997=0,IF(H34997=0,I34997,IF(J34997>K34997,I34997,E34997)),'Výstupy modelu'!$C$7),1)","v":1664},0,0,{"$f":"IF(F34998=1,IF(G34998>'Zdrojová data'!$C$19,0,1),\"\")","v":""},1664,0,{"$f":"MIN(J34998,'Zdrojová data'!$C$17)","v":0},0,{"$f":"L34998/'Zdrojová data'!$C$16","v":0},{"$f":"M34998*'Zdrojová data'!$C$13","v":0},{"$f":"N34998*'Zdrojová data'!$C$14","v":0},0,{"$f":"IF(H34998=0,D34998-'Výstupy modelu'!$C$7,IF(P34998=1,J34998-K34998,0))","v":0},0,null,{"$f":"MAX(0,IF(Q34998>0,Q34998-('Výstupy modelu'!$H$10-'Výstupy modelu'!$H$9),0))","v":0},null,null,1865.4300000000003,1885.4300000000003,0,{"$f":"MAX(0,D34998-'Vstupní hodnoty'!$C$5)","v":0}]
[null,"2017-12-31T13:00:00",12,174.96,{"$f":"CEILING(IF(C34999-C34998=0,IF(H34998=0,I34998,IF(J34998>K34998,I34998,E34998)),'Výstupy modelu'!$C$7),1)","v":1664},0,0,{"$f":"IF(F34999=1,IF(G34999>'Zdrojová data'!$C$19,0,1),\"\")","v":""},1664,0,{"$f":"MIN(J34999,'Zdrojová data'!$C$17)","v":0},0,{"$f":"L34999/'Zdrojová data'!$C$16","v":0},{"$f":"M34999*'Zdrojová data'!$C$13","v":0},{"$f":"N34999*'Zdrojová data'!$C$14","v":0},0,{"$f":"IF(H34999=0,D34999-'Výstupy modelu'!$C$7,IF(P34999=1,J34999-K34999,0))","v":0},0,null,{"$f":"MAX(0,IF(Q34999>0,Q34999-('Výstupy modelu'!$H$10-'Výstupy modelu'!$H$9),0))","v":0},null,null,1865.4300000000003,1885.4300000000003,0,{"$f":"MAX(0,D34999-'Vstupní hodnoty'!$C$5)","v":0}]
[null,"2017-12-31T13:15:00",12,171.72,{"$f":"CEILING(IF(C35000-C34999=0,IF(H34999=0,I34999,IF(J34999>K34999,I34999,E34999)),'Výstupy modelu'!$C$7),1)","v":1664},0,0,{"$f":"IF(F35000=1,IF(G35000>'Zdrojová data'!$C$19,0,1),\"\")","v":""},1664,0,{"$f":"MIN(J35000,'Zdrojová data'!$C$17)","v":0},0,{"$f":"L35000/'Zdrojová data'!$C$16","v":0},{"$f":"M35000*'Zdrojová data'!$C$13","v":0},{"$f":"N35000*'Zdrojová data'!$C$14","v":0},0,{"$f":"IF(H35000=0,D35000-'Výstupy modelu'!$C$7,IF(P35000=1,J35000-K35000,0))","v":0},0,null,{"$f":"MAX(0,IF(Q35000>0,Q35000-('Výstupy modelu'!$H$10-'Výstupy modelu'!$H$9),0))","v":0},null,null,1865.4300000000003,1885.4300000000003,0,{"$f":"MAX(0,D35000-'Vstupní hodnoty'!$C$5)","v":0}]
[null,"2017-12-31T13:30:00",12,174.96,{"$f":"CEILING(IF(C35001-C35000=0,IF(H35000=0,I35000,IF(J35000>K35000,I35000,E35000)),'Výstupy modelu'!$C$7),1)","v":1664},0,0,{"$f":"IF(F35001=1,IF(G35001>'Zdrojová data'!$C$19,0,1),\"\")","v":""},1664,0,{"$f":"MIN(J35001,'Zdrojová data'!$C$17)","v":0},0,{"$f":"L35001/'Zdrojová data'!$C$16","v":0},{"$f":"M35001*'Zdrojová data'!$C$13","v":0},{"$f":"N35001*'Zdrojová data'!$C$14","v":0},0,{"$f":"IF(H35001=0,D35001-'Výstupy modelu'!$C$7,IF(P35001=1,J35001-K35001,0))","v":0},0,null,{"$f":"MAX(0,IF(Q35001>0,Q35001-('Výstupy modelu'!$H$10-'Výstupy modelu'!$H$9),0))","v":0},null,null,1865.4300000000003,1885.4300000000003,0,{"$f":"MAX(0,D35001-'Vstupní hodnoty'!$C$5)","v":0}]
[null,"2017-12-31T13:45:00",12,172.8,{"$f":"CEILING(IF(C35002-C35001=0,IF(H35001=0,I35001,IF(J35001>K35001,I35001,E35001)),'Výstupy modelu'!$C$7),1)","v":1664},0,0,{"$f":"IF(F35002=1,IF(G35002>'Zdrojová data'!$C$19,0,1),\"\")","v":""},1664,0,{"$f":"MIN(J35002,'Zdrojová data'!$C$17)","v":0},0,{"$f":"L35002/'Zdrojová data'!$C$16","v":0},{"$f":"M35002*'Zdrojová data'!$C$13","v":0},{"$f":"N35002*'Zdrojová data'!$C$14","v":0},0,{"$f":"IF(H35002=0,D35002-'Výstupy modelu'!$C$7,IF(P35002=1,J35002-K35002,0))","v":0},0,null,{"$f":"MAX(0,IF(Q35002>0,Q35002-('Výstupy modelu'!$H$10-'Výstupy modelu'!$H$9),0))","v":0},null,null,1865.4300000000003,1885.4300000000003,0,{"$f":"MAX(0,D35002-'Vstupní hodnoty'!$C$5)","v":0}]
[null,"2017-12-31T14:00:00",12,169.56,{"$f":"CEILING(IF(C35003-C35002=0,IF(H35002=0,I35002,IF(J35002>K35002,I35002,E35002)),'Výstupy modelu'!$C$7),1)","v":1664},0,0,{"$f":"IF(F35003=1,IF(G35003>'Zdrojová data'!$C$19,0,1),\"\")","v":""},1664,0,{"$f":"MIN(J35003,'Zdrojová data'!$C$17)","v":0},0,{"$f":"L35003/'Zdrojová data'!$C$16","v":0},{"$f":"M35003*'Zdrojová data'!$C$13","v":0},{"$f":"N35003*'Zdrojová data'!$C$14","v":0},0,{"$f":"IF(H35003=0,D35003-'Výstupy modelu'!$C$7,IF(P35003=1,J35003-K35003,0))","v":0},0,null,{"$f":"MAX(0,IF(Q35003>0,Q35003-('Výstupy modelu'!$H$10-'Výstupy modelu'!$H$9),0))","v":0},null,null,1865.4300000000003,1885.4300000000003,0,{"$f":"MAX(0,D35003-'Vstupní hodnoty'!$C$5)","v":0}]
[null,"2017-12-31T14:15:00",12,177.12,{"$f":"CEILING(IF(C35004-C35003=0,IF(H35003=0,I35003,IF(J35003>K35003,I35003,E35003)),'Výstupy modelu'!$C$7),1)","v":1664},0,0,{"$f":"IF(F35004=1,IF(G35004>'Zdrojová data'!$C$19,0,1),\"\")","v":""},1664,0,{"$f":"MIN(J35004,'Zdrojová data'!$C$17)","v":0},0,{"$f":"L35004/'Zdrojová data'!$C$16","v":0},{"$f":"M35004*'Zdrojová data'!$C$13","v":0},{"$f":"N35004*'Zdrojová data'!$C$14","v":0},0,{"$f":"IF(H35004=0,D35004-'Výstupy modelu'!$C$7,IF(P35004=1,J35004-K35004,0))","v":0},0,null,{"$f":"MAX(0,IF(Q35004>0,Q35004-('Výstupy modelu'!$H$10-'Výstupy modelu'!$H$9),0))","v":0},null,null,1865.4300000000003,1885.4300000000003,0,{"$f":"MAX(0,D35004-'Vstupní hodnoty'!$C$5)","v":0}]
[null,"2017-12-31T14:30:00",12,179.28,{"$f":"CEILING(IF(C35005-C35004=0,IF(H35004=0,I35004,IF(J35004>K35004,I35004,E35004)),'Výstupy modelu'!$C$7),1)","v":1664},0,0,{"$f":"IF(F35005=1,IF(G35005>'Zdrojová data'!$C$19,0,1),\"\")","v":""},1664,0,{"$f":"MIN(J35005,'Zdrojová data'!$C$17)","v":0},0,{"$f":"L35005/'Zdrojová data'!$C$16","v":0},{"$f":"M35005*'Zdrojová data'!$C$13","v":0},{"$f":"N35005*'Zdrojová data'!$C$14","v":0},0,{"$f":"IF(H35005=0,D35005-'Výstupy modelu'!$C$7,IF(P35005=1,J35005-K35005,0))","v":0},0,null,{"$f":"MAX(0,IF(Q35005>0,Q35005-('Výstupy modelu'!$H$10-'Výstupy modelu'!$H$9),0))","v":0},null,null,1865.4300000000003,1885.4300000000003,0,{"$f":"MAX(0,D35005-'Vstupní hodnoty'!$C$5)","v":0}]
[null,"2017-12-31T14:45:00",12,178.20000000000002,{"$f":"CEILING(IF(C35006-C35005=0,IF(H35005=0,I35005,IF(J35005>K35005,I35005,E35005)),'Výstupy modelu'!$C$7),1)","v":1664},0,0,{"$f":"IF(F35006=1,IF(G35006>'Zdrojová data'!$C$19,0,1),\"\")","v":""},1664,0,{"$f":"MIN(J35006,'Zdrojová data'!$C$17)","v":0},0,{"$f":"L35006/'Zdrojová data'!$C$16","v":0},{"$f":"M35006*'Zdrojová data'!$C$13","v":0},{"$f":"N35006*'Zdrojová data'!$C$14","v":0},0,{"$f":"IF(H35006=0,D35006-'Výstupy modelu'!$C$7,IF(P35006=1,J35006-K35006,0))","v":0},0,null,{"$f":"MAX(0,IF(Q35006>0,Q35006-('Výstupy modelu'!$H$10-'Výstupy modelu'!$H$9),0))","v":0},null,null,1865.4300000000003,1885.4300000000003,0,{"$f":"MAX(0,D35006-'Vstupní hodnoty'!$C$5)","v":0}]
[null,"2017-12-31T15:00:00",12,184.68,{"$f":"CEILING(IF(C35007-C35006=0,IF(H35006=0,I35006,IF(J35006>K35006,I35006,E35006)),'Výstupy modelu'!$C$7),1)","v":1664},0,0,{"$f":"IF(F35007=1,IF(G35007>'Zdrojová data'!$C$19,0,1),\"\")","v":""},1664,0,{"$f":"MIN(J35007,'Zdrojová data'!$C$17)","v":0},0,{"$f":"L35007/'Zdrojová data'!$C$16","v":0},{"$f":"M35007*'Zdrojová data'!$C$13","v":0},{"$f":"N35007*'Zdrojová data'!$C$14","v":0},0,{"$f":"IF(H35007=0,D35007-'Výstupy modelu'!$C$7,IF(P35007=1,J35007-K35007,0))","v":0},0,null,{"$f":"MAX(0,IF(Q35007>0,Q35007-('Výstupy modelu'!$H$10-'Výstupy modelu'!$H$9),0))","v":0},null,null,1865.4300000000003,1885.4300000000003,0,{"$f":"MAX(0,D35007-'Vstupní hodnoty'!$C$5)","v":0}]
[null,"2017-12-31T15:15:00",12,173.88000000000002,{"$f":"CEILING(IF(C35008-C35007=0,IF(H35007=0,I35007,IF(J35007>K35007,I35007,E35007)),'Výstupy modelu'!$C$7),1)","v":1664},0,0,{"$f":"IF(F35008=1,IF(G35008>'Zdrojová data'!$C$19,0,1),\"\")","v":""},1664,0,{"$f":"MIN(J35008,'Zdrojová data'!$C$17)","v":0},0,{"$f":"L35008/'Zdrojová data'!$C$16","v":0},{"$f":"M35008*'Zdrojová data'!$C$13","v":0},{"$f":"N35008*'Zdrojová data'!$C$14","v":0},0,{"$f":"IF(H35008=0,D35008-'Výstupy modelu'!$C$7,IF(P35008=1,J35008-K35008,0))","v":0},0,null,{"$f":"MAX(0,IF(Q35008>0,Q35008-('Výstupy modelu'!$H$10-'Výstupy modelu'!$H$9),0))","v":0},null,null,1865.4300000000003,1885.4300000000003,0,{"$f":"MAX(0,D35008-'Vstupní hodnoty'!$C$5)","v":0}]
[null,"2017-12-31T15:30:00",12,176.04000000000002,{"$f":"CEILING(IF(C35009-C35008=0,IF(H35008=0,I35008,IF(J35008>K35008,I35008,E35008)),'Výstupy modelu'!$C$7),1)","v":1664},0,0,{"$f":"IF(F35009=1,IF(G35009>'Zdrojová data'!$C$19,0,1),\"\")","v":""},1664,0,{"$f":"MIN(J35009,'Zdrojová data'!$C$17)","v":0},0,{"$f":"L35009/'Zdrojová data'!$C$16","v":0},{"$f":"M35009*'Zdrojová data'!$C$13","v":0},{"$f":"N35009*'Zdrojová data'!$C$14","v":0},0,{"$f":"IF(H35009=0,D35009-'Výstupy modelu'!$C$7,IF(P35009=1,J35009-K35009,0))","v":0},0,null,{"$f":"MAX(0,IF(Q35009>0,Q35009-('Výstupy modelu'!$H$10-'Výstupy modelu'!$H$9),0))","v":0},null,null,1865.4300000000003,1885.4300000000003,0,{"$f":"MAX(0,D35009-'Vstupní hodnoty'!$C$5)","v":0}]
[null,"2017-12-31T15:45:00",12,176.04000000000002,{"$f":"CEILING(IF(C35010-C35009=0,IF(H35009=0,I35009,IF(J35009>K35009,I35009,E35009)),'Výstupy modelu'!$C$7),1)","v":1664},0,0,{"$f":"IF(F35010=1,IF(G35010>'Zdrojová data'!$C$19,0,1),\"\")","v":""},1664,0,{"$f":"MIN(J35010,'Zdrojová data'!$C$17)","v":0},0,{"$f":"L35010/'Zdrojová data'!$C$16","v":0},{"$f":"M35010*'Zdrojová data'!$C$13","v":0},{"$f":"N35010*'Zdrojová data'!$C$14","v":0},0,{"$f":"IF(H35010=0,D35010-'Výstupy modelu'!$C$7,IF(P35010=1,J35010-K35010,0))","v":0},0,null,{"$f":"MAX(0,IF(Q35010>0,Q35010-('Výstupy modelu'!$H$10-'Výstupy modelu'!$H$9),0))","v":0},null,null,1865.4300000000003,1885.4300000000003,0,{"$f":"MAX(0,D35010-'Vstupní hodnoty'!$C$5)","v":0}]
[null,"2017-12-31T16:00:00",12,174.96,{"$f":"CEILING(IF(C35011-C35010=0,IF(H35010=0,I35010,IF(J35010>K35010,I35010,E35010)),'Výstupy modelu'!$C$7),1)","v":1664},0,0,{"$f":"IF(F35011=1,IF(G35011>'Zdrojová data'!$C$19,0,1),\"\")","v":""},1664,0,{"$f":"MIN(J35011,'Zdrojová data'!$C$17)","v":0},0,{"$f":"L35011/'Zdrojová data'!$C$16","v":0},{"$f":"M35011*'Zdrojová data'!$C$13","v":0},{"$f":"N35011*'Zdrojová data'!$C$14","v":0},0,{"$f":"IF(H35011=0,D35011-'Výstupy modelu'!$C$7,IF(P35011=1,J35011-K35011,0))","v":0},0,null,{"$f":"MAX(0,IF(Q35011>0,Q35011-('Výstupy modelu'!$H$10-'Výstupy modelu'!$H$9),0))","v":0},null,null,{"$f":"W35010","v":1865.4300000000003},1885.4300000000003,0,{"$f":"MAX(0,D35011-'Vstupní hodnoty'!$C$5)","v":0}]
[null,"2017-12-31T16:15:00",12,181.44,{"$f":"CEILING(IF(C35012-C35011=0,IF(H35011=0,I35011,IF(J35011>K35011,I35011,E35011)),'Výstupy modelu'!$C$7),1)","v":1664},{"$f":"IF(D35012>E35012,1,0)","v":0},0,{"$f":"IF(F35012=1,IF(G35012>'Zdrojová data'!$C$19,0,1),\"\")","v":""},{"$f":"IF(H35012=0,D35012,IF(J35012>K35012,E35012+J35012-K35012,E35012))","v":1664},{"$f":"IF(H35012=1,D35012-E35012,0)","v":0},{"$f":"MIN(J35012,'Zdrojová data'!$C$17)","v":0},0,{"$f":"L35012/'Zdrojová data'!$C$16","v":0},{"$f":"M35012*'Zdrojová data'!$C$13","v":0},{"$f":"N35012*'Zdrojová data'!$C$14","v":0},0,{"$f":"IF(H35012=0,D35012-'Výstupy modelu'!$C$7,IF(P35012=1,J35012-K35012,0))","v":0},0,null,{"$f":"MAX(0,IF(Q35012>0,Q35012-('Výstupy modelu'!$H$10-'Výstupy modelu'!$H$9),0))","v":0},null,null,1865.4300000000003,1885.4300000000003,0,{"$f":"MAX(0,D35012-'Vstupní hodnoty'!$C$5)","v":0}]
[null,"2017-12-31T16:30:00",{"$f":"MONTH(B35013)","v":12},180.36,{"$f":"CEILING(IF(C35013-C35012=0,IF(H35012=0,I35012,IF(J35012>K35012,I35012,E35012)),'Výstupy modelu'!$C$7),1)","v":1664},0,{"$f":"IF(F35013=1,RANDBETWEEN(0,100),0)","v":0},{"$f":"IF(F35013=1,IF(G35013>'Zdrojová data'!$C$19,0,1),\"\")","v":""},1664,0,{"$f":"MIN(J35013,'Zdrojová data'!$C$17)","v":0},{"$f":"K35013/4","v":0},{"$f":"L35013/'Zdrojová data'!$C$16","v":0},{"$f":"M35013*'Zdrojová data'!$C$13","v":0},{"$f":"N35013*'Zdrojová data'!$C$14","v":0},{"$f":"IF(H35013=0,1,IF(J35013>K35013,1,0))","v":0},{"$f":"IF(H35013=0,D35013-'Výstupy modelu'!$C$7,IF(P35013=1,J35013-K35013,0))","v":0},{"$f":"IF(H35013=0,1,IF(J35013>K35013,1,0))","v":0},null,{"$f":"MAX(0,IF(Q35013>0,Q35013-('Výstupy modelu'!$H$10-'Výstupy modelu'!$H$9),0))","v":0},null,null,1865.4300000000003,1885.4300000000003,0,{"$f":"MAX(0,D35013-'Vstupní hodnoty'!$C$5)","v":0}]
[null,"2017-12-31T16:45:00",12,183.60000000000002,{"$f":"CEILING(IF(C35014-C35013=0,IF(H35013=0,I35013,IF(J35013>K35013,I35013,E35013)),'Výstupy modelu'!$C$7),1)","v":1664},0,0,{"$f":"IF(F35014=1,IF(G35014>'Zdrojová data'!$C$19,0,1),\"\")","v":""},1664,0,{"$f":"MIN(J35014,'Zdrojová data'!$C$17)","v":0},0,{"$f":"L35014/'Zdrojová data'!$C$16","v":0},{"$f":"M35014*'Zdrojová data'!$C$13","v":0},{"$f":"N35014*'Zdrojová data'!$C$14","v":0},0,{"$f":"IF(H35014=0,D35014-'Výstupy modelu'!$C$7,IF(P35014=1,J35014-K35014,0))","v":0},0,null,{"$f":"MAX(0,IF(Q35014>0,Q35014-('Výstupy modelu'!$H$10-'Výstupy modelu'!$H$9),0))","v":0},null,null,1865.4300000000003,1885.4300000000003,0,{"$f":"MAX(0,D35014-'Vstupní hodnoty'!$C$5)","v":0}]
[null,"2017-12-31T17:00:00",12,178.20000000000002,{"$f":"CEILING(IF(C35015-C35014=0,IF(H35014=0,I35014,IF(J35014>K35014,I35014,E35014)),'Výstupy modelu'!$C$7),1)","v":1664},0,0,{"$f":"IF(F35015=1,IF(G35015>'Zdrojová data'!$C$19,0,1),\"\")","v":""},1664,0,{"$f":"MIN(J35015,'Zdrojová data'!$C$17)","v":0},0,{"$f":"L35015/'Zdrojová data'!$C$16","v":0},{"$f":"M35015*'Zdrojová data'!$C$13","v":0},{"$f":"N35015*'Zdrojová data'!$C$14","v":0},0,{"$f":"IF(H35015=0,D35015-'Výstupy modelu'!$C$7,IF(P35015=1,J35015-K35015,0))","v":0},0,null,{"$f":"MAX(0,IF(Q35015>0,Q35015-('Výstupy modelu'!$H$10-'Výstupy modelu'!$H$9),0))","v":0},null,null,1865.4300000000003,1885.4300000000003,0,{"$f":"MAX(0,D35015-'Vstupní hodnoty'!$C$5)","v":0}]
[null,"2017-12-31T17:15:00",12,183.60000000000002,{"$f":"CEILING(IF(C35016-C35015=0,IF(H35015=0,I35015,IF(J35015>K35015,I35015,E35015)),'Výstupy modelu'!$C$7),1)","v":1664},0,0,{"$f":"IF(F35016=1,IF(G35016>'Zdrojová data'!$C$19,0,1),\"\")","v":""},1664,0,{"$f":"MIN(J35016,'Zdrojová data'!$C$17)","v":0},0,{"$f":"L35016/'Zdrojová data'!$C$16","v":0},{"$f":"M35016*'Zdrojová data'!$C$13","v":0},{"$f":"N35016*'Zdrojová data'!$C$14","v":0},0,{"$f":"IF(H35016=0,D35016-'Výstupy modelu'!$C$7,IF(P35016=1,J35016-K35016,0))","v":0},0,null,{"$f":"MAX(0,IF(Q35016>0,Q35016-('Výstupy modelu'!$H$10-'Výstupy modelu'!$H$9),0))","v":0},null,null,1865.4300000000003,1885.4300000000003,0,{"$f":"MAX(0,D35016-'Vstupní hodnoty'!$C$5)","v":0}]
[null,"2017-12-31T17:30:00",12,199.8,{"$f":"CEILING(IF(C35017-C35016=0,IF(H35016=0,I35016,IF(J35016>K35016,I35016,E35016)),'Výstupy modelu'!$C$7),1)","v":1664},0,0,{"$f":"IF(F35017=1,IF(G35017>'Zdrojová data'!$C$19,0,1),\"\")","v":""},1664,0,{"$f":"MIN(J35017,'Zdrojová data'!$C$17)","v":0},0,{"$f":"L35017/'Zdrojová data'!$C$16","v":0},{"$f":"M35017*'Zdrojová data'!$C$13","v":0},{"$f":"N35017*'Zdrojová data'!$C$14","v":0},0,{"$f":"IF(H35017=0,D35017-'Výstupy modelu'!$C$7,IF(P35017=1,J35017-K35017,0))","v":0},0,null,{"$f":"MAX(0,IF(Q35017>0,Q35017-('Výstupy modelu'!$H$10-'Výstupy modelu'!$H$9),0))","v":0},null,null,1865.4300000000003,1885.4300000000003,0,{"$f":"MAX(0,D35017-'Vstupní hodnoty'!$C$5)","v":0}]
[null,"2017-12-31T17:45:00",12,182.52,{"$f":"CEILING(IF(C35018-C35017=0,IF(H35017=0,I35017,IF(J35017>K35017,I35017,E35017)),'Výstupy modelu'!$C$7),1)","v":1664},0,0,{"$f":"IF(F35018=1,IF(G35018>'Zdrojová data'!$C$19,0,1),\"\")","v":""},1664,0,{"$f":"MIN(J35018,'Zdrojová data'!$C$17)","v":0},0,{"$f":"L35018/'Zdrojová data'!$C$16","v":0},{"$f":"M35018*'Zdrojová data'!$C$13","v":0},{"$f":"N35018*'Zdrojová data'!$C$14","v":0},0,{"$f":"IF(H35018=0,D35018-'Výstupy modelu'!$C$7,IF(P35018=1,J35018-K35018,0))","v":0},0,null,{"$f":"MAX(0,IF(Q35018>0,Q35018-('Výstupy modelu'!$H$10-'Výstupy modelu'!$H$9),0))","v":0},null,null,1865.4300000000003,1885.4300000000003,0,{"$f":"MAX(0,D35018-'Vstupní hodnoty'!$C$5)","v":0}]
[null,"2017-12-31T18:00:00",12,181.44,{"$f":"CEILING(IF(C35019-C35018=0,IF(H35018=0,I35018,IF(J35018>K35018,I35018,E35018)),'Výstupy modelu'!$C$7),1)","v":1664},0,0,{"$f":"IF(F35019=1,IF(G35019>'Zdrojová data'!$C$19,0,1),\"\")","v":""},1664,0,{"$f":"MIN(J35019,'Zdrojová data'!$C$17)","v":0},0,{"$f":"L35019/'Zdrojová data'!$C$16","v":0},{"$f":"M35019*'Zdrojová data'!$C$13","v":0},{"$f":"N35019*'Zdrojová data'!$C$14","v":0},0,{"$f":"IF(H35019=0,D35019-'Výstupy modelu'!$C$7,IF(P35019=1,J35019-K35019,0))","v":0},0,null,{"$f":"MAX(0,IF(Q35019>0,Q35019-('Výstupy modelu'!$H$10-'Výstupy modelu'!$H$9),0))","v":0},null,null,1865.4300000000003,1885.4300000000003,0,{"$f":"MAX(0,D35019-'Vstupní hodnoty'!$C$5)","v":0}]
[null,"2017-12-31T18:15:00",12,186.84,{"$f":"CEILING(IF(C35020-C35019=0,IF(H35019=0,I35019,IF(J35019>K35019,I35019,E35019)),'Výstupy modelu'!$C$7),1)","v":1664},0,0,{"$f":"IF(F35020=1,IF(G35020>'Zdrojová data'!$C$19,0,1),\"\")","v":""},1664,0,{"$f":"MIN(J35020,'Zdrojová data'!$C$17)","v":0},0,{"$f":"L35020/'Zdrojová data'!$C$16","v":0},{"$f":"M35020*'Zdrojová data'!$C$13","v":0},{"$f":"N35020*'Zdrojová data'!$C$14","v":0},0,{"$f":"IF(H35020=0,D35020-'Výstupy modelu'!$C$7,IF(P35020=1,J35020-K35020,0))","v":0},0,null,{"$f":"MAX(0,IF(Q35020>0,Q35020-('Výstupy modelu'!$H$10-'Výstupy modelu'!$H$9),0))","v":0},null,null,1865.4300000000003,1885.4300000000003,0,{"$f":"MAX(0,D35020-'Vstupní hodnoty'!$C$5)","v":0}]
[null,"2017-12-31T18:30:00",12,179.28,{"$f":"CEILING(IF(C35021-C35020=0,IF(H35020=0,I35020,IF(J35020>K35020,I35020,E35020)),'Výstupy modelu'!$C$7),1)","v":1664},0,0,{"$f":"IF(F35021=1,IF(G35021>'Zdrojová data'!$C$19,0,1),\"\")","v":""},1664,0,{"$f":"MIN(J35021,'Zdrojová data'!$C$17)","v":0},0,{"$f":"L35021/'Zdrojová data'!$C$16","v":0},{"$f":"M35021*'Zdrojová data'!$C$13","v":0},{"$f":"N35021*'Zdrojová data'!$C$14","v":0},0,{"$f":"IF(H35021=0,D35021-'Výstupy modelu'!$C$7,IF(P35021=1,J35021-K35021,0))","v":0},0,null,{"$f":"MAX(0,IF(Q35021>0,Q35021-('Výstupy modelu'!$H$10-'Výstupy modelu'!$H$9),0))","v":0},null,null,1865.4300000000003,1885.4300000000003,0,{"$f":"MAX(0,D35021-'Vstupní hodnoty'!$C$5)","v":0}]
[null,"2017-12-31T18:45:00",12,183.60000000000002,{"$f":"CEILING(IF(C35022-C35021=0,IF(H35021=0,I35021,IF(J35021>K35021,I35021,E35021)),'Výstupy modelu'!$C$7),1)","v":1664},0,0,{"$f":"IF(F35022=1,IF(G35022>'Zdrojová data'!$C$19,0,1),\"\")","v":""},1664,0,{"$f":"MIN(J35022,'Zdrojová data'!$C$17)","v":0},0,{"$f":"L35022/'Zdrojová data'!$C$16","v":0},{"$f":"M35022*'Zdrojová data'!$C$13","v":0},{"$f":"N35022*'Zdrojová data'!$C$14","v":0},0,{"$f":"IF(H35022=0,D35022-'Výstupy modelu'!$C$7,IF(P35022=1,J35022-K35022,0))","v":0},0,null,{"$f":"MAX(0,IF(Q35022>0,Q35022-('Výstupy modelu'!$H$10-'Výstupy modelu'!$H$9),0))","v":0},null,null,1865.4300000000003,1885.4300000000003,0,{"$f":"MAX(0,D35022-'Vstupní hodnoty'!$C$5)","v":0}]
[null,"2017-12-31T19:00:00",12,182.52,{"$f":"CEILING(IF(C35023-C35022=0,IF(H35022=0,I35022,IF(J35022>K35022,I35022,E35022)),'Výstupy modelu'!$C$7),1)","v":1664},0,0,{"$f":"IF(F35023=1,IF(G35023>'Zdrojová data'!$C$19,0,1),\"\")","v":""},1664,0,{"$f":"MIN(J35023,'Zdrojová data'!$C$17)","v":0},0,{"$f":"L35023/'Zdrojová data'!$C$16","v":0},{"$f":"M35023*'Zdrojová data'!$C$13","v":0},{"$f":"N35023*'Zdrojová data'!$C$14","v":0},0,{"$f":"IF(H35023=0,D35023-'Výstupy modelu'!$C$7,IF(P35023=1,J35023-K35023,0))","v":0},0,null,{"$f":"MAX(0,IF(Q35023>0,Q35023-('Výstupy modelu'!$H$10-'Výstupy modelu'!$H$9),0))","v":0},null,null,1865.4300000000003,1885.4300000000003,0,{"$f":"MAX(0,D35023-'Vstupní hodnoty'!$C$5)","v":0}]
[null,"2017-12-31T19:15:00",12,186.84,{"$f":"CEILING(IF(C35024-C35023=0,IF(H35023=0,I35023,IF(J35023>K35023,I35023,E35023)),'Výstupy modelu'!$C$7),1)","v":1664},0,0,{"$f":"IF(F35024=1,IF(G35024>'Zdrojová data'!$C$19,0,1),\"\")","v":""},1664,0,{"$f":"MIN(J35024,'Zdrojová data'!$C$17)","v":0},0,{"$f":"L35024/'Zdrojová data'!$C$16","v":0},{"$f":"M35024*'Zdrojová data'!$C$13","v":0},{"$f":"N35024*'Zdrojová data'!$C$14","v":0},0,{"$f":"IF(H35024=0,D35024-'Výstupy modelu'!$C$7,IF(P35024=1,J35024-K35024,0))","v":0},0,null,{"$f":"MAX(0,IF(Q35024>0,Q35024-('Výstupy modelu'!$H$10-'Výstupy modelu'!$H$9),0))","v":0},null,null,1865.4300000000003,1885.4300000000003,0,{"$f":"MAX(0,D35024-'Vstupní hodnoty'!$C$5)","v":0}]
[null,"2017-12-31T19:30:00",12,180.36,{"$f":"CEILING(IF(C35025-C35024=0,IF(H35024=0,I35024,IF(J35024>K35024,I35024,E35024)),'Výstupy modelu'!$C$7),1)","v":1664},0,0,{"$f":"IF(F35025=1,IF(G35025>'Zdrojová data'!$C$19,0,1),\"\")","v":""},1664,0,{"$f":"MIN(J35025,'Zdrojová data'!$C$17)","v":0},0,{"$f":"L35025/'Zdrojová data'!$C$16","v":0},{"$f":"M35025*'Zdrojová data'!$C$13","v":0},{"$f":"N35025*'Zdrojová data'!$C$14","v":0},0,{"$f":"IF(H35025=0,D35025-'Výstupy modelu'!$C$7,IF(P35025=1,J35025-K35025,0))","v":0},0,null,{"$f":"MAX(0,IF(Q35025>0,Q35025-('Výstupy modelu'!$H$10-'Výstupy modelu'!$H$9),0))","v":0},null,null,1865.4300000000003,1885.4300000000003,0,{"$f":"MAX(0,D35025-'Vstupní hodnoty'!$C$5)","v":0}]
[null,"2017-12-31T19:45:00",12,192.24,{"$f":"CEILING(IF(C35026-C35025=0,IF(H35025=0,I35025,IF(J35025>K35025,I35025,E35025)),'Výstupy modelu'!$C$7),1)","v":1664},0,0,{"$f":"IF(F35026=1,IF(G35026>'Zdrojová data'!$C$19,0,1),\"\")","v":""},1664,0,{"$f":"MIN(J35026,'Zdrojová data'!$C$17)","v":0},0,{"$f":"L35026/'Zdrojová data'!$C$16","v":0},{"$f":"M35026*'Zdrojová data'!$C$13","v":0},{"$f":"N35026*'Zdrojová data'!$C$14","v":0},0,{"$f":"IF(H35026=0,D35026-'Výstupy modelu'!$C$7,IF(P35026=1,J35026-K35026,0))","v":0},0,null,{"$f":"MAX(0,IF(Q35026>0,Q35026-('Výstupy modelu'!$H$10-'Výstupy modelu'!$H$9),0))","v":0},null,null,1865.4300000000003,1885.4300000000003,0,{"$f":"MAX(0,D35026-'Vstupní hodnoty'!$C$5)","v":0}]
[null,"2017-12-31T20:00:00",12,185.76000000000002,{"$f":"CEILING(IF(C35027-C35026=0,IF(H35026=0,I35026,IF(J35026>K35026,I35026,E35026)),'Výstupy modelu'!$C$7),1)","v":1664},0,0,{"$f":"IF(F35027=1,IF(G35027>'Zdrojová data'!$C$19,0,1),\"\")","v":""},1664,0,{"$f":"MIN(J35027,'Zdrojová data'!$C$17)","v":0},0,{"$f":"L35027/'Zdrojová data'!$C$16","v":0},{"$f":"M35027*'Zdrojová data'!$C$13","v":0},{"$f":"N35027*'Zdrojová data'!$C$14","v":0},0,{"$f":"IF(H35027=0,D35027-'Výstupy modelu'!$C$7,IF(P35027=1,J35027-K35027,0))","v":0},0,null,{"$f":"MAX(0,IF(Q35027>0,Q35027-('Výstupy modelu'!$H$10-'Výstupy modelu'!$H$9),0))","v":0},null,null,1865.4300000000003,1885.4300000000003,0,{"$f":"MAX(0,D35027-'Vstupní hodnoty'!$C$5)","v":0}]
[null,"2017-12-31T20:15:00",12,179.28,{"$f":"CEILING(IF(C35028-C35027=0,IF(H35027=0,I35027,IF(J35027>K35027,I35027,E35027)),'Výstupy modelu'!$C$7),1)","v":1664},0,0,{"$f":"IF(F35028=1,IF(G35028>'Zdrojová data'!$C$19,0,1),\"\")","v":""},1664,0,{"$f":"MIN(J35028,'Zdrojová data'!$C$17)","v":0},0,{"$f":"L35028/'Zdrojová data'!$C$16","v":0},{"$f":"M35028*'Zdrojová data'!$C$13","v":0},{"$f":"N35028*'Zdrojová data'!$C$14","v":0},0,{"$f":"IF(H35028=0,D35028-'Výstupy modelu'!$C$7,IF(P35028=1,J35028-K35028,0))","v":0},0,null,{"$f":"MAX(0,IF(Q35028>0,Q35028-('Výstupy modelu'!$H$10-'Výstupy modelu'!$H$9),0))","v":0},null,null,1865.4300000000003,1885.4300000000003,0,{"$f":"MAX(0,D35028-'Vstupní hodnoty'!$C$5)","v":0}]
[null,"2017-12-31T20:30:00",12,182.52,{"$f":"CEILING(IF(C35029-C35028=0,IF(H35028=0,I35028,IF(J35028>K35028,I35028,E35028)),'Výstupy modelu'!$C$7),1)","v":1664},0,0,{"$f":"IF(F35029=1,IF(G35029>'Zdrojová data'!$C$19,0,1),\"\")","v":""},1664,0,{"$f":"MIN(J35029,'Zdrojová data'!$C$17)","v":0},0,{"$f":"L35029/'Zdrojová data'!$C$16","v":0},{"$f":"M35029*'Zdrojová data'!$C$13","v":0},{"$f":"N35029*'Zdrojová data'!$C$14","v":0},0,{"$f":"IF(H35029=0,D35029-'Výstupy modelu'!$C$7,IF(P35029=1,J35029-K35029,0))","v":0},0,null,{"$f":"MAX(0,IF(Q35029>0,Q35029-('Výstupy modelu'!$H$10-'Výstupy modelu'!$H$9),0))","v":0},null,null,1865.4300000000003,1885.4300000000003,0,{"$f":"MAX(0,D35029-'Vstupní hodnoty'!$C$5)","v":0}]
[null,"2017-12-31T20:45:00",12,185.76000000000002,{"$f":"CEILING(IF(C35030-C35029=0,IF(H35029=0,I35029,IF(J35029>K35029,I35029,E35029)),'Výstupy modelu'!$C$7),1)","v":1664},0,0,{"$f":"IF(F35030=1,IF(G35030>'Zdrojová data'!$C$19,0,1),\"\")","v":""},1664,0,{"$f":"MIN(J35030,'Zdrojová data'!$C$17)","v":0},0,{"$f":"L35030/'Zdrojová data'!$C$16","v":0},{"$f":"M35030*'Zdrojová data'!$C$13","v":0},{"$f":"N35030*'Zdrojová data'!$C$14","v":0},0,{"$f":"IF(H35030=0,D35030-'Výstupy modelu'!$C$7,IF(P35030=1,J35030-K35030,0))","v":0},0,null,{"$f":"MAX(0,IF(Q35030>0,Q35030-('Výstupy modelu'!$H$10-'Výstupy modelu'!$H$9),0))","v":0},null,null,1865.4300000000003,1885.4300000000003,0,{"$f":"MAX(0,D35030-'Vstupní hodnoty'!$C$5)","v":0}]
[null,"2017-12-31T21:00:00",12,184.68,{"$f":"CEILING(IF(C35031-C35030=0,IF(H35030=0,I35030,IF(J35030>K35030,I35030,E35030)),'Výstupy modelu'!$C$7),1)","v":1664},0,0,{"$f":"IF(F35031=1,IF(G35031>'Zdrojová data'!$C$19,0,1),\"\")","v":""},1664,0,{"$f":"MIN(J35031,'Zdrojová data'!$C$17)","v":0},0,{"$f":"L35031/'Zdrojová data'!$C$16","v":0},{"$f":"M35031*'Zdrojová data'!$C$13","v":0},{"$f":"N35031*'Zdrojová data'!$C$14","v":0},0,{"$f":"IF(H35031=0,D35031-'Výstupy modelu'!$C$7,IF(P35031=1,J35031-K35031,0))","v":0},0,null,{"$f":"MAX(0,IF(Q35031>0,Q35031-('Výstupy modelu'!$H$10-'Výstupy modelu'!$H$9),0))","v":0},null,null,1865.4300000000003,1885.4300000000003,0,{"$f":"MAX(0,D35031-'Vstupní hodnoty'!$C$5)","v":0}]
[null,"2017-12-31T21:15:00",12,182.52,{"$f":"CEILING(IF(C35032-C35031=0,IF(H35031=0,I35031,IF(J35031>K35031,I35031,E35031)),'Výstupy modelu'!$C$7),1)","v":1664},0,0,{"$f":"IF(F35032=1,IF(G35032>'Zdrojová data'!$C$19,0,1),\"\")","v":""},1664,0,{"$f":"MIN(J35032,'Zdrojová data'!$C$17)","v":0},0,{"$f":"L35032/'Zdrojová data'!$C$16","v":0},{"$f":"M35032*'Zdrojová data'!$C$13","v":0},{"$f":"N35032*'Zdrojová data'!$C$14","v":0},0,{"$f":"IF(H35032=0,D35032-'Výstupy modelu'!$C$7,IF(P35032=1,J35032-K35032,0))","v":0},0,null,{"$f":"MAX(0,IF(Q35032>0,Q35032-('Výstupy modelu'!$H$10-'Výstupy modelu'!$H$9),0))","v":0},null,null,1865.4300000000003,1885.4300000000003,0,{"$f":"MAX(0,D35032-'Vstupní hodnoty'!$C$5)","v":0}]
[null,"2017-12-31T21:30:00",12,191.16000000000003,{"$f":"CEILING(IF(C35033-C35032=0,IF(H35032=0,I35032,IF(J35032>K35032,I35032,E35032)),'Výstupy modelu'!$C$7),1)","v":1664},0,0,{"$f":"IF(F35033=1,IF(G35033>'Zdrojová data'!$C$19,0,1),\"\")","v":""},1664,0,{"$f":"MIN(J35033,'Zdrojová data'!$C$17)","v":0},0,{"$f":"L35033/'Zdrojová data'!$C$16","v":0},{"$f":"M35033*'Zdrojová data'!$C$13","v":0},{"$f":"N35033*'Zdrojová data'!$C$14","v":0},0,{"$f":"IF(H35033=0,D35033-'Výstupy modelu'!$C$7,IF(P35033=1,J35033-K35033,0))","v":0},0,null,{"$f":"MAX(0,IF(Q35033>0,Q35033-('Výstupy modelu'!$H$10-'Výstupy modelu'!$H$9),0))","v":0},null,null,1865.4300000000003,1885.4300000000003,0,{"$f":"MAX(0,D35033-'Vstupní hodnoty'!$C$5)","v":0}]
[null,"2017-12-31T21:45:00",12,186.84,{"$f":"CEILING(IF(C35034-C35033=0,IF(H35033=0,I35033,IF(J35033>K35033,I35033,E35033)),'Výstupy modelu'!$C$7),1)","v":1664},0,0,{"$f":"IF(F35034=1,IF(G35034>'Zdrojová data'!$C$19,0,1),\"\")","v":""},1664,0,{"$f":"MIN(J35034,'Zdrojová data'!$C$17)","v":0},0,{"$f":"L35034/'Zdrojová data'!$C$16","v":0},{"$f":"M35034*'Zdrojová data'!$C$13","v":0},{"$f":"N35034*'Zdrojová data'!$C$14","v":0},0,{"$f":"IF(H35034=0,D35034-'Výstupy modelu'!$C$7,IF(P35034=1,J35034-K35034,0))","v":0},0,null,{"$f":"MAX(0,IF(Q35034>0,Q35034-('Výstupy modelu'!$H$10-'Výstupy modelu'!$H$9),0))","v":0},null,null,1865.4300000000003,1885.4300000000003,0,{"$f":"MAX(0,D35034-'Vstupní hodnoty'!$C$5)","v":0}]
[null,"2017-12-31T22:00:00",12,186.84,{"$f":"CEILING(IF(C35035-C35034=0,IF(H35034=0,I35034,IF(J35034>K35034,I35034,E35034)),'Výstupy modelu'!$C$7),1)","v":1664},0,0,{"$f":"IF(F35035=1,IF(G35035>'Zdrojová data'!$C$19,0,1),\"\")","v":""},1664,0,{"$f":"MIN(J35035,'Zdrojová data'!$C$17)","v":0},0,{"$f":"L35035/'Zdrojová data'!$C$16","v":0},{"$f":"M35035*'Zdrojová data'!$C$13","v":0},{"$f":"N35035*'Zdrojová data'!$C$14","v":0},0,{"$f":"IF(H35035=0,D35035-'Výstupy modelu'!$C$7,IF(P35035=1,J35035-K35035,0))","v":0},0,null,{"$f":"MAX(0,IF(Q35035>0,Q35035-('Výstupy modelu'!$H$10-'Výstupy modelu'!$H$9),0))","v":0},null,null,1865.4300000000003,1885.4300000000003,0,{"$f":"MAX(0,D35035-'Vstupní hodnoty'!$C$5)","v":0}]
[null,"2017-12-31T22:15:00",12,203.04000000000002,{"$f":"CEILING(IF(C35036-C35035=0,IF(H35035=0,I35035,IF(J35035>K35035,I35035,E35035)),'Výstupy modelu'!$C$7),1)","v":1664},0,0,{"$f":"IF(F35036=1,IF(G35036>'Zdrojová data'!$C$19,0,1),\"\")","v":""},1664,0,{"$f":"MIN(J35036,'Zdrojová data'!$C$17)","v":0},0,{"$f":"L35036/'Zdrojová data'!$C$16","v":0},{"$f":"M35036*'Zdrojová data'!$C$13","v":0},{"$f":"N35036*'Zdrojová data'!$C$14","v":0},0,{"$f":"IF(H35036=0,D35036-'Výstupy modelu'!$C$7,IF(P35036=1,J35036-K35036,0))","v":0},0,null,{"$f":"MAX(0,IF(Q35036>0,Q35036-('Výstupy modelu'!$H$10-'Výstupy modelu'!$H$9),0))","v":0},null,null,1865.4300000000003,1885.4300000000003,0,{"$f":"MAX(0,D35036-'Vstupní hodnoty'!$C$5)","v":0}]
[null,"2017-12-31T22:30:00",12,200.88000000000002,{"$f":"CEILING(IF(C35037-C35036=0,IF(H35036=0,I35036,IF(J35036>K35036,I35036,E35036)),'Výstupy modelu'!$C$7),1)","v":1664},0,0,{"$f":"IF(F35037=1,IF(G35037>'Zdrojová data'!$C$19,0,1),\"\")","v":""},1664,0,{"$f":"MIN(J35037,'Zdrojová data'!$C$17)","v":0},0,{"$f":"L35037/'Zdrojová data'!$C$16","v":0},{"$f":"M35037*'Zdrojová data'!$C$13","v":0},{"$f":"N35037*'Zdrojová data'!$C$14","v":0},0,{"$f":"IF(H35037=0,D35037-'Výstupy modelu'!$C$7,IF(P35037=1,J35037-K35037,0))","v":0},0,null,{"$f":"MAX(0,IF(Q35037>0,Q35037-('Výstupy modelu'!$H$10-'Výstupy modelu'!$H$9),0))","v":0},null,null,1865.4300000000003,1885.4300000000003,0,{"$f":"MAX(0,D35037-'Vstupní hodnoty'!$C$5)","v":0}]
[null,"2017-12-31T22:45:00",12,204.12,{"$f":"CEILING(IF(C35038-C35037=0,IF(H35037=0,I35037,IF(J35037>K35037,I35037,E35037)),'Výstupy modelu'!$C$7),1)","v":1664},0,0,{"$f":"IF(F35038=1,IF(G35038>'Zdrojová data'!$C$19,0,1),\"\")","v":""},1664,0,{"$f":"MIN(J35038,'Zdrojová data'!$C$17)","v":0},0,{"$f":"L35038/'Zdrojová data'!$C$16","v":0},{"$f":"M35038*'Zdrojová data'!$C$13","v":0},{"$f":"N35038*'Zdrojová data'!$C$14","v":0},0,{"$f":"IF(H35038=0,D35038-'Výstupy modelu'!$C$7,IF(P35038=1,J35038-K35038,0))","v":0},0,null,{"$f":"MAX(0,IF(Q35038>0,Q35038-('Výstupy modelu'!$H$10-'Výstupy modelu'!$H$9),0))","v":0},null,null,1865.4300000000003,1885.4300000000003,0,{"$f":"MAX(0,D35038-'Vstupní hodnoty'!$C$5)","v":0}]
[null,"2017-12-31T23:00:00",12,212.76000000000002,{"$f":"CEILING(IF(C35039-C35038=0,IF(H35038=0,I35038,IF(J35038>K35038,I35038,E35038)),'Výstupy modelu'!$C$7),1)","v":1664},0,0,{"$f":"IF(F35039=1,IF(G35039>'Zdrojová data'!$C$19,0,1),\"\")","v":""},1664,0,{"$f":"MIN(J35039,'Zdrojová data'!$C$17)","v":0},0,{"$f":"L35039/'Zdrojová data'!$C$16","v":0},{"$f":"M35039*'Zdrojová data'!$C$13","v":0},{"$f":"N35039*'Zdrojová data'!$C$14","v":0},0,{"$f":"IF(H35039=0,D35039-'Výstupy modelu'!$C$7,IF(P35039=1,J35039-K35039,0))","v":0},0,null,{"$f":"MAX(0,IF(Q35039>0,Q35039-('Výstupy modelu'!$H$10-'Výstupy modelu'!$H$9),0))","v":0},null,null,1865.4300000000003,1885.4300000000003,0,{"$f":"MAX(0,D35039-'Vstupní hodnoty'!$C$5)","v":0}]
[null,"2017-12-31T23:15:00",12,198.72000000000003,{"$f":"CEILING(IF(C35040-C35039=0,IF(H35039=0,I35039,IF(J35039>K35039,I35039,E35039)),'Výstupy modelu'!$C$7),1)","v":1664},0,0,{"$f":"IF(F35040=1,IF(G35040>'Zdrojová data'!$C$19,0,1),\"\")","v":""},1664,0,{"$f":"MIN(J35040,'Zdrojová data'!$C$17)","v":0},0,{"$f":"L35040/'Zdrojová data'!$C$16","v":0},{"$f":"M35040*'Zdrojová data'!$C$13","v":0},{"$f":"N35040*'Zdrojová data'!$C$14","v":0},0,{"$f":"IF(H35040=0,D35040-'Výstupy modelu'!$C$7,IF(P35040=1,J35040-K35040,0))","v":0},0,null,{"$f":"MAX(0,IF(Q35040>0,Q35040-('Výstupy modelu'!$H$10-'Výstupy modelu'!$H$9),0))","v":0},null,null,1865.4300000000003,1885.4300000000003,0,{"$f":"MAX(0,D35040-'Vstupní hodnoty'!$C$5)","v":0}]
[null,"2017-12-31T23:30:00",12,200.88000000000002,{"$f":"CEILING(IF(C35041-C35040=0,IF(H35040=0,I35040,IF(J35040>K35040,I35040,E35040)),'Výstupy modelu'!$C$7),1)","v":1664},0,0,{"$f":"IF(F35041=1,IF(G35041>'Zdrojová data'!$C$19,0,1),\"\")","v":""},1664,0,{"$f":"MIN(J35041,'Zdrojová data'!$C$17)","v":0},0,{"$f":"L35041/'Zdrojová data'!$C$16","v":0},{"$f":"M35041*'Zdrojová data'!$C$13","v":0},{"$f":"N35041*'Zdrojová data'!$C$14","v":0},0,{"$f":"IF(H35041=0,D35041-'Výstupy modelu'!$C$7,IF(P35041=1,J35041-K35041,0))","v":0},0,null,{"$f":"MAX(0,IF(Q35041>0,Q35041-('Výstupy modelu'!$H$10-'Výstupy modelu'!$H$9),0))","v":0},null,null,1865.4300000000003,1885.4300000000003,0,{"$f":"MAX(0,D35041-'Vstupní hodnoty'!$C$5)","v":0}]
[null,"2017-12-31T23:45:00",12,203.04000000000002,{"$f":"CEILING(IF(C35042-C35041=0,IF(H35041=0,I35041,IF(J35041>K35041,I35041,E35041)),'Výstupy modelu'!$C$7),1)","v":1664},0,0,{"$f":"IF(F35042=1,IF(G35042>'Zdrojová data'!$C$19,0,1),\"\")","v":""},1664,0,{"$f":"MIN(J35042,'Zdrojová data'!$C$17)","v":0},0,{"$f":"L35042/'Zdrojová data'!$C$16","v":0},{"$f":"M35042*'Zdrojová data'!$C$13","v":0},{"$f":"N35042*'Zdrojová data'!$C$14","v":0},0,{"$f":"IF(H35042=0,D35042-'Výstupy modelu'!$C$7,IF(P35042=1,J35042-K35042,0))","v":0},0,{"$f":"MAX(Q32067:Q35042)","v":0},{"$f":"MAX(0,IF(Q35042>0,Q35042-('Výstupy modelu'!$H$10-'Výstupy modelu'!$H$9),0))","v":0},null,null,1865.4300000000003,1885.4300000000003,0,{"$f":"MAX(0,D35042-'Vstupní hodnoty'!$C$5)","v":0}]
[null,"2018-01-01",1,203.04000000000002,{"$f":"CEILING(IF(C35043-C35042=0,IF(H35042=0,I35042,IF(J35042>K35042,I35042,E35042)),'Výstupy modelu'!$C$7),1)","v":1664},0,0,{"$f":"IF(F35043=1,IF(G35043>'Zdrojová data'!$C$19,0,1),\"\")","v":""},1664,0,{"$f":"MIN(J35043,'Zdrojová data'!$C$17)","v":0},0,{"$f":"L35043/'Zdrojová data'!$C$16","v":0},{"$f":"M35043*'Zdrojová data'!$C$13","v":0},{"$f":"N35043*'Zdrojová data'!$C$14","v":0},0,{"$f":"IF(H35043=0,D35043-'Výstupy modelu'!$C$7,IF(P35043=1,J35043-K35043,0))","v":0},0,null,{"$f":"MAX(0,IF(Q35043>0,Q35043-('Výstupy modelu'!$H$10-'Výstupy modelu'!$H$9),0))","v":0},null,null,1865.4300000000003,1885.4300000000003,0,{"$f":"MAX(0,D35043-'Vstupní hodnoty'!$C$5)","v":0}]
[]
[null,null,null,null,null,null,null,null,null,null,null,null,null,null,null,null,null,"suma",{"$f":"SUM(S4:S35043)","v":0}]

{"sheet":"Výstupy modelu","index":4,"n_rows":66,"n_cols":9,"rows_kept":66,"cut":false,"hidden":false,"merged":[[1,6,1,8],[1,1,1,3],[5,6,5,8],[10,6,10,8],[14,1,14,3],[11,1,11,3],[7,1,7,3],[5,1,5,3],[11,6,11,8],[6,6,6,8]]}
[]
[null,"Výsledky po optimalizaci",null,null,null,null,"Před optimalizací"]
[null,"Platba zákazníka před optimalizací",{"$f":"'Výpočet platby zákazníka'!D19","v":11458360.611849651},"Kč",null,null,"Spotřeba zákazníka",{"$f":"'Vstupní hodnoty'!C3","v":6292.1534400000519},"MWh"]
[null,"Platba zákazníka po optimalizaci",{"$f":"'Výpočet platby zákazníka'!H19+C16","v":10989353.239381094},"Kč",null,null,"Rezervovaná kapacita",{"$f":"'Vstupní hodnoty'!C4","v":1865.4300000000003},"kW"]
[null,"Ušetřeno",{"$f":"C3-C4","v":469007.37246855721},"Kč",null,null,"Rezervovaný příkon",{"$f":"'Vstupní hodnoty'!C5","v":1958.7015000000004},"kW"]
[]
[null,"Nová rezervovaná kapacita",1663.8506360013428,"kW",null,null,"Po optimalizaci"]
[null,null,null,null,null,null,"Spotřeba zákazníka",{"$f":"H3-SUM('Výpočetní model'!L4:L35043)/1000","v":6291.2942300000523},"MWh"]
[null,"Počet startů",{"$f":"SUM('Výpočetní model'!F4:F35043)","v":109},"-",null,null,"Rezervovaná kapacita",{"$f":"C7","v":1663.8506360013428},"kW"]
[null,"Počet úspěšných startů",{"$f":"SUM('Výpočetní model'!H4:H35043)","v":109},"-",null,null,"Rezervovaný příkon",{"$f":"MAX(H4+20,H5-(H4-H9))","v":1885.4300000000003},"kW"]
[null,"Úspěšnost startů",{"$f":"IF(C9=0,0,C10/C9*100)","v":100},"%"]
[null,null,null,null,null,null,"Rozdíl"]
[null,"Počet nedostatečných výkonů",{"$f":"SUM('Výpočetní model'!P4:P35043)","v":0},"-",null,null,"Spotřeba zákazníka",{"$f":"((H3-H8)*-1)*1000","v":-859.20999999962078},"kWh"]
[null,"Max chybějící výkon",{"$f":"MAX('Výpočetní model'!Q4:Q35043)","v":0},"kW",null,null,"Rezervovaná kapacita",{"$f":"(H4-H9)*-1","v":-201.57936399865753},"kW"]
[null,null,null,null,null,null,"Rezervovaný příkon",-73.27150000000006,"kW"]
[null,"Palivové náklady",{"$f":"SUM('Výpočetní model'!O4:O35043)","v":4693.2356940180716},"Kč",null,null,"Ušetřeno",{"$f":"C5","v":469007.37246855721},"Kč"]
[null,"Překročená RK",{"$f":"SUM('Výpočetní model'!S4:S35043)","v":0},"kW"]
[null,"Překročený RP",{"$f":"SUM('Výpočetní model'!T4:T35043)","v":0},"kW"]
[null,"Placené penále",{"$f":"(C17+C18)*'Zdrojová data'!C21","v":0},"Kč"]
[]
[]
[]
[]
[]
[]
[]
[]
[]
[]
[]
[]
[]
[]
[]
[]
[]
[]
[]
[]
[]
[]
[]
[]
[]
[]
[]
[]
[]
[]
[]
[]
[]
[]
[]
[]
[]
[]
[]
[]
[]
[]
[]
[]
[]
[]
[null,null,null,null,{"$f":"19346-18273","v":1073}]

{"sheet":"Investice","index":5,"n_rows":23,"n_cols":17,"rows_kept":23,"cut":false,"hidden":false,"merged":[]}
[]
[]
[]
[null,"rok","Investice [Kč]","ušetřeno [Kč]","náklady [Kč]","inflace","r. výnos","nom. výnos","odpisy [Kč]","daňový základ [Kč]","daňová sazba","daň [Kč]","CF [Kč]","DCF [Kč]",null,"Nominální výnos","Investice [Kč]"]
[null,0,2861109.6322351238,null,null,null,null,null,null,null,null,null,{"$f":"-C5+D5-L5-E5","v":-2861109.6322351238},{"$f":"M5/(1+H5)^B5","v":-2861109.6322351238},null,0.03,3180804]
[null,1,null,{"$f":"'Statistické šetření'!G19","v":428510.86728976876},{"$f":"SUM('Statistické šetření'!D2:D1001)/1000","v":3857.6197749314765},0.02,0.05,{"$f":"F6+G6+F6*G6","v":7.1000000000000008E-2},{"$f":"$C$5/B21","v":572221.9264470248},{"$f":"D6-I6-E6","v":-147568.67893218753},0.19,{"$f":"J6*K6","v":-28038.048997115631},{"$f":"-C6+D6-L6-E6","v":452691.29651195294},{"$f":"M6/(1+H6)^B6","v":422680.94912413909},null,3.5000000000000003E-2,3096019]
[null,2,null,{"$f":"D6","v":428510.86728976876},{"$f":"E6","v":3857.6197749314765},0.02,{"$f":"G6","v":0.05},{"$f":"F7+G7+F7*G7","v":7.1000000000000008E-2},{"$f":"$C$5*2*($B$21-B7+1)/$B$21^2","v":915555.08231523959},{"$f":"D7-I7-E7","v":-490901.83480040228},0.19,{"$f":"J7*K7","v":-93271.348612076428},517924.59612691373,451531.0229773075,null,0.04,3014582]
[null,3,null,{"$f":"D7","v":428510.86728976876},3857.6197749314765,0.02,{"$f":"G7","v":0.05},7.1000000000000008E-2,{"$f":"$C$5*2*($B$21-B8+1)/$B$21^2","v":686666.31173642958},-262013.0642215923,0.19,-49782.482202102539,474435.72971693985,386197.07108899462,null,4.4999999999999998E-2,2936330]
[null,4,null,428510.86728976876,3857.6197749314765,0.02,0.05,7.1000000000000008E-2,{"$f":"$C$5*2*($B$21-B9+1)/$B$21^2","v":457777.54115761979},-33124.293642782504,0.19,-6293.6157921286758,430946.86330696597,327541.1282555018,null,0.05,2861109]
[null,5,null,428510.86728976876,3857.6197749314765,0.02,0.05,7.1000000000000008E-2,{"$f":"$C$5*2*($B$21-B10+1)/$B$21^2","v":228888.7705788099},195764.47693602738,0.19,37195.250617845202,387457.99689699209,274964.91026414069,null,5.5E-2,2788772]
[null,6,null,428510.86728976876,3857.6197749314765,0.02,0.05,7.1000000000000008E-2,0,424653.24751483731,0.19,80684.117027819084,343969.13048701821,227920.10881065932,null,0.06,2719183]
[null,7,null,428510.86728976876,3857.6197749314765,0.02,0.05,7.1000000000000008E-2,0,424653.24751483731,0.19,80684.117027819084,343969.13048701821,212810.55911359415,null,6.5000000000000002E-2,2652212]
[null,8,null,428510.86728976876,3857.6197749314765,0.02,0.05,7.1000000000000008E-2,0,424653.24751483731,0.19,80684.117027819084,343969.13048701821,198702.66957385078,null,7.0000000000000007E-2,2587735]
[null,9,null,428510.86728976876,3857.6197749314765,0.02,0.05,7.1000000000000008E-2,0,424653.24751483731,0.19,80684.117027819084,343969.13048701821,185530.03695037423,null,7.4999999999999997E-2,2525638]
[null,10,null,428510.86728976876,3857.6197749314765,0.02,0.05,7.1000000000000008E-2,0,424653.24751483731,0.19,80684.117027819084,343969.13048701821,173230.66008438301,null,0.08,2465810]
[null,null,null,null,null,null,null,null,null,null,null,null,null,null,null,8.5000000000000006E-2,2408148]
[null,null,null,null,null,null,null,null,{"$f":"SUM(I6:I15)-C5","v":0},null,null,null,null,null,null,9.0000000000000094E-2,2352553]
[null,null,null,null,null,null,null,null,null,null,null,null,null,null,null,9.5000000000000098E-2,2298933]
[null,null,null,null,null,null,null,null,null,null,null,null,null,null,null,0.1,2247199]
[]
["Doba životnosti",5]
["IRR",{"$f":"IRR(N5:N15)","v":-3.9636160575895474E-8}]
["NPV",{"$f":"SUM(N5:N15)","v":-0.5159921784652397}]

{"sheet":"Statistické šetření","index":6,"n_rows":1001,"n_cols":16,"rows_kept":1001,"cut":false,"hidden":false,"merged":[]}
["Číslo výpočtu","Ušetřeno [Kč]","% úspěšnost startů","Náklady [Kč]","Penále [Kč]"]
[1,417408.85310046747,98.958333333333343,3985.2164546486256,51476.722181557889]
[2,438036.2404840216,96.907216494845358,3537.4743079805698,31297.076944673528]
[3,434057.50807082094,96.938775510204081,3655.4046842958483,35157.8789815579]
[4,388005.35658054613,94.20289855072464,2681.4275930138988,82184.007563115621,null,null,null,null,null,null,"Horní hranice intervalu","Absolutní četnost","Relativní četnost",null,"Středy intervalů"]
[5,417408.85310046747,98.958333333333343,3985.2164546486256,51476.722181557889,null,null,null,null,null,1,{"$f":"MIN(B2:B1001)","v":322470.42887600325},{"$f":"FREQUENCY($B$2:$B$1001,$L$6:$L$21)","v":1},{"$f":"M6/$M$22","v":1E-3},null,98611]
[6,455754.80113387294,98.165137614678898,4657.9494396875152,12458.041163115628,null,null,null,null,null,2,{"$f":"L6+$H$14","v":332184.23735378025},3,3.0000000000000001E-3,null,{"$f":"(L7+L6)/2","v":327327.33311489178}]
[7,468177.55604265817,100,4693.2356940180716,0,null,null,null,null,null,3,341898.04583155725,5,5.0000000000000001E-3,null,337041.14159266872]
[8,441848.06268089265,98.019801980198025,4024.271674225015,26998.457381557822,null,null,null,null,null,4,351611.85430933425,6,6.0000000000000001E-3,null,346754.95007044578]
[9,397539.93797405623,97.297297297297305,2789.7989995027888,72541.054763115637,null,null,null,null,null,5,361325.66278711124,10,0.01,null,356468.75854822272]
[10,383240.74762460589,95.454545454545453,2253.6773489541765,87376.366763115744,null,null,null,null,null,6,371039.47126488824,25,2.5000000000000001E-2,null,366182.56702599977]
[11,438157.83058021218,96.875,3415.8842117889035,31297.076944673528,null,"variační rozpětí",{"$f":"MAX(B2:B1001)-MIN(B2:B1001)","v":145707.12716665491},null,null,7,380753.27974266524,28,2.8000000000000001E-2,null,375896.37550377671]
[12,431545.16906260699,98.969072164948457,3942.446892511126,37383.175781557904,null,"počet intervalů",{"$f":"5*LOG10(1000)","v":15},null,null,8,390467.08822044224,37,3.6999999999999998E-2,null,385610.18398155377]
[13,453859.85023781471,99.074074074074076,4622.4993173027933,14388.442181557888,null,"šířka intervalu",{"$f":"H12/H13","v":9713.8084777769946},null,null,9,400180.89669821924,62,6.2E-2,null,395323.99245933071]
[14,464942.36297661252,99.082568807339456,4666.4705785041824,3261.9581815578567,null,null,null,null,null,10,409894.70517599623,63,6.3E-2,null,{"$f":"(L15+L14)/2","v":405037.80093710776}]
[15,461220.42553227954,99.082568807339456,4679.5800228375165,6970.7861815577635,null,null,null,null,null,11,419608.51365377323,89,8.8999999999999996E-2,null,{"$f":"(L16+L15)/2","v":414751.6094148847}]
[16,375916.8153277915,96.739130434782609,3348.5890642111258,93605.387344673552,null,{"$f":"_xlfn.MODE.MULT(B2:B1001)","v":468177.55604265817},"modus",null,null,12,429322.32213155023,104,0.104,null,424465.41789266176]
[17,449760.91748205572,98.019801980198025,4270.838473061126,18839.035781557901,null,{"$f":"MEDIAN(B2:B1001)","v":433820.6641098652},"median",null,null,13,439036.13060932723,143,0.14299999999999999,null,434179.2263704387]
[18,468177.55604265817,100,4693.2356940180716,0,null,{"$f":"SUMPRODUCT(N6:N21,P6:P21)/SUM(N6:N21)","v":428510.86728976876},"vážený průměr středů intervalů",null,null,14,448749.93908710423,113,0.113,null,443893.03484821576]
[19,468177.55604265817,100,4693.2356940180716,0,null,null,null,null,null,15,458463.74756488123,131,0.13100000000000001,null,453606.8433259927]
[20,420983.81135874242,97.727272727272734,3377.3205963750133,48509.659781557777,null,null,null,null,null,16,{"$f":"L20+$H$14+1","v":468178.55604265822},180,0.18,null,463321.15180376975]
[21,441275.4756287355,97.802197802197796,3560.1973448250146,28035.118763115672,null,null,null,null,null,null,null,{"$f":"SUM(M6:M21)","v":1000},{"$f":"SUM(N6:N21)","v":1}]
[22,455285.22037184238,98.039215686274503,4385.7646017166826,13199.806763115734]
[23,390101.067455329,98.019801980198025,4294.5447182305707,78475.179563115555]
[24,454870.03171053901,99.065420560747668,4354.0834445777946,13646.676581557782]
[25,440529.87434754521,99,3858.9288075708487,28481.988581557878]
[26,426145.7352648247,98.98989898989899,4149.5214902930711,42575.534981557867]
[27,431330.55653433315,98.958333333333343,4157.0594207847371,37383.175781557904]
[28,429625.38739678636,98.76543209876543,2895.1661583319569,40350.238181557863]
[29,404544.87542682327,95.833333333333343,2460.751946736123,65865.164363115618]
[30,357487.49221107736,94.382022471910105,3233.7721809250133,112149.52734467355]
[31,382738.87603210844,96.296296296296291,3202.4187598944559,86929.496944673694]
[32,468177.55604265817,100,4693.2356940180716,0]
[33,462711.93164424784,99.082568807339456,4671.6051108680713,5487.2549815578632]
[34,436546.30633665062,96.875,3838.7730369083474,32485.712363115683]
[35,388400.77019524947,97.183098591549296,2286.0139783097334,82184.007563115782]
[36,370063.1585661862,96.610169491525426,2079.4856073750097,100728.14756311562]
[37,431330.55653433315,98.958333333333343,4157.0594207847371,37383.175781557904]
[38,424035.04895062931,96,3740.01522293057,45095.727563115615]
[39,468177.55604265817,100,4693.2356940180716,0]
[40,457985.23246623576,98.165137614678898,4652.8149073236264,10232.74436311562]
[41,437011.04823152721,96.590909090909093,3079.1353604764022,32780.608144673432]
[42,462803.69775458239,99.056603773584911,4579.8390005347374,5487.2549815578632]
[43,423059.07173706777,97.674418604651152,3232.4612364916793,46579.258763115671]
[44,414913.89619925246,98.019801980198025,3959.9807743069587,53996.914763115645]
[45,455324.04500742257,99.082568807339456,4641.8357476944602,12904.910981557832]
[46,451911.81818546541,99.019607843137265,4345.2345696527937,16613.738981557894]
[47,400734.32789461315,98.68421052631578,2857.3672605041788,69279.09658155778]
[48,392974.16768376343,93.103448275862064,1868.314308238897,78028.309744673505]
[49,453588.82293475233,99.009900990099013,4151.7610203666836,15130.20778155784]
[50,468177.55604265817,100,4693.2356940180716,0]
[51,349960.00045062974,93.548387096774192,2601.8423413736205,120308.94894467347]
[52,410709.26854855567,97.979797979797979,3714.0148250027928,58447.508363115652]
[53,325565.4722263068,94.594594594594597,2518.1057656944549,144787.21374467338]
[54,409601.09397944063,96.703296703296701,4080.4237941194579,59189.27396311576]
[55,468177.55604265817,100,4693.2356940180716,0]
[56,417408.85310046747,98.958333333333343,3985.2164546486256,51476.722181557889]
[57,446191.37732809782,98.958333333333343,4131.5506270194592,22547.863781557808]
[58,468177.55604265817,100,4693.2356940180716,0]
[59,413340.1934053041,97.674418604651152,3308.3867682555679,56222.211563115801]
[60,411860.81352934428,97.777777777777771,3304.2354442166802,57705.742763115704]
[61,467888.50488836505,99.082568807339456,4687.3910667527934,294.89578155790036]
[62,451911.81818546541,99.019607843137265,4345.2345696527937,16613.738981557894]
[63,425507.05476415344,97.115384615384613,3751.5406094069585,43612.19636311556]
[64,421612.11518404633,98.969072164948457,4232.5479710708478,47026.128581557881]
[65,446600.00963250548,99,3722.9183226125151,22547.863781557808]
[66,446798.40085814707,97.058823529411768,3971.3969154139045,22100.993963115758]
[67,452540.84256419726,99.056603773584911,4457.9757909194605,15871.973381557789]
[68,468177.55604265817,100,4693.2356940180716,0]
[69,380988.97255050205,94.029850746268664,2432.129659941676,89449.68952623129]
[70,436690.49813105911,99,3989.4770240569596,32190.816581557785]
[71,440961.1767008435,97.802197802197796,3874.4962727166799,28035.118763115672]
[72,438356.95024366677,99.074074074074076,4548.3217114500158,29965.519781557778]
[73,417520.02399186604,96.969696969696969,4026.019600136126,51324.748144673431]
[74,414321.36140864342,95.959595959595958,4257.6197833583483,54291.810544673543]
[75,426045.56935430132,95.652173913043484,3954.7916192583461,42870.430763115764]
[76,431589.46805991605,97.872340425531917,3898.1478952014027,37383.175781557904]
[77,458828.10465565696,98.076923076923066,4551.7083179027932,9490.9787631156705]
[78,445938.86874988489,97.916666666666657,4089.1634236750133,22842.759563115709]
[79,401077.31745997071,94.805194805194802,2666.3517320305659,69127.122544673635]
[80,468177.55604265817,100,4693.2356940180716,0]
[81,448790.82905991748,99.056603773584911,4499.161295200016,19580.801381557852]
[82,355125.44112558849,93.877551020408163,1886.9952664138962,115858.35534467346]
[83,430819.92369990796,96.808510638297875,3336.1350920944569,38714.732944673495]
[84,421612.11518404633,98.969072164948457,4232.5479710708478,47026.128581557881]
[85,364124.28322734311,94.666666666666671,2531.1059646583449,106215.40254467363]
[86,424906.33702936396,96.739130434782609,3315.5969626389037,44648.857744673565]
[87,377596.8347832635,92.753623188405797,2410.3352087375097,92863.621744673452]
[88,468177.55604265817,100,4693.2356940180716,0]
[89,402945.10715373605,97.142857142857139,2576.98901982501,67348.695563115674]
[90,437506.38671422936,98.91304347826086,3915.354040888903,31449.050981557833]
[91,426603.8573563192,97.916666666666657,4138.2692172402922,42128.665163115817]
[92,447647.50003362447,98.039215686274503,3864.063339934738,21359.228363115653]
[93,468177.55604265817,100,4693.2356940180716,0]
[94,381720.21594999358,96.666666666666671,3774.2090235666797,87376.366763115744]
[95,438295.51181661151,98.095238095238088,4314.8643569472388,30260.415563115679]
[96,387932.82092469372,95.555555555555557,3647.7028857500145,81290.267926231361]
[97,427676.36331231333,98,3807.5288612472373,41386.899563115709]
[98,427402.36383248866,98.076923076923066,4376.4241226291824,41092.003781557811]
[99,383904.07668407448,94.252873563218387,2778.9837079277909,86187.731344673579]
[100,400589.41391204484,97.468354430379748,3002.2812430722347,69279.09658155778]
[101,432883.85299598053,97.872340425531917,3792.3983775791808,36194.540363115593]
[102,440116.11960403435,98.019801980198025,3977.7877695264042,28776.884363115623]
[103,376577.23565698229,97.802197802197796,3724.8301165777916,92568.725963115707]
[104,450011.47173687629,98.979591836734699,4020.2842182402933,18839.035781557901]
[105,457332.501842333,98.130841121495322,4563.7799312264051,10974.509963115726]
[106,468177.55604265817,100,4693.2356940180716,0]
[107,399187.69866996072,97.959183673469383,4109.1007035986258,69573.992363115685]
[108,440529.87434754521,99,3858.9288075708487,28481.988581557878]
[109,468177.55604265817,100,4693.2356940180716,0]
[110,433820.6641098652,98.969072164948457,3892.248645251404,35157.8789815579]
[111,439964.09257919341,99.047619047619051,4424.7105759236274,28481.988581557878]
[112,447619.35725773685,98.969072164948457,4187.1018973819591,21064.332581557908]
[113,452248.13169002905,98.113207547169807,4455.7908835305707,16166.869163115689]
[114,468177.55604265817,100,4693.2356940180716,0]
[115,440287.29500469379,98.019801980198025,4101.5081504222371,28481.988581557878]
[116,437506.38671422936,98.91304347826086,3915.354040888903,31449.050981557833]
[117,430432.59097308293,98.76543209876543,2829.7281820347348,39608.472581557908]
[118,456662.23733663559,98.05825242718447,4492.2788369250156,11716.275563115676]
[119,326043.55251478218,81.395348837209298,1003.3640956625055,145823.8751262314]
[120,468177.55604265817,100,4693.2356940180716,0]
[121,398891.78597445041,96.202531645569621,2626.5864175527886,71352.419344673646]
[122,428450.57478703745,97.979797979797979,3775.0829865222368,40645.133963115601]
[123,386908.92752337269,95.6989247311828,3482.9608686277916,82478.903344673527]
[124,381240.83611502685,92.452830188679243,1733.3962769750078,89896.559344673486]
[125,467921.27849919721,99.082568807339456,4654.6174559194596,294.89578155790036]
[126,458567.8396562133,97.169811320754718,4517.0775357889033,9785.8745446735702]
[127,371699.30718202703,92.753623188405797,2373.7380099736201,98797.746544673675]
[128,410261.43970830366,96.666666666666671,3125.1822836972374,59484.169744673505]
[129,460962.78242170252,98.165137614678898,4642.3273518569595,7265.6819631156641]
[130,464942.36297661252,99.082568807339456,4666.4705785041824,3261.9581815578567]
[131,468177.55604265817,100,4693.2356940180716,0]
[132,410070.57595462725,98,3610.9418189319604,59189.273963115607]
[133,454432.18836306408,98.076923076923066,4497.031010495848,13941.572363115683]
[134,468177.55604265817,100,4693.2356940180716,0]
[135,394743.94336407818,97.647058823529406,3360.4968094805677,74766.351563115808]
[136,458479.6102923993,99.038461538461547,4453.3328627180708,9937.848581557877]
[137,441809.93604695611,98,4062.3983081611259,26998.457381557822]
[138,402959.36530917697,94.318181818181827,3009.600682825012,66901.825744673624]
[139,447594.24128128961,98.936170212765958,3470.4522738264027,21806.09818155786]
[140,455389.59222908877,99.074074074074076,4576.2885260277935,12904.910981557832]
[141,420131.47898633592,99.009900990099013,4229.6529687805714,48509.659781557777]
[142,448790.82905991748,99.056603773584911,4499.161295200016,19580.801381557852]
[143,381457.93873501197,97.402597402597408,2552.9550385472335,88859.89796311564]
[144,430330.32848348469,98.019801980198025,4120.6260900750149,38419.837163115757]
[145,468177.55604265817,100,4693.2356940180716,0]
[146,454370.79083070718,99.047619047619051,4111.5587244111275,14388.442181557888]
[147,425037.53908333555,96.15384615384616,2737.5250902236226,45095.727563115775]
[148,468177.55604265817,100,4693.2356940180716,0]
[149,410235.483474534,95.78947368421052,3892.9041174680697,58742.404144673397]
[150,422917.54436095245,96.470588235294116,3373.9886126069578,46579.258763115671]
[151,413531.27564971894,96.05263157894737,2822.4087422819548,56517.107344673546]
[152,414518.17576549575,95.454545454545453,2872.170008063903,55480.445963115701]
[153,468177.55604265817,100,4693.2356940180716,0]
[154,443063.17800816707,99.038461538461547,4292.6875469500155,25514.926181557767]
[155,435028.14435453713,97.959183673469383,3873.4038190222368,33969.243563115742]
[156,416537.04298140295,97.849462365591393,3820.365192156959,52513.383563115742]
[157,468177.55604265817,100,4693.2356940180716,0]
[158,442626.81993170641,97.9381443298969,3692.3842418527925,26551.587563115616]
[159,372271.23876196891,97.560975609756099,2838.4678115902907,97761.085163115669]
[160,446265.94938600063,97.9381443298969,3762.0827875583482,22842.759563115709]
[161,441284.47791318595,98.05825242718447,4292.9606603736265,27293.35316311572]
[162,361925.59813333116,93.478260869565219,1762.728658670841,109182.46494467344]
[163,408424.26915415563,96.774193548387103,3773.7174194041809,60672.805163115663]
[164,389051.1415851824,95.454545454545453,3119.173788377791,80700.476363115566]
[165,433439.18973829411,98.94736842105263,3531.957416823625,35899.644581557848]
[166,455145.66987090558,98.05825242718447,3783.549502654183,13941.572363115683]
[167,367312.61002989672,95.714285714285722,2604.7373436638995,102953.44436311563]
[168,427345.93859917112,99.038461538461547,4432.8493559472381,41092.003781557811]
[169,388537.5470325239,95.652173913043484,2596.1069594777882,81737.137744673571]
[170,363331.05096507818,95,2877.468408481956,106662.27236311568]
[171,438825.02412230894,97,3785.3520512500149,30260.415563115679]
[172,443546.97112675197,98.019801980198025,3808.8944283652936,25514.926181557767]
[173,423603.0381371621,98.039215686274503,4172.0260363986263,45095.727563115615]
[174,461741.69144731387,98.148148148148152,4605.1839262458498,6523.9163631157135]
[175,433390.52256093547,97.916666666666657,4027.4944126236251,35452.774763115798]
[176,395244.28715613298,97.5,2860.1530174250124,74766.351563115648]
[177,452923.2013572529,99.009900990099013,4075.6169978639041,15871.973381557789]
[178,444505.20806103572,98.130841121495322,4039.2929125236265,24326.290763115609]
[179,340939.50684866682,96.470588235294116,3462.9143433347353,128468.37054467355]
[180,441758.09911915474,99.009900990099013,4114.2352359625156,26998.457381557822]
[181,426145.7352648247,98.98989898989899,4149.5214902930711,42575.534981557867]
[182,436471.58250395022,97.826086956521735,3913.4968696083474,32485.712363115683]
[183,416889.75538464263,95.604395604395606,3619.6268258027899,52361.409526231437]
[184,468177.55604265817,100,4693.2356940180716,0]
[185,468177.55604265817,100,4693.2356940180716,0]
[186,400734.32789461315,98.68421052631578,2857.3672605041788,69279.09658155778]
[187,455420.84686327912,98.039215686274503,3803.2682918389055,13646.676581557782]
[188,449656.26041812822,99.029126213592235,4375.4955369889049,18839.035781557901]
[189,393871.50984369591,97.979797979797979,4232.9303298639043,74766.351563115648]
[190,464983.16612210125,99.065420560747668,4625.6674330166834,3261.9581815578567]
[191,445127.79742150009,97.826086956521735,3416.703552059736,24326.290763115609]
[192,468177.55604265817,100,4693.2356940180716,0]
[193,449874.31417553872,98.095238095238088,4157.4417795777936,18839.035781557901]
[194,452998.14531542361,98.05825242718447,4447.5428581375145,15425.103563115739]
[195,456100.76912564412,99.038461538461547,4606.8772294722366,12163.145381557883]
[196,468177.55604265817,100,4693.2356940180716,0]
[197,446546.42641352303,98.05825242718447,4223.3713600375149,22100.993963115758]
[198,423872.01232999191,96.385542168674704,3608.1560620111231,45390.62334467352]
[199,438825.18799036369,97.959183673469383,3785.1881831958481,30260.415563115679]
[200,406867.7829644233,97.333333333333343,2363.1412091375123,63639.867563115775]
[201,428740.1400972791,97.560975609756099,2743.7520762819572,41386.899563115709]
[202,413145.9993025884,98.019801980198025,4244.3464709708478,55480.445963115541]
[203,431545.16906260699,98.969072164948457,3942.446892511126,37383.175781557904]
[204,424481.5468688067,96.590909090909093,2998.6215231958458,45390.62334467336]
[205,443500.16994447261,98.850574712643677,3113.9300106444584,26256.691781557871]
[206,437564.95596023835,97,4008.7588317639038,31297.076944673528]
[207,366008.60267752223,97.029702970297024,3908.744696037515,102953.44436311563]
[208,420771.87697675079,97.916666666666657,4036.1247968097364,48062.789963115727]
[209,468177.55604265817,100,4693.2356940180716,0]
[210,432057.74997076951,97.777777777777771,3876.7358027902915,36936.305963115694]
[211,434040.08343439549,97.9381443298969,3672.8293207222364,35157.8789815579]
[212,412341.11079610698,94.936708860759495,2823.9381774541785,57705.742763115704]
[213,447233.77572628111,99.056603773584911,4572.683428836126,21064.332581557908]
[214,370134.42025269195,97.826086956521735,3491.7551208680698,99244.616363115565]
[215,411726.67067419179,97.297297297297305,2696.6126993666771,58447.508363115652]
[216,442990.70579879731,97.894736842105274,4070.2639747611242,25809.821963115664]
[217,437506.38671422936,98.91304347826086,3915.354040888903,31449.050981557833]
[218,447396.1689679604,98.076923076923066,4410.2901871569593,21064.332581557908]
[219,462711.93164424784,99.082568807339456,4671.6051108680713,5487.2549815578632]
[220,373391.31061782874,97.802197802197796,3201.9271557319576,96277.553963115613]
[221,398900.73200148717,96.470588235294116,2912.5361720736246,71057.523563115581]
[222,405373.98433442414,96.15384615384616,2820.2784575777891,64676.528944673468]
[223,445824.70733881369,97,4203.3248347444587,22842.759563115709]
[224,392254.60214086063,96,4071.4110511402923,76544.778544673449]
[225,468177.55604265817,100,4693.2356940180716,0]
[226,409964.49870089628,96.703296703296701,3717.0190726625146,59189.273963115607]
[227,412978.70047781244,95.876288659793815,3669.8796957472373,56222.211563115648]
[228,394739.36551708914,97.260273972602747,2623.3090564694567,75508.117163115603]
[229,417257.56035704724,96.938775510204081,3841.6134165139047,51771.617963115634]
[230,393502.21633081697,97.872340425531917,3860.4582427430691,75508.117163115603]
[231,448860.4183602538,98.076923076923066,4429.5719948639044,19580.801381557852]
[232,407850.43623877689,96,2569.1233532250099,62451.232144673617]
[233,419725.87348137423,96.666666666666671,3598.5970921847343,49546.321163115783]
[234,459862.90886593424,99.038461538461547,4553.5654891833492,8454.3173815578193]
[235,434089.79171222262,96.938775510204081,4069.9908613375146,34711.00916311569]
[236,468177.55604265817,100,4693.2356940180716,0]
[237,382583.21183917671,95.384615384615387,2616.3173528250086,87671.262544673489]
[238,429538.11407458596,96.511627906976756,3134.4135174152902,40198.264144673551]
[239,468177.55604265817,100,4693.2356940180716,0]
[240,456662.23733663559,98.05825242718447,4492.2788369250156,11716.275563115676]
[241,418714.21556143276,97.826086956521735,3421.6195936847371,50734.956581557788]
[242,457358.71909627132,99.065420560747668,4090.6928588472379,11421.379781557776]
[243,426524.48896068893,97.872340425531917,3770.7677944291822,42575.534981557867]
[244,449323.45485864393,98.969072164948457,3966.5354964736266,19580.801381557852]
[245,459862.90886593424,99.038461538461547,4553.5654891833492,8454.3173815578193]
[246,465085.2012971621,99.074074074074076,4523.6322579555717,3261.9581815578567]
[247,452248.13169002905,98.113207547169807,4455.7908835305707,16166.869163115689]
[248,419279.72585109249,97.894736842105274,3302.9791224680694,50288.086763115738]
[249,433439.18973829411,98.94736842105263,3531.957416823625,35899.644581557848]
[250,447474.56461379491,97.979797979797979,4036.9987597652926,21359.228363115653]
[251,435009.69234563038,97.701149425287355,3150.0902279305701,34711.00916311569]
[252,434154.31319613755,96.703296703296701,3710.5735958652922,35005.904944673588]
[253,464976.88451335765,99.074074074074076,4631.949041759739,3261.9581815578567]
[254,434802.30047026835,97.435897435897431,2615.7165032930675,35452.774763115638]
[255,388657.54097760096,97.183098591549296,2771.0087959583443,81442.241963115666]
[256,460931.37437798642,98.165137614678898,4673.7353955722383,7265.6819631156641]
[257,456115.19997293875,98.05825242718447,3850.6807821777943,12904.910981557832]
[258,458290.45193520561,99.074074074074076,4642.4912199111268,9937.848581557877]
[259,465791.51677477732,99.065420560747668,4559.0823803402945,2520.1925815579066]
[260,405777.51417736709,96.739130434782609,3453.4099961930701,63639.867563115615]
[261,435045.13200948574,97.916666666666657,3856.4161640736247,33969.243563115742]
[262,433439.18973829411,98.94736842105263,3531.957416823625,35899.644581557848]
[263,428102.57366267219,96.907216494845358,4123.0841108875147,40645.133963115601]
[264,451911.81818546541,99.019607843137265,4345.2345696527937,16613.738981557894]
[265,464726.8885786403,98.130841121495322,4587.0491949180714,3556.8539631157573]
[266,447619.35725773685,98.969072164948457,4187.1018973819591,21064.332581557908]
[267,399955.02605168149,98.924731182795696,3636.6691034361256,69279.09658155778]
[268,427878.46724578552,97.5,3605.4249277750114,41386.899563115709]
[269,419921.67325431854,99.019607843137265,4439.4587007986265,48509.659781557777]
[270,397826.38096747175,95.180722891566262,2950.2258245319558,72094.184944673441]
[271,394251.00664477423,94.366197183098592,2075.0065472277879,76544.778544673449]
[272,453516.72099091858,99.029126213592235,4223.8629642000169,15130.20778155784]
[273,436050.53875685483,99.082568807339456,4629.4363982625164,32190.816581557785]
[274,468177.55604265817,100,4693.2356940180716,0]
[275,434703.12728718296,99.038461538461547,4493.3166679347378,33674.347781557837]
[276,414712.5674418956,97.802197802197796,3419.5439316652919,54738.680363115593]
[277,447233.77572628111,99.056603773584911,4572.683428836126,21064.332581557908]
[278,420131.47898633592,99.009900990099013,4229.6529687805714,48509.659781557777]
[279,359191.38341450505,94.73684210526315,2718.516395940288,110960.8919262314]
[280,421999.55388678238,94.565217391304344,3845.1092683361239,47026.128581557881]
[281,432710.91757614911,98,3965.3337974097367,36194.540363115593]
[282,378805.87653400749,96.629213483146074,3426.5902579944582,90638.324944673601]
[283,453423.64393615164,99.029126213592235,4316.9400189666821,15130.20778155784]
[284,452987.43926921673,98.076923076923066,4458.2489043430705,15425.103563115739]
[285,428872.20729040913,96.590909090909093,3353.4504831514018,40645.133963115761]
[286,468177.55604265817,100,4693.2356940180716,0]
[287,462739.62534540333,99.056603773584911,4643.9114097139036,5487.2549815578632]
[288,443405.61971194856,97.959183673469383,3655.3500616111251,25809.821963115664]
[289,468177.55604265817,100,4693.2356940180716,0]
[290,426533.0326512903,97.5,2725.5627222694566,43612.19636311572]
[291,432951.2132247705,97.674418604651152,2983.272548788902,36936.305963115694]
[292,433892.9299217537,98,3819.9828333639039,35157.8789815579]
[293,462728.91929919645,99.065420560747668,4654.6174559194596,5487.2549815578632]
[294,461313.4479643628,99.047619047619051,4586.5575907555703,6970.7861815577635]
[295,460315.2939408049,99.047619047619051,4101.1804143139043,8454.3173815578193]
[296,415961.76732443646,97.872340425531917,3653.8752491236251,53255.14916311569]
[297,412224.75401911885,97.959183673469383,3682.0605544402924,56963.977163115756]
[298,440535.82822018117,97.9381443298969,3852.9749349361259,28481.988581557878]
[299,433327.10398924351,98.780487804878049,3644.0431658736229,35899.644581557848]
[300,408960.28319406509,95.50561797752809,3684.5731979375132,60225.935344673613]
[301,449996.88748005591,98.076923076923066,4034.8684750611269,18839.035781557901]
[302,421558.75927960128,98.94736842105263,3544.138275516681,47767.894181557829]
[303,431668.94570091739,97,4265.5400726430698,36936.305963115694]
[304,399014.33836190961,96.808510638297875,3987.5652300916809,69868.88814467359]
[305,430510.36485232972,97.9381443298969,3940.5897212305704,38419.837163115757]
[306,412860.88980539516,97.674418604651152,3045.924768165291,56963.977163115596]
[307,441758.09911915474,99.009900990099013,4114.2352359625156,26998.457381557822]
[308,399408.11329607293,96.875,3593.79029592918,69868.88814467359]
[309,406072.1489387583,96.739130434782609,3158.7752348014033,63639.867563115775]
[310,395556.88232227229,96.629213483146074,3289.3234512875129,74024.585963115693]
[311,425718.0059378203,98.780487804878049,3093.7196172972349,44059.06618155777]
[312,417192.36178854294,97.222222222222214,2423.2807850166787,53255.14916311569]
[313,362946.6390617881,94.20289855072464,2225.2189302138991,107698.93374467354]
[314,468177.55604265817,100,4693.2356940180716,0]
[315,355711.03001143783,96.25,2784.9375805625123,114374.82414467356]
[316,416022.39850447699,96,3593.244069081959,53255.14916311569]
[317,436690.49813105911,99,3989.4770240569596,32190.816581557785]
[318,468177.55604265817,100,4693.2356940180716,0]
[319,468177.55604265817,100,4693.2356940180716,0]
[320,396804.77289510891,96.875,3971.8338968916801,72094.184944673587]
[321,443247.25809041224,98.076923076923066,4555.4772831486252,25068.056363115717]
[322,448174.81860813498,97.222222222222214,4525.3801838666823,20170.592944673495]
[323,454870.03171053901,99.065420560747668,4354.0834445777946,13646.676581557782]
[324,445711.64883996733,96.938775510204081,3574.6177335916814,23584.525163115813]
[325,454370.79083070718,99.047619047619051,4111.5587244111275,14388.442181557888]
[326,406899.93480866775,96.84210526315789,3814.5205648916808,62156.336363115719]
[327,425124.54256157205,97.777777777777771,3392.2872119889021,44353.961963115667]
[328,449323.45485864393,98.969072164948457,3966.5354964736266,19580.801381557852]
[329,392993.00041673519,97.101449275362313,2144.3773568250108,77733.41396311576]
[330,362478.34996186569,95.555555555555557,3882.1434485777909,106510.29832623138]
[331,402342.78444403224,95.78947368421052,3626.1815479694578,66901.825744673624]
[332,432680.66706734151,96.739130434782609,3253.8187062180691,36936.305963115694]
[333,449927.89902925119,98,4103.8569258652924,18839.035781557901]
[334,405643.31669953279,97.183098591549296,2845.841874027788,64381.633163115723]
[335,416885.41600603238,97.9381443298969,4213.7577675264038,51771.617963115794]
[336,435037.32096557133,97.872340425531917,3864.2272079889026,33969.243563115742]
[337,432435.44328383729,99.029126213592235,4535.7038712791818,35899.644581557848]
[338,420131.47898633592,99.009900990099013,4229.6529687805714,48509.659781557777]
[339,426319.33988486044,97.029702970297024,4127.8909071430708,42423.560944673562]
[340,415362.73243434541,95.918367346938766,3958.0143576569576,53550.044944673435]
[341,411943.22870206088,97.916666666666657,3963.5858714986252,56963.977163115756]
[342,366364.04294553772,97.61904761904762,2811.5388280222355,103695.20996311573]
[343,449323.45485864393,98.969072164948457,3966.5354964736266,19580.801381557852]
[344,447619.35725773685,98.969072164948457,4187.1018973819591,21064.332581557908]
[345,468177.55604265817,100,4693.2356940180716,0]
[346,436050.53875685483,99.082568807339456,4629.4363982625164,32190.816581557785]
[347,418356.10924039409,98.94736842105263,3779.7259147236259,50734.956581557788]
[348,433327.10398924351,98.780487804878049,3644.0431658736229,35899.644581557848]
[349,440028.27423374169,99.056603773584911,4360.5289213750157,28481.988581557878]
[350,420518.94187558629,96.666666666666671,3252.3985164152905,49099.45134467358]
[351,398977.89293794334,97.979797979797979,4318.9064356166818,69573.992363115685]
[352,442082.34101039544,97.058823529411768,4236.8631631639046,26551.587563115772]
[353,427238.9873824846,99.056603773584911,4539.8005726333495,41092.003781557811]
[354,414119.81252581626,97.752808988764045,3270.5332477430688,55480.445963115701]
[355,462803.69775458239,99.056603773584911,4579.8390005347374,5487.2549815578632]
[356,446600.00963250548,99,3722.9183226125151,22547.863781557808]
[357,454870.03171053901,99.065420560747668,4354.0834445777946,13646.676581557782]
[358,444477.45973719656,96.969696969696969,4067.0412363625132,24326.290763115765]
[359,468177.55604265817,100,4693.2356940180716,0]
[360,390047.95259340666,95.121951219512198,2569.2325985944558,80253.606544673676]
[361,440493.76875294372,98.979591836734699,3895.0344021722372,28481.988581557878]
[362,453859.85023781471,99.074074074074076,4622.4993173027933,14388.442181557888]
[363,439964.09257919341,99.047619047619051,4424.7105759236274,28481.988581557878]
[364,429681.31220214255,97.916666666666657,4027.8767714166797,39161.602763115705]
[365,454752.98739043809,98,4176.2319831222376,13941.572363115683]
[366,435156.98880926892,98.019801980198025,4486.324964290292,33227.477963115787]
[367,438359.69347116165,98.113207547169807,4250.6827023986261,30260.415563115679]
[368,436949.2032591626,97.752808988764045,3435.8761143972351,32485.712363115683]
[369,449656.26041812822,99.029126213592235,4375.4955369889049,18839.035781557901]
[370,430685.00566864386,95.744680851063833,3471.053123358347,38714.732944673495]
[371,384778.006629318,96.739130434782609,3683.4807442430692,84409.304363115632]
[372,381753.27476750873,96.551724137931032,3446.2544244944579,87671.262544673489]
[373,365888.19430275261,93.902439024390233,2697.5959076916793,104285.00152623122]
[374,459862.90886593424,99.038461538461547,4553.5654891833492,8454.3173815578193]
[375,370872.43061543442,94.318181818181827,3647.4843950111235,98350.876726231465]
[376,449740.81633407809,99.047619047619051,4290.939621038905,18839.035781557901]
[377,449323.45485864393,98.969072164948457,3966.5354964736266,19580.801381557852]
[378,418240.4304874111,97.53086419753086,3600.5088861500117,51029.852363115686]
[379,468177.55604265817,100,4693.2356940180716,0]
[380,325035.9052979257,96.629213483146074,3047.672694076402,144787.21374467353]
[381,434703.12728718296,99.038461538461547,4493.3166679347378,33674.347781557837]
[382,455454.64784659445,98.130841121495322,4511.232908523627,12904.910981557832]
[383,468177.55604265817,100,4693.2356940180716,0]
[384,468177.55604265817,100,4693.2356940180716,0]
[385,431545.16906260699,98.969072164948457,3942.446892511126,37383.175781557904]
[386,426565.32675121911,96.15384615384616,2398.3728407833464,43907.092144673457]
[387,376179.00421445817,95.180722891566262,3086.4001775444581,93605.387344673392]
[388,422681.69406685047,97.260273972602747,2868.0733067097322,47321.024363115626]
[389,462182.59366513416,99.056603773584911,4459.1774899833499,6229.0205815578138]
[390,350184.41205183789,97.058823529411768,4155.8577217208485,118530.52196311567]
[391,347552.11047413014,94.285714285714278,2042.6699178722324,123276.01134467359]
[392,414909.59310041741,95.652173913043484,3669.3880915847367,54291.810544673695]
[393,457289.79736140929,98.05825242718447,3864.7188121514059,11716.275563115676]
[394,457628.59932295606,99.074074074074076,4562.5782321625165,10679.614181557827]
[395,440028.27423374169,99.056603773584911,4360.5289213750157,28481.988581557878]
[396,435212.86618101038,96.938775510204081,3983.5777741069592,33674.347781557837]
[397,420131.47898633592,99.009900990099013,4229.6529687805714,48509.659781557777]
[398,389150.56696463376,96,2724.8526273680668,80995.372144673456]
[399,468177.55604265817,100,4693.2356940180716,0]
[400,468177.55604265817,100,4693.2356940180716,0]
[401,416755.3698522374,97.752808988764045,3602.0383213222353,52513.383563115589]
[402,443500.16994447261,98.850574712643677,3113.9300106444584,26256.691781557871]
[403,353052.85889354348,94.520547945205479,2476.0462984583437,117341.88654467351]
[404,424389.32122521102,97.029702970297024,4127.5085483500152,44353.961963115667]
[405,377983.56339109689,94.117647058823522,2023.6066009041767,92863.621744673452]
[406,396007.62871660106,97.368421052631575,2838.5770569597339,74024.585963115693]
[407,468177.55604265817,100,4693.2356940180716,0]
[408,389311.17138570361,93.055555555555557,2716.2222431819546,80843.398107789151]
[409,432738.61127730459,97.872340425531917,3937.640096255569,36194.540363115746]
[410,464976.88451335765,99.074074074074076,4631.949041759739,3261.9581815578567]
[411,425903.02506423183,97.468354430379748,2613.8047093277896,44353.96196311582]
[412,450882.69309967011,99.019607843137265,3890.8284554486272,18097.270181557797]
[413,419686.09770836867,98.095238095238088,4380.1384651902936,48804.555563115682]
[414,408161.31554990262,97,4036.6710236569593,60672.805163115663]
[415,370097.64872734621,98.05825242718447,4270.2922462139031,98502.85076311577]
[416,431219.52070955001,97.979797979797979,3973.1994640097373,37678.071563115802]
[417,436384.24083107896,97.959183673469383,4000.8385424791804,32485.712363115683]
[418,405362.65488690138,96.938775510204081,3868.2692866583484,63639.867563115615]
[419,410244.37487888522,98,4178.9084946736257,58447.508363115652]
[420,452358.63338122144,96.15384615384616,4345.2891923375164,16166.869163115689]
[421,433439.18973829411,98.94736842105263,3531.957416823625,35899.644581557848]
[422,401601.08392524533,92.5,2884.3508667569549,68385.356944673535]
[423,445913.75277343951,97.849462365591393,3372.5138001194573,23584.525163115657]
[424,468177.55604265817,100,4693.2356940180716,0]
[425,468177.55604265817,100,4693.2356940180716,0]
[426,468177.55604265817,100,4693.2356940180716,0]
[427,425762.63594069704,96.907216494845358,3942.8292513041811,43165.326544673509]
[428,421612.11518404633,98.969072164948457,4232.5479710708478,47026.128581557881]
[429,468177.55604265817,100,4693.2356940180716,0]
[430,390125.05727244914,97.727272727272734,3528.7893011097353,79216.94516311567]
[431,364271.537161557,94.382022471910105,3572.4874488875125,105026.76712623132]
[432,455389.59222908877,99.074074074074076,4576.2885260277935,12904.910981557832]
[433,468177.55604265817,100,4693.2356940180716,0]
[434,429453.27295195498,97.674418604651152,3514.1504216041799,39903.368363115813]
[435,468177.55604265817,100,4693.2356940180716,0]
[436,456038.39001969248,99.082568807339456,4669.2563354250151,12163.145381557883]
[437,395474.5659363959,97.560975609756099,3371.6398371639016,74024.585963115693]
[438,371654.70206098258,98.05825242718447,4196.770112577793,97019.319563115714]
[439,418042.0955191832,97.849462365591393,3798.8438543764019,51029.852363115686]
[440,412358.21978968196,94.594594594594597,2511.9334023208448,58000.638544673602]
[441,398055.73116209172,95.652173913043484,3462.6412299111244,71352.419344673486]
[442,460358.50211914815,98.148148148148152,4504.8420544111268,8007.4475631157702]
[443,379090.05581083149,97.9381443298969,4179.072362727793,89601.663563115595]
[444,370880.88340357691,95.348837209302332,3487.0575699819578,98502.85076311577]
[445,468177.55604265817,100,4693.2356940180716,0]
[446,428049.69726913236,97.979797979797979,3729.090685986127,41092.003781557811]
[447,427537.58962222002,95.294117647058812,2909.641169783346,42423.560944673402]
[448,441758.09911915474,99.009900990099013,4114.2352359625156,26998.457381557822]
[449,438422.06048385613,98.130841121495322,4483.2114712611274,29965.519781557778]
[450,451703.88008325547,99,3811.4070718625153,17355.504581557845]
[451,440529.87434754521,99,3858.9288075708487,28481.988581557878]
[452,468177.55604265817,100,4693.2356940180716,0]
[453,407098.65213568695,96.703296703296701,3615.803237872236,62156.336363115719]
[454,370440.49534170516,93.75,2595.8884687389,99834.407926231361]
[455,427910.47777376138,96.875,4020.2842182402919,40940.029744673506]
[456,453588.82293475233,99.009900990099013,4151.7610203666836,15130.20778155784]
[457,415562.92293912172,95.604395604395606,3310.9540344375132,53996.914763115798]
[458,392564.0396498125,95.652173913043484,3761.9735421889036,76544.778544673449]
[459,431330.55653433315,98.958333333333343,4157.0594207847371,37383.175781557904]
[460,468177.55604265817,100,4693.2356940180716,0]
[461,386544.14514154196,98.113207547169807,4142.6390320180708,82184.007563115782]
[462,348142.34228818119,94.805194805194802,2935.9693038194559,121792.48014467352]
[463,455359.78033648804,97.058823529411768,4311.2046370708485,13199.806763115734]
[464,462803.69775458239,99.056603773584911,4579.8390005347374,5487.2549815578632]
[465,434218.9759963192,97.142857142857139,4387.6763956819595,34264.139344673487]
[466,442962.12604143098,99.047619047619051,4393.7395136861269,25514.926181557767]
[467,390992.84786463156,97.260273972602747,2660.9987089277888,79216.94516311567]
[468,408717.69175795466,98,4222.0604156041818,59931.039563115708]
[469,467921.27849919721,99.082568807339456,4654.6174559194596,294.89578155790036]
[470,427238.9873824846,99.056603773584911,4539.8005726333495,41092.003781557811]
[471,377061.81604493782,95.384615384615387,2203.5883470638978,93605.387344673552]
[472,447619.35725773685,98.969072164948457,4187.1018973819591,21064.332581557908]
[473,393712.02206283435,97.849462365591393,3650.6525107250136,75508.117163115603]
[474,453423.64393615164,99.029126213592235,4316.9400189666821,15130.20778155784]
[475,453335.9866204299,98.095238095238088,4109.7015531305715,15425.103563115739]
[476,456568.23006149754,99.074074074074076,4139.4162936194625,12163.145381557883]
[477,425101.11106455512,95.918367346938766,3862.5885274472357,43907.092144673457]
[478,448611.52533775941,97.979797979797979,3641.8036358000149,20617.462763115702]
[479,424152.59696814977,96.739130434782609,3622.4672054083476,45095.727563115775]
[480,427768.82742428966,98,4009.9605308277928,41092.003781557811]
[481,435252.30375938118,97.872340425531917,3944.1401957375137,33674.347781557837]
[482,434864.94223111495,96.739130434782609,3294.8403424444582,34711.00916311569]
[483,437223.50792331062,97.9381443298969,3903.3370502500156,31743.946763115735]
[484,450953.86809259094,98.019801980198025,4266.523280968071,17650.400363115747]
[485,425303.25752745382,97.979797979797979,3955.3378461055713,43612.19636311572]
[486,468177.55604265817,100,4693.2356940180716,0]
[487,408535.7661469318,96.470588235294116,3367.3246450708457,60967.700944673721]
[488,448549.73662281036,98.076923076923066,4445.3579507486265,19875.697163115754]
[489,420010.10738088377,99.047619047619051,4351.0245742333491,48509.659781557777]
[490,468177.55604265817,100,4693.2356940180716,0]
[491,453588.82293475233,99.009900990099013,4151.7610203666836,15130.20778155784]
[492,417185.08651294746,96.739130434782609,3172.3216606125134,52513.383563115589]
[493,468177.55604265817,100,4693.2356940180716,0]
[494,405799.52711931057,97.894736842105274,3431.3970542500156,63639.867563115775]
[495,453655.46424484253,98.165137614678898,4531.9895287180707,14683.337963115633]
[496,399480.11645306461,96.296296296296291,2780.0215389375126,70610.653744673531]
[497,402712.07795691118,96.84210526315789,3998.6536350902916,66160.060144673524]
[498,399927.84650647454,95.833333333333343,2627.1872670847329,70315.75796311564]
[499,363212.10530953854,94.827586206896555,1959.7526824638974,107698.93374467354]
[500,439546.26205138117,97.727272727272734,3064.1141221777907,30260.415563115679]
[501,407019.88785904832,96.875,4141.4373329541804,61709.466544673509]
[502,456100.76912564412,99.038461538461547,4606.8772294722366,12163.145381557883]
[503,447341.61299918033,98.039215686274503,4169.9503743791829,21359.228363115653]
[504,399761.42164465412,96.875,2051.8465289055653,71057.523563115741]
[505,429625.38739678636,98.76543209876543,2895.1661583319569,40350.238181557863]
[506,439772.65216249973,98.039215686274503,4321.255211059738,28776.884363115776]
[507,429625.38739678636,98.76543209876543,2895.1661583319569,40350.238181557863]
[508,411960.21635700949,97.872340425531917,3946.5982165500131,56963.977163115756]
[509,405679.42229413427,97.260273972602747,2809.7362794263995,64381.633163115723]
[510,455180.34318244644,98.113207547169807,4043.7719726708492,13646.676581557782]
[511,391213.81035231985,94.936708860759495,2592.0102581236215,79064.97112623151]
[512,468177.55604265817,100,4693.2356940180716,0]
[513,424652.87567899562,97.826086956521735,3863.9540945652916,44353.961963115667]
[514,426145.7352648247,98.98989898989899,4149.5214902930711,42575.534981557867]
[515,432435.44328383729,99.029126213592235,4535.7038712791818,35899.644581557848]
[516,447619.35725773685,98.969072164948457,4187.1018973819591,21064.332581557908]
[517,436293.95999176241,97.872340425531917,3349.3537817972378,33227.477963115634]
[518,468177.55604265817,100,4693.2356940180716,0]
[519,443641.4700060524,96.907216494845358,4161.2653675083484,25068.056363115717]
[520,458436.07601267472,99.056603773584911,4496.8671424416825,9937.848581557877]
[521,431930.21646047197,97.752808988764045,3262.5037130889027,37678.071563115649]
[522,448838.78777710348,99.038461538461547,4451.2025780139047,19580.801381557852]
[523,468177.55604265817,100,4693.2356940180716,0]
[524,466240.78999134712,98.148148148148152,4556.6789822125147,2073.322763115701]
[525,435046.3762379773,97.916666666666657,4150.0677171402922,33674.347781557837]
[526,391261.55846315064,98,4170.7150919652931,77438.518181557869]
[527,450256.56535795517,97.115384615384613,4222.0604156041818,18392.165963115694]
[528,411859.01261547767,96.739130434782609,3752.906176525014,57258.872944673654]
[529,438825.18799036369,97.959183673469383,3785.1881831958481,30260.415563115679]
[530,377889.85247648507,97.826086956521735,3895.7444970736251,91085.194763115651]
[531,429625.38739678636,98.76543209876543,2895.1661583319569,40350.238181557863]
[532,411726.67067419179,97.297297297297305,2696.6126993666771,58447.508363115652]
[533,449855.68947478011,98.148148148148152,4622.9362987805707,18392.165963115694]
[534,380739.32269480638,97.701149425287355,3271.5710787527914,88859.8979631158]
[535,449740.81633407809,99.047619047619051,4290.939621038905,18839.035781557901]
[536,409300.58088515513,96.341463414634148,2897.4056884055676,60672.805163115663]
[537,433327.10398924351,98.780487804878049,3644.0431658736229,35899.644581557848]
[538,435043.6467384696,98.130841121495322,4599.6670350889035,33227.477963115634]
[539,391261.55846315064,98,4170.7150919652931,77438.518181557869]
[540,455200.88294663094,98.113207547169807,4470.1020269277933,13199.806763115734]
[541,404222.82171243243,96.25,3229.6754795708448,65418.294544673416]
[542,398348.2886267323,97.297297297297305,2723.2139468264013,71799.289163115696]
[543,468177.55604265817,100,4693.2356940180716,0]
[544,440411.95769921876,96.969696969696969,4128.8194927833483,28330.014544673417]
[545,452318.64957600459,97.196261682242991,4385.2729975541833,16166.869163115689]
[546,468177.55604265817,100,4693.2356940180716,0]
[547,467142.75183238089,99.082568807339456,4691.3785227375156,1036.6613815578505]
[548,460315.2939408049,99.047619047619051,4101.1804143139043,8454.3173815578193]
[549,403767.03793784976,97.9381443298969,3980.3550357083482,65123.398763115678]
[550,446404.7897920385,98.076923076923066,4365.007981522238,22100.993963115758]
[551,424508.67179132812,97.058823529411768,4008.1579822319595,44353.961963115667]
[552,468177.55604265817,100,4693.2356940180716,0]
[553,418958.76132093556,96.551724137931032,3177.0738341833476,50734.956581557788]
[554,424613.71121404879,97.894736842105274,3903.1185595111247,44353.961963115667]
[555,388649.28249368072,96.808510638297875,3521.0328798791811,80700.476363115566]
[556,406430.7910281159,97.826086956521735,3541.8987454430694,62898.101963115667]
[557,433403.41351453215,97.894736842105274,4014.6034590291811,35452.774763115638]
[558,399292.37665094435,95.833333333333343,2520.8915226152903,71057.523563115581]
[559,434703.12728718296,99.038461538461547,4493.3166679347378,33674.347781557837]
[560,441793.99831627496,97.979797979797979,3783.4402572847357,27293.35316311572]
[561,419201.76882146485,96.969696969696969,4122.701752094461,49546.32116311563]
[562,447756.02484964021,98.113207547169807,4497.3041239194599,20617.462763115702]
[563,371875.59619800001,97.872340425531917,3975.8759755611254,97019.319563115554]
[564,453630.22692977078,98.095238095238088,4110.357025347239,15130.20778155784]
[565,468177.55604265817,100,4693.2356940180716,0]
[566,464976.88451335765,99.074074074074076,4631.949041759739,3261.9581815578567]
[567,449950.18671934865,98.113207547169807,4528.4390542111259,18392.165963115694]
[568,448838.78777710348,99.038461538461547,4451.2025780139047,19580.801381557852]
[569,381716.72173290141,96.907216494845358,4224.5730591014035,86929.496944673534]
[570,426833.27263215184,97.916666666666657,3908.8539414069587,42128.665163115817]
[571,448150.89223749749,97.959183673469383,4102.4367360625156,20617.462763115702]
[572,418755.67581386678,98.039215686274503,3827.0291596930715,50288.086763115578]
[573,468177.55604265817,100,4693.2356940180716,0]
[574,453490.22898882814,98.05825242718447,4250.3549662902933,15130.20778155784]
[575,380561.85359214433,97.590361445783131,3449.0401814152901,88859.8979631158]
[576,439964.09257919341,99.047619047619051,4424.7105759236274,28481.988581557878]
[577,433462.29840339161,97.115384615384613,4402.588388611126,35005.904944673588]
[578,367542.8462807294,94.73684210526315,2821.370911272234,102506.57454467358]
[579,376396.33741843887,96.808510638297875,3610.832573562514,92863.621744673452]
[580,411080.20074197836,97.9381443298969,4084.8482315819592,57705.742763115704]
[581,428766.56701815501,97.872340425531917,3459.0907554041796,40645.133963115761]
[582,444840.63550938666,98.130841121495322,4445.6310641722384,23584.525163115657]
[583,453516.72099091858,99.029126213592235,4223.8629642000169,15130.20778155784]
[584,436128.78099316172,97.916666666666657,3514.5327803972364,33227.477963115634]
[585,419883.63425338082,97.5,2699.0707201791784,50288.086763115738]
[586,446191.37732809782,98.958333333333343,4131.5506270194592,22547.863781557808]
[587,431545.16906260699,98.969072164948457,3942.446892511126,37383.175781557904]
[588,419094.66419525258,96.703296703296701,3488.0407783069586,50288.086763115738]
[589,453175.77665140852,98.979591836734699,3823.0417037083489,15871.973381557789]
[590,468177.55604265817,100,4693.2356940180716,0]
[591,387101.51501644775,97.849462365591393,3585.2691571125142,82184.007563115621]
[592,464942.36297661252,99.082568807339456,4666.4705785041824,3261.9581815578567]
[593,422029.66307932138,97.872340425531917,3520.1042942389035,47321.024363115626]
[594,391831.68124484271,94.505494505494497,3457.6705656014014,77581.439926231455]
[595,458238.02461640164,99.038461538461547,3953.1529387166838,10679.614181557827]
[596,405793.4640013054,97.647058823529406,3437.4601722541788,63639.867563115775]
[597,368718.68789768964,96.666666666666671,3129.0604943125122,101023.04334467353]
[598,468177.55604265817,100,4693.2356940180716,0]
[599,467921.27849919721,99.082568807339456,4654.6174559194596,294.89578155790036]
[600,405470.64393459819,97.894736842105274,3760.2802389625149,63639.867563115615]
[601,437006.44783275016,97.849462365591393,3378.6315408083465,32485.712363115683]
[602,431772.29018568248,97.849462365591393,3715.3257694361259,37383.175781557904]
[603,441758.09911915474,99.009900990099013,4114.2352359625156,26998.457381557822]
[604,468177.55604265817,100,4693.2356940180716,0]
[605,413921.36994695105,96.84210526315789,3915.8456450514032,55033.57614467349]
[606,441683.8806186039,97.058823529411768,4340.4277733972385,26846.483344673517]
[607,399955.02605168149,98.924731182795696,3636.6691034361256,69279.09658155778]
[608,414261.66763803922,96.590909090909093,3128.6781355194566,55480.445963115701]
[609,445727.58657065034,98.05825242718447,3853.5757844680711,23289.629381557916]
[610,395754.39958495833,95.604395604395606,3538.6760070444598,73577.716144673497]
[611,448838.78777710348,99.038461538461547,4451.2025780139047,19580.801381557852]
[612,441722.00561781041,98.076923076923066,3855.4329557486258,27293.353163115564]
[613,410025.74118899927,97.560975609756099,2914.0109845611241,59931.039563115708]
[614,448838.78777710348,99.038461538461547,4451.2025780139047,19580.801381557852]
[615,468177.55604265817,100,4693.2356940180716,0]
[616,468177.55604265817,100,4693.2356940180716,0]
[617,419616.45378534868,98.05825242718447,4449.7823882111261,48804.555563115682]
[618,437506.38671422936,98.91304347826086,3915.354040888903,31449.050981557833]
[619,412740.46933736838,95.890410958904098,2129.683854634734,58000.638544673602]
[620,463647.99013380706,99.065420560747668,4477.3122213111265,4745.4893815579135]
[621,340295.97375285253,94.73684210526315,1881.1506391486198,130693.66734467355]
[622,404323.04388036951,95.876288659793815,3871.2189116333466,64676.528944673468]
[623,449786.75401192904,98.076923076923066,4245.0019431875162,18839.035781557901]
[624,453175.77665140852,98.979591836734699,3823.0417037083489,15871.973381557789]
[625,446600.00963250548,99,3722.9183226125151,22547.863781557808]
[626,433820.6641098652,98.969072164948457,3892.248645251404,35157.8789815579]
[627,468177.55604265817,100,4693.2356940180716,0]
[628,427753.43755518459,96.969696969696969,4177.3244368166816,40940.029744673506]
[629,410238.66041404568,97.435897435897431,2701.0917595139008,59931.039563115708]
[630,322470.42887600325,94.871794871794862,2646.0867159986224,147754.27614467349]
[631,391041.42904372141,99.056603773584911,4390.8445113958487,77438.518181557869]
[632,420269.36919436045,97.5,3055.1013791986229,49546.32116311563]
[633,468177.55604265817,100,4693.2356940180716,0]
[634,407131.38158236444,97.5,2841.3081911958448,62898.101963115667]
[635,419096.67477605864,98.019801980198025,4227.7957975000154,49546.32116311563]
[636,411458.35522303917,96.938775510204081,4153.5635689625142,57258.872944673501]
[637,453580.0286825113,98.019801980198025,4160.55527260696,15130.20778155784]
[638,396524.634062225,93.902439024390233,2768.441529776399,73577.716144673657]
[639,455632.29291056655,98.05825242718447,4038.6920629916822,13199.806763115734]
[640,468177.55604265817,100,4693.2356940180716,0]
[641,459647.27059990913,98.095238095238088,4474.3079736514046,8749.2131631157208]
[642,402945.10715373605,97.142857142857139,2576.98901982501,67348.695563115674]
[643,415448.50050788745,96.511627906976756,3130.4806841152913,54291.810544673543]
[644,465101.64272526279,99.056603773584911,4507.1908298541821,3261.9581815578567]
[645,441604.57893891633,96.875,3677.9638530861257,27588.248944673465]
[646,468177.55604265817,100,4693.2356940180716,0]
[647,431219.52070955001,97.979797979797979,3973.1994640097373,37678.071563115802]
[648,427234.43208727986,97.5,2765.9288862791791,42870.430763115764]
[649,466508.97528007627,99.082568807339456,4583.3894750416821,1778.4269815578004]
[650,394658.67735322751,97.777777777777771,3445.7628203319582,74766.351563115648]
[651,468177.55604265817,100,4693.2356940180716,0]
[652,447619.35725773685,98.969072164948457,4187.1018973819591,21064.332581557908]
[653,421612.11518404633,98.969072164948457,4232.5479710708478,47026.128581557881]
[654,359105.68924597278,94.642857142857139,1615.5751460291747,112149.52734467371]
[655,465085.2012971621,99.074074074074076,4523.6322579555717,3261.9581815578567]
[656,463450.85686464421,99.082568807339456,4674.4454904736258,4745.4893815579135]
[657,468177.55604265817,100,4693.2356940180716,0]
[658,429625.38739678636,98.76543209876543,2895.1661583319569,40350.238181557863]
[659,452547.12417294085,98.113207547169807,4451.6941821764049,15871.973381557789]
[660,428752.10246523283,97.5,2731.7897083277903,41386.899563115709]
[661,468177.55604265817,100,4693.2356940180716,0]
[662,468177.55604265817,100,4693.2356940180716,0]
[663,425435.72799643315,95.348837209302332,3081.1017771264001,44353.961963115667]
[664,458324.60157168657,99.029126213592235,3866.5759834319615,10679.614181557827]
[665,453516.72099091858,99.029126213592235,4223.8629642000169,15130.20778155784]
[666,399613.8206920065,96.590909090909093,2941.2130815527917,70315.757963115801]
[667,437683.47345809825,98.80952380952381,3738.2672970194571,31449.050981557833]
[668,392565.56745025516,96.15384615384616,3313.5759233041776,76991.648363115659]
[669,447814.14338618517,98.113207547169807,4439.1855873750146,20617.462763115702]
[670,449740.81633407809,99.047619047619051,4290.939621038905,18839.035781557901]
[671,468177.55604265817,100,4693.2356940180716,0]
[672,410802.47740047798,96.296296296296291,2584.1445915236236,59484.169744673505]
[673,468177.55604265817,100,4693.2356940180716,0]
[674,435081.23760408722,97.959183673469383,3820.3105694722362,33969.243563115742]
[675,415191.11841747537,96.808510638297875,3387.8627745264021,54291.810544673543]
[676,436276.80846875906,96.84210526315789,3366.505304800015,33227.477963115634]
[677,399597.70863474347,94.444444444444443,3404.1949572583453,69868.88814467359]
[678,451703.88008325547,99,3811.4070718625153,17355.504581557845]
[679,422737.49753358029,97.959183673469383,4295.801039979181,45837.493163115723]
[680,437756.72411303967,98,4111.8864605194594,31002.181163115783]
[681,382980.63603468798,95.522388059701484,2960.6587573138981,86929.496944673534]
[682,431330.55653433315,98.958333333333343,4157.0594207847371,37383.175781557904]
[683,461220.42553227954,99.082568807339456,4679.5800228375165,6970.7861815577635]
[684,402475.51756790653,95.652173913043484,3493.4484240944589,66901.825744673624]
[685,461220.42553227954,99.082568807339456,4679.5800228375165,6970.7861815577635]
[686,459644.8672017809,98.095238095238088,4476.7113717791817,8749.2131631155644]
[687,439964.09257919341,99.047619047619051,4424.7105759236274,28481.988581557878]
[688,405075.06645183824,97.029702970297024,4155.8577217208476,63639.867563115615]
[689,421625.89382858388,97.115384615384613,4370.7433634180707,46874.154544673576]
[690,359087.90549785458,95.876288659793815,3858.6556941472368,109924.2305446734]
[691,402718.80700566061,95.348837209302332,3250.1589863416802,66901.825744673624]
[692,441394.59724558704,98.076923076923066,4182.8413279736269,27293.353163115564]
[693,402154.18277221546,96.385542168674704,3073.0176197875116,67643.591344673579]
[694,440028.27423374169,99.056603773584911,4360.5289213750157,28481.988581557878]
[695,455831.4351258073,98.148148148148152,4134.4456293097401,12904.910981557832]
[696,468177.55604265817,100,4693.2356940180716,0]
[697,468177.55604265817,100,4693.2356940180716,0]
[698,421558.75927960128,98.94736842105263,3544.138275516681,47767.894181557829]
[699,432292.29977896623,97.560975609756099,3642.1859945930673,36936.305963115694]
[700,378054.18006391451,94.029850746268664,2694.755528086122,92121.856144673497]
[701,429625.38739678636,98.76543209876543,2895.1661583319569,40350.238181557863]
[702,442522.87132795155,97.777777777777771,3349.4630271666806,26998.457381557822]
[703,452923.2013572529,99.009900990099013,4075.6169978639041,15871.973381557789]
[704,449895.89013600349,99,4135.8658191125151,18839.035781557901]
[705,453859.85023781471,99.074074074074076,4622.4993173027933,14388.442181557888]
[706,419517.38915231824,97.260273972602747,3065.3158212416783,50288.086763115738]
[707,415141.84875585698,96.511627906976756,3437.1324361458464,54291.810544673543]
[708,441479.6022362709,96.875,3802.9405557305708,27588.248944673465]
[709,404222.82171243243,96.25,3229.6754795708448,65418.294544673416]
[710,395128.16978694312,95.3125,2234.5047866166765,75508.117163115603]
[711,409763.87121464312,97.029702970297024,4364.5163773597369,58742.404144673397]
[712,410184.57349764183,96.666666666666671,3496.9442759166809,59189.273963115607]
[713,440492.28348193131,99.082568807339456,4638.2852731875164,27740.22298155777]
[714,467142.75183238089,99.082568807339456,4691.3785227375156,1036.6613815578505]
[715,376147.68286432698,96.116504854368941,4154.382909233349,92568.725963115707]
[716,373746.56610073335,97.979797979797979,3588.4372728264043,95535.788363115658]
[717,462739.62534540333,99.056603773584911,4643.9114097139036,5487.2549815578632]
[718,437401.91770487092,96.808510638297875,3430.0314871319574,32038.842544673636]
[719,423967.7763548363,95.348837209302332,2770.626437165291,46132.388944673468]
[720,392910.35792947933,95.774647887323937,2673.8896625222333,77286.544144673564]
[721,468177.55604265817,100,4693.2356940180716,0]
[722,397942.83816602826,94.871794871794862,3280.6384444166779,71647.315126231391]
[723,433327.10398924351,98.780487804878049,3644.0431658736229,35899.644581557848]
[724,468177.55604265817,100,4693.2356940180716,0]
[725,440492.28348193131,99.082568807339456,4638.2852731875164,27740.22298155777]
[726,436431.81718947366,97.802197802197796,3953.2621840861243,32485.712363115683]
[727,431330.55653433315,98.958333333333343,4157.0594207847371,37383.175781557904]
[728,421612.11518404633,98.969072164948457,4232.5479710708478,47026.128581557881]
[729,336567.68961856514,94.029850746268664,2642.3723734375094,133660.7297446735]
[730,410294.9008622542,97,4128.38251130557,58447.508363115652]
[731,453588.82293475233,99.009900990099013,4151.7610203666836,15130.20778155784]
[732,352674.15818563476,96,2407.8771879250116,117788.75636311572]
[733,435120.34744634852,97.777777777777771,3781.200727211125,33969.243563115742]
[734,468177.55604265817,100,4693.2356940180716,0]
[735,449760.91748205572,98.019801980198025,4270.838473061126,18839.035781557901]
[736,447942.45043786801,97.777777777777771,3864.008717250013,21064.332581557908]
[737,412864.49490258656,97.560975609756099,3042.3196709736235,56963.977163115596]
[738,454370.79083070718,99.047619047619051,4111.5587244111275,14388.442181557888]
[739,447594.24128128961,98.936170212765958,3470.4522738264027,21806.09818155786]
[740,390066.02224352211,96.428571428571431,3292.9285484791799,79511.84094467356]
[741,438356.95024366677,99.074074074074076,4548.3217114500158,29965.519781557778]
[742,420273.4779889714,96,2756.096803029176,49841.216944673528]
[743,390908.56669683382,96.590909090909093,3192.1496951666795,78770.07534467362]
[744,385020.92580153421,95.402298850574709,3145.6657904680696,84704.200144673523]
[745,468177.55604265817,100,4693.2356940180716,0]
[746,450789.73738352954,97.916666666666657,3688.8883900305709,18392.165963115694]
[747,395268.70349620469,97.368421052631575,2835.7366773541789,74766.351563115648]
[748,465791.51677477732,99.065420560747668,4559.0823803402945,2520.1925815579066]
[749,425284.4231597539,97.826086956521735,3232.4066138069579,44353.961963115667]
[750,389195.38963700645,97.826086956521735,3716.6913365541809,79958.710763115771]
[751,437506.38671422936,98.91304347826086,3915.354040888903,31449.050981557833]
[752,385840.65888968669,94.117647058823522,1584.1671023138965,85445.965744673638]
[753,430222.61254921369,98.039215686274503,4228.3420243472383,38419.837163115757]
[754,381625.63364657015,95,3278.9997638750128,87966.15832623138]
[755,467921.27849919721,99.082568807339456,4654.6174559194596,294.89578155790036]
[756,430439.3553621918,96.84210526315789,4011.5992113694583,38419.837163115757]
[757,400672.05966875888,96.739130434782609,3366.5053048000132,68832.22676311573]
[758,401573.36767230555,98.019801980198025,3948.7285012541815,67348.695563115674]
[759,468177.55604265817,100,4693.2356940180716,0]
[760,424664.67417889461,97.058823529411768,3852.1555946652943,44353.961963115667]
[761,449895.89013600349,99,4135.8658191125151,18839.035781557901]
[762,422733.41129075363,97.979797979797979,3558.1216828055703,46579.258763115671]
[763,453175.77665140852,98.979591836734699,3823.0417037083489,15871.973381557789]
[764,412361.96783787012,96.703296703296701,3991.7165541305694,56517.107344673546]
[765,407139.30350637808,96.551724137931032,3280.2560856236237,62451.232144673464]
[766,455067.76746396348,98.165137614678898,4603.2175095958482,13199.806763115734]
[767,448525.4841507934,98.076923076923066,4469.6104227652932,19875.697163115598]
[768,460315.2939408049,99.047619047619051,4101.1804143139043,8454.3173815578193]
[769,421847.22331234813,97.826086956521735,3702.5440612111252,47321.024363115779]
[770,447611.17758301459,96.19047619047619,4347.2556089875152,20912.358544673603]
[771,446600.00963250548,99,3722.9183226125151,22547.863781557808]
[772,447276.06577751413,98.05825242718447,4235.4975960458487,21359.228363115653]
[773,350183.243363088,94.594594594594597,2378.5994289138989,120308.94894467347]
[774,408013.03587793745,96,2701.4194956222327,62156.336363115719]
[775,468177.55604265817,100,4693.2356940180716,0]
[776,414665.85458792932,98.019801980198025,4208.0223856305711,53996.914763115645]
[777,448052.78989573568,97.959183673469383,4200.539077823626,20617.462763115702]
[778,437546.80913565308,97.115384615384613,4321.80143790696,31002.181163115783]
[779,450909.18510176055,97.029702970297024,3864.3364533583485,18097.270181557797]
[780,375021.23224761337,96.551724137931032,3502.4065443889017,94347.152944673508]
[781,459862.90886593424,99.038461538461547,4553.5654891833492,8454.3173815578193]
[782,413711.58676671609,95.454545454545453,3088.9674437264025,56070.237526231496]
[783,348944.4096973855,94.444444444444443,2428.7976761736222,121497.58436311563]
[784,405765.45302257128,97.468354430379748,2723.705550988901,64381.633163115723]
[785,340751.51648490876,92.537313432835816,2167.3735070930661,129951.90174467345]
[786,436050.53875685483,99.082568807339456,4629.4363982625164,32190.816581557785]
[787,433439.18973829411,98.94736842105263,3531.957416823625,35899.644581557848]
[788,437524.19534417801,98.039215686274503,4344.4152293819589,31002.181163115627]
[789,425335.59415680915,97.849462365591393,3923.0012167500149,43612.19636311572]
[790,449323.45485864393,98.969072164948457,3966.5354964736266,19580.801381557852]
[791,467921.27849919721,99.082568807339456,4654.6174559194596,294.89578155790036]
[792,451703.88008325547,99,3811.4070718625153,17355.504581557845]
[793,437683.47345809825,98.80952380952381,3738.2672970194571,31449.050981557833]
[794,419921.67325431854,99.019607843137265,4439.4587007986265,48509.659781557777]
[795,468177.55604265817,100,4693.2356940180716,0]
[796,445508.83481159434,97.979797979797979,3777.4317619652925,23584.525163115657]
[797,399955.02605168149,98.924731182795696,3636.6691034361256,69279.09658155778]
[798,420292.20147657394,97.647058823529406,3032.269096984734,49546.32116311563]
[799,398702.454925403,95.833333333333343,4004.5528850402916,70163.783926231335]
[800,458334.64168714732,98.130841121495322,4598.3014679708476,9937.848581557877]
[801,416755.3698522374,97.752808988764045,3602.0383213222353,52513.383563115589]
[802,434703.12728718296,99.038461538461547,4493.3166679347378,33674.347781557837]
[803,414473.00280522928,97.142857142857139,2917.3429683291774,55480.445963115701]
[804,468177.55604265817,100,4693.2356940180716,0]
[805,407452.39027667977,96.703296703296701,3708.9349153236249,61709.466544673509]
[806,424557.449848786,95.78947368421052,3959.3799247750139,44353.961963115667]
[807,409711.33301573806,95.238095238095227,3228.4191578222344,59931.039563115555]
[808,467142.75183238089,99.082568807339456,4691.3785227375156,1036.6613815578505]
[809,448838.78777710348,99.038461538461547,4451.2025780139047,19580.801381557852]
[810,411903.75741806254,96.969696969696969,2519.5259554972322,58447.508363115652]
[811,449111.30198591389,98.148148148148152,4625.558187647237,19133.931563115646]
[812,412472.85188785754,96.739130434782609,3880.8325041444587,56517.107344673546]
[813,421558.75927960128,98.94736842105263,3544.138275516681,47767.894181557829]
[814,417114.83128186502,97.9381443298969,3984.3424916930699,51771.617963115794]
[815,441281.63753358088,98.076923076923066,4295.801039979182,27293.353163115564]
[816,438356.95024366677,99.074074074074076,4548.3217114500158,29965.519781557778]
[817,431502.45575788245,98.05825242718447,4432.0300156764042,36936.305963115694]
[818,375167.62104266882,96.511627906976756,3356.0177493333463,94347.152944673508]
[819,458290.45193520561,99.074074074074076,4642.4912199111268,9937.848581557877]
[820,461220.42553227954,99.082568807339456,4679.5800228375165,6970.7861815577635]
[821,395777.46081643924,95.180722891566262,2773.8491755639016,74319.481744673438]
[822,440363.54827256687,98.076923076923066,4025.2548825500162,28481.988581557878]
[823,446452.7485092245,98.039215686274503,4317.0492643361267,22100.993963115758]
[824,454268.11227668636,97.169811320754718,3919.3414968736265,14683.337963115633]
[825,365927.05100923218,98.019801980198025,3990.2963643277926,102953.44436311563]
[826,449740.81633407809,99.047619047619051,4290.939621038905,18839.035781557901]
[827,430967.01049660705,96.739130434782609,3483.9440769527914,38419.837163115597]
[828,468177.55604265817,100,4693.2356940180716,0]
[829,431594.22023348697,97.9381443298969,3893.3957216305712,37383.175781557904]
[830,413107.99237255007,96.808510638297875,3540.5878010097367,56222.211563115648]
[831,447619.35725773685,98.969072164948457,4187.1018973819591,21064.332581557908]
[832,462653.16972874664,97.222222222222214,4435.4712448139044,5782.1507631157638]
[833,451813.11499417201,99.047619047619051,4443.9377609458488,16613.738981557894]
[834,468177.55604265817,100,4693.2356940180716,0]
[835,361560.72023411468,93.670886075949369,2574.4763763277874,108735.59512623139]
[836,430491.79313952476,97.979797979797979,3959.1614340361252,38419.837163115757]
[837,453090.88254082389,99.074074074074076,4649.7014142944599,15130.20778155784]
[838,451911.81818546541,99.019607843137265,4345.2345696527937,16613.738981557894]
[839,453423.64393615164,99.029126213592235,4316.9400189666821,15130.20778155784]
[840,398945.96121916547,96.774193548387103,3314.1767728361237,70610.653744673531]
[841,409691.01337702014,96.341463414634148,3248.7387965389016,59931.039563115708]
[842,401400.37762979046,97.916666666666657,4121.7185437694588,67348.695563115674]
[843,458056.29657905921,98.113207547169807,4581.7507945000143,10232.744363115777]
[844,462739.62534540333,99.056603773584911,4643.9114097139036,5487.2549815578632]
[845,437683.47345809825,98.80952380952381,3738.2672970194571,31449.050981557833]
[846,432465.12595342845,95.78947368421052,3469.3598201319583,36936.305963115694]
[847,417641.0557679534,96.039603960396036,4199.8836056069595,51029.852363115686]
[848,468177.55604265817,100,4693.2356940180716,0]
[849,415101.38217027485,95.890410958904098,2288.9636032847334,55480.445963115701]
[850,396065.24682518281,95.876288659793815,3969.5943668180707,72835.950544673542]
[851,435434.52667034231,98.05825242718447,4208.7871032166822,33227.477963115787]
[852,415429.30539376289,97.087378640776706,4186.3371797958498,53255.149163115537]
[853,400734.32789461315,98.68421052631578,2857.3672605041788,69279.09658155778]
[854,445935.09978463873,97.916666666666657,4092.9323889208463,22842.759563115709]
[855,441919.78226593323,97.826086956521735,3952.5520891847359,26998.457381557822]
[856,380762.91969460621,96.551724137931032,3247.9740789527914,88859.8979631158]
[857,412040.24904865585,96.511627906976756,3124.7999249041791,57705.742763115704]
[858,433820.6641098652,98.969072164948457,3892.248645251404,35157.8789815579]
[859,335423.1363414228,96.470588235294116,3045.1600505791794,134402.49534467346]
[860,419921.67325431854,99.019607843137265,4439.4587007986265,48509.659781557777]
[861,444567.09719755501,97.087378640776706,4424.2735944458482,23879.420944673559]
[862,467219.6059497837,99.074074074074076,4614.524405333349,1036.6613815578505]
[863,431801.63629536331,96.875,3837.953696637514,37231.201744673439]
[864,434320.84403386712,97.777777777777771,3392.0687212500138,35157.8789815579]
[865,449656.26041812822,99.029126213592235,4375.4955369889049,18839.035781557901]
[866,414110.41742404364,97.826086956521735,3279.9283495152913,55480.445963115701]
[867,421734.72149887495,97.222222222222214,2331.5146746833443,48804.555563115682]
[868,458324.60157168657,99.029126213592235,3866.5759834319615,10679.614181557827]
[869,432935.15579019114,96.907216494845358,3446.199801809737,36489.436144673491]
[870,440300.56831708178,98.05825242718447,4088.2348380347385,28481.988581557878]
[871,438356.95024366677,99.074074074074076,4548.3217114500158,29965.519781557778]
[872,468177.55604265817,100,4693.2356940180716,0]
[873,399410.19778189063,97.014925373134332,2403.0703916694551,71057.523563115581]
[874,382144.92987549305,95.652173913043484,2312.8337165083435,88413.02814467359]
[875,406643.76651057787,97.029702970297024,3775.7930814236265,62451.232144673464]
[876,431133.10762231983,96.84210526315789,4059.6125512402919,37678.071563115649]
[877,468177.55604265817,100,4693.2356940180716,0]
[878,410423.59190745838,97.959183673469383,3999.6914661000142,58447.508363115812]
[879,420131.47898633592,99.009900990099013,4229.6529687805714,48509.659781557777]
[880,431347.63345700875,95.180722891566262,2808.4253349930673,38714.732944673495]
[881,422119.39769179188,98.019801980198025,4172.1352817680699,46579.258763115671]
[882,418356.10924039409,98.94736842105263,3779.7259147236259,50734.956581557788]
[883,419608.70782264508,96.739130434782609,3715.7627509139015,49546.321163115783]
[884,395006.73310027644,94.318181818181827,3097.7070732819579,74766.351563115648]
[885,466886.4742889218,98.165137614678898,4652.7602846389036,1331.5571631157509]
[886,433878.79637439735,97,3986.0904176041818,35005.904944673588]
[887,443312.80531207845,98.05825242718447,4489.9300614819595,25068.056363115717]
[888,397697.0769794751,97.752808988764045,3374.4255940847352,71799.289163115696]
[889,434558.46480566822,96.385542168674704,2859.5521678930681,35452.774763115638]
[890,468177.55604265817,100,4693.2356940180716,0]
[891,440028.27423374169,99.056603773584911,4360.5289213750157,28481.988581557878]
[892,457360.46702218242,98.130841121495322,4088.9449329361264,11421.379781557776]
[893,451914.98630117811,98.095238095238088,4342.0664539389045,16613.738981557894]
[894,450468.39376403764,97.087378640776706,4457.1018279639038,17945.296144673492]
[895,468177.55604265817,100,4693.2356940180716,0]
[896,444118.37020783313,98.095238095238088,4426.1307657264051,24326.290763115765]
[897,423386.74276418798,96.938775510204081,3646.5558093708487,45837.493163115723]
[898,422925.08392617293,97,3813.3188658277923,46132.388944673621]
[899,468177.55604265817,100,4693.2356940180716,0]
[900,393973.22774117626,96.703296703296701,3389.4468323833466,75508.117163115763]
[901,418853.89785952494,97.435897435897431,2987.0415140347341,51029.852363115533]
[902,459150.70623162575,98.130841121495322,4229.1067419333494,9490.978763115827]
[903,462711.93164424784,99.082568807339456,4671.6051108680713,5487.2549815578632]
[904,434703.12728718296,99.038461538461547,4493.3166679347378,33674.347781557837]
[905,468177.55604265817,100,4693.2356940180716,0]
[906,382670.48679610714,97.560975609756099,2823.9381774541785,87376.366763115744]
[907,442297.18412266485,97.087378640776706,3727.124269336126,26846.48334467367]
[908,420131.47898633592,99.009900990099013,4229.6529687805714,48509.659781557777]
[909,406498.80999858119,95.555555555555557,3625.8538118611245,62746.127926231362]
[910,441869.74788672663,98.936170212765958,4002.5864683902919,26998.457381557822]
[911,405169.68503503501,96.551724137931032,3766.343356966679,63934.76334467352]
[912,468177.55604265817,100,4693.2356940180716,0]
[913,402522.94051677361,94.594594594594597,2704.2598752277872,67643.591344673579]
[914,430458.03795509599,97.115384615384613,4439.7864369069584,37972.967344673394]
[915,464983.16612210125,99.065420560747668,4625.6674330166834,3261.9581815578567]
[916,441758.09911915474,99.009900990099013,4114.2352359625156,26998.457381557822]
[917,437506.38671422936,98.91304347826086,3915.354040888903,31449.050981557833]
[918,448838.78777710348,99.038461538461547,4451.2025780139047,19580.801381557852]
[919,409822.59942451678,97.53086419753086,3117.1527490430681,59931.039563115708]
[920,373867.01957907341,96.296296296296291,2726.2181944861231,96277.553963115613]
[921,351659.52183927782,92.982456140350877,2090.9563711666742,119120.31352623132]
[922,447531.9200674817,97.029702970297024,4426.5131245194589,20912.358544673447]
[923,458554.17025704496,98.076923076923066,4378.7728980722377,9937.848581557877]
[924,455509.78795672394,96.19047619047619,4313.1710537208492,13047.832726231427]
[925,445565.2054222282,98,3721.0611513319595,23584.525163115657]
[926,424983.01682018489,97,3980.6827718166815,43907.092144673457]
[927,426078.62490235642,96.202531645569621,2733.1006527611235,44059.06618155777]
[928,434276.34027380683,96.84210526315789,3588.5465181958466,35005.904944673588]
[929,449895.89013600349,99,4135.8658191125151,18839.035781557901]
[930,468177.55604265817,100,4693.2356940180716,0]
[931,442024.8216886539,97.9381443298969,3847.5126664639038,26998.457381557822]
[932,424146.63263698854,98.095238095238088,4370.1971365708496,44353.961963115667]
[933,420654.16509117372,97.916666666666657,4153.8366823861261,48062.789963115727]
[934,453588.82293475233,99.009900990099013,4151.7610203666836,15130.20778155784]
[935,370748.15191443078,96,4066.658877569459,98055.98094467356]
[936,425478.31277346052,98.05825242718447,4522.0482000986258,42870.430763115612]
[937,433457.8160737846,97.872340425531917,3513.3310813333464,35899.644581557848]
[938,419647.47947026975,98.039215686274503,4418.7567032889037,48804.555563115682]
[939,374314.87097111158,97.058823529411768,2278.3668024486215,96277.553963115613]
[940,464983.16612210125,99.065420560747668,4625.6674330166834,3261.9581815578567]
[941,414405.60004701279,96.703296703296701,3431.6155449889011,55033.57614467349]
[942,432656.35997264087,97.727272727272734,3278.1258009194571,36936.305963115694]
[943,447233.77572628111,99.056603773584911,4572.683428836126,21064.332581557908]
[944,468177.55604265817,100,4693.2356940180716,0]
[945,366358.93096495792,95,1779.9894270430641,104731.87134467358]
[946,412059.41115246527,97.959183673469383,3847.4034210944578,56963.977163115596]
[947,399955.02605168149,98.924731182795696,3636.6691034361256,69279.09658155778]
[948,401840.04607764818,97.260273972602747,2940.2844959125109,68090.461163115629]
[949,387684.93991196528,97.435897435897431,3001.8442615944568,82184.007563115621]
[950,448790.82905991748,99.056603773584911,4499.161295200016,19580.801381557852]
[951,435121.75717762299,98.148148148148152,4521.5565959361265,33227.477963115634]
[952,468177.55604265817,100,4693.2356940180716,0]
[953,404610.96005154029,95.652173913043484,3583.3027404625127,64676.528944673468]
[954,371206.34791093878,93.84615384615384,2124.9316810638979,99539.512144673616]
[955,419921.67325431854,99.019607843137265,4439.4587007986265,48509.659781557777]
[956,370483.23025880009,97.872340425531917,3884.7107147597358,98502.85076311577]
[957,467921.27849919721,99.082568807339456,4654.6174559194596,294.89578155790036]
[958,409527.44098806381,95.945945945945937,2375.6498039388989,60967.700944673561]
[959,463450.85686464421,99.082568807339456,4674.4454904736258,4745.4893815579135]
[960,416243.88303249888,97.894736842105274,4113.5251410611254,52513.383563115742]
[961,400734.32789461315,98.68421052631578,2857.3672605041788,69279.09658155778]
[962,418465.93711645901,94.186046511627907,2785.2106939861233,51619.643926231329]
[963,468177.55604265817,100,4693.2356940180716,0]
[964,391041.42904372141,99.056603773584911,4390.8445113958487,77438.518181557869]
[965,462803.69775458239,99.056603773584911,4579.8390005347374,5487.2549815578632]
[966,379207.72516698018,96.703296703296701,3766.5072250208464,89896.559344673646]
[967,468177.55604265817,100,4693.2356940180716,0]
[968,443063.17800816707,99.038461538461547,4292.6875469500155,25514.926181557767]
[969,436226.42380166054,98.113207547169807,4453.55135345696,32190.816581557785]
[970,392840.59266783297,96.470588235294116,3038.550705727791,76991.648363115659]
[971,468177.55604265817,100,4693.2356940180716,0]
[972,423938.05115582049,96.551724137931032,3542.1172361819581,45390.62334467352]
[973,441927.38691236638,97.979797979797979,3650.0516611930702,27293.35316311572]
[974,379897.29239744321,95.522388059701484,2335.1743945597327,90638.324944673441]
[975,357509.57023423165,95.833333333333343,2469.928557769455,112891.29294467351]
[976,421612.11518404633,98.969072164948457,4232.5479710708478,47026.128581557881]
[977,458554.17025704496,98.076923076923066,4378.7728980722377,9937.848581557877]
[978,468177.55604265817,100,4693.2356940180716,0]
[979,390563.088674495,96.05263157894737,2795.8621175069566,79511.8409446734]
[980,400088.63477324136,96.15384615384616,3949.9302003180715,68832.226763115585]
[981,453793.16803302616,98.148148148148152,4394.2857405333498,14683.33796311579]
[982,407294.40937920287,97.916666666666657,4161.8115943555704,61414.570763115771]
[983,364929.22635651194,96.808510638297875,3951.459635490291,103990.10574467348]
[984,410198.29588476568,94.680851063829792,3188.3261072361247,59484.169744673505]
[985,434114.5904110875,97.802197802197796,4045.1921624736242,34711.00916311569]
[986,452858.97717327625,98.05825242718447,3844.9454002819612,16166.869163115689]
[987,371550.24187542126,95.890410958904098,2522.8033165805664,98797.746544673515]
[988,448459.9369291272,98.095238095238088,4535.1576444319589,19875.697163115598]
[989,462472.64175573923,98.130841121495322,4615.9992178208477,5782.1507631157638]
[990,435438.14222606272,97.849462365591393,3463.4059474972364,33969.243563115742]
[991,411104.09177225642,97.333333333333343,2577.4260013027892,59189.27396311576]
[992,466508.97528007627,99.082568807339456,4583.3894750416821,1778.4269815578004]
[993,453090.88254082389,99.074074074074076,4649.7014142944599,15130.20778155784]
[994,427495.47553229891,96.470588235294116,2951.7552597041786,42423.560944673562]
[995,384926.3722995501,97.590361445783131,2793.3494740097349,85151.069963115733]
[996,430432.59097308293,98.76543209876543,2829.7281820347348,39608.472581557908]
[997,467142.75183238089,99.082568807339456,4691.3785227375156,1036.6613815578505]
[998,468177.55604265817,100,4693.2356940180716,0]
[999,443133.85976219736,98.095238095238088,4222.00579291946,25514.926181557767]
[1000,464197.9754877463,99.082568807339456,4669.0924673708487,4003.7237815578069]