{"text_format":"1","workbook":"xlsx","n_sheets":23,"sheets":["Přehled","Souhrn","1","2","3","4","6","5","7","8","9","10","11","12","13","14","15","16","17","18","19","20","Datum"],"not_rendered":{"charts":0,"images":0,"macros":1,"external_links":0,"defined_names":1,"comments":0,"pivot_tables":0},"unopened":[],"bounds":{"document_bytes":16777216,"sheet_cells":100000,"rows_first":2000,"rows_last":500,"rows_between":2000,"halvings":0,"cell_chars":16384,"cell_head_chars":4096},"cells_cut":0,"cells_raw":0,"read":"whole","date_system":"1900"}

{"sheet":"Přehled","index":0,"n_rows":24,"n_cols":39,"rows_kept":24,"cut":false,"hidden":true,"merged":[[0,24,0,26],[0,8,0,11],[0,12,0,13]]}
[null,null,"Přehled deníků mistra za měsíc",null,null,null,{"$f":"Datum!C5","v":9},"-",{"$f":"Datum!C11","v":2017},null,null,null,null,null,null,null,null,null,null,null,"Aktuální měsíc",null,null,null,{"$f":"DATE(I1,G1,1)","v":"2017-09-01"},null,null,null,null,null,null,null,null,null,null,null,null,null,"x"]
["x",null,null,null,null,null,null,null,null,null,null,null,null,null,null,null,null,null,null,null,"Počet dní v měsíci",null,null,null,{"$f":"IFERROR(DATE(YEAR(Y1),MONTH(Y1)+1,1)-DATE(YEAR(Y1),MONTH(Y1),1),\"\")","v":30},null,null,null,null,null,null,null,null,null,null,null,null,null,"x"]
["x","x",null,null,null,null,null,null,null,null,null,null,null,null,null,null,null,null,null,null,null,null,null,null,null,null,null,null,null,null,null,null,null,null,null,null,null,null,"x"]
["cesta","jméno",null,"Číslo stavby","Název","SO",1,2,3,4,5,6,7,8,9,10,11,12,13,14,15,16,17,18,19,20,21,22,23,24,25,26,27,28,{"$f":"IF(AH4<$Y$2,AH4+1,\"\")","v":29},{"$f":"IF(AI4<$Y$2,AI4+1,\"\")","v":30},{"$f":"IF(AJ4<$Y$2,AJ4+1,\"\")","v":""},null,"x"]
[null,{"$f":"AO5&\"\\\"&AP5&\"\\\"&AQ5&\"\\\"&AR5&\"\\\"&AS5&\"\\\"&AT5&\"\\\"&AU5","v":"\\\\\\\\\\\\"},1,{"$f":"'1'!$AK$1","v":0},{"$f":"'1'!$AK$2","v":0},{"$f":"'1'!$AK$3","v":0},{"$f":"'1'!$F$2","v":0},{"$f":"'1'!$G$2","v":0},{"$f":"'1'!$H$2","v":0},{"$f":"'1'!$I$2","v":0},{"$f":"'1'!$J$2","v":0},{"$f":"'1'!$K$2","v":0},{"$f":"'1'!$L$2","v":0},{"$f":"'1'!$M$2","v":0},{"$f":"'1'!$N$2","v":0},{"$f":"'1'!$O$2","v":0},{"$f":"'1'!$P$2","v":0},{"$f":"'1'!$Q$2","v":0},{"$f":"'1'!$R$2","v":0},{"$f":"'1'!$S$2","v":0},{"$f":"'1'!$T$2","v":0},{"$f":"'1'!$U$2","v":0},{"$f":"'1'!$V$2","v":0},{"$f":"'1'!$W$2","v":0},{"$f":"'1'!$X$2","v":0},{"$f":"'1'!$Y$2","v":0},{"$f":"'1'!$Z$2","v":0},{"$f":"'1'!$AA$2","v":0},{"$f":"'1'!$AB$2","v":0},{"$f":"'1'!$AC$2","v":0},{"$f":"'1'!$AD$2","v":0},{"$f":"'1'!$AE$2","v":0},{"$f":"'1'!$AF$2","v":0},{"$f":"'1'!$AG$2","v":0},{"$f":"'1'!$AH$2","v":0},{"$f":"'1'!$AI$2","v":0},{"$f":"'1'!$AJ$2","v":0},{"$f":"IF(D5<=0,\"\",D5&\" \"&E5&\" \"&F5)","v":""}]
[null,"\\\\\\\\\\\\",2,{"$f":"'2'!$AK$1","v":0},{"$f":"'2'!$AK$2","v":0},{"$f":"'2'!$AK$3","v":0},{"$f":"'2'!$F$2","v":0},{"$f":"'2'!$G$2","v":0},{"$f":"'2'!$H$2","v":0},{"$f":"'2'!$I$2","v":0},{"$f":"'2'!$J$2","v":0},{"$f":"'2'!$K$2","v":0},{"$f":"'2'!$L$2","v":0},{"$f":"'2'!$M$2","v":0},{"$f":"'2'!$N$2","v":0},{"$f":"'2'!$O$2","v":0},{"$f":"'2'!$P$2","v":0},{"$f":"'2'!$Q$2","v":0},{"$f":"'2'!$R$2","v":0},{"$f":"'2'!$S$2","v":0},{"$f":"'2'!$T$2","v":0},{"$f":"'2'!$U$2","v":0},{"$f":"'2'!$V$2","v":0},{"$f":"'2'!$W$2","v":0},{"$f":"'2'!$X$2","v":0},{"$f":"'2'!$Y$2","v":0},{"$f":"'2'!$Z$2","v":0},{"$f":"'2'!$AA$2","v":0},{"$f":"'2'!$AB$2","v":0},{"$f":"'2'!$AC$2","v":0},{"$f":"'2'!$AD$2","v":0},{"$f":"'2'!$AE$2","v":0},{"$f":"'2'!$AF$2","v":0},{"$f":"'2'!$AG$2","v":0},{"$f":"'2'!$AH$2","v":0},{"$f":"'2'!$AI$2","v":0},{"$f":"'2'!$AJ$2","v":0},""]
[null,"\\\\\\\\\\\\",3,{"$f":"'3'!$AK$1","v":0},{"$f":"'3'!$AK$2","v":0},{"$f":"'3'!$AK$3","v":0},{"$f":"'3'!$F$2","v":0},{"$f":"'3'!$G$2","v":0},{"$f":"'3'!$H$2","v":0},{"$f":"'3'!$I$2","v":0},{"$f":"'3'!$J$2","v":0},{"$f":"'3'!$K$2","v":0},{"$f":"'3'!$L$2","v":0},{"$f":"'3'!$M$2","v":0},{"$f":"'3'!$N$2","v":0},{"$f":"'3'!$O$2","v":0},{"$f":"'3'!$P$2","v":0},{"$f":"'3'!$Q$2","v":0},{"$f":"'3'!$R$2","v":0},{"$f":"'3'!$S$2","v":0},{"$f":"'3'!$T$2","v":0},{"$f":"'3'!$U$2","v":0},{"$f":"'3'!$V$2","v":0},{"$f":"'3'!$W$2","v":0},{"$f":"'3'!$X$2","v":0},{"$f":"'3'!$Y$2","v":0},{"$f":"'3'!$Z$2","v":0},{"$f":"'3'!$AA$2","v":0},{"$f":"'3'!$AB$2","v":0},{"$f":"'3'!$AC$2","v":0},{"$f":"'3'!$AD$2","v":0},{"$f":"'3'!$AE$2","v":0},{"$f":"'3'!$AF$2","v":0},{"$f":"'3'!$AG$2","v":0},{"$f":"'3'!$AH$2","v":0},{"$f":"'3'!$AI$2","v":0},{"$f":"'3'!$AJ$2","v":0},""]
[null,"\\\\\\\\\\\\",4,{"$f":"'4'!$AK$1","v":0},{"$f":"'4'!$AK$2","v":0},{"$f":"'4'!$AK$3","v":0},{"$f":"'4'!$F$2","v":0},{"$f":"'4'!$G$2","v":0},{"$f":"'4'!$H$2","v":0},{"$f":"'4'!$I$2","v":0},{"$f":"'4'!$J$2","v":0},{"$f":"'4'!$K$2","v":0},{"$f":"'4'!$L$2","v":0},{"$f":"'4'!$M$2","v":0},{"$f":"'4'!$N$2","v":0},{"$f":"'4'!$O$2","v":0},{"$f":"'4'!$P$2","v":0},{"$f":"'4'!$Q$2","v":0},{"$f":"'4'!$R$2","v":0},{"$f":"'4'!$S$2","v":0},{"$f":"'4'!$T$2","v":0},{"$f":"'4'!$U$2","v":0},{"$f":"'4'!$V$2","v":0},{"$f":"'4'!$W$2","v":0},{"$f":"'4'!$X$2","v":0},{"$f":"'4'!$Y$2","v":0},{"$f":"'4'!$Z$2","v":0},{"$f":"'4'!$AA$2","v":0},{"$f":"'4'!$AB$2","v":0},{"$f":"'4'!$AC$2","v":0},{"$f":"'4'!$AD$2","v":0},{"$f":"'4'!$AE$2","v":0},{"$f":"'4'!$AF$2","v":0},{"$f":"'4'!$AG$2","v":0},{"$f":"'4'!$AH$2","v":0},{"$f":"'4'!$AI$2","v":0},{"$f":"'4'!$AJ$2","v":0},""]
[null,"\\\\\\\\\\\\",5,{"$f":"'5'!$AK$1","v":0},{"$f":"'5'!$AK$2","v":0},{"$f":"'5'!$AK$3","v":0},{"$f":"'5'!$F$2","v":0},{"$f":"'5'!$G$2","v":0},{"$f":"'5'!$H$2","v":0},{"$f":"'5'!$I$2","v":0},{"$f":"'5'!$J$2","v":0},{"$f":"'5'!$K$2","v":0},{"$f":"'5'!$L$2","v":0},{"$f":"'5'!$M$2","v":0},{"$f":"'5'!$N$2","v":0},{"$f":"'5'!$O$2","v":0},{"$f":"'5'!$P$2","v":0},{"$f":"'5'!$Q$2","v":0},{"$f":"'5'!$R$2","v":0},{"$f":"'5'!$S$2","v":0},{"$f":"'5'!$T$2","v":0},{"$f":"'5'!$U$2","v":0},{"$f":"'5'!$V$2","v":0},{"$f":"'5'!$W$2","v":0},{"$f":"'5'!$X$2","v":0},{"$f":"'5'!$Y$2","v":0},{"$f":"'5'!$Z$2","v":0},{"$f":"'5'!$AA$2","v":0},{"$f":"'5'!$AB$2","v":0},{"$f":"'5'!$AC$2","v":0},{"$f":"'5'!$AD$2","v":0},{"$f":"'5'!$AE$2","v":0},{"$f":"'5'!$AF$2","v":0},{"$f":"'5'!$AG$2","v":0},{"$f":"'5'!$AH$2","v":0},{"$f":"'5'!$AI$2","v":0},{"$f":"'5'!$AJ$2","v":0},""]
[null,"\\\\\\\\\\\\",6,{"$f":"'6'!$AK$1","v":0},{"$f":"'6'!$AK$2","v":0},{"$f":"'6'!$AK$3","v":0},{"$f":"'6'!$F$2","v":0},{"$f":"'6'!$G$2","v":0},{"$f":"'6'!$H$2","v":0},{"$f":"'6'!$I$2","v":0},{"$f":"'6'!$J$2","v":0},{"$f":"'6'!$K$2","v":0},{"$f":"'6'!$L$2","v":0},{"$f":"'6'!$M$2","v":0},{"$f":"'6'!$N$2","v":0},{"$f":"'6'!$O$2","v":0},{"$f":"'6'!$P$2","v":0},{"$f":"'6'!$Q$2","v":0},{"$f":"'6'!$R$2","v":0},{"$f":"'6'!$S$2","v":0},{"$f":"'6'!$T$2","v":0},{"$f":"'6'!$U$2","v":0},{"$f":"'6'!$V$2","v":0},{"$f":"'6'!$W$2","v":0},{"$f":"'6'!$X$2","v":0},{"$f":"'6'!$Y$2","v":0},{"$f":"'6'!$Z$2","v":0},{"$f":"'6'!$AA$2","v":0},{"$f":"'6'!$AB$2","v":0},{"$f":"'6'!$AC$2","v":0},{"$f":"'6'!$AD$2","v":0},{"$f":"'6'!$AE$2","v":0},{"$f":"'6'!$AF$2","v":0},{"$f":"'6'!$AG$2","v":0},{"$f":"'6'!$AH$2","v":0},{"$f":"'6'!$AI$2","v":0},{"$f":"'6'!$AJ$2","v":0},""]
[null,"\\\\\\\\\\\\",7,{"$f":"'7'!$AK$1","v":0},{"$f":"'7'!$AK$2","v":0},{"$f":"'7'!$AK$3","v":0},{"$f":"'7'!$F$2","v":0},{"$f":"'7'!$G$2","v":0},{"$f":"'7'!$H$2","v":0},{"$f":"'7'!$I$2","v":0},{"$f":"'7'!$J$2","v":0},{"$f":"'7'!$K$2","v":0},{"$f":"'7'!$L$2","v":0},{"$f":"'7'!$M$2","v":0},{"$f":"'7'!$N$2","v":0},{"$f":"'7'!$O$2","v":0},{"$f":"'7'!$P$2","v":0},{"$f":"'7'!$Q$2","v":0},{"$f":"'7'!$R$2","v":0},{"$f":"'7'!$S$2","v":0},{"$f":"'7'!$T$2","v":0},{"$f":"'7'!$U$2","v":0},{"$f":"'7'!$V$2","v":0},{"$f":"'7'!$W$2","v":0},{"$f":"'7'!$X$2","v":0},{"$f":"'7'!$Y$2","v":0},{"$f":"'7'!$Z$2","v":0},{"$f":"'7'!$AA$2","v":0},{"$f":"'7'!$AB$2","v":0},{"$f":"'7'!$AC$2","v":0},{"$f":"'7'!$AD$2","v":0},{"$f":"'7'!$AE$2","v":0},{"$f":"'7'!$AF$2","v":0},{"$f":"'7'!$AG$2","v":0},{"$f":"'7'!$AH$2","v":0},{"$f":"'7'!$AI$2","v":0},{"$f":"'7'!$AJ$2","v":0},""]
[null,"\\\\\\\\\\\\",8,{"$f":"'8'!$AK$1","v":0},{"$f":"'8'!$AK$2","v":0},{"$f":"'8'!$AK$3","v":0},{"$f":"'8'!$F$2","v":0},{"$f":"'8'!$G$2","v":0},{"$f":"'8'!$H$2","v":0},{"$f":"'8'!$I$2","v":0},{"$f":"'8'!$J$2","v":0},{"$f":"'8'!$K$2","v":0},{"$f":"'8'!$L$2","v":0},{"$f":"'8'!$M$2","v":0},{"$f":"'8'!$N$2","v":0},{"$f":"'8'!$O$2","v":0},{"$f":"'8'!$P$2","v":0},{"$f":"'8'!$Q$2","v":0},{"$f":"'8'!$R$2","v":0},{"$f":"'8'!$S$2","v":0},{"$f":"'8'!$T$2","v":0},{"$f":"'8'!$U$2","v":0},{"$f":"'8'!$V$2","v":0},{"$f":"'8'!$W$2","v":0},{"$f":"'8'!$X$2","v":0},{"$f":"'8'!$Y$2","v":0},{"$f":"'8'!$Z$2","v":0},{"$f":"'8'!$AA$2","v":0},{"$f":"'8'!$AB$2","v":0},{"$f":"'8'!$AC$2","v":0},{"$f":"'8'!$AD$2","v":0},{"$f":"'8'!$AE$2","v":0},{"$f":"'8'!$AF$2","v":0},{"$f":"'8'!$AG$2","v":0},{"$f":"'8'!$AH$2","v":0},{"$f":"'8'!$AI$2","v":0},{"$f":"'8'!$AJ$2","v":0},""]
[null,"\\\\\\\\\\\\",9,{"$f":"'9'!$AK$1","v":0},{"$f":"'9'!$AK$2","v":0},{"$f":"'9'!$AK$3","v":0},{"$f":"'9'!$F$2","v":0},{"$f":"'9'!$G$2","v":0},{"$f":"'9'!$H$2","v":0},{"$f":"'9'!$I$2","v":0},{"$f":"'9'!$J$2","v":0},{"$f":"'9'!$K$2","v":0},{"$f":"'9'!$L$2","v":0},{"$f":"'9'!$M$2","v":0},{"$f":"'9'!$N$2","v":0},{"$f":"'9'!$O$2","v":0},{"$f":"'9'!$P$2","v":0},{"$f":"'9'!$Q$2","v":0},{"$f":"'9'!$R$2","v":0},{"$f":"'9'!$S$2","v":0},{"$f":"'9'!$T$2","v":0},{"$f":"'9'!$U$2","v":0},{"$f":"'9'!$V$2","v":0},{"$f":"'9'!$W$2","v":0},{"$f":"'9'!$X$2","v":0},{"$f":"'9'!$Y$2","v":0},{"$f":"'9'!$Z$2","v":0},{"$f":"'9'!$AA$2","v":0},{"$f":"'9'!$AB$2","v":0},{"$f":"'9'!$AC$2","v":0},{"$f":"'9'!$AD$2","v":0},{"$f":"'9'!$AE$2","v":0},{"$f":"'9'!$AF$2","v":0},{"$f":"'9'!$AG$2","v":0},{"$f":"'9'!$AH$2","v":0},{"$f":"'9'!$AI$2","v":0},{"$f":"'9'!$AJ$2","v":0},""]
[null,"\\\\\\\\\\\\",10,{"$f":"'10'!$AK$1","v":0},{"$f":"'10'!$AK$2","v":0},{"$f":"'10'!$AK$3","v":0},{"$f":"'10'!$F$2","v":0},{"$f":"'10'!$G$2","v":0},{"$f":"'10'!$H$2","v":0},{"$f":"'10'!$I$2","v":0},{"$f":"'10'!$J$2","v":0},{"$f":"'10'!$K$2","v":0},{"$f":"'10'!$L$2","v":0},{"$f":"'10'!$M$2","v":0},{"$f":"'10'!$N$2","v":0},{"$f":"'10'!$O$2","v":0},{"$f":"'10'!$P$2","v":0},{"$f":"'10'!$Q$2","v":0},{"$f":"'10'!$R$2","v":0},{"$f":"'10'!$S$2","v":0},{"$f":"'10'!$T$2","v":0},{"$f":"'10'!$U$2","v":0},{"$f":"'10'!$V$2","v":0},{"$f":"'10'!$W$2","v":0},{"$f":"'10'!$X$2","v":0},{"$f":"'10'!$Y$2","v":0},{"$f":"'10'!$Z$2","v":0},{"$f":"'10'!$AA$2","v":0},{"$f":"'10'!$AB$2","v":0},{"$f":"'10'!$AC$2","v":0},{"$f":"'10'!$AD$2","v":0},{"$f":"'10'!$AE$2","v":0},{"$f":"'10'!$AF$2","v":0},{"$f":"'10'!$AG$2","v":0},{"$f":"'10'!$AH$2","v":0},{"$f":"'10'!$AI$2","v":0},{"$f":"'10'!$AJ$2","v":0},""]
[null,"\\\\\\\\\\\\",11,{"$f":"'11'!$AK$1","v":0},{"$f":"'11'!$AK$2","v":0},{"$f":"'11'!$AK$3","v":0},{"$f":"'11'!$F$2","v":0},{"$f":"'11'!$G$2","v":0},{"$f":"'11'!$H$2","v":0},{"$f":"'11'!$I$2","v":0},{"$f":"'11'!$J$2","v":0},{"$f":"'11'!$K$2","v":0},{"$f":"'11'!$L$2","v":0},{"$f":"'11'!$M$2","v":0},{"$f":"'11'!$N$2","v":0},{"$f":"'11'!$O$2","v":0},{"$f":"'11'!$P$2","v":0},{"$f":"'11'!$Q$2","v":0},{"$f":"'11'!$R$2","v":0},{"$f":"'11'!$S$2","v":0},{"$f":"'11'!$T$2","v":0},{"$f":"'11'!$U$2","v":0},{"$f":"'11'!$V$2","v":0},{"$f":"'11'!$W$2","v":0},{"$f":"'11'!$X$2","v":0},{"$f":"'11'!$Y$2","v":0},{"$f":"'11'!$Z$2","v":0},{"$f":"'11'!$AA$2","v":0},{"$f":"'11'!$AB$2","v":0},{"$f":"'11'!$AC$2","v":0},{"$f":"'11'!$AD$2","v":0},{"$f":"'11'!$AE$2","v":0},{"$f":"'11'!$AF$2","v":0},{"$f":"'11'!$AG$2","v":0},{"$f":"'11'!$AH$2","v":0},{"$f":"'11'!$AI$2","v":0},{"$f":"'11'!$AJ$2","v":0},""]
[null,"\\\\\\\\\\\\",12,{"$f":"'12'!$AK$1","v":0},{"$f":"'12'!$AK$2","v":0},{"$f":"'12'!$AK$3","v":0},{"$f":"'12'!$F$2","v":0},{"$f":"'12'!$G$2","v":0},{"$f":"'12'!$H$2","v":0},{"$f":"'12'!$I$2","v":0},{"$f":"'12'!$J$2","v":0},{"$f":"'12'!$K$2","v":0},{"$f":"'12'!$L$2","v":0},{"$f":"'12'!$M$2","v":0},{"$f":"'12'!$N$2","v":0},{"$f":"'12'!$O$2","v":0},{"$f":"'12'!$P$2","v":0},{"$f":"'12'!$Q$2","v":0},{"$f":"'12'!$R$2","v":0},{"$f":"'12'!$S$2","v":0},{"$f":"'12'!$T$2","v":0},{"$f":"'12'!$U$2","v":0},{"$f":"'12'!$V$2","v":0},{"$f":"'12'!$W$2","v":0},{"$f":"'12'!$X$2","v":0},{"$f":"'12'!$Y$2","v":0},{"$f":"'12'!$Z$2","v":0},{"$f":"'12'!$AA$2","v":0},{"$f":"'12'!$AB$2","v":0},{"$f":"'12'!$AC$2","v":0},{"$f":"'12'!$AD$2","v":0},{"$f":"'12'!$AE$2","v":0},{"$f":"'12'!$AF$2","v":0},{"$f":"'12'!$AG$2","v":0},{"$f":"'12'!$AH$2","v":0},{"$f":"'12'!$AI$2","v":0},{"$f":"'12'!$AJ$2","v":0},""]
[null,"\\\\\\\\\\\\",13,{"$f":"'13'!$AK$1","v":0},{"$f":"'13'!$AK$2","v":0},{"$f":"'13'!$AK$3","v":0},{"$f":"'13'!$F$2","v":0},{"$f":"'13'!$G$2","v":0},{"$f":"'13'!$H$2","v":0},{"$f":"'13'!$I$2","v":0},{"$f":"'13'!$J$2","v":0},{"$f":"'13'!$K$2","v":0},{"$f":"'13'!$L$2","v":0},{"$f":"'13'!$M$2","v":0},{"$f":"'13'!$N$2","v":0},{"$f":"'13'!$O$2","v":0},{"$f":"'13'!$P$2","v":0},{"$f":"'13'!$Q$2","v":0},{"$f":"'13'!$R$2","v":0},{"$f":"'13'!$S$2","v":0},{"$f":"'13'!$T$2","v":0},{"$f":"'13'!$U$2","v":0},{"$f":"'13'!$V$2","v":0},{"$f":"'13'!$W$2","v":0},{"$f":"'13'!$X$2","v":0},{"$f":"'13'!$Y$2","v":0},{"$f":"'13'!$Z$2","v":0},{"$f":"'13'!$AA$2","v":0},{"$f":"'13'!$AB$2","v":0},{"$f":"'13'!$AC$2","v":0},{"$f":"'13'!$AD$2","v":0},{"$f":"'13'!$AE$2","v":0},{"$f":"'13'!$AF$2","v":0},{"$f":"'13'!$AG$2","v":0},{"$f":"'13'!$AH$2","v":0},{"$f":"'13'!$AI$2","v":0},{"$f":"'13'!$AJ$2","v":0},""]
[null,"\\\\\\\\\\\\",14,{"$f":"'14'!$AK$1","v":0},{"$f":"'14'!$AK$2","v":0},{"$f":"'14'!$AK$3","v":0},{"$f":"'14'!$F$2","v":0},{"$f":"'14'!$G$2","v":0},{"$f":"'14'!$H$2","v":0},{"$f":"'14'!$I$2","v":0},{"$f":"'14'!$J$2","v":0},{"$f":"'14'!$K$2","v":0},{"$f":"'14'!$L$2","v":0},{"$f":"'14'!$M$2","v":0},{"$f":"'14'!$N$2","v":0},{"$f":"'14'!$O$2","v":0},{"$f":"'14'!$P$2","v":0},{"$f":"'14'!$Q$2","v":0},{"$f":"'14'!$R$2","v":0},{"$f":"'14'!$S$2","v":0},{"$f":"'14'!$T$2","v":0},{"$f":"'14'!$U$2","v":0},{"$f":"'14'!$V$2","v":0},{"$f":"'14'!$W$2","v":0},{"$f":"'14'!$X$2","v":0},{"$f":"'14'!$Y$2","v":0},{"$f":"'14'!$Z$2","v":0},{"$f":"'14'!$AA$2","v":0},{"$f":"'14'!$AB$2","v":0},{"$f":"'14'!$AC$2","v":0},{"$f":"'14'!$AD$2","v":0},{"$f":"'14'!$AE$2","v":0},{"$f":"'14'!$AF$2","v":0},{"$f":"'14'!$AG$2","v":0},{"$f":"'14'!$AH$2","v":0},{"$f":"'14'!$AI$2","v":0},{"$f":"'14'!$AJ$2","v":0},""]
[null,"\\\\\\\\\\\\",15,{"$f":"'15'!$AK$1","v":0},{"$f":"'15'!$AK$2","v":0},{"$f":"'15'!$AK$3","v":0},{"$f":"'15'!$F$2","v":0},{"$f":"'15'!$G$2","v":0},{"$f":"'15'!$H$2","v":0},{"$f":"'15'!$I$2","v":0},{"$f":"'15'!$J$2","v":0},{"$f":"'15'!$K$2","v":0},{"$f":"'15'!$L$2","v":0},{"$f":"'15'!$M$2","v":0},{"$f":"'15'!$N$2","v":0},{"$f":"'15'!$O$2","v":0},{"$f":"'15'!$P$2","v":0},{"$f":"'15'!$Q$2","v":0},{"$f":"'15'!$R$2","v":0},{"$f":"'15'!$S$2","v":0},{"$f":"'15'!$T$2","v":0},{"$f":"'15'!$U$2","v":0},{"$f":"'15'!$V$2","v":0},{"$f":"'15'!$W$2","v":0},{"$f":"'15'!$X$2","v":0},{"$f":"'15'!$Y$2","v":0},{"$f":"'15'!$Z$2","v":0},{"$f":"'15'!$AA$2","v":0},{"$f":"'15'!$AB$2","v":0},{"$f":"'15'!$AC$2","v":0},{"$f":"'15'!$AD$2","v":0},{"$f":"'15'!$AE$2","v":0},{"$f":"'15'!$AF$2","v":0},{"$f":"'15'!$AG$2","v":0},{"$f":"'15'!$AH$2","v":0},{"$f":"'15'!$AI$2","v":0},{"$f":"'15'!$AJ$2","v":0},""]
[null,"\\\\\\\\\\\\",16,{"$f":"'16'!$AK$1","v":0},{"$f":"'16'!$AK$2","v":0},{"$f":"'16'!$AK$3","v":0},{"$f":"'16'!$F$2","v":0},{"$f":"'16'!$G$2","v":0},{"$f":"'16'!$H$2","v":0},{"$f":"'16'!$I$2","v":0},{"$f":"'16'!$J$2","v":0},{"$f":"'16'!$K$2","v":0},{"$f":"'16'!$L$2","v":0},{"$f":"'16'!$M$2","v":0},{"$f":"'16'!$N$2","v":0},{"$f":"'16'!$O$2","v":0},{"$f":"'16'!$P$2","v":0},{"$f":"'16'!$Q$2","v":0},{"$f":"'16'!$R$2","v":0},{"$f":"'16'!$S$2","v":0},{"$f":"'16'!$T$2","v":0},{"$f":"'16'!$U$2","v":0},{"$f":"'16'!$V$2","v":0},{"$f":"'16'!$W$2","v":0},{"$f":"'16'!$X$2","v":0},{"$f":"'16'!$Y$2","v":0},{"$f":"'16'!$Z$2","v":0},{"$f":"'16'!$AA$2","v":0},{"$f":"'16'!$AB$2","v":0},{"$f":"'16'!$AC$2","v":0},{"$f":"'16'!$AD$2","v":0},{"$f":"'16'!$AE$2","v":0},{"$f":"'16'!$AF$2","v":0},{"$f":"'16'!$AG$2","v":0},{"$f":"'16'!$AH$2","v":0},{"$f":"'16'!$AI$2","v":0},{"$f":"'16'!$AJ$2","v":0},""]
[null,"\\\\\\\\\\\\",17,{"$f":"'17'!$AK$1","v":0},{"$f":"'17'!$AK$2","v":0},{"$f":"'17'!$AK$3","v":0},{"$f":"'17'!$F$2","v":0},{"$f":"'17'!$G$2","v":0},{"$f":"'17'!$H$2","v":0},{"$f":"'17'!$I$2","v":0},{"$f":"'17'!$J$2","v":0},{"$f":"'17'!$K$2","v":0},{"$f":"'17'!$L$2","v":0},{"$f":"'17'!$M$2","v":0},{"$f":"'17'!$N$2","v":0},{"$f":"'17'!$O$2","v":0},{"$f":"'17'!$P$2","v":0},{"$f":"'17'!$Q$2","v":0},{"$f":"'17'!$R$2","v":0},{"$f":"'17'!$S$2","v":0},{"$f":"'17'!$T$2","v":0},{"$f":"'17'!$U$2","v":0},{"$f":"'17'!$V$2","v":0},{"$f":"'17'!$W$2","v":0},{"$f":"'17'!$X$2","v":0},{"$f":"'17'!$Y$2","v":0},{"$f":"'17'!$Z$2","v":0},{"$f":"'17'!$AA$2","v":0},{"$f":"'17'!$AB$2","v":0},{"$f":"'17'!$AC$2","v":0},{"$f":"'17'!$AD$2","v":0},{"$f":"'17'!$AE$2","v":0},{"$f":"'17'!$AF$2","v":0},{"$f":"'17'!$AG$2","v":0},{"$f":"'17'!$AH$2","v":0},{"$f":"'17'!$AI$2","v":0},{"$f":"'17'!$AJ$2","v":0},""]
[null,"\\\\\\\\\\\\",18,{"$f":"'18'!$AK$1","v":0},{"$f":"'18'!$AK$2","v":0},{"$f":"'18'!$AK$3","v":0},{"$f":"'18'!$F$2","v":0},{"$f":"'18'!$G$2","v":0},{"$f":"'18'!$H$2","v":0},{"$f":"'18'!$I$2","v":0},{"$f":"'18'!$J$2","v":0},{"$f":"'18'!$K$2","v":0},{"$f":"'18'!$L$2","v":0},{"$f":"'18'!$M$2","v":0},{"$f":"'18'!$N$2","v":0},{"$f":"'18'!$O$2","v":0},{"$f":"'18'!$P$2","v":0},{"$f":"'18'!$Q$2","v":0},{"$f":"'18'!$R$2","v":0},{"$f":"'18'!$S$2","v":0},{"$f":"'18'!$T$2","v":0},{"$f":"'18'!$U$2","v":0},{"$f":"'18'!$V$2","v":0},{"$f":"'18'!$W$2","v":0},{"$f":"'18'!$X$2","v":0},{"$f":"'18'!$Y$2","v":0},{"$f":"'18'!$Z$2","v":0},{"$f":"'18'!$AA$2","v":0},{"$f":"'18'!$AB$2","v":0},{"$f":"'18'!$AC$2","v":0},{"$f":"'18'!$AD$2","v":0},{"$f":"'18'!$AE$2","v":0},{"$f":"'18'!$AF$2","v":0},{"$f":"'18'!$AG$2","v":0},{"$f":"'18'!$AH$2","v":0},{"$f":"'18'!$AI$2","v":0},{"$f":"'18'!$AJ$2","v":0},""]
[null,"\\\\\\\\\\\\",19,{"$f":"'19'!$AK$1","v":0},{"$f":"'19'!$AK$2","v":0},{"$f":"'19'!$AK$3","v":0},{"$f":"'19'!$F$2","v":0},{"$f":"'19'!$G$2","v":0},{"$f":"'19'!$H$2","v":0},{"$f":"'19'!$I$2","v":0},{"$f":"'19'!$J$2","v":0},{"$f":"'19'!$K$2","v":0},{"$f":"'19'!$L$2","v":0},{"$f":"'19'!$M$2","v":0},{"$f":"'19'!$N$2","v":0},{"$f":"'19'!$O$2","v":0},{"$f":"'19'!$P$2","v":0},{"$f":"'19'!$Q$2","v":0},{"$f":"'19'!$R$2","v":0},{"$f":"'19'!$S$2","v":0},{"$f":"'19'!$T$2","v":0},{"$f":"'19'!$U$2","v":0},{"$f":"'19'!$V$2","v":0},{"$f":"'19'!$W$2","v":0},{"$f":"'19'!$X$2","v":0},{"$f":"'19'!$Y$2","v":0},{"$f":"'19'!$Z$2","v":0},{"$f":"'19'!$AA$2","v":0},{"$f":"'19'!$AB$2","v":0},{"$f":"'19'!$AC$2","v":0},{"$f":"'19'!$AD$2","v":0},{"$f":"'19'!$AE$2","v":0},{"$f":"'19'!$AF$2","v":0},{"$f":"'19'!$AG$2","v":0},{"$f":"'19'!$AH$2","v":0},{"$f":"'19'!$AI$2","v":0},{"$f":"'19'!$AJ$2","v":0},""]
[null,"\\\\\\\\\\\\",20,{"$f":"'20'!$AK$1","v":0},{"$f":"'20'!$AK$2","v":0},{"$f":"'20'!$AK$3","v":0},{"$f":"'20'!$F$2","v":0},{"$f":"'20'!$G$2","v":0},{"$f":"'20'!$H$2","v":0},{"$f":"'20'!$I$2","v":0},{"$f":"'20'!$J$2","v":0},{"$f":"'20'!$K$2","v":0},{"$f":"'20'!$L$2","v":0},{"$f":"'20'!$M$2","v":0},{"$f":"'20'!$N$2","v":0},{"$f":"'20'!$O$2","v":0},{"$f":"'20'!$P$2","v":0},{"$f":"'20'!$Q$2","v":0},{"$f":"'20'!$R$2","v":0},{"$f":"'20'!$S$2","v":0},{"$f":"'20'!$T$2","v":0},{"$f":"'20'!$U$2","v":0},{"$f":"'20'!$V$2","v":0},{"$f":"'20'!$W$2","v":0},{"$f":"'20'!$X$2","v":0},{"$f":"'20'!$Y$2","v":0},{"$f":"'20'!$Z$2","v":0},{"$f":"'20'!$AA$2","v":0},{"$f":"'20'!$AB$2","v":0},{"$f":"'20'!$AC$2","v":0},{"$f":"'20'!$AD$2","v":0},{"$f":"'20'!$AE$2","v":0},{"$f":"'20'!$AF$2","v":0},{"$f":"'20'!$AG$2","v":0},{"$f":"'20'!$AH$2","v":0},{"$f":"'20'!$AI$2","v":0},{"$f":"'20'!$AJ$2","v":0},""]

{"sheet":"Souhrn","index":1,"n_rows":3104,"n_cols":144,"rows_kept":562,"cut":true,"hidden":true,"merged":[[0,32,1,36]],"bounds":{"rows_first":250,"rows_last":62,"rows_between":250,"halvings":3}}
[null,null,null,null,null,null,null,null,null,null,null,null,null,null,null,null,null,null,null,null,null,null,null,null,null,null,null,null,null,null,null,null,"Hodiny",null,null,null,null,null,13,"Max hodin za den",null,null,null,null,null,null,null,null,null,null,null,null,null,null,null,null,null,null,null,null,null,null,null,null,null,null,null,null,null,null,null,null,null,"Mechanizace",null,null,null,null,null,null,null,null,null,null,null,null,null,null,null,null,null,null,null,null,null,null,null,null,null,null,null,"Doprava",null,null,null,null,null,null,null,null,null,null,null,null,null,null,null,null,null,null,null,"Ostatní",null,null,null,null,null,null,null,null,null,null,null,null,null,null,null,null,null,null,null,"Ubytování"]
[null,null,null,null,null,null,null,null,null,null,null,null,null,null,null,null,null,null,null,null,null,null,null,null,null,null,null,null,null,null,null,null,null,null,null,null,null,null,null,null,null,null,null,null,null,null,null,null,null,null,null,null,null,null,null,null,null,null,null,null,null,null,null,null,null,null,null,null,null,null,null,null,"Celkem počet",{"$f":"SUBTOTAL(2,BS5:BS3104)","v":0},null,null,null,null,null,null,null,null,null,null,null,null,null,null,null,null,null,null,null,null,null,null,null,null,null,null,"Celkem počet",{"$f":"SUBTOTAL(2,CU5:CU3104)","v":0},null,null,null,null,null,null,null,null,null,null,null,null,null,null,null,null,null,null,"Celkem počet",{"$f":"SUBTOTAL(2,DS5:DS3104)","v":0},null,null,null,null,null,null,null,null,null,null,null,null,null,null,null,null,null,null,"Celkem počet",{"$f":"SUBTOTAL(2,EL5:EL624)","v":0}]
["x",null,"Celkem",null,{"$f":"SUBTOTAL(9,E5:E2024)","v":0},0,0,0,0,0,0,0,0,0,0,0,0,0,0,0,0,0,0,0,0,0,0,0,0,0,0,0,0,0,0,0,0,null,null,null,null,null,null,null,null,null,null,null,null,null,null,null,null,null,null,null,null,null,null,null,null,null,null,null,null,null,null,null,null,null,null,null," Celkem cena",{"$f":"SUBTOTAL(9,BS5:BS3104)","v":0},null,null,null,null,null,null,null,null,null,null,null,null,null,null,null,null,null,null,null,null,null,null,null,null,null,null," Celkem cena",{"$f":"SUBTOTAL(9,CU5:CU3104)","v":0},null,null,null,null,null,null,null,null,null,null,null,null,null,null,null,null,null,null," Celkem cena",{"$f":"SUBTOTAL(9,DR5:DR3104)","v":0},null,null,null,null,null,null,null,null,null,null,null,null,null,null,null,null,null,null," Celkem cena",{"$f":"SUBTOTAL(9,EL5:EL624)","v":0}]
["id","Jméno","Firma","Celkem","Σ Hod","Σ Kč","1","2","3","4","5","6","7","8","9","10","11","12","13","14","15","16","17","18","19","20","21","22","23","24","25","26","27","28","29","30","31","x","Stavba",null,null,null,null,null,null,null,null,null,null,null,null,null,null,null,null,null,null,null,null,null,null,null,null,null,null,null,null,null,"Datum","Druh vozidla","Cena","SPZ","Dodavatel","Poznámka","x","Stavba",null,null,null,null,null,null,null,null,null,null,null,null,null,null,null,null,null,null,null,null,"Datum","Druh vozidla","Cena","SPZ","Dodavatel","Poznámka","x","Stavba",null,null,null,null,null,null,null,null,null,null,null,null,null,null,null,"Datum","Ostatní náklady","Cena","x","Stavba",null,null,null,null,null,null,null,null,null,null,null,null,null,null,null,"Datum","Ubytování","Cena","x","Stavba"]
[{"$f":"'1'!$A$8","v":0},{"$f":"'1'!$B$8","v":0},{"$f":"'1'!$C$8","v":0},{"$f":"SUMIF($B$5:$B$2024,Souhrn_hod[[#This Row],[Jméno]],$E$5:$E$2024)","v":0},{"$f":"'1'!$D$8","v":0},{"$f":"'1'!$E$8","v":0},{"$f":"'1'!$F$8","v":0},{"$f":"'1'!$G$8","v":0},{"$f":"'1'!$H$8","v":0},{"$f":"'1'!$I$8","v":0},{"$f":"'1'!$J$8","v":0},{"$f":"'1'!$K$8","v":0},{"$f":"'1'!$L$8","v":0},{"$f":"'1'!$M$8","v":0},{"$f":"'1'!$N$8","v":0},{"$f":"'1'!$O$8","v":0},{"$f":"'1'!$P$8","v":0},{"$f":"'1'!$Q$8","v":0},{"$f":"'1'!$R$8","v":0},{"$f":"'1'!$S$8","v":0},{"$f":"'1'!$T$8","v":0},{"$f":"'1'!$U$8","v":0},{"$f":"'1'!$V$8","v":0},{"$f":"'1'!$W$8","v":0},{"$f":"'1'!$X$8","v":0},{"$f":"'1'!$Y$8","v":0},{"$f":"'1'!$Z$8","v":0},{"$f":"'1'!$AA$8","v":0},{"$f":"'1'!$AB$8","v":0},{"$f":"'1'!$AC$8","v":0},{"$f":"'1'!$AD$8","v":0},{"$f":"'1'!$AE$8","v":0},{"$f":"'1'!$AF$8","v":0},{"$f":"'1'!$AG$8","v":0},{"$f":"'1'!$AH$8","v":0},{"$f":"'1'!$AI$8","v":0},{"$f":"'1'!$AJ$8","v":0},1,{"$f":"VLOOKUP(AL5,Přehled!$C$5:$AL$24,36)","v":""},null,null,null,null,null,null,null,null,null,null,null,null,null,null,null,null,null,null,null,null,null,null,null,null,null,null,null,null,null,{"$f":"'1'!$AO$8","v":0},{"$f":"'1'!$AP$8","v":0},{"$f":"'1'!$AQ$8","v":0},{"$f":"'1'!$AR$8","v":0},{"$f":"'1'!$AS$8","v":0},{"$f":"'1'!$AT$8","v":0},1,{"$f":"VLOOKUP(BW5,Přehled!$C$5:$AL$24,36)","v":""},null,null,null,null,null,null,null,null,null,null,null,null,null,null,null,null,null,null,null,null,{"$f":"'1'!$BP$8","v":0},{"$f":"'1'!$BQ$8","v":0},{"$f":"'1'!$BR$8","v":0},{"$f":"'1'!$BS$8","v":0},{"$f":"'1'!$BT$8","v":0},{"$f":"'1'!$BU$8","v":0},1,{"$f":"VLOOKUP(CY5,Přehled!$C$5:$AL$24,36)","v":""},null,null,null,null,null,null,null,null,null,null,null,null,null,null,null,{"$f":"'1'!$CR$8","v":0},{"$f":"'1'!$CS$8","v":0},{"$f":"'1'!$CT$8","v":0},1,{"$f":"VLOOKUP(DS5,Přehled!$C$5:$AL$24,36)","v":""},null,null,null,null,null,null,null,null,null,null,null,null,null,null,null,{"$f":"'1'!$DO$8","v":0},{"$f":"'1'!$DP$8","v":0},{"$f":"'1'!$DQ$8","v":0},1,{"$f":"VLOOKUP(EM5,Přehled!$C$5:$AL$24,36)","v":""}]
[{"$f":"'1'!$A$70","v":0},{"$f":"'1'!$B$70","v":0},{"$f":"'1'!$C$70","v":0},{"$f":"SUMIF($B$5:$B$2024,Souhrn_hod[[#This Row],[Jméno]],$E$5:$E$2024)","v":0},{"$f":"'1'!$D$70","v":0},{"$f":"'1'!$E$70","v":0},{"$f":"'1'!$F$70","v":0},{"$f":"'1'!$G$70","v":0},{"$f":"'1'!$H$70","v":0},{"$f":"'1'!$I$70","v":0},{"$f":"'1'!$J$70","v":0},{"$f":"'1'!$K$70","v":0},{"$f":"'1'!$L$70","v":0},{"$f":"'1'!$M$70","v":0},{"$f":"'1'!$N$70","v":0},{"$f":"'1'!$O$70","v":0},{"$f":"'1'!$P$70","v":0},{"$f":"'1'!$Q$70","v":0},{"$f":"'1'!$R$70","v":0},{"$f":"'1'!$S$70","v":0},{"$f":"'1'!$T$70","v":0},{"$f":"'1'!$U$70","v":0},{"$f":"'1'!$V$70","v":0},{"$f":"'1'!$W$70","v":0},{"$f":"'1'!$X$70","v":0},{"$f":"'1'!$Y$70","v":0},{"$f":"'1'!$Z$70","v":0},{"$f":"'1'!$AA$70","v":0},{"$f":"'1'!$AB$70","v":0},{"$f":"'1'!$AC$70","v":0},{"$f":"'1'!$AD$70","v":0},{"$f":"'1'!$AE$70","v":0},{"$f":"'1'!$AF$70","v":0},{"$f":"'1'!$AG$70","v":0},{"$f":"'1'!$AH$70","v":0},{"$f":"'1'!$AI$70","v":0},{"$f":"'1'!$AJ$70","v":0},1,{"$f":"VLOOKUP(AL6,Přehled!$C$5:$AL$24,36)","v":""},null,null,null,null,null,null,null,null,null,null,null,null,null,null,null,null,null,null,null,null,null,null,null,null,null,null,null,null,null,{"$f":"'1'!$AO$9","v":0},{"$f":"'1'!$AP$9","v":0},{"$f":"'1'!$AQ$9","v":0},{"$f":"'1'!$AR$9","v":0},{"$f":"'1'!$AS$9","v":0},{"$f":"'1'!$AT$9","v":0},1,{"$f":"VLOOKUP(BW6,Přehled!$C$5:$AL$24,36)","v":""},null,null,null,null,null,null,null,null,null,null,null,null,null,null,null,null,null,null,null,null,{"$f":"'1'!$BP$9","v":0},{"$f":"'1'!$BQ$9","v":0},{"$f":"'1'!$BR$9","v":0},{"$f":"'1'!$BS$9","v":0},{"$f":"'1'!$BT$9","v":0},{"$f":"'1'!$BU$9","v":0},1,{"$f":"VLOOKUP(CY6,Přehled!$C$5:$AL$24,36)","v":""},null,null,null,null,null,null,null,null,null,null,null,null,null,null,null,{"$f":"'1'!$CR$9","v":0},{"$f":"'1'!$CS$9","v":0},{"$f":"'1'!$CT$9","v":0},1,{"$f":"VLOOKUP(DS6,Přehled!$C$5:$AL$24,36)","v":""},null,null,null,null,null,null,null,null,null,null,null,null,null,null,null,{"$f":"'1'!$DO$9","v":0},{"$f":"'1'!$DP$9","v":0},{"$f":"'1'!$DQ$9","v":0},1,{"$f":"VLOOKUP(EM6,Přehled!$C$5:$AL$24,36)","v":""}]
[{"$f":"'1'!$A$10","v":0},{"$f":"'1'!$B$10","v":0},{"$f":"'1'!$C$10","v":0},{"$f":"SUMIF($B$5:$B$2024,Souhrn_hod[[#This Row],[Jméno]],$E$5:$E$2024)","v":0},{"$f":"'1'!$D$10","v":0},{"$f":"'1'!$E$10","v":0},{"$f":"'1'!$F$10","v":0},{"$f":"'1'!$G$10","v":0},{"$f":"'1'!$H$10","v":0},{"$f":"'1'!$I$10","v":0},{"$f":"'1'!$J$10","v":0},{"$f":"'1'!$K$10","v":0},{"$f":"'1'!$L$10","v":0},{"$f":"'1'!$M$10","v":0},{"$f":"'1'!$N$10","v":0},{"$f":"'1'!$O$10","v":0},{"$f":"'1'!$P$10","v":0},{"$f":"'1'!$Q$10","v":0},{"$f":"'1'!$R$10","v":0},{"$f":"'1'!$S$10","v":0},{"$f":"'1'!$T$10","v":0},{"$f":"'1'!$U$10","v":0},{"$f":"'1'!$V$10","v":0},{"$f":"'1'!$W$10","v":0},{"$f":"'1'!$X$10","v":0},{"$f":"'1'!$Y$10","v":0},{"$f":"'1'!$Z$10","v":0},{"$f":"'1'!$AA$10","v":0},{"$f":"'1'!$AB$10","v":0},{"$f":"'1'!$AC$10","v":0},{"$f":"'1'!$AD$10","v":0},{"$f":"'1'!$AE$10","v":0},{"$f":"'1'!$AF$10","v":0},{"$f":"'1'!$AG$10","v":0},{"$f":"'1'!$AH$10","v":0},{"$f":"'1'!$AI$10","v":0},{"$f":"'1'!$AJ$10","v":0},1,{"$f":"VLOOKUP(AL7,Přehled!$C$5:$AL$24,36)","v":""},null,null,null,null,null,null,null,null,null,null,null,null,null,null,null,null,null,null,null,null,null,null,null,null,null,null,null,null,null,{"$f":"'1'!$AO$10","v":0},{"$f":"'1'!$AP$10","v":0},{"$f":"'1'!$AQ$10","v":0},{"$f":"'1'!$AR$10","v":0},{"$f":"'1'!$AS$10","v":0},{"$f":"'1'!$AT$10","v":0},1,{"$f":"VLOOKUP(BW7,Přehled!$C$5:$AL$24,36)","v":""},null,null,null,null,null,null,null,null,null,null,null,null,null,null,null,null,null,null,null,null,{"$f":"'1'!$BP$10","v":0},{"$f":"'1'!$BQ$10","v":0},{"$f":"'1'!$BR$10","v":0},{"$f":"'1'!$BS$10","v":0},{"$f":"'1'!$BT$10","v":0},{"$f":"'1'!$BU$10","v":0},1,{"$f":"VLOOKUP(CY7,Přehled!$C$5:$AL$24,36)","v":""},null,null,null,null,null,null,null,null,null,null,null,null,null,null,null,{"$f":"'1'!$CR$10","v":0},{"$f":"'1'!$CS$10","v":0},{"$f":"'1'!$CT$10","v":0},1,{"$f":"VLOOKUP(DS7,Přehled!$C$5:$AL$24,36)","v":""},null,null,null,null,null,null,null,null,null,null,null,null,null,null,null,{"$f":"'1'!$DO$10","v":0},{"$f":"'1'!$DP$10","v":0},{"$f":"'1'!$DQ$10","v":0},1,{"$f":"VLOOKUP(EM7,Přehled!$C$5:$AL$24,36)","v":""}]
[{"$f":"'3'!A70","v":0},{"$f":"'3'!B70","v":0},{"$f":"'3'!C70","v":0},{"$f":"SUMIF($B$5:$B$2024,Souhrn_hod[[#This Row],[Jméno]],$E$5:$E$2024)","v":0},{"$f":"'3'!D70","v":0},{"$f":"'3'!E70","v":0},{"$f":"'3'!F70","v":0},{"$f":"'3'!G70","v":0},{"$f":"'3'!H70","v":0},{"$f":"'3'!I70","v":0},{"$f":"'3'!J70","v":0},{"$f":"'3'!K70","v":0},{"$f":"'3'!L70","v":0},{"$f":"'3'!M70","v":0},{"$f":"'3'!N70","v":0},{"$f":"'3'!O70","v":0},{"$f":"'3'!P70","v":0},{"$f":"'3'!Q70","v":0},{"$f":"'3'!R70","v":0},{"$f":"'3'!S70","v":0},{"$f":"'3'!T70","v":0},{"$f":"'3'!U70","v":0},{"$f":"'3'!V70","v":0},{"$f":"'3'!W70","v":0},{"$f":"'3'!X70","v":0},{"$f":"'3'!Y70","v":0},{"$f":"'3'!Z70","v":0},{"$f":"'3'!AA70","v":0},{"$f":"'3'!AB70","v":0},{"$f":"'3'!AC70","v":0},{"$f":"'3'!AD70","v":0},{"$f":"'3'!AE70","v":0},{"$f":"'3'!AF70","v":0},{"$f":"'3'!AG70","v":0},{"$f":"'3'!AH70","v":0},{"$f":"'3'!AI70","v":0},{"$f":"'3'!AJ70","v":0},3,{"$f":"VLOOKUP(AL8,Přehled!$C$5:$AL$24,36)","v":""},null,null,null,null,null,null,null,null,null,null,null,null,null,null,null,null,null,null,null,null,null,null,null,null,null,null,null,null,null,{"$f":"'1'!$AO$11","v":0},{"$f":"'1'!$AP$11","v":0},{"$f":"'1'!$AQ$11","v":0},{"$f":"'1'!$AR$11","v":0},{"$f":"'1'!$AS$11","v":0},{"$f":"'1'!$AT$11","v":0},1,{"$f":"VLOOKUP(BW8,Přehled!$C$5:$AL$24,36)","v":""},null,null,null,null,null,null,null,null,null,null,null,null,null,null,null,null,null,null,null,null,{"$f":"'1'!$BP$11","v":0},{"$f":"'1'!$BQ$11","v":0},{"$f":"'1'!$BR$11","v":0},{"$f":"'1'!$BS$11","v":0},{"$f":"'1'!$BT$11","v":0},{"$f":"'1'!$BU$11","v":0},1,{"$f":"VLOOKUP(CY8,Přehled!$C$5:$AL$24,36)","v":""},null,null,null,null,null,null,null,null,null,null,null,null,null,null,null,{"$f":"'1'!$CR$11","v":0},{"$f":"'1'!$CS$11","v":0},{"$f":"'1'!$CT$11","v":0},1,{"$f":"VLOOKUP(DS8,Přehled!$C$5:$AL$24,36)","v":""},null,null,null,null,null,null,null,null,null,null,null,null,null,null,null,{"$f":"'1'!$DO$11","v":0},{"$f":"'1'!$DP$11","v":0},{"$f":"'1'!$DQ$11","v":0},1,{"$f":"VLOOKUP(EM8,Přehled!$C$5:$AL$24,36)","v":""}]
[{"$f":"'1'!$A$57","v":0},{"$f":"'1'!$B$57","v":0},{"$f":"'1'!$C$57","v":0},{"$f":"SUMIF($B$5:$B$2024,Souhrn_hod[[#This Row],[Jméno]],$E$5:$E$2024)","v":0},{"$f":"'1'!$D$57","v":0},{"$f":"'1'!$E$57","v":0},{"$f":"'1'!$F$57","v":0},{"$f":"'1'!$G$57","v":0},{"$f":"'1'!$H$57","v":0},{"$f":"'1'!$I$57","v":0},{"$f":"'1'!$J$57","v":0},{"$f":"'1'!$K$57","v":0},{"$f":"'1'!$L$57","v":0},{"$f":"'1'!$M$57","v":0},{"$f":"'1'!$N$57","v":0},{"$f":"'1'!$O$57","v":0},{"$f":"'1'!$P$57","v":0},{"$f":"'1'!$Q$57","v":0},{"$f":"'1'!$R$57","v":0},{"$f":"'1'!$S$57","v":0},{"$f":"'1'!$T$57","v":0},{"$f":"'1'!$U$57","v":0},{"$f":"'1'!$V$57","v":0},{"$f":"'1'!$W$57","v":0},{"$f":"'1'!$X$57","v":0},{"$f":"'1'!$Y$57","v":0},{"$f":"'1'!$Z$57","v":0},{"$f":"'1'!$AA$57","v":0},{"$f":"'1'!$AB$57","v":0},{"$f":"'1'!$AC$57","v":0},{"$f":"'1'!$AD$57","v":0},{"$f":"'1'!$AE$57","v":0},{"$f":"'1'!$AF$57","v":0},{"$f":"'1'!$AG$57","v":0},{"$f":"'1'!$AH$57","v":0},{"$f":"'1'!$AI$57","v":0},{"$f":"'1'!$AJ$57","v":0},1,{"$f":"VLOOKUP(AL9,Přehled!$C$5:$AL$24,36)","v":""},null,null,null,null,null,null,null,null,null,null,null,null,null,null,null,null,null,null,null,null,null,null,null,null,null,null,null,null,null,{"$f":"'1'!$AO$12","v":0},{"$f":"'1'!$AP$12","v":0},{"$f":"'1'!$AQ$12","v":0},{"$f":"'1'!$AR$12","v":0},{"$f":"'1'!$AS$12","v":0},{"$f":"'1'!$AT$12","v":0},1,{"$f":"VLOOKUP(BW9,Přehled!$C$5:$AL$24,36)","v":""},null,null,null,null,null,null,null,null,null,null,null,null,null,null,null,null,null,null,null,null,{"$f":"'1'!$BP$12","v":0},{"$f":"'1'!$BQ$12","v":0},{"$f":"'1'!$BR$12","v":0},{"$f":"'1'!$BS$12","v":0},{"$f":"'1'!$BT$12","v":0},{"$f":"'1'!$BU$12","v":0},1,{"$f":"VLOOKUP(CY9,Přehled!$C$5:$AL$24,36)","v":""},null,null,null,null,null,null,null,null,null,null,null,null,null,null,null,{"$f":"'1'!$CR$12","v":0},{"$f":"'1'!$CS$12","v":0},{"$f":"'1'!$CT$12","v":0},1,{"$f":"VLOOKUP(DS9,Přehled!$C$5:$AL$24,36)","v":""},null,null,null,null,null,null,null,null,null,null,null,null,null,null,null,{"$f":"'1'!$DO$12","v":0},{"$f":"'1'!$DP$12","v":0},{"$f":"'1'!$DQ$12","v":0},1,{"$f":"VLOOKUP(EM9,Přehled!$C$5:$AL$24,36)","v":""}]
[{"$f":"'1'!$A$13","v":0},{"$f":"'1'!$B$13","v":0},{"$f":"'1'!$C$13","v":0},{"$f":"SUMIF($B$5:$B$2024,Souhrn_hod[[#This Row],[Jméno]],$E$5:$E$2024)","v":0},{"$f":"'1'!$D$13","v":0},{"$f":"'1'!$E$13","v":0},{"$f":"'1'!$F$13","v":0},{"$f":"'1'!$G$13","v":0},{"$f":"'1'!$H$13","v":0},{"$f":"'1'!$I$13","v":0},{"$f":"'1'!$J$13","v":0},{"$f":"'1'!$K$13","v":0},{"$f":"'1'!$L$13","v":0},{"$f":"'1'!$M$13","v":0},{"$f":"'1'!$N$13","v":0},{"$f":"'1'!$O$13","v":0},{"$f":"'1'!$P$13","v":0},{"$f":"'1'!$Q$13","v":0},{"$f":"'1'!$R$13","v":0},{"$f":"'1'!$S$13","v":0},{"$f":"'1'!$T$13","v":0},{"$f":"'1'!$U$13","v":0},{"$f":"'1'!$V$13","v":0},{"$f":"'1'!$W$13","v":0},{"$f":"'1'!$X$13","v":0},{"$f":"'1'!$Y$13","v":0},{"$f":"'1'!$Z$13","v":0},{"$f":"'1'!$AA$13","v":0},{"$f":"'1'!$AB$13","v":0},{"$f":"'1'!$AC$13","v":0},{"$f":"'1'!$AD$13","v":0},{"$f":"'1'!$AE$13","v":0},{"$f":"'1'!$AF$13","v":0},{"$f":"'1'!$AG$13","v":0},{"$f":"'1'!$AH$13","v":0},{"$f":"'1'!$AI$13","v":0},{"$f":"'1'!$AJ$13","v":0},1,{"$f":"VLOOKUP(AL10,Přehled!$C$5:$AL$24,36)","v":""},null,null,null,null,null,null,null,null,null,null,null,null,null,null,null,null,null,null,null,null,null,null,null,null,null,null,null,null,null,{"$f":"'1'!$AO$13","v":0},{"$f":"'1'!$AP$13","v":0},{"$f":"'1'!$AQ$13","v":0},{"$f":"'1'!$AR$13","v":0},{"$f":"'1'!$AS$13","v":0},{"$f":"'1'!$AT$13","v":0},1,{"$f":"VLOOKUP(BW10,Přehled!$C$5:$AL$24,36)","v":""},null,null,null,null,null,null,null,null,null,null,null,null,null,null,null,null,null,null,null,null,{"$f":"'1'!$BP$13","v":0},{"$f":"'1'!$BQ$13","v":0},{"$f":"'1'!$BR$13","v":0},{"$f":"'1'!$BS$13","v":0},{"$f":"'1'!$BT$13","v":0},{"$f":"'1'!$BU$13","v":0},1,{"$f":"VLOOKUP(CY10,Přehled!$C$5:$AL$24,36)","v":""},null,null,null,null,null,null,null,null,null,null,null,null,null,null,null,{"$f":"'1'!$CR$13","v":0},{"$f":"'1'!$CS$13","v":0},{"$f":"'1'!$CT$13","v":0},1,{"$f":"VLOOKUP(DS10,Přehled!$C$5:$AL$24,36)","v":""},null,null,null,null,null,null,null,null,null,null,null,null,null,null,null,{"$f":"'1'!$DO$13","v":0},{"$f":"'1'!$DP$13","v":0},{"$f":"'1'!$DQ$13","v":0},1,{"$f":"VLOOKUP(EM10,Přehled!$C$5:$AL$24,36)","v":""}]
[{"$f":"'1'!$A$25","v":0},{"$f":"'1'!$B$25","v":0},{"$f":"'1'!$C$25","v":0},{"$f":"SUMIF($B$5:$B$2024,Souhrn_hod[[#This Row],[Jméno]],$E$5:$E$2024)","v":0},{"$f":"'1'!$D$25","v":0},{"$f":"'1'!$E$25","v":0},{"$f":"'1'!$F$25","v":0},{"$f":"'1'!$G$25","v":0},{"$f":"'1'!$H$25","v":0},{"$f":"'1'!$I$25","v":0},{"$f":"'1'!$J$25","v":0},{"$f":"'1'!$K$25","v":0},{"$f":"'1'!$L$25","v":0},{"$f":"'1'!$M$25","v":0},{"$f":"'1'!$N$25","v":0},{"$f":"'1'!$O$25","v":0},{"$f":"'1'!$P$25","v":0},{"$f":"'1'!$Q$25","v":0},{"$f":"'1'!$R$25","v":0},{"$f":"'1'!$S$25","v":0},{"$f":"'1'!$T$25","v":0},{"$f":"'1'!$U$25","v":0},{"$f":"'1'!$V$25","v":0},{"$f":"'1'!$W$25","v":0},{"$f":"'1'!$X$25","v":0},{"$f":"'1'!$Y$25","v":0},{"$f":"'1'!$Z$25","v":0},{"$f":"'1'!$AA$25","v":0},{"$f":"'1'!$AB$25","v":0},{"$f":"'1'!$AC$25","v":0},{"$f":"'1'!$AD$25","v":0},{"$f":"'1'!$AE$25","v":0},{"$f":"'1'!$AF$25","v":0},{"$f":"'1'!$AG$25","v":0},{"$f":"'1'!$AH$25","v":0},{"$f":"'1'!$AI$25","v":0},{"$f":"'1'!$AJ$25","v":0},1,{"$f":"VLOOKUP(AL11,Přehled!$C$5:$AL$24,36)","v":""},null,null,null,null,null,null,null,null,null,null,null,null,null,null,null,null,null,null,null,null,null,null,null,null,null,null,null,null,null,{"$f":"'1'!$AO$14","v":0},{"$f":"'1'!$AP$14","v":0},{"$f":"'1'!$AQ$14","v":0},{"$f":"'1'!$AR$14","v":0},{"$f":"'1'!$AS$14","v":0},{"$f":"'1'!$AT$14","v":0},1,{"$f":"VLOOKUP(BW11,Přehled!$C$5:$AL$24,36)","v":""},null,null,null,null,null,null,null,null,null,null,null,null,null,null,null,null,null,null,null,null,{"$f":"'1'!$BP$14","v":0},{"$f":"'1'!$BQ$14","v":0},{"$f":"'1'!$BR$14","v":0},{"$f":"'1'!$BS$14","v":0},{"$f":"'1'!$BT$14","v":0},{"$f":"'1'!$BU$14","v":0},1,{"$f":"VLOOKUP(CY11,Přehled!$C$5:$AL$24,36)","v":""},null,null,null,null,null,null,null,null,null,null,null,null,null,null,null,{"$f":"'1'!$CR$14","v":0},{"$f":"'1'!$CS$14","v":0},{"$f":"'1'!$CT$14","v":0},1,{"$f":"VLOOKUP(DS11,Přehled!$C$5:$AL$24,36)","v":""},null,null,null,null,null,null,null,null,null,null,null,null,null,null,null,{"$f":"'1'!$DO$14","v":0},{"$f":"'1'!$DP$14","v":0},{"$f":"'1'!$DQ$14","v":0},1,{"$f":"VLOOKUP(EM11,Přehled!$C$5:$AL$24,36)","v":""}]
[{"$f":"'1'!$A$43","v":0},{"$f":"'1'!$B$43","v":0},{"$f":"'1'!$C$43","v":0},{"$f":"SUMIF($B$5:$B$2024,Souhrn_hod[[#This Row],[Jméno]],$E$5:$E$2024)","v":0},{"$f":"'1'!$D$43","v":0},{"$f":"'1'!$E$43","v":0},{"$f":"'1'!$F$43","v":0},{"$f":"'1'!$G$43","v":0},{"$f":"'1'!$H$43","v":0},{"$f":"'1'!$I$43","v":0},{"$f":"'1'!$J$43","v":0},{"$f":"'1'!$K$43","v":0},{"$f":"'1'!$L$43","v":0},{"$f":"'1'!$M$43","v":0},{"$f":"'1'!$N$43","v":0},{"$f":"'1'!$O$43","v":0},{"$f":"'1'!$P$43","v":0},{"$f":"'1'!$Q$43","v":0},{"$f":"'1'!$R$43","v":0},{"$f":"'1'!$S$43","v":0},{"$f":"'1'!$T$43","v":0},{"$f":"'1'!$U$43","v":0},{"$f":"'1'!$V$43","v":0},{"$f":"'1'!$W$43","v":0},{"$f":"'1'!$X$43","v":0},{"$f":"'1'!$Y$43","v":0},{"$f":"'1'!$Z$43","v":0},{"$f":"'1'!$AA$43","v":0},{"$f":"'1'!$AB$43","v":0},{"$f":"'1'!$AC$43","v":0},{"$f":"'1'!$AD$43","v":0},{"$f":"'1'!$AE$43","v":0},{"$f":"'1'!$AF$43","v":0},{"$f":"'1'!$AG$43","v":0},{"$f":"'1'!$AH$43","v":0},{"$f":"'1'!$AI$43","v":0},{"$f":"'1'!$AJ$43","v":0},1,{"$f":"VLOOKUP(AL12,Přehled!$C$5:$AL$24,36)","v":""},null,null,null,null,null,null,null,null,null,null,null,null,null,null,null,null,null,null,null,null,null,null,null,null,null,null,null,null,null,{"$f":"'1'!$AO$15","v":0},{"$f":"'1'!$AP$15","v":0},{"$f":"'1'!$AQ$15","v":0},{"$f":"'1'!$AR$15","v":0},{"$f":"'1'!$AS$15","v":0},{"$f":"'1'!$AT$15","v":0},1,{"$f":"VLOOKUP(BW12,Přehled!$C$5:$AL$24,36)","v":""},null,null,null,null,null,null,null,null,null,null,null,null,null,null,null,null,null,null,null,null,{"$f":"'1'!$BP$15","v":0},{"$f":"'1'!$BQ$15","v":0},{"$f":"'1'!$BR$15","v":0},{"$f":"'1'!$BS$15","v":0},{"$f":"'1'!$BT$15","v":0},{"$f":"'1'!$BU$15","v":0},1,{"$f":"VLOOKUP(CY12,Přehled!$C$5:$AL$24,36)","v":""},null,null,null,null,null,null,null,null,null,null,null,null,null,null,null,{"$f":"'1'!$CR$15","v":0},{"$f":"'1'!$CS$15","v":0},{"$f":"'1'!$CT$15","v":0},1,{"$f":"VLOOKUP(DS12,Přehled!$C$5:$AL$24,36)","v":""},null,null,null,null,null,null,null,null,null,null,null,null,null,null,null,{"$f":"'1'!$DO$15","v":0},{"$f":"'1'!$DP$15","v":0},{"$f":"'1'!$DQ$15","v":0},1,{"$f":"VLOOKUP(EM12,Přehled!$C$5:$AL$24,36)","v":""}]
[{"$f":"'1'!$A$16","v":0},{"$f":"'1'!$B$16","v":0},{"$f":"'1'!$C$16","v":0},{"$f":"SUMIF($B$5:$B$2024,Souhrn_hod[[#This Row],[Jméno]],$E$5:$E$2024)","v":0},{"$f":"'1'!$D$16","v":0},{"$f":"'1'!$E$16","v":0},{"$f":"'1'!$F$16","v":0},{"$f":"'1'!$G$16","v":0},{"$f":"'1'!$H$16","v":0},{"$f":"'1'!$I$16","v":0},{"$f":"'1'!$J$16","v":0},{"$f":"'1'!$K$16","v":0},{"$f":"'1'!$L$16","v":0},{"$f":"'1'!$M$16","v":0},{"$f":"'1'!$N$16","v":0},{"$f":"'1'!$O$16","v":0},{"$f":"'1'!$P$16","v":0},{"$f":"'1'!$Q$16","v":0},{"$f":"'1'!$R$16","v":0},{"$f":"'1'!$S$16","v":0},{"$f":"'1'!$T$16","v":0},{"$f":"'1'!$U$16","v":0},{"$f":"'1'!$V$16","v":0},{"$f":"'1'!$W$16","v":0},{"$f":"'1'!$X$16","v":0},{"$f":"'1'!$Y$16","v":0},{"$f":"'1'!$Z$16","v":0},{"$f":"'1'!$AA$16","v":0},{"$f":"'1'!$AB$16","v":0},{"$f":"'1'!$AC$16","v":0},{"$f":"'1'!$AD$16","v":0},{"$f":"'1'!$AE$16","v":0},{"$f":"'1'!$AF$16","v":0},{"$f":"'1'!$AG$16","v":0},{"$f":"'1'!$AH$16","v":0},{"$f":"'1'!$AI$16","v":0},{"$f":"'1'!$AJ$16","v":0},1,{"$f":"VLOOKUP(AL13,Přehled!$C$5:$AL$24,36)","v":""},null,null,null,null,null,null,null,null,null,null,null,null,null,null,null,null,null,null,null,null,null,null,null,null,null,null,null,null,null,{"$f":"'1'!$AO$16","v":0},{"$f":"'1'!$AP$16","v":0},{"$f":"'1'!$AQ$16","v":0},{"$f":"'1'!$AR$16","v":0},{"$f":"'1'!$AS$16","v":0},{"$f":"'1'!$AT$16","v":0},1,{"$f":"VLOOKUP(BW13,Přehled!$C$5:$AL$24,36)","v":""},null,null,null,null,null,null,null,null,null,null,null,null,null,null,null,null,null,null,null,null,{"$f":"'1'!$BP$16","v":0},{"$f":"'1'!$BQ$16","v":0},{"$f":"'1'!$BR$16","v":0},{"$f":"'1'!$BS$16","v":0},{"$f":"'1'!$BT$16","v":0},{"$f":"'1'!$BU$16","v":0},1,{"$f":"VLOOKUP(CY13,Přehled!$C$5:$AL$24,36)","v":""},null,null,null,null,null,null,null,null,null,null,null,null,null,null,null,{"$f":"'1'!$CR$16","v":0},{"$f":"'1'!$CS$16","v":0},{"$f":"'1'!$CT$16","v":0},1,{"$f":"VLOOKUP(DS13,Přehled!$C$5:$AL$24,36)","v":""},null,null,null,null,null,null,null,null,null,null,null,null,null,null,null,{"$f":"'1'!$DO$16","v":0},{"$f":"'1'!$DP$16","v":0},{"$f":"'1'!$DQ$16","v":0},1,{"$f":"VLOOKUP(EM13,Přehled!$C$5:$AL$24,36)","v":""}]
[{"$f":"'1'!$A$18","v":0},{"$f":"'1'!$B$18","v":0},{"$f":"'1'!$C$18","v":0},{"$f":"SUMIF($B$5:$B$2024,Souhrn_hod[[#This Row],[Jméno]],$E$5:$E$2024)","v":0},{"$f":"'1'!$D$18","v":0},{"$f":"'1'!$E$18","v":0},{"$f":"'1'!$F$18","v":0},{"$f":"'1'!$G$18","v":0},{"$f":"'1'!$H$18","v":0},{"$f":"'1'!$I$18","v":0},{"$f":"'1'!$J$18","v":0},{"$f":"'1'!$K$18","v":0},{"$f":"'1'!$L$18","v":0},{"$f":"'1'!$M$18","v":0},{"$f":"'1'!$N$18","v":0},{"$f":"'1'!$O$18","v":0},{"$f":"'1'!$P$18","v":0},{"$f":"'1'!$Q$18","v":0},{"$f":"'1'!$R$18","v":0},{"$f":"'1'!$S$18","v":0},{"$f":"'1'!$T$18","v":0},{"$f":"'1'!$U$18","v":0},{"$f":"'1'!$V$18","v":0},{"$f":"'1'!$W$18","v":0},{"$f":"'1'!$X$18","v":0},{"$f":"'1'!$Y$18","v":0},{"$f":"'1'!$Z$18","v":0},{"$f":"'1'!$AA$18","v":0},{"$f":"'1'!$AB$18","v":0},{"$f":"'1'!$AC$18","v":0},{"$f":"'1'!$AD$18","v":0},{"$f":"'1'!$AE$18","v":0},{"$f":"'1'!$AF$18","v":0},{"$f":"'1'!$AG$18","v":0},{"$f":"'1'!$AH$18","v":0},{"$f":"'1'!$AI$18","v":0},{"$f":"'1'!$AJ$18","v":0},1,{"$f":"VLOOKUP(AL14,Přehled!$C$5:$AL$24,36)","v":""},null,null,null,null,null,null,null,null,null,null,null,null,null,null,null,null,null,null,null,null,null,null,null,null,null,null,null,null,null,{"$f":"'1'!$AO$17","v":0},{"$f":"'1'!$AP$17","v":0},{"$f":"'1'!$AQ$17","v":0},{"$f":"'1'!$AR$17","v":0},{"$f":"'1'!$AS$17","v":0},{"$f":"'1'!$AT$17","v":0},1,{"$f":"VLOOKUP(BW14,Přehled!$C$5:$AL$24,36)","v":""},null,null,null,null,null,null,null,null,null,null,null,null,null,null,null,null,null,null,null,null,{"$f":"'1'!$BP$17","v":0},{"$f":"'1'!$BQ$17","v":0},{"$f":"'1'!$BR$17","v":0},{"$f":"'1'!$BS$17","v":0},{"$f":"'1'!$BT$17","v":0},{"$f":"'1'!$BU$17","v":0},1,{"$f":"VLOOKUP(CY14,Přehled!$C$5:$AL$24,36)","v":""},null,null,null,null,null,null,null,null,null,null,null,null,null,null,null,{"$f":"'1'!$CR$17","v":0},{"$f":"'1'!$CS$17","v":0},{"$f":"'1'!$CT$17","v":0},1,{"$f":"VLOOKUP(DS14,Přehled!$C$5:$AL$24,36)","v":""},null,null,null,null,null,null,null,null,null,null,null,null,null,null,null,{"$f":"'1'!$DO$17","v":0},{"$f":"'1'!$DP$17","v":0},{"$f":"'1'!$DQ$17","v":0},1,{"$f":"VLOOKUP(EM14,Přehled!$C$5:$AL$24,36)","v":""}]
[{"$f":"'1'!$A$23","v":0},{"$f":"'1'!$B$23","v":0},{"$f":"'1'!$C$23","v":0},{"$f":"SUMIF($B$5:$B$2024,Souhrn_hod[[#This Row],[Jméno]],$E$5:$E$2024)","v":0},{"$f":"'1'!$D$23","v":0},{"$f":"'1'!$E$23","v":0},{"$f":"'1'!$F$23","v":0},{"$f":"'1'!$G$23","v":0},{"$f":"'1'!$H$23","v":0},{"$f":"'1'!$I$23","v":0},{"$f":"'1'!$J$23","v":0},{"$f":"'1'!$K$23","v":0},{"$f":"'1'!$L$23","v":0},{"$f":"'1'!$M$23","v":0},{"$f":"'1'!$N$23","v":0},{"$f":"'1'!$O$23","v":0},{"$f":"'1'!$P$23","v":0},{"$f":"'1'!$Q$23","v":0},{"$f":"'1'!$R$23","v":0},{"$f":"'1'!$S$23","v":0},{"$f":"'1'!$T$23","v":0},{"$f":"'1'!$U$23","v":0},{"$f":"'1'!$V$23","v":0},{"$f":"'1'!$W$23","v":0},{"$f":"'1'!$X$23","v":0},{"$f":"'1'!$Y$23","v":0},{"$f":"'1'!$Z$23","v":0},{"$f":"'1'!$AA$23","v":0},{"$f":"'1'!$AB$23","v":0},{"$f":"'1'!$AC$23","v":0},{"$f":"'1'!$AD$23","v":0},{"$f":"'1'!$AE$23","v":0},{"$f":"'1'!$AF$23","v":0},{"$f":"'1'!$AG$23","v":0},{"$f":"'1'!$AH$23","v":0},{"$f":"'1'!$AI$23","v":0},{"$f":"'1'!$AJ$23","v":0},1,{"$f":"VLOOKUP(AL15,Přehled!$C$5:$AL$24,36)","v":""},null,null,null,null,null,null,null,null,null,null,null,null,null,null,null,null,null,null,null,null,null,null,null,null,null,null,null,null,null,{"$f":"'1'!$AO$18","v":0},{"$f":"'1'!$AP$18","v":0},{"$f":"'1'!$AQ$18","v":0},{"$f":"'1'!$AR$18","v":0},{"$f":"'1'!$AS$18","v":0},{"$f":"'1'!$AT$18","v":0},1,{"$f":"VLOOKUP(BW15,Přehled!$C$5:$AL$24,36)","v":""},null,null,null,null,null,null,null,null,null,null,null,null,null,null,null,null,null,null,null,null,{"$f":"'1'!$BP$18","v":0},{"$f":"'1'!$BQ$18","v":0},{"$f":"'1'!$BR$18","v":0},{"$f":"'1'!$BS$18","v":0},{"$f":"'1'!$BT$18","v":0},{"$f":"'1'!$BU$18","v":0},1,{"$f":"VLOOKUP(CY15,Přehled!$C$5:$AL$24,36)","v":""},null,null,null,null,null,null,null,null,null,null,null,null,null,null,null,{"$f":"'1'!$CR$18","v":0},{"$f":"'1'!$CS$18","v":0},{"$f":"'1'!$CT$18","v":0},1,{"$f":"VLOOKUP(DS15,Přehled!$C$5:$AL$24,36)","v":""},null,null,null,null,null,null,null,null,null,null,null,null,null,null,null,{"$f":"'1'!$DO$18","v":0},{"$f":"'1'!$DP$18","v":0},{"$f":"'1'!$DQ$18","v":0},1,{"$f":"VLOOKUP(EM15,Přehled!$C$5:$AL$24,36)","v":""}]
[{"$f":"'1'!$A$9","v":0},{"$f":"'1'!$B$9","v":0},{"$f":"'1'!$C$9","v":0},{"$f":"SUMIF($B$5:$B$2024,Souhrn_hod[[#This Row],[Jméno]],$E$5:$E$2024)","v":0},{"$f":"'1'!$D$9","v":0},{"$f":"'1'!$E$9","v":0},{"$f":"'1'!$F$9","v":0},{"$f":"'1'!$G$9","v":0},{"$f":"'1'!$H$9","v":0},{"$f":"'1'!$I$9","v":0},{"$f":"'1'!$J$9","v":0},{"$f":"'1'!$K$9","v":0},{"$f":"'1'!$L$9","v":0},{"$f":"'1'!$M$9","v":0},{"$f":"'1'!$N$9","v":0},{"$f":"'1'!$O$9","v":0},{"$f":"'1'!$P$9","v":0},{"$f":"'1'!$Q$9","v":0},{"$f":"'1'!$R$9","v":0},{"$f":"'1'!$S$9","v":0},{"$f":"'1'!$T$9","v":0},{"$f":"'1'!$U$9","v":0},{"$f":"'1'!$V$9","v":0},{"$f":"'1'!$W$9","v":0},{"$f":"'1'!$X$9","v":0},{"$f":"'1'!$Y$9","v":0},{"$f":"'1'!$Z$9","v":0},{"$f":"'1'!$AA$9","v":0},{"$f":"'1'!$AB$9","v":0},{"$f":"'1'!$AC$9","v":0},{"$f":"'1'!$AD$9","v":0},{"$f":"'1'!$AE$9","v":0},{"$f":"'1'!$AF$9","v":0},{"$f":"'1'!$AG$9","v":0},{"$f":"'1'!$AH$9","v":0},{"$f":"'1'!$AI$9","v":0},{"$f":"'1'!$AJ$9","v":0},1,{"$f":"VLOOKUP(AL16,Přehled!$C$5:$AL$24,36)","v":""},null,null,null,null,null,null,null,null,null,null,null,null,null,null,null,null,null,null,null,null,null,null,null,null,null,null,null,null,null,{"$f":"'1'!$AO$19","v":0},{"$f":"'1'!$AP$19","v":0},{"$f":"'1'!$AQ$19","v":0},{"$f":"'1'!$AR$19","v":0},{"$f":"'1'!$AS$19","v":0},{"$f":"'1'!$AT$19","v":0},1,{"$f":"VLOOKUP(BW16,Přehled!$C$5:$AL$24,36)","v":""},null,null,null,null,null,null,null,null,null,null,null,null,null,null,null,null,null,null,null,null,{"$f":"'1'!$BP$19","v":0},{"$f":"'1'!$BQ$19","v":0},{"$f":"'1'!$BR$19","v":0},{"$f":"'1'!$BS$19","v":0},{"$f":"'1'!$BT$19","v":0},{"$f":"'1'!$BU$19","v":0},1,{"$f":"VLOOKUP(CY16,Přehled!$C$5:$AL$24,36)","v":""},null,null,null,null,null,null,null,null,null,null,null,null,null,null,null,{"$f":"'1'!$CR$19","v":0},{"$f":"'1'!$CS$19","v":0},{"$f":"'1'!$CT$19","v":0},1,{"$f":"VLOOKUP(DS16,Přehled!$C$5:$AL$24,36)","v":""},null,null,null,null,null,null,null,null,null,null,null,null,null,null,null,{"$f":"'1'!$DO$19","v":0},{"$f":"'1'!$DP$19","v":0},{"$f":"'1'!$DQ$19","v":0},1,{"$f":"VLOOKUP(EM16,Přehled!$C$5:$AL$24,36)","v":""}]
[{"$f":"'1'!$A$14","v":0},{"$f":"'1'!$B$14","v":0},{"$f":"'1'!$C$14","v":0},{"$f":"SUMIF($B$5:$B$2024,Souhrn_hod[[#This Row],[Jméno]],$E$5:$E$2024)","v":0},{"$f":"'1'!$D$14","v":0},{"$f":"'1'!$E$14","v":0},{"$f":"'1'!$F$14","v":0},{"$f":"'1'!$G$14","v":0},{"$f":"'1'!$H$14","v":0},{"$f":"'1'!$I$14","v":0},{"$f":"'1'!$J$14","v":0},{"$f":"'1'!$K$14","v":0},{"$f":"'1'!$L$14","v":0},{"$f":"'1'!$M$14","v":0},{"$f":"'1'!$N$14","v":0},{"$f":"'1'!$O$14","v":0},{"$f":"'1'!$P$14","v":0},{"$f":"'1'!$Q$14","v":0},{"$f":"'1'!$R$14","v":0},{"$f":"'1'!$S$14","v":0},{"$f":"'1'!$T$14","v":0},{"$f":"'1'!$U$14","v":0},{"$f":"'1'!$V$14","v":0},{"$f":"'1'!$W$14","v":0},{"$f":"'1'!$X$14","v":0},{"$f":"'1'!$Y$14","v":0},{"$f":"'1'!$Z$14","v":0},{"$f":"'1'!$AA$14","v":0},{"$f":"'1'!$AB$14","v":0},{"$f":"'1'!$AC$14","v":0},{"$f":"'1'!$AD$14","v":0},{"$f":"'1'!$AE$14","v":0},{"$f":"'1'!$AF$14","v":0},{"$f":"'1'!$AG$14","v":0},{"$f":"'1'!$AH$14","v":0},{"$f":"'1'!$AI$14","v":0},{"$f":"'1'!$AJ$14","v":0},1,{"$f":"VLOOKUP(AL17,Přehled!$C$5:$AL$24,36)","v":""},null,null,null,null,null,null,null,null,null,null,null,null,null,null,null,null,null,null,null,null,null,null,null,null,null,null,null,null,null,{"$f":"'1'!$AO$20","v":0},{"$f":"'1'!$AP$20","v":0},{"$f":"'1'!$AQ$20","v":0},{"$f":"'1'!$AR$20","v":0},{"$f":"'1'!$AS$20","v":0},{"$f":"'1'!$AT$20","v":0},1,{"$f":"VLOOKUP(BW17,Přehled!$C$5:$AL$24,36)","v":""},null,null,null,null,null,null,null,null,null,null,null,null,null,null,null,null,null,null,null,null,{"$f":"'1'!$BP$20","v":0},{"$f":"'1'!$BQ$20","v":0},{"$f":"'1'!$BR$20","v":0},{"$f":"'1'!$BS$20","v":0},{"$f":"'1'!$BT$20","v":0},{"$f":"'1'!$BU$20","v":0},1,{"$f":"VLOOKUP(CY17,Přehled!$C$5:$AL$24,36)","v":""},null,null,null,null,null,null,null,null,null,null,null,null,null,null,null,{"$f":"'1'!$CR$20","v":0},{"$f":"'1'!$CS$20","v":0},{"$f":"'1'!$CT$20","v":0},1,{"$f":"VLOOKUP(DS17,Přehled!$C$5:$AL$24,36)","v":""},null,null,null,null,null,null,null,null,null,null,null,null,null,null,null,{"$f":"'1'!$DO$20","v":0},{"$f":"'1'!$DP$20","v":0},{"$f":"'1'!$DQ$20","v":0},1,{"$f":"VLOOKUP(EM17,Přehled!$C$5:$AL$24,36)","v":""}]
[{"$f":"'3'!A14","v":0},{"$f":"'3'!B14","v":0},{"$f":"'3'!C14","v":0},{"$f":"SUMIF($B$5:$B$2024,Souhrn_hod[[#This Row],[Jméno]],$E$5:$E$2024)","v":0},{"$f":"'3'!D14","v":0},{"$f":"'3'!E14","v":0},{"$f":"'3'!F14","v":0},{"$f":"'3'!G14","v":0},{"$f":"'3'!H14","v":0},{"$f":"'3'!I14","v":0},{"$f":"'3'!J14","v":0},{"$f":"'3'!K14","v":0},{"$f":"'3'!L14","v":0},{"$f":"'3'!M14","v":0},{"$f":"'3'!N14","v":0},{"$f":"'3'!O14","v":0},{"$f":"'3'!P14","v":0},{"$f":"'3'!Q14","v":0},{"$f":"'3'!R14","v":0},{"$f":"'3'!S14","v":0},{"$f":"'3'!T14","v":0},{"$f":"'3'!U14","v":0},{"$f":"'3'!V14","v":0},{"$f":"'3'!W14","v":0},{"$f":"'3'!X14","v":0},{"$f":"'3'!Y14","v":0},{"$f":"'3'!Z14","v":0},{"$f":"'3'!AA14","v":0},{"$f":"'3'!AB14","v":0},{"$f":"'3'!AC14","v":0},{"$f":"'3'!AD14","v":0},{"$f":"'3'!AE14","v":0},{"$f":"'3'!AF14","v":0},{"$f":"'3'!AG14","v":0},{"$f":"'3'!AH14","v":0},{"$f":"'3'!AI14","v":0},{"$f":"'3'!AJ14","v":0},3,{"$f":"VLOOKUP(AL18,Přehled!$C$5:$AL$24,36)","v":""},null,null,null,null,null,null,null,null,null,null,null,null,null,null,null,null,null,null,null,null,null,null,null,null,null,null,null,null,null,{"$f":"'1'!$AO$21","v":0},{"$f":"'1'!$AP$21","v":0},{"$f":"'1'!$AQ$21","v":0},{"$f":"'1'!$AR$21","v":0},{"$f":"'1'!$AS$21","v":0},{"$f":"'1'!$AT$21","v":0},1,{"$f":"VLOOKUP(BW18,Přehled!$C$5:$AL$24,36)","v":""},null,null,null,null,null,null,null,null,null,null,null,null,null,null,null,null,null,null,null,null,{"$f":"'1'!$BP$21","v":0},{"$f":"'1'!$BQ$21","v":0},{"$f":"'1'!$BR$21","v":0},{"$f":"'1'!$BS$21","v":0},{"$f":"'1'!$BT$21","v":0},{"$f":"'1'!$BU$21","v":0},1,{"$f":"VLOOKUP(CY18,Přehled!$C$5:$AL$24,36)","v":""},null,null,null,null,null,null,null,null,null,null,null,null,null,null,null,{"$f":"'1'!$CR$21","v":0},{"$f":"'1'!$CS$21","v":0},{"$f":"'1'!$CT$21","v":0},1,{"$f":"VLOOKUP(DS18,Přehled!$C$5:$AL$24,36)","v":""},null,null,null,null,null,null,null,null,null,null,null,null,null,null,null,{"$f":"'1'!$DO$21","v":0},{"$f":"'1'!$DP$21","v":0},{"$f":"'1'!$DQ$21","v":0},1,{"$f":"VLOOKUP(EM18,Přehled!$C$5:$AL$24,36)","v":""}]
[{"$f":"'1'!$A$11","v":0},{"$f":"'1'!$B$11","v":0},{"$f":"'1'!$C$11","v":0},{"$f":"SUMIF($B$5:$B$2024,Souhrn_hod[[#This Row],[Jméno]],$E$5:$E$2024)","v":0},{"$f":"'1'!$D$11","v":0},{"$f":"'1'!$E$11","v":0},{"$f":"'1'!$F$11","v":0},{"$f":"'1'!$G$11","v":0},{"$f":"'1'!$H$11","v":0},{"$f":"'1'!$I$11","v":0},{"$f":"'1'!$J$11","v":0},{"$f":"'1'!$K$11","v":0},{"$f":"'1'!$L$11","v":0},{"$f":"'1'!$M$11","v":0},{"$f":"'1'!$N$11","v":0},{"$f":"'1'!$O$11","v":0},{"$f":"'1'!$P$11","v":0},{"$f":"'1'!$Q$11","v":0},{"$f":"'1'!$R$11","v":0},{"$f":"'1'!$S$11","v":0},{"$f":"'1'!$T$11","v":0},{"$f":"'1'!$U$11","v":0},{"$f":"'1'!$V$11","v":0},{"$f":"'1'!$W$11","v":0},{"$f":"'1'!$X$11","v":0},{"$f":"'1'!$Y$11","v":0},{"$f":"'1'!$Z$11","v":0},{"$f":"'1'!$AA$11","v":0},{"$f":"'1'!$AB$11","v":0},{"$f":"'1'!$AC$11","v":0},{"$f":"'1'!$AD$11","v":0},{"$f":"'1'!$AE$11","v":0},{"$f":"'1'!$AF$11","v":0},{"$f":"'1'!$AG$11","v":0},{"$f":"'1'!$AH$11","v":0},{"$f":"'1'!$AI$11","v":0},{"$f":"'1'!$AJ$11","v":0},1,{"$f":"VLOOKUP(AL19,Přehled!$C$5:$AL$24,36)","v":""},null,null,null,null,null,null,null,null,null,null,null,null,null,null,null,null,null,null,null,null,null,null,null,null,null,null,null,null,null,{"$f":"'1'!$AO$22","v":0},{"$f":"'1'!$AP$22","v":0},{"$f":"'1'!$AQ$22","v":0},{"$f":"'1'!$AR$22","v":0},{"$f":"'1'!$AS$22","v":0},{"$f":"'1'!$AT$22","v":0},1,{"$f":"VLOOKUP(BW19,Přehled!$C$5:$AL$24,36)","v":""},null,null,null,null,null,null,null,null,null,null,null,null,null,null,null,null,null,null,null,null,{"$f":"'1'!$BP$22","v":0},{"$f":"'1'!$BQ$22","v":0},{"$f":"'1'!$BR$22","v":0},{"$f":"'1'!$BS$22","v":0},{"$f":"'1'!$BT$22","v":0},{"$f":"'1'!$BU$22","v":0},1,{"$f":"VLOOKUP(CY19,Přehled!$C$5:$AL$24,36)","v":""},null,null,null,null,null,null,null,null,null,null,null,null,null,null,null,{"$f":"'1'!$CR$22","v":0},{"$f":"'1'!$CS$22","v":0},{"$f":"'1'!$CT$22","v":0},1,{"$f":"VLOOKUP(DS19,Přehled!$C$5:$AL$24,36)","v":""},null,null,null,null,null,null,null,null,null,null,null,null,null,null,null,{"$f":"'1'!$DO$22","v":0},{"$f":"'1'!$DP$22","v":0},{"$f":"'1'!$DQ$22","v":0},1,{"$f":"VLOOKUP(EM19,Přehled!$C$5:$AL$24,36)","v":""}]
[{"$f":"'3'!A11","v":0},{"$f":"'3'!B11","v":0},{"$f":"'3'!C11","v":0},{"$f":"SUMIF($B$5:$B$2024,Souhrn_hod[[#This Row],[Jméno]],$E$5:$E$2024)","v":0},{"$f":"'3'!D11","v":0},{"$f":"'3'!E11","v":0},{"$f":"'3'!F11","v":0},{"$f":"'3'!G11","v":0},{"$f":"'3'!H11","v":0},{"$f":"'3'!I11","v":0},{"$f":"'3'!J11","v":0},{"$f":"'3'!K11","v":0},{"$f":"'3'!L11","v":0},{"$f":"'3'!M11","v":0},{"$f":"'3'!N11","v":0},{"$f":"'3'!O11","v":0},{"$f":"'3'!P11","v":0},{"$f":"'3'!Q11","v":0},{"$f":"'3'!R11","v":0},{"$f":"'3'!S11","v":0},{"$f":"'3'!T11","v":0},{"$f":"'3'!U11","v":0},{"$f":"'3'!V11","v":0},{"$f":"'3'!W11","v":0},{"$f":"'3'!X11","v":0},{"$f":"'3'!Y11","v":0},{"$f":"'3'!Z11","v":0},{"$f":"'3'!AA11","v":0},{"$f":"'3'!AB11","v":0},{"$f":"'3'!AC11","v":0},{"$f":"'3'!AD11","v":0},{"$f":"'3'!AE11","v":0},{"$f":"'3'!AF11","v":0},{"$f":"'3'!AG11","v":0},{"$f":"'3'!AH11","v":0},{"$f":"'3'!AI11","v":0},{"$f":"'3'!AJ11","v":0},3,{"$f":"VLOOKUP(AL20,Přehled!$C$5:$AL$24,36)","v":""},null,null,null,null,null,null,null,null,null,null,null,null,null,null,null,null,null,null,null,null,null,null,null,null,null,null,null,null,null,{"$f":"'1'!$AO$23","v":0},{"$f":"'1'!$AP$23","v":0},{"$f":"'1'!$AQ$23","v":0},{"$f":"'1'!$AR$23","v":0},{"$f":"'1'!$AS$23","v":0},{"$f":"'1'!$AT$23","v":0},1,{"$f":"VLOOKUP(BW20,Přehled!$C$5:$AL$24,36)","v":""},null,null,null,null,null,null,null,null,null,null,null,null,null,null,null,null,null,null,null,null,{"$f":"'1'!$BP$23","v":0},{"$f":"'1'!$BQ$23","v":0},{"$f":"'1'!$BR$23","v":0},{"$f":"'1'!$BS$23","v":0},{"$f":"'1'!$BT$23","v":0},{"$f":"'1'!$BU$23","v":0},1,{"$f":"VLOOKUP(CY20,Přehled!$C$5:$AL$24,36)","v":""},null,null,null,null,null,null,null,null,null,null,null,null,null,null,null,{"$f":"'1'!$CR$23","v":0},{"$f":"'1'!$CS$23","v":0},{"$f":"'1'!$CT$23","v":0},1,{"$f":"VLOOKUP(DS20,Přehled!$C$5:$AL$24,36)","v":""},null,null,null,null,null,null,null,null,null,null,null,null,null,null,null,{"$f":"'1'!$DO$23","v":0},{"$f":"'1'!$DP$23","v":0},{"$f":"'1'!$DQ$23","v":0},1,{"$f":"VLOOKUP(EM20,Přehled!$C$5:$AL$24,36)","v":""}]
[{"$f":"'1'!$A$24","v":0},{"$f":"'1'!$B$24","v":0},{"$f":"'1'!$C$24","v":0},{"$f":"SUMIF($B$5:$B$2024,Souhrn_hod[[#This Row],[Jméno]],$E$5:$E$2024)","v":0},{"$f":"'1'!$D$24","v":0},{"$f":"'1'!$E$24","v":0},{"$f":"'1'!$F$24","v":0},{"$f":"'1'!$G$24","v":0},{"$f":"'1'!$H$24","v":0},{"$f":"'1'!$I$24","v":0},{"$f":"'1'!$J$24","v":0},{"$f":"'1'!$K$24","v":0},{"$f":"'1'!$L$24","v":0},{"$f":"'1'!$M$24","v":0},{"$f":"'1'!$N$24","v":0},{"$f":"'1'!$O$24","v":0},{"$f":"'1'!$P$24","v":0},{"$f":"'1'!$Q$24","v":0},{"$f":"'1'!$R$24","v":0},{"$f":"'1'!$S$24","v":0},{"$f":"'1'!$T$24","v":0},{"$f":"'1'!$U$24","v":0},{"$f":"'1'!$V$24","v":0},{"$f":"'1'!$W$24","v":0},{"$f":"'1'!$X$24","v":0},{"$f":"'1'!$Y$24","v":0},{"$f":"'1'!$Z$24","v":0},{"$f":"'1'!$AA$24","v":0},{"$f":"'1'!$AB$24","v":0},{"$f":"'1'!$AC$24","v":0},{"$f":"'1'!$AD$24","v":0},{"$f":"'1'!$AE$24","v":0},{"$f":"'1'!$AF$24","v":0},{"$f":"'1'!$AG$24","v":0},{"$f":"'1'!$AH$24","v":0},{"$f":"'1'!$AI$24","v":0},{"$f":"'1'!$AJ$24","v":0},1,{"$f":"VLOOKUP(AL21,Přehled!$C$5:$AL$24,36)","v":""},null,null,null,null,null,null,null,null,null,null,null,null,null,null,null,null,null,null,null,null,null,null,null,null,null,null,null,null,null,{"$f":"'1'!$AO$24","v":0},{"$f":"'1'!$AP$24","v":0},{"$f":"'1'!$AQ$24","v":0},{"$f":"'1'!$AR$24","v":0},{"$f":"'1'!$AS$24","v":0},{"$f":"'1'!$AT$24","v":0},1,{"$f":"VLOOKUP(BW21,Přehled!$C$5:$AL$24,36)","v":""},null,null,null,null,null,null,null,null,null,null,null,null,null,null,null,null,null,null,null,null,{"$f":"'1'!$BP$24","v":0},{"$f":"'1'!$BQ$24","v":0},{"$f":"'1'!$BR$24","v":0},{"$f":"'1'!$BS$24","v":0},{"$f":"'1'!$BT$24","v":0},{"$f":"'1'!$BU$24","v":0},1,{"$f":"VLOOKUP(CY21,Přehled!$C$5:$AL$24,36)","v":""},null,null,null,null,null,null,null,null,null,null,null,null,null,null,null,{"$f":"'1'!$CR$24","v":0},{"$f":"'1'!$CS$24","v":0},{"$f":"'1'!$CT$24","v":0},1,{"$f":"VLOOKUP(DS21,Přehled!$C$5:$AL$24,36)","v":""},null,null,null,null,null,null,null,null,null,null,null,null,null,null,null,{"$f":"'1'!$DO$24","v":0},{"$f":"'1'!$DP$24","v":0},{"$f":"'1'!$DQ$24","v":0},1,{"$f":"VLOOKUP(EM21,Přehled!$C$5:$AL$24,36)","v":""}]
[{"$f":"'1'!$A$75","v":0},{"$f":"'1'!$B$75","v":0},{"$f":"'1'!$C$75","v":0},{"$f":"SUMIF($B$5:$B$2024,Souhrn_hod[[#This Row],[Jméno]],$E$5:$E$2024)","v":0},{"$f":"'1'!$D$75","v":0},{"$f":"'1'!$E$75","v":0},{"$f":"'1'!$F$75","v":0},{"$f":"'1'!$G$75","v":0},{"$f":"'1'!$H$75","v":0},{"$f":"'1'!$I$75","v":0},{"$f":"'1'!$J$75","v":0},{"$f":"'1'!$K$75","v":0},{"$f":"'1'!$L$75","v":0},{"$f":"'1'!$M$75","v":0},{"$f":"'1'!$N$75","v":0},{"$f":"'1'!$O$75","v":0},{"$f":"'1'!$P$75","v":0},{"$f":"'1'!$Q$75","v":0},{"$f":"'1'!$R$75","v":0},{"$f":"'1'!$S$75","v":0},{"$f":"'1'!$T$75","v":0},{"$f":"'1'!$U$75","v":0},{"$f":"'1'!$V$75","v":0},{"$f":"'1'!$W$75","v":0},{"$f":"'1'!$X$75","v":0},{"$f":"'1'!$Y$75","v":0},{"$f":"'1'!$Z$75","v":0},{"$f":"'1'!$AA$75","v":0},{"$f":"'1'!$AB$75","v":0},{"$f":"'1'!$AC$75","v":0},{"$f":"'1'!$AD$75","v":0},{"$f":"'1'!$AE$75","v":0},{"$f":"'1'!$AF$75","v":0},{"$f":"'1'!$AG$75","v":0},{"$f":"'1'!$AH$75","v":0},{"$f":"'1'!$AI$75","v":0},{"$f":"'1'!$AJ$75","v":0},1,{"$f":"VLOOKUP(AL22,Přehled!$C$5:$AL$24,36)","v":""},null,null,null,null,null,null,null,null,null,null,null,null,null,null,null,null,null,null,null,null,null,null,null,null,null,null,null,null,null,{"$f":"'1'!$AO$25","v":0},{"$f":"'1'!$AP$25","v":0},{"$f":"'1'!$AQ$25","v":0},{"$f":"'1'!$AR$25","v":0},{"$f":"'1'!$AS$25","v":0},{"$f":"'1'!$AT$25","v":0},1,{"$f":"VLOOKUP(BW22,Přehled!$C$5:$AL$24,36)","v":""},null,null,null,null,null,null,null,null,null,null,null,null,null,null,null,null,null,null,null,null,{"$f":"'1'!$BP$25","v":0},{"$f":"'1'!$BQ$25","v":0},{"$f":"'1'!$BR$25","v":0},{"$f":"'1'!$BS$25","v":0},{"$f":"'1'!$BT$25","v":0},{"$f":"'1'!$BU$25","v":0},1,{"$f":"VLOOKUP(CY22,Přehled!$C$5:$AL$24,36)","v":""},null,null,null,null,null,null,null,null,null,null,null,null,null,null,null,{"$f":"'1'!$CR$25","v":0},{"$f":"'1'!$CS$25","v":0},{"$f":"'1'!$CT$25","v":0},1,{"$f":"VLOOKUP(DS22,Přehled!$C$5:$AL$24,36)","v":""},null,null,null,null,null,null,null,null,null,null,null,null,null,null,null,{"$f":"'1'!$DO$25","v":0},{"$f":"'1'!$DP$25","v":0},{"$f":"'1'!$DQ$25","v":0},1,{"$f":"VLOOKUP(EM22,Přehled!$C$5:$AL$24,36)","v":""}]
[{"$f":"'1'!$A$26","v":0},{"$f":"'1'!$B$26","v":0},{"$f":"'1'!$C$26","v":0},{"$f":"SUMIF($B$5:$B$2024,Souhrn_hod[[#This Row],[Jméno]],$E$5:$E$2024)","v":0},{"$f":"'1'!$D$26","v":0},{"$f":"'1'!$E$26","v":0},{"$f":"'1'!$F$26","v":0},{"$f":"'1'!$G$26","v":0},{"$f":"'1'!$H$26","v":0},{"$f":"'1'!$I$26","v":0},{"$f":"'1'!$J$26","v":0},{"$f":"'1'!$K$26","v":0},{"$f":"'1'!$L$26","v":0},{"$f":"'1'!$M$26","v":0},{"$f":"'1'!$N$26","v":0},{"$f":"'1'!$O$26","v":0},{"$f":"'1'!$P$26","v":0},{"$f":"'1'!$Q$26","v":0},{"$f":"'1'!$R$26","v":0},{"$f":"'1'!$S$26","v":0},{"$f":"'1'!$T$26","v":0},{"$f":"'1'!$U$26","v":0},{"$f":"'1'!$V$26","v":0},{"$f":"'1'!$W$26","v":0},{"$f":"'1'!$X$26","v":0},{"$f":"'1'!$Y$26","v":0},{"$f":"'1'!$Z$26","v":0},{"$f":"'1'!$AA$26","v":0},{"$f":"'1'!$AB$26","v":0},{"$f":"'1'!$AC$26","v":0},{"$f":"'1'!$AD$26","v":0},{"$f":"'1'!$AE$26","v":0},{"$f":"'1'!$AF$26","v":0},{"$f":"'1'!$AG$26","v":0},{"$f":"'1'!$AH$26","v":0},{"$f":"'1'!$AI$26","v":0},{"$f":"'1'!$AJ$26","v":0},1,{"$f":"VLOOKUP(AL23,Přehled!$C$5:$AL$24,36)","v":""},null,null,null,null,null,null,null,null,null,null,null,null,null,null,null,null,null,null,null,null,null,null,null,null,null,null,null,null,null,{"$f":"'1'!$AO$26","v":0},{"$f":"'1'!$AP$26","v":0},{"$f":"'1'!$AQ$26","v":0},{"$f":"'1'!$AR$26","v":0},{"$f":"'1'!$AS$26","v":0},{"$f":"'1'!$AT$26","v":0},1,{"$f":"VLOOKUP(BW23,Přehled!$C$5:$AL$24,36)","v":""},null,null,null,null,null,null,null,null,null,null,null,null,null,null,null,null,null,null,null,null,{"$f":"'1'!$BP$26","v":0},{"$f":"'1'!$BQ$26","v":0},{"$f":"'1'!$BR$26","v":0},{"$f":"'1'!$BS$26","v":0},{"$f":"'1'!$BT$26","v":0},{"$f":"'1'!$BU$26","v":0},1,{"$f":"VLOOKUP(CY23,Přehled!$C$5:$AL$24,36)","v":""},null,null,null,null,null,null,null,null,null,null,null,null,null,null,null,{"$f":"'1'!$CR$26","v":0},{"$f":"'1'!$CS$26","v":0},{"$f":"'1'!$CT$26","v":0},1,{"$f":"VLOOKUP(DS23,Přehled!$C$5:$AL$24,36)","v":""},null,null,null,null,null,null,null,null,null,null,null,null,null,null,null,{"$f":"'1'!$DO$26","v":0},{"$f":"'1'!$DP$26","v":0},{"$f":"'1'!$DQ$26","v":0},1,{"$f":"VLOOKUP(EM23,Přehled!$C$5:$AL$24,36)","v":""}]
[{"$f":"'1'!$A$27","v":0},{"$f":"'1'!$B$27","v":0},{"$f":"'1'!$C$27","v":0},{"$f":"SUMIF($B$5:$B$2024,Souhrn_hod[[#This Row],[Jméno]],$E$5:$E$2024)","v":0},{"$f":"'1'!$D$27","v":0},{"$f":"'1'!$E$27","v":0},{"$f":"'1'!$F$27","v":0},{"$f":"'1'!$G$27","v":0},{"$f":"'1'!$H$27","v":0},{"$f":"'1'!$I$27","v":0},{"$f":"'1'!$J$27","v":0},{"$f":"'1'!$K$27","v":0},{"$f":"'1'!$L$27","v":0},{"$f":"'1'!$M$27","v":0},{"$f":"'1'!$N$27","v":0},{"$f":"'1'!$O$27","v":0},{"$f":"'1'!$P$27","v":0},{"$f":"'1'!$Q$27","v":0},{"$f":"'1'!$R$27","v":0},{"$f":"'1'!$S$27","v":0},{"$f":"'1'!$T$27","v":0},{"$f":"'1'!$U$27","v":0},{"$f":"'1'!$V$27","v":0},{"$f":"'1'!$W$27","v":0},{"$f":"'1'!$X$27","v":0},{"$f":"'1'!$Y$27","v":0},{"$f":"'1'!$Z$27","v":0},{"$f":"'1'!$AA$27","v":0},{"$f":"'1'!$AB$27","v":0},{"$f":"'1'!$AC$27","v":0},{"$f":"'1'!$AD$27","v":0},{"$f":"'1'!$AE$27","v":0},{"$f":"'1'!$AF$27","v":0},{"$f":"'1'!$AG$27","v":0},{"$f":"'1'!$AH$27","v":0},{"$f":"'1'!$AI$27","v":0},{"$f":"'1'!$AJ$27","v":0},1,{"$f":"VLOOKUP(AL24,Přehled!$C$5:$AL$24,36)","v":""},null,null,null,null,null,null,null,null,null,null,null,null,null,null,null,null,null,null,null,null,null,null,null,null,null,null,null,null,null,{"$f":"'1'!$AO$27","v":0},{"$f":"'1'!$AP$27","v":0},{"$f":"'1'!$AQ$27","v":0},{"$f":"'1'!$AR$27","v":0},{"$f":"'1'!$AS$27","v":0},{"$f":"'1'!$AT$27","v":0},1,{"$f":"VLOOKUP(BW24,Přehled!$C$5:$AL$24,36)","v":""},null,null,null,null,null,null,null,null,null,null,null,null,null,null,null,null,null,null,null,null,{"$f":"'1'!$BP$27","v":0},{"$f":"'1'!$BQ$27","v":0},{"$f":"'1'!$BR$27","v":0},{"$f":"'1'!$BS$27","v":0},{"$f":"'1'!$BT$27","v":0},{"$f":"'1'!$BU$27","v":0},1,{"$f":"VLOOKUP(CY24,Přehled!$C$5:$AL$24,36)","v":""},null,null,null,null,null,null,null,null,null,null,null,null,null,null,null,{"$f":"'1'!$CR$27","v":0},{"$f":"'1'!$CS$27","v":0},{"$f":"'1'!$CT$27","v":0},1,{"$f":"VLOOKUP(DS24,Přehled!$C$5:$AL$24,36)","v":""},null,null,null,null,null,null,null,null,null,null,null,null,null,null,null,{"$f":"'1'!$DO$27","v":0},{"$f":"'1'!$DP$27","v":0},{"$f":"'1'!$DQ$27","v":0},1,{"$f":"VLOOKUP(EM24,Přehled!$C$5:$AL$24,36)","v":""}]
[{"$f":"'1'!$A$28","v":0},{"$f":"'1'!$B$28","v":0},{"$f":"'1'!$C$28","v":0},{"$f":"SUMIF($B$5:$B$2024,Souhrn_hod[[#This Row],[Jméno]],$E$5:$E$2024)","v":0},{"$f":"'1'!$D$28","v":0},{"$f":"'1'!$E$28","v":0},{"$f":"'1'!$F$28","v":0},{"$f":"'1'!$G$28","v":0},{"$f":"'1'!$H$28","v":0},{"$f":"'1'!$I$28","v":0},{"$f":"'1'!$J$28","v":0},{"$f":"'1'!$K$28","v":0},{"$f":"'1'!$L$28","v":0},{"$f":"'1'!$M$28","v":0},{"$f":"'1'!$N$28","v":0},{"$f":"'1'!$O$28","v":0},{"$f":"'1'!$P$28","v":0},{"$f":"'1'!$Q$28","v":0},{"$f":"'1'!$R$28","v":0},{"$f":"'1'!$S$28","v":0},{"$f":"'1'!$T$28","v":0},{"$f":"'1'!$U$28","v":0},{"$f":"'1'!$V$28","v":0},{"$f":"'1'!$W$28","v":0},{"$f":"'1'!$X$28","v":0},{"$f":"'1'!$Y$28","v":0},{"$f":"'1'!$Z$28","v":0},{"$f":"'1'!$AA$28","v":0},{"$f":"'1'!$AB$28","v":0},{"$f":"'1'!$AC$28","v":0},{"$f":"'1'!$AD$28","v":0},{"$f":"'1'!$AE$28","v":0},{"$f":"'1'!$AF$28","v":0},{"$f":"'1'!$AG$28","v":0},{"$f":"'1'!$AH$28","v":0},{"$f":"'1'!$AI$28","v":0},{"$f":"'1'!$AJ$28","v":0},1,{"$f":"VLOOKUP(AL25,Přehled!$C$5:$AL$24,36)","v":""},null,null,null,null,null,null,null,null,null,null,null,null,null,null,null,null,null,null,null,null,null,null,null,null,null,null,null,null,null,{"$f":"'1'!$AO$28","v":0},{"$f":"'1'!$AP$28","v":0},{"$f":"'1'!$AQ$28","v":0},{"$f":"'1'!$AR$28","v":0},{"$f":"'1'!$AS$28","v":0},{"$f":"'1'!$AT$28","v":0},1,{"$f":"VLOOKUP(BW25,Přehled!$C$5:$AL$24,36)","v":""},null,null,null,null,null,null,null,null,null,null,null,null,null,null,null,null,null,null,null,null,{"$f":"'1'!$BP$28","v":0},{"$f":"'1'!$BQ$28","v":0},{"$f":"'1'!$BR$28","v":0},{"$f":"'1'!$BS$28","v":0},{"$f":"'1'!$BT$28","v":0},{"$f":"'1'!$BU$28","v":0},1,{"$f":"VLOOKUP(CY25,Přehled!$C$5:$AL$24,36)","v":""},null,null,null,null,null,null,null,null,null,null,null,null,null,null,null,{"$f":"'1'!$CR$28","v":0},{"$f":"'1'!$CS$28","v":0},{"$f":"'1'!$CT$28","v":0},1,{"$f":"VLOOKUP(DS25,Přehled!$C$5:$AL$24,36)","v":""},null,null,null,null,null,null,null,null,null,null,null,null,null,null,null,{"$f":"'1'!$DO$28","v":0},{"$f":"'1'!$DP$28","v":0},{"$f":"'1'!$DQ$28","v":0},1,{"$f":"VLOOKUP(EM25,Přehled!$C$5:$AL$24,36)","v":""}]
[{"$f":"'1'!$A$29","v":0},{"$f":"'1'!$B$29","v":0},{"$f":"'1'!$C$29","v":0},{"$f":"SUMIF($B$5:$B$2024,Souhrn_hod[[#This Row],[Jméno]],$E$5:$E$2024)","v":0},{"$f":"'1'!$D$29","v":0},{"$f":"'1'!$E$29","v":0},{"$f":"'1'!$F$29","v":0},{"$f":"'1'!$G$29","v":0},{"$f":"'1'!$H$29","v":0},{"$f":"'1'!$I$29","v":0},{"$f":"'1'!$J$29","v":0},{"$f":"'1'!$K$29","v":0},{"$f":"'1'!$L$29","v":0},{"$f":"'1'!$M$29","v":0},{"$f":"'1'!$N$29","v":0},{"$f":"'1'!$O$29","v":0},{"$f":"'1'!$P$29","v":0},{"$f":"'1'!$Q$29","v":0},{"$f":"'1'!$R$29","v":0},{"$f":"'1'!$S$29","v":0},{"$f":"'1'!$T$29","v":0},{"$f":"'1'!$U$29","v":0},{"$f":"'1'!$V$29","v":0},{"$f":"'1'!$W$29","v":0},{"$f":"'1'!$X$29","v":0},{"$f":"'1'!$Y$29","v":0},{"$f":"'1'!$Z$29","v":0},{"$f":"'1'!$AA$29","v":0},{"$f":"'1'!$AB$29","v":0},{"$f":"'1'!$AC$29","v":0},{"$f":"'1'!$AD$29","v":0},{"$f":"'1'!$AE$29","v":0},{"$f":"'1'!$AF$29","v":0},{"$f":"'1'!$AG$29","v":0},{"$f":"'1'!$AH$29","v":0},{"$f":"'1'!$AI$29","v":0},{"$f":"'1'!$AJ$29","v":0},1,{"$f":"VLOOKUP(AL26,Přehled!$C$5:$AL$24,36)","v":""},null,null,null,null,null,null,null,null,null,null,null,null,null,null,null,null,null,null,null,null,null,null,null,null,null,null,null,null,null,{"$f":"'1'!$AO$29","v":0},{"$f":"'1'!$AP$29","v":0},{"$f":"'1'!$AQ$29","v":0},{"$f":"'1'!$AR$29","v":0},{"$f":"'1'!$AS$29","v":0},{"$f":"'1'!$AT$29","v":0},1,{"$f":"VLOOKUP(BW26,Přehled!$C$5:$AL$24,36)","v":""},null,null,null,null,null,null,null,null,null,null,null,null,null,null,null,null,null,null,null,null,{"$f":"'1'!$BP$29","v":0},{"$f":"'1'!$BQ$29","v":0},{"$f":"'1'!$BR$29","v":0},{"$f":"'1'!$BS$29","v":0},{"$f":"'1'!$BT$29","v":0},{"$f":"'1'!$BU$29","v":0},1,{"$f":"VLOOKUP(CY26,Přehled!$C$5:$AL$24,36)","v":""},null,null,null,null,null,null,null,null,null,null,null,null,null,null,null,{"$f":"'1'!$CR$29","v":0},{"$f":"'1'!$CS$29","v":0},{"$f":"'1'!$CT$29","v":0},1,{"$f":"VLOOKUP(DS26,Přehled!$C$5:$AL$24,36)","v":""},null,null,null,null,null,null,null,null,null,null,null,null,null,null,null,{"$f":"'1'!$DO$29","v":0},{"$f":"'1'!$DP$29","v":0},{"$f":"'1'!$DQ$29","v":0},1,{"$f":"VLOOKUP(EM26,Přehled!$C$5:$AL$24,36)","v":""}]
[{"$f":"'1'!$A$30","v":0},{"$f":"'1'!$B$30","v":0},{"$f":"'1'!$C$30","v":0},{"$f":"SUMIF($B$5:$B$2024,Souhrn_hod[[#This Row],[Jméno]],$E$5:$E$2024)","v":0},{"$f":"'1'!$D$30","v":0},{"$f":"'1'!$E$30","v":0},{"$f":"'1'!$F$30","v":0},{"$f":"'1'!$G$30","v":0},{"$f":"'1'!$H$30","v":0},{"$f":"'1'!$I$30","v":0},{"$f":"'1'!$J$30","v":0},{"$f":"'1'!$K$30","v":0},{"$f":"'1'!$L$30","v":0},{"$f":"'1'!$M$30","v":0},{"$f":"'1'!$N$30","v":0},{"$f":"'1'!$O$30","v":0},{"$f":"'1'!$P$30","v":0},{"$f":"'1'!$Q$30","v":0},{"$f":"'1'!$R$30","v":0},{"$f":"'1'!$S$30","v":0},{"$f":"'1'!$T$30","v":0},{"$f":"'1'!$U$30","v":0},{"$f":"'1'!$V$30","v":0},{"$f":"'1'!$W$30","v":0},{"$f":"'1'!$X$30","v":0},{"$f":"'1'!$Y$30","v":0},{"$f":"'1'!$Z$30","v":0},{"$f":"'1'!$AA$30","v":0},{"$f":"'1'!$AB$30","v":0},{"$f":"'1'!$AC$30","v":0},{"$f":"'1'!$AD$30","v":0},{"$f":"'1'!$AE$30","v":0},{"$f":"'1'!$AF$30","v":0},{"$f":"'1'!$AG$30","v":0},{"$f":"'1'!$AH$30","v":0},{"$f":"'1'!$AI$30","v":0},{"$f":"'1'!$AJ$30","v":0},1,{"$f":"VLOOKUP(AL27,Přehled!$C$5:$AL$24,36)","v":""},null,null,null,null,null,null,null,null,null,null,null,null,null,null,null,null,null,null,null,null,null,null,null,null,null,null,null,null,null,{"$f":"'1'!$AO$30","v":0},{"$f":"'1'!$AP$30","v":0},{"$f":"'1'!$AQ$30","v":0},{"$f":"'1'!$AR$30","v":0},{"$f":"'1'!$AS$30","v":0},{"$f":"'1'!$AT$30","v":0},1,{"$f":"VLOOKUP(BW27,Přehled!$C$5:$AL$24,36)","v":""},null,null,null,null,null,null,null,null,null,null,null,null,null,null,null,null,null,null,null,null,{"$f":"'1'!$BP$30","v":0},{"$f":"'1'!$BQ$30","v":0},{"$f":"'1'!$BR$30","v":0},{"$f":"'1'!$BS$30","v":0},{"$f":"'1'!$BT$30","v":0},{"$f":"'1'!$BU$30","v":0},1,{"$f":"VLOOKUP(CY27,Přehled!$C$5:$AL$24,36)","v":""},null,null,null,null,null,null,null,null,null,null,null,null,null,null,null,{"$f":"'1'!$CR$30","v":0},{"$f":"'1'!$CS$30","v":0},{"$f":"'1'!$CT$30","v":0},1,{"$f":"VLOOKUP(DS27,Přehled!$C$5:$AL$24,36)","v":""},null,null,null,null,null,null,null,null,null,null,null,null,null,null,null,{"$f":"'1'!$DO$30","v":0},{"$f":"'1'!$DP$30","v":0},{"$f":"'1'!$DQ$30","v":0},1,{"$f":"VLOOKUP(EM27,Přehled!$C$5:$AL$24,36)","v":""}]
[{"$f":"'1'!$A$31","v":0},{"$f":"'1'!$B$31","v":0},{"$f":"'1'!$C$31","v":0},{"$f":"SUMIF($B$5:$B$2024,Souhrn_hod[[#This Row],[Jméno]],$E$5:$E$2024)","v":0},{"$f":"'1'!$D$31","v":0},{"$f":"'1'!$E$31","v":0},{"$f":"'1'!$F$31","v":0},{"$f":"'1'!$G$31","v":0},{"$f":"'1'!$H$31","v":0},{"$f":"'1'!$I$31","v":0},{"$f":"'1'!$J$31","v":0},{"$f":"'1'!$K$31","v":0},{"$f":"'1'!$L$31","v":0},{"$f":"'1'!$M$31","v":0},{"$f":"'1'!$N$31","v":0},{"$f":"'1'!$O$31","v":0},{"$f":"'1'!$P$31","v":0},{"$f":"'1'!$Q$31","v":0},{"$f":"'1'!$R$31","v":0},{"$f":"'1'!$S$31","v":0},{"$f":"'1'!$T$31","v":0},{"$f":"'1'!$U$31","v":0},{"$f":"'1'!$V$31","v":0},{"$f":"'1'!$W$31","v":0},{"$f":"'1'!$X$31","v":0},{"$f":"'1'!$Y$31","v":0},{"$f":"'1'!$Z$31","v":0},{"$f":"'1'!$AA$31","v":0},{"$f":"'1'!$AB$31","v":0},{"$f":"'1'!$AC$31","v":0},{"$f":"'1'!$AD$31","v":0},{"$f":"'1'!$AE$31","v":0},{"$f":"'1'!$AF$31","v":0},{"$f":"'1'!$AG$31","v":0},{"$f":"'1'!$AH$31","v":0},{"$f":"'1'!$AI$31","v":0},{"$f":"'1'!$AJ$31","v":0},1,{"$f":"VLOOKUP(AL28,Přehled!$C$5:$AL$24,36)","v":""},null,null,null,null,null,null,null,null,null,null,null,null,null,null,null,null,null,null,null,null,null,null,null,null,null,null,null,null,null,{"$f":"'1'!$AO$31","v":0},{"$f":"'1'!$AP$31","v":0},{"$f":"'1'!$AQ$31","v":0},{"$f":"'1'!$AR$31","v":0},{"$f":"'1'!$AS$31","v":0},{"$f":"'1'!$AT$31","v":0},1,{"$f":"VLOOKUP(BW28,Přehled!$C$5:$AL$24,36)","v":""},null,null,null,null,null,null,null,null,null,null,null,null,null,null,null,null,null,null,null,null,{"$f":"'1'!$BP$31","v":0},{"$f":"'1'!$BQ$31","v":0},{"$f":"'1'!$BR$31","v":0},{"$f":"'1'!$BS$31","v":0},{"$f":"'1'!$BT$31","v":0},{"$f":"'1'!$BU$31","v":0},1,{"$f":"VLOOKUP(CY28,Přehled!$C$5:$AL$24,36)","v":""},null,null,null,null,null,null,null,null,null,null,null,null,null,null,null,{"$f":"'1'!$CR$31","v":0},{"$f":"'1'!$CS$31","v":0},{"$f":"'1'!$CT$31","v":0},1,{"$f":"VLOOKUP(DS28,Přehled!$C$5:$AL$24,36)","v":""},null,null,null,null,null,null,null,null,null,null,null,null,null,null,null,{"$f":"'1'!$DO$31","v":0},{"$f":"'1'!$DP$31","v":0},{"$f":"'1'!$DQ$31","v":0},1,{"$f":"VLOOKUP(EM28,Přehled!$C$5:$AL$24,36)","v":""}]
[{"$f":"'1'!$A$32","v":0},{"$f":"'1'!$B$32","v":0},{"$f":"'1'!$C$32","v":0},{"$f":"SUMIF($B$5:$B$2024,Souhrn_hod[[#This Row],[Jméno]],$E$5:$E$2024)","v":0},{"$f":"'1'!$D$32","v":0},{"$f":"'1'!$E$32","v":0},{"$f":"'1'!$F$32","v":0},{"$f":"'1'!$G$32","v":0},{"$f":"'1'!$H$32","v":0},{"$f":"'1'!$I$32","v":0},{"$f":"'1'!$J$32","v":0},{"$f":"'1'!$K$32","v":0},{"$f":"'1'!$L$32","v":0},{"$f":"'1'!$M$32","v":0},{"$f":"'1'!$N$32","v":0},{"$f":"'1'!$O$32","v":0},{"$f":"'1'!$P$32","v":0},{"$f":"'1'!$Q$32","v":0},{"$f":"'1'!$R$32","v":0},{"$f":"'1'!$S$32","v":0},{"$f":"'1'!$T$32","v":0},{"$f":"'1'!$U$32","v":0},{"$f":"'1'!$V$32","v":0},{"$f":"'1'!$W$32","v":0},{"$f":"'1'!$X$32","v":0},{"$f":"'1'!$Y$32","v":0},{"$f":"'1'!$Z$32","v":0},{"$f":"'1'!$AA$32","v":0},{"$f":"'1'!$AB$32","v":0},{"$f":"'1'!$AC$32","v":0},{"$f":"'1'!$AD$32","v":0},{"$f":"'1'!$AE$32","v":0},{"$f":"'1'!$AF$32","v":0},{"$f":"'1'!$AG$32","v":0},{"$f":"'1'!$AH$32","v":0},{"$f":"'1'!$AI$32","v":0},{"$f":"'1'!$AJ$32","v":0},1,{"$f":"VLOOKUP(AL29,Přehled!$C$5:$AL$24,36)","v":""},null,null,null,null,null,null,null,null,null,null,null,null,null,null,null,null,null,null,null,null,null,null,null,null,null,null,null,null,null,{"$f":"'1'!$AO$32","v":0},{"$f":"'1'!$AP$32","v":0},{"$f":"'1'!$AQ$32","v":0},{"$f":"'1'!$AR$32","v":0},{"$f":"'1'!$AS$32","v":0},{"$f":"'1'!$AT$32","v":0},1,{"$f":"VLOOKUP(BW29,Přehled!$C$5:$AL$24,36)","v":""},null,null,null,null,null,null,null,null,null,null,null,null,null,null,null,null,null,null,null,null,{"$f":"'1'!$BP$32","v":0},{"$f":"'1'!$BQ$32","v":0},{"$f":"'1'!$BR$32","v":0},{"$f":"'1'!$BS$32","v":0},{"$f":"'1'!$BT$32","v":0},{"$f":"'1'!$BU$32","v":0},1,{"$f":"VLOOKUP(CY29,Přehled!$C$5:$AL$24,36)","v":""},null,null,null,null,null,null,null,null,null,null,null,null,null,null,null,{"$f":"'1'!$CR$32","v":0},{"$f":"'1'!$CS$32","v":0},{"$f":"'1'!$CT$32","v":0},1,{"$f":"VLOOKUP(DS29,Přehled!$C$5:$AL$24,36)","v":""},null,null,null,null,null,null,null,null,null,null,null,null,null,null,null,{"$f":"'1'!$DO$32","v":0},{"$f":"'1'!$DP$32","v":0},{"$f":"'1'!$DQ$32","v":0},1,{"$f":"VLOOKUP(EM29,Přehled!$C$5:$AL$24,36)","v":""}]
[{"$f":"'1'!$A$33","v":0},{"$f":"'1'!$B$33","v":0},{"$f":"'1'!$C$33","v":0},{"$f":"SUMIF($B$5:$B$2024,Souhrn_hod[[#This Row],[Jméno]],$E$5:$E$2024)","v":0},{"$f":"'1'!$D$33","v":0},{"$f":"'1'!$E$33","v":0},{"$f":"'1'!$F$33","v":0},{"$f":"'1'!$G$33","v":0},{"$f":"'1'!$H$33","v":0},{"$f":"'1'!$I$33","v":0},{"$f":"'1'!$J$33","v":0},{"$f":"'1'!$K$33","v":0},{"$f":"'1'!$L$33","v":0},{"$f":"'1'!$M$33","v":0},{"$f":"'1'!$N$33","v":0},{"$f":"'1'!$O$33","v":0},{"$f":"'1'!$P$33","v":0},{"$f":"'1'!$Q$33","v":0},{"$f":"'1'!$R$33","v":0},{"$f":"'1'!$S$33","v":0},{"$f":"'1'!$T$33","v":0},{"$f":"'1'!$U$33","v":0},{"$f":"'1'!$V$33","v":0},{"$f":"'1'!$W$33","v":0},{"$f":"'1'!$X$33","v":0},{"$f":"'1'!$Y$33","v":0},{"$f":"'1'!$Z$33","v":0},{"$f":"'1'!$AA$33","v":0},{"$f":"'1'!$AB$33","v":0},{"$f":"'1'!$AC$33","v":0},{"$f":"'1'!$AD$33","v":0},{"$f":"'1'!$AE$33","v":0},{"$f":"'1'!$AF$33","v":0},{"$f":"'1'!$AG$33","v":0},{"$f":"'1'!$AH$33","v":0},{"$f":"'1'!$AI$33","v":0},{"$f":"'1'!$AJ$33","v":0},1,{"$f":"VLOOKUP(AL30,Přehled!$C$5:$AL$24,36)","v":""},null,null,null,null,null,null,null,null,null,null,null,null,null,null,null,null,null,null,null,null,null,null,null,null,null,null,null,null,null,{"$f":"'1'!$AO$33","v":0},{"$f":"'1'!$AP$33","v":0},{"$f":"'1'!$AQ$33","v":0},{"$f":"'1'!$AR$33","v":0},{"$f":"'1'!$AS$33","v":0},{"$f":"'1'!$AT$33","v":0},1,{"$f":"VLOOKUP(BW30,Přehled!$C$5:$AL$24,36)","v":""},null,null,null,null,null,null,null,null,null,null,null,null,null,null,null,null,null,null,null,null,{"$f":"'1'!$BP$33","v":0},{"$f":"'1'!$BQ$33","v":0},{"$f":"'1'!$BR$33","v":0},{"$f":"'1'!$BS$33","v":0},{"$f":"'1'!$BT$33","v":0},{"$f":"'1'!$BU$33","v":0},1,{"$f":"VLOOKUP(CY30,Přehled!$C$5:$AL$24,36)","v":""},null,null,null,null,null,null,null,null,null,null,null,null,null,null,null,{"$f":"'1'!$CR$33","v":0},{"$f":"'1'!$CS$33","v":0},{"$f":"'1'!$CT$33","v":0},1,{"$f":"VLOOKUP(DS30,Přehled!$C$5:$AL$24,36)","v":""},null,null,null,null,null,null,null,null,null,null,null,null,null,null,null,{"$f":"'1'!$DO$33","v":0},{"$f":"'1'!$DP$33","v":0},{"$f":"'1'!$DQ$33","v":0},1,{"$f":"VLOOKUP(EM30,Přehled!$C$5:$AL$24,36)","v":""}]
[{"$f":"'1'!$A$34","v":0},{"$f":"'1'!$B$34","v":0},{"$f":"'1'!$C$34","v":0},{"$f":"SUMIF($B$5:$B$2024,Souhrn_hod[[#This Row],[Jméno]],$E$5:$E$2024)","v":0},{"$f":"'1'!$D$34","v":0},{"$f":"'1'!$E$34","v":0},{"$f":"'1'!$F$34","v":0},{"$f":"'1'!$G$34","v":0},{"$f":"'1'!$H$34","v":0},{"$f":"'1'!$I$34","v":0},{"$f":"'1'!$J$34","v":0},{"$f":"'1'!$K$34","v":0},{"$f":"'1'!$L$34","v":0},{"$f":"'1'!$M$34","v":0},{"$f":"'1'!$N$34","v":0},{"$f":"'1'!$O$34","v":0},{"$f":"'1'!$P$34","v":0},{"$f":"'1'!$Q$34","v":0},{"$f":"'1'!$R$34","v":0},{"$f":"'1'!$S$34","v":0},{"$f":"'1'!$T$34","v":0},{"$f":"'1'!$U$34","v":0},{"$f":"'1'!$V$34","v":0},{"$f":"'1'!$W$34","v":0},{"$f":"'1'!$X$34","v":0},{"$f":"'1'!$Y$34","v":0},{"$f":"'1'!$Z$34","v":0},{"$f":"'1'!$AA$34","v":0},{"$f":"'1'!$AB$34","v":0},{"$f":"'1'!$AC$34","v":0},{"$f":"'1'!$AD$34","v":0},{"$f":"'1'!$AE$34","v":0},{"$f":"'1'!$AF$34","v":0},{"$f":"'1'!$AG$34","v":0},{"$f":"'1'!$AH$34","v":0},{"$f":"'1'!$AI$34","v":0},{"$f":"'1'!$AJ$34","v":0},1,{"$f":"VLOOKUP(AL31,Přehled!$C$5:$AL$24,36)","v":""},null,null,null,null,null,null,null,null,null,null,null,null,null,null,null,null,null,null,null,null,null,null,null,null,null,null,null,null,null,{"$f":"'1'!$AO$34","v":0},{"$f":"'1'!$AP$34","v":0},{"$f":"'1'!$AQ$34","v":0},{"$f":"'1'!$AR$34","v":0},{"$f":"'1'!$AS$34","v":0},{"$f":"'1'!$AT$34","v":0},1,{"$f":"VLOOKUP(BW31,Přehled!$C$5:$AL$24,36)","v":""},null,null,null,null,null,null,null,null,null,null,null,null,null,null,null,null,null,null,null,null,{"$f":"'1'!$BP$34","v":0},{"$f":"'1'!$BQ$34","v":0},{"$f":"'1'!$BR$34","v":0},{"$f":"'1'!$BS$34","v":0},{"$f":"'1'!$BT$34","v":0},{"$f":"'1'!$BU$34","v":0},1,{"$f":"VLOOKUP(CY31,Přehled!$C$5:$AL$24,36)","v":""},null,null,null,null,null,null,null,null,null,null,null,null,null,null,null,{"$f":"'1'!$CR$34","v":0},{"$f":"'1'!$CS$34","v":0},{"$f":"'1'!$CT$34","v":0},1,{"$f":"VLOOKUP(DS31,Přehled!$C$5:$AL$24,36)","v":""},null,null,null,null,null,null,null,null,null,null,null,null,null,null,null,{"$f":"'1'!$DO$34","v":0},{"$f":"'1'!$DP$34","v":0},{"$f":"'1'!$DQ$34","v":0},1,{"$f":"VLOOKUP(EM31,Přehled!$C$5:$AL$24,36)","v":""}]
[{"$f":"'1'!$A$35","v":0},{"$f":"'1'!$B$35","v":0},{"$f":"'1'!$C$35","v":0},{"$f":"SUMIF($B$5:$B$2024,Souhrn_hod[[#This Row],[Jméno]],$E$5:$E$2024)","v":0},{"$f":"'1'!$D$35","v":0},{"$f":"'1'!$E$35","v":0},{"$f":"'1'!$F$35","v":0},{"$f":"'1'!$G$35","v":0},{"$f":"'1'!$H$35","v":0},{"$f":"'1'!$I$35","v":0},{"$f":"'1'!$J$35","v":0},{"$f":"'1'!$K$35","v":0},{"$f":"'1'!$L$35","v":0},{"$f":"'1'!$M$35","v":0},{"$f":"'1'!$N$35","v":0},{"$f":"'1'!$O$35","v":0},{"$f":"'1'!$P$35","v":0},{"$f":"'1'!$Q$35","v":0},{"$f":"'1'!$R$35","v":0},{"$f":"'1'!$S$35","v":0},{"$f":"'1'!$T$35","v":0},{"$f":"'1'!$U$35","v":0},{"$f":"'1'!$V$35","v":0},{"$f":"'1'!$W$35","v":0},{"$f":"'1'!$X$35","v":0},{"$f":"'1'!$Y$35","v":0},{"$f":"'1'!$Z$35","v":0},{"$f":"'1'!$AA$35","v":0},{"$f":"'1'!$AB$35","v":0},{"$f":"'1'!$AC$35","v":0},{"$f":"'1'!$AD$35","v":0},{"$f":"'1'!$AE$35","v":0},{"$f":"'1'!$AF$35","v":0},{"$f":"'1'!$AG$35","v":0},{"$f":"'1'!$AH$35","v":0},{"$f":"'1'!$AI$35","v":0},{"$f":"'1'!$AJ$35","v":0},1,{"$f":"VLOOKUP(AL32,Přehled!$C$5:$AL$24,36)","v":""},null,null,null,null,null,null,null,null,null,null,null,null,null,null,null,null,null,null,null,null,null,null,null,null,null,null,null,null,null,{"$f":"'1'!$AO$35","v":0},{"$f":"'1'!$AP$35","v":0},{"$f":"'1'!$AQ$35","v":0},{"$f":"'1'!$AR$35","v":0},{"$f":"'1'!$AS$35","v":0},{"$f":"'1'!$AT$35","v":0},1,{"$f":"VLOOKUP(BW32,Přehled!$C$5:$AL$24,36)","v":""},null,null,null,null,null,null,null,null,null,null,null,null,null,null,null,null,null,null,null,null,{"$f":"'1'!$BP$35","v":0},{"$f":"'1'!$BQ$35","v":0},{"$f":"'1'!$BR$35","v":0},{"$f":"'1'!$BS$35","v":0},{"$f":"'1'!$BT$35","v":0},{"$f":"'1'!$BU$35","v":0},1,{"$f":"VLOOKUP(CY32,Přehled!$C$5:$AL$24,36)","v":""},null,null,null,null,null,null,null,null,null,null,null,null,null,null,null,{"$f":"'1'!$CR$35","v":0},{"$f":"'1'!$CS$35","v":0},{"$f":"'1'!$CT$35","v":0},1,{"$f":"VLOOKUP(DS32,Přehled!$C$5:$AL$24,36)","v":""},null,null,null,null,null,null,null,null,null,null,null,null,null,null,null,{"$f":"'1'!$DO$35","v":0},{"$f":"'1'!$DP$35","v":0},{"$f":"'1'!$DQ$35","v":0},1,{"$f":"VLOOKUP(EM32,Přehled!$C$5:$AL$24,36)","v":""}]
[{"$f":"'1'!$A$36","v":0},{"$f":"'1'!$B$36","v":0},{"$f":"'1'!$C$36","v":0},{"$f":"SUMIF($B$5:$B$2024,Souhrn_hod[[#This Row],[Jméno]],$E$5:$E$2024)","v":0},{"$f":"'1'!$D$36","v":0},{"$f":"'1'!$E$36","v":0},{"$f":"'1'!$F$36","v":0},{"$f":"'1'!$G$36","v":0},{"$f":"'1'!$H$36","v":0},{"$f":"'1'!$I$36","v":0},{"$f":"'1'!$J$36","v":0},{"$f":"'1'!$K$36","v":0},{"$f":"'1'!$L$36","v":0},{"$f":"'1'!$M$36","v":0},{"$f":"'1'!$N$36","v":0},{"$f":"'1'!$O$36","v":0},{"$f":"'1'!$P$36","v":0},{"$f":"'1'!$Q$36","v":0},{"$f":"'1'!$R$36","v":0},{"$f":"'1'!$S$36","v":0},{"$f":"'1'!$T$36","v":0},{"$f":"'1'!$U$36","v":0},{"$f":"'1'!$V$36","v":0},{"$f":"'1'!$W$36","v":0},{"$f":"'1'!$X$36","v":0},{"$f":"'1'!$Y$36","v":0},{"$f":"'1'!$Z$36","v":0},{"$f":"'1'!$AA$36","v":0},{"$f":"'1'!$AB$36","v":0},{"$f":"'1'!$AC$36","v":0},{"$f":"'1'!$AD$36","v":0},{"$f":"'1'!$AE$36","v":0},{"$f":"'1'!$AF$36","v":0},{"$f":"'1'!$AG$36","v":0},{"$f":"'1'!$AH$36","v":0},{"$f":"'1'!$AI$36","v":0},{"$f":"'1'!$AJ$36","v":0},1,{"$f":"VLOOKUP(AL33,Přehled!$C$5:$AL$24,36)","v":""},null,null,null,null,null,null,null,null,null,null,null,null,null,null,null,null,null,null,null,null,null,null,null,null,null,null,null,null,null,{"$f":"'1'!$AO$36","v":0},{"$f":"'1'!$AP$36","v":0},{"$f":"'1'!$AQ$36","v":0},{"$f":"'1'!$AR$36","v":0},{"$f":"'1'!$AS$36","v":0},{"$f":"'1'!$AT$36","v":0},1,{"$f":"VLOOKUP(BW33,Přehled!$C$5:$AL$24,36)","v":""},null,null,null,null,null,null,null,null,null,null,null,null,null,null,null,null,null,null,null,null,{"$f":"'1'!$BP$36","v":0},{"$f":"'1'!$BQ$36","v":0},{"$f":"'1'!$BR$36","v":0},{"$f":"'1'!$BS$36","v":0},{"$f":"'1'!$BT$36","v":0},{"$f":"'1'!$BU$36","v":0},1,{"$f":"VLOOKUP(CY33,Přehled!$C$5:$AL$24,36)","v":""},null,null,null,null,null,null,null,null,null,null,null,null,null,null,null,{"$f":"'1'!$CR$36","v":0},{"$f":"'1'!$CS$36","v":0},{"$f":"'1'!$CT$36","v":0},1,{"$f":"VLOOKUP(DS33,Přehled!$C$5:$AL$24,36)","v":""},null,null,null,null,null,null,null,null,null,null,null,null,null,null,null,{"$f":"'1'!$DO$36","v":0},{"$f":"'1'!$DP$36","v":0},{"$f":"'1'!$DQ$36","v":0},1,{"$f":"VLOOKUP(EM33,Přehled!$C$5:$AL$24,36)","v":""}]
[{"$f":"'1'!$A$37","v":0},{"$f":"'1'!$B$37","v":0},{"$f":"'1'!$C$37","v":0},{"$f":"SUMIF($B$5:$B$2024,Souhrn_hod[[#This Row],[Jméno]],$E$5:$E$2024)","v":0},{"$f":"'1'!$D$37","v":0},{"$f":"'1'!$E$37","v":0},{"$f":"'1'!$F$37","v":0},{"$f":"'1'!$G$37","v":0},{"$f":"'1'!$H$37","v":0},{"$f":"'1'!$I$37","v":0},{"$f":"'1'!$J$37","v":0},{"$f":"'1'!$K$37","v":0},{"$f":"'1'!$L$37","v":0},{"$f":"'1'!$M$37","v":0},{"$f":"'1'!$N$37","v":0},{"$f":"'1'!$O$37","v":0},{"$f":"'1'!$P$37","v":0},{"$f":"'1'!$Q$37","v":0},{"$f":"'1'!$R$37","v":0},{"$f":"'1'!$S$37","v":0},{"$f":"'1'!$T$37","v":0},{"$f":"'1'!$U$37","v":0},{"$f":"'1'!$V$37","v":0},{"$f":"'1'!$W$37","v":0},{"$f":"'1'!$X$37","v":0},{"$f":"'1'!$Y$37","v":0},{"$f":"'1'!$Z$37","v":0},{"$f":"'1'!$AA$37","v":0},{"$f":"'1'!$AB$37","v":0},{"$f":"'1'!$AC$37","v":0},{"$f":"'1'!$AD$37","v":0},{"$f":"'1'!$AE$37","v":0},{"$f":"'1'!$AF$37","v":0},{"$f":"'1'!$AG$37","v":0},{"$f":"'1'!$AH$37","v":0},{"$f":"'1'!$AI$37","v":0},{"$f":"'1'!$AJ$37","v":0},1,{"$f":"VLOOKUP(AL34,Přehled!$C$5:$AL$24,36)","v":""},null,null,null,null,null,null,null,null,null,null,null,null,null,null,null,null,null,null,null,null,null,null,null,null,null,null,null,null,null,{"$f":"'1'!$AO$37","v":0},{"$f":"'1'!$AP$37","v":0},{"$f":"'1'!$AQ$37","v":0},{"$f":"'1'!$AR$37","v":0},{"$f":"'1'!$AS$37","v":0},{"$f":"'1'!$AT$37","v":0},1,{"$f":"VLOOKUP(BW34,Přehled!$C$5:$AL$24,36)","v":""},null,null,null,null,null,null,null,null,null,null,null,null,null,null,null,null,null,null,null,null,{"$f":"'1'!$BP$37","v":0},{"$f":"'1'!$BQ$37","v":0},{"$f":"'1'!$BR$37","v":0},{"$f":"'1'!$BS$37","v":0},{"$f":"'1'!$BT$37","v":0},{"$f":"'1'!$BU$37","v":0},1,{"$f":"VLOOKUP(CY34,Přehled!$C$5:$AL$24,36)","v":""},null,null,null,null,null,null,null,null,null,null,null,null,null,null,null,{"$f":"'1'!$CR$37","v":0},{"$f":"'1'!$CS$37","v":0},{"$f":"'1'!$CT$37","v":0},1,{"$f":"VLOOKUP(DS34,Přehled!$C$5:$AL$24,36)","v":""},null,null,null,null,null,null,null,null,null,null,null,null,null,null,null,{"$f":"'1'!$DO$37","v":0},{"$f":"'1'!$DP$37","v":0},{"$f":"'1'!$DQ$37","v":0},1,{"$f":"VLOOKUP(EM34,Přehled!$C$5:$AL$24,36)","v":""}]
[{"$f":"'1'!$A$38","v":0},{"$f":"'1'!$B$38","v":0},{"$f":"'1'!$C$38","v":0},{"$f":"SUMIF($B$5:$B$2024,Souhrn_hod[[#This Row],[Jméno]],$E$5:$E$2024)","v":0},{"$f":"'1'!$D$38","v":0},{"$f":"'1'!$E$38","v":0},{"$f":"'1'!$F$38","v":0},{"$f":"'1'!$G$38","v":0},{"$f":"'1'!$H$38","v":0},{"$f":"'1'!$I$38","v":0},{"$f":"'1'!$J$38","v":0},{"$f":"'1'!$K$38","v":0},{"$f":"'1'!$L$38","v":0},{"$f":"'1'!$M$38","v":0},{"$f":"'1'!$N$38","v":0},{"$f":"'1'!$O$38","v":0},{"$f":"'1'!$P$38","v":0},{"$f":"'1'!$Q$38","v":0},{"$f":"'1'!$R$38","v":0},{"$f":"'1'!$S$38","v":0},{"$f":"'1'!$T$38","v":0},{"$f":"'1'!$U$38","v":0},{"$f":"'1'!$V$38","v":0},{"$f":"'1'!$W$38","v":0},{"$f":"'1'!$X$38","v":0},{"$f":"'1'!$Y$38","v":0},{"$f":"'1'!$Z$38","v":0},{"$f":"'1'!$AA$38","v":0},{"$f":"'1'!$AB$38","v":0},{"$f":"'1'!$AC$38","v":0},{"$f":"'1'!$AD$38","v":0},{"$f":"'1'!$AE$38","v":0},{"$f":"'1'!$AF$38","v":0},{"$f":"'1'!$AG$38","v":0},{"$f":"'1'!$AH$38","v":0},{"$f":"'1'!$AI$38","v":0},{"$f":"'1'!$AJ$38","v":0},1,{"$f":"VLOOKUP(AL35,Přehled!$C$5:$AL$24,36)","v":""},null,null,null,null,null,null,null,null,null,null,null,null,null,null,null,null,null,null,null,null,null,null,null,null,null,null,null,null,null,{"$f":"'1'!$AO$38","v":0},{"$f":"'1'!$AP$38","v":0},{"$f":"'1'!$AQ$38","v":0},{"$f":"'1'!$AR$38","v":0},{"$f":"'1'!$AS$38","v":0},{"$f":"'1'!$AT$38","v":0},1,{"$f":"VLOOKUP(BW35,Přehled!$C$5:$AL$24,36)","v":""},null,null,null,null,null,null,null,null,null,null,null,null,null,null,null,null,null,null,null,null,{"$f":"'1'!$BP$38","v":0},{"$f":"'1'!$BQ$38","v":0},{"$f":"'1'!$BR$38","v":0},{"$f":"'1'!$BS$38","v":0},{"$f":"'1'!$BT$38","v":0},{"$f":"'1'!$BU$38","v":0},1,{"$f":"VLOOKUP(CY35,Přehled!$C$5:$AL$24,36)","v":""},null,null,null,null,null,null,null,null,null,null,null,null,null,null,null,{"$f":"'1'!$CR$38","v":0},{"$f":"'1'!$CS$38","v":0},{"$f":"'1'!$CT$38","v":0},1,{"$f":"VLOOKUP(DS35,Přehled!$C$5:$AL$24,36)","v":""},null,null,null,null,null,null,null,null,null,null,null,null,null,null,null,{"$f":"'1'!$DO$38","v":0},{"$f":"'1'!$DP$38","v":0},{"$f":"'1'!$DQ$38","v":0},1,{"$f":"VLOOKUP(EM35,Přehled!$C$5:$AL$24,36)","v":""}]
[{"$f":"'1'!$A$39","v":0},{"$f":"'1'!$B$39","v":0},{"$f":"'1'!$C$39","v":0},{"$f":"SUMIF($B$5:$B$2024,Souhrn_hod[[#This Row],[Jméno]],$E$5:$E$2024)","v":0},{"$f":"'1'!$D$39","v":0},{"$f":"'1'!$E$39","v":0},{"$f":"'1'!$F$39","v":0},{"$f":"'1'!$G$39","v":0},{"$f":"'1'!$H$39","v":0},{"$f":"'1'!$I$39","v":0},{"$f":"'1'!$J$39","v":0},{"$f":"'1'!$K$39","v":0},{"$f":"'1'!$L$39","v":0},{"$f":"'1'!$M$39","v":0},{"$f":"'1'!$N$39","v":0},{"$f":"'1'!$O$39","v":0},{"$f":"'1'!$P$39","v":0},{"$f":"'1'!$Q$39","v":0},{"$f":"'1'!$R$39","v":0},{"$f":"'1'!$S$39","v":0},{"$f":"'1'!$T$39","v":0},{"$f":"'1'!$U$39","v":0},{"$f":"'1'!$V$39","v":0},{"$f":"'1'!$W$39","v":0},{"$f":"'1'!$X$39","v":0},{"$f":"'1'!$Y$39","v":0},{"$f":"'1'!$Z$39","v":0},{"$f":"'1'!$AA$39","v":0},{"$f":"'1'!$AB$39","v":0},{"$f":"'1'!$AC$39","v":0},{"$f":"'1'!$AD$39","v":0},{"$f":"'1'!$AE$39","v":0},{"$f":"'1'!$AF$39","v":0},{"$f":"'1'!$AG$39","v":0},{"$f":"'1'!$AH$39","v":0},{"$f":"'1'!$AI$39","v":0},{"$f":"'1'!$AJ$39","v":0},1,{"$f":"VLOOKUP(AL36,Přehled!$C$5:$AL$24,36)","v":""},null,null,null,null,null,null,null,null,null,null,null,null,null,null,null,null,null,null,null,null,null,null,null,null,null,null,null,null,null,{"$f":"'1'!$AO$39","v":0},{"$f":"'1'!$AP$39","v":0},{"$f":"'1'!$AQ$39","v":0},{"$f":"'1'!$AR$39","v":0},{"$f":"'1'!$AS$39","v":0},{"$f":"'1'!$AT$39","v":0},1,{"$f":"VLOOKUP(BW36,Přehled!$C$5:$AL$24,36)","v":""},null,null,null,null,null,null,null,null,null,null,null,null,null,null,null,null,null,null,null,null,{"$f":"'1'!$BP$39","v":0},{"$f":"'1'!$BQ$39","v":0},{"$f":"'1'!$BR$39","v":0},{"$f":"'1'!$BS$39","v":0},{"$f":"'1'!$BT$39","v":0},{"$f":"'1'!$BU$39","v":0},1,{"$f":"VLOOKUP(CY36,Přehled!$C$5:$AL$24,36)","v":""},null,null,null,null,null,null,null,null,null,null,null,null,null,null,null,{"$f":"'1'!$CR$39","v":0},{"$f":"'1'!$CS$39","v":0},{"$f":"'1'!$CT$39","v":0},1,{"$f":"VLOOKUP(DS36,Přehled!$C$5:$AL$24,36)","v":""},null,null,null,null,null,null,null,null,null,null,null,null,null,null,null,{"$f":"'2'!$DO$8","v":0},{"$f":"'2'!$DP$8","v":0},{"$f":"'2'!$DQ$8","v":0},2,{"$f":"VLOOKUP(EM36,Přehled!$C$5:$AL$24,36)","v":""}]
[{"$f":"'1'!$A$40","v":0},{"$f":"'1'!$B$40","v":0},{"$f":"'1'!$C$40","v":0},{"$f":"SUMIF($B$5:$B$2024,Souhrn_hod[[#This Row],[Jméno]],$E$5:$E$2024)","v":0},{"$f":"'1'!$D$40","v":0},{"$f":"'1'!$E$40","v":0},{"$f":"'1'!$F$40","v":0},{"$f":"'1'!$G$40","v":0},{"$f":"'1'!$H$40","v":0},{"$f":"'1'!$I$40","v":0},{"$f":"'1'!$J$40","v":0},{"$f":"'1'!$K$40","v":0},{"$f":"'1'!$L$40","v":0},{"$f":"'1'!$M$40","v":0},{"$f":"'1'!$N$40","v":0},{"$f":"'1'!$O$40","v":0},{"$f":"'1'!$P$40","v":0},{"$f":"'1'!$Q$40","v":0},{"$f":"'1'!$R$40","v":0},{"$f":"'1'!$S$40","v":0},{"$f":"'1'!$T$40","v":0},{"$f":"'1'!$U$40","v":0},{"$f":"'1'!$V$40","v":0},{"$f":"'1'!$W$40","v":0},{"$f":"'1'!$X$40","v":0},{"$f":"'1'!$Y$40","v":0},{"$f":"'1'!$Z$40","v":0},{"$f":"'1'!$AA$40","v":0},{"$f":"'1'!$AB$40","v":0},{"$f":"'1'!$AC$40","v":0},{"$f":"'1'!$AD$40","v":0},{"$f":"'1'!$AE$40","v":0},{"$f":"'1'!$AF$40","v":0},{"$f":"'1'!$AG$40","v":0},{"$f":"'1'!$AH$40","v":0},{"$f":"'1'!$AI$40","v":0},{"$f":"'1'!$AJ$40","v":0},1,{"$f":"VLOOKUP(AL37,Přehled!$C$5:$AL$24,36)","v":""},null,null,null,null,null,null,null,null,null,null,null,null,null,null,null,null,null,null,null,null,null,null,null,null,null,null,null,null,null,{"$f":"'1'!$AO$40","v":0},{"$f":"'1'!$AP$40","v":0},{"$f":"'1'!$AQ$40","v":0},{"$f":"'1'!$AR$40","v":0},{"$f":"'1'!$AS$40","v":0},{"$f":"'1'!$AT$40","v":0},1,{"$f":"VLOOKUP(BW37,Přehled!$C$5:$AL$24,36)","v":""},null,null,null,null,null,null,null,null,null,null,null,null,null,null,null,null,null,null,null,null,{"$f":"'1'!$BP$40","v":0},{"$f":"'1'!$BQ$40","v":0},{"$f":"'1'!$BR$40","v":0},{"$f":"'1'!$BS$40","v":0},{"$f":"'1'!$BT$40","v":0},{"$f":"'1'!$BU$40","v":0},1,{"$f":"VLOOKUP(CY37,Přehled!$C$5:$AL$24,36)","v":""},null,null,null,null,null,null,null,null,null,null,null,null,null,null,null,{"$f":"'1'!$CR$40","v":0},{"$f":"'1'!$CS$40","v":0},{"$f":"'1'!$CT$40","v":0},1,{"$f":"VLOOKUP(DS37,Přehled!$C$5:$AL$24,36)","v":""},null,null,null,null,null,null,null,null,null,null,null,null,null,null,null,{"$f":"'2'!$DO$9","v":0},{"$f":"'2'!$DP$9","v":0},{"$f":"'2'!$DQ$9","v":0},2,{"$f":"VLOOKUP(EM37,Přehled!$C$5:$AL$24,36)","v":""}]
[{"$f":"'1'!$A$41","v":0},{"$f":"'1'!$B$41","v":0},{"$f":"'1'!$C$41","v":0},{"$f":"SUMIF($B$5:$B$2024,Souhrn_hod[[#This Row],[Jméno]],$E$5:$E$2024)","v":0},{"$f":"'1'!$D$41","v":0},{"$f":"'1'!$E$41","v":0},{"$f":"'1'!$F$41","v":0},{"$f":"'1'!$G$41","v":0},{"$f":"'1'!$H$41","v":0},{"$f":"'1'!$I$41","v":0},{"$f":"'1'!$J$41","v":0},{"$f":"'1'!$K$41","v":0},{"$f":"'1'!$L$41","v":0},{"$f":"'1'!$M$41","v":0},{"$f":"'1'!$N$41","v":0},{"$f":"'1'!$O$41","v":0},{"$f":"'1'!$P$41","v":0},{"$f":"'1'!$Q$41","v":0},{"$f":"'1'!$R$41","v":0},{"$f":"'1'!$S$41","v":0},{"$f":"'1'!$T$41","v":0},{"$f":"'1'!$U$41","v":0},{"$f":"'1'!$V$41","v":0},{"$f":"'1'!$W$41","v":0},{"$f":"'1'!$X$41","v":0},{"$f":"'1'!$Y$41","v":0},{"$f":"'1'!$Z$41","v":0},{"$f":"'1'!$AA$41","v":0},{"$f":"'1'!$AB$41","v":0},{"$f":"'1'!$AC$41","v":0},{"$f":"'1'!$AD$41","v":0},{"$f":"'1'!$AE$41","v":0},{"$f":"'1'!$AF$41","v":0},{"$f":"'1'!$AG$41","v":0},{"$f":"'1'!$AH$41","v":0},{"$f":"'1'!$AI$41","v":0},{"$f":"'1'!$AJ$41","v":0},1,{"$f":"VLOOKUP(AL38,Přehled!$C$5:$AL$24,36)","v":""},null,null,null,null,null,null,null,null,null,null,null,null,null,null,null,null,null,null,null,null,null,null,null,null,null,null,null,null,null,{"$f":"'1'!$AO$41","v":0},{"$f":"'1'!$AP$41","v":0},{"$f":"'1'!$AQ$41","v":0},{"$f":"'1'!$AR$41","v":0},{"$f":"'1'!$AS$41","v":0},{"$f":"'1'!$AT$41","v":0},1,{"$f":"VLOOKUP(BW38,Přehled!$C$5:$AL$24,36)","v":""},null,null,null,null,null,null,null,null,null,null,null,null,null,null,null,null,null,null,null,null,{"$f":"'1'!$BP$41","v":0},{"$f":"'1'!$BQ$41","v":0},{"$f":"'1'!$BR$41","v":0},{"$f":"'1'!$BS$41","v":0},{"$f":"'1'!$BT$41","v":0},{"$f":"'1'!$BU$41","v":0},1,{"$f":"VLOOKUP(CY38,Přehled!$C$5:$AL$24,36)","v":""},null,null,null,null,null,null,null,null,null,null,null,null,null,null,null,{"$f":"'1'!$CR$41","v":0},{"$f":"'1'!$CS$41","v":0},{"$f":"'1'!$CT$41","v":0},1,{"$f":"VLOOKUP(DS38,Přehled!$C$5:$AL$24,36)","v":""},null,null,null,null,null,null,null,null,null,null,null,null,null,null,null,{"$f":"'2'!$DO$10","v":0},{"$f":"'2'!$DP$10","v":0},{"$f":"'2'!$DQ$10","v":0},2,{"$f":"VLOOKUP(EM38,Přehled!$C$5:$AL$24,36)","v":""}]
[{"$f":"'3'!A75","v":0},{"$f":"'3'!B75","v":0},{"$f":"'3'!C75","v":0},{"$f":"SUMIF($B$5:$B$2024,Souhrn_hod[[#This Row],[Jméno]],$E$5:$E$2024)","v":0},{"$f":"'3'!D75","v":0},{"$f":"'3'!E75","v":0},{"$f":"'3'!F75","v":0},{"$f":"'3'!G75","v":0},{"$f":"'3'!H75","v":0},{"$f":"'3'!I75","v":0},{"$f":"'3'!J75","v":0},{"$f":"'3'!K75","v":0},{"$f":"'3'!L75","v":0},{"$f":"'3'!M75","v":0},{"$f":"'3'!N75","v":0},{"$f":"'3'!O75","v":0},{"$f":"'3'!P75","v":0},{"$f":"'3'!Q75","v":0},{"$f":"'3'!R75","v":0},{"$f":"'3'!S75","v":0},{"$f":"'3'!T75","v":0},{"$f":"'3'!U75","v":0},{"$f":"'3'!V75","v":0},{"$f":"'3'!W75","v":0},{"$f":"'3'!X75","v":0},{"$f":"'3'!Y75","v":0},{"$f":"'3'!Z75","v":0},{"$f":"'3'!AA75","v":0},{"$f":"'3'!AB75","v":0},{"$f":"'3'!AC75","v":0},{"$f":"'3'!AD75","v":0},{"$f":"'3'!AE75","v":0},{"$f":"'3'!AF75","v":0},{"$f":"'3'!AG75","v":0},{"$f":"'3'!AH75","v":0},{"$f":"'3'!AI75","v":0},{"$f":"'3'!AJ75","v":0},3,{"$f":"VLOOKUP(AL39,Přehled!$C$5:$AL$24,36)","v":""},null,null,null,null,null,null,null,null,null,null,null,null,null,null,null,null,null,null,null,null,null,null,null,null,null,null,null,null,null,{"$f":"'1'!$AO$42","v":0},{"$f":"'1'!$AP$42","v":0},{"$f":"'1'!$AQ$42","v":0},{"$f":"'1'!$AR$42","v":0},{"$f":"'1'!$AS$42","v":0},{"$f":"'1'!$AT$42","v":0},1,{"$f":"VLOOKUP(BW39,Přehled!$C$5:$AL$24,36)","v":""},null,null,null,null,null,null,null,null,null,null,null,null,null,null,null,null,null,null,null,null,{"$f":"'1'!$BP$42","v":0},{"$f":"'1'!$BQ$42","v":0},{"$f":"'1'!$BR$42","v":0},{"$f":"'1'!$BS$42","v":0},{"$f":"'1'!$BT$42","v":0},{"$f":"'1'!$BU$42","v":0},1,{"$f":"VLOOKUP(CY39,Přehled!$C$5:$AL$24,36)","v":""},null,null,null,null,null,null,null,null,null,null,null,null,null,null,null,{"$f":"'1'!$CR$42","v":0},{"$f":"'1'!$CS$42","v":0},{"$f":"'1'!$CT$42","v":0},1,{"$f":"VLOOKUP(DS39,Přehled!$C$5:$AL$24,36)","v":""},null,null,null,null,null,null,null,null,null,null,null,null,null,null,null,{"$f":"'2'!$DO$11","v":0},{"$f":"'2'!$DP$11","v":0},{"$f":"'2'!$DQ$11","v":0},2,{"$f":"VLOOKUP(EM39,Přehled!$C$5:$AL$24,36)","v":""}]
[{"$f":"'1'!$A$22","v":0},{"$f":"'1'!$B$22","v":0},{"$f":"'1'!$C$22","v":0},{"$f":"SUMIF($B$5:$B$2024,Souhrn_hod[[#This Row],[Jméno]],$E$5:$E$2024)","v":0},{"$f":"'1'!$D$22","v":0},{"$f":"'1'!$E$22","v":0},{"$f":"'1'!$F$22","v":0},{"$f":"'1'!$G$22","v":0},{"$f":"'1'!$H$22","v":0},{"$f":"'1'!$I$22","v":0},{"$f":"'1'!$J$22","v":0},{"$f":"'1'!$K$22","v":0},{"$f":"'1'!$L$22","v":0},{"$f":"'1'!$M$22","v":0},{"$f":"'1'!$N$22","v":0},{"$f":"'1'!$O$22","v":0},{"$f":"'1'!$P$22","v":0},{"$f":"'1'!$Q$22","v":0},{"$f":"'1'!$R$22","v":0},{"$f":"'1'!$S$22","v":0},{"$f":"'1'!$T$22","v":0},{"$f":"'1'!$U$22","v":0},{"$f":"'1'!$V$22","v":0},{"$f":"'1'!$W$22","v":0},{"$f":"'1'!$X$22","v":0},{"$f":"'1'!$Y$22","v":0},{"$f":"'1'!$Z$22","v":0},{"$f":"'1'!$AA$22","v":0},{"$f":"'1'!$AB$22","v":0},{"$f":"'1'!$AC$22","v":0},{"$f":"'1'!$AD$22","v":0},{"$f":"'1'!$AE$22","v":0},{"$f":"'1'!$AF$22","v":0},{"$f":"'1'!$AG$22","v":0},{"$f":"'1'!$AH$22","v":0},{"$f":"'1'!$AI$22","v":0},{"$f":"'1'!$AJ$22","v":0},1,{"$f":"VLOOKUP(AL40,Přehled!$C$5:$AL$24,36)","v":""},null,null,null,null,null,null,null,null,null,null,null,null,null,null,null,null,null,null,null,null,null,null,null,null,null,null,null,null,null,{"$f":"'3'!$AO$8","v":0},{"$f":"'3'!$AP$8","v":0},{"$f":"'3'!$AQ$8","v":0},{"$f":"'3'!$AR$8","v":0},{"$f":"'3'!$AS$8","v":0},{"$f":"'3'!$AT$8","v":0},3,{"$f":"VLOOKUP(BW40,Přehled!$C$5:$AL$24,36)","v":""},null,null,null,null,null,null,null,null,null,null,null,null,null,null,null,null,null,null,null,null,{"$f":"'1'!$BP$43","v":0},{"$f":"'1'!$BQ$43","v":0},{"$f":"'1'!$BR$43","v":0},{"$f":"'1'!$BS$43","v":0},{"$f":"'1'!$BT$43","v":0},{"$f":"'1'!$BU$43","v":0},1,{"$f":"VLOOKUP(CY40,Přehled!$C$5:$AL$24,36)","v":""},null,null,null,null,null,null,null,null,null,null,null,null,null,null,null,{"$f":"'1'!$CR$43","v":0},{"$f":"'1'!$CS$43","v":0},{"$f":"'1'!$CT$43","v":0},1,{"$f":"VLOOKUP(DS40,Přehled!$C$5:$AL$24,36)","v":""},null,null,null,null,null,null,null,null,null,null,null,null,null,null,null,{"$f":"'2'!$DO$12","v":0},{"$f":"'2'!$DP$12","v":0},{"$f":"'2'!$DQ$12","v":0},2,{"$f":"VLOOKUP(EM40,Přehled!$C$5:$AL$24,36)","v":""}]
[{"$f":"'1'!$A$44","v":0},{"$f":"'1'!$B$44","v":0},{"$f":"'1'!$C$44","v":0},{"$f":"SUMIF($B$5:$B$2024,Souhrn_hod[[#This Row],[Jméno]],$E$5:$E$2024)","v":0},{"$f":"'1'!$D$44","v":0},{"$f":"'1'!$E$44","v":0},{"$f":"'1'!$F$44","v":0},{"$f":"'1'!$G$44","v":0},{"$f":"'1'!$H$44","v":0},{"$f":"'1'!$I$44","v":0},{"$f":"'1'!$J$44","v":0},{"$f":"'1'!$K$44","v":0},{"$f":"'1'!$L$44","v":0},{"$f":"'1'!$M$44","v":0},{"$f":"'1'!$N$44","v":0},{"$f":"'1'!$O$44","v":0},{"$f":"'1'!$P$44","v":0},{"$f":"'1'!$Q$44","v":0},{"$f":"'1'!$R$44","v":0},{"$f":"'1'!$S$44","v":0},{"$f":"'1'!$T$44","v":0},{"$f":"'1'!$U$44","v":0},{"$f":"'1'!$V$44","v":0},{"$f":"'1'!$W$44","v":0},{"$f":"'1'!$X$44","v":0},{"$f":"'1'!$Y$44","v":0},{"$f":"'1'!$Z$44","v":0},{"$f":"'1'!$AA$44","v":0},{"$f":"'1'!$AB$44","v":0},{"$f":"'1'!$AC$44","v":0},{"$f":"'1'!$AD$44","v":0},{"$f":"'1'!$AE$44","v":0},{"$f":"'1'!$AF$44","v":0},{"$f":"'1'!$AG$44","v":0},{"$f":"'1'!$AH$44","v":0},{"$f":"'1'!$AI$44","v":0},{"$f":"'1'!$AJ$44","v":0},1,{"$f":"VLOOKUP(AL41,Přehled!$C$5:$AL$24,36)","v":""},null,null,null,null,null,null,null,null,null,null,null,null,null,null,null,null,null,null,null,null,null,null,null,null,null,null,null,null,null,{"$f":"'1'!$AO$44","v":0},{"$f":"'1'!$AP$44","v":0},{"$f":"'1'!$AQ$44","v":0},{"$f":"'1'!$AR$44","v":0},{"$f":"'1'!$AS$44","v":0},{"$f":"'1'!$AT$44","v":0},1,{"$f":"VLOOKUP(BW41,Přehled!$C$5:$AL$24,36)","v":""},null,null,null,null,null,null,null,null,null,null,null,null,null,null,null,null,null,null,null,null,{"$f":"'1'!$BP$44","v":0},{"$f":"'1'!$BQ$44","v":0},{"$f":"'1'!$BR$44","v":0},{"$f":"'1'!$BS$44","v":0},{"$f":"'1'!$BT$44","v":0},{"$f":"'1'!$BU$44","v":0},1,{"$f":"VLOOKUP(CY41,Přehled!$C$5:$AL$24,36)","v":""},null,null,null,null,null,null,null,null,null,null,null,null,null,null,null,{"$f":"'1'!$CR$44","v":0},{"$f":"'1'!$CS$44","v":0},{"$f":"'1'!$CT$44","v":0},1,{"$f":"VLOOKUP(DS41,Přehled!$C$5:$AL$24,36)","v":""},null,null,null,null,null,null,null,null,null,null,null,null,null,null,null,{"$f":"'2'!$DO$13","v":0},{"$f":"'2'!$DP$13","v":0},{"$f":"'2'!$DQ$13","v":0},2,{"$f":"VLOOKUP(EM41,Přehled!$C$5:$AL$24,36)","v":""}]
[{"$f":"'1'!$A$42","v":0},{"$f":"'1'!$B$42","v":0},{"$f":"'1'!$C$42","v":0},{"$f":"SUMIF($B$5:$B$2024,Souhrn_hod[[#This Row],[Jméno]],$E$5:$E$2024)","v":0},{"$f":"'1'!$D$42","v":0},{"$f":"'1'!$E$42","v":0},{"$f":"'1'!$F$42","v":0},{"$f":"'1'!$G$42","v":0},{"$f":"'1'!$H$42","v":0},{"$f":"'1'!$I$42","v":0},{"$f":"'1'!$J$42","v":0},{"$f":"'1'!$K$42","v":0},{"$f":"'1'!$L$42","v":0},{"$f":"'1'!$M$42","v":0},{"$f":"'1'!$N$42","v":0},{"$f":"'1'!$O$42","v":0},{"$f":"'1'!$P$42","v":0},{"$f":"'1'!$Q$42","v":0},{"$f":"'1'!$R$42","v":0},{"$f":"'1'!$S$42","v":0},{"$f":"'1'!$T$42","v":0},{"$f":"'1'!$U$42","v":0},{"$f":"'1'!$V$42","v":0},{"$f":"'1'!$W$42","v":0},{"$f":"'1'!$X$42","v":0},{"$f":"'1'!$Y$42","v":0},{"$f":"'1'!$Z$42","v":0},{"$f":"'1'!$AA$42","v":0},{"$f":"'1'!$AB$42","v":0},{"$f":"'1'!$AC$42","v":0},{"$f":"'1'!$AD$42","v":0},{"$f":"'1'!$AE$42","v":0},{"$f":"'1'!$AF$42","v":0},{"$f":"'1'!$AG$42","v":0},{"$f":"'1'!$AH$42","v":0},{"$f":"'1'!$AI$42","v":0},{"$f":"'1'!$AJ$42","v":0},1,{"$f":"VLOOKUP(AL42,Přehled!$C$5:$AL$24,36)","v":""},null,null,null,null,null,null,null,null,null,null,null,null,null,null,null,null,null,null,null,null,null,null,null,null,null,null,null,null,null,{"$f":"'1'!$AO$45","v":0},{"$f":"'1'!$AP$45","v":0},{"$f":"'1'!$AQ$45","v":0},{"$f":"'1'!$AR$45","v":0},{"$f":"'1'!$AS$45","v":0},{"$f":"'1'!$AT$45","v":0},1,{"$f":"VLOOKUP(BW42,Přehled!$C$5:$AL$24,36)","v":""},null,null,null,null,null,null,null,null,null,null,null,null,null,null,null,null,null,null,null,null,{"$f":"'1'!$BP$45","v":0},{"$f":"'1'!$BQ$45","v":0},{"$f":"'1'!$BR$45","v":0},{"$f":"'1'!$BS$45","v":0},{"$f":"'1'!$BT$45","v":0},{"$f":"'1'!$BU$45","v":0},1,{"$f":"VLOOKUP(CY42,Přehled!$C$5:$AL$24,36)","v":""},null,null,null,null,null,null,null,null,null,null,null,null,null,null,null,{"$f":"'1'!$CR$45","v":0},{"$f":"'1'!$CS$45","v":0},{"$f":"'1'!$CT$45","v":0},1,{"$f":"VLOOKUP(DS42,Přehled!$C$5:$AL$24,36)","v":""},null,null,null,null,null,null,null,null,null,null,null,null,null,null,null,{"$f":"'2'!$DO$14","v":0},{"$f":"'2'!$DP$14","v":0},{"$f":"'2'!$DQ$14","v":0},2,{"$f":"VLOOKUP(EM42,Přehled!$C$5:$AL$24,36)","v":""}]
[{"$f":"'1'!$A$46","v":0},{"$f":"'1'!$B$46","v":0},{"$f":"'1'!$C$46","v":0},{"$f":"SUMIF($B$5:$B$2024,Souhrn_hod[[#This Row],[Jméno]],$E$5:$E$2024)","v":0},{"$f":"'1'!$D$46","v":0},{"$f":"'1'!$E$46","v":0},{"$f":"'1'!$F$46","v":0},{"$f":"'1'!$G$46","v":0},{"$f":"'1'!$H$46","v":0},{"$f":"'1'!$I$46","v":0},{"$f":"'1'!$J$46","v":0},{"$f":"'1'!$K$46","v":0},{"$f":"'1'!$L$46","v":0},{"$f":"'1'!$M$46","v":0},{"$f":"'1'!$N$46","v":0},{"$f":"'1'!$O$46","v":0},{"$f":"'1'!$P$46","v":0},{"$f":"'1'!$Q$46","v":0},{"$f":"'1'!$R$46","v":0},{"$f":"'1'!$S$46","v":0},{"$f":"'1'!$T$46","v":0},{"$f":"'1'!$U$46","v":0},{"$f":"'1'!$V$46","v":0},{"$f":"'1'!$W$46","v":0},{"$f":"'1'!$X$46","v":0},{"$f":"'1'!$Y$46","v":0},{"$f":"'1'!$Z$46","v":0},{"$f":"'1'!$AA$46","v":0},{"$f":"'1'!$AB$46","v":0},{"$f":"'1'!$AC$46","v":0},{"$f":"'1'!$AD$46","v":0},{"$f":"'1'!$AE$46","v":0},{"$f":"'1'!$AF$46","v":0},{"$f":"'1'!$AG$46","v":0},{"$f":"'1'!$AH$46","v":0},{"$f":"'1'!$AI$46","v":0},{"$f":"'1'!$AJ$46","v":0},1,{"$f":"VLOOKUP(AL43,Přehled!$C$5:$AL$24,36)","v":""},null,null,null,null,null,null,null,null,null,null,null,null,null,null,null,null,null,null,null,null,null,null,null,null,null,null,null,null,null,{"$f":"'1'!$AO$46","v":0},{"$f":"'1'!$AP$46","v":0},{"$f":"'1'!$AQ$46","v":0},{"$f":"'1'!$AR$46","v":0},{"$f":"'1'!$AS$46","v":0},{"$f":"'1'!$AT$46","v":0},1,{"$f":"VLOOKUP(BW43,Přehled!$C$5:$AL$24,36)","v":""},null,null,null,null,null,null,null,null,null,null,null,null,null,null,null,null,null,null,null,null,{"$f":"'1'!$BP$46","v":0},{"$f":"'1'!$BQ$46","v":0},{"$f":"'1'!$BR$46","v":0},{"$f":"'1'!$BS$46","v":0},{"$f":"'1'!$BT$46","v":0},{"$f":"'1'!$BU$46","v":0},1,{"$f":"VLOOKUP(CY43,Přehled!$C$5:$AL$24,36)","v":""},null,null,null,null,null,null,null,null,null,null,null,null,null,null,null,{"$f":"'1'!$CR$46","v":0},{"$f":"'1'!$CS$46","v":0},{"$f":"'1'!$CT$46","v":0},1,{"$f":"VLOOKUP(DS43,Přehled!$C$5:$AL$24,36)","v":""},null,null,null,null,null,null,null,null,null,null,null,null,null,null,null,{"$f":"'2'!$DO$15","v":0},{"$f":"'2'!$DP$15","v":0},{"$f":"'2'!$DQ$15","v":0},2,{"$f":"VLOOKUP(EM43,Přehled!$C$5:$AL$24,36)","v":""}]
[{"$f":"'1'!$A$47","v":0},{"$f":"'1'!$B$47","v":0},{"$f":"'1'!$C$47","v":0},{"$f":"SUMIF($B$5:$B$2024,Souhrn_hod[[#This Row],[Jméno]],$E$5:$E$2024)","v":0},{"$f":"'1'!$D$47","v":0},{"$f":"'1'!$E$47","v":0},{"$f":"'1'!$F$47","v":0},{"$f":"'1'!$G$47","v":0},{"$f":"'1'!$H$47","v":0},{"$f":"'1'!$I$47","v":0},{"$f":"'1'!$J$47","v":0},{"$f":"'1'!$K$47","v":0},{"$f":"'1'!$L$47","v":0},{"$f":"'1'!$M$47","v":0},{"$f":"'1'!$N$47","v":0},{"$f":"'1'!$O$47","v":0},{"$f":"'1'!$P$47","v":0},{"$f":"'1'!$Q$47","v":0},{"$f":"'1'!$R$47","v":0},{"$f":"'1'!$S$47","v":0},{"$f":"'1'!$T$47","v":0},{"$f":"'1'!$U$47","v":0},{"$f":"'1'!$V$47","v":0},{"$f":"'1'!$W$47","v":0},{"$f":"'1'!$X$47","v":0},{"$f":"'1'!$Y$47","v":0},{"$f":"'1'!$Z$47","v":0},{"$f":"'1'!$AA$47","v":0},{"$f":"'1'!$AB$47","v":0},{"$f":"'1'!$AC$47","v":0},{"$f":"'1'!$AD$47","v":0},{"$f":"'1'!$AE$47","v":0},{"$f":"'1'!$AF$47","v":0},{"$f":"'1'!$AG$47","v":0},{"$f":"'1'!$AH$47","v":0},{"$f":"'1'!$AI$47","v":0},{"$f":"'1'!$AJ$47","v":0},1,{"$f":"VLOOKUP(AL44,Přehled!$C$5:$AL$24,36)","v":""},null,null,null,null,null,null,null,null,null,null,null,null,null,null,null,null,null,null,null,null,null,null,null,null,null,null,null,null,null,{"$f":"'1'!$AO$47","v":0},{"$f":"'1'!$AP$47","v":0},{"$f":"'1'!$AQ$47","v":0},{"$f":"'1'!$AR$47","v":0},{"$f":"'1'!$AS$47","v":0},{"$f":"'1'!$AT$47","v":0},1,{"$f":"VLOOKUP(BW44,Přehled!$C$5:$AL$24,36)","v":""},null,null,null,null,null,null,null,null,null,null,null,null,null,null,null,null,null,null,null,null,{"$f":"'1'!$BP$47","v":0},{"$f":"'1'!$BQ$47","v":0},{"$f":"'1'!$BR$47","v":0},{"$f":"'1'!$BS$47","v":0},{"$f":"'1'!$BT$47","v":0},{"$f":"'1'!$BU$47","v":0},1,{"$f":"VLOOKUP(CY44,Přehled!$C$5:$AL$24,36)","v":""},null,null,null,null,null,null,null,null,null,null,null,null,null,null,null,{"$f":"'1'!$CR$47","v":0},{"$f":"'1'!$CS$47","v":0},{"$f":"'1'!$CT$47","v":0},1,{"$f":"VLOOKUP(DS44,Přehled!$C$5:$AL$24,36)","v":""},null,null,null,null,null,null,null,null,null,null,null,null,null,null,null,{"$f":"'2'!$DO$16","v":0},{"$f":"'2'!$DP$16","v":0},{"$f":"'2'!$DQ$16","v":0},2,{"$f":"VLOOKUP(EM44,Přehled!$C$5:$AL$24,36)","v":""}]
[{"$f":"'2'!A42","v":0},{"$f":"'2'!B42","v":0},{"$f":"'2'!C42","v":0},{"$f":"SUMIF($B$5:$B$2024,Souhrn_hod[[#This Row],[Jméno]],$E$5:$E$2024)","v":0},{"$f":"'2'!D42","v":0},{"$f":"'2'!E42","v":0},{"$f":"'2'!F42","v":0},{"$f":"'2'!G42","v":0},{"$f":"'2'!H42","v":0},{"$f":"'2'!I42","v":0},{"$f":"'2'!J42","v":0},{"$f":"'2'!K42","v":0},{"$f":"'2'!L42","v":0},{"$f":"'2'!M42","v":0},{"$f":"'2'!N42","v":0},{"$f":"'2'!O42","v":0},{"$f":"'2'!P42","v":0},{"$f":"'2'!Q42","v":0},{"$f":"'2'!R42","v":0},{"$f":"'2'!S42","v":0},{"$f":"'2'!T42","v":0},{"$f":"'2'!U42","v":0},{"$f":"'2'!V42","v":0},{"$f":"'2'!W42","v":0},{"$f":"'2'!X42","v":0},{"$f":"'2'!Y42","v":0},{"$f":"'2'!Z42","v":0},{"$f":"'2'!AA42","v":0},{"$f":"'2'!AB42","v":0},{"$f":"'2'!AC42","v":0},{"$f":"'2'!AD42","v":0},{"$f":"'2'!AE42","v":0},{"$f":"'2'!AF42","v":0},{"$f":"'2'!AG42","v":0},{"$f":"'2'!AH42","v":0},{"$f":"'2'!AI42","v":0},{"$f":"'2'!AJ42","v":0},2,{"$f":"VLOOKUP(AL45,Přehled!$C$5:$AL$24,36)","v":""},null,null,null,null,null,null,null,null,null,null,null,null,null,null,null,null,null,null,null,null,null,null,null,null,null,null,null,null,null,{"$f":"'1'!$AO$43","v":0},{"$f":"'1'!$AP$43","v":0},{"$f":"'1'!$AQ$43","v":0},{"$f":"'1'!$AR$43","v":0},{"$f":"'1'!$AS$43","v":0},{"$f":"'1'!$AT$43","v":0},1,{"$f":"VLOOKUP(BW45,Přehled!$C$5:$AL$24,36)","v":""},null,null,null,null,null,null,null,null,null,null,null,null,null,null,null,null,null,null,null,null,{"$f":"'1'!$BP$48","v":0},{"$f":"'1'!$BQ$48","v":0},{"$f":"'1'!$BR$48","v":0},{"$f":"'1'!$BS$48","v":0},{"$f":"'1'!$BT$48","v":0},{"$f":"'1'!$BU$48","v":0},1,{"$f":"VLOOKUP(CY45,Přehled!$C$5:$AL$24,36)","v":""},null,null,null,null,null,null,null,null,null,null,null,null,null,null,null,{"$f":"'1'!$CR$48","v":0},{"$f":"'1'!$CS$48","v":0},{"$f":"'1'!$CT$48","v":0},1,{"$f":"VLOOKUP(DS45,Přehled!$C$5:$AL$24,36)","v":""},null,null,null,null,null,null,null,null,null,null,null,null,null,null,null,{"$f":"'2'!$DO$17","v":0},{"$f":"'2'!$DP$17","v":0},{"$f":"'2'!$DQ$17","v":0},2,{"$f":"VLOOKUP(EM45,Přehled!$C$5:$AL$24,36)","v":""}]
[{"$f":"'1'!$A$49","v":0},{"$f":"'1'!$B$49","v":0},{"$f":"'1'!$C$49","v":0},{"$f":"SUMIF($B$5:$B$2024,Souhrn_hod[[#This Row],[Jméno]],$E$5:$E$2024)","v":0},{"$f":"'1'!$D$49","v":0},{"$f":"'1'!$E$49","v":0},{"$f":"'1'!$F$49","v":0},{"$f":"'1'!$G$49","v":0},{"$f":"'1'!$H$49","v":0},{"$f":"'1'!$I$49","v":0},{"$f":"'1'!$J$49","v":0},{"$f":"'1'!$K$49","v":0},{"$f":"'1'!$L$49","v":0},{"$f":"'1'!$M$49","v":0},{"$f":"'1'!$N$49","v":0},{"$f":"'1'!$O$49","v":0},{"$f":"'1'!$P$49","v":0},{"$f":"'1'!$Q$49","v":0},{"$f":"'1'!$R$49","v":0},{"$f":"'1'!$S$49","v":0},{"$f":"'1'!$T$49","v":0},{"$f":"'1'!$U$49","v":0},{"$f":"'1'!$V$49","v":0},{"$f":"'1'!$W$49","v":0},{"$f":"'1'!$X$49","v":0},{"$f":"'1'!$Y$49","v":0},{"$f":"'1'!$Z$49","v":0},{"$f":"'1'!$AA$49","v":0},{"$f":"'1'!$AB$49","v":0},{"$f":"'1'!$AC$49","v":0},{"$f":"'1'!$AD$49","v":0},{"$f":"'1'!$AE$49","v":0},{"$f":"'1'!$AF$49","v":0},{"$f":"'1'!$AG$49","v":0},{"$f":"'1'!$AH$49","v":0},{"$f":"'1'!$AI$49","v":0},{"$f":"'1'!$AJ$49","v":0},1,{"$f":"VLOOKUP(AL46,Přehled!$C$5:$AL$24,36)","v":""},null,null,null,null,null,null,null,null,null,null,null,null,null,null,null,null,null,null,null,null,null,null,null,null,null,null,null,null,null,{"$f":"'1'!$AO$49","v":0},{"$f":"'1'!$AP$49","v":0},{"$f":"'1'!$AQ$49","v":0},{"$f":"'1'!$AR$49","v":0},{"$f":"'1'!$AS$49","v":0},{"$f":"'1'!$AT$49","v":0},1,{"$f":"VLOOKUP(BW46,Přehled!$C$5:$AL$24,36)","v":""},null,null,null,null,null,null,null,null,null,null,null,null,null,null,null,null,null,null,null,null,{"$f":"'1'!$BP$49","v":0},{"$f":"'1'!$BQ$49","v":0},{"$f":"'1'!$BR$49","v":0},{"$f":"'1'!$BS$49","v":0},{"$f":"'1'!$BT$49","v":0},{"$f":"'1'!$BU$49","v":0},1,{"$f":"VLOOKUP(CY46,Přehled!$C$5:$AL$24,36)","v":""},null,null,null,null,null,null,null,null,null,null,null,null,null,null,null,{"$f":"'1'!$CR$49","v":0},{"$f":"'1'!$CS$49","v":0},{"$f":"'1'!$CT$49","v":0},1,{"$f":"VLOOKUP(DS46,Přehled!$C$5:$AL$24,36)","v":""},null,null,null,null,null,null,null,null,null,null,null,null,null,null,null,{"$f":"'2'!$DO$18","v":0},{"$f":"'2'!$DP$18","v":0},{"$f":"'2'!$DQ$18","v":0},2,{"$f":"VLOOKUP(EM46,Přehled!$C$5:$AL$24,36)","v":""}]
[{"$f":"'1'!$A$50","v":0},{"$f":"'1'!$B$50","v":0},{"$f":"'1'!$C$50","v":0},{"$f":"SUMIF($B$5:$B$2024,Souhrn_hod[[#This Row],[Jméno]],$E$5:$E$2024)","v":0},{"$f":"'1'!$D$50","v":0},{"$f":"'1'!$E$50","v":0},{"$f":"'1'!$F$50","v":0},{"$f":"'1'!$G$50","v":0},{"$f":"'1'!$H$50","v":0},{"$f":"'1'!$I$50","v":0},{"$f":"'1'!$J$50","v":0},{"$f":"'1'!$K$50","v":0},{"$f":"'1'!$L$50","v":0},{"$f":"'1'!$M$50","v":0},{"$f":"'1'!$N$50","v":0},{"$f":"'1'!$O$50","v":0},{"$f":"'1'!$P$50","v":0},{"$f":"'1'!$Q$50","v":0},{"$f":"'1'!$R$50","v":0},{"$f":"'1'!$S$50","v":0},{"$f":"'1'!$T$50","v":0},{"$f":"'1'!$U$50","v":0},{"$f":"'1'!$V$50","v":0},{"$f":"'1'!$W$50","v":0},{"$f":"'1'!$X$50","v":0},{"$f":"'1'!$Y$50","v":0},{"$f":"'1'!$Z$50","v":0},{"$f":"'1'!$AA$50","v":0},{"$f":"'1'!$AB$50","v":0},{"$f":"'1'!$AC$50","v":0},{"$f":"'1'!$AD$50","v":0},{"$f":"'1'!$AE$50","v":0},{"$f":"'1'!$AF$50","v":0},{"$f":"'1'!$AG$50","v":0},{"$f":"'1'!$AH$50","v":0},{"$f":"'1'!$AI$50","v":0},{"$f":"'1'!$AJ$50","v":0},1,{"$f":"VLOOKUP(AL47,Přehled!$C$5:$AL$24,36)","v":""},null,null,null,null,null,null,null,null,null,null,null,null,null,null,null,null,null,null,null,null,null,null,null,null,null,null,null,null,null,{"$f":"'1'!$AO$50","v":0},{"$f":"'1'!$AP$50","v":0},{"$f":"'1'!$AQ$50","v":0},{"$f":"'1'!$AR$50","v":0},{"$f":"'1'!$AS$50","v":0},{"$f":"'1'!$AT$50","v":0},1,{"$f":"VLOOKUP(BW47,Přehled!$C$5:$AL$24,36)","v":""},null,null,null,null,null,null,null,null,null,null,null,null,null,null,null,null,null,null,null,null,{"$f":"'1'!$BP$50","v":0},{"$f":"'1'!$BQ$50","v":0},{"$f":"'1'!$BR$50","v":0},{"$f":"'1'!$BS$50","v":0},{"$f":"'1'!$BT$50","v":0},{"$f":"'1'!$BU$50","v":0},1,{"$f":"VLOOKUP(CY47,Přehled!$C$5:$AL$24,36)","v":""},null,null,null,null,null,null,null,null,null,null,null,null,null,null,null,{"$f":"'1'!$CR$50","v":0},{"$f":"'1'!$CS$50","v":0},{"$f":"'1'!$CT$50","v":0},1,{"$f":"VLOOKUP(DS47,Přehled!$C$5:$AL$24,36)","v":""},null,null,null,null,null,null,null,null,null,null,null,null,null,null,null,{"$f":"'2'!$DO$19","v":0},{"$f":"'2'!$DP$19","v":0},{"$f":"'2'!$DQ$19","v":0},2,{"$f":"VLOOKUP(EM47,Přehled!$C$5:$AL$24,36)","v":""}]
[{"$f":"'1'!$A$51","v":0},{"$f":"'1'!$B$51","v":0},{"$f":"'1'!$C$51","v":0},{"$f":"SUMIF($B$5:$B$2024,Souhrn_hod[[#This Row],[Jméno]],$E$5:$E$2024)","v":0},{"$f":"'1'!$D$51","v":0},{"$f":"'1'!$E$51","v":0},{"$f":"'1'!$F$51","v":0},{"$f":"'1'!$G$51","v":0},{"$f":"'1'!$H$51","v":0},{"$f":"'1'!$I$51","v":0},{"$f":"'1'!$J$51","v":0},{"$f":"'1'!$K$51","v":0},{"$f":"'1'!$L$51","v":0},{"$f":"'1'!$M$51","v":0},{"$f":"'1'!$N$51","v":0},{"$f":"'1'!$O$51","v":0},{"$f":"'1'!$P$51","v":0},{"$f":"'1'!$Q$51","v":0},{"$f":"'1'!$R$51","v":0},{"$f":"'1'!$S$51","v":0},{"$f":"'1'!$T$51","v":0},{"$f":"'1'!$U$51","v":0},{"$f":"'1'!$V$51","v":0},{"$f":"'1'!$W$51","v":0},{"$f":"'1'!$X$51","v":0},{"$f":"'1'!$Y$51","v":0},{"$f":"'1'!$Z$51","v":0},{"$f":"'1'!$AA$51","v":0},{"$f":"'1'!$AB$51","v":0},{"$f":"'1'!$AC$51","v":0},{"$f":"'1'!$AD$51","v":0},{"$f":"'1'!$AE$51","v":0},{"$f":"'1'!$AF$51","v":0},{"$f":"'1'!$AG$51","v":0},{"$f":"'1'!$AH$51","v":0},{"$f":"'1'!$AI$51","v":0},{"$f":"'1'!$AJ$51","v":0},1,{"$f":"VLOOKUP(AL48,Přehled!$C$5:$AL$24,36)","v":""},null,null,null,null,null,null,null,null,null,null,null,null,null,null,null,null,null,null,null,null,null,null,null,null,null,null,null,null,null,{"$f":"'1'!$AO$51","v":0},{"$f":"'1'!$AP$51","v":0},{"$f":"'1'!$AQ$51","v":0},{"$f":"'1'!$AR$51","v":0},{"$f":"'1'!$AS$51","v":0},{"$f":"'1'!$AT$51","v":0},1,{"$f":"VLOOKUP(BW48,Přehled!$C$5:$AL$24,36)","v":""},null,null,null,null,null,null,null,null,null,null,null,null,null,null,null,null,null,null,null,null,{"$f":"'1'!$BP$51","v":0},{"$f":"'1'!$BQ$51","v":0},{"$f":"'1'!$BR$51","v":0},{"$f":"'1'!$BS$51","v":0},{"$f":"'1'!$BT$51","v":0},{"$f":"'1'!$BU$51","v":0},1,{"$f":"VLOOKUP(CY48,Přehled!$C$5:$AL$24,36)","v":""},null,null,null,null,null,null,null,null,null,null,null,null,null,null,null,{"$f":"'1'!$CR$51","v":0},{"$f":"'1'!$CS$51","v":0},{"$f":"'1'!$CT$51","v":0},1,{"$f":"VLOOKUP(DS48,Přehled!$C$5:$AL$24,36)","v":""},null,null,null,null,null,null,null,null,null,null,null,null,null,null,null,{"$f":"'2'!$DO$20","v":0},{"$f":"'2'!$DP$20","v":0},{"$f":"'2'!$DQ$20","v":0},2,{"$f":"VLOOKUP(EM48,Přehled!$C$5:$AL$24,36)","v":""}]
[{"$f":"'1'!$A$52","v":0},{"$f":"'1'!$B$52","v":0},{"$f":"'1'!$C$52","v":0},{"$f":"SUMIF($B$5:$B$2024,Souhrn_hod[[#This Row],[Jméno]],$E$5:$E$2024)","v":0},{"$f":"'1'!$D$52","v":0},{"$f":"'1'!$E$52","v":0},{"$f":"'1'!$F$52","v":0},{"$f":"'1'!$G$52","v":0},{"$f":"'1'!$H$52","v":0},{"$f":"'1'!$I$52","v":0},{"$f":"'1'!$J$52","v":0},{"$f":"'1'!$K$52","v":0},{"$f":"'1'!$L$52","v":0},{"$f":"'1'!$M$52","v":0},{"$f":"'1'!$N$52","v":0},{"$f":"'1'!$O$52","v":0},{"$f":"'1'!$P$52","v":0},{"$f":"'1'!$Q$52","v":0},{"$f":"'1'!$R$52","v":0},{"$f":"'1'!$S$52","v":0},{"$f":"'1'!$T$52","v":0},{"$f":"'1'!$U$52","v":0},{"$f":"'1'!$V$52","v":0},{"$f":"'1'!$W$52","v":0},{"$f":"'1'!$X$52","v":0},{"$f":"'1'!$Y$52","v":0},{"$f":"'1'!$Z$52","v":0},{"$f":"'1'!$AA$52","v":0},{"$f":"'1'!$AB$52","v":0},{"$f":"'1'!$AC$52","v":0},{"$f":"'1'!$AD$52","v":0},{"$f":"'1'!$AE$52","v":0},{"$f":"'1'!$AF$52","v":0},{"$f":"'1'!$AG$52","v":0},{"$f":"'1'!$AH$52","v":0},{"$f":"'1'!$AI$52","v":0},{"$f":"'1'!$AJ$52","v":0},1,{"$f":"VLOOKUP(AL49,Přehled!$C$5:$AL$24,36)","v":""},null,null,null,null,null,null,null,null,null,null,null,null,null,null,null,null,null,null,null,null,null,null,null,null,null,null,null,null,null,{"$f":"'1'!$AO$52","v":0},{"$f":"'1'!$AP$52","v":0},{"$f":"'1'!$AQ$52","v":0},{"$f":"'1'!$AR$52","v":0},{"$f":"'1'!$AS$52","v":0},{"$f":"'1'!$AT$52","v":0},1,{"$f":"VLOOKUP(BW49,Přehled!$C$5:$AL$24,36)","v":""},null,null,null,null,null,null,null,null,null,null,null,null,null,null,null,null,null,null,null,null,{"$f":"'1'!$BP$52","v":0},{"$f":"'1'!$BQ$52","v":0},{"$f":"'1'!$BR$52","v":0},{"$f":"'1'!$BS$52","v":0},{"$f":"'1'!$BT$52","v":0},{"$f":"'1'!$BU$52","v":0},1,{"$f":"VLOOKUP(CY49,Přehled!$C$5:$AL$24,36)","v":""},null,null,null,null,null,null,null,null,null,null,null,null,null,null,null,{"$f":"'1'!$CR$52","v":0},{"$f":"'1'!$CS$52","v":0},{"$f":"'1'!$CT$52","v":0},1,{"$f":"VLOOKUP(DS49,Přehled!$C$5:$AL$24,36)","v":""},null,null,null,null,null,null,null,null,null,null,null,null,null,null,null,{"$f":"'2'!$DO$21","v":0},{"$f":"'2'!$DP$21","v":0},{"$f":"'2'!$DQ$21","v":0},2,{"$f":"VLOOKUP(EM49,Přehled!$C$5:$AL$24,36)","v":""}]
[{"$f":"'1'!$A$53","v":0},{"$f":"'1'!$B$53","v":0},{"$f":"'1'!$C$53","v":0},{"$f":"SUMIF($B$5:$B$2024,Souhrn_hod[[#This Row],[Jméno]],$E$5:$E$2024)","v":0},{"$f":"'1'!$D$53","v":0},{"$f":"'1'!$E$53","v":0},{"$f":"'1'!$F$53","v":0},{"$f":"'1'!$G$53","v":0},{"$f":"'1'!$H$53","v":0},{"$f":"'1'!$I$53","v":0},{"$f":"'1'!$J$53","v":0},{"$f":"'1'!$K$53","v":0},{"$f":"'1'!$L$53","v":0},{"$f":"'1'!$M$53","v":0},{"$f":"'1'!$N$53","v":0},{"$f":"'1'!$O$53","v":0},{"$f":"'1'!$P$53","v":0},{"$f":"'1'!$Q$53","v":0},{"$f":"'1'!$R$53","v":0},{"$f":"'1'!$S$53","v":0},{"$f":"'1'!$T$53","v":0},{"$f":"'1'!$U$53","v":0},{"$f":"'1'!$V$53","v":0},{"$f":"'1'!$W$53","v":0},{"$f":"'1'!$X$53","v":0},{"$f":"'1'!$Y$53","v":0},{"$f":"'1'!$Z$53","v":0},{"$f":"'1'!$AA$53","v":0},{"$f":"'1'!$AB$53","v":0},{"$f":"'1'!$AC$53","v":0},{"$f":"'1'!$AD$53","v":0},{"$f":"'1'!$AE$53","v":0},{"$f":"'1'!$AF$53","v":0},{"$f":"'1'!$AG$53","v":0},{"$f":"'1'!$AH$53","v":0},{"$f":"'1'!$AI$53","v":0},{"$f":"'1'!$AJ$53","v":0},1,{"$f":"VLOOKUP(AL50,Přehled!$C$5:$AL$24,36)","v":""},null,null,null,null,null,null,null,null,null,null,null,null,null,null,null,null,null,null,null,null,null,null,null,null,null,null,null,null,null,{"$f":"'1'!$AO$48","v":0},{"$f":"'1'!$AP$48","v":0},{"$f":"'1'!$AQ$48","v":0},{"$f":"'1'!$AR$48","v":0},{"$f":"'1'!$AS$48","v":0},{"$f":"'1'!$AT$48","v":0},1,{"$f":"VLOOKUP(BW50,Přehled!$C$5:$AL$24,36)","v":""},null,null,null,null,null,null,null,null,null,null,null,null,null,null,null,null,null,null,null,null,{"$f":"'1'!$BP$53","v":0},{"$f":"'1'!$BQ$53","v":0},{"$f":"'1'!$BR$53","v":0},{"$f":"'1'!$BS$53","v":0},{"$f":"'1'!$BT$53","v":0},{"$f":"'1'!$BU$53","v":0},1,{"$f":"VLOOKUP(CY50,Přehled!$C$5:$AL$24,36)","v":""},null,null,null,null,null,null,null,null,null,null,null,null,null,null,null,{"$f":"'1'!$CR$53","v":0},{"$f":"'1'!$CS$53","v":0},{"$f":"'1'!$CT$53","v":0},1,{"$f":"VLOOKUP(DS50,Přehled!$C$5:$AL$24,36)","v":""},null,null,null,null,null,null,null,null,null,null,null,null,null,null,null,{"$f":"'2'!$DO$22","v":0},{"$f":"'2'!$DP$22","v":0},{"$f":"'2'!$DQ$22","v":0},2,{"$f":"VLOOKUP(EM50,Přehled!$C$5:$AL$24,36)","v":""}]
[{"$f":"'1'!$A$54","v":0},{"$f":"'1'!$B$54","v":0},{"$f":"'1'!$C$54","v":0},{"$f":"SUMIF($B$5:$B$2024,Souhrn_hod[[#This Row],[Jméno]],$E$5:$E$2024)","v":0},{"$f":"'1'!$D$54","v":0},{"$f":"'1'!$E$54","v":0},{"$f":"'1'!$F$54","v":0},{"$f":"'1'!$G$54","v":0},{"$f":"'1'!$H$54","v":0},{"$f":"'1'!$I$54","v":0},{"$f":"'1'!$J$54","v":0},{"$f":"'1'!$K$54","v":0},{"$f":"'1'!$L$54","v":0},{"$f":"'1'!$M$54","v":0},{"$f":"'1'!$N$54","v":0},{"$f":"'1'!$O$54","v":0},{"$f":"'1'!$P$54","v":0},{"$f":"'1'!$Q$54","v":0},{"$f":"'1'!$R$54","v":0},{"$f":"'1'!$S$54","v":0},{"$f":"'1'!$T$54","v":0},{"$f":"'1'!$U$54","v":0},{"$f":"'1'!$V$54","v":0},{"$f":"'1'!$W$54","v":0},{"$f":"'1'!$X$54","v":0},{"$f":"'1'!$Y$54","v":0},{"$f":"'1'!$Z$54","v":0},{"$f":"'1'!$AA$54","v":0},{"$f":"'1'!$AB$54","v":0},{"$f":"'1'!$AC$54","v":0},{"$f":"'1'!$AD$54","v":0},{"$f":"'1'!$AE$54","v":0},{"$f":"'1'!$AF$54","v":0},{"$f":"'1'!$AG$54","v":0},{"$f":"'1'!$AH$54","v":0},{"$f":"'1'!$AI$54","v":0},{"$f":"'1'!$AJ$54","v":0},1,{"$f":"VLOOKUP(AL51,Přehled!$C$5:$AL$24,36)","v":""},null,null,null,null,null,null,null,null,null,null,null,null,null,null,null,null,null,null,null,null,null,null,null,null,null,null,null,null,null,{"$f":"'1'!$AO$54","v":0},{"$f":"'1'!$AP$54","v":0},{"$f":"'1'!$AQ$54","v":0},{"$f":"'1'!$AR$54","v":0},{"$f":"'1'!$AS$54","v":0},{"$f":"'1'!$AT$54","v":0},1,{"$f":"VLOOKUP(BW51,Přehled!$C$5:$AL$24,36)","v":""},null,null,null,null,null,null,null,null,null,null,null,null,null,null,null,null,null,null,null,null,{"$f":"'1'!$BP$54","v":0},{"$f":"'1'!$BQ$54","v":0},{"$f":"'1'!$BR$54","v":0},{"$f":"'1'!$BS$54","v":0},{"$f":"'1'!$BT$54","v":0},{"$f":"'1'!$BU$54","v":0},1,{"$f":"VLOOKUP(CY51,Přehled!$C$5:$AL$24,36)","v":""},null,null,null,null,null,null,null,null,null,null,null,null,null,null,null,{"$f":"'1'!$CR$54","v":0},{"$f":"'1'!$CS$54","v":0},{"$f":"'1'!$CT$54","v":0},1,{"$f":"VLOOKUP(DS51,Přehled!$C$5:$AL$24,36)","v":""},null,null,null,null,null,null,null,null,null,null,null,null,null,null,null,{"$f":"'2'!$DO$23","v":0},{"$f":"'2'!$DP$23","v":0},{"$f":"'2'!$DQ$23","v":0},2,{"$f":"VLOOKUP(EM51,Přehled!$C$5:$AL$24,36)","v":""}]
[{"$f":"'1'!$A$55","v":0},{"$f":"'1'!$B$55","v":0},{"$f":"'1'!$C$55","v":0},{"$f":"SUMIF($B$5:$B$2024,Souhrn_hod[[#This Row],[Jméno]],$E$5:$E$2024)","v":0},{"$f":"'1'!$D$55","v":0},{"$f":"'1'!$E$55","v":0},{"$f":"'1'!$F$55","v":0},{"$f":"'1'!$G$55","v":0},{"$f":"'1'!$H$55","v":0},{"$f":"'1'!$I$55","v":0},{"$f":"'1'!$J$55","v":0},{"$f":"'1'!$K$55","v":0},{"$f":"'1'!$L$55","v":0},{"$f":"'1'!$M$55","v":0},{"$f":"'1'!$N$55","v":0},{"$f":"'1'!$O$55","v":0},{"$f":"'1'!$P$55","v":0},{"$f":"'1'!$Q$55","v":0},{"$f":"'1'!$R$55","v":0},{"$f":"'1'!$S$55","v":0},{"$f":"'1'!$T$55","v":0},{"$f":"'1'!$U$55","v":0},{"$f":"'1'!$V$55","v":0},{"$f":"'1'!$W$55","v":0},{"$f":"'1'!$X$55","v":0},{"$f":"'1'!$Y$55","v":0},{"$f":"'1'!$Z$55","v":0},{"$f":"'1'!$AA$55","v":0},{"$f":"'1'!$AB$55","v":0},{"$f":"'1'!$AC$55","v":0},{"$f":"'1'!$AD$55","v":0},{"$f":"'1'!$AE$55","v":0},{"$f":"'1'!$AF$55","v":0},{"$f":"'1'!$AG$55","v":0},{"$f":"'1'!$AH$55","v":0},{"$f":"'1'!$AI$55","v":0},{"$f":"'1'!$AJ$55","v":0},1,{"$f":"VLOOKUP(AL52,Přehled!$C$5:$AL$24,36)","v":""},null,null,null,null,null,null,null,null,null,null,null,null,null,null,null,null,null,null,null,null,null,null,null,null,null,null,null,null,null,{"$f":"'1'!$AO$55","v":0},{"$f":"'1'!$AP$55","v":0},{"$f":"'1'!$AQ$55","v":0},{"$f":"'1'!$AR$55","v":0},{"$f":"'1'!$AS$55","v":0},{"$f":"'1'!$AT$55","v":0},1,{"$f":"VLOOKUP(BW52,Přehled!$C$5:$AL$24,36)","v":""},null,null,null,null,null,null,null,null,null,null,null,null,null,null,null,null,null,null,null,null,{"$f":"'1'!$BP$55","v":0},{"$f":"'1'!$BQ$55","v":0},{"$f":"'1'!$BR$55","v":0},{"$f":"'1'!$BS$55","v":0},{"$f":"'1'!$BT$55","v":0},{"$f":"'1'!$BU$55","v":0},1,{"$f":"VLOOKUP(CY52,Přehled!$C$5:$AL$24,36)","v":""},null,null,null,null,null,null,null,null,null,null,null,null,null,null,null,{"$f":"'1'!$CR$55","v":0},{"$f":"'1'!$CS$55","v":0},{"$f":"'1'!$CT$55","v":0},1,{"$f":"VLOOKUP(DS52,Přehled!$C$5:$AL$24,36)","v":""},null,null,null,null,null,null,null,null,null,null,null,null,null,null,null,{"$f":"'2'!$DO$24","v":0},{"$f":"'2'!$DP$24","v":0},{"$f":"'2'!$DQ$24","v":0},2,{"$f":"VLOOKUP(EM52,Přehled!$C$5:$AL$24,36)","v":""}]
[{"$f":"'1'!$A$56","v":0},{"$f":"'1'!$B$56","v":0},{"$f":"'1'!$C$56","v":0},{"$f":"SUMIF($B$5:$B$2024,Souhrn_hod[[#This Row],[Jméno]],$E$5:$E$2024)","v":0},{"$f":"'1'!$D$56","v":0},{"$f":"'1'!$E$56","v":0},{"$f":"'1'!$F$56","v":0},{"$f":"'1'!$G$56","v":0},{"$f":"'1'!$H$56","v":0},{"$f":"'1'!$I$56","v":0},{"$f":"'1'!$J$56","v":0},{"$f":"'1'!$K$56","v":0},{"$f":"'1'!$L$56","v":0},{"$f":"'1'!$M$56","v":0},{"$f":"'1'!$N$56","v":0},{"$f":"'1'!$O$56","v":0},{"$f":"'1'!$P$56","v":0},{"$f":"'1'!$Q$56","v":0},{"$f":"'1'!$R$56","v":0},{"$f":"'1'!$S$56","v":0},{"$f":"'1'!$T$56","v":0},{"$f":"'1'!$U$56","v":0},{"$f":"'1'!$V$56","v":0},{"$f":"'1'!$W$56","v":0},{"$f":"'1'!$X$56","v":0},{"$f":"'1'!$Y$56","v":0},{"$f":"'1'!$Z$56","v":0},{"$f":"'1'!$AA$56","v":0},{"$f":"'1'!$AB$56","v":0},{"$f":"'1'!$AC$56","v":0},{"$f":"'1'!$AD$56","v":0},{"$f":"'1'!$AE$56","v":0},{"$f":"'1'!$AF$56","v":0},{"$f":"'1'!$AG$56","v":0},{"$f":"'1'!$AH$56","v":0},{"$f":"'1'!$AI$56","v":0},{"$f":"'1'!$AJ$56","v":0},1,{"$f":"VLOOKUP(AL53,Přehled!$C$5:$AL$24,36)","v":""},null,null,null,null,null,null,null,null,null,null,null,null,null,null,null,null,null,null,null,null,null,null,null,null,null,null,null,null,null,{"$f":"'1'!$AO$56","v":0},{"$f":"'1'!$AP$56","v":0},{"$f":"'1'!$AQ$56","v":0},{"$f":"'1'!$AR$56","v":0},{"$f":"'1'!$AS$56","v":0},{"$f":"'1'!$AT$56","v":0},1,{"$f":"VLOOKUP(BW53,Přehled!$C$5:$AL$24,36)","v":""},null,null,null,null,null,null,null,null,null,null,null,null,null,null,null,null,null,null,null,null,{"$f":"'1'!$BP$56","v":0},{"$f":"'1'!$BQ$56","v":0},{"$f":"'1'!$BR$56","v":0},{"$f":"'1'!$BS$56","v":0},{"$f":"'1'!$BT$56","v":0},{"$f":"'1'!$BU$56","v":0},1,{"$f":"VLOOKUP(CY53,Přehled!$C$5:$AL$24,36)","v":""},null,null,null,null,null,null,null,null,null,null,null,null,null,null,null,{"$f":"'1'!$CR$56","v":0},{"$f":"'1'!$CS$56","v":0},{"$f":"'1'!$CT$56","v":0},1,{"$f":"VLOOKUP(DS53,Přehled!$C$5:$AL$24,36)","v":""},null,null,null,null,null,null,null,null,null,null,null,null,null,null,null,{"$f":"'2'!$DO$25","v":0},{"$f":"'2'!$DP$25","v":0},{"$f":"'2'!$DQ$25","v":0},2,{"$f":"VLOOKUP(EM53,Přehled!$C$5:$AL$24,36)","v":""}]
[{"$f":"'1'!$A$62","v":0},{"$f":"'1'!$B$62","v":0},{"$f":"'1'!$C$62","v":0},{"$f":"SUMIF($B$5:$B$2024,Souhrn_hod[[#This Row],[Jméno]],$E$5:$E$2024)","v":0},{"$f":"'1'!$D$62","v":0},{"$f":"'1'!$E$62","v":0},{"$f":"'1'!$F$62","v":0},{"$f":"'1'!$G$62","v":0},{"$f":"'1'!$H$62","v":0},{"$f":"'1'!$I$62","v":0},{"$f":"'1'!$J$62","v":0},{"$f":"'1'!$K$62","v":0},{"$f":"'1'!$L$62","v":0},{"$f":"'1'!$M$62","v":0},{"$f":"'1'!$N$62","v":0},{"$f":"'1'!$O$62","v":0},{"$f":"'1'!$P$62","v":0},{"$f":"'1'!$Q$62","v":0},{"$f":"'1'!$R$62","v":0},{"$f":"'1'!$S$62","v":0},{"$f":"'1'!$T$62","v":0},{"$f":"'1'!$U$62","v":0},{"$f":"'1'!$V$62","v":0},{"$f":"'1'!$W$62","v":0},{"$f":"'1'!$X$62","v":0},{"$f":"'1'!$Y$62","v":0},{"$f":"'1'!$Z$62","v":0},{"$f":"'1'!$AA$62","v":0},{"$f":"'1'!$AB$62","v":0},{"$f":"'1'!$AC$62","v":0},{"$f":"'1'!$AD$62","v":0},{"$f":"'1'!$AE$62","v":0},{"$f":"'1'!$AF$62","v":0},{"$f":"'1'!$AG$62","v":0},{"$f":"'1'!$AH$62","v":0},{"$f":"'1'!$AI$62","v":0},{"$f":"'1'!$AJ$62","v":0},1,{"$f":"VLOOKUP(AL54,Přehled!$C$5:$AL$24,36)","v":""},null,null,null,null,null,null,null,null,null,null,null,null,null,null,null,null,null,null,null,null,null,null,null,null,null,null,null,null,null,{"$f":"'1'!$AO$57","v":0},{"$f":"'1'!$AP$57","v":0},{"$f":"'1'!$AQ$57","v":0},{"$f":"'1'!$AR$57","v":0},{"$f":"'1'!$AS$57","v":0},{"$f":"'1'!$AT$57","v":0},1,{"$f":"VLOOKUP(BW54,Přehled!$C$5:$AL$24,36)","v":""},null,null,null,null,null,null,null,null,null,null,null,null,null,null,null,null,null,null,null,null,{"$f":"'1'!$BP$57","v":0},{"$f":"'1'!$BQ$57","v":0},{"$f":"'1'!$BR$57","v":0},{"$f":"'1'!$BS$57","v":0},{"$f":"'1'!$BT$57","v":0},{"$f":"'1'!$BU$57","v":0},1,{"$f":"VLOOKUP(CY54,Přehled!$C$5:$AL$24,36)","v":""},null,null,null,null,null,null,null,null,null,null,null,null,null,null,null,{"$f":"'1'!$CR$57","v":0},{"$f":"'1'!$CS$57","v":0},{"$f":"'1'!$CT$57","v":0},1,{"$f":"VLOOKUP(DS54,Přehled!$C$5:$AL$24,36)","v":""},null,null,null,null,null,null,null,null,null,null,null,null,null,null,null,{"$f":"'2'!$DO$26","v":0},{"$f":"'2'!$DP$26","v":0},{"$f":"'2'!$DQ$26","v":0},2,{"$f":"VLOOKUP(EM54,Přehled!$C$5:$AL$24,36)","v":""}]
[{"$f":"'1'!$A$58","v":0},{"$f":"'1'!$B$58","v":0},{"$f":"'1'!$C$58","v":0},{"$f":"SUMIF($B$5:$B$2024,Souhrn_hod[[#This Row],[Jméno]],$E$5:$E$2024)","v":0},{"$f":"'1'!$D$58","v":0},{"$f":"'1'!$E$58","v":0},{"$f":"'1'!$F$58","v":0},{"$f":"'1'!$G$58","v":0},{"$f":"'1'!$H$58","v":0},{"$f":"'1'!$I$58","v":0},{"$f":"'1'!$J$58","v":0},{"$f":"'1'!$K$58","v":0},{"$f":"'1'!$L$58","v":0},{"$f":"'1'!$M$58","v":0},{"$f":"'1'!$N$58","v":0},{"$f":"'1'!$O$58","v":0},{"$f":"'1'!$P$58","v":0},{"$f":"'1'!$Q$58","v":0},{"$f":"'1'!$R$58","v":0},{"$f":"'1'!$S$58","v":0},{"$f":"'1'!$T$58","v":0},{"$f":"'1'!$U$58","v":0},{"$f":"'1'!$V$58","v":0},{"$f":"'1'!$W$58","v":0},{"$f":"'1'!$X$58","v":0},{"$f":"'1'!$Y$58","v":0},{"$f":"'1'!$Z$58","v":0},{"$f":"'1'!$AA$58","v":0},{"$f":"'1'!$AB$58","v":0},{"$f":"'1'!$AC$58","v":0},{"$f":"'1'!$AD$58","v":0},{"$f":"'1'!$AE$58","v":0},{"$f":"'1'!$AF$58","v":0},{"$f":"'1'!$AG$58","v":0},{"$f":"'1'!$AH$58","v":0},{"$f":"'1'!$AI$58","v":0},{"$f":"'1'!$AJ$58","v":0},1,{"$f":"VLOOKUP(AL55,Přehled!$C$5:$AL$24,36)","v":""},null,null,null,null,null,null,null,null,null,null,null,null,null,null,null,null,null,null,null,null,null,null,null,null,null,null,null,null,null,{"$f":"'1'!$AO$53","v":0},{"$f":"'1'!$AP$53","v":0},{"$f":"'1'!$AQ$53","v":0},{"$f":"'1'!$AR$53","v":0},{"$f":"'1'!$AS$53","v":0},{"$f":"'1'!$AT$53","v":0},1,{"$f":"VLOOKUP(BW55,Přehled!$C$5:$AL$24,36)","v":""},null,null,null,null,null,null,null,null,null,null,null,null,null,null,null,null,null,null,null,null,{"$f":"'1'!$BP$58","v":0},{"$f":"'1'!$BQ$58","v":0},{"$f":"'1'!$BR$58","v":0},{"$f":"'1'!$BS$58","v":0},{"$f":"'1'!$BT$58","v":0},{"$f":"'1'!$BU$58","v":0},1,{"$f":"VLOOKUP(CY55,Přehled!$C$5:$AL$24,36)","v":""},null,null,null,null,null,null,null,null,null,null,null,null,null,null,null,{"$f":"'1'!$CR$58","v":0},{"$f":"'1'!$CS$58","v":0},{"$f":"'1'!$CT$58","v":0},1,{"$f":"VLOOKUP(DS55,Přehled!$C$5:$AL$24,36)","v":""},null,null,null,null,null,null,null,null,null,null,null,null,null,null,null,{"$f":"'2'!$DO$27","v":0},{"$f":"'2'!$DP$27","v":0},{"$f":"'2'!$DQ$27","v":0},2,{"$f":"VLOOKUP(EM55,Přehled!$C$5:$AL$24,36)","v":""}]
[{"$f":"'1'!$A$59","v":0},{"$f":"'1'!$B$59","v":0},{"$f":"'1'!$C$59","v":0},{"$f":"SUMIF($B$5:$B$2024,Souhrn_hod[[#This Row],[Jméno]],$E$5:$E$2024)","v":0},{"$f":"'1'!$D$59","v":0},{"$f":"'1'!$E$59","v":0},{"$f":"'1'!$F$59","v":0},{"$f":"'1'!$G$59","v":0},{"$f":"'1'!$H$59","v":0},{"$f":"'1'!$I$59","v":0},{"$f":"'1'!$J$59","v":0},{"$f":"'1'!$K$59","v":0},{"$f":"'1'!$L$59","v":0},{"$f":"'1'!$M$59","v":0},{"$f":"'1'!$N$59","v":0},{"$f":"'1'!$O$59","v":0},{"$f":"'1'!$P$59","v":0},{"$f":"'1'!$Q$59","v":0},{"$f":"'1'!$R$59","v":0},{"$f":"'1'!$S$59","v":0},{"$f":"'1'!$T$59","v":0},{"$f":"'1'!$U$59","v":0},{"$f":"'1'!$V$59","v":0},{"$f":"'1'!$W$59","v":0},{"$f":"'1'!$X$59","v":0},{"$f":"'1'!$Y$59","v":0},{"$f":"'1'!$Z$59","v":0},{"$f":"'1'!$AA$59","v":0},{"$f":"'1'!$AB$59","v":0},{"$f":"'1'!$AC$59","v":0},{"$f":"'1'!$AD$59","v":0},{"$f":"'1'!$AE$59","v":0},{"$f":"'1'!$AF$59","v":0},{"$f":"'1'!$AG$59","v":0},{"$f":"'1'!$AH$59","v":0},{"$f":"'1'!$AI$59","v":0},{"$f":"'1'!$AJ$59","v":0},1,{"$f":"VLOOKUP(AL56,Přehled!$C$5:$AL$24,36)","v":""},null,null,null,null,null,null,null,null,null,null,null,null,null,null,null,null,null,null,null,null,null,null,null,null,null,null,null,null,null,{"$f":"'1'!$AO$59","v":0},{"$f":"'1'!$AP$59","v":0},{"$f":"'1'!$AQ$59","v":0},{"$f":"'1'!$AR$59","v":0},{"$f":"'1'!$AS$59","v":0},{"$f":"'1'!$AT$59","v":0},1,{"$f":"VLOOKUP(BW56,Přehled!$C$5:$AL$24,36)","v":""},null,null,null,null,null,null,null,null,null,null,null,null,null,null,null,null,null,null,null,null,{"$f":"'1'!$BP$59","v":0},{"$f":"'1'!$BQ$59","v":0},{"$f":"'1'!$BR$59","v":0},{"$f":"'1'!$BS$59","v":0},{"$f":"'1'!$BT$59","v":0},{"$f":"'1'!$BU$59","v":0},1,{"$f":"VLOOKUP(CY56,Přehled!$C$5:$AL$24,36)","v":""},null,null,null,null,null,null,null,null,null,null,null,null,null,null,null,{"$f":"'1'!$CR$59","v":0},{"$f":"'1'!$CS$59","v":0},{"$f":"'1'!$CT$59","v":0},1,{"$f":"VLOOKUP(DS56,Přehled!$C$5:$AL$24,36)","v":""},null,null,null,null,null,null,null,null,null,null,null,null,null,null,null,{"$f":"'2'!$DO$28","v":0},{"$f":"'2'!$DP$28","v":0},{"$f":"'2'!$DQ$28","v":0},2,{"$f":"VLOOKUP(EM56,Přehled!$C$5:$AL$24,36)","v":""}]
[{"$f":"'1'!$A$60","v":0},{"$f":"'1'!$B$60","v":0},{"$f":"'1'!$C$60","v":0},{"$f":"SUMIF($B$5:$B$2024,Souhrn_hod[[#This Row],[Jméno]],$E$5:$E$2024)","v":0},{"$f":"'1'!$D$60","v":0},{"$f":"'1'!$E$60","v":0},{"$f":"'1'!$F$60","v":0},{"$f":"'1'!$G$60","v":0},{"$f":"'1'!$H$60","v":0},{"$f":"'1'!$I$60","v":0},{"$f":"'1'!$J$60","v":0},{"$f":"'1'!$K$60","v":0},{"$f":"'1'!$L$60","v":0},{"$f":"'1'!$M$60","v":0},{"$f":"'1'!$N$60","v":0},{"$f":"'1'!$O$60","v":0},{"$f":"'1'!$P$60","v":0},{"$f":"'1'!$Q$60","v":0},{"$f":"'1'!$R$60","v":0},{"$f":"'1'!$S$60","v":0},{"$f":"'1'!$T$60","v":0},{"$f":"'1'!$U$60","v":0},{"$f":"'1'!$V$60","v":0},{"$f":"'1'!$W$60","v":0},{"$f":"'1'!$X$60","v":0},{"$f":"'1'!$Y$60","v":0},{"$f":"'1'!$Z$60","v":0},{"$f":"'1'!$AA$60","v":0},{"$f":"'1'!$AB$60","v":0},{"$f":"'1'!$AC$60","v":0},{"$f":"'1'!$AD$60","v":0},{"$f":"'1'!$AE$60","v":0},{"$f":"'1'!$AF$60","v":0},{"$f":"'1'!$AG$60","v":0},{"$f":"'1'!$AH$60","v":0},{"$f":"'1'!$AI$60","v":0},{"$f":"'1'!$AJ$60","v":0},1,{"$f":"VLOOKUP(AL57,Přehled!$C$5:$AL$24,36)","v":""},null,null,null,null,null,null,null,null,null,null,null,null,null,null,null,null,null,null,null,null,null,null,null,null,null,null,null,null,null,{"$f":"'1'!$AO$60","v":0},{"$f":"'1'!$AP$60","v":0},{"$f":"'1'!$AQ$60","v":0},{"$f":"'1'!$AR$60","v":0},{"$f":"'1'!$AS$60","v":0},{"$f":"'1'!$AT$60","v":0},1,{"$f":"VLOOKUP(BW57,Přehled!$C$5:$AL$24,36)","v":""},null,null,null,null,null,null,null,null,null,null,null,null,null,null,null,null,null,null,null,null,{"$f":"'1'!$BP$60","v":0},{"$f":"'1'!$BQ$60","v":0},{"$f":"'1'!$BR$60","v":0},{"$f":"'1'!$BS$60","v":0},{"$f":"'1'!$BT$60","v":0},{"$f":"'1'!$BU$60","v":0},1,{"$f":"VLOOKUP(CY57,Přehled!$C$5:$AL$24,36)","v":""},null,null,null,null,null,null,null,null,null,null,null,null,null,null,null,{"$f":"'1'!$CR$60","v":0},{"$f":"'1'!$CS$60","v":0},{"$f":"'1'!$CT$60","v":0},1,{"$f":"VLOOKUP(DS57,Přehled!$C$5:$AL$24,36)","v":""},null,null,null,null,null,null,null,null,null,null,null,null,null,null,null,{"$f":"'2'!$DO$29","v":0},{"$f":"'2'!$DP$29","v":0},{"$f":"'2'!$DQ$29","v":0},2,{"$f":"VLOOKUP(EM57,Přehled!$C$5:$AL$24,36)","v":""}]
[{"$f":"'1'!$A$61","v":0},{"$f":"'1'!$B$61","v":0},{"$f":"'1'!$C$61","v":0},{"$f":"SUMIF($B$5:$B$2024,Souhrn_hod[[#This Row],[Jméno]],$E$5:$E$2024)","v":0},{"$f":"'1'!$D$61","v":0},{"$f":"'1'!$E$61","v":0},{"$f":"'1'!$F$61","v":0},{"$f":"'1'!$G$61","v":0},{"$f":"'1'!$H$61","v":0},{"$f":"'1'!$I$61","v":0},{"$f":"'1'!$J$61","v":0},{"$f":"'1'!$K$61","v":0},{"$f":"'1'!$L$61","v":0},{"$f":"'1'!$M$61","v":0},{"$f":"'1'!$N$61","v":0},{"$f":"'1'!$O$61","v":0},{"$f":"'1'!$P$61","v":0},{"$f":"'1'!$Q$61","v":0},{"$f":"'1'!$R$61","v":0},{"$f":"'1'!$S$61","v":0},{"$f":"'1'!$T$61","v":0},{"$f":"'1'!$U$61","v":0},{"$f":"'1'!$V$61","v":0},{"$f":"'1'!$W$61","v":0},{"$f":"'1'!$X$61","v":0},{"$f":"'1'!$Y$61","v":0},{"$f":"'1'!$Z$61","v":0},{"$f":"'1'!$AA$61","v":0},{"$f":"'1'!$AB$61","v":0},{"$f":"'1'!$AC$61","v":0},{"$f":"'1'!$AD$61","v":0},{"$f":"'1'!$AE$61","v":0},{"$f":"'1'!$AF$61","v":0},{"$f":"'1'!$AG$61","v":0},{"$f":"'1'!$AH$61","v":0},{"$f":"'1'!$AI$61","v":0},{"$f":"'1'!$AJ$61","v":0},1,{"$f":"VLOOKUP(AL58,Přehled!$C$5:$AL$24,36)","v":""},null,null,null,null,null,null,null,null,null,null,null,null,null,null,null,null,null,null,null,null,null,null,null,null,null,null,null,null,null,{"$f":"'1'!$AO$61","v":0},{"$f":"'1'!$AP$61","v":0},{"$f":"'1'!$AQ$61","v":0},{"$f":"'1'!$AR$61","v":0},{"$f":"'1'!$AS$61","v":0},{"$f":"'1'!$AT$61","v":0},1,{"$f":"VLOOKUP(BW58,Přehled!$C$5:$AL$24,36)","v":""},null,null,null,null,null,null,null,null,null,null,null,null,null,null,null,null,null,null,null,null,{"$f":"'1'!$BP$61","v":0},{"$f":"'1'!$BQ$61","v":0},{"$f":"'1'!$BR$61","v":0},{"$f":"'1'!$BS$61","v":0},{"$f":"'1'!$BT$61","v":0},{"$f":"'1'!$BU$61","v":0},1,{"$f":"VLOOKUP(CY58,Přehled!$C$5:$AL$24,36)","v":""},null,null,null,null,null,null,null,null,null,null,null,null,null,null,null,{"$f":"'1'!$CR$61","v":0},{"$f":"'1'!$CS$61","v":0},{"$f":"'1'!$CT$61","v":0},1,{"$f":"VLOOKUP(DS58,Přehled!$C$5:$AL$24,36)","v":""},null,null,null,null,null,null,null,null,null,null,null,null,null,null,null,{"$f":"'2'!$DO$30","v":0},{"$f":"'2'!$DP$30","v":0},{"$f":"'2'!$DQ$30","v":0},2,{"$f":"VLOOKUP(EM58,Přehled!$C$5:$AL$24,36)","v":""}]
[{"$f":"'1'!$A$20","v":0},{"$f":"'1'!$B$20","v":0},{"$f":"'1'!$C$20","v":0},{"$f":"SUMIF($B$5:$B$2024,Souhrn_hod[[#This Row],[Jméno]],$E$5:$E$2024)","v":0},{"$f":"'1'!$D$20","v":0},{"$f":"'1'!$E$20","v":0},{"$f":"'1'!$F$20","v":0},{"$f":"'1'!$G$20","v":0},{"$f":"'1'!$H$20","v":0},{"$f":"'1'!$I$20","v":0},{"$f":"'1'!$J$20","v":0},{"$f":"'1'!$K$20","v":0},{"$f":"'1'!$L$20","v":0},{"$f":"'1'!$M$20","v":0},{"$f":"'1'!$N$20","v":0},{"$f":"'1'!$O$20","v":0},{"$f":"'1'!$P$20","v":0},{"$f":"'1'!$Q$20","v":0},{"$f":"'1'!$R$20","v":0},{"$f":"'1'!$S$20","v":0},{"$f":"'1'!$T$20","v":0},{"$f":"'1'!$U$20","v":0},{"$f":"'1'!$V$20","v":0},{"$f":"'1'!$W$20","v":0},{"$f":"'1'!$X$20","v":0},{"$f":"'1'!$Y$20","v":0},{"$f":"'1'!$Z$20","v":0},{"$f":"'1'!$AA$20","v":0},{"$f":"'1'!$AB$20","v":0},{"$f":"'1'!$AC$20","v":0},{"$f":"'1'!$AD$20","v":0},{"$f":"'1'!$AE$20","v":0},{"$f":"'1'!$AF$20","v":0},{"$f":"'1'!$AG$20","v":0},{"$f":"'1'!$AH$20","v":0},{"$f":"'1'!$AI$20","v":0},{"$f":"'1'!$AJ$20","v":0},1,{"$f":"VLOOKUP(AL59,Přehled!$C$5:$AL$24,36)","v":""},null,null,null,null,null,null,null,null,null,null,null,null,null,null,null,null,null,null,null,null,null,null,null,null,null,null,null,null,null,{"$f":"'1'!$AO$62","v":0},{"$f":"'1'!$AP$62","v":0},{"$f":"'1'!$AQ$62","v":0},{"$f":"'1'!$AR$62","v":0},{"$f":"'1'!$AS$62","v":0},{"$f":"'1'!$AT$62","v":0},1,{"$f":"VLOOKUP(BW59,Přehled!$C$5:$AL$24,36)","v":""},null,null,null,null,null,null,null,null,null,null,null,null,null,null,null,null,null,null,null,null,{"$f":"'1'!$BP$62","v":0},{"$f":"'1'!$BQ$62","v":0},{"$f":"'1'!$BR$62","v":0},{"$f":"'1'!$BS$62","v":0},{"$f":"'1'!$BT$62","v":0},{"$f":"'1'!$BU$62","v":0},1,{"$f":"VLOOKUP(CY59,Přehled!$C$5:$AL$24,36)","v":""},null,null,null,null,null,null,null,null,null,null,null,null,null,null,null,{"$f":"'1'!$CR$62","v":0},{"$f":"'1'!$CS$62","v":0},{"$f":"'1'!$CT$62","v":0},1,{"$f":"VLOOKUP(DS59,Přehled!$C$5:$AL$24,36)","v":""},null,null,null,null,null,null,null,null,null,null,null,null,null,null,null,{"$f":"'2'!$DO$31","v":0},{"$f":"'2'!$DP$31","v":0},{"$f":"'2'!$DQ$31","v":0},2,{"$f":"VLOOKUP(EM59,Přehled!$C$5:$AL$24,36)","v":""}]
[{"$f":"'1'!$A$63","v":0},{"$f":"'1'!$B$63","v":0},{"$f":"'1'!$C$63","v":0},{"$f":"SUMIF($B$5:$B$2024,Souhrn_hod[[#This Row],[Jméno]],$E$5:$E$2024)","v":0},{"$f":"'1'!$D$63","v":0},{"$f":"'1'!$E$63","v":0},{"$f":"'1'!$F$63","v":0},{"$f":"'1'!$G$63","v":0},{"$f":"'1'!$H$63","v":0},{"$f":"'1'!$I$63","v":0},{"$f":"'1'!$J$63","v":0},{"$f":"'1'!$K$63","v":0},{"$f":"'1'!$L$63","v":0},{"$f":"'1'!$M$63","v":0},{"$f":"'1'!$N$63","v":0},{"$f":"'1'!$O$63","v":0},{"$f":"'1'!$P$63","v":0},{"$f":"'1'!$Q$63","v":0},{"$f":"'1'!$R$63","v":0},{"$f":"'1'!$S$63","v":0},{"$f":"'1'!$T$63","v":0},{"$f":"'1'!$U$63","v":0},{"$f":"'1'!$V$63","v":0},{"$f":"'1'!$W$63","v":0},{"$f":"'1'!$X$63","v":0},{"$f":"'1'!$Y$63","v":0},{"$f":"'1'!$Z$63","v":0},{"$f":"'1'!$AA$63","v":0},{"$f":"'1'!$AB$63","v":0},{"$f":"'1'!$AC$63","v":0},{"$f":"'1'!$AD$63","v":0},{"$f":"'1'!$AE$63","v":0},{"$f":"'1'!$AF$63","v":0},{"$f":"'1'!$AG$63","v":0},{"$f":"'1'!$AH$63","v":0},{"$f":"'1'!$AI$63","v":0},{"$f":"'1'!$AJ$63","v":0},1,{"$f":"VLOOKUP(AL60,Přehled!$C$5:$AL$24,36)","v":""},null,null,null,null,null,null,null,null,null,null,null,null,null,null,null,null,null,null,null,null,null,null,null,null,null,null,null,null,null,{"$f":"'3'!$AO$53","v":0},{"$f":"'3'!$AP$53","v":0},{"$f":"'3'!$AQ$53","v":0},{"$f":"'3'!$AR$53","v":0},{"$f":"'3'!$AS$53","v":0},{"$f":"'3'!$AT$53","v":0},3,{"$f":"VLOOKUP(BW60,Přehled!$C$5:$AL$24,36)","v":""},null,null,null,null,null,null,null,null,null,null,null,null,null,null,null,null,null,null,null,null,{"$f":"'1'!$BP$63","v":0},{"$f":"'1'!$BQ$63","v":0},{"$f":"'1'!$BR$63","v":0},{"$f":"'1'!$BS$63","v":0},{"$f":"'1'!$BT$63","v":0},{"$f":"'1'!$BU$63","v":0},1,{"$f":"VLOOKUP(CY60,Přehled!$C$5:$AL$24,36)","v":""},null,null,null,null,null,null,null,null,null,null,null,null,null,null,null,{"$f":"'1'!$CR$63","v":0},{"$f":"'1'!$CS$63","v":0},{"$f":"'1'!$CT$63","v":0},1,{"$f":"VLOOKUP(DS60,Přehled!$C$5:$AL$24,36)","v":""},null,null,null,null,null,null,null,null,null,null,null,null,null,null,null,{"$f":"'2'!$DO$32","v":0},{"$f":"'2'!$DP$32","v":0},{"$f":"'2'!$DQ$32","v":0},2,{"$f":"VLOOKUP(EM60,Přehled!$C$5:$AL$24,36)","v":""}]
[{"$f":"'1'!$A$64","v":0},{"$f":"'1'!$B$64","v":0},{"$f":"'1'!$C$64","v":0},{"$f":"SUMIF($B$5:$B$2024,Souhrn_hod[[#This Row],[Jméno]],$E$5:$E$2024)","v":0},{"$f":"'1'!$D$64","v":0},{"$f":"'1'!$E$64","v":0},{"$f":"'1'!$F$64","v":0},{"$f":"'1'!$G$64","v":0},{"$f":"'1'!$H$64","v":0},{"$f":"'1'!$I$64","v":0},{"$f":"'1'!$J$64","v":0},{"$f":"'1'!$K$64","v":0},{"$f":"'1'!$L$64","v":0},{"$f":"'1'!$M$64","v":0},{"$f":"'1'!$N$64","v":0},{"$f":"'1'!$O$64","v":0},{"$f":"'1'!$P$64","v":0},{"$f":"'1'!$Q$64","v":0},{"$f":"'1'!$R$64","v":0},{"$f":"'1'!$S$64","v":0},{"$f":"'1'!$T$64","v":0},{"$f":"'1'!$U$64","v":0},{"$f":"'1'!$V$64","v":0},{"$f":"'1'!$W$64","v":0},{"$f":"'1'!$X$64","v":0},{"$f":"'1'!$Y$64","v":0},{"$f":"'1'!$Z$64","v":0},{"$f":"'1'!$AA$64","v":0},{"$f":"'1'!$AB$64","v":0},{"$f":"'1'!$AC$64","v":0},{"$f":"'1'!$AD$64","v":0},{"$f":"'1'!$AE$64","v":0},{"$f":"'1'!$AF$64","v":0},{"$f":"'1'!$AG$64","v":0},{"$f":"'1'!$AH$64","v":0},{"$f":"'1'!$AI$64","v":0},{"$f":"'1'!$AJ$64","v":0},1,{"$f":"VLOOKUP(AL61,Přehled!$C$5:$AL$24,36)","v":""},null,null,null,null,null,null,null,null,null,null,null,null,null,null,null,null,null,null,null,null,null,null,null,null,null,null,null,null,null,{"$f":"'1'!$AO$64","v":0},{"$f":"'1'!$AP$64","v":0},{"$f":"'1'!$AQ$64","v":0},{"$f":"'1'!$AR$64","v":0},{"$f":"'1'!$AS$64","v":0},{"$f":"'1'!$AT$64","v":0},1,{"$f":"VLOOKUP(BW61,Přehled!$C$5:$AL$24,36)","v":""},null,null,null,null,null,null,null,null,null,null,null,null,null,null,null,null,null,null,null,null,{"$f":"'1'!$BP$64","v":0},{"$f":"'1'!$BQ$64","v":0},{"$f":"'1'!$BR$64","v":0},{"$f":"'1'!$BS$64","v":0},{"$f":"'1'!$BT$64","v":0},{"$f":"'1'!$BU$64","v":0},1,{"$f":"VLOOKUP(CY61,Přehled!$C$5:$AL$24,36)","v":""},null,null,null,null,null,null,null,null,null,null,null,null,null,null,null,{"$f":"'1'!$CR$64","v":0},{"$f":"'1'!$CS$64","v":0},{"$f":"'1'!$CT$64","v":0},1,{"$f":"VLOOKUP(DS61,Přehled!$C$5:$AL$24,36)","v":""},null,null,null,null,null,null,null,null,null,null,null,null,null,null,null,{"$f":"'2'!$DO$33","v":0},{"$f":"'2'!$DP$33","v":0},{"$f":"'2'!$DQ$33","v":0},2,{"$f":"VLOOKUP(EM61,Přehled!$C$5:$AL$24,36)","v":""}]
[{"$f":"'1'!$A$65","v":0},{"$f":"'1'!$B$65","v":0},{"$f":"'1'!$C$65","v":0},{"$f":"SUMIF($B$5:$B$2024,Souhrn_hod[[#This Row],[Jméno]],$E$5:$E$2024)","v":0},{"$f":"'1'!$D$65","v":0},{"$f":"'1'!$E$65","v":0},{"$f":"'1'!$F$65","v":0},{"$f":"'1'!$G$65","v":0},{"$f":"'1'!$H$65","v":0},{"$f":"'1'!$I$65","v":0},{"$f":"'1'!$J$65","v":0},{"$f":"'1'!$K$65","v":0},{"$f":"'1'!$L$65","v":0},{"$f":"'1'!$M$65","v":0},{"$f":"'1'!$N$65","v":0},{"$f":"'1'!$O$65","v":0},{"$f":"'1'!$P$65","v":0},{"$f":"'1'!$Q$65","v":0},{"$f":"'1'!$R$65","v":0},{"$f":"'1'!$S$65","v":0},{"$f":"'1'!$T$65","v":0},{"$f":"'1'!$U$65","v":0},{"$f":"'1'!$V$65","v":0},{"$f":"'1'!$W$65","v":0},{"$f":"'1'!$X$65","v":0},{"$f":"'1'!$Y$65","v":0},{"$f":"'1'!$Z$65","v":0},{"$f":"'1'!$AA$65","v":0},{"$f":"'1'!$AB$65","v":0},{"$f":"'1'!$AC$65","v":0},{"$f":"'1'!$AD$65","v":0},{"$f":"'1'!$AE$65","v":0},{"$f":"'1'!$AF$65","v":0},{"$f":"'1'!$AG$65","v":0},{"$f":"'1'!$AH$65","v":0},{"$f":"'1'!$AI$65","v":0},{"$f":"'1'!$AJ$65","v":0},1,{"$f":"VLOOKUP(AL62,Přehled!$C$5:$AL$24,36)","v":""},null,null,null,null,null,null,null,null,null,null,null,null,null,null,null,null,null,null,null,null,null,null,null,null,null,null,null,null,null,{"$f":"'1'!$AO$65","v":0},{"$f":"'1'!$AP$65","v":0},{"$f":"'1'!$AQ$65","v":0},{"$f":"'1'!$AR$65","v":0},{"$f":"'1'!$AS$65","v":0},{"$f":"'1'!$AT$65","v":0},1,{"$f":"VLOOKUP(BW62,Přehled!$C$5:$AL$24,36)","v":""},null,null,null,null,null,null,null,null,null,null,null,null,null,null,null,null,null,null,null,null,{"$f":"'1'!$BP$65","v":0},{"$f":"'1'!$BQ$65","v":0},{"$f":"'1'!$BR$65","v":0},{"$f":"'1'!$BS$65","v":0},{"$f":"'1'!$BT$65","v":0},{"$f":"'1'!$BU$65","v":0},1,{"$f":"VLOOKUP(CY62,Přehled!$C$5:$AL$24,36)","v":""},null,null,null,null,null,null,null,null,null,null,null,null,null,null,null,{"$f":"'1'!$CR$65","v":0},{"$f":"'1'!$CS$65","v":0},{"$f":"'1'!$CT$65","v":0},1,{"$f":"VLOOKUP(DS62,Přehled!$C$5:$AL$24,36)","v":""},null,null,null,null,null,null,null,null,null,null,null,null,null,null,null,{"$f":"'2'!$DO$34","v":0},{"$f":"'2'!$DP$34","v":0},{"$f":"'2'!$DQ$34","v":0},2,{"$f":"VLOOKUP(EM62,Přehled!$C$5:$AL$24,36)","v":""}]
[{"$f":"'1'!$A$66","v":0},{"$f":"'1'!$B$66","v":0},{"$f":"'1'!$C$66","v":0},{"$f":"SUMIF($B$5:$B$2024,Souhrn_hod[[#This Row],[Jméno]],$E$5:$E$2024)","v":0},{"$f":"'1'!$D$66","v":0},{"$f":"'1'!$E$66","v":0},{"$f":"'1'!$F$66","v":0},{"$f":"'1'!$G$66","v":0},{"$f":"'1'!$H$66","v":0},{"$f":"'1'!$I$66","v":0},{"$f":"'1'!$J$66","v":0},{"$f":"'1'!$K$66","v":0},{"$f":"'1'!$L$66","v":0},{"$f":"'1'!$M$66","v":0},{"$f":"'1'!$N$66","v":0},{"$f":"'1'!$O$66","v":0},{"$f":"'1'!$P$66","v":0},{"$f":"'1'!$Q$66","v":0},{"$f":"'1'!$R$66","v":0},{"$f":"'1'!$S$66","v":0},{"$f":"'1'!$T$66","v":0},{"$f":"'1'!$U$66","v":0},{"$f":"'1'!$V$66","v":0},{"$f":"'1'!$W$66","v":0},{"$f":"'1'!$X$66","v":0},{"$f":"'1'!$Y$66","v":0},{"$f":"'1'!$Z$66","v":0},{"$f":"'1'!$AA$66","v":0},{"$f":"'1'!$AB$66","v":0},{"$f":"'1'!$AC$66","v":0},{"$f":"'1'!$AD$66","v":0},{"$f":"'1'!$AE$66","v":0},{"$f":"'1'!$AF$66","v":0},{"$f":"'1'!$AG$66","v":0},{"$f":"'1'!$AH$66","v":0},{"$f":"'1'!$AI$66","v":0},{"$f":"'1'!$AJ$66","v":0},1,{"$f":"VLOOKUP(AL63,Přehled!$C$5:$AL$24,36)","v":""},null,null,null,null,null,null,null,null,null,null,null,null,null,null,null,null,null,null,null,null,null,null,null,null,null,null,null,null,null,{"$f":"'1'!$AO$66","v":0},{"$f":"'1'!$AP$66","v":0},{"$f":"'1'!$AQ$66","v":0},{"$f":"'1'!$AR$66","v":0},{"$f":"'1'!$AS$66","v":0},{"$f":"'1'!$AT$66","v":0},1,{"$f":"VLOOKUP(BW63,Přehled!$C$5:$AL$24,36)","v":""},null,null,null,null,null,null,null,null,null,null,null,null,null,null,null,null,null,null,null,null,{"$f":"'1'!$BP$66","v":0},{"$f":"'1'!$BQ$66","v":0},{"$f":"'1'!$BR$66","v":0},{"$f":"'1'!$BS$66","v":0},{"$f":"'1'!$BT$66","v":0},{"$f":"'1'!$BU$66","v":0},1,{"$f":"VLOOKUP(CY63,Přehled!$C$5:$AL$24,36)","v":""},null,null,null,null,null,null,null,null,null,null,null,null,null,null,null,{"$f":"'1'!$CR$66","v":0},{"$f":"'1'!$CS$66","v":0},{"$f":"'1'!$CT$66","v":0},1,{"$f":"VLOOKUP(DS63,Přehled!$C$5:$AL$24,36)","v":""},null,null,null,null,null,null,null,null,null,null,null,null,null,null,null,{"$f":"'2'!$DO$35","v":0},{"$f":"'2'!$DP$35","v":0},{"$f":"'2'!$DQ$35","v":0},2,{"$f":"VLOOKUP(EM63,Přehled!$C$5:$AL$24,36)","v":""}]
[{"$f":"'1'!$A$67","v":0},{"$f":"'1'!$B$67","v":0},{"$f":"'1'!$C$67","v":0},{"$f":"SUMIF($B$5:$B$2024,Souhrn_hod[[#This Row],[Jméno]],$E$5:$E$2024)","v":0},{"$f":"'1'!$D$67","v":0},{"$f":"'1'!$E$67","v":0},{"$f":"'1'!$F$67","v":0},{"$f":"'1'!$G$67","v":0},{"$f":"'1'!$H$67","v":0},{"$f":"'1'!$I$67","v":0},{"$f":"'1'!$J$67","v":0},{"$f":"'1'!$K$67","v":0},{"$f":"'1'!$L$67","v":0},{"$f":"'1'!$M$67","v":0},{"$f":"'1'!$N$67","v":0},{"$f":"'1'!$O$67","v":0},{"$f":"'1'!$P$67","v":0},{"$f":"'1'!$Q$67","v":0},{"$f":"'1'!$R$67","v":0},{"$f":"'1'!$S$67","v":0},{"$f":"'1'!$T$67","v":0},{"$f":"'1'!$U$67","v":0},{"$f":"'1'!$V$67","v":0},{"$f":"'1'!$W$67","v":0},{"$f":"'1'!$X$67","v":0},{"$f":"'1'!$Y$67","v":0},{"$f":"'1'!$Z$67","v":0},{"$f":"'1'!$AA$67","v":0},{"$f":"'1'!$AB$67","v":0},{"$f":"'1'!$AC$67","v":0},{"$f":"'1'!$AD$67","v":0},{"$f":"'1'!$AE$67","v":0},{"$f":"'1'!$AF$67","v":0},{"$f":"'1'!$AG$67","v":0},{"$f":"'1'!$AH$67","v":0},{"$f":"'1'!$AI$67","v":0},{"$f":"'1'!$AJ$67","v":0},1,{"$f":"VLOOKUP(AL64,Přehled!$C$5:$AL$24,36)","v":""},null,null,null,null,null,null,null,null,null,null,null,null,null,null,null,null,null,null,null,null,null,null,null,null,null,null,null,null,null,{"$f":"'1'!$AO$67","v":0},{"$f":"'1'!$AP$67","v":0},{"$f":"'1'!$AQ$67","v":0},{"$f":"'1'!$AR$67","v":0},{"$f":"'1'!$AS$67","v":0},{"$f":"'1'!$AT$67","v":0},1,{"$f":"VLOOKUP(BW64,Přehled!$C$5:$AL$24,36)","v":""},null,null,null,null,null,null,null,null,null,null,null,null,null,null,null,null,null,null,null,null,{"$f":"'1'!$BP$67","v":0},{"$f":"'1'!$BQ$67","v":0},{"$f":"'1'!$BR$67","v":0},{"$f":"'1'!$BS$67","v":0},{"$f":"'1'!$BT$67","v":0},{"$f":"'1'!$BU$67","v":0},1,{"$f":"VLOOKUP(CY64,Přehled!$C$5:$AL$24,36)","v":""},null,null,null,null,null,null,null,null,null,null,null,null,null,null,null,{"$f":"'1'!$CR$67","v":0},{"$f":"'1'!$CS$67","v":0},{"$f":"'1'!$CT$67","v":0},1,{"$f":"VLOOKUP(DS64,Přehled!$C$5:$AL$24,36)","v":""},null,null,null,null,null,null,null,null,null,null,null,null,null,null,null,{"$f":"'2'!$DO$36","v":0},{"$f":"'2'!$DP$36","v":0},{"$f":"'2'!$DQ$36","v":0},2,{"$f":"VLOOKUP(EM64,Přehled!$C$5:$AL$24,36)","v":""}]
[{"$f":"'1'!$A$68","v":0},{"$f":"'1'!$B$68","v":0},{"$f":"'1'!$C$68","v":0},{"$f":"SUMIF($B$5:$B$2024,Souhrn_hod[[#This Row],[Jméno]],$E$5:$E$2024)","v":0},{"$f":"'1'!$D$68","v":0},{"$f":"'1'!$E$68","v":0},{"$f":"'1'!$F$68","v":0},{"$f":"'1'!$G$68","v":0},{"$f":"'1'!$H$68","v":0},{"$f":"'1'!$I$68","v":0},{"$f":"'1'!$J$68","v":0},{"$f":"'1'!$K$68","v":0},{"$f":"'1'!$L$68","v":0},{"$f":"'1'!$M$68","v":0},{"$f":"'1'!$N$68","v":0},{"$f":"'1'!$O$68","v":0},{"$f":"'1'!$P$68","v":0},{"$f":"'1'!$Q$68","v":0},{"$f":"'1'!$R$68","v":0},{"$f":"'1'!$S$68","v":0},{"$f":"'1'!$T$68","v":0},{"$f":"'1'!$U$68","v":0},{"$f":"'1'!$V$68","v":0},{"$f":"'1'!$W$68","v":0},{"$f":"'1'!$X$68","v":0},{"$f":"'1'!$Y$68","v":0},{"$f":"'1'!$Z$68","v":0},{"$f":"'1'!$AA$68","v":0},{"$f":"'1'!$AB$68","v":0},{"$f":"'1'!$AC$68","v":0},{"$f":"'1'!$AD$68","v":0},{"$f":"'1'!$AE$68","v":0},{"$f":"'1'!$AF$68","v":0},{"$f":"'1'!$AG$68","v":0},{"$f":"'1'!$AH$68","v":0},{"$f":"'1'!$AI$68","v":0},{"$f":"'1'!$AJ$68","v":0},1,{"$f":"VLOOKUP(AL65,Přehled!$C$5:$AL$24,36)","v":""},null,null,null,null,null,null,null,null,null,null,null,null,null,null,null,null,null,null,null,null,null,null,null,null,null,null,null,null,null,{"$f":"'3'!$AO$54","v":0},{"$f":"'3'!$AP$54","v":0},{"$f":"'3'!$AQ$54","v":0},{"$f":"'3'!$AR$54","v":0},{"$f":"'3'!$AS$54","v":0},{"$f":"'3'!$AT$54","v":0},3,{"$f":"VLOOKUP(BW65,Přehled!$C$5:$AL$24,36)","v":""},null,null,null,null,null,null,null,null,null,null,null,null,null,null,null,null,null,null,null,null,{"$f":"'1'!$BP$68","v":0},{"$f":"'1'!$BQ$68","v":0},{"$f":"'1'!$BR$68","v":0},{"$f":"'1'!$BS$68","v":0},{"$f":"'1'!$BT$68","v":0},{"$f":"'1'!$BU$68","v":0},1,{"$f":"VLOOKUP(CY65,Přehled!$C$5:$AL$24,36)","v":""},null,null,null,null,null,null,null,null,null,null,null,null,null,null,null,{"$f":"'1'!$CR$68","v":0},{"$f":"'1'!$CS$68","v":0},{"$f":"'1'!$CT$68","v":0},1,{"$f":"VLOOKUP(DS65,Přehled!$C$5:$AL$24,36)","v":""},null,null,null,null,null,null,null,null,null,null,null,null,null,null,null,{"$f":"'2'!$DO$37","v":0},{"$f":"'2'!$DP$37","v":0},{"$f":"'2'!$DQ$37","v":0},2,{"$f":"VLOOKUP(EM65,Přehled!$C$5:$AL$24,36)","v":""}]
[{"$f":"'1'!$A$69","v":0},{"$f":"'1'!$B$69","v":0},{"$f":"'1'!$C$69","v":0},{"$f":"SUMIF($B$5:$B$2024,Souhrn_hod[[#This Row],[Jméno]],$E$5:$E$2024)","v":0},{"$f":"'1'!$D$69","v":0},{"$f":"'1'!$E$69","v":0},{"$f":"'1'!$F$69","v":0},{"$f":"'1'!$G$69","v":0},{"$f":"'1'!$H$69","v":0},{"$f":"'1'!$I$69","v":0},{"$f":"'1'!$J$69","v":0},{"$f":"'1'!$K$69","v":0},{"$f":"'1'!$L$69","v":0},{"$f":"'1'!$M$69","v":0},{"$f":"'1'!$N$69","v":0},{"$f":"'1'!$O$69","v":0},{"$f":"'1'!$P$69","v":0},{"$f":"'1'!$Q$69","v":0},{"$f":"'1'!$R$69","v":0},{"$f":"'1'!$S$69","v":0},{"$f":"'1'!$T$69","v":0},{"$f":"'1'!$U$69","v":0},{"$f":"'1'!$V$69","v":0},{"$f":"'1'!$W$69","v":0},{"$f":"'1'!$X$69","v":0},{"$f":"'1'!$Y$69","v":0},{"$f":"'1'!$Z$69","v":0},{"$f":"'1'!$AA$69","v":0},{"$f":"'1'!$AB$69","v":0},{"$f":"'1'!$AC$69","v":0},{"$f":"'1'!$AD$69","v":0},{"$f":"'1'!$AE$69","v":0},{"$f":"'1'!$AF$69","v":0},{"$f":"'1'!$AG$69","v":0},{"$f":"'1'!$AH$69","v":0},{"$f":"'1'!$AI$69","v":0},{"$f":"'1'!$AJ$69","v":0},1,{"$f":"VLOOKUP(AL66,Přehled!$C$5:$AL$24,36)","v":""},null,null,null,null,null,null,null,null,null,null,null,null,null,null,null,null,null,null,null,null,null,null,null,null,null,null,null,null,null,{"$f":"'1'!$AO$69","v":0},{"$f":"'1'!$AP$69","v":0},{"$f":"'1'!$AQ$69","v":0},{"$f":"'1'!$AR$69","v":0},{"$f":"'1'!$AS$69","v":0},{"$f":"'1'!$AT$69","v":0},1,{"$f":"VLOOKUP(BW66,Přehled!$C$5:$AL$24,36)","v":""},null,null,null,null,null,null,null,null,null,null,null,null,null,null,null,null,null,null,null,null,{"$f":"'1'!$BP$69","v":0},{"$f":"'1'!$BQ$69","v":0},{"$f":"'1'!$BR$69","v":0},{"$f":"'1'!$BS$69","v":0},{"$f":"'1'!$BT$69","v":0},{"$f":"'1'!$BU$69","v":0},1,{"$f":"VLOOKUP(CY66,Přehled!$C$5:$AL$24,36)","v":""},null,null,null,null,null,null,null,null,null,null,null,null,null,null,null,{"$f":"'1'!$CR$69","v":0},{"$f":"'1'!$CS$69","v":0},{"$f":"'1'!$CT$69","v":0},1,{"$f":"VLOOKUP(DS66,Přehled!$C$5:$AL$24,36)","v":""},null,null,null,null,null,null,null,null,null,null,null,null,null,null,null,{"$f":"'2'!$DO$38","v":0},{"$f":"'2'!$DP$38","v":0},{"$f":"'2'!$DQ$38","v":0},2,{"$f":"VLOOKUP(EM66,Přehled!$C$5:$AL$24,36)","v":""}]
[{"$f":"'2'!A20","v":0},{"$f":"'2'!B20","v":0},{"$f":"'2'!C20","v":0},{"$f":"SUMIF($B$5:$B$2024,Souhrn_hod[[#This Row],[Jméno]],$E$5:$E$2024)","v":0},{"$f":"'2'!D20","v":0},{"$f":"'2'!E20","v":0},{"$f":"'2'!F20","v":0},{"$f":"'2'!G20","v":0},{"$f":"'2'!H20","v":0},{"$f":"'2'!I20","v":0},{"$f":"'2'!J20","v":0},{"$f":"'2'!K20","v":0},{"$f":"'2'!L20","v":0},{"$f":"'2'!M20","v":0},{"$f":"'2'!N20","v":0},{"$f":"'2'!O20","v":0},{"$f":"'2'!P20","v":0},{"$f":"'2'!Q20","v":0},{"$f":"'2'!R20","v":0},{"$f":"'2'!S20","v":0},{"$f":"'2'!T20","v":0},{"$f":"'2'!U20","v":0},{"$f":"'2'!V20","v":0},{"$f":"'2'!W20","v":0},{"$f":"'2'!X20","v":0},{"$f":"'2'!Y20","v":0},{"$f":"'2'!Z20","v":0},{"$f":"'2'!AA20","v":0},{"$f":"'2'!AB20","v":0},{"$f":"'2'!AC20","v":0},{"$f":"'2'!AD20","v":0},{"$f":"'2'!AE20","v":0},{"$f":"'2'!AF20","v":0},{"$f":"'2'!AG20","v":0},{"$f":"'2'!AH20","v":0},{"$f":"'2'!AI20","v":0},{"$f":"'2'!AJ20","v":0},2,{"$f":"VLOOKUP(AL67,Přehled!$C$5:$AL$24,36)","v":""},null,null,null,null,null,null,null,null,null,null,null,null,null,null,null,null,null,null,null,null,null,null,null,null,null,null,null,null,null,{"$f":"'1'!$AO$70","v":0},{"$f":"'1'!$AP$70","v":0},{"$f":"'1'!$AQ$70","v":0},{"$f":"'1'!$AR$70","v":0},{"$f":"'1'!$AS$70","v":0},{"$f":"'1'!$AT$70","v":0},1,{"$f":"VLOOKUP(BW67,Přehled!$C$5:$AL$24,36)","v":""},null,null,null,null,null,null,null,null,null,null,null,null,null,null,null,null,null,null,null,null,{"$f":"'1'!$BP$70","v":0},{"$f":"'1'!$BQ$70","v":0},{"$f":"'1'!$BR$70","v":0},{"$f":"'1'!$BS$70","v":0},{"$f":"'1'!$BT$70","v":0},{"$f":"'1'!$BU$70","v":0},1,{"$f":"VLOOKUP(CY67,Přehled!$C$5:$AL$24,36)","v":""},null,null,null,null,null,null,null,null,null,null,null,null,null,null,null,{"$f":"'1'!$CR$70","v":0},{"$f":"'1'!$CS$70","v":0},{"$f":"'1'!$CT$70","v":0},1,{"$f":"VLOOKUP(DS67,Přehled!$C$5:$AL$24,36)","v":""},null,null,null,null,null,null,null,null,null,null,null,null,null,null,null,{"$f":"'3'!$DO$8","v":0},{"$f":"'3'!$DP$8","v":0},{"$f":"'3'!$DQ$8","v":0},3,{"$f":"VLOOKUP(EM67,Přehled!$C$5:$AL$24,36)","v":""}]
[{"$f":"'1'!$A$21","v":0},{"$f":"'1'!$B$21","v":0},{"$f":"'1'!$C$21","v":0},{"$f":"SUMIF($B$5:$B$2024,Souhrn_hod[[#This Row],[Jméno]],$E$5:$E$2024)","v":0},{"$f":"'1'!$D$21","v":0},{"$f":"'1'!$E$21","v":0},{"$f":"'1'!$F$21","v":0},{"$f":"'1'!$G$21","v":0},{"$f":"'1'!$H$21","v":0},{"$f":"'1'!$I$21","v":0},{"$f":"'1'!$J$21","v":0},{"$f":"'1'!$K$21","v":0},{"$f":"'1'!$L$21","v":0},{"$f":"'1'!$M$21","v":0},{"$f":"'1'!$N$21","v":0},{"$f":"'1'!$O$21","v":0},{"$f":"'1'!$P$21","v":0},{"$f":"'1'!$Q$21","v":0},{"$f":"'1'!$R$21","v":0},{"$f":"'1'!$S$21","v":0},{"$f":"'1'!$T$21","v":0},{"$f":"'1'!$U$21","v":0},{"$f":"'1'!$V$21","v":0},{"$f":"'1'!$W$21","v":0},{"$f":"'1'!$X$21","v":0},{"$f":"'1'!$Y$21","v":0},{"$f":"'1'!$Z$21","v":0},{"$f":"'1'!$AA$21","v":0},{"$f":"'1'!$AB$21","v":0},{"$f":"'1'!$AC$21","v":0},{"$f":"'1'!$AD$21","v":0},{"$f":"'1'!$AE$21","v":0},{"$f":"'1'!$AF$21","v":0},{"$f":"'1'!$AG$21","v":0},{"$f":"'1'!$AH$21","v":0},{"$f":"'1'!$AI$21","v":0},{"$f":"'1'!$AJ$21","v":0},1,{"$f":"VLOOKUP(AL68,Přehled!$C$5:$AL$24,36)","v":""},null,null,null,null,null,null,null,null,null,null,null,null,null,null,null,null,null,null,null,null,null,null,null,null,null,null,null,null,null,{"$f":"'1'!$AO$71","v":0},{"$f":"'1'!$AP$71","v":0},{"$f":"'1'!$AQ$71","v":0},{"$f":"'1'!$AR$71","v":0},{"$f":"'1'!$AS$71","v":0},{"$f":"'1'!$AT$71","v":0},1,{"$f":"VLOOKUP(BW68,Přehled!$C$5:$AL$24,36)","v":""},null,null,null,null,null,null,null,null,null,null,null,null,null,null,null,null,null,null,null,null,{"$f":"'1'!$BP$71","v":0},{"$f":"'1'!$BQ$71","v":0},{"$f":"'1'!$BR$71","v":0},{"$f":"'1'!$BS$71","v":0},{"$f":"'1'!$BT$71","v":0},{"$f":"'1'!$BU$71","v":0},1,{"$f":"VLOOKUP(CY68,Přehled!$C$5:$AL$24,36)","v":""},null,null,null,null,null,null,null,null,null,null,null,null,null,null,null,{"$f":"'1'!$CR$71","v":0},{"$f":"'1'!$CS$71","v":0},{"$f":"'1'!$CT$71","v":0},1,{"$f":"VLOOKUP(DS68,Přehled!$C$5:$AL$24,36)","v":""},null,null,null,null,null,null,null,null,null,null,null,null,null,null,null,{"$f":"'3'!$DO$9","v":0},{"$f":"'3'!$DP$9","v":0},{"$f":"'3'!$DQ$9","v":0},3,{"$f":"VLOOKUP(EM68,Přehled!$C$5:$AL$24,36)","v":""}]
[{"$f":"'1'!$A$72","v":0},{"$f":"'1'!$B$72","v":0},{"$f":"'1'!$C$72","v":0},{"$f":"SUMIF($B$5:$B$2024,Souhrn_hod[[#This Row],[Jméno]],$E$5:$E$2024)","v":0},{"$f":"'1'!$D$72","v":0},{"$f":"'1'!$E$72","v":0},{"$f":"'1'!$F$72","v":0},{"$f":"'1'!$G$72","v":0},{"$f":"'1'!$H$72","v":0},{"$f":"'1'!$I$72","v":0},{"$f":"'1'!$J$72","v":0},{"$f":"'1'!$K$72","v":0},{"$f":"'1'!$L$72","v":0},{"$f":"'1'!$M$72","v":0},{"$f":"'1'!$N$72","v":0},{"$f":"'1'!$O$72","v":0},{"$f":"'1'!$P$72","v":0},{"$f":"'1'!$Q$72","v":0},{"$f":"'1'!$R$72","v":0},{"$f":"'1'!$S$72","v":0},{"$f":"'1'!$T$72","v":0},{"$f":"'1'!$U$72","v":0},{"$f":"'1'!$V$72","v":0},{"$f":"'1'!$W$72","v":0},{"$f":"'1'!$X$72","v":0},{"$f":"'1'!$Y$72","v":0},{"$f":"'1'!$Z$72","v":0},{"$f":"'1'!$AA$72","v":0},{"$f":"'1'!$AB$72","v":0},{"$f":"'1'!$AC$72","v":0},{"$f":"'1'!$AD$72","v":0},{"$f":"'1'!$AE$72","v":0},{"$f":"'1'!$AF$72","v":0},{"$f":"'1'!$AG$72","v":0},{"$f":"'1'!$AH$72","v":0},{"$f":"'1'!$AI$72","v":0},{"$f":"'1'!$AJ$72","v":0},1,{"$f":"VLOOKUP(AL69,Přehled!$C$5:$AL$24,36)","v":""},null,null,null,null,null,null,null,null,null,null,null,null,null,null,null,null,null,null,null,null,null,null,null,null,null,null,null,null,null,{"$f":"'1'!$AO$72","v":0},{"$f":"'1'!$AP$72","v":0},{"$f":"'1'!$AQ$72","v":0},{"$f":"'1'!$AR$72","v":0},{"$f":"'1'!$AS$72","v":0},{"$f":"'1'!$AT$72","v":0},1,{"$f":"VLOOKUP(BW69,Přehled!$C$5:$AL$24,36)","v":""},null,null,null,null,null,null,null,null,null,null,null,null,null,null,null,null,null,null,null,null,{"$f":"'1'!$BP$72","v":0},{"$f":"'1'!$BQ$72","v":0},{"$f":"'1'!$BR$72","v":0},{"$f":"'1'!$BS$72","v":0},{"$f":"'1'!$BT$72","v":0},{"$f":"'1'!$BU$72","v":0},1,{"$f":"VLOOKUP(CY69,Přehled!$C$5:$AL$24,36)","v":""},null,null,null,null,null,null,null,null,null,null,null,null,null,null,null,{"$f":"'1'!$CR$72","v":0},{"$f":"'1'!$CS$72","v":0},{"$f":"'1'!$CT$72","v":0},1,{"$f":"VLOOKUP(DS69,Přehled!$C$5:$AL$24,36)","v":""},null,null,null,null,null,null,null,null,null,null,null,null,null,null,null,{"$f":"'3'!$DO$10","v":0},{"$f":"'3'!$DP$10","v":0},{"$f":"'3'!$DQ$10","v":0},3,{"$f":"VLOOKUP(EM69,Přehled!$C$5:$AL$24,36)","v":""}]
[{"$f":"'1'!$A$48","v":0},{"$f":"'1'!$B$48","v":0},{"$f":"'1'!$C$48","v":0},{"$f":"SUMIF($B$5:$B$2024,Souhrn_hod[[#This Row],[Jméno]],$E$5:$E$2024)","v":0},{"$f":"'1'!$D$48","v":0},{"$f":"'1'!$E$48","v":0},{"$f":"'1'!$F$48","v":0},{"$f":"'1'!$G$48","v":0},{"$f":"'1'!$H$48","v":0},{"$f":"'1'!$I$48","v":0},{"$f":"'1'!$J$48","v":0},{"$f":"'1'!$K$48","v":0},{"$f":"'1'!$L$48","v":0},{"$f":"'1'!$M$48","v":0},{"$f":"'1'!$N$48","v":0},{"$f":"'1'!$O$48","v":0},{"$f":"'1'!$P$48","v":0},{"$f":"'1'!$Q$48","v":0},{"$f":"'1'!$R$48","v":0},{"$f":"'1'!$S$48","v":0},{"$f":"'1'!$T$48","v":0},{"$f":"'1'!$U$48","v":0},{"$f":"'1'!$V$48","v":0},{"$f":"'1'!$W$48","v":0},{"$f":"'1'!$X$48","v":0},{"$f":"'1'!$Y$48","v":0},{"$f":"'1'!$Z$48","v":0},{"$f":"'1'!$AA$48","v":0},{"$f":"'1'!$AB$48","v":0},{"$f":"'1'!$AC$48","v":0},{"$f":"'1'!$AD$48","v":0},{"$f":"'1'!$AE$48","v":0},{"$f":"'1'!$AF$48","v":0},{"$f":"'1'!$AG$48","v":0},{"$f":"'1'!$AH$48","v":0},{"$f":"'1'!$AI$48","v":0},{"$f":"'1'!$AJ$48","v":0},1,{"$f":"VLOOKUP(AL70,Přehled!$C$5:$AL$24,36)","v":""},null,null,null,null,null,null,null,null,null,null,null,null,null,null,null,null,null,null,null,null,null,null,null,null,null,null,null,null,null,{"$f":"'1'!$AO$58","v":0},{"$f":"'1'!$AP$58","v":0},{"$f":"'1'!$AQ$58","v":0},{"$f":"'1'!$AR$58","v":0},{"$f":"'1'!$AS$58","v":0},{"$f":"'1'!$AT$58","v":0},1,{"$f":"VLOOKUP(BW70,Přehled!$C$5:$AL$24,36)","v":""},null,null,null,null,null,null,null,null,null,null,null,null,null,null,null,null,null,null,null,null,{"$f":"'1'!$BP$73","v":0},{"$f":"'1'!$BQ$73","v":0},{"$f":"'1'!$BR$73","v":0},{"$f":"'1'!$BS$73","v":0},{"$f":"'1'!$BT$73","v":0},{"$f":"'1'!$BU$73","v":0},1,{"$f":"VLOOKUP(CY70,Přehled!$C$5:$AL$24,36)","v":""},null,null,null,null,null,null,null,null,null,null,null,null,null,null,null,{"$f":"'1'!$CR$73","v":0},{"$f":"'1'!$CS$73","v":0},{"$f":"'1'!$CT$73","v":0},1,{"$f":"VLOOKUP(DS70,Přehled!$C$5:$AL$24,36)","v":""},null,null,null,null,null,null,null,null,null,null,null,null,null,null,null,{"$f":"'3'!$DO$11","v":0},{"$f":"'3'!$DP$11","v":0},{"$f":"'3'!$DQ$11","v":0},3,{"$f":"VLOOKUP(EM70,Přehled!$C$5:$AL$24,36)","v":""}]
[{"$f":"'1'!$A$74","v":0},{"$f":"'1'!$B$74","v":0},{"$f":"'1'!$C$74","v":0},{"$f":"SUMIF($B$5:$B$2024,Souhrn_hod[[#This Row],[Jméno]],$E$5:$E$2024)","v":0},{"$f":"'1'!$D$74","v":0},{"$f":"'1'!$E$74","v":0},{"$f":"'1'!$F$74","v":0},{"$f":"'1'!$G$74","v":0},{"$f":"'1'!$H$74","v":0},{"$f":"'1'!$I$74","v":0},{"$f":"'1'!$J$74","v":0},{"$f":"'1'!$K$74","v":0},{"$f":"'1'!$L$74","v":0},{"$f":"'1'!$M$74","v":0},{"$f":"'1'!$N$74","v":0},{"$f":"'1'!$O$74","v":0},{"$f":"'1'!$P$74","v":0},{"$f":"'1'!$Q$74","v":0},{"$f":"'1'!$R$74","v":0},{"$f":"'1'!$S$74","v":0},{"$f":"'1'!$T$74","v":0},{"$f":"'1'!$U$74","v":0},{"$f":"'1'!$V$74","v":0},{"$f":"'1'!$W$74","v":0},{"$f":"'1'!$X$74","v":0},{"$f":"'1'!$Y$74","v":0},{"$f":"'1'!$Z$74","v":0},{"$f":"'1'!$AA$74","v":0},{"$f":"'1'!$AB$74","v":0},{"$f":"'1'!$AC$74","v":0},{"$f":"'1'!$AD$74","v":0},{"$f":"'1'!$AE$74","v":0},{"$f":"'1'!$AF$74","v":0},{"$f":"'1'!$AG$74","v":0},{"$f":"'1'!$AH$74","v":0},{"$f":"'1'!$AI$74","v":0},{"$f":"'1'!$AJ$74","v":0},1,{"$f":"VLOOKUP(AL71,Přehled!$C$5:$AL$24,36)","v":""},null,null,null,null,null,null,null,null,null,null,null,null,null,null,null,null,null,null,null,null,null,null,null,null,null,null,null,null,null,{"$f":"'1'!$AO$74","v":0},{"$f":"'1'!$AP$74","v":0},{"$f":"'1'!$AQ$74","v":0},{"$f":"'1'!$AR$74","v":0},{"$f":"'1'!$AS$74","v":0},{"$f":"'1'!$AT$74","v":0},1,{"$f":"VLOOKUP(BW71,Přehled!$C$5:$AL$24,36)","v":""},null,null,null,null,null,null,null,null,null,null,null,null,null,null,null,null,null,null,null,null,{"$f":"'1'!$BP$74","v":0},{"$f":"'1'!$BQ$74","v":0},{"$f":"'1'!$BR$74","v":0},{"$f":"'1'!$BS$74","v":0},{"$f":"'1'!$BT$74","v":0},{"$f":"'1'!$BU$74","v":0},1,{"$f":"VLOOKUP(CY71,Přehled!$C$5:$AL$24,36)","v":""},null,null,null,null,null,null,null,null,null,null,null,null,null,null,null,{"$f":"'1'!$CR$74","v":0},{"$f":"'1'!$CS$74","v":0},{"$f":"'1'!$CT$74","v":0},1,{"$f":"VLOOKUP(DS71,Přehled!$C$5:$AL$24,36)","v":""},null,null,null,null,null,null,null,null,null,null,null,null,null,null,null,{"$f":"'3'!$DO$12","v":0},{"$f":"'3'!$DP$12","v":0},{"$f":"'3'!$DQ$12","v":0},3,{"$f":"VLOOKUP(EM71,Přehled!$C$5:$AL$24,36)","v":""}]
[{"$f":"'3'!A48","v":0},{"$f":"'3'!B48","v":0},{"$f":"'3'!C48","v":0},{"$f":"SUMIF($B$5:$B$2024,Souhrn_hod[[#This Row],[Jméno]],$E$5:$E$2024)","v":0},{"$f":"'3'!D48","v":0},{"$f":"'3'!E48","v":0},{"$f":"'3'!F48","v":0},{"$f":"'3'!G48","v":0},{"$f":"'3'!H48","v":0},{"$f":"'3'!I48","v":0},{"$f":"'3'!J48","v":0},{"$f":"'3'!K48","v":0},{"$f":"'3'!L48","v":0},{"$f":"'3'!M48","v":0},{"$f":"'3'!N48","v":0},{"$f":"'3'!O48","v":0},{"$f":"'3'!P48","v":0},{"$f":"'3'!Q48","v":0},{"$f":"'3'!R48","v":0},{"$f":"'3'!S48","v":0},{"$f":"'3'!T48","v":0},{"$f":"'3'!U48","v":0},{"$f":"'3'!V48","v":0},{"$f":"'3'!W48","v":0},{"$f":"'3'!X48","v":0},{"$f":"'3'!Y48","v":0},{"$f":"'3'!Z48","v":0},{"$f":"'3'!AA48","v":0},{"$f":"'3'!AB48","v":0},{"$f":"'3'!AC48","v":0},{"$f":"'3'!AD48","v":0},{"$f":"'3'!AE48","v":0},{"$f":"'3'!AF48","v":0},{"$f":"'3'!AG48","v":0},{"$f":"'3'!AH48","v":0},{"$f":"'3'!AI48","v":0},{"$f":"'3'!AJ48","v":0},3,{"$f":"VLOOKUP(AL72,Přehled!$C$5:$AL$24,36)","v":""},null,null,null,null,null,null,null,null,null,null,null,null,null,null,null,null,null,null,null,null,null,null,null,null,null,null,null,null,null,{"$f":"'1'!$AO$75","v":0},{"$f":"'1'!$AP$75","v":0},{"$f":"'1'!$AQ$75","v":0},{"$f":"'1'!$AR$75","v":0},{"$f":"'1'!$AS$75","v":0},{"$f":"'1'!$AT$75","v":0},1,{"$f":"VLOOKUP(BW72,Přehled!$C$5:$AL$24,36)","v":""},null,null,null,null,null,null,null,null,null,null,null,null,null,null,null,null,null,null,null,null,{"$f":"'1'!$BP$75","v":0},{"$f":"'1'!$BQ$75","v":0},{"$f":"'1'!$BR$75","v":0},{"$f":"'1'!$BS$75","v":0},{"$f":"'1'!$BT$75","v":0},{"$f":"'1'!$BU$75","v":0},1,{"$f":"VLOOKUP(CY72,Přehled!$C$5:$AL$24,36)","v":""},null,null,null,null,null,null,null,null,null,null,null,null,null,null,null,{"$f":"'1'!$CR$75","v":0},{"$f":"'1'!$CS$75","v":0},{"$f":"'1'!$CT$75","v":0},1,{"$f":"VLOOKUP(DS72,Přehled!$C$5:$AL$24,36)","v":""},null,null,null,null,null,null,null,null,null,null,null,null,null,null,null,{"$f":"'3'!$DO$13","v":0},{"$f":"'3'!$DP$13","v":0},{"$f":"'3'!$DQ$13","v":0},3,{"$f":"VLOOKUP(EM72,Přehled!$C$5:$AL$24,36)","v":""}]
[{"$f":"'1'!$A$76","v":0},{"$f":"'1'!$B$76","v":0},{"$f":"'1'!$C$76","v":0},{"$f":"SUMIF($B$5:$B$2024,Souhrn_hod[[#This Row],[Jméno]],$E$5:$E$2024)","v":0},{"$f":"'1'!$D$76","v":0},{"$f":"'1'!$E$76","v":0},{"$f":"'1'!$F$76","v":0},{"$f":"'1'!$G$76","v":0},{"$f":"'1'!$H$76","v":0},{"$f":"'1'!$I$76","v":0},{"$f":"'1'!$J$76","v":0},{"$f":"'1'!$K$76","v":0},{"$f":"'1'!$L$76","v":0},{"$f":"'1'!$M$76","v":0},{"$f":"'1'!$N$76","v":0},{"$f":"'1'!$O$76","v":0},{"$f":"'1'!$P$76","v":0},{"$f":"'1'!$Q$76","v":0},{"$f":"'1'!$R$76","v":0},{"$f":"'1'!$S$76","v":0},{"$f":"'1'!$T$76","v":0},{"$f":"'1'!$U$76","v":0},{"$f":"'1'!$V$76","v":0},{"$f":"'1'!$W$76","v":0},{"$f":"'1'!$X$76","v":0},{"$f":"'1'!$Y$76","v":0},{"$f":"'1'!$Z$76","v":0},{"$f":"'1'!$AA$76","v":0},{"$f":"'1'!$AB$76","v":0},{"$f":"'1'!$AC$76","v":0},{"$f":"'1'!$AD$76","v":0},{"$f":"'1'!$AE$76","v":0},{"$f":"'1'!$AF$76","v":0},{"$f":"'1'!$AG$76","v":0},{"$f":"'1'!$AH$76","v":0},{"$f":"'1'!$AI$76","v":0},{"$f":"'1'!$AJ$76","v":0},1,{"$f":"VLOOKUP(AL73,Přehled!$C$5:$AL$24,36)","v":""},null,null,null,null,null,null,null,null,null,null,null,null,null,null,null,null,null,null,null,null,null,null,null,null,null,null,null,null,null,{"$f":"'1'!$AO$76","v":0},{"$f":"'1'!$AP$76","v":0},{"$f":"'1'!$AQ$76","v":0},{"$f":"'1'!$AR$76","v":0},{"$f":"'1'!$AS$76","v":0},{"$f":"'1'!$AT$76","v":0},1,{"$f":"VLOOKUP(BW73,Přehled!$C$5:$AL$24,36)","v":""},null,null,null,null,null,null,null,null,null,null,null,null,null,null,null,null,null,null,null,null,{"$f":"'1'!$BP$76","v":0},{"$f":"'1'!$BQ$76","v":0},{"$f":"'1'!$BR$76","v":0},{"$f":"'1'!$BS$76","v":0},{"$f":"'1'!$BT$76","v":0},{"$f":"'1'!$BU$76","v":0},1,{"$f":"VLOOKUP(CY73,Přehled!$C$5:$AL$24,36)","v":""},null,null,null,null,null,null,null,null,null,null,null,null,null,null,null,{"$f":"'1'!$CR$76","v":0},{"$f":"'1'!$CS$76","v":0},{"$f":"'1'!$CT$76","v":0},1,{"$f":"VLOOKUP(DS73,Přehled!$C$5:$AL$24,36)","v":""},null,null,null,null,null,null,null,null,null,null,null,null,null,null,null,{"$f":"'3'!$DO$14","v":0},{"$f":"'3'!$DP$14","v":0},{"$f":"'3'!$DQ$14","v":0},3,{"$f":"VLOOKUP(EM73,Přehled!$C$5:$AL$24,36)","v":""}]
[{"$f":"'1'!$A$77","v":0},{"$f":"'1'!$B$77","v":0},{"$f":"'1'!$C$77","v":0},{"$f":"SUMIF($B$5:$B$2024,Souhrn_hod[[#This Row],[Jméno]],$E$5:$E$2024)","v":0},{"$f":"'1'!$D$77","v":0},{"$f":"'1'!$E$77","v":0},{"$f":"'1'!$F$77","v":0},{"$f":"'1'!$G$77","v":0},{"$f":"'1'!$H$77","v":0},{"$f":"'1'!$I$77","v":0},{"$f":"'1'!$J$77","v":0},{"$f":"'1'!$K$77","v":0},{"$f":"'1'!$L$77","v":0},{"$f":"'1'!$M$77","v":0},{"$f":"'1'!$N$77","v":0},{"$f":"'1'!$O$77","v":0},{"$f":"'1'!$P$77","v":0},{"$f":"'1'!$Q$77","v":0},{"$f":"'1'!$R$77","v":0},{"$f":"'1'!$S$77","v":0},{"$f":"'1'!$T$77","v":0},{"$f":"'1'!$U$77","v":0},{"$f":"'1'!$V$77","v":0},{"$f":"'1'!$W$77","v":0},{"$f":"'1'!$X$77","v":0},{"$f":"'1'!$Y$77","v":0},{"$f":"'1'!$Z$77","v":0},{"$f":"'1'!$AA$77","v":0},{"$f":"'1'!$AB$77","v":0},{"$f":"'1'!$AC$77","v":0},{"$f":"'1'!$AD$77","v":0},{"$f":"'1'!$AE$77","v":0},{"$f":"'1'!$AF$77","v":0},{"$f":"'1'!$AG$77","v":0},{"$f":"'1'!$AH$77","v":0},{"$f":"'1'!$AI$77","v":0},{"$f":"'1'!$AJ$77","v":0},1,{"$f":"VLOOKUP(AL74,Přehled!$C$5:$AL$24,36)","v":""},null,null,null,null,null,null,null,null,null,null,null,null,null,null,null,null,null,null,null,null,null,null,null,null,null,null,null,null,null,{"$f":"'1'!$AO$77","v":0},{"$f":"'1'!$AP$77","v":0},{"$f":"'1'!$AQ$77","v":0},{"$f":"'1'!$AR$77","v":0},{"$f":"'1'!$AS$77","v":0},{"$f":"'1'!$AT$77","v":0},1,{"$f":"VLOOKUP(BW74,Přehled!$C$5:$AL$24,36)","v":""},null,null,null,null,null,null,null,null,null,null,null,null,null,null,null,null,null,null,null,null,{"$f":"'1'!$BP$77","v":0},{"$f":"'1'!$BQ$77","v":0},{"$f":"'1'!$BR$77","v":0},{"$f":"'1'!$BS$77","v":0},{"$f":"'1'!$BT$77","v":0},{"$f":"'1'!$BU$77","v":0},1,{"$f":"VLOOKUP(CY74,Přehled!$C$5:$AL$24,36)","v":""},null,null,null,null,null,null,null,null,null,null,null,null,null,null,null,{"$f":"'1'!$CR$77","v":0},{"$f":"'1'!$CS$77","v":0},{"$f":"'1'!$CT$77","v":0},1,{"$f":"VLOOKUP(DS74,Přehled!$C$5:$AL$24,36)","v":""},null,null,null,null,null,null,null,null,null,null,null,null,null,null,null,{"$f":"'3'!$DO$15","v":0},{"$f":"'3'!$DP$15","v":0},{"$f":"'3'!$DQ$15","v":0},3,{"$f":"VLOOKUP(EM74,Přehled!$C$5:$AL$24,36)","v":""}]
[{"$f":"'1'!$A$78","v":0},{"$f":"'1'!$B$78","v":0},{"$f":"'1'!$C$78","v":0},{"$f":"SUMIF($B$5:$B$2024,Souhrn_hod[[#This Row],[Jméno]],$E$5:$E$2024)","v":0},{"$f":"'1'!$D$78","v":0},{"$f":"'1'!$E$78","v":0},{"$f":"'1'!$F$78","v":0},{"$f":"'1'!$G$78","v":0},{"$f":"'1'!$H$78","v":0},{"$f":"'1'!$I$78","v":0},{"$f":"'1'!$J$78","v":0},{"$f":"'1'!$K$78","v":0},{"$f":"'1'!$L$78","v":0},{"$f":"'1'!$M$78","v":0},{"$f":"'1'!$N$78","v":0},{"$f":"'1'!$O$78","v":0},{"$f":"'1'!$P$78","v":0},{"$f":"'1'!$Q$78","v":0},{"$f":"'1'!$R$78","v":0},{"$f":"'1'!$S$78","v":0},{"$f":"'1'!$T$78","v":0},{"$f":"'1'!$U$78","v":0},{"$f":"'1'!$V$78","v":0},{"$f":"'1'!$W$78","v":0},{"$f":"'1'!$X$78","v":0},{"$f":"'1'!$Y$78","v":0},{"$f":"'1'!$Z$78","v":0},{"$f":"'1'!$AA$78","v":0},{"$f":"'1'!$AB$78","v":0},{"$f":"'1'!$AC$78","v":0},{"$f":"'1'!$AD$78","v":0},{"$f":"'1'!$AE$78","v":0},{"$f":"'1'!$AF$78","v":0},{"$f":"'1'!$AG$78","v":0},{"$f":"'1'!$AH$78","v":0},{"$f":"'1'!$AI$78","v":0},{"$f":"'1'!$AJ$78","v":0},1,{"$f":"VLOOKUP(AL75,Přehled!$C$5:$AL$24,36)","v":""},null,null,null,null,null,null,null,null,null,null,null,null,null,null,null,null,null,null,null,null,null,null,null,null,null,null,null,null,null,{"$f":"'3'!$AO$58","v":0},{"$f":"'3'!$AP$58","v":0},{"$f":"'3'!$AQ$58","v":0},{"$f":"'3'!$AR$58","v":0},{"$f":"'3'!$AS$58","v":0},{"$f":"'3'!$AT$58","v":0},3,{"$f":"VLOOKUP(BW75,Přehled!$C$5:$AL$24,36)","v":""},null,null,null,null,null,null,null,null,null,null,null,null,null,null,null,null,null,null,null,null,{"$f":"'1'!$BP$78","v":0},{"$f":"'1'!$BQ$78","v":0},{"$f":"'1'!$BR$78","v":0},{"$f":"'1'!$BS$78","v":0},{"$f":"'1'!$BT$78","v":0},{"$f":"'1'!$BU$78","v":0},1,{"$f":"VLOOKUP(CY75,Přehled!$C$5:$AL$24,36)","v":""},null,null,null,null,null,null,null,null,null,null,null,null,null,null,null,{"$f":"'1'!$CR$78","v":0},{"$f":"'1'!$CS$78","v":0},{"$f":"'1'!$CT$78","v":0},1,{"$f":"VLOOKUP(DS75,Přehled!$C$5:$AL$24,36)","v":""},null,null,null,null,null,null,null,null,null,null,null,null,null,null,null,{"$f":"'3'!$DO$16","v":0},{"$f":"'3'!$DP$16","v":0},{"$f":"'3'!$DQ$16","v":0},3,{"$f":"VLOOKUP(EM75,Přehled!$C$5:$AL$24,36)","v":""}]
[{"$f":"'1'!$A$79","v":0},{"$f":"'1'!$B$79","v":0},{"$f":"'1'!$C$79","v":0},{"$f":"SUMIF($B$5:$B$2024,Souhrn_hod[[#This Row],[Jméno]],$E$5:$E$2024)","v":0},{"$f":"'1'!$D$79","v":0},{"$f":"'1'!$E$79","v":0},{"$f":"'1'!$F$79","v":0},{"$f":"'1'!$G$79","v":0},{"$f":"'1'!$H$79","v":0},{"$f":"'1'!$I$79","v":0},{"$f":"'1'!$J$79","v":0},{"$f":"'1'!$K$79","v":0},{"$f":"'1'!$L$79","v":0},{"$f":"'1'!$M$79","v":0},{"$f":"'1'!$N$79","v":0},{"$f":"'1'!$O$79","v":0},{"$f":"'1'!$P$79","v":0},{"$f":"'1'!$Q$79","v":0},{"$f":"'1'!$R$79","v":0},{"$f":"'1'!$S$79","v":0},{"$f":"'1'!$T$79","v":0},{"$f":"'1'!$U$79","v":0},{"$f":"'1'!$V$79","v":0},{"$f":"'1'!$W$79","v":0},{"$f":"'1'!$X$79","v":0},{"$f":"'1'!$Y$79","v":0},{"$f":"'1'!$Z$79","v":0},{"$f":"'1'!$AA$79","v":0},{"$f":"'1'!$AB$79","v":0},{"$f":"'1'!$AC$79","v":0},{"$f":"'1'!$AD$79","v":0},{"$f":"'1'!$AE$79","v":0},{"$f":"'1'!$AF$79","v":0},{"$f":"'1'!$AG$79","v":0},{"$f":"'1'!$AH$79","v":0},{"$f":"'1'!$AI$79","v":0},{"$f":"'1'!$AJ$79","v":0},1,{"$f":"VLOOKUP(AL76,Přehled!$C$5:$AL$24,36)","v":""},null,null,null,null,null,null,null,null,null,null,null,null,null,null,null,null,null,null,null,null,null,null,null,null,null,null,null,null,null,{"$f":"'1'!$AO$79","v":0},{"$f":"'1'!$AP$79","v":0},{"$f":"'1'!$AQ$79","v":0},{"$f":"'1'!$AR$79","v":0},{"$f":"'1'!$AS$79","v":0},{"$f":"'1'!$AT$79","v":0},1,{"$f":"VLOOKUP(BW76,Přehled!$C$5:$AL$24,36)","v":""},null,null,null,null,null,null,null,null,null,null,null,null,null,null,null,null,null,null,null,null,{"$f":"'1'!$BP$79","v":0},{"$f":"'1'!$BQ$79","v":0},{"$f":"'1'!$BR$79","v":0},{"$f":"'1'!$BS$79","v":0},{"$f":"'1'!$BT$79","v":0},{"$f":"'1'!$BU$79","v":0},1,{"$f":"VLOOKUP(CY76,Přehled!$C$5:$AL$24,36)","v":""},null,null,null,null,null,null,null,null,null,null,null,null,null,null,null,{"$f":"'1'!$CR$79","v":0},{"$f":"'1'!$CS$79","v":0},{"$f":"'1'!$CT$79","v":0},1,{"$f":"VLOOKUP(DS76,Přehled!$C$5:$AL$24,36)","v":""},null,null,null,null,null,null,null,null,null,null,null,null,null,null,null,{"$f":"'3'!$DO$17","v":0},{"$f":"'3'!$DP$17","v":0},{"$f":"'3'!$DQ$17","v":0},3,{"$f":"VLOOKUP(EM76,Přehled!$C$5:$AL$24,36)","v":""}]
[{"$f":"'1'!$A$80","v":0},{"$f":"'1'!$B$80","v":0},{"$f":"'1'!$C$80","v":0},{"$f":"SUMIF($B$5:$B$2024,Souhrn_hod[[#This Row],[Jméno]],$E$5:$E$2024)","v":0},{"$f":"'1'!$D$80","v":0},{"$f":"'1'!$E$80","v":0},{"$f":"'1'!$F$80","v":0},{"$f":"'1'!$G$80","v":0},{"$f":"'1'!$H$80","v":0},{"$f":"'1'!$I$80","v":0},{"$f":"'1'!$J$80","v":0},{"$f":"'1'!$K$80","v":0},{"$f":"'1'!$L$80","v":0},{"$f":"'1'!$M$80","v":0},{"$f":"'1'!$N$80","v":0},{"$f":"'1'!$O$80","v":0},{"$f":"'1'!$P$80","v":0},{"$f":"'1'!$Q$80","v":0},{"$f":"'1'!$R$80","v":0},{"$f":"'1'!$S$80","v":0},{"$f":"'1'!$T$80","v":0},{"$f":"'1'!$U$80","v":0},{"$f":"'1'!$V$80","v":0},{"$f":"'1'!$W$80","v":0},{"$f":"'1'!$X$80","v":0},{"$f":"'1'!$Y$80","v":0},{"$f":"'1'!$Z$80","v":0},{"$f":"'1'!$AA$80","v":0},{"$f":"'1'!$AB$80","v":0},{"$f":"'1'!$AC$80","v":0},{"$f":"'1'!$AD$80","v":0},{"$f":"'1'!$AE$80","v":0},{"$f":"'1'!$AF$80","v":0},{"$f":"'1'!$AG$80","v":0},{"$f":"'1'!$AH$80","v":0},{"$f":"'1'!$AI$80","v":0},{"$f":"'1'!$AJ$80","v":0},1,{"$f":"VLOOKUP(AL77,Přehled!$C$5:$AL$24,36)","v":""},null,null,null,null,null,null,null,null,null,null,null,null,null,null,null,null,null,null,null,null,null,null,null,null,null,null,null,null,null,{"$f":"'1'!$AO$80","v":0},{"$f":"'1'!$AP$80","v":0},{"$f":"'1'!$AQ$80","v":0},{"$f":"'1'!$AR$80","v":0},{"$f":"'1'!$AS$80","v":0},{"$f":"'1'!$AT$80","v":0},1,{"$f":"VLOOKUP(BW77,Přehled!$C$5:$AL$24,36)","v":""},null,null,null,null,null,null,null,null,null,null,null,null,null,null,null,null,null,null,null,null,{"$f":"'1'!$BP$80","v":0},{"$f":"'1'!$BQ$80","v":0},{"$f":"'1'!$BR$80","v":0},{"$f":"'1'!$BS$80","v":0},{"$f":"'1'!$BT$80","v":0},{"$f":"'1'!$BU$80","v":0},1,{"$f":"VLOOKUP(CY77,Přehled!$C$5:$AL$24,36)","v":""},null,null,null,null,null,null,null,null,null,null,null,null,null,null,null,{"$f":"'1'!$CR$80","v":0},{"$f":"'1'!$CS$80","v":0},{"$f":"'1'!$CT$80","v":0},1,{"$f":"VLOOKUP(DS77,Přehled!$C$5:$AL$24,36)","v":""},null,null,null,null,null,null,null,null,null,null,null,null,null,null,null,{"$f":"'3'!$DO$18","v":0},{"$f":"'3'!$DP$18","v":0},{"$f":"'3'!$DQ$18","v":0},3,{"$f":"VLOOKUP(EM77,Přehled!$C$5:$AL$24,36)","v":""}]
[{"$f":"'1'!$A$81","v":0},{"$f":"'1'!$B$81","v":0},{"$f":"'1'!$C$81","v":0},{"$f":"SUMIF($B$5:$B$2024,Souhrn_hod[[#This Row],[Jméno]],$E$5:$E$2024)","v":0},{"$f":"'1'!$D$81","v":0},{"$f":"'1'!$E$81","v":0},{"$f":"'1'!$F$81","v":0},{"$f":"'1'!$G$81","v":0},{"$f":"'1'!$H$81","v":0},{"$f":"'1'!$I$81","v":0},{"$f":"'1'!$J$81","v":0},{"$f":"'1'!$K$81","v":0},{"$f":"'1'!$L$81","v":0},{"$f":"'1'!$M$81","v":0},{"$f":"'1'!$N$81","v":0},{"$f":"'1'!$O$81","v":0},{"$f":"'1'!$P$81","v":0},{"$f":"'1'!$Q$81","v":0},{"$f":"'1'!$R$81","v":0},{"$f":"'1'!$S$81","v":0},{"$f":"'1'!$T$81","v":0},{"$f":"'1'!$U$81","v":0},{"$f":"'1'!$V$81","v":0},{"$f":"'1'!$W$81","v":0},{"$f":"'1'!$X$81","v":0},{"$f":"'1'!$Y$81","v":0},{"$f":"'1'!$Z$81","v":0},{"$f":"'1'!$AA$81","v":0},{"$f":"'1'!$AB$81","v":0},{"$f":"'1'!$AC$81","v":0},{"$f":"'1'!$AD$81","v":0},{"$f":"'1'!$AE$81","v":0},{"$f":"'1'!$AF$81","v":0},{"$f":"'1'!$AG$81","v":0},{"$f":"'1'!$AH$81","v":0},{"$f":"'1'!$AI$81","v":0},{"$f":"'1'!$AJ$81","v":0},1,{"$f":"VLOOKUP(AL78,Přehled!$C$5:$AL$24,36)","v":""},null,null,null,null,null,null,null,null,null,null,null,null,null,null,null,null,null,null,null,null,null,null,null,null,null,null,null,null,null,{"$f":"'1'!$AO$81","v":0},{"$f":"'1'!$AP$81","v":0},{"$f":"'1'!$AQ$81","v":0},{"$f":"'1'!$AR$81","v":0},{"$f":"'1'!$AS$81","v":0},{"$f":"'1'!$AT$81","v":0},1,{"$f":"VLOOKUP(BW78,Přehled!$C$5:$AL$24,36)","v":""},null,null,null,null,null,null,null,null,null,null,null,null,null,null,null,null,null,null,null,null,{"$f":"'1'!$BP$81","v":0},{"$f":"'1'!$BQ$81","v":0},{"$f":"'1'!$BR$81","v":0},{"$f":"'1'!$BS$81","v":0},{"$f":"'1'!$BT$81","v":0},{"$f":"'1'!$BU$81","v":0},1,{"$f":"VLOOKUP(CY78,Přehled!$C$5:$AL$24,36)","v":""},null,null,null,null,null,null,null,null,null,null,null,null,null,null,null,{"$f":"'1'!$CR$81","v":0},{"$f":"'1'!$CS$81","v":0},{"$f":"'1'!$CT$81","v":0},1,{"$f":"VLOOKUP(DS78,Přehled!$C$5:$AL$24,36)","v":""},null,null,null,null,null,null,null,null,null,null,null,null,null,null,null,{"$f":"'3'!$DO$19","v":0},{"$f":"'3'!$DP$19","v":0},{"$f":"'3'!$DQ$19","v":0},3,{"$f":"VLOOKUP(EM78,Přehled!$C$5:$AL$24,36)","v":""}]
[{"$f":"'1'!$A$82","v":0},{"$f":"'1'!$B$82","v":0},{"$f":"'1'!$C$82","v":0},{"$f":"SUMIF($B$5:$B$2024,Souhrn_hod[[#This Row],[Jméno]],$E$5:$E$2024)","v":0},{"$f":"'1'!$D$82","v":0},{"$f":"'1'!$E$82","v":0},{"$f":"'1'!$F$82","v":0},{"$f":"'1'!$G$82","v":0},{"$f":"'1'!$H$82","v":0},{"$f":"'1'!$I$82","v":0},{"$f":"'1'!$J$82","v":0},{"$f":"'1'!$K$82","v":0},{"$f":"'1'!$L$82","v":0},{"$f":"'1'!$M$82","v":0},{"$f":"'1'!$N$82","v":0},{"$f":"'1'!$O$82","v":0},{"$f":"'1'!$P$82","v":0},{"$f":"'1'!$Q$82","v":0},{"$f":"'1'!$R$82","v":0},{"$f":"'1'!$S$82","v":0},{"$f":"'1'!$T$82","v":0},{"$f":"'1'!$U$82","v":0},{"$f":"'1'!$V$82","v":0},{"$f":"'1'!$W$82","v":0},{"$f":"'1'!$X$82","v":0},{"$f":"'1'!$Y$82","v":0},{"$f":"'1'!$Z$82","v":0},{"$f":"'1'!$AA$82","v":0},{"$f":"'1'!$AB$82","v":0},{"$f":"'1'!$AC$82","v":0},{"$f":"'1'!$AD$82","v":0},{"$f":"'1'!$AE$82","v":0},{"$f":"'1'!$AF$82","v":0},{"$f":"'1'!$AG$82","v":0},{"$f":"'1'!$AH$82","v":0},{"$f":"'1'!$AI$82","v":0},{"$f":"'1'!$AJ$82","v":0},1,{"$f":"VLOOKUP(AL79,Přehled!$C$5:$AL$24,36)","v":""},null,null,null,null,null,null,null,null,null,null,null,null,null,null,null,null,null,null,null,null,null,null,null,null,null,null,null,null,null,{"$f":"'1'!$AO$82","v":0},{"$f":"'1'!$AP$82","v":0},{"$f":"'1'!$AQ$82","v":0},{"$f":"'1'!$AR$82","v":0},{"$f":"'1'!$AS$82","v":0},{"$f":"'1'!$AT$82","v":0},1,{"$f":"VLOOKUP(BW79,Přehled!$C$5:$AL$24,36)","v":""},null,null,null,null,null,null,null,null,null,null,null,null,null,null,null,null,null,null,null,null,{"$f":"'1'!$BP$82","v":0},{"$f":"'1'!$BQ$82","v":0},{"$f":"'1'!$BR$82","v":0},{"$f":"'1'!$BS$82","v":0},{"$f":"'1'!$BT$82","v":0},{"$f":"'1'!$BU$82","v":0},1,{"$f":"VLOOKUP(CY79,Přehled!$C$5:$AL$24,36)","v":""},null,null,null,null,null,null,null,null,null,null,null,null,null,null,null,{"$f":"'1'!$CR$82","v":0},{"$f":"'1'!$CS$82","v":0},{"$f":"'1'!$CT$82","v":0},1,{"$f":"VLOOKUP(DS79,Přehled!$C$5:$AL$24,36)","v":""},null,null,null,null,null,null,null,null,null,null,null,null,null,null,null,{"$f":"'3'!$DO$20","v":0},{"$f":"'3'!$DP$20","v":0},{"$f":"'3'!$DQ$20","v":0},3,{"$f":"VLOOKUP(EM79,Přehled!$C$5:$AL$24,36)","v":""}]
[{"$f":"'1'!$A$83","v":0},{"$f":"'1'!$B$83","v":0},{"$f":"'1'!$C$83","v":0},{"$f":"SUMIF($B$5:$B$2024,Souhrn_hod[[#This Row],[Jméno]],$E$5:$E$2024)","v":0},{"$f":"'1'!$D$83","v":0},{"$f":"'1'!$E$83","v":0},{"$f":"'1'!$F$83","v":0},{"$f":"'1'!$G$83","v":0},{"$f":"'1'!$H$83","v":0},{"$f":"'1'!$I$83","v":0},{"$f":"'1'!$J$83","v":0},{"$f":"'1'!$K$83","v":0},{"$f":"'1'!$L$83","v":0},{"$f":"'1'!$M$83","v":0},{"$f":"'1'!$N$83","v":0},{"$f":"'1'!$O$83","v":0},{"$f":"'1'!$P$83","v":0},{"$f":"'1'!$Q$83","v":0},{"$f":"'1'!$R$83","v":0},{"$f":"'1'!$S$83","v":0},{"$f":"'1'!$T$83","v":0},{"$f":"'1'!$U$83","v":0},{"$f":"'1'!$V$83","v":0},{"$f":"'1'!$W$83","v":0},{"$f":"'1'!$X$83","v":0},{"$f":"'1'!$Y$83","v":0},{"$f":"'1'!$Z$83","v":0},{"$f":"'1'!$AA$83","v":0},{"$f":"'1'!$AB$83","v":0},{"$f":"'1'!$AC$83","v":0},{"$f":"'1'!$AD$83","v":0},{"$f":"'1'!$AE$83","v":0},{"$f":"'1'!$AF$83","v":0},{"$f":"'1'!$AG$83","v":0},{"$f":"'1'!$AH$83","v":0},{"$f":"'1'!$AI$83","v":0},{"$f":"'1'!$AJ$83","v":0},1,{"$f":"VLOOKUP(AL80,Přehled!$C$5:$AL$24,36)","v":""},null,null,null,null,null,null,null,null,null,null,null,null,null,null,null,null,null,null,null,null,null,null,null,null,null,null,null,null,null,{"$f":"'1'!$AO$63","v":0},{"$f":"'1'!$AP$63","v":0},{"$f":"'1'!$AQ$63","v":0},{"$f":"'1'!$AR$63","v":0},{"$f":"'1'!$AS$63","v":0},{"$f":"'1'!$AT$63","v":0},1,{"$f":"VLOOKUP(BW80,Přehled!$C$5:$AL$24,36)","v":""},null,null,null,null,null,null,null,null,null,null,null,null,null,null,null,null,null,null,null,null,{"$f":"'1'!$BP$83","v":0},{"$f":"'1'!$BQ$83","v":0},{"$f":"'1'!$BR$83","v":0},{"$f":"'1'!$BS$83","v":0},{"$f":"'1'!$BT$83","v":0},{"$f":"'1'!$BU$83","v":0},1,{"$f":"VLOOKUP(CY80,Přehled!$C$5:$AL$24,36)","v":""},null,null,null,null,null,null,null,null,null,null,null,null,null,null,null,{"$f":"'1'!$CR$83","v":0},{"$f":"'1'!$CS$83","v":0},{"$f":"'1'!$CT$83","v":0},1,{"$f":"VLOOKUP(DS80,Přehled!$C$5:$AL$24,36)","v":""},null,null,null,null,null,null,null,null,null,null,null,null,null,null,null,{"$f":"'3'!$DO$21","v":0},{"$f":"'3'!$DP$21","v":0},{"$f":"'3'!$DQ$21","v":0},3,{"$f":"VLOOKUP(EM80,Přehled!$C$5:$AL$24,36)","v":""}]
[{"$f":"'1'!$A$84","v":0},{"$f":"'1'!$B$84","v":0},{"$f":"'1'!$C$84","v":0},{"$f":"SUMIF($B$5:$B$2024,Souhrn_hod[[#This Row],[Jméno]],$E$5:$E$2024)","v":0},{"$f":"'1'!$D$84","v":0},{"$f":"'1'!$E$84","v":0},{"$f":"'1'!$F$84","v":0},{"$f":"'1'!$G$84","v":0},{"$f":"'1'!$H$84","v":0},{"$f":"'1'!$I$84","v":0},{"$f":"'1'!$J$84","v":0},{"$f":"'1'!$K$84","v":0},{"$f":"'1'!$L$84","v":0},{"$f":"'1'!$M$84","v":0},{"$f":"'1'!$N$84","v":0},{"$f":"'1'!$O$84","v":0},{"$f":"'1'!$P$84","v":0},{"$f":"'1'!$Q$84","v":0},{"$f":"'1'!$R$84","v":0},{"$f":"'1'!$S$84","v":0},{"$f":"'1'!$T$84","v":0},{"$f":"'1'!$U$84","v":0},{"$f":"'1'!$V$84","v":0},{"$f":"'1'!$W$84","v":0},{"$f":"'1'!$X$84","v":0},{"$f":"'1'!$Y$84","v":0},{"$f":"'1'!$Z$84","v":0},{"$f":"'1'!$AA$84","v":0},{"$f":"'1'!$AB$84","v":0},{"$f":"'1'!$AC$84","v":0},{"$f":"'1'!$AD$84","v":0},{"$f":"'1'!$AE$84","v":0},{"$f":"'1'!$AF$84","v":0},{"$f":"'1'!$AG$84","v":0},{"$f":"'1'!$AH$84","v":0},{"$f":"'1'!$AI$84","v":0},{"$f":"'1'!$AJ$84","v":0},1,{"$f":"VLOOKUP(AL81,Přehled!$C$5:$AL$24,36)","v":""},null,null,null,null,null,null,null,null,null,null,null,null,null,null,null,null,null,null,null,null,null,null,null,null,null,null,null,null,null,{"$f":"'1'!$AO$84","v":0},{"$f":"'1'!$AP$84","v":0},{"$f":"'1'!$AQ$84","v":0},{"$f":"'1'!$AR$84","v":0},{"$f":"'1'!$AS$84","v":0},{"$f":"'1'!$AT$84","v":0},1,{"$f":"VLOOKUP(BW81,Přehled!$C$5:$AL$24,36)","v":""},null,null,null,null,null,null,null,null,null,null,null,null,null,null,null,null,null,null,null,null,{"$f":"'1'!$BP$84","v":0},{"$f":"'1'!$BQ$84","v":0},{"$f":"'1'!$BR$84","v":0},{"$f":"'1'!$BS$84","v":0},{"$f":"'1'!$BT$84","v":0},{"$f":"'1'!$BU$84","v":0},1,{"$f":"VLOOKUP(CY81,Přehled!$C$5:$AL$24,36)","v":""},null,null,null,null,null,null,null,null,null,null,null,null,null,null,null,{"$f":"'1'!$CR$84","v":0},{"$f":"'1'!$CS$84","v":0},{"$f":"'1'!$CT$84","v":0},1,{"$f":"VLOOKUP(DS81,Přehled!$C$5:$AL$24,36)","v":""},null,null,null,null,null,null,null,null,null,null,null,null,null,null,null,{"$f":"'3'!$DO$22","v":0},{"$f":"'3'!$DP$22","v":0},{"$f":"'3'!$DQ$22","v":0},3,{"$f":"VLOOKUP(EM81,Přehled!$C$5:$AL$24,36)","v":""}]
[{"$f":"'1'!$A$85","v":0},{"$f":"'1'!$B$85","v":0},{"$f":"'1'!$C$85","v":0},{"$f":"SUMIF($B$5:$B$2024,Souhrn_hod[[#This Row],[Jméno]],$E$5:$E$2024)","v":0},{"$f":"'1'!$D$85","v":0},{"$f":"'1'!$E$85","v":0},{"$f":"'1'!$F$85","v":0},{"$f":"'1'!$G$85","v":0},{"$f":"'1'!$H$85","v":0},{"$f":"'1'!$I$85","v":0},{"$f":"'1'!$J$85","v":0},{"$f":"'1'!$K$85","v":0},{"$f":"'1'!$L$85","v":0},{"$f":"'1'!$M$85","v":0},{"$f":"'1'!$N$85","v":0},{"$f":"'1'!$O$85","v":0},{"$f":"'1'!$P$85","v":0},{"$f":"'1'!$Q$85","v":0},{"$f":"'1'!$R$85","v":0},{"$f":"'1'!$S$85","v":0},{"$f":"'1'!$T$85","v":0},{"$f":"'1'!$U$85","v":0},{"$f":"'1'!$V$85","v":0},{"$f":"'1'!$W$85","v":0},{"$f":"'1'!$X$85","v":0},{"$f":"'1'!$Y$85","v":0},{"$f":"'1'!$Z$85","v":0},{"$f":"'1'!$AA$85","v":0},{"$f":"'1'!$AB$85","v":0},{"$f":"'1'!$AC$85","v":0},{"$f":"'1'!$AD$85","v":0},{"$f":"'1'!$AE$85","v":0},{"$f":"'1'!$AF$85","v":0},{"$f":"'1'!$AG$85","v":0},{"$f":"'1'!$AH$85","v":0},{"$f":"'1'!$AI$85","v":0},{"$f":"'1'!$AJ$85","v":0},1,{"$f":"VLOOKUP(AL82,Přehled!$C$5:$AL$24,36)","v":""},null,null,null,null,null,null,null,null,null,null,null,null,null,null,null,null,null,null,null,null,null,null,null,null,null,null,null,null,null,{"$f":"'1'!$AO$85","v":0},{"$f":"'1'!$AP$85","v":0},{"$f":"'1'!$AQ$85","v":0},{"$f":"'1'!$AR$85","v":0},{"$f":"'1'!$AS$85","v":0},{"$f":"'1'!$AT$85","v":0},1,{"$f":"VLOOKUP(BW82,Přehled!$C$5:$AL$24,36)","v":""},null,null,null,null,null,null,null,null,null,null,null,null,null,null,null,null,null,null,null,null,{"$f":"'1'!$BP$85","v":0},{"$f":"'1'!$BQ$85","v":0},{"$f":"'1'!$BR$85","v":0},{"$f":"'1'!$BS$85","v":0},{"$f":"'1'!$BT$85","v":0},{"$f":"'1'!$BU$85","v":0},1,{"$f":"VLOOKUP(CY82,Přehled!$C$5:$AL$24,36)","v":""},null,null,null,null,null,null,null,null,null,null,null,null,null,null,null,{"$f":"'1'!$CR$85","v":0},{"$f":"'1'!$CS$85","v":0},{"$f":"'1'!$CT$85","v":0},1,{"$f":"VLOOKUP(DS82,Přehled!$C$5:$AL$24,36)","v":""},null,null,null,null,null,null,null,null,null,null,null,null,null,null,null,{"$f":"'3'!$DO$23","v":0},{"$f":"'3'!$DP$23","v":0},{"$f":"'3'!$DQ$23","v":0},3,{"$f":"VLOOKUP(EM82,Přehled!$C$5:$AL$24,36)","v":""}]
[{"$f":"'1'!$A$86","v":0},{"$f":"'1'!$B$86","v":0},{"$f":"'1'!$C$86","v":0},{"$f":"SUMIF($B$5:$B$2024,Souhrn_hod[[#This Row],[Jméno]],$E$5:$E$2024)","v":0},{"$f":"'1'!$D$86","v":0},{"$f":"'1'!$E$86","v":0},{"$f":"'1'!$F$86","v":0},{"$f":"'1'!$G$86","v":0},{"$f":"'1'!$H$86","v":0},{"$f":"'1'!$I$86","v":0},{"$f":"'1'!$J$86","v":0},{"$f":"'1'!$K$86","v":0},{"$f":"'1'!$L$86","v":0},{"$f":"'1'!$M$86","v":0},{"$f":"'1'!$N$86","v":0},{"$f":"'1'!$O$86","v":0},{"$f":"'1'!$P$86","v":0},{"$f":"'1'!$Q$86","v":0},{"$f":"'1'!$R$86","v":0},{"$f":"'1'!$S$86","v":0},{"$f":"'1'!$T$86","v":0},{"$f":"'1'!$U$86","v":0},{"$f":"'1'!$V$86","v":0},{"$f":"'1'!$W$86","v":0},{"$f":"'1'!$X$86","v":0},{"$f":"'1'!$Y$86","v":0},{"$f":"'1'!$Z$86","v":0},{"$f":"'1'!$AA$86","v":0},{"$f":"'1'!$AB$86","v":0},{"$f":"'1'!$AC$86","v":0},{"$f":"'1'!$AD$86","v":0},{"$f":"'1'!$AE$86","v":0},{"$f":"'1'!$AF$86","v":0},{"$f":"'1'!$AG$86","v":0},{"$f":"'1'!$AH$86","v":0},{"$f":"'1'!$AI$86","v":0},{"$f":"'1'!$AJ$86","v":0},1,{"$f":"VLOOKUP(AL83,Přehled!$C$5:$AL$24,36)","v":""},null,null,null,null,null,null,null,null,null,null,null,null,null,null,null,null,null,null,null,null,null,null,null,null,null,null,null,null,null,{"$f":"'1'!$AO$86","v":0},{"$f":"'1'!$AP$86","v":0},{"$f":"'1'!$AQ$86","v":0},{"$f":"'1'!$AR$86","v":0},{"$f":"'1'!$AS$86","v":0},{"$f":"'1'!$AT$86","v":0},1,{"$f":"VLOOKUP(BW83,Přehled!$C$5:$AL$24,36)","v":""},null,null,null,null,null,null,null,null,null,null,null,null,null,null,null,null,null,null,null,null,{"$f":"'1'!$BP$86","v":0},{"$f":"'1'!$BQ$86","v":0},{"$f":"'1'!$BR$86","v":0},{"$f":"'1'!$BS$86","v":0},{"$f":"'1'!$BT$86","v":0},{"$f":"'1'!$BU$86","v":0},1,{"$f":"VLOOKUP(CY83,Přehled!$C$5:$AL$24,36)","v":""},null,null,null,null,null,null,null,null,null,null,null,null,null,null,null,{"$f":"'1'!$CR$86","v":0},{"$f":"'1'!$CS$86","v":0},{"$f":"'1'!$CT$86","v":0},1,{"$f":"VLOOKUP(DS83,Přehled!$C$5:$AL$24,36)","v":""},null,null,null,null,null,null,null,null,null,null,null,null,null,null,null,{"$f":"'3'!$DO$24","v":0},{"$f":"'3'!$DP$24","v":0},{"$f":"'3'!$DQ$24","v":0},3,{"$f":"VLOOKUP(EM83,Přehled!$C$5:$AL$24,36)","v":""}]
[{"$f":"'1'!$A$87","v":0},{"$f":"'1'!$B$87","v":0},{"$f":"'1'!$C$87","v":0},{"$f":"SUMIF($B$5:$B$2024,Souhrn_hod[[#This Row],[Jméno]],$E$5:$E$2024)","v":0},{"$f":"'1'!$D$87","v":0},{"$f":"'1'!$E$87","v":0},{"$f":"'1'!$F$87","v":0},{"$f":"'1'!$G$87","v":0},{"$f":"'1'!$H$87","v":0},{"$f":"'1'!$I$87","v":0},{"$f":"'1'!$J$87","v":0},{"$f":"'1'!$K$87","v":0},{"$f":"'1'!$L$87","v":0},{"$f":"'1'!$M$87","v":0},{"$f":"'1'!$N$87","v":0},{"$f":"'1'!$O$87","v":0},{"$f":"'1'!$P$87","v":0},{"$f":"'1'!$Q$87","v":0},{"$f":"'1'!$R$87","v":0},{"$f":"'1'!$S$87","v":0},{"$f":"'1'!$T$87","v":0},{"$f":"'1'!$U$87","v":0},{"$f":"'1'!$V$87","v":0},{"$f":"'1'!$W$87","v":0},{"$f":"'1'!$X$87","v":0},{"$f":"'1'!$Y$87","v":0},{"$f":"'1'!$Z$87","v":0},{"$f":"'1'!$AA$87","v":0},{"$f":"'1'!$AB$87","v":0},{"$f":"'1'!$AC$87","v":0},{"$f":"'1'!$AD$87","v":0},{"$f":"'1'!$AE$87","v":0},{"$f":"'1'!$AF$87","v":0},{"$f":"'1'!$AG$87","v":0},{"$f":"'1'!$AH$87","v":0},{"$f":"'1'!$AI$87","v":0},{"$f":"'1'!$AJ$87","v":0},1,{"$f":"VLOOKUP(AL84,Přehled!$C$5:$AL$24,36)","v":""},null,null,null,null,null,null,null,null,null,null,null,null,null,null,null,null,null,null,null,null,null,null,null,null,null,null,null,null,null,{"$f":"'1'!$AO$87","v":0},{"$f":"'1'!$AP$87","v":0},{"$f":"'1'!$AQ$87","v":0},{"$f":"'1'!$AR$87","v":0},{"$f":"'1'!$AS$87","v":0},{"$f":"'1'!$AT$87","v":0},1,{"$f":"VLOOKUP(BW84,Přehled!$C$5:$AL$24,36)","v":""},null,null,null,null,null,null,null,null,null,null,null,null,null,null,null,null,null,null,null,null,{"$f":"'1'!$BP$87","v":0},{"$f":"'1'!$BQ$87","v":0},{"$f":"'1'!$BR$87","v":0},{"$f":"'1'!$BS$87","v":0},{"$f":"'1'!$BT$87","v":0},{"$f":"'1'!$BU$87","v":0},1,{"$f":"VLOOKUP(CY84,Přehled!$C$5:$AL$24,36)","v":""},null,null,null,null,null,null,null,null,null,null,null,null,null,null,null,{"$f":"'1'!$CR$87","v":0},{"$f":"'1'!$CS$87","v":0},{"$f":"'1'!$CT$87","v":0},1,{"$f":"VLOOKUP(DS84,Přehled!$C$5:$AL$24,36)","v":""},null,null,null,null,null,null,null,null,null,null,null,null,null,null,null,{"$f":"'3'!$DO$25","v":0},{"$f":"'3'!$DP$25","v":0},{"$f":"'3'!$DQ$25","v":0},3,{"$f":"VLOOKUP(EM84,Přehled!$C$5:$AL$24,36)","v":""}]
[{"$f":"'1'!$A$88","v":0},{"$f":"'1'!$B$88","v":0},{"$f":"'1'!$C$88","v":0},{"$f":"SUMIF($B$5:$B$2024,Souhrn_hod[[#This Row],[Jméno]],$E$5:$E$2024)","v":0},{"$f":"'1'!$D$88","v":0},{"$f":"'1'!$E$88","v":0},{"$f":"'1'!$F$88","v":0},{"$f":"'1'!$G$88","v":0},{"$f":"'1'!$H$88","v":0},{"$f":"'1'!$I$88","v":0},{"$f":"'1'!$J$88","v":0},{"$f":"'1'!$K$88","v":0},{"$f":"'1'!$L$88","v":0},{"$f":"'1'!$M$88","v":0},{"$f":"'1'!$N$88","v":0},{"$f":"'1'!$O$88","v":0},{"$f":"'1'!$P$88","v":0},{"$f":"'1'!$Q$88","v":0},{"$f":"'1'!$R$88","v":0},{"$f":"'1'!$S$88","v":0},{"$f":"'1'!$T$88","v":0},{"$f":"'1'!$U$88","v":0},{"$f":"'1'!$V$88","v":0},{"$f":"'1'!$W$88","v":0},{"$f":"'1'!$X$88","v":0},{"$f":"'1'!$Y$88","v":0},{"$f":"'1'!$Z$88","v":0},{"$f":"'1'!$AA$88","v":0},{"$f":"'1'!$AB$88","v":0},{"$f":"'1'!$AC$88","v":0},{"$f":"'1'!$AD$88","v":0},{"$f":"'1'!$AE$88","v":0},{"$f":"'1'!$AF$88","v":0},{"$f":"'1'!$AG$88","v":0},{"$f":"'1'!$AH$88","v":0},{"$f":"'1'!$AI$88","v":0},{"$f":"'1'!$AJ$88","v":0},1,{"$f":"VLOOKUP(AL85,Přehled!$C$5:$AL$24,36)","v":""},null,null,null,null,null,null,null,null,null,null,null,null,null,null,null,null,null,null,null,null,null,null,null,null,null,null,null,null,null,{"$f":"'1'!$AO$68","v":0},{"$f":"'1'!$AP$68","v":0},{"$f":"'1'!$AQ$68","v":0},{"$f":"'1'!$AR$68","v":0},{"$f":"'1'!$AS$68","v":0},{"$f":"'1'!$AT$68","v":0},1,{"$f":"VLOOKUP(BW85,Přehled!$C$5:$AL$24,36)","v":""},null,null,null,null,null,null,null,null,null,null,null,null,null,null,null,null,null,null,null,null,{"$f":"'1'!$BP$88","v":0},{"$f":"'1'!$BQ$88","v":0},{"$f":"'1'!$BR$88","v":0},{"$f":"'1'!$BS$88","v":0},{"$f":"'1'!$BT$88","v":0},{"$f":"'1'!$BU$88","v":0},1,{"$f":"VLOOKUP(CY85,Přehled!$C$5:$AL$24,36)","v":""},null,null,null,null,null,null,null,null,null,null,null,null,null,null,null,{"$f":"'1'!$CR$88","v":0},{"$f":"'1'!$CS$88","v":0},{"$f":"'1'!$CT$88","v":0},1,{"$f":"VLOOKUP(DS85,Přehled!$C$5:$AL$24,36)","v":""},null,null,null,null,null,null,null,null,null,null,null,null,null,null,null,{"$f":"'3'!$DO$26","v":0},{"$f":"'3'!$DP$26","v":0},{"$f":"'3'!$DQ$26","v":0},3,{"$f":"VLOOKUP(EM85,Přehled!$C$5:$AL$24,36)","v":""}]
[{"$f":"'1'!$A$89","v":0},{"$f":"'1'!$B$89","v":0},{"$f":"'1'!$C$89","v":0},{"$f":"SUMIF($B$5:$B$2024,Souhrn_hod[[#This Row],[Jméno]],$E$5:$E$2024)","v":0},{"$f":"'1'!$D$89","v":0},{"$f":"'1'!$E$89","v":0},{"$f":"'1'!$F$89","v":0},{"$f":"'1'!$G$89","v":0},{"$f":"'1'!$H$89","v":0},{"$f":"'1'!$I$89","v":0},{"$f":"'1'!$J$89","v":0},{"$f":"'1'!$K$89","v":0},{"$f":"'1'!$L$89","v":0},{"$f":"'1'!$M$89","v":0},{"$f":"'1'!$N$89","v":0},{"$f":"'1'!$O$89","v":0},{"$f":"'1'!$P$89","v":0},{"$f":"'1'!$Q$89","v":0},{"$f":"'1'!$R$89","v":0},{"$f":"'1'!$S$89","v":0},{"$f":"'1'!$T$89","v":0},{"$f":"'1'!$U$89","v":0},{"$f":"'1'!$V$89","v":0},{"$f":"'1'!$W$89","v":0},{"$f":"'1'!$X$89","v":0},{"$f":"'1'!$Y$89","v":0},{"$f":"'1'!$Z$89","v":0},{"$f":"'1'!$AA$89","v":0},{"$f":"'1'!$AB$89","v":0},{"$f":"'1'!$AC$89","v":0},{"$f":"'1'!$AD$89","v":0},{"$f":"'1'!$AE$89","v":0},{"$f":"'1'!$AF$89","v":0},{"$f":"'1'!$AG$89","v":0},{"$f":"'1'!$AH$89","v":0},{"$f":"'1'!$AI$89","v":0},{"$f":"'1'!$AJ$89","v":0},1,{"$f":"VLOOKUP(AL86,Přehled!$C$5:$AL$24,36)","v":""},null,null,null,null,null,null,null,null,null,null,null,null,null,null,null,null,null,null,null,null,null,null,null,null,null,null,null,null,null,{"$f":"'1'!$AO$89","v":0},{"$f":"'1'!$AP$89","v":0},{"$f":"'1'!$AQ$89","v":0},{"$f":"'1'!$AR$89","v":0},{"$f":"'1'!$AS$89","v":0},{"$f":"'1'!$AT$89","v":0},1,{"$f":"VLOOKUP(BW86,Přehled!$C$5:$AL$24,36)","v":""},null,null,null,null,null,null,null,null,null,null,null,null,null,null,null,null,null,null,null,null,{"$f":"'1'!$BP$89","v":0},{"$f":"'1'!$BQ$89","v":0},{"$f":"'1'!$BR$89","v":0},{"$f":"'1'!$BS$89","v":0},{"$f":"'1'!$BT$89","v":0},{"$f":"'1'!$BU$89","v":0},1,{"$f":"VLOOKUP(CY86,Přehled!$C$5:$AL$24,36)","v":""},null,null,null,null,null,null,null,null,null,null,null,null,null,null,null,{"$f":"'1'!$CR$89","v":0},{"$f":"'1'!$CS$89","v":0},{"$f":"'1'!$CT$89","v":0},1,{"$f":"VLOOKUP(DS86,Přehled!$C$5:$AL$24,36)","v":""},null,null,null,null,null,null,null,null,null,null,null,null,null,null,null,{"$f":"'3'!$DO$27","v":0},{"$f":"'3'!$DP$27","v":0},{"$f":"'3'!$DQ$27","v":0},3,{"$f":"VLOOKUP(EM86,Přehled!$C$5:$AL$24,36)","v":""}]
[{"$f":"'1'!$A$90","v":0},{"$f":"'1'!$B$90","v":0},{"$f":"'1'!$C$90","v":0},{"$f":"SUMIF($B$5:$B$2024,Souhrn_hod[[#This Row],[Jméno]],$E$5:$E$2024)","v":0},{"$f":"'1'!$D$90","v":0},{"$f":"'1'!$E$90","v":0},{"$f":"'1'!$F$90","v":0},{"$f":"'1'!$G$90","v":0},{"$f":"'1'!$H$90","v":0},{"$f":"'1'!$I$90","v":0},{"$f":"'1'!$J$90","v":0},{"$f":"'1'!$K$90","v":0},{"$f":"'1'!$L$90","v":0},{"$f":"'1'!$M$90","v":0},{"$f":"'1'!$N$90","v":0},{"$f":"'1'!$O$90","v":0},{"$f":"'1'!$P$90","v":0},{"$f":"'1'!$Q$90","v":0},{"$f":"'1'!$R$90","v":0},{"$f":"'1'!$S$90","v":0},{"$f":"'1'!$T$90","v":0},{"$f":"'1'!$U$90","v":0},{"$f":"'1'!$V$90","v":0},{"$f":"'1'!$W$90","v":0},{"$f":"'1'!$X$90","v":0},{"$f":"'1'!$Y$90","v":0},{"$f":"'1'!$Z$90","v":0},{"$f":"'1'!$AA$90","v":0},{"$f":"'1'!$AB$90","v":0},{"$f":"'1'!$AC$90","v":0},{"$f":"'1'!$AD$90","v":0},{"$f":"'1'!$AE$90","v":0},{"$f":"'1'!$AF$90","v":0},{"$f":"'1'!$AG$90","v":0},{"$f":"'1'!$AH$90","v":0},{"$f":"'1'!$AI$90","v":0},{"$f":"'1'!$AJ$90","v":0},1,{"$f":"VLOOKUP(AL87,Přehled!$C$5:$AL$24,36)","v":""},null,null,null,null,null,null,null,null,null,null,null,null,null,null,null,null,null,null,null,null,null,null,null,null,null,null,null,null,null,{"$f":"'1'!$AO$90","v":0},{"$f":"'1'!$AP$90","v":0},{"$f":"'1'!$AQ$90","v":0},{"$f":"'1'!$AR$90","v":0},{"$f":"'1'!$AS$90","v":0},{"$f":"'1'!$AT$90","v":0},1,{"$f":"VLOOKUP(BW87,Přehled!$C$5:$AL$24,36)","v":""},null,null,null,null,null,null,null,null,null,null,null,null,null,null,null,null,null,null,null,null,{"$f":"'1'!$BP$90","v":0},{"$f":"'1'!$BQ$90","v":0},{"$f":"'1'!$BR$90","v":0},{"$f":"'1'!$BS$90","v":0},{"$f":"'1'!$BT$90","v":0},{"$f":"'1'!$BU$90","v":0},1,{"$f":"VLOOKUP(CY87,Přehled!$C$5:$AL$24,36)","v":""},null,null,null,null,null,null,null,null,null,null,null,null,null,null,null,{"$f":"'1'!$CR$90","v":0},{"$f":"'1'!$CS$90","v":0},{"$f":"'1'!$CT$90","v":0},1,{"$f":"VLOOKUP(DS87,Přehled!$C$5:$AL$24,36)","v":""},null,null,null,null,null,null,null,null,null,null,null,null,null,null,null,{"$f":"'3'!$DO$28","v":0},{"$f":"'3'!$DP$28","v":0},{"$f":"'3'!$DQ$28","v":0},3,{"$f":"VLOOKUP(EM87,Přehled!$C$5:$AL$24,36)","v":""}]
[{"$f":"'1'!$A$91","v":0},{"$f":"'1'!$B$91","v":0},{"$f":"'1'!$C$91","v":0},{"$f":"SUMIF($B$5:$B$2024,Souhrn_hod[[#This Row],[Jméno]],$E$5:$E$2024)","v":0},{"$f":"'1'!$D$91","v":0},{"$f":"'1'!$E$91","v":0},{"$f":"'1'!$F$91","v":0},{"$f":"'1'!$G$91","v":0},{"$f":"'1'!$H$91","v":0},{"$f":"'1'!$I$91","v":0},{"$f":"'1'!$J$91","v":0},{"$f":"'1'!$K$91","v":0},{"$f":"'1'!$L$91","v":0},{"$f":"'1'!$M$91","v":0},{"$f":"'1'!$N$91","v":0},{"$f":"'1'!$O$91","v":0},{"$f":"'1'!$P$91","v":0},{"$f":"'1'!$Q$91","v":0},{"$f":"'1'!$R$91","v":0},{"$f":"'1'!$S$91","v":0},{"$f":"'1'!$T$91","v":0},{"$f":"'1'!$U$91","v":0},{"$f":"'1'!$V$91","v":0},{"$f":"'1'!$W$91","v":0},{"$f":"'1'!$X$91","v":0},{"$f":"'1'!$Y$91","v":0},{"$f":"'1'!$Z$91","v":0},{"$f":"'1'!$AA$91","v":0},{"$f":"'1'!$AB$91","v":0},{"$f":"'1'!$AC$91","v":0},{"$f":"'1'!$AD$91","v":0},{"$f":"'1'!$AE$91","v":0},{"$f":"'1'!$AF$91","v":0},{"$f":"'1'!$AG$91","v":0},{"$f":"'1'!$AH$91","v":0},{"$f":"'1'!$AI$91","v":0},{"$f":"'1'!$AJ$91","v":0},1,{"$f":"VLOOKUP(AL88,Přehled!$C$5:$AL$24,36)","v":""},null,null,null,null,null,null,null,null,null,null,null,null,null,null,null,null,null,null,null,null,null,null,null,null,null,null,null,null,null,{"$f":"'1'!$AO$91","v":0},{"$f":"'1'!$AP$91","v":0},{"$f":"'1'!$AQ$91","v":0},{"$f":"'1'!$AR$91","v":0},{"$f":"'1'!$AS$91","v":0},{"$f":"'1'!$AT$91","v":0},1,{"$f":"VLOOKUP(BW88,Přehled!$C$5:$AL$24,36)","v":""},null,null,null,null,null,null,null,null,null,null,null,null,null,null,null,null,null,null,null,null,{"$f":"'1'!$BP$91","v":0},{"$f":"'1'!$BQ$91","v":0},{"$f":"'1'!$BR$91","v":0},{"$f":"'1'!$BS$91","v":0},{"$f":"'1'!$BT$91","v":0},{"$f":"'1'!$BU$91","v":0},1,{"$f":"VLOOKUP(CY88,Přehled!$C$5:$AL$24,36)","v":""},null,null,null,null,null,null,null,null,null,null,null,null,null,null,null,{"$f":"'1'!$CR$91","v":0},{"$f":"'1'!$CS$91","v":0},{"$f":"'1'!$CT$91","v":0},1,{"$f":"VLOOKUP(DS88,Přehled!$C$5:$AL$24,36)","v":""},null,null,null,null,null,null,null,null,null,null,null,null,null,null,null,{"$f":"'3'!$DO$29","v":0},{"$f":"'3'!$DP$29","v":0},{"$f":"'3'!$DQ$29","v":0},3,{"$f":"VLOOKUP(EM88,Přehled!$C$5:$AL$24,36)","v":""}]
[{"$f":"'1'!$A$92","v":0},{"$f":"'1'!$B$92","v":0},{"$f":"'1'!$C$92","v":0},{"$f":"SUMIF($B$5:$B$2024,Souhrn_hod[[#This Row],[Jméno]],$E$5:$E$2024)","v":0},{"$f":"'1'!$D$92","v":0},{"$f":"'1'!$E$92","v":0},{"$f":"'1'!$F$92","v":0},{"$f":"'1'!$G$92","v":0},{"$f":"'1'!$H$92","v":0},{"$f":"'1'!$I$92","v":0},{"$f":"'1'!$J$92","v":0},{"$f":"'1'!$K$92","v":0},{"$f":"'1'!$L$92","v":0},{"$f":"'1'!$M$92","v":0},{"$f":"'1'!$N$92","v":0},{"$f":"'1'!$O$92","v":0},{"$f":"'1'!$P$92","v":0},{"$f":"'1'!$Q$92","v":0},{"$f":"'1'!$R$92","v":0},{"$f":"'1'!$S$92","v":0},{"$f":"'1'!$T$92","v":0},{"$f":"'1'!$U$92","v":0},{"$f":"'1'!$V$92","v":0},{"$f":"'1'!$W$92","v":0},{"$f":"'1'!$X$92","v":0},{"$f":"'1'!$Y$92","v":0},{"$f":"'1'!$Z$92","v":0},{"$f":"'1'!$AA$92","v":0},{"$f":"'1'!$AB$92","v":0},{"$f":"'1'!$AC$92","v":0},{"$f":"'1'!$AD$92","v":0},{"$f":"'1'!$AE$92","v":0},{"$f":"'1'!$AF$92","v":0},{"$f":"'1'!$AG$92","v":0},{"$f":"'1'!$AH$92","v":0},{"$f":"'1'!$AI$92","v":0},{"$f":"'1'!$AJ$92","v":0},1,{"$f":"VLOOKUP(AL89,Přehled!$C$5:$AL$24,36)","v":""},null,null,null,null,null,null,null,null,null,null,null,null,null,null,null,null,null,null,null,null,null,null,null,null,null,null,null,null,null,{"$f":"'1'!$AO$92","v":0},{"$f":"'1'!$AP$92","v":0},{"$f":"'1'!$AQ$92","v":0},{"$f":"'1'!$AR$92","v":0},{"$f":"'1'!$AS$92","v":0},{"$f":"'1'!$AT$92","v":0},1,{"$f":"VLOOKUP(BW89,Přehled!$C$5:$AL$24,36)","v":""},null,null,null,null,null,null,null,null,null,null,null,null,null,null,null,null,null,null,null,null,{"$f":"'1'!$BP$92","v":0},{"$f":"'1'!$BQ$92","v":0},{"$f":"'1'!$BR$92","v":0},{"$f":"'1'!$BS$92","v":0},{"$f":"'1'!$BT$92","v":0},{"$f":"'1'!$BU$92","v":0},1,{"$f":"VLOOKUP(CY89,Přehled!$C$5:$AL$24,36)","v":""},null,null,null,null,null,null,null,null,null,null,null,null,null,null,null,{"$f":"'1'!$CR$92","v":0},{"$f":"'1'!$CS$92","v":0},{"$f":"'1'!$CT$92","v":0},1,{"$f":"VLOOKUP(DS89,Přehled!$C$5:$AL$24,36)","v":""},null,null,null,null,null,null,null,null,null,null,null,null,null,null,null,{"$f":"'3'!$DO$30","v":0},{"$f":"'3'!$DP$30","v":0},{"$f":"'3'!$DQ$30","v":0},3,{"$f":"VLOOKUP(EM89,Přehled!$C$5:$AL$24,36)","v":""}]
[{"$f":"'1'!$A$93","v":0},{"$f":"'1'!$B$93","v":0},{"$f":"'1'!$C$93","v":0},{"$f":"SUMIF($B$5:$B$2024,Souhrn_hod[[#This Row],[Jméno]],$E$5:$E$2024)","v":0},{"$f":"'1'!$D$93","v":0},{"$f":"'1'!$E$93","v":0},{"$f":"'1'!$F$93","v":0},{"$f":"'1'!$G$93","v":0},{"$f":"'1'!$H$93","v":0},{"$f":"'1'!$I$93","v":0},{"$f":"'1'!$J$93","v":0},{"$f":"'1'!$K$93","v":0},{"$f":"'1'!$L$93","v":0},{"$f":"'1'!$M$93","v":0},{"$f":"'1'!$N$93","v":0},{"$f":"'1'!$O$93","v":0},{"$f":"'1'!$P$93","v":0},{"$f":"'1'!$Q$93","v":0},{"$f":"'1'!$R$93","v":0},{"$f":"'1'!$S$93","v":0},{"$f":"'1'!$T$93","v":0},{"$f":"'1'!$U$93","v":0},{"$f":"'1'!$V$93","v":0},{"$f":"'1'!$W$93","v":0},{"$f":"'1'!$X$93","v":0},{"$f":"'1'!$Y$93","v":0},{"$f":"'1'!$Z$93","v":0},{"$f":"'1'!$AA$93","v":0},{"$f":"'1'!$AB$93","v":0},{"$f":"'1'!$AC$93","v":0},{"$f":"'1'!$AD$93","v":0},{"$f":"'1'!$AE$93","v":0},{"$f":"'1'!$AF$93","v":0},{"$f":"'1'!$AG$93","v":0},{"$f":"'1'!$AH$93","v":0},{"$f":"'1'!$AI$93","v":0},{"$f":"'1'!$AJ$93","v":0},1,{"$f":"VLOOKUP(AL90,Přehled!$C$5:$AL$24,36)","v":""},null,null,null,null,null,null,null,null,null,null,null,null,null,null,null,null,null,null,null,null,null,null,null,null,null,null,null,null,null,{"$f":"'1'!$AO$73","v":0},{"$f":"'1'!$AP$73","v":0},{"$f":"'1'!$AQ$73","v":0},{"$f":"'1'!$AR$73","v":0},{"$f":"'1'!$AS$73","v":0},{"$f":"'1'!$AT$73","v":0},1,{"$f":"VLOOKUP(BW90,Přehled!$C$5:$AL$24,36)","v":""},null,null,null,null,null,null,null,null,null,null,null,null,null,null,null,null,null,null,null,null,{"$f":"'1'!$BP$93","v":0},{"$f":"'1'!$BQ$93","v":0},{"$f":"'1'!$BR$93","v":0},{"$f":"'1'!$BS$93","v":0},{"$f":"'1'!$BT$93","v":0},{"$f":"'1'!$BU$93","v":0},1,{"$f":"VLOOKUP(CY90,Přehled!$C$5:$AL$24,36)","v":""},null,null,null,null,null,null,null,null,null,null,null,null,null,null,null,{"$f":"'1'!$CR$93","v":0},{"$f":"'1'!$CS$93","v":0},{"$f":"'1'!$CT$93","v":0},1,{"$f":"VLOOKUP(DS90,Přehled!$C$5:$AL$24,36)","v":""},null,null,null,null,null,null,null,null,null,null,null,null,null,null,null,{"$f":"'3'!$DO$31","v":0},{"$f":"'3'!$DP$31","v":0},{"$f":"'3'!$DQ$31","v":0},3,{"$f":"VLOOKUP(EM90,Přehled!$C$5:$AL$24,36)","v":""}]
[{"$f":"'1'!$A$94","v":0},{"$f":"'1'!$B$94","v":0},{"$f":"'1'!$C$94","v":0},{"$f":"SUMIF($B$5:$B$2024,Souhrn_hod[[#This Row],[Jméno]],$E$5:$E$2024)","v":0},{"$f":"'1'!$D$94","v":0},{"$f":"'1'!$E$94","v":0},{"$f":"'1'!$F$94","v":0},{"$f":"'1'!$G$94","v":0},{"$f":"'1'!$H$94","v":0},{"$f":"'1'!$I$94","v":0},{"$f":"'1'!$J$94","v":0},{"$f":"'1'!$K$94","v":0},{"$f":"'1'!$L$94","v":0},{"$f":"'1'!$M$94","v":0},{"$f":"'1'!$N$94","v":0},{"$f":"'1'!$O$94","v":0},{"$f":"'1'!$P$94","v":0},{"$f":"'1'!$Q$94","v":0},{"$f":"'1'!$R$94","v":0},{"$f":"'1'!$S$94","v":0},{"$f":"'1'!$T$94","v":0},{"$f":"'1'!$U$94","v":0},{"$f":"'1'!$V$94","v":0},{"$f":"'1'!$W$94","v":0},{"$f":"'1'!$X$94","v":0},{"$f":"'1'!$Y$94","v":0},{"$f":"'1'!$Z$94","v":0},{"$f":"'1'!$AA$94","v":0},{"$f":"'1'!$AB$94","v":0},{"$f":"'1'!$AC$94","v":0},{"$f":"'1'!$AD$94","v":0},{"$f":"'1'!$AE$94","v":0},{"$f":"'1'!$AF$94","v":0},{"$f":"'1'!$AG$94","v":0},{"$f":"'1'!$AH$94","v":0},{"$f":"'1'!$AI$94","v":0},{"$f":"'1'!$AJ$94","v":0},1,{"$f":"VLOOKUP(AL91,Přehled!$C$5:$AL$24,36)","v":""},null,null,null,null,null,null,null,null,null,null,null,null,null,null,null,null,null,null,null,null,null,null,null,null,null,null,null,null,null,{"$f":"'1'!$AO$78","v":0},{"$f":"'1'!$AP$78","v":0},{"$f":"'1'!$AQ$78","v":0},{"$f":"'1'!$AR$78","v":0},{"$f":"'1'!$AS$78","v":0},{"$f":"'1'!$AT$78","v":0},1,{"$f":"VLOOKUP(BW91,Přehled!$C$5:$AL$24,36)","v":""},null,null,null,null,null,null,null,null,null,null,null,null,null,null,null,null,null,null,null,null,{"$f":"'1'!$BP$94","v":0},{"$f":"'1'!$BQ$94","v":0},{"$f":"'1'!$BR$94","v":0},{"$f":"'1'!$BS$94","v":0},{"$f":"'1'!$BT$94","v":0},{"$f":"'1'!$BU$94","v":0},1,{"$f":"VLOOKUP(CY91,Přehled!$C$5:$AL$24,36)","v":""},null,null,null,null,null,null,null,null,null,null,null,null,null,null,null,{"$f":"'1'!$CR$94","v":0},{"$f":"'1'!$CS$94","v":0},{"$f":"'1'!$CT$94","v":0},1,{"$f":"VLOOKUP(DS91,Přehled!$C$5:$AL$24,36)","v":""},null,null,null,null,null,null,null,null,null,null,null,null,null,null,null,{"$f":"'3'!$DO$32","v":0},{"$f":"'3'!$DP$32","v":0},{"$f":"'3'!$DQ$32","v":0},3,{"$f":"VLOOKUP(EM91,Přehled!$C$5:$AL$24,36)","v":""}]
[{"$f":"'1'!$A$95","v":0},{"$f":"'1'!$B$95","v":0},{"$f":"'1'!$C$95","v":0},{"$f":"SUMIF($B$5:$B$2024,Souhrn_hod[[#This Row],[Jméno]],$E$5:$E$2024)","v":0},{"$f":"'1'!$D$95","v":0},{"$f":"'1'!$E$95","v":0},{"$f":"'1'!$F$95","v":0},{"$f":"'1'!$G$95","v":0},{"$f":"'1'!$H$95","v":0},{"$f":"'1'!$I$95","v":0},{"$f":"'1'!$J$95","v":0},{"$f":"'1'!$K$95","v":0},{"$f":"'1'!$L$95","v":0},{"$f":"'1'!$M$95","v":0},{"$f":"'1'!$N$95","v":0},{"$f":"'1'!$O$95","v":0},{"$f":"'1'!$P$95","v":0},{"$f":"'1'!$Q$95","v":0},{"$f":"'1'!$R$95","v":0},{"$f":"'1'!$S$95","v":0},{"$f":"'1'!$T$95","v":0},{"$f":"'1'!$U$95","v":0},{"$f":"'1'!$V$95","v":0},{"$f":"'1'!$W$95","v":0},{"$f":"'1'!$X$95","v":0},{"$f":"'1'!$Y$95","v":0},{"$f":"'1'!$Z$95","v":0},{"$f":"'1'!$AA$95","v":0},{"$f":"'1'!$AB$95","v":0},{"$f":"'1'!$AC$95","v":0},{"$f":"'1'!$AD$95","v":0},{"$f":"'1'!$AE$95","v":0},{"$f":"'1'!$AF$95","v":0},{"$f":"'1'!$AG$95","v":0},{"$f":"'1'!$AH$95","v":0},{"$f":"'1'!$AI$95","v":0},{"$f":"'1'!$AJ$95","v":0},1,{"$f":"VLOOKUP(AL92,Přehled!$C$5:$AL$24,36)","v":""},null,null,null,null,null,null,null,null,null,null,null,null,null,null,null,null,null,null,null,null,null,null,null,null,null,null,null,null,null,{"$f":"'1'!$AO$95","v":0},{"$f":"'1'!$AP$95","v":0},{"$f":"'1'!$AQ$95","v":0},{"$f":"'1'!$AR$95","v":0},{"$f":"'1'!$AS$95","v":0},{"$f":"'1'!$AT$95","v":0},1,{"$f":"VLOOKUP(BW92,Přehled!$C$5:$AL$24,36)","v":""},null,null,null,null,null,null,null,null,null,null,null,null,null,null,null,null,null,null,null,null,{"$f":"'1'!$BP$95","v":0},{"$f":"'1'!$BQ$95","v":0},{"$f":"'1'!$BR$95","v":0},{"$f":"'1'!$BS$95","v":0},{"$f":"'1'!$BT$95","v":0},{"$f":"'1'!$BU$95","v":0},1,{"$f":"VLOOKUP(CY92,Přehled!$C$5:$AL$24,36)","v":""},null,null,null,null,null,null,null,null,null,null,null,null,null,null,null,{"$f":"'1'!$CR$95","v":0},{"$f":"'1'!$CS$95","v":0},{"$f":"'1'!$CT$95","v":0},1,{"$f":"VLOOKUP(DS92,Přehled!$C$5:$AL$24,36)","v":""},null,null,null,null,null,null,null,null,null,null,null,null,null,null,null,{"$f":"'3'!$DO$33","v":0},{"$f":"'3'!$DP$33","v":0},{"$f":"'3'!$DQ$33","v":0},3,{"$f":"VLOOKUP(EM92,Přehled!$C$5:$AL$24,36)","v":""}]
[{"$f":"'1'!$A$96","v":0},{"$f":"'1'!$B$96","v":0},{"$f":"'1'!$C$96","v":0},{"$f":"SUMIF($B$5:$B$2024,Souhrn_hod[[#This Row],[Jméno]],$E$5:$E$2024)","v":0},{"$f":"'1'!$D$96","v":0},{"$f":"'1'!$E$96","v":0},{"$f":"'1'!$F$96","v":0},{"$f":"'1'!$G$96","v":0},{"$f":"'1'!$H$96","v":0},{"$f":"'1'!$I$96","v":0},{"$f":"'1'!$J$96","v":0},{"$f":"'1'!$K$96","v":0},{"$f":"'1'!$L$96","v":0},{"$f":"'1'!$M$96","v":0},{"$f":"'1'!$N$96","v":0},{"$f":"'1'!$O$96","v":0},{"$f":"'1'!$P$96","v":0},{"$f":"'1'!$Q$96","v":0},{"$f":"'1'!$R$96","v":0},{"$f":"'1'!$S$96","v":0},{"$f":"'1'!$T$96","v":0},{"$f":"'1'!$U$96","v":0},{"$f":"'1'!$V$96","v":0},{"$f":"'1'!$W$96","v":0},{"$f":"'1'!$X$96","v":0},{"$f":"'1'!$Y$96","v":0},{"$f":"'1'!$Z$96","v":0},{"$f":"'1'!$AA$96","v":0},{"$f":"'1'!$AB$96","v":0},{"$f":"'1'!$AC$96","v":0},{"$f":"'1'!$AD$96","v":0},{"$f":"'1'!$AE$96","v":0},{"$f":"'1'!$AF$96","v":0},{"$f":"'1'!$AG$96","v":0},{"$f":"'1'!$AH$96","v":0},{"$f":"'1'!$AI$96","v":0},{"$f":"'1'!$AJ$96","v":0},1,{"$f":"VLOOKUP(AL93,Přehled!$C$5:$AL$24,36)","v":""},null,null,null,null,null,null,null,null,null,null,null,null,null,null,null,null,null,null,null,null,null,null,null,null,null,null,null,null,null,{"$f":"'1'!$AO$96","v":0},{"$f":"'1'!$AP$96","v":0},{"$f":"'1'!$AQ$96","v":0},{"$f":"'1'!$AR$96","v":0},{"$f":"'1'!$AS$96","v":0},{"$f":"'1'!$AT$96","v":0},1,{"$f":"VLOOKUP(BW93,Přehled!$C$5:$AL$24,36)","v":""},null,null,null,null,null,null,null,null,null,null,null,null,null,null,null,null,null,null,null,null,{"$f":"'1'!$BP$96","v":0},{"$f":"'1'!$BQ$96","v":0},{"$f":"'1'!$BR$96","v":0},{"$f":"'1'!$BS$96","v":0},{"$f":"'1'!$BT$96","v":0},{"$f":"'1'!$BU$96","v":0},1,{"$f":"VLOOKUP(CY93,Přehled!$C$5:$AL$24,36)","v":""},null,null,null,null,null,null,null,null,null,null,null,null,null,null,null,{"$f":"'1'!$CR$96","v":0},{"$f":"'1'!$CS$96","v":0},{"$f":"'1'!$CT$96","v":0},1,{"$f":"VLOOKUP(DS93,Přehled!$C$5:$AL$24,36)","v":""},null,null,null,null,null,null,null,null,null,null,null,null,null,null,null,{"$f":"'3'!$DO$34","v":0},{"$f":"'3'!$DP$34","v":0},{"$f":"'3'!$DQ$34","v":0},3,{"$f":"VLOOKUP(EM93,Přehled!$C$5:$AL$24,36)","v":""}]
[{"$f":"'1'!$A$97","v":0},{"$f":"'1'!$B$97","v":0},{"$f":"'1'!$C$97","v":0},{"$f":"SUMIF($B$5:$B$2024,Souhrn_hod[[#This Row],[Jméno]],$E$5:$E$2024)","v":0},{"$f":"'1'!$D$97","v":0},{"$f":"'1'!$E$97","v":0},{"$f":"'1'!$F$97","v":0},{"$f":"'1'!$G$97","v":0},{"$f":"'1'!$H$97","v":0},{"$f":"'1'!$I$97","v":0},{"$f":"'1'!$J$97","v":0},{"$f":"'1'!$K$97","v":0},{"$f":"'1'!$L$97","v":0},{"$f":"'1'!$M$97","v":0},{"$f":"'1'!$N$97","v":0},{"$f":"'1'!$O$97","v":0},{"$f":"'1'!$P$97","v":0},{"$f":"'1'!$Q$97","v":0},{"$f":"'1'!$R$97","v":0},{"$f":"'1'!$S$97","v":0},{"$f":"'1'!$T$97","v":0},{"$f":"'1'!$U$97","v":0},{"$f":"'1'!$V$97","v":0},{"$f":"'1'!$W$97","v":0},{"$f":"'1'!$X$97","v":0},{"$f":"'1'!$Y$97","v":0},{"$f":"'1'!$Z$97","v":0},{"$f":"'1'!$AA$97","v":0},{"$f":"'1'!$AB$97","v":0},{"$f":"'1'!$AC$97","v":0},{"$f":"'1'!$AD$97","v":0},{"$f":"'1'!$AE$97","v":0},{"$f":"'1'!$AF$97","v":0},{"$f":"'1'!$AG$97","v":0},{"$f":"'1'!$AH$97","v":0},{"$f":"'1'!$AI$97","v":0},{"$f":"'1'!$AJ$97","v":0},1,{"$f":"VLOOKUP(AL94,Přehled!$C$5:$AL$24,36)","v":""},null,null,null,null,null,null,null,null,null,null,null,null,null,null,null,null,null,null,null,null,null,null,null,null,null,null,null,null,null,{"$f":"'1'!$AO$97","v":0},{"$f":"'1'!$AP$97","v":0},{"$f":"'1'!$AQ$97","v":0},{"$f":"'1'!$AR$97","v":0},{"$f":"'1'!$AS$97","v":0},{"$f":"'1'!$AT$97","v":0},1,{"$f":"VLOOKUP(BW94,Přehled!$C$5:$AL$24,36)","v":""},null,null,null,null,null,null,null,null,null,null,null,null,null,null,null,null,null,null,null,null,{"$f":"'1'!$BP$97","v":0},{"$f":"'1'!$BQ$97","v":0},{"$f":"'1'!$BR$97","v":0},{"$f":"'1'!$BS$97","v":0},{"$f":"'1'!$BT$97","v":0},{"$f":"'1'!$BU$97","v":0},1,{"$f":"VLOOKUP(CY94,Přehled!$C$5:$AL$24,36)","v":""},null,null,null,null,null,null,null,null,null,null,null,null,null,null,null,{"$f":"'1'!$CR$97","v":0},{"$f":"'1'!$CS$97","v":0},{"$f":"'1'!$CT$97","v":0},1,{"$f":"VLOOKUP(DS94,Přehled!$C$5:$AL$24,36)","v":""},null,null,null,null,null,null,null,null,null,null,null,null,null,null,null,{"$f":"'3'!$DO$35","v":0},{"$f":"'3'!$DP$35","v":0},{"$f":"'3'!$DQ$35","v":0},3,{"$f":"VLOOKUP(EM94,Přehled!$C$5:$AL$24,36)","v":""}]
[{"$f":"'1'!$A$98","v":0},{"$f":"'1'!$B$98","v":0},{"$f":"'1'!$C$98","v":0},{"$f":"SUMIF($B$5:$B$2024,Souhrn_hod[[#This Row],[Jméno]],$E$5:$E$2024)","v":0},{"$f":"'1'!$D$98","v":0},{"$f":"'1'!$E$98","v":0},{"$f":"'1'!$F$98","v":0},{"$f":"'1'!$G$98","v":0},{"$f":"'1'!$H$98","v":0},{"$f":"'1'!$I$98","v":0},{"$f":"'1'!$J$98","v":0},{"$f":"'1'!$K$98","v":0},{"$f":"'1'!$L$98","v":0},{"$f":"'1'!$M$98","v":0},{"$f":"'1'!$N$98","v":0},{"$f":"'1'!$O$98","v":0},{"$f":"'1'!$P$98","v":0},{"$f":"'1'!$Q$98","v":0},{"$f":"'1'!$R$98","v":0},{"$f":"'1'!$S$98","v":0},{"$f":"'1'!$T$98","v":0},{"$f":"'1'!$U$98","v":0},{"$f":"'1'!$V$98","v":0},{"$f":"'1'!$W$98","v":0},{"$f":"'1'!$X$98","v":0},{"$f":"'1'!$Y$98","v":0},{"$f":"'1'!$Z$98","v":0},{"$f":"'1'!$AA$98","v":0},{"$f":"'1'!$AB$98","v":0},{"$f":"'1'!$AC$98","v":0},{"$f":"'1'!$AD$98","v":0},{"$f":"'1'!$AE$98","v":0},{"$f":"'1'!$AF$98","v":0},{"$f":"'1'!$AG$98","v":0},{"$f":"'1'!$AH$98","v":0},{"$f":"'1'!$AI$98","v":0},{"$f":"'1'!$AJ$98","v":0},1,{"$f":"VLOOKUP(AL95,Přehled!$C$5:$AL$24,36)","v":""},null,null,null,null,null,null,null,null,null,null,null,null,null,null,null,null,null,null,null,null,null,null,null,null,null,null,null,null,null,{"$f":"'1'!$AO$83","v":0},{"$f":"'1'!$AP$83","v":0},{"$f":"'1'!$AQ$83","v":0},{"$f":"'1'!$AR$83","v":0},{"$f":"'1'!$AS$83","v":0},{"$f":"'1'!$AT$83","v":0},1,{"$f":"VLOOKUP(BW95,Přehled!$C$5:$AL$24,36)","v":""},null,null,null,null,null,null,null,null,null,null,null,null,null,null,null,null,null,null,null,null,{"$f":"'1'!$BP$98","v":0},{"$f":"'1'!$BQ$98","v":0},{"$f":"'1'!$BR$98","v":0},{"$f":"'1'!$BS$98","v":0},{"$f":"'1'!$BT$98","v":0},{"$f":"'1'!$BU$98","v":0},1,{"$f":"VLOOKUP(CY95,Přehled!$C$5:$AL$24,36)","v":""},null,null,null,null,null,null,null,null,null,null,null,null,null,null,null,{"$f":"'1'!$CR$98","v":0},{"$f":"'1'!$CS$98","v":0},{"$f":"'1'!$CT$98","v":0},1,{"$f":"VLOOKUP(DS95,Přehled!$C$5:$AL$24,36)","v":""},null,null,null,null,null,null,null,null,null,null,null,null,null,null,null,{"$f":"'3'!$DO$36","v":0},{"$f":"'3'!$DP$36","v":0},{"$f":"'3'!$DQ$36","v":0},3,{"$f":"VLOOKUP(EM95,Přehled!$C$5:$AL$24,36)","v":""}]
[{"$f":"'1'!$A$99","v":0},{"$f":"'1'!$B$99","v":0},{"$f":"'1'!$C$99","v":0},{"$f":"SUMIF($B$5:$B$2024,Souhrn_hod[[#This Row],[Jméno]],$E$5:$E$2024)","v":0},{"$f":"'1'!$D$99","v":0},{"$f":"'1'!$E$99","v":0},{"$f":"'1'!$F$99","v":0},{"$f":"'1'!$G$99","v":0},{"$f":"'1'!$H$99","v":0},{"$f":"'1'!$I$99","v":0},{"$f":"'1'!$J$99","v":0},{"$f":"'1'!$K$99","v":0},{"$f":"'1'!$L$99","v":0},{"$f":"'1'!$M$99","v":0},{"$f":"'1'!$N$99","v":0},{"$f":"'1'!$O$99","v":0},{"$f":"'1'!$P$99","v":0},{"$f":"'1'!$Q$99","v":0},{"$f":"'1'!$R$99","v":0},{"$f":"'1'!$S$99","v":0},{"$f":"'1'!$T$99","v":0},{"$f":"'1'!$U$99","v":0},{"$f":"'1'!$V$99","v":0},{"$f":"'1'!$W$99","v":0},{"$f":"'1'!$X$99","v":0},{"$f":"'1'!$Y$99","v":0},{"$f":"'1'!$Z$99","v":0},{"$f":"'1'!$AA$99","v":0},{"$f":"'1'!$AB$99","v":0},{"$f":"'1'!$AC$99","v":0},{"$f":"'1'!$AD$99","v":0},{"$f":"'1'!$AE$99","v":0},{"$f":"'1'!$AF$99","v":0},{"$f":"'1'!$AG$99","v":0},{"$f":"'1'!$AH$99","v":0},{"$f":"'1'!$AI$99","v":0},{"$f":"'1'!$AJ$99","v":0},1,{"$f":"VLOOKUP(AL96,Přehled!$C$5:$AL$24,36)","v":""},null,null,null,null,null,null,null,null,null,null,null,null,null,null,null,null,null,null,null,null,null,null,null,null,null,null,null,null,null,{"$f":"'1'!$AO$99","v":0},{"$f":"'1'!$AP$99","v":0},{"$f":"'1'!$AQ$99","v":0},{"$f":"'1'!$AR$99","v":0},{"$f":"'1'!$AS$99","v":0},{"$f":"'1'!$AT$99","v":0},1,{"$f":"VLOOKUP(BW96,Přehled!$C$5:$AL$24,36)","v":""},null,null,null,null,null,null,null,null,null,null,null,null,null,null,null,null,null,null,null,null,{"$f":"'1'!$BP$99","v":0},{"$f":"'1'!$BQ$99","v":0},{"$f":"'1'!$BR$99","v":0},{"$f":"'1'!$BS$99","v":0},{"$f":"'1'!$BT$99","v":0},{"$f":"'1'!$BU$99","v":0},1,{"$f":"VLOOKUP(CY96,Přehled!$C$5:$AL$24,36)","v":""},null,null,null,null,null,null,null,null,null,null,null,null,null,null,null,{"$f":"'1'!$CR$99","v":0},{"$f":"'1'!$CS$99","v":0},{"$f":"'1'!$CT$99","v":0},1,{"$f":"VLOOKUP(DS96,Přehled!$C$5:$AL$24,36)","v":""},null,null,null,null,null,null,null,null,null,null,null,null,null,null,null,{"$f":"'3'!$DO$37","v":0},{"$f":"'3'!$DP$37","v":0},{"$f":"'3'!$DQ$37","v":0},3,{"$f":"VLOOKUP(EM96,Přehled!$C$5:$AL$24,36)","v":""}]
[{"$f":"'1'!$A$100","v":0},{"$f":"'1'!$B$100","v":0},{"$f":"'1'!$C$100","v":0},{"$f":"SUMIF($B$5:$B$2024,Souhrn_hod[[#This Row],[Jméno]],$E$5:$E$2024)","v":0},{"$f":"'1'!$D$100","v":0},{"$f":"'1'!$E$100","v":0},{"$f":"'1'!$F$100","v":0},{"$f":"'1'!$G$100","v":0},{"$f":"'1'!$H$100","v":0},{"$f":"'1'!$I$100","v":0},{"$f":"'1'!$J$100","v":0},{"$f":"'1'!$K$100","v":0},{"$f":"'1'!$L$100","v":0},{"$f":"'1'!$M$100","v":0},{"$f":"'1'!$N$100","v":0},{"$f":"'1'!$O$100","v":0},{"$f":"'1'!$P$100","v":0},{"$f":"'1'!$Q$100","v":0},{"$f":"'1'!$R$100","v":0},{"$f":"'1'!$S$100","v":0},{"$f":"'1'!$T$100","v":0},{"$f":"'1'!$U$100","v":0},{"$f":"'1'!$V$100","v":0},{"$f":"'1'!$W$100","v":0},{"$f":"'1'!$X$100","v":0},{"$f":"'1'!$Y$100","v":0},{"$f":"'1'!$Z$100","v":0},{"$f":"'1'!$AA$100","v":0},{"$f":"'1'!$AB$100","v":0},{"$f":"'1'!$AC$100","v":0},{"$f":"'1'!$AD$100","v":0},{"$f":"'1'!$AE$100","v":0},{"$f":"'1'!$AF$100","v":0},{"$f":"'1'!$AG$100","v":0},{"$f":"'1'!$AH$100","v":0},{"$f":"'1'!$AI$100","v":0},{"$f":"'1'!$AJ$100","v":0},1,{"$f":"VLOOKUP(AL97,Přehled!$C$5:$AL$24,36)","v":""},null,null,null,null,null,null,null,null,null,null,null,null,null,null,null,null,null,null,null,null,null,null,null,null,null,null,null,null,null,{"$f":"'1'!$AO$100","v":0},{"$f":"'1'!$AP$100","v":0},{"$f":"'1'!$AQ$100","v":0},{"$f":"'1'!$AR$100","v":0},{"$f":"'1'!$AS$100","v":0},{"$f":"'1'!$AT$100","v":0},1,{"$f":"VLOOKUP(BW97,Přehled!$C$5:$AL$24,36)","v":""},null,null,null,null,null,null,null,null,null,null,null,null,null,null,null,null,null,null,null,null,{"$f":"'1'!$BP$100","v":0},{"$f":"'1'!$BQ$100","v":0},{"$f":"'1'!$BR$100","v":0},{"$f":"'1'!$BS$100","v":0},{"$f":"'1'!$BT$100","v":0},{"$f":"'1'!$BU$100","v":0},1,{"$f":"VLOOKUP(CY97,Přehled!$C$5:$AL$24,36)","v":""},null,null,null,null,null,null,null,null,null,null,null,null,null,null,null,{"$f":"'1'!$CR$100","v":0},{"$f":"'1'!$CS$100","v":0},{"$f":"'1'!$CT$100","v":0},1,{"$f":"VLOOKUP(DS97,Přehled!$C$5:$AL$24,36)","v":""},null,null,null,null,null,null,null,null,null,null,null,null,null,null,null,{"$f":"'3'!$DO$38","v":0},{"$f":"'3'!$DP$38","v":0},{"$f":"'3'!$DQ$38","v":0},3,{"$f":"VLOOKUP(EM97,Přehled!$C$5:$AL$24,36)","v":""}]
[{"$f":"'1'!$A$101","v":0},{"$f":"'1'!$B$101","v":0},{"$f":"'1'!$C$101","v":0},{"$f":"SUMIF($B$5:$B$2024,Souhrn_hod[[#This Row],[Jméno]],$E$5:$E$2024)","v":0},{"$f":"'1'!$D$101","v":0},{"$f":"'1'!$E$101","v":0},{"$f":"'1'!$F$101","v":0},{"$f":"'1'!$G$101","v":0},{"$f":"'1'!$H$101","v":0},{"$f":"'1'!$I$101","v":0},{"$f":"'1'!$J$101","v":0},{"$f":"'1'!$K$101","v":0},{"$f":"'1'!$L$101","v":0},{"$f":"'1'!$M$101","v":0},{"$f":"'1'!$N$101","v":0},{"$f":"'1'!$O$101","v":0},{"$f":"'1'!$P$101","v":0},{"$f":"'1'!$Q$101","v":0},{"$f":"'1'!$R$101","v":0},{"$f":"'1'!$S$101","v":0},{"$f":"'1'!$T$101","v":0},{"$f":"'1'!$U$101","v":0},{"$f":"'1'!$V$101","v":0},{"$f":"'1'!$W$101","v":0},{"$f":"'1'!$X$101","v":0},{"$f":"'1'!$Y$101","v":0},{"$f":"'1'!$Z$101","v":0},{"$f":"'1'!$AA$101","v":0},{"$f":"'1'!$AB$101","v":0},{"$f":"'1'!$AC$101","v":0},{"$f":"'1'!$AD$101","v":0},{"$f":"'1'!$AE$101","v":0},{"$f":"'1'!$AF$101","v":0},{"$f":"'1'!$AG$101","v":0},{"$f":"'1'!$AH$101","v":0},{"$f":"'1'!$AI$101","v":0},{"$f":"'1'!$AJ$101","v":0},1,{"$f":"VLOOKUP(AL98,Přehled!$C$5:$AL$24,36)","v":""},null,null,null,null,null,null,null,null,null,null,null,null,null,null,null,null,null,null,null,null,null,null,null,null,null,null,null,null,null,{"$f":"'1'!$AO$101","v":0},{"$f":"'1'!$AP$101","v":0},{"$f":"'1'!$AQ$101","v":0},{"$f":"'1'!$AR$101","v":0},{"$f":"'1'!$AS$101","v":0},{"$f":"'1'!$AT$101","v":0},1,{"$f":"VLOOKUP(BW98,Přehled!$C$5:$AL$24,36)","v":""},null,null,null,null,null,null,null,null,null,null,null,null,null,null,null,null,null,null,null,null,{"$f":"'1'!$BP$101","v":0},{"$f":"'1'!$BQ$101","v":0},{"$f":"'1'!$BR$101","v":0},{"$f":"'1'!$BS$101","v":0},{"$f":"'1'!$BT$101","v":0},{"$f":"'1'!$BU$101","v":0},1,{"$f":"VLOOKUP(CY98,Přehled!$C$5:$AL$24,36)","v":""},null,null,null,null,null,null,null,null,null,null,null,null,null,null,null,{"$f":"'1'!$CR$101","v":0},{"$f":"'1'!$CS$101","v":0},{"$f":"'1'!$CT$101","v":0},1,{"$f":"VLOOKUP(DS98,Přehled!$C$5:$AL$24,36)","v":""},null,null,null,null,null,null,null,null,null,null,null,null,null,null,null,{"$f":"'4'!$DO$8","v":0},{"$f":"'4'!$DP$8","v":0},{"$f":"'4'!$DQ$8","v":0},4,{"$f":"VLOOKUP(EM98,Přehled!$C$5:$AL$24,36)","v":""}]
[{"$f":"'1'!$A$102","v":0},{"$f":"'1'!$B$102","v":0},{"$f":"'1'!$C$102","v":0},{"$f":"SUMIF($B$5:$B$2024,Souhrn_hod[[#This Row],[Jméno]],$E$5:$E$2024)","v":0},{"$f":"'1'!$D$102","v":0},{"$f":"'1'!$E$102","v":0},{"$f":"'1'!$F$102","v":0},{"$f":"'1'!$G$102","v":0},{"$f":"'1'!$H$102","v":0},{"$f":"'1'!$I$102","v":0},{"$f":"'1'!$J$102","v":0},{"$f":"'1'!$K$102","v":0},{"$f":"'1'!$L$102","v":0},{"$f":"'1'!$M$102","v":0},{"$f":"'1'!$N$102","v":0},{"$f":"'1'!$O$102","v":0},{"$f":"'1'!$P$102","v":0},{"$f":"'1'!$Q$102","v":0},{"$f":"'1'!$R$102","v":0},{"$f":"'1'!$S$102","v":0},{"$f":"'1'!$T$102","v":0},{"$f":"'1'!$U$102","v":0},{"$f":"'1'!$V$102","v":0},{"$f":"'1'!$W$102","v":0},{"$f":"'1'!$X$102","v":0},{"$f":"'1'!$Y$102","v":0},{"$f":"'1'!$Z$102","v":0},{"$f":"'1'!$AA$102","v":0},{"$f":"'1'!$AB$102","v":0},{"$f":"'1'!$AC$102","v":0},{"$f":"'1'!$AD$102","v":0},{"$f":"'1'!$AE$102","v":0},{"$f":"'1'!$AF$102","v":0},{"$f":"'1'!$AG$102","v":0},{"$f":"'1'!$AH$102","v":0},{"$f":"'1'!$AI$102","v":0},{"$f":"'1'!$AJ$102","v":0},1,{"$f":"VLOOKUP(AL99,Přehled!$C$5:$AL$24,36)","v":""},null,null,null,null,null,null,null,null,null,null,null,null,null,null,null,null,null,null,null,null,null,null,null,null,null,null,null,null,null,{"$f":"'1'!$AO$102","v":0},{"$f":"'1'!$AP$102","v":0},{"$f":"'1'!$AQ$102","v":0},{"$f":"'1'!$AR$102","v":0},{"$f":"'1'!$AS$102","v":0},{"$f":"'1'!$AT$102","v":0},1,{"$f":"VLOOKUP(BW99,Přehled!$C$5:$AL$24,36)","v":""},null,null,null,null,null,null,null,null,null,null,null,null,null,null,null,null,null,null,null,null,{"$f":"'1'!$BP$102","v":0},{"$f":"'1'!$BQ$102","v":0},{"$f":"'1'!$BR$102","v":0},{"$f":"'1'!$BS$102","v":0},{"$f":"'1'!$BT$102","v":0},{"$f":"'1'!$BU$102","v":0},1,{"$f":"VLOOKUP(CY99,Přehled!$C$5:$AL$24,36)","v":""},null,null,null,null,null,null,null,null,null,null,null,null,null,null,null,{"$f":"'1'!$CR$102","v":0},{"$f":"'1'!$CS$102","v":0},{"$f":"'1'!$CT$102","v":0},1,{"$f":"VLOOKUP(DS99,Přehled!$C$5:$AL$24,36)","v":""},null,null,null,null,null,null,null,null,null,null,null,null,null,null,null,{"$f":"'4'!$DO$9","v":0},{"$f":"'4'!$DP$9","v":0},{"$f":"'4'!$DQ$9","v":0},4,{"$f":"VLOOKUP(EM99,Přehled!$C$5:$AL$24,36)","v":""}]
[{"$f":"'1'!$A$103","v":0},{"$f":"'1'!$B$103","v":0},{"$f":"'1'!$C$103","v":0},{"$f":"SUMIF($B$5:$B$2024,Souhrn_hod[[#This Row],[Jméno]],$E$5:$E$2024)","v":0},{"$f":"'1'!$D$103","v":0},{"$f":"'1'!$E$103","v":0},{"$f":"'1'!$F$103","v":0},{"$f":"'1'!$G$103","v":0},{"$f":"'1'!$H$103","v":0},{"$f":"'1'!$I$103","v":0},{"$f":"'1'!$J$103","v":0},{"$f":"'1'!$K$103","v":0},{"$f":"'1'!$L$103","v":0},{"$f":"'1'!$M$103","v":0},{"$f":"'1'!$N$103","v":0},{"$f":"'1'!$O$103","v":0},{"$f":"'1'!$P$103","v":0},{"$f":"'1'!$Q$103","v":0},{"$f":"'1'!$R$103","v":0},{"$f":"'1'!$S$103","v":0},{"$f":"'1'!$T$103","v":0},{"$f":"'1'!$U$103","v":0},{"$f":"'1'!$V$103","v":0},{"$f":"'1'!$W$103","v":0},{"$f":"'1'!$X$103","v":0},{"$f":"'1'!$Y$103","v":0},{"$f":"'1'!$Z$103","v":0},{"$f":"'1'!$AA$103","v":0},{"$f":"'1'!$AB$103","v":0},{"$f":"'1'!$AC$103","v":0},{"$f":"'1'!$AD$103","v":0},{"$f":"'1'!$AE$103","v":0},{"$f":"'1'!$AF$103","v":0},{"$f":"'1'!$AG$103","v":0},{"$f":"'1'!$AH$103","v":0},{"$f":"'1'!$AI$103","v":0},{"$f":"'1'!$AJ$103","v":0},1,{"$f":"VLOOKUP(AL100,Přehled!$C$5:$AL$24,36)","v":""},null,null,null,null,null,null,null,null,null,null,null,null,null,null,null,null,null,null,null,null,null,null,null,null,null,null,null,null,null,{"$f":"'1'!$AO$88","v":0},{"$f":"'1'!$AP$88","v":0},{"$f":"'1'!$AQ$88","v":0},{"$f":"'1'!$AR$88","v":0},{"$f":"'1'!$AS$88","v":0},{"$f":"'1'!$AT$88","v":0},1,{"$f":"VLOOKUP(BW100,Přehled!$C$5:$AL$24,36)","v":""},null,null,null,null,null,null,null,null,null,null,null,null,null,null,null,null,null,null,null,null,{"$f":"'1'!$BP$103","v":0},{"$f":"'1'!$BQ$103","v":0},{"$f":"'1'!$BR$103","v":0},{"$f":"'1'!$BS$103","v":0},{"$f":"'1'!$BT$103","v":0},{"$f":"'1'!$BU$103","v":0},1,{"$f":"VLOOKUP(CY100,Přehled!$C$5:$AL$24,36)","v":""},null,null,null,null,null,null,null,null,null,null,null,null,null,null,null,{"$f":"'1'!$CR$103","v":0},{"$f":"'1'!$CS$103","v":0},{"$f":"'1'!$CT$103","v":0},1,{"$f":"VLOOKUP(DS100,Přehled!$C$5:$AL$24,36)","v":""},null,null,null,null,null,null,null,null,null,null,null,null,null,null,null,{"$f":"'4'!$DO$10","v":0},{"$f":"'4'!$DP$10","v":0},{"$f":"'4'!$DQ$10","v":0},4,{"$f":"VLOOKUP(EM100,Přehled!$C$5:$AL$24,36)","v":""}]
[{"$f":"'1'!$A$104","v":0},{"$f":"'1'!$B$104","v":0},{"$f":"'1'!$C$104","v":0},{"$f":"SUMIF($B$5:$B$2024,Souhrn_hod[[#This Row],[Jméno]],$E$5:$E$2024)","v":0},{"$f":"'1'!$D$104","v":0},{"$f":"'1'!$E$104","v":0},{"$f":"'1'!$F$104","v":0},{"$f":"'1'!$G$104","v":0},{"$f":"'1'!$H$104","v":0},{"$f":"'1'!$I$104","v":0},{"$f":"'1'!$J$104","v":0},{"$f":"'1'!$K$104","v":0},{"$f":"'1'!$L$104","v":0},{"$f":"'1'!$M$104","v":0},{"$f":"'1'!$N$104","v":0},{"$f":"'1'!$O$104","v":0},{"$f":"'1'!$P$104","v":0},{"$f":"'1'!$Q$104","v":0},{"$f":"'1'!$R$104","v":0},{"$f":"'1'!$S$104","v":0},{"$f":"'1'!$T$104","v":0},{"$f":"'1'!$U$104","v":0},{"$f":"'1'!$V$104","v":0},{"$f":"'1'!$W$104","v":0},{"$f":"'1'!$X$104","v":0},{"$f":"'1'!$Y$104","v":0},{"$f":"'1'!$Z$104","v":0},{"$f":"'1'!$AA$104","v":0},{"$f":"'1'!$AB$104","v":0},{"$f":"'1'!$AC$104","v":0},{"$f":"'1'!$AD$104","v":0},{"$f":"'1'!$AE$104","v":0},{"$f":"'1'!$AF$104","v":0},{"$f":"'1'!$AG$104","v":0},{"$f":"'1'!$AH$104","v":0},{"$f":"'1'!$AI$104","v":0},{"$f":"'1'!$AJ$104","v":0},1,{"$f":"VLOOKUP(AL101,Přehled!$C$5:$AL$24,36)","v":""},null,null,null,null,null,null,null,null,null,null,null,null,null,null,null,null,null,null,null,null,null,null,null,null,null,null,null,null,null,{"$f":"'1'!$AO$104","v":0},{"$f":"'1'!$AP$104","v":0},{"$f":"'1'!$AQ$104","v":0},{"$f":"'1'!$AR$104","v":0},{"$f":"'1'!$AS$104","v":0},{"$f":"'1'!$AT$104","v":0},1,{"$f":"VLOOKUP(BW101,Přehled!$C$5:$AL$24,36)","v":""},null,null,null,null,null,null,null,null,null,null,null,null,null,null,null,null,null,null,null,null,{"$f":"'1'!$BP$104","v":0},{"$f":"'1'!$BQ$104","v":0},{"$f":"'1'!$BR$104","v":0},{"$f":"'1'!$BS$104","v":0},{"$f":"'1'!$BT$104","v":0},{"$f":"'1'!$BU$104","v":0},1,{"$f":"VLOOKUP(CY101,Přehled!$C$5:$AL$24,36)","v":""},null,null,null,null,null,null,null,null,null,null,null,null,null,null,null,{"$f":"'1'!$CR$104","v":0},{"$f":"'1'!$CS$104","v":0},{"$f":"'1'!$CT$104","v":0},1,{"$f":"VLOOKUP(DS101,Přehled!$C$5:$AL$24,36)","v":""},null,null,null,null,null,null,null,null,null,null,null,null,null,null,null,{"$f":"'4'!$DO$11","v":0},{"$f":"'4'!$DP$11","v":0},{"$f":"'4'!$DQ$11","v":0},4,{"$f":"VLOOKUP(EM101,Přehled!$C$5:$AL$24,36)","v":""}]
[{"$f":"'1'!$A$105","v":0},{"$f":"'1'!$B$105","v":0},{"$f":"'1'!$C$105","v":0},{"$f":"SUMIF($B$5:$B$2024,Souhrn_hod[[#This Row],[Jméno]],$E$5:$E$2024)","v":0},{"$f":"'1'!$D$105","v":0},{"$f":"'1'!$E$105","v":0},{"$f":"'1'!$F$105","v":0},{"$f":"'1'!$G$105","v":0},{"$f":"'1'!$H$105","v":0},{"$f":"'1'!$I$105","v":0},{"$f":"'1'!$J$105","v":0},{"$f":"'1'!$K$105","v":0},{"$f":"'1'!$L$105","v":0},{"$f":"'1'!$M$105","v":0},{"$f":"'1'!$N$105","v":0},{"$f":"'1'!$O$105","v":0},{"$f":"'1'!$P$105","v":0},{"$f":"'1'!$Q$105","v":0},{"$f":"'1'!$R$105","v":0},{"$f":"'1'!$S$105","v":0},{"$f":"'1'!$T$105","v":0},{"$f":"'1'!$U$105","v":0},{"$f":"'1'!$V$105","v":0},{"$f":"'1'!$W$105","v":0},{"$f":"'1'!$X$105","v":0},{"$f":"'1'!$Y$105","v":0},{"$f":"'1'!$Z$105","v":0},{"$f":"'1'!$AA$105","v":0},{"$f":"'1'!$AB$105","v":0},{"$f":"'1'!$AC$105","v":0},{"$f":"'1'!$AD$105","v":0},{"$f":"'1'!$AE$105","v":0},{"$f":"'1'!$AF$105","v":0},{"$f":"'1'!$AG$105","v":0},{"$f":"'1'!$AH$105","v":0},{"$f":"'1'!$AI$105","v":0},{"$f":"'1'!$AJ$105","v":0},1,{"$f":"VLOOKUP(AL102,Přehled!$C$5:$AL$24,36)","v":""},null,null,null,null,null,null,null,null,null,null,null,null,null,null,null,null,null,null,null,null,null,null,null,null,null,null,null,null,null,{"$f":"'1'!$AO$105","v":0},{"$f":"'1'!$AP$105","v":0},{"$f":"'1'!$AQ$105","v":0},{"$f":"'1'!$AR$105","v":0},{"$f":"'1'!$AS$105","v":0},{"$f":"'1'!$AT$105","v":0},1,{"$f":"VLOOKUP(BW102,Přehled!$C$5:$AL$24,36)","v":""},null,null,null,null,null,null,null,null,null,null,null,null,null,null,null,null,null,null,null,null,{"$f":"'1'!$BP$105","v":0},{"$f":"'1'!$BQ$105","v":0},{"$f":"'1'!$BR$105","v":0},{"$f":"'1'!$BS$105","v":0},{"$f":"'1'!$BT$105","v":0},{"$f":"'1'!$BU$105","v":0},1,{"$f":"VLOOKUP(CY102,Přehled!$C$5:$AL$24,36)","v":""},null,null,null,null,null,null,null,null,null,null,null,null,null,null,null,{"$f":"'1'!$CR$105","v":0},{"$f":"'1'!$CS$105","v":0},{"$f":"'1'!$CT$105","v":0},1,{"$f":"VLOOKUP(DS102,Přehled!$C$5:$AL$24,36)","v":""},null,null,null,null,null,null,null,null,null,null,null,null,null,null,null,{"$f":"'4'!$DO$12","v":0},{"$f":"'4'!$DP$12","v":0},{"$f":"'4'!$DQ$12","v":0},4,{"$f":"VLOOKUP(EM102,Přehled!$C$5:$AL$24,36)","v":""}]
[{"$f":"'1'!$A$106","v":0},{"$f":"'1'!$B$106","v":0},{"$f":"'1'!$C$106","v":0},{"$f":"SUMIF($B$5:$B$2024,Souhrn_hod[[#This Row],[Jméno]],$E$5:$E$2024)","v":0},{"$f":"'1'!$D$106","v":0},{"$f":"'1'!$E$106","v":0},{"$f":"'1'!$F$106","v":0},{"$f":"'1'!$G$106","v":0},{"$f":"'1'!$H$106","v":0},{"$f":"'1'!$I$106","v":0},{"$f":"'1'!$J$106","v":0},{"$f":"'1'!$K$106","v":0},{"$f":"'1'!$L$106","v":0},{"$f":"'1'!$M$106","v":0},{"$f":"'1'!$N$106","v":0},{"$f":"'1'!$O$106","v":0},{"$f":"'1'!$P$106","v":0},{"$f":"'1'!$Q$106","v":0},{"$f":"'1'!$R$106","v":0},{"$f":"'1'!$S$106","v":0},{"$f":"'1'!$T$106","v":0},{"$f":"'1'!$U$106","v":0},{"$f":"'1'!$V$106","v":0},{"$f":"'1'!$W$106","v":0},{"$f":"'1'!$X$106","v":0},{"$f":"'1'!$Y$106","v":0},{"$f":"'1'!$Z$106","v":0},{"$f":"'1'!$AA$106","v":0},{"$f":"'1'!$AB$106","v":0},{"$f":"'1'!$AC$106","v":0},{"$f":"'1'!$AD$106","v":0},{"$f":"'1'!$AE$106","v":0},{"$f":"'1'!$AF$106","v":0},{"$f":"'1'!$AG$106","v":0},{"$f":"'1'!$AH$106","v":0},{"$f":"'1'!$AI$106","v":0},{"$f":"'1'!$AJ$106","v":0},1,{"$f":"VLOOKUP(AL103,Přehled!$C$5:$AL$24,36)","v":""},null,null,null,null,null,null,null,null,null,null,null,null,null,null,null,null,null,null,null,null,null,null,null,null,null,null,null,null,null,{"$f":"'1'!$AO$106","v":0},{"$f":"'1'!$AP$106","v":0},{"$f":"'1'!$AQ$106","v":0},{"$f":"'1'!$AR$106","v":0},{"$f":"'1'!$AS$106","v":0},{"$f":"'1'!$AT$106","v":0},1,{"$f":"VLOOKUP(BW103,Přehled!$C$5:$AL$24,36)","v":""},null,null,null,null,null,null,null,null,null,null,null,null,null,null,null,null,null,null,null,null,{"$f":"'1'!$BP$106","v":0},{"$f":"'1'!$BQ$106","v":0},{"$f":"'1'!$BR$106","v":0},{"$f":"'1'!$BS$106","v":0},{"$f":"'1'!$BT$106","v":0},{"$f":"'1'!$BU$106","v":0},1,{"$f":"VLOOKUP(CY103,Přehled!$C$5:$AL$24,36)","v":""},null,null,null,null,null,null,null,null,null,null,null,null,null,null,null,{"$f":"'1'!$CR$106","v":0},{"$f":"'1'!$CS$106","v":0},{"$f":"'1'!$CT$106","v":0},1,{"$f":"VLOOKUP(DS103,Přehled!$C$5:$AL$24,36)","v":""},null,null,null,null,null,null,null,null,null,null,null,null,null,null,null,{"$f":"'4'!$DO$13","v":0},{"$f":"'4'!$DP$13","v":0},{"$f":"'4'!$DQ$13","v":0},4,{"$f":"VLOOKUP(EM103,Přehled!$C$5:$AL$24,36)","v":""}]
[{"$f":"'1'!$A$107","v":0},{"$f":"'1'!$B$107","v":0},{"$f":"'1'!$C$107","v":0},{"$f":"SUMIF($B$5:$B$2024,Souhrn_hod[[#This Row],[Jméno]],$E$5:$E$2024)","v":0},{"$f":"'1'!$D$107","v":0},{"$f":"'1'!$E$107","v":0},{"$f":"'1'!$F$107","v":0},{"$f":"'1'!$G$107","v":0},{"$f":"'1'!$H$107","v":0},{"$f":"'1'!$I$107","v":0},{"$f":"'1'!$J$107","v":0},{"$f":"'1'!$K$107","v":0},{"$f":"'1'!$L$107","v":0},{"$f":"'1'!$M$107","v":0},{"$f":"'1'!$N$107","v":0},{"$f":"'1'!$O$107","v":0},{"$f":"'1'!$P$107","v":0},{"$f":"'1'!$Q$107","v":0},{"$f":"'1'!$R$107","v":0},{"$f":"'1'!$S$107","v":0},{"$f":"'1'!$T$107","v":0},{"$f":"'1'!$U$107","v":0},{"$f":"'1'!$V$107","v":0},{"$f":"'1'!$W$107","v":0},{"$f":"'1'!$X$107","v":0},{"$f":"'1'!$Y$107","v":0},{"$f":"'1'!$Z$107","v":0},{"$f":"'1'!$AA$107","v":0},{"$f":"'1'!$AB$107","v":0},{"$f":"'1'!$AC$107","v":0},{"$f":"'1'!$AD$107","v":0},{"$f":"'1'!$AE$107","v":0},{"$f":"'1'!$AF$107","v":0},{"$f":"'1'!$AG$107","v":0},{"$f":"'1'!$AH$107","v":0},{"$f":"'1'!$AI$107","v":0},{"$f":"'1'!$AJ$107","v":0},1,{"$f":"VLOOKUP(AL104,Přehled!$C$5:$AL$24,36)","v":""},null,null,null,null,null,null,null,null,null,null,null,null,null,null,null,null,null,null,null,null,null,null,null,null,null,null,null,null,null,{"$f":"'1'!$AO$107","v":0},{"$f":"'1'!$AP$107","v":0},{"$f":"'1'!$AQ$107","v":0},{"$f":"'1'!$AR$107","v":0},{"$f":"'1'!$AS$107","v":0},{"$f":"'1'!$AT$107","v":0},1,{"$f":"VLOOKUP(BW104,Přehled!$C$5:$AL$24,36)","v":""},null,null,null,null,null,null,null,null,null,null,null,null,null,null,null,null,null,null,null,null,{"$f":"'1'!$BP$107","v":0},{"$f":"'1'!$BQ$107","v":0},{"$f":"'1'!$BR$107","v":0},{"$f":"'1'!$BS$107","v":0},{"$f":"'1'!$BT$107","v":0},{"$f":"'1'!$BU$107","v":0},1,{"$f":"VLOOKUP(CY104,Přehled!$C$5:$AL$24,36)","v":""},null,null,null,null,null,null,null,null,null,null,null,null,null,null,null,{"$f":"'1'!$CR$107","v":0},{"$f":"'1'!$CS$107","v":0},{"$f":"'1'!$CT$107","v":0},1,{"$f":"VLOOKUP(DS104,Přehled!$C$5:$AL$24,36)","v":""},null,null,null,null,null,null,null,null,null,null,null,null,null,null,null,{"$f":"'4'!$DO$14","v":0},{"$f":"'4'!$DP$14","v":0},{"$f":"'4'!$DQ$14","v":0},4,{"$f":"VLOOKUP(EM104,Přehled!$C$5:$AL$24,36)","v":""}]
[{"$f":"'1'!$A$108","v":0},{"$f":"'1'!$B$108","v":0},{"$f":"'1'!$C$108","v":0},{"$f":"SUMIF($B$5:$B$2024,Souhrn_hod[[#This Row],[Jméno]],$E$5:$E$2024)","v":0},{"$f":"'1'!$D$108","v":0},{"$f":"'1'!$E$108","v":0},{"$f":"'1'!$F$108","v":0},{"$f":"'1'!$G$108","v":0},{"$f":"'1'!$H$108","v":0},{"$f":"'1'!$I$108","v":0},{"$f":"'1'!$J$108","v":0},{"$f":"'1'!$K$108","v":0},{"$f":"'1'!$L$108","v":0},{"$f":"'1'!$M$108","v":0},{"$f":"'1'!$N$108","v":0},{"$f":"'1'!$O$108","v":0},{"$f":"'1'!$P$108","v":0},{"$f":"'1'!$Q$108","v":0},{"$f":"'1'!$R$108","v":0},{"$f":"'1'!$S$108","v":0},{"$f":"'1'!$T$108","v":0},{"$f":"'1'!$U$108","v":0},{"$f":"'1'!$V$108","v":0},{"$f":"'1'!$W$108","v":0},{"$f":"'1'!$X$108","v":0},{"$f":"'1'!$Y$108","v":0},{"$f":"'1'!$Z$108","v":0},{"$f":"'1'!$AA$108","v":0},{"$f":"'1'!$AB$108","v":0},{"$f":"'1'!$AC$108","v":0},{"$f":"'1'!$AD$108","v":0},{"$f":"'1'!$AE$108","v":0},{"$f":"'1'!$AF$108","v":0},{"$f":"'1'!$AG$108","v":0},{"$f":"'1'!$AH$108","v":0},{"$f":"'1'!$AI$108","v":0},{"$f":"'1'!$AJ$108","v":0},1,{"$f":"VLOOKUP(AL105,Přehled!$C$5:$AL$24,36)","v":""},null,null,null,null,null,null,null,null,null,null,null,null,null,null,null,null,null,null,null,null,null,null,null,null,null,null,null,null,null,{"$f":"'1'!$AO$93","v":0},{"$f":"'1'!$AP$93","v":0},{"$f":"'1'!$AQ$93","v":0},{"$f":"'1'!$AR$93","v":0},{"$f":"'1'!$AS$93","v":0},{"$f":"'1'!$AT$93","v":0},1,{"$f":"VLOOKUP(BW105,Přehled!$C$5:$AL$24,36)","v":""},null,null,null,null,null,null,null,null,null,null,null,null,null,null,null,null,null,null,null,null,{"$f":"'1'!$BP$108","v":0},{"$f":"'1'!$BQ$108","v":0},{"$f":"'1'!$BR$108","v":0},{"$f":"'1'!$BS$108","v":0},{"$f":"'1'!$BT$108","v":0},{"$f":"'1'!$BU$108","v":0},1,{"$f":"VLOOKUP(CY105,Přehled!$C$5:$AL$24,36)","v":""},null,null,null,null,null,null,null,null,null,null,null,null,null,null,null,{"$f":"'1'!$CR$108","v":0},{"$f":"'1'!$CS$108","v":0},{"$f":"'1'!$CT$108","v":0},1,{"$f":"VLOOKUP(DS105,Přehled!$C$5:$AL$24,36)","v":""},null,null,null,null,null,null,null,null,null,null,null,null,null,null,null,{"$f":"'4'!$DO$15","v":0},{"$f":"'4'!$DP$15","v":0},{"$f":"'4'!$DQ$15","v":0},4,{"$f":"VLOOKUP(EM105,Přehled!$C$5:$AL$24,36)","v":""}]
[{"$f":"'2'!A8","v":0},{"$f":"'2'!B8","v":0},{"$f":"'2'!C8","v":0},{"$f":"SUMIF($B$5:$B$2024,Souhrn_hod[[#This Row],[Jméno]],$E$5:$E$2024)","v":0},{"$f":"'2'!D8","v":0},{"$f":"'2'!E8","v":0},{"$f":"'2'!F8","v":0},{"$f":"'2'!G8","v":0},{"$f":"'2'!H8","v":0},{"$f":"'2'!I8","v":0},{"$f":"'2'!J8","v":0},{"$f":"'2'!K8","v":0},{"$f":"'2'!L8","v":0},{"$f":"'2'!M8","v":0},{"$f":"'2'!N8","v":0},{"$f":"'2'!O8","v":0},{"$f":"'2'!P8","v":0},{"$f":"'2'!Q8","v":0},{"$f":"'2'!R8","v":0},{"$f":"'2'!S8","v":0},{"$f":"'2'!T8","v":0},{"$f":"'2'!U8","v":0},{"$f":"'2'!V8","v":0},{"$f":"'2'!W8","v":0},{"$f":"'2'!X8","v":0},{"$f":"'2'!Y8","v":0},{"$f":"'2'!Z8","v":0},{"$f":"'2'!AA8","v":0},{"$f":"'2'!AB8","v":0},{"$f":"'2'!AC8","v":0},{"$f":"'2'!AD8","v":0},{"$f":"'2'!AE8","v":0},{"$f":"'2'!AF8","v":0},{"$f":"'2'!AG8","v":0},{"$f":"'2'!AH8","v":0},{"$f":"'2'!AI8","v":0},{"$f":"'2'!AJ8","v":0},2,{"$f":"VLOOKUP(AL106,Přehled!$C$5:$AL$24,36)","v":""},null,null,null,null,null,null,null,null,null,null,null,null,null,null,null,null,null,null,null,null,null,null,null,null,null,null,null,null,null,{"$f":"'1'!$AO$109","v":0},{"$f":"'1'!$AP$109","v":0},{"$f":"'1'!$AQ$109","v":0},{"$f":"'1'!$AR$109","v":0},{"$f":"'1'!$AS$109","v":0},{"$f":"'1'!$AT$109","v":0},1,{"$f":"VLOOKUP(BW106,Přehled!$C$5:$AL$24,36)","v":""},null,null,null,null,null,null,null,null,null,null,null,null,null,null,null,null,null,null,null,null,{"$f":"'1'!$BP$109","v":0},{"$f":"'1'!$BQ$109","v":0},{"$f":"'1'!$BR$109","v":0},{"$f":"'1'!$BS$109","v":0},{"$f":"'1'!$BT$109","v":0},{"$f":"'1'!$BU$109","v":0},1,{"$f":"VLOOKUP(CY106,Přehled!$C$5:$AL$24,36)","v":""},null,null,null,null,null,null,null,null,null,null,null,null,null,null,null,{"$f":"'1'!$CR$109","v":0},{"$f":"'1'!$CS$109","v":0},{"$f":"'1'!$CT$109","v":0},1,{"$f":"VLOOKUP(DS106,Přehled!$C$5:$AL$24,36)","v":""},null,null,null,null,null,null,null,null,null,null,null,null,null,null,null,{"$f":"'4'!$DO$16","v":0},{"$f":"'4'!$DP$16","v":0},{"$f":"'4'!$DQ$16","v":0},4,{"$f":"VLOOKUP(EM106,Přehled!$C$5:$AL$24,36)","v":""}]
[{"$f":"'2'!A9","v":0},{"$f":"'2'!B9","v":0},{"$f":"'2'!C9","v":0},{"$f":"SUMIF($B$5:$B$2024,Souhrn_hod[[#This Row],[Jméno]],$E$5:$E$2024)","v":0},{"$f":"'2'!D9","v":0},{"$f":"'2'!E9","v":0},{"$f":"'2'!F9","v":0},{"$f":"'2'!G9","v":0},{"$f":"'2'!H9","v":0},{"$f":"'2'!I9","v":0},{"$f":"'2'!J9","v":0},{"$f":"'2'!K9","v":0},{"$f":"'2'!L9","v":0},{"$f":"'2'!M9","v":0},{"$f":"'2'!N9","v":0},{"$f":"'2'!O9","v":0},{"$f":"'2'!P9","v":0},{"$f":"'2'!Q9","v":0},{"$f":"'2'!R9","v":0},{"$f":"'2'!S9","v":0},{"$f":"'2'!T9","v":0},{"$f":"'2'!U9","v":0},{"$f":"'2'!V9","v":0},{"$f":"'2'!W9","v":0},{"$f":"'2'!X9","v":0},{"$f":"'2'!Y9","v":0},{"$f":"'2'!Z9","v":0},{"$f":"'2'!AA9","v":0},{"$f":"'2'!AB9","v":0},{"$f":"'2'!AC9","v":0},{"$f":"'2'!AD9","v":0},{"$f":"'2'!AE9","v":0},{"$f":"'2'!AF9","v":0},{"$f":"'2'!AG9","v":0},{"$f":"'2'!AH9","v":0},{"$f":"'2'!AI9","v":0},{"$f":"'2'!AJ9","v":0},2,{"$f":"VLOOKUP(AL107,Přehled!$C$5:$AL$24,36)","v":""},null,null,null,null,null,null,null,null,null,null,null,null,null,null,null,null,null,null,null,null,null,null,null,null,null,null,null,null,null,{"$f":"'1'!$AO$110","v":0},{"$f":"'1'!$AP$110","v":0},{"$f":"'1'!$AQ$110","v":0},{"$f":"'1'!$AR$110","v":0},{"$f":"'1'!$AS$110","v":0},{"$f":"'1'!$AT$110","v":0},1,{"$f":"VLOOKUP(BW107,Přehled!$C$5:$AL$24,36)","v":""},null,null,null,null,null,null,null,null,null,null,null,null,null,null,null,null,null,null,null,null,{"$f":"'1'!$BP$110","v":0},{"$f":"'1'!$BQ$110","v":0},{"$f":"'1'!$BR$110","v":0},{"$f":"'1'!$BS$110","v":0},{"$f":"'1'!$BT$110","v":0},{"$f":"'1'!$BU$110","v":0},1,{"$f":"VLOOKUP(CY107,Přehled!$C$5:$AL$24,36)","v":""},null,null,null,null,null,null,null,null,null,null,null,null,null,null,null,{"$f":"'1'!$CR$110","v":0},{"$f":"'1'!$CS$110","v":0},{"$f":"'1'!$CT$110","v":0},1,{"$f":"VLOOKUP(DS107,Přehled!$C$5:$AL$24,36)","v":""},null,null,null,null,null,null,null,null,null,null,null,null,null,null,null,{"$f":"'4'!$DO$17","v":0},{"$f":"'4'!$DP$17","v":0},{"$f":"'4'!$DQ$17","v":0},4,{"$f":"VLOOKUP(EM107,Přehled!$C$5:$AL$24,36)","v":""}]
[{"$f":"'2'!A10","v":0},{"$f":"'2'!B10","v":0},{"$f":"'2'!C10","v":0},{"$f":"SUMIF($B$5:$B$2024,Souhrn_hod[[#This Row],[Jméno]],$E$5:$E$2024)","v":0},{"$f":"'2'!D10","v":0},{"$f":"'2'!E10","v":0},{"$f":"'2'!F10","v":0},{"$f":"'2'!G10","v":0},{"$f":"'2'!H10","v":0},{"$f":"'2'!I10","v":0},{"$f":"'2'!J10","v":0},{"$f":"'2'!K10","v":0},{"$f":"'2'!L10","v":0},{"$f":"'2'!M10","v":0},{"$f":"'2'!N10","v":0},{"$f":"'2'!O10","v":0},{"$f":"'2'!P10","v":0},{"$f":"'2'!Q10","v":0},{"$f":"'2'!R10","v":0},{"$f":"'2'!S10","v":0},{"$f":"'2'!T10","v":0},{"$f":"'2'!U10","v":0},{"$f":"'2'!V10","v":0},{"$f":"'2'!W10","v":0},{"$f":"'2'!X10","v":0},{"$f":"'2'!Y10","v":0},{"$f":"'2'!Z10","v":0},{"$f":"'2'!AA10","v":0},{"$f":"'2'!AB10","v":0},{"$f":"'2'!AC10","v":0},{"$f":"'2'!AD10","v":0},{"$f":"'2'!AE10","v":0},{"$f":"'2'!AF10","v":0},{"$f":"'2'!AG10","v":0},{"$f":"'2'!AH10","v":0},{"$f":"'2'!AI10","v":0},{"$f":"'2'!AJ10","v":0},2,{"$f":"VLOOKUP(AL108,Přehled!$C$5:$AL$24,36)","v":""},null,null,null,null,null,null,null,null,null,null,null,null,null,null,null,null,null,null,null,null,null,null,null,null,null,null,null,null,null,{"$f":"'1'!$AO$111","v":0},{"$f":"'1'!$AP$111","v":0},{"$f":"'1'!$AQ$111","v":0},{"$f":"'1'!$AR$111","v":0},{"$f":"'1'!$AS$111","v":0},{"$f":"'1'!$AT$111","v":0},1,{"$f":"VLOOKUP(BW108,Přehled!$C$5:$AL$24,36)","v":""},null,null,null,null,null,null,null,null,null,null,null,null,null,null,null,null,null,null,null,null,{"$f":"'1'!$BP$111","v":0},{"$f":"'1'!$BQ$111","v":0},{"$f":"'1'!$BR$111","v":0},{"$f":"'1'!$BS$111","v":0},{"$f":"'1'!$BT$111","v":0},{"$f":"'1'!$BU$111","v":0},1,{"$f":"VLOOKUP(CY108,Přehled!$C$5:$AL$24,36)","v":""},null,null,null,null,null,null,null,null,null,null,null,null,null,null,null,{"$f":"'1'!$CR$111","v":0},{"$f":"'1'!$CS$111","v":0},{"$f":"'1'!$CT$111","v":0},1,{"$f":"VLOOKUP(DS108,Přehled!$C$5:$AL$24,36)","v":""},null,null,null,null,null,null,null,null,null,null,null,null,null,null,null,{"$f":"'4'!$DO$18","v":0},{"$f":"'4'!$DP$18","v":0},{"$f":"'4'!$DQ$18","v":0},4,{"$f":"VLOOKUP(EM108,Přehled!$C$5:$AL$24,36)","v":""}]
[{"$f":"'2'!A11","v":0},{"$f":"'2'!B11","v":0},{"$f":"'2'!C11","v":0},{"$f":"SUMIF($B$5:$B$2024,Souhrn_hod[[#This Row],[Jméno]],$E$5:$E$2024)","v":0},{"$f":"'2'!D11","v":0},{"$f":"'2'!E11","v":0},{"$f":"'2'!F11","v":0},{"$f":"'2'!G11","v":0},{"$f":"'2'!H11","v":0},{"$f":"'2'!I11","v":0},{"$f":"'2'!J11","v":0},{"$f":"'2'!K11","v":0},{"$f":"'2'!L11","v":0},{"$f":"'2'!M11","v":0},{"$f":"'2'!N11","v":0},{"$f":"'2'!O11","v":0},{"$f":"'2'!P11","v":0},{"$f":"'2'!Q11","v":0},{"$f":"'2'!R11","v":0},{"$f":"'2'!S11","v":0},{"$f":"'2'!T11","v":0},{"$f":"'2'!U11","v":0},{"$f":"'2'!V11","v":0},{"$f":"'2'!W11","v":0},{"$f":"'2'!X11","v":0},{"$f":"'2'!Y11","v":0},{"$f":"'2'!Z11","v":0},{"$f":"'2'!AA11","v":0},{"$f":"'2'!AB11","v":0},{"$f":"'2'!AC11","v":0},{"$f":"'2'!AD11","v":0},{"$f":"'2'!AE11","v":0},{"$f":"'2'!AF11","v":0},{"$f":"'2'!AG11","v":0},{"$f":"'2'!AH11","v":0},{"$f":"'2'!AI11","v":0},{"$f":"'2'!AJ11","v":0},2,{"$f":"VLOOKUP(AL109,Přehled!$C$5:$AL$24,36)","v":""},null,null,null,null,null,null,null,null,null,null,null,null,null,null,null,null,null,null,null,null,null,null,null,null,null,null,null,null,null,{"$f":"'1'!$AO$112","v":0},{"$f":"'1'!$AP$112","v":0},{"$f":"'1'!$AQ$112","v":0},{"$f":"'1'!$AR$112","v":0},{"$f":"'1'!$AS$112","v":0},{"$f":"'1'!$AT$112","v":0},1,{"$f":"VLOOKUP(BW109,Přehled!$C$5:$AL$24,36)","v":""},null,null,null,null,null,null,null,null,null,null,null,null,null,null,null,null,null,null,null,null,{"$f":"'1'!$BP$112","v":0},{"$f":"'1'!$BQ$112","v":0},{"$f":"'1'!$BR$112","v":0},{"$f":"'1'!$BS$112","v":0},{"$f":"'1'!$BT$112","v":0},{"$f":"'1'!$BU$112","v":0},1,{"$f":"VLOOKUP(CY109,Přehled!$C$5:$AL$24,36)","v":""},null,null,null,null,null,null,null,null,null,null,null,null,null,null,null,{"$f":"'1'!$CR$112","v":0},{"$f":"'1'!$CS$112","v":0},{"$f":"'1'!$CT$112","v":0},1,{"$f":"VLOOKUP(DS109,Přehled!$C$5:$AL$24,36)","v":""},null,null,null,null,null,null,null,null,null,null,null,null,null,null,null,{"$f":"'4'!$DO$19","v":0},{"$f":"'4'!$DP$19","v":0},{"$f":"'4'!$DQ$19","v":0},4,{"$f":"VLOOKUP(EM109,Přehled!$C$5:$AL$24,36)","v":""}]
[{"$f":"'2'!A12","v":0},{"$f":"'2'!B12","v":0},{"$f":"'2'!C12","v":0},{"$f":"SUMIF($B$5:$B$2024,Souhrn_hod[[#This Row],[Jméno]],$E$5:$E$2024)","v":0},{"$f":"'2'!D12","v":0},{"$f":"'2'!E12","v":0},{"$f":"'2'!F12","v":0},{"$f":"'2'!G12","v":0},{"$f":"'2'!H12","v":0},{"$f":"'2'!I12","v":0},{"$f":"'2'!J12","v":0},{"$f":"'2'!K12","v":0},{"$f":"'2'!L12","v":0},{"$f":"'2'!M12","v":0},{"$f":"'2'!N12","v":0},{"$f":"'2'!O12","v":0},{"$f":"'2'!P12","v":0},{"$f":"'2'!Q12","v":0},{"$f":"'2'!R12","v":0},{"$f":"'2'!S12","v":0},{"$f":"'2'!T12","v":0},{"$f":"'2'!U12","v":0},{"$f":"'2'!V12","v":0},{"$f":"'2'!W12","v":0},{"$f":"'2'!X12","v":0},{"$f":"'2'!Y12","v":0},{"$f":"'2'!Z12","v":0},{"$f":"'2'!AA12","v":0},{"$f":"'2'!AB12","v":0},{"$f":"'2'!AC12","v":0},{"$f":"'2'!AD12","v":0},{"$f":"'2'!AE12","v":0},{"$f":"'2'!AF12","v":0},{"$f":"'2'!AG12","v":0},{"$f":"'2'!AH12","v":0},{"$f":"'2'!AI12","v":0},{"$f":"'2'!AJ12","v":0},2,{"$f":"VLOOKUP(AL110,Přehled!$C$5:$AL$24,36)","v":""},null,null,null,null,null,null,null,null,null,null,null,null,null,null,null,null,null,null,null,null,null,null,null,null,null,null,null,null,null,{"$f":"'1'!$AO$94","v":0},{"$f":"'1'!$AP$94","v":0},{"$f":"'1'!$AQ$94","v":0},{"$f":"'1'!$AR$94","v":0},{"$f":"'1'!$AS$94","v":0},{"$f":"'1'!$AT$94","v":0},1,{"$f":"VLOOKUP(BW110,Přehled!$C$5:$AL$24,36)","v":""},null,null,null,null,null,null,null,null,null,null,null,null,null,null,null,null,null,null,null,null,{"$f":"'1'!$BP$113","v":0},{"$f":"'1'!$BQ$113","v":0},{"$f":"'1'!$BR$113","v":0},{"$f":"'1'!$BS$113","v":0},{"$f":"'1'!$BT$113","v":0},{"$f":"'1'!$BU$113","v":0},1,{"$f":"VLOOKUP(CY110,Přehled!$C$5:$AL$24,36)","v":""},null,null,null,null,null,null,null,null,null,null,null,null,null,null,null,{"$f":"'1'!$CR$113","v":0},{"$f":"'1'!$CS$113","v":0},{"$f":"'1'!$CT$113","v":0},1,{"$f":"VLOOKUP(DS110,Přehled!$C$5:$AL$24,36)","v":""},null,null,null,null,null,null,null,null,null,null,null,null,null,null,null,{"$f":"'4'!$DO$20","v":0},{"$f":"'4'!$DP$20","v":0},{"$f":"'4'!$DQ$20","v":0},4,{"$f":"VLOOKUP(EM110,Přehled!$C$5:$AL$24,36)","v":""}]
[{"$f":"'2'!A13","v":0},{"$f":"'2'!B13","v":0},{"$f":"'2'!C13","v":0},{"$f":"SUMIF($B$5:$B$2024,Souhrn_hod[[#This Row],[Jméno]],$E$5:$E$2024)","v":0},{"$f":"'2'!D13","v":0},{"$f":"'2'!E13","v":0},{"$f":"'2'!F13","v":0},{"$f":"'2'!G13","v":0},{"$f":"'2'!H13","v":0},{"$f":"'2'!I13","v":0},{"$f":"'2'!J13","v":0},{"$f":"'2'!K13","v":0},{"$f":"'2'!L13","v":0},{"$f":"'2'!M13","v":0},{"$f":"'2'!N13","v":0},{"$f":"'2'!O13","v":0},{"$f":"'2'!P13","v":0},{"$f":"'2'!Q13","v":0},{"$f":"'2'!R13","v":0},{"$f":"'2'!S13","v":0},{"$f":"'2'!T13","v":0},{"$f":"'2'!U13","v":0},{"$f":"'2'!V13","v":0},{"$f":"'2'!W13","v":0},{"$f":"'2'!X13","v":0},{"$f":"'2'!Y13","v":0},{"$f":"'2'!Z13","v":0},{"$f":"'2'!AA13","v":0},{"$f":"'2'!AB13","v":0},{"$f":"'2'!AC13","v":0},{"$f":"'2'!AD13","v":0},{"$f":"'2'!AE13","v":0},{"$f":"'2'!AF13","v":0},{"$f":"'2'!AG13","v":0},{"$f":"'2'!AH13","v":0},{"$f":"'2'!AI13","v":0},{"$f":"'2'!AJ13","v":0},2,{"$f":"VLOOKUP(AL111,Přehled!$C$5:$AL$24,36)","v":""},null,null,null,null,null,null,null,null,null,null,null,null,null,null,null,null,null,null,null,null,null,null,null,null,null,null,null,null,null,{"$f":"'1'!$AO$114","v":0},{"$f":"'1'!$AP$114","v":0},{"$f":"'1'!$AQ$114","v":0},{"$f":"'1'!$AR$114","v":0},{"$f":"'1'!$AS$114","v":0},{"$f":"'1'!$AT$114","v":0},1,{"$f":"VLOOKUP(BW111,Přehled!$C$5:$AL$24,36)","v":""},null,null,null,null,null,null,null,null,null,null,null,null,null,null,null,null,null,null,null,null,{"$f":"'1'!$BP$114","v":0},{"$f":"'1'!$BQ$114","v":0},{"$f":"'1'!$BR$114","v":0},{"$f":"'1'!$BS$114","v":0},{"$f":"'1'!$BT$114","v":0},{"$f":"'1'!$BU$114","v":0},1,{"$f":"VLOOKUP(CY111,Přehled!$C$5:$AL$24,36)","v":""},null,null,null,null,null,null,null,null,null,null,null,null,null,null,null,{"$f":"'1'!$CR$114","v":0},{"$f":"'1'!$CS$114","v":0},{"$f":"'1'!$CT$114","v":0},1,{"$f":"VLOOKUP(DS111,Přehled!$C$5:$AL$24,36)","v":""},null,null,null,null,null,null,null,null,null,null,null,null,null,null,null,{"$f":"'4'!$DO$21","v":0},{"$f":"'4'!$DP$21","v":0},{"$f":"'4'!$DQ$21","v":0},4,{"$f":"VLOOKUP(EM111,Přehled!$C$5:$AL$24,36)","v":""}]
[{"$f":"'2'!A14","v":0},{"$f":"'2'!B14","v":0},{"$f":"'2'!C14","v":0},{"$f":"SUMIF($B$5:$B$2024,Souhrn_hod[[#This Row],[Jméno]],$E$5:$E$2024)","v":0},{"$f":"'2'!D14","v":0},{"$f":"'2'!E14","v":0},{"$f":"'2'!F14","v":0},{"$f":"'2'!G14","v":0},{"$f":"'2'!H14","v":0},{"$f":"'2'!I14","v":0},{"$f":"'2'!J14","v":0},{"$f":"'2'!K14","v":0},{"$f":"'2'!L14","v":0},{"$f":"'2'!M14","v":0},{"$f":"'2'!N14","v":0},{"$f":"'2'!O14","v":0},{"$f":"'2'!P14","v":0},{"$f":"'2'!Q14","v":0},{"$f":"'2'!R14","v":0},{"$f":"'2'!S14","v":0},{"$f":"'2'!T14","v":0},{"$f":"'2'!U14","v":0},{"$f":"'2'!V14","v":0},{"$f":"'2'!W14","v":0},{"$f":"'2'!X14","v":0},{"$f":"'2'!Y14","v":0},{"$f":"'2'!Z14","v":0},{"$f":"'2'!AA14","v":0},{"$f":"'2'!AB14","v":0},{"$f":"'2'!AC14","v":0},{"$f":"'2'!AD14","v":0},{"$f":"'2'!AE14","v":0},{"$f":"'2'!AF14","v":0},{"$f":"'2'!AG14","v":0},{"$f":"'2'!AH14","v":0},{"$f":"'2'!AI14","v":0},{"$f":"'2'!AJ14","v":0},2,{"$f":"VLOOKUP(AL112,Přehled!$C$5:$AL$24,36)","v":""},null,null,null,null,null,null,null,null,null,null,null,null,null,null,null,null,null,null,null,null,null,null,null,null,null,null,null,null,null,{"$f":"'1'!$AO$115","v":0},{"$f":"'1'!$AP$115","v":0},{"$f":"'1'!$AQ$115","v":0},{"$f":"'1'!$AR$115","v":0},{"$f":"'1'!$AS$115","v":0},{"$f":"'1'!$AT$115","v":0},1,{"$f":"VLOOKUP(BW112,Přehled!$C$5:$AL$24,36)","v":""},null,null,null,null,null,null,null,null,null,null,null,null,null,null,null,null,null,null,null,null,{"$f":"'1'!$BP$115","v":0},{"$f":"'1'!$BQ$115","v":0},{"$f":"'1'!$BR$115","v":0},{"$f":"'1'!$BS$115","v":0},{"$f":"'1'!$BT$115","v":0},{"$f":"'1'!$BU$115","v":0},1,{"$f":"VLOOKUP(CY112,Přehled!$C$5:$AL$24,36)","v":""},null,null,null,null,null,null,null,null,null,null,null,null,null,null,null,{"$f":"'1'!$CR$115","v":0},{"$f":"'1'!$CS$115","v":0},{"$f":"'1'!$CT$115","v":0},1,{"$f":"VLOOKUP(DS112,Přehled!$C$5:$AL$24,36)","v":""},null,null,null,null,null,null,null,null,null,null,null,null,null,null,null,{"$f":"'4'!$DO$22","v":0},{"$f":"'4'!$DP$22","v":0},{"$f":"'4'!$DQ$22","v":0},4,{"$f":"VLOOKUP(EM112,Přehled!$C$5:$AL$24,36)","v":""}]
[{"$f":"'1'!$A$12","v":0},{"$f":"'1'!$B$12","v":0},{"$f":"'1'!$C$12","v":0},{"$f":"SUMIF($B$5:$B$2024,Souhrn_hod[[#This Row],[Jméno]],$E$5:$E$2024)","v":0},{"$f":"'1'!$D$12","v":0},{"$f":"'1'!$E$12","v":0},{"$f":"'1'!$F$12","v":0},{"$f":"'1'!$G$12","v":0},{"$f":"'1'!$H$12","v":0},{"$f":"'1'!$I$12","v":0},{"$f":"'1'!$J$12","v":0},{"$f":"'1'!$K$12","v":0},{"$f":"'1'!$L$12","v":0},{"$f":"'1'!$M$12","v":0},{"$f":"'1'!$N$12","v":0},{"$f":"'1'!$O$12","v":0},{"$f":"'1'!$P$12","v":0},{"$f":"'1'!$Q$12","v":0},{"$f":"'1'!$R$12","v":0},{"$f":"'1'!$S$12","v":0},{"$f":"'1'!$T$12","v":0},{"$f":"'1'!$U$12","v":0},{"$f":"'1'!$V$12","v":0},{"$f":"'1'!$W$12","v":0},{"$f":"'1'!$X$12","v":0},{"$f":"'1'!$Y$12","v":0},{"$f":"'1'!$Z$12","v":0},{"$f":"'1'!$AA$12","v":0},{"$f":"'1'!$AB$12","v":0},{"$f":"'1'!$AC$12","v":0},{"$f":"'1'!$AD$12","v":0},{"$f":"'1'!$AE$12","v":0},{"$f":"'1'!$AF$12","v":0},{"$f":"'1'!$AG$12","v":0},{"$f":"'1'!$AH$12","v":0},{"$f":"'1'!$AI$12","v":0},{"$f":"'1'!$AJ$12","v":0},1,{"$f":"VLOOKUP(AL113,Přehled!$C$5:$AL$24,36)","v":""},null,null,null,null,null,null,null,null,null,null,null,null,null,null,null,null,null,null,null,null,null,null,null,null,null,null,null,null,null,{"$f":"'1'!$AO$116","v":0},{"$f":"'1'!$AP$116","v":0},{"$f":"'1'!$AQ$116","v":0},{"$f":"'1'!$AR$116","v":0},{"$f":"'1'!$AS$116","v":0},{"$f":"'1'!$AT$116","v":0},1,{"$f":"VLOOKUP(BW113,Přehled!$C$5:$AL$24,36)","v":""},null,null,null,null,null,null,null,null,null,null,null,null,null,null,null,null,null,null,null,null,{"$f":"'1'!$BP$116","v":0},{"$f":"'1'!$BQ$116","v":0},{"$f":"'1'!$BR$116","v":0},{"$f":"'1'!$BS$116","v":0},{"$f":"'1'!$BT$116","v":0},{"$f":"'1'!$BU$116","v":0},1,{"$f":"VLOOKUP(CY113,Přehled!$C$5:$AL$24,36)","v":""},null,null,null,null,null,null,null,null,null,null,null,null,null,null,null,{"$f":"'1'!$CR$116","v":0},{"$f":"'1'!$CS$116","v":0},{"$f":"'1'!$CT$116","v":0},1,{"$f":"VLOOKUP(DS113,Přehled!$C$5:$AL$24,36)","v":""},null,null,null,null,null,null,null,null,null,null,null,null,null,null,null,{"$f":"'4'!$DO$23","v":0},{"$f":"'4'!$DP$23","v":0},{"$f":"'4'!$DQ$23","v":0},4,{"$f":"VLOOKUP(EM113,Přehled!$C$5:$AL$24,36)","v":""}]
[{"$f":"'2'!A16","v":0},{"$f":"'2'!B16","v":0},{"$f":"'2'!C16","v":0},{"$f":"SUMIF($B$5:$B$2024,Souhrn_hod[[#This Row],[Jméno]],$E$5:$E$2024)","v":0},{"$f":"'2'!D16","v":0},{"$f":"'2'!E16","v":0},{"$f":"'2'!F16","v":0},{"$f":"'2'!G16","v":0},{"$f":"'2'!H16","v":0},{"$f":"'2'!I16","v":0},{"$f":"'2'!J16","v":0},{"$f":"'2'!K16","v":0},{"$f":"'2'!L16","v":0},{"$f":"'2'!M16","v":0},{"$f":"'2'!N16","v":0},{"$f":"'2'!O16","v":0},{"$f":"'2'!P16","v":0},{"$f":"'2'!Q16","v":0},{"$f":"'2'!R16","v":0},{"$f":"'2'!S16","v":0},{"$f":"'2'!T16","v":0},{"$f":"'2'!U16","v":0},{"$f":"'2'!V16","v":0},{"$f":"'2'!W16","v":0},{"$f":"'2'!X16","v":0},{"$f":"'2'!Y16","v":0},{"$f":"'2'!Z16","v":0},{"$f":"'2'!AA16","v":0},{"$f":"'2'!AB16","v":0},{"$f":"'2'!AC16","v":0},{"$f":"'2'!AD16","v":0},{"$f":"'2'!AE16","v":0},{"$f":"'2'!AF16","v":0},{"$f":"'2'!AG16","v":0},{"$f":"'2'!AH16","v":0},{"$f":"'2'!AI16","v":0},{"$f":"'2'!AJ16","v":0},2,{"$f":"VLOOKUP(AL114,Přehled!$C$5:$AL$24,36)","v":""},null,null,null,null,null,null,null,null,null,null,null,null,null,null,null,null,null,null,null,null,null,null,null,null,null,null,null,null,null,{"$f":"'1'!$AO$117","v":0},{"$f":"'1'!$AP$117","v":0},{"$f":"'1'!$AQ$117","v":0},{"$f":"'1'!$AR$117","v":0},{"$f":"'1'!$AS$117","v":0},{"$f":"'1'!$AT$117","v":0},1,{"$f":"VLOOKUP(BW114,Přehled!$C$5:$AL$24,36)","v":""},null,null,null,null,null,null,null,null,null,null,null,null,null,null,null,null,null,null,null,null,{"$f":"'1'!$BP$117","v":0},{"$f":"'1'!$BQ$117","v":0},{"$f":"'1'!$BR$117","v":0},{"$f":"'1'!$BS$117","v":0},{"$f":"'1'!$BT$117","v":0},{"$f":"'1'!$BU$117","v":0},1,{"$f":"VLOOKUP(CY114,Přehled!$C$5:$AL$24,36)","v":""},null,null,null,null,null,null,null,null,null,null,null,null,null,null,null,{"$f":"'1'!$CR$117","v":0},{"$f":"'1'!$CS$117","v":0},{"$f":"'1'!$CT$117","v":0},1,{"$f":"VLOOKUP(DS114,Přehled!$C$5:$AL$24,36)","v":""},null,null,null,null,null,null,null,null,null,null,null,null,null,null,null,{"$f":"'4'!$DO$24","v":0},{"$f":"'4'!$DP$24","v":0},{"$f":"'4'!$DQ$24","v":0},4,{"$f":"VLOOKUP(EM114,Přehled!$C$5:$AL$24,36)","v":""}]
[{"$f":"'2'!A17","v":0},{"$f":"'2'!B17","v":0},{"$f":"'2'!C17","v":0},{"$f":"SUMIF($B$5:$B$2024,Souhrn_hod[[#This Row],[Jméno]],$E$5:$E$2024)","v":0},{"$f":"'2'!D17","v":0},{"$f":"'2'!E17","v":0},{"$f":"'2'!F17","v":0},{"$f":"'2'!G17","v":0},{"$f":"'2'!H17","v":0},{"$f":"'2'!I17","v":0},{"$f":"'2'!J17","v":0},{"$f":"'2'!K17","v":0},{"$f":"'2'!L17","v":0},{"$f":"'2'!M17","v":0},{"$f":"'2'!N17","v":0},{"$f":"'2'!O17","v":0},{"$f":"'2'!P17","v":0},{"$f":"'2'!Q17","v":0},{"$f":"'2'!R17","v":0},{"$f":"'2'!S17","v":0},{"$f":"'2'!T17","v":0},{"$f":"'2'!U17","v":0},{"$f":"'2'!V17","v":0},{"$f":"'2'!W17","v":0},{"$f":"'2'!X17","v":0},{"$f":"'2'!Y17","v":0},{"$f":"'2'!Z17","v":0},{"$f":"'2'!AA17","v":0},{"$f":"'2'!AB17","v":0},{"$f":"'2'!AC17","v":0},{"$f":"'2'!AD17","v":0},{"$f":"'2'!AE17","v":0},{"$f":"'2'!AF17","v":0},{"$f":"'2'!AG17","v":0},{"$f":"'2'!AH17","v":0},{"$f":"'2'!AI17","v":0},{"$f":"'2'!AJ17","v":0},2,{"$f":"VLOOKUP(AL115,Přehled!$C$5:$AL$24,36)","v":""},null,null,null,null,null,null,null,null,null,null,null,null,null,null,null,null,null,null,null,null,null,null,null,null,null,null,null,null,null,{"$f":"'1'!$AO$98","v":0},{"$f":"'1'!$AP$98","v":0},{"$f":"'1'!$AQ$98","v":0},{"$f":"'1'!$AR$98","v":0},{"$f":"'1'!$AS$98","v":0},{"$f":"'1'!$AT$98","v":0},1,{"$f":"VLOOKUP(BW115,Přehled!$C$5:$AL$24,36)","v":""},null,null,null,null,null,null,null,null,null,null,null,null,null,null,null,null,null,null,null,null,{"$f":"'1'!$BP$118","v":0},{"$f":"'1'!$BQ$118","v":0},{"$f":"'1'!$BR$118","v":0},{"$f":"'1'!$BS$118","v":0},{"$f":"'1'!$BT$118","v":0},{"$f":"'1'!$BU$118","v":0},1,{"$f":"VLOOKUP(CY115,Přehled!$C$5:$AL$24,36)","v":""},null,null,null,null,null,null,null,null,null,null,null,null,null,null,null,{"$f":"'1'!$CR$118","v":0},{"$f":"'1'!$CS$118","v":0},{"$f":"'1'!$CT$118","v":0},1,{"$f":"VLOOKUP(DS115,Přehled!$C$5:$AL$24,36)","v":""},null,null,null,null,null,null,null,null,null,null,null,null,null,null,null,{"$f":"'4'!$DO$25","v":0},{"$f":"'4'!$DP$25","v":0},{"$f":"'4'!$DQ$25","v":0},4,{"$f":"VLOOKUP(EM115,Přehled!$C$5:$AL$24,36)","v":""}]
[{"$f":"'2'!A18","v":0},{"$f":"'2'!B18","v":0},{"$f":"'2'!C18","v":0},{"$f":"SUMIF($B$5:$B$2024,Souhrn_hod[[#This Row],[Jméno]],$E$5:$E$2024)","v":0},{"$f":"'2'!D18","v":0},{"$f":"'2'!E18","v":0},{"$f":"'2'!F18","v":0},{"$f":"'2'!G18","v":0},{"$f":"'2'!H18","v":0},{"$f":"'2'!I18","v":0},{"$f":"'2'!J18","v":0},{"$f":"'2'!K18","v":0},{"$f":"'2'!L18","v":0},{"$f":"'2'!M18","v":0},{"$f":"'2'!N18","v":0},{"$f":"'2'!O18","v":0},{"$f":"'2'!P18","v":0},{"$f":"'2'!Q18","v":0},{"$f":"'2'!R18","v":0},{"$f":"'2'!S18","v":0},{"$f":"'2'!T18","v":0},{"$f":"'2'!U18","v":0},{"$f":"'2'!V18","v":0},{"$f":"'2'!W18","v":0},{"$f":"'2'!X18","v":0},{"$f":"'2'!Y18","v":0},{"$f":"'2'!Z18","v":0},{"$f":"'2'!AA18","v":0},{"$f":"'2'!AB18","v":0},{"$f":"'2'!AC18","v":0},{"$f":"'2'!AD18","v":0},{"$f":"'2'!AE18","v":0},{"$f":"'2'!AF18","v":0},{"$f":"'2'!AG18","v":0},{"$f":"'2'!AH18","v":0},{"$f":"'2'!AI18","v":0},{"$f":"'2'!AJ18","v":0},2,{"$f":"VLOOKUP(AL116,Přehled!$C$5:$AL$24,36)","v":""},null,null,null,null,null,null,null,null,null,null,null,null,null,null,null,null,null,null,null,null,null,null,null,null,null,null,null,null,null,{"$f":"'1'!$AO$119","v":0},{"$f":"'1'!$AP$119","v":0},{"$f":"'1'!$AQ$119","v":0},{"$f":"'1'!$AR$119","v":0},{"$f":"'1'!$AS$119","v":0},{"$f":"'1'!$AT$119","v":0},1,{"$f":"VLOOKUP(BW116,Přehled!$C$5:$AL$24,36)","v":""},null,null,null,null,null,null,null,null,null,null,null,null,null,null,null,null,null,null,null,null,{"$f":"'1'!$BP$119","v":0},{"$f":"'1'!$BQ$119","v":0},{"$f":"'1'!$BR$119","v":0},{"$f":"'1'!$BS$119","v":0},{"$f":"'1'!$BT$119","v":0},{"$f":"'1'!$BU$119","v":0},1,{"$f":"VLOOKUP(CY116,Přehled!$C$5:$AL$24,36)","v":""},null,null,null,null,null,null,null,null,null,null,null,null,null,null,null,{"$f":"'1'!$CR$119","v":0},{"$f":"'1'!$CS$119","v":0},{"$f":"'1'!$CT$119","v":0},1,{"$f":"VLOOKUP(DS116,Přehled!$C$5:$AL$24,36)","v":""},null,null,null,null,null,null,null,null,null,null,null,null,null,null,null,{"$f":"'4'!$DO$26","v":0},{"$f":"'4'!$DP$26","v":0},{"$f":"'4'!$DQ$26","v":0},4,{"$f":"VLOOKUP(EM116,Přehled!$C$5:$AL$24,36)","v":""}]
[{"$f":"'2'!A19","v":0},{"$f":"'2'!B19","v":0},{"$f":"'2'!C19","v":0},{"$f":"SUMIF($B$5:$B$2024,Souhrn_hod[[#This Row],[Jméno]],$E$5:$E$2024)","v":0},{"$f":"'2'!D19","v":0},{"$f":"'2'!E19","v":0},{"$f":"'2'!F19","v":0},{"$f":"'2'!G19","v":0},{"$f":"'2'!H19","v":0},{"$f":"'2'!I19","v":0},{"$f":"'2'!J19","v":0},{"$f":"'2'!K19","v":0},{"$f":"'2'!L19","v":0},{"$f":"'2'!M19","v":0},{"$f":"'2'!N19","v":0},{"$f":"'2'!O19","v":0},{"$f":"'2'!P19","v":0},{"$f":"'2'!Q19","v":0},{"$f":"'2'!R19","v":0},{"$f":"'2'!S19","v":0},{"$f":"'2'!T19","v":0},{"$f":"'2'!U19","v":0},{"$f":"'2'!V19","v":0},{"$f":"'2'!W19","v":0},{"$f":"'2'!X19","v":0},{"$f":"'2'!Y19","v":0},{"$f":"'2'!Z19","v":0},{"$f":"'2'!AA19","v":0},{"$f":"'2'!AB19","v":0},{"$f":"'2'!AC19","v":0},{"$f":"'2'!AD19","v":0},{"$f":"'2'!AE19","v":0},{"$f":"'2'!AF19","v":0},{"$f":"'2'!AG19","v":0},{"$f":"'2'!AH19","v":0},{"$f":"'2'!AI19","v":0},{"$f":"'2'!AJ19","v":0},2,{"$f":"VLOOKUP(AL117,Přehled!$C$5:$AL$24,36)","v":""},null,null,null,null,null,null,null,null,null,null,null,null,null,null,null,null,null,null,null,null,null,null,null,null,null,null,null,null,null,{"$f":"'1'!$AO$120","v":0},{"$f":"'1'!$AP$120","v":0},{"$f":"'1'!$AQ$120","v":0},{"$f":"'1'!$AR$120","v":0},{"$f":"'1'!$AS$120","v":0},{"$f":"'1'!$AT$120","v":0},1,{"$f":"VLOOKUP(BW117,Přehled!$C$5:$AL$24,36)","v":""},null,null,null,null,null,null,null,null,null,null,null,null,null,null,null,null,null,null,null,null,{"$f":"'1'!$BP$120","v":0},{"$f":"'1'!$BQ$120","v":0},{"$f":"'1'!$BR$120","v":0},{"$f":"'1'!$BS$120","v":0},{"$f":"'1'!$BT$120","v":0},{"$f":"'1'!$BU$120","v":0},1,{"$f":"VLOOKUP(CY117,Přehled!$C$5:$AL$24,36)","v":""},null,null,null,null,null,null,null,null,null,null,null,null,null,null,null,{"$f":"'1'!$CR$120","v":0},{"$f":"'1'!$CS$120","v":0},{"$f":"'1'!$CT$120","v":0},1,{"$f":"VLOOKUP(DS117,Přehled!$C$5:$AL$24,36)","v":""},null,null,null,null,null,null,null,null,null,null,null,null,null,null,null,{"$f":"'4'!$DO$27","v":0},{"$f":"'4'!$DP$27","v":0},{"$f":"'4'!$DQ$27","v":0},4,{"$f":"VLOOKUP(EM117,Přehled!$C$5:$AL$24,36)","v":""}]
[{"$f":"'3'!A74","v":0},{"$f":"'3'!B74","v":0},{"$f":"'3'!C74","v":0},{"$f":"SUMIF($B$5:$B$2024,Souhrn_hod[[#This Row],[Jméno]],$E$5:$E$2024)","v":0},{"$f":"'3'!D74","v":0},{"$f":"'3'!E74","v":0},{"$f":"'3'!F74","v":0},{"$f":"'3'!G74","v":0},{"$f":"'3'!H74","v":0},{"$f":"'3'!I74","v":0},{"$f":"'3'!J74","v":0},{"$f":"'3'!K74","v":0},{"$f":"'3'!L74","v":0},{"$f":"'3'!M74","v":0},{"$f":"'3'!N74","v":0},{"$f":"'3'!O74","v":0},{"$f":"'3'!P74","v":0},{"$f":"'3'!Q74","v":0},{"$f":"'3'!R74","v":0},{"$f":"'3'!S74","v":0},{"$f":"'3'!T74","v":0},{"$f":"'3'!U74","v":0},{"$f":"'3'!V74","v":0},{"$f":"'3'!W74","v":0},{"$f":"'3'!X74","v":0},{"$f":"'3'!Y74","v":0},{"$f":"'3'!Z74","v":0},{"$f":"'3'!AA74","v":0},{"$f":"'3'!AB74","v":0},{"$f":"'3'!AC74","v":0},{"$f":"'3'!AD74","v":0},{"$f":"'3'!AE74","v":0},{"$f":"'3'!AF74","v":0},{"$f":"'3'!AG74","v":0},{"$f":"'3'!AH74","v":0},{"$f":"'3'!AI74","v":0},{"$f":"'3'!AJ74","v":0},3,{"$f":"VLOOKUP(AL118,Přehled!$C$5:$AL$24,36)","v":""},null,null,null,null,null,null,null,null,null,null,null,null,null,null,null,null,null,null,null,null,null,null,null,null,null,null,null,null,null,{"$f":"'1'!$AO$121","v":0},{"$f":"'1'!$AP$121","v":0},{"$f":"'1'!$AQ$121","v":0},{"$f":"'1'!$AR$121","v":0},{"$f":"'1'!$AS$121","v":0},{"$f":"'1'!$AT$121","v":0},1,{"$f":"VLOOKUP(BW118,Přehled!$C$5:$AL$24,36)","v":""},null,null,null,null,null,null,null,null,null,null,null,null,null,null,null,null,null,null,null,null,{"$f":"'1'!$BP$121","v":0},{"$f":"'1'!$BQ$121","v":0},{"$f":"'1'!$BR$121","v":0},{"$f":"'1'!$BS$121","v":0},{"$f":"'1'!$BT$121","v":0},{"$f":"'1'!$BU$121","v":0},1,{"$f":"VLOOKUP(CY118,Přehled!$C$5:$AL$24,36)","v":""},null,null,null,null,null,null,null,null,null,null,null,null,null,null,null,{"$f":"'1'!$CR$121","v":0},{"$f":"'1'!$CS$121","v":0},{"$f":"'1'!$CT$121","v":0},1,{"$f":"VLOOKUP(DS118,Přehled!$C$5:$AL$24,36)","v":""},null,null,null,null,null,null,null,null,null,null,null,null,null,null,null,{"$f":"'4'!$DO$28","v":0},{"$f":"'4'!$DP$28","v":0},{"$f":"'4'!$DQ$28","v":0},4,{"$f":"VLOOKUP(EM118,Přehled!$C$5:$AL$24,36)","v":""}]
[{"$f":"'2'!A21","v":0},{"$f":"'2'!B21","v":0},{"$f":"'2'!C21","v":0},{"$f":"SUMIF($B$5:$B$2024,Souhrn_hod[[#This Row],[Jméno]],$E$5:$E$2024)","v":0},{"$f":"'2'!D21","v":0},{"$f":"'2'!E21","v":0},{"$f":"'2'!F21","v":0},{"$f":"'2'!G21","v":0},{"$f":"'2'!H21","v":0},{"$f":"'2'!I21","v":0},{"$f":"'2'!J21","v":0},{"$f":"'2'!K21","v":0},{"$f":"'2'!L21","v":0},{"$f":"'2'!M21","v":0},{"$f":"'2'!N21","v":0},{"$f":"'2'!O21","v":0},{"$f":"'2'!P21","v":0},{"$f":"'2'!Q21","v":0},{"$f":"'2'!R21","v":0},{"$f":"'2'!S21","v":0},{"$f":"'2'!T21","v":0},{"$f":"'2'!U21","v":0},{"$f":"'2'!V21","v":0},{"$f":"'2'!W21","v":0},{"$f":"'2'!X21","v":0},{"$f":"'2'!Y21","v":0},{"$f":"'2'!Z21","v":0},{"$f":"'2'!AA21","v":0},{"$f":"'2'!AB21","v":0},{"$f":"'2'!AC21","v":0},{"$f":"'2'!AD21","v":0},{"$f":"'2'!AE21","v":0},{"$f":"'2'!AF21","v":0},{"$f":"'2'!AG21","v":0},{"$f":"'2'!AH21","v":0},{"$f":"'2'!AI21","v":0},{"$f":"'2'!AJ21","v":0},2,{"$f":"VLOOKUP(AL119,Přehled!$C$5:$AL$24,36)","v":""},null,null,null,null,null,null,null,null,null,null,null,null,null,null,null,null,null,null,null,null,null,null,null,null,null,null,null,null,null,{"$f":"'1'!$AO$122","v":0},{"$f":"'1'!$AP$122","v":0},{"$f":"'1'!$AQ$122","v":0},{"$f":"'1'!$AR$122","v":0},{"$f":"'1'!$AS$122","v":0},{"$f":"'1'!$AT$122","v":0},1,{"$f":"VLOOKUP(BW119,Přehled!$C$5:$AL$24,36)","v":""},null,null,null,null,null,null,null,null,null,null,null,null,null,null,null,null,null,null,null,null,{"$f":"'1'!$BP$122","v":0},{"$f":"'1'!$BQ$122","v":0},{"$f":"'1'!$BR$122","v":0},{"$f":"'1'!$BS$122","v":0},{"$f":"'1'!$BT$122","v":0},{"$f":"'1'!$BU$122","v":0},1,{"$f":"VLOOKUP(CY119,Přehled!$C$5:$AL$24,36)","v":""},null,null,null,null,null,null,null,null,null,null,null,null,null,null,null,{"$f":"'1'!$CR$122","v":0},{"$f":"'1'!$CS$122","v":0},{"$f":"'1'!$CT$122","v":0},1,{"$f":"VLOOKUP(DS119,Přehled!$C$5:$AL$24,36)","v":""},null,null,null,null,null,null,null,null,null,null,null,null,null,null,null,{"$f":"'4'!$DO$29","v":0},{"$f":"'4'!$DP$29","v":0},{"$f":"'4'!$DQ$29","v":0},4,{"$f":"VLOOKUP(EM119,Přehled!$C$5:$AL$24,36)","v":""}]
[{"$f":"'2'!A22","v":0},{"$f":"'2'!B22","v":0},{"$f":"'2'!C22","v":0},{"$f":"SUMIF($B$5:$B$2024,Souhrn_hod[[#This Row],[Jméno]],$E$5:$E$2024)","v":0},{"$f":"'2'!D22","v":0},{"$f":"'2'!E22","v":0},{"$f":"'2'!F22","v":0},{"$f":"'2'!G22","v":0},{"$f":"'2'!H22","v":0},{"$f":"'2'!I22","v":0},{"$f":"'2'!J22","v":0},{"$f":"'2'!K22","v":0},{"$f":"'2'!L22","v":0},{"$f":"'2'!M22","v":0},{"$f":"'2'!N22","v":0},{"$f":"'2'!O22","v":0},{"$f":"'2'!P22","v":0},{"$f":"'2'!Q22","v":0},{"$f":"'2'!R22","v":0},{"$f":"'2'!S22","v":0},{"$f":"'2'!T22","v":0},{"$f":"'2'!U22","v":0},{"$f":"'2'!V22","v":0},{"$f":"'2'!W22","v":0},{"$f":"'2'!X22","v":0},{"$f":"'2'!Y22","v":0},{"$f":"'2'!Z22","v":0},{"$f":"'2'!AA22","v":0},{"$f":"'2'!AB22","v":0},{"$f":"'2'!AC22","v":0},{"$f":"'2'!AD22","v":0},{"$f":"'2'!AE22","v":0},{"$f":"'2'!AF22","v":0},{"$f":"'2'!AG22","v":0},{"$f":"'2'!AH22","v":0},{"$f":"'2'!AI22","v":0},{"$f":"'2'!AJ22","v":0},2,{"$f":"VLOOKUP(AL120,Přehled!$C$5:$AL$24,36)","v":""},null,null,null,null,null,null,null,null,null,null,null,null,null,null,null,null,null,null,null,null,null,null,null,null,null,null,null,null,null,{"$f":"'1'!$AO$103","v":0},{"$f":"'1'!$AP$103","v":0},{"$f":"'1'!$AQ$103","v":0},{"$f":"'1'!$AR$103","v":0},{"$f":"'1'!$AS$103","v":0},{"$f":"'1'!$AT$103","v":0},1,{"$f":"VLOOKUP(BW120,Přehled!$C$5:$AL$24,36)","v":""},null,null,null,null,null,null,null,null,null,null,null,null,null,null,null,null,null,null,null,null,{"$f":"'1'!$BP$123","v":0},{"$f":"'1'!$BQ$123","v":0},{"$f":"'1'!$BR$123","v":0},{"$f":"'1'!$BS$123","v":0},{"$f":"'1'!$BT$123","v":0},{"$f":"'1'!$BU$123","v":0},1,{"$f":"VLOOKUP(CY120,Přehled!$C$5:$AL$24,36)","v":""},null,null,null,null,null,null,null,null,null,null,null,null,null,null,null,{"$f":"'1'!$CR$123","v":0},{"$f":"'1'!$CS$123","v":0},{"$f":"'1'!$CT$123","v":0},1,{"$f":"VLOOKUP(DS120,Přehled!$C$5:$AL$24,36)","v":""},null,null,null,null,null,null,null,null,null,null,null,null,null,null,null,{"$f":"'4'!$DO$30","v":0},{"$f":"'4'!$DP$30","v":0},{"$f":"'4'!$DQ$30","v":0},4,{"$f":"VLOOKUP(EM120,Přehled!$C$5:$AL$24,36)","v":""}]
[{"$f":"'2'!A23","v":0},{"$f":"'2'!B23","v":0},{"$f":"'2'!C23","v":0},{"$f":"SUMIF($B$5:$B$2024,Souhrn_hod[[#This Row],[Jméno]],$E$5:$E$2024)","v":0},{"$f":"'2'!D23","v":0},{"$f":"'2'!E23","v":0},{"$f":"'2'!F23","v":0},{"$f":"'2'!G23","v":0},{"$f":"'2'!H23","v":0},{"$f":"'2'!I23","v":0},{"$f":"'2'!J23","v":0},{"$f":"'2'!K23","v":0},{"$f":"'2'!L23","v":0},{"$f":"'2'!M23","v":0},{"$f":"'2'!N23","v":0},{"$f":"'2'!O23","v":0},{"$f":"'2'!P23","v":0},{"$f":"'2'!Q23","v":0},{"$f":"'2'!R23","v":0},{"$f":"'2'!S23","v":0},{"$f":"'2'!T23","v":0},{"$f":"'2'!U23","v":0},{"$f":"'2'!V23","v":0},{"$f":"'2'!W23","v":0},{"$f":"'2'!X23","v":0},{"$f":"'2'!Y23","v":0},{"$f":"'2'!Z23","v":0},{"$f":"'2'!AA23","v":0},{"$f":"'2'!AB23","v":0},{"$f":"'2'!AC23","v":0},{"$f":"'2'!AD23","v":0},{"$f":"'2'!AE23","v":0},{"$f":"'2'!AF23","v":0},{"$f":"'2'!AG23","v":0},{"$f":"'2'!AH23","v":0},{"$f":"'2'!AI23","v":0},{"$f":"'2'!AJ23","v":0},2,{"$f":"VLOOKUP(AL121,Přehled!$C$5:$AL$24,36)","v":""},null,null,null,null,null,null,null,null,null,null,null,null,null,null,null,null,null,null,null,null,null,null,null,null,null,null,null,null,null,{"$f":"'1'!$AO$124","v":0},{"$f":"'1'!$AP$124","v":0},{"$f":"'1'!$AQ$124","v":0},{"$f":"'1'!$AR$124","v":0},{"$f":"'1'!$AS$124","v":0},{"$f":"'1'!$AT$124","v":0},1,{"$f":"VLOOKUP(BW121,Přehled!$C$5:$AL$24,36)","v":""},null,null,null,null,null,null,null,null,null,null,null,null,null,null,null,null,null,null,null,null,{"$f":"'1'!$BP$124","v":0},{"$f":"'1'!$BQ$124","v":0},{"$f":"'1'!$BR$124","v":0},{"$f":"'1'!$BS$124","v":0},{"$f":"'1'!$BT$124","v":0},{"$f":"'1'!$BU$124","v":0},1,{"$f":"VLOOKUP(CY121,Přehled!$C$5:$AL$24,36)","v":""},null,null,null,null,null,null,null,null,null,null,null,null,null,null,null,{"$f":"'1'!$CR$124","v":0},{"$f":"'1'!$CS$124","v":0},{"$f":"'1'!$CT$124","v":0},1,{"$f":"VLOOKUP(DS121,Přehled!$C$5:$AL$24,36)","v":""},null,null,null,null,null,null,null,null,null,null,null,null,null,null,null,{"$f":"'4'!$DO$31","v":0},{"$f":"'4'!$DP$31","v":0},{"$f":"'4'!$DQ$31","v":0},4,{"$f":"VLOOKUP(EM121,Přehled!$C$5:$AL$24,36)","v":""}]
[{"$f":"'2'!A24","v":0},{"$f":"'2'!B24","v":0},{"$f":"'2'!C24","v":0},{"$f":"SUMIF($B$5:$B$2024,Souhrn_hod[[#This Row],[Jméno]],$E$5:$E$2024)","v":0},{"$f":"'2'!D24","v":0},{"$f":"'2'!E24","v":0},{"$f":"'2'!F24","v":0},{"$f":"'2'!G24","v":0},{"$f":"'2'!H24","v":0},{"$f":"'2'!I24","v":0},{"$f":"'2'!J24","v":0},{"$f":"'2'!K24","v":0},{"$f":"'2'!L24","v":0},{"$f":"'2'!M24","v":0},{"$f":"'2'!N24","v":0},{"$f":"'2'!O24","v":0},{"$f":"'2'!P24","v":0},{"$f":"'2'!Q24","v":0},{"$f":"'2'!R24","v":0},{"$f":"'2'!S24","v":0},{"$f":"'2'!T24","v":0},{"$f":"'2'!U24","v":0},{"$f":"'2'!V24","v":0},{"$f":"'2'!W24","v":0},{"$f":"'2'!X24","v":0},{"$f":"'2'!Y24","v":0},{"$f":"'2'!Z24","v":0},{"$f":"'2'!AA24","v":0},{"$f":"'2'!AB24","v":0},{"$f":"'2'!AC24","v":0},{"$f":"'2'!AD24","v":0},{"$f":"'2'!AE24","v":0},{"$f":"'2'!AF24","v":0},{"$f":"'2'!AG24","v":0},{"$f":"'2'!AH24","v":0},{"$f":"'2'!AI24","v":0},{"$f":"'2'!AJ24","v":0},2,{"$f":"VLOOKUP(AL122,Přehled!$C$5:$AL$24,36)","v":""},null,null,null,null,null,null,null,null,null,null,null,null,null,null,null,null,null,null,null,null,null,null,null,null,null,null,null,null,null,{"$f":"'1'!$AO$125","v":0},{"$f":"'1'!$AP$125","v":0},{"$f":"'1'!$AQ$125","v":0},{"$f":"'1'!$AR$125","v":0},{"$f":"'1'!$AS$125","v":0},{"$f":"'1'!$AT$125","v":0},1,{"$f":"VLOOKUP(BW122,Přehled!$C$5:$AL$24,36)","v":""},null,null,null,null,null,null,null,null,null,null,null,null,null,null,null,null,null,null,null,null,{"$f":"'1'!$BP$125","v":0},{"$f":"'1'!$BQ$125","v":0},{"$f":"'1'!$BR$125","v":0},{"$f":"'1'!$BS$125","v":0},{"$f":"'1'!$BT$125","v":0},{"$f":"'1'!$BU$125","v":0},1,{"$f":"VLOOKUP(CY122,Přehled!$C$5:$AL$24,36)","v":""},null,null,null,null,null,null,null,null,null,null,null,null,null,null,null,{"$f":"'1'!$CR$125","v":0},{"$f":"'1'!$CS$125","v":0},{"$f":"'1'!$CT$125","v":0},1,{"$f":"VLOOKUP(DS122,Přehled!$C$5:$AL$24,36)","v":""},null,null,null,null,null,null,null,null,null,null,null,null,null,null,null,{"$f":"'4'!$DO$32","v":0},{"$f":"'4'!$DP$32","v":0},{"$f":"'4'!$DQ$32","v":0},4,{"$f":"VLOOKUP(EM122,Přehled!$C$5:$AL$24,36)","v":""}]
[{"$f":"'2'!A25","v":0},{"$f":"'2'!B25","v":0},{"$f":"'2'!C25","v":0},{"$f":"SUMIF($B$5:$B$2024,Souhrn_hod[[#This Row],[Jméno]],$E$5:$E$2024)","v":0},{"$f":"'2'!D25","v":0},{"$f":"'2'!E25","v":0},{"$f":"'2'!F25","v":0},{"$f":"'2'!G25","v":0},{"$f":"'2'!H25","v":0},{"$f":"'2'!I25","v":0},{"$f":"'2'!J25","v":0},{"$f":"'2'!K25","v":0},{"$f":"'2'!L25","v":0},{"$f":"'2'!M25","v":0},{"$f":"'2'!N25","v":0},{"$f":"'2'!O25","v":0},{"$f":"'2'!P25","v":0},{"$f":"'2'!Q25","v":0},{"$f":"'2'!R25","v":0},{"$f":"'2'!S25","v":0},{"$f":"'2'!T25","v":0},{"$f":"'2'!U25","v":0},{"$f":"'2'!V25","v":0},{"$f":"'2'!W25","v":0},{"$f":"'2'!X25","v":0},{"$f":"'2'!Y25","v":0},{"$f":"'2'!Z25","v":0},{"$f":"'2'!AA25","v":0},{"$f":"'2'!AB25","v":0},{"$f":"'2'!AC25","v":0},{"$f":"'2'!AD25","v":0},{"$f":"'2'!AE25","v":0},{"$f":"'2'!AF25","v":0},{"$f":"'2'!AG25","v":0},{"$f":"'2'!AH25","v":0},{"$f":"'2'!AI25","v":0},{"$f":"'2'!AJ25","v":0},2,{"$f":"VLOOKUP(AL123,Přehled!$C$5:$AL$24,36)","v":""},null,null,null,null,null,null,null,null,null,null,null,null,null,null,null,null,null,null,null,null,null,null,null,null,null,null,null,null,null,{"$f":"'1'!$AO$126","v":0},{"$f":"'1'!$AP$126","v":0},{"$f":"'1'!$AQ$126","v":0},{"$f":"'1'!$AR$126","v":0},{"$f":"'1'!$AS$126","v":0},{"$f":"'1'!$AT$126","v":0},1,{"$f":"VLOOKUP(BW123,Přehled!$C$5:$AL$24,36)","v":""},null,null,null,null,null,null,null,null,null,null,null,null,null,null,null,null,null,null,null,null,{"$f":"'1'!$BP$126","v":0},{"$f":"'1'!$BQ$126","v":0},{"$f":"'1'!$BR$126","v":0},{"$f":"'1'!$BS$126","v":0},{"$f":"'1'!$BT$126","v":0},{"$f":"'1'!$BU$126","v":0},1,{"$f":"VLOOKUP(CY123,Přehled!$C$5:$AL$24,36)","v":""},null,null,null,null,null,null,null,null,null,null,null,null,null,null,null,{"$f":"'1'!$CR$126","v":0},{"$f":"'1'!$CS$126","v":0},{"$f":"'1'!$CT$126","v":0},1,{"$f":"VLOOKUP(DS123,Přehled!$C$5:$AL$24,36)","v":""},null,null,null,null,null,null,null,null,null,null,null,null,null,null,null,{"$f":"'4'!$DO$33","v":0},{"$f":"'4'!$DP$33","v":0},{"$f":"'4'!$DQ$33","v":0},4,{"$f":"VLOOKUP(EM123,Přehled!$C$5:$AL$24,36)","v":""}]
[{"$f":"'2'!A26","v":0},{"$f":"'2'!B26","v":0},{"$f":"'2'!C26","v":0},{"$f":"SUMIF($B$5:$B$2024,Souhrn_hod[[#This Row],[Jméno]],$E$5:$E$2024)","v":0},{"$f":"'2'!D26","v":0},{"$f":"'2'!E26","v":0},{"$f":"'2'!F26","v":0},{"$f":"'2'!G26","v":0},{"$f":"'2'!H26","v":0},{"$f":"'2'!I26","v":0},{"$f":"'2'!J26","v":0},{"$f":"'2'!K26","v":0},{"$f":"'2'!L26","v":0},{"$f":"'2'!M26","v":0},{"$f":"'2'!N26","v":0},{"$f":"'2'!O26","v":0},{"$f":"'2'!P26","v":0},{"$f":"'2'!Q26","v":0},{"$f":"'2'!R26","v":0},{"$f":"'2'!S26","v":0},{"$f":"'2'!T26","v":0},{"$f":"'2'!U26","v":0},{"$f":"'2'!V26","v":0},{"$f":"'2'!W26","v":0},{"$f":"'2'!X26","v":0},{"$f":"'2'!Y26","v":0},{"$f":"'2'!Z26","v":0},{"$f":"'2'!AA26","v":0},{"$f":"'2'!AB26","v":0},{"$f":"'2'!AC26","v":0},{"$f":"'2'!AD26","v":0},{"$f":"'2'!AE26","v":0},{"$f":"'2'!AF26","v":0},{"$f":"'2'!AG26","v":0},{"$f":"'2'!AH26","v":0},{"$f":"'2'!AI26","v":0},{"$f":"'2'!AJ26","v":0},2,{"$f":"VLOOKUP(AL124,Přehled!$C$5:$AL$24,36)","v":""},null,null,null,null,null,null,null,null,null,null,null,null,null,null,null,null,null,null,null,null,null,null,null,null,null,null,null,null,null,{"$f":"'1'!$AO$127","v":0},{"$f":"'1'!$AP$127","v":0},{"$f":"'1'!$AQ$127","v":0},{"$f":"'1'!$AR$127","v":0},{"$f":"'1'!$AS$127","v":0},{"$f":"'1'!$AT$127","v":0},1,{"$f":"VLOOKUP(BW124,Přehled!$C$5:$AL$24,36)","v":""},null,null,null,null,null,null,null,null,null,null,null,null,null,null,null,null,null,null,null,null,{"$f":"'1'!$BP$127","v":0},{"$f":"'1'!$BQ$127","v":0},{"$f":"'1'!$BR$127","v":0},{"$f":"'1'!$BS$127","v":0},{"$f":"'1'!$BT$127","v":0},{"$f":"'1'!$BU$127","v":0},1,{"$f":"VLOOKUP(CY124,Přehled!$C$5:$AL$24,36)","v":""},null,null,null,null,null,null,null,null,null,null,null,null,null,null,null,{"$f":"'1'!$CR$127","v":0},{"$f":"'1'!$CS$127","v":0},{"$f":"'1'!$CT$127","v":0},1,{"$f":"VLOOKUP(DS124,Přehled!$C$5:$AL$24,36)","v":""},null,null,null,null,null,null,null,null,null,null,null,null,null,null,null,{"$f":"'4'!$DO$34","v":0},{"$f":"'4'!$DP$34","v":0},{"$f":"'4'!$DQ$34","v":0},4,{"$f":"VLOOKUP(EM124,Přehled!$C$5:$AL$24,36)","v":""}]
[{"$f":"'2'!A27","v":0},{"$f":"'2'!B27","v":0},{"$f":"'2'!C27","v":0},{"$f":"SUMIF($B$5:$B$2024,Souhrn_hod[[#This Row],[Jméno]],$E$5:$E$2024)","v":0},{"$f":"'2'!D27","v":0},{"$f":"'2'!E27","v":0},{"$f":"'2'!F27","v":0},{"$f":"'2'!G27","v":0},{"$f":"'2'!H27","v":0},{"$f":"'2'!I27","v":0},{"$f":"'2'!J27","v":0},{"$f":"'2'!K27","v":0},{"$f":"'2'!L27","v":0},{"$f":"'2'!M27","v":0},{"$f":"'2'!N27","v":0},{"$f":"'2'!O27","v":0},{"$f":"'2'!P27","v":0},{"$f":"'2'!Q27","v":0},{"$f":"'2'!R27","v":0},{"$f":"'2'!S27","v":0},{"$f":"'2'!T27","v":0},{"$f":"'2'!U27","v":0},{"$f":"'2'!V27","v":0},{"$f":"'2'!W27","v":0},{"$f":"'2'!X27","v":0},{"$f":"'2'!Y27","v":0},{"$f":"'2'!Z27","v":0},{"$f":"'2'!AA27","v":0},{"$f":"'2'!AB27","v":0},{"$f":"'2'!AC27","v":0},{"$f":"'2'!AD27","v":0},{"$f":"'2'!AE27","v":0},{"$f":"'2'!AF27","v":0},{"$f":"'2'!AG27","v":0},{"$f":"'2'!AH27","v":0},{"$f":"'2'!AI27","v":0},{"$f":"'2'!AJ27","v":0},2,{"$f":"VLOOKUP(AL125,Přehled!$C$5:$AL$24,36)","v":""},null,null,null,null,null,null,null,null,null,null,null,null,null,null,null,null,null,null,null,null,null,null,null,null,null,null,null,null,null,{"$f":"'1'!$AO$108","v":0},{"$f":"'1'!$AP$108","v":0},{"$f":"'1'!$AQ$108","v":0},{"$f":"'1'!$AR$108","v":0},{"$f":"'1'!$AS$108","v":0},{"$f":"'1'!$AT$108","v":0},1,{"$f":"VLOOKUP(BW125,Přehled!$C$5:$AL$24,36)","v":""},null,null,null,null,null,null,null,null,null,null,null,null,null,null,null,null,null,null,null,null,{"$f":"'1'!$BP$128","v":0},{"$f":"'1'!$BQ$128","v":0},{"$f":"'1'!$BR$128","v":0},{"$f":"'1'!$BS$128","v":0},{"$f":"'1'!$BT$128","v":0},{"$f":"'1'!$BU$128","v":0},1,{"$f":"VLOOKUP(CY125,Přehled!$C$5:$AL$24,36)","v":""},null,null,null,null,null,null,null,null,null,null,null,null,null,null,null,{"$f":"'1'!$CR$128","v":0},{"$f":"'1'!$CS$128","v":0},{"$f":"'1'!$CT$128","v":0},1,{"$f":"VLOOKUP(DS125,Přehled!$C$5:$AL$24,36)","v":""},null,null,null,null,null,null,null,null,null,null,null,null,null,null,null,{"$f":"'4'!$DO$35","v":0},{"$f":"'4'!$DP$35","v":0},{"$f":"'4'!$DQ$35","v":0},4,{"$f":"VLOOKUP(EM125,Přehled!$C$5:$AL$24,36)","v":""}]
[{"$f":"'2'!A28","v":0},{"$f":"'2'!B28","v":0},{"$f":"'2'!C28","v":0},{"$f":"SUMIF($B$5:$B$2024,Souhrn_hod[[#This Row],[Jméno]],$E$5:$E$2024)","v":0},{"$f":"'2'!D28","v":0},{"$f":"'2'!E28","v":0},{"$f":"'2'!F28","v":0},{"$f":"'2'!G28","v":0},{"$f":"'2'!H28","v":0},{"$f":"'2'!I28","v":0},{"$f":"'2'!J28","v":0},{"$f":"'2'!K28","v":0},{"$f":"'2'!L28","v":0},{"$f":"'2'!M28","v":0},{"$f":"'2'!N28","v":0},{"$f":"'2'!O28","v":0},{"$f":"'2'!P28","v":0},{"$f":"'2'!Q28","v":0},{"$f":"'2'!R28","v":0},{"$f":"'2'!S28","v":0},{"$f":"'2'!T28","v":0},{"$f":"'2'!U28","v":0},{"$f":"'2'!V28","v":0},{"$f":"'2'!W28","v":0},{"$f":"'2'!X28","v":0},{"$f":"'2'!Y28","v":0},{"$f":"'2'!Z28","v":0},{"$f":"'2'!AA28","v":0},{"$f":"'2'!AB28","v":0},{"$f":"'2'!AC28","v":0},{"$f":"'2'!AD28","v":0},{"$f":"'2'!AE28","v":0},{"$f":"'2'!AF28","v":0},{"$f":"'2'!AG28","v":0},{"$f":"'2'!AH28","v":0},{"$f":"'2'!AI28","v":0},{"$f":"'2'!AJ28","v":0},2,{"$f":"VLOOKUP(AL126,Přehled!$C$5:$AL$24,36)","v":""},null,null,null,null,null,null,null,null,null,null,null,null,null,null,null,null,null,null,null,null,null,null,null,null,null,null,null,null,null,{"$f":"'1'!$AO$129","v":0},{"$f":"'1'!$AP$129","v":0},{"$f":"'1'!$AQ$129","v":0},{"$f":"'1'!$AR$129","v":0},{"$f":"'1'!$AS$129","v":0},{"$f":"'1'!$AT$129","v":0},1,{"$f":"VLOOKUP(BW126,Přehled!$C$5:$AL$24,36)","v":""},null,null,null,null,null,null,null,null,null,null,null,null,null,null,null,null,null,null,null,null,{"$f":"'1'!$BP$129","v":0},{"$f":"'1'!$BQ$129","v":0},{"$f":"'1'!$BR$129","v":0},{"$f":"'1'!$BS$129","v":0},{"$f":"'1'!$BT$129","v":0},{"$f":"'1'!$BU$129","v":0},1,{"$f":"VLOOKUP(CY126,Přehled!$C$5:$AL$24,36)","v":""},null,null,null,null,null,null,null,null,null,null,null,null,null,null,null,{"$f":"'1'!$CR$129","v":0},{"$f":"'1'!$CS$129","v":0},{"$f":"'1'!$CT$129","v":0},1,{"$f":"VLOOKUP(DS126,Přehled!$C$5:$AL$24,36)","v":""},null,null,null,null,null,null,null,null,null,null,null,null,null,null,null,{"$f":"'4'!$DO$36","v":0},{"$f":"'4'!$DP$36","v":0},{"$f":"'4'!$DQ$36","v":0},4,{"$f":"VLOOKUP(EM126,Přehled!$C$5:$AL$24,36)","v":""}]
[{"$f":"'2'!A29","v":0},{"$f":"'2'!B29","v":0},{"$f":"'2'!C29","v":0},{"$f":"SUMIF($B$5:$B$2024,Souhrn_hod[[#This Row],[Jméno]],$E$5:$E$2024)","v":0},{"$f":"'2'!D29","v":0},{"$f":"'2'!E29","v":0},{"$f":"'2'!F29","v":0},{"$f":"'2'!G29","v":0},{"$f":"'2'!H29","v":0},{"$f":"'2'!I29","v":0},{"$f":"'2'!J29","v":0},{"$f":"'2'!K29","v":0},{"$f":"'2'!L29","v":0},{"$f":"'2'!M29","v":0},{"$f":"'2'!N29","v":0},{"$f":"'2'!O29","v":0},{"$f":"'2'!P29","v":0},{"$f":"'2'!Q29","v":0},{"$f":"'2'!R29","v":0},{"$f":"'2'!S29","v":0},{"$f":"'2'!T29","v":0},{"$f":"'2'!U29","v":0},{"$f":"'2'!V29","v":0},{"$f":"'2'!W29","v":0},{"$f":"'2'!X29","v":0},{"$f":"'2'!Y29","v":0},{"$f":"'2'!Z29","v":0},{"$f":"'2'!AA29","v":0},{"$f":"'2'!AB29","v":0},{"$f":"'2'!AC29","v":0},{"$f":"'2'!AD29","v":0},{"$f":"'2'!AE29","v":0},{"$f":"'2'!AF29","v":0},{"$f":"'2'!AG29","v":0},{"$f":"'2'!AH29","v":0},{"$f":"'2'!AI29","v":0},{"$f":"'2'!AJ29","v":0},2,{"$f":"VLOOKUP(AL127,Přehled!$C$5:$AL$24,36)","v":""},null,null,null,null,null,null,null,null,null,null,null,null,null,null,null,null,null,null,null,null,null,null,null,null,null,null,null,null,null,{"$f":"'1'!$AO$130","v":0},{"$f":"'1'!$AP$130","v":0},{"$f":"'1'!$AQ$130","v":0},{"$f":"'1'!$AR$130","v":0},{"$f":"'1'!$AS$130","v":0},{"$f":"'1'!$AT$130","v":0},1,{"$f":"VLOOKUP(BW127,Přehled!$C$5:$AL$24,36)","v":""},null,null,null,null,null,null,null,null,null,null,null,null,null,null,null,null,null,null,null,null,{"$f":"'1'!$BP$130","v":0},{"$f":"'1'!$BQ$130","v":0},{"$f":"'1'!$BR$130","v":0},{"$f":"'1'!$BS$130","v":0},{"$f":"'1'!$BT$130","v":0},{"$f":"'1'!$BU$130","v":0},1,{"$f":"VLOOKUP(CY127,Přehled!$C$5:$AL$24,36)","v":""},null,null,null,null,null,null,null,null,null,null,null,null,null,null,null,{"$f":"'1'!$CR$130","v":0},{"$f":"'1'!$CS$130","v":0},{"$f":"'1'!$CT$130","v":0},1,{"$f":"VLOOKUP(DS127,Přehled!$C$5:$AL$24,36)","v":""},null,null,null,null,null,null,null,null,null,null,null,null,null,null,null,{"$f":"'4'!$DO$37","v":0},{"$f":"'4'!$DP$37","v":0},{"$f":"'4'!$DQ$37","v":0},4,{"$f":"VLOOKUP(EM127,Přehled!$C$5:$AL$24,36)","v":""}]
[{"$f":"'2'!A30","v":0},{"$f":"'2'!B30","v":0},{"$f":"'2'!C30","v":0},{"$f":"SUMIF($B$5:$B$2024,Souhrn_hod[[#This Row],[Jméno]],$E$5:$E$2024)","v":0},{"$f":"'2'!D30","v":0},{"$f":"'2'!E30","v":0},{"$f":"'2'!F30","v":0},{"$f":"'2'!G30","v":0},{"$f":"'2'!H30","v":0},{"$f":"'2'!I30","v":0},{"$f":"'2'!J30","v":0},{"$f":"'2'!K30","v":0},{"$f":"'2'!L30","v":0},{"$f":"'2'!M30","v":0},{"$f":"'2'!N30","v":0},{"$f":"'2'!O30","v":0},{"$f":"'2'!P30","v":0},{"$f":"'2'!Q30","v":0},{"$f":"'2'!R30","v":0},{"$f":"'2'!S30","v":0},{"$f":"'2'!T30","v":0},{"$f":"'2'!U30","v":0},{"$f":"'2'!V30","v":0},{"$f":"'2'!W30","v":0},{"$f":"'2'!X30","v":0},{"$f":"'2'!Y30","v":0},{"$f":"'2'!Z30","v":0},{"$f":"'2'!AA30","v":0},{"$f":"'2'!AB30","v":0},{"$f":"'2'!AC30","v":0},{"$f":"'2'!AD30","v":0},{"$f":"'2'!AE30","v":0},{"$f":"'2'!AF30","v":0},{"$f":"'2'!AG30","v":0},{"$f":"'2'!AH30","v":0},{"$f":"'2'!AI30","v":0},{"$f":"'2'!AJ30","v":0},2,{"$f":"VLOOKUP(AL128,Přehled!$C$5:$AL$24,36)","v":""},null,null,null,null,null,null,null,null,null,null,null,null,null,null,null,null,null,null,null,null,null,null,null,null,null,null,null,null,null,{"$f":"'1'!$AO$131","v":0},{"$f":"'1'!$AP$131","v":0},{"$f":"'1'!$AQ$131","v":0},{"$f":"'1'!$AR$131","v":0},{"$f":"'1'!$AS$131","v":0},{"$f":"'1'!$AT$131","v":0},1,{"$f":"VLOOKUP(BW128,Přehled!$C$5:$AL$24,36)","v":""},null,null,null,null,null,null,null,null,null,null,null,null,null,null,null,null,null,null,null,null,{"$f":"'1'!$BP$131","v":0},{"$f":"'1'!$BQ$131","v":0},{"$f":"'1'!$BR$131","v":0},{"$f":"'1'!$BS$131","v":0},{"$f":"'1'!$BT$131","v":0},{"$f":"'1'!$BU$131","v":0},1,{"$f":"VLOOKUP(CY128,Přehled!$C$5:$AL$24,36)","v":""},null,null,null,null,null,null,null,null,null,null,null,null,null,null,null,{"$f":"'1'!$CR$131","v":0},{"$f":"'1'!$CS$131","v":0},{"$f":"'1'!$CT$131","v":0},1,{"$f":"VLOOKUP(DS128,Přehled!$C$5:$AL$24,36)","v":""},null,null,null,null,null,null,null,null,null,null,null,null,null,null,null,{"$f":"'4'!$DO$38","v":0},{"$f":"'4'!$DP$38","v":0},{"$f":"'4'!$DQ$38","v":0},4,{"$f":"VLOOKUP(EM128,Přehled!$C$5:$AL$24,36)","v":""}]
[{"$f":"'2'!A31","v":0},{"$f":"'2'!B31","v":0},{"$f":"'2'!C31","v":0},{"$f":"SUMIF($B$5:$B$2024,Souhrn_hod[[#This Row],[Jméno]],$E$5:$E$2024)","v":0},{"$f":"'2'!D31","v":0},{"$f":"'2'!E31","v":0},{"$f":"'2'!F31","v":0},{"$f":"'2'!G31","v":0},{"$f":"'2'!H31","v":0},{"$f":"'2'!I31","v":0},{"$f":"'2'!J31","v":0},{"$f":"'2'!K31","v":0},{"$f":"'2'!L31","v":0},{"$f":"'2'!M31","v":0},{"$f":"'2'!N31","v":0},{"$f":"'2'!O31","v":0},{"$f":"'2'!P31","v":0},{"$f":"'2'!Q31","v":0},{"$f":"'2'!R31","v":0},{"$f":"'2'!S31","v":0},{"$f":"'2'!T31","v":0},{"$f":"'2'!U31","v":0},{"$f":"'2'!V31","v":0},{"$f":"'2'!W31","v":0},{"$f":"'2'!X31","v":0},{"$f":"'2'!Y31","v":0},{"$f":"'2'!Z31","v":0},{"$f":"'2'!AA31","v":0},{"$f":"'2'!AB31","v":0},{"$f":"'2'!AC31","v":0},{"$f":"'2'!AD31","v":0},{"$f":"'2'!AE31","v":0},{"$f":"'2'!AF31","v":0},{"$f":"'2'!AG31","v":0},{"$f":"'2'!AH31","v":0},{"$f":"'2'!AI31","v":0},{"$f":"'2'!AJ31","v":0},2,{"$f":"VLOOKUP(AL129,Přehled!$C$5:$AL$24,36)","v":""},null,null,null,null,null,null,null,null,null,null,null,null,null,null,null,null,null,null,null,null,null,null,null,null,null,null,null,null,null,{"$f":"'1'!$AO$132","v":0},{"$f":"'1'!$AP$132","v":0},{"$f":"'1'!$AQ$132","v":0},{"$f":"'1'!$AR$132","v":0},{"$f":"'1'!$AS$132","v":0},{"$f":"'1'!$AT$132","v":0},1,{"$f":"VLOOKUP(BW129,Přehled!$C$5:$AL$24,36)","v":""},null,null,null,null,null,null,null,null,null,null,null,null,null,null,null,null,null,null,null,null,{"$f":"'1'!$BP$132","v":0},{"$f":"'1'!$BQ$132","v":0},{"$f":"'1'!$BR$132","v":0},{"$f":"'1'!$BS$132","v":0},{"$f":"'1'!$BT$132","v":0},{"$f":"'1'!$BU$132","v":0},1,{"$f":"VLOOKUP(CY129,Přehled!$C$5:$AL$24,36)","v":""},null,null,null,null,null,null,null,null,null,null,null,null,null,null,null,{"$f":"'1'!$CR$132","v":0},{"$f":"'1'!$CS$132","v":0},{"$f":"'1'!$CT$132","v":0},1,{"$f":"VLOOKUP(DS129,Přehled!$C$5:$AL$24,36)","v":""},null,null,null,null,null,null,null,null,null,null,null,null,null,null,null,{"$f":"'5'!$DO$8","v":0},{"$f":"'5'!$DP$8","v":0},{"$f":"'5'!$DQ$8","v":0},5,{"$f":"VLOOKUP(EM129,Přehled!$C$5:$AL$24,36)","v":""}]
[{"$f":"'2'!A32","v":0},{"$f":"'2'!B32","v":0},{"$f":"'2'!C32","v":0},{"$f":"SUMIF($B$5:$B$2024,Souhrn_hod[[#This Row],[Jméno]],$E$5:$E$2024)","v":0},{"$f":"'2'!D32","v":0},{"$f":"'2'!E32","v":0},{"$f":"'2'!F32","v":0},{"$f":"'2'!G32","v":0},{"$f":"'2'!H32","v":0},{"$f":"'2'!I32","v":0},{"$f":"'2'!J32","v":0},{"$f":"'2'!K32","v":0},{"$f":"'2'!L32","v":0},{"$f":"'2'!M32","v":0},{"$f":"'2'!N32","v":0},{"$f":"'2'!O32","v":0},{"$f":"'2'!P32","v":0},{"$f":"'2'!Q32","v":0},{"$f":"'2'!R32","v":0},{"$f":"'2'!S32","v":0},{"$f":"'2'!T32","v":0},{"$f":"'2'!U32","v":0},{"$f":"'2'!V32","v":0},{"$f":"'2'!W32","v":0},{"$f":"'2'!X32","v":0},{"$f":"'2'!Y32","v":0},{"$f":"'2'!Z32","v":0},{"$f":"'2'!AA32","v":0},{"$f":"'2'!AB32","v":0},{"$f":"'2'!AC32","v":0},{"$f":"'2'!AD32","v":0},{"$f":"'2'!AE32","v":0},{"$f":"'2'!AF32","v":0},{"$f":"'2'!AG32","v":0},{"$f":"'2'!AH32","v":0},{"$f":"'2'!AI32","v":0},{"$f":"'2'!AJ32","v":0},2,{"$f":"VLOOKUP(AL130,Přehled!$C$5:$AL$24,36)","v":""},null,null,null,null,null,null,null,null,null,null,null,null,null,null,null,null,null,null,null,null,null,null,null,null,null,null,null,null,null,{"$f":"'1'!$AO$113","v":0},{"$f":"'1'!$AP$113","v":0},{"$f":"'1'!$AQ$113","v":0},{"$f":"'1'!$AR$113","v":0},{"$f":"'1'!$AS$113","v":0},{"$f":"'1'!$AT$113","v":0},1,{"$f":"VLOOKUP(BW130,Přehled!$C$5:$AL$24,36)","v":""},null,null,null,null,null,null,null,null,null,null,null,null,null,null,null,null,null,null,null,null,{"$f":"'1'!$BP$133","v":0},{"$f":"'1'!$BQ$133","v":0},{"$f":"'1'!$BR$133","v":0},{"$f":"'1'!$BS$133","v":0},{"$f":"'1'!$BT$133","v":0},{"$f":"'1'!$BU$133","v":0},1,{"$f":"VLOOKUP(CY130,Přehled!$C$5:$AL$24,36)","v":""},null,null,null,null,null,null,null,null,null,null,null,null,null,null,null,{"$f":"'1'!$CR$133","v":0},{"$f":"'1'!$CS$133","v":0},{"$f":"'1'!$CT$133","v":0},1,{"$f":"VLOOKUP(DS130,Přehled!$C$5:$AL$24,36)","v":""},null,null,null,null,null,null,null,null,null,null,null,null,null,null,null,{"$f":"'5'!$DO$9","v":0},{"$f":"'5'!$DP$9","v":0},{"$f":"'5'!$DQ$9","v":0},5,{"$f":"VLOOKUP(EM130,Přehled!$C$5:$AL$24,36)","v":""}]
[{"$f":"'2'!A33","v":0},{"$f":"'2'!B33","v":0},{"$f":"'2'!C33","v":0},{"$f":"SUMIF($B$5:$B$2024,Souhrn_hod[[#This Row],[Jméno]],$E$5:$E$2024)","v":0},{"$f":"'2'!D33","v":0},{"$f":"'2'!E33","v":0},{"$f":"'2'!F33","v":0},{"$f":"'2'!G33","v":0},{"$f":"'2'!H33","v":0},{"$f":"'2'!I33","v":0},{"$f":"'2'!J33","v":0},{"$f":"'2'!K33","v":0},{"$f":"'2'!L33","v":0},{"$f":"'2'!M33","v":0},{"$f":"'2'!N33","v":0},{"$f":"'2'!O33","v":0},{"$f":"'2'!P33","v":0},{"$f":"'2'!Q33","v":0},{"$f":"'2'!R33","v":0},{"$f":"'2'!S33","v":0},{"$f":"'2'!T33","v":0},{"$f":"'2'!U33","v":0},{"$f":"'2'!V33","v":0},{"$f":"'2'!W33","v":0},{"$f":"'2'!X33","v":0},{"$f":"'2'!Y33","v":0},{"$f":"'2'!Z33","v":0},{"$f":"'2'!AA33","v":0},{"$f":"'2'!AB33","v":0},{"$f":"'2'!AC33","v":0},{"$f":"'2'!AD33","v":0},{"$f":"'2'!AE33","v":0},{"$f":"'2'!AF33","v":0},{"$f":"'2'!AG33","v":0},{"$f":"'2'!AH33","v":0},{"$f":"'2'!AI33","v":0},{"$f":"'2'!AJ33","v":0},2,{"$f":"VLOOKUP(AL131,Přehled!$C$5:$AL$24,36)","v":""},null,null,null,null,null,null,null,null,null,null,null,null,null,null,null,null,null,null,null,null,null,null,null,null,null,null,null,null,null,{"$f":"'1'!$AO$134","v":0},{"$f":"'1'!$AP$134","v":0},{"$f":"'1'!$AQ$134","v":0},{"$f":"'1'!$AR$134","v":0},{"$f":"'1'!$AS$134","v":0},{"$f":"'1'!$AT$134","v":0},1,{"$f":"VLOOKUP(BW131,Přehled!$C$5:$AL$24,36)","v":""},null,null,null,null,null,null,null,null,null,null,null,null,null,null,null,null,null,null,null,null,{"$f":"'1'!$BP$134","v":0},{"$f":"'1'!$BQ$134","v":0},{"$f":"'1'!$BR$134","v":0},{"$f":"'1'!$BS$134","v":0},{"$f":"'1'!$BT$134","v":0},{"$f":"'1'!$BU$134","v":0},1,{"$f":"VLOOKUP(CY131,Přehled!$C$5:$AL$24,36)","v":""},null,null,null,null,null,null,null,null,null,null,null,null,null,null,null,{"$f":"'1'!$CR$134","v":0},{"$f":"'1'!$CS$134","v":0},{"$f":"'1'!$CT$134","v":0},1,{"$f":"VLOOKUP(DS131,Přehled!$C$5:$AL$24,36)","v":""},null,null,null,null,null,null,null,null,null,null,null,null,null,null,null,{"$f":"'5'!$DO$10","v":0},{"$f":"'5'!$DP$10","v":0},{"$f":"'5'!$DQ$10","v":0},5,{"$f":"VLOOKUP(EM131,Přehled!$C$5:$AL$24,36)","v":""}]
[{"$f":"'2'!A34","v":0},{"$f":"'2'!B34","v":0},{"$f":"'2'!C34","v":0},{"$f":"SUMIF($B$5:$B$2024,Souhrn_hod[[#This Row],[Jméno]],$E$5:$E$2024)","v":0},{"$f":"'2'!D34","v":0},{"$f":"'2'!E34","v":0},{"$f":"'2'!F34","v":0},{"$f":"'2'!G34","v":0},{"$f":"'2'!H34","v":0},{"$f":"'2'!I34","v":0},{"$f":"'2'!J34","v":0},{"$f":"'2'!K34","v":0},{"$f":"'2'!L34","v":0},{"$f":"'2'!M34","v":0},{"$f":"'2'!N34","v":0},{"$f":"'2'!O34","v":0},{"$f":"'2'!P34","v":0},{"$f":"'2'!Q34","v":0},{"$f":"'2'!R34","v":0},{"$f":"'2'!S34","v":0},{"$f":"'2'!T34","v":0},{"$f":"'2'!U34","v":0},{"$f":"'2'!V34","v":0},{"$f":"'2'!W34","v":0},{"$f":"'2'!X34","v":0},{"$f":"'2'!Y34","v":0},{"$f":"'2'!Z34","v":0},{"$f":"'2'!AA34","v":0},{"$f":"'2'!AB34","v":0},{"$f":"'2'!AC34","v":0},{"$f":"'2'!AD34","v":0},{"$f":"'2'!AE34","v":0},{"$f":"'2'!AF34","v":0},{"$f":"'2'!AG34","v":0},{"$f":"'2'!AH34","v":0},{"$f":"'2'!AI34","v":0},{"$f":"'2'!AJ34","v":0},2,{"$f":"VLOOKUP(AL132,Přehled!$C$5:$AL$24,36)","v":""},null,null,null,null,null,null,null,null,null,null,null,null,null,null,null,null,null,null,null,null,null,null,null,null,null,null,null,null,null,{"$f":"'1'!$AO$135","v":0},{"$f":"'1'!$AP$135","v":0},{"$f":"'1'!$AQ$135","v":0},{"$f":"'1'!$AR$135","v":0},{"$f":"'1'!$AS$135","v":0},{"$f":"'1'!$AT$135","v":0},1,{"$f":"VLOOKUP(BW132,Přehled!$C$5:$AL$24,36)","v":""},null,null,null,null,null,null,null,null,null,null,null,null,null,null,null,null,null,null,null,null,{"$f":"'1'!$BP$135","v":0},{"$f":"'1'!$BQ$135","v":0},{"$f":"'1'!$BR$135","v":0},{"$f":"'1'!$BS$135","v":0},{"$f":"'1'!$BT$135","v":0},{"$f":"'1'!$BU$135","v":0},1,{"$f":"VLOOKUP(CY132,Přehled!$C$5:$AL$24,36)","v":""},null,null,null,null,null,null,null,null,null,null,null,null,null,null,null,{"$f":"'1'!$CR$135","v":0},{"$f":"'1'!$CS$135","v":0},{"$f":"'1'!$CT$135","v":0},1,{"$f":"VLOOKUP(DS132,Přehled!$C$5:$AL$24,36)","v":""},null,null,null,null,null,null,null,null,null,null,null,null,null,null,null,{"$f":"'5'!$DO$11","v":0},{"$f":"'5'!$DP$11","v":0},{"$f":"'5'!$DQ$11","v":0},5,{"$f":"VLOOKUP(EM132,Přehled!$C$5:$AL$24,36)","v":""}]
[{"$f":"'2'!A35","v":0},{"$f":"'2'!B35","v":0},{"$f":"'2'!C35","v":0},{"$f":"SUMIF($B$5:$B$2024,Souhrn_hod[[#This Row],[Jméno]],$E$5:$E$2024)","v":0},{"$f":"'2'!D35","v":0},{"$f":"'2'!E35","v":0},{"$f":"'2'!F35","v":0},{"$f":"'2'!G35","v":0},{"$f":"'2'!H35","v":0},{"$f":"'2'!I35","v":0},{"$f":"'2'!J35","v":0},{"$f":"'2'!K35","v":0},{"$f":"'2'!L35","v":0},{"$f":"'2'!M35","v":0},{"$f":"'2'!N35","v":0},{"$f":"'2'!O35","v":0},{"$f":"'2'!P35","v":0},{"$f":"'2'!Q35","v":0},{"$f":"'2'!R35","v":0},{"$f":"'2'!S35","v":0},{"$f":"'2'!T35","v":0},{"$f":"'2'!U35","v":0},{"$f":"'2'!V35","v":0},{"$f":"'2'!W35","v":0},{"$f":"'2'!X35","v":0},{"$f":"'2'!Y35","v":0},{"$f":"'2'!Z35","v":0},{"$f":"'2'!AA35","v":0},{"$f":"'2'!AB35","v":0},{"$f":"'2'!AC35","v":0},{"$f":"'2'!AD35","v":0},{"$f":"'2'!AE35","v":0},{"$f":"'2'!AF35","v":0},{"$f":"'2'!AG35","v":0},{"$f":"'2'!AH35","v":0},{"$f":"'2'!AI35","v":0},{"$f":"'2'!AJ35","v":0},2,{"$f":"VLOOKUP(AL133,Přehled!$C$5:$AL$24,36)","v":""},null,null,null,null,null,null,null,null,null,null,null,null,null,null,null,null,null,null,null,null,null,null,null,null,null,null,null,null,null,{"$f":"'1'!$AO$136","v":0},{"$f":"'1'!$AP$136","v":0},{"$f":"'1'!$AQ$136","v":0},{"$f":"'1'!$AR$136","v":0},{"$f":"'1'!$AS$136","v":0},{"$f":"'1'!$AT$136","v":0},1,{"$f":"VLOOKUP(BW133,Přehled!$C$5:$AL$24,36)","v":""},null,null,null,null,null,null,null,null,null,null,null,null,null,null,null,null,null,null,null,null,{"$f":"'1'!$BP$136","v":0},{"$f":"'1'!$BQ$136","v":0},{"$f":"'1'!$BR$136","v":0},{"$f":"'1'!$BS$136","v":0},{"$f":"'1'!$BT$136","v":0},{"$f":"'1'!$BU$136","v":0},1,{"$f":"VLOOKUP(CY133,Přehled!$C$5:$AL$24,36)","v":""},null,null,null,null,null,null,null,null,null,null,null,null,null,null,null,{"$f":"'1'!$CR$136","v":0},{"$f":"'1'!$CS$136","v":0},{"$f":"'1'!$CT$136","v":0},1,{"$f":"VLOOKUP(DS133,Přehled!$C$5:$AL$24,36)","v":""},null,null,null,null,null,null,null,null,null,null,null,null,null,null,null,{"$f":"'5'!$DO$12","v":0},{"$f":"'5'!$DP$12","v":0},{"$f":"'5'!$DQ$12","v":0},5,{"$f":"VLOOKUP(EM133,Přehled!$C$5:$AL$24,36)","v":""}]
[{"$f":"'2'!A36","v":0},{"$f":"'2'!B36","v":0},{"$f":"'2'!C36","v":0},{"$f":"SUMIF($B$5:$B$2024,Souhrn_hod[[#This Row],[Jméno]],$E$5:$E$2024)","v":0},{"$f":"'2'!D36","v":0},{"$f":"'2'!E36","v":0},{"$f":"'2'!F36","v":0},{"$f":"'2'!G36","v":0},{"$f":"'2'!H36","v":0},{"$f":"'2'!I36","v":0},{"$f":"'2'!J36","v":0},{"$f":"'2'!K36","v":0},{"$f":"'2'!L36","v":0},{"$f":"'2'!M36","v":0},{"$f":"'2'!N36","v":0},{"$f":"'2'!O36","v":0},{"$f":"'2'!P36","v":0},{"$f":"'2'!Q36","v":0},{"$f":"'2'!R36","v":0},{"$f":"'2'!S36","v":0},{"$f":"'2'!T36","v":0},{"$f":"'2'!U36","v":0},{"$f":"'2'!V36","v":0},{"$f":"'2'!W36","v":0},{"$f":"'2'!X36","v":0},{"$f":"'2'!Y36","v":0},{"$f":"'2'!Z36","v":0},{"$f":"'2'!AA36","v":0},{"$f":"'2'!AB36","v":0},{"$f":"'2'!AC36","v":0},{"$f":"'2'!AD36","v":0},{"$f":"'2'!AE36","v":0},{"$f":"'2'!AF36","v":0},{"$f":"'2'!AG36","v":0},{"$f":"'2'!AH36","v":0},{"$f":"'2'!AI36","v":0},{"$f":"'2'!AJ36","v":0},2,{"$f":"VLOOKUP(AL134,Přehled!$C$5:$AL$24,36)","v":""},null,null,null,null,null,null,null,null,null,null,null,null,null,null,null,null,null,null,null,null,null,null,null,null,null,null,null,null,null,{"$f":"'1'!$AO$137","v":0},{"$f":"'1'!$AP$137","v":0},{"$f":"'1'!$AQ$137","v":0},{"$f":"'1'!$AR$137","v":0},{"$f":"'1'!$AS$137","v":0},{"$f":"'1'!$AT$137","v":0},1,{"$f":"VLOOKUP(BW134,Přehled!$C$5:$AL$24,36)","v":""},null,null,null,null,null,null,null,null,null,null,null,null,null,null,null,null,null,null,null,null,{"$f":"'1'!$BP$137","v":0},{"$f":"'1'!$BQ$137","v":0},{"$f":"'1'!$BR$137","v":0},{"$f":"'1'!$BS$137","v":0},{"$f":"'1'!$BT$137","v":0},{"$f":"'1'!$BU$137","v":0},1,{"$f":"VLOOKUP(CY134,Přehled!$C$5:$AL$24,36)","v":""},null,null,null,null,null,null,null,null,null,null,null,null,null,null,null,{"$f":"'1'!$CR$137","v":0},{"$f":"'1'!$CS$137","v":0},{"$f":"'1'!$CT$137","v":0},1,{"$f":"VLOOKUP(DS134,Přehled!$C$5:$AL$24,36)","v":""},null,null,null,null,null,null,null,null,null,null,null,null,null,null,null,{"$f":"'5'!$DO$13","v":0},{"$f":"'5'!$DP$13","v":0},{"$f":"'5'!$DQ$13","v":0},5,{"$f":"VLOOKUP(EM134,Přehled!$C$5:$AL$24,36)","v":""}]
[{"$f":"'2'!A37","v":0},{"$f":"'2'!B37","v":0},{"$f":"'2'!C37","v":0},{"$f":"SUMIF($B$5:$B$2024,Souhrn_hod[[#This Row],[Jméno]],$E$5:$E$2024)","v":0},{"$f":"'2'!D37","v":0},{"$f":"'2'!E37","v":0},{"$f":"'2'!F37","v":0},{"$f":"'2'!G37","v":0},{"$f":"'2'!H37","v":0},{"$f":"'2'!I37","v":0},{"$f":"'2'!J37","v":0},{"$f":"'2'!K37","v":0},{"$f":"'2'!L37","v":0},{"$f":"'2'!M37","v":0},{"$f":"'2'!N37","v":0},{"$f":"'2'!O37","v":0},{"$f":"'2'!P37","v":0},{"$f":"'2'!Q37","v":0},{"$f":"'2'!R37","v":0},{"$f":"'2'!S37","v":0},{"$f":"'2'!T37","v":0},{"$f":"'2'!U37","v":0},{"$f":"'2'!V37","v":0},{"$f":"'2'!W37","v":0},{"$f":"'2'!X37","v":0},{"$f":"'2'!Y37","v":0},{"$f":"'2'!Z37","v":0},{"$f":"'2'!AA37","v":0},{"$f":"'2'!AB37","v":0},{"$f":"'2'!AC37","v":0},{"$f":"'2'!AD37","v":0},{"$f":"'2'!AE37","v":0},{"$f":"'2'!AF37","v":0},{"$f":"'2'!AG37","v":0},{"$f":"'2'!AH37","v":0},{"$f":"'2'!AI37","v":0},{"$f":"'2'!AJ37","v":0},2,{"$f":"VLOOKUP(AL135,Přehled!$C$5:$AL$24,36)","v":""},null,null,null,null,null,null,null,null,null,null,null,null,null,null,null,null,null,null,null,null,null,null,null,null,null,null,null,null,null,{"$f":"'1'!$AO$118","v":0},{"$f":"'1'!$AP$118","v":0},{"$f":"'1'!$AQ$118","v":0},{"$f":"'1'!$AR$118","v":0},{"$f":"'1'!$AS$118","v":0},{"$f":"'1'!$AT$118","v":0},1,{"$f":"VLOOKUP(BW135,Přehled!$C$5:$AL$24,36)","v":""},null,null,null,null,null,null,null,null,null,null,null,null,null,null,null,null,null,null,null,null,{"$f":"'1'!$BP$138","v":0},{"$f":"'1'!$BQ$138","v":0},{"$f":"'1'!$BR$138","v":0},{"$f":"'1'!$BS$138","v":0},{"$f":"'1'!$BT$138","v":0},{"$f":"'1'!$BU$138","v":0},1,{"$f":"VLOOKUP(CY135,Přehled!$C$5:$AL$24,36)","v":""},null,null,null,null,null,null,null,null,null,null,null,null,null,null,null,{"$f":"'1'!$CR$138","v":0},{"$f":"'1'!$CS$138","v":0},{"$f":"'1'!$CT$138","v":0},1,{"$f":"VLOOKUP(DS135,Přehled!$C$5:$AL$24,36)","v":""},null,null,null,null,null,null,null,null,null,null,null,null,null,null,null,{"$f":"'5'!$DO$14","v":0},{"$f":"'5'!$DP$14","v":0},{"$f":"'5'!$DQ$14","v":0},5,{"$f":"VLOOKUP(EM135,Přehled!$C$5:$AL$24,36)","v":""}]
[{"$f":"'2'!A38","v":0},{"$f":"'2'!B38","v":0},{"$f":"'2'!C38","v":0},{"$f":"SUMIF($B$5:$B$2024,Souhrn_hod[[#This Row],[Jméno]],$E$5:$E$2024)","v":0},{"$f":"'2'!D38","v":0},{"$f":"'2'!E38","v":0},{"$f":"'2'!F38","v":0},{"$f":"'2'!G38","v":0},{"$f":"'2'!H38","v":0},{"$f":"'2'!I38","v":0},{"$f":"'2'!J38","v":0},{"$f":"'2'!K38","v":0},{"$f":"'2'!L38","v":0},{"$f":"'2'!M38","v":0},{"$f":"'2'!N38","v":0},{"$f":"'2'!O38","v":0},{"$f":"'2'!P38","v":0},{"$f":"'2'!Q38","v":0},{"$f":"'2'!R38","v":0},{"$f":"'2'!S38","v":0},{"$f":"'2'!T38","v":0},{"$f":"'2'!U38","v":0},{"$f":"'2'!V38","v":0},{"$f":"'2'!W38","v":0},{"$f":"'2'!X38","v":0},{"$f":"'2'!Y38","v":0},{"$f":"'2'!Z38","v":0},{"$f":"'2'!AA38","v":0},{"$f":"'2'!AB38","v":0},{"$f":"'2'!AC38","v":0},{"$f":"'2'!AD38","v":0},{"$f":"'2'!AE38","v":0},{"$f":"'2'!AF38","v":0},{"$f":"'2'!AG38","v":0},{"$f":"'2'!AH38","v":0},{"$f":"'2'!AI38","v":0},{"$f":"'2'!AJ38","v":0},2,{"$f":"VLOOKUP(AL136,Přehled!$C$5:$AL$24,36)","v":""},null,null,null,null,null,null,null,null,null,null,null,null,null,null,null,null,null,null,null,null,null,null,null,null,null,null,null,null,null,{"$f":"'1'!$AO$139","v":0},{"$f":"'1'!$AP$139","v":0},{"$f":"'1'!$AQ$139","v":0},{"$f":"'1'!$AR$139","v":0},{"$f":"'1'!$AS$139","v":0},{"$f":"'1'!$AT$139","v":0},1,{"$f":"VLOOKUP(BW136,Přehled!$C$5:$AL$24,36)","v":""},null,null,null,null,null,null,null,null,null,null,null,null,null,null,null,null,null,null,null,null,{"$f":"'1'!$BP$139","v":0},{"$f":"'1'!$BQ$139","v":0},{"$f":"'1'!$BR$139","v":0},{"$f":"'1'!$BS$139","v":0},{"$f":"'1'!$BT$139","v":0},{"$f":"'1'!$BU$139","v":0},1,{"$f":"VLOOKUP(CY136,Přehled!$C$5:$AL$24,36)","v":""},null,null,null,null,null,null,null,null,null,null,null,null,null,null,null,{"$f":"'1'!$CR$139","v":0},{"$f":"'1'!$CS$139","v":0},{"$f":"'1'!$CT$139","v":0},1,{"$f":"VLOOKUP(DS136,Přehled!$C$5:$AL$24,36)","v":""},null,null,null,null,null,null,null,null,null,null,null,null,null,null,null,{"$f":"'5'!$DO$15","v":0},{"$f":"'5'!$DP$15","v":0},{"$f":"'5'!$DQ$15","v":0},5,{"$f":"VLOOKUP(EM136,Přehled!$C$5:$AL$24,36)","v":""}]
[{"$f":"'2'!A39","v":0},{"$f":"'2'!B39","v":0},{"$f":"'2'!C39","v":0},{"$f":"SUMIF($B$5:$B$2024,Souhrn_hod[[#This Row],[Jméno]],$E$5:$E$2024)","v":0},{"$f":"'2'!D39","v":0},{"$f":"'2'!E39","v":0},{"$f":"'2'!F39","v":0},{"$f":"'2'!G39","v":0},{"$f":"'2'!H39","v":0},{"$f":"'2'!I39","v":0},{"$f":"'2'!J39","v":0},{"$f":"'2'!K39","v":0},{"$f":"'2'!L39","v":0},{"$f":"'2'!M39","v":0},{"$f":"'2'!N39","v":0},{"$f":"'2'!O39","v":0},{"$f":"'2'!P39","v":0},{"$f":"'2'!Q39","v":0},{"$f":"'2'!R39","v":0},{"$f":"'2'!S39","v":0},{"$f":"'2'!T39","v":0},{"$f":"'2'!U39","v":0},{"$f":"'2'!V39","v":0},{"$f":"'2'!W39","v":0},{"$f":"'2'!X39","v":0},{"$f":"'2'!Y39","v":0},{"$f":"'2'!Z39","v":0},{"$f":"'2'!AA39","v":0},{"$f":"'2'!AB39","v":0},{"$f":"'2'!AC39","v":0},{"$f":"'2'!AD39","v":0},{"$f":"'2'!AE39","v":0},{"$f":"'2'!AF39","v":0},{"$f":"'2'!AG39","v":0},{"$f":"'2'!AH39","v":0},{"$f":"'2'!AI39","v":0},{"$f":"'2'!AJ39","v":0},2,{"$f":"VLOOKUP(AL137,Přehled!$C$5:$AL$24,36)","v":""},null,null,null,null,null,null,null,null,null,null,null,null,null,null,null,null,null,null,null,null,null,null,null,null,null,null,null,null,null,{"$f":"'1'!$AO$140","v":0},{"$f":"'1'!$AP$140","v":0},{"$f":"'1'!$AQ$140","v":0},{"$f":"'1'!$AR$140","v":0},{"$f":"'1'!$AS$140","v":0},{"$f":"'1'!$AT$140","v":0},1,{"$f":"VLOOKUP(BW137,Přehled!$C$5:$AL$24,36)","v":""},null,null,null,null,null,null,null,null,null,null,null,null,null,null,null,null,null,null,null,null,{"$f":"'1'!$BP$140","v":0},{"$f":"'1'!$BQ$140","v":0},{"$f":"'1'!$BR$140","v":0},{"$f":"'1'!$BS$140","v":0},{"$f":"'1'!$BT$140","v":0},{"$f":"'1'!$BU$140","v":0},1,{"$f":"VLOOKUP(CY137,Přehled!$C$5:$AL$24,36)","v":""},null,null,null,null,null,null,null,null,null,null,null,null,null,null,null,{"$f":"'1'!$CR$140","v":0},{"$f":"'1'!$CS$140","v":0},{"$f":"'1'!$CT$140","v":0},1,{"$f":"VLOOKUP(DS137,Přehled!$C$5:$AL$24,36)","v":""},null,null,null,null,null,null,null,null,null,null,null,null,null,null,null,{"$f":"'5'!$DO$16","v":0},{"$f":"'5'!$DP$16","v":0},{"$f":"'5'!$DQ$16","v":0},5,{"$f":"VLOOKUP(EM137,Přehled!$C$5:$AL$24,36)","v":""}]
[{"$f":"'2'!A40","v":0},{"$f":"'2'!B40","v":0},{"$f":"'2'!C40","v":0},{"$f":"SUMIF($B$5:$B$2024,Souhrn_hod[[#This Row],[Jméno]],$E$5:$E$2024)","v":0},{"$f":"'2'!D40","v":0},{"$f":"'2'!E40","v":0},{"$f":"'2'!F40","v":0},{"$f":"'2'!G40","v":0},{"$f":"'2'!H40","v":0},{"$f":"'2'!I40","v":0},{"$f":"'2'!J40","v":0},{"$f":"'2'!K40","v":0},{"$f":"'2'!L40","v":0},{"$f":"'2'!M40","v":0},{"$f":"'2'!N40","v":0},{"$f":"'2'!O40","v":0},{"$f":"'2'!P40","v":0},{"$f":"'2'!Q40","v":0},{"$f":"'2'!R40","v":0},{"$f":"'2'!S40","v":0},{"$f":"'2'!T40","v":0},{"$f":"'2'!U40","v":0},{"$f":"'2'!V40","v":0},{"$f":"'2'!W40","v":0},{"$f":"'2'!X40","v":0},{"$f":"'2'!Y40","v":0},{"$f":"'2'!Z40","v":0},{"$f":"'2'!AA40","v":0},{"$f":"'2'!AB40","v":0},{"$f":"'2'!AC40","v":0},{"$f":"'2'!AD40","v":0},{"$f":"'2'!AE40","v":0},{"$f":"'2'!AF40","v":0},{"$f":"'2'!AG40","v":0},{"$f":"'2'!AH40","v":0},{"$f":"'2'!AI40","v":0},{"$f":"'2'!AJ40","v":0},2,{"$f":"VLOOKUP(AL138,Přehled!$C$5:$AL$24,36)","v":""},null,null,null,null,null,null,null,null,null,null,null,null,null,null,null,null,null,null,null,null,null,null,null,null,null,null,null,null,null,{"$f":"'1'!$AO$141","v":0},{"$f":"'1'!$AP$141","v":0},{"$f":"'1'!$AQ$141","v":0},{"$f":"'1'!$AR$141","v":0},{"$f":"'1'!$AS$141","v":0},{"$f":"'1'!$AT$141","v":0},1,{"$f":"VLOOKUP(BW138,Přehled!$C$5:$AL$24,36)","v":""},null,null,null,null,null,null,null,null,null,null,null,null,null,null,null,null,null,null,null,null,{"$f":"'1'!$BP$141","v":0},{"$f":"'1'!$BQ$141","v":0},{"$f":"'1'!$BR$141","v":0},{"$f":"'1'!$BS$141","v":0},{"$f":"'1'!$BT$141","v":0},{"$f":"'1'!$BU$141","v":0},1,{"$f":"VLOOKUP(CY138,Přehled!$C$5:$AL$24,36)","v":""},null,null,null,null,null,null,null,null,null,null,null,null,null,null,null,{"$f":"'1'!$CR$141","v":0},{"$f":"'1'!$CS$141","v":0},{"$f":"'1'!$CT$141","v":0},1,{"$f":"VLOOKUP(DS138,Přehled!$C$5:$AL$24,36)","v":""},null,null,null,null,null,null,null,null,null,null,null,null,null,null,null,{"$f":"'5'!$DO$17","v":0},{"$f":"'5'!$DP$17","v":0},{"$f":"'5'!$DQ$17","v":0},5,{"$f":"VLOOKUP(EM138,Přehled!$C$5:$AL$24,36)","v":""}]
[{"$f":"'2'!A41","v":0},{"$f":"'2'!B41","v":0},{"$f":"'2'!C41","v":0},{"$f":"SUMIF($B$5:$B$2024,Souhrn_hod[[#This Row],[Jméno]],$E$5:$E$2024)","v":0},{"$f":"'2'!D41","v":0},{"$f":"'2'!E41","v":0},{"$f":"'2'!F41","v":0},{"$f":"'2'!G41","v":0},{"$f":"'2'!H41","v":0},{"$f":"'2'!I41","v":0},{"$f":"'2'!J41","v":0},{"$f":"'2'!K41","v":0},{"$f":"'2'!L41","v":0},{"$f":"'2'!M41","v":0},{"$f":"'2'!N41","v":0},{"$f":"'2'!O41","v":0},{"$f":"'2'!P41","v":0},{"$f":"'2'!Q41","v":0},{"$f":"'2'!R41","v":0},{"$f":"'2'!S41","v":0},{"$f":"'2'!T41","v":0},{"$f":"'2'!U41","v":0},{"$f":"'2'!V41","v":0},{"$f":"'2'!W41","v":0},{"$f":"'2'!X41","v":0},{"$f":"'2'!Y41","v":0},{"$f":"'2'!Z41","v":0},{"$f":"'2'!AA41","v":0},{"$f":"'2'!AB41","v":0},{"$f":"'2'!AC41","v":0},{"$f":"'2'!AD41","v":0},{"$f":"'2'!AE41","v":0},{"$f":"'2'!AF41","v":0},{"$f":"'2'!AG41","v":0},{"$f":"'2'!AH41","v":0},{"$f":"'2'!AI41","v":0},{"$f":"'2'!AJ41","v":0},2,{"$f":"VLOOKUP(AL139,Přehled!$C$5:$AL$24,36)","v":""},null,null,null,null,null,null,null,null,null,null,null,null,null,null,null,null,null,null,null,null,null,null,null,null,null,null,null,null,null,{"$f":"'1'!$AO$142","v":0},{"$f":"'1'!$AP$142","v":0},{"$f":"'1'!$AQ$142","v":0},{"$f":"'1'!$AR$142","v":0},{"$f":"'1'!$AS$142","v":0},{"$f":"'1'!$AT$142","v":0},1,{"$f":"VLOOKUP(BW139,Přehled!$C$5:$AL$24,36)","v":""},null,null,null,null,null,null,null,null,null,null,null,null,null,null,null,null,null,null,null,null,{"$f":"'1'!$BP$142","v":0},{"$f":"'1'!$BQ$142","v":0},{"$f":"'1'!$BR$142","v":0},{"$f":"'1'!$BS$142","v":0},{"$f":"'1'!$BT$142","v":0},{"$f":"'1'!$BU$142","v":0},1,{"$f":"VLOOKUP(CY139,Přehled!$C$5:$AL$24,36)","v":""},null,null,null,null,null,null,null,null,null,null,null,null,null,null,null,{"$f":"'1'!$CR$142","v":0},{"$f":"'1'!$CS$142","v":0},{"$f":"'1'!$CT$142","v":0},1,{"$f":"VLOOKUP(DS139,Přehled!$C$5:$AL$24,36)","v":""},null,null,null,null,null,null,null,null,null,null,null,null,null,null,null,{"$f":"'5'!$DO$18","v":0},{"$f":"'5'!$DP$18","v":0},{"$f":"'5'!$DQ$18","v":0},5,{"$f":"VLOOKUP(EM139,Přehled!$C$5:$AL$24,36)","v":""}]
[{"$f":"'3'!A72","v":0},{"$f":"'3'!B72","v":0},{"$f":"'3'!C72","v":0},{"$f":"SUMIF($B$5:$B$2024,Souhrn_hod[[#This Row],[Jméno]],$E$5:$E$2024)","v":0},{"$f":"'3'!D72","v":0},{"$f":"'3'!E72","v":0},{"$f":"'3'!F72","v":0},{"$f":"'3'!G72","v":0},{"$f":"'3'!H72","v":0},{"$f":"'3'!I72","v":0},{"$f":"'3'!J72","v":0},{"$f":"'3'!K72","v":0},{"$f":"'3'!L72","v":0},{"$f":"'3'!M72","v":0},{"$f":"'3'!N72","v":0},{"$f":"'3'!O72","v":0},{"$f":"'3'!P72","v":0},{"$f":"'3'!Q72","v":0},{"$f":"'3'!R72","v":0},{"$f":"'3'!S72","v":0},{"$f":"'3'!T72","v":0},{"$f":"'3'!U72","v":0},{"$f":"'3'!V72","v":0},{"$f":"'3'!W72","v":0},{"$f":"'3'!X72","v":0},{"$f":"'3'!Y72","v":0},{"$f":"'3'!Z72","v":0},{"$f":"'3'!AA72","v":0},{"$f":"'3'!AB72","v":0},{"$f":"'3'!AC72","v":0},{"$f":"'3'!AD72","v":0},{"$f":"'3'!AE72","v":0},{"$f":"'3'!AF72","v":0},{"$f":"'3'!AG72","v":0},{"$f":"'3'!AH72","v":0},{"$f":"'3'!AI72","v":0},{"$f":"'3'!AJ72","v":0},3,{"$f":"VLOOKUP(AL140,Přehled!$C$5:$AL$24,36)","v":""},null,null,null,null,null,null,null,null,null,null,null,null,null,null,null,null,null,null,null,null,null,null,null,null,null,null,null,null,null,{"$f":"'1'!$AO$123","v":0},{"$f":"'1'!$AP$123","v":0},{"$f":"'1'!$AQ$123","v":0},{"$f":"'1'!$AR$123","v":0},{"$f":"'1'!$AS$123","v":0},{"$f":"'1'!$AT$123","v":0},1,{"$f":"VLOOKUP(BW140,Přehled!$C$5:$AL$24,36)","v":""},null,null,null,null,null,null,null,null,null,null,null,null,null,null,null,null,null,null,null,null,{"$f":"'1'!$BP$143","v":0},{"$f":"'1'!$BQ$143","v":0},{"$f":"'1'!$BR$143","v":0},{"$f":"'1'!$BS$143","v":0},{"$f":"'1'!$BT$143","v":0},{"$f":"'1'!$BU$143","v":0},1,{"$f":"VLOOKUP(CY140,Přehled!$C$5:$AL$24,36)","v":""},null,null,null,null,null,null,null,null,null,null,null,null,null,null,null,{"$f":"'1'!$CR$143","v":0},{"$f":"'1'!$CS$143","v":0},{"$f":"'1'!$CT$143","v":0},1,{"$f":"VLOOKUP(DS140,Přehled!$C$5:$AL$24,36)","v":""},null,null,null,null,null,null,null,null,null,null,null,null,null,null,null,{"$f":"'5'!$DO$19","v":0},{"$f":"'5'!$DP$19","v":0},{"$f":"'5'!$DQ$19","v":0},5,{"$f":"VLOOKUP(EM140,Přehled!$C$5:$AL$24,36)","v":""}]
[{"$f":"'2'!A43","v":0},{"$f":"'2'!B43","v":0},{"$f":"'2'!C43","v":0},{"$f":"SUMIF($B$5:$B$2024,Souhrn_hod[[#This Row],[Jméno]],$E$5:$E$2024)","v":0},{"$f":"'2'!D43","v":0},{"$f":"'2'!E43","v":0},{"$f":"'2'!F43","v":0},{"$f":"'2'!G43","v":0},{"$f":"'2'!H43","v":0},{"$f":"'2'!I43","v":0},{"$f":"'2'!J43","v":0},{"$f":"'2'!K43","v":0},{"$f":"'2'!L43","v":0},{"$f":"'2'!M43","v":0},{"$f":"'2'!N43","v":0},{"$f":"'2'!O43","v":0},{"$f":"'2'!P43","v":0},{"$f":"'2'!Q43","v":0},{"$f":"'2'!R43","v":0},{"$f":"'2'!S43","v":0},{"$f":"'2'!T43","v":0},{"$f":"'2'!U43","v":0},{"$f":"'2'!V43","v":0},{"$f":"'2'!W43","v":0},{"$f":"'2'!X43","v":0},{"$f":"'2'!Y43","v":0},{"$f":"'2'!Z43","v":0},{"$f":"'2'!AA43","v":0},{"$f":"'2'!AB43","v":0},{"$f":"'2'!AC43","v":0},{"$f":"'2'!AD43","v":0},{"$f":"'2'!AE43","v":0},{"$f":"'2'!AF43","v":0},{"$f":"'2'!AG43","v":0},{"$f":"'2'!AH43","v":0},{"$f":"'2'!AI43","v":0},{"$f":"'2'!AJ43","v":0},2,{"$f":"VLOOKUP(AL141,Přehled!$C$5:$AL$24,36)","v":""},null,null,null,null,null,null,null,null,null,null,null,null,null,null,null,null,null,null,null,null,null,null,null,null,null,null,null,null,null,{"$f":"'1'!$AO$144","v":0},{"$f":"'1'!$AP$144","v":0},{"$f":"'1'!$AQ$144","v":0},{"$f":"'1'!$AR$144","v":0},{"$f":"'1'!$AS$144","v":0},{"$f":"'1'!$AT$144","v":0},1,{"$f":"VLOOKUP(BW141,Přehled!$C$5:$AL$24,36)","v":""},null,null,null,null,null,null,null,null,null,null,null,null,null,null,null,null,null,null,null,null,{"$f":"'1'!$BP$144","v":0},{"$f":"'1'!$BQ$144","v":0},{"$f":"'1'!$BR$144","v":0},{"$f":"'1'!$BS$144","v":0},{"$f":"'1'!$BT$144","v":0},{"$f":"'1'!$BU$144","v":0},1,{"$f":"VLOOKUP(CY141,Přehled!$C$5:$AL$24,36)","v":""},null,null,null,null,null,null,null,null,null,null,null,null,null,null,null,{"$f":"'1'!$CR$144","v":0},{"$f":"'1'!$CS$144","v":0},{"$f":"'1'!$CT$144","v":0},1,{"$f":"VLOOKUP(DS141,Přehled!$C$5:$AL$24,36)","v":""},null,null,null,null,null,null,null,null,null,null,null,null,null,null,null,{"$f":"'5'!$DO$20","v":0},{"$f":"'5'!$DP$20","v":0},{"$f":"'5'!$DQ$20","v":0},5,{"$f":"VLOOKUP(EM141,Přehled!$C$5:$AL$24,36)","v":""}]
[{"$f":"'2'!A44","v":0},{"$f":"'2'!B44","v":0},{"$f":"'2'!C44","v":0},{"$f":"SUMIF($B$5:$B$2024,Souhrn_hod[[#This Row],[Jméno]],$E$5:$E$2024)","v":0},{"$f":"'2'!D44","v":0},{"$f":"'2'!E44","v":0},{"$f":"'2'!F44","v":0},{"$f":"'2'!G44","v":0},{"$f":"'2'!H44","v":0},{"$f":"'2'!I44","v":0},{"$f":"'2'!J44","v":0},{"$f":"'2'!K44","v":0},{"$f":"'2'!L44","v":0},{"$f":"'2'!M44","v":0},{"$f":"'2'!N44","v":0},{"$f":"'2'!O44","v":0},{"$f":"'2'!P44","v":0},{"$f":"'2'!Q44","v":0},{"$f":"'2'!R44","v":0},{"$f":"'2'!S44","v":0},{"$f":"'2'!T44","v":0},{"$f":"'2'!U44","v":0},{"$f":"'2'!V44","v":0},{"$f":"'2'!W44","v":0},{"$f":"'2'!X44","v":0},{"$f":"'2'!Y44","v":0},{"$f":"'2'!Z44","v":0},{"$f":"'2'!AA44","v":0},{"$f":"'2'!AB44","v":0},{"$f":"'2'!AC44","v":0},{"$f":"'2'!AD44","v":0},{"$f":"'2'!AE44","v":0},{"$f":"'2'!AF44","v":0},{"$f":"'2'!AG44","v":0},{"$f":"'2'!AH44","v":0},{"$f":"'2'!AI44","v":0},{"$f":"'2'!AJ44","v":0},2,{"$f":"VLOOKUP(AL142,Přehled!$C$5:$AL$24,36)","v":""},null,null,null,null,null,null,null,null,null,null,null,null,null,null,null,null,null,null,null,null,null,null,null,null,null,null,null,null,null,{"$f":"'1'!$AO$145","v":0},{"$f":"'1'!$AP$145","v":0},{"$f":"'1'!$AQ$145","v":0},{"$f":"'1'!$AR$145","v":0},{"$f":"'1'!$AS$145","v":0},{"$f":"'1'!$AT$145","v":0},1,{"$f":"VLOOKUP(BW142,Přehled!$C$5:$AL$24,36)","v":""},null,null,null,null,null,null,null,null,null,null,null,null,null,null,null,null,null,null,null,null,{"$f":"'1'!$BP$145","v":0},{"$f":"'1'!$BQ$145","v":0},{"$f":"'1'!$BR$145","v":0},{"$f":"'1'!$BS$145","v":0},{"$f":"'1'!$BT$145","v":0},{"$f":"'1'!$BU$145","v":0},1,{"$f":"VLOOKUP(CY142,Přehled!$C$5:$AL$24,36)","v":""},null,null,null,null,null,null,null,null,null,null,null,null,null,null,null,{"$f":"'1'!$CR$145","v":0},{"$f":"'1'!$CS$145","v":0},{"$f":"'1'!$CT$145","v":0},1,{"$f":"VLOOKUP(DS142,Přehled!$C$5:$AL$24,36)","v":""},null,null,null,null,null,null,null,null,null,null,null,null,null,null,null,{"$f":"'5'!$DO$21","v":0},{"$f":"'5'!$DP$21","v":0},{"$f":"'5'!$DQ$21","v":0},5,{"$f":"VLOOKUP(EM142,Přehled!$C$5:$AL$24,36)","v":""}]
[{"$f":"'2'!A45","v":0},{"$f":"'2'!B45","v":0},{"$f":"'2'!C45","v":0},{"$f":"SUMIF($B$5:$B$2024,Souhrn_hod[[#This Row],[Jméno]],$E$5:$E$2024)","v":0},{"$f":"'2'!D45","v":0},{"$f":"'2'!E45","v":0},{"$f":"'2'!F45","v":0},{"$f":"'2'!G45","v":0},{"$f":"'2'!H45","v":0},{"$f":"'2'!I45","v":0},{"$f":"'2'!J45","v":0},{"$f":"'2'!K45","v":0},{"$f":"'2'!L45","v":0},{"$f":"'2'!M45","v":0},{"$f":"'2'!N45","v":0},{"$f":"'2'!O45","v":0},{"$f":"'2'!P45","v":0},{"$f":"'2'!Q45","v":0},{"$f":"'2'!R45","v":0},{"$f":"'2'!S45","v":0},{"$f":"'2'!T45","v":0},{"$f":"'2'!U45","v":0},{"$f":"'2'!V45","v":0},{"$f":"'2'!W45","v":0},{"$f":"'2'!X45","v":0},{"$f":"'2'!Y45","v":0},{"$f":"'2'!Z45","v":0},{"$f":"'2'!AA45","v":0},{"$f":"'2'!AB45","v":0},{"$f":"'2'!AC45","v":0},{"$f":"'2'!AD45","v":0},{"$f":"'2'!AE45","v":0},{"$f":"'2'!AF45","v":0},{"$f":"'2'!AG45","v":0},{"$f":"'2'!AH45","v":0},{"$f":"'2'!AI45","v":0},{"$f":"'2'!AJ45","v":0},2,{"$f":"VLOOKUP(AL143,Přehled!$C$5:$AL$24,36)","v":""},null,null,null,null,null,null,null,null,null,null,null,null,null,null,null,null,null,null,null,null,null,null,null,null,null,null,null,null,null,{"$f":"'1'!$AO$146","v":0},{"$f":"'1'!$AP$146","v":0},{"$f":"'1'!$AQ$146","v":0},{"$f":"'1'!$AR$146","v":0},{"$f":"'1'!$AS$146","v":0},{"$f":"'1'!$AT$146","v":0},1,{"$f":"VLOOKUP(BW143,Přehled!$C$5:$AL$24,36)","v":""},null,null,null,null,null,null,null,null,null,null,null,null,null,null,null,null,null,null,null,null,{"$f":"'1'!$BP$146","v":0},{"$f":"'1'!$BQ$146","v":0},{"$f":"'1'!$BR$146","v":0},{"$f":"'1'!$BS$146","v":0},{"$f":"'1'!$BT$146","v":0},{"$f":"'1'!$BU$146","v":0},1,{"$f":"VLOOKUP(CY143,Přehled!$C$5:$AL$24,36)","v":""},null,null,null,null,null,null,null,null,null,null,null,null,null,null,null,{"$f":"'1'!$CR$146","v":0},{"$f":"'1'!$CS$146","v":0},{"$f":"'1'!$CT$146","v":0},1,{"$f":"VLOOKUP(DS143,Přehled!$C$5:$AL$24,36)","v":""},null,null,null,null,null,null,null,null,null,null,null,null,null,null,null,{"$f":"'5'!$DO$22","v":0},{"$f":"'5'!$DP$22","v":0},{"$f":"'5'!$DQ$22","v":0},5,{"$f":"VLOOKUP(EM143,Přehled!$C$5:$AL$24,36)","v":""}]
[{"$f":"'2'!A46","v":0},{"$f":"'2'!B46","v":0},{"$f":"'2'!C46","v":0},{"$f":"SUMIF($B$5:$B$2024,Souhrn_hod[[#This Row],[Jméno]],$E$5:$E$2024)","v":0},{"$f":"'2'!D46","v":0},{"$f":"'2'!E46","v":0},{"$f":"'2'!F46","v":0},{"$f":"'2'!G46","v":0},{"$f":"'2'!H46","v":0},{"$f":"'2'!I46","v":0},{"$f":"'2'!J46","v":0},{"$f":"'2'!K46","v":0},{"$f":"'2'!L46","v":0},{"$f":"'2'!M46","v":0},{"$f":"'2'!N46","v":0},{"$f":"'2'!O46","v":0},{"$f":"'2'!P46","v":0},{"$f":"'2'!Q46","v":0},{"$f":"'2'!R46","v":0},{"$f":"'2'!S46","v":0},{"$f":"'2'!T46","v":0},{"$f":"'2'!U46","v":0},{"$f":"'2'!V46","v":0},{"$f":"'2'!W46","v":0},{"$f":"'2'!X46","v":0},{"$f":"'2'!Y46","v":0},{"$f":"'2'!Z46","v":0},{"$f":"'2'!AA46","v":0},{"$f":"'2'!AB46","v":0},{"$f":"'2'!AC46","v":0},{"$f":"'2'!AD46","v":0},{"$f":"'2'!AE46","v":0},{"$f":"'2'!AF46","v":0},{"$f":"'2'!AG46","v":0},{"$f":"'2'!AH46","v":0},{"$f":"'2'!AI46","v":0},{"$f":"'2'!AJ46","v":0},2,{"$f":"VLOOKUP(AL144,Přehled!$C$5:$AL$24,36)","v":""},null,null,null,null,null,null,null,null,null,null,null,null,null,null,null,null,null,null,null,null,null,null,null,null,null,null,null,null,null,{"$f":"'1'!$AO$147","v":0},{"$f":"'1'!$AP$147","v":0},{"$f":"'1'!$AQ$147","v":0},{"$f":"'1'!$AR$147","v":0},{"$f":"'1'!$AS$147","v":0},{"$f":"'1'!$AT$147","v":0},1,{"$f":"VLOOKUP(BW144,Přehled!$C$5:$AL$24,36)","v":""},null,null,null,null,null,null,null,null,null,null,null,null,null,null,null,null,null,null,null,null,{"$f":"'1'!$BP$147","v":0},{"$f":"'1'!$BQ$147","v":0},{"$f":"'1'!$BR$147","v":0},{"$f":"'1'!$BS$147","v":0},{"$f":"'1'!$BT$147","v":0},{"$f":"'1'!$BU$147","v":0},1,{"$f":"VLOOKUP(CY144,Přehled!$C$5:$AL$24,36)","v":""},null,null,null,null,null,null,null,null,null,null,null,null,null,null,null,{"$f":"'1'!$CR$147","v":0},{"$f":"'1'!$CS$147","v":0},{"$f":"'1'!$CT$147","v":0},1,{"$f":"VLOOKUP(DS144,Přehled!$C$5:$AL$24,36)","v":""},null,null,null,null,null,null,null,null,null,null,null,null,null,null,null,{"$f":"'5'!$DO$23","v":0},{"$f":"'5'!$DP$23","v":0},{"$f":"'5'!$DQ$23","v":0},5,{"$f":"VLOOKUP(EM144,Přehled!$C$5:$AL$24,36)","v":""}]
[{"$f":"'2'!A47","v":0},{"$f":"'2'!B47","v":0},{"$f":"'2'!C47","v":0},{"$f":"SUMIF($B$5:$B$2024,Souhrn_hod[[#This Row],[Jméno]],$E$5:$E$2024)","v":0},{"$f":"'2'!D47","v":0},{"$f":"'2'!E47","v":0},{"$f":"'2'!F47","v":0},{"$f":"'2'!G47","v":0},{"$f":"'2'!H47","v":0},{"$f":"'2'!I47","v":0},{"$f":"'2'!J47","v":0},{"$f":"'2'!K47","v":0},{"$f":"'2'!L47","v":0},{"$f":"'2'!M47","v":0},{"$f":"'2'!N47","v":0},{"$f":"'2'!O47","v":0},{"$f":"'2'!P47","v":0},{"$f":"'2'!Q47","v":0},{"$f":"'2'!R47","v":0},{"$f":"'2'!S47","v":0},{"$f":"'2'!T47","v":0},{"$f":"'2'!U47","v":0},{"$f":"'2'!V47","v":0},{"$f":"'2'!W47","v":0},{"$f":"'2'!X47","v":0},{"$f":"'2'!Y47","v":0},{"$f":"'2'!Z47","v":0},{"$f":"'2'!AA47","v":0},{"$f":"'2'!AB47","v":0},{"$f":"'2'!AC47","v":0},{"$f":"'2'!AD47","v":0},{"$f":"'2'!AE47","v":0},{"$f":"'2'!AF47","v":0},{"$f":"'2'!AG47","v":0},{"$f":"'2'!AH47","v":0},{"$f":"'2'!AI47","v":0},{"$f":"'2'!AJ47","v":0},2,{"$f":"VLOOKUP(AL145,Přehled!$C$5:$AL$24,36)","v":""},null,null,null,null,null,null,null,null,null,null,null,null,null,null,null,null,null,null,null,null,null,null,null,null,null,null,null,null,null,{"$f":"'1'!$AO$128","v":0},{"$f":"'1'!$AP$128","v":0},{"$f":"'1'!$AQ$128","v":0},{"$f":"'1'!$AR$128","v":0},{"$f":"'1'!$AS$128","v":0},{"$f":"'1'!$AT$128","v":0},1,{"$f":"VLOOKUP(BW145,Přehled!$C$5:$AL$24,36)","v":""},null,null,null,null,null,null,null,null,null,null,null,null,null,null,null,null,null,null,null,null,{"$f":"'1'!$BP$148","v":0},{"$f":"'1'!$BQ$148","v":0},{"$f":"'1'!$BR$148","v":0},{"$f":"'1'!$BS$148","v":0},{"$f":"'1'!$BT$148","v":0},{"$f":"'1'!$BU$148","v":0},1,{"$f":"VLOOKUP(CY145,Přehled!$C$5:$AL$24,36)","v":""},null,null,null,null,null,null,null,null,null,null,null,null,null,null,null,{"$f":"'1'!$CR$148","v":0},{"$f":"'1'!$CS$148","v":0},{"$f":"'1'!$CT$148","v":0},1,{"$f":"VLOOKUP(DS145,Přehled!$C$5:$AL$24,36)","v":""},null,null,null,null,null,null,null,null,null,null,null,null,null,null,null,{"$f":"'5'!$DO$24","v":0},{"$f":"'5'!$DP$24","v":0},{"$f":"'5'!$DQ$24","v":0},5,{"$f":"VLOOKUP(EM145,Přehled!$C$5:$AL$24,36)","v":""}]
[{"$f":"'2'!A48","v":0},{"$f":"'2'!B48","v":0},{"$f":"'2'!C48","v":0},{"$f":"SUMIF($B$5:$B$2024,Souhrn_hod[[#This Row],[Jméno]],$E$5:$E$2024)","v":0},{"$f":"'2'!D48","v":0},{"$f":"'2'!E48","v":0},{"$f":"'2'!F48","v":0},{"$f":"'2'!G48","v":0},{"$f":"'2'!H48","v":0},{"$f":"'2'!I48","v":0},{"$f":"'2'!J48","v":0},{"$f":"'2'!K48","v":0},{"$f":"'2'!L48","v":0},{"$f":"'2'!M48","v":0},{"$f":"'2'!N48","v":0},{"$f":"'2'!O48","v":0},{"$f":"'2'!P48","v":0},{"$f":"'2'!Q48","v":0},{"$f":"'2'!R48","v":0},{"$f":"'2'!S48","v":0},{"$f":"'2'!T48","v":0},{"$f":"'2'!U48","v":0},{"$f":"'2'!V48","v":0},{"$f":"'2'!W48","v":0},{"$f":"'2'!X48","v":0},{"$f":"'2'!Y48","v":0},{"$f":"'2'!Z48","v":0},{"$f":"'2'!AA48","v":0},{"$f":"'2'!AB48","v":0},{"$f":"'2'!AC48","v":0},{"$f":"'2'!AD48","v":0},{"$f":"'2'!AE48","v":0},{"$f":"'2'!AF48","v":0},{"$f":"'2'!AG48","v":0},{"$f":"'2'!AH48","v":0},{"$f":"'2'!AI48","v":0},{"$f":"'2'!AJ48","v":0},2,{"$f":"VLOOKUP(AL146,Přehled!$C$5:$AL$24,36)","v":""},null,null,null,null,null,null,null,null,null,null,null,null,null,null,null,null,null,null,null,null,null,null,null,null,null,null,null,null,null,{"$f":"'1'!$AO$149","v":0},{"$f":"'1'!$AP$149","v":0},{"$f":"'1'!$AQ$149","v":0},{"$f":"'1'!$AR$149","v":0},{"$f":"'1'!$AS$149","v":0},{"$f":"'1'!$AT$149","v":0},1,{"$f":"VLOOKUP(BW146,Přehled!$C$5:$AL$24,36)","v":""},null,null,null,null,null,null,null,null,null,null,null,null,null,null,null,null,null,null,null,null,{"$f":"'1'!$BP$149","v":0},{"$f":"'1'!$BQ$149","v":0},{"$f":"'1'!$BR$149","v":0},{"$f":"'1'!$BS$149","v":0},{"$f":"'1'!$BT$149","v":0},{"$f":"'1'!$BU$149","v":0},1,{"$f":"VLOOKUP(CY146,Přehled!$C$5:$AL$24,36)","v":""},null,null,null,null,null,null,null,null,null,null,null,null,null,null,null,{"$f":"'1'!$CR$149","v":0},{"$f":"'1'!$CS$149","v":0},{"$f":"'1'!$CT$149","v":0},1,{"$f":"VLOOKUP(DS146,Přehled!$C$5:$AL$24,36)","v":""},null,null,null,null,null,null,null,null,null,null,null,null,null,null,null,{"$f":"'5'!$DO$25","v":0},{"$f":"'5'!$DP$25","v":0},{"$f":"'5'!$DQ$25","v":0},5,{"$f":"VLOOKUP(EM146,Přehled!$C$5:$AL$24,36)","v":""}]
[{"$f":"'2'!A49","v":0},{"$f":"'2'!B49","v":0},{"$f":"'2'!C49","v":0},{"$f":"SUMIF($B$5:$B$2024,Souhrn_hod[[#This Row],[Jméno]],$E$5:$E$2024)","v":0},{"$f":"'2'!D49","v":0},{"$f":"'2'!E49","v":0},{"$f":"'2'!F49","v":0},{"$f":"'2'!G49","v":0},{"$f":"'2'!H49","v":0},{"$f":"'2'!I49","v":0},{"$f":"'2'!J49","v":0},{"$f":"'2'!K49","v":0},{"$f":"'2'!L49","v":0},{"$f":"'2'!M49","v":0},{"$f":"'2'!N49","v":0},{"$f":"'2'!O49","v":0},{"$f":"'2'!P49","v":0},{"$f":"'2'!Q49","v":0},{"$f":"'2'!R49","v":0},{"$f":"'2'!S49","v":0},{"$f":"'2'!T49","v":0},{"$f":"'2'!U49","v":0},{"$f":"'2'!V49","v":0},{"$f":"'2'!W49","v":0},{"$f":"'2'!X49","v":0},{"$f":"'2'!Y49","v":0},{"$f":"'2'!Z49","v":0},{"$f":"'2'!AA49","v":0},{"$f":"'2'!AB49","v":0},{"$f":"'2'!AC49","v":0},{"$f":"'2'!AD49","v":0},{"$f":"'2'!AE49","v":0},{"$f":"'2'!AF49","v":0},{"$f":"'2'!AG49","v":0},{"$f":"'2'!AH49","v":0},{"$f":"'2'!AI49","v":0},{"$f":"'2'!AJ49","v":0},2,{"$f":"VLOOKUP(AL147,Přehled!$C$5:$AL$24,36)","v":""},null,null,null,null,null,null,null,null,null,null,null,null,null,null,null,null,null,null,null,null,null,null,null,null,null,null,null,null,null,{"$f":"'1'!$AO$150","v":0},{"$f":"'1'!$AP$150","v":0},{"$f":"'1'!$AQ$150","v":0},{"$f":"'1'!$AR$150","v":0},{"$f":"'1'!$AS$150","v":0},{"$f":"'1'!$AT$150","v":0},1,{"$f":"VLOOKUP(BW147,Přehled!$C$5:$AL$24,36)","v":""},null,null,null,null,null,null,null,null,null,null,null,null,null,null,null,null,null,null,null,null,{"$f":"'1'!$BP$150","v":0},{"$f":"'1'!$BQ$150","v":0},{"$f":"'1'!$BR$150","v":0},{"$f":"'1'!$BS$150","v":0},{"$f":"'1'!$BT$150","v":0},{"$f":"'1'!$BU$150","v":0},1,{"$f":"VLOOKUP(CY147,Přehled!$C$5:$AL$24,36)","v":""},null,null,null,null,null,null,null,null,null,null,null,null,null,null,null,{"$f":"'1'!$CR$150","v":0},{"$f":"'1'!$CS$150","v":0},{"$f":"'1'!$CT$150","v":0},1,{"$f":"VLOOKUP(DS147,Přehled!$C$5:$AL$24,36)","v":""},null,null,null,null,null,null,null,null,null,null,null,null,null,null,null,{"$f":"'5'!$DO$26","v":0},{"$f":"'5'!$DP$26","v":0},{"$f":"'5'!$DQ$26","v":0},5,{"$f":"VLOOKUP(EM147,Přehled!$C$5:$AL$24,36)","v":""}]
[{"$f":"'2'!A50","v":0},{"$f":"'2'!B50","v":0},{"$f":"'2'!C50","v":0},{"$f":"SUMIF($B$5:$B$2024,Souhrn_hod[[#This Row],[Jméno]],$E$5:$E$2024)","v":0},{"$f":"'2'!D50","v":0},{"$f":"'2'!E50","v":0},{"$f":"'2'!F50","v":0},{"$f":"'2'!G50","v":0},{"$f":"'2'!H50","v":0},{"$f":"'2'!I50","v":0},{"$f":"'2'!J50","v":0},{"$f":"'2'!K50","v":0},{"$f":"'2'!L50","v":0},{"$f":"'2'!M50","v":0},{"$f":"'2'!N50","v":0},{"$f":"'2'!O50","v":0},{"$f":"'2'!P50","v":0},{"$f":"'2'!Q50","v":0},{"$f":"'2'!R50","v":0},{"$f":"'2'!S50","v":0},{"$f":"'2'!T50","v":0},{"$f":"'2'!U50","v":0},{"$f":"'2'!V50","v":0},{"$f":"'2'!W50","v":0},{"$f":"'2'!X50","v":0},{"$f":"'2'!Y50","v":0},{"$f":"'2'!Z50","v":0},{"$f":"'2'!AA50","v":0},{"$f":"'2'!AB50","v":0},{"$f":"'2'!AC50","v":0},{"$f":"'2'!AD50","v":0},{"$f":"'2'!AE50","v":0},{"$f":"'2'!AF50","v":0},{"$f":"'2'!AG50","v":0},{"$f":"'2'!AH50","v":0},{"$f":"'2'!AI50","v":0},{"$f":"'2'!AJ50","v":0},2,{"$f":"VLOOKUP(AL148,Přehled!$C$5:$AL$24,36)","v":""},null,null,null,null,null,null,null,null,null,null,null,null,null,null,null,null,null,null,null,null,null,null,null,null,null,null,null,null,null,{"$f":"'1'!$AO$151","v":0},{"$f":"'1'!$AP$151","v":0},{"$f":"'1'!$AQ$151","v":0},{"$f":"'1'!$AR$151","v":0},{"$f":"'1'!$AS$151","v":0},{"$f":"'1'!$AT$151","v":0},1,{"$f":"VLOOKUP(BW148,Přehled!$C$5:$AL$24,36)","v":""},null,null,null,null,null,null,null,null,null,null,null,null,null,null,null,null,null,null,null,null,{"$f":"'1'!$BP$151","v":0},{"$f":"'1'!$BQ$151","v":0},{"$f":"'1'!$BR$151","v":0},{"$f":"'1'!$BS$151","v":0},{"$f":"'1'!$BT$151","v":0},{"$f":"'1'!$BU$151","v":0},1,{"$f":"VLOOKUP(CY148,Přehled!$C$5:$AL$24,36)","v":""},null,null,null,null,null,null,null,null,null,null,null,null,null,null,null,{"$f":"'1'!$CR$151","v":0},{"$f":"'1'!$CS$151","v":0},{"$f":"'1'!$CT$151","v":0},1,{"$f":"VLOOKUP(DS148,Přehled!$C$5:$AL$24,36)","v":""},null,null,null,null,null,null,null,null,null,null,null,null,null,null,null,{"$f":"'5'!$DO$27","v":0},{"$f":"'5'!$DP$27","v":0},{"$f":"'5'!$DQ$27","v":0},5,{"$f":"VLOOKUP(EM148,Přehled!$C$5:$AL$24,36)","v":""}]
[{"$f":"'2'!A51","v":0},{"$f":"'2'!B51","v":0},{"$f":"'2'!C51","v":0},{"$f":"SUMIF($B$5:$B$2024,Souhrn_hod[[#This Row],[Jméno]],$E$5:$E$2024)","v":0},{"$f":"'2'!D51","v":0},{"$f":"'2'!E51","v":0},{"$f":"'2'!F51","v":0},{"$f":"'2'!G51","v":0},{"$f":"'2'!H51","v":0},{"$f":"'2'!I51","v":0},{"$f":"'2'!J51","v":0},{"$f":"'2'!K51","v":0},{"$f":"'2'!L51","v":0},{"$f":"'2'!M51","v":0},{"$f":"'2'!N51","v":0},{"$f":"'2'!O51","v":0},{"$f":"'2'!P51","v":0},{"$f":"'2'!Q51","v":0},{"$f":"'2'!R51","v":0},{"$f":"'2'!S51","v":0},{"$f":"'2'!T51","v":0},{"$f":"'2'!U51","v":0},{"$f":"'2'!V51","v":0},{"$f":"'2'!W51","v":0},{"$f":"'2'!X51","v":0},{"$f":"'2'!Y51","v":0},{"$f":"'2'!Z51","v":0},{"$f":"'2'!AA51","v":0},{"$f":"'2'!AB51","v":0},{"$f":"'2'!AC51","v":0},{"$f":"'2'!AD51","v":0},{"$f":"'2'!AE51","v":0},{"$f":"'2'!AF51","v":0},{"$f":"'2'!AG51","v":0},{"$f":"'2'!AH51","v":0},{"$f":"'2'!AI51","v":0},{"$f":"'2'!AJ51","v":0},2,{"$f":"VLOOKUP(AL149,Přehled!$C$5:$AL$24,36)","v":""},null,null,null,null,null,null,null,null,null,null,null,null,null,null,null,null,null,null,null,null,null,null,null,null,null,null,null,null,null,{"$f":"'1'!$AO$152","v":0},{"$f":"'1'!$AP$152","v":0},{"$f":"'1'!$AQ$152","v":0},{"$f":"'1'!$AR$152","v":0},{"$f":"'1'!$AS$152","v":0},{"$f":"'1'!$AT$152","v":0},1,{"$f":"VLOOKUP(BW149,Přehled!$C$5:$AL$24,36)","v":""},null,null,null,null,null,null,null,null,null,null,null,null,null,null,null,null,null,null,null,null,{"$f":"'1'!$BP$152","v":0},{"$f":"'1'!$BQ$152","v":0},{"$f":"'1'!$BR$152","v":0},{"$f":"'1'!$BS$152","v":0},{"$f":"'1'!$BT$152","v":0},{"$f":"'1'!$BU$152","v":0},1,{"$f":"VLOOKUP(CY149,Přehled!$C$5:$AL$24,36)","v":""},null,null,null,null,null,null,null,null,null,null,null,null,null,null,null,{"$f":"'1'!$CR$152","v":0},{"$f":"'1'!$CS$152","v":0},{"$f":"'1'!$CT$152","v":0},1,{"$f":"VLOOKUP(DS149,Přehled!$C$5:$AL$24,36)","v":""},null,null,null,null,null,null,null,null,null,null,null,null,null,null,null,{"$f":"'5'!$DO$28","v":0},{"$f":"'5'!$DP$28","v":0},{"$f":"'5'!$DQ$28","v":0},5,{"$f":"VLOOKUP(EM149,Přehled!$C$5:$AL$24,36)","v":""}]
[{"$f":"'2'!A52","v":0},{"$f":"'2'!B52","v":0},{"$f":"'2'!C52","v":0},{"$f":"SUMIF($B$5:$B$2024,Souhrn_hod[[#This Row],[Jméno]],$E$5:$E$2024)","v":0},{"$f":"'2'!D52","v":0},{"$f":"'2'!E52","v":0},{"$f":"'2'!F52","v":0},{"$f":"'2'!G52","v":0},{"$f":"'2'!H52","v":0},{"$f":"'2'!I52","v":0},{"$f":"'2'!J52","v":0},{"$f":"'2'!K52","v":0},{"$f":"'2'!L52","v":0},{"$f":"'2'!M52","v":0},{"$f":"'2'!N52","v":0},{"$f":"'2'!O52","v":0},{"$f":"'2'!P52","v":0},{"$f":"'2'!Q52","v":0},{"$f":"'2'!R52","v":0},{"$f":"'2'!S52","v":0},{"$f":"'2'!T52","v":0},{"$f":"'2'!U52","v":0},{"$f":"'2'!V52","v":0},{"$f":"'2'!W52","v":0},{"$f":"'2'!X52","v":0},{"$f":"'2'!Y52","v":0},{"$f":"'2'!Z52","v":0},{"$f":"'2'!AA52","v":0},{"$f":"'2'!AB52","v":0},{"$f":"'2'!AC52","v":0},{"$f":"'2'!AD52","v":0},{"$f":"'2'!AE52","v":0},{"$f":"'2'!AF52","v":0},{"$f":"'2'!AG52","v":0},{"$f":"'2'!AH52","v":0},{"$f":"'2'!AI52","v":0},{"$f":"'2'!AJ52","v":0},2,{"$f":"VLOOKUP(AL150,Přehled!$C$5:$AL$24,36)","v":""},null,null,null,null,null,null,null,null,null,null,null,null,null,null,null,null,null,null,null,null,null,null,null,null,null,null,null,null,null,{"$f":"'1'!$AO$133","v":0},{"$f":"'1'!$AP$133","v":0},{"$f":"'1'!$AQ$133","v":0},{"$f":"'1'!$AR$133","v":0},{"$f":"'1'!$AS$133","v":0},{"$f":"'1'!$AT$133","v":0},1,{"$f":"VLOOKUP(BW150,Přehled!$C$5:$AL$24,36)","v":""},null,null,null,null,null,null,null,null,null,null,null,null,null,null,null,null,null,null,null,null,{"$f":"'1'!$BP$153","v":0},{"$f":"'1'!$BQ$153","v":0},{"$f":"'1'!$BR$153","v":0},{"$f":"'1'!$BS$153","v":0},{"$f":"'1'!$BT$153","v":0},{"$f":"'1'!$BU$153","v":0},1,{"$f":"VLOOKUP(CY150,Přehled!$C$5:$AL$24,36)","v":""},null,null,null,null,null,null,null,null,null,null,null,null,null,null,null,{"$f":"'1'!$CR$153","v":0},{"$f":"'1'!$CS$153","v":0},{"$f":"'1'!$CT$153","v":0},1,{"$f":"VLOOKUP(DS150,Přehled!$C$5:$AL$24,36)","v":""},null,null,null,null,null,null,null,null,null,null,null,null,null,null,null,{"$f":"'5'!$DO$29","v":0},{"$f":"'5'!$DP$29","v":0},{"$f":"'5'!$DQ$29","v":0},5,{"$f":"VLOOKUP(EM150,Přehled!$C$5:$AL$24,36)","v":""}]
[{"$f":"'2'!A53","v":0},{"$f":"'2'!B53","v":0},{"$f":"'2'!C53","v":0},{"$f":"SUMIF($B$5:$B$2024,Souhrn_hod[[#This Row],[Jméno]],$E$5:$E$2024)","v":0},{"$f":"'2'!D53","v":0},{"$f":"'2'!E53","v":0},{"$f":"'2'!F53","v":0},{"$f":"'2'!G53","v":0},{"$f":"'2'!H53","v":0},{"$f":"'2'!I53","v":0},{"$f":"'2'!J53","v":0},{"$f":"'2'!K53","v":0},{"$f":"'2'!L53","v":0},{"$f":"'2'!M53","v":0},{"$f":"'2'!N53","v":0},{"$f":"'2'!O53","v":0},{"$f":"'2'!P53","v":0},{"$f":"'2'!Q53","v":0},{"$f":"'2'!R53","v":0},{"$f":"'2'!S53","v":0},{"$f":"'2'!T53","v":0},{"$f":"'2'!U53","v":0},{"$f":"'2'!V53","v":0},{"$f":"'2'!W53","v":0},{"$f":"'2'!X53","v":0},{"$f":"'2'!Y53","v":0},{"$f":"'2'!Z53","v":0},{"$f":"'2'!AA53","v":0},{"$f":"'2'!AB53","v":0},{"$f":"'2'!AC53","v":0},{"$f":"'2'!AD53","v":0},{"$f":"'2'!AE53","v":0},{"$f":"'2'!AF53","v":0},{"$f":"'2'!AG53","v":0},{"$f":"'2'!AH53","v":0},{"$f":"'2'!AI53","v":0},{"$f":"'2'!AJ53","v":0},2,{"$f":"VLOOKUP(AL151,Přehled!$C$5:$AL$24,36)","v":""},null,null,null,null,null,null,null,null,null,null,null,null,null,null,null,null,null,null,null,null,null,null,null,null,null,null,null,null,null,{"$f":"'1'!$AO$154","v":0},{"$f":"'1'!$AP$154","v":0},{"$f":"'1'!$AQ$154","v":0},{"$f":"'1'!$AR$154","v":0},{"$f":"'1'!$AS$154","v":0},{"$f":"'1'!$AT$154","v":0},1,{"$f":"VLOOKUP(BW151,Přehled!$C$5:$AL$24,36)","v":""},null,null,null,null,null,null,null,null,null,null,null,null,null,null,null,null,null,null,null,null,{"$f":"'1'!$BP$154","v":0},{"$f":"'1'!$BQ$154","v":0},{"$f":"'1'!$BR$154","v":0},{"$f":"'1'!$BS$154","v":0},{"$f":"'1'!$BT$154","v":0},{"$f":"'1'!$BU$154","v":0},1,{"$f":"VLOOKUP(CY151,Přehled!$C$5:$AL$24,36)","v":""},null,null,null,null,null,null,null,null,null,null,null,null,null,null,null,{"$f":"'1'!$CR$154","v":0},{"$f":"'1'!$CS$154","v":0},{"$f":"'1'!$CT$154","v":0},1,{"$f":"VLOOKUP(DS151,Přehled!$C$5:$AL$24,36)","v":""},null,null,null,null,null,null,null,null,null,null,null,null,null,null,null,{"$f":"'5'!$DO$30","v":0},{"$f":"'5'!$DP$30","v":0},{"$f":"'5'!$DQ$30","v":0},5,{"$f":"VLOOKUP(EM151,Přehled!$C$5:$AL$24,36)","v":""}]
[{"$f":"'2'!A54","v":0},{"$f":"'2'!B54","v":0},{"$f":"'2'!C54","v":0},{"$f":"SUMIF($B$5:$B$2024,Souhrn_hod[[#This Row],[Jméno]],$E$5:$E$2024)","v":0},{"$f":"'2'!D54","v":0},{"$f":"'2'!E54","v":0},{"$f":"'2'!F54","v":0},{"$f":"'2'!G54","v":0},{"$f":"'2'!H54","v":0},{"$f":"'2'!I54","v":0},{"$f":"'2'!J54","v":0},{"$f":"'2'!K54","v":0},{"$f":"'2'!L54","v":0},{"$f":"'2'!M54","v":0},{"$f":"'2'!N54","v":0},{"$f":"'2'!O54","v":0},{"$f":"'2'!P54","v":0},{"$f":"'2'!Q54","v":0},{"$f":"'2'!R54","v":0},{"$f":"'2'!S54","v":0},{"$f":"'2'!T54","v":0},{"$f":"'2'!U54","v":0},{"$f":"'2'!V54","v":0},{"$f":"'2'!W54","v":0},{"$f":"'2'!X54","v":0},{"$f":"'2'!Y54","v":0},{"$f":"'2'!Z54","v":0},{"$f":"'2'!AA54","v":0},{"$f":"'2'!AB54","v":0},{"$f":"'2'!AC54","v":0},{"$f":"'2'!AD54","v":0},{"$f":"'2'!AE54","v":0},{"$f":"'2'!AF54","v":0},{"$f":"'2'!AG54","v":0},{"$f":"'2'!AH54","v":0},{"$f":"'2'!AI54","v":0},{"$f":"'2'!AJ54","v":0},2,{"$f":"VLOOKUP(AL152,Přehled!$C$5:$AL$24,36)","v":""},null,null,null,null,null,null,null,null,null,null,null,null,null,null,null,null,null,null,null,null,null,null,null,null,null,null,null,null,null,{"$f":"'1'!$AO$155","v":0},{"$f":"'1'!$AP$155","v":0},{"$f":"'1'!$AQ$155","v":0},{"$f":"'1'!$AR$155","v":0},{"$f":"'1'!$AS$155","v":0},{"$f":"'1'!$AT$155","v":0},1,{"$f":"VLOOKUP(BW152,Přehled!$C$5:$AL$24,36)","v":""},null,null,null,null,null,null,null,null,null,null,null,null,null,null,null,null,null,null,null,null,{"$f":"'1'!$BP$155","v":0},{"$f":"'1'!$BQ$155","v":0},{"$f":"'1'!$BR$155","v":0},{"$f":"'1'!$BS$155","v":0},{"$f":"'1'!$BT$155","v":0},{"$f":"'1'!$BU$155","v":0},1,{"$f":"VLOOKUP(CY152,Přehled!$C$5:$AL$24,36)","v":""},null,null,null,null,null,null,null,null,null,null,null,null,null,null,null,{"$f":"'1'!$CR$155","v":0},{"$f":"'1'!$CS$155","v":0},{"$f":"'1'!$CT$155","v":0},1,{"$f":"VLOOKUP(DS152,Přehled!$C$5:$AL$24,36)","v":""},null,null,null,null,null,null,null,null,null,null,null,null,null,null,null,{"$f":"'5'!$DO$31","v":0},{"$f":"'5'!$DP$31","v":0},{"$f":"'5'!$DQ$31","v":0},5,{"$f":"VLOOKUP(EM152,Přehled!$C$5:$AL$24,36)","v":""}]
[{"$f":"'2'!A55","v":0},{"$f":"'2'!B55","v":0},{"$f":"'2'!C55","v":0},{"$f":"SUMIF($B$5:$B$2024,Souhrn_hod[[#This Row],[Jméno]],$E$5:$E$2024)","v":0},{"$f":"'2'!D55","v":0},{"$f":"'2'!E55","v":0},{"$f":"'2'!F55","v":0},{"$f":"'2'!G55","v":0},{"$f":"'2'!H55","v":0},{"$f":"'2'!I55","v":0},{"$f":"'2'!J55","v":0},{"$f":"'2'!K55","v":0},{"$f":"'2'!L55","v":0},{"$f":"'2'!M55","v":0},{"$f":"'2'!N55","v":0},{"$f":"'2'!O55","v":0},{"$f":"'2'!P55","v":0},{"$f":"'2'!Q55","v":0},{"$f":"'2'!R55","v":0},{"$f":"'2'!S55","v":0},{"$f":"'2'!T55","v":0},{"$f":"'2'!U55","v":0},{"$f":"'2'!V55","v":0},{"$f":"'2'!W55","v":0},{"$f":"'2'!X55","v":0},{"$f":"'2'!Y55","v":0},{"$f":"'2'!Z55","v":0},{"$f":"'2'!AA55","v":0},{"$f":"'2'!AB55","v":0},{"$f":"'2'!AC55","v":0},{"$f":"'2'!AD55","v":0},{"$f":"'2'!AE55","v":0},{"$f":"'2'!AF55","v":0},{"$f":"'2'!AG55","v":0},{"$f":"'2'!AH55","v":0},{"$f":"'2'!AI55","v":0},{"$f":"'2'!AJ55","v":0},2,{"$f":"VLOOKUP(AL153,Přehled!$C$5:$AL$24,36)","v":""},null,null,null,null,null,null,null,null,null,null,null,null,null,null,null,null,null,null,null,null,null,null,null,null,null,null,null,null,null,{"$f":"'1'!$AO$156","v":0},{"$f":"'1'!$AP$156","v":0},{"$f":"'1'!$AQ$156","v":0},{"$f":"'1'!$AR$156","v":0},{"$f":"'1'!$AS$156","v":0},{"$f":"'1'!$AT$156","v":0},1,{"$f":"VLOOKUP(BW153,Přehled!$C$5:$AL$24,36)","v":""},null,null,null,null,null,null,null,null,null,null,null,null,null,null,null,null,null,null,null,null,{"$f":"'1'!$BP$156","v":0},{"$f":"'1'!$BQ$156","v":0},{"$f":"'1'!$BR$156","v":0},{"$f":"'1'!$BS$156","v":0},{"$f":"'1'!$BT$156","v":0},{"$f":"'1'!$BU$156","v":0},1,{"$f":"VLOOKUP(CY153,Přehled!$C$5:$AL$24,36)","v":""},null,null,null,null,null,null,null,null,null,null,null,null,null,null,null,{"$f":"'1'!$CR$156","v":0},{"$f":"'1'!$CS$156","v":0},{"$f":"'1'!$CT$156","v":0},1,{"$f":"VLOOKUP(DS153,Přehled!$C$5:$AL$24,36)","v":""},null,null,null,null,null,null,null,null,null,null,null,null,null,null,null,{"$f":"'5'!$DO$32","v":0},{"$f":"'5'!$DP$32","v":0},{"$f":"'5'!$DQ$32","v":0},5,{"$f":"VLOOKUP(EM153,Přehled!$C$5:$AL$24,36)","v":""}]
[{"$f":"'2'!A56","v":0},{"$f":"'2'!B56","v":0},{"$f":"'2'!C56","v":0},{"$f":"SUMIF($B$5:$B$2024,Souhrn_hod[[#This Row],[Jméno]],$E$5:$E$2024)","v":0},{"$f":"'2'!D56","v":0},{"$f":"'2'!E56","v":0},{"$f":"'2'!F56","v":0},{"$f":"'2'!G56","v":0},{"$f":"'2'!H56","v":0},{"$f":"'2'!I56","v":0},{"$f":"'2'!J56","v":0},{"$f":"'2'!K56","v":0},{"$f":"'2'!L56","v":0},{"$f":"'2'!M56","v":0},{"$f":"'2'!N56","v":0},{"$f":"'2'!O56","v":0},{"$f":"'2'!P56","v":0},{"$f":"'2'!Q56","v":0},{"$f":"'2'!R56","v":0},{"$f":"'2'!S56","v":0},{"$f":"'2'!T56","v":0},{"$f":"'2'!U56","v":0},{"$f":"'2'!V56","v":0},{"$f":"'2'!W56","v":0},{"$f":"'2'!X56","v":0},{"$f":"'2'!Y56","v":0},{"$f":"'2'!Z56","v":0},{"$f":"'2'!AA56","v":0},{"$f":"'2'!AB56","v":0},{"$f":"'2'!AC56","v":0},{"$f":"'2'!AD56","v":0},{"$f":"'2'!AE56","v":0},{"$f":"'2'!AF56","v":0},{"$f":"'2'!AG56","v":0},{"$f":"'2'!AH56","v":0},{"$f":"'2'!AI56","v":0},{"$f":"'2'!AJ56","v":0},2,{"$f":"VLOOKUP(AL154,Přehled!$C$5:$AL$24,36)","v":""},null,null,null,null,null,null,null,null,null,null,null,null,null,null,null,null,null,null,null,null,null,null,null,null,null,null,null,null,null,{"$f":"'1'!$AO$157","v":0},{"$f":"'1'!$AP$157","v":0},{"$f":"'1'!$AQ$157","v":0},{"$f":"'1'!$AR$157","v":0},{"$f":"'1'!$AS$157","v":0},{"$f":"'1'!$AT$157","v":0},1,{"$f":"VLOOKUP(BW154,Přehled!$C$5:$AL$24,36)","v":""},null,null,null,null,null,null,null,null,null,null,null,null,null,null,null,null,null,null,null,null,{"$f":"'1'!$BP$157","v":0},{"$f":"'1'!$BQ$157","v":0},{"$f":"'1'!$BR$157","v":0},{"$f":"'1'!$BS$157","v":0},{"$f":"'1'!$BT$157","v":0},{"$f":"'1'!$BU$157","v":0},1,{"$f":"VLOOKUP(CY154,Přehled!$C$5:$AL$24,36)","v":""},null,null,null,null,null,null,null,null,null,null,null,null,null,null,null,{"$f":"'1'!$CR$157","v":0},{"$f":"'1'!$CS$157","v":0},{"$f":"'1'!$CT$157","v":0},1,{"$f":"VLOOKUP(DS154,Přehled!$C$5:$AL$24,36)","v":""},null,null,null,null,null,null,null,null,null,null,null,null,null,null,null,{"$f":"'5'!$DO$33","v":0},{"$f":"'5'!$DP$33","v":0},{"$f":"'5'!$DQ$33","v":0},5,{"$f":"VLOOKUP(EM154,Přehled!$C$5:$AL$24,36)","v":""}]
[{"$f":"'2'!A57","v":0},{"$f":"'2'!B57","v":0},{"$f":"'2'!C57","v":0},{"$f":"SUMIF($B$5:$B$2024,Souhrn_hod[[#This Row],[Jméno]],$E$5:$E$2024)","v":0},{"$f":"'2'!D57","v":0},{"$f":"'2'!E57","v":0},{"$f":"'2'!F57","v":0},{"$f":"'2'!G57","v":0},{"$f":"'2'!H57","v":0},{"$f":"'2'!I57","v":0},{"$f":"'2'!J57","v":0},{"$f":"'2'!K57","v":0},{"$f":"'2'!L57","v":0},{"$f":"'2'!M57","v":0},{"$f":"'2'!N57","v":0},{"$f":"'2'!O57","v":0},{"$f":"'2'!P57","v":0},{"$f":"'2'!Q57","v":0},{"$f":"'2'!R57","v":0},{"$f":"'2'!S57","v":0},{"$f":"'2'!T57","v":0},{"$f":"'2'!U57","v":0},{"$f":"'2'!V57","v":0},{"$f":"'2'!W57","v":0},{"$f":"'2'!X57","v":0},{"$f":"'2'!Y57","v":0},{"$f":"'2'!Z57","v":0},{"$f":"'2'!AA57","v":0},{"$f":"'2'!AB57","v":0},{"$f":"'2'!AC57","v":0},{"$f":"'2'!AD57","v":0},{"$f":"'2'!AE57","v":0},{"$f":"'2'!AF57","v":0},{"$f":"'2'!AG57","v":0},{"$f":"'2'!AH57","v":0},{"$f":"'2'!AI57","v":0},{"$f":"'2'!AJ57","v":0},2,{"$f":"VLOOKUP(AL155,Přehled!$C$5:$AL$24,36)","v":""},null,null,null,null,null,null,null,null,null,null,null,null,null,null,null,null,null,null,null,null,null,null,null,null,null,null,null,null,null,{"$f":"'1'!$AO$158","v":0},{"$f":"'1'!$AP$158","v":0},{"$f":"'1'!$AQ$158","v":0},{"$f":"'1'!$AR$158","v":0},{"$f":"'1'!$AS$158","v":0},{"$f":"'1'!$AT$158","v":0},1,{"$f":"VLOOKUP(BW155,Přehled!$C$5:$AL$24,36)","v":""},null,null,null,null,null,null,null,null,null,null,null,null,null,null,null,null,null,null,null,null,{"$f":"'1'!$BP$158","v":0},{"$f":"'1'!$BQ$158","v":0},{"$f":"'1'!$BR$158","v":0},{"$f":"'1'!$BS$158","v":0},{"$f":"'1'!$BT$158","v":0},{"$f":"'1'!$BU$158","v":0},1,{"$f":"VLOOKUP(CY155,Přehled!$C$5:$AL$24,36)","v":""},null,null,null,null,null,null,null,null,null,null,null,null,null,null,null,{"$f":"'1'!$CR$158","v":0},{"$f":"'1'!$CS$158","v":0},{"$f":"'1'!$CT$158","v":0},1,{"$f":"VLOOKUP(DS155,Přehled!$C$5:$AL$24,36)","v":""},null,null,null,null,null,null,null,null,null,null,null,null,null,null,null,{"$f":"'5'!$DO$34","v":0},{"$f":"'5'!$DP$34","v":0},{"$f":"'5'!$DQ$34","v":0},5,{"$f":"VLOOKUP(EM155,Přehled!$C$5:$AL$24,36)","v":""}]
[{"$f":"'2'!A58","v":0},{"$f":"'2'!B58","v":0},{"$f":"'2'!C58","v":0},{"$f":"SUMIF($B$5:$B$2024,Souhrn_hod[[#This Row],[Jméno]],$E$5:$E$2024)","v":0},{"$f":"'2'!D58","v":0},{"$f":"'2'!E58","v":0},{"$f":"'2'!F58","v":0},{"$f":"'2'!G58","v":0},{"$f":"'2'!H58","v":0},{"$f":"'2'!I58","v":0},{"$f":"'2'!J58","v":0},{"$f":"'2'!K58","v":0},{"$f":"'2'!L58","v":0},{"$f":"'2'!M58","v":0},{"$f":"'2'!N58","v":0},{"$f":"'2'!O58","v":0},{"$f":"'2'!P58","v":0},{"$f":"'2'!Q58","v":0},{"$f":"'2'!R58","v":0},{"$f":"'2'!S58","v":0},{"$f":"'2'!T58","v":0},{"$f":"'2'!U58","v":0},{"$f":"'2'!V58","v":0},{"$f":"'2'!W58","v":0},{"$f":"'2'!X58","v":0},{"$f":"'2'!Y58","v":0},{"$f":"'2'!Z58","v":0},{"$f":"'2'!AA58","v":0},{"$f":"'2'!AB58","v":0},{"$f":"'2'!AC58","v":0},{"$f":"'2'!AD58","v":0},{"$f":"'2'!AE58","v":0},{"$f":"'2'!AF58","v":0},{"$f":"'2'!AG58","v":0},{"$f":"'2'!AH58","v":0},{"$f":"'2'!AI58","v":0},{"$f":"'2'!AJ58","v":0},2,{"$f":"VLOOKUP(AL156,Přehled!$C$5:$AL$24,36)","v":""},null,null,null,null,null,null,null,null,null,null,null,null,null,null,null,null,null,null,null,null,null,null,null,null,null,null,null,null,null,{"$f":"'1'!$AO$159","v":0},{"$f":"'1'!$AP$159","v":0},{"$f":"'1'!$AQ$159","v":0},{"$f":"'1'!$AR$159","v":0},{"$f":"'1'!$AS$159","v":0},{"$f":"'1'!$AT$159","v":0},1,{"$f":"VLOOKUP(BW156,Přehled!$C$5:$AL$24,36)","v":""},null,null,null,null,null,null,null,null,null,null,null,null,null,null,null,null,null,null,null,null,{"$f":"'1'!$BP$159","v":0},{"$f":"'1'!$BQ$159","v":0},{"$f":"'1'!$BR$159","v":0},{"$f":"'1'!$BS$159","v":0},{"$f":"'1'!$BT$159","v":0},{"$f":"'1'!$BU$159","v":0},1,{"$f":"VLOOKUP(CY156,Přehled!$C$5:$AL$24,36)","v":""},null,null,null,null,null,null,null,null,null,null,null,null,null,null,null,{"$f":"'1'!$CR$159","v":0},{"$f":"'1'!$CS$159","v":0},{"$f":"'1'!$CT$159","v":0},1,{"$f":"VLOOKUP(DS156,Přehled!$C$5:$AL$24,36)","v":""},null,null,null,null,null,null,null,null,null,null,null,null,null,null,null,{"$f":"'5'!$DO$35","v":0},{"$f":"'5'!$DP$35","v":0},{"$f":"'5'!$DQ$35","v":0},5,{"$f":"VLOOKUP(EM156,Přehled!$C$5:$AL$24,36)","v":""}]
[{"$f":"'2'!A59","v":0},{"$f":"'2'!B59","v":0},{"$f":"'2'!C59","v":0},{"$f":"SUMIF($B$5:$B$2024,Souhrn_hod[[#This Row],[Jméno]],$E$5:$E$2024)","v":0},{"$f":"'2'!D59","v":0},{"$f":"'2'!E59","v":0},{"$f":"'2'!F59","v":0},{"$f":"'2'!G59","v":0},{"$f":"'2'!H59","v":0},{"$f":"'2'!I59","v":0},{"$f":"'2'!J59","v":0},{"$f":"'2'!K59","v":0},{"$f":"'2'!L59","v":0},{"$f":"'2'!M59","v":0},{"$f":"'2'!N59","v":0},{"$f":"'2'!O59","v":0},{"$f":"'2'!P59","v":0},{"$f":"'2'!Q59","v":0},{"$f":"'2'!R59","v":0},{"$f":"'2'!S59","v":0},{"$f":"'2'!T59","v":0},{"$f":"'2'!U59","v":0},{"$f":"'2'!V59","v":0},{"$f":"'2'!W59","v":0},{"$f":"'2'!X59","v":0},{"$f":"'2'!Y59","v":0},{"$f":"'2'!Z59","v":0},{"$f":"'2'!AA59","v":0},{"$f":"'2'!AB59","v":0},{"$f":"'2'!AC59","v":0},{"$f":"'2'!AD59","v":0},{"$f":"'2'!AE59","v":0},{"$f":"'2'!AF59","v":0},{"$f":"'2'!AG59","v":0},{"$f":"'2'!AH59","v":0},{"$f":"'2'!AI59","v":0},{"$f":"'2'!AJ59","v":0},2,{"$f":"VLOOKUP(AL157,Přehled!$C$5:$AL$24,36)","v":""},null,null,null,null,null,null,null,null,null,null,null,null,null,null,null,null,null,null,null,null,null,null,null,null,null,null,null,null,null,{"$f":"'1'!$AO$160","v":0},{"$f":"'1'!$AP$160","v":0},{"$f":"'1'!$AQ$160","v":0},{"$f":"'1'!$AR$160","v":0},{"$f":"'1'!$AS$160","v":0},{"$f":"'1'!$AT$160","v":0},1,{"$f":"VLOOKUP(BW157,Přehled!$C$5:$AL$24,36)","v":""},null,null,null,null,null,null,null,null,null,null,null,null,null,null,null,null,null,null,null,null,{"$f":"'1'!$BP$160","v":0},{"$f":"'1'!$BQ$160","v":0},{"$f":"'1'!$BR$160","v":0},{"$f":"'1'!$BS$160","v":0},{"$f":"'1'!$BT$160","v":0},{"$f":"'1'!$BU$160","v":0},1,{"$f":"VLOOKUP(CY157,Přehled!$C$5:$AL$24,36)","v":""},null,null,null,null,null,null,null,null,null,null,null,null,null,null,null,{"$f":"'1'!$CR$160","v":0},{"$f":"'1'!$CS$160","v":0},{"$f":"'1'!$CT$160","v":0},1,{"$f":"VLOOKUP(DS157,Přehled!$C$5:$AL$24,36)","v":""},null,null,null,null,null,null,null,null,null,null,null,null,null,null,null,{"$f":"'5'!$DO$36","v":0},{"$f":"'5'!$DP$36","v":0},{"$f":"'5'!$DQ$36","v":0},5,{"$f":"VLOOKUP(EM157,Přehled!$C$5:$AL$24,36)","v":""}]
[{"$f":"'2'!A60","v":0},{"$f":"'2'!B60","v":0},{"$f":"'2'!C60","v":0},{"$f":"SUMIF($B$5:$B$2024,Souhrn_hod[[#This Row],[Jméno]],$E$5:$E$2024)","v":0},{"$f":"'2'!D60","v":0},{"$f":"'2'!E60","v":0},{"$f":"'2'!F60","v":0},{"$f":"'2'!G60","v":0},{"$f":"'2'!H60","v":0},{"$f":"'2'!I60","v":0},{"$f":"'2'!J60","v":0},{"$f":"'2'!K60","v":0},{"$f":"'2'!L60","v":0},{"$f":"'2'!M60","v":0},{"$f":"'2'!N60","v":0},{"$f":"'2'!O60","v":0},{"$f":"'2'!P60","v":0},{"$f":"'2'!Q60","v":0},{"$f":"'2'!R60","v":0},{"$f":"'2'!S60","v":0},{"$f":"'2'!T60","v":0},{"$f":"'2'!U60","v":0},{"$f":"'2'!V60","v":0},{"$f":"'2'!W60","v":0},{"$f":"'2'!X60","v":0},{"$f":"'2'!Y60","v":0},{"$f":"'2'!Z60","v":0},{"$f":"'2'!AA60","v":0},{"$f":"'2'!AB60","v":0},{"$f":"'2'!AC60","v":0},{"$f":"'2'!AD60","v":0},{"$f":"'2'!AE60","v":0},{"$f":"'2'!AF60","v":0},{"$f":"'2'!AG60","v":0},{"$f":"'2'!AH60","v":0},{"$f":"'2'!AI60","v":0},{"$f":"'2'!AJ60","v":0},2,{"$f":"VLOOKUP(AL158,Přehled!$C$5:$AL$24,36)","v":""},null,null,null,null,null,null,null,null,null,null,null,null,null,null,null,null,null,null,null,null,null,null,null,null,null,null,null,null,null,{"$f":"'1'!$AO$161","v":0},{"$f":"'1'!$AP$161","v":0},{"$f":"'1'!$AQ$161","v":0},{"$f":"'1'!$AR$161","v":0},{"$f":"'1'!$AS$161","v":0},{"$f":"'1'!$AT$161","v":0},1,{"$f":"VLOOKUP(BW158,Přehled!$C$5:$AL$24,36)","v":""},null,null,null,null,null,null,null,null,null,null,null,null,null,null,null,null,null,null,null,null,{"$f":"'1'!$BP$161","v":0},{"$f":"'1'!$BQ$161","v":0},{"$f":"'1'!$BR$161","v":0},{"$f":"'1'!$BS$161","v":0},{"$f":"'1'!$BT$161","v":0},{"$f":"'1'!$BU$161","v":0},1,{"$f":"VLOOKUP(CY158,Přehled!$C$5:$AL$24,36)","v":""},null,null,null,null,null,null,null,null,null,null,null,null,null,null,null,{"$f":"'1'!$CR$161","v":0},{"$f":"'1'!$CS$161","v":0},{"$f":"'1'!$CT$161","v":0},1,{"$f":"VLOOKUP(DS158,Přehled!$C$5:$AL$24,36)","v":""},null,null,null,null,null,null,null,null,null,null,null,null,null,null,null,{"$f":"'5'!$DO$37","v":0},{"$f":"'5'!$DP$37","v":0},{"$f":"'5'!$DQ$37","v":0},5,{"$f":"VLOOKUP(EM158,Přehled!$C$5:$AL$24,36)","v":""}]
[{"$f":"'2'!A61","v":0},{"$f":"'2'!B61","v":0},{"$f":"'2'!C61","v":0},{"$f":"SUMIF($B$5:$B$2024,Souhrn_hod[[#This Row],[Jméno]],$E$5:$E$2024)","v":0},{"$f":"'2'!D61","v":0},{"$f":"'2'!E61","v":0},{"$f":"'2'!F61","v":0},{"$f":"'2'!G61","v":0},{"$f":"'2'!H61","v":0},{"$f":"'2'!I61","v":0},{"$f":"'2'!J61","v":0},{"$f":"'2'!K61","v":0},{"$f":"'2'!L61","v":0},{"$f":"'2'!M61","v":0},{"$f":"'2'!N61","v":0},{"$f":"'2'!O61","v":0},{"$f":"'2'!P61","v":0},{"$f":"'2'!Q61","v":0},{"$f":"'2'!R61","v":0},{"$f":"'2'!S61","v":0},{"$f":"'2'!T61","v":0},{"$f":"'2'!U61","v":0},{"$f":"'2'!V61","v":0},{"$f":"'2'!W61","v":0},{"$f":"'2'!X61","v":0},{"$f":"'2'!Y61","v":0},{"$f":"'2'!Z61","v":0},{"$f":"'2'!AA61","v":0},{"$f":"'2'!AB61","v":0},{"$f":"'2'!AC61","v":0},{"$f":"'2'!AD61","v":0},{"$f":"'2'!AE61","v":0},{"$f":"'2'!AF61","v":0},{"$f":"'2'!AG61","v":0},{"$f":"'2'!AH61","v":0},{"$f":"'2'!AI61","v":0},{"$f":"'2'!AJ61","v":0},2,{"$f":"VLOOKUP(AL159,Přehled!$C$5:$AL$24,36)","v":""},null,null,null,null,null,null,null,null,null,null,null,null,null,null,null,null,null,null,null,null,null,null,null,null,null,null,null,null,null,{"$f":"'1'!$AO$162","v":0},{"$f":"'1'!$AP$162","v":0},{"$f":"'1'!$AQ$162","v":0},{"$f":"'1'!$AR$162","v":0},{"$f":"'1'!$AS$162","v":0},{"$f":"'1'!$AT$162","v":0},1,{"$f":"VLOOKUP(BW159,Přehled!$C$5:$AL$24,36)","v":""},null,null,null,null,null,null,null,null,null,null,null,null,null,null,null,null,null,null,null,null,{"$f":"'1'!$BP$162","v":0},{"$f":"'1'!$BQ$162","v":0},{"$f":"'1'!$BR$162","v":0},{"$f":"'1'!$BS$162","v":0},{"$f":"'1'!$BT$162","v":0},{"$f":"'1'!$BU$162","v":0},1,{"$f":"VLOOKUP(CY159,Přehled!$C$5:$AL$24,36)","v":""},null,null,null,null,null,null,null,null,null,null,null,null,null,null,null,{"$f":"'1'!$CR$162","v":0},{"$f":"'1'!$CS$162","v":0},{"$f":"'1'!$CT$162","v":0},1,{"$f":"VLOOKUP(DS159,Přehled!$C$5:$AL$24,36)","v":""},null,null,null,null,null,null,null,null,null,null,null,null,null,null,null,{"$f":"'5'!$DO$38","v":0},{"$f":"'5'!$DP$38","v":0},{"$f":"'5'!$DQ$38","v":0},5,{"$f":"VLOOKUP(EM159,Přehled!$C$5:$AL$24,36)","v":""}]
[{"$f":"'2'!A62","v":0},{"$f":"'2'!B62","v":0},{"$f":"'2'!C62","v":0},{"$f":"SUMIF($B$5:$B$2024,Souhrn_hod[[#This Row],[Jméno]],$E$5:$E$2024)","v":0},{"$f":"'2'!D62","v":0},{"$f":"'2'!E62","v":0},{"$f":"'2'!F62","v":0},{"$f":"'2'!G62","v":0},{"$f":"'2'!H62","v":0},{"$f":"'2'!I62","v":0},{"$f":"'2'!J62","v":0},{"$f":"'2'!K62","v":0},{"$f":"'2'!L62","v":0},{"$f":"'2'!M62","v":0},{"$f":"'2'!N62","v":0},{"$f":"'2'!O62","v":0},{"$f":"'2'!P62","v":0},{"$f":"'2'!Q62","v":0},{"$f":"'2'!R62","v":0},{"$f":"'2'!S62","v":0},{"$f":"'2'!T62","v":0},{"$f":"'2'!U62","v":0},{"$f":"'2'!V62","v":0},{"$f":"'2'!W62","v":0},{"$f":"'2'!X62","v":0},{"$f":"'2'!Y62","v":0},{"$f":"'2'!Z62","v":0},{"$f":"'2'!AA62","v":0},{"$f":"'2'!AB62","v":0},{"$f":"'2'!AC62","v":0},{"$f":"'2'!AD62","v":0},{"$f":"'2'!AE62","v":0},{"$f":"'2'!AF62","v":0},{"$f":"'2'!AG62","v":0},{"$f":"'2'!AH62","v":0},{"$f":"'2'!AI62","v":0},{"$f":"'2'!AJ62","v":0},2,{"$f":"VLOOKUP(AL160,Přehled!$C$5:$AL$24,36)","v":""},null,null,null,null,null,null,null,null,null,null,null,null,null,null,null,null,null,null,null,null,null,null,null,null,null,null,null,null,null,{"$f":"'2'!$AO$8","v":0},{"$f":"'2'!$AP$8","v":0},{"$f":"'2'!$AQ$8","v":0},{"$f":"'2'!$AR$8","v":0},{"$f":"'2'!$AS$8","v":0},{"$f":"'2'!$AT$8","v":0},2,{"$f":"VLOOKUP(BW160,Přehled!$C$5:$AL$24,36)","v":""},null,null,null,null,null,null,null,null,null,null,null,null,null,null,null,null,null,null,null,null,{"$f":"'2'!$BP$8","v":0},{"$f":"'2'!$BQ$8","v":0},{"$f":"'2'!$BR$8","v":0},{"$f":"'2'!$BS$8","v":0},{"$f":"'2'!$BT$8","v":0},{"$f":"'2'!$BU$8","v":0},2,{"$f":"VLOOKUP(CY160,Přehled!$C$5:$AL$24,36)","v":""},null,null,null,null,null,null,null,null,null,null,null,null,null,null,null,{"$f":"'2'!$CR$8","v":0},{"$f":"'2'!$CS$8","v":0},{"$f":"'2'!$CT$8","v":0},2,{"$f":"VLOOKUP(DS160,Přehled!$C$5:$AL$24,36)","v":""},null,null,null,null,null,null,null,null,null,null,null,null,null,null,null,{"$f":"'6'!$DO$8","v":0},{"$f":"'6'!$DP$8","v":0},{"$f":"'6'!$DQ$8","v":0},6,{"$f":"VLOOKUP(EM160,Přehled!$C$5:$AL$24,36)","v":""}]
[{"$f":"'2'!A63","v":0},{"$f":"'2'!B63","v":0},{"$f":"'2'!C63","v":0},{"$f":"SUMIF($B$5:$B$2024,Souhrn_hod[[#This Row],[Jméno]],$E$5:$E$2024)","v":0},{"$f":"'2'!D63","v":0},{"$f":"'2'!E63","v":0},{"$f":"'2'!F63","v":0},{"$f":"'2'!G63","v":0},{"$f":"'2'!H63","v":0},{"$f":"'2'!I63","v":0},{"$f":"'2'!J63","v":0},{"$f":"'2'!K63","v":0},{"$f":"'2'!L63","v":0},{"$f":"'2'!M63","v":0},{"$f":"'2'!N63","v":0},{"$f":"'2'!O63","v":0},{"$f":"'2'!P63","v":0},{"$f":"'2'!Q63","v":0},{"$f":"'2'!R63","v":0},{"$f":"'2'!S63","v":0},{"$f":"'2'!T63","v":0},{"$f":"'2'!U63","v":0},{"$f":"'2'!V63","v":0},{"$f":"'2'!W63","v":0},{"$f":"'2'!X63","v":0},{"$f":"'2'!Y63","v":0},{"$f":"'2'!Z63","v":0},{"$f":"'2'!AA63","v":0},{"$f":"'2'!AB63","v":0},{"$f":"'2'!AC63","v":0},{"$f":"'2'!AD63","v":0},{"$f":"'2'!AE63","v":0},{"$f":"'2'!AF63","v":0},{"$f":"'2'!AG63","v":0},{"$f":"'2'!AH63","v":0},{"$f":"'2'!AI63","v":0},{"$f":"'2'!AJ63","v":0},2,{"$f":"VLOOKUP(AL161,Přehled!$C$5:$AL$24,36)","v":""},null,null,null,null,null,null,null,null,null,null,null,null,null,null,null,null,null,null,null,null,null,null,null,null,null,null,null,null,null,{"$f":"'2'!$AO$9","v":0},{"$f":"'2'!$AP$9","v":0},{"$f":"'2'!$AQ$9","v":0},{"$f":"'2'!$AR$9","v":0},{"$f":"'2'!$AS$9","v":0},{"$f":"'2'!$AT$9","v":0},2,{"$f":"VLOOKUP(BW161,Přehled!$C$5:$AL$24,36)","v":""},null,null,null,null,null,null,null,null,null,null,null,null,null,null,null,null,null,null,null,null,{"$f":"'2'!$BP$9","v":0},{"$f":"'2'!$BQ$9","v":0},{"$f":"'2'!$BR$9","v":0},{"$f":"'2'!$BS$9","v":0},{"$f":"'2'!$BT$9","v":0},{"$f":"'2'!$BU$9","v":0},2,{"$f":"VLOOKUP(CY161,Přehled!$C$5:$AL$24,36)","v":""},null,null,null,null,null,null,null,null,null,null,null,null,null,null,null,{"$f":"'2'!$CR$9","v":0},{"$f":"'2'!$CS$9","v":0},{"$f":"'2'!$CT$9","v":0},2,{"$f":"VLOOKUP(DS161,Přehled!$C$5:$AL$24,36)","v":""},null,null,null,null,null,null,null,null,null,null,null,null,null,null,null,{"$f":"'6'!$DO$9","v":0},{"$f":"'6'!$DP$9","v":0},{"$f":"'6'!$DQ$9","v":0},6,{"$f":"VLOOKUP(EM161,Přehled!$C$5:$AL$24,36)","v":""}]
[{"$f":"'2'!A64","v":0},{"$f":"'2'!B64","v":0},{"$f":"'2'!C64","v":0},{"$f":"SUMIF($B$5:$B$2024,Souhrn_hod[[#This Row],[Jméno]],$E$5:$E$2024)","v":0},{"$f":"'2'!D64","v":0},{"$f":"'2'!E64","v":0},{"$f":"'2'!F64","v":0},{"$f":"'2'!G64","v":0},{"$f":"'2'!H64","v":0},{"$f":"'2'!I64","v":0},{"$f":"'2'!J64","v":0},{"$f":"'2'!K64","v":0},{"$f":"'2'!L64","v":0},{"$f":"'2'!M64","v":0},{"$f":"'2'!N64","v":0},{"$f":"'2'!O64","v":0},{"$f":"'2'!P64","v":0},{"$f":"'2'!Q64","v":0},{"$f":"'2'!R64","v":0},{"$f":"'2'!S64","v":0},{"$f":"'2'!T64","v":0},{"$f":"'2'!U64","v":0},{"$f":"'2'!V64","v":0},{"$f":"'2'!W64","v":0},{"$f":"'2'!X64","v":0},{"$f":"'2'!Y64","v":0},{"$f":"'2'!Z64","v":0},{"$f":"'2'!AA64","v":0},{"$f":"'2'!AB64","v":0},{"$f":"'2'!AC64","v":0},{"$f":"'2'!AD64","v":0},{"$f":"'2'!AE64","v":0},{"$f":"'2'!AF64","v":0},{"$f":"'2'!AG64","v":0},{"$f":"'2'!AH64","v":0},{"$f":"'2'!AI64","v":0},{"$f":"'2'!AJ64","v":0},2,{"$f":"VLOOKUP(AL162,Přehled!$C$5:$AL$24,36)","v":""},null,null,null,null,null,null,null,null,null,null,null,null,null,null,null,null,null,null,null,null,null,null,null,null,null,null,null,null,null,{"$f":"'2'!$AO$10","v":0},{"$f":"'2'!$AP$10","v":0},{"$f":"'2'!$AQ$10","v":0},{"$f":"'2'!$AR$10","v":0},{"$f":"'2'!$AS$10","v":0},{"$f":"'2'!$AT$10","v":0},2,{"$f":"VLOOKUP(BW162,Přehled!$C$5:$AL$24,36)","v":""},null,null,null,null,null,null,null,null,null,null,null,null,null,null,null,null,null,null,null,null,{"$f":"'2'!$BP$10","v":0},{"$f":"'2'!$BQ$10","v":0},{"$f":"'2'!$BR$10","v":0},{"$f":"'2'!$BS$10","v":0},{"$f":"'2'!$BT$10","v":0},{"$f":"'2'!$BU$10","v":0},2,{"$f":"VLOOKUP(CY162,Přehled!$C$5:$AL$24,36)","v":""},null,null,null,null,null,null,null,null,null,null,null,null,null,null,null,{"$f":"'2'!$CR$10","v":0},{"$f":"'2'!$CS$10","v":0},{"$f":"'2'!$CT$10","v":0},2,{"$f":"VLOOKUP(DS162,Přehled!$C$5:$AL$24,36)","v":""},null,null,null,null,null,null,null,null,null,null,null,null,null,null,null,{"$f":"'6'!$DO$10","v":0},{"$f":"'6'!$DP$10","v":0},{"$f":"'6'!$DQ$10","v":0},6,{"$f":"VLOOKUP(EM162,Přehled!$C$5:$AL$24,36)","v":""}]
[{"$f":"'2'!A65","v":0},{"$f":"'2'!B65","v":0},{"$f":"'2'!C65","v":0},{"$f":"SUMIF($B$5:$B$2024,Souhrn_hod[[#This Row],[Jméno]],$E$5:$E$2024)","v":0},{"$f":"'2'!D65","v":0},{"$f":"'2'!E65","v":0},{"$f":"'2'!F65","v":0},{"$f":"'2'!G65","v":0},{"$f":"'2'!H65","v":0},{"$f":"'2'!I65","v":0},{"$f":"'2'!J65","v":0},{"$f":"'2'!K65","v":0},{"$f":"'2'!L65","v":0},{"$f":"'2'!M65","v":0},{"$f":"'2'!N65","v":0},{"$f":"'2'!O65","v":0},{"$f":"'2'!P65","v":0},{"$f":"'2'!Q65","v":0},{"$f":"'2'!R65","v":0},{"$f":"'2'!S65","v":0},{"$f":"'2'!T65","v":0},{"$f":"'2'!U65","v":0},{"$f":"'2'!V65","v":0},{"$f":"'2'!W65","v":0},{"$f":"'2'!X65","v":0},{"$f":"'2'!Y65","v":0},{"$f":"'2'!Z65","v":0},{"$f":"'2'!AA65","v":0},{"$f":"'2'!AB65","v":0},{"$f":"'2'!AC65","v":0},{"$f":"'2'!AD65","v":0},{"$f":"'2'!AE65","v":0},{"$f":"'2'!AF65","v":0},{"$f":"'2'!AG65","v":0},{"$f":"'2'!AH65","v":0},{"$f":"'2'!AI65","v":0},{"$f":"'2'!AJ65","v":0},2,{"$f":"VLOOKUP(AL163,Přehled!$C$5:$AL$24,36)","v":""},null,null,null,null,null,null,null,null,null,null,null,null,null,null,null,null,null,null,null,null,null,null,null,null,null,null,null,null,null,{"$f":"'2'!$AO$11","v":0},{"$f":"'2'!$AP$11","v":0},{"$f":"'2'!$AQ$11","v":0},{"$f":"'2'!$AR$11","v":0},{"$f":"'2'!$AS$11","v":0},{"$f":"'2'!$AT$11","v":0},2,{"$f":"VLOOKUP(BW163,Přehled!$C$5:$AL$24,36)","v":""},null,null,null,null,null,null,null,null,null,null,null,null,null,null,null,null,null,null,null,null,{"$f":"'2'!$BP$11","v":0},{"$f":"'2'!$BQ$11","v":0},{"$f":"'2'!$BR$11","v":0},{"$f":"'2'!$BS$11","v":0},{"$f":"'2'!$BT$11","v":0},{"$f":"'2'!$BU$11","v":0},2,{"$f":"VLOOKUP(CY163,Přehled!$C$5:$AL$24,36)","v":""},null,null,null,null,null,null,null,null,null,null,null,null,null,null,null,{"$f":"'2'!$CR$11","v":0},{"$f":"'2'!$CS$11","v":0},{"$f":"'2'!$CT$11","v":0},2,{"$f":"VLOOKUP(DS163,Přehled!$C$5:$AL$24,36)","v":""},null,null,null,null,null,null,null,null,null,null,null,null,null,null,null,{"$f":"'6'!$DO$11","v":0},{"$f":"'6'!$DP$11","v":0},{"$f":"'6'!$DQ$11","v":0},6,{"$f":"VLOOKUP(EM163,Přehled!$C$5:$AL$24,36)","v":""}]
[{"$f":"'2'!A66","v":0},{"$f":"'2'!B66","v":0},{"$f":"'2'!C66","v":0},{"$f":"SUMIF($B$5:$B$2024,Souhrn_hod[[#This Row],[Jméno]],$E$5:$E$2024)","v":0},{"$f":"'2'!D66","v":0},{"$f":"'2'!E66","v":0},{"$f":"'2'!F66","v":0},{"$f":"'2'!G66","v":0},{"$f":"'2'!H66","v":0},{"$f":"'2'!I66","v":0},{"$f":"'2'!J66","v":0},{"$f":"'2'!K66","v":0},{"$f":"'2'!L66","v":0},{"$f":"'2'!M66","v":0},{"$f":"'2'!N66","v":0},{"$f":"'2'!O66","v":0},{"$f":"'2'!P66","v":0},{"$f":"'2'!Q66","v":0},{"$f":"'2'!R66","v":0},{"$f":"'2'!S66","v":0},{"$f":"'2'!T66","v":0},{"$f":"'2'!U66","v":0},{"$f":"'2'!V66","v":0},{"$f":"'2'!W66","v":0},{"$f":"'2'!X66","v":0},{"$f":"'2'!Y66","v":0},{"$f":"'2'!Z66","v":0},{"$f":"'2'!AA66","v":0},{"$f":"'2'!AB66","v":0},{"$f":"'2'!AC66","v":0},{"$f":"'2'!AD66","v":0},{"$f":"'2'!AE66","v":0},{"$f":"'2'!AF66","v":0},{"$f":"'2'!AG66","v":0},{"$f":"'2'!AH66","v":0},{"$f":"'2'!AI66","v":0},{"$f":"'2'!AJ66","v":0},2,{"$f":"VLOOKUP(AL164,Přehled!$C$5:$AL$24,36)","v":""},null,null,null,null,null,null,null,null,null,null,null,null,null,null,null,null,null,null,null,null,null,null,null,null,null,null,null,null,null,{"$f":"'2'!$AO$12","v":0},{"$f":"'2'!$AP$12","v":0},{"$f":"'2'!$AQ$12","v":0},{"$f":"'2'!$AR$12","v":0},{"$f":"'2'!$AS$12","v":0},{"$f":"'2'!$AT$12","v":0},2,{"$f":"VLOOKUP(BW164,Přehled!$C$5:$AL$24,36)","v":""},null,null,null,null,null,null,null,null,null,null,null,null,null,null,null,null,null,null,null,null,{"$f":"'2'!$BP$12","v":0},{"$f":"'2'!$BQ$12","v":0},{"$f":"'2'!$BR$12","v":0},{"$f":"'2'!$BS$12","v":0},{"$f":"'2'!$BT$12","v":0},{"$f":"'2'!$BU$12","v":0},2,{"$f":"VLOOKUP(CY164,Přehled!$C$5:$AL$24,36)","v":""},null,null,null,null,null,null,null,null,null,null,null,null,null,null,null,{"$f":"'2'!$CR$12","v":0},{"$f":"'2'!$CS$12","v":0},{"$f":"'2'!$CT$12","v":0},2,{"$f":"VLOOKUP(DS164,Přehled!$C$5:$AL$24,36)","v":""},null,null,null,null,null,null,null,null,null,null,null,null,null,null,null,{"$f":"'6'!$DO$12","v":0},{"$f":"'6'!$DP$12","v":0},{"$f":"'6'!$DQ$12","v":0},6,{"$f":"VLOOKUP(EM164,Přehled!$C$5:$AL$24,36)","v":""}]
[{"$f":"'2'!A67","v":0},{"$f":"'2'!B67","v":0},{"$f":"'2'!C67","v":0},{"$f":"SUMIF($B$5:$B$2024,Souhrn_hod[[#This Row],[Jméno]],$E$5:$E$2024)","v":0},{"$f":"'2'!D67","v":0},{"$f":"'2'!E67","v":0},{"$f":"'2'!F67","v":0},{"$f":"'2'!G67","v":0},{"$f":"'2'!H67","v":0},{"$f":"'2'!I67","v":0},{"$f":"'2'!J67","v":0},{"$f":"'2'!K67","v":0},{"$f":"'2'!L67","v":0},{"$f":"'2'!M67","v":0},{"$f":"'2'!N67","v":0},{"$f":"'2'!O67","v":0},{"$f":"'2'!P67","v":0},{"$f":"'2'!Q67","v":0},{"$f":"'2'!R67","v":0},{"$f":"'2'!S67","v":0},{"$f":"'2'!T67","v":0},{"$f":"'2'!U67","v":0},{"$f":"'2'!V67","v":0},{"$f":"'2'!W67","v":0},{"$f":"'2'!X67","v":0},{"$f":"'2'!Y67","v":0},{"$f":"'2'!Z67","v":0},{"$f":"'2'!AA67","v":0},{"$f":"'2'!AB67","v":0},{"$f":"'2'!AC67","v":0},{"$f":"'2'!AD67","v":0},{"$f":"'2'!AE67","v":0},{"$f":"'2'!AF67","v":0},{"$f":"'2'!AG67","v":0},{"$f":"'2'!AH67","v":0},{"$f":"'2'!AI67","v":0},{"$f":"'2'!AJ67","v":0},2,{"$f":"VLOOKUP(AL165,Přehled!$C$5:$AL$24,36)","v":""},null,null,null,null,null,null,null,null,null,null,null,null,null,null,null,null,null,null,null,null,null,null,null,null,null,null,null,null,null,{"$f":"'2'!$AO$13","v":0},{"$f":"'2'!$AP$13","v":0},{"$f":"'2'!$AQ$13","v":0},{"$f":"'2'!$AR$13","v":0},{"$f":"'2'!$AS$13","v":0},{"$f":"'2'!$AT$13","v":0},2,{"$f":"VLOOKUP(BW165,Přehled!$C$5:$AL$24,36)","v":""},null,null,null,null,null,null,null,null,null,null,null,null,null,null,null,null,null,null,null,null,{"$f":"'2'!$BP$13","v":0},{"$f":"'2'!$BQ$13","v":0},{"$f":"'2'!$BR$13","v":0},{"$f":"'2'!$BS$13","v":0},{"$f":"'2'!$BT$13","v":0},{"$f":"'2'!$BU$13","v":0},2,{"$f":"VLOOKUP(CY165,Přehled!$C$5:$AL$24,36)","v":""},null,null,null,null,null,null,null,null,null,null,null,null,null,null,null,{"$f":"'2'!$CR$13","v":0},{"$f":"'2'!$CS$13","v":0},{"$f":"'2'!$CT$13","v":0},2,{"$f":"VLOOKUP(DS165,Přehled!$C$5:$AL$24,36)","v":""},null,null,null,null,null,null,null,null,null,null,null,null,null,null,null,{"$f":"'6'!$DO$13","v":0},{"$f":"'6'!$DP$13","v":0},{"$f":"'6'!$DQ$13","v":0},6,{"$f":"VLOOKUP(EM165,Přehled!$C$5:$AL$24,36)","v":""}]
[{"$f":"'2'!A68","v":0},{"$f":"'2'!B68","v":0},{"$f":"'2'!C68","v":0},{"$f":"SUMIF($B$5:$B$2024,Souhrn_hod[[#This Row],[Jméno]],$E$5:$E$2024)","v":0},{"$f":"'2'!D68","v":0},{"$f":"'2'!E68","v":0},{"$f":"'2'!F68","v":0},{"$f":"'2'!G68","v":0},{"$f":"'2'!H68","v":0},{"$f":"'2'!I68","v":0},{"$f":"'2'!J68","v":0},{"$f":"'2'!K68","v":0},{"$f":"'2'!L68","v":0},{"$f":"'2'!M68","v":0},{"$f":"'2'!N68","v":0},{"$f":"'2'!O68","v":0},{"$f":"'2'!P68","v":0},{"$f":"'2'!Q68","v":0},{"$f":"'2'!R68","v":0},{"$f":"'2'!S68","v":0},{"$f":"'2'!T68","v":0},{"$f":"'2'!U68","v":0},{"$f":"'2'!V68","v":0},{"$f":"'2'!W68","v":0},{"$f":"'2'!X68","v":0},{"$f":"'2'!Y68","v":0},{"$f":"'2'!Z68","v":0},{"$f":"'2'!AA68","v":0},{"$f":"'2'!AB68","v":0},{"$f":"'2'!AC68","v":0},{"$f":"'2'!AD68","v":0},{"$f":"'2'!AE68","v":0},{"$f":"'2'!AF68","v":0},{"$f":"'2'!AG68","v":0},{"$f":"'2'!AH68","v":0},{"$f":"'2'!AI68","v":0},{"$f":"'2'!AJ68","v":0},2,{"$f":"VLOOKUP(AL166,Přehled!$C$5:$AL$24,36)","v":""},null,null,null,null,null,null,null,null,null,null,null,null,null,null,null,null,null,null,null,null,null,null,null,null,null,null,null,null,null,{"$f":"'2'!$AO$14","v":0},{"$f":"'2'!$AP$14","v":0},{"$f":"'2'!$AQ$14","v":0},{"$f":"'2'!$AR$14","v":0},{"$f":"'2'!$AS$14","v":0},{"$f":"'2'!$AT$14","v":0},2,{"$f":"VLOOKUP(BW166,Přehled!$C$5:$AL$24,36)","v":""},null,null,null,null,null,null,null,null,null,null,null,null,null,null,null,null,null,null,null,null,{"$f":"'2'!$BP$14","v":0},{"$f":"'2'!$BQ$14","v":0},{"$f":"'2'!$BR$14","v":0},{"$f":"'2'!$BS$14","v":0},{"$f":"'2'!$BT$14","v":0},{"$f":"'2'!$BU$14","v":0},2,{"$f":"VLOOKUP(CY166,Přehled!$C$5:$AL$24,36)","v":""},null,null,null,null,null,null,null,null,null,null,null,null,null,null,null,{"$f":"'2'!$CR$14","v":0},{"$f":"'2'!$CS$14","v":0},{"$f":"'2'!$CT$14","v":0},2,{"$f":"VLOOKUP(DS166,Přehled!$C$5:$AL$24,36)","v":""},null,null,null,null,null,null,null,null,null,null,null,null,null,null,null,{"$f":"'6'!$DO$14","v":0},{"$f":"'6'!$DP$14","v":0},{"$f":"'6'!$DQ$14","v":0},6,{"$f":"VLOOKUP(EM166,Přehled!$C$5:$AL$24,36)","v":""}]
[{"$f":"'2'!A69","v":0},{"$f":"'2'!B69","v":0},{"$f":"'2'!C69","v":0},{"$f":"SUMIF($B$5:$B$2024,Souhrn_hod[[#This Row],[Jméno]],$E$5:$E$2024)","v":0},{"$f":"'2'!D69","v":0},{"$f":"'2'!E69","v":0},{"$f":"'2'!F69","v":0},{"$f":"'2'!G69","v":0},{"$f":"'2'!H69","v":0},{"$f":"'2'!I69","v":0},{"$f":"'2'!J69","v":0},{"$f":"'2'!K69","v":0},{"$f":"'2'!L69","v":0},{"$f":"'2'!M69","v":0},{"$f":"'2'!N69","v":0},{"$f":"'2'!O69","v":0},{"$f":"'2'!P69","v":0},{"$f":"'2'!Q69","v":0},{"$f":"'2'!R69","v":0},{"$f":"'2'!S69","v":0},{"$f":"'2'!T69","v":0},{"$f":"'2'!U69","v":0},{"$f":"'2'!V69","v":0},{"$f":"'2'!W69","v":0},{"$f":"'2'!X69","v":0},{"$f":"'2'!Y69","v":0},{"$f":"'2'!Z69","v":0},{"$f":"'2'!AA69","v":0},{"$f":"'2'!AB69","v":0},{"$f":"'2'!AC69","v":0},{"$f":"'2'!AD69","v":0},{"$f":"'2'!AE69","v":0},{"$f":"'2'!AF69","v":0},{"$f":"'2'!AG69","v":0},{"$f":"'2'!AH69","v":0},{"$f":"'2'!AI69","v":0},{"$f":"'2'!AJ69","v":0},2,{"$f":"VLOOKUP(AL167,Přehled!$C$5:$AL$24,36)","v":""},null,null,null,null,null,null,null,null,null,null,null,null,null,null,null,null,null,null,null,null,null,null,null,null,null,null,null,null,null,{"$f":"'2'!$AO$15","v":0},{"$f":"'2'!$AP$15","v":0},{"$f":"'2'!$AQ$15","v":0},{"$f":"'2'!$AR$15","v":0},{"$f":"'2'!$AS$15","v":0},{"$f":"'2'!$AT$15","v":0},2,{"$f":"VLOOKUP(BW167,Přehled!$C$5:$AL$24,36)","v":""},null,null,null,null,null,null,null,null,null,null,null,null,null,null,null,null,null,null,null,null,{"$f":"'2'!$BP$15","v":0},{"$f":"'2'!$BQ$15","v":0},{"$f":"'2'!$BR$15","v":0},{"$f":"'2'!$BS$15","v":0},{"$f":"'2'!$BT$15","v":0},{"$f":"'2'!$BU$15","v":0},2,{"$f":"VLOOKUP(CY167,Přehled!$C$5:$AL$24,36)","v":""},null,null,null,null,null,null,null,null,null,null,null,null,null,null,null,{"$f":"'2'!$CR$15","v":0},{"$f":"'2'!$CS$15","v":0},{"$f":"'2'!$CT$15","v":0},2,{"$f":"VLOOKUP(DS167,Přehled!$C$5:$AL$24,36)","v":""},null,null,null,null,null,null,null,null,null,null,null,null,null,null,null,{"$f":"'6'!$DO$15","v":0},{"$f":"'6'!$DP$15","v":0},{"$f":"'6'!$DQ$15","v":0},6,{"$f":"VLOOKUP(EM167,Přehled!$C$5:$AL$24,36)","v":""}]
[{"$f":"'2'!A70","v":0},{"$f":"'2'!B70","v":0},{"$f":"'2'!C70","v":0},{"$f":"SUMIF($B$5:$B$2024,Souhrn_hod[[#This Row],[Jméno]],$E$5:$E$2024)","v":0},{"$f":"'2'!D70","v":0},{"$f":"'2'!E70","v":0},{"$f":"'2'!F70","v":0},{"$f":"'2'!G70","v":0},{"$f":"'2'!H70","v":0},{"$f":"'2'!I70","v":0},{"$f":"'2'!J70","v":0},{"$f":"'2'!K70","v":0},{"$f":"'2'!L70","v":0},{"$f":"'2'!M70","v":0},{"$f":"'2'!N70","v":0},{"$f":"'2'!O70","v":0},{"$f":"'2'!P70","v":0},{"$f":"'2'!Q70","v":0},{"$f":"'2'!R70","v":0},{"$f":"'2'!S70","v":0},{"$f":"'2'!T70","v":0},{"$f":"'2'!U70","v":0},{"$f":"'2'!V70","v":0},{"$f":"'2'!W70","v":0},{"$f":"'2'!X70","v":0},{"$f":"'2'!Y70","v":0},{"$f":"'2'!Z70","v":0},{"$f":"'2'!AA70","v":0},{"$f":"'2'!AB70","v":0},{"$f":"'2'!AC70","v":0},{"$f":"'2'!AD70","v":0},{"$f":"'2'!AE70","v":0},{"$f":"'2'!AF70","v":0},{"$f":"'2'!AG70","v":0},{"$f":"'2'!AH70","v":0},{"$f":"'2'!AI70","v":0},{"$f":"'2'!AJ70","v":0},2,{"$f":"VLOOKUP(AL168,Přehled!$C$5:$AL$24,36)","v":""},null,null,null,null,null,null,null,null,null,null,null,null,null,null,null,null,null,null,null,null,null,null,null,null,null,null,null,null,null,{"$f":"'2'!$AO$16","v":0},{"$f":"'2'!$AP$16","v":0},{"$f":"'2'!$AQ$16","v":0},{"$f":"'2'!$AR$16","v":0},{"$f":"'2'!$AS$16","v":0},{"$f":"'2'!$AT$16","v":0},2,{"$f":"VLOOKUP(BW168,Přehled!$C$5:$AL$24,36)","v":""},null,null,null,null,null,null,null,null,null,null,null,null,null,null,null,null,null,null,null,null,{"$f":"'2'!$BP$16","v":0},{"$f":"'2'!$BQ$16","v":0},{"$f":"'2'!$BR$16","v":0},{"$f":"'2'!$BS$16","v":0},{"$f":"'2'!$BT$16","v":0},{"$f":"'2'!$BU$16","v":0},2,{"$f":"VLOOKUP(CY168,Přehled!$C$5:$AL$24,36)","v":""},null,null,null,null,null,null,null,null,null,null,null,null,null,null,null,{"$f":"'2'!$CR$16","v":0},{"$f":"'2'!$CS$16","v":0},{"$f":"'2'!$CT$16","v":0},2,{"$f":"VLOOKUP(DS168,Přehled!$C$5:$AL$24,36)","v":""},null,null,null,null,null,null,null,null,null,null,null,null,null,null,null,{"$f":"'6'!$DO$16","v":0},{"$f":"'6'!$DP$16","v":0},{"$f":"'6'!$DQ$16","v":0},6,{"$f":"VLOOKUP(EM168,Přehled!$C$5:$AL$24,36)","v":""}]
[{"$f":"'2'!A71","v":0},{"$f":"'2'!B71","v":0},{"$f":"'2'!C71","v":0},{"$f":"SUMIF($B$5:$B$2024,Souhrn_hod[[#This Row],[Jméno]],$E$5:$E$2024)","v":0},{"$f":"'2'!D71","v":0},{"$f":"'2'!E71","v":0},{"$f":"'2'!F71","v":0},{"$f":"'2'!G71","v":0},{"$f":"'2'!H71","v":0},{"$f":"'2'!I71","v":0},{"$f":"'2'!J71","v":0},{"$f":"'2'!K71","v":0},{"$f":"'2'!L71","v":0},{"$f":"'2'!M71","v":0},{"$f":"'2'!N71","v":0},{"$f":"'2'!O71","v":0},{"$f":"'2'!P71","v":0},{"$f":"'2'!Q71","v":0},{"$f":"'2'!R71","v":0},{"$f":"'2'!S71","v":0},{"$f":"'2'!T71","v":0},{"$f":"'2'!U71","v":0},{"$f":"'2'!V71","v":0},{"$f":"'2'!W71","v":0},{"$f":"'2'!X71","v":0},{"$f":"'2'!Y71","v":0},{"$f":"'2'!Z71","v":0},{"$f":"'2'!AA71","v":0},{"$f":"'2'!AB71","v":0},{"$f":"'2'!AC71","v":0},{"$f":"'2'!AD71","v":0},{"$f":"'2'!AE71","v":0},{"$f":"'2'!AF71","v":0},{"$f":"'2'!AG71","v":0},{"$f":"'2'!AH71","v":0},{"$f":"'2'!AI71","v":0},{"$f":"'2'!AJ71","v":0},2,{"$f":"VLOOKUP(AL169,Přehled!$C$5:$AL$24,36)","v":""},null,null,null,null,null,null,null,null,null,null,null,null,null,null,null,null,null,null,null,null,null,null,null,null,null,null,null,null,null,{"$f":"'2'!$AO$17","v":0},{"$f":"'2'!$AP$17","v":0},{"$f":"'2'!$AQ$17","v":0},{"$f":"'2'!$AR$17","v":0},{"$f":"'2'!$AS$17","v":0},{"$f":"'2'!$AT$17","v":0},2,{"$f":"VLOOKUP(BW169,Přehled!$C$5:$AL$24,36)","v":""},null,null,null,null,null,null,null,null,null,null,null,null,null,null,null,null,null,null,null,null,{"$f":"'2'!$BP$17","v":0},{"$f":"'2'!$BQ$17","v":0},{"$f":"'2'!$BR$17","v":0},{"$f":"'2'!$BS$17","v":0},{"$f":"'2'!$BT$17","v":0},{"$f":"'2'!$BU$17","v":0},2,{"$f":"VLOOKUP(CY169,Přehled!$C$5:$AL$24,36)","v":""},null,null,null,null,null,null,null,null,null,null,null,null,null,null,null,{"$f":"'2'!$CR$17","v":0},{"$f":"'2'!$CS$17","v":0},{"$f":"'2'!$CT$17","v":0},2,{"$f":"VLOOKUP(DS169,Přehled!$C$5:$AL$24,36)","v":""},null,null,null,null,null,null,null,null,null,null,null,null,null,null,null,{"$f":"'6'!$DO$17","v":0},{"$f":"'6'!$DP$17","v":0},{"$f":"'6'!$DQ$17","v":0},6,{"$f":"VLOOKUP(EM169,Přehled!$C$5:$AL$24,36)","v":""}]
[{"$f":"'2'!A72","v":0},{"$f":"'2'!B72","v":0},{"$f":"'2'!C72","v":0},{"$f":"SUMIF($B$5:$B$2024,Souhrn_hod[[#This Row],[Jméno]],$E$5:$E$2024)","v":0},{"$f":"'2'!D72","v":0},{"$f":"'2'!E72","v":0},{"$f":"'2'!F72","v":0},{"$f":"'2'!G72","v":0},{"$f":"'2'!H72","v":0},{"$f":"'2'!I72","v":0},{"$f":"'2'!J72","v":0},{"$f":"'2'!K72","v":0},{"$f":"'2'!L72","v":0},{"$f":"'2'!M72","v":0},{"$f":"'2'!N72","v":0},{"$f":"'2'!O72","v":0},{"$f":"'2'!P72","v":0},{"$f":"'2'!Q72","v":0},{"$f":"'2'!R72","v":0},{"$f":"'2'!S72","v":0},{"$f":"'2'!T72","v":0},{"$f":"'2'!U72","v":0},{"$f":"'2'!V72","v":0},{"$f":"'2'!W72","v":0},{"$f":"'2'!X72","v":0},{"$f":"'2'!Y72","v":0},{"$f":"'2'!Z72","v":0},{"$f":"'2'!AA72","v":0},{"$f":"'2'!AB72","v":0},{"$f":"'2'!AC72","v":0},{"$f":"'2'!AD72","v":0},{"$f":"'2'!AE72","v":0},{"$f":"'2'!AF72","v":0},{"$f":"'2'!AG72","v":0},{"$f":"'2'!AH72","v":0},{"$f":"'2'!AI72","v":0},{"$f":"'2'!AJ72","v":0},2,{"$f":"VLOOKUP(AL170,Přehled!$C$5:$AL$24,36)","v":""},null,null,null,null,null,null,null,null,null,null,null,null,null,null,null,null,null,null,null,null,null,null,null,null,null,null,null,null,null,{"$f":"'2'!$AO$18","v":0},{"$f":"'2'!$AP$18","v":0},{"$f":"'2'!$AQ$18","v":0},{"$f":"'2'!$AR$18","v":0},{"$f":"'2'!$AS$18","v":0},{"$f":"'2'!$AT$18","v":0},2,{"$f":"VLOOKUP(BW170,Přehled!$C$5:$AL$24,36)","v":""},null,null,null,null,null,null,null,null,null,null,null,null,null,null,null,null,null,null,null,null,{"$f":"'2'!$BP$18","v":0},{"$f":"'2'!$BQ$18","v":0},{"$f":"'2'!$BR$18","v":0},{"$f":"'2'!$BS$18","v":0},{"$f":"'2'!$BT$18","v":0},{"$f":"'2'!$BU$18","v":0},2,{"$f":"VLOOKUP(CY170,Přehled!$C$5:$AL$24,36)","v":""},null,null,null,null,null,null,null,null,null,null,null,null,null,null,null,{"$f":"'2'!$CR$18","v":0},{"$f":"'2'!$CS$18","v":0},{"$f":"'2'!$CT$18","v":0},2,{"$f":"VLOOKUP(DS170,Přehled!$C$5:$AL$24,36)","v":""},null,null,null,null,null,null,null,null,null,null,null,null,null,null,null,{"$f":"'6'!$DO$18","v":0},{"$f":"'6'!$DP$18","v":0},{"$f":"'6'!$DQ$18","v":0},6,{"$f":"VLOOKUP(EM170,Přehled!$C$5:$AL$24,36)","v":""}]
[{"$f":"'2'!A73","v":0},{"$f":"'2'!B73","v":0},{"$f":"'2'!C73","v":0},{"$f":"SUMIF($B$5:$B$2024,Souhrn_hod[[#This Row],[Jméno]],$E$5:$E$2024)","v":0},{"$f":"'2'!D73","v":0},{"$f":"'2'!E73","v":0},{"$f":"'2'!F73","v":0},{"$f":"'2'!G73","v":0},{"$f":"'2'!H73","v":0},{"$f":"'2'!I73","v":0},{"$f":"'2'!J73","v":0},{"$f":"'2'!K73","v":0},{"$f":"'2'!L73","v":0},{"$f":"'2'!M73","v":0},{"$f":"'2'!N73","v":0},{"$f":"'2'!O73","v":0},{"$f":"'2'!P73","v":0},{"$f":"'2'!Q73","v":0},{"$f":"'2'!R73","v":0},{"$f":"'2'!S73","v":0},{"$f":"'2'!T73","v":0},{"$f":"'2'!U73","v":0},{"$f":"'2'!V73","v":0},{"$f":"'2'!W73","v":0},{"$f":"'2'!X73","v":0},{"$f":"'2'!Y73","v":0},{"$f":"'2'!Z73","v":0},{"$f":"'2'!AA73","v":0},{"$f":"'2'!AB73","v":0},{"$f":"'2'!AC73","v":0},{"$f":"'2'!AD73","v":0},{"$f":"'2'!AE73","v":0},{"$f":"'2'!AF73","v":0},{"$f":"'2'!AG73","v":0},{"$f":"'2'!AH73","v":0},{"$f":"'2'!AI73","v":0},{"$f":"'2'!AJ73","v":0},2,{"$f":"VLOOKUP(AL171,Přehled!$C$5:$AL$24,36)","v":""},null,null,null,null,null,null,null,null,null,null,null,null,null,null,null,null,null,null,null,null,null,null,null,null,null,null,null,null,null,{"$f":"'2'!$AO$19","v":0},{"$f":"'2'!$AP$19","v":0},{"$f":"'2'!$AQ$19","v":0},{"$f":"'2'!$AR$19","v":0},{"$f":"'2'!$AS$19","v":0},{"$f":"'2'!$AT$19","v":0},2,{"$f":"VLOOKUP(BW171,Přehled!$C$5:$AL$24,36)","v":""},null,null,null,null,null,null,null,null,null,null,null,null,null,null,null,null,null,null,null,null,{"$f":"'2'!$BP$19","v":0},{"$f":"'2'!$BQ$19","v":0},{"$f":"'2'!$BR$19","v":0},{"$f":"'2'!$BS$19","v":0},{"$f":"'2'!$BT$19","v":0},{"$f":"'2'!$BU$19","v":0},2,{"$f":"VLOOKUP(CY171,Přehled!$C$5:$AL$24,36)","v":""},null,null,null,null,null,null,null,null,null,null,null,null,null,null,null,{"$f":"'2'!$CR$19","v":0},{"$f":"'2'!$CS$19","v":0},{"$f":"'2'!$CT$19","v":0},2,{"$f":"VLOOKUP(DS171,Přehled!$C$5:$AL$24,36)","v":""},null,null,null,null,null,null,null,null,null,null,null,null,null,null,null,{"$f":"'6'!$DO$19","v":0},{"$f":"'6'!$DP$19","v":0},{"$f":"'6'!$DQ$19","v":0},6,{"$f":"VLOOKUP(EM171,Přehled!$C$5:$AL$24,36)","v":""}]
[{"$f":"'2'!A74","v":0},{"$f":"'2'!B74","v":0},{"$f":"'2'!C74","v":0},{"$f":"SUMIF($B$5:$B$2024,Souhrn_hod[[#This Row],[Jméno]],$E$5:$E$2024)","v":0},{"$f":"'2'!D74","v":0},{"$f":"'2'!E74","v":0},{"$f":"'2'!F74","v":0},{"$f":"'2'!G74","v":0},{"$f":"'2'!H74","v":0},{"$f":"'2'!I74","v":0},{"$f":"'2'!J74","v":0},{"$f":"'2'!K74","v":0},{"$f":"'2'!L74","v":0},{"$f":"'2'!M74","v":0},{"$f":"'2'!N74","v":0},{"$f":"'2'!O74","v":0},{"$f":"'2'!P74","v":0},{"$f":"'2'!Q74","v":0},{"$f":"'2'!R74","v":0},{"$f":"'2'!S74","v":0},{"$f":"'2'!T74","v":0},{"$f":"'2'!U74","v":0},{"$f":"'2'!V74","v":0},{"$f":"'2'!W74","v":0},{"$f":"'2'!X74","v":0},{"$f":"'2'!Y74","v":0},{"$f":"'2'!Z74","v":0},{"$f":"'2'!AA74","v":0},{"$f":"'2'!AB74","v":0},{"$f":"'2'!AC74","v":0},{"$f":"'2'!AD74","v":0},{"$f":"'2'!AE74","v":0},{"$f":"'2'!AF74","v":0},{"$f":"'2'!AG74","v":0},{"$f":"'2'!AH74","v":0},{"$f":"'2'!AI74","v":0},{"$f":"'2'!AJ74","v":0},2,{"$f":"VLOOKUP(AL172,Přehled!$C$5:$AL$24,36)","v":""},null,null,null,null,null,null,null,null,null,null,null,null,null,null,null,null,null,null,null,null,null,null,null,null,null,null,null,null,null,{"$f":"'2'!$AO$20","v":0},{"$f":"'2'!$AP$20","v":0},{"$f":"'2'!$AQ$20","v":0},{"$f":"'2'!$AR$20","v":0},{"$f":"'2'!$AS$20","v":0},{"$f":"'2'!$AT$20","v":0},2,{"$f":"VLOOKUP(BW172,Přehled!$C$5:$AL$24,36)","v":""},null,null,null,null,null,null,null,null,null,null,null,null,null,null,null,null,null,null,null,null,{"$f":"'2'!$BP$20","v":0},{"$f":"'2'!$BQ$20","v":0},{"$f":"'2'!$BR$20","v":0},{"$f":"'2'!$BS$20","v":0},{"$f":"'2'!$BT$20","v":0},{"$f":"'2'!$BU$20","v":0},2,{"$f":"VLOOKUP(CY172,Přehled!$C$5:$AL$24,36)","v":""},null,null,null,null,null,null,null,null,null,null,null,null,null,null,null,{"$f":"'2'!$CR$20","v":0},{"$f":"'2'!$CS$20","v":0},{"$f":"'2'!$CT$20","v":0},2,{"$f":"VLOOKUP(DS172,Přehled!$C$5:$AL$24,36)","v":""},null,null,null,null,null,null,null,null,null,null,null,null,null,null,null,{"$f":"'6'!$DO$20","v":0},{"$f":"'6'!$DP$20","v":0},{"$f":"'6'!$DQ$20","v":0},6,{"$f":"VLOOKUP(EM172,Přehled!$C$5:$AL$24,36)","v":""}]
[{"$f":"'2'!A75","v":0},{"$f":"'2'!B75","v":0},{"$f":"'2'!C75","v":0},{"$f":"SUMIF($B$5:$B$2024,Souhrn_hod[[#This Row],[Jméno]],$E$5:$E$2024)","v":0},{"$f":"'2'!D75","v":0},{"$f":"'2'!E75","v":0},{"$f":"'2'!F75","v":0},{"$f":"'2'!G75","v":0},{"$f":"'2'!H75","v":0},{"$f":"'2'!I75","v":0},{"$f":"'2'!J75","v":0},{"$f":"'2'!K75","v":0},{"$f":"'2'!L75","v":0},{"$f":"'2'!M75","v":0},{"$f":"'2'!N75","v":0},{"$f":"'2'!O75","v":0},{"$f":"'2'!P75","v":0},{"$f":"'2'!Q75","v":0},{"$f":"'2'!R75","v":0},{"$f":"'2'!S75","v":0},{"$f":"'2'!T75","v":0},{"$f":"'2'!U75","v":0},{"$f":"'2'!V75","v":0},{"$f":"'2'!W75","v":0},{"$f":"'2'!X75","v":0},{"$f":"'2'!Y75","v":0},{"$f":"'2'!Z75","v":0},{"$f":"'2'!AA75","v":0},{"$f":"'2'!AB75","v":0},{"$f":"'2'!AC75","v":0},{"$f":"'2'!AD75","v":0},{"$f":"'2'!AE75","v":0},{"$f":"'2'!AF75","v":0},{"$f":"'2'!AG75","v":0},{"$f":"'2'!AH75","v":0},{"$f":"'2'!AI75","v":0},{"$f":"'2'!AJ75","v":0},2,{"$f":"VLOOKUP(AL173,Přehled!$C$5:$AL$24,36)","v":""},null,null,null,null,null,null,null,null,null,null,null,null,null,null,null,null,null,null,null,null,null,null,null,null,null,null,null,null,null,{"$f":"'2'!$AO$21","v":0},{"$f":"'2'!$AP$21","v":0},{"$f":"'2'!$AQ$21","v":0},{"$f":"'2'!$AR$21","v":0},{"$f":"'2'!$AS$21","v":0},{"$f":"'2'!$AT$21","v":0},2,{"$f":"VLOOKUP(BW173,Přehled!$C$5:$AL$24,36)","v":""},null,null,null,null,null,null,null,null,null,null,null,null,null,null,null,null,null,null,null,null,{"$f":"'2'!$BP$21","v":0},{"$f":"'2'!$BQ$21","v":0},{"$f":"'2'!$BR$21","v":0},{"$f":"'2'!$BS$21","v":0},{"$f":"'2'!$BT$21","v":0},{"$f":"'2'!$BU$21","v":0},2,{"$f":"VLOOKUP(CY173,Přehled!$C$5:$AL$24,36)","v":""},null,null,null,null,null,null,null,null,null,null,null,null,null,null,null,{"$f":"'2'!$CR$21","v":0},{"$f":"'2'!$CS$21","v":0},{"$f":"'2'!$CT$21","v":0},2,{"$f":"VLOOKUP(DS173,Přehled!$C$5:$AL$24,36)","v":""},null,null,null,null,null,null,null,null,null,null,null,null,null,null,null,{"$f":"'6'!$DO$21","v":0},{"$f":"'6'!$DP$21","v":0},{"$f":"'6'!$DQ$21","v":0},6,{"$f":"VLOOKUP(EM173,Přehled!$C$5:$AL$24,36)","v":""}]
[{"$f":"'2'!A76","v":0},{"$f":"'2'!B76","v":0},{"$f":"'2'!C76","v":0},{"$f":"SUMIF($B$5:$B$2024,Souhrn_hod[[#This Row],[Jméno]],$E$5:$E$2024)","v":0},{"$f":"'2'!D76","v":0},{"$f":"'2'!E76","v":0},{"$f":"'2'!F76","v":0},{"$f":"'2'!G76","v":0},{"$f":"'2'!H76","v":0},{"$f":"'2'!I76","v":0},{"$f":"'2'!J76","v":0},{"$f":"'2'!K76","v":0},{"$f":"'2'!L76","v":0},{"$f":"'2'!M76","v":0},{"$f":"'2'!N76","v":0},{"$f":"'2'!O76","v":0},{"$f":"'2'!P76","v":0},{"$f":"'2'!Q76","v":0},{"$f":"'2'!R76","v":0},{"$f":"'2'!S76","v":0},{"$f":"'2'!T76","v":0},{"$f":"'2'!U76","v":0},{"$f":"'2'!V76","v":0},{"$f":"'2'!W76","v":0},{"$f":"'2'!X76","v":0},{"$f":"'2'!Y76","v":0},{"$f":"'2'!Z76","v":0},{"$f":"'2'!AA76","v":0},{"$f":"'2'!AB76","v":0},{"$f":"'2'!AC76","v":0},{"$f":"'2'!AD76","v":0},{"$f":"'2'!AE76","v":0},{"$f":"'2'!AF76","v":0},{"$f":"'2'!AG76","v":0},{"$f":"'2'!AH76","v":0},{"$f":"'2'!AI76","v":0},{"$f":"'2'!AJ76","v":0},2,{"$f":"VLOOKUP(AL174,Přehled!$C$5:$AL$24,36)","v":""},null,null,null,null,null,null,null,null,null,null,null,null,null,null,null,null,null,null,null,null,null,null,null,null,null,null,null,null,null,{"$f":"'2'!$AO$22","v":0},{"$f":"'2'!$AP$22","v":0},{"$f":"'2'!$AQ$22","v":0},{"$f":"'2'!$AR$22","v":0},{"$f":"'2'!$AS$22","v":0},{"$f":"'2'!$AT$22","v":0},2,{"$f":"VLOOKUP(BW174,Přehled!$C$5:$AL$24,36)","v":""},null,null,null,null,null,null,null,null,null,null,null,null,null,null,null,null,null,null,null,null,{"$f":"'2'!$BP$22","v":0},{"$f":"'2'!$BQ$22","v":0},{"$f":"'2'!$BR$22","v":0},{"$f":"'2'!$BS$22","v":0},{"$f":"'2'!$BT$22","v":0},{"$f":"'2'!$BU$22","v":0},2,{"$f":"VLOOKUP(CY174,Přehled!$C$5:$AL$24,36)","v":""},null,null,null,null,null,null,null,null,null,null,null,null,null,null,null,{"$f":"'2'!$CR$22","v":0},{"$f":"'2'!$CS$22","v":0},{"$f":"'2'!$CT$22","v":0},2,{"$f":"VLOOKUP(DS174,Přehled!$C$5:$AL$24,36)","v":""},null,null,null,null,null,null,null,null,null,null,null,null,null,null,null,{"$f":"'6'!$DO$22","v":0},{"$f":"'6'!$DP$22","v":0},{"$f":"'6'!$DQ$22","v":0},6,{"$f":"VLOOKUP(EM174,Přehled!$C$5:$AL$24,36)","v":""}]
[{"$f":"'2'!A77","v":0},{"$f":"'2'!B77","v":0},{"$f":"'2'!C77","v":0},{"$f":"SUMIF($B$5:$B$2024,Souhrn_hod[[#This Row],[Jméno]],$E$5:$E$2024)","v":0},{"$f":"'2'!D77","v":0},{"$f":"'2'!E77","v":0},{"$f":"'2'!F77","v":0},{"$f":"'2'!G77","v":0},{"$f":"'2'!H77","v":0},{"$f":"'2'!I77","v":0},{"$f":"'2'!J77","v":0},{"$f":"'2'!K77","v":0},{"$f":"'2'!L77","v":0},{"$f":"'2'!M77","v":0},{"$f":"'2'!N77","v":0},{"$f":"'2'!O77","v":0},{"$f":"'2'!P77","v":0},{"$f":"'2'!Q77","v":0},{"$f":"'2'!R77","v":0},{"$f":"'2'!S77","v":0},{"$f":"'2'!T77","v":0},{"$f":"'2'!U77","v":0},{"$f":"'2'!V77","v":0},{"$f":"'2'!W77","v":0},{"$f":"'2'!X77","v":0},{"$f":"'2'!Y77","v":0},{"$f":"'2'!Z77","v":0},{"$f":"'2'!AA77","v":0},{"$f":"'2'!AB77","v":0},{"$f":"'2'!AC77","v":0},{"$f":"'2'!AD77","v":0},{"$f":"'2'!AE77","v":0},{"$f":"'2'!AF77","v":0},{"$f":"'2'!AG77","v":0},{"$f":"'2'!AH77","v":0},{"$f":"'2'!AI77","v":0},{"$f":"'2'!AJ77","v":0},2,{"$f":"VLOOKUP(AL175,Přehled!$C$5:$AL$24,36)","v":""},null,null,null,null,null,null,null,null,null,null,null,null,null,null,null,null,null,null,null,null,null,null,null,null,null,null,null,null,null,{"$f":"'2'!$AO$23","v":0},{"$f":"'2'!$AP$23","v":0},{"$f":"'2'!$AQ$23","v":0},{"$f":"'2'!$AR$23","v":0},{"$f":"'2'!$AS$23","v":0},{"$f":"'2'!$AT$23","v":0},2,{"$f":"VLOOKUP(BW175,Přehled!$C$5:$AL$24,36)","v":""},null,null,null,null,null,null,null,null,null,null,null,null,null,null,null,null,null,null,null,null,{"$f":"'2'!$BP$23","v":0},{"$f":"'2'!$BQ$23","v":0},{"$f":"'2'!$BR$23","v":0},{"$f":"'2'!$BS$23","v":0},{"$f":"'2'!$BT$23","v":0},{"$f":"'2'!$BU$23","v":0},2,{"$f":"VLOOKUP(CY175,Přehled!$C$5:$AL$24,36)","v":""},null,null,null,null,null,null,null,null,null,null,null,null,null,null,null,{"$f":"'2'!$CR$23","v":0},{"$f":"'2'!$CS$23","v":0},{"$f":"'2'!$CT$23","v":0},2,{"$f":"VLOOKUP(DS175,Přehled!$C$5:$AL$24,36)","v":""},null,null,null,null,null,null,null,null,null,null,null,null,null,null,null,{"$f":"'6'!$DO$23","v":0},{"$f":"'6'!$DP$23","v":0},{"$f":"'6'!$DQ$23","v":0},6,{"$f":"VLOOKUP(EM175,Přehled!$C$5:$AL$24,36)","v":""}]
[{"$f":"'2'!A78","v":0},{"$f":"'2'!B78","v":0},{"$f":"'2'!C78","v":0},{"$f":"SUMIF($B$5:$B$2024,Souhrn_hod[[#This Row],[Jméno]],$E$5:$E$2024)","v":0},{"$f":"'2'!D78","v":0},{"$f":"'2'!E78","v":0},{"$f":"'2'!F78","v":0},{"$f":"'2'!G78","v":0},{"$f":"'2'!H78","v":0},{"$f":"'2'!I78","v":0},{"$f":"'2'!J78","v":0},{"$f":"'2'!K78","v":0},{"$f":"'2'!L78","v":0},{"$f":"'2'!M78","v":0},{"$f":"'2'!N78","v":0},{"$f":"'2'!O78","v":0},{"$f":"'2'!P78","v":0},{"$f":"'2'!Q78","v":0},{"$f":"'2'!R78","v":0},{"$f":"'2'!S78","v":0},{"$f":"'2'!T78","v":0},{"$f":"'2'!U78","v":0},{"$f":"'2'!V78","v":0},{"$f":"'2'!W78","v":0},{"$f":"'2'!X78","v":0},{"$f":"'2'!Y78","v":0},{"$f":"'2'!Z78","v":0},{"$f":"'2'!AA78","v":0},{"$f":"'2'!AB78","v":0},{"$f":"'2'!AC78","v":0},{"$f":"'2'!AD78","v":0},{"$f":"'2'!AE78","v":0},{"$f":"'2'!AF78","v":0},{"$f":"'2'!AG78","v":0},{"$f":"'2'!AH78","v":0},{"$f":"'2'!AI78","v":0},{"$f":"'2'!AJ78","v":0},2,{"$f":"VLOOKUP(AL176,Přehled!$C$5:$AL$24,36)","v":""},null,null,null,null,null,null,null,null,null,null,null,null,null,null,null,null,null,null,null,null,null,null,null,null,null,null,null,null,null,{"$f":"'2'!$AO$24","v":0},{"$f":"'2'!$AP$24","v":0},{"$f":"'2'!$AQ$24","v":0},{"$f":"'2'!$AR$24","v":0},{"$f":"'2'!$AS$24","v":0},{"$f":"'2'!$AT$24","v":0},2,{"$f":"VLOOKUP(BW176,Přehled!$C$5:$AL$24,36)","v":""},null,null,null,null,null,null,null,null,null,null,null,null,null,null,null,null,null,null,null,null,{"$f":"'2'!$BP$24","v":0},{"$f":"'2'!$BQ$24","v":0},{"$f":"'2'!$BR$24","v":0},{"$f":"'2'!$BS$24","v":0},{"$f":"'2'!$BT$24","v":0},{"$f":"'2'!$BU$24","v":0},2,{"$f":"VLOOKUP(CY176,Přehled!$C$5:$AL$24,36)","v":""},null,null,null,null,null,null,null,null,null,null,null,null,null,null,null,{"$f":"'2'!$CR$24","v":0},{"$f":"'2'!$CS$24","v":0},{"$f":"'2'!$CT$24","v":0},2,{"$f":"VLOOKUP(DS176,Přehled!$C$5:$AL$24,36)","v":""},null,null,null,null,null,null,null,null,null,null,null,null,null,null,null,{"$f":"'6'!$DO$24","v":0},{"$f":"'6'!$DP$24","v":0},{"$f":"'6'!$DQ$24","v":0},6,{"$f":"VLOOKUP(EM176,Přehled!$C$5:$AL$24,36)","v":""}]
[{"$f":"'2'!A79","v":0},{"$f":"'2'!B79","v":0},{"$f":"'2'!C79","v":0},{"$f":"SUMIF($B$5:$B$2024,Souhrn_hod[[#This Row],[Jméno]],$E$5:$E$2024)","v":0},{"$f":"'2'!D79","v":0},{"$f":"'2'!E79","v":0},{"$f":"'2'!F79","v":0},{"$f":"'2'!G79","v":0},{"$f":"'2'!H79","v":0},{"$f":"'2'!I79","v":0},{"$f":"'2'!J79","v":0},{"$f":"'2'!K79","v":0},{"$f":"'2'!L79","v":0},{"$f":"'2'!M79","v":0},{"$f":"'2'!N79","v":0},{"$f":"'2'!O79","v":0},{"$f":"'2'!P79","v":0},{"$f":"'2'!Q79","v":0},{"$f":"'2'!R79","v":0},{"$f":"'2'!S79","v":0},{"$f":"'2'!T79","v":0},{"$f":"'2'!U79","v":0},{"$f":"'2'!V79","v":0},{"$f":"'2'!W79","v":0},{"$f":"'2'!X79","v":0},{"$f":"'2'!Y79","v":0},{"$f":"'2'!Z79","v":0},{"$f":"'2'!AA79","v":0},{"$f":"'2'!AB79","v":0},{"$f":"'2'!AC79","v":0},{"$f":"'2'!AD79","v":0},{"$f":"'2'!AE79","v":0},{"$f":"'2'!AF79","v":0},{"$f":"'2'!AG79","v":0},{"$f":"'2'!AH79","v":0},{"$f":"'2'!AI79","v":0},{"$f":"'2'!AJ79","v":0},2,{"$f":"VLOOKUP(AL177,Přehled!$C$5:$AL$24,36)","v":""},null,null,null,null,null,null,null,null,null,null,null,null,null,null,null,null,null,null,null,null,null,null,null,null,null,null,null,null,null,{"$f":"'2'!$AO$25","v":0},{"$f":"'2'!$AP$25","v":0},{"$f":"'2'!$AQ$25","v":0},{"$f":"'2'!$AR$25","v":0},{"$f":"'2'!$AS$25","v":0},{"$f":"'2'!$AT$25","v":0},2,{"$f":"VLOOKUP(BW177,Přehled!$C$5:$AL$24,36)","v":""},null,null,null,null,null,null,null,null,null,null,null,null,null,null,null,null,null,null,null,null,{"$f":"'2'!$BP$25","v":0},{"$f":"'2'!$BQ$25","v":0},{"$f":"'2'!$BR$25","v":0},{"$f":"'2'!$BS$25","v":0},{"$f":"'2'!$BT$25","v":0},{"$f":"'2'!$BU$25","v":0},2,{"$f":"VLOOKUP(CY177,Přehled!$C$5:$AL$24,36)","v":""},null,null,null,null,null,null,null,null,null,null,null,null,null,null,null,{"$f":"'2'!$CR$25","v":0},{"$f":"'2'!$CS$25","v":0},{"$f":"'2'!$CT$25","v":0},2,{"$f":"VLOOKUP(DS177,Přehled!$C$5:$AL$24,36)","v":""},null,null,null,null,null,null,null,null,null,null,null,null,null,null,null,{"$f":"'6'!$DO$25","v":0},{"$f":"'6'!$DP$25","v":0},{"$f":"'6'!$DQ$25","v":0},6,{"$f":"VLOOKUP(EM177,Přehled!$C$5:$AL$24,36)","v":""}]
[{"$f":"'2'!A80","v":0},{"$f":"'2'!B80","v":0},{"$f":"'2'!C80","v":0},{"$f":"SUMIF($B$5:$B$2024,Souhrn_hod[[#This Row],[Jméno]],$E$5:$E$2024)","v":0},{"$f":"'2'!D80","v":0},{"$f":"'2'!E80","v":0},{"$f":"'2'!F80","v":0},{"$f":"'2'!G80","v":0},{"$f":"'2'!H80","v":0},{"$f":"'2'!I80","v":0},{"$f":"'2'!J80","v":0},{"$f":"'2'!K80","v":0},{"$f":"'2'!L80","v":0},{"$f":"'2'!M80","v":0},{"$f":"'2'!N80","v":0},{"$f":"'2'!O80","v":0},{"$f":"'2'!P80","v":0},{"$f":"'2'!Q80","v":0},{"$f":"'2'!R80","v":0},{"$f":"'2'!S80","v":0},{"$f":"'2'!T80","v":0},{"$f":"'2'!U80","v":0},{"$f":"'2'!V80","v":0},{"$f":"'2'!W80","v":0},{"$f":"'2'!X80","v":0},{"$f":"'2'!Y80","v":0},{"$f":"'2'!Z80","v":0},{"$f":"'2'!AA80","v":0},{"$f":"'2'!AB80","v":0},{"$f":"'2'!AC80","v":0},{"$f":"'2'!AD80","v":0},{"$f":"'2'!AE80","v":0},{"$f":"'2'!AF80","v":0},{"$f":"'2'!AG80","v":0},{"$f":"'2'!AH80","v":0},{"$f":"'2'!AI80","v":0},{"$f":"'2'!AJ80","v":0},2,{"$f":"VLOOKUP(AL178,Přehled!$C$5:$AL$24,36)","v":""},null,null,null,null,null,null,null,null,null,null,null,null,null,null,null,null,null,null,null,null,null,null,null,null,null,null,null,null,null,{"$f":"'2'!$AO$26","v":0},{"$f":"'2'!$AP$26","v":0},{"$f":"'2'!$AQ$26","v":0},{"$f":"'2'!$AR$26","v":0},{"$f":"'2'!$AS$26","v":0},{"$f":"'2'!$AT$26","v":0},2,{"$f":"VLOOKUP(BW178,Přehled!$C$5:$AL$24,36)","v":""},null,null,null,null,null,null,null,null,null,null,null,null,null,null,null,null,null,null,null,null,{"$f":"'2'!$BP$26","v":0},{"$f":"'2'!$BQ$26","v":0},{"$f":"'2'!$BR$26","v":0},{"$f":"'2'!$BS$26","v":0},{"$f":"'2'!$BT$26","v":0},{"$f":"'2'!$BU$26","v":0},2,{"$f":"VLOOKUP(CY178,Přehled!$C$5:$AL$24,36)","v":""},null,null,null,null,null,null,null,null,null,null,null,null,null,null,null,{"$f":"'2'!$CR$26","v":0},{"$f":"'2'!$CS$26","v":0},{"$f":"'2'!$CT$26","v":0},2,{"$f":"VLOOKUP(DS178,Přehled!$C$5:$AL$24,36)","v":""},null,null,null,null,null,null,null,null,null,null,null,null,null,null,null,{"$f":"'6'!$DO$26","v":0},{"$f":"'6'!$DP$26","v":0},{"$f":"'6'!$DQ$26","v":0},6,{"$f":"VLOOKUP(EM178,Přehled!$C$5:$AL$24,36)","v":""}]
[{"$f":"'2'!A81","v":0},{"$f":"'2'!B81","v":0},{"$f":"'2'!C81","v":0},{"$f":"SUMIF($B$5:$B$2024,Souhrn_hod[[#This Row],[Jméno]],$E$5:$E$2024)","v":0},{"$f":"'2'!D81","v":0},{"$f":"'2'!E81","v":0},{"$f":"'2'!F81","v":0},{"$f":"'2'!G81","v":0},{"$f":"'2'!H81","v":0},{"$f":"'2'!I81","v":0},{"$f":"'2'!J81","v":0},{"$f":"'2'!K81","v":0},{"$f":"'2'!L81","v":0},{"$f":"'2'!M81","v":0},{"$f":"'2'!N81","v":0},{"$f":"'2'!O81","v":0},{"$f":"'2'!P81","v":0},{"$f":"'2'!Q81","v":0},{"$f":"'2'!R81","v":0},{"$f":"'2'!S81","v":0},{"$f":"'2'!T81","v":0},{"$f":"'2'!U81","v":0},{"$f":"'2'!V81","v":0},{"$f":"'2'!W81","v":0},{"$f":"'2'!X81","v":0},{"$f":"'2'!Y81","v":0},{"$f":"'2'!Z81","v":0},{"$f":"'2'!AA81","v":0},{"$f":"'2'!AB81","v":0},{"$f":"'2'!AC81","v":0},{"$f":"'2'!AD81","v":0},{"$f":"'2'!AE81","v":0},{"$f":"'2'!AF81","v":0},{"$f":"'2'!AG81","v":0},{"$f":"'2'!AH81","v":0},{"$f":"'2'!AI81","v":0},{"$f":"'2'!AJ81","v":0},2,{"$f":"VLOOKUP(AL179,Přehled!$C$5:$AL$24,36)","v":""},null,null,null,null,null,null,null,null,null,null,null,null,null,null,null,null,null,null,null,null,null,null,null,null,null,null,null,null,null,{"$f":"'2'!$AO$27","v":0},{"$f":"'2'!$AP$27","v":0},{"$f":"'2'!$AQ$27","v":0},{"$f":"'2'!$AR$27","v":0},{"$f":"'2'!$AS$27","v":0},{"$f":"'2'!$AT$27","v":0},2,{"$f":"VLOOKUP(BW179,Přehled!$C$5:$AL$24,36)","v":""},null,null,null,null,null,null,null,null,null,null,null,null,null,null,null,null,null,null,null,null,{"$f":"'2'!$BP$27","v":0},{"$f":"'2'!$BQ$27","v":0},{"$f":"'2'!$BR$27","v":0},{"$f":"'2'!$BS$27","v":0},{"$f":"'2'!$BT$27","v":0},{"$f":"'2'!$BU$27","v":0},2,{"$f":"VLOOKUP(CY179,Přehled!$C$5:$AL$24,36)","v":""},null,null,null,null,null,null,null,null,null,null,null,null,null,null,null,{"$f":"'2'!$CR$27","v":0},{"$f":"'2'!$CS$27","v":0},{"$f":"'2'!$CT$27","v":0},2,{"$f":"VLOOKUP(DS179,Přehled!$C$5:$AL$24,36)","v":""},null,null,null,null,null,null,null,null,null,null,null,null,null,null,null,{"$f":"'6'!$DO$27","v":0},{"$f":"'6'!$DP$27","v":0},{"$f":"'6'!$DQ$27","v":0},6,{"$f":"VLOOKUP(EM179,Přehled!$C$5:$AL$24,36)","v":""}]
[{"$f":"'2'!A82","v":0},{"$f":"'2'!B82","v":0},{"$f":"'2'!C82","v":0},{"$f":"SUMIF($B$5:$B$2024,Souhrn_hod[[#This Row],[Jméno]],$E$5:$E$2024)","v":0},{"$f":"'2'!D82","v":0},{"$f":"'2'!E82","v":0},{"$f":"'2'!F82","v":0},{"$f":"'2'!G82","v":0},{"$f":"'2'!H82","v":0},{"$f":"'2'!I82","v":0},{"$f":"'2'!J82","v":0},{"$f":"'2'!K82","v":0},{"$f":"'2'!L82","v":0},{"$f":"'2'!M82","v":0},{"$f":"'2'!N82","v":0},{"$f":"'2'!O82","v":0},{"$f":"'2'!P82","v":0},{"$f":"'2'!Q82","v":0},{"$f":"'2'!R82","v":0},{"$f":"'2'!S82","v":0},{"$f":"'2'!T82","v":0},{"$f":"'2'!U82","v":0},{"$f":"'2'!V82","v":0},{"$f":"'2'!W82","v":0},{"$f":"'2'!X82","v":0},{"$f":"'2'!Y82","v":0},{"$f":"'2'!Z82","v":0},{"$f":"'2'!AA82","v":0},{"$f":"'2'!AB82","v":0},{"$f":"'2'!AC82","v":0},{"$f":"'2'!AD82","v":0},{"$f":"'2'!AE82","v":0},{"$f":"'2'!AF82","v":0},{"$f":"'2'!AG82","v":0},{"$f":"'2'!AH82","v":0},{"$f":"'2'!AI82","v":0},{"$f":"'2'!AJ82","v":0},2,{"$f":"VLOOKUP(AL180,Přehled!$C$5:$AL$24,36)","v":""},null,null,null,null,null,null,null,null,null,null,null,null,null,null,null,null,null,null,null,null,null,null,null,null,null,null,null,null,null,{"$f":"'2'!$AO$28","v":0},{"$f":"'2'!$AP$28","v":0},{"$f":"'2'!$AQ$28","v":0},{"$f":"'2'!$AR$28","v":0},{"$f":"'2'!$AS$28","v":0},{"$f":"'2'!$AT$28","v":0},2,{"$f":"VLOOKUP(BW180,Přehled!$C$5:$AL$24,36)","v":""},null,null,null,null,null,null,null,null,null,null,null,null,null,null,null,null,null,null,null,null,{"$f":"'2'!$BP$28","v":0},{"$f":"'2'!$BQ$28","v":0},{"$f":"'2'!$BR$28","v":0},{"$f":"'2'!$BS$28","v":0},{"$f":"'2'!$BT$28","v":0},{"$f":"'2'!$BU$28","v":0},2,{"$f":"VLOOKUP(CY180,Přehled!$C$5:$AL$24,36)","v":""},null,null,null,null,null,null,null,null,null,null,null,null,null,null,null,{"$f":"'2'!$CR$28","v":0},{"$f":"'2'!$CS$28","v":0},{"$f":"'2'!$CT$28","v":0},2,{"$f":"VLOOKUP(DS180,Přehled!$C$5:$AL$24,36)","v":""},null,null,null,null,null,null,null,null,null,null,null,null,null,null,null,{"$f":"'6'!$DO$28","v":0},{"$f":"'6'!$DP$28","v":0},{"$f":"'6'!$DQ$28","v":0},6,{"$f":"VLOOKUP(EM180,Přehled!$C$5:$AL$24,36)","v":""}]
[{"$f":"'2'!A83","v":0},{"$f":"'2'!B83","v":0},{"$f":"'2'!C83","v":0},{"$f":"SUMIF($B$5:$B$2024,Souhrn_hod[[#This Row],[Jméno]],$E$5:$E$2024)","v":0},{"$f":"'2'!D83","v":0},{"$f":"'2'!E83","v":0},{"$f":"'2'!F83","v":0},{"$f":"'2'!G83","v":0},{"$f":"'2'!H83","v":0},{"$f":"'2'!I83","v":0},{"$f":"'2'!J83","v":0},{"$f":"'2'!K83","v":0},{"$f":"'2'!L83","v":0},{"$f":"'2'!M83","v":0},{"$f":"'2'!N83","v":0},{"$f":"'2'!O83","v":0},{"$f":"'2'!P83","v":0},{"$f":"'2'!Q83","v":0},{"$f":"'2'!R83","v":0},{"$f":"'2'!S83","v":0},{"$f":"'2'!T83","v":0},{"$f":"'2'!U83","v":0},{"$f":"'2'!V83","v":0},{"$f":"'2'!W83","v":0},{"$f":"'2'!X83","v":0},{"$f":"'2'!Y83","v":0},{"$f":"'2'!Z83","v":0},{"$f":"'2'!AA83","v":0},{"$f":"'2'!AB83","v":0},{"$f":"'2'!AC83","v":0},{"$f":"'2'!AD83","v":0},{"$f":"'2'!AE83","v":0},{"$f":"'2'!AF83","v":0},{"$f":"'2'!AG83","v":0},{"$f":"'2'!AH83","v":0},{"$f":"'2'!AI83","v":0},{"$f":"'2'!AJ83","v":0},2,{"$f":"VLOOKUP(AL181,Přehled!$C$5:$AL$24,36)","v":""},null,null,null,null,null,null,null,null,null,null,null,null,null,null,null,null,null,null,null,null,null,null,null,null,null,null,null,null,null,{"$f":"'2'!$AO$29","v":0},{"$f":"'2'!$AP$29","v":0},{"$f":"'2'!$AQ$29","v":0},{"$f":"'2'!$AR$29","v":0},{"$f":"'2'!$AS$29","v":0},{"$f":"'2'!$AT$29","v":0},2,{"$f":"VLOOKUP(BW181,Přehled!$C$5:$AL$24,36)","v":""},null,null,null,null,null,null,null,null,null,null,null,null,null,null,null,null,null,null,null,null,{"$f":"'2'!$BP$29","v":0},{"$f":"'2'!$BQ$29","v":0},{"$f":"'2'!$BR$29","v":0},{"$f":"'2'!$BS$29","v":0},{"$f":"'2'!$BT$29","v":0},{"$f":"'2'!$BU$29","v":0},2,{"$f":"VLOOKUP(CY181,Přehled!$C$5:$AL$24,36)","v":""},null,null,null,null,null,null,null,null,null,null,null,null,null,null,null,{"$f":"'2'!$CR$29","v":0},{"$f":"'2'!$CS$29","v":0},{"$f":"'2'!$CT$29","v":0},2,{"$f":"VLOOKUP(DS181,Přehled!$C$5:$AL$24,36)","v":""},null,null,null,null,null,null,null,null,null,null,null,null,null,null,null,{"$f":"'6'!$DO$29","v":0},{"$f":"'6'!$DP$29","v":0},{"$f":"'6'!$DQ$29","v":0},6,{"$f":"VLOOKUP(EM181,Přehled!$C$5:$AL$24,36)","v":""}]
[{"$f":"'2'!A84","v":0},{"$f":"'2'!B84","v":0},{"$f":"'2'!C84","v":0},{"$f":"SUMIF($B$5:$B$2024,Souhrn_hod[[#This Row],[Jméno]],$E$5:$E$2024)","v":0},{"$f":"'2'!D84","v":0},{"$f":"'2'!E84","v":0},{"$f":"'2'!F84","v":0},{"$f":"'2'!G84","v":0},{"$f":"'2'!H84","v":0},{"$f":"'2'!I84","v":0},{"$f":"'2'!J84","v":0},{"$f":"'2'!K84","v":0},{"$f":"'2'!L84","v":0},{"$f":"'2'!M84","v":0},{"$f":"'2'!N84","v":0},{"$f":"'2'!O84","v":0},{"$f":"'2'!P84","v":0},{"$f":"'2'!Q84","v":0},{"$f":"'2'!R84","v":0},{"$f":"'2'!S84","v":0},{"$f":"'2'!T84","v":0},{"$f":"'2'!U84","v":0},{"$f":"'2'!V84","v":0},{"$f":"'2'!W84","v":0},{"$f":"'2'!X84","v":0},{"$f":"'2'!Y84","v":0},{"$f":"'2'!Z84","v":0},{"$f":"'2'!AA84","v":0},{"$f":"'2'!AB84","v":0},{"$f":"'2'!AC84","v":0},{"$f":"'2'!AD84","v":0},{"$f":"'2'!AE84","v":0},{"$f":"'2'!AF84","v":0},{"$f":"'2'!AG84","v":0},{"$f":"'2'!AH84","v":0},{"$f":"'2'!AI84","v":0},{"$f":"'2'!AJ84","v":0},2,{"$f":"VLOOKUP(AL182,Přehled!$C$5:$AL$24,36)","v":""},null,null,null,null,null,null,null,null,null,null,null,null,null,null,null,null,null,null,null,null,null,null,null,null,null,null,null,null,null,{"$f":"'2'!$AO$30","v":0},{"$f":"'2'!$AP$30","v":0},{"$f":"'2'!$AQ$30","v":0},{"$f":"'2'!$AR$30","v":0},{"$f":"'2'!$AS$30","v":0},{"$f":"'2'!$AT$30","v":0},2,{"$f":"VLOOKUP(BW182,Přehled!$C$5:$AL$24,36)","v":""},null,null,null,null,null,null,null,null,null,null,null,null,null,null,null,null,null,null,null,null,{"$f":"'2'!$BP$30","v":0},{"$f":"'2'!$BQ$30","v":0},{"$f":"'2'!$BR$30","v":0},{"$f":"'2'!$BS$30","v":0},{"$f":"'2'!$BT$30","v":0},{"$f":"'2'!$BU$30","v":0},2,{"$f":"VLOOKUP(CY182,Přehled!$C$5:$AL$24,36)","v":""},null,null,null,null,null,null,null,null,null,null,null,null,null,null,null,{"$f":"'2'!$CR$30","v":0},{"$f":"'2'!$CS$30","v":0},{"$f":"'2'!$CT$30","v":0},2,{"$f":"VLOOKUP(DS182,Přehled!$C$5:$AL$24,36)","v":""},null,null,null,null,null,null,null,null,null,null,null,null,null,null,null,{"$f":"'6'!$DO$30","v":0},{"$f":"'6'!$DP$30","v":0},{"$f":"'6'!$DQ$30","v":0},6,{"$f":"VLOOKUP(EM182,Přehled!$C$5:$AL$24,36)","v":""}]
[{"$f":"'2'!A85","v":0},{"$f":"'2'!B85","v":0},{"$f":"'2'!C85","v":0},{"$f":"SUMIF($B$5:$B$2024,Souhrn_hod[[#This Row],[Jméno]],$E$5:$E$2024)","v":0},{"$f":"'2'!D85","v":0},{"$f":"'2'!E85","v":0},{"$f":"'2'!F85","v":0},{"$f":"'2'!G85","v":0},{"$f":"'2'!H85","v":0},{"$f":"'2'!I85","v":0},{"$f":"'2'!J85","v":0},{"$f":"'2'!K85","v":0},{"$f":"'2'!L85","v":0},{"$f":"'2'!M85","v":0},{"$f":"'2'!N85","v":0},{"$f":"'2'!O85","v":0},{"$f":"'2'!P85","v":0},{"$f":"'2'!Q85","v":0},{"$f":"'2'!R85","v":0},{"$f":"'2'!S85","v":0},{"$f":"'2'!T85","v":0},{"$f":"'2'!U85","v":0},{"$f":"'2'!V85","v":0},{"$f":"'2'!W85","v":0},{"$f":"'2'!X85","v":0},{"$f":"'2'!Y85","v":0},{"$f":"'2'!Z85","v":0},{"$f":"'2'!AA85","v":0},{"$f":"'2'!AB85","v":0},{"$f":"'2'!AC85","v":0},{"$f":"'2'!AD85","v":0},{"$f":"'2'!AE85","v":0},{"$f":"'2'!AF85","v":0},{"$f":"'2'!AG85","v":0},{"$f":"'2'!AH85","v":0},{"$f":"'2'!AI85","v":0},{"$f":"'2'!AJ85","v":0},2,{"$f":"VLOOKUP(AL183,Přehled!$C$5:$AL$24,36)","v":""},null,null,null,null,null,null,null,null,null,null,null,null,null,null,null,null,null,null,null,null,null,null,null,null,null,null,null,null,null,{"$f":"'2'!$AO$31","v":0},{"$f":"'2'!$AP$31","v":0},{"$f":"'2'!$AQ$31","v":0},{"$f":"'2'!$AR$31","v":0},{"$f":"'2'!$AS$31","v":0},{"$f":"'2'!$AT$31","v":0},2,{"$f":"VLOOKUP(BW183,Přehled!$C$5:$AL$24,36)","v":""},null,null,null,null,null,null,null,null,null,null,null,null,null,null,null,null,null,null,null,null,{"$f":"'2'!$BP$31","v":0},{"$f":"'2'!$BQ$31","v":0},{"$f":"'2'!$BR$31","v":0},{"$f":"'2'!$BS$31","v":0},{"$f":"'2'!$BT$31","v":0},{"$f":"'2'!$BU$31","v":0},2,{"$f":"VLOOKUP(CY183,Přehled!$C$5:$AL$24,36)","v":""},null,null,null,null,null,null,null,null,null,null,null,null,null,null,null,{"$f":"'2'!$CR$31","v":0},{"$f":"'2'!$CS$31","v":0},{"$f":"'2'!$CT$31","v":0},2,{"$f":"VLOOKUP(DS183,Přehled!$C$5:$AL$24,36)","v":""},null,null,null,null,null,null,null,null,null,null,null,null,null,null,null,{"$f":"'6'!$DO$31","v":0},{"$f":"'6'!$DP$31","v":0},{"$f":"'6'!$DQ$31","v":0},6,{"$f":"VLOOKUP(EM183,Přehled!$C$5:$AL$24,36)","v":""}]
[{"$f":"'2'!A86","v":0},{"$f":"'2'!B86","v":0},{"$f":"'2'!C86","v":0},{"$f":"SUMIF($B$5:$B$2024,Souhrn_hod[[#This Row],[Jméno]],$E$5:$E$2024)","v":0},{"$f":"'2'!D86","v":0},{"$f":"'2'!E86","v":0},{"$f":"'2'!F86","v":0},{"$f":"'2'!G86","v":0},{"$f":"'2'!H86","v":0},{"$f":"'2'!I86","v":0},{"$f":"'2'!J86","v":0},{"$f":"'2'!K86","v":0},{"$f":"'2'!L86","v":0},{"$f":"'2'!M86","v":0},{"$f":"'2'!N86","v":0},{"$f":"'2'!O86","v":0},{"$f":"'2'!P86","v":0},{"$f":"'2'!Q86","v":0},{"$f":"'2'!R86","v":0},{"$f":"'2'!S86","v":0},{"$f":"'2'!T86","v":0},{"$f":"'2'!U86","v":0},{"$f":"'2'!V86","v":0},{"$f":"'2'!W86","v":0},{"$f":"'2'!X86","v":0},{"$f":"'2'!Y86","v":0},{"$f":"'2'!Z86","v":0},{"$f":"'2'!AA86","v":0},{"$f":"'2'!AB86","v":0},{"$f":"'2'!AC86","v":0},{"$f":"'2'!AD86","v":0},{"$f":"'2'!AE86","v":0},{"$f":"'2'!AF86","v":0},{"$f":"'2'!AG86","v":0},{"$f":"'2'!AH86","v":0},{"$f":"'2'!AI86","v":0},{"$f":"'2'!AJ86","v":0},2,{"$f":"VLOOKUP(AL184,Přehled!$C$5:$AL$24,36)","v":""},null,null,null,null,null,null,null,null,null,null,null,null,null,null,null,null,null,null,null,null,null,null,null,null,null,null,null,null,null,{"$f":"'2'!$AO$32","v":0},{"$f":"'2'!$AP$32","v":0},{"$f":"'2'!$AQ$32","v":0},{"$f":"'2'!$AR$32","v":0},{"$f":"'2'!$AS$32","v":0},{"$f":"'2'!$AT$32","v":0},2,{"$f":"VLOOKUP(BW184,Přehled!$C$5:$AL$24,36)","v":""},null,null,null,null,null,null,null,null,null,null,null,null,null,null,null,null,null,null,null,null,{"$f":"'2'!$BP$32","v":0},{"$f":"'2'!$BQ$32","v":0},{"$f":"'2'!$BR$32","v":0},{"$f":"'2'!$BS$32","v":0},{"$f":"'2'!$BT$32","v":0},{"$f":"'2'!$BU$32","v":0},2,{"$f":"VLOOKUP(CY184,Přehled!$C$5:$AL$24,36)","v":""},null,null,null,null,null,null,null,null,null,null,null,null,null,null,null,{"$f":"'2'!$CR$32","v":0},{"$f":"'2'!$CS$32","v":0},{"$f":"'2'!$CT$32","v":0},2,{"$f":"VLOOKUP(DS184,Přehled!$C$5:$AL$24,36)","v":""},null,null,null,null,null,null,null,null,null,null,null,null,null,null,null,{"$f":"'6'!$DO$32","v":0},{"$f":"'6'!$DP$32","v":0},{"$f":"'6'!$DQ$32","v":0},6,{"$f":"VLOOKUP(EM184,Přehled!$C$5:$AL$24,36)","v":""}]
[{"$f":"'2'!A87","v":0},{"$f":"'2'!B87","v":0},{"$f":"'2'!C87","v":0},{"$f":"SUMIF($B$5:$B$2024,Souhrn_hod[[#This Row],[Jméno]],$E$5:$E$2024)","v":0},{"$f":"'2'!D87","v":0},{"$f":"'2'!E87","v":0},{"$f":"'2'!F87","v":0},{"$f":"'2'!G87","v":0},{"$f":"'2'!H87","v":0},{"$f":"'2'!I87","v":0},{"$f":"'2'!J87","v":0},{"$f":"'2'!K87","v":0},{"$f":"'2'!L87","v":0},{"$f":"'2'!M87","v":0},{"$f":"'2'!N87","v":0},{"$f":"'2'!O87","v":0},{"$f":"'2'!P87","v":0},{"$f":"'2'!Q87","v":0},{"$f":"'2'!R87","v":0},{"$f":"'2'!S87","v":0},{"$f":"'2'!T87","v":0},{"$f":"'2'!U87","v":0},{"$f":"'2'!V87","v":0},{"$f":"'2'!W87","v":0},{"$f":"'2'!X87","v":0},{"$f":"'2'!Y87","v":0},{"$f":"'2'!Z87","v":0},{"$f":"'2'!AA87","v":0},{"$f":"'2'!AB87","v":0},{"$f":"'2'!AC87","v":0},{"$f":"'2'!AD87","v":0},{"$f":"'2'!AE87","v":0},{"$f":"'2'!AF87","v":0},{"$f":"'2'!AG87","v":0},{"$f":"'2'!AH87","v":0},{"$f":"'2'!AI87","v":0},{"$f":"'2'!AJ87","v":0},2,{"$f":"VLOOKUP(AL185,Přehled!$C$5:$AL$24,36)","v":""},null,null,null,null,null,null,null,null,null,null,null,null,null,null,null,null,null,null,null,null,null,null,null,null,null,null,null,null,null,{"$f":"'2'!$AO$33","v":0},{"$f":"'2'!$AP$33","v":0},{"$f":"'2'!$AQ$33","v":0},{"$f":"'2'!$AR$33","v":0},{"$f":"'2'!$AS$33","v":0},{"$f":"'2'!$AT$33","v":0},2,{"$f":"VLOOKUP(BW185,Přehled!$C$5:$AL$24,36)","v":""},null,null,null,null,null,null,null,null,null,null,null,null,null,null,null,null,null,null,null,null,{"$f":"'2'!$BP$33","v":0},{"$f":"'2'!$BQ$33","v":0},{"$f":"'2'!$BR$33","v":0},{"$f":"'2'!$BS$33","v":0},{"$f":"'2'!$BT$33","v":0},{"$f":"'2'!$BU$33","v":0},2,{"$f":"VLOOKUP(CY185,Přehled!$C$5:$AL$24,36)","v":""},null,null,null,null,null,null,null,null,null,null,null,null,null,null,null,{"$f":"'2'!$CR$33","v":0},{"$f":"'2'!$CS$33","v":0},{"$f":"'2'!$CT$33","v":0},2,{"$f":"VLOOKUP(DS185,Přehled!$C$5:$AL$24,36)","v":""},null,null,null,null,null,null,null,null,null,null,null,null,null,null,null,{"$f":"'6'!$DO$33","v":0},{"$f":"'6'!$DP$33","v":0},{"$f":"'6'!$DQ$33","v":0},6,{"$f":"VLOOKUP(EM185,Přehled!$C$5:$AL$24,36)","v":""}]
[{"$f":"'2'!A88","v":0},{"$f":"'2'!B88","v":0},{"$f":"'2'!C88","v":0},{"$f":"SUMIF($B$5:$B$2024,Souhrn_hod[[#This Row],[Jméno]],$E$5:$E$2024)","v":0},{"$f":"'2'!D88","v":0},{"$f":"'2'!E88","v":0},{"$f":"'2'!F88","v":0},{"$f":"'2'!G88","v":0},{"$f":"'2'!H88","v":0},{"$f":"'2'!I88","v":0},{"$f":"'2'!J88","v":0},{"$f":"'2'!K88","v":0},{"$f":"'2'!L88","v":0},{"$f":"'2'!M88","v":0},{"$f":"'2'!N88","v":0},{"$f":"'2'!O88","v":0},{"$f":"'2'!P88","v":0},{"$f":"'2'!Q88","v":0},{"$f":"'2'!R88","v":0},{"$f":"'2'!S88","v":0},{"$f":"'2'!T88","v":0},{"$f":"'2'!U88","v":0},{"$f":"'2'!V88","v":0},{"$f":"'2'!W88","v":0},{"$f":"'2'!X88","v":0},{"$f":"'2'!Y88","v":0},{"$f":"'2'!Z88","v":0},{"$f":"'2'!AA88","v":0},{"$f":"'2'!AB88","v":0},{"$f":"'2'!AC88","v":0},{"$f":"'2'!AD88","v":0},{"$f":"'2'!AE88","v":0},{"$f":"'2'!AF88","v":0},{"$f":"'2'!AG88","v":0},{"$f":"'2'!AH88","v":0},{"$f":"'2'!AI88","v":0},{"$f":"'2'!AJ88","v":0},2,{"$f":"VLOOKUP(AL186,Přehled!$C$5:$AL$24,36)","v":""},null,null,null,null,null,null,null,null,null,null,null,null,null,null,null,null,null,null,null,null,null,null,null,null,null,null,null,null,null,{"$f":"'2'!$AO$34","v":0},{"$f":"'2'!$AP$34","v":0},{"$f":"'2'!$AQ$34","v":0},{"$f":"'2'!$AR$34","v":0},{"$f":"'2'!$AS$34","v":0},{"$f":"'2'!$AT$34","v":0},2,{"$f":"VLOOKUP(BW186,Přehled!$C$5:$AL$24,36)","v":""},null,null,null,null,null,null,null,null,null,null,null,null,null,null,null,null,null,null,null,null,{"$f":"'2'!$BP$34","v":0},{"$f":"'2'!$BQ$34","v":0},{"$f":"'2'!$BR$34","v":0},{"$f":"'2'!$BS$34","v":0},{"$f":"'2'!$BT$34","v":0},{"$f":"'2'!$BU$34","v":0},2,{"$f":"VLOOKUP(CY186,Přehled!$C$5:$AL$24,36)","v":""},null,null,null,null,null,null,null,null,null,null,null,null,null,null,null,{"$f":"'2'!$CR$34","v":0},{"$f":"'2'!$CS$34","v":0},{"$f":"'2'!$CT$34","v":0},2,{"$f":"VLOOKUP(DS186,Přehled!$C$5:$AL$24,36)","v":""},null,null,null,null,null,null,null,null,null,null,null,null,null,null,null,{"$f":"'6'!$DO$34","v":0},{"$f":"'6'!$DP$34","v":0},{"$f":"'6'!$DQ$34","v":0},6,{"$f":"VLOOKUP(EM186,Přehled!$C$5:$AL$24,36)","v":""}]
[{"$f":"'2'!A89","v":0},{"$f":"'2'!B89","v":0},{"$f":"'2'!C89","v":0},{"$f":"SUMIF($B$5:$B$2024,Souhrn_hod[[#This Row],[Jméno]],$E$5:$E$2024)","v":0},{"$f":"'2'!D89","v":0},{"$f":"'2'!E89","v":0},{"$f":"'2'!F89","v":0},{"$f":"'2'!G89","v":0},{"$f":"'2'!H89","v":0},{"$f":"'2'!I89","v":0},{"$f":"'2'!J89","v":0},{"$f":"'2'!K89","v":0},{"$f":"'2'!L89","v":0},{"$f":"'2'!M89","v":0},{"$f":"'2'!N89","v":0},{"$f":"'2'!O89","v":0},{"$f":"'2'!P89","v":0},{"$f":"'2'!Q89","v":0},{"$f":"'2'!R89","v":0},{"$f":"'2'!S89","v":0},{"$f":"'2'!T89","v":0},{"$f":"'2'!U89","v":0},{"$f":"'2'!V89","v":0},{"$f":"'2'!W89","v":0},{"$f":"'2'!X89","v":0},{"$f":"'2'!Y89","v":0},{"$f":"'2'!Z89","v":0},{"$f":"'2'!AA89","v":0},{"$f":"'2'!AB89","v":0},{"$f":"'2'!AC89","v":0},{"$f":"'2'!AD89","v":0},{"$f":"'2'!AE89","v":0},{"$f":"'2'!AF89","v":0},{"$f":"'2'!AG89","v":0},{"$f":"'2'!AH89","v":0},{"$f":"'2'!AI89","v":0},{"$f":"'2'!AJ89","v":0},2,{"$f":"VLOOKUP(AL187,Přehled!$C$5:$AL$24,36)","v":""},null,null,null,null,null,null,null,null,null,null,null,null,null,null,null,null,null,null,null,null,null,null,null,null,null,null,null,null,null,{"$f":"'2'!$AO$35","v":0},{"$f":"'2'!$AP$35","v":0},{"$f":"'2'!$AQ$35","v":0},{"$f":"'2'!$AR$35","v":0},{"$f":"'2'!$AS$35","v":0},{"$f":"'2'!$AT$35","v":0},2,{"$f":"VLOOKUP(BW187,Přehled!$C$5:$AL$24,36)","v":""},null,null,null,null,null,null,null,null,null,null,null,null,null,null,null,null,null,null,null,null,{"$f":"'2'!$BP$35","v":0},{"$f":"'2'!$BQ$35","v":0},{"$f":"'2'!$BR$35","v":0},{"$f":"'2'!$BS$35","v":0},{"$f":"'2'!$BT$35","v":0},{"$f":"'2'!$BU$35","v":0},2,{"$f":"VLOOKUP(CY187,Přehled!$C$5:$AL$24,36)","v":""},null,null,null,null,null,null,null,null,null,null,null,null,null,null,null,{"$f":"'2'!$CR$35","v":0},{"$f":"'2'!$CS$35","v":0},{"$f":"'2'!$CT$35","v":0},2,{"$f":"VLOOKUP(DS187,Přehled!$C$5:$AL$24,36)","v":""},null,null,null,null,null,null,null,null,null,null,null,null,null,null,null,{"$f":"'6'!$DO$35","v":0},{"$f":"'6'!$DP$35","v":0},{"$f":"'6'!$DQ$35","v":0},6,{"$f":"VLOOKUP(EM187,Přehled!$C$5:$AL$24,36)","v":""}]
[{"$f":"'2'!A90","v":0},{"$f":"'2'!B90","v":0},{"$f":"'2'!C90","v":0},{"$f":"SUMIF($B$5:$B$2024,Souhrn_hod[[#This Row],[Jméno]],$E$5:$E$2024)","v":0},{"$f":"'2'!D90","v":0},{"$f":"'2'!E90","v":0},{"$f":"'2'!F90","v":0},{"$f":"'2'!G90","v":0},{"$f":"'2'!H90","v":0},{"$f":"'2'!I90","v":0},{"$f":"'2'!J90","v":0},{"$f":"'2'!K90","v":0},{"$f":"'2'!L90","v":0},{"$f":"'2'!M90","v":0},{"$f":"'2'!N90","v":0},{"$f":"'2'!O90","v":0},{"$f":"'2'!P90","v":0},{"$f":"'2'!Q90","v":0},{"$f":"'2'!R90","v":0},{"$f":"'2'!S90","v":0},{"$f":"'2'!T90","v":0},{"$f":"'2'!U90","v":0},{"$f":"'2'!V90","v":0},{"$f":"'2'!W90","v":0},{"$f":"'2'!X90","v":0},{"$f":"'2'!Y90","v":0},{"$f":"'2'!Z90","v":0},{"$f":"'2'!AA90","v":0},{"$f":"'2'!AB90","v":0},{"$f":"'2'!AC90","v":0},{"$f":"'2'!AD90","v":0},{"$f":"'2'!AE90","v":0},{"$f":"'2'!AF90","v":0},{"$f":"'2'!AG90","v":0},{"$f":"'2'!AH90","v":0},{"$f":"'2'!AI90","v":0},{"$f":"'2'!AJ90","v":0},2,{"$f":"VLOOKUP(AL188,Přehled!$C$5:$AL$24,36)","v":""},null,null,null,null,null,null,null,null,null,null,null,null,null,null,null,null,null,null,null,null,null,null,null,null,null,null,null,null,null,{"$f":"'2'!$AO$36","v":0},{"$f":"'2'!$AP$36","v":0},{"$f":"'2'!$AQ$36","v":0},{"$f":"'2'!$AR$36","v":0},{"$f":"'2'!$AS$36","v":0},{"$f":"'2'!$AT$36","v":0},2,{"$f":"VLOOKUP(BW188,Přehled!$C$5:$AL$24,36)","v":""},null,null,null,null,null,null,null,null,null,null,null,null,null,null,null,null,null,null,null,null,{"$f":"'2'!$BP$36","v":0},{"$f":"'2'!$BQ$36","v":0},{"$f":"'2'!$BR$36","v":0},{"$f":"'2'!$BS$36","v":0},{"$f":"'2'!$BT$36","v":0},{"$f":"'2'!$BU$36","v":0},2,{"$f":"VLOOKUP(CY188,Přehled!$C$5:$AL$24,36)","v":""},null,null,null,null,null,null,null,null,null,null,null,null,null,null,null,{"$f":"'2'!$CR$36","v":0},{"$f":"'2'!$CS$36","v":0},{"$f":"'2'!$CT$36","v":0},2,{"$f":"VLOOKUP(DS188,Přehled!$C$5:$AL$24,36)","v":""},null,null,null,null,null,null,null,null,null,null,null,null,null,null,null,{"$f":"'6'!$DO$36","v":0},{"$f":"'6'!$DP$36","v":0},{"$f":"'6'!$DQ$36","v":0},6,{"$f":"VLOOKUP(EM188,Přehled!$C$5:$AL$24,36)","v":""}]
[{"$f":"'2'!A91","v":0},{"$f":"'2'!B91","v":0},{"$f":"'2'!C91","v":0},{"$f":"SUMIF($B$5:$B$2024,Souhrn_hod[[#This Row],[Jméno]],$E$5:$E$2024)","v":0},{"$f":"'2'!D91","v":0},{"$f":"'2'!E91","v":0},{"$f":"'2'!F91","v":0},{"$f":"'2'!G91","v":0},{"$f":"'2'!H91","v":0},{"$f":"'2'!I91","v":0},{"$f":"'2'!J91","v":0},{"$f":"'2'!K91","v":0},{"$f":"'2'!L91","v":0},{"$f":"'2'!M91","v":0},{"$f":"'2'!N91","v":0},{"$f":"'2'!O91","v":0},{"$f":"'2'!P91","v":0},{"$f":"'2'!Q91","v":0},{"$f":"'2'!R91","v":0},{"$f":"'2'!S91","v":0},{"$f":"'2'!T91","v":0},{"$f":"'2'!U91","v":0},{"$f":"'2'!V91","v":0},{"$f":"'2'!W91","v":0},{"$f":"'2'!X91","v":0},{"$f":"'2'!Y91","v":0},{"$f":"'2'!Z91","v":0},{"$f":"'2'!AA91","v":0},{"$f":"'2'!AB91","v":0},{"$f":"'2'!AC91","v":0},{"$f":"'2'!AD91","v":0},{"$f":"'2'!AE91","v":0},{"$f":"'2'!AF91","v":0},{"$f":"'2'!AG91","v":0},{"$f":"'2'!AH91","v":0},{"$f":"'2'!AI91","v":0},{"$f":"'2'!AJ91","v":0},2,{"$f":"VLOOKUP(AL189,Přehled!$C$5:$AL$24,36)","v":""},null,null,null,null,null,null,null,null,null,null,null,null,null,null,null,null,null,null,null,null,null,null,null,null,null,null,null,null,null,{"$f":"'2'!$AO$37","v":0},{"$f":"'2'!$AP$37","v":0},{"$f":"'2'!$AQ$37","v":0},{"$f":"'2'!$AR$37","v":0},{"$f":"'2'!$AS$37","v":0},{"$f":"'2'!$AT$37","v":0},2,{"$f":"VLOOKUP(BW189,Přehled!$C$5:$AL$24,36)","v":""},null,null,null,null,null,null,null,null,null,null,null,null,null,null,null,null,null,null,null,null,{"$f":"'2'!$BP$37","v":0},{"$f":"'2'!$BQ$37","v":0},{"$f":"'2'!$BR$37","v":0},{"$f":"'2'!$BS$37","v":0},{"$f":"'2'!$BT$37","v":0},{"$f":"'2'!$BU$37","v":0},2,{"$f":"VLOOKUP(CY189,Přehled!$C$5:$AL$24,36)","v":""},null,null,null,null,null,null,null,null,null,null,null,null,null,null,null,{"$f":"'2'!$CR$37","v":0},{"$f":"'2'!$CS$37","v":0},{"$f":"'2'!$CT$37","v":0},2,{"$f":"VLOOKUP(DS189,Přehled!$C$5:$AL$24,36)","v":""},null,null,null,null,null,null,null,null,null,null,null,null,null,null,null,{"$f":"'6'!$DO$37","v":0},{"$f":"'6'!$DP$37","v":0},{"$f":"'6'!$DQ$37","v":0},6,{"$f":"VLOOKUP(EM189,Přehled!$C$5:$AL$24,36)","v":""}]
[{"$f":"'2'!A92","v":0},{"$f":"'2'!B92","v":0},{"$f":"'2'!C92","v":0},{"$f":"SUMIF($B$5:$B$2024,Souhrn_hod[[#This Row],[Jméno]],$E$5:$E$2024)","v":0},{"$f":"'2'!D92","v":0},{"$f":"'2'!E92","v":0},{"$f":"'2'!F92","v":0},{"$f":"'2'!G92","v":0},{"$f":"'2'!H92","v":0},{"$f":"'2'!I92","v":0},{"$f":"'2'!J92","v":0},{"$f":"'2'!K92","v":0},{"$f":"'2'!L92","v":0},{"$f":"'2'!M92","v":0},{"$f":"'2'!N92","v":0},{"$f":"'2'!O92","v":0},{"$f":"'2'!P92","v":0},{"$f":"'2'!Q92","v":0},{"$f":"'2'!R92","v":0},{"$f":"'2'!S92","v":0},{"$f":"'2'!T92","v":0},{"$f":"'2'!U92","v":0},{"$f":"'2'!V92","v":0},{"$f":"'2'!W92","v":0},{"$f":"'2'!X92","v":0},{"$f":"'2'!Y92","v":0},{"$f":"'2'!Z92","v":0},{"$f":"'2'!AA92","v":0},{"$f":"'2'!AB92","v":0},{"$f":"'2'!AC92","v":0},{"$f":"'2'!AD92","v":0},{"$f":"'2'!AE92","v":0},{"$f":"'2'!AF92","v":0},{"$f":"'2'!AG92","v":0},{"$f":"'2'!AH92","v":0},{"$f":"'2'!AI92","v":0},{"$f":"'2'!AJ92","v":0},2,{"$f":"VLOOKUP(AL190,Přehled!$C$5:$AL$24,36)","v":""},null,null,null,null,null,null,null,null,null,null,null,null,null,null,null,null,null,null,null,null,null,null,null,null,null,null,null,null,null,{"$f":"'2'!$AO$38","v":0},{"$f":"'2'!$AP$38","v":0},{"$f":"'2'!$AQ$38","v":0},{"$f":"'2'!$AR$38","v":0},{"$f":"'2'!$AS$38","v":0},{"$f":"'2'!$AT$38","v":0},2,{"$f":"VLOOKUP(BW190,Přehled!$C$5:$AL$24,36)","v":""},null,null,null,null,null,null,null,null,null,null,null,null,null,null,null,null,null,null,null,null,{"$f":"'2'!$BP$38","v":0},{"$f":"'2'!$BQ$38","v":0},{"$f":"'2'!$BR$38","v":0},{"$f":"'2'!$BS$38","v":0},{"$f":"'2'!$BT$38","v":0},{"$f":"'2'!$BU$38","v":0},2,{"$f":"VLOOKUP(CY190,Přehled!$C$5:$AL$24,36)","v":""},null,null,null,null,null,null,null,null,null,null,null,null,null,null,null,{"$f":"'2'!$CR$38","v":0},{"$f":"'2'!$CS$38","v":0},{"$f":"'2'!$CT$38","v":0},2,{"$f":"VLOOKUP(DS190,Přehled!$C$5:$AL$24,36)","v":""},null,null,null,null,null,null,null,null,null,null,null,null,null,null,null,{"$f":"'6'!$DO$38","v":0},{"$f":"'6'!$DP$38","v":0},{"$f":"'6'!$DQ$38","v":0},6,{"$f":"VLOOKUP(EM190,Přehled!$C$5:$AL$24,36)","v":""}]
[{"$f":"'2'!A93","v":0},{"$f":"'2'!B93","v":0},{"$f":"'2'!C93","v":0},{"$f":"SUMIF($B$5:$B$2024,Souhrn_hod[[#This Row],[Jméno]],$E$5:$E$2024)","v":0},{"$f":"'2'!D93","v":0},{"$f":"'2'!E93","v":0},{"$f":"'2'!F93","v":0},{"$f":"'2'!G93","v":0},{"$f":"'2'!H93","v":0},{"$f":"'2'!I93","v":0},{"$f":"'2'!J93","v":0},{"$f":"'2'!K93","v":0},{"$f":"'2'!L93","v":0},{"$f":"'2'!M93","v":0},{"$f":"'2'!N93","v":0},{"$f":"'2'!O93","v":0},{"$f":"'2'!P93","v":0},{"$f":"'2'!Q93","v":0},{"$f":"'2'!R93","v":0},{"$f":"'2'!S93","v":0},{"$f":"'2'!T93","v":0},{"$f":"'2'!U93","v":0},{"$f":"'2'!V93","v":0},{"$f":"'2'!W93","v":0},{"$f":"'2'!X93","v":0},{"$f":"'2'!Y93","v":0},{"$f":"'2'!Z93","v":0},{"$f":"'2'!AA93","v":0},{"$f":"'2'!AB93","v":0},{"$f":"'2'!AC93","v":0},{"$f":"'2'!AD93","v":0},{"$f":"'2'!AE93","v":0},{"$f":"'2'!AF93","v":0},{"$f":"'2'!AG93","v":0},{"$f":"'2'!AH93","v":0},{"$f":"'2'!AI93","v":0},{"$f":"'2'!AJ93","v":0},2,{"$f":"VLOOKUP(AL191,Přehled!$C$5:$AL$24,36)","v":""},null,null,null,null,null,null,null,null,null,null,null,null,null,null,null,null,null,null,null,null,null,null,null,null,null,null,null,null,null,{"$f":"'2'!$AO$39","v":0},{"$f":"'2'!$AP$39","v":0},{"$f":"'2'!$AQ$39","v":0},{"$f":"'2'!$AR$39","v":0},{"$f":"'2'!$AS$39","v":0},{"$f":"'2'!$AT$39","v":0},2,{"$f":"VLOOKUP(BW191,Přehled!$C$5:$AL$24,36)","v":""},null,null,null,null,null,null,null,null,null,null,null,null,null,null,null,null,null,null,null,null,{"$f":"'2'!$BP$39","v":0},{"$f":"'2'!$BQ$39","v":0},{"$f":"'2'!$BR$39","v":0},{"$f":"'2'!$BS$39","v":0},{"$f":"'2'!$BT$39","v":0},{"$f":"'2'!$BU$39","v":0},2,{"$f":"VLOOKUP(CY191,Přehled!$C$5:$AL$24,36)","v":""},null,null,null,null,null,null,null,null,null,null,null,null,null,null,null,{"$f":"'2'!$CR$39","v":0},{"$f":"'2'!$CS$39","v":0},{"$f":"'2'!$CT$39","v":0},2,{"$f":"VLOOKUP(DS191,Přehled!$C$5:$AL$24,36)","v":""},null,null,null,null,null,null,null,null,null,null,null,null,null,null,null,{"$f":"'7'!$DO$8","v":0},{"$f":"'7'!$DP$8","v":0},{"$f":"'7'!$DQ$8","v":0},7,{"$f":"VLOOKUP(EM191,Přehled!$C$5:$AL$24,36)","v":""}]
[{"$f":"'2'!A94","v":0},{"$f":"'2'!B94","v":0},{"$f":"'2'!C94","v":0},{"$f":"SUMIF($B$5:$B$2024,Souhrn_hod[[#This Row],[Jméno]],$E$5:$E$2024)","v":0},{"$f":"'2'!D94","v":0},{"$f":"'2'!E94","v":0},{"$f":"'2'!F94","v":0},{"$f":"'2'!G94","v":0},{"$f":"'2'!H94","v":0},{"$f":"'2'!I94","v":0},{"$f":"'2'!J94","v":0},{"$f":"'2'!K94","v":0},{"$f":"'2'!L94","v":0},{"$f":"'2'!M94","v":0},{"$f":"'2'!N94","v":0},{"$f":"'2'!O94","v":0},{"$f":"'2'!P94","v":0},{"$f":"'2'!Q94","v":0},{"$f":"'2'!R94","v":0},{"$f":"'2'!S94","v":0},{"$f":"'2'!T94","v":0},{"$f":"'2'!U94","v":0},{"$f":"'2'!V94","v":0},{"$f":"'2'!W94","v":0},{"$f":"'2'!X94","v":0},{"$f":"'2'!Y94","v":0},{"$f":"'2'!Z94","v":0},{"$f":"'2'!AA94","v":0},{"$f":"'2'!AB94","v":0},{"$f":"'2'!AC94","v":0},{"$f":"'2'!AD94","v":0},{"$f":"'2'!AE94","v":0},{"$f":"'2'!AF94","v":0},{"$f":"'2'!AG94","v":0},{"$f":"'2'!AH94","v":0},{"$f":"'2'!AI94","v":0},{"$f":"'2'!AJ94","v":0},2,{"$f":"VLOOKUP(AL192,Přehled!$C$5:$AL$24,36)","v":""},null,null,null,null,null,null,null,null,null,null,null,null,null,null,null,null,null,null,null,null,null,null,null,null,null,null,null,null,null,{"$f":"'2'!$AO$40","v":0},{"$f":"'2'!$AP$40","v":0},{"$f":"'2'!$AQ$40","v":0},{"$f":"'2'!$AR$40","v":0},{"$f":"'2'!$AS$40","v":0},{"$f":"'2'!$AT$40","v":0},2,{"$f":"VLOOKUP(BW192,Přehled!$C$5:$AL$24,36)","v":""},null,null,null,null,null,null,null,null,null,null,null,null,null,null,null,null,null,null,null,null,{"$f":"'2'!$BP$40","v":0},{"$f":"'2'!$BQ$40","v":0},{"$f":"'2'!$BR$40","v":0},{"$f":"'2'!$BS$40","v":0},{"$f":"'2'!$BT$40","v":0},{"$f":"'2'!$BU$40","v":0},2,{"$f":"VLOOKUP(CY192,Přehled!$C$5:$AL$24,36)","v":""},null,null,null,null,null,null,null,null,null,null,null,null,null,null,null,{"$f":"'2'!$CR$40","v":0},{"$f":"'2'!$CS$40","v":0},{"$f":"'2'!$CT$40","v":0},2,{"$f":"VLOOKUP(DS192,Přehled!$C$5:$AL$24,36)","v":""},null,null,null,null,null,null,null,null,null,null,null,null,null,null,null,{"$f":"'7'!$DO$9","v":0},{"$f":"'7'!$DP$9","v":0},{"$f":"'7'!$DQ$9","v":0},7,{"$f":"VLOOKUP(EM192,Přehled!$C$5:$AL$24,36)","v":""}]
[{"$f":"'2'!A95","v":0},{"$f":"'2'!B95","v":0},{"$f":"'2'!C95","v":0},{"$f":"SUMIF($B$5:$B$2024,Souhrn_hod[[#This Row],[Jméno]],$E$5:$E$2024)","v":0},{"$f":"'2'!D95","v":0},{"$f":"'2'!E95","v":0},{"$f":"'2'!F95","v":0},{"$f":"'2'!G95","v":0},{"$f":"'2'!H95","v":0},{"$f":"'2'!I95","v":0},{"$f":"'2'!J95","v":0},{"$f":"'2'!K95","v":0},{"$f":"'2'!L95","v":0},{"$f":"'2'!M95","v":0},{"$f":"'2'!N95","v":0},{"$f":"'2'!O95","v":0},{"$f":"'2'!P95","v":0},{"$f":"'2'!Q95","v":0},{"$f":"'2'!R95","v":0},{"$f":"'2'!S95","v":0},{"$f":"'2'!T95","v":0},{"$f":"'2'!U95","v":0},{"$f":"'2'!V95","v":0},{"$f":"'2'!W95","v":0},{"$f":"'2'!X95","v":0},{"$f":"'2'!Y95","v":0},{"$f":"'2'!Z95","v":0},{"$f":"'2'!AA95","v":0},{"$f":"'2'!AB95","v":0},{"$f":"'2'!AC95","v":0},{"$f":"'2'!AD95","v":0},{"$f":"'2'!AE95","v":0},{"$f":"'2'!AF95","v":0},{"$f":"'2'!AG95","v":0},{"$f":"'2'!AH95","v":0},{"$f":"'2'!AI95","v":0},{"$f":"'2'!AJ95","v":0},2,{"$f":"VLOOKUP(AL193,Přehled!$C$5:$AL$24,36)","v":""},null,null,null,null,null,null,null,null,null,null,null,null,null,null,null,null,null,null,null,null,null,null,null,null,null,null,null,null,null,{"$f":"'2'!$AO$41","v":0},{"$f":"'2'!$AP$41","v":0},{"$f":"'2'!$AQ$41","v":0},{"$f":"'2'!$AR$41","v":0},{"$f":"'2'!$AS$41","v":0},{"$f":"'2'!$AT$41","v":0},2,{"$f":"VLOOKUP(BW193,Přehled!$C$5:$AL$24,36)","v":""},null,null,null,null,null,null,null,null,null,null,null,null,null,null,null,null,null,null,null,null,{"$f":"'2'!$BP$41","v":0},{"$f":"'2'!$BQ$41","v":0},{"$f":"'2'!$BR$41","v":0},{"$f":"'2'!$BS$41","v":0},{"$f":"'2'!$BT$41","v":0},{"$f":"'2'!$BU$41","v":0},2,{"$f":"VLOOKUP(CY193,Přehled!$C$5:$AL$24,36)","v":""},null,null,null,null,null,null,null,null,null,null,null,null,null,null,null,{"$f":"'2'!$CR$41","v":0},{"$f":"'2'!$CS$41","v":0},{"$f":"'2'!$CT$41","v":0},2,{"$f":"VLOOKUP(DS193,Přehled!$C$5:$AL$24,36)","v":""},null,null,null,null,null,null,null,null,null,null,null,null,null,null,null,{"$f":"'7'!$DO$10","v":0},{"$f":"'7'!$DP$10","v":0},{"$f":"'7'!$DQ$10","v":0},7,{"$f":"VLOOKUP(EM193,Přehled!$C$5:$AL$24,36)","v":""}]
[{"$f":"'2'!A96","v":0},{"$f":"'2'!B96","v":0},{"$f":"'2'!C96","v":0},{"$f":"SUMIF($B$5:$B$2024,Souhrn_hod[[#This Row],[Jméno]],$E$5:$E$2024)","v":0},{"$f":"'2'!D96","v":0},{"$f":"'2'!E96","v":0},{"$f":"'2'!F96","v":0},{"$f":"'2'!G96","v":0},{"$f":"'2'!H96","v":0},{"$f":"'2'!I96","v":0},{"$f":"'2'!J96","v":0},{"$f":"'2'!K96","v":0},{"$f":"'2'!L96","v":0},{"$f":"'2'!M96","v":0},{"$f":"'2'!N96","v":0},{"$f":"'2'!O96","v":0},{"$f":"'2'!P96","v":0},{"$f":"'2'!Q96","v":0},{"$f":"'2'!R96","v":0},{"$f":"'2'!S96","v":0},{"$f":"'2'!T96","v":0},{"$f":"'2'!U96","v":0},{"$f":"'2'!V96","v":0},{"$f":"'2'!W96","v":0},{"$f":"'2'!X96","v":0},{"$f":"'2'!Y96","v":0},{"$f":"'2'!Z96","v":0},{"$f":"'2'!AA96","v":0},{"$f":"'2'!AB96","v":0},{"$f":"'2'!AC96","v":0},{"$f":"'2'!AD96","v":0},{"$f":"'2'!AE96","v":0},{"$f":"'2'!AF96","v":0},{"$f":"'2'!AG96","v":0},{"$f":"'2'!AH96","v":0},{"$f":"'2'!AI96","v":0},{"$f":"'2'!AJ96","v":0},2,{"$f":"VLOOKUP(AL194,Přehled!$C$5:$AL$24,36)","v":""},null,null,null,null,null,null,null,null,null,null,null,null,null,null,null,null,null,null,null,null,null,null,null,null,null,null,null,null,null,{"$f":"'2'!$AO$42","v":0},{"$f":"'2'!$AP$42","v":0},{"$f":"'2'!$AQ$42","v":0},{"$f":"'2'!$AR$42","v":0},{"$f":"'2'!$AS$42","v":0},{"$f":"'2'!$AT$42","v":0},2,{"$f":"VLOOKUP(BW194,Přehled!$C$5:$AL$24,36)","v":""},null,null,null,null,null,null,null,null,null,null,null,null,null,null,null,null,null,null,null,null,{"$f":"'2'!$BP$42","v":0},{"$f":"'2'!$BQ$42","v":0},{"$f":"'2'!$BR$42","v":0},{"$f":"'2'!$BS$42","v":0},{"$f":"'2'!$BT$42","v":0},{"$f":"'2'!$BU$42","v":0},2,{"$f":"VLOOKUP(CY194,Přehled!$C$5:$AL$24,36)","v":""},null,null,null,null,null,null,null,null,null,null,null,null,null,null,null,{"$f":"'2'!$CR$42","v":0},{"$f":"'2'!$CS$42","v":0},{"$f":"'2'!$CT$42","v":0},2,{"$f":"VLOOKUP(DS194,Přehled!$C$5:$AL$24,36)","v":""},null,null,null,null,null,null,null,null,null,null,null,null,null,null,null,{"$f":"'7'!$DO$11","v":0},{"$f":"'7'!$DP$11","v":0},{"$f":"'7'!$DQ$11","v":0},7,{"$f":"VLOOKUP(EM194,Přehled!$C$5:$AL$24,36)","v":""}]
[{"$f":"'2'!A97","v":0},{"$f":"'2'!B97","v":0},{"$f":"'2'!C97","v":0},{"$f":"SUMIF($B$5:$B$2024,Souhrn_hod[[#This Row],[Jméno]],$E$5:$E$2024)","v":0},{"$f":"'2'!D97","v":0},{"$f":"'2'!E97","v":0},{"$f":"'2'!F97","v":0},{"$f":"'2'!G97","v":0},{"$f":"'2'!H97","v":0},{"$f":"'2'!I97","v":0},{"$f":"'2'!J97","v":0},{"$f":"'2'!K97","v":0},{"$f":"'2'!L97","v":0},{"$f":"'2'!M97","v":0},{"$f":"'2'!N97","v":0},{"$f":"'2'!O97","v":0},{"$f":"'2'!P97","v":0},{"$f":"'2'!Q97","v":0},{"$f":"'2'!R97","v":0},{"$f":"'2'!S97","v":0},{"$f":"'2'!T97","v":0},{"$f":"'2'!U97","v":0},{"$f":"'2'!V97","v":0},{"$f":"'2'!W97","v":0},{"$f":"'2'!X97","v":0},{"$f":"'2'!Y97","v":0},{"$f":"'2'!Z97","v":0},{"$f":"'2'!AA97","v":0},{"$f":"'2'!AB97","v":0},{"$f":"'2'!AC97","v":0},{"$f":"'2'!AD97","v":0},{"$f":"'2'!AE97","v":0},{"$f":"'2'!AF97","v":0},{"$f":"'2'!AG97","v":0},{"$f":"'2'!AH97","v":0},{"$f":"'2'!AI97","v":0},{"$f":"'2'!AJ97","v":0},2,{"$f":"VLOOKUP(AL195,Přehled!$C$5:$AL$24,36)","v":""},null,null,null,null,null,null,null,null,null,null,null,null,null,null,null,null,null,null,null,null,null,null,null,null,null,null,null,null,null,{"$f":"'2'!$AO$43","v":0},{"$f":"'2'!$AP$43","v":0},{"$f":"'2'!$AQ$43","v":0},{"$f":"'2'!$AR$43","v":0},{"$f":"'2'!$AS$43","v":0},{"$f":"'2'!$AT$43","v":0},2,{"$f":"VLOOKUP(BW195,Přehled!$C$5:$AL$24,36)","v":""},null,null,null,null,null,null,null,null,null,null,null,null,null,null,null,null,null,null,null,null,{"$f":"'2'!$BP$43","v":0},{"$f":"'2'!$BQ$43","v":0},{"$f":"'2'!$BR$43","v":0},{"$f":"'2'!$BS$43","v":0},{"$f":"'2'!$BT$43","v":0},{"$f":"'2'!$BU$43","v":0},2,{"$f":"VLOOKUP(CY195,Přehled!$C$5:$AL$24,36)","v":""},null,null,null,null,null,null,null,null,null,null,null,null,null,null,null,{"$f":"'2'!$CR$43","v":0},{"$f":"'2'!$CS$43","v":0},{"$f":"'2'!$CT$43","v":0},2,{"$f":"VLOOKUP(DS195,Přehled!$C$5:$AL$24,36)","v":""},null,null,null,null,null,null,null,null,null,null,null,null,null,null,null,{"$f":"'7'!$DO$12","v":0},{"$f":"'7'!$DP$12","v":0},{"$f":"'7'!$DQ$12","v":0},7,{"$f":"VLOOKUP(EM195,Přehled!$C$5:$AL$24,36)","v":""}]
[{"$f":"'2'!A98","v":0},{"$f":"'2'!B98","v":0},{"$f":"'2'!C98","v":0},{"$f":"SUMIF($B$5:$B$2024,Souhrn_hod[[#This Row],[Jméno]],$E$5:$E$2024)","v":0},{"$f":"'2'!D98","v":0},{"$f":"'2'!E98","v":0},{"$f":"'2'!F98","v":0},{"$f":"'2'!G98","v":0},{"$f":"'2'!H98","v":0},{"$f":"'2'!I98","v":0},{"$f":"'2'!J98","v":0},{"$f":"'2'!K98","v":0},{"$f":"'2'!L98","v":0},{"$f":"'2'!M98","v":0},{"$f":"'2'!N98","v":0},{"$f":"'2'!O98","v":0},{"$f":"'2'!P98","v":0},{"$f":"'2'!Q98","v":0},{"$f":"'2'!R98","v":0},{"$f":"'2'!S98","v":0},{"$f":"'2'!T98","v":0},{"$f":"'2'!U98","v":0},{"$f":"'2'!V98","v":0},{"$f":"'2'!W98","v":0},{"$f":"'2'!X98","v":0},{"$f":"'2'!Y98","v":0},{"$f":"'2'!Z98","v":0},{"$f":"'2'!AA98","v":0},{"$f":"'2'!AB98","v":0},{"$f":"'2'!AC98","v":0},{"$f":"'2'!AD98","v":0},{"$f":"'2'!AE98","v":0},{"$f":"'2'!AF98","v":0},{"$f":"'2'!AG98","v":0},{"$f":"'2'!AH98","v":0},{"$f":"'2'!AI98","v":0},{"$f":"'2'!AJ98","v":0},2,{"$f":"VLOOKUP(AL196,Přehled!$C$5:$AL$24,36)","v":""},null,null,null,null,null,null,null,null,null,null,null,null,null,null,null,null,null,null,null,null,null,null,null,null,null,null,null,null,null,{"$f":"'2'!$AO$44","v":0},{"$f":"'2'!$AP$44","v":0},{"$f":"'2'!$AQ$44","v":0},{"$f":"'2'!$AR$44","v":0},{"$f":"'2'!$AS$44","v":0},{"$f":"'2'!$AT$44","v":0},2,{"$f":"VLOOKUP(BW196,Přehled!$C$5:$AL$24,36)","v":""},null,null,null,null,null,null,null,null,null,null,null,null,null,null,null,null,null,null,null,null,{"$f":"'2'!$BP$44","v":0},{"$f":"'2'!$BQ$44","v":0},{"$f":"'2'!$BR$44","v":0},{"$f":"'2'!$BS$44","v":0},{"$f":"'2'!$BT$44","v":0},{"$f":"'2'!$BU$44","v":0},2,{"$f":"VLOOKUP(CY196,Přehled!$C$5:$AL$24,36)","v":""},null,null,null,null,null,null,null,null,null,null,null,null,null,null,null,{"$f":"'2'!$CR$44","v":0},{"$f":"'2'!$CS$44","v":0},{"$f":"'2'!$CT$44","v":0},2,{"$f":"VLOOKUP(DS196,Přehled!$C$5:$AL$24,36)","v":""},null,null,null,null,null,null,null,null,null,null,null,null,null,null,null,{"$f":"'7'!$DO$13","v":0},{"$f":"'7'!$DP$13","v":0},{"$f":"'7'!$DQ$13","v":0},7,{"$f":"VLOOKUP(EM196,Přehled!$C$5:$AL$24,36)","v":""}]
[{"$f":"'2'!A99","v":0},{"$f":"'2'!B99","v":0},{"$f":"'2'!C99","v":0},{"$f":"SUMIF($B$5:$B$2024,Souhrn_hod[[#This Row],[Jméno]],$E$5:$E$2024)","v":0},{"$f":"'2'!D99","v":0},{"$f":"'2'!E99","v":0},{"$f":"'2'!F99","v":0},{"$f":"'2'!G99","v":0},{"$f":"'2'!H99","v":0},{"$f":"'2'!I99","v":0},{"$f":"'2'!J99","v":0},{"$f":"'2'!K99","v":0},{"$f":"'2'!L99","v":0},{"$f":"'2'!M99","v":0},{"$f":"'2'!N99","v":0},{"$f":"'2'!O99","v":0},{"$f":"'2'!P99","v":0},{"$f":"'2'!Q99","v":0},{"$f":"'2'!R99","v":0},{"$f":"'2'!S99","v":0},{"$f":"'2'!T99","v":0},{"$f":"'2'!U99","v":0},{"$f":"'2'!V99","v":0},{"$f":"'2'!W99","v":0},{"$f":"'2'!X99","v":0},{"$f":"'2'!Y99","v":0},{"$f":"'2'!Z99","v":0},{"$f":"'2'!AA99","v":0},{"$f":"'2'!AB99","v":0},{"$f":"'2'!AC99","v":0},{"$f":"'2'!AD99","v":0},{"$f":"'2'!AE99","v":0},{"$f":"'2'!AF99","v":0},{"$f":"'2'!AG99","v":0},{"$f":"'2'!AH99","v":0},{"$f":"'2'!AI99","v":0},{"$f":"'2'!AJ99","v":0},2,{"$f":"VLOOKUP(AL197,Přehled!$C$5:$AL$24,36)","v":""},null,null,null,null,null,null,null,null,null,null,null,null,null,null,null,null,null,null,null,null,null,null,null,null,null,null,null,null,null,{"$f":"'2'!$AO$45","v":0},{"$f":"'2'!$AP$45","v":0},{"$f":"'2'!$AQ$45","v":0},{"$f":"'2'!$AR$45","v":0},{"$f":"'2'!$AS$45","v":0},{"$f":"'2'!$AT$45","v":0},2,{"$f":"VLOOKUP(BW197,Přehled!$C$5:$AL$24,36)","v":""},null,null,null,null,null,null,null,null,null,null,null,null,null,null,null,null,null,null,null,null,{"$f":"'2'!$BP$45","v":0},{"$f":"'2'!$BQ$45","v":0},{"$f":"'2'!$BR$45","v":0},{"$f":"'2'!$BS$45","v":0},{"$f":"'2'!$BT$45","v":0},{"$f":"'2'!$BU$45","v":0},2,{"$f":"VLOOKUP(CY197,Přehled!$C$5:$AL$24,36)","v":""},null,null,null,null,null,null,null,null,null,null,null,null,null,null,null,{"$f":"'2'!$CR$45","v":0},{"$f":"'2'!$CS$45","v":0},{"$f":"'2'!$CT$45","v":0},2,{"$f":"VLOOKUP(DS197,Přehled!$C$5:$AL$24,36)","v":""},null,null,null,null,null,null,null,null,null,null,null,null,null,null,null,{"$f":"'7'!$DO$14","v":0},{"$f":"'7'!$DP$14","v":0},{"$f":"'7'!$DQ$14","v":0},7,{"$f":"VLOOKUP(EM197,Přehled!$C$5:$AL$24,36)","v":""}]
[{"$f":"'2'!A100","v":0},{"$f":"'2'!B100","v":0},{"$f":"'2'!C100","v":0},{"$f":"SUMIF($B$5:$B$2024,Souhrn_hod[[#This Row],[Jméno]],$E$5:$E$2024)","v":0},{"$f":"'2'!D100","v":0},{"$f":"'2'!E100","v":0},{"$f":"'2'!F100","v":0},{"$f":"'2'!G100","v":0},{"$f":"'2'!H100","v":0},{"$f":"'2'!I100","v":0},{"$f":"'2'!J100","v":0},{"$f":"'2'!K100","v":0},{"$f":"'2'!L100","v":0},{"$f":"'2'!M100","v":0},{"$f":"'2'!N100","v":0},{"$f":"'2'!O100","v":0},{"$f":"'2'!P100","v":0},{"$f":"'2'!Q100","v":0},{"$f":"'2'!R100","v":0},{"$f":"'2'!S100","v":0},{"$f":"'2'!T100","v":0},{"$f":"'2'!U100","v":0},{"$f":"'2'!V100","v":0},{"$f":"'2'!W100","v":0},{"$f":"'2'!X100","v":0},{"$f":"'2'!Y100","v":0},{"$f":"'2'!Z100","v":0},{"$f":"'2'!AA100","v":0},{"$f":"'2'!AB100","v":0},{"$f":"'2'!AC100","v":0},{"$f":"'2'!AD100","v":0},{"$f":"'2'!AE100","v":0},{"$f":"'2'!AF100","v":0},{"$f":"'2'!AG100","v":0},{"$f":"'2'!AH100","v":0},{"$f":"'2'!AI100","v":0},{"$f":"'2'!AJ100","v":0},2,{"$f":"VLOOKUP(AL198,Přehled!$C$5:$AL$24,36)","v":""},null,null,null,null,null,null,null,null,null,null,null,null,null,null,null,null,null,null,null,null,null,null,null,null,null,null,null,null,null,{"$f":"'2'!$AO$46","v":0},{"$f":"'2'!$AP$46","v":0},{"$f":"'2'!$AQ$46","v":0},{"$f":"'2'!$AR$46","v":0},{"$f":"'2'!$AS$46","v":0},{"$f":"'2'!$AT$46","v":0},2,{"$f":"VLOOKUP(BW198,Přehled!$C$5:$AL$24,36)","v":""},null,null,null,null,null,null,null,null,null,null,null,null,null,null,null,null,null,null,null,null,{"$f":"'2'!$BP$46","v":0},{"$f":"'2'!$BQ$46","v":0},{"$f":"'2'!$BR$46","v":0},{"$f":"'2'!$BS$46","v":0},{"$f":"'2'!$BT$46","v":0},{"$f":"'2'!$BU$46","v":0},2,{"$f":"VLOOKUP(CY198,Přehled!$C$5:$AL$24,36)","v":""},null,null,null,null,null,null,null,null,null,null,null,null,null,null,null,{"$f":"'2'!$CR$46","v":0},{"$f":"'2'!$CS$46","v":0},{"$f":"'2'!$CT$46","v":0},2,{"$f":"VLOOKUP(DS198,Přehled!$C$5:$AL$24,36)","v":""},null,null,null,null,null,null,null,null,null,null,null,null,null,null,null,{"$f":"'7'!$DO$15","v":0},{"$f":"'7'!$DP$15","v":0},{"$f":"'7'!$DQ$15","v":0},7,{"$f":"VLOOKUP(EM198,Přehled!$C$5:$AL$24,36)","v":""}]
[{"$f":"'2'!A101","v":0},{"$f":"'2'!B101","v":0},{"$f":"'2'!C101","v":0},{"$f":"SUMIF($B$5:$B$2024,Souhrn_hod[[#This Row],[Jméno]],$E$5:$E$2024)","v":0},{"$f":"'2'!D101","v":0},{"$f":"'2'!E101","v":0},{"$f":"'2'!F101","v":0},{"$f":"'2'!G101","v":0},{"$f":"'2'!H101","v":0},{"$f":"'2'!I101","v":0},{"$f":"'2'!J101","v":0},{"$f":"'2'!K101","v":0},{"$f":"'2'!L101","v":0},{"$f":"'2'!M101","v":0},{"$f":"'2'!N101","v":0},{"$f":"'2'!O101","v":0},{"$f":"'2'!P101","v":0},{"$f":"'2'!Q101","v":0},{"$f":"'2'!R101","v":0},{"$f":"'2'!S101","v":0},{"$f":"'2'!T101","v":0},{"$f":"'2'!U101","v":0},{"$f":"'2'!V101","v":0},{"$f":"'2'!W101","v":0},{"$f":"'2'!X101","v":0},{"$f":"'2'!Y101","v":0},{"$f":"'2'!Z101","v":0},{"$f":"'2'!AA101","v":0},{"$f":"'2'!AB101","v":0},{"$f":"'2'!AC101","v":0},{"$f":"'2'!AD101","v":0},{"$f":"'2'!AE101","v":0},{"$f":"'2'!AF101","v":0},{"$f":"'2'!AG101","v":0},{"$f":"'2'!AH101","v":0},{"$f":"'2'!AI101","v":0},{"$f":"'2'!AJ101","v":0},2,{"$f":"VLOOKUP(AL199,Přehled!$C$5:$AL$24,36)","v":""},null,null,null,null,null,null,null,null,null,null,null,null,null,null,null,null,null,null,null,null,null,null,null,null,null,null,null,null,null,{"$f":"'2'!$AO$47","v":0},{"$f":"'2'!$AP$47","v":0},{"$f":"'2'!$AQ$47","v":0},{"$f":"'2'!$AR$47","v":0},{"$f":"'2'!$AS$47","v":0},{"$f":"'2'!$AT$47","v":0},2,{"$f":"VLOOKUP(BW199,Přehled!$C$5:$AL$24,36)","v":""},null,null,null,null,null,null,null,null,null,null,null,null,null,null,null,null,null,null,null,null,{"$f":"'2'!$BP$47","v":0},{"$f":"'2'!$BQ$47","v":0},{"$f":"'2'!$BR$47","v":0},{"$f":"'2'!$BS$47","v":0},{"$f":"'2'!$BT$47","v":0},{"$f":"'2'!$BU$47","v":0},2,{"$f":"VLOOKUP(CY199,Přehled!$C$5:$AL$24,36)","v":""},null,null,null,null,null,null,null,null,null,null,null,null,null,null,null,{"$f":"'2'!$CR$47","v":0},{"$f":"'2'!$CS$47","v":0},{"$f":"'2'!$CT$47","v":0},2,{"$f":"VLOOKUP(DS199,Přehled!$C$5:$AL$24,36)","v":""},null,null,null,null,null,null,null,null,null,null,null,null,null,null,null,{"$f":"'7'!$DO$16","v":0},{"$f":"'7'!$DP$16","v":0},{"$f":"'7'!$DQ$16","v":0},7,{"$f":"VLOOKUP(EM199,Přehled!$C$5:$AL$24,36)","v":""}]
[{"$f":"'2'!A102","v":0},{"$f":"'2'!B102","v":0},{"$f":"'2'!C102","v":0},{"$f":"SUMIF($B$5:$B$2024,Souhrn_hod[[#This Row],[Jméno]],$E$5:$E$2024)","v":0},{"$f":"'2'!D102","v":0},{"$f":"'2'!E102","v":0},{"$f":"'2'!F102","v":0},{"$f":"'2'!G102","v":0},{"$f":"'2'!H102","v":0},{"$f":"'2'!I102","v":0},{"$f":"'2'!J102","v":0},{"$f":"'2'!K102","v":0},{"$f":"'2'!L102","v":0},{"$f":"'2'!M102","v":0},{"$f":"'2'!N102","v":0},{"$f":"'2'!O102","v":0},{"$f":"'2'!P102","v":0},{"$f":"'2'!Q102","v":0},{"$f":"'2'!R102","v":0},{"$f":"'2'!S102","v":0},{"$f":"'2'!T102","v":0},{"$f":"'2'!U102","v":0},{"$f":"'2'!V102","v":0},{"$f":"'2'!W102","v":0},{"$f":"'2'!X102","v":0},{"$f":"'2'!Y102","v":0},{"$f":"'2'!Z102","v":0},{"$f":"'2'!AA102","v":0},{"$f":"'2'!AB102","v":0},{"$f":"'2'!AC102","v":0},{"$f":"'2'!AD102","v":0},{"$f":"'2'!AE102","v":0},{"$f":"'2'!AF102","v":0},{"$f":"'2'!AG102","v":0},{"$f":"'2'!AH102","v":0},{"$f":"'2'!AI102","v":0},{"$f":"'2'!AJ102","v":0},2,{"$f":"VLOOKUP(AL200,Přehled!$C$5:$AL$24,36)","v":""},null,null,null,null,null,null,null,null,null,null,null,null,null,null,null,null,null,null,null,null,null,null,null,null,null,null,null,null,null,{"$f":"'2'!$AO$48","v":0},{"$f":"'2'!$AP$48","v":0},{"$f":"'2'!$AQ$48","v":0},{"$f":"'2'!$AR$48","v":0},{"$f":"'2'!$AS$48","v":0},{"$f":"'2'!$AT$48","v":0},2,{"$f":"VLOOKUP(BW200,Přehled!$C$5:$AL$24,36)","v":""},null,null,null,null,null,null,null,null,null,null,null,null,null,null,null,null,null,null,null,null,{"$f":"'2'!$BP$48","v":0},{"$f":"'2'!$BQ$48","v":0},{"$f":"'2'!$BR$48","v":0},{"$f":"'2'!$BS$48","v":0},{"$f":"'2'!$BT$48","v":0},{"$f":"'2'!$BU$48","v":0},2,{"$f":"VLOOKUP(CY200,Přehled!$C$5:$AL$24,36)","v":""},null,null,null,null,null,null,null,null,null,null,null,null,null,null,null,{"$f":"'2'!$CR$48","v":0},{"$f":"'2'!$CS$48","v":0},{"$f":"'2'!$CT$48","v":0},2,{"$f":"VLOOKUP(DS200,Přehled!$C$5:$AL$24,36)","v":""},null,null,null,null,null,null,null,null,null,null,null,null,null,null,null,{"$f":"'7'!$DO$17","v":0},{"$f":"'7'!$DP$17","v":0},{"$f":"'7'!$DQ$17","v":0},7,{"$f":"VLOOKUP(EM200,Přehled!$C$5:$AL$24,36)","v":""}]
[{"$f":"'2'!A103","v":0},{"$f":"'2'!B103","v":0},{"$f":"'2'!C103","v":0},{"$f":"SUMIF($B$5:$B$2024,Souhrn_hod[[#This Row],[Jméno]],$E$5:$E$2024)","v":0},{"$f":"'2'!D103","v":0},{"$f":"'2'!E103","v":0},{"$f":"'2'!F103","v":0},{"$f":"'2'!G103","v":0},{"$f":"'2'!H103","v":0},{"$f":"'2'!I103","v":0},{"$f":"'2'!J103","v":0},{"$f":"'2'!K103","v":0},{"$f":"'2'!L103","v":0},{"$f":"'2'!M103","v":0},{"$f":"'2'!N103","v":0},{"$f":"'2'!O103","v":0},{"$f":"'2'!P103","v":0},{"$f":"'2'!Q103","v":0},{"$f":"'2'!R103","v":0},{"$f":"'2'!S103","v":0},{"$f":"'2'!T103","v":0},{"$f":"'2'!U103","v":0},{"$f":"'2'!V103","v":0},{"$f":"'2'!W103","v":0},{"$f":"'2'!X103","v":0},{"$f":"'2'!Y103","v":0},{"$f":"'2'!Z103","v":0},{"$f":"'2'!AA103","v":0},{"$f":"'2'!AB103","v":0},{"$f":"'2'!AC103","v":0},{"$f":"'2'!AD103","v":0},{"$f":"'2'!AE103","v":0},{"$f":"'2'!AF103","v":0},{"$f":"'2'!AG103","v":0},{"$f":"'2'!AH103","v":0},{"$f":"'2'!AI103","v":0},{"$f":"'2'!AJ103","v":0},2,{"$f":"VLOOKUP(AL201,Přehled!$C$5:$AL$24,36)","v":""},null,null,null,null,null,null,null,null,null,null,null,null,null,null,null,null,null,null,null,null,null,null,null,null,null,null,null,null,null,{"$f":"'2'!$AO$49","v":0},{"$f":"'2'!$AP$49","v":0},{"$f":"'2'!$AQ$49","v":0},{"$f":"'2'!$AR$49","v":0},{"$f":"'2'!$AS$49","v":0},{"$f":"'2'!$AT$49","v":0},2,{"$f":"VLOOKUP(BW201,Přehled!$C$5:$AL$24,36)","v":""},null,null,null,null,null,null,null,null,null,null,null,null,null,null,null,null,null,null,null,null,{"$f":"'2'!$BP$49","v":0},{"$f":"'2'!$BQ$49","v":0},{"$f":"'2'!$BR$49","v":0},{"$f":"'2'!$BS$49","v":0},{"$f":"'2'!$BT$49","v":0},{"$f":"'2'!$BU$49","v":0},2,{"$f":"VLOOKUP(CY201,Přehled!$C$5:$AL$24,36)","v":""},null,null,null,null,null,null,null,null,null,null,null,null,null,null,null,{"$f":"'2'!$CR$49","v":0},{"$f":"'2'!$CS$49","v":0},{"$f":"'2'!$CT$49","v":0},2,{"$f":"VLOOKUP(DS201,Přehled!$C$5:$AL$24,36)","v":""},null,null,null,null,null,null,null,null,null,null,null,null,null,null,null,{"$f":"'7'!$DO$18","v":0},{"$f":"'7'!$DP$18","v":0},{"$f":"'7'!$DQ$18","v":0},7,{"$f":"VLOOKUP(EM201,Přehled!$C$5:$AL$24,36)","v":""}]
[{"$f":"'2'!A104","v":0},{"$f":"'2'!B104","v":0},{"$f":"'2'!C104","v":0},{"$f":"SUMIF($B$5:$B$2024,Souhrn_hod[[#This Row],[Jméno]],$E$5:$E$2024)","v":0},{"$f":"'2'!D104","v":0},{"$f":"'2'!E104","v":0},{"$f":"'2'!F104","v":0},{"$f":"'2'!G104","v":0},{"$f":"'2'!H104","v":0},{"$f":"'2'!I104","v":0},{"$f":"'2'!J104","v":0},{"$f":"'2'!K104","v":0},{"$f":"'2'!L104","v":0},{"$f":"'2'!M104","v":0},{"$f":"'2'!N104","v":0},{"$f":"'2'!O104","v":0},{"$f":"'2'!P104","v":0},{"$f":"'2'!Q104","v":0},{"$f":"'2'!R104","v":0},{"$f":"'2'!S104","v":0},{"$f":"'2'!T104","v":0},{"$f":"'2'!U104","v":0},{"$f":"'2'!V104","v":0},{"$f":"'2'!W104","v":0},{"$f":"'2'!X104","v":0},{"$f":"'2'!Y104","v":0},{"$f":"'2'!Z104","v":0},{"$f":"'2'!AA104","v":0},{"$f":"'2'!AB104","v":0},{"$f":"'2'!AC104","v":0},{"$f":"'2'!AD104","v":0},{"$f":"'2'!AE104","v":0},{"$f":"'2'!AF104","v":0},{"$f":"'2'!AG104","v":0},{"$f":"'2'!AH104","v":0},{"$f":"'2'!AI104","v":0},{"$f":"'2'!AJ104","v":0},2,{"$f":"VLOOKUP(AL202,Přehled!$C$5:$AL$24,36)","v":""},null,null,null,null,null,null,null,null,null,null,null,null,null,null,null,null,null,null,null,null,null,null,null,null,null,null,null,null,null,{"$f":"'2'!$AO$50","v":0},{"$f":"'2'!$AP$50","v":0},{"$f":"'2'!$AQ$50","v":0},{"$f":"'2'!$AR$50","v":0},{"$f":"'2'!$AS$50","v":0},{"$f":"'2'!$AT$50","v":0},2,{"$f":"VLOOKUP(BW202,Přehled!$C$5:$AL$24,36)","v":""},null,null,null,null,null,null,null,null,null,null,null,null,null,null,null,null,null,null,null,null,{"$f":"'2'!$BP$50","v":0},{"$f":"'2'!$BQ$50","v":0},{"$f":"'2'!$BR$50","v":0},{"$f":"'2'!$BS$50","v":0},{"$f":"'2'!$BT$50","v":0},{"$f":"'2'!$BU$50","v":0},2,{"$f":"VLOOKUP(CY202,Přehled!$C$5:$AL$24,36)","v":""},null,null,null,null,null,null,null,null,null,null,null,null,null,null,null,{"$f":"'2'!$CR$50","v":0},{"$f":"'2'!$CS$50","v":0},{"$f":"'2'!$CT$50","v":0},2,{"$f":"VLOOKUP(DS202,Přehled!$C$5:$AL$24,36)","v":""},null,null,null,null,null,null,null,null,null,null,null,null,null,null,null,{"$f":"'7'!$DO$19","v":0},{"$f":"'7'!$DP$19","v":0},{"$f":"'7'!$DQ$19","v":0},7,{"$f":"VLOOKUP(EM202,Přehled!$C$5:$AL$24,36)","v":""}]
[{"$f":"'2'!A105","v":0},{"$f":"'2'!B105","v":0},{"$f":"'2'!C105","v":0},{"$f":"SUMIF($B$5:$B$2024,Souhrn_hod[[#This Row],[Jméno]],$E$5:$E$2024)","v":0},{"$f":"'2'!D105","v":0},{"$f":"'2'!E105","v":0},{"$f":"'2'!F105","v":0},{"$f":"'2'!G105","v":0},{"$f":"'2'!H105","v":0},{"$f":"'2'!I105","v":0},{"$f":"'2'!J105","v":0},{"$f":"'2'!K105","v":0},{"$f":"'2'!L105","v":0},{"$f":"'2'!M105","v":0},{"$f":"'2'!N105","v":0},{"$f":"'2'!O105","v":0},{"$f":"'2'!P105","v":0},{"$f":"'2'!Q105","v":0},{"$f":"'2'!R105","v":0},{"$f":"'2'!S105","v":0},{"$f":"'2'!T105","v":0},{"$f":"'2'!U105","v":0},{"$f":"'2'!V105","v":0},{"$f":"'2'!W105","v":0},{"$f":"'2'!X105","v":0},{"$f":"'2'!Y105","v":0},{"$f":"'2'!Z105","v":0},{"$f":"'2'!AA105","v":0},{"$f":"'2'!AB105","v":0},{"$f":"'2'!AC105","v":0},{"$f":"'2'!AD105","v":0},{"$f":"'2'!AE105","v":0},{"$f":"'2'!AF105","v":0},{"$f":"'2'!AG105","v":0},{"$f":"'2'!AH105","v":0},{"$f":"'2'!AI105","v":0},{"$f":"'2'!AJ105","v":0},2,{"$f":"VLOOKUP(AL203,Přehled!$C$5:$AL$24,36)","v":""},null,null,null,null,null,null,null,null,null,null,null,null,null,null,null,null,null,null,null,null,null,null,null,null,null,null,null,null,null,{"$f":"'2'!$AO$51","v":0},{"$f":"'2'!$AP$51","v":0},{"$f":"'2'!$AQ$51","v":0},{"$f":"'2'!$AR$51","v":0},{"$f":"'2'!$AS$51","v":0},{"$f":"'2'!$AT$51","v":0},2,{"$f":"VLOOKUP(BW203,Přehled!$C$5:$AL$24,36)","v":""},null,null,null,null,null,null,null,null,null,null,null,null,null,null,null,null,null,null,null,null,{"$f":"'2'!$BP$51","v":0},{"$f":"'2'!$BQ$51","v":0},{"$f":"'2'!$BR$51","v":0},{"$f":"'2'!$BS$51","v":0},{"$f":"'2'!$BT$51","v":0},{"$f":"'2'!$BU$51","v":0},2,{"$f":"VLOOKUP(CY203,Přehled!$C$5:$AL$24,36)","v":""},null,null,null,null,null,null,null,null,null,null,null,null,null,null,null,{"$f":"'2'!$CR$51","v":0},{"$f":"'2'!$CS$51","v":0},{"$f":"'2'!$CT$51","v":0},2,{"$f":"VLOOKUP(DS203,Přehled!$C$5:$AL$24,36)","v":""},null,null,null,null,null,null,null,null,null,null,null,null,null,null,null,{"$f":"'7'!$DO$20","v":0},{"$f":"'7'!$DP$20","v":0},{"$f":"'7'!$DQ$20","v":0},7,{"$f":"VLOOKUP(EM203,Přehled!$C$5:$AL$24,36)","v":""}]
[{"$f":"'2'!A106","v":0},{"$f":"'2'!B106","v":0},{"$f":"'2'!C106","v":0},{"$f":"SUMIF($B$5:$B$2024,Souhrn_hod[[#This Row],[Jméno]],$E$5:$E$2024)","v":0},{"$f":"'2'!D106","v":0},{"$f":"'2'!E106","v":0},{"$f":"'2'!F106","v":0},{"$f":"'2'!G106","v":0},{"$f":"'2'!H106","v":0},{"$f":"'2'!I106","v":0},{"$f":"'2'!J106","v":0},{"$f":"'2'!K106","v":0},{"$f":"'2'!L106","v":0},{"$f":"'2'!M106","v":0},{"$f":"'2'!N106","v":0},{"$f":"'2'!O106","v":0},{"$f":"'2'!P106","v":0},{"$f":"'2'!Q106","v":0},{"$f":"'2'!R106","v":0},{"$f":"'2'!S106","v":0},{"$f":"'2'!T106","v":0},{"$f":"'2'!U106","v":0},{"$f":"'2'!V106","v":0},{"$f":"'2'!W106","v":0},{"$f":"'2'!X106","v":0},{"$f":"'2'!Y106","v":0},{"$f":"'2'!Z106","v":0},{"$f":"'2'!AA106","v":0},{"$f":"'2'!AB106","v":0},{"$f":"'2'!AC106","v":0},{"$f":"'2'!AD106","v":0},{"$f":"'2'!AE106","v":0},{"$f":"'2'!AF106","v":0},{"$f":"'2'!AG106","v":0},{"$f":"'2'!AH106","v":0},{"$f":"'2'!AI106","v":0},{"$f":"'2'!AJ106","v":0},2,{"$f":"VLOOKUP(AL204,Přehled!$C$5:$AL$24,36)","v":""},null,null,null,null,null,null,null,null,null,null,null,null,null,null,null,null,null,null,null,null,null,null,null,null,null,null,null,null,null,{"$f":"'2'!$AO$52","v":0},{"$f":"'2'!$AP$52","v":0},{"$f":"'2'!$AQ$52","v":0},{"$f":"'2'!$AR$52","v":0},{"$f":"'2'!$AS$52","v":0},{"$f":"'2'!$AT$52","v":0},2,{"$f":"VLOOKUP(BW204,Přehled!$C$5:$AL$24,36)","v":""},null,null,null,null,null,null,null,null,null,null,null,null,null,null,null,null,null,null,null,null,{"$f":"'2'!$BP$52","v":0},{"$f":"'2'!$BQ$52","v":0},{"$f":"'2'!$BR$52","v":0},{"$f":"'2'!$BS$52","v":0},{"$f":"'2'!$BT$52","v":0},{"$f":"'2'!$BU$52","v":0},2,{"$f":"VLOOKUP(CY204,Přehled!$C$5:$AL$24,36)","v":""},null,null,null,null,null,null,null,null,null,null,null,null,null,null,null,{"$f":"'2'!$CR$52","v":0},{"$f":"'2'!$CS$52","v":0},{"$f":"'2'!$CT$52","v":0},2,{"$f":"VLOOKUP(DS204,Přehled!$C$5:$AL$24,36)","v":""},null,null,null,null,null,null,null,null,null,null,null,null,null,null,null,{"$f":"'7'!$DO$21","v":0},{"$f":"'7'!$DP$21","v":0},{"$f":"'7'!$DQ$21","v":0},7,{"$f":"VLOOKUP(EM204,Přehled!$C$5:$AL$24,36)","v":""}]
[{"$f":"'2'!A107","v":0},{"$f":"'2'!B107","v":0},{"$f":"'2'!C107","v":0},{"$f":"SUMIF($B$5:$B$2024,Souhrn_hod[[#This Row],[Jméno]],$E$5:$E$2024)","v":0},{"$f":"'2'!D107","v":0},{"$f":"'2'!E107","v":0},{"$f":"'2'!F107","v":0},{"$f":"'2'!G107","v":0},{"$f":"'2'!H107","v":0},{"$f":"'2'!I107","v":0},{"$f":"'2'!J107","v":0},{"$f":"'2'!K107","v":0},{"$f":"'2'!L107","v":0},{"$f":"'2'!M107","v":0},{"$f":"'2'!N107","v":0},{"$f":"'2'!O107","v":0},{"$f":"'2'!P107","v":0},{"$f":"'2'!Q107","v":0},{"$f":"'2'!R107","v":0},{"$f":"'2'!S107","v":0},{"$f":"'2'!T107","v":0},{"$f":"'2'!U107","v":0},{"$f":"'2'!V107","v":0},{"$f":"'2'!W107","v":0},{"$f":"'2'!X107","v":0},{"$f":"'2'!Y107","v":0},{"$f":"'2'!Z107","v":0},{"$f":"'2'!AA107","v":0},{"$f":"'2'!AB107","v":0},{"$f":"'2'!AC107","v":0},{"$f":"'2'!AD107","v":0},{"$f":"'2'!AE107","v":0},{"$f":"'2'!AF107","v":0},{"$f":"'2'!AG107","v":0},{"$f":"'2'!AH107","v":0},{"$f":"'2'!AI107","v":0},{"$f":"'2'!AJ107","v":0},2,{"$f":"VLOOKUP(AL205,Přehled!$C$5:$AL$24,36)","v":""},null,null,null,null,null,null,null,null,null,null,null,null,null,null,null,null,null,null,null,null,null,null,null,null,null,null,null,null,null,{"$f":"'2'!$AO$53","v":0},{"$f":"'2'!$AP$53","v":0},{"$f":"'2'!$AQ$53","v":0},{"$f":"'2'!$AR$53","v":0},{"$f":"'2'!$AS$53","v":0},{"$f":"'2'!$AT$53","v":0},2,{"$f":"VLOOKUP(BW205,Přehled!$C$5:$AL$24,36)","v":""},null,null,null,null,null,null,null,null,null,null,null,null,null,null,null,null,null,null,null,null,{"$f":"'2'!$BP$53","v":0},{"$f":"'2'!$BQ$53","v":0},{"$f":"'2'!$BR$53","v":0},{"$f":"'2'!$BS$53","v":0},{"$f":"'2'!$BT$53","v":0},{"$f":"'2'!$BU$53","v":0},2,{"$f":"VLOOKUP(CY205,Přehled!$C$5:$AL$24,36)","v":""},null,null,null,null,null,null,null,null,null,null,null,null,null,null,null,{"$f":"'2'!$CR$53","v":0},{"$f":"'2'!$CS$53","v":0},{"$f":"'2'!$CT$53","v":0},2,{"$f":"VLOOKUP(DS205,Přehled!$C$5:$AL$24,36)","v":""},null,null,null,null,null,null,null,null,null,null,null,null,null,null,null,{"$f":"'7'!$DO$22","v":0},{"$f":"'7'!$DP$22","v":0},{"$f":"'7'!$DQ$22","v":0},7,{"$f":"VLOOKUP(EM205,Přehled!$C$5:$AL$24,36)","v":""}]
[{"$f":"'2'!A108","v":0},{"$f":"'2'!B108","v":0},{"$f":"'2'!C108","v":0},{"$f":"SUMIF($B$5:$B$2024,Souhrn_hod[[#This Row],[Jméno]],$E$5:$E$2024)","v":0},{"$f":"'2'!D108","v":0},{"$f":"'2'!E108","v":0},{"$f":"'2'!F108","v":0},{"$f":"'2'!G108","v":0},{"$f":"'2'!H108","v":0},{"$f":"'2'!I108","v":0},{"$f":"'2'!J108","v":0},{"$f":"'2'!K108","v":0},{"$f":"'2'!L108","v":0},{"$f":"'2'!M108","v":0},{"$f":"'2'!N108","v":0},{"$f":"'2'!O108","v":0},{"$f":"'2'!P108","v":0},{"$f":"'2'!Q108","v":0},{"$f":"'2'!R108","v":0},{"$f":"'2'!S108","v":0},{"$f":"'2'!T108","v":0},{"$f":"'2'!U108","v":0},{"$f":"'2'!V108","v":0},{"$f":"'2'!W108","v":0},{"$f":"'2'!X108","v":0},{"$f":"'2'!Y108","v":0},{"$f":"'2'!Z108","v":0},{"$f":"'2'!AA108","v":0},{"$f":"'2'!AB108","v":0},{"$f":"'2'!AC108","v":0},{"$f":"'2'!AD108","v":0},{"$f":"'2'!AE108","v":0},{"$f":"'2'!AF108","v":0},{"$f":"'2'!AG108","v":0},{"$f":"'2'!AH108","v":0},{"$f":"'2'!AI108","v":0},{"$f":"'2'!AJ108","v":0},2,{"$f":"VLOOKUP(AL206,Přehled!$C$5:$AL$24,36)","v":""},null,null,null,null,null,null,null,null,null,null,null,null,null,null,null,null,null,null,null,null,null,null,null,null,null,null,null,null,null,{"$f":"'2'!$AO$54","v":0},{"$f":"'2'!$AP$54","v":0},{"$f":"'2'!$AQ$54","v":0},{"$f":"'2'!$AR$54","v":0},{"$f":"'2'!$AS$54","v":0},{"$f":"'2'!$AT$54","v":0},2,{"$f":"VLOOKUP(BW206,Přehled!$C$5:$AL$24,36)","v":""},null,null,null,null,null,null,null,null,null,null,null,null,null,null,null,null,null,null,null,null,{"$f":"'2'!$BP$54","v":0},{"$f":"'2'!$BQ$54","v":0},{"$f":"'2'!$BR$54","v":0},{"$f":"'2'!$BS$54","v":0},{"$f":"'2'!$BT$54","v":0},{"$f":"'2'!$BU$54","v":0},2,{"$f":"VLOOKUP(CY206,Přehled!$C$5:$AL$24,36)","v":""},null,null,null,null,null,null,null,null,null,null,null,null,null,null,null,{"$f":"'2'!$CR$54","v":0},{"$f":"'2'!$CS$54","v":0},{"$f":"'2'!$CT$54","v":0},2,{"$f":"VLOOKUP(DS206,Přehled!$C$5:$AL$24,36)","v":""},null,null,null,null,null,null,null,null,null,null,null,null,null,null,null,{"$f":"'7'!$DO$23","v":0},{"$f":"'7'!$DP$23","v":0},{"$f":"'7'!$DQ$23","v":0},7,{"$f":"VLOOKUP(EM206,Přehled!$C$5:$AL$24,36)","v":""}]
[{"$f":"'3'!A8","v":0},{"$f":"'3'!B8","v":0},{"$f":"'3'!C8","v":0},{"$f":"SUMIF($B$5:$B$2024,Souhrn_hod[[#This Row],[Jméno]],$E$5:$E$2024)","v":0},{"$f":"'3'!D8","v":0},{"$f":"'3'!E8","v":0},{"$f":"'3'!F8","v":0},{"$f":"'3'!G8","v":0},{"$f":"'3'!H8","v":0},{"$f":"'3'!I8","v":0},{"$f":"'3'!J8","v":0},{"$f":"'3'!K8","v":0},{"$f":"'3'!L8","v":0},{"$f":"'3'!M8","v":0},{"$f":"'3'!N8","v":0},{"$f":"'3'!O8","v":0},{"$f":"'3'!P8","v":0},{"$f":"'3'!Q8","v":0},{"$f":"'3'!R8","v":0},{"$f":"'3'!S8","v":0},{"$f":"'3'!T8","v":0},{"$f":"'3'!U8","v":0},{"$f":"'3'!V8","v":0},{"$f":"'3'!W8","v":0},{"$f":"'3'!X8","v":0},{"$f":"'3'!Y8","v":0},{"$f":"'3'!Z8","v":0},{"$f":"'3'!AA8","v":0},{"$f":"'3'!AB8","v":0},{"$f":"'3'!AC8","v":0},{"$f":"'3'!AD8","v":0},{"$f":"'3'!AE8","v":0},{"$f":"'3'!AF8","v":0},{"$f":"'3'!AG8","v":0},{"$f":"'3'!AH8","v":0},{"$f":"'3'!AI8","v":0},{"$f":"'3'!AJ8","v":0},3,{"$f":"VLOOKUP(AL207,Přehled!$C$5:$AL$24,36)","v":""},null,null,null,null,null,null,null,null,null,null,null,null,null,null,null,null,null,null,null,null,null,null,null,null,null,null,null,null,null,{"$f":"'2'!$AO$55","v":0},{"$f":"'2'!$AP$55","v":0},{"$f":"'2'!$AQ$55","v":0},{"$f":"'2'!$AR$55","v":0},{"$f":"'2'!$AS$55","v":0},{"$f":"'2'!$AT$55","v":0},2,{"$f":"VLOOKUP(BW207,Přehled!$C$5:$AL$24,36)","v":""},null,null,null,null,null,null,null,null,null,null,null,null,null,null,null,null,null,null,null,null,{"$f":"'2'!$BP$55","v":0},{"$f":"'2'!$BQ$55","v":0},{"$f":"'2'!$BR$55","v":0},{"$f":"'2'!$BS$55","v":0},{"$f":"'2'!$BT$55","v":0},{"$f":"'2'!$BU$55","v":0},2,{"$f":"VLOOKUP(CY207,Přehled!$C$5:$AL$24,36)","v":""},null,null,null,null,null,null,null,null,null,null,null,null,null,null,null,{"$f":"'2'!$CR$55","v":0},{"$f":"'2'!$CS$55","v":0},{"$f":"'2'!$CT$55","v":0},2,{"$f":"VLOOKUP(DS207,Přehled!$C$5:$AL$24,36)","v":""},null,null,null,null,null,null,null,null,null,null,null,null,null,null,null,{"$f":"'7'!$DO$24","v":0},{"$f":"'7'!$DP$24","v":0},{"$f":"'7'!$DQ$24","v":0},7,{"$f":"VLOOKUP(EM207,Přehled!$C$5:$AL$24,36)","v":""}]
[{"$f":"'3'!A9","v":0},{"$f":"'3'!B9","v":0},{"$f":"'3'!C9","v":0},{"$f":"SUMIF($B$5:$B$2024,Souhrn_hod[[#This Row],[Jméno]],$E$5:$E$2024)","v":0},{"$f":"'3'!D9","v":0},{"$f":"'3'!E9","v":0},{"$f":"'3'!F9","v":0},{"$f":"'3'!G9","v":0},{"$f":"'3'!H9","v":0},{"$f":"'3'!I9","v":0},{"$f":"'3'!J9","v":0},{"$f":"'3'!K9","v":0},{"$f":"'3'!L9","v":0},{"$f":"'3'!M9","v":0},{"$f":"'3'!N9","v":0},{"$f":"'3'!O9","v":0},{"$f":"'3'!P9","v":0},{"$f":"'3'!Q9","v":0},{"$f":"'3'!R9","v":0},{"$f":"'3'!S9","v":0},{"$f":"'3'!T9","v":0},{"$f":"'3'!U9","v":0},{"$f":"'3'!V9","v":0},{"$f":"'3'!W9","v":0},{"$f":"'3'!X9","v":0},{"$f":"'3'!Y9","v":0},{"$f":"'3'!Z9","v":0},{"$f":"'3'!AA9","v":0},{"$f":"'3'!AB9","v":0},{"$f":"'3'!AC9","v":0},{"$f":"'3'!AD9","v":0},{"$f":"'3'!AE9","v":0},{"$f":"'3'!AF9","v":0},{"$f":"'3'!AG9","v":0},{"$f":"'3'!AH9","v":0},{"$f":"'3'!AI9","v":0},{"$f":"'3'!AJ9","v":0},3,{"$f":"VLOOKUP(AL208,Přehled!$C$5:$AL$24,36)","v":""},null,null,null,null,null,null,null,null,null,null,null,null,null,null,null,null,null,null,null,null,null,null,null,null,null,null,null,null,null,{"$f":"'2'!$AO$56","v":0},{"$f":"'2'!$AP$56","v":0},{"$f":"'2'!$AQ$56","v":0},{"$f":"'2'!$AR$56","v":0},{"$f":"'2'!$AS$56","v":0},{"$f":"'2'!$AT$56","v":0},2,{"$f":"VLOOKUP(BW208,Přehled!$C$5:$AL$24,36)","v":""},null,null,null,null,null,null,null,null,null,null,null,null,null,null,null,null,null,null,null,null,{"$f":"'2'!$BP$56","v":0},{"$f":"'2'!$BQ$56","v":0},{"$f":"'2'!$BR$56","v":0},{"$f":"'2'!$BS$56","v":0},{"$f":"'2'!$BT$56","v":0},{"$f":"'2'!$BU$56","v":0},2,{"$f":"VLOOKUP(CY208,Přehled!$C$5:$AL$24,36)","v":""},null,null,null,null,null,null,null,null,null,null,null,null,null,null,null,{"$f":"'2'!$CR$56","v":0},{"$f":"'2'!$CS$56","v":0},{"$f":"'2'!$CT$56","v":0},2,{"$f":"VLOOKUP(DS208,Přehled!$C$5:$AL$24,36)","v":""},null,null,null,null,null,null,null,null,null,null,null,null,null,null,null,{"$f":"'7'!$DO$25","v":0},{"$f":"'7'!$DP$25","v":0},{"$f":"'7'!$DQ$25","v":0},7,{"$f":"VLOOKUP(EM208,Přehled!$C$5:$AL$24,36)","v":""}]
[{"$f":"'3'!A10","v":0},{"$f":"'3'!B10","v":0},{"$f":"'3'!C10","v":0},{"$f":"SUMIF($B$5:$B$2024,Souhrn_hod[[#This Row],[Jméno]],$E$5:$E$2024)","v":0},{"$f":"'3'!D10","v":0},{"$f":"'3'!E10","v":0},{"$f":"'3'!F10","v":0},{"$f":"'3'!G10","v":0},{"$f":"'3'!H10","v":0},{"$f":"'3'!I10","v":0},{"$f":"'3'!J10","v":0},{"$f":"'3'!K10","v":0},{"$f":"'3'!L10","v":0},{"$f":"'3'!M10","v":0},{"$f":"'3'!N10","v":0},{"$f":"'3'!O10","v":0},{"$f":"'3'!P10","v":0},{"$f":"'3'!Q10","v":0},{"$f":"'3'!R10","v":0},{"$f":"'3'!S10","v":0},{"$f":"'3'!T10","v":0},{"$f":"'3'!U10","v":0},{"$f":"'3'!V10","v":0},{"$f":"'3'!W10","v":0},{"$f":"'3'!X10","v":0},{"$f":"'3'!Y10","v":0},{"$f":"'3'!Z10","v":0},{"$f":"'3'!AA10","v":0},{"$f":"'3'!AB10","v":0},{"$f":"'3'!AC10","v":0},{"$f":"'3'!AD10","v":0},{"$f":"'3'!AE10","v":0},{"$f":"'3'!AF10","v":0},{"$f":"'3'!AG10","v":0},{"$f":"'3'!AH10","v":0},{"$f":"'3'!AI10","v":0},{"$f":"'3'!AJ10","v":0},3,{"$f":"VLOOKUP(AL209,Přehled!$C$5:$AL$24,36)","v":""},null,null,null,null,null,null,null,null,null,null,null,null,null,null,null,null,null,null,null,null,null,null,null,null,null,null,null,null,null,{"$f":"'2'!$AO$57","v":0},{"$f":"'2'!$AP$57","v":0},{"$f":"'2'!$AQ$57","v":0},{"$f":"'2'!$AR$57","v":0},{"$f":"'2'!$AS$57","v":0},{"$f":"'2'!$AT$57","v":0},2,{"$f":"VLOOKUP(BW209,Přehled!$C$5:$AL$24,36)","v":""},null,null,null,null,null,null,null,null,null,null,null,null,null,null,null,null,null,null,null,null,{"$f":"'2'!$BP$57","v":0},{"$f":"'2'!$BQ$57","v":0},{"$f":"'2'!$BR$57","v":0},{"$f":"'2'!$BS$57","v":0},{"$f":"'2'!$BT$57","v":0},{"$f":"'2'!$BU$57","v":0},2,{"$f":"VLOOKUP(CY209,Přehled!$C$5:$AL$24,36)","v":""},null,null,null,null,null,null,null,null,null,null,null,null,null,null,null,{"$f":"'2'!$CR$57","v":0},{"$f":"'2'!$CS$57","v":0},{"$f":"'2'!$CT$57","v":0},2,{"$f":"VLOOKUP(DS209,Přehled!$C$5:$AL$24,36)","v":""},null,null,null,null,null,null,null,null,null,null,null,null,null,null,null,{"$f":"'7'!$DO$26","v":0},{"$f":"'7'!$DP$26","v":0},{"$f":"'7'!$DQ$26","v":0},7,{"$f":"VLOOKUP(EM209,Přehled!$C$5:$AL$24,36)","v":""}]
[{"$f":"'1'!$A$15","v":0},{"$f":"'1'!$B$15","v":0},{"$f":"'1'!$C$15","v":0},{"$f":"SUMIF($B$5:$B$2024,Souhrn_hod[[#This Row],[Jméno]],$E$5:$E$2024)","v":0},{"$f":"'1'!$D$15","v":0},{"$f":"'1'!$E$15","v":0},{"$f":"'1'!$F$15","v":0},{"$f":"'1'!$G$15","v":0},{"$f":"'1'!$H$15","v":0},{"$f":"'1'!$I$15","v":0},{"$f":"'1'!$J$15","v":0},{"$f":"'1'!$K$15","v":0},{"$f":"'1'!$L$15","v":0},{"$f":"'1'!$M$15","v":0},{"$f":"'1'!$N$15","v":0},{"$f":"'1'!$O$15","v":0},{"$f":"'1'!$P$15","v":0},{"$f":"'1'!$Q$15","v":0},{"$f":"'1'!$R$15","v":0},{"$f":"'1'!$S$15","v":0},{"$f":"'1'!$T$15","v":0},{"$f":"'1'!$U$15","v":0},{"$f":"'1'!$V$15","v":0},{"$f":"'1'!$W$15","v":0},{"$f":"'1'!$X$15","v":0},{"$f":"'1'!$Y$15","v":0},{"$f":"'1'!$Z$15","v":0},{"$f":"'1'!$AA$15","v":0},{"$f":"'1'!$AB$15","v":0},{"$f":"'1'!$AC$15","v":0},{"$f":"'1'!$AD$15","v":0},{"$f":"'1'!$AE$15","v":0},{"$f":"'1'!$AF$15","v":0},{"$f":"'1'!$AG$15","v":0},{"$f":"'1'!$AH$15","v":0},{"$f":"'1'!$AI$15","v":0},{"$f":"'1'!$AJ$15","v":0},1,{"$f":"VLOOKUP(AL210,Přehled!$C$5:$AL$24,36)","v":""},null,null,null,null,null,null,null,null,null,null,null,null,null,null,null,null,null,null,null,null,null,null,null,null,null,null,null,null,null,{"$f":"'2'!$AO$58","v":0},{"$f":"'2'!$AP$58","v":0},{"$f":"'2'!$AQ$58","v":0},{"$f":"'2'!$AR$58","v":0},{"$f":"'2'!$AS$58","v":0},{"$f":"'2'!$AT$58","v":0},2,{"$f":"VLOOKUP(BW210,Přehled!$C$5:$AL$24,36)","v":""},null,null,null,null,null,null,null,null,null,null,null,null,null,null,null,null,null,null,null,null,{"$f":"'2'!$BP$58","v":0},{"$f":"'2'!$BQ$58","v":0},{"$f":"'2'!$BR$58","v":0},{"$f":"'2'!$BS$58","v":0},{"$f":"'2'!$BT$58","v":0},{"$f":"'2'!$BU$58","v":0},2,{"$f":"VLOOKUP(CY210,Přehled!$C$5:$AL$24,36)","v":""},null,null,null,null,null,null,null,null,null,null,null,null,null,null,null,{"$f":"'2'!$CR$58","v":0},{"$f":"'2'!$CS$58","v":0},{"$f":"'2'!$CT$58","v":0},2,{"$f":"VLOOKUP(DS210,Přehled!$C$5:$AL$24,36)","v":""},null,null,null,null,null,null,null,null,null,null,null,null,null,null,null,{"$f":"'7'!$DO$27","v":0},{"$f":"'7'!$DP$27","v":0},{"$f":"'7'!$DQ$27","v":0},7,{"$f":"VLOOKUP(EM210,Přehled!$C$5:$AL$24,36)","v":""}]
[{"$f":"'3'!A12","v":0},{"$f":"'3'!B12","v":0},{"$f":"'3'!C12","v":0},{"$f":"SUMIF($B$5:$B$2024,Souhrn_hod[[#This Row],[Jméno]],$E$5:$E$2024)","v":0},{"$f":"'3'!D12","v":0},{"$f":"'3'!E12","v":0},{"$f":"'3'!F12","v":0},{"$f":"'3'!G12","v":0},{"$f":"'3'!H12","v":0},{"$f":"'3'!I12","v":0},{"$f":"'3'!J12","v":0},{"$f":"'3'!K12","v":0},{"$f":"'3'!L12","v":0},{"$f":"'3'!M12","v":0},{"$f":"'3'!N12","v":0},{"$f":"'3'!O12","v":0},{"$f":"'3'!P12","v":0},{"$f":"'3'!Q12","v":0},{"$f":"'3'!R12","v":0},{"$f":"'3'!S12","v":0},{"$f":"'3'!T12","v":0},{"$f":"'3'!U12","v":0},{"$f":"'3'!V12","v":0},{"$f":"'3'!W12","v":0},{"$f":"'3'!X12","v":0},{"$f":"'3'!Y12","v":0},{"$f":"'3'!Z12","v":0},{"$f":"'3'!AA12","v":0},{"$f":"'3'!AB12","v":0},{"$f":"'3'!AC12","v":0},{"$f":"'3'!AD12","v":0},{"$f":"'3'!AE12","v":0},{"$f":"'3'!AF12","v":0},{"$f":"'3'!AG12","v":0},{"$f":"'3'!AH12","v":0},{"$f":"'3'!AI12","v":0},{"$f":"'3'!AJ12","v":0},3,{"$f":"VLOOKUP(AL211,Přehled!$C$5:$AL$24,36)","v":""},null,null,null,null,null,null,null,null,null,null,null,null,null,null,null,null,null,null,null,null,null,null,null,null,null,null,null,null,null,{"$f":"'2'!$AO$59","v":0},{"$f":"'2'!$AP$59","v":0},{"$f":"'2'!$AQ$59","v":0},{"$f":"'2'!$AR$59","v":0},{"$f":"'2'!$AS$59","v":0},{"$f":"'2'!$AT$59","v":0},2,{"$f":"VLOOKUP(BW211,Přehled!$C$5:$AL$24,36)","v":""},null,null,null,null,null,null,null,null,null,null,null,null,null,null,null,null,null,null,null,null,{"$f":"'2'!$BP$59","v":0},{"$f":"'2'!$BQ$59","v":0},{"$f":"'2'!$BR$59","v":0},{"$f":"'2'!$BS$59","v":0},{"$f":"'2'!$BT$59","v":0},{"$f":"'2'!$BU$59","v":0},2,{"$f":"VLOOKUP(CY211,Přehled!$C$5:$AL$24,36)","v":""},null,null,null,null,null,null,null,null,null,null,null,null,null,null,null,{"$f":"'2'!$CR$59","v":0},{"$f":"'2'!$CS$59","v":0},{"$f":"'2'!$CT$59","v":0},2,{"$f":"VLOOKUP(DS211,Přehled!$C$5:$AL$24,36)","v":""},null,null,null,null,null,null,null,null,null,null,null,null,null,null,null,{"$f":"'7'!$DO$28","v":0},{"$f":"'7'!$DP$28","v":0},{"$f":"'7'!$DQ$28","v":0},7,{"$f":"VLOOKUP(EM211,Přehled!$C$5:$AL$24,36)","v":""}]
[{"$f":"'3'!A13","v":0},{"$f":"'3'!B13","v":0},{"$f":"'3'!C13","v":0},{"$f":"SUMIF($B$5:$B$2024,Souhrn_hod[[#This Row],[Jméno]],$E$5:$E$2024)","v":0},{"$f":"'3'!D13","v":0},{"$f":"'3'!E13","v":0},{"$f":"'3'!F13","v":0},{"$f":"'3'!G13","v":0},{"$f":"'3'!H13","v":0},{"$f":"'3'!I13","v":0},{"$f":"'3'!J13","v":0},{"$f":"'3'!K13","v":0},{"$f":"'3'!L13","v":0},{"$f":"'3'!M13","v":0},{"$f":"'3'!N13","v":0},{"$f":"'3'!O13","v":0},{"$f":"'3'!P13","v":0},{"$f":"'3'!Q13","v":0},{"$f":"'3'!R13","v":0},{"$f":"'3'!S13","v":0},{"$f":"'3'!T13","v":0},{"$f":"'3'!U13","v":0},{"$f":"'3'!V13","v":0},{"$f":"'3'!W13","v":0},{"$f":"'3'!X13","v":0},{"$f":"'3'!Y13","v":0},{"$f":"'3'!Z13","v":0},{"$f":"'3'!AA13","v":0},{"$f":"'3'!AB13","v":0},{"$f":"'3'!AC13","v":0},{"$f":"'3'!AD13","v":0},{"$f":"'3'!AE13","v":0},{"$f":"'3'!AF13","v":0},{"$f":"'3'!AG13","v":0},{"$f":"'3'!AH13","v":0},{"$f":"'3'!AI13","v":0},{"$f":"'3'!AJ13","v":0},3,{"$f":"VLOOKUP(AL212,Přehled!$C$5:$AL$24,36)","v":""},null,null,null,null,null,null,null,null,null,null,null,null,null,null,null,null,null,null,null,null,null,null,null,null,null,null,null,null,null,{"$f":"'2'!$AO$60","v":0},{"$f":"'2'!$AP$60","v":0},{"$f":"'2'!$AQ$60","v":0},{"$f":"'2'!$AR$60","v":0},{"$f":"'2'!$AS$60","v":0},{"$f":"'2'!$AT$60","v":0},2,{"$f":"VLOOKUP(BW212,Přehled!$C$5:$AL$24,36)","v":""},null,null,null,null,null,null,null,null,null,null,null,null,null,null,null,null,null,null,null,null,{"$f":"'2'!$BP$60","v":0},{"$f":"'2'!$BQ$60","v":0},{"$f":"'2'!$BR$60","v":0},{"$f":"'2'!$BS$60","v":0},{"$f":"'2'!$BT$60","v":0},{"$f":"'2'!$BU$60","v":0},2,{"$f":"VLOOKUP(CY212,Přehled!$C$5:$AL$24,36)","v":""},null,null,null,null,null,null,null,null,null,null,null,null,null,null,null,{"$f":"'2'!$CR$60","v":0},{"$f":"'2'!$CS$60","v":0},{"$f":"'2'!$CT$60","v":0},2,{"$f":"VLOOKUP(DS212,Přehled!$C$5:$AL$24,36)","v":""},null,null,null,null,null,null,null,null,null,null,null,null,null,null,null,{"$f":"'7'!$DO$29","v":0},{"$f":"'7'!$DP$29","v":0},{"$f":"'7'!$DQ$29","v":0},7,{"$f":"VLOOKUP(EM212,Přehled!$C$5:$AL$24,36)","v":""}]
[{"$f":"'2'!A15","v":0},{"$f":"'2'!B15","v":0},{"$f":"'2'!C15","v":0},{"$f":"SUMIF($B$5:$B$2024,Souhrn_hod[[#This Row],[Jméno]],$E$5:$E$2024)","v":0},{"$f":"'2'!D15","v":0},{"$f":"'2'!E15","v":0},{"$f":"'2'!F15","v":0},{"$f":"'2'!G15","v":0},{"$f":"'2'!H15","v":0},{"$f":"'2'!I15","v":0},{"$f":"'2'!J15","v":0},{"$f":"'2'!K15","v":0},{"$f":"'2'!L15","v":0},{"$f":"'2'!M15","v":0},{"$f":"'2'!N15","v":0},{"$f":"'2'!O15","v":0},{"$f":"'2'!P15","v":0},{"$f":"'2'!Q15","v":0},{"$f":"'2'!R15","v":0},{"$f":"'2'!S15","v":0},{"$f":"'2'!T15","v":0},{"$f":"'2'!U15","v":0},{"$f":"'2'!V15","v":0},{"$f":"'2'!W15","v":0},{"$f":"'2'!X15","v":0},{"$f":"'2'!Y15","v":0},{"$f":"'2'!Z15","v":0},{"$f":"'2'!AA15","v":0},{"$f":"'2'!AB15","v":0},{"$f":"'2'!AC15","v":0},{"$f":"'2'!AD15","v":0},{"$f":"'2'!AE15","v":0},{"$f":"'2'!AF15","v":0},{"$f":"'2'!AG15","v":0},{"$f":"'2'!AH15","v":0},{"$f":"'2'!AI15","v":0},{"$f":"'2'!AJ15","v":0},2,{"$f":"VLOOKUP(AL213,Přehled!$C$5:$AL$24,36)","v":""},null,null,null,null,null,null,null,null,null,null,null,null,null,null,null,null,null,null,null,null,null,null,null,null,null,null,null,null,null,{"$f":"'2'!$AO$61","v":0},{"$f":"'2'!$AP$61","v":0},{"$f":"'2'!$AQ$61","v":0},{"$f":"'2'!$AR$61","v":0},{"$f":"'2'!$AS$61","v":0},{"$f":"'2'!$AT$61","v":0},2,{"$f":"VLOOKUP(BW213,Přehled!$C$5:$AL$24,36)","v":""},null,null,null,null,null,null,null,null,null,null,null,null,null,null,null,null,null,null,null,null,{"$f":"'2'!$BP$61","v":0},{"$f":"'2'!$BQ$61","v":0},{"$f":"'2'!$BR$61","v":0},{"$f":"'2'!$BS$61","v":0},{"$f":"'2'!$BT$61","v":0},{"$f":"'2'!$BU$61","v":0},2,{"$f":"VLOOKUP(CY213,Přehled!$C$5:$AL$24,36)","v":""},null,null,null,null,null,null,null,null,null,null,null,null,null,null,null,{"$f":"'2'!$CR$61","v":0},{"$f":"'2'!$CS$61","v":0},{"$f":"'2'!$CT$61","v":0},2,{"$f":"VLOOKUP(DS213,Přehled!$C$5:$AL$24,36)","v":""},null,null,null,null,null,null,null,null,null,null,null,null,null,null,null,{"$f":"'7'!$DO$30","v":0},{"$f":"'7'!$DP$30","v":0},{"$f":"'7'!$DQ$30","v":0},7,{"$f":"VLOOKUP(EM213,Přehled!$C$5:$AL$24,36)","v":""}]
[{"$f":"'3'!A15","v":0},{"$f":"'3'!B15","v":0},{"$f":"'3'!C15","v":0},{"$f":"SUMIF($B$5:$B$2024,Souhrn_hod[[#This Row],[Jméno]],$E$5:$E$2024)","v":0},{"$f":"'3'!D15","v":0},{"$f":"'3'!E15","v":0},{"$f":"'3'!F15","v":0},{"$f":"'3'!G15","v":0},{"$f":"'3'!H15","v":0},{"$f":"'3'!I15","v":0},{"$f":"'3'!J15","v":0},{"$f":"'3'!K15","v":0},{"$f":"'3'!L15","v":0},{"$f":"'3'!M15","v":0},{"$f":"'3'!N15","v":0},{"$f":"'3'!O15","v":0},{"$f":"'3'!P15","v":0},{"$f":"'3'!Q15","v":0},{"$f":"'3'!R15","v":0},{"$f":"'3'!S15","v":0},{"$f":"'3'!T15","v":0},{"$f":"'3'!U15","v":0},{"$f":"'3'!V15","v":0},{"$f":"'3'!W15","v":0},{"$f":"'3'!X15","v":0},{"$f":"'3'!Y15","v":0},{"$f":"'3'!Z15","v":0},{"$f":"'3'!AA15","v":0},{"$f":"'3'!AB15","v":0},{"$f":"'3'!AC15","v":0},{"$f":"'3'!AD15","v":0},{"$f":"'3'!AE15","v":0},{"$f":"'3'!AF15","v":0},{"$f":"'3'!AG15","v":0},{"$f":"'3'!AH15","v":0},{"$f":"'3'!AI15","v":0},{"$f":"'3'!AJ15","v":0},3,{"$f":"VLOOKUP(AL214,Přehled!$C$5:$AL$24,36)","v":""},null,null,null,null,null,null,null,null,null,null,null,null,null,null,null,null,null,null,null,null,null,null,null,null,null,null,null,null,null,{"$f":"'2'!$AO$62","v":0},{"$f":"'2'!$AP$62","v":0},{"$f":"'2'!$AQ$62","v":0},{"$f":"'2'!$AR$62","v":0},{"$f":"'2'!$AS$62","v":0},{"$f":"'2'!$AT$62","v":0},2,{"$f":"VLOOKUP(BW214,Přehled!$C$5:$AL$24,36)","v":""},null,null,null,null,null,null,null,null,null,null,null,null,null,null,null,null,null,null,null,null,{"$f":"'2'!$BP$62","v":0},{"$f":"'2'!$BQ$62","v":0},{"$f":"'2'!$BR$62","v":0},{"$f":"'2'!$BS$62","v":0},{"$f":"'2'!$BT$62","v":0},{"$f":"'2'!$BU$62","v":0},2,{"$f":"VLOOKUP(CY214,Přehled!$C$5:$AL$24,36)","v":""},null,null,null,null,null,null,null,null,null,null,null,null,null,null,null,{"$f":"'2'!$CR$62","v":0},{"$f":"'2'!$CS$62","v":0},{"$f":"'2'!$CT$62","v":0},2,{"$f":"VLOOKUP(DS214,Přehled!$C$5:$AL$24,36)","v":""},null,null,null,null,null,null,null,null,null,null,null,null,null,null,null,{"$f":"'7'!$DO$31","v":0},{"$f":"'7'!$DP$31","v":0},{"$f":"'7'!$DQ$31","v":0},7,{"$f":"VLOOKUP(EM214,Přehled!$C$5:$AL$24,36)","v":""}]
[{"$f":"'3'!A16","v":0},{"$f":"'3'!B16","v":0},{"$f":"'3'!C16","v":0},{"$f":"SUMIF($B$5:$B$2024,Souhrn_hod[[#This Row],[Jméno]],$E$5:$E$2024)","v":0},{"$f":"'3'!D16","v":0},{"$f":"'3'!E16","v":0},{"$f":"'3'!F16","v":0},{"$f":"'3'!G16","v":0},{"$f":"'3'!H16","v":0},{"$f":"'3'!I16","v":0},{"$f":"'3'!J16","v":0},{"$f":"'3'!K16","v":0},{"$f":"'3'!L16","v":0},{"$f":"'3'!M16","v":0},{"$f":"'3'!N16","v":0},{"$f":"'3'!O16","v":0},{"$f":"'3'!P16","v":0},{"$f":"'3'!Q16","v":0},{"$f":"'3'!R16","v":0},{"$f":"'3'!S16","v":0},{"$f":"'3'!T16","v":0},{"$f":"'3'!U16","v":0},{"$f":"'3'!V16","v":0},{"$f":"'3'!W16","v":0},{"$f":"'3'!X16","v":0},{"$f":"'3'!Y16","v":0},{"$f":"'3'!Z16","v":0},{"$f":"'3'!AA16","v":0},{"$f":"'3'!AB16","v":0},{"$f":"'3'!AC16","v":0},{"$f":"'3'!AD16","v":0},{"$f":"'3'!AE16","v":0},{"$f":"'3'!AF16","v":0},{"$f":"'3'!AG16","v":0},{"$f":"'3'!AH16","v":0},{"$f":"'3'!AI16","v":0},{"$f":"'3'!AJ16","v":0},3,{"$f":"VLOOKUP(AL215,Přehled!$C$5:$AL$24,36)","v":""},null,null,null,null,null,null,null,null,null,null,null,null,null,null,null,null,null,null,null,null,null,null,null,null,null,null,null,null,null,{"$f":"'2'!$AO$63","v":0},{"$f":"'2'!$AP$63","v":0},{"$f":"'2'!$AQ$63","v":0},{"$f":"'2'!$AR$63","v":0},{"$f":"'2'!$AS$63","v":0},{"$f":"'2'!$AT$63","v":0},2,{"$f":"VLOOKUP(BW215,Přehled!$C$5:$AL$24,36)","v":""},null,null,null,null,null,null,null,null,null,null,null,null,null,null,null,null,null,null,null,null,{"$f":"'2'!$BP$63","v":0},{"$f":"'2'!$BQ$63","v":0},{"$f":"'2'!$BR$63","v":0},{"$f":"'2'!$BS$63","v":0},{"$f":"'2'!$BT$63","v":0},{"$f":"'2'!$BU$63","v":0},2,{"$f":"VLOOKUP(CY215,Přehled!$C$5:$AL$24,36)","v":""},null,null,null,null,null,null,null,null,null,null,null,null,null,null,null,{"$f":"'2'!$CR$63","v":0},{"$f":"'2'!$CS$63","v":0},{"$f":"'2'!$CT$63","v":0},2,{"$f":"VLOOKUP(DS215,Přehled!$C$5:$AL$24,36)","v":""},null,null,null,null,null,null,null,null,null,null,null,null,null,null,null,{"$f":"'7'!$DO$32","v":0},{"$f":"'7'!$DP$32","v":0},{"$f":"'7'!$DQ$32","v":0},7,{"$f":"VLOOKUP(EM215,Přehled!$C$5:$AL$24,36)","v":""}]
[{"$f":"'3'!A17","v":0},{"$f":"'3'!B17","v":0},{"$f":"'3'!C17","v":0},{"$f":"SUMIF($B$5:$B$2024,Souhrn_hod[[#This Row],[Jméno]],$E$5:$E$2024)","v":0},{"$f":"'3'!D17","v":0},{"$f":"'3'!E17","v":0},{"$f":"'3'!F17","v":0},{"$f":"'3'!G17","v":0},{"$f":"'3'!H17","v":0},{"$f":"'3'!I17","v":0},{"$f":"'3'!J17","v":0},{"$f":"'3'!K17","v":0},{"$f":"'3'!L17","v":0},{"$f":"'3'!M17","v":0},{"$f":"'3'!N17","v":0},{"$f":"'3'!O17","v":0},{"$f":"'3'!P17","v":0},{"$f":"'3'!Q17","v":0},{"$f":"'3'!R17","v":0},{"$f":"'3'!S17","v":0},{"$f":"'3'!T17","v":0},{"$f":"'3'!U17","v":0},{"$f":"'3'!V17","v":0},{"$f":"'3'!W17","v":0},{"$f":"'3'!X17","v":0},{"$f":"'3'!Y17","v":0},{"$f":"'3'!Z17","v":0},{"$f":"'3'!AA17","v":0},{"$f":"'3'!AB17","v":0},{"$f":"'3'!AC17","v":0},{"$f":"'3'!AD17","v":0},{"$f":"'3'!AE17","v":0},{"$f":"'3'!AF17","v":0},{"$f":"'3'!AG17","v":0},{"$f":"'3'!AH17","v":0},{"$f":"'3'!AI17","v":0},{"$f":"'3'!AJ17","v":0},3,{"$f":"VLOOKUP(AL216,Přehled!$C$5:$AL$24,36)","v":""},null,null,null,null,null,null,null,null,null,null,null,null,null,null,null,null,null,null,null,null,null,null,null,null,null,null,null,null,null,{"$f":"'2'!$AO$64","v":0},{"$f":"'2'!$AP$64","v":0},{"$f":"'2'!$AQ$64","v":0},{"$f":"'2'!$AR$64","v":0},{"$f":"'2'!$AS$64","v":0},{"$f":"'2'!$AT$64","v":0},2,{"$f":"VLOOKUP(BW216,Přehled!$C$5:$AL$24,36)","v":""},null,null,null,null,null,null,null,null,null,null,null,null,null,null,null,null,null,null,null,null,{"$f":"'2'!$BP$64","v":0},{"$f":"'2'!$BQ$64","v":0},{"$f":"'2'!$BR$64","v":0},{"$f":"'2'!$BS$64","v":0},{"$f":"'2'!$BT$64","v":0},{"$f":"'2'!$BU$64","v":0},2,{"$f":"VLOOKUP(CY216,Přehled!$C$5:$AL$24,36)","v":""},null,null,null,null,null,null,null,null,null,null,null,null,null,null,null,{"$f":"'2'!$CR$64","v":0},{"$f":"'2'!$CS$64","v":0},{"$f":"'2'!$CT$64","v":0},2,{"$f":"VLOOKUP(DS216,Přehled!$C$5:$AL$24,36)","v":""},null,null,null,null,null,null,null,null,null,null,null,null,null,null,null,{"$f":"'7'!$DO$33","v":0},{"$f":"'7'!$DP$33","v":0},{"$f":"'7'!$DQ$33","v":0},7,{"$f":"VLOOKUP(EM216,Přehled!$C$5:$AL$24,36)","v":""}]
[{"$f":"'3'!A18","v":0},{"$f":"'3'!B18","v":0},{"$f":"'3'!C18","v":0},{"$f":"SUMIF($B$5:$B$2024,Souhrn_hod[[#This Row],[Jméno]],$E$5:$E$2024)","v":0},{"$f":"'3'!D18","v":0},{"$f":"'3'!E18","v":0},{"$f":"'3'!F18","v":0},{"$f":"'3'!G18","v":0},{"$f":"'3'!H18","v":0},{"$f":"'3'!I18","v":0},{"$f":"'3'!J18","v":0},{"$f":"'3'!K18","v":0},{"$f":"'3'!L18","v":0},{"$f":"'3'!M18","v":0},{"$f":"'3'!N18","v":0},{"$f":"'3'!O18","v":0},{"$f":"'3'!P18","v":0},{"$f":"'3'!Q18","v":0},{"$f":"'3'!R18","v":0},{"$f":"'3'!S18","v":0},{"$f":"'3'!T18","v":0},{"$f":"'3'!U18","v":0},{"$f":"'3'!V18","v":0},{"$f":"'3'!W18","v":0},{"$f":"'3'!X18","v":0},{"$f":"'3'!Y18","v":0},{"$f":"'3'!Z18","v":0},{"$f":"'3'!AA18","v":0},{"$f":"'3'!AB18","v":0},{"$f":"'3'!AC18","v":0},{"$f":"'3'!AD18","v":0},{"$f":"'3'!AE18","v":0},{"$f":"'3'!AF18","v":0},{"$f":"'3'!AG18","v":0},{"$f":"'3'!AH18","v":0},{"$f":"'3'!AI18","v":0},{"$f":"'3'!AJ18","v":0},3,{"$f":"VLOOKUP(AL217,Přehled!$C$5:$AL$24,36)","v":""},null,null,null,null,null,null,null,null,null,null,null,null,null,null,null,null,null,null,null,null,null,null,null,null,null,null,null,null,null,{"$f":"'2'!$AO$65","v":0},{"$f":"'2'!$AP$65","v":0},{"$f":"'2'!$AQ$65","v":0},{"$f":"'2'!$AR$65","v":0},{"$f":"'2'!$AS$65","v":0},{"$f":"'2'!$AT$65","v":0},2,{"$f":"VLOOKUP(BW217,Přehled!$C$5:$AL$24,36)","v":""},null,null,null,null,null,null,null,null,null,null,null,null,null,null,null,null,null,null,null,null,{"$f":"'2'!$BP$65","v":0},{"$f":"'2'!$BQ$65","v":0},{"$f":"'2'!$BR$65","v":0},{"$f":"'2'!$BS$65","v":0},{"$f":"'2'!$BT$65","v":0},{"$f":"'2'!$BU$65","v":0},2,{"$f":"VLOOKUP(CY217,Přehled!$C$5:$AL$24,36)","v":""},null,null,null,null,null,null,null,null,null,null,null,null,null,null,null,{"$f":"'2'!$CR$65","v":0},{"$f":"'2'!$CS$65","v":0},{"$f":"'2'!$CT$65","v":0},2,{"$f":"VLOOKUP(DS217,Přehled!$C$5:$AL$24,36)","v":""},null,null,null,null,null,null,null,null,null,null,null,null,null,null,null,{"$f":"'7'!$DO$34","v":0},{"$f":"'7'!$DP$34","v":0},{"$f":"'7'!$DQ$34","v":0},7,{"$f":"VLOOKUP(EM217,Přehled!$C$5:$AL$24,36)","v":""}]
[{"$f":"'3'!A19","v":0},{"$f":"'3'!B19","v":0},{"$f":"'3'!C19","v":0},{"$f":"SUMIF($B$5:$B$2024,Souhrn_hod[[#This Row],[Jméno]],$E$5:$E$2024)","v":0},{"$f":"'3'!D19","v":0},{"$f":"'3'!E19","v":0},{"$f":"'3'!F19","v":0},{"$f":"'3'!G19","v":0},{"$f":"'3'!H19","v":0},{"$f":"'3'!I19","v":0},{"$f":"'3'!J19","v":0},{"$f":"'3'!K19","v":0},{"$f":"'3'!L19","v":0},{"$f":"'3'!M19","v":0},{"$f":"'3'!N19","v":0},{"$f":"'3'!O19","v":0},{"$f":"'3'!P19","v":0},{"$f":"'3'!Q19","v":0},{"$f":"'3'!R19","v":0},{"$f":"'3'!S19","v":0},{"$f":"'3'!T19","v":0},{"$f":"'3'!U19","v":0},{"$f":"'3'!V19","v":0},{"$f":"'3'!W19","v":0},{"$f":"'3'!X19","v":0},{"$f":"'3'!Y19","v":0},{"$f":"'3'!Z19","v":0},{"$f":"'3'!AA19","v":0},{"$f":"'3'!AB19","v":0},{"$f":"'3'!AC19","v":0},{"$f":"'3'!AD19","v":0},{"$f":"'3'!AE19","v":0},{"$f":"'3'!AF19","v":0},{"$f":"'3'!AG19","v":0},{"$f":"'3'!AH19","v":0},{"$f":"'3'!AI19","v":0},{"$f":"'3'!AJ19","v":0},3,{"$f":"VLOOKUP(AL218,Přehled!$C$5:$AL$24,36)","v":""},null,null,null,null,null,null,null,null,null,null,null,null,null,null,null,null,null,null,null,null,null,null,null,null,null,null,null,null,null,{"$f":"'2'!$AO$66","v":0},{"$f":"'2'!$AP$66","v":0},{"$f":"'2'!$AQ$66","v":0},{"$f":"'2'!$AR$66","v":0},{"$f":"'2'!$AS$66","v":0},{"$f":"'2'!$AT$66","v":0},2,{"$f":"VLOOKUP(BW218,Přehled!$C$5:$AL$24,36)","v":""},null,null,null,null,null,null,null,null,null,null,null,null,null,null,null,null,null,null,null,null,{"$f":"'2'!$BP$66","v":0},{"$f":"'2'!$BQ$66","v":0},{"$f":"'2'!$BR$66","v":0},{"$f":"'2'!$BS$66","v":0},{"$f":"'2'!$BT$66","v":0},{"$f":"'2'!$BU$66","v":0},2,{"$f":"VLOOKUP(CY218,Přehled!$C$5:$AL$24,36)","v":""},null,null,null,null,null,null,null,null,null,null,null,null,null,null,null,{"$f":"'2'!$CR$66","v":0},{"$f":"'2'!$CS$66","v":0},{"$f":"'2'!$CT$66","v":0},2,{"$f":"VLOOKUP(DS218,Přehled!$C$5:$AL$24,36)","v":""},null,null,null,null,null,null,null,null,null,null,null,null,null,null,null,{"$f":"'7'!$DO$35","v":0},{"$f":"'7'!$DP$35","v":0},{"$f":"'7'!$DQ$35","v":0},7,{"$f":"VLOOKUP(EM218,Přehled!$C$5:$AL$24,36)","v":""}]
[{"$f":"'3'!A20","v":0},{"$f":"'3'!B20","v":0},{"$f":"'3'!C20","v":0},{"$f":"SUMIF($B$5:$B$2024,Souhrn_hod[[#This Row],[Jméno]],$E$5:$E$2024)","v":0},{"$f":"'3'!D20","v":0},{"$f":"'3'!E20","v":0},{"$f":"'3'!F20","v":0},{"$f":"'3'!G20","v":0},{"$f":"'3'!H20","v":0},{"$f":"'3'!I20","v":0},{"$f":"'3'!J20","v":0},{"$f":"'3'!K20","v":0},{"$f":"'3'!L20","v":0},{"$f":"'3'!M20","v":0},{"$f":"'3'!N20","v":0},{"$f":"'3'!O20","v":0},{"$f":"'3'!P20","v":0},{"$f":"'3'!Q20","v":0},{"$f":"'3'!R20","v":0},{"$f":"'3'!S20","v":0},{"$f":"'3'!T20","v":0},{"$f":"'3'!U20","v":0},{"$f":"'3'!V20","v":0},{"$f":"'3'!W20","v":0},{"$f":"'3'!X20","v":0},{"$f":"'3'!Y20","v":0},{"$f":"'3'!Z20","v":0},{"$f":"'3'!AA20","v":0},{"$f":"'3'!AB20","v":0},{"$f":"'3'!AC20","v":0},{"$f":"'3'!AD20","v":0},{"$f":"'3'!AE20","v":0},{"$f":"'3'!AF20","v":0},{"$f":"'3'!AG20","v":0},{"$f":"'3'!AH20","v":0},{"$f":"'3'!AI20","v":0},{"$f":"'3'!AJ20","v":0},3,{"$f":"VLOOKUP(AL219,Přehled!$C$5:$AL$24,36)","v":""},null,null,null,null,null,null,null,null,null,null,null,null,null,null,null,null,null,null,null,null,null,null,null,null,null,null,null,null,null,{"$f":"'2'!$AO$67","v":0},{"$f":"'2'!$AP$67","v":0},{"$f":"'2'!$AQ$67","v":0},{"$f":"'2'!$AR$67","v":0},{"$f":"'2'!$AS$67","v":0},{"$f":"'2'!$AT$67","v":0},2,{"$f":"VLOOKUP(BW219,Přehled!$C$5:$AL$24,36)","v":""},null,null,null,null,null,null,null,null,null,null,null,null,null,null,null,null,null,null,null,null,{"$f":"'2'!$BP$67","v":0},{"$f":"'2'!$BQ$67","v":0},{"$f":"'2'!$BR$67","v":0},{"$f":"'2'!$BS$67","v":0},{"$f":"'2'!$BT$67","v":0},{"$f":"'2'!$BU$67","v":0},2,{"$f":"VLOOKUP(CY219,Přehled!$C$5:$AL$24,36)","v":""},null,null,null,null,null,null,null,null,null,null,null,null,null,null,null,{"$f":"'2'!$CR$67","v":0},{"$f":"'2'!$CS$67","v":0},{"$f":"'2'!$CT$67","v":0},2,{"$f":"VLOOKUP(DS219,Přehled!$C$5:$AL$24,36)","v":""},null,null,null,null,null,null,null,null,null,null,null,null,null,null,null,{"$f":"'7'!$DO$36","v":0},{"$f":"'7'!$DP$36","v":0},{"$f":"'7'!$DQ$36","v":0},7,{"$f":"VLOOKUP(EM219,Přehled!$C$5:$AL$24,36)","v":""}]
[{"$f":"'3'!A21","v":0},{"$f":"'3'!B21","v":0},{"$f":"'3'!C21","v":0},{"$f":"SUMIF($B$5:$B$2024,Souhrn_hod[[#This Row],[Jméno]],$E$5:$E$2024)","v":0},{"$f":"'3'!D21","v":0},{"$f":"'3'!E21","v":0},{"$f":"'3'!F21","v":0},{"$f":"'3'!G21","v":0},{"$f":"'3'!H21","v":0},{"$f":"'3'!I21","v":0},{"$f":"'3'!J21","v":0},{"$f":"'3'!K21","v":0},{"$f":"'3'!L21","v":0},{"$f":"'3'!M21","v":0},{"$f":"'3'!N21","v":0},{"$f":"'3'!O21","v":0},{"$f":"'3'!P21","v":0},{"$f":"'3'!Q21","v":0},{"$f":"'3'!R21","v":0},{"$f":"'3'!S21","v":0},{"$f":"'3'!T21","v":0},{"$f":"'3'!U21","v":0},{"$f":"'3'!V21","v":0},{"$f":"'3'!W21","v":0},{"$f":"'3'!X21","v":0},{"$f":"'3'!Y21","v":0},{"$f":"'3'!Z21","v":0},{"$f":"'3'!AA21","v":0},{"$f":"'3'!AB21","v":0},{"$f":"'3'!AC21","v":0},{"$f":"'3'!AD21","v":0},{"$f":"'3'!AE21","v":0},{"$f":"'3'!AF21","v":0},{"$f":"'3'!AG21","v":0},{"$f":"'3'!AH21","v":0},{"$f":"'3'!AI21","v":0},{"$f":"'3'!AJ21","v":0},3,{"$f":"VLOOKUP(AL220,Přehled!$C$5:$AL$24,36)","v":""},null,null,null,null,null,null,null,null,null,null,null,null,null,null,null,null,null,null,null,null,null,null,null,null,null,null,null,null,null,{"$f":"'2'!$AO$68","v":0},{"$f":"'2'!$AP$68","v":0},{"$f":"'2'!$AQ$68","v":0},{"$f":"'2'!$AR$68","v":0},{"$f":"'2'!$AS$68","v":0},{"$f":"'2'!$AT$68","v":0},2,{"$f":"VLOOKUP(BW220,Přehled!$C$5:$AL$24,36)","v":""},null,null,null,null,null,null,null,null,null,null,null,null,null,null,null,null,null,null,null,null,{"$f":"'2'!$BP$68","v":0},{"$f":"'2'!$BQ$68","v":0},{"$f":"'2'!$BR$68","v":0},{"$f":"'2'!$BS$68","v":0},{"$f":"'2'!$BT$68","v":0},{"$f":"'2'!$BU$68","v":0},2,{"$f":"VLOOKUP(CY220,Přehled!$C$5:$AL$24,36)","v":""},null,null,null,null,null,null,null,null,null,null,null,null,null,null,null,{"$f":"'2'!$CR$68","v":0},{"$f":"'2'!$CS$68","v":0},{"$f":"'2'!$CT$68","v":0},2,{"$f":"VLOOKUP(DS220,Přehled!$C$5:$AL$24,36)","v":""},null,null,null,null,null,null,null,null,null,null,null,null,null,null,null,{"$f":"'7'!$DO$37","v":0},{"$f":"'7'!$DP$37","v":0},{"$f":"'7'!$DQ$37","v":0},7,{"$f":"VLOOKUP(EM220,Přehled!$C$5:$AL$24,36)","v":""}]
[{"$f":"'3'!A22","v":0},{"$f":"'3'!B22","v":0},{"$f":"'3'!C22","v":0},{"$f":"SUMIF($B$5:$B$2024,Souhrn_hod[[#This Row],[Jméno]],$E$5:$E$2024)","v":0},{"$f":"'3'!D22","v":0},{"$f":"'3'!E22","v":0},{"$f":"'3'!F22","v":0},{"$f":"'3'!G22","v":0},{"$f":"'3'!H22","v":0},{"$f":"'3'!I22","v":0},{"$f":"'3'!J22","v":0},{"$f":"'3'!K22","v":0},{"$f":"'3'!L22","v":0},{"$f":"'3'!M22","v":0},{"$f":"'3'!N22","v":0},{"$f":"'3'!O22","v":0},{"$f":"'3'!P22","v":0},{"$f":"'3'!Q22","v":0},{"$f":"'3'!R22","v":0},{"$f":"'3'!S22","v":0},{"$f":"'3'!T22","v":0},{"$f":"'3'!U22","v":0},{"$f":"'3'!V22","v":0},{"$f":"'3'!W22","v":0},{"$f":"'3'!X22","v":0},{"$f":"'3'!Y22","v":0},{"$f":"'3'!Z22","v":0},{"$f":"'3'!AA22","v":0},{"$f":"'3'!AB22","v":0},{"$f":"'3'!AC22","v":0},{"$f":"'3'!AD22","v":0},{"$f":"'3'!AE22","v":0},{"$f":"'3'!AF22","v":0},{"$f":"'3'!AG22","v":0},{"$f":"'3'!AH22","v":0},{"$f":"'3'!AI22","v":0},{"$f":"'3'!AJ22","v":0},3,{"$f":"VLOOKUP(AL221,Přehled!$C$5:$AL$24,36)","v":""},null,null,null,null,null,null,null,null,null,null,null,null,null,null,null,null,null,null,null,null,null,null,null,null,null,null,null,null,null,{"$f":"'2'!$AO$69","v":0},{"$f":"'2'!$AP$69","v":0},{"$f":"'2'!$AQ$69","v":0},{"$f":"'2'!$AR$69","v":0},{"$f":"'2'!$AS$69","v":0},{"$f":"'2'!$AT$69","v":0},2,{"$f":"VLOOKUP(BW221,Přehled!$C$5:$AL$24,36)","v":""},null,null,null,null,null,null,null,null,null,null,null,null,null,null,null,null,null,null,null,null,{"$f":"'2'!$BP$69","v":0},{"$f":"'2'!$BQ$69","v":0},{"$f":"'2'!$BR$69","v":0},{"$f":"'2'!$BS$69","v":0},{"$f":"'2'!$BT$69","v":0},{"$f":"'2'!$BU$69","v":0},2,{"$f":"VLOOKUP(CY221,Přehled!$C$5:$AL$24,36)","v":""},null,null,null,null,null,null,null,null,null,null,null,null,null,null,null,{"$f":"'2'!$CR$69","v":0},{"$f":"'2'!$CS$69","v":0},{"$f":"'2'!$CT$69","v":0},2,{"$f":"VLOOKUP(DS221,Přehled!$C$5:$AL$24,36)","v":""},null,null,null,null,null,null,null,null,null,null,null,null,null,null,null,{"$f":"'7'!$DO$38","v":0},{"$f":"'7'!$DP$38","v":0},{"$f":"'7'!$DQ$38","v":0},7,{"$f":"VLOOKUP(EM221,Přehled!$C$5:$AL$24,36)","v":""}]
[{"$f":"'3'!A23","v":0},{"$f":"'3'!B23","v":0},{"$f":"'3'!C23","v":0},{"$f":"SUMIF($B$5:$B$2024,Souhrn_hod[[#This Row],[Jméno]],$E$5:$E$2024)","v":0},{"$f":"'3'!D23","v":0},{"$f":"'3'!E23","v":0},{"$f":"'3'!F23","v":0},{"$f":"'3'!G23","v":0},{"$f":"'3'!H23","v":0},{"$f":"'3'!I23","v":0},{"$f":"'3'!J23","v":0},{"$f":"'3'!K23","v":0},{"$f":"'3'!L23","v":0},{"$f":"'3'!M23","v":0},{"$f":"'3'!N23","v":0},{"$f":"'3'!O23","v":0},{"$f":"'3'!P23","v":0},{"$f":"'3'!Q23","v":0},{"$f":"'3'!R23","v":0},{"$f":"'3'!S23","v":0},{"$f":"'3'!T23","v":0},{"$f":"'3'!U23","v":0},{"$f":"'3'!V23","v":0},{"$f":"'3'!W23","v":0},{"$f":"'3'!X23","v":0},{"$f":"'3'!Y23","v":0},{"$f":"'3'!Z23","v":0},{"$f":"'3'!AA23","v":0},{"$f":"'3'!AB23","v":0},{"$f":"'3'!AC23","v":0},{"$f":"'3'!AD23","v":0},{"$f":"'3'!AE23","v":0},{"$f":"'3'!AF23","v":0},{"$f":"'3'!AG23","v":0},{"$f":"'3'!AH23","v":0},{"$f":"'3'!AI23","v":0},{"$f":"'3'!AJ23","v":0},3,{"$f":"VLOOKUP(AL222,Přehled!$C$5:$AL$24,36)","v":""},null,null,null,null,null,null,null,null,null,null,null,null,null,null,null,null,null,null,null,null,null,null,null,null,null,null,null,null,null,{"$f":"'2'!$AO$70","v":0},{"$f":"'2'!$AP$70","v":0},{"$f":"'2'!$AQ$70","v":0},{"$f":"'2'!$AR$70","v":0},{"$f":"'2'!$AS$70","v":0},{"$f":"'2'!$AT$70","v":0},2,{"$f":"VLOOKUP(BW222,Přehled!$C$5:$AL$24,36)","v":""},null,null,null,null,null,null,null,null,null,null,null,null,null,null,null,null,null,null,null,null,{"$f":"'2'!$BP$70","v":0},{"$f":"'2'!$BQ$70","v":0},{"$f":"'2'!$BR$70","v":0},{"$f":"'2'!$BS$70","v":0},{"$f":"'2'!$BT$70","v":0},{"$f":"'2'!$BU$70","v":0},2,{"$f":"VLOOKUP(CY222,Přehled!$C$5:$AL$24,36)","v":""},null,null,null,null,null,null,null,null,null,null,null,null,null,null,null,{"$f":"'2'!$CR$70","v":0},{"$f":"'2'!$CS$70","v":0},{"$f":"'2'!$CT$70","v":0},2,{"$f":"VLOOKUP(DS222,Přehled!$C$5:$AL$24,36)","v":""},null,null,null,null,null,null,null,null,null,null,null,null,null,null,null,{"$f":"'8'!$DO$8","v":0},{"$f":"'8'!$DP$8","v":0},{"$f":"'8'!$DQ$8","v":0},8,{"$f":"VLOOKUP(EM222,Přehled!$C$5:$AL$24,36)","v":""}]
[{"$f":"'3'!A24","v":0},{"$f":"'3'!B24","v":0},{"$f":"'3'!C24","v":0},{"$f":"SUMIF($B$5:$B$2024,Souhrn_hod[[#This Row],[Jméno]],$E$5:$E$2024)","v":0},{"$f":"'3'!D24","v":0},{"$f":"'3'!E24","v":0},{"$f":"'3'!F24","v":0},{"$f":"'3'!G24","v":0},{"$f":"'3'!H24","v":0},{"$f":"'3'!I24","v":0},{"$f":"'3'!J24","v":0},{"$f":"'3'!K24","v":0},{"$f":"'3'!L24","v":0},{"$f":"'3'!M24","v":0},{"$f":"'3'!N24","v":0},{"$f":"'3'!O24","v":0},{"$f":"'3'!P24","v":0},{"$f":"'3'!Q24","v":0},{"$f":"'3'!R24","v":0},{"$f":"'3'!S24","v":0},{"$f":"'3'!T24","v":0},{"$f":"'3'!U24","v":0},{"$f":"'3'!V24","v":0},{"$f":"'3'!W24","v":0},{"$f":"'3'!X24","v":0},{"$f":"'3'!Y24","v":0},{"$f":"'3'!Z24","v":0},{"$f":"'3'!AA24","v":0},{"$f":"'3'!AB24","v":0},{"$f":"'3'!AC24","v":0},{"$f":"'3'!AD24","v":0},{"$f":"'3'!AE24","v":0},{"$f":"'3'!AF24","v":0},{"$f":"'3'!AG24","v":0},{"$f":"'3'!AH24","v":0},{"$f":"'3'!AI24","v":0},{"$f":"'3'!AJ24","v":0},3,{"$f":"VLOOKUP(AL223,Přehled!$C$5:$AL$24,36)","v":""},null,null,null,null,null,null,null,null,null,null,null,null,null,null,null,null,null,null,null,null,null,null,null,null,null,null,null,null,null,{"$f":"'2'!$AO$71","v":0},{"$f":"'2'!$AP$71","v":0},{"$f":"'2'!$AQ$71","v":0},{"$f":"'2'!$AR$71","v":0},{"$f":"'2'!$AS$71","v":0},{"$f":"'2'!$AT$71","v":0},2,{"$f":"VLOOKUP(BW223,Přehled!$C$5:$AL$24,36)","v":""},null,null,null,null,null,null,null,null,null,null,null,null,null,null,null,null,null,null,null,null,{"$f":"'2'!$BP$71","v":0},{"$f":"'2'!$BQ$71","v":0},{"$f":"'2'!$BR$71","v":0},{"$f":"'2'!$BS$71","v":0},{"$f":"'2'!$BT$71","v":0},{"$f":"'2'!$BU$71","v":0},2,{"$f":"VLOOKUP(CY223,Přehled!$C$5:$AL$24,36)","v":""},null,null,null,null,null,null,null,null,null,null,null,null,null,null,null,{"$f":"'2'!$CR$71","v":0},{"$f":"'2'!$CS$71","v":0},{"$f":"'2'!$CT$71","v":0},2,{"$f":"VLOOKUP(DS223,Přehled!$C$5:$AL$24,36)","v":""},null,null,null,null,null,null,null,null,null,null,null,null,null,null,null,{"$f":"'8'!$DO$9","v":0},{"$f":"'8'!$DP$9","v":0},{"$f":"'8'!$DQ$9","v":0},8,{"$f":"VLOOKUP(EM223,Přehled!$C$5:$AL$24,36)","v":""}]
[{"$f":"'3'!A25","v":0},{"$f":"'3'!B25","v":0},{"$f":"'3'!C25","v":0},{"$f":"SUMIF($B$5:$B$2024,Souhrn_hod[[#This Row],[Jméno]],$E$5:$E$2024)","v":0},{"$f":"'3'!D25","v":0},{"$f":"'3'!E25","v":0},{"$f":"'3'!F25","v":0},{"$f":"'3'!G25","v":0},{"$f":"'3'!H25","v":0},{"$f":"'3'!I25","v":0},{"$f":"'3'!J25","v":0},{"$f":"'3'!K25","v":0},{"$f":"'3'!L25","v":0},{"$f":"'3'!M25","v":0},{"$f":"'3'!N25","v":0},{"$f":"'3'!O25","v":0},{"$f":"'3'!P25","v":0},{"$f":"'3'!Q25","v":0},{"$f":"'3'!R25","v":0},{"$f":"'3'!S25","v":0},{"$f":"'3'!T25","v":0},{"$f":"'3'!U25","v":0},{"$f":"'3'!V25","v":0},{"$f":"'3'!W25","v":0},{"$f":"'3'!X25","v":0},{"$f":"'3'!Y25","v":0},{"$f":"'3'!Z25","v":0},{"$f":"'3'!AA25","v":0},{"$f":"'3'!AB25","v":0},{"$f":"'3'!AC25","v":0},{"$f":"'3'!AD25","v":0},{"$f":"'3'!AE25","v":0},{"$f":"'3'!AF25","v":0},{"$f":"'3'!AG25","v":0},{"$f":"'3'!AH25","v":0},{"$f":"'3'!AI25","v":0},{"$f":"'3'!AJ25","v":0},3,{"$f":"VLOOKUP(AL224,Přehled!$C$5:$AL$24,36)","v":""},null,null,null,null,null,null,null,null,null,null,null,null,null,null,null,null,null,null,null,null,null,null,null,null,null,null,null,null,null,{"$f":"'2'!$AO$72","v":0},{"$f":"'2'!$AP$72","v":0},{"$f":"'2'!$AQ$72","v":0},{"$f":"'2'!$AR$72","v":0},{"$f":"'2'!$AS$72","v":0},{"$f":"'2'!$AT$72","v":0},2,{"$f":"VLOOKUP(BW224,Přehled!$C$5:$AL$24,36)","v":""},null,null,null,null,null,null,null,null,null,null,null,null,null,null,null,null,null,null,null,null,{"$f":"'2'!$BP$72","v":0},{"$f":"'2'!$BQ$72","v":0},{"$f":"'2'!$BR$72","v":0},{"$f":"'2'!$BS$72","v":0},{"$f":"'2'!$BT$72","v":0},{"$f":"'2'!$BU$72","v":0},2,{"$f":"VLOOKUP(CY224,Přehled!$C$5:$AL$24,36)","v":""},null,null,null,null,null,null,null,null,null,null,null,null,null,null,null,{"$f":"'2'!$CR$72","v":0},{"$f":"'2'!$CS$72","v":0},{"$f":"'2'!$CT$72","v":0},2,{"$f":"VLOOKUP(DS224,Přehled!$C$5:$AL$24,36)","v":""},null,null,null,null,null,null,null,null,null,null,null,null,null,null,null,{"$f":"'8'!$DO$10","v":0},{"$f":"'8'!$DP$10","v":0},{"$f":"'8'!$DQ$10","v":0},8,{"$f":"VLOOKUP(EM224,Přehled!$C$5:$AL$24,36)","v":""}]
[{"$f":"'3'!A26","v":0},{"$f":"'3'!B26","v":0},{"$f":"'3'!C26","v":0},{"$f":"SUMIF($B$5:$B$2024,Souhrn_hod[[#This Row],[Jméno]],$E$5:$E$2024)","v":0},{"$f":"'3'!D26","v":0},{"$f":"'3'!E26","v":0},{"$f":"'3'!F26","v":0},{"$f":"'3'!G26","v":0},{"$f":"'3'!H26","v":0},{"$f":"'3'!I26","v":0},{"$f":"'3'!J26","v":0},{"$f":"'3'!K26","v":0},{"$f":"'3'!L26","v":0},{"$f":"'3'!M26","v":0},{"$f":"'3'!N26","v":0},{"$f":"'3'!O26","v":0},{"$f":"'3'!P26","v":0},{"$f":"'3'!Q26","v":0},{"$f":"'3'!R26","v":0},{"$f":"'3'!S26","v":0},{"$f":"'3'!T26","v":0},{"$f":"'3'!U26","v":0},{"$f":"'3'!V26","v":0},{"$f":"'3'!W26","v":0},{"$f":"'3'!X26","v":0},{"$f":"'3'!Y26","v":0},{"$f":"'3'!Z26","v":0},{"$f":"'3'!AA26","v":0},{"$f":"'3'!AB26","v":0},{"$f":"'3'!AC26","v":0},{"$f":"'3'!AD26","v":0},{"$f":"'3'!AE26","v":0},{"$f":"'3'!AF26","v":0},{"$f":"'3'!AG26","v":0},{"$f":"'3'!AH26","v":0},{"$f":"'3'!AI26","v":0},{"$f":"'3'!AJ26","v":0},3,{"$f":"VLOOKUP(AL225,Přehled!$C$5:$AL$24,36)","v":""},null,null,null,null,null,null,null,null,null,null,null,null,null,null,null,null,null,null,null,null,null,null,null,null,null,null,null,null,null,{"$f":"'2'!$AO$73","v":0},{"$f":"'2'!$AP$73","v":0},{"$f":"'2'!$AQ$73","v":0},{"$f":"'2'!$AR$73","v":0},{"$f":"'2'!$AS$73","v":0},{"$f":"'2'!$AT$73","v":0},2,{"$f":"VLOOKUP(BW225,Přehled!$C$5:$AL$24,36)","v":""},null,null,null,null,null,null,null,null,null,null,null,null,null,null,null,null,null,null,null,null,{"$f":"'2'!$BP$73","v":0},{"$f":"'2'!$BQ$73","v":0},{"$f":"'2'!$BR$73","v":0},{"$f":"'2'!$BS$73","v":0},{"$f":"'2'!$BT$73","v":0},{"$f":"'2'!$BU$73","v":0},2,{"$f":"VLOOKUP(CY225,Přehled!$C$5:$AL$24,36)","v":""},null,null,null,null,null,null,null,null,null,null,null,null,null,null,null,{"$f":"'2'!$CR$73","v":0},{"$f":"'2'!$CS$73","v":0},{"$f":"'2'!$CT$73","v":0},2,{"$f":"VLOOKUP(DS225,Přehled!$C$5:$AL$24,36)","v":""},null,null,null,null,null,null,null,null,null,null,null,null,null,null,null,{"$f":"'8'!$DO$11","v":0},{"$f":"'8'!$DP$11","v":0},{"$f":"'8'!$DQ$11","v":0},8,{"$f":"VLOOKUP(EM225,Přehled!$C$5:$AL$24,36)","v":""}]
[{"$f":"'3'!A27","v":0},{"$f":"'3'!B27","v":0},{"$f":"'3'!C27","v":0},{"$f":"SUMIF($B$5:$B$2024,Souhrn_hod[[#This Row],[Jméno]],$E$5:$E$2024)","v":0},{"$f":"'3'!D27","v":0},{"$f":"'3'!E27","v":0},{"$f":"'3'!F27","v":0},{"$f":"'3'!G27","v":0},{"$f":"'3'!H27","v":0},{"$f":"'3'!I27","v":0},{"$f":"'3'!J27","v":0},{"$f":"'3'!K27","v":0},{"$f":"'3'!L27","v":0},{"$f":"'3'!M27","v":0},{"$f":"'3'!N27","v":0},{"$f":"'3'!O27","v":0},{"$f":"'3'!P27","v":0},{"$f":"'3'!Q27","v":0},{"$f":"'3'!R27","v":0},{"$f":"'3'!S27","v":0},{"$f":"'3'!T27","v":0},{"$f":"'3'!U27","v":0},{"$f":"'3'!V27","v":0},{"$f":"'3'!W27","v":0},{"$f":"'3'!X27","v":0},{"$f":"'3'!Y27","v":0},{"$f":"'3'!Z27","v":0},{"$f":"'3'!AA27","v":0},{"$f":"'3'!AB27","v":0},{"$f":"'3'!AC27","v":0},{"$f":"'3'!AD27","v":0},{"$f":"'3'!AE27","v":0},{"$f":"'3'!AF27","v":0},{"$f":"'3'!AG27","v":0},{"$f":"'3'!AH27","v":0},{"$f":"'3'!AI27","v":0},{"$f":"'3'!AJ27","v":0},3,{"$f":"VLOOKUP(AL226,Přehled!$C$5:$AL$24,36)","v":""},null,null,null,null,null,null,null,null,null,null,null,null,null,null,null,null,null,null,null,null,null,null,null,null,null,null,null,null,null,{"$f":"'2'!$AO$74","v":0},{"$f":"'2'!$AP$74","v":0},{"$f":"'2'!$AQ$74","v":0},{"$f":"'2'!$AR$74","v":0},{"$f":"'2'!$AS$74","v":0},{"$f":"'2'!$AT$74","v":0},2,{"$f":"VLOOKUP(BW226,Přehled!$C$5:$AL$24,36)","v":""},null,null,null,null,null,null,null,null,null,null,null,null,null,null,null,null,null,null,null,null,{"$f":"'2'!$BP$74","v":0},{"$f":"'2'!$BQ$74","v":0},{"$f":"'2'!$BR$74","v":0},{"$f":"'2'!$BS$74","v":0},{"$f":"'2'!$BT$74","v":0},{"$f":"'2'!$BU$74","v":0},2,{"$f":"VLOOKUP(CY226,Přehled!$C$5:$AL$24,36)","v":""},null,null,null,null,null,null,null,null,null,null,null,null,null,null,null,{"$f":"'2'!$CR$74","v":0},{"$f":"'2'!$CS$74","v":0},{"$f":"'2'!$CT$74","v":0},2,{"$f":"VLOOKUP(DS226,Přehled!$C$5:$AL$24,36)","v":""},null,null,null,null,null,null,null,null,null,null,null,null,null,null,null,{"$f":"'8'!$DO$12","v":0},{"$f":"'8'!$DP$12","v":0},{"$f":"'8'!$DQ$12","v":0},8,{"$f":"VLOOKUP(EM226,Přehled!$C$5:$AL$24,36)","v":""}]
[{"$f":"'3'!A28","v":0},{"$f":"'3'!B28","v":0},{"$f":"'3'!C28","v":0},{"$f":"SUMIF($B$5:$B$2024,Souhrn_hod[[#This Row],[Jméno]],$E$5:$E$2024)","v":0},{"$f":"'3'!D28","v":0},{"$f":"'3'!E28","v":0},{"$f":"'3'!F28","v":0},{"$f":"'3'!G28","v":0},{"$f":"'3'!H28","v":0},{"$f":"'3'!I28","v":0},{"$f":"'3'!J28","v":0},{"$f":"'3'!K28","v":0},{"$f":"'3'!L28","v":0},{"$f":"'3'!M28","v":0},{"$f":"'3'!N28","v":0},{"$f":"'3'!O28","v":0},{"$f":"'3'!P28","v":0},{"$f":"'3'!Q28","v":0},{"$f":"'3'!R28","v":0},{"$f":"'3'!S28","v":0},{"$f":"'3'!T28","v":0},{"$f":"'3'!U28","v":0},{"$f":"'3'!V28","v":0},{"$f":"'3'!W28","v":0},{"$f":"'3'!X28","v":0},{"$f":"'3'!Y28","v":0},{"$f":"'3'!Z28","v":0},{"$f":"'3'!AA28","v":0},{"$f":"'3'!AB28","v":0},{"$f":"'3'!AC28","v":0},{"$f":"'3'!AD28","v":0},{"$f":"'3'!AE28","v":0},{"$f":"'3'!AF28","v":0},{"$f":"'3'!AG28","v":0},{"$f":"'3'!AH28","v":0},{"$f":"'3'!AI28","v":0},{"$f":"'3'!AJ28","v":0},3,{"$f":"VLOOKUP(AL227,Přehled!$C$5:$AL$24,36)","v":""},null,null,null,null,null,null,null,null,null,null,null,null,null,null,null,null,null,null,null,null,null,null,null,null,null,null,null,null,null,{"$f":"'2'!$AO$75","v":0},{"$f":"'2'!$AP$75","v":0},{"$f":"'2'!$AQ$75","v":0},{"$f":"'2'!$AR$75","v":0},{"$f":"'2'!$AS$75","v":0},{"$f":"'2'!$AT$75","v":0},2,{"$f":"VLOOKUP(BW227,Přehled!$C$5:$AL$24,36)","v":""},null,null,null,null,null,null,null,null,null,null,null,null,null,null,null,null,null,null,null,null,{"$f":"'2'!$BP$75","v":0},{"$f":"'2'!$BQ$75","v":0},{"$f":"'2'!$BR$75","v":0},{"$f":"'2'!$BS$75","v":0},{"$f":"'2'!$BT$75","v":0},{"$f":"'2'!$BU$75","v":0},2,{"$f":"VLOOKUP(CY227,Přehled!$C$5:$AL$24,36)","v":""},null,null,null,null,null,null,null,null,null,null,null,null,null,null,null,{"$f":"'2'!$CR$75","v":0},{"$f":"'2'!$CS$75","v":0},{"$f":"'2'!$CT$75","v":0},2,{"$f":"VLOOKUP(DS227,Přehled!$C$5:$AL$24,36)","v":""},null,null,null,null,null,null,null,null,null,null,null,null,null,null,null,{"$f":"'8'!$DO$13","v":0},{"$f":"'8'!$DP$13","v":0},{"$f":"'8'!$DQ$13","v":0},8,{"$f":"VLOOKUP(EM227,Přehled!$C$5:$AL$24,36)","v":""}]
[{"$f":"'3'!A29","v":0},{"$f":"'3'!B29","v":0},{"$f":"'3'!C29","v":0},{"$f":"SUMIF($B$5:$B$2024,Souhrn_hod[[#This Row],[Jméno]],$E$5:$E$2024)","v":0},{"$f":"'3'!D29","v":0},{"$f":"'3'!E29","v":0},{"$f":"'3'!F29","v":0},{"$f":"'3'!G29","v":0},{"$f":"'3'!H29","v":0},{"$f":"'3'!I29","v":0},{"$f":"'3'!J29","v":0},{"$f":"'3'!K29","v":0},{"$f":"'3'!L29","v":0},{"$f":"'3'!M29","v":0},{"$f":"'3'!N29","v":0},{"$f":"'3'!O29","v":0},{"$f":"'3'!P29","v":0},{"$f":"'3'!Q29","v":0},{"$f":"'3'!R29","v":0},{"$f":"'3'!S29","v":0},{"$f":"'3'!T29","v":0},{"$f":"'3'!U29","v":0},{"$f":"'3'!V29","v":0},{"$f":"'3'!W29","v":0},{"$f":"'3'!X29","v":0},{"$f":"'3'!Y29","v":0},{"$f":"'3'!Z29","v":0},{"$f":"'3'!AA29","v":0},{"$f":"'3'!AB29","v":0},{"$f":"'3'!AC29","v":0},{"$f":"'3'!AD29","v":0},{"$f":"'3'!AE29","v":0},{"$f":"'3'!AF29","v":0},{"$f":"'3'!AG29","v":0},{"$f":"'3'!AH29","v":0},{"$f":"'3'!AI29","v":0},{"$f":"'3'!AJ29","v":0},3,{"$f":"VLOOKUP(AL228,Přehled!$C$5:$AL$24,36)","v":""},null,null,null,null,null,null,null,null,null,null,null,null,null,null,null,null,null,null,null,null,null,null,null,null,null,null,null,null,null,{"$f":"'2'!$AO$76","v":0},{"$f":"'2'!$AP$76","v":0},{"$f":"'2'!$AQ$76","v":0},{"$f":"'2'!$AR$76","v":0},{"$f":"'2'!$AS$76","v":0},{"$f":"'2'!$AT$76","v":0},2,{"$f":"VLOOKUP(BW228,Přehled!$C$5:$AL$24,36)","v":""},null,null,null,null,null,null,null,null,null,null,null,null,null,null,null,null,null,null,null,null,{"$f":"'2'!$BP$76","v":0},{"$f":"'2'!$BQ$76","v":0},{"$f":"'2'!$BR$76","v":0},{"$f":"'2'!$BS$76","v":0},{"$f":"'2'!$BT$76","v":0},{"$f":"'2'!$BU$76","v":0},2,{"$f":"VLOOKUP(CY228,Přehled!$C$5:$AL$24,36)","v":""},null,null,null,null,null,null,null,null,null,null,null,null,null,null,null,{"$f":"'2'!$CR$76","v":0},{"$f":"'2'!$CS$76","v":0},{"$f":"'2'!$CT$76","v":0},2,{"$f":"VLOOKUP(DS228,Přehled!$C$5:$AL$24,36)","v":""},null,null,null,null,null,null,null,null,null,null,null,null,null,null,null,{"$f":"'8'!$DO$14","v":0},{"$f":"'8'!$DP$14","v":0},{"$f":"'8'!$DQ$14","v":0},8,{"$f":"VLOOKUP(EM228,Přehled!$C$5:$AL$24,36)","v":""}]
[{"$f":"'3'!A30","v":0},{"$f":"'3'!B30","v":0},{"$f":"'3'!C30","v":0},{"$f":"SUMIF($B$5:$B$2024,Souhrn_hod[[#This Row],[Jméno]],$E$5:$E$2024)","v":0},{"$f":"'3'!D30","v":0},{"$f":"'3'!E30","v":0},{"$f":"'3'!F30","v":0},{"$f":"'3'!G30","v":0},{"$f":"'3'!H30","v":0},{"$f":"'3'!I30","v":0},{"$f":"'3'!J30","v":0},{"$f":"'3'!K30","v":0},{"$f":"'3'!L30","v":0},{"$f":"'3'!M30","v":0},{"$f":"'3'!N30","v":0},{"$f":"'3'!O30","v":0},{"$f":"'3'!P30","v":0},{"$f":"'3'!Q30","v":0},{"$f":"'3'!R30","v":0},{"$f":"'3'!S30","v":0},{"$f":"'3'!T30","v":0},{"$f":"'3'!U30","v":0},{"$f":"'3'!V30","v":0},{"$f":"'3'!W30","v":0},{"$f":"'3'!X30","v":0},{"$f":"'3'!Y30","v":0},{"$f":"'3'!Z30","v":0},{"$f":"'3'!AA30","v":0},{"$f":"'3'!AB30","v":0},{"$f":"'3'!AC30","v":0},{"$f":"'3'!AD30","v":0},{"$f":"'3'!AE30","v":0},{"$f":"'3'!AF30","v":0},{"$f":"'3'!AG30","v":0},{"$f":"'3'!AH30","v":0},{"$f":"'3'!AI30","v":0},{"$f":"'3'!AJ30","v":0},3,{"$f":"VLOOKUP(AL229,Přehled!$C$5:$AL$24,36)","v":""},null,null,null,null,null,null,null,null,null,null,null,null,null,null,null,null,null,null,null,null,null,null,null,null,null,null,null,null,null,{"$f":"'2'!$AO$77","v":0},{"$f":"'2'!$AP$77","v":0},{"$f":"'2'!$AQ$77","v":0},{"$f":"'2'!$AR$77","v":0},{"$f":"'2'!$AS$77","v":0},{"$f":"'2'!$AT$77","v":0},2,{"$f":"VLOOKUP(BW229,Přehled!$C$5:$AL$24,36)","v":""},null,null,null,null,null,null,null,null,null,null,null,null,null,null,null,null,null,null,null,null,{"$f":"'2'!$BP$77","v":0},{"$f":"'2'!$BQ$77","v":0},{"$f":"'2'!$BR$77","v":0},{"$f":"'2'!$BS$77","v":0},{"$f":"'2'!$BT$77","v":0},{"$f":"'2'!$BU$77","v":0},2,{"$f":"VLOOKUP(CY229,Přehled!$C$5:$AL$24,36)","v":""},null,null,null,null,null,null,null,null,null,null,null,null,null,null,null,{"$f":"'2'!$CR$77","v":0},{"$f":"'2'!$CS$77","v":0},{"$f":"'2'!$CT$77","v":0},2,{"$f":"VLOOKUP(DS229,Přehled!$C$5:$AL$24,36)","v":""},null,null,null,null,null,null,null,null,null,null,null,null,null,null,null,{"$f":"'8'!$DO$15","v":0},{"$f":"'8'!$DP$15","v":0},{"$f":"'8'!$DQ$15","v":0},8,{"$f":"VLOOKUP(EM229,Přehled!$C$5:$AL$24,36)","v":""}]
[{"$f":"'3'!A31","v":0},{"$f":"'3'!B31","v":0},{"$f":"'3'!C31","v":0},{"$f":"SUMIF($B$5:$B$2024,Souhrn_hod[[#This Row],[Jméno]],$E$5:$E$2024)","v":0},{"$f":"'3'!D31","v":0},{"$f":"'3'!E31","v":0},{"$f":"'3'!F31","v":0},{"$f":"'3'!G31","v":0},{"$f":"'3'!H31","v":0},{"$f":"'3'!I31","v":0},{"$f":"'3'!J31","v":0},{"$f":"'3'!K31","v":0},{"$f":"'3'!L31","v":0},{"$f":"'3'!M31","v":0},{"$f":"'3'!N31","v":0},{"$f":"'3'!O31","v":0},{"$f":"'3'!P31","v":0},{"$f":"'3'!Q31","v":0},{"$f":"'3'!R31","v":0},{"$f":"'3'!S31","v":0},{"$f":"'3'!T31","v":0},{"$f":"'3'!U31","v":0},{"$f":"'3'!V31","v":0},{"$f":"'3'!W31","v":0},{"$f":"'3'!X31","v":0},{"$f":"'3'!Y31","v":0},{"$f":"'3'!Z31","v":0},{"$f":"'3'!AA31","v":0},{"$f":"'3'!AB31","v":0},{"$f":"'3'!AC31","v":0},{"$f":"'3'!AD31","v":0},{"$f":"'3'!AE31","v":0},{"$f":"'3'!AF31","v":0},{"$f":"'3'!AG31","v":0},{"$f":"'3'!AH31","v":0},{"$f":"'3'!AI31","v":0},{"$f":"'3'!AJ31","v":0},3,{"$f":"VLOOKUP(AL230,Přehled!$C$5:$AL$24,36)","v":""},null,null,null,null,null,null,null,null,null,null,null,null,null,null,null,null,null,null,null,null,null,null,null,null,null,null,null,null,null,{"$f":"'2'!$AO$78","v":0},{"$f":"'2'!$AP$78","v":0},{"$f":"'2'!$AQ$78","v":0},{"$f":"'2'!$AR$78","v":0},{"$f":"'2'!$AS$78","v":0},{"$f":"'2'!$AT$78","v":0},2,{"$f":"VLOOKUP(BW230,Přehled!$C$5:$AL$24,36)","v":""},null,null,null,null,null,null,null,null,null,null,null,null,null,null,null,null,null,null,null,null,{"$f":"'2'!$BP$78","v":0},{"$f":"'2'!$BQ$78","v":0},{"$f":"'2'!$BR$78","v":0},{"$f":"'2'!$BS$78","v":0},{"$f":"'2'!$BT$78","v":0},{"$f":"'2'!$BU$78","v":0},2,{"$f":"VLOOKUP(CY230,Přehled!$C$5:$AL$24,36)","v":""},null,null,null,null,null,null,null,null,null,null,null,null,null,null,null,{"$f":"'2'!$CR$78","v":0},{"$f":"'2'!$CS$78","v":0},{"$f":"'2'!$CT$78","v":0},2,{"$f":"VLOOKUP(DS230,Přehled!$C$5:$AL$24,36)","v":""},null,null,null,null,null,null,null,null,null,null,null,null,null,null,null,{"$f":"'8'!$DO$16","v":0},{"$f":"'8'!$DP$16","v":0},{"$f":"'8'!$DQ$16","v":0},8,{"$f":"VLOOKUP(EM230,Přehled!$C$5:$AL$24,36)","v":""}]
[{"$f":"'3'!A32","v":0},{"$f":"'3'!B32","v":0},{"$f":"'3'!C32","v":0},{"$f":"SUMIF($B$5:$B$2024,Souhrn_hod[[#This Row],[Jméno]],$E$5:$E$2024)","v":0},{"$f":"'3'!D32","v":0},{"$f":"'3'!E32","v":0},{"$f":"'3'!F32","v":0},{"$f":"'3'!G32","v":0},{"$f":"'3'!H32","v":0},{"$f":"'3'!I32","v":0},{"$f":"'3'!J32","v":0},{"$f":"'3'!K32","v":0},{"$f":"'3'!L32","v":0},{"$f":"'3'!M32","v":0},{"$f":"'3'!N32","v":0},{"$f":"'3'!O32","v":0},{"$f":"'3'!P32","v":0},{"$f":"'3'!Q32","v":0},{"$f":"'3'!R32","v":0},{"$f":"'3'!S32","v":0},{"$f":"'3'!T32","v":0},{"$f":"'3'!U32","v":0},{"$f":"'3'!V32","v":0},{"$f":"'3'!W32","v":0},{"$f":"'3'!X32","v":0},{"$f":"'3'!Y32","v":0},{"$f":"'3'!Z32","v":0},{"$f":"'3'!AA32","v":0},{"$f":"'3'!AB32","v":0},{"$f":"'3'!AC32","v":0},{"$f":"'3'!AD32","v":0},{"$f":"'3'!AE32","v":0},{"$f":"'3'!AF32","v":0},{"$f":"'3'!AG32","v":0},{"$f":"'3'!AH32","v":0},{"$f":"'3'!AI32","v":0},{"$f":"'3'!AJ32","v":0},3,{"$f":"VLOOKUP(AL231,Přehled!$C$5:$AL$24,36)","v":""},null,null,null,null,null,null,null,null,null,null,null,null,null,null,null,null,null,null,null,null,null,null,null,null,null,null,null,null,null,{"$f":"'2'!$AO$79","v":0},{"$f":"'2'!$AP$79","v":0},{"$f":"'2'!$AQ$79","v":0},{"$f":"'2'!$AR$79","v":0},{"$f":"'2'!$AS$79","v":0},{"$f":"'2'!$AT$79","v":0},2,{"$f":"VLOOKUP(BW231,Přehled!$C$5:$AL$24,36)","v":""},null,null,null,null,null,null,null,null,null,null,null,null,null,null,null,null,null,null,null,null,{"$f":"'2'!$BP$79","v":0},{"$f":"'2'!$BQ$79","v":0},{"$f":"'2'!$BR$79","v":0},{"$f":"'2'!$BS$79","v":0},{"$f":"'2'!$BT$79","v":0},{"$f":"'2'!$BU$79","v":0},2,{"$f":"VLOOKUP(CY231,Přehled!$C$5:$AL$24,36)","v":""},null,null,null,null,null,null,null,null,null,null,null,null,null,null,null,{"$f":"'2'!$CR$79","v":0},{"$f":"'2'!$CS$79","v":0},{"$f":"'2'!$CT$79","v":0},2,{"$f":"VLOOKUP(DS231,Přehled!$C$5:$AL$24,36)","v":""},null,null,null,null,null,null,null,null,null,null,null,null,null,null,null,{"$f":"'8'!$DO$17","v":0},{"$f":"'8'!$DP$17","v":0},{"$f":"'8'!$DQ$17","v":0},8,{"$f":"VLOOKUP(EM231,Přehled!$C$5:$AL$24,36)","v":""}]
[{"$f":"'3'!A33","v":0},{"$f":"'3'!B33","v":0},{"$f":"'3'!C33","v":0},{"$f":"SUMIF($B$5:$B$2024,Souhrn_hod[[#This Row],[Jméno]],$E$5:$E$2024)","v":0},{"$f":"'3'!D33","v":0},{"$f":"'3'!E33","v":0},{"$f":"'3'!F33","v":0},{"$f":"'3'!G33","v":0},{"$f":"'3'!H33","v":0},{"$f":"'3'!I33","v":0},{"$f":"'3'!J33","v":0},{"$f":"'3'!K33","v":0},{"$f":"'3'!L33","v":0},{"$f":"'3'!M33","v":0},{"$f":"'3'!N33","v":0},{"$f":"'3'!O33","v":0},{"$f":"'3'!P33","v":0},{"$f":"'3'!Q33","v":0},{"$f":"'3'!R33","v":0},{"$f":"'3'!S33","v":0},{"$f":"'3'!T33","v":0},{"$f":"'3'!U33","v":0},{"$f":"'3'!V33","v":0},{"$f":"'3'!W33","v":0},{"$f":"'3'!X33","v":0},{"$f":"'3'!Y33","v":0},{"$f":"'3'!Z33","v":0},{"$f":"'3'!AA33","v":0},{"$f":"'3'!AB33","v":0},{"$f":"'3'!AC33","v":0},{"$f":"'3'!AD33","v":0},{"$f":"'3'!AE33","v":0},{"$f":"'3'!AF33","v":0},{"$f":"'3'!AG33","v":0},{"$f":"'3'!AH33","v":0},{"$f":"'3'!AI33","v":0},{"$f":"'3'!AJ33","v":0},3,{"$f":"VLOOKUP(AL232,Přehled!$C$5:$AL$24,36)","v":""},null,null,null,null,null,null,null,null,null,null,null,null,null,null,null,null,null,null,null,null,null,null,null,null,null,null,null,null,null,{"$f":"'2'!$AO$80","v":0},{"$f":"'2'!$AP$80","v":0},{"$f":"'2'!$AQ$80","v":0},{"$f":"'2'!$AR$80","v":0},{"$f":"'2'!$AS$80","v":0},{"$f":"'2'!$AT$80","v":0},2,{"$f":"VLOOKUP(BW232,Přehled!$C$5:$AL$24,36)","v":""},null,null,null,null,null,null,null,null,null,null,null,null,null,null,null,null,null,null,null,null,{"$f":"'2'!$BP$80","v":0},{"$f":"'2'!$BQ$80","v":0},{"$f":"'2'!$BR$80","v":0},{"$f":"'2'!$BS$80","v":0},{"$f":"'2'!$BT$80","v":0},{"$f":"'2'!$BU$80","v":0},2,{"$f":"VLOOKUP(CY232,Přehled!$C$5:$AL$24,36)","v":""},null,null,null,null,null,null,null,null,null,null,null,null,null,null,null,{"$f":"'2'!$CR$80","v":0},{"$f":"'2'!$CS$80","v":0},{"$f":"'2'!$CT$80","v":0},2,{"$f":"VLOOKUP(DS232,Přehled!$C$5:$AL$24,36)","v":""},null,null,null,null,null,null,null,null,null,null,null,null,null,null,null,{"$f":"'8'!$DO$18","v":0},{"$f":"'8'!$DP$18","v":0},{"$f":"'8'!$DQ$18","v":0},8,{"$f":"VLOOKUP(EM232,Přehled!$C$5:$AL$24,36)","v":""}]
[{"$f":"'3'!A34","v":0},{"$f":"'3'!B34","v":0},{"$f":"'3'!C34","v":0},{"$f":"SUMIF($B$5:$B$2024,Souhrn_hod[[#This Row],[Jméno]],$E$5:$E$2024)","v":0},{"$f":"'3'!D34","v":0},{"$f":"'3'!E34","v":0},{"$f":"'3'!F34","v":0},{"$f":"'3'!G34","v":0},{"$f":"'3'!H34","v":0},{"$f":"'3'!I34","v":0},{"$f":"'3'!J34","v":0},{"$f":"'3'!K34","v":0},{"$f":"'3'!L34","v":0},{"$f":"'3'!M34","v":0},{"$f":"'3'!N34","v":0},{"$f":"'3'!O34","v":0},{"$f":"'3'!P34","v":0},{"$f":"'3'!Q34","v":0},{"$f":"'3'!R34","v":0},{"$f":"'3'!S34","v":0},{"$f":"'3'!T34","v":0},{"$f":"'3'!U34","v":0},{"$f":"'3'!V34","v":0},{"$f":"'3'!W34","v":0},{"$f":"'3'!X34","v":0},{"$f":"'3'!Y34","v":0},{"$f":"'3'!Z34","v":0},{"$f":"'3'!AA34","v":0},{"$f":"'3'!AB34","v":0},{"$f":"'3'!AC34","v":0},{"$f":"'3'!AD34","v":0},{"$f":"'3'!AE34","v":0},{"$f":"'3'!AF34","v":0},{"$f":"'3'!AG34","v":0},{"$f":"'3'!AH34","v":0},{"$f":"'3'!AI34","v":0},{"$f":"'3'!AJ34","v":0},3,{"$f":"VLOOKUP(AL233,Přehled!$C$5:$AL$24,36)","v":""},null,null,null,null,null,null,null,null,null,null,null,null,null,null,null,null,null,null,null,null,null,null,null,null,null,null,null,null,null,{"$f":"'2'!$AO$81","v":0},{"$f":"'2'!$AP$81","v":0},{"$f":"'2'!$AQ$81","v":0},{"$f":"'2'!$AR$81","v":0},{"$f":"'2'!$AS$81","v":0},{"$f":"'2'!$AT$81","v":0},2,{"$f":"VLOOKUP(BW233,Přehled!$C$5:$AL$24,36)","v":""},null,null,null,null,null,null,null,null,null,null,null,null,null,null,null,null,null,null,null,null,{"$f":"'2'!$BP$81","v":0},{"$f":"'2'!$BQ$81","v":0},{"$f":"'2'!$BR$81","v":0},{"$f":"'2'!$BS$81","v":0},{"$f":"'2'!$BT$81","v":0},{"$f":"'2'!$BU$81","v":0},2,{"$f":"VLOOKUP(CY233,Přehled!$C$5:$AL$24,36)","v":""},null,null,null,null,null,null,null,null,null,null,null,null,null,null,null,{"$f":"'2'!$CR$81","v":0},{"$f":"'2'!$CS$81","v":0},{"$f":"'2'!$CT$81","v":0},2,{"$f":"VLOOKUP(DS233,Přehled!$C$5:$AL$24,36)","v":""},null,null,null,null,null,null,null,null,null,null,null,null,null,null,null,{"$f":"'8'!$DO$19","v":0},{"$f":"'8'!$DP$19","v":0},{"$f":"'8'!$DQ$19","v":0},8,{"$f":"VLOOKUP(EM233,Přehled!$C$5:$AL$24,36)","v":""}]
[{"$f":"'3'!A35","v":0},{"$f":"'3'!B35","v":0},{"$f":"'3'!C35","v":0},{"$f":"SUMIF($B$5:$B$2024,Souhrn_hod[[#This Row],[Jméno]],$E$5:$E$2024)","v":0},{"$f":"'3'!D35","v":0},{"$f":"'3'!E35","v":0},{"$f":"'3'!F35","v":0},{"$f":"'3'!G35","v":0},{"$f":"'3'!H35","v":0},{"$f":"'3'!I35","v":0},{"$f":"'3'!J35","v":0},{"$f":"'3'!K35","v":0},{"$f":"'3'!L35","v":0},{"$f":"'3'!M35","v":0},{"$f":"'3'!N35","v":0},{"$f":"'3'!O35","v":0},{"$f":"'3'!P35","v":0},{"$f":"'3'!Q35","v":0},{"$f":"'3'!R35","v":0},{"$f":"'3'!S35","v":0},{"$f":"'3'!T35","v":0},{"$f":"'3'!U35","v":0},{"$f":"'3'!V35","v":0},{"$f":"'3'!W35","v":0},{"$f":"'3'!X35","v":0},{"$f":"'3'!Y35","v":0},{"$f":"'3'!Z35","v":0},{"$f":"'3'!AA35","v":0},{"$f":"'3'!AB35","v":0},{"$f":"'3'!AC35","v":0},{"$f":"'3'!AD35","v":0},{"$f":"'3'!AE35","v":0},{"$f":"'3'!AF35","v":0},{"$f":"'3'!AG35","v":0},{"$f":"'3'!AH35","v":0},{"$f":"'3'!AI35","v":0},{"$f":"'3'!AJ35","v":0},3,{"$f":"VLOOKUP(AL234,Přehled!$C$5:$AL$24,36)","v":""},null,null,null,null,null,null,null,null,null,null,null,null,null,null,null,null,null,null,null,null,null,null,null,null,null,null,null,null,null,{"$f":"'2'!$AO$82","v":0},{"$f":"'2'!$AP$82","v":0},{"$f":"'2'!$AQ$82","v":0},{"$f":"'2'!$AR$82","v":0},{"$f":"'2'!$AS$82","v":0},{"$f":"'2'!$AT$82","v":0},2,{"$f":"VLOOKUP(BW234,Přehled!$C$5:$AL$24,36)","v":""},null,null,null,null,null,null,null,null,null,null,null,null,null,null,null,null,null,null,null,null,{"$f":"'2'!$BP$82","v":0},{"$f":"'2'!$BQ$82","v":0},{"$f":"'2'!$BR$82","v":0},{"$f":"'2'!$BS$82","v":0},{"$f":"'2'!$BT$82","v":0},{"$f":"'2'!$BU$82","v":0},2,{"$f":"VLOOKUP(CY234,Přehled!$C$5:$AL$24,36)","v":""},null,null,null,null,null,null,null,null,null,null,null,null,null,null,null,{"$f":"'2'!$CR$82","v":0},{"$f":"'2'!$CS$82","v":0},{"$f":"'2'!$CT$82","v":0},2,{"$f":"VLOOKUP(DS234,Přehled!$C$5:$AL$24,36)","v":""},null,null,null,null,null,null,null,null,null,null,null,null,null,null,null,{"$f":"'8'!$DO$20","v":0},{"$f":"'8'!$DP$20","v":0},{"$f":"'8'!$DQ$20","v":0},8,{"$f":"VLOOKUP(EM234,Přehled!$C$5:$AL$24,36)","v":""}]
[{"$f":"'3'!A36","v":0},{"$f":"'3'!B36","v":0},{"$f":"'3'!C36","v":0},{"$f":"SUMIF($B$5:$B$2024,Souhrn_hod[[#This Row],[Jméno]],$E$5:$E$2024)","v":0},{"$f":"'3'!D36","v":0},{"$f":"'3'!E36","v":0},{"$f":"'3'!F36","v":0},{"$f":"'3'!G36","v":0},{"$f":"'3'!H36","v":0},{"$f":"'3'!I36","v":0},{"$f":"'3'!J36","v":0},{"$f":"'3'!K36","v":0},{"$f":"'3'!L36","v":0},{"$f":"'3'!M36","v":0},{"$f":"'3'!N36","v":0},{"$f":"'3'!O36","v":0},{"$f":"'3'!P36","v":0},{"$f":"'3'!Q36","v":0},{"$f":"'3'!R36","v":0},{"$f":"'3'!S36","v":0},{"$f":"'3'!T36","v":0},{"$f":"'3'!U36","v":0},{"$f":"'3'!V36","v":0},{"$f":"'3'!W36","v":0},{"$f":"'3'!X36","v":0},{"$f":"'3'!Y36","v":0},{"$f":"'3'!Z36","v":0},{"$f":"'3'!AA36","v":0},{"$f":"'3'!AB36","v":0},{"$f":"'3'!AC36","v":0},{"$f":"'3'!AD36","v":0},{"$f":"'3'!AE36","v":0},{"$f":"'3'!AF36","v":0},{"$f":"'3'!AG36","v":0},{"$f":"'3'!AH36","v":0},{"$f":"'3'!AI36","v":0},{"$f":"'3'!AJ36","v":0},3,{"$f":"VLOOKUP(AL235,Přehled!$C$5:$AL$24,36)","v":""},null,null,null,null,null,null,null,null,null,null,null,null,null,null,null,null,null,null,null,null,null,null,null,null,null,null,null,null,null,{"$f":"'2'!$AO$83","v":0},{"$f":"'2'!$AP$83","v":0},{"$f":"'2'!$AQ$83","v":0},{"$f":"'2'!$AR$83","v":0},{"$f":"'2'!$AS$83","v":0},{"$f":"'2'!$AT$83","v":0},2,{"$f":"VLOOKUP(BW235,Přehled!$C$5:$AL$24,36)","v":""},null,null,null,null,null,null,null,null,null,null,null,null,null,null,null,null,null,null,null,null,{"$f":"'2'!$BP$83","v":0},{"$f":"'2'!$BQ$83","v":0},{"$f":"'2'!$BR$83","v":0},{"$f":"'2'!$BS$83","v":0},{"$f":"'2'!$BT$83","v":0},{"$f":"'2'!$BU$83","v":0},2,{"$f":"VLOOKUP(CY235,Přehled!$C$5:$AL$24,36)","v":""},null,null,null,null,null,null,null,null,null,null,null,null,null,null,null,{"$f":"'2'!$CR$83","v":0},{"$f":"'2'!$CS$83","v":0},{"$f":"'2'!$CT$83","v":0},2,{"$f":"VLOOKUP(DS235,Přehled!$C$5:$AL$24,36)","v":""},null,null,null,null,null,null,null,null,null,null,null,null,null,null,null,{"$f":"'8'!$DO$21","v":0},{"$f":"'8'!$DP$21","v":0},{"$f":"'8'!$DQ$21","v":0},8,{"$f":"VLOOKUP(EM235,Přehled!$C$5:$AL$24,36)","v":""}]
[{"$f":"'3'!A37","v":0},{"$f":"'3'!B37","v":0},{"$f":"'3'!C37","v":0},{"$f":"SUMIF($B$5:$B$2024,Souhrn_hod[[#This Row],[Jméno]],$E$5:$E$2024)","v":0},{"$f":"'3'!D37","v":0},{"$f":"'3'!E37","v":0},{"$f":"'3'!F37","v":0},{"$f":"'3'!G37","v":0},{"$f":"'3'!H37","v":0},{"$f":"'3'!I37","v":0},{"$f":"'3'!J37","v":0},{"$f":"'3'!K37","v":0},{"$f":"'3'!L37","v":0},{"$f":"'3'!M37","v":0},{"$f":"'3'!N37","v":0},{"$f":"'3'!O37","v":0},{"$f":"'3'!P37","v":0},{"$f":"'3'!Q37","v":0},{"$f":"'3'!R37","v":0},{"$f":"'3'!S37","v":0},{"$f":"'3'!T37","v":0},{"$f":"'3'!U37","v":0},{"$f":"'3'!V37","v":0},{"$f":"'3'!W37","v":0},{"$f":"'3'!X37","v":0},{"$f":"'3'!Y37","v":0},{"$f":"'3'!Z37","v":0},{"$f":"'3'!AA37","v":0},{"$f":"'3'!AB37","v":0},{"$f":"'3'!AC37","v":0},{"$f":"'3'!AD37","v":0},{"$f":"'3'!AE37","v":0},{"$f":"'3'!AF37","v":0},{"$f":"'3'!AG37","v":0},{"$f":"'3'!AH37","v":0},{"$f":"'3'!AI37","v":0},{"$f":"'3'!AJ37","v":0},3,{"$f":"VLOOKUP(AL236,Přehled!$C$5:$AL$24,36)","v":""},null,null,null,null,null,null,null,null,null,null,null,null,null,null,null,null,null,null,null,null,null,null,null,null,null,null,null,null,null,{"$f":"'2'!$AO$84","v":0},{"$f":"'2'!$AP$84","v":0},{"$f":"'2'!$AQ$84","v":0},{"$f":"'2'!$AR$84","v":0},{"$f":"'2'!$AS$84","v":0},{"$f":"'2'!$AT$84","v":0},2,{"$f":"VLOOKUP(BW236,Přehled!$C$5:$AL$24,36)","v":""},null,null,null,null,null,null,null,null,null,null,null,null,null,null,null,null,null,null,null,null,{"$f":"'2'!$BP$84","v":0},{"$f":"'2'!$BQ$84","v":0},{"$f":"'2'!$BR$84","v":0},{"$f":"'2'!$BS$84","v":0},{"$f":"'2'!$BT$84","v":0},{"$f":"'2'!$BU$84","v":0},2,{"$f":"VLOOKUP(CY236,Přehled!$C$5:$AL$24,36)","v":""},null,null,null,null,null,null,null,null,null,null,null,null,null,null,null,{"$f":"'2'!$CR$84","v":0},{"$f":"'2'!$CS$84","v":0},{"$f":"'2'!$CT$84","v":0},2,{"$f":"VLOOKUP(DS236,Přehled!$C$5:$AL$24,36)","v":""},null,null,null,null,null,null,null,null,null,null,null,null,null,null,null,{"$f":"'8'!$DO$22","v":0},{"$f":"'8'!$DP$22","v":0},{"$f":"'8'!$DQ$22","v":0},8,{"$f":"VLOOKUP(EM236,Přehled!$C$5:$AL$24,36)","v":""}]
[{"$f":"'3'!A38","v":0},{"$f":"'3'!B38","v":0},{"$f":"'3'!C38","v":0},{"$f":"SUMIF($B$5:$B$2024,Souhrn_hod[[#This Row],[Jméno]],$E$5:$E$2024)","v":0},{"$f":"'3'!D38","v":0},{"$f":"'3'!E38","v":0},{"$f":"'3'!F38","v":0},{"$f":"'3'!G38","v":0},{"$f":"'3'!H38","v":0},{"$f":"'3'!I38","v":0},{"$f":"'3'!J38","v":0},{"$f":"'3'!K38","v":0},{"$f":"'3'!L38","v":0},{"$f":"'3'!M38","v":0},{"$f":"'3'!N38","v":0},{"$f":"'3'!O38","v":0},{"$f":"'3'!P38","v":0},{"$f":"'3'!Q38","v":0},{"$f":"'3'!R38","v":0},{"$f":"'3'!S38","v":0},{"$f":"'3'!T38","v":0},{"$f":"'3'!U38","v":0},{"$f":"'3'!V38","v":0},{"$f":"'3'!W38","v":0},{"$f":"'3'!X38","v":0},{"$f":"'3'!Y38","v":0},{"$f":"'3'!Z38","v":0},{"$f":"'3'!AA38","v":0},{"$f":"'3'!AB38","v":0},{"$f":"'3'!AC38","v":0},{"$f":"'3'!AD38","v":0},{"$f":"'3'!AE38","v":0},{"$f":"'3'!AF38","v":0},{"$f":"'3'!AG38","v":0},{"$f":"'3'!AH38","v":0},{"$f":"'3'!AI38","v":0},{"$f":"'3'!AJ38","v":0},3,{"$f":"VLOOKUP(AL237,Přehled!$C$5:$AL$24,36)","v":""},null,null,null,null,null,null,null,null,null,null,null,null,null,null,null,null,null,null,null,null,null,null,null,null,null,null,null,null,null,{"$f":"'2'!$AO$85","v":0},{"$f":"'2'!$AP$85","v":0},{"$f":"'2'!$AQ$85","v":0},{"$f":"'2'!$AR$85","v":0},{"$f":"'2'!$AS$85","v":0},{"$f":"'2'!$AT$85","v":0},2,{"$f":"VLOOKUP(BW237,Přehled!$C$5:$AL$24,36)","v":""},null,null,null,null,null,null,null,null,null,null,null,null,null,null,null,null,null,null,null,null,{"$f":"'2'!$BP$85","v":0},{"$f":"'2'!$BQ$85","v":0},{"$f":"'2'!$BR$85","v":0},{"$f":"'2'!$BS$85","v":0},{"$f":"'2'!$BT$85","v":0},{"$f":"'2'!$BU$85","v":0},2,{"$f":"VLOOKUP(CY237,Přehled!$C$5:$AL$24,36)","v":""},null,null,null,null,null,null,null,null,null,null,null,null,null,null,null,{"$f":"'2'!$CR$85","v":0},{"$f":"'2'!$CS$85","v":0},{"$f":"'2'!$CT$85","v":0},2,{"$f":"VLOOKUP(DS237,Přehled!$C$5:$AL$24,36)","v":""},null,null,null,null,null,null,null,null,null,null,null,null,null,null,null,{"$f":"'8'!$DO$23","v":0},{"$f":"'8'!$DP$23","v":0},{"$f":"'8'!$DQ$23","v":0},8,{"$f":"VLOOKUP(EM237,Přehled!$C$5:$AL$24,36)","v":""}]
[{"$f":"'3'!A39","v":0},{"$f":"'3'!B39","v":0},{"$f":"'3'!C39","v":0},{"$f":"SUMIF($B$5:$B$2024,Souhrn_hod[[#This Row],[Jméno]],$E$5:$E$2024)","v":0},{"$f":"'3'!D39","v":0},{"$f":"'3'!E39","v":0},{"$f":"'3'!F39","v":0},{"$f":"'3'!G39","v":0},{"$f":"'3'!H39","v":0},{"$f":"'3'!I39","v":0},{"$f":"'3'!J39","v":0},{"$f":"'3'!K39","v":0},{"$f":"'3'!L39","v":0},{"$f":"'3'!M39","v":0},{"$f":"'3'!N39","v":0},{"$f":"'3'!O39","v":0},{"$f":"'3'!P39","v":0},{"$f":"'3'!Q39","v":0},{"$f":"'3'!R39","v":0},{"$f":"'3'!S39","v":0},{"$f":"'3'!T39","v":0},{"$f":"'3'!U39","v":0},{"$f":"'3'!V39","v":0},{"$f":"'3'!W39","v":0},{"$f":"'3'!X39","v":0},{"$f":"'3'!Y39","v":0},{"$f":"'3'!Z39","v":0},{"$f":"'3'!AA39","v":0},{"$f":"'3'!AB39","v":0},{"$f":"'3'!AC39","v":0},{"$f":"'3'!AD39","v":0},{"$f":"'3'!AE39","v":0},{"$f":"'3'!AF39","v":0},{"$f":"'3'!AG39","v":0},{"$f":"'3'!AH39","v":0},{"$f":"'3'!AI39","v":0},{"$f":"'3'!AJ39","v":0},3,{"$f":"VLOOKUP(AL238,Přehled!$C$5:$AL$24,36)","v":""},null,null,null,null,null,null,null,null,null,null,null,null,null,null,null,null,null,null,null,null,null,null,null,null,null,null,null,null,null,{"$f":"'2'!$AO$86","v":0},{"$f":"'2'!$AP$86","v":0},{"$f":"'2'!$AQ$86","v":0},{"$f":"'2'!$AR$86","v":0},{"$f":"'2'!$AS$86","v":0},{"$f":"'2'!$AT$86","v":0},2,{"$f":"VLOOKUP(BW238,Přehled!$C$5:$AL$24,36)","v":""},null,null,null,null,null,null,null,null,null,null,null,null,null,null,null,null,null,null,null,null,{"$f":"'2'!$BP$86","v":0},{"$f":"'2'!$BQ$86","v":0},{"$f":"'2'!$BR$86","v":0},{"$f":"'2'!$BS$86","v":0},{"$f":"'2'!$BT$86","v":0},{"$f":"'2'!$BU$86","v":0},2,{"$f":"VLOOKUP(CY238,Přehled!$C$5:$AL$24,36)","v":""},null,null,null,null,null,null,null,null,null,null,null,null,null,null,null,{"$f":"'2'!$CR$86","v":0},{"$f":"'2'!$CS$86","v":0},{"$f":"'2'!$CT$86","v":0},2,{"$f":"VLOOKUP(DS238,Přehled!$C$5:$AL$24,36)","v":""},null,null,null,null,null,null,null,null,null,null,null,null,null,null,null,{"$f":"'8'!$DO$24","v":0},{"$f":"'8'!$DP$24","v":0},{"$f":"'8'!$DQ$24","v":0},8,{"$f":"VLOOKUP(EM238,Přehled!$C$5:$AL$24,36)","v":""}]
[{"$f":"'3'!A40","v":0},{"$f":"'3'!B40","v":0},{"$f":"'3'!C40","v":0},{"$f":"SUMIF($B$5:$B$2024,Souhrn_hod[[#This Row],[Jméno]],$E$5:$E$2024)","v":0},{"$f":"'3'!D40","v":0},{"$f":"'3'!E40","v":0},{"$f":"'3'!F40","v":0},{"$f":"'3'!G40","v":0},{"$f":"'3'!H40","v":0},{"$f":"'3'!I40","v":0},{"$f":"'3'!J40","v":0},{"$f":"'3'!K40","v":0},{"$f":"'3'!L40","v":0},{"$f":"'3'!M40","v":0},{"$f":"'3'!N40","v":0},{"$f":"'3'!O40","v":0},{"$f":"'3'!P40","v":0},{"$f":"'3'!Q40","v":0},{"$f":"'3'!R40","v":0},{"$f":"'3'!S40","v":0},{"$f":"'3'!T40","v":0},{"$f":"'3'!U40","v":0},{"$f":"'3'!V40","v":0},{"$f":"'3'!W40","v":0},{"$f":"'3'!X40","v":0},{"$f":"'3'!Y40","v":0},{"$f":"'3'!Z40","v":0},{"$f":"'3'!AA40","v":0},{"$f":"'3'!AB40","v":0},{"$f":"'3'!AC40","v":0},{"$f":"'3'!AD40","v":0},{"$f":"'3'!AE40","v":0},{"$f":"'3'!AF40","v":0},{"$f":"'3'!AG40","v":0},{"$f":"'3'!AH40","v":0},{"$f":"'3'!AI40","v":0},{"$f":"'3'!AJ40","v":0},3,{"$f":"VLOOKUP(AL239,Přehled!$C$5:$AL$24,36)","v":""},null,null,null,null,null,null,null,null,null,null,null,null,null,null,null,null,null,null,null,null,null,null,null,null,null,null,null,null,null,{"$f":"'2'!$AO$87","v":0},{"$f":"'2'!$AP$87","v":0},{"$f":"'2'!$AQ$87","v":0},{"$f":"'2'!$AR$87","v":0},{"$f":"'2'!$AS$87","v":0},{"$f":"'2'!$AT$87","v":0},2,{"$f":"VLOOKUP(BW239,Přehled!$C$5:$AL$24,36)","v":""},null,null,null,null,null,null,null,null,null,null,null,null,null,null,null,null,null,null,null,null,{"$f":"'2'!$BP$87","v":0},{"$f":"'2'!$BQ$87","v":0},{"$f":"'2'!$BR$87","v":0},{"$f":"'2'!$BS$87","v":0},{"$f":"'2'!$BT$87","v":0},{"$f":"'2'!$BU$87","v":0},2,{"$f":"VLOOKUP(CY239,Přehled!$C$5:$AL$24,36)","v":""},null,null,null,null,null,null,null,null,null,null,null,null,null,null,null,{"$f":"'2'!$CR$87","v":0},{"$f":"'2'!$CS$87","v":0},{"$f":"'2'!$CT$87","v":0},2,{"$f":"VLOOKUP(DS239,Přehled!$C$5:$AL$24,36)","v":""},null,null,null,null,null,null,null,null,null,null,null,null,null,null,null,{"$f":"'8'!$DO$25","v":0},{"$f":"'8'!$DP$25","v":0},{"$f":"'8'!$DQ$25","v":0},8,{"$f":"VLOOKUP(EM239,Přehled!$C$5:$AL$24,36)","v":""}]
[{"$f":"'3'!A41","v":0},{"$f":"'3'!B41","v":0},{"$f":"'3'!C41","v":0},{"$f":"SUMIF($B$5:$B$2024,Souhrn_hod[[#This Row],[Jméno]],$E$5:$E$2024)","v":0},{"$f":"'3'!D41","v":0},{"$f":"'3'!E41","v":0},{"$f":"'3'!F41","v":0},{"$f":"'3'!G41","v":0},{"$f":"'3'!H41","v":0},{"$f":"'3'!I41","v":0},{"$f":"'3'!J41","v":0},{"$f":"'3'!K41","v":0},{"$f":"'3'!L41","v":0},{"$f":"'3'!M41","v":0},{"$f":"'3'!N41","v":0},{"$f":"'3'!O41","v":0},{"$f":"'3'!P41","v":0},{"$f":"'3'!Q41","v":0},{"$f":"'3'!R41","v":0},{"$f":"'3'!S41","v":0},{"$f":"'3'!T41","v":0},{"$f":"'3'!U41","v":0},{"$f":"'3'!V41","v":0},{"$f":"'3'!W41","v":0},{"$f":"'3'!X41","v":0},{"$f":"'3'!Y41","v":0},{"$f":"'3'!Z41","v":0},{"$f":"'3'!AA41","v":0},{"$f":"'3'!AB41","v":0},{"$f":"'3'!AC41","v":0},{"$f":"'3'!AD41","v":0},{"$f":"'3'!AE41","v":0},{"$f":"'3'!AF41","v":0},{"$f":"'3'!AG41","v":0},{"$f":"'3'!AH41","v":0},{"$f":"'3'!AI41","v":0},{"$f":"'3'!AJ41","v":0},3,{"$f":"VLOOKUP(AL240,Přehled!$C$5:$AL$24,36)","v":""},null,null,null,null,null,null,null,null,null,null,null,null,null,null,null,null,null,null,null,null,null,null,null,null,null,null,null,null,null,{"$f":"'2'!$AO$88","v":0},{"$f":"'2'!$AP$88","v":0},{"$f":"'2'!$AQ$88","v":0},{"$f":"'2'!$AR$88","v":0},{"$f":"'2'!$AS$88","v":0},{"$f":"'2'!$AT$88","v":0},2,{"$f":"VLOOKUP(BW240,Přehled!$C$5:$AL$24,36)","v":""},null,null,null,null,null,null,null,null,null,null,null,null,null,null,null,null,null,null,null,null,{"$f":"'2'!$BP$88","v":0},{"$f":"'2'!$BQ$88","v":0},{"$f":"'2'!$BR$88","v":0},{"$f":"'2'!$BS$88","v":0},{"$f":"'2'!$BT$88","v":0},{"$f":"'2'!$BU$88","v":0},2,{"$f":"VLOOKUP(CY240,Přehled!$C$5:$AL$24,36)","v":""},null,null,null,null,null,null,null,null,null,null,null,null,null,null,null,{"$f":"'2'!$CR$88","v":0},{"$f":"'2'!$CS$88","v":0},{"$f":"'2'!$CT$88","v":0},2,{"$f":"VLOOKUP(DS240,Přehled!$C$5:$AL$24,36)","v":""},null,null,null,null,null,null,null,null,null,null,null,null,null,null,null,{"$f":"'8'!$DO$26","v":0},{"$f":"'8'!$DP$26","v":0},{"$f":"'8'!$DQ$26","v":0},8,{"$f":"VLOOKUP(EM240,Přehled!$C$5:$AL$24,36)","v":""}]
[{"$f":"'3'!A42","v":0},{"$f":"'3'!B42","v":0},{"$f":"'3'!C42","v":0},{"$f":"SUMIF($B$5:$B$2024,Souhrn_hod[[#This Row],[Jméno]],$E$5:$E$2024)","v":0},{"$f":"'3'!D42","v":0},{"$f":"'3'!E42","v":0},{"$f":"'3'!F42","v":0},{"$f":"'3'!G42","v":0},{"$f":"'3'!H42","v":0},{"$f":"'3'!I42","v":0},{"$f":"'3'!J42","v":0},{"$f":"'3'!K42","v":0},{"$f":"'3'!L42","v":0},{"$f":"'3'!M42","v":0},{"$f":"'3'!N42","v":0},{"$f":"'3'!O42","v":0},{"$f":"'3'!P42","v":0},{"$f":"'3'!Q42","v":0},{"$f":"'3'!R42","v":0},{"$f":"'3'!S42","v":0},{"$f":"'3'!T42","v":0},{"$f":"'3'!U42","v":0},{"$f":"'3'!V42","v":0},{"$f":"'3'!W42","v":0},{"$f":"'3'!X42","v":0},{"$f":"'3'!Y42","v":0},{"$f":"'3'!Z42","v":0},{"$f":"'3'!AA42","v":0},{"$f":"'3'!AB42","v":0},{"$f":"'3'!AC42","v":0},{"$f":"'3'!AD42","v":0},{"$f":"'3'!AE42","v":0},{"$f":"'3'!AF42","v":0},{"$f":"'3'!AG42","v":0},{"$f":"'3'!AH42","v":0},{"$f":"'3'!AI42","v":0},{"$f":"'3'!AJ42","v":0},3,{"$f":"VLOOKUP(AL241,Přehled!$C$5:$AL$24,36)","v":""},null,null,null,null,null,null,null,null,null,null,null,null,null,null,null,null,null,null,null,null,null,null,null,null,null,null,null,null,null,{"$f":"'2'!$AO$89","v":0},{"$f":"'2'!$AP$89","v":0},{"$f":"'2'!$AQ$89","v":0},{"$f":"'2'!$AR$89","v":0},{"$f":"'2'!$AS$89","v":0},{"$f":"'2'!$AT$89","v":0},2,{"$f":"VLOOKUP(BW241,Přehled!$C$5:$AL$24,36)","v":""},null,null,null,null,null,null,null,null,null,null,null,null,null,null,null,null,null,null,null,null,{"$f":"'2'!$BP$89","v":0},{"$f":"'2'!$BQ$89","v":0},{"$f":"'2'!$BR$89","v":0},{"$f":"'2'!$BS$89","v":0},{"$f":"'2'!$BT$89","v":0},{"$f":"'2'!$BU$89","v":0},2,{"$f":"VLOOKUP(CY241,Přehled!$C$5:$AL$24,36)","v":""},null,null,null,null,null,null,null,null,null,null,null,null,null,null,null,{"$f":"'2'!$CR$89","v":0},{"$f":"'2'!$CS$89","v":0},{"$f":"'2'!$CT$89","v":0},2,{"$f":"VLOOKUP(DS241,Přehled!$C$5:$AL$24,36)","v":""},null,null,null,null,null,null,null,null,null,null,null,null,null,null,null,{"$f":"'8'!$DO$27","v":0},{"$f":"'8'!$DP$27","v":0},{"$f":"'8'!$DQ$27","v":0},8,{"$f":"VLOOKUP(EM241,Přehled!$C$5:$AL$24,36)","v":""}]
[{"$f":"'3'!A43","v":0},{"$f":"'3'!B43","v":0},{"$f":"'3'!C43","v":0},{"$f":"SUMIF($B$5:$B$2024,Souhrn_hod[[#This Row],[Jméno]],$E$5:$E$2024)","v":0},{"$f":"'3'!D43","v":0},{"$f":"'3'!E43","v":0},{"$f":"'3'!F43","v":0},{"$f":"'3'!G43","v":0},{"$f":"'3'!H43","v":0},{"$f":"'3'!I43","v":0},{"$f":"'3'!J43","v":0},{"$f":"'3'!K43","v":0},{"$f":"'3'!L43","v":0},{"$f":"'3'!M43","v":0},{"$f":"'3'!N43","v":0},{"$f":"'3'!O43","v":0},{"$f":"'3'!P43","v":0},{"$f":"'3'!Q43","v":0},{"$f":"'3'!R43","v":0},{"$f":"'3'!S43","v":0},{"$f":"'3'!T43","v":0},{"$f":"'3'!U43","v":0},{"$f":"'3'!V43","v":0},{"$f":"'3'!W43","v":0},{"$f":"'3'!X43","v":0},{"$f":"'3'!Y43","v":0},{"$f":"'3'!Z43","v":0},{"$f":"'3'!AA43","v":0},{"$f":"'3'!AB43","v":0},{"$f":"'3'!AC43","v":0},{"$f":"'3'!AD43","v":0},{"$f":"'3'!AE43","v":0},{"$f":"'3'!AF43","v":0},{"$f":"'3'!AG43","v":0},{"$f":"'3'!AH43","v":0},{"$f":"'3'!AI43","v":0},{"$f":"'3'!AJ43","v":0},3,{"$f":"VLOOKUP(AL242,Přehled!$C$5:$AL$24,36)","v":""},null,null,null,null,null,null,null,null,null,null,null,null,null,null,null,null,null,null,null,null,null,null,null,null,null,null,null,null,null,{"$f":"'2'!$AO$90","v":0},{"$f":"'2'!$AP$90","v":0},{"$f":"'2'!$AQ$90","v":0},{"$f":"'2'!$AR$90","v":0},{"$f":"'2'!$AS$90","v":0},{"$f":"'2'!$AT$90","v":0},2,{"$f":"VLOOKUP(BW242,Přehled!$C$5:$AL$24,36)","v":""},null,null,null,null,null,null,null,null,null,null,null,null,null,null,null,null,null,null,null,null,{"$f":"'2'!$BP$90","v":0},{"$f":"'2'!$BQ$90","v":0},{"$f":"'2'!$BR$90","v":0},{"$f":"'2'!$BS$90","v":0},{"$f":"'2'!$BT$90","v":0},{"$f":"'2'!$BU$90","v":0},2,{"$f":"VLOOKUP(CY242,Přehled!$C$5:$AL$24,36)","v":""},null,null,null,null,null,null,null,null,null,null,null,null,null,null,null,{"$f":"'2'!$CR$90","v":0},{"$f":"'2'!$CS$90","v":0},{"$f":"'2'!$CT$90","v":0},2,{"$f":"VLOOKUP(DS242,Přehled!$C$5:$AL$24,36)","v":""},null,null,null,null,null,null,null,null,null,null,null,null,null,null,null,{"$f":"'8'!$DO$28","v":0},{"$f":"'8'!$DP$28","v":0},{"$f":"'8'!$DQ$28","v":0},8,{"$f":"VLOOKUP(EM242,Přehled!$C$5:$AL$24,36)","v":""}]
[{"$f":"'3'!A44","v":0},{"$f":"'3'!B44","v":0},{"$f":"'3'!C44","v":0},{"$f":"SUMIF($B$5:$B$2024,Souhrn_hod[[#This Row],[Jméno]],$E$5:$E$2024)","v":0},{"$f":"'3'!D44","v":0},{"$f":"'3'!E44","v":0},{"$f":"'3'!F44","v":0},{"$f":"'3'!G44","v":0},{"$f":"'3'!H44","v":0},{"$f":"'3'!I44","v":0},{"$f":"'3'!J44","v":0},{"$f":"'3'!K44","v":0},{"$f":"'3'!L44","v":0},{"$f":"'3'!M44","v":0},{"$f":"'3'!N44","v":0},{"$f":"'3'!O44","v":0},{"$f":"'3'!P44","v":0},{"$f":"'3'!Q44","v":0},{"$f":"'3'!R44","v":0},{"$f":"'3'!S44","v":0},{"$f":"'3'!T44","v":0},{"$f":"'3'!U44","v":0},{"$f":"'3'!V44","v":0},{"$f":"'3'!W44","v":0},{"$f":"'3'!X44","v":0},{"$f":"'3'!Y44","v":0},{"$f":"'3'!Z44","v":0},{"$f":"'3'!AA44","v":0},{"$f":"'3'!AB44","v":0},{"$f":"'3'!AC44","v":0},{"$f":"'3'!AD44","v":0},{"$f":"'3'!AE44","v":0},{"$f":"'3'!AF44","v":0},{"$f":"'3'!AG44","v":0},{"$f":"'3'!AH44","v":0},{"$f":"'3'!AI44","v":0},{"$f":"'3'!AJ44","v":0},3,{"$f":"VLOOKUP(AL243,Přehled!$C$5:$AL$24,36)","v":""},null,null,null,null,null,null,null,null,null,null,null,null,null,null,null,null,null,null,null,null,null,null,null,null,null,null,null,null,null,{"$f":"'2'!$AO$91","v":0},{"$f":"'2'!$AP$91","v":0},{"$f":"'2'!$AQ$91","v":0},{"$f":"'2'!$AR$91","v":0},{"$f":"'2'!$AS$91","v":0},{"$f":"'2'!$AT$91","v":0},2,{"$f":"VLOOKUP(BW243,Přehled!$C$5:$AL$24,36)","v":""},null,null,null,null,null,null,null,null,null,null,null,null,null,null,null,null,null,null,null,null,{"$f":"'2'!$BP$91","v":0},{"$f":"'2'!$BQ$91","v":0},{"$f":"'2'!$BR$91","v":0},{"$f":"'2'!$BS$91","v":0},{"$f":"'2'!$BT$91","v":0},{"$f":"'2'!$BU$91","v":0},2,{"$f":"VLOOKUP(CY243,Přehled!$C$5:$AL$24,36)","v":""},null,null,null,null,null,null,null,null,null,null,null,null,null,null,null,{"$f":"'2'!$CR$91","v":0},{"$f":"'2'!$CS$91","v":0},{"$f":"'2'!$CT$91","v":0},2,{"$f":"VLOOKUP(DS243,Přehled!$C$5:$AL$24,36)","v":""},null,null,null,null,null,null,null,null,null,null,null,null,null,null,null,{"$f":"'8'!$DO$29","v":0},{"$f":"'8'!$DP$29","v":0},{"$f":"'8'!$DQ$29","v":0},8,{"$f":"VLOOKUP(EM243,Přehled!$C$5:$AL$24,36)","v":""}]
[{"$f":"'1'!$A$19","v":0},{"$f":"'1'!$B$19","v":0},{"$f":"'1'!$C$19","v":0},{"$f":"SUMIF($B$5:$B$2024,Souhrn_hod[[#This Row],[Jméno]],$E$5:$E$2024)","v":0},{"$f":"'1'!$D$19","v":0},{"$f":"'1'!$E$19","v":0},{"$f":"'1'!$F$19","v":0},{"$f":"'1'!$G$19","v":0},{"$f":"'1'!$H$19","v":0},{"$f":"'1'!$I$19","v":0},{"$f":"'1'!$J$19","v":0},{"$f":"'1'!$K$19","v":0},{"$f":"'1'!$L$19","v":0},{"$f":"'1'!$M$19","v":0},{"$f":"'1'!$N$19","v":0},{"$f":"'1'!$O$19","v":0},{"$f":"'1'!$P$19","v":0},{"$f":"'1'!$Q$19","v":0},{"$f":"'1'!$R$19","v":0},{"$f":"'1'!$S$19","v":0},{"$f":"'1'!$T$19","v":0},{"$f":"'1'!$U$19","v":0},{"$f":"'1'!$V$19","v":0},{"$f":"'1'!$W$19","v":0},{"$f":"'1'!$X$19","v":0},{"$f":"'1'!$Y$19","v":0},{"$f":"'1'!$Z$19","v":0},{"$f":"'1'!$AA$19","v":0},{"$f":"'1'!$AB$19","v":0},{"$f":"'1'!$AC$19","v":0},{"$f":"'1'!$AD$19","v":0},{"$f":"'1'!$AE$19","v":0},{"$f":"'1'!$AF$19","v":0},{"$f":"'1'!$AG$19","v":0},{"$f":"'1'!$AH$19","v":0},{"$f":"'1'!$AI$19","v":0},{"$f":"'1'!$AJ$19","v":0},1,{"$f":"VLOOKUP(AL244,Přehled!$C$5:$AL$24,36)","v":""},null,null,null,null,null,null,null,null,null,null,null,null,null,null,null,null,null,null,null,null,null,null,null,null,null,null,null,null,null,{"$f":"'2'!$AO$92","v":0},{"$f":"'2'!$AP$92","v":0},{"$f":"'2'!$AQ$92","v":0},{"$f":"'2'!$AR$92","v":0},{"$f":"'2'!$AS$92","v":0},{"$f":"'2'!$AT$92","v":0},2,{"$f":"VLOOKUP(BW244,Přehled!$C$5:$AL$24,36)","v":""},null,null,null,null,null,null,null,null,null,null,null,null,null,null,null,null,null,null,null,null,{"$f":"'2'!$BP$92","v":0},{"$f":"'2'!$BQ$92","v":0},{"$f":"'2'!$BR$92","v":0},{"$f":"'2'!$BS$92","v":0},{"$f":"'2'!$BT$92","v":0},{"$f":"'2'!$BU$92","v":0},2,{"$f":"VLOOKUP(CY244,Přehled!$C$5:$AL$24,36)","v":""},null,null,null,null,null,null,null,null,null,null,null,null,null,null,null,{"$f":"'2'!$CR$92","v":0},{"$f":"'2'!$CS$92","v":0},{"$f":"'2'!$CT$92","v":0},2,{"$f":"VLOOKUP(DS244,Přehled!$C$5:$AL$24,36)","v":""},null,null,null,null,null,null,null,null,null,null,null,null,null,null,null,{"$f":"'8'!$DO$30","v":0},{"$f":"'8'!$DP$30","v":0},{"$f":"'8'!$DQ$30","v":0},8,{"$f":"VLOOKUP(EM244,Přehled!$C$5:$AL$24,36)","v":""}]
[{"$f":"'3'!A46","v":0},{"$f":"'3'!B46","v":0},{"$f":"'3'!C46","v":0},{"$f":"SUMIF($B$5:$B$2024,Souhrn_hod[[#This Row],[Jméno]],$E$5:$E$2024)","v":0},{"$f":"'3'!D46","v":0},{"$f":"'3'!E46","v":0},{"$f":"'3'!F46","v":0},{"$f":"'3'!G46","v":0},{"$f":"'3'!H46","v":0},{"$f":"'3'!I46","v":0},{"$f":"'3'!J46","v":0},{"$f":"'3'!K46","v":0},{"$f":"'3'!L46","v":0},{"$f":"'3'!M46","v":0},{"$f":"'3'!N46","v":0},{"$f":"'3'!O46","v":0},{"$f":"'3'!P46","v":0},{"$f":"'3'!Q46","v":0},{"$f":"'3'!R46","v":0},{"$f":"'3'!S46","v":0},{"$f":"'3'!T46","v":0},{"$f":"'3'!U46","v":0},{"$f":"'3'!V46","v":0},{"$f":"'3'!W46","v":0},{"$f":"'3'!X46","v":0},{"$f":"'3'!Y46","v":0},{"$f":"'3'!Z46","v":0},{"$f":"'3'!AA46","v":0},{"$f":"'3'!AB46","v":0},{"$f":"'3'!AC46","v":0},{"$f":"'3'!AD46","v":0},{"$f":"'3'!AE46","v":0},{"$f":"'3'!AF46","v":0},{"$f":"'3'!AG46","v":0},{"$f":"'3'!AH46","v":0},{"$f":"'3'!AI46","v":0},{"$f":"'3'!AJ46","v":0},3,{"$f":"VLOOKUP(AL245,Přehled!$C$5:$AL$24,36)","v":""},null,null,null,null,null,null,null,null,null,null,null,null,null,null,null,null,null,null,null,null,null,null,null,null,null,null,null,null,null,{"$f":"'2'!$AO$93","v":0},{"$f":"'2'!$AP$93","v":0},{"$f":"'2'!$AQ$93","v":0},{"$f":"'2'!$AR$93","v":0},{"$f":"'2'!$AS$93","v":0},{"$f":"'2'!$AT$93","v":0},2,{"$f":"VLOOKUP(BW245,Přehled!$C$5:$AL$24,36)","v":""},null,null,null,null,null,null,null,null,null,null,null,null,null,null,null,null,null,null,null,null,{"$f":"'2'!$BP$93","v":0},{"$f":"'2'!$BQ$93","v":0},{"$f":"'2'!$BR$93","v":0},{"$f":"'2'!$BS$93","v":0},{"$f":"'2'!$BT$93","v":0},{"$f":"'2'!$BU$93","v":0},2,{"$f":"VLOOKUP(CY245,Přehled!$C$5:$AL$24,36)","v":""},null,null,null,null,null,null,null,null,null,null,null,null,null,null,null,{"$f":"'2'!$CR$93","v":0},{"$f":"'2'!$CS$93","v":0},{"$f":"'2'!$CT$93","v":0},2,{"$f":"VLOOKUP(DS245,Přehled!$C$5:$AL$24,36)","v":""},null,null,null,null,null,null,null,null,null,null,null,null,null,null,null,{"$f":"'8'!$DO$31","v":0},{"$f":"'8'!$DP$31","v":0},{"$f":"'8'!$DQ$31","v":0},8,{"$f":"VLOOKUP(EM245,Přehled!$C$5:$AL$24,36)","v":""}]
[{"$f":"'3'!A47","v":0},{"$f":"'3'!B47","v":0},{"$f":"'3'!C47","v":0},{"$f":"SUMIF($B$5:$B$2024,Souhrn_hod[[#This Row],[Jméno]],$E$5:$E$2024)","v":0},{"$f":"'3'!D47","v":0},{"$f":"'3'!E47","v":0},{"$f":"'3'!F47","v":0},{"$f":"'3'!G47","v":0},{"$f":"'3'!H47","v":0},{"$f":"'3'!I47","v":0},{"$f":"'3'!J47","v":0},{"$f":"'3'!K47","v":0},{"$f":"'3'!L47","v":0},{"$f":"'3'!M47","v":0},{"$f":"'3'!N47","v":0},{"$f":"'3'!O47","v":0},{"$f":"'3'!P47","v":0},{"$f":"'3'!Q47","v":0},{"$f":"'3'!R47","v":0},{"$f":"'3'!S47","v":0},{"$f":"'3'!T47","v":0},{"$f":"'3'!U47","v":0},{"$f":"'3'!V47","v":0},{"$f":"'3'!W47","v":0},{"$f":"'3'!X47","v":0},{"$f":"'3'!Y47","v":0},{"$f":"'3'!Z47","v":0},{"$f":"'3'!AA47","v":0},{"$f":"'3'!AB47","v":0},{"$f":"'3'!AC47","v":0},{"$f":"'3'!AD47","v":0},{"$f":"'3'!AE47","v":0},{"$f":"'3'!AF47","v":0},{"$f":"'3'!AG47","v":0},{"$f":"'3'!AH47","v":0},{"$f":"'3'!AI47","v":0},{"$f":"'3'!AJ47","v":0},3,{"$f":"VLOOKUP(AL246,Přehled!$C$5:$AL$24,36)","v":""},null,null,null,null,null,null,null,null,null,null,null,null,null,null,null,null,null,null,null,null,null,null,null,null,null,null,null,null,null,{"$f":"'2'!$AO$94","v":0},{"$f":"'2'!$AP$94","v":0},{"$f":"'2'!$AQ$94","v":0},{"$f":"'2'!$AR$94","v":0},{"$f":"'2'!$AS$94","v":0},{"$f":"'2'!$AT$94","v":0},2,{"$f":"VLOOKUP(BW246,Přehled!$C$5:$AL$24,36)","v":""},null,null,null,null,null,null,null,null,null,null,null,null,null,null,null,null,null,null,null,null,{"$f":"'2'!$BP$94","v":0},{"$f":"'2'!$BQ$94","v":0},{"$f":"'2'!$BR$94","v":0},{"$f":"'2'!$BS$94","v":0},{"$f":"'2'!$BT$94","v":0},{"$f":"'2'!$BU$94","v":0},2,{"$f":"VLOOKUP(CY246,Přehled!$C$5:$AL$24,36)","v":""},null,null,null,null,null,null,null,null,null,null,null,null,null,null,null,{"$f":"'2'!$CR$94","v":0},{"$f":"'2'!$CS$94","v":0},{"$f":"'2'!$CT$94","v":0},2,{"$f":"VLOOKUP(DS246,Přehled!$C$5:$AL$24,36)","v":""},null,null,null,null,null,null,null,null,null,null,null,null,null,null,null,{"$f":"'8'!$DO$32","v":0},{"$f":"'8'!$DP$32","v":0},{"$f":"'8'!$DQ$32","v":0},8,{"$f":"VLOOKUP(EM246,Přehled!$C$5:$AL$24,36)","v":""}]
[{"$f":"'1'!$A$71","v":0},{"$f":"'1'!$B$71","v":0},{"$f":"'1'!$C$71","v":0},{"$f":"SUMIF($B$5:$B$2024,Souhrn_hod[[#This Row],[Jméno]],$E$5:$E$2024)","v":0},{"$f":"'1'!$D$71","v":0},{"$f":"'1'!$E$71","v":0},{"$f":"'1'!$F$71","v":0},{"$f":"'1'!$G$71","v":0},{"$f":"'1'!$H$71","v":0},{"$f":"'1'!$I$71","v":0},{"$f":"'1'!$J$71","v":0},{"$f":"'1'!$K$71","v":0},{"$f":"'1'!$L$71","v":0},{"$f":"'1'!$M$71","v":0},{"$f":"'1'!$N$71","v":0},{"$f":"'1'!$O$71","v":0},{"$f":"'1'!$P$71","v":0},{"$f":"'1'!$Q$71","v":0},{"$f":"'1'!$R$71","v":0},{"$f":"'1'!$S$71","v":0},{"$f":"'1'!$T$71","v":0},{"$f":"'1'!$U$71","v":0},{"$f":"'1'!$V$71","v":0},{"$f":"'1'!$W$71","v":0},{"$f":"'1'!$X$71","v":0},{"$f":"'1'!$Y$71","v":0},{"$f":"'1'!$Z$71","v":0},{"$f":"'1'!$AA$71","v":0},{"$f":"'1'!$AB$71","v":0},{"$f":"'1'!$AC$71","v":0},{"$f":"'1'!$AD$71","v":0},{"$f":"'1'!$AE$71","v":0},{"$f":"'1'!$AF$71","v":0},{"$f":"'1'!$AG$71","v":0},{"$f":"'1'!$AH$71","v":0},{"$f":"'1'!$AI$71","v":0},{"$f":"'1'!$AJ$71","v":0},1,{"$f":"VLOOKUP(AL247,Přehled!$C$5:$AL$24,36)","v":""},null,null,null,null,null,null,null,null,null,null,null,null,null,null,null,null,null,null,null,null,null,null,null,null,null,null,null,null,null,{"$f":"'2'!$AO$95","v":0},{"$f":"'2'!$AP$95","v":0},{"$f":"'2'!$AQ$95","v":0},{"$f":"'2'!$AR$95","v":0},{"$f":"'2'!$AS$95","v":0},{"$f":"'2'!$AT$95","v":0},2,{"$f":"VLOOKUP(BW247,Přehled!$C$5:$AL$24,36)","v":""},null,null,null,null,null,null,null,null,null,null,null,null,null,null,null,null,null,null,null,null,{"$f":"'2'!$BP$95","v":0},{"$f":"'2'!$BQ$95","v":0},{"$f":"'2'!$BR$95","v":0},{"$f":"'2'!$BS$95","v":0},{"$f":"'2'!$BT$95","v":0},{"$f":"'2'!$BU$95","v":0},2,{"$f":"VLOOKUP(CY247,Přehled!$C$5:$AL$24,36)","v":""},null,null,null,null,null,null,null,null,null,null,null,null,null,null,null,{"$f":"'2'!$CR$95","v":0},{"$f":"'2'!$CS$95","v":0},{"$f":"'2'!$CT$95","v":0},2,{"$f":"VLOOKUP(DS247,Přehled!$C$5:$AL$24,36)","v":""},null,null,null,null,null,null,null,null,null,null,null,null,null,null,null,{"$f":"'8'!$DO$33","v":0},{"$f":"'8'!$DP$33","v":0},{"$f":"'8'!$DQ$33","v":0},8,{"$f":"VLOOKUP(EM247,Přehled!$C$5:$AL$24,36)","v":""}]
[{"$f":"'3'!A49","v":0},{"$f":"'3'!B49","v":0},{"$f":"'3'!C49","v":0},{"$f":"SUMIF($B$5:$B$2024,Souhrn_hod[[#This Row],[Jméno]],$E$5:$E$2024)","v":0},{"$f":"'3'!D49","v":0},{"$f":"'3'!E49","v":0},{"$f":"'3'!F49","v":0},{"$f":"'3'!G49","v":0},{"$f":"'3'!H49","v":0},{"$f":"'3'!I49","v":0},{"$f":"'3'!J49","v":0},{"$f":"'3'!K49","v":0},{"$f":"'3'!L49","v":0},{"$f":"'3'!M49","v":0},{"$f":"'3'!N49","v":0},{"$f":"'3'!O49","v":0},{"$f":"'3'!P49","v":0},{"$f":"'3'!Q49","v":0},{"$f":"'3'!R49","v":0},{"$f":"'3'!S49","v":0},{"$f":"'3'!T49","v":0},{"$f":"'3'!U49","v":0},{"$f":"'3'!V49","v":0},{"$f":"'3'!W49","v":0},{"$f":"'3'!X49","v":0},{"$f":"'3'!Y49","v":0},{"$f":"'3'!Z49","v":0},{"$f":"'3'!AA49","v":0},{"$f":"'3'!AB49","v":0},{"$f":"'3'!AC49","v":0},{"$f":"'3'!AD49","v":0},{"$f":"'3'!AE49","v":0},{"$f":"'3'!AF49","v":0},{"$f":"'3'!AG49","v":0},{"$f":"'3'!AH49","v":0},{"$f":"'3'!AI49","v":0},{"$f":"'3'!AJ49","v":0},3,{"$f":"VLOOKUP(AL248,Přehled!$C$5:$AL$24,36)","v":""},null,null,null,null,null,null,null,null,null,null,null,null,null,null,null,null,null,null,null,null,null,null,null,null,null,null,null,null,null,{"$f":"'2'!$AO$96","v":0},{"$f":"'2'!$AP$96","v":0},{"$f":"'2'!$AQ$96","v":0},{"$f":"'2'!$AR$96","v":0},{"$f":"'2'!$AS$96","v":0},{"$f":"'2'!$AT$96","v":0},2,{"$f":"VLOOKUP(BW248,Přehled!$C$5:$AL$24,36)","v":""},null,null,null,null,null,null,null,null,null,null,null,null,null,null,null,null,null,null,null,null,{"$f":"'2'!$BP$96","v":0},{"$f":"'2'!$BQ$96","v":0},{"$f":"'2'!$BR$96","v":0},{"$f":"'2'!$BS$96","v":0},{"$f":"'2'!$BT$96","v":0},{"$f":"'2'!$BU$96","v":0},2,{"$f":"VLOOKUP(CY248,Přehled!$C$5:$AL$24,36)","v":""},null,null,null,null,null,null,null,null,null,null,null,null,null,null,null,{"$f":"'2'!$CR$96","v":0},{"$f":"'2'!$CS$96","v":0},{"$f":"'2'!$CT$96","v":0},2,{"$f":"VLOOKUP(DS248,Přehled!$C$5:$AL$24,36)","v":""},null,null,null,null,null,null,null,null,null,null,null,null,null,null,null,{"$f":"'8'!$DO$34","v":0},{"$f":"'8'!$DP$34","v":0},{"$f":"'8'!$DQ$34","v":0},8,{"$f":"VLOOKUP(EM248,Přehled!$C$5:$AL$24,36)","v":""}]
[{"$f":"'3'!A50","v":0},{"$f":"'3'!B50","v":0},{"$f":"'3'!C50","v":0},{"$f":"SUMIF($B$5:$B$2024,Souhrn_hod[[#This Row],[Jméno]],$E$5:$E$2024)","v":0},{"$f":"'3'!D50","v":0},{"$f":"'3'!E50","v":0},{"$f":"'3'!F50","v":0},{"$f":"'3'!G50","v":0},{"$f":"'3'!H50","v":0},{"$f":"'3'!I50","v":0},{"$f":"'3'!J50","v":0},{"$f":"'3'!K50","v":0},{"$f":"'3'!L50","v":0},{"$f":"'3'!M50","v":0},{"$f":"'3'!N50","v":0},{"$f":"'3'!O50","v":0},{"$f":"'3'!P50","v":0},{"$f":"'3'!Q50","v":0},{"$f":"'3'!R50","v":0},{"$f":"'3'!S50","v":0},{"$f":"'3'!T50","v":0},{"$f":"'3'!U50","v":0},{"$f":"'3'!V50","v":0},{"$f":"'3'!W50","v":0},{"$f":"'3'!X50","v":0},{"$f":"'3'!Y50","v":0},{"$f":"'3'!Z50","v":0},{"$f":"'3'!AA50","v":0},{"$f":"'3'!AB50","v":0},{"$f":"'3'!AC50","v":0},{"$f":"'3'!AD50","v":0},{"$f":"'3'!AE50","v":0},{"$f":"'3'!AF50","v":0},{"$f":"'3'!AG50","v":0},{"$f":"'3'!AH50","v":0},{"$f":"'3'!AI50","v":0},{"$f":"'3'!AJ50","v":0},3,{"$f":"VLOOKUP(AL249,Přehled!$C$5:$AL$24,36)","v":""},null,null,null,null,null,null,null,null,null,null,null,null,null,null,null,null,null,null,null,null,null,null,null,null,null,null,null,null,null,{"$f":"'2'!$AO$97","v":0},{"$f":"'2'!$AP$97","v":0},{"$f":"'2'!$AQ$97","v":0},{"$f":"'2'!$AR$97","v":0},{"$f":"'2'!$AS$97","v":0},{"$f":"'2'!$AT$97","v":0},2,{"$f":"VLOOKUP(BW249,Přehled!$C$5:$AL$24,36)","v":""},null,null,null,null,null,null,null,null,null,null,null,null,null,null,null,null,null,null,null,null,{"$f":"'2'!$BP$97","v":0},{"$f":"'2'!$BQ$97","v":0},{"$f":"'2'!$BR$97","v":0},{"$f":"'2'!$BS$97","v":0},{"$f":"'2'!$BT$97","v":0},{"$f":"'2'!$BU$97","v":0},2,{"$f":"VLOOKUP(CY249,Přehled!$C$5:$AL$24,36)","v":""},null,null,null,null,null,null,null,null,null,null,null,null,null,null,null,{"$f":"'2'!$CR$97","v":0},{"$f":"'2'!$CS$97","v":0},{"$f":"'2'!$CT$97","v":0},2,{"$f":"VLOOKUP(DS249,Přehled!$C$5:$AL$24,36)","v":""},null,null,null,null,null,null,null,null,null,null,null,null,null,null,null,{"$f":"'8'!$DO$35","v":0},{"$f":"'8'!$DP$35","v":0},{"$f":"'8'!$DQ$35","v":0},8,{"$f":"VLOOKUP(EM249,Přehled!$C$5:$AL$24,36)","v":""}]
[{"$f":"'3'!A51","v":0},{"$f":"'3'!B51","v":0},{"$f":"'3'!C51","v":0},{"$f":"SUMIF($B$5:$B$2024,Souhrn_hod[[#This Row],[Jméno]],$E$5:$E$2024)","v":0},{"$f":"'3'!D51","v":0},{"$f":"'3'!E51","v":0},{"$f":"'3'!F51","v":0},{"$f":"'3'!G51","v":0},{"$f":"'3'!H51","v":0},{"$f":"'3'!I51","v":0},{"$f":"'3'!J51","v":0},{"$f":"'3'!K51","v":0},{"$f":"'3'!L51","v":0},{"$f":"'3'!M51","v":0},{"$f":"'3'!N51","v":0},{"$f":"'3'!O51","v":0},{"$f":"'3'!P51","v":0},{"$f":"'3'!Q51","v":0},{"$f":"'3'!R51","v":0},{"$f":"'3'!S51","v":0},{"$f":"'3'!T51","v":0},{"$f":"'3'!U51","v":0},{"$f":"'3'!V51","v":0},{"$f":"'3'!W51","v":0},{"$f":"'3'!X51","v":0},{"$f":"'3'!Y51","v":0},{"$f":"'3'!Z51","v":0},{"$f":"'3'!AA51","v":0},{"$f":"'3'!AB51","v":0},{"$f":"'3'!AC51","v":0},{"$f":"'3'!AD51","v":0},{"$f":"'3'!AE51","v":0},{"$f":"'3'!AF51","v":0},{"$f":"'3'!AG51","v":0},{"$f":"'3'!AH51","v":0},{"$f":"'3'!AI51","v":0},{"$f":"'3'!AJ51","v":0},3,{"$f":"VLOOKUP(AL250,Přehled!$C$5:$AL$24,36)","v":""},null,null,null,null,null,null,null,null,null,null,null,null,null,null,null,null,null,null,null,null,null,null,null,null,null,null,null,null,null,{"$f":"'2'!$AO$98","v":0},{"$f":"'2'!$AP$98","v":0},{"$f":"'2'!$AQ$98","v":0},{"$f":"'2'!$AR$98","v":0},{"$f":"'2'!$AS$98","v":0},{"$f":"'2'!$AT$98","v":0},2,{"$f":"VLOOKUP(BW250,Přehled!$C$5:$AL$24,36)","v":""},null,null,null,null,null,null,null,null,null,null,null,null,null,null,null,null,null,null,null,null,{"$f":"'2'!$BP$98","v":0},{"$f":"'2'!$BQ$98","v":0},{"$f":"'2'!$BR$98","v":0},{"$f":"'2'!$BS$98","v":0},{"$f":"'2'!$BT$98","v":0},{"$f":"'2'!$BU$98","v":0},2,{"$f":"VLOOKUP(CY250,Přehled!$C$5:$AL$24,36)","v":""},null,null,null,null,null,null,null,null,null,null,null,null,null,null,null,{"$f":"'2'!$CR$98","v":0},{"$f":"'2'!$CS$98","v":0},{"$f":"'2'!$CT$98","v":0},2,{"$f":"VLOOKUP(DS250,Přehled!$C$5:$AL$24,36)","v":""},null,null,null,null,null,null,null,null,null,null,null,null,null,null,null,{"$f":"'8'!$DO$36","v":0},{"$f":"'8'!$DP$36","v":0},{"$f":"'8'!$DQ$36","v":0},8,{"$f":"VLOOKUP(EM250,Přehled!$C$5:$AL$24,36)","v":""}]
[{"$f":"'3'!A55","v":0},{"$f":"'3'!B55","v":0},{"$f":"'3'!C55","v":0},{"$f":"SUMIF($B$5:$B$2024,Souhrn_hod[[#This Row],[Jméno]],$E$5:$E$2024)","v":0},{"$f":"'3'!D55","v":0},{"$f":"'3'!E55","v":0},{"$f":"'3'!F55","v":0},{"$f":"'3'!G55","v":0},{"$f":"'3'!H55","v":0},{"$f":"'3'!I55","v":0},{"$f":"'3'!J55","v":0},{"$f":"'3'!K55","v":0},{"$f":"'3'!L55","v":0},{"$f":"'3'!M55","v":0},{"$f":"'3'!N55","v":0},{"$f":"'3'!O55","v":0},{"$f":"'3'!P55","v":0},{"$f":"'3'!Q55","v":0},{"$f":"'3'!R55","v":0},{"$f":"'3'!S55","v":0},{"$f":"'3'!T55","v":0},{"$f":"'3'!U55","v":0},{"$f":"'3'!V55","v":0},{"$f":"'3'!W55","v":0},{"$f":"'3'!X55","v":0},{"$f":"'3'!Y55","v":0},{"$f":"'3'!Z55","v":0},{"$f":"'3'!AA55","v":0},{"$f":"'3'!AB55","v":0},{"$f":"'3'!AC55","v":0},{"$f":"'3'!AD55","v":0},{"$f":"'3'!AE55","v":0},{"$f":"'3'!AF55","v":0},{"$f":"'3'!AG55","v":0},{"$f":"'3'!AH55","v":0},{"$f":"'3'!AI55","v":0},{"$f":"'3'!AJ55","v":0},3,{"$f":"VLOOKUP(AL254,Přehled!$C$5:$AL$24,36)","v":""},null,null,null,null,null,null,null,null,null,null,null,null,null,null,null,null,null,null,null,null,null,null,null,null,null,null,null,null,null,{"$f":"'2'!$AO$102","v":0},{"$f":"'2'!$AP$102","v":0},{"$f":"'2'!$AQ$102","v":0},{"$f":"'2'!$AR$102","v":0},{"$f":"'2'!$AS$102","v":0},{"$f":"'2'!$AT$102","v":0},2,{"$f":"VLOOKUP(BW254,Přehled!$C$5:$AL$24,36)","v":""},null,null,null,null,null,null,null,null,null,null,null,null,null,null,null,null,null,null,null,null,{"$f":"'2'!$BP$102","v":0},{"$f":"'2'!$BQ$102","v":0},{"$f":"'2'!$BR$102","v":0},{"$f":"'2'!$BS$102","v":0},{"$f":"'2'!$BT$102","v":0},{"$f":"'2'!$BU$102","v":0},2,{"$f":"VLOOKUP(CY254,Přehled!$C$5:$AL$24,36)","v":""},null,null,null,null,null,null,null,null,null,null,null,null,null,null,null,{"$f":"'2'!$CR$102","v":0},{"$f":"'2'!$CS$102","v":0},{"$f":"'2'!$CT$102","v":0},2,{"$f":"VLOOKUP(DS254,Přehled!$C$5:$AL$24,36)","v":""},null,null,null,null,null,null,null,null,null,null,null,null,null,null,null,{"$f":"'9'!$DO$9","v":0},{"$f":"'9'!$DP$9","v":0},{"$f":"'9'!$DQ$9","v":0},9,{"$f":"VLOOKUP(EM254,Přehled!$C$5:$AL$24,36)","v":""}]
[{"$f":"'3'!A65","v":0},{"$f":"'3'!B65","v":0},{"$f":"'3'!C65","v":0},{"$f":"SUMIF($B$5:$B$2024,Souhrn_hod[[#This Row],[Jméno]],$E$5:$E$2024)","v":0},{"$f":"'3'!D65","v":0},{"$f":"'3'!E65","v":0},{"$f":"'3'!F65","v":0},{"$f":"'3'!G65","v":0},{"$f":"'3'!H65","v":0},{"$f":"'3'!I65","v":0},{"$f":"'3'!J65","v":0},{"$f":"'3'!K65","v":0},{"$f":"'3'!L65","v":0},{"$f":"'3'!M65","v":0},{"$f":"'3'!N65","v":0},{"$f":"'3'!O65","v":0},{"$f":"'3'!P65","v":0},{"$f":"'3'!Q65","v":0},{"$f":"'3'!R65","v":0},{"$f":"'3'!S65","v":0},{"$f":"'3'!T65","v":0},{"$f":"'3'!U65","v":0},{"$f":"'3'!V65","v":0},{"$f":"'3'!W65","v":0},{"$f":"'3'!X65","v":0},{"$f":"'3'!Y65","v":0},{"$f":"'3'!Z65","v":0},{"$f":"'3'!AA65","v":0},{"$f":"'3'!AB65","v":0},{"$f":"'3'!AC65","v":0},{"$f":"'3'!AD65","v":0},{"$f":"'3'!AE65","v":0},{"$f":"'3'!AF65","v":0},{"$f":"'3'!AG65","v":0},{"$f":"'3'!AH65","v":0},{"$f":"'3'!AI65","v":0},{"$f":"'3'!AJ65","v":0},3,{"$f":"VLOOKUP(AL264,Přehled!$C$5:$AL$24,36)","v":""},null,null,null,null,null,null,null,null,null,null,null,null,null,null,null,null,null,null,null,null,null,null,null,null,null,null,null,null,null,{"$f":"'2'!$AO$112","v":0},{"$f":"'2'!$AP$112","v":0},{"$f":"'2'!$AQ$112","v":0},{"$f":"'2'!$AR$112","v":0},{"$f":"'2'!$AS$112","v":0},{"$f":"'2'!$AT$112","v":0},2,{"$f":"VLOOKUP(BW264,Přehled!$C$5:$AL$24,36)","v":""},null,null,null,null,null,null,null,null,null,null,null,null,null,null,null,null,null,null,null,null,{"$f":"'2'!$BP$112","v":0},{"$f":"'2'!$BQ$112","v":0},{"$f":"'2'!$BR$112","v":0},{"$f":"'2'!$BS$112","v":0},{"$f":"'2'!$BT$112","v":0},{"$f":"'2'!$BU$112","v":0},2,{"$f":"VLOOKUP(CY264,Přehled!$C$5:$AL$24,36)","v":""},null,null,null,null,null,null,null,null,null,null,null,null,null,null,null,{"$f":"'2'!$CR$112","v":0},{"$f":"'2'!$CS$112","v":0},{"$f":"'2'!$CT$112","v":0},2,{"$f":"VLOOKUP(DS264,Přehled!$C$5:$AL$24,36)","v":""},null,null,null,null,null,null,null,null,null,null,null,null,null,null,null,{"$f":"'9'!$DO$19","v":0},{"$f":"'9'!$DP$19","v":0},{"$f":"'9'!$DQ$19","v":0},9,{"$f":"VLOOKUP(EM264,Přehled!$C$5:$AL$24,36)","v":""}]
[{"$f":"'3'!A82","v":0},{"$f":"'3'!B82","v":0},{"$f":"'3'!C82","v":0},{"$f":"SUMIF($B$5:$B$2024,Souhrn_hod[[#This Row],[Jméno]],$E$5:$E$2024)","v":0},{"$f":"'3'!D82","v":0},{"$f":"'3'!E82","v":0},{"$f":"'3'!F82","v":0},{"$f":"'3'!G82","v":0},{"$f":"'3'!H82","v":0},{"$f":"'3'!I82","v":0},{"$f":"'3'!J82","v":0},{"$f":"'3'!K82","v":0},{"$f":"'3'!L82","v":0},{"$f":"'3'!M82","v":0},{"$f":"'3'!N82","v":0},{"$f":"'3'!O82","v":0},{"$f":"'3'!P82","v":0},{"$f":"'3'!Q82","v":0},{"$f":"'3'!R82","v":0},{"$f":"'3'!S82","v":0},{"$f":"'3'!T82","v":0},{"$f":"'3'!U82","v":0},{"$f":"'3'!V82","v":0},{"$f":"'3'!W82","v":0},{"$f":"'3'!X82","v":0},{"$f":"'3'!Y82","v":0},{"$f":"'3'!Z82","v":0},{"$f":"'3'!AA82","v":0},{"$f":"'3'!AB82","v":0},{"$f":"'3'!AC82","v":0},{"$f":"'3'!AD82","v":0},{"$f":"'3'!AE82","v":0},{"$f":"'3'!AF82","v":0},{"$f":"'3'!AG82","v":0},{"$f":"'3'!AH82","v":0},{"$f":"'3'!AI82","v":0},{"$f":"'3'!AJ82","v":0},3,{"$f":"VLOOKUP(AL281,Přehled!$C$5:$AL$24,36)","v":""},null,null,null,null,null,null,null,null,null,null,null,null,null,null,null,null,null,null,null,null,null,null,null,null,null,null,null,null,null,{"$f":"'2'!$AO$129","v":0},{"$f":"'2'!$AP$129","v":0},{"$f":"'2'!$AQ$129","v":0},{"$f":"'2'!$AR$129","v":0},{"$f":"'2'!$AS$129","v":0},{"$f":"'2'!$AT$129","v":0},2,{"$f":"VLOOKUP(BW281,Přehled!$C$5:$AL$24,36)","v":""},null,null,null,null,null,null,null,null,null,null,null,null,null,null,null,null,null,null,null,null,{"$f":"'2'!$BP$129","v":0},{"$f":"'2'!$BQ$129","v":0},{"$f":"'2'!$BR$129","v":0},{"$f":"'2'!$BS$129","v":0},{"$f":"'2'!$BT$129","v":0},{"$f":"'2'!$BU$129","v":0},2,{"$f":"VLOOKUP(CY281,Přehled!$C$5:$AL$24,36)","v":""},null,null,null,null,null,null,null,null,null,null,null,null,null,null,null,{"$f":"'2'!$CR$129","v":0},{"$f":"'2'!$CS$129","v":0},{"$f":"'2'!$CT$129","v":0},2,{"$f":"VLOOKUP(DS281,Přehled!$C$5:$AL$24,36)","v":""},null,null,null,null,null,null,null,null,null,null,null,null,null,null,null,{"$f":"'9'!$DO$36","v":0},{"$f":"'9'!$DP$36","v":0},{"$f":"'9'!$DQ$36","v":0},9,{"$f":"VLOOKUP(EM281,Přehled!$C$5:$AL$24,36)","v":""}]
[{"$f":"'3'!A92","v":0},{"$f":"'3'!B92","v":0},{"$f":"'3'!C92","v":0},{"$f":"SUMIF($B$5:$B$2024,Souhrn_hod[[#This Row],[Jméno]],$E$5:$E$2024)","v":0},{"$f":"'3'!D92","v":0},{"$f":"'3'!E92","v":0},{"$f":"'3'!F92","v":0},{"$f":"'3'!G92","v":0},{"$f":"'3'!H92","v":0},{"$f":"'3'!I92","v":0},{"$f":"'3'!J92","v":0},{"$f":"'3'!K92","v":0},{"$f":"'3'!L92","v":0},{"$f":"'3'!M92","v":0},{"$f":"'3'!N92","v":0},{"$f":"'3'!O92","v":0},{"$f":"'3'!P92","v":0},{"$f":"'3'!Q92","v":0},{"$f":"'3'!R92","v":0},{"$f":"'3'!S92","v":0},{"$f":"'3'!T92","v":0},{"$f":"'3'!U92","v":0},{"$f":"'3'!V92","v":0},{"$f":"'3'!W92","v":0},{"$f":"'3'!X92","v":0},{"$f":"'3'!Y92","v":0},{"$f":"'3'!Z92","v":0},{"$f":"'3'!AA92","v":0},{"$f":"'3'!AB92","v":0},{"$f":"'3'!AC92","v":0},{"$f":"'3'!AD92","v":0},{"$f":"'3'!AE92","v":0},{"$f":"'3'!AF92","v":0},{"$f":"'3'!AG92","v":0},{"$f":"'3'!AH92","v":0},{"$f":"'3'!AI92","v":0},{"$f":"'3'!AJ92","v":0},3,{"$f":"VLOOKUP(AL291,Přehled!$C$5:$AL$24,36)","v":""},null,null,null,null,null,null,null,null,null,null,null,null,null,null,null,null,null,null,null,null,null,null,null,null,null,null,null,null,null,{"$f":"'2'!$AO$139","v":0},{"$f":"'2'!$AP$139","v":0},{"$f":"'2'!$AQ$139","v":0},{"$f":"'2'!$AR$139","v":0},{"$f":"'2'!$AS$139","v":0},{"$f":"'2'!$AT$139","v":0},2,{"$f":"VLOOKUP(BW291,Přehled!$C$5:$AL$24,36)","v":""},null,null,null,null,null,null,null,null,null,null,null,null,null,null,null,null,null,null,null,null,{"$f":"'2'!$BP$139","v":0},{"$f":"'2'!$BQ$139","v":0},{"$f":"'2'!$BR$139","v":0},{"$f":"'2'!$BS$139","v":0},{"$f":"'2'!$BT$139","v":0},{"$f":"'2'!$BU$139","v":0},2,{"$f":"VLOOKUP(CY291,Přehled!$C$5:$AL$24,36)","v":""},null,null,null,null,null,null,null,null,null,null,null,null,null,null,null,{"$f":"'2'!$CR$139","v":0},{"$f":"'2'!$CS$139","v":0},{"$f":"'2'!$CT$139","v":0},2,{"$f":"VLOOKUP(DS291,Přehled!$C$5:$AL$24,36)","v":""},null,null,null,null,null,null,null,null,null,null,null,null,null,null,null,{"$f":"'10'!$DO$15","v":0},{"$f":"'10'!$DP$15","v":0},{"$f":"'10'!$DQ$15","v":0},10,{"$f":"VLOOKUP(EM291,Přehled!$C$5:$AL$24,36)","v":""}]
[{"$f":"'3'!A98","v":0},{"$f":"'3'!B98","v":0},{"$f":"'3'!C98","v":0},{"$f":"SUMIF($B$5:$B$2024,Souhrn_hod[[#This Row],[Jméno]],$E$5:$E$2024)","v":0},{"$f":"'3'!D98","v":0},{"$f":"'3'!E98","v":0},{"$f":"'3'!F98","v":0},{"$f":"'3'!G98","v":0},{"$f":"'3'!H98","v":0},{"$f":"'3'!I98","v":0},{"$f":"'3'!J98","v":0},{"$f":"'3'!K98","v":0},{"$f":"'3'!L98","v":0},{"$f":"'3'!M98","v":0},{"$f":"'3'!N98","v":0},{"$f":"'3'!O98","v":0},{"$f":"'3'!P98","v":0},{"$f":"'3'!Q98","v":0},{"$f":"'3'!R98","v":0},{"$f":"'3'!S98","v":0},{"$f":"'3'!T98","v":0},{"$f":"'3'!U98","v":0},{"$f":"'3'!V98","v":0},{"$f":"'3'!W98","v":0},{"$f":"'3'!X98","v":0},{"$f":"'3'!Y98","v":0},{"$f":"'3'!Z98","v":0},{"$f":"'3'!AA98","v":0},{"$f":"'3'!AB98","v":0},{"$f":"'3'!AC98","v":0},{"$f":"'3'!AD98","v":0},{"$f":"'3'!AE98","v":0},{"$f":"'3'!AF98","v":0},{"$f":"'3'!AG98","v":0},{"$f":"'3'!AH98","v":0},{"$f":"'3'!AI98","v":0},{"$f":"'3'!AJ98","v":0},3,{"$f":"VLOOKUP(AL297,Přehled!$C$5:$AL$24,36)","v":""},null,null,null,null,null,null,null,null,null,null,null,null,null,null,null,null,null,null,null,null,null,null,null,null,null,null,null,null,null,{"$f":"'2'!$AO$145","v":0},{"$f":"'2'!$AP$145","v":0},{"$f":"'2'!$AQ$145","v":0},{"$f":"'2'!$AR$145","v":0},{"$f":"'2'!$AS$145","v":0},{"$f":"'2'!$AT$145","v":0},2,{"$f":"VLOOKUP(BW297,Přehled!$C$5:$AL$24,36)","v":""},null,null,null,null,null,null,null,null,null,null,null,null,null,null,null,null,null,null,null,null,{"$f":"'2'!$BP$145","v":0},{"$f":"'2'!$BQ$145","v":0},{"$f":"'2'!$BR$145","v":0},{"$f":"'2'!$BS$145","v":0},{"$f":"'2'!$BT$145","v":0},{"$f":"'2'!$BU$145","v":0},2,{"$f":"VLOOKUP(CY297,Přehled!$C$5:$AL$24,36)","v":""},null,null,null,null,null,null,null,null,null,null,null,null,null,null,null,{"$f":"'2'!$CR$145","v":0},{"$f":"'2'!$CS$145","v":0},{"$f":"'2'!$CT$145","v":0},2,{"$f":"VLOOKUP(DS297,Přehled!$C$5:$AL$24,36)","v":""},null,null,null,null,null,null,null,null,null,null,null,null,null,null,null,{"$f":"'10'!$DO$21","v":0},{"$f":"'10'!$DP$21","v":0},{"$f":"'10'!$DQ$21","v":0},10,{"$f":"VLOOKUP(EM297,Přehled!$C$5:$AL$24,36)","v":""}]
[{"$f":"'4'!A8","v":0},{"$f":"'4'!B8","v":0},{"$f":"'4'!C8","v":0},{"$f":"SUMIF($B$5:$B$2024,Souhrn_hod[[#This Row],[Jméno]],$E$5:$E$2024)","v":0},{"$f":"'4'!D8","v":0},{"$f":"'4'!E8","v":0},{"$f":"'4'!F8","v":0},{"$f":"'4'!G8","v":0},{"$f":"'4'!H8","v":0},{"$f":"'4'!I8","v":0},{"$f":"'4'!J8","v":0},{"$f":"'4'!K8","v":0},{"$f":"'4'!L8","v":0},{"$f":"'4'!M8","v":0},{"$f":"'4'!N8","v":0},{"$f":"'4'!O8","v":0},{"$f":"'4'!P8","v":0},{"$f":"'4'!Q8","v":0},{"$f":"'4'!R8","v":0},{"$f":"'4'!S8","v":0},{"$f":"'4'!T8","v":0},{"$f":"'4'!U8","v":0},{"$f":"'4'!V8","v":0},{"$f":"'4'!W8","v":0},{"$f":"'4'!X8","v":0},{"$f":"'4'!Y8","v":0},{"$f":"'4'!Z8","v":0},{"$f":"'4'!AA8","v":0},{"$f":"'4'!AB8","v":0},{"$f":"'4'!AC8","v":0},{"$f":"'4'!AD8","v":0},{"$f":"'4'!AE8","v":0},{"$f":"'4'!AF8","v":0},{"$f":"'4'!AG8","v":0},{"$f":"'4'!AH8","v":0},{"$f":"'4'!AI8","v":0},{"$f":"'4'!AJ8","v":0},4,{"$f":"VLOOKUP(AL308,Přehled!$C$5:$AL$24,36)","v":""},null,null,null,null,null,null,null,null,null,null,null,null,null,null,null,null,null,null,null,null,null,null,null,null,null,null,null,null,null,{"$f":"'2'!$AO$156","v":0},{"$f":"'2'!$AP$156","v":0},{"$f":"'2'!$AQ$156","v":0},{"$f":"'2'!$AR$156","v":0},{"$f":"'2'!$AS$156","v":0},{"$f":"'2'!$AT$156","v":0},2,{"$f":"VLOOKUP(BW308,Přehled!$C$5:$AL$24,36)","v":""},null,null,null,null,null,null,null,null,null,null,null,null,null,null,null,null,null,null,null,null,{"$f":"'2'!$BP$156","v":0},{"$f":"'2'!$BQ$156","v":0},{"$f":"'2'!$BR$156","v":0},{"$f":"'2'!$BS$156","v":0},{"$f":"'2'!$BT$156","v":0},{"$f":"'2'!$BU$156","v":0},2,{"$f":"VLOOKUP(CY308,Přehled!$C$5:$AL$24,36)","v":""},null,null,null,null,null,null,null,null,null,null,null,null,null,null,null,{"$f":"'2'!$CR$156","v":0},{"$f":"'2'!$CS$156","v":0},{"$f":"'2'!$CT$156","v":0},2,{"$f":"VLOOKUP(DS308,Přehled!$C$5:$AL$24,36)","v":""},null,null,null,null,null,null,null,null,null,null,null,null,null,null,null,{"$f":"'10'!$DO$32","v":0},{"$f":"'10'!$DP$32","v":0},{"$f":"'10'!$DQ$32","v":0},10,{"$f":"VLOOKUP(EM308,Přehled!$C$5:$AL$24,36)","v":""}]
[{"$f":"'4'!A25","v":0},{"$f":"'4'!B25","v":0},{"$f":"'4'!C25","v":0},{"$f":"SUMIF($B$5:$B$2024,Souhrn_hod[[#This Row],[Jméno]],$E$5:$E$2024)","v":0},{"$f":"'4'!D25","v":0},{"$f":"'4'!E25","v":0},{"$f":"'4'!F25","v":0},{"$f":"'4'!G25","v":0},{"$f":"'4'!H25","v":0},{"$f":"'4'!I25","v":0},{"$f":"'4'!J25","v":0},{"$f":"'4'!K25","v":0},{"$f":"'4'!L25","v":0},{"$f":"'4'!M25","v":0},{"$f":"'4'!N25","v":0},{"$f":"'4'!O25","v":0},{"$f":"'4'!P25","v":0},{"$f":"'4'!Q25","v":0},{"$f":"'4'!R25","v":0},{"$f":"'4'!S25","v":0},{"$f":"'4'!T25","v":0},{"$f":"'4'!U25","v":0},{"$f":"'4'!V25","v":0},{"$f":"'4'!W25","v":0},{"$f":"'4'!X25","v":0},{"$f":"'4'!Y25","v":0},{"$f":"'4'!Z25","v":0},{"$f":"'4'!AA25","v":0},{"$f":"'4'!AB25","v":0},{"$f":"'4'!AC25","v":0},{"$f":"'4'!AD25","v":0},{"$f":"'4'!AE25","v":0},{"$f":"'4'!AF25","v":0},{"$f":"'4'!AG25","v":0},{"$f":"'4'!AH25","v":0},{"$f":"'4'!AI25","v":0},{"$f":"'4'!AJ25","v":0},4,{"$f":"VLOOKUP(AL325,Přehled!$C$5:$AL$24,36)","v":""},null,null,null,null,null,null,null,null,null,null,null,null,null,null,null,null,null,null,null,null,null,null,null,null,null,null,null,null,null,{"$f":"'3'!$AO$18","v":0},{"$f":"'3'!$AP$18","v":0},{"$f":"'3'!$AQ$18","v":0},{"$f":"'3'!$AR$18","v":0},{"$f":"'3'!$AS$18","v":0},{"$f":"'3'!$AT$18","v":0},3,{"$f":"VLOOKUP(BW325,Přehled!$C$5:$AL$24,36)","v":""},null,null,null,null,null,null,null,null,null,null,null,null,null,null,null,null,null,null,null,null,{"$f":"'3'!$BP$18","v":0},{"$f":"'3'!$BQ$18","v":0},{"$f":"'3'!$BR$18","v":0},{"$f":"'3'!$BS$18","v":0},{"$f":"'3'!$BT$18","v":0},{"$f":"'3'!$BU$18","v":0},3,{"$f":"VLOOKUP(CY325,Přehled!$C$5:$AL$24,36)","v":""},null,null,null,null,null,null,null,null,null,null,null,null,null,null,null,{"$f":"'3'!$CR$18","v":0},{"$f":"'3'!$CS$18","v":0},{"$f":"'3'!$CT$18","v":0},3,{"$f":"VLOOKUP(DS325,Přehled!$C$5:$AL$24,36)","v":""},null,null,null,null,null,null,null,null,null,null,null,null,null,null,null,{"$f":"'11'!$DO$18","v":0},{"$f":"'11'!$DP$18","v":0},{"$f":"'11'!$DQ$18","v":0},11,{"$f":"VLOOKUP(EM325,Přehled!$C$5:$AL$24,36)","v":""}]
[{"$f":"'4'!A31","v":0},{"$f":"'4'!B31","v":0},{"$f":"'4'!C31","v":0},{"$f":"SUMIF($B$5:$B$2024,Souhrn_hod[[#This Row],[Jméno]],$E$5:$E$2024)","v":0},{"$f":"'4'!D31","v":0},{"$f":"'4'!E31","v":0},{"$f":"'4'!F31","v":0},{"$f":"'4'!G31","v":0},{"$f":"'4'!H31","v":0},{"$f":"'4'!I31","v":0},{"$f":"'4'!J31","v":0},{"$f":"'4'!K31","v":0},{"$f":"'4'!L31","v":0},{"$f":"'4'!M31","v":0},{"$f":"'4'!N31","v":0},{"$f":"'4'!O31","v":0},{"$f":"'4'!P31","v":0},{"$f":"'4'!Q31","v":0},{"$f":"'4'!R31","v":0},{"$f":"'4'!S31","v":0},{"$f":"'4'!T31","v":0},{"$f":"'4'!U31","v":0},{"$f":"'4'!V31","v":0},{"$f":"'4'!W31","v":0},{"$f":"'4'!X31","v":0},{"$f":"'4'!Y31","v":0},{"$f":"'4'!Z31","v":0},{"$f":"'4'!AA31","v":0},{"$f":"'4'!AB31","v":0},{"$f":"'4'!AC31","v":0},{"$f":"'4'!AD31","v":0},{"$f":"'4'!AE31","v":0},{"$f":"'4'!AF31","v":0},{"$f":"'4'!AG31","v":0},{"$f":"'4'!AH31","v":0},{"$f":"'4'!AI31","v":0},{"$f":"'4'!AJ31","v":0},4,{"$f":"VLOOKUP(AL331,Přehled!$C$5:$AL$24,36)","v":""},null,null,null,null,null,null,null,null,null,null,null,null,null,null,null,null,null,null,null,null,null,null,null,null,null,null,null,null,null,{"$f":"'3'!$AO$24","v":0},{"$f":"'3'!$AP$24","v":0},{"$f":"'3'!$AQ$24","v":0},{"$f":"'3'!$AR$24","v":0},{"$f":"'3'!$AS$24","v":0},{"$f":"'3'!$AT$24","v":0},3,{"$f":"VLOOKUP(BW331,Přehled!$C$5:$AL$24,36)","v":""},null,null,null,null,null,null,null,null,null,null,null,null,null,null,null,null,null,null,null,null,{"$f":"'3'!$BP$24","v":0},{"$f":"'3'!$BQ$24","v":0},{"$f":"'3'!$BR$24","v":0},{"$f":"'3'!$BS$24","v":0},{"$f":"'3'!$BT$24","v":0},{"$f":"'3'!$BU$24","v":0},3,{"$f":"VLOOKUP(CY331,Přehled!$C$5:$AL$24,36)","v":""},null,null,null,null,null,null,null,null,null,null,null,null,null,null,null,{"$f":"'3'!$CR$24","v":0},{"$f":"'3'!$CS$24","v":0},{"$f":"'3'!$CT$24","v":0},3,{"$f":"VLOOKUP(DS331,Přehled!$C$5:$AL$24,36)","v":""},null,null,null,null,null,null,null,null,null,null,null,null,null,null,null,{"$f":"'11'!$DO$24","v":0},{"$f":"'11'!$DP$24","v":0},{"$f":"'11'!$DQ$24","v":0},11,{"$f":"VLOOKUP(EM331,Přehled!$C$5:$AL$24,36)","v":""}]
[{"$f":"'4'!A41","v":0},{"$f":"'4'!B41","v":0},{"$f":"'4'!C41","v":0},{"$f":"SUMIF($B$5:$B$2024,Souhrn_hod[[#This Row],[Jméno]],$E$5:$E$2024)","v":0},{"$f":"'4'!D41","v":0},{"$f":"'4'!E41","v":0},{"$f":"'4'!F41","v":0},{"$f":"'4'!G41","v":0},{"$f":"'4'!H41","v":0},{"$f":"'4'!I41","v":0},{"$f":"'4'!J41","v":0},{"$f":"'4'!K41","v":0},{"$f":"'4'!L41","v":0},{"$f":"'4'!M41","v":0},{"$f":"'4'!N41","v":0},{"$f":"'4'!O41","v":0},{"$f":"'4'!P41","v":0},{"$f":"'4'!Q41","v":0},{"$f":"'4'!R41","v":0},{"$f":"'4'!S41","v":0},{"$f":"'4'!T41","v":0},{"$f":"'4'!U41","v":0},{"$f":"'4'!V41","v":0},{"$f":"'4'!W41","v":0},{"$f":"'4'!X41","v":0},{"$f":"'4'!Y41","v":0},{"$f":"'4'!Z41","v":0},{"$f":"'4'!AA41","v":0},{"$f":"'4'!AB41","v":0},{"$f":"'4'!AC41","v":0},{"$f":"'4'!AD41","v":0},{"$f":"'4'!AE41","v":0},{"$f":"'4'!AF41","v":0},{"$f":"'4'!AG41","v":0},{"$f":"'4'!AH41","v":0},{"$f":"'4'!AI41","v":0},{"$f":"'4'!AJ41","v":0},4,{"$f":"VLOOKUP(AL341,Přehled!$C$5:$AL$24,36)","v":""},null,null,null,null,null,null,null,null,null,null,null,null,null,null,null,null,null,null,null,null,null,null,null,null,null,null,null,null,null,{"$f":"'3'!$AO$34","v":0},{"$f":"'3'!$AP$34","v":0},{"$f":"'3'!$AQ$34","v":0},{"$f":"'3'!$AR$34","v":0},{"$f":"'3'!$AS$34","v":0},{"$f":"'3'!$AT$34","v":0},3,{"$f":"VLOOKUP(BW341,Přehled!$C$5:$AL$24,36)","v":""},null,null,null,null,null,null,null,null,null,null,null,null,null,null,null,null,null,null,null,null,{"$f":"'3'!$BP$34","v":0},{"$f":"'3'!$BQ$34","v":0},{"$f":"'3'!$BR$34","v":0},{"$f":"'3'!$BS$34","v":0},{"$f":"'3'!$BT$34","v":0},{"$f":"'3'!$BU$34","v":0},3,{"$f":"VLOOKUP(CY341,Přehled!$C$5:$AL$24,36)","v":""},null,null,null,null,null,null,null,null,null,null,null,null,null,null,null,{"$f":"'3'!$CR$34","v":0},{"$f":"'3'!$CS$34","v":0},{"$f":"'3'!$CT$34","v":0},3,{"$f":"VLOOKUP(DS341,Přehled!$C$5:$AL$24,36)","v":""},null,null,null,null,null,null,null,null,null,null,null,null,null,null,null,{"$f":"'11'!$DO$34","v":0},{"$f":"'11'!$DP$34","v":0},{"$f":"'11'!$DQ$34","v":0},11,{"$f":"VLOOKUP(EM341,Přehled!$C$5:$AL$24,36)","v":""}]
[{"$f":"'4'!A58","v":0},{"$f":"'4'!B58","v":0},{"$f":"'4'!C58","v":0},{"$f":"SUMIF($B$5:$B$2024,Souhrn_hod[[#This Row],[Jméno]],$E$5:$E$2024)","v":0},{"$f":"'4'!D58","v":0},{"$f":"'4'!E58","v":0},{"$f":"'4'!F58","v":0},{"$f":"'4'!G58","v":0},{"$f":"'4'!H58","v":0},{"$f":"'4'!I58","v":0},{"$f":"'4'!J58","v":0},{"$f":"'4'!K58","v":0},{"$f":"'4'!L58","v":0},{"$f":"'4'!M58","v":0},{"$f":"'4'!N58","v":0},{"$f":"'4'!O58","v":0},{"$f":"'4'!P58","v":0},{"$f":"'4'!Q58","v":0},{"$f":"'4'!R58","v":0},{"$f":"'4'!S58","v":0},{"$f":"'4'!T58","v":0},{"$f":"'4'!U58","v":0},{"$f":"'4'!V58","v":0},{"$f":"'4'!W58","v":0},{"$f":"'4'!X58","v":0},{"$f":"'4'!Y58","v":0},{"$f":"'4'!Z58","v":0},{"$f":"'4'!AA58","v":0},{"$f":"'4'!AB58","v":0},{"$f":"'4'!AC58","v":0},{"$f":"'4'!AD58","v":0},{"$f":"'4'!AE58","v":0},{"$f":"'4'!AF58","v":0},{"$f":"'4'!AG58","v":0},{"$f":"'4'!AH58","v":0},{"$f":"'4'!AI58","v":0},{"$f":"'4'!AJ58","v":0},4,{"$f":"VLOOKUP(AL358,Přehled!$C$5:$AL$24,36)","v":""},null,null,null,null,null,null,null,null,null,null,null,null,null,null,null,null,null,null,null,null,null,null,null,null,null,null,null,null,null,{"$f":"'3'!$AO$51","v":0},{"$f":"'3'!$AP$51","v":0},{"$f":"'3'!$AQ$51","v":0},{"$f":"'3'!$AR$51","v":0},{"$f":"'3'!$AS$51","v":0},{"$f":"'3'!$AT$51","v":0},3,{"$f":"VLOOKUP(BW358,Přehled!$C$5:$AL$24,36)","v":""},null,null,null,null,null,null,null,null,null,null,null,null,null,null,null,null,null,null,null,null,{"$f":"'3'!$BP$51","v":0},{"$f":"'3'!$BQ$51","v":0},{"$f":"'3'!$BR$51","v":0},{"$f":"'3'!$BS$51","v":0},{"$f":"'3'!$BT$51","v":0},{"$f":"'3'!$BU$51","v":0},3,{"$f":"VLOOKUP(CY358,Přehled!$C$5:$AL$24,36)","v":""},null,null,null,null,null,null,null,null,null,null,null,null,null,null,null,{"$f":"'3'!$CR$51","v":0},{"$f":"'3'!$CS$51","v":0},{"$f":"'3'!$CT$51","v":0},3,{"$f":"VLOOKUP(DS358,Přehled!$C$5:$AL$24,36)","v":""},null,null,null,null,null,null,null,null,null,null,null,null,null,null,null,{"$f":"'12'!$DO$20","v":0},{"$f":"'12'!$DP$20","v":0},{"$f":"'12'!$DQ$20","v":0},12,{"$f":"VLOOKUP(EM358,Přehled!$C$5:$AL$24,36)","v":""}]
[{"$f":"'4'!A64","v":0},{"$f":"'4'!B64","v":0},{"$f":"'4'!C64","v":0},{"$f":"SUMIF($B$5:$B$2024,Souhrn_hod[[#This Row],[Jméno]],$E$5:$E$2024)","v":0},{"$f":"'4'!D64","v":0},{"$f":"'4'!E64","v":0},{"$f":"'4'!F64","v":0},{"$f":"'4'!G64","v":0},{"$f":"'4'!H64","v":0},{"$f":"'4'!I64","v":0},{"$f":"'4'!J64","v":0},{"$f":"'4'!K64","v":0},{"$f":"'4'!L64","v":0},{"$f":"'4'!M64","v":0},{"$f":"'4'!N64","v":0},{"$f":"'4'!O64","v":0},{"$f":"'4'!P64","v":0},{"$f":"'4'!Q64","v":0},{"$f":"'4'!R64","v":0},{"$f":"'4'!S64","v":0},{"$f":"'4'!T64","v":0},{"$f":"'4'!U64","v":0},{"$f":"'4'!V64","v":0},{"$f":"'4'!W64","v":0},{"$f":"'4'!X64","v":0},{"$f":"'4'!Y64","v":0},{"$f":"'4'!Z64","v":0},{"$f":"'4'!AA64","v":0},{"$f":"'4'!AB64","v":0},{"$f":"'4'!AC64","v":0},{"$f":"'4'!AD64","v":0},{"$f":"'4'!AE64","v":0},{"$f":"'4'!AF64","v":0},{"$f":"'4'!AG64","v":0},{"$f":"'4'!AH64","v":0},{"$f":"'4'!AI64","v":0},{"$f":"'4'!AJ64","v":0},4,{"$f":"VLOOKUP(AL364,Přehled!$C$5:$AL$24,36)","v":""},null,null,null,null,null,null,null,null,null,null,null,null,null,null,null,null,null,null,null,null,null,null,null,null,null,null,null,null,null,{"$f":"'3'!$AO$57","v":0},{"$f":"'3'!$AP$57","v":0},{"$f":"'3'!$AQ$57","v":0},{"$f":"'3'!$AR$57","v":0},{"$f":"'3'!$AS$57","v":0},{"$f":"'3'!$AT$57","v":0},3,{"$f":"VLOOKUP(BW364,Přehled!$C$5:$AL$24,36)","v":""},null,null,null,null,null,null,null,null,null,null,null,null,null,null,null,null,null,null,null,null,{"$f":"'3'!$BP$57","v":0},{"$f":"'3'!$BQ$57","v":0},{"$f":"'3'!$BR$57","v":0},{"$f":"'3'!$BS$57","v":0},{"$f":"'3'!$BT$57","v":0},{"$f":"'3'!$BU$57","v":0},3,{"$f":"VLOOKUP(CY364,Přehled!$C$5:$AL$24,36)","v":""},null,null,null,null,null,null,null,null,null,null,null,null,null,null,null,{"$f":"'3'!$CR$57","v":0},{"$f":"'3'!$CS$57","v":0},{"$f":"'3'!$CT$57","v":0},3,{"$f":"VLOOKUP(DS364,Přehled!$C$5:$AL$24,36)","v":""},null,null,null,null,null,null,null,null,null,null,null,null,null,null,null,{"$f":"'12'!$DO$26","v":0},{"$f":"'12'!$DP$26","v":0},{"$f":"'12'!$DQ$26","v":0},12,{"$f":"VLOOKUP(EM364,Přehled!$C$5:$AL$24,36)","v":""}]
[{"$f":"'4'!A81","v":0},{"$f":"'4'!B81","v":0},{"$f":"'4'!C81","v":0},{"$f":"SUMIF($B$5:$B$2024,Souhrn_hod[[#This Row],[Jméno]],$E$5:$E$2024)","v":0},{"$f":"'4'!D81","v":0},{"$f":"'4'!E81","v":0},{"$f":"'4'!F81","v":0},{"$f":"'4'!G81","v":0},{"$f":"'4'!H81","v":0},{"$f":"'4'!I81","v":0},{"$f":"'4'!J81","v":0},{"$f":"'4'!K81","v":0},{"$f":"'4'!L81","v":0},{"$f":"'4'!M81","v":0},{"$f":"'4'!N81","v":0},{"$f":"'4'!O81","v":0},{"$f":"'4'!P81","v":0},{"$f":"'4'!Q81","v":0},{"$f":"'4'!R81","v":0},{"$f":"'4'!S81","v":0},{"$f":"'4'!T81","v":0},{"$f":"'4'!U81","v":0},{"$f":"'4'!V81","v":0},{"$f":"'4'!W81","v":0},{"$f":"'4'!X81","v":0},{"$f":"'4'!Y81","v":0},{"$f":"'4'!Z81","v":0},{"$f":"'4'!AA81","v":0},{"$f":"'4'!AB81","v":0},{"$f":"'4'!AC81","v":0},{"$f":"'4'!AD81","v":0},{"$f":"'4'!AE81","v":0},{"$f":"'4'!AF81","v":0},{"$f":"'4'!AG81","v":0},{"$f":"'4'!AH81","v":0},{"$f":"'4'!AI81","v":0},{"$f":"'4'!AJ81","v":0},4,{"$f":"VLOOKUP(AL381,Přehled!$C$5:$AL$24,36)","v":""},null,null,null,null,null,null,null,null,null,null,null,null,null,null,null,null,null,null,null,null,null,null,null,null,null,null,null,null,null,{"$f":"'3'!$AO$74","v":0},{"$f":"'3'!$AP$74","v":0},{"$f":"'3'!$AQ$74","v":0},{"$f":"'3'!$AR$74","v":0},{"$f":"'3'!$AS$74","v":0},{"$f":"'3'!$AT$74","v":0},3,{"$f":"VLOOKUP(BW381,Přehled!$C$5:$AL$24,36)","v":""},null,null,null,null,null,null,null,null,null,null,null,null,null,null,null,null,null,null,null,null,{"$f":"'3'!$BP$74","v":0},{"$f":"'3'!$BQ$74","v":0},{"$f":"'3'!$BR$74","v":0},{"$f":"'3'!$BS$74","v":0},{"$f":"'3'!$BT$74","v":0},{"$f":"'3'!$BU$74","v":0},3,{"$f":"VLOOKUP(CY381,Přehled!$C$5:$AL$24,36)","v":""},null,null,null,null,null,null,null,null,null,null,null,null,null,null,null,{"$f":"'3'!$CR$74","v":0},{"$f":"'3'!$CS$74","v":0},{"$f":"'3'!$CT$74","v":0},3,{"$f":"VLOOKUP(DS381,Přehled!$C$5:$AL$24,36)","v":""},null,null,null,null,null,null,null,null,null,null,null,null,null,null,null,{"$f":"'13'!$DO$12","v":0},{"$f":"'13'!$DP$12","v":0},{"$f":"'13'!$DQ$12","v":0},13,{"$f":"VLOOKUP(EM381,Přehled!$C$5:$AL$24,36)","v":""}]
[{"$f":"'4'!A92","v":0},{"$f":"'4'!B92","v":0},{"$f":"'4'!C92","v":0},{"$f":"SUMIF($B$5:$B$2024,Souhrn_hod[[#This Row],[Jméno]],$E$5:$E$2024)","v":0},{"$f":"'4'!D92","v":0},{"$f":"'4'!E92","v":0},{"$f":"'4'!F92","v":0},{"$f":"'4'!G92","v":0},{"$f":"'4'!H92","v":0},{"$f":"'4'!I92","v":0},{"$f":"'4'!J92","v":0},{"$f":"'4'!K92","v":0},{"$f":"'4'!L92","v":0},{"$f":"'4'!M92","v":0},{"$f":"'4'!N92","v":0},{"$f":"'4'!O92","v":0},{"$f":"'4'!P92","v":0},{"$f":"'4'!Q92","v":0},{"$f":"'4'!R92","v":0},{"$f":"'4'!S92","v":0},{"$f":"'4'!T92","v":0},{"$f":"'4'!U92","v":0},{"$f":"'4'!V92","v":0},{"$f":"'4'!W92","v":0},{"$f":"'4'!X92","v":0},{"$f":"'4'!Y92","v":0},{"$f":"'4'!Z92","v":0},{"$f":"'4'!AA92","v":0},{"$f":"'4'!AB92","v":0},{"$f":"'4'!AC92","v":0},{"$f":"'4'!AD92","v":0},{"$f":"'4'!AE92","v":0},{"$f":"'4'!AF92","v":0},{"$f":"'4'!AG92","v":0},{"$f":"'4'!AH92","v":0},{"$f":"'4'!AI92","v":0},{"$f":"'4'!AJ92","v":0},4,{"$f":"VLOOKUP(AL392,Přehled!$C$5:$AL$24,36)","v":""},null,null,null,null,null,null,null,null,null,null,null,null,null,null,null,null,null,null,null,null,null,null,null,null,null,null,null,null,null,{"$f":"'3'!$AO$85","v":0},{"$f":"'3'!$AP$85","v":0},{"$f":"'3'!$AQ$85","v":0},{"$f":"'3'!$AR$85","v":0},{"$f":"'3'!$AS$85","v":0},{"$f":"'3'!$AT$85","v":0},3,{"$f":"VLOOKUP(BW392,Přehled!$C$5:$AL$24,36)","v":""},null,null,null,null,null,null,null,null,null,null,null,null,null,null,null,null,null,null,null,null,{"$f":"'3'!$BP$85","v":0},{"$f":"'3'!$BQ$85","v":0},{"$f":"'3'!$BR$85","v":0},{"$f":"'3'!$BS$85","v":0},{"$f":"'3'!$BT$85","v":0},{"$f":"'3'!$BU$85","v":0},3,{"$f":"VLOOKUP(CY392,Přehled!$C$5:$AL$24,36)","v":""},null,null,null,null,null,null,null,null,null,null,null,null,null,null,null,{"$f":"'3'!$CR$85","v":0},{"$f":"'3'!$CS$85","v":0},{"$f":"'3'!$CT$85","v":0},3,{"$f":"VLOOKUP(DS392,Přehled!$C$5:$AL$24,36)","v":""},null,null,null,null,null,null,null,null,null,null,null,null,null,null,null,{"$f":"'13'!$DO$23","v":0},{"$f":"'13'!$DP$23","v":0},{"$f":"'13'!$DQ$23","v":0},13,{"$f":"VLOOKUP(EM392,Přehled!$C$5:$AL$24,36)","v":""}]
[{"$f":"'4'!A98","v":0},{"$f":"'4'!B98","v":0},{"$f":"'4'!C98","v":0},{"$f":"SUMIF($B$5:$B$2024,Souhrn_hod[[#This Row],[Jméno]],$E$5:$E$2024)","v":0},{"$f":"'4'!D98","v":0},{"$f":"'4'!E98","v":0},{"$f":"'4'!F98","v":0},{"$f":"'4'!G98","v":0},{"$f":"'4'!H98","v":0},{"$f":"'4'!I98","v":0},{"$f":"'4'!J98","v":0},{"$f":"'4'!K98","v":0},{"$f":"'4'!L98","v":0},{"$f":"'4'!M98","v":0},{"$f":"'4'!N98","v":0},{"$f":"'4'!O98","v":0},{"$f":"'4'!P98","v":0},{"$f":"'4'!Q98","v":0},{"$f":"'4'!R98","v":0},{"$f":"'4'!S98","v":0},{"$f":"'4'!T98","v":0},{"$f":"'4'!U98","v":0},{"$f":"'4'!V98","v":0},{"$f":"'4'!W98","v":0},{"$f":"'4'!X98","v":0},{"$f":"'4'!Y98","v":0},{"$f":"'4'!Z98","v":0},{"$f":"'4'!AA98","v":0},{"$f":"'4'!AB98","v":0},{"$f":"'4'!AC98","v":0},{"$f":"'4'!AD98","v":0},{"$f":"'4'!AE98","v":0},{"$f":"'4'!AF98","v":0},{"$f":"'4'!AG98","v":0},{"$f":"'4'!AH98","v":0},{"$f":"'4'!AI98","v":0},{"$f":"'4'!AJ98","v":0},4,{"$f":"VLOOKUP(AL398,Přehled!$C$5:$AL$24,36)","v":""},null,null,null,null,null,null,null,null,null,null,null,null,null,null,null,null,null,null,null,null,null,null,null,null,null,null,null,null,null,{"$f":"'3'!$AO$91","v":0},{"$f":"'3'!$AP$91","v":0},{"$f":"'3'!$AQ$91","v":0},{"$f":"'3'!$AR$91","v":0},{"$f":"'3'!$AS$91","v":0},{"$f":"'3'!$AT$91","v":0},3,{"$f":"VLOOKUP(BW398,Přehled!$C$5:$AL$24,36)","v":""},null,null,null,null,null,null,null,null,null,null,null,null,null,null,null,null,null,null,null,null,{"$f":"'3'!$BP$91","v":0},{"$f":"'3'!$BQ$91","v":0},{"$f":"'3'!$BR$91","v":0},{"$f":"'3'!$BS$91","v":0},{"$f":"'3'!$BT$91","v":0},{"$f":"'3'!$BU$91","v":0},3,{"$f":"VLOOKUP(CY398,Přehled!$C$5:$AL$24,36)","v":""},null,null,null,null,null,null,null,null,null,null,null,null,null,null,null,{"$f":"'3'!$CR$91","v":0},{"$f":"'3'!$CS$91","v":0},{"$f":"'3'!$CT$91","v":0},3,{"$f":"VLOOKUP(DS398,Přehled!$C$5:$AL$24,36)","v":""},null,null,null,null,null,null,null,null,null,null,null,null,null,null,null,{"$f":"'13'!$DO$29","v":0},{"$f":"'13'!$DP$29","v":0},{"$f":"'13'!$DQ$29","v":0},13,{"$f":"VLOOKUP(EM398,Přehled!$C$5:$AL$24,36)","v":""}]
[{"$f":"'4'!A108","v":0},{"$f":"'4'!B108","v":0},{"$f":"'4'!C108","v":0},{"$f":"SUMIF($B$5:$B$2024,Souhrn_hod[[#This Row],[Jméno]],$E$5:$E$2024)","v":0},{"$f":"'4'!D108","v":0},{"$f":"'4'!E108","v":0},{"$f":"'4'!F108","v":0},{"$f":"'4'!G108","v":0},{"$f":"'4'!H108","v":0},{"$f":"'4'!I108","v":0},{"$f":"'4'!J108","v":0},{"$f":"'4'!K108","v":0},{"$f":"'4'!L108","v":0},{"$f":"'4'!M108","v":0},{"$f":"'4'!N108","v":0},{"$f":"'4'!O108","v":0},{"$f":"'4'!P108","v":0},{"$f":"'4'!Q108","v":0},{"$f":"'4'!R108","v":0},{"$f":"'4'!S108","v":0},{"$f":"'4'!T108","v":0},{"$f":"'4'!U108","v":0},{"$f":"'4'!V108","v":0},{"$f":"'4'!W108","v":0},{"$f":"'4'!X108","v":0},{"$f":"'4'!Y108","v":0},{"$f":"'4'!Z108","v":0},{"$f":"'4'!AA108","v":0},{"$f":"'4'!AB108","v":0},{"$f":"'4'!AC108","v":0},{"$f":"'4'!AD108","v":0},{"$f":"'4'!AE108","v":0},{"$f":"'4'!AF108","v":0},{"$f":"'4'!AG108","v":0},{"$f":"'4'!AH108","v":0},{"$f":"'4'!AI108","v":0},{"$f":"'4'!AJ108","v":0},4,{"$f":"VLOOKUP(AL408,Přehled!$C$5:$AL$24,36)","v":""},null,null,null,null,null,null,null,null,null,null,null,null,null,null,null,null,null,null,null,null,null,null,null,null,null,null,null,null,null,{"$f":"'3'!$AO$101","v":0},{"$f":"'3'!$AP$101","v":0},{"$f":"'3'!$AQ$101","v":0},{"$f":"'3'!$AR$101","v":0},{"$f":"'3'!$AS$101","v":0},{"$f":"'3'!$AT$101","v":0},3,{"$f":"VLOOKUP(BW408,Přehled!$C$5:$AL$24,36)","v":""},null,null,null,null,null,null,null,null,null,null,null,null,null,null,null,null,null,null,null,null,{"$f":"'3'!$BP$101","v":0},{"$f":"'3'!$BQ$101","v":0},{"$f":"'3'!$BR$101","v":0},{"$f":"'3'!$BS$101","v":0},{"$f":"'3'!$BT$101","v":0},{"$f":"'3'!$BU$101","v":0},3,{"$f":"VLOOKUP(CY408,Přehled!$C$5:$AL$24,36)","v":""},null,null,null,null,null,null,null,null,null,null,null,null,null,null,null,{"$f":"'3'!$CR$101","v":0},{"$f":"'3'!$CS$101","v":0},{"$f":"'3'!$CT$101","v":0},3,{"$f":"VLOOKUP(DS408,Přehled!$C$5:$AL$24,36)","v":""},null,null,null,null,null,null,null,null,null,null,null,null,null,null,null,{"$f":"'14'!$DO$8","v":0},{"$f":"'14'!$DP$8","v":0},{"$f":"'14'!$DQ$8","v":0},14,{"$f":"VLOOKUP(EM408,Přehled!$C$5:$AL$24,36)","v":""}]
[{"$f":"'5'!A24","v":0},{"$f":"'5'!B24","v":0},{"$f":"'5'!C24","v":0},{"$f":"SUMIF($B$5:$B$2024,Souhrn_hod[[#This Row],[Jméno]],$E$5:$E$2024)","v":0},{"$f":"'5'!D24","v":0},{"$f":"'5'!E24","v":0},{"$f":"'5'!F24","v":0},{"$f":"'5'!G24","v":0},{"$f":"'5'!H24","v":0},{"$f":"'5'!I24","v":0},{"$f":"'5'!J24","v":0},{"$f":"'5'!K24","v":0},{"$f":"'5'!L24","v":0},{"$f":"'5'!M24","v":0},{"$f":"'5'!N24","v":0},{"$f":"'5'!O24","v":0},{"$f":"'5'!P24","v":0},{"$f":"'5'!Q24","v":0},{"$f":"'5'!R24","v":0},{"$f":"'5'!S24","v":0},{"$f":"'5'!T24","v":0},{"$f":"'5'!U24","v":0},{"$f":"'5'!V24","v":0},{"$f":"'5'!W24","v":0},{"$f":"'5'!X24","v":0},{"$f":"'5'!Y24","v":0},{"$f":"'5'!Z24","v":0},{"$f":"'5'!AA24","v":0},{"$f":"'5'!AB24","v":0},{"$f":"'5'!AC24","v":0},{"$f":"'5'!AD24","v":0},{"$f":"'5'!AE24","v":0},{"$f":"'5'!AF24","v":0},{"$f":"'5'!AG24","v":0},{"$f":"'5'!AH24","v":0},{"$f":"'5'!AI24","v":0},{"$f":"'5'!AJ24","v":0},5,{"$f":"VLOOKUP(AL425,Přehled!$C$5:$AL$24,36)","v":""},null,null,null,null,null,null,null,null,null,null,null,null,null,null,null,null,null,null,null,null,null,null,null,null,null,null,null,null,null,{"$f":"'3'!$AO$118","v":0},{"$f":"'3'!$AP$118","v":0},{"$f":"'3'!$AQ$118","v":0},{"$f":"'3'!$AR$118","v":0},{"$f":"'3'!$AS$118","v":0},{"$f":"'3'!$AT$118","v":0},3,{"$f":"VLOOKUP(BW425,Přehled!$C$5:$AL$24,36)","v":""},null,null,null,null,null,null,null,null,null,null,null,null,null,null,null,null,null,null,null,null,{"$f":"'3'!$BP$118","v":0},{"$f":"'3'!$BQ$118","v":0},{"$f":"'3'!$BR$118","v":0},{"$f":"'3'!$BS$118","v":0},{"$f":"'3'!$BT$118","v":0},{"$f":"'3'!$BU$118","v":0},3,{"$f":"VLOOKUP(CY425,Přehled!$C$5:$AL$24,36)","v":""},null,null,null,null,null,null,null,null,null,null,null,null,null,null,null,{"$f":"'3'!$CR$118","v":0},{"$f":"'3'!$CS$118","v":0},{"$f":"'3'!$CT$118","v":0},3,{"$f":"VLOOKUP(DS425,Přehled!$C$5:$AL$24,36)","v":""},null,null,null,null,null,null,null,null,null,null,null,null,null,null,null,{"$f":"'14'!$DO$25","v":0},{"$f":"'14'!$DP$25","v":0},{"$f":"'14'!$DQ$25","v":0},14,{"$f":"VLOOKUP(EM425,Přehled!$C$5:$AL$24,36)","v":""}]
[{"$f":"'5'!A34","v":0},{"$f":"'5'!B34","v":0},{"$f":"'5'!C34","v":0},{"$f":"SUMIF($B$5:$B$2024,Souhrn_hod[[#This Row],[Jméno]],$E$5:$E$2024)","v":0},{"$f":"'5'!D34","v":0},{"$f":"'5'!E34","v":0},{"$f":"'5'!F34","v":0},{"$f":"'5'!G34","v":0},{"$f":"'5'!H34","v":0},{"$f":"'5'!I34","v":0},{"$f":"'5'!J34","v":0},{"$f":"'5'!K34","v":0},{"$f":"'5'!L34","v":0},{"$f":"'5'!M34","v":0},{"$f":"'5'!N34","v":0},{"$f":"'5'!O34","v":0},{"$f":"'5'!P34","v":0},{"$f":"'5'!Q34","v":0},{"$f":"'5'!R34","v":0},{"$f":"'5'!S34","v":0},{"$f":"'5'!T34","v":0},{"$f":"'5'!U34","v":0},{"$f":"'5'!V34","v":0},{"$f":"'5'!W34","v":0},{"$f":"'5'!X34","v":0},{"$f":"'5'!Y34","v":0},{"$f":"'5'!Z34","v":0},{"$f":"'5'!AA34","v":0},{"$f":"'5'!AB34","v":0},{"$f":"'5'!AC34","v":0},{"$f":"'5'!AD34","v":0},{"$f":"'5'!AE34","v":0},{"$f":"'5'!AF34","v":0},{"$f":"'5'!AG34","v":0},{"$f":"'5'!AH34","v":0},{"$f":"'5'!AI34","v":0},{"$f":"'5'!AJ34","v":0},5,{"$f":"VLOOKUP(AL435,Přehled!$C$5:$AL$24,36)","v":""},null,null,null,null,null,null,null,null,null,null,null,null,null,null,null,null,null,null,null,null,null,null,null,null,null,null,null,null,null,{"$f":"'3'!$AO$128","v":0},{"$f":"'3'!$AP$128","v":0},{"$f":"'3'!$AQ$128","v":0},{"$f":"'3'!$AR$128","v":0},{"$f":"'3'!$AS$128","v":0},{"$f":"'3'!$AT$128","v":0},3,{"$f":"VLOOKUP(BW435,Přehled!$C$5:$AL$24,36)","v":""},null,null,null,null,null,null,null,null,null,null,null,null,null,null,null,null,null,null,null,null,{"$f":"'3'!$BP$128","v":0},{"$f":"'3'!$BQ$128","v":0},{"$f":"'3'!$BR$128","v":0},{"$f":"'3'!$BS$128","v":0},{"$f":"'3'!$BT$128","v":0},{"$f":"'3'!$BU$128","v":0},3,{"$f":"VLOOKUP(CY435,Přehled!$C$5:$AL$24,36)","v":""},null,null,null,null,null,null,null,null,null,null,null,null,null,null,null,{"$f":"'3'!$CR$128","v":0},{"$f":"'3'!$CS$128","v":0},{"$f":"'3'!$CT$128","v":0},3,{"$f":"VLOOKUP(DS435,Přehled!$C$5:$AL$24,36)","v":""},null,null,null,null,null,null,null,null,null,null,null,null,null,null,null,{"$f":"'14'!$DO$35","v":0},{"$f":"'14'!$DP$35","v":0},{"$f":"'14'!$DQ$35","v":0},14,{"$f":"VLOOKUP(EM435,Přehled!$C$5:$AL$24,36)","v":""}]
[{"$f":"'5'!A49","v":0},{"$f":"'5'!B49","v":0},{"$f":"'5'!C49","v":0},{"$f":"SUMIF($B$5:$B$2024,Souhrn_hod[[#This Row],[Jméno]],$E$5:$E$2024)","v":0},{"$f":"'5'!D49","v":0},{"$f":"'5'!E49","v":0},{"$f":"'5'!F49","v":0},{"$f":"'5'!G49","v":0},{"$f":"'5'!H49","v":0},{"$f":"'5'!I49","v":0},{"$f":"'5'!J49","v":0},{"$f":"'5'!K49","v":0},{"$f":"'5'!L49","v":0},{"$f":"'5'!M49","v":0},{"$f":"'5'!N49","v":0},{"$f":"'5'!O49","v":0},{"$f":"'5'!P49","v":0},{"$f":"'5'!Q49","v":0},{"$f":"'5'!R49","v":0},{"$f":"'5'!S49","v":0},{"$f":"'5'!T49","v":0},{"$f":"'5'!U49","v":0},{"$f":"'5'!V49","v":0},{"$f":"'5'!W49","v":0},{"$f":"'5'!X49","v":0},{"$f":"'5'!Y49","v":0},{"$f":"'5'!Z49","v":0},{"$f":"'5'!AA49","v":0},{"$f":"'5'!AB49","v":0},{"$f":"'5'!AC49","v":0},{"$f":"'5'!AD49","v":0},{"$f":"'5'!AE49","v":0},{"$f":"'5'!AF49","v":0},{"$f":"'5'!AG49","v":0},{"$f":"'5'!AH49","v":0},{"$f":"'5'!AI49","v":0},{"$f":"'5'!AJ49","v":0},5,{"$f":"VLOOKUP(AL450,Přehled!$C$5:$AL$24,36)","v":""},null,null,null,null,null,null,null,null,null,null,null,null,null,null,null,null,null,null,null,null,null,null,null,null,null,null,null,null,null,{"$f":"'3'!$AO$149","v":0},{"$f":"'3'!$AP$149","v":0},{"$f":"'3'!$AQ$149","v":0},{"$f":"'3'!$AR$149","v":0},{"$f":"'3'!$AS$149","v":0},{"$f":"'3'!$AT$149","v":0},3,{"$f":"VLOOKUP(BW450,Přehled!$C$5:$AL$24,36)","v":""},null,null,null,null,null,null,null,null,null,null,null,null,null,null,null,null,null,null,null,null,{"$f":"'3'!$BP$143","v":0},{"$f":"'3'!$BQ$143","v":0},{"$f":"'3'!$BR$143","v":0},{"$f":"'3'!$BS$143","v":0},{"$f":"'3'!$BT$143","v":0},{"$f":"'3'!$BU$143","v":0},3,{"$f":"VLOOKUP(CY450,Přehled!$C$5:$AL$24,36)","v":""},null,null,null,null,null,null,null,null,null,null,null,null,null,null,null,{"$f":"'3'!$CR$143","v":0},{"$f":"'3'!$CS$143","v":0},{"$f":"'3'!$CT$143","v":0},3,{"$f":"VLOOKUP(DS450,Přehled!$C$5:$AL$24,36)","v":""},null,null,null,null,null,null,null,null,null,null,null,null,null,null,null,{"$f":"'15'!$DO$19","v":0},{"$f":"'15'!$DP$19","v":0},{"$f":"'15'!$DQ$19","v":0},15,{"$f":"VLOOKUP(EM450,Přehled!$C$5:$AL$24,36)","v":""}]
[{"$f":"'5'!A58","v":0},{"$f":"'5'!B58","v":0},{"$f":"'5'!C58","v":0},{"$f":"SUMIF($B$5:$B$2024,Souhrn_hod[[#This Row],[Jméno]],$E$5:$E$2024)","v":0},{"$f":"'5'!D58","v":0},{"$f":"'5'!E58","v":0},{"$f":"'5'!F58","v":0},{"$f":"'5'!G58","v":0},{"$f":"'5'!H58","v":0},{"$f":"'5'!I58","v":0},{"$f":"'5'!J58","v":0},{"$f":"'5'!K58","v":0},{"$f":"'5'!L58","v":0},{"$f":"'5'!M58","v":0},{"$f":"'5'!N58","v":0},{"$f":"'5'!O58","v":0},{"$f":"'5'!P58","v":0},{"$f":"'5'!Q58","v":0},{"$f":"'5'!R58","v":0},{"$f":"'5'!S58","v":0},{"$f":"'5'!T58","v":0},{"$f":"'5'!U58","v":0},{"$f":"'5'!V58","v":0},{"$f":"'5'!W58","v":0},{"$f":"'5'!X58","v":0},{"$f":"'5'!Y58","v":0},{"$f":"'5'!Z58","v":0},{"$f":"'5'!AA58","v":0},{"$f":"'5'!AB58","v":0},{"$f":"'5'!AC58","v":0},{"$f":"'5'!AD58","v":0},{"$f":"'5'!AE58","v":0},{"$f":"'5'!AF58","v":0},{"$f":"'5'!AG58","v":0},{"$f":"'5'!AH58","v":0},{"$f":"'5'!AI58","v":0},{"$f":"'5'!AJ58","v":0},5,{"$f":"VLOOKUP(AL459,Přehled!$C$5:$AL$24,36)","v":""},null,null,null,null,null,null,null,null,null,null,null,null,null,null,null,null,null,null,null,null,null,null,null,null,null,null,null,null,null,{"$f":"'3'!$AO$152","v":0},{"$f":"'3'!$AP$152","v":0},{"$f":"'3'!$AQ$152","v":0},{"$f":"'3'!$AR$152","v":0},{"$f":"'3'!$AS$152","v":0},{"$f":"'3'!$AT$152","v":0},3,{"$f":"VLOOKUP(BW459,Přehled!$C$5:$AL$24,36)","v":""},null,null,null,null,null,null,null,null,null,null,null,null,null,null,null,null,null,null,null,null,{"$f":"'3'!$BP$152","v":0},{"$f":"'3'!$BQ$152","v":0},{"$f":"'3'!$BR$152","v":0},{"$f":"'3'!$BS$152","v":0},{"$f":"'3'!$BT$152","v":0},{"$f":"'3'!$BU$152","v":0},3,{"$f":"VLOOKUP(CY459,Přehled!$C$5:$AL$24,36)","v":""},null,null,null,null,null,null,null,null,null,null,null,null,null,null,null,{"$f":"'3'!$CR$152","v":0},{"$f":"'3'!$CS$152","v":0},{"$f":"'3'!$CT$152","v":0},3,{"$f":"VLOOKUP(DS459,Přehled!$C$5:$AL$24,36)","v":""},null,null,null,null,null,null,null,null,null,null,null,null,null,null,null,{"$f":"'15'!$DO$28","v":0},{"$f":"'15'!$DP$28","v":0},{"$f":"'15'!$DQ$28","v":0},15,{"$f":"VLOOKUP(EM459,Přehled!$C$5:$AL$24,36)","v":""}]
[{"$f":"'5'!A68","v":0},{"$f":"'5'!B68","v":0},{"$f":"'5'!C68","v":0},{"$f":"SUMIF($B$5:$B$2024,Souhrn_hod[[#This Row],[Jméno]],$E$5:$E$2024)","v":0},{"$f":"'5'!D68","v":0},{"$f":"'5'!E68","v":0},{"$f":"'5'!F68","v":0},{"$f":"'5'!G68","v":0},{"$f":"'5'!H68","v":0},{"$f":"'5'!I68","v":0},{"$f":"'5'!J68","v":0},{"$f":"'5'!K68","v":0},{"$f":"'5'!L68","v":0},{"$f":"'5'!M68","v":0},{"$f":"'5'!N68","v":0},{"$f":"'5'!O68","v":0},{"$f":"'5'!P68","v":0},{"$f":"'5'!Q68","v":0},{"$f":"'5'!R68","v":0},{"$f":"'5'!S68","v":0},{"$f":"'5'!T68","v":0},{"$f":"'5'!U68","v":0},{"$f":"'5'!V68","v":0},{"$f":"'5'!W68","v":0},{"$f":"'5'!X68","v":0},{"$f":"'5'!Y68","v":0},{"$f":"'5'!Z68","v":0},{"$f":"'5'!AA68","v":0},{"$f":"'5'!AB68","v":0},{"$f":"'5'!AC68","v":0},{"$f":"'5'!AD68","v":0},{"$f":"'5'!AE68","v":0},{"$f":"'5'!AF68","v":0},{"$f":"'5'!AG68","v":0},{"$f":"'5'!AH68","v":0},{"$f":"'5'!AI68","v":0},{"$f":"'5'!AJ68","v":0},5,{"$f":"VLOOKUP(AL469,Přehled!$C$5:$AL$24,36)","v":""},null,null,null,null,null,null,null,null,null,null,null,null,null,null,null,null,null,null,null,null,null,null,null,null,null,null,null,null,null,{"$f":"'3'!$AO$162","v":0},{"$f":"'3'!$AP$162","v":0},{"$f":"'3'!$AQ$162","v":0},{"$f":"'3'!$AR$162","v":0},{"$f":"'3'!$AS$162","v":0},{"$f":"'3'!$AT$162","v":0},3,{"$f":"VLOOKUP(BW469,Přehled!$C$5:$AL$24,36)","v":""},null,null,null,null,null,null,null,null,null,null,null,null,null,null,null,null,null,null,null,null,{"$f":"'3'!$BP$162","v":0},{"$f":"'3'!$BQ$162","v":0},{"$f":"'3'!$BR$162","v":0},{"$f":"'3'!$BS$162","v":0},{"$f":"'3'!$BT$162","v":0},{"$f":"'3'!$BU$162","v":0},3,{"$f":"VLOOKUP(CY469,Přehled!$C$5:$AL$24,36)","v":""},null,null,null,null,null,null,null,null,null,null,null,null,null,null,null,{"$f":"'3'!$CR$162","v":0},{"$f":"'3'!$CS$162","v":0},{"$f":"'3'!$CT$162","v":0},3,{"$f":"VLOOKUP(DS469,Přehled!$C$5:$AL$24,36)","v":""},null,null,null,null,null,null,null,null,null,null,null,null,null,null,null,{"$f":"'15'!$DO$38","v":0},{"$f":"'15'!$DP$38","v":0},{"$f":"'15'!$DQ$38","v":0},15,{"$f":"VLOOKUP(EM469,Přehled!$C$5:$AL$24,36)","v":""}]
[{"$f":"'5'!A74","v":0},{"$f":"'5'!B74","v":0},{"$f":"'5'!C74","v":0},{"$f":"SUMIF($B$5:$B$2024,Souhrn_hod[[#This Row],[Jméno]],$E$5:$E$2024)","v":0},{"$f":"'5'!D74","v":0},{"$f":"'5'!E74","v":0},{"$f":"'5'!F74","v":0},{"$f":"'5'!G74","v":0},{"$f":"'5'!H74","v":0},{"$f":"'5'!I74","v":0},{"$f":"'5'!J74","v":0},{"$f":"'5'!K74","v":0},{"$f":"'5'!L74","v":0},{"$f":"'5'!M74","v":0},{"$f":"'5'!N74","v":0},{"$f":"'5'!O74","v":0},{"$f":"'5'!P74","v":0},{"$f":"'5'!Q74","v":0},{"$f":"'5'!R74","v":0},{"$f":"'5'!S74","v":0},{"$f":"'5'!T74","v":0},{"$f":"'5'!U74","v":0},{"$f":"'5'!V74","v":0},{"$f":"'5'!W74","v":0},{"$f":"'5'!X74","v":0},{"$f":"'5'!Y74","v":0},{"$f":"'5'!Z74","v":0},{"$f":"'5'!AA74","v":0},{"$f":"'5'!AB74","v":0},{"$f":"'5'!AC74","v":0},{"$f":"'5'!AD74","v":0},{"$f":"'5'!AE74","v":0},{"$f":"'5'!AF74","v":0},{"$f":"'5'!AG74","v":0},{"$f":"'5'!AH74","v":0},{"$f":"'5'!AI74","v":0},{"$f":"'5'!AJ74","v":0},5,{"$f":"VLOOKUP(AL475,Přehled!$C$5:$AL$24,36)","v":""},null,null,null,null,null,null,null,null,null,null,null,null,null,null,null,null,null,null,null,null,null,null,null,null,null,null,null,null,null,{"$f":"'4'!$AO$13","v":0},{"$f":"'4'!$AP$13","v":0},{"$f":"'4'!$AQ$13","v":0},{"$f":"'4'!$AR$13","v":0},{"$f":"'4'!$AS$13","v":0},{"$f":"'4'!$AT$13","v":0},4,{"$f":"VLOOKUP(BW475,Přehled!$C$5:$AL$24,36)","v":""},null,null,null,null,null,null,null,null,null,null,null,null,null,null,null,null,null,null,null,null,{"$f":"'4'!$BP$13","v":0},{"$f":"'4'!$BQ$13","v":0},{"$f":"'4'!$BR$13","v":0},{"$f":"'4'!$BS$13","v":0},{"$f":"'4'!$BT$13","v":0},{"$f":"'4'!$BU$13","v":0},4,{"$f":"VLOOKUP(CY475,Přehled!$C$5:$AL$24,36)","v":""},null,null,null,null,null,null,null,null,null,null,null,null,null,null,null,{"$f":"'4'!$CR$13","v":0},{"$f":"'4'!$CS$13","v":0},{"$f":"'4'!$CT$13","v":0},4,{"$f":"VLOOKUP(DS475,Přehled!$C$5:$AL$24,36)","v":""},null,null,null,null,null,null,null,null,null,null,null,null,null,null,null,{"$f":"'16'!$DO$13","v":0},{"$f":"'16'!$DP$13","v":0},{"$f":"'16'!$DQ$13","v":0},16,{"$f":"VLOOKUP(EM475,Přehled!$C$5:$AL$24,36)","v":""}]
[{"$f":"'5'!A84","v":0},{"$f":"'5'!B84","v":0},{"$f":"'5'!C84","v":0},{"$f":"SUMIF($B$5:$B$2024,Souhrn_hod[[#This Row],[Jméno]],$E$5:$E$2024)","v":0},{"$f":"'5'!D84","v":0},{"$f":"'5'!E84","v":0},{"$f":"'5'!F84","v":0},{"$f":"'5'!G84","v":0},{"$f":"'5'!H84","v":0},{"$f":"'5'!I84","v":0},{"$f":"'5'!J84","v":0},{"$f":"'5'!K84","v":0},{"$f":"'5'!L84","v":0},{"$f":"'5'!M84","v":0},{"$f":"'5'!N84","v":0},{"$f":"'5'!O84","v":0},{"$f":"'5'!P84","v":0},{"$f":"'5'!Q84","v":0},{"$f":"'5'!R84","v":0},{"$f":"'5'!S84","v":0},{"$f":"'5'!T84","v":0},{"$f":"'5'!U84","v":0},{"$f":"'5'!V84","v":0},{"$f":"'5'!W84","v":0},{"$f":"'5'!X84","v":0},{"$f":"'5'!Y84","v":0},{"$f":"'5'!Z84","v":0},{"$f":"'5'!AA84","v":0},{"$f":"'5'!AB84","v":0},{"$f":"'5'!AC84","v":0},{"$f":"'5'!AD84","v":0},{"$f":"'5'!AE84","v":0},{"$f":"'5'!AF84","v":0},{"$f":"'5'!AG84","v":0},{"$f":"'5'!AH84","v":0},{"$f":"'5'!AI84","v":0},{"$f":"'5'!AJ84","v":0},5,{"$f":"VLOOKUP(AL485,Přehled!$C$5:$AL$24,36)","v":""},null,null,null,null,null,null,null,null,null,null,null,null,null,null,null,null,null,null,null,null,null,null,null,null,null,null,null,null,null,{"$f":"'4'!$AO$23","v":0},{"$f":"'4'!$AP$23","v":0},{"$f":"'4'!$AQ$23","v":0},{"$f":"'4'!$AR$23","v":0},{"$f":"'4'!$AS$23","v":0},{"$f":"'4'!$AT$23","v":0},4,{"$f":"VLOOKUP(BW485,Přehled!$C$5:$AL$24,36)","v":""},null,null,null,null,null,null,null,null,null,null,null,null,null,null,null,null,null,null,null,null,{"$f":"'4'!$BP$23","v":0},{"$f":"'4'!$BQ$23","v":0},{"$f":"'4'!$BR$23","v":0},{"$f":"'4'!$BS$23","v":0},{"$f":"'4'!$BT$23","v":0},{"$f":"'4'!$BU$23","v":0},4,{"$f":"VLOOKUP(CY485,Přehled!$C$5:$AL$24,36)","v":""},null,null,null,null,null,null,null,null,null,null,null,null,null,null,null,{"$f":"'4'!$CR$23","v":0},{"$f":"'4'!$CS$23","v":0},{"$f":"'4'!$CT$23","v":0},4,{"$f":"VLOOKUP(DS485,Přehled!$C$5:$AL$24,36)","v":""},null,null,null,null,null,null,null,null,null,null,null,null,null,null,null,{"$f":"'16'!$DO$23","v":0},{"$f":"'16'!$DP$23","v":0},{"$f":"'16'!$DQ$23","v":0},16,{"$f":"VLOOKUP(EM485,Přehled!$C$5:$AL$24,36)","v":""}]
[{"$f":"'5'!A101","v":0},{"$f":"'5'!B101","v":0},{"$f":"'5'!C101","v":0},{"$f":"SUMIF($B$5:$B$2024,Souhrn_hod[[#This Row],[Jméno]],$E$5:$E$2024)","v":0},{"$f":"'5'!D101","v":0},{"$f":"'5'!E101","v":0},{"$f":"'5'!F101","v":0},{"$f":"'5'!G101","v":0},{"$f":"'5'!H101","v":0},{"$f":"'5'!I101","v":0},{"$f":"'5'!J101","v":0},{"$f":"'5'!K101","v":0},{"$f":"'5'!L101","v":0},{"$f":"'5'!M101","v":0},{"$f":"'5'!N101","v":0},{"$f":"'5'!O101","v":0},{"$f":"'5'!P101","v":0},{"$f":"'5'!Q101","v":0},{"$f":"'5'!R101","v":0},{"$f":"'5'!S101","v":0},{"$f":"'5'!T101","v":0},{"$f":"'5'!U101","v":0},{"$f":"'5'!V101","v":0},{"$f":"'5'!W101","v":0},{"$f":"'5'!X101","v":0},{"$f":"'5'!Y101","v":0},{"$f":"'5'!Z101","v":0},{"$f":"'5'!AA101","v":0},{"$f":"'5'!AB101","v":0},{"$f":"'5'!AC101","v":0},{"$f":"'5'!AD101","v":0},{"$f":"'5'!AE101","v":0},{"$f":"'5'!AF101","v":0},{"$f":"'5'!AG101","v":0},{"$f":"'5'!AH101","v":0},{"$f":"'5'!AI101","v":0},{"$f":"'5'!AJ101","v":0},5,{"$f":"VLOOKUP(AL502,Přehled!$C$5:$AL$24,36)","v":""},null,null,null,null,null,null,null,null,null,null,null,null,null,null,null,null,null,null,null,null,null,null,null,null,null,null,null,null,null,{"$f":"'4'!$AO$40","v":0},{"$f":"'4'!$AP$40","v":0},{"$f":"'4'!$AQ$40","v":0},{"$f":"'4'!$AR$40","v":0},{"$f":"'4'!$AS$40","v":0},{"$f":"'4'!$AT$40","v":0},4,{"$f":"VLOOKUP(BW502,Přehled!$C$5:$AL$24,36)","v":""},null,null,null,null,null,null,null,null,null,null,null,null,null,null,null,null,null,null,null,null,{"$f":"'4'!$BP$40","v":0},{"$f":"'4'!$BQ$40","v":0},{"$f":"'4'!$BR$40","v":0},{"$f":"'4'!$BS$40","v":0},{"$f":"'4'!$BT$40","v":0},{"$f":"'4'!$BU$40","v":0},4,{"$f":"VLOOKUP(CY502,Přehled!$C$5:$AL$24,36)","v":""},null,null,null,null,null,null,null,null,null,null,null,null,null,null,null,{"$f":"'4'!$CR$40","v":0},{"$f":"'4'!$CS$40","v":0},{"$f":"'4'!$CT$40","v":0},4,{"$f":"VLOOKUP(DS502,Přehled!$C$5:$AL$24,36)","v":""},null,null,null,null,null,null,null,null,null,null,null,null,null,null,null,{"$f":"'17'!$DO$9","v":0},{"$f":"'17'!$DP$9","v":0},{"$f":"'17'!$DQ$9","v":0},17,{"$f":"VLOOKUP(EM502,Přehled!$C$5:$AL$24,36)","v":""}]
[{"$f":"'5'!A106","v":0},{"$f":"'5'!B106","v":0},{"$f":"'5'!C106","v":0},{"$f":"SUMIF($B$5:$B$2024,Souhrn_hod[[#This Row],[Jméno]],$E$5:$E$2024)","v":0},{"$f":"'5'!D106","v":0},{"$f":"'5'!E106","v":0},{"$f":"'5'!F106","v":0},{"$f":"'5'!G106","v":0},{"$f":"'5'!H106","v":0},{"$f":"'5'!I106","v":0},{"$f":"'5'!J106","v":0},{"$f":"'5'!K106","v":0},{"$f":"'5'!L106","v":0},{"$f":"'5'!M106","v":0},{"$f":"'5'!N106","v":0},{"$f":"'5'!O106","v":0},{"$f":"'5'!P106","v":0},{"$f":"'5'!Q106","v":0},{"$f":"'5'!R106","v":0},{"$f":"'5'!S106","v":0},{"$f":"'5'!T106","v":0},{"$f":"'5'!U106","v":0},{"$f":"'5'!V106","v":0},{"$f":"'5'!W106","v":0},{"$f":"'5'!X106","v":0},{"$f":"'5'!Y106","v":0},{"$f":"'5'!Z106","v":0},{"$f":"'5'!AA106","v":0},{"$f":"'5'!AB106","v":0},{"$f":"'5'!AC106","v":0},{"$f":"'5'!AD106","v":0},{"$f":"'5'!AE106","v":0},{"$f":"'5'!AF106","v":0},{"$f":"'5'!AG106","v":0},{"$f":"'5'!AH106","v":0},{"$f":"'5'!AI106","v":0},{"$f":"'5'!AJ106","v":0},5,{"$f":"VLOOKUP(AL507,Přehled!$C$5:$AL$24,36)","v":""},null,null,null,null,null,null,null,null,null,null,null,null,null,null,null,null,null,null,null,null,null,null,null,null,null,null,null,null,null,{"$f":"'4'!$AO$45","v":0},{"$f":"'4'!$AP$45","v":0},{"$f":"'4'!$AQ$45","v":0},{"$f":"'4'!$AR$45","v":0},{"$f":"'4'!$AS$45","v":0},{"$f":"'4'!$AT$45","v":0},4,{"$f":"VLOOKUP(BW507,Přehled!$C$5:$AL$24,36)","v":""},null,null,null,null,null,null,null,null,null,null,null,null,null,null,null,null,null,null,null,null,{"$f":"'4'!$BP$45","v":0},{"$f":"'4'!$BQ$45","v":0},{"$f":"'4'!$BR$45","v":0},{"$f":"'4'!$BS$45","v":0},{"$f":"'4'!$BT$45","v":0},{"$f":"'4'!$BU$45","v":0},4,{"$f":"VLOOKUP(CY507,Přehled!$C$5:$AL$24,36)","v":""},null,null,null,null,null,null,null,null,null,null,null,null,null,null,null,{"$f":"'4'!$CR$45","v":0},{"$f":"'4'!$CS$45","v":0},{"$f":"'4'!$CT$45","v":0},4,{"$f":"VLOOKUP(DS507,Přehled!$C$5:$AL$24,36)","v":""},null,null,null,null,null,null,null,null,null,null,null,null,null,null,null,{"$f":"'17'!$DO$14","v":0},{"$f":"'17'!$DP$14","v":0},{"$f":"'17'!$DQ$14","v":0},17,{"$f":"VLOOKUP(EM507,Přehled!$C$5:$AL$24,36)","v":""}]
[{"$f":"'6'!A17","v":0},{"$f":"'6'!B17","v":0},{"$f":"'6'!C17","v":0},{"$f":"SUMIF($B$5:$B$2024,Souhrn_hod[[#This Row],[Jméno]],$E$5:$E$2024)","v":0},{"$f":"'6'!D17","v":0},{"$f":"'6'!E17","v":0},{"$f":"'6'!F17","v":0},{"$f":"'6'!G17","v":0},{"$f":"'6'!H17","v":0},{"$f":"'6'!I17","v":0},{"$f":"'6'!J17","v":0},{"$f":"'6'!K17","v":0},{"$f":"'6'!L17","v":0},{"$f":"'6'!M17","v":0},{"$f":"'6'!N17","v":0},{"$f":"'6'!O17","v":0},{"$f":"'6'!P17","v":0},{"$f":"'6'!Q17","v":0},{"$f":"'6'!R17","v":0},{"$f":"'6'!S17","v":0},{"$f":"'6'!T17","v":0},{"$f":"'6'!U17","v":0},{"$f":"'6'!V17","v":0},{"$f":"'6'!W17","v":0},{"$f":"'6'!X17","v":0},{"$f":"'6'!Y17","v":0},{"$f":"'6'!Z17","v":0},{"$f":"'6'!AA17","v":0},{"$f":"'6'!AB17","v":0},{"$f":"'6'!AC17","v":0},{"$f":"'6'!AD17","v":0},{"$f":"'6'!AE17","v":0},{"$f":"'6'!AF17","v":0},{"$f":"'6'!AG17","v":0},{"$f":"'6'!AH17","v":0},{"$f":"'6'!AI17","v":0},{"$f":"'6'!AJ17","v":0},6,{"$f":"VLOOKUP(AL519,Přehled!$C$5:$AL$24,36)","v":""},null,null,null,null,null,null,null,null,null,null,null,null,null,null,null,null,null,null,null,null,null,null,null,null,null,null,null,null,null,{"$f":"'4'!$AO$57","v":0},{"$f":"'4'!$AP$57","v":0},{"$f":"'4'!$AQ$57","v":0},{"$f":"'4'!$AR$57","v":0},{"$f":"'4'!$AS$57","v":0},{"$f":"'4'!$AT$57","v":0},4,{"$f":"VLOOKUP(BW519,Přehled!$C$5:$AL$24,36)","v":""},null,null,null,null,null,null,null,null,null,null,null,null,null,null,null,null,null,null,null,null,{"$f":"'4'!$BP$57","v":0},{"$f":"'4'!$BQ$57","v":0},{"$f":"'4'!$BR$57","v":0},{"$f":"'4'!$BS$57","v":0},{"$f":"'4'!$BT$57","v":0},{"$f":"'4'!$BU$57","v":0},4,{"$f":"VLOOKUP(CY519,Přehled!$C$5:$AL$24,36)","v":""},null,null,null,null,null,null,null,null,null,null,null,null,null,null,null,{"$f":"'4'!$CR$57","v":0},{"$f":"'4'!$CS$57","v":0},{"$f":"'4'!$CT$57","v":0},4,{"$f":"VLOOKUP(DS519,Přehled!$C$5:$AL$24,36)","v":""},null,null,null,null,null,null,null,null,null,null,null,null,null,null,null,{"$f":"'17'!$DO$26","v":0},{"$f":"'17'!$DP$26","v":0},{"$f":"'17'!$DQ$26","v":0},17,{"$f":"VLOOKUP(EM519,Přehled!$C$5:$AL$24,36)","v":""}]
[{"$f":"'6'!A34","v":0},{"$f":"'6'!B34","v":0},{"$f":"'6'!C34","v":0},{"$f":"SUMIF($B$5:$B$2024,Souhrn_hod[[#This Row],[Jméno]],$E$5:$E$2024)","v":0},{"$f":"'6'!D34","v":0},{"$f":"'6'!E34","v":0},{"$f":"'6'!F34","v":0},{"$f":"'6'!G34","v":0},{"$f":"'6'!H34","v":0},{"$f":"'6'!I34","v":0},{"$f":"'6'!J34","v":0},{"$f":"'6'!K34","v":0},{"$f":"'6'!L34","v":0},{"$f":"'6'!M34","v":0},{"$f":"'6'!N34","v":0},{"$f":"'6'!O34","v":0},{"$f":"'6'!P34","v":0},{"$f":"'6'!Q34","v":0},{"$f":"'6'!R34","v":0},{"$f":"'6'!S34","v":0},{"$f":"'6'!T34","v":0},{"$f":"'6'!U34","v":0},{"$f":"'6'!V34","v":0},{"$f":"'6'!W34","v":0},{"$f":"'6'!X34","v":0},{"$f":"'6'!Y34","v":0},{"$f":"'6'!Z34","v":0},{"$f":"'6'!AA34","v":0},{"$f":"'6'!AB34","v":0},{"$f":"'6'!AC34","v":0},{"$f":"'6'!AD34","v":0},{"$f":"'6'!AE34","v":0},{"$f":"'6'!AF34","v":0},{"$f":"'6'!AG34","v":0},{"$f":"'6'!AH34","v":0},{"$f":"'6'!AI34","v":0},{"$f":"'6'!AJ34","v":0},6,{"$f":"VLOOKUP(AL536,Přehled!$C$5:$AL$24,36)","v":""},null,null,null,null,null,null,null,null,null,null,null,null,null,null,null,null,null,null,null,null,null,null,null,null,null,null,null,null,null,{"$f":"'4'!$AO$74","v":0},{"$f":"'4'!$AP$74","v":0},{"$f":"'4'!$AQ$74","v":0},{"$f":"'4'!$AR$74","v":0},{"$f":"'4'!$AS$74","v":0},{"$f":"'4'!$AT$74","v":0},4,{"$f":"VLOOKUP(BW536,Přehled!$C$5:$AL$24,36)","v":""},null,null,null,null,null,null,null,null,null,null,null,null,null,null,null,null,null,null,null,null,{"$f":"'4'!$BP$74","v":0},{"$f":"'4'!$BQ$74","v":0},{"$f":"'4'!$BR$74","v":0},{"$f":"'4'!$BS$74","v":0},{"$f":"'4'!$BT$74","v":0},{"$f":"'4'!$BU$74","v":0},4,{"$f":"VLOOKUP(CY536,Přehled!$C$5:$AL$24,36)","v":""},null,null,null,null,null,null,null,null,null,null,null,null,null,null,null,{"$f":"'4'!$CR$74","v":0},{"$f":"'4'!$CS$74","v":0},{"$f":"'4'!$CT$74","v":0},4,{"$f":"VLOOKUP(DS536,Přehled!$C$5:$AL$24,36)","v":""},null,null,null,null,null,null,null,null,null,null,null,null,null,null,null,{"$f":"'18'!$DO$12","v":0},{"$f":"'18'!$DP$12","v":0},{"$f":"'18'!$DQ$12","v":0},18,{"$f":"VLOOKUP(EM536,Přehled!$C$5:$AL$24,36)","v":""}]
[{"$f":"'6'!A40","v":0},{"$f":"'6'!B40","v":0},{"$f":"'6'!C40","v":0},{"$f":"SUMIF($B$5:$B$2024,Souhrn_hod[[#This Row],[Jméno]],$E$5:$E$2024)","v":0},{"$f":"'6'!D40","v":0},{"$f":"'6'!E40","v":0},{"$f":"'6'!F40","v":0},{"$f":"'6'!G40","v":0},{"$f":"'6'!H40","v":0},{"$f":"'6'!I40","v":0},{"$f":"'6'!J40","v":0},{"$f":"'6'!K40","v":0},{"$f":"'6'!L40","v":0},{"$f":"'6'!M40","v":0},{"$f":"'6'!N40","v":0},{"$f":"'6'!O40","v":0},{"$f":"'6'!P40","v":0},{"$f":"'6'!Q40","v":0},{"$f":"'6'!R40","v":0},{"$f":"'6'!S40","v":0},{"$f":"'6'!T40","v":0},{"$f":"'6'!U40","v":0},{"$f":"'6'!V40","v":0},{"$f":"'6'!W40","v":0},{"$f":"'6'!X40","v":0},{"$f":"'6'!Y40","v":0},{"$f":"'6'!Z40","v":0},{"$f":"'6'!AA40","v":0},{"$f":"'6'!AB40","v":0},{"$f":"'6'!AC40","v":0},{"$f":"'6'!AD40","v":0},{"$f":"'6'!AE40","v":0},{"$f":"'6'!AF40","v":0},{"$f":"'6'!AG40","v":0},{"$f":"'6'!AH40","v":0},{"$f":"'6'!AI40","v":0},{"$f":"'6'!AJ40","v":0},6,{"$f":"VLOOKUP(AL542,Přehled!$C$5:$AL$24,36)","v":""},null,null,null,null,null,null,null,null,null,null,null,null,null,null,null,null,null,null,null,null,null,null,null,null,null,null,null,null,null,{"$f":"'4'!$AO$80","v":0},{"$f":"'4'!$AP$80","v":0},{"$f":"'4'!$AQ$80","v":0},{"$f":"'4'!$AR$80","v":0},{"$f":"'4'!$AS$80","v":0},{"$f":"'4'!$AT$80","v":0},4,{"$f":"VLOOKUP(BW542,Přehled!$C$5:$AL$24,36)","v":""},null,null,null,null,null,null,null,null,null,null,null,null,null,null,null,null,null,null,null,null,{"$f":"'4'!$BP$80","v":0},{"$f":"'4'!$BQ$80","v":0},{"$f":"'4'!$BR$80","v":0},{"$f":"'4'!$BS$80","v":0},{"$f":"'4'!$BT$80","v":0},{"$f":"'4'!$BU$80","v":0},4,{"$f":"VLOOKUP(CY542,Přehled!$C$5:$AL$24,36)","v":""},null,null,null,null,null,null,null,null,null,null,null,null,null,null,null,{"$f":"'4'!$CR$80","v":0},{"$f":"'4'!$CS$80","v":0},{"$f":"'4'!$CT$80","v":0},4,{"$f":"VLOOKUP(DS542,Přehled!$C$5:$AL$24,36)","v":""},null,null,null,null,null,null,null,null,null,null,null,null,null,null,null,{"$f":"'18'!$DO$18","v":0},{"$f":"'18'!$DP$18","v":0},{"$f":"'18'!$DQ$18","v":0},18,{"$f":"VLOOKUP(EM542,Přehled!$C$5:$AL$24,36)","v":""}]
[{"$f":"'6'!A50","v":0},{"$f":"'6'!B50","v":0},{"$f":"'6'!C50","v":0},{"$f":"SUMIF($B$5:$B$2024,Souhrn_hod[[#This Row],[Jméno]],$E$5:$E$2024)","v":0},{"$f":"'6'!D50","v":0},{"$f":"'6'!E50","v":0},{"$f":"'6'!F50","v":0},{"$f":"'6'!G50","v":0},{"$f":"'6'!H50","v":0},{"$f":"'6'!I50","v":0},{"$f":"'6'!J50","v":0},{"$f":"'6'!K50","v":0},{"$f":"'6'!L50","v":0},{"$f":"'6'!M50","v":0},{"$f":"'6'!N50","v":0},{"$f":"'6'!O50","v":0},{"$f":"'6'!P50","v":0},{"$f":"'6'!Q50","v":0},{"$f":"'6'!R50","v":0},{"$f":"'6'!S50","v":0},{"$f":"'6'!T50","v":0},{"$f":"'6'!U50","v":0},{"$f":"'6'!V50","v":0},{"$f":"'6'!W50","v":0},{"$f":"'6'!X50","v":0},{"$f":"'6'!Y50","v":0},{"$f":"'6'!Z50","v":0},{"$f":"'6'!AA50","v":0},{"$f":"'6'!AB50","v":0},{"$f":"'6'!AC50","v":0},{"$f":"'6'!AD50","v":0},{"$f":"'6'!AE50","v":0},{"$f":"'6'!AF50","v":0},{"$f":"'6'!AG50","v":0},{"$f":"'6'!AH50","v":0},{"$f":"'6'!AI50","v":0},{"$f":"'6'!AJ50","v":0},6,{"$f":"VLOOKUP(AL552,Přehled!$C$5:$AL$24,36)","v":""},null,null,null,null,null,null,null,null,null,null,null,null,null,null,null,null,null,null,null,null,null,null,null,null,null,null,null,null,null,{"$f":"'4'!$AO$90","v":0},{"$f":"'4'!$AP$90","v":0},{"$f":"'4'!$AQ$90","v":0},{"$f":"'4'!$AR$90","v":0},{"$f":"'4'!$AS$90","v":0},{"$f":"'4'!$AT$90","v":0},4,{"$f":"VLOOKUP(BW552,Přehled!$C$5:$AL$24,36)","v":""},null,null,null,null,null,null,null,null,null,null,null,null,null,null,null,null,null,null,null,null,{"$f":"'4'!$BP$90","v":0},{"$f":"'4'!$BQ$90","v":0},{"$f":"'4'!$BR$90","v":0},{"$f":"'4'!$BS$90","v":0},{"$f":"'4'!$BT$90","v":0},{"$f":"'4'!$BU$90","v":0},4,{"$f":"VLOOKUP(CY552,Přehled!$C$5:$AL$24,36)","v":""},null,null,null,null,null,null,null,null,null,null,null,null,null,null,null,{"$f":"'4'!$CR$90","v":0},{"$f":"'4'!$CS$90","v":0},{"$f":"'4'!$CT$90","v":0},4,{"$f":"VLOOKUP(DS552,Přehled!$C$5:$AL$24,36)","v":""},null,null,null,null,null,null,null,null,null,null,null,null,null,null,null,{"$f":"'18'!$DO$28","v":0},{"$f":"'18'!$DP$28","v":0},{"$f":"'18'!$DQ$28","v":0},18,{"$f":"VLOOKUP(EM552,Přehled!$C$5:$AL$24,36)","v":""}]
[{"$f":"'6'!A67","v":0},{"$f":"'6'!B67","v":0},{"$f":"'6'!C67","v":0},{"$f":"SUMIF($B$5:$B$2024,Souhrn_hod[[#This Row],[Jméno]],$E$5:$E$2024)","v":0},{"$f":"'6'!D67","v":0},{"$f":"'6'!E67","v":0},{"$f":"'6'!F67","v":0},{"$f":"'6'!G67","v":0},{"$f":"'6'!H67","v":0},{"$f":"'6'!I67","v":0},{"$f":"'6'!J67","v":0},{"$f":"'6'!K67","v":0},{"$f":"'6'!L67","v":0},{"$f":"'6'!M67","v":0},{"$f":"'6'!N67","v":0},{"$f":"'6'!O67","v":0},{"$f":"'6'!P67","v":0},{"$f":"'6'!Q67","v":0},{"$f":"'6'!R67","v":0},{"$f":"'6'!S67","v":0},{"$f":"'6'!T67","v":0},{"$f":"'6'!U67","v":0},{"$f":"'6'!V67","v":0},{"$f":"'6'!W67","v":0},{"$f":"'6'!X67","v":0},{"$f":"'6'!Y67","v":0},{"$f":"'6'!Z67","v":0},{"$f":"'6'!AA67","v":0},{"$f":"'6'!AB67","v":0},{"$f":"'6'!AC67","v":0},{"$f":"'6'!AD67","v":0},{"$f":"'6'!AE67","v":0},{"$f":"'6'!AF67","v":0},{"$f":"'6'!AG67","v":0},{"$f":"'6'!AH67","v":0},{"$f":"'6'!AI67","v":0},{"$f":"'6'!AJ67","v":0},6,{"$f":"VLOOKUP(AL569,Přehled!$C$5:$AL$24,36)","v":""},null,null,null,null,null,null,null,null,null,null,null,null,null,null,null,null,null,null,null,null,null,null,null,null,null,null,null,null,null,{"$f":"'4'!$AO$107","v":0},{"$f":"'4'!$AP$107","v":0},{"$f":"'4'!$AQ$107","v":0},{"$f":"'4'!$AR$107","v":0},{"$f":"'4'!$AS$107","v":0},{"$f":"'4'!$AT$107","v":0},4,{"$f":"VLOOKUP(BW569,Přehled!$C$5:$AL$24,36)","v":""},null,null,null,null,null,null,null,null,null,null,null,null,null,null,null,null,null,null,null,null,{"$f":"'4'!$BP$107","v":0},{"$f":"'4'!$BQ$107","v":0},{"$f":"'4'!$BR$107","v":0},{"$f":"'4'!$BS$107","v":0},{"$f":"'4'!$BT$107","v":0},{"$f":"'4'!$BU$107","v":0},4,{"$f":"VLOOKUP(CY569,Přehled!$C$5:$AL$24,36)","v":""},null,null,null,null,null,null,null,null,null,null,null,null,null,null,null,{"$f":"'4'!$CR$107","v":0},{"$f":"'4'!$CS$107","v":0},{"$f":"'4'!$CT$107","v":0},4,{"$f":"VLOOKUP(DS569,Přehled!$C$5:$AL$24,36)","v":""},null,null,null,null,null,null,null,null,null,null,null,null,null,null,null,{"$f":"'19'!$DO$14","v":0},{"$f":"'19'!$DP$14","v":0},{"$f":"'19'!$DQ$14","v":0},19,{"$f":"VLOOKUP(EM569,Přehled!$C$5:$AL$24,36)","v":""}]
[{"$f":"'6'!A78","v":0},{"$f":"'6'!B78","v":0},{"$f":"'6'!C78","v":0},{"$f":"SUMIF($B$5:$B$2024,Souhrn_hod[[#This Row],[Jméno]],$E$5:$E$2024)","v":0},{"$f":"'6'!D78","v":0},{"$f":"'6'!E78","v":0},{"$f":"'6'!F78","v":0},{"$f":"'6'!G78","v":0},{"$f":"'6'!H78","v":0},{"$f":"'6'!I78","v":0},{"$f":"'6'!J78","v":0},{"$f":"'6'!K78","v":0},{"$f":"'6'!L78","v":0},{"$f":"'6'!M78","v":0},{"$f":"'6'!N78","v":0},{"$f":"'6'!O78","v":0},{"$f":"'6'!P78","v":0},{"$f":"'6'!Q78","v":0},{"$f":"'6'!R78","v":0},{"$f":"'6'!S78","v":0},{"$f":"'6'!T78","v":0},{"$f":"'6'!U78","v":0},{"$f":"'6'!V78","v":0},{"$f":"'6'!W78","v":0},{"$f":"'6'!X78","v":0},{"$f":"'6'!Y78","v":0},{"$f":"'6'!Z78","v":0},{"$f":"'6'!AA78","v":0},{"$f":"'6'!AB78","v":0},{"$f":"'6'!AC78","v":0},{"$f":"'6'!AD78","v":0},{"$f":"'6'!AE78","v":0},{"$f":"'6'!AF78","v":0},{"$f":"'6'!AG78","v":0},{"$f":"'6'!AH78","v":0},{"$f":"'6'!AI78","v":0},{"$f":"'6'!AJ78","v":0},6,{"$f":"VLOOKUP(AL580,Přehled!$C$5:$AL$24,36)","v":""},null,null,null,null,null,null,null,null,null,null,null,null,null,null,null,null,null,null,null,null,null,null,null,null,null,null,null,null,null,{"$f":"'4'!$AO$118","v":0},{"$f":"'4'!$AP$118","v":0},{"$f":"'4'!$AQ$118","v":0},{"$f":"'4'!$AR$118","v":0},{"$f":"'4'!$AS$118","v":0},{"$f":"'4'!$AT$118","v":0},4,{"$f":"VLOOKUP(BW580,Přehled!$C$5:$AL$24,36)","v":""},null,null,null,null,null,null,null,null,null,null,null,null,null,null,null,null,null,null,null,null,{"$f":"'4'!$BP$118","v":0},{"$f":"'4'!$BQ$118","v":0},{"$f":"'4'!$BR$118","v":0},{"$f":"'4'!$BS$118","v":0},{"$f":"'4'!$BT$118","v":0},{"$f":"'4'!$BU$118","v":0},4,{"$f":"VLOOKUP(CY580,Přehled!$C$5:$AL$24,36)","v":""},null,null,null,null,null,null,null,null,null,null,null,null,null,null,null,{"$f":"'4'!$CR$118","v":0},{"$f":"'4'!$CS$118","v":0},{"$f":"'4'!$CT$118","v":0},4,{"$f":"VLOOKUP(DS580,Přehled!$C$5:$AL$24,36)","v":""},null,null,null,null,null,null,null,null,null,null,null,null,null,null,null,{"$f":"'19'!$DO$25","v":0},{"$f":"'19'!$DP$25","v":0},{"$f":"'19'!$DQ$25","v":0},19,{"$f":"VLOOKUP(EM580,Přehled!$C$5:$AL$24,36)","v":""}]
[{"$f":"'6'!A84","v":0},{"$f":"'6'!B84","v":0},{"$f":"'6'!C84","v":0},{"$f":"SUMIF($B$5:$B$2024,Souhrn_hod[[#This Row],[Jméno]],$E$5:$E$2024)","v":0},{"$f":"'6'!D84","v":0},{"$f":"'6'!E84","v":0},{"$f":"'6'!F84","v":0},{"$f":"'6'!G84","v":0},{"$f":"'6'!H84","v":0},{"$f":"'6'!I84","v":0},{"$f":"'6'!J84","v":0},{"$f":"'6'!K84","v":0},{"$f":"'6'!L84","v":0},{"$f":"'6'!M84","v":0},{"$f":"'6'!N84","v":0},{"$f":"'6'!O84","v":0},{"$f":"'6'!P84","v":0},{"$f":"'6'!Q84","v":0},{"$f":"'6'!R84","v":0},{"$f":"'6'!S84","v":0},{"$f":"'6'!T84","v":0},{"$f":"'6'!U84","v":0},{"$f":"'6'!V84","v":0},{"$f":"'6'!W84","v":0},{"$f":"'6'!X84","v":0},{"$f":"'6'!Y84","v":0},{"$f":"'6'!Z84","v":0},{"$f":"'6'!AA84","v":0},{"$f":"'6'!AB84","v":0},{"$f":"'6'!AC84","v":0},{"$f":"'6'!AD84","v":0},{"$f":"'6'!AE84","v":0},{"$f":"'6'!AF84","v":0},{"$f":"'6'!AG84","v":0},{"$f":"'6'!AH84","v":0},{"$f":"'6'!AI84","v":0},{"$f":"'6'!AJ84","v":0},6,{"$f":"VLOOKUP(AL586,Přehled!$C$5:$AL$24,36)","v":""},null,null,null,null,null,null,null,null,null,null,null,null,null,null,null,null,null,null,null,null,null,null,null,null,null,null,null,null,null,{"$f":"'4'!$AO$124","v":0},{"$f":"'4'!$AP$124","v":0},{"$f":"'4'!$AQ$124","v":0},{"$f":"'4'!$AR$124","v":0},{"$f":"'4'!$AS$124","v":0},{"$f":"'4'!$AT$124","v":0},4,{"$f":"VLOOKUP(BW586,Přehled!$C$5:$AL$24,36)","v":""},null,null,null,null,null,null,null,null,null,null,null,null,null,null,null,null,null,null,null,null,{"$f":"'4'!$BP$124","v":0},{"$f":"'4'!$BQ$124","v":0},{"$f":"'4'!$BR$124","v":0},{"$f":"'4'!$BS$124","v":0},{"$f":"'4'!$BT$124","v":0},{"$f":"'4'!$BU$124","v":0},4,{"$f":"VLOOKUP(CY586,Přehled!$C$5:$AL$24,36)","v":""},null,null,null,null,null,null,null,null,null,null,null,null,null,null,null,{"$f":"'4'!$CR$124","v":0},{"$f":"'4'!$CS$124","v":0},{"$f":"'4'!$CT$124","v":0},4,{"$f":"VLOOKUP(DS586,Přehled!$C$5:$AL$24,36)","v":""},null,null,null,null,null,null,null,null,null,null,null,null,null,null,null,{"$f":"'19'!$DO$31","v":0},{"$f":"'19'!$DP$31","v":0},{"$f":"'19'!$DQ$31","v":0},19,{"$f":"VLOOKUP(EM586,Přehled!$C$5:$AL$24,36)","v":""}]
[{"$f":"'6'!A101","v":0},{"$f":"'6'!B101","v":0},{"$f":"'6'!C101","v":0},{"$f":"SUMIF($B$5:$B$2024,Souhrn_hod[[#This Row],[Jméno]],$E$5:$E$2024)","v":0},{"$f":"'6'!D101","v":0},{"$f":"'6'!E101","v":0},{"$f":"'6'!F101","v":0},{"$f":"'6'!G101","v":0},{"$f":"'6'!H101","v":0},{"$f":"'6'!I101","v":0},{"$f":"'6'!J101","v":0},{"$f":"'6'!K101","v":0},{"$f":"'6'!L101","v":0},{"$f":"'6'!M101","v":0},{"$f":"'6'!N101","v":0},{"$f":"'6'!O101","v":0},{"$f":"'6'!P101","v":0},{"$f":"'6'!Q101","v":0},{"$f":"'6'!R101","v":0},{"$f":"'6'!S101","v":0},{"$f":"'6'!T101","v":0},{"$f":"'6'!U101","v":0},{"$f":"'6'!V101","v":0},{"$f":"'6'!W101","v":0},{"$f":"'6'!X101","v":0},{"$f":"'6'!Y101","v":0},{"$f":"'6'!Z101","v":0},{"$f":"'6'!AA101","v":0},{"$f":"'6'!AB101","v":0},{"$f":"'6'!AC101","v":0},{"$f":"'6'!AD101","v":0},{"$f":"'6'!AE101","v":0},{"$f":"'6'!AF101","v":0},{"$f":"'6'!AG101","v":0},{"$f":"'6'!AH101","v":0},{"$f":"'6'!AI101","v":0},{"$f":"'6'!AJ101","v":0},6,{"$f":"VLOOKUP(AL603,Přehled!$C$5:$AL$24,36)","v":""},null,null,null,null,null,null,null,null,null,null,null,null,null,null,null,null,null,null,null,null,null,null,null,null,null,null,null,null,null,{"$f":"'4'!$AO$141","v":0},{"$f":"'4'!$AP$141","v":0},{"$f":"'4'!$AQ$141","v":0},{"$f":"'4'!$AR$141","v":0},{"$f":"'4'!$AS$141","v":0},{"$f":"'4'!$AT$141","v":0},4,{"$f":"VLOOKUP(BW603,Přehled!$C$5:$AL$24,36)","v":""},null,null,null,null,null,null,null,null,null,null,null,null,null,null,null,null,null,null,null,null,{"$f":"'4'!$BP$141","v":0},{"$f":"'4'!$BQ$141","v":0},{"$f":"'4'!$BR$141","v":0},{"$f":"'4'!$BS$141","v":0},{"$f":"'4'!$BT$141","v":0},{"$f":"'4'!$BU$141","v":0},4,{"$f":"VLOOKUP(CY603,Přehled!$C$5:$AL$24,36)","v":""},null,null,null,null,null,null,null,null,null,null,null,null,null,null,null,{"$f":"'4'!$CR$141","v":0},{"$f":"'4'!$CS$141","v":0},{"$f":"'4'!$CT$141","v":0},4,{"$f":"VLOOKUP(DS603,Přehled!$C$5:$AL$24,36)","v":""},null,null,null,null,null,null,null,null,null,null,null,null,null,null,null,{"$f":"'20'!$DO$17","v":0},{"$f":"'20'!$DP$17","v":0},{"$f":"'20'!$DQ$17","v":0},20,{"$f":"VLOOKUP(EM603,Přehled!$C$5:$AL$24,36)","v":""}]
[{"$f":"'7'!A10","v":0},{"$f":"'7'!B10","v":0},{"$f":"'7'!C10","v":0},{"$f":"SUMIF($B$5:$B$2024,Souhrn_hod[[#This Row],[Jméno]],$E$5:$E$2024)","v":0},{"$f":"'7'!D10","v":0},{"$f":"'7'!E10","v":0},{"$f":"'7'!F10","v":0},{"$f":"'7'!G10","v":0},{"$f":"'7'!H10","v":0},{"$f":"'7'!I10","v":0},{"$f":"'7'!J10","v":0},{"$f":"'7'!K10","v":0},{"$f":"'7'!L10","v":0},{"$f":"'7'!M10","v":0},{"$f":"'7'!N10","v":0},{"$f":"'7'!O10","v":0},{"$f":"'7'!P10","v":0},{"$f":"'7'!Q10","v":0},{"$f":"'7'!R10","v":0},{"$f":"'7'!S10","v":0},{"$f":"'7'!T10","v":0},{"$f":"'7'!U10","v":0},{"$f":"'7'!V10","v":0},{"$f":"'7'!W10","v":0},{"$f":"'7'!X10","v":0},{"$f":"'7'!Y10","v":0},{"$f":"'7'!Z10","v":0},{"$f":"'7'!AA10","v":0},{"$f":"'7'!AB10","v":0},{"$f":"'7'!AC10","v":0},{"$f":"'7'!AD10","v":0},{"$f":"'7'!AE10","v":0},{"$f":"'7'!AF10","v":0},{"$f":"'7'!AG10","v":0},{"$f":"'7'!AH10","v":0},{"$f":"'7'!AI10","v":0},{"$f":"'7'!AJ10","v":0},7,{"$f":"VLOOKUP(AL613,Přehled!$C$5:$AL$24,36)","v":""},null,null,null,null,null,null,null,null,null,null,null,null,null,null,null,null,null,null,null,null,null,null,null,null,null,null,null,null,null,{"$f":"'4'!$AO$151","v":0},{"$f":"'4'!$AP$151","v":0},{"$f":"'4'!$AQ$151","v":0},{"$f":"'4'!$AR$151","v":0},{"$f":"'4'!$AS$151","v":0},{"$f":"'4'!$AT$151","v":0},4,{"$f":"VLOOKUP(BW613,Přehled!$C$5:$AL$24,36)","v":""},null,null,null,null,null,null,null,null,null,null,null,null,null,null,null,null,null,null,null,null,{"$f":"'4'!$BP$151","v":0},{"$f":"'4'!$BQ$151","v":0},{"$f":"'4'!$BR$151","v":0},{"$f":"'4'!$BS$151","v":0},{"$f":"'4'!$BT$151","v":0},{"$f":"'4'!$BU$151","v":0},4,{"$f":"VLOOKUP(CY613,Přehled!$C$5:$AL$24,36)","v":""},null,null,null,null,null,null,null,null,null,null,null,null,null,null,null,{"$f":"'4'!$CR$151","v":0},{"$f":"'4'!$CS$151","v":0},{"$f":"'4'!$CT$151","v":0},4,{"$f":"VLOOKUP(DS613,Přehled!$C$5:$AL$24,36)","v":""},null,null,null,null,null,null,null,null,null,null,null,null,null,null,null,{"$f":"'20'!$DO$27","v":0},{"$f":"'20'!$DP$27","v":0},{"$f":"'20'!$DQ$27","v":0},20,{"$f":"VLOOKUP(EM613,Přehled!$C$5:$AL$24,36)","v":""}]
[{"$f":"'7'!A16","v":0},{"$f":"'7'!B16","v":0},{"$f":"'7'!C16","v":0},{"$f":"SUMIF($B$5:$B$2024,Souhrn_hod[[#This Row],[Jméno]],$E$5:$E$2024)","v":0},{"$f":"'7'!D16","v":0},{"$f":"'7'!E16","v":0},{"$f":"'7'!F16","v":0},{"$f":"'7'!G16","v":0},{"$f":"'7'!H16","v":0},{"$f":"'7'!I16","v":0},{"$f":"'7'!J16","v":0},{"$f":"'7'!K16","v":0},{"$f":"'7'!L16","v":0},{"$f":"'7'!M16","v":0},{"$f":"'7'!N16","v":0},{"$f":"'7'!O16","v":0},{"$f":"'7'!P16","v":0},{"$f":"'7'!Q16","v":0},{"$f":"'7'!R16","v":0},{"$f":"'7'!S16","v":0},{"$f":"'7'!T16","v":0},{"$f":"'7'!U16","v":0},{"$f":"'7'!V16","v":0},{"$f":"'7'!W16","v":0},{"$f":"'7'!X16","v":0},{"$f":"'7'!Y16","v":0},{"$f":"'7'!Z16","v":0},{"$f":"'7'!AA16","v":0},{"$f":"'7'!AB16","v":0},{"$f":"'7'!AC16","v":0},{"$f":"'7'!AD16","v":0},{"$f":"'7'!AE16","v":0},{"$f":"'7'!AF16","v":0},{"$f":"'7'!AG16","v":0},{"$f":"'7'!AH16","v":0},{"$f":"'7'!AI16","v":0},{"$f":"'7'!AJ16","v":0},7,{"$f":"VLOOKUP(AL619,Přehled!$C$5:$AL$24,36)","v":""},null,null,null,null,null,null,null,null,null,null,null,null,null,null,null,null,null,null,null,null,null,null,null,null,null,null,null,null,null,{"$f":"'4'!$AO$157","v":0},{"$f":"'4'!$AP$157","v":0},{"$f":"'4'!$AQ$157","v":0},{"$f":"'4'!$AR$157","v":0},{"$f":"'4'!$AS$157","v":0},{"$f":"'4'!$AT$157","v":0},4,{"$f":"VLOOKUP(BW619,Přehled!$C$5:$AL$24,36)","v":""},null,null,null,null,null,null,null,null,null,null,null,null,null,null,null,null,null,null,null,null,{"$f":"'4'!$BP$157","v":0},{"$f":"'4'!$BQ$157","v":0},{"$f":"'4'!$BR$157","v":0},{"$f":"'4'!$BS$157","v":0},{"$f":"'4'!$BT$157","v":0},{"$f":"'4'!$BU$157","v":0},4,{"$f":"VLOOKUP(CY619,Přehled!$C$5:$AL$24,36)","v":""},null,null,null,null,null,null,null,null,null,null,null,null,null,null,null,{"$f":"'4'!$CR$157","v":0},{"$f":"'4'!$CS$157","v":0},{"$f":"'4'!$CT$157","v":0},4,{"$f":"VLOOKUP(DS619,Přehled!$C$5:$AL$24,36)","v":""},null,null,null,null,null,null,null,null,null,null,null,null,null,null,null,{"$f":"'20'!$DO$33","v":0},{"$f":"'20'!$DP$33","v":0},{"$f":"'20'!$DQ$33","v":0},20,{"$f":"VLOOKUP(EM619,Přehled!$C$5:$AL$24,36)","v":""}]
[{"$f":"'7'!A33","v":0},{"$f":"'7'!B33","v":0},{"$f":"'7'!C33","v":0},{"$f":"SUMIF($B$5:$B$2024,Souhrn_hod[[#This Row],[Jméno]],$E$5:$E$2024)","v":0},{"$f":"'7'!D33","v":0},{"$f":"'7'!E33","v":0},{"$f":"'7'!F33","v":0},{"$f":"'7'!G33","v":0},{"$f":"'7'!H33","v":0},{"$f":"'7'!I33","v":0},{"$f":"'7'!J33","v":0},{"$f":"'7'!K33","v":0},{"$f":"'7'!L33","v":0},{"$f":"'7'!M33","v":0},{"$f":"'7'!N33","v":0},{"$f":"'7'!O33","v":0},{"$f":"'7'!P33","v":0},{"$f":"'7'!Q33","v":0},{"$f":"'7'!R33","v":0},{"$f":"'7'!S33","v":0},{"$f":"'7'!T33","v":0},{"$f":"'7'!U33","v":0},{"$f":"'7'!V33","v":0},{"$f":"'7'!W33","v":0},{"$f":"'7'!X33","v":0},{"$f":"'7'!Y33","v":0},{"$f":"'7'!Z33","v":0},{"$f":"'7'!AA33","v":0},{"$f":"'7'!AB33","v":0},{"$f":"'7'!AC33","v":0},{"$f":"'7'!AD33","v":0},{"$f":"'7'!AE33","v":0},{"$f":"'7'!AF33","v":0},{"$f":"'7'!AG33","v":0},{"$f":"'7'!AH33","v":0},{"$f":"'7'!AI33","v":0},{"$f":"'7'!AJ33","v":0},7,{"$f":"VLOOKUP(AL636,Přehled!$C$5:$AL$24,36)","v":""},null,null,null,null,null,null,null,null,null,null,null,null,null,null,null,null,null,null,null,null,null,null,null,null,null,null,null,null,null,{"$f":"'5'!$AO$19","v":0},{"$f":"'5'!$AP$19","v":0},{"$f":"'5'!$AQ$19","v":0},{"$f":"'5'!$AR$19","v":0},{"$f":"'5'!$AS$19","v":0},{"$f":"'5'!$AT$19","v":0},5,{"$f":"VLOOKUP(BW636,Přehled!$C$5:$AL$24,36)","v":""},null,null,null,null,null,null,null,null,null,null,null,null,null,null,null,null,null,null,null,null,{"$f":"'5'!$BP$19","v":0},{"$f":"'5'!$BQ$19","v":0},{"$f":"'5'!$BR$19","v":0},{"$f":"'5'!$BS$19","v":0},{"$f":"'5'!$BT$19","v":0},{"$f":"'5'!$BU$19","v":0},5,{"$f":"VLOOKUP(CY636,Přehled!$C$5:$AL$24,36)","v":""},null,null,null,null,null,null,null,null,null,null,null,null,null,null,null,{"$f":"'5'!$CR$19","v":0},{"$f":"'5'!$CS$19","v":0},{"$f":"'5'!$CT$19","v":0},5,{"$f":"VLOOKUP(DS636,Přehled!$C$5:$AL$24,36)","v":""}]
[{"$f":"'7'!A46","v":0},{"$f":"'7'!B46","v":0},{"$f":"'7'!C46","v":0},{"$f":"SUMIF($B$5:$B$2024,Souhrn_hod[[#This Row],[Jméno]],$E$5:$E$2024)","v":0},{"$f":"'7'!D46","v":0},{"$f":"'7'!E46","v":0},{"$f":"'7'!F46","v":0},{"$f":"'7'!G46","v":0},{"$f":"'7'!H46","v":0},{"$f":"'7'!I46","v":0},{"$f":"'7'!J46","v":0},{"$f":"'7'!K46","v":0},{"$f":"'7'!L46","v":0},{"$f":"'7'!M46","v":0},{"$f":"'7'!N46","v":0},{"$f":"'7'!O46","v":0},{"$f":"'7'!P46","v":0},{"$f":"'7'!Q46","v":0},{"$f":"'7'!R46","v":0},{"$f":"'7'!S46","v":0},{"$f":"'7'!T46","v":0},{"$f":"'7'!U46","v":0},{"$f":"'7'!V46","v":0},{"$f":"'7'!W46","v":0},{"$f":"'7'!X46","v":0},{"$f":"'7'!Y46","v":0},{"$f":"'7'!Z46","v":0},{"$f":"'7'!AA46","v":0},{"$f":"'7'!AB46","v":0},{"$f":"'7'!AC46","v":0},{"$f":"'7'!AD46","v":0},{"$f":"'7'!AE46","v":0},{"$f":"'7'!AF46","v":0},{"$f":"'7'!AG46","v":0},{"$f":"'7'!AH46","v":0},{"$f":"'7'!AI46","v":0},{"$f":"'7'!AJ46","v":0},7,{"$f":"VLOOKUP(AL649,Přehled!$C$5:$AL$24,36)","v":""},null,null,null,null,null,null,null,null,null,null,null,null,null,null,null,null,null,null,null,null,null,null,null,null,null,null,null,null,null,{"$f":"'5'!$AO$32","v":0},{"$f":"'5'!$AP$32","v":0},{"$f":"'5'!$AQ$32","v":0},{"$f":"'5'!$AR$32","v":0},{"$f":"'5'!$AS$32","v":0},{"$f":"'5'!$AT$32","v":0},5,{"$f":"VLOOKUP(BW649,Přehled!$C$5:$AL$24,36)","v":""},null,null,null,null,null,null,null,null,null,null,null,null,null,null,null,null,null,null,null,null,{"$f":"'5'!$BP$32","v":0},{"$f":"'5'!$BQ$32","v":0},{"$f":"'5'!$BR$32","v":0},{"$f":"'5'!$BS$32","v":0},{"$f":"'5'!$BT$32","v":0},{"$f":"'5'!$BU$32","v":0},5,{"$f":"VLOOKUP(CY649,Přehled!$C$5:$AL$24,36)","v":""},null,null,null,null,null,null,null,null,null,null,null,null,null,null,null,{"$f":"'5'!$CR$32","v":0},{"$f":"'5'!$CS$32","v":0},{"$f":"'5'!$CT$32","v":0},5,{"$f":"VLOOKUP(DS649,Přehled!$C$5:$AL$24,36)","v":""}]
[{"$f":"'7'!A50","v":0},{"$f":"'7'!B50","v":0},{"$f":"'7'!C50","v":0},{"$f":"SUMIF($B$5:$B$2024,Souhrn_hod[[#This Row],[Jméno]],$E$5:$E$2024)","v":0},{"$f":"'7'!D50","v":0},{"$f":"'7'!E50","v":0},{"$f":"'7'!F50","v":0},{"$f":"'7'!G50","v":0},{"$f":"'7'!H50","v":0},{"$f":"'7'!I50","v":0},{"$f":"'7'!J50","v":0},{"$f":"'7'!K50","v":0},{"$f":"'7'!L50","v":0},{"$f":"'7'!M50","v":0},{"$f":"'7'!N50","v":0},{"$f":"'7'!O50","v":0},{"$f":"'7'!P50","v":0},{"$f":"'7'!Q50","v":0},{"$f":"'7'!R50","v":0},{"$f":"'7'!S50","v":0},{"$f":"'7'!T50","v":0},{"$f":"'7'!U50","v":0},{"$f":"'7'!V50","v":0},{"$f":"'7'!W50","v":0},{"$f":"'7'!X50","v":0},{"$f":"'7'!Y50","v":0},{"$f":"'7'!Z50","v":0},{"$f":"'7'!AA50","v":0},{"$f":"'7'!AB50","v":0},{"$f":"'7'!AC50","v":0},{"$f":"'7'!AD50","v":0},{"$f":"'7'!AE50","v":0},{"$f":"'7'!AF50","v":0},{"$f":"'7'!AG50","v":0},{"$f":"'7'!AH50","v":0},{"$f":"'7'!AI50","v":0},{"$f":"'7'!AJ50","v":0},7,{"$f":"VLOOKUP(AL653,Přehled!$C$5:$AL$24,36)","v":""},null,null,null,null,null,null,null,null,null,null,null,null,null,null,null,null,null,null,null,null,null,null,null,null,null,null,null,null,null,{"$f":"'5'!$AO$36","v":0},{"$f":"'5'!$AP$36","v":0},{"$f":"'5'!$AQ$36","v":0},{"$f":"'5'!$AR$36","v":0},{"$f":"'5'!$AS$36","v":0},{"$f":"'5'!$AT$36","v":0},5,{"$f":"VLOOKUP(BW653,Přehled!$C$5:$AL$24,36)","v":""},null,null,null,null,null,null,null,null,null,null,null,null,null,null,null,null,null,null,null,null,{"$f":"'5'!$BP$36","v":0},{"$f":"'5'!$BQ$36","v":0},{"$f":"'5'!$BR$36","v":0},{"$f":"'5'!$BS$36","v":0},{"$f":"'5'!$BT$36","v":0},{"$f":"'5'!$BU$36","v":0},5,{"$f":"VLOOKUP(CY653,Přehled!$C$5:$AL$24,36)","v":""},null,null,null,null,null,null,null,null,null,null,null,null,null,null,null,{"$f":"'5'!$CR$36","v":0},{"$f":"'5'!$CS$36","v":0},{"$f":"'5'!$CT$36","v":0},5,{"$f":"VLOOKUP(DS653,Přehled!$C$5:$AL$24,36)","v":""}]
[{"$f":"'7'!A71","v":0},{"$f":"'7'!B71","v":0},{"$f":"'7'!C71","v":0},{"$f":"SUMIF($B$5:$B$2024,Souhrn_hod[[#This Row],[Jméno]],$E$5:$E$2024)","v":0},{"$f":"'7'!D71","v":0},{"$f":"'7'!E71","v":0},{"$f":"'7'!F71","v":0},{"$f":"'7'!G71","v":0},{"$f":"'7'!H71","v":0},{"$f":"'7'!I71","v":0},{"$f":"'7'!J71","v":0},{"$f":"'7'!K71","v":0},{"$f":"'7'!L71","v":0},{"$f":"'7'!M71","v":0},{"$f":"'7'!N71","v":0},{"$f":"'7'!O71","v":0},{"$f":"'7'!P71","v":0},{"$f":"'7'!Q71","v":0},{"$f":"'7'!R71","v":0},{"$f":"'7'!S71","v":0},{"$f":"'7'!T71","v":0},{"$f":"'7'!U71","v":0},{"$f":"'7'!V71","v":0},{"$f":"'7'!W71","v":0},{"$f":"'7'!X71","v":0},{"$f":"'7'!Y71","v":0},{"$f":"'7'!Z71","v":0},{"$f":"'7'!AA71","v":0},{"$f":"'7'!AB71","v":0},{"$f":"'7'!AC71","v":0},{"$f":"'7'!AD71","v":0},{"$f":"'7'!AE71","v":0},{"$f":"'7'!AF71","v":0},{"$f":"'7'!AG71","v":0},{"$f":"'7'!AH71","v":0},{"$f":"'7'!AI71","v":0},{"$f":"'7'!AJ71","v":0},7,{"$f":"VLOOKUP(AL674,Přehled!$C$5:$AL$24,36)","v":""},null,null,null,null,null,null,null,null,null,null,null,null,null,null,null,null,null,null,null,null,null,null,null,null,null,null,null,null,null,{"$f":"'5'!$AO$57","v":0},{"$f":"'5'!$AP$57","v":0},{"$f":"'5'!$AQ$57","v":0},{"$f":"'5'!$AR$57","v":0},{"$f":"'5'!$AS$57","v":0},{"$f":"'5'!$AT$57","v":0},5,{"$f":"VLOOKUP(BW674,Přehled!$C$5:$AL$24,36)","v":""},null,null,null,null,null,null,null,null,null,null,null,null,null,null,null,null,null,null,null,null,{"$f":"'5'!$BP$57","v":0},{"$f":"'5'!$BQ$57","v":0},{"$f":"'5'!$BR$57","v":0},{"$f":"'5'!$BS$57","v":0},{"$f":"'5'!$BT$57","v":0},{"$f":"'5'!$BU$57","v":0},5,{"$f":"VLOOKUP(CY674,Přehled!$C$5:$AL$24,36)","v":""},null,null,null,null,null,null,null,null,null,null,null,null,null,null,null,{"$f":"'5'!$CR$57","v":0},{"$f":"'5'!$CS$57","v":0},{"$f":"'5'!$CT$57","v":0},5,{"$f":"VLOOKUP(DS674,Přehled!$C$5:$AL$24,36)","v":""}]
[{"$f":"'7'!A77","v":0},{"$f":"'7'!B77","v":0},{"$f":"'7'!C77","v":0},{"$f":"SUMIF($B$5:$B$2024,Souhrn_hod[[#This Row],[Jméno]],$E$5:$E$2024)","v":0},{"$f":"'7'!D77","v":0},{"$f":"'7'!E77","v":0},{"$f":"'7'!F77","v":0},{"$f":"'7'!G77","v":0},{"$f":"'7'!H77","v":0},{"$f":"'7'!I77","v":0},{"$f":"'7'!J77","v":0},{"$f":"'7'!K77","v":0},{"$f":"'7'!L77","v":0},{"$f":"'7'!M77","v":0},{"$f":"'7'!N77","v":0},{"$f":"'7'!O77","v":0},{"$f":"'7'!P77","v":0},{"$f":"'7'!Q77","v":0},{"$f":"'7'!R77","v":0},{"$f":"'7'!S77","v":0},{"$f":"'7'!T77","v":0},{"$f":"'7'!U77","v":0},{"$f":"'7'!V77","v":0},{"$f":"'7'!W77","v":0},{"$f":"'7'!X77","v":0},{"$f":"'7'!Y77","v":0},{"$f":"'7'!Z77","v":0},{"$f":"'7'!AA77","v":0},{"$f":"'7'!AB77","v":0},{"$f":"'7'!AC77","v":0},{"$f":"'7'!AD77","v":0},{"$f":"'7'!AE77","v":0},{"$f":"'7'!AF77","v":0},{"$f":"'7'!AG77","v":0},{"$f":"'7'!AH77","v":0},{"$f":"'7'!AI77","v":0},{"$f":"'7'!AJ77","v":0},7,{"$f":"VLOOKUP(AL680,Přehled!$C$5:$AL$24,36)","v":""},null,null,null,null,null,null,null,null,null,null,null,null,null,null,null,null,null,null,null,null,null,null,null,null,null,null,null,null,null,{"$f":"'5'!$AO$63","v":0},{"$f":"'5'!$AP$63","v":0},{"$f":"'5'!$AQ$63","v":0},{"$f":"'5'!$AR$63","v":0},{"$f":"'5'!$AS$63","v":0},{"$f":"'5'!$AT$63","v":0},5,{"$f":"VLOOKUP(BW680,Přehled!$C$5:$AL$24,36)","v":""},null,null,null,null,null,null,null,null,null,null,null,null,null,null,null,null,null,null,null,null,{"$f":"'5'!$BP$63","v":0},{"$f":"'5'!$BQ$63","v":0},{"$f":"'5'!$BR$63","v":0},{"$f":"'5'!$BS$63","v":0},{"$f":"'5'!$BT$63","v":0},{"$f":"'5'!$BU$63","v":0},5,{"$f":"VLOOKUP(CY680,Přehled!$C$5:$AL$24,36)","v":""},null,null,null,null,null,null,null,null,null,null,null,null,null,null,null,{"$f":"'5'!$CR$63","v":0},{"$f":"'5'!$CS$63","v":0},{"$f":"'5'!$CT$63","v":0},5,{"$f":"VLOOKUP(DS680,Přehled!$C$5:$AL$24,36)","v":""}]
[{"$f":"'7'!A83","v":0},{"$f":"'7'!B83","v":0},{"$f":"'7'!C83","v":0},{"$f":"SUMIF($B$5:$B$2024,Souhrn_hod[[#This Row],[Jméno]],$E$5:$E$2024)","v":0},{"$f":"'7'!D83","v":0},{"$f":"'7'!E83","v":0},{"$f":"'7'!F83","v":0},{"$f":"'7'!G83","v":0},{"$f":"'7'!H83","v":0},{"$f":"'7'!I83","v":0},{"$f":"'7'!J83","v":0},{"$f":"'7'!K83","v":0},{"$f":"'7'!L83","v":0},{"$f":"'7'!M83","v":0},{"$f":"'7'!N83","v":0},{"$f":"'7'!O83","v":0},{"$f":"'7'!P83","v":0},{"$f":"'7'!Q83","v":0},{"$f":"'7'!R83","v":0},{"$f":"'7'!S83","v":0},{"$f":"'7'!T83","v":0},{"$f":"'7'!U83","v":0},{"$f":"'7'!V83","v":0},{"$f":"'7'!W83","v":0},{"$f":"'7'!X83","v":0},{"$f":"'7'!Y83","v":0},{"$f":"'7'!Z83","v":0},{"$f":"'7'!AA83","v":0},{"$f":"'7'!AB83","v":0},{"$f":"'7'!AC83","v":0},{"$f":"'7'!AD83","v":0},{"$f":"'7'!AE83","v":0},{"$f":"'7'!AF83","v":0},{"$f":"'7'!AG83","v":0},{"$f":"'7'!AH83","v":0},{"$f":"'7'!AI83","v":0},{"$f":"'7'!AJ83","v":0},7,{"$f":"VLOOKUP(AL686,Přehled!$C$5:$AL$24,36)","v":""},null,null,null,null,null,null,null,null,null,null,null,null,null,null,null,null,null,null,null,null,null,null,null,null,null,null,null,null,null,{"$f":"'5'!$AO$69","v":0},{"$f":"'5'!$AP$69","v":0},{"$f":"'5'!$AQ$69","v":0},{"$f":"'5'!$AR$69","v":0},{"$f":"'5'!$AS$69","v":0},{"$f":"'5'!$AT$69","v":0},5,{"$f":"VLOOKUP(BW686,Přehled!$C$5:$AL$24,36)","v":""},null,null,null,null,null,null,null,null,null,null,null,null,null,null,null,null,null,null,null,null,{"$f":"'5'!$BP$69","v":0},{"$f":"'5'!$BQ$69","v":0},{"$f":"'5'!$BR$69","v":0},{"$f":"'5'!$BS$69","v":0},{"$f":"'5'!$BT$69","v":0},{"$f":"'5'!$BU$69","v":0},5,{"$f":"VLOOKUP(CY686,Přehled!$C$5:$AL$24,36)","v":""},null,null,null,null,null,null,null,null,null,null,null,null,null,null,null,{"$f":"'5'!$CR$69","v":0},{"$f":"'5'!$CS$69","v":0},{"$f":"'5'!$CT$69","v":0},5,{"$f":"VLOOKUP(DS686,Přehled!$C$5:$AL$24,36)","v":""}]
[{"$f":"'7'!A104","v":0},{"$f":"'7'!B104","v":0},{"$f":"'7'!C104","v":0},{"$f":"SUMIF($B$5:$B$2024,Souhrn_hod[[#This Row],[Jméno]],$E$5:$E$2024)","v":0},{"$f":"'7'!D104","v":0},{"$f":"'7'!E104","v":0},{"$f":"'7'!F104","v":0},{"$f":"'7'!G104","v":0},{"$f":"'7'!H104","v":0},{"$f":"'7'!I104","v":0},{"$f":"'7'!J104","v":0},{"$f":"'7'!K104","v":0},{"$f":"'7'!L104","v":0},{"$f":"'7'!M104","v":0},{"$f":"'7'!N104","v":0},{"$f":"'7'!O104","v":0},{"$f":"'7'!P104","v":0},{"$f":"'7'!Q104","v":0},{"$f":"'7'!R104","v":0},{"$f":"'7'!S104","v":0},{"$f":"'7'!T104","v":0},{"$f":"'7'!U104","v":0},{"$f":"'7'!V104","v":0},{"$f":"'7'!W104","v":0},{"$f":"'7'!X104","v":0},{"$f":"'7'!Y104","v":0},{"$f":"'7'!Z104","v":0},{"$f":"'7'!AA104","v":0},{"$f":"'7'!AB104","v":0},{"$f":"'7'!AC104","v":0},{"$f":"'7'!AD104","v":0},{"$f":"'7'!AE104","v":0},{"$f":"'7'!AF104","v":0},{"$f":"'7'!AG104","v":0},{"$f":"'7'!AH104","v":0},{"$f":"'7'!AI104","v":0},{"$f":"'7'!AJ104","v":0},7,{"$f":"VLOOKUP(AL707,Přehled!$C$5:$AL$24,36)","v":""},null,null,null,null,null,null,null,null,null,null,null,null,null,null,null,null,null,null,null,null,null,null,null,null,null,null,null,null,null,{"$f":"'5'!$AO$90","v":0},{"$f":"'5'!$AP$90","v":0},{"$f":"'5'!$AQ$90","v":0},{"$f":"'5'!$AR$90","v":0},{"$f":"'5'!$AS$90","v":0},{"$f":"'5'!$AT$90","v":0},5,{"$f":"VLOOKUP(BW707,Přehled!$C$5:$AL$24,36)","v":""},null,null,null,null,null,null,null,null,null,null,null,null,null,null,null,null,null,null,null,null,{"$f":"'5'!$BP$90","v":0},{"$f":"'5'!$BQ$90","v":0},{"$f":"'5'!$BR$90","v":0},{"$f":"'5'!$BS$90","v":0},{"$f":"'5'!$BT$90","v":0},{"$f":"'5'!$BU$90","v":0},5,{"$f":"VLOOKUP(CY707,Přehled!$C$5:$AL$24,36)","v":""},null,null,null,null,null,null,null,null,null,null,null,null,null,null,null,{"$f":"'5'!$CR$90","v":0},{"$f":"'5'!$CS$90","v":0},{"$f":"'5'!$CT$90","v":0},5,{"$f":"VLOOKUP(DS707,Přehled!$C$5:$AL$24,36)","v":""}]
[{"$f":"'8'!A14","v":0},{"$f":"'8'!B14","v":0},{"$f":"'8'!C14","v":0},{"$f":"SUMIF($B$5:$B$2024,Souhrn_hod[[#This Row],[Jméno]],$E$5:$E$2024)","v":0},{"$f":"'8'!D14","v":0},{"$f":"'8'!E14","v":0},{"$f":"'8'!F14","v":0},{"$f":"'8'!G14","v":0},{"$f":"'8'!H14","v":0},{"$f":"'8'!I14","v":0},{"$f":"'8'!J14","v":0},{"$f":"'8'!K14","v":0},{"$f":"'8'!L14","v":0},{"$f":"'8'!M14","v":0},{"$f":"'8'!N14","v":0},{"$f":"'8'!O14","v":0},{"$f":"'8'!P14","v":0},{"$f":"'8'!Q14","v":0},{"$f":"'8'!R14","v":0},{"$f":"'8'!S14","v":0},{"$f":"'8'!T14","v":0},{"$f":"'8'!U14","v":0},{"$f":"'8'!V14","v":0},{"$f":"'8'!W14","v":0},{"$f":"'8'!X14","v":0},{"$f":"'8'!Y14","v":0},{"$f":"'8'!Z14","v":0},{"$f":"'8'!AA14","v":0},{"$f":"'8'!AB14","v":0},{"$f":"'8'!AC14","v":0},{"$f":"'8'!AD14","v":0},{"$f":"'8'!AE14","v":0},{"$f":"'8'!AF14","v":0},{"$f":"'8'!AG14","v":0},{"$f":"'8'!AH14","v":0},{"$f":"'8'!AI14","v":0},{"$f":"'8'!AJ14","v":0},8,{"$f":"VLOOKUP(AL718,Přehled!$C$5:$AL$24,36)","v":""},null,null,null,null,null,null,null,null,null,null,null,null,null,null,null,null,null,null,null,null,null,null,null,null,null,null,null,null,null,{"$f":"'5'!$AO$101","v":0},{"$f":"'5'!$AP$101","v":0},{"$f":"'5'!$AQ$101","v":0},{"$f":"'5'!$AR$101","v":0},{"$f":"'5'!$AS$101","v":0},{"$f":"'5'!$AT$101","v":0},5,{"$f":"VLOOKUP(BW718,Přehled!$C$5:$AL$24,36)","v":""},null,null,null,null,null,null,null,null,null,null,null,null,null,null,null,null,null,null,null,null,{"$f":"'5'!$BP$101","v":0},{"$f":"'5'!$BQ$101","v":0},{"$f":"'5'!$BR$101","v":0},{"$f":"'5'!$BS$101","v":0},{"$f":"'5'!$BT$101","v":0},{"$f":"'5'!$BU$101","v":0},5,{"$f":"VLOOKUP(CY718,Přehled!$C$5:$AL$24,36)","v":""},null,null,null,null,null,null,null,null,null,null,null,null,null,null,null,{"$f":"'5'!$CR$101","v":0},{"$f":"'5'!$CS$101","v":0},{"$f":"'5'!$CT$101","v":0},5,{"$f":"VLOOKUP(DS718,Přehled!$C$5:$AL$24,36)","v":""}]
[{"$f":"'8'!A20","v":0},{"$f":"'8'!B20","v":0},{"$f":"'8'!C20","v":0},{"$f":"SUMIF($B$5:$B$2024,Souhrn_hod[[#This Row],[Jméno]],$E$5:$E$2024)","v":0},{"$f":"'8'!D20","v":0},{"$f":"'8'!E20","v":0},{"$f":"'8'!F20","v":0},{"$f":"'8'!G20","v":0},{"$f":"'8'!H20","v":0},{"$f":"'8'!I20","v":0},{"$f":"'8'!J20","v":0},{"$f":"'8'!K20","v":0},{"$f":"'8'!L20","v":0},{"$f":"'8'!M20","v":0},{"$f":"'8'!N20","v":0},{"$f":"'8'!O20","v":0},{"$f":"'8'!P20","v":0},{"$f":"'8'!Q20","v":0},{"$f":"'8'!R20","v":0},{"$f":"'8'!S20","v":0},{"$f":"'8'!T20","v":0},{"$f":"'8'!U20","v":0},{"$f":"'8'!V20","v":0},{"$f":"'8'!W20","v":0},{"$f":"'8'!X20","v":0},{"$f":"'8'!Y20","v":0},{"$f":"'8'!Z20","v":0},{"$f":"'8'!AA20","v":0},{"$f":"'8'!AB20","v":0},{"$f":"'8'!AC20","v":0},{"$f":"'8'!AD20","v":0},{"$f":"'8'!AE20","v":0},{"$f":"'8'!AF20","v":0},{"$f":"'8'!AG20","v":0},{"$f":"'8'!AH20","v":0},{"$f":"'8'!AI20","v":0},{"$f":"'8'!AJ20","v":0},8,{"$f":"VLOOKUP(AL724,Přehled!$C$5:$AL$24,36)","v":""},null,null,null,null,null,null,null,null,null,null,null,null,null,null,null,null,null,null,null,null,null,null,null,null,null,null,null,null,null,{"$f":"'5'!$AO$107","v":0},{"$f":"'5'!$AP$107","v":0},{"$f":"'5'!$AQ$107","v":0},{"$f":"'5'!$AR$107","v":0},{"$f":"'5'!$AS$107","v":0},{"$f":"'5'!$AT$107","v":0},5,{"$f":"VLOOKUP(BW724,Přehled!$C$5:$AL$24,36)","v":""},null,null,null,null,null,null,null,null,null,null,null,null,null,null,null,null,null,null,null,null,{"$f":"'5'!$BP$107","v":0},{"$f":"'5'!$BQ$107","v":0},{"$f":"'5'!$BR$107","v":0},{"$f":"'5'!$BS$107","v":0},{"$f":"'5'!$BT$107","v":0},{"$f":"'5'!$BU$107","v":0},5,{"$f":"VLOOKUP(CY724,Přehled!$C$5:$AL$24,36)","v":""},null,null,null,null,null,null,null,null,null,null,null,null,null,null,null,{"$f":"'5'!$CR$107","v":0},{"$f":"'5'!$CS$107","v":0},{"$f":"'5'!$CT$107","v":0},5,{"$f":"VLOOKUP(DS724,Přehled!$C$5:$AL$24,36)","v":""}]
[{"$f":"'8'!A37","v":0},{"$f":"'8'!B37","v":0},{"$f":"'8'!C37","v":0},{"$f":"SUMIF($B$5:$B$2024,Souhrn_hod[[#This Row],[Jméno]],$E$5:$E$2024)","v":0},{"$f":"'8'!D37","v":0},{"$f":"'8'!E37","v":0},{"$f":"'8'!F37","v":0},{"$f":"'8'!G37","v":0},{"$f":"'8'!H37","v":0},{"$f":"'8'!I37","v":0},{"$f":"'8'!J37","v":0},{"$f":"'8'!K37","v":0},{"$f":"'8'!L37","v":0},{"$f":"'8'!M37","v":0},{"$f":"'8'!N37","v":0},{"$f":"'8'!O37","v":0},{"$f":"'8'!P37","v":0},{"$f":"'8'!Q37","v":0},{"$f":"'8'!R37","v":0},{"$f":"'8'!S37","v":0},{"$f":"'8'!T37","v":0},{"$f":"'8'!U37","v":0},{"$f":"'8'!V37","v":0},{"$f":"'8'!W37","v":0},{"$f":"'8'!X37","v":0},{"$f":"'8'!Y37","v":0},{"$f":"'8'!Z37","v":0},{"$f":"'8'!AA37","v":0},{"$f":"'8'!AB37","v":0},{"$f":"'8'!AC37","v":0},{"$f":"'8'!AD37","v":0},{"$f":"'8'!AE37","v":0},{"$f":"'8'!AF37","v":0},{"$f":"'8'!AG37","v":0},{"$f":"'8'!AH37","v":0},{"$f":"'8'!AI37","v":0},{"$f":"'8'!AJ37","v":0},8,{"$f":"VLOOKUP(AL741,Přehled!$C$5:$AL$24,36)","v":""},null,null,null,null,null,null,null,null,null,null,null,null,null,null,null,null,null,null,null,null,null,null,null,null,null,null,null,null,null,{"$f":"'5'!$AO$124","v":0},{"$f":"'5'!$AP$124","v":0},{"$f":"'5'!$AQ$124","v":0},{"$f":"'5'!$AR$124","v":0},{"$f":"'5'!$AS$124","v":0},{"$f":"'5'!$AT$124","v":0},5,{"$f":"VLOOKUP(BW741,Přehled!$C$5:$AL$24,36)","v":""},null,null,null,null,null,null,null,null,null,null,null,null,null,null,null,null,null,null,null,null,{"$f":"'5'!$BP$124","v":0},{"$f":"'5'!$BQ$124","v":0},{"$f":"'5'!$BR$124","v":0},{"$f":"'5'!$BS$124","v":0},{"$f":"'5'!$BT$124","v":0},{"$f":"'5'!$BU$124","v":0},5,{"$f":"VLOOKUP(CY741,Přehled!$C$5:$AL$24,36)","v":""},null,null,null,null,null,null,null,null,null,null,null,null,null,null,null,{"$f":"'5'!$CR$124","v":0},{"$f":"'5'!$CS$124","v":0},{"$f":"'5'!$CT$124","v":0},5,{"$f":"VLOOKUP(DS741,Přehled!$C$5:$AL$24,36)","v":""}]
[{"$f":"'8'!A43","v":0},{"$f":"'8'!B43","v":0},{"$f":"'8'!C43","v":0},{"$f":"SUMIF($B$5:$B$2024,Souhrn_hod[[#This Row],[Jméno]],$E$5:$E$2024)","v":0},{"$f":"'8'!D43","v":0},{"$f":"'8'!E43","v":0},{"$f":"'8'!F43","v":0},{"$f":"'8'!G43","v":0},{"$f":"'8'!H43","v":0},{"$f":"'8'!I43","v":0},{"$f":"'8'!J43","v":0},{"$f":"'8'!K43","v":0},{"$f":"'8'!L43","v":0},{"$f":"'8'!M43","v":0},{"$f":"'8'!N43","v":0},{"$f":"'8'!O43","v":0},{"$f":"'8'!P43","v":0},{"$f":"'8'!Q43","v":0},{"$f":"'8'!R43","v":0},{"$f":"'8'!S43","v":0},{"$f":"'8'!T43","v":0},{"$f":"'8'!U43","v":0},{"$f":"'8'!V43","v":0},{"$f":"'8'!W43","v":0},{"$f":"'8'!X43","v":0},{"$f":"'8'!Y43","v":0},{"$f":"'8'!Z43","v":0},{"$f":"'8'!AA43","v":0},{"$f":"'8'!AB43","v":0},{"$f":"'8'!AC43","v":0},{"$f":"'8'!AD43","v":0},{"$f":"'8'!AE43","v":0},{"$f":"'8'!AF43","v":0},{"$f":"'8'!AG43","v":0},{"$f":"'8'!AH43","v":0},{"$f":"'8'!AI43","v":0},{"$f":"'8'!AJ43","v":0},8,{"$f":"VLOOKUP(AL747,Přehled!$C$5:$AL$24,36)","v":""},null,null,null,null,null,null,null,null,null,null,null,null,null,null,null,null,null,null,null,null,null,null,null,null,null,null,null,null,null,{"$f":"'5'!$AO$130","v":0},{"$f":"'5'!$AP$130","v":0},{"$f":"'5'!$AQ$130","v":0},{"$f":"'5'!$AR$130","v":0},{"$f":"'5'!$AS$130","v":0},{"$f":"'5'!$AT$130","v":0},5,{"$f":"VLOOKUP(BW747,Přehled!$C$5:$AL$24,36)","v":""},null,null,null,null,null,null,null,null,null,null,null,null,null,null,null,null,null,null,null,null,{"$f":"'5'!$BP$130","v":0},{"$f":"'5'!$BQ$130","v":0},{"$f":"'5'!$BR$130","v":0},{"$f":"'5'!$BS$130","v":0},{"$f":"'5'!$BT$130","v":0},{"$f":"'5'!$BU$130","v":0},5,{"$f":"VLOOKUP(CY747,Přehled!$C$5:$AL$24,36)","v":""},null,null,null,null,null,null,null,null,null,null,null,null,null,null,null,{"$f":"'5'!$CR$130","v":0},{"$f":"'5'!$CS$130","v":0},{"$f":"'5'!$CT$130","v":0},5,{"$f":"VLOOKUP(DS747,Přehled!$C$5:$AL$24,36)","v":""}]
[{"$f":"'8'!A53","v":0},{"$f":"'8'!B53","v":0},{"$f":"'8'!C53","v":0},{"$f":"SUMIF($B$5:$B$2024,Souhrn_hod[[#This Row],[Jméno]],$E$5:$E$2024)","v":0},{"$f":"'8'!D53","v":0},{"$f":"'8'!E53","v":0},{"$f":"'8'!F53","v":0},{"$f":"'8'!G53","v":0},{"$f":"'8'!H53","v":0},{"$f":"'8'!I53","v":0},{"$f":"'8'!J53","v":0},{"$f":"'8'!K53","v":0},{"$f":"'8'!L53","v":0},{"$f":"'8'!M53","v":0},{"$f":"'8'!N53","v":0},{"$f":"'8'!O53","v":0},{"$f":"'8'!P53","v":0},{"$f":"'8'!Q53","v":0},{"$f":"'8'!R53","v":0},{"$f":"'8'!S53","v":0},{"$f":"'8'!T53","v":0},{"$f":"'8'!U53","v":0},{"$f":"'8'!V53","v":0},{"$f":"'8'!W53","v":0},{"$f":"'8'!X53","v":0},{"$f":"'8'!Y53","v":0},{"$f":"'8'!Z53","v":0},{"$f":"'8'!AA53","v":0},{"$f":"'8'!AB53","v":0},{"$f":"'8'!AC53","v":0},{"$f":"'8'!AD53","v":0},{"$f":"'8'!AE53","v":0},{"$f":"'8'!AF53","v":0},{"$f":"'8'!AG53","v":0},{"$f":"'8'!AH53","v":0},{"$f":"'8'!AI53","v":0},{"$f":"'8'!AJ53","v":0},8,{"$f":"VLOOKUP(AL757,Přehled!$C$5:$AL$24,36)","v":""},null,null,null,null,null,null,null,null,null,null,null,null,null,null,null,null,null,null,null,null,null,null,null,null,null,null,null,null,null,{"$f":"'5'!$AO$140","v":0},{"$f":"'5'!$AP$140","v":0},{"$f":"'5'!$AQ$140","v":0},{"$f":"'5'!$AR$140","v":0},{"$f":"'5'!$AS$140","v":0},{"$f":"'5'!$AT$140","v":0},5,{"$f":"VLOOKUP(BW757,Přehled!$C$5:$AL$24,36)","v":""},null,null,null,null,null,null,null,null,null,null,null,null,null,null,null,null,null,null,null,null,{"$f":"'5'!$BP$140","v":0},{"$f":"'5'!$BQ$140","v":0},{"$f":"'5'!$BR$140","v":0},{"$f":"'5'!$BS$140","v":0},{"$f":"'5'!$BT$140","v":0},{"$f":"'5'!$BU$140","v":0},5,{"$f":"VLOOKUP(CY757,Přehled!$C$5:$AL$24,36)","v":""},null,null,null,null,null,null,null,null,null,null,null,null,null,null,null,{"$f":"'5'!$CR$140","v":0},{"$f":"'5'!$CS$140","v":0},{"$f":"'5'!$CT$140","v":0},5,{"$f":"VLOOKUP(DS757,Přehled!$C$5:$AL$24,36)","v":""}]
[{"$f":"'8'!A70","v":0},{"$f":"'8'!B70","v":0},{"$f":"'8'!C70","v":0},{"$f":"SUMIF($B$5:$B$2024,Souhrn_hod[[#This Row],[Jméno]],$E$5:$E$2024)","v":0},{"$f":"'8'!D70","v":0},{"$f":"'8'!E70","v":0},{"$f":"'8'!F70","v":0},{"$f":"'8'!G70","v":0},{"$f":"'8'!H70","v":0},{"$f":"'8'!I70","v":0},{"$f":"'8'!J70","v":0},{"$f":"'8'!K70","v":0},{"$f":"'8'!L70","v":0},{"$f":"'8'!M70","v":0},{"$f":"'8'!N70","v":0},{"$f":"'8'!O70","v":0},{"$f":"'8'!P70","v":0},{"$f":"'8'!Q70","v":0},{"$f":"'8'!R70","v":0},{"$f":"'8'!S70","v":0},{"$f":"'8'!T70","v":0},{"$f":"'8'!U70","v":0},{"$f":"'8'!V70","v":0},{"$f":"'8'!W70","v":0},{"$f":"'8'!X70","v":0},{"$f":"'8'!Y70","v":0},{"$f":"'8'!Z70","v":0},{"$f":"'8'!AA70","v":0},{"$f":"'8'!AB70","v":0},{"$f":"'8'!AC70","v":0},{"$f":"'8'!AD70","v":0},{"$f":"'8'!AE70","v":0},{"$f":"'8'!AF70","v":0},{"$f":"'8'!AG70","v":0},{"$f":"'8'!AH70","v":0},{"$f":"'8'!AI70","v":0},{"$f":"'8'!AJ70","v":0},8,{"$f":"VLOOKUP(AL774,Přehled!$C$5:$AL$24,36)","v":""},null,null,null,null,null,null,null,null,null,null,null,null,null,null,null,null,null,null,null,null,null,null,null,null,null,null,null,null,null,{"$f":"'5'!$AO$157","v":0},{"$f":"'5'!$AP$157","v":0},{"$f":"'5'!$AQ$157","v":0},{"$f":"'5'!$AR$157","v":0},{"$f":"'5'!$AS$157","v":0},{"$f":"'5'!$AT$157","v":0},5,{"$f":"VLOOKUP(BW774,Přehled!$C$5:$AL$24,36)","v":""},null,null,null,null,null,null,null,null,null,null,null,null,null,null,null,null,null,null,null,null,{"$f":"'5'!$BP$157","v":0},{"$f":"'5'!$BQ$157","v":0},{"$f":"'5'!$BR$157","v":0},{"$f":"'5'!$BS$157","v":0},{"$f":"'5'!$BT$157","v":0},{"$f":"'5'!$BU$157","v":0},5,{"$f":"VLOOKUP(CY774,Přehled!$C$5:$AL$24,36)","v":""},null,null,null,null,null,null,null,null,null,null,null,null,null,null,null,{"$f":"'5'!$CR$157","v":0},{"$f":"'5'!$CS$157","v":0},{"$f":"'5'!$CT$157","v":0},5,{"$f":"VLOOKUP(DS774,Přehled!$C$5:$AL$24,36)","v":""}]
[{"$f":"'8'!A71","v":0},{"$f":"'8'!B71","v":0},{"$f":"'8'!C71","v":0},{"$f":"SUMIF($B$5:$B$2024,Souhrn_hod[[#This Row],[Jméno]],$E$5:$E$2024)","v":0},{"$f":"'8'!D71","v":0},{"$f":"'8'!E71","v":0},{"$f":"'8'!F71","v":0},{"$f":"'8'!G71","v":0},{"$f":"'8'!H71","v":0},{"$f":"'8'!I71","v":0},{"$f":"'8'!J71","v":0},{"$f":"'8'!K71","v":0},{"$f":"'8'!L71","v":0},{"$f":"'8'!M71","v":0},{"$f":"'8'!N71","v":0},{"$f":"'8'!O71","v":0},{"$f":"'8'!P71","v":0},{"$f":"'8'!Q71","v":0},{"$f":"'8'!R71","v":0},{"$f":"'8'!S71","v":0},{"$f":"'8'!T71","v":0},{"$f":"'8'!U71","v":0},{"$f":"'8'!V71","v":0},{"$f":"'8'!W71","v":0},{"$f":"'8'!X71","v":0},{"$f":"'8'!Y71","v":0},{"$f":"'8'!Z71","v":0},{"$f":"'8'!AA71","v":0},{"$f":"'8'!AB71","v":0},{"$f":"'8'!AC71","v":0},{"$f":"'8'!AD71","v":0},{"$f":"'8'!AE71","v":0},{"$f":"'8'!AF71","v":0},{"$f":"'8'!AG71","v":0},{"$f":"'8'!AH71","v":0},{"$f":"'8'!AI71","v":0},{"$f":"'8'!AJ71","v":0},8,{"$f":"VLOOKUP(AL775,Přehled!$C$5:$AL$24,36)","v":""},null,null,null,null,null,null,null,null,null,null,null,null,null,null,null,null,null,null,null,null,null,null,null,null,null,null,null,null,null,{"$f":"'5'!$AO$158","v":0},{"$f":"'5'!$AP$158","v":0},{"$f":"'5'!$AQ$158","v":0},{"$f":"'5'!$AR$158","v":0},{"$f":"'5'!$AS$158","v":0},{"$f":"'5'!$AT$158","v":0},5,{"$f":"VLOOKUP(BW775,Přehled!$C$5:$AL$24,36)","v":""},null,null,null,null,null,null,null,null,null,null,null,null,null,null,null,null,null,null,null,null,{"$f":"'5'!$BP$158","v":0},{"$f":"'5'!$BQ$158","v":0},{"$f":"'5'!$BR$158","v":0},{"$f":"'5'!$BS$158","v":0},{"$f":"'5'!$BT$158","v":0},{"$f":"'5'!$BU$158","v":0},5,{"$f":"VLOOKUP(CY775,Přehled!$C$5:$AL$24,36)","v":""},null,null,null,null,null,null,null,null,null,null,null,null,null,null,null,{"$f":"'5'!$CR$158","v":0},{"$f":"'5'!$CS$158","v":0},{"$f":"'5'!$CT$158","v":0},5,{"$f":"VLOOKUP(DS775,Přehled!$C$5:$AL$24,36)","v":""}]
[{"$f":"'8'!A87","v":0},{"$f":"'8'!B87","v":0},{"$f":"'8'!C87","v":0},{"$f":"SUMIF($B$5:$B$2024,Souhrn_hod[[#This Row],[Jméno]],$E$5:$E$2024)","v":0},{"$f":"'8'!D87","v":0},{"$f":"'8'!E87","v":0},{"$f":"'8'!F87","v":0},{"$f":"'8'!G87","v":0},{"$f":"'8'!H87","v":0},{"$f":"'8'!I87","v":0},{"$f":"'8'!J87","v":0},{"$f":"'8'!K87","v":0},{"$f":"'8'!L87","v":0},{"$f":"'8'!M87","v":0},{"$f":"'8'!N87","v":0},{"$f":"'8'!O87","v":0},{"$f":"'8'!P87","v":0},{"$f":"'8'!Q87","v":0},{"$f":"'8'!R87","v":0},{"$f":"'8'!S87","v":0},{"$f":"'8'!T87","v":0},{"$f":"'8'!U87","v":0},{"$f":"'8'!V87","v":0},{"$f":"'8'!W87","v":0},{"$f":"'8'!X87","v":0},{"$f":"'8'!Y87","v":0},{"$f":"'8'!Z87","v":0},{"$f":"'8'!AA87","v":0},{"$f":"'8'!AB87","v":0},{"$f":"'8'!AC87","v":0},{"$f":"'8'!AD87","v":0},{"$f":"'8'!AE87","v":0},{"$f":"'8'!AF87","v":0},{"$f":"'8'!AG87","v":0},{"$f":"'8'!AH87","v":0},{"$f":"'8'!AI87","v":0},{"$f":"'8'!AJ87","v":0},8,{"$f":"VLOOKUP(AL791,Přehled!$C$5:$AL$24,36)","v":""},null,null,null,null,null,null,null,null,null,null,null,null,null,null,null,null,null,null,null,null,null,null,null,null,null,null,null,null,null,{"$f":"'6'!$AO$19","v":0},{"$f":"'6'!$AP$19","v":0},{"$f":"'6'!$AQ$19","v":0},{"$f":"'6'!$AR$19","v":0},{"$f":"'6'!$AS$19","v":0},{"$f":"'6'!$AT$19","v":0},6,{"$f":"VLOOKUP(BW791,Přehled!$C$5:$AL$24,36)","v":""},null,null,null,null,null,null,null,null,null,null,null,null,null,null,null,null,null,null,null,null,{"$f":"'6'!$BP$19","v":0},{"$f":"'6'!$BQ$19","v":0},{"$f":"'6'!$BR$19","v":0},{"$f":"'6'!$BS$19","v":0},{"$f":"'6'!$BT$19","v":0},{"$f":"'6'!$BU$19","v":0},6,{"$f":"VLOOKUP(CY791,Přehled!$C$5:$AL$24,36)","v":""},null,null,null,null,null,null,null,null,null,null,null,null,null,null,null,{"$f":"'6'!$CR$19","v":0},{"$f":"'6'!$CS$19","v":0},{"$f":"'6'!$CT$19","v":0},6,{"$f":"VLOOKUP(DS791,Přehled!$C$5:$AL$24,36)","v":""}]
[{"$f":"'8'!A104","v":0},{"$f":"'8'!B104","v":0},{"$f":"'8'!C104","v":0},{"$f":"SUMIF($B$5:$B$2024,Souhrn_hod[[#This Row],[Jméno]],$E$5:$E$2024)","v":0},{"$f":"'8'!D104","v":0},{"$f":"'8'!E104","v":0},{"$f":"'8'!F104","v":0},{"$f":"'8'!G104","v":0},{"$f":"'8'!H104","v":0},{"$f":"'8'!I104","v":0},{"$f":"'8'!J104","v":0},{"$f":"'8'!K104","v":0},{"$f":"'8'!L104","v":0},{"$f":"'8'!M104","v":0},{"$f":"'8'!N104","v":0},{"$f":"'8'!O104","v":0},{"$f":"'8'!P104","v":0},{"$f":"'8'!Q104","v":0},{"$f":"'8'!R104","v":0},{"$f":"'8'!S104","v":0},{"$f":"'8'!T104","v":0},{"$f":"'8'!U104","v":0},{"$f":"'8'!V104","v":0},{"$f":"'8'!W104","v":0},{"$f":"'8'!X104","v":0},{"$f":"'8'!Y104","v":0},{"$f":"'8'!Z104","v":0},{"$f":"'8'!AA104","v":0},{"$f":"'8'!AB104","v":0},{"$f":"'8'!AC104","v":0},{"$f":"'8'!AD104","v":0},{"$f":"'8'!AE104","v":0},{"$f":"'8'!AF104","v":0},{"$f":"'8'!AG104","v":0},{"$f":"'8'!AH104","v":0},{"$f":"'8'!AI104","v":0},{"$f":"'8'!AJ104","v":0},8,{"$f":"VLOOKUP(AL808,Přehled!$C$5:$AL$24,36)","v":""},null,null,null,null,null,null,null,null,null,null,null,null,null,null,null,null,null,null,null,null,null,null,null,null,null,null,null,null,null,{"$f":"'6'!$AO$36","v":0},{"$f":"'6'!$AP$36","v":0},{"$f":"'6'!$AQ$36","v":0},{"$f":"'6'!$AR$36","v":0},{"$f":"'6'!$AS$36","v":0},{"$f":"'6'!$AT$36","v":0},6,{"$f":"VLOOKUP(BW808,Přehled!$C$5:$AL$24,36)","v":""},null,null,null,null,null,null,null,null,null,null,null,null,null,null,null,null,null,null,null,null,{"$f":"'6'!$BP$36","v":0},{"$f":"'6'!$BQ$36","v":0},{"$f":"'6'!$BR$36","v":0},{"$f":"'6'!$BS$36","v":0},{"$f":"'6'!$BT$36","v":0},{"$f":"'6'!$BU$36","v":0},6,{"$f":"VLOOKUP(CY808,Přehled!$C$5:$AL$24,36)","v":""},null,null,null,null,null,null,null,null,null,null,null,null,null,null,null,{"$f":"'6'!$CR$36","v":0},{"$f":"'6'!$CS$36","v":0},{"$f":"'6'!$CT$36","v":0},6,{"$f":"VLOOKUP(DS808,Přehled!$C$5:$AL$24,36)","v":""}]
[{"$f":"'9'!A13","v":0},{"$f":"'9'!B13","v":0},{"$f":"'9'!C13","v":0},{"$f":"SUMIF($B$5:$B$2024,Souhrn_hod[[#This Row],[Jméno]],$E$5:$E$2024)","v":0},{"$f":"'9'!D13","v":0},{"$f":"'9'!E13","v":0},{"$f":"'9'!F13","v":0},{"$f":"'9'!G13","v":0},{"$f":"'9'!H13","v":0},{"$f":"'9'!I13","v":0},{"$f":"'9'!J13","v":0},{"$f":"'9'!K13","v":0},{"$f":"'9'!L13","v":0},{"$f":"'9'!M13","v":0},{"$f":"'9'!N13","v":0},{"$f":"'9'!O13","v":0},{"$f":"'9'!P13","v":0},{"$f":"'9'!Q13","v":0},{"$f":"'9'!R13","v":0},{"$f":"'9'!S13","v":0},{"$f":"'9'!T13","v":0},{"$f":"'9'!U13","v":0},{"$f":"'9'!V13","v":0},{"$f":"'9'!W13","v":0},{"$f":"'9'!X13","v":0},{"$f":"'9'!Y13","v":0},{"$f":"'9'!Z13","v":0},{"$f":"'9'!AA13","v":0},{"$f":"'9'!AB13","v":0},{"$f":"'9'!AC13","v":0},{"$f":"'9'!AD13","v":0},{"$f":"'9'!AE13","v":0},{"$f":"'9'!AF13","v":0},{"$f":"'9'!AG13","v":0},{"$f":"'9'!AH13","v":0},{"$f":"'9'!AI13","v":0},{"$f":"'9'!AJ13","v":0},9,{"$f":"VLOOKUP(AL818,Přehled!$C$5:$AL$24,36)","v":""},null,null,null,null,null,null,null,null,null,null,null,null,null,null,null,null,null,null,null,null,null,null,null,null,null,null,null,null,null,{"$f":"'6'!$AO$46","v":0},{"$f":"'6'!$AP$46","v":0},{"$f":"'6'!$AQ$46","v":0},{"$f":"'6'!$AR$46","v":0},{"$f":"'6'!$AS$46","v":0},{"$f":"'6'!$AT$46","v":0},6,{"$f":"VLOOKUP(BW818,Přehled!$C$5:$AL$24,36)","v":""},null,null,null,null,null,null,null,null,null,null,null,null,null,null,null,null,null,null,null,null,{"$f":"'6'!$BP$46","v":0},{"$f":"'6'!$BQ$46","v":0},{"$f":"'6'!$BR$46","v":0},{"$f":"'6'!$BS$46","v":0},{"$f":"'6'!$BT$46","v":0},{"$f":"'6'!$BU$46","v":0},6,{"$f":"VLOOKUP(CY818,Přehled!$C$5:$AL$24,36)","v":""},null,null,null,null,null,null,null,null,null,null,null,null,null,null,null,{"$f":"'6'!$CR$46","v":0},{"$f":"'6'!$CS$46","v":0},{"$f":"'6'!$CT$46","v":0},6,{"$f":"VLOOKUP(DS818,Přehled!$C$5:$AL$24,36)","v":""}]
[{"$f":"'9'!A19","v":0},{"$f":"'9'!B19","v":0},{"$f":"'9'!C19","v":0},{"$f":"SUMIF($B$5:$B$2024,Souhrn_hod[[#This Row],[Jméno]],$E$5:$E$2024)","v":0},{"$f":"'9'!D19","v":0},{"$f":"'9'!E19","v":0},{"$f":"'9'!F19","v":0},{"$f":"'9'!G19","v":0},{"$f":"'9'!H19","v":0},{"$f":"'9'!I19","v":0},{"$f":"'9'!J19","v":0},{"$f":"'9'!K19","v":0},{"$f":"'9'!L19","v":0},{"$f":"'9'!M19","v":0},{"$f":"'9'!N19","v":0},{"$f":"'9'!O19","v":0},{"$f":"'9'!P19","v":0},{"$f":"'9'!Q19","v":0},{"$f":"'9'!R19","v":0},{"$f":"'9'!S19","v":0},{"$f":"'9'!T19","v":0},{"$f":"'9'!U19","v":0},{"$f":"'9'!V19","v":0},{"$f":"'9'!W19","v":0},{"$f":"'9'!X19","v":0},{"$f":"'9'!Y19","v":0},{"$f":"'9'!Z19","v":0},{"$f":"'9'!AA19","v":0},{"$f":"'9'!AB19","v":0},{"$f":"'9'!AC19","v":0},{"$f":"'9'!AD19","v":0},{"$f":"'9'!AE19","v":0},{"$f":"'9'!AF19","v":0},{"$f":"'9'!AG19","v":0},{"$f":"'9'!AH19","v":0},{"$f":"'9'!AI19","v":0},{"$f":"'9'!AJ19","v":0},9,{"$f":"VLOOKUP(AL824,Přehled!$C$5:$AL$24,36)","v":""},null,null,null,null,null,null,null,null,null,null,null,null,null,null,null,null,null,null,null,null,null,null,null,null,null,null,null,null,null,{"$f":"'6'!$AO$52","v":0},{"$f":"'6'!$AP$52","v":0},{"$f":"'6'!$AQ$52","v":0},{"$f":"'6'!$AR$52","v":0},{"$f":"'6'!$AS$52","v":0},{"$f":"'6'!$AT$52","v":0},6,{"$f":"VLOOKUP(BW824,Přehled!$C$5:$AL$24,36)","v":""},null,null,null,null,null,null,null,null,null,null,null,null,null,null,null,null,null,null,null,null,{"$f":"'6'!$BP$52","v":0},{"$f":"'6'!$BQ$52","v":0},{"$f":"'6'!$BR$52","v":0},{"$f":"'6'!$BS$52","v":0},{"$f":"'6'!$BT$52","v":0},{"$f":"'6'!$BU$52","v":0},6,{"$f":"VLOOKUP(CY824,Přehled!$C$5:$AL$24,36)","v":""},null,null,null,null,null,null,null,null,null,null,null,null,null,null,null,{"$f":"'6'!$CR$52","v":0},{"$f":"'6'!$CS$52","v":0},{"$f":"'6'!$CT$52","v":0},6,{"$f":"VLOOKUP(DS824,Přehled!$C$5:$AL$24,36)","v":""}]
[{"$f":"'9'!A36","v":0},{"$f":"'9'!B36","v":0},{"$f":"'9'!C36","v":0},{"$f":"SUMIF($B$5:$B$2024,Souhrn_hod[[#This Row],[Jméno]],$E$5:$E$2024)","v":0},{"$f":"'9'!D36","v":0},{"$f":"'9'!E36","v":0},{"$f":"'9'!F36","v":0},{"$f":"'9'!G36","v":0},{"$f":"'9'!H36","v":0},{"$f":"'9'!I36","v":0},{"$f":"'9'!J36","v":0},{"$f":"'9'!K36","v":0},{"$f":"'9'!L36","v":0},{"$f":"'9'!M36","v":0},{"$f":"'9'!N36","v":0},{"$f":"'9'!O36","v":0},{"$f":"'9'!P36","v":0},{"$f":"'9'!Q36","v":0},{"$f":"'9'!R36","v":0},{"$f":"'9'!S36","v":0},{"$f":"'9'!T36","v":0},{"$f":"'9'!U36","v":0},{"$f":"'9'!V36","v":0},{"$f":"'9'!W36","v":0},{"$f":"'9'!X36","v":0},{"$f":"'9'!Y36","v":0},{"$f":"'9'!Z36","v":0},{"$f":"'9'!AA36","v":0},{"$f":"'9'!AB36","v":0},{"$f":"'9'!AC36","v":0},{"$f":"'9'!AD36","v":0},{"$f":"'9'!AE36","v":0},{"$f":"'9'!AF36","v":0},{"$f":"'9'!AG36","v":0},{"$f":"'9'!AH36","v":0},{"$f":"'9'!AI36","v":0},{"$f":"'9'!AJ36","v":0},9,{"$f":"VLOOKUP(AL841,Přehled!$C$5:$AL$24,36)","v":""},null,null,null,null,null,null,null,null,null,null,null,null,null,null,null,null,null,null,null,null,null,null,null,null,null,null,null,null,null,{"$f":"'6'!$AO$69","v":0},{"$f":"'6'!$AP$69","v":0},{"$f":"'6'!$AQ$69","v":0},{"$f":"'6'!$AR$69","v":0},{"$f":"'6'!$AS$69","v":0},{"$f":"'6'!$AT$69","v":0},6,{"$f":"VLOOKUP(BW841,Přehled!$C$5:$AL$24,36)","v":""},null,null,null,null,null,null,null,null,null,null,null,null,null,null,null,null,null,null,null,null,{"$f":"'6'!$BP$69","v":0},{"$f":"'6'!$BQ$69","v":0},{"$f":"'6'!$BR$69","v":0},{"$f":"'6'!$BS$69","v":0},{"$f":"'6'!$BT$69","v":0},{"$f":"'6'!$BU$69","v":0},6,{"$f":"VLOOKUP(CY841,Přehled!$C$5:$AL$24,36)","v":""},null,null,null,null,null,null,null,null,null,null,null,null,null,null,null,{"$f":"'6'!$CR$69","v":0},{"$f":"'6'!$CS$69","v":0},{"$f":"'6'!$CT$69","v":0},6,{"$f":"VLOOKUP(DS841,Přehled!$C$5:$AL$24,36)","v":""}]
[{"$f":"'9'!A43","v":0},{"$f":"'9'!B43","v":0},{"$f":"'9'!C43","v":0},{"$f":"SUMIF($B$5:$B$2024,Souhrn_hod[[#This Row],[Jméno]],$E$5:$E$2024)","v":0},{"$f":"'9'!D43","v":0},{"$f":"'9'!E43","v":0},{"$f":"'9'!F43","v":0},{"$f":"'9'!G43","v":0},{"$f":"'9'!H43","v":0},{"$f":"'9'!I43","v":0},{"$f":"'9'!J43","v":0},{"$f":"'9'!K43","v":0},{"$f":"'9'!L43","v":0},{"$f":"'9'!M43","v":0},{"$f":"'9'!N43","v":0},{"$f":"'9'!O43","v":0},{"$f":"'9'!P43","v":0},{"$f":"'9'!Q43","v":0},{"$f":"'9'!R43","v":0},{"$f":"'9'!S43","v":0},{"$f":"'9'!T43","v":0},{"$f":"'9'!U43","v":0},{"$f":"'9'!V43","v":0},{"$f":"'9'!W43","v":0},{"$f":"'9'!X43","v":0},{"$f":"'9'!Y43","v":0},{"$f":"'9'!Z43","v":0},{"$f":"'9'!AA43","v":0},{"$f":"'9'!AB43","v":0},{"$f":"'9'!AC43","v":0},{"$f":"'9'!AD43","v":0},{"$f":"'9'!AE43","v":0},{"$f":"'9'!AF43","v":0},{"$f":"'9'!AG43","v":0},{"$f":"'9'!AH43","v":0},{"$f":"'9'!AI43","v":0},{"$f":"'9'!AJ43","v":0},9,{"$f":"VLOOKUP(AL848,Přehled!$C$5:$AL$24,36)","v":""},null,null,null,null,null,null,null,null,null,null,null,null,null,null,null,null,null,null,null,null,null,null,null,null,null,null,null,null,null,{"$f":"'6'!$AO$76","v":0},{"$f":"'6'!$AP$76","v":0},{"$f":"'6'!$AQ$76","v":0},{"$f":"'6'!$AR$76","v":0},{"$f":"'6'!$AS$76","v":0},{"$f":"'6'!$AT$76","v":0},6,{"$f":"VLOOKUP(BW848,Přehled!$C$5:$AL$24,36)","v":""},null,null,null,null,null,null,null,null,null,null,null,null,null,null,null,null,null,null,null,null,{"$f":"'6'!$BP$76","v":0},{"$f":"'6'!$BQ$76","v":0},{"$f":"'6'!$BR$76","v":0},{"$f":"'6'!$BS$76","v":0},{"$f":"'6'!$BT$76","v":0},{"$f":"'6'!$BU$76","v":0},6,{"$f":"VLOOKUP(CY848,Přehled!$C$5:$AL$24,36)","v":""},null,null,null,null,null,null,null,null,null,null,null,null,null,null,null,{"$f":"'6'!$CR$76","v":0},{"$f":"'6'!$CS$76","v":0},{"$f":"'6'!$CT$76","v":0},6,{"$f":"VLOOKUP(DS848,Přehled!$C$5:$AL$24,36)","v":""}]
[{"$f":"'9'!A53","v":0},{"$f":"'9'!B53","v":0},{"$f":"'9'!C53","v":0},{"$f":"SUMIF($B$5:$B$2024,Souhrn_hod[[#This Row],[Jméno]],$E$5:$E$2024)","v":0},{"$f":"'9'!D53","v":0},{"$f":"'9'!E53","v":0},{"$f":"'9'!F53","v":0},{"$f":"'9'!G53","v":0},{"$f":"'9'!H53","v":0},{"$f":"'9'!I53","v":0},{"$f":"'9'!J53","v":0},{"$f":"'9'!K53","v":0},{"$f":"'9'!L53","v":0},{"$f":"'9'!M53","v":0},{"$f":"'9'!N53","v":0},{"$f":"'9'!O53","v":0},{"$f":"'9'!P53","v":0},{"$f":"'9'!Q53","v":0},{"$f":"'9'!R53","v":0},{"$f":"'9'!S53","v":0},{"$f":"'9'!T53","v":0},{"$f":"'9'!U53","v":0},{"$f":"'9'!V53","v":0},{"$f":"'9'!W53","v":0},{"$f":"'9'!X53","v":0},{"$f":"'9'!Y53","v":0},{"$f":"'9'!Z53","v":0},{"$f":"'9'!AA53","v":0},{"$f":"'9'!AB53","v":0},{"$f":"'9'!AC53","v":0},{"$f":"'9'!AD53","v":0},{"$f":"'9'!AE53","v":0},{"$f":"'9'!AF53","v":0},{"$f":"'9'!AG53","v":0},{"$f":"'9'!AH53","v":0},{"$f":"'9'!AI53","v":0},{"$f":"'9'!AJ53","v":0},9,{"$f":"VLOOKUP(AL858,Přehled!$C$5:$AL$24,36)","v":""},null,null,null,null,null,null,null,null,null,null,null,null,null,null,null,null,null,null,null,null,null,null,null,null,null,null,null,null,null,{"$f":"'6'!$AO$86","v":0},{"$f":"'6'!$AP$86","v":0},{"$f":"'6'!$AQ$86","v":0},{"$f":"'6'!$AR$86","v":0},{"$f":"'6'!$AS$86","v":0},{"$f":"'6'!$AT$86","v":0},6,{"$f":"VLOOKUP(BW858,Přehled!$C$5:$AL$24,36)","v":""},null,null,null,null,null,null,null,null,null,null,null,null,null,null,null,null,null,null,null,null,{"$f":"'6'!$BP$86","v":0},{"$f":"'6'!$BQ$86","v":0},{"$f":"'6'!$BR$86","v":0},{"$f":"'6'!$BS$86","v":0},{"$f":"'6'!$BT$86","v":0},{"$f":"'6'!$BU$86","v":0},6,{"$f":"VLOOKUP(CY858,Přehled!$C$5:$AL$24,36)","v":""},null,null,null,null,null,null,null,null,null,null,null,null,null,null,null,{"$f":"'6'!$CR$86","v":0},{"$f":"'6'!$CS$86","v":0},{"$f":"'6'!$CT$86","v":0},6,{"$f":"VLOOKUP(DS858,Přehled!$C$5:$AL$24,36)","v":""}]
[{"$f":"'9'!A63","v":0},{"$f":"'9'!B63","v":0},{"$f":"'9'!C63","v":0},{"$f":"SUMIF($B$5:$B$2024,Souhrn_hod[[#This Row],[Jméno]],$E$5:$E$2024)","v":0},{"$f":"'9'!D63","v":0},{"$f":"'9'!E63","v":0},{"$f":"'9'!F63","v":0},{"$f":"'9'!G63","v":0},{"$f":"'9'!H63","v":0},{"$f":"'9'!I63","v":0},{"$f":"'9'!J63","v":0},{"$f":"'9'!K63","v":0},{"$f":"'9'!L63","v":0},{"$f":"'9'!M63","v":0},{"$f":"'9'!N63","v":0},{"$f":"'9'!O63","v":0},{"$f":"'9'!P63","v":0},{"$f":"'9'!Q63","v":0},{"$f":"'9'!R63","v":0},{"$f":"'9'!S63","v":0},{"$f":"'9'!T63","v":0},{"$f":"'9'!U63","v":0},{"$f":"'9'!V63","v":0},{"$f":"'9'!W63","v":0},{"$f":"'9'!X63","v":0},{"$f":"'9'!Y63","v":0},{"$f":"'9'!Z63","v":0},{"$f":"'9'!AA63","v":0},{"$f":"'9'!AB63","v":0},{"$f":"'9'!AC63","v":0},{"$f":"'9'!AD63","v":0},{"$f":"'9'!AE63","v":0},{"$f":"'9'!AF63","v":0},{"$f":"'9'!AG63","v":0},{"$f":"'9'!AH63","v":0},{"$f":"'9'!AI63","v":0},{"$f":"'9'!AJ63","v":0},9,{"$f":"VLOOKUP(AL868,Přehled!$C$5:$AL$24,36)","v":""},null,null,null,null,null,null,null,null,null,null,null,null,null,null,null,null,null,null,null,null,null,null,null,null,null,null,null,null,null,{"$f":"'6'!$AO$96","v":0},{"$f":"'6'!$AP$96","v":0},{"$f":"'6'!$AQ$96","v":0},{"$f":"'6'!$AR$96","v":0},{"$f":"'6'!$AS$96","v":0},{"$f":"'6'!$AT$96","v":0},6,{"$f":"VLOOKUP(BW868,Přehled!$C$5:$AL$24,36)","v":""},null,null,null,null,null,null,null,null,null,null,null,null,null,null,null,null,null,null,null,null,{"$f":"'6'!$BP$96","v":0},{"$f":"'6'!$BQ$96","v":0},{"$f":"'6'!$BR$96","v":0},{"$f":"'6'!$BS$96","v":0},{"$f":"'6'!$BT$96","v":0},{"$f":"'6'!$BU$96","v":0},6,{"$f":"VLOOKUP(CY868,Přehled!$C$5:$AL$24,36)","v":""},null,null,null,null,null,null,null,null,null,null,null,null,null,null,null,{"$f":"'6'!$CR$96","v":0},{"$f":"'6'!$CS$96","v":0},{"$f":"'6'!$CT$96","v":0},6,{"$f":"VLOOKUP(DS868,Přehled!$C$5:$AL$24,36)","v":""}]
[{"$f":"'9'!A80","v":0},{"$f":"'9'!B80","v":0},{"$f":"'9'!C80","v":0},{"$f":"SUMIF($B$5:$B$2024,Souhrn_hod[[#This Row],[Jméno]],$E$5:$E$2024)","v":0},{"$f":"'9'!D80","v":0},{"$f":"'9'!E80","v":0},{"$f":"'9'!F80","v":0},{"$f":"'9'!G80","v":0},{"$f":"'9'!H80","v":0},{"$f":"'9'!I80","v":0},{"$f":"'9'!J80","v":0},{"$f":"'9'!K80","v":0},{"$f":"'9'!L80","v":0},{"$f":"'9'!M80","v":0},{"$f":"'9'!N80","v":0},{"$f":"'9'!O80","v":0},{"$f":"'9'!P80","v":0},{"$f":"'9'!Q80","v":0},{"$f":"'9'!R80","v":0},{"$f":"'9'!S80","v":0},{"$f":"'9'!T80","v":0},{"$f":"'9'!U80","v":0},{"$f":"'9'!V80","v":0},{"$f":"'9'!W80","v":0},{"$f":"'9'!X80","v":0},{"$f":"'9'!Y80","v":0},{"$f":"'9'!Z80","v":0},{"$f":"'9'!AA80","v":0},{"$f":"'9'!AB80","v":0},{"$f":"'9'!AC80","v":0},{"$f":"'9'!AD80","v":0},{"$f":"'9'!AE80","v":0},{"$f":"'9'!AF80","v":0},{"$f":"'9'!AG80","v":0},{"$f":"'9'!AH80","v":0},{"$f":"'9'!AI80","v":0},{"$f":"'9'!AJ80","v":0},9,{"$f":"VLOOKUP(AL885,Přehled!$C$5:$AL$24,36)","v":""},null,null,null,null,null,null,null,null,null,null,null,null,null,null,null,null,null,null,null,null,null,null,null,null,null,null,null,null,null,{"$f":"'6'!$AO$113","v":0},{"$f":"'6'!$AP$113","v":0},{"$f":"'6'!$AQ$113","v":0},{"$f":"'6'!$AR$113","v":0},{"$f":"'6'!$AS$113","v":0},{"$f":"'6'!$AT$113","v":0},6,{"$f":"VLOOKUP(BW885,Přehled!$C$5:$AL$24,36)","v":""},null,null,null,null,null,null,null,null,null,null,null,null,null,null,null,null,null,null,null,null,{"$f":"'6'!$BP$113","v":0},{"$f":"'6'!$BQ$113","v":0},{"$f":"'6'!$BR$113","v":0},{"$f":"'6'!$BS$113","v":0},{"$f":"'6'!$BT$113","v":0},{"$f":"'6'!$BU$113","v":0},6,{"$f":"VLOOKUP(CY885,Přehled!$C$5:$AL$24,36)","v":""},null,null,null,null,null,null,null,null,null,null,null,null,null,null,null,{"$f":"'6'!$CR$113","v":0},{"$f":"'6'!$CS$113","v":0},{"$f":"'6'!$CT$113","v":0},6,{"$f":"VLOOKUP(DS885,Přehled!$C$5:$AL$24,36)","v":""}]
[{"$f":"'9'!A86","v":0},{"$f":"'9'!B86","v":0},{"$f":"'9'!C86","v":0},{"$f":"SUMIF($B$5:$B$2024,Souhrn_hod[[#This Row],[Jméno]],$E$5:$E$2024)","v":0},{"$f":"'9'!D86","v":0},{"$f":"'9'!E86","v":0},{"$f":"'9'!F86","v":0},{"$f":"'9'!G86","v":0},{"$f":"'9'!H86","v":0},{"$f":"'9'!I86","v":0},{"$f":"'9'!J86","v":0},{"$f":"'9'!K86","v":0},{"$f":"'9'!L86","v":0},{"$f":"'9'!M86","v":0},{"$f":"'9'!N86","v":0},{"$f":"'9'!O86","v":0},{"$f":"'9'!P86","v":0},{"$f":"'9'!Q86","v":0},{"$f":"'9'!R86","v":0},{"$f":"'9'!S86","v":0},{"$f":"'9'!T86","v":0},{"$f":"'9'!U86","v":0},{"$f":"'9'!V86","v":0},{"$f":"'9'!W86","v":0},{"$f":"'9'!X86","v":0},{"$f":"'9'!Y86","v":0},{"$f":"'9'!Z86","v":0},{"$f":"'9'!AA86","v":0},{"$f":"'9'!AB86","v":0},{"$f":"'9'!AC86","v":0},{"$f":"'9'!AD86","v":0},{"$f":"'9'!AE86","v":0},{"$f":"'9'!AF86","v":0},{"$f":"'9'!AG86","v":0},{"$f":"'9'!AH86","v":0},{"$f":"'9'!AI86","v":0},{"$f":"'9'!AJ86","v":0},9,{"$f":"VLOOKUP(AL891,Přehled!$C$5:$AL$24,36)","v":""},null,null,null,null,null,null,null,null,null,null,null,null,null,null,null,null,null,null,null,null,null,null,null,null,null,null,null,null,null,{"$f":"'6'!$AO$119","v":0},{"$f":"'6'!$AP$119","v":0},{"$f":"'6'!$AQ$119","v":0},{"$f":"'6'!$AR$119","v":0},{"$f":"'6'!$AS$119","v":0},{"$f":"'6'!$AT$119","v":0},6,{"$f":"VLOOKUP(BW891,Přehled!$C$5:$AL$24,36)","v":""},null,null,null,null,null,null,null,null,null,null,null,null,null,null,null,null,null,null,null,null,{"$f":"'6'!$BP$119","v":0},{"$f":"'6'!$BQ$119","v":0},{"$f":"'6'!$BR$119","v":0},{"$f":"'6'!$BS$119","v":0},{"$f":"'6'!$BT$119","v":0},{"$f":"'6'!$BU$119","v":0},6,{"$f":"VLOOKUP(CY891,Přehled!$C$5:$AL$24,36)","v":""},null,null,null,null,null,null,null,null,null,null,null,null,null,null,null,{"$f":"'6'!$CR$119","v":0},{"$f":"'6'!$CS$119","v":0},{"$f":"'6'!$CT$119","v":0},6,{"$f":"VLOOKUP(DS891,Přehled!$C$5:$AL$24,36)","v":""}]
[{"$f":"'9'!A96","v":0},{"$f":"'9'!B96","v":0},{"$f":"'9'!C96","v":0},{"$f":"SUMIF($B$5:$B$2024,Souhrn_hod[[#This Row],[Jméno]],$E$5:$E$2024)","v":0},{"$f":"'9'!D96","v":0},{"$f":"'9'!E96","v":0},{"$f":"'9'!F96","v":0},{"$f":"'9'!G96","v":0},{"$f":"'9'!H96","v":0},{"$f":"'9'!I96","v":0},{"$f":"'9'!J96","v":0},{"$f":"'9'!K96","v":0},{"$f":"'9'!L96","v":0},{"$f":"'9'!M96","v":0},{"$f":"'9'!N96","v":0},{"$f":"'9'!O96","v":0},{"$f":"'9'!P96","v":0},{"$f":"'9'!Q96","v":0},{"$f":"'9'!R96","v":0},{"$f":"'9'!S96","v":0},{"$f":"'9'!T96","v":0},{"$f":"'9'!U96","v":0},{"$f":"'9'!V96","v":0},{"$f":"'9'!W96","v":0},{"$f":"'9'!X96","v":0},{"$f":"'9'!Y96","v":0},{"$f":"'9'!Z96","v":0},{"$f":"'9'!AA96","v":0},{"$f":"'9'!AB96","v":0},{"$f":"'9'!AC96","v":0},{"$f":"'9'!AD96","v":0},{"$f":"'9'!AE96","v":0},{"$f":"'9'!AF96","v":0},{"$f":"'9'!AG96","v":0},{"$f":"'9'!AH96","v":0},{"$f":"'9'!AI96","v":0},{"$f":"'9'!AJ96","v":0},9,{"$f":"VLOOKUP(AL901,Přehled!$C$5:$AL$24,36)","v":""},null,null,null,null,null,null,null,null,null,null,null,null,null,null,null,null,null,null,null,null,null,null,null,null,null,null,null,null,null,{"$f":"'6'!$AO$129","v":0},{"$f":"'6'!$AP$129","v":0},{"$f":"'6'!$AQ$129","v":0},{"$f":"'6'!$AR$129","v":0},{"$f":"'6'!$AS$129","v":0},{"$f":"'6'!$AT$129","v":0},6,{"$f":"VLOOKUP(BW901,Přehled!$C$5:$AL$24,36)","v":""},null,null,null,null,null,null,null,null,null,null,null,null,null,null,null,null,null,null,null,null,{"$f":"'6'!$BP$129","v":0},{"$f":"'6'!$BQ$129","v":0},{"$f":"'6'!$BR$129","v":0},{"$f":"'6'!$BS$129","v":0},{"$f":"'6'!$BT$129","v":0},{"$f":"'6'!$BU$129","v":0},6,{"$f":"VLOOKUP(CY901,Přehled!$C$5:$AL$24,36)","v":""},null,null,null,null,null,null,null,null,null,null,null,null,null,null,null,{"$f":"'6'!$CR$129","v":0},{"$f":"'6'!$CS$129","v":0},{"$f":"'6'!$CT$129","v":0},6,{"$f":"VLOOKUP(DS901,Přehled!$C$5:$AL$24,36)","v":""}]
[{"$f":"'10'!A11","v":0},{"$f":"'10'!B11","v":0},{"$f":"'10'!C11","v":0},{"$f":"SUMIF($B$5:$B$2024,Souhrn_hod[[#This Row],[Jméno]],$E$5:$E$2024)","v":0},{"$f":"'10'!D11","v":0},{"$f":"'10'!E11","v":0},{"$f":"'10'!F11","v":0},{"$f":"'10'!G11","v":0},{"$f":"'10'!H11","v":0},{"$f":"'10'!I11","v":0},{"$f":"'10'!J11","v":0},{"$f":"'10'!K11","v":0},{"$f":"'10'!L11","v":0},{"$f":"'10'!M11","v":0},{"$f":"'10'!N11","v":0},{"$f":"'10'!O11","v":0},{"$f":"'10'!P11","v":0},{"$f":"'10'!Q11","v":0},{"$f":"'10'!R11","v":0},{"$f":"'10'!S11","v":0},{"$f":"'10'!T11","v":0},{"$f":"'10'!U11","v":0},{"$f":"'10'!V11","v":0},{"$f":"'10'!W11","v":0},{"$f":"'10'!X11","v":0},{"$f":"'10'!Y11","v":0},{"$f":"'10'!Z11","v":0},{"$f":"'10'!AA11","v":0},{"$f":"'10'!AB11","v":0},{"$f":"'10'!AC11","v":0},{"$f":"'10'!AD11","v":0},{"$f":"'10'!AE11","v":0},{"$f":"'10'!AF11","v":0},{"$f":"'10'!AG11","v":0},{"$f":"'10'!AH11","v":0},{"$f":"'10'!AI11","v":0},{"$f":"'10'!AJ11","v":0},10,{"$f":"VLOOKUP(AL917,Přehled!$C$5:$AL$24,36)","v":""},null,null,null,null,null,null,null,null,null,null,null,null,null,null,null,null,null,null,null,null,null,null,null,null,null,null,null,null,null,{"$f":"'6'!$AO$145","v":0},{"$f":"'6'!$AP$145","v":0},{"$f":"'6'!$AQ$145","v":0},{"$f":"'6'!$AR$145","v":0},{"$f":"'6'!$AS$145","v":0},{"$f":"'6'!$AT$145","v":0},6,{"$f":"VLOOKUP(BW917,Přehled!$C$5:$AL$24,36)","v":""},null,null,null,null,null,null,null,null,null,null,null,null,null,null,null,null,null,null,null,null,{"$f":"'6'!$BP$145","v":0},{"$f":"'6'!$BQ$145","v":0},{"$f":"'6'!$BR$145","v":0},{"$f":"'6'!$BS$145","v":0},{"$f":"'6'!$BT$145","v":0},{"$f":"'6'!$BU$145","v":0},6,{"$f":"VLOOKUP(CY917,Přehled!$C$5:$AL$24,36)","v":""},null,null,null,null,null,null,null,null,null,null,null,null,null,null,null,{"$f":"'6'!$CR$145","v":0},{"$f":"'6'!$CS$145","v":0},{"$f":"'6'!$CT$145","v":0},6,{"$f":"VLOOKUP(DS917,Přehled!$C$5:$AL$24,36)","v":""}]
[{"$f":"'10'!A19","v":0},{"$f":"'10'!B19","v":0},{"$f":"'10'!C19","v":0},{"$f":"SUMIF($B$5:$B$2024,Souhrn_hod[[#This Row],[Jméno]],$E$5:$E$2024)","v":0},{"$f":"'10'!D19","v":0},{"$f":"'10'!E19","v":0},{"$f":"'10'!F19","v":0},{"$f":"'10'!G19","v":0},{"$f":"'10'!H19","v":0},{"$f":"'10'!I19","v":0},{"$f":"'10'!J19","v":0},{"$f":"'10'!K19","v":0},{"$f":"'10'!L19","v":0},{"$f":"'10'!M19","v":0},{"$f":"'10'!N19","v":0},{"$f":"'10'!O19","v":0},{"$f":"'10'!P19","v":0},{"$f":"'10'!Q19","v":0},{"$f":"'10'!R19","v":0},{"$f":"'10'!S19","v":0},{"$f":"'10'!T19","v":0},{"$f":"'10'!U19","v":0},{"$f":"'10'!V19","v":0},{"$f":"'10'!W19","v":0},{"$f":"'10'!X19","v":0},{"$f":"'10'!Y19","v":0},{"$f":"'10'!Z19","v":0},{"$f":"'10'!AA19","v":0},{"$f":"'10'!AB19","v":0},{"$f":"'10'!AC19","v":0},{"$f":"'10'!AD19","v":0},{"$f":"'10'!AE19","v":0},{"$f":"'10'!AF19","v":0},{"$f":"'10'!AG19","v":0},{"$f":"'10'!AH19","v":0},{"$f":"'10'!AI19","v":0},{"$f":"'10'!AJ19","v":0},10,{"$f":"VLOOKUP(AL925,Přehled!$C$5:$AL$24,36)","v":""},null,null,null,null,null,null,null,null,null,null,null,null,null,null,null,null,null,null,null,null,null,null,null,null,null,null,null,null,null,{"$f":"'6'!$AO$153","v":0},{"$f":"'6'!$AP$153","v":0},{"$f":"'6'!$AQ$153","v":0},{"$f":"'6'!$AR$153","v":0},{"$f":"'6'!$AS$153","v":0},{"$f":"'6'!$AT$153","v":0},6,{"$f":"VLOOKUP(BW925,Přehled!$C$5:$AL$24,36)","v":""},null,null,null,null,null,null,null,null,null,null,null,null,null,null,null,null,null,null,null,null,{"$f":"'6'!$BP$153","v":0},{"$f":"'6'!$BQ$153","v":0},{"$f":"'6'!$BR$153","v":0},{"$f":"'6'!$BS$153","v":0},{"$f":"'6'!$BT$153","v":0},{"$f":"'6'!$BU$153","v":0},6,{"$f":"VLOOKUP(CY925,Přehled!$C$5:$AL$24,36)","v":""},null,null,null,null,null,null,null,null,null,null,null,null,null,null,null,{"$f":"'6'!$CR$153","v":0},{"$f":"'6'!$CS$153","v":0},{"$f":"'6'!$CT$153","v":0},6,{"$f":"VLOOKUP(DS925,Přehled!$C$5:$AL$24,36)","v":""}]
[{"$f":"'10'!A29","v":0},{"$f":"'10'!B29","v":0},{"$f":"'10'!C29","v":0},{"$f":"SUMIF($B$5:$B$2024,Souhrn_hod[[#This Row],[Jméno]],$E$5:$E$2024)","v":0},{"$f":"'10'!D29","v":0},{"$f":"'10'!E29","v":0},{"$f":"'10'!F29","v":0},{"$f":"'10'!G29","v":0},{"$f":"'10'!H29","v":0},{"$f":"'10'!I29","v":0},{"$f":"'10'!J29","v":0},{"$f":"'10'!K29","v":0},{"$f":"'10'!L29","v":0},{"$f":"'10'!M29","v":0},{"$f":"'10'!N29","v":0},{"$f":"'10'!O29","v":0},{"$f":"'10'!P29","v":0},{"$f":"'10'!Q29","v":0},{"$f":"'10'!R29","v":0},{"$f":"'10'!S29","v":0},{"$f":"'10'!T29","v":0},{"$f":"'10'!U29","v":0},{"$f":"'10'!V29","v":0},{"$f":"'10'!W29","v":0},{"$f":"'10'!X29","v":0},{"$f":"'10'!Y29","v":0},{"$f":"'10'!Z29","v":0},{"$f":"'10'!AA29","v":0},{"$f":"'10'!AB29","v":0},{"$f":"'10'!AC29","v":0},{"$f":"'10'!AD29","v":0},{"$f":"'10'!AE29","v":0},{"$f":"'10'!AF29","v":0},{"$f":"'10'!AG29","v":0},{"$f":"'10'!AH29","v":0},{"$f":"'10'!AI29","v":0},{"$f":"'10'!AJ29","v":0},10,{"$f":"VLOOKUP(AL935,Přehled!$C$5:$AL$24,36)","v":""},null,null,null,null,null,null,null,null,null,null,null,null,null,null,null,null,null,null,null,null,null,null,null,null,null,null,null,null,null,{"$f":"'7'!$AO$8","v":0},{"$f":"'7'!$AP$8","v":0},{"$f":"'7'!$AQ$8","v":0},{"$f":"'7'!$AR$8","v":0},{"$f":"'7'!$AS$8","v":0},{"$f":"'7'!$AT$8","v":0},7,{"$f":"VLOOKUP(BW935,Přehled!$C$5:$AL$24,36)","v":""},null,null,null,null,null,null,null,null,null,null,null,null,null,null,null,null,null,null,null,null,{"$f":"'7'!$BP$8","v":0},{"$f":"'7'!$BQ$8","v":0},{"$f":"'7'!$BR$8","v":0},{"$f":"'7'!$BS$8","v":0},{"$f":"'7'!$BT$8","v":0},{"$f":"'7'!$BU$8","v":0},7,{"$f":"VLOOKUP(CY935,Přehled!$C$5:$AL$24,36)","v":""},null,null,null,null,null,null,null,null,null,null,null,null,null,null,null,{"$f":"'7'!$CR$8","v":0},{"$f":"'7'!$CS$8","v":0},{"$f":"'7'!$CT$8","v":0},7,{"$f":"VLOOKUP(DS935,Přehled!$C$5:$AL$24,36)","v":""}]
[{"$f":"'10'!A46","v":0},{"$f":"'10'!B46","v":0},{"$f":"'10'!C46","v":0},{"$f":"SUMIF($B$5:$B$2024,Souhrn_hod[[#This Row],[Jméno]],$E$5:$E$2024)","v":0},{"$f":"'10'!D46","v":0},{"$f":"'10'!E46","v":0},{"$f":"'10'!F46","v":0},{"$f":"'10'!G46","v":0},{"$f":"'10'!H46","v":0},{"$f":"'10'!I46","v":0},{"$f":"'10'!J46","v":0},{"$f":"'10'!K46","v":0},{"$f":"'10'!L46","v":0},{"$f":"'10'!M46","v":0},{"$f":"'10'!N46","v":0},{"$f":"'10'!O46","v":0},{"$f":"'10'!P46","v":0},{"$f":"'10'!Q46","v":0},{"$f":"'10'!R46","v":0},{"$f":"'10'!S46","v":0},{"$f":"'10'!T46","v":0},{"$f":"'10'!U46","v":0},{"$f":"'10'!V46","v":0},{"$f":"'10'!W46","v":0},{"$f":"'10'!X46","v":0},{"$f":"'10'!Y46","v":0},{"$f":"'10'!Z46","v":0},{"$f":"'10'!AA46","v":0},{"$f":"'10'!AB46","v":0},{"$f":"'10'!AC46","v":0},{"$f":"'10'!AD46","v":0},{"$f":"'10'!AE46","v":0},{"$f":"'10'!AF46","v":0},{"$f":"'10'!AG46","v":0},{"$f":"'10'!AH46","v":0},{"$f":"'10'!AI46","v":0},{"$f":"'10'!AJ46","v":0},10,{"$f":"VLOOKUP(AL952,Přehled!$C$5:$AL$24,36)","v":""},null,null,null,null,null,null,null,null,null,null,null,null,null,null,null,null,null,null,null,null,null,null,null,null,null,null,null,null,null,{"$f":"'7'!$AO$25","v":0},{"$f":"'7'!$AP$25","v":0},{"$f":"'7'!$AQ$25","v":0},{"$f":"'7'!$AR$25","v":0},{"$f":"'7'!$AS$25","v":0},{"$f":"'7'!$AT$25","v":0},7,{"$f":"VLOOKUP(BW952,Přehled!$C$5:$AL$24,36)","v":""},null,null,null,null,null,null,null,null,null,null,null,null,null,null,null,null,null,null,null,null,{"$f":"'7'!$BP$25","v":0},{"$f":"'7'!$BQ$25","v":0},{"$f":"'7'!$BR$25","v":0},{"$f":"'7'!$BS$25","v":0},{"$f":"'7'!$BT$25","v":0},{"$f":"'7'!$BU$25","v":0},7,{"$f":"VLOOKUP(CY952,Přehled!$C$5:$AL$24,36)","v":""},null,null,null,null,null,null,null,null,null,null,null,null,null,null,null,{"$f":"'7'!$CR$25","v":0},{"$f":"'7'!$CS$25","v":0},{"$f":"'7'!$CT$25","v":0},7,{"$f":"VLOOKUP(DS952,Přehled!$C$5:$AL$24,36)","v":""}]
[{"$f":"'10'!A56","v":0},{"$f":"'10'!B56","v":0},{"$f":"'10'!C56","v":0},{"$f":"SUMIF($B$5:$B$2024,Souhrn_hod[[#This Row],[Jméno]],$E$5:$E$2024)","v":0},{"$f":"'10'!D56","v":0},{"$f":"'10'!E56","v":0},{"$f":"'10'!F56","v":0},{"$f":"'10'!G56","v":0},{"$f":"'10'!H56","v":0},{"$f":"'10'!I56","v":0},{"$f":"'10'!J56","v":0},{"$f":"'10'!K56","v":0},{"$f":"'10'!L56","v":0},{"$f":"'10'!M56","v":0},{"$f":"'10'!N56","v":0},{"$f":"'10'!O56","v":0},{"$f":"'10'!P56","v":0},{"$f":"'10'!Q56","v":0},{"$f":"'10'!R56","v":0},{"$f":"'10'!S56","v":0},{"$f":"'10'!T56","v":0},{"$f":"'10'!U56","v":0},{"$f":"'10'!V56","v":0},{"$f":"'10'!W56","v":0},{"$f":"'10'!X56","v":0},{"$f":"'10'!Y56","v":0},{"$f":"'10'!Z56","v":0},{"$f":"'10'!AA56","v":0},{"$f":"'10'!AB56","v":0},{"$f":"'10'!AC56","v":0},{"$f":"'10'!AD56","v":0},{"$f":"'10'!AE56","v":0},{"$f":"'10'!AF56","v":0},{"$f":"'10'!AG56","v":0},{"$f":"'10'!AH56","v":0},{"$f":"'10'!AI56","v":0},{"$f":"'10'!AJ56","v":0},10,{"$f":"VLOOKUP(AL962,Přehled!$C$5:$AL$24,36)","v":""},null,null,null,null,null,null,null,null,null,null,null,null,null,null,null,null,null,null,null,null,null,null,null,null,null,null,null,null,null,{"$f":"'7'!$AO$35","v":0},{"$f":"'7'!$AP$35","v":0},{"$f":"'7'!$AQ$35","v":0},{"$f":"'7'!$AR$35","v":0},{"$f":"'7'!$AS$35","v":0},{"$f":"'7'!$AT$35","v":0},7,{"$f":"VLOOKUP(BW962,Přehled!$C$5:$AL$24,36)","v":""},null,null,null,null,null,null,null,null,null,null,null,null,null,null,null,null,null,null,null,null,{"$f":"'7'!$BP$35","v":0},{"$f":"'7'!$BQ$35","v":0},{"$f":"'7'!$BR$35","v":0},{"$f":"'7'!$BS$35","v":0},{"$f":"'7'!$BT$35","v":0},{"$f":"'7'!$BU$35","v":0},7,{"$f":"VLOOKUP(CY962,Přehled!$C$5:$AL$24,36)","v":""},null,null,null,null,null,null,null,null,null,null,null,null,null,null,null,{"$f":"'7'!$CR$35","v":0},{"$f":"'7'!$CS$35","v":0},{"$f":"'7'!$CT$35","v":0},7,{"$f":"VLOOKUP(DS962,Přehled!$C$5:$AL$24,36)","v":""}]
[{"$f":"'10'!A62","v":0},{"$f":"'10'!B62","v":0},{"$f":"'10'!C62","v":0},{"$f":"SUMIF($B$5:$B$2024,Souhrn_hod[[#This Row],[Jméno]],$E$5:$E$2024)","v":0},{"$f":"'10'!D62","v":0},{"$f":"'10'!E62","v":0},{"$f":"'10'!F62","v":0},{"$f":"'10'!G62","v":0},{"$f":"'10'!H62","v":0},{"$f":"'10'!I62","v":0},{"$f":"'10'!J62","v":0},{"$f":"'10'!K62","v":0},{"$f":"'10'!L62","v":0},{"$f":"'10'!M62","v":0},{"$f":"'10'!N62","v":0},{"$f":"'10'!O62","v":0},{"$f":"'10'!P62","v":0},{"$f":"'10'!Q62","v":0},{"$f":"'10'!R62","v":0},{"$f":"'10'!S62","v":0},{"$f":"'10'!T62","v":0},{"$f":"'10'!U62","v":0},{"$f":"'10'!V62","v":0},{"$f":"'10'!W62","v":0},{"$f":"'10'!X62","v":0},{"$f":"'10'!Y62","v":0},{"$f":"'10'!Z62","v":0},{"$f":"'10'!AA62","v":0},{"$f":"'10'!AB62","v":0},{"$f":"'10'!AC62","v":0},{"$f":"'10'!AD62","v":0},{"$f":"'10'!AE62","v":0},{"$f":"'10'!AF62","v":0},{"$f":"'10'!AG62","v":0},{"$f":"'10'!AH62","v":0},{"$f":"'10'!AI62","v":0},{"$f":"'10'!AJ62","v":0},10,{"$f":"VLOOKUP(AL968,Přehled!$C$5:$AL$24,36)","v":""},null,null,null,null,null,null,null,null,null,null,null,null,null,null,null,null,null,null,null,null,null,null,null,null,null,null,null,null,null,{"$f":"'7'!$AO$41","v":0},{"$f":"'7'!$AP$41","v":0},{"$f":"'7'!$AQ$41","v":0},{"$f":"'7'!$AR$41","v":0},{"$f":"'7'!$AS$41","v":0},{"$f":"'7'!$AT$41","v":0},7,{"$f":"VLOOKUP(BW968,Přehled!$C$5:$AL$24,36)","v":""},null,null,null,null,null,null,null,null,null,null,null,null,null,null,null,null,null,null,null,null,{"$f":"'7'!$BP$41","v":0},{"$f":"'7'!$BQ$41","v":0},{"$f":"'7'!$BR$41","v":0},{"$f":"'7'!$BS$41","v":0},{"$f":"'7'!$BT$41","v":0},{"$f":"'7'!$BU$41","v":0},7,{"$f":"VLOOKUP(CY968,Přehled!$C$5:$AL$24,36)","v":""},null,null,null,null,null,null,null,null,null,null,null,null,null,null,null,{"$f":"'7'!$CR$41","v":0},{"$f":"'7'!$CS$41","v":0},{"$f":"'7'!$CT$41","v":0},7,{"$f":"VLOOKUP(DS968,Přehled!$C$5:$AL$24,36)","v":""}]
[{"$f":"'10'!A80","v":0},{"$f":"'10'!B80","v":0},{"$f":"'10'!C80","v":0},{"$f":"SUMIF($B$5:$B$2024,Souhrn_hod[[#This Row],[Jméno]],$E$5:$E$2024)","v":0},{"$f":"'10'!D80","v":0},{"$f":"'10'!E80","v":0},{"$f":"'10'!F80","v":0},{"$f":"'10'!G80","v":0},{"$f":"'10'!H80","v":0},{"$f":"'10'!I80","v":0},{"$f":"'10'!J80","v":0},{"$f":"'10'!K80","v":0},{"$f":"'10'!L80","v":0},{"$f":"'10'!M80","v":0},{"$f":"'10'!N80","v":0},{"$f":"'10'!O80","v":0},{"$f":"'10'!P80","v":0},{"$f":"'10'!Q80","v":0},{"$f":"'10'!R80","v":0},{"$f":"'10'!S80","v":0},{"$f":"'10'!T80","v":0},{"$f":"'10'!U80","v":0},{"$f":"'10'!V80","v":0},{"$f":"'10'!W80","v":0},{"$f":"'10'!X80","v":0},{"$f":"'10'!Y80","v":0},{"$f":"'10'!Z80","v":0},{"$f":"'10'!AA80","v":0},{"$f":"'10'!AB80","v":0},{"$f":"'10'!AC80","v":0},{"$f":"'10'!AD80","v":0},{"$f":"'10'!AE80","v":0},{"$f":"'10'!AF80","v":0},{"$f":"'10'!AG80","v":0},{"$f":"'10'!AH80","v":0},{"$f":"'10'!AI80","v":0},{"$f":"'10'!AJ80","v":0},10,{"$f":"VLOOKUP(AL986,Přehled!$C$5:$AL$24,36)","v":""},null,null,null,null,null,null,null,null,null,null,null,null,null,null,null,null,null,null,null,null,null,null,null,null,null,null,null,null,null,{"$f":"'7'!$AO$59","v":0},{"$f":"'7'!$AP$59","v":0},{"$f":"'7'!$AQ$59","v":0},{"$f":"'7'!$AR$59","v":0},{"$f":"'7'!$AS$59","v":0},{"$f":"'7'!$AT$59","v":0},7,{"$f":"VLOOKUP(BW986,Přehled!$C$5:$AL$24,36)","v":""},null,null,null,null,null,null,null,null,null,null,null,null,null,null,null,null,null,null,null,null,{"$f":"'7'!$BP$59","v":0},{"$f":"'7'!$BQ$59","v":0},{"$f":"'7'!$BR$59","v":0},{"$f":"'7'!$BS$59","v":0},{"$f":"'7'!$BT$59","v":0},{"$f":"'7'!$BU$59","v":0},7,{"$f":"VLOOKUP(CY986,Přehled!$C$5:$AL$24,36)","v":""},null,null,null,null,null,null,null,null,null,null,null,null,null,null,null,{"$f":"'7'!$CR$59","v":0},{"$f":"'7'!$CS$59","v":0},{"$f":"'7'!$CT$59","v":0},7,{"$f":"VLOOKUP(DS986,Přehled!$C$5:$AL$24,36)","v":""}]
[{"$f":"'10'!A90","v":0},{"$f":"'10'!B90","v":0},{"$f":"'10'!C90","v":0},{"$f":"SUMIF($B$5:$B$2024,Souhrn_hod[[#This Row],[Jméno]],$E$5:$E$2024)","v":0},{"$f":"'10'!D90","v":0},{"$f":"'10'!E90","v":0},{"$f":"'10'!F90","v":0},{"$f":"'10'!G90","v":0},{"$f":"'10'!H90","v":0},{"$f":"'10'!I90","v":0},{"$f":"'10'!J90","v":0},{"$f":"'10'!K90","v":0},{"$f":"'10'!L90","v":0},{"$f":"'10'!M90","v":0},{"$f":"'10'!N90","v":0},{"$f":"'10'!O90","v":0},{"$f":"'10'!P90","v":0},{"$f":"'10'!Q90","v":0},{"$f":"'10'!R90","v":0},{"$f":"'10'!S90","v":0},{"$f":"'10'!T90","v":0},{"$f":"'10'!U90","v":0},{"$f":"'10'!V90","v":0},{"$f":"'10'!W90","v":0},{"$f":"'10'!X90","v":0},{"$f":"'10'!Y90","v":0},{"$f":"'10'!Z90","v":0},{"$f":"'10'!AA90","v":0},{"$f":"'10'!AB90","v":0},{"$f":"'10'!AC90","v":0},{"$f":"'10'!AD90","v":0},{"$f":"'10'!AE90","v":0},{"$f":"'10'!AF90","v":0},{"$f":"'10'!AG90","v":0},{"$f":"'10'!AH90","v":0},{"$f":"'10'!AI90","v":0},{"$f":"'10'!AJ90","v":0},10,{"$f":"VLOOKUP(AL996,Přehled!$C$5:$AL$24,36)","v":""},null,null,null,null,null,null,null,null,null,null,null,null,null,null,null,null,null,null,null,null,null,null,null,null,null,null,null,null,null,{"$f":"'7'!$AO$69","v":0},{"$f":"'7'!$AP$69","v":0},{"$f":"'7'!$AQ$69","v":0},{"$f":"'7'!$AR$69","v":0},{"$f":"'7'!$AS$69","v":0},{"$f":"'7'!$AT$69","v":0},7,{"$f":"VLOOKUP(BW996,Přehled!$C$5:$AL$24,36)","v":""},null,null,null,null,null,null,null,null,null,null,null,null,null,null,null,null,null,null,null,null,{"$f":"'7'!$BP$69","v":0},{"$f":"'7'!$BQ$69","v":0},{"$f":"'7'!$BR$69","v":0},{"$f":"'7'!$BS$69","v":0},{"$f":"'7'!$BT$69","v":0},{"$f":"'7'!$BU$69","v":0},7,{"$f":"VLOOKUP(CY996,Přehled!$C$5:$AL$24,36)","v":""},null,null,null,null,null,null,null,null,null,null,null,null,null,null,null,{"$f":"'7'!$CR$69","v":0},{"$f":"'7'!$CS$69","v":0},{"$f":"'7'!$CT$69","v":0},7,{"$f":"VLOOKUP(DS996,Přehled!$C$5:$AL$24,36)","v":""}]
[{"$f":"'10'!A96","v":0},{"$f":"'10'!B96","v":0},{"$f":"'10'!C96","v":0},{"$f":"SUMIF($B$5:$B$2024,Souhrn_hod[[#This Row],[Jméno]],$E$5:$E$2024)","v":0},{"$f":"'10'!D96","v":0},{"$f":"'10'!E96","v":0},{"$f":"'10'!F96","v":0},{"$f":"'10'!G96","v":0},{"$f":"'10'!H96","v":0},{"$f":"'10'!I96","v":0},{"$f":"'10'!J96","v":0},{"$f":"'10'!K96","v":0},{"$f":"'10'!L96","v":0},{"$f":"'10'!M96","v":0},{"$f":"'10'!N96","v":0},{"$f":"'10'!O96","v":0},{"$f":"'10'!P96","v":0},{"$f":"'10'!Q96","v":0},{"$f":"'10'!R96","v":0},{"$f":"'10'!S96","v":0},{"$f":"'10'!T96","v":0},{"$f":"'10'!U96","v":0},{"$f":"'10'!V96","v":0},{"$f":"'10'!W96","v":0},{"$f":"'10'!X96","v":0},{"$f":"'10'!Y96","v":0},{"$f":"'10'!Z96","v":0},{"$f":"'10'!AA96","v":0},{"$f":"'10'!AB96","v":0},{"$f":"'10'!AC96","v":0},{"$f":"'10'!AD96","v":0},{"$f":"'10'!AE96","v":0},{"$f":"'10'!AF96","v":0},{"$f":"'10'!AG96","v":0},{"$f":"'10'!AH96","v":0},{"$f":"'10'!AI96","v":0},{"$f":"'10'!AJ96","v":0},10,{"$f":"VLOOKUP(AL1002,Přehled!$C$5:$AL$24,36)","v":""},null,null,null,null,null,null,null,null,null,null,null,null,null,null,null,null,null,null,null,null,null,null,null,null,null,null,null,null,null,{"$f":"'7'!$AO$75","v":0},{"$f":"'7'!$AP$75","v":0},{"$f":"'7'!$AQ$75","v":0},{"$f":"'7'!$AR$75","v":0},{"$f":"'7'!$AS$75","v":0},{"$f":"'7'!$AT$75","v":0},7,{"$f":"VLOOKUP(BW1002,Přehled!$C$5:$AL$24,36)","v":""},null,null,null,null,null,null,null,null,null,null,null,null,null,null,null,null,null,null,null,null,{"$f":"'7'!$BP$75","v":0},{"$f":"'7'!$BQ$75","v":0},{"$f":"'7'!$BR$75","v":0},{"$f":"'7'!$BS$75","v":0},{"$f":"'7'!$BT$75","v":0},{"$f":"'7'!$BU$75","v":0},7,{"$f":"VLOOKUP(CY1002,Přehled!$C$5:$AL$24,36)","v":""},null,null,null,null,null,null,null,null,null,null,null,null,null,null,null,{"$f":"'7'!$CR$75","v":0},{"$f":"'7'!$CS$75","v":0},{"$f":"'7'!$CT$75","v":0},7,{"$f":"VLOOKUP(DS1002,Přehled!$C$5:$AL$24,36)","v":""}]
[{"$f":"'11'!A12","v":0},{"$f":"'11'!B12","v":0},{"$f":"'11'!C12","v":0},{"$f":"SUMIF($B$5:$B$2024,Souhrn_hod[[#This Row],[Jméno]],$E$5:$E$2024)","v":0},{"$f":"'11'!D12","v":0},{"$f":"'11'!E12","v":0},{"$f":"'11'!F12","v":0},{"$f":"'11'!G12","v":0},{"$f":"'11'!H12","v":0},{"$f":"'11'!I12","v":0},{"$f":"'11'!J12","v":0},{"$f":"'11'!K12","v":0},{"$f":"'11'!L12","v":0},{"$f":"'11'!M12","v":0},{"$f":"'11'!N12","v":0},{"$f":"'11'!O12","v":0},{"$f":"'11'!P12","v":0},{"$f":"'11'!Q12","v":0},{"$f":"'11'!R12","v":0},{"$f":"'11'!S12","v":0},{"$f":"'11'!T12","v":0},{"$f":"'11'!U12","v":0},{"$f":"'11'!V12","v":0},{"$f":"'11'!W12","v":0},{"$f":"'11'!X12","v":0},{"$f":"'11'!Y12","v":0},{"$f":"'11'!Z12","v":0},{"$f":"'11'!AA12","v":0},{"$f":"'11'!AB12","v":0},{"$f":"'11'!AC12","v":0},{"$f":"'11'!AD12","v":0},{"$f":"'11'!AE12","v":0},{"$f":"'11'!AF12","v":0},{"$f":"'11'!AG12","v":0},{"$f":"'11'!AH12","v":0},{"$f":"'11'!AI12","v":0},{"$f":"'11'!AJ12","v":0},11,{"$f":"VLOOKUP(AL1019,Přehled!$C$5:$AL$24,36)","v":""},null,null,null,null,null,null,null,null,null,null,null,null,null,null,null,null,null,null,null,null,null,null,null,null,null,null,null,null,null,{"$f":"'7'!$AO$92","v":0},{"$f":"'7'!$AP$92","v":0},{"$f":"'7'!$AQ$92","v":0},{"$f":"'7'!$AR$92","v":0},{"$f":"'7'!$AS$92","v":0},{"$f":"'7'!$AT$92","v":0},7,{"$f":"VLOOKUP(BW1019,Přehled!$C$5:$AL$24,36)","v":""},null,null,null,null,null,null,null,null,null,null,null,null,null,null,null,null,null,null,null,null,{"$f":"'7'!$BP$92","v":0},{"$f":"'7'!$BQ$92","v":0},{"$f":"'7'!$BR$92","v":0},{"$f":"'7'!$BS$92","v":0},{"$f":"'7'!$BT$92","v":0},{"$f":"'7'!$BU$92","v":0},7,{"$f":"VLOOKUP(CY1019,Přehled!$C$5:$AL$24,36)","v":""},null,null,null,null,null,null,null,null,null,null,null,null,null,null,null,{"$f":"'7'!$CR$92","v":0},{"$f":"'7'!$CS$92","v":0},{"$f":"'7'!$CT$92","v":0},7,{"$f":"VLOOKUP(DS1019,Přehled!$C$5:$AL$24,36)","v":""}]
[{"$f":"'11'!A22","v":0},{"$f":"'11'!B22","v":0},{"$f":"'11'!C22","v":0},{"$f":"SUMIF($B$5:$B$2024,Souhrn_hod[[#This Row],[Jméno]],$E$5:$E$2024)","v":0},{"$f":"'11'!D22","v":0},{"$f":"'11'!E22","v":0},{"$f":"'11'!F22","v":0},{"$f":"'11'!G22","v":0},{"$f":"'11'!H22","v":0},{"$f":"'11'!I22","v":0},{"$f":"'11'!J22","v":0},{"$f":"'11'!K22","v":0},{"$f":"'11'!L22","v":0},{"$f":"'11'!M22","v":0},{"$f":"'11'!N22","v":0},{"$f":"'11'!O22","v":0},{"$f":"'11'!P22","v":0},{"$f":"'11'!Q22","v":0},{"$f":"'11'!R22","v":0},{"$f":"'11'!S22","v":0},{"$f":"'11'!T22","v":0},{"$f":"'11'!U22","v":0},{"$f":"'11'!V22","v":0},{"$f":"'11'!W22","v":0},{"$f":"'11'!X22","v":0},{"$f":"'11'!Y22","v":0},{"$f":"'11'!Z22","v":0},{"$f":"'11'!AA22","v":0},{"$f":"'11'!AB22","v":0},{"$f":"'11'!AC22","v":0},{"$f":"'11'!AD22","v":0},{"$f":"'11'!AE22","v":0},{"$f":"'11'!AF22","v":0},{"$f":"'11'!AG22","v":0},{"$f":"'11'!AH22","v":0},{"$f":"'11'!AI22","v":0},{"$f":"'11'!AJ22","v":0},11,{"$f":"VLOOKUP(AL1029,Přehled!$C$5:$AL$24,36)","v":""},null,null,null,null,null,null,null,null,null,null,null,null,null,null,null,null,null,null,null,null,null,null,null,null,null,null,null,null,null,{"$f":"'7'!$AO$102","v":0},{"$f":"'7'!$AP$102","v":0},{"$f":"'7'!$AQ$102","v":0},{"$f":"'7'!$AR$102","v":0},{"$f":"'7'!$AS$102","v":0},{"$f":"'7'!$AT$102","v":0},7,{"$f":"VLOOKUP(BW1029,Přehled!$C$5:$AL$24,36)","v":""},null,null,null,null,null,null,null,null,null,null,null,null,null,null,null,null,null,null,null,null,{"$f":"'7'!$BP$102","v":0},{"$f":"'7'!$BQ$102","v":0},{"$f":"'7'!$BR$102","v":0},{"$f":"'7'!$BS$102","v":0},{"$f":"'7'!$BT$102","v":0},{"$f":"'7'!$BU$102","v":0},7,{"$f":"VLOOKUP(CY1029,Přehled!$C$5:$AL$24,36)","v":""},null,null,null,null,null,null,null,null,null,null,null,null,null,null,null,{"$f":"'7'!$CR$102","v":0},{"$f":"'7'!$CS$102","v":0},{"$f":"'7'!$CT$102","v":0},7,{"$f":"VLOOKUP(DS1029,Přehled!$C$5:$AL$24,36)","v":""}]
[{"$f":"'11'!A28","v":0},{"$f":"'11'!B28","v":0},{"$f":"'11'!C28","v":0},{"$f":"SUMIF($B$5:$B$2024,Souhrn_hod[[#This Row],[Jméno]],$E$5:$E$2024)","v":0},{"$f":"'11'!D28","v":0},{"$f":"'11'!E28","v":0},{"$f":"'11'!F28","v":0},{"$f":"'11'!G28","v":0},{"$f":"'11'!H28","v":0},{"$f":"'11'!I28","v":0},{"$f":"'11'!J28","v":0},{"$f":"'11'!K28","v":0},{"$f":"'11'!L28","v":0},{"$f":"'11'!M28","v":0},{"$f":"'11'!N28","v":0},{"$f":"'11'!O28","v":0},{"$f":"'11'!P28","v":0},{"$f":"'11'!Q28","v":0},{"$f":"'11'!R28","v":0},{"$f":"'11'!S28","v":0},{"$f":"'11'!T28","v":0},{"$f":"'11'!U28","v":0},{"$f":"'11'!V28","v":0},{"$f":"'11'!W28","v":0},{"$f":"'11'!X28","v":0},{"$f":"'11'!Y28","v":0},{"$f":"'11'!Z28","v":0},{"$f":"'11'!AA28","v":0},{"$f":"'11'!AB28","v":0},{"$f":"'11'!AC28","v":0},{"$f":"'11'!AD28","v":0},{"$f":"'11'!AE28","v":0},{"$f":"'11'!AF28","v":0},{"$f":"'11'!AG28","v":0},{"$f":"'11'!AH28","v":0},{"$f":"'11'!AI28","v":0},{"$f":"'11'!AJ28","v":0},11,{"$f":"VLOOKUP(AL1035,Přehled!$C$5:$AL$24,36)","v":""},null,null,null,null,null,null,null,null,null,null,null,null,null,null,null,null,null,null,null,null,null,null,null,null,null,null,null,null,null,{"$f":"'7'!$AO$108","v":0},{"$f":"'7'!$AP$108","v":0},{"$f":"'7'!$AQ$108","v":0},{"$f":"'7'!$AR$108","v":0},{"$f":"'7'!$AS$108","v":0},{"$f":"'7'!$AT$108","v":0},7,{"$f":"VLOOKUP(BW1035,Přehled!$C$5:$AL$24,36)","v":""},null,null,null,null,null,null,null,null,null,null,null,null,null,null,null,null,null,null,null,null,{"$f":"'7'!$BP$108","v":0},{"$f":"'7'!$BQ$108","v":0},{"$f":"'7'!$BR$108","v":0},{"$f":"'7'!$BS$108","v":0},{"$f":"'7'!$BT$108","v":0},{"$f":"'7'!$BU$108","v":0},7,{"$f":"VLOOKUP(CY1035,Přehled!$C$5:$AL$24,36)","v":""},null,null,null,null,null,null,null,null,null,null,null,null,null,null,null,{"$f":"'7'!$CR$108","v":0},{"$f":"'7'!$CS$108","v":0},{"$f":"'7'!$CT$108","v":0},7,{"$f":"VLOOKUP(DS1035,Přehled!$C$5:$AL$24,36)","v":""}]
[{"$f":"'11'!A40","v":0},{"$f":"'11'!B40","v":0},{"$f":"'11'!C40","v":0},{"$f":"SUMIF($B$5:$B$2024,Souhrn_hod[[#This Row],[Jméno]],$E$5:$E$2024)","v":0},{"$f":"'11'!D40","v":0},{"$f":"'11'!E40","v":0},{"$f":"'11'!F40","v":0},{"$f":"'11'!G40","v":0},{"$f":"'11'!H40","v":0},{"$f":"'11'!I40","v":0},{"$f":"'11'!J40","v":0},{"$f":"'11'!K40","v":0},{"$f":"'11'!L40","v":0},{"$f":"'11'!M40","v":0},{"$f":"'11'!N40","v":0},{"$f":"'11'!O40","v":0},{"$f":"'11'!P40","v":0},{"$f":"'11'!Q40","v":0},{"$f":"'11'!R40","v":0},{"$f":"'11'!S40","v":0},{"$f":"'11'!T40","v":0},{"$f":"'11'!U40","v":0},{"$f":"'11'!V40","v":0},{"$f":"'11'!W40","v":0},{"$f":"'11'!X40","v":0},{"$f":"'11'!Y40","v":0},{"$f":"'11'!Z40","v":0},{"$f":"'11'!AA40","v":0},{"$f":"'11'!AB40","v":0},{"$f":"'11'!AC40","v":0},{"$f":"'11'!AD40","v":0},{"$f":"'11'!AE40","v":0},{"$f":"'11'!AF40","v":0},{"$f":"'11'!AG40","v":0},{"$f":"'11'!AH40","v":0},{"$f":"'11'!AI40","v":0},{"$f":"'11'!AJ40","v":0},11,{"$f":"VLOOKUP(AL1047,Přehled!$C$5:$AL$24,36)","v":""},null,null,null,null,null,null,null,null,null,null,null,null,null,null,null,null,null,null,null,null,null,null,null,null,null,null,null,null,null,{"$f":"'7'!$AO$120","v":0},{"$f":"'7'!$AP$120","v":0},{"$f":"'7'!$AQ$120","v":0},{"$f":"'7'!$AR$120","v":0},{"$f":"'7'!$AS$120","v":0},{"$f":"'7'!$AT$120","v":0},7,{"$f":"VLOOKUP(BW1047,Přehled!$C$5:$AL$24,36)","v":""},null,null,null,null,null,null,null,null,null,null,null,null,null,null,null,null,null,null,null,null,{"$f":"'7'!$BP$120","v":0},{"$f":"'7'!$BQ$120","v":0},{"$f":"'7'!$BR$120","v":0},{"$f":"'7'!$BS$120","v":0},{"$f":"'7'!$BT$120","v":0},{"$f":"'7'!$BU$120","v":0},7,{"$f":"VLOOKUP(CY1047,Přehled!$C$5:$AL$24,36)","v":""},null,null,null,null,null,null,null,null,null,null,null,null,null,null,null,{"$f":"'7'!$CR$120","v":0},{"$f":"'7'!$CS$120","v":0},{"$f":"'7'!$CT$120","v":0},7,{"$f":"VLOOKUP(DS1047,Přehled!$C$5:$AL$24,36)","v":""}]
[{"$f":"'11'!A56","v":0},{"$f":"'11'!B56","v":0},{"$f":"'11'!C56","v":0},{"$f":"SUMIF($B$5:$B$2024,Souhrn_hod[[#This Row],[Jméno]],$E$5:$E$2024)","v":0},{"$f":"'11'!D56","v":0},{"$f":"'11'!E56","v":0},{"$f":"'11'!F56","v":0},{"$f":"'11'!G56","v":0},{"$f":"'11'!H56","v":0},{"$f":"'11'!I56","v":0},{"$f":"'11'!J56","v":0},{"$f":"'11'!K56","v":0},{"$f":"'11'!L56","v":0},{"$f":"'11'!M56","v":0},{"$f":"'11'!N56","v":0},{"$f":"'11'!O56","v":0},{"$f":"'11'!P56","v":0},{"$f":"'11'!Q56","v":0},{"$f":"'11'!R56","v":0},{"$f":"'11'!S56","v":0},{"$f":"'11'!T56","v":0},{"$f":"'11'!U56","v":0},{"$f":"'11'!V56","v":0},{"$f":"'11'!W56","v":0},{"$f":"'11'!X56","v":0},{"$f":"'11'!Y56","v":0},{"$f":"'11'!Z56","v":0},{"$f":"'11'!AA56","v":0},{"$f":"'11'!AB56","v":0},{"$f":"'11'!AC56","v":0},{"$f":"'11'!AD56","v":0},{"$f":"'11'!AE56","v":0},{"$f":"'11'!AF56","v":0},{"$f":"'11'!AG56","v":0},{"$f":"'11'!AH56","v":0},{"$f":"'11'!AI56","v":0},{"$f":"'11'!AJ56","v":0},11,{"$f":"VLOOKUP(AL1063,Přehled!$C$5:$AL$24,36)","v":""},null,null,null,null,null,null,null,null,null,null,null,null,null,null,null,null,null,null,null,null,null,null,null,null,null,null,null,null,null,{"$f":"'7'!$AO$136","v":0},{"$f":"'7'!$AP$136","v":0},{"$f":"'7'!$AQ$136","v":0},{"$f":"'7'!$AR$136","v":0},{"$f":"'7'!$AS$136","v":0},{"$f":"'7'!$AT$136","v":0},7,{"$f":"VLOOKUP(BW1063,Přehled!$C$5:$AL$24,36)","v":""},null,null,null,null,null,null,null,null,null,null,null,null,null,null,null,null,null,null,null,null,{"$f":"'7'!$BP$136","v":0},{"$f":"'7'!$BQ$136","v":0},{"$f":"'7'!$BR$136","v":0},{"$f":"'7'!$BS$136","v":0},{"$f":"'7'!$BT$136","v":0},{"$f":"'7'!$BU$136","v":0},7,{"$f":"VLOOKUP(CY1063,Přehled!$C$5:$AL$24,36)","v":""},null,null,null,null,null,null,null,null,null,null,null,null,null,null,null,{"$f":"'7'!$CR$136","v":0},{"$f":"'7'!$CS$136","v":0},{"$f":"'7'!$CT$136","v":0},7,{"$f":"VLOOKUP(DS1063,Přehled!$C$5:$AL$24,36)","v":""}]
[{"$f":"'11'!A62","v":0},{"$f":"'11'!B62","v":0},{"$f":"'11'!C62","v":0},{"$f":"SUMIF($B$5:$B$2024,Souhrn_hod[[#This Row],[Jméno]],$E$5:$E$2024)","v":0},{"$f":"'11'!D62","v":0},{"$f":"'11'!E62","v":0},{"$f":"'11'!F62","v":0},{"$f":"'11'!G62","v":0},{"$f":"'11'!H62","v":0},{"$f":"'11'!I62","v":0},{"$f":"'11'!J62","v":0},{"$f":"'11'!K62","v":0},{"$f":"'11'!L62","v":0},{"$f":"'11'!M62","v":0},{"$f":"'11'!N62","v":0},{"$f":"'11'!O62","v":0},{"$f":"'11'!P62","v":0},{"$f":"'11'!Q62","v":0},{"$f":"'11'!R62","v":0},{"$f":"'11'!S62","v":0},{"$f":"'11'!T62","v":0},{"$f":"'11'!U62","v":0},{"$f":"'11'!V62","v":0},{"$f":"'11'!W62","v":0},{"$f":"'11'!X62","v":0},{"$f":"'11'!Y62","v":0},{"$f":"'11'!Z62","v":0},{"$f":"'11'!AA62","v":0},{"$f":"'11'!AB62","v":0},{"$f":"'11'!AC62","v":0},{"$f":"'11'!AD62","v":0},{"$f":"'11'!AE62","v":0},{"$f":"'11'!AF62","v":0},{"$f":"'11'!AG62","v":0},{"$f":"'11'!AH62","v":0},{"$f":"'11'!AI62","v":0},{"$f":"'11'!AJ62","v":0},11,{"$f":"VLOOKUP(AL1069,Přehled!$C$5:$AL$24,36)","v":""},null,null,null,null,null,null,null,null,null,null,null,null,null,null,null,null,null,null,null,null,null,null,null,null,null,null,null,null,null,{"$f":"'7'!$AO$142","v":0},{"$f":"'7'!$AP$142","v":0},{"$f":"'7'!$AQ$142","v":0},{"$f":"'7'!$AR$142","v":0},{"$f":"'7'!$AS$142","v":0},{"$f":"'7'!$AT$142","v":0},7,{"$f":"VLOOKUP(BW1069,Přehled!$C$5:$AL$24,36)","v":""},null,null,null,null,null,null,null,null,null,null,null,null,null,null,null,null,null,null,null,null,{"$f":"'7'!$BP$142","v":0},{"$f":"'7'!$BQ$142","v":0},{"$f":"'7'!$BR$142","v":0},{"$f":"'7'!$BS$142","v":0},{"$f":"'7'!$BT$142","v":0},{"$f":"'7'!$BU$142","v":0},7,{"$f":"VLOOKUP(CY1069,Přehled!$C$5:$AL$24,36)","v":""},null,null,null,null,null,null,null,null,null,null,null,null,null,null,null,{"$f":"'7'!$CR$142","v":0},{"$f":"'7'!$CS$142","v":0},{"$f":"'7'!$CT$142","v":0},7,{"$f":"VLOOKUP(DS1069,Přehled!$C$5:$AL$24,36)","v":""}]
[{"$f":"'11'!A72","v":0},{"$f":"'11'!B72","v":0},{"$f":"'11'!C72","v":0},{"$f":"SUMIF($B$5:$B$2024,Souhrn_hod[[#This Row],[Jméno]],$E$5:$E$2024)","v":0},{"$f":"'11'!D72","v":0},{"$f":"'11'!E72","v":0},{"$f":"'11'!F72","v":0},{"$f":"'11'!G72","v":0},{"$f":"'11'!H72","v":0},{"$f":"'11'!I72","v":0},{"$f":"'11'!J72","v":0},{"$f":"'11'!K72","v":0},{"$f":"'11'!L72","v":0},{"$f":"'11'!M72","v":0},{"$f":"'11'!N72","v":0},{"$f":"'11'!O72","v":0},{"$f":"'11'!P72","v":0},{"$f":"'11'!Q72","v":0},{"$f":"'11'!R72","v":0},{"$f":"'11'!S72","v":0},{"$f":"'11'!T72","v":0},{"$f":"'11'!U72","v":0},{"$f":"'11'!V72","v":0},{"$f":"'11'!W72","v":0},{"$f":"'11'!X72","v":0},{"$f":"'11'!Y72","v":0},{"$f":"'11'!Z72","v":0},{"$f":"'11'!AA72","v":0},{"$f":"'11'!AB72","v":0},{"$f":"'11'!AC72","v":0},{"$f":"'11'!AD72","v":0},{"$f":"'11'!AE72","v":0},{"$f":"'11'!AF72","v":0},{"$f":"'11'!AG72","v":0},{"$f":"'11'!AH72","v":0},{"$f":"'11'!AI72","v":0},{"$f":"'11'!AJ72","v":0},11,{"$f":"VLOOKUP(AL1079,Přehled!$C$5:$AL$24,36)","v":""},null,null,null,null,null,null,null,null,null,null,null,null,null,null,null,null,null,null,null,null,null,null,null,null,null,null,null,null,null,{"$f":"'7'!$AO$152","v":0},{"$f":"'7'!$AP$152","v":0},{"$f":"'7'!$AQ$152","v":0},{"$f":"'7'!$AR$152","v":0},{"$f":"'7'!$AS$152","v":0},{"$f":"'7'!$AT$152","v":0},7,{"$f":"VLOOKUP(BW1079,Přehled!$C$5:$AL$24,36)","v":""},null,null,null,null,null,null,null,null,null,null,null,null,null,null,null,null,null,null,null,null,{"$f":"'7'!$BP$152","v":0},{"$f":"'7'!$BQ$152","v":0},{"$f":"'7'!$BR$152","v":0},{"$f":"'7'!$BS$152","v":0},{"$f":"'7'!$BT$152","v":0},{"$f":"'7'!$BU$152","v":0},7,{"$f":"VLOOKUP(CY1079,Přehled!$C$5:$AL$24,36)","v":""},null,null,null,null,null,null,null,null,null,null,null,null,null,null,null,{"$f":"'7'!$CR$152","v":0},{"$f":"'7'!$CS$152","v":0},{"$f":"'7'!$CT$152","v":0},7,{"$f":"VLOOKUP(DS1079,Přehled!$C$5:$AL$24,36)","v":""}]
[{"$f":"'11'!A89","v":0},{"$f":"'11'!B89","v":0},{"$f":"'11'!C89","v":0},{"$f":"SUMIF($B$5:$B$2024,Souhrn_hod[[#This Row],[Jméno]],$E$5:$E$2024)","v":0},{"$f":"'11'!D89","v":0},{"$f":"'11'!E89","v":0},{"$f":"'11'!F89","v":0},{"$f":"'11'!G89","v":0},{"$f":"'11'!H89","v":0},{"$f":"'11'!I89","v":0},{"$f":"'11'!J89","v":0},{"$f":"'11'!K89","v":0},{"$f":"'11'!L89","v":0},{"$f":"'11'!M89","v":0},{"$f":"'11'!N89","v":0},{"$f":"'11'!O89","v":0},{"$f":"'11'!P89","v":0},{"$f":"'11'!Q89","v":0},{"$f":"'11'!R89","v":0},{"$f":"'11'!S89","v":0},{"$f":"'11'!T89","v":0},{"$f":"'11'!U89","v":0},{"$f":"'11'!V89","v":0},{"$f":"'11'!W89","v":0},{"$f":"'11'!X89","v":0},{"$f":"'11'!Y89","v":0},{"$f":"'11'!Z89","v":0},{"$f":"'11'!AA89","v":0},{"$f":"'11'!AB89","v":0},{"$f":"'11'!AC89","v":0},{"$f":"'11'!AD89","v":0},{"$f":"'11'!AE89","v":0},{"$f":"'11'!AF89","v":0},{"$f":"'11'!AG89","v":0},{"$f":"'11'!AH89","v":0},{"$f":"'11'!AI89","v":0},{"$f":"'11'!AJ89","v":0},11,{"$f":"VLOOKUP(AL1096,Přehled!$C$5:$AL$24,36)","v":""},null,null,null,null,null,null,null,null,null,null,null,null,null,null,null,null,null,null,null,null,null,null,null,null,null,null,null,null,null,{"$f":"'8'!$AO$14","v":0},{"$f":"'8'!$AP$14","v":0},{"$f":"'8'!$AQ$14","v":0},{"$f":"'8'!$AR$14","v":0},{"$f":"'8'!$AS$14","v":0},{"$f":"'8'!$AT$14","v":0},8,{"$f":"VLOOKUP(BW1096,Přehled!$C$5:$AL$24,36)","v":""},null,null,null,null,null,null,null,null,null,null,null,null,null,null,null,null,null,null,null,null,{"$f":"'8'!$BP$14","v":0},{"$f":"'8'!$BQ$14","v":0},{"$f":"'8'!$BR$14","v":0},{"$f":"'8'!$BS$14","v":0},{"$f":"'8'!$BT$14","v":0},{"$f":"'8'!$BU$14","v":0},8,{"$f":"VLOOKUP(CY1096,Přehled!$C$5:$AL$24,36)","v":""},null,null,null,null,null,null,null,null,null,null,null,null,null,null,null,{"$f":"'8'!$CR$14","v":0},{"$f":"'8'!$CS$14","v":0},{"$f":"'8'!$CT$14","v":0},8,{"$f":"VLOOKUP(DS1096,Přehled!$C$5:$AL$24,36)","v":""}]
[{"$f":"'11'!A99","v":0},{"$f":"'11'!B99","v":0},{"$f":"'11'!C99","v":0},{"$f":"SUMIF($B$5:$B$2024,Souhrn_hod[[#This Row],[Jméno]],$E$5:$E$2024)","v":0},{"$f":"'11'!D99","v":0},{"$f":"'11'!E99","v":0},{"$f":"'11'!F99","v":0},{"$f":"'11'!G99","v":0},{"$f":"'11'!H99","v":0},{"$f":"'11'!I99","v":0},{"$f":"'11'!J99","v":0},{"$f":"'11'!K99","v":0},{"$f":"'11'!L99","v":0},{"$f":"'11'!M99","v":0},{"$f":"'11'!N99","v":0},{"$f":"'11'!O99","v":0},{"$f":"'11'!P99","v":0},{"$f":"'11'!Q99","v":0},{"$f":"'11'!R99","v":0},{"$f":"'11'!S99","v":0},{"$f":"'11'!T99","v":0},{"$f":"'11'!U99","v":0},{"$f":"'11'!V99","v":0},{"$f":"'11'!W99","v":0},{"$f":"'11'!X99","v":0},{"$f":"'11'!Y99","v":0},{"$f":"'11'!Z99","v":0},{"$f":"'11'!AA99","v":0},{"$f":"'11'!AB99","v":0},{"$f":"'11'!AC99","v":0},{"$f":"'11'!AD99","v":0},{"$f":"'11'!AE99","v":0},{"$f":"'11'!AF99","v":0},{"$f":"'11'!AG99","v":0},{"$f":"'11'!AH99","v":0},{"$f":"'11'!AI99","v":0},{"$f":"'11'!AJ99","v":0},11,{"$f":"VLOOKUP(AL1106,Přehled!$C$5:$AL$24,36)","v":""},null,null,null,null,null,null,null,null,null,null,null,null,null,null,null,null,null,null,null,null,null,null,null,null,null,null,null,null,null,{"$f":"'8'!$AO$24","v":0},{"$f":"'8'!$AP$24","v":0},{"$f":"'8'!$AQ$24","v":0},{"$f":"'8'!$AR$24","v":0},{"$f":"'8'!$AS$24","v":0},{"$f":"'8'!$AT$24","v":0},8,{"$f":"VLOOKUP(BW1106,Přehled!$C$5:$AL$24,36)","v":""},null,null,null,null,null,null,null,null,null,null,null,null,null,null,null,null,null,null,null,null,{"$f":"'8'!$BP$24","v":0},{"$f":"'8'!$BQ$24","v":0},{"$f":"'8'!$BR$24","v":0},{"$f":"'8'!$BS$24","v":0},{"$f":"'8'!$BT$24","v":0},{"$f":"'8'!$BU$24","v":0},8,{"$f":"VLOOKUP(CY1106,Přehled!$C$5:$AL$24,36)","v":""},null,null,null,null,null,null,null,null,null,null,null,null,null,null,null,{"$f":"'8'!$CR$24","v":0},{"$f":"'8'!$CS$24","v":0},{"$f":"'8'!$CT$24","v":0},8,{"$f":"VLOOKUP(DS1106,Přehled!$C$5:$AL$24,36)","v":""}]
[{"$f":"'12'!A8","v":0},{"$f":"'12'!B8","v":0},{"$f":"'12'!C8","v":0},{"$f":"SUMIF($B$5:$B$2024,Souhrn_hod[[#This Row],[Jméno]],$E$5:$E$2024)","v":0},{"$f":"'12'!D8","v":0},{"$f":"'12'!E8","v":0},{"$f":"'12'!F8","v":0},{"$f":"'12'!G8","v":0},{"$f":"'12'!H8","v":0},{"$f":"'12'!I8","v":0},{"$f":"'12'!J8","v":0},{"$f":"'12'!K8","v":0},{"$f":"'12'!L8","v":0},{"$f":"'12'!M8","v":0},{"$f":"'12'!N8","v":0},{"$f":"'12'!O8","v":0},{"$f":"'12'!P8","v":0},{"$f":"'12'!Q8","v":0},{"$f":"'12'!R8","v":0},{"$f":"'12'!S8","v":0},{"$f":"'12'!T8","v":0},{"$f":"'12'!U8","v":0},{"$f":"'12'!V8","v":0},{"$f":"'12'!W8","v":0},{"$f":"'12'!X8","v":0},{"$f":"'12'!Y8","v":0},{"$f":"'12'!Z8","v":0},{"$f":"'12'!AA8","v":0},{"$f":"'12'!AB8","v":0},{"$f":"'12'!AC8","v":0},{"$f":"'12'!AD8","v":0},{"$f":"'12'!AE8","v":0},{"$f":"'12'!AF8","v":0},{"$f":"'12'!AG8","v":0},{"$f":"'12'!AH8","v":0},{"$f":"'12'!AI8","v":0},{"$f":"'12'!AJ8","v":0},12,{"$f":"VLOOKUP(AL1116,Přehled!$C$5:$AL$24,36)","v":""},null,null,null,null,null,null,null,null,null,null,null,null,null,null,null,null,null,null,null,null,null,null,null,null,null,null,null,null,null,{"$f":"'8'!$AO$34","v":0},{"$f":"'8'!$AP$34","v":0},{"$f":"'8'!$AQ$34","v":0},{"$f":"'8'!$AR$34","v":0},{"$f":"'8'!$AS$34","v":0},{"$f":"'8'!$AT$34","v":0},8,{"$f":"VLOOKUP(BW1116,Přehled!$C$5:$AL$24,36)","v":""},null,null,null,null,null,null,null,null,null,null,null,null,null,null,null,null,null,null,null,null,{"$f":"'8'!$BP$34","v":0},{"$f":"'8'!$BQ$34","v":0},{"$f":"'8'!$BR$34","v":0},{"$f":"'8'!$BS$34","v":0},{"$f":"'8'!$BT$34","v":0},{"$f":"'8'!$BU$34","v":0},8,{"$f":"VLOOKUP(CY1116,Přehled!$C$5:$AL$24,36)","v":""},null,null,null,null,null,null,null,null,null,null,null,null,null,null,null,{"$f":"'8'!$CR$34","v":0},{"$f":"'8'!$CS$34","v":0},{"$f":"'8'!$CT$34","v":0},8,{"$f":"VLOOKUP(DS1116,Přehled!$C$5:$AL$24,36)","v":""}]
[{"$f":"'12'!A22","v":0},{"$f":"'12'!B22","v":0},{"$f":"'12'!C22","v":0},{"$f":"SUMIF($B$5:$B$2024,Souhrn_hod[[#This Row],[Jméno]],$E$5:$E$2024)","v":0},{"$f":"'12'!D22","v":0},{"$f":"'12'!E22","v":0},{"$f":"'12'!F22","v":0},{"$f":"'12'!G22","v":0},{"$f":"'12'!H22","v":0},{"$f":"'12'!I22","v":0},{"$f":"'12'!J22","v":0},{"$f":"'12'!K22","v":0},{"$f":"'12'!L22","v":0},{"$f":"'12'!M22","v":0},{"$f":"'12'!N22","v":0},{"$f":"'12'!O22","v":0},{"$f":"'12'!P22","v":0},{"$f":"'12'!Q22","v":0},{"$f":"'12'!R22","v":0},{"$f":"'12'!S22","v":0},{"$f":"'12'!T22","v":0},{"$f":"'12'!U22","v":0},{"$f":"'12'!V22","v":0},{"$f":"'12'!W22","v":0},{"$f":"'12'!X22","v":0},{"$f":"'12'!Y22","v":0},{"$f":"'12'!Z22","v":0},{"$f":"'12'!AA22","v":0},{"$f":"'12'!AB22","v":0},{"$f":"'12'!AC22","v":0},{"$f":"'12'!AD22","v":0},{"$f":"'12'!AE22","v":0},{"$f":"'12'!AF22","v":0},{"$f":"'12'!AG22","v":0},{"$f":"'12'!AH22","v":0},{"$f":"'12'!AI22","v":0},{"$f":"'12'!AJ22","v":0},12,{"$f":"VLOOKUP(AL1130,Přehled!$C$5:$AL$24,36)","v":""},null,null,null,null,null,null,null,null,null,null,null,null,null,null,null,null,null,null,null,null,null,null,null,null,null,null,null,null,null,{"$f":"'8'!$AO$48","v":0},{"$f":"'8'!$AP$48","v":0},{"$f":"'8'!$AQ$48","v":0},{"$f":"'8'!$AR$48","v":0},{"$f":"'8'!$AS$48","v":0},{"$f":"'8'!$AT$48","v":0},8,{"$f":"VLOOKUP(BW1130,Přehled!$C$5:$AL$24,36)","v":""},null,null,null,null,null,null,null,null,null,null,null,null,null,null,null,null,null,null,null,null,{"$f":"'8'!$BP$48","v":0},{"$f":"'8'!$BQ$48","v":0},{"$f":"'8'!$BR$48","v":0},{"$f":"'8'!$BS$48","v":0},{"$f":"'8'!$BT$48","v":0},{"$f":"'8'!$BU$48","v":0},8,{"$f":"VLOOKUP(CY1130,Přehled!$C$5:$AL$24,36)","v":""},null,null,null,null,null,null,null,null,null,null,null,null,null,null,null,{"$f":"'8'!$CR$48","v":0},{"$f":"'8'!$CS$48","v":0},{"$f":"'8'!$CT$48","v":0},8,{"$f":"VLOOKUP(DS1130,Přehled!$C$5:$AL$24,36)","v":""}]
[{"$f":"'12'!A32","v":0},{"$f":"'12'!B32","v":0},{"$f":"'12'!C32","v":0},{"$f":"SUMIF($B$5:$B$2024,Souhrn_hod[[#This Row],[Jméno]],$E$5:$E$2024)","v":0},{"$f":"'12'!D32","v":0},{"$f":"'12'!E32","v":0},{"$f":"'12'!F32","v":0},{"$f":"'12'!G32","v":0},{"$f":"'12'!H32","v":0},{"$f":"'12'!I32","v":0},{"$f":"'12'!J32","v":0},{"$f":"'12'!K32","v":0},{"$f":"'12'!L32","v":0},{"$f":"'12'!M32","v":0},{"$f":"'12'!N32","v":0},{"$f":"'12'!O32","v":0},{"$f":"'12'!P32","v":0},{"$f":"'12'!Q32","v":0},{"$f":"'12'!R32","v":0},{"$f":"'12'!S32","v":0},{"$f":"'12'!T32","v":0},{"$f":"'12'!U32","v":0},{"$f":"'12'!V32","v":0},{"$f":"'12'!W32","v":0},{"$f":"'12'!X32","v":0},{"$f":"'12'!Y32","v":0},{"$f":"'12'!Z32","v":0},{"$f":"'12'!AA32","v":0},{"$f":"'12'!AB32","v":0},{"$f":"'12'!AC32","v":0},{"$f":"'12'!AD32","v":0},{"$f":"'12'!AE32","v":0},{"$f":"'12'!AF32","v":0},{"$f":"'12'!AG32","v":0},{"$f":"'12'!AH32","v":0},{"$f":"'12'!AI32","v":0},{"$f":"'12'!AJ32","v":0},12,{"$f":"VLOOKUP(AL1140,Přehled!$C$5:$AL$24,36)","v":""},null,null,null,null,null,null,null,null,null,null,null,null,null,null,null,null,null,null,null,null,null,null,null,null,null,null,null,null,null,{"$f":"'8'!$AO$58","v":0},{"$f":"'8'!$AP$58","v":0},{"$f":"'8'!$AQ$58","v":0},{"$f":"'8'!$AR$58","v":0},{"$f":"'8'!$AS$58","v":0},{"$f":"'8'!$AT$58","v":0},8,{"$f":"VLOOKUP(BW1140,Přehled!$C$5:$AL$24,36)","v":""},null,null,null,null,null,null,null,null,null,null,null,null,null,null,null,null,null,null,null,null,{"$f":"'8'!$BP$58","v":0},{"$f":"'8'!$BQ$58","v":0},{"$f":"'8'!$BR$58","v":0},{"$f":"'8'!$BS$58","v":0},{"$f":"'8'!$BT$58","v":0},{"$f":"'8'!$BU$58","v":0},8,{"$f":"VLOOKUP(CY1140,Přehled!$C$5:$AL$24,36)","v":""},null,null,null,null,null,null,null,null,null,null,null,null,null,null,null,{"$f":"'8'!$CR$58","v":0},{"$f":"'8'!$CS$58","v":0},{"$f":"'8'!$CT$58","v":0},8,{"$f":"VLOOKUP(DS1140,Přehled!$C$5:$AL$24,36)","v":""}]
[{"$f":"'12'!A38","v":0},{"$f":"'12'!B38","v":0},{"$f":"'12'!C38","v":0},{"$f":"SUMIF($B$5:$B$2024,Souhrn_hod[[#This Row],[Jméno]],$E$5:$E$2024)","v":0},{"$f":"'12'!D38","v":0},{"$f":"'12'!E38","v":0},{"$f":"'12'!F38","v":0},{"$f":"'12'!G38","v":0},{"$f":"'12'!H38","v":0},{"$f":"'12'!I38","v":0},{"$f":"'12'!J38","v":0},{"$f":"'12'!K38","v":0},{"$f":"'12'!L38","v":0},{"$f":"'12'!M38","v":0},{"$f":"'12'!N38","v":0},{"$f":"'12'!O38","v":0},{"$f":"'12'!P38","v":0},{"$f":"'12'!Q38","v":0},{"$f":"'12'!R38","v":0},{"$f":"'12'!S38","v":0},{"$f":"'12'!T38","v":0},{"$f":"'12'!U38","v":0},{"$f":"'12'!V38","v":0},{"$f":"'12'!W38","v":0},{"$f":"'12'!X38","v":0},{"$f":"'12'!Y38","v":0},{"$f":"'12'!Z38","v":0},{"$f":"'12'!AA38","v":0},{"$f":"'12'!AB38","v":0},{"$f":"'12'!AC38","v":0},{"$f":"'12'!AD38","v":0},{"$f":"'12'!AE38","v":0},{"$f":"'12'!AF38","v":0},{"$f":"'12'!AG38","v":0},{"$f":"'12'!AH38","v":0},{"$f":"'12'!AI38","v":0},{"$f":"'12'!AJ38","v":0},12,{"$f":"VLOOKUP(AL1146,Přehled!$C$5:$AL$24,36)","v":""},null,null,null,null,null,null,null,null,null,null,null,null,null,null,null,null,null,null,null,null,null,null,null,null,null,null,null,null,null,{"$f":"'8'!$AO$64","v":0},{"$f":"'8'!$AP$64","v":0},{"$f":"'8'!$AQ$64","v":0},{"$f":"'8'!$AR$64","v":0},{"$f":"'8'!$AS$64","v":0},{"$f":"'8'!$AT$64","v":0},8,{"$f":"VLOOKUP(BW1146,Přehled!$C$5:$AL$24,36)","v":""},null,null,null,null,null,null,null,null,null,null,null,null,null,null,null,null,null,null,null,null,{"$f":"'8'!$BP$64","v":0},{"$f":"'8'!$BQ$64","v":0},{"$f":"'8'!$BR$64","v":0},{"$f":"'8'!$BS$64","v":0},{"$f":"'8'!$BT$64","v":0},{"$f":"'8'!$BU$64","v":0},8,{"$f":"VLOOKUP(CY1146,Přehled!$C$5:$AL$24,36)","v":""},null,null,null,null,null,null,null,null,null,null,null,null,null,null,null,{"$f":"'8'!$CR$64","v":0},{"$f":"'8'!$CS$64","v":0},{"$f":"'8'!$CT$64","v":0},8,{"$f":"VLOOKUP(DS1146,Přehled!$C$5:$AL$24,36)","v":""}]
[{"$f":"'12'!A55","v":0},{"$f":"'12'!B55","v":0},{"$f":"'12'!C55","v":0},{"$f":"SUMIF($B$5:$B$2024,Souhrn_hod[[#This Row],[Jméno]],$E$5:$E$2024)","v":0},{"$f":"'12'!D55","v":0},{"$f":"'12'!E55","v":0},{"$f":"'12'!F55","v":0},{"$f":"'12'!G55","v":0},{"$f":"'12'!H55","v":0},{"$f":"'12'!I55","v":0},{"$f":"'12'!J55","v":0},{"$f":"'12'!K55","v":0},{"$f":"'12'!L55","v":0},{"$f":"'12'!M55","v":0},{"$f":"'12'!N55","v":0},{"$f":"'12'!O55","v":0},{"$f":"'12'!P55","v":0},{"$f":"'12'!Q55","v":0},{"$f":"'12'!R55","v":0},{"$f":"'12'!S55","v":0},{"$f":"'12'!T55","v":0},{"$f":"'12'!U55","v":0},{"$f":"'12'!V55","v":0},{"$f":"'12'!W55","v":0},{"$f":"'12'!X55","v":0},{"$f":"'12'!Y55","v":0},{"$f":"'12'!Z55","v":0},{"$f":"'12'!AA55","v":0},{"$f":"'12'!AB55","v":0},{"$f":"'12'!AC55","v":0},{"$f":"'12'!AD55","v":0},{"$f":"'12'!AE55","v":0},{"$f":"'12'!AF55","v":0},{"$f":"'12'!AG55","v":0},{"$f":"'12'!AH55","v":0},{"$f":"'12'!AI55","v":0},{"$f":"'12'!AJ55","v":0},12,{"$f":"VLOOKUP(AL1163,Přehled!$C$5:$AL$24,36)","v":""},null,null,null,null,null,null,null,null,null,null,null,null,null,null,null,null,null,null,null,null,null,null,null,null,null,null,null,null,null,{"$f":"'8'!$AO$81","v":0},{"$f":"'8'!$AP$81","v":0},{"$f":"'8'!$AQ$81","v":0},{"$f":"'8'!$AR$81","v":0},{"$f":"'8'!$AS$81","v":0},{"$f":"'8'!$AT$81","v":0},8,{"$f":"VLOOKUP(BW1163,Přehled!$C$5:$AL$24,36)","v":""},null,null,null,null,null,null,null,null,null,null,null,null,null,null,null,null,null,null,null,null,{"$f":"'8'!$BP$81","v":0},{"$f":"'8'!$BQ$81","v":0},{"$f":"'8'!$BR$81","v":0},{"$f":"'8'!$BS$81","v":0},{"$f":"'8'!$BT$81","v":0},{"$f":"'8'!$BU$81","v":0},8,{"$f":"VLOOKUP(CY1163,Přehled!$C$5:$AL$24,36)","v":""},null,null,null,null,null,null,null,null,null,null,null,null,null,null,null,{"$f":"'8'!$CR$81","v":0},{"$f":"'8'!$CS$81","v":0},{"$f":"'8'!$CT$81","v":0},8,{"$f":"VLOOKUP(DS1163,Přehled!$C$5:$AL$24,36)","v":""}]
[{"$f":"'12'!A65","v":0},{"$f":"'12'!B65","v":0},{"$f":"'12'!C65","v":0},{"$f":"SUMIF($B$5:$B$2024,Souhrn_hod[[#This Row],[Jméno]],$E$5:$E$2024)","v":0},{"$f":"'12'!D65","v":0},{"$f":"'12'!E65","v":0},{"$f":"'12'!F65","v":0},{"$f":"'12'!G65","v":0},{"$f":"'12'!H65","v":0},{"$f":"'12'!I65","v":0},{"$f":"'12'!J65","v":0},{"$f":"'12'!K65","v":0},{"$f":"'12'!L65","v":0},{"$f":"'12'!M65","v":0},{"$f":"'12'!N65","v":0},{"$f":"'12'!O65","v":0},{"$f":"'12'!P65","v":0},{"$f":"'12'!Q65","v":0},{"$f":"'12'!R65","v":0},{"$f":"'12'!S65","v":0},{"$f":"'12'!T65","v":0},{"$f":"'12'!U65","v":0},{"$f":"'12'!V65","v":0},{"$f":"'12'!W65","v":0},{"$f":"'12'!X65","v":0},{"$f":"'12'!Y65","v":0},{"$f":"'12'!Z65","v":0},{"$f":"'12'!AA65","v":0},{"$f":"'12'!AB65","v":0},{"$f":"'12'!AC65","v":0},{"$f":"'12'!AD65","v":0},{"$f":"'12'!AE65","v":0},{"$f":"'12'!AF65","v":0},{"$f":"'12'!AG65","v":0},{"$f":"'12'!AH65","v":0},{"$f":"'12'!AI65","v":0},{"$f":"'12'!AJ65","v":0},12,{"$f":"VLOOKUP(AL1173,Přehled!$C$5:$AL$24,36)","v":""},null,null,null,null,null,null,null,null,null,null,null,null,null,null,null,null,null,null,null,null,null,null,null,null,null,null,null,null,null,{"$f":"'8'!$AO$91","v":0},{"$f":"'8'!$AP$91","v":0},{"$f":"'8'!$AQ$91","v":0},{"$f":"'8'!$AR$91","v":0},{"$f":"'8'!$AS$91","v":0},{"$f":"'8'!$AT$91","v":0},8,{"$f":"VLOOKUP(BW1173,Přehled!$C$5:$AL$24,36)","v":""},null,null,null,null,null,null,null,null,null,null,null,null,null,null,null,null,null,null,null,null,{"$f":"'8'!$BP$91","v":0},{"$f":"'8'!$BQ$91","v":0},{"$f":"'8'!$BR$91","v":0},{"$f":"'8'!$BS$91","v":0},{"$f":"'8'!$BT$91","v":0},{"$f":"'8'!$BU$91","v":0},8,{"$f":"VLOOKUP(CY1173,Přehled!$C$5:$AL$24,36)","v":""},null,null,null,null,null,null,null,null,null,null,null,null,null,null,null,{"$f":"'8'!$CR$91","v":0},{"$f":"'8'!$CS$91","v":0},{"$f":"'8'!$CT$91","v":0},8,{"$f":"VLOOKUP(DS1173,Přehled!$C$5:$AL$24,36)","v":""}]
[{"$f":"'12'!A77","v":0},{"$f":"'12'!B77","v":0},{"$f":"'12'!C77","v":0},{"$f":"SUMIF($B$5:$B$2024,Souhrn_hod[[#This Row],[Jméno]],$E$5:$E$2024)","v":0},{"$f":"'12'!D77","v":0},{"$f":"'12'!E77","v":0},{"$f":"'12'!F77","v":0},{"$f":"'12'!G77","v":0},{"$f":"'12'!H77","v":0},{"$f":"'12'!I77","v":0},{"$f":"'12'!J77","v":0},{"$f":"'12'!K77","v":0},{"$f":"'12'!L77","v":0},{"$f":"'12'!M77","v":0},{"$f":"'12'!N77","v":0},{"$f":"'12'!O77","v":0},{"$f":"'12'!P77","v":0},{"$f":"'12'!Q77","v":0},{"$f":"'12'!R77","v":0},{"$f":"'12'!S77","v":0},{"$f":"'12'!T77","v":0},{"$f":"'12'!U77","v":0},{"$f":"'12'!V77","v":0},{"$f":"'12'!W77","v":0},{"$f":"'12'!X77","v":0},{"$f":"'12'!Y77","v":0},{"$f":"'12'!Z77","v":0},{"$f":"'12'!AA77","v":0},{"$f":"'12'!AB77","v":0},{"$f":"'12'!AC77","v":0},{"$f":"'12'!AD77","v":0},{"$f":"'12'!AE77","v":0},{"$f":"'12'!AF77","v":0},{"$f":"'12'!AG77","v":0},{"$f":"'12'!AH77","v":0},{"$f":"'12'!AI77","v":0},{"$f":"'12'!AJ77","v":0},12,{"$f":"VLOOKUP(AL1185,Přehled!$C$5:$AL$24,36)","v":""},null,null,null,null,null,null,null,null,null,null,null,null,null,null,null,null,null,null,null,null,null,null,null,null,null,null,null,null,null,{"$f":"'8'!$AO$103","v":0},{"$f":"'8'!$AP$103","v":0},{"$f":"'8'!$AQ$103","v":0},{"$f":"'8'!$AR$103","v":0},{"$f":"'8'!$AS$103","v":0},{"$f":"'8'!$AT$103","v":0},8,{"$f":"VLOOKUP(BW1185,Přehled!$C$5:$AL$24,36)","v":""},null,null,null,null,null,null,null,null,null,null,null,null,null,null,null,null,null,null,null,null,{"$f":"'8'!$BP$103","v":0},{"$f":"'8'!$BQ$103","v":0},{"$f":"'8'!$BR$103","v":0},{"$f":"'8'!$BS$103","v":0},{"$f":"'8'!$BT$103","v":0},{"$f":"'8'!$BU$103","v":0},8,{"$f":"VLOOKUP(CY1185,Přehled!$C$5:$AL$24,36)","v":""},null,null,null,null,null,null,null,null,null,null,null,null,null,null,null,{"$f":"'8'!$CR$103","v":0},{"$f":"'8'!$CS$103","v":0},{"$f":"'8'!$CT$103","v":0},8,{"$f":"VLOOKUP(DS1185,Přehled!$C$5:$AL$24,36)","v":""}]
[{"$f":"'12'!A82","v":0},{"$f":"'12'!B82","v":0},{"$f":"'12'!C82","v":0},{"$f":"SUMIF($B$5:$B$2024,Souhrn_hod[[#This Row],[Jméno]],$E$5:$E$2024)","v":0},{"$f":"'12'!D82","v":0},{"$f":"'12'!E82","v":0},{"$f":"'12'!F82","v":0},{"$f":"'12'!G82","v":0},{"$f":"'12'!H82","v":0},{"$f":"'12'!I82","v":0},{"$f":"'12'!J82","v":0},{"$f":"'12'!K82","v":0},{"$f":"'12'!L82","v":0},{"$f":"'12'!M82","v":0},{"$f":"'12'!N82","v":0},{"$f":"'12'!O82","v":0},{"$f":"'12'!P82","v":0},{"$f":"'12'!Q82","v":0},{"$f":"'12'!R82","v":0},{"$f":"'12'!S82","v":0},{"$f":"'12'!T82","v":0},{"$f":"'12'!U82","v":0},{"$f":"'12'!V82","v":0},{"$f":"'12'!W82","v":0},{"$f":"'12'!X82","v":0},{"$f":"'12'!Y82","v":0},{"$f":"'12'!Z82","v":0},{"$f":"'12'!AA82","v":0},{"$f":"'12'!AB82","v":0},{"$f":"'12'!AC82","v":0},{"$f":"'12'!AD82","v":0},{"$f":"'12'!AE82","v":0},{"$f":"'12'!AF82","v":0},{"$f":"'12'!AG82","v":0},{"$f":"'12'!AH82","v":0},{"$f":"'12'!AI82","v":0},{"$f":"'12'!AJ82","v":0},12,{"$f":"VLOOKUP(AL1190,Přehled!$C$5:$AL$24,36)","v":""},null,null,null,null,null,null,null,null,null,null,null,null,null,null,null,null,null,null,null,null,null,null,null,null,null,null,null,null,null,{"$f":"'8'!$AO$108","v":0},{"$f":"'8'!$AP$108","v":0},{"$f":"'8'!$AQ$108","v":0},{"$f":"'8'!$AR$108","v":0},{"$f":"'8'!$AS$108","v":0},{"$f":"'8'!$AT$108","v":0},8,{"$f":"VLOOKUP(BW1190,Přehled!$C$5:$AL$24,36)","v":""},null,null,null,null,null,null,null,null,null,null,null,null,null,null,null,null,null,null,null,null,{"$f":"'8'!$BP$108","v":0},{"$f":"'8'!$BQ$108","v":0},{"$f":"'8'!$BR$108","v":0},{"$f":"'8'!$BS$108","v":0},{"$f":"'8'!$BT$108","v":0},{"$f":"'8'!$BU$108","v":0},8,{"$f":"VLOOKUP(CY1190,Přehled!$C$5:$AL$24,36)","v":""},null,null,null,null,null,null,null,null,null,null,null,null,null,null,null,{"$f":"'8'!$CR$108","v":0},{"$f":"'8'!$CS$108","v":0},{"$f":"'8'!$CT$108","v":0},8,{"$f":"VLOOKUP(DS1190,Přehled!$C$5:$AL$24,36)","v":""}]
[{"$f":"'12'!A99","v":0},{"$f":"'12'!B99","v":0},{"$f":"'12'!C99","v":0},{"$f":"SUMIF($B$5:$B$2024,Souhrn_hod[[#This Row],[Jméno]],$E$5:$E$2024)","v":0},{"$f":"'12'!D99","v":0},{"$f":"'12'!E99","v":0},{"$f":"'12'!F99","v":0},{"$f":"'12'!G99","v":0},{"$f":"'12'!H99","v":0},{"$f":"'12'!I99","v":0},{"$f":"'12'!J99","v":0},{"$f":"'12'!K99","v":0},{"$f":"'12'!L99","v":0},{"$f":"'12'!M99","v":0},{"$f":"'12'!N99","v":0},{"$f":"'12'!O99","v":0},{"$f":"'12'!P99","v":0},{"$f":"'12'!Q99","v":0},{"$f":"'12'!R99","v":0},{"$f":"'12'!S99","v":0},{"$f":"'12'!T99","v":0},{"$f":"'12'!U99","v":0},{"$f":"'12'!V99","v":0},{"$f":"'12'!W99","v":0},{"$f":"'12'!X99","v":0},{"$f":"'12'!Y99","v":0},{"$f":"'12'!Z99","v":0},{"$f":"'12'!AA99","v":0},{"$f":"'12'!AB99","v":0},{"$f":"'12'!AC99","v":0},{"$f":"'12'!AD99","v":0},{"$f":"'12'!AE99","v":0},{"$f":"'12'!AF99","v":0},{"$f":"'12'!AG99","v":0},{"$f":"'12'!AH99","v":0},{"$f":"'12'!AI99","v":0},{"$f":"'12'!AJ99","v":0},12,{"$f":"VLOOKUP(AL1207,Přehled!$C$5:$AL$24,36)","v":""},null,null,null,null,null,null,null,null,null,null,null,null,null,null,null,null,null,null,null,null,null,null,null,null,null,null,null,null,null,{"$f":"'8'!$AO$125","v":0},{"$f":"'8'!$AP$125","v":0},{"$f":"'8'!$AQ$125","v":0},{"$f":"'8'!$AR$125","v":0},{"$f":"'8'!$AS$125","v":0},{"$f":"'8'!$AT$125","v":0},8,{"$f":"VLOOKUP(BW1207,Přehled!$C$5:$AL$24,36)","v":""},null,null,null,null,null,null,null,null,null,null,null,null,null,null,null,null,null,null,null,null,{"$f":"'8'!$BP$125","v":0},{"$f":"'8'!$BQ$125","v":0},{"$f":"'8'!$BR$125","v":0},{"$f":"'8'!$BS$125","v":0},{"$f":"'8'!$BT$125","v":0},{"$f":"'8'!$BU$125","v":0},8,{"$f":"VLOOKUP(CY1207,Přehled!$C$5:$AL$24,36)","v":""},null,null,null,null,null,null,null,null,null,null,null,null,null,null,null,{"$f":"'8'!$CR$125","v":0},{"$f":"'8'!$CS$125","v":0},{"$f":"'8'!$CT$125","v":0},8,{"$f":"VLOOKUP(DS1207,Přehled!$C$5:$AL$24,36)","v":""}]
[{"$f":"'12'!A105","v":0},{"$f":"'12'!B105","v":0},{"$f":"'12'!C105","v":0},{"$f":"SUMIF($B$5:$B$2024,Souhrn_hod[[#This Row],[Jméno]],$E$5:$E$2024)","v":0},{"$f":"'12'!D105","v":0},{"$f":"'12'!E105","v":0},{"$f":"'12'!F105","v":0},{"$f":"'12'!G105","v":0},{"$f":"'12'!H105","v":0},{"$f":"'12'!I105","v":0},{"$f":"'12'!J105","v":0},{"$f":"'12'!K105","v":0},{"$f":"'12'!L105","v":0},{"$f":"'12'!M105","v":0},{"$f":"'12'!N105","v":0},{"$f":"'12'!O105","v":0},{"$f":"'12'!P105","v":0},{"$f":"'12'!Q105","v":0},{"$f":"'12'!R105","v":0},{"$f":"'12'!S105","v":0},{"$f":"'12'!T105","v":0},{"$f":"'12'!U105","v":0},{"$f":"'12'!V105","v":0},{"$f":"'12'!W105","v":0},{"$f":"'12'!X105","v":0},{"$f":"'12'!Y105","v":0},{"$f":"'12'!Z105","v":0},{"$f":"'12'!AA105","v":0},{"$f":"'12'!AB105","v":0},{"$f":"'12'!AC105","v":0},{"$f":"'12'!AD105","v":0},{"$f":"'12'!AE105","v":0},{"$f":"'12'!AF105","v":0},{"$f":"'12'!AG105","v":0},{"$f":"'12'!AH105","v":0},{"$f":"'12'!AI105","v":0},{"$f":"'12'!AJ105","v":0},12,{"$f":"VLOOKUP(AL1213,Přehled!$C$5:$AL$24,36)","v":""},null,null,null,null,null,null,null,null,null,null,null,null,null,null,null,null,null,null,null,null,null,null,null,null,null,null,null,null,null,{"$f":"'8'!$AO$131","v":0},{"$f":"'8'!$AP$131","v":0},{"$f":"'8'!$AQ$131","v":0},{"$f":"'8'!$AR$131","v":0},{"$f":"'8'!$AS$131","v":0},{"$f":"'8'!$AT$131","v":0},8,{"$f":"VLOOKUP(BW1213,Přehled!$C$5:$AL$24,36)","v":""},null,null,null,null,null,null,null,null,null,null,null,null,null,null,null,null,null,null,null,null,{"$f":"'8'!$BP$131","v":0},{"$f":"'8'!$BQ$131","v":0},{"$f":"'8'!$BR$131","v":0},{"$f":"'8'!$BS$131","v":0},{"$f":"'8'!$BT$131","v":0},{"$f":"'8'!$BU$131","v":0},8,{"$f":"VLOOKUP(CY1213,Přehled!$C$5:$AL$24,36)","v":""},null,null,null,null,null,null,null,null,null,null,null,null,null,null,null,{"$f":"'8'!$CR$131","v":0},{"$f":"'8'!$CS$131","v":0},{"$f":"'8'!$CT$131","v":0},8,{"$f":"VLOOKUP(DS1213,Přehled!$C$5:$AL$24,36)","v":""}]
[{"$f":"'13'!A14","v":0},{"$f":"'13'!B14","v":0},{"$f":"'13'!C14","v":0},{"$f":"SUMIF($B$5:$B$2024,Souhrn_hod[[#This Row],[Jméno]],$E$5:$E$2024)","v":0},{"$f":"'13'!D14","v":0},{"$f":"'13'!E14","v":0},{"$f":"'13'!F14","v":0},{"$f":"'13'!G14","v":0},{"$f":"'13'!H14","v":0},{"$f":"'13'!I14","v":0},{"$f":"'13'!J14","v":0},{"$f":"'13'!K14","v":0},{"$f":"'13'!L14","v":0},{"$f":"'13'!M14","v":0},{"$f":"'13'!N14","v":0},{"$f":"'13'!O14","v":0},{"$f":"'13'!P14","v":0},{"$f":"'13'!Q14","v":0},{"$f":"'13'!R14","v":0},{"$f":"'13'!S14","v":0},{"$f":"'13'!T14","v":0},{"$f":"'13'!U14","v":0},{"$f":"'13'!V14","v":0},{"$f":"'13'!W14","v":0},{"$f":"'13'!X14","v":0},{"$f":"'13'!Y14","v":0},{"$f":"'13'!Z14","v":0},{"$f":"'13'!AA14","v":0},{"$f":"'13'!AB14","v":0},{"$f":"'13'!AC14","v":0},{"$f":"'13'!AD14","v":0},{"$f":"'13'!AE14","v":0},{"$f":"'13'!AF14","v":0},{"$f":"'13'!AG14","v":0},{"$f":"'13'!AH14","v":0},{"$f":"'13'!AI14","v":0},{"$f":"'13'!AJ14","v":0},13,{"$f":"VLOOKUP(AL1223,Přehled!$C$5:$AL$24,36)","v":""},null,null,null,null,null,null,null,null,null,null,null,null,null,null,null,null,null,null,null,null,null,null,null,null,null,null,null,null,null,{"$f":"'8'!$AO$141","v":0},{"$f":"'8'!$AP$141","v":0},{"$f":"'8'!$AQ$141","v":0},{"$f":"'8'!$AR$141","v":0},{"$f":"'8'!$AS$141","v":0},{"$f":"'8'!$AT$141","v":0},8,{"$f":"VLOOKUP(BW1223,Přehled!$C$5:$AL$24,36)","v":""},null,null,null,null,null,null,null,null,null,null,null,null,null,null,null,null,null,null,null,null,{"$f":"'8'!$BP$141","v":0},{"$f":"'8'!$BQ$141","v":0},{"$f":"'8'!$BR$141","v":0},{"$f":"'8'!$BS$141","v":0},{"$f":"'8'!$BT$141","v":0},{"$f":"'8'!$BU$141","v":0},8,{"$f":"VLOOKUP(CY1223,Přehled!$C$5:$AL$24,36)","v":""},null,null,null,null,null,null,null,null,null,null,null,null,null,null,null,{"$f":"'8'!$CR$141","v":0},{"$f":"'8'!$CS$141","v":0},{"$f":"'8'!$CT$141","v":0},8,{"$f":"VLOOKUP(DS1223,Přehled!$C$5:$AL$24,36)","v":""}]
[{"$f":"'13'!A31","v":0},{"$f":"'13'!B31","v":0},{"$f":"'13'!C31","v":0},{"$f":"SUMIF($B$5:$B$2024,Souhrn_hod[[#This Row],[Jméno]],$E$5:$E$2024)","v":0},{"$f":"'13'!D31","v":0},{"$f":"'13'!E31","v":0},{"$f":"'13'!F31","v":0},{"$f":"'13'!G31","v":0},{"$f":"'13'!H31","v":0},{"$f":"'13'!I31","v":0},{"$f":"'13'!J31","v":0},{"$f":"'13'!K31","v":0},{"$f":"'13'!L31","v":0},{"$f":"'13'!M31","v":0},{"$f":"'13'!N31","v":0},{"$f":"'13'!O31","v":0},{"$f":"'13'!P31","v":0},{"$f":"'13'!Q31","v":0},{"$f":"'13'!R31","v":0},{"$f":"'13'!S31","v":0},{"$f":"'13'!T31","v":0},{"$f":"'13'!U31","v":0},{"$f":"'13'!V31","v":0},{"$f":"'13'!W31","v":0},{"$f":"'13'!X31","v":0},{"$f":"'13'!Y31","v":0},{"$f":"'13'!Z31","v":0},{"$f":"'13'!AA31","v":0},{"$f":"'13'!AB31","v":0},{"$f":"'13'!AC31","v":0},{"$f":"'13'!AD31","v":0},{"$f":"'13'!AE31","v":0},{"$f":"'13'!AF31","v":0},{"$f":"'13'!AG31","v":0},{"$f":"'13'!AH31","v":0},{"$f":"'13'!AI31","v":0},{"$f":"'13'!AJ31","v":0},13,{"$f":"VLOOKUP(AL1240,Přehled!$C$5:$AL$24,36)","v":""},null,null,null,null,null,null,null,null,null,null,null,null,null,null,null,null,null,null,null,null,null,null,null,null,null,null,null,null,null,{"$f":"'8'!$AO$158","v":0},{"$f":"'8'!$AP$158","v":0},{"$f":"'8'!$AQ$158","v":0},{"$f":"'8'!$AR$158","v":0},{"$f":"'8'!$AS$158","v":0},{"$f":"'8'!$AT$158","v":0},8,{"$f":"VLOOKUP(BW1240,Přehled!$C$5:$AL$24,36)","v":""},null,null,null,null,null,null,null,null,null,null,null,null,null,null,null,null,null,null,null,null,{"$f":"'8'!$BP$158","v":0},{"$f":"'8'!$BQ$158","v":0},{"$f":"'8'!$BR$158","v":0},{"$f":"'8'!$BS$158","v":0},{"$f":"'8'!$BT$158","v":0},{"$f":"'8'!$BU$158","v":0},8,{"$f":"VLOOKUP(CY1240,Přehled!$C$5:$AL$24,36)","v":""},null,null,null,null,null,null,null,null,null,null,null,null,null,null,null,{"$f":"'8'!$CR$158","v":0},{"$f":"'8'!$CS$158","v":0},{"$f":"'8'!$CT$158","v":0},8,{"$f":"VLOOKUP(DS1240,Přehled!$C$5:$AL$24,36)","v":""}]
[{"$f":"'13'!A45","v":0},{"$f":"'13'!B45","v":0},{"$f":"'13'!C45","v":0},{"$f":"SUMIF($B$5:$B$2024,Souhrn_hod[[#This Row],[Jméno]],$E$5:$E$2024)","v":0},{"$f":"'13'!D45","v":0},{"$f":"'13'!E45","v":0},{"$f":"'13'!F45","v":0},{"$f":"'13'!G45","v":0},{"$f":"'13'!H45","v":0},{"$f":"'13'!I45","v":0},{"$f":"'13'!J45","v":0},{"$f":"'13'!K45","v":0},{"$f":"'13'!L45","v":0},{"$f":"'13'!M45","v":0},{"$f":"'13'!N45","v":0},{"$f":"'13'!O45","v":0},{"$f":"'13'!P45","v":0},{"$f":"'13'!Q45","v":0},{"$f":"'13'!R45","v":0},{"$f":"'13'!S45","v":0},{"$f":"'13'!T45","v":0},{"$f":"'13'!U45","v":0},{"$f":"'13'!V45","v":0},{"$f":"'13'!W45","v":0},{"$f":"'13'!X45","v":0},{"$f":"'13'!Y45","v":0},{"$f":"'13'!Z45","v":0},{"$f":"'13'!AA45","v":0},{"$f":"'13'!AB45","v":0},{"$f":"'13'!AC45","v":0},{"$f":"'13'!AD45","v":0},{"$f":"'13'!AE45","v":0},{"$f":"'13'!AF45","v":0},{"$f":"'13'!AG45","v":0},{"$f":"'13'!AH45","v":0},{"$f":"'13'!AI45","v":0},{"$f":"'13'!AJ45","v":0},13,{"$f":"VLOOKUP(AL1254,Přehled!$C$5:$AL$24,36)","v":""},null,null,null,null,null,null,null,null,null,null,null,null,null,null,null,null,null,null,null,null,null,null,null,null,null,null,null,null,null,{"$f":"'9'!$AO$17","v":0},{"$f":"'9'!$AP$17","v":0},{"$f":"'9'!$AQ$17","v":0},{"$f":"'9'!$AR$17","v":0},{"$f":"'9'!$AS$17","v":0},{"$f":"'9'!$AT$17","v":0},9,{"$f":"VLOOKUP(BW1254,Přehled!$C$5:$AL$24,36)","v":""},null,null,null,null,null,null,null,null,null,null,null,null,null,null,null,null,null,null,null,null,{"$f":"'9'!$BP$17","v":0},{"$f":"'9'!$BQ$17","v":0},{"$f":"'9'!$BR$17","v":0},{"$f":"'9'!$BS$17","v":0},{"$f":"'9'!$BT$17","v":0},{"$f":"'9'!$BU$17","v":0},9,{"$f":"VLOOKUP(CY1254,Přehled!$C$5:$AL$24,36)","v":""},null,null,null,null,null,null,null,null,null,null,null,null,null,null,null,{"$f":"'9'!$CR$17","v":0},{"$f":"'9'!$CS$17","v":0},{"$f":"'9'!$CT$17","v":0},9,{"$f":"VLOOKUP(DS1254,Přehled!$C$5:$AL$24,36)","v":""}]
[{"$f":"'13'!A48","v":0},{"$f":"'13'!B48","v":0},{"$f":"'13'!C48","v":0},{"$f":"SUMIF($B$5:$B$2024,Souhrn_hod[[#This Row],[Jméno]],$E$5:$E$2024)","v":0},{"$f":"'13'!D48","v":0},{"$f":"'13'!E48","v":0},{"$f":"'13'!F48","v":0},{"$f":"'13'!G48","v":0},{"$f":"'13'!H48","v":0},{"$f":"'13'!I48","v":0},{"$f":"'13'!J48","v":0},{"$f":"'13'!K48","v":0},{"$f":"'13'!L48","v":0},{"$f":"'13'!M48","v":0},{"$f":"'13'!N48","v":0},{"$f":"'13'!O48","v":0},{"$f":"'13'!P48","v":0},{"$f":"'13'!Q48","v":0},{"$f":"'13'!R48","v":0},{"$f":"'13'!S48","v":0},{"$f":"'13'!T48","v":0},{"$f":"'13'!U48","v":0},{"$f":"'13'!V48","v":0},{"$f":"'13'!W48","v":0},{"$f":"'13'!X48","v":0},{"$f":"'13'!Y48","v":0},{"$f":"'13'!Z48","v":0},{"$f":"'13'!AA48","v":0},{"$f":"'13'!AB48","v":0},{"$f":"'13'!AC48","v":0},{"$f":"'13'!AD48","v":0},{"$f":"'13'!AE48","v":0},{"$f":"'13'!AF48","v":0},{"$f":"'13'!AG48","v":0},{"$f":"'13'!AH48","v":0},{"$f":"'13'!AI48","v":0},{"$f":"'13'!AJ48","v":0},13,{"$f":"VLOOKUP(AL1257,Přehled!$C$5:$AL$24,36)","v":""},null,null,null,null,null,null,null,null,null,null,null,null,null,null,null,null,null,null,null,null,null,null,null,null,null,null,null,null,null,{"$f":"'9'!$AO$20","v":0},{"$f":"'9'!$AP$20","v":0},{"$f":"'9'!$AQ$20","v":0},{"$f":"'9'!$AR$20","v":0},{"$f":"'9'!$AS$20","v":0},{"$f":"'9'!$AT$20","v":0},9,{"$f":"VLOOKUP(BW1257,Přehled!$C$5:$AL$24,36)","v":""},null,null,null,null,null,null,null,null,null,null,null,null,null,null,null,null,null,null,null,null,{"$f":"'9'!$BP$20","v":0},{"$f":"'9'!$BQ$20","v":0},{"$f":"'9'!$BR$20","v":0},{"$f":"'9'!$BS$20","v":0},{"$f":"'9'!$BT$20","v":0},{"$f":"'9'!$BU$20","v":0},9,{"$f":"VLOOKUP(CY1257,Přehled!$C$5:$AL$24,36)","v":""},null,null,null,null,null,null,null,null,null,null,null,null,null,null,null,{"$f":"'9'!$CR$20","v":0},{"$f":"'9'!$CS$20","v":0},{"$f":"'9'!$CT$20","v":0},9,{"$f":"VLOOKUP(DS1257,Přehled!$C$5:$AL$24,36)","v":""}]
[{"$f":"'13'!A65","v":0},{"$f":"'13'!B65","v":0},{"$f":"'13'!C65","v":0},{"$f":"SUMIF($B$5:$B$2024,Souhrn_hod[[#This Row],[Jméno]],$E$5:$E$2024)","v":0},{"$f":"'13'!D65","v":0},{"$f":"'13'!E65","v":0},{"$f":"'13'!F65","v":0},{"$f":"'13'!G65","v":0},{"$f":"'13'!H65","v":0},{"$f":"'13'!I65","v":0},{"$f":"'13'!J65","v":0},{"$f":"'13'!K65","v":0},{"$f":"'13'!L65","v":0},{"$f":"'13'!M65","v":0},{"$f":"'13'!N65","v":0},{"$f":"'13'!O65","v":0},{"$f":"'13'!P65","v":0},{"$f":"'13'!Q65","v":0},{"$f":"'13'!R65","v":0},{"$f":"'13'!S65","v":0},{"$f":"'13'!T65","v":0},{"$f":"'13'!U65","v":0},{"$f":"'13'!V65","v":0},{"$f":"'13'!W65","v":0},{"$f":"'13'!X65","v":0},{"$f":"'13'!Y65","v":0},{"$f":"'13'!Z65","v":0},{"$f":"'13'!AA65","v":0},{"$f":"'13'!AB65","v":0},{"$f":"'13'!AC65","v":0},{"$f":"'13'!AD65","v":0},{"$f":"'13'!AE65","v":0},{"$f":"'13'!AF65","v":0},{"$f":"'13'!AG65","v":0},{"$f":"'13'!AH65","v":0},{"$f":"'13'!AI65","v":0},{"$f":"'13'!AJ65","v":0},13,{"$f":"VLOOKUP(AL1274,Přehled!$C$5:$AL$24,36)","v":""},null,null,null,null,null,null,null,null,null,null,null,null,null,null,null,null,null,null,null,null,null,null,null,null,null,null,null,null,null,{"$f":"'9'!$AO$37","v":0},{"$f":"'9'!$AP$37","v":0},{"$f":"'9'!$AQ$37","v":0},{"$f":"'9'!$AR$37","v":0},{"$f":"'9'!$AS$37","v":0},{"$f":"'9'!$AT$37","v":0},9,{"$f":"VLOOKUP(BW1274,Přehled!$C$5:$AL$24,36)","v":""},null,null,null,null,null,null,null,null,null,null,null,null,null,null,null,null,null,null,null,null,{"$f":"'9'!$BP$37","v":0},{"$f":"'9'!$BQ$37","v":0},{"$f":"'9'!$BR$37","v":0},{"$f":"'9'!$BS$37","v":0},{"$f":"'9'!$BT$37","v":0},{"$f":"'9'!$BU$37","v":0},9,{"$f":"VLOOKUP(CY1274,Přehled!$C$5:$AL$24,36)","v":""},null,null,null,null,null,null,null,null,null,null,null,null,null,null,null,{"$f":"'9'!$CR$37","v":0},{"$f":"'9'!$CS$37","v":0},{"$f":"'9'!$CT$37","v":0},9,{"$f":"VLOOKUP(DS1274,Přehled!$C$5:$AL$24,36)","v":""}]
[{"$f":"'13'!A75","v":0},{"$f":"'13'!B75","v":0},{"$f":"'13'!C75","v":0},{"$f":"SUMIF($B$5:$B$2024,Souhrn_hod[[#This Row],[Jméno]],$E$5:$E$2024)","v":0},{"$f":"'13'!D75","v":0},{"$f":"'13'!E75","v":0},{"$f":"'13'!F75","v":0},{"$f":"'13'!G75","v":0},{"$f":"'13'!H75","v":0},{"$f":"'13'!I75","v":0},{"$f":"'13'!J75","v":0},{"$f":"'13'!K75","v":0},{"$f":"'13'!L75","v":0},{"$f":"'13'!M75","v":0},{"$f":"'13'!N75","v":0},{"$f":"'13'!O75","v":0},{"$f":"'13'!P75","v":0},{"$f":"'13'!Q75","v":0},{"$f":"'13'!R75","v":0},{"$f":"'13'!S75","v":0},{"$f":"'13'!T75","v":0},{"$f":"'13'!U75","v":0},{"$f":"'13'!V75","v":0},{"$f":"'13'!W75","v":0},{"$f":"'13'!X75","v":0},{"$f":"'13'!Y75","v":0},{"$f":"'13'!Z75","v":0},{"$f":"'13'!AA75","v":0},{"$f":"'13'!AB75","v":0},{"$f":"'13'!AC75","v":0},{"$f":"'13'!AD75","v":0},{"$f":"'13'!AE75","v":0},{"$f":"'13'!AF75","v":0},{"$f":"'13'!AG75","v":0},{"$f":"'13'!AH75","v":0},{"$f":"'13'!AI75","v":0},{"$f":"'13'!AJ75","v":0},13,{"$f":"VLOOKUP(AL1284,Přehled!$C$5:$AL$24,36)","v":""},null,null,null,null,null,null,null,null,null,null,null,null,null,null,null,null,null,null,null,null,null,null,null,null,null,null,null,null,null,{"$f":"'9'!$AO$47","v":0},{"$f":"'9'!$AP$47","v":0},{"$f":"'9'!$AQ$47","v":0},{"$f":"'9'!$AR$47","v":0},{"$f":"'9'!$AS$47","v":0},{"$f":"'9'!$AT$47","v":0},9,{"$f":"VLOOKUP(BW1284,Přehled!$C$5:$AL$24,36)","v":""},null,null,null,null,null,null,null,null,null,null,null,null,null,null,null,null,null,null,null,null,{"$f":"'9'!$BP$47","v":0},{"$f":"'9'!$BQ$47","v":0},{"$f":"'9'!$BR$47","v":0},{"$f":"'9'!$BS$47","v":0},{"$f":"'9'!$BT$47","v":0},{"$f":"'9'!$BU$47","v":0},9,{"$f":"VLOOKUP(CY1284,Přehled!$C$5:$AL$24,36)","v":""},null,null,null,null,null,null,null,null,null,null,null,null,null,null,null,{"$f":"'9'!$CR$47","v":0},{"$f":"'9'!$CS$47","v":0},{"$f":"'9'!$CT$47","v":0},9,{"$f":"VLOOKUP(DS1284,Přehled!$C$5:$AL$24,36)","v":""}]
[{"$f":"'13'!A81","v":0},{"$f":"'13'!B81","v":0},{"$f":"'13'!C81","v":0},{"$f":"SUMIF($B$5:$B$2024,Souhrn_hod[[#This Row],[Jméno]],$E$5:$E$2024)","v":0},{"$f":"'13'!D81","v":0},{"$f":"'13'!E81","v":0},{"$f":"'13'!F81","v":0},{"$f":"'13'!G81","v":0},{"$f":"'13'!H81","v":0},{"$f":"'13'!I81","v":0},{"$f":"'13'!J81","v":0},{"$f":"'13'!K81","v":0},{"$f":"'13'!L81","v":0},{"$f":"'13'!M81","v":0},{"$f":"'13'!N81","v":0},{"$f":"'13'!O81","v":0},{"$f":"'13'!P81","v":0},{"$f":"'13'!Q81","v":0},{"$f":"'13'!R81","v":0},{"$f":"'13'!S81","v":0},{"$f":"'13'!T81","v":0},{"$f":"'13'!U81","v":0},{"$f":"'13'!V81","v":0},{"$f":"'13'!W81","v":0},{"$f":"'13'!X81","v":0},{"$f":"'13'!Y81","v":0},{"$f":"'13'!Z81","v":0},{"$f":"'13'!AA81","v":0},{"$f":"'13'!AB81","v":0},{"$f":"'13'!AC81","v":0},{"$f":"'13'!AD81","v":0},{"$f":"'13'!AE81","v":0},{"$f":"'13'!AF81","v":0},{"$f":"'13'!AG81","v":0},{"$f":"'13'!AH81","v":0},{"$f":"'13'!AI81","v":0},{"$f":"'13'!AJ81","v":0},13,{"$f":"VLOOKUP(AL1290,Přehled!$C$5:$AL$24,36)","v":""},null,null,null,null,null,null,null,null,null,null,null,null,null,null,null,null,null,null,null,null,null,null,null,null,null,null,null,null,null,{"$f":"'9'!$AO$53","v":0},{"$f":"'9'!$AP$53","v":0},{"$f":"'9'!$AQ$53","v":0},{"$f":"'9'!$AR$53","v":0},{"$f":"'9'!$AS$53","v":0},{"$f":"'9'!$AT$53","v":0},9,{"$f":"VLOOKUP(BW1290,Přehled!$C$5:$AL$24,36)","v":""},null,null,null,null,null,null,null,null,null,null,null,null,null,null,null,null,null,null,null,null,{"$f":"'9'!$BP$53","v":0},{"$f":"'9'!$BQ$53","v":0},{"$f":"'9'!$BR$53","v":0},{"$f":"'9'!$BS$53","v":0},{"$f":"'9'!$BT$53","v":0},{"$f":"'9'!$BU$53","v":0},9,{"$f":"VLOOKUP(CY1290,Přehled!$C$5:$AL$24,36)","v":""},null,null,null,null,null,null,null,null,null,null,null,null,null,null,null,{"$f":"'9'!$CR$53","v":0},{"$f":"'9'!$CS$53","v":0},{"$f":"'9'!$CT$53","v":0},9,{"$f":"VLOOKUP(DS1290,Přehled!$C$5:$AL$24,36)","v":""}]
[{"$f":"'13'!A98","v":0},{"$f":"'13'!B98","v":0},{"$f":"'13'!C98","v":0},{"$f":"SUMIF($B$5:$B$2024,Souhrn_hod[[#This Row],[Jméno]],$E$5:$E$2024)","v":0},{"$f":"'13'!D98","v":0},{"$f":"'13'!E98","v":0},{"$f":"'13'!F98","v":0},{"$f":"'13'!G98","v":0},{"$f":"'13'!H98","v":0},{"$f":"'13'!I98","v":0},{"$f":"'13'!J98","v":0},{"$f":"'13'!K98","v":0},{"$f":"'13'!L98","v":0},{"$f":"'13'!M98","v":0},{"$f":"'13'!N98","v":0},{"$f":"'13'!O98","v":0},{"$f":"'13'!P98","v":0},{"$f":"'13'!Q98","v":0},{"$f":"'13'!R98","v":0},{"$f":"'13'!S98","v":0},{"$f":"'13'!T98","v":0},{"$f":"'13'!U98","v":0},{"$f":"'13'!V98","v":0},{"$f":"'13'!W98","v":0},{"$f":"'13'!X98","v":0},{"$f":"'13'!Y98","v":0},{"$f":"'13'!Z98","v":0},{"$f":"'13'!AA98","v":0},{"$f":"'13'!AB98","v":0},{"$f":"'13'!AC98","v":0},{"$f":"'13'!AD98","v":0},{"$f":"'13'!AE98","v":0},{"$f":"'13'!AF98","v":0},{"$f":"'13'!AG98","v":0},{"$f":"'13'!AH98","v":0},{"$f":"'13'!AI98","v":0},{"$f":"'13'!AJ98","v":0},13,{"$f":"VLOOKUP(AL1307,Přehled!$C$5:$AL$24,36)","v":""},null,null,null,null,null,null,null,null,null,null,null,null,null,null,null,null,null,null,null,null,null,null,null,null,null,null,null,null,null,{"$f":"'9'!$AO$70","v":0},{"$f":"'9'!$AP$70","v":0},{"$f":"'9'!$AQ$70","v":0},{"$f":"'9'!$AR$70","v":0},{"$f":"'9'!$AS$70","v":0},{"$f":"'9'!$AT$70","v":0},9,{"$f":"VLOOKUP(BW1307,Přehled!$C$5:$AL$24,36)","v":""},null,null,null,null,null,null,null,null,null,null,null,null,null,null,null,null,null,null,null,null,{"$f":"'9'!$BP$70","v":0},{"$f":"'9'!$BQ$70","v":0},{"$f":"'9'!$BR$70","v":0},{"$f":"'9'!$BS$70","v":0},{"$f":"'9'!$BT$70","v":0},{"$f":"'9'!$BU$70","v":0},9,{"$f":"VLOOKUP(CY1307,Přehled!$C$5:$AL$24,36)","v":""},null,null,null,null,null,null,null,null,null,null,null,null,null,null,null,{"$f":"'9'!$CR$70","v":0},{"$f":"'9'!$CS$70","v":0},{"$f":"'9'!$CT$70","v":0},9,{"$f":"VLOOKUP(DS1307,Přehled!$C$5:$AL$24,36)","v":""}]
[{"$f":"'13'!A106","v":0},{"$f":"'13'!B106","v":0},{"$f":"'13'!C106","v":0},{"$f":"SUMIF($B$5:$B$2024,Souhrn_hod[[#This Row],[Jméno]],$E$5:$E$2024)","v":0},{"$f":"'13'!D106","v":0},{"$f":"'13'!E106","v":0},{"$f":"'13'!F106","v":0},{"$f":"'13'!G106","v":0},{"$f":"'13'!H106","v":0},{"$f":"'13'!I106","v":0},{"$f":"'13'!J106","v":0},{"$f":"'13'!K106","v":0},{"$f":"'13'!L106","v":0},{"$f":"'13'!M106","v":0},{"$f":"'13'!N106","v":0},{"$f":"'13'!O106","v":0},{"$f":"'13'!P106","v":0},{"$f":"'13'!Q106","v":0},{"$f":"'13'!R106","v":0},{"$f":"'13'!S106","v":0},{"$f":"'13'!T106","v":0},{"$f":"'13'!U106","v":0},{"$f":"'13'!V106","v":0},{"$f":"'13'!W106","v":0},{"$f":"'13'!X106","v":0},{"$f":"'13'!Y106","v":0},{"$f":"'13'!Z106","v":0},{"$f":"'13'!AA106","v":0},{"$f":"'13'!AB106","v":0},{"$f":"'13'!AC106","v":0},{"$f":"'13'!AD106","v":0},{"$f":"'13'!AE106","v":0},{"$f":"'13'!AF106","v":0},{"$f":"'13'!AG106","v":0},{"$f":"'13'!AH106","v":0},{"$f":"'13'!AI106","v":0},{"$f":"'13'!AJ106","v":0},13,{"$f":"VLOOKUP(AL1315,Přehled!$C$5:$AL$24,36)","v":""},null,null,null,null,null,null,null,null,null,null,null,null,null,null,null,null,null,null,null,null,null,null,null,null,null,null,null,null,null,{"$f":"'9'!$AO$78","v":0},{"$f":"'9'!$AP$78","v":0},{"$f":"'9'!$AQ$78","v":0},{"$f":"'9'!$AR$78","v":0},{"$f":"'9'!$AS$78","v":0},{"$f":"'9'!$AT$78","v":0},9,{"$f":"VLOOKUP(BW1315,Přehled!$C$5:$AL$24,36)","v":""},null,null,null,null,null,null,null,null,null,null,null,null,null,null,null,null,null,null,null,null,{"$f":"'9'!$BP$78","v":0},{"$f":"'9'!$BQ$78","v":0},{"$f":"'9'!$BR$78","v":0},{"$f":"'9'!$BS$78","v":0},{"$f":"'9'!$BT$78","v":0},{"$f":"'9'!$BU$78","v":0},9,{"$f":"VLOOKUP(CY1315,Přehled!$C$5:$AL$24,36)","v":""},null,null,null,null,null,null,null,null,null,null,null,null,null,null,null,{"$f":"'9'!$CR$78","v":0},{"$f":"'9'!$CS$78","v":0},{"$f":"'9'!$CT$78","v":0},9,{"$f":"VLOOKUP(DS1315,Přehled!$C$5:$AL$24,36)","v":""}]
[{"$f":"'14'!A14","v":0},{"$f":"'14'!B14","v":0},{"$f":"'14'!C14","v":0},{"$f":"SUMIF($B$5:$B$2024,Souhrn_hod[[#This Row],[Jméno]],$E$5:$E$2024)","v":0},{"$f":"'14'!D14","v":0},{"$f":"'14'!E14","v":0},{"$f":"'14'!F14","v":0},{"$f":"'14'!G14","v":0},{"$f":"'14'!H14","v":0},{"$f":"'14'!I14","v":0},{"$f":"'14'!J14","v":0},{"$f":"'14'!K14","v":0},{"$f":"'14'!L14","v":0},{"$f":"'14'!M14","v":0},{"$f":"'14'!N14","v":0},{"$f":"'14'!O14","v":0},{"$f":"'14'!P14","v":0},{"$f":"'14'!Q14","v":0},{"$f":"'14'!R14","v":0},{"$f":"'14'!S14","v":0},{"$f":"'14'!T14","v":0},{"$f":"'14'!U14","v":0},{"$f":"'14'!V14","v":0},{"$f":"'14'!W14","v":0},{"$f":"'14'!X14","v":0},{"$f":"'14'!Y14","v":0},{"$f":"'14'!Z14","v":0},{"$f":"'14'!AA14","v":0},{"$f":"'14'!AB14","v":0},{"$f":"'14'!AC14","v":0},{"$f":"'14'!AD14","v":0},{"$f":"'14'!AE14","v":0},{"$f":"'14'!AF14","v":0},{"$f":"'14'!AG14","v":0},{"$f":"'14'!AH14","v":0},{"$f":"'14'!AI14","v":0},{"$f":"'14'!AJ14","v":0},14,{"$f":"VLOOKUP(AL1324,Přehled!$C$5:$AL$24,36)","v":""},null,null,null,null,null,null,null,null,null,null,null,null,null,null,null,null,null,null,null,null,null,null,null,null,null,null,null,null,null,{"$f":"'9'!$AO$87","v":0},{"$f":"'9'!$AP$87","v":0},{"$f":"'9'!$AQ$87","v":0},{"$f":"'9'!$AR$87","v":0},{"$f":"'9'!$AS$87","v":0},{"$f":"'9'!$AT$87","v":0},9,{"$f":"VLOOKUP(BW1324,Přehled!$C$5:$AL$24,36)","v":""},null,null,null,null,null,null,null,null,null,null,null,null,null,null,null,null,null,null,null,null,{"$f":"'9'!$BP$87","v":0},{"$f":"'9'!$BQ$87","v":0},{"$f":"'9'!$BR$87","v":0},{"$f":"'9'!$BS$87","v":0},{"$f":"'9'!$BT$87","v":0},{"$f":"'9'!$BU$87","v":0},9,{"$f":"VLOOKUP(CY1324,Přehled!$C$5:$AL$24,36)","v":""},null,null,null,null,null,null,null,null,null,null,null,null,null,null,null,{"$f":"'9'!$CR$87","v":0},{"$f":"'9'!$CS$87","v":0},{"$f":"'9'!$CT$87","v":0},9,{"$f":"VLOOKUP(DS1324,Přehled!$C$5:$AL$24,36)","v":""}]
[{"$f":"'14'!A24","v":0},{"$f":"'14'!B24","v":0},{"$f":"'14'!C24","v":0},{"$f":"SUMIF($B$5:$B$2024,Souhrn_hod[[#This Row],[Jméno]],$E$5:$E$2024)","v":0},{"$f":"'14'!D24","v":0},{"$f":"'14'!E24","v":0},{"$f":"'14'!F24","v":0},{"$f":"'14'!G24","v":0},{"$f":"'14'!H24","v":0},{"$f":"'14'!I24","v":0},{"$f":"'14'!J24","v":0},{"$f":"'14'!K24","v":0},{"$f":"'14'!L24","v":0},{"$f":"'14'!M24","v":0},{"$f":"'14'!N24","v":0},{"$f":"'14'!O24","v":0},{"$f":"'14'!P24","v":0},{"$f":"'14'!Q24","v":0},{"$f":"'14'!R24","v":0},{"$f":"'14'!S24","v":0},{"$f":"'14'!T24","v":0},{"$f":"'14'!U24","v":0},{"$f":"'14'!V24","v":0},{"$f":"'14'!W24","v":0},{"$f":"'14'!X24","v":0},{"$f":"'14'!Y24","v":0},{"$f":"'14'!Z24","v":0},{"$f":"'14'!AA24","v":0},{"$f":"'14'!AB24","v":0},{"$f":"'14'!AC24","v":0},{"$f":"'14'!AD24","v":0},{"$f":"'14'!AE24","v":0},{"$f":"'14'!AF24","v":0},{"$f":"'14'!AG24","v":0},{"$f":"'14'!AH24","v":0},{"$f":"'14'!AI24","v":0},{"$f":"'14'!AJ24","v":0},14,{"$f":"VLOOKUP(AL1334,Přehled!$C$5:$AL$24,36)","v":""},null,null,null,null,null,null,null,null,null,null,null,null,null,null,null,null,null,null,null,null,null,null,null,null,null,null,null,null,null,{"$f":"'9'!$AO$97","v":0},{"$f":"'9'!$AP$97","v":0},{"$f":"'9'!$AQ$97","v":0},{"$f":"'9'!$AR$97","v":0},{"$f":"'9'!$AS$97","v":0},{"$f":"'9'!$AT$97","v":0},9,{"$f":"VLOOKUP(BW1334,Přehled!$C$5:$AL$24,36)","v":""},null,null,null,null,null,null,null,null,null,null,null,null,null,null,null,null,null,null,null,null,{"$f":"'9'!$BP$97","v":0},{"$f":"'9'!$BQ$97","v":0},{"$f":"'9'!$BR$97","v":0},{"$f":"'9'!$BS$97","v":0},{"$f":"'9'!$BT$97","v":0},{"$f":"'9'!$BU$97","v":0},9,{"$f":"VLOOKUP(CY1334,Přehled!$C$5:$AL$24,36)","v":""},null,null,null,null,null,null,null,null,null,null,null,null,null,null,null,{"$f":"'9'!$CR$97","v":0},{"$f":"'9'!$CS$97","v":0},{"$f":"'9'!$CT$97","v":0},9,{"$f":"VLOOKUP(DS1334,Přehled!$C$5:$AL$24,36)","v":""}]
[{"$f":"'14'!A41","v":0},{"$f":"'14'!B41","v":0},{"$f":"'14'!C41","v":0},{"$f":"SUMIF($B$5:$B$2024,Souhrn_hod[[#This Row],[Jméno]],$E$5:$E$2024)","v":0},{"$f":"'14'!D41","v":0},{"$f":"'14'!E41","v":0},{"$f":"'14'!F41","v":0},{"$f":"'14'!G41","v":0},{"$f":"'14'!H41","v":0},{"$f":"'14'!I41","v":0},{"$f":"'14'!J41","v":0},{"$f":"'14'!K41","v":0},{"$f":"'14'!L41","v":0},{"$f":"'14'!M41","v":0},{"$f":"'14'!N41","v":0},{"$f":"'14'!O41","v":0},{"$f":"'14'!P41","v":0},{"$f":"'14'!Q41","v":0},{"$f":"'14'!R41","v":0},{"$f":"'14'!S41","v":0},{"$f":"'14'!T41","v":0},{"$f":"'14'!U41","v":0},{"$f":"'14'!V41","v":0},{"$f":"'14'!W41","v":0},{"$f":"'14'!X41","v":0},{"$f":"'14'!Y41","v":0},{"$f":"'14'!Z41","v":0},{"$f":"'14'!AA41","v":0},{"$f":"'14'!AB41","v":0},{"$f":"'14'!AC41","v":0},{"$f":"'14'!AD41","v":0},{"$f":"'14'!AE41","v":0},{"$f":"'14'!AF41","v":0},{"$f":"'14'!AG41","v":0},{"$f":"'14'!AH41","v":0},{"$f":"'14'!AI41","v":0},{"$f":"'14'!AJ41","v":0},14,{"$f":"VLOOKUP(AL1351,Přehled!$C$5:$AL$24,36)","v":""},null,null,null,null,null,null,null,null,null,null,null,null,null,null,null,null,null,null,null,null,null,null,null,null,null,null,null,null,null,{"$f":"'9'!$AO$114","v":0},{"$f":"'9'!$AP$114","v":0},{"$f":"'9'!$AQ$114","v":0},{"$f":"'9'!$AR$114","v":0},{"$f":"'9'!$AS$114","v":0},{"$f":"'9'!$AT$114","v":0},9,{"$f":"VLOOKUP(BW1351,Přehled!$C$5:$AL$24,36)","v":""},null,null,null,null,null,null,null,null,null,null,null,null,null,null,null,null,null,null,null,null,{"$f":"'9'!$BP$114","v":0},{"$f":"'9'!$BQ$114","v":0},{"$f":"'9'!$BR$114","v":0},{"$f":"'9'!$BS$114","v":0},{"$f":"'9'!$BT$114","v":0},{"$f":"'9'!$BU$114","v":0},9,{"$f":"VLOOKUP(CY1351,Přehled!$C$5:$AL$24,36)","v":""},null,null,null,null,null,null,null,null,null,null,null,null,null,null,null,{"$f":"'9'!$CR$114","v":0},{"$f":"'9'!$CS$114","v":0},{"$f":"'9'!$CT$114","v":0},9,{"$f":"VLOOKUP(DS1351,Přehled!$C$5:$AL$24,36)","v":""}]
[{"$f":"'14'!A47","v":0},{"$f":"'14'!B47","v":0},{"$f":"'14'!C47","v":0},{"$f":"SUMIF($B$5:$B$2024,Souhrn_hod[[#This Row],[Jméno]],$E$5:$E$2024)","v":0},{"$f":"'14'!D47","v":0},{"$f":"'14'!E47","v":0},{"$f":"'14'!F47","v":0},{"$f":"'14'!G47","v":0},{"$f":"'14'!H47","v":0},{"$f":"'14'!I47","v":0},{"$f":"'14'!J47","v":0},{"$f":"'14'!K47","v":0},{"$f":"'14'!L47","v":0},{"$f":"'14'!M47","v":0},{"$f":"'14'!N47","v":0},{"$f":"'14'!O47","v":0},{"$f":"'14'!P47","v":0},{"$f":"'14'!Q47","v":0},{"$f":"'14'!R47","v":0},{"$f":"'14'!S47","v":0},{"$f":"'14'!T47","v":0},{"$f":"'14'!U47","v":0},{"$f":"'14'!V47","v":0},{"$f":"'14'!W47","v":0},{"$f":"'14'!X47","v":0},{"$f":"'14'!Y47","v":0},{"$f":"'14'!Z47","v":0},{"$f":"'14'!AA47","v":0},{"$f":"'14'!AB47","v":0},{"$f":"'14'!AC47","v":0},{"$f":"'14'!AD47","v":0},{"$f":"'14'!AE47","v":0},{"$f":"'14'!AF47","v":0},{"$f":"'14'!AG47","v":0},{"$f":"'14'!AH47","v":0},{"$f":"'14'!AI47","v":0},{"$f":"'14'!AJ47","v":0},14,{"$f":"VLOOKUP(AL1357,Přehled!$C$5:$AL$24,36)","v":""},null,null,null,null,null,null,null,null,null,null,null,null,null,null,null,null,null,null,null,null,null,null,null,null,null,null,null,null,null,{"$f":"'9'!$AO$120","v":0},{"$f":"'9'!$AP$120","v":0},{"$f":"'9'!$AQ$120","v":0},{"$f":"'9'!$AR$120","v":0},{"$f":"'9'!$AS$120","v":0},{"$f":"'9'!$AT$120","v":0},9,{"$f":"VLOOKUP(BW1357,Přehled!$C$5:$AL$24,36)","v":""},null,null,null,null,null,null,null,null,null,null,null,null,null,null,null,null,null,null,null,null,{"$f":"'9'!$BP$120","v":0},{"$f":"'9'!$BQ$120","v":0},{"$f":"'9'!$BR$120","v":0},{"$f":"'9'!$BS$120","v":0},{"$f":"'9'!$BT$120","v":0},{"$f":"'9'!$BU$120","v":0},9,{"$f":"VLOOKUP(CY1357,Přehled!$C$5:$AL$24,36)","v":""},null,null,null,null,null,null,null,null,null,null,null,null,null,null,null,{"$f":"'9'!$CR$120","v":0},{"$f":"'9'!$CS$120","v":0},{"$f":"'9'!$CT$120","v":0},9,{"$f":"VLOOKUP(DS1357,Přehled!$C$5:$AL$24,36)","v":""}]
[{"$f":"'14'!A57","v":0},{"$f":"'14'!B57","v":0},{"$f":"'14'!C57","v":0},{"$f":"SUMIF($B$5:$B$2024,Souhrn_hod[[#This Row],[Jméno]],$E$5:$E$2024)","v":0},{"$f":"'14'!D57","v":0},{"$f":"'14'!E57","v":0},{"$f":"'14'!F57","v":0},{"$f":"'14'!G57","v":0},{"$f":"'14'!H57","v":0},{"$f":"'14'!I57","v":0},{"$f":"'14'!J57","v":0},{"$f":"'14'!K57","v":0},{"$f":"'14'!L57","v":0},{"$f":"'14'!M57","v":0},{"$f":"'14'!N57","v":0},{"$f":"'14'!O57","v":0},{"$f":"'14'!P57","v":0},{"$f":"'14'!Q57","v":0},{"$f":"'14'!R57","v":0},{"$f":"'14'!S57","v":0},{"$f":"'14'!T57","v":0},{"$f":"'14'!U57","v":0},{"$f":"'14'!V57","v":0},{"$f":"'14'!W57","v":0},{"$f":"'14'!X57","v":0},{"$f":"'14'!Y57","v":0},{"$f":"'14'!Z57","v":0},{"$f":"'14'!AA57","v":0},{"$f":"'14'!AB57","v":0},{"$f":"'14'!AC57","v":0},{"$f":"'14'!AD57","v":0},{"$f":"'14'!AE57","v":0},{"$f":"'14'!AF57","v":0},{"$f":"'14'!AG57","v":0},{"$f":"'14'!AH57","v":0},{"$f":"'14'!AI57","v":0},{"$f":"'14'!AJ57","v":0},14,{"$f":"VLOOKUP(AL1367,Přehled!$C$5:$AL$24,36)","v":""},null,null,null,null,null,null,null,null,null,null,null,null,null,null,null,null,null,null,null,null,null,null,null,null,null,null,null,null,null,{"$f":"'9'!$AO$130","v":0},{"$f":"'9'!$AP$130","v":0},{"$f":"'9'!$AQ$130","v":0},{"$f":"'9'!$AR$130","v":0},{"$f":"'9'!$AS$130","v":0},{"$f":"'9'!$AT$130","v":0},9,{"$f":"VLOOKUP(BW1367,Přehled!$C$5:$AL$24,36)","v":""},null,null,null,null,null,null,null,null,null,null,null,null,null,null,null,null,null,null,null,null,{"$f":"'9'!$BP$130","v":0},{"$f":"'9'!$BQ$130","v":0},{"$f":"'9'!$BR$130","v":0},{"$f":"'9'!$BS$130","v":0},{"$f":"'9'!$BT$130","v":0},{"$f":"'9'!$BU$130","v":0},9,{"$f":"VLOOKUP(CY1367,Přehled!$C$5:$AL$24,36)","v":""},null,null,null,null,null,null,null,null,null,null,null,null,null,null,null,{"$f":"'9'!$CR$130","v":0},{"$f":"'9'!$CS$130","v":0},{"$f":"'9'!$CT$130","v":0},9,{"$f":"VLOOKUP(DS1367,Přehled!$C$5:$AL$24,36)","v":""}]
[{"$f":"'14'!A74","v":0},{"$f":"'14'!B74","v":0},{"$f":"'14'!C74","v":0},{"$f":"SUMIF($B$5:$B$2024,Souhrn_hod[[#This Row],[Jméno]],$E$5:$E$2024)","v":0},{"$f":"'14'!D74","v":0},{"$f":"'14'!E74","v":0},{"$f":"'14'!F74","v":0},{"$f":"'14'!G74","v":0},{"$f":"'14'!H74","v":0},{"$f":"'14'!I74","v":0},{"$f":"'14'!J74","v":0},{"$f":"'14'!K74","v":0},{"$f":"'14'!L74","v":0},{"$f":"'14'!M74","v":0},{"$f":"'14'!N74","v":0},{"$f":"'14'!O74","v":0},{"$f":"'14'!P74","v":0},{"$f":"'14'!Q74","v":0},{"$f":"'14'!R74","v":0},{"$f":"'14'!S74","v":0},{"$f":"'14'!T74","v":0},{"$f":"'14'!U74","v":0},{"$f":"'14'!V74","v":0},{"$f":"'14'!W74","v":0},{"$f":"'14'!X74","v":0},{"$f":"'14'!Y74","v":0},{"$f":"'14'!Z74","v":0},{"$f":"'14'!AA74","v":0},{"$f":"'14'!AB74","v":0},{"$f":"'14'!AC74","v":0},{"$f":"'14'!AD74","v":0},{"$f":"'14'!AE74","v":0},{"$f":"'14'!AF74","v":0},{"$f":"'14'!AG74","v":0},{"$f":"'14'!AH74","v":0},{"$f":"'14'!AI74","v":0},{"$f":"'14'!AJ74","v":0},14,{"$f":"VLOOKUP(AL1384,Přehled!$C$5:$AL$24,36)","v":""},null,null,null,null,null,null,null,null,null,null,null,null,null,null,null,null,null,null,null,null,null,null,null,null,null,null,null,null,null,{"$f":"'9'!$AO$147","v":0},{"$f":"'9'!$AP$147","v":0},{"$f":"'9'!$AQ$147","v":0},{"$f":"'9'!$AR$147","v":0},{"$f":"'9'!$AS$147","v":0},{"$f":"'9'!$AT$147","v":0},9,{"$f":"VLOOKUP(BW1384,Přehled!$C$5:$AL$24,36)","v":""},null,null,null,null,null,null,null,null,null,null,null,null,null,null,null,null,null,null,null,null,{"$f":"'9'!$BP$147","v":0},{"$f":"'9'!$BQ$147","v":0},{"$f":"'9'!$BR$147","v":0},{"$f":"'9'!$BS$147","v":0},{"$f":"'9'!$BT$147","v":0},{"$f":"'9'!$BU$147","v":0},9,{"$f":"VLOOKUP(CY1384,Přehled!$C$5:$AL$24,36)","v":""},null,null,null,null,null,null,null,null,null,null,null,null,null,null,null,{"$f":"'9'!$CR$147","v":0},{"$f":"'9'!$CS$147","v":0},{"$f":"'9'!$CT$147","v":0},9,{"$f":"VLOOKUP(DS1384,Přehled!$C$5:$AL$24,36)","v":""}]
[{"$f":"'14'!A81","v":0},{"$f":"'14'!B81","v":0},{"$f":"'14'!C81","v":0},{"$f":"SUMIF($B$5:$B$2024,Souhrn_hod[[#This Row],[Jméno]],$E$5:$E$2024)","v":0},{"$f":"'14'!D81","v":0},{"$f":"'14'!E81","v":0},{"$f":"'14'!F81","v":0},{"$f":"'14'!G81","v":0},{"$f":"'14'!H81","v":0},{"$f":"'14'!I81","v":0},{"$f":"'14'!J81","v":0},{"$f":"'14'!K81","v":0},{"$f":"'14'!L81","v":0},{"$f":"'14'!M81","v":0},{"$f":"'14'!N81","v":0},{"$f":"'14'!O81","v":0},{"$f":"'14'!P81","v":0},{"$f":"'14'!Q81","v":0},{"$f":"'14'!R81","v":0},{"$f":"'14'!S81","v":0},{"$f":"'14'!T81","v":0},{"$f":"'14'!U81","v":0},{"$f":"'14'!V81","v":0},{"$f":"'14'!W81","v":0},{"$f":"'14'!X81","v":0},{"$f":"'14'!Y81","v":0},{"$f":"'14'!Z81","v":0},{"$f":"'14'!AA81","v":0},{"$f":"'14'!AB81","v":0},{"$f":"'14'!AC81","v":0},{"$f":"'14'!AD81","v":0},{"$f":"'14'!AE81","v":0},{"$f":"'14'!AF81","v":0},{"$f":"'14'!AG81","v":0},{"$f":"'14'!AH81","v":0},{"$f":"'14'!AI81","v":0},{"$f":"'14'!AJ81","v":0},14,{"$f":"VLOOKUP(AL1391,Přehled!$C$5:$AL$24,36)","v":""},null,null,null,null,null,null,null,null,null,null,null,null,null,null,null,null,null,null,null,null,null,null,null,null,null,null,null,null,null,{"$f":"'9'!$AO$154","v":0},{"$f":"'9'!$AP$154","v":0},{"$f":"'9'!$AQ$154","v":0},{"$f":"'9'!$AR$154","v":0},{"$f":"'9'!$AS$154","v":0},{"$f":"'9'!$AT$154","v":0},9,{"$f":"VLOOKUP(BW1391,Přehled!$C$5:$AL$24,36)","v":""},null,null,null,null,null,null,null,null,null,null,null,null,null,null,null,null,null,null,null,null,{"$f":"'9'!$BP$154","v":0},{"$f":"'9'!$BQ$154","v":0},{"$f":"'9'!$BR$154","v":0},{"$f":"'9'!$BS$154","v":0},{"$f":"'9'!$BT$154","v":0},{"$f":"'9'!$BU$154","v":0},9,{"$f":"VLOOKUP(CY1391,Přehled!$C$5:$AL$24,36)","v":""},null,null,null,null,null,null,null,null,null,null,null,null,null,null,null,{"$f":"'9'!$CR$154","v":0},{"$f":"'9'!$CS$154","v":0},{"$f":"'9'!$CT$154","v":0},9,{"$f":"VLOOKUP(DS1391,Přehled!$C$5:$AL$24,36)","v":""}]
[{"$f":"'14'!A91","v":0},{"$f":"'14'!B91","v":0},{"$f":"'14'!C91","v":0},{"$f":"SUMIF($B$5:$B$2024,Souhrn_hod[[#This Row],[Jméno]],$E$5:$E$2024)","v":0},{"$f":"'14'!D91","v":0},{"$f":"'14'!E91","v":0},{"$f":"'14'!F91","v":0},{"$f":"'14'!G91","v":0},{"$f":"'14'!H91","v":0},{"$f":"'14'!I91","v":0},{"$f":"'14'!J91","v":0},{"$f":"'14'!K91","v":0},{"$f":"'14'!L91","v":0},{"$f":"'14'!M91","v":0},{"$f":"'14'!N91","v":0},{"$f":"'14'!O91","v":0},{"$f":"'14'!P91","v":0},{"$f":"'14'!Q91","v":0},{"$f":"'14'!R91","v":0},{"$f":"'14'!S91","v":0},{"$f":"'14'!T91","v":0},{"$f":"'14'!U91","v":0},{"$f":"'14'!V91","v":0},{"$f":"'14'!W91","v":0},{"$f":"'14'!X91","v":0},{"$f":"'14'!Y91","v":0},{"$f":"'14'!Z91","v":0},{"$f":"'14'!AA91","v":0},{"$f":"'14'!AB91","v":0},{"$f":"'14'!AC91","v":0},{"$f":"'14'!AD91","v":0},{"$f":"'14'!AE91","v":0},{"$f":"'14'!AF91","v":0},{"$f":"'14'!AG91","v":0},{"$f":"'14'!AH91","v":0},{"$f":"'14'!AI91","v":0},{"$f":"'14'!AJ91","v":0},14,{"$f":"VLOOKUP(AL1401,Přehled!$C$5:$AL$24,36)","v":""},null,null,null,null,null,null,null,null,null,null,null,null,null,null,null,null,null,null,null,null,null,null,null,null,null,null,null,null,null,{"$f":"'10'!$AO$9","v":0},{"$f":"'10'!$AP$9","v":0},{"$f":"'10'!$AQ$9","v":0},{"$f":"'10'!$AR$9","v":0},{"$f":"'10'!$AS$9","v":0},{"$f":"'10'!$AT$9","v":0},10,{"$f":"VLOOKUP(BW1401,Přehled!$C$5:$AL$24,36)","v":""},null,null,null,null,null,null,null,null,null,null,null,null,null,null,null,null,null,null,null,null,{"$f":"'10'!$BP$9","v":0},{"$f":"'10'!$BQ$9","v":0},{"$f":"'10'!$BR$9","v":0},{"$f":"'10'!$BS$9","v":0},{"$f":"'10'!$BT$9","v":0},{"$f":"'10'!$BU$9","v":0},10,{"$f":"VLOOKUP(CY1401,Přehled!$C$5:$AL$24,36)","v":""},null,null,null,null,null,null,null,null,null,null,null,null,null,null,null,{"$f":"'10'!$CR$9","v":0},{"$f":"'10'!$CS$9","v":0},{"$f":"'10'!$CT$9","v":0},10,{"$f":"VLOOKUP(DS1401,Přehled!$C$5:$AL$24,36)","v":""}]
[{"$f":"'14'!A108","v":0},{"$f":"'14'!B108","v":0},{"$f":"'14'!C108","v":0},{"$f":"SUMIF($B$5:$B$2024,Souhrn_hod[[#This Row],[Jméno]],$E$5:$E$2024)","v":0},{"$f":"'14'!D108","v":0},{"$f":"'14'!E108","v":0},{"$f":"'14'!F108","v":0},{"$f":"'14'!G108","v":0},{"$f":"'14'!H108","v":0},{"$f":"'14'!I108","v":0},{"$f":"'14'!J108","v":0},{"$f":"'14'!K108","v":0},{"$f":"'14'!L108","v":0},{"$f":"'14'!M108","v":0},{"$f":"'14'!N108","v":0},{"$f":"'14'!O108","v":0},{"$f":"'14'!P108","v":0},{"$f":"'14'!Q108","v":0},{"$f":"'14'!R108","v":0},{"$f":"'14'!S108","v":0},{"$f":"'14'!T108","v":0},{"$f":"'14'!U108","v":0},{"$f":"'14'!V108","v":0},{"$f":"'14'!W108","v":0},{"$f":"'14'!X108","v":0},{"$f":"'14'!Y108","v":0},{"$f":"'14'!Z108","v":0},{"$f":"'14'!AA108","v":0},{"$f":"'14'!AB108","v":0},{"$f":"'14'!AC108","v":0},{"$f":"'14'!AD108","v":0},{"$f":"'14'!AE108","v":0},{"$f":"'14'!AF108","v":0},{"$f":"'14'!AG108","v":0},{"$f":"'14'!AH108","v":0},{"$f":"'14'!AI108","v":0},{"$f":"'14'!AJ108","v":0},14,{"$f":"VLOOKUP(AL1418,Přehled!$C$5:$AL$24,36)","v":""},null,null,null,null,null,null,null,null,null,null,null,null,null,null,null,null,null,null,null,null,null,null,null,null,null,null,null,null,null,{"$f":"'10'!$AO$26","v":0},{"$f":"'10'!$AP$26","v":0},{"$f":"'10'!$AQ$26","v":0},{"$f":"'10'!$AR$26","v":0},{"$f":"'10'!$AS$26","v":0},{"$f":"'10'!$AT$26","v":0},10,{"$f":"VLOOKUP(BW1418,Přehled!$C$5:$AL$24,36)","v":""},null,null,null,null,null,null,null,null,null,null,null,null,null,null,null,null,null,null,null,null,{"$f":"'10'!$BP$26","v":0},{"$f":"'10'!$BQ$26","v":0},{"$f":"'10'!$BR$26","v":0},{"$f":"'10'!$BS$26","v":0},{"$f":"'10'!$BT$26","v":0},{"$f":"'10'!$BU$26","v":0},10,{"$f":"VLOOKUP(CY1418,Přehled!$C$5:$AL$24,36)","v":""},null,null,null,null,null,null,null,null,null,null,null,null,null,null,null,{"$f":"'10'!$CR$26","v":0},{"$f":"'10'!$CS$26","v":0},{"$f":"'10'!$CT$26","v":0},10,{"$f":"VLOOKUP(DS1418,Přehled!$C$5:$AL$24,36)","v":""}]
[{"$f":"'15'!A17","v":0},{"$f":"'15'!B17","v":0},{"$f":"'15'!C17","v":0},{"$f":"SUMIF($B$5:$B$2024,Souhrn_hod[[#This Row],[Jméno]],$E$5:$E$2024)","v":0},{"$f":"'15'!D17","v":0},{"$f":"'15'!E17","v":0},{"$f":"'15'!F17","v":0},{"$f":"'15'!G17","v":0},{"$f":"'15'!H17","v":0},{"$f":"'15'!I17","v":0},{"$f":"'15'!J17","v":0},{"$f":"'15'!K17","v":0},{"$f":"'15'!L17","v":0},{"$f":"'15'!M17","v":0},{"$f":"'15'!N17","v":0},{"$f":"'15'!O17","v":0},{"$f":"'15'!P17","v":0},{"$f":"'15'!Q17","v":0},{"$f":"'15'!R17","v":0},{"$f":"'15'!S17","v":0},{"$f":"'15'!T17","v":0},{"$f":"'15'!U17","v":0},{"$f":"'15'!V17","v":0},{"$f":"'15'!W17","v":0},{"$f":"'15'!X17","v":0},{"$f":"'15'!Y17","v":0},{"$f":"'15'!Z17","v":0},{"$f":"'15'!AA17","v":0},{"$f":"'15'!AB17","v":0},{"$f":"'15'!AC17","v":0},{"$f":"'15'!AD17","v":0},{"$f":"'15'!AE17","v":0},{"$f":"'15'!AF17","v":0},{"$f":"'15'!AG17","v":0},{"$f":"'15'!AH17","v":0},{"$f":"'15'!AI17","v":0},{"$f":"'15'!AJ17","v":0},15,{"$f":"VLOOKUP(AL1428,Přehled!$C$5:$AL$24,36)","v":""},null,null,null,null,null,null,null,null,null,null,null,null,null,null,null,null,null,null,null,null,null,null,null,null,null,null,null,null,null,{"$f":"'10'!$AO$36","v":0},{"$f":"'10'!$AP$36","v":0},{"$f":"'10'!$AQ$36","v":0},{"$f":"'10'!$AR$36","v":0},{"$f":"'10'!$AS$36","v":0},{"$f":"'10'!$AT$36","v":0},10,{"$f":"VLOOKUP(BW1428,Přehled!$C$5:$AL$24,36)","v":""},null,null,null,null,null,null,null,null,null,null,null,null,null,null,null,null,null,null,null,null,{"$f":"'10'!$BP$36","v":0},{"$f":"'10'!$BQ$36","v":0},{"$f":"'10'!$BR$36","v":0},{"$f":"'10'!$BS$36","v":0},{"$f":"'10'!$BT$36","v":0},{"$f":"'10'!$BU$36","v":0},10,{"$f":"VLOOKUP(CY1428,Přehled!$C$5:$AL$24,36)","v":""},null,null,null,null,null,null,null,null,null,null,null,null,null,null,null,{"$f":"'10'!$CR$36","v":0},{"$f":"'10'!$CS$36","v":0},{"$f":"'10'!$CT$36","v":0},10,{"$f":"VLOOKUP(DS1428,Přehled!$C$5:$AL$24,36)","v":""}]
[{"$f":"'15'!A23","v":0},{"$f":"'15'!B23","v":0},{"$f":"'15'!C23","v":0},{"$f":"SUMIF($B$5:$B$2024,Souhrn_hod[[#This Row],[Jméno]],$E$5:$E$2024)","v":0},{"$f":"'15'!D23","v":0},{"$f":"'15'!E23","v":0},{"$f":"'15'!F23","v":0},{"$f":"'15'!G23","v":0},{"$f":"'15'!H23","v":0},{"$f":"'15'!I23","v":0},{"$f":"'15'!J23","v":0},{"$f":"'15'!K23","v":0},{"$f":"'15'!L23","v":0},{"$f":"'15'!M23","v":0},{"$f":"'15'!N23","v":0},{"$f":"'15'!O23","v":0},{"$f":"'15'!P23","v":0},{"$f":"'15'!Q23","v":0},{"$f":"'15'!R23","v":0},{"$f":"'15'!S23","v":0},{"$f":"'15'!T23","v":0},{"$f":"'15'!U23","v":0},{"$f":"'15'!V23","v":0},{"$f":"'15'!W23","v":0},{"$f":"'15'!X23","v":0},{"$f":"'15'!Y23","v":0},{"$f":"'15'!Z23","v":0},{"$f":"'15'!AA23","v":0},{"$f":"'15'!AB23","v":0},{"$f":"'15'!AC23","v":0},{"$f":"'15'!AD23","v":0},{"$f":"'15'!AE23","v":0},{"$f":"'15'!AF23","v":0},{"$f":"'15'!AG23","v":0},{"$f":"'15'!AH23","v":0},{"$f":"'15'!AI23","v":0},{"$f":"'15'!AJ23","v":0},15,{"$f":"VLOOKUP(AL1434,Přehled!$C$5:$AL$24,36)","v":""},null,null,null,null,null,null,null,null,null,null,null,null,null,null,null,null,null,null,null,null,null,null,null,null,null,null,null,null,null,{"$f":"'10'!$AO$42","v":0},{"$f":"'10'!$AP$42","v":0},{"$f":"'10'!$AQ$42","v":0},{"$f":"'10'!$AR$42","v":0},{"$f":"'10'!$AS$42","v":0},{"$f":"'10'!$AT$42","v":0},10,{"$f":"VLOOKUP(BW1434,Přehled!$C$5:$AL$24,36)","v":""},null,null,null,null,null,null,null,null,null,null,null,null,null,null,null,null,null,null,null,null,{"$f":"'10'!$BP$42","v":0},{"$f":"'10'!$BQ$42","v":0},{"$f":"'10'!$BR$42","v":0},{"$f":"'10'!$BS$42","v":0},{"$f":"'10'!$BT$42","v":0},{"$f":"'10'!$BU$42","v":0},10,{"$f":"VLOOKUP(CY1434,Přehled!$C$5:$AL$24,36)","v":""},null,null,null,null,null,null,null,null,null,null,null,null,null,null,null,{"$f":"'10'!$CR$42","v":0},{"$f":"'10'!$CS$42","v":0},{"$f":"'10'!$CT$42","v":0},10,{"$f":"VLOOKUP(DS1434,Přehled!$C$5:$AL$24,36)","v":""}]
[{"$f":"'15'!A42","v":0},{"$f":"'15'!B42","v":0},{"$f":"'15'!C42","v":0},{"$f":"SUMIF($B$5:$B$2024,Souhrn_hod[[#This Row],[Jméno]],$E$5:$E$2024)","v":0},{"$f":"'15'!D42","v":0},{"$f":"'15'!E42","v":0},{"$f":"'15'!F42","v":0},{"$f":"'15'!G42","v":0},{"$f":"'15'!H42","v":0},{"$f":"'15'!I42","v":0},{"$f":"'15'!J42","v":0},{"$f":"'15'!K42","v":0},{"$f":"'15'!L42","v":0},{"$f":"'15'!M42","v":0},{"$f":"'15'!N42","v":0},{"$f":"'15'!O42","v":0},{"$f":"'15'!P42","v":0},{"$f":"'15'!Q42","v":0},{"$f":"'15'!R42","v":0},{"$f":"'15'!S42","v":0},{"$f":"'15'!T42","v":0},{"$f":"'15'!U42","v":0},{"$f":"'15'!V42","v":0},{"$f":"'15'!W42","v":0},{"$f":"'15'!X42","v":0},{"$f":"'15'!Y42","v":0},{"$f":"'15'!Z42","v":0},{"$f":"'15'!AA42","v":0},{"$f":"'15'!AB42","v":0},{"$f":"'15'!AC42","v":0},{"$f":"'15'!AD42","v":0},{"$f":"'15'!AE42","v":0},{"$f":"'15'!AF42","v":0},{"$f":"'15'!AG42","v":0},{"$f":"'15'!AH42","v":0},{"$f":"'15'!AI42","v":0},{"$f":"'15'!AJ42","v":0},15,{"$f":"VLOOKUP(AL1453,Přehled!$C$5:$AL$24,36)","v":""},null,null,null,null,null,null,null,null,null,null,null,null,null,null,null,null,null,null,null,null,null,null,null,null,null,null,null,null,null,{"$f":"'10'!$AO$61","v":0},{"$f":"'10'!$AP$61","v":0},{"$f":"'10'!$AQ$61","v":0},{"$f":"'10'!$AR$61","v":0},{"$f":"'10'!$AS$61","v":0},{"$f":"'10'!$AT$61","v":0},10,{"$f":"VLOOKUP(BW1453,Přehled!$C$5:$AL$24,36)","v":""},null,null,null,null,null,null,null,null,null,null,null,null,null,null,null,null,null,null,null,null,{"$f":"'10'!$BP$61","v":0},{"$f":"'10'!$BQ$61","v":0},{"$f":"'10'!$BR$61","v":0},{"$f":"'10'!$BS$61","v":0},{"$f":"'10'!$BT$61","v":0},{"$f":"'10'!$BU$61","v":0},10,{"$f":"VLOOKUP(CY1453,Přehled!$C$5:$AL$24,36)","v":""},null,null,null,null,null,null,null,null,null,null,null,null,null,null,null,{"$f":"'10'!$CR$61","v":0},{"$f":"'10'!$CS$61","v":0},{"$f":"'10'!$CT$61","v":0},10,{"$f":"VLOOKUP(DS1453,Přehled!$C$5:$AL$24,36)","v":""}]
[{"$f":"'15'!A51","v":0},{"$f":"'15'!B51","v":0},{"$f":"'15'!C51","v":0},{"$f":"SUMIF($B$5:$B$2024,Souhrn_hod[[#This Row],[Jméno]],$E$5:$E$2024)","v":0},{"$f":"'15'!D51","v":0},{"$f":"'15'!E51","v":0},{"$f":"'15'!F51","v":0},{"$f":"'15'!G51","v":0},{"$f":"'15'!H51","v":0},{"$f":"'15'!I51","v":0},{"$f":"'15'!J51","v":0},{"$f":"'15'!K51","v":0},{"$f":"'15'!L51","v":0},{"$f":"'15'!M51","v":0},{"$f":"'15'!N51","v":0},{"$f":"'15'!O51","v":0},{"$f":"'15'!P51","v":0},{"$f":"'15'!Q51","v":0},{"$f":"'15'!R51","v":0},{"$f":"'15'!S51","v":0},{"$f":"'15'!T51","v":0},{"$f":"'15'!U51","v":0},{"$f":"'15'!V51","v":0},{"$f":"'15'!W51","v":0},{"$f":"'15'!X51","v":0},{"$f":"'15'!Y51","v":0},{"$f":"'15'!Z51","v":0},{"$f":"'15'!AA51","v":0},{"$f":"'15'!AB51","v":0},{"$f":"'15'!AC51","v":0},{"$f":"'15'!AD51","v":0},{"$f":"'15'!AE51","v":0},{"$f":"'15'!AF51","v":0},{"$f":"'15'!AG51","v":0},{"$f":"'15'!AH51","v":0},{"$f":"'15'!AI51","v":0},{"$f":"'15'!AJ51","v":0},15,{"$f":"VLOOKUP(AL1462,Přehled!$C$5:$AL$24,36)","v":""},null,null,null,null,null,null,null,null,null,null,null,null,null,null,null,null,null,null,null,null,null,null,null,null,null,null,null,null,null,{"$f":"'10'!$AO$70","v":0},{"$f":"'10'!$AP$70","v":0},{"$f":"'10'!$AQ$70","v":0},{"$f":"'10'!$AR$70","v":0},{"$f":"'10'!$AS$70","v":0},{"$f":"'10'!$AT$70","v":0},10,{"$f":"VLOOKUP(BW1462,Přehled!$C$5:$AL$24,36)","v":""},null,null,null,null,null,null,null,null,null,null,null,null,null,null,null,null,null,null,null,null,{"$f":"'10'!$BP$70","v":0},{"$f":"'10'!$BQ$70","v":0},{"$f":"'10'!$BR$70","v":0},{"$f":"'10'!$BS$70","v":0},{"$f":"'10'!$BT$70","v":0},{"$f":"'10'!$BU$70","v":0},10,{"$f":"VLOOKUP(CY1462,Přehled!$C$5:$AL$24,36)","v":""},null,null,null,null,null,null,null,null,null,null,null,null,null,null,null,{"$f":"'10'!$CR$70","v":0},{"$f":"'10'!$CS$70","v":0},{"$f":"'10'!$CT$70","v":0},10,{"$f":"VLOOKUP(DS1462,Přehled!$C$5:$AL$24,36)","v":""}]
[{"$f":"'15'!A57","v":0},{"$f":"'15'!B57","v":0},{"$f":"'15'!C57","v":0},{"$f":"SUMIF($B$5:$B$2024,Souhrn_hod[[#This Row],[Jméno]],$E$5:$E$2024)","v":0},{"$f":"'15'!D57","v":0},{"$f":"'15'!E57","v":0},{"$f":"'15'!F57","v":0},{"$f":"'15'!G57","v":0},{"$f":"'15'!H57","v":0},{"$f":"'15'!I57","v":0},{"$f":"'15'!J57","v":0},{"$f":"'15'!K57","v":0},{"$f":"'15'!L57","v":0},{"$f":"'15'!M57","v":0},{"$f":"'15'!N57","v":0},{"$f":"'15'!O57","v":0},{"$f":"'15'!P57","v":0},{"$f":"'15'!Q57","v":0},{"$f":"'15'!R57","v":0},{"$f":"'15'!S57","v":0},{"$f":"'15'!T57","v":0},{"$f":"'15'!U57","v":0},{"$f":"'15'!V57","v":0},{"$f":"'15'!W57","v":0},{"$f":"'15'!X57","v":0},{"$f":"'15'!Y57","v":0},{"$f":"'15'!Z57","v":0},{"$f":"'15'!AA57","v":0},{"$f":"'15'!AB57","v":0},{"$f":"'15'!AC57","v":0},{"$f":"'15'!AD57","v":0},{"$f":"'15'!AE57","v":0},{"$f":"'15'!AF57","v":0},{"$f":"'15'!AG57","v":0},{"$f":"'15'!AH57","v":0},{"$f":"'15'!AI57","v":0},{"$f":"'15'!AJ57","v":0},15,{"$f":"VLOOKUP(AL1468,Přehled!$C$5:$AL$24,36)","v":""},null,null,null,null,null,null,null,null,null,null,null,null,null,null,null,null,null,null,null,null,null,null,null,null,null,null,null,null,null,{"$f":"'10'!$AO$76","v":0},{"$f":"'10'!$AP$76","v":0},{"$f":"'10'!$AQ$76","v":0},{"$f":"'10'!$AR$76","v":0},{"$f":"'10'!$AS$76","v":0},{"$f":"'10'!$AT$76","v":0},10,{"$f":"VLOOKUP(BW1468,Přehled!$C$5:$AL$24,36)","v":""},null,null,null,null,null,null,null,null,null,null,null,null,null,null,null,null,null,null,null,null,{"$f":"'10'!$BP$76","v":0},{"$f":"'10'!$BQ$76","v":0},{"$f":"'10'!$BR$76","v":0},{"$f":"'10'!$BS$76","v":0},{"$f":"'10'!$BT$76","v":0},{"$f":"'10'!$BU$76","v":0},10,{"$f":"VLOOKUP(CY1468,Přehled!$C$5:$AL$24,36)","v":""},null,null,null,null,null,null,null,null,null,null,null,null,null,null,null,{"$f":"'10'!$CR$76","v":0},{"$f":"'10'!$CS$76","v":0},{"$f":"'10'!$CT$76","v":0},10,{"$f":"VLOOKUP(DS1468,Přehled!$C$5:$AL$24,36)","v":""}]
[{"$f":"'15'!A78","v":0},{"$f":"'15'!B78","v":0},{"$f":"'15'!C78","v":0},{"$f":"SUMIF($B$5:$B$2024,Souhrn_hod[[#This Row],[Jméno]],$E$5:$E$2024)","v":0},{"$f":"'15'!D78","v":0},{"$f":"'15'!E78","v":0},{"$f":"'15'!F78","v":0},{"$f":"'15'!G78","v":0},{"$f":"'15'!H78","v":0},{"$f":"'15'!I78","v":0},{"$f":"'15'!J78","v":0},{"$f":"'15'!K78","v":0},{"$f":"'15'!L78","v":0},{"$f":"'15'!M78","v":0},{"$f":"'15'!N78","v":0},{"$f":"'15'!O78","v":0},{"$f":"'15'!P78","v":0},{"$f":"'15'!Q78","v":0},{"$f":"'15'!R78","v":0},{"$f":"'15'!S78","v":0},{"$f":"'15'!T78","v":0},{"$f":"'15'!U78","v":0},{"$f":"'15'!V78","v":0},{"$f":"'15'!W78","v":0},{"$f":"'15'!X78","v":0},{"$f":"'15'!Y78","v":0},{"$f":"'15'!Z78","v":0},{"$f":"'15'!AA78","v":0},{"$f":"'15'!AB78","v":0},{"$f":"'15'!AC78","v":0},{"$f":"'15'!AD78","v":0},{"$f":"'15'!AE78","v":0},{"$f":"'15'!AF78","v":0},{"$f":"'15'!AG78","v":0},{"$f":"'15'!AH78","v":0},{"$f":"'15'!AI78","v":0},{"$f":"'15'!AJ78","v":0},15,{"$f":"VLOOKUP(AL1489,Přehled!$C$5:$AL$24,36)","v":""},null,null,null,null,null,null,null,null,null,null,null,null,null,null,null,null,null,null,null,null,null,null,null,null,null,null,null,null,null,{"$f":"'10'!$AO$97","v":0},{"$f":"'10'!$AP$97","v":0},{"$f":"'10'!$AQ$97","v":0},{"$f":"'10'!$AR$97","v":0},{"$f":"'10'!$AS$97","v":0},{"$f":"'10'!$AT$97","v":0},10,{"$f":"VLOOKUP(BW1489,Přehled!$C$5:$AL$24,36)","v":""},null,null,null,null,null,null,null,null,null,null,null,null,null,null,null,null,null,null,null,null,{"$f":"'10'!$BP$97","v":0},{"$f":"'10'!$BQ$97","v":0},{"$f":"'10'!$BR$97","v":0},{"$f":"'10'!$BS$97","v":0},{"$f":"'10'!$BT$97","v":0},{"$f":"'10'!$BU$97","v":0},10,{"$f":"VLOOKUP(CY1489,Přehled!$C$5:$AL$24,36)","v":""},null,null,null,null,null,null,null,null,null,null,null,null,null,null,null,{"$f":"'10'!$CR$97","v":0},{"$f":"'10'!$CS$97","v":0},{"$f":"'10'!$CT$97","v":0},10,{"$f":"VLOOKUP(DS1489,Přehled!$C$5:$AL$24,36)","v":""}]
[{"$f":"'15'!A84","v":0},{"$f":"'15'!B84","v":0},{"$f":"'15'!C84","v":0},{"$f":"SUMIF($B$5:$B$2024,Souhrn_hod[[#This Row],[Jméno]],$E$5:$E$2024)","v":0},{"$f":"'15'!D84","v":0},{"$f":"'15'!E84","v":0},{"$f":"'15'!F84","v":0},{"$f":"'15'!G84","v":0},{"$f":"'15'!H84","v":0},{"$f":"'15'!I84","v":0},{"$f":"'15'!J84","v":0},{"$f":"'15'!K84","v":0},{"$f":"'15'!L84","v":0},{"$f":"'15'!M84","v":0},{"$f":"'15'!N84","v":0},{"$f":"'15'!O84","v":0},{"$f":"'15'!P84","v":0},{"$f":"'15'!Q84","v":0},{"$f":"'15'!R84","v":0},{"$f":"'15'!S84","v":0},{"$f":"'15'!T84","v":0},{"$f":"'15'!U84","v":0},{"$f":"'15'!V84","v":0},{"$f":"'15'!W84","v":0},{"$f":"'15'!X84","v":0},{"$f":"'15'!Y84","v":0},{"$f":"'15'!Z84","v":0},{"$f":"'15'!AA84","v":0},{"$f":"'15'!AB84","v":0},{"$f":"'15'!AC84","v":0},{"$f":"'15'!AD84","v":0},{"$f":"'15'!AE84","v":0},{"$f":"'15'!AF84","v":0},{"$f":"'15'!AG84","v":0},{"$f":"'15'!AH84","v":0},{"$f":"'15'!AI84","v":0},{"$f":"'15'!AJ84","v":0},15,{"$f":"VLOOKUP(AL1495,Přehled!$C$5:$AL$24,36)","v":""},null,null,null,null,null,null,null,null,null,null,null,null,null,null,null,null,null,null,null,null,null,null,null,null,null,null,null,null,null,{"$f":"'10'!$AO$103","v":0},{"$f":"'10'!$AP$103","v":0},{"$f":"'10'!$AQ$103","v":0},{"$f":"'10'!$AR$103","v":0},{"$f":"'10'!$AS$103","v":0},{"$f":"'10'!$AT$103","v":0},10,{"$f":"VLOOKUP(BW1495,Přehled!$C$5:$AL$24,36)","v":""},null,null,null,null,null,null,null,null,null,null,null,null,null,null,null,null,null,null,null,null,{"$f":"'10'!$BP$103","v":0},{"$f":"'10'!$BQ$103","v":0},{"$f":"'10'!$BR$103","v":0},{"$f":"'10'!$BS$103","v":0},{"$f":"'10'!$BT$103","v":0},{"$f":"'10'!$BU$103","v":0},10,{"$f":"VLOOKUP(CY1495,Přehled!$C$5:$AL$24,36)","v":""},null,null,null,null,null,null,null,null,null,null,null,null,null,null,null,{"$f":"'10'!$CR$103","v":0},{"$f":"'10'!$CS$103","v":0},{"$f":"'10'!$CT$103","v":0},10,{"$f":"VLOOKUP(DS1495,Přehled!$C$5:$AL$24,36)","v":""}]
[{"$f":"'15'!A90","v":0},{"$f":"'15'!B90","v":0},{"$f":"'15'!C90","v":0},{"$f":"SUMIF($B$5:$B$2024,Souhrn_hod[[#This Row],[Jméno]],$E$5:$E$2024)","v":0},{"$f":"'15'!D90","v":0},{"$f":"'15'!E90","v":0},{"$f":"'15'!F90","v":0},{"$f":"'15'!G90","v":0},{"$f":"'15'!H90","v":0},{"$f":"'15'!I90","v":0},{"$f":"'15'!J90","v":0},{"$f":"'15'!K90","v":0},{"$f":"'15'!L90","v":0},{"$f":"'15'!M90","v":0},{"$f":"'15'!N90","v":0},{"$f":"'15'!O90","v":0},{"$f":"'15'!P90","v":0},{"$f":"'15'!Q90","v":0},{"$f":"'15'!R90","v":0},{"$f":"'15'!S90","v":0},{"$f":"'15'!T90","v":0},{"$f":"'15'!U90","v":0},{"$f":"'15'!V90","v":0},{"$f":"'15'!W90","v":0},{"$f":"'15'!X90","v":0},{"$f":"'15'!Y90","v":0},{"$f":"'15'!Z90","v":0},{"$f":"'15'!AA90","v":0},{"$f":"'15'!AB90","v":0},{"$f":"'15'!AC90","v":0},{"$f":"'15'!AD90","v":0},{"$f":"'15'!AE90","v":0},{"$f":"'15'!AF90","v":0},{"$f":"'15'!AG90","v":0},{"$f":"'15'!AH90","v":0},{"$f":"'15'!AI90","v":0},{"$f":"'15'!AJ90","v":0},15,{"$f":"VLOOKUP(AL1501,Přehled!$C$5:$AL$24,36)","v":""},null,null,null,null,null,null,null,null,null,null,null,null,null,null,null,null,null,null,null,null,null,null,null,null,null,null,null,null,null,{"$f":"'10'!$AO$109","v":0},{"$f":"'10'!$AP$109","v":0},{"$f":"'10'!$AQ$109","v":0},{"$f":"'10'!$AR$109","v":0},{"$f":"'10'!$AS$109","v":0},{"$f":"'10'!$AT$109","v":0},10,{"$f":"VLOOKUP(BW1501,Přehled!$C$5:$AL$24,36)","v":""},null,null,null,null,null,null,null,null,null,null,null,null,null,null,null,null,null,null,null,null,{"$f":"'10'!$BP$109","v":0},{"$f":"'10'!$BQ$109","v":0},{"$f":"'10'!$BR$109","v":0},{"$f":"'10'!$BS$109","v":0},{"$f":"'10'!$BT$109","v":0},{"$f":"'10'!$BU$109","v":0},10,{"$f":"VLOOKUP(CY1501,Přehled!$C$5:$AL$24,36)","v":""},null,null,null,null,null,null,null,null,null,null,null,null,null,null,null,{"$f":"'10'!$CR$109","v":0},{"$f":"'10'!$CS$109","v":0},{"$f":"'10'!$CT$109","v":0},10,{"$f":"VLOOKUP(DS1501,Přehled!$C$5:$AL$24,36)","v":""}]
[{"$f":"'15'!A103","v":0},{"$f":"'15'!B103","v":0},{"$f":"'15'!C103","v":0},{"$f":"SUMIF($B$5:$B$2024,Souhrn_hod[[#This Row],[Jméno]],$E$5:$E$2024)","v":0},{"$f":"'15'!D103","v":0},{"$f":"'15'!E103","v":0},{"$f":"'15'!F103","v":0},{"$f":"'15'!G103","v":0},{"$f":"'15'!H103","v":0},{"$f":"'15'!I103","v":0},{"$f":"'15'!J103","v":0},{"$f":"'15'!K103","v":0},{"$f":"'15'!L103","v":0},{"$f":"'15'!M103","v":0},{"$f":"'15'!N103","v":0},{"$f":"'15'!O103","v":0},{"$f":"'15'!P103","v":0},{"$f":"'15'!Q103","v":0},{"$f":"'15'!R103","v":0},{"$f":"'15'!S103","v":0},{"$f":"'15'!T103","v":0},{"$f":"'15'!U103","v":0},{"$f":"'15'!V103","v":0},{"$f":"'15'!W103","v":0},{"$f":"'15'!X103","v":0},{"$f":"'15'!Y103","v":0},{"$f":"'15'!Z103","v":0},{"$f":"'15'!AA103","v":0},{"$f":"'15'!AB103","v":0},{"$f":"'15'!AC103","v":0},{"$f":"'15'!AD103","v":0},{"$f":"'15'!AE103","v":0},{"$f":"'15'!AF103","v":0},{"$f":"'15'!AG103","v":0},{"$f":"'15'!AH103","v":0},{"$f":"'15'!AI103","v":0},{"$f":"'15'!AJ103","v":0},15,{"$f":"VLOOKUP(AL1514,Přehled!$C$5:$AL$24,36)","v":""},null,null,null,null,null,null,null,null,null,null,null,null,null,null,null,null,null,null,null,null,null,null,null,null,null,null,null,null,null,{"$f":"'10'!$AO$122","v":0},{"$f":"'10'!$AP$122","v":0},{"$f":"'10'!$AQ$122","v":0},{"$f":"'10'!$AR$122","v":0},{"$f":"'10'!$AS$122","v":0},{"$f":"'10'!$AT$122","v":0},10,{"$f":"VLOOKUP(BW1514,Přehled!$C$5:$AL$24,36)","v":""},null,null,null,null,null,null,null,null,null,null,null,null,null,null,null,null,null,null,null,null,{"$f":"'10'!$BP$122","v":0},{"$f":"'10'!$BQ$122","v":0},{"$f":"'10'!$BR$122","v":0},{"$f":"'10'!$BS$122","v":0},{"$f":"'10'!$BT$122","v":0},{"$f":"'10'!$BU$122","v":0},10,{"$f":"VLOOKUP(CY1514,Přehled!$C$5:$AL$24,36)","v":""},null,null,null,null,null,null,null,null,null,null,null,null,null,null,null,{"$f":"'10'!$CR$122","v":0},{"$f":"'10'!$CS$122","v":0},{"$f":"'10'!$CT$122","v":0},10,{"$f":"VLOOKUP(DS1514,Přehled!$C$5:$AL$24,36)","v":""}]
[{"$f":"'16'!A17","v":0},{"$f":"'16'!B17","v":0},{"$f":"'16'!C17","v":0},{"$f":"SUMIF($B$5:$B$2024,Souhrn_hod[[#This Row],[Jméno]],$E$5:$E$2024)","v":0},{"$f":"'16'!D17","v":0},{"$f":"'16'!E17","v":0},{"$f":"'16'!F17","v":0},{"$f":"'16'!G17","v":0},{"$f":"'16'!H17","v":0},{"$f":"'16'!I17","v":0},{"$f":"'16'!J17","v":0},{"$f":"'16'!K17","v":0},{"$f":"'16'!L17","v":0},{"$f":"'16'!M17","v":0},{"$f":"'16'!N17","v":0},{"$f":"'16'!O17","v":0},{"$f":"'16'!P17","v":0},{"$f":"'16'!Q17","v":0},{"$f":"'16'!R17","v":0},{"$f":"'16'!S17","v":0},{"$f":"'16'!T17","v":0},{"$f":"'16'!U17","v":0},{"$f":"'16'!V17","v":0},{"$f":"'16'!W17","v":0},{"$f":"'16'!X17","v":0},{"$f":"'16'!Y17","v":0},{"$f":"'16'!Z17","v":0},{"$f":"'16'!AA17","v":0},{"$f":"'16'!AB17","v":0},{"$f":"'16'!AC17","v":0},{"$f":"'16'!AD17","v":0},{"$f":"'16'!AE17","v":0},{"$f":"'16'!AF17","v":0},{"$f":"'16'!AG17","v":0},{"$f":"'16'!AH17","v":0},{"$f":"'16'!AI17","v":0},{"$f":"'16'!AJ17","v":0},16,{"$f":"VLOOKUP(AL1529,Přehled!$C$5:$AL$24,36)","v":""},null,null,null,null,null,null,null,null,null,null,null,null,null,null,null,null,null,null,null,null,null,null,null,null,null,null,null,null,null,{"$f":"'10'!$AO$137","v":0},{"$f":"'10'!$AP$137","v":0},{"$f":"'10'!$AQ$137","v":0},{"$f":"'10'!$AR$137","v":0},{"$f":"'10'!$AS$137","v":0},{"$f":"'10'!$AT$137","v":0},10,{"$f":"VLOOKUP(BW1529,Přehled!$C$5:$AL$24,36)","v":""},null,null,null,null,null,null,null,null,null,null,null,null,null,null,null,null,null,null,null,null,{"$f":"'10'!$BP$137","v":0},{"$f":"'10'!$BQ$137","v":0},{"$f":"'10'!$BR$137","v":0},{"$f":"'10'!$BS$137","v":0},{"$f":"'10'!$BT$137","v":0},{"$f":"'10'!$BU$137","v":0},10,{"$f":"VLOOKUP(CY1529,Přehled!$C$5:$AL$24,36)","v":""},null,null,null,null,null,null,null,null,null,null,null,null,null,null,null,{"$f":"'10'!$CR$137","v":0},{"$f":"'10'!$CS$137","v":0},{"$f":"'10'!$CT$137","v":0},10,{"$f":"VLOOKUP(DS1529,Přehled!$C$5:$AL$24,36)","v":""}]
[{"$f":"'16'!A23","v":0},{"$f":"'16'!B23","v":0},{"$f":"'16'!C23","v":0},{"$f":"SUMIF($B$5:$B$2024,Souhrn_hod[[#This Row],[Jméno]],$E$5:$E$2024)","v":0},{"$f":"'16'!D23","v":0},{"$f":"'16'!E23","v":0},{"$f":"'16'!F23","v":0},{"$f":"'16'!G23","v":0},{"$f":"'16'!H23","v":0},{"$f":"'16'!I23","v":0},{"$f":"'16'!J23","v":0},{"$f":"'16'!K23","v":0},{"$f":"'16'!L23","v":0},{"$f":"'16'!M23","v":0},{"$f":"'16'!N23","v":0},{"$f":"'16'!O23","v":0},{"$f":"'16'!P23","v":0},{"$f":"'16'!Q23","v":0},{"$f":"'16'!R23","v":0},{"$f":"'16'!S23","v":0},{"$f":"'16'!T23","v":0},{"$f":"'16'!U23","v":0},{"$f":"'16'!V23","v":0},{"$f":"'16'!W23","v":0},{"$f":"'16'!X23","v":0},{"$f":"'16'!Y23","v":0},{"$f":"'16'!Z23","v":0},{"$f":"'16'!AA23","v":0},{"$f":"'16'!AB23","v":0},{"$f":"'16'!AC23","v":0},{"$f":"'16'!AD23","v":0},{"$f":"'16'!AE23","v":0},{"$f":"'16'!AF23","v":0},{"$f":"'16'!AG23","v":0},{"$f":"'16'!AH23","v":0},{"$f":"'16'!AI23","v":0},{"$f":"'16'!AJ23","v":0},16,{"$f":"VLOOKUP(AL1535,Přehled!$C$5:$AL$24,36)","v":""},null,null,null,null,null,null,null,null,null,null,null,null,null,null,null,null,null,null,null,null,null,null,null,null,null,null,null,null,null,{"$f":"'10'!$AO$143","v":0},{"$f":"'10'!$AP$143","v":0},{"$f":"'10'!$AQ$143","v":0},{"$f":"'10'!$AR$143","v":0},{"$f":"'10'!$AS$143","v":0},{"$f":"'10'!$AT$143","v":0},10,{"$f":"VLOOKUP(BW1535,Přehled!$C$5:$AL$24,36)","v":""},null,null,null,null,null,null,null,null,null,null,null,null,null,null,null,null,null,null,null,null,{"$f":"'10'!$BP$143","v":0},{"$f":"'10'!$BQ$143","v":0},{"$f":"'10'!$BR$143","v":0},{"$f":"'10'!$BS$143","v":0},{"$f":"'10'!$BT$143","v":0},{"$f":"'10'!$BU$143","v":0},10,{"$f":"VLOOKUP(CY1535,Přehled!$C$5:$AL$24,36)","v":""},null,null,null,null,null,null,null,null,null,null,null,null,null,null,null,{"$f":"'10'!$CR$143","v":0},{"$f":"'10'!$CS$143","v":0},{"$f":"'10'!$CT$143","v":0},10,{"$f":"VLOOKUP(DS1535,Přehled!$C$5:$AL$24,36)","v":""}]
[{"$f":"'16'!A44","v":0},{"$f":"'16'!B44","v":0},{"$f":"'16'!C44","v":0},{"$f":"SUMIF($B$5:$B$2024,Souhrn_hod[[#This Row],[Jméno]],$E$5:$E$2024)","v":0},{"$f":"'16'!D44","v":0},{"$f":"'16'!E44","v":0},{"$f":"'16'!F44","v":0},{"$f":"'16'!G44","v":0},{"$f":"'16'!H44","v":0},{"$f":"'16'!I44","v":0},{"$f":"'16'!J44","v":0},{"$f":"'16'!K44","v":0},{"$f":"'16'!L44","v":0},{"$f":"'16'!M44","v":0},{"$f":"'16'!N44","v":0},{"$f":"'16'!O44","v":0},{"$f":"'16'!P44","v":0},{"$f":"'16'!Q44","v":0},{"$f":"'16'!R44","v":0},{"$f":"'16'!S44","v":0},{"$f":"'16'!T44","v":0},{"$f":"'16'!U44","v":0},{"$f":"'16'!V44","v":0},{"$f":"'16'!W44","v":0},{"$f":"'16'!X44","v":0},{"$f":"'16'!Y44","v":0},{"$f":"'16'!Z44","v":0},{"$f":"'16'!AA44","v":0},{"$f":"'16'!AB44","v":0},{"$f":"'16'!AC44","v":0},{"$f":"'16'!AD44","v":0},{"$f":"'16'!AE44","v":0},{"$f":"'16'!AF44","v":0},{"$f":"'16'!AG44","v":0},{"$f":"'16'!AH44","v":0},{"$f":"'16'!AI44","v":0},{"$f":"'16'!AJ44","v":0},16,{"$f":"VLOOKUP(AL1556,Přehled!$C$5:$AL$24,36)","v":""},null,null,null,null,null,null,null,null,null,null,null,null,null,null,null,null,null,null,null,null,null,null,null,null,null,null,null,null,null,{"$f":"'11'!$AO$9","v":0},{"$f":"'11'!$AP$9","v":0},{"$f":"'11'!$AQ$9","v":0},{"$f":"'11'!$AR$9","v":0},{"$f":"'11'!$AS$9","v":0},{"$f":"'11'!$AT$9","v":0},11,{"$f":"VLOOKUP(BW1556,Přehled!$C$5:$AL$24,36)","v":""},null,null,null,null,null,null,null,null,null,null,null,null,null,null,null,null,null,null,null,null,{"$f":"'11'!$BP$9","v":0},{"$f":"'11'!$BQ$9","v":0},{"$f":"'11'!$BR$9","v":0},{"$f":"'11'!$BS$9","v":0},{"$f":"'11'!$BT$9","v":0},{"$f":"'11'!$BU$9","v":0},11,{"$f":"VLOOKUP(CY1556,Přehled!$C$5:$AL$24,36)","v":""},null,null,null,null,null,null,null,null,null,null,null,null,null,null,null,{"$f":"'11'!$CR$9","v":0},{"$f":"'11'!$CS$9","v":0},{"$f":"'11'!$CT$9","v":0},11,{"$f":"VLOOKUP(DS1556,Přehled!$C$5:$AL$24,36)","v":""}]
[{"$f":"'16'!A50","v":0},{"$f":"'16'!B50","v":0},{"$f":"'16'!C50","v":0},{"$f":"SUMIF($B$5:$B$2024,Souhrn_hod[[#This Row],[Jméno]],$E$5:$E$2024)","v":0},{"$f":"'16'!D50","v":0},{"$f":"'16'!E50","v":0},{"$f":"'16'!F50","v":0},{"$f":"'16'!G50","v":0},{"$f":"'16'!H50","v":0},{"$f":"'16'!I50","v":0},{"$f":"'16'!J50","v":0},{"$f":"'16'!K50","v":0},{"$f":"'16'!L50","v":0},{"$f":"'16'!M50","v":0},{"$f":"'16'!N50","v":0},{"$f":"'16'!O50","v":0},{"$f":"'16'!P50","v":0},{"$f":"'16'!Q50","v":0},{"$f":"'16'!R50","v":0},{"$f":"'16'!S50","v":0},{"$f":"'16'!T50","v":0},{"$f":"'16'!U50","v":0},{"$f":"'16'!V50","v":0},{"$f":"'16'!W50","v":0},{"$f":"'16'!X50","v":0},{"$f":"'16'!Y50","v":0},{"$f":"'16'!Z50","v":0},{"$f":"'16'!AA50","v":0},{"$f":"'16'!AB50","v":0},{"$f":"'16'!AC50","v":0},{"$f":"'16'!AD50","v":0},{"$f":"'16'!AE50","v":0},{"$f":"'16'!AF50","v":0},{"$f":"'16'!AG50","v":0},{"$f":"'16'!AH50","v":0},{"$f":"'16'!AI50","v":0},{"$f":"'16'!AJ50","v":0},16,{"$f":"VLOOKUP(AL1562,Přehled!$C$5:$AL$24,36)","v":""},null,null,null,null,null,null,null,null,null,null,null,null,null,null,null,null,null,null,null,null,null,null,null,null,null,null,null,null,null,{"$f":"'11'!$AO$15","v":0},{"$f":"'11'!$AP$15","v":0},{"$f":"'11'!$AQ$15","v":0},{"$f":"'11'!$AR$15","v":0},{"$f":"'11'!$AS$15","v":0},{"$f":"'11'!$AT$15","v":0},11,{"$f":"VLOOKUP(BW1562,Přehled!$C$5:$AL$24,36)","v":""},null,null,null,null,null,null,null,null,null,null,null,null,null,null,null,null,null,null,null,null,{"$f":"'11'!$BP$15","v":0},{"$f":"'11'!$BQ$15","v":0},{"$f":"'11'!$BR$15","v":0},{"$f":"'11'!$BS$15","v":0},{"$f":"'11'!$BT$15","v":0},{"$f":"'11'!$BU$15","v":0},11,{"$f":"VLOOKUP(CY1562,Přehled!$C$5:$AL$24,36)","v":""},null,null,null,null,null,null,null,null,null,null,null,null,null,null,null,{"$f":"'11'!$CR$15","v":0},{"$f":"'11'!$CS$15","v":0},{"$f":"'11'!$CT$15","v":0},11,{"$f":"VLOOKUP(DS1562,Přehled!$C$5:$AL$24,36)","v":""}]
[{"$f":"'16'!A60","v":0},{"$f":"'16'!B60","v":0},{"$f":"'16'!C60","v":0},{"$f":"SUMIF($B$5:$B$2024,Souhrn_hod[[#This Row],[Jméno]],$E$5:$E$2024)","v":0},{"$f":"'16'!D60","v":0},{"$f":"'16'!E60","v":0},{"$f":"'16'!F60","v":0},{"$f":"'16'!G60","v":0},{"$f":"'16'!H60","v":0},{"$f":"'16'!I60","v":0},{"$f":"'16'!J60","v":0},{"$f":"'16'!K60","v":0},{"$f":"'16'!L60","v":0},{"$f":"'16'!M60","v":0},{"$f":"'16'!N60","v":0},{"$f":"'16'!O60","v":0},{"$f":"'16'!P60","v":0},{"$f":"'16'!Q60","v":0},{"$f":"'16'!R60","v":0},{"$f":"'16'!S60","v":0},{"$f":"'16'!T60","v":0},{"$f":"'16'!U60","v":0},{"$f":"'16'!V60","v":0},{"$f":"'16'!W60","v":0},{"$f":"'16'!X60","v":0},{"$f":"'16'!Y60","v":0},{"$f":"'16'!Z60","v":0},{"$f":"'16'!AA60","v":0},{"$f":"'16'!AB60","v":0},{"$f":"'16'!AC60","v":0},{"$f":"'16'!AD60","v":0},{"$f":"'16'!AE60","v":0},{"$f":"'16'!AF60","v":0},{"$f":"'16'!AG60","v":0},{"$f":"'16'!AH60","v":0},{"$f":"'16'!AI60","v":0},{"$f":"'16'!AJ60","v":0},16,{"$f":"VLOOKUP(AL1572,Přehled!$C$5:$AL$24,36)","v":""},null,null,null,null,null,null,null,null,null,null,null,null,null,null,null,null,null,null,null,null,null,null,null,null,null,null,null,null,null,{"$f":"'11'!$AO$25","v":0},{"$f":"'11'!$AP$25","v":0},{"$f":"'11'!$AQ$25","v":0},{"$f":"'11'!$AR$25","v":0},{"$f":"'11'!$AS$25","v":0},{"$f":"'11'!$AT$25","v":0},11,{"$f":"VLOOKUP(BW1572,Přehled!$C$5:$AL$24,36)","v":""},null,null,null,null,null,null,null,null,null,null,null,null,null,null,null,null,null,null,null,null,{"$f":"'11'!$BP$25","v":0},{"$f":"'11'!$BQ$25","v":0},{"$f":"'11'!$BR$25","v":0},{"$f":"'11'!$BS$25","v":0},{"$f":"'11'!$BT$25","v":0},{"$f":"'11'!$BU$25","v":0},11,{"$f":"VLOOKUP(CY1572,Přehled!$C$5:$AL$24,36)","v":""},null,null,null,null,null,null,null,null,null,null,null,null,null,null,null,{"$f":"'11'!$CR$25","v":0},{"$f":"'11'!$CS$25","v":0},{"$f":"'11'!$CT$25","v":0},11,{"$f":"VLOOKUP(DS1572,Přehled!$C$5:$AL$24,36)","v":""}]
[{"$f":"'16'!A71","v":0},{"$f":"'16'!B71","v":0},{"$f":"'16'!C71","v":0},{"$f":"SUMIF($B$5:$B$2024,Souhrn_hod[[#This Row],[Jméno]],$E$5:$E$2024)","v":0},{"$f":"'16'!D71","v":0},{"$f":"'16'!E71","v":0},{"$f":"'16'!F71","v":0},{"$f":"'16'!G71","v":0},{"$f":"'16'!H71","v":0},{"$f":"'16'!I71","v":0},{"$f":"'16'!J71","v":0},{"$f":"'16'!K71","v":0},{"$f":"'16'!L71","v":0},{"$f":"'16'!M71","v":0},{"$f":"'16'!N71","v":0},{"$f":"'16'!O71","v":0},{"$f":"'16'!P71","v":0},{"$f":"'16'!Q71","v":0},{"$f":"'16'!R71","v":0},{"$f":"'16'!S71","v":0},{"$f":"'16'!T71","v":0},{"$f":"'16'!U71","v":0},{"$f":"'16'!V71","v":0},{"$f":"'16'!W71","v":0},{"$f":"'16'!X71","v":0},{"$f":"'16'!Y71","v":0},{"$f":"'16'!Z71","v":0},{"$f":"'16'!AA71","v":0},{"$f":"'16'!AB71","v":0},{"$f":"'16'!AC71","v":0},{"$f":"'16'!AD71","v":0},{"$f":"'16'!AE71","v":0},{"$f":"'16'!AF71","v":0},{"$f":"'16'!AG71","v":0},{"$f":"'16'!AH71","v":0},{"$f":"'16'!AI71","v":0},{"$f":"'16'!AJ71","v":0},16,{"$f":"VLOOKUP(AL1583,Přehled!$C$5:$AL$24,36)","v":""},null,null,null,null,null,null,null,null,null,null,null,null,null,null,null,null,null,null,null,null,null,null,null,null,null,null,null,null,null,{"$f":"'11'!$AO$36","v":0},{"$f":"'11'!$AP$36","v":0},{"$f":"'11'!$AQ$36","v":0},{"$f":"'11'!$AR$36","v":0},{"$f":"'11'!$AS$36","v":0},{"$f":"'11'!$AT$36","v":0},11,{"$f":"VLOOKUP(BW1583,Přehled!$C$5:$AL$24,36)","v":""},null,null,null,null,null,null,null,null,null,null,null,null,null,null,null,null,null,null,null,null,{"$f":"'11'!$BP$36","v":0},{"$f":"'11'!$BQ$36","v":0},{"$f":"'11'!$BR$36","v":0},{"$f":"'11'!$BS$36","v":0},{"$f":"'11'!$BT$36","v":0},{"$f":"'11'!$BU$36","v":0},11,{"$f":"VLOOKUP(CY1583,Přehled!$C$5:$AL$24,36)","v":""},null,null,null,null,null,null,null,null,null,null,null,null,null,null,null,{"$f":"'11'!$CR$36","v":0},{"$f":"'11'!$CS$36","v":0},{"$f":"'11'!$CT$36","v":0},11,{"$f":"VLOOKUP(DS1583,Přehled!$C$5:$AL$24,36)","v":""}]
[{"$f":"'16'!A84","v":0},{"$f":"'16'!B84","v":0},{"$f":"'16'!C84","v":0},{"$f":"SUMIF($B$5:$B$2024,Souhrn_hod[[#This Row],[Jméno]],$E$5:$E$2024)","v":0},{"$f":"'16'!D84","v":0},{"$f":"'16'!E84","v":0},{"$f":"'16'!F84","v":0},{"$f":"'16'!G84","v":0},{"$f":"'16'!H84","v":0},{"$f":"'16'!I84","v":0},{"$f":"'16'!J84","v":0},{"$f":"'16'!K84","v":0},{"$f":"'16'!L84","v":0},{"$f":"'16'!M84","v":0},{"$f":"'16'!N84","v":0},{"$f":"'16'!O84","v":0},{"$f":"'16'!P84","v":0},{"$f":"'16'!Q84","v":0},{"$f":"'16'!R84","v":0},{"$f":"'16'!S84","v":0},{"$f":"'16'!T84","v":0},{"$f":"'16'!U84","v":0},{"$f":"'16'!V84","v":0},{"$f":"'16'!W84","v":0},{"$f":"'16'!X84","v":0},{"$f":"'16'!Y84","v":0},{"$f":"'16'!Z84","v":0},{"$f":"'16'!AA84","v":0},{"$f":"'16'!AB84","v":0},{"$f":"'16'!AC84","v":0},{"$f":"'16'!AD84","v":0},{"$f":"'16'!AE84","v":0},{"$f":"'16'!AF84","v":0},{"$f":"'16'!AG84","v":0},{"$f":"'16'!AH84","v":0},{"$f":"'16'!AI84","v":0},{"$f":"'16'!AJ84","v":0},16,{"$f":"VLOOKUP(AL1596,Přehled!$C$5:$AL$24,36)","v":""},null,null,null,null,null,null,null,null,null,null,null,null,null,null,null,null,null,null,null,null,null,null,null,null,null,null,null,null,null,{"$f":"'11'!$AO$49","v":0},{"$f":"'11'!$AP$49","v":0},{"$f":"'11'!$AQ$49","v":0},{"$f":"'11'!$AR$49","v":0},{"$f":"'11'!$AS$49","v":0},{"$f":"'11'!$AT$49","v":0},11,{"$f":"VLOOKUP(BW1596,Přehled!$C$5:$AL$24,36)","v":""},null,null,null,null,null,null,null,null,null,null,null,null,null,null,null,null,null,null,null,null,{"$f":"'11'!$BP$49","v":0},{"$f":"'11'!$BQ$49","v":0},{"$f":"'11'!$BR$49","v":0},{"$f":"'11'!$BS$49","v":0},{"$f":"'11'!$BT$49","v":0},{"$f":"'11'!$BU$49","v":0},11,{"$f":"VLOOKUP(CY1596,Přehled!$C$5:$AL$24,36)","v":""},null,null,null,null,null,null,null,null,null,null,null,null,null,null,null,{"$f":"'11'!$CR$49","v":0},{"$f":"'11'!$CS$49","v":0},{"$f":"'11'!$CT$49","v":0},11,{"$f":"VLOOKUP(DS1596,Přehled!$C$5:$AL$24,36)","v":""}]
[{"$f":"'16'!A94","v":0},{"$f":"'16'!B94","v":0},{"$f":"'16'!C94","v":0},{"$f":"SUMIF($B$5:$B$2024,Souhrn_hod[[#This Row],[Jméno]],$E$5:$E$2024)","v":0},{"$f":"'16'!D94","v":0},{"$f":"'16'!E94","v":0},{"$f":"'16'!F94","v":0},{"$f":"'16'!G94","v":0},{"$f":"'16'!H94","v":0},{"$f":"'16'!I94","v":0},{"$f":"'16'!J94","v":0},{"$f":"'16'!K94","v":0},{"$f":"'16'!L94","v":0},{"$f":"'16'!M94","v":0},{"$f":"'16'!N94","v":0},{"$f":"'16'!O94","v":0},{"$f":"'16'!P94","v":0},{"$f":"'16'!Q94","v":0},{"$f":"'16'!R94","v":0},{"$f":"'16'!S94","v":0},{"$f":"'16'!T94","v":0},{"$f":"'16'!U94","v":0},{"$f":"'16'!V94","v":0},{"$f":"'16'!W94","v":0},{"$f":"'16'!X94","v":0},{"$f":"'16'!Y94","v":0},{"$f":"'16'!Z94","v":0},{"$f":"'16'!AA94","v":0},{"$f":"'16'!AB94","v":0},{"$f":"'16'!AC94","v":0},{"$f":"'16'!AD94","v":0},{"$f":"'16'!AE94","v":0},{"$f":"'16'!AF94","v":0},{"$f":"'16'!AG94","v":0},{"$f":"'16'!AH94","v":0},{"$f":"'16'!AI94","v":0},{"$f":"'16'!AJ94","v":0},16,{"$f":"VLOOKUP(AL1606,Přehled!$C$5:$AL$24,36)","v":""},null,null,null,null,null,null,null,null,null,null,null,null,null,null,null,null,null,null,null,null,null,null,null,null,null,null,null,null,null,{"$f":"'11'!$AO$59","v":0},{"$f":"'11'!$AP$59","v":0},{"$f":"'11'!$AQ$59","v":0},{"$f":"'11'!$AR$59","v":0},{"$f":"'11'!$AS$59","v":0},{"$f":"'11'!$AT$59","v":0},11,{"$f":"VLOOKUP(BW1606,Přehled!$C$5:$AL$24,36)","v":""},null,null,null,null,null,null,null,null,null,null,null,null,null,null,null,null,null,null,null,null,{"$f":"'11'!$BP$59","v":0},{"$f":"'11'!$BQ$59","v":0},{"$f":"'11'!$BR$59","v":0},{"$f":"'11'!$BS$59","v":0},{"$f":"'11'!$BT$59","v":0},{"$f":"'11'!$BU$59","v":0},11,{"$f":"VLOOKUP(CY1606,Přehled!$C$5:$AL$24,36)","v":""},null,null,null,null,null,null,null,null,null,null,null,null,null,null,null,{"$f":"'11'!$CR$59","v":0},{"$f":"'11'!$CS$59","v":0},{"$f":"'11'!$CT$59","v":0},11,{"$f":"VLOOKUP(DS1606,Přehled!$C$5:$AL$24,36)","v":""}]
[{"$f":"'17'!A10","v":0},{"$f":"'17'!B10","v":0},{"$f":"'17'!C10","v":0},{"$f":"SUMIF($B$5:$B$2024,Souhrn_hod[[#This Row],[Jméno]],$E$5:$E$2024)","v":0},{"$f":"'17'!D10","v":0},{"$f":"'17'!E10","v":0},{"$f":"'17'!F10","v":0},{"$f":"'17'!G10","v":0},{"$f":"'17'!H10","v":0},{"$f":"'17'!I10","v":0},{"$f":"'17'!J10","v":0},{"$f":"'17'!K10","v":0},{"$f":"'17'!L10","v":0},{"$f":"'17'!M10","v":0},{"$f":"'17'!N10","v":0},{"$f":"'17'!O10","v":0},{"$f":"'17'!P10","v":0},{"$f":"'17'!Q10","v":0},{"$f":"'17'!R10","v":0},{"$f":"'17'!S10","v":0},{"$f":"'17'!T10","v":0},{"$f":"'17'!U10","v":0},{"$f":"'17'!V10","v":0},{"$f":"'17'!W10","v":0},{"$f":"'17'!X10","v":0},{"$f":"'17'!Y10","v":0},{"$f":"'17'!Z10","v":0},{"$f":"'17'!AA10","v":0},{"$f":"'17'!AB10","v":0},{"$f":"'17'!AC10","v":0},{"$f":"'17'!AD10","v":0},{"$f":"'17'!AE10","v":0},{"$f":"'17'!AF10","v":0},{"$f":"'17'!AG10","v":0},{"$f":"'17'!AH10","v":0},{"$f":"'17'!AI10","v":0},{"$f":"'17'!AJ10","v":0},17,{"$f":"VLOOKUP(AL1623,Přehled!$C$5:$AL$24,36)","v":""},null,null,null,null,null,null,null,null,null,null,null,null,null,null,null,null,null,null,null,null,null,null,null,null,null,null,null,null,null,{"$f":"'11'!$AO$76","v":0},{"$f":"'11'!$AP$76","v":0},{"$f":"'11'!$AQ$76","v":0},{"$f":"'11'!$AR$76","v":0},{"$f":"'11'!$AS$76","v":0},{"$f":"'11'!$AT$76","v":0},11,{"$f":"VLOOKUP(BW1623,Přehled!$C$5:$AL$24,36)","v":""},null,null,null,null,null,null,null,null,null,null,null,null,null,null,null,null,null,null,null,null,{"$f":"'11'!$BP$76","v":0},{"$f":"'11'!$BQ$76","v":0},{"$f":"'11'!$BR$76","v":0},{"$f":"'11'!$BS$76","v":0},{"$f":"'11'!$BT$76","v":0},{"$f":"'11'!$BU$76","v":0},11,{"$f":"VLOOKUP(CY1623,Přehled!$C$5:$AL$24,36)","v":""},null,null,null,null,null,null,null,null,null,null,null,null,null,null,null,{"$f":"'11'!$CR$76","v":0},{"$f":"'11'!$CS$76","v":0},{"$f":"'11'!$CT$76","v":0},11,{"$f":"VLOOKUP(DS1623,Přehled!$C$5:$AL$24,36)","v":""}]
[{"$f":"'17'!A16","v":0},{"$f":"'17'!B16","v":0},{"$f":"'17'!C16","v":0},{"$f":"SUMIF($B$5:$B$2024,Souhrn_hod[[#This Row],[Jméno]],$E$5:$E$2024)","v":0},{"$f":"'17'!D16","v":0},{"$f":"'17'!E16","v":0},{"$f":"'17'!F16","v":0},{"$f":"'17'!G16","v":0},{"$f":"'17'!H16","v":0},{"$f":"'17'!I16","v":0},{"$f":"'17'!J16","v":0},{"$f":"'17'!K16","v":0},{"$f":"'17'!L16","v":0},{"$f":"'17'!M16","v":0},{"$f":"'17'!N16","v":0},{"$f":"'17'!O16","v":0},{"$f":"'17'!P16","v":0},{"$f":"'17'!Q16","v":0},{"$f":"'17'!R16","v":0},{"$f":"'17'!S16","v":0},{"$f":"'17'!T16","v":0},{"$f":"'17'!U16","v":0},{"$f":"'17'!V16","v":0},{"$f":"'17'!W16","v":0},{"$f":"'17'!X16","v":0},{"$f":"'17'!Y16","v":0},{"$f":"'17'!Z16","v":0},{"$f":"'17'!AA16","v":0},{"$f":"'17'!AB16","v":0},{"$f":"'17'!AC16","v":0},{"$f":"'17'!AD16","v":0},{"$f":"'17'!AE16","v":0},{"$f":"'17'!AF16","v":0},{"$f":"'17'!AG16","v":0},{"$f":"'17'!AH16","v":0},{"$f":"'17'!AI16","v":0},{"$f":"'17'!AJ16","v":0},17,{"$f":"VLOOKUP(AL1629,Přehled!$C$5:$AL$24,36)","v":""},null,null,null,null,null,null,null,null,null,null,null,null,null,null,null,null,null,null,null,null,null,null,null,null,null,null,null,null,null,{"$f":"'11'!$AO$82","v":0},{"$f":"'11'!$AP$82","v":0},{"$f":"'11'!$AQ$82","v":0},{"$f":"'11'!$AR$82","v":0},{"$f":"'11'!$AS$82","v":0},{"$f":"'11'!$AT$82","v":0},11,{"$f":"VLOOKUP(BW1629,Přehled!$C$5:$AL$24,36)","v":""},null,null,null,null,null,null,null,null,null,null,null,null,null,null,null,null,null,null,null,null,{"$f":"'11'!$BP$82","v":0},{"$f":"'11'!$BQ$82","v":0},{"$f":"'11'!$BR$82","v":0},{"$f":"'11'!$BS$82","v":0},{"$f":"'11'!$BT$82","v":0},{"$f":"'11'!$BU$82","v":0},11,{"$f":"VLOOKUP(CY1629,Přehled!$C$5:$AL$24,36)","v":""},null,null,null,null,null,null,null,null,null,null,null,null,null,null,null,{"$f":"'11'!$CR$82","v":0},{"$f":"'11'!$CS$82","v":0},{"$f":"'11'!$CT$82","v":0},11,{"$f":"VLOOKUP(DS1629,Přehled!$C$5:$AL$24,36)","v":""}]
[{"$f":"'17'!A31","v":0},{"$f":"'17'!B31","v":0},{"$f":"'17'!C31","v":0},{"$f":"SUMIF($B$5:$B$2024,Souhrn_hod[[#This Row],[Jméno]],$E$5:$E$2024)","v":0},{"$f":"'17'!D31","v":0},{"$f":"'17'!E31","v":0},{"$f":"'17'!F31","v":0},{"$f":"'17'!G31","v":0},{"$f":"'17'!H31","v":0},{"$f":"'17'!I31","v":0},{"$f":"'17'!J31","v":0},{"$f":"'17'!K31","v":0},{"$f":"'17'!L31","v":0},{"$f":"'17'!M31","v":0},{"$f":"'17'!N31","v":0},{"$f":"'17'!O31","v":0},{"$f":"'17'!P31","v":0},{"$f":"'17'!Q31","v":0},{"$f":"'17'!R31","v":0},{"$f":"'17'!S31","v":0},{"$f":"'17'!T31","v":0},{"$f":"'17'!U31","v":0},{"$f":"'17'!V31","v":0},{"$f":"'17'!W31","v":0},{"$f":"'17'!X31","v":0},{"$f":"'17'!Y31","v":0},{"$f":"'17'!Z31","v":0},{"$f":"'17'!AA31","v":0},{"$f":"'17'!AB31","v":0},{"$f":"'17'!AC31","v":0},{"$f":"'17'!AD31","v":0},{"$f":"'17'!AE31","v":0},{"$f":"'17'!AF31","v":0},{"$f":"'17'!AG31","v":0},{"$f":"'17'!AH31","v":0},{"$f":"'17'!AI31","v":0},{"$f":"'17'!AJ31","v":0},17,{"$f":"VLOOKUP(AL1644,Přehled!$C$5:$AL$24,36)","v":""},null,null,null,null,null,null,null,null,null,null,null,null,null,null,null,null,null,null,null,null,null,null,null,null,null,null,null,null,null,{"$f":"'11'!$AO$97","v":0},{"$f":"'11'!$AP$97","v":0},{"$f":"'11'!$AQ$97","v":0},{"$f":"'11'!$AR$97","v":0},{"$f":"'11'!$AS$97","v":0},{"$f":"'11'!$AT$97","v":0},11,{"$f":"VLOOKUP(BW1644,Přehled!$C$5:$AL$24,36)","v":""},null,null,null,null,null,null,null,null,null,null,null,null,null,null,null,null,null,null,null,null,{"$f":"'11'!$BP$97","v":0},{"$f":"'11'!$BQ$97","v":0},{"$f":"'11'!$BR$97","v":0},{"$f":"'11'!$BS$97","v":0},{"$f":"'11'!$BT$97","v":0},{"$f":"'11'!$BU$97","v":0},11,{"$f":"VLOOKUP(CY1644,Přehled!$C$5:$AL$24,36)","v":""},null,null,null,null,null,null,null,null,null,null,null,null,null,null,null,{"$f":"'11'!$CR$97","v":0},{"$f":"'11'!$CS$97","v":0},{"$f":"'11'!$CT$97","v":0},11,{"$f":"VLOOKUP(DS1644,Přehled!$C$5:$AL$24,36)","v":""}]
[{"$f":"'17'!A44","v":0},{"$f":"'17'!B44","v":0},{"$f":"'17'!C44","v":0},{"$f":"SUMIF($B$5:$B$2024,Souhrn_hod[[#This Row],[Jméno]],$E$5:$E$2024)","v":0},{"$f":"'17'!D44","v":0},{"$f":"'17'!E44","v":0},{"$f":"'17'!F44","v":0},{"$f":"'17'!G44","v":0},{"$f":"'17'!H44","v":0},{"$f":"'17'!I44","v":0},{"$f":"'17'!J44","v":0},{"$f":"'17'!K44","v":0},{"$f":"'17'!L44","v":0},{"$f":"'17'!M44","v":0},{"$f":"'17'!N44","v":0},{"$f":"'17'!O44","v":0},{"$f":"'17'!P44","v":0},{"$f":"'17'!Q44","v":0},{"$f":"'17'!R44","v":0},{"$f":"'17'!S44","v":0},{"$f":"'17'!T44","v":0},{"$f":"'17'!U44","v":0},{"$f":"'17'!V44","v":0},{"$f":"'17'!W44","v":0},{"$f":"'17'!X44","v":0},{"$f":"'17'!Y44","v":0},{"$f":"'17'!Z44","v":0},{"$f":"'17'!AA44","v":0},{"$f":"'17'!AB44","v":0},{"$f":"'17'!AC44","v":0},{"$f":"'17'!AD44","v":0},{"$f":"'17'!AE44","v":0},{"$f":"'17'!AF44","v":0},{"$f":"'17'!AG44","v":0},{"$f":"'17'!AH44","v":0},{"$f":"'17'!AI44","v":0},{"$f":"'17'!AJ44","v":0},17,{"$f":"VLOOKUP(AL1657,Přehled!$C$5:$AL$24,36)","v":""},null,null,null,null,null,null,null,null,null,null,null,null,null,null,null,null,null,null,null,null,null,null,null,null,null,null,null,null,null,{"$f":"'11'!$AO$110","v":0},{"$f":"'11'!$AP$110","v":0},{"$f":"'11'!$AQ$110","v":0},{"$f":"'11'!$AR$110","v":0},{"$f":"'11'!$AS$110","v":0},{"$f":"'11'!$AT$110","v":0},11,{"$f":"VLOOKUP(BW1657,Přehled!$C$5:$AL$24,36)","v":""},null,null,null,null,null,null,null,null,null,null,null,null,null,null,null,null,null,null,null,null,{"$f":"'11'!$BP$110","v":0},{"$f":"'11'!$BQ$110","v":0},{"$f":"'11'!$BR$110","v":0},{"$f":"'11'!$BS$110","v":0},{"$f":"'11'!$BT$110","v":0},{"$f":"'11'!$BU$110","v":0},11,{"$f":"VLOOKUP(CY1657,Přehled!$C$5:$AL$24,36)","v":""},null,null,null,null,null,null,null,null,null,null,null,null,null,null,null,{"$f":"'11'!$CR$110","v":0},{"$f":"'11'!$CS$110","v":0},{"$f":"'11'!$CT$110","v":0},11,{"$f":"VLOOKUP(DS1657,Přehled!$C$5:$AL$24,36)","v":""}]
[{"$f":"'17'!A54","v":0},{"$f":"'17'!B54","v":0},{"$f":"'17'!C54","v":0},{"$f":"SUMIF($B$5:$B$2024,Souhrn_hod[[#This Row],[Jméno]],$E$5:$E$2024)","v":0},{"$f":"'17'!D54","v":0},{"$f":"'17'!E54","v":0},{"$f":"'17'!F54","v":0},{"$f":"'17'!G54","v":0},{"$f":"'17'!H54","v":0},{"$f":"'17'!I54","v":0},{"$f":"'17'!J54","v":0},{"$f":"'17'!K54","v":0},{"$f":"'17'!L54","v":0},{"$f":"'17'!M54","v":0},{"$f":"'17'!N54","v":0},{"$f":"'17'!O54","v":0},{"$f":"'17'!P54","v":0},{"$f":"'17'!Q54","v":0},{"$f":"'17'!R54","v":0},{"$f":"'17'!S54","v":0},{"$f":"'17'!T54","v":0},{"$f":"'17'!U54","v":0},{"$f":"'17'!V54","v":0},{"$f":"'17'!W54","v":0},{"$f":"'17'!X54","v":0},{"$f":"'17'!Y54","v":0},{"$f":"'17'!Z54","v":0},{"$f":"'17'!AA54","v":0},{"$f":"'17'!AB54","v":0},{"$f":"'17'!AC54","v":0},{"$f":"'17'!AD54","v":0},{"$f":"'17'!AE54","v":0},{"$f":"'17'!AF54","v":0},{"$f":"'17'!AG54","v":0},{"$f":"'17'!AH54","v":0},{"$f":"'17'!AI54","v":0},{"$f":"'17'!AJ54","v":0},17,{"$f":"VLOOKUP(AL1667,Přehled!$C$5:$AL$24,36)","v":""},null,null,null,null,null,null,null,null,null,null,null,null,null,null,null,null,null,null,null,null,null,null,null,null,null,null,null,null,null,{"$f":"'11'!$AO$120","v":0},{"$f":"'11'!$AP$120","v":0},{"$f":"'11'!$AQ$120","v":0},{"$f":"'11'!$AR$120","v":0},{"$f":"'11'!$AS$120","v":0},{"$f":"'11'!$AT$120","v":0},11,{"$f":"VLOOKUP(BW1667,Přehled!$C$5:$AL$24,36)","v":""},null,null,null,null,null,null,null,null,null,null,null,null,null,null,null,null,null,null,null,null,{"$f":"'11'!$BP$120","v":0},{"$f":"'11'!$BQ$120","v":0},{"$f":"'11'!$BR$120","v":0},{"$f":"'11'!$BS$120","v":0},{"$f":"'11'!$BT$120","v":0},{"$f":"'11'!$BU$120","v":0},11,{"$f":"VLOOKUP(CY1667,Přehled!$C$5:$AL$24,36)","v":""},null,null,null,null,null,null,null,null,null,null,null,null,null,null,null,{"$f":"'11'!$CR$120","v":0},{"$f":"'11'!$CS$120","v":0},{"$f":"'11'!$CT$120","v":0},11,{"$f":"VLOOKUP(DS1667,Přehled!$C$5:$AL$24,36)","v":""}]
[{"$f":"'17'!A60","v":0},{"$f":"'17'!B60","v":0},{"$f":"'17'!C60","v":0},{"$f":"SUMIF($B$5:$B$2024,Souhrn_hod[[#This Row],[Jméno]],$E$5:$E$2024)","v":0},{"$f":"'17'!D60","v":0},{"$f":"'17'!E60","v":0},{"$f":"'17'!F60","v":0},{"$f":"'17'!G60","v":0},{"$f":"'17'!H60","v":0},{"$f":"'17'!I60","v":0},{"$f":"'17'!J60","v":0},{"$f":"'17'!K60","v":0},{"$f":"'17'!L60","v":0},{"$f":"'17'!M60","v":0},{"$f":"'17'!N60","v":0},{"$f":"'17'!O60","v":0},{"$f":"'17'!P60","v":0},{"$f":"'17'!Q60","v":0},{"$f":"'17'!R60","v":0},{"$f":"'17'!S60","v":0},{"$f":"'17'!T60","v":0},{"$f":"'17'!U60","v":0},{"$f":"'17'!V60","v":0},{"$f":"'17'!W60","v":0},{"$f":"'17'!X60","v":0},{"$f":"'17'!Y60","v":0},{"$f":"'17'!Z60","v":0},{"$f":"'17'!AA60","v":0},{"$f":"'17'!AB60","v":0},{"$f":"'17'!AC60","v":0},{"$f":"'17'!AD60","v":0},{"$f":"'17'!AE60","v":0},{"$f":"'17'!AF60","v":0},{"$f":"'17'!AG60","v":0},{"$f":"'17'!AH60","v":0},{"$f":"'17'!AI60","v":0},{"$f":"'17'!AJ60","v":0},17,{"$f":"VLOOKUP(AL1673,Přehled!$C$5:$AL$24,36)","v":""},null,null,null,null,null,null,null,null,null,null,null,null,null,null,null,null,null,null,null,null,null,null,null,null,null,null,null,null,null,{"$f":"'11'!$AO$126","v":0},{"$f":"'11'!$AP$126","v":0},{"$f":"'11'!$AQ$126","v":0},{"$f":"'11'!$AR$126","v":0},{"$f":"'11'!$AS$126","v":0},{"$f":"'11'!$AT$126","v":0},11,{"$f":"VLOOKUP(BW1673,Přehled!$C$5:$AL$24,36)","v":""},null,null,null,null,null,null,null,null,null,null,null,null,null,null,null,null,null,null,null,null,{"$f":"'11'!$BP$126","v":0},{"$f":"'11'!$BQ$126","v":0},{"$f":"'11'!$BR$126","v":0},{"$f":"'11'!$BS$126","v":0},{"$f":"'11'!$BT$126","v":0},{"$f":"'11'!$BU$126","v":0},11,{"$f":"VLOOKUP(CY1673,Přehled!$C$5:$AL$24,36)","v":""},null,null,null,null,null,null,null,null,null,null,null,null,null,null,null,{"$f":"'11'!$CR$126","v":0},{"$f":"'11'!$CS$126","v":0},{"$f":"'11'!$CT$126","v":0},11,{"$f":"VLOOKUP(DS1673,Přehled!$C$5:$AL$24,36)","v":""}]
[{"$f":"'17'!A77","v":0},{"$f":"'17'!B77","v":0},{"$f":"'17'!C77","v":0},{"$f":"SUMIF($B$5:$B$2024,Souhrn_hod[[#This Row],[Jméno]],$E$5:$E$2024)","v":0},{"$f":"'17'!D77","v":0},{"$f":"'17'!E77","v":0},{"$f":"'17'!F77","v":0},{"$f":"'17'!G77","v":0},{"$f":"'17'!H77","v":0},{"$f":"'17'!I77","v":0},{"$f":"'17'!J77","v":0},{"$f":"'17'!K77","v":0},{"$f":"'17'!L77","v":0},{"$f":"'17'!M77","v":0},{"$f":"'17'!N77","v":0},{"$f":"'17'!O77","v":0},{"$f":"'17'!P77","v":0},{"$f":"'17'!Q77","v":0},{"$f":"'17'!R77","v":0},{"$f":"'17'!S77","v":0},{"$f":"'17'!T77","v":0},{"$f":"'17'!U77","v":0},{"$f":"'17'!V77","v":0},{"$f":"'17'!W77","v":0},{"$f":"'17'!X77","v":0},{"$f":"'17'!Y77","v":0},{"$f":"'17'!Z77","v":0},{"$f":"'17'!AA77","v":0},{"$f":"'17'!AB77","v":0},{"$f":"'17'!AC77","v":0},{"$f":"'17'!AD77","v":0},{"$f":"'17'!AE77","v":0},{"$f":"'17'!AF77","v":0},{"$f":"'17'!AG77","v":0},{"$f":"'17'!AH77","v":0},{"$f":"'17'!AI77","v":0},{"$f":"'17'!AJ77","v":0},17,{"$f":"VLOOKUP(AL1690,Přehled!$C$5:$AL$24,36)","v":""},null,null,null,null,null,null,null,null,null,null,null,null,null,null,null,null,null,null,null,null,null,null,null,null,null,null,null,null,null,{"$f":"'11'!$AO$143","v":0},{"$f":"'11'!$AP$143","v":0},{"$f":"'11'!$AQ$143","v":0},{"$f":"'11'!$AR$143","v":0},{"$f":"'11'!$AS$143","v":0},{"$f":"'11'!$AT$143","v":0},11,{"$f":"VLOOKUP(BW1690,Přehled!$C$5:$AL$24,36)","v":""},null,null,null,null,null,null,null,null,null,null,null,null,null,null,null,null,null,null,null,null,{"$f":"'11'!$BP$143","v":0},{"$f":"'11'!$BQ$143","v":0},{"$f":"'11'!$BR$143","v":0},{"$f":"'11'!$BS$143","v":0},{"$f":"'11'!$BT$143","v":0},{"$f":"'11'!$BU$143","v":0},11,{"$f":"VLOOKUP(CY1690,Přehled!$C$5:$AL$24,36)","v":""},null,null,null,null,null,null,null,null,null,null,null,null,null,null,null,{"$f":"'11'!$CR$143","v":0},{"$f":"'11'!$CS$143","v":0},{"$f":"'11'!$CT$143","v":0},11,{"$f":"VLOOKUP(DS1690,Přehled!$C$5:$AL$24,36)","v":""}]
[{"$f":"'17'!A87","v":0},{"$f":"'17'!B87","v":0},{"$f":"'17'!C87","v":0},{"$f":"SUMIF($B$5:$B$2024,Souhrn_hod[[#This Row],[Jméno]],$E$5:$E$2024)","v":0},{"$f":"'17'!D87","v":0},{"$f":"'17'!E87","v":0},{"$f":"'17'!F87","v":0},{"$f":"'17'!G87","v":0},{"$f":"'17'!H87","v":0},{"$f":"'17'!I87","v":0},{"$f":"'17'!J87","v":0},{"$f":"'17'!K87","v":0},{"$f":"'17'!L87","v":0},{"$f":"'17'!M87","v":0},{"$f":"'17'!N87","v":0},{"$f":"'17'!O87","v":0},{"$f":"'17'!P87","v":0},{"$f":"'17'!Q87","v":0},{"$f":"'17'!R87","v":0},{"$f":"'17'!S87","v":0},{"$f":"'17'!T87","v":0},{"$f":"'17'!U87","v":0},{"$f":"'17'!V87","v":0},{"$f":"'17'!W87","v":0},{"$f":"'17'!X87","v":0},{"$f":"'17'!Y87","v":0},{"$f":"'17'!Z87","v":0},{"$f":"'17'!AA87","v":0},{"$f":"'17'!AB87","v":0},{"$f":"'17'!AC87","v":0},{"$f":"'17'!AD87","v":0},{"$f":"'17'!AE87","v":0},{"$f":"'17'!AF87","v":0},{"$f":"'17'!AG87","v":0},{"$f":"'17'!AH87","v":0},{"$f":"'17'!AI87","v":0},{"$f":"'17'!AJ87","v":0},17,{"$f":"VLOOKUP(AL1700,Přehled!$C$5:$AL$24,36)","v":""},null,null,null,null,null,null,null,null,null,null,null,null,null,null,null,null,null,null,null,null,null,null,null,null,null,null,null,null,null,{"$f":"'11'!$AO$153","v":0},{"$f":"'11'!$AP$153","v":0},{"$f":"'11'!$AQ$153","v":0},{"$f":"'11'!$AR$153","v":0},{"$f":"'11'!$AS$153","v":0},{"$f":"'11'!$AT$153","v":0},11,{"$f":"VLOOKUP(BW1700,Přehled!$C$5:$AL$24,36)","v":""},null,null,null,null,null,null,null,null,null,null,null,null,null,null,null,null,null,null,null,null,{"$f":"'11'!$BP$153","v":0},{"$f":"'11'!$BQ$153","v":0},{"$f":"'11'!$BR$153","v":0},{"$f":"'11'!$BS$153","v":0},{"$f":"'11'!$BT$153","v":0},{"$f":"'11'!$BU$153","v":0},11,{"$f":"VLOOKUP(CY1700,Přehled!$C$5:$AL$24,36)","v":""},null,null,null,null,null,null,null,null,null,null,null,null,null,null,null,{"$f":"'11'!$CR$153","v":0},{"$f":"'11'!$CS$153","v":0},{"$f":"'11'!$CT$153","v":0},11,{"$f":"VLOOKUP(DS1700,Přehled!$C$5:$AL$24,36)","v":""}]
[{"$f":"'17'!A100","v":0},{"$f":"'17'!B100","v":0},{"$f":"'17'!C100","v":0},{"$f":"SUMIF($B$5:$B$2024,Souhrn_hod[[#This Row],[Jméno]],$E$5:$E$2024)","v":0},{"$f":"'17'!D100","v":0},{"$f":"'17'!E100","v":0},{"$f":"'17'!F100","v":0},{"$f":"'17'!G100","v":0},{"$f":"'17'!H100","v":0},{"$f":"'17'!I100","v":0},{"$f":"'17'!J100","v":0},{"$f":"'17'!K100","v":0},{"$f":"'17'!L100","v":0},{"$f":"'17'!M100","v":0},{"$f":"'17'!N100","v":0},{"$f":"'17'!O100","v":0},{"$f":"'17'!P100","v":0},{"$f":"'17'!Q100","v":0},{"$f":"'17'!R100","v":0},{"$f":"'17'!S100","v":0},{"$f":"'17'!T100","v":0},{"$f":"'17'!U100","v":0},{"$f":"'17'!V100","v":0},{"$f":"'17'!W100","v":0},{"$f":"'17'!X100","v":0},{"$f":"'17'!Y100","v":0},{"$f":"'17'!Z100","v":0},{"$f":"'17'!AA100","v":0},{"$f":"'17'!AB100","v":0},{"$f":"'17'!AC100","v":0},{"$f":"'17'!AD100","v":0},{"$f":"'17'!AE100","v":0},{"$f":"'17'!AF100","v":0},{"$f":"'17'!AG100","v":0},{"$f":"'17'!AH100","v":0},{"$f":"'17'!AI100","v":0},{"$f":"'17'!AJ100","v":0},17,{"$f":"VLOOKUP(AL1713,Přehled!$C$5:$AL$24,36)","v":""},null,null,null,null,null,null,null,null,null,null,null,null,null,null,null,null,null,null,null,null,null,null,null,null,null,null,null,null,null,{"$f":"'12'!$AO$11","v":0},{"$f":"'12'!$AP$11","v":0},{"$f":"'12'!$AQ$11","v":0},{"$f":"'12'!$AR$11","v":0},{"$f":"'12'!$AS$11","v":0},{"$f":"'12'!$AT$11","v":0},12,{"$f":"VLOOKUP(BW1713,Přehled!$C$5:$AL$24,36)","v":""},null,null,null,null,null,null,null,null,null,null,null,null,null,null,null,null,null,null,null,null,{"$f":"'12'!$BP$11","v":0},{"$f":"'12'!$BQ$11","v":0},{"$f":"'12'!$BR$11","v":0},{"$f":"'12'!$BS$11","v":0},{"$f":"'12'!$BT$11","v":0},{"$f":"'12'!$BU$11","v":0},12,{"$f":"VLOOKUP(CY1713,Přehled!$C$5:$AL$24,36)","v":""},null,null,null,null,null,null,null,null,null,null,null,null,null,null,null,{"$f":"'12'!$CR$11","v":0},{"$f":"'12'!$CS$11","v":0},{"$f":"'12'!$CT$11","v":0},12,{"$f":"VLOOKUP(DS1713,Přehled!$C$5:$AL$24,36)","v":""}]
[{"$f":"'17'!A104","v":0},{"$f":"'17'!B104","v":0},{"$f":"'17'!C104","v":0},{"$f":"SUMIF($B$5:$B$2024,Souhrn_hod[[#This Row],[Jméno]],$E$5:$E$2024)","v":0},{"$f":"'17'!D104","v":0},{"$f":"'17'!E104","v":0},{"$f":"'17'!F104","v":0},{"$f":"'17'!G104","v":0},{"$f":"'17'!H104","v":0},{"$f":"'17'!I104","v":0},{"$f":"'17'!J104","v":0},{"$f":"'17'!K104","v":0},{"$f":"'17'!L104","v":0},{"$f":"'17'!M104","v":0},{"$f":"'17'!N104","v":0},{"$f":"'17'!O104","v":0},{"$f":"'17'!P104","v":0},{"$f":"'17'!Q104","v":0},{"$f":"'17'!R104","v":0},{"$f":"'17'!S104","v":0},{"$f":"'17'!T104","v":0},{"$f":"'17'!U104","v":0},{"$f":"'17'!V104","v":0},{"$f":"'17'!W104","v":0},{"$f":"'17'!X104","v":0},{"$f":"'17'!Y104","v":0},{"$f":"'17'!Z104","v":0},{"$f":"'17'!AA104","v":0},{"$f":"'17'!AB104","v":0},{"$f":"'17'!AC104","v":0},{"$f":"'17'!AD104","v":0},{"$f":"'17'!AE104","v":0},{"$f":"'17'!AF104","v":0},{"$f":"'17'!AG104","v":0},{"$f":"'17'!AH104","v":0},{"$f":"'17'!AI104","v":0},{"$f":"'17'!AJ104","v":0},17,{"$f":"VLOOKUP(AL1717,Přehled!$C$5:$AL$24,36)","v":""},null,null,null,null,null,null,null,null,null,null,null,null,null,null,null,null,null,null,null,null,null,null,null,null,null,null,null,null,null,{"$f":"'12'!$AO$15","v":0},{"$f":"'12'!$AP$15","v":0},{"$f":"'12'!$AQ$15","v":0},{"$f":"'12'!$AR$15","v":0},{"$f":"'12'!$AS$15","v":0},{"$f":"'12'!$AT$15","v":0},12,{"$f":"VLOOKUP(BW1717,Přehled!$C$5:$AL$24,36)","v":""},null,null,null,null,null,null,null,null,null,null,null,null,null,null,null,null,null,null,null,null,{"$f":"'12'!$BP$15","v":0},{"$f":"'12'!$BQ$15","v":0},{"$f":"'12'!$BR$15","v":0},{"$f":"'12'!$BS$15","v":0},{"$f":"'12'!$BT$15","v":0},{"$f":"'12'!$BU$15","v":0},12,{"$f":"VLOOKUP(CY1717,Přehled!$C$5:$AL$24,36)","v":""},null,null,null,null,null,null,null,null,null,null,null,null,null,null,null,{"$f":"'12'!$CR$15","v":0},{"$f":"'12'!$CS$15","v":0},{"$f":"'12'!$CT$15","v":0},12,{"$f":"VLOOKUP(DS1717,Přehled!$C$5:$AL$24,36)","v":""}]
[{"$f":"'18'!A20","v":0},{"$f":"'18'!B20","v":0},{"$f":"'18'!C20","v":0},{"$f":"SUMIF($B$5:$B$2024,Souhrn_hod[[#This Row],[Jméno]],$E$5:$E$2024)","v":0},{"$f":"'18'!D20","v":0},{"$f":"'18'!E20","v":0},{"$f":"'18'!F20","v":0},{"$f":"'18'!G20","v":0},{"$f":"'18'!H20","v":0},{"$f":"'18'!I20","v":0},{"$f":"'18'!J20","v":0},{"$f":"'18'!K20","v":0},{"$f":"'18'!L20","v":0},{"$f":"'18'!M20","v":0},{"$f":"'18'!N20","v":0},{"$f":"'18'!O20","v":0},{"$f":"'18'!P20","v":0},{"$f":"'18'!Q20","v":0},{"$f":"'18'!R20","v":0},{"$f":"'18'!S20","v":0},{"$f":"'18'!T20","v":0},{"$f":"'18'!U20","v":0},{"$f":"'18'!V20","v":0},{"$f":"'18'!W20","v":0},{"$f":"'18'!X20","v":0},{"$f":"'18'!Y20","v":0},{"$f":"'18'!Z20","v":0},{"$f":"'18'!AA20","v":0},{"$f":"'18'!AB20","v":0},{"$f":"'18'!AC20","v":0},{"$f":"'18'!AD20","v":0},{"$f":"'18'!AE20","v":0},{"$f":"'18'!AF20","v":0},{"$f":"'18'!AG20","v":0},{"$f":"'18'!AH20","v":0},{"$f":"'18'!AI20","v":0},{"$f":"'18'!AJ20","v":0},18,{"$f":"VLOOKUP(AL1734,Přehled!$C$5:$AL$24,36)","v":""},null,null,null,null,null,null,null,null,null,null,null,null,null,null,null,null,null,null,null,null,null,null,null,null,null,null,null,null,null,{"$f":"'12'!$AO$32","v":0},{"$f":"'12'!$AP$32","v":0},{"$f":"'12'!$AQ$32","v":0},{"$f":"'12'!$AR$32","v":0},{"$f":"'12'!$AS$32","v":0},{"$f":"'12'!$AT$32","v":0},12,{"$f":"VLOOKUP(BW1734,Přehled!$C$5:$AL$24,36)","v":""},null,null,null,null,null,null,null,null,null,null,null,null,null,null,null,null,null,null,null,null,{"$f":"'12'!$BP$32","v":0},{"$f":"'12'!$BQ$32","v":0},{"$f":"'12'!$BR$32","v":0},{"$f":"'12'!$BS$32","v":0},{"$f":"'12'!$BT$32","v":0},{"$f":"'12'!$BU$32","v":0},12,{"$f":"VLOOKUP(CY1734,Přehled!$C$5:$AL$24,36)","v":""},null,null,null,null,null,null,null,null,null,null,null,null,null,null,null,{"$f":"'12'!$CR$32","v":0},{"$f":"'12'!$CS$32","v":0},{"$f":"'12'!$CT$32","v":0},12,{"$f":"VLOOKUP(DS1734,Přehled!$C$5:$AL$24,36)","v":""}]
[{"$f":"'18'!A26","v":0},{"$f":"'18'!B26","v":0},{"$f":"'18'!C26","v":0},{"$f":"SUMIF($B$5:$B$2024,Souhrn_hod[[#This Row],[Jméno]],$E$5:$E$2024)","v":0},{"$f":"'18'!D26","v":0},{"$f":"'18'!E26","v":0},{"$f":"'18'!F26","v":0},{"$f":"'18'!G26","v":0},{"$f":"'18'!H26","v":0},{"$f":"'18'!I26","v":0},{"$f":"'18'!J26","v":0},{"$f":"'18'!K26","v":0},{"$f":"'18'!L26","v":0},{"$f":"'18'!M26","v":0},{"$f":"'18'!N26","v":0},{"$f":"'18'!O26","v":0},{"$f":"'18'!P26","v":0},{"$f":"'18'!Q26","v":0},{"$f":"'18'!R26","v":0},{"$f":"'18'!S26","v":0},{"$f":"'18'!T26","v":0},{"$f":"'18'!U26","v":0},{"$f":"'18'!V26","v":0},{"$f":"'18'!W26","v":0},{"$f":"'18'!X26","v":0},{"$f":"'18'!Y26","v":0},{"$f":"'18'!Z26","v":0},{"$f":"'18'!AA26","v":0},{"$f":"'18'!AB26","v":0},{"$f":"'18'!AC26","v":0},{"$f":"'18'!AD26","v":0},{"$f":"'18'!AE26","v":0},{"$f":"'18'!AF26","v":0},{"$f":"'18'!AG26","v":0},{"$f":"'18'!AH26","v":0},{"$f":"'18'!AI26","v":0},{"$f":"'18'!AJ26","v":0},18,{"$f":"VLOOKUP(AL1740,Přehled!$C$5:$AL$24,36)","v":""},null,null,null,null,null,null,null,null,null,null,null,null,null,null,null,null,null,null,null,null,null,null,null,null,null,null,null,null,null,{"$f":"'12'!$AO$38","v":0},{"$f":"'12'!$AP$38","v":0},{"$f":"'12'!$AQ$38","v":0},{"$f":"'12'!$AR$38","v":0},{"$f":"'12'!$AS$38","v":0},{"$f":"'12'!$AT$38","v":0},12,{"$f":"VLOOKUP(BW1740,Přehled!$C$5:$AL$24,36)","v":""},null,null,null,null,null,null,null,null,null,null,null,null,null,null,null,null,null,null,null,null,{"$f":"'12'!$BP$38","v":0},{"$f":"'12'!$BQ$38","v":0},{"$f":"'12'!$BR$38","v":0},{"$f":"'12'!$BS$38","v":0},{"$f":"'12'!$BT$38","v":0},{"$f":"'12'!$BU$38","v":0},12,{"$f":"VLOOKUP(CY1740,Přehled!$C$5:$AL$24,36)","v":""},null,null,null,null,null,null,null,null,null,null,null,null,null,null,null,{"$f":"'12'!$CR$38","v":0},{"$f":"'12'!$CS$38","v":0},{"$f":"'12'!$CT$38","v":0},12,{"$f":"VLOOKUP(DS1740,Přehled!$C$5:$AL$24,36)","v":""}]
[{"$f":"'18'!A36","v":0},{"$f":"'18'!B36","v":0},{"$f":"'18'!C36","v":0},{"$f":"SUMIF($B$5:$B$2024,Souhrn_hod[[#This Row],[Jméno]],$E$5:$E$2024)","v":0},{"$f":"'18'!D36","v":0},{"$f":"'18'!E36","v":0},{"$f":"'18'!F36","v":0},{"$f":"'18'!G36","v":0},{"$f":"'18'!H36","v":0},{"$f":"'18'!I36","v":0},{"$f":"'18'!J36","v":0},{"$f":"'18'!K36","v":0},{"$f":"'18'!L36","v":0},{"$f":"'18'!M36","v":0},{"$f":"'18'!N36","v":0},{"$f":"'18'!O36","v":0},{"$f":"'18'!P36","v":0},{"$f":"'18'!Q36","v":0},{"$f":"'18'!R36","v":0},{"$f":"'18'!S36","v":0},{"$f":"'18'!T36","v":0},{"$f":"'18'!U36","v":0},{"$f":"'18'!V36","v":0},{"$f":"'18'!W36","v":0},{"$f":"'18'!X36","v":0},{"$f":"'18'!Y36","v":0},{"$f":"'18'!Z36","v":0},{"$f":"'18'!AA36","v":0},{"$f":"'18'!AB36","v":0},{"$f":"'18'!AC36","v":0},{"$f":"'18'!AD36","v":0},{"$f":"'18'!AE36","v":0},{"$f":"'18'!AF36","v":0},{"$f":"'18'!AG36","v":0},{"$f":"'18'!AH36","v":0},{"$f":"'18'!AI36","v":0},{"$f":"'18'!AJ36","v":0},18,{"$f":"VLOOKUP(AL1750,Přehled!$C$5:$AL$24,36)","v":""},null,null,null,null,null,null,null,null,null,null,null,null,null,null,null,null,null,null,null,null,null,null,null,null,null,null,null,null,null,{"$f":"'12'!$AO$48","v":0},{"$f":"'12'!$AP$48","v":0},{"$f":"'12'!$AQ$48","v":0},{"$f":"'12'!$AR$48","v":0},{"$f":"'12'!$AS$48","v":0},{"$f":"'12'!$AT$48","v":0},12,{"$f":"VLOOKUP(BW1750,Přehled!$C$5:$AL$24,36)","v":""},null,null,null,null,null,null,null,null,null,null,null,null,null,null,null,null,null,null,null,null,{"$f":"'12'!$BP$48","v":0},{"$f":"'12'!$BQ$48","v":0},{"$f":"'12'!$BR$48","v":0},{"$f":"'12'!$BS$48","v":0},{"$f":"'12'!$BT$48","v":0},{"$f":"'12'!$BU$48","v":0},12,{"$f":"VLOOKUP(CY1750,Přehled!$C$5:$AL$24,36)","v":""},null,null,null,null,null,null,null,null,null,null,null,null,null,null,null,{"$f":"'12'!$CR$48","v":0},{"$f":"'12'!$CS$48","v":0},{"$f":"'12'!$CT$48","v":0},12,{"$f":"VLOOKUP(DS1750,Přehled!$C$5:$AL$24,36)","v":""}]
[{"$f":"'18'!A53","v":0},{"$f":"'18'!B53","v":0},{"$f":"'18'!C53","v":0},{"$f":"SUMIF($B$5:$B$2024,Souhrn_hod[[#This Row],[Jméno]],$E$5:$E$2024)","v":0},{"$f":"'18'!D53","v":0},{"$f":"'18'!E53","v":0},{"$f":"'18'!F53","v":0},{"$f":"'18'!G53","v":0},{"$f":"'18'!H53","v":0},{"$f":"'18'!I53","v":0},{"$f":"'18'!J53","v":0},{"$f":"'18'!K53","v":0},{"$f":"'18'!L53","v":0},{"$f":"'18'!M53","v":0},{"$f":"'18'!N53","v":0},{"$f":"'18'!O53","v":0},{"$f":"'18'!P53","v":0},{"$f":"'18'!Q53","v":0},{"$f":"'18'!R53","v":0},{"$f":"'18'!S53","v":0},{"$f":"'18'!T53","v":0},{"$f":"'18'!U53","v":0},{"$f":"'18'!V53","v":0},{"$f":"'18'!W53","v":0},{"$f":"'18'!X53","v":0},{"$f":"'18'!Y53","v":0},{"$f":"'18'!Z53","v":0},{"$f":"'18'!AA53","v":0},{"$f":"'18'!AB53","v":0},{"$f":"'18'!AC53","v":0},{"$f":"'18'!AD53","v":0},{"$f":"'18'!AE53","v":0},{"$f":"'18'!AF53","v":0},{"$f":"'18'!AG53","v":0},{"$f":"'18'!AH53","v":0},{"$f":"'18'!AI53","v":0},{"$f":"'18'!AJ53","v":0},18,{"$f":"VLOOKUP(AL1767,Přehled!$C$5:$AL$24,36)","v":""},null,null,null,null,null,null,null,null,null,null,null,null,null,null,null,null,null,null,null,null,null,null,null,null,null,null,null,null,null,{"$f":"'12'!$AO$65","v":0},{"$f":"'12'!$AP$65","v":0},{"$f":"'12'!$AQ$65","v":0},{"$f":"'12'!$AR$65","v":0},{"$f":"'12'!$AS$65","v":0},{"$f":"'12'!$AT$65","v":0},12,{"$f":"VLOOKUP(BW1767,Přehled!$C$5:$AL$24,36)","v":""},null,null,null,null,null,null,null,null,null,null,null,null,null,null,null,null,null,null,null,null,{"$f":"'12'!$BP$65","v":0},{"$f":"'12'!$BQ$65","v":0},{"$f":"'12'!$BR$65","v":0},{"$f":"'12'!$BS$65","v":0},{"$f":"'12'!$BT$65","v":0},{"$f":"'12'!$BU$65","v":0},12,{"$f":"VLOOKUP(CY1767,Přehled!$C$5:$AL$24,36)","v":""},null,null,null,null,null,null,null,null,null,null,null,null,null,null,null,{"$f":"'12'!$CR$65","v":0},{"$f":"'12'!$CS$65","v":0},{"$f":"'12'!$CT$65","v":0},12,{"$f":"VLOOKUP(DS1767,Přehled!$C$5:$AL$24,36)","v":""}]
[{"$f":"'18'!A56","v":0},{"$f":"'18'!B56","v":0},{"$f":"'18'!C56","v":0},{"$f":"SUMIF($B$5:$B$2024,Souhrn_hod[[#This Row],[Jméno]],$E$5:$E$2024)","v":0},{"$f":"'18'!D56","v":0},{"$f":"'18'!E56","v":0},{"$f":"'18'!F56","v":0},{"$f":"'18'!G56","v":0},{"$f":"'18'!H56","v":0},{"$f":"'18'!I56","v":0},{"$f":"'18'!J56","v":0},{"$f":"'18'!K56","v":0},{"$f":"'18'!L56","v":0},{"$f":"'18'!M56","v":0},{"$f":"'18'!N56","v":0},{"$f":"'18'!O56","v":0},{"$f":"'18'!P56","v":0},{"$f":"'18'!Q56","v":0},{"$f":"'18'!R56","v":0},{"$f":"'18'!S56","v":0},{"$f":"'18'!T56","v":0},{"$f":"'18'!U56","v":0},{"$f":"'18'!V56","v":0},{"$f":"'18'!W56","v":0},{"$f":"'18'!X56","v":0},{"$f":"'18'!Y56","v":0},{"$f":"'18'!Z56","v":0},{"$f":"'18'!AA56","v":0},{"$f":"'18'!AB56","v":0},{"$f":"'18'!AC56","v":0},{"$f":"'18'!AD56","v":0},{"$f":"'18'!AE56","v":0},{"$f":"'18'!AF56","v":0},{"$f":"'18'!AG56","v":0},{"$f":"'18'!AH56","v":0},{"$f":"'18'!AI56","v":0},{"$f":"'18'!AJ56","v":0},18,{"$f":"VLOOKUP(AL1770,Přehled!$C$5:$AL$24,36)","v":""},null,null,null,null,null,null,null,null,null,null,null,null,null,null,null,null,null,null,null,null,null,null,null,null,null,null,null,null,null,{"$f":"'12'!$AO$68","v":0},{"$f":"'12'!$AP$68","v":0},{"$f":"'12'!$AQ$68","v":0},{"$f":"'12'!$AR$68","v":0},{"$f":"'12'!$AS$68","v":0},{"$f":"'12'!$AT$68","v":0},12,{"$f":"VLOOKUP(BW1770,Přehled!$C$5:$AL$24,36)","v":""},null,null,null,null,null,null,null,null,null,null,null,null,null,null,null,null,null,null,null,null,{"$f":"'12'!$BP$68","v":0},{"$f":"'12'!$BQ$68","v":0},{"$f":"'12'!$BR$68","v":0},{"$f":"'12'!$BS$68","v":0},{"$f":"'12'!$BT$68","v":0},{"$f":"'12'!$BU$68","v":0},12,{"$f":"VLOOKUP(CY1770,Přehled!$C$5:$AL$24,36)","v":""},null,null,null,null,null,null,null,null,null,null,null,null,null,null,null,{"$f":"'12'!$CR$68","v":0},{"$f":"'12'!$CS$68","v":0},{"$f":"'12'!$CT$68","v":0},12,{"$f":"VLOOKUP(DS1770,Přehled!$C$5:$AL$24,36)","v":""}]
[{"$f":"'18'!A70","v":0},{"$f":"'18'!B70","v":0},{"$f":"'18'!C70","v":0},{"$f":"SUMIF($B$5:$B$2024,Souhrn_hod[[#This Row],[Jméno]],$E$5:$E$2024)","v":0},{"$f":"'18'!D70","v":0},{"$f":"'18'!E70","v":0},{"$f":"'18'!F70","v":0},{"$f":"'18'!G70","v":0},{"$f":"'18'!H70","v":0},{"$f":"'18'!I70","v":0},{"$f":"'18'!J70","v":0},{"$f":"'18'!K70","v":0},{"$f":"'18'!L70","v":0},{"$f":"'18'!M70","v":0},{"$f":"'18'!N70","v":0},{"$f":"'18'!O70","v":0},{"$f":"'18'!P70","v":0},{"$f":"'18'!Q70","v":0},{"$f":"'18'!R70","v":0},{"$f":"'18'!S70","v":0},{"$f":"'18'!T70","v":0},{"$f":"'18'!U70","v":0},{"$f":"'18'!V70","v":0},{"$f":"'18'!W70","v":0},{"$f":"'18'!X70","v":0},{"$f":"'18'!Y70","v":0},{"$f":"'18'!Z70","v":0},{"$f":"'18'!AA70","v":0},{"$f":"'18'!AB70","v":0},{"$f":"'18'!AC70","v":0},{"$f":"'18'!AD70","v":0},{"$f":"'18'!AE70","v":0},{"$f":"'18'!AF70","v":0},{"$f":"'18'!AG70","v":0},{"$f":"'18'!AH70","v":0},{"$f":"'18'!AI70","v":0},{"$f":"'18'!AJ70","v":0},18,{"$f":"VLOOKUP(AL1784,Přehled!$C$5:$AL$24,36)","v":""},null,null,null,null,null,null,null,null,null,null,null,null,null,null,null,null,null,null,null,null,null,null,null,null,null,null,null,null,null,{"$f":"'12'!$AO$82","v":0},{"$f":"'12'!$AP$82","v":0},{"$f":"'12'!$AQ$82","v":0},{"$f":"'12'!$AR$82","v":0},{"$f":"'12'!$AS$82","v":0},{"$f":"'12'!$AT$82","v":0},12,{"$f":"VLOOKUP(BW1784,Přehled!$C$5:$AL$24,36)","v":""},null,null,null,null,null,null,null,null,null,null,null,null,null,null,null,null,null,null,null,null,{"$f":"'12'!$BP$82","v":0},{"$f":"'12'!$BQ$82","v":0},{"$f":"'12'!$BR$82","v":0},{"$f":"'12'!$BS$82","v":0},{"$f":"'12'!$BT$82","v":0},{"$f":"'12'!$BU$82","v":0},12,{"$f":"VLOOKUP(CY1784,Přehled!$C$5:$AL$24,36)","v":""},null,null,null,null,null,null,null,null,null,null,null,null,null,null,null,{"$f":"'12'!$CR$82","v":0},{"$f":"'12'!$CS$82","v":0},{"$f":"'12'!$CT$82","v":0},12,{"$f":"VLOOKUP(DS1784,Přehled!$C$5:$AL$24,36)","v":""}]
[{"$f":"'18'!A87","v":0},{"$f":"'18'!B87","v":0},{"$f":"'18'!C87","v":0},{"$f":"SUMIF($B$5:$B$2024,Souhrn_hod[[#This Row],[Jméno]],$E$5:$E$2024)","v":0},{"$f":"'18'!D87","v":0},{"$f":"'18'!E87","v":0},{"$f":"'18'!F87","v":0},{"$f":"'18'!G87","v":0},{"$f":"'18'!H87","v":0},{"$f":"'18'!I87","v":0},{"$f":"'18'!J87","v":0},{"$f":"'18'!K87","v":0},{"$f":"'18'!L87","v":0},{"$f":"'18'!M87","v":0},{"$f":"'18'!N87","v":0},{"$f":"'18'!O87","v":0},{"$f":"'18'!P87","v":0},{"$f":"'18'!Q87","v":0},{"$f":"'18'!R87","v":0},{"$f":"'18'!S87","v":0},{"$f":"'18'!T87","v":0},{"$f":"'18'!U87","v":0},{"$f":"'18'!V87","v":0},{"$f":"'18'!W87","v":0},{"$f":"'18'!X87","v":0},{"$f":"'18'!Y87","v":0},{"$f":"'18'!Z87","v":0},{"$f":"'18'!AA87","v":0},{"$f":"'18'!AB87","v":0},{"$f":"'18'!AC87","v":0},{"$f":"'18'!AD87","v":0},{"$f":"'18'!AE87","v":0},{"$f":"'18'!AF87","v":0},{"$f":"'18'!AG87","v":0},{"$f":"'18'!AH87","v":0},{"$f":"'18'!AI87","v":0},{"$f":"'18'!AJ87","v":0},18,{"$f":"VLOOKUP(AL1801,Přehled!$C$5:$AL$24,36)","v":""},null,null,null,null,null,null,null,null,null,null,null,null,null,null,null,null,null,null,null,null,null,null,null,null,null,null,null,null,null,{"$f":"'12'!$AO$99","v":0},{"$f":"'12'!$AP$99","v":0},{"$f":"'12'!$AQ$99","v":0},{"$f":"'12'!$AR$99","v":0},{"$f":"'12'!$AS$99","v":0},{"$f":"'12'!$AT$99","v":0},12,{"$f":"VLOOKUP(BW1801,Přehled!$C$5:$AL$24,36)","v":""},null,null,null,null,null,null,null,null,null,null,null,null,null,null,null,null,null,null,null,null,{"$f":"'12'!$BP$99","v":0},{"$f":"'12'!$BQ$99","v":0},{"$f":"'12'!$BR$99","v":0},{"$f":"'12'!$BS$99","v":0},{"$f":"'12'!$BT$99","v":0},{"$f":"'12'!$BU$99","v":0},12,{"$f":"VLOOKUP(CY1801,Přehled!$C$5:$AL$24,36)","v":""},null,null,null,null,null,null,null,null,null,null,null,null,null,null,null,{"$f":"'12'!$CR$99","v":0},{"$f":"'12'!$CS$99","v":0},{"$f":"'12'!$CT$99","v":0},12,{"$f":"VLOOKUP(DS1801,Přehled!$C$5:$AL$24,36)","v":""}]
[{"$f":"'18'!A97","v":0},{"$f":"'18'!B97","v":0},{"$f":"'18'!C97","v":0},{"$f":"SUMIF($B$5:$B$2024,Souhrn_hod[[#This Row],[Jméno]],$E$5:$E$2024)","v":0},{"$f":"'18'!D97","v":0},{"$f":"'18'!E97","v":0},{"$f":"'18'!F97","v":0},{"$f":"'18'!G97","v":0},{"$f":"'18'!H97","v":0},{"$f":"'18'!I97","v":0},{"$f":"'18'!J97","v":0},{"$f":"'18'!K97","v":0},{"$f":"'18'!L97","v":0},{"$f":"'18'!M97","v":0},{"$f":"'18'!N97","v":0},{"$f":"'18'!O97","v":0},{"$f":"'18'!P97","v":0},{"$f":"'18'!Q97","v":0},{"$f":"'18'!R97","v":0},{"$f":"'18'!S97","v":0},{"$f":"'18'!T97","v":0},{"$f":"'18'!U97","v":0},{"$f":"'18'!V97","v":0},{"$f":"'18'!W97","v":0},{"$f":"'18'!X97","v":0},{"$f":"'18'!Y97","v":0},{"$f":"'18'!Z97","v":0},{"$f":"'18'!AA97","v":0},{"$f":"'18'!AB97","v":0},{"$f":"'18'!AC97","v":0},{"$f":"'18'!AD97","v":0},{"$f":"'18'!AE97","v":0},{"$f":"'18'!AF97","v":0},{"$f":"'18'!AG97","v":0},{"$f":"'18'!AH97","v":0},{"$f":"'18'!AI97","v":0},{"$f":"'18'!AJ97","v":0},18,{"$f":"VLOOKUP(AL1811,Přehled!$C$5:$AL$24,36)","v":""},null,null,null,null,null,null,null,null,null,null,null,null,null,null,null,null,null,null,null,null,null,null,null,null,null,null,null,null,null,{"$f":"'12'!$AO$109","v":0},{"$f":"'12'!$AP$109","v":0},{"$f":"'12'!$AQ$109","v":0},{"$f":"'12'!$AR$109","v":0},{"$f":"'12'!$AS$109","v":0},{"$f":"'12'!$AT$109","v":0},12,{"$f":"VLOOKUP(BW1811,Přehled!$C$5:$AL$24,36)","v":""},null,null,null,null,null,null,null,null,null,null,null,null,null,null,null,null,null,null,null,null,{"$f":"'12'!$BP$109","v":0},{"$f":"'12'!$BQ$109","v":0},{"$f":"'12'!$BR$109","v":0},{"$f":"'12'!$BS$109","v":0},{"$f":"'12'!$BT$109","v":0},{"$f":"'12'!$BU$109","v":0},12,{"$f":"VLOOKUP(CY1811,Přehled!$C$5:$AL$24,36)","v":""},null,null,null,null,null,null,null,null,null,null,null,null,null,null,null,{"$f":"'12'!$CR$109","v":0},{"$f":"'12'!$CS$109","v":0},{"$f":"'12'!$CT$109","v":0},12,{"$f":"VLOOKUP(DS1811,Přehled!$C$5:$AL$24,36)","v":""}]
[{"$f":"'18'!A103","v":0},{"$f":"'18'!B103","v":0},{"$f":"'18'!C103","v":0},{"$f":"SUMIF($B$5:$B$2024,Souhrn_hod[[#This Row],[Jméno]],$E$5:$E$2024)","v":0},{"$f":"'18'!D103","v":0},{"$f":"'18'!E103","v":0},{"$f":"'18'!F103","v":0},{"$f":"'18'!G103","v":0},{"$f":"'18'!H103","v":0},{"$f":"'18'!I103","v":0},{"$f":"'18'!J103","v":0},{"$f":"'18'!K103","v":0},{"$f":"'18'!L103","v":0},{"$f":"'18'!M103","v":0},{"$f":"'18'!N103","v":0},{"$f":"'18'!O103","v":0},{"$f":"'18'!P103","v":0},{"$f":"'18'!Q103","v":0},{"$f":"'18'!R103","v":0},{"$f":"'18'!S103","v":0},{"$f":"'18'!T103","v":0},{"$f":"'18'!U103","v":0},{"$f":"'18'!V103","v":0},{"$f":"'18'!W103","v":0},{"$f":"'18'!X103","v":0},{"$f":"'18'!Y103","v":0},{"$f":"'18'!Z103","v":0},{"$f":"'18'!AA103","v":0},{"$f":"'18'!AB103","v":0},{"$f":"'18'!AC103","v":0},{"$f":"'18'!AD103","v":0},{"$f":"'18'!AE103","v":0},{"$f":"'18'!AF103","v":0},{"$f":"'18'!AG103","v":0},{"$f":"'18'!AH103","v":0},{"$f":"'18'!AI103","v":0},{"$f":"'18'!AJ103","v":0},18,{"$f":"VLOOKUP(AL1817,Přehled!$C$5:$AL$24,36)","v":""},null,null,null,null,null,null,null,null,null,null,null,null,null,null,null,null,null,null,null,null,null,null,null,null,null,null,null,null,null,{"$f":"'12'!$AO$115","v":0},{"$f":"'12'!$AP$115","v":0},{"$f":"'12'!$AQ$115","v":0},{"$f":"'12'!$AR$115","v":0},{"$f":"'12'!$AS$115","v":0},{"$f":"'12'!$AT$115","v":0},12,{"$f":"VLOOKUP(BW1817,Přehled!$C$5:$AL$24,36)","v":""},null,null,null,null,null,null,null,null,null,null,null,null,null,null,null,null,null,null,null,null,{"$f":"'12'!$BP$115","v":0},{"$f":"'12'!$BQ$115","v":0},{"$f":"'12'!$BR$115","v":0},{"$f":"'12'!$BS$115","v":0},{"$f":"'12'!$BT$115","v":0},{"$f":"'12'!$BU$115","v":0},12,{"$f":"VLOOKUP(CY1817,Přehled!$C$5:$AL$24,36)","v":""},null,null,null,null,null,null,null,null,null,null,null,null,null,null,null,{"$f":"'12'!$CR$115","v":0},{"$f":"'12'!$CS$115","v":0},{"$f":"'12'!$CT$115","v":0},12,{"$f":"VLOOKUP(DS1817,Přehled!$C$5:$AL$24,36)","v":""}]
[{"$f":"'19'!A19","v":0},{"$f":"'19'!B19","v":0},{"$f":"'19'!C19","v":0},{"$f":"SUMIF($B$5:$B$2024,Souhrn_hod[[#This Row],[Jméno]],$E$5:$E$2024)","v":0},{"$f":"'19'!D19","v":0},{"$f":"'19'!E19","v":0},{"$f":"'19'!F19","v":0},{"$f":"'19'!G19","v":0},{"$f":"'19'!H19","v":0},{"$f":"'19'!I19","v":0},{"$f":"'19'!J19","v":0},{"$f":"'19'!K19","v":0},{"$f":"'19'!L19","v":0},{"$f":"'19'!M19","v":0},{"$f":"'19'!N19","v":0},{"$f":"'19'!O19","v":0},{"$f":"'19'!P19","v":0},{"$f":"'19'!Q19","v":0},{"$f":"'19'!R19","v":0},{"$f":"'19'!S19","v":0},{"$f":"'19'!T19","v":0},{"$f":"'19'!U19","v":0},{"$f":"'19'!V19","v":0},{"$f":"'19'!W19","v":0},{"$f":"'19'!X19","v":0},{"$f":"'19'!Y19","v":0},{"$f":"'19'!Z19","v":0},{"$f":"'19'!AA19","v":0},{"$f":"'19'!AB19","v":0},{"$f":"'19'!AC19","v":0},{"$f":"'19'!AD19","v":0},{"$f":"'19'!AE19","v":0},{"$f":"'19'!AF19","v":0},{"$f":"'19'!AG19","v":0},{"$f":"'19'!AH19","v":0},{"$f":"'19'!AI19","v":0},{"$f":"'19'!AJ19","v":0},19,{"$f":"VLOOKUP(AL1834,Přehled!$C$5:$AL$24,36)","v":""},null,null,null,null,null,null,null,null,null,null,null,null,null,null,null,null,null,null,null,null,null,null,null,null,null,null,null,null,null,{"$f":"'12'!$AO$132","v":0},{"$f":"'12'!$AP$132","v":0},{"$f":"'12'!$AQ$132","v":0},{"$f":"'12'!$AR$132","v":0},{"$f":"'12'!$AS$132","v":0},{"$f":"'12'!$AT$132","v":0},12,{"$f":"VLOOKUP(BW1834,Přehled!$C$5:$AL$24,36)","v":""},null,null,null,null,null,null,null,null,null,null,null,null,null,null,null,null,null,null,null,null,{"$f":"'12'!$BP$132","v":0},{"$f":"'12'!$BQ$132","v":0},{"$f":"'12'!$BR$132","v":0},{"$f":"'12'!$BS$132","v":0},{"$f":"'12'!$BT$132","v":0},{"$f":"'12'!$BU$132","v":0},12,{"$f":"VLOOKUP(CY1834,Přehled!$C$5:$AL$24,36)","v":""},null,null,null,null,null,null,null,null,null,null,null,null,null,null,null,{"$f":"'12'!$CR$132","v":0},{"$f":"'12'!$CS$132","v":0},{"$f":"'12'!$CT$132","v":0},12,{"$f":"VLOOKUP(DS1834,Přehled!$C$5:$AL$24,36)","v":""}]
[{"$f":"'19'!A28","v":0},{"$f":"'19'!B28","v":0},{"$f":"'19'!C28","v":0},{"$f":"SUMIF($B$5:$B$2024,Souhrn_hod[[#This Row],[Jméno]],$E$5:$E$2024)","v":0},{"$f":"'19'!D28","v":0},{"$f":"'19'!E28","v":0},{"$f":"'19'!F28","v":0},{"$f":"'19'!G28","v":0},{"$f":"'19'!H28","v":0},{"$f":"'19'!I28","v":0},{"$f":"'19'!J28","v":0},{"$f":"'19'!K28","v":0},{"$f":"'19'!L28","v":0},{"$f":"'19'!M28","v":0},{"$f":"'19'!N28","v":0},{"$f":"'19'!O28","v":0},{"$f":"'19'!P28","v":0},{"$f":"'19'!Q28","v":0},{"$f":"'19'!R28","v":0},{"$f":"'19'!S28","v":0},{"$f":"'19'!T28","v":0},{"$f":"'19'!U28","v":0},{"$f":"'19'!V28","v":0},{"$f":"'19'!W28","v":0},{"$f":"'19'!X28","v":0},{"$f":"'19'!Y28","v":0},{"$f":"'19'!Z28","v":0},{"$f":"'19'!AA28","v":0},{"$f":"'19'!AB28","v":0},{"$f":"'19'!AC28","v":0},{"$f":"'19'!AD28","v":0},{"$f":"'19'!AE28","v":0},{"$f":"'19'!AF28","v":0},{"$f":"'19'!AG28","v":0},{"$f":"'19'!AH28","v":0},{"$f":"'19'!AI28","v":0},{"$f":"'19'!AJ28","v":0},19,{"$f":"VLOOKUP(AL1843,Přehled!$C$5:$AL$24,36)","v":""},null,null,null,null,null,null,null,null,null,null,null,null,null,null,null,null,null,null,null,null,null,null,null,null,null,null,null,null,null,{"$f":"'12'!$AO$141","v":0},{"$f":"'12'!$AP$141","v":0},{"$f":"'12'!$AQ$141","v":0},{"$f":"'12'!$AR$141","v":0},{"$f":"'12'!$AS$141","v":0},{"$f":"'12'!$AT$141","v":0},12,{"$f":"VLOOKUP(BW1843,Přehled!$C$5:$AL$24,36)","v":""},null,null,null,null,null,null,null,null,null,null,null,null,null,null,null,null,null,null,null,null,{"$f":"'12'!$BP$141","v":0},{"$f":"'12'!$BQ$141","v":0},{"$f":"'12'!$BR$141","v":0},{"$f":"'12'!$BS$141","v":0},{"$f":"'12'!$BT$141","v":0},{"$f":"'12'!$BU$141","v":0},12,{"$f":"VLOOKUP(CY1843,Přehled!$C$5:$AL$24,36)","v":""},null,null,null,null,null,null,null,null,null,null,null,null,null,null,null,{"$f":"'12'!$CR$141","v":0},{"$f":"'12'!$CS$141","v":0},{"$f":"'12'!$CT$141","v":0},12,{"$f":"VLOOKUP(DS1843,Přehled!$C$5:$AL$24,36)","v":""}]
[{"$f":"'19'!A36","v":0},{"$f":"'19'!B36","v":0},{"$f":"'19'!C36","v":0},{"$f":"SUMIF($B$5:$B$2024,Souhrn_hod[[#This Row],[Jméno]],$E$5:$E$2024)","v":0},{"$f":"'19'!D36","v":0},{"$f":"'19'!E36","v":0},{"$f":"'19'!F36","v":0},{"$f":"'19'!G36","v":0},{"$f":"'19'!H36","v":0},{"$f":"'19'!I36","v":0},{"$f":"'19'!J36","v":0},{"$f":"'19'!K36","v":0},{"$f":"'19'!L36","v":0},{"$f":"'19'!M36","v":0},{"$f":"'19'!N36","v":0},{"$f":"'19'!O36","v":0},{"$f":"'19'!P36","v":0},{"$f":"'19'!Q36","v":0},{"$f":"'19'!R36","v":0},{"$f":"'19'!S36","v":0},{"$f":"'19'!T36","v":0},{"$f":"'19'!U36","v":0},{"$f":"'19'!V36","v":0},{"$f":"'19'!W36","v":0},{"$f":"'19'!X36","v":0},{"$f":"'19'!Y36","v":0},{"$f":"'19'!Z36","v":0},{"$f":"'19'!AA36","v":0},{"$f":"'19'!AB36","v":0},{"$f":"'19'!AC36","v":0},{"$f":"'19'!AD36","v":0},{"$f":"'19'!AE36","v":0},{"$f":"'19'!AF36","v":0},{"$f":"'19'!AG36","v":0},{"$f":"'19'!AH36","v":0},{"$f":"'19'!AI36","v":0},{"$f":"'19'!AJ36","v":0},19,{"$f":"VLOOKUP(AL1851,Přehled!$C$5:$AL$24,36)","v":""},null,null,null,null,null,null,null,null,null,null,null,null,null,null,null,null,null,null,null,null,null,null,null,null,null,null,null,null,null,{"$f":"'12'!$AO$149","v":0},{"$f":"'12'!$AP$149","v":0},{"$f":"'12'!$AQ$149","v":0},{"$f":"'12'!$AR$149","v":0},{"$f":"'12'!$AS$149","v":0},{"$f":"'12'!$AT$149","v":0},12,{"$f":"VLOOKUP(BW1851,Přehled!$C$5:$AL$24,36)","v":""},null,null,null,null,null,null,null,null,null,null,null,null,null,null,null,null,null,null,null,null,{"$f":"'12'!$BP$149","v":0},{"$f":"'12'!$BQ$149","v":0},{"$f":"'12'!$BR$149","v":0},{"$f":"'12'!$BS$149","v":0},{"$f":"'12'!$BT$149","v":0},{"$f":"'12'!$BU$149","v":0},12,{"$f":"VLOOKUP(CY1851,Přehled!$C$5:$AL$24,36)","v":""},null,null,null,null,null,null,null,null,null,null,null,null,null,null,null,{"$f":"'12'!$CR$149","v":0},{"$f":"'12'!$CS$149","v":0},{"$f":"'12'!$CT$149","v":0},12,{"$f":"VLOOKUP(DS1851,Přehled!$C$5:$AL$24,36)","v":""}]
[{"$f":"'19'!A46","v":0},{"$f":"'19'!B46","v":0},{"$f":"'19'!C46","v":0},{"$f":"SUMIF($B$5:$B$2024,Souhrn_hod[[#This Row],[Jméno]],$E$5:$E$2024)","v":0},{"$f":"'19'!D46","v":0},{"$f":"'19'!E46","v":0},{"$f":"'19'!F46","v":0},{"$f":"'19'!G46","v":0},{"$f":"'19'!H46","v":0},{"$f":"'19'!I46","v":0},{"$f":"'19'!J46","v":0},{"$f":"'19'!K46","v":0},{"$f":"'19'!L46","v":0},{"$f":"'19'!M46","v":0},{"$f":"'19'!N46","v":0},{"$f":"'19'!O46","v":0},{"$f":"'19'!P46","v":0},{"$f":"'19'!Q46","v":0},{"$f":"'19'!R46","v":0},{"$f":"'19'!S46","v":0},{"$f":"'19'!T46","v":0},{"$f":"'19'!U46","v":0},{"$f":"'19'!V46","v":0},{"$f":"'19'!W46","v":0},{"$f":"'19'!X46","v":0},{"$f":"'19'!Y46","v":0},{"$f":"'19'!Z46","v":0},{"$f":"'19'!AA46","v":0},{"$f":"'19'!AB46","v":0},{"$f":"'19'!AC46","v":0},{"$f":"'19'!AD46","v":0},{"$f":"'19'!AE46","v":0},{"$f":"'19'!AF46","v":0},{"$f":"'19'!AG46","v":0},{"$f":"'19'!AH46","v":0},{"$f":"'19'!AI46","v":0},{"$f":"'19'!AJ46","v":0},19,{"$f":"VLOOKUP(AL1861,Přehled!$C$5:$AL$24,36)","v":""},null,null,null,null,null,null,null,null,null,null,null,null,null,null,null,null,null,null,null,null,null,null,null,null,null,null,null,null,null,{"$f":"'12'!$AO$159","v":0},{"$f":"'12'!$AP$159","v":0},{"$f":"'12'!$AQ$159","v":0},{"$f":"'12'!$AR$159","v":0},{"$f":"'12'!$AS$159","v":0},{"$f":"'12'!$AT$159","v":0},12,{"$f":"VLOOKUP(BW1861,Přehled!$C$5:$AL$24,36)","v":""},null,null,null,null,null,null,null,null,null,null,null,null,null,null,null,null,null,null,null,null,{"$f":"'12'!$BP$159","v":0},{"$f":"'12'!$BQ$159","v":0},{"$f":"'12'!$BR$159","v":0},{"$f":"'12'!$BS$159","v":0},{"$f":"'12'!$BT$159","v":0},{"$f":"'12'!$BU$159","v":0},12,{"$f":"VLOOKUP(CY1861,Přehled!$C$5:$AL$24,36)","v":""},null,null,null,null,null,null,null,null,null,null,null,null,null,null,null,{"$f":"'12'!$CR$159","v":0},{"$f":"'12'!$CS$159","v":0},{"$f":"'12'!$CT$159","v":0},12,{"$f":"VLOOKUP(DS1861,Přehled!$C$5:$AL$24,36)","v":""}]
[{"$f":"'19'!A63","v":0},{"$f":"'19'!B63","v":0},{"$f":"'19'!C63","v":0},{"$f":"SUMIF($B$5:$B$2024,Souhrn_hod[[#This Row],[Jméno]],$E$5:$E$2024)","v":0},{"$f":"'19'!D63","v":0},{"$f":"'19'!E63","v":0},{"$f":"'19'!F63","v":0},{"$f":"'19'!G63","v":0},{"$f":"'19'!H63","v":0},{"$f":"'19'!I63","v":0},{"$f":"'19'!J63","v":0},{"$f":"'19'!K63","v":0},{"$f":"'19'!L63","v":0},{"$f":"'19'!M63","v":0},{"$f":"'19'!N63","v":0},{"$f":"'19'!O63","v":0},{"$f":"'19'!P63","v":0},{"$f":"'19'!Q63","v":0},{"$f":"'19'!R63","v":0},{"$f":"'19'!S63","v":0},{"$f":"'19'!T63","v":0},{"$f":"'19'!U63","v":0},{"$f":"'19'!V63","v":0},{"$f":"'19'!W63","v":0},{"$f":"'19'!X63","v":0},{"$f":"'19'!Y63","v":0},{"$f":"'19'!Z63","v":0},{"$f":"'19'!AA63","v":0},{"$f":"'19'!AB63","v":0},{"$f":"'19'!AC63","v":0},{"$f":"'19'!AD63","v":0},{"$f":"'19'!AE63","v":0},{"$f":"'19'!AF63","v":0},{"$f":"'19'!AG63","v":0},{"$f":"'19'!AH63","v":0},{"$f":"'19'!AI63","v":0},{"$f":"'19'!AJ63","v":0},19,{"$f":"VLOOKUP(AL1878,Přehled!$C$5:$AL$24,36)","v":""},null,null,null,null,null,null,null,null,null,null,null,null,null,null,null,null,null,null,null,null,null,null,null,null,null,null,null,null,null,{"$f":"'13'!$AO$21","v":0},{"$f":"'13'!$AP$21","v":0},{"$f":"'13'!$AQ$21","v":0},{"$f":"'13'!$AR$21","v":0},{"$f":"'13'!$AS$21","v":0},{"$f":"'13'!$AT$21","v":0},13,{"$f":"VLOOKUP(BW1878,Přehled!$C$5:$AL$24,36)","v":""},null,null,null,null,null,null,null,null,null,null,null,null,null,null,null,null,null,null,null,null,{"$f":"'13'!$BP$21","v":0},{"$f":"'13'!$BQ$21","v":0},{"$f":"'13'!$BR$21","v":0},{"$f":"'13'!$BS$21","v":0},{"$f":"'13'!$BT$21","v":0},{"$f":"'13'!$BU$21","v":0},13,{"$f":"VLOOKUP(CY1878,Přehled!$C$5:$AL$24,36)","v":""},null,null,null,null,null,null,null,null,null,null,null,null,null,null,null,{"$f":"'13'!$CR$21","v":0},{"$f":"'13'!$CS$21","v":0},{"$f":"'13'!$CT$21","v":0},13,{"$f":"VLOOKUP(DS1878,Přehled!$C$5:$AL$24,36)","v":""}]
[{"$f":"'19'!A69","v":0},{"$f":"'19'!B69","v":0},{"$f":"'19'!C69","v":0},{"$f":"SUMIF($B$5:$B$2024,Souhrn_hod[[#This Row],[Jméno]],$E$5:$E$2024)","v":0},{"$f":"'19'!D69","v":0},{"$f":"'19'!E69","v":0},{"$f":"'19'!F69","v":0},{"$f":"'19'!G69","v":0},{"$f":"'19'!H69","v":0},{"$f":"'19'!I69","v":0},{"$f":"'19'!J69","v":0},{"$f":"'19'!K69","v":0},{"$f":"'19'!L69","v":0},{"$f":"'19'!M69","v":0},{"$f":"'19'!N69","v":0},{"$f":"'19'!O69","v":0},{"$f":"'19'!P69","v":0},{"$f":"'19'!Q69","v":0},{"$f":"'19'!R69","v":0},{"$f":"'19'!S69","v":0},{"$f":"'19'!T69","v":0},{"$f":"'19'!U69","v":0},{"$f":"'19'!V69","v":0},{"$f":"'19'!W69","v":0},{"$f":"'19'!X69","v":0},{"$f":"'19'!Y69","v":0},{"$f":"'19'!Z69","v":0},{"$f":"'19'!AA69","v":0},{"$f":"'19'!AB69","v":0},{"$f":"'19'!AC69","v":0},{"$f":"'19'!AD69","v":0},{"$f":"'19'!AE69","v":0},{"$f":"'19'!AF69","v":0},{"$f":"'19'!AG69","v":0},{"$f":"'19'!AH69","v":0},{"$f":"'19'!AI69","v":0},{"$f":"'19'!AJ69","v":0},19,{"$f":"VLOOKUP(AL1884,Přehled!$C$5:$AL$24,36)","v":""},null,null,null,null,null,null,null,null,null,null,null,null,null,null,null,null,null,null,null,null,null,null,null,null,null,null,null,null,null,{"$f":"'13'!$AO$27","v":0},{"$f":"'13'!$AP$27","v":0},{"$f":"'13'!$AQ$27","v":0},{"$f":"'13'!$AR$27","v":0},{"$f":"'13'!$AS$27","v":0},{"$f":"'13'!$AT$27","v":0},13,{"$f":"VLOOKUP(BW1884,Přehled!$C$5:$AL$24,36)","v":""},null,null,null,null,null,null,null,null,null,null,null,null,null,null,null,null,null,null,null,null,{"$f":"'13'!$BP$27","v":0},{"$f":"'13'!$BQ$27","v":0},{"$f":"'13'!$BR$27","v":0},{"$f":"'13'!$BS$27","v":0},{"$f":"'13'!$BT$27","v":0},{"$f":"'13'!$BU$27","v":0},13,{"$f":"VLOOKUP(CY1884,Přehled!$C$5:$AL$24,36)","v":""},null,null,null,null,null,null,null,null,null,null,null,null,null,null,null,{"$f":"'13'!$CR$27","v":0},{"$f":"'13'!$CS$27","v":0},{"$f":"'13'!$CT$27","v":0},13,{"$f":"VLOOKUP(DS1884,Přehled!$C$5:$AL$24,36)","v":""}]
[{"$f":"'19'!A79","v":0},{"$f":"'19'!B79","v":0},{"$f":"'19'!C79","v":0},{"$f":"SUMIF($B$5:$B$2024,Souhrn_hod[[#This Row],[Jméno]],$E$5:$E$2024)","v":0},{"$f":"'19'!D79","v":0},{"$f":"'19'!E79","v":0},{"$f":"'19'!F79","v":0},{"$f":"'19'!G79","v":0},{"$f":"'19'!H79","v":0},{"$f":"'19'!I79","v":0},{"$f":"'19'!J79","v":0},{"$f":"'19'!K79","v":0},{"$f":"'19'!L79","v":0},{"$f":"'19'!M79","v":0},{"$f":"'19'!N79","v":0},{"$f":"'19'!O79","v":0},{"$f":"'19'!P79","v":0},{"$f":"'19'!Q79","v":0},{"$f":"'19'!R79","v":0},{"$f":"'19'!S79","v":0},{"$f":"'19'!T79","v":0},{"$f":"'19'!U79","v":0},{"$f":"'19'!V79","v":0},{"$f":"'19'!W79","v":0},{"$f":"'19'!X79","v":0},{"$f":"'19'!Y79","v":0},{"$f":"'19'!Z79","v":0},{"$f":"'19'!AA79","v":0},{"$f":"'19'!AB79","v":0},{"$f":"'19'!AC79","v":0},{"$f":"'19'!AD79","v":0},{"$f":"'19'!AE79","v":0},{"$f":"'19'!AF79","v":0},{"$f":"'19'!AG79","v":0},{"$f":"'19'!AH79","v":0},{"$f":"'19'!AI79","v":0},{"$f":"'19'!AJ79","v":0},19,{"$f":"VLOOKUP(AL1894,Přehled!$C$5:$AL$24,36)","v":""},null,null,null,null,null,null,null,null,null,null,null,null,null,null,null,null,null,null,null,null,null,null,null,null,null,null,null,null,null,{"$f":"'13'!$AO$37","v":0},{"$f":"'13'!$AP$37","v":0},{"$f":"'13'!$AQ$37","v":0},{"$f":"'13'!$AR$37","v":0},{"$f":"'13'!$AS$37","v":0},{"$f":"'13'!$AT$37","v":0},13,{"$f":"VLOOKUP(BW1894,Přehled!$C$5:$AL$24,36)","v":""},null,null,null,null,null,null,null,null,null,null,null,null,null,null,null,null,null,null,null,null,{"$f":"'13'!$BP$37","v":0},{"$f":"'13'!$BQ$37","v":0},{"$f":"'13'!$BR$37","v":0},{"$f":"'13'!$BS$37","v":0},{"$f":"'13'!$BT$37","v":0},{"$f":"'13'!$BU$37","v":0},13,{"$f":"VLOOKUP(CY1894,Přehled!$C$5:$AL$24,36)","v":""},null,null,null,null,null,null,null,null,null,null,null,null,null,null,null,{"$f":"'13'!$CR$37","v":0},{"$f":"'13'!$CS$37","v":0},{"$f":"'13'!$CT$37","v":0},13,{"$f":"VLOOKUP(DS1894,Přehled!$C$5:$AL$24,36)","v":""}]
[{"$f":"'19'!A97","v":0},{"$f":"'19'!B97","v":0},{"$f":"'19'!C97","v":0},{"$f":"SUMIF($B$5:$B$2024,Souhrn_hod[[#This Row],[Jméno]],$E$5:$E$2024)","v":0},{"$f":"'19'!D97","v":0},{"$f":"'19'!E97","v":0},{"$f":"'19'!F97","v":0},{"$f":"'19'!G97","v":0},{"$f":"'19'!H97","v":0},{"$f":"'19'!I97","v":0},{"$f":"'19'!J97","v":0},{"$f":"'19'!K97","v":0},{"$f":"'19'!L97","v":0},{"$f":"'19'!M97","v":0},{"$f":"'19'!N97","v":0},{"$f":"'19'!O97","v":0},{"$f":"'19'!P97","v":0},{"$f":"'19'!Q97","v":0},{"$f":"'19'!R97","v":0},{"$f":"'19'!S97","v":0},{"$f":"'19'!T97","v":0},{"$f":"'19'!U97","v":0},{"$f":"'19'!V97","v":0},{"$f":"'19'!W97","v":0},{"$f":"'19'!X97","v":0},{"$f":"'19'!Y97","v":0},{"$f":"'19'!Z97","v":0},{"$f":"'19'!AA97","v":0},{"$f":"'19'!AB97","v":0},{"$f":"'19'!AC97","v":0},{"$f":"'19'!AD97","v":0},{"$f":"'19'!AE97","v":0},{"$f":"'19'!AF97","v":0},{"$f":"'19'!AG97","v":0},{"$f":"'19'!AH97","v":0},{"$f":"'19'!AI97","v":0},{"$f":"'19'!AJ97","v":0},19,{"$f":"VLOOKUP(AL1912,Přehled!$C$5:$AL$24,36)","v":""},null,null,null,null,null,null,null,null,null,null,null,null,null,null,null,null,null,null,null,null,null,null,null,null,null,null,null,null,null,{"$f":"'13'!$AO$55","v":0},{"$f":"'13'!$AP$55","v":0},{"$f":"'13'!$AQ$55","v":0},{"$f":"'13'!$AR$55","v":0},{"$f":"'13'!$AS$55","v":0},{"$f":"'13'!$AT$55","v":0},13,{"$f":"VLOOKUP(BW1912,Přehled!$C$5:$AL$24,36)","v":""},null,null,null,null,null,null,null,null,null,null,null,null,null,null,null,null,null,null,null,null,{"$f":"'13'!$BP$55","v":0},{"$f":"'13'!$BQ$55","v":0},{"$f":"'13'!$BR$55","v":0},{"$f":"'13'!$BS$55","v":0},{"$f":"'13'!$BT$55","v":0},{"$f":"'13'!$BU$55","v":0},13,{"$f":"VLOOKUP(CY1912,Přehled!$C$5:$AL$24,36)","v":""},null,null,null,null,null,null,null,null,null,null,null,null,null,null,null,{"$f":"'13'!$CR$55","v":0},{"$f":"'13'!$CS$55","v":0},{"$f":"'13'!$CT$55","v":0},13,{"$f":"VLOOKUP(DS1912,Přehled!$C$5:$AL$24,36)","v":""}]
[{"$f":"'19'!A103","v":0},{"$f":"'19'!B103","v":0},{"$f":"'19'!C103","v":0},{"$f":"SUMIF($B$5:$B$2024,Souhrn_hod[[#This Row],[Jméno]],$E$5:$E$2024)","v":0},{"$f":"'19'!D103","v":0},{"$f":"'19'!E103","v":0},{"$f":"'19'!F103","v":0},{"$f":"'19'!G103","v":0},{"$f":"'19'!H103","v":0},{"$f":"'19'!I103","v":0},{"$f":"'19'!J103","v":0},{"$f":"'19'!K103","v":0},{"$f":"'19'!L103","v":0},{"$f":"'19'!M103","v":0},{"$f":"'19'!N103","v":0},{"$f":"'19'!O103","v":0},{"$f":"'19'!P103","v":0},{"$f":"'19'!Q103","v":0},{"$f":"'19'!R103","v":0},{"$f":"'19'!S103","v":0},{"$f":"'19'!T103","v":0},{"$f":"'19'!U103","v":0},{"$f":"'19'!V103","v":0},{"$f":"'19'!W103","v":0},{"$f":"'19'!X103","v":0},{"$f":"'19'!Y103","v":0},{"$f":"'19'!Z103","v":0},{"$f":"'19'!AA103","v":0},{"$f":"'19'!AB103","v":0},{"$f":"'19'!AC103","v":0},{"$f":"'19'!AD103","v":0},{"$f":"'19'!AE103","v":0},{"$f":"'19'!AF103","v":0},{"$f":"'19'!AG103","v":0},{"$f":"'19'!AH103","v":0},{"$f":"'19'!AI103","v":0},{"$f":"'19'!AJ103","v":0},19,{"$f":"VLOOKUP(AL1918,Přehled!$C$5:$AL$24,36)","v":""},null,null,null,null,null,null,null,null,null,null,null,null,null,null,null,null,null,null,null,null,null,null,null,null,null,null,null,null,null,{"$f":"'13'!$AO$61","v":0},{"$f":"'13'!$AP$61","v":0},{"$f":"'13'!$AQ$61","v":0},{"$f":"'13'!$AR$61","v":0},{"$f":"'13'!$AS$61","v":0},{"$f":"'13'!$AT$61","v":0},13,{"$f":"VLOOKUP(BW1918,Přehled!$C$5:$AL$24,36)","v":""},null,null,null,null,null,null,null,null,null,null,null,null,null,null,null,null,null,null,null,null,{"$f":"'13'!$BP$61","v":0},{"$f":"'13'!$BQ$61","v":0},{"$f":"'13'!$BR$61","v":0},{"$f":"'13'!$BS$61","v":0},{"$f":"'13'!$BT$61","v":0},{"$f":"'13'!$BU$61","v":0},13,{"$f":"VLOOKUP(CY1918,Přehled!$C$5:$AL$24,36)","v":""},null,null,null,null,null,null,null,null,null,null,null,null,null,null,null,{"$f":"'13'!$CR$61","v":0},{"$f":"'13'!$CS$61","v":0},{"$f":"'13'!$CT$61","v":0},13,{"$f":"VLOOKUP(DS1918,Přehled!$C$5:$AL$24,36)","v":""}]
[{"$f":"'20'!A12","v":0},{"$f":"'20'!B12","v":0},{"$f":"'20'!C12","v":0},{"$f":"SUMIF($B$5:$B$2024,Souhrn_hod[[#This Row],[Jméno]],$E$5:$E$2024)","v":0},{"$f":"'20'!D12","v":0},{"$f":"'20'!E12","v":0},{"$f":"'20'!F12","v":0},{"$f":"'20'!G12","v":0},{"$f":"'20'!H12","v":0},{"$f":"'20'!I12","v":0},{"$f":"'20'!J12","v":0},{"$f":"'20'!K12","v":0},{"$f":"'20'!L12","v":0},{"$f":"'20'!M12","v":0},{"$f":"'20'!N12","v":0},{"$f":"'20'!O12","v":0},{"$f":"'20'!P12","v":0},{"$f":"'20'!Q12","v":0},{"$f":"'20'!R12","v":0},{"$f":"'20'!S12","v":0},{"$f":"'20'!T12","v":0},{"$f":"'20'!U12","v":0},{"$f":"'20'!V12","v":0},{"$f":"'20'!W12","v":0},{"$f":"'20'!X12","v":0},{"$f":"'20'!Y12","v":0},{"$f":"'20'!Z12","v":0},{"$f":"'20'!AA12","v":0},{"$f":"'20'!AB12","v":0},{"$f":"'20'!AC12","v":0},{"$f":"'20'!AD12","v":0},{"$f":"'20'!AE12","v":0},{"$f":"'20'!AF12","v":0},{"$f":"'20'!AG12","v":0},{"$f":"'20'!AH12","v":0},{"$f":"'20'!AI12","v":0},{"$f":"'20'!AJ12","v":0},20,{"$f":"VLOOKUP(AL1928,Přehled!$C$5:$AL$24,36)","v":""},null,null,null,null,null,null,null,null,null,null,null,null,null,null,null,null,null,null,null,null,null,null,null,null,null,null,null,null,null,{"$f":"'13'!$AO$71","v":0},{"$f":"'13'!$AP$71","v":0},{"$f":"'13'!$AQ$71","v":0},{"$f":"'13'!$AR$71","v":0},{"$f":"'13'!$AS$71","v":0},{"$f":"'13'!$AT$71","v":0},13,{"$f":"VLOOKUP(BW1928,Přehled!$C$5:$AL$24,36)","v":""},null,null,null,null,null,null,null,null,null,null,null,null,null,null,null,null,null,null,null,null,{"$f":"'13'!$BP$71","v":0},{"$f":"'13'!$BQ$71","v":0},{"$f":"'13'!$BR$71","v":0},{"$f":"'13'!$BS$71","v":0},{"$f":"'13'!$BT$71","v":0},{"$f":"'13'!$BU$71","v":0},13,{"$f":"VLOOKUP(CY1928,Přehled!$C$5:$AL$24,36)","v":""},null,null,null,null,null,null,null,null,null,null,null,null,null,null,null,{"$f":"'13'!$CR$71","v":0},{"$f":"'13'!$CS$71","v":0},{"$f":"'13'!$CT$71","v":0},13,{"$f":"VLOOKUP(DS1928,Přehled!$C$5:$AL$24,36)","v":""}]
[{"$f":"'20'!A29","v":0},{"$f":"'20'!B29","v":0},{"$f":"'20'!C29","v":0},{"$f":"SUMIF($B$5:$B$2024,Souhrn_hod[[#This Row],[Jméno]],$E$5:$E$2024)","v":0},{"$f":"'20'!D29","v":0},{"$f":"'20'!E29","v":0},{"$f":"'20'!F29","v":0},{"$f":"'20'!G29","v":0},{"$f":"'20'!H29","v":0},{"$f":"'20'!I29","v":0},{"$f":"'20'!J29","v":0},{"$f":"'20'!K29","v":0},{"$f":"'20'!L29","v":0},{"$f":"'20'!M29","v":0},{"$f":"'20'!N29","v":0},{"$f":"'20'!O29","v":0},{"$f":"'20'!P29","v":0},{"$f":"'20'!Q29","v":0},{"$f":"'20'!R29","v":0},{"$f":"'20'!S29","v":0},{"$f":"'20'!T29","v":0},{"$f":"'20'!U29","v":0},{"$f":"'20'!V29","v":0},{"$f":"'20'!W29","v":0},{"$f":"'20'!X29","v":0},{"$f":"'20'!Y29","v":0},{"$f":"'20'!Z29","v":0},{"$f":"'20'!AA29","v":0},{"$f":"'20'!AB29","v":0},{"$f":"'20'!AC29","v":0},{"$f":"'20'!AD29","v":0},{"$f":"'20'!AE29","v":0},{"$f":"'20'!AF29","v":0},{"$f":"'20'!AG29","v":0},{"$f":"'20'!AH29","v":0},{"$f":"'20'!AI29","v":0},{"$f":"'20'!AJ29","v":0},20,{"$f":"VLOOKUP(AL1945,Přehled!$C$5:$AL$24,36)","v":""},null,null,null,null,null,null,null,null,null,null,null,null,null,null,null,null,null,null,null,null,null,null,null,null,null,null,null,null,null,{"$f":"'13'!$AO$88","v":0},{"$f":"'13'!$AP$88","v":0},{"$f":"'13'!$AQ$88","v":0},{"$f":"'13'!$AR$88","v":0},{"$f":"'13'!$AS$88","v":0},{"$f":"'13'!$AT$88","v":0},13,{"$f":"VLOOKUP(BW1945,Přehled!$C$5:$AL$24,36)","v":""},null,null,null,null,null,null,null,null,null,null,null,null,null,null,null,null,null,null,null,null,{"$f":"'13'!$BP$88","v":0},{"$f":"'13'!$BQ$88","v":0},{"$f":"'13'!$BR$88","v":0},{"$f":"'13'!$BS$88","v":0},{"$f":"'13'!$BT$88","v":0},{"$f":"'13'!$BU$88","v":0},13,{"$f":"VLOOKUP(CY1945,Přehled!$C$5:$AL$24,36)","v":""},null,null,null,null,null,null,null,null,null,null,null,null,null,null,null,{"$f":"'13'!$CR$88","v":0},{"$f":"'13'!$CS$88","v":0},{"$f":"'13'!$CT$88","v":0},13,{"$f":"VLOOKUP(DS1945,Přehled!$C$5:$AL$24,36)","v":""}]
[{"$f":"'20'!A39","v":0},{"$f":"'20'!B39","v":0},{"$f":"'20'!C39","v":0},{"$f":"SUMIF($B$5:$B$2024,Souhrn_hod[[#This Row],[Jméno]],$E$5:$E$2024)","v":0},{"$f":"'20'!D39","v":0},{"$f":"'20'!E39","v":0},{"$f":"'20'!F39","v":0},{"$f":"'20'!G39","v":0},{"$f":"'20'!H39","v":0},{"$f":"'20'!I39","v":0},{"$f":"'20'!J39","v":0},{"$f":"'20'!K39","v":0},{"$f":"'20'!L39","v":0},{"$f":"'20'!M39","v":0},{"$f":"'20'!N39","v":0},{"$f":"'20'!O39","v":0},{"$f":"'20'!P39","v":0},{"$f":"'20'!Q39","v":0},{"$f":"'20'!R39","v":0},{"$f":"'20'!S39","v":0},{"$f":"'20'!T39","v":0},{"$f":"'20'!U39","v":0},{"$f":"'20'!V39","v":0},{"$f":"'20'!W39","v":0},{"$f":"'20'!X39","v":0},{"$f":"'20'!Y39","v":0},{"$f":"'20'!Z39","v":0},{"$f":"'20'!AA39","v":0},{"$f":"'20'!AB39","v":0},{"$f":"'20'!AC39","v":0},{"$f":"'20'!AD39","v":0},{"$f":"'20'!AE39","v":0},{"$f":"'20'!AF39","v":0},{"$f":"'20'!AG39","v":0},{"$f":"'20'!AH39","v":0},{"$f":"'20'!AI39","v":0},{"$f":"'20'!AJ39","v":0},20,{"$f":"VLOOKUP(AL1955,Přehled!$C$5:$AL$24,36)","v":""},null,null,null,null,null,null,null,null,null,null,null,null,null,null,null,null,null,null,null,null,null,null,null,null,null,null,null,null,null,{"$f":"'13'!$AO$98","v":0},{"$f":"'13'!$AP$98","v":0},{"$f":"'13'!$AQ$98","v":0},{"$f":"'13'!$AR$98","v":0},{"$f":"'13'!$AS$98","v":0},{"$f":"'13'!$AT$98","v":0},13,{"$f":"VLOOKUP(BW1955,Přehled!$C$5:$AL$24,36)","v":""},null,null,null,null,null,null,null,null,null,null,null,null,null,null,null,null,null,null,null,null,{"$f":"'13'!$BP$98","v":0},{"$f":"'13'!$BQ$98","v":0},{"$f":"'13'!$BR$98","v":0},{"$f":"'13'!$BS$98","v":0},{"$f":"'13'!$BT$98","v":0},{"$f":"'13'!$BU$98","v":0},13,{"$f":"VLOOKUP(CY1955,Přehled!$C$5:$AL$24,36)","v":""},null,null,null,null,null,null,null,null,null,null,null,null,null,null,null,{"$f":"'13'!$CR$98","v":0},{"$f":"'13'!$CS$98","v":0},{"$f":"'13'!$CT$98","v":0},13,{"$f":"VLOOKUP(DS1955,Přehled!$C$5:$AL$24,36)","v":""}]
[{"$f":"'20'!A45","v":0},{"$f":"'20'!B45","v":0},{"$f":"'20'!C45","v":0},{"$f":"SUMIF($B$5:$B$2024,Souhrn_hod[[#This Row],[Jméno]],$E$5:$E$2024)","v":0},{"$f":"'20'!D45","v":0},{"$f":"'20'!E45","v":0},{"$f":"'20'!F45","v":0},{"$f":"'20'!G45","v":0},{"$f":"'20'!H45","v":0},{"$f":"'20'!I45","v":0},{"$f":"'20'!J45","v":0},{"$f":"'20'!K45","v":0},{"$f":"'20'!L45","v":0},{"$f":"'20'!M45","v":0},{"$f":"'20'!N45","v":0},{"$f":"'20'!O45","v":0},{"$f":"'20'!P45","v":0},{"$f":"'20'!Q45","v":0},{"$f":"'20'!R45","v":0},{"$f":"'20'!S45","v":0},{"$f":"'20'!T45","v":0},{"$f":"'20'!U45","v":0},{"$f":"'20'!V45","v":0},{"$f":"'20'!W45","v":0},{"$f":"'20'!X45","v":0},{"$f":"'20'!Y45","v":0},{"$f":"'20'!Z45","v":0},{"$f":"'20'!AA45","v":0},{"$f":"'20'!AB45","v":0},{"$f":"'20'!AC45","v":0},{"$f":"'20'!AD45","v":0},{"$f":"'20'!AE45","v":0},{"$f":"'20'!AF45","v":0},{"$f":"'20'!AG45","v":0},{"$f":"'20'!AH45","v":0},{"$f":"'20'!AI45","v":0},{"$f":"'20'!AJ45","v":0},20,{"$f":"VLOOKUP(AL1961,Přehled!$C$5:$AL$24,36)","v":""},null,null,null,null,null,null,null,null,null,null,null,null,null,null,null,null,null,null,null,null,null,null,null,null,null,null,null,null,null,{"$f":"'13'!$AO$104","v":0},{"$f":"'13'!$AP$104","v":0},{"$f":"'13'!$AQ$104","v":0},{"$f":"'13'!$AR$104","v":0},{"$f":"'13'!$AS$104","v":0},{"$f":"'13'!$AT$104","v":0},13,{"$f":"VLOOKUP(BW1961,Přehled!$C$5:$AL$24,36)","v":""},null,null,null,null,null,null,null,null,null,null,null,null,null,null,null,null,null,null,null,null,{"$f":"'13'!$BP$104","v":0},{"$f":"'13'!$BQ$104","v":0},{"$f":"'13'!$BR$104","v":0},{"$f":"'13'!$BS$104","v":0},{"$f":"'13'!$BT$104","v":0},{"$f":"'13'!$BU$104","v":0},13,{"$f":"VLOOKUP(CY1961,Přehled!$C$5:$AL$24,36)","v":""},null,null,null,null,null,null,null,null,null,null,null,null,null,null,null,{"$f":"'13'!$CR$104","v":0},{"$f":"'13'!$CS$104","v":0},{"$f":"'13'!$CT$104","v":0},13,{"$f":"VLOOKUP(DS1961,Přehled!$C$5:$AL$24,36)","v":""}]
[{"$f":"'20'!A65","v":0},{"$f":"'20'!B65","v":0},{"$f":"'20'!C65","v":0},{"$f":"SUMIF($B$5:$B$2024,Souhrn_hod[[#This Row],[Jméno]],$E$5:$E$2024)","v":0},{"$f":"'20'!D65","v":0},{"$f":"'20'!E65","v":0},{"$f":"'20'!F65","v":0},{"$f":"'20'!G65","v":0},{"$f":"'20'!H65","v":0},{"$f":"'20'!I65","v":0},{"$f":"'20'!J65","v":0},{"$f":"'20'!K65","v":0},{"$f":"'20'!L65","v":0},{"$f":"'20'!M65","v":0},{"$f":"'20'!N65","v":0},{"$f":"'20'!O65","v":0},{"$f":"'20'!P65","v":0},{"$f":"'20'!Q65","v":0},{"$f":"'20'!R65","v":0},{"$f":"'20'!S65","v":0},{"$f":"'20'!T65","v":0},{"$f":"'20'!U65","v":0},{"$f":"'20'!V65","v":0},{"$f":"'20'!W65","v":0},{"$f":"'20'!X65","v":0},{"$f":"'20'!Y65","v":0},{"$f":"'20'!Z65","v":0},{"$f":"'20'!AA65","v":0},{"$f":"'20'!AB65","v":0},{"$f":"'20'!AC65","v":0},{"$f":"'20'!AD65","v":0},{"$f":"'20'!AE65","v":0},{"$f":"'20'!AF65","v":0},{"$f":"'20'!AG65","v":0},{"$f":"'20'!AH65","v":0},{"$f":"'20'!AI65","v":0},{"$f":"'20'!AJ65","v":0},20,{"$f":"VLOOKUP(AL1981,Přehled!$C$5:$AL$24,36)","v":""},null,null,null,null,null,null,null,null,null,null,null,null,null,null,null,null,null,null,null,null,null,null,null,null,null,null,null,null,null,{"$f":"'13'!$AO$124","v":0},{"$f":"'13'!$AP$124","v":0},{"$f":"'13'!$AQ$124","v":0},{"$f":"'13'!$AR$124","v":0},{"$f":"'13'!$AS$124","v":0},{"$f":"'13'!$AT$124","v":0},13,{"$f":"VLOOKUP(BW1981,Přehled!$C$5:$AL$24,36)","v":""},null,null,null,null,null,null,null,null,null,null,null,null,null,null,null,null,null,null,null,null,{"$f":"'13'!$BP$124","v":0},{"$f":"'13'!$BQ$124","v":0},{"$f":"'13'!$BR$124","v":0},{"$f":"'13'!$BS$124","v":0},{"$f":"'13'!$BT$124","v":0},{"$f":"'13'!$BU$124","v":0},13,{"$f":"VLOOKUP(CY1981,Přehled!$C$5:$AL$24,36)","v":""},null,null,null,null,null,null,null,null,null,null,null,null,null,null,null,{"$f":"'13'!$CR$124","v":0},{"$f":"'13'!$CS$124","v":0},{"$f":"'13'!$CT$124","v":0},13,{"$f":"VLOOKUP(DS1981,Přehled!$C$5:$AL$24,36)","v":""}]
[{"$f":"'20'!A73","v":0},{"$f":"'20'!B73","v":0},{"$f":"'20'!C73","v":0},{"$f":"SUMIF($B$5:$B$2024,Souhrn_hod[[#This Row],[Jméno]],$E$5:$E$2024)","v":0},{"$f":"'20'!D73","v":0},{"$f":"'20'!E73","v":0},{"$f":"'20'!F73","v":0},{"$f":"'20'!G73","v":0},{"$f":"'20'!H73","v":0},{"$f":"'20'!I73","v":0},{"$f":"'20'!J73","v":0},{"$f":"'20'!K73","v":0},{"$f":"'20'!L73","v":0},{"$f":"'20'!M73","v":0},{"$f":"'20'!N73","v":0},{"$f":"'20'!O73","v":0},{"$f":"'20'!P73","v":0},{"$f":"'20'!Q73","v":0},{"$f":"'20'!R73","v":0},{"$f":"'20'!S73","v":0},{"$f":"'20'!T73","v":0},{"$f":"'20'!U73","v":0},{"$f":"'20'!V73","v":0},{"$f":"'20'!W73","v":0},{"$f":"'20'!X73","v":0},{"$f":"'20'!Y73","v":0},{"$f":"'20'!Z73","v":0},{"$f":"'20'!AA73","v":0},{"$f":"'20'!AB73","v":0},{"$f":"'20'!AC73","v":0},{"$f":"'20'!AD73","v":0},{"$f":"'20'!AE73","v":0},{"$f":"'20'!AF73","v":0},{"$f":"'20'!AG73","v":0},{"$f":"'20'!AH73","v":0},{"$f":"'20'!AI73","v":0},{"$f":"'20'!AJ73","v":0},20,{"$f":"VLOOKUP(AL1989,Přehled!$C$5:$AL$24,36)","v":""},null,null,null,null,null,null,null,null,null,null,null,null,null,null,null,null,null,null,null,null,null,null,null,null,null,null,null,null,null,{"$f":"'13'!$AO$132","v":0},{"$f":"'13'!$AP$132","v":0},{"$f":"'13'!$AQ$132","v":0},{"$f":"'13'!$AR$132","v":0},{"$f":"'13'!$AS$132","v":0},{"$f":"'13'!$AT$132","v":0},13,{"$f":"VLOOKUP(BW1989,Přehled!$C$5:$AL$24,36)","v":""},null,null,null,null,null,null,null,null,null,null,null,null,null,null,null,null,null,null,null,null,{"$f":"'13'!$BP$132","v":0},{"$f":"'13'!$BQ$132","v":0},{"$f":"'13'!$BR$132","v":0},{"$f":"'13'!$BS$132","v":0},{"$f":"'13'!$BT$132","v":0},{"$f":"'13'!$BU$132","v":0},13,{"$f":"VLOOKUP(CY1989,Přehled!$C$5:$AL$24,36)","v":""},null,null,null,null,null,null,null,null,null,null,null,null,null,null,null,{"$f":"'13'!$CR$132","v":0},{"$f":"'13'!$CS$132","v":0},{"$f":"'13'!$CT$132","v":0},13,{"$f":"VLOOKUP(DS1989,Přehled!$C$5:$AL$24,36)","v":""}]
[{"$f":"'20'!A79","v":0},{"$f":"'20'!B79","v":0},{"$f":"'20'!C79","v":0},{"$f":"SUMIF($B$5:$B$2024,Souhrn_hod[[#This Row],[Jméno]],$E$5:$E$2024)","v":0},{"$f":"'20'!D79","v":0},{"$f":"'20'!E79","v":0},{"$f":"'20'!F79","v":0},{"$f":"'20'!G79","v":0},{"$f":"'20'!H79","v":0},{"$f":"'20'!I79","v":0},{"$f":"'20'!J79","v":0},{"$f":"'20'!K79","v":0},{"$f":"'20'!L79","v":0},{"$f":"'20'!M79","v":0},{"$f":"'20'!N79","v":0},{"$f":"'20'!O79","v":0},{"$f":"'20'!P79","v":0},{"$f":"'20'!Q79","v":0},{"$f":"'20'!R79","v":0},{"$f":"'20'!S79","v":0},{"$f":"'20'!T79","v":0},{"$f":"'20'!U79","v":0},{"$f":"'20'!V79","v":0},{"$f":"'20'!W79","v":0},{"$f":"'20'!X79","v":0},{"$f":"'20'!Y79","v":0},{"$f":"'20'!Z79","v":0},{"$f":"'20'!AA79","v":0},{"$f":"'20'!AB79","v":0},{"$f":"'20'!AC79","v":0},{"$f":"'20'!AD79","v":0},{"$f":"'20'!AE79","v":0},{"$f":"'20'!AF79","v":0},{"$f":"'20'!AG79","v":0},{"$f":"'20'!AH79","v":0},{"$f":"'20'!AI79","v":0},{"$f":"'20'!AJ79","v":0},20,{"$f":"VLOOKUP(AL1995,Přehled!$C$5:$AL$24,36)","v":""},null,null,null,null,null,null,null,null,null,null,null,null,null,null,null,null,null,null,null,null,null,null,null,null,null,null,null,null,null,{"$f":"'13'!$AO$138","v":0},{"$f":"'13'!$AP$138","v":0},{"$f":"'13'!$AQ$138","v":0},{"$f":"'13'!$AR$138","v":0},{"$f":"'13'!$AS$138","v":0},{"$f":"'13'!$AT$138","v":0},13,{"$f":"VLOOKUP(BW1995,Přehled!$C$5:$AL$24,36)","v":""},null,null,null,null,null,null,null,null,null,null,null,null,null,null,null,null,null,null,null,null,{"$f":"'13'!$BP$138","v":0},{"$f":"'13'!$BQ$138","v":0},{"$f":"'13'!$BR$138","v":0},{"$f":"'13'!$BS$138","v":0},{"$f":"'13'!$BT$138","v":0},{"$f":"'13'!$BU$138","v":0},13,{"$f":"VLOOKUP(CY1995,Přehled!$C$5:$AL$24,36)","v":""},null,null,null,null,null,null,null,null,null,null,null,null,null,null,null,{"$f":"'13'!$CR$138","v":0},{"$f":"'13'!$CS$138","v":0},{"$f":"'13'!$CT$138","v":0},13,{"$f":"VLOOKUP(DS1995,Přehled!$C$5:$AL$24,36)","v":""}]
[{"$f":"'20'!A96","v":0},{"$f":"'20'!B96","v":0},{"$f":"'20'!C96","v":0},{"$f":"SUMIF($B$5:$B$2024,Souhrn_hod[[#This Row],[Jméno]],$E$5:$E$2024)","v":0},{"$f":"'20'!D96","v":0},{"$f":"'20'!E96","v":0},{"$f":"'20'!F96","v":0},{"$f":"'20'!G96","v":0},{"$f":"'20'!H96","v":0},{"$f":"'20'!I96","v":0},{"$f":"'20'!J96","v":0},{"$f":"'20'!K96","v":0},{"$f":"'20'!L96","v":0},{"$f":"'20'!M96","v":0},{"$f":"'20'!N96","v":0},{"$f":"'20'!O96","v":0},{"$f":"'20'!P96","v":0},{"$f":"'20'!Q96","v":0},{"$f":"'20'!R96","v":0},{"$f":"'20'!S96","v":0},{"$f":"'20'!T96","v":0},{"$f":"'20'!U96","v":0},{"$f":"'20'!V96","v":0},{"$f":"'20'!W96","v":0},{"$f":"'20'!X96","v":0},{"$f":"'20'!Y96","v":0},{"$f":"'20'!Z96","v":0},{"$f":"'20'!AA96","v":0},{"$f":"'20'!AB96","v":0},{"$f":"'20'!AC96","v":0},{"$f":"'20'!AD96","v":0},{"$f":"'20'!AE96","v":0},{"$f":"'20'!AF96","v":0},{"$f":"'20'!AG96","v":0},{"$f":"'20'!AH96","v":0},{"$f":"'20'!AI96","v":0},{"$f":"'20'!AJ96","v":0},20,{"$f":"VLOOKUP(AL2012,Přehled!$C$5:$AL$24,36)","v":""},null,null,null,null,null,null,null,null,null,null,null,null,null,null,null,null,null,null,null,null,null,null,null,null,null,null,null,null,null,{"$f":"'13'!$AO$155","v":0},{"$f":"'13'!$AP$155","v":0},{"$f":"'13'!$AQ$155","v":0},{"$f":"'13'!$AR$155","v":0},{"$f":"'13'!$AS$155","v":0},{"$f":"'13'!$AT$155","v":0},13,{"$f":"VLOOKUP(BW2012,Přehled!$C$5:$AL$24,36)","v":""},null,null,null,null,null,null,null,null,null,null,null,null,null,null,null,null,null,null,null,null,{"$f":"'13'!$BP$155","v":0},{"$f":"'13'!$BQ$155","v":0},{"$f":"'13'!$BR$155","v":0},{"$f":"'13'!$BS$155","v":0},{"$f":"'13'!$BT$155","v":0},{"$f":"'13'!$BU$155","v":0},13,{"$f":"VLOOKUP(CY2012,Přehled!$C$5:$AL$24,36)","v":""},null,null,null,null,null,null,null,null,null,null,null,null,null,null,null,{"$f":"'13'!$CR$155","v":0},{"$f":"'13'!$CS$155","v":0},{"$f":"'13'!$CT$155","v":0},13,{"$f":"VLOOKUP(DS2012,Přehled!$C$5:$AL$24,36)","v":""}]
[{"$f":"'20'!A106","v":0},{"$f":"'20'!B106","v":0},{"$f":"'20'!C106","v":0},{"$f":"SUMIF($B$5:$B$2024,Souhrn_hod[[#This Row],[Jméno]],$E$5:$E$2024)","v":0},{"$f":"'20'!D106","v":0},{"$f":"'20'!E106","v":0},{"$f":"'20'!F106","v":0},{"$f":"'20'!G106","v":0},{"$f":"'20'!H106","v":0},{"$f":"'20'!I106","v":0},{"$f":"'20'!J106","v":0},{"$f":"'20'!K106","v":0},{"$f":"'20'!L106","v":0},{"$f":"'20'!M106","v":0},{"$f":"'20'!N106","v":0},{"$f":"'20'!O106","v":0},{"$f":"'20'!P106","v":0},{"$f":"'20'!Q106","v":0},{"$f":"'20'!R106","v":0},{"$f":"'20'!S106","v":0},{"$f":"'20'!T106","v":0},{"$f":"'20'!U106","v":0},{"$f":"'20'!V106","v":0},{"$f":"'20'!W106","v":0},{"$f":"'20'!X106","v":0},{"$f":"'20'!Y106","v":0},{"$f":"'20'!Z106","v":0},{"$f":"'20'!AA106","v":0},{"$f":"'20'!AB106","v":0},{"$f":"'20'!AC106","v":0},{"$f":"'20'!AD106","v":0},{"$f":"'20'!AE106","v":0},{"$f":"'20'!AF106","v":0},{"$f":"'20'!AG106","v":0},{"$f":"'20'!AH106","v":0},{"$f":"'20'!AI106","v":0},{"$f":"'20'!AJ106","v":0},20,{"$f":"VLOOKUP(AL2022,Přehled!$C$5:$AL$24,36)","v":""},null,null,null,null,null,null,null,null,null,null,null,null,null,null,null,null,null,null,null,null,null,null,null,null,null,null,null,null,null,{"$f":"'14'!$AO$10","v":0},{"$f":"'14'!$AP$10","v":0},{"$f":"'14'!$AQ$10","v":0},{"$f":"'14'!$AR$10","v":0},{"$f":"'14'!$AS$10","v":0},{"$f":"'14'!$AT$10","v":0},14,{"$f":"VLOOKUP(BW2022,Přehled!$C$5:$AL$24,36)","v":""},null,null,null,null,null,null,null,null,null,null,null,null,null,null,null,null,null,null,null,null,{"$f":"'14'!$BP$10","v":0},{"$f":"'14'!$BQ$10","v":0},{"$f":"'14'!$BR$10","v":0},{"$f":"'14'!$BS$10","v":0},{"$f":"'14'!$BT$10","v":0},{"$f":"'14'!$BU$10","v":0},14,{"$f":"VLOOKUP(CY2022,Přehled!$C$5:$AL$24,36)","v":""},null,null,null,null,null,null,null,null,null,null,null,null,null,null,null,{"$f":"'14'!$CR$10","v":0},{"$f":"'14'!$CS$10","v":0},{"$f":"'14'!$CT$10","v":0},14,{"$f":"VLOOKUP(DS2022,Přehled!$C$5:$AL$24,36)","v":""}]
[null,null,null,null,null,null,null,null,null,null,null,null,null,null,null,null,null,null,null,null,null,null,null,null,null,null,null,null,null,null,null,null,null,null,null,null,null,null,null,null,null,null,null,null,null,null,null,null,null,null,null,null,null,null,null,null,null,null,null,null,null,null,null,null,null,null,null,null,{"$f":"'14'!$AO$16","v":0},{"$f":"'14'!$AP$16","v":0},{"$f":"'14'!$AQ$16","v":0},{"$f":"'14'!$AR$16","v":0},{"$f":"'14'!$AS$16","v":0},{"$f":"'14'!$AT$16","v":0},14,{"$f":"VLOOKUP(BW2028,Přehled!$C$5:$AL$24,36)","v":""},null,null,null,null,null,null,null,null,null,null,null,null,null,null,null,null,null,null,null,null,{"$f":"'14'!$BP$16","v":0},{"$f":"'14'!$BQ$16","v":0},{"$f":"'14'!$BR$16","v":0},{"$f":"'14'!$BS$16","v":0},{"$f":"'14'!$BT$16","v":0},{"$f":"'14'!$BU$16","v":0},14,{"$f":"VLOOKUP(CY2028,Přehled!$C$5:$AL$24,36)","v":""},null,null,null,null,null,null,null,null,null,null,null,null,null,null,null,{"$f":"'14'!$CR$16","v":0},{"$f":"'14'!$CS$16","v":0},{"$f":"'14'!$CT$16","v":0},14,{"$f":"VLOOKUP(DS2028,Přehled!$C$5:$AL$24,36)","v":""}]
[null,null,null,null,null,null,null,null,null,null,null,null,null,null,null,null,null,null,null,null,null,null,null,null,null,null,null,null,null,null,null,null,null,null,null,null,null,null,null,null,null,null,null,null,null,null,null,null,null,null,null,null,null,null,null,null,null,null,null,null,null,null,null,null,null,null,null,null,{"$f":"'14'!$AO$30","v":0},{"$f":"'14'!$AP$30","v":0},{"$f":"'14'!$AQ$30","v":0},{"$f":"'14'!$AR$30","v":0},{"$f":"'14'!$AS$30","v":0},{"$f":"'14'!$AT$30","v":0},14,{"$f":"VLOOKUP(BW2042,Přehled!$C$5:$AL$24,36)","v":""},null,null,null,null,null,null,null,null,null,null,null,null,null,null,null,null,null,null,null,null,{"$f":"'14'!$BP$30","v":0},{"$f":"'14'!$BQ$30","v":0},{"$f":"'14'!$BR$30","v":0},{"$f":"'14'!$BS$30","v":0},{"$f":"'14'!$BT$30","v":0},{"$f":"'14'!$BU$30","v":0},14,{"$f":"VLOOKUP(CY2042,Přehled!$C$5:$AL$24,36)","v":""},null,null,null,null,null,null,null,null,null,null,null,null,null,null,null,{"$f":"'14'!$CR$30","v":0},{"$f":"'14'!$CS$30","v":0},{"$f":"'14'!$CT$30","v":0},14,{"$f":"VLOOKUP(DS2042,Přehled!$C$5:$AL$24,36)","v":""}]
[null,null,null,null,null,null,null,null,null,null,null,null,null,null,null,null,null,null,null,null,null,null,null,null,null,null,null,null,null,null,null,null,null,null,null,null,null,null,null,null,null,null,null,null,null,null,null,null,null,null,null,null,null,null,null,null,null,null,null,null,null,null,null,null,null,null,null,null,{"$f":"'14'!$AO$44","v":0},{"$f":"'14'!$AP$44","v":0},{"$f":"'14'!$AQ$44","v":0},{"$f":"'14'!$AR$44","v":0},{"$f":"'14'!$AS$44","v":0},{"$f":"'14'!$AT$44","v":0},14,{"$f":"VLOOKUP(BW2056,Přehled!$C$5:$AL$24,36)","v":""},null,null,null,null,null,null,null,null,null,null,null,null,null,null,null,null,null,null,null,null,{"$f":"'14'!$BP$44","v":0},{"$f":"'14'!$BQ$44","v":0},{"$f":"'14'!$BR$44","v":0},{"$f":"'14'!$BS$44","v":0},{"$f":"'14'!$BT$44","v":0},{"$f":"'14'!$BU$44","v":0},14,{"$f":"VLOOKUP(CY2056,Přehled!$C$5:$AL$24,36)","v":""},null,null,null,null,null,null,null,null,null,null,null,null,null,null,null,{"$f":"'14'!$CR$44","v":0},{"$f":"'14'!$CS$44","v":0},{"$f":"'14'!$CT$44","v":0},14,{"$f":"VLOOKUP(DS2056,Přehled!$C$5:$AL$24,36)","v":""}]
[null,null,null,null,null,null,null,null,null,null,null,null,null,null,null,null,null,null,null,null,null,null,null,null,null,null,null,null,null,null,null,null,null,null,null,null,null,null,null,null,null,null,null,null,null,null,null,null,null,null,null,null,null,null,null,null,null,null,null,null,null,null,null,null,null,null,null,null,{"$f":"'14'!$AO$50","v":0},{"$f":"'14'!$AP$50","v":0},{"$f":"'14'!$AQ$50","v":0},{"$f":"'14'!$AR$50","v":0},{"$f":"'14'!$AS$50","v":0},{"$f":"'14'!$AT$50","v":0},14,{"$f":"VLOOKUP(BW2062,Přehled!$C$5:$AL$24,36)","v":""},null,null,null,null,null,null,null,null,null,null,null,null,null,null,null,null,null,null,null,null,{"$f":"'14'!$BP$50","v":0},{"$f":"'14'!$BQ$50","v":0},{"$f":"'14'!$BR$50","v":0},{"$f":"'14'!$BS$50","v":0},{"$f":"'14'!$BT$50","v":0},{"$f":"'14'!$BU$50","v":0},14,{"$f":"VLOOKUP(CY2062,Přehled!$C$5:$AL$24,36)","v":""},null,null,null,null,null,null,null,null,null,null,null,null,null,null,null,{"$f":"'14'!$CR$50","v":0},{"$f":"'14'!$CS$50","v":0},{"$f":"'14'!$CT$50","v":0},14,{"$f":"VLOOKUP(DS2062,Přehled!$C$5:$AL$24,36)","v":""}]
[null,null,null,null,null,null,null,null,null,null,null,null,null,null,null,null,null,null,null,null,null,null,null,null,null,null,null,null,null,null,null,null,null,null,null,null,null,null,null,null,null,null,null,null,null,null,null,null,null,null,null,null,null,null,null,null,null,null,null,null,null,null,null,null,null,null,null,null,{"$f":"'14'!$AO$60","v":0},{"$f":"'14'!$AP$60","v":0},{"$f":"'14'!$AQ$60","v":0},{"$f":"'14'!$AR$60","v":0},{"$f":"'14'!$AS$60","v":0},{"$f":"'14'!$AT$60","v":0},14,{"$f":"VLOOKUP(BW2072,Přehled!$C$5:$AL$24,36)","v":""},null,null,null,null,null,null,null,null,null,null,null,null,null,null,null,null,null,null,null,null,{"$f":"'14'!$BP$60","v":0},{"$f":"'14'!$BQ$60","v":0},{"$f":"'14'!$BR$60","v":0},{"$f":"'14'!$BS$60","v":0},{"$f":"'14'!$BT$60","v":0},{"$f":"'14'!$BU$60","v":0},14,{"$f":"VLOOKUP(CY2072,Přehled!$C$5:$AL$24,36)","v":""},null,null,null,null,null,null,null,null,null,null,null,null,null,null,null,{"$f":"'14'!$CR$60","v":0},{"$f":"'14'!$CS$60","v":0},{"$f":"'14'!$CT$60","v":0},14,{"$f":"VLOOKUP(DS2072,Přehled!$C$5:$AL$24,36)","v":""}]
[null,null,null,null,null,null,null,null,null,null,null,null,null,null,null,null,null,null,null,null,null,null,null,null,null,null,null,null,null,null,null,null,null,null,null,null,null,null,null,null,null,null,null,null,null,null,null,null,null,null,null,null,null,null,null,null,null,null,null,null,null,null,null,null,null,null,null,null,{"$f":"'14'!$AO$77","v":0},{"$f":"'14'!$AP$77","v":0},{"$f":"'14'!$AQ$77","v":0},{"$f":"'14'!$AR$77","v":0},{"$f":"'14'!$AS$77","v":0},{"$f":"'14'!$AT$77","v":0},14,{"$f":"VLOOKUP(BW2089,Přehled!$C$5:$AL$24,36)","v":""},null,null,null,null,null,null,null,null,null,null,null,null,null,null,null,null,null,null,null,null,{"$f":"'14'!$BP$77","v":0},{"$f":"'14'!$BQ$77","v":0},{"$f":"'14'!$BR$77","v":0},{"$f":"'14'!$BS$77","v":0},{"$f":"'14'!$BT$77","v":0},{"$f":"'14'!$BU$77","v":0},14,{"$f":"VLOOKUP(CY2089,Přehled!$C$5:$AL$24,36)","v":""},null,null,null,null,null,null,null,null,null,null,null,null,null,null,null,{"$f":"'14'!$CR$77","v":0},{"$f":"'14'!$CS$77","v":0},{"$f":"'14'!$CT$77","v":0},14,{"$f":"VLOOKUP(DS2089,Přehled!$C$5:$AL$24,36)","v":""}]
[null,null,null,null,null,null,null,null,null,null,null,null,null,null,null,null,null,null,null,null,null,null,null,null,null,null,null,null,null,null,null,null,null,null,null,null,null,null,null,null,null,null,null,null,null,null,null,null,null,null,null,null,null,null,null,null,null,null,null,null,null,null,null,null,null,null,null,null,{"$f":"'14'!$AO$87","v":0},{"$f":"'14'!$AP$87","v":0},{"$f":"'14'!$AQ$87","v":0},{"$f":"'14'!$AR$87","v":0},{"$f":"'14'!$AS$87","v":0},{"$f":"'14'!$AT$87","v":0},14,{"$f":"VLOOKUP(BW2099,Přehled!$C$5:$AL$24,36)","v":""},null,null,null,null,null,null,null,null,null,null,null,null,null,null,null,null,null,null,null,null,{"$f":"'14'!$BP$87","v":0},{"$f":"'14'!$BQ$87","v":0},{"$f":"'14'!$BR$87","v":0},{"$f":"'14'!$BS$87","v":0},{"$f":"'14'!$BT$87","v":0},{"$f":"'14'!$BU$87","v":0},14,{"$f":"VLOOKUP(CY2099,Přehled!$C$5:$AL$24,36)","v":""},null,null,null,null,null,null,null,null,null,null,null,null,null,null,null,{"$f":"'14'!$CR$87","v":0},{"$f":"'14'!$CS$87","v":0},{"$f":"'14'!$CT$87","v":0},14,{"$f":"VLOOKUP(DS2099,Přehled!$C$5:$AL$24,36)","v":""}]
[null,null,null,null,null,null,null,null,null,null,null,null,null,null,null,null,null,null,null,null,null,null,null,null,null,null,null,null,null,null,null,null,null,null,null,null,null,null,null,null,null,null,null,null,null,null,null,null,null,null,null,null,null,null,null,null,null,null,null,null,null,null,null,null,null,null,null,null,{"$f":"'14'!$AO$99","v":0},{"$f":"'14'!$AP$99","v":0},{"$f":"'14'!$AQ$99","v":0},{"$f":"'14'!$AR$99","v":0},{"$f":"'14'!$AS$99","v":0},{"$f":"'14'!$AT$99","v":0},14,{"$f":"VLOOKUP(BW2111,Přehled!$C$5:$AL$24,36)","v":""},null,null,null,null,null,null,null,null,null,null,null,null,null,null,null,null,null,null,null,null,{"$f":"'14'!$BP$99","v":0},{"$f":"'14'!$BQ$99","v":0},{"$f":"'14'!$BR$99","v":0},{"$f":"'14'!$BS$99","v":0},{"$f":"'14'!$BT$99","v":0},{"$f":"'14'!$BU$99","v":0},14,{"$f":"VLOOKUP(CY2111,Přehled!$C$5:$AL$24,36)","v":""},null,null,null,null,null,null,null,null,null,null,null,null,null,null,null,{"$f":"'14'!$CR$99","v":0},{"$f":"'14'!$CS$99","v":0},{"$f":"'14'!$CT$99","v":0},14,{"$f":"VLOOKUP(DS2111,Přehled!$C$5:$AL$24,36)","v":""}]
[null,null,null,null,null,null,null,null,null,null,null,null,null,null,null,null,null,null,null,null,null,null,null,null,null,null,null,null,null,null,null,null,null,null,null,null,null,null,null,null,null,null,null,null,null,null,null,null,null,null,null,null,null,null,null,null,null,null,null,null,null,null,null,null,null,null,null,null,{"$f":"'14'!$AO$111","v":0},{"$f":"'14'!$AP$111","v":0},{"$f":"'14'!$AQ$111","v":0},{"$f":"'14'!$AR$111","v":0},{"$f":"'14'!$AS$111","v":0},{"$f":"'14'!$AT$111","v":0},14,{"$f":"VLOOKUP(BW2123,Přehled!$C$5:$AL$24,36)","v":""},null,null,null,null,null,null,null,null,null,null,null,null,null,null,null,null,null,null,null,null,{"$f":"'14'!$BP$111","v":0},{"$f":"'14'!$BQ$111","v":0},{"$f":"'14'!$BR$111","v":0},{"$f":"'14'!$BS$111","v":0},{"$f":"'14'!$BT$111","v":0},{"$f":"'14'!$BU$111","v":0},14,{"$f":"VLOOKUP(CY2123,Přehled!$C$5:$AL$24,36)","v":""},null,null,null,null,null,null,null,null,null,null,null,null,null,null,null,{"$f":"'14'!$CR$111","v":0},{"$f":"'14'!$CS$111","v":0},{"$f":"'14'!$CT$111","v":0},14,{"$f":"VLOOKUP(DS2123,Přehled!$C$5:$AL$24,36)","v":""}]
[null,null,null,null,null,null,null,null,null,null,null,null,null,null,null,null,null,null,null,null,null,null,null,null,null,null,null,null,null,null,null,null,null,null,null,null,null,null,null,null,null,null,null,null,null,null,null,null,null,null,null,null,null,null,null,null,null,null,null,null,null,null,null,null,null,null,null,null,{"$f":"'14'!$AO$121","v":0},{"$f":"'14'!$AP$121","v":0},{"$f":"'14'!$AQ$121","v":0},{"$f":"'14'!$AR$121","v":0},{"$f":"'14'!$AS$121","v":0},{"$f":"'14'!$AT$121","v":0},14,{"$f":"VLOOKUP(BW2133,Přehled!$C$5:$AL$24,36)","v":""},null,null,null,null,null,null,null,null,null,null,null,null,null,null,null,null,null,null,null,null,{"$f":"'14'!$BP$121","v":0},{"$f":"'14'!$BQ$121","v":0},{"$f":"'14'!$BR$121","v":0},{"$f":"'14'!$BS$121","v":0},{"$f":"'14'!$BT$121","v":0},{"$f":"'14'!$BU$121","v":0},14,{"$f":"VLOOKUP(CY2133,Přehled!$C$5:$AL$24,36)","v":""},null,null,null,null,null,null,null,null,null,null,null,null,null,null,null,{"$f":"'14'!$CR$121","v":0},{"$f":"'14'!$CS$121","v":0},{"$f":"'14'!$CT$121","v":0},14,{"$f":"VLOOKUP(DS2133,Přehled!$C$5:$AL$24,36)","v":""}]
[null,null,null,null,null,null,null,null,null,null,null,null,null,null,null,null,null,null,null,null,null,null,null,null,null,null,null,null,null,null,null,null,null,null,null,null,null,null,null,null,null,null,null,null,null,null,null,null,null,null,null,null,null,null,null,null,null,null,null,null,null,null,null,null,null,null,null,null,{"$f":"'14'!$AO$127","v":0},{"$f":"'14'!$AP$127","v":0},{"$f":"'14'!$AQ$127","v":0},{"$f":"'14'!$AR$127","v":0},{"$f":"'14'!$AS$127","v":0},{"$f":"'14'!$AT$127","v":0},14,{"$f":"VLOOKUP(BW2139,Přehled!$C$5:$AL$24,36)","v":""},null,null,null,null,null,null,null,null,null,null,null,null,null,null,null,null,null,null,null,null,{"$f":"'14'!$BP$127","v":0},{"$f":"'14'!$BQ$127","v":0},{"$f":"'14'!$BR$127","v":0},{"$f":"'14'!$BS$127","v":0},{"$f":"'14'!$BT$127","v":0},{"$f":"'14'!$BU$127","v":0},14,{"$f":"VLOOKUP(CY2139,Přehled!$C$5:$AL$24,36)","v":""},null,null,null,null,null,null,null,null,null,null,null,null,null,null,null,{"$f":"'14'!$CR$127","v":0},{"$f":"'14'!$CS$127","v":0},{"$f":"'14'!$CT$127","v":0},14,{"$f":"VLOOKUP(DS2139,Přehled!$C$5:$AL$24,36)","v":""}]
[null,null,null,null,null,null,null,null,null,null,null,null,null,null,null,null,null,null,null,null,null,null,null,null,null,null,null,null,null,null,null,null,null,null,null,null,null,null,null,null,null,null,null,null,null,null,null,null,null,null,null,null,null,null,null,null,null,null,null,null,null,null,null,null,null,null,null,null,{"$f":"'14'!$AO$144","v":0},{"$f":"'14'!$AP$144","v":0},{"$f":"'14'!$AQ$144","v":0},{"$f":"'14'!$AR$144","v":0},{"$f":"'14'!$AS$144","v":0},{"$f":"'14'!$AT$144","v":0},14,{"$f":"VLOOKUP(BW2156,Přehled!$C$5:$AL$24,36)","v":""},null,null,null,null,null,null,null,null,null,null,null,null,null,null,null,null,null,null,null,null,{"$f":"'14'!$BP$144","v":0},{"$f":"'14'!$BQ$144","v":0},{"$f":"'14'!$BR$144","v":0},{"$f":"'14'!$BS$144","v":0},{"$f":"'14'!$BT$144","v":0},{"$f":"'14'!$BU$144","v":0},14,{"$f":"VLOOKUP(CY2156,Přehled!$C$5:$AL$24,36)","v":""},null,null,null,null,null,null,null,null,null,null,null,null,null,null,null,{"$f":"'14'!$CR$144","v":0},{"$f":"'14'!$CS$144","v":0},{"$f":"'14'!$CT$144","v":0},14,{"$f":"VLOOKUP(DS2156,Přehled!$C$5:$AL$24,36)","v":""}]
[null,null,null,null,null,null,null,null,null,null,null,null,null,null,null,null,null,null,null,null,null,null,null,null,null,null,null,null,null,null,null,null,null,null,null,null,null,null,null,null,null,null,null,null,null,null,null,null,null,null,null,null,null,null,null,null,null,null,null,null,null,null,null,null,null,null,null,null,{"$f":"'14'!$AO$154","v":0},{"$f":"'14'!$AP$154","v":0},{"$f":"'14'!$AQ$154","v":0},{"$f":"'14'!$AR$154","v":0},{"$f":"'14'!$AS$154","v":0},{"$f":"'14'!$AT$154","v":0},14,{"$f":"VLOOKUP(BW2166,Přehled!$C$5:$AL$24,36)","v":""},null,null,null,null,null,null,null,null,null,null,null,null,null,null,null,null,null,null,null,null,{"$f":"'14'!$BP$154","v":0},{"$f":"'14'!$BQ$154","v":0},{"$f":"'14'!$BR$154","v":0},{"$f":"'14'!$BS$154","v":0},{"$f":"'14'!$BT$154","v":0},{"$f":"'14'!$BU$154","v":0},14,{"$f":"VLOOKUP(CY2166,Přehled!$C$5:$AL$24,36)","v":""},null,null,null,null,null,null,null,null,null,null,null,null,null,null,null,{"$f":"'14'!$CR$154","v":0},{"$f":"'14'!$CS$154","v":0},{"$f":"'14'!$CT$154","v":0},14,{"$f":"VLOOKUP(DS2166,Přehled!$C$5:$AL$24,36)","v":""}]
[null,null,null,null,null,null,null,null,null,null,null,null,null,null,null,null,null,null,null,null,null,null,null,null,null,null,null,null,null,null,null,null,null,null,null,null,null,null,null,null,null,null,null,null,null,null,null,null,null,null,null,null,null,null,null,null,null,null,null,null,null,null,null,null,null,null,null,null,{"$f":"'15'!$AO$13","v":0},{"$f":"'15'!$AP$13","v":0},{"$f":"'15'!$AQ$13","v":0},{"$f":"'15'!$AR$13","v":0},{"$f":"'15'!$AS$13","v":0},{"$f":"'15'!$AT$13","v":0},15,{"$f":"VLOOKUP(BW2180,Přehled!$C$5:$AL$24,36)","v":""},null,null,null,null,null,null,null,null,null,null,null,null,null,null,null,null,null,null,null,null,{"$f":"'15'!$BP$13","v":0},{"$f":"'15'!$BQ$13","v":0},{"$f":"'15'!$BR$13","v":0},{"$f":"'15'!$BS$13","v":0},{"$f":"'15'!$BT$13","v":0},{"$f":"'15'!$BU$13","v":0},15,{"$f":"VLOOKUP(CY2180,Přehled!$C$5:$AL$24,36)","v":""},null,null,null,null,null,null,null,null,null,null,null,null,null,null,null,{"$f":"'15'!$CR$13","v":0},{"$f":"'15'!$CS$13","v":0},{"$f":"'15'!$CT$13","v":0},15,{"$f":"VLOOKUP(DS2180,Přehled!$C$5:$AL$24,36)","v":""}]
[null,null,null,null,null,null,null,null,null,null,null,null,null,null,null,null,null,null,null,null,null,null,null,null,null,null,null,null,null,null,null,null,null,null,null,null,null,null,null,null,null,null,null,null,null,null,null,null,null,null,null,null,null,null,null,null,null,null,null,null,null,null,null,null,null,null,null,null,{"$f":"'15'!$AO$16","v":0},{"$f":"'15'!$AP$16","v":0},{"$f":"'15'!$AQ$16","v":0},{"$f":"'15'!$AR$16","v":0},{"$f":"'15'!$AS$16","v":0},{"$f":"'15'!$AT$16","v":0},15,{"$f":"VLOOKUP(BW2183,Přehled!$C$5:$AL$24,36)","v":""},null,null,null,null,null,null,null,null,null,null,null,null,null,null,null,null,null,null,null,null,{"$f":"'15'!$BP$16","v":0},{"$f":"'15'!$BQ$16","v":0},{"$f":"'15'!$BR$16","v":0},{"$f":"'15'!$BS$16","v":0},{"$f":"'15'!$BT$16","v":0},{"$f":"'15'!$BU$16","v":0},15,{"$f":"VLOOKUP(CY2183,Přehled!$C$5:$AL$24,36)","v":""},null,null,null,null,null,null,null,null,null,null,null,null,null,null,null,{"$f":"'15'!$CR$16","v":0},{"$f":"'15'!$CS$16","v":0},{"$f":"'15'!$CT$16","v":0},15,{"$f":"VLOOKUP(DS2183,Přehled!$C$5:$AL$24,36)","v":""}]
[null,null,null,null,null,null,null,null,null,null,null,null,null,null,null,null,null,null,null,null,null,null,null,null,null,null,null,null,null,null,null,null,null,null,null,null,null,null,null,null,null,null,null,null,null,null,null,null,null,null,null,null,null,null,null,null,null,null,null,null,null,null,null,null,null,null,null,null,{"$f":"'15'!$AO$33","v":0},{"$f":"'15'!$AP$33","v":0},{"$f":"'15'!$AQ$33","v":0},{"$f":"'15'!$AR$33","v":0},{"$f":"'15'!$AS$33","v":0},{"$f":"'15'!$AT$33","v":0},15,{"$f":"VLOOKUP(BW2200,Přehled!$C$5:$AL$24,36)","v":""},null,null,null,null,null,null,null,null,null,null,null,null,null,null,null,null,null,null,null,null,{"$f":"'15'!$BP$33","v":0},{"$f":"'15'!$BQ$33","v":0},{"$f":"'15'!$BR$33","v":0},{"$f":"'15'!$BS$33","v":0},{"$f":"'15'!$BT$33","v":0},{"$f":"'15'!$BU$33","v":0},15,{"$f":"VLOOKUP(CY2200,Přehled!$C$5:$AL$24,36)","v":""},null,null,null,null,null,null,null,null,null,null,null,null,null,null,null,{"$f":"'15'!$CR$33","v":0},{"$f":"'15'!$CS$33","v":0},{"$f":"'15'!$CT$33","v":0},15,{"$f":"VLOOKUP(DS2200,Přehled!$C$5:$AL$24,36)","v":""}]
[null,null,null,null,null,null,null,null,null,null,null,null,null,null,null,null,null,null,null,null,null,null,null,null,null,null,null,null,null,null,null,null,null,null,null,null,null,null,null,null,null,null,null,null,null,null,null,null,null,null,null,null,null,null,null,null,null,null,null,null,null,null,null,null,null,null,null,null,{"$f":"'15'!$AO$39","v":0},{"$f":"'15'!$AP$39","v":0},{"$f":"'15'!$AQ$39","v":0},{"$f":"'15'!$AR$39","v":0},{"$f":"'15'!$AS$39","v":0},{"$f":"'15'!$AT$39","v":0},15,{"$f":"VLOOKUP(BW2206,Přehled!$C$5:$AL$24,36)","v":""},null,null,null,null,null,null,null,null,null,null,null,null,null,null,null,null,null,null,null,null,{"$f":"'15'!$BP$39","v":0},{"$f":"'15'!$BQ$39","v":0},{"$f":"'15'!$BR$39","v":0},{"$f":"'15'!$BS$39","v":0},{"$f":"'15'!$BT$39","v":0},{"$f":"'15'!$BU$39","v":0},15,{"$f":"VLOOKUP(CY2206,Přehled!$C$5:$AL$24,36)","v":""},null,null,null,null,null,null,null,null,null,null,null,null,null,null,null,{"$f":"'15'!$CR$39","v":0},{"$f":"'15'!$CS$39","v":0},{"$f":"'15'!$CT$39","v":0},15,{"$f":"VLOOKUP(DS2206,Přehled!$C$5:$AL$24,36)","v":""}]
[null,null,null,null,null,null,null,null,null,null,null,null,null,null,null,null,null,null,null,null,null,null,null,null,null,null,null,null,null,null,null,null,null,null,null,null,null,null,null,null,null,null,null,null,null,null,null,null,null,null,null,null,null,null,null,null,null,null,null,null,null,null,null,null,null,null,null,null,{"$f":"'15'!$AO$49","v":0},{"$f":"'15'!$AP$49","v":0},{"$f":"'15'!$AQ$49","v":0},{"$f":"'15'!$AR$49","v":0},{"$f":"'15'!$AS$49","v":0},{"$f":"'15'!$AT$49","v":0},15,{"$f":"VLOOKUP(BW2216,Přehled!$C$5:$AL$24,36)","v":""},null,null,null,null,null,null,null,null,null,null,null,null,null,null,null,null,null,null,null,null,{"$f":"'15'!$BP$49","v":0},{"$f":"'15'!$BQ$49","v":0},{"$f":"'15'!$BR$49","v":0},{"$f":"'15'!$BS$49","v":0},{"$f":"'15'!$BT$49","v":0},{"$f":"'15'!$BU$49","v":0},15,{"$f":"VLOOKUP(CY2216,Přehled!$C$5:$AL$24,36)","v":""},null,null,null,null,null,null,null,null,null,null,null,null,null,null,null,{"$f":"'15'!$CR$49","v":0},{"$f":"'15'!$CS$49","v":0},{"$f":"'15'!$CT$49","v":0},15,{"$f":"VLOOKUP(DS2216,Přehled!$C$5:$AL$24,36)","v":""}]
[null,null,null,null,null,null,null,null,null,null,null,null,null,null,null,null,null,null,null,null,null,null,null,null,null,null,null,null,null,null,null,null,null,null,null,null,null,null,null,null,null,null,null,null,null,null,null,null,null,null,null,null,null,null,null,null,null,null,null,null,null,null,null,null,null,null,null,null,{"$f":"'15'!$AO$66","v":0},{"$f":"'15'!$AP$66","v":0},{"$f":"'15'!$AQ$66","v":0},{"$f":"'15'!$AR$66","v":0},{"$f":"'15'!$AS$66","v":0},{"$f":"'15'!$AT$66","v":0},15,{"$f":"VLOOKUP(BW2233,Přehled!$C$5:$AL$24,36)","v":""},null,null,null,null,null,null,null,null,null,null,null,null,null,null,null,null,null,null,null,null,{"$f":"'15'!$BP$66","v":0},{"$f":"'15'!$BQ$66","v":0},{"$f":"'15'!$BR$66","v":0},{"$f":"'15'!$BS$66","v":0},{"$f":"'15'!$BT$66","v":0},{"$f":"'15'!$BU$66","v":0},15,{"$f":"VLOOKUP(CY2233,Přehled!$C$5:$AL$24,36)","v":""},null,null,null,null,null,null,null,null,null,null,null,null,null,null,null,{"$f":"'15'!$CR$66","v":0},{"$f":"'15'!$CS$66","v":0},{"$f":"'15'!$CT$66","v":0},15,{"$f":"VLOOKUP(DS2233,Přehled!$C$5:$AL$24,36)","v":""}]
[null,null,null,null,null,null,null,null,null,null,null,null,null,null,null,null,null,null,null,null,null,null,null,null,null,null,null,null,null,null,null,null,null,null,null,null,null,null,null,null,null,null,null,null,null,null,null,null,null,null,null,null,null,null,null,null,null,null,null,null,null,null,null,null,null,null,null,null,{"$f":"'15'!$AO$82","v":0},{"$f":"'15'!$AP$82","v":0},{"$f":"'15'!$AQ$82","v":0},{"$f":"'15'!$AR$82","v":0},{"$f":"'15'!$AS$82","v":0},{"$f":"'15'!$AT$82","v":0},15,{"$f":"VLOOKUP(BW2249,Přehled!$C$5:$AL$24,36)","v":""},null,null,null,null,null,null,null,null,null,null,null,null,null,null,null,null,null,null,null,null,{"$f":"'15'!$BP$82","v":0},{"$f":"'15'!$BQ$82","v":0},{"$f":"'15'!$BR$82","v":0},{"$f":"'15'!$BS$82","v":0},{"$f":"'15'!$BT$82","v":0},{"$f":"'15'!$BU$82","v":0},15,{"$f":"VLOOKUP(CY2249,Přehled!$C$5:$AL$24,36)","v":""},null,null,null,null,null,null,null,null,null,null,null,null,null,null,null,{"$f":"'15'!$CR$82","v":0},{"$f":"'15'!$CS$82","v":0},{"$f":"'15'!$CT$82","v":0},15,{"$f":"VLOOKUP(DS2249,Přehled!$C$5:$AL$24,36)","v":""}]
[null,null,null,null,null,null,null,null,null,null,null,null,null,null,null,null,null,null,null,null,null,null,null,null,null,null,null,null,null,null,null,null,null,null,null,null,null,null,null,null,null,null,null,null,null,null,null,null,null,null,null,null,null,null,null,null,null,null,null,null,null,null,null,null,null,null,null,null,{"$f":"'15'!$AO$83","v":0},{"$f":"'15'!$AP$83","v":0},{"$f":"'15'!$AQ$83","v":0},{"$f":"'15'!$AR$83","v":0},{"$f":"'15'!$AS$83","v":0},{"$f":"'15'!$AT$83","v":0},15,{"$f":"VLOOKUP(BW2250,Přehled!$C$5:$AL$24,36)","v":""},null,null,null,null,null,null,null,null,null,null,null,null,null,null,null,null,null,null,null,null,{"$f":"'15'!$BP$83","v":0},{"$f":"'15'!$BQ$83","v":0},{"$f":"'15'!$BR$83","v":0},{"$f":"'15'!$BS$83","v":0},{"$f":"'15'!$BT$83","v":0},{"$f":"'15'!$BU$83","v":0},15,{"$f":"VLOOKUP(CY2250,Přehled!$C$5:$AL$24,36)","v":""},null,null,null,null,null,null,null,null,null,null,null,null,null,null,null,{"$f":"'15'!$CR$83","v":0},{"$f":"'15'!$CS$83","v":0},{"$f":"'15'!$CT$83","v":0},15,{"$f":"VLOOKUP(DS2250,Přehled!$C$5:$AL$24,36)","v":""}]
[null,null,null,null,null,null,null,null,null,null,null,null,null,null,null,null,null,null,null,null,null,null,null,null,null,null,null,null,null,null,null,null,null,null,null,null,null,null,null,null,null,null,null,null,null,null,null,null,null,null,null,null,null,null,null,null,null,null,null,null,null,null,null,null,null,null,null,null,{"$f":"'15'!$AO$100","v":0},{"$f":"'15'!$AP$100","v":0},{"$f":"'15'!$AQ$100","v":0},{"$f":"'15'!$AR$100","v":0},{"$f":"'15'!$AS$100","v":0},{"$f":"'15'!$AT$100","v":0},15,{"$f":"VLOOKUP(BW2267,Přehled!$C$5:$AL$24,36)","v":""},null,null,null,null,null,null,null,null,null,null,null,null,null,null,null,null,null,null,null,null,{"$f":"'15'!$BP$100","v":0},{"$f":"'15'!$BQ$100","v":0},{"$f":"'15'!$BR$100","v":0},{"$f":"'15'!$BS$100","v":0},{"$f":"'15'!$BT$100","v":0},{"$f":"'15'!$BU$100","v":0},15,{"$f":"VLOOKUP(CY2267,Přehled!$C$5:$AL$24,36)","v":""},null,null,null,null,null,null,null,null,null,null,null,null,null,null,null,{"$f":"'15'!$CR$100","v":0},{"$f":"'15'!$CS$100","v":0},{"$f":"'15'!$CT$100","v":0},15,{"$f":"VLOOKUP(DS2267,Přehled!$C$5:$AL$24,36)","v":""}]
[null,null,null,null,null,null,null,null,null,null,null,null,null,null,null,null,null,null,null,null,null,null,null,null,null,null,null,null,null,null,null,null,null,null,null,null,null,null,null,null,null,null,null,null,null,null,null,null,null,null,null,null,null,null,null,null,null,null,null,null,null,null,null,null,null,null,null,null,{"$f":"'15'!$AO$110","v":0},{"$f":"'15'!$AP$110","v":0},{"$f":"'15'!$AQ$110","v":0},{"$f":"'15'!$AR$110","v":0},{"$f":"'15'!$AS$110","v":0},{"$f":"'15'!$AT$110","v":0},15,{"$f":"VLOOKUP(BW2277,Přehled!$C$5:$AL$24,36)","v":""},null,null,null,null,null,null,null,null,null,null,null,null,null,null,null,null,null,null,null,null,{"$f":"'15'!$BP$110","v":0},{"$f":"'15'!$BQ$110","v":0},{"$f":"'15'!$BR$110","v":0},{"$f":"'15'!$BS$110","v":0},{"$f":"'15'!$BT$110","v":0},{"$f":"'15'!$BU$110","v":0},15,{"$f":"VLOOKUP(CY2277,Přehled!$C$5:$AL$24,36)","v":""},null,null,null,null,null,null,null,null,null,null,null,null,null,null,null,{"$f":"'15'!$CR$110","v":0},{"$f":"'15'!$CS$110","v":0},{"$f":"'15'!$CT$110","v":0},15,{"$f":"VLOOKUP(DS2277,Přehled!$C$5:$AL$24,36)","v":""}]
[null,null,null,null,null,null,null,null,null,null,null,null,null,null,null,null,null,null,null,null,null,null,null,null,null,null,null,null,null,null,null,null,null,null,null,null,null,null,null,null,null,null,null,null,null,null,null,null,null,null,null,null,null,null,null,null,null,null,null,null,null,null,null,null,null,null,null,null,{"$f":"'15'!$AO$116","v":0},{"$f":"'15'!$AP$116","v":0},{"$f":"'15'!$AQ$116","v":0},{"$f":"'15'!$AR$116","v":0},{"$f":"'15'!$AS$116","v":0},{"$f":"'15'!$AT$116","v":0},15,{"$f":"VLOOKUP(BW2283,Přehled!$C$5:$AL$24,36)","v":""},null,null,null,null,null,null,null,null,null,null,null,null,null,null,null,null,null,null,null,null,{"$f":"'15'!$BP$116","v":0},{"$f":"'15'!$BQ$116","v":0},{"$f":"'15'!$BR$116","v":0},{"$f":"'15'!$BS$116","v":0},{"$f":"'15'!$BT$116","v":0},{"$f":"'15'!$BU$116","v":0},15,{"$f":"VLOOKUP(CY2283,Přehled!$C$5:$AL$24,36)","v":""},null,null,null,null,null,null,null,null,null,null,null,null,null,null,null,{"$f":"'15'!$CR$116","v":0},{"$f":"'15'!$CS$116","v":0},{"$f":"'15'!$CT$116","v":0},15,{"$f":"VLOOKUP(DS2283,Přehled!$C$5:$AL$24,36)","v":""}]
[null,null,null,null,null,null,null,null,null,null,null,null,null,null,null,null,null,null,null,null,null,null,null,null,null,null,null,null,null,null,null,null,null,null,null,null,null,null,null,null,null,null,null,null,null,null,null,null,null,null,null,null,null,null,null,null,null,null,null,null,null,null,null,null,null,null,null,null,{"$f":"'15'!$AO$133","v":0},{"$f":"'15'!$AP$133","v":0},{"$f":"'15'!$AQ$133","v":0},{"$f":"'15'!$AR$133","v":0},{"$f":"'15'!$AS$133","v":0},{"$f":"'15'!$AT$133","v":0},15,{"$f":"VLOOKUP(BW2300,Přehled!$C$5:$AL$24,36)","v":""},null,null,null,null,null,null,null,null,null,null,null,null,null,null,null,null,null,null,null,null,{"$f":"'15'!$BP$133","v":0},{"$f":"'15'!$BQ$133","v":0},{"$f":"'15'!$BR$133","v":0},{"$f":"'15'!$BS$133","v":0},{"$f":"'15'!$BT$133","v":0},{"$f":"'15'!$BU$133","v":0},15,{"$f":"VLOOKUP(CY2300,Přehled!$C$5:$AL$24,36)","v":""},null,null,null,null,null,null,null,null,null,null,null,null,null,null,null,{"$f":"'15'!$CR$133","v":0},{"$f":"'15'!$CS$133","v":0},{"$f":"'15'!$CT$133","v":0},15,{"$f":"VLOOKUP(DS2300,Přehled!$C$5:$AL$24,36)","v":""}]
[null,null,null,null,null,null,null,null,null,null,null,null,null,null,null,null,null,null,null,null,null,null,null,null,null,null,null,null,null,null,null,null,null,null,null,null,null,null,null,null,null,null,null,null,null,null,null,null,null,null,null,null,null,null,null,null,null,null,null,null,null,null,null,null,null,null,null,null,{"$f":"'15'!$AO$143","v":0},{"$f":"'15'!$AP$143","v":0},{"$f":"'15'!$AQ$143","v":0},{"$f":"'15'!$AR$143","v":0},{"$f":"'15'!$AS$143","v":0},{"$f":"'15'!$AT$143","v":0},15,{"$f":"VLOOKUP(BW2310,Přehled!$C$5:$AL$24,36)","v":""},null,null,null,null,null,null,null,null,null,null,null,null,null,null,null,null,null,null,null,null,{"$f":"'15'!$BP$143","v":0},{"$f":"'15'!$BQ$143","v":0},{"$f":"'15'!$BR$143","v":0},{"$f":"'15'!$BS$143","v":0},{"$f":"'15'!$BT$143","v":0},{"$f":"'15'!$BU$143","v":0},15,{"$f":"VLOOKUP(CY2310,Přehled!$C$5:$AL$24,36)","v":""},null,null,null,null,null,null,null,null,null,null,null,null,null,null,null,{"$f":"'15'!$CR$143","v":0},{"$f":"'15'!$CS$143","v":0},{"$f":"'15'!$CT$143","v":0},15,{"$f":"VLOOKUP(DS2310,Přehled!$C$5:$AL$24,36)","v":""}]
[null,null,null,null,null,null,null,null,null,null,null,null,null,null,null,null,null,null,null,null,null,null,null,null,null,null,null,null,null,null,null,null,null,null,null,null,null,null,null,null,null,null,null,null,null,null,null,null,null,null,null,null,null,null,null,null,null,null,null,null,null,null,null,null,null,null,null,null,{"$f":"'15'!$AO$150","v":0},{"$f":"'15'!$AP$150","v":0},{"$f":"'15'!$AQ$150","v":0},{"$f":"'15'!$AR$150","v":0},{"$f":"'15'!$AS$150","v":0},{"$f":"'15'!$AT$150","v":0},15,{"$f":"VLOOKUP(BW2317,Přehled!$C$5:$AL$24,36)","v":""},null,null,null,null,null,null,null,null,null,null,null,null,null,null,null,null,null,null,null,null,{"$f":"'15'!$BP$150","v":0},{"$f":"'15'!$BQ$150","v":0},{"$f":"'15'!$BR$150","v":0},{"$f":"'15'!$BS$150","v":0},{"$f":"'15'!$BT$150","v":0},{"$f":"'15'!$BU$150","v":0},15,{"$f":"VLOOKUP(CY2317,Přehled!$C$5:$AL$24,36)","v":""},null,null,null,null,null,null,null,null,null,null,null,null,null,null,null,{"$f":"'15'!$CR$150","v":0},{"$f":"'15'!$CS$150","v":0},{"$f":"'15'!$CT$150","v":0},15,{"$f":"VLOOKUP(DS2317,Přehled!$C$5:$AL$24,36)","v":""}]
[null,null,null,null,null,null,null,null,null,null,null,null,null,null,null,null,null,null,null,null,null,null,null,null,null,null,null,null,null,null,null,null,null,null,null,null,null,null,null,null,null,null,null,null,null,null,null,null,null,null,null,null,null,null,null,null,null,null,null,null,null,null,null,null,null,null,null,null,{"$f":"'16'!$AO$16","v":0},{"$f":"'16'!$AP$16","v":0},{"$f":"'16'!$AQ$16","v":0},{"$f":"'16'!$AR$16","v":0},{"$f":"'16'!$AS$16","v":0},{"$f":"'16'!$AT$16","v":0},16,{"$f":"VLOOKUP(BW2338,Přehled!$C$5:$AL$24,36)","v":""},null,null,null,null,null,null,null,null,null,null,null,null,null,null,null,null,null,null,null,null,{"$f":"'16'!$BP$16","v":0},{"$f":"'16'!$BQ$16","v":0},{"$f":"'16'!$BR$16","v":0},{"$f":"'16'!$BS$16","v":0},{"$f":"'16'!$BT$16","v":0},{"$f":"'16'!$BU$16","v":0},16,{"$f":"VLOOKUP(CY2338,Přehled!$C$5:$AL$24,36)","v":""},null,null,null,null,null,null,null,null,null,null,null,null,null,null,null,{"$f":"'16'!$CR$16","v":0},{"$f":"'16'!$CS$16","v":0},{"$f":"'16'!$CT$16","v":0},16,{"$f":"VLOOKUP(DS2338,Přehled!$C$5:$AL$24,36)","v":""}]
[null,null,null,null,null,null,null,null,null,null,null,null,null,null,null,null,null,null,null,null,null,null,null,null,null,null,null,null,null,null,null,null,null,null,null,null,null,null,null,null,null,null,null,null,null,null,null,null,null,null,null,null,null,null,null,null,null,null,null,null,null,null,null,null,null,null,null,null,{"$f":"'16'!$AO$22","v":0},{"$f":"'16'!$AP$22","v":0},{"$f":"'16'!$AQ$22","v":0},{"$f":"'16'!$AR$22","v":0},{"$f":"'16'!$AS$22","v":0},{"$f":"'16'!$AT$22","v":0},16,{"$f":"VLOOKUP(BW2344,Přehled!$C$5:$AL$24,36)","v":""},null,null,null,null,null,null,null,null,null,null,null,null,null,null,null,null,null,null,null,null,{"$f":"'16'!$BP$22","v":0},{"$f":"'16'!$BQ$22","v":0},{"$f":"'16'!$BR$22","v":0},{"$f":"'16'!$BS$22","v":0},{"$f":"'16'!$BT$22","v":0},{"$f":"'16'!$BU$22","v":0},16,{"$f":"VLOOKUP(CY2344,Přehled!$C$5:$AL$24,36)","v":""},null,null,null,null,null,null,null,null,null,null,null,null,null,null,null,{"$f":"'16'!$CR$22","v":0},{"$f":"'16'!$CS$22","v":0},{"$f":"'16'!$CT$22","v":0},16,{"$f":"VLOOKUP(DS2344,Přehled!$C$5:$AL$24,36)","v":""}]
[null,null,null,null,null,null,null,null,null,null,null,null,null,null,null,null,null,null,null,null,null,null,null,null,null,null,null,null,null,null,null,null,null,null,null,null,null,null,null,null,null,null,null,null,null,null,null,null,null,null,null,null,null,null,null,null,null,null,null,null,null,null,null,null,null,null,null,null,{"$f":"'16'!$AO$28","v":0},{"$f":"'16'!$AP$28","v":0},{"$f":"'16'!$AQ$28","v":0},{"$f":"'16'!$AR$28","v":0},{"$f":"'16'!$AS$28","v":0},{"$f":"'16'!$AT$28","v":0},16,{"$f":"VLOOKUP(BW2350,Přehled!$C$5:$AL$24,36)","v":""},null,null,null,null,null,null,null,null,null,null,null,null,null,null,null,null,null,null,null,null,{"$f":"'16'!$BP$28","v":0},{"$f":"'16'!$BQ$28","v":0},{"$f":"'16'!$BR$28","v":0},{"$f":"'16'!$BS$28","v":0},{"$f":"'16'!$BT$28","v":0},{"$f":"'16'!$BU$28","v":0},16,{"$f":"VLOOKUP(CY2350,Přehled!$C$5:$AL$24,36)","v":""},null,null,null,null,null,null,null,null,null,null,null,null,null,null,null,{"$f":"'16'!$CR$28","v":0},{"$f":"'16'!$CS$28","v":0},{"$f":"'16'!$CT$28","v":0},16,{"$f":"VLOOKUP(DS2350,Přehled!$C$5:$AL$24,36)","v":""}]
[null,null,null,null,null,null,null,null,null,null,null,null,null,null,null,null,null,null,null,null,null,null,null,null,null,null,null,null,null,null,null,null,null,null,null,null,null,null,null,null,null,null,null,null,null,null,null,null,null,null,null,null,null,null,null,null,null,null,null,null,null,null,null,null,null,null,null,null,{"$f":"'16'!$AO$49","v":0},{"$f":"'16'!$AP$49","v":0},{"$f":"'16'!$AQ$49","v":0},{"$f":"'16'!$AR$49","v":0},{"$f":"'16'!$AS$49","v":0},{"$f":"'16'!$AT$49","v":0},16,{"$f":"VLOOKUP(BW2371,Přehled!$C$5:$AL$24,36)","v":""},null,null,null,null,null,null,null,null,null,null,null,null,null,null,null,null,null,null,null,null,{"$f":"'16'!$BP$49","v":0},{"$f":"'16'!$BQ$49","v":0},{"$f":"'16'!$BR$49","v":0},{"$f":"'16'!$BS$49","v":0},{"$f":"'16'!$BT$49","v":0},{"$f":"'16'!$BU$49","v":0},16,{"$f":"VLOOKUP(CY2371,Přehled!$C$5:$AL$24,36)","v":""},null,null,null,null,null,null,null,null,null,null,null,null,null,null,null,{"$f":"'16'!$CR$49","v":0},{"$f":"'16'!$CS$49","v":0},{"$f":"'16'!$CT$49","v":0},16,{"$f":"VLOOKUP(DS2371,Přehled!$C$5:$AL$24,36)","v":""}]
[null,null,null,null,null,null,null,null,null,null,null,null,null,null,null,null,null,null,null,null,null,null,null,null,null,null,null,null,null,null,null,null,null,null,null,null,null,null,null,null,null,null,null,null,null,null,null,null,null,null,null,null,null,null,null,null,null,null,null,null,null,null,null,null,null,null,null,null,{"$f":"'16'!$AO$57","v":0},{"$f":"'16'!$AP$57","v":0},{"$f":"'16'!$AQ$57","v":0},{"$f":"'16'!$AR$57","v":0},{"$f":"'16'!$AS$57","v":0},{"$f":"'16'!$AT$57","v":0},16,{"$f":"VLOOKUP(BW2379,Přehled!$C$5:$AL$24,36)","v":""},null,null,null,null,null,null,null,null,null,null,null,null,null,null,null,null,null,null,null,null,{"$f":"'16'!$BP$57","v":0},{"$f":"'16'!$BQ$57","v":0},{"$f":"'16'!$BR$57","v":0},{"$f":"'16'!$BS$57","v":0},{"$f":"'16'!$BT$57","v":0},{"$f":"'16'!$BU$57","v":0},16,{"$f":"VLOOKUP(CY2379,Přehled!$C$5:$AL$24,36)","v":""},null,null,null,null,null,null,null,null,null,null,null,null,null,null,null,{"$f":"'16'!$CR$57","v":0},{"$f":"'16'!$CS$57","v":0},{"$f":"'16'!$CT$57","v":0},16,{"$f":"VLOOKUP(DS2379,Přehled!$C$5:$AL$24,36)","v":""}]
[null,null,null,null,null,null,null,null,null,null,null,null,null,null,null,null,null,null,null,null,null,null,null,null,null,null,null,null,null,null,null,null,null,null,null,null,null,null,null,null,null,null,null,null,null,null,null,null,null,null,null,null,null,null,null,null,null,null,null,null,null,null,null,null,null,null,null,null,{"$f":"'16'!$AO$62","v":0},{"$f":"'16'!$AP$62","v":0},{"$f":"'16'!$AQ$62","v":0},{"$f":"'16'!$AR$62","v":0},{"$f":"'16'!$AS$62","v":0},{"$f":"'16'!$AT$62","v":0},16,{"$f":"VLOOKUP(BW2384,Přehled!$C$5:$AL$24,36)","v":""},null,null,null,null,null,null,null,null,null,null,null,null,null,null,null,null,null,null,null,null,{"$f":"'16'!$BP$62","v":0},{"$f":"'16'!$BQ$62","v":0},{"$f":"'16'!$BR$62","v":0},{"$f":"'16'!$BS$62","v":0},{"$f":"'16'!$BT$62","v":0},{"$f":"'16'!$BU$62","v":0},16,{"$f":"VLOOKUP(CY2384,Přehled!$C$5:$AL$24,36)","v":""},null,null,null,null,null,null,null,null,null,null,null,null,null,null,null,{"$f":"'16'!$CR$62","v":0},{"$f":"'16'!$CS$62","v":0},{"$f":"'16'!$CT$62","v":0},16,{"$f":"VLOOKUP(DS2384,Přehled!$C$5:$AL$24,36)","v":""}]
[null,null,null,null,null,null,null,null,null,null,null,null,null,null,null,null,null,null,null,null,null,null,null,null,null,null,null,null,null,null,null,null,null,null,null,null,null,null,null,null,null,null,null,null,null,null,null,null,null,null,null,null,null,null,null,null,null,null,null,null,null,null,null,null,null,null,null,null,{"$f":"'16'!$AO$83","v":0},{"$f":"'16'!$AP$83","v":0},{"$f":"'16'!$AQ$83","v":0},{"$f":"'16'!$AR$83","v":0},{"$f":"'16'!$AS$83","v":0},{"$f":"'16'!$AT$83","v":0},16,{"$f":"VLOOKUP(BW2405,Přehled!$C$5:$AL$24,36)","v":""},null,null,null,null,null,null,null,null,null,null,null,null,null,null,null,null,null,null,null,null,{"$f":"'16'!$BP$83","v":0},{"$f":"'16'!$BQ$83","v":0},{"$f":"'16'!$BR$83","v":0},{"$f":"'16'!$BS$83","v":0},{"$f":"'16'!$BT$83","v":0},{"$f":"'16'!$BU$83","v":0},16,{"$f":"VLOOKUP(CY2405,Přehled!$C$5:$AL$24,36)","v":""},null,null,null,null,null,null,null,null,null,null,null,null,null,null,null,{"$f":"'16'!$CR$83","v":0},{"$f":"'16'!$CS$83","v":0},{"$f":"'16'!$CT$83","v":0},16,{"$f":"VLOOKUP(DS2405,Přehled!$C$5:$AL$24,36)","v":""}]
[null,null,null,null,null,null,null,null,null,null,null,null,null,null,null,null,null,null,null,null,null,null,null,null,null,null,null,null,null,null,null,null,null,null,null,null,null,null,null,null,null,null,null,null,null,null,null,null,null,null,null,null,null,null,null,null,null,null,null,null,null,null,null,null,null,null,null,null,{"$f":"'16'!$AO$89","v":0},{"$f":"'16'!$AP$89","v":0},{"$f":"'16'!$AQ$89","v":0},{"$f":"'16'!$AR$89","v":0},{"$f":"'16'!$AS$89","v":0},{"$f":"'16'!$AT$89","v":0},16,{"$f":"VLOOKUP(BW2411,Přehled!$C$5:$AL$24,36)","v":""},null,null,null,null,null,null,null,null,null,null,null,null,null,null,null,null,null,null,null,null,{"$f":"'16'!$BP$89","v":0},{"$f":"'16'!$BQ$89","v":0},{"$f":"'16'!$BR$89","v":0},{"$f":"'16'!$BS$89","v":0},{"$f":"'16'!$BT$89","v":0},{"$f":"'16'!$BU$89","v":0},16,{"$f":"VLOOKUP(CY2411,Přehled!$C$5:$AL$24,36)","v":""},null,null,null,null,null,null,null,null,null,null,null,null,null,null,null,{"$f":"'16'!$CR$89","v":0},{"$f":"'16'!$CS$89","v":0},{"$f":"'16'!$CT$89","v":0},16,{"$f":"VLOOKUP(DS2411,Přehled!$C$5:$AL$24,36)","v":""}]
[null,null,null,null,null,null,null,null,null,null,null,null,null,null,null,null,null,null,null,null,null,null,null,null,null,null,null,null,null,null,null,null,null,null,null,null,null,null,null,null,null,null,null,null,null,null,null,null,null,null,null,null,null,null,null,null,null,null,null,null,null,null,null,null,null,null,null,null,{"$f":"'16'!$AO$99","v":0},{"$f":"'16'!$AP$99","v":0},{"$f":"'16'!$AQ$99","v":0},{"$f":"'16'!$AR$99","v":0},{"$f":"'16'!$AS$99","v":0},{"$f":"'16'!$AT$99","v":0},16,{"$f":"VLOOKUP(BW2421,Přehled!$C$5:$AL$24,36)","v":""},null,null,null,null,null,null,null,null,null,null,null,null,null,null,null,null,null,null,null,null,{"$f":"'16'!$BP$99","v":0},{"$f":"'16'!$BQ$99","v":0},{"$f":"'16'!$BR$99","v":0},{"$f":"'16'!$BS$99","v":0},{"$f":"'16'!$BT$99","v":0},{"$f":"'16'!$BU$99","v":0},16,{"$f":"VLOOKUP(CY2421,Přehled!$C$5:$AL$24,36)","v":""},null,null,null,null,null,null,null,null,null,null,null,null,null,null,null,{"$f":"'16'!$CR$99","v":0},{"$f":"'16'!$CS$99","v":0},{"$f":"'16'!$CT$99","v":0},16,{"$f":"VLOOKUP(DS2421,Přehled!$C$5:$AL$24,36)","v":""}]
[null,null,null,null,null,null,null,null,null,null,null,null,null,null,null,null,null,null,null,null,null,null,null,null,null,null,null,null,null,null,null,null,null,null,null,null,null,null,null,null,null,null,null,null,null,null,null,null,null,null,null,null,null,null,null,null,null,null,null,null,null,null,null,null,null,null,null,null,{"$f":"'16'!$AO$116","v":0},{"$f":"'16'!$AP$116","v":0},{"$f":"'16'!$AQ$116","v":0},{"$f":"'16'!$AR$116","v":0},{"$f":"'16'!$AS$116","v":0},{"$f":"'16'!$AT$116","v":0},16,{"$f":"VLOOKUP(BW2438,Přehled!$C$5:$AL$24,36)","v":""},null,null,null,null,null,null,null,null,null,null,null,null,null,null,null,null,null,null,null,null,{"$f":"'16'!$BP$116","v":0},{"$f":"'16'!$BQ$116","v":0},{"$f":"'16'!$BR$116","v":0},{"$f":"'16'!$BS$116","v":0},{"$f":"'16'!$BT$116","v":0},{"$f":"'16'!$BU$116","v":0},16,{"$f":"VLOOKUP(CY2438,Přehled!$C$5:$AL$24,36)","v":""},null,null,null,null,null,null,null,null,null,null,null,null,null,null,null,{"$f":"'16'!$CR$116","v":0},{"$f":"'16'!$CS$116","v":0},{"$f":"'16'!$CT$116","v":0},16,{"$f":"VLOOKUP(DS2438,Přehled!$C$5:$AL$24,36)","v":""}]
[null,null,null,null,null,null,null,null,null,null,null,null,null,null,null,null,null,null,null,null,null,null,null,null,null,null,null,null,null,null,null,null,null,null,null,null,null,null,null,null,null,null,null,null,null,null,null,null,null,null,null,null,null,null,null,null,null,null,null,null,null,null,null,null,null,null,null,null,{"$f":"'16'!$AO$126","v":0},{"$f":"'16'!$AP$126","v":0},{"$f":"'16'!$AQ$126","v":0},{"$f":"'16'!$AR$126","v":0},{"$f":"'16'!$AS$126","v":0},{"$f":"'16'!$AT$126","v":0},16,{"$f":"VLOOKUP(BW2448,Přehled!$C$5:$AL$24,36)","v":""},null,null,null,null,null,null,null,null,null,null,null,null,null,null,null,null,null,null,null,null,{"$f":"'16'!$BP$126","v":0},{"$f":"'16'!$BQ$126","v":0},{"$f":"'16'!$BR$126","v":0},{"$f":"'16'!$BS$126","v":0},{"$f":"'16'!$BT$126","v":0},{"$f":"'16'!$BU$126","v":0},16,{"$f":"VLOOKUP(CY2448,Přehled!$C$5:$AL$24,36)","v":""},null,null,null,null,null,null,null,null,null,null,null,null,null,null,null,{"$f":"'16'!$CR$126","v":0},{"$f":"'16'!$CS$126","v":0},{"$f":"'16'!$CT$126","v":0},16,{"$f":"VLOOKUP(DS2448,Přehled!$C$5:$AL$24,36)","v":""}]
[null,null,null,null,null,null,null,null,null,null,null,null,null,null,null,null,null,null,null,null,null,null,null,null,null,null,null,null,null,null,null,null,null,null,null,null,null,null,null,null,null,null,null,null,null,null,null,null,null,null,null,null,null,null,null,null,null,null,null,null,null,null,null,null,null,null,null,null,{"$f":"'16'!$AO$133","v":0},{"$f":"'16'!$AP$133","v":0},{"$f":"'16'!$AQ$133","v":0},{"$f":"'16'!$AR$133","v":0},{"$f":"'16'!$AS$133","v":0},{"$f":"'16'!$AT$133","v":0},16,{"$f":"VLOOKUP(BW2455,Přehled!$C$5:$AL$24,36)","v":""},null,null,null,null,null,null,null,null,null,null,null,null,null,null,null,null,null,null,null,null,{"$f":"'16'!$BP$133","v":0},{"$f":"'16'!$BQ$133","v":0},{"$f":"'16'!$BR$133","v":0},{"$f":"'16'!$BS$133","v":0},{"$f":"'16'!$BT$133","v":0},{"$f":"'16'!$BU$133","v":0},16,{"$f":"VLOOKUP(CY2455,Přehled!$C$5:$AL$24,36)","v":""},null,null,null,null,null,null,null,null,null,null,null,null,null,null,null,{"$f":"'16'!$CR$133","v":0},{"$f":"'16'!$CS$133","v":0},{"$f":"'16'!$CT$133","v":0},16,{"$f":"VLOOKUP(DS2455,Přehled!$C$5:$AL$24,36)","v":""}]
[null,null,null,null,null,null,null,null,null,null,null,null,null,null,null,null,null,null,null,null,null,null,null,null,null,null,null,null,null,null,null,null,null,null,null,null,null,null,null,null,null,null,null,null,null,null,null,null,null,null,null,null,null,null,null,null,null,null,null,null,null,null,null,null,null,null,null,null,{"$f":"'16'!$AO$150","v":0},{"$f":"'16'!$AP$150","v":0},{"$f":"'16'!$AQ$150","v":0},{"$f":"'16'!$AR$150","v":0},{"$f":"'16'!$AS$150","v":0},{"$f":"'16'!$AT$150","v":0},16,{"$f":"VLOOKUP(BW2472,Přehled!$C$5:$AL$24,36)","v":""},null,null,null,null,null,null,null,null,null,null,null,null,null,null,null,null,null,null,null,null,{"$f":"'16'!$BP$150","v":0},{"$f":"'16'!$BQ$150","v":0},{"$f":"'16'!$BR$150","v":0},{"$f":"'16'!$BS$150","v":0},{"$f":"'16'!$BT$150","v":0},{"$f":"'16'!$BU$150","v":0},16,{"$f":"VLOOKUP(CY2472,Přehled!$C$5:$AL$24,36)","v":""},null,null,null,null,null,null,null,null,null,null,null,null,null,null,null,{"$f":"'16'!$CR$150","v":0},{"$f":"'16'!$CS$150","v":0},{"$f":"'16'!$CT$150","v":0},16,{"$f":"VLOOKUP(DS2472,Přehled!$C$5:$AL$24,36)","v":""}]
[null,null,null,null,null,null,null,null,null,null,null,null,null,null,null,null,null,null,null,null,null,null,null,null,null,null,null,null,null,null,null,null,null,null,null,null,null,null,null,null,null,null,null,null,null,null,null,null,null,null,null,null,null,null,null,null,null,null,null,null,null,null,null,null,null,null,null,null,{"$f":"'16'!$AO$160","v":0},{"$f":"'16'!$AP$160","v":0},{"$f":"'16'!$AQ$160","v":0},{"$f":"'16'!$AR$160","v":0},{"$f":"'16'!$AS$160","v":0},{"$f":"'16'!$AT$160","v":0},16,{"$f":"VLOOKUP(BW2482,Přehled!$C$5:$AL$24,36)","v":""},null,null,null,null,null,null,null,null,null,null,null,null,null,null,null,null,null,null,null,null,{"$f":"'16'!$BP$160","v":0},{"$f":"'16'!$BQ$160","v":0},{"$f":"'16'!$BR$160","v":0},{"$f":"'16'!$BS$160","v":0},{"$f":"'16'!$BT$160","v":0},{"$f":"'16'!$BU$160","v":0},16,{"$f":"VLOOKUP(CY2482,Přehled!$C$5:$AL$24,36)","v":""},null,null,null,null,null,null,null,null,null,null,null,null,null,null,null,{"$f":"'16'!$CR$160","v":0},{"$f":"'16'!$CS$160","v":0},{"$f":"'16'!$CT$160","v":0},16,{"$f":"VLOOKUP(DS2482,Přehled!$C$5:$AL$24,36)","v":""}]
[null,null,null,null,null,null,null,null,null,null,null,null,null,null,null,null,null,null,null,null,null,null,null,null,null,null,null,null,null,null,null,null,null,null,null,null,null,null,null,null,null,null,null,null,null,null,null,null,null,null,null,null,null,null,null,null,null,null,null,null,null,null,null,null,null,null,null,null,{"$f":"'17'!$AO$11","v":0},{"$f":"'17'!$AP$11","v":0},{"$f":"'17'!$AQ$11","v":0},{"$f":"'17'!$AR$11","v":0},{"$f":"'17'!$AS$11","v":0},{"$f":"'17'!$AT$11","v":0},17,{"$f":"VLOOKUP(BW2488,Přehled!$C$5:$AL$24,36)","v":""},null,null,null,null,null,null,null,null,null,null,null,null,null,null,null,null,null,null,null,null,{"$f":"'17'!$BP$11","v":0},{"$f":"'17'!$BQ$11","v":0},{"$f":"'17'!$BR$11","v":0},{"$f":"'17'!$BS$11","v":0},{"$f":"'17'!$BT$11","v":0},{"$f":"'17'!$BU$11","v":0},17,{"$f":"VLOOKUP(CY2488,Přehled!$C$5:$AL$24,36)","v":""},null,null,null,null,null,null,null,null,null,null,null,null,null,null,null,{"$f":"'17'!$CR$11","v":0},{"$f":"'17'!$CS$11","v":0},{"$f":"'17'!$CT$11","v":0},17,{"$f":"VLOOKUP(DS2488,Přehled!$C$5:$AL$24,36)","v":""}]
[null,null,null,null,null,null,null,null,null,null,null,null,null,null,null,null,null,null,null,null,null,null,null,null,null,null,null,null,null,null,null,null,null,null,null,null,null,null,null,null,null,null,null,null,null,null,null,null,null,null,null,null,null,null,null,null,null,null,null,null,null,null,null,null,null,null,null,null,{"$f":"'17'!$AO$28","v":0},{"$f":"'17'!$AP$28","v":0},{"$f":"'17'!$AQ$28","v":0},{"$f":"'17'!$AR$28","v":0},{"$f":"'17'!$AS$28","v":0},{"$f":"'17'!$AT$28","v":0},17,{"$f":"VLOOKUP(BW2505,Přehled!$C$5:$AL$24,36)","v":""},null,null,null,null,null,null,null,null,null,null,null,null,null,null,null,null,null,null,null,null,{"$f":"'17'!$BP$28","v":0},{"$f":"'17'!$BQ$28","v":0},{"$f":"'17'!$BR$28","v":0},{"$f":"'17'!$BS$28","v":0},{"$f":"'17'!$BT$28","v":0},{"$f":"'17'!$BU$28","v":0},17,{"$f":"VLOOKUP(CY2505,Přehled!$C$5:$AL$24,36)","v":""},null,null,null,null,null,null,null,null,null,null,null,null,null,null,null,{"$f":"'17'!$CR$28","v":0},{"$f":"'17'!$CS$28","v":0},{"$f":"'17'!$CT$28","v":0},17,{"$f":"VLOOKUP(DS2505,Přehled!$C$5:$AL$24,36)","v":""}]
[null,null,null,null,null,null,null,null,null,null,null,null,null,null,null,null,null,null,null,null,null,null,null,null,null,null,null,null,null,null,null,null,null,null,null,null,null,null,null,null,null,null,null,null,null,null,null,null,null,null,null,null,null,null,null,null,null,null,null,null,null,null,null,null,null,null,null,null,{"$f":"'17'!$AO$32","v":0},{"$f":"'17'!$AP$32","v":0},{"$f":"'17'!$AQ$32","v":0},{"$f":"'17'!$AR$32","v":0},{"$f":"'17'!$AS$32","v":0},{"$f":"'17'!$AT$32","v":0},17,{"$f":"VLOOKUP(BW2509,Přehled!$C$5:$AL$24,36)","v":""},null,null,null,null,null,null,null,null,null,null,null,null,null,null,null,null,null,null,null,null,{"$f":"'17'!$BP$32","v":0},{"$f":"'17'!$BQ$32","v":0},{"$f":"'17'!$BR$32","v":0},{"$f":"'17'!$BS$32","v":0},{"$f":"'17'!$BT$32","v":0},{"$f":"'17'!$BU$32","v":0},17,{"$f":"VLOOKUP(CY2509,Přehled!$C$5:$AL$24,36)","v":""},null,null,null,null,null,null,null,null,null,null,null,null,null,null,null,{"$f":"'17'!$CR$32","v":0},{"$f":"'17'!$CS$32","v":0},{"$f":"'17'!$CT$32","v":0},17,{"$f":"VLOOKUP(DS2509,Přehled!$C$5:$AL$24,36)","v":""}]
[null,null,null,null,null,null,null,null,null,null,null,null,null,null,null,null,null,null,null,null,null,null,null,null,null,null,null,null,null,null,null,null,null,null,null,null,null,null,null,null,null,null,null,null,null,null,null,null,null,null,null,null,null,null,null,null,null,null,null,null,null,null,null,null,null,null,null,null,{"$f":"'17'!$AO$45","v":0},{"$f":"'17'!$AP$45","v":0},{"$f":"'17'!$AQ$45","v":0},{"$f":"'17'!$AR$45","v":0},{"$f":"'17'!$AS$45","v":0},{"$f":"'17'!$AT$45","v":0},17,{"$f":"VLOOKUP(BW2522,Přehled!$C$5:$AL$24,36)","v":""},null,null,null,null,null,null,null,null,null,null,null,null,null,null,null,null,null,null,null,null,{"$f":"'17'!$BP$45","v":0},{"$f":"'17'!$BQ$45","v":0},{"$f":"'17'!$BR$45","v":0},{"$f":"'17'!$BS$45","v":0},{"$f":"'17'!$BT$45","v":0},{"$f":"'17'!$BU$45","v":0},17,{"$f":"VLOOKUP(CY2522,Přehled!$C$5:$AL$24,36)","v":""},null,null,null,null,null,null,null,null,null,null,null,null,null,null,null,{"$f":"'17'!$CR$45","v":0},{"$f":"'17'!$CS$45","v":0},{"$f":"'17'!$CT$45","v":0},17,{"$f":"VLOOKUP(DS2522,Přehled!$C$5:$AL$24,36)","v":""}]
[null,null,null,null,null,null,null,null,null,null,null,null,null,null,null,null,null,null,null,null,null,null,null,null,null,null,null,null,null,null,null,null,null,null,null,null,null,null,null,null,null,null,null,null,null,null,null,null,null,null,null,null,null,null,null,null,null,null,null,null,null,null,null,null,null,null,null,null,{"$f":"'17'!$AO$62","v":0},{"$f":"'17'!$AP$62","v":0},{"$f":"'17'!$AQ$62","v":0},{"$f":"'17'!$AR$62","v":0},{"$f":"'17'!$AS$62","v":0},{"$f":"'17'!$AT$62","v":0},17,{"$f":"VLOOKUP(BW2539,Přehled!$C$5:$AL$24,36)","v":""},null,null,null,null,null,null,null,null,null,null,null,null,null,null,null,null,null,null,null,null,{"$f":"'17'!$BP$62","v":0},{"$f":"'17'!$BQ$62","v":0},{"$f":"'17'!$BR$62","v":0},{"$f":"'17'!$BS$62","v":0},{"$f":"'17'!$BT$62","v":0},{"$f":"'17'!$BU$62","v":0},17,{"$f":"VLOOKUP(CY2539,Přehled!$C$5:$AL$24,36)","v":""},null,null,null,null,null,null,null,null,null,null,null,null,null,null,null,{"$f":"'17'!$CR$62","v":0},{"$f":"'17'!$CS$62","v":0},{"$f":"'17'!$CT$62","v":0},17,{"$f":"VLOOKUP(DS2539,Přehled!$C$5:$AL$24,36)","v":""}]
[null,null,null,null,null,null,null,null,null,null,null,null,null,null,null,null,null,null,null,null,null,null,null,null,null,null,null,null,null,null,null,null,null,null,null,null,null,null,null,null,null,null,null,null,null,null,null,null,null,null,null,null,null,null,null,null,null,null,null,null,null,null,null,null,null,null,null,null,{"$f":"'17'!$AO$72","v":0},{"$f":"'17'!$AP$72","v":0},{"$f":"'17'!$AQ$72","v":0},{"$f":"'17'!$AR$72","v":0},{"$f":"'17'!$AS$72","v":0},{"$f":"'17'!$AT$72","v":0},17,{"$f":"VLOOKUP(BW2549,Přehled!$C$5:$AL$24,36)","v":""},null,null,null,null,null,null,null,null,null,null,null,null,null,null,null,null,null,null,null,null,{"$f":"'17'!$BP$72","v":0},{"$f":"'17'!$BQ$72","v":0},{"$f":"'17'!$BR$72","v":0},{"$f":"'17'!$BS$72","v":0},{"$f":"'17'!$BT$72","v":0},{"$f":"'17'!$BU$72","v":0},17,{"$f":"VLOOKUP(CY2549,Přehled!$C$5:$AL$24,36)","v":""},null,null,null,null,null,null,null,null,null,null,null,null,null,null,null,{"$f":"'17'!$CR$72","v":0},{"$f":"'17'!$CS$72","v":0},{"$f":"'17'!$CT$72","v":0},17,{"$f":"VLOOKUP(DS2549,Přehled!$C$5:$AL$24,36)","v":""}]
[null,null,null,null,null,null,null,null,null,null,null,null,null,null,null,null,null,null,null,null,null,null,null,null,null,null,null,null,null,null,null,null,null,null,null,null,null,null,null,null,null,null,null,null,null,null,null,null,null,null,null,null,null,null,null,null,null,null,null,null,null,null,null,null,null,null,null,null,{"$f":"'17'!$AO$78","v":0},{"$f":"'17'!$AP$78","v":0},{"$f":"'17'!$AQ$78","v":0},{"$f":"'17'!$AR$78","v":0},{"$f":"'17'!$AS$78","v":0},{"$f":"'17'!$AT$78","v":0},17,{"$f":"VLOOKUP(BW2555,Přehled!$C$5:$AL$24,36)","v":""},null,null,null,null,null,null,null,null,null,null,null,null,null,null,null,null,null,null,null,null,{"$f":"'17'!$BP$78","v":0},{"$f":"'17'!$BQ$78","v":0},{"$f":"'17'!$BR$78","v":0},{"$f":"'17'!$BS$78","v":0},{"$f":"'17'!$BT$78","v":0},{"$f":"'17'!$BU$78","v":0},17,{"$f":"VLOOKUP(CY2555,Přehled!$C$5:$AL$24,36)","v":""},null,null,null,null,null,null,null,null,null,null,null,null,null,null,null,{"$f":"'17'!$CR$78","v":0},{"$f":"'17'!$CS$78","v":0},{"$f":"'17'!$CT$78","v":0},17,{"$f":"VLOOKUP(DS2555,Přehled!$C$5:$AL$24,36)","v":""}]
[null,null,null,null,null,null,null,null,null,null,null,null,null,null,null,null,null,null,null,null,null,null,null,null,null,null,null,null,null,null,null,null,null,null,null,null,null,null,null,null,null,null,null,null,null,null,null,null,null,null,null,null,null,null,null,null,null,null,null,null,null,null,null,null,null,null,null,null,{"$f":"'17'!$AO$88","v":0},{"$f":"'17'!$AP$88","v":0},{"$f":"'17'!$AQ$88","v":0},{"$f":"'17'!$AR$88","v":0},{"$f":"'17'!$AS$88","v":0},{"$f":"'17'!$AT$88","v":0},17,{"$f":"VLOOKUP(BW2565,Přehled!$C$5:$AL$24,36)","v":""},null,null,null,null,null,null,null,null,null,null,null,null,null,null,null,null,null,null,null,null,{"$f":"'17'!$BP$88","v":0},{"$f":"'17'!$BQ$88","v":0},{"$f":"'17'!$BR$88","v":0},{"$f":"'17'!$BS$88","v":0},{"$f":"'17'!$BT$88","v":0},{"$f":"'17'!$BU$88","v":0},17,{"$f":"VLOOKUP(CY2565,Přehled!$C$5:$AL$24,36)","v":""},null,null,null,null,null,null,null,null,null,null,null,null,null,null,null,{"$f":"'17'!$CR$88","v":0},{"$f":"'17'!$CS$88","v":0},{"$f":"'17'!$CT$88","v":0},17,{"$f":"VLOOKUP(DS2565,Přehled!$C$5:$AL$24,36)","v":""}]
[null,null,null,null,null,null,null,null,null,null,null,null,null,null,null,null,null,null,null,null,null,null,null,null,null,null,null,null,null,null,null,null,null,null,null,null,null,null,null,null,null,null,null,null,null,null,null,null,null,null,null,null,null,null,null,null,null,null,null,null,null,null,null,null,null,null,null,null,{"$f":"'17'!$AO$101","v":0},{"$f":"'17'!$AP$101","v":0},{"$f":"'17'!$AQ$101","v":0},{"$f":"'17'!$AR$101","v":0},{"$f":"'17'!$AS$101","v":0},{"$f":"'17'!$AT$101","v":0},17,{"$f":"VLOOKUP(BW2578,Přehled!$C$5:$AL$24,36)","v":""},null,null,null,null,null,null,null,null,null,null,null,null,null,null,null,null,null,null,null,null,{"$f":"'17'!$BP$101","v":0},{"$f":"'17'!$BQ$101","v":0},{"$f":"'17'!$BR$101","v":0},{"$f":"'17'!$BS$101","v":0},{"$f":"'17'!$BT$101","v":0},{"$f":"'17'!$BU$101","v":0},17,{"$f":"VLOOKUP(CY2578,Přehled!$C$5:$AL$24,36)","v":""},null,null,null,null,null,null,null,null,null,null,null,null,null,null,null,{"$f":"'17'!$CR$101","v":0},{"$f":"'17'!$CS$101","v":0},{"$f":"'17'!$CT$101","v":0},17,{"$f":"VLOOKUP(DS2578,Přehled!$C$5:$AL$24,36)","v":""}]
[null,null,null,null,null,null,null,null,null,null,null,null,null,null,null,null,null,null,null,null,null,null,null,null,null,null,null,null,null,null,null,null,null,null,null,null,null,null,null,null,null,null,null,null,null,null,null,null,null,null,null,null,null,null,null,null,null,null,null,null,null,null,null,null,null,null,null,null,{"$f":"'17'!$AO$112","v":0},{"$f":"'17'!$AP$112","v":0},{"$f":"'17'!$AQ$112","v":0},{"$f":"'17'!$AR$112","v":0},{"$f":"'17'!$AS$112","v":0},{"$f":"'17'!$AT$112","v":0},17,{"$f":"VLOOKUP(BW2589,Přehled!$C$5:$AL$24,36)","v":""},null,null,null,null,null,null,null,null,null,null,null,null,null,null,null,null,null,null,null,null,{"$f":"'17'!$BP$112","v":0},{"$f":"'17'!$BQ$112","v":0},{"$f":"'17'!$BR$112","v":0},{"$f":"'17'!$BS$112","v":0},{"$f":"'17'!$BT$112","v":0},{"$f":"'17'!$BU$112","v":0},17,{"$f":"VLOOKUP(CY2589,Přehled!$C$5:$AL$24,36)","v":""},null,null,null,null,null,null,null,null,null,null,null,null,null,null,null,{"$f":"'17'!$CR$112","v":0},{"$f":"'17'!$CS$112","v":0},{"$f":"'17'!$CT$112","v":0},17,{"$f":"VLOOKUP(DS2589,Přehled!$C$5:$AL$24,36)","v":""}]
[null,null,null,null,null,null,null,null,null,null,null,null,null,null,null,null,null,null,null,null,null,null,null,null,null,null,null,null,null,null,null,null,null,null,null,null,null,null,null,null,null,null,null,null,null,null,null,null,null,null,null,null,null,null,null,null,null,null,null,null,null,null,null,null,null,null,null,null,{"$f":"'17'!$AO$122","v":0},{"$f":"'17'!$AP$122","v":0},{"$f":"'17'!$AQ$122","v":0},{"$f":"'17'!$AR$122","v":0},{"$f":"'17'!$AS$122","v":0},{"$f":"'17'!$AT$122","v":0},17,{"$f":"VLOOKUP(BW2599,Přehled!$C$5:$AL$24,36)","v":""},null,null,null,null,null,null,null,null,null,null,null,null,null,null,null,null,null,null,null,null,{"$f":"'17'!$BP$122","v":0},{"$f":"'17'!$BQ$122","v":0},{"$f":"'17'!$BR$122","v":0},{"$f":"'17'!$BS$122","v":0},{"$f":"'17'!$BT$122","v":0},{"$f":"'17'!$BU$122","v":0},17,{"$f":"VLOOKUP(CY2599,Přehled!$C$5:$AL$24,36)","v":""},null,null,null,null,null,null,null,null,null,null,null,null,null,null,null,{"$f":"'17'!$CR$122","v":0},{"$f":"'17'!$CS$122","v":0},{"$f":"'17'!$CT$122","v":0},17,{"$f":"VLOOKUP(DS2599,Přehled!$C$5:$AL$24,36)","v":""}]
[null,null,null,null,null,null,null,null,null,null,null,null,null,null,null,null,null,null,null,null,null,null,null,null,null,null,null,null,null,null,null,null,null,null,null,null,null,null,null,null,null,null,null,null,null,null,null,null,null,null,null,null,null,null,null,null,null,null,null,null,null,null,null,null,null,null,null,null,{"$f":"'17'!$AO$139","v":0},{"$f":"'17'!$AP$139","v":0},{"$f":"'17'!$AQ$139","v":0},{"$f":"'17'!$AR$139","v":0},{"$f":"'17'!$AS$139","v":0},{"$f":"'17'!$AT$139","v":0},17,{"$f":"VLOOKUP(BW2616,Přehled!$C$5:$AL$24,36)","v":""},null,null,null,null,null,null,null,null,null,null,null,null,null,null,null,null,null,null,null,null,{"$f":"'17'!$BP$139","v":0},{"$f":"'17'!$BQ$139","v":0},{"$f":"'17'!$BR$139","v":0},{"$f":"'17'!$BS$139","v":0},{"$f":"'17'!$BT$139","v":0},{"$f":"'17'!$BU$139","v":0},17,{"$f":"VLOOKUP(CY2616,Přehled!$C$5:$AL$24,36)","v":""},null,null,null,null,null,null,null,null,null,null,null,null,null,null,null,{"$f":"'17'!$CR$139","v":0},{"$f":"'17'!$CS$139","v":0},{"$f":"'17'!$CT$139","v":0},17,{"$f":"VLOOKUP(DS2616,Přehled!$C$5:$AL$24,36)","v":""}]
[null,null,null,null,null,null,null,null,null,null,null,null,null,null,null,null,null,null,null,null,null,null,null,null,null,null,null,null,null,null,null,null,null,null,null,null,null,null,null,null,null,null,null,null,null,null,null,null,null,null,null,null,null,null,null,null,null,null,null,null,null,null,null,null,null,null,null,null,{"$f":"'17'!$AO$145","v":0},{"$f":"'17'!$AP$145","v":0},{"$f":"'17'!$AQ$145","v":0},{"$f":"'17'!$AR$145","v":0},{"$f":"'17'!$AS$145","v":0},{"$f":"'17'!$AT$145","v":0},17,{"$f":"VLOOKUP(BW2622,Přehled!$C$5:$AL$24,36)","v":""},null,null,null,null,null,null,null,null,null,null,null,null,null,null,null,null,null,null,null,null,{"$f":"'17'!$BP$145","v":0},{"$f":"'17'!$BQ$145","v":0},{"$f":"'17'!$BR$145","v":0},{"$f":"'17'!$BS$145","v":0},{"$f":"'17'!$BT$145","v":0},{"$f":"'17'!$BU$145","v":0},17,{"$f":"VLOOKUP(CY2622,Přehled!$C$5:$AL$24,36)","v":""},null,null,null,null,null,null,null,null,null,null,null,null,null,null,null,{"$f":"'17'!$CR$145","v":0},{"$f":"'17'!$CS$145","v":0},{"$f":"'17'!$CT$145","v":0},17,{"$f":"VLOOKUP(DS2622,Přehled!$C$5:$AL$24,36)","v":""}]
[null,null,null,null,null,null,null,null,null,null,null,null,null,null,null,null,null,null,null,null,null,null,null,null,null,null,null,null,null,null,null,null,null,null,null,null,null,null,null,null,null,null,null,null,null,null,null,null,null,null,null,null,null,null,null,null,null,null,null,null,null,null,null,null,null,null,null,null,{"$f":"'17'!$AO$155","v":0},{"$f":"'17'!$AP$155","v":0},{"$f":"'17'!$AQ$155","v":0},{"$f":"'17'!$AR$155","v":0},{"$f":"'17'!$AS$155","v":0},{"$f":"'17'!$AT$155","v":0},17,{"$f":"VLOOKUP(BW2632,Přehled!$C$5:$AL$24,36)","v":""},null,null,null,null,null,null,null,null,null,null,null,null,null,null,null,null,null,null,null,null,{"$f":"'17'!$BP$155","v":0},{"$f":"'17'!$BQ$155","v":0},{"$f":"'17'!$BR$155","v":0},{"$f":"'17'!$BS$155","v":0},{"$f":"'17'!$BT$155","v":0},{"$f":"'17'!$BU$155","v":0},17,{"$f":"VLOOKUP(CY2632,Přehled!$C$5:$AL$24,36)","v":""},null,null,null,null,null,null,null,null,null,null,null,null,null,null,null,{"$f":"'17'!$CR$155","v":0},{"$f":"'17'!$CS$155","v":0},{"$f":"'17'!$CT$155","v":0},17,{"$f":"VLOOKUP(DS2632,Přehled!$C$5:$AL$24,36)","v":""}]
[null,null,null,null,null,null,null,null,null,null,null,null,null,null,null,null,null,null,null,null,null,null,null,null,null,null,null,null,null,null,null,null,null,null,null,null,null,null,null,null,null,null,null,null,null,null,null,null,null,null,null,null,null,null,null,null,null,null,null,null,null,null,null,null,null,null,null,null,{"$f":"'18'!$AO$15","v":0},{"$f":"'18'!$AP$15","v":0},{"$f":"'18'!$AQ$15","v":0},{"$f":"'18'!$AR$15","v":0},{"$f":"'18'!$AS$15","v":0},{"$f":"'18'!$AT$15","v":0},18,{"$f":"VLOOKUP(BW2647,Přehled!$C$5:$AL$24,36)","v":""},null,null,null,null,null,null,null,null,null,null,null,null,null,null,null,null,null,null,null,null,{"$f":"'18'!$BP$15","v":0},{"$f":"'18'!$BQ$15","v":0},{"$f":"'18'!$BR$15","v":0},{"$f":"'18'!$BS$15","v":0},{"$f":"'18'!$BT$15","v":0},{"$f":"'18'!$BU$15","v":0},18,{"$f":"VLOOKUP(CY2647,Přehled!$C$5:$AL$24,36)","v":""},null,null,null,null,null,null,null,null,null,null,null,null,null,null,null,{"$f":"'18'!$CR$15","v":0},{"$f":"'18'!$CS$15","v":0},{"$f":"'18'!$CT$15","v":0},18,{"$f":"VLOOKUP(DS2647,Přehled!$C$5:$AL$24,36)","v":""}]
[null,null,null,null,null,null,null,null,null,null,null,null,null,null,null,null,null,null,null,null,null,null,null,null,null,null,null,null,null,null,null,null,null,null,null,null,null,null,null,null,null,null,null,null,null,null,null,null,null,null,null,null,null,null,null,null,null,null,null,null,null,null,null,null,null,null,null,null,{"$f":"'18'!$AO$28","v":0},{"$f":"'18'!$AP$28","v":0},{"$f":"'18'!$AQ$28","v":0},{"$f":"'18'!$AR$28","v":0},{"$f":"'18'!$AS$28","v":0},{"$f":"'18'!$AT$28","v":0},18,{"$f":"VLOOKUP(BW2660,Přehled!$C$5:$AL$24,36)","v":""},null,null,null,null,null,null,null,null,null,null,null,null,null,null,null,null,null,null,null,null,{"$f":"'18'!$BP$28","v":0},{"$f":"'18'!$BQ$28","v":0},{"$f":"'18'!$BR$28","v":0},{"$f":"'18'!$BS$28","v":0},{"$f":"'18'!$BT$28","v":0},{"$f":"'18'!$BU$28","v":0},18,{"$f":"VLOOKUP(CY2660,Přehled!$C$5:$AL$24,36)","v":""},null,null,null,null,null,null,null,null,null,null,null,null,null,null,null,{"$f":"'18'!$CR$28","v":0},{"$f":"'18'!$CS$28","v":0},{"$f":"'18'!$CT$28","v":0},18,{"$f":"VLOOKUP(DS2660,Přehled!$C$5:$AL$24,36)","v":""}]
[null,null,null,null,null,null,null,null,null,null,null,null,null,null,null,null,null,null,null,null,null,null,null,null,null,null,null,null,null,null,null,null,null,null,null,null,null,null,null,null,null,null,null,null,null,null,null,null,null,null,null,null,null,null,null,null,null,null,null,null,null,null,null,null,null,null,null,null,{"$f":"'18'!$AO$34","v":0},{"$f":"'18'!$AP$34","v":0},{"$f":"'18'!$AQ$34","v":0},{"$f":"'18'!$AR$34","v":0},{"$f":"'18'!$AS$34","v":0},{"$f":"'18'!$AT$34","v":0},18,{"$f":"VLOOKUP(BW2666,Přehled!$C$5:$AL$24,36)","v":""},null,null,null,null,null,null,null,null,null,null,null,null,null,null,null,null,null,null,null,null,{"$f":"'18'!$BP$34","v":0},{"$f":"'18'!$BQ$34","v":0},{"$f":"'18'!$BR$34","v":0},{"$f":"'18'!$BS$34","v":0},{"$f":"'18'!$BT$34","v":0},{"$f":"'18'!$BU$34","v":0},18,{"$f":"VLOOKUP(CY2666,Přehled!$C$5:$AL$24,36)","v":""},null,null,null,null,null,null,null,null,null,null,null,null,null,null,null,{"$f":"'18'!$CR$34","v":0},{"$f":"'18'!$CS$34","v":0},{"$f":"'18'!$CT$34","v":0},18,{"$f":"VLOOKUP(DS2666,Přehled!$C$5:$AL$24,36)","v":""}]
[null,null,null,null,null,null,null,null,null,null,null,null,null,null,null,null,null,null,null,null,null,null,null,null,null,null,null,null,null,null,null,null,null,null,null,null,null,null,null,null,null,null,null,null,null,null,null,null,null,null,null,null,null,null,null,null,null,null,null,null,null,null,null,null,null,null,null,null,{"$f":"'18'!$AO$51","v":0},{"$f":"'18'!$AP$51","v":0},{"$f":"'18'!$AQ$51","v":0},{"$f":"'18'!$AR$51","v":0},{"$f":"'18'!$AS$51","v":0},{"$f":"'18'!$AT$51","v":0},18,{"$f":"VLOOKUP(BW2683,Přehled!$C$5:$AL$24,36)","v":""},null,null,null,null,null,null,null,null,null,null,null,null,null,null,null,null,null,null,null,null,{"$f":"'18'!$BP$51","v":0},{"$f":"'18'!$BQ$51","v":0},{"$f":"'18'!$BR$51","v":0},{"$f":"'18'!$BS$51","v":0},{"$f":"'18'!$BT$51","v":0},{"$f":"'18'!$BU$51","v":0},18,{"$f":"VLOOKUP(CY2683,Přehled!$C$5:$AL$24,36)","v":""},null,null,null,null,null,null,null,null,null,null,null,null,null,null,null,{"$f":"'18'!$CR$51","v":0},{"$f":"'18'!$CS$51","v":0},{"$f":"'18'!$CT$51","v":0},18,{"$f":"VLOOKUP(DS2683,Přehled!$C$5:$AL$24,36)","v":""}]
[null,null,null,null,null,null,null,null,null,null,null,null,null,null,null,null,null,null,null,null,null,null,null,null,null,null,null,null,null,null,null,null,null,null,null,null,null,null,null,null,null,null,null,null,null,null,null,null,null,null,null,null,null,null,null,null,null,null,null,null,null,null,null,null,null,null,null,null,{"$f":"'18'!$AO$61","v":0},{"$f":"'18'!$AP$61","v":0},{"$f":"'18'!$AQ$61","v":0},{"$f":"'18'!$AR$61","v":0},{"$f":"'18'!$AS$61","v":0},{"$f":"'18'!$AT$61","v":0},18,{"$f":"VLOOKUP(BW2693,Přehled!$C$5:$AL$24,36)","v":""},null,null,null,null,null,null,null,null,null,null,null,null,null,null,null,null,null,null,null,null,{"$f":"'18'!$BP$61","v":0},{"$f":"'18'!$BQ$61","v":0},{"$f":"'18'!$BR$61","v":0},{"$f":"'18'!$BS$61","v":0},{"$f":"'18'!$BT$61","v":0},{"$f":"'18'!$BU$61","v":0},18,{"$f":"VLOOKUP(CY2693,Přehled!$C$5:$AL$24,36)","v":""},null,null,null,null,null,null,null,null,null,null,null,null,null,null,null,{"$f":"'18'!$CR$61","v":0},{"$f":"'18'!$CS$61","v":0},{"$f":"'18'!$CT$61","v":0},18,{"$f":"VLOOKUP(DS2693,Přehled!$C$5:$AL$24,36)","v":""}]
[null,null,null,null,null,null,null,null,null,null,null,null,null,null,null,null,null,null,null,null,null,null,null,null,null,null,null,null,null,null,null,null,null,null,null,null,null,null,null,null,null,null,null,null,null,null,null,null,null,null,null,null,null,null,null,null,null,null,null,null,null,null,null,null,null,null,null,null,{"$f":"'18'!$AO$67","v":0},{"$f":"'18'!$AP$67","v":0},{"$f":"'18'!$AQ$67","v":0},{"$f":"'18'!$AR$67","v":0},{"$f":"'18'!$AS$67","v":0},{"$f":"'18'!$AT$67","v":0},18,{"$f":"VLOOKUP(BW2699,Přehled!$C$5:$AL$24,36)","v":""},null,null,null,null,null,null,null,null,null,null,null,null,null,null,null,null,null,null,null,null,{"$f":"'18'!$BP$67","v":0},{"$f":"'18'!$BQ$67","v":0},{"$f":"'18'!$BR$67","v":0},{"$f":"'18'!$BS$67","v":0},{"$f":"'18'!$BT$67","v":0},{"$f":"'18'!$BU$67","v":0},18,{"$f":"VLOOKUP(CY2699,Přehled!$C$5:$AL$24,36)","v":""},null,null,null,null,null,null,null,null,null,null,null,null,null,null,null,{"$f":"'18'!$CR$67","v":0},{"$f":"'18'!$CS$67","v":0},{"$f":"'18'!$CT$67","v":0},18,{"$f":"VLOOKUP(DS2699,Přehled!$C$5:$AL$24,36)","v":""}]
[null,null,null,null,null,null,null,null,null,null,null,null,null,null,null,null,null,null,null,null,null,null,null,null,null,null,null,null,null,null,null,null,null,null,null,null,null,null,null,null,null,null,null,null,null,null,null,null,null,null,null,null,null,null,null,null,null,null,null,null,null,null,null,null,null,null,null,null,{"$f":"'18'!$AO$76","v":0},{"$f":"'18'!$AP$76","v":0},{"$f":"'18'!$AQ$76","v":0},{"$f":"'18'!$AR$76","v":0},{"$f":"'18'!$AS$76","v":0},{"$f":"'18'!$AT$76","v":0},18,{"$f":"VLOOKUP(BW2708,Přehled!$C$5:$AL$24,36)","v":""},null,null,null,null,null,null,null,null,null,null,null,null,null,null,null,null,null,null,null,null,{"$f":"'18'!$BP$76","v":0},{"$f":"'18'!$BQ$76","v":0},{"$f":"'18'!$BR$76","v":0},{"$f":"'18'!$BS$76","v":0},{"$f":"'18'!$BT$76","v":0},{"$f":"'18'!$BU$76","v":0},18,{"$f":"VLOOKUP(CY2708,Přehled!$C$5:$AL$24,36)","v":""},null,null,null,null,null,null,null,null,null,null,null,null,null,null,null,{"$f":"'18'!$CR$76","v":0},{"$f":"'18'!$CS$76","v":0},{"$f":"'18'!$CT$76","v":0},18,{"$f":"VLOOKUP(DS2708,Přehled!$C$5:$AL$24,36)","v":""}]
[null,null,null,null,null,null,null,null,null,null,null,null,null,null,null,null,null,null,null,null,null,null,null,null,null,null,null,null,null,null,null,null,null,null,null,null,null,null,null,null,null,null,null,null,null,null,null,null,null,null,null,null,null,null,null,null,null,null,null,null,null,null,null,null,null,null,null,null,{"$f":"'18'!$AO$95","v":0},{"$f":"'18'!$AP$95","v":0},{"$f":"'18'!$AQ$95","v":0},{"$f":"'18'!$AR$95","v":0},{"$f":"'18'!$AS$95","v":0},{"$f":"'18'!$AT$95","v":0},18,{"$f":"VLOOKUP(BW2727,Přehled!$C$5:$AL$24,36)","v":""},null,null,null,null,null,null,null,null,null,null,null,null,null,null,null,null,null,null,null,null,{"$f":"'18'!$BP$95","v":0},{"$f":"'18'!$BQ$95","v":0},{"$f":"'18'!$BR$95","v":0},{"$f":"'18'!$BS$95","v":0},{"$f":"'18'!$BT$95","v":0},{"$f":"'18'!$BU$95","v":0},18,{"$f":"VLOOKUP(CY2727,Přehled!$C$5:$AL$24,36)","v":""},null,null,null,null,null,null,null,null,null,null,null,null,null,null,null,{"$f":"'18'!$CR$95","v":0},{"$f":"'18'!$CS$95","v":0},{"$f":"'18'!$CT$95","v":0},18,{"$f":"VLOOKUP(DS2727,Přehled!$C$5:$AL$24,36)","v":""}]
[null,null,null,null,null,null,null,null,null,null,null,null,null,null,null,null,null,null,null,null,null,null,null,null,null,null,null,null,null,null,null,null,null,null,null,null,null,null,null,null,null,null,null,null,null,null,null,null,null,null,null,null,null,null,null,null,null,null,null,null,null,null,null,null,null,null,null,null,{"$f":"'18'!$AO$101","v":0},{"$f":"'18'!$AP$101","v":0},{"$f":"'18'!$AQ$101","v":0},{"$f":"'18'!$AR$101","v":0},{"$f":"'18'!$AS$101","v":0},{"$f":"'18'!$AT$101","v":0},18,{"$f":"VLOOKUP(BW2733,Přehled!$C$5:$AL$24,36)","v":""},null,null,null,null,null,null,null,null,null,null,null,null,null,null,null,null,null,null,null,null,{"$f":"'18'!$BP$101","v":0},{"$f":"'18'!$BQ$101","v":0},{"$f":"'18'!$BR$101","v":0},{"$f":"'18'!$BS$101","v":0},{"$f":"'18'!$BT$101","v":0},{"$f":"'18'!$BU$101","v":0},18,{"$f":"VLOOKUP(CY2733,Přehled!$C$5:$AL$24,36)","v":""},null,null,null,null,null,null,null,null,null,null,null,null,null,null,null,{"$f":"'18'!$CR$101","v":0},{"$f":"'18'!$CS$101","v":0},{"$f":"'18'!$CT$101","v":0},18,{"$f":"VLOOKUP(DS2733,Přehled!$C$5:$AL$24,36)","v":""}]
[null,null,null,null,null,null,null,null,null,null,null,null,null,null,null,null,null,null,null,null,null,null,null,null,null,null,null,null,null,null,null,null,null,null,null,null,null,null,null,null,null,null,null,null,null,null,null,null,null,null,null,null,null,null,null,null,null,null,null,null,null,null,null,null,null,null,null,null,{"$f":"'18'!$AO$111","v":0},{"$f":"'18'!$AP$111","v":0},{"$f":"'18'!$AQ$111","v":0},{"$f":"'18'!$AR$111","v":0},{"$f":"'18'!$AS$111","v":0},{"$f":"'18'!$AT$111","v":0},18,{"$f":"VLOOKUP(BW2743,Přehled!$C$5:$AL$24,36)","v":""},null,null,null,null,null,null,null,null,null,null,null,null,null,null,null,null,null,null,null,null,{"$f":"'18'!$BP$111","v":0},{"$f":"'18'!$BQ$111","v":0},{"$f":"'18'!$BR$111","v":0},{"$f":"'18'!$BS$111","v":0},{"$f":"'18'!$BT$111","v":0},{"$f":"'18'!$BU$111","v":0},18,{"$f":"VLOOKUP(CY2743,Přehled!$C$5:$AL$24,36)","v":""},null,null,null,null,null,null,null,null,null,null,null,null,null,null,null,{"$f":"'18'!$CR$111","v":0},{"$f":"'18'!$CS$111","v":0},{"$f":"'18'!$CT$111","v":0},18,{"$f":"VLOOKUP(DS2743,Přehled!$C$5:$AL$24,36)","v":""}]
[null,null,null,null,null,null,null,null,null,null,null,null,null,null,null,null,null,null,null,null,null,null,null,null,null,null,null,null,null,null,null,null,null,null,null,null,null,null,null,null,null,null,null,null,null,null,null,null,null,null,null,null,null,null,null,null,null,null,null,null,null,null,null,null,null,null,null,null,{"$f":"'18'!$AO$128","v":0},{"$f":"'18'!$AP$128","v":0},{"$f":"'18'!$AQ$128","v":0},{"$f":"'18'!$AR$128","v":0},{"$f":"'18'!$AS$128","v":0},{"$f":"'18'!$AT$128","v":0},18,{"$f":"VLOOKUP(BW2760,Přehled!$C$5:$AL$24,36)","v":""},null,null,null,null,null,null,null,null,null,null,null,null,null,null,null,null,null,null,null,null,{"$f":"'18'!$BP$128","v":0},{"$f":"'18'!$BQ$128","v":0},{"$f":"'18'!$BR$128","v":0},{"$f":"'18'!$BS$128","v":0},{"$f":"'18'!$BT$128","v":0},{"$f":"'18'!$BU$128","v":0},18,{"$f":"VLOOKUP(CY2760,Přehled!$C$5:$AL$24,36)","v":""},null,null,null,null,null,null,null,null,null,null,null,null,null,null,null,{"$f":"'18'!$CR$128","v":0},{"$f":"'18'!$CS$128","v":0},{"$f":"'18'!$CT$128","v":0},18,{"$f":"VLOOKUP(DS2760,Přehled!$C$5:$AL$24,36)","v":""}]
[null,null,null,null,null,null,null,null,null,null,null,null,null,null,null,null,null,null,null,null,null,null,null,null,null,null,null,null,null,null,null,null,null,null,null,null,null,null,null,null,null,null,null,null,null,null,null,null,null,null,null,null,null,null,null,null,null,null,null,null,null,null,null,null,null,null,null,null,{"$f":"'18'!$AO$134","v":0},{"$f":"'18'!$AP$134","v":0},{"$f":"'18'!$AQ$134","v":0},{"$f":"'18'!$AR$134","v":0},{"$f":"'18'!$AS$134","v":0},{"$f":"'18'!$AT$134","v":0},18,{"$f":"VLOOKUP(BW2766,Přehled!$C$5:$AL$24,36)","v":""},null,null,null,null,null,null,null,null,null,null,null,null,null,null,null,null,null,null,null,null,{"$f":"'18'!$BP$134","v":0},{"$f":"'18'!$BQ$134","v":0},{"$f":"'18'!$BR$134","v":0},{"$f":"'18'!$BS$134","v":0},{"$f":"'18'!$BT$134","v":0},{"$f":"'18'!$BU$134","v":0},18,{"$f":"VLOOKUP(CY2766,Přehled!$C$5:$AL$24,36)","v":""},null,null,null,null,null,null,null,null,null,null,null,null,null,null,null,{"$f":"'18'!$CR$134","v":0},{"$f":"'18'!$CS$134","v":0},{"$f":"'18'!$CT$134","v":0},18,{"$f":"VLOOKUP(DS2766,Přehled!$C$5:$AL$24,36)","v":""}]
[null,null,null,null,null,null,null,null,null,null,null,null,null,null,null,null,null,null,null,null,null,null,null,null,null,null,null,null,null,null,null,null,null,null,null,null,null,null,null,null,null,null,null,null,null,null,null,null,null,null,null,null,null,null,null,null,null,null,null,null,null,null,null,null,null,null,null,null,{"$f":"'18'!$AO$145","v":0},{"$f":"'18'!$AP$145","v":0},{"$f":"'18'!$AQ$145","v":0},{"$f":"'18'!$AR$145","v":0},{"$f":"'18'!$AS$145","v":0},{"$f":"'18'!$AT$145","v":0},18,{"$f":"VLOOKUP(BW2777,Přehled!$C$5:$AL$24,36)","v":""},null,null,null,null,null,null,null,null,null,null,null,null,null,null,null,null,null,null,null,null,{"$f":"'18'!$BP$145","v":0},{"$f":"'18'!$BQ$145","v":0},{"$f":"'18'!$BR$145","v":0},{"$f":"'18'!$BS$145","v":0},{"$f":"'18'!$BT$145","v":0},{"$f":"'18'!$BU$145","v":0},18,{"$f":"VLOOKUP(CY2777,Přehled!$C$5:$AL$24,36)","v":""},null,null,null,null,null,null,null,null,null,null,null,null,null,null,null,{"$f":"'18'!$CR$145","v":0},{"$f":"'18'!$CS$145","v":0},{"$f":"'18'!$CT$145","v":0},18,{"$f":"VLOOKUP(DS2777,Přehled!$C$5:$AL$24,36)","v":""}]
[null,null,null,null,null,null,null,null,null,null,null,null,null,null,null,null,null,null,null,null,null,null,null,null,null,null,null,null,null,null,null,null,null,null,null,null,null,null,null,null,null,null,null,null,null,null,null,null,null,null,null,null,null,null,null,null,null,null,null,null,null,null,null,null,null,null,null,null,{"$f":"'18'!$AO$162","v":0},{"$f":"'18'!$AP$162","v":0},{"$f":"'18'!$AQ$162","v":0},{"$f":"'18'!$AR$162","v":0},{"$f":"'18'!$AS$162","v":0},{"$f":"'18'!$AT$162","v":0},18,{"$f":"VLOOKUP(BW2794,Přehled!$C$5:$AL$24,36)","v":""},null,null,null,null,null,null,null,null,null,null,null,null,null,null,null,null,null,null,null,null,{"$f":"'18'!$BP$162","v":0},{"$f":"'18'!$BQ$162","v":0},{"$f":"'18'!$BR$162","v":0},{"$f":"'18'!$BS$162","v":0},{"$f":"'18'!$BT$162","v":0},{"$f":"'18'!$BU$162","v":0},18,{"$f":"VLOOKUP(CY2794,Přehled!$C$5:$AL$24,36)","v":""},null,null,null,null,null,null,null,null,null,null,null,null,null,null,null,{"$f":"'18'!$CR$162","v":0},{"$f":"'18'!$CS$162","v":0},{"$f":"'18'!$CT$162","v":0},18,{"$f":"VLOOKUP(DS2794,Přehled!$C$5:$AL$24,36)","v":""}]
[null,null,null,null,null,null,null,null,null,null,null,null,null,null,null,null,null,null,null,null,null,null,null,null,null,null,null,null,null,null,null,null,null,null,null,null,null,null,null,null,null,null,null,null,null,null,null,null,null,null,null,null,null,null,null,null,null,null,null,null,null,null,null,null,null,null,null,null,{"$f":"'19'!$AO$17","v":0},{"$f":"'19'!$AP$17","v":0},{"$f":"'19'!$AQ$17","v":0},{"$f":"'19'!$AR$17","v":0},{"$f":"'19'!$AS$17","v":0},{"$f":"'19'!$AT$17","v":0},19,{"$f":"VLOOKUP(BW2804,Přehled!$C$5:$AL$24,36)","v":""},null,null,null,null,null,null,null,null,null,null,null,null,null,null,null,null,null,null,null,null,{"$f":"'19'!$BP$17","v":0},{"$f":"'19'!$BQ$17","v":0},{"$f":"'19'!$BR$17","v":0},{"$f":"'19'!$BS$17","v":0},{"$f":"'19'!$BT$17","v":0},{"$f":"'19'!$BU$17","v":0},19,{"$f":"VLOOKUP(CY2804,Přehled!$C$5:$AL$24,36)","v":""},null,null,null,null,null,null,null,null,null,null,null,null,null,null,null,{"$f":"'19'!$CR$17","v":0},{"$f":"'19'!$CS$17","v":0},{"$f":"'19'!$CT$17","v":0},19,{"$f":"VLOOKUP(DS2804,Přehled!$C$5:$AL$24,36)","v":""}]
[null,null,null,null,null,null,null,null,null,null,null,null,null,null,null,null,null,null,null,null,null,null,null,null,null,null,null,null,null,null,null,null,null,null,null,null,null,null,null,null,null,null,null,null,null,null,null,null,null,null,null,null,null,null,null,null,null,null,null,null,null,null,null,null,null,null,null,null,{"$f":"'19'!$AO$23","v":0},{"$f":"'19'!$AP$23","v":0},{"$f":"'19'!$AQ$23","v":0},{"$f":"'19'!$AR$23","v":0},{"$f":"'19'!$AS$23","v":0},{"$f":"'19'!$AT$23","v":0},19,{"$f":"VLOOKUP(BW2810,Přehled!$C$5:$AL$24,36)","v":""},null,null,null,null,null,null,null,null,null,null,null,null,null,null,null,null,null,null,null,null,{"$f":"'19'!$BP$23","v":0},{"$f":"'19'!$BQ$23","v":0},{"$f":"'19'!$BR$23","v":0},{"$f":"'19'!$BS$23","v":0},{"$f":"'19'!$BT$23","v":0},{"$f":"'19'!$BU$23","v":0},19,{"$f":"VLOOKUP(CY2810,Přehled!$C$5:$AL$24,36)","v":""},null,null,null,null,null,null,null,null,null,null,null,null,null,null,null,{"$f":"'19'!$CR$23","v":0},{"$f":"'19'!$CS$23","v":0},{"$f":"'19'!$CT$23","v":0},19,{"$f":"VLOOKUP(DS2810,Přehled!$C$5:$AL$24,36)","v":""}]
[null,null,null,null,null,null,null,null,null,null,null,null,null,null,null,null,null,null,null,null,null,null,null,null,null,null,null,null,null,null,null,null,null,null,null,null,null,null,null,null,null,null,null,null,null,null,null,null,null,null,null,null,null,null,null,null,null,null,null,null,null,null,null,null,null,null,null,null,{"$f":"'19'!$AO$40","v":0},{"$f":"'19'!$AP$40","v":0},{"$f":"'19'!$AQ$40","v":0},{"$f":"'19'!$AR$40","v":0},{"$f":"'19'!$AS$40","v":0},{"$f":"'19'!$AT$40","v":0},19,{"$f":"VLOOKUP(BW2827,Přehled!$C$5:$AL$24,36)","v":""},null,null,null,null,null,null,null,null,null,null,null,null,null,null,null,null,null,null,null,null,{"$f":"'19'!$BP$40","v":0},{"$f":"'19'!$BQ$40","v":0},{"$f":"'19'!$BR$40","v":0},{"$f":"'19'!$BS$40","v":0},{"$f":"'19'!$BT$40","v":0},{"$f":"'19'!$BU$40","v":0},19,{"$f":"VLOOKUP(CY2827,Přehled!$C$5:$AL$24,36)","v":""},null,null,null,null,null,null,null,null,null,null,null,null,null,null,null,{"$f":"'19'!$CR$40","v":0},{"$f":"'19'!$CS$40","v":0},{"$f":"'19'!$CT$40","v":0},19,{"$f":"VLOOKUP(DS2827,Přehled!$C$5:$AL$24,36)","v":""}]
[null,null,null,null,null,null,null,null,null,null,null,null,null,null,null,null,null,null,null,null,null,null,null,null,null,null,null,null,null,null,null,null,null,null,null,null,null,null,null,null,null,null,null,null,null,null,null,null,null,null,null,null,null,null,null,null,null,null,null,null,null,null,null,null,null,null,null,null,{"$f":"'19'!$AO$50","v":0},{"$f":"'19'!$AP$50","v":0},{"$f":"'19'!$AQ$50","v":0},{"$f":"'19'!$AR$50","v":0},{"$f":"'19'!$AS$50","v":0},{"$f":"'19'!$AT$50","v":0},19,{"$f":"VLOOKUP(BW2837,Přehled!$C$5:$AL$24,36)","v":""},null,null,null,null,null,null,null,null,null,null,null,null,null,null,null,null,null,null,null,null,{"$f":"'19'!$BP$50","v":0},{"$f":"'19'!$BQ$50","v":0},{"$f":"'19'!$BR$50","v":0},{"$f":"'19'!$BS$50","v":0},{"$f":"'19'!$BT$50","v":0},{"$f":"'19'!$BU$50","v":0},19,{"$f":"VLOOKUP(CY2837,Přehled!$C$5:$AL$24,36)","v":""},null,null,null,null,null,null,null,null,null,null,null,null,null,null,null,{"$f":"'19'!$CR$50","v":0},{"$f":"'19'!$CS$50","v":0},{"$f":"'19'!$CT$50","v":0},19,{"$f":"VLOOKUP(DS2837,Přehled!$C$5:$AL$24,36)","v":""}]
[null,null,null,null,null,null,null,null,null,null,null,null,null,null,null,null,null,null,null,null,null,null,null,null,null,null,null,null,null,null,null,null,null,null,null,null,null,null,null,null,null,null,null,null,null,null,null,null,null,null,null,null,null,null,null,null,null,null,null,null,null,null,null,null,null,null,null,null,{"$f":"'19'!$AO$59","v":0},{"$f":"'19'!$AP$59","v":0},{"$f":"'19'!$AQ$59","v":0},{"$f":"'19'!$AR$59","v":0},{"$f":"'19'!$AS$59","v":0},{"$f":"'19'!$AT$59","v":0},19,{"$f":"VLOOKUP(BW2846,Přehled!$C$5:$AL$24,36)","v":""},null,null,null,null,null,null,null,null,null,null,null,null,null,null,null,null,null,null,null,null,{"$f":"'19'!$BP$59","v":0},{"$f":"'19'!$BQ$59","v":0},{"$f":"'19'!$BR$59","v":0},{"$f":"'19'!$BS$59","v":0},{"$f":"'19'!$BT$59","v":0},{"$f":"'19'!$BU$59","v":0},19,{"$f":"VLOOKUP(CY2846,Přehled!$C$5:$AL$24,36)","v":""},null,null,null,null,null,null,null,null,null,null,null,null,null,null,null,{"$f":"'19'!$CR$59","v":0},{"$f":"'19'!$CS$59","v":0},{"$f":"'19'!$CT$59","v":0},19,{"$f":"VLOOKUP(DS2846,Přehled!$C$5:$AL$24,36)","v":""}]
[null,null,null,null,null,null,null,null,null,null,null,null,null,null,null,null,null,null,null,null,null,null,null,null,null,null,null,null,null,null,null,null,null,null,null,null,null,null,null,null,null,null,null,null,null,null,null,null,null,null,null,null,null,null,null,null,null,null,null,null,null,null,null,null,null,null,null,null,{"$f":"'19'!$AO$74","v":0},{"$f":"'19'!$AP$74","v":0},{"$f":"'19'!$AQ$74","v":0},{"$f":"'19'!$AR$74","v":0},{"$f":"'19'!$AS$74","v":0},{"$f":"'19'!$AT$74","v":0},19,{"$f":"VLOOKUP(BW2861,Přehled!$C$5:$AL$24,36)","v":""},null,null,null,null,null,null,null,null,null,null,null,null,null,null,null,null,null,null,null,null,{"$f":"'19'!$BP$74","v":0},{"$f":"'19'!$BQ$74","v":0},{"$f":"'19'!$BR$74","v":0},{"$f":"'19'!$BS$74","v":0},{"$f":"'19'!$BT$74","v":0},{"$f":"'19'!$BU$74","v":0},19,{"$f":"VLOOKUP(CY2861,Přehled!$C$5:$AL$24,36)","v":""},null,null,null,null,null,null,null,null,null,null,null,null,null,null,null,{"$f":"'19'!$CR$74","v":0},{"$f":"'19'!$CS$74","v":0},{"$f":"'19'!$CT$74","v":0},19,{"$f":"VLOOKUP(DS2861,Přehled!$C$5:$AL$24,36)","v":""}]
[null,null,null,null,null,null,null,null,null,null,null,null,null,null,null,null,null,null,null,null,null,null,null,null,null,null,null,null,null,null,null,null,null,null,null,null,null,null,null,null,null,null,null,null,null,null,null,null,null,null,null,null,null,null,null,null,null,null,null,null,null,null,null,null,null,null,null,null,{"$f":"'19'!$AO$84","v":0},{"$f":"'19'!$AP$84","v":0},{"$f":"'19'!$AQ$84","v":0},{"$f":"'19'!$AR$84","v":0},{"$f":"'19'!$AS$84","v":0},{"$f":"'19'!$AT$84","v":0},19,{"$f":"VLOOKUP(BW2871,Přehled!$C$5:$AL$24,36)","v":""},null,null,null,null,null,null,null,null,null,null,null,null,null,null,null,null,null,null,null,null,{"$f":"'19'!$BP$84","v":0},{"$f":"'19'!$BQ$84","v":0},{"$f":"'19'!$BR$84","v":0},{"$f":"'19'!$BS$84","v":0},{"$f":"'19'!$BT$84","v":0},{"$f":"'19'!$BU$84","v":0},19,{"$f":"VLOOKUP(CY2871,Přehled!$C$5:$AL$24,36)","v":""},null,null,null,null,null,null,null,null,null,null,null,null,null,null,null,{"$f":"'19'!$CR$84","v":0},{"$f":"'19'!$CS$84","v":0},{"$f":"'19'!$CT$84","v":0},19,{"$f":"VLOOKUP(DS2871,Přehled!$C$5:$AL$24,36)","v":""}]
[null,null,null,null,null,null,null,null,null,null,null,null,null,null,null,null,null,null,null,null,null,null,null,null,null,null,null,null,null,null,null,null,null,null,null,null,null,null,null,null,null,null,null,null,null,null,null,null,null,null,null,null,null,null,null,null,null,null,null,null,null,null,null,null,null,null,null,null,{"$f":"'19'!$AO$90","v":0},{"$f":"'19'!$AP$90","v":0},{"$f":"'19'!$AQ$90","v":0},{"$f":"'19'!$AR$90","v":0},{"$f":"'19'!$AS$90","v":0},{"$f":"'19'!$AT$90","v":0},19,{"$f":"VLOOKUP(BW2877,Přehled!$C$5:$AL$24,36)","v":""},null,null,null,null,null,null,null,null,null,null,null,null,null,null,null,null,null,null,null,null,{"$f":"'19'!$BP$90","v":0},{"$f":"'19'!$BQ$90","v":0},{"$f":"'19'!$BR$90","v":0},{"$f":"'19'!$BS$90","v":0},{"$f":"'19'!$BT$90","v":0},{"$f":"'19'!$BU$90","v":0},19,{"$f":"VLOOKUP(CY2877,Přehled!$C$5:$AL$24,36)","v":""},null,null,null,null,null,null,null,null,null,null,null,null,null,null,null,{"$f":"'19'!$CR$90","v":0},{"$f":"'19'!$CS$90","v":0},{"$f":"'19'!$CT$90","v":0},19,{"$f":"VLOOKUP(DS2877,Přehled!$C$5:$AL$24,36)","v":""}]
[null,null,null,null,null,null,null,null,null,null,null,null,null,null,null,null,null,null,null,null,null,null,null,null,null,null,null,null,null,null,null,null,null,null,null,null,null,null,null,null,null,null,null,null,null,null,null,null,null,null,null,null,null,null,null,null,null,null,null,null,null,null,null,null,null,null,null,null,{"$f":"'19'!$AO$100","v":0},{"$f":"'19'!$AP$100","v":0},{"$f":"'19'!$AQ$100","v":0},{"$f":"'19'!$AR$100","v":0},{"$f":"'19'!$AS$100","v":0},{"$f":"'19'!$AT$100","v":0},19,{"$f":"VLOOKUP(BW2887,Přehled!$C$5:$AL$24,36)","v":""},null,null,null,null,null,null,null,null,null,null,null,null,null,null,null,null,null,null,null,null,{"$f":"'19'!$BP$100","v":0},{"$f":"'19'!$BQ$100","v":0},{"$f":"'19'!$BR$100","v":0},{"$f":"'19'!$BS$100","v":0},{"$f":"'19'!$BT$100","v":0},{"$f":"'19'!$BU$100","v":0},19,{"$f":"VLOOKUP(CY2887,Přehled!$C$5:$AL$24,36)","v":""},null,null,null,null,null,null,null,null,null,null,null,null,null,null,null,{"$f":"'19'!$CR$100","v":0},{"$f":"'19'!$CS$100","v":0},{"$f":"'19'!$CT$100","v":0},19,{"$f":"VLOOKUP(DS2887,Přehled!$C$5:$AL$24,36)","v":""}]
[null,null,null,null,null,null,null,null,null,null,null,null,null,null,null,null,null,null,null,null,null,null,null,null,null,null,null,null,null,null,null,null,null,null,null,null,null,null,null,null,null,null,null,null,null,null,null,null,null,null,null,null,null,null,null,null,null,null,null,null,null,null,null,null,null,null,null,null,{"$f":"'19'!$AO$117","v":0},{"$f":"'19'!$AP$117","v":0},{"$f":"'19'!$AQ$117","v":0},{"$f":"'19'!$AR$117","v":0},{"$f":"'19'!$AS$117","v":0},{"$f":"'19'!$AT$117","v":0},19,{"$f":"VLOOKUP(BW2904,Přehled!$C$5:$AL$24,36)","v":""},null,null,null,null,null,null,null,null,null,null,null,null,null,null,null,null,null,null,null,null,{"$f":"'19'!$BP$117","v":0},{"$f":"'19'!$BQ$117","v":0},{"$f":"'19'!$BR$117","v":0},{"$f":"'19'!$BS$117","v":0},{"$f":"'19'!$BT$117","v":0},{"$f":"'19'!$BU$117","v":0},19,{"$f":"VLOOKUP(CY2904,Přehled!$C$5:$AL$24,36)","v":""},null,null,null,null,null,null,null,null,null,null,null,null,null,null,null,{"$f":"'19'!$CR$117","v":0},{"$f":"'19'!$CS$117","v":0},{"$f":"'19'!$CT$117","v":0},19,{"$f":"VLOOKUP(DS2904,Přehled!$C$5:$AL$24,36)","v":""}]
[null,null,null,null,null,null,null,null,null,null,null,null,null,null,null,null,null,null,null,null,null,null,null,null,null,null,null,null,null,null,null,null,null,null,null,null,null,null,null,null,null,null,null,null,null,null,null,null,null,null,null,null,null,null,null,null,null,null,null,null,null,null,null,null,null,null,null,null,{"$f":"'19'!$AO$128","v":0},{"$f":"'19'!$AP$128","v":0},{"$f":"'19'!$AQ$128","v":0},{"$f":"'19'!$AR$128","v":0},{"$f":"'19'!$AS$128","v":0},{"$f":"'19'!$AT$128","v":0},19,{"$f":"VLOOKUP(BW2915,Přehled!$C$5:$AL$24,36)","v":""},null,null,null,null,null,null,null,null,null,null,null,null,null,null,null,null,null,null,null,null,{"$f":"'19'!$BP$128","v":0},{"$f":"'19'!$BQ$128","v":0},{"$f":"'19'!$BR$128","v":0},{"$f":"'19'!$BS$128","v":0},{"$f":"'19'!$BT$128","v":0},{"$f":"'19'!$BU$128","v":0},19,{"$f":"VLOOKUP(CY2915,Přehled!$C$5:$AL$24,36)","v":""},null,null,null,null,null,null,null,null,null,null,null,null,null,null,null,{"$f":"'19'!$CR$128","v":0},{"$f":"'19'!$CS$128","v":0},{"$f":"'19'!$CT$128","v":0},19,{"$f":"VLOOKUP(DS2915,Přehled!$C$5:$AL$24,36)","v":""}]
[null,null,null,null,null,null,null,null,null,null,null,null,null,null,null,null,null,null,null,null,null,null,null,null,null,null,null,null,null,null,null,null,null,null,null,null,null,null,null,null,null,null,null,null,null,null,null,null,null,null,null,null,null,null,null,null,null,null,null,null,null,null,null,null,null,null,null,null,{"$f":"'19'!$AO$134","v":0},{"$f":"'19'!$AP$134","v":0},{"$f":"'19'!$AQ$134","v":0},{"$f":"'19'!$AR$134","v":0},{"$f":"'19'!$AS$134","v":0},{"$f":"'19'!$AT$134","v":0},19,{"$f":"VLOOKUP(BW2921,Přehled!$C$5:$AL$24,36)","v":""},null,null,null,null,null,null,null,null,null,null,null,null,null,null,null,null,null,null,null,null,{"$f":"'19'!$BP$134","v":0},{"$f":"'19'!$BQ$134","v":0},{"$f":"'19'!$BR$134","v":0},{"$f":"'19'!$BS$134","v":0},{"$f":"'19'!$BT$134","v":0},{"$f":"'19'!$BU$134","v":0},19,{"$f":"VLOOKUP(CY2921,Přehled!$C$5:$AL$24,36)","v":""},null,null,null,null,null,null,null,null,null,null,null,null,null,null,null,{"$f":"'19'!$CR$134","v":0},{"$f":"'19'!$CS$134","v":0},{"$f":"'19'!$CT$134","v":0},19,{"$f":"VLOOKUP(DS2921,Přehled!$C$5:$AL$24,36)","v":""}]
[null,null,null,null,null,null,null,null,null,null,null,null,null,null,null,null,null,null,null,null,null,null,null,null,null,null,null,null,null,null,null,null,null,null,null,null,null,null,null,null,null,null,null,null,null,null,null,null,null,null,null,null,null,null,null,null,null,null,null,null,null,null,null,null,null,null,null,null,{"$f":"'19'!$AO$151","v":0},{"$f":"'19'!$AP$151","v":0},{"$f":"'19'!$AQ$151","v":0},{"$f":"'19'!$AR$151","v":0},{"$f":"'19'!$AS$151","v":0},{"$f":"'19'!$AT$151","v":0},19,{"$f":"VLOOKUP(BW2938,Přehled!$C$5:$AL$24,36)","v":""},null,null,null,null,null,null,null,null,null,null,null,null,null,null,null,null,null,null,null,null,{"$f":"'19'!$BP$151","v":0},{"$f":"'19'!$BQ$151","v":0},{"$f":"'19'!$BR$151","v":0},{"$f":"'19'!$BS$151","v":0},{"$f":"'19'!$BT$151","v":0},{"$f":"'19'!$BU$151","v":0},19,{"$f":"VLOOKUP(CY2938,Přehled!$C$5:$AL$24,36)","v":""},null,null,null,null,null,null,null,null,null,null,null,null,null,null,null,{"$f":"'19'!$CR$151","v":0},{"$f":"'19'!$CS$151","v":0},{"$f":"'19'!$CT$151","v":0},19,{"$f":"VLOOKUP(DS2938,Přehled!$C$5:$AL$24,36)","v":""}]
[null,null,null,null,null,null,null,null,null,null,null,null,null,null,null,null,null,null,null,null,null,null,null,null,null,null,null,null,null,null,null,null,null,null,null,null,null,null,null,null,null,null,null,null,null,null,null,null,null,null,null,null,null,null,null,null,null,null,null,null,null,null,null,null,null,null,null,null,{"$f":"'19'!$AO$161","v":0},{"$f":"'19'!$AP$161","v":0},{"$f":"'19'!$AQ$161","v":0},{"$f":"'19'!$AR$161","v":0},{"$f":"'19'!$AS$161","v":0},{"$f":"'19'!$AT$161","v":0},19,{"$f":"VLOOKUP(BW2948,Přehled!$C$5:$AL$24,36)","v":""},null,null,null,null,null,null,null,null,null,null,null,null,null,null,null,null,null,null,null,null,{"$f":"'19'!$BP$161","v":0},{"$f":"'19'!$BQ$161","v":0},{"$f":"'19'!$BR$161","v":0},{"$f":"'19'!$BS$161","v":0},{"$f":"'19'!$BT$161","v":0},{"$f":"'19'!$BU$161","v":0},19,{"$f":"VLOOKUP(CY2948,Přehled!$C$5:$AL$24,36)","v":""},null,null,null,null,null,null,null,null,null,null,null,null,null,null,null,{"$f":"'19'!$CR$161","v":0},{"$f":"'19'!$CS$161","v":0},{"$f":"'19'!$CT$161","v":0},19,{"$f":"VLOOKUP(DS2948,Přehled!$C$5:$AL$24,36)","v":""}]
[null,null,null,null,null,null,null,null,null,null,null,null,null,null,null,null,null,null,null,null,null,null,null,null,null,null,null,null,null,null,null,null,null,null,null,null,null,null,null,null,null,null,null,null,null,null,null,null,null,null,null,null,null,null,null,null,null,null,null,null,null,null,null,null,null,null,null,null,{"$f":"'20'!$AO$12","v":0},{"$f":"'20'!$AP$12","v":0},{"$f":"'20'!$AQ$12","v":0},{"$f":"'20'!$AR$12","v":0},{"$f":"'20'!$AS$12","v":0},{"$f":"'20'!$AT$12","v":0},20,{"$f":"VLOOKUP(BW2954,Přehled!$C$5:$AL$24,36)","v":""},null,null,null,null,null,null,null,null,null,null,null,null,null,null,null,null,null,null,null,null,{"$f":"'20'!$BP$12","v":0},{"$f":"'20'!$BQ$12","v":0},{"$f":"'20'!$BR$12","v":0},{"$f":"'20'!$BS$12","v":0},{"$f":"'20'!$BT$12","v":0},{"$f":"'20'!$BU$12","v":0},20,{"$f":"VLOOKUP(CY2954,Přehled!$C$5:$AL$24,36)","v":""},null,null,null,null,null,null,null,null,null,null,null,null,null,null,null,{"$f":"'20'!$CR$12","v":0},{"$f":"'20'!$CS$12","v":0},{"$f":"'20'!$CT$12","v":0},20,{"$f":"VLOOKUP(DS2954,Přehled!$C$5:$AL$24,36)","v":""}]
[null,null,null,null,null,null,null,null,null,null,null,null,null,null,null,null,null,null,null,null,null,null,null,null,null,null,null,null,null,null,null,null,null,null,null,null,null,null,null,null,null,null,null,null,null,null,null,null,null,null,null,null,null,null,null,null,null,null,null,null,null,null,null,null,null,null,null,null,{"$f":"'20'!$AO$29","v":0},{"$f":"'20'!$AP$29","v":0},{"$f":"'20'!$AQ$29","v":0},{"$f":"'20'!$AR$29","v":0},{"$f":"'20'!$AS$29","v":0},{"$f":"'20'!$AT$29","v":0},20,{"$f":"VLOOKUP(BW2971,Přehled!$C$5:$AL$24,36)","v":""},null,null,null,null,null,null,null,null,null,null,null,null,null,null,null,null,null,null,null,null,{"$f":"'20'!$BP$29","v":0},{"$f":"'20'!$BQ$29","v":0},{"$f":"'20'!$BR$29","v":0},{"$f":"'20'!$BS$29","v":0},{"$f":"'20'!$BT$29","v":0},{"$f":"'20'!$BU$29","v":0},20,{"$f":"VLOOKUP(CY2971,Přehled!$C$5:$AL$24,36)","v":""},null,null,null,null,null,null,null,null,null,null,null,null,null,null,null,{"$f":"'20'!$CR$29","v":0},{"$f":"'20'!$CS$29","v":0},{"$f":"'20'!$CT$29","v":0},20,{"$f":"VLOOKUP(DS2971,Přehled!$C$5:$AL$24,36)","v":""}]
[null,null,null,null,null,null,null,null,null,null,null,null,null,null,null,null,null,null,null,null,null,null,null,null,null,null,null,null,null,null,null,null,null,null,null,null,null,null,null,null,null,null,null,null,null,null,null,null,null,null,null,null,null,null,null,null,null,null,null,null,null,null,null,null,null,null,null,null,{"$f":"'20'!$AO$34","v":0},{"$f":"'20'!$AP$34","v":0},{"$f":"'20'!$AQ$34","v":0},{"$f":"'20'!$AR$34","v":0},{"$f":"'20'!$AS$34","v":0},{"$f":"'20'!$AT$34","v":0},20,{"$f":"VLOOKUP(BW2976,Přehled!$C$5:$AL$24,36)","v":""},null,null,null,null,null,null,null,null,null,null,null,null,null,null,null,null,null,null,null,null,{"$f":"'20'!$BP$34","v":0},{"$f":"'20'!$BQ$34","v":0},{"$f":"'20'!$BR$34","v":0},{"$f":"'20'!$BS$34","v":0},{"$f":"'20'!$BT$34","v":0},{"$f":"'20'!$BU$34","v":0},20,{"$f":"VLOOKUP(CY2976,Přehled!$C$5:$AL$24,36)","v":""},null,null,null,null,null,null,null,null,null,null,null,null,null,null,null,{"$f":"'20'!$CR$34","v":0},{"$f":"'20'!$CS$34","v":0},{"$f":"'20'!$CT$34","v":0},20,{"$f":"VLOOKUP(DS2976,Přehled!$C$5:$AL$24,36)","v":""}]
[null,null,null,null,null,null,null,null,null,null,null,null,null,null,null,null,null,null,null,null,null,null,null,null,null,null,null,null,null,null,null,null,null,null,null,null,null,null,null,null,null,null,null,null,null,null,null,null,null,null,null,null,null,null,null,null,null,null,null,null,null,null,null,null,null,null,null,null,{"$f":"'20'!$AO$46","v":0},{"$f":"'20'!$AP$46","v":0},{"$f":"'20'!$AQ$46","v":0},{"$f":"'20'!$AR$46","v":0},{"$f":"'20'!$AS$46","v":0},{"$f":"'20'!$AT$46","v":0},20,{"$f":"VLOOKUP(BW2988,Přehled!$C$5:$AL$24,36)","v":""},null,null,null,null,null,null,null,null,null,null,null,null,null,null,null,null,null,null,null,null,{"$f":"'20'!$BP$46","v":0},{"$f":"'20'!$BQ$46","v":0},{"$f":"'20'!$BR$46","v":0},{"$f":"'20'!$BS$46","v":0},{"$f":"'20'!$BT$46","v":0},{"$f":"'20'!$BU$46","v":0},20,{"$f":"VLOOKUP(CY2988,Přehled!$C$5:$AL$24,36)","v":""},null,null,null,null,null,null,null,null,null,null,null,null,null,null,null,{"$f":"'20'!$CR$46","v":0},{"$f":"'20'!$CS$46","v":0},{"$f":"'20'!$CT$46","v":0},20,{"$f":"VLOOKUP(DS2988,Přehled!$C$5:$AL$24,36)","v":""}]
[null,null,null,null,null,null,null,null,null,null,null,null,null,null,null,null,null,null,null,null,null,null,null,null,null,null,null,null,null,null,null,null,null,null,null,null,null,null,null,null,null,null,null,null,null,null,null,null,null,null,null,null,null,null,null,null,null,null,null,null,null,null,null,null,null,null,null,null,{"$f":"'20'!$AO$63","v":0},{"$f":"'20'!$AP$63","v":0},{"$f":"'20'!$AQ$63","v":0},{"$f":"'20'!$AR$63","v":0},{"$f":"'20'!$AS$63","v":0},{"$f":"'20'!$AT$63","v":0},20,{"$f":"VLOOKUP(BW3005,Přehled!$C$5:$AL$24,36)","v":""},null,null,null,null,null,null,null,null,null,null,null,null,null,null,null,null,null,null,null,null,{"$f":"'20'!$BP$63","v":0},{"$f":"'20'!$BQ$63","v":0},{"$f":"'20'!$BR$63","v":0},{"$f":"'20'!$BS$63","v":0},{"$f":"'20'!$BT$63","v":0},{"$f":"'20'!$BU$63","v":0},20,{"$f":"VLOOKUP(CY3005,Přehled!$C$5:$AL$24,36)","v":""},null,null,null,null,null,null,null,null,null,null,null,null,null,null,null,{"$f":"'20'!$CR$63","v":0},{"$f":"'20'!$CS$63","v":0},{"$f":"'20'!$CT$63","v":0},20,{"$f":"VLOOKUP(DS3005,Přehled!$C$5:$AL$24,36)","v":""}]
[null,null,null,null,null,null,null,null,null,null,null,null,null,null,null,null,null,null,null,null,null,null,null,null,null,null,null,null,null,null,null,null,null,null,null,null,null,null,null,null,null,null,null,null,null,null,null,null,null,null,null,null,null,null,null,null,null,null,null,null,null,null,null,null,null,null,null,null,{"$f":"'20'!$AO$73","v":0},{"$f":"'20'!$AP$73","v":0},{"$f":"'20'!$AQ$73","v":0},{"$f":"'20'!$AR$73","v":0},{"$f":"'20'!$AS$73","v":0},{"$f":"'20'!$AT$73","v":0},20,{"$f":"VLOOKUP(BW3015,Přehled!$C$5:$AL$24,36)","v":""},null,null,null,null,null,null,null,null,null,null,null,null,null,null,null,null,null,null,null,null,{"$f":"'20'!$BP$73","v":0},{"$f":"'20'!$BQ$73","v":0},{"$f":"'20'!$BR$73","v":0},{"$f":"'20'!$BS$73","v":0},{"$f":"'20'!$BT$73","v":0},{"$f":"'20'!$BU$73","v":0},20,{"$f":"VLOOKUP(CY3015,Přehled!$C$5:$AL$24,36)","v":""},null,null,null,null,null,null,null,null,null,null,null,null,null,null,null,{"$f":"'20'!$CR$73","v":0},{"$f":"'20'!$CS$73","v":0},{"$f":"'20'!$CT$73","v":0},20,{"$f":"VLOOKUP(DS3015,Přehled!$C$5:$AL$24,36)","v":""}]
[null,null,null,null,null,null,null,null,null,null,null,null,null,null,null,null,null,null,null,null,null,null,null,null,null,null,null,null,null,null,null,null,null,null,null,null,null,null,null,null,null,null,null,null,null,null,null,null,null,null,null,null,null,null,null,null,null,null,null,null,null,null,null,null,null,null,null,null,{"$f":"'20'!$AO$79","v":0},{"$f":"'20'!$AP$79","v":0},{"$f":"'20'!$AQ$79","v":0},{"$f":"'20'!$AR$79","v":0},{"$f":"'20'!$AS$79","v":0},{"$f":"'20'!$AT$79","v":0},20,{"$f":"VLOOKUP(BW3021,Přehled!$C$5:$AL$24,36)","v":""},null,null,null,null,null,null,null,null,null,null,null,null,null,null,null,null,null,null,null,null,{"$f":"'20'!$BP$79","v":0},{"$f":"'20'!$BQ$79","v":0},{"$f":"'20'!$BR$79","v":0},{"$f":"'20'!$BS$79","v":0},{"$f":"'20'!$BT$79","v":0},{"$f":"'20'!$BU$79","v":0},20,{"$f":"VLOOKUP(CY3021,Přehled!$C$5:$AL$24,36)","v":""},null,null,null,null,null,null,null,null,null,null,null,null,null,null,null,{"$f":"'20'!$CR$79","v":0},{"$f":"'20'!$CS$79","v":0},{"$f":"'20'!$CT$79","v":0},20,{"$f":"VLOOKUP(DS3021,Přehled!$C$5:$AL$24,36)","v":""}]
[null,null,null,null,null,null,null,null,null,null,null,null,null,null,null,null,null,null,null,null,null,null,null,null,null,null,null,null,null,null,null,null,null,null,null,null,null,null,null,null,null,null,null,null,null,null,null,null,null,null,null,null,null,null,null,null,null,null,null,null,null,null,null,null,null,null,null,null,{"$f":"'20'!$AO$95","v":0},{"$f":"'20'!$AP$95","v":0},{"$f":"'20'!$AQ$95","v":0},{"$f":"'20'!$AR$95","v":0},{"$f":"'20'!$AS$95","v":0},{"$f":"'20'!$AT$95","v":0},20,{"$f":"VLOOKUP(BW3037,Přehled!$C$5:$AL$24,36)","v":""},null,null,null,null,null,null,null,null,null,null,null,null,null,null,null,null,null,null,null,null,{"$f":"'20'!$BP$95","v":0},{"$f":"'20'!$BQ$95","v":0},{"$f":"'20'!$BR$95","v":0},{"$f":"'20'!$BS$95","v":0},{"$f":"'20'!$BT$95","v":0},{"$f":"'20'!$BU$95","v":0},20,{"$f":"VLOOKUP(CY3037,Přehled!$C$5:$AL$24,36)","v":""},null,null,null,null,null,null,null,null,null,null,null,null,null,null,null,{"$f":"'20'!$CR$95","v":0},{"$f":"'20'!$CS$95","v":0},{"$f":"'20'!$CT$95","v":0},20,{"$f":"VLOOKUP(DS3037,Přehled!$C$5:$AL$24,36)","v":""}]
[null,null,null,null,null,null,null,null,null,null,null,null,null,null,null,null,null,null,null,null,null,null,null,null,null,null,null,null,null,null,null,null,null,null,null,null,null,null,null,null,null,null,null,null,null,null,null,null,null,null,null,null,null,null,null,null,null,null,null,null,null,null,null,null,null,null,null,null,{"$f":"'20'!$AO$101","v":0},{"$f":"'20'!$AP$101","v":0},{"$f":"'20'!$AQ$101","v":0},{"$f":"'20'!$AR$101","v":0},{"$f":"'20'!$AS$101","v":0},{"$f":"'20'!$AT$101","v":0},20,{"$f":"VLOOKUP(BW3043,Přehled!$C$5:$AL$24,36)","v":""},null,null,null,null,null,null,null,null,null,null,null,null,null,null,null,null,null,null,null,null,{"$f":"'20'!$BP$101","v":0},{"$f":"'20'!$BQ$101","v":0},{"$f":"'20'!$BR$101","v":0},{"$f":"'20'!$BS$101","v":0},{"$f":"'20'!$BT$101","v":0},{"$f":"'20'!$BU$101","v":0},20,{"$f":"VLOOKUP(CY3043,Přehled!$C$5:$AL$24,36)","v":""},null,null,null,null,null,null,null,null,null,null,null,null,null,null,null,{"$f":"'20'!$CR$101","v":0},{"$f":"'20'!$CS$101","v":0},{"$f":"'20'!$CT$101","v":0},20,{"$f":"VLOOKUP(DS3043,Přehled!$C$5:$AL$24,36)","v":""}]
[null,null,null,null,null,null,null,null,null,null,null,null,null,null,null,null,null,null,null,null,null,null,null,null,null,null,null,null,null,null,null,null,null,null,null,null,null,null,null,null,null,null,null,null,null,null,null,null,null,null,null,null,null,null,null,null,null,null,null,null,null,null,null,null,null,null,null,null,{"$f":"'20'!$AO$102","v":0},{"$f":"'20'!$AP$102","v":0},{"$f":"'20'!$AQ$102","v":0},{"$f":"'20'!$AR$102","v":0},{"$f":"'20'!$AS$102","v":0},{"$f":"'20'!$AT$102","v":0},20,{"$f":"VLOOKUP(BW3044,Přehled!$C$5:$AL$24,36)","v":""},null,null,null,null,null,null,null,null,null,null,null,null,null,null,null,null,null,null,null,null,{"$f":"'20'!$BP$102","v":0},{"$f":"'20'!$BQ$102","v":0},{"$f":"'20'!$BR$102","v":0},{"$f":"'20'!$BS$102","v":0},{"$f":"'20'!$BT$102","v":0},{"$f":"'20'!$BU$102","v":0},20,{"$f":"VLOOKUP(CY3044,Přehled!$C$5:$AL$24,36)","v":""},null,null,null,null,null,null,null,null,null,null,null,null,null,null,null,{"$f":"'20'!$CR$102","v":0},{"$f":"'20'!$CS$102","v":0},{"$f":"'20'!$CT$102","v":0},20,{"$f":"VLOOKUP(DS3044,Přehled!$C$5:$AL$24,36)","v":""}]
[null,null,null,null,null,null,null,null,null,null,null,null,null,null,null,null,null,null,null,null,null,null,null,null,null,null,null,null,null,null,null,null,null,null,null,null,null,null,null,null,null,null,null,null,null,null,null,null,null,null,null,null,null,null,null,null,null,null,null,null,null,null,null,null,null,null,null,null,{"$f":"'20'!$AO$103","v":0},{"$f":"'20'!$AP$103","v":0},{"$f":"'20'!$AQ$103","v":0},{"$f":"'20'!$AR$103","v":0},{"$f":"'20'!$AS$103","v":0},{"$f":"'20'!$AT$103","v":0},20,{"$f":"VLOOKUP(BW3045,Přehled!$C$5:$AL$24,36)","v":""},null,null,null,null,null,null,null,null,null,null,null,null,null,null,null,null,null,null,null,null,{"$f":"'20'!$BP$103","v":0},{"$f":"'20'!$BQ$103","v":0},{"$f":"'20'!$BR$103","v":0},{"$f":"'20'!$BS$103","v":0},{"$f":"'20'!$BT$103","v":0},{"$f":"'20'!$BU$103","v":0},20,{"$f":"VLOOKUP(CY3045,Přehled!$C$5:$AL$24,36)","v":""},null,null,null,null,null,null,null,null,null,null,null,null,null,null,null,{"$f":"'20'!$CR$103","v":0},{"$f":"'20'!$CS$103","v":0},{"$f":"'20'!$CT$103","v":0},20,{"$f":"VLOOKUP(DS3045,Přehled!$C$5:$AL$24,36)","v":""}]
[null,null,null,null,null,null,null,null,null,null,null,null,null,null,null,null,null,null,null,null,null,null,null,null,null,null,null,null,null,null,null,null,null,null,null,null,null,null,null,null,null,null,null,null,null,null,null,null,null,null,null,null,null,null,null,null,null,null,null,null,null,null,null,null,null,null,null,null,{"$f":"'20'!$AO$104","v":0},{"$f":"'20'!$AP$104","v":0},{"$f":"'20'!$AQ$104","v":0},{"$f":"'20'!$AR$104","v":0},{"$f":"'20'!$AS$104","v":0},{"$f":"'20'!$AT$104","v":0},20,{"$f":"VLOOKUP(BW3046,Přehled!$C$5:$AL$24,36)","v":""},null,null,null,null,null,null,null,null,null,null,null,null,null,null,null,null,null,null,null,null,{"$f":"'20'!$BP$104","v":0},{"$f":"'20'!$BQ$104","v":0},{"$f":"'20'!$BR$104","v":0},{"$f":"'20'!$BS$104","v":0},{"$f":"'20'!$BT$104","v":0},{"$f":"'20'!$BU$104","v":0},20,{"$f":"VLOOKUP(CY3046,Přehled!$C$5:$AL$24,36)","v":""},null,null,null,null,null,null,null,null,null,null,null,null,null,null,null,{"$f":"'20'!$CR$104","v":0},{"$f":"'20'!$CS$104","v":0},{"$f":"'20'!$CT$104","v":0},20,{"$f":"VLOOKUP(DS3046,Přehled!$C$5:$AL$24,36)","v":""}]
[null,null,null,null,null,null,null,null,null,null,null,null,null,null,null,null,null,null,null,null,null,null,null,null,null,null,null,null,null,null,null,null,null,null,null,null,null,null,null,null,null,null,null,null,null,null,null,null,null,null,null,null,null,null,null,null,null,null,null,null,null,null,null,null,null,null,null,null,{"$f":"'20'!$AO$105","v":0},{"$f":"'20'!$AP$105","v":0},{"$f":"'20'!$AQ$105","v":0},{"$f":"'20'!$AR$105","v":0},{"$f":"'20'!$AS$105","v":0},{"$f":"'20'!$AT$105","v":0},20,{"$f":"VLOOKUP(BW3047,Přehled!$C$5:$AL$24,36)","v":""},null,null,null,null,null,null,null,null,null,null,null,null,null,null,null,null,null,null,null,null,{"$f":"'20'!$BP$105","v":0},{"$f":"'20'!$BQ$105","v":0},{"$f":"'20'!$BR$105","v":0},{"$f":"'20'!$BS$105","v":0},{"$f":"'20'!$BT$105","v":0},{"$f":"'20'!$BU$105","v":0},20,{"$f":"VLOOKUP(CY3047,Přehled!$C$5:$AL$24,36)","v":""},null,null,null,null,null,null,null,null,null,null,null,null,null,null,null,{"$f":"'20'!$CR$105","v":0},{"$f":"'20'!$CS$105","v":0},{"$f":"'20'!$CT$105","v":0},20,{"$f":"VLOOKUP(DS3047,Přehled!$C$5:$AL$24,36)","v":""}]
[null,null,null,null,null,null,null,null,null,null,null,null,null,null,null,null,null,null,null,null,null,null,null,null,null,null,null,null,null,null,null,null,null,null,null,null,null,null,null,null,null,null,null,null,null,null,null,null,null,null,null,null,null,null,null,null,null,null,null,null,null,null,null,null,null,null,null,null,{"$f":"'20'!$AO$106","v":0},{"$f":"'20'!$AP$106","v":0},{"$f":"'20'!$AQ$106","v":0},{"$f":"'20'!$AR$106","v":0},{"$f":"'20'!$AS$106","v":0},{"$f":"'20'!$AT$106","v":0},20,{"$f":"VLOOKUP(BW3048,Přehled!$C$5:$AL$24,36)","v":""},null,null,null,null,null,null,null,null,null,null,null,null,null,null,null,null,null,null,null,null,{"$f":"'20'!$BP$106","v":0},{"$f":"'20'!$BQ$106","v":0},{"$f":"'20'!$BR$106","v":0},{"$f":"'20'!$BS$106","v":0},{"$f":"'20'!$BT$106","v":0},{"$f":"'20'!$BU$106","v":0},20,{"$f":"VLOOKUP(CY3048,Přehled!$C$5:$AL$24,36)","v":""},null,null,null,null,null,null,null,null,null,null,null,null,null,null,null,{"$f":"'20'!$CR$106","v":0},{"$f":"'20'!$CS$106","v":0},{"$f":"'20'!$CT$106","v":0},20,{"$f":"VLOOKUP(DS3048,Přehled!$C$5:$AL$24,36)","v":""}]
[null,null,null,null,null,null,null,null,null,null,null,null,null,null,null,null,null,null,null,null,null,null,null,null,null,null,null,null,null,null,null,null,null,null,null,null,null,null,null,null,null,null,null,null,null,null,null,null,null,null,null,null,null,null,null,null,null,null,null,null,null,null,null,null,null,null,null,null,{"$f":"'20'!$AO$107","v":0},{"$f":"'20'!$AP$107","v":0},{"$f":"'20'!$AQ$107","v":0},{"$f":"'20'!$AR$107","v":0},{"$f":"'20'!$AS$107","v":0},{"$f":"'20'!$AT$107","v":0},20,{"$f":"VLOOKUP(BW3049,Přehled!$C$5:$AL$24,36)","v":""},null,null,null,null,null,null,null,null,null,null,null,null,null,null,null,null,null,null,null,null,{"$f":"'20'!$BP$107","v":0},{"$f":"'20'!$BQ$107","v":0},{"$f":"'20'!$BR$107","v":0},{"$f":"'20'!$BS$107","v":0},{"$f":"'20'!$BT$107","v":0},{"$f":"'20'!$BU$107","v":0},20,{"$f":"VLOOKUP(CY3049,Přehled!$C$5:$AL$24,36)","v":""},null,null,null,null,null,null,null,null,null,null,null,null,null,null,null,{"$f":"'20'!$CR$107","v":0},{"$f":"'20'!$CS$107","v":0},{"$f":"'20'!$CT$107","v":0},20,{"$f":"VLOOKUP(DS3049,Přehled!$C$5:$AL$24,36)","v":""}]
[null,null,null,null,null,null,null,null,null,null,null,null,null,null,null,null,null,null,null,null,null,null,null,null,null,null,null,null,null,null,null,null,null,null,null,null,null,null,null,null,null,null,null,null,null,null,null,null,null,null,null,null,null,null,null,null,null,null,null,null,null,null,null,null,null,null,null,null,{"$f":"'20'!$AO$108","v":0},{"$f":"'20'!$AP$108","v":0},{"$f":"'20'!$AQ$108","v":0},{"$f":"'20'!$AR$108","v":0},{"$f":"'20'!$AS$108","v":0},{"$f":"'20'!$AT$108","v":0},20,{"$f":"VLOOKUP(BW3050,Přehled!$C$5:$AL$24,36)","v":""},null,null,null,null,null,null,null,null,null,null,null,null,null,null,null,null,null,null,null,null,{"$f":"'20'!$BP$108","v":0},{"$f":"'20'!$BQ$108","v":0},{"$f":"'20'!$BR$108","v":0},{"$f":"'20'!$BS$108","v":0},{"$f":"'20'!$BT$108","v":0},{"$f":"'20'!$BU$108","v":0},20,{"$f":"VLOOKUP(CY3050,Přehled!$C$5:$AL$24,36)","v":""},null,null,null,null,null,null,null,null,null,null,null,null,null,null,null,{"$f":"'20'!$CR$108","v":0},{"$f":"'20'!$CS$108","v":0},{"$f":"'20'!$CT$108","v":0},20,{"$f":"VLOOKUP(DS3050,Přehled!$C$5:$AL$24,36)","v":""}]
[null,null,null,null,null,null,null,null,null,null,null,null,null,null,null,null,null,null,null,null,null,null,null,null,null,null,null,null,null,null,null,null,null,null,null,null,null,null,null,null,null,null,null,null,null,null,null,null,null,null,null,null,null,null,null,null,null,null,null,null,null,null,null,null,null,null,null,null,{"$f":"'20'!$AO$109","v":0},{"$f":"'20'!$AP$109","v":0},{"$f":"'20'!$AQ$109","v":0},{"$f":"'20'!$AR$109","v":0},{"$f":"'20'!$AS$109","v":0},{"$f":"'20'!$AT$109","v":0},20,{"$f":"VLOOKUP(BW3051,Přehled!$C$5:$AL$24,36)","v":""},null,null,null,null,null,null,null,null,null,null,null,null,null,null,null,null,null,null,null,null,{"$f":"'20'!$BP$109","v":0},{"$f":"'20'!$BQ$109","v":0},{"$f":"'20'!$BR$109","v":0},{"$f":"'20'!$BS$109","v":0},{"$f":"'20'!$BT$109","v":0},{"$f":"'20'!$BU$109","v":0},20,{"$f":"VLOOKUP(CY3051,Přehled!$C$5:$AL$24,36)","v":""},null,null,null,null,null,null,null,null,null,null,null,null,null,null,null,{"$f":"'20'!$CR$109","v":0},{"$f":"'20'!$CS$109","v":0},{"$f":"'20'!$CT$109","v":0},20,{"$f":"VLOOKUP(DS3051,Přehled!$C$5:$AL$24,36)","v":""}]
[null,null,null,null,null,null,null,null,null,null,null,null,null,null,null,null,null,null,null,null,null,null,null,null,null,null,null,null,null,null,null,null,null,null,null,null,null,null,null,null,null,null,null,null,null,null,null,null,null,null,null,null,null,null,null,null,null,null,null,null,null,null,null,null,null,null,null,null,{"$f":"'20'!$AO$110","v":0},{"$f":"'20'!$AP$110","v":0},{"$f":"'20'!$AQ$110","v":0},{"$f":"'20'!$AR$110","v":0},{"$f":"'20'!$AS$110","v":0},{"$f":"'20'!$AT$110","v":0},20,{"$f":"VLOOKUP(BW3052,Přehled!$C$5:$AL$24,36)","v":""},null,null,null,null,null,null,null,null,null,null,null,null,null,null,null,null,null,null,null,null,{"$f":"'20'!$BP$110","v":0},{"$f":"'20'!$BQ$110","v":0},{"$f":"'20'!$BR$110","v":0},{"$f":"'20'!$BS$110","v":0},{"$f":"'20'!$BT$110","v":0},{"$f":"'20'!$BU$110","v":0},20,{"$f":"VLOOKUP(CY3052,Přehled!$C$5:$AL$24,36)","v":""},null,null,null,null,null,null,null,null,null,null,null,null,null,null,null,{"$f":"'20'!$CR$110","v":0},{"$f":"'20'!$CS$110","v":0},{"$f":"'20'!$CT$110","v":0},20,{"$f":"VLOOKUP(DS3052,Přehled!$C$5:$AL$24,36)","v":""}]
[null,null,null,null,null,null,null,null,null,null,null,null,null,null,null,null,null,null,null,null,null,null,null,null,null,null,null,null,null,null,null,null,null,null,null,null,null,null,null,null,null,null,null,null,null,null,null,null,null,null,null,null,null,null,null,null,null,null,null,null,null,null,null,null,null,null,null,null,{"$f":"'20'!$AO$111","v":0},{"$f":"'20'!$AP$111","v":0},{"$f":"'20'!$AQ$111","v":0},{"$f":"'20'!$AR$111","v":0},{"$f":"'20'!$AS$111","v":0},{"$f":"'20'!$AT$111","v":0},20,{"$f":"VLOOKUP(BW3053,Přehled!$C$5:$AL$24,36)","v":""},null,null,null,null,null,null,null,null,null,null,null,null,null,null,null,null,null,null,null,null,{"$f":"'20'!$BP$111","v":0},{"$f":"'20'!$BQ$111","v":0},{"$f":"'20'!$BR$111","v":0},{"$f":"'20'!$BS$111","v":0},{"$f":"'20'!$BT$111","v":0},{"$f":"'20'!$BU$111","v":0},20,{"$f":"VLOOKUP(CY3053,Přehled!$C$5:$AL$24,36)","v":""},null,null,null,null,null,null,null,null,null,null,null,null,null,null,null,{"$f":"'20'!$CR$111","v":0},{"$f":"'20'!$CS$111","v":0},{"$f":"'20'!$CT$111","v":0},20,{"$f":"VLOOKUP(DS3053,Přehled!$C$5:$AL$24,36)","v":""}]
[null,null,null,null,null,null,null,null,null,null,null,null,null,null,null,null,null,null,null,null,null,null,null,null,null,null,null,null,null,null,null,null,null,null,null,null,null,null,null,null,null,null,null,null,null,null,null,null,null,null,null,null,null,null,null,null,null,null,null,null,null,null,null,null,null,null,null,null,{"$f":"'20'!$AO$112","v":0},{"$f":"'20'!$AP$112","v":0},{"$f":"'20'!$AQ$112","v":0},{"$f":"'20'!$AR$112","v":0},{"$f":"'20'!$AS$112","v":0},{"$f":"'20'!$AT$112","v":0},20,{"$f":"VLOOKUP(BW3054,Přehled!$C$5:$AL$24,36)","v":""},null,null,null,null,null,null,null,null,null,null,null,null,null,null,null,null,null,null,null,null,{"$f":"'20'!$BP$112","v":0},{"$f":"'20'!$BQ$112","v":0},{"$f":"'20'!$BR$112","v":0},{"$f":"'20'!$BS$112","v":0},{"$f":"'20'!$BT$112","v":0},{"$f":"'20'!$BU$112","v":0},20,{"$f":"VLOOKUP(CY3054,Přehled!$C$5:$AL$24,36)","v":""},null,null,null,null,null,null,null,null,null,null,null,null,null,null,null,{"$f":"'20'!$CR$112","v":0},{"$f":"'20'!$CS$112","v":0},{"$f":"'20'!$CT$112","v":0},20,{"$f":"VLOOKUP(DS3054,Přehled!$C$5:$AL$24,36)","v":""}]
[null,null,null,null,null,null,null,null,null,null,null,null,null,null,null,null,null,null,null,null,null,null,null,null,null,null,null,null,null,null,null,null,null,null,null,null,null,null,null,null,null,null,null,null,null,null,null,null,null,null,null,null,null,null,null,null,null,null,null,null,null,null,null,null,null,null,null,null,{"$f":"'20'!$AO$113","v":0},{"$f":"'20'!$AP$113","v":0},{"$f":"'20'!$AQ$113","v":0},{"$f":"'20'!$AR$113","v":0},{"$f":"'20'!$AS$113","v":0},{"$f":"'20'!$AT$113","v":0},20,{"$f":"VLOOKUP(BW3055,Přehled!$C$5:$AL$24,36)","v":""},null,null,null,null,null,null,null,null,null,null,null,null,null,null,null,null,null,null,null,null,{"$f":"'20'!$BP$113","v":0},{"$f":"'20'!$BQ$113","v":0},{"$f":"'20'!$BR$113","v":0},{"$f":"'20'!$BS$113","v":0},{"$f":"'20'!$BT$113","v":0},{"$f":"'20'!$BU$113","v":0},20,{"$f":"VLOOKUP(CY3055,Přehled!$C$5:$AL$24,36)","v":""},null,null,null,null,null,null,null,null,null,null,null,null,null,null,null,{"$f":"'20'!$CR$113","v":0},{"$f":"'20'!$CS$113","v":0},{"$f":"'20'!$CT$113","v":0},20,{"$f":"VLOOKUP(DS3055,Přehled!$C$5:$AL$24,36)","v":""}]
[null,null,null,null,null,null,null,null,null,null,null,null,null,null,null,null,null,null,null,null,null,null,null,null,null,null,null,null,null,null,null,null,null,null,null,null,null,null,null,null,null,null,null,null,null,null,null,null,null,null,null,null,null,null,null,null,null,null,null,null,null,null,null,null,null,null,null,null,{"$f":"'20'!$AO$114","v":0},{"$f":"'20'!$AP$114","v":0},{"$f":"'20'!$AQ$114","v":0},{"$f":"'20'!$AR$114","v":0},{"$f":"'20'!$AS$114","v":0},{"$f":"'20'!$AT$114","v":0},20,{"$f":"VLOOKUP(BW3056,Přehled!$C$5:$AL$24,36)","v":""},null,null,null,null,null,null,null,null,null,null,null,null,null,null,null,null,null,null,null,null,{"$f":"'20'!$BP$114","v":0},{"$f":"'20'!$BQ$114","v":0},{"$f":"'20'!$BR$114","v":0},{"$f":"'20'!$BS$114","v":0},{"$f":"'20'!$BT$114","v":0},{"$f":"'20'!$BU$114","v":0},20,{"$f":"VLOOKUP(CY3056,Přehled!$C$5:$AL$24,36)","v":""},null,null,null,null,null,null,null,null,null,null,null,null,null,null,null,{"$f":"'20'!$CR$114","v":0},{"$f":"'20'!$CS$114","v":0},{"$f":"'20'!$CT$114","v":0},20,{"$f":"VLOOKUP(DS3056,Přehled!$C$5:$AL$24,36)","v":""}]
[null,null,null,null,null,null,null,null,null,null,null,null,null,null,null,null,null,null,null,null,null,null,null,null,null,null,null,null,null,null,null,null,null,null,null,null,null,null,null,null,null,null,null,null,null,null,null,null,null,null,null,null,null,null,null,null,null,null,null,null,null,null,null,null,null,null,null,null,{"$f":"'20'!$AO$115","v":0},{"$f":"'20'!$AP$115","v":0},{"$f":"'20'!$AQ$115","v":0},{"$f":"'20'!$AR$115","v":0},{"$f":"'20'!$AS$115","v":0},{"$f":"'20'!$AT$115","v":0},20,{"$f":"VLOOKUP(BW3057,Přehled!$C$5:$AL$24,36)","v":""},null,null,null,null,null,null,null,null,null,null,null,null,null,null,null,null,null,null,null,null,{"$f":"'20'!$BP$115","v":0},{"$f":"'20'!$BQ$115","v":0},{"$f":"'20'!$BR$115","v":0},{"$f":"'20'!$BS$115","v":0},{"$f":"'20'!$BT$115","v":0},{"$f":"'20'!$BU$115","v":0},20,{"$f":"VLOOKUP(CY3057,Přehled!$C$5:$AL$24,36)","v":""},null,null,null,null,null,null,null,null,null,null,null,null,null,null,null,{"$f":"'20'!$CR$115","v":0},{"$f":"'20'!$CS$115","v":0},{"$f":"'20'!$CT$115","v":0},20,{"$f":"VLOOKUP(DS3057,Přehled!$C$5:$AL$24,36)","v":""}]
[null,null,null,null,null,null,null,null,null,null,null,null,null,null,null,null,null,null,null,null,null,null,null,null,null,null,null,null,null,null,null,null,null,null,null,null,null,null,null,null,null,null,null,null,null,null,null,null,null,null,null,null,null,null,null,null,null,null,null,null,null,null,null,null,null,null,null,null,{"$f":"'20'!$AO$116","v":0},{"$f":"'20'!$AP$116","v":0},{"$f":"'20'!$AQ$116","v":0},{"$f":"'20'!$AR$116","v":0},{"$f":"'20'!$AS$116","v":0},{"$f":"'20'!$AT$116","v":0},20,{"$f":"VLOOKUP(BW3058,Přehled!$C$5:$AL$24,36)","v":""},null,null,null,null,null,null,null,null,null,null,null,null,null,null,null,null,null,null,null,null,{"$f":"'20'!$BP$116","v":0},{"$f":"'20'!$BQ$116","v":0},{"$f":"'20'!$BR$116","v":0},{"$f":"'20'!$BS$116","v":0},{"$f":"'20'!$BT$116","v":0},{"$f":"'20'!$BU$116","v":0},20,{"$f":"VLOOKUP(CY3058,Přehled!$C$5:$AL$24,36)","v":""},null,null,null,null,null,null,null,null,null,null,null,null,null,null,null,{"$f":"'20'!$CR$116","v":0},{"$f":"'20'!$CS$116","v":0},{"$f":"'20'!$CT$116","v":0},20,{"$f":"VLOOKUP(DS3058,Přehled!$C$5:$AL$24,36)","v":""}]
[null,null,null,null,null,null,null,null,null,null,null,null,null,null,null,null,null,null,null,null,null,null,null,null,null,null,null,null,null,null,null,null,null,null,null,null,null,null,null,null,null,null,null,null,null,null,null,null,null,null,null,null,null,null,null,null,null,null,null,null,null,null,null,null,null,null,null,null,{"$f":"'20'!$AO$117","v":0},{"$f":"'20'!$AP$117","v":0},{"$f":"'20'!$AQ$117","v":0},{"$f":"'20'!$AR$117","v":0},{"$f":"'20'!$AS$117","v":0},{"$f":"'20'!$AT$117","v":0},20,{"$f":"VLOOKUP(BW3059,Přehled!$C$5:$AL$24,36)","v":""},null,null,null,null,null,null,null,null,null,null,null,null,null,null,null,null,null,null,null,null,{"$f":"'20'!$BP$117","v":0},{"$f":"'20'!$BQ$117","v":0},{"$f":"'20'!$BR$117","v":0},{"$f":"'20'!$BS$117","v":0},{"$f":"'20'!$BT$117","v":0},{"$f":"'20'!$BU$117","v":0},20,{"$f":"VLOOKUP(CY3059,Přehled!$C$5:$AL$24,36)","v":""},null,null,null,null,null,null,null,null,null,null,null,null,null,null,null,{"$f":"'20'!$CR$117","v":0},{"$f":"'20'!$CS$117","v":0},{"$f":"'20'!$CT$117","v":0},20,{"$f":"VLOOKUP(DS3059,Přehled!$C$5:$AL$24,36)","v":""}]
[null,null,null,null,null,null,null,null,null,null,null,null,null,null,null,null,null,null,null,null,null,null,null,null,null,null,null,null,null,null,null,null,null,null,null,null,null,null,null,null,null,null,null,null,null,null,null,null,null,null,null,null,null,null,null,null,null,null,null,null,null,null,null,null,null,null,null,null,{"$f":"'20'!$AO$118","v":0},{"$f":"'20'!$AP$118","v":0},{"$f":"'20'!$AQ$118","v":0},{"$f":"'20'!$AR$118","v":0},{"$f":"'20'!$AS$118","v":0},{"$f":"'20'!$AT$118","v":0},20,{"$f":"VLOOKUP(BW3060,Přehled!$C$5:$AL$24,36)","v":""},null,null,null,null,null,null,null,null,null,null,null,null,null,null,null,null,null,null,null,null,{"$f":"'20'!$BP$118","v":0},{"$f":"'20'!$BQ$118","v":0},{"$f":"'20'!$BR$118","v":0},{"$f":"'20'!$BS$118","v":0},{"$f":"'20'!$BT$118","v":0},{"$f":"'20'!$BU$118","v":0},20,{"$f":"VLOOKUP(CY3060,Přehled!$C$5:$AL$24,36)","v":""},null,null,null,null,null,null,null,null,null,null,null,null,null,null,null,{"$f":"'20'!$CR$118","v":0},{"$f":"'20'!$CS$118","v":0},{"$f":"'20'!$CT$118","v":0},20,{"$f":"VLOOKUP(DS3060,Přehled!$C$5:$AL$24,36)","v":""}]
[null,null,null,null,null,null,null,null,null,null,null,null,null,null,null,null,null,null,null,null,null,null,null,null,null,null,null,null,null,null,null,null,null,null,null,null,null,null,null,null,null,null,null,null,null,null,null,null,null,null,null,null,null,null,null,null,null,null,null,null,null,null,null,null,null,null,null,null,{"$f":"'20'!$AO$119","v":0},{"$f":"'20'!$AP$119","v":0},{"$f":"'20'!$AQ$119","v":0},{"$f":"'20'!$AR$119","v":0},{"$f":"'20'!$AS$119","v":0},{"$f":"'20'!$AT$119","v":0},20,{"$f":"VLOOKUP(BW3061,Přehled!$C$5:$AL$24,36)","v":""},null,null,null,null,null,null,null,null,null,null,null,null,null,null,null,null,null,null,null,null,{"$f":"'20'!$BP$119","v":0},{"$f":"'20'!$BQ$119","v":0},{"$f":"'20'!$BR$119","v":0},{"$f":"'20'!$BS$119","v":0},{"$f":"'20'!$BT$119","v":0},{"$f":"'20'!$BU$119","v":0},20,{"$f":"VLOOKUP(CY3061,Přehled!$C$5:$AL$24,36)","v":""},null,null,null,null,null,null,null,null,null,null,null,null,null,null,null,{"$f":"'20'!$CR$119","v":0},{"$f":"'20'!$CS$119","v":0},{"$f":"'20'!$CT$119","v":0},20,{"$f":"VLOOKUP(DS3061,Přehled!$C$5:$AL$24,36)","v":""}]
[null,null,null,null,null,null,null,null,null,null,null,null,null,null,null,null,null,null,null,null,null,null,null,null,null,null,null,null,null,null,null,null,null,null,null,null,null,null,null,null,null,null,null,null,null,null,null,null,null,null,null,null,null,null,null,null,null,null,null,null,null,null,null,null,null,null,null,null,{"$f":"'20'!$AO$120","v":0},{"$f":"'20'!$AP$120","v":0},{"$f":"'20'!$AQ$120","v":0},{"$f":"'20'!$AR$120","v":0},{"$f":"'20'!$AS$120","v":0},{"$f":"'20'!$AT$120","v":0},20,{"$f":"VLOOKUP(BW3062,Přehled!$C$5:$AL$24,36)","v":""},null,null,null,null,null,null,null,null,null,null,null,null,null,null,null,null,null,null,null,null,{"$f":"'20'!$BP$120","v":0},{"$f":"'20'!$BQ$120","v":0},{"$f":"'20'!$BR$120","v":0},{"$f":"'20'!$BS$120","v":0},{"$f":"'20'!$BT$120","v":0},{"$f":"'20'!$BU$120","v":0},20,{"$f":"VLOOKUP(CY3062,Přehled!$C$5:$AL$24,36)","v":""},null,null,null,null,null,null,null,null,null,null,null,null,null,null,null,{"$f":"'20'!$CR$120","v":0},{"$f":"'20'!$CS$120","v":0},{"$f":"'20'!$CT$120","v":0},20,{"$f":"VLOOKUP(DS3062,Přehled!$C$5:$AL$24,36)","v":""}]
[null,null,null,null,null,null,null,null,null,null,null,null,null,null,null,null,null,null,null,null,null,null,null,null,null,null,null,null,null,null,null,null,null,null,null,null,null,null,null,null,null,null,null,null,null,null,null,null,null,null,null,null,null,null,null,null,null,null,null,null,null,null,null,null,null,null,null,null,{"$f":"'20'!$AO$121","v":0},{"$f":"'20'!$AP$121","v":0},{"$f":"'20'!$AQ$121","v":0},{"$f":"'20'!$AR$121","v":0},{"$f":"'20'!$AS$121","v":0},{"$f":"'20'!$AT$121","v":0},20,{"$f":"VLOOKUP(BW3063,Přehled!$C$5:$AL$24,36)","v":""},null,null,null,null,null,null,null,null,null,null,null,null,null,null,null,null,null,null,null,null,{"$f":"'20'!$BP$121","v":0},{"$f":"'20'!$BQ$121","v":0},{"$f":"'20'!$BR$121","v":0},{"$f":"'20'!$BS$121","v":0},{"$f":"'20'!$BT$121","v":0},{"$f":"'20'!$BU$121","v":0},20,{"$f":"VLOOKUP(CY3063,Přehled!$C$5:$AL$24,36)","v":""},null,null,null,null,null,null,null,null,null,null,null,null,null,null,null,{"$f":"'20'!$CR$121","v":0},{"$f":"'20'!$CS$121","v":0},{"$f":"'20'!$CT$121","v":0},20,{"$f":"VLOOKUP(DS3063,Přehled!$C$5:$AL$24,36)","v":""}]
[null,null,null,null,null,null,null,null,null,null,null,null,null,null,null,null,null,null,null,null,null,null,null,null,null,null,null,null,null,null,null,null,null,null,null,null,null,null,null,null,null,null,null,null,null,null,null,null,null,null,null,null,null,null,null,null,null,null,null,null,null,null,null,null,null,null,null,null,{"$f":"'20'!$AO$122","v":0},{"$f":"'20'!$AP$122","v":0},{"$f":"'20'!$AQ$122","v":0},{"$f":"'20'!$AR$122","v":0},{"$f":"'20'!$AS$122","v":0},{"$f":"'20'!$AT$122","v":0},20,{"$f":"VLOOKUP(BW3064,Přehled!$C$5:$AL$24,36)","v":""},null,null,null,null,null,null,null,null,null,null,null,null,null,null,null,null,null,null,null,null,{"$f":"'20'!$BP$122","v":0},{"$f":"'20'!$BQ$122","v":0},{"$f":"'20'!$BR$122","v":0},{"$f":"'20'!$BS$122","v":0},{"$f":"'20'!$BT$122","v":0},{"$f":"'20'!$BU$122","v":0},20,{"$f":"VLOOKUP(CY3064,Přehled!$C$5:$AL$24,36)","v":""},null,null,null,null,null,null,null,null,null,null,null,null,null,null,null,{"$f":"'20'!$CR$122","v":0},{"$f":"'20'!$CS$122","v":0},{"$f":"'20'!$CT$122","v":0},20,{"$f":"VLOOKUP(DS3064,Přehled!$C$5:$AL$24,36)","v":""}]
[null,null,null,null,null,null,null,null,null,null,null,null,null,null,null,null,null,null,null,null,null,null,null,null,null,null,null,null,null,null,null,null,null,null,null,null,null,null,null,null,null,null,null,null,null,null,null,null,null,null,null,null,null,null,null,null,null,null,null,null,null,null,null,null,null,null,null,null,{"$f":"'20'!$AO$123","v":0},{"$f":"'20'!$AP$123","v":0},{"$f":"'20'!$AQ$123","v":0},{"$f":"'20'!$AR$123","v":0},{"$f":"'20'!$AS$123","v":0},{"$f":"'20'!$AT$123","v":0},20,{"$f":"VLOOKUP(BW3065,Přehled!$C$5:$AL$24,36)","v":""},null,null,null,null,null,null,null,null,null,null,null,null,null,null,null,null,null,null,null,null,{"$f":"'20'!$BP$123","v":0},{"$f":"'20'!$BQ$123","v":0},{"$f":"'20'!$BR$123","v":0},{"$f":"'20'!$BS$123","v":0},{"$f":"'20'!$BT$123","v":0},{"$f":"'20'!$BU$123","v":0},20,{"$f":"VLOOKUP(CY3065,Přehled!$C$5:$AL$24,36)","v":""},null,null,null,null,null,null,null,null,null,null,null,null,null,null,null,{"$f":"'20'!$CR$123","v":0},{"$f":"'20'!$CS$123","v":0},{"$f":"'20'!$CT$123","v":0},20,{"$f":"VLOOKUP(DS3065,Přehled!$C$5:$AL$24,36)","v":""}]
[null,null,null,null,null,null,null,null,null,null,null,null,null,null,null,null,null,null,null,null,null,null,null,null,null,null,null,null,null,null,null,null,null,null,null,null,null,null,null,null,null,null,null,null,null,null,null,null,null,null,null,null,null,null,null,null,null,null,null,null,null,null,null,null,null,null,null,null,{"$f":"'20'!$AO$124","v":0},{"$f":"'20'!$AP$124","v":0},{"$f":"'20'!$AQ$124","v":0},{"$f":"'20'!$AR$124","v":0},{"$f":"'20'!$AS$124","v":0},{"$f":"'20'!$AT$124","v":0},20,{"$f":"VLOOKUP(BW3066,Přehled!$C$5:$AL$24,36)","v":""},null,null,null,null,null,null,null,null,null,null,null,null,null,null,null,null,null,null,null,null,{"$f":"'20'!$BP$124","v":0},{"$f":"'20'!$BQ$124","v":0},{"$f":"'20'!$BR$124","v":0},{"$f":"'20'!$BS$124","v":0},{"$f":"'20'!$BT$124","v":0},{"$f":"'20'!$BU$124","v":0},20,{"$f":"VLOOKUP(CY3066,Přehled!$C$5:$AL$24,36)","v":""},null,null,null,null,null,null,null,null,null,null,null,null,null,null,null,{"$f":"'20'!$CR$124","v":0},{"$f":"'20'!$CS$124","v":0},{"$f":"'20'!$CT$124","v":0},20,{"$f":"VLOOKUP(DS3066,Přehled!$C$5:$AL$24,36)","v":""}]
[null,null,null,null,null,null,null,null,null,null,null,null,null,null,null,null,null,null,null,null,null,null,null,null,null,null,null,null,null,null,null,null,null,null,null,null,null,null,null,null,null,null,null,null,null,null,null,null,null,null,null,null,null,null,null,null,null,null,null,null,null,null,null,null,null,null,null,null,{"$f":"'20'!$AO$125","v":0},{"$f":"'20'!$AP$125","v":0},{"$f":"'20'!$AQ$125","v":0},{"$f":"'20'!$AR$125","v":0},{"$f":"'20'!$AS$125","v":0},{"$f":"'20'!$AT$125","v":0},20,{"$f":"VLOOKUP(BW3067,Přehled!$C$5:$AL$24,36)","v":""},null,null,null,null,null,null,null,null,null,null,null,null,null,null,null,null,null,null,null,null,{"$f":"'20'!$BP$125","v":0},{"$f":"'20'!$BQ$125","v":0},{"$f":"'20'!$BR$125","v":0},{"$f":"'20'!$BS$125","v":0},{"$f":"'20'!$BT$125","v":0},{"$f":"'20'!$BU$125","v":0},20,{"$f":"VLOOKUP(CY3067,Přehled!$C$5:$AL$24,36)","v":""},null,null,null,null,null,null,null,null,null,null,null,null,null,null,null,{"$f":"'20'!$CR$125","v":0},{"$f":"'20'!$CS$125","v":0},{"$f":"'20'!$CT$125","v":0},20,{"$f":"VLOOKUP(DS3067,Přehled!$C$5:$AL$24,36)","v":""}]
[null,null,null,null,null,null,null,null,null,null,null,null,null,null,null,null,null,null,null,null,null,null,null,null,null,null,null,null,null,null,null,null,null,null,null,null,null,null,null,null,null,null,null,null,null,null,null,null,null,null,null,null,null,null,null,null,null,null,null,null,null,null,null,null,null,null,null,null,{"$f":"'20'!$AO$126","v":0},{"$f":"'20'!$AP$126","v":0},{"$f":"'20'!$AQ$126","v":0},{"$f":"'20'!$AR$126","v":0},{"$f":"'20'!$AS$126","v":0},{"$f":"'20'!$AT$126","v":0},20,{"$f":"VLOOKUP(BW3068,Přehled!$C$5:$AL$24,36)","v":""},null,null,null,null,null,null,null,null,null,null,null,null,null,null,null,null,null,null,null,null,{"$f":"'20'!$BP$126","v":0},{"$f":"'20'!$BQ$126","v":0},{"$f":"'20'!$BR$126","v":0},{"$f":"'20'!$BS$126","v":0},{"$f":"'20'!$BT$126","v":0},{"$f":"'20'!$BU$126","v":0},20,{"$f":"VLOOKUP(CY3068,Přehled!$C$5:$AL$24,36)","v":""},null,null,null,null,null,null,null,null,null,null,null,null,null,null,null,{"$f":"'20'!$CR$126","v":0},{"$f":"'20'!$CS$126","v":0},{"$f":"'20'!$CT$126","v":0},20,{"$f":"VLOOKUP(DS3068,Přehled!$C$5:$AL$24,36)","v":""}]
[null,null,null,null,null,null,null,null,null,null,null,null,null,null,null,null,null,null,null,null,null,null,null,null,null,null,null,null,null,null,null,null,null,null,null,null,null,null,null,null,null,null,null,null,null,null,null,null,null,null,null,null,null,null,null,null,null,null,null,null,null,null,null,null,null,null,null,null,{"$f":"'20'!$AO$127","v":0},{"$f":"'20'!$AP$127","v":0},{"$f":"'20'!$AQ$127","v":0},{"$f":"'20'!$AR$127","v":0},{"$f":"'20'!$AS$127","v":0},{"$f":"'20'!$AT$127","v":0},20,{"$f":"VLOOKUP(BW3069,Přehled!$C$5:$AL$24,36)","v":""},null,null,null,null,null,null,null,null,null,null,null,null,null,null,null,null,null,null,null,null,{"$f":"'20'!$BP$127","v":0},{"$f":"'20'!$BQ$127","v":0},{"$f":"'20'!$BR$127","v":0},{"$f":"'20'!$BS$127","v":0},{"$f":"'20'!$BT$127","v":0},{"$f":"'20'!$BU$127","v":0},20,{"$f":"VLOOKUP(CY3069,Přehled!$C$5:$AL$24,36)","v":""},null,null,null,null,null,null,null,null,null,null,null,null,null,null,null,{"$f":"'20'!$CR$127","v":0},{"$f":"'20'!$CS$127","v":0},{"$f":"'20'!$CT$127","v":0},20,{"$f":"VLOOKUP(DS3069,Přehled!$C$5:$AL$24,36)","v":""}]
[null,null,null,null,null,null,null,null,null,null,null,null,null,null,null,null,null,null,null,null,null,null,null,null,null,null,null,null,null,null,null,null,null,null,null,null,null,null,null,null,null,null,null,null,null,null,null,null,null,null,null,null,null,null,null,null,null,null,null,null,null,null,null,null,null,null,null,null,{"$f":"'20'!$AO$128","v":0},{"$f":"'20'!$AP$128","v":0},{"$f":"'20'!$AQ$128","v":0},{"$f":"'20'!$AR$128","v":0},{"$f":"'20'!$AS$128","v":0},{"$f":"'20'!$AT$128","v":0},20,{"$f":"VLOOKUP(BW3070,Přehled!$C$5:$AL$24,36)","v":""},null,null,null,null,null,null,null,null,null,null,null,null,null,null,null,null,null,null,null,null,{"$f":"'20'!$BP$128","v":0},{"$f":"'20'!$BQ$128","v":0},{"$f":"'20'!$BR$128","v":0},{"$f":"'20'!$BS$128","v":0},{"$f":"'20'!$BT$128","v":0},{"$f":"'20'!$BU$128","v":0},20,{"$f":"VLOOKUP(CY3070,Přehled!$C$5:$AL$24,36)","v":""},null,null,null,null,null,null,null,null,null,null,null,null,null,null,null,{"$f":"'20'!$CR$128","v":0},{"$f":"'20'!$CS$128","v":0},{"$f":"'20'!$CT$128","v":0},20,{"$f":"VLOOKUP(DS3070,Přehled!$C$5:$AL$24,36)","v":""}]
[null,null,null,null,null,null,null,null,null,null,null,null,null,null,null,null,null,null,null,null,null,null,null,null,null,null,null,null,null,null,null,null,null,null,null,null,null,null,null,null,null,null,null,null,null,null,null,null,null,null,null,null,null,null,null,null,null,null,null,null,null,null,null,null,null,null,null,null,{"$f":"'20'!$AO$129","v":0},{"$f":"'20'!$AP$129","v":0},{"$f":"'20'!$AQ$129","v":0},{"$f":"'20'!$AR$129","v":0},{"$f":"'20'!$AS$129","v":0},{"$f":"'20'!$AT$129","v":0},20,{"$f":"VLOOKUP(BW3071,Přehled!$C$5:$AL$24,36)","v":""},null,null,null,null,null,null,null,null,null,null,null,null,null,null,null,null,null,null,null,null,{"$f":"'20'!$BP$129","v":0},{"$f":"'20'!$BQ$129","v":0},{"$f":"'20'!$BR$129","v":0},{"$f":"'20'!$BS$129","v":0},{"$f":"'20'!$BT$129","v":0},{"$f":"'20'!$BU$129","v":0},20,{"$f":"VLOOKUP(CY3071,Přehled!$C$5:$AL$24,36)","v":""},null,null,null,null,null,null,null,null,null,null,null,null,null,null,null,{"$f":"'20'!$CR$129","v":0},{"$f":"'20'!$CS$129","v":0},{"$f":"'20'!$CT$129","v":0},20,{"$f":"VLOOKUP(DS3071,Přehled!$C$5:$AL$24,36)","v":""}]
[null,null,null,null,null,null,null,null,null,null,null,null,null,null,null,null,null,null,null,null,null,null,null,null,null,null,null,null,null,null,null,null,null,null,null,null,null,null,null,null,null,null,null,null,null,null,null,null,null,null,null,null,null,null,null,null,null,null,null,null,null,null,null,null,null,null,null,null,{"$f":"'20'!$AO$130","v":0},{"$f":"'20'!$AP$130","v":0},{"$f":"'20'!$AQ$130","v":0},{"$f":"'20'!$AR$130","v":0},{"$f":"'20'!$AS$130","v":0},{"$f":"'20'!$AT$130","v":0},20,{"$f":"VLOOKUP(BW3072,Přehled!$C$5:$AL$24,36)","v":""},null,null,null,null,null,null,null,null,null,null,null,null,null,null,null,null,null,null,null,null,{"$f":"'20'!$BP$130","v":0},{"$f":"'20'!$BQ$130","v":0},{"$f":"'20'!$BR$130","v":0},{"$f":"'20'!$BS$130","v":0},{"$f":"'20'!$BT$130","v":0},{"$f":"'20'!$BU$130","v":0},20,{"$f":"VLOOKUP(CY3072,Přehled!$C$5:$AL$24,36)","v":""},null,null,null,null,null,null,null,null,null,null,null,null,null,null,null,{"$f":"'20'!$CR$130","v":0},{"$f":"'20'!$CS$130","v":0},{"$f":"'20'!$CT$130","v":0},20,{"$f":"VLOOKUP(DS3072,Přehled!$C$5:$AL$24,36)","v":""}]
[null,null,null,null,null,null,null,null,null,null,null,null,null,null,null,null,null,null,null,null,null,null,null,null,null,null,null,null,null,null,null,null,null,null,null,null,null,null,null,null,null,null,null,null,null,null,null,null,null,null,null,null,null,null,null,null,null,null,null,null,null,null,null,null,null,null,null,null,{"$f":"'20'!$AO$131","v":0},{"$f":"'20'!$AP$131","v":0},{"$f":"'20'!$AQ$131","v":0},{"$f":"'20'!$AR$131","v":0},{"$f":"'20'!$AS$131","v":0},{"$f":"'20'!$AT$131","v":0},20,{"$f":"VLOOKUP(BW3073,Přehled!$C$5:$AL$24,36)","v":""},null,null,null,null,null,null,null,null,null,null,null,null,null,null,null,null,null,null,null,null,{"$f":"'20'!$BP$131","v":0},{"$f":"'20'!$BQ$131","v":0},{"$f":"'20'!$BR$131","v":0},{"$f":"'20'!$BS$131","v":0},{"$f":"'20'!$BT$131","v":0},{"$f":"'20'!$BU$131","v":0},20,{"$f":"VLOOKUP(CY3073,Přehled!$C$5:$AL$24,36)","v":""},null,null,null,null,null,null,null,null,null,null,null,null,null,null,null,{"$f":"'20'!$CR$131","v":0},{"$f":"'20'!$CS$131","v":0},{"$f":"'20'!$CT$131","v":0},20,{"$f":"VLOOKUP(DS3073,Přehled!$C$5:$AL$24,36)","v":""}]
[null,null,null,null,null,null,null,null,null,null,null,null,null,null,null,null,null,null,null,null,null,null,null,null,null,null,null,null,null,null,null,null,null,null,null,null,null,null,null,null,null,null,null,null,null,null,null,null,null,null,null,null,null,null,null,null,null,null,null,null,null,null,null,null,null,null,null,null,{"$f":"'20'!$AO$132","v":0},{"$f":"'20'!$AP$132","v":0},{"$f":"'20'!$AQ$132","v":0},{"$f":"'20'!$AR$132","v":0},{"$f":"'20'!$AS$132","v":0},{"$f":"'20'!$AT$132","v":0},20,{"$f":"VLOOKUP(BW3074,Přehled!$C$5:$AL$24,36)","v":""},null,null,null,null,null,null,null,null,null,null,null,null,null,null,null,null,null,null,null,null,{"$f":"'20'!$BP$132","v":0},{"$f":"'20'!$BQ$132","v":0},{"$f":"'20'!$BR$132","v":0},{"$f":"'20'!$BS$132","v":0},{"$f":"'20'!$BT$132","v":0},{"$f":"'20'!$BU$132","v":0},20,{"$f":"VLOOKUP(CY3074,Přehled!$C$5:$AL$24,36)","v":""},null,null,null,null,null,null,null,null,null,null,null,null,null,null,null,{"$f":"'20'!$CR$132","v":0},{"$f":"'20'!$CS$132","v":0},{"$f":"'20'!$CT$132","v":0},20,{"$f":"VLOOKUP(DS3074,Přehled!$C$5:$AL$24,36)","v":""}]
[null,null,null,null,null,null,null,null,null,null,null,null,null,null,null,null,null,null,null,null,null,null,null,null,null,null,null,null,null,null,null,null,null,null,null,null,null,null,null,null,null,null,null,null,null,null,null,null,null,null,null,null,null,null,null,null,null,null,null,null,null,null,null,null,null,null,null,null,{"$f":"'20'!$AO$133","v":0},{"$f":"'20'!$AP$133","v":0},{"$f":"'20'!$AQ$133","v":0},{"$f":"'20'!$AR$133","v":0},{"$f":"'20'!$AS$133","v":0},{"$f":"'20'!$AT$133","v":0},20,{"$f":"VLOOKUP(BW3075,Přehled!$C$5:$AL$24,36)","v":""},null,null,null,null,null,null,null,null,null,null,null,null,null,null,null,null,null,null,null,null,{"$f":"'20'!$BP$133","v":0},{"$f":"'20'!$BQ$133","v":0},{"$f":"'20'!$BR$133","v":0},{"$f":"'20'!$BS$133","v":0},{"$f":"'20'!$BT$133","v":0},{"$f":"'20'!$BU$133","v":0},20,{"$f":"VLOOKUP(CY3075,Přehled!$C$5:$AL$24,36)","v":""},null,null,null,null,null,null,null,null,null,null,null,null,null,null,null,{"$f":"'20'!$CR$133","v":0},{"$f":"'20'!$CS$133","v":0},{"$f":"'20'!$CT$133","v":0},20,{"$f":"VLOOKUP(DS3075,Přehled!$C$5:$AL$24,36)","v":""}]
[null,null,null,null,null,null,null,null,null,null,null,null,null,null,null,null,null,null,null,null,null,null,null,null,null,null,null,null,null,null,null,null,null,null,null,null,null,null,null,null,null,null,null,null,null,null,null,null,null,null,null,null,null,null,null,null,null,null,null,null,null,null,null,null,null,null,null,null,{"$f":"'20'!$AO$134","v":0},{"$f":"'20'!$AP$134","v":0},{"$f":"'20'!$AQ$134","v":0},{"$f":"'20'!$AR$134","v":0},{"$f":"'20'!$AS$134","v":0},{"$f":"'20'!$AT$134","v":0},20,{"$f":"VLOOKUP(BW3076,Přehled!$C$5:$AL$24,36)","v":""},null,null,null,null,null,null,null,null,null,null,null,null,null,null,null,null,null,null,null,null,{"$f":"'20'!$BP$134","v":0},{"$f":"'20'!$BQ$134","v":0},{"$f":"'20'!$BR$134","v":0},{"$f":"'20'!$BS$134","v":0},{"$f":"'20'!$BT$134","v":0},{"$f":"'20'!$BU$134","v":0},20,{"$f":"VLOOKUP(CY3076,Přehled!$C$5:$AL$24,36)","v":""},null,null,null,null,null,null,null,null,null,null,null,null,null,null,null,{"$f":"'20'!$CR$134","v":0},{"$f":"'20'!$CS$134","v":0},{"$f":"'20'!$CT$134","v":0},20,{"$f":"VLOOKUP(DS3076,Přehled!$C$5:$AL$24,36)","v":""}]
[null,null,null,null,null,null,null,null,null,null,null,null,null,null,null,null,null,null,null,null,null,null,null,null,null,null,null,null,null,null,null,null,null,null,null,null,null,null,null,null,null,null,null,null,null,null,null,null,null,null,null,null,null,null,null,null,null,null,null,null,null,null,null,null,null,null,null,null,{"$f":"'20'!$AO$135","v":0},{"$f":"'20'!$AP$135","v":0},{"$f":"'20'!$AQ$135","v":0},{"$f":"'20'!$AR$135","v":0},{"$f":"'20'!$AS$135","v":0},{"$f":"'20'!$AT$135","v":0},20,{"$f":"VLOOKUP(BW3077,Přehled!$C$5:$AL$24,36)","v":""},null,null,null,null,null,null,null,null,null,null,null,null,null,null,null,null,null,null,null,null,{"$f":"'20'!$BP$135","v":0},{"$f":"'20'!$BQ$135","v":0},{"$f":"'20'!$BR$135","v":0},{"$f":"'20'!$BS$135","v":0},{"$f":"'20'!$BT$135","v":0},{"$f":"'20'!$BU$135","v":0},20,{"$f":"VLOOKUP(CY3077,Přehled!$C$5:$AL$24,36)","v":""},null,null,null,null,null,null,null,null,null,null,null,null,null,null,null,{"$f":"'20'!$CR$135","v":0},{"$f":"'20'!$CS$135","v":0},{"$f":"'20'!$CT$135","v":0},20,{"$f":"VLOOKUP(DS3077,Přehled!$C$5:$AL$24,36)","v":""}]
[null,null,null,null,null,null,null,null,null,null,null,null,null,null,null,null,null,null,null,null,null,null,null,null,null,null,null,null,null,null,null,null,null,null,null,null,null,null,null,null,null,null,null,null,null,null,null,null,null,null,null,null,null,null,null,null,null,null,null,null,null,null,null,null,null,null,null,null,{"$f":"'20'!$AO$136","v":0},{"$f":"'20'!$AP$136","v":0},{"$f":"'20'!$AQ$136","v":0},{"$f":"'20'!$AR$136","v":0},{"$f":"'20'!$AS$136","v":0},{"$f":"'20'!$AT$136","v":0},20,{"$f":"VLOOKUP(BW3078,Přehled!$C$5:$AL$24,36)","v":""},null,null,null,null,null,null,null,null,null,null,null,null,null,null,null,null,null,null,null,null,{"$f":"'20'!$BP$136","v":0},{"$f":"'20'!$BQ$136","v":0},{"$f":"'20'!$BR$136","v":0},{"$f":"'20'!$BS$136","v":0},{"$f":"'20'!$BT$136","v":0},{"$f":"'20'!$BU$136","v":0},20,{"$f":"VLOOKUP(CY3078,Přehled!$C$5:$AL$24,36)","v":""},null,null,null,null,null,null,null,null,null,null,null,null,null,null,null,{"$f":"'20'!$CR$136","v":0},{"$f":"'20'!$CS$136","v":0},{"$f":"'20'!$CT$136","v":0},20,{"$f":"VLOOKUP(DS3078,Přehled!$C$5:$AL$24,36)","v":""}]
[null,null,null,null,null,null,null,null,null,null,null,null,null,null,null,null,null,null,null,null,null,null,null,null,null,null,null,null,null,null,null,null,null,null,null,null,null,null,null,null,null,null,null,null,null,null,null,null,null,null,null,null,null,null,null,null,null,null,null,null,null,null,null,null,null,null,null,null,{"$f":"'20'!$AO$137","v":0},{"$f":"'20'!$AP$137","v":0},{"$f":"'20'!$AQ$137","v":0},{"$f":"'20'!$AR$137","v":0},{"$f":"'20'!$AS$137","v":0},{"$f":"'20'!$AT$137","v":0},20,{"$f":"VLOOKUP(BW3079,Přehled!$C$5:$AL$24,36)","v":""},null,null,null,null,null,null,null,null,null,null,null,null,null,null,null,null,null,null,null,null,{"$f":"'20'!$BP$137","v":0},{"$f":"'20'!$BQ$137","v":0},{"$f":"'20'!$BR$137","v":0},{"$f":"'20'!$BS$137","v":0},{"$f":"'20'!$BT$137","v":0},{"$f":"'20'!$BU$137","v":0},20,{"$f":"VLOOKUP(CY3079,Přehled!$C$5:$AL$24,36)","v":""},null,null,null,null,null,null,null,null,null,null,null,null,null,null,null,{"$f":"'20'!$CR$137","v":0},{"$f":"'20'!$CS$137","v":0},{"$f":"'20'!$CT$137","v":0},20,{"$f":"VLOOKUP(DS3079,Přehled!$C$5:$AL$24,36)","v":""}]
[null,null,null,null,null,null,null,null,null,null,null,null,null,null,null,null,null,null,null,null,null,null,null,null,null,null,null,null,null,null,null,null,null,null,null,null,null,null,null,null,null,null,null,null,null,null,null,null,null,null,null,null,null,null,null,null,null,null,null,null,null,null,null,null,null,null,null,null,{"$f":"'20'!$AO$138","v":0},{"$f":"'20'!$AP$138","v":0},{"$f":"'20'!$AQ$138","v":0},{"$f":"'20'!$AR$138","v":0},{"$f":"'20'!$AS$138","v":0},{"$f":"'20'!$AT$138","v":0},20,{"$f":"VLOOKUP(BW3080,Přehled!$C$5:$AL$24,36)","v":""},null,null,null,null,null,null,null,null,null,null,null,null,null,null,null,null,null,null,null,null,{"$f":"'20'!$BP$138","v":0},{"$f":"'20'!$BQ$138","v":0},{"$f":"'20'!$BR$138","v":0},{"$f":"'20'!$BS$138","v":0},{"$f":"'20'!$BT$138","v":0},{"$f":"'20'!$BU$138","v":0},20,{"$f":"VLOOKUP(CY3080,Přehled!$C$5:$AL$24,36)","v":""},null,null,null,null,null,null,null,null,null,null,null,null,null,null,null,{"$f":"'20'!$CR$138","v":0},{"$f":"'20'!$CS$138","v":0},{"$f":"'20'!$CT$138","v":0},20,{"$f":"VLOOKUP(DS3080,Přehled!$C$5:$AL$24,36)","v":""}]
[null,null,null,null,null,null,null,null,null,null,null,null,null,null,null,null,null,null,null,null,null,null,null,null,null,null,null,null,null,null,null,null,null,null,null,null,null,null,null,null,null,null,null,null,null,null,null,null,null,null,null,null,null,null,null,null,null,null,null,null,null,null,null,null,null,null,null,null,{"$f":"'20'!$AO$139","v":0},{"$f":"'20'!$AP$139","v":0},{"$f":"'20'!$AQ$139","v":0},{"$f":"'20'!$AR$139","v":0},{"$f":"'20'!$AS$139","v":0},{"$f":"'20'!$AT$139","v":0},20,{"$f":"VLOOKUP(BW3081,Přehled!$C$5:$AL$24,36)","v":""},null,null,null,null,null,null,null,null,null,null,null,null,null,null,null,null,null,null,null,null,{"$f":"'20'!$BP$139","v":0},{"$f":"'20'!$BQ$139","v":0},{"$f":"'20'!$BR$139","v":0},{"$f":"'20'!$BS$139","v":0},{"$f":"'20'!$BT$139","v":0},{"$f":"'20'!$BU$139","v":0},20,{"$f":"VLOOKUP(CY3081,Přehled!$C$5:$AL$24,36)","v":""},null,null,null,null,null,null,null,null,null,null,null,null,null,null,null,{"$f":"'20'!$CR$139","v":0},{"$f":"'20'!$CS$139","v":0},{"$f":"'20'!$CT$139","v":0},20,{"$f":"VLOOKUP(DS3081,Přehled!$C$5:$AL$24,36)","v":""}]
[null,null,null,null,null,null,null,null,null,null,null,null,null,null,null,null,null,null,null,null,null,null,null,null,null,null,null,null,null,null,null,null,null,null,null,null,null,null,null,null,null,null,null,null,null,null,null,null,null,null,null,null,null,null,null,null,null,null,null,null,null,null,null,null,null,null,null,null,{"$f":"'20'!$AO$140","v":0},{"$f":"'20'!$AP$140","v":0},{"$f":"'20'!$AQ$140","v":0},{"$f":"'20'!$AR$140","v":0},{"$f":"'20'!$AS$140","v":0},{"$f":"'20'!$AT$140","v":0},20,{"$f":"VLOOKUP(BW3082,Přehled!$C$5:$AL$24,36)","v":""},null,null,null,null,null,null,null,null,null,null,null,null,null,null,null,null,null,null,null,null,{"$f":"'20'!$BP$140","v":0},{"$f":"'20'!$BQ$140","v":0},{"$f":"'20'!$BR$140","v":0},{"$f":"'20'!$BS$140","v":0},{"$f":"'20'!$BT$140","v":0},{"$f":"'20'!$BU$140","v":0},20,{"$f":"VLOOKUP(CY3082,Přehled!$C$5:$AL$24,36)","v":""},null,null,null,null,null,null,null,null,null,null,null,null,null,null,null,{"$f":"'20'!$CR$140","v":0},{"$f":"'20'!$CS$140","v":0},{"$f":"'20'!$CT$140","v":0},20,{"$f":"VLOOKUP(DS3082,Přehled!$C$5:$AL$24,36)","v":""}]
[null,null,null,null,null,null,null,null,null,null,null,null,null,null,null,null,null,null,null,null,null,null,null,null,null,null,null,null,null,null,null,null,null,null,null,null,null,null,null,null,null,null,null,null,null,null,null,null,null,null,null,null,null,null,null,null,null,null,null,null,null,null,null,null,null,null,null,null,{"$f":"'20'!$AO$141","v":0},{"$f":"'20'!$AP$141","v":0},{"$f":"'20'!$AQ$141","v":0},{"$f":"'20'!$AR$141","v":0},{"$f":"'20'!$AS$141","v":0},{"$f":"'20'!$AT$141","v":0},20,{"$f":"VLOOKUP(BW3083,Přehled!$C$5:$AL$24,36)","v":""},null,null,null,null,null,null,null,null,null,null,null,null,null,null,null,null,null,null,null,null,{"$f":"'20'!$BP$141","v":0},{"$f":"'20'!$BQ$141","v":0},{"$f":"'20'!$BR$141","v":0},{"$f":"'20'!$BS$141","v":0},{"$f":"'20'!$BT$141","v":0},{"$f":"'20'!$BU$141","v":0},20,{"$f":"VLOOKUP(CY3083,Přehled!$C$5:$AL$24,36)","v":""},null,null,null,null,null,null,null,null,null,null,null,null,null,null,null,{"$f":"'20'!$CR$141","v":0},{"$f":"'20'!$CS$141","v":0},{"$f":"'20'!$CT$141","v":0},20,{"$f":"VLOOKUP(DS3083,Přehled!$C$5:$AL$24,36)","v":""}]
[null,null,null,null,null,null,null,null,null,null,null,null,null,null,null,null,null,null,null,null,null,null,null,null,null,null,null,null,null,null,null,null,null,null,null,null,null,null,null,null,null,null,null,null,null,null,null,null,null,null,null,null,null,null,null,null,null,null,null,null,null,null,null,null,null,null,null,null,{"$f":"'20'!$AO$142","v":0},{"$f":"'20'!$AP$142","v":0},{"$f":"'20'!$AQ$142","v":0},{"$f":"'20'!$AR$142","v":0},{"$f":"'20'!$AS$142","v":0},{"$f":"'20'!$AT$142","v":0},20,{"$f":"VLOOKUP(BW3084,Přehled!$C$5:$AL$24,36)","v":""},null,null,null,null,null,null,null,null,null,null,null,null,null,null,null,null,null,null,null,null,{"$f":"'20'!$BP$142","v":0},{"$f":"'20'!$BQ$142","v":0},{"$f":"'20'!$BR$142","v":0},{"$f":"'20'!$BS$142","v":0},{"$f":"'20'!$BT$142","v":0},{"$f":"'20'!$BU$142","v":0},20,{"$f":"VLOOKUP(CY3084,Přehled!$C$5:$AL$24,36)","v":""},null,null,null,null,null,null,null,null,null,null,null,null,null,null,null,{"$f":"'20'!$CR$142","v":0},{"$f":"'20'!$CS$142","v":0},{"$f":"'20'!$CT$142","v":0},20,{"$f":"VLOOKUP(DS3084,Přehled!$C$5:$AL$24,36)","v":""}]
[null,null,null,null,null,null,null,null,null,null,null,null,null,null,null,null,null,null,null,null,null,null,null,null,null,null,null,null,null,null,null,null,null,null,null,null,null,null,null,null,null,null,null,null,null,null,null,null,null,null,null,null,null,null,null,null,null,null,null,null,null,null,null,null,null,null,null,null,{"$f":"'20'!$AO$143","v":0},{"$f":"'20'!$AP$143","v":0},{"$f":"'20'!$AQ$143","v":0},{"$f":"'20'!$AR$143","v":0},{"$f":"'20'!$AS$143","v":0},{"$f":"'20'!$AT$143","v":0},20,{"$f":"VLOOKUP(BW3085,Přehled!$C$5:$AL$24,36)","v":""},null,null,null,null,null,null,null,null,null,null,null,null,null,null,null,null,null,null,null,null,{"$f":"'20'!$BP$143","v":0},{"$f":"'20'!$BQ$143","v":0},{"$f":"'20'!$BR$143","v":0},{"$f":"'20'!$BS$143","v":0},{"$f":"'20'!$BT$143","v":0},{"$f":"'20'!$BU$143","v":0},20,{"$f":"VLOOKUP(CY3085,Přehled!$C$5:$AL$24,36)","v":""},null,null,null,null,null,null,null,null,null,null,null,null,null,null,null,{"$f":"'20'!$CR$143","v":0},{"$f":"'20'!$CS$143","v":0},{"$f":"'20'!$CT$143","v":0},20,{"$f":"VLOOKUP(DS3085,Přehled!$C$5:$AL$24,36)","v":""}]
[null,null,null,null,null,null,null,null,null,null,null,null,null,null,null,null,null,null,null,null,null,null,null,null,null,null,null,null,null,null,null,null,null,null,null,null,null,null,null,null,null,null,null,null,null,null,null,null,null,null,null,null,null,null,null,null,null,null,null,null,null,null,null,null,null,null,null,null,{"$f":"'20'!$AO$144","v":0},{"$f":"'20'!$AP$144","v":0},{"$f":"'20'!$AQ$144","v":0},{"$f":"'20'!$AR$144","v":0},{"$f":"'20'!$AS$144","v":0},{"$f":"'20'!$AT$144","v":0},20,{"$f":"VLOOKUP(BW3086,Přehled!$C$5:$AL$24,36)","v":""},null,null,null,null,null,null,null,null,null,null,null,null,null,null,null,null,null,null,null,null,{"$f":"'20'!$BP$144","v":0},{"$f":"'20'!$BQ$144","v":0},{"$f":"'20'!$BR$144","v":0},{"$f":"'20'!$BS$144","v":0},{"$f":"'20'!$BT$144","v":0},{"$f":"'20'!$BU$144","v":0},20,{"$f":"VLOOKUP(CY3086,Přehled!$C$5:$AL$24,36)","v":""},null,null,null,null,null,null,null,null,null,null,null,null,null,null,null,{"$f":"'20'!$CR$144","v":0},{"$f":"'20'!$CS$144","v":0},{"$f":"'20'!$CT$144","v":0},20,{"$f":"VLOOKUP(DS3086,Přehled!$C$5:$AL$24,36)","v":""}]
[null,null,null,null,null,null,null,null,null,null,null,null,null,null,null,null,null,null,null,null,null,null,null,null,null,null,null,null,null,null,null,null,null,null,null,null,null,null,null,null,null,null,null,null,null,null,null,null,null,null,null,null,null,null,null,null,null,null,null,null,null,null,null,null,null,null,null,null,{"$f":"'20'!$AO$145","v":0},{"$f":"'20'!$AP$145","v":0},{"$f":"'20'!$AQ$145","v":0},{"$f":"'20'!$AR$145","v":0},{"$f":"'20'!$AS$145","v":0},{"$f":"'20'!$AT$145","v":0},20,{"$f":"VLOOKUP(BW3087,Přehled!$C$5:$AL$24,36)","v":""},null,null,null,null,null,null,null,null,null,null,null,null,null,null,null,null,null,null,null,null,{"$f":"'20'!$BP$145","v":0},{"$f":"'20'!$BQ$145","v":0},{"$f":"'20'!$BR$145","v":0},{"$f":"'20'!$BS$145","v":0},{"$f":"'20'!$BT$145","v":0},{"$f":"'20'!$BU$145","v":0},20,{"$f":"VLOOKUP(CY3087,Přehled!$C$5:$AL$24,36)","v":""},null,null,null,null,null,null,null,null,null,null,null,null,null,null,null,{"$f":"'20'!$CR$145","v":0},{"$f":"'20'!$CS$145","v":0},{"$f":"'20'!$CT$145","v":0},20,{"$f":"VLOOKUP(DS3087,Přehled!$C$5:$AL$24,36)","v":""}]
[null,null,null,null,null,null,null,null,null,null,null,null,null,null,null,null,null,null,null,null,null,null,null,null,null,null,null,null,null,null,null,null,null,null,null,null,null,null,null,null,null,null,null,null,null,null,null,null,null,null,null,null,null,null,null,null,null,null,null,null,null,null,null,null,null,null,null,null,{"$f":"'20'!$AO$146","v":0},{"$f":"'20'!$AP$146","v":0},{"$f":"'20'!$AQ$146","v":0},{"$f":"'20'!$AR$146","v":0},{"$f":"'20'!$AS$146","v":0},{"$f":"'20'!$AT$146","v":0},20,{"$f":"VLOOKUP(BW3088,Přehled!$C$5:$AL$24,36)","v":""},null,null,null,null,null,null,null,null,null,null,null,null,null,null,null,null,null,null,null,null,{"$f":"'20'!$BP$146","v":0},{"$f":"'20'!$BQ$146","v":0},{"$f":"'20'!$BR$146","v":0},{"$f":"'20'!$BS$146","v":0},{"$f":"'20'!$BT$146","v":0},{"$f":"'20'!$BU$146","v":0},20,{"$f":"VLOOKUP(CY3088,Přehled!$C$5:$AL$24,36)","v":""},null,null,null,null,null,null,null,null,null,null,null,null,null,null,null,{"$f":"'20'!$CR$146","v":0},{"$f":"'20'!$CS$146","v":0},{"$f":"'20'!$CT$146","v":0},20,{"$f":"VLOOKUP(DS3088,Přehled!$C$5:$AL$24,36)","v":""}]
[null,null,null,null,null,null,null,null,null,null,null,null,null,null,null,null,null,null,null,null,null,null,null,null,null,null,null,null,null,null,null,null,null,null,null,null,null,null,null,null,null,null,null,null,null,null,null,null,null,null,null,null,null,null,null,null,null,null,null,null,null,null,null,null,null,null,null,null,{"$f":"'20'!$AO$147","v":0},{"$f":"'20'!$AP$147","v":0},{"$f":"'20'!$AQ$147","v":0},{"$f":"'20'!$AR$147","v":0},{"$f":"'20'!$AS$147","v":0},{"$f":"'20'!$AT$147","v":0},20,{"$f":"VLOOKUP(BW3089,Přehled!$C$5:$AL$24,36)","v":""},null,null,null,null,null,null,null,null,null,null,null,null,null,null,null,null,null,null,null,null,{"$f":"'20'!$BP$147","v":0},{"$f":"'20'!$BQ$147","v":0},{"$f":"'20'!$BR$147","v":0},{"$f":"'20'!$BS$147","v":0},{"$f":"'20'!$BT$147","v":0},{"$f":"'20'!$BU$147","v":0},20,{"$f":"VLOOKUP(CY3089,Přehled!$C$5:$AL$24,36)","v":""},null,null,null,null,null,null,null,null,null,null,null,null,null,null,null,{"$f":"'20'!$CR$147","v":0},{"$f":"'20'!$CS$147","v":0},{"$f":"'20'!$CT$147","v":0},20,{"$f":"VLOOKUP(DS3089,Přehled!$C$5:$AL$24,36)","v":""}]
[null,null,null,null,null,null,null,null,null,null,null,null,null,null,null,null,null,null,null,null,null,null,null,null,null,null,null,null,null,null,null,null,null,null,null,null,null,null,null,null,null,null,null,null,null,null,null,null,null,null,null,null,null,null,null,null,null,null,null,null,null,null,null,null,null,null,null,null,{"$f":"'20'!$AO$148","v":0},{"$f":"'20'!$AP$148","v":0},{"$f":"'20'!$AQ$148","v":0},{"$f":"'20'!$AR$148","v":0},{"$f":"'20'!$AS$148","v":0},{"$f":"'20'!$AT$148","v":0},20,{"$f":"VLOOKUP(BW3090,Přehled!$C$5:$AL$24,36)","v":""},null,null,null,null,null,null,null,null,null,null,null,null,null,null,null,null,null,null,null,null,{"$f":"'20'!$BP$148","v":0},{"$f":"'20'!$BQ$148","v":0},{"$f":"'20'!$BR$148","v":0},{"$f":"'20'!$BS$148","v":0},{"$f":"'20'!$BT$148","v":0},{"$f":"'20'!$BU$148","v":0},20,{"$f":"VLOOKUP(CY3090,Přehled!$C$5:$AL$24,36)","v":""},null,null,null,null,null,null,null,null,null,null,null,null,null,null,null,{"$f":"'20'!$CR$148","v":0},{"$f":"'20'!$CS$148","v":0},{"$f":"'20'!$CT$148","v":0},20,{"$f":"VLOOKUP(DS3090,Přehled!$C$5:$AL$24,36)","v":""}]
[null,null,null,null,null,null,null,null,null,null,null,null,null,null,null,null,null,null,null,null,null,null,null,null,null,null,null,null,null,null,null,null,null,null,null,null,null,null,null,null,null,null,null,null,null,null,null,null,null,null,null,null,null,null,null,null,null,null,null,null,null,null,null,null,null,null,null,null,{"$f":"'20'!$AO$149","v":0},{"$f":"'20'!$AP$149","v":0},{"$f":"'20'!$AQ$149","v":0},{"$f":"'20'!$AR$149","v":0},{"$f":"'20'!$AS$149","v":0},{"$f":"'20'!$AT$149","v":0},20,{"$f":"VLOOKUP(BW3091,Přehled!$C$5:$AL$24,36)","v":""},null,null,null,null,null,null,null,null,null,null,null,null,null,null,null,null,null,null,null,null,{"$f":"'20'!$BP$149","v":0},{"$f":"'20'!$BQ$149","v":0},{"$f":"'20'!$BR$149","v":0},{"$f":"'20'!$BS$149","v":0},{"$f":"'20'!$BT$149","v":0},{"$f":"'20'!$BU$149","v":0},20,{"$f":"VLOOKUP(CY3091,Přehled!$C$5:$AL$24,36)","v":""},null,null,null,null,null,null,null,null,null,null,null,null,null,null,null,{"$f":"'20'!$CR$149","v":0},{"$f":"'20'!$CS$149","v":0},{"$f":"'20'!$CT$149","v":0},20,{"$f":"VLOOKUP(DS3091,Přehled!$C$5:$AL$24,36)","v":""}]
[null,null,null,null,null,null,null,null,null,null,null,null,null,null,null,null,null,null,null,null,null,null,null,null,null,null,null,null,null,null,null,null,null,null,null,null,null,null,null,null,null,null,null,null,null,null,null,null,null,null,null,null,null,null,null,null,null,null,null,null,null,null,null,null,null,null,null,null,{"$f":"'20'!$AO$150","v":0},{"$f":"'20'!$AP$150","v":0},{"$f":"'20'!$AQ$150","v":0},{"$f":"'20'!$AR$150","v":0},{"$f":"'20'!$AS$150","v":0},{"$f":"'20'!$AT$150","v":0},20,{"$f":"VLOOKUP(BW3092,Přehled!$C$5:$AL$24,36)","v":""},null,null,null,null,null,null,null,null,null,null,null,null,null,null,null,null,null,null,null,null,{"$f":"'20'!$BP$150","v":0},{"$f":"'20'!$BQ$150","v":0},{"$f":"'20'!$BR$150","v":0},{"$f":"'20'!$BS$150","v":0},{"$f":"'20'!$BT$150","v":0},{"$f":"'20'!$BU$150","v":0},20,{"$f":"VLOOKUP(CY3092,Přehled!$C$5:$AL$24,36)","v":""},null,null,null,null,null,null,null,null,null,null,null,null,null,null,null,{"$f":"'20'!$CR$150","v":0},{"$f":"'20'!$CS$150","v":0},{"$f":"'20'!$CT$150","v":0},20,{"$f":"VLOOKUP(DS3092,Přehled!$C$5:$AL$24,36)","v":""}]
[null,null,null,null,null,null,null,null,null,null,null,null,null,null,null,null,null,null,null,null,null,null,null,null,null,null,null,null,null,null,null,null,null,null,null,null,null,null,null,null,null,null,null,null,null,null,null,null,null,null,null,null,null,null,null,null,null,null,null,null,null,null,null,null,null,null,null,null,{"$f":"'20'!$AO$151","v":0},{"$f":"'20'!$AP$151","v":0},{"$f":"'20'!$AQ$151","v":0},{"$f":"'20'!$AR$151","v":0},{"$f":"'20'!$AS$151","v":0},{"$f":"'20'!$AT$151","v":0},20,{"$f":"VLOOKUP(BW3093,Přehled!$C$5:$AL$24,36)","v":""},null,null,null,null,null,null,null,null,null,null,null,null,null,null,null,null,null,null,null,null,{"$f":"'20'!$BP$151","v":0},{"$f":"'20'!$BQ$151","v":0},{"$f":"'20'!$BR$151","v":0},{"$f":"'20'!$BS$151","v":0},{"$f":"'20'!$BT$151","v":0},{"$f":"'20'!$BU$151","v":0},20,{"$f":"VLOOKUP(CY3093,Přehled!$C$5:$AL$24,36)","v":""},null,null,null,null,null,null,null,null,null,null,null,null,null,null,null,{"$f":"'20'!$CR$151","v":0},{"$f":"'20'!$CS$151","v":0},{"$f":"'20'!$CT$151","v":0},20,{"$f":"VLOOKUP(DS3093,Přehled!$C$5:$AL$24,36)","v":""}]
[null,null,null,null,null,null,null,null,null,null,null,null,null,null,null,null,null,null,null,null,null,null,null,null,null,null,null,null,null,null,null,null,null,null,null,null,null,null,null,null,null,null,null,null,null,null,null,null,null,null,null,null,null,null,null,null,null,null,null,null,null,null,null,null,null,null,null,null,{"$f":"'20'!$AO$152","v":0},{"$f":"'20'!$AP$152","v":0},{"$f":"'20'!$AQ$152","v":0},{"$f":"'20'!$AR$152","v":0},{"$f":"'20'!$AS$152","v":0},{"$f":"'20'!$AT$152","v":0},20,{"$f":"VLOOKUP(BW3094,Přehled!$C$5:$AL$24,36)","v":""},null,null,null,null,null,null,null,null,null,null,null,null,null,null,null,null,null,null,null,null,{"$f":"'20'!$BP$152","v":0},{"$f":"'20'!$BQ$152","v":0},{"$f":"'20'!$BR$152","v":0},{"$f":"'20'!$BS$152","v":0},{"$f":"'20'!$BT$152","v":0},{"$f":"'20'!$BU$152","v":0},20,{"$f":"VLOOKUP(CY3094,Přehled!$C$5:$AL$24,36)","v":""},null,null,null,null,null,null,null,null,null,null,null,null,null,null,null,{"$f":"'20'!$CR$152","v":0},{"$f":"'20'!$CS$152","v":0},{"$f":"'20'!$CT$152","v":0},20,{"$f":"VLOOKUP(DS3094,Přehled!$C$5:$AL$24,36)","v":""}]
[null,null,null,null,null,null,null,null,null,null,null,null,null,null,null,null,null,null,null,null,null,null,null,null,null,null,null,null,null,null,null,null,null,null,null,null,null,null,null,null,null,null,null,null,null,null,null,null,null,null,null,null,null,null,null,null,null,null,null,null,null,null,null,null,null,null,null,null,{"$f":"'20'!$AO$153","v":0},{"$f":"'20'!$AP$153","v":0},{"$f":"'20'!$AQ$153","v":0},{"$f":"'20'!$AR$153","v":0},{"$f":"'20'!$AS$153","v":0},{"$f":"'20'!$AT$153","v":0},20,{"$f":"VLOOKUP(BW3095,Přehled!$C$5:$AL$24,36)","v":""},null,null,null,null,null,null,null,null,null,null,null,null,null,null,null,null,null,null,null,null,{"$f":"'20'!$BP$153","v":0},{"$f":"'20'!$BQ$153","v":0},{"$f":"'20'!$BR$153","v":0},{"$f":"'20'!$BS$153","v":0},{"$f":"'20'!$BT$153","v":0},{"$f":"'20'!$BU$153","v":0},20,{"$f":"VLOOKUP(CY3095,Přehled!$C$5:$AL$24,36)","v":""},null,null,null,null,null,null,null,null,null,null,null,null,null,null,null,{"$f":"'20'!$CR$153","v":0},{"$f":"'20'!$CS$153","v":0},{"$f":"'20'!$CT$153","v":0},20,{"$f":"VLOOKUP(DS3095,Přehled!$C$5:$AL$24,36)","v":""}]
[null,null,null,null,null,null,null,null,null,null,null,null,null,null,null,null,null,null,null,null,null,null,null,null,null,null,null,null,null,null,null,null,null,null,null,null,null,null,null,null,null,null,null,null,null,null,null,null,null,null,null,null,null,null,null,null,null,null,null,null,null,null,null,null,null,null,null,null,{"$f":"'20'!$AO$154","v":0},{"$f":"'20'!$AP$154","v":0},{"$f":"'20'!$AQ$154","v":0},{"$f":"'20'!$AR$154","v":0},{"$f":"'20'!$AS$154","v":0},{"$f":"'20'!$AT$154","v":0},20,{"$f":"VLOOKUP(BW3096,Přehled!$C$5:$AL$24,36)","v":""},null,null,null,null,null,null,null,null,null,null,null,null,null,null,null,null,null,null,null,null,{"$f":"'20'!$BP$154","v":0},{"$f":"'20'!$BQ$154","v":0},{"$f":"'20'!$BR$154","v":0},{"$f":"'20'!$BS$154","v":0},{"$f":"'20'!$BT$154","v":0},{"$f":"'20'!$BU$154","v":0},20,{"$f":"VLOOKUP(CY3096,Přehled!$C$5:$AL$24,36)","v":""},null,null,null,null,null,null,null,null,null,null,null,null,null,null,null,{"$f":"'20'!$CR$154","v":0},{"$f":"'20'!$CS$154","v":0},{"$f":"'20'!$CT$154","v":0},20,{"$f":"VLOOKUP(DS3096,Přehled!$C$5:$AL$24,36)","v":""}]
[null,null,null,null,null,null,null,null,null,null,null,null,null,null,null,null,null,null,null,null,null,null,null,null,null,null,null,null,null,null,null,null,null,null,null,null,null,null,null,null,null,null,null,null,null,null,null,null,null,null,null,null,null,null,null,null,null,null,null,null,null,null,null,null,null,null,null,null,{"$f":"'20'!$AO$155","v":0},{"$f":"'20'!$AP$155","v":0},{"$f":"'20'!$AQ$155","v":0},{"$f":"'20'!$AR$155","v":0},{"$f":"'20'!$AS$155","v":0},{"$f":"'20'!$AT$155","v":0},20,{"$f":"VLOOKUP(BW3097,Přehled!$C$5:$AL$24,36)","v":""},null,null,null,null,null,null,null,null,null,null,null,null,null,null,null,null,null,null,null,null,{"$f":"'20'!$BP$155","v":0},{"$f":"'20'!$BQ$155","v":0},{"$f":"'20'!$BR$155","v":0},{"$f":"'20'!$BS$155","v":0},{"$f":"'20'!$BT$155","v":0},{"$f":"'20'!$BU$155","v":0},20,{"$f":"VLOOKUP(CY3097,Přehled!$C$5:$AL$24,36)","v":""},null,null,null,null,null,null,null,null,null,null,null,null,null,null,null,{"$f":"'20'!$CR$155","v":0},{"$f":"'20'!$CS$155","v":0},{"$f":"'20'!$CT$155","v":0},20,{"$f":"VLOOKUP(DS3097,Přehled!$C$5:$AL$24,36)","v":""}]
[null,null,null,null,null,null,null,null,null,null,null,null,null,null,null,null,null,null,null,null,null,null,null,null,null,null,null,null,null,null,null,null,null,null,null,null,null,null,null,null,null,null,null,null,null,null,null,null,null,null,null,null,null,null,null,null,null,null,null,null,null,null,null,null,null,null,null,null,{"$f":"'20'!$AO$156","v":0},{"$f":"'20'!$AP$156","v":0},{"$f":"'20'!$AQ$156","v":0},{"$f":"'20'!$AR$156","v":0},{"$f":"'20'!$AS$156","v":0},{"$f":"'20'!$AT$156","v":0},20,{"$f":"VLOOKUP(BW3098,Přehled!$C$5:$AL$24,36)","v":""},null,null,null,null,null,null,null,null,null,null,null,null,null,null,null,null,null,null,null,null,{"$f":"'20'!$BP$156","v":0},{"$f":"'20'!$BQ$156","v":0},{"$f":"'20'!$BR$156","v":0},{"$f":"'20'!$BS$156","v":0},{"$f":"'20'!$BT$156","v":0},{"$f":"'20'!$BU$156","v":0},20,{"$f":"VLOOKUP(CY3098,Přehled!$C$5:$AL$24,36)","v":""},null,null,null,null,null,null,null,null,null,null,null,null,null,null,null,{"$f":"'20'!$CR$156","v":0},{"$f":"'20'!$CS$156","v":0},{"$f":"'20'!$CT$156","v":0},20,{"$f":"VLOOKUP(DS3098,Přehled!$C$5:$AL$24,36)","v":""}]
[null,null,null,null,null,null,null,null,null,null,null,null,null,null,null,null,null,null,null,null,null,null,null,null,null,null,null,null,null,null,null,null,null,null,null,null,null,null,null,null,null,null,null,null,null,null,null,null,null,null,null,null,null,null,null,null,null,null,null,null,null,null,null,null,null,null,null,null,{"$f":"'20'!$AO$157","v":0},{"$f":"'20'!$AP$157","v":0},{"$f":"'20'!$AQ$157","v":0},{"$f":"'20'!$AR$157","v":0},{"$f":"'20'!$AS$157","v":0},{"$f":"'20'!$AT$157","v":0},20,{"$f":"VLOOKUP(BW3099,Přehled!$C$5:$AL$24,36)","v":""},null,null,null,null,null,null,null,null,null,null,null,null,null,null,null,null,null,null,null,null,{"$f":"'20'!$BP$157","v":0},{"$f":"'20'!$BQ$157","v":0},{"$f":"'20'!$BR$157","v":0},{"$f":"'20'!$BS$157","v":0},{"$f":"'20'!$BT$157","v":0},{"$f":"'20'!$BU$157","v":0},20,{"$f":"VLOOKUP(CY3099,Přehled!$C$5:$AL$24,36)","v":""},null,null,null,null,null,null,null,null,null,null,null,null,null,null,null,{"$f":"'20'!$CR$157","v":0},{"$f":"'20'!$CS$157","v":0},{"$f":"'20'!$CT$157","v":0},20,{"$f":"VLOOKUP(DS3099,Přehled!$C$5:$AL$24,36)","v":""}]
[null,null,null,null,null,null,null,null,null,null,null,null,null,null,null,null,null,null,null,null,null,null,null,null,null,null,null,null,null,null,null,null,null,null,null,null,null,null,null,null,null,null,null,null,null,null,null,null,null,null,null,null,null,null,null,null,null,null,null,null,null,null,null,null,null,null,null,null,{"$f":"'20'!$AO$158","v":0},{"$f":"'20'!$AP$158","v":0},{"$f":"'20'!$AQ$158","v":0},{"$f":"'20'!$AR$158","v":0},{"$f":"'20'!$AS$158","v":0},{"$f":"'20'!$AT$158","v":0},20,{"$f":"VLOOKUP(BW3100,Přehled!$C$5:$AL$24,36)","v":""},null,null,null,null,null,null,null,null,null,null,null,null,null,null,null,null,null,null,null,null,{"$f":"'20'!$BP$158","v":0},{"$f":"'20'!$BQ$158","v":0},{"$f":"'20'!$BR$158","v":0},{"$f":"'20'!$BS$158","v":0},{"$f":"'20'!$BT$158","v":0},{"$f":"'20'!$BU$158","v":0},20,{"$f":"VLOOKUP(CY3100,Přehled!$C$5:$AL$24,36)","v":""},null,null,null,null,null,null,null,null,null,null,null,null,null,null,null,{"$f":"'20'!$CR$158","v":0},{"$f":"'20'!$CS$158","v":0},{"$f":"'20'!$CT$158","v":0},20,{"$f":"VLOOKUP(DS3100,Přehled!$C$5:$AL$24,36)","v":""}]
[null,null,null,null,null,null,null,null,null,null,null,null,null,null,null,null,null,null,null,null,null,null,null,null,null,null,null,null,null,null,null,null,null,null,null,null,null,null,null,null,null,null,null,null,null,null,null,null,null,null,null,null,null,null,null,null,null,null,null,null,null,null,null,null,null,null,null,null,{"$f":"'20'!$AO$159","v":0},{"$f":"'20'!$AP$159","v":0},{"$f":"'20'!$AQ$159","v":0},{"$f":"'20'!$AR$159","v":0},{"$f":"'20'!$AS$159","v":0},{"$f":"'20'!$AT$159","v":0},20,{"$f":"VLOOKUP(BW3101,Přehled!$C$5:$AL$24,36)","v":""},null,null,null,null,null,null,null,null,null,null,null,null,null,null,null,null,null,null,null,null,{"$f":"'20'!$BP$159","v":0},{"$f":"'20'!$BQ$159","v":0},{"$f":"'20'!$BR$159","v":0},{"$f":"'20'!$BS$159","v":0},{"$f":"'20'!$BT$159","v":0},{"$f":"'20'!$BU$159","v":0},20,{"$f":"VLOOKUP(CY3101,Přehled!$C$5:$AL$24,36)","v":""},null,null,null,null,null,null,null,null,null,null,null,null,null,null,null,{"$f":"'20'!$CR$159","v":0},{"$f":"'20'!$CS$159","v":0},{"$f":"'20'!$CT$159","v":0},20,{"$f":"VLOOKUP(DS3101,Přehled!$C$5:$AL$24,36)","v":""}]
[null,null,null,null,null,null,null,null,null,null,null,null,null,null,null,null,null,null,null,null,null,null,null,null,null,null,null,null,null,null,null,null,null,null,null,null,null,null,null,null,null,null,null,null,null,null,null,null,null,null,null,null,null,null,null,null,null,null,null,null,null,null,null,null,null,null,null,null,{"$f":"'20'!$AO$160","v":0},{"$f":"'20'!$AP$160","v":0},{"$f":"'20'!$AQ$160","v":0},{"$f":"'20'!$AR$160","v":0},{"$f":"'20'!$AS$160","v":0},{"$f":"'20'!$AT$160","v":0},20,{"$f":"VLOOKUP(BW3102,Přehled!$C$5:$AL$24,36)","v":""},null,null,null,null,null,null,null,null,null,null,null,null,null,null,null,null,null,null,null,null,{"$f":"'20'!$BP$160","v":0},{"$f":"'20'!$BQ$160","v":0},{"$f":"'20'!$BR$160","v":0},{"$f":"'20'!$BS$160","v":0},{"$f":"'20'!$BT$160","v":0},{"$f":"'20'!$BU$160","v":0},20,{"$f":"VLOOKUP(CY3102,Přehled!$C$5:$AL$24,36)","v":""},null,null,null,null,null,null,null,null,null,null,null,null,null,null,null,{"$f":"'20'!$CR$160","v":0},{"$f":"'20'!$CS$160","v":0},{"$f":"'20'!$CT$160","v":0},20,{"$f":"VLOOKUP(DS3102,Přehled!$C$5:$AL$24,36)","v":""}]
[null,null,null,null,null,null,null,null,null,null,null,null,null,null,null,null,null,null,null,null,null,null,null,null,null,null,null,null,null,null,null,null,null,null,null,null,null,null,null,null,null,null,null,null,null,null,null,null,null,null,null,null,null,null,null,null,null,null,null,null,null,null,null,null,null,null,null,null,{"$f":"'20'!$AO$161","v":0},{"$f":"'20'!$AP$161","v":0},{"$f":"'20'!$AQ$161","v":0},{"$f":"'20'!$AR$161","v":0},{"$f":"'20'!$AS$161","v":0},{"$f":"'20'!$AT$161","v":0},20,{"$f":"VLOOKUP(BW3103,Přehled!$C$5:$AL$24,36)","v":""},null,null,null,null,null,null,null,null,null,null,null,null,null,null,null,null,null,null,null,null,{"$f":"'20'!$BP$161","v":0},{"$f":"'20'!$BQ$161","v":0},{"$f":"'20'!$BR$161","v":0},{"$f":"'20'!$BS$161","v":0},{"$f":"'20'!$BT$161","v":0},{"$f":"'20'!$BU$161","v":0},20,{"$f":"VLOOKUP(CY3103,Přehled!$C$5:$AL$24,36)","v":""},null,null,null,null,null,null,null,null,null,null,null,null,null,null,null,{"$f":"'20'!$CR$161","v":0},{"$f":"'20'!$CS$161","v":0},{"$f":"'20'!$CT$161","v":0},20,{"$f":"VLOOKUP(DS3103,Přehled!$C$5:$AL$24,36)","v":""}]
[null,null,null,null,null,null,null,null,null,null,null,null,null,null,null,null,null,null,null,null,null,null,null,null,null,null,null,null,null,null,null,null,null,null,null,null,null,null,null,null,null,null,null,null,null,null,null,null,null,null,null,null,null,null,null,null,null,null,null,null,null,null,null,null,null,null,null,null,{"$f":"'20'!$AO$162","v":0},{"$f":"'20'!$AP$162","v":0},{"$f":"'20'!$AQ$162","v":0},{"$f":"'20'!$AR$162","v":0},{"$f":"'20'!$AS$162","v":0},{"$f":"'20'!$AT$162","v":0},20,{"$f":"VLOOKUP(BW3104,Přehled!$C$5:$AL$24,36)","v":""},null,null,null,null,null,null,null,null,null,null,null,null,null,null,null,null,null,null,null,null,{"$f":"'20'!$BP$162","v":0},{"$f":"'20'!$BQ$162","v":0},{"$f":"'20'!$BR$162","v":0},{"$f":"'20'!$BS$162","v":0},{"$f":"'20'!$BT$162","v":0},{"$f":"'20'!$BU$162","v":0},20,{"$f":"VLOOKUP(CY3104,Přehled!$C$5:$AL$24,36)","v":""},null,null,null,null,null,null,null,null,null,null,null,null,null,null,null,{"$f":"'20'!$CR$162","v":0},{"$f":"'20'!$CS$162","v":0},{"$f":"'20'!$CT$162","v":0},20,{"$f":"VLOOKUP(DS3104,Přehled!$C$5:$AL$24,36)","v":""}]

{"sheet":"1","index":2,"n_rows":0,"n_cols":0,"rows_kept":0,"cut":false,"hidden":true,"merged":[]}

{"sheet":"2","index":3,"n_rows":0,"n_cols":0,"rows_kept":0,"cut":false,"hidden":true,"merged":[]}

{"sheet":"3","index":4,"n_rows":0,"n_cols":0,"rows_kept":0,"cut":false,"hidden":true,"merged":[]}

{"sheet":"4","index":5,"n_rows":0,"n_cols":0,"rows_kept":0,"cut":false,"hidden":true,"merged":[]}

{"sheet":"6","index":6,"n_rows":0,"n_cols":0,"rows_kept":0,"cut":false,"hidden":true,"merged":[]}

{"sheet":"5","index":7,"n_rows":0,"n_cols":0,"rows_kept":0,"cut":false,"hidden":true,"merged":[]}

{"sheet":"7","index":8,"n_rows":0,"n_cols":0,"rows_kept":0,"cut":false,"hidden":true,"merged":[]}

{"sheet":"8","index":9,"n_rows":0,"n_cols":0,"rows_kept":0,"cut":false,"hidden":true,"merged":[]}

{"sheet":"9","index":10,"n_rows":0,"n_cols":0,"rows_kept":0,"cut":false,"hidden":true,"merged":[]}

{"sheet":"10","index":11,"n_rows":0,"n_cols":0,"rows_kept":0,"cut":false,"hidden":true,"merged":[]}

{"sheet":"11","index":12,"n_rows":0,"n_cols":0,"rows_kept":0,"cut":false,"hidden":true,"merged":[]}

{"sheet":"12","index":13,"n_rows":0,"n_cols":0,"rows_kept":0,"cut":false,"hidden":true,"merged":[]}

{"sheet":"13","index":14,"n_rows":0,"n_cols":0,"rows_kept":0,"cut":false,"hidden":true,"merged":[]}

{"sheet":"14","index":15,"n_rows":0,"n_cols":0,"rows_kept":0,"cut":false,"hidden":true,"merged":[]}

{"sheet":"15","index":16,"n_rows":0,"n_cols":0,"rows_kept":0,"cut":false,"hidden":true,"merged":[]}

{"sheet":"16","index":17,"n_rows":0,"n_cols":0,"rows_kept":0,"cut":false,"hidden":true,"merged":[]}

{"sheet":"17","index":18,"n_rows":0,"n_cols":0,"rows_kept":0,"cut":false,"hidden":true,"merged":[]}

{"sheet":"18","index":19,"n_rows":0,"n_cols":0,"rows_kept":0,"cut":false,"hidden":true,"merged":[]}

{"sheet":"19","index":20,"n_rows":0,"n_cols":0,"rows_kept":0,"cut":false,"hidden":true,"merged":[]}

{"sheet":"20","index":21,"n_rows":0,"n_cols":0,"rows_kept":0,"cut":false,"hidden":true,"merged":[]}

{"sheet":"Datum","index":22,"n_rows":11,"n_cols":6,"rows_kept":11,"cut":false,"hidden":false,"merged":[[4,2,6,3],[4,4,6,4],[4,5,6,7],[10,2,12,7]]}
[{"$f":"\"00_Přehled za měsíc_\" &C11&\"_\"&C5","v":"00_Přehled za měsíc_2017_9"}]
[]
[]
[null,null,"Měsíc"]
[null,null,9,null,"-",{"$f":"DATE(2017,C5,1)","v":"2017-09-01"}]
[]
[]
[]
[]
[null,null,"Rok"]
[null,null,2017]