{"text_format":"1","workbook":"xlsx","n_sheets":7,"sheets":["M1","List2","List1","3D Interpolace","Ukázka výpočtu","List3","Ukázka balancování"],"not_rendered":{"charts":1,"images":0,"macros":1,"external_links":0,"defined_names":35,"comments":1,"pivot_tables":0},"unopened":[],"bounds":{"document_bytes":16777216,"sheet_cells":100000,"rows_first":2000,"rows_last":500,"rows_between":2000,"halvings":0,"cell_chars":16384,"cell_head_chars":4096},"cells_cut":0,"cells_raw":0,"read":"whole","date_system":"1900"}

{"sheet":"M1","index":0,"n_rows":448,"n_cols":789,"rows_kept":139,"cut":true,"hidden":false,"merged":[[67,387,67,388],[291,387,291,388]],"bounds":{"rows_first":62,"rows_last":15,"rows_between":62,"halvings":5}}
[null,null,0,0.5,1,1.5,2,2.5,3,3.5,4,null,null,0,0.1,0.2,0.3,0.4,0.5,0.6,0.7,0.8,0.9,1,1.1000000000000001,1.2,1.3,1.4,1.5,1.6,1.7,1.8,1.9,2,2.1,2.2000000000000002,2.2999999999999998,2.4,2.5,2.6,2.7,2.8,2.9,3,3.1,3.2,3.3,3.4,3.5,3.6,3.7,3.8,3.9,4,null,null,null,0,0.1,0.2,0.3,0.4,0.5,0.6,0.7,0.8,0.9,1,1.1000000000000001,1.2,1.3,1.4,1.5,1.6,1.7,1.8,1.9,2,2.1,2.2000000000000002,2.2999999999999998,2.4,2.5,2.6,2.7,2.8,2.9,3,3.1,3.2,3.3,3.4,3.5,3.6,3.7,3.8,3.9,4,null,null,null,null,0,0.1,0.2,0.3,0.4,0.5,0.6,0.7,0.8,0.9,1,1.1000000000000001,1.2,1.3,1.4,1.5,1.6,1.7,1.8,1.9,2,2.1,2.2000000000000002,2.2999999999999998,2.4,2.5,2.6,2.7,2.8,2.9,3,3.1,3.2,3.3,3.4,3.5,3.6,3.7,3.8,3.9,4,null,null,null,null,{"$f":"IF(ER2>0,ER2/10-0.1,\"\")","v":0},{"$f":"IF(ES2>0,ES2/10-0.1,\"\")","v":0.1},0.19999999999999998,0.30000000000000004,0.4,0.5,0.6,0.70000000000000007,0.8,0.9,1,1.0999999999999999,1.2,1.2999999999999998,1.4,1.5,1.5999999999999999,1.7,1.7999999999999998,1.9,2,2,2.1,2.1999999999999997,2.2999999999999998,2.4,2.5,2.6,2.6999999999999997,2.8,2.9,3,3.1,3.1999999999999997,3.3,3.4,3.5,3.6,3.6999999999999997,3.8,3.9,3.9999999999999996,null,null,null,null,null,0,0.1,0.19999999999999998,0.30000000000000004,0.4,0.5,0.6,0.70000000000000007,0.8,0.9,1,1.0999999999999999,1.2,1.2999999999999998,1.4,1.5,1.5999999999999999,1.7,1.7999999999999998,1.9,2,2,2.1,2.1999999999999997,2.2999999999999998,2.4,2.5,2.6,2.6999999999999997,2.8,2.9,3,3.1,3.1999999999999997,3.3,3.4,3.5,3.6,3.6999999999999997,3.8,3.9,4,null,null,null,null,null,{"$f":"IF(IH2>0,IH2/10-0.1,\"\")","v":0},0.1,0.19999999999999998,0.30000000000000004,0.4,0.5,0.6,0.70000000000000007,0.8,0.9,1,1.0999999999999999,1.2,1.2999999999999998,1.4,1.5,1.5999999999999999,1.7,1.7999999999999998,1.9,2,2,2.1,2.1999999999999997,2.2999999999999998,2.4,2.5,2.6,2.6999999999999997,2.8,2.9,3,3.1,3.1999999999999997,3.3,3.4,3.5,3.6,3.6999999999999997,3.8,3.9,3.9999999999999996,"",null,null,null,null,null,null,null,{"$f":"IF(KF2>0,KF2/10-0.1,\"\")","v":0},0.1,0.19999999999999998,0.30000000000000004,0.4,0.5,0.6,0.70000000000000007,0.8,0.9,1,1.0999999999999999,1.2,1.2999999999999998,1.4,1.5,1.5999999999999999,1.7,1.7999999999999998,1.9,2,2,2.1,2.1999999999999997,2.2999999999999998,2.4,2.5,2.6,2.6999999999999997,2.8,2.9,3,3.1,3.1999999999999997,3.3,3.4,3.5,3.6,3.6999999999999997,3.8,3.9,3.9999999999999996,null,null,null,null,null,null,null,null,null,{"$f":"IF(ME2>0,ME2/10-0.1,\"\")","v":0},{"$f":"IF(MF2>0,MF2/10-0.1,\"\")","v":0.1},0.19999999999999998,0.30000000000000004,0.4,0.5,0.6,0.70000000000000007,0.8,0.9,1,1.0999999999999999,1.2,1.2999999999999998,1.4,1.5,1.5999999999999999,1.7,1.7999999999999998,1.9,2,2.1,2.1999999999999997,2.2999999999999998,2.4,2.5,2.6,2.6999999999999997,2.8,2.9,3,3.1,3.1999999999999997,3.3,3.4,3.5,3.6,3.6999999999999997,3.8,3.9,null,null,null,null,{"$f":"IF(NW2>0,NW2/10-0.1,\"\")","v":0},{"$f":"IF(NX2>0,NX2/10-0.1,\"\")","v":0.1},0.19999999999999998,0.30000000000000004,0.4,0.5,0.6,0.70000000000000007,0.8,0.9,1,1.0999999999999999,1.2,1.2999999999999998,1.4,1.5,1.5999999999999999,1.7,1.7999999999999998,1.9,2,2.1,2.1999999999999997,2.2999999999999998,2.4,2.5,2.6,2.6999999999999997,2.8,2.9,3,3.1,3.1999999999999997,3.3,3.4,3.5,3.6,3.6999999999999997,3.8,3.9,null,null,null,null,{"$f":"IF(PO2>0,PO2/10-0.1,\"\")","v":0},{"$f":"IF(PP2>0,PP2/10-0.1,\"\")","v":0.1},0.19999999999999998,0.30000000000000004,0.4,0.5,0.6,0.70000000000000007,0.8,0.9,1,1.0999999999999999,1.2,1.2999999999999998,1.4,1.5,1.5999999999999999,1.7,1.7999999999999998,1.9,2,2.1,2.1999999999999997,2.2999999999999998,2.4,2.5,2.6,2.6999999999999997,2.8,2.9,3,3.1,3.1999999999999997,3.3,3.4,3.5,3.6,3.6999999999999997,3.8,3.9,null,null,null,null,0,0.1,0.2,0.3,0.4,0.5,0.6,0.7,0.8,0.9,1,1.1000000000000001,1.2,1.3,1.4,1.5,1.6,1.7,1.8,1.9,2,2.1,2.2000000000000002,2.2999999999999998,2.4,2.5,2.6,2.7,2.8,2.9,3,3.1,3.2,3.3,3.4,3.5,3.6,3.7,3.8,3.9,4,null,null,null,null,0,0.1,0.2,0.3,0.4,0.5,0.6,0.7,0.8,0.9,1,1.1000000000000001,1.2,1.3,1.4,1.5,1.6,1.7,1.8,1.9,2,2.1,2.2000000000000002,2.2999999999999998,2.4,2.5,2.6,2.7,2.8,2.9,3,3.1,3.2,3.3,3.4,3.5,3.6,3.7,3.8,3.9,4,null,null,null,null,0,0.1,0.2,0.3,0.4,0.5,0.6,0.7,0.8,0.9,1,1.1000000000000001,1.2,1.3,1.4,1.5,1.6,1.7,1.8,1.9,2,2.1,2.2000000000000002,2.2999999999999998,2.4,2.5,2.6,2.7,2.8,2.9,3,3.1,3.2,3.3,3.4,3.5,3.6,3.7,3.8,3.9,4,null,null,null,null,0,0.1,0.2,0.3,0.4,0.5,0.6,0.7,0.8,0.9,1,1.1000000000000001,1.2,1.3,1.4,1.5,1.6,1.7,1.8,1.9,2,2.1,2.2000000000000002,2.2999999999999998,2.4,2.5,2.6,2.7,2.8,2.9,3,3.1,3.2,3.3,3.4,3.5,3.6,3.7,3.8,3.9,4,null,null,null,null,0,0.1,0.19999999999999998,0.30000000000000004,0.4,0.5,0.6,0.70000000000000007,0.8,0.9,1,1.0999999999999999,1.2,1.2999999999999998,1.4,1.5,1.5999999999999999,1.7,1.7999999999999998,1.9,2,2,2.1,2.1999999999999997,2.2999999999999998,2.4,2.5,2.6,2.6999999999999997,2.8,2.9,3,3.1,3.1999999999999997,3.3,3.4,3.5,3.6,3.6999999999999997,3.8,3.9,3.9999999999999996,null,null,null,null,0,0.1,0.19999999999999998,0.30000000000000004,0.4,0.5,0.6,0.70000000000000007,0.8,0.9,1,1.0999999999999999,1.2,1.2999999999999998,1.4,1.5,1.5999999999999999,1.7,1.7999999999999998,1.9,2,2,2.1,2.1999999999999997,2.2999999999999998,2.4,2.5,2.6,2.6999999999999997,2.8,2.9,3,3.1,3.1999999999999997,3.3,3.4,3.5,3.6,3.6999999999999997,3.8,3.9,3.9999999999999996,null,null,null,null,0,0.1,0.19999999999999998,0.30000000000000004,0.4,0.5,0.6,0.70000000000000007,0.8,0.9,1,1.0999999999999999,1.2,1.2999999999999998,1.4,1.5,1.5999999999999999,1.7,1.7999999999999998,1.9,2,2,2.1,2.1999999999999997,2.2999999999999998,2.4,2.5,2.6,2.6999999999999997,2.8,2.9,3,3.1,3.1999999999999997,3.3,3.4,3.5,3.6,3.6999999999999997,3.8,3.9,3.9999999999999996]
[1000,null,1,2,3,4,5,6,7,8,9,null,null,"1","1A","1B","1C","1D","2","2A","2B","2C","2D","3","3A","3B","3C","3D","4","4A","4B","4C","4D","5","5A","5B","5C","5D","6","6A","6B","6C","6D","7","7A","7B","7C","7D","8","8A","8B","8C","8D","9",null,null,null,1,2,3,4,5,6,7,8,9,10,11,12,13,14,15,16,17,18,19,20,21,22,23,24,25,26,27,28,29,30,31,32,33,34,35,36,37,38,39,40,41,null,null,null,null,1,2,3,4,5,6,7,8,9,10,11,12,13,14,15,16,17,18,19,20,21,22,23,24,25,26,27,28,29,30,31,32,33,34,35,36,37,38,39,40,41,null,null,null,null,1,2,3,4,5,6,7,8,9,10,11,12,13,14,15,16,17,18,19,20,21,21,22,23,24,25,26,27,28,29,30,31,32,33,34,35,36,37,38,39,40,41,null,null,"opěrných bodů",3,null,1,2,3,4,5,6,7,8,9,10,11,12,13,14,15,16,17,18,19,20,21,21,22,23,24,25,26,27,28,29,30,31,32,33,34,35,36,37,38,39,40,41,null,null,null,null,null,{"$f":"ER2","v":1},2,3,4,5,6,7,8,9,10,11,12,13,14,15,16,17,18,19,20,21,21,22,23,24,25,26,27,28,29,30,31,32,33,34,35,36,37,38,39,40,41,null,null,null,null,null,null,null,null,{"$f":"IH2","v":1},{"$f":"II2","v":2},3,4,5,6,7,8,9,10,11,12,13,14,15,16,17,18,19,20,21,21,22,23,24,25,26,27,28,29,30,31,32,33,34,35,36,37,38,39,40,41,null,null,null,null,null,null,null,null,null,1,2,3,4,5,6,7,8,9,10,11,12,13,14,15,16,17,18,19,20,21,22,23,24,25,26,27,28,29,30,31,32,33,34,35,36,37,38,39,40,null,null,null,null,1,2,3,4,5,6,7,8,9,10,11,12,13,14,15,16,17,18,19,20,21,22,23,24,25,26,27,28,29,30,31,32,33,34,35,36,37,38,39,40,null,null,null,null,1,2,3,4,5,6,7,8,9,10,11,12,13,14,15,16,17,18,19,20,21,22,23,24,25,26,27,28,29,30,31,32,33,34,35,36,37,38,39,40,null,null,null,null,1,2,3,4,5,6,7,8,9,10,11,12,13,14,15,16,17,18,19,20,21,22,23,24,25,26,27,28,29,30,31,32,33,34,35,36,37,38,39,40,41,null,null,null,null,1,2,3,4,5,6,7,8,9,10,11,12,13,14,15,16,17,18,19,20,21,22,23,24,25,26,27,28,29,30,31,32,33,34,35,36,37,38,39,40,41,null,null,null,null,1,2,3,4,5,6,7,8,9,10,11,12,13,14,15,16,17,18,19,20,21,22,23,24,25,26,27,28,29,30,31,32,33,34,35,36,37,38,39,40,41,null,null,null,null,1,2,3,4,5,6,7,8,9,10,11,12,13,14,15,16,17,18,19,20,21,22,23,24,25,26,27,28,29,30,31,32,33,34,35,36,37,38,39,40,41,null,null,null,null,1,2,3,4,5,6,7,8,9,10,11,12,13,14,15,16,17,18,19,20,21,21,22,23,24,25,26,27,28,29,30,31,32,33,34,35,36,37,38,39,40,41,null,null,null,null,1,2,3,4,5,6,7,8,9,10,11,12,13,14,15,16,17,18,19,20,21,21,22,23,24,25,26,27,28,29,30,31,32,33,34,35,36,37,38,39,40,41,null,null,null,null,1,2,3,4,5,6,7,8,9,10,11,12,13,14,15,16,17,18,19,20,21,21,22,23,24,25,26,27,28,29,30,31,32,33,34,35,36,37,38,39,40,41]
[1,"A",43,43,41,41,42,41,37,39,34,null,"1",{"$f":"ROUND('3D Interpolace'!M4,2)","v":43},{"$f":"ROUND('3D Interpolace'!N4,2)","v":43.16},{"$f":"ROUND('3D Interpolace'!O4,2)","v":43.24},{"$f":"ROUND('3D Interpolace'!P4,2)","v":43.24},{"$f":"ROUND('3D Interpolace'!Q4,2)","v":43.16},{"$f":"ROUND('3D Interpolace'!R4,2)","v":43},{"$f":"ROUND('3D Interpolace'!S4,2)","v":42.7},{"$f":"ROUND('3D Interpolace'!T4,2)","v":42.25},{"$f":"ROUND('3D Interpolace'!U4,2)","v":41.75},{"$f":"ROUND('3D Interpolace'!V4,2)","v":41.3},{"$f":"ROUND('3D Interpolace'!W4,2)","v":41},{"$f":"ROUND('3D Interpolace'!X4,2)","v":40.86},{"$f":"ROUND('3D Interpolace'!Y4,2)","v":40.81},{"$f":"ROUND('3D Interpolace'!Z4,2)","v":40.83},{"$f":"ROUND('3D Interpolace'!AA4,2)","v":40.9},{"$f":"ROUND('3D Interpolace'!AB4,2)","v":41},{"$f":"ROUND('3D Interpolace'!AC4,2)","v":41.17},{"$f":"ROUND('3D Interpolace'!AD4,2)","v":41.42},{"$f":"ROUND('3D Interpolace'!AE4,2)","v":41.7},{"$f":"ROUND('3D Interpolace'!AF4,2)","v":41.91},{"$f":"ROUND('3D Interpolace'!AG4,2)","v":42},{"$f":"ROUND('3D Interpolace'!AH4,2)","v":41.98},{"$f":"ROUND('3D Interpolace'!AI4,2)","v":41.89},{"$f":"ROUND('3D Interpolace'!AJ4,2)","v":41.71},{"$f":"ROUND('3D Interpolace'!AK4,2)","v":41.42},{"$f":"ROUND('3D Interpolace'!AL4,2)","v":41},{"$f":"ROUND('3D Interpolace'!AM4,2)","v":40.299999999999997},{"$f":"ROUND('3D Interpolace'!AN4,2)","v":39.33},{"$f":"ROUND('3D Interpolace'!AO4,2)","v":38.31},{"$f":"ROUND('3D Interpolace'!AP4,2)","v":37.46},{"$f":"ROUND('3D Interpolace'!AQ4,2)","v":37},{"$f":"ROUND('3D Interpolace'!AR4,2)","v":37.130000000000003},{"$f":"ROUND('3D Interpolace'!AS4,2)","v":37.700000000000003},{"$f":"ROUND('3D Interpolace'!AT4,2)","v":38.42},{"$f":"ROUND('3D Interpolace'!AU4,2)","v":38.950000000000003},{"$f":"ROUND('3D Interpolace'!AV4,2)","v":39},{"$f":"ROUND('3D Interpolace'!AW4,2)","v":38.56},{"$f":"ROUND('3D Interpolace'!AX4,2)","v":37.840000000000003},{"$f":"ROUND('3D Interpolace'!AY4,2)","v":36.840000000000003},{"$f":"ROUND('3D Interpolace'!AZ4,2)","v":35.56},{"$f":"ROUND('3D Interpolace'!BA4,2)","v":34},null,0,1,null,null,null,null,null,null,null,null,null,4,4,null,null,null,null,null,null,null,null,null,null,null,null,null,null,null,null,null,null,null,null,null,null,null,null,null,null,null,null,null,null,0,null,0,1,{"$f":"N3+BF3","v":43},43.16,43.24,43.24,43.16,43,{"$f":"T3+BL3","v":42.7},{"$f":"U3+BM3","v":42.25},{"$f":"V3+BN3","v":41.75},45.3,45,40.86,40.81,40.83,{"$f":"AB3+BT3","v":40.9},{"$f":"AC3+BU3","v":41},{"$f":"AD3+BV3","v":41.17},41.42,41.7,41.91,42,41.98,41.89,41.71,41.42,41,40.299999999999997,39.33,38.31,37.46,37,37.130000000000003,37.700000000000003,38.42,38.950000000000003,39,38.56,37.840000000000003,36.840000000000003,35.56,34,0,null,{"$f":"IF(EQ3>0,EQ3/10-0.1,\"\")","v":0},1,{"$f":"IF(ISNUMBER(INDEX(VstupniData,$EQ3,ER$2)),INDEX(VstupniData,$EQ3,ER$2),\"\")","v":43},{"$f":"IF(ISNUMBER(INDEX(VstupniData,$EQ3,ES$2)),INDEX(VstupniData,$EQ3,ES$2),\"\")","v":43.16},43.24,43.24,43.16,43,42.7,42.25,41.75,45.3,{"$f":"IF(ISNUMBER(INDEX(VstupniData,$EQ3,FB$2)),INDEX(VstupniData,$EQ3,FB$2),\"\")","v":45},40.86,40.81,40.83,40.9,41,41.17,41.42,41.7,41.91,{"$f":"IF(ISNUMBER(INDEX(VstupniData,$EQ3,FL$2)),INDEX(VstupniData,$EQ3,FL$2),\"\")","v":42},42,41.98,41.89,41.71,41.42,41,40.299999999999997,39.33,38.31,{"$f":"IF(ISNUMBER(INDEX(VstupniData,$EQ3,FV$2)),INDEX(VstupniData,$EQ3,FV$2),\"\")","v":37.46},37,37.130000000000003,37.700000000000003,38.42,38.950000000000003,39,38.56,37.840000000000003,36.840000000000003,{"$f":"IF(ISNUMBER(INDEX(VstupniData,$EQ3,GF$2)),INDEX(VstupniData,$EQ3,GF$2),\"\")","v":35.56},34,null,null,null,0,1,{"$f":"IF(OR(AND(INT(1000*GM$1/500)-1000*GM$1/500=0,INT(1000*$GK3/500)-1000*$GK3/500=0),ZY3>4),ER3,IF(AND(ZY3=4,OR(INT(1000*GM$1/500)-1000*GM$1/500=0,INT(1000*$GK3/500)-1000*$GK3/500=0)),ER3,0))","v":43},{"$f":"IF(OR(AND(INT(1000*GN$1/500)-1000*GN$1/500=0,INT(1000*$GK3/500)-1000*$GK3/500=0),ZZ3>4),ES3,IF(AND(ZZ3=4,OR(INT(1000*GN$1/500)-1000*GN$1/500=0,INT(1000*$GK3/500)-1000*$GK3/500=0)),ES3,0))","v":0},{"$f":"IF(OR(AND(INT(1000*GO$1/500)-1000*GO$1/500=0,INT(1000*$GK3/500)-1000*$GK3/500=0),AAA3>4),ET3,IF(AND(AAA3=4,OR(INT(1000*GO$1/500)-1000*GO$1/500=0,INT(1000*$GK3/500)-1000*$GK3/500=0)),ET3,0))","v":0},{"$f":"IF(OR(AND(INT(1000*GP$1/500)-1000*GP$1/500=0,INT(1000*$GK3/500)-1000*$GK3/500=0),AAB3>4),EU3,IF(AND(AAB3=4,OR(INT(1000*GP$1/500)-1000*GP$1/500=0,INT(1000*$GK3/500)-1000*$GK3/500=0)),EU3,0))","v":0},{"$f":"IF(OR(AND(INT(1000*GQ$1/500)-1000*GQ$1/500=0,INT(1000*$GK3/500)-1000*$GK3/500=0),AAC3>4),EV3,IF(AND(AAC3=4,OR(INT(1000*GQ$1/500)-1000*GQ$1/500=0,INT(1000*$GK3/500)-1000*$GK3/500=0)),EV3,0))","v":0},{"$f":"IF(OR(AND(INT(1000*GR$1/500)-1000*GR$1/500=0,INT(1000*$GK3/500)-1000*$GK3/500=0),AAD3>4),EW3,IF(AND(AAD3=4,OR(INT(1000*GR$1/500)-1000*GR$1/500=0,INT(1000*$GK3/500)-1000*$GK3/500=0)),EW3,0))","v":43},{"$f":"IF(OR(AND(INT(1000*GS$1/500)-1000*GS$1/500=0,INT(1000*$GK3/500)-1000*$GK3/500=0),AAE3>4),EX3,IF(AND(AAE3=4,OR(INT(1000*GS$1/500)-1000*GS$1/500=0,INT(1000*$GK3/500)-1000*$GK3/500=0)),EX3,0))","v":0},{"$f":"IF(OR(AND(INT(1000*GT$1/500)-1000*GT$1/500=0,INT(1000*$GK3/500)-1000*$GK3/500=0),AAF3>4),EY3,IF(AND(AAF3=4,OR(INT(1000*GT$1/500)-1000*GT$1/500=0,INT(1000*$GK3/500)-1000*$GK3/500=0)),EY3,0))","v":0},{"$f":"IF(OR(AND(INT(1000*GU$1/500)-1000*GU$1/500=0,INT(1000*$GK3/500)-1000*$GK3/500=0),AAG3>4),EZ3,IF(AND(AAG3=4,OR(INT(1000*GU$1/500)-1000*GU$1/500=0,INT(1000*$GK3/500)-1000*$GK3/500=0)),EZ3,0))","v":0},{"$f":"IF(OR(AND(INT(1000*GV$1/500)-1000*GV$1/500=0,INT(1000*$GK3/500)-1000*$GK3/500=0),AAH3>4),FA3,IF(AND(AAH3=4,OR(INT(1000*GV$1/500)-1000*GV$1/500=0,INT(1000*$GK3/500)-1000*$GK3/500=0)),FA3,0))","v":45.3},{"$f":"IF(OR(AND(INT(1000*GW$1/500)-1000*GW$1/500=0,INT(1000*$GK3/500)-1000*$GK3/500=0),AAI3>4),FB3,IF(AND(AAI3=4,OR(INT(1000*GW$1/500)-1000*GW$1/500=0,INT(1000*$GK3/500)-1000*$GK3/500=0)),FB3,0))","v":45},{"$f":"IF(OR(AND(INT(1000*GX$1/500)-1000*GX$1/500=0,INT(1000*$GK3/500)-1000*$GK3/500=0),AAJ3>4),FC3,IF(AND(AAJ3=4,OR(INT(1000*GX$1/500)-1000*GX$1/500=0,INT(1000*$GK3/500)-1000*$GK3/500=0)),FC3,0))","v":0},{"$f":"IF(OR(AND(INT(1000*GY$1/500)-1000*GY$1/500=0,INT(1000*$GK3/500)-1000*$GK3/500=0),AAK3>4),FD3,IF(AND(AAK3=4,OR(INT(1000*GY$1/500)-1000*GY$1/500=0,INT(1000*$GK3/500)-1000*$GK3/500=0)),FD3,0))","v":0},{"$f":"IF(OR(AND(INT(1000*GZ$1/500)-1000*GZ$1/500=0,INT(1000*$GK3/500)-1000*$GK3/500=0),AAL3>4),FE3,IF(AND(AAL3=4,OR(INT(1000*GZ$1/500)-1000*GZ$1/500=0,INT(1000*$GK3/500)-1000*$GK3/500=0)),FE3,0))","v":0},{"$f":"IF(OR(AND(INT(1000*HA$1/500)-1000*HA$1/500=0,INT(1000*$GK3/500)-1000*$GK3/500=0),AAM3>4),FF3,IF(AND(AAM3=4,OR(INT(1000*HA$1/500)-1000*HA$1/500=0,INT(1000*$GK3/500)-1000*$GK3/500=0)),FF3,0))","v":0},{"$f":"IF(OR(AND(INT(1000*HB$1/500)-1000*HB$1/500=0,INT(1000*$GK3/500)-1000*$GK3/500=0),AAN3>4),FG3,IF(AND(AAN3=4,OR(INT(1000*HB$1/500)-1000*HB$1/500=0,INT(1000*$GK3/500)-1000*$GK3/500=0)),FG3,0))","v":41},{"$f":"IF(OR(AND(INT(1000*HC$1/500)-1000*HC$1/500=0,INT(1000*$GK3/500)-1000*$GK3/500=0),AAO3>4),FH3,IF(AND(AAO3=4,OR(INT(1000*HC$1/500)-1000*HC$1/500=0,INT(1000*$GK3/500)-1000*$GK3/500=0)),FH3,0))","v":0},{"$f":"IF(OR(AND(INT(1000*HD$1/500)-1000*HD$1/500=0,INT(1000*$GK3/500)-1000*$GK3/500=0),AAP3>4),FI3,IF(AND(AAP3=4,OR(INT(1000*HD$1/500)-1000*HD$1/500=0,INT(1000*$GK3/500)-1000*$GK3/500=0)),FI3,0))","v":0},{"$f":"IF(OR(AND(INT(1000*HE$1/500)-1000*HE$1/500=0,INT(1000*$GK3/500)-1000*$GK3/500=0),AAQ3>4),FJ3,IF(AND(AAQ3=4,OR(INT(1000*HE$1/500)-1000*HE$1/500=0,INT(1000*$GK3/500)-1000*$GK3/500=0)),FJ3,0))","v":0},{"$f":"IF(OR(AND(INT(1000*HF$1/500)-1000*HF$1/500=0,INT(1000*$GK3/500)-1000*$GK3/500=0),AAR3>4),FK3,IF(AND(AAR3=4,OR(INT(1000*HF$1/500)-1000*HF$1/500=0,INT(1000*$GK3/500)-1000*$GK3/500=0)),FK3,0))","v":0},{"$f":"IF(OR(AND(INT(1000*HG$1/500)-1000*HG$1/500=0,INT(1000*$GK3/500)-1000*$GK3/500=0),AAS3>4),FL3,IF(AND(AAS3=4,OR(INT(1000*HG$1/500)-1000*HG$1/500=0,INT(1000*$GK3/500)-1000*$GK3/500=0)),FL3,0))","v":42},{"$f":"IF(OR(AND(INT(1000*HH$1/500)-1000*HH$1/500=0,INT(1000*$GK3/500)-1000*$GK3/500=0),AAT3>4),FM3,IF(AND(AAT3=4,OR(INT(1000*HH$1/500)-1000*HH$1/500=0,INT(1000*$GK3/500)-1000*$GK3/500=0)),FM3,0))","v":42},{"$f":"IF(OR(AND(INT(1000*HI$1/500)-1000*HI$1/500=0,INT(1000*$GK3/500)-1000*$GK3/500=0),AAU3>4),FN3,IF(AND(AAU3=4,OR(INT(1000*HI$1/500)-1000*HI$1/500=0,INT(1000*$GK3/500)-1000*$GK3/500=0)),FN3,0))","v":0},{"$f":"IF(OR(AND(INT(1000*HJ$1/500)-1000*HJ$1/500=0,INT(1000*$GK3/500)-1000*$GK3/500=0),AAV3>4),FO3,IF(AND(AAV3=4,OR(INT(1000*HJ$1/500)-1000*HJ$1/500=0,INT(1000*$GK3/500)-1000*$GK3/500=0)),FO3,0))","v":0},{"$f":"IF(OR(AND(INT(1000*HK$1/500)-1000*HK$1/500=0,INT(1000*$GK3/500)-1000*$GK3/500=0),AAW3>4),FP3,IF(AND(AAW3=4,OR(INT(1000*HK$1/500)-1000*HK$1/500=0,INT(1000*$GK3/500)-1000*$GK3/500=0)),FP3,0))","v":0},{"$f":"IF(OR(AND(INT(1000*HL$1/500)-1000*HL$1/500=0,INT(1000*$GK3/500)-1000*$GK3/500=0),AAX3>4),FQ3,IF(AND(AAX3=4,OR(INT(1000*HL$1/500)-1000*HL$1/500=0,INT(1000*$GK3/500)-1000*$GK3/500=0)),FQ3,0))","v":0},{"$f":"IF(OR(AND(INT(1000*HM$1/500)-1000*HM$1/500=0,INT(1000*$GK3/500)-1000*$GK3/500=0),AAY3>4),FR3,IF(AND(AAY3=4,OR(INT(1000*HM$1/500)-1000*HM$1/500=0,INT(1000*$GK3/500)-1000*$GK3/500=0)),FR3,0))","v":41},{"$f":"IF(OR(AND(INT(1000*HN$1/500)-1000*HN$1/500=0,INT(1000*$GK3/500)-1000*$GK3/500=0),AAZ3>4),FS3,IF(AND(AAZ3=4,OR(INT(1000*HN$1/500)-1000*HN$1/500=0,INT(1000*$GK3/500)-1000*$GK3/500=0)),FS3,0))","v":0},{"$f":"IF(OR(AND(INT(1000*HO$1/500)-1000*HO$1/500=0,INT(1000*$GK3/500)-1000*$GK3/500=0),ABA3>4),FT3,IF(AND(ABA3=4,OR(INT(1000*HO$1/500)-1000*HO$1/500=0,INT(1000*$GK3/500)-1000*$GK3/500=0)),FT3,0))","v":0},{"$f":"IF(OR(AND(INT(1000*HP$1/500)-1000*HP$1/500=0,INT(1000*$GK3/500)-1000*$GK3/500=0),ABB3>4),FU3,IF(AND(ABB3=4,OR(INT(1000*HP$1/500)-1000*HP$1/500=0,INT(1000*$GK3/500)-1000*$GK3/500=0)),FU3,0))","v":0},{"$f":"IF(OR(AND(INT(1000*HQ$1/500)-1000*HQ$1/500=0,INT(1000*$GK3/500)-1000*$GK3/500=0),ABC3>4),FV3,IF(AND(ABC3=4,OR(INT(1000*HQ$1/500)-1000*HQ$1/500=0,INT(1000*$GK3/500)-1000*$GK3/500=0)),FV3,0))","v":0},{"$f":"IF(OR(AND(INT(1000*HR$1/500)-1000*HR$1/500=0,INT(1000*$GK3/500)-1000*$GK3/500=0),ABD3>4),FW3,IF(AND(ABD3=4,OR(INT(1000*HR$1/500)-1000*HR$1/500=0,INT(1000*$GK3/500)-1000*$GK3/500=0)),FW3,0))","v":37},{"$f":"IF(OR(AND(INT(1000*HS$1/500)-1000*HS$1/500=0,INT(1000*$GK3/500)-1000*$GK3/500=0),ABE3>4),FX3,IF(AND(ABE3=4,OR(INT(1000*HS$1/500)-1000*HS$1/500=0,INT(1000*$GK3/500)-1000*$GK3/500=0)),FX3,0))","v":0},{"$f":"IF(OR(AND(INT(1000*HT$1/500)-1000*HT$1/500=0,INT(1000*$GK3/500)-1000*$GK3/500=0),ABF3>4),FY3,IF(AND(ABF3=4,OR(INT(1000*HT$1/500)-1000*HT$1/500=0,INT(1000*$GK3/500)-1000*$GK3/500=0)),FY3,0))","v":0},{"$f":"IF(OR(AND(INT(1000*HU$1/500)-1000*HU$1/500=0,INT(1000*$GK3/500)-1000*$GK3/500=0),ABG3>4),FZ3,IF(AND(ABG3=4,OR(INT(1000*HU$1/500)-1000*HU$1/500=0,INT(1000*$GK3/500)-1000*$GK3/500=0)),FZ3,0))","v":0},{"$f":"IF(OR(AND(INT(1000*HV$1/500)-1000*HV$1/500=0,INT(1000*$GK3/500)-1000*$GK3/500=0),ABH3>4),GA3,IF(AND(ABH3=4,OR(INT(1000*HV$1/500)-1000*HV$1/500=0,INT(1000*$GK3/500)-1000*$GK3/500=0)),GA3,0))","v":0},{"$f":"IF(OR(AND(INT(1000*HW$1/500)-1000*HW$1/500=0,INT(1000*$GK3/500)-1000*$GK3/500=0),ABI3>4),GB3,IF(AND(ABI3=4,OR(INT(1000*HW$1/500)-1000*HW$1/500=0,INT(1000*$GK3/500)-1000*$GK3/500=0)),GB3,0))","v":39},{"$f":"IF(OR(AND(INT(1000*HX$1/500)-1000*HX$1/500=0,INT(1000*$GK3/500)-1000*$GK3/500=0),ABJ3>4),GC3,IF(AND(ABJ3=4,OR(INT(1000*HX$1/500)-1000*HX$1/500=0,INT(1000*$GK3/500)-1000*$GK3/500=0)),GC3,0))","v":0},{"$f":"IF(OR(AND(INT(1000*HY$1/500)-1000*HY$1/500=0,INT(1000*$GK3/500)-1000*$GK3/500=0),ABK3>4),GD3,IF(AND(ABK3=4,OR(INT(1000*HY$1/500)-1000*HY$1/500=0,INT(1000*$GK3/500)-1000*$GK3/500=0)),GD3,0))","v":0},{"$f":"IF(OR(AND(INT(1000*HZ$1/500)-1000*HZ$1/500=0,INT(1000*$GK3/500)-1000*$GK3/500=0),ABL3>4),GE3,IF(AND(ABL3=4,OR(INT(1000*HZ$1/500)-1000*HZ$1/500=0,INT(1000*$GK3/500)-1000*$GK3/500=0)),GE3,0))","v":0},{"$f":"IF(OR(AND(INT(1000*IA$1/500)-1000*IA$1/500=0,INT(1000*$GK3/500)-1000*$GK3/500=0),ABM3>4),GF3,IF(AND(ABM3=4,OR(INT(1000*IA$1/500)-1000*IA$1/500=0,INT(1000*$GK3/500)-1000*$GK3/500=0)),GF3,0))","v":0},{"$f":"IF(OR(AND(INT(1000*IB$1/500)-1000*IB$1/500=0,INT(1000*$GK3/500)-1000*$GK3/500=0),ABN3>4),GG3,IF(AND(ABN3=4,OR(INT(1000*IB$1/500)-1000*IB$1/500=0,INT(1000*$GK3/500)-1000*$GK3/500=0)),GG3,0))","v":34},0,null,null,null,1,48,47.7,47.4,47.1,46.8,46.5,46.2,45.9,45.6,45.3,45,44.7,44.4,44.1,43.8,43.5,43.2,42.9,42.6,42.3,42,42,41.8,41.6,41.4,41.2,41,40.799999999999997,40.6,40.4,40.200000000000003,40,39.799999999999997,39.6,39.4,39.200000000000003,39,38.799999999999997,38.6,38.4,38.200000000000003,38,0,null,null,null,null,null,0,1,{"$f":"IF(IH3-ER3>0.001,IH3-ER3,IF(IH3-ER3>-0.001,0,IH3-ER3))","v":5},{"$f":"IF(II3-ES3>0.001,II3-ES3,IF(II3-ES3>-0.001,0,II3-ES3))","v":4.5400000000000063},{"$f":"IF(IJ3-ET3>0.001,IJ3-ET3,IF(IJ3-ET3>-0.001,0,IJ3-ET3))","v":4.1599999999999966},{"$f":"IF(IK3-EU3>0.001,IK3-EU3,IF(IK3-EU3>-0.001,0,IK3-EU3))","v":3.8599999999999994},{"$f":"IF(IL3-EV3>0.001,IL3-EV3,IF(IL3-EV3>-0.001,0,IL3-EV3))","v":3.6400000000000006},{"$f":"IF(IM3-EW3>0.001,IM3-EW3,IF(IM3-EW3>-0.001,0,IM3-EW3))","v":3.5},{"$f":"IF(IN3-EX3>0.001,IN3-EX3,IF(IN3-EX3>-0.001,0,IN3-EX3))","v":3.5},{"$f":"IF(IO3-EY3>0.001,IO3-EY3,IF(IO3-EY3>-0.001,0,IO3-EY3))","v":3.6499999999999986},{"$f":"IF(IP3-EZ3>0.001,IP3-EZ3,IF(IP3-EZ3>-0.001,0,IP3-EZ3))","v":3.8500000000000014},{"$f":"IF(IQ3-FA3>0.001,IQ3-FA3,IF(IQ3-FA3>-0.001,0,IQ3-FA3))","v":0},{"$f":"IF(IR3-FB3>0.001,IR3-FB3,IF(IR3-FB3>-0.001,0,IR3-FB3))","v":0},{"$f":"IF(IS3-FC3>0.001,IS3-FC3,IF(IS3-FC3>-0.001,0,IS3-FC3))","v":3.8400000000000034},{"$f":"IF(IT3-FD3>0.001,IT3-FD3,IF(IT3-FD3>-0.001,0,IT3-FD3))","v":3.5899999999999963},{"$f":"IF(IU3-FE3>0.001,IU3-FE3,IF(IU3-FE3>-0.001,0,IU3-FE3))","v":3.2700000000000031},{"$f":"IF(IV3-FF3>0.001,IV3-FF3,IF(IV3-FF3>-0.001,0,IV3-FF3))","v":2.8999999999999986},{"$f":"IF(IW3-FG3>0.001,IW3-FG3,IF(IW3-FG3>-0.001,0,IW3-FG3))","v":2.5},{"$f":"IF(IX3-FH3>0.001,IX3-FH3,IF(IX3-FH3>-0.001,0,IX3-FH3))","v":2.0300000000000011},{"$f":"IF(IY3-FI3>0.001,IY3-FI3,IF(IY3-FI3>-0.001,0,IY3-FI3))","v":1.4799999999999969},{"$f":"IF(IZ3-FJ3>0.001,IZ3-FJ3,IF(IZ3-FJ3>-0.001,0,IZ3-FJ3))","v":0.89999999999999858},{"$f":"IF(JA3-FK3>0.001,JA3-FK3,IF(JA3-FK3>-0.001,0,JA3-FK3))","v":0.39000000000000057},{"$f":"IF(JB3-FL3>0.001,JB3-FL3,IF(JB3-FL3>-0.001,0,JB3-FL3))","v":0},{"$f":"IF(JC3-FM3>0.001,JC3-FM3,IF(JC3-FM3>-0.001,0,JC3-FM3))","v":0},{"$f":"IF(JD3-FN3>0.001,JD3-FN3,IF(JD3-FN3>-0.001,0,JD3-FN3))","v":-0.17999999999999972},{"$f":"IF(JE3-FO3>0.001,JE3-FO3,IF(JE3-FO3>-0.001,0,JE3-FO3))","v":-0.28999999999999915},{"$f":"IF(JF3-FP3>0.001,JF3-FP3,IF(JF3-FP3>-0.001,0,JF3-FP3))","v":-0.31000000000000227},{"$f":"IF(JG3-FQ3>0.001,JG3-FQ3,IF(JG3-FQ3>-0.001,0,JG3-FQ3))","v":-0.21999999999999886},{"$f":"IF(JH3-FR3>0.001,JH3-FR3,IF(JH3-FR3>-0.001,0,JH3-FR3))","v":0},{"$f":"IF(JI3-FS3>0.001,JI3-FS3,IF(JI3-FS3>-0.001,0,JI3-FS3))","v":0.5},{"$f":"IF(JJ3-FT3>0.001,JJ3-FT3,IF(JJ3-FT3>-0.001,0,JJ3-FT3))","v":1.2700000000000031},{"$f":"IF(JK3-FU3>0.001,JK3-FU3,IF(JK3-FU3>-0.001,0,JK3-FU3))","v":2.0899999999999963},{"$f":"IF(JL3-FV3>0.001,JL3-FV3,IF(JL3-FV3>-0.001,0,JL3-FV3))","v":2.740000000000002},{"$f":"IF(JM3-FW3>0.001,JM3-FW3,IF(JM3-FW3>-0.001,0,JM3-FW3))","v":3},{"$f":"IF(JN3-FX3>0.001,JN3-FX3,IF(JN3-FX3>-0.001,0,JN3-FX3))","v":2.6699999999999946},{"$f":"IF(JO3-FY3>0.001,JO3-FY3,IF(JO3-FY3>-0.001,0,JO3-FY3))","v":1.8999999999999986},{"$f":"IF(JP3-FZ3>0.001,JP3-FZ3,IF(JP3-FZ3>-0.001,0,JP3-FZ3))","v":0.97999999999999687},{"$f":"IF(JQ3-GA3>0.001,JQ3-GA3,IF(JQ3-GA3>-0.001,0,JQ3-GA3))","v":0.25},{"$f":"IF(JR3-GB3>0.001,JR3-GB3,IF(JR3-GB3>-0.001,0,JR3-GB3))","v":0},{"$f":"IF(JS3-GC3>0.001,JS3-GC3,IF(JS3-GC3>-0.001,0,JS3-GC3))","v":0.23999999999999488},{"$f":"IF(JT3-GD3>0.001,JT3-GD3,IF(JT3-GD3>-0.001,0,JT3-GD3))","v":0.75999999999999801},{"$f":"IF(JU3-GE3>0.001,JU3-GE3,IF(JU3-GE3>-0.001,0,JU3-GE3))","v":1.5599999999999952},{"$f":"IF(JV3-GF3>0.001,JV3-GF3,IF(JV3-GF3>-0.001,0,JV3-GF3))","v":2.6400000000000006},{"$f":"IF(JW3-GG3>0.001,JW3-GG3,IF(JW3-GG3>-0.001,0,JW3-GG3))","v":4},null,null,null,null,null,null,null,{"$f":"IF(MD3>0,MD3/10-0.1,\"\")","v":0},1,{"$f":"AVERAGE(KF3:KG4)","v":5.3378571428571444},{"$f":"AVERAGE(KG3:KH4)","v":4.9953571428571433},4.7053571428571406,4.4678571428571434,4.2828571428571429,4.1678571428571427,4.1478571428571431,4.1953571428571426,2.2428571428571438,0.2303571428571427,2.1353571428571438,3.982857142857144,3.7878571428571437,3.5328571428571447,3.2053571428571423,2.7653571428571428,2.180357142857142,1.5078571428571408,0.85785714285714398,0.33785714285714441,{"$f":"AVERAGE(LA3:LB4)","v":5.2857142857144268E-2},{"$f":"AVERAGE(LB3:LC4)","v":-2.9642857142855306E-2},{"$f":"AVERAGE(LC3:LD4)","v":2.8571428571417812E-3},{"$f":"AVERAGE(LD3:LE4)","v":0.14285714285714235},{"$f":"AVERAGE(LE3:LF4)","v":0.38035714285714306},{"$f":"AVERAGE(LF3:LG4)","v":0.77785714285714214},{"$f":"AVERAGE(LG3:LH4)","v":1.4028571428571439},{"$f":"AVERAGE(LH3:LI4)","v":2.1603571428571424},{"$f":"AVERAGE(LI3:LJ4)","v":2.8553571428571427},{"$f":"AVERAGE(LJ3:LK4)","v":3.2928571428571445},{"$f":"AVERAGE(LK3:LL4)","v":3.2828571428571429},{"$f":"AVERAGE(LL3:LM4)","v":2.7978571428571417},{"$f":"AVERAGE(LM3:LN4)","v":2.0378571428571401},{"$f":"AVERAGE(LN3:LO4)","v":1.2903571428571414},{"$f":"AVERAGE(LO3:LP4)","v":0.84035714285714214},{"$f":"AVERAGE(LP3:LQ4)","v":0.82285714285714207},{"$f":"AVERAGE(LQ3:LR4)","v":1.1478571428571431},{"$f":"AVERAGE(LR3:LS4)","v":1.7203571428571411},{"$f":"AVERAGE(LS3:LT4)","v":2.5403571428571414},{"$f":"AVERAGE(LT3:LU4)","v":3.6078571428571422},null,null,{"$f":"IF(NV3>0,NV3/10-0.1,\"\")","v":0},1,{"$f":"IF(ME3<$C$34,$D$34,IF(ME3<$C$35,$D$35,IF(ME3<$C$36,$D$36,IF(ME3<$C$37,$D$37,IF(ME3<$C$38,$D$38,IF(ME3<$C$39,$D$39,IF(ME3<$C$40,$D$40,IF(ME3<$C$41,$D$41,0))))))))","v":1.68},{"$f":"IF(MF3<$C$34,$D$34,IF(MF3<$C$35,$D$35,IF(MF3<$C$36,$D$36,IF(MF3<$C$37,$D$37,IF(MF3<$C$38,$D$38,IF(MF3<$C$39,$D$39,IF(MF3<$C$40,$D$40,IF(MF3<$C$41,$D$41,0))))))))","v":1.68},1.68,1.68,1.68,1.68,1.68,1.68,5.27,22.99,5.27,5.27,5.27,5.27,5.27,5.27,5.27,22.99,22.99,22.99,22.99,22.99,22.99,22.99,22.99,22.99,22.99,5.27,5.27,5.27,5.27,5.27,5.27,22.99,22.99,22.99,22.99,22.99,5.27,5.27,null,null,{"$f":"IF(PN3>0,PN3/10-0.1,\"\")","v":0},1,{"$f":"NW3-NW227","v":-21.31},{"$f":"NX3-NX227","v":-21.31},-21.31,-21.31,-21.31,-21.31,-3.59,-3.59,-17.72,0,0,3.59,0,0,0,0,0,0,0,0,0,0,0,0,0,0,0,-17.72,-17.72,-17.72,0,0,-17.72,0,0,0,0,0,-17.72,0,null,null,0,1,{"$f":"IF(CY3=MAX(CY3:CZ4),CY3,0)","v":0},{"$f":"IF(CZ3=MAX(CY3:DA4),CZ3,0)","v":0},43.24,43.24,0,0,0,0,0,45.3,0,0,0,0,0,0,0,0,0,0,0,0,0,0,0,0,0,0,0,0,0,0,0,0,0,39,0,0,0,0,{"$f":"IF(EM3=MAX(EL3:EM4),EM3,0)","v":0},0,null,0,1,{"$f":"IF(AND(B18=2000,B19=1000),COUNTIF(RG3:SA13,\">0\"),IF(AND(B18=1000,B19=500),COUNTIF(RG3:RQ8,\">0\"),\"Error\"))","v":7},{"$f":"SZ3","v":7},7,7,7,7,7,7,7,7,{"$f":"IF(FB3=MAX(FA3:FC4),FB3,0)","v":0},0,0,0,0,0,0,0,0,0,0,0,0,0,0,0,0,0,0,0,0,0,0,0,0,0,39,0,0,0,{"$f":"IF(GF3=MAX(GE3:GF4),GF3,0)","v":0},0,null,0,1,1,1,1,1,1,1,1,1,1,1,1,1,1,1,1,1,1,1,1,1,1,1,1,1,1,1,1,1,1,1,1,1,1,1,1,1,1,1,1,1,1,0,null,0,1,{"$f":"IF(RG3>0,RG3,US3*CY3)","v":43},{"$f":"IF(RH3>0,RH3,UT3*CZ3)","v":43.16},{"$f":"IF(RI3>0,RI3,UU3*DA3)","v":43.24},{"$f":"IF(RJ3>0,RJ3,UV3*DB3)","v":43.24},{"$f":"IF(RK3>0,RK3,UW3*DC3)","v":43.16},{"$f":"IF(RL3>0,RL3,UX3*DD3)","v":43},{"$f":"IF(RM3>0,RM3,UY3*DE3)","v":42.7},{"$f":"IF(RN3>0,RN3,UZ3*DF3)","v":42.25},{"$f":"IF(RO3>0,RO3,VA3*DG3)","v":41.75},{"$f":"IF(RP3>0,RP3,VB3*DH3)","v":45.3},{"$f":"IF(RQ3>0,RQ3,VC3*DI3)","v":45},{"$f":"IF(RR3>0,RR3,VD3*DJ3)","v":40.86},{"$f":"IF(RS3>0,RS3,VE3*DK3)","v":40.81},{"$f":"IF(RT3>0,RT3,VF3*DL3)","v":40.83},{"$f":"IF(RU3>0,RU3,VG3*DM3)","v":40.9},{"$f":"IF(RV3>0,RV3,VH3*DN3)","v":41},{"$f":"IF(RW3>0,RW3,VI3*DO3)","v":41.17},{"$f":"IF(RX3>0,RX3,VJ3*DP3)","v":41.42},{"$f":"IF(RY3>0,RY3,VK3*DQ3)","v":41.7},{"$f":"IF(RZ3>0,RZ3,VL3*DR3)","v":41.91},{"$f":"IF(SA3>0,SA3,VM3*DS3)","v":42},{"$f":"IF(SB3>0,SB3,VN3*DT3)","v":41.98},{"$f":"IF(SC3>0,SC3,VO3*DU3)","v":41.89},{"$f":"IF(SD3>0,SD3,VP3*DV3)","v":41.71},{"$f":"IF(SE3>0,SE3,VQ3*DW3)","v":41.42},{"$f":"IF(SF3>0,SF3,VR3*DX3)","v":41},{"$f":"IF(SG3>0,SG3,VS3*DY3)","v":40.299999999999997},{"$f":"IF(SH3>0,SH3,VT3*DZ3)","v":39.33},{"$f":"IF(SI3>0,SI3,VU3*EA3)","v":38.31},{"$f":"IF(SJ3>0,SJ3,VV3*EB3)","v":37.46},{"$f":"IF(SK3>0,SK3,VW3*EC3)","v":37},{"$f":"IF(SL3>0,SL3,VX3*ED3)","v":37.130000000000003},{"$f":"IF(SM3>0,SM3,VY3*EE3)","v":37.700000000000003},{"$f":"IF(SN3>0,SN3,VZ3*EF3)","v":38.42},{"$f":"IF(SO3>0,SO3,WA3*EG3)","v":38.950000000000003},{"$f":"IF(SP3>0,SP3,WB3*EH3)","v":39},{"$f":"IF(SQ3>0,SQ3,WC3*EI3)","v":38.56},{"$f":"IF(SR3>0,SR3,WD3*EJ3)","v":37.840000000000003},{"$f":"IF(SS3>0,SS3,WE3*EK3)","v":36.840000000000003},{"$f":"IF(ST3>0,ST3,WF3*EL3)","v":35.56},{"$f":"IF(SU3>0,SU3,WG3*EM3)","v":34},0,null,0,1,{"$f":"COUNTIF(RG3:SA13,\">0\")","v":7},{"$f":"YE3","v":7},{"$f":"YF3","v":7},7,7,7,7,7,7,7,7,7,7,7,7,7,7,7,7,7,{"$f":"YX3","v":7},{"$f":"COUNTIF(SA3:SU13,\">0\")","v":4},{"$f":"YZ3","v":4},{"$f":"ZA3","v":4},4,4,4,4,4,4,4,4,4,4,4,4,4,4,4,4,4,{"$f":"ZS3","v":4},0,null,0,1,{"$f":"IF(ISNUMBER(INDEX(Asfalt,$ZX3,ZY$2)),INDEX(Asfalt,$ZX3,ZY$2),0)","v":0},{"$f":"IF(ISNUMBER(INDEX(Asfalt,$ZX3,ZZ$2)),INDEX(Asfalt,$ZX3,ZZ$2),0)","v":0},0,0,0,0,0,0,0,4,{"$f":"IF(ISNUMBER(INDEX(Asfalt,$ZX3,AAI$2)),INDEX(Asfalt,$ZX3,AAI$2),0)","v":4},0,0,0,0,0,0,0,0,0,{"$f":"IF(ISNUMBER(INDEX(Asfalt,$ZX3,AAS$2)),INDEX(Asfalt,$ZX3,AAS$2),0)","v":0},0,0,0,0,0,0,0,0,0,{"$f":"IF(ISNUMBER(INDEX(Asfalt,$ZX3,ABC$2)),INDEX(Asfalt,$ZX3,ABC$2),0)","v":0},0,0,0,0,0,0,0,0,0,0,0,0,null,0,1,{"$f":"IF(BF3>1,N3,IF(AND(INT(1000*ABS$1/500)-1000*ABS$1/500=0,INT(1000*$UQ3/500)-1000*$UQ3/500=0),1,0))","v":1},{"$f":"IF(AND(INT(1000*ABT$1/500)-1000*ABT$1/500=0,INT(1000*$UQ3/500)-1000*$UQ3/500=0),1,0)","v":0},0,0,0,1,0,0,0,0,1,0,0,0,0,1,0,0,0,0,1,{"$f":"COUNTIF(VO3:WI13,\">0\")","v":57},{"$f":"ACN3","v":57},{"$f":"ACO3","v":57},57,57,57,57,57,57,57,57,57,57,57,57,57,57,57,57,57,{"$f":"ADG3","v":57},0]
[2,"B",40,39,40,38,41,38,35,34,33,null,"1A",{"$f":"ROUND('3D Interpolace'!M5,2)","v":42.24},{"$f":"ROUND('3D Interpolace'!N5,2)","v":42.22},{"$f":"ROUND('3D Interpolace'!O5,2)","v":42.17},{"$f":"ROUND('3D Interpolace'!P5,2)","v":42.1},{"$f":"ROUND('3D Interpolace'!Q5,2)","v":42},{"$f":"ROUND('3D Interpolace'!R5,2)","v":41.88},{"$f":"ROUND('3D Interpolace'!S5,2)","v":41.72},{"$f":"ROUND('3D Interpolace'!T5,2)","v":41.51},{"$f":"ROUND('3D Interpolace'!U5,2)","v":41.28},{"$f":"ROUND('3D Interpolace'!V5,2)","v":41.07},{"$f":"ROUND('3D Interpolace'!W5,2)","v":40.880000000000003},{"$f":"ROUND('3D Interpolace'!X5,2)","v":40.69},{"$f":"ROUND('3D Interpolace'!Y5,2)","v":40.479999999999997},{"$f":"ROUND('3D Interpolace'!Z5,2)","v":40.299999999999997},{"$f":"ROUND('3D Interpolace'!AA5,2)","v":40.21},{"$f":"ROUND('3D Interpolace'!AB5,2)","v":40.24},{"$f":"ROUND('3D Interpolace'!AC5,2)","v":40.5},{"$f":"ROUND('3D Interpolace'!AD5,2)","v":40.96},{"$f":"ROUND('3D Interpolace'!AE5,2)","v":41.46},{"$f":"ROUND('3D Interpolace'!AF5,2)","v":41.87},{"$f":"ROUND('3D Interpolace'!AG5,2)","v":42.04},{"$f":"ROUND('3D Interpolace'!AH5,2)","v":41.94},{"$f":"ROUND('3D Interpolace'!AI5,2)","v":41.68},{"$f":"ROUND('3D Interpolace'!AJ5,2)","v":41.28},{"$f":"ROUND('3D Interpolace'!AK5,2)","v":40.79},{"$f":"ROUND('3D Interpolace'!AL5,2)","v":40.24},{"$f":"ROUND('3D Interpolace'!AM5,2)","v":39.520000000000003},{"$f":"ROUND('3D Interpolace'!AN5,2)","v":38.61},{"$f":"ROUND('3D Interpolace'!AO5,2)","v":37.68},{"$f":"ROUND('3D Interpolace'!AP5,2)","v":36.9},{"$f":"ROUND('3D Interpolace'!AQ5,2)","v":36.44},{"$f":"ROUND('3D Interpolace'!AR5,2)","v":36.47},{"$f":"ROUND('3D Interpolace'!AS5,2)","v":36.880000000000003},{"$f":"ROUND('3D Interpolace'!AT5,2)","v":37.42},{"$f":"ROUND('3D Interpolace'!AU5,2)","v":37.82},{"$f":"ROUND('3D Interpolace'!AV5,2)","v":37.840000000000003},{"$f":"ROUND('3D Interpolace'!AW5,2)","v":37.479999999999997},{"$f":"ROUND('3D Interpolace'!AX5,2)","v":36.9},{"$f":"ROUND('3D Interpolace'!AY5,2)","v":36.11},{"$f":"ROUND('3D Interpolace'!AZ5,2)","v":35.1},{"$f":"ROUND('3D Interpolace'!BA5,2)","v":33.880000000000003},null,0.1,2,null,null,null,null,null,null,null,null,null,4,4,null,null,null,null,null,null,null,null,null,null,null,null,null,null,null,null,null,null,null,null,null,null,null,null,null,null,null,null,null,null,0.1,null,0.1,2,{"$f":"N4+BF4","v":42.24},{"$f":"O4+BG4","v":42.22},{"$f":"P4+BH4","v":42.17},{"$f":"Q4+BI4","v":42.1},{"$f":"R4+BJ4","v":42},{"$f":"S4+BK4","v":41.88},41.72,41.51,{"$f":"V4+BN4","v":41.28},{"$f":"W4+BO4","v":45.07},{"$f":"X4+BP4","v":44.88},{"$f":"Y4+BQ4","v":40.69},{"$f":"Z4+BR4","v":40.479999999999997},{"$f":"AA4+BS4","v":40.299999999999997},40.21,40.24,{"$f":"AD4+BV4","v":40.5},{"$f":"AE4+BW4","v":40.96},{"$f":"AF4+BX4","v":41.46},{"$f":"AG4+BY4","v":41.87},{"$f":"AH4+BZ4","v":42.04},{"$f":"AI4+CA4","v":41.94},{"$f":"AJ4+CB4","v":41.68},{"$f":"AK4+CC4","v":41.28},{"$f":"AL4+CD4","v":40.79},{"$f":"AM4+CE4","v":40.24},{"$f":"AN4+CF4","v":39.520000000000003},{"$f":"AO4+CG4","v":38.61},{"$f":"AP4+CH4","v":37.68},{"$f":"AQ4+CI4","v":36.9},{"$f":"AR4+CJ4","v":36.44},{"$f":"AS4+CK4","v":36.47},{"$f":"AT4+CL4","v":36.880000000000003},{"$f":"AU4+CM4","v":37.42},{"$f":"AV4+CN4","v":37.82},{"$f":"AW4+CO4","v":37.840000000000003},{"$f":"AX4+CP4","v":37.479999999999997},{"$f":"AY4+CQ4","v":36.9},{"$f":"AZ4+CR4","v":36.11},{"$f":"BA4+CS4","v":35.1},{"$f":"BB4+CT4","v":33.880000000000003},0.1,null,{"$f":"IF(EQ4>0,EQ4/10-0.1,\"\")","v":0.1},2,42.24,42.22,42.17,42.1,42,41.88,41.72,41.51,41.28,45.07,44.88,40.69,40.479999999999997,40.299999999999997,40.21,40.24,40.5,40.96,41.46,41.87,42.04,42.04,41.94,41.68,41.28,40.79,40.24,39.520000000000003,38.61,37.68,36.9,36.44,36.47,36.880000000000003,37.42,37.82,37.840000000000003,37.479999999999997,36.9,36.11,35.1,33.880000000000003,null,null,null,0.1,2,0,0,0,0,0,0,0,0,0,0,44.88,0,0,0,0,0,0,0,0,0,0,0,0,0,0,0,0,0,0,0,0,0,0,0,0,0,0,0,0,0,0,0,0.1,null,null,null,{"$f":"EQ4","v":2},48.285714285714285,47.985714285714288,47.685714285714283,47.385714285714286,47.085714285714289,46.785714285714285,46.485714285714288,46.185714285714283,45.885714285714286,45.585714285714289,45.285714285714285,44.985714285714288,44.685714285714283,44.385714285714286,44.085714285714289,43.785714285714285,43.485714285714288,43.185714285714283,42.885714285714286,42.585714285714289,42.285714285714285,42.285714285714285,42.085714285714289,41.885714285714286,41.685714285714283,41.485714285714288,41.285714285714285,41.085714285714289,40.885714285714286,40.685714285714283,40.485714285714288,40.285714285714285,40.085714285714289,39.885714285714286,39.685714285714283,39.485714285714288,39.285714285714285,39.085714285714289,38.885714285714286,38.685714285714283,38.485714285714288,38.285714285714285,0.1,null,null,null,null,null,{"$f":"IF(KE4>0,KE4/10-0.1,\"\")","v":0.1},{"$f":"IG4","v":2},6.0457142857142827,5.7657142857142887,5.5157142857142816,5.2857142857142847,5.085714285714289,4.9057142857142821,4.7657142857142887,4.6757142857142853,4.605714285714285,0.51571428571428868,0.40571428571428214,4.2957142857142898,4.2057142857142864,4.085714285714289,3.8757142857142881,3.5457142857142827,2.9857142857142875,2.2257142857142824,1.4257142857142853,0.71571428571429152,0.24571428571428555,0.24571428571428555,0.14571428571429124,0.2057142857142864,0.40571428571428214,0.69571428571428839,1.0457142857142827,1.5657142857142858,2.2757142857142867,3.0057142857142836,3.585714285714289,3.845714285714287,3.6157142857142901,3.0057142857142836,2.2657142857142816,1.6657142857142873,1.4457142857142813,1.6057142857142921,1.9857142857142875,2.5757142857142838,3.3857142857142861,4.4057142857142821,null,null,null,null,null,null,null,{"$f":"IF(MD4>0,MD4/10-0.1,\"\")","v":0.1},2,{"$f":"AVERAGE(KF4:KG5)","v":6.423571428571428},{"$f":"AVERAGE(KG4:KH5)","v":6.218571428571428},{"$f":"AVERAGE(KH4:KI5)","v":6.0185714285714269},{"$f":"AVERAGE(KI4:KJ5)","v":5.8210714285714307},{"$f":"AVERAGE(KJ4:KK5)","v":5.6260714285714286},{"$f":"AVERAGE(KK4:KL5)","v":5.4310714285714283},{"$f":"AVERAGE(KL4:KM5)","v":5.2410714285714288},{"$f":"AVERAGE(KM4:KN5)","v":5.0560714285714266},{"$f":"AVERAGE(KN4:KO5)","v":2.8760714285714286},{"$f":"AVERAGE(KO4:KP5)","v":0.70857142857142819},{"$f":"AVERAGE(KP4:KQ5)","v":2.5835714285714282},{"$f":"AVERAGE(KQ4:KR5)","v":4.5260714285714307},{"$f":"AVERAGE(KR4:KS5)","v":4.4935714285714301},{"$f":"AVERAGE(KS4:KT5)","v":4.4035714285714302},{"$f":"AVERAGE(KT4:KU5)","v":4.1810714285714283},{"$f":"AVERAGE(KU4:KV5)","v":3.7310714285714273},{"$f":"AVERAGE(KV4:KW5)","v":3.0185714285714269},{"$f":"AVERAGE(KW4:KX5)","v":2.1585714285714257},{"$f":"AVERAGE(KX4:KY5)","v":1.3210714285714307},{"$f":"AVERAGE(KY4:KZ5)","v":0.6785714285714306},{"$f":"AVERAGE(LA4:LB5)","v":0.39107142857142918},0.42107142857143032,0.62857142857142634,0.9535714285714274,1.3335714285714282,1.786071428571427,2.3835714285714289,3.0710714285714271,3.6935714285714276,4.0985714285714288,4.1360714285714302,3.7785714285714302,3.1885714285714268,2.5960714285714275,2.2285714285714278,2.1935714285714294,2.4185714285714308,2.8260714285714279,3.4160714285714278,4.1935714285714276,null,null,{"$f":"IF(NV4>0,NV4/10-0.1,\"\")","v":0.1},2,{"$f":"IF(ME4<$C$34,$D$34,IF(ME4<$C$35,$D$35,IF(ME4<$C$36,$D$36,IF(ME4<$C$37,$D$37,IF(ME4<$C$38,$D$38,IF(ME4<$C$39,$D$39,IF(ME4<$C$40,$D$40,IF(ME4<$C$41,$D$41,0))))))))","v":0.56999999999999995},{"$f":"IF(MF4<$C$34,$D$34,IF(MF4<$C$35,$D$35,IF(MF4<$C$36,$D$36,IF(MF4<$C$37,$D$37,IF(MF4<$C$38,$D$38,IF(MF4<$C$39,$D$39,IF(MF4<$C$40,$D$40,IF(MF4<$C$41,$D$41,0))))))))","v":0.56999999999999995},{"$f":"IF(MG4<$C$34,$D$34,IF(MG4<$C$35,$D$35,IF(MG4<$C$36,$D$36,IF(MG4<$C$37,$D$37,IF(MG4<$C$38,$D$38,IF(MG4<$C$39,$D$39,IF(MG4<$C$40,$D$40,IF(MG4<$C$41,$D$41,0))))))))","v":0.56999999999999995},{"$f":"IF(MH4<$C$34,$D$34,IF(MH4<$C$35,$D$35,IF(MH4<$C$36,$D$36,IF(MH4<$C$37,$D$37,IF(MH4<$C$38,$D$38,IF(MH4<$C$39,$D$39,IF(MH4<$C$40,$D$40,IF(MH4<$C$41,$D$41,0))))))))","v":1.68},{"$f":"IF(MI4<$C$34,$D$34,IF(MI4<$C$35,$D$35,IF(MI4<$C$36,$D$36,IF(MI4<$C$37,$D$37,IF(MI4<$C$38,$D$38,IF(MI4<$C$39,$D$39,IF(MI4<$C$40,$D$40,IF(MI4<$C$41,$D$41,0))))))))","v":1.68},{"$f":"IF(MJ4<$C$34,$D$34,IF(MJ4<$C$35,$D$35,IF(MJ4<$C$36,$D$36,IF(MJ4<$C$37,$D$37,IF(MJ4<$C$38,$D$38,IF(MJ4<$C$39,$D$39,IF(MJ4<$C$40,$D$40,IF(MJ4<$C$41,$D$41,0))))))))","v":1.68},{"$f":"IF(MK4<$C$34,$D$34,IF(MK4<$C$35,$D$35,IF(MK4<$C$36,$D$36,IF(MK4<$C$37,$D$37,IF(MK4<$C$38,$D$38,IF(MK4<$C$39,$D$39,IF(MK4<$C$40,$D$40,IF(MK4<$C$41,$D$41,0))))))))","v":1.68},{"$f":"IF(ML4<$C$34,$D$34,IF(ML4<$C$35,$D$35,IF(ML4<$C$36,$D$36,IF(ML4<$C$37,$D$37,IF(ML4<$C$38,$D$38,IF(ML4<$C$39,$D$39,IF(ML4<$C$40,$D$40,IF(ML4<$C$41,$D$41,0))))))))","v":1.68},{"$f":"IF(MM4<$C$34,$D$34,IF(MM4<$C$35,$D$35,IF(MM4<$C$36,$D$36,IF(MM4<$C$37,$D$37,IF(MM4<$C$38,$D$38,IF(MM4<$C$39,$D$39,IF(MM4<$C$40,$D$40,IF(MM4<$C$41,$D$41,0))))))))","v":5.27},{"$f":"IF(MN4<$C$34,$D$34,IF(MN4<$C$35,$D$35,IF(MN4<$C$36,$D$36,IF(MN4<$C$37,$D$37,IF(MN4<$C$38,$D$38,IF(MN4<$C$39,$D$39,IF(MN4<$C$40,$D$40,IF(MN4<$C$41,$D$41,0))))))))","v":22.99},{"$f":"IF(MO4<$C$34,$D$34,IF(MO4<$C$35,$D$35,IF(MO4<$C$36,$D$36,IF(MO4<$C$37,$D$37,IF(MO4<$C$38,$D$38,IF(MO4<$C$39,$D$39,IF(MO4<$C$40,$D$40,IF(MO4<$C$41,$D$41,0))))))))","v":5.27},{"$f":"IF(MP4<$C$34,$D$34,IF(MP4<$C$35,$D$35,IF(MP4<$C$36,$D$36,IF(MP4<$C$37,$D$37,IF(MP4<$C$38,$D$38,IF(MP4<$C$39,$D$39,IF(MP4<$C$40,$D$40,IF(MP4<$C$41,$D$41,0))))))))","v":1.68},{"$f":"IF(MQ4<$C$34,$D$34,IF(MQ4<$C$35,$D$35,IF(MQ4<$C$36,$D$36,IF(MQ4<$C$37,$D$37,IF(MQ4<$C$38,$D$38,IF(MQ4<$C$39,$D$39,IF(MQ4<$C$40,$D$40,IF(MQ4<$C$41,$D$41,0))))))))","v":1.68},{"$f":"IF(MR4<$C$34,$D$34,IF(MR4<$C$35,$D$35,IF(MR4<$C$36,$D$36,IF(MR4<$C$37,$D$37,IF(MR4<$C$38,$D$38,IF(MR4<$C$39,$D$39,IF(MR4<$C$40,$D$40,IF(MR4<$C$41,$D$41,0))))))))","v":1.68},{"$f":"IF(MS4<$C$34,$D$34,IF(MS4<$C$35,$D$35,IF(MS4<$C$36,$D$36,IF(MS4<$C$37,$D$37,IF(MS4<$C$38,$D$38,IF(MS4<$C$39,$D$39,IF(MS4<$C$40,$D$40,IF(MS4<$C$41,$D$41,0))))))))","v":1.68},{"$f":"IF(MT4<$C$34,$D$34,IF(MT4<$C$35,$D$35,IF(MT4<$C$36,$D$36,IF(MT4<$C$37,$D$37,IF(MT4<$C$38,$D$38,IF(MT4<$C$39,$D$39,IF(MT4<$C$40,$D$40,IF(MT4<$C$41,$D$41,0))))))))","v":5.27},{"$f":"IF(MU4<$C$34,$D$34,IF(MU4<$C$35,$D$35,IF(MU4<$C$36,$D$36,IF(MU4<$C$37,$D$37,IF(MU4<$C$38,$D$38,IF(MU4<$C$39,$D$39,IF(MU4<$C$40,$D$40,IF(MU4<$C$41,$D$41,0))))))))","v":5.27},{"$f":"IF(MV4<$C$34,$D$34,IF(MV4<$C$35,$D$35,IF(MV4<$C$36,$D$36,IF(MV4<$C$37,$D$37,IF(MV4<$C$38,$D$38,IF(MV4<$C$39,$D$39,IF(MV4<$C$40,$D$40,IF(MV4<$C$41,$D$41,0))))))))","v":5.27},{"$f":"IF(MW4<$C$34,$D$34,IF(MW4<$C$35,$D$35,IF(MW4<$C$36,$D$36,IF(MW4<$C$37,$D$37,IF(MW4<$C$38,$D$38,IF(MW4<$C$39,$D$39,IF(MW4<$C$40,$D$40,IF(MW4<$C$41,$D$41,0))))))))","v":22.99},{"$f":"IF(MX4<$C$34,$D$34,IF(MX4<$C$35,$D$35,IF(MX4<$C$36,$D$36,IF(MX4<$C$37,$D$37,IF(MX4<$C$38,$D$38,IF(MX4<$C$39,$D$39,IF(MX4<$C$40,$D$40,IF(MX4<$C$41,$D$41,0))))))))","v":22.99},{"$f":"IF(MY4<$C$34,$D$34,IF(MY4<$C$35,$D$35,IF(MY4<$C$36,$D$36,IF(MY4<$C$37,$D$37,IF(MY4<$C$38,$D$38,IF(MY4<$C$39,$D$39,IF(MY4<$C$40,$D$40,IF(MY4<$C$41,$D$41,0))))))))","v":22.99},{"$f":"IF(MZ4<$C$34,$D$34,IF(MZ4<$C$35,$D$35,IF(MZ4<$C$36,$D$36,IF(MZ4<$C$37,$D$37,IF(MZ4<$C$38,$D$38,IF(MZ4<$C$39,$D$39,IF(MZ4<$C$40,$D$40,IF(MZ4<$C$41,$D$41,0))))))))","v":22.99},{"$f":"IF(NA4<$C$34,$D$34,IF(NA4<$C$35,$D$35,IF(NA4<$C$36,$D$36,IF(NA4<$C$37,$D$37,IF(NA4<$C$38,$D$38,IF(NA4<$C$39,$D$39,IF(NA4<$C$40,$D$40,IF(NA4<$C$41,$D$41,0))))))))","v":22.99},{"$f":"IF(NB4<$C$34,$D$34,IF(NB4<$C$35,$D$35,IF(NB4<$C$36,$D$36,IF(NB4<$C$37,$D$37,IF(NB4<$C$38,$D$38,IF(NB4<$C$39,$D$39,IF(NB4<$C$40,$D$40,IF(NB4<$C$41,$D$41,0))))))))","v":22.99},{"$f":"IF(NC4<$C$34,$D$34,IF(NC4<$C$35,$D$35,IF(NC4<$C$36,$D$36,IF(NC4<$C$37,$D$37,IF(NC4<$C$38,$D$38,IF(NC4<$C$39,$D$39,IF(NC4<$C$40,$D$40,IF(NC4<$C$41,$D$41,0))))))))","v":22.99},{"$f":"IF(ND4<$C$34,$D$34,IF(ND4<$C$35,$D$35,IF(ND4<$C$36,$D$36,IF(ND4<$C$37,$D$37,IF(ND4<$C$38,$D$38,IF(ND4<$C$39,$D$39,IF(ND4<$C$40,$D$40,IF(ND4<$C$41,$D$41,0))))))))","v":22.99},{"$f":"IF(NE4<$C$34,$D$34,IF(NE4<$C$35,$D$35,IF(NE4<$C$36,$D$36,IF(NE4<$C$37,$D$37,IF(NE4<$C$38,$D$38,IF(NE4<$C$39,$D$39,IF(NE4<$C$40,$D$40,IF(NE4<$C$41,$D$41,0))))))))","v":5.27},{"$f":"IF(NF4<$C$34,$D$34,IF(NF4<$C$35,$D$35,IF(NF4<$C$36,$D$36,IF(NF4<$C$37,$D$37,IF(NF4<$C$38,$D$38,IF(NF4<$C$39,$D$39,IF(NF4<$C$40,$D$40,IF(NF4<$C$41,$D$41,0))))))))","v":5.27},{"$f":"IF(NG4<$C$34,$D$34,IF(NG4<$C$35,$D$35,IF(NG4<$C$36,$D$36,IF(NG4<$C$37,$D$37,IF(NG4<$C$38,$D$38,IF(NG4<$C$39,$D$39,IF(NG4<$C$40,$D$40,IF(NG4<$C$41,$D$41,0))))))))","v":5.27},{"$f":"IF(NH4<$C$34,$D$34,IF(NH4<$C$35,$D$35,IF(NH4<$C$36,$D$36,IF(NH4<$C$37,$D$37,IF(NH4<$C$38,$D$38,IF(NH4<$C$39,$D$39,IF(NH4<$C$40,$D$40,IF(NH4<$C$41,$D$41,0))))))))","v":1.68},{"$f":"IF(NI4<$C$34,$D$34,IF(NI4<$C$35,$D$35,IF(NI4<$C$36,$D$36,IF(NI4<$C$37,$D$37,IF(NI4<$C$38,$D$38,IF(NI4<$C$39,$D$39,IF(NI4<$C$40,$D$40,IF(NI4<$C$41,$D$41,0))))))))","v":1.68},{"$f":"IF(NJ4<$C$34,$D$34,IF(NJ4<$C$35,$D$35,IF(NJ4<$C$36,$D$36,IF(NJ4<$C$37,$D$37,IF(NJ4<$C$38,$D$38,IF(NJ4<$C$39,$D$39,IF(NJ4<$C$40,$D$40,IF(NJ4<$C$41,$D$41,0))))))))","v":5.27},{"$f":"IF(NK4<$C$34,$D$34,IF(NK4<$C$35,$D$35,IF(NK4<$C$36,$D$36,IF(NK4<$C$37,$D$37,IF(NK4<$C$38,$D$38,IF(NK4<$C$39,$D$39,IF(NK4<$C$40,$D$40,IF(NK4<$C$41,$D$41,0))))))))","v":5.27},{"$f":"IF(NL4<$C$34,$D$34,IF(NL4<$C$35,$D$35,IF(NL4<$C$36,$D$36,IF(NL4<$C$37,$D$37,IF(NL4<$C$38,$D$38,IF(NL4<$C$39,$D$39,IF(NL4<$C$40,$D$40,IF(NL4<$C$41,$D$41,0))))))))","v":5.27},{"$f":"IF(NM4<$C$34,$D$34,IF(NM4<$C$35,$D$35,IF(NM4<$C$36,$D$36,IF(NM4<$C$37,$D$37,IF(NM4<$C$38,$D$38,IF(NM4<$C$39,$D$39,IF(NM4<$C$40,$D$40,IF(NM4<$C$41,$D$41,0))))))))","v":5.27},{"$f":"IF(NN4<$C$34,$D$34,IF(NN4<$C$35,$D$35,IF(NN4<$C$36,$D$36,IF(NN4<$C$37,$D$37,IF(NN4<$C$38,$D$38,IF(NN4<$C$39,$D$39,IF(NN4<$C$40,$D$40,IF(NN4<$C$41,$D$41,0))))))))","v":5.27},{"$f":"IF(NO4<$C$34,$D$34,IF(NO4<$C$35,$D$35,IF(NO4<$C$36,$D$36,IF(NO4<$C$37,$D$37,IF(NO4<$C$38,$D$38,IF(NO4<$C$39,$D$39,IF(NO4<$C$40,$D$40,IF(NO4<$C$41,$D$41,0))))))))","v":5.27},{"$f":"IF(NP4<$C$34,$D$34,IF(NP4<$C$35,$D$35,IF(NP4<$C$36,$D$36,IF(NP4<$C$37,$D$37,IF(NP4<$C$38,$D$38,IF(NP4<$C$39,$D$39,IF(NP4<$C$40,$D$40,IF(NP4<$C$41,$D$41,0))))))))","v":5.27},{"$f":"IF(NQ4<$C$34,$D$34,IF(NQ4<$C$35,$D$35,IF(NQ4<$C$36,$D$36,IF(NQ4<$C$37,$D$37,IF(NQ4<$C$38,$D$38,IF(NQ4<$C$39,$D$39,IF(NQ4<$C$40,$D$40,IF(NQ4<$C$41,$D$41,0))))))))","v":5.27},{"$f":"IF(NR4<$C$34,$D$34,IF(NR4<$C$35,$D$35,IF(NR4<$C$36,$D$36,IF(NR4<$C$37,$D$37,IF(NR4<$C$38,$D$38,IF(NR4<$C$39,$D$39,IF(NR4<$C$40,$D$40,IF(NR4<$C$41,$D$41,0))))))))","v":1.68},null,null,{"$f":"IF(PN4>0,PN4/10-0.1,\"\")","v":0.1},2,{"$f":"NW4-NW228","v":-22.419999999999998},{"$f":"NX4-NX228","v":-22.419999999999998},{"$f":"NY4-NY228","v":-22.419999999999998},{"$f":"NZ4-NZ228","v":-21.31},{"$f":"OA4-OA228","v":-3.59},{"$f":"OB4-OB228","v":-3.59},{"$f":"OC4-OC228","v":-3.59},{"$f":"OD4-OD228","v":-3.59},{"$f":"OE4-OE228","v":-17.72},{"$f":"OF4-OF228","v":0},{"$f":"OG4-OG228","v":0},{"$f":"OH4-OH228","v":0},{"$f":"OI4-OI228","v":0},{"$f":"OJ4-OJ228","v":-3.59},{"$f":"OK4-OK228","v":-3.59},{"$f":"OL4-OL228","v":0},{"$f":"OM4-OM228","v":0},{"$f":"ON4-ON228","v":-17.72},{"$f":"OO4-OO228","v":0},{"$f":"OP4-OP228","v":0},{"$f":"OQ4-OQ228","v":0},{"$f":"OR4-OR228","v":0},{"$f":"OS4-OS228","v":0},{"$f":"OT4-OT228","v":0},{"$f":"OU4-OU228","v":0},{"$f":"OV4-OV228","v":0},{"$f":"OW4-OW228","v":-17.72},{"$f":"OX4-OX228","v":-17.72},{"$f":"OY4-OY228","v":-17.72},{"$f":"OZ4-OZ228","v":-21.31},{"$f":"PA4-PA228","v":-3.59},{"$f":"PB4-PB228","v":-17.72},{"$f":"PC4-PC228","v":-17.72},{"$f":"PD4-PD228","v":-17.72},{"$f":"PE4-PE228","v":-17.72},{"$f":"PF4-PF228","v":-17.72},{"$f":"PG4-PG228","v":-17.72},{"$f":"PH4-PH228","v":-17.72},{"$f":"PI4-PI228","v":-17.72},{"$f":"PJ4-PJ228","v":-3.59},null,null,0.1,2,{"$f":"IF(CY4=MAX(CY3:CZ5),CY4,0)","v":0},{"$f":"IF(CZ4=MAX(CY3:DA5),CZ4,0)","v":0},{"$f":"IF(DA4=MAX(CZ3:DB5),DA4,0)","v":0},{"$f":"IF(DB4=MAX(DA3:DC5),DB4,0)","v":0},{"$f":"IF(DC4=MAX(DB3:DD5),DC4,0)","v":0},{"$f":"IF(DD4=MAX(DC3:DE5),DD4,0)","v":0},{"$f":"IF(DE4=MAX(DD3:DF5),DE4,0)","v":0},{"$f":"IF(DF4=MAX(DE3:DG5),DF4,0)","v":0},{"$f":"IF(DG4=MAX(DF3:DH5),DG4,0)","v":0},{"$f":"IF(DH4=MAX(DG3:DI5),DH4,0)","v":0},{"$f":"IF(DI4=MAX(DH3:DJ5),DI4,0)","v":0},{"$f":"IF(DJ4=MAX(DI3:DK5),DJ4,0)","v":0},{"$f":"IF(DK4=MAX(DJ3:DL5),DK4,0)","v":0},{"$f":"IF(DL4=MAX(DK3:DM5),DL4,0)","v":0},{"$f":"IF(DM4=MAX(DL3:DN5),DM4,0)","v":0},{"$f":"IF(DN4=MAX(DM3:DO5),DN4,0)","v":0},{"$f":"IF(DO4=MAX(DN3:DP5),DO4,0)","v":0},{"$f":"IF(DP4=MAX(DO3:DQ5),DP4,0)","v":0},{"$f":"IF(DQ4=MAX(DP3:DR5),DQ4,0)","v":0},{"$f":"IF(DR4=MAX(DQ3:DS5),DR4,0)","v":0},{"$f":"IF(DS4=MAX(DR3:DT5),DS4,0)","v":42.04},{"$f":"IF(DT4=MAX(DS3:DU5),DT4,0)","v":0},{"$f":"IF(DU4=MAX(DT3:DV5),DU4,0)","v":0},{"$f":"IF(DV4=MAX(DU3:DW5),DV4,0)","v":0},{"$f":"IF(DW4=MAX(DV3:DX5),DW4,0)","v":0},{"$f":"IF(DX4=MAX(DW3:DY5),DX4,0)","v":0},{"$f":"IF(DY4=MAX(DX3:DZ5),DY4,0)","v":0},{"$f":"IF(DZ4=MAX(DY3:EA5),DZ4,0)","v":0},{"$f":"IF(EA4=MAX(DZ3:EB5),EA4,0)","v":0},{"$f":"IF(EB4=MAX(EA3:EC5),EB4,0)","v":0},{"$f":"IF(EC4=MAX(EB3:ED5),EC4,0)","v":0},{"$f":"IF(ED4=MAX(EC3:EE5),ED4,0)","v":0},{"$f":"IF(EE4=MAX(ED3:EF5),EE4,0)","v":0},{"$f":"IF(EF4=MAX(EE3:EG5),EF4,0)","v":0},{"$f":"IF(EG4=MAX(EF3:EH5),EG4,0)","v":0},{"$f":"IF(EH4=MAX(EG3:EI5),EH4,0)","v":0},{"$f":"IF(EI4=MAX(EH3:EJ5),EI4,0)","v":0},{"$f":"IF(EJ4=MAX(EI3:EK5),EJ4,0)","v":0},{"$f":"IF(EK4=MAX(EJ3:EL5),EK4,0)","v":0},{"$f":"IF(EL4=MAX(EK3:EM5),EL4,0)","v":0},{"$f":"IF(EM4=MAX(EL3:EM5),EM4,0)","v":0},0.1,null,0.1,2,{"$f":"IF(ER4=MAX(ER3:ES5),ER4,0)","v":0},{"$f":"IF(ES4=MAX(ER3:ET5),ES4,0)","v":0},{"$f":"IF(ET4=MAX(ES3:EU5),ET4,0)","v":0},{"$f":"IF(EU4=MAX(ET3:EV5),EU4,0)","v":0},{"$f":"IF(EV4=MAX(EU3:EW5),EV4,0)","v":0},{"$f":"IF(EW4=MAX(EV3:EX5),EW4,0)","v":0},{"$f":"IF(EX4=MAX(EW3:EY5),EX4,0)","v":0},{"$f":"IF(EY4=MAX(EX3:EZ5),EY4,0)","v":0},{"$f":"IF(EZ4=MAX(EY3:FA5),EZ4,0)","v":0},{"$f":"IF(FA4=MAX(EZ3:FB5),FA4,0)","v":0},{"$f":"IF(FB4=MAX(FA3:FC5),FB4,0)","v":0},{"$f":"IF(FC4=MAX(FB3:FD5),FC4,0)","v":0},{"$f":"IF(FD4=MAX(FC3:FE5),FD4,0)","v":0},{"$f":"IF(FE4=MAX(FD3:FF5),FE4,0)","v":0},{"$f":"IF(FF4=MAX(FE3:FG5),FF4,0)","v":0},{"$f":"IF(FG4=MAX(FF3:FH5),FG4,0)","v":0},{"$f":"IF(FH4=MAX(FG3:FI5),FH4,0)","v":0},{"$f":"IF(FI4=MAX(FH3:FJ5),FI4,0)","v":0},{"$f":"IF(FJ4=MAX(FI3:FK5),FJ4,0)","v":0},{"$f":"IF(FK4=MAX(FJ3:FL5),FK4,0)","v":0},{"$f":"IF(FL4=MAX(FK3:FM5),FL4,0)","v":42.04},{"$f":"IF(FM4=MAX(FL3:FN5),FM4,0)","v":42.04},{"$f":"IF(FN4=MAX(FM3:FO5),FN4,0)","v":0},{"$f":"IF(FO4=MAX(FN3:FP5),FO4,0)","v":0},{"$f":"IF(FP4=MAX(FO3:FQ5),FP4,0)","v":0},{"$f":"IF(FQ4=MAX(FP3:FR5),FQ4,0)","v":0},{"$f":"IF(FR4=MAX(FQ3:FS5),FR4,0)","v":0},{"$f":"IF(FS4=MAX(FR3:FT5),FS4,0)","v":0},{"$f":"IF(FT4=MAX(FS3:FU5),FT4,0)","v":0},{"$f":"IF(FU4=MAX(FT3:FV5),FU4,0)","v":0},{"$f":"IF(FV4=MAX(FU3:FW5),FV4,0)","v":0},{"$f":"IF(FW4=MAX(FV3:FX5),FW4,0)","v":0},{"$f":"IF(FX4=MAX(FW3:FY5),FX4,0)","v":0},{"$f":"IF(FY4=MAX(FX3:FZ5),FY4,0)","v":0},{"$f":"IF(FZ4=MAX(FY3:GA5),FZ4,0)","v":0},{"$f":"IF(GA4=MAX(FZ3:GB5),GA4,0)","v":0},{"$f":"IF(GB4=MAX(GA3:GC5),GB4,0)","v":0},{"$f":"IF(GC4=MAX(GB3:GD5),GC4,0)","v":0},{"$f":"IF(GD4=MAX(GC3:GE5),GD4,0)","v":0},{"$f":"IF(GE4=MAX(GD3:GF5),GE4,0)","v":0},{"$f":"IF(GF4=MAX(GE3:GF5),GF4,0)","v":0},0.1,null,0.1,2,1,{"$f":"IF(OR(INT(1000*UT$1/$B$18)-1000*UT$1/$B$18=0,INT(1000*$UQ4/$B$19)-1000*$UQ4/$B$19=0),1,0)","v":0},0,0,0,0,0,0,0,0,0,{"$f":"IF(OR(INT(1000*VD$1/$B$18)-1000*VD$1/$B$18=0,INT(1000*$UQ4/$B$19)-1000*$UQ4/$B$19=0),1,0)","v":0},0,0,0,0,0,0,0,0,1,{"$f":"IF(OR(INT(1000*VN$1/$B$18)-1000*VN$1/$B$18=0,INT(1000*$UQ4/$B$19)-1000*$UQ4/$B$19=0),1,0)","v":0},0,0,0,0,0,0,0,0,0,{"$f":"IF(OR(INT(1000*VX$1/$B$18)-1000*VX$1/$B$18=0,INT(1000*$UQ4/$B$19)-1000*$UQ4/$B$19=0),1,0)","v":0},0,0,0,0,0,0,0,0,1,0.1,null,0.1,2,42.24,0,0,0,0,0,0,0,0,0,0,0,0,0,0,0,0,0,0,0,42.04,0,0,0,0,0,0,0,0,0,0,0,0,0,0,0,0,0,0,0,33.880000000000003,0.1,null,0.1,2,{"$f":"YE3","v":7},{"$f":"YF3","v":7},{"$f":"YG3","v":7},7,7,7,7,7,7,7,7,7,7,7,7,7,7,7,7,7,{"$f":"YX4","v":7},{"$f":"ZA4","v":4},{"$f":"ZA3","v":4},{"$f":"ZB3","v":4},{"$f":"ZC3","v":4},{"$f":"ZD3","v":4},{"$f":"ZE3","v":4},{"$f":"ZF3","v":4},{"$f":"ZG3","v":4},{"$f":"ZH3","v":4},{"$f":"ZI3","v":4},{"$f":"ZJ3","v":4},{"$f":"ZK3","v":4},{"$f":"ZL3","v":4},{"$f":"ZM3","v":4},{"$f":"ZN3","v":4},{"$f":"ZO3","v":4},{"$f":"ZP3","v":4},{"$f":"ZQ3","v":4},{"$f":"ZR3","v":4},{"$f":"ZS3","v":4},{"$f":"ZS4","v":4},0.1,null,0.1,2,0,0,0,0,0,0,0,0,0,4,4,0,0,0,0,0,0,0,0,0,0,0,0,0,0,0,0,0,0,0,0,0,0,0,0,0,0,0,0,0,0,0,0.1,null,0.1,2,{"$f":"IF(OR(INT(1000*ABS$1/$B$18)-1000*ABS$1/$B$18=0,INT(1000*$UQ4/$B$19)-1000*$UQ4/$B$19=0),1,0)","v":1},0,0,0,0,0,0,0,0,0,{"$f":"IF(OR(INT(1000*ACC$1/$B$18)-1000*ACC$1/$B$18=0,INT(1000*$UQ4/$B$19)-1000*$UQ4/$B$19=0),1,0)","v":0},0,0,0,0,0,0,0,0,0,1,{"$f":"ACO4","v":57},{"$f":"ACO3","v":57},{"$f":"ACP3","v":57},{"$f":"ACQ3","v":57},{"$f":"ACR3","v":57},{"$f":"ACS3","v":57},{"$f":"ACT3","v":57},{"$f":"ACU3","v":57},{"$f":"ACV3","v":57},{"$f":"ACW3","v":57},{"$f":"ACX3","v":57},{"$f":"ACY3","v":57},{"$f":"ACZ3","v":57},{"$f":"ADA3","v":57},{"$f":"ADB3","v":57},{"$f":"ADC3","v":57},{"$f":"ADD3","v":57},{"$f":"ADE3","v":57},{"$f":"ADF3","v":57},{"$f":"ADG3","v":57},{"$f":"ADG4","v":57},0.1]
[3,"C",39,39,38,37,37,37,35,31,31,null,"1B",{"$f":"ROUND('3D Interpolace'!M6,2)","v":41.56},{"$f":"ROUND('3D Interpolace'!N6,2)","v":41.4},{"$f":"ROUND('3D Interpolace'!O6,2)","v":41.25},{"$f":"ROUND('3D Interpolace'!P6,2)","v":41.12},{"$f":"ROUND('3D Interpolace'!Q6,2)","v":41.01},{"$f":"ROUND('3D Interpolace'!R6,2)","v":40.92},{"$f":"ROUND('3D Interpolace'!S6,2)","v":40.869999999999997},{"$f":"ROUND('3D Interpolace'!T6,2)","v":40.85},{"$f":"ROUND('3D Interpolace'!U6,2)","v":40.85},{"$f":"ROUND('3D Interpolace'!V6,2)","v":40.81},{"$f":"ROUND('3D Interpolace'!W6,2)","v":40.72},{"$f":"ROUND('3D Interpolace'!X6,2)","v":40.49},{"$f":"ROUND('3D Interpolace'!Y6,2)","v":40.15},{"$f":"ROUND('3D Interpolace'!Z6,2)","v":39.81},{"$f":"ROUND('3D Interpolace'!AA6,2)","v":39.58},{"$f":"ROUND('3D Interpolace'!AB6,2)","v":39.56},{"$f":"ROUND('3D Interpolace'!AC6,2)","v":39.89},{"$f":"ROUND('3D Interpolace'!AD6,2)","v":40.49},{"$f":"ROUND('3D Interpolace'!AE6,2)","v":41.17},{"$f":"ROUND('3D Interpolace'!AF6,2)","v":41.73},{"$f":"ROUND('3D Interpolace'!AG6,2)","v":41.96},{"$f":"ROUND('3D Interpolace'!AH6,2)","v":41.81},{"$f":"ROUND('3D Interpolace'!AI6,2)","v":41.4},{"$f":"ROUND('3D Interpolace'!AJ6,2)","v":40.840000000000003},{"$f":"ROUND('3D Interpolace'!AK6,2)","v":40.19},{"$f":"ROUND('3D Interpolace'!AL6,2)","v":39.56},{"$f":"ROUND('3D Interpolace'!AM6,2)","v":38.85},{"$f":"ROUND('3D Interpolace'!AN6,2)","v":38},{"$f":"ROUND('3D Interpolace'!AO6,2)","v":37.14},{"$f":"ROUND('3D Interpolace'!AP6,2)","v":36.42},{"$f":"ROUND('3D Interpolace'!AQ6,2)","v":35.96},{"$f":"ROUND('3D Interpolace'!AR6,2)","v":35.9},{"$f":"ROUND('3D Interpolace'!AS6,2)","v":36.15},{"$f":"ROUND('3D Interpolace'!AT6,2)","v":36.51},{"$f":"ROUND('3D Interpolace'!AU6,2)","v":36.78},{"$f":"ROUND('3D Interpolace'!AV6,2)","v":36.76},{"$f":"ROUND('3D Interpolace'!AW6,2)","v":36.46},{"$f":"ROUND('3D Interpolace'!AX6,2)","v":36},{"$f":"ROUND('3D Interpolace'!AY6,2)","v":35.4},{"$f":"ROUND('3D Interpolace'!AZ6,2)","v":34.64},{"$f":"ROUND('3D Interpolace'!BA6,2)","v":33.72},null,0.2,3,null,null,null,null,null,null,null,null,null,4,4,null,null,null,null,null,null,null,null,null,null,null,null,null,null,null,null,null,null,null,null,null,null,null,null,null,null,null,null,null,null,0.2,null,0.2,3,41.56,41.4,41.25,41.12,41.01,40.92,40.869999999999997,40.85,40.85,44.81,44.72,40.49,40.15,39.81,39.58,39.56,39.89,40.49,41.17,41.73,41.96,41.81,41.4,40.840000000000003,40.19,39.56,38.85,38,37.14,36.42,35.96,35.9,36.15,36.51,36.78,36.76,36.46,36,35.4,34.64,33.72,0.2,null,0.19999999999999998,3,41.56,41.4,41.25,41.12,41.01,40.92,40.869999999999997,40.85,40.85,44.81,44.72,40.49,40.15,39.81,39.58,39.56,39.89,40.49,41.17,41.73,41.96,41.96,41.81,41.4,40.840000000000003,40.19,39.56,38.85,38,37.14,36.42,35.96,35.9,36.15,36.51,36.78,36.76,36.46,36,35.4,34.64,33.72,null,null,null,0.19999999999999998,3,0,0,0,0,0,0,0,0,0,0,44.72,0,0,0,0,0,0,0,0,0,0,0,0,0,0,0,0,0,0,0,0,0,0,0,0,0,0,0,0,0,0,0,0.19999999999999998,null,null,null,3,48.571428571428569,48.271428571428572,47.971428571428568,47.671428571428571,47.371428571428574,47.071428571428569,46.771428571428572,46.471428571428568,46.171428571428571,45.871428571428574,45.571428571428569,45.271428571428572,44.971428571428575,44.671428571428571,44.371428571428574,44.071428571428569,43.771428571428572,43.471428571428568,43.171428571428571,42.871428571428574,42.571428571428569,42.571428571428569,42.371428571428574,42.171428571428571,41.971428571428568,41.771428571428572,41.571428571428569,41.371428571428574,41.171428571428571,40.971428571428568,40.771428571428572,40.571428571428569,40.371428571428574,40.171428571428571,39.971428571428568,39.771428571428572,39.571428571428569,39.371428571428574,39.171428571428571,38.971428571428568,38.771428571428572,38.571428571428569,0.19999999999999998,null,null,null,null,null,0.19999999999999998,3,7.0114285714285671,6.8714285714285737,6.721428571428568,6.5514285714285734,6.3614285714285757,6.1514285714285677,5.9014285714285748,5.6214285714285666,5.3214285714285694,1.0614285714285714,0.85142857142857054,4.7814285714285703,4.8214285714285765,4.8614285714285685,4.7914285714285754,4.5114285714285671,3.8814285714285717,2.981428571428566,2.0014285714285691,1.1414285714285768,0.61142857142856855,0.61142857142856855,0.56142857142857139,0.77142857142857224,1.1314285714285646,1.5814285714285745,2.0114285714285671,2.5214285714285722,3.1714285714285708,3.8314285714285674,4.3514285714285705,4.6114285714285685,4.4714285714285751,4.0214285714285722,3.46142857142857,2.9914285714285711,2.8114285714285714,2.9114285714285728,3.1714285714285708,3.5714285714285694,4.1314285714285717,4.8514285714285705,null,null,null,null,null,null,null,0.19999999999999998,3,7.4117857142857133,7.3092857142857159,7.1742857142857144,7.0067857142857157,6.8042857142857152,6.5492857142857144,6.2267857142857146,5.8592857142857131,3.5017857142857149,1.2142857142857135,3.0667857142857127,5.0817857142857168,5.1767857142857157,5.2217857142857138,5.0842857142857127,4.6292857142857127,3.8292857142857137,2.8342857142857127,1.8592857142857149,1.1292857142857162,0.83928571428571352,0.95178571428571423,1.2892857142857128,1.7467857142857142,2.2242857142857151,2.706785714285715,3.269285714285715,3.8892857142857142,4.4467857142857135,4.824285714285713,4.9067857142857161,4.6742857142857162,4.2542857142857144,3.8167857142857144,3.5342857142857156,3.4917857142857169,3.6317857142857157,3.8967857142857145,4.2867857142857151,4.8042857142857152,null,null,0.19999999999999998,3,0.56999999999999995,0.56999999999999995,0.56999999999999995,0.56999999999999995,0.56999999999999995,0.56999999999999995,0.56999999999999995,1.68,5.27,22.99,5.27,1.68,1.68,1.68,1.68,1.68,5.27,5.27,22.99,22.99,22.99,22.99,22.99,22.99,5.27,5.27,5.27,5.27,1.68,1.68,1.68,1.68,1.68,5.27,5.27,5.27,5.27,5.27,1.68,1.68,null,null,0.19999999999999998,3,-22.419999999999998,-22.419999999999998,-4.6999999999999993,-4.6999999999999993,-4.6999999999999993,-4.6999999999999993,-4.6999999999999993,-3.59,-17.72,0,0,0,0,0,0,-3.59,0,-17.72,0,0,0,0,0,0,-17.72,-17.72,-17.72,-17.72,-21.31,-21.31,-21.31,-21.31,-21.31,-17.72,-17.72,-17.72,-17.72,-17.72,-21.31,-21.31,null,null,0.2,3,0,0,0,0,0,0,0,0,0,0,0,0,0,0,0,0,0,0,0,0,0,0,0,0,0,0,0,0,0,0,0,0,0,0,0,0,0,0,0,0,0,0.2,null,0.2,3,0,0,0,0,0,0,0,0,0,0,0,0,0,0,0,0,0,0,0,0,0,0,0,0,0,0,0,0,0,0,0,0,0,0,0,0,0,0,0,0,0,0.2,null,0.2,3,1,0,0,0,0,0,0,0,0,0,0,0,0,0,0,0,0,0,0,0,1,0,0,0,0,0,0,0,0,0,0,0,0,0,0,0,0,0,0,0,1,0.2,null,0.2,3,41.56,0,0,0,0,0,0,0,0,0,0,0,0,0,0,0,0,0,0,0,41.96,0,0,0,0,0,0,0,0,0,0,0,0,0,0,0,0,0,0,0,33.72,0.2,null,0.19999999999999998,3,{"$f":"YE4","v":7},{"$f":"YF4","v":7},{"$f":"YG4","v":7},{"$f":"YH4","v":7},{"$f":"YI4","v":7},{"$f":"YJ4","v":7},{"$f":"YK4","v":7},{"$f":"YL4","v":7},{"$f":"YM4","v":7},{"$f":"YN4","v":7},{"$f":"YO4","v":7},{"$f":"YP4","v":7},{"$f":"YQ4","v":7},{"$f":"YR4","v":7},{"$f":"YS4","v":7},{"$f":"YT4","v":7},{"$f":"YU4","v":7},{"$f":"YV4","v":7},{"$f":"YW4","v":7},{"$f":"YX4","v":7},{"$f":"YX5","v":7},4,{"$f":"ZA4","v":4},4,4,4,4,4,4,4,4,4,4,4,4,4,4,4,4,4,4,{"$f":"ZS5","v":4},0.19999999999999998,null,0.19999999999999998,3,0,0,0,0,0,0,0,0,0,4,4,0,0,0,0,0,0,0,0,0,0,0,0,0,0,0,0,0,0,0,0,0,0,0,0,0,0,0,0,0,0,0,0.19999999999999998,null,0.19999999999999998,3,1,0,0,0,0,0,0,0,0,0,0,0,0,0,0,0,0,0,0,0,1,57,{"$f":"ACO4","v":57},57,57,57,57,57,57,57,57,57,57,57,57,57,57,57,57,57,57,{"$f":"ADG5","v":57},0.19999999999999998]
[4,"D",37,38,37,35,34,35,34,33,33,null,"1C",{"$f":"ROUND('3D Interpolace'!M7,2)","v":40.96},{"$f":"ROUND('3D Interpolace'!N7,2)","v":40.69},{"$f":"ROUND('3D Interpolace'!O7,2)","v":40.479999999999997},{"$f":"ROUND('3D Interpolace'!P7,2)","v":40.31},{"$f":"ROUND('3D Interpolace'!Q7,2)","v":40.19},{"$f":"ROUND('3D Interpolace'!R7,2)","v":40.119999999999997},{"$f":"ROUND('3D Interpolace'!S7,2)","v":40.15},{"$f":"ROUND('3D Interpolace'!T7,2)","v":40.28},{"$f":"ROUND('3D Interpolace'!U7,2)","v":40.44},{"$f":"ROUND('3D Interpolace'!V7,2)","v":40.549999999999997},{"$f":"ROUND('3D Interpolace'!W7,2)","v":40.520000000000003},{"$f":"ROUND('3D Interpolace'!X7,2)","v":40.26},{"$f":"ROUND('3D Interpolace'!Y7,2)","v":39.83},{"$f":"ROUND('3D Interpolace'!Z7,2)","v":39.36},{"$f":"ROUND('3D Interpolace'!AA7,2)","v":39.020000000000003},{"$f":"ROUND('3D Interpolace'!AB7,2)","v":38.96},{"$f":"ROUND('3D Interpolace'!AC7,2)","v":39.33},{"$f":"ROUND('3D Interpolace'!AD7,2)","v":40.03},{"$f":"ROUND('3D Interpolace'!AE7,2)","v":40.83},{"$f":"ROUND('3D Interpolace'!AF7,2)","v":41.49},{"$f":"ROUND('3D Interpolace'!AG7,2)","v":41.76},{"$f":"ROUND('3D Interpolace'!AH7,2)","v":41.57},{"$f":"ROUND('3D Interpolace'!AI7,2)","v":41.07},{"$f":"ROUND('3D Interpolace'!AJ7,2)","v":40.39},{"$f":"ROUND('3D Interpolace'!AK7,2)","v":39.65},{"$f":"ROUND('3D Interpolace'!AL7,2)","v":38.96},{"$f":"ROUND('3D Interpolace'!AM7,2)","v":38.26},{"$f":"ROUND('3D Interpolace'!AN7,2)","v":37.47},{"$f":"ROUND('3D Interpolace'!AO7,2)","v":36.69},{"$f":"ROUND('3D Interpolace'!AP7,2)","v":36.020000000000003},{"$f":"ROUND('3D Interpolace'!AQ7,2)","v":35.56},{"$f":"ROUND('3D Interpolace'!AR7,2)","v":35.409999999999997},{"$f":"ROUND('3D Interpolace'!AS7,2)","v":35.5},{"$f":"ROUND('3D Interpolace'!AT7,2)","v":35.68},{"$f":"ROUND('3D Interpolace'!AU7,2)","v":35.82},{"$f":"ROUND('3D Interpolace'!AV7,2)","v":35.76},{"$f":"ROUND('3D Interpolace'!AW7,2)","v":35.51},{"$f":"ROUND('3D Interpolace'!AX7,2)","v":35.159999999999997},{"$f":"ROUND('3D Interpolace'!AY7,2)","v":34.71},{"$f":"ROUND('3D Interpolace'!AZ7,2)","v":34.159999999999997},{"$f":"ROUND('3D Interpolace'!BA7,2)","v":33.520000000000003},null,0.3,4,null,null,null,null,null,null,null,null,null,4,4,null,null,null,null,null,null,null,null,null,null,null,null,null,null,null,null,null,null,null,null,null,null,null,null,null,null,null,null,null,null,0.3,null,0.3,4,40.96,40.69,40.479999999999997,40.31,40.19,40.119999999999997,40.15,40.28,40.44,44.55,44.52,40.26,39.83,39.36,39.020000000000003,38.96,39.33,40.03,40.83,41.49,41.76,41.57,41.07,40.39,39.65,38.96,38.26,37.47,36.69,36.020000000000003,35.56,35.409999999999997,35.5,35.68,35.82,35.76,35.51,35.159999999999997,34.71,34.159999999999997,33.520000000000003,0.3,null,0.30000000000000004,4,40.96,40.69,40.479999999999997,40.31,40.19,40.119999999999997,40.15,40.28,40.44,44.55,44.52,40.26,39.83,39.36,39.020000000000003,38.96,39.33,40.03,40.83,41.49,41.76,41.76,41.57,41.07,40.39,39.65,38.96,38.26,37.47,36.69,36.020000000000003,35.56,35.409999999999997,35.5,35.68,35.82,35.76,35.51,35.159999999999997,34.71,34.159999999999997,33.520000000000003,null,null,null,0.30000000000000004,4,0,0,0,0,0,0,0,0,0,0,44.52,0,0,0,0,0,0,0,0,0,0,0,0,0,0,0,0,0,0,0,0,0,0,0,0,0,0,0,0,0,0,0,0.30000000000000004,null,null,null,4,48.857142857142854,48.557142857142857,48.25714285714286,47.957142857142856,47.657142857142858,47.357142857142854,47.057142857142857,46.75714285714286,46.457142857142856,46.157142857142858,45.857142857142854,45.557142857142857,45.25714285714286,44.957142857142856,44.657142857142858,44.357142857142854,44.057142857142857,43.75714285714286,43.457142857142856,43.157142857142858,42.857142857142861,42.857142857142854,42.657142857142858,42.457142857142856,42.25714285714286,42.057142857142857,41.857142857142861,41.657142857142858,41.457142857142856,41.25714285714286,41.057142857142857,40.857142857142861,40.657142857142858,40.457142857142856,40.25714285714286,40.057142857142857,39.857142857142861,39.657142857142858,39.457142857142856,39.25714285714286,39.057142857142857,38.857142857142861,0.30000000000000004,null,null,null,null,null,0.30000000000000004,4,7.8971428571428532,7.8671428571428592,7.7771428571428629,7.6471428571428532,7.4671428571428606,7.2371428571428567,6.9071428571428584,6.4771428571428586,6.0171428571428578,1.6071428571428612,1.337142857142851,5.2971428571428589,5.4271428571428615,5.5971428571428561,5.6371428571428552,5.3971428571428532,4.7271428571428586,3.7271428571428586,2.6271428571428572,1.6671428571428564,1.0971428571428632,1.0971428571428561,1.0871428571428581,1.3871428571428552,1.8671428571428592,2.4071428571428584,2.8971428571428604,3.3971428571428604,3.9871428571428567,4.5671428571428621,5.0371428571428538,5.2971428571428589,5.2471428571428618,4.9571428571428555,4.5771428571428601,4.2371428571428567,4.0971428571428632,4.1471428571428604,4.2971428571428589,4.5471428571428589,4.8971428571428604,5.3371428571428581,null,null,null,null,null,null,null,0.30000000000000004,4,8.3000000000000007,8.2700000000000014,8.18,8.0299999999999994,7.8200000000000021,7.5200000000000014,7.1000000000000014,6.6025000000000009,4.120000000000001,1.7475000000000005,3.5849999999999991,5.6525000000000016,5.84,5.9824999999999982,5.91,5.4600000000000009,4.6075000000000017,3.5300000000000029,2.4725000000000019,1.6900000000000013,1.4000000000000021,1.5625,1.9800000000000004,2.5175000000000018,3.0500000000000025,3.5425000000000022,4.0650000000000013,4.6175000000000033,5.1150000000000002,5.4699999999999971,5.5975000000000001,5.490000000000002,5.2350000000000012,4.9499999999999993,4.7574999999999985,4.7175000000000011,4.7875000000000032,4.9325000000000028,5.1525000000000016,5.4399999999999995,null,null,0.30000000000000004,4,0.19,0.19,0.19,0.19,0.56999999999999995,0.56999999999999995,0.56999999999999995,0.56999999999999995,1.68,22.99,5.27,1.68,1.68,1.68,1.68,1.68,1.68,5.27,5.27,22.99,22.99,22.99,22.99,5.27,5.27,5.27,1.68,1.68,1.68,1.68,1.68,1.68,1.68,1.68,1.68,1.68,1.68,1.68,1.68,1.68,null,null,0.30000000000000004,4,-22.799999999999997,-5.0799999999999992,-5.0799999999999992,-5.0799999999999992,-4.6999999999999993,-4.6999999999999993,-4.6999999999999993,-4.6999999999999993,-21.31,0,0,0,0,0,0,-3.59,-3.59,-17.72,-17.72,0,0,0,0,-17.72,-17.72,-17.72,-21.31,-21.31,-21.31,-21.31,-21.31,-21.31,-21.31,-21.31,-21.31,-21.31,-21.31,-21.31,-21.31,-21.31,null,null,0.3,4,0,0,0,0,0,0,0,0,0,0,0,0,0,0,0,0,0,0,0,0,0,0,0,0,0,0,0,0,0,0,0,0,0,0,0,0,0,0,0,0,0,0.3,null,0.3,4,0,0,0,0,0,0,0,0,0,0,0,0,0,0,0,0,0,0,0,0,0,0,0,0,0,0,0,0,0,0,0,0,0,0,0,0,0,0,0,0,0,0.3,null,0.3,4,1,0,0,0,0,0,0,0,0,0,0,0,0,0,0,0,0,0,0,0,1,0,0,0,0,0,0,0,0,0,0,0,0,0,0,0,0,0,0,0,1,0.3,null,0.3,4,40.96,0,0,0,0,0,0,0,0,0,0,0,0,0,0,0,0,0,0,0,41.76,0,0,0,0,0,0,0,0,0,0,0,0,0,0,0,0,0,0,0,33.520000000000003,0.3,null,0.30000000000000004,4,7,7,7,7,7,7,7,7,7,7,7,7,7,7,7,7,7,7,7,7,7,4,4,4,4,4,4,4,4,4,4,4,4,4,4,4,4,4,4,4,4,4,0.30000000000000004,null,0.30000000000000004,4,0,0,0,0,0,0,0,0,0,4,4,0,0,0,0,0,0,0,0,0,0,0,0,0,0,0,0,0,0,0,0,0,0,0,0,0,0,0,0,0,0,0,0.30000000000000004,null,0.30000000000000004,4,1,0,0,0,0,0,0,0,0,0,0,0,0,0,0,0,0,0,0,0,1,57,57,57,57,57,57,57,57,57,57,57,57,57,57,57,57,57,57,57,57,57,0.30000000000000004]
[5,"E",36,37,36,38,40,41,42,39,38,null,"1D",{"$f":"ROUND('3D Interpolace'!M8,2)","v":40.44},{"$f":"ROUND('3D Interpolace'!N8,2)","v":40.11},{"$f":"ROUND('3D Interpolace'!O8,2)","v":39.840000000000003},{"$f":"ROUND('3D Interpolace'!P8,2)","v":39.65},{"$f":"ROUND('3D Interpolace'!Q8,2)","v":39.53},{"$f":"ROUND('3D Interpolace'!R8,2)","v":39.479999999999997},{"$f":"ROUND('3D Interpolace'!S8,2)","v":39.57},{"$f":"ROUND('3D Interpolace'!T8,2)","v":39.799999999999997},{"$f":"ROUND('3D Interpolace'!U8,2)","v":40.07},{"$f":"ROUND('3D Interpolace'!V8,2)","v":40.26},{"$f":"ROUND('3D Interpolace'!W8,2)","v":40.28},{"$f":"ROUND('3D Interpolace'!X8,2)","v":40},{"$f":"ROUND('3D Interpolace'!Y8,2)","v":39.5},{"$f":"ROUND('3D Interpolace'!Z8,2)","v":38.950000000000003},{"$f":"ROUND('3D Interpolace'!AA8,2)","v":38.54},{"$f":"ROUND('3D Interpolace'!AB8,2)","v":38.44},{"$f":"ROUND('3D Interpolace'!AC8,2)","v":38.83},{"$f":"ROUND('3D Interpolace'!AD8,2)","v":39.58},{"$f":"ROUND('3D Interpolace'!AE8,2)","v":40.44},{"$f":"ROUND('3D Interpolace'!AF8,2)","v":41.15},{"$f":"ROUND('3D Interpolace'!AG8,2)","v":41.44},{"$f":"ROUND('3D Interpolace'!AH8,2)","v":41.23},{"$f":"ROUND('3D Interpolace'!AI8,2)","v":40.68},{"$f":"ROUND('3D Interpolace'!AJ8,2)","v":39.94},{"$f":"ROUND('3D Interpolace'!AK8,2)","v":39.15},{"$f":"ROUND('3D Interpolace'!AL8,2)","v":38.44},{"$f":"ROUND('3D Interpolace'!AM8,2)","v":37.770000000000003},{"$f":"ROUND('3D Interpolace'!AN8,2)","v":37.04},{"$f":"ROUND('3D Interpolace'!AO8,2)","v":36.33},{"$f":"ROUND('3D Interpolace'!AP8,2)","v":35.700000000000003},{"$f":"ROUND('3D Interpolace'!AQ8,2)","v":35.24},{"$f":"ROUND('3D Interpolace'!AR8,2)","v":35},{"$f":"ROUND('3D Interpolace'!AS8,2)","v":34.93},{"$f":"ROUND('3D Interpolace'!AT8,2)","v":34.950000000000003},{"$f":"ROUND('3D Interpolace'!AU8,2)","v":34.950000000000003},{"$f":"ROUND('3D Interpolace'!AV8,2)","v":34.840000000000003},{"$f":"ROUND('3D Interpolace'!AW8,2)","v":34.619999999999997},{"$f":"ROUND('3D Interpolace'!AX8,2)","v":34.36},{"$f":"ROUND('3D Interpolace'!AY8,2)","v":34.04},{"$f":"ROUND('3D Interpolace'!AZ8,2)","v":33.68},{"$f":"ROUND('3D Interpolace'!BA8,2)","v":33.28},null,0.4,5,null,null,null,null,null,null,null,null,null,4,4,null,null,null,null,null,null,null,null,null,null,null,null,null,null,null,null,null,null,null,null,null,null,null,null,null,null,null,null,null,null,0.4,null,0.4,5,40.44,40.11,39.840000000000003,39.65,39.53,39.479999999999997,39.57,39.799999999999997,40.07,44.26,44.28,40,39.5,38.950000000000003,38.54,38.44,38.83,39.58,40.44,41.15,41.44,41.23,40.68,39.94,39.15,38.44,37.770000000000003,37.04,36.33,35.700000000000003,35.24,35,34.93,34.950000000000003,34.950000000000003,34.840000000000003,34.619999999999997,34.36,34.04,33.68,33.28,0.4,null,0.4,5,40.44,40.11,39.840000000000003,39.65,39.53,39.479999999999997,39.57,39.799999999999997,40.07,44.26,44.28,40,39.5,38.950000000000003,38.54,38.44,38.83,39.58,40.44,41.15,41.44,41.44,41.23,40.68,39.94,39.15,38.44,37.770000000000003,37.04,36.33,35.700000000000003,35.24,35,34.93,34.950000000000003,34.950000000000003,34.840000000000003,34.619999999999997,34.36,34.04,33.68,33.28,null,null,null,0.4,5,0,0,0,0,0,0,0,0,0,0,44.28,0,0,0,0,0,0,0,0,0,0,0,0,0,0,0,0,0,0,0,0,0,0,0,0,0,0,0,0,0,0,0,0.4,null,null,null,5,49.142857142857146,48.842857142857142,48.542857142857144,48.24285714285714,47.942857142857143,47.642857142857146,47.342857142857142,47.042857142857144,46.74285714285714,46.442857142857143,46.142857142857146,45.842857142857142,45.542857142857144,45.24285714285714,44.942857142857143,44.642857142857146,44.342857142857142,44.042857142857144,43.742857142857147,43.442857142857143,43.142857142857139,43.142857142857146,42.942857142857143,42.74285714285714,42.542857142857144,42.342857142857142,42.142857142857146,41.942857142857143,41.742857142857147,41.542857142857144,41.342857142857142,41.142857142857139,40.942857142857143,40.742857142857147,40.542857142857144,40.342857142857142,40.142857142857139,39.942857142857143,39.742857142857147,39.542857142857144,39.342857142857142,39.142857142857139,0.4,null,null,null,null,null,0.4,5,8.7028571428571482,8.7328571428571422,8.7028571428571411,8.5928571428571416,8.4128571428571419,8.162857142857149,7.7728571428571414,7.2428571428571473,6.6728571428571399,2.182857142857145,1.8628571428571448,5.8428571428571416,6.0428571428571445,6.2928571428571374,6.4028571428571439,6.2028571428571482,5.5128571428571433,4.4628571428571462,3.3028571428571496,2.2928571428571445,1.7028571428571411,1.7028571428571482,1.7128571428571462,2.0628571428571405,2.6028571428571468,3.1928571428571431,3.7028571428571482,4.1728571428571399,4.7028571428571482,5.2128571428571462,5.6428571428571388,5.9028571428571368,5.9428571428571431,5.8128571428571476,5.5928571428571416,5.3928571428571388,5.3028571428571354,5.3228571428571456,5.3828571428571479,5.5028571428571453,5.6628571428571419,5.8628571428571377,null,null,null,null,null,null,null,0.4,5,9.0882142857142867,9.0982142857142847,9.0332142857142852,8.8907142857142851,8.6732142857142875,8.3432142857142875,7.863214285714287,7.2882142857142878,4.7332142857142863,2.3107142857142868,4.1382142857142856,6.2382142857142853,6.4832142857142863,6.6857142857142851,6.658214285714287,6.2232142857142865,5.355714285714285,4.2507142857142881,3.1657142857142873,2.3632142857142853,2.0732142857142879,2.2557142857142871,2.7007142857142874,3.2657142857142851,3.8132142857142863,4.2907142857142873,4.7657142857142869,5.2532142857142876,5.6957142857142848,6.0332142857142834,6.2082142857142841,6.220714285714287,6.1257142857142881,5.9932142857142843,5.8957142857142824,5.8707142857142856,5.8907142857142887,5.9357142857142886,6.0057142857142853,6.0957142857142834,null,null,0.4,5,0.19,0.19,0.19,0.19,0.19,0.19,0.56999999999999995,0.56999999999999995,1.68,5.27,1.68,0.56999999999999995,0.56999999999999995,0.56999999999999995,0.56999999999999995,0.56999999999999995,1.68,1.68,5.27,5.27,5.27,5.27,5.27,5.27,5.27,1.68,1.68,1.68,1.68,0.56999999999999995,0.56999999999999995,0.56999999999999995,0.56999999999999995,1.68,1.68,1.68,1.68,1.68,0.56999999999999995,0.56999999999999995,null,null,0.4,5,-5.0799999999999992,-5.0799999999999992,-5.0799999999999992,-5.0799999999999992,-5.0799999999999992,-1.49,-1.1099999999999999,-1.1099999999999999,-21.31,-17.72,-3.59,-1.1099999999999999,-1.1099999999999999,-1.1099999999999999,-1.1099999999999999,-1.1099999999999999,-3.59,-3.59,-17.72,-17.72,-17.72,-17.72,-17.72,-17.72,-17.72,-21.31,-21.31,-21.31,-21.31,-22.419999999999998,-22.419999999999998,-22.419999999999998,-22.419999999999998,-21.31,-21.31,-21.31,-21.31,-21.31,-22.419999999999998,-22.419999999999998,null,null,0.4,5,0,0,0,0,0,0,0,0,0,0,0,0,0,0,0,0,0,0,0,0,0,0,0,0,0,0,0,0,0,0,0,0,0,0,0,0,0,0,0,0,0,0.4,null,0.4,5,0,0,0,0,0,0,0,0,0,0,0,0,0,0,0,0,0,0,0,0,0,0,0,0,0,0,0,0,0,0,0,0,0,0,0,0,0,0,0,0,0,0.4,null,0.4,5,1,0,0,0,0,0,0,0,0,0,0,0,0,0,0,0,0,0,0,0,1,0,0,0,0,0,0,0,0,0,0,0,0,0,0,0,0,0,0,0,1,0.4,null,0.4,5,40.44,0,0,0,0,0,0,0,0,0,0,0,0,0,0,0,0,0,0,0,41.44,0,0,0,0,0,0,0,0,0,0,0,0,0,0,0,0,0,0,0,33.28,0.4,null,0.4,5,7,7,7,7,7,7,7,7,7,7,7,7,7,7,7,7,7,7,7,7,7,4,4,4,4,4,4,4,4,4,4,4,4,4,4,4,4,4,4,4,4,4,0.4,null,0.4,5,0,0,0,0,0,0,0,0,0,4,4,0,0,0,0,0,0,0,0,0,0,0,0,0,0,0,0,0,0,0,0,0,0,0,0,0,0,0,0,0,0,0,0.4,null,0.4,5,1,0,0,0,0,0,0,0,0,0,0,0,0,0,0,0,0,0,0,0,1,57,57,57,57,57,57,57,57,57,57,57,57,57,57,57,57,57,57,57,57,57,0.4]
[6,"F",37,35,35,37,37,45,41,40,39,null,"2",{"$f":"ROUND('3D Interpolace'!M9,2)","v":40},{"$f":"ROUND('3D Interpolace'!N9,2)","v":39.64},{"$f":"ROUND('3D Interpolace'!O9,2)","v":39.36},{"$f":"ROUND('3D Interpolace'!P9,2)","v":39.159999999999997},{"$f":"ROUND('3D Interpolace'!Q9,2)","v":39.04},{"$f":"ROUND('3D Interpolace'!R9,2)","v":39},{"$f":"ROUND('3D Interpolace'!S9,2)","v":39.119999999999997},{"$f":"ROUND('3D Interpolace'!T9,2)","v":39.4},{"$f":"ROUND('3D Interpolace'!U9,2)","v":39.72},{"$f":"ROUND('3D Interpolace'!V9,2)","v":39.96},{"$f":"ROUND('3D Interpolace'!W9,2)","v":40},{"$f":"ROUND('3D Interpolace'!X9,2)","v":39.71},{"$f":"ROUND('3D Interpolace'!Y9,2)","v":39.18},{"$f":"ROUND('3D Interpolace'!Z9,2)","v":38.58},{"$f":"ROUND('3D Interpolace'!AA9,2)","v":38.130000000000003},{"$f":"ROUND('3D Interpolace'!AB9,2)","v":38},{"$f":"ROUND('3D Interpolace'!AC9,2)","v":38.380000000000003},{"$f":"ROUND('3D Interpolace'!AD9,2)","v":39.130000000000003},{"$f":"ROUND('3D Interpolace'!AE9,2)","v":39.99},{"$f":"ROUND('3D Interpolace'!AF9,2)","v":40.700000000000003},{"$f":"ROUND('3D Interpolace'!AG9,2)","v":41},{"$f":"ROUND('3D Interpolace'!AH9,2)","v":40.78},{"$f":"ROUND('3D Interpolace'!AI9,2)","v":40.229999999999997},{"$f":"ROUND('3D Interpolace'!AJ9,2)","v":39.49},{"$f":"ROUND('3D Interpolace'!AK9,2)","v":38.700000000000003},{"$f":"ROUND('3D Interpolace'!AL9,2)","v":38},{"$f":"ROUND('3D Interpolace'!AM9,2)","v":37.369999999999997},{"$f":"ROUND('3D Interpolace'!AN9,2)","v":36.700000000000003},{"$f":"ROUND('3D Interpolace'!AO9,2)","v":36.06},{"$f":"ROUND('3D Interpolace'!AP9,2)","v":35.47},{"$f":"ROUND('3D Interpolace'!AQ9,2)","v":35},{"$f":"ROUND('3D Interpolace'!AR9,2)","v":34.67},{"$f":"ROUND('3D Interpolace'!AS9,2)","v":34.46},{"$f":"ROUND('3D Interpolace'!AT9,2)","v":34.299999999999997},{"$f":"ROUND('3D Interpolace'!AU9,2)","v":34.17},{"$f":"ROUND('3D Interpolace'!AV9,2)","v":34},{"$f":"ROUND('3D Interpolace'!AW9,2)","v":33.799999999999997},{"$f":"ROUND('3D Interpolace'!AX9,2)","v":33.6},{"$f":"ROUND('3D Interpolace'!AY9,2)","v":33.4},{"$f":"ROUND('3D Interpolace'!AZ9,2)","v":33.200000000000003},{"$f":"ROUND('3D Interpolace'!BA9,2)","v":33},null,0.5,6,null,null,null,null,null,null,null,null,null,4,4,null,null,null,null,null,null,null,null,null,null,null,null,null,null,null,null,null,null,null,null,null,null,null,null,null,null,null,null,null,null,0.5,null,0.5,6,40,39.64,39.36,39.159999999999997,39.04,39,39.119999999999997,39.4,39.72,43.96,44,39.71,39.18,38.58,38.130000000000003,38,38.380000000000003,39.130000000000003,39.99,40.700000000000003,41,40.78,40.229999999999997,39.49,38.700000000000003,38,37.369999999999997,36.700000000000003,36.06,35.47,35,34.67,34.46,34.299999999999997,34.17,34,33.799999999999997,33.6,33.4,33.200000000000003,33,0.5,null,0.5,6,40,39.64,39.36,39.159999999999997,39.04,39,39.119999999999997,39.4,39.72,43.96,44,39.71,39.18,38.58,38.130000000000003,38,38.380000000000003,39.130000000000003,39.99,40.700000000000003,41,41,40.78,40.229999999999997,39.49,38.700000000000003,38,37.369999999999997,36.700000000000003,36.06,35.47,35,34.67,34.46,34.299999999999997,34.17,34,33.799999999999997,33.6,33.4,33.200000000000003,33,null,null,null,0.5,6,40,0,0,0,0,39,0,0,0,43.96,44,0,0,0,0,38,0,0,0,0,41,41,0,0,0,0,38,0,0,0,0,35,0,0,0,0,34,0,0,0,0,33,0.5,null,null,null,6,49.428571428571431,49.128571428571426,48.828571428571429,48.528571428571425,48.228571428571428,47.928571428571431,47.628571428571426,47.328571428571429,47.028571428571432,46.728571428571428,46.428571428571431,46.128571428571426,45.828571428571429,45.528571428571432,45.228571428571428,44.928571428571431,44.628571428571426,44.328571428571429,44.028571428571432,43.728571428571428,43.428571428571431,43.428571428571431,43.228571428571428,43.028571428571432,42.828571428571429,42.628571428571426,42.428571428571431,42.228571428571428,42.028571428571432,41.828571428571429,41.628571428571426,41.428571428571431,41.228571428571428,41.028571428571432,40.828571428571429,40.628571428571426,40.428571428571431,40.228571428571428,40.028571428571432,39.828571428571429,39.628571428571426,39.428571428571431,0.5,null,null,null,null,null,0.5,6,9.4285714285714306,9.4885714285714258,9.4685714285714297,9.3685714285714283,9.1885714285714286,8.9285714285714306,8.5085714285714289,7.9285714285714306,7.3085714285714332,2.7685714285714269,2.4285714285714306,6.4185714285714255,6.6485714285714295,6.9485714285714337,7.0985714285714252,6.9285714285714306,6.2485714285714238,5.1985714285714266,4.03857142857143,3.0285714285714249,2.4285714285714306,2.4285714285714306,2.4485714285714266,2.7985714285714351,3.3385714285714272,3.9285714285714235,4.4285714285714306,4.8585714285714303,5.3285714285714292,5.7685714285714269,6.1585714285714275,6.4285714285714306,6.5585714285714261,6.5685714285714312,6.528571428571432,6.4585714285714246,6.4285714285714306,6.4285714285714306,6.4285714285714306,6.4285714285714306,6.4285714285714235,6.4285714285714306,null,null,null,null,null,null,null,0.5,6,9.7489285714285714,9.7564285714285699,9.6889285714285727,9.5439285714285731,9.321428571428573,8.9839285714285726,8.4939285714285724,7.9089285714285751,5.3439285714285738,2.9139285714285723,4.7414285714285729,6.8464285714285715,7.1014285714285723,7.3189285714285717,7.3089285714285719,6.9014285714285712,6.0689285714285699,5.0039285714285722,3.956428571428571,3.1739285714285703,2.8864285714285707,3.0514285714285734,3.4614285714285735,3.9864285714285685,4.4939285714285706,4.9264285714285734,5.343928571428572,5.768928571428571,6.1614285714285693,6.4864285714285703,6.7164285714285707,6.8539285714285718,6.9264285714285734,6.9589285714285705,6.9714285714285715,6.9764285714285723,6.968928571428572,6.9414285714285722,6.8889285714285684,6.8139285714285691,null,null,0.5,6,0.19,0.19,0.19,0.19,0.19,0.19,0.19,0.56999999999999995,1.68,5.27,1.68,0.56999999999999995,0.56999999999999995,0.56999999999999995,0.56999999999999995,0.56999999999999995,0.56999999999999995,1.68,5.27,5.27,5.27,5.27,5.27,5.27,1.68,1.68,1.68,1.68,0.56999999999999995,0.56999999999999995,0.56999999999999995,0.56999999999999995,0.56999999999999995,0.56999999999999995,0.56999999999999995,0.56999999999999995,0.56999999999999995,0.56999999999999995,0.56999999999999995,0.56999999999999995,null,null,0.5,6,0,0,0,0.13,0.13,0.13,0.13,0.51,1.6199999999999999,5.0799999999999992,1.66,0.55999999999999994,0.55999999999999994,0.55999999999999994,0.55999999999999994,0.55999999999999994,0.54999999999999993,1.66,5.21,5.21,-17.72,-17.72,-17.72,-17.72,-21.31,-3.59,-3.59,-3.59,-4.6999999999999993,-4.6999999999999993,-22.419999999999998,-22.419999999999998,-22.419999999999998,-22.419999999999998,-22.419999999999998,-22.419999999999998,-22.419999999999998,-22.419999999999998,-22.419999999999998,-22.419999999999998,null,null,0.5,6,0,0,0,0,0,0,0,0,0,0,0,0,0,0,0,0,0,0,0,0,0,0,0,0,0,0,0,0,0,0,0,0,0,0,0,0,0,0,0,0,0,0.5,null,0.5,6,0,0,0,0,0,0,0,0,0,0,0,0,0,0,0,0,0,0,0,0,0,0,0,0,0,0,0,0,0,0,0,0,0,0,0,0,0,0,0,0,0,0.5,null,0.5,6,1,0,0,0,0,0,0,0,0,0,0,0,0,0,0,0,0,0,0,0,1,0,0,0,0,0,0,0,0,0,0,0,0,0,0,0,0,0,0,0,1,0.5,null,0.5,6,40,0,0,0,0,0,0,0,0,0,0,0,0,0,0,0,0,0,0,0,41,0,0,0,0,0,0,0,0,0,0,0,0,0,0,0,0,0,0,0,33,0.5,null,0.5,6,7,7,7,7,7,7,7,7,7,7,7,7,7,7,7,7,7,7,7,7,7,4,4,4,4,4,4,4,4,4,4,4,4,4,4,4,4,4,4,4,4,4,0.5,null,0.5,6,0,0,0,0,0,0,0,0,0,4,4,0,0,0,0,0,0,0,0,0,0,0,0,0,0,0,0,0,0,0,0,0,0,0,0,0,0,0,0,0,0,0,0.5,null,0.5,6,1,0,0,0,0,0,0,0,0,0,0,0,0,0,0,0,0,0,0,0,1,57,57,57,57,57,57,57,57,57,57,57,57,57,57,57,57,57,57,57,57,57,0.5]
[7,"G",36,37,36,36,37,44,43,42,41,null,"2A",{"$f":"ROUND('3D Interpolace'!M10,2)","v":39.69},{"$f":"ROUND('3D Interpolace'!N10,2)","v":39.36},{"$f":"ROUND('3D Interpolace'!O10,2)","v":39.1},{"$f":"ROUND('3D Interpolace'!P10,2)","v":38.909999999999997},{"$f":"ROUND('3D Interpolace'!Q10,2)","v":38.799999999999997},{"$f":"ROUND('3D Interpolace'!R10,2)","v":38.76},{"$f":"ROUND('3D Interpolace'!S10,2)","v":38.869999999999997},{"$f":"ROUND('3D Interpolace'!T10,2)","v":39.119999999999997},{"$f":"ROUND('3D Interpolace'!U10,2)","v":39.409999999999997},{"$f":"ROUND('3D Interpolace'!V10,2)","v":39.619999999999997},{"$f":"ROUND('3D Interpolace'!W10,2)","v":39.65},{"$f":"ROUND('3D Interpolace'!X10,2)","v":39.36},{"$f":"ROUND('3D Interpolace'!Y10,2)","v":38.85},{"$f":"ROUND('3D Interpolace'!Z10,2)","v":38.270000000000003},{"$f":"ROUND('3D Interpolace'!AA10,2)","v":37.83},{"$f":"ROUND('3D Interpolace'!AB10,2)","v":37.69},{"$f":"ROUND('3D Interpolace'!AC10,2)","v":38.01},{"$f":"ROUND('3D Interpolace'!AD10,2)","v":38.69},{"$f":"ROUND('3D Interpolace'!AE10,2)","v":39.46},{"$f":"ROUND('3D Interpolace'!AF10,2)","v":40.11},{"$f":"ROUND('3D Interpolace'!AG10,2)","v":40.380000000000003},{"$f":"ROUND('3D Interpolace'!AH10,2)","v":40.18},{"$f":"ROUND('3D Interpolace'!AI10,2)","v":39.69},{"$f":"ROUND('3D Interpolace'!AJ10,2)","v":39.03},{"$f":"ROUND('3D Interpolace'!AK10,2)","v":38.32},{"$f":"ROUND('3D Interpolace'!AL10,2)","v":37.69},{"$f":"ROUND('3D Interpolace'!AM10,2)","v":37.119999999999997},{"$f":"ROUND('3D Interpolace'!AN10,2)","v":36.520000000000003},{"$f":"ROUND('3D Interpolace'!AO10,2)","v":35.93},{"$f":"ROUND('3D Interpolace'!AP10,2)","v":35.380000000000003},{"$f":"ROUND('3D Interpolace'!AQ10,2)","v":34.89},{"$f":"ROUND('3D Interpolace'!AR10,2)","v":34.46},{"$f":"ROUND('3D Interpolace'!AS10,2)","v":34.08},{"$f":"ROUND('3D Interpolace'!AT10,2)","v":33.74},{"$f":"ROUND('3D Interpolace'!AU10,2)","v":33.44},{"$f":"ROUND('3D Interpolace'!AV10,2)","v":33.19},{"$f":"ROUND('3D Interpolace'!AW10,2)","v":32.99},{"$f":"ROUND('3D Interpolace'!AX10,2)","v":32.82},{"$f":"ROUND('3D Interpolace'!AY10,2)","v":32.700000000000003},{"$f":"ROUND('3D Interpolace'!AZ10,2)","v":32.630000000000003},{"$f":"ROUND('3D Interpolace'!BA10,2)","v":32.6},null,0.6,7,null,null,null,null,null,null,null,null,null,4,4,null,null,null,null,null,null,null,null,null,null,null,null,null,null,null,null,null,null,null,null,null,null,null,null,null,null,null,null,null,null,0.6,null,0.6,7,39.69,39.36,39.1,38.909999999999997,38.799999999999997,38.76,38.869999999999997,39.119999999999997,39.409999999999997,43.62,43.65,39.36,38.85,38.270000000000003,37.83,37.69,38.01,38.69,39.46,40.11,40.380000000000003,40.18,39.69,39.03,38.32,37.69,37.119999999999997,36.520000000000003,35.93,35.380000000000003,34.89,34.46,34.08,33.74,33.44,33.19,32.99,32.82,32.700000000000003,32.630000000000003,32.6,0.6,null,0.6,7,39.69,39.36,39.1,38.909999999999997,38.799999999999997,38.76,38.869999999999997,39.119999999999997,39.409999999999997,43.62,43.65,39.36,38.85,38.270000000000003,37.83,37.69,38.01,38.69,39.46,40.11,40.380000000000003,40.380000000000003,40.18,39.69,39.03,38.32,37.69,37.119999999999997,36.520000000000003,35.93,35.380000000000003,34.89,34.46,34.08,33.74,33.44,33.19,32.99,32.82,32.700000000000003,32.630000000000003,32.6,null,null,null,0.6,7,0,0,0,0,0,0,0,0,0,0,43.65,0,0,0,0,0,0,0,0,0,0,0,0,0,0,0,0,0,0,0,0,0,0,0,0,0,0,0,0,0,0,0,0.6,null,null,null,7,49.714285714285715,49.414285714285711,49.114285714285714,48.814285714285717,48.514285714285712,48.214285714285715,47.914285714285711,47.614285714285714,47.314285714285717,47.014285714285712,46.714285714285715,46.414285714285718,46.114285714285714,45.814285714285717,45.514285714285712,45.214285714285715,44.914285714285711,44.614285714285714,44.314285714285717,44.014285714285712,43.714285714285715,43.714285714285715,43.514285714285712,43.314285714285717,43.114285714285714,42.914285714285711,42.714285714285715,42.514285714285712,42.314285714285717,42.114285714285714,41.914285714285711,41.714285714285715,41.514285714285712,41.314285714285717,41.114285714285714,40.914285714285711,40.714285714285715,40.514285714285712,40.314285714285717,40.114285714285714,39.914285714285711,39.714285714285715,0.6,null,null,null,null,null,0.6,7,10.024285714285718,10.054285714285712,10.014285714285712,9.9042857142857201,9.7142857142857153,9.4542857142857173,9.0442857142857136,8.4942857142857164,7.9042857142857201,3.394285714285715,3.0642857142857167,7.0542857142857187,7.2642857142857125,7.5442857142857136,7.6842857142857142,7.5242857142857176,6.904285714285713,5.9242857142857162,4.8542857142857159,3.904285714285713,3.3342857142857127,3.3342857142857127,3.3342857142857127,3.624285714285719,4.0842857142857127,4.5942857142857108,5.0242857142857176,5.394285714285715,5.7942857142857136,6.1842857142857142,6.5342857142857085,6.8242857142857147,7.0542857142857116,7.2342857142857184,7.3742857142857119,7.4742857142857133,7.5242857142857176,7.5242857142857105,7.4942857142857164,7.414285714285711,7.2842857142857085,7.1142857142857139,null,null,null,null,null,null,null,0.6,7,8.2546428571428585,8.2121428571428563,8.1121428571428584,7.9496428571428588,7.7246428571428574,7.4071428571428584,6.9671428571428571,6.4496428571428588,3.9521428571428583,1.5721428571428575,3.4096428571428596,5.4871428571428584,5.6946428571428562,5.8671428571428557,5.8421428571428571,5.4721428571428579,4.7321428571428577,3.7896428571428586,2.8596428571428572,2.1521428571428558,1.8671428571428557,1.9646428571428576,2.2671428571428578,2.6721428571428554,3.074642857142857,3.4246428571428567,3.767142857142856,4.1296428571428567,4.4821428571428559,4.8071428571428569,5.1046428571428564,5.382142857142858,5.6396428571428583,5.8571428571428559,6.0021428571428572,6.0621428571428559,6.0546428571428557,5.9821428571428559,5.839642857142854,5.6346428571428557,null,null,0.6,7,0.19,0.19,0.19,0.56999999999999995,0.56999999999999995,0.56999999999999995,0.56999999999999995,0.56999999999999995,5.27,22.99,5.27,1.68,1.68,1.68,1.68,1.68,1.68,5.27,5.27,5.27,22.99,22.99,5.27,5.27,5.27,5.27,5.27,1.68,1.68,1.68,1.68,1.68,1.68,1.68,0.56999999999999995,0.56999999999999995,0.56999999999999995,1.68,1.68,1.68,null,null,0.6,7,-1.49,-1.49,-0.37999999999999995,0,0,0,0,0.37999999999999995,4.6999999999999993,21.31,5.0799999999999992,1.49,1.6199999999999999,1.6199999999999999,1.6199999999999999,1.49,1.49,4.6999999999999993,4.6999999999999993,3.59,0,0,-17.72,-17.72,-17.72,-17.72,-17.72,-3.59,-3.59,-3.59,-21.31,-21.31,-21.31,-21.31,-22.419999999999998,-22.419999999999998,-22.419999999999998,-21.31,-21.31,-21.31,null,null,0.6,7,0,0,0,0,0,0,0,0,0,0,0,0,0,0,0,0,0,0,0,0,0,0,0,0,0,0,0,0,0,0,0,0,0,0,0,0,0,0,0,0,0,0.6,null,0.6,7,0,0,0,0,0,0,0,0,0,0,0,0,0,0,0,0,0,0,0,0,0,0,0,0,0,0,0,0,0,0,0,0,0,0,0,0,0,0,0,0,0,0.6,null,0.6,7,1,0,0,0,0,0,0,0,0,0,0,0,0,0,0,0,0,0,0,0,1,0,0,0,0,0,0,0,0,0,0,0,0,0,0,0,0,0,0,0,1,0.6,null,0.6,7,39.69,0,0,0,0,0,0,0,0,0,0,0,0,0,0,0,0,0,0,0,40.380000000000003,0,0,0,0,0,0,0,0,0,0,0,0,0,0,0,0,0,0,0,32.6,0.6,null,0.6,7,7,7,7,7,7,7,7,7,7,7,7,7,7,7,7,7,7,7,7,7,7,4,4,4,4,4,4,4,4,4,4,4,4,4,4,4,4,4,4,4,4,4,0.6,null,0.6,7,0,0,0,0,0,0,0,0,0,4,4,0,0,0,0,0,0,0,0,0,0,0,0,0,0,0,0,0,0,0,0,0,0,0,0,0,0,0,0,0,0,0,0.6,null,0.6,7,1,0,0,0,0,0,0,0,0,0,0,0,0,0,0,0,0,0,0,0,1,57,57,57,57,57,57,57,57,57,57,57,57,57,57,57,57,57,57,57,57,57,0.6]
[8,"H",36,36,38,36,36,41,42,43,42,null,"2B",{"$f":"ROUND('3D Interpolace'!M11,2)","v":39.5},{"$f":"ROUND('3D Interpolace'!N11,2)","v":39.26},{"$f":"ROUND('3D Interpolace'!O11,2)","v":39.06},{"$f":"ROUND('3D Interpolace'!P11,2)","v":38.909999999999997},{"$f":"ROUND('3D Interpolace'!Q11,2)","v":38.81},{"$f":"ROUND('3D Interpolace'!R11,2)","v":38.76},{"$f":"ROUND('3D Interpolace'!S11,2)","v":38.81},{"$f":"ROUND('3D Interpolace'!T11,2)","v":38.96},{"$f":"ROUND('3D Interpolace'!U11,2)","v":39.14},{"$f":"ROUND('3D Interpolace'!V11,2)","v":39.25},{"$f":"ROUND('3D Interpolace'!W11,2)","v":39.22},{"$f":"ROUND('3D Interpolace'!X11,2)","v":38.96},{"$f":"ROUND('3D Interpolace'!Y11,2)","v":38.51},{"$f":"ROUND('3D Interpolace'!Z11,2)","v":38.020000000000003},{"$f":"ROUND('3D Interpolace'!AA11,2)","v":37.64},{"$f":"ROUND('3D Interpolace'!AB11,2)","v":37.5},{"$f":"ROUND('3D Interpolace'!AC11,2)","v":37.74},{"$f":"ROUND('3D Interpolace'!AD11,2)","v":38.26},{"$f":"ROUND('3D Interpolace'!AE11,2)","v":38.86},{"$f":"ROUND('3D Interpolace'!AF11,2)","v":39.36},{"$f":"ROUND('3D Interpolace'!AG11,2)","v":39.57},{"$f":"ROUND('3D Interpolace'!AH11,2)","v":39.43},{"$f":"ROUND('3D Interpolace'!AI11,2)","v":39.07},{"$f":"ROUND('3D Interpolace'!AJ11,2)","v":38.57},{"$f":"ROUND('3D Interpolace'!AK11,2)","v":38.020000000000003},{"$f":"ROUND('3D Interpolace'!AL11,2)","v":37.5},{"$f":"ROUND('3D Interpolace'!AM11,2)","v":37.020000000000003},{"$f":"ROUND('3D Interpolace'!AN11,2)","v":36.5},{"$f":"ROUND('3D Interpolace'!AO11,2)","v":35.96},{"$f":"ROUND('3D Interpolace'!AP11,2)","v":35.43},{"$f":"ROUND('3D Interpolace'!AQ11,2)","v":34.9},{"$f":"ROUND('3D Interpolace'!AR11,2)","v":34.36},{"$f":"ROUND('3D Interpolace'!AS11,2)","v":33.799999999999997},{"$f":"ROUND('3D Interpolace'!AT11,2)","v":33.25},{"$f":"ROUND('3D Interpolace'!AU11,2)","v":32.770000000000003},{"$f":"ROUND('3D Interpolace'!AV11,2)","v":32.42},{"$f":"ROUND('3D Interpolace'!AW11,2)","v":32.18},{"$f":"ROUND('3D Interpolace'!AX11,2)","v":32.020000000000003},{"$f":"ROUND('3D Interpolace'!AY11,2)","v":31.96},{"$f":"ROUND('3D Interpolace'!AZ11,2)","v":31.98},{"$f":"ROUND('3D Interpolace'!BA11,2)","v":32.08},null,0.7,8,4,4,4,4,4,4,4,4,4,8,8,4,4,4,4,4,4,4,4,4,4,4,4,4,4,4,4,4,4,4,4,4,4,4,4,4,4,4,4,4,4,0.7,null,0.7,8,43.5,43.26,43.06,42.91,42.81,42.76,42.81,42.96,43.14,47.25,47.22,42.96,42.51,42.02,41.64,41.5,41.74,42.26,42.86,43.36,43.57,43.43,43.07,42.57,42.02,41.5,41.02,40.5,39.96,39.43,38.9,38.36,37.799999999999997,37.25,36.770000000000003,36.42,36.18,36.020000000000003,35.96,35.980000000000004,36.08,0.7,null,0.70000000000000007,8,43.5,43.26,43.06,42.91,42.81,42.76,42.81,42.96,43.14,47.25,47.22,42.96,42.51,42.02,41.64,41.5,41.74,42.26,42.86,43.36,43.57,43.57,43.43,43.07,42.57,42.02,41.5,41.02,40.5,39.96,39.43,38.9,38.36,37.799999999999997,37.25,36.770000000000003,36.42,36.18,36.020000000000003,35.96,35.980000000000004,36.08,null,null,null,0.70000000000000007,8,43.5,0,0,0,0,42.76,0,0,0,47.25,47.22,0,0,0,0,41.5,0,0,0,0,43.57,43.57,0,0,0,0,41.5,0,0,0,0,38.9,0,0,0,0,36.42,0,0,0,0,36.08,0.70000000000000007,null,null,null,8,50,49.7,49.4,49.1,48.8,48.5,48.2,47.9,47.6,47.3,47,46.7,46.4,46.1,45.8,45.5,45.2,44.9,44.6,44.3,44,44,43.8,43.6,43.4,43.2,43,42.8,42.6,42.4,42.2,42,41.8,41.6,41.4,41.2,41,40.799999999999997,40.6,40.4,40.200000000000003,40,0.70000000000000007,null,null,null,null,null,0.70000000000000007,8,6.5,6.4400000000000048,6.3399999999999963,6.1900000000000048,5.9899999999999949,5.740000000000002,5.3900000000000006,4.9399999999999977,4.4600000000000009,4.9999999999997158E-2,-0.21999999999999886,3.740000000000002,3.8900000000000006,4.0799999999999983,4.1599999999999966,4,3.4600000000000009,2.6400000000000006,1.740000000000002,0.93999999999999773,0.42999999999999972,0.42999999999999972,0.36999999999999744,0.53000000000000114,0.82999999999999829,1.1799999999999997,1.5,1.779999999999994,2.1000000000000014,2.4399999999999977,2.7700000000000031,3.1000000000000014,3.4399999999999977,3.8000000000000043,4.1499999999999986,4.43,4.5799999999999983,4.6199999999999974,4.5799999999999983,4.4399999999999977,4.2199999999999989,3.9200000000000017,null,null,null,null,null,null,null,0.70000000000000007,8,6.6453571428571436,6.5178571428571423,6.3603571428571417,6.1678571428571427,5.9428571428571413,5.6678571428571427,5.3203571428571426,4.9278571428571425,2.5553571428571438,0.26285714285714334,2.1178571428571438,4.1453571428571436,4.2653571428571428,4.3528571428571432,4.2878571428571419,3.9628571428571426,3.362857142857143,2.6053571428571427,1.8503571428571437,1.2578571428571426,0.97535714285714192,0.97035714285714292,1.1103571428571417,1.3328571428571419,1.5803571428571423,1.8228571428571421,2.0828571428571436,2.3803571428571431,2.7003571428571433,3.0328571428571447,3.4003571428571444,3.8203571428571443,4.2653571428571428,4.6703571428571422,4.9578571428571436,5.0928571428571434,5.1028571428571432,5.0053571428571431,4.8028571428571425,4.5003571428571423,null,null,0.70000000000000007,8,0.56999999999999995,0.56999999999999995,0.56999999999999995,0.56999999999999995,1.68,1.68,1.68,1.68,5.27,22.99,5.27,1.68,1.68,1.68,1.68,5.27,5.27,5.27,22.99,22.99,22.99,22.99,22.99,22.99,22.99,22.99,5.27,5.27,5.27,5.27,5.27,5.27,1.68,1.68,1.68,1.68,1.68,1.68,1.68,1.68,null,null,0.70000000000000007,8,-22.419999999999998,-22.419999999999998,-4.6999999999999993,-4.6999999999999993,-3.59,-3.59,0,0,0,0,0,0,0,0,0,3.59,3.59,0,17.72,0,0,0,0,0,0,0,-17.72,-17.72,-17.72,-17.72,-17.72,-17.72,-21.31,-21.31,-3.59,-3.59,-3.59,-21.31,-21.31,-21.31,null,null,0.7,8,43.5,0,0,0,0,0,0,0,0,47.25,0,0,0,0,0,0,0,0,0,0,43.57,0,0,0,0,0,0,0,0,0,0,0,0,0,0,0,0,0,0,0,36.08,0.7,null,0.7,8,43.5,0,0,0,0,0,0,0,0,47.25,0,0,0,0,0,0,0,0,0,0,43.57,43.57,0,0,0,0,0,0,0,0,0,0,0,0,0,0,0,0,0,0,35.980000000000004,0.7,null,0.7,8,1,0,0,0,0,0,0,0,0,0,0,0,0,0,0,0,0,0,0,0,1,0,0,0,0,0,0,0,0,0,0,0,0,0,0,0,0,0,0,0,1,0.7,null,0.7,8,43.5,0,0,0,0,0,0,0,0,47.25,0,0,0,0,0,0,0,0,0,0,43.57,0,0,0,0,0,0,0,0,0,0,0,0,0,0,0,0,0,0,0,36.08,0.7,null,0.70000000000000007,8,7,7,7,7,7,7,7,7,7,7,7,7,7,7,7,7,7,7,7,7,7,4,4,4,4,4,4,4,4,4,4,4,4,4,4,4,4,4,4,4,4,4,0.70000000000000007,null,0.70000000000000007,8,4,4,4,4,4,4,4,4,4,8,8,4,4,4,4,4,4,4,4,4,4,4,4,4,4,4,4,4,4,4,4,4,4,4,4,4,4,4,4,4,4,4,0.70000000000000007,null,0.70000000000000007,8,1,0,0,0,0,0,0,0,0,0,0,0,0,0,0,0,0,0,0,0,1,57,57,57,57,57,57,57,57,57,57,57,57,57,57,57,57,57,57,57,57,57,0.70000000000000007]
[9,"I",36,35,36,37,36,41,41,41,40,null,"2C",{"$f":"ROUND('3D Interpolace'!M12,2)","v":39.380000000000003},{"$f":"ROUND('3D Interpolace'!N12,2)","v":39.25},{"$f":"ROUND('3D Interpolace'!O12,2)","v":39.130000000000003},{"$f":"ROUND('3D Interpolace'!P12,2)","v":39.03},{"$f":"ROUND('3D Interpolace'!Q12,2)","v":38.950000000000003},{"$f":"ROUND('3D Interpolace'!R12,2)","v":38.880000000000003},{"$f":"ROUND('3D Interpolace'!S12,2)","v":38.85},{"$f":"ROUND('3D Interpolace'!T12,2)","v":38.869999999999997},{"$f":"ROUND('3D Interpolace'!U12,2)","v":38.89},{"$f":"ROUND('3D Interpolace'!V12,2)","v":38.869999999999997},{"$f":"ROUND('3D Interpolace'!W12,2)","v":38.78},{"$f":"ROUND('3D Interpolace'!X12,2)","v":38.54},{"$f":"ROUND('3D Interpolace'!Y12,2)","v":38.18},{"$f":"ROUND('3D Interpolace'!Z12,2)","v":37.799999999999997},{"$f":"ROUND('3D Interpolace'!AA12,2)","v":37.5},{"$f":"ROUND('3D Interpolace'!AB12,2)","v":37.380000000000003},{"$f":"ROUND('3D Interpolace'!AC12,2)","v":37.5},{"$f":"ROUND('3D Interpolace'!AD12,2)","v":37.82},{"$f":"ROUND('3D Interpolace'!AE12,2)","v":38.21},{"$f":"ROUND('3D Interpolace'!AF12,2)","v":38.54},{"$f":"ROUND('3D Interpolace'!AG12,2)","v":38.67},{"$f":"ROUND('3D Interpolace'!AH12,2)","v":38.6},{"$f":"ROUND('3D Interpolace'!AI12,2)","v":38.39},{"$f":"ROUND('3D Interpolace'!AJ12,2)","v":38.1},{"$f":"ROUND('3D Interpolace'!AK12,2)","v":37.75},{"$f":"ROUND('3D Interpolace'!AL12,2)","v":37.380000000000003},{"$f":"ROUND('3D Interpolace'!AM12,2)","v":36.979999999999997},{"$f":"ROUND('3D Interpolace'!AN12,2)","v":36.54},{"$f":"ROUND('3D Interpolace'!AO12,2)","v":36.049999999999997},{"$f":"ROUND('3D Interpolace'!AP12,2)","v":35.53},{"$f":"ROUND('3D Interpolace'!AQ12,2)","v":34.979999999999997},{"$f":"ROUND('3D Interpolace'!AR12,2)","v":34.33},{"$f":"ROUND('3D Interpolace'!AS12,2)","v":33.6},{"$f":"ROUND('3D Interpolace'!AT12,2)","v":32.86},{"$f":"ROUND('3D Interpolace'!AU12,2)","v":32.21},{"$f":"ROUND('3D Interpolace'!AV12,2)","v":31.74},{"$f":"ROUND('3D Interpolace'!AW12,2)","v":31.46},{"$f":"ROUND('3D Interpolace'!AX12,2)","v":31.3},{"$f":"ROUND('3D Interpolace'!AY12,2)","v":31.27},{"$f":"ROUND('3D Interpolace'!AZ12,2)","v":31.35},{"$f":"ROUND('3D Interpolace'!BA12,2)","v":31.56},null,0.8,9,4,4,4,4,4,4,4,4,4,8,8,4,4,4,4,4,4,4,4,4,4,4,4,4,4,4,4,4,4,4,4,4,4,4,4,4,4,4,4,4,4,0.8,null,0.8,9,43.38,43.25,43.13,43.03,42.95,42.88,42.85,42.87,42.89,46.87,46.78,42.54,42.18,41.8,41.5,41.38,41.5,41.82,42.21,42.54,42.67,42.6,42.39,42.1,41.75,41.38,40.98,40.54,40.049999999999997,39.53,38.979999999999997,38.33,37.6,36.86,36.21,35.739999999999995,35.46,35.299999999999997,35.269999999999996,35.35,35.56,0.8,null,0.8,9,43.38,43.25,43.13,43.03,42.95,42.88,42.85,42.87,42.89,46.87,46.78,42.54,42.18,41.8,41.5,41.38,41.5,41.82,42.21,42.54,42.67,42.67,42.6,42.39,42.1,41.75,41.38,40.98,40.54,40.049999999999997,39.53,38.979999999999997,38.33,37.6,36.86,36.21,35.739999999999995,35.46,35.299999999999997,35.269999999999996,35.35,35.56,null,null,null,0.8,9,43.38,0,0,0,0,42.88,0,0,0,46.87,46.78,0,0,0,0,41.38,0,0,0,0,42.67,42.67,0,0,0,0,41.38,0,0,0,0,38.979999999999997,0,0,0,0,35.739999999999995,0,0,0,0,35.56,0.8,null,null,null,9,50.285714285714285,49.985714285714288,49.685714285714283,49.385714285714286,49.085714285714289,48.785714285714285,48.485714285714288,48.185714285714283,47.885714285714286,47.585714285714289,47.285714285714285,46.985714285714288,46.685714285714283,46.385714285714286,46.085714285714289,45.785714285714285,45.485714285714288,45.185714285714283,44.885714285714286,44.585714285714289,44.285714285714285,44.285714285714285,44.085714285714289,43.885714285714286,43.685714285714283,43.485714285714288,43.285714285714285,43.085714285714289,42.885714285714286,42.685714285714283,42.485714285714288,42.285714285714285,42.085714285714289,41.885714285714286,41.685714285714283,41.485714285714288,41.285714285714285,41.085714285714289,40.885714285714286,40.685714285714283,40.485714285714288,40.285714285714285,0.8,null,null,null,null,null,0.8,9,6.9057142857142821,6.7357142857142875,6.5557142857142807,6.355714285714285,6.1357142857142861,5.9057142857142821,5.6357142857142861,5.3157142857142858,4.9957142857142856,0.71571428571429152,0.50571428571428356,4.4457142857142884,4.5057142857142836,4.585714285714289,4.585714285714289,4.4057142857142821,3.9857142857142875,3.365714285714283,2.6757142857142853,2.0457142857142898,1.615714285714283,1.615714285714283,1.4857142857142875,1.4957142857142856,1.5857142857142819,1.7357142857142875,1.9057142857142821,2.1057142857142921,2.345714285714287,2.6357142857142861,2.9557142857142864,3.3057142857142878,3.7557142857142907,4.2857142857142847,4.8257142857142838,5.2757142857142867,5.5457142857142898,5.6257142857142881,5.585714285714289,5.4157142857142873,5.1357142857142861,4.7257142857142824,null,null,null,null,null,null,null,0.8,9,9.0085714285714289,8.7810714285714297,8.5560714285714283,8.3285714285714292,8.1010714285714283,7.8710714285714278,7.6260714285714286,7.3735714285714273,6.1410714285714292,4.9485714285714284,5.8285714285714274,6.8010714285714293,6.8235714285714302,6.8185714285714312,6.7110714285714295,6.4385714285714286,5.9885714285714275,5.4335714285714261,4.8710714285714296,4.401071428571429,4.1235714285714273,4.0085714285714289,3.9710714285714275,3.9935714285714283,4.0710714285714289,4.2010714285714297,4.3810714285714312,4.6160714285714288,4.906071428571428,5.2435714285714283,5.66357142857143,6.2010714285714297,6.8060714285714283,7.3710714285714296,7.7810714285714297,7.9835714285714303,8.0135714285714315,7.9060714285714306,7.6660714285714304,7.2910714285714278,null,null,0.8,9,0.19,0.19,0.19,0.19,0.19,0.56999999999999995,0.56999999999999995,0.56999999999999995,0.56999999999999995,1.68,1.68,0.56999999999999995,0.56999999999999995,0.56999999999999995,0.56999999999999995,0.56999999999999995,1.68,1.68,1.68,1.68,1.68,1.68,5.27,5.27,1.68,1.68,1.68,1.68,1.68,1.68,1.68,0.56999999999999995,0.56999999999999995,0.56999999999999995,0.56999999999999995,0.56999999999999995,0.19,0.56999999999999995,0.56999999999999995,0.56999999999999995,null,null,0.8,9,-22.799999999999997,-22.799999999999997,-22.799999999999997,-5.0799999999999992,-5.0799999999999992,-4.6999999999999993,-1.1099999999999999,-1.1099999999999999,-1.1099999999999999,-3.59,-3.59,-1.1099999999999999,-1.1099999999999999,-1.1099999999999999,-1.1099999999999999,-4.6999999999999993,-3.59,-3.59,-3.59,-21.31,0,0,3.59,3.59,0,0,0,0,0,0,0,-1.1099999999999999,-1.1099999999999999,-1.1099999999999999,0,0,-0.37999999999999995,-1.1099999999999999,-1.1099999999999999,-1.1099999999999999,null,null,0.8,9,0,0,0,0,0,0,0,0,0,0,0,0,0,0,0,0,0,0,0,0,0,0,0,0,0,0,0,0,0,0,0,0,0,0,0,0,0,0,0,0,0,0.8,null,0.8,9,0,0,0,0,0,0,0,0,0,0,0,0,0,0,0,0,0,0,0,0,0,0,0,0,0,0,0,0,0,0,0,0,0,0,0,0,0,0,0,0,0,0.8,null,0.8,9,1,0,0,0,0,0,0,0,0,0,0,0,0,0,0,0,0,0,0,0,1,0,0,0,0,0,0,0,0,0,0,0,0,0,0,0,0,0,0,0,1,0.8,null,0.8,9,43.38,0,0,0,0,0,0,0,0,0,0,0,0,0,0,0,0,0,0,0,42.67,0,0,0,0,0,0,0,0,0,0,0,0,0,0,0,0,0,0,0,35.56,0.8,null,0.8,9,7,7,7,7,7,7,7,7,7,7,7,7,7,7,7,7,7,7,7,7,7,4,4,4,4,4,4,4,4,4,4,4,4,4,4,4,4,4,4,4,4,4,0.8,null,0.8,9,4,4,4,4,4,4,4,4,4,8,8,4,4,4,4,4,4,4,4,4,4,4,4,4,4,4,4,4,4,4,4,4,4,4,4,4,4,4,4,4,4,4,0.8,null,0.8,9,1,0,0,0,0,0,0,0,0,0,0,0,0,0,0,0,0,0,0,0,1,57,57,57,57,57,57,57,57,57,57,57,57,57,57,57,57,57,57,57,57,57,0.8]
[10,"J",35,35,36,34,36,39,41,39,38,null,"2D",{"$f":"ROUND('3D Interpolace'!M13,2)","v":39.229999999999997},{"$f":"ROUND('3D Interpolace'!N13,2)","v":39.22},{"$f":"ROUND('3D Interpolace'!O13,2)","v":39.19},{"$f":"ROUND('3D Interpolace'!P13,2)","v":39.14},{"$f":"ROUND('3D Interpolace'!Q13,2)","v":39.08},{"$f":"ROUND('3D Interpolace'!R13,2)","v":39},{"$f":"ROUND('3D Interpolace'!S13,2)","v":38.9},{"$f":"ROUND('3D Interpolace'!T13,2)","v":38.79},{"$f":"ROUND('3D Interpolace'!U13,2)","v":38.67},{"$f":"ROUND('3D Interpolace'!V13,2)","v":38.520000000000003},{"$f":"ROUND('3D Interpolace'!W13,2)","v":38.35},{"$f":"ROUND('3D Interpolace'!X13,2)","v":38.130000000000003},{"$f":"ROUND('3D Interpolace'!Y13,2)","v":37.86},{"$f":"ROUND('3D Interpolace'!Z13,2)","v":37.58},{"$f":"ROUND('3D Interpolace'!AA13,2)","v":37.36},{"$f":"ROUND('3D Interpolace'!AB13,2)","v":37.229999999999997},{"$f":"ROUND('3D Interpolace'!AC13,2)","v":37.25},{"$f":"ROUND('3D Interpolace'!AD13,2)","v":37.39},{"$f":"ROUND('3D Interpolace'!AE13,2)","v":37.56},{"$f":"ROUND('3D Interpolace'!AF13,2)","v":37.72},{"$f":"ROUND('3D Interpolace'!AG13,2)","v":37.78},{"$f":"ROUND('3D Interpolace'!AH13,2)","v":37.770000000000003},{"$f":"ROUND('3D Interpolace'!AI13,2)","v":37.72},{"$f":"ROUND('3D Interpolace'!AJ13,2)","v":37.619999999999997},{"$f":"ROUND('3D Interpolace'!AK13,2)","v":37.47},{"$f":"ROUND('3D Interpolace'!AL13,2)","v":37.229999999999997},{"$f":"ROUND('3D Interpolace'!AM13,2)","v":36.92},{"$f":"ROUND('3D Interpolace'!AN13,2)","v":36.549999999999997},{"$f":"ROUND('3D Interpolace'!AO13,2)","v":36.11},{"$f":"ROUND('3D Interpolace'!AP13,2)","v":35.6},{"$f":"ROUND('3D Interpolace'!AQ13,2)","v":35.03},{"$f":"ROUND('3D Interpolace'!AR13,2)","v":34.32},{"$f":"ROUND('3D Interpolace'!AS13,2)","v":33.46},{"$f":"ROUND('3D Interpolace'!AT13,2)","v":32.57},{"$f":"ROUND('3D Interpolace'!AU13,2)","v":31.79},{"$f":"ROUND('3D Interpolace'!AV13,2)","v":31.25},{"$f":"ROUND('3D Interpolace'!AW13,2)","v":30.93},{"$f":"ROUND('3D Interpolace'!AX13,2)","v":30.77},{"$f":"ROUND('3D Interpolace'!AY13,2)","v":30.75},{"$f":"ROUND('3D Interpolace'!AZ13,2)","v":30.88},{"$f":"ROUND('3D Interpolace'!BA13,2)","v":31.16},null,0.9,10,null,null,null,null,null,null,null,null,null,null,null,null,null,null,null,null,null,null,null,null,null,null,null,null,null,null,null,null,null,null,null,null,null,null,null,null,null,null,null,null,null,0.9,null,0.9,10,39.229999999999997,39.22,39.19,39.14,39.08,39,38.9,38.79,38.67,38.520000000000003,38.35,38.130000000000003,37.86,37.58,37.36,37.229999999999997,37.25,37.39,37.56,37.72,37.78,37.770000000000003,37.72,37.619999999999997,37.47,37.229999999999997,36.92,36.549999999999997,36.11,35.6,35.03,34.32,33.46,32.57,31.79,31.25,30.93,30.77,30.75,30.88,31.16,0.9,null,0.9,10,39.229999999999997,39.22,39.19,39.14,39.08,39,38.9,38.79,38.67,38.520000000000003,38.35,38.130000000000003,37.86,37.58,37.36,37.229999999999997,37.25,37.39,37.56,37.72,37.78,37.78,37.770000000000003,37.72,37.619999999999997,37.47,37.229999999999997,36.92,36.549999999999997,36.11,35.6,35.03,34.32,33.46,32.57,31.79,31.25,30.93,30.77,30.75,30.88,31.16,null,null,null,0.9,10,0,0,0,0,0,0,0,0,0,0,0,0,0,0,0,0,0,0,0,0,0,0,0,0,0,0,0,0,0,0,0,0,0,0,0,0,0,0,0,0,0,0,0.9,null,null,null,10,50.571428571428569,50.271428571428572,49.971428571428575,49.671428571428571,49.371428571428574,49.071428571428569,48.771428571428572,48.471428571428568,48.171428571428571,47.871428571428574,47.571428571428569,47.271428571428572,46.971428571428575,46.671428571428571,46.371428571428574,46.071428571428569,45.771428571428572,45.471428571428568,45.171428571428571,44.871428571428574,44.571428571428569,44.571428571428569,44.371428571428574,44.171428571428571,43.971428571428568,43.771428571428572,43.571428571428569,43.371428571428574,43.171428571428571,42.971428571428568,42.771428571428572,42.571428571428569,42.371428571428574,42.171428571428571,41.971428571428575,41.771428571428572,41.571428571428569,41.371428571428574,41.171428571428571,40.971428571428575,40.771428571428572,40.571428571428569,0.9,null,null,null,null,null,0.9,10,11.341428571428573,11.051428571428573,10.781428571428577,10.53142857142857,10.291428571428575,10.071428571428569,9.8714285714285737,9.6814285714285688,9.5014285714285691,9.3514285714285705,9.221428571428568,9.1414285714285697,9.1114285714285757,9.0914285714285725,9.0114285714285742,8.8414285714285725,8.5214285714285722,8.0814285714285674,7.6114285714285685,7.1514285714285748,6.7914285714285683,6.7914285714285683,6.6014285714285705,6.451428571428572,6.3514285714285705,6.3014285714285734,6.3414285714285725,6.451428571428572,6.6214285714285737,6.8614285714285685,7.1714285714285708,7.5414285714285683,8.0514285714285734,8.71142857142857,9.4014285714285748,9.9814285714285731,10.321428571428569,10.441428571428574,10.401428571428571,10.221428571428575,9.8914285714285732,9.4114285714285693,null,null,null,null,null,null,null,0.9,10,{"$f":"AVERAGE(KF12:KG13)","v":11.431785714285715},11.111785714285718,10.821785714285717,10.559285714285716,10.324285714285715,10.124285714285714,9.9592857142857145,9.8192857142857122,9.699285714285713,9.591785714285713,9.4992857142857119,9.4342857142857159,9.384285714285717,9.3117857142857154,9.1817857142857147,8.9592857142857145,8.6367857142857147,8.2567857142857122,7.8617857142857144,7.4942857142857147,7.2192857142857125,7.0092857142857135,6.819285714285714,6.6742857142857144,6.6067857142857136,6.6367857142857147,6.7467857142857159,6.9292857142857152,7.1867857142857137,7.516785714285712,7.961785714285714,8.5667857142857144,9.2667857142857155,9.9267857142857174,10.409285714285716,10.649285714285716,10.689285714285715,10.574285714285715,10.306785714285715,9.8842857142857152,null,null,0.9,10,0.06,0.06,0.06,0.06,0.06,0.06,0.19,0.19,0.19,0.19,0.19,0.19,0.19,0.19,0.19,0.19,0.19,0.19,0.56999999999999995,0.56999999999999995,0.56999999999999995,0.56999999999999995,0.56999999999999995,0.56999999999999995,0.56999999999999995,0.56999999999999995,0.56999999999999995,0.56999999999999995,0.56999999999999995,0.56999999999999995,0.56999999999999995,0.19,0.19,0.19,0.06,0.06,0.06,0.06,0.06,0.19,null,null,0.9,10,-22.93,-22.93,-22.93,-5.21,-5.21,-5.21,-1.49,-1.49,-1.49,-1.49,-1.49,-1.49,-5.0799999999999992,-5.0799999999999992,-5.0799999999999992,-5.0799999999999992,-5.0799999999999992,-5.0799999999999992,-22.419999999999998,-22.419999999999998,0.51,0.37999999999999995,0.37999999999999995,0.37999999999999995,0.37999999999999995,0.37999999999999995,0.37999999999999995,0.37999999999999995,0.37999999999999995,0.37999999999999995,0,0,0,0,-0.13,0,0,-0.13,-0.13,0,null,null,0.9,10,0,0,0,0,0,0,0,0,0,0,0,0,0,0,0,0,0,0,0,0,0,0,0,0,0,0,0,0,0,0,0,0,0,0,0,0,0,0,0,0,0,0.9,null,0.9,10,0,0,0,0,0,0,0,0,0,0,0,0,0,0,0,0,0,0,0,0,0,0,0,0,0,0,0,0,0,0,0,0,0,0,0,0,0,0,0,0,0,0.9,null,0.9,10,1,0,0,0,0,0,0,0,0,0,0,0,0,0,0,0,0,0,0,0,1,0,0,0,0,0,0,0,0,0,0,0,0,0,0,0,0,0,0,0,1,0.9,null,0.9,10,39.229999999999997,0,0,0,0,0,0,0,0,0,0,0,0,0,0,0,0,0,0,0,37.78,0,0,0,0,0,0,0,0,0,0,0,0,0,0,0,0,0,0,0,31.16,0.9,null,0.9,10,7,7,7,7,7,7,7,7,7,7,7,7,7,7,7,7,7,7,7,7,7,4,4,4,4,4,4,4,4,4,4,4,4,4,4,4,4,4,4,4,4,4,0.9,null,0.9,10,0,0,0,0,0,0,0,0,0,0,0,0,0,0,0,0,0,0,0,0,0,0,0,0,0,0,0,0,0,0,0,0,0,0,0,0,0,0,0,0,0,0,0.9,null,0.9,10,1,0,0,0,0,0,0,0,0,0,0,0,0,0,0,0,0,0,0,0,1,57,57,57,57,57,57,57,57,57,57,57,57,57,57,57,57,57,57,57,57,57,0.9]
[11,"K",37,35,35,35,36,39,36,36,35,null,"3",{"$f":"ROUND('3D Interpolace'!M14,2)","v":39},{"$f":"ROUND('3D Interpolace'!N14,2)","v":39.08},{"$f":"ROUND('3D Interpolace'!O14,2)","v":39.119999999999997},{"$f":"ROUND('3D Interpolace'!P14,2)","v":39.119999999999997},{"$f":"ROUND('3D Interpolace'!Q14,2)","v":39.08},{"$f":"ROUND('3D Interpolace'!R14,2)","v":39},{"$f":"ROUND('3D Interpolace'!S14,2)","v":38.86},{"$f":"ROUND('3D Interpolace'!T14,2)","v":38.67},{"$f":"ROUND('3D Interpolace'!U14,2)","v":38.450000000000003},{"$f":"ROUND('3D Interpolace'!V14,2)","v":38.22},{"$f":"ROUND('3D Interpolace'!W14,2)","v":38},{"$f":"ROUND('3D Interpolace'!X14,2)","v":37.78},{"$f":"ROUND('3D Interpolace'!Y14,2)","v":37.549999999999997},{"$f":"ROUND('3D Interpolace'!Z14,2)","v":37.33},{"$f":"ROUND('3D Interpolace'!AA14,2)","v":37.14},{"$f":"ROUND('3D Interpolace'!AB14,2)","v":37},{"$f":"ROUND('3D Interpolace'!AC14,2)","v":36.94},{"$f":"ROUND('3D Interpolace'!AD14,2)","v":36.93},{"$f":"ROUND('3D Interpolace'!AE14,2)","v":36.950000000000003},{"$f":"ROUND('3D Interpolace'!AF14,2)","v":36.979999999999997},{"$f":"ROUND('3D Interpolace'!AG14,2)","v":37},{"$f":"ROUND('3D Interpolace'!AH14,2)","v":37.03},{"$f":"ROUND('3D Interpolace'!AI14,2)","v":37.1},{"$f":"ROUND('3D Interpolace'!AJ14,2)","v":37.14},{"$f":"ROUND('3D Interpolace'!AK14,2)","v":37.130000000000003},{"$f":"ROUND('3D Interpolace'!AL14,2)","v":37},{"$f":"ROUND('3D Interpolace'!AM14,2)","v":36.76},{"$f":"ROUND('3D Interpolace'!AN14,2)","v":36.44},{"$f":"ROUND('3D Interpolace'!AO14,2)","v":36.04},{"$f":"ROUND('3D Interpolace'!AP14,2)","v":35.56},{"$f":"ROUND('3D Interpolace'!AQ14,2)","v":35},{"$f":"ROUND('3D Interpolace'!AR14,2)","v":34.26},{"$f":"ROUND('3D Interpolace'!AS14,2)","v":33.35},{"$f":"ROUND('3D Interpolace'!AT14,2)","v":32.409999999999997},{"$f":"ROUND('3D Interpolace'!AU14,2)","v":31.58},{"$f":"ROUND('3D Interpolace'!AV14,2)","v":31},{"$f":"ROUND('3D Interpolace'!AW14,2)","v":30.68},{"$f":"ROUND('3D Interpolace'!AX14,2)","v":30.52},{"$f":"ROUND('3D Interpolace'!AY14,2)","v":30.52},{"$f":"ROUND('3D Interpolace'!AZ14,2)","v":30.68},{"$f":"ROUND('3D Interpolace'!BA14,2)","v":31},null,1,11,null,null,null,null,null,null,null,null,null,null,null,null,null,null,null,null,null,null,null,null,null,null,null,null,null,null,null,null,null,null,null,null,null,null,null,null,null,null,null,null,null,1,null,1,11,39,39.08,39.119999999999997,39.119999999999997,39.08,39,38.86,38.67,38.450000000000003,38.22,38,37.78,37.549999999999997,37.33,37.14,37,36.94,36.93,36.950000000000003,36.979999999999997,37,37.03,37.1,37.14,37.130000000000003,37,36.76,36.44,36.04,35.56,35,34.26,33.35,32.409999999999997,31.58,31,30.68,30.52,30.52,30.68,31,1,null,1,11,{"$f":"IF(ISNUMBER(INDEX(VstupniData,$EQ13,ER$2)),INDEX(VstupniData,$EQ13,ER$2),\"\")","v":39},39.08,39.119999999999997,39.119999999999997,39.08,39,38.86,38.67,38.450000000000003,38.22,{"$f":"IF(ISNUMBER(INDEX(VstupniData,$EQ13,FB$2)),INDEX(VstupniData,$EQ13,FB$2),\"\")","v":38},37.78,37.549999999999997,37.33,37.14,37,36.94,36.93,36.950000000000003,36.979999999999997,{"$f":"IF(ISNUMBER(INDEX(VstupniData,$EQ13,FL$2)),INDEX(VstupniData,$EQ13,FL$2),\"\")","v":37},37,37.03,37.1,37.14,37.130000000000003,37,36.76,36.44,36.04,{"$f":"IF(ISNUMBER(INDEX(VstupniData,$EQ13,FV$2)),INDEX(VstupniData,$EQ13,FV$2),\"\")","v":35.56},35,34.26,33.35,32.409999999999997,31.58,31,30.68,30.52,30.52,30.68,31,null,null,null,1,11,39,0,0,0,0,39,0,0,0,0,38,0,0,0,0,37,0,0,0,0,37,37,0,0,0,0,37,0,0,0,0,35,0,0,0,0,31,0,0,0,0,31,1,null,null,null,11,50.857142857142854,50.557142857142857,50.25714285714286,49.957142857142856,49.657142857142858,49.357142857142854,49.057142857142857,48.75714285714286,48.457142857142856,48.157142857142858,47.857142857142854,47.557142857142857,47.25714285714286,46.957142857142856,46.657142857142858,46.357142857142854,46.057142857142857,45.75714285714286,45.457142857142856,45.157142857142858,44.857142857142854,44.857142857142854,44.657142857142858,44.457142857142856,44.25714285714286,44.057142857142857,43.857142857142854,43.657142857142858,43.457142857142856,43.25714285714286,43.057142857142857,42.857142857142854,42.657142857142858,42.457142857142856,42.25714285714286,42.057142857142857,41.857142857142861,41.657142857142858,41.457142857142856,41.257142857142853,41.057142857142857,40.857142857142861,1,null,null,null,null,null,1,11,11.857142857142854,11.477142857142859,11.137142857142862,10.837142857142858,10.57714285714286,10.357142857142854,10.197142857142858,10.087142857142858,10.007142857142853,9.9371428571428595,9.8571428571428541,9.7771428571428558,9.7071428571428626,9.6271428571428572,9.5171428571428578,9.3571428571428541,9.1171428571428592,8.8271428571428601,8.5071428571428527,8.1771428571428615,7.8571428571428541,7.8571428571428541,7.6271428571428572,7.3571428571428541,7.1171428571428592,6.9271428571428544,6.8571428571428541,6.8971428571428604,7.0171428571428578,7.2171428571428606,7.4971428571428547,7.8571428571428541,8.3971428571428604,9.1071428571428541,9.8471428571428632,10.477142857142859,10.857142857142861,10.977142857142859,10.937142857142856,10.737142857142853,10.377142857142857,9.8571428571428612,null,null,null,null,null,null,null,1,11,{"$f":"AVERAGE(KF14:KG15)","v":0.36750000000000149},{"$f":"AVERAGE(KG14:KH15)","v":0.27500000000000213},0.2300000000000022,0.23250000000000171,0.28250000000000064,0.39000000000000057,0.5600000000000005,0.77999999999999936,1.0250000000000004,1.2650000000000006,1.4974999999999987,1.7349999999999994,1.9725000000000001,2.192499999999999,2.3774999999999995,2.5075000000000003,2.5849999999999991,2.629999999999999,2.6500000000000004,2.6550000000000011,2.4446825396825389,2.0729761904761865,1.7226984126984064,1.3499206349206272,1.0121428571428481,0.76436507936507425,0.64158730158730037,0.62380952380952159,0.68853174603174416,0.83575396825396453,1.0604761904761855,1.4076984126984087,1.9249206349206336,2.5396428571428551,3.116865079365077,3.5165873015872977,3.6663095238095185,3.6160317460317435,3.4082539682539652,3.0429761904761863,null,null,1,11,22.99,22.99,22.99,22.99,22.99,22.99,22.99,22.99,22.99,22.99,22.99,22.99,22.99,5.27,5.27,5.27,5.27,5.27,5.27,5.27,5.27,5.27,22.99,22.99,22.99,22.99,22.99,22.99,22.99,22.99,22.99,22.99,22.99,5.27,5.27,5.27,5.27,5.27,5.27,5.27,null,null,1,11,0,0,0,0,0,0,0,0,0,0,0,0,0,-17.72,-17.72,-17.72,-17.72,-17.72,-17.72,-17.72,-17.72,-17.72,0,0,0,0,0,0,0,0,0,0,0,-17.72,0,0,-17.72,-17.72,-17.72,-17.72,null,null,1,11,0,0,0,0,0,0,0,0,0,0,0,0,0,0,0,0,0,0,0,0,0,0,0,0,0,0,0,0,0,0,0,0,0,0,0,0,0,0,0,0,0,1,null,1,11,0,0,0,0,0,0,0,0,0,0,0,0,0,0,0,0,0,0,0,0,0,0,0,0,0,0,0,0,0,0,0,0,0,0,0,0,0,0,0,0,0,1,null,1,11,1,1,1,1,1,1,1,1,1,1,1,1,1,1,1,1,1,1,1,1,1,1,1,1,1,1,1,1,1,1,1,1,1,1,1,1,1,1,1,1,1,1,null,1,11,39,39.08,39.119999999999997,39.119999999999997,39.08,39,38.86,38.67,38.450000000000003,38.22,38,37.78,37.549999999999997,37.33,37.14,37,36.94,36.93,36.950000000000003,36.979999999999997,37,37.03,37.1,37.14,37.130000000000003,37,36.76,36.44,36.04,35.56,35,34.26,33.35,32.409999999999997,31.58,31,30.68,30.52,30.52,30.68,31,1,null,1,11,{"$f":"YE12","v":7},{"$f":"YF12","v":7},7,7,7,7,7,7,7,7,7,7,7,7,7,7,7,7,7,7,{"$f":"YX13","v":7},4,{"$f":"ZA12","v":4},4,4,4,4,4,4,4,4,4,4,4,4,4,4,4,4,4,4,{"$f":"ZS13","v":4},1,null,1,11,{"$f":"IF(ISNUMBER(INDEX(Asfalt,$ZX13,ZY$2)),INDEX(Asfalt,$ZX13,ZY$2),0)","v":0},0,0,0,0,0,0,0,0,0,{"$f":"IF(ISNUMBER(INDEX(Asfalt,$ZX13,AAI$2)),INDEX(Asfalt,$ZX13,AAI$2),0)","v":0},0,0,0,0,0,0,0,0,0,{"$f":"IF(ISNUMBER(INDEX(Asfalt,$ZX13,AAS$2)),INDEX(Asfalt,$ZX13,AAS$2),0)","v":0},0,0,0,0,0,0,0,0,0,{"$f":"IF(ISNUMBER(INDEX(Asfalt,$ZX13,ABC$2)),INDEX(Asfalt,$ZX13,ABC$2),0)","v":0},0,0,0,0,0,0,0,0,0,0,0,1,null,1,11,1,1,1,1,1,1,1,1,1,1,1,1,1,1,1,1,1,1,1,1,1,57,{"$f":"ACO12","v":57},57,57,57,57,57,57,57,57,57,57,57,57,57,57,57,57,57,57,{"$f":"ADG13","v":57},1]
[12,"L",35,36,34,34,35,36,36,34,34,null,"3A",{"$f":"ROUND('3D Interpolace'!M15,2)","v":38.65},{"$f":"ROUND('3D Interpolace'!N15,2)","v":38.799999999999997},{"$f":"ROUND('3D Interpolace'!O15,2)","v":38.9},{"$f":"ROUND('3D Interpolace'!P15,2)","v":38.94},{"$f":"ROUND('3D Interpolace'!Q15,2)","v":38.93},{"$f":"ROUND('3D Interpolace'!R15,2)","v":38.86},{"$f":"ROUND('3D Interpolace'!S15,2)","v":38.72},{"$f":"ROUND('3D Interpolace'!T15,2)","v":38.51},{"$f":"ROUND('3D Interpolace'!U15,2)","v":38.25},{"$f":"ROUND('3D Interpolace'!V15,2)","v":37.979999999999997},{"$f":"ROUND('3D Interpolace'!W15,2)","v":37.74},{"$f":"ROUND('3D Interpolace'!X15,2)","v":37.49},{"$f":"ROUND('3D Interpolace'!Y15,2)","v":37.24},{"$f":"ROUND('3D Interpolace'!Z15,2)","v":36.99},{"$f":"ROUND('3D Interpolace'!AA15,2)","v":36.770000000000003},{"$f":"ROUND('3D Interpolace'!AB15,2)","v":36.58},{"$f":"ROUND('3D Interpolace'!AC15,2)","v":36.450000000000003},{"$f":"ROUND('3D Interpolace'!AD15,2)","v":36.340000000000003},{"$f":"ROUND('3D Interpolace'!AE15,2)","v":36.26},{"$f":"ROUND('3D Interpolace'!AF15,2)","v":36.21},{"$f":"ROUND('3D Interpolace'!AG15,2)","v":36.19},{"$f":"ROUND('3D Interpolace'!AH15,2)","v":36.25},{"$f":"ROUND('3D Interpolace'!AI15,2)","v":36.380000000000003},{"$f":"ROUND('3D Interpolace'!AJ15,2)","v":36.520000000000003},{"$f":"ROUND('3D Interpolace'!AK15,2)","v":36.590000000000003},{"$f":"ROUND('3D Interpolace'!AL15,2)","v":36.54},{"$f":"ROUND('3D Interpolace'!AM15,2)","v":36.340000000000003},{"$f":"ROUND('3D Interpolace'!AN15,2)","v":36.06},{"$f":"ROUND('3D Interpolace'!AO15,2)","v":35.69},{"$f":"ROUND('3D Interpolace'!AP15,2)","v":35.24},{"$f":"ROUND('3D Interpolace'!AQ15,2)","v":34.72},{"$f":"ROUND('3D Interpolace'!AR15,2)","v":34.04},{"$f":"ROUND('3D Interpolace'!AS15,2)","v":33.19},{"$f":"ROUND('3D Interpolace'!AT15,2)","v":32.32},{"$f":"ROUND('3D Interpolace'!AU15,2)","v":31.54},{"$f":"ROUND('3D Interpolace'!AV15,2)","v":31.02},{"$f":"ROUND('3D Interpolace'!AW15,2)","v":30.73},{"$f":"ROUND('3D Interpolace'!AX15,2)","v":30.59},{"$f":"ROUND('3D Interpolace'!AY15,2)","v":30.61},{"$f":"ROUND('3D Interpolace'!AZ15,2)","v":30.78},{"$f":"ROUND('3D Interpolace'!BA15,2)","v":31.1},null,1.1000000000000001,12,null,null,null,null,null,null,null,null,null,null,null,null,null,null,null,null,null,null,null,null,null,null,null,null,null,null,null,null,null,null,null,null,null,null,null,null,null,null,null,null,null,1.1000000000000001,null,1.1000000000000001,12,38.65,38.799999999999997,38.9,38.94,38.93,38.86,38.72,38.51,38.25,37.979999999999997,37.74,37.49,37.24,36.99,36.770000000000003,36.58,36.450000000000003,36.340000000000003,36.26,36.21,36.19,36.25,36.380000000000003,36.520000000000003,36.590000000000003,36.54,36.340000000000003,36.06,35.69,35.24,34.72,34.04,33.19,32.32,31.54,31.02,30.73,30.59,30.61,30.78,31.1,1.1000000000000001,null,1,11,39,39.08,39.119999999999997,39.119999999999997,39.08,39,38.86,38.67,38.450000000000003,38.22,38,37.78,37.549999999999997,37.33,37.14,37,36.94,36.93,36.950000000000003,36.979999999999997,37,37,37.03,37.1,37.14,37.130000000000003,37,36.76,36.44,36.04,35.56,35,34.26,33.35,32.409999999999997,31.58,31,30.68,30.52,30.52,30.68,31,null,null,null,1,11,39,0,0,0,0,39,0,0,0,0,38,0,0,0,0,37,0,0,0,0,37,37,0,0,0,0,37,0,0,0,0,35,0,0,0,0,31,0,0,0,0,31,1,null,null,null,11,39,39,39,39,39,39,39,39,39,39,39,39,39,39,39,39,39,39,39,39,39,38.388888888888886,38.111111111111107,37.833333333333329,37.55555555555555,37.277777777777771,37,36.722222222222221,36.444444444444443,36.166666666666664,35.888888888888886,35.611111111111107,35.333333333333329,35.055555555555557,34.777777777777771,34.5,34.222222222222214,33.944444444444443,33.666666666666664,33.388888888888886,33.111111111111107,32.833333333333329,1,null,null,null,null,null,1,11,0,-7.9999999999998295E-2,-0.11999999999999744,-0.11999999999999744,-7.9999999999998295E-2,0,0.14000000000000057,0.32999999999999829,0.54999999999999716,0.78000000000000114,1,1.2199999999999989,1.4500000000000028,1.6700000000000017,1.8599999999999994,2,2.0600000000000023,2.0700000000000003,2.0499999999999972,2.0200000000000031,2,1.3888888888888857,1.081111111111106,0.73333333333332718,0.41555555555554946,0.1477777777777689,0,-3.7777777777776578E-2,4.4444444444451392E-3,0.12666666666666515,0.32888888888888346,0.61111111111110716,1.0733333333333306,1.7055555555555557,2.3677777777777749,2.9200000000000017,3.2222222222222143,3.2644444444444431,3.1466666666666647,2.8688888888888862,2.4311111111111074,1.8333333333333286,null,null,null,null,null,null,null,1.0999999999999999,12,{"$f":"AVERAGE(KF15:KG16)","v":1.2225000000000019},{"$f":"AVERAGE(KG15:KH16)","v":1.0675000000000008},{"$f":"AVERAGE(KH15:KI16)","v":0.97250000000000014},{"$f":"AVERAGE(KI15:KJ16)","v":0.9350000000000005},{"$f":"AVERAGE(KJ15:KK16)","v":0.95749999999999957},{"$f":"AVERAGE(KK15:KL16)","v":1.0500000000000007},{"$f":"AVERAGE(KL15:KM16)","v":1.2175000000000011},{"$f":"AVERAGE(KM15:KN16)","v":1.4499999999999993},{"$f":"AVERAGE(KN15:KO16)","v":1.7200000000000006},{"$f":"AVERAGE(KO15:KP16)","v":1.9875000000000007},{"$f":"AVERAGE(KP15:KQ16)","v":2.2499999999999982},{"$f":"AVERAGE(KQ15:KR16)","v":2.5274999999999981},{"$f":"AVERAGE(KR15:KS16)","v":2.8149999999999977},{"$f":"AVERAGE(KS15:KT16)","v":3.0899999999999981},{"$f":"AVERAGE(KT15:KU16)","v":3.3324999999999996},{"$f":"AVERAGE(KU15:KV16)","v":3.5324999999999989},{"$f":"AVERAGE(KV15:KW16)","v":3.6949999999999985},{"$f":"AVERAGE(KW15:KX16)","v":3.83},{"$f":"AVERAGE(KX15:KY16)","v":3.9299999999999997},{"$f":"AVERAGE(KY15:KZ16)","v":3.9875000000000007},{"$f":"AVERAGE(LA15:LB16)","v":3.7939285714285695},{"$f":"AVERAGE(LB15:LC16)","v":3.408650793650791},{"$f":"AVERAGE(LC15:LD16)","v":2.9683730158730111},{"$f":"AVERAGE(LD15:LE16)","v":2.5505952380952319},{"$f":"AVERAGE(LE15:LF16)","v":2.232817460317456},{"$f":"AVERAGE(LF15:LG16)","v":2.0600396825396796},{"$f":"AVERAGE(LG15:LH16)","v":2.0122619047618997},{"$f":"AVERAGE(LH15:LI16)","v":2.0519841269841219},{"$f":"AVERAGE(LI15:LJ16)","v":2.1692063492063447},{"$f":"AVERAGE(LJ15:LK16)","v":2.3489285714285675},{"$f":"AVERAGE(LK15:LL16)","v":2.6236507936507909},{"$f":"AVERAGE(LL15:LM16)","v":3.0408730158730144},{"$f":"AVERAGE(LM15:LN16)","v":3.5405952380952357},{"$f":"AVERAGE(LN15:LO16)","v":4.0053174603174568},{"$f":"AVERAGE(LO15:LP16)","v":4.3125396825396782},{"$f":"AVERAGE(LP15:LQ16)","v":4.3997619047618999},{"$f":"AVERAGE(LQ15:LR16)","v":4.3119841269841244},{"$f":"AVERAGE(LR15:LS16)","v":4.0817063492063461},{"$f":"AVERAGE(LS15:LT16)","v":3.7114285714285673},{"$f":"AVERAGE(LT15:LU16)","v":3.2061507936507896},null,null,1.0999999999999999,12,22.99,22.99,22.99,22.99,22.99,22.99,22.99,22.99,22.99,22.99,5.27,5.27,5.27,5.27,5.27,5.27,5.27,5.27,5.27,5.27,5.27,5.27,5.27,5.27,5.27,5.27,5.27,5.27,5.27,5.27,5.27,5.27,5.27,1.68,1.68,1.68,1.68,1.68,5.27,5.27,null,null,1.0999999999999999,12,0,0,0,0,0,0,0,0,0,0,-17.72,-17.72,-17.72,-17.72,-17.72,-17.72,-17.72,-17.72,-17.72,-17.72,-17.72,-17.72,-17.72,-17.72,-17.72,-17.72,-17.72,-17.72,-17.72,-17.72,-17.72,-17.72,-17.72,-3.59,-3.59,-3.59,-3.59,-21.31,-17.72,-17.72,null,null,1.1000000000000001,12,0,0,0,0,0,0,0,0,0,0,0,0,0,0,0,0,0,0,0,0,0,0,0,0,0,0,0,0,0,0,0,0,0,0,0,0,0,0,0,0,0,1.1000000000000001,null,1.1000000000000001,12,0,0,39.119999999999997,39.119999999999997,0,0,0,0,0,0,0,0,0,0,0,0,0,0,0,0,37,0,0,0,37.14,0,0,0,0,0,0,0,0,0,0,0,0,0,0,0,0,1.1000000000000001,null,1.1000000000000001,12,1,{"$f":"IF(OR(INT(1000*UT$1/$B$18)-1000*UT$1/$B$18=0,INT(1000*$UQ14/$B$19)-1000*$UQ14/$B$19=0),1,0)","v":0},0,0,0,0,0,0,0,0,0,{"$f":"IF(OR(INT(1000*VD$1/$B$18)-1000*VD$1/$B$18=0,INT(1000*$UQ14/$B$19)-1000*$UQ14/$B$19=0),1,0)","v":0},0,0,0,0,0,0,0,0,1,{"$f":"IF(OR(INT(1000*VN$1/$B$18)-1000*VN$1/$B$18=0,INT(1000*$UQ14/$B$19)-1000*$UQ14/$B$19=0),1,0)","v":0},0,0,0,0,0,0,0,0,0,{"$f":"IF(OR(INT(1000*VX$1/$B$18)-1000*VX$1/$B$18=0,INT(1000*$UQ14/$B$19)-1000*$UQ14/$B$19=0),1,0)","v":0},0,0,0,0,0,0,0,0,1,1.1000000000000001,null,1.1000000000000001,12,38.65,0,0,0,0,0,0,0,0,0,0,0,0,0,0,0,0,0,0,0,36.19,0,0,0,0,0,0,0,0,0,0,0,0,0,0,0,0,0,0,0,31.1,1.1000000000000001,null,1,11,{"$f":"COUNTIF(RG13:SA23,\">0\")","v":1},{"$f":"YE14","v":1},{"$f":"YF14","v":1},1,1,1,1,1,1,1,1,1,1,1,1,1,1,1,1,1,{"$f":"YX14","v":1},{"$f":"COUNTIF(SA13:SU23,\">0\")","v":3},{"$f":"YZ14","v":3},{"$f":"ZA14","v":3},3,3,3,3,3,3,3,3,3,3,3,3,3,3,3,3,3,{"$f":"ZS14","v":3},1,null,1,11,0,0,0,0,0,0,0,0,0,0,0,0,0,0,0,0,0,0,0,0,0,0,0,0,0,0,0,0,0,0,0,0,0,0,0,0,0,0,0,0,0,0,1,null,1,11,{"$f":"RANK(#REF!,$ER$14:$FL$24,0)","v":{"$error":"#REF!"}},{"$f":"RANK(IE14,$ER$14:$FL$24,0)","v":{"$error":"#N/A"}},{"$f":"RANK(IF14,$ER$14:$FL$24,0)","v":{"$error":"#N/A"}},{"$f":"RANK(IG14,$ER$14:$FL$24,0)","v":{"$error":"#N/A"}},{"$f":"RANK(IH14,$ER$14:$FL$24,0)","v":47},{"$f":"RANK(II14,$ER$14:$FL$24,0)","v":47},{"$f":"RANK(IJ14,$ER$14:$FL$24,0)","v":47},{"$f":"RANK(IK14,$ER$14:$FL$24,0)","v":47},{"$f":"RANK(IL14,$ER$14:$FL$24,0)","v":47},{"$f":"RANK(IM14,$ER$14:$FL$24,0)","v":47},{"$f":"RANK(IN14,$ER$14:$FL$24,0)","v":47},{"$f":"RANK(IO14,$ER$14:$FL$24,0)","v":47},{"$f":"RANK(IP14,$ER$14:$FL$24,0)","v":47},{"$f":"RANK(IQ14,$ER$14:$FL$24,0)","v":47},{"$f":"RANK(IR14,$ER$14:$FL$24,0)","v":47},{"$f":"RANK(IS14,$ER$14:$FL$24,0)","v":47},{"$f":"RANK(IT14,$ER$14:$FL$24,0)","v":47},{"$f":"RANK(IU14,$ER$14:$FL$24,0)","v":47},{"$f":"RANK(IV14,$ER$14:$FL$24,0)","v":47},{"$f":"RANK(IW14,$ER$14:$FL$24,0)","v":47},{"$f":"RANK(IX14,$ER$14:$FL$24,0)","v":47},{"$f":"COUNTIF(VO13:WI23,\">0\")","v":58},{"$f":"ACN14","v":58},{"$f":"ACO14","v":58},58,58,58,58,58,58,58,58,58,58,58,58,58,58,58,58,58,{"$f":"ADG14","v":58},1]
[13,"M",34,34,35,35,34,34,33,32,30,null,"3B",{"$f":"ROUND('3D Interpolace'!M16,2)","v":38.22},{"$f":"ROUND('3D Interpolace'!N16,2)","v":38.44},{"$f":"ROUND('3D Interpolace'!O16,2)","v":38.590000000000003},{"$f":"ROUND('3D Interpolace'!P16,2)","v":38.68},{"$f":"ROUND('3D Interpolace'!Q16,2)","v":38.71},{"$f":"ROUND('3D Interpolace'!R16,2)","v":38.67},{"$f":"ROUND('3D Interpolace'!S16,2)","v":38.549999999999997},{"$f":"ROUND('3D Interpolace'!T16,2)","v":38.35},{"$f":"ROUND('3D Interpolace'!U16,2)","v":38.090000000000003},{"$f":"ROUND('3D Interpolace'!V16,2)","v":37.799999999999997},{"$f":"ROUND('3D Interpolace'!W16,2)","v":37.53},{"$f":"ROUND('3D Interpolace'!X16,2)","v":37.24},{"$f":"ROUND('3D Interpolace'!Y16,2)","v":36.92},{"$f":"ROUND('3D Interpolace'!Z16,2)","v":36.590000000000003},{"$f":"ROUND('3D Interpolace'!AA16,2)","v":36.29},{"$f":"ROUND('3D Interpolace'!AB16,2)","v":36.03},{"$f":"ROUND('3D Interpolace'!AC16,2)","v":35.81},{"$f":"ROUND('3D Interpolace'!AD16,2)","v":35.619999999999997},{"$f":"ROUND('3D Interpolace'!AE16,2)","v":35.46},{"$f":"ROUND('3D Interpolace'!AF16,2)","v":35.35},{"$f":"ROUND('3D Interpolace'!AG16,2)","v":35.299999999999997},{"$f":"ROUND('3D Interpolace'!AH16,2)","v":35.369999999999997},{"$f":"ROUND('3D Interpolace'!AI16,2)","v":35.54},{"$f":"ROUND('3D Interpolace'!AJ16,2)","v":35.75},{"$f":"ROUND('3D Interpolace'!AK16,2)","v":35.89},{"$f":"ROUND('3D Interpolace'!AL16,2)","v":35.89},{"$f":"ROUND('3D Interpolace'!AM16,2)","v":35.72},{"$f":"ROUND('3D Interpolace'!AN16,2)","v":35.450000000000003},{"$f":"ROUND('3D Interpolace'!AO16,2)","v":35.1},{"$f":"ROUND('3D Interpolace'!AP16,2)","v":34.69},{"$f":"ROUND('3D Interpolace'!AQ16,2)","v":34.24},{"$f":"ROUND('3D Interpolace'!AR16,2)","v":33.68},{"$f":"ROUND('3D Interpolace'!AS16,2)","v":32.99},{"$f":"ROUND('3D Interpolace'!AT16,2)","v":32.29},{"$f":"ROUND('3D Interpolace'!AU16,2)","v":31.67},{"$f":"ROUND('3D Interpolace'!AV16,2)","v":31.25},{"$f":"ROUND('3D Interpolace'!AW16,2)","v":31.02},{"$f":"ROUND('3D Interpolace'!AX16,2)","v":30.92},{"$f":"ROUND('3D Interpolace'!AY16,2)","v":30.95},{"$f":"ROUND('3D Interpolace'!AZ16,2)","v":31.1},{"$f":"ROUND('3D Interpolace'!BA16,2)","v":31.37},null,1.2,13,null,null,null,null,null,null,null,null,null,null,null,null,null,null,null,null,null,null,null,null,null,null,null,null,null,null,null,null,null,null,null,null,null,null,null,null,null,null,null,null,null,1.2,null,1.2,13,38.22,38.44,38.590000000000003,38.68,38.71,38.67,{"$f":"T15+BL15","v":38.549999999999997},{"$f":"U15+BM15","v":38.35},38.090000000000003,37.799999999999997,37.53,37.24,36.92,36.590000000000003,{"$f":"AB15+BT15","v":36.29},{"$f":"AC15+BU15","v":36.03},35.81,35.619999999999997,35.46,35.35,35.299999999999997,35.369999999999997,35.54,35.75,35.89,35.89,35.72,35.450000000000003,35.1,34.69,34.24,33.68,32.99,32.29,31.67,31.25,31.02,30.92,30.95,31.1,31.37,1.2,null,1.0999999999999999,12,38.65,38.799999999999997,38.9,38.94,38.93,38.86,38.72,38.51,38.25,37.979999999999997,37.74,37.49,37.24,36.99,36.770000000000003,36.58,36.450000000000003,36.340000000000003,36.26,36.21,36.19,36.19,36.25,36.380000000000003,36.520000000000003,36.590000000000003,36.54,36.340000000000003,36.06,35.69,35.24,34.72,34.04,33.19,32.32,31.54,31.02,30.73,30.59,30.61,30.78,31.1,null,null,null,1.0999999999999999,12,0,0,0,0,0,0,0,0,0,0,0,0,0,0,0,0,0,0,0,0,0,0,0,0,0,0,0,0,0,0,0,0,0,0,0,0,0,0,0,0,0,0,1.0999999999999999,null,null,null,12,39.5,39.5,39.5,39.5,39.5,39.5,39.5,39.5,39.5,39.5,39.5,39.5,39.5,39.5,39.5,39.5,39.5,39.5,39.5,39.5,39.5,39.269841269841265,38.992063492063487,38.714285714285708,38.43650793650793,38.158730158730151,37.88095238095238,37.603174603174601,37.325396825396822,37.047619047619044,36.769841269841265,36.492063492063487,36.214285714285708,35.936507936507937,35.658730158730151,35.38095238095238,35.103174603174594,34.825396825396822,34.547619047619044,34.269841269841265,33.992063492063487,33.714285714285708,1.0999999999999999,null,null,null,null,null,1.0999999999999999,12,0.85000000000000142,0.70000000000000284,0.60000000000000142,0.56000000000000227,0.57000000000000028,0.64000000000000057,0.78000000000000114,0.99000000000000199,1.25,1.5200000000000031,1.759999999999998,2.009999999999998,2.259999999999998,2.509999999999998,2.7299999999999969,2.9200000000000017,3.0499999999999972,3.1599999999999966,3.240000000000002,3.2899999999999991,3.3100000000000023,3.0798412698412676,2.7420634920634868,2.3342857142857056,1.9165079365079265,1.5687301587301477,1.3409523809523805,1.2631746031745976,1.2653968253968202,1.3576190476190462,1.5298412698412633,1.7720634920634879,2.174285714285709,2.746507936507939,3.3387301587301508,3.8409523809523805,4.0831746031745944,4.095396825396822,3.957619047619044,3.6598412698412659,3.2120634920634856,2.6142857142857068,null,null,null,null,null,null,null,1.2,13,2.1275000000000013,1.9150000000000009,1.7699999999999996,1.6899999999999995,1.6774999999999984,1.7449999999999992,1.8949999999999996,2.1149999999999984,2.3825000000000003,2.6675000000000004,2.9674999999999994,3.3025000000000002,3.6649999999999991,4.0224999999999991,4.3424999999999994,4.6149999999999984,4.8524999999999991,5.0600000000000005,5.2225000000000001,5.32,5.514880952380949,5.1046031746031737,4.6168253968253961,4.1415476190476177,3.771269841269838,3.5609920634920584,3.4907142857142794,3.5154365079365011,3.605158730158724,3.7273809523809476,3.8996031746031701,4.1618253968253924,4.4790476190476145,4.7637698412698359,4.9259920634920586,4.9207142857142809,4.7804365079365043,4.532658730158726,4.1748809523809474,3.7121031746031701,null,null,1.2,13,5.27,22.99,22.99,22.99,22.99,22.99,22.99,5.27,5.27,5.27,5.27,5.27,5.27,1.68,1.68,1.68,1.68,1.68,1.68,1.68,1.68,1.68,1.68,1.68,5.27,5.27,5.27,5.27,5.27,5.27,5.27,1.68,1.68,1.68,1.68,1.68,1.68,1.68,1.68,5.27,null,null,1.2,13,-17.72,0,0,0,0,0,0,-17.72,-17.72,-17.72,-17.72,-17.72,-17.72,-21.31,-21.31,-21.31,-21.31,-21.31,-21.31,-21.31,-21.31,-21.31,-21.31,-21.31,-17.72,-17.72,-17.72,-17.72,-17.72,-17.72,0,-3.59,-3.59,-3.59,-3.59,-3.59,-3.59,-21.31,-21.31,-17.72,null,null,1.2,13,0,0,0,0,0,0,0,0,0,0,0,0,0,0,0,0,0,0,0,0,0,0,0,0,0,0,0,0,0,0,0,0,0,0,0,0,0,0,0,0,0,1.2,null,1.2,13,0,0,0,0,0,0,0,0,0,0,0,0,0,0,0,0,0,0,0,0,0,0,0,0,0,0,0,0,0,0,0,0,0,0,0,0,0,0,0,0,0,1.2,null,1.2,13,1,0,0,0,0,0,0,0,0,0,0,0,0,0,0,0,0,0,0,0,1,0,0,0,0,0,0,0,0,0,0,0,0,0,0,0,0,0,0,0,1,1.2,null,1.2,13,38.22,0,0,0,0,0,0,0,0,0,0,0,0,0,0,0,0,0,0,0,35.299999999999997,0,0,0,0,0,0,0,0,0,0,0,0,0,0,0,0,0,0,0,31.37,1.2,null,1.0999999999999999,12,{"$f":"YE14","v":1},{"$f":"YF14","v":1},{"$f":"YG14","v":1},{"$f":"YH14","v":1},{"$f":"YI14","v":1},{"$f":"YJ14","v":1},{"$f":"YK14","v":1},{"$f":"YL14","v":1},{"$f":"YM14","v":1},{"$f":"YN14","v":1},{"$f":"YO14","v":1},{"$f":"YP14","v":1},{"$f":"YQ14","v":1},{"$f":"YR14","v":1},{"$f":"YS14","v":1},{"$f":"YT14","v":1},{"$f":"YU14","v":1},{"$f":"YV14","v":1},{"$f":"YW14","v":1},{"$f":"YX14","v":1},{"$f":"YX15","v":1},{"$f":"ZA15","v":3},{"$f":"ZA14","v":3},{"$f":"ZB14","v":3},{"$f":"ZC14","v":3},{"$f":"ZD14","v":3},{"$f":"ZE14","v":3},{"$f":"ZF14","v":3},{"$f":"ZG14","v":3},{"$f":"ZH14","v":3},{"$f":"ZI14","v":3},{"$f":"ZJ14","v":3},{"$f":"ZK14","v":3},{"$f":"ZL14","v":3},{"$f":"ZM14","v":3},{"$f":"ZN14","v":3},{"$f":"ZO14","v":3},{"$f":"ZP14","v":3},{"$f":"ZQ14","v":3},{"$f":"ZR14","v":3},{"$f":"ZS14","v":3},{"$f":"ZS15","v":3},1.0999999999999999,null,1.0999999999999999,12,0,0,0,0,0,0,0,0,0,0,0,0,0,0,0,0,0,0,0,0,0,0,0,0,0,0,0,0,0,0,0,0,0,0,0,0,0,0,0,0,0,0,1.0999999999999999,null,1.0999999999999999,12,{"$f":"RANK(#REF!,$ER$14:$FL$24,0)","v":{"$error":"#REF!"}},{"$error":"#N/A"},{"$error":"#N/A"},{"$error":"#N/A"},{"$error":"#N/A"},{"$error":"#N/A"},{"$error":"#N/A"},{"$error":"#N/A"},{"$error":"#N/A"},{"$error":"#N/A"},{"$error":"#N/A"},{"$error":"#N/A"},{"$error":"#N/A"},{"$error":"#N/A"},{"$error":"#N/A"},{"$error":"#N/A"},{"$error":"#N/A"},{"$error":"#N/A"},{"$error":"#N/A"},{"$error":"#N/A"},{"$error":"#N/A"},{"$f":"ACO15","v":58},{"$f":"ACO14","v":58},{"$f":"ACP14","v":58},{"$f":"ACQ14","v":58},{"$f":"ACR14","v":58},{"$f":"ACS14","v":58},{"$f":"ACT14","v":58},{"$f":"ACU14","v":58},{"$f":"ACV14","v":58},{"$f":"ACW14","v":58},{"$f":"ACX14","v":58},{"$f":"ACY14","v":58},{"$f":"ACZ14","v":58},{"$f":"ADA14","v":58},{"$f":"ADB14","v":58},{"$f":"ADC14","v":58},{"$f":"ADD14","v":58},{"$f":"ADE14","v":58},{"$f":"ADF14","v":58},{"$f":"ADG14","v":58},{"$f":"ADG15","v":58},1.0999999999999999]
[null,null,null,null,null,null,null,null,null,null,null,null,"3C",{"$f":"ROUND('3D Interpolace'!M17,2)","v":37.78},{"$f":"ROUND('3D Interpolace'!N17,2)","v":38.049999999999997},{"$f":"ROUND('3D Interpolace'!O17,2)","v":38.26},{"$f":"ROUND('3D Interpolace'!P17,2)","v":38.39},{"$f":"ROUND('3D Interpolace'!Q17,2)","v":38.46},{"$f":"ROUND('3D Interpolace'!R17,2)","v":38.450000000000003},{"$f":"ROUND('3D Interpolace'!S17,2)","v":38.35},{"$f":"ROUND('3D Interpolace'!T17,2)","v":38.17},{"$f":"ROUND('3D Interpolace'!U17,2)","v":37.93},{"$f":"ROUND('3D Interpolace'!V17,2)","v":37.65},{"$f":"ROUND('3D Interpolace'!W17,2)","v":37.35},{"$f":"ROUND('3D Interpolace'!X17,2)","v":37.01},{"$f":"ROUND('3D Interpolace'!Y17,2)","v":36.619999999999997},{"$f":"ROUND('3D Interpolace'!Z17,2)","v":36.21},{"$f":"ROUND('3D Interpolace'!AA17,2)","v":35.82},{"$f":"ROUND('3D Interpolace'!AB17,2)","v":35.49},{"$f":"ROUND('3D Interpolace'!AC17,2)","v":35.21},{"$f":"ROUND('3D Interpolace'!AD17,2)","v":34.950000000000003},{"$f":"ROUND('3D Interpolace'!AE17,2)","v":34.729999999999997},{"$f":"ROUND('3D Interpolace'!AF17,2)","v":34.57},{"$f":"ROUND('3D Interpolace'!AG17,2)","v":34.5},{"$f":"ROUND('3D Interpolace'!AH17,2)","v":34.58},{"$f":"ROUND('3D Interpolace'!AI17,2)","v":34.79},{"$f":"ROUND('3D Interpolace'!AJ17,2)","v":35.04},{"$f":"ROUND('3D Interpolace'!AK17,2)","v":35.229999999999997},{"$f":"ROUND('3D Interpolace'!AL17,2)","v":35.270000000000003},{"$f":"ROUND('3D Interpolace'!AM17,2)","v":35.130000000000003},{"$f":"ROUND('3D Interpolace'!AN17,2)","v":34.880000000000003},{"$f":"ROUND('3D Interpolace'!AO17,2)","v":34.54},{"$f":"ROUND('3D Interpolace'!AP17,2)","v":34.17},{"$f":"ROUND('3D Interpolace'!AQ17,2)","v":33.799999999999997},{"$f":"ROUND('3D Interpolace'!AR17,2)","v":33.380000000000003},{"$f":"ROUND('3D Interpolace'!AS17,2)","v":32.89},{"$f":"ROUND('3D Interpolace'!AT17,2)","v":32.39},{"$f":"ROUND('3D Interpolace'!AU17,2)","v":31.96},{"$f":"ROUND('3D Interpolace'!AV17,2)","v":31.67},{"$f":"ROUND('3D Interpolace'!AW17,2)","v":31.52},{"$f":"ROUND('3D Interpolace'!AX17,2)","v":31.45},{"$f":"ROUND('3D Interpolace'!AY17,2)","v":31.47},{"$f":"ROUND('3D Interpolace'!AZ17,2)","v":31.59},{"$f":"ROUND('3D Interpolace'!BA17,2)","v":31.79},null,1.3,14,null,null,null,null,null,null,null,null,null,null,null,null,null,null,null,null,null,null,null,null,null,null,null,null,null,null,null,null,null,null,null,null,null,null,null,null,null,null,null,null,null,1.3,null,1.3,14,37.78,38.049999999999997,38.26,38.39,38.46,38.450000000000003,38.35,38.17,37.93,37.65,37.35,37.01,36.619999999999997,36.21,35.82,35.49,35.21,34.950000000000003,34.729999999999997,34.57,34.5,34.58,34.79,35.04,35.229999999999997,35.270000000000003,35.130000000000003,34.880000000000003,34.54,34.17,33.799999999999997,33.380000000000003,32.89,32.39,31.96,31.67,31.52,31.45,31.47,31.59,31.79,1.3,null,1.2,13,38.22,38.44,38.590000000000003,38.68,38.71,38.67,38.549999999999997,38.35,38.090000000000003,37.799999999999997,37.53,37.24,36.92,36.590000000000003,36.29,36.03,35.81,35.619999999999997,35.46,35.35,35.299999999999997,35.299999999999997,35.369999999999997,35.54,35.75,35.89,35.89,35.72,35.450000000000003,35.1,34.69,34.24,33.68,32.99,32.29,31.67,31.25,31.02,30.92,30.95,31.1,31.37,null,null,null,1.2,13,0,0,0,0,0,0,0,0,0,0,0,0,0,0,0,0,0,0,0,0,0,0,0,0,0,0,0,0,0,0,0,0,0,0,0,0,0,0,0,0,0,0,1.2,null,null,null,13,40,40,40,40,40,40,40,40,40,40,40,40,40,40,40,40,40,40,40,40,40,40.150793650793645,39.873015873015873,39.595238095238095,39.317460317460316,39.039682539682538,38.761904761904759,38.484126984126981,38.206349206349202,37.928571428571423,37.650793650793645,37.373015873015873,37.095238095238095,36.817460317460316,36.539682539682538,36.261904761904759,35.984126984126981,35.706349206349202,35.428571428571431,35.150793650793645,34.873015873015873,34.595238095238095,1.2,null,null,null,null,null,1.2,13,1.7800000000000011,1.5600000000000023,1.4099999999999966,1.3200000000000003,1.2899999999999991,1.3299999999999983,1.4500000000000028,1.6499999999999986,1.9099999999999966,2.2000000000000028,2.4699999999999989,2.759999999999998,3.0799999999999983,3.4099999999999966,3.7100000000000009,3.9699999999999989,4.1899999999999977,4.3800000000000026,4.5399999999999991,4.6499999999999986,4.7000000000000028,4.8507936507936478,4.503015873015876,4.0552380952380958,3.5674603174603163,3.1496825396825372,2.8719047619047586,2.7641269841269818,2.7563492063491992,2.8285714285714221,2.9607936507936472,3.1330158730158715,3.4152380952380952,3.8274603174603143,4.2496825396825386,4.5919047619047575,4.7341269841269806,4.6863492063492025,4.5085714285714289,4.2007936507936456,3.773015873015872,3.2252380952380939,null,null,null,null,null,null,null,1.2999999999999998,14,3.0350000000000001,2.7700000000000014,2.58,2.4649999999999999,2.42,2.4574999999999996,2.5849999999999991,2.7874999999999996,3.0425000000000004,3.3324999999999996,3.66,4.0425000000000004,4.4700000000000006,4.8975000000000009,5.2799999999999994,5.6049999999999986,5.8924999999999983,6.1449999999999996,6.3425000000000011,6.4600000000000009,7.0383333333333287,6.608055555555552,6.085277777777776,5.572499999999998,5.1647222222222187,4.9219444444444385,4.8266666666666609,4.8288888888888852,4.8861111111111075,4.9483333333333288,5.0130555555555496,5.1152777777777718,5.2449999999999939,5.3447222222222148,5.3594444444444385,5.2641666666666618,5.0763888888888857,4.8161111111111081,4.4808333333333286,4.0730555555555492,null,null,1.2999999999999998,14,5.27,5.27,5.27,5.27,5.27,5.27,5.27,5.27,5.27,5.27,5.27,1.68,1.68,1.68,1.68,1.68,1.68,0.56999999999999995,0.56999999999999995,0.56999999999999995,0.56999999999999995,0.56999999999999995,0.56999999999999995,1.68,1.68,1.68,1.68,1.68,1.68,1.68,1.68,1.68,1.68,1.68,1.68,1.68,1.68,1.68,1.68,1.68,null,null,1.2999999999999998,14,-17.72,-17.72,-17.72,-17.72,-17.72,-17.72,-17.72,-17.72,-17.72,-17.72,-17.72,-21.31,-21.31,-21.31,-21.31,-21.31,-21.31,-22.419999999999998,-4.6999999999999993,-4.6999999999999993,-4.6999999999999993,-22.419999999999998,-22.419999999999998,-21.31,-21.31,-21.31,-21.31,-21.31,-21.31,-21.31,-3.59,-3.59,-3.59,-3.59,-3.59,-3.59,-21.31,-21.31,-21.31,-21.31,null,null,1.3,14,0,0,0,0,0,0,0,0,0,0,0,0,0,0,0,0,0,0,0,0,0,0,0,0,0,0,0,0,0,0,0,0,0,0,0,0,0,0,0,0,0,1.3,null,1.3,14,0,0,0,0,0,0,0,0,0,0,0,0,0,0,0,0,0,0,0,0,0,0,0,0,0,0,0,0,0,0,0,0,0,0,0,0,0,0,0,0,0,1.3,null,1.3,14,1,0,0,0,0,0,0,0,0,0,0,0,0,0,0,0,0,0,0,0,1,0,0,0,0,0,0,0,0,0,0,0,0,0,0,0,0,0,0,0,1,1.3,null,1.3,14,37.78,0,0,0,0,0,0,0,0,0,0,0,0,0,0,0,0,0,0,0,34.5,0,0,0,0,0,0,0,0,0,0,0,0,0,0,0,0,0,0,0,31.79,1.3,null,1.2,13,{"$f":"YE15","v":1},{"$f":"YF15","v":1},1,1,1,1,1,1,1,1,1,1,1,1,1,1,1,1,1,1,{"$f":"YX16","v":1},3,{"$f":"ZA15","v":3},3,3,3,3,3,3,3,3,3,3,3,3,3,3,3,3,3,3,{"$f":"ZS16","v":3},1.2,null,1.2,13,0,0,0,0,0,0,0,0,0,0,0,0,0,0,0,0,0,0,0,0,0,0,0,0,0,0,0,0,0,0,0,0,0,0,0,0,0,0,0,0,0,0,1.2,null,1.2,13,{"$f":"RANK(#REF!,$ER$14:$FL$24,0)","v":{"$error":"#REF!"}},{"$error":"#N/A"},{"$error":"#N/A"},{"$error":"#N/A"},35,35,35,35,35,35,35,35,35,35,35,35,35,35,35,35,35,58,{"$f":"ACO15","v":58},58,58,58,58,58,58,58,58,58,58,58,58,58,58,58,58,58,58,{"$f":"ADG16","v":58},1.2]
[null,"DESKA",null,null,null,"x","y","z",null,null,null,null,"3D",{"$f":"ROUND('3D Interpolace'!M18,2)","v":37.35},{"$f":"ROUND('3D Interpolace'!N18,2)","v":37.68},{"$f":"ROUND('3D Interpolace'!O18,2)","v":37.93},{"$f":"ROUND('3D Interpolace'!P18,2)","v":38.1},{"$f":"ROUND('3D Interpolace'!Q18,2)","v":38.19},{"$f":"ROUND('3D Interpolace'!R18,2)","v":38.22},{"$f":"ROUND('3D Interpolace'!S18,2)","v":38.15},{"$f":"ROUND('3D Interpolace'!T18,2)","v":37.99},{"$f":"ROUND('3D Interpolace'!U18,2)","v":37.76},{"$f":"ROUND('3D Interpolace'!V18,2)","v":37.49},{"$f":"ROUND('3D Interpolace'!W18,2)","v":37.18},{"$f":"ROUND('3D Interpolace'!X18,2)","v":36.82},{"$f":"ROUND('3D Interpolace'!Y18,2)","v":36.380000000000003},{"$f":"ROUND('3D Interpolace'!Z18,2)","v":35.909999999999997},{"$f":"ROUND('3D Interpolace'!AA18,2)","v":35.47},{"$f":"ROUND('3D Interpolace'!AB18,2)","v":35.1},{"$f":"ROUND('3D Interpolace'!AC18,2)","v":34.78},{"$f":"ROUND('3D Interpolace'!AD18,2)","v":34.49},{"$f":"ROUND('3D Interpolace'!AE18,2)","v":34.25},{"$f":"ROUND('3D Interpolace'!AF18,2)","v":34.08},{"$f":"ROUND('3D Interpolace'!AG18,2)","v":34.01},{"$f":"ROUND('3D Interpolace'!AH18,2)","v":34.090000000000003},{"$f":"ROUND('3D Interpolace'!AI18,2)","v":34.33},{"$f":"ROUND('3D Interpolace'!AJ18,2)","v":34.61},{"$f":"ROUND('3D Interpolace'!AK18,2)","v":34.83},{"$f":"ROUND('3D Interpolace'!AL18,2)","v":34.9},{"$f":"ROUND('3D Interpolace'!AM18,2)","v":34.79},{"$f":"ROUND('3D Interpolace'!AN18,2)","v":34.56},{"$f":"ROUND('3D Interpolace'!AO18,2)","v":34.26},{"$f":"ROUND('3D Interpolace'!AP18,2)","v":33.93},{"$f":"ROUND('3D Interpolace'!AQ18,2)","v":33.64},{"$f":"ROUND('3D Interpolace'!AR18,2)","v":33.35},{"$f":"ROUND('3D Interpolace'!AS18,2)","v":33.03},{"$f":"ROUND('3D Interpolace'!AT18,2)","v":32.71},{"$f":"ROUND('3D Interpolace'!AU18,2)","v":32.450000000000003},{"$f":"ROUND('3D Interpolace'!AV18,2)","v":32.26},{"$f":"ROUND('3D Interpolace'!AW18,2)","v":32.159999999999997},{"$f":"ROUND('3D Interpolace'!AX18,2)","v":32.119999999999997},{"$f":"ROUND('3D Interpolace'!AY18,2)","v":32.14},{"$f":"ROUND('3D Interpolace'!AZ18,2)","v":32.21},{"$f":"ROUND('3D Interpolace'!BA18,2)","v":32.340000000000003},null,1.4,15,null,null,null,null,null,null,null,null,null,null,null,null,null,null,null,null,null,null,null,null,null,null,null,null,null,null,null,null,null,null,null,null,null,null,null,null,null,null,null,null,null,1.4,null,1.4,15,37.35,37.68,37.93,38.1,38.19,38.22,38.15,37.99,37.76,37.49,37.18,36.82,36.380000000000003,35.909999999999997,35.47,35.1,34.78,34.49,34.25,34.08,34.01,34.090000000000003,34.33,34.61,34.83,34.9,34.79,34.56,34.26,33.93,33.64,33.35,33.03,32.71,32.450000000000003,32.26,32.159999999999997,32.119999999999997,32.14,32.21,32.340000000000003,1.4,null,1.2999999999999998,14,37.78,38.049999999999997,38.26,38.39,38.46,38.450000000000003,38.35,38.17,37.93,37.65,37.35,37.01,36.619999999999997,36.21,35.82,35.49,35.21,34.950000000000003,34.729999999999997,34.57,34.5,34.5,34.58,34.79,35.04,35.229999999999997,35.270000000000003,35.130000000000003,34.880000000000003,34.54,34.17,33.799999999999997,33.380000000000003,32.89,32.39,31.96,31.67,31.52,31.45,31.47,31.59,31.79,null,null,null,1.2999999999999998,14,0,0,0,0,0,0,0,0,0,0,0,0,0,0,0,0,0,0,0,0,0,0,0,0,0,0,0,0,0,0,0,0,0,0,0,0,0,0,0,0,0,0,1.2999999999999998,null,null,null,14,40.5,40.5,40.5,40.5,40.5,40.5,40.5,40.5,40.5,40.5,40.5,40.5,40.5,40.5,40.5,40.5,40.5,40.5,40.5,40.5,40.5,41.031746031746025,40.753968253968246,40.476190476190474,40.198412698412696,39.920634920634917,39.642857142857139,39.36507936507936,39.087301587301582,38.809523809523803,38.531746031746025,38.253968253968246,37.976190476190467,37.698412698412696,37.42063492063491,37.142857142857139,36.86507936507936,36.587301587301582,36.309523809523803,36.031746031746025,35.753968253968246,35.476190476190467,1.2999999999999998,null,null,null,null,null,1.2999999999999998,14,2.7199999999999989,2.4500000000000028,2.240000000000002,2.1099999999999994,2.0399999999999991,2.0499999999999972,2.1499999999999986,2.3299999999999983,2.5700000000000003,2.8500000000000014,3.1499999999999986,3.490000000000002,3.8800000000000026,4.2899999999999991,4.68,5.009999999999998,5.2899999999999991,5.5499999999999972,5.7700000000000031,5.93,6,6.5317460317460245,6.1739682539682477,5.6861904761904754,5.1584126984126968,4.6906349206349205,4.3728571428571357,4.2350793650793577,4.2073015873015791,4.2695238095238039,4.3617460317460228,4.4539682539682488,4.5961904761904648,4.8084126984126954,5.0306349206349097,5.1828571428571379,5.1950793650793585,5.0673015873015821,4.8595238095238038,4.5617460317460257,4.1639682539682461,3.6861904761904682,null,null,null,null,null,null,null,1.4,15,3.9024999999999999,3.5975000000000001,3.3724999999999987,3.2274999999999991,3.1575000000000006,3.1725000000000012,3.2825000000000006,3.4725000000000001,3.7200000000000006,4.0075000000000003,4.3375000000000004,4.7324999999999999,5.1775000000000002,5.6225000000000005,6.02,6.3549999999999986,6.6499999999999986,6.9049999999999994,7.1,7.2125000000000004,8.164285714285711,7.719007936507932,7.1737301587301552,6.6334523809523773,6.1956746031745986,5.9203968253968213,5.7926190476190449,5.7548412698412683,5.7620634920634917,5.7642857142857125,5.7440079365079324,5.7312301587301544,5.7259523809523767,5.6956746031745968,5.6128968253968203,5.4626190476190448,5.2498412698412675,4.9870634920634895,4.6767857142857103,4.3190079365079317,null,null,1.4,15,5.27,5.27,5.27,5.27,5.27,5.27,5.27,5.27,5.27,1.68,1.68,1.68,1.68,1.68,0.56999999999999995,0.56999999999999995,0.56999999999999995,0.56999999999999995,0.56999999999999995,0.56999999999999995,0.19,0.56999999999999995,0.56999999999999995,0.56999999999999995,0.56999999999999995,1.68,1.68,1.68,1.68,1.68,1.68,1.68,1.68,1.68,1.68,1.68,1.68,1.68,1.68,1.68,null,null,1.4,15,-17.72,-17.72,-17.72,-17.72,-17.72,-17.72,-17.72,-17.72,-17.72,-21.31,-21.31,-21.31,-21.31,-21.31,-22.419999999999998,-22.419999999999998,-22.419999999999998,-4.6999999999999993,-4.6999999999999993,-4.6999999999999993,-5.0799999999999992,-22.419999999999998,-22.419999999999998,-22.419999999999998,-22.419999999999998,-21.31,-21.31,-21.31,-21.31,-21.31,-3.59,-3.59,-3.59,-3.59,-3.59,-3.59,-21.31,-21.31,-21.31,-21.31,null,null,1.4,15,0,0,0,0,0,0,0,0,0,0,0,0,0,0,0,0,0,0,0,0,0,0,0,0,0,0,0,0,0,0,0,0,0,0,0,0,0,0,0,0,0,1.4,null,1.4,15,0,0,0,0,0,0,0,0,0,0,0,0,0,0,0,0,0,0,0,0,0,0,0,0,0,0,0,0,0,0,0,0,0,0,0,0,0,0,0,0,0,1.4,null,1.4,15,1,0,0,0,0,0,0,0,0,0,0,0,0,0,0,0,0,0,0,0,1,0,0,0,0,0,0,0,0,0,0,0,0,0,0,0,0,0,0,0,1,1.4,null,1.4,15,37.35,0,0,0,0,0,0,0,0,0,0,0,0,0,0,0,0,0,0,0,34.01,0,0,0,0,0,0,0,0,0,0,0,0,0,0,0,0,0,0,0,32.340000000000003,1.4,null,1.2999999999999998,14,1,1,1,1,1,1,1,1,1,1,1,1,1,1,1,1,1,1,1,1,1,3,3,3,3,3,3,3,3,3,3,3,3,3,3,3,3,3,3,3,3,3,1.2999999999999998,null,1.2999999999999998,14,0,0,0,0,0,0,0,0,0,0,0,0,0,0,0,0,0,0,0,0,0,0,0,0,0,0,0,0,0,0,0,0,0,0,0,0,0,0,0,0,0,0,1.2999999999999998,null,1.2999999999999998,14,{"$f":"RANK(#REF!,$ER$14:$FL$24,0)","v":{"$error":"#REF!"}},{"$error":"#N/A"},{"$error":"#N/A"},{"$error":"#N/A"},{"$error":"#N/A"},{"$error":"#N/A"},{"$error":"#N/A"},{"$error":"#N/A"},{"$error":"#N/A"},{"$error":"#N/A"},{"$error":"#N/A"},{"$error":"#N/A"},{"$error":"#N/A"},{"$error":"#N/A"},{"$error":"#N/A"},{"$error":"#N/A"},{"$error":"#N/A"},{"$error":"#N/A"},{"$error":"#N/A"},{"$error":"#N/A"},{"$error":"#N/A"},58,58,58,58,58,58,58,58,58,58,58,58,58,58,58,58,58,58,58,58,58,1.2999999999999998]
[null,2000,{"$f":"B18/500+1","v":5},null,"Bod A",3500,6000,32,null,null,null,null,"4",{"$f":"ROUND('3D Interpolace'!M19,2)","v":37},{"$f":"ROUND('3D Interpolace'!N19,2)","v":37.36},{"$f":"ROUND('3D Interpolace'!O19,2)","v":37.64},{"$f":"ROUND('3D Interpolace'!P19,2)","v":37.840000000000003},{"$f":"ROUND('3D Interpolace'!Q19,2)","v":37.96},{"$f":"ROUND('3D Interpolace'!R19,2)","v":38},{"$f":"ROUND('3D Interpolace'!S19,2)","v":37.94},{"$f":"ROUND('3D Interpolace'!T19,2)","v":37.79},{"$f":"ROUND('3D Interpolace'!U19,2)","v":37.57},{"$f":"ROUND('3D Interpolace'!V19,2)","v":37.299999999999997},{"$f":"ROUND('3D Interpolace'!W19,2)","v":37},{"$f":"ROUND('3D Interpolace'!X19,2)","v":36.65},{"$f":"ROUND('3D Interpolace'!Y19,2)","v":36.22},{"$f":"ROUND('3D Interpolace'!Z19,2)","v":35.78},{"$f":"ROUND('3D Interpolace'!AA19,2)","v":35.35},{"$f":"ROUND('3D Interpolace'!AB19,2)","v":35},{"$f":"ROUND('3D Interpolace'!AC19,2)","v":34.700000000000003},{"$f":"ROUND('3D Interpolace'!AD19,2)","v":34.43},{"$f":"ROUND('3D Interpolace'!AE19,2)","v":34.21},{"$f":"ROUND('3D Interpolace'!AF19,2)","v":34.06},{"$f":"ROUND('3D Interpolace'!AG19,2)","v":34},{"$f":"ROUND('3D Interpolace'!AH19,2)","v":34.1},{"$f":"ROUND('3D Interpolace'!AI19,2)","v":34.35},{"$f":"ROUND('3D Interpolace'!AJ19,2)","v":34.65},{"$f":"ROUND('3D Interpolace'!AK19,2)","v":34.9},{"$f":"ROUND('3D Interpolace'!AL19,2)","v":35},{"$f":"ROUND('3D Interpolace'!AM19,2)","v":34.93},{"$f":"ROUND('3D Interpolace'!AN19,2)","v":34.74},{"$f":"ROUND('3D Interpolace'!AO19,2)","v":34.5},{"$f":"ROUND('3D Interpolace'!AP19,2)","v":34.229999999999997},{"$f":"ROUND('3D Interpolace'!AQ19,2)","v":34},{"$f":"ROUND('3D Interpolace'!AR19,2)","v":33.78},{"$f":"ROUND('3D Interpolace'!AS19,2)","v":33.549999999999997},{"$f":"ROUND('3D Interpolace'!AT19,2)","v":33.33},{"$f":"ROUND('3D Interpolace'!AU19,2)","v":33.14},{"$f":"ROUND('3D Interpolace'!AV19,2)","v":33},{"$f":"ROUND('3D Interpolace'!AW19,2)","v":32.92},{"$f":"ROUND('3D Interpolace'!AX19,2)","v":32.880000000000003},{"$f":"ROUND('3D Interpolace'!AY19,2)","v":32.880000000000003},{"$f":"ROUND('3D Interpolace'!AZ19,2)","v":32.92},{"$f":"ROUND('3D Interpolace'!BA19,2)","v":33},null,1.5,16,null,null,null,null,null,null,null,null,null,null,null,null,null,null,null,null,null,null,null,null,null,null,null,null,null,null,null,null,null,null,null,null,null,null,null,null,null,null,null,null,null,1.5,null,1.5,16,37,37.36,37.64,37.840000000000003,37.96,38,37.94,37.79,37.57,37.299999999999997,37,36.65,36.22,35.78,35.35,35,34.700000000000003,34.43,34.21,34.06,34,34.1,34.35,34.65,34.9,35,34.93,34.74,34.5,34.229999999999997,34,33.78,33.549999999999997,33.33,33.14,33,32.92,32.880000000000003,32.880000000000003,32.92,33,1.5,null,1.4,15,37.35,37.68,37.93,38.1,38.19,38.22,38.15,37.99,37.76,37.49,37.18,36.82,36.380000000000003,35.909999999999997,35.47,35.1,34.78,34.49,34.25,34.08,34.01,34.01,34.090000000000003,34.33,34.61,34.83,34.9,34.79,34.56,34.26,33.93,33.64,33.35,33.03,32.71,32.450000000000003,32.26,32.159999999999997,32.119999999999997,32.14,32.21,32.340000000000003,null,null,null,1.4,15,0,0,0,0,0,0,0,0,0,0,0,0,0,0,0,0,0,0,0,0,0,0,0,0,0,0,0,0,0,0,0,0,0,0,0,0,0,0,0,0,0,0,1.4,null,null,null,15,41,41,41,41,41,41,41,41,41,41,41,41,41,41,41,41,41,41,41,41,41,41.912698412698411,41.634920634920633,41.357142857142854,41.079365079365076,40.801587301587297,40.523809523809518,40.24603174603174,39.968253968253968,39.69047619047619,39.412698412698411,39.134920634920633,38.857142857142854,38.579365079365076,38.301587301587297,38.023809523809518,37.74603174603174,37.468253968253961,37.19047619047619,36.912698412698411,36.634920634920633,36.357142857142854,1.4,null,null,null,null,null,1.4,15,3.6499999999999986,3.3200000000000003,3.0700000000000003,2.8999999999999986,2.8100000000000023,2.7800000000000011,2.8500000000000014,3.009999999999998,3.240000000000002,3.509999999999998,3.8200000000000003,4.18,4.6199999999999974,5.0900000000000034,5.5300000000000011,5.8999999999999986,6.2199999999999989,6.509999999999998,6.75,6.9200000000000017,6.990000000000002,7.9026984126984132,7.5449206349206293,7.0271428571428558,6.4693650793650761,5.9715873015872987,5.6238095238095198,5.4560317460317407,5.4082539682539661,5.4304761904761918,5.4826984126984115,5.4949206349206321,5.5071428571428527,5.5493650793650744,5.5915873015872961,5.5738095238095156,5.4860317460317418,5.3082539682539647,5.0704761904761924,4.7726984126984107,4.4249206349206318,4.0171428571428507,null,null,null,null,null,null,null,1.5,16,2.7099999999999991,2.375,2.1224999999999987,1.9524999999999988,1.8650000000000002,1.870000000000001,1.9825000000000017,2.1799999999999997,2.4299999999999997,2.7075000000000014,3.0075000000000003,3.3499999999999996,3.7274999999999991,4.0999999999999979,4.4299999999999979,4.7024999999999988,4.9350000000000005,5.1325000000000003,5.2774999999999981,5.3499999999999979,5.6577380952380896,4.2074603174603116,4.669682539682535,5.1319047619047566,4.6791269841269774,4.3638492063492009,4.171071428571425,4.0557936507936478,3.9805158730158698,3.9102380952380908,3.8399603174603119,3.7896825396825342,3.7544047619047571,3.7066269841269772,3.6163492063491987,3.4660714285714231,3.2632936507936456,3.0205158730158672,2.7377380952380896,2.4149603174603129,null,null,1.5,16,5.27,5.27,5.27,22.99,22.99,22.99,22.99,5.27,5.27,5.27,5.27,5.27,5.27,1.68,1.68,1.68,1.68,1.68,1.68,1.68,1.68,1.68,1.68,1.68,1.68,1.68,1.68,1.68,5.27,5.27,5.27,5.27,5.27,5.27,5.27,5.27,5.27,5.27,5.27,5.27,null,null,1.5,16,4.6999999999999993,3.59,3.59,21.31,21.31,21.31,21.31,3.59,3.59,3.59,3.59,3.59,4.6999999999999993,1.1099999999999999,1.1099999999999999,1.49,1.49,1.49,1.6199999999999999,1.6199999999999999,1.1099999999999999,0,0,0,0,0,0,0,3.59,3.59,0,0,0,3.59,3.59,0,0,0,0,0,null,null,1.5,16,0,0,0,0,0,0,0,0,0,0,0,0,0,0,0,0,0,0,0,0,0,0,0,0,0,0,0,0,0,0,0,0,0,0,0,0,0,0,0,0,0,1.5,null,1.5,16,0,0,0,0,0,0,0,0,0,0,0,0,0,0,0,0,0,0,0,0,0,0,0,0,0,0,0,0,0,0,0,0,0,0,0,0,0,0,0,0,0,1.5,null,1.5,16,1,0,0,0,0,0,0,0,0,0,0,0,0,0,0,0,0,0,0,0,1,0,0,0,0,0,0,0,0,0,0,0,0,0,0,0,0,0,0,0,1,1.5,null,1.5,16,37,0,0,0,0,0,0,0,0,0,0,0,0,0,0,0,0,0,0,0,34,0,0,0,0,0,0,0,0,0,0,0,0,0,0,0,0,0,0,0,33,1.5,null,1.4,15,1,1,1,1,1,1,1,1,1,1,1,1,1,1,1,1,1,1,1,1,1,3,3,3,3,3,3,3,3,3,3,3,3,3,3,3,3,3,3,3,3,3,1.4,null,1.4,15,0,0,0,0,0,0,0,0,0,0,0,0,0,0,0,0,0,0,0,0,0,0,0,0,0,0,0,0,0,0,0,0,0,0,0,0,0,0,0,0,0,0,1.4,null,1.4,15,{"$f":"RANK(#REF!,$ER$14:$FL$24,0)","v":{"$error":"#REF!"}},{"$error":"#N/A"},{"$error":"#N/A"},{"$error":"#N/A"},{"$error":"#N/A"},{"$error":"#N/A"},{"$error":"#N/A"},{"$error":"#N/A"},{"$error":"#N/A"},{"$error":"#N/A"},{"$error":"#N/A"},{"$error":"#N/A"},{"$error":"#N/A"},{"$error":"#N/A"},{"$error":"#N/A"},{"$error":"#N/A"},{"$error":"#N/A"},{"$error":"#N/A"},{"$error":"#N/A"},{"$error":"#N/A"},{"$error":"#N/A"},58,58,58,58,58,58,58,58,58,58,58,58,58,58,58,58,58,58,58,58,58,1.4]
[null,1000,{"$f":"B19/500+1","v":3},null,"Bod B",4000,5500,34,null,null,null,null,"4A",{"$f":"ROUND('3D Interpolace'!M20,2)","v":36.700000000000003},{"$f":"ROUND('3D Interpolace'!N20,2)","v":37.1},{"$f":"ROUND('3D Interpolace'!O20,2)","v":37.4},{"$f":"ROUND('3D Interpolace'!P20,2)","v":37.630000000000003},{"$f":"ROUND('3D Interpolace'!Q20,2)","v":37.76},{"$f":"ROUND('3D Interpolace'!R20,2)","v":37.82},{"$f":"ROUND('3D Interpolace'!S20,2)","v":37.76},{"$f":"ROUND('3D Interpolace'!T20,2)","v":37.58},{"$f":"ROUND('3D Interpolace'!U20,2)","v":37.340000000000003},{"$f":"ROUND('3D Interpolace'!V20,2)","v":37.07},{"$f":"ROUND('3D Interpolace'!W20,2)","v":36.799999999999997},{"$f":"ROUND('3D Interpolace'!X20,2)","v":36.520000000000003},{"$f":"ROUND('3D Interpolace'!Y20,2)","v":36.21},{"$f":"ROUND('3D Interpolace'!Z20,2)","v":35.880000000000003},{"$f":"ROUND('3D Interpolace'!AA20,2)","v":35.590000000000003},{"$f":"ROUND('3D Interpolace'!AB20,2)","v":35.340000000000003},{"$f":"ROUND('3D Interpolace'!AC20,2)","v":35.15},{"$f":"ROUND('3D Interpolace'!AD20,2)","v":34.979999999999997},{"$f":"ROUND('3D Interpolace'!AE20,2)","v":34.85},{"$f":"ROUND('3D Interpolace'!AF20,2)","v":34.770000000000003},{"$f":"ROUND('3D Interpolace'!AG20,2)","v":34.770000000000003},{"$f":"ROUND('3D Interpolace'!AH20,2)","v":34.880000000000003},{"$f":"ROUND('3D Interpolace'!AI20,2)","v":35.11},{"$f":"ROUND('3D Interpolace'!AJ20,2)","v":35.369999999999997},{"$f":"ROUND('3D Interpolace'!AK20,2)","v":35.6},{"$f":"ROUND('3D Interpolace'!AL20,2)","v":35.72},{"$f":"ROUND('3D Interpolace'!AM20,2)","v":35.72},{"$f":"ROUND('3D Interpolace'!AN20,2)","v":35.64},{"$f":"ROUND('3D Interpolace'!AO20,2)","v":35.5},{"$f":"ROUND('3D Interpolace'!AP20,2)","v":35.340000000000003},{"$f":"ROUND('3D Interpolace'!AQ20,2)","v":35.17},{"$f":"ROUND('3D Interpolace'!AR20,2)","v":34.96},{"$f":"ROUND('3D Interpolace'!AS20,2)","v":34.71},{"$f":"ROUND('3D Interpolace'!AT20,2)","v":34.44},{"$f":"ROUND('3D Interpolace'!AU20,2)","v":34.200000000000003},{"$f":"ROUND('3D Interpolace'!AV20,2)","v":34.020000000000003},{"$f":"ROUND('3D Interpolace'!AW20,2)","v":33.909999999999997},{"$f":"ROUND('3D Interpolace'!AX20,2)","v":33.840000000000003},{"$f":"ROUND('3D Interpolace'!AY20,2)","v":33.81},{"$f":"ROUND('3D Interpolace'!AZ20,2)","v":33.82},{"$f":"ROUND('3D Interpolace'!BA20,2)","v":33.869999999999997},null,1.6,17,4,4,4,4,4,4,4,4,4,4,4,4,4,4,4,4,4,4,4,4,4,8,8,4,4,4,4,4,4,4,4,4,4,4,4,4,4,4,4,4,4,1.6,null,1.6,17,40.700000000000003,41.1,41.4,41.63,41.76,41.82,41.76,41.58,41.34,41.07,40.799999999999997,40.520000000000003,40.21,39.880000000000003,39.590000000000003,39.340000000000003,39.15,38.979999999999997,38.85,38.770000000000003,38.770000000000003,42.88,43.11,39.369999999999997,39.6,39.72,39.72,39.64,39.5,39.340000000000003,39.17,38.96,38.71,38.44,38.200000000000003,38.020000000000003,37.909999999999997,37.840000000000003,37.81,37.82,37.869999999999997,1.6,null,1.5,16,37,37.36,37.64,37.840000000000003,37.96,38,37.94,37.79,37.57,37.299999999999997,37,36.65,36.22,35.78,35.35,35,34.700000000000003,34.43,34.21,34.06,34,34,34.1,34.35,34.65,34.9,35,34.93,34.74,34.5,34.229999999999997,34,33.78,33.549999999999997,33.33,33.14,33,32.92,32.880000000000003,32.880000000000003,32.92,33,null,null,null,1.5,16,37,0,0,0,0,38,0,0,0,0,37,0,0,0,0,35,0,0,0,0,34,34,0,0,0,0,35,0,0,0,0,34,0,0,0,0,33,0,0,0,0,33,1.5,null,null,null,16,41.5,41.5,41.5,41.5,41.5,41.5,41.5,41.5,41.5,41.5,41.5,41.5,41.5,41.5,41.5,41.5,41.5,41.5,41.5,41.5,41.5,42.793650793650791,42.515873015873012,42.238095238095234,41.960317460317455,41.682539682539677,41.404761904761898,41.126984126984127,40.849206349206348,40.571428571428569,40.293650793650791,40.015873015873012,39.738095238095234,39.460317460317455,39.182539682539677,38.904761904761898,38.626984126984127,38.349206349206348,38.071428571428569,37.793650793650791,37.515873015873012,37.238095238095234,1.5,null,null,null,null,null,1.5,16,4.5,4.1400000000000006,3.8599999999999994,3.6599999999999966,3.5399999999999991,3.5,3.5600000000000023,3.7100000000000009,3.9299999999999997,4.2000000000000028,4.5,4.8500000000000014,5.2800000000000011,5.7199999999999989,6.1499999999999986,6.5,6.7999999999999972,7.07,7.2899999999999991,7.4399999999999977,7.5,8.7936507936507908,8.4158730158730108,7.8880952380952323,7.3103174603174566,6.782539682539678,6.404761904761898,6.1969841269841268,6.109206349206346,6.0714285714285694,6.063650793650794,6.0158730158730123,5.9580952380952326,5.910317460317458,5.8525396825396783,5.7647619047618974,5.6269841269841265,5.4292063492063463,5.1914285714285668,4.9136507936507883,4.5958730158730106,4.2380952380952337,null,null,null,null,null,null,null,1.5999999999999999,17,1.4774999999999991,1.1125000000000007,0.83750000000000036,0.64749999999999908,0.54499999999999993,0.54750000000000121,0.67750000000000199,0.90499999999999936,1.1699999999999982,1.4275000000000002,1.6600000000000001,1.8825000000000003,2.1074999999999999,2.3149999999999977,2.4874999999999972,2.6174999999999997,2.7125000000000021,2.7775000000000016,2.8074999999999992,2.7949999999999982,2.4436904761904703,8.4126984126946525E-3,1.520634920634917,3.0353571428571371,2.6025793650793592,2.2473015873015818,1.9495238095238054,1.6992460317460285,1.493968253968248,1.3311904761904696,1.2334126984126943,1.2181349206349168,1.257857142857139,1.2975793650793594,1.2873015873015792,1.1945238095238029,1.0367460317460271,0.83396825396824958,0.58619047619047038,0.29341269841269479,null,null,1.5999999999999999,17,22.99,22.99,22.99,22.99,22.99,22.99,22.99,22.99,22.99,22.99,22.99,22.99,5.27,5.27,5.27,5.27,5.27,5.27,5.27,5.27,5.27,22.99,22.99,5.27,5.27,5.27,22.99,22.99,22.99,22.99,22.99,22.99,22.99,22.99,22.99,22.99,22.99,22.99,22.99,22.99,null,null,1.5999999999999999,17,17.72,17.72,0,0,0,0,0,0,0,0,0,17.72,0,0,0,3.59,3.59,3.59,3.59,4.6999999999999993,0,0,0,0,0,0,0,0,0,0,0,0,0,0,0,0,0,0,0,0,null,null,1.6,17,0,0,0,0,0,41.82,0,0,0,0,0,0,0,0,0,0,0,0,0,0,0,0,0,0,0,0,0,0,0,0,0,0,0,0,0,0,0,0,0,0,0,1.6,null,1.6,17,0,0,0,0,0,0,0,0,0,0,0,0,0,0,0,0,0,0,0,0,0,0,0,0,0,0,0,0,0,0,0,0,0,0,0,0,0,0,0,0,0,1.6,null,1.6,17,1,0,0,0,0,0,0,0,0,0,0,0,0,0,0,0,0,0,0,0,1,0,0,0,0,0,0,0,0,0,0,0,0,0,0,0,0,0,0,0,1,1.6,null,1.6,17,40.700000000000003,0,0,0,0,41.82,0,0,0,0,0,0,0,0,0,0,0,0,0,0,38.770000000000003,0,0,0,0,0,0,0,0,0,0,0,0,0,0,0,0,0,0,0,37.869999999999997,1.6,null,1.5,16,1,1,1,1,1,1,1,1,1,1,1,1,1,1,1,1,1,1,1,1,1,3,3,3,3,3,3,3,3,3,3,3,3,3,3,3,3,3,3,3,3,3,1.5,null,1.5,16,0,0,0,0,0,0,0,0,0,0,0,0,0,0,0,0,0,0,0,0,0,0,0,0,0,0,0,0,0,0,0,0,0,0,0,0,0,0,0,0,0,0,1.5,null,1.5,16,{"$f":"RANK(#REF!,$ER$14:$FL$24,0)","v":{"$error":"#REF!"}},{"$error":"#N/A"},{"$error":"#N/A"},{"$error":"#N/A"},{"$error":"#N/A"},{"$error":"#N/A"},{"$error":"#N/A"},{"$error":"#N/A"},{"$error":"#N/A"},{"$error":"#N/A"},{"$error":"#N/A"},{"$error":"#N/A"},{"$error":"#N/A"},{"$error":"#N/A"},{"$error":"#N/A"},{"$error":"#N/A"},{"$error":"#N/A"},{"$error":"#N/A"},{"$error":"#N/A"},{"$error":"#N/A"},{"$error":"#N/A"},58,58,58,58,58,58,58,58,58,58,58,58,58,58,58,58,58,58,58,58,58,1.5]
[null,null,null,null,"Bod C",3000,5500,36,null,null,null,null,"4B",{"$f":"ROUND('3D Interpolace'!M21,2)","v":36.43},{"$f":"ROUND('3D Interpolace'!N21,2)","v":36.86},{"$f":"ROUND('3D Interpolace'!O21,2)","v":37.19},{"$f":"ROUND('3D Interpolace'!P21,2)","v":37.43},{"$f":"ROUND('3D Interpolace'!Q21,2)","v":37.590000000000003},{"$f":"ROUND('3D Interpolace'!R21,2)","v":37.65},{"$f":"ROUND('3D Interpolace'!S21,2)","v":37.58},{"$f":"ROUND('3D Interpolace'!T21,2)","v":37.369999999999997},{"$f":"ROUND('3D Interpolace'!U21,2)","v":37.090000000000003},{"$f":"ROUND('3D Interpolace'!V21,2)","v":36.82},{"$f":"ROUND('3D Interpolace'!W21,2)","v":36.6},{"$f":"ROUND('3D Interpolace'!X21,2)","v":36.44},{"$f":"ROUND('3D Interpolace'!Y21,2)","v":36.299999999999997},{"$f":"ROUND('3D Interpolace'!Z21,2)","v":36.18},{"$f":"ROUND('3D Interpolace'!AA21,2)","v":36.090000000000003},{"$f":"ROUND('3D Interpolace'!AB21,2)","v":36.03},{"$f":"ROUND('3D Interpolace'!AC21,2)","v":36.01},{"$f":"ROUND('3D Interpolace'!AD21,2)","v":36.01},{"$f":"ROUND('3D Interpolace'!AE21,2)","v":36.049999999999997},{"$f":"ROUND('3D Interpolace'!AF21,2)","v":36.1},{"$f":"ROUND('3D Interpolace'!AG21,2)","v":36.18},{"$f":"ROUND('3D Interpolace'!AH21,2)","v":36.299999999999997},{"$f":"ROUND('3D Interpolace'!AI21,2)","v":36.47},{"$f":"ROUND('3D Interpolace'!AJ21,2)","v":36.65},{"$f":"ROUND('3D Interpolace'!AK21,2)","v":36.81},{"$f":"ROUND('3D Interpolace'!AL21,2)","v":36.92},{"$f":"ROUND('3D Interpolace'!AM21,2)","v":37},{"$f":"ROUND('3D Interpolace'!AN21,2)","v":37.08},{"$f":"ROUND('3D Interpolace'!AO21,2)","v":37.11},{"$f":"ROUND('3D Interpolace'!AP21,2)","v":37.090000000000003},{"$f":"ROUND('3D Interpolace'!AQ21,2)","v":36.979999999999997},{"$f":"ROUND('3D Interpolace'!AR21,2)","v":36.75},{"$f":"ROUND('3D Interpolace'!AS21,2)","v":36.39},{"$f":"ROUND('3D Interpolace'!AT21,2)","v":36},{"$f":"ROUND('3D Interpolace'!AU21,2)","v":35.630000000000003},{"$f":"ROUND('3D Interpolace'!AV21,2)","v":35.35},{"$f":"ROUND('3D Interpolace'!AW21,2)","v":35.18},{"$f":"ROUND('3D Interpolace'!AX21,2)","v":35.049999999999997},{"$f":"ROUND('3D Interpolace'!AY21,2)","v":34.979999999999997},{"$f":"ROUND('3D Interpolace'!AZ21,2)","v":34.950000000000003},{"$f":"ROUND('3D Interpolace'!BA21,2)","v":34.979999999999997},null,1.7,18,4,4,4,4,4,4,4,4,4,4,4,4,4,4,4,4,4,4,4,4,4,8,8,4,4,4,4,4,4,4,4,4,4,4,4,4,4,4,4,4,4,1.7,null,1.7,18,40.43,40.86,41.19,41.43,41.59,41.65,41.58,41.37,41.09,40.82,40.6,40.44,40.299999999999997,40.18,40.090000000000003,40.03,40.01,40.01,40.049999999999997,40.1,40.18,44.3,44.47,40.65,40.81,40.92,41,41.08,41.11,41.09,40.98,40.75,40.39,40,39.630000000000003,39.35,39.18,39.049999999999997,38.979999999999997,38.950000000000003,38.979999999999997,1.7,null,1.5999999999999999,17,40.700000000000003,41.1,41.4,41.63,41.76,41.82,41.76,41.58,41.34,41.07,40.799999999999997,40.520000000000003,40.21,39.880000000000003,39.590000000000003,39.340000000000003,39.15,38.979999999999997,38.85,38.770000000000003,38.770000000000003,38.770000000000003,42.88,43.11,39.369999999999997,39.6,39.72,39.72,39.64,39.5,39.340000000000003,39.17,38.96,38.71,38.44,38.200000000000003,38.020000000000003,37.909999999999997,37.840000000000003,37.81,37.82,37.869999999999997,null,null,null,1.5999999999999999,17,40.700000000000003,0,0,0,0,41.82,0,0,0,0,40.799999999999997,0,0,0,0,39.340000000000003,0,0,0,0,38.770000000000003,38.770000000000003,42.88,43.11,0,0,39.72,0,0,0,0,39.17,0,0,0,0,38.020000000000003,0,0,0,0,37.869999999999997,1.5999999999999999,null,null,null,17,42,42,42,42,42,42,42,42,42,42,42,42,42,42,42,42,42,42,42,42,42,43.67460317460317,43.396825396825392,43.119047619047613,42.841269841269835,42.563492063492056,42.285714285714278,42.007936507936499,41.730158730158728,41.452380952380949,41.17460317460317,40.896825396825392,40.619047619047613,40.341269841269835,40.063492063492056,39.785714285714278,39.507936507936499,39.23015873015872,38.952380952380949,38.67460317460317,38.396825396825392,38.119047619047613,1.5999999999999999,null,null,null,null,null,1.5999999999999999,17,1.2999999999999972,0.89999999999999858,0.60000000000000142,0.36999999999999744,0.24000000000000199,0.17999999999999972,0.24000000000000199,0.42000000000000171,0.65999999999999659,0.92999999999999972,1.2000000000000028,1.4799999999999969,1.7899999999999991,2.1199999999999974,2.4099999999999966,2.6599999999999966,2.8500000000000014,3.0200000000000031,3.1499999999999986,3.2299999999999969,3.2299999999999969,4.9046031746031673,0.5168253968253893,9.047619047613864E-3,3.4712698412698373,2.9634920634920547,2.5657142857142787,2.2879365079365002,2.090158730158727,1.952380952380949,1.834603174603167,1.7268253968253902,1.6590476190476124,1.6312698412698339,1.6234920634920584,1.5857142857142748,1.4879365079364959,1.3201587301587239,1.1123809523809456,0.86460317460316816,0.57682539682539158,0.24904761904761585,null,null,null,null,null,null,null,1.7,18,4.2125000000000004,3.8275000000000006,3.5350000000000001,3.33,3.2200000000000006,3.2300000000000004,3.3825000000000003,3.6425000000000001,3.9275000000000002,4.1575000000000006,4.2949999999999999,4.3600000000000012,4.3800000000000008,4.3674999999999979,4.3324999999999978,4.2724999999999991,4.1850000000000005,4.0725000000000016,3.9450000000000003,3.8149999999999995,3.7946428571428505,1.3843650793650752,2.9690873015872974,4.5588095238095185,4.1610317460317425,3.7657539682539642,3.3504761904761864,2.937698412698408,2.5774206349206281,2.3171428571428496,2.2093650793650763,2.2715873015873012,2.4413095238095224,2.6260317460317442,2.7407539682539639,2.7379761904761857,2.6476984126984089,2.4974206349206298,2.2896428571428498,2.0268650793650753,null,null,1.7,18,1.68,5.27,5.27,5.27,5.27,5.27,5.27,5.27,5.27,1.68,1.68,1.68,1.68,1.68,1.68,1.68,1.68,1.68,5.27,5.27,5.27,22.99,5.27,1.68,1.68,5.27,5.27,5.27,5.27,5.27,5.27,5.27,5.27,5.27,5.27,5.27,5.27,5.27,5.27,5.27,null,null,1.7,18,-3.59,0,0,0,-17.72,-17.72,-17.72,-17.72,-17.72,-21.31,-21.31,-3.59,-3.59,-3.59,-3.59,-3.59,0,0,3.59,3.59,0,0,0,0,-3.59,0,0,0,-17.72,-17.72,-17.72,-17.72,-17.72,-17.72,0,0,0,0,-17.72,-17.72,null,null,1.7,18,0,0,0,0,0,0,0,0,0,0,0,0,0,0,0,0,0,0,0,0,0,0,44.47,0,0,0,0,0,41.11,0,0,0,0,0,0,0,0,0,0,0,38.979999999999997,1.7,null,1.7,18,0,0,0,0,0,41.82,0,0,0,0,0,0,0,0,0,0,0,0,0,0,0,0,0,0,0,0,0,0,0,0,0,0,0,0,0,0,0,0,0,0,0,1.7,null,1.7,18,1,0,0,0,0,0,0,0,0,0,0,0,0,0,0,0,0,0,0,0,1,0,0,0,0,0,0,0,0,0,0,0,0,0,0,0,0,0,0,0,1,1.7,null,1.7,18,40.43,0,0,0,0,0,0,0,0,0,0,0,0,0,0,0,0,0,0,0,40.18,0,44.47,0,0,0,0,0,41.11,0,0,0,0,0,0,0,0,0,0,0,38.979999999999997,1.7,null,1.5999999999999999,17,1,1,1,1,1,1,1,1,1,1,1,1,1,1,1,1,1,1,1,1,1,3,3,3,3,3,3,3,3,3,3,3,3,3,3,3,3,3,3,3,3,3,1.5999999999999999,null,1.5999999999999999,17,4,4,4,4,4,4,4,4,4,4,4,4,4,4,4,4,4,4,4,4,4,4,8,8,4,4,4,4,4,4,4,4,4,4,4,4,4,4,4,4,4,4,1.5999999999999999,null,1.5999999999999999,17,{"$f":"RANK(#REF!,$ER$14:$FL$24,0)","v":{"$error":"#REF!"}},{"$error":"#N/A"},{"$error":"#N/A"},{"$error":"#N/A"},{"$error":"#N/A"},{"$error":"#N/A"},{"$error":"#N/A"},{"$error":"#N/A"},{"$error":"#N/A"},{"$error":"#N/A"},{"$error":"#N/A"},{"$error":"#N/A"},{"$error":"#N/A"},{"$error":"#N/A"},{"$error":"#N/A"},{"$error":"#N/A"},{"$error":"#N/A"},{"$error":"#N/A"},{"$error":"#N/A"},{"$error":"#N/A"},{"$error":"#N/A"},58,58,58,58,58,58,58,58,58,58,58,58,58,58,58,58,58,58,58,58,58,1.5999999999999999]
[null,1000,{"$f":"B21/500+1","v":3},null,null,null,null,null,null,null,null,null,"4C",{"$f":"ROUND('3D Interpolace'!M22,2)","v":36.21},{"$f":"ROUND('3D Interpolace'!N22,2)","v":36.65},{"$f":"ROUND('3D Interpolace'!O22,2)","v":36.99},{"$f":"ROUND('3D Interpolace'!P22,2)","v":37.25},{"$f":"ROUND('3D Interpolace'!Q22,2)","v":37.409999999999997},{"$f":"ROUND('3D Interpolace'!R22,2)","v":37.47},{"$f":"ROUND('3D Interpolace'!S22,2)","v":37.380000000000003},{"$f":"ROUND('3D Interpolace'!T22,2)","v":37.14},{"$f":"ROUND('3D Interpolace'!U22,2)","v":36.83},{"$f":"ROUND('3D Interpolace'!V22,2)","v":36.549999999999997},{"$f":"ROUND('3D Interpolace'!W22,2)","v":36.4},{"$f":"ROUND('3D Interpolace'!X22,2)","v":36.380000000000003},{"$f":"ROUND('3D Interpolace'!Y22,2)","v":36.44},{"$f":"ROUND('3D Interpolace'!Z22,2)","v":36.56},{"$f":"ROUND('3D Interpolace'!AA22,2)","v":36.700000000000003},{"$f":"ROUND('3D Interpolace'!AB22,2)","v":36.85},{"$f":"ROUND('3D Interpolace'!AC22,2)","v":37.020000000000003},{"$f":"ROUND('3D Interpolace'!AD22,2)","v":37.22},{"$f":"ROUND('3D Interpolace'!AE22,2)","v":37.43},{"$f":"ROUND('3D Interpolace'!AF22,2)","v":37.64},{"$f":"ROUND('3D Interpolace'!AG22,2)","v":37.82},{"$f":"ROUND('3D Interpolace'!AH22,2)","v":37.950000000000003},{"$f":"ROUND('3D Interpolace'!AI22,2)","v":38.06},{"$f":"ROUND('3D Interpolace'!AJ22,2)","v":38.15},{"$f":"ROUND('3D Interpolace'!AK22,2)","v":38.25},{"$f":"ROUND('3D Interpolace'!AL22,2)","v":38.36},{"$f":"ROUND('3D Interpolace'!AM22,2)","v":38.53},{"$f":"ROUND('3D Interpolace'!AN22,2)","v":38.75},{"$f":"ROUND('3D Interpolace'!AO22,2)","v":38.96},{"$f":"ROUND('3D Interpolace'!AP22,2)","v":39.07},{"$f":"ROUND('3D Interpolace'!AQ22,2)","v":39.020000000000003},{"$f":"ROUND('3D Interpolace'!AR22,2)","v":38.729999999999997},{"$f":"ROUND('3D Interpolace'!AS22,2)","v":38.25},{"$f":"ROUND('3D Interpolace'!AT22,2)","v":37.69},{"$f":"ROUND('3D Interpolace'!AU22,2)","v":37.159999999999997},{"$f":"ROUND('3D Interpolace'!AV22,2)","v":36.770000000000003},{"$f":"ROUND('3D Interpolace'!AW22,2)","v":36.51},{"$f":"ROUND('3D Interpolace'!AX22,2)","v":36.32},{"$f":"ROUND('3D Interpolace'!AY22,2)","v":36.200000000000003},{"$f":"ROUND('3D Interpolace'!AZ22,2)","v":36.14},{"$f":"ROUND('3D Interpolace'!BA22,2)","v":36.14},null,1.8,19,null,null,null,null,null,null,null,null,null,null,null,null,null,null,null,null,null,null,null,null,null,4,4,null,null,null,null,null,null,null,null,null,null,null,null,null,null,null,null,null,null,1.8,null,1.8,19,36.21,36.65,36.99,37.25,37.409999999999997,37.47,37.380000000000003,37.14,36.83,36.549999999999997,36.4,36.380000000000003,36.44,36.56,36.700000000000003,36.85,37.020000000000003,37.22,37.43,37.64,37.82,41.95,42.06,38.15,38.25,38.36,38.53,38.75,38.96,39.07,39.020000000000003,38.729999999999997,38.25,37.69,37.159999999999997,36.770000000000003,36.51,36.32,36.200000000000003,36.14,36.14,1.8,null,1.7,18,40.43,40.86,41.19,41.43,41.59,41.65,41.58,41.37,41.09,40.82,40.6,40.44,40.299999999999997,40.18,40.090000000000003,40.03,40.01,40.01,40.049999999999997,40.1,40.18,40.18,44.3,44.47,40.65,40.81,40.92,41,41.08,41.11,41.09,40.98,40.75,40.39,40,39.630000000000003,39.35,39.18,39.049999999999997,38.979999999999997,38.950000000000003,38.979999999999997,null,null,null,1.7,18,40.43,0,0,0,0,41.65,0,0,0,0,40.6,0,0,0,0,40.03,0,0,0,0,40.18,40.18,44.3,44.47,0,0,40.92,0,0,0,0,40.98,0,0,0,0,39.35,0,0,0,0,38.979999999999997,1.7,null,null,null,18,42.5,42.5,42.5,42.5,42.5,42.5,42.5,42.5,42.5,42.5,42.5,42.5,42.5,42.5,42.5,42.5,42.5,42.5,42.5,42.5,42.5,44.55555555555555,44.277777777777771,44,43.722222222222214,43.444444444444443,43.166666666666664,42.888888888888886,42.611111111111107,42.333333333333329,42.05555555555555,41.777777777777771,41.5,41.222222222222221,40.944444444444443,40.666666666666664,40.388888888888886,40.111111111111107,39.833333333333329,39.55555555555555,39.277777777777771,39,1.7,null,null,null,null,null,1.7,18,2.0700000000000003,1.6400000000000006,1.3100000000000023,1.0700000000000003,0.90999999999999659,0.85000000000000142,0.92000000000000171,1.1300000000000026,1.4099999999999966,1.6799999999999997,1.8999999999999986,2.0600000000000023,2.2000000000000028,2.3200000000000003,2.4099999999999966,2.4699999999999989,2.490000000000002,2.490000000000002,2.4500000000000028,2.3999999999999986,2.3200000000000003,4.3755555555555503,-2.2222222222225696E-2,-0.46999999999999886,3.0722222222222157,2.6344444444444406,2.2466666666666626,1.8888888888888857,1.5311111111111089,1.2233333333333292,0.96555555555554662,0.79777777777777459,0.75,0.83222222222222086,0.94444444444444287,1.0366666666666617,1.0388888888888843,0.93111111111110745,0.78333333333333144,0.57555555555555316,0.32777777777776862,2.0000000000003126E-2,null,null,null,null,null,null,null,1.7999999999999998,19,6.9,6.5175000000000001,6.2249999999999996,6.0225000000000009,5.9150000000000009,5.932500000000001,6.1099999999999994,6.3974999999999991,6.6925000000000008,6.8900000000000006,6.9274999999999984,6.8274999999999988,6.6374999999999993,6.4024999999999981,6.1574999999999989,5.91,5.6449999999999996,5.3624999999999989,5.0824999999999996,4.8350000000000009,5.1355952380952345,2.7253174603174557,4.3525396825396765,5.9897619047618988,5.6069841269841234,5.1667063492063452,4.6514285714285677,4.1086507936507886,3.6258730158730099,3.2930952380952334,3.1928174603174568,3.3400396825396808,3.6422619047619023,3.9744841269841249,4.2142063492063446,4.3039285714285676,4.2811507936507915,4.1833730158730109,4.0180952380952331,3.7828174603174567,null,null,1.7999999999999998,19,0.56999999999999995,0.56999999999999995,0.56999999999999995,0.56999999999999995,1.68,1.68,0.56999999999999995,0.56999999999999995,0.56999999999999995,0.56999999999999995,0.56999999999999995,0.56999999999999995,0.56999999999999995,0.56999999999999995,0.56999999999999995,1.68,1.68,1.68,1.68,1.68,1.68,5.27,1.68,1.68,1.68,1.68,1.68,1.68,5.27,5.27,5.27,5.27,5.27,5.27,1.68,1.68,1.68,1.68,1.68,5.27,null,null,1.7999999999999998,19,-1.1099999999999999,-4.6999999999999993,-4.6999999999999993,-4.6999999999999993,-3.59,-3.59,-4.6999999999999993,-4.6999999999999993,-4.6999999999999993,-4.6999999999999993,-4.6999999999999993,-4.6999999999999993,-4.6999999999999993,-4.6999999999999993,-4.6999999999999993,-3.59,-3.59,-3.59,-3.59,-3.59,0,-17.72,-3.59,0,0,0,-3.59,-3.59,0,-17.72,-17.72,-17.72,0,0,-3.59,-3.59,-3.59,-3.59,-3.59,0,null,null,1.8,19,0,0,0,0,0,0,0,0,0,0,0,0,0,0,0,0,0,0,0,0,0,0,0,0,0,0,0,0,0,0,0,0,0,0,0,0,0,0,0,0,0,1.8,null,1.8,19,0,0,0,0,0,0,0,0,0,0,0,0,0,0,0,0,0,0,0,0,40.18,0,0,44.47,0,0,0,0,0,41.11,0,0,0,0,0,0,0,0,0,0,0,1.8,null,1.8,19,1,0,0,0,0,0,0,0,0,0,0,0,0,0,0,0,0,0,0,0,1,0,0,0,0,0,0,0,0,0,0,0,0,0,0,0,0,0,0,0,1,1.8,null,1.8,19,36.21,0,0,0,0,0,0,0,0,0,0,0,0,0,0,0,0,0,0,0,37.82,0,0,0,0,0,0,0,0,0,0,0,0,0,0,0,0,0,0,0,36.14,1.8,null,1.7,18,1,1,1,1,1,1,1,1,1,1,1,1,1,1,1,1,1,1,1,1,1,3,3,3,3,3,3,3,3,3,3,3,3,3,3,3,3,3,3,3,3,3,1.7,null,1.7,18,4,4,4,4,4,4,4,4,4,4,4,4,4,4,4,4,4,4,4,4,4,4,8,8,4,4,4,4,4,4,4,4,4,4,4,4,4,4,4,4,4,4,1.7,null,1.7,18,{"$f":"RANK(#REF!,$ER$14:$FL$24,0)","v":{"$error":"#REF!"}},{"$error":"#N/A"},{"$error":"#N/A"},{"$error":"#N/A"},{"$error":"#N/A"},{"$error":"#N/A"},{"$error":"#N/A"},{"$error":"#N/A"},{"$error":"#N/A"},{"$error":"#N/A"},{"$error":"#N/A"},{"$error":"#N/A"},{"$error":"#N/A"},{"$error":"#N/A"},{"$error":"#N/A"},{"$error":"#N/A"},{"$error":"#N/A"},{"$error":"#N/A"},{"$error":"#N/A"},{"$error":"#N/A"},{"$error":"#N/A"},58,58,58,58,58,58,58,58,58,58,58,58,58,58,58,58,58,58,58,58,58,1.7]
[null,500,{"$f":"B22/500+1","v":2},null,"AB",{"$f":"(F19-F18)","v":500},{"$f":"(G19-G18)","v":-500},{"$f":"H19-H18","v":2},null,null,null,null,"4D",{"$f":"ROUND('3D Interpolace'!M23,2)","v":36.06},{"$f":"ROUND('3D Interpolace'!N23,2)","v":36.479999999999997},{"$f":"ROUND('3D Interpolace'!O23,2)","v":36.81},{"$f":"ROUND('3D Interpolace'!P23,2)","v":37.049999999999997},{"$f":"ROUND('3D Interpolace'!Q23,2)","v":37.200000000000003},{"$f":"ROUND('3D Interpolace'!R23,2)","v":37.26},{"$f":"ROUND('3D Interpolace'!S23,2)","v":37.159999999999997},{"$f":"ROUND('3D Interpolace'!T23,2)","v":36.880000000000003},{"$f":"ROUND('3D Interpolace'!U23,2)","v":36.56},{"$f":"ROUND('3D Interpolace'!V23,2)","v":36.29},{"$f":"ROUND('3D Interpolace'!W23,2)","v":36.200000000000003},{"$f":"ROUND('3D Interpolace'!X23,2)","v":36.31},{"$f":"ROUND('3D Interpolace'!Y23,2)","v":36.56},{"$f":"ROUND('3D Interpolace'!Z23,2)","v":36.89},{"$f":"ROUND('3D Interpolace'!AA23,2)","v":37.24},{"$f":"ROUND('3D Interpolace'!AB23,2)","v":37.58},{"$f":"ROUND('3D Interpolace'!AC23,2)","v":37.909999999999997},{"$f":"ROUND('3D Interpolace'!AD23,2)","v":38.270000000000003},{"$f":"ROUND('3D Interpolace'!AE23,2)","v":38.630000000000003},{"$f":"ROUND('3D Interpolace'!AF23,2)","v":38.97},{"$f":"ROUND('3D Interpolace'!AG23,2)","v":39.229999999999997},{"$f":"ROUND('3D Interpolace'!AH23,2)","v":39.409999999999997},{"$f":"ROUND('3D Interpolace'!AI23,2)","v":39.520000000000003},{"$f":"ROUND('3D Interpolace'!AJ23,2)","v":39.590000000000003},{"$f":"ROUND('3D Interpolace'!AK23,2)","v":39.67},{"$f":"ROUND('3D Interpolace'!AL23,2)","v":39.799999999999997},{"$f":"ROUND('3D Interpolace'!AM23,2)","v":40.04},{"$f":"ROUND('3D Interpolace'!AN23,2)","v":40.36},{"$f":"ROUND('3D Interpolace'!AO23,2)","v":40.67},{"$f":"ROUND('3D Interpolace'!AP23,2)","v":40.86},{"$f":"ROUND('3D Interpolace'!AQ23,2)","v":40.83},{"$f":"ROUND('3D Interpolace'!AR23,2)","v":40.49},{"$f":"ROUND('3D Interpolace'!AS23,2)","v":39.9},{"$f":"ROUND('3D Interpolace'!AT23,2)","v":39.21},{"$f":"ROUND('3D Interpolace'!AU23,2)","v":38.549999999999997},{"$f":"ROUND('3D Interpolace'!AV23,2)","v":38.06},{"$f":"ROUND('3D Interpolace'!AW23,2)","v":37.729999999999997},{"$f":"ROUND('3D Interpolace'!AX23,2)","v":37.49},{"$f":"ROUND('3D Interpolace'!AY23,2)","v":37.32},{"$f":"ROUND('3D Interpolace'!AZ23,2)","v":37.22},{"$f":"ROUND('3D Interpolace'!BA23,2)","v":37.21},null,1.9,20,null,null,null,null,null,null,null,null,null,null,null,null,null,null,null,null,null,null,null,null,null,4,4,null,null,null,null,null,null,null,null,null,null,null,null,null,null,null,null,null,null,1.9,null,1.9,20,36.06,36.479999999999997,36.81,37.049999999999997,37.200000000000003,37.26,37.159999999999997,36.880000000000003,36.56,36.29,36.200000000000003,36.31,36.56,36.89,37.24,37.58,37.909999999999997,38.270000000000003,38.630000000000003,38.97,39.229999999999997,43.41,43.52,39.590000000000003,39.67,39.799999999999997,40.04,40.36,40.67,40.86,40.83,40.49,39.9,39.21,38.549999999999997,38.06,37.729999999999997,37.49,37.32,37.22,37.21,1.9,null,1.7999999999999998,19,36.21,36.65,36.99,37.25,37.409999999999997,37.47,37.380000000000003,37.14,36.83,36.549999999999997,36.4,36.380000000000003,36.44,36.56,36.700000000000003,36.85,37.020000000000003,37.22,37.43,37.64,37.82,37.82,41.95,42.06,38.15,38.25,38.36,38.53,38.75,38.96,39.07,39.020000000000003,38.729999999999997,38.25,37.69,37.159999999999997,36.770000000000003,36.51,36.32,36.200000000000003,36.14,36.14,null,null,null,1.7999999999999998,19,0,0,0,0,0,0,0,0,0,0,0,0,0,0,0,0,0,0,0,0,0,0,0,0,0,0,0,0,0,0,0,0,0,0,0,0,0,0,0,0,0,0,1.7999999999999998,null,null,null,19,43,43,43,43,43,43,43,43,43,43,43,43,43,43,43,43,43,43,43,43,43,45.43650793650793,45.158730158730151,44.88095238095238,44.603174603174594,44.325396825396822,44.047619047619044,43.769841269841265,43.492063492063487,43.214285714285708,42.93650793650793,42.658730158730151,42.38095238095238,42.103174603174601,41.825396825396822,41.547619047619044,41.269841269841265,40.992063492063487,40.714285714285708,40.43650793650793,40.158730158730151,39.88095238095238,1.7999999999999998,null,null,null,null,null,1.7999999999999998,19,6.7899999999999991,6.3500000000000014,6.009999999999998,5.75,5.5900000000000034,5.5300000000000011,5.6199999999999974,5.8599999999999994,6.1700000000000017,6.4500000000000028,6.6000000000000014,6.6199999999999974,6.5600000000000023,6.4399999999999977,6.2999999999999972,6.1499999999999986,5.9799999999999969,5.7800000000000011,5.57,5.3599999999999994,5.18,7.6165079365079293,3.2087301587301482,2.8209523809523773,6.4531746031745953,6.0753968253968225,5.6876190476190445,5.2398412698412642,4.7420634920634868,4.2542857142857073,3.8665079365079293,3.6387301587301479,3.6509523809523827,3.853174603174601,4.1353968253968247,4.3876190476190473,4.4998412698412622,4.4820634920634888,4.3942857142857079,4.2365079365079268,4.0187301587301505,3.740952380952379,null,null,null,null,null,null,null,1.9,20,{"$f":"AVERAGE(KF23:KG24)","v":7.5250000000000004},7.1775000000000002,6.9149999999999991,6.7374999999999989,6.6449999999999996,6.6750000000000007,6.8699999999999992,7.1699999999999982,7.4574999999999996,7.6174999999999997,7.5699999999999985,7.3349999999999991,6.9774999999999991,6.5649999999999995,6.1575000000000006,5.7725000000000009,5.3874999999999993,4.9949999999999974,4.6174999999999997,4.2850000000000019,4.894047619047619,2.4262698412698391,4.0059920634920587,5.6032142857142802,5.1854365079365028,4.7051587301587254,4.139880952380949,3.5471031746031692,3.0268253968253909,2.6815476190476168,2.6062698412698388,2.8134920634920597,3.1982142857142808,3.6204365079365033,3.9426587301587244,4.0948809523809491,4.1196031746031743,4.0643253968253958,3.9340476190476181,3.7237698412698386,null,null,1.9,20,0.56999999999999995,0.56999999999999995,0.56999999999999995,0.56999999999999995,0.56999999999999995,0.56999999999999995,0.56999999999999995,0.56999999999999995,0.56999999999999995,0.56999999999999995,0.56999999999999995,0.56999999999999995,0.56999999999999995,0.56999999999999995,0.56999999999999995,1.68,1.68,1.68,1.68,1.68,1.68,5.27,1.68,1.68,1.68,1.68,1.68,5.27,5.27,5.27,5.27,5.27,5.27,5.27,5.27,1.68,1.68,1.68,5.27,5.27,null,null,1.9,20,-4.6999999999999993,-22.419999999999998,-22.419999999999998,-22.419999999999998,-22.419999999999998,-22.419999999999998,-22.419999999999998,-22.419999999999998,-22.419999999999998,-22.419999999999998,-22.419999999999998,-22.419999999999998,-22.419999999999998,-22.419999999999998,-22.419999999999998,-21.31,-21.31,-21.31,-21.31,-21.31,-3.59,-17.72,-3.59,0,-3.59,-3.59,-3.59,-17.72,-17.72,-17.72,-17.72,-17.72,-17.72,-17.72,0,-3.59,-3.59,-3.59,0,0,null,null,1.9,20,0,0,0,0,0,0,0,0,0,0,0,0,0,0,0,0,0,0,0,0,0,0,0,0,0,0,0,0,0,0,0,0,0,0,0,0,0,0,0,0,0,1.9,null,1.9,20,0,0,0,0,0,0,0,0,0,0,0,0,0,0,0,0,0,0,0,0,0,0,0,0,0,0,0,0,0,0,0,0,0,0,0,0,0,0,0,0,0,1.9,null,1.9,20,1,0,0,0,0,0,0,0,0,0,0,0,0,0,0,0,0,0,0,0,1,0,0,0,0,0,0,0,0,0,0,0,0,0,0,0,0,0,0,0,1,1.9,null,1.9,20,36.06,0,0,0,0,0,0,0,0,0,0,0,0,0,0,0,0,0,0,0,39.229999999999997,0,0,0,0,0,0,0,0,0,0,0,0,0,0,0,0,0,0,0,37.21,1.9,null,1.7999999999999998,19,1,1,1,1,1,1,1,1,1,1,1,1,1,1,1,1,1,1,1,1,1,3,3,3,3,3,3,3,3,3,3,3,3,3,3,3,3,3,3,3,3,3,1.7999999999999998,null,1.7999999999999998,19,0,0,0,0,0,0,0,0,0,0,0,0,0,0,0,0,0,0,0,0,0,0,4,4,0,0,0,0,0,0,0,0,0,0,0,0,0,0,0,0,0,0,1.7999999999999998,null,1.7999999999999998,19,{"$f":"RANK(#REF!,$ER$14:$FL$24,0)","v":{"$error":"#REF!"}},{"$error":"#N/A"},{"$error":"#N/A"},{"$error":"#N/A"},{"$error":"#N/A"},{"$error":"#N/A"},{"$error":"#N/A"},{"$error":"#N/A"},{"$error":"#N/A"},{"$error":"#N/A"},{"$error":"#N/A"},{"$error":"#N/A"},{"$error":"#N/A"},{"$error":"#N/A"},{"$error":"#N/A"},{"$error":"#N/A"},{"$error":"#N/A"},{"$error":"#N/A"},{"$error":"#N/A"},{"$error":"#N/A"},{"$error":"#N/A"},58,58,58,58,58,58,58,58,58,58,58,58,58,58,58,58,58,58,58,58,58,1.7999999999999998]
[null,null,null,null,"AC",{"$f":"(F20-F18)","v":-500},{"$f":"G20-G18","v":-500},{"$f":"H20-H18","v":4},null,null,null,null,"5",{"$f":"ROUND('3D Interpolace'!M24,2)","v":36},{"$f":"ROUND('3D Interpolace'!N24,2)","v":36.36},{"$f":"ROUND('3D Interpolace'!O24,2)","v":36.64},{"$f":"ROUND('3D Interpolace'!P24,2)","v":36.840000000000003},{"$f":"ROUND('3D Interpolace'!Q24,2)","v":36.96},{"$f":"ROUND('3D Interpolace'!R24,2)","v":37},{"$f":"ROUND('3D Interpolace'!S24,2)","v":36.880000000000003},{"$f":"ROUND('3D Interpolace'!T24,2)","v":36.6},{"$f":"ROUND('3D Interpolace'!U24,2)","v":36.28},{"$f":"ROUND('3D Interpolace'!V24,2)","v":36.04},{"$f":"ROUND('3D Interpolace'!W24,2)","v":36},{"$f":"ROUND('3D Interpolace'!X24,2)","v":36.21},{"$f":"ROUND('3D Interpolace'!Y24,2)","v":36.58},{"$f":"ROUND('3D Interpolace'!Z24,2)","v":37.06},{"$f":"ROUND('3D Interpolace'!AA24,2)","v":37.549999999999997},{"$f":"ROUND('3D Interpolace'!AB24,2)","v":38},{"$f":"ROUND('3D Interpolace'!AC24,2)","v":38.42},{"$f":"ROUND('3D Interpolace'!AD24,2)","v":38.85},{"$f":"ROUND('3D Interpolace'!AE24,2)","v":39.270000000000003},{"$f":"ROUND('3D Interpolace'!AF24,2)","v":39.659999999999997},{"$f":"ROUND('3D Interpolace'!AG24,2)","v":40},{"$f":"ROUND('3D Interpolace'!AH24,2)","v":40.26},{"$f":"ROUND('3D Interpolace'!AI24,2)","v":40.47},{"$f":"ROUND('3D Interpolace'!AJ24,2)","v":40.65},{"$f":"ROUND('3D Interpolace'!AK24,2)","v":40.82},{"$f":"ROUND('3D Interpolace'!AL24,2)","v":41},{"$f":"ROUND('3D Interpolace'!AM24,2)","v":41.26},{"$f":"ROUND('3D Interpolace'!AN24,2)","v":41.59},{"$f":"ROUND('3D Interpolace'!AO24,2)","v":41.89},{"$f":"ROUND('3D Interpolace'!AP24,2)","v":42.06},{"$f":"ROUND('3D Interpolace'!AQ24,2)","v":42},{"$f":"ROUND('3D Interpolace'!AR24,2)","v":41.62},{"$f":"ROUND('3D Interpolace'!AS24,2)","v":40.99},{"$f":"ROUND('3D Interpolace'!AT24,2)","v":40.25},{"$f":"ROUND('3D Interpolace'!AU24,2)","v":39.54},{"$f":"ROUND('3D Interpolace'!AV24,2)","v":39},{"$f":"ROUND('3D Interpolace'!AW24,2)","v":38.64},{"$f":"ROUND('3D Interpolace'!AX24,2)","v":38.36},{"$f":"ROUND('3D Interpolace'!AY24,2)","v":38.159999999999997},{"$f":"ROUND('3D Interpolace'!AZ24,2)","v":38.04},{"$f":"ROUND('3D Interpolace'!BA24,2)","v":38},null,2,21,null,null,null,null,null,null,null,null,null,null,null,null,null,null,null,null,null,null,null,null,null,4,4,null,null,null,null,null,null,null,null,null,null,null,null,null,null,null,null,null,null,2,null,2,21,36,36.36,36.64,36.840000000000003,36.96,37,36.880000000000003,36.6,36.28,36.04,36,36.21,36.58,37.06,37.549999999999997,38,38.42,38.85,39.270000000000003,39.659999999999997,40,44.26,44.47,40.65,40.82,41,41.26,41.59,41.89,42.06,42,41.62,40.99,40.25,39.54,39,38.64,38.36,38.159999999999997,38.04,38,2,null,1.9,20,{"$f":"IF(ISNUMBER(INDEX(VstupniData,$EQ23,ER$2)),INDEX(VstupniData,$EQ23,ER$2),\"\")","v":36.06},36.479999999999997,36.81,37.049999999999997,37.200000000000003,37.26,37.159999999999997,36.880000000000003,36.56,36.29,{"$f":"IF(ISNUMBER(INDEX(VstupniData,$EQ23,FB$2)),INDEX(VstupniData,$EQ23,FB$2),\"\")","v":36.200000000000003},36.31,36.56,36.89,37.24,37.58,37.909999999999997,38.270000000000003,38.630000000000003,38.97,{"$f":"IF(ISNUMBER(INDEX(VstupniData,$EQ23,FL$2)),INDEX(VstupniData,$EQ23,FL$2),\"\")","v":39.229999999999997},39.229999999999997,43.41,43.52,39.590000000000003,39.67,39.799999999999997,40.04,40.36,40.67,{"$f":"IF(ISNUMBER(INDEX(VstupniData,$EQ23,FV$2)),INDEX(VstupniData,$EQ23,FV$2),\"\")","v":40.86},40.83,40.49,39.9,39.21,38.549999999999997,38.06,37.729999999999997,37.49,37.32,{"$f":"IF(ISNUMBER(INDEX(VstupniData,$EQ23,GF$2)),INDEX(VstupniData,$EQ23,GF$2),\"\")","v":37.22},37.21,null,null,null,1.9,20,0,0,0,0,0,0,0,0,0,0,0,0,0,0,0,0,0,0,0,0,0,0,0,0,0,0,0,0,0,0,0,0,0,0,0,0,0,0,0,0,0,0,1.9,null,null,null,20,43.5,43.5,43.5,43.5,43.5,43.5,43.5,43.5,43.5,43.5,43.5,43.5,43.5,43.5,43.5,43.5,43.5,43.5,43.5,43.5,43.5,46.317460317460316,46.039682539682538,45.761904761904759,45.484126984126981,45.206349206349202,44.928571428571423,44.650793650793645,44.373015873015873,44.095238095238088,43.817460317460316,43.539682539682538,43.261904761904759,42.984126984126981,42.706349206349202,42.428571428571423,42.150793650793645,41.873015873015873,41.595238095238095,41.317460317460316,41.039682539682538,40.761904761904759,1.9,null,null,null,null,null,1.9,20,7.4399999999999977,7.0200000000000031,6.6899999999999977,6.4500000000000028,6.2999999999999972,6.240000000000002,6.3400000000000034,6.6199999999999974,6.9399999999999977,7.2100000000000009,7.2999999999999972,7.1899999999999977,6.9399999999999977,6.6099999999999994,6.259999999999998,5.9200000000000017,5.5900000000000034,5.2299999999999969,4.8699999999999974,4.5300000000000011,4.2700000000000031,7.0874603174603195,2.6296825396825412,2.2419047619047561,5.8941269841269772,5.5363492063492004,5.1285714285714263,4.6107936507936458,4.013015873015874,3.4252380952380861,2.9574603174603169,2.7096825396825395,2.7719047619047572,3.0841269841269821,3.4963492063492012,3.8785714285714263,4.0907936507936427,4.1430158730158766,4.1052380952380929,3.997460317460316,3.8196825396825389,3.5519047619047583,null,null,null,null,null,null,null,2,21,{"$f":"AVERAGE(KF25:KG26)","v":3.9075000000000006},{"$f":"AVERAGE(KG25:KH26)","v":3.6575000000000006},3.4749999999999996,3.3574999999999999,3.307500000000001,3.3625000000000007,3.5600000000000005,3.8425000000000011,4.0950000000000024,4.2075000000000014,4.0975000000000001,3.7750000000000021,3.3150000000000013,2.7975000000000012,2.302500000000002,1.8674999999999997,1.4649999999999999,1.0700000000000003,0.68500000000000227,0.31500000000000306,6.9600000000000009,11.412500000000001,8.6700000000000035,9.9400000000000013,11.234999999999998,10.567499999999999,9.9250000000000025,9.2775000000000034,8.65,8.1124999999999972,7.7299999999999986,7.5775000000000023,7.677500000000002,7.9399999999999995,8.2349999999999994,8.4375,8.4775000000000009,8.3950000000000031,8.240000000000002,8.01,null,null,2,21,5.27,5.27,5.27,5.27,5.27,5.27,5.27,5.27,1.68,1.68,1.68,5.27,5.27,5.27,5.27,22.99,22.99,22.99,22.99,22.99,0.56999999999999995,0.06,0.19,0.19,0.06,0.06,0.19,0.19,0.19,0.19,0.56999999999999995,0.56999999999999995,0.56999999999999995,0.56999999999999995,0.19,0.19,0.19,0.19,0.19,0.19,null,null,2,21,0,-17.72,-17.72,-17.72,-17.72,-17.72,-17.72,-17.72,-21.31,-21.31,-21.31,-17.72,-17.72,-17.72,-17.72,0,0,0,0,0,-4.6999999999999993,-22.93,-22.799999999999997,-5.0799999999999992,-5.21,-5.21,-22.799999999999997,-22.799999999999997,-22.799999999999997,-22.799999999999997,-22.419999999999998,-22.419999999999998,-22.419999999999998,-22.419999999999998,-22.799999999999997,-22.799999999999997,-22.799999999999997,-22.799999999999997,-22.799999999999997,-22.799999999999997,null,null,2,21,0,0,0,0,0,0,0,0,0,0,0,0,0,0,0,0,0,0,0,0,0,0,0,0,0,0,0,0,0,0,0,0,0,0,0,0,0,0,0,0,0,2,null,2,21,0,0,0,0,0,0,0,0,0,0,0,0,0,0,0,0,0,0,0,0,0,0,0,0,0,0,0,0,0,0,0,0,0,0,0,0,0,0,0,0,0,2,null,2,21,1,1,1,1,1,1,1,1,1,1,1,1,1,1,1,1,1,1,1,1,1,1,1,1,1,1,1,1,1,1,1,1,1,1,1,1,1,1,1,1,1,2,null,2,21,36,36.36,36.64,36.840000000000003,36.96,37,36.880000000000003,36.6,36.28,36.04,36,36.21,36.58,37.06,37.549999999999997,38,38.42,38.85,39.270000000000003,39.659999999999997,40,44.26,44.47,40.65,40.82,41,41.26,41.59,41.89,42.06,42,41.62,40.99,40.25,39.54,39,38.64,38.36,38.159999999999997,38.04,38,2,null,1.9,20,1,1,1,1,1,1,1,1,1,1,1,1,1,1,1,1,1,1,1,1,1,3,3,3,3,3,3,3,3,3,3,3,3,3,3,3,3,3,3,3,3,3,1.9,null,1.9,20,{"$f":"IF(ISNUMBER(INDEX(Asfalt,$ZX23,ZY$2)),INDEX(Asfalt,$ZX23,ZY$2),0)","v":0},0,0,0,0,0,0,0,0,0,{"$f":"IF(ISNUMBER(INDEX(Asfalt,$ZX23,AAI$2)),INDEX(Asfalt,$ZX23,AAI$2),0)","v":0},0,0,0,0,0,0,0,0,0,{"$f":"IF(ISNUMBER(INDEX(Asfalt,$ZX23,AAS$2)),INDEX(Asfalt,$ZX23,AAS$2),0)","v":0},0,4,4,0,0,0,0,0,0,{"$f":"IF(ISNUMBER(INDEX(Asfalt,$ZX23,ABC$2)),INDEX(Asfalt,$ZX23,ABC$2),0)","v":0},0,0,0,0,0,0,0,0,0,0,0,1.9,null,1.9,20,{"$f":"RANK(#REF!,$ER$14:$FL$24,0)","v":{"$error":"#REF!"}},{"$error":"#N/A"},{"$error":"#N/A"},{"$error":"#N/A"},{"$error":"#N/A"},{"$error":"#N/A"},{"$error":"#N/A"},{"$error":"#N/A"},{"$error":"#N/A"},{"$error":"#N/A"},{"$error":"#N/A"},{"$error":"#N/A"},{"$error":"#N/A"},{"$error":"#N/A"},{"$error":"#N/A"},{"$error":"#N/A"},{"$error":"#N/A"},{"$error":"#N/A"},{"$error":"#N/A"},{"$error":"#N/A"},{"$error":"#N/A"},58,58,58,58,58,58,58,58,58,58,58,58,58,58,58,58,58,58,58,58,58,1.9]
[null,null,null,null,null,null,null,null,null,null,null,null,"5A",{"$f":"ROUND('3D Interpolace'!M25,2)","v":36.1},{"$f":"ROUND('3D Interpolace'!N25,2)","v":36.31},{"$f":"ROUND('3D Interpolace'!O25,2)","v":36.46},{"$f":"ROUND('3D Interpolace'!P25,2)","v":36.56},{"$f":"ROUND('3D Interpolace'!Q25,2)","v":36.61},{"$f":"ROUND('3D Interpolace'!R25,2)","v":36.6},{"$f":"ROUND('3D Interpolace'!S25,2)","v":36.47},{"$f":"ROUND('3D Interpolace'!T25,2)","v":36.21},{"$f":"ROUND('3D Interpolace'!U25,2)","v":35.94},{"$f":"ROUND('3D Interpolace'!V25,2)","v":35.76},{"$f":"ROUND('3D Interpolace'!W25,2)","v":35.770000000000003},{"$f":"ROUND('3D Interpolace'!X25,2)","v":36.03},{"$f":"ROUND('3D Interpolace'!Y25,2)","v":36.479999999999997},{"$f":"ROUND('3D Interpolace'!Z25,2)","v":37.020000000000003},{"$f":"ROUND('3D Interpolace'!AA25,2)","v":37.58},{"$f":"ROUND('3D Interpolace'!AB25,2)","v":38.06},{"$f":"ROUND('3D Interpolace'!AC25,2)","v":38.450000000000003},{"$f":"ROUND('3D Interpolace'!AD25,2)","v":38.82},{"$f":"ROUND('3D Interpolace'!AE25,2)","v":39.18},{"$f":"ROUND('3D Interpolace'!AF25,2)","v":39.549999999999997},{"$f":"ROUND('3D Interpolace'!AG25,2)","v":39.93},{"$f":"ROUND('3D Interpolace'!AH25,2)","v":40.36},{"$f":"ROUND('3D Interpolace'!AI25,2)","v":40.83},{"$f":"ROUND('3D Interpolace'!AJ25,2)","v":41.29},{"$f":"ROUND('3D Interpolace'!AK25,2)","v":41.7},{"$f":"ROUND('3D Interpolace'!AL25,2)","v":42.01},{"$f":"ROUND('3D Interpolace'!AM25,2)","v":42.23},{"$f":"ROUND('3D Interpolace'!AN25,2)","v":42.41},{"$f":"ROUND('3D Interpolace'!AO25,2)","v":42.51},{"$f":"ROUND('3D Interpolace'!AP25,2)","v":42.49},{"$f":"ROUND('3D Interpolace'!AQ25,2)","v":42.33},{"$f":"ROUND('3D Interpolace'!AR25,2)","v":41.94},{"$f":"ROUND('3D Interpolace'!AS25,2)","v":41.34},{"$f":"ROUND('3D Interpolace'!AT25,2)","v":40.659999999999997},{"$f":"ROUND('3D Interpolace'!AU25,2)","v":40.01},{"$f":"ROUND('3D Interpolace'!AV25,2)","v":39.5},{"$f":"ROUND('3D Interpolace'!AW25,2)","v":39.15},{"$f":"ROUND('3D Interpolace'!AX25,2)","v":38.869999999999997},{"$f":"ROUND('3D Interpolace'!AY25,2)","v":38.65},{"$f":"ROUND('3D Interpolace'!AZ25,2)","v":38.51},{"$f":"ROUND('3D Interpolace'!BA25,2)","v":38.44},null,2.1,22,null,null,null,null,null,null,null,null,null,null,null,null,null,null,null,null,null,null,null,null,null,4,4,null,null,null,null,null,null,null,null,null,null,null,null,null,null,null,null,null,null,2.1,null,2.1,22,36.1,36.31,36.46,36.56,36.61,36.6,36.47,36.21,35.94,35.76,35.770000000000003,36.03,36.479999999999997,37.020000000000003,37.58,38.06,38.450000000000003,38.82,39.18,39.549999999999997,39.93,44.36,44.83,41.29,41.7,42.01,42.23,42.41,42.51,42.49,42.33,41.94,41.34,40.659999999999997,40.01,39.5,39.15,38.869999999999997,38.65,38.51,38.44,2.1,null,2,21,36,36.36,36.64,36.840000000000003,36.96,37,36.880000000000003,36.6,36.28,36.04,36,36.21,36.58,37.06,37.549999999999997,38,38.42,38.85,39.270000000000003,39.659999999999997,40,40,44.26,44.47,40.65,40.82,41,41.26,41.59,41.89,42.06,42,41.62,40.99,40.25,39.54,39,38.64,38.36,38.159999999999997,38.04,38,null,null,null,2,21,36,0,0,0,0,37,0,0,0,0,36,0,0,0,0,38,0,0,0,0,40,40,44.26,44.47,0,0,41,0,0,0,0,42,0,0,0,0,39,0,0,0,0,38,2,null,null,null,21,44,44,44,44,44,44,44,44,44,44,44,44,44,44,44,44,44,44,44,44,44,47.198412698412696,46.920634920634917,46.642857142857139,46.36507936507936,46.087301587301582,45.809523809523803,45.531746031746025,45.253968253968253,44.976190476190467,44.698412698412696,44.420634920634917,44.142857142857139,43.86507936507936,43.587301587301582,43.309523809523803,43.031746031746025,42.753968253968253,42.476190476190474,42.198412698412696,41.920634920634917,41.642857142857139,2,null,null,null,null,null,2,21,8,7.6400000000000006,7.3599999999999994,7.1599999999999966,7.0399999999999991,7,7.1199999999999974,7.3999999999999986,7.7199999999999989,7.9600000000000009,8,7.7899999999999991,7.4200000000000017,6.9399999999999977,6.4500000000000028,6,5.5799999999999983,5.1499999999999986,4.7299999999999969,4.3400000000000034,4,7.1984126984126959,2.6606349206349194,2.1728571428571399,5.7150793650793617,5.2673015873015814,4.8095238095238031,4.2717460317460265,3.6639682539682497,3.0861904761904668,2.6384126984126937,2.4206349206349174,2.5228571428571414,2.8750793650793582,3.3373015873015817,3.7695238095238039,4.0317460317460245,4.1139682539682525,4.1161904761904751,4.0384126984126993,3.8806349206349182,3.6428571428571388,null,null,null,null,null,null,null,2.1,22,{"$f":"AVERAGE(KF26:KG27)","v":4.0299999999999994},{"$f":"AVERAGE(KG26:KH27)","v":3.9574999999999996},{"$f":"AVERAGE(KH26:KI27)","v":3.9175000000000004},{"$f":"AVERAGE(KI26:KJ27)","v":3.9100000000000019},{"$f":"AVERAGE(KJ26:KK27)","v":3.9375000000000018},{"$f":"AVERAGE(KK26:KL27)","v":4.0275000000000016},{"$f":"AVERAGE(KL26:KM27)","v":4.2125000000000021},{"$f":"AVERAGE(KM26:KN27)","v":4.4450000000000021},{"$f":"AVERAGE(KN26:KO27)","v":4.6325000000000021},{"$f":"AVERAGE(KO26:KP27)","v":4.6850000000000005},{"$f":"AVERAGE(KP26:KQ27)","v":4.5224999999999991},{"$f":"AVERAGE(KQ26:KR27)","v":4.1475000000000009},{"$f":"AVERAGE(KR26:KS27)","v":3.6375000000000011},{"$f":"AVERAGE(KS26:KT27)","v":3.0775000000000006},{"$f":"AVERAGE(KT26:KU27)","v":2.5600000000000005},{"$f":"AVERAGE(KU26:KV27)","v":2.1499999999999986},{"$f":"AVERAGE(KV26:KW27)","v":1.8274999999999988},{"$f":"AVERAGE(KW26:KX27)","v":1.5400000000000009},{"$f":"AVERAGE(KX26:KY27)","v":1.240000000000002},{"$f":"AVERAGE(KY26:KZ27)","v":0.88250000000000206},{"$f":"AVERAGE(LA26:LB27)","v":11.160000000000002},{"$f":"AVERAGE(LB26:LC27)","v":8.1525000000000034},{"$f":"AVERAGE(LC26:LD27)","v":9.0800000000000018},{"$f":"AVERAGE(LD26:LE27)","v":10.045},{"$f":"AVERAGE(LE26:LF27)","v":9.1525000000000016},{"$f":"AVERAGE(LF26:LG27)","v":8.4650000000000034},{"$f":"AVERAGE(LG26:LH27)","v":7.9525000000000041},{"$f":"AVERAGE(LH26:LI27)","v":7.5675000000000008},{"$f":"AVERAGE(LI26:LJ27)","v":7.2924999999999986},{"$f":"AVERAGE(LJ26:LK27)","v":7.1074999999999999},{"$f":"AVERAGE(LK26:LL27)","v":7.0325000000000006},{"$f":"AVERAGE(LL26:LM27)","v":7.1075000000000017},{"$f":"AVERAGE(LM26:LN27)","v":7.2900000000000009},{"$f":"AVERAGE(LN26:LO27)","v":7.4875000000000007},{"$f":"AVERAGE(LO26:LP27)","v":7.6125000000000007},{"$f":"AVERAGE(LP26:LQ27)","v":7.6125000000000007},{"$f":"AVERAGE(LQ26:LR27)","v":7.5175000000000036},{"$f":"AVERAGE(LR26:LS27)","v":7.3625000000000025},{"$f":"AVERAGE(LS26:LT27)","v":7.1450000000000014},{"$f":"AVERAGE(LT26:LU27)","v":6.865000000000002},null,null,2.1,22,1.68,5.27,5.27,5.27,5.27,1.68,1.68,1.68,1.68,1.68,1.68,1.68,5.27,5.27,5.27,5.27,22.99,22.99,22.99,22.99,0.06,0.19,0.19,0.06,0.19,0.19,0.56999999999999995,0.56999999999999995,0.56999999999999995,0.56999999999999995,0.56999999999999995,0.56999999999999995,0.56999999999999995,0.56999999999999995,0.56999999999999995,0.56999999999999995,0.56999999999999995,0.56999999999999995,0.56999999999999995,0.56999999999999995,null,null,2.1,22,-3.59,0,0,-17.72,-17.72,-21.31,-21.31,-21.31,-21.31,-21.31,-21.31,-21.31,-17.72,-17.72,-17.72,-17.72,0,0,0,0,-1.6199999999999999,-22.799999999999997,-5.0799999999999992,-5.21,-5.0799999999999992,-5.0799999999999992,-22.419999999999998,-22.419999999999998,-22.419999999999998,-22.419999999999998,-22.419999999999998,-22.419999999999998,-22.419999999999998,-22.419999999999998,-22.419999999999998,-4.6999999999999993,-4.6999999999999993,-4.6999999999999993,-4.6999999999999993,-22.419999999999998,null,null,2.1,22,0,0,0,0,0,0,0,0,0,0,0,0,0,0,0,0,0,0,0,0,0,0,44.83,0,0,0,0,0,0,0,0,0,0,0,0,0,0,0,0,0,0,2.1,null,2.1,22,0,0,0,0,0,0,0,0,0,0,0,0,0,0,0,0,0,0,0,0,40,0,0,44.47,0,0,0,0,0,0,42.06,0,0,0,0,0,0,0,0,0,0,2.1,null,2.1,22,1,{"$f":"IF(OR(INT(1000*UT$1/$B$18)-1000*UT$1/$B$18=0,INT(1000*$UQ24/$B$19)-1000*$UQ24/$B$19=0),1,0)","v":0},0,0,0,0,0,0,0,0,0,{"$f":"IF(OR(INT(1000*VD$1/$B$18)-1000*VD$1/$B$18=0,INT(1000*$UQ24/$B$19)-1000*$UQ24/$B$19=0),1,0)","v":0},0,0,0,0,0,0,0,0,1,{"$f":"IF(OR(INT(1000*VN$1/$B$18)-1000*VN$1/$B$18=0,INT(1000*$UQ24/$B$19)-1000*$UQ24/$B$19=0),1,0)","v":0},0,0,0,0,0,0,0,0,0,{"$f":"IF(OR(INT(1000*VX$1/$B$18)-1000*VX$1/$B$18=0,INT(1000*$UQ24/$B$19)-1000*$UQ24/$B$19=0),1,0)","v":0},0,0,0,0,0,0,0,0,1,2.1,null,2.1,22,36.1,0,0,0,0,0,0,0,0,0,0,0,0,0,0,0,0,0,0,0,39.93,0,44.83,0,0,0,0,0,0,0,0,0,0,0,0,0,0,0,0,0,38.44,2.1,null,2,21,{"$f":"YE23","v":1},{"$f":"YF23","v":1},1,1,1,1,1,1,1,1,1,1,1,1,1,1,1,1,1,1,{"$f":"YX24","v":1},3,{"$f":"ZA23","v":3},3,3,3,3,3,3,3,3,3,3,3,3,3,3,3,3,3,3,{"$f":"ZS24","v":3},2,null,2,21,0,0,0,0,0,0,0,0,0,0,0,0,0,0,0,0,0,0,0,0,0,0,4,4,0,0,0,0,0,0,0,0,0,0,0,0,0,0,0,0,0,0,2,null,2,21,{"$f":"RANK(#REF!,$ER$14:$FL$24,0)","v":{"$error":"#REF!"}},{"$error":"#N/A"},{"$error":"#N/A"},{"$error":"#N/A"},{"$error":"#N/A"},{"$error":"#N/A"},{"$error":"#N/A"},{"$error":"#N/A"},{"$error":"#N/A"},{"$error":"#N/A"},{"$error":"#N/A"},{"$error":"#N/A"},{"$error":"#N/A"},{"$error":"#N/A"},{"$error":"#N/A"},{"$error":"#N/A"},{"$error":"#N/A"},{"$error":"#N/A"},{"$error":"#N/A"},{"$error":"#N/A"},{"$error":"#N/A"},58,{"$f":"ACO23","v":58},58,58,58,58,58,58,58,58,58,58,58,58,58,58,58,58,58,58,{"$f":"ADG24","v":58},2]
[null,null,null,null,"AB x AC",{"$f":"G22*H23-H22*G23","v":-1000},{"$f":"H22*F23-F22*H23","v":-3000},{"$f":"IF(F22*G23-G22*F23=0,0.0001,F22*G23-G22*F23)","v":-500000},null,null,null,null,"5B",{"$f":"ROUND('3D Interpolace'!M26,2)","v":36.35},{"$f":"ROUND('3D Interpolace'!N26,2)","v":36.32},{"$f":"ROUND('3D Interpolace'!O26,2)","v":36.28},{"$f":"ROUND('3D Interpolace'!P26,2)","v":36.229999999999997},{"$f":"ROUND('3D Interpolace'!Q26,2)","v":36.159999999999997},{"$f":"ROUND('3D Interpolace'!R26,2)","v":36.08},{"$f":"ROUND('3D Interpolace'!S26,2)","v":35.94},{"$f":"ROUND('3D Interpolace'!T26,2)","v":35.729999999999997},{"$f":"ROUND('3D Interpolace'!U26,2)","v":35.54},{"$f":"ROUND('3D Interpolace'!V26,2)","v":35.43},{"$f":"ROUND('3D Interpolace'!W26,2)","v":35.5},{"$f":"ROUND('3D Interpolace'!X26,2)","v":35.81},{"$f":"ROUND('3D Interpolace'!Y26,2)","v":36.29},{"$f":"ROUND('3D Interpolace'!Z26,2)","v":36.86},{"$f":"ROUND('3D Interpolace'!AA26,2)","v":37.43},{"$f":"ROUND('3D Interpolace'!AB26,2)","v":37.89},{"$f":"ROUND('3D Interpolace'!AC26,2)","v":38.200000000000003},{"$f":"ROUND('3D Interpolace'!AD26,2)","v":38.42},{"$f":"ROUND('3D Interpolace'!AE26,2)","v":38.619999999999997},{"$f":"ROUND('3D Interpolace'!AF26,2)","v":38.89},{"$f":"ROUND('3D Interpolace'!AG26,2)","v":39.299999999999997},{"$f":"ROUND('3D Interpolace'!AH26,2)","v":39.97},{"$f":"ROUND('3D Interpolace'!AI26,2)","v":40.83},{"$f":"ROUND('3D Interpolace'!AJ26,2)","v":41.73},{"$f":"ROUND('3D Interpolace'!AK26,2)","v":42.5},{"$f":"ROUND('3D Interpolace'!AL26,2)","v":42.98},{"$f":"ROUND('3D Interpolace'!AM26,2)","v":43.12},{"$f":"ROUND('3D Interpolace'!AN26,2)","v":43.03},{"$f":"ROUND('3D Interpolace'!AO26,2)","v":42.78},{"$f":"ROUND('3D Interpolace'!AP26,2)","v":42.45},{"$f":"ROUND('3D Interpolace'!AQ26,2)","v":42.1},{"$f":"ROUND('3D Interpolace'!AR26,2)","v":41.7},{"$f":"ROUND('3D Interpolace'!AS26,2)","v":41.19},{"$f":"ROUND('3D Interpolace'!AT26,2)","v":40.65},{"$f":"ROUND('3D Interpolace'!AU26,2)","v":40.130000000000003},{"$f":"ROUND('3D Interpolace'!AV26,2)","v":39.71},{"$f":"ROUND('3D Interpolace'!AW26,2)","v":39.39},{"$f":"ROUND('3D Interpolace'!AX26,2)","v":39.119999999999997},{"$f":"ROUND('3D Interpolace'!AY26,2)","v":38.909999999999997},{"$f":"ROUND('3D Interpolace'!AZ26,2)","v":38.75},{"$f":"ROUND('3D Interpolace'!BA26,2)","v":38.64},null,2.2000000000000002,23,null,null,null,null,null,null,null,null,null,null,null,null,null,null,null,null,null,null,null,null,null,4,4,null,null,null,null,null,null,null,null,null,null,null,null,null,null,null,null,null,null,2.2000000000000002,null,2.2000000000000002,23,36.35,36.32,36.28,36.229999999999997,36.159999999999997,36.08,35.94,35.729999999999997,35.54,35.43,35.5,35.81,36.29,36.86,37.43,37.89,38.200000000000003,38.42,38.619999999999997,38.89,39.299999999999997,43.97,44.83,41.73,42.5,42.98,43.12,43.03,42.78,42.45,42.1,41.7,41.19,40.65,40.130000000000003,39.71,39.39,39.119999999999997,38.909999999999997,38.75,38.64,2.2000000000000002,null,2,21,36,36.36,36.64,36.840000000000003,36.96,37,36.880000000000003,36.6,36.28,36.04,36,36.21,36.58,37.06,37.549999999999997,38,38.42,38.85,39.270000000000003,39.659999999999997,40,40,44.26,44.47,40.65,40.82,41,41.26,41.59,41.89,42.06,42,41.62,40.99,40.25,39.54,39,38.64,38.36,38.159999999999997,38.04,38,null,null,null,2,21,36,0,0,0,0,37,0,0,0,0,36,0,0,0,0,38,0,0,0,0,40,40,44.26,44.47,0,0,41,0,0,0,0,42,0,0,0,0,39,0,0,0,0,38,2,null,null,null,21,40,40,40,40,40,40,40,40,40,40,40,40,40,40,40,40,40,40,40,40,40,54,53.6,53.2,52.8,52.4,52,51.6,51.2,50.8,50.4,50,49.6,49.2,48.8,48.4,48,47.6,47.2,46.8,46.4,46,2,null,null,null,null,null,2,21,4,3.6400000000000006,3.3599999999999994,3.1599999999999966,3.0399999999999991,3,3.1199999999999974,3.3999999999999986,3.7199999999999989,3.9600000000000009,4,3.7899999999999991,3.4200000000000017,2.9399999999999977,2.4500000000000028,2,1.5799999999999983,1.1499999999999986,0.72999999999999687,0.34000000000000341,0,14,9.3400000000000034,8.730000000000004,12.149999999999999,11.579999999999998,11,10.340000000000003,9.61,8.9099999999999966,8.3399999999999963,8,7.980000000000004,8.2100000000000009,8.5499999999999972,8.86,9,8.9600000000000009,8.8400000000000034,8.64,8.36,8,null,null,null,null,null,null,null,2.1999999999999997,23,4.0775000000000006,4.2275000000000009,4.3675000000000015,4.5000000000000018,4.6225000000000005,4.7525000000000013,4.9150000000000027,5.0800000000000018,5.1850000000000005,5.1675000000000004,4.9625000000000004,4.5625,4.0350000000000001,3.4725000000000001,2.9774999999999991,2.634999999999998,2.447499999999998,2.33,2.1700000000000017,1.8525000000000009,11.295000000000002,7.9600000000000026,8.4500000000000011,8.9925000000000015,7.8175000000000026,7.0875000000000021,6.7675000000000018,6.7124999999999986,6.7899999999999991,6.8675000000000015,6.8925000000000001,6.9225000000000012,6.98,7.0274999999999999,7.0274999999999999,6.9599999999999991,6.8375000000000021,6.6700000000000017,6.4575000000000014,6.2050000000000018,null,null,2.1999999999999997,23,1.68,1.68,1.68,1.68,1.68,1.68,1.68,1.68,1.68,1.68,1.68,1.68,1.68,5.27,5.27,5.27,5.27,5.27,5.27,22.99,0.06,0.56999999999999995,0.19,0.19,0.56999999999999995,0.56999999999999995,0.56999999999999995,0.56999999999999995,0.56999999999999995,0.56999999999999995,0.56999999999999995,0.56999999999999995,0.56999999999999995,0.56999999999999995,0.56999999999999995,0.56999999999999995,0.56999999999999995,0.56999999999999995,0.56999999999999995,0.56999999999999995,null,null,2.1999999999999997,23,-3.59,-3.59,-3.59,-3.59,-3.59,-3.59,-3.59,-3.59,-3.59,-3.59,-3.59,-3.59,-3.59,0,-17.72,0,0,0,0,17.72,-0.51,-4.6999999999999993,-5.0799999999999992,-1.49,-4.6999999999999993,-4.6999999999999993,-4.6999999999999993,-4.6999999999999993,-4.6999999999999993,-4.6999999999999993,-22.419999999999998,-22.419999999999998,-4.6999999999999993,-4.6999999999999993,-4.6999999999999993,-4.6999999999999993,-4.6999999999999993,-4.6999999999999993,-4.6999999999999993,-4.6999999999999993,null,null,2.2000000000000002,23,0,0,0,0,0,0,0,0,0,0,0,0,0,0,0,0,0,0,0,0,0,0,44.83,0,0,0,0,0,0,0,0,0,0,0,0,0,0,0,0,0,0,2.2000000000000002,null,2.2000000000000002,23,0,0,0,0,0,37,0,0,0,0,0,0,0,0,0,0,0,0,0,0,40,0,0,0,0,0,0,0,0,0,0,0,0,0,0,0,0,0,0,0,0,2.2000000000000002,null,2.2000000000000002,23,1,0,0,0,0,0,0,0,0,0,0,0,0,0,0,0,0,0,0,0,1,0,0,0,0,0,0,0,0,0,0,0,0,0,0,0,0,0,0,0,1,2.2000000000000002,null,2.2000000000000002,23,36.35,0,0,0,0,0,0,0,0,0,0,0,0,0,0,0,0,0,0,0,39.299999999999997,0,44.83,0,0,0,0,0,0,0,0,0,0,0,0,0,0,0,0,0,38.64,2.2000000000000002,null,2,21,{"$f":"COUNTIF(RG23:SA33,\">0\")","v":4},{"$f":"YE25","v":4},{"$f":"YF25","v":4},4,4,4,4,4,4,4,4,4,4,4,4,4,4,4,4,4,{"$f":"YX25","v":4},{"$f":"COUNTIF(SA23:SU33,\">0\")","v":4},{"$f":"YZ25","v":4},{"$f":"ZA25","v":4},4,4,4,4,4,4,4,4,4,4,4,4,4,4,4,4,4,{"$f":"ZS25","v":4},2,null,2,21,0,0,0,0,0,0,0,0,0,0,0,0,0,0,0,0,0,0,0,0,0,0,4,4,0,0,0,0,0,0,0,0,0,0,0,0,0,0,0,0,0,0,2,null,2,21,{"$f":"COUNTIF(UU23:VO33,\">0\")","v":51},{"$f":"ABS25","v":51},{"$f":"ABT25","v":51},51,51,51,51,51,51,51,51,51,51,51,51,51,51,51,51,51,{"$f":"ACL25","v":51},{"$f":"COUNTIF(VO23:WI33,\">0\")","v":58},{"$f":"ACN25","v":58},{"$f":"ACO25","v":58},58,58,58,58,58,58,58,58,58,58,58,58,58,58,58,58,58,{"$f":"ADG25","v":58},2]
[null,"Dělení nulou",null,null,null,null,null,{"$f":"F22*G23-G22*F23","v":-500000},null,null,null,null,"5C",{"$f":"ROUND('3D Interpolace'!M27,2)","v":36.65},{"$f":"ROUND('3D Interpolace'!N27,2)","v":36.369999999999997},{"$f":"ROUND('3D Interpolace'!O27,2)","v":36.119999999999997},{"$f":"ROUND('3D Interpolace'!P27,2)","v":35.9},{"$f":"ROUND('3D Interpolace'!Q27,2)","v":35.71},{"$f":"ROUND('3D Interpolace'!R27,2)","v":35.56},{"$f":"ROUND('3D Interpolace'!S27,2)","v":35.409999999999997},{"$f":"ROUND('3D Interpolace'!T27,2)","v":35.26},{"$f":"ROUND('3D Interpolace'!U27,2)","v":35.15},{"$f":"ROUND('3D Interpolace'!V27,2)","v":35.14},{"$f":"ROUND('3D Interpolace'!W27,2)","v":35.26},{"$f":"ROUND('3D Interpolace'!X27,2)","v":35.58},{"$f":"ROUND('3D Interpolace'!Y27,2)","v":36.07},{"$f":"ROUND('3D Interpolace'!Z27,2)","v":36.64},{"$f":"ROUND('3D Interpolace'!AA27,2)","v":37.18},{"$f":"ROUND('3D Interpolace'!AB27,2)","v":37.590000000000003},{"$f":"ROUND('3D Interpolace'!AC27,2)","v":37.78},{"$f":"ROUND('3D Interpolace'!AD27,2)","v":37.81},{"$f":"ROUND('3D Interpolace'!AE27,2)","v":37.83},{"$f":"ROUND('3D Interpolace'!AF27,2)","v":37.979999999999997},{"$f":"ROUND('3D Interpolace'!AG27,2)","v":38.42},{"$f":"ROUND('3D Interpolace'!AH27,2)","v":39.33},{"$f":"ROUND('3D Interpolace'!AI27,2)","v":40.630000000000003},{"$f":"ROUND('3D Interpolace'!AJ27,2)","v":42.01},{"$f":"ROUND('3D Interpolace'!AK27,2)","v":43.19},{"$f":"ROUND('3D Interpolace'!AL27,2)","v":43.86},{"$f":"ROUND('3D Interpolace'!AM27,2)","v":43.89},{"$f":"ROUND('3D Interpolace'!AN27,2)","v":43.49},{"$f":"ROUND('3D Interpolace'!AO27,2)","v":42.85},{"$f":"ROUND('3D Interpolace'!AP27,2)","v":42.16},{"$f":"ROUND('3D Interpolace'!AQ27,2)","v":41.62},{"$f":"ROUND('3D Interpolace'!AR27,2)","v":41.21},{"$f":"ROUND('3D Interpolace'!AS27,2)","v":40.81},{"$f":"ROUND('3D Interpolace'!AT27,2)","v":40.43},{"$f":"ROUND('3D Interpolace'!AU27,2)","v":40.08},{"$f":"ROUND('3D Interpolace'!AV27,2)","v":39.770000000000003},{"$f":"ROUND('3D Interpolace'!AW27,2)","v":39.49},{"$f":"ROUND('3D Interpolace'!AX27,2)","v":39.25},{"$f":"ROUND('3D Interpolace'!AY27,2)","v":39.04},{"$f":"ROUND('3D Interpolace'!AZ27,2)","v":38.869999999999997},{"$f":"ROUND('3D Interpolace'!BA27,2)","v":38.72},null,2.2999999999999998,24,null,null,null,null,null,null,null,null,null,null,null,null,null,null,null,null,null,null,null,null,null,4,4,null,null,null,null,null,null,null,null,null,null,null,null,null,null,null,null,null,null,2.2999999999999998,null,2.2999999999999998,24,36.65,36.369999999999997,36.119999999999997,35.9,35.71,35.56,35.409999999999997,35.26,35.15,35.14,35.26,35.58,36.07,36.64,37.18,37.590000000000003,37.78,37.81,37.83,37.979999999999997,38.42,43.33,44.63,42.01,43.19,43.86,43.89,43.49,42.85,42.16,41.62,41.21,40.81,40.43,40.08,39.770000000000003,39.49,39.25,39.04,38.869999999999997,38.72,2.2999999999999998,null,2.1,22,36.1,36.31,36.46,36.56,36.61,36.6,36.47,36.21,35.94,35.76,35.770000000000003,36.03,36.479999999999997,37.020000000000003,37.58,38.06,38.450000000000003,38.82,39.18,39.549999999999997,39.93,39.93,44.36,44.83,41.29,41.7,42.01,42.23,42.41,42.51,42.49,42.33,41.94,41.34,40.659999999999997,40.01,39.5,39.15,38.869999999999997,38.65,38.51,38.44,null,null,null,2.1,22,0,0,0,0,0,0,0,0,0,0,0,0,0,0,0,0,0,0,0,0,0,0,0,0,0,0,0,0,0,0,0,0,0,0,0,0,0,0,0,0,0,0,2.1,null,null,null,22,40.200000000000003,40.200000000000003,40.200000000000003,40.200000000000003,40.200000000000003,40.200000000000003,40.200000000000003,40.200000000000003,40.200000000000003,40.200000000000003,40.200000000000003,40.200000000000003,40.200000000000003,40.200000000000003,40.200000000000003,40.200000000000003,40.200000000000003,40.200000000000003,40.200000000000003,40.200000000000003,40.200000000000003,53.5,53.1,52.7,52.3,51.9,51.5,51.1,50.7,50.3,49.9,49.5,49.1,48.7,48.3,47.9,47.5,47.1,46.7,46.3,45.9,45.5,2.1,null,null,null,null,null,2.1,22,4.1000000000000014,3.8900000000000006,3.740000000000002,3.6400000000000006,3.5900000000000034,3.6000000000000014,3.730000000000004,3.990000000000002,4.2600000000000051,4.4400000000000048,4.43,4.1700000000000017,3.720000000000006,3.1799999999999997,2.6200000000000045,2.1400000000000006,1.75,1.3800000000000026,1.0200000000000031,0.65000000000000568,0.27000000000000313,13.57,8.740000000000002,7.8700000000000045,11.009999999999998,10.199999999999996,9.490000000000002,8.8700000000000045,8.2900000000000063,7.7899999999999991,7.4099999999999966,7.1700000000000017,7.1600000000000037,7.3599999999999994,7.6400000000000006,7.8900000000000006,8,7.9500000000000028,7.8300000000000054,7.6499999999999986,7.3900000000000006,7.0600000000000023,null,null,null,null,null,null,null,2.2999999999999998,24,4.1150000000000002,4.4725000000000001,4.7800000000000011,5.0374999999999996,5.2474999999999987,5.4175000000000004,5.557500000000001,5.6575000000000006,5.6824999999999992,5.6024999999999991,5.375,4.9699999999999989,4.4499999999999993,3.9150000000000009,3.4649999999999999,3.2074999999999978,3.1699999999999982,3.2324999999999999,3.2125000000000004,2.9375,11.552500000000002,7.8950000000000031,7.9525000000000006,8.0774999999999988,6.6225000000000005,5.8500000000000014,5.7200000000000006,5.9899999999999984,6.4149999999999991,6.7500000000000018,6.8675000000000015,6.8450000000000006,6.77,6.6574999999999989,6.5249999999999986,6.3824999999999985,6.2250000000000014,6.0425000000000004,5.8349999999999991,5.6075000000000017,null,null,2.2999999999999998,24,1.68,1.68,1.68,1.68,1.68,1.68,1.68,1.68,1.68,1.68,1.68,1.68,1.68,5.27,5.27,5.27,5.27,5.27,5.27,5.27,0.06,0.56999999999999995,0.56999999999999995,0.19,0.56999999999999995,1.68,1.68,1.68,0.56999999999999995,0.56999999999999995,0.56999999999999995,0.56999999999999995,0.56999999999999995,0.56999999999999995,0.56999999999999995,0.56999999999999995,0.56999999999999995,0.56999999999999995,1.68,1.68,null,null,2.2999999999999998,24,-3.59,-3.59,-3.59,-3.59,-3.59,-3.59,-3.59,-3.59,-3.59,-3.59,-3.59,-3.59,-3.59,0,0,0,0,0,3.59,3.59,-0.13,-1.1099999999999999,-1.1099999999999999,-1.49,-4.6999999999999993,-3.59,-3.59,-3.59,-1.1099999999999999,-1.1099999999999999,-4.6999999999999993,-4.6999999999999993,-4.6999999999999993,-4.6999999999999993,-4.6999999999999993,-4.6999999999999993,-4.6999999999999993,-4.6999999999999993,-3.59,-3.59,null,null,2.2999999999999998,24,0,0,0,0,0,0,0,0,0,0,0,0,0,0,0,0,0,0,0,0,0,0,0,0,0,0,0,0,0,0,0,0,0,0,0,0,0,0,0,0,0,2.2999999999999998,null,2.2999999999999998,24,0,0,0,0,0,0,0,0,0,0,0,0,0,0,0,0,0,0,0,0,0,0,0,44.83,0,0,0,0,0,0,0,0,0,0,0,0,0,0,0,0,0,2.2999999999999998,null,2.2999999999999998,24,1,0,0,0,0,0,0,0,0,0,0,0,0,0,0,0,0,0,0,0,1,0,0,0,0,0,0,0,0,0,0,0,0,0,0,0,0,0,0,0,1,2.2999999999999998,null,2.2999999999999998,24,36.65,0,0,0,0,0,0,0,0,0,0,0,0,0,0,0,0,0,0,0,38.42,0,0,0,0,0,0,0,0,0,0,0,0,0,0,0,0,0,0,0,38.72,2.2999999999999998,null,2.1,22,{"$f":"YE25","v":4},{"$f":"YF25","v":4},{"$f":"YG25","v":4},{"$f":"YH25","v":4},{"$f":"YI25","v":4},{"$f":"YJ25","v":4},{"$f":"YK25","v":4},{"$f":"YL25","v":4},{"$f":"YM25","v":4},{"$f":"YN25","v":4},{"$f":"YO25","v":4},{"$f":"YP25","v":4},{"$f":"YQ25","v":4},{"$f":"YR25","v":4},{"$f":"YS25","v":4},{"$f":"YT25","v":4},{"$f":"YU25","v":4},{"$f":"YV25","v":4},{"$f":"YW25","v":4},{"$f":"YX25","v":4},{"$f":"YX26","v":4},{"$f":"ZA26","v":4},{"$f":"ZA25","v":4},{"$f":"ZB25","v":4},{"$f":"ZC25","v":4},{"$f":"ZD25","v":4},{"$f":"ZE25","v":4},{"$f":"ZF25","v":4},{"$f":"ZG25","v":4},{"$f":"ZH25","v":4},{"$f":"ZI25","v":4},{"$f":"ZJ25","v":4},{"$f":"ZK25","v":4},{"$f":"ZL25","v":4},{"$f":"ZM25","v":4},{"$f":"ZN25","v":4},{"$f":"ZO25","v":4},{"$f":"ZP25","v":4},{"$f":"ZQ25","v":4},{"$f":"ZR25","v":4},{"$f":"ZS25","v":4},{"$f":"ZS26","v":4},2.1,null,2.1,22,0,0,0,0,0,0,0,0,0,0,0,0,0,0,0,0,0,0,0,0,0,0,4,4,0,0,0,0,0,0,0,0,0,0,0,0,0,0,0,0,0,0,2.1,null,2.1,22,{"$f":"ABS25","v":51},{"$f":"ABT25","v":51},{"$f":"ABU25","v":51},{"$f":"ABV25","v":51},{"$f":"ABW25","v":51},{"$f":"ABX25","v":51},{"$f":"ABY25","v":51},{"$f":"ABZ25","v":51},{"$f":"ACA25","v":51},{"$f":"ACB25","v":51},{"$f":"ACC25","v":51},{"$f":"ACD25","v":51},{"$f":"ACE25","v":51},{"$f":"ACF25","v":51},{"$f":"ACG25","v":51},{"$f":"ACH25","v":51},{"$f":"ACI25","v":51},{"$f":"ACJ25","v":51},{"$f":"ACK25","v":51},{"$f":"ACL25","v":51},{"$f":"ACL26","v":51},{"$f":"ACO26","v":58},{"$f":"ACO25","v":58},{"$f":"ACP25","v":58},{"$f":"ACQ25","v":58},{"$f":"ACR25","v":58},{"$f":"ACS25","v":58},{"$f":"ACT25","v":58},{"$f":"ACU25","v":58},{"$f":"ACV25","v":58},{"$f":"ACW25","v":58},{"$f":"ACX25","v":58},{"$f":"ACY25","v":58},{"$f":"ACZ25","v":58},{"$f":"ADA25","v":58},{"$f":"ADB25","v":58},{"$f":"ADC25","v":58},{"$f":"ADD25","v":58},{"$f":"ADE25","v":58},{"$f":"ADF25","v":58},{"$f":"ADG25","v":58},{"$f":"ADG26","v":58},2.1]
[null,{"$f":"F22*G23-G22*F23","v":-500000},null,null,"d",{"$f":"-1*(F25*F18+G25*G18+H25*H18)","v":37500000},null,null,null,null,null,null,"5D",{"$f":"ROUND('3D Interpolace'!M28,2)","v":36.9},{"$f":"ROUND('3D Interpolace'!N28,2)","v":36.42},{"$f":"ROUND('3D Interpolace'!O28,2)","v":36},{"$f":"ROUND('3D Interpolace'!P28,2)","v":35.659999999999997},{"$f":"ROUND('3D Interpolace'!Q28,2)","v":35.380000000000003},{"$f":"ROUND('3D Interpolace'!R28,2)","v":35.159999999999997},{"$f":"ROUND('3D Interpolace'!S28,2)","v":35},{"$f":"ROUND('3D Interpolace'!T28,2)","v":34.9},{"$f":"ROUND('3D Interpolace'!U28,2)","v":34.86},{"$f":"ROUND('3D Interpolace'!V28,2)","v":34.92},{"$f":"ROUND('3D Interpolace'!W28,2)","v":35.07},{"$f":"ROUND('3D Interpolace'!X28,2)","v":35.39},{"$f":"ROUND('3D Interpolace'!Y28,2)","v":35.880000000000003},{"$f":"ROUND('3D Interpolace'!Z28,2)","v":36.409999999999997},{"$f":"ROUND('3D Interpolace'!AA28,2)","v":36.909999999999997},{"$f":"ROUND('3D Interpolace'!AB28,2)","v":37.26},{"$f":"ROUND('3D Interpolace'!AC28,2)","v":37.340000000000003},{"$f":"ROUND('3D Interpolace'!AD28,2)","v":37.19},{"$f":"ROUND('3D Interpolace'!AE28,2)","v":37.04},{"$f":"ROUND('3D Interpolace'!AF28,2)","v":37.1},{"$f":"ROUND('3D Interpolace'!AG28,2)","v":37.549999999999997},{"$f":"ROUND('3D Interpolace'!AH28,2)","v":38.69},{"$f":"ROUND('3D Interpolace'!AI28,2)","v":40.369999999999997},{"$f":"ROUND('3D Interpolace'!AJ28,2)","v":42.18},{"$f":"ROUND('3D Interpolace'!AK28,2)","v":43.71},{"$f":"ROUND('3D Interpolace'!AL28,2)","v":44.55},{"$f":"ROUND('3D Interpolace'!AM28,2)","v":44.5},{"$f":"ROUND('3D Interpolace'!AN28,2)","v":43.84},{"$f":"ROUND('3D Interpolace'!AO28,2)","v":42.86},{"$f":"ROUND('3D Interpolace'!AP28,2)","v":41.87},{"$f":"ROUND('3D Interpolace'!AQ28,2)","v":41.15},{"$f":"ROUND('3D Interpolace'!AR28,2)","v":40.75},{"$f":"ROUND('3D Interpolace'!AS28,2)","v":40.450000000000003},{"$f":"ROUND('3D Interpolace'!AT28,2)","v":40.229999999999997},{"$f":"ROUND('3D Interpolace'!AU28,2)","v":40.03},{"$f":"ROUND('3D Interpolace'!AV28,2)","v":39.82},{"$f":"ROUND('3D Interpolace'!AW28,2)","v":39.590000000000003},{"$f":"ROUND('3D Interpolace'!AX28,2)","v":39.369999999999997},{"$f":"ROUND('3D Interpolace'!AY28,2)","v":39.17},{"$f":"ROUND('3D Interpolace'!AZ28,2)","v":38.979999999999997},{"$f":"ROUND('3D Interpolace'!BA28,2)","v":38.799999999999997},null,2.4,25,null,null,null,null,null,null,null,null,null,null,null,null,null,null,null,null,null,null,null,null,null,4,4,null,null,null,null,null,null,null,null,null,null,null,null,null,null,null,null,null,null,2.4,null,2.4,25,36.9,36.42,36,35.659999999999997,35.380000000000003,35.159999999999997,35,34.9,34.86,34.92,35.07,35.39,35.880000000000003,36.409999999999997,36.909999999999997,37.26,37.340000000000003,37.19,37.04,37.1,37.549999999999997,42.69,44.37,42.18,43.71,44.55,44.5,43.84,42.86,41.87,41.15,40.75,40.450000000000003,40.229999999999997,40.03,39.82,39.590000000000003,39.369999999999997,39.17,38.979999999999997,38.799999999999997,2.4,null,2.1999999999999997,23,36.35,36.32,36.28,36.229999999999997,36.159999999999997,36.08,35.94,35.729999999999997,35.54,35.43,35.5,35.81,36.29,36.86,37.43,37.89,38.200000000000003,38.42,38.619999999999997,38.89,39.299999999999997,39.299999999999997,43.97,44.83,41.73,42.5,42.98,43.12,43.03,42.78,42.45,42.1,41.7,41.19,40.65,40.130000000000003,39.71,39.39,39.119999999999997,38.909999999999997,38.75,38.64,null,null,null,2.1999999999999997,23,0,0,0,0,0,0,0,0,0,0,0,0,0,0,0,0,0,0,0,0,0,0,0,0,0,0,0,0,0,0,0,0,0,0,0,0,0,0,0,0,0,0,2.1999999999999997,null,null,null,23,40.4,40.4,40.4,40.4,40.4,40.4,40.4,40.4,40.4,40.4,40.4,40.4,40.4,40.4,40.4,40.4,40.4,40.4,40.4,40.4,40.4,53,52.6,52.2,51.8,51.400000000000006,51,50.6,50.2,49.8,49.400000000000006,49,48.6,48.2,47.8,47.400000000000006,47,46.6,46.2,45.8,45.400000000000006,45,2.1999999999999997,null,null,null,null,null,2.1999999999999997,23,4.0499999999999972,4.0799999999999983,4.1199999999999974,4.1700000000000017,4.240000000000002,4.32,4.4600000000000009,4.6700000000000017,4.8599999999999994,4.9699999999999989,4.8999999999999986,4.5899999999999963,4.1099999999999994,3.5399999999999991,2.9699999999999989,2.509999999999998,2.1999999999999957,1.9799999999999969,1.7800000000000011,1.509999999999998,1.1000000000000014,13.700000000000003,8.6300000000000026,7.3700000000000045,10.07,8.9000000000000057,8.0200000000000031,7.480000000000004,7.1700000000000017,7.019999999999996,6.9500000000000028,6.8999999999999986,6.8999999999999986,7.0100000000000051,7.1499999999999986,7.2700000000000031,7.2899999999999991,7.2100000000000009,7.0800000000000054,6.8900000000000006,6.6500000000000057,6.3599999999999994,null,null,null,null,null,null,null,2.4,25,2.2099999999999991,2.6949999999999985,3.1049999999999986,3.4399999999999977,3.7049999999999983,3.8999999999999986,4.0249999999999986,4.08,4.0549999999999979,3.9424999999999972,3.7099999999999991,3.3199999999999985,2.8274999999999988,2.3324999999999996,1.9324999999999992,1.7499999999999982,1.8274999999999988,2.0224999999999991,2.1049999999999969,1.8574999999999982,9.6700000000000017,5.7650000000000023,5.4924999999999997,5.2974999999999977,3.625,2.807500000000001,2.8050000000000015,3.3049999999999997,3.9774999999999991,4.495000000000001,4.6725000000000012,4.6025000000000009,4.42,4.1824999999999992,3.9499999999999993,3.7475000000000005,3.5600000000000023,3.3650000000000002,3.1624999999999979,2.9550000000000001,null,null,2.4,25,5.27,5.27,5.27,5.27,5.27,5.27,1.68,1.68,1.68,5.27,5.27,5.27,5.27,5.27,22.99,22.99,22.99,5.27,5.27,22.99,0.19,1.68,1.68,1.68,5.27,5.27,5.27,5.27,5.27,1.68,1.68,1.68,1.68,1.68,5.27,5.27,5.27,5.27,5.27,5.27,null,null,2.4,25,-17.72,0,0,0,0,0,-3.59,-3.59,-3.59,-17.72,0,0,-17.72,-17.72,0,17.72,17.72,0,0,17.72,-0.37999999999999995,0,0,-3.59,0,-17.72,-17.72,0,0,0,-21.31,-21.31,-21.31,-21.31,-17.72,-17.72,-17.72,-17.72,-17.72,-17.72,null,null,2.4,25,0,0,0,0,0,0,0,0,0,0,0,0,0,0,0,0,0,0,0,0,0,0,0,0,0,0,0,0,0,0,0,0,0,0,0,0,0,0,0,0,0,2.4,null,2.4,25,0,0,0,0,0,0,0,0,0,0,0,0,0,0,0,0,0,0,0,0,0,0,0,44.83,0,0,0,0,0,0,0,0,0,0,0,0,0,0,0,0,0,2.4,null,2.4,25,1,0,0,0,0,0,0,0,0,0,0,0,0,0,0,0,0,0,0,0,1,0,0,0,0,0,0,0,0,0,0,0,0,0,0,0,0,0,0,0,1,2.4,null,2.4,25,36.9,0,0,0,0,0,0,0,0,0,0,0,0,0,0,0,0,0,0,0,37.549999999999997,0,0,0,0,0,0,0,0,0,0,0,0,0,0,0,0,0,0,0,38.799999999999997,2.4,null,2.1999999999999997,23,{"$f":"YE26","v":4},{"$f":"YF26","v":4},4,4,4,4,4,4,4,4,4,4,4,4,4,4,4,4,4,4,{"$f":"YX27","v":4},4,{"$f":"ZA26","v":4},4,4,4,4,4,4,4,4,4,4,4,4,4,4,4,4,4,4,{"$f":"ZS27","v":4},2.1999999999999997,null,2.1999999999999997,23,0,0,0,0,0,0,0,0,0,0,0,0,0,0,0,0,0,0,0,0,0,0,4,4,0,0,0,0,0,0,0,0,0,0,0,0,0,0,0,0,0,0,2.1999999999999997,null,2.1999999999999997,23,{"$f":"ABS26","v":51},{"$f":"ABT26","v":51},51,51,51,51,51,51,51,51,51,51,51,51,51,51,51,51,51,51,{"$f":"ACL27","v":51},58,{"$f":"ACO26","v":58},58,58,58,58,58,58,58,58,58,58,58,58,58,58,58,58,58,58,{"$f":"ADG27","v":58},2.1999999999999997]
[null,null,null,null,null,null,null,null,null,null,null,null,"6",{"$f":"ROUND('3D Interpolace'!M29,2)","v":37},{"$f":"ROUND('3D Interpolace'!N29,2)","v":36.44},{"$f":"ROUND('3D Interpolace'!O29,2)","v":35.96},{"$f":"ROUND('3D Interpolace'!P29,2)","v":35.56},{"$f":"ROUND('3D Interpolace'!Q29,2)","v":35.24},{"$f":"ROUND('3D Interpolace'!R29,2)","v":35},{"$f":"ROUND('3D Interpolace'!S29,2)","v":34.840000000000003},{"$f":"ROUND('3D Interpolace'!T29,2)","v":34.76},{"$f":"ROUND('3D Interpolace'!U29,2)","v":34.76},{"$f":"ROUND('3D Interpolace'!V29,2)","v":34.840000000000003},{"$f":"ROUND('3D Interpolace'!W29,2)","v":35},{"$f":"ROUND('3D Interpolace'!X29,2)","v":35.299999999999997},{"$f":"ROUND('3D Interpolace'!Y29,2)","v":35.75},{"$f":"ROUND('3D Interpolace'!Z29,2)","v":36.25},{"$f":"ROUND('3D Interpolace'!AA29,2)","v":36.700000000000003},{"$f":"ROUND('3D Interpolace'!AB29,2)","v":37},{"$f":"ROUND('3D Interpolace'!AC29,2)","v":37},{"$f":"ROUND('3D Interpolace'!AD29,2)","v":36.76},{"$f":"ROUND('3D Interpolace'!AE29,2)","v":36.520000000000003},{"$f":"ROUND('3D Interpolace'!AF29,2)","v":36.520000000000003},{"$f":"ROUND('3D Interpolace'!AG29,2)","v":37},{"$f":"ROUND('3D Interpolace'!AH29,2)","v":38.28},{"$f":"ROUND('3D Interpolace'!AI29,2)","v":40.200000000000003},{"$f":"ROUND('3D Interpolace'!AJ29,2)","v":42.28},{"$f":"ROUND('3D Interpolace'!AK29,2)","v":44.04},{"$f":"ROUND('3D Interpolace'!AL29,2)","v":45},{"$f":"ROUND('3D Interpolace'!AM29,2)","v":44.92},{"$f":"ROUND('3D Interpolace'!AN29,2)","v":44.12},{"$f":"ROUND('3D Interpolace'!AO29,2)","v":42.96},{"$f":"ROUND('3D Interpolace'!AP29,2)","v":41.8},{"$f":"ROUND('3D Interpolace'!AQ29,2)","v":41},{"$f":"ROUND('3D Interpolace'!AR29,2)","v":40.61},{"$f":"ROUND('3D Interpolace'!AS29,2)","v":40.380000000000003},{"$f":"ROUND('3D Interpolace'!AT29,2)","v":40.26},{"$f":"ROUND('3D Interpolace'!AU29,2)","v":40.15},{"$f":"ROUND('3D Interpolace'!AV29,2)","v":40},{"$f":"ROUND('3D Interpolace'!AW29,2)","v":39.799999999999997},{"$f":"ROUND('3D Interpolace'!AX29,2)","v":39.6},{"$f":"ROUND('3D Interpolace'!AY29,2)","v":39.4},{"$f":"ROUND('3D Interpolace'!AZ29,2)","v":39.200000000000003},{"$f":"ROUND('3D Interpolace'!BA29,2)","v":39},null,2.5,26,4,4,4,4,4,4,4,4,4,4,4,4,4,4,4,4,4,4,4,4,4,8,8,4,4,4,4,4,4,4,4,4,4,4,4,4,4,4,4,4,4,2.5,null,2.5,26,41,40.44,39.96,39.56,39.24,39,38.840000000000003,38.76,38.76,38.840000000000003,39,39.299999999999997,39.75,40.25,40.700000000000003,41,41,40.76,40.520000000000003,40.520000000000003,41,46.28,48.2,46.28,48.04,49,48.92,48.12,46.96,45.8,45,44.61,44.38,44.26,44.15,44,43.8,43.6,43.4,43.2,43,2.5,null,2.2999999999999998,24,36.65,36.369999999999997,36.119999999999997,35.9,35.71,35.56,35.409999999999997,35.26,35.15,35.14,35.26,35.58,36.07,36.64,37.18,37.590000000000003,37.78,37.81,37.83,37.979999999999997,38.42,38.42,43.33,44.63,42.01,43.19,43.86,43.89,43.49,42.85,42.16,41.62,41.21,40.81,40.43,40.08,39.770000000000003,39.49,39.25,39.04,38.869999999999997,38.72,null,null,null,2.2999999999999998,24,0,0,0,0,0,0,0,0,0,0,0,0,0,0,0,0,0,0,0,0,0,0,0,0,0,0,0,0,0,0,0,0,0,0,0,0,0,0,0,0,0,0,2.2999999999999998,null,null,null,24,40.6,40.6,40.6,40.6,40.6,40.6,40.6,40.6,40.6,40.6,40.6,40.6,40.6,40.6,40.6,40.6,40.6,40.6,40.6,40.6,40.6,52.5,52.1,51.7,51.3,50.9,50.5,50.1,49.7,49.3,48.9,48.5,48.1,47.7,47.3,46.9,46.5,46.1,45.7,45.3,44.9,44.5,2.2999999999999998,null,null,null,null,null,2.2999999999999998,24,3.9500000000000028,4.230000000000004,4.480000000000004,4.7000000000000028,4.8900000000000006,5.0399999999999991,5.1900000000000048,5.3400000000000034,5.4500000000000028,5.4600000000000009,5.3400000000000034,5.0200000000000031,4.5300000000000011,3.9600000000000009,3.4200000000000017,3.009999999999998,2.8200000000000003,2.7899999999999991,2.7700000000000031,2.6200000000000045,2.1799999999999997,14.079999999999998,8.7700000000000031,7.07,9.2899999999999991,7.7100000000000009,6.6400000000000006,6.2100000000000009,6.2100000000000009,6.4499999999999957,6.740000000000002,6.8800000000000026,6.8900000000000006,6.8900000000000006,6.8699999999999974,6.82,6.7299999999999969,6.6099999999999994,6.4500000000000028,6.259999999999998,6.0300000000000011,5.7800000000000011,null,null,null,null,null,null,null,2.5,26,0.40250000000000341,0.88250000000000206,1.2900000000000009,1.6250000000000018,1.8900000000000023,2.0850000000000009,2.2100000000000009,2.2625000000000028,2.240000000000002,2.1400000000000006,1.932500000000001,1.5875000000000021,1.1475000000000026,0.70250000000000057,0.34999999999999964,0.21250000000000036,0.33750000000000036,0.57750000000000057,0.6899999999999995,0.4375,7.4875000000000007,3.4550000000000018,3.0175000000000001,2.6599999999999984,0.86749999999999972,5.0000000000007816E-3,3.0000000000002913E-2,0.60000000000000142,1.3524999999999991,1.9250000000000007,2.1100000000000012,2.0100000000000016,1.7750000000000004,1.4799999999999986,1.2024999999999988,0.97250000000000192,0.77000000000000313,0.57000000000000028,0.36999999999999744,0.17249999999999766,null,null,2.5,26,22.99,22.99,22.99,22.99,22.99,5.27,5.27,5.27,5.27,5.27,22.99,22.99,22.99,22.99,22.99,22.99,22.99,22.99,22.99,22.99,0.56999999999999995,5.27,5.27,5.27,22.99,22.99,22.99,22.99,22.99,22.99,5.27,5.27,22.99,22.99,22.99,22.99,22.99,22.99,22.99,22.99,null,null,2.5,26,0,0,0,0,0,-17.72,-17.72,-17.72,-17.72,-17.72,17.72,0,0,0,0,0,0,0,0,0,-1.1099999999999999,-17.72,-17.72,-17.72,0,0,0,17.72,21.31,21.31,-17.72,-17.72,0,0,0,0,0,0,0,0,null,null,2.5,26,41,0,0,0,0,0,0,0,0,0,0,0,0,0,0,41,41,0,0,0,0,0,48.2,0,0,0,0,0,0,0,0,0,0,0,0,0,0,0,0,0,0,2.5,null,2.5,26,0,0,0,0,0,0,0,0,0,0,0,0,0,0,0,0,0,0,0,0,0,0,0,0,0,0,0,0,0,0,0,0,0,0,0,0,0,0,0,0,0,2.5,null,2.5,26,1,0,0,0,0,0,0,0,0,0,0,0,0,0,0,0,0,0,0,0,1,0,0,0,0,0,0,0,0,0,0,0,0,0,0,0,0,0,0,0,1,2.5,null,2.5,26,41,0,0,0,0,0,0,0,0,0,0,0,0,0,0,41,41,0,0,0,41,0,48.2,0,0,0,0,0,0,0,0,0,0,0,0,0,0,0,0,0,43,2.5,null,2.2999999999999998,24,4,4,4,4,4,4,4,4,4,4,4,4,4,4,4,4,4,4,4,4,4,4,4,4,4,4,4,4,4,4,4,4,4,4,4,4,4,4,4,4,4,4,2.2999999999999998,null,2.2999999999999998,24,0,0,0,0,0,0,0,0,0,0,0,0,0,0,0,0,0,0,0,0,0,0,4,4,0,0,0,0,0,0,0,0,0,0,0,0,0,0,0,0,0,0,2.2999999999999998,null,2.2999999999999998,24,51,51,51,51,51,51,51,51,51,51,51,51,51,51,51,51,51,51,51,51,51,58,58,58,58,58,58,58,58,58,58,58,58,58,58,58,58,58,58,58,58,58,2.2999999999999998]
[null,null,null,null,"z",{"$f":"(-F25)/H25","v":-2E-3},{"$f":"-G25/H25","v":-6.0000000000000001E-3},{"$f":"-F27/H25","v":75},null,null,null,null,"6A",{"$f":"ROUND('3D Interpolace'!M30,2)","v":36.909999999999997},{"$f":"ROUND('3D Interpolace'!N30,2)","v":36.44},{"$f":"ROUND('3D Interpolace'!O30,2)","v":36.03},{"$f":"ROUND('3D Interpolace'!P30,2)","v":35.69},{"$f":"ROUND('3D Interpolace'!Q30,2)","v":35.409999999999997},{"$f":"ROUND('3D Interpolace'!R30,2)","v":35.19},{"$f":"ROUND('3D Interpolace'!S30,2)","v":35.03},{"$f":"ROUND('3D Interpolace'!T30,2)","v":34.93},{"$f":"ROUND('3D Interpolace'!U30,2)","v":34.9},{"$f":"ROUND('3D Interpolace'!V30,2)","v":34.94},{"$f":"ROUND('3D Interpolace'!W30,2)","v":35.06},{"$f":"ROUND('3D Interpolace'!X30,2)","v":35.31},{"$f":"ROUND('3D Interpolace'!Y30,2)","v":35.69},{"$f":"ROUND('3D Interpolace'!Z30,2)","v":36.119999999999997},{"$f":"ROUND('3D Interpolace'!AA30,2)","v":36.520000000000003},{"$f":"ROUND('3D Interpolace'!AB30,2)","v":36.78},{"$f":"ROUND('3D Interpolace'!AC30,2)","v":36.770000000000003},{"$f":"ROUND('3D Interpolace'!AD30,2)","v":36.520000000000003},{"$f":"ROUND('3D Interpolace'!AE30,2)","v":36.29},{"$f":"ROUND('3D Interpolace'!AF30,2)","v":36.31},{"$f":"ROUND('3D Interpolace'!AG30,2)","v":36.82},{"$f":"ROUND('3D Interpolace'!AH30,2)","v":38.15},{"$f":"ROUND('3D Interpolace'!AI30,2)","v":40.15},{"$f":"ROUND('3D Interpolace'!AJ30,2)","v":42.3},{"$f":"ROUND('3D Interpolace'!AK30,2)","v":44.14},{"$f":"ROUND('3D Interpolace'!AL30,2)","v":45.15},{"$f":"ROUND('3D Interpolace'!AM30,2)","v":45.11},{"$f":"ROUND('3D Interpolace'!AN30,2)","v":44.33},{"$f":"ROUND('3D Interpolace'!AO30,2)","v":43.19},{"$f":"ROUND('3D Interpolace'!AP30,2)","v":42.04},{"$f":"ROUND('3D Interpolace'!AQ30,2)","v":41.26},{"$f":"ROUND('3D Interpolace'!AR30,2)","v":40.89},{"$f":"ROUND('3D Interpolace'!AS30,2)","v":40.68},{"$f":"ROUND('3D Interpolace'!AT30,2)","v":40.58},{"$f":"ROUND('3D Interpolace'!AU30,2)","v":40.49},{"$f":"ROUND('3D Interpolace'!AV30,2)","v":40.35},{"$f":"ROUND('3D Interpolace'!AW30,2)","v":40.159999999999997},{"$f":"ROUND('3D Interpolace'!AX30,2)","v":39.96},{"$f":"ROUND('3D Interpolace'!AY30,2)","v":39.76},{"$f":"ROUND('3D Interpolace'!AZ30,2)","v":39.56},{"$f":"ROUND('3D Interpolace'!BA30,2)","v":39.35},null,2.6,27,4,4,4,4,4,4,4,4,4,4,4,4,4,4,4,4,4,4,4,4,4,8,8,4,4,4,4,4,4,4,4,4,4,4,4,4,4,4,4,4,4,2.6,null,2.6,27,40.909999999999997,40.44,40.03,39.69,39.409999999999997,39.19,39.03,38.93,38.9,38.94,39.06,39.31,39.69,40.119999999999997,40.520000000000003,40.78,40.770000000000003,40.520000000000003,40.29,40.31,40.82,46.15,48.15,46.3,48.14,49.15,49.11,48.33,47.19,46.04,45.26,44.89,44.68,44.58,44.49,44.35,44.16,43.96,43.76,43.56,43.35,2.6,null,2.4,25,{"$f":"IF(ISNUMBER(INDEX(VstupniData,$EQ29,ER$2)),INDEX(VstupniData,$EQ29,ER$2),\"\")","v":36.9},36.42,36,35.659999999999997,35.380000000000003,35.159999999999997,35,34.9,34.86,34.92,35.07,35.39,35.880000000000003,36.409999999999997,36.909999999999997,37.26,{"$f":"IF(ISNUMBER(INDEX(VstupniData,$EQ29,FH$2)),INDEX(VstupniData,$EQ29,FH$2),\"\")","v":37.340000000000003},37.19,37.04,37.1,37.549999999999997,37.549999999999997,42.69,{"$f":"IF(ISNUMBER(INDEX(VstupniData,$EQ29,FO$2)),INDEX(VstupniData,$EQ29,FO$2),\"\")","v":44.37},42.18,43.71,44.55,44.5,43.84,42.86,41.87,41.15,40.75,40.450000000000003,40.229999999999997,40.03,39.82,39.590000000000003,39.369999999999997,39.17,38.979999999999997,38.799999999999997,null,null,null,2.4,25,0,0,0,0,0,0,0,0,0,0,0,0,0,0,0,0,0,0,0,0,0,0,0,0,0,0,0,0,0,0,0,0,0,0,0,0,0,0,0,0,0,0,2.4,null,null,null,25,40.799999999999997,40.799999999999997,40.799999999999997,40.799999999999997,40.799999999999997,40.799999999999997,40.799999999999997,40.799999999999997,40.799999999999997,40.799999999999997,40.799999999999997,40.799999999999997,40.799999999999997,40.799999999999997,40.799999999999997,40.799999999999997,40.799999999999997,40.799999999999997,40.799999999999997,40.799999999999997,40.799999999999997,52,51.6,51.2,50.8,50.4,50,49.6,49.2,48.8,48.4,48,47.6,47.2,46.8,46.4,46,45.6,45.2,44.8,44.4,44,2.4,null,null,null,null,null,2.4,25,3.8999999999999986,4.3799999999999955,4.7999999999999972,5.1400000000000006,5.4199999999999946,5.6400000000000006,5.7999999999999972,5.8999999999999986,5.9399999999999977,5.8799999999999955,5.7299999999999969,5.4099999999999966,4.9199999999999946,4.3900000000000006,3.8900000000000006,3.5399999999999991,3.4599999999999937,3.6099999999999994,3.759999999999998,3.6999999999999957,3.25,14.450000000000003,8.9100000000000037,6.8300000000000054,8.6199999999999974,6.6899999999999977,5.4500000000000028,5.1000000000000014,5.3599999999999994,5.9399999999999977,6.5300000000000011,6.8500000000000014,6.8500000000000014,6.75,6.57,6.3699999999999974,6.18,6.009999999999998,5.8300000000000054,5.6299999999999955,5.4200000000000017,5.2000000000000028,null,null,null,null,null,null,null,2.6,27,2.677500000000002,3.0200000000000014,3.3175000000000008,3.5700000000000021,3.7800000000000029,3.9550000000000018,4.0975000000000001,4.1975000000000016,4.240000000000002,4.2050000000000001,4.0599999999999987,3.7874999999999996,3.4300000000000015,3.0600000000000005,2.7575000000000003,2.6375000000000011,2.75,2.9574999999999996,3.0299999999999994,2.74,10.062500000000002,7.0125000000000028,5.557500000000001,4.18,2.3574999999999999,1.4474999999999998,1.4075000000000024,1.9000000000000021,2.5750000000000011,3.0850000000000026,3.2325000000000017,3.115000000000002,2.8775000000000013,2.5875000000000004,2.3125,2.0825000000000014,1.8800000000000026,1.6799999999999997,1.4800000000000004,1.2825000000000006,null,null,2.6,27,5.27,5.27,5.27,5.27,5.27,5.27,1.68,1.68,1.68,1.68,1.68,5.27,5.27,5.27,5.27,5.27,5.27,5.27,5.27,5.27,0.06,0.56999999999999995,1.68,1.68,5.27,22.99,22.99,22.99,5.27,5.27,5.27,5.27,5.27,5.27,5.27,5.27,22.99,22.99,22.99,22.99,null,null,2.6,27,-17.72,0,0,0,0,0,-3.59,-3.59,-21.31,-21.31,-3.59,0,0,0,-17.72,-17.72,-17.72,0,0,-17.72,-0.51,-1.1099999999999999,-3.59,-3.59,-17.72,0,17.72,17.72,3.59,4.6999999999999993,-17.72,-17.72,-17.72,-17.72,-17.72,-17.72,0,0,0,0,null,null,2.6,27,0,0,0,0,0,0,0,0,0,0,0,0,0,0,0,0,0,0,0,0,0,0,0,0,0,49.15,0,0,0,0,0,0,0,0,0,0,0,0,0,0,0,2.6,null,2.6,27,0,0,0,0,0,0,0,0,0,0,0,0,0,0,0,0,0,0,0,0,0,0,0,0,0,0,0,0,0,0,0,0,0,0,0,0,0,0,0,0,0,2.6,null,2.6,27,1,0,0,0,0,0,0,0,0,0,0,0,0,0,0,0,0,0,0,0,1,0,0,0,0,0,0,0,0,0,0,0,0,0,0,0,0,0,0,0,1,2.6,null,2.6,27,40.909999999999997,0,0,0,0,0,0,0,0,0,0,0,0,0,0,0,0,0,0,0,40.82,0,0,0,0,49.15,0,0,0,0,0,0,0,0,0,0,0,0,0,0,43.35,2.6,null,2.4,25,4,4,4,4,4,4,4,4,4,4,4,4,4,4,4,4,4,4,4,4,4,4,4,4,4,4,4,4,4,4,4,4,4,4,4,4,4,4,4,4,4,4,2.4,null,2.4,25,0,0,0,0,0,0,0,0,0,0,0,0,0,0,0,0,0,0,0,0,0,0,4,4,0,0,0,0,0,0,0,0,0,0,0,0,0,0,0,0,0,0,2.4,null,2.4,25,51,51,51,51,51,51,51,51,51,51,51,51,51,51,51,51,51,51,51,51,51,58,58,58,58,58,58,58,58,58,58,58,58,58,58,58,58,58,58,58,58,58,2.4]
[null,null,null,null,null,null,null,null,null,null,null,null,"6B",{"$f":"ROUND('3D Interpolace'!M31,2)","v":36.700000000000003},{"$f":"ROUND('3D Interpolace'!N31,2)","v":36.44},{"$f":"ROUND('3D Interpolace'!O31,2)","v":36.21},{"$f":"ROUND('3D Interpolace'!P31,2)","v":36},{"$f":"ROUND('3D Interpolace'!Q31,2)","v":35.82},{"$f":"ROUND('3D Interpolace'!R31,2)","v":35.659999999999997},{"$f":"ROUND('3D Interpolace'!S31,2)","v":35.5},{"$f":"ROUND('3D Interpolace'!T31,2)","v":35.35},{"$f":"ROUND('3D Interpolace'!U31,2)","v":35.229999999999997},{"$f":"ROUND('3D Interpolace'!V31,2)","v":35.17},{"$f":"ROUND('3D Interpolace'!W31,2)","v":35.21},{"$f":"ROUND('3D Interpolace'!X31,2)","v":35.380000000000003},{"$f":"ROUND('3D Interpolace'!Y31,2)","v":35.67},{"$f":"ROUND('3D Interpolace'!Z31,2)","v":36},{"$f":"ROUND('3D Interpolace'!AA31,2)","v":36.32},{"$f":"ROUND('3D Interpolace'!AB31,2)","v":36.549999999999997},{"$f":"ROUND('3D Interpolace'!AC31,2)","v":36.549999999999997},{"$f":"ROUND('3D Interpolace'!AD31,2)","v":36.36},{"$f":"ROUND('3D Interpolace'!AE31,2)","v":36.200000000000003},{"$f":"ROUND('3D Interpolace'!AF31,2)","v":36.28},{"$f":"ROUND('3D Interpolace'!AG31,2)","v":36.83},{"$f":"ROUND('3D Interpolace'!AH31,2)","v":38.15},{"$f":"ROUND('3D Interpolace'!AI31,2)","v":40.1},{"$f":"ROUND('3D Interpolace'!AJ31,2)","v":42.22},{"$f":"ROUND('3D Interpolace'!AK31,2)","v":44.02},{"$f":"ROUND('3D Interpolace'!AL31,2)","v":45.06},{"$f":"ROUND('3D Interpolace'!AM31,2)","v":45.09},{"$f":"ROUND('3D Interpolace'!AN31,2)","v":44.44},{"$f":"ROUND('3D Interpolace'!AO31,2)","v":43.44},{"$f":"ROUND('3D Interpolace'!AP31,2)","v":42.43},{"$f":"ROUND('3D Interpolace'!AQ31,2)","v":41.73},{"$f":"ROUND('3D Interpolace'!AR31,2)","v":41.39},{"$f":"ROUND('3D Interpolace'!AS31,2)","v":41.18},{"$f":"ROUND('3D Interpolace'!AT31,2)","v":41.05},{"$f":"ROUND('3D Interpolace'!AU31,2)","v":40.93},{"$f":"ROUND('3D Interpolace'!AV31,2)","v":40.78},{"$f":"ROUND('3D Interpolace'!AW31,2)","v":40.58},{"$f":"ROUND('3D Interpolace'!AX31,2)","v":40.380000000000003},{"$f":"ROUND('3D Interpolace'!AY31,2)","v":40.18},{"$f":"ROUND('3D Interpolace'!AZ31,2)","v":39.979999999999997},{"$f":"ROUND('3D Interpolace'!BA31,2)","v":39.78},null,2.7,28,null,null,null,null,null,null,null,null,null,null,null,null,null,null,null,null,null,null,null,null,null,null,null,null,null,null,null,null,null,null,null,null,null,null,null,null,null,null,null,null,null,2.7,null,2.7,28,36.700000000000003,36.44,36.21,36,35.82,35.659999999999997,35.5,35.35,35.229999999999997,35.17,35.21,35.380000000000003,35.67,36,36.32,36.549999999999997,36.549999999999997,36.36,36.200000000000003,36.28,36.83,38.15,40.1,42.22,44.02,45.06,45.09,44.44,43.44,42.43,41.73,41.39,41.18,41.05,40.93,40.78,40.58,40.380000000000003,40.18,39.979999999999997,39.78,2.7,null,2.5,26,41,40.44,39.96,39.56,39.24,39,38.840000000000003,38.76,38.76,38.840000000000003,39,39.299999999999997,39.75,40.25,40.700000000000003,41,41,40.76,40.520000000000003,40.520000000000003,41,41,46.28,48.2,46.28,48.04,49,48.92,48.12,46.96,45.8,45,44.61,44.38,44.26,44.15,44,43.8,43.6,43.4,43.2,43,null,null,null,2.5,26,41,40.44,39.96,39.56,39.24,39,38.840000000000003,38.76,38.76,38.840000000000003,39,39.299999999999997,39.75,40.25,40.700000000000003,41,41,40.76,40.520000000000003,40.520000000000003,41,41,46.28,48.2,46.28,48.04,49,48.92,48.12,46.96,45.8,45,44.61,44.38,44.26,44.15,44,43.8,43.6,43.4,43.2,43,2.5,null,null,null,26,41,41,41,41,41,41,41,41,41,41,41,41,41,41,41,41,41,41,41,41,41,51.5,51.1,50.7,50.3,49.9,49.5,49.1,48.7,48.3,47.9,47.5,47.1,46.7,46.3,45.9,45.5,45.1,44.7,44.3,43.9,43.5,2.5,null,null,null,null,null,2.5,26,0,0.56000000000000227,1.0399999999999991,1.4399999999999977,1.759999999999998,2,2.1599999999999966,2.240000000000002,2.240000000000002,2.1599999999999966,2,1.7000000000000028,1.25,0.75,0.29999999999999716,0,0,0.24000000000000199,0.47999999999999687,0.47999999999999687,0,10.5,4.82,2.5,4.019999999999996,1.8599999999999994,0.5,0.17999999999999972,0.5800000000000054,1.3399999999999963,2.1000000000000014,2.5,2.490000000000002,2.3200000000000003,2.0399999999999991,1.75,1.5,1.3000000000000043,1.1000000000000014,0.89999999999999858,0.69999999999999574,0.5,null,null,null,null,null,null,null,2.6999999999999997,28,5.0024999999999995,5.125,5.2474999999999987,5.3724999999999987,5.4975000000000005,5.6350000000000016,5.8000000000000007,5.9725000000000019,6.1125000000000007,6.1749999999999989,6.1174999999999997,5.9399999999999995,5.6850000000000005,5.4075000000000006,5.1650000000000009,5.0550000000000015,5.125,5.254999999999999,5.2474999999999987,4.9024999999999999,12.522500000000001,10.525000000000002,8.1475000000000009,5.84,4.0449999999999999,3.0874999999999986,2.9225000000000012,3.2475000000000005,3.7524999999999995,4.1300000000000008,4.2100000000000009,4.0775000000000023,3.8625000000000007,3.6100000000000012,3.365000000000002,3.1500000000000004,2.9500000000000011,2.75,2.5500000000000007,2.3500000000000014,null,null,2.6999999999999997,28,1.68,1.68,1.68,1.68,1.68,1.68,1.68,1.68,0.56999999999999995,0.56999999999999995,0.56999999999999995,1.68,1.68,1.68,1.68,1.68,1.68,1.68,1.68,1.68,0.02,0.06,0.19,1.68,1.68,5.27,5.27,5.27,5.27,1.68,1.68,1.68,5.27,5.27,5.27,5.27,5.27,5.27,5.27,5.27,null,null,2.6999999999999997,28,-3.59,-3.59,-3.59,-3.59,-3.59,-3.59,-3.59,-3.59,-4.6999999999999993,-4.6999999999999993,-1.1099999999999999,-3.59,-3.59,-3.59,-3.59,-3.59,-3.59,-3.59,-3.59,-3.59,-0.17,-0.51,-1.49,-3.59,-3.59,0,0,0,3.59,1.1099999999999999,-3.59,-3.59,0,0,0,-17.72,-17.72,-17.72,-17.72,-17.72,null,null,2.7,28,0,0,0,0,0,0,0,0,0,0,0,0,0,0,0,0,0,0,0,0,0,0,0,0,0,0,0,0,0,0,0,0,0,0,0,0,0,0,0,0,0,2.7,null,2.7,28,41,0,0,0,0,0,0,0,0,0,0,0,0,0,0,41,41,0,0,0,41,0,0,48.2,0,0,0,0,0,0,0,0,0,0,0,0,0,0,0,0,0,2.7,null,2.7,28,1,0,0,0,0,0,0,0,0,0,0,0,0,0,0,0,0,0,0,0,1,0,0,0,0,0,0,0,0,0,0,0,0,0,0,0,0,0,0,0,1,2.7,null,2.7,28,36.700000000000003,0,0,0,0,0,0,0,0,0,0,0,0,0,0,0,0,0,0,0,36.83,0,0,0,0,0,0,0,0,0,0,0,0,0,0,0,0,0,0,0,39.78,2.7,null,2.5,26,4,4,4,4,4,4,4,4,4,4,4,4,4,4,4,4,4,4,4,4,4,4,4,4,4,4,4,4,4,4,4,4,4,4,4,4,4,4,4,4,4,4,2.5,null,2.5,26,4,4,4,4,4,4,4,4,4,4,4,4,4,4,4,4,4,4,4,4,4,4,8,8,4,4,4,4,4,4,4,4,4,4,4,4,4,4,4,4,4,4,2.5,null,2.5,26,51,51,51,51,51,51,51,51,51,51,51,51,51,51,51,51,51,51,51,51,51,58,58,58,58,58,58,58,58,58,58,58,58,58,58,58,58,58,58,58,58,58,2.5]
[null,null,null,null,"průměr",{"$f":"AVERAGEA(N3:BB63)","v":37.252383046781283},null,null,null,null,null,null,"6C",{"$f":"ROUND('3D Interpolace'!M32,2)","v":36.42},{"$f":"ROUND('3D Interpolace'!N32,2)","v":36.43},{"$f":"ROUND('3D Interpolace'!O32,2)","v":36.42},{"$f":"ROUND('3D Interpolace'!P32,2)","v":36.380000000000003},{"$f":"ROUND('3D Interpolace'!Q32,2)","v":36.31},{"$f":"ROUND('3D Interpolace'!R32,2)","v":36.22},{"$f":"ROUND('3D Interpolace'!S32,2)","v":36.08},{"$f":"ROUND('3D Interpolace'!T32,2)","v":35.869999999999997},{"$f":"ROUND('3D Interpolace'!U32,2)","v":35.659999999999997},{"$f":"ROUND('3D Interpolace'!V32,2)","v":35.49},{"$f":"ROUND('3D Interpolace'!W32,2)","v":35.43},{"$f":"ROUND('3D Interpolace'!X32,2)","v":35.51},{"$f":"ROUND('3D Interpolace'!Y32,2)","v":35.68},{"$f":"ROUND('3D Interpolace'!Z32,2)","v":35.909999999999997},{"$f":"ROUND('3D Interpolace'!AA32,2)","v":36.14},{"$f":"ROUND('3D Interpolace'!AB32,2)","v":36.33},{"$f":"ROUND('3D Interpolace'!AC32,2)","v":36.35},{"$f":"ROUND('3D Interpolace'!AD32,2)","v":36.24},{"$f":"ROUND('3D Interpolace'!AE32,2)","v":36.18},{"$f":"ROUND('3D Interpolace'!AF32,2)","v":36.35},{"$f":"ROUND('3D Interpolace'!AG32,2)","v":36.93},{"$f":"ROUND('3D Interpolace'!AH32,2)","v":38.200000000000003},{"$f":"ROUND('3D Interpolace'!AI32,2)","v":40.049999999999997},{"$f":"ROUND('3D Interpolace'!AJ32,2)","v":42.04},{"$f":"ROUND('3D Interpolace'!AK32,2)","v":43.76},{"$f":"ROUND('3D Interpolace'!AL32,2)","v":44.78},{"$f":"ROUND('3D Interpolace'!AM32,2)","v":44.92},{"$f":"ROUND('3D Interpolace'!AN32,2)","v":44.46},{"$f":"ROUND('3D Interpolace'!AO32,2)","v":43.67},{"$f":"ROUND('3D Interpolace'!AP32,2)","v":42.85},{"$f":"ROUND('3D Interpolace'!AQ32,2)","v":42.27},{"$f":"ROUND('3D Interpolace'!AR32,2)","v":41.97},{"$f":"ROUND('3D Interpolace'!AS32,2)","v":41.75},{"$f":"ROUND('3D Interpolace'!AT32,2)","v":41.57},{"$f":"ROUND('3D Interpolace'!AU32,2)","v":41.41},{"$f":"ROUND('3D Interpolace'!AV32,2)","v":41.22},{"$f":"ROUND('3D Interpolace'!AW32,2)","v":41.02},{"$f":"ROUND('3D Interpolace'!AX32,2)","v":40.82},{"$f":"ROUND('3D Interpolace'!AY32,2)","v":40.619999999999997},{"$f":"ROUND('3D Interpolace'!AZ32,2)","v":40.42},{"$f":"ROUND('3D Interpolace'!BA32,2)","v":40.22},null,2.8,29,null,null,null,null,null,null,null,null,null,null,null,null,null,null,null,null,null,null,null,null,null,null,null,null,null,null,null,null,null,null,null,null,null,null,null,null,null,null,null,null,null,2.8,null,2.8,29,36.42,36.43,36.42,36.380000000000003,36.31,36.22,36.08,35.869999999999997,35.659999999999997,35.49,35.43,35.51,35.68,35.909999999999997,36.14,36.33,36.35,36.24,36.18,36.35,36.93,38.200000000000003,40.049999999999997,42.04,43.76,44.78,44.92,44.46,43.67,42.85,42.27,41.97,41.75,41.57,41.41,41.22,41.02,40.82,40.619999999999997,40.42,40.22,2.8,null,2.6,27,40.909999999999997,40.44,40.03,39.69,39.409999999999997,39.19,39.03,38.93,38.9,38.94,39.06,39.31,39.69,40.119999999999997,40.520000000000003,40.78,40.770000000000003,40.520000000000003,40.29,40.31,40.82,40.82,46.15,48.15,46.3,48.14,49.15,49.11,48.33,47.19,46.04,45.26,44.89,44.68,44.58,44.49,44.35,44.16,43.96,43.76,43.56,43.35,null,null,null,2.6,27,40.909999999999997,0,0,0,0,39.19,0,0,0,0,39.06,0,0,0,0,40.78,0,0,0,0,40.82,40.82,46.15,48.15,0,0,49.15,0,0,0,0,45.26,0,0,0,0,44.35,0,0,0,0,43.35,2.6,null,null,null,27,41.2,41.2,41.2,41.2,41.2,41.2,41.2,41.2,41.2,41.2,41.2,41.2,41.2,41.2,41.2,41.2,41.2,41.2,41.2,41.2,41.2,51,50.6,50.2,49.8,49.4,49,48.6,48.2,47.8,47.4,47,46.6,46.2,45.8,45.4,45,44.6,44.2,43.8,43.4,43,2.6,null,null,null,null,null,2.6,27,0.29000000000000625,0.76000000000000512,1.1700000000000017,1.5100000000000051,1.7900000000000063,2.0100000000000051,2.1700000000000017,2.2700000000000031,2.3000000000000043,2.2600000000000051,2.1400000000000006,1.8900000000000006,1.5100000000000051,1.0800000000000054,0.67999999999999972,0.42000000000000171,0.42999999999999972,0.67999999999999972,0.91000000000000369,0.89000000000000057,0.38000000000000256,10.18,4.4500000000000028,2.0500000000000043,3.5,1.259999999999998,-0.14999999999999858,-0.50999999999999801,-0.12999999999999545,0.60999999999999943,1.3599999999999994,1.740000000000002,1.7100000000000009,1.5200000000000031,1.2199999999999989,0.90999999999999659,0.64999999999999858,0.44000000000000483,0.24000000000000199,3.9999999999999147E-2,-0.16000000000000369,-0.35000000000000142,null,null,null,null,null,null,null,2.8,29,5.3424999999999994,5.24,5.1824999999999992,5.1699999999999982,5.1999999999999993,5.2925000000000004,5.4725000000000001,5.7075000000000014,5.9324999999999992,6.0849999999999973,6.1174999999999997,6.0425000000000004,5.9,5.7225000000000001,5.5474999999999994,5.4499999999999993,5.4724999999999984,5.5174999999999983,5.4199999999999982,5.0199999999999978,11.9575,10.047500000000003,7.7950000000000017,5.6024999999999991,3.8625000000000007,2.8600000000000012,2.5500000000000025,2.6750000000000007,2.9724999999999984,3.1874999999999982,3.1824999999999992,3.0325000000000024,2.8425000000000011,2.629999999999999,2.4175000000000004,2.2175000000000011,2.0200000000000014,1.8200000000000003,1.6199999999999974,1.4174999999999986,null,null,2.8,29,1.68,1.68,1.68,1.68,1.68,1.68,1.68,1.68,1.68,0.56999999999999995,0.56999999999999995,0.56999999999999995,1.68,1.68,1.68,1.68,1.68,1.68,1.68,1.68,0.06,0.06,0.56999999999999995,1.68,5.27,5.27,5.27,5.27,5.27,5.27,5.27,5.27,5.27,5.27,5.27,5.27,5.27,22.99,22.99,22.99,null,null,2.8,29,-3.59,-3.59,-3.59,-21.31,-21.31,-21.31,-21.31,-21.31,-21.31,-22.419999999999998,-4.6999999999999993,-4.6999999999999993,-3.59,-3.59,-3.59,-3.59,-3.59,-3.59,-3.59,-21.31,-0.51,-1.6199999999999999,-1.1099999999999999,-3.59,-17.72,-17.72,-17.72,0,0,3.59,-17.72,-17.72,-17.72,-17.72,-17.72,-17.72,-17.72,0,0,0,null,null,2.8,29,0,0,0,0,0,0,0,0,0,0,0,0,0,0,0,0,0,0,0,0,0,0,0,0,0,0,0,0,0,0,0,0,0,0,0,0,0,0,0,0,0,2.8,null,2.8,29,0,0,0,0,0,0,0,0,0,0,0,0,0,0,0,0,0,0,0,0,0,0,0,0,0,0,49.15,0,0,0,0,0,0,0,0,0,0,0,0,0,0,2.8,null,2.8,29,1,0,0,0,0,0,0,0,0,0,0,0,0,0,0,0,0,0,0,0,1,0,0,0,0,0,0,0,0,0,0,0,0,0,0,0,0,0,0,0,1,2.8,null,2.8,29,36.42,0,0,0,0,0,0,0,0,0,0,0,0,0,0,0,0,0,0,0,36.93,0,0,0,0,0,0,0,0,0,0,0,0,0,0,0,0,0,0,0,40.22,2.8,null,2.6,27,4,4,4,4,4,4,4,4,4,4,4,4,4,4,4,4,4,4,4,4,4,4,4,4,4,4,4,4,4,4,4,4,4,4,4,4,4,4,4,4,4,4,2.6,null,2.6,27,4,4,4,4,4,4,4,4,4,4,4,4,4,4,4,4,4,4,4,4,4,4,8,8,4,4,4,4,4,4,4,4,4,4,4,4,4,4,4,4,4,4,2.6,null,2.6,27,51,51,51,51,51,51,51,51,51,51,51,51,51,51,51,51,51,51,51,51,51,58,58,58,58,58,58,58,58,58,58,58,58,58,58,58,58,58,58,58,58,58,2.6]
[null,null,null,null,null,null,null,null,null,null,null,null,"6D",{"$f":"ROUND('3D Interpolace'!M33,2)","v":36.17},{"$f":"ROUND('3D Interpolace'!N33,2)","v":36.409999999999997},{"$f":"ROUND('3D Interpolace'!O33,2)","v":36.58},{"$f":"ROUND('3D Interpolace'!P33,2)","v":36.69},{"$f":"ROUND('3D Interpolace'!Q33,2)","v":36.74},{"$f":"ROUND('3D Interpolace'!R33,2)","v":36.729999999999997},{"$f":"ROUND('3D Interpolace'!S33,2)","v":36.6},{"$f":"ROUND('3D Interpolace'!T33,2)","v":36.36},{"$f":"ROUND('3D Interpolace'!U33,2)","v":36.08},{"$f":"ROUND('3D Interpolace'!V33,2)","v":35.840000000000003},{"$f":"ROUND('3D Interpolace'!W33,2)","v":35.700000000000003},{"$f":"ROUND('3D Interpolace'!X33,2)","v":35.69},{"$f":"ROUND('3D Interpolace'!Y33,2)","v":35.75},{"$f":"ROUND('3D Interpolace'!Z33,2)","v":35.86},{"$f":"ROUND('3D Interpolace'!AA33,2)","v":36},{"$f":"ROUND('3D Interpolace'!AB33,2)","v":36.14},{"$f":"ROUND('3D Interpolace'!AC33,2)","v":36.18},{"$f":"ROUND('3D Interpolace'!AD33,2)","v":36.14},{"$f":"ROUND('3D Interpolace'!AE33,2)","v":36.17},{"$f":"ROUND('3D Interpolace'!AF33,2)","v":36.42},{"$f":"ROUND('3D Interpolace'!AG33,2)","v":37.020000000000003},{"$f":"ROUND('3D Interpolace'!AH33,2)","v":38.22},{"$f":"ROUND('3D Interpolace'!AI33,2)","v":39.94},{"$f":"ROUND('3D Interpolace'!AJ33,2)","v":41.79},{"$f":"ROUND('3D Interpolace'!AK33,2)","v":43.4},{"$f":"ROUND('3D Interpolace'!AL33,2)","v":44.41},{"$f":"ROUND('3D Interpolace'!AM33,2)","v":44.65},{"$f":"ROUND('3D Interpolace'!AN33,2)","v":44.37},{"$f":"ROUND('3D Interpolace'!AO33,2)","v":43.8},{"$f":"ROUND('3D Interpolace'!AP33,2)","v":43.19},{"$f":"ROUND('3D Interpolace'!AQ33,2)","v":42.74},{"$f":"ROUND('3D Interpolace'!AR33,2)","v":42.49},{"$f":"ROUND('3D Interpolace'!AS33,2)","v":42.26},{"$f":"ROUND('3D Interpolace'!AT33,2)","v":42.05},{"$f":"ROUND('3D Interpolace'!AU33,2)","v":41.85},{"$f":"ROUND('3D Interpolace'!AV33,2)","v":41.65},{"$f":"ROUND('3D Interpolace'!AW33,2)","v":41.44},{"$f":"ROUND('3D Interpolace'!AX33,2)","v":41.24},{"$f":"ROUND('3D Interpolace'!AY33,2)","v":41.04},{"$f":"ROUND('3D Interpolace'!AZ33,2)","v":40.840000000000003},{"$f":"ROUND('3D Interpolace'!BA33,2)","v":40.65},null,2.9,30,null,null,null,null,null,null,null,null,null,null,null,null,null,null,null,null,null,null,null,null,null,null,null,null,null,null,null,null,null,null,null,null,null,null,null,null,null,null,null,null,null,2.9,null,2.9,30,36.17,36.409999999999997,36.58,36.69,36.74,36.729999999999997,36.6,36.36,36.08,35.840000000000003,35.700000000000003,35.69,35.75,35.86,36,36.14,36.18,36.14,36.17,36.42,37.020000000000003,38.22,39.94,41.79,43.4,44.41,44.65,44.37,43.8,43.19,42.74,42.49,42.26,42.05,41.85,41.65,41.44,41.24,41.04,40.840000000000003,40.65,2.9,null,2.6999999999999997,28,36.700000000000003,36.44,36.21,36,35.82,35.659999999999997,35.5,35.35,35.229999999999997,35.17,35.21,35.380000000000003,35.67,36,36.32,36.549999999999997,36.549999999999997,36.36,36.200000000000003,36.28,36.83,36.83,38.15,40.1,42.22,44.02,45.06,45.09,44.44,43.44,42.43,41.73,41.39,41.18,41.05,40.93,40.78,40.58,40.380000000000003,40.18,39.979999999999997,39.78,null,null,null,2.6999999999999997,28,0,0,0,0,0,0,0,0,0,0,0,0,0,0,0,0,0,0,0,0,0,0,0,0,0,0,0,0,0,0,0,0,0,0,0,0,0,0,0,0,0,0,2.6999999999999997,null,null,null,28,41.4,41.4,41.4,41.4,41.4,41.4,41.4,41.4,41.4,41.4,41.4,41.4,41.4,41.4,41.4,41.4,41.4,41.4,41.4,41.4,41.4,50.5,50.1,49.7,49.3,48.900000000000006,48.5,48.1,47.7,47.3,46.900000000000006,46.5,46.1,45.7,45.3,44.900000000000006,44.5,44.1,43.7,43.3,42.900000000000006,42.5,2.6999999999999997,null,null,null,null,null,2.6999999999999997,28,4.6999999999999957,4.9600000000000009,5.1899999999999977,5.3999999999999986,5.5799999999999983,5.740000000000002,5.8999999999999986,6.0499999999999972,6.1700000000000017,6.2299999999999969,6.1899999999999977,6.019999999999996,5.7299999999999969,5.3999999999999986,5.0799999999999983,4.8500000000000014,4.8500000000000014,5.0399999999999991,5.1999999999999957,5.1199999999999974,4.57,13.670000000000002,11.950000000000003,9.6000000000000014,7.0799999999999983,4.8800000000000026,3.4399999999999977,3.009999999999998,3.2600000000000051,3.8599999999999994,4.470000000000006,4.7700000000000031,4.7100000000000009,4.5200000000000031,4.25,3.970000000000006,3.7199999999999989,3.5200000000000031,3.3200000000000003,3.1199999999999974,2.9200000000000088,2.7199999999999989,null,null,null,null,null,null,null,2.9,30,5.6649999999999991,5.4024999999999999,5.2124999999999986,5.0924999999999976,5.0424999999999986,5.09,5.2574999999999985,5.509999999999998,5.7724999999999973,5.9724999999999966,6.072499999999998,6.0899999999999981,6.0574999999999974,5.9849999999999977,5.884999999999998,5.8099999999999987,5.7999999999999989,5.7824999999999989,5.6224999999999987,5.1899999999999977,11.455,9.6375000000000028,7.5075000000000003,5.4249999999999972,3.7424999999999997,2.7075000000000014,2.2725000000000026,2.2175000000000011,2.3249999999999993,2.3849999999999998,2.2925000000000004,2.1125000000000025,1.9225000000000012,1.7249999999999979,1.5249999999999986,1.3275000000000023,1.1300000000000026,0.92999999999999972,0.72999999999999687,0.52749999999999808,null,null,2.9,30,1.68,1.68,1.68,1.68,1.68,1.68,1.68,1.68,1.68,1.68,0.56999999999999995,0.56999999999999995,0.56999999999999995,1.68,1.68,1.68,1.68,1.68,1.68,1.68,0.06,0.19,0.56999999999999995,1.68,5.27,5.27,5.27,5.27,5.27,5.27,5.27,5.27,22.99,22.99,22.99,22.99,22.99,22.99,22.99,22.99,null,null,2.9,30,-3.59,-21.31,-21.31,-21.31,-21.31,-21.31,-21.31,-21.31,-21.31,-21.31,-22.419999999999998,-22.419999999999998,-22.419999999999998,-21.31,-21.31,-21.31,-21.31,-21.31,-21.31,-21.31,-1.6199999999999999,-1.49,-4.6999999999999993,-21.31,-17.72,-17.72,-17.72,-17.72,0,0,-17.72,-17.72,0,0,0,0,0,0,0,0,null,null,2.9,30,0,0,0,0,0,0,0,0,0,0,0,0,0,0,0,0,0,0,0,0,0,0,0,0,0,0,0,0,0,0,0,0,0,0,0,0,0,0,0,0,0,2.9,null,2.9,30,0,0,0,0,0,0,0,0,0,0,0,0,0,0,0,0,0,0,0,0,0,0,0,0,0,0,0,0,0,0,0,0,0,0,0,0,0,0,0,0,0,2.9,null,2.9,30,1,0,0,0,0,0,0,0,0,0,0,0,0,0,0,0,0,0,0,0,1,0,0,0,0,0,0,0,0,0,0,0,0,0,0,0,0,0,0,0,1,2.9,null,2.9,30,36.17,0,0,0,0,0,0,0,0,0,0,0,0,0,0,0,0,0,0,0,37.020000000000003,0,0,0,0,0,0,0,0,0,0,0,0,0,0,0,0,0,0,0,40.65,2.9,null,2.6999999999999997,28,4,4,4,4,4,4,4,4,4,4,4,4,4,4,4,4,4,4,4,4,4,4,4,4,4,4,4,4,4,4,4,4,4,4,4,4,4,4,4,4,4,4,2.6999999999999997,null,2.6999999999999997,28,0,0,0,0,0,0,0,0,0,0,0,0,0,0,0,0,0,0,0,0,0,0,0,0,0,0,0,0,0,0,0,0,0,0,0,0,0,0,0,0,0,0,2.6999999999999997,null,2.6999999999999997,28,51,51,51,51,51,51,51,51,51,51,51,51,51,51,51,51,51,51,51,51,51,58,58,58,58,58,58,58,58,58,58,58,58,58,58,58,58,58,58,58,58,58,2.6999999999999997]
[null,"Přídržnosti lepidla",null,null,null,null,null,null,null,null,null,null,"7",{"$f":"ROUND('3D Interpolace'!M34,2)","v":36},{"$f":"ROUND('3D Interpolace'!N34,2)","v":36.36},{"$f":"ROUND('3D Interpolace'!O34,2)","v":36.64},{"$f":"ROUND('3D Interpolace'!P34,2)","v":36.840000000000003},{"$f":"ROUND('3D Interpolace'!Q34,2)","v":36.96},{"$f":"ROUND('3D Interpolace'!R34,2)","v":37},{"$f":"ROUND('3D Interpolace'!S34,2)","v":36.909999999999997},{"$f":"ROUND('3D Interpolace'!T34,2)","v":36.700000000000003},{"$f":"ROUND('3D Interpolace'!U34,2)","v":36.42},{"$f":"ROUND('3D Interpolace'!V34,2)","v":36.17},{"$f":"ROUND('3D Interpolace'!W34,2)","v":36},{"$f":"ROUND('3D Interpolace'!X34,2)","v":35.92},{"$f":"ROUND('3D Interpolace'!Y34,2)","v":35.880000000000003},{"$f":"ROUND('3D Interpolace'!Z34,2)","v":35.880000000000003},{"$f":"ROUND('3D Interpolace'!AA34,2)","v":35.92},{"$f":"ROUND('3D Interpolace'!AB34,2)","v":36},{"$f":"ROUND('3D Interpolace'!AC34,2)","v":36.04},{"$f":"ROUND('3D Interpolace'!AD34,2)","v":36.04},{"$f":"ROUND('3D Interpolace'!AE34,2)","v":36.119999999999997},{"$f":"ROUND('3D Interpolace'!AF34,2)","v":36.4},{"$f":"ROUND('3D Interpolace'!AG34,2)","v":37},{"$f":"ROUND('3D Interpolace'!AH34,2)","v":38.14},{"$f":"ROUND('3D Interpolace'!AI34,2)","v":39.75},{"$f":"ROUND('3D Interpolace'!AJ34,2)","v":41.49},{"$f":"ROUND('3D Interpolace'!AK34,2)","v":43.02},{"$f":"ROUND('3D Interpolace'!AL34,2)","v":44},{"$f":"ROUND('3D Interpolace'!AM34,2)","v":44.31},{"$f":"ROUND('3D Interpolace'!AN34,2)","v":44.18},{"$f":"ROUND('3D Interpolace'!AO34,2)","v":43.78},{"$f":"ROUND('3D Interpolace'!AP34,2)","v":43.33},{"$f":"ROUND('3D Interpolace'!AQ34,2)","v":43},{"$f":"ROUND('3D Interpolace'!AR34,2)","v":42.8},{"$f":"ROUND('3D Interpolace'!AS34,2)","v":42.6},{"$f":"ROUND('3D Interpolace'!AT34,2)","v":42.4},{"$f":"ROUND('3D Interpolace'!AU34,2)","v":42.2},{"$f":"ROUND('3D Interpolace'!AV34,2)","v":42},{"$f":"ROUND('3D Interpolace'!AW34,2)","v":41.8},{"$f":"ROUND('3D Interpolace'!AX34,2)","v":41.6},{"$f":"ROUND('3D Interpolace'!AY34,2)","v":41.4},{"$f":"ROUND('3D Interpolace'!AZ34,2)","v":41.2},{"$f":"ROUND('3D Interpolace'!BA34,2)","v":41},null,3,31,null,null,null,null,null,null,null,null,null,null,null,null,null,null,null,null,null,null,null,null,null,null,null,null,null,null,null,null,null,null,null,null,null,null,null,null,null,null,null,null,null,3,null,3,31,36,36.36,36.64,36.840000000000003,36.96,37,36.909999999999997,36.700000000000003,36.42,36.17,36,35.92,35.880000000000003,35.880000000000003,35.92,36,36.04,36.04,36.119999999999997,36.4,37,38.14,39.75,41.49,43.02,44,44.31,44.18,43.78,43.33,43,42.8,42.6,42.4,42.2,42,41.8,41.6,41.4,41.2,41,3,null,2.8,29,36.42,36.43,36.42,36.380000000000003,36.31,36.22,36.08,35.869999999999997,35.659999999999997,35.49,35.43,35.51,35.68,35.909999999999997,36.14,36.33,36.35,36.24,36.18,36.35,36.93,36.93,38.200000000000003,40.049999999999997,42.04,43.76,44.78,44.92,44.46,43.67,{"$f":"IF(ISNUMBER(INDEX(VstupniData,$EQ33,FV$2)),INDEX(VstupniData,$EQ33,FV$2),\"\")","v":42.85},42.27,41.97,41.75,41.57,41.41,41.22,41.02,40.82,40.619999999999997,40.42,40.22,null,null,null,2.8,29,0,0,0,0,0,0,0,0,0,0,0,0,0,0,0,0,0,0,0,0,0,0,0,0,0,0,0,0,0,0,0,0,0,0,0,0,0,0,0,0,0,0,2.8,null,null,null,29,41.6,41.6,41.6,41.6,41.6,41.6,41.6,41.6,41.6,41.6,41.6,41.6,41.6,41.6,41.6,41.6,41.6,41.6,41.6,41.6,41.6,50,49.6,49.2,48.8,48.4,48,47.6,47.2,46.8,46.4,46,45.6,45.2,44.8,44.4,44,43.6,43.2,42.8,42.4,42,2.8,null,null,null,null,null,2.8,29,5.18,5.1700000000000017,5.18,5.2199999999999989,5.2899999999999991,5.3800000000000026,5.5200000000000031,5.730000000000004,5.9400000000000048,6.1099999999999994,6.1700000000000017,6.0900000000000034,5.9200000000000017,5.6900000000000048,5.4600000000000009,5.2700000000000031,5.25,5.3599999999999994,5.4200000000000017,5.25,4.6700000000000017,13.07,11.399999999999999,9.1500000000000057,6.759999999999998,4.6400000000000006,3.2199999999999989,2.6799999999999997,2.740000000000002,3.1299999999999955,3.5499999999999972,3.7299999999999969,3.6300000000000026,3.4500000000000028,3.2299999999999969,2.990000000000002,2.7800000000000011,2.5799999999999983,2.3800000000000026,2.1799999999999997,1.9799999999999969,1.7800000000000011,null,null,null,null,null,null,null,3,31,{"$f":"AVERAGE(KF36:KG37)","v":7.5661111111111108},{"$f":"AVERAGE(KG36:KH37)","v":7.4733333333333309},7.4530555555555544,7.5077777777777772,7.6349999999999998,7.8522222222222222,8.1794444444444458,8.5916666666666668,9.0288888888888881,9.4336111111111105,9.7858333333333309,10.105555555555554,10.402777777777777,10.667499999999999,10.88222222222222,11.074444444444442,11.286666666666665,11.468888888888889,11.513611111111111,11.303333333333331,11.711847222222225,12.006125000000006,11.182375000000002,10.066125000000001,8.9848750000000024,8.2636250000000029,8.1198750000000057,8.5011250000000036,9.2173750000000041,10.086125000000008,10.927375000000007,11.656125000000007,12.324875000000006,12.996125000000008,13.674875000000007,14.361125000000005,15.052375000000008,15.751125000000007,16.457375000000006,17.168625000000006,null,null,3,31,0.56999999999999995,0.56999999999999995,0.56999999999999995,0.56999999999999995,0.56999999999999995,0.56999999999999995,0.19,0.19,0.19,0.19,0.19,0.06,0.06,0.06,0.06,0.06,0.06,0.06,0.06,0.06,0.06,0.02,0.06,0.06,0.19,0.19,0.19,0.19,0.19,0.06,0.06,0.06,0.02,0.02,0.02,0.01,0.01,0.01,0,0,null,null,3,31,-22.419999999999998,-22.419999999999998,-22.419999999999998,-22.419999999999998,-22.419999999999998,-22.419999999999998,-22.799999999999997,-22.799999999999997,-22.799999999999997,-5.0799999999999992,-5.0799999999999992,-5.21,-5.21,-5.21,-5.21,-5.21,-5.21,-22.93,-22.93,-22.93,-1.6199999999999999,-1.66,-5.21,-22.93,-22.799999999999997,-22.799999999999997,-22.799999999999997,-22.799999999999997,-22.799999999999997,-22.93,-22.93,-22.93,-22.97,-22.97,-22.97,-22.979999999999997,-22.979999999999997,-22.979999999999997,-22.99,-22.99,null,null,3,31,0,0,0,0,0,37,0,0,0,0,0,0,0,0,0,0,0,0,0,0,0,0,0,0,0,0,0,0,0,0,0,0,0,0,0,0,0,0,0,0,0,3,null,3,31,0,0,0,0,0,0,0,0,0,0,0,0,0,0,0,0,0,0,0,0,0,0,0,0,0,0,0,0,0,0,0,0,0,0,0,0,0,0,0,0,0,3,null,3,31,1,1,1,1,1,1,1,1,1,1,1,1,1,1,1,1,1,1,1,1,1,1,1,1,1,1,1,1,1,1,1,1,1,1,1,1,1,1,1,1,1,3,null,3,31,36,36.36,36.64,36.840000000000003,36.96,37,36.909999999999997,36.700000000000003,36.42,36.17,36,35.92,35.880000000000003,35.880000000000003,35.92,36,36.04,36.04,36.119999999999997,36.4,37,38.14,39.75,41.49,43.02,44,44.31,44.18,43.78,43.33,43,42.8,42.6,42.4,42.2,42,41.8,41.6,41.4,41.2,41,3,null,2.8,29,4,4,4,4,4,4,4,4,4,4,4,4,4,4,4,4,4,4,4,4,4,4,4,4,4,4,4,4,4,4,4,4,4,4,4,4,4,4,4,4,4,4,2.8,null,2.8,29,{"$f":"IF(ISNUMBER(INDEX(Asfalt,$ZX33,ZY$2)),INDEX(Asfalt,$ZX33,ZY$2),0)","v":0},0,0,0,0,0,0,0,0,0,{"$f":"IF(ISNUMBER(INDEX(Asfalt,$ZX33,AAI$2)),INDEX(Asfalt,$ZX33,AAI$2),0)","v":0},0,0,0,0,0,0,0,0,0,{"$f":"IF(ISNUMBER(INDEX(Asfalt,$ZX33,AAS$2)),INDEX(Asfalt,$ZX33,AAS$2),0)","v":0},0,0,0,0,0,0,0,0,0,{"$f":"IF(ISNUMBER(INDEX(Asfalt,$ZX33,ABC$2)),INDEX(Asfalt,$ZX33,ABC$2),0)","v":0},0,0,0,0,0,0,0,0,0,0,0,2.8,null,2.8,29,51,51,51,51,51,51,51,51,51,51,51,51,51,51,51,51,51,51,51,51,51,58,58,58,58,58,58,58,58,58,58,58,58,58,58,58,58,58,58,58,58,58,2.8]
[35.6,0,2,22.99,31.64,22.99,null,null,null,null,null,null,"7A",{"$f":"ROUND('3D Interpolace'!M35,2)","v":35.94},{"$f":"ROUND('3D Interpolace'!N35,2)","v":36.28},{"$f":"ROUND('3D Interpolace'!O35,2)","v":36.56},{"$f":"ROUND('3D Interpolace'!P35,2)","v":36.770000000000003},{"$f":"ROUND('3D Interpolace'!Q35,2)","v":36.909999999999997},{"$f":"ROUND('3D Interpolace'!R35,2)","v":36.99},{"$f":"ROUND('3D Interpolace'!S35,2)","v":36.979999999999997},{"$f":"ROUND('3D Interpolace'!T35,2)","v":36.869999999999997},{"$f":"ROUND('3D Interpolace'!U35,2)","v":36.71},{"$f":"ROUND('3D Interpolace'!V35,2)","v":36.54},{"$f":"ROUND('3D Interpolace'!W35,2)","v":36.4},{"$f":"ROUND('3D Interpolace'!X35,2)","v":36.270000000000003},{"$f":"ROUND('3D Interpolace'!Y35,2)","v":36.130000000000003},{"$f":"ROUND('3D Interpolace'!Z35,2)","v":36.01},{"$f":"ROUND('3D Interpolace'!AA35,2)","v":35.92},{"$f":"ROUND('3D Interpolace'!AB35,2)","v":35.92},{"$f":"ROUND('3D Interpolace'!AC35,2)","v":35.92},{"$f":"ROUND('3D Interpolace'!AD35,2)","v":35.92},{"$f":"ROUND('3D Interpolace'!AE35,2)","v":36},{"$f":"ROUND('3D Interpolace'!AF35,2)","v":36.270000000000003},{"$f":"ROUND('3D Interpolace'!AG35,2)","v":36.85},{"$f":"ROUND('3D Interpolace'!AH35,2)","v":37.92},{"$f":"ROUND('3D Interpolace'!AI35,2)","v":39.43},{"$f":"ROUND('3D Interpolace'!AJ35,2)","v":41.07},{"$f":"ROUND('3D Interpolace'!AK35,2)","v":42.52},{"$f":"ROUND('3D Interpolace'!AL35,2)","v":43.48},{"$f":"ROUND('3D Interpolace'!AM35,2)","v":43.84},{"$f":"ROUND('3D Interpolace'!AN35,2)","v":43.81},{"$f":"ROUND('3D Interpolace'!AO35,2)","v":43.54},{"$f":"ROUND('3D Interpolace'!AP35,2)","v":43.22},{"$f":"ROUND('3D Interpolace'!AQ35,2)","v":42.99},{"$f":"ROUND('3D Interpolace'!AR35,2)","v":42.87},{"$f":"ROUND('3D Interpolace'!AS35,2)","v":42.75},{"$f":"ROUND('3D Interpolace'!AT35,2)","v":42.62},{"$f":"ROUND('3D Interpolace'!AU35,2)","v":42.47},{"$f":"ROUND('3D Interpolace'!AV35,2)","v":42.31},{"$f":"ROUND('3D Interpolace'!AW35,2)","v":42.14},{"$f":"ROUND('3D Interpolace'!AX35,2)","v":41.95},{"$f":"ROUND('3D Interpolace'!AY35,2)","v":41.75},{"$f":"ROUND('3D Interpolace'!AZ35,2)","v":41.54},{"$f":"ROUND('3D Interpolace'!BA35,2)","v":41.31},null,3.1,32,null,null,null,null,null,null,null,null,null,null,null,null,null,null,null,null,null,null,null,null,null,null,null,null,null,null,null,null,null,null,null,null,null,null,null,null,null,null,null,null,null,3.1,null,3.1,32,35.94,36.28,36.56,36.770000000000003,36.909999999999997,36.99,36.979999999999997,36.869999999999997,36.71,36.54,36.4,36.270000000000003,36.130000000000003,36.01,35.92,35.92,35.92,35.92,36,36.270000000000003,36.85,37.92,39.43,41.07,42.52,43.48,43.84,43.81,43.54,43.22,42.99,42.87,42.75,42.62,42.47,42.31,42.14,41.95,41.75,41.54,41.31,3.1,null,2.9,30,{"$f":"IF(ISNUMBER(INDEX(VstupniData,$EQ34,ER$2)),INDEX(VstupniData,$EQ34,ER$2),\"\")","v":36.17},36.409999999999997,36.58,36.69,36.74,36.729999999999997,36.6,36.36,36.08,35.840000000000003,{"$f":"IF(ISNUMBER(INDEX(VstupniData,$EQ34,FB$2)),INDEX(VstupniData,$EQ34,FB$2),\"\")","v":35.700000000000003},35.69,35.75,35.86,36,36.14,36.18,36.14,36.17,36.42,37.020000000000003,37.020000000000003,38.22,39.94,41.79,43.4,44.41,44.65,44.37,43.8,43.19,42.74,42.49,42.26,42.05,41.85,41.65,41.44,41.24,41.04,40.840000000000003,40.65,null,null,null,2.9,30,0,0,0,0,0,0,0,0,0,0,0,0,0,0,0,0,0,0,0,0,0,0,0,0,0,0,0,0,0,0,0,0,0,0,0,0,0,0,0,0,0,0,2.9,null,null,null,30,41.8,41.8,41.8,41.8,41.8,41.8,41.8,41.8,41.8,41.8,41.8,41.8,41.8,41.8,41.8,41.8,41.8,41.8,41.8,41.8,41.8,49.5,49.1,48.7,48.3,47.9,47.5,47.1,46.7,46.3,45.9,45.5,45.1,44.7,44.3,43.9,43.5,43.1,42.7,42.3,41.9,41.5,2.9,null,null,null,null,null,2.9,30,5.6299999999999955,5.3900000000000006,5.2199999999999989,5.1099999999999994,5.0599999999999952,5.07,5.1999999999999957,5.4399999999999977,5.7199999999999989,5.9599999999999937,6.0999999999999943,6.1099999999999994,6.0499999999999972,5.9399999999999977,5.7999999999999972,5.6599999999999966,5.6199999999999974,5.6599999999999966,5.6299999999999955,5.3799999999999955,4.779999999999994,12.479999999999997,10.880000000000003,8.7600000000000051,6.509999999999998,4.5,3.0900000000000034,2.4500000000000028,2.3300000000000054,2.5,2.7100000000000009,2.759999999999998,2.6099999999999994,2.4400000000000048,2.25,2.0499999999999972,1.8500000000000014,1.6600000000000037,1.4600000000000009,1.259999999999998,1.0599999999999952,0.85000000000000142,null,null,null,null,null,null,null,3.1,32,{"$f":"AVERAGE(KF37:KG38)","v":6.8311111111111114},{"$f":"AVERAGE(KG37:KH38)","v":6.7858333333333309},{"$f":"AVERAGE(KH37:KI38)","v":6.7905555555555566},{"$f":"AVERAGE(KI37:KJ38)","v":6.8452777777777793},{"$f":"AVERAGE(KJ37:KK38)","v":6.9450000000000003},{"$f":"AVERAGE(KK37:KL38)","v":7.0972222222222232},{"$f":"AVERAGE(KL37:KM38)","v":7.3119444444444497},{"$f":"AVERAGE(KM37:KN38)","v":7.5791666666666693},{"$f":"AVERAGE(KN37:KO38)","v":7.8813888888888908},{"$f":"AVERAGE(KO37:KP38)","v":8.2011111111111124},{"$f":"AVERAGE(KP37:KQ38)","v":8.5458333333333325},{"$f":"AVERAGE(KQ37:KR38)","v":8.9405555555555569},{"$f":"AVERAGE(KR37:KS38)","v":9.3627777777777794},{"$f":"AVERAGE(KS37:KT38)","v":9.7650000000000006},{"$f":"AVERAGE(KT37:KU38)","v":10.09472222222222},{"$f":"AVERAGE(KU37:KV38)","v":10.356944444444443},{"$f":"AVERAGE(KV37:KW38)","v":10.601666666666665},{"$f":"AVERAGE(KW37:KX38)","v":10.798888888888889},{"$f":"AVERAGE(KX37:KY38)","v":10.85611111111111},{"$f":"AVERAGE(KY37:KZ38)","v":10.673333333333332},{"$f":"AVERAGE(LA37:LB38)","v":11.099625000000007},{"$f":"AVERAGE(LB37:LC38)","v":10.368375000000002},{"$f":"AVERAGE(LC37:LD38)","v":9.364625000000002},{"$f":"AVERAGE(LD37:LE38)","v":8.3833750000000045},{"$f":"AVERAGE(LE37:LF38)","v":7.7171250000000047},{"$f":"AVERAGE(LF37:LG38)","v":7.563375000000006},{"$f":"AVERAGE(LG37:LH38)","v":7.8746250000000035},{"$f":"AVERAGE(LH37:LI38)","v":8.4783750000000051},{"$f":"AVERAGE(LI37:LJ38)","v":9.2171250000000082},{"$f":"AVERAGE(LJ37:LK38)","v":9.938375000000006},{"$f":"AVERAGE(LK37:LL38)","v":10.567125000000006},{"$f":"AVERAGE(LL37:LM38)","v":11.143375000000006},{"$f":"AVERAGE(LM37:LN38)","v":11.724625000000009},{"$f":"AVERAGE(LN37:LO38)","v":12.323375000000008},{"$f":"AVERAGE(LO37:LP38)","v":12.944625000000006},{"$f":"AVERAGE(LP37:LQ38)","v":13.593375000000009},{"$f":"AVERAGE(LQ37:LR38)","v":14.269625000000007},{"$f":"AVERAGE(LR37:LS38)","v":14.968375000000005},{"$f":"AVERAGE(LS37:LT38)","v":15.687125000000005},{"$f":"AVERAGE(LT37:LU38)","v":16.428375000000003},null,null,3.1,32,0.56999999999999995,0.56999999999999995,0.56999999999999995,0.56999999999999995,0.56999999999999995,0.56999999999999995,0.56999999999999995,0.56999999999999995,0.56999999999999995,0.19,0.19,0.19,0.19,0.19,0.06,0.06,0.06,0.06,0.06,0.06,0.06,0.06,0.19,0.19,0.56999999999999995,0.56999999999999995,0.56999999999999995,0.19,0.19,0.19,0.06,0.06,0.06,0.02,0.02,0.02,0.01,0.01,0.01,0,null,null,3.1,32,-22.419999999999998,-22.419999999999998,-22.419999999999998,-22.419999999999998,-22.419999999999998,-22.419999999999998,-22.419999999999998,-4.6999999999999993,-4.6999999999999993,-5.0799999999999992,-5.0799999999999992,-5.0799999999999992,-5.0799999999999992,-5.0799999999999992,-5.21,-5.21,-5.21,-5.21,-5.21,-22.93,-0.51,-1.6199999999999999,-5.0799999999999992,-5.0799999999999992,-22.419999999999998,-22.419999999999998,-22.419999999999998,-22.799999999999997,-22.799999999999997,-5.0799999999999992,-5.21,-5.21,-5.21,-5.25,-5.25,-5.25,-5.26,-5.26,-5.26,-5.27,null,null,3.1,32,0,0,0,0,0,0,0,0,0,0,0,0,0,0,0,0,0,0,0,0,0,0,0,0,0,0,0,0,0,0,0,0,0,0,0,0,0,0,0,0,0,3.1,null,3.1,32,0,0,0,0,0,0,0,0,0,0,0,0,0,0,0,0,0,0,0,0,37.020000000000003,0,0,0,0,0,0,0,0,0,0,0,0,0,0,0,0,0,0,0,0,3.1,null,3.1,32,1,{"$f":"IF(OR(INT(1000*UT$1/$B$18)-1000*UT$1/$B$18=0,INT(1000*$UQ34/$B$19)-1000*$UQ34/$B$19=0),1,0)","v":0},0,0,0,0,0,0,0,0,0,{"$f":"IF(OR(INT(1000*VD$1/$B$18)-1000*VD$1/$B$18=0,INT(1000*$UQ34/$B$19)-1000*$UQ34/$B$19=0),1,0)","v":0},0,0,0,0,0,0,0,0,1,{"$f":"IF(OR(INT(1000*VN$1/$B$18)-1000*VN$1/$B$18=0,INT(1000*$UQ34/$B$19)-1000*$UQ34/$B$19=0),1,0)","v":0},0,0,0,0,0,0,0,0,0,{"$f":"IF(OR(INT(1000*VX$1/$B$18)-1000*VX$1/$B$18=0,INT(1000*$UQ34/$B$19)-1000*$UQ34/$B$19=0),1,0)","v":0},0,0,0,0,0,0,0,0,1,3.1,null,3.1,32,35.94,0,0,0,0,0,0,0,0,0,0,0,0,0,0,0,0,0,0,0,36.85,0,0,0,0,0,0,0,0,0,0,0,0,0,0,0,0,0,0,0,41.31,3.1,null,2.9,30,4,4,4,4,4,4,4,4,4,4,4,4,4,4,4,4,4,4,4,4,4,4,4,4,4,4,4,4,4,4,4,4,4,4,4,4,4,4,4,4,4,4,2.9,null,2.9,30,0,0,0,0,0,0,0,0,0,0,0,0,0,0,0,0,0,0,0,0,0,0,0,0,0,0,0,0,0,0,0,0,0,0,0,0,0,0,0,0,0,0,2.9,null,2.9,30,51,51,51,51,51,51,51,51,51,51,51,51,51,51,51,51,51,51,51,51,51,58,58,58,58,58,58,58,58,58,58,58,58,58,58,58,58,58,58,58,58,58,2.9]
[null,{"$f":"C34","v":2},{"$f":"B35+2","v":4},5.27,23.66,5.27,null,null,null,null,null,null,"7B",{"$f":"ROUND('3D Interpolace'!M36,2)","v":35.93},{"$f":"ROUND('3D Interpolace'!N36,2)","v":36.17},{"$f":"ROUND('3D Interpolace'!O36,2)","v":36.380000000000003},{"$f":"ROUND('3D Interpolace'!P36,2)","v":36.549999999999997},{"$f":"ROUND('3D Interpolace'!Q36,2)","v":36.700000000000003},{"$f":"ROUND('3D Interpolace'!R36,2)","v":36.82},{"$f":"ROUND('3D Interpolace'!S36,2)","v":36.909999999999997},{"$f":"ROUND('3D Interpolace'!T36,2)","v":36.97},{"$f":"ROUND('3D Interpolace'!U36,2)","v":37},{"$f":"ROUND('3D Interpolace'!V36,2)","v":36.979999999999997},{"$f":"ROUND('3D Interpolace'!W36,2)","v":36.92},{"$f":"ROUND('3D Interpolace'!X36,2)","v":36.76},{"$f":"ROUND('3D Interpolace'!Y36,2)","v":36.5},{"$f":"ROUND('3D Interpolace'!Z36,2)","v":36.22},{"$f":"ROUND('3D Interpolace'!AA36,2)","v":35.99},{"$f":"ROUND('3D Interpolace'!AB36,2)","v":35.880000000000003},{"$f":"ROUND('3D Interpolace'!AC36,2)","v":35.83},{"$f":"ROUND('3D Interpolace'!AD36,2)","v":35.79},{"$f":"ROUND('3D Interpolace'!AE36,2)","v":35.85},{"$f":"ROUND('3D Interpolace'!AF36,2)","v":36.1},{"$f":"ROUND('3D Interpolace'!AG36,2)","v":36.619999999999997},{"$f":"ROUND('3D Interpolace'!AH36,2)","v":37.61},{"$f":"ROUND('3D Interpolace'!AI36,2)","v":39},{"$f":"ROUND('3D Interpolace'!AJ36,2)","v":40.51},{"$f":"ROUND('3D Interpolace'!AK36,2)","v":41.87},{"$f":"ROUND('3D Interpolace'!AL36,2)","v":42.8},{"$f":"ROUND('3D Interpolace'!AM36,2)","v":43.2},{"$f":"ROUND('3D Interpolace'!AN36,2)","v":43.26},{"$f":"ROUND('3D Interpolace'!AO36,2)","v":43.12},{"$f":"ROUND('3D Interpolace'!AP36,2)","v":42.93},{"$f":"ROUND('3D Interpolace'!AQ36,2)","v":42.82},{"$f":"ROUND('3D Interpolace'!AR36,2)","v":42.8},{"$f":"ROUND('3D Interpolace'!AS36,2)","v":42.79},{"$f":"ROUND('3D Interpolace'!AT36,2)","v":42.76},{"$f":"ROUND('3D Interpolace'!AU36,2)","v":42.71},{"$f":"ROUND('3D Interpolace'!AV36,2)","v":42.62},{"$f":"ROUND('3D Interpolace'!AW36,2)","v":42.48},{"$f":"ROUND('3D Interpolace'!AX36,2)","v":42.31},{"$f":"ROUND('3D Interpolace'!AY36,2)","v":42.11},{"$f":"ROUND('3D Interpolace'!AZ36,2)","v":41.88},{"$f":"ROUND('3D Interpolace'!BA36,2)","v":41.62},null,3.2,33,null,null,null,null,null,null,null,null,null,null,null,null,null,null,null,null,null,null,null,null,null,null,null,null,null,null,null,null,null,null,null,null,null,null,null,null,null,null,null,null,null,3.2,null,3.2,33,35.93,36.17,36.380000000000003,36.549999999999997,36.700000000000003,36.82,36.909999999999997,36.97,37,36.979999999999997,36.92,36.76,36.5,36.22,35.99,35.880000000000003,35.83,35.79,35.85,36.1,36.619999999999997,37.61,39,40.51,41.87,42.8,43.2,43.26,43.12,42.93,42.82,42.8,42.79,42.76,42.71,42.62,42.48,42.31,42.11,41.88,41.62,3.2,null,3,31,36,36.36,36.64,36.840000000000003,36.96,37,36.909999999999997,36.700000000000003,36.42,36.17,36,35.92,35.880000000000003,35.880000000000003,35.92,36,36.04,36.04,36.119999999999997,36.4,37,37,38.14,39.75,41.49,43.02,44,44.31,44.18,43.78,43.33,43,42.8,42.6,42.4,42.2,42,41.8,41.6,41.4,41.2,41,null,null,null,3,31,36,0,0,0,0,37,0,0,0,0,36,0,0,0,0,36,0,0,0,0,37,37,0,0,0,0,44,0,0,0,0,43,0,0,0,0,42,0,0,0,0,41,3,null,null,null,31,42,42,42,42,42,42,42,42,42,42,42,42,42,42,42,42,42,42,42,42,42,49,48.6,48.2,47.8,47.4,47,46.6,46.2,45.8,45.4,45,44.6,44.2,43.8,43.4,43,42.6,42.2,41.8,41.4,41,3,null,null,null,null,null,3,31,{"$f":"IF(IH35-ER35>0.001,IH35-ER35,IF(IH35-ER35>-0.001,0,IH35-ER35))","v":6},{"$f":"IF(II35-ES35>0.001,II35-ES35,IF(II35-ES35>-0.001,0,II35-ES35))","v":5.6400000000000006},{"$f":"IF(IJ35-ET35>0.001,IJ35-ET35,IF(IJ35-ET35>-0.001,0,IJ35-ET35))","v":5.3599999999999994},{"$f":"IF(IK35-EU35>0.001,IK35-EU35,IF(IK35-EU35>-0.001,0,IK35-EU35))","v":5.1599999999999966},{"$f":"IF(IL35-EV35>0.001,IL35-EV35,IF(IL35-EV35>-0.001,0,IL35-EV35))","v":5.0399999999999991},{"$f":"IF(IM35-EW35>0.001,IM35-EW35,IF(IM35-EW35>-0.001,0,IM35-EW35))","v":5},{"$f":"IF(IN35-EX35>0.001,IN35-EX35,IF(IN35-EX35>-0.001,0,IN35-EX35))","v":5.0900000000000034},{"$f":"IF(IO35-EY35>0.001,IO35-EY35,IF(IO35-EY35>-0.001,0,IO35-EY35))","v":5.2999999999999972},{"$f":"IF(IP35-EZ35>0.001,IP35-EZ35,IF(IP35-EZ35>-0.001,0,IP35-EZ35))","v":5.5799999999999983},{"$f":"IF(IQ35-FA35>0.001,IQ35-FA35,IF(IQ35-FA35>-0.001,0,IQ35-FA35))","v":5.8299999999999983},{"$f":"IF(IR35-FB35>0.001,IR35-FB35,IF(IR35-FB35>-0.001,0,IR35-FB35))","v":6},{"$f":"IF(IS35-FC35>0.001,IS35-FC35,IF(IS35-FC35>-0.001,0,IS35-FC35))","v":6.0799999999999983},{"$f":"IF(IT35-FD35>0.001,IT35-FD35,IF(IT35-FD35>-0.001,0,IT35-FD35))","v":6.1199999999999974},{"$f":"IF(IU35-FE35>0.001,IU35-FE35,IF(IU35-FE35>-0.001,0,IU35-FE35))","v":6.1199999999999974},{"$f":"IF(IV35-FF35>0.001,IV35-FF35,IF(IV35-FF35>-0.001,0,IV35-FF35))","v":6.0799999999999983},{"$f":"IF(IW35-FG35>0.001,IW35-FG35,IF(IW35-FG35>-0.001,0,IW35-FG35))","v":6},{"$f":"IF(IX35-FH35>0.001,IX35-FH35,IF(IX35-FH35>-0.001,0,IX35-FH35))","v":5.9600000000000009},{"$f":"IF(IY35-FI35>0.001,IY35-FI35,IF(IY35-FI35>-0.001,0,IY35-FI35))","v":5.9600000000000009},{"$f":"IF(IZ35-FJ35>0.001,IZ35-FJ35,IF(IZ35-FJ35>-0.001,0,IZ35-FJ35))","v":5.8800000000000026},{"$f":"IF(JA35-FK35>0.001,JA35-FK35,IF(JA35-FK35>-0.001,0,JA35-FK35))","v":5.6000000000000014},{"$f":"IF(JB35-FL35>0.001,JB35-FL35,IF(JB35-FL35>-0.001,0,JB35-FL35))","v":5},{"$f":"IF(JC35-FM35>0.001,JC35-FM35,IF(JC35-FM35>-0.001,0,JC35-FM35))","v":12},{"$f":"IF(JD35-FN35>0.001,JD35-FN35,IF(JD35-FN35>-0.001,0,JD35-FN35))","v":10.46},{"$f":"IF(JE35-FO35>0.001,JE35-FO35,IF(JE35-FO35>-0.001,0,JE35-FO35))","v":8.4500000000000028},{"$f":"IF(JF35-FP35>0.001,JF35-FP35,IF(JF35-FP35>-0.001,0,JF35-FP35))","v":6.3099999999999952},{"$f":"IF(JG35-FQ35>0.001,JG35-FQ35,IF(JG35-FQ35>-0.001,0,JG35-FQ35))","v":4.3799999999999955},{"$f":"IF(JH35-FR35>0.001,JH35-FR35,IF(JH35-FR35>-0.001,0,JH35-FR35))","v":3},{"$f":"IF(JI35-FS35>0.001,JI35-FS35,IF(JI35-FS35>-0.001,0,JI35-FS35))","v":2.2899999999999991},{"$f":"IF(JJ35-FT35>0.001,JJ35-FT35,IF(JJ35-FT35>-0.001,0,JJ35-FT35))","v":2.0200000000000031},{"$f":"IF(JK35-FU35>0.001,JK35-FU35,IF(JK35-FU35>-0.001,0,JK35-FU35))","v":2.019999999999996},{"$f":"IF(JL35-FV35>0.001,JL35-FV35,IF(JL35-FV35>-0.001,0,JL35-FV35))","v":2.0700000000000003},{"$f":"IF(JM35-FW35>0.001,JM35-FW35,IF(JM35-FW35>-0.001,0,JM35-FW35))","v":2},{"$f":"IF(JN35-FX35>0.001,JN35-FX35,IF(JN35-FX35>-0.001,0,JN35-FX35))","v":1.8000000000000043},{"$f":"IF(JO35-FY35>0.001,JO35-FY35,IF(JO35-FY35>-0.001,0,JO35-FY35))","v":1.6000000000000014},{"$f":"IF(JP35-FZ35>0.001,JP35-FZ35,IF(JP35-FZ35>-0.001,0,JP35-FZ35))","v":1.3999999999999986},{"$f":"IF(JQ35-GA35>0.001,JQ35-GA35,IF(JQ35-GA35>-0.001,0,JQ35-GA35))","v":1.1999999999999957},{"$f":"IF(JR35-GB35>0.001,JR35-GB35,IF(JR35-GB35>-0.001,0,JR35-GB35))","v":1},{"$f":"IF(JS35-GC35>0.001,JS35-GC35,IF(JS35-GC35>-0.001,0,JS35-GC35))","v":0.80000000000000426},{"$f":"IF(JT35-GD35>0.001,JT35-GD35,IF(JT35-GD35>-0.001,0,JT35-GD35))","v":0.60000000000000142},{"$f":"IF(JU35-GE35>0.001,JU35-GE35,IF(JU35-GE35>-0.001,0,JU35-GE35))","v":0.39999999999999858},{"$f":"IF(JV35-GF35>0.001,JV35-GF35,IF(JV35-GF35>-0.001,0,JV35-GF35))","v":0.19999999999999574},{"$f":"IF(JW35-GG35>0.001,JW35-GG35,IF(JW35-GG35>-0.001,0,JW35-GG35))","v":0},null,null,null,null,null,null,null,3.1999999999999997,33,6.0861111111111104,6.1458333333333321,6.218055555555555,6.2977777777777781,6.3849999999999998,6.4697222222222219,6.5394444444444453,6.6141666666666676,6.7313888888888904,6.9236111111111125,7.2408333333333328,7.7055555555555557,8.257777777777779,8.8049999999999997,9.2597222222222193,9.6069444444444425,9.9016666666666673,10.133888888888889,10.22111111111111,10.080833333333334,10.245625000000006,9.6218750000000011,8.7406250000000014,7.8668750000000056,7.2656250000000053,7.1118750000000066,7.3631250000000055,7.8643750000000061,8.4831250000000065,9.0868750000000045,9.6031250000000057,10.066875000000005,10.535625000000007,11.029375000000005,11.568125000000006,12.164375000000009,12.810625000000007,13.499375000000006,14.228125000000004,14.999375000000004,null,null,3.1999999999999997,33,0.56999999999999995,0.56999999999999995,0.56999999999999995,0.56999999999999995,0.56999999999999995,0.56999999999999995,0.56999999999999995,0.56999999999999995,0.56999999999999995,0.56999999999999995,0.56999999999999995,0.56999999999999995,0.19,0.19,0.19,0.19,0.19,0.06,0.06,0.06,0.06,0.19,0.19,0.56999999999999995,0.56999999999999995,0.56999999999999995,0.56999999999999995,0.56999999999999995,0.19,0.19,0.19,0.06,0.06,0.06,0.06,0.02,0.02,0.02,0.01,0.01,null,null,3.1999999999999997,33,-4.6999999999999993,-4.6999999999999993,-4.6999999999999993,-4.6999999999999993,-4.6999999999999993,-4.6999999999999993,-4.6999999999999993,-4.6999999999999993,-4.6999999999999993,-4.6999999999999993,-4.6999999999999993,-4.6999999999999993,-5.0799999999999992,-5.0799999999999992,-1.49,-5.0799999999999992,-5.0799999999999992,-5.21,-5.21,-5.21,-0.51,-1.49,-1.49,-4.6999999999999993,-4.6999999999999993,-4.6999999999999993,-4.6999999999999993,-4.6999999999999993,-5.0799999999999992,-5.0799999999999992,-1.49,-1.6199999999999999,-1.6199999999999999,-1.6199999999999999,-1.6199999999999999,-1.66,-1.66,-1.66,-1.67,-1.67,null,null,3.2,33,0,0,0,0,0,0,0,0,0,0,0,0,0,0,0,0,0,0,0,0,0,0,0,0,0,0,0,0,0,0,0,0,0,0,0,0,0,0,0,0,0,3.2,null,3.2,33,0,0,0,0,0,37,0,0,0,0,0,0,0,0,0,0,0,0,0,0,0,0,0,0,0,0,0,0,0,0,0,0,0,0,0,0,0,0,0,0,0,3.2,null,3.2,33,1,0,0,0,0,0,0,0,0,0,0,0,0,0,0,0,0,0,0,0,1,0,0,0,0,0,0,0,0,0,0,0,0,0,0,0,0,0,0,0,1,3.2,null,3.2,33,{"$f":"IF(RG35>0,RG35,US35*CY35)","v":35.93},{"$f":"IF(RH35>0,RH35,UT35*CZ35)","v":0},{"$f":"IF(RI35>0,RI35,UU35*DA35)","v":0},{"$f":"IF(RJ35>0,RJ35,UV35*DB35)","v":0},{"$f":"IF(RK35>0,RK35,UW35*DC35)","v":0},{"$f":"IF(RL35>0,RL35,UX35*DD35)","v":0},{"$f":"IF(RM35>0,RM35,UY35*DE35)","v":0},{"$f":"IF(RN35>0,RN35,UZ35*DF35)","v":0},{"$f":"IF(RO35>0,RO35,VA35*DG35)","v":0},{"$f":"IF(RP35>0,RP35,VB35*DH35)","v":0},{"$f":"IF(RQ35>0,RQ35,VC35*DI35)","v":0},{"$f":"IF(RR35>0,RR35,VD35*DJ35)","v":0},{"$f":"IF(RS35>0,RS35,VE35*DK35)","v":0},{"$f":"IF(RT35>0,RT35,VF35*DL35)","v":0},{"$f":"IF(RU35>0,RU35,VG35*DM35)","v":0},{"$f":"IF(RV35>0,RV35,VH35*DN35)","v":0},{"$f":"IF(RW35>0,RW35,VI35*DO35)","v":0},{"$f":"IF(RX35>0,RX35,VJ35*DP35)","v":0},{"$f":"IF(RY35>0,RY35,VK35*DQ35)","v":0},{"$f":"IF(RZ35>0,RZ35,VL35*DR35)","v":0},{"$f":"IF(SA35>0,SA35,VM35*DS35)","v":36.619999999999997},{"$f":"IF(SB35>0,SB35,VN35*DT35)","v":0},{"$f":"IF(SC35>0,SC35,VO35*DU35)","v":0},{"$f":"IF(SD35>0,SD35,VP35*DV35)","v":0},{"$f":"IF(SE35>0,SE35,VQ35*DW35)","v":0},{"$f":"IF(SF35>0,SF35,VR35*DX35)","v":0},{"$f":"IF(SG35>0,SG35,VS35*DY35)","v":0},{"$f":"IF(SH35>0,SH35,VT35*DZ35)","v":0},{"$f":"IF(SI35>0,SI35,VU35*EA35)","v":0},{"$f":"IF(SJ35>0,SJ35,VV35*EB35)","v":0},{"$f":"IF(SK35>0,SK35,VW35*EC35)","v":0},{"$f":"IF(SL35>0,SL35,VX35*ED35)","v":0},{"$f":"IF(SM35>0,SM35,VY35*EE35)","v":0},{"$f":"IF(SN35>0,SN35,VZ35*EF35)","v":0},{"$f":"IF(SO35>0,SO35,WA35*EG35)","v":0},{"$f":"IF(SP35>0,SP35,WB35*EH35)","v":0},{"$f":"IF(SQ35>0,SQ35,WC35*EI35)","v":0},{"$f":"IF(SR35>0,SR35,WD35*EJ35)","v":0},{"$f":"IF(SS35>0,SS35,WE35*EK35)","v":0},{"$f":"IF(ST35>0,ST35,WF35*EL35)","v":0},{"$f":"IF(SU35>0,SU35,WG35*EM35)","v":41.62},3.2,null,3,31,{"$f":"YE34","v":4},{"$f":"YF34","v":4},4,4,4,4,4,4,4,4,4,4,4,4,4,4,4,4,4,4,{"$f":"YX35","v":4},4,{"$f":"ZA34","v":4},4,4,4,4,4,4,4,4,4,4,4,4,4,4,4,4,4,4,{"$f":"ZS35","v":4},3,null,3,31,0,0,0,0,0,0,0,0,0,0,0,0,0,0,0,0,0,0,0,0,0,0,0,0,0,0,0,0,0,0,0,0,0,0,0,0,0,0,0,0,0,0,3,null,3,31,{"$f":"ABS34","v":51},{"$f":"ABT34","v":51},51,51,51,51,51,51,51,51,51,51,51,51,51,51,51,51,51,51,{"$f":"ACL35","v":51},58,{"$f":"ACO34","v":58},58,58,58,58,58,58,58,58,58,58,58,58,58,58,58,58,58,58,{"$f":"ADG35","v":58},3]
[null,{"$f":"C35","v":4},{"$f":"B36+2","v":6},1.68,15.63,1.68,null,null,null,null,null,null,"7C",{"$f":"ROUND('3D Interpolace'!M37,2)","v":35.950000000000003},{"$f":"ROUND('3D Interpolace'!N37,2)","v":36.049999999999997},{"$f":"ROUND('3D Interpolace'!O37,2)","v":36.15},{"$f":"ROUND('3D Interpolace'!P37,2)","v":36.270000000000003},{"$f":"ROUND('3D Interpolace'!Q37,2)","v":36.4},{"$f":"ROUND('3D Interpolace'!R37,2)","v":36.54},{"$f":"ROUND('3D Interpolace'!S37,2)","v":36.74},{"$f":"ROUND('3D Interpolace'!T37,2)","v":37},{"$f":"ROUND('3D Interpolace'!U37,2)","v":37.24},{"$f":"ROUND('3D Interpolace'!V37,2)","v":37.409999999999997},{"$f":"ROUND('3D Interpolace'!W37,2)","v":37.44},{"$f":"ROUND('3D Interpolace'!X37,2)","v":37.25},{"$f":"ROUND('3D Interpolace'!Y37,2)","v":36.89},{"$f":"ROUND('3D Interpolace'!Z37,2)","v":36.47},{"$f":"ROUND('3D Interpolace'!AA37,2)","v":36.1},{"$f":"ROUND('3D Interpolace'!AB37,2)","v":35.880000000000003},{"$f":"ROUND('3D Interpolace'!AC37,2)","v":35.76},{"$f":"ROUND('3D Interpolace'!AD37,2)","v":35.68},{"$f":"ROUND('3D Interpolace'!AE37,2)","v":35.700000000000003},{"$f":"ROUND('3D Interpolace'!AF37,2)","v":35.909999999999997},{"$f":"ROUND('3D Interpolace'!AG37,2)","v":36.380000000000003},{"$f":"ROUND('3D Interpolace'!AH37,2)","v":37.270000000000003},{"$f":"ROUND('3D Interpolace'!AI37,2)","v":38.53},{"$f":"ROUND('3D Interpolace'!AJ37,2)","v":39.93},{"$f":"ROUND('3D Interpolace'!AK37,2)","v":41.19},{"$f":"ROUND('3D Interpolace'!AL37,2)","v":42.08},{"$f":"ROUND('3D Interpolace'!AM37,2)","v":42.51},{"$f":"ROUND('3D Interpolace'!AN37,2)","v":42.65},{"$f":"ROUND('3D Interpolace'!AO37,2)","v":42.62},{"$f":"ROUND('3D Interpolace'!AP37,2)","v":42.54},{"$f":"ROUND('3D Interpolace'!AQ37,2)","v":42.54},{"$f":"ROUND('3D Interpolace'!AR37,2)","v":42.64},{"$f":"ROUND('3D Interpolace'!AS37,2)","v":42.75},{"$f":"ROUND('3D Interpolace'!AT37,2)","v":42.84},{"$f":"ROUND('3D Interpolace'!AU37,2)","v":42.89},{"$f":"ROUND('3D Interpolace'!AV37,2)","v":42.86},{"$f":"ROUND('3D Interpolace'!AW37,2)","v":42.77},{"$f":"ROUND('3D Interpolace'!AX37,2)","v":42.62},{"$f":"ROUND('3D Interpolace'!AY37,2)","v":42.42},{"$f":"ROUND('3D Interpolace'!AZ37,2)","v":42.17},{"$f":"ROUND('3D Interpolace'!BA37,2)","v":41.86},null,3.3,34,null,null,null,null,null,null,null,null,null,null,null,null,null,null,null,null,null,null,null,null,null,null,null,null,null,null,null,null,null,null,null,null,null,null,null,null,null,null,null,null,null,3.3,null,3.3,34,35.950000000000003,36.049999999999997,36.15,36.270000000000003,36.4,36.54,36.74,37,37.24,37.409999999999997,37.44,37.25,36.89,36.47,36.1,35.880000000000003,35.76,35.68,35.700000000000003,35.909999999999997,36.380000000000003,37.270000000000003,38.53,39.93,41.19,42.08,42.51,42.65,42.62,42.54,42.54,42.64,42.75,42.84,42.89,42.86,42.77,42.62,42.42,42.17,41.86,3.3,null,3,31,36,36.36,36.64,36.840000000000003,36.96,37,36.909999999999997,36.700000000000003,36.42,36.17,36,35.92,35.880000000000003,35.880000000000003,35.92,36,36.04,36.04,36.119999999999997,36.4,37,37,38.14,39.75,41.49,43.02,44,44.31,44.18,43.78,43.33,43,42.8,42.6,42.4,42.2,42,41.8,41.6,41.4,41.2,41,null,null,null,3,31,36,0,0,0,0,37,0,0,0,0,36,0,0,0,0,36,0,0,0,0,37,37,0,0,0,0,44,0,0,0,0,43,0,0,0,0,42,0,0,0,0,41,3,null,null,null,{"$f":"EQ36","v":31},44,44.222222222222221,44.444444444444443,44.666666666666671,44.888888888888886,45.111111111111114,45.333333333333329,45.555555555555557,45.777777777777779,46,46.222222222222221,46.444444444444443,46.666666666666671,46.888888888888886,47.111111111111114,47.333333333333329,47.555555555555557,47.777777777777779,48,48.222222222222221,48.444444444444443,49.796250000000008,50.305000000000007,50.813749999999999,51.322500000000005,51.831250000000004,52.34,52.84875000000001,53.357500000000002,53.866250000000008,54.375000000000007,54.883750000000006,55.392500000000005,55.901250000000005,56.410000000000011,56.918750000000003,57.427500000000009,57.936250000000008,58.445000000000007,58.953750000000007,59.462500000000006,59.971250000000005,3,null,null,null,null,null,3,31,8,7.862222222222222,7.8044444444444423,7.826666666666668,7.9288888888888849,8.1111111111111143,8.423333333333332,8.8555555555555543,9.3577777777777769,9.8299999999999983,10.222222222222221,10.524444444444441,10.786666666666669,11.008888888888883,11.191111111111113,11.333333333333329,11.515555555555558,11.737777777777779,11.880000000000003,11.822222222222223,11.444444444444443,12.796250000000008,12.165000000000006,11.063749999999999,9.8325000000000031,8.8112500000000011,8.3400000000000034,8.5387500000000074,9.177500000000002,10.086250000000007,11.045000000000009,11.883750000000006,12.592500000000008,13.301250000000003,14.010000000000012,14.71875,15.427500000000009,16.136250000000011,16.845000000000006,17.553750000000008,18.262500000000003,18.971250000000005,null,null,null,null,null,null,null,3.3,34,3.3336111111111109,3.5183333333333326,3.6730555555555533,3.7927777777777774,3.879999999999999,3.9047222222222207,3.8344444444444417,3.7191666666666663,3.6463888888888896,3.7061111111111114,3.9883333333333315,4.5030555555555534,5.1577777777777776,5.8274999999999988,6.3922222222222196,6.8169444444444416,7.1641666666666683,7.4413888888888877,7.5736111111111093,7.4858333333333356,7.3916250000000048,6.870375000000001,6.1041250000000016,5.3303750000000036,4.7916250000000034,4.6453750000000067,4.8491250000000043,5.2678750000000036,5.7866250000000043,6.2878750000000032,6.7041250000000048,7.0628750000000036,6.4216250000000059,5.8128750000000053,7.2716250000000056,8.8153750000000066,9.4316250000000057,10.110375000000007,10.849125000000004,11.650375000000004,null,null,3.3,34,5.27,5.27,5.27,5.27,5.27,5.27,5.27,5.27,5.27,5.27,5.27,1.68,1.68,1.68,0.56999999999999995,0.56999999999999995,0.56999999999999995,0.56999999999999995,0.56999999999999995,0.56999999999999995,0.56999999999999995,0.56999999999999995,0.56999999999999995,1.68,1.68,1.68,1.68,1.68,1.68,0.56999999999999995,0.56999999999999995,0.56999999999999995,0.56999999999999995,1.68,0.56999999999999995,0.19,0.19,0.06,0.06,0.06,null,null,3.3,34,-17.72,-17.72,-17.72,0,0,0,-17.72,-17.72,-17.72,-17.72,-17.72,-3.59,-3.59,-3.59,-4.6999999999999993,-4.6999999999999993,-4.6999999999999993,-4.6999999999999993,-4.6999999999999993,-22.419999999999998,-1.1099999999999999,-1.1099999999999999,-4.6999999999999993,-3.59,-21.31,-21.31,-21.31,-21.31,-21.31,-22.419999999999998,0,-1.1099999999999999,-1.1099999999999999,-3.59,-4.6999999999999993,-1.49,-1.49,-1.6199999999999999,-1.6199999999999999,-1.6199999999999999,null,null,3.3,34,{"$f":"IF(CY36=MAX(CY35:CZ37),CY36,0)","v":0},{"$f":"IF(CZ36=MAX(CY35:DA37),CZ36,0)","v":0},{"$f":"IF(DA36=MAX(CZ35:DB37),DA36,0)","v":0},{"$f":"IF(DB36=MAX(DA35:DC37),DB36,0)","v":0},{"$f":"IF(DC36=MAX(DB35:DD37),DC36,0)","v":0},{"$f":"IF(DD36=MAX(DC35:DE37),DD36,0)","v":0},{"$f":"IF(DE36=MAX(DD35:DF37),DE36,0)","v":0},{"$f":"IF(DF36=MAX(DE35:DG37),DF36,0)","v":0},{"$f":"IF(DG36=MAX(DF35:DH37),DG36,0)","v":0},{"$f":"IF(DH36=MAX(DG35:DI37),DH36,0)","v":0},{"$f":"IF(DI36=MAX(DH35:DJ37),DI36,0)","v":0},{"$f":"IF(DJ36=MAX(DI35:DK37),DJ36,0)","v":0},{"$f":"IF(DK36=MAX(DJ35:DL37),DK36,0)","v":0},{"$f":"IF(DL36=MAX(DK35:DM37),DL36,0)","v":0},{"$f":"IF(DM36=MAX(DL35:DN37),DM36,0)","v":0},{"$f":"IF(DN36=MAX(DM35:DO37),DN36,0)","v":0},{"$f":"IF(DO36=MAX(DN35:DP37),DO36,0)","v":0},{"$f":"IF(DP36=MAX(DO35:DQ37),DP36,0)","v":0},{"$f":"IF(DQ36=MAX(DP35:DR37),DQ36,0)","v":0},{"$f":"IF(DR36=MAX(DQ35:DS37),DR36,0)","v":0},{"$f":"IF(DS36=MAX(DR35:DT37),DS36,0)","v":0},{"$f":"IF(DT36=MAX(DS35:DU37),DT36,0)","v":0},{"$f":"IF(DU36=MAX(DT35:DV37),DU36,0)","v":0},{"$f":"IF(DV36=MAX(DU35:DW37),DV36,0)","v":0},{"$f":"IF(DW36=MAX(DV35:DX37),DW36,0)","v":0},{"$f":"IF(DX36=MAX(DW35:DY37),DX36,0)","v":0},{"$f":"IF(DY36=MAX(DX35:DZ37),DY36,0)","v":0},{"$f":"IF(DZ36=MAX(DY35:EA37),DZ36,0)","v":0},{"$f":"IF(EA36=MAX(DZ35:EB37),EA36,0)","v":0},{"$f":"IF(EB36=MAX(EA35:EC37),EB36,0)","v":0},{"$f":"IF(EC36=MAX(EB35:ED37),EC36,0)","v":0},{"$f":"IF(ED36=MAX(EC35:EE37),ED36,0)","v":0},{"$f":"IF(EE36=MAX(ED35:EF37),EE36,0)","v":0},{"$f":"IF(EF36=MAX(EE35:EG37),EF36,0)","v":0},{"$f":"IF(EG36=MAX(EF35:EH37),EG36,0)","v":0},{"$f":"IF(EH36=MAX(EG35:EI37),EH36,0)","v":0},{"$f":"IF(EI36=MAX(EH35:EJ37),EI36,0)","v":0},{"$f":"IF(EJ36=MAX(EI35:EK37),EJ36,0)","v":0},{"$f":"IF(EK36=MAX(EJ35:EL37),EK36,0)","v":0},{"$f":"IF(EL36=MAX(EK35:EM37),EL36,0)","v":0},{"$f":"IF(EM36=MAX(EL35:EM37),EM36,0)","v":0},3.3,null,3.3,34,{"$f":"IF(ER36=MAX(ER35:ES37),ER36,0)","v":0},{"$f":"IF(ES36=MAX(ER35:ET37),ES36,0)","v":0},{"$f":"IF(ET36=MAX(ES35:EU37),ET36,0)","v":0},{"$f":"IF(EU36=MAX(ET35:EV37),EU36,0)","v":0},{"$f":"IF(EV36=MAX(EU35:EW37),EV36,0)","v":0},{"$f":"IF(EW36=MAX(EV35:EX37),EW36,0)","v":37},{"$f":"IF(EX36=MAX(EW35:EY37),EX36,0)","v":0},{"$f":"IF(EY36=MAX(EX35:EZ37),EY36,0)","v":0},{"$f":"IF(EZ36=MAX(EY35:FA37),EZ36,0)","v":0},{"$f":"IF(FA36=MAX(EZ35:FB37),FA36,0)","v":0},{"$f":"IF(FB36=MAX(FA35:FC37),FB36,0)","v":0},{"$f":"IF(FC36=MAX(FB35:FD37),FC36,0)","v":0},{"$f":"IF(FD36=MAX(FC35:FE37),FD36,0)","v":0},{"$f":"IF(FE36=MAX(FD35:FF37),FE36,0)","v":0},{"$f":"IF(FF36=MAX(FE35:FG37),FF36,0)","v":0},{"$f":"IF(FG36=MAX(FF35:FH37),FG36,0)","v":0},{"$f":"IF(FH36=MAX(FG35:FI37),FH36,0)","v":36.04},{"$f":"IF(FI36=MAX(FH35:FJ37),FI36,0)","v":0},{"$f":"IF(FJ36=MAX(FI35:FK37),FJ36,0)","v":0},{"$f":"IF(FK36=MAX(FJ35:FL37),FK36,0)","v":0},{"$f":"IF(FL36=MAX(FK35:FM37),FL36,0)","v":37},{"$f":"IF(FM36=MAX(FL35:FN37),FM36,0)","v":0},{"$f":"IF(FN36=MAX(FM35:FO37),FN36,0)","v":0},{"$f":"IF(FO36=MAX(FN35:FP37),FO36,0)","v":0},{"$f":"IF(FP36=MAX(FO35:FQ37),FP36,0)","v":0},{"$f":"IF(FQ36=MAX(FP35:FR37),FQ36,0)","v":0},{"$f":"IF(FR36=MAX(FQ35:FS37),FR36,0)","v":0},{"$f":"IF(FS36=MAX(FR35:FT37),FS36,0)","v":44.31},{"$f":"IF(FT36=MAX(FS35:FU37),FT36,0)","v":0},{"$f":"IF(FU36=MAX(FT35:FV37),FU36,0)","v":0},{"$f":"IF(FV36=MAX(FU35:FW37),FV36,0)","v":0},{"$f":"IF(FW36=MAX(FV35:FX37),FW36,0)","v":0},{"$f":"IF(FX36=MAX(FW35:FY37),FX36,0)","v":0},{"$f":"IF(FY36=MAX(FX35:FZ37),FY36,0)","v":0},{"$f":"IF(FZ36=MAX(FY35:GA37),FZ36,0)","v":0},{"$f":"IF(GA36=MAX(FZ35:GB37),GA36,0)","v":0},{"$f":"IF(GB36=MAX(GA35:GC37),GB36,0)","v":0},{"$f":"IF(GC36=MAX(GB35:GD37),GC36,0)","v":0},{"$f":"IF(GD36=MAX(GC35:GE37),GD36,0)","v":0},{"$f":"IF(GE36=MAX(GD35:GF37),GE36,0)","v":0},{"$f":"IF(GF36=MAX(GE35:GF37),GF36,0)","v":0},3.3,null,3.3,34,1,0,0,0,0,0,0,0,0,0,0,0,0,0,0,0,0,0,0,0,1,0,0,0,0,0,0,0,0,0,0,0,0,0,0,0,0,0,0,0,1,3.3,null,3.3,34,35.950000000000003,0,0,0,0,0,0,0,0,0,0,0,0,0,0,0,0,0,0,0,36.380000000000003,0,0,0,0,0,0,0,0,0,0,0,0,0,0,0,0,0,0,0,41.86,3.3,null,3,31,{"$f":"COUNTIF(RG33:SA43,\">0\")","v":5},{"$f":"YE36","v":5},{"$f":"YF36","v":5},5,5,5,5,5,5,5,5,5,5,5,5,5,5,5,5,5,{"$f":"YX36","v":5},{"$f":"COUNTIF(SA33:SU43,\">0\")","v":1},{"$f":"YZ36","v":1},{"$f":"ZA36","v":1},1,1,1,1,1,1,1,1,1,1,1,1,1,1,1,1,1,{"$f":"ZS36","v":1},3,null,3,31,0,0,0,0,0,0,0,0,0,0,0,0,0,0,0,0,0,0,0,0,0,0,0,0,0,0,0,0,0,0,0,0,0,0,0,0,0,0,0,0,0,0,3,null,3,31,{"$f":"COUNTIF(UU33:VO43,\">0\")","v":51},{"$f":"ABS36","v":51},{"$f":"ABT36","v":51},51,51,51,51,51,51,51,51,51,51,51,51,51,51,51,51,51,{"$f":"ACL36","v":51},{"$f":"COUNTIF(VO33:WI43,\">0\")","v":58},{"$f":"ACN36","v":58},{"$f":"ACO36","v":58},58,58,58,58,58,58,58,58,58,58,58,58,58,58,58,58,58,{"$f":"ADG36","v":58},3]
[null,6,8,0.56999999999999995,11.98,0.56999999999999995,null,null,null,null,null,null,"7D",{"$f":"ROUND('3D Interpolace'!M38,2)","v":35.979999999999997},{"$f":"ROUND('3D Interpolace'!N38,2)","v":35.93},{"$f":"ROUND('3D Interpolace'!O38,2)","v":35.93},{"$f":"ROUND('3D Interpolace'!P38,2)","v":35.979999999999997},{"$f":"ROUND('3D Interpolace'!Q38,2)","v":36.090000000000003},{"$f":"ROUND('3D Interpolace'!R38,2)","v":36.25},{"$f":"ROUND('3D Interpolace'!S38,2)","v":36.54},{"$f":"ROUND('3D Interpolace'!T38,2)","v":36.96},{"$f":"ROUND('3D Interpolace'!U38,2)","v":37.39},{"$f":"ROUND('3D Interpolace'!V38,2)","v":37.729999999999997},{"$f":"ROUND('3D Interpolace'!W38,2)","v":37.840000000000003},{"$f":"ROUND('3D Interpolace'!X38,2)","v":37.65},{"$f":"ROUND('3D Interpolace'!Y38,2)","v":37.22},{"$f":"ROUND('3D Interpolace'!Z38,2)","v":36.700000000000003},{"$f":"ROUND('3D Interpolace'!AA38,2)","v":36.22},{"$f":"ROUND('3D Interpolace'!AB38,2)","v":35.92},{"$f":"ROUND('3D Interpolace'!AC38,2)","v":35.75},{"$f":"ROUND('3D Interpolace'!AD38,2)","v":35.619999999999997},{"$f":"ROUND('3D Interpolace'!AE38,2)","v":35.590000000000003},{"$f":"ROUND('3D Interpolace'!AF38,2)","v":35.75},{"$f":"ROUND('3D Interpolace'!AG38,2)","v":36.15},{"$f":"ROUND('3D Interpolace'!AH38,2)","v":36.96},{"$f":"ROUND('3D Interpolace'!AI38,2)","v":38.119999999999997},{"$f":"ROUND('3D Interpolace'!AJ38,2)","v":39.4},{"$f":"ROUND('3D Interpolace'!AK38,2)","v":40.590000000000003},{"$f":"ROUND('3D Interpolace'!AL38,2)","v":41.44},{"$f":"ROUND('3D Interpolace'!AM38,2)","v":41.89},{"$f":"ROUND('3D Interpolace'!AN38,2)","v":42.09},{"$f":"ROUND('3D Interpolace'!AO38,2)","v":42.14},{"$f":"ROUND('3D Interpolace'!AP38,2)","v":42.16},{"$f":"ROUND('3D Interpolace'!AQ38,2)","v":42.25},{"$f":"ROUND('3D Interpolace'!AR38,2)","v":42.43},{"$f":"ROUND('3D Interpolace'!AS38,2)","v":42.64},{"$f":"ROUND('3D Interpolace'!AT38,2)","v":42.83},{"$f":"ROUND('3D Interpolace'!AU38,2)","v":42.97},{"$f":"ROUND('3D Interpolace'!AV38,2)","v":43.01},{"$f":"ROUND('3D Interpolace'!AW38,2)","v":42.95},{"$f":"ROUND('3D Interpolace'!AX38,2)","v":42.82},{"$f":"ROUND('3D Interpolace'!AY38,2)","v":42.62},{"$f":"ROUND('3D Interpolace'!AZ38,2)","v":42.35},{"$f":"ROUND('3D Interpolace'!BA38,2)","v":42.01},null,3.4,35,4,4,4,4,4,4,4,4,4,4,4,4,4,4,4,4,4,4,4,4,4,4,4,4,4,4,4,4,4,4,4,4,4,8,8,4,4,4,4,4,4,3.4,null,3.4,35,39.979999999999997,39.93,39.93,39.979999999999997,40.090000000000003,40.25,40.54,40.96,41.39,41.73,41.84,41.65,41.22,40.700000000000003,40.22,39.92,39.75,39.619999999999997,39.590000000000003,39.75,40.15,40.96,42.12,43.4,44.59,45.44,45.89,46.09,46.14,46.16,46.25,46.43,46.64,50.83,50.97,47.01,46.95,46.82,46.62,46.35,46.01,3.4,null,3.1,32,35.94,36.28,36.56,36.770000000000003,36.909999999999997,36.99,36.979999999999997,36.869999999999997,36.71,36.54,36.4,36.270000000000003,36.130000000000003,36.01,35.92,35.92,35.92,35.92,36,36.270000000000003,36.85,36.85,37.92,39.43,41.07,42.52,43.48,43.84,43.81,43.54,43.22,42.99,42.87,42.75,42.62,42.47,42.31,42.14,41.95,41.75,41.54,41.31,null,null,null,3.1,32,0,0,0,0,0,0,0,0,0,0,0,0,0,0,0,0,0,0,0,0,0,0,0,0,0,0,0,0,0,0,0,0,0,0,0,0,0,0,0,0,0,0,3.1,null,null,null,32,43.2,43.422222222222217,43.644444444444446,43.866666666666667,44.088888888888889,44.31111111111111,44.533333333333331,44.75555555555556,44.977777777777774,45.2,45.422222222222217,45.644444444444446,45.866666666666667,46.088888888888889,46.31111111111111,46.533333333333331,46.755555555555553,46.977777777777774,47.2,47.422222222222217,47.644444444444446,48.662250000000007,49.171000000000006,49.679749999999999,50.188500000000005,50.697250000000004,51.206000000000003,51.714750000000009,52.223500000000001,52.732250000000008,53.241000000000007,53.749750000000006,54.258500000000005,54.767250000000004,55.27600000000001,55.784750000000003,56.293500000000009,56.802250000000008,57.311000000000007,57.819750000000006,58.328500000000005,58.837250000000004,3.1,null,null,null,null,null,3.1,32,7.2600000000000051,7.142222222222216,7.0844444444444434,7.096666666666664,7.178888888888892,7.321111111111108,7.5533333333333346,7.8855555555555625,8.2677777777777735,8.6600000000000037,9.0222222222222186,9.3744444444444426,9.7366666666666646,10.078888888888891,10.391111111111108,10.61333333333333,10.835555555555551,11.057777777777773,11.200000000000003,11.152222222222214,10.794444444444444,11.812250000000006,11.251000000000005,10.249749999999999,9.1185000000000045,8.1772500000000008,7.7260000000000062,7.8747500000000059,8.4134999999999991,9.1922500000000085,10.021000000000008,10.759750000000004,11.388500000000008,12.017250000000004,12.656000000000013,13.314750000000004,13.983500000000006,14.662250000000007,15.361000000000004,16.069750000000006,16.788500000000006,17.527250000000002,null,null,null,null,null,null,null,3.4,35,0.57361111111111107,0.86833333333333229,1.0980555555555576,1.2602777777777785,1.3549999999999986,1.3397222222222211,1.171944444444442,0.91916666666666735,0.70638888888889007,0.66361111111111093,0.90583333333333194,1.4355555555555561,2.137777777777778,2.8724999999999987,3.5022222222222208,3.979444444444443,4.3716666666666697,4.6963888888888903,4.8786111111111108,4.845833333333335,4.4851250000000054,4.0438750000000017,3.3651250000000026,2.6688750000000034,2.1801250000000021,2.0438750000000034,2.2176250000000017,2.5813750000000031,3.0301250000000035,3.4588750000000026,3.8076250000000051,4.0938750000000041,2.3751250000000041,0.69387500000000379,3.0926250000000053,5.5988750000000067,6.1951250000000044,6.866375000000005,7.6126250000000049,8.433875000000004,null,null,3.4,35,22.99,22.99,22.99,22.99,22.99,22.99,22.99,22.99,22.99,22.99,22.99,22.99,5.27,5.27,5.27,5.27,1.68,1.68,1.68,1.68,1.68,1.68,5.27,5.27,5.27,5.27,5.27,5.27,5.27,5.27,5.27,1.68,5.27,22.99,5.27,1.68,0.56999999999999995,0.56999999999999995,0.56999999999999995,0.19,null,null,3.4,35,0,0,0,0,0,0,0,0,0,0,0,0,-17.72,-17.72,-17.72,-17.72,-21.31,-21.31,-21.31,-21.31,-3.59,-3.59,0,-17.72,-17.72,-17.72,-17.72,-17.72,-17.72,-17.72,4.6999999999999993,1.1099999999999999,0,0,0,0,-1.1099999999999999,-1.1099999999999999,-1.1099999999999999,-1.49,null,null,3.4,35,0,0,0,0,0,0,0,0,0,0,0,0,0,0,0,0,0,0,0,0,0,0,0,0,0,0,0,0,0,0,0,0,0,0,50.97,0,0,0,0,0,0,3.4,null,3.4,35,0,0,0,0,0,0,0,0,0,0,0,0,0,0,0,0,0,0,0,0,0,0,0,0,0,0,0,0,0,0,0,0,0,0,0,0,0,0,0,0,0,3.4,null,3.4,35,1,0,0,0,0,0,0,0,0,0,0,0,0,0,0,0,0,0,0,0,1,0,0,0,0,0,0,0,0,0,0,0,0,0,0,0,0,0,0,0,1,3.4,null,3.4,35,39.979999999999997,0,0,0,0,0,0,0,0,0,0,0,0,0,0,0,0,0,0,0,40.15,0,0,0,0,0,0,0,0,0,0,0,0,0,50.97,0,0,0,0,0,46.01,3.4,null,3.1,32,{"$f":"YE36","v":5},{"$f":"YF36","v":5},{"$f":"YG36","v":5},{"$f":"YH36","v":5},{"$f":"YI36","v":5},{"$f":"YJ36","v":5},{"$f":"YK36","v":5},{"$f":"YL36","v":5},{"$f":"YM36","v":5},{"$f":"YN36","v":5},{"$f":"YO36","v":5},{"$f":"YP36","v":5},{"$f":"YQ36","v":5},{"$f":"YR36","v":5},{"$f":"YS36","v":5},{"$f":"YT36","v":5},{"$f":"YU36","v":5},{"$f":"YV36","v":5},{"$f":"YW36","v":5},{"$f":"YX36","v":5},{"$f":"YX37","v":5},{"$f":"ZA37","v":1},{"$f":"ZA36","v":1},{"$f":"ZB36","v":1},{"$f":"ZC36","v":1},{"$f":"ZD36","v":1},{"$f":"ZE36","v":1},{"$f":"ZF36","v":1},{"$f":"ZG36","v":1},{"$f":"ZH36","v":1},{"$f":"ZI36","v":1},{"$f":"ZJ36","v":1},{"$f":"ZK36","v":1},{"$f":"ZL36","v":1},{"$f":"ZM36","v":1},{"$f":"ZN36","v":1},{"$f":"ZO36","v":1},{"$f":"ZP36","v":1},{"$f":"ZQ36","v":1},{"$f":"ZR36","v":1},{"$f":"ZS36","v":1},{"$f":"ZS37","v":1},3.1,null,3.1,32,0,0,0,0,0,0,0,0,0,0,0,0,0,0,0,0,0,0,0,0,0,0,0,0,0,0,0,0,0,0,0,0,0,0,0,0,0,0,0,0,0,0,3.1,null,3.1,32,{"$f":"ABS36","v":51},{"$f":"ABT36","v":51},{"$f":"ABU36","v":51},{"$f":"ABV36","v":51},{"$f":"ABW36","v":51},{"$f":"ABX36","v":51},{"$f":"ABY36","v":51},{"$f":"ABZ36","v":51},{"$f":"ACA36","v":51},{"$f":"ACB36","v":51},{"$f":"ACC36","v":51},{"$f":"ACD36","v":51},{"$f":"ACE36","v":51},{"$f":"ACF36","v":51},{"$f":"ACG36","v":51},{"$f":"ACH36","v":51},{"$f":"ACI36","v":51},{"$f":"ACJ36","v":51},{"$f":"ACK36","v":51},{"$f":"ACL36","v":51},{"$f":"ACL37","v":51},{"$f":"ACO37","v":58},{"$f":"ACO36","v":58},{"$f":"ACP36","v":58},{"$f":"ACQ36","v":58},{"$f":"ACR36","v":58},{"$f":"ACS36","v":58},{"$f":"ACT36","v":58},{"$f":"ACU36","v":58},{"$f":"ACV36","v":58},{"$f":"ACW36","v":58},{"$f":"ACX36","v":58},{"$f":"ACY36","v":58},{"$f":"ACZ36","v":58},{"$f":"ADA36","v":58},{"$f":"ADB36","v":58},{"$f":"ADC36","v":58},{"$f":"ADD36","v":58},{"$f":"ADE36","v":58},{"$f":"ADF36","v":58},{"$f":"ADG36","v":58},{"$f":"ADG37","v":58},3.1]
[null,8,10,0.19,11.33,0.19,null,null,null,null,null,null,"8",{"$f":"ROUND('3D Interpolace'!M39,2)","v":36},{"$f":"ROUND('3D Interpolace'!N39,2)","v":35.840000000000003},{"$f":"ROUND('3D Interpolace'!O39,2)","v":35.76},{"$f":"ROUND('3D Interpolace'!P39,2)","v":35.76},{"$f":"ROUND('3D Interpolace'!Q39,2)","v":35.840000000000003},{"$f":"ROUND('3D Interpolace'!R39,2)","v":36},{"$f":"ROUND('3D Interpolace'!S39,2)","v":36.340000000000003},{"$f":"ROUND('3D Interpolace'!T39,2)","v":36.85},{"$f":"ROUND('3D Interpolace'!U39,2)","v":37.39},{"$f":"ROUND('3D Interpolace'!V39,2)","v":37.82},{"$f":"ROUND('3D Interpolace'!W39,2)","v":38},{"$f":"ROUND('3D Interpolace'!X39,2)","v":37.82},{"$f":"ROUND('3D Interpolace'!Y39,2)","v":37.39},{"$f":"ROUND('3D Interpolace'!Z39,2)","v":36.85},{"$f":"ROUND('3D Interpolace'!AA39,2)","v":36.340000000000003},{"$f":"ROUND('3D Interpolace'!AB39,2)","v":36},{"$f":"ROUND('3D Interpolace'!AC39,2)","v":35.79},{"$f":"ROUND('3D Interpolace'!AD39,2)","v":35.619999999999997},{"$f":"ROUND('3D Interpolace'!AE39,2)","v":35.54},{"$f":"ROUND('3D Interpolace'!AF39,2)","v":35.65},{"$f":"ROUND('3D Interpolace'!AG39,2)","v":36},{"$f":"ROUND('3D Interpolace'!AH39,2)","v":36.74},{"$f":"ROUND('3D Interpolace'!AI39,2)","v":37.83},{"$f":"ROUND('3D Interpolace'!AJ39,2)","v":39.049999999999997},{"$f":"ROUND('3D Interpolace'!AK39,2)","v":40.18},{"$f":"ROUND('3D Interpolace'!AL39,2)","v":41},{"$f":"ROUND('3D Interpolace'!AM39,2)","v":41.46},{"$f":"ROUND('3D Interpolace'!AN39,2)","v":41.69},{"$f":"ROUND('3D Interpolace'!AO39,2)","v":41.79},{"$f":"ROUND('3D Interpolace'!AP39,2)","v":41.86},{"$f":"ROUND('3D Interpolace'!AQ39,2)","v":42},{"$f":"ROUND('3D Interpolace'!AR39,2)","v":42.23},{"$f":"ROUND('3D Interpolace'!AS39,2)","v":42.5},{"$f":"ROUND('3D Interpolace'!AT39,2)","v":42.74},{"$f":"ROUND('3D Interpolace'!AU39,2)","v":42.93},{"$f":"ROUND('3D Interpolace'!AV39,2)","v":43},{"$f":"ROUND('3D Interpolace'!AW39,2)","v":42.96},{"$f":"ROUND('3D Interpolace'!AX39,2)","v":42.84},{"$f":"ROUND('3D Interpolace'!AY39,2)","v":42.64},{"$f":"ROUND('3D Interpolace'!AZ39,2)","v":42.36},{"$f":"ROUND('3D Interpolace'!BA39,2)","v":42},null,3.5,36,4,4,4,4,4,4,4,4,4,4,4,4,4,4,4,4,4,4,4,4,4,4,4,4,4,4,4,4,4,4,4,4,4,8,8,4,4,4,4,4,4,3.5,null,3.5,36,40,39.840000000000003,39.76,39.76,39.840000000000003,40,40.340000000000003,40.85,41.39,41.82,42,41.82,41.39,40.85,40.340000000000003,40,39.79,39.619999999999997,39.54,39.65,40,40.74,41.83,43.05,44.18,45,45.46,45.69,45.79,45.86,46,46.23,46.5,50.74,50.93,47,46.96,46.84,46.64,46.36,46,3.5,null,3.1999999999999997,33,35.93,36.17,36.380000000000003,36.549999999999997,36.700000000000003,36.82,36.909999999999997,36.97,37,36.979999999999997,36.92,36.76,36.5,36.22,35.99,35.880000000000003,35.83,35.79,35.85,36.1,36.619999999999997,36.619999999999997,37.61,39,40.51,41.87,42.8,43.2,43.26,43.12,42.93,42.82,42.8,42.79,42.76,42.71,42.62,42.48,42.31,42.11,41.88,41.62,null,null,null,3.1999999999999997,33,0,0,0,0,0,0,0,0,0,0,0,0,0,0,0,0,0,0,0,0,0,0,0,0,0,0,0,0,0,0,0,0,0,0,0,0,0,0,0,0,0,0,3.1999999999999997,null,null,null,33,42.400000000000006,42.62222222222222,42.844444444444449,43.06666666666667,43.288888888888891,43.511111111111113,43.733333333333334,43.955555555555563,44.177777777777777,44.400000000000006,44.62222222222222,44.844444444444449,45.06666666666667,45.288888888888891,45.511111111111113,45.733333333333334,45.955555555555556,46.177777777777777,46.400000000000006,46.62222222222222,46.844444444444449,47.528250000000007,48.037000000000006,48.545749999999998,49.054500000000004,49.563250000000004,50.072000000000003,50.580750000000009,51.089500000000001,51.598250000000007,52.107000000000006,52.615750000000006,53.124500000000005,53.633250000000004,54.14200000000001,54.650750000000002,55.159500000000008,55.668250000000008,56.177000000000007,56.685750000000006,57.194500000000005,57.703250000000004,3.1999999999999997,null,null,null,null,null,3.1999999999999997,33,6.470000000000006,6.4522222222222183,6.464444444444446,6.5166666666666728,6.5888888888888886,6.6911111111111126,6.8233333333333377,6.985555555555564,7.1777777777777771,7.4200000000000088,7.7022222222222183,8.0844444444444505,8.56666666666667,9.0688888888888926,9.5211111111111109,9.8533333333333317,10.125555555555557,10.387777777777778,10.550000000000004,10.522222222222219,10.224444444444451,10.90825000000001,10.427000000000007,9.5457499999999982,8.5445000000000064,7.6932500000000061,7.2720000000000056,7.3807500000000061,7.829500000000003,8.4782500000000098,9.1770000000000067,9.7957500000000053,10.324500000000008,10.843250000000005,11.382000000000012,11.940750000000001,12.539500000000011,13.188250000000011,13.867000000000004,14.575750000000006,15.314500000000002,16.083250000000007,null,null,null,null,null,null,null,3.5,36,1.7986111111111089,2.173333333333332,2.4630555555555578,2.6652777777777779,2.7824999999999989,2.7647222222222201,2.5669444444444434,2.264166666666668,1.9938888888888897,1.8986111111111104,2.0958333333333314,2.583055555555557,3.2427777777777784,3.9449999999999985,4.5622222222222195,5.0519444444444428,5.4816666666666674,5.8613888888888894,6.1036111111111104,6.1258333333333326,5.4811250000000058,5.0873750000000015,4.4511250000000011,3.7948750000000029,3.3361250000000009,3.2123749999999998,3.3836250000000003,3.7323750000000029,4.1611250000000037,4.5698750000000032,4.8961250000000049,5.1548750000000041,3.406125000000003,1.6973750000000027,4.0761250000000047,6.5698750000000068,7.1586250000000042,7.8273750000000035,8.5761250000000047,9.4048750000000041,null,null,3.5,36,22.99,5.27,5.27,5.27,5.27,5.27,5.27,5.27,22.99,22.99,5.27,5.27,5.27,5.27,1.68,1.68,1.68,1.68,0.56999999999999995,0.56999999999999995,1.68,1.68,1.68,5.27,5.27,5.27,5.27,5.27,1.68,1.68,1.68,1.68,5.27,22.99,1.68,0.56999999999999995,0.56999999999999995,0.56999999999999995,0.19,0.19,null,null,3.5,36,17.72,0,0,0,0,0,0,0,0,0,-17.72,-17.72,0,0,-3.59,-3.59,-3.59,-3.59,-4.6999999999999993,-4.6999999999999993,-21.31,-21.31,-21.31,-17.72,-17.72,-17.72,0,0,0,0,1.49,1.49,3.59,17.72,-3.59,-1.1099999999999999,-4.6999999999999993,-4.6999999999999993,-5.0799999999999992,-22.799999999999997,null,null,3.5,36,40,0,0,0,0,0,0,0,0,0,42,0,0,0,0,0,0,0,0,0,0,0,0,0,0,0,0,0,0,0,0,0,0,0,0,0,0,0,0,0,0,3.5,null,3.5,36,0,0,0,0,0,0,0,0,0,0,0,0,0,0,0,0,0,0,0,0,0,0,0,0,0,0,0,0,0,0,0,0,0,0,0,0,0,0,0,0,0,3.5,null,3.5,36,1,0,0,0,0,0,0,0,0,0,0,0,0,0,0,0,0,0,0,0,1,0,0,0,0,0,0,0,0,0,0,0,0,0,0,0,0,0,0,0,1,3.5,null,3.5,36,40,0,0,0,0,0,0,0,0,0,42,0,0,0,0,0,0,0,0,0,40,0,0,0,0,0,0,0,0,0,0,0,0,0,0,0,0,0,0,0,46,3.5,null,3.1999999999999997,33,{"$f":"YE37","v":5},{"$f":"YF37","v":5},5,5,5,5,5,5,5,5,5,5,5,5,5,5,5,5,5,5,{"$f":"YX38","v":5},1,{"$f":"ZA37","v":1},1,1,1,1,1,1,1,1,1,1,1,1,1,1,1,1,1,1,{"$f":"ZS38","v":1},3.1999999999999997,null,3.1999999999999997,33,0,0,0,0,0,0,0,0,0,0,0,0,0,0,0,0,0,0,0,0,0,0,0,0,0,0,0,0,0,0,0,0,0,0,0,0,0,0,0,0,0,0,3.1999999999999997,null,3.1999999999999997,33,{"$f":"ABS37","v":51},{"$f":"ABT37","v":51},51,51,51,51,51,51,51,51,51,51,51,51,51,51,51,51,51,51,{"$f":"ACL38","v":51},58,{"$f":"ACO37","v":58},58,58,58,58,58,58,58,58,58,58,58,58,58,58,58,58,58,58,{"$f":"ADG38","v":58},3.1999999999999997]
[null,10,12,0.06,7.9,0.06,null,null,null,null,null,null,"8A",{"$f":"ROUND('3D Interpolace'!M40,2)","v":36.020000000000003},{"$f":"ROUND('3D Interpolace'!N40,2)","v":35.79},{"$f":"ROUND('3D Interpolace'!O40,2)","v":35.65},{"$f":"ROUND('3D Interpolace'!P40,2)","v":35.6},{"$f":"ROUND('3D Interpolace'!Q40,2)","v":35.65},{"$f":"ROUND('3D Interpolace'!R40,2)","v":35.78},{"$f":"ROUND('3D Interpolace'!S40,2)","v":36.11},{"$f":"ROUND('3D Interpolace'!T40,2)","v":36.61},{"$f":"ROUND('3D Interpolace'!U40,2)","v":37.159999999999997},{"$f":"ROUND('3D Interpolace'!V40,2)","v":37.61},{"$f":"ROUND('3D Interpolace'!W40,2)","v":37.82},{"$f":"ROUND('3D Interpolace'!X40,2)","v":37.71},{"$f":"ROUND('3D Interpolace'!Y40,2)","v":37.369999999999997},{"$f":"ROUND('3D Interpolace'!Z40,2)","v":36.93},{"$f":"ROUND('3D Interpolace'!AA40,2)","v":36.5},{"$f":"ROUND('3D Interpolace'!AB40,2)","v":36.200000000000003},{"$f":"ROUND('3D Interpolace'!AC40,2)","v":35.979999999999997},{"$f":"ROUND('3D Interpolace'!AD40,2)","v":35.75},{"$f":"ROUND('3D Interpolace'!AE40,2)","v":35.6},{"$f":"ROUND('3D Interpolace'!AF40,2)","v":35.64},{"$f":"ROUND('3D Interpolace'!AG40,2)","v":35.94},{"$f":"ROUND('3D Interpolace'!AH40,2)","v":36.65},{"$f":"ROUND('3D Interpolace'!AI40,2)","v":37.72},{"$f":"ROUND('3D Interpolace'!AJ40,2)","v":38.92},{"$f":"ROUND('3D Interpolace'!AK40,2)","v":40.03},{"$f":"ROUND('3D Interpolace'!AL40,2)","v":40.840000000000003},{"$f":"ROUND('3D Interpolace'!AM40,2)","v":41.28},{"$f":"ROUND('3D Interpolace'!AN40,2)","v":41.5},{"$f":"ROUND('3D Interpolace'!AO40,2)","v":41.59},{"$f":"ROUND('3D Interpolace'!AP40,2)","v":41.65},{"$f":"ROUND('3D Interpolace'!AQ40,2)","v":41.78},{"$f":"ROUND('3D Interpolace'!AR40,2)","v":42.01},{"$f":"ROUND('3D Interpolace'!AS40,2)","v":42.28},{"$f":"ROUND('3D Interpolace'!AT40,2)","v":42.53},{"$f":"ROUND('3D Interpolace'!AU40,2)","v":42.72},{"$f":"ROUND('3D Interpolace'!AV40,2)","v":42.79},{"$f":"ROUND('3D Interpolace'!AW40,2)","v":42.75},{"$f":"ROUND('3D Interpolace'!AX40,2)","v":42.63},{"$f":"ROUND('3D Interpolace'!AY40,2)","v":42.43},{"$f":"ROUND('3D Interpolace'!AZ40,2)","v":42.15},{"$f":"ROUND('3D Interpolace'!BA40,2)","v":41.79},null,3.6,37,null,null,null,null,null,null,null,null,null,null,null,null,null,null,null,null,null,null,null,null,null,null,null,null,null,null,null,null,null,null,null,null,null,4,4,null,null,null,null,null,null,3.6,null,3.6,37,36.020000000000003,35.79,35.65,35.6,35.65,35.78,36.11,36.61,37.159999999999997,37.61,37.82,37.71,37.369999999999997,36.93,36.5,36.200000000000003,35.979999999999997,35.75,35.6,35.64,35.94,36.65,37.72,38.92,40.03,40.840000000000003,41.28,41.5,41.59,41.65,41.78,42.01,42.28,46.53,46.72,42.79,42.75,42.63,42.43,42.15,41.79,3.6,null,3.3,34,35.950000000000003,36.049999999999997,36.15,36.270000000000003,36.4,36.54,36.74,37,37.24,37.409999999999997,37.44,37.25,36.89,36.47,36.1,35.880000000000003,35.76,35.68,35.700000000000003,35.909999999999997,36.380000000000003,36.380000000000003,37.270000000000003,38.53,39.93,41.19,42.08,42.51,42.65,42.62,42.54,42.54,42.64,42.75,42.84,42.89,42.86,42.77,42.62,42.42,42.17,41.86,null,null,null,3.3,34,0,0,0,0,0,0,0,0,0,0,0,0,0,0,0,0,0,0,0,0,0,0,0,0,0,0,0,0,0,0,0,0,0,0,0,0,0,0,0,0,0,0,3.3,null,null,null,34,41.599999999999994,41.822222222222223,42.044444444444437,42.266666666666666,42.488888888888887,42.711111111111109,42.93333333333333,43.155555555555551,43.37777777777778,43.599999999999994,43.822222222222223,44.044444444444437,44.266666666666666,44.488888888888887,44.711111111111109,44.93333333333333,45.155555555555551,45.37777777777778,45.599999999999994,45.822222222222223,46.044444444444444,46.394250000000007,46.903000000000006,47.411749999999998,47.920500000000004,48.429250000000003,48.938000000000002,49.446750000000009,49.955500000000001,50.464250000000007,50.972999999999999,51.481750000000005,51.990500000000004,52.499250000000004,53.00800000000001,53.516750000000002,54.025500000000008,54.534250000000007,55.043000000000006,55.551750000000006,56.060500000000005,56.569250000000004,3.3,null,null,null,null,null,3.3,34,5.6499999999999915,5.7722222222222257,5.8944444444444386,5.9966666666666626,6.0888888888888886,6.1711111111111094,6.193333333333328,6.1555555555555515,6.137777777777778,6.1899999999999977,6.3822222222222251,6.7944444444444372,7.3766666666666652,8.0188888888888883,8.6111111111111072,9.0533333333333275,9.3955555555555534,9.6977777777777803,9.8999999999999915,9.9122222222222263,9.6644444444444417,10.014250000000004,9.6330000000000027,8.8817499999999967,7.9905000000000044,7.2392500000000055,6.8580000000000041,6.9367500000000106,7.3055000000000021,7.8442500000000095,8.4329999999999998,8.9417500000000061,9.3505000000000038,9.7492500000000035,10.168000000000006,10.626750000000001,11.165500000000009,11.764250000000004,12.423000000000009,13.131750000000004,13.890500000000003,14.709250000000004,null,null,null,null,null,null,null,3.6,37,3.0061111111111121,3.4408333333333339,3.7830555555555581,4.0327777777777793,4.1900000000000013,4.2097222222222221,4.0494444444444468,3.7766666666666691,3.5213888888888913,3.4161111111111122,3.5558333333333323,3.9305555555555589,4.4502777777777816,5.0175000000000018,5.5372222222222209,5.9969444444444431,6.461666666666666,6.9138888888888896,7.2411111111111115,7.3333333333333339,6.3921250000000036,6.0083750000000009,5.3721250000000005,4.7158750000000023,4.2596249999999998,4.1508749999999992,4.3521249999999991,4.7383750000000013,5.2046250000000036,5.6458750000000038,5.997125000000004,6.2758750000000028,4.5396250000000027,2.8408750000000023,5.2296250000000022,7.7283750000000051,8.3221250000000033,8.9933750000000021,9.7396250000000038,10.563375000000002,null,null,3.6,37,5.27,5.27,5.27,1.68,1.68,1.68,1.68,5.27,5.27,5.27,5.27,5.27,1.68,1.68,1.68,1.68,0.56999999999999995,0.56999999999999995,0.56999999999999995,0.56999999999999995,0.56999999999999995,0.56999999999999995,1.68,1.68,1.68,1.68,1.68,1.68,1.68,1.68,1.68,0.56999999999999995,1.68,5.27,1.68,0.56999999999999995,0.19,0.19,0.19,0.06,null,null,3.6,37,3.59,3.59,3.59,0,0,0,0,0,0,0,0,0,-3.59,-3.59,-3.59,-3.59,-4.6999999999999993,-4.6999999999999993,-4.6999999999999993,-4.6999999999999993,-4.6999999999999993,-4.6999999999999993,-3.59,-3.59,-3.59,-3.59,-3.59,0,0,1.1099999999999999,1.6199999999999999,0.37999999999999995,1.1099999999999999,0,0,-1.1099999999999999,-1.49,-5.0799999999999992,-5.0799999999999992,-5.21,null,null,3.6,37,0,0,0,0,0,0,0,0,0,0,0,0,0,0,0,0,0,0,0,0,0,0,0,0,0,0,0,0,0,0,0,0,0,0,0,0,0,0,0,0,0,3.6,null,3.6,37,0,0,0,0,0,0,0,0,0,0,0,0,0,0,0,0,0,0,0,0,0,0,0,0,0,0,0,0,0,0,0,0,0,0,0,0,0,0,0,0,0,3.6,null,3.6,37,1,0,0,0,0,0,0,0,0,0,0,0,0,0,0,0,0,0,0,0,1,0,0,0,0,0,0,0,0,0,0,0,0,0,0,0,0,0,0,0,1,3.6,null,3.6,37,36.020000000000003,0,0,0,0,0,0,0,0,0,0,0,0,0,0,0,0,0,0,0,35.94,0,0,0,0,0,0,0,0,0,0,0,0,0,0,0,0,0,0,0,41.79,3.6,null,3.3,34,5,5,5,5,5,5,5,5,5,5,5,5,5,5,5,5,5,5,5,5,5,1,1,1,1,1,1,1,1,1,1,1,1,1,1,1,1,1,1,1,1,1,3.3,null,3.3,34,0,0,0,0,0,0,0,0,0,0,0,0,0,0,0,0,0,0,0,0,0,0,0,0,0,0,0,0,0,0,0,0,0,0,0,0,0,0,0,0,0,0,3.3,null,3.3,34,51,51,51,51,51,51,51,51,51,51,51,51,51,51,51,51,51,51,51,51,51,58,58,58,58,58,58,58,58,58,58,58,58,58,58,58,58,58,58,58,58,58,3.3]
[null,12,14,0.02,6.1,0.02,null,null,null,null,null,null,"8B",{"$f":"ROUND('3D Interpolace'!M41,2)","v":36.049999999999997},{"$f":"ROUND('3D Interpolace'!N41,2)","v":35.76},{"$f":"ROUND('3D Interpolace'!O41,2)","v":35.57},{"$f":"ROUND('3D Interpolace'!P41,2)","v":35.47},{"$f":"ROUND('3D Interpolace'!Q41,2)","v":35.46},{"$f":"ROUND('3D Interpolace'!R41,2)","v":35.549999999999997},{"$f":"ROUND('3D Interpolace'!S41,2)","v":35.81},{"$f":"ROUND('3D Interpolace'!T41,2)","v":36.25},{"$f":"ROUND('3D Interpolace'!U41,2)","v":36.74},{"$f":"ROUND('3D Interpolace'!V41,2)","v":37.159999999999997},{"$f":"ROUND('3D Interpolace'!W41,2)","v":37.39},{"$f":"ROUND('3D Interpolace'!X41,2)","v":37.39},{"$f":"ROUND('3D Interpolace'!Y41,2)","v":37.229999999999997},{"$f":"ROUND('3D Interpolace'!Z41,2)","v":36.979999999999997},{"$f":"ROUND('3D Interpolace'!AA41,2)","v":36.72},{"$f":"ROUND('3D Interpolace'!AB41,2)","v":36.520000000000003},{"$f":"ROUND('3D Interpolace'!AC41,2)","v":36.29},{"$f":"ROUND('3D Interpolace'!AD41,2)","v":36},{"$f":"ROUND('3D Interpolace'!AE41,2)","v":35.75},{"$f":"ROUND('3D Interpolace'!AF41,2)","v":35.69},{"$f":"ROUND('3D Interpolace'!AG41,2)","v":35.93},{"$f":"ROUND('3D Interpolace'!AH41,2)","v":36.630000000000003},{"$f":"ROUND('3D Interpolace'!AI41,2)","v":37.72},{"$f":"ROUND('3D Interpolace'!AJ41,2)","v":38.94},{"$f":"ROUND('3D Interpolace'!AK41,2)","v":40.07},{"$f":"ROUND('3D Interpolace'!AL41,2)","v":40.880000000000003},{"$f":"ROUND('3D Interpolace'!AM41,2)","v":41.29},{"$f":"ROUND('3D Interpolace'!AN41,2)","v":41.45},{"$f":"ROUND('3D Interpolace'!AO41,2)","v":41.47},{"$f":"ROUND('3D Interpolace'!AP41,2)","v":41.47},{"$f":"ROUND('3D Interpolace'!AQ41,2)","v":41.55},{"$f":"ROUND('3D Interpolace'!AR41,2)","v":41.74},{"$f":"ROUND('3D Interpolace'!AS41,2)","v":41.97},{"$f":"ROUND('3D Interpolace'!AT41,2)","v":42.2},{"$f":"ROUND('3D Interpolace'!AU41,2)","v":42.36},{"$f":"ROUND('3D Interpolace'!AV41,2)","v":42.42},{"$f":"ROUND('3D Interpolace'!AW41,2)","v":42.37},{"$f":"ROUND('3D Interpolace'!AX41,2)","v":42.24},{"$f":"ROUND('3D Interpolace'!AY41,2)","v":42.04},{"$f":"ROUND('3D Interpolace'!AZ41,2)","v":41.77},{"$f":"ROUND('3D Interpolace'!BA41,2)","v":41.42},null,3.7,38,null,null,null,null,null,null,null,null,null,null,null,null,null,null,null,null,null,null,null,null,null,null,null,null,null,null,null,null,null,null,null,null,null,4,4,null,null,null,null,null,null,3.7,null,3.7,38,36.049999999999997,35.76,35.57,35.47,35.46,35.549999999999997,35.81,36.25,36.74,37.159999999999997,37.39,37.39,37.229999999999997,36.979999999999997,36.72,36.520000000000003,36.29,36,35.75,35.69,35.93,36.630000000000003,37.72,38.94,40.07,40.880000000000003,41.29,41.45,41.47,41.47,41.55,41.74,41.97,46.2,46.36,42.42,42.37,42.24,42.04,41.77,41.42,3.7,null,3.4,35,39.979999999999997,39.93,39.93,39.979999999999997,40.090000000000003,40.25,40.54,40.96,41.39,41.73,41.84,41.65,41.22,40.700000000000003,40.22,39.92,39.75,39.619999999999997,39.590000000000003,39.75,40.15,40.15,40.96,42.12,43.4,44.59,45.44,45.89,46.09,46.14,46.16,46.25,46.43,46.64,50.83,50.97,47.01,46.95,46.82,46.62,46.35,46.01,null,null,null,3.4,35,39.979999999999997,0,0,0,0,40.25,0,0,0,0,41.84,0,0,0,0,39.92,0,0,0,0,40.15,40.15,0,0,0,0,45.44,0,0,0,0,46.25,0,0,50.83,50.97,47.01,0,0,0,0,46.01,3.4,null,null,null,35,40.799999999999997,41.022222222222226,41.24444444444444,41.466666666666669,41.68888888888889,41.911111111111111,42.133333333333333,42.355555555555554,42.577777777777783,42.8,43.022222222222226,43.24444444444444,43.466666666666669,43.68888888888889,43.911111111111111,44.133333333333333,44.355555555555554,44.577777777777783,44.8,45.022222222222226,45.244444444444447,45.260250000000006,45.769000000000005,46.277749999999997,46.786500000000004,47.295250000000003,47.804000000000002,48.312750000000008,48.8215,49.330250000000007,49.838999999999999,50.347750000000005,50.856500000000004,51.365250000000003,51.874000000000009,52.382750000000001,52.891500000000008,53.400250000000007,53.909000000000006,54.417750000000005,54.926500000000004,55.435250000000003,3.4,null,null,null,null,null,3.4,35,0.82000000000000028,1.092222222222226,1.3144444444444403,1.4866666666666717,1.5988888888888866,1.6611111111111114,1.5933333333333337,1.3955555555555534,1.1877777777777823,1.0700000000000003,1.1822222222222223,1.5944444444444414,2.2466666666666697,2.9888888888888872,3.6911111111111126,4.2133333333333312,4.6055555555555543,4.9577777777777854,5.2099999999999937,5.2722222222222257,5.0944444444444485,5.1102500000000077,4.8090000000000046,4.1577500000000001,3.3865000000000052,2.7052499999999995,2.3640000000000043,2.4227500000000077,2.7314999999999969,3.190250000000006,3.679000000000002,4.0977500000000049,4.4265000000000043,4.7252500000000026,1.0440000000000111,1.4127500000000026,5.8815000000000097,6.450250000000004,7.0890000000000057,7.7977500000000077,8.5765000000000029,9.4252500000000055,null,null,null,null,null,null,null,3.6999999999999997,38,2.2061111111111114,2.6908333333333321,3.0830555555555552,3.382777777777779,3.5900000000000016,3.6722222222222225,3.5894444444444442,3.3966666666666665,3.2013888888888893,3.1086111111111112,3.1858333333333313,3.4105555555555558,3.7302777777777809,4.1000000000000014,4.4722222222222197,4.8769444444444421,5.3741666666666674,5.9063888888888894,6.3311111111111114,6.5008333333333344,5.2531250000000007,4.859375,4.1956249999999997,3.5093750000000021,3.0431249999999999,2.9568750000000001,3.208124999999999,3.661875000000002,4.2006250000000023,4.7068750000000019,5.1131250000000037,5.4418750000000014,3.7506250000000012,2.0893750000000004,4.5081249999999997,7.026875000000004,7.630625000000002,8.3043750000000003,9.0481250000000024,9.8618750000000013,null,null,3.6999999999999997,38,5.27,5.27,5.27,5.27,5.27,5.27,5.27,5.27,5.27,5.27,5.27,5.27,5.27,1.68,1.68,1.68,1.68,1.68,0.56999999999999995,0.56999999999999995,1.68,1.68,1.68,5.27,5.27,5.27,5.27,5.27,1.68,1.68,1.68,1.68,5.27,5.27,1.68,0.56999999999999995,0.56999999999999995,0.19,0.19,0.19,null,null,3.6999999999999997,38,0,0,0,0,0,0,0,0,0,-17.72,0,0,0,-3.59,-3.59,-3.59,-3.59,-3.59,-4.6999999999999993,-4.6999999999999993,-3.59,-3.59,-3.59,-17.72,-17.72,0,0,3.59,0,1.1099999999999999,1.49,1.49,3.59,0,-3.59,-1.1099999999999999,-4.6999999999999993,-5.0799999999999992,-5.0799999999999992,-5.0799999999999992,null,null,3.7,38,0,0,0,0,0,0,0,0,0,0,0,0,0,0,0,0,0,0,0,0,0,0,0,0,0,0,0,0,0,0,0,0,0,0,0,0,0,0,0,0,0,3.7,null,3.7,38,0,0,0,0,0,0,0,0,0,0,0,0,0,0,0,0,0,0,0,0,40.15,0,0,0,0,0,0,0,0,0,0,0,0,0,0,50.97,0,0,0,0,0,3.7,null,3.7,38,1,0,0,0,0,0,0,0,0,0,0,0,0,0,0,0,0,0,0,0,1,0,0,0,0,0,0,0,0,0,0,0,0,0,0,0,0,0,0,0,1,3.7,null,3.7,38,36.049999999999997,0,0,0,0,0,0,0,0,0,0,0,0,0,0,0,0,0,0,0,35.93,0,0,0,0,0,0,0,0,0,0,0,0,0,0,0,0,0,0,0,41.42,3.7,null,3.4,35,5,5,5,5,5,5,5,5,5,5,5,5,5,5,5,5,5,5,5,5,5,1,1,1,1,1,1,1,1,1,1,1,1,1,1,1,1,1,1,1,1,1,3.4,null,3.4,35,4,4,4,4,4,4,4,4,4,4,4,4,4,4,4,4,4,4,4,4,4,4,4,4,4,4,4,4,4,4,4,4,4,4,8,8,4,4,4,4,4,4,3.4,null,3.4,35,51,51,51,51,51,51,51,51,51,51,51,51,51,51,51,51,51,51,51,51,51,58,58,58,58,58,58,58,58,58,58,58,58,58,58,58,58,58,58,58,58,58,3.4]
[null,14,16,0.01,4.71,0.01,null,null,null,null,null,null,"8C",{"$f":"ROUND('3D Interpolace'!M42,2)","v":36.07},{"$f":"ROUND('3D Interpolace'!N42,2)","v":35.74},{"$f":"ROUND('3D Interpolace'!O42,2)","v":35.5},{"$f":"ROUND('3D Interpolace'!P42,2)","v":35.35},{"$f":"ROUND('3D Interpolace'!Q42,2)","v":35.299999999999997},{"$f":"ROUND('3D Interpolace'!R42,2)","v":35.33},{"$f":"ROUND('3D Interpolace'!S42,2)","v":35.51},{"$f":"ROUND('3D Interpolace'!T42,2)","v":35.85},{"$f":"ROUND('3D Interpolace'!U42,2)","v":36.24},{"$f":"ROUND('3D Interpolace'!V42,2)","v":36.61},{"$f":"ROUND('3D Interpolace'!W42,2)","v":36.85},{"$f":"ROUND('3D Interpolace'!X42,2)","v":36.96},{"$f":"ROUND('3D Interpolace'!Y42,2)","v":37},{"$f":"ROUND('3D Interpolace'!Z42,2)","v":36.979999999999997},{"$f":"ROUND('3D Interpolace'!AA42,2)","v":36.92},{"$f":"ROUND('3D Interpolace'!AB42,2)","v":36.840000000000003},{"$f":"ROUND('3D Interpolace'!AC42,2)","v":36.619999999999997},{"$f":"ROUND('3D Interpolace'!AD42,2)","v":36.26},{"$f":"ROUND('3D Interpolace'!AE42,2)","v":35.92},{"$f":"ROUND('3D Interpolace'!AF42,2)","v":35.76},{"$f":"ROUND('3D Interpolace'!AG42,2)","v":35.950000000000003},{"$f":"ROUND('3D Interpolace'!AH42,2)","v":36.659999999999997},{"$f":"ROUND('3D Interpolace'!AI42,2)","v":37.770000000000003},{"$f":"ROUND('3D Interpolace'!AJ42,2)","v":39.04},{"$f":"ROUND('3D Interpolace'!AK42,2)","v":40.200000000000003},{"$f":"ROUND('3D Interpolace'!AL42,2)","v":41},{"$f":"ROUND('3D Interpolace'!AM42,2)","v":41.36},{"$f":"ROUND('3D Interpolace'!AN42,2)","v":41.46},{"$f":"ROUND('3D Interpolace'!AO42,2)","v":41.4},{"$f":"ROUND('3D Interpolace'!AP42,2)","v":41.32},{"$f":"ROUND('3D Interpolace'!AQ42,2)","v":41.33},{"$f":"ROUND('3D Interpolace'!AR42,2)","v":41.46},{"$f":"ROUND('3D Interpolace'!AS42,2)","v":41.63},{"$f":"ROUND('3D Interpolace'!AT42,2)","v":41.8},{"$f":"ROUND('3D Interpolace'!AU42,2)","v":41.92},{"$f":"ROUND('3D Interpolace'!AV42,2)","v":41.94},{"$f":"ROUND('3D Interpolace'!AW42,2)","v":41.87},{"$f":"ROUND('3D Interpolace'!AX42,2)","v":41.74},{"$f":"ROUND('3D Interpolace'!AY42,2)","v":41.54},{"$f":"ROUND('3D Interpolace'!AZ42,2)","v":41.27},{"$f":"ROUND('3D Interpolace'!BA42,2)","v":40.94},null,3.8,39,null,null,null,null,null,null,null,null,null,null,null,null,null,null,null,null,null,null,null,null,null,null,null,null,null,null,null,null,null,null,null,null,null,4,4,null,null,null,null,null,null,3.8,null,3.8,39,36.07,35.74,35.5,35.35,35.299999999999997,35.33,35.51,35.85,36.24,36.61,36.85,36.96,37,36.979999999999997,36.92,36.840000000000003,36.619999999999997,36.26,35.92,35.76,35.950000000000003,36.659999999999997,37.770000000000003,39.04,40.200000000000003,41,41.36,41.46,41.4,41.32,41.33,41.46,41.63,45.8,45.92,41.94,41.87,41.74,41.54,41.27,40.94,3.8,null,3.5,36,40,39.840000000000003,39.76,39.76,39.840000000000003,40,40.340000000000003,40.85,41.39,41.82,42,41.82,41.39,40.85,40.340000000000003,40,39.79,39.619999999999997,39.54,39.65,40,40,40.74,41.83,43.05,44.18,45,45.46,45.69,45.79,45.86,46,46.23,46.5,50.74,50.93,47,46.96,46.84,46.64,46.36,46,null,null,null,3.5,36,40,39.840000000000003,39.76,39.76,39.840000000000003,40,40.340000000000003,40.85,41.39,41.82,42,41.82,41.39,40.85,40.340000000000003,40,39.79,39.619999999999997,39.54,39.65,40,40,40.74,41.83,43.05,44.18,45,45.46,45.69,45.79,45.86,46,46.23,46.5,50.74,50.93,47,46.96,46.84,46.64,46.36,46,3.5,null,null,null,36,40,40.222222222222221,40.444444444444443,40.666666666666671,40.888888888888886,41.111111111111114,41.333333333333329,41.555555555555557,41.777777777777779,42,42.222222222222221,42.444444444444443,42.666666666666671,42.888888888888886,43.111111111111114,43.333333333333329,43.555555555555557,43.777777777777779,44,44.222222222222221,44.444444444444443,44.126250000000006,44.635000000000005,45.143749999999997,45.652500000000003,46.161250000000003,46.67,47.178750000000001,47.6875,48.196250000000006,48.704999999999998,49.213750000000005,49.722500000000004,50.231250000000003,50.740000000000009,51.248750000000001,51.757500000000007,52.266250000000007,52.775000000000006,53.283750000000005,53.792500000000004,54.301250000000003,3.5,null,null,null,null,null,3.5,36,0,0.38222222222221802,0.68444444444444485,0.90666666666667339,1.0488888888888823,1.1111111111111143,0.99333333333332519,0.70555555555555571,0.387777777777778,0.17999999999999972,0.22222222222222143,0.62444444444444258,1.2766666666666708,2.0388888888888843,2.7711111111111109,3.3333333333333286,3.765555555555558,4.1577777777777811,4.4600000000000009,4.5722222222222229,4.4444444444444429,4.126250000000006,3.8950000000000031,3.3137499999999989,2.6025000000000063,1.9812500000000028,1.6700000000000017,1.71875,1.9975000000000023,2.4062500000000071,2.8449999999999989,3.2137500000000045,3.4925000000000068,3.7312500000000028,0,0.31875000000000142,4.7575000000000074,5.3062500000000057,5.9350000000000023,6.6437500000000043,7.4325000000000045,8.3012500000000031,null,null,null,null,null,null,null,3.8,39,1.4161111111111087,1.9358333333333313,2.3705555555555531,2.7152777777777786,2.9700000000000006,3.1147222222222215,3.1194444444444418,3.024166666666666,2.9063888888888876,2.8386111111111081,2.8608333333333302,2.9455555555555524,3.070277777777779,3.2424999999999997,3.4672222222222189,3.8094444444444413,4.3241666666666667,4.9188888888888886,5.4211111111111112,5.653333333333336,4.0916250000000023,3.6853750000000005,2.9941249999999986,2.2803750000000012,1.8066250000000004,1.7428750000000015,2.0441249999999993,2.5603750000000005,3.1691250000000011,3.745375000000001,4.2166250000000023,4.6078749999999999,2.9791250000000016,1.3753750000000018,3.8391249999999992,6.3903750000000024,7.0091250000000009,7.6853750000000005,8.4266250000000031,9.2253750000000014,null,null,3.8,39,22.99,22.99,5.27,5.27,5.27,5.27,5.27,5.27,5.27,5.27,5.27,5.27,5.27,5.27,5.27,5.27,1.68,1.68,1.68,1.68,1.68,5.27,5.27,5.27,22.99,22.99,5.27,5.27,5.27,5.27,1.68,1.68,5.27,22.99,5.27,0.56999999999999995,0.56999999999999995,0.56999999999999995,0.19,0.19,null,null,3.8,39,0,17.72,0,0,0,0,0,-17.72,-17.72,-17.72,0,0,-17.72,-17.72,-17.72,-17.72,-21.31,-21.31,-21.31,-21.31,-21.31,-17.72,-17.72,-17.72,0,0,0,0,3.59,3.59,1.49,1.1099999999999999,3.59,0,0,-4.6999999999999993,-4.6999999999999993,-4.6999999999999993,-22.799999999999997,-22.799999999999997,null,null,3.8,39,36.07,0,0,0,0,0,0,0,0,0,0,0,0,0,0,0,0,0,0,0,0,0,0,0,0,0,0,0,0,0,0,0,0,0,0,0,0,0,0,0,0,3.8,null,3.8,39,40,0,0,0,0,0,0,0,0,0,42,0,0,0,0,0,0,0,0,0,0,0,0,0,0,0,0,0,0,0,0,0,0,0,0,0,0,0,0,0,0,3.8,null,3.8,39,1,0,0,0,0,0,0,0,0,0,0,0,0,0,0,0,0,0,0,0,1,0,0,0,0,0,0,0,0,0,0,0,0,0,0,0,0,0,0,0,1,3.8,null,3.8,39,36.07,0,0,0,0,0,0,0,0,0,0,0,0,0,0,0,0,0,0,0,35.950000000000003,0,0,0,0,0,0,0,0,0,0,0,0,0,0,0,0,0,0,0,40.94,3.8,null,3.5,36,5,5,5,5,5,5,5,5,5,5,5,5,5,5,5,5,5,5,5,5,5,1,1,1,1,1,1,1,1,1,1,1,1,1,1,1,1,1,1,1,1,1,3.5,null,3.5,36,4,4,4,4,4,4,4,4,4,4,4,4,4,4,4,4,4,4,4,4,4,4,4,4,4,4,4,4,4,4,4,4,4,4,8,8,4,4,4,4,4,4,3.5,null,3.5,36,51,51,51,51,51,51,51,51,51,51,51,51,51,51,51,51,51,51,51,51,51,58,58,58,58,58,58,58,58,58,58,58,58,58,58,58,58,58,58,58,58,58,3.5]
[null,null,null,0,0,0,null,null,null,null,null,null,"8D",{"$f":"ROUND('3D Interpolace'!M43,2)","v":36.06},{"$f":"ROUND('3D Interpolace'!N43,2)","v":35.71},{"$f":"ROUND('3D Interpolace'!O43,2)","v":35.44},{"$f":"ROUND('3D Interpolace'!P43,2)","v":35.25},{"$f":"ROUND('3D Interpolace'!Q43,2)","v":35.15},{"$f":"ROUND('3D Interpolace'!R43,2)","v":35.14},{"$f":"ROUND('3D Interpolace'!S43,2)","v":35.25},{"$f":"ROUND('3D Interpolace'!T43,2)","v":35.49},{"$f":"ROUND('3D Interpolace'!U43,2)","v":35.79},{"$f":"ROUND('3D Interpolace'!V43,2)","v":36.090000000000003},{"$f":"ROUND('3D Interpolace'!W43,2)","v":36.340000000000003},{"$f":"ROUND('3D Interpolace'!X43,2)","v":36.54},{"$f":"ROUND('3D Interpolace'!Y43,2)","v":36.74},{"$f":"ROUND('3D Interpolace'!Z43,2)","v":36.909999999999997},{"$f":"ROUND('3D Interpolace'!AA43,2)","v":37.020000000000003},{"$f":"ROUND('3D Interpolace'!AB43,2)","v":37.04},{"$f":"ROUND('3D Interpolace'!AC43,2)","v":36.840000000000003},{"$f":"ROUND('3D Interpolace'!AD43,2)","v":36.450000000000003},{"$f":"ROUND('3D Interpolace'!AE43,2)","v":36.049999999999997},{"$f":"ROUND('3D Interpolace'!AF43,2)","v":35.83},{"$f":"ROUND('3D Interpolace'!AG43,2)","v":35.979999999999997},{"$f":"ROUND('3D Interpolace'!AH43,2)","v":36.69},{"$f":"ROUND('3D Interpolace'!AI43,2)","v":37.82},{"$f":"ROUND('3D Interpolace'!AJ43,2)","v":39.11},{"$f":"ROUND('3D Interpolace'!AK43,2)","v":40.28},{"$f":"ROUND('3D Interpolace'!AL43,2)","v":41.08},{"$f":"ROUND('3D Interpolace'!AM43,2)","v":41.41},{"$f":"ROUND('3D Interpolace'!AN43,2)","v":41.45},{"$f":"ROUND('3D Interpolace'!AO43,2)","v":41.34},{"$f":"ROUND('3D Interpolace'!AP43,2)","v":41.19},{"$f":"ROUND('3D Interpolace'!AQ43,2)","v":41.14},{"$f":"ROUND('3D Interpolace'!AR43,2)","v":41.2},{"$f":"ROUND('3D Interpolace'!AS43,2)","v":41.31},{"$f":"ROUND('3D Interpolace'!AT43,2)","v":41.41},{"$f":"ROUND('3D Interpolace'!AU43,2)","v":41.47},{"$f":"ROUND('3D Interpolace'!AV43,2)","v":41.45},{"$f":"ROUND('3D Interpolace'!AW43,2)","v":41.35},{"$f":"ROUND('3D Interpolace'!AX43,2)","v":41.21},{"$f":"ROUND('3D Interpolace'!AY43,2)","v":41.01},{"$f":"ROUND('3D Interpolace'!AZ43,2)","v":40.75},{"$f":"ROUND('3D Interpolace'!BA43,2)","v":40.450000000000003},null,3.9,40,null,null,null,null,null,null,null,null,null,null,null,null,null,null,null,null,null,null,null,null,null,null,null,null,null,null,null,null,null,null,null,null,null,4,4,null,null,null,null,null,null,3.9,null,3.9,40,36.06,35.71,35.44,35.25,35.15,35.14,35.25,35.49,35.79,36.090000000000003,36.340000000000003,36.54,36.74,36.909999999999997,37.020000000000003,37.04,36.840000000000003,36.450000000000003,36.049999999999997,35.83,35.979999999999997,36.69,37.82,39.11,40.28,41.08,41.41,41.45,41.34,41.19,41.14,41.2,41.31,45.41,45.47,41.45,41.35,41.21,41.01,40.75,40.450000000000003,3.9,null,3.6,37,36.020000000000003,35.79,35.65,35.6,35.65,35.78,36.11,36.61,37.159999999999997,37.61,37.82,37.71,37.369999999999997,36.93,36.5,36.200000000000003,35.979999999999997,35.75,35.6,35.64,35.94,35.94,36.65,37.72,38.92,40.03,40.840000000000003,41.28,41.5,41.59,41.65,41.78,42.01,42.28,46.53,46.72,42.79,42.75,42.63,42.43,42.15,41.79,null,null,null,3.6,37,0,0,0,0,0,0,0,0,0,0,0,0,0,0,0,0,0,0,0,0,0,0,0,0,0,0,0,0,0,0,0,0,0,0,0,0,0,0,0,0,0,0,3.6,null,null,null,37,39.200000000000003,39.422222222222217,39.644444444444446,39.866666666666667,40.088888888888889,40.31111111111111,40.533333333333331,40.75555555555556,40.977777777777774,41.2,41.422222222222217,41.644444444444446,41.866666666666667,42.088888888888889,42.31111111111111,42.533333333333331,42.755555555555553,42.977777777777774,43.2,43.422222222222217,43.644444444444446,42.992250000000006,43.501000000000005,44.009749999999997,44.518500000000003,45.027250000000002,45.536000000000001,46.044750000000001,46.5535,47.062250000000006,47.571000000000005,48.079750000000004,48.588500000000003,49.097250000000003,49.606000000000009,50.114750000000001,50.623500000000007,51.132250000000006,51.641000000000005,52.149750000000004,52.658500000000004,53.167250000000003,3.6,null,null,null,null,null,3.6,37,3.1799999999999997,3.632222222222218,3.9944444444444471,4.2666666666666657,4.43888888888889,4.5311111111111089,4.423333333333332,4.1455555555555605,3.8177777777777777,3.5900000000000034,3.6022222222222169,3.9344444444444449,4.4966666666666697,5.1588888888888889,5.81111111111111,6.3333333333333286,6.775555555555556,7.2277777777777743,7.6000000000000014,7.7822222222222166,7.704444444444448,7.0522500000000079,6.8510000000000062,6.289749999999998,5.5985000000000014,4.9972500000000011,4.695999999999998,4.7647499999999994,5.0534999999999997,5.4722500000000025,5.9210000000000065,6.2997500000000031,6.5785000000000053,6.8172500000000014,3.0760000000000076,3.3947500000000019,7.8335000000000079,8.3822500000000062,9.0110000000000028,9.7197500000000048,10.508500000000005,11.377250000000004,null,null,null,null,null,null,null,3.9,40,0.65861111111111192,1.1958333333333346,1.6530555555555573,2.0277777777777821,2.3175000000000026,2.5072222222222234,2.5769444444444449,2.5566666666666702,2.50138888888889,2.4611111111111104,2.4558333333333344,2.4530555555555562,2.4552777777777806,2.5000000000000018,2.6247222222222231,2.9169444444444448,3.4216666666666686,4.0338888888888906,4.5636111111111131,4.8183333333333387,2.9351250000000011,2.5313749999999988,1.8426249999999982,1.1338750000000015,0.66762500000000102,0.61887500000000095,0.9451249999999991,1.4913749999999997,2.1351250000000004,2.7538750000000007,3.275125000000001,3.7288750000000004,2.1726250000000018,0.63887500000000053,3.1551249999999982,5.7388750000000002,6.3776250000000001,7.061375,7.7951250000000023,8.573875000000001,null,null,3.9,40,22.99,22.99,22.99,5.27,5.27,5.27,5.27,5.27,5.27,5.27,5.27,5.27,5.27,5.27,5.27,5.27,5.27,1.68,1.68,1.68,5.27,5.27,22.99,22.99,22.99,22.99,22.99,22.99,5.27,5.27,5.27,5.27,5.27,22.99,5.27,1.68,0.56999999999999995,0.56999999999999995,0.56999999999999995,0.19,null,null,3.9,40,0,0,0,-17.72,-17.72,-17.72,-17.72,-17.72,-17.72,-17.72,0,-17.72,-17.72,-17.72,-17.72,-17.72,-17.72,-21.31,-21.31,-21.31,-17.72,-17.72,0,0,0,0,0,17.72,0,3.59,4.6999999999999993,4.6999999999999993,0,0,-17.72,-3.59,-4.6999999999999993,-22.419999999999998,-22.419999999999998,-22.799999999999997,null,null,3.9,40,0,0,0,0,0,0,0,0,0,0,0,0,0,0,0,37.04,0,0,0,0,0,0,0,0,0,0,0,0,0,0,0,0,0,0,0,0,0,0,0,0,0,3.9,null,3.9,40,0,0,0,0,0,0,0,0,0,0,0,0,0,0,0,0,0,0,0,0,0,0,0,0,0,0,0,0,0,0,0,0,0,0,0,0,0,0,0,0,0,3.9,null,3.9,40,1,0,0,0,0,0,0,0,0,0,0,0,0,0,0,0,0,0,0,0,1,0,0,0,0,0,0,0,0,0,0,0,0,0,0,0,0,0,0,0,1,3.9,null,3.9,40,36.06,0,0,0,0,0,0,0,0,0,0,0,0,0,0,37.04,0,0,0,0,35.979999999999997,0,0,0,0,0,0,0,0,0,0,0,0,0,0,0,0,0,0,0,40.450000000000003,3.9,null,3.6,37,5,5,5,5,5,5,5,5,5,5,5,5,5,5,5,5,5,5,5,5,5,1,1,1,1,1,1,1,1,1,1,1,1,1,1,1,1,1,1,1,1,1,3.6,null,3.6,37,0,0,0,0,0,0,0,0,0,0,0,0,0,0,0,0,0,0,0,0,0,0,0,0,0,0,0,0,0,0,0,0,0,0,4,4,0,0,0,0,0,0,3.6,null,3.6,37,51,51,51,51,51,51,51,51,51,51,51,51,51,51,51,51,51,51,51,51,51,58,58,58,58,58,58,58,58,58,58,58,58,58,58,58,58,58,58,58,58,58,3.6]
[null,null,null,null,null,null,null,null,null,null,null,null,"9",{"$f":"ROUND('3D Interpolace'!M44,2)","v":36},{"$f":"ROUND('3D Interpolace'!N44,2)","v":35.64},{"$f":"ROUND('3D Interpolace'!O44,2)","v":35.36},{"$f":"ROUND('3D Interpolace'!P44,2)","v":35.159999999999997},{"$f":"ROUND('3D Interpolace'!Q44,2)","v":35.04},{"$f":"ROUND('3D Interpolace'!R44,2)","v":35},{"$f":"ROUND('3D Interpolace'!S44,2)","v":35.07},{"$f":"ROUND('3D Interpolace'!T44,2)","v":35.26},{"$f":"ROUND('3D Interpolace'!U44,2)","v":35.5},{"$f":"ROUND('3D Interpolace'!V44,2)","v":35.770000000000003},{"$f":"ROUND('3D Interpolace'!W44,2)","v":36},{"$f":"ROUND('3D Interpolace'!X44,2)","v":36.229999999999997},{"$f":"ROUND('3D Interpolace'!Y44,2)","v":36.5},{"$f":"ROUND('3D Interpolace'!Z44,2)","v":36.74},{"$f":"ROUND('3D Interpolace'!AA44,2)","v":36.93},{"$f":"ROUND('3D Interpolace'!AB44,2)","v":37},{"$f":"ROUND('3D Interpolace'!AC44,2)","v":36.83},{"$f":"ROUND('3D Interpolace'!AD44,2)","v":36.46},{"$f":"ROUND('3D Interpolace'!AE44,2)","v":36.06},{"$f":"ROUND('3D Interpolace'!AF44,2)","v":35.85},{"$f":"ROUND('3D Interpolace'!AG44,2)","v":36},{"$f":"ROUND('3D Interpolace'!AH44,2)","v":36.700000000000003},{"$f":"ROUND('3D Interpolace'!AI44,2)","v":37.81},{"$f":"ROUND('3D Interpolace'!AJ44,2)","v":39.07},{"$f":"ROUND('3D Interpolace'!AK44,2)","v":40.22},{"$f":"ROUND('3D Interpolace'!AL44,2)","v":41},{"$f":"ROUND('3D Interpolace'!AM44,2)","v":41.32},{"$f":"ROUND('3D Interpolace'!AN44,2)","v":41.36},{"$f":"ROUND('3D Interpolace'!AO44,2)","v":41.24},{"$f":"ROUND('3D Interpolace'!AP44,2)","v":41.08},{"$f":"ROUND('3D Interpolace'!AQ44,2)","v":41},{"$f":"ROUND('3D Interpolace'!AR44,2)","v":41.02},{"$f":"ROUND('3D Interpolace'!AS44,2)","v":41.05},{"$f":"ROUND('3D Interpolace'!AT44,2)","v":41.07},{"$f":"ROUND('3D Interpolace'!AU44,2)","v":41.06},{"$f":"ROUND('3D Interpolace'!AV44,2)","v":41},{"$f":"ROUND('3D Interpolace'!AW44,2)","v":40.880000000000003},{"$f":"ROUND('3D Interpolace'!AX44,2)","v":40.72},{"$f":"ROUND('3D Interpolace'!AY44,2)","v":40.520000000000003},{"$f":"ROUND('3D Interpolace'!AZ44,2)","v":40.28},{"$f":"ROUND('3D Interpolace'!BA44,2)","v":40},null,4,41,null,null,null,null,null,null,null,null,null,null,null,null,null,null,null,null,null,null,null,null,null,null,null,null,null,null,null,null,null,null,null,null,null,4,4,null,null,null,null,null,null,4,null,4,41,36,35.64,35.36,35.159999999999997,35.04,35,35.07,35.26,35.5,35.770000000000003,36,36.229999999999997,36.5,36.74,36.93,37,36.83,36.46,36.06,35.85,36,36.700000000000003,37.81,39.07,40.22,41,41.32,41.36,41.24,41.08,41,41.02,41.05,45.07,45.06,41,40.880000000000003,40.72,40.520000000000003,40.28,40,4,null,3.6999999999999997,38,{"$f":"IF(ISNUMBER(INDEX(VstupniData,$EQ43,ER$2)),INDEX(VstupniData,$EQ43,ER$2),\"\")","v":36.049999999999997},35.76,35.57,35.47,35.46,35.549999999999997,35.81,36.25,36.74,37.159999999999997,{"$f":"IF(ISNUMBER(INDEX(VstupniData,$EQ43,FB$2)),INDEX(VstupniData,$EQ43,FB$2),\"\")","v":37.39},37.39,37.229999999999997,36.979999999999997,36.72,36.520000000000003,36.29,36,35.75,35.69,{"$f":"IF(ISNUMBER(INDEX(VstupniData,$EQ43,FL$2)),INDEX(VstupniData,$EQ43,FL$2),\"\")","v":35.93},35.93,36.630000000000003,37.72,38.94,40.07,40.880000000000003,41.29,41.45,41.47,{"$f":"IF(ISNUMBER(INDEX(VstupniData,$EQ43,FV$2)),INDEX(VstupniData,$EQ43,FV$2),\"\")","v":41.47},41.55,41.74,41.97,46.2,46.36,42.42,42.37,42.24,42.04,{"$f":"IF(ISNUMBER(INDEX(VstupniData,$EQ43,GF$2)),INDEX(VstupniData,$EQ43,GF$2),\"\")","v":41.77},41.42,null,null,null,3.6999999999999997,38,0,0,0,0,0,0,0,0,0,0,0,0,0,0,0,0,0,0,0,0,0,0,0,0,0,0,0,0,0,0,0,0,0,0,0,0,0,0,0,0,0,0,3.6999999999999997,null,null,null,38,38.400000000000006,38.62222222222222,38.844444444444449,39.06666666666667,39.288888888888891,39.511111111111113,39.733333333333334,39.955555555555563,40.177777777777777,40.400000000000006,40.62222222222222,40.844444444444449,41.06666666666667,41.288888888888891,41.511111111111113,41.733333333333334,41.955555555555556,42.177777777777777,42.400000000000006,42.62222222222222,42.844444444444449,41.858249999999998,42.367000000000004,42.875749999999996,43.384500000000003,43.893250000000002,44.402000000000001,44.91075,45.419499999999999,45.928250000000006,46.436999999999998,46.945750000000004,47.454500000000003,47.963250000000002,48.472000000000001,48.98075,49.4895,49.998250000000006,50.506999999999998,51.015750000000004,51.524500000000003,52.033250000000002,3.6999999999999997,null,null,null,null,null,3.6999999999999997,38,2.3500000000000085,2.862222222222222,3.2744444444444483,3.5966666666666711,3.8288888888888906,3.9611111111111157,3.923333333333332,3.7055555555555628,3.4377777777777752,3.2400000000000091,3.2322222222222194,3.454444444444448,3.8366666666666731,4.3088888888888945,4.791111111111114,5.2133333333333312,5.6655555555555566,6.1777777777777771,6.6500000000000057,6.9322222222222223,6.9144444444444488,5.9282499999999985,5.7370000000000019,5.1557499999999976,4.444500000000005,3.8232500000000016,3.5219999999999985,3.620750000000001,3.9694999999999965,4.4582500000000067,4.9669999999999987,5.3957500000000067,5.714500000000001,5.9932500000000033,2.2719999999999985,2.620750000000001,7.0694999999999979,7.6282500000000084,8.2669999999999959,8.975750000000005,9.7545000000000002,10.613250000000001,null,null,null,null,null,null,null,3.9999999999999996,41,{"$f":"AVERAGE(KF47:KG48)","v":6.0124999999999993},{"$f":"AVERAGE(KG47:KH48)","v":6.317499999999999},6.5425000000000004,6.6900000000000013,6.7625000000000011,6.745000000000001,6.6150000000000002,6.4,6.1524999999999999,5.9149999999999991,5.7025000000000006,5.4875000000000007,5.2724999999999991,5.0924999999999994,4.9849999999999994,5.0274999999999999,5.2625000000000011,5.5924999999999994,5.8424999999999994,5.8375000000000004,6.0416666666666679,6.3108333333333348,6.0708333333333329,5.5658333333333321,5.043333333333333,4.7458333333333336,4.8358333333333352,5.2683333333333326,5.9033333333333324,6.6383333333333372,7.3708333333333336,8.045833333333329,8.6933333333333298,7.3558333333333312,6.0408333333333317,8.7558333333333334,11.513333333333334,12.305833333333332,13.12833333333333,13.98583333333333,null,null,3.9999999999999996,41,0.56999999999999995,0.56999999999999995,0.56999999999999995,0.56999999999999995,0.56999999999999995,0.56999999999999995,0.56999999999999995,0.56999999999999995,0.56999999999999995,1.68,1.68,1.68,1.68,1.68,1.68,1.68,1.68,1.68,1.68,1.68,0.56999999999999995,0.56999999999999995,0.56999999999999995,1.68,1.68,1.68,1.68,1.68,1.68,0.56999999999999995,0.56999999999999995,0.19,0.19,0.56999999999999995,0.56999999999999995,0.19,0.06,0.02,0.02,0.02,null,null,3.9999999999999996,41,-22.419999999999998,-22.419999999999998,-22.419999999999998,-22.419999999999998,-22.419999999999998,-4.6999999999999993,-4.6999999999999993,-22.419999999999998,-22.419999999999998,-21.31,-21.31,-21.31,-21.31,-21.31,-21.31,-21.31,-21.31,-21.31,-21.31,-21.31,-22.419999999999998,-22.419999999999998,-22.419999999999998,-21.31,-21.31,-21.31,-21.31,-3.59,-3.59,-1.1099999999999999,0,-0.37999999999999995,-5.0799999999999992,-22.419999999999998,-4.6999999999999993,-5.0799999999999992,-5.21,-5.25,-22.97,-22.97,null,null,4,41,0,0,0,0,0,0,0,0,0,0,0,0,0,0,0,0,0,0,0,0,0,0,0,0,0,0,0,0,0,0,0,0,0,0,0,0,0,0,0,0,0,4,null,4,41,0,0,0,0,0,0,0,0,0,0,0,0,0,0,0,0,0,0,0,0,0,0,0,0,0,0,0,0,0,0,0,0,0,0,0,0,0,0,0,0,0,4,null,4,41,1,1,1,1,1,1,1,1,1,1,1,1,1,1,1,1,1,1,1,1,1,1,1,1,1,1,1,1,1,1,1,1,1,1,1,1,1,1,1,1,1,4,null,4,41,36,35.64,35.36,35.159999999999997,35.04,35,35.07,35.26,35.5,35.770000000000003,36,36.229999999999997,36.5,36.74,36.93,37,36.83,36.46,36.06,35.85,36,36.700000000000003,37.81,39.07,40.22,41,41.32,41.36,41.24,41.08,41,41.02,41.05,45.07,45.06,41,40.880000000000003,40.72,40.520000000000003,40.28,40,4,null,3.6999999999999997,38,5,5,5,5,5,5,5,5,5,5,5,5,5,5,5,5,5,5,5,5,5,1,1,1,1,1,1,1,1,1,1,1,1,1,1,1,1,1,1,1,1,1,3.6999999999999997,null,3.6999999999999997,38,{"$f":"IF(ISNUMBER(INDEX(Asfalt,$ZX43,ZY$2)),INDEX(Asfalt,$ZX43,ZY$2),0)","v":0},0,0,0,0,0,0,0,0,0,{"$f":"IF(ISNUMBER(INDEX(Asfalt,$ZX43,AAI$2)),INDEX(Asfalt,$ZX43,AAI$2),0)","v":0},0,0,0,0,0,0,0,0,0,{"$f":"IF(ISNUMBER(INDEX(Asfalt,$ZX43,AAS$2)),INDEX(Asfalt,$ZX43,AAS$2),0)","v":0},0,0,0,0,0,0,0,0,0,{"$f":"IF(ISNUMBER(INDEX(Asfalt,$ZX43,ABC$2)),INDEX(Asfalt,$ZX43,ABC$2),0)","v":0},0,0,0,4,4,0,0,0,0,0,0,3.6999999999999997,null,3.6999999999999997,38,51,51,51,51,51,51,51,51,51,51,51,51,51,51,51,51,51,51,51,51,51,58,58,58,58,58,58,58,58,58,58,58,58,58,58,58,58,58,58,58,58,58,3.6999999999999997]
[null,null,null,null,null,null,null,null,null,null,null,null,"9A",{"$f":"ROUND('3D Interpolace'!M45,2)","v":35.82},{"$f":"ROUND('3D Interpolace'!N45,2)","v":35.49},{"$f":"ROUND('3D Interpolace'!O45,2)","v":35.24},{"$f":"ROUND('3D Interpolace'!P45,2)","v":35.07},{"$f":"ROUND('3D Interpolace'!Q45,2)","v":34.97},{"$f":"ROUND('3D Interpolace'!R45,2)","v":34.94},{"$f":"ROUND('3D Interpolace'!S45,2)","v":35.01},{"$f":"ROUND('3D Interpolace'!T45,2)","v":35.200000000000003},{"$f":"ROUND('3D Interpolace'!U45,2)","v":35.44},{"$f":"ROUND('3D Interpolace'!V45,2)","v":35.68},{"$f":"ROUND('3D Interpolace'!W45,2)","v":35.89},{"$f":"ROUND('3D Interpolace'!X45,2)","v":36.07},{"$f":"ROUND('3D Interpolace'!Y45,2)","v":36.25},{"$f":"ROUND('3D Interpolace'!Z45,2)","v":36.42},{"$f":"ROUND('3D Interpolace'!AA45,2)","v":36.54},{"$f":"ROUND('3D Interpolace'!AB45,2)","v":36.590000000000003},{"$f":"ROUND('3D Interpolace'!AC45,2)","v":36.47},{"$f":"ROUND('3D Interpolace'!AD45,2)","v":36.19},{"$f":"ROUND('3D Interpolace'!AE45,2)","v":35.92},{"$f":"ROUND('3D Interpolace'!AF45,2)","v":35.799999999999997},{"$f":"ROUND('3D Interpolace'!AG45,2)","v":36},{"$f":"ROUND('3D Interpolace'!AH45,2)","v":36.67},{"$f":"ROUND('3D Interpolace'!AI45,2)","v":37.71},{"$f":"ROUND('3D Interpolace'!AJ45,2)","v":38.880000000000003},{"$f":"ROUND('3D Interpolace'!AK45,2)","v":39.950000000000003},{"$f":"ROUND('3D Interpolace'!AL45,2)","v":40.700000000000003},{"$f":"ROUND('3D Interpolace'!AM45,2)","v":41.05},{"$f":"ROUND('3D Interpolace'!AN45,2)","v":41.17},{"$f":"ROUND('3D Interpolace'!AO45,2)","v":41.15},{"$f":"ROUND('3D Interpolace'!AP45,2)","v":41.07},{"$f":"ROUND('3D Interpolace'!AQ45,2)","v":41.02},{"$f":"ROUND('3D Interpolace'!AR45,2)","v":40.99},{"$f":"ROUND('3D Interpolace'!AS45,2)","v":40.94},{"$f":"ROUND('3D Interpolace'!AT45,2)","v":40.85},{"$f":"ROUND('3D Interpolace'!AU45,2)","v":40.75},{"$f":"ROUND('3D Interpolace'!AV45,2)","v":40.619999999999997},{"$f":"ROUND('3D Interpolace'!AW45,2)","v":40.46},{"$f":"ROUND('3D Interpolace'!AX45,2)","v":40.29},{"$f":"ROUND('3D Interpolace'!AY45,2)","v":40.090000000000003},{"$f":"ROUND('3D Interpolace'!AZ45,2)","v":39.86},{"$f":"ROUND('3D Interpolace'!BA45,2)","v":39.619999999999997},null,4.0999999999999996,42,null,null,null,null,null,null,null,null,null,null,null,null,null,null,null,null,null,null,null,null,null,null,null,null,null,null,null,null,null,null,null,null,null,4,4,null,null,null,null,null,null,4.0999999999999996,null,4.0999999999999996,42,35.82,35.49,35.24,35.07,34.97,34.94,35.01,35.200000000000003,35.44,35.68,35.89,36.07,36.25,36.42,36.54,36.590000000000003,36.47,36.19,35.92,35.799999999999997,36,36.67,37.71,38.880000000000003,39.950000000000003,40.700000000000003,41.05,41.17,41.15,41.07,41.02,40.99,40.94,44.85,44.75,40.619999999999997,40.46,40.29,40.090000000000003,39.86,39.619999999999997,4.0999999999999996,null,3.8,39,36.07,35.74,35.5,35.35,35.299999999999997,35.33,35.51,35.85,36.24,36.61,36.85,36.96,37,36.979999999999997,36.92,36.840000000000003,36.619999999999997,36.26,35.92,35.76,35.950000000000003,35.950000000000003,36.659999999999997,37.770000000000003,39.04,40.200000000000003,41,41.36,41.46,41.4,41.32,41.33,41.46,41.63,45.8,45.92,41.94,41.87,41.74,41.54,41.27,40.94,null,null,null,3.8,39,0,0,0,0,0,0,0,0,0,0,0,0,0,0,0,0,0,0,0,0,0,0,0,0,0,0,0,0,0,0,0,0,0,0,0,0,0,0,0,0,0,0,3.8,null,null,null,39,37.599999999999994,37.822222222222223,38.044444444444437,38.266666666666666,38.488888888888887,38.711111111111109,38.93333333333333,39.155555555555551,39.37777777777778,39.599999999999994,39.822222222222223,40.044444444444437,40.266666666666666,40.488888888888887,40.711111111111109,40.93333333333333,41.155555555555551,41.37777777777778,41.599999999999994,41.822222222222223,42.044444444444444,40.724249999999998,41.233000000000004,41.741749999999996,42.250500000000002,42.759250000000002,43.268000000000001,43.77675,44.285499999999999,44.794250000000005,45.302999999999997,45.811750000000004,46.320500000000003,46.829250000000002,47.338000000000001,47.84675,48.355499999999999,48.864250000000006,49.372999999999998,49.881750000000004,50.390500000000003,50.899250000000002,3.8,null,null,null,null,null,3.8,39,1.529999999999994,2.0822222222222209,2.5444444444444372,2.9166666666666643,3.18888888888889,3.3811111111111103,3.423333333333332,3.30555555555555,3.137777777777778,2.9899999999999949,2.9722222222222214,3.0844444444444363,3.2666666666666657,3.5088888888888903,3.7911111111111069,4.0933333333333266,4.535555555555554,5.117777777777782,5.6799999999999926,6.0622222222222248,6.0944444444444414,4.774249999999995,4.5730000000000075,3.971749999999993,3.2105000000000032,2.5592499999999987,2.2680000000000007,2.4167500000000004,2.8254999999999981,3.3942500000000067,3.982999999999997,4.4817500000000052,4.8605000000000018,5.1992499999999993,1.5380000000000038,1.9267499999999984,6.4155000000000015,6.9942500000000081,7.6329999999999956,8.3417500000000047,9.1204999999999998,9.9592500000000044,null,null,null,null,null,null,null,4.1000000000000005,42,{"$f":"AVERAGE(KF48:KG49)","v":5.7199999999999989},{"$f":"AVERAGE(KG48:KH49)","v":5.9724999999999984},{"$f":"AVERAGE(KH48:KI49)","v":6.1524999999999999},{"$f":"AVERAGE(KI48:KJ49)","v":6.2650000000000006},{"$f":"AVERAGE(KJ48:KK49)","v":6.3100000000000005},{"$f":"AVERAGE(KK48:KL49)","v":6.2700000000000014},{"$f":"AVERAGE(KL48:KM49)","v":6.125},{"$f":"AVERAGE(KM48:KN49)","v":5.9},{"$f":"AVERAGE(KN48:KO49)","v":5.6550000000000011},{"$f":"AVERAGE(KO48:KP49)","v":5.4450000000000003},{"$f":"AVERAGE(KP48:KQ49)","v":5.2949999999999999},{"$f":"AVERAGE(KQ48:KR49)","v":5.1875},{"$f":"AVERAGE(KR48:KS49)","v":5.1050000000000004},{"$f":"AVERAGE(KS48:KT49)","v":5.0475000000000012},{"$f":"AVERAGE(KT48:KU49)","v":5.0150000000000006},{"$f":"AVERAGE(KU48:KV49)","v":5.0499999999999989},{"$f":"AVERAGE(KV48:KW49)","v":5.1925000000000008},{"$f":"AVERAGE(KW48:KX49)","v":5.3775000000000013},{"$f":"AVERAGE(KX48:KY49)","v":5.48},{"$f":"AVERAGE(KY48:KZ49)","v":5.3725000000000005},{"$f":"AVERAGE(LA48:LB49)","v":5.6591666666666676},{"$f":"AVERAGE(LB48:LC49)","v":5.4816666666666656},{"$f":"AVERAGE(LC48:LD49)","v":5.0816666666666634},{"$f":"AVERAGE(LD48:LE49)","v":4.6641666666666648},{"$f":"AVERAGE(LE48:LF49)","v":4.4341666666666661},{"$f":"AVERAGE(LF48:LG49)","v":4.519166666666667},{"$f":"AVERAGE(LG48:LH49)","v":4.8691666666666666},{"$f":"AVERAGE(LH48:LI49)","v":5.3791666666666664},{"$f":"AVERAGE(LI48:LJ49)","v":5.9891666666666694},{"$f":"AVERAGE(LJ48:LK49)","v":6.6416666666666675},{"$f":"AVERAGE(LK48:LL49)","v":7.3166666666666647},{"$f":"AVERAGE(LL48:LM49)","v":8.0341666666666658},{"$f":"AVERAGE(LM48:LN49)","v":6.8066666666666666},{"$f":"AVERAGE(LN48:LO49)","v":5.6116666666666681},{"$f":"AVERAGE(LO48:LP49)","v":8.4241666666666699},{"$f":"AVERAGE(LP48:LQ49)","v":11.241666666666671},{"$f":"AVERAGE(LQ48:LR49)","v":12.061666666666669},{"$f":"AVERAGE(LR48:LS49)","v":12.891666666666667},{"$f":"AVERAGE(LS48:LT49)","v":13.741666666666667},{"$f":"AVERAGE(LT48:LU49)","v":14.601666666666667},null,null,4.1000000000000005,42,1.68,1.68,0.56999999999999995,0.56999999999999995,0.56999999999999995,0.56999999999999995,0.56999999999999995,1.68,1.68,1.68,1.68,1.68,1.68,1.68,1.68,1.68,1.68,1.68,1.68,1.68,1.68,1.68,1.68,1.68,1.68,1.68,1.68,1.68,1.68,0.56999999999999995,0.56999999999999995,0.19,0.56999999999999995,1.68,0.19,0.06,0.02,0.02,0.02,0.01,null,null,4.1000000000000005,42,-3.59,-3.59,-4.6999999999999993,-4.6999999999999993,-4.6999999999999993,-4.6999999999999993,-4.6999999999999993,-3.59,-3.59,-3.59,-3.59,-3.59,-3.59,-3.59,-3.59,-3.59,-3.59,-3.59,-3.59,-3.59,-3.59,-3.59,-3.59,-3.59,-21.31,-3.59,-3.59,-3.59,0,-1.1099999999999999,0.37999999999999995,-0.37999999999999995,-1.1099999999999999,-3.59,-5.0799999999999992,-1.6199999999999999,-1.66,-5.25,-5.25,-5.26,null,null,4.0999999999999996,42,0,0,0,0,0,0,0,0,0,0,0,0,0,0,0,0,0,0,0,0,0,0,0,0,0,0,0,0,0,0,0,0,0,0,0,0,0,0,0,0,0,4.0999999999999996,null,4.0999999999999996,42,36.07,0,0,0,0,0,0,0,0,0,0,0,0,0,0,0,0,0,0,0,0,0,0,0,0,0,0,0,0,0,0,0,0,0,0,0,0,0,0,0,0,4.0999999999999996,null,4.0999999999999996,42,1,{"$f":"IF(OR(INT(1000*UT$1/$B$18)-1000*UT$1/$B$18=0,INT(1000*$UQ44/$B$19)-1000*$UQ44/$B$19=0),1,0)","v":0},0,0,0,0,0,0,0,0,0,{"$f":"IF(OR(INT(1000*VD$1/$B$18)-1000*VD$1/$B$18=0,INT(1000*$UQ44/$B$19)-1000*$UQ44/$B$19=0),1,0)","v":0},0,0,0,0,0,0,0,0,1,{"$f":"IF(OR(INT(1000*VN$1/$B$18)-1000*VN$1/$B$18=0,INT(1000*$UQ44/$B$19)-1000*$UQ44/$B$19=0),1,0)","v":0},0,0,0,0,0,0,0,0,0,{"$f":"IF(OR(INT(1000*VX$1/$B$18)-1000*VX$1/$B$18=0,INT(1000*$UQ44/$B$19)-1000*$UQ44/$B$19=0),1,0)","v":0},0,0,0,0,0,0,0,0,1,4.0999999999999996,null,4.0999999999999996,42,35.82,0,0,0,0,0,0,0,0,0,0,0,0,0,0,0,0,0,0,0,36,0,0,0,0,0,0,0,0,0,0,0,0,0,0,0,0,0,0,0,39.619999999999997,4.0999999999999996,null,3.8,39,5,5,5,5,5,5,5,5,5,5,5,5,5,5,5,5,5,5,5,5,5,1,1,1,1,1,1,1,1,1,1,1,1,1,1,1,1,1,1,1,1,1,3.8,null,3.8,39,0,0,0,0,0,0,0,0,0,0,0,0,0,0,0,0,0,0,0,0,0,0,0,0,0,0,0,0,0,0,0,0,0,0,4,4,0,0,0,0,0,0,3.8,null,3.8,39,51,51,51,51,51,51,51,51,51,51,51,51,51,51,51,51,51,51,51,51,51,58,58,58,58,58,58,58,58,58,58,58,58,58,58,58,58,58,58,58,58,58,3.8]
[null,null,null,null,null,null,null,null,null,null,null,null,"9B",{"$f":"ROUND('3D Interpolace'!M46,2)","v":35.53},{"$f":"ROUND('3D Interpolace'!N46,2)","v":35.28},{"$f":"ROUND('3D Interpolace'!O46,2)","v":35.1},{"$f":"ROUND('3D Interpolace'!P46,2)","v":34.979999999999997},{"$f":"ROUND('3D Interpolace'!Q46,2)","v":34.92},{"$f":"ROUND('3D Interpolace'!R46,2)","v":34.93},{"$f":"ROUND('3D Interpolace'!S46,2)","v":35.04},{"$f":"ROUND('3D Interpolace'!T46,2)","v":35.25},{"$f":"ROUND('3D Interpolace'!U46,2)","v":35.51},{"$f":"ROUND('3D Interpolace'!V46,2)","v":35.75},{"$f":"ROUND('3D Interpolace'!W46,2)","v":35.9},{"$f":"ROUND('3D Interpolace'!X46,2)","v":35.96},{"$f":"ROUND('3D Interpolace'!Y46,2)","v":35.97},{"$f":"ROUND('3D Interpolace'!Z46,2)","v":35.94},{"$f":"ROUND('3D Interpolace'!AA46,2)","v":35.909999999999997},{"$f":"ROUND('3D Interpolace'!AB46,2)","v":35.9},{"$f":"ROUND('3D Interpolace'!AC46,2)","v":35.840000000000003},{"$f":"ROUND('3D Interpolace'!AD46,2)","v":35.729999999999997},{"$f":"ROUND('3D Interpolace'!AE46,2)","v":35.65},{"$f":"ROUND('3D Interpolace'!AF46,2)","v":35.71},{"$f":"ROUND('3D Interpolace'!AG46,2)","v":36},{"$f":"ROUND('3D Interpolace'!AH46,2)","v":36.64},{"$f":"ROUND('3D Interpolace'!AI46,2)","v":37.56},{"$f":"ROUND('3D Interpolace'!AJ46,2)","v":38.590000000000003},{"$f":"ROUND('3D Interpolace'!AK46,2)","v":39.549999999999997},{"$f":"ROUND('3D Interpolace'!AL46,2)","v":40.25},{"$f":"ROUND('3D Interpolace'!AM46,2)","v":40.67},{"$f":"ROUND('3D Interpolace'!AN46,2)","v":40.94},{"$f":"ROUND('3D Interpolace'!AO46,2)","v":41.09},{"$f":"ROUND('3D Interpolace'!AP46,2)","v":41.16},{"$f":"ROUND('3D Interpolace'!AQ46,2)","v":41.17},{"$f":"ROUND('3D Interpolace'!AR46,2)","v":41.1},{"$f":"ROUND('3D Interpolace'!AS46,2)","v":40.94},{"$f":"ROUND('3D Interpolace'!AT46,2)","v":40.71},{"$f":"ROUND('3D Interpolace'!AU46,2)","v":40.47},{"$f":"ROUND('3D Interpolace'!AV46,2)","v":40.25},{"$f":"ROUND('3D Interpolace'!AW46,2)","v":40.049999999999997},{"$f":"ROUND('3D Interpolace'!AX46,2)","v":39.86},{"$f":"ROUND('3D Interpolace'!AY46,2)","v":39.659999999999997},{"$f":"ROUND('3D Interpolace'!AZ46,2)","v":39.450000000000003},{"$f":"ROUND('3D Interpolace'!BA46,2)","v":39.25},null,4.2,43,null,null,null,null,null,null,null,null,null,null,null,null,null,null,null,null,null,null,null,null,null,null,null,null,null,null,null,null,null,null,null,null,null,4,4,null,null,null,null,null,null,4.2,null,4.2,43,35.53,35.28,35.1,34.979999999999997,34.92,34.93,35.04,35.25,35.51,35.75,35.9,35.96,35.97,35.94,35.909999999999997,35.9,35.840000000000003,35.729999999999997,35.65,35.71,36,36.64,37.56,38.590000000000003,39.549999999999997,40.25,40.67,40.94,41.09,41.16,41.17,41.1,40.94,44.71,44.47,40.25,40.049999999999997,39.86,39.659999999999997,39.450000000000003,39.25,4.2,null,3.9,40,36.06,35.71,35.44,35.25,35.15,35.14,35.25,35.49,35.79,36.090000000000003,36.340000000000003,36.54,36.74,36.909999999999997,37.020000000000003,37.04,36.840000000000003,36.450000000000003,36.049999999999997,35.83,35.979999999999997,35.979999999999997,36.69,37.82,39.11,40.28,41.08,41.41,41.45,41.34,41.19,41.14,41.2,41.31,45.41,45.47,41.45,41.35,41.21,41.01,40.75,40.450000000000003,null,null,null,3.9,40,0,0,0,0,0,0,0,0,0,0,0,0,0,0,0,0,0,0,0,0,0,0,0,0,0,0,0,0,0,0,0,0,0,0,0,0,0,0,0,0,0,0,3.9,null,null,null,40,36.799999999999997,37.022222222222226,37.24444444444444,37.466666666666669,37.68888888888889,37.911111111111111,38.133333333333333,38.355555555555554,38.577777777777783,38.799999999999997,39.022222222222226,39.24444444444444,39.466666666666669,39.68888888888889,39.911111111111111,40.133333333333333,40.355555555555554,40.577777777777783,40.799999999999997,41.022222222222226,41.244444444444447,39.590249999999997,40.099000000000004,40.607749999999996,41.116500000000002,41.625250000000001,42.134,42.642749999999999,43.151499999999999,43.660250000000005,44.168999999999997,44.677750000000003,45.186500000000002,45.695250000000001,46.204000000000001,46.71275,47.221499999999999,47.730250000000005,48.238999999999997,48.747750000000003,49.256500000000003,49.765250000000002,3.9,null,null,null,null,null,3.9,40,0.73999999999999488,1.3122222222222248,1.8044444444444423,2.2166666666666686,2.5388888888888914,2.7711111111111109,2.8833333333333329,2.8655555555555523,2.7877777777777837,2.7099999999999937,2.6822222222222223,2.7044444444444409,2.7266666666666666,2.7788888888888934,2.8911111111111083,3.0933333333333337,3.5155555555555509,4.12777777777778,4.75,5.1922222222222274,5.2644444444444503,3.6102500000000006,3.409000000000006,2.7877499999999955,2.0065000000000026,1.3452500000000001,1.054000000000002,1.2327500000000029,1.7014999999999958,2.3202500000000015,2.9789999999999992,3.5377500000000026,3.9864999999999995,4.3852499999999992,0.79400000000000404,1.2427500000000009,5.7714999999999961,6.3802500000000038,7.0289999999999964,7.7377500000000055,8.5065000000000026,9.3152499999999989,null,null,null,null,null,null,null,4.2,43,3.4725000000000001,3.6474999999999991,3.7625000000000011,3.8225000000000016,3.8249999999999993,3.7449999999999992,3.5625,3.3100000000000005,3.057500000000001,2.8750000000000018,2.8175000000000008,2.875,2.9975000000000005,3.1325000000000003,3.2225000000000001,3.26,3.2774999999999999,3.2675000000000001,3.17,2.92,3.0100000000000033,2.91,2.644999999999996,2.3624999999999972,2.2174999999999994,2.2899999999999991,2.5249999999999986,2.8699999999999992,3.3175000000000026,3.8625000000000007,4.5224999999999973,5.3149999999999995,4.2149999999999999,3.16,6.0875000000000021,8.9675000000000029,9.8175000000000026,10.660000000000004,11.497500000000004,12.327500000000002,null,null,4.2,43,5.27,5.27,5.27,5.27,5.27,5.27,5.27,5.27,5.27,5.27,5.27,5.27,5.27,5.27,5.27,5.27,5.27,5.27,5.27,5.27,5.27,5.27,5.27,5.27,5.27,5.27,5.27,5.27,5.27,5.27,1.68,1.68,1.68,5.27,0.56999999999999995,0.19,0.19,0.06,0.06,0.02,null,null,4.2,43,-17.72,-17.72,-17.72,-17.72,0,0,-17.72,-17.72,-17.72,-17.72,-17.72,-17.72,-17.72,-17.72,-17.72,0,0,0,-17.72,-17.72,-17.72,-17.72,-17.72,-17.72,-17.72,-17.72,0,0,0,0,1.1099999999999999,1.1099999999999999,-3.59,-17.72,-4.6999999999999993,-1.49,-5.0799999999999992,-5.21,-5.21,-22.97,null,null,4.2,43,0,0,0,0,0,0,0,0,0,0,0,0,0,0,0,0,0,0,0,0,0,0,0,0,0,0,0,0,0,0,0,0,0,0,0,0,0,0,0,0,0,4.2,null,4.2,43,0,0,0,0,0,0,0,0,0,0,0,0,0,0,0,37.04,0,0,0,0,0,0,0,0,0,0,0,0,0,0,0,0,0,0,0,0,0,0,0,0,0,4.2,null,4.2,43,1,0,0,0,0,0,0,0,0,0,0,0,0,0,0,0,0,0,0,0,1,0,0,0,0,0,0,0,0,0,0,0,0,0,0,0,0,0,0,0,1,4.2,null,4.2,43,35.53,0,0,0,0,0,0,0,0,0,0,0,0,0,0,0,0,0,0,0,36,0,0,0,0,0,0,0,0,0,0,0,0,0,0,0,0,0,0,0,39.25,4.2,null,3.9,40,5,5,5,5,5,5,5,5,5,5,5,5,5,5,5,5,5,5,5,5,5,1,1,1,1,1,1,1,1,1,1,1,1,1,1,1,1,1,1,1,1,1,3.9,null,3.9,40,0,0,0,0,0,0,0,0,0,0,0,0,0,0,0,0,0,0,0,0,0,0,0,0,0,0,0,0,0,0,0,0,0,0,4,4,0,0,0,0,0,0,3.9,null,3.9,40,51,51,51,51,51,51,51,51,51,51,51,51,51,51,51,51,51,51,51,51,51,58,58,58,58,58,58,58,58,58,58,58,58,58,58,58,58,58,58,58,58,58,3.9]
[null,null,null,null,null,null,null,null,null,null,null,null,"9C",{"$f":"ROUND('3D Interpolace'!M47,2)","v":35.229999999999997},{"$f":"ROUND('3D Interpolace'!N47,2)","v":35.07},{"$f":"ROUND('3D Interpolace'!O47,2)","v":34.96},{"$f":"ROUND('3D Interpolace'!P47,2)","v":34.909999999999997},{"$f":"ROUND('3D Interpolace'!Q47,2)","v":34.9},{"$f":"ROUND('3D Interpolace'!R47,2)","v":34.950000000000003},{"$f":"ROUND('3D Interpolace'!S47,2)","v":35.1},{"$f":"ROUND('3D Interpolace'!T47,2)","v":35.36},{"$f":"ROUND('3D Interpolace'!U47,2)","v":35.64},{"$f":"ROUND('3D Interpolace'!V47,2)","v":35.869999999999997},{"$f":"ROUND('3D Interpolace'!W47,2)","v":35.979999999999997},{"$f":"ROUND('3D Interpolace'!X47,2)","v":35.89},{"$f":"ROUND('3D Interpolace'!Y47,2)","v":35.68},{"$f":"ROUND('3D Interpolace'!Z47,2)","v":35.42},{"$f":"ROUND('3D Interpolace'!AA47,2)","v":35.200000000000003},{"$f":"ROUND('3D Interpolace'!AB47,2)","v":35.1},{"$f":"ROUND('3D Interpolace'!AC47,2)","v":35.119999999999997},{"$f":"ROUND('3D Interpolace'!AD47,2)","v":35.200000000000003},{"$f":"ROUND('3D Interpolace'!AE47,2)","v":35.35},{"$f":"ROUND('3D Interpolace'!AF47,2)","v":35.61},{"$f":"ROUND('3D Interpolace'!AG47,2)","v":36},{"$f":"ROUND('3D Interpolace'!AH47,2)","v":36.6},{"$f":"ROUND('3D Interpolace'!AI47,2)","v":37.4},{"$f":"ROUND('3D Interpolace'!AJ47,2)","v":38.270000000000003},{"$f":"ROUND('3D Interpolace'!AK47,2)","v":39.1},{"$f":"ROUND('3D Interpolace'!AL47,2)","v":39.75},{"$f":"ROUND('3D Interpolace'!AM47,2)","v":40.25},{"$f":"ROUND('3D Interpolace'!AN47,2)","v":40.68},{"$f":"ROUND('3D Interpolace'!AO47,2)","v":41.01},{"$f":"ROUND('3D Interpolace'!AP47,2)","v":41.23},{"$f":"ROUND('3D Interpolace'!AQ47,2)","v":41.31},{"$f":"ROUND('3D Interpolace'!AR47,2)","v":41.21},{"$f":"ROUND('3D Interpolace'!AS47,2)","v":40.93},{"$f":"ROUND('3D Interpolace'!AT47,2)","v":40.56},{"$f":"ROUND('3D Interpolace'!AU47,2)","v":40.18},{"$f":"ROUND('3D Interpolace'!AV47,2)","v":39.869999999999997},{"$f":"ROUND('3D Interpolace'!AW47,2)","v":39.64},{"$f":"ROUND('3D Interpolace'!AX47,2)","v":39.42},{"$f":"ROUND('3D Interpolace'!AY47,2)","v":39.22},{"$f":"ROUND('3D Interpolace'!AZ47,2)","v":39.04},{"$f":"ROUND('3D Interpolace'!BA47,2)","v":38.869999999999997},null,4.3,44,4,4,4,4,4,4,4,4,4,4,4,4,4,4,4,4,4,4,4,4,4,4,4,4,4,4,4,4,4,4,4,4,4,8,8,4,4,4,4,4,4,4.3,null,4.3,44,39.229999999999997,39.07,38.96,38.909999999999997,38.9,38.950000000000003,39.1,39.36,39.64,39.869999999999997,39.979999999999997,39.89,39.68,39.42,39.200000000000003,39.1,39.119999999999997,39.200000000000003,39.35,39.61,40,40.6,41.4,42.27,43.1,43.75,44.25,44.68,45.01,45.23,45.31,45.21,44.93,48.56,48.18,43.87,43.64,43.42,43.22,43.04,42.87,4.3,null,3.9999999999999996,41,36,35.64,35.36,35.159999999999997,35.04,35,35.07,35.26,35.5,35.770000000000003,36,36.229999999999997,36.5,36.74,36.93,37,36.83,36.46,36.06,35.85,36,36,36.700000000000003,37.81,39.07,40.22,41,41.32,41.36,41.24,41.08,41,41.02,41.05,45.07,45.06,41,40.880000000000003,40.72,40.520000000000003,40.28,40,null,null,null,4,41,36,0,0,0,0,35,0,0,0,0,36,0,0,0,0,37,0,0,0,0,36,36,0,0,0,0,41,0,0,0,0,41,0,0,45.07,45.06,41,0,0,0,0,40,3.9999999999999996,null,null,null,41,36,36.222222222222229,36.444444444444443,36.666666666666671,36.888888888888893,37.111111111111114,37.333333333333336,37.555555555555557,37.777777777777786,38,38.222222222222229,38.444444444444443,38.666666666666671,38.888888888888893,39.111111111111114,39.333333333333336,39.555555555555557,39.777777777777786,40,40.222222222222229,40.44444444444445,38.456249999999997,38.965000000000003,39.473749999999995,39.982500000000002,40.491250000000001,41,41.508749999999999,42.017499999999998,42.526250000000005,43.034999999999997,43.543750000000003,44.052500000000002,44.561250000000001,45.07,45.578749999999999,46.087499999999999,46.596250000000005,47.104999999999997,47.613750000000003,48.122500000000002,48.631250000000001,3.9999999999999996,null,null,null,null,null,3.9999999999999996,41,0,0.58222222222222797,1.0844444444444434,1.5066666666666748,1.8488888888888937,2.1111111111111143,2.2633333333333354,2.2955555555555591,2.2777777777777857,2.2299999999999969,2.2222222222222285,2.214444444444446,2.1666666666666714,2.1488888888888908,2.1811111111111146,2.3333333333333357,2.7255555555555588,3.3177777777777848,3.9399999999999977,4.3722222222222271,4.44444444444445,2.4562499999999972,2.2650000000000006,1.6637499999999932,0.91250000000000142,0.27125000000000199,0,0.18874999999999886,0.65749999999999886,1.2862500000000026,1.9549999999999983,2.5437500000000028,3.0324999999999989,3.511250000000004,0,0.51874999999999716,5.0874999999999986,5.7162500000000023,6.384999999999998,7.09375,7.8425000000000011,8.6312500000000014,null,null,null,null,null,null,null,4.3000000000000007,44,1.1875,1.2899999999999991,1.3450000000000006,1.3550000000000022,1.3175000000000008,1.1999999999999993,0.97999999999999865,0.69999999999999929,0.44000000000000128,0.28500000000000192,0.31750000000000078,0.54499999999999993,0.88249999999999851,1.2149999999999981,1.4299999999999997,1.4700000000000006,1.3650000000000002,1.1574999999999989,0.85749999999999815,0.46749999999999936,0.36083333333333556,0.3358333333333352,0.20333333333333314,5.8333333333331794E-2,8.3333333333435178E-4,6.5833333333335631E-2,0.20333333333333137,0.40583333333333194,0.71083333333333698,1.1608333333333345,1.8058333333333305,2.6658333333333299,1.6808333333333305,0.7483333333333313,3.7758333333333329,6.7108333333333334,7.5883333333333312,8.4433333333333316,9.2683333333333326,10.070833333333333,null,null,4.3000000000000007,44,22.99,22.99,22.99,22.99,22.99,22.99,22.99,22.99,22.99,22.99,22.99,22.99,22.99,22.99,22.99,22.99,22.99,22.99,22.99,22.99,22.99,22.99,22.99,22.99,22.99,22.99,22.99,22.99,22.99,22.99,22.99,5.27,22.99,22.99,5.27,0.56999999999999995,0.56999999999999995,0.19,0.19,0.06,null,null,4.3000000000000007,44,0,0,0,0,0,0,0,0,0,0,0,0,0,0,0,0,0,0,0,0,0,0,0,0,0,0,0,0,17.72,17.72,22.419999999999998,3.59,17.72,0,0,-4.6999999999999993,-4.6999999999999993,-5.0799999999999992,-22.799999999999997,-22.93,null,null,4.3,44,39.229999999999997,0,0,0,0,0,0,0,0,0,0,0,0,0,0,0,0,0,0,0,0,0,0,0,0,0,0,0,0,0,45.31,0,0,48.56,0,0,0,0,0,0,0,4.3,null,4.3,44,0,0,0,0,0,0,0,0,0,0,0,0,0,0,0,0,0,0,0,0,36,0,0,0,0,0,0,0,0,0,0,0,0,0,0,0,0,0,0,0,0,4.3,null,4.3,44,1,0,0,0,0,0,0,0,0,0,0,0,0,0,0,0,0,0,0,0,1,0,0,0,0,0,0,0,0,0,0,0,0,0,0,0,0,0,0,0,1,4.3,null,4.3,44,39.229999999999997,0,0,0,0,0,0,0,0,0,0,0,0,0,0,0,0,0,0,0,40,0,0,0,0,0,0,0,0,0,45.31,0,0,48.56,0,0,0,0,0,0,42.87,4.3,null,3.9999999999999996,41,{"$f":"YE45","v":5},{"$f":"YF45","v":5},5,5,5,5,5,5,5,5,5,5,5,5,5,5,5,5,5,5,{"$f":"YX46","v":5},1,{"$f":"ZA45","v":1},1,1,1,1,1,1,1,1,1,1,1,1,1,1,1,1,1,1,{"$f":"ZS46","v":1},3.9999999999999996,null,3.9999999999999996,41,0,0,0,0,0,0,0,0,0,0,0,0,0,0,0,0,0,0,0,0,0,0,0,0,0,0,0,0,0,0,0,0,0,0,4,4,0,0,0,0,0,0,3.9999999999999996,null,3.9999999999999996,41,{"$f":"ABS45","v":51},{"$f":"ABT45","v":51},51,51,51,51,51,51,51,51,51,51,51,51,51,51,51,51,51,51,{"$f":"ACL46","v":51},58,{"$f":"ACO45","v":58},58,58,58,58,58,58,58,58,58,58,58,58,58,58,58,58,58,58,{"$f":"ADG46","v":58},3.9999999999999996]
[null,null,null,null,null,null,null,null,null,null,null,null,"9D",{"$f":"ROUND('3D Interpolace'!M48,2)","v":35.020000000000003},{"$f":"ROUND('3D Interpolace'!N48,2)","v":34.93},{"$f":"ROUND('3D Interpolace'!O48,2)","v":34.880000000000003},{"$f":"ROUND('3D Interpolace'!P48,2)","v":34.869999999999997},{"$f":"ROUND('3D Interpolace'!Q48,2)","v":34.9},{"$f":"ROUND('3D Interpolace'!R48,2)","v":34.979999999999997},{"$f":"ROUND('3D Interpolace'!S48,2)","v":35.17},{"$f":"ROUND('3D Interpolace'!T48,2)","v":35.450000000000003},{"$f":"ROUND('3D Interpolace'!U48,2)","v":35.75},{"$f":"ROUND('3D Interpolace'!V48,2)","v":35.979999999999997},{"$f":"ROUND('3D Interpolace'!W48,2)","v":36.03},{"$f":"ROUND('3D Interpolace'!X48,2)","v":35.83},{"$f":"ROUND('3D Interpolace'!Y48,2)","v":35.42},{"$f":"ROUND('3D Interpolace'!Z48,2)","v":34.950000000000003},{"$f":"ROUND('3D Interpolace'!AA48,2)","v":34.57},{"$f":"ROUND('3D Interpolace'!AB48,2)","v":34.409999999999997},{"$f":"ROUND('3D Interpolace'!AC48,2)","v":34.49},{"$f":"ROUND('3D Interpolace'!AD48,2)","v":34.729999999999997},{"$f":"ROUND('3D Interpolace'!AE48,2)","v":35.090000000000003},{"$f":"ROUND('3D Interpolace'!AF48,2)","v":35.520000000000003},{"$f":"ROUND('3D Interpolace'!AG48,2)","v":36},{"$f":"ROUND('3D Interpolace'!AH48,2)","v":36.57},{"$f":"ROUND('3D Interpolace'!AI48,2)","v":37.26},{"$f":"ROUND('3D Interpolace'!AJ48,2)","v":37.99},{"$f":"ROUND('3D Interpolace'!AK48,2)","v":38.700000000000003},{"$f":"ROUND('3D Interpolace'!AL48,2)","v":39.299999999999997},{"$f":"ROUND('3D Interpolace'!AM48,2)","v":39.85},{"$f":"ROUND('3D Interpolace'!AN48,2)","v":40.380000000000003},{"$f":"ROUND('3D Interpolace'!AO48,2)","v":40.840000000000003},{"$f":"ROUND('3D Interpolace'!AP48,2)","v":41.17},{"$f":"ROUND('3D Interpolace'!AQ48,2)","v":41.3},{"$f":"ROUND('3D Interpolace'!AR48,2)","v":41.17},{"$f":"ROUND('3D Interpolace'!AS48,2)","v":40.799999999999997},{"$f":"ROUND('3D Interpolace'!AT48,2)","v":40.32},{"$f":"ROUND('3D Interpolace'!AU48,2)","v":39.840000000000003},{"$f":"ROUND('3D Interpolace'!AV48,2)","v":39.46},{"$f":"ROUND('3D Interpolace'!AW48,2)","v":39.200000000000003},{"$f":"ROUND('3D Interpolace'!AX48,2)","v":38.96},{"$f":"ROUND('3D Interpolace'!AY48,2)","v":38.76},{"$f":"ROUND('3D Interpolace'!AZ48,2)","v":38.6},{"$f":"ROUND('3D Interpolace'!BA48,2)","v":38.46},null,4.4000000000000004,45,4,4,4,4,4,4,4,4,4,4,4,4,4,4,4,4,4,4,4,4,4,4,4,4,4,4,4,4,4,4,4,4,4,8,8,4,4,4,4,4,4,4.4000000000000004,null,4.4000000000000004,45,39.020000000000003,38.93,38.880000000000003,38.869999999999997,38.9,38.979999999999997,39.17,39.450000000000003,39.75,39.979999999999997,40.03,39.83,39.42,38.950000000000003,38.57,38.409999999999997,38.49,38.729999999999997,39.090000000000003,39.520000000000003,40,40.57,41.26,41.99,42.7,43.3,43.85,44.38,44.84,45.17,45.3,45.17,44.8,48.32,47.84,43.46,43.2,42.96,42.76,42.6,42.46,4.4000000000000004,null,3.9999999999999996,41,36,35.64,35.36,35.159999999999997,35.04,35,35.07,35.26,35.5,35.770000000000003,36,36.229999999999997,36.5,36.74,36.93,37,36.83,36.46,36.06,35.85,36,36,36.700000000000003,37.81,39.07,40.22,41,41.32,41.36,41.24,41.08,41,41.02,41.05,45.07,45.06,41,40.880000000000003,40.72,40.520000000000003,40.28,40,null,null,null,4,41,{"$f":"IF(OR(AND(INT(1000*GM$1/500)-1000*GM$1/500=0,INT(1000*$GK47/500)-1000*$GK47/500=0),ZY47>4),ER47,IF(AND(ZY47=4,OR(INT(1000*GM$1/500)-1000*GM$1/500=0,INT(1000*$GK47/500)-1000*$GK47/500=0)),ER47,0))","v":36},{"$f":"IF(OR(AND(INT(1000*GN$1/500)-1000*GN$1/500=0,INT(1000*$GK47/500)-1000*$GK47/500=0),ZZ47>4),ES47,IF(AND(ZZ47=4,OR(INT(1000*GN$1/500)-1000*GN$1/500=0,INT(1000*$GK47/500)-1000*$GK47/500=0)),ES47,0))","v":0},{"$f":"IF(OR(AND(INT(1000*GO$1/500)-1000*GO$1/500=0,INT(1000*$GK47/500)-1000*$GK47/500=0),AAA47>4),ET47,IF(AND(AAA47=4,OR(INT(1000*GO$1/500)-1000*GO$1/500=0,INT(1000*$GK47/500)-1000*$GK47/500=0)),ET47,0))","v":0},{"$f":"IF(OR(AND(INT(1000*GP$1/500)-1000*GP$1/500=0,INT(1000*$GK47/500)-1000*$GK47/500=0),AAB47>4),EU47,IF(AND(AAB47=4,OR(INT(1000*GP$1/500)-1000*GP$1/500=0,INT(1000*$GK47/500)-1000*$GK47/500=0)),EU47,0))","v":0},{"$f":"IF(OR(AND(INT(1000*GQ$1/500)-1000*GQ$1/500=0,INT(1000*$GK47/500)-1000*$GK47/500=0),AAC47>4),EV47,IF(AND(AAC47=4,OR(INT(1000*GQ$1/500)-1000*GQ$1/500=0,INT(1000*$GK47/500)-1000*$GK47/500=0)),EV47,0))","v":0},{"$f":"IF(OR(AND(INT(1000*GR$1/500)-1000*GR$1/500=0,INT(1000*$GK47/500)-1000*$GK47/500=0),AAD47>4),EW47,IF(AND(AAD47=4,OR(INT(1000*GR$1/500)-1000*GR$1/500=0,INT(1000*$GK47/500)-1000*$GK47/500=0)),EW47,0))","v":35},{"$f":"IF(OR(AND(INT(1000*GS$1/500)-1000*GS$1/500=0,INT(1000*$GK47/500)-1000*$GK47/500=0),AAE47>4),EX47,IF(AND(AAE47=4,OR(INT(1000*GS$1/500)-1000*GS$1/500=0,INT(1000*$GK47/500)-1000*$GK47/500=0)),EX47,0))","v":0},{"$f":"IF(OR(AND(INT(1000*GT$1/500)-1000*GT$1/500=0,INT(1000*$GK47/500)-1000*$GK47/500=0),AAF47>4),EY47,IF(AND(AAF47=4,OR(INT(1000*GT$1/500)-1000*GT$1/500=0,INT(1000*$GK47/500)-1000*$GK47/500=0)),EY47,0))","v":0},{"$f":"IF(OR(AND(INT(1000*GU$1/500)-1000*GU$1/500=0,INT(1000*$GK47/500)-1000*$GK47/500=0),AAG47>4),EZ47,IF(AND(AAG47=4,OR(INT(1000*GU$1/500)-1000*GU$1/500=0,INT(1000*$GK47/500)-1000*$GK47/500=0)),EZ47,0))","v":0},{"$f":"IF(OR(AND(INT(1000*GV$1/500)-1000*GV$1/500=0,INT(1000*$GK47/500)-1000*$GK47/500=0),AAH47>4),FA47,IF(AND(AAH47=4,OR(INT(1000*GV$1/500)-1000*GV$1/500=0,INT(1000*$GK47/500)-1000*$GK47/500=0)),FA47,0))","v":0},{"$f":"IF(OR(AND(INT(1000*GW$1/500)-1000*GW$1/500=0,INT(1000*$GK47/500)-1000*$GK47/500=0),AAI47>4),FB47,IF(AND(AAI47=4,OR(INT(1000*GW$1/500)-1000*GW$1/500=0,INT(1000*$GK47/500)-1000*$GK47/500=0)),FB47,0))","v":36},{"$f":"IF(OR(AND(INT(1000*GX$1/500)-1000*GX$1/500=0,INT(1000*$GK47/500)-1000*$GK47/500=0),AAJ47>4),FC47,IF(AND(AAJ47=4,OR(INT(1000*GX$1/500)-1000*GX$1/500=0,INT(1000*$GK47/500)-1000*$GK47/500=0)),FC47,0))","v":0},{"$f":"IF(OR(AND(INT(1000*GY$1/500)-1000*GY$1/500=0,INT(1000*$GK47/500)-1000*$GK47/500=0),AAK47>4),FD47,IF(AND(AAK47=4,OR(INT(1000*GY$1/500)-1000*GY$1/500=0,INT(1000*$GK47/500)-1000*$GK47/500=0)),FD47,0))","v":0},{"$f":"IF(OR(AND(INT(1000*GZ$1/500)-1000*GZ$1/500=0,INT(1000*$GK47/500)-1000*$GK47/500=0),AAL47>4),FE47,IF(AND(AAL47=4,OR(INT(1000*GZ$1/500)-1000*GZ$1/500=0,INT(1000*$GK47/500)-1000*$GK47/500=0)),FE47,0))","v":0},{"$f":"IF(OR(AND(INT(1000*HA$1/500)-1000*HA$1/500=0,INT(1000*$GK47/500)-1000*$GK47/500=0),AAM47>4),FF47,IF(AND(AAM47=4,OR(INT(1000*HA$1/500)-1000*HA$1/500=0,INT(1000*$GK47/500)-1000*$GK47/500=0)),FF47,0))","v":0},{"$f":"IF(OR(AND(INT(1000*HB$1/500)-1000*HB$1/500=0,INT(1000*$GK47/500)-1000*$GK47/500=0),AAN47>4),FG47,IF(AND(AAN47=4,OR(INT(1000*HB$1/500)-1000*HB$1/500=0,INT(1000*$GK47/500)-1000*$GK47/500=0)),FG47,0))","v":37},{"$f":"IF(OR(AND(INT(1000*HC$1/500)-1000*HC$1/500=0,INT(1000*$GK47/500)-1000*$GK47/500=0),AAO47>4),FH47,IF(AND(AAO47=4,OR(INT(1000*HC$1/500)-1000*HC$1/500=0,INT(1000*$GK47/500)-1000*$GK47/500=0)),FH47,0))","v":0},{"$f":"IF(OR(AND(INT(1000*HD$1/500)-1000*HD$1/500=0,INT(1000*$GK47/500)-1000*$GK47/500=0),AAP47>4),FI47,IF(AND(AAP47=4,OR(INT(1000*HD$1/500)-1000*HD$1/500=0,INT(1000*$GK47/500)-1000*$GK47/500=0)),FI47,0))","v":0},{"$f":"IF(OR(AND(INT(1000*HE$1/500)-1000*HE$1/500=0,INT(1000*$GK47/500)-1000*$GK47/500=0),AAQ47>4),FJ47,IF(AND(AAQ47=4,OR(INT(1000*HE$1/500)-1000*HE$1/500=0,INT(1000*$GK47/500)-1000*$GK47/500=0)),FJ47,0))","v":0},{"$f":"IF(OR(AND(INT(1000*HF$1/500)-1000*HF$1/500=0,INT(1000*$GK47/500)-1000*$GK47/500=0),AAR47>4),FK47,IF(AND(AAR47=4,OR(INT(1000*HF$1/500)-1000*HF$1/500=0,INT(1000*$GK47/500)-1000*$GK47/500=0)),FK47,0))","v":0},{"$f":"IF(OR(AND(INT(1000*HG$1/500)-1000*HG$1/500=0,INT(1000*$GK47/500)-1000*$GK47/500=0),AAS47>4),FL47,IF(AND(AAS47=4,OR(INT(1000*HG$1/500)-1000*HG$1/500=0,INT(1000*$GK47/500)-1000*$GK47/500=0)),FL47,0))","v":36},{"$f":"IF(OR(AND(INT(1000*HH$1/500)-1000*HH$1/500=0,INT(1000*$GK47/500)-1000*$GK47/500=0),AAT47>4),FM47,IF(AND(AAT47=4,OR(INT(1000*HH$1/500)-1000*HH$1/500=0,INT(1000*$GK47/500)-1000*$GK47/500=0)),FM47,0))","v":36},{"$f":"IF(OR(AND(INT(1000*HI$1/500)-1000*HI$1/500=0,INT(1000*$GK47/500)-1000*$GK47/500=0),AAU47>4),FN47,IF(AND(AAU47=4,OR(INT(1000*HI$1/500)-1000*HI$1/500=0,INT(1000*$GK47/500)-1000*$GK47/500=0)),FN47,0))","v":0},{"$f":"IF(OR(AND(INT(1000*HJ$1/500)-1000*HJ$1/500=0,INT(1000*$GK47/500)-1000*$GK47/500=0),AAV47>4),FO47,IF(AND(AAV47=4,OR(INT(1000*HJ$1/500)-1000*HJ$1/500=0,INT(1000*$GK47/500)-1000*$GK47/500=0)),FO47,0))","v":0},{"$f":"IF(OR(AND(INT(1000*HK$1/500)-1000*HK$1/500=0,INT(1000*$GK47/500)-1000*$GK47/500=0),AAW47>4),FP47,IF(AND(AAW47=4,OR(INT(1000*HK$1/500)-1000*HK$1/500=0,INT(1000*$GK47/500)-1000*$GK47/500=0)),FP47,0))","v":0},{"$f":"IF(OR(AND(INT(1000*HL$1/500)-1000*HL$1/500=0,INT(1000*$GK47/500)-1000*$GK47/500=0),AAX47>4),FQ47,IF(AND(AAX47=4,OR(INT(1000*HL$1/500)-1000*HL$1/500=0,INT(1000*$GK47/500)-1000*$GK47/500=0)),FQ47,0))","v":0},{"$f":"IF(OR(AND(INT(1000*HM$1/500)-1000*HM$1/500=0,INT(1000*$GK47/500)-1000*$GK47/500=0),AAY47>4),FR47,IF(AND(AAY47=4,OR(INT(1000*HM$1/500)-1000*HM$1/500=0,INT(1000*$GK47/500)-1000*$GK47/500=0)),FR47,0))","v":41},{"$f":"IF(OR(AND(INT(1000*HN$1/500)-1000*HN$1/500=0,INT(1000*$GK47/500)-1000*$GK47/500=0),AAZ47>4),FS47,IF(AND(AAZ47=4,OR(INT(1000*HN$1/500)-1000*HN$1/500=0,INT(1000*$GK47/500)-1000*$GK47/500=0)),FS47,0))","v":0},{"$f":"IF(OR(AND(INT(1000*HO$1/500)-1000*HO$1/500=0,INT(1000*$GK47/500)-1000*$GK47/500=0),ABA47>4),FT47,IF(AND(ABA47=4,OR(INT(1000*HO$1/500)-1000*HO$1/500=0,INT(1000*$GK47/500)-1000*$GK47/500=0)),FT47,0))","v":0},{"$f":"IF(OR(AND(INT(1000*HP$1/500)-1000*HP$1/500=0,INT(1000*$GK47/500)-1000*$GK47/500=0),ABB47>4),FU47,IF(AND(ABB47=4,OR(INT(1000*HP$1/500)-1000*HP$1/500=0,INT(1000*$GK47/500)-1000*$GK47/500=0)),FU47,0))","v":0},{"$f":"IF(OR(AND(INT(1000*HQ$1/500)-1000*HQ$1/500=0,INT(1000*$GK47/500)-1000*$GK47/500=0),ABC47>4),FV47,IF(AND(ABC47=4,OR(INT(1000*HQ$1/500)-1000*HQ$1/500=0,INT(1000*$GK47/500)-1000*$GK47/500=0)),FV47,0))","v":0},{"$f":"IF(OR(AND(INT(1000*HR$1/500)-1000*HR$1/500=0,INT(1000*$GK47/500)-1000*$GK47/500=0),ABD47>4),FW47,IF(AND(ABD47=4,OR(INT(1000*HR$1/500)-1000*HR$1/500=0,INT(1000*$GK47/500)-1000*$GK47/500=0)),FW47,0))","v":41},{"$f":"IF(OR(AND(INT(1000*HS$1/500)-1000*HS$1/500=0,INT(1000*$GK47/500)-1000*$GK47/500=0),ABE47>4),FX47,IF(AND(ABE47=4,OR(INT(1000*HS$1/500)-1000*HS$1/500=0,INT(1000*$GK47/500)-1000*$GK47/500=0)),FX47,0))","v":0},{"$f":"IF(OR(AND(INT(1000*HT$1/500)-1000*HT$1/500=0,INT(1000*$GK47/500)-1000*$GK47/500=0),ABF47>4),FY47,IF(AND(ABF47=4,OR(INT(1000*HT$1/500)-1000*HT$1/500=0,INT(1000*$GK47/500)-1000*$GK47/500=0)),FY47,0))","v":0},{"$f":"IF(OR(AND(INT(1000*HU$1/500)-1000*HU$1/500=0,INT(1000*$GK47/500)-1000*$GK47/500=0),ABG47>4),FZ47,IF(AND(ABG47=4,OR(INT(1000*HU$1/500)-1000*HU$1/500=0,INT(1000*$GK47/500)-1000*$GK47/500=0)),FZ47,0))","v":45.07},{"$f":"IF(OR(AND(INT(1000*HV$1/500)-1000*HV$1/500=0,INT(1000*$GK47/500)-1000*$GK47/500=0),ABH47>4),GA47,IF(AND(ABH47=4,OR(INT(1000*HV$1/500)-1000*HV$1/500=0,INT(1000*$GK47/500)-1000*$GK47/500=0)),GA47,0))","v":45.06},{"$f":"IF(OR(AND(INT(1000*HW$1/500)-1000*HW$1/500=0,INT(1000*$GK47/500)-1000*$GK47/500=0),ABI47>4),GB47,IF(AND(ABI47=4,OR(INT(1000*HW$1/500)-1000*HW$1/500=0,INT(1000*$GK47/500)-1000*$GK47/500=0)),GB47,0))","v":41},{"$f":"IF(OR(AND(INT(1000*HX$1/500)-1000*HX$1/500=0,INT(1000*$GK47/500)-1000*$GK47/500=0),ABJ47>4),GC47,IF(AND(ABJ47=4,OR(INT(1000*HX$1/500)-1000*HX$1/500=0,INT(1000*$GK47/500)-1000*$GK47/500=0)),GC47,0))","v":0},{"$f":"IF(OR(AND(INT(1000*HY$1/500)-1000*HY$1/500=0,INT(1000*$GK47/500)-1000*$GK47/500=0),ABK47>4),GD47,IF(AND(ABK47=4,OR(INT(1000*HY$1/500)-1000*HY$1/500=0,INT(1000*$GK47/500)-1000*$GK47/500=0)),GD47,0))","v":0},{"$f":"IF(OR(AND(INT(1000*HZ$1/500)-1000*HZ$1/500=0,INT(1000*$GK47/500)-1000*$GK47/500=0),ABL47>4),GE47,IF(AND(ABL47=4,OR(INT(1000*HZ$1/500)-1000*HZ$1/500=0,INT(1000*$GK47/500)-1000*$GK47/500=0)),GE47,0))","v":0},{"$f":"IF(OR(AND(INT(1000*IA$1/500)-1000*IA$1/500=0,INT(1000*$GK47/500)-1000*$GK47/500=0),ABM47>4),GF47,IF(AND(ABM47=4,OR(INT(1000*IA$1/500)-1000*IA$1/500=0,INT(1000*$GK47/500)-1000*$GK47/500=0)),GF47,0))","v":0},{"$f":"IF(OR(AND(INT(1000*IB$1/500)-1000*IB$1/500=0,INT(1000*$GK47/500)-1000*$GK47/500=0),ABN47>4),GG47,IF(AND(ABN47=4,OR(INT(1000*IB$1/500)-1000*IB$1/500=0,INT(1000*$GK47/500)-1000*$GK47/500=0)),GG47,0))","v":40},3.9999999999999996,null,null,null,41,42,42,42,42,42,42,42,42,42,42,42,42,42,42,42,42,42,42,42,42,42,42.666666666666671,43.306666666666672,43.946666666666665,44.586666666666666,45.226666666666667,45.866666666666667,46.506666666666668,47.146666666666661,47.786666666666669,48.426666666666669,49.066666666666663,49.706666666666663,50.346666666666664,50.986666666666665,51.626666666666665,52.266666666666666,52.906666666666666,53.546666666666667,54.186666666666667,54.826666666666668,55.466666666666669,3.9999999999999996,null,null,null,null,null,3.9999999999999996,41,6,6.3599999999999994,6.6400000000000006,6.8400000000000034,6.9600000000000009,7,6.93,6.740000000000002,6.5,6.2299999999999969,6,5.7700000000000031,5.5,5.259999999999998,5.07,5,5.1700000000000017,5.5399999999999991,5.9399999999999977,6.1499999999999986,6,6.6666666666666714,6.6066666666666691,6.1366666666666632,5.5166666666666657,5.0066666666666677,4.8666666666666671,5.1866666666666674,5.7866666666666617,6.5466666666666669,7.3466666666666711,8.0666666666666629,8.6866666666666603,9.2966666666666669,5.9166666666666643,6.5666666666666629,11.266666666666666,12.026666666666664,12.826666666666668,13.666666666666664,14.546666666666667,15.466666666666669,null,null,null,null,null,null,null,4.4000000000000004,45,2.7824999999999989,2.8474999999999984,2.8724999999999987,2.8574999999999999,2.8000000000000007,2.6675000000000004,2.4324999999999992,2.1399999999999988,1.8800000000000008,1.7525000000000013,1.8525000000000009,2.2000000000000011,2.6875,3.1575000000000006,3.4575000000000014,3.4924999999999997,3.2974999999999994,2.9450000000000003,2.4949999999999992,2.0024999999999995,1.7066666666666688,1.7366666666666681,1.7041666666666657,1.6666666666666643,1.6841666666666661,1.7666666666666675,1.8716666666666644,2.0116666666666649,2.2516666666666687,2.6616666666666688,3.3091666666666661,4.2141666666666655,4.2966666666666669,4.4366666666666674,6.5216666666666683,8.4916666666666689,9.3866666666666685,10.246666666666668,11.066666666666668,11.851666666666667,null,null,4.4000000000000004,45,5.27,5.27,5.27,5.27,5.27,5.27,5.27,5.27,22.99,22.99,22.99,5.27,5.27,5.27,5.27,5.27,5.27,5.27,5.27,5.27,22.99,22.99,22.99,22.99,22.99,22.99,22.99,5.27,5.27,5.27,5.27,1.68,1.68,1.68,0.56999999999999995,0.19,0.19,0.06,0.06,0.06,null,null,4.4000000000000004,45,0,0,0,0,3.59,0,0,0,17.72,17.72,17.72,0,3.59,3.59,3.59,3.59,3.59,3.59,3.59,0,17.72,17.72,17.72,21.31,21.31,21.31,21.31,3.59,3.59,4.6999999999999993,5.0799999999999992,1.49,1.1099999999999999,1.1099999999999999,0,-0.37999999999999995,-0.37999999999999995,-1.6199999999999999,-1.6199999999999999,-1.6199999999999999,null,null,4.4000000000000004,45,0,0,0,0,0,0,0,0,0,0,40.03,0,0,0,0,0,0,0,0,0,0,0,0,0,0,0,0,0,0,0,0,0,0,0,0,0,0,0,0,0,0,4.4000000000000004,null,4.4000000000000004,45,36,0,0,0,0,0,0,0,0,0,0,0,0,0,0,37,0,0,0,0,36,0,0,0,0,0,0,0,41.36,0,0,0,0,0,45.07,0,0,0,0,0,0,4.4000000000000004,null,4.4000000000000004,45,1,0,0,0,0,0,0,0,0,0,0,0,0,0,0,0,0,0,0,0,1,0,0,0,0,0,0,0,0,0,0,0,0,0,0,0,0,0,0,0,1,4.4000000000000004,null,4.4000000000000004,45,39.020000000000003,0,0,0,0,0,0,0,0,0,40.03,0,0,0,0,0,0,0,0,0,40,0,0,0,0,0,0,0,0,0,0,0,0,0,0,0,0,0,0,0,42.46,4.4000000000000004,null,3.9999999999999996,41,{"$f":"COUNTIF(RG43:SA53,\">0\")","v":3},{"$f":"YE47","v":3},{"$f":"YF47","v":3},3,3,3,3,3,3,3,3,3,3,3,3,3,3,3,3,3,{"$f":"YX47","v":3},{"$f":"COUNTIF(SA43:SU53,\">0\")","v":3},{"$f":"YZ47","v":3},{"$f":"ZA47","v":3},3,3,3,3,3,3,3,3,3,3,3,3,3,3,3,3,3,{"$f":"ZS47","v":3},3.9999999999999996,null,3.9999999999999996,41,0,0,0,0,0,0,0,0,0,0,0,0,0,0,0,0,0,0,0,0,0,0,0,0,0,0,0,0,0,0,0,0,0,0,4,4,0,0,0,0,0,0,3.9999999999999996,null,3.9999999999999996,41,{"$f":"COUNTIF(UU43:VO53,\">0\")","v":51},{"$f":"ABS47","v":51},{"$f":"ABT47","v":51},51,51,51,51,51,51,51,51,51,51,51,51,51,51,51,51,51,{"$f":"ACL47","v":51},{"$f":"COUNTIF(VO43:WI53,\">0\")","v":58},{"$f":"ACN47","v":58},{"$f":"ACO47","v":58},58,58,58,58,58,58,58,58,58,58,58,58,58,58,58,58,58,{"$f":"ADG47","v":58},3.9999999999999996]
[null,null,null,null,null,null,null,null,null,null,null,null,"10",{"$f":"ROUND('3D Interpolace'!M49,2)","v":35},{"$f":"ROUND('3D Interpolace'!N49,2)","v":34.92},{"$f":"ROUND('3D Interpolace'!O49,2)","v":34.880000000000003},{"$f":"ROUND('3D Interpolace'!P49,2)","v":34.880000000000003},{"$f":"ROUND('3D Interpolace'!Q49,2)","v":34.92},{"$f":"ROUND('3D Interpolace'!R49,2)","v":35},{"$f":"ROUND('3D Interpolace'!S49,2)","v":35.18},{"$f":"ROUND('3D Interpolace'!T49,2)","v":35.47},{"$f":"ROUND('3D Interpolace'!U49,2)","v":35.770000000000003},{"$f":"ROUND('3D Interpolace'!V49,2)","v":35.979999999999997},{"$f":"ROUND('3D Interpolace'!W49,2)","v":36},{"$f":"ROUND('3D Interpolace'!X49,2)","v":35.729999999999997},{"$f":"ROUND('3D Interpolace'!Y49,2)","v":35.22},{"$f":"ROUND('3D Interpolace'!Z49,2)","v":34.659999999999997},{"$f":"ROUND('3D Interpolace'!AA49,2)","v":34.19},{"$f":"ROUND('3D Interpolace'!AB49,2)","v":34},{"$f":"ROUND('3D Interpolace'!AC49,2)","v":34.130000000000003},{"$f":"ROUND('3D Interpolace'!AD49,2)","v":34.46},{"$f":"ROUND('3D Interpolace'!AE49,2)","v":34.94},{"$f":"ROUND('3D Interpolace'!AF49,2)","v":35.47},{"$f":"ROUND('3D Interpolace'!AG49,2)","v":36},{"$f":"ROUND('3D Interpolace'!AH49,2)","v":36.549999999999997},{"$f":"ROUND('3D Interpolace'!AI49,2)","v":37.18},{"$f":"ROUND('3D Interpolace'!AJ49,2)","v":37.82},{"$f":"ROUND('3D Interpolace'!AK49,2)","v":38.450000000000003},{"$f":"ROUND('3D Interpolace'!AL49,2)","v":39},{"$f":"ROUND('3D Interpolace'!AM49,2)","v":39.53},{"$f":"ROUND('3D Interpolace'!AN49,2)","v":40.06},{"$f":"ROUND('3D Interpolace'!AO49,2)","v":40.54},{"$f":"ROUND('3D Interpolace'!AP49,2)","v":40.869999999999997},{"$f":"ROUND('3D Interpolace'!AQ49,2)","v":41},{"$f":"ROUND('3D Interpolace'!AR49,2)","v":40.840000000000003},{"$f":"ROUND('3D Interpolace'!AS49,2)","v":40.44},{"$f":"ROUND('3D Interpolace'!AT49,2)","v":39.92},{"$f":"ROUND('3D Interpolace'!AU49,2)","v":39.4},{"$f":"ROUND('3D Interpolace'!AV49,2)","v":39},{"$f":"ROUND('3D Interpolace'!AW49,2)","v":38.72},{"$f":"ROUND('3D Interpolace'!AX49,2)","v":38.479999999999997},{"$f":"ROUND('3D Interpolace'!AY49,2)","v":38.28},{"$f":"ROUND('3D Interpolace'!AZ49,2)","v":38.119999999999997},{"$f":"ROUND('3D Interpolace'!BA49,2)","v":38},null,4.5,46,null,null,null,null,null,null,null,null,null,null,null,null,null,null,null,null,null,null,null,null,null,null,null,null,null,null,null,null,null,null,null,null,null,null,null,null,null,null,null,null,null,4.5,null,4.5,46,35,34.92,34.880000000000003,34.880000000000003,34.92,35,35.18,35.47,35.770000000000003,35.979999999999997,36,35.729999999999997,35.22,34.659999999999997,34.19,34,34.130000000000003,34.46,34.94,35.47,36,36.549999999999997,37.18,37.82,38.450000000000003,39,39.53,40.06,40.54,40.869999999999997,41,40.840000000000003,40.44,39.92,39.4,39,38.72,38.479999999999997,38.28,38.119999999999997,38,4.5,null,4.1000000000000005,42,35.82,35.49,35.24,35.07,34.97,34.94,35.01,35.200000000000003,35.44,35.68,35.89,36.07,36.25,36.42,36.54,36.590000000000003,36.47,36.19,35.92,35.799999999999997,36,36,36.67,37.71,38.880000000000003,39.950000000000003,40.700000000000003,41.05,41.17,41.15,41.07,41.02,40.99,40.94,44.85,44.75,40.619999999999997,40.46,40.29,40.090000000000003,39.86,39.619999999999997,null,null,null,4.1000000000000005,42,0,0,0,0,0,0,0,0,0,0,0,0,0,0,0,0,0,0,0,0,0,0,0,0,0,0,0,0,0,0,0,0,0,0,0,0,0,0,0,0,0,0,4.1000000000000005,null,null,null,42,41.5,41.5,41.5,41.5,41.5,41.5,41.5,41.5,41.5,41.5,41.5,41.5,41.5,41.5,41.5,41.5,41.5,41.5,41.5,41.5,41.5,42,42.64,43.28,43.92,44.56,45.2,45.84,46.48,47.120000000000005,47.760000000000005,48.4,49.04,49.679999999999993,50.32,50.96,51.6,52.24,52.879999999999995,53.519999999999996,54.16,54.8,4.1000000000000005,null,null,null,null,null,4.1000000000000005,42,5.68,6.009999999999998,6.259999999999998,6.43,6.5300000000000011,6.5600000000000023,6.490000000000002,6.2999999999999972,6.0600000000000023,5.82,5.6099999999999994,5.43,5.25,5.0799999999999983,4.9600000000000009,4.9099999999999966,5.0300000000000011,5.3100000000000023,5.5799999999999983,5.7000000000000028,5.5,6,5.9699999999999989,5.57,5.0399999999999991,4.6099999999999994,4.5,4.7900000000000063,5.3099999999999952,5.970000000000006,6.6900000000000048,7.3799999999999955,8.0499999999999972,8.7399999999999949,5.4699999999999989,6.2100000000000009,10.980000000000004,11.780000000000001,12.589999999999996,13.429999999999993,14.299999999999997,15.18,null,null,null,null,null,null,null,4.5,46,4.1724999999999994,4.2649999999999988,4.3149999999999977,4.322499999999998,4.2874999999999996,4.1775000000000002,3.9599999999999991,3.6799999999999997,3.4350000000000005,3.3275000000000006,3.4525000000000006,3.8325000000000014,4.3550000000000022,4.8550000000000022,5.1700000000000017,5.1925000000000008,4.9550000000000001,4.5449999999999999,4.0374999999999996,3.504999999999999,3.0350000000000037,3.0875000000000021,3.0949999999999989,3.1074999999999982,3.1799999999999979,3.322499999999998,3.4999999999999964,3.7199999999999989,4.0350000000000019,4.5024999999999995,5.1824999999999974,6.0949999999999989,7.1675000000000004,8.2925000000000004,9.3650000000000002,10.332500000000001,11.227500000000003,12.085000000000003,12.910000000000004,13.700000000000003,null,null,4.5,46,1.68,1.68,1.68,1.68,1.68,1.68,5.27,5.27,5.27,5.27,5.27,5.27,1.68,1.68,1.68,1.68,1.68,1.68,1.68,5.27,5.27,5.27,5.27,5.27,5.27,5.27,5.27,5.27,1.68,1.68,1.68,0.56999999999999995,0.56999999999999995,0.19,0.19,0.06,0.06,0.02,0.02,0.02,null,null,4.5,46,-3.59,-3.59,-3.59,-3.59,-3.59,-21.31,-17.72,-17.72,-17.72,-17.72,-17.72,-17.72,-21.31,-21.31,-3.59,-3.59,-3.59,-21.31,-21.31,-17.72,-17.72,-17.72,-17.72,-17.72,-17.72,-17.72,-17.72,-17.72,-21.31,-21.31,-21.31,-22.419999999999998,-22.419999999999998,-22.799999999999997,-22.799999999999997,-22.93,-22.93,-22.97,-22.97,-22.97,null,null,4.5,46,0,0,0,0,0,0,0,0,0,0,0,0,0,0,0,0,0,0,0,0,0,0,0,0,0,0,0,0,0,0,0,0,0,0,0,0,0,0,0,0,0,4.5,null,4.5,46,0,0,0,0,0,0,0,0,0,0,0,0,0,0,0,0,0,0,0,0,36,0,0,0,0,0,0,0,0,0,0,0,0,0,0,0,0,0,0,0,0,4.5,null,4.5,46,1,0,0,0,0,0,0,0,0,0,0,0,0,0,0,0,0,0,0,0,1,0,0,0,0,0,0,0,0,0,0,0,0,0,0,0,0,0,0,0,1,4.5,null,4.5,46,35,0,0,0,0,0,0,0,0,0,0,0,0,0,0,0,0,0,0,0,36,0,0,0,0,0,0,0,0,0,0,0,0,0,0,0,0,0,0,0,38,4.5,null,4.1000000000000005,42,{"$f":"YE47","v":3},{"$f":"YF47","v":3},{"$f":"YG47","v":3},{"$f":"YH47","v":3},{"$f":"YI47","v":3},{"$f":"YJ47","v":3},{"$f":"YK47","v":3},{"$f":"YL47","v":3},{"$f":"YM47","v":3},{"$f":"YN47","v":3},{"$f":"YO47","v":3},{"$f":"YP47","v":3},{"$f":"YQ47","v":3},{"$f":"YR47","v":3},{"$f":"YS47","v":3},{"$f":"YT47","v":3},{"$f":"YU47","v":3},{"$f":"YV47","v":3},{"$f":"YW47","v":3},{"$f":"YX47","v":3},{"$f":"YX48","v":3},{"$f":"ZA48","v":3},{"$f":"ZA47","v":3},{"$f":"ZB47","v":3},{"$f":"ZC47","v":3},{"$f":"ZD47","v":3},{"$f":"ZE47","v":3},{"$f":"ZF47","v":3},{"$f":"ZG47","v":3},{"$f":"ZH47","v":3},{"$f":"ZI47","v":3},{"$f":"ZJ47","v":3},{"$f":"ZK47","v":3},{"$f":"ZL47","v":3},{"$f":"ZM47","v":3},{"$f":"ZN47","v":3},{"$f":"ZO47","v":3},{"$f":"ZP47","v":3},{"$f":"ZQ47","v":3},{"$f":"ZR47","v":3},{"$f":"ZS47","v":3},{"$f":"ZS48","v":3},4.1000000000000005,null,4.1000000000000005,42,0,0,0,0,0,0,0,0,0,0,0,0,0,0,0,0,0,0,0,0,0,0,0,0,0,0,0,0,0,0,0,0,0,0,4,4,0,0,0,0,0,0,4.1000000000000005,null,4.1000000000000005,42,{"$f":"ABS47","v":51},{"$f":"ABT47","v":51},{"$f":"ABU47","v":51},{"$f":"ABV47","v":51},{"$f":"ABW47","v":51},{"$f":"ABX47","v":51},{"$f":"ABY47","v":51},{"$f":"ABZ47","v":51},{"$f":"ACA47","v":51},{"$f":"ACB47","v":51},{"$f":"ACC47","v":51},{"$f":"ACD47","v":51},{"$f":"ACE47","v":51},{"$f":"ACF47","v":51},{"$f":"ACG47","v":51},{"$f":"ACH47","v":51},{"$f":"ACI47","v":51},{"$f":"ACJ47","v":51},{"$f":"ACK47","v":51},{"$f":"ACL47","v":51},{"$f":"ACL48","v":51},{"$f":"ACO48","v":58},{"$f":"ACO47","v":58},{"$f":"ACP47","v":58},{"$f":"ACQ47","v":58},{"$f":"ACR47","v":58},{"$f":"ACS47","v":58},{"$f":"ACT47","v":58},{"$f":"ACU47","v":58},{"$f":"ACV47","v":58},{"$f":"ACW47","v":58},{"$f":"ACX47","v":58},{"$f":"ACY47","v":58},{"$f":"ACZ47","v":58},{"$f":"ADA47","v":58},{"$f":"ADB47","v":58},{"$f":"ADC47","v":58},{"$f":"ADD47","v":58},{"$f":"ADE47","v":58},{"$f":"ADF47","v":58},{"$f":"ADG47","v":58},{"$f":"ADG48","v":58},4.1000000000000005]
[null,null,null,null,null,null,null,null,null,null,null,null,"10A",{"$f":"ROUND('3D Interpolace'!M50,2)","v":35.270000000000003},{"$f":"ROUND('3D Interpolace'!N50,2)","v":35.119999999999997},{"$f":"ROUND('3D Interpolace'!O50,2)","v":35.020000000000003},{"$f":"ROUND('3D Interpolace'!P50,2)","v":34.96},{"$f":"ROUND('3D Interpolace'!Q50,2)","v":34.950000000000003},{"$f":"ROUND('3D Interpolace'!R50,2)","v":34.979999999999997},{"$f":"ROUND('3D Interpolace'!S50,2)","v":35.130000000000003},{"$f":"ROUND('3D Interpolace'!T50,2)","v":35.380000000000003},{"$f":"ROUND('3D Interpolace'!U50,2)","v":35.659999999999997},{"$f":"ROUND('3D Interpolace'!V50,2)","v":35.85},{"$f":"ROUND('3D Interpolace'!W50,2)","v":35.86},{"$f":"ROUND('3D Interpolace'!X50,2)","v":35.6},{"$f":"ROUND('3D Interpolace'!Y50,2)","v":35.119999999999997},{"$f":"ROUND('3D Interpolace'!Z50,2)","v":34.58},{"$f":"ROUND('3D Interpolace'!AA50,2)","v":34.15},{"$f":"ROUND('3D Interpolace'!AB50,2)","v":33.979999999999997},{"$f":"ROUND('3D Interpolace'!AC50,2)","v":34.119999999999997},{"$f":"ROUND('3D Interpolace'!AD50,2)","v":34.47},{"$f":"ROUND('3D Interpolace'!AE50,2)","v":34.950000000000003},{"$f":"ROUND('3D Interpolace'!AF50,2)","v":35.49},{"$f":"ROUND('3D Interpolace'!AG50,2)","v":36.020000000000003},{"$f":"ROUND('3D Interpolace'!AH50,2)","v":36.57},{"$f":"ROUND('3D Interpolace'!AI50,2)","v":37.19},{"$f":"ROUND('3D Interpolace'!AJ50,2)","v":37.83},{"$f":"ROUND('3D Interpolace'!AK50,2)","v":38.43},{"$f":"ROUND('3D Interpolace'!AL50,2)","v":38.92},{"$f":"ROUND('3D Interpolace'!AM50,2)","v":39.340000000000003},{"$f":"ROUND('3D Interpolace'!AN50,2)","v":39.71},{"$f":"ROUND('3D Interpolace'!AO50,2)","v":40.01},{"$f":"ROUND('3D Interpolace'!AP50,2)","v":40.200000000000003},{"$f":"ROUND('3D Interpolace'!AQ50,2)","v":40.24},{"$f":"ROUND('3D Interpolace'!AR50,2)","v":40.07},{"$f":"ROUND('3D Interpolace'!AS50,2)","v":39.71},{"$f":"ROUND('3D Interpolace'!AT50,2)","v":39.26},{"$f":"ROUND('3D Interpolace'!AU50,2)","v":38.81},{"$f":"ROUND('3D Interpolace'!AV50,2)","v":38.450000000000003},{"$f":"ROUND('3D Interpolace'!AW50,2)","v":38.18},{"$f":"ROUND('3D Interpolace'!AX50,2)","v":37.950000000000003},{"$f":"ROUND('3D Interpolace'!AY50,2)","v":37.75},{"$f":"ROUND('3D Interpolace'!AZ50,2)","v":37.57},{"$f":"ROUND('3D Interpolace'!BA50,2)","v":37.43},null,4.5999999999999996,47,null,null,null,null,null,null,null,null,null,null,null,null,null,null,null,null,null,null,null,null,null,null,null,null,null,null,null,null,null,null,null,null,null,null,null,null,null,null,null,null,null,4.5999999999999996,null,4.5999999999999996,47,35.270000000000003,35.119999999999997,35.020000000000003,34.96,34.950000000000003,34.979999999999997,35.130000000000003,35.380000000000003,35.659999999999997,35.85,35.86,35.6,35.119999999999997,34.58,34.15,33.979999999999997,34.119999999999997,34.47,34.950000000000003,35.49,36.020000000000003,36.57,37.19,37.83,38.43,38.92,39.340000000000003,39.71,40.01,40.200000000000003,40.24,40.07,39.71,39.26,38.81,38.450000000000003,38.18,37.950000000000003,37.75,37.57,37.43,4.5999999999999996,null,4.2,43,35.53,35.28,35.1,34.979999999999997,34.92,34.93,35.04,35.25,35.51,35.75,35.9,35.96,35.97,35.94,35.909999999999997,35.9,35.840000000000003,35.729999999999997,35.65,35.71,36,36,36.64,37.56,38.590000000000003,39.549999999999997,40.25,40.67,40.94,41.09,41.16,41.17,41.1,40.94,44.71,44.47,40.25,40.049999999999997,39.86,39.659999999999997,39.450000000000003,39.25,null,null,null,4.2,43,0,0,0,0,0,0,0,0,0,0,0,0,0,0,0,0,0,0,0,0,0,0,0,0,0,0,0,0,0,0,0,0,0,0,0,0,0,0,0,0,0,0,4.2,null,null,null,43,41,41,41,41,41,41,41,41,41,41,41,41,41,41,41,41,41,41,41,41,41,41.333333333333336,41.973333333333336,42.61333333333333,43.25333333333333,43.893333333333331,44.533333333333331,45.173333333333332,45.813333333333333,46.453333333333333,47.093333333333334,47.733333333333334,48.373333333333335,49.013333333333335,49.653333333333336,50.293333333333337,50.933333333333337,51.573333333333338,52.213333333333338,52.853333333333339,53.493333333333339,54.133333333333333,4.2,null,null,null,null,null,4.2,43,5.4699999999999989,5.7199999999999989,5.8999999999999986,6.0200000000000031,6.0799999999999983,6.07,5.9600000000000009,5.75,5.490000000000002,5.25,5.1000000000000014,5.0399999999999991,5.0300000000000011,5.0600000000000023,5.0900000000000034,5.1000000000000014,5.1599999999999966,5.2700000000000031,5.3500000000000014,5.2899999999999991,5,5.3333333333333357,5.3333333333333357,5.0533333333333275,4.6633333333333269,4.3433333333333337,4.2833333333333314,4.5033333333333303,4.8733333333333348,5.3633333333333297,5.9333333333333371,6.5633333333333326,7.2733333333333334,8.0733333333333377,4.9433333333333351,5.8233333333333377,10.683333333333337,11.523333333333341,12.353333333333339,13.193333333333342,14.043333333333337,14.883333333333333,null,null,null,null,null,null,null,4.6000000000000005,47,3.3349999999999991,3.5274999999999999,3.6649999999999991,3.7499999999999982,3.7824999999999989,3.7274999999999991,3.5574999999999992,3.3150000000000013,3.0950000000000006,2.9949999999999992,3.0999999999999996,3.4299999999999997,3.8875000000000011,4.3225000000000016,4.5850000000000009,4.5850000000000009,4.3525000000000009,3.9649999999999999,3.4824999999999982,2.9699999999999989,2.340833333333336,2.3808333333333351,2.3658333333333346,2.3733333333333348,2.4833333333333343,2.7308333333333348,3.0933333333333319,3.5458333333333325,4.085833333333337,4.7158333333333342,5.4583333333333304,6.3383333333333294,7.3208333333333311,8.3358333333333317,9.3208333333333311,10.243333333333332,11.118333333333331,11.97083333333333,12.808333333333332,13.625833333333333,null,null,4.6000000000000005,47,5.27,5.27,5.27,5.27,5.27,5.27,5.27,5.27,5.27,5.27,5.27,5.27,5.27,1.68,1.68,1.68,1.68,5.27,5.27,5.27,5.27,5.27,5.27,5.27,5.27,5.27,5.27,5.27,1.68,1.68,1.68,0.56999999999999995,0.56999999999999995,0.19,0.19,0.06,0.06,0.06,0.02,0.02,null,null,4.6000000000000005,47,0,0,0,0,-17.72,-17.72,-17.72,-17.72,-17.72,-17.72,-17.72,-17.72,-17.72,-21.31,-21.31,-3.59,-21.31,-17.72,-17.72,-17.72,-17.72,-17.72,-17.72,-17.72,-17.72,-17.72,-17.72,-17.72,-21.31,-21.31,-21.31,-22.419999999999998,-22.419999999999998,-22.799999999999997,-22.799999999999997,-22.93,-22.93,-22.93,-22.97,-22.97,null,null,4.5999999999999996,47,0,0,0,0,0,0,0,0,0,0,0,0,0,0,0,0,0,0,0,0,0,0,0,0,0,0,0,0,0,0,0,0,0,0,0,0,0,0,0,0,0,4.5999999999999996,null,4.5999999999999996,47,0,0,0,0,0,0,0,0,0,0,0,0,0,0,0,0,0,0,0,0,0,0,0,0,0,0,0,0,0,0,0,0,0,0,0,0,0,0,0,0,0,4.5999999999999996,null,4.5999999999999996,47,1,0,0,0,0,0,0,0,0,0,0,0,0,0,0,0,0,0,0,0,1,0,0,0,0,0,0,0,0,0,0,0,0,0,0,0,0,0,0,0,1,4.5999999999999996,null,4.5999999999999996,47,35.270000000000003,0,0,0,0,0,0,0,0,0,0,0,0,0,0,0,0,0,0,0,36.020000000000003,0,0,0,0,0,0,0,0,0,0,0,0,0,0,0,0,0,0,0,37.43,4.5999999999999996,null,4.2,43,{"$f":"YE48","v":3},{"$f":"YF48","v":3},3,3,3,3,3,3,3,3,3,3,3,3,3,3,3,3,3,3,{"$f":"YX49","v":3},3,{"$f":"ZA48","v":3},3,3,3,3,3,3,3,3,3,3,3,3,3,3,3,3,3,3,{"$f":"ZS49","v":3},4.2,null,4.2,43,0,0,0,0,0,0,0,0,0,0,0,0,0,0,0,0,0,0,0,0,0,0,0,0,0,0,0,0,0,0,0,0,0,0,4,4,0,0,0,0,0,0,4.2,null,4.2,43,{"$f":"ABS48","v":51},{"$f":"ABT48","v":51},51,51,51,51,51,51,51,51,51,51,51,51,51,51,51,51,51,51,{"$f":"ACL49","v":51},58,{"$f":"ACO48","v":58},58,58,58,58,58,58,58,58,58,58,58,58,58,58,58,58,58,58,{"$f":"ADG49","v":58},4.2]
[null,null,null,null,null,null,null,null,null,null,null,null,"10B",{"$f":"ROUND('3D Interpolace'!M51,2)","v":35.78},{"$f":"ROUND('3D Interpolace'!N51,2)","v":35.49},{"$f":"ROUND('3D Interpolace'!O51,2)","v":35.26},{"$f":"ROUND('3D Interpolace'!P51,2)","v":35.1},{"$f":"ROUND('3D Interpolace'!Q51,2)","v":34.99},{"$f":"ROUND('3D Interpolace'!R51,2)","v":34.950000000000003},{"$f":"ROUND('3D Interpolace'!S51,2)","v":35.03},{"$f":"ROUND('3D Interpolace'!T51,2)","v":35.229999999999997},{"$f":"ROUND('3D Interpolace'!U51,2)","v":35.47},{"$f":"ROUND('3D Interpolace'!V51,2)","v":35.64},{"$f":"ROUND('3D Interpolace'!W51,2)","v":35.67},{"$f":"ROUND('3D Interpolace'!X51,2)","v":35.47},{"$f":"ROUND('3D Interpolace'!Y51,2)","v":35.090000000000003},{"$f":"ROUND('3D Interpolace'!Z51,2)","v":34.659999999999997},{"$f":"ROUND('3D Interpolace'!AA51,2)","v":34.32},{"$f":"ROUND('3D Interpolace'!AB51,2)","v":34.21},{"$f":"ROUND('3D Interpolace'!AC51,2)","v":34.35},{"$f":"ROUND('3D Interpolace'!AD51,2)","v":34.65},{"$f":"ROUND('3D Interpolace'!AE51,2)","v":35.07},{"$f":"ROUND('3D Interpolace'!AF51,2)","v":35.56},{"$f":"ROUND('3D Interpolace'!AG51,2)","v":36.049999999999997},{"$f":"ROUND('3D Interpolace'!AH51,2)","v":36.61},{"$f":"ROUND('3D Interpolace'!AI51,2)","v":37.28},{"$f":"ROUND('3D Interpolace'!AJ51,2)","v":37.97},{"$f":"ROUND('3D Interpolace'!AK51,2)","v":38.57},{"$f":"ROUND('3D Interpolace'!AL51,2)","v":39},{"$f":"ROUND('3D Interpolace'!AM51,2)","v":39.229999999999997},{"$f":"ROUND('3D Interpolace'!AN51,2)","v":39.32},{"$f":"ROUND('3D Interpolace'!AO51,2)","v":39.31},{"$f":"ROUND('3D Interpolace'!AP51,2)","v":39.229999999999997},{"$f":"ROUND('3D Interpolace'!AQ51,2)","v":39.119999999999997},{"$f":"ROUND('3D Interpolace'!AR51,2)","v":38.950000000000003},{"$f":"ROUND('3D Interpolace'!AS51,2)","v":38.69},{"$f":"ROUND('3D Interpolace'!AT51,2)","v":38.39},{"$f":"ROUND('3D Interpolace'!AU51,2)","v":38.090000000000003},{"$f":"ROUND('3D Interpolace'!AV51,2)","v":37.82},{"$f":"ROUND('3D Interpolace'!AW51,2)","v":37.590000000000003},{"$f":"ROUND('3D Interpolace'!AX51,2)","v":37.380000000000003},{"$f":"ROUND('3D Interpolace'!AY51,2)","v":37.17},{"$f":"ROUND('3D Interpolace'!AZ51,2)","v":36.97},{"$f":"ROUND('3D Interpolace'!BA51,2)","v":36.78},null,4.7,48,null,null,null,null,null,null,null,null,null,null,null,null,null,null,null,null,null,null,null,null,null,null,null,null,null,null,null,null,null,null,null,null,null,null,null,null,null,null,null,null,null,4.7,null,4.7,48,35.78,35.49,35.26,35.1,34.99,34.950000000000003,35.03,35.229999999999997,35.47,35.64,35.67,35.47,35.090000000000003,34.659999999999997,34.32,34.21,34.35,34.65,35.07,35.56,36.049999999999997,36.61,37.28,37.97,38.57,39,39.229999999999997,39.32,39.31,39.229999999999997,39.119999999999997,38.950000000000003,38.69,38.39,38.090000000000003,37.82,37.590000000000003,37.380000000000003,37.17,36.97,36.78,4.7,null,4.3000000000000007,44,39.229999999999997,39.07,38.96,38.909999999999997,38.9,38.950000000000003,39.1,39.36,39.64,39.869999999999997,39.979999999999997,39.89,39.68,39.42,39.200000000000003,39.1,39.119999999999997,39.200000000000003,39.35,39.61,40,40,40.6,41.4,42.27,43.1,43.75,44.25,44.68,45.01,45.23,45.31,45.21,44.93,48.56,48.18,43.87,43.64,43.42,43.22,43.04,42.87,null,null,null,4.3000000000000007,44,39.229999999999997,0,0,0,0,38.950000000000003,0,0,0,0,39.979999999999997,0,0,0,0,39.1,0,0,0,0,40,40,0,0,0,0,43.75,0,0,0,0,45.31,0,0,48.56,48.18,43.87,0,0,0,0,42.87,4.3000000000000007,null,null,null,44,40.5,40.5,40.5,40.5,40.5,40.5,40.5,40.5,40.5,40.5,40.5,40.5,40.5,40.5,40.5,40.5,40.5,40.5,40.5,40.5,40.5,40.666666666666671,41.306666666666672,41.946666666666665,42.586666666666666,43.226666666666667,43.866666666666667,44.506666666666668,45.146666666666661,45.786666666666669,46.426666666666669,47.066666666666663,47.706666666666663,48.346666666666664,48.986666666666665,49.626666666666665,50.266666666666666,50.906666666666666,51.546666666666667,52.186666666666667,52.826666666666668,53.466666666666669,4.3000000000000007,null,null,null,null,null,4.3000000000000007,44,1.2700000000000031,1.4299999999999997,1.5399999999999991,1.5900000000000034,1.6000000000000014,1.5499999999999972,1.3999999999999986,1.1400000000000006,0.85999999999999943,0.63000000000000256,0.52000000000000313,0.60999999999999943,0.82000000000000028,1.0799999999999983,1.2999999999999972,1.3999999999999986,1.3800000000000026,1.2999999999999972,1.1499999999999986,0.89000000000000057,0.5,0.6666666666666714,0.70666666666667055,0.54666666666666686,0.31666666666666288,0.12666666666666515,0.11666666666666714,0.25666666666666771,0.46666666666666146,0.77666666666667084,1.1966666666666725,1.7566666666666606,2.4966666666666626,3.4166666666666643,0.42666666666666231,1.4466666666666654,6.3966666666666683,7.2666666666666657,8.1266666666666652,8.9666666666666686,9.7866666666666688,10.596666666666671,null,null,null,null,null,null,null,4.7,48,2.3699999999999992,2.6975000000000016,2.9575000000000014,3.1474999999999991,3.2674999999999983,3.2899999999999991,3.1875,2.9975000000000005,2.8100000000000005,2.7099999999999991,2.7724999999999991,3.01,3.3425000000000011,3.6550000000000011,3.83,3.8025000000000002,3.6025000000000009,3.2825000000000006,2.8749999999999982,2.4224999999999994,1.6416666666666693,1.644166666666667,1.5716666666666654,1.5466666666666669,1.6841666666666679,2.0641666666666687,2.6766666666666676,3.4466666666666672,4.2966666666666704,5.1491666666666696,5.9716666666666658,6.7941666666666638,7.6366666666666649,8.4891666666666676,9.3416666666666686,10.191666666666668,11.039166666666665,11.886666666666663,12.739166666666664,13.596666666666664,null,null,4.7,48,5.27,5.27,5.27,5.27,5.27,5.27,5.27,5.27,5.27,5.27,5.27,5.27,5.27,5.27,5.27,5.27,5.27,5.27,5.27,5.27,22.99,22.99,22.99,22.99,22.99,5.27,5.27,5.27,1.68,1.68,1.68,0.56999999999999995,0.56999999999999995,0.19,0.19,0.06,0.06,0.06,0.02,0.02,null,null,4.7,48,-17.72,-17.72,-17.72,-17.72,-17.72,-17.72,-17.72,-17.72,-17.72,-17.72,-17.72,-17.72,-17.72,-17.72,-17.72,-17.72,-17.72,-17.72,-17.72,-17.72,0,0,0,0,0,-17.72,-17.72,-17.72,-21.31,-3.59,-21.31,-22.419999999999998,-22.419999999999998,-22.799999999999997,-22.799999999999997,-22.93,-22.93,-22.93,-22.97,-22.97,null,null,4.7,48,0,0,0,0,0,0,0,0,0,0,0,0,0,0,0,0,0,0,0,0,0,0,0,0,0,0,0,0,0,0,0,0,0,0,0,0,0,0,0,0,0,4.7,null,4.7,48,39.229999999999997,0,0,0,0,0,0,0,0,0,0,0,0,0,0,0,0,0,0,0,40,0,0,0,0,0,0,0,0,0,0,45.31,0,0,48.56,0,0,0,0,0,0,4.7,null,4.7,48,1,0,0,0,0,0,0,0,0,0,0,0,0,0,0,0,0,0,0,0,1,0,0,0,0,0,0,0,0,0,0,0,0,0,0,0,0,0,0,0,1,4.7,null,4.7,48,35.78,0,0,0,0,0,0,0,0,0,0,0,0,0,0,0,0,0,0,0,36.049999999999997,0,0,0,0,0,0,0,0,0,0,0,0,0,0,0,0,0,0,0,36.78,4.7,null,4.3000000000000007,44,3,3,3,3,3,3,3,3,3,3,3,3,3,3,3,3,3,3,3,3,3,3,3,3,3,3,3,3,3,3,3,3,3,3,3,3,3,3,3,3,3,3,4.3000000000000007,null,4.3000000000000007,44,4,4,4,4,4,4,4,4,4,4,4,4,4,4,4,4,4,4,4,4,4,4,4,4,4,4,4,4,4,4,4,4,4,4,8,8,4,4,4,4,4,4,4.3000000000000007,null,4.3000000000000007,44,51,51,51,51,51,51,51,51,51,51,51,51,51,51,51,51,51,51,51,51,51,58,58,58,58,58,58,58,58,58,58,58,58,58,58,58,58,58,58,58,58,58,4.3000000000000007]
[null,null,null,null,null,null,null,null,null,null,null,null,"10C",{"$f":"ROUND('3D Interpolace'!M52,2)","v":36.340000000000003},{"$f":"ROUND('3D Interpolace'!N52,2)","v":35.909999999999997},{"$f":"ROUND('3D Interpolace'!O52,2)","v":35.549999999999997},{"$f":"ROUND('3D Interpolace'!P52,2)","v":35.26},{"$f":"ROUND('3D Interpolace'!Q52,2)","v":35.06},{"$f":"ROUND('3D Interpolace'!R52,2)","v":34.93},{"$f":"ROUND('3D Interpolace'!S52,2)","v":34.93},{"$f":"ROUND('3D Interpolace'!T52,2)","v":35.06},{"$f":"ROUND('3D Interpolace'!U52,2)","v":35.25},{"$f":"ROUND('3D Interpolace'!V52,2)","v":35.4},{"$f":"ROUND('3D Interpolace'!W52,2)","v":35.450000000000003},{"$f":"ROUND('3D Interpolace'!X52,2)","v":35.32},{"$f":"ROUND('3D Interpolace'!Y52,2)","v":35.08},{"$f":"ROUND('3D Interpolace'!Z52,2)","v":34.799999999999997},{"$f":"ROUND('3D Interpolace'!AA52,2)","v":34.6},{"$f":"ROUND('3D Interpolace'!AB52,2)","v":34.549999999999997},{"$f":"ROUND('3D Interpolace'!AC52,2)","v":34.68},{"$f":"ROUND('3D Interpolace'!AD52,2)","v":34.909999999999997},{"$f":"ROUND('3D Interpolace'!AE52,2)","v":35.24},{"$f":"ROUND('3D Interpolace'!AF52,2)","v":35.630000000000003},{"$f":"ROUND('3D Interpolace'!AG52,2)","v":36.07},{"$f":"ROUND('3D Interpolace'!AH52,2)","v":36.65},{"$f":"ROUND('3D Interpolace'!AI52,2)","v":37.39},{"$f":"ROUND('3D Interpolace'!AJ52,2)","v":38.14},{"$f":"ROUND('3D Interpolace'!AK52,2)","v":38.76},{"$f":"ROUND('3D Interpolace'!AL52,2)","v":39.119999999999997},{"$f":"ROUND('3D Interpolace'!AM52,2)","v":39.14},{"$f":"ROUND('3D Interpolace'!AN52,2)","v":38.909999999999997},{"$f":"ROUND('3D Interpolace'!AO52,2)","v":38.54},{"$f":"ROUND('3D Interpolace'!AP52,2)","v":38.159999999999997},{"$f":"ROUND('3D Interpolace'!AQ52,2)","v":37.880000000000003},{"$f":"ROUND('3D Interpolace'!AR52,2)","v":37.71},{"$f":"ROUND('3D Interpolace'!AS52,2)","v":37.58},{"$f":"ROUND('3D Interpolace'!AT52,2)","v":37.46},{"$f":"ROUND('3D Interpolace'!AU52,2)","v":37.33},{"$f":"ROUND('3D Interpolace'!AV52,2)","v":37.18},{"$f":"ROUND('3D Interpolace'!AW52,2)","v":36.99},{"$f":"ROUND('3D Interpolace'!AX52,2)","v":36.79},{"$f":"ROUND('3D Interpolace'!AY52,2)","v":36.58},{"$f":"ROUND('3D Interpolace'!AZ52,2)","v":36.35},{"$f":"ROUND('3D Interpolace'!BA52,2)","v":36.1},null,4.8,49,null,null,null,null,null,null,null,null,null,null,null,null,null,null,null,null,null,null,null,null,null,null,null,null,null,null,null,null,null,null,null,null,null,null,null,null,null,null,null,null,null,4.8,null,4.8,49,36.340000000000003,35.909999999999997,35.549999999999997,35.26,35.06,34.93,34.93,35.06,35.25,35.4,35.450000000000003,35.32,35.08,34.799999999999997,34.6,34.549999999999997,34.68,34.909999999999997,35.24,35.630000000000003,36.07,36.65,37.39,38.14,38.76,39.119999999999997,39.14,38.909999999999997,38.54,38.159999999999997,37.880000000000003,37.71,37.58,37.46,37.33,37.18,36.99,36.79,36.58,36.35,36.1,4.8,null,4.4000000000000004,45,39.020000000000003,38.93,38.880000000000003,38.869999999999997,38.9,38.979999999999997,39.17,39.450000000000003,39.75,39.979999999999997,40.03,39.83,39.42,38.950000000000003,38.57,38.409999999999997,38.49,38.729999999999997,39.090000000000003,39.520000000000003,40,40,40.57,41.26,41.99,42.7,43.3,43.85,44.38,44.84,45.17,45.3,45.17,44.8,48.32,47.84,43.46,43.2,42.96,42.76,42.6,42.46,null,null,null,4.4000000000000004,45,39.020000000000003,0,0,0,0,38.979999999999997,0,0,0,0,40.03,0,0,0,0,38.409999999999997,0,0,0,0,40,40,0,0,0,0,43.3,0,0,0,0,45.3,0,0,48.32,47.84,43.46,0,0,0,0,42.46,4.4000000000000004,null,null,null,45,40,40,40,40,40,40,40,40,40,40,40,40,40,40,40,40,40,40,40,40,40,40,40.64,41.28,41.92,42.56,43.2,43.84,44.48,45.120000000000005,45.760000000000005,46.4,47.04,47.679999999999993,48.32,48.96,49.6,50.24,50.879999999999995,51.519999999999996,52.16,52.8,4.4000000000000004,null,null,null,null,null,4.4000000000000004,45,0.97999999999999687,1.0700000000000003,1.1199999999999974,1.1300000000000026,1.1000000000000014,1.0200000000000031,0.82999999999999829,0.54999999999999716,0.25,2.0000000000003126E-2,-3.0000000000001137E-2,0.17000000000000171,0.57999999999999829,1.0499999999999972,1.4299999999999997,1.5900000000000034,1.509999999999998,1.2700000000000031,0.90999999999999659,0.47999999999999687,0,0,7.0000000000000284E-2,2.0000000000003126E-2,-7.0000000000000284E-2,-0.14000000000000057,-9.9999999999994316E-2,-9.9999999999980105E-3,9.9999999999994316E-2,0.28000000000000114,0.59000000000000341,1.1000000000000014,1.8699999999999974,2.8799999999999955,0,1.1199999999999974,6.1400000000000006,7.0399999999999991,7.9199999999999946,8.759999999999998,9.5599999999999952,10.339999999999996,null,null,null,null,null,null,null,4.8000000000000007,49,1.42,1.8700000000000028,2.240000000000002,2.5274999999999999,2.7324999999999999,2.8350000000000009,2.8074999999999992,2.6799999999999997,2.5325000000000006,2.4399999999999995,2.4625000000000004,2.5975000000000019,2.7875000000000014,2.9574999999999996,3.0350000000000001,2.9850000000000012,2.8250000000000011,2.5850000000000009,2.2699999999999996,1.8899999999999988,0.96250000000000391,0.93000000000000149,0.80249999999999844,0.74249999999999972,0.90500000000000114,1.4150000000000009,2.2749999999999986,3.3574999999999999,4.5100000000000033,5.5825000000000014,6.4849999999999977,7.2499999999999964,7.952499999999997,8.6425000000000001,9.3625000000000025,10.137500000000003,10.955000000000002,11.795,12.659999999999998,13.552499999999998,null,null,4.8000000000000007,49,22.99,22.99,5.27,5.27,5.27,5.27,5.27,5.27,5.27,5.27,5.27,5.27,5.27,5.27,5.27,5.27,5.27,5.27,5.27,22.99,22.99,22.99,22.99,22.99,22.99,22.99,5.27,5.27,1.68,1.68,0.56999999999999995,0.56999999999999995,0.56999999999999995,0.19,0.19,0.06,0.06,0.06,0.02,0.02,null,null,4.8000000000000007,49,0,0,-17.72,-17.72,-17.72,-17.72,-17.72,-17.72,-17.72,-17.72,-17.72,-17.72,-17.72,-17.72,-17.72,-17.72,-17.72,-17.72,-17.72,0,0,0,0,0,0,0,-17.72,-17.72,-3.59,-3.59,-22.419999999999998,-22.419999999999998,-22.419999999999998,-22.799999999999997,-22.799999999999997,-22.93,-22.93,-22.93,-22.97,-22.97,null,null,4.8,49,0,0,0,0,0,0,0,0,0,0,0,0,0,0,0,0,0,0,0,0,0,0,0,0,0,0,0,0,0,0,0,0,0,0,0,0,0,0,0,0,0,4.8,null,4.8,49,0,0,0,0,0,0,0,0,0,0,40.03,0,0,0,0,0,0,0,0,0,40,0,0,0,0,0,0,0,0,0,0,0,0,0,0,0,0,0,0,0,0,4.8,null,4.8,49,1,0,0,0,0,0,0,0,0,0,0,0,0,0,0,0,0,0,0,0,1,0,0,0,0,0,0,0,0,0,0,0,0,0,0,0,0,0,0,0,1,4.8,null,4.8,49,36.340000000000003,0,0,0,0,0,0,0,0,0,0,0,0,0,0,0,0,0,0,0,36.07,0,0,0,0,0,0,0,0,0,0,0,0,0,0,0,0,0,0,0,36.1,4.8,null,4.4000000000000004,45,3,3,3,3,3,3,3,3,3,3,3,3,3,3,3,3,3,3,3,3,3,3,3,3,3,3,3,3,3,3,3,3,3,3,3,3,3,3,3,3,3,3,4.4000000000000004,null,4.4000000000000004,45,4,4,4,4,4,4,4,4,4,4,4,4,4,4,4,4,4,4,4,4,4,4,4,4,4,4,4,4,4,4,4,4,4,4,8,8,4,4,4,4,4,4,4.4000000000000004,null,4.4000000000000004,45,51,51,51,51,51,51,51,51,51,51,51,51,51,51,51,51,51,51,51,51,51,58,58,58,58,58,58,58,58,58,58,58,58,58,58,58,58,58,58,58,58,58,4.4000000000000004]
[null,null,null,null,null,null,null,null,null,null,null,null,"10D",{"$f":"ROUND('3D Interpolace'!M53,2)","v":36.81},{"$f":"ROUND('3D Interpolace'!N53,2)","v":36.26},{"$f":"ROUND('3D Interpolace'!O53,2)","v":35.799999999999997},{"$f":"ROUND('3D Interpolace'!P53,2)","v":35.43},{"$f":"ROUND('3D Interpolace'!Q53,2)","v":35.14},{"$f":"ROUND('3D Interpolace'!R53,2)","v":34.94},{"$f":"ROUND('3D Interpolace'!S53,2)","v":34.86},{"$f":"ROUND('3D Interpolace'!T53,2)","v":34.92},{"$f":"ROUND('3D Interpolace'!U53,2)","v":35.049999999999997},{"$f":"ROUND('3D Interpolace'!V53,2)","v":35.17},{"$f":"ROUND('3D Interpolace'!W53,2)","v":35.22},{"$f":"ROUND('3D Interpolace'!X53,2)","v":35.159999999999997},{"$f":"ROUND('3D Interpolace'!Y53,2)","v":35.049999999999997},{"$f":"ROUND('3D Interpolace'!Z53,2)","v":34.92},{"$f":"ROUND('3D Interpolace'!AA53,2)","v":34.85},{"$f":"ROUND('3D Interpolace'!AB53,2)","v":34.86},{"$f":"ROUND('3D Interpolace'!AC53,2)","v":34.97},{"$f":"ROUND('3D Interpolace'!AD53,2)","v":35.14},{"$f":"ROUND('3D Interpolace'!AE53,2)","v":35.369999999999997},{"$f":"ROUND('3D Interpolace'!AF53,2)","v":35.68},{"$f":"ROUND('3D Interpolace'!AG53,2)","v":36.06},{"$f":"ROUND('3D Interpolace'!AH53,2)","v":36.65},{"$f":"ROUND('3D Interpolace'!AI53,2)","v":37.43},{"$f":"ROUND('3D Interpolace'!AJ53,2)","v":38.229999999999997},{"$f":"ROUND('3D Interpolace'!AK53,2)","v":38.86},{"$f":"ROUND('3D Interpolace'!AL53,2)","v":39.159999999999997},{"$f":"ROUND('3D Interpolace'!AM53,2)","v":39},{"$f":"ROUND('3D Interpolace'!AN53,2)","v":38.49},{"$f":"ROUND('3D Interpolace'!AO53,2)","v":37.83},{"$f":"ROUND('3D Interpolace'!AP53,2)","v":37.19},{"$f":"ROUND('3D Interpolace'!AQ53,2)","v":36.76},{"$f":"ROUND('3D Interpolace'!AR53,2)","v":36.590000000000003},{"$f":"ROUND('3D Interpolace'!AS53,2)","v":36.56},{"$f":"ROUND('3D Interpolace'!AT53,2)","v":36.590000000000003},{"$f":"ROUND('3D Interpolace'!AU53,2)","v":36.61},{"$f":"ROUND('3D Interpolace'!AV53,2)","v":36.549999999999997},{"$f":"ROUND('3D Interpolace'!AW53,2)","v":36.409999999999997},{"$f":"ROUND('3D Interpolace'!AX53,2)","v":36.229999999999997},{"$f":"ROUND('3D Interpolace'!AY53,2)","v":36.020000000000003},{"$f":"ROUND('3D Interpolace'!AZ53,2)","v":35.770000000000003},{"$f":"ROUND('3D Interpolace'!BA53,2)","v":35.49},null,4.9000000000000004,50,null,null,null,null,null,null,null,null,null,null,null,null,null,null,null,null,null,null,null,null,null,null,null,null,null,null,null,null,null,null,null,null,null,null,null,null,null,null,null,null,null,4.9000000000000004,null,4.9000000000000004,50,36.81,36.26,35.799999999999997,35.43,35.14,34.94,34.86,34.92,35.049999999999997,35.17,35.22,35.159999999999997,35.049999999999997,34.92,34.85,34.86,34.97,35.14,35.369999999999997,35.68,36.06,36.65,37.43,38.229999999999997,38.86,39.159999999999997,39,38.49,37.83,37.19,36.76,36.590000000000003,36.56,36.590000000000003,36.61,36.549999999999997,36.409999999999997,36.229999999999997,36.020000000000003,35.770000000000003,35.49,4.9000000000000004,null,4.5,46,35,34.92,34.880000000000003,34.880000000000003,34.92,35,35.18,35.47,35.770000000000003,35.979999999999997,36,35.729999999999997,35.22,34.659999999999997,34.19,34,34.130000000000003,34.46,34.94,35.47,36,36,36.549999999999997,37.18,37.82,38.450000000000003,39,39.53,40.06,40.54,40.869999999999997,41,40.840000000000003,40.44,39.92,39.4,39,38.72,38.479999999999997,38.28,38.119999999999997,38,null,null,null,4.5,46,35,0,0,0,0,35,0,0,0,0,36,0,0,0,0,34,0,0,0,0,36,36,0,0,0,0,39,0,0,0,0,41,0,0,0,0,39,0,0,0,0,38,4.5,null,null,null,46,39.5,39.5,39.5,39.5,39.5,39.5,39.5,39.5,39.5,39.5,39.5,39.5,39.5,39.5,39.5,39.5,39.5,39.5,39.5,39.5,39.5,39.333333333333336,39.973333333333336,40.61333333333333,41.25333333333333,41.893333333333331,42.533333333333331,43.173333333333332,43.813333333333333,44.453333333333333,45.093333333333334,45.733333333333334,46.373333333333335,47.013333333333335,47.653333333333336,48.293333333333337,48.933333333333337,49.573333333333338,50.213333333333338,50.853333333333339,51.493333333333339,52.133333333333333,4.5,null,null,null,null,null,4.5,46,4.5,4.5799999999999983,4.6199999999999974,4.6199999999999974,4.5799999999999983,4.5,4.32,4.0300000000000011,3.7299999999999969,3.5200000000000031,3.5,3.7700000000000031,4.2800000000000011,4.8400000000000034,5.3100000000000023,5.5,5.3699999999999974,5.0399999999999991,4.5600000000000023,4.0300000000000011,3.5,3.3333333333333357,3.4233333333333391,3.43333333333333,3.43333333333333,3.443333333333328,3.5333333333333314,3.6433333333333309,3.7533333333333303,3.913333333333334,4.2233333333333363,4.7333333333333343,5.5333333333333314,6.5733333333333377,7.7333333333333343,8.893333333333338,9.9333333333333371,10.853333333333339,11.733333333333341,12.573333333333338,13.373333333333342,14.133333333333333,null,null,null,null,null,null,null,4.9000000000000004,50,0.6225000000000005,1.1350000000000016,1.5625,1.9074999999999989,2.17,2.3325000000000014,2.3725000000000005,2.3175000000000008,2.2275000000000009,2.16,2.1600000000000019,2.2150000000000016,2.2874999999999996,2.34,2.3375000000000004,2.2675000000000001,2.1400000000000006,1.9625000000000021,1.7200000000000024,1.4000000000000004,0.3333333333333357,0.29583333333333428,0.14833333333333343,7.833333333333492E-2,0.2708333333333357,0.87833333333333563,1.9133333333333304,3.2133333333333312,4.5758333333333372,5.8008333333333351,6.7608333333333306,7.4933333333333287,8.1058333333333294,8.6858333333333313,9.3183333333333334,10.043333333333335,10.833333333333334,11.660833333333331,12.525833333333329,13.428333333333331,null,null,4.9000000000000004,50,22.99,22.99,22.99,22.99,5.27,5.27,5.27,5.27,5.27,5.27,5.27,5.27,5.27,5.27,5.27,5.27,5.27,22.99,22.99,22.99,22.99,22.99,22.99,22.99,22.99,22.99,22.99,5.27,1.68,1.68,0.56999999999999995,0.56999999999999995,0.19,0.19,0.19,0.06,0.06,0.06,0.02,0.02,null,null,4.9000000000000004,50,0,0,0,0,-17.72,-17.72,-17.72,-17.72,-17.72,-17.72,-17.72,-17.72,-17.72,-17.72,-17.72,-17.72,-17.72,0,0,0,0,0,0,0,0,0,0,0,-3.59,0,-22.419999999999998,-22.419999999999998,-22.799999999999997,-22.799999999999997,-22.799999999999997,-22.93,-22.93,-22.93,-22.97,-22.97,null,null,4.9000000000000004,50,0,0,0,0,0,0,0,0,0,0,0,0,0,0,0,0,0,0,0,0,0,0,0,0,0,39.159999999999997,0,0,0,0,0,0,0,0,0,0,0,0,0,0,0,4.9000000000000004,null,4.9000000000000004,50,0,0,0,0,0,0,0,0,0,0,0,0,0,0,0,0,0,0,0,0,0,0,0,0,0,0,0,0,0,0,0,0,0,0,0,0,0,0,0,0,0,4.9000000000000004,null,4.9000000000000004,50,1,0,0,0,0,0,0,0,0,0,0,0,0,0,0,0,0,0,0,0,1,0,0,0,0,0,0,0,0,0,0,0,0,0,0,0,0,0,0,0,1,4.9000000000000004,null,4.9000000000000004,50,36.81,0,0,0,0,0,0,0,0,0,0,0,0,0,0,0,0,0,0,0,36.06,0,0,0,0,39.159999999999997,0,0,0,0,0,0,0,0,0,0,0,0,0,0,35.49,4.9000000000000004,null,4.5,46,3,3,3,3,3,3,3,3,3,3,3,3,3,3,3,3,3,3,3,3,3,3,3,3,3,3,3,3,3,3,3,3,3,3,3,3,3,3,3,3,3,3,4.5,null,4.5,46,0,0,0,0,0,0,0,0,0,0,0,0,0,0,0,0,0,0,0,0,0,0,0,0,0,0,0,0,0,0,0,0,0,0,0,0,0,0,0,0,0,0,4.5,null,4.5,46,51,51,51,51,51,51,51,51,51,51,51,51,51,51,51,51,51,51,51,51,51,58,58,58,58,58,58,58,58,58,58,58,58,58,58,58,58,58,58,58,58,58,4.5]
[null,null,null,null,null,null,null,null,null,null,null,null,"11",{"$f":"ROUND('3D Interpolace'!M54,2)","v":37},{"$f":"ROUND('3D Interpolace'!N54,2)","v":36.44},{"$f":"ROUND('3D Interpolace'!O54,2)","v":35.96},{"$f":"ROUND('3D Interpolace'!P54,2)","v":35.56},{"$f":"ROUND('3D Interpolace'!Q54,2)","v":35.24},{"$f":"ROUND('3D Interpolace'!R54,2)","v":35},{"$f":"ROUND('3D Interpolace'!S54,2)","v":34.869999999999997},{"$f":"ROUND('3D Interpolace'!T54,2)","v":34.86},{"$f":"ROUND('3D Interpolace'!U54,2)","v":34.9},{"$f":"ROUND('3D Interpolace'!V54,2)","v":34.97},{"$f":"ROUND('3D Interpolace'!W54,2)","v":35},{"$f":"ROUND('3D Interpolace'!X54,2)","v":34.979999999999997},{"$f":"ROUND('3D Interpolace'!Y54,2)","v":34.950000000000003},{"$f":"ROUND('3D Interpolace'!Z54,2)","v":34.93},{"$f":"ROUND('3D Interpolace'!AA54,2)","v":34.94},{"$f":"ROUND('3D Interpolace'!AB54,2)","v":35},{"$f":"ROUND('3D Interpolace'!AC54,2)","v":35.1},{"$f":"ROUND('3D Interpolace'!AD54,2)","v":35.229999999999997},{"$f":"ROUND('3D Interpolace'!AE54,2)","v":35.409999999999997},{"$f":"ROUND('3D Interpolace'!AF54,2)","v":35.659999999999997},{"$f":"ROUND('3D Interpolace'!AG54,2)","v":36},{"$f":"ROUND('3D Interpolace'!AH54,2)","v":36.57},{"$f":"ROUND('3D Interpolace'!AI54,2)","v":37.340000000000003},{"$f":"ROUND('3D Interpolace'!AJ54,2)","v":38.14},{"$f":"ROUND('3D Interpolace'!AK54,2)","v":38.75},{"$f":"ROUND('3D Interpolace'!AL54,2)","v":39},{"$f":"ROUND('3D Interpolace'!AM54,2)","v":38.74},{"$f":"ROUND('3D Interpolace'!AN54,2)","v":38.090000000000003},{"$f":"ROUND('3D Interpolace'!AO54,2)","v":37.270000000000003},{"$f":"ROUND('3D Interpolace'!AP54,2)","v":36.5},{"$f":"ROUND('3D Interpolace'!AQ54,2)","v":36},{"$f":"ROUND('3D Interpolace'!AR54,2)","v":35.82},{"$f":"ROUND('3D Interpolace'!AS54,2)","v":35.83},{"$f":"ROUND('3D Interpolace'!AT54,2)","v":35.93},{"$f":"ROUND('3D Interpolace'!AU54,2)","v":36.020000000000003},{"$f":"ROUND('3D Interpolace'!AV54,2)","v":36},{"$f":"ROUND('3D Interpolace'!AW54,2)","v":35.880000000000003},{"$f":"ROUND('3D Interpolace'!AX54,2)","v":35.72},{"$f":"ROUND('3D Interpolace'!AY54,2)","v":35.520000000000003},{"$f":"ROUND('3D Interpolace'!AZ54,2)","v":35.28},{"$f":"ROUND('3D Interpolace'!BA54,2)","v":35},null,5,51,null,null,null,null,null,null,null,null,null,null,null,null,null,null,null,null,null,null,null,null,null,null,null,null,null,null,null,null,null,null,null,null,null,null,null,null,null,null,null,null,null,5,null,5,51,37,36.44,35.96,35.56,35.24,35,34.869999999999997,34.86,34.9,34.97,35,34.979999999999997,34.950000000000003,34.93,34.94,35,35.1,35.229999999999997,35.409999999999997,35.659999999999997,36,36.57,37.340000000000003,38.14,38.75,39,38.74,38.090000000000003,37.270000000000003,36.5,36,35.82,35.83,35.93,36.020000000000003,36,35.880000000000003,35.72,35.520000000000003,35.28,35,5,null,4.6000000000000005,47,{"$f":"IF(ISNUMBER(INDEX(VstupniData,$EQ53,ER$2)),INDEX(VstupniData,$EQ53,ER$2),\"\")","v":35.270000000000003},35.119999999999997,35.020000000000003,34.96,34.950000000000003,34.979999999999997,35.130000000000003,35.380000000000003,35.659999999999997,35.85,{"$f":"IF(ISNUMBER(INDEX(VstupniData,$EQ53,FB$2)),INDEX(VstupniData,$EQ53,FB$2),\"\")","v":35.86},35.6,35.119999999999997,34.58,34.15,33.979999999999997,34.119999999999997,34.47,34.950000000000003,35.49,{"$f":"IF(ISNUMBER(INDEX(VstupniData,$EQ53,FL$2)),INDEX(VstupniData,$EQ53,FL$2),\"\")","v":36.020000000000003},36.020000000000003,36.57,37.19,37.83,38.43,38.92,39.340000000000003,39.71,40.01,{"$f":"IF(ISNUMBER(INDEX(VstupniData,$EQ53,FV$2)),INDEX(VstupniData,$EQ53,FV$2),\"\")","v":40.200000000000003},40.24,40.07,39.71,39.26,38.81,38.450000000000003,38.18,37.950000000000003,37.75,37.57,37.43,null,null,null,4.6000000000000005,47,0,0,0,0,0,0,0,0,0,0,0,0,0,0,0,0,0,0,0,0,0,0,0,0,0,0,0,0,0,0,0,0,0,0,0,0,0,0,0,0,0,0,4.6000000000000005,null,null,null,47,39,39,39,39,39,39,39,39,39,39,39,39,39,39,39,39,39,39,39,39,39,38.666666666666671,39.306666666666672,39.946666666666665,40.586666666666666,41.226666666666667,41.866666666666667,42.506666666666668,43.146666666666661,43.786666666666669,44.426666666666669,45.066666666666663,45.706666666666663,46.346666666666664,46.986666666666665,47.626666666666665,48.266666666666666,48.906666666666666,49.546666666666667,50.186666666666667,50.826666666666668,51.466666666666669,4.6000000000000005,null,null,null,null,null,4.6000000000000005,47,3.7299999999999969,3.8800000000000026,3.9799999999999969,4.0399999999999991,4.0499999999999972,4.0200000000000031,3.8699999999999974,3.6199999999999974,3.3400000000000034,3.1499999999999986,3.1400000000000006,3.3999999999999986,3.8800000000000026,4.4200000000000017,4.8500000000000014,5.0200000000000031,4.8800000000000026,4.5300000000000011,4.0499999999999972,3.509999999999998,2.9799999999999969,2.6466666666666683,2.7366666666666717,2.7566666666666677,2.7566666666666677,2.7966666666666669,2.9466666666666654,3.1666666666666643,3.4366666666666603,3.7766666666666708,4.2266666666666666,4.8266666666666609,5.6366666666666632,6.6366666666666632,7.7266666666666666,8.8166666666666629,9.8166666666666629,10.726666666666667,11.596666666666664,12.436666666666667,13.256666666666668,14.036666666666669,null,null,null,null,null,null,null,5,51,{"$f":"AVERAGE(KF58:KG59)","v":5.1132142857142888},{"$f":"AVERAGE(KG58:KH59)","v":5.5757142857142892},5.9732142857142865,6.305714285714286,6.5757142857142874,6.7707142857142895,6.8757142857142899,6.9107142857142883,6.9082142857142887,6.9007142857142885,6.9107142857142883,6.9307142857142878,6.9407142857142876,6.9257142857142888,6.8732142857142886,6.7832142857142887,6.665714285714289,6.5132142857142892,6.3032142857142901,6.01821428571429,7.0461904761904748,7.8974999999999937,7.121666666666659,6.2383333333333244,5.4349999999999898,4.8941666666666563,4.7733333333333228,5.0849999999999884,5.6641666666666559,6.3008333333333244,6.7874999999999925,6.996666666666659,6.9658333333333253,6.8049999999999926,6.604166666666659,6.4508333333333265,6.3899999999999935,6.3916666666666604,6.4233333333333267,6.4874999999999901,null,null,5,51,1.68,1.68,1.68,0.56999999999999995,0.56999999999999995,0.56999999999999995,0.56999999999999995,0.56999999999999995,0.56999999999999995,0.56999999999999995,0.56999999999999995,0.56999999999999995,0.56999999999999995,0.56999999999999995,0.56999999999999995,0.56999999999999995,0.56999999999999995,0.56999999999999995,0.56999999999999995,0.56999999999999995,0.56999999999999995,0.56999999999999995,0.56999999999999995,0.56999999999999995,1.68,1.68,1.68,1.68,1.68,0.56999999999999995,0.56999999999999995,0.56999999999999995,0.56999999999999995,0.56999999999999995,0.56999999999999995,0.56999999999999995,0.56999999999999995,0.56999999999999995,0.56999999999999995,0.56999999999999995,null,null,5,51,-21.31,-21.31,-21.31,-22.419999999999998,-22.419999999999998,-22.419999999999998,-22.419999999999998,-22.419999999999998,-22.419999999999998,-22.419999999999998,-22.419999999999998,-22.419999999999998,-22.419999999999998,-22.419999999999998,-22.419999999999998,-22.419999999999998,-22.419999999999998,-22.419999999999998,-22.419999999999998,-22.419999999999998,0,0,0,0,1.1099999999999999,1.1099999999999999,1.49,1.49,1.6199999999999999,0.51,-22.419999999999998,-22.419999999999998,-22.419999999999998,-22.419999999999998,-22.419999999999998,-22.419999999999998,-22.419999999999998,-22.419999999999998,-22.419999999999998,-22.419999999999998,null,null,5,51,37,0,0,0,0,0,0,0,0,0,0,0,0,0,0,0,0,0,0,0,0,0,0,0,0,0,0,0,0,0,0,0,0,0,0,0,0,0,0,0,0,5,null,5,51,0,0,0,0,0,0,0,0,0,0,0,0,0,0,0,0,0,0,0,0,0,0,0,0,0,0,0,0,0,0,0,0,0,0,0,0,0,0,0,0,0,5,null,5,51,1,1,1,1,1,1,1,1,1,1,1,1,1,1,1,1,1,1,1,1,1,1,1,1,1,1,1,1,1,1,1,1,1,1,1,1,1,1,1,1,1,5,null,5,51,37,36.44,35.96,35.56,35.24,35,34.869999999999997,34.86,34.9,34.97,35,34.979999999999997,34.950000000000003,34.93,34.94,35,35.1,35.229999999999997,35.409999999999997,35.659999999999997,36,36.57,37.340000000000003,38.14,38.75,39,38.74,38.090000000000003,37.270000000000003,36.5,36,35.82,35.83,35.93,36.020000000000003,36,35.880000000000003,35.72,35.520000000000003,35.28,35,5,null,4.6000000000000005,47,3,3,3,3,3,3,3,3,3,3,3,3,3,3,3,3,3,3,3,3,3,3,3,3,3,3,3,3,3,3,3,3,3,3,3,3,3,3,3,3,3,3,4.6000000000000005,null,4.6000000000000005,47,{"$f":"IF(ISNUMBER(INDEX(Asfalt,$ZX53,ZY$2)),INDEX(Asfalt,$ZX53,ZY$2),0)","v":0},0,0,0,0,0,0,0,0,0,{"$f":"IF(ISNUMBER(INDEX(Asfalt,$ZX53,AAI$2)),INDEX(Asfalt,$ZX53,AAI$2),0)","v":0},0,0,0,0,0,0,0,0,0,{"$f":"IF(ISNUMBER(INDEX(Asfalt,$ZX53,AAS$2)),INDEX(Asfalt,$ZX53,AAS$2),0)","v":0},0,0,0,0,0,0,0,0,0,{"$f":"IF(ISNUMBER(INDEX(Asfalt,$ZX53,ABC$2)),INDEX(Asfalt,$ZX53,ABC$2),0)","v":0},0,0,0,0,0,0,0,0,0,0,0,4.6000000000000005,null,4.6000000000000005,47,51,51,51,51,51,51,51,51,51,51,51,51,51,51,51,51,51,51,51,51,51,58,58,58,58,58,58,58,58,58,58,58,58,58,58,58,58,58,58,58,58,58,4.6000000000000005]
[null,null,null,null,null,null,null,null,null,null,null,null,"11A",{"$f":"ROUND('3D Interpolace'!M55,2)","v":36.840000000000003},{"$f":"ROUND('3D Interpolace'!N55,2)","v":36.409999999999997},{"$f":"ROUND('3D Interpolace'!O55,2)","v":36.03},{"$f":"ROUND('3D Interpolace'!P55,2)","v":35.700000000000003},{"$f":"ROUND('3D Interpolace'!Q55,2)","v":35.42},{"$f":"ROUND('3D Interpolace'!R55,2)","v":35.18},{"$f":"ROUND('3D Interpolace'!S55,2)","v":35.01},{"$f":"ROUND('3D Interpolace'!T55,2)","v":34.9},{"$f":"ROUND('3D Interpolace'!U55,2)","v":34.840000000000003},{"$f":"ROUND('3D Interpolace'!V55,2)","v":34.799999999999997},{"$f":"ROUND('3D Interpolace'!W55,2)","v":34.770000000000003},{"$f":"ROUND('3D Interpolace'!X55,2)","v":34.75},{"$f":"ROUND('3D Interpolace'!Y55,2)","v":34.74},{"$f":"ROUND('3D Interpolace'!Z55,2)","v":34.76},{"$f":"ROUND('3D Interpolace'!AA55,2)","v":34.81},{"$f":"ROUND('3D Interpolace'!AB55,2)","v":34.9},{"$f":"ROUND('3D Interpolace'!AC55,2)","v":35.01},{"$f":"ROUND('3D Interpolace'!AD55,2)","v":35.14},{"$f":"ROUND('3D Interpolace'!AE55,2)","v":35.31},{"$f":"ROUND('3D Interpolace'!AF55,2)","v":35.549999999999997},{"$f":"ROUND('3D Interpolace'!AG55,2)","v":35.86},{"$f":"ROUND('3D Interpolace'!AH55,2)","v":36.380000000000003},{"$f":"ROUND('3D Interpolace'!AI55,2)","v":37.090000000000003},{"$f":"ROUND('3D Interpolace'!AJ55,2)","v":37.81},{"$f":"ROUND('3D Interpolace'!AK55,2)","v":38.36},{"$f":"ROUND('3D Interpolace'!AL55,2)","v":38.58},{"$f":"ROUND('3D Interpolace'!AM55,2)","v":38.32},{"$f":"ROUND('3D Interpolace'!AN55,2)","v":37.71},{"$f":"ROUND('3D Interpolace'!AO55,2)","v":36.94},{"$f":"ROUND('3D Interpolace'!AP55,2)","v":36.22},{"$f":"ROUND('3D Interpolace'!AQ55,2)","v":35.729999999999997},{"$f":"ROUND('3D Interpolace'!AR55,2)","v":35.53},{"$f":"ROUND('3D Interpolace'!AS55,2)","v":35.49},{"$f":"ROUND('3D Interpolace'!AT55,2)","v":35.53},{"$f":"ROUND('3D Interpolace'!AU55,2)","v":35.57},{"$f":"ROUND('3D Interpolace'!AV55,2)","v":35.54},{"$f":"ROUND('3D Interpolace'!AW55,2)","v":35.42},{"$f":"ROUND('3D Interpolace'!AX55,2)","v":35.28},{"$f":"ROUND('3D Interpolace'!AY55,2)","v":35.119999999999997},{"$f":"ROUND('3D Interpolace'!AZ55,2)","v":34.93},{"$f":"ROUND('3D Interpolace'!BA55,2)","v":34.72},null,5.0999999999999996,52,null,null,null,null,null,null,null,null,null,null,null,null,null,null,null,null,null,null,null,null,null,null,null,null,null,null,null,null,null,null,null,null,null,null,null,null,null,null,null,null,null,5.0999999999999996,null,5.0999999999999996,52,36.840000000000003,36.409999999999997,36.03,35.700000000000003,35.42,35.18,35.01,34.9,34.840000000000003,34.799999999999997,34.770000000000003,34.75,34.74,34.76,34.81,34.9,35.01,35.14,35.31,35.549999999999997,35.86,36.380000000000003,37.090000000000003,37.81,38.36,38.58,38.32,37.71,36.94,36.22,35.729999999999997,35.53,35.49,35.53,35.57,35.54,35.42,35.28,35.119999999999997,34.93,34.72,5.0999999999999996,null,4.7,48,35.78,35.49,35.26,35.1,34.99,34.950000000000003,35.03,35.229999999999997,35.47,35.64,35.67,35.47,35.090000000000003,34.659999999999997,34.32,34.21,34.35,34.65,35.07,35.56,36.049999999999997,36.049999999999997,36.61,37.28,37.97,38.57,39,39.229999999999997,39.32,39.31,39.229999999999997,39.119999999999997,38.950000000000003,38.69,38.39,38.090000000000003,37.82,37.590000000000003,37.380000000000003,37.17,36.97,36.78,null,null,null,4.7,48,0,0,0,0,0,0,0,0,0,0,0,0,0,0,0,0,0,0,0,0,0,0,0,0,0,0,0,0,0,0,0,0,0,0,0,0,0,0,0,0,0,0,4.7,null,null,null,48,38.5,38.5,38.5,38.5,38.5,38.5,38.5,38.5,38.5,38.5,38.5,38.5,38.5,38.5,38.5,38.5,38.5,38.5,38.5,38.5,38.5,38,38.64,39.28,39.92,40.56,41.2,41.84,42.48,43.120000000000005,43.760000000000005,44.4,45.04,45.679999999999993,46.32,46.96,47.6,48.24,48.879999999999995,49.519999999999996,50.16,50.8,4.7,null,null,null,null,null,4.7,48,2.7199999999999989,3.009999999999998,3.240000000000002,3.3999999999999986,3.509999999999998,3.5499999999999972,3.4699999999999989,3.2700000000000031,3.0300000000000011,2.8599999999999994,2.8299999999999983,3.0300000000000011,3.4099999999999966,3.8400000000000034,4.18,4.2899999999999991,4.1499999999999986,3.8500000000000014,3.4299999999999997,2.9399999999999977,2.4500000000000028,1.9500000000000028,2.0300000000000011,2,1.9500000000000028,1.990000000000002,2.2000000000000028,2.6100000000000065,3.1599999999999966,3.8100000000000023,4.5300000000000082,5.2800000000000011,6.0899999999999963,6.9899999999999949,7.93,8.8699999999999974,9.7800000000000011,10.649999999999999,11.499999999999993,12.349999999999994,13.189999999999998,14.019999999999996,null,null,null,null,null,null,null,5.1000000000000005,52,{"$f":"AVERAGE(KF59:KG60)","v":2.5864285714285771},{"$f":"AVERAGE(KG59:KH60)","v":2.8864285714285778},{"$f":"AVERAGE(KH59:KI60)","v":3.1614285714285764},{"$f":"AVERAGE(KI59:KJ60)","v":3.4089285714285751},{"$f":"AVERAGE(KJ59:KK60)","v":3.636428571428576},{"$f":"AVERAGE(KK59:KL60)","v":3.8414285714285779},{"$f":"AVERAGE(KL59:KM60)","v":4.0214285714285776},{"$f":"AVERAGE(KM59:KN60)","v":4.1764285714285752},{"$f":"AVERAGE(KN59:KO60)","v":4.3014285714285752},{"$f":"AVERAGE(KO59:KP60)","v":4.3964285714285758},{"$f":"AVERAGE(KP59:KQ60)","v":4.453928571428575},{"$f":"AVERAGE(KQ59:KR60)","v":4.4764285714285759},{"$f":"AVERAGE(KR59:KS60)","v":4.4689285714285774},{"$f":"AVERAGE(KS59:KT60)","v":4.4239285714285774},{"$f":"AVERAGE(KT59:KU60)","v":4.3439285714285774},{"$f":"AVERAGE(KU59:KV60)","v":4.2364285714285774},{"$f":"AVERAGE(KV59:KW60)","v":4.1064285714285766},{"$f":"AVERAGE(KW59:KX60)","v":3.9439285714285752},{"$f":"AVERAGE(KX59:KY60)","v":3.7314285714285766},{"$f":"AVERAGE(KY59:KZ60)","v":3.4589285714285776},{"$f":"AVERAGE(LA59:LB60)","v":5.092499999999994},{"$f":"AVERAGE(LB59:LC60)","v":4.3916666666666604},{"$f":"AVERAGE(LC59:LD60)","v":3.6033333333333246},{"$f":"AVERAGE(LD59:LE60)","v":2.8849999999999891},{"$f":"AVERAGE(LE59:LF60)","v":2.3941666666666563},{"$f":"AVERAGE(LF59:LG60)","v":2.2683333333333238},{"$f":"AVERAGE(LG59:LH60)","v":2.5099999999999891},{"$f":"AVERAGE(LH59:LI60)","v":2.9791666666666572},{"$f":"AVERAGE(LI59:LJ60)","v":3.5058333333333263},{"$f":"AVERAGE(LJ59:LK60)","v":3.9199999999999928},{"$f":"AVERAGE(LK59:LL60)","v":4.1191666666666595},{"$f":"AVERAGE(LL59:LM60)","v":4.1383333333333265},{"$f":"AVERAGE(LM59:LN60)","v":4.0649999999999924},{"$f":"AVERAGE(LN59:LO60)","v":3.9566666666666599},{"$f":"AVERAGE(LO59:LP60)","v":3.8658333333333275},{"$f":"AVERAGE(LP59:LQ60)","v":3.824999999999994},{"$f":"AVERAGE(LQ59:LR60)","v":3.8141666666666616},{"$f":"AVERAGE(LR59:LS60)","v":3.8083333333333282},{"$f":"AVERAGE(LS59:LT60)","v":3.8124999999999911},{"$f":"AVERAGE(LT59:LU60)","v":3.8291666666666551},null,null,5.1000000000000005,52,5.27,5.27,5.27,5.27,5.27,5.27,1.68,1.68,1.68,1.68,1.68,1.68,1.68,1.68,1.68,1.68,1.68,5.27,5.27,5.27,1.68,1.68,5.27,5.27,5.27,5.27,5.27,5.27,5.27,5.27,1.68,1.68,1.68,5.27,5.27,5.27,5.27,5.27,5.27,5.27,null,null,5.1000000000000005,52,-17.72,-17.72,-17.72,-17.72,-17.72,-17.72,-21.31,-21.31,-21.31,-21.31,-21.31,-21.31,-21.31,-21.31,-21.31,-21.31,-21.31,-17.72,-17.72,-17.72,0,0,0,0,0,3.59,3.59,3.59,4.6999999999999993,4.6999999999999993,-21.31,-21.31,-21.31,-17.72,-17.72,-17.72,-17.72,-17.72,-17.72,-17.72,null,null,5.0999999999999996,52,0,0,0,0,0,0,0,0,0,0,0,0,0,0,0,0,0,0,0,0,0,0,0,0,0,0,0,0,0,0,0,0,0,0,0,0,0,0,0,0,0,5.0999999999999996,null,5.0999999999999996,52,0,0,0,0,0,0,0,0,0,0,0,0,0,0,0,0,0,0,0,0,0,0,0,0,0,0,0,0,0,0,0,0,0,0,0,0,0,0,0,0,0,5.0999999999999996,null,5.0999999999999996,52,1,{"$f":"IF(OR(INT(1000*UT$1/$B$18)-1000*UT$1/$B$18=0,INT(1000*$UQ54/$B$19)-1000*$UQ54/$B$19=0),1,0)","v":0},0,0,0,0,0,0,0,0,0,{"$f":"IF(OR(INT(1000*VD$1/$B$18)-1000*VD$1/$B$18=0,INT(1000*$UQ54/$B$19)-1000*$UQ54/$B$19=0),1,0)","v":0},0,0,0,0,0,0,0,0,1,{"$f":"IF(OR(INT(1000*VN$1/$B$18)-1000*VN$1/$B$18=0,INT(1000*$UQ54/$B$19)-1000*$UQ54/$B$19=0),1,0)","v":0},0,0,0,0,0,0,0,0,0,{"$f":"IF(OR(INT(1000*VX$1/$B$18)-1000*VX$1/$B$18=0,INT(1000*$UQ54/$B$19)-1000*$UQ54/$B$19=0),1,0)","v":0},0,0,0,0,0,0,0,0,1,5.0999999999999996,null,5.0999999999999996,52,36.840000000000003,0,0,0,0,0,0,0,0,0,0,0,0,0,0,0,0,0,0,0,35.86,0,0,0,0,0,0,0,0,0,0,0,0,0,0,0,0,0,0,0,34.72,5.0999999999999996,null,4.7,48,3,3,3,3,3,3,3,3,3,3,3,3,3,3,3,3,3,3,3,3,3,3,3,3,3,3,3,3,3,3,3,3,3,3,3,3,3,3,3,3,3,3,4.7,null,4.7,48,0,0,0,0,0,0,0,0,0,0,0,0,0,0,0,0,0,0,0,0,0,0,0,0,0,0,0,0,0,0,0,0,0,0,0,0,0,0,0,0,0,0,4.7,null,4.7,48,51,51,51,51,51,51,51,51,51,51,51,51,51,51,51,51,51,51,51,51,51,58,58,58,58,58,58,58,58,58,58,58,58,58,58,58,58,58,58,58,58,58,4.7]
[null,null,null,null,null,null,null,null,null,null,null,null,"11B",{"$f":"ROUND('3D Interpolace'!M56,2)","v":36.44},{"$f":"ROUND('3D Interpolace'!N56,2)","v":36.25},{"$f":"ROUND('3D Interpolace'!O56,2)","v":36.049999999999997},{"$f":"ROUND('3D Interpolace'!P56,2)","v":35.86},{"$f":"ROUND('3D Interpolace'!Q56,2)","v":35.67},{"$f":"ROUND('3D Interpolace'!R56,2)","v":35.47},{"$f":"ROUND('3D Interpolace'!S56,2)","v":35.26},{"$f":"ROUND('3D Interpolace'!T56,2)","v":35.03},{"$f":"ROUND('3D Interpolace'!U56,2)","v":34.81},{"$f":"ROUND('3D Interpolace'!V56,2)","v":34.630000000000003},{"$f":"ROUND('3D Interpolace'!W56,2)","v":34.5},{"$f":"ROUND('3D Interpolace'!X56,2)","v":34.450000000000003},{"$f":"ROUND('3D Interpolace'!Y56,2)","v":34.44},{"$f":"ROUND('3D Interpolace'!Z56,2)","v":34.47},{"$f":"ROUND('3D Interpolace'!AA56,2)","v":34.549999999999997},{"$f":"ROUND('3D Interpolace'!AB56,2)","v":34.65},{"$f":"ROUND('3D Interpolace'!AC56,2)","v":34.78},{"$f":"ROUND('3D Interpolace'!AD56,2)","v":34.93},{"$f":"ROUND('3D Interpolace'!AE56,2)","v":35.130000000000003},{"$f":"ROUND('3D Interpolace'!AF56,2)","v":35.369999999999997},{"$f":"ROUND('3D Interpolace'!AG56,2)","v":35.67},{"$f":"ROUND('3D Interpolace'!AH56,2)","v":36.119999999999997},{"$f":"ROUND('3D Interpolace'!AI56,2)","v":36.71},{"$f":"ROUND('3D Interpolace'!AJ56,2)","v":37.31},{"$f":"ROUND('3D Interpolace'!AK56,2)","v":37.78},{"$f":"ROUND('3D Interpolace'!AL56,2)","v":37.97},{"$f":"ROUND('3D Interpolace'!AM56,2)","v":37.79},{"$f":"ROUND('3D Interpolace'!AN56,2)","v":37.340000000000003},{"$f":"ROUND('3D Interpolace'!AO56,2)","v":36.76},{"$f":"ROUND('3D Interpolace'!AP56,2)","v":36.19},{"$f":"ROUND('3D Interpolace'!AQ56,2)","v":35.78},{"$f":"ROUND('3D Interpolace'!AR56,2)","v":35.549999999999997},{"$f":"ROUND('3D Interpolace'!AS56,2)","v":35.409999999999997},{"$f":"ROUND('3D Interpolace'!AT56,2)","v":35.31},{"$f":"ROUND('3D Interpolace'!AU56,2)","v":35.229999999999997},{"$f":"ROUND('3D Interpolace'!AV56,2)","v":35.130000000000003},{"$f":"ROUND('3D Interpolace'!AW56,2)","v":35.01},{"$f":"ROUND('3D Interpolace'!AX56,2)","v":34.9},{"$f":"ROUND('3D Interpolace'!AY56,2)","v":34.799999999999997},{"$f":"ROUND('3D Interpolace'!AZ56,2)","v":34.700000000000003},{"$f":"ROUND('3D Interpolace'!BA56,2)","v":34.6},null,5.2,53,4,4,4,4,4,4,4,4,4,4,4,4,4,4,4,4,4,4,4,4,4,4,4,4,4,4,4,4,4,4,4,4,4,4,4,4,4,4,4,4,4,5.2,null,5.2,53,40.44,40.25,40.049999999999997,39.86,39.67,39.47,39.26,39.03,38.81,38.630000000000003,38.5,38.450000000000003,38.44,38.47,38.549999999999997,38.65,38.78,38.93,39.130000000000003,39.369999999999997,39.67,40.119999999999997,40.71,41.31,41.78,41.97,41.79,41.34,40.76,40.19,39.78,39.549999999999997,39.409999999999997,39.31,39.229999999999997,39.130000000000003,39.01,38.9,38.799999999999997,38.700000000000003,38.6,5.2,null,4.8000000000000007,49,36.340000000000003,35.909999999999997,35.549999999999997,35.26,35.06,34.93,34.93,35.06,35.25,35.4,35.450000000000003,35.32,35.08,34.799999999999997,34.6,34.549999999999997,34.68,34.909999999999997,35.24,35.630000000000003,36.07,36.07,36.65,37.39,38.14,38.76,39.119999999999997,39.14,38.909999999999997,38.54,38.159999999999997,37.880000000000003,37.71,37.58,37.46,37.33,37.18,36.99,36.79,36.58,36.35,36.1,null,null,null,4.8000000000000007,49,0,0,0,0,0,0,0,0,0,0,0,0,0,0,0,0,0,0,0,0,0,0,0,0,0,0,0,0,0,0,0,0,0,0,0,0,0,0,0,0,0,0,4.8000000000000007,null,null,null,49,38,38,38,38,38,38,38,38,38,38,38,38,38,38,38,38,38,38,38,38,38,37.333333333333336,37.973333333333336,38.61333333333333,39.25333333333333,39.893333333333331,40.533333333333331,41.173333333333332,41.813333333333333,42.453333333333333,43.093333333333334,43.733333333333334,44.373333333333335,45.013333333333328,45.653333333333336,46.293333333333337,46.933333333333337,47.573333333333338,48.213333333333331,48.853333333333332,49.493333333333332,50.133333333333333,4.8000000000000007,null,null,null,null,null,4.8000000000000007,49,1.6599999999999966,2.0900000000000034,2.4500000000000028,2.740000000000002,2.9399999999999977,3.0700000000000003,3.0700000000000003,2.9399999999999977,2.75,2.6000000000000014,2.5499999999999972,2.6799999999999997,2.9200000000000017,3.2000000000000028,3.3999999999999986,3.4500000000000028,3.3200000000000003,3.0900000000000034,2.759999999999998,2.3699999999999974,1.9299999999999997,1.2633333333333354,1.3233333333333377,1.2233333333333292,1.1133333333333297,1.1333333333333329,1.413333333333334,2.0333333333333314,2.903333333333336,3.913333333333334,4.9333333333333371,5.8533333333333317,6.663333333333334,7.43333333333333,8.1933333333333351,8.9633333333333383,9.7533333333333374,10.583333333333336,11.423333333333332,12.273333333333333,13.143333333333331,14.033333333333331,null,null,null,null,null,null,null,5.2,53,0.20464285714286135,0.27714285714286113,0.37714285714286078,0.49964285714286127,0.65214285714286113,0.84964285714286092,1.1071428571428612,1.3996428571428599,1.6746428571428602,1.8896428571428618,2.0146428571428618,2.0621428571428613,2.0571428571428623,2.0021428571428626,1.9096428571428614,1.7871428571428609,1.6346428571428611,1.4446428571428616,1.2121428571428616,0.94214285714286028,2.3349999999999937,1.736666666666661,1.078333333333326,0.46999999999998998,3.6666666666654635E-2,-0.12666666666667759,-2.7500000000010516E-2,0.23916666666665698,0.56583333333332497,0.84249999999999226,1.0116666666666596,1.1083333333333272,1.1699999999999928,1.2066666666666599,1.2233333333333274,1.2199999999999935,1.1966666666666619,1.1508333333333276,1.0799999999999894,0.98916666666665343,null,null,5.2,53,22.99,22.99,22.99,22.99,22.99,22.99,22.99,22.99,22.99,22.99,5.27,5.27,5.27,5.27,22.99,22.99,22.99,22.99,22.99,22.99,5.27,22.99,22.99,22.99,22.99,22.99,22.99,22.99,22.99,22.99,22.99,22.99,22.99,22.99,22.99,22.99,22.99,22.99,22.99,22.99,null,null,5.2,53,0,0,0,0,0,0,0,0,0,0,-17.72,-17.72,-17.72,-17.72,0,0,0,0,0,0,-17.72,0,0,0,0,0,0,17.72,17.72,17.72,0,0,0,0,0,0,0,0,0,0,null,null,5.2,53,40.44,0,0,0,0,0,0,0,0,0,0,0,0,0,0,0,0,0,0,0,0,0,0,0,0,41.97,0,0,0,0,0,0,0,0,0,0,0,0,0,0,0,5.2,null,5.2,53,0,0,0,0,0,0,0,0,0,0,0,0,0,0,0,0,0,0,0,0,36.07,0,0,0,0,0,0,0,0,0,0,0,0,0,0,0,0,0,0,0,0,5.2,null,5.2,53,1,0,0,0,0,0,0,0,0,0,0,0,0,0,0,0,0,0,0,0,1,0,0,0,0,0,0,0,0,0,0,0,0,0,0,0,0,0,0,0,1,5.2,null,5.2,53,40.44,0,0,0,0,0,0,0,0,0,0,0,0,0,0,0,0,0,0,0,39.67,0,0,0,0,41.97,0,0,0,0,0,0,0,0,0,0,0,0,0,0,38.6,5.2,null,4.8000000000000007,49,3,3,3,3,3,3,3,3,3,3,3,3,3,3,3,3,3,3,3,3,3,3,3,3,3,3,3,3,3,3,3,3,3,3,3,3,3,3,3,3,3,3,4.8000000000000007,null,4.8000000000000007,49,0,0,0,0,0,0,0,0,0,0,0,0,0,0,0,0,0,0,0,0,0,0,0,0,0,0,0,0,0,0,0,0,0,0,0,0,0,0,0,0,0,0,4.8000000000000007,null,4.8000000000000007,49,51,51,51,51,51,51,51,51,51,51,51,51,51,51,51,51,51,51,51,51,51,58,58,58,58,58,58,58,58,58,58,58,58,58,58,58,58,58,58,58,58,58,4.8000000000000007]
[null,null,null,null,null,null,null,null,null,null,null,null,"11C",{"$f":"ROUND('3D Interpolace'!M57,2)","v":35.92},{"$f":"ROUND('3D Interpolace'!N57,2)","v":36},{"$f":"ROUND('3D Interpolace'!O57,2)","v":36.020000000000003},{"$f":"ROUND('3D Interpolace'!P57,2)","v":35.99},{"$f":"ROUND('3D Interpolace'!Q57,2)","v":35.909999999999997},{"$f":"ROUND('3D Interpolace'!R57,2)","v":35.770000000000003},{"$f":"ROUND('3D Interpolace'!S57,2)","v":35.53},{"$f":"ROUND('3D Interpolace'!T57,2)","v":35.18},{"$f":"ROUND('3D Interpolace'!U57,2)","v":34.81},{"$f":"ROUND('3D Interpolace'!V57,2)","v":34.479999999999997},{"$f":"ROUND('3D Interpolace'!W57,2)","v":34.26},{"$f":"ROUND('3D Interpolace'!X57,2)","v":34.159999999999997},{"$f":"ROUND('3D Interpolace'!Y57,2)","v":34.130000000000003},{"$f":"ROUND('3D Interpolace'!Z57,2)","v":34.159999999999997},{"$f":"ROUND('3D Interpolace'!AA57,2)","v":34.24},{"$f":"ROUND('3D Interpolace'!AB57,2)","v":34.35},{"$f":"ROUND('3D Interpolace'!AC57,2)","v":34.5},{"$f":"ROUND('3D Interpolace'!AD57,2)","v":34.68},{"$f":"ROUND('3D Interpolace'!AE57,2)","v":34.909999999999997},{"$f":"ROUND('3D Interpolace'!AF57,2)","v":35.17},{"$f":"ROUND('3D Interpolace'!AG57,2)","v":35.450000000000003},{"$f":"ROUND('3D Interpolace'!AH57,2)","v":35.82},{"$f":"ROUND('3D Interpolace'!AI57,2)","v":36.270000000000003},{"$f":"ROUND('3D Interpolace'!AJ57,2)","v":36.729999999999997},{"$f":"ROUND('3D Interpolace'!AK57,2)","v":37.1},{"$f":"ROUND('3D Interpolace'!AL57,2)","v":37.270000000000003},{"$f":"ROUND('3D Interpolace'!AM57,2)","v":37.21},{"$f":"ROUND('3D Interpolace'!AN57,2)","v":36.97},{"$f":"ROUND('3D Interpolace'!AO57,2)","v":36.64},{"$f":"ROUND('3D Interpolace'!AP57,2)","v":36.28},{"$f":"ROUND('3D Interpolace'!AQ57,2)","v":35.979999999999997},{"$f":"ROUND('3D Interpolace'!AR57,2)","v":35.71},{"$f":"ROUND('3D Interpolace'!AS57,2)","v":35.43},{"$f":"ROUND('3D Interpolace'!AT57,2)","v":35.17},{"$f":"ROUND('3D Interpolace'!AU57,2)","v":34.93},{"$f":"ROUND('3D Interpolace'!AV57,2)","v":34.75},{"$f":"ROUND('3D Interpolace'!AW57,2)","v":34.630000000000003},{"$f":"ROUND('3D Interpolace'!AX57,2)","v":34.54},{"$f":"ROUND('3D Interpolace'!AY57,2)","v":34.49},{"$f":"ROUND('3D Interpolace'!AZ57,2)","v":34.49},{"$f":"ROUND('3D Interpolace'!BA57,2)","v":34.520000000000003},null,5.3,54,4,4,4,4,4,4,4,4,4,4,4,4,4,4,4,4,4,4,4,4,4,4,4,4,4,4,4,4,4,4,4,4,4,4,4,4,4,4,4,4,4,5.3,null,5.3,54,39.92,40,40.020000000000003,39.99,39.909999999999997,39.770000000000003,39.53,39.18,38.81,38.479999999999997,38.26,38.159999999999997,38.130000000000003,38.159999999999997,38.24,38.35,38.5,38.68,38.909999999999997,39.17,39.450000000000003,39.82,40.270000000000003,40.729999999999997,41.1,41.27,41.21,40.97,40.64,40.28,39.979999999999997,39.71,39.43,39.17,38.93,38.75,38.630000000000003,38.54,38.49,38.49,38.520000000000003,5.3,null,4.9000000000000004,50,36.81,36.26,35.799999999999997,35.43,35.14,34.94,34.86,34.92,35.049999999999997,35.17,35.22,35.159999999999997,35.049999999999997,34.92,34.85,34.86,34.97,35.14,35.369999999999997,35.68,36.06,36.06,36.65,37.43,38.229999999999997,38.86,39.159999999999997,39,38.49,37.83,37.19,36.76,36.590000000000003,36.56,36.590000000000003,36.61,36.549999999999997,36.409999999999997,36.229999999999997,36.020000000000003,35.770000000000003,35.49,null,null,null,4.9000000000000004,50,0,0,0,0,0,0,0,0,0,0,0,0,0,0,0,0,0,0,0,0,0,0,0,0,0,0,0,0,0,0,0,0,0,0,0,0,0,0,0,0,0,0,4.9000000000000004,null,null,null,50,37.5,37.5,37.5,37.5,37.5,37.5,37.5,37.5,37.5,37.5,37.5,37.5,37.5,37.5,37.5,37.5,37.5,37.5,37.5,37.5,37.5,36.666666666666671,37.306666666666672,37.946666666666665,38.586666666666666,39.226666666666667,39.866666666666667,40.506666666666668,41.146666666666661,41.786666666666669,42.426666666666669,43.066666666666663,43.706666666666663,44.346666666666664,44.986666666666665,45.626666666666665,46.266666666666666,46.906666666666666,47.546666666666667,48.186666666666667,48.826666666666668,49.466666666666669,4.9000000000000004,null,null,null,null,null,4.9000000000000004,50,0.68999999999999773,1.240000000000002,1.7000000000000028,2.0700000000000003,2.3599999999999994,2.5600000000000023,2.6400000000000006,2.5799999999999983,2.4500000000000028,2.3299999999999983,2.2800000000000011,2.3400000000000034,2.4500000000000028,2.5799999999999983,2.6499999999999986,2.6400000000000006,2.5300000000000011,2.3599999999999994,2.1300000000000026,1.8200000000000003,1.4399999999999977,0.60666666666666913,0.65666666666667339,0.51666666666666572,0.35666666666666913,0.36666666666666714,0.70666666666667055,1.5066666666666677,2.6566666666666592,3.9566666666666706,5.2366666666666717,6.3066666666666649,7.11666666666666,7.7866666666666617,8.3966666666666612,9.0166666666666657,9.7166666666666686,10.49666666666667,11.31666666666667,12.166666666666664,13.056666666666665,13.976666666666667,null,null,null,null,null,null,null,5.3000000000000007,54,1.8853571428571456,1.727857142857145,1.6478571428571449,1.6428571428571459,1.7128571428571462,1.8928571428571459,2.2103571428571467,2.6178571428571455,3.0253571428571462,3.3478571428571477,3.5353571428571477,3.6128571428571465,3.6178571428571455,3.5628571428571458,3.4703571428571447,3.3428571428571452,3.1703571428571458,2.9553571428571459,2.7078571428571454,2.4428571428571448,3.6024999999999938,3.111666666666661,2.5858333333333281,2.0974999999999913,1.7241666666666546,1.5108333333333217,1.4499999999999886,1.4966666666666573,1.6033333333333246,1.727499999999992,1.8616666666666593,2.0358333333333256,2.2399999999999931,2.42916666666666,2.5583333333333265,2.5999999999999925,2.5716666666666601,2.4908333333333257,2.3549999999999898,2.1666666666666554,null,null,5.3000000000000007,54,22.99,22.99,22.99,22.99,22.99,22.99,5.27,5.27,5.27,5.27,5.27,5.27,5.27,5.27,5.27,5.27,5.27,5.27,5.27,5.27,5.27,5.27,5.27,5.27,22.99,22.99,22.99,22.99,22.99,22.99,22.99,5.27,5.27,5.27,5.27,5.27,5.27,5.27,5.27,5.27,null,null,5.3000000000000007,54,21.31,21.31,17.72,17.72,17.72,17.72,0,0,0,3.59,3.59,3.59,3.59,3.59,3.59,3.59,3.59,3.59,3.59,3.59,-17.72,-17.72,-17.72,-17.72,0,0,0,17.72,17.72,17.72,21.31,3.59,3.59,3.59,3.59,3.59,3.59,3.59,3.59,3.59,null,null,5.3,54,0,0,0,0,0,0,0,0,0,0,0,0,0,0,0,0,0,0,0,0,0,0,0,0,0,0,0,0,0,0,0,0,0,0,0,0,0,0,0,0,0,5.3,null,5.3,54,0,0,0,0,0,0,0,0,0,0,0,0,0,0,0,0,0,0,0,0,0,0,0,0,0,0,39.159999999999997,0,0,0,0,0,0,0,0,0,0,0,0,0,0,5.3,null,5.3,54,1,0,0,0,0,0,0,0,0,0,0,0,0,0,0,0,0,0,0,0,1,0,0,0,0,0,0,0,0,0,0,0,0,0,0,0,0,0,0,0,1,5.3,null,5.3,54,39.92,0,0,0,0,0,0,0,0,0,0,0,0,0,0,0,0,0,0,0,39.450000000000003,0,0,0,0,0,0,0,0,0,0,0,0,0,0,0,0,0,0,0,38.520000000000003,5.3,null,4.9000000000000004,50,3,3,3,3,3,3,3,3,3,3,3,3,3,3,3,3,3,3,3,3,3,3,3,3,3,3,3,3,3,3,3,3,3,3,3,3,3,3,3,3,3,3,4.9000000000000004,null,4.9000000000000004,50,0,0,0,0,0,0,0,0,0,0,0,0,0,0,0,0,0,0,0,0,0,0,0,0,0,0,0,0,0,0,0,0,0,0,0,0,0,0,0,0,0,0,4.9000000000000004,null,4.9000000000000004,50,51,51,51,51,51,51,51,51,51,51,51,51,51,51,51,51,51,51,51,51,51,58,58,58,58,58,58,58,58,58,58,58,58,58,58,58,58,58,58,58,58,58,4.9000000000000004]
[null,null,null,null,null,null,null,null,null,null,null,null,"11D",{"$f":"ROUND('3D Interpolace'!M58,2)","v":35.4},{"$f":"ROUND('3D Interpolace'!N58,2)","v":35.71},{"$f":"ROUND('3D Interpolace'!O58,2)","v":35.93},{"$f":"ROUND('3D Interpolace'!P58,2)","v":36.04},{"$f":"ROUND('3D Interpolace'!Q58,2)","v":36.06},{"$f":"ROUND('3D Interpolace'!R58,2)","v":35.979999999999997},{"$f":"ROUND('3D Interpolace'!S58,2)","v":35.72},{"$f":"ROUND('3D Interpolace'!T58,2)","v":35.299999999999997},{"$f":"ROUND('3D Interpolace'!U58,2)","v":34.81},{"$f":"ROUND('3D Interpolace'!V58,2)","v":34.369999999999997},{"$f":"ROUND('3D Interpolace'!W58,2)","v":34.07},{"$f":"ROUND('3D Interpolace'!X58,2)","v":33.94},{"$f":"ROUND('3D Interpolace'!Y58,2)","v":33.89},{"$f":"ROUND('3D Interpolace'!Z58,2)","v":33.92},{"$f":"ROUND('3D Interpolace'!AA58,2)","v":34},{"$f":"ROUND('3D Interpolace'!AB58,2)","v":34.1},{"$f":"ROUND('3D Interpolace'!AC58,2)","v":34.25},{"$f":"ROUND('3D Interpolace'!AD58,2)","v":34.46},{"$f":"ROUND('3D Interpolace'!AE58,2)","v":34.700000000000003},{"$f":"ROUND('3D Interpolace'!AF58,2)","v":34.96},{"$f":"ROUND('3D Interpolace'!AG58,2)","v":35.22},{"$f":"ROUND('3D Interpolace'!AH58,2)","v":35.5},{"$f":"ROUND('3D Interpolace'!AI58,2)","v":35.83},{"$f":"ROUND('3D Interpolace'!AJ58,2)","v":36.159999999999997},{"$f":"ROUND('3D Interpolace'!AK58,2)","v":36.42},{"$f":"ROUND('3D Interpolace'!AL58,2)","v":36.58},{"$f":"ROUND('3D Interpolace'!AM58,2)","v":36.630000000000003},{"$f":"ROUND('3D Interpolace'!AN58,2)","v":36.590000000000003},{"$f":"ROUND('3D Interpolace'!AO58,2)","v":36.479999999999997},{"$f":"ROUND('3D Interpolace'!AP58,2)","v":36.32},{"$f":"ROUND('3D Interpolace'!AQ58,2)","v":36.11},{"$f":"ROUND('3D Interpolace'!AR58,2)","v":35.82},{"$f":"ROUND('3D Interpolace'!AS58,2)","v":35.43},{"$f":"ROUND('3D Interpolace'!AT58,2)","v":35.01},{"$f":"ROUND('3D Interpolace'!AU58,2)","v":34.64},{"$f":"ROUND('3D Interpolace'!AV58,2)","v":34.380000000000003},{"$f":"ROUND('3D Interpolace'!AW58,2)","v":34.24},{"$f":"ROUND('3D Interpolace'!AX58,2)","v":34.17},{"$f":"ROUND('3D Interpolace'!AY58,2)","v":34.17},{"$f":"ROUND('3D Interpolace'!AZ58,2)","v":34.229999999999997},{"$f":"ROUND('3D Interpolace'!BA58,2)","v":34.36},null,5.4,55,null,null,null,null,null,null,null,null,null,null,null,null,null,null,null,null,null,null,null,null,null,null,null,null,null,null,null,null,null,null,null,null,null,null,null,null,null,null,null,null,null,5.4,null,5.4,55,35.4,35.71,35.93,36.04,36.06,35.979999999999997,35.72,35.299999999999997,34.81,34.369999999999997,34.07,33.94,33.89,33.92,34,34.1,34.25,34.46,34.700000000000003,34.96,35.22,35.5,35.83,36.159999999999997,36.42,36.58,36.630000000000003,36.590000000000003,36.479999999999997,36.32,36.11,35.82,35.43,35.01,34.64,34.380000000000003,34.24,34.17,34.17,34.229999999999997,34.36,5.4,null,5,51,37,36.44,35.96,35.56,35.24,35,34.869999999999997,34.86,34.9,34.97,35,34.979999999999997,34.950000000000003,34.93,34.94,35,35.1,35.229999999999997,35.409999999999997,35.659999999999997,36,36,36.57,37.340000000000003,38.14,38.75,39,38.74,38.090000000000003,37.270000000000003,36.5,36,35.82,35.83,35.93,36.020000000000003,36,35.880000000000003,35.72,35.520000000000003,35.28,35,null,null,null,5,51,37,0,0,0,0,35,0,0,0,0,35,0,0,0,0,35,0,0,0,0,36,36,0,0,0,0,39,0,0,0,0,36,0,0,0,0,36,0,0,0,0,35,5,null,null,null,51,37,37,37,37,37,37,37,37,37,37,37,37,37,37,37,37,37,37,37,37,37,36,36.64,37.28,37.92,38.56,39.200000000000003,39.840000000000003,40.479999999999997,41.120000000000005,41.760000000000005,42.4,43.04,43.679999999999993,44.32,44.96,45.6,46.24,46.879999999999995,47.519999999999996,48.16,48.8,5,null,null,null,null,null,5,51,0,0.56000000000000227,1.0399999999999991,1.4399999999999977,1.759999999999998,2,2.1300000000000026,2.1400000000000006,2.1000000000000014,2.0300000000000011,2,2.0200000000000031,2.0499999999999972,2.0700000000000003,2.0600000000000023,2,1.8999999999999986,1.7700000000000031,1.5900000000000034,1.3400000000000034,1,0,7.0000000000000284E-2,-6.0000000000002274E-2,-0.21999999999999886,-0.18999999999999773,0.20000000000000284,1.1000000000000014,2.3899999999999935,3.8500000000000014,5.2600000000000051,6.3999999999999986,7.2199999999999989,7.8499999999999943,8.39,8.9399999999999977,9.6000000000000014,10.36,11.159999999999997,11.999999999999993,12.879999999999995,13.799999999999997,null,null,null,null,null,null,null,5.4,55,3.5410714285714349,3.2185714285714351,3.0060714285714347,2.9035714285714338,2.9085714285714346,3.0635714285714357,3.4035714285714356,3.8710714285714349,4.3535714285714349,4.7385714285714347,4.9610714285714348,5.0535714285714342,5.0660714285714334,5.0160714285714345,4.9285714285714342,4.8060714285714337,4.6335714285714342,4.4185714285714344,4.1810714285714337,3.9385714285714339,4.8649999999999984,4.466666666666665,4.0558333333333323,3.6724999999999959,3.3516666666666595,3.1058333333333259,2.9274999999999913,2.8091666666666608,2.750833333333329,2.757499999999995,2.8591666666666615,3.0833333333333286,3.389999999999997,3.6916666666666647,3.9033333333333307,3.9849999999999959,3.9641666666666637,3.8683333333333323,3.6999999999999957,3.4591666666666594,null,null,5.4,55,5.27,5.27,5.27,5.27,5.27,5.27,5.27,5.27,1.68,1.68,1.68,1.68,1.68,1.68,1.68,1.68,1.68,1.68,1.68,5.27,1.68,1.68,1.68,5.27,5.27,5.27,5.27,5.27,5.27,5.27,5.27,5.27,5.27,5.27,5.27,5.27,5.27,5.27,5.27,5.27,null,null,5.4,55,5.0799999999999992,4.6999999999999993,4.6999999999999993,4.6999999999999993,4.6999999999999993,4.6999999999999993,4.6999999999999993,4.6999999999999993,1.1099999999999999,1.1099999999999999,1.1099999999999999,1.49,1.49,1.49,1.49,1.49,1.49,1.49,1.49,5.0799999999999992,-21.31,-21.31,-21.31,-17.72,-17.72,-17.72,0,0,0,0,5.0799999999999992,5.0799999999999992,5.0799999999999992,5.0799999999999992,5.0799999999999992,5.0799999999999992,5.0799999999999992,5.0799999999999992,5.0799999999999992,5.0799999999999992,null,null,5.4,55,0,0,0,0,0,0,0,0,0,0,0,0,0,0,0,0,0,0,0,0,0,0,0,0,0,0,0,0,0,0,0,0,0,0,0,0,0,0,0,0,0,5.4,null,5.4,55,37,0,0,0,0,0,0,0,0,0,0,0,0,0,0,0,0,0,0,0,0,0,0,0,0,0,0,0,0,0,0,0,0,0,0,0,0,0,0,0,0,5.4,null,5.4,55,1,0,0,0,0,0,0,0,0,0,0,0,0,0,0,0,0,0,0,0,1,0,0,0,0,0,0,0,0,0,0,0,0,0,0,0,0,0,0,0,1,5.4,null,5.4,55,35.4,0,0,0,0,0,0,0,0,0,0,0,0,0,0,0,0,0,0,0,35.22,0,0,0,0,0,0,0,0,0,0,0,0,0,0,0,0,0,0,0,34.36,5.4,null,5,51,{"$f":"YE56","v":3},{"$f":"YF56","v":3},3,3,3,3,3,3,3,3,3,3,3,3,3,3,3,3,3,3,{"$f":"YX57","v":3},3,{"$f":"ZA56","v":3},3,3,3,3,3,3,3,3,3,3,3,3,3,3,3,3,3,3,{"$f":"ZS57","v":3},5,null,5,51,0,0,0,0,0,0,0,0,0,0,0,0,0,0,0,0,0,0,0,0,0,0,0,0,0,0,0,0,0,0,0,0,0,0,0,0,0,0,0,0,0,0,5,null,5,51,{"$f":"ABS56","v":51},{"$f":"ABT56","v":51},51,51,51,51,51,51,51,51,51,51,51,51,51,51,51,51,51,51,{"$f":"ACL57","v":51},58,{"$f":"ACO56","v":58},58,58,58,58,58,58,58,58,58,58,58,58,58,58,58,58,58,58,{"$f":"ADG57","v":58},5]
[null,null,null,null,null,null,null,null,null,null,null,null,"12",{"$f":"ROUND('3D Interpolace'!M59,2)","v":35},{"$f":"ROUND('3D Interpolace'!N59,2)","v":35.44},{"$f":"ROUND('3D Interpolace'!O59,2)","v":35.76},{"$f":"ROUND('3D Interpolace'!P59,2)","v":35.96},{"$f":"ROUND('3D Interpolace'!Q59,2)","v":36.04},{"$f":"ROUND('3D Interpolace'!R59,2)","v":36},{"$f":"ROUND('3D Interpolace'!S59,2)","v":35.76},{"$f":"ROUND('3D Interpolace'!T59,2)","v":35.32},{"$f":"ROUND('3D Interpolace'!U59,2)","v":34.799999999999997},{"$f":"ROUND('3D Interpolace'!V59,2)","v":34.32},{"$f":"ROUND('3D Interpolace'!W59,2)","v":34},{"$f":"ROUND('3D Interpolace'!X59,2)","v":33.86},{"$f":"ROUND('3D Interpolace'!Y59,2)","v":33.81},{"$f":"ROUND('3D Interpolace'!Z59,2)","v":33.83},{"$f":"ROUND('3D Interpolace'!AA59,2)","v":33.9},{"$f":"ROUND('3D Interpolace'!AB59,2)","v":34},{"$f":"ROUND('3D Interpolace'!AC59,2)","v":34.14},{"$f":"ROUND('3D Interpolace'!AD59,2)","v":34.33},{"$f":"ROUND('3D Interpolace'!AE59,2)","v":34.549999999999997},{"$f":"ROUND('3D Interpolace'!AF59,2)","v":34.78},{"$f":"ROUND('3D Interpolace'!AG59,2)","v":35},{"$f":"ROUND('3D Interpolace'!AH59,2)","v":35.22},{"$f":"ROUND('3D Interpolace'!AI59,2)","v":35.450000000000003},{"$f":"ROUND('3D Interpolace'!AJ59,2)","v":35.67},{"$f":"ROUND('3D Interpolace'!AK59,2)","v":35.86},{"$f":"ROUND('3D Interpolace'!AL59,2)","v":36},{"$f":"ROUND('3D Interpolace'!AM59,2)","v":36.1},{"$f":"ROUND('3D Interpolace'!AN59,2)","v":36.17},{"$f":"ROUND('3D Interpolace'!AO59,2)","v":36.19},{"$f":"ROUND('3D Interpolace'!AP59,2)","v":36.14},{"$f":"ROUND('3D Interpolace'!AQ59,2)","v":36},{"$f":"ROUND('3D Interpolace'!AR59,2)","v":35.700000000000003},{"$f":"ROUND('3D Interpolace'!AS59,2)","v":35.25},{"$f":"ROUND('3D Interpolace'!AT59,2)","v":34.75},{"$f":"ROUND('3D Interpolace'!AU59,2)","v":34.299999999999997},{"$f":"ROUND('3D Interpolace'!AV59,2)","v":34},{"$f":"ROUND('3D Interpolace'!AW59,2)","v":33.840000000000003},{"$f":"ROUND('3D Interpolace'!AX59,2)","v":33.76},{"$f":"ROUND('3D Interpolace'!AY59,2)","v":33.76},{"$f":"ROUND('3D Interpolace'!AZ59,2)","v":33.840000000000003},{"$f":"ROUND('3D Interpolace'!BA59,2)","v":34},null,5.5,56,null,null,null,null,null,null,null,null,null,null,null,null,null,null,null,null,null,null,null,null,null,null,null,null,null,null,null,null,null,null,null,null,null,null,null,null,null,null,null,null,null,5.5,null,5.5,56,35,35.44,35.76,35.96,36.04,36,35.76,35.32,34.799999999999997,34.32,34,33.86,33.81,33.83,33.9,34,34.14,34.33,34.549999999999997,34.78,35,35.22,35.450000000000003,35.67,35.86,36,36.1,36.17,36.19,36.14,36,35.700000000000003,35.25,34.75,34.299999999999997,34,33.840000000000003,33.76,33.76,33.840000000000003,34,5.5,null,5,51,37,36.44,35.96,35.56,35.24,35,34.869999999999997,34.86,34.9,34.97,35,34.979999999999997,34.950000000000003,34.93,34.94,35,35.1,35.229999999999997,35.409999999999997,35.659999999999997,36,36,36.57,37.340000000000003,38.14,38.75,39,38.74,38.090000000000003,37.270000000000003,36.5,36,35.82,35.83,35.93,36.020000000000003,36,35.880000000000003,35.72,35.520000000000003,35.28,35,null,null,null,5,51,37,0,0,0,0,35,0,0,0,0,35,0,0,0,0,35,0,0,0,0,36,36,0,0,0,0,39,0,0,0,0,36,0,0,0,0,36,0,0,0,0,35,5,null,null,null,51,42.142857142857146,42.142857142857146,42.142857142857146,42.142857142857146,42.142857142857146,42.142857142857146,42.142857142857146,42.142857142857146,42.142857142857146,42.142857142857146,42.142857142857146,42.142857142857146,42.142857142857146,42.142857142857146,42.142857142857146,42.142857142857146,42.142857142857146,42.142857142857146,42.142857142857146,42.142857142857146,42.142857142857146,44.666666666666664,44.533333333333331,44.4,44.266666666666666,44.133333333333326,43.999999999999993,43.86666666666666,43.733333333333327,43.599999999999994,43.466666666666661,43.333333333333329,43.199999999999996,43.066666666666663,42.93333333333333,42.8,42.666666666666664,42.533333333333331,42.4,42.266666666666666,42.133333333333326,41.999999999999993,5,null,null,null,null,null,5,51,5.1428571428571459,5.7028571428571482,6.182857142857145,6.5828571428571436,6.9028571428571439,7.1428571428571459,7.2728571428571485,7.2828571428571465,7.2428571428571473,7.172857142857147,7.1428571428571459,7.162857142857149,7.1928571428571431,7.2128571428571462,7.2028571428571482,7.1428571428571459,7.0428571428571445,6.912857142857149,6.7328571428571493,6.4828571428571493,6.1428571428571459,8.6666666666666643,7.9633333333333312,7.0599999999999952,6.1266666666666652,5.3833333333333258,4.9999999999999929,5.126666666666658,5.6433333333333238,6.3299999999999912,6.9666666666666615,7.3333333333333286,7.3799999999999955,7.2366666666666646,7.0033333333333303,6.779999999999994,6.6666666666666643,6.6533333333333289,6.68,6.7466666666666626,6.8533333333333246,6.9999999999999929,null,null,null,null,null,null,null,5.5,56,3.1292857142857162,2.7392857142857157,2.4692857142857143,2.3167857142857144,2.2817857142857143,2.4042857142857148,2.7242857142857151,3.1817857142857147,3.6592857142857156,4.0417857142857159,4.2617857142857165,4.3517857142857164,4.3617857142857162,4.3167857142857162,4.2392857142857157,4.1342857142857152,3.9892857142857157,3.8067857142857164,3.6067857142857154,3.4092857142857156,4.1049999999999951,3.7791666666666615,3.453333333333326,3.1424999999999894,2.8666666666666547,2.6233333333333224,2.3999999999999897,2.2041666666666568,2.065833333333325,2.0149999999999917,2.0966666666666569,2.338333333333324,2.6824999999999921,3.0291666666666597,3.2783333333333271,3.3849999999999927,3.3841666666666601,3.305833333333327,3.1499999999999897,2.9166666666666554,null,null,5.5,56,5.27,5.27,5.27,5.27,5.27,5.27,5.27,5.27,5.27,1.68,1.68,1.68,1.68,1.68,1.68,1.68,5.27,5.27,5.27,5.27,1.68,5.27,5.27,5.27,5.27,5.27,5.27,5.27,5.27,5.27,5.27,5.27,5.27,5.27,5.27,5.27,5.27,5.27,5.27,5.27,null,null,5.5,56,-17.72,-17.72,-17.72,-17.72,-17.72,-17.72,-17.72,-17.72,-17.72,-3.59,-21.31,-21.31,-21.31,-21.31,-21.31,-21.31,-17.72,-17.72,-17.72,-17.72,-21.31,-17.72,-17.72,-17.72,-17.72,-17.72,-17.72,-17.72,-17.72,-17.72,-17.72,-17.72,-17.72,-17.72,-17.72,-17.72,-17.72,-17.72,-17.72,-17.72,null,null,5.5,56,0,0,0,0,0,0,0,0,0,0,0,0,0,0,0,0,0,0,0,0,0,0,0,0,0,0,0,0,0,0,0,0,0,0,0,0,0,0,0,0,0,5.5,null,5.5,56,37,0,0,0,0,0,0,0,0,0,35,0,0,0,0,0,0,0,0,0,36,0,0,0,0,0,39,0,0,0,0,0,0,0,0,36.020000000000003,0,0,0,0,0,5.5,null,5.5,56,1,0,0,0,0,0,0,0,0,0,0,0,0,0,0,0,0,0,0,0,1,0,0,0,0,0,0,0,0,0,0,0,0,0,0,0,0,0,0,0,1,5.5,null,5.5,56,35,0,0,0,0,0,0,0,0,0,0,0,0,0,0,0,0,0,0,0,35,0,0,0,0,0,0,0,0,0,0,0,0,0,0,0,0,0,0,0,34,5.5,null,5,51,{"$f":"COUNTIF(RG53:SA63,\">0\")","v":4},{"$f":"YE58","v":4},{"$f":"YF58","v":4},4,4,4,4,4,4,4,4,4,4,4,4,4,4,4,4,4,{"$f":"YX58","v":4},{"$f":"COUNTIF(SA53:SU63,\">0\")","v":1},{"$f":"YZ58","v":1},{"$f":"ZA58","v":1},1,1,1,1,1,1,1,1,1,1,1,1,1,1,1,1,1,{"$f":"ZS58","v":1},5,null,5,51,0,0,0,0,0,0,0,0,0,0,0,0,0,0,0,0,0,0,0,0,0,0,0,0,0,0,0,0,0,0,0,0,0,0,0,0,0,0,0,0,0,0,5,null,5,51,{"$f":"COUNTIF(UU53:VO63,\">0\")","v":51},{"$f":"ABS58","v":51},{"$f":"ABT58","v":51},51,51,51,51,51,51,51,51,51,51,51,51,51,51,51,51,51,{"$f":"ACL58","v":51},{"$f":"COUNTIF(VO53:WI63,\">0\")","v":58},{"$f":"ACN58","v":58},{"$f":"ACO58","v":58},58,58,58,58,58,58,58,58,58,58,58,58,58,58,58,58,58,{"$f":"ADG58","v":58},5]
[null,null,null,null,null,null,null,null,null,null,null,null,"12A",{"$f":"ROUND('3D Interpolace'!M60,2)","v":34.72},{"$f":"ROUND('3D Interpolace'!N60,2)","v":35.18},{"$f":"ROUND('3D Interpolace'!O60,2)","v":35.520000000000003},{"$f":"ROUND('3D Interpolace'!P60,2)","v":35.74},{"$f":"ROUND('3D Interpolace'!Q60,2)","v":35.85},{"$f":"ROUND('3D Interpolace'!R60,2)","v":35.840000000000003},{"$f":"ROUND('3D Interpolace'!S60,2)","v":35.64},{"$f":"ROUND('3D Interpolace'!T60,2)","v":35.24},{"$f":"ROUND('3D Interpolace'!U60,2)","v":34.770000000000003},{"$f":"ROUND('3D Interpolace'!V60,2)","v":34.33},{"$f":"ROUND('3D Interpolace'!W60,2)","v":34.04},{"$f":"ROUND('3D Interpolace'!X60,2)","v":33.909999999999997},{"$f":"ROUND('3D Interpolace'!Y60,2)","v":33.869999999999997},{"$f":"ROUND('3D Interpolace'!Z60,2)","v":33.9},{"$f":"ROUND('3D Interpolace'!AA60,2)","v":33.96},{"$f":"ROUND('3D Interpolace'!AB60,2)","v":34.04},{"$f":"ROUND('3D Interpolace'!AC60,2)","v":34.14},{"$f":"ROUND('3D Interpolace'!AD60,2)","v":34.29},{"$f":"ROUND('3D Interpolace'!AE60,2)","v":34.46},{"$f":"ROUND('3D Interpolace'!AF60,2)","v":34.64},{"$f":"ROUND('3D Interpolace'!AG60,2)","v":34.799999999999997},{"$f":"ROUND('3D Interpolace'!AH60,2)","v":34.96},{"$f":"ROUND('3D Interpolace'!AI60,2)","v":35.119999999999997},{"$f":"ROUND('3D Interpolace'!AJ60,2)","v":35.28},{"$f":"ROUND('3D Interpolace'!AK60,2)","v":35.42},{"$f":"ROUND('3D Interpolace'!AL60,2)","v":35.520000000000003},{"$f":"ROUND('3D Interpolace'!AM60,2)","v":35.619999999999997},{"$f":"ROUND('3D Interpolace'!AN60,2)","v":35.71},{"$f":"ROUND('3D Interpolace'!AO60,2)","v":35.78},{"$f":"ROUND('3D Interpolace'!AP60,2)","v":35.76},{"$f":"ROUND('3D Interpolace'!AQ60,2)","v":35.64},{"$f":"ROUND('3D Interpolace'!AR60,2)","v":35.340000000000003},{"$f":"ROUND('3D Interpolace'!AS60,2)","v":34.89},{"$f":"ROUND('3D Interpolace'!AT60,2)","v":34.380000000000003},{"$f":"ROUND('3D Interpolace'!AU60,2)","v":33.92},{"$f":"ROUND('3D Interpolace'!AV60,2)","v":33.6},{"$f":"ROUND('3D Interpolace'!AW60,2)","v":33.42},{"$f":"ROUND('3D Interpolace'!AX60,2)","v":33.31},{"$f":"ROUND('3D Interpolace'!AY60,2)","v":33.28},{"$f":"ROUND('3D Interpolace'!AZ60,2)","v":33.32},{"$f":"ROUND('3D Interpolace'!BA60,2)","v":33.44},null,5.6,57,null,null,null,null,null,null,null,null,null,null,null,null,null,null,null,null,null,null,null,null,null,null,null,null,null,null,null,null,null,null,null,null,null,null,null,null,null,null,null,null,null,5.6,null,5.6,57,34.72,35.18,35.520000000000003,35.74,35.85,35.840000000000003,35.64,35.24,34.770000000000003,34.33,34.04,33.909999999999997,33.869999999999997,33.9,33.96,34.04,34.14,34.29,34.46,34.64,34.799999999999997,34.96,35.119999999999997,35.28,35.42,35.520000000000003,35.619999999999997,35.71,35.78,35.76,35.64,35.340000000000003,34.89,34.380000000000003,33.92,33.6,33.42,33.31,33.28,33.32,33.44,5.6,null,5.1000000000000005,52,36.840000000000003,36.409999999999997,36.03,35.700000000000003,35.42,35.18,35.01,34.9,34.840000000000003,34.799999999999997,34.770000000000003,34.75,34.74,34.76,34.81,34.9,35.01,35.14,35.31,35.549999999999997,35.86,35.86,36.380000000000003,37.090000000000003,37.81,38.36,38.58,38.32,37.71,36.94,36.22,35.729999999999997,35.53,35.49,35.53,35.57,35.54,35.42,35.28,35.119999999999997,34.93,34.72,null,null,null,5.1000000000000005,52,0,0,0,0,0,0,0,0,0,0,0,0,0,0,0,0,0,0,0,0,0,0,0,0,0,0,0,0,0,0,0,0,0,0,0,0,0,0,0,0,0,0,5.1000000000000005,null,null,null,52,41.428571428571431,41.428571428571431,41.428571428571431,41.428571428571431,41.428571428571431,41.428571428571431,41.428571428571431,41.428571428571431,41.428571428571431,41.428571428571431,41.428571428571431,41.428571428571431,41.428571428571431,41.428571428571431,41.428571428571431,41.428571428571431,41.428571428571431,41.428571428571431,41.428571428571431,41.428571428571431,41.428571428571431,43.666666666666657,43.533333333333324,43.399999999999991,43.266666666666652,43.133333333333319,42.999999999999986,42.866666666666653,42.73333333333332,42.599999999999987,42.466666666666654,42.333333333333321,42.199999999999989,42.066666666666656,41.933333333333323,41.79999999999999,41.666666666666657,41.533333333333324,41.399999999999991,41.266666666666652,41.133333333333319,40.999999999999986,5.1000000000000005,null,null,null,null,null,5.1000000000000005,52,4.5885714285714272,5.018571428571434,5.3985714285714295,5.7285714285714278,6.0085714285714289,6.2485714285714309,6.4185714285714326,6.528571428571432,6.5885714285714272,6.6285714285714334,6.6585714285714275,6.6785714285714306,6.6885714285714286,6.6685714285714326,6.6185714285714283,6.528571428571432,6.4185714285714326,6.28857142857143,6.1185714285714283,5.8785714285714334,5.5685714285714312,7.8066666666666578,7.1533333333333218,6.3099999999999881,5.4566666666666492,4.7733333333333192,4.4199999999999875,4.5466666666666526,5.0233333333333192,5.6599999999999895,6.2466666666666555,6.6033333333333246,6.6699999999999875,6.5766666666666538,6.4033333333333218,6.2299999999999898,6.126666666666658,6.1133333333333226,6.1199999999999903,6.1466666666666541,6.2033333333333189,6.2799999999999869,null,null,null,null,null,null,null,5.6000000000000005,57,2.682500000000001,2.2999999999999989,2.0249999999999986,1.8599999999999994,1.8024999999999984,1.884999999999998,2.1474999999999991,2.5349999999999984,2.942499999999999,3.2700000000000014,3.4575000000000014,3.5300000000000011,3.5325000000000006,3.4924999999999997,3.432500000000001,3.3600000000000012,3.2625000000000011,3.1375000000000011,3,2.8650000000000002,3.3349999999999937,3.0691666666666606,2.8033333333333275,2.544999999999991,2.3091666666666555,2.0908333333333236,1.8699999999999903,1.6616666666666564,1.5058333333333245,1.4399999999999924,1.5141666666666591,1.7458333333333247,2.0774999999999917,2.416666666666659,2.6708333333333254,2.7974999999999923,2.8266666666666591,2.7883333333333251,2.6799999999999908,2.5041666666666575,null,null,5.6000000000000005,57,5.27,5.27,5.27,22.99,22.99,22.99,5.27,5.27,5.27,5.27,5.27,5.27,5.27,5.27,5.27,5.27,5.27,5.27,5.27,5.27,5.27,5.27,5.27,5.27,5.27,5.27,22.99,22.99,22.99,22.99,22.99,22.99,5.27,5.27,5.27,5.27,5.27,5.27,5.27,5.27,null,null,5.6000000000000005,57,-17.72,-17.72,-17.72,0,0,0,-17.72,-17.72,-17.72,-17.72,-17.72,-17.72,-17.72,-17.72,-17.72,-17.72,-17.72,-17.72,-17.72,-17.72,-17.72,-17.72,-17.72,-17.72,-17.72,-17.72,0,0,0,0,0,0,-17.72,-17.72,-17.72,-17.72,-17.72,-17.72,-17.72,-17.72,null,null,5.6,57,0,0,0,0,0,0,0,0,0,0,0,0,0,0,0,0,0,0,0,0,0,0,0,0,0,0,0,0,0,0,0,0,0,0,0,0,0,0,0,0,0,5.6,null,5.6,57,0,0,0,0,0,0,0,0,0,0,0,0,0,0,0,0,0,0,0,0,0,0,0,0,0,0,0,0,0,0,0,0,0,0,0,0,0,0,0,0,0,5.6,null,5.6,57,1,0,0,0,0,0,0,0,0,0,0,0,0,0,0,0,0,0,0,0,1,0,0,0,0,0,0,0,0,0,0,0,0,0,0,0,0,0,0,0,1,5.6,null,5.6,57,34.72,0,0,0,0,0,0,0,0,0,0,0,0,0,0,0,0,0,0,0,34.799999999999997,0,0,0,0,0,0,0,0,0,0,0,0,0,0,0,0,0,0,0,33.44,5.6,null,5.1000000000000005,52,{"$f":"YE58","v":4},{"$f":"YF58","v":4},{"$f":"YG58","v":4},{"$f":"YH58","v":4},{"$f":"YI58","v":4},{"$f":"YJ58","v":4},{"$f":"YK58","v":4},{"$f":"YL58","v":4},{"$f":"YM58","v":4},{"$f":"YN58","v":4},{"$f":"YO58","v":4},{"$f":"YP58","v":4},{"$f":"YQ58","v":4},{"$f":"YR58","v":4},{"$f":"YS58","v":4},{"$f":"YT58","v":4},{"$f":"YU58","v":4},{"$f":"YV58","v":4},{"$f":"YW58","v":4},{"$f":"YX58","v":4},{"$f":"YX59","v":4},{"$f":"ZA59","v":1},{"$f":"ZA58","v":1},{"$f":"ZB58","v":1},{"$f":"ZC58","v":1},{"$f":"ZD58","v":1},{"$f":"ZE58","v":1},{"$f":"ZF58","v":1},{"$f":"ZG58","v":1},{"$f":"ZH58","v":1},{"$f":"ZI58","v":1},{"$f":"ZJ58","v":1},{"$f":"ZK58","v":1},{"$f":"ZL58","v":1},{"$f":"ZM58","v":1},{"$f":"ZN58","v":1},{"$f":"ZO58","v":1},{"$f":"ZP58","v":1},{"$f":"ZQ58","v":1},{"$f":"ZR58","v":1},{"$f":"ZS58","v":1},{"$f":"ZS59","v":1},5.1000000000000005,null,5.1000000000000005,52,0,0,0,0,0,0,0,0,0,0,0,0,0,0,0,0,0,0,0,0,0,0,0,0,0,0,0,0,0,0,0,0,0,0,0,0,0,0,0,0,0,0,5.1000000000000005,null,5.1000000000000005,52,{"$f":"ABS58","v":51},{"$f":"ABT58","v":51},{"$f":"ABU58","v":51},{"$f":"ABV58","v":51},{"$f":"ABW58","v":51},{"$f":"ABX58","v":51},{"$f":"ABY58","v":51},{"$f":"ABZ58","v":51},{"$f":"ACA58","v":51},{"$f":"ACB58","v":51},{"$f":"ACC58","v":51},{"$f":"ACD58","v":51},{"$f":"ACE58","v":51},{"$f":"ACF58","v":51},{"$f":"ACG58","v":51},{"$f":"ACH58","v":51},{"$f":"ACI58","v":51},{"$f":"ACJ58","v":51},{"$f":"ACK58","v":51},{"$f":"ACL58","v":51},{"$f":"ACL59","v":51},{"$f":"ACO59","v":58},{"$f":"ACO58","v":58},{"$f":"ACP58","v":58},{"$f":"ACQ58","v":58},{"$f":"ACR58","v":58},{"$f":"ACS58","v":58},{"$f":"ACT58","v":58},{"$f":"ACU58","v":58},{"$f":"ACV58","v":58},{"$f":"ACW58","v":58},{"$f":"ACX58","v":58},{"$f":"ACY58","v":58},{"$f":"ACZ58","v":58},{"$f":"ADA58","v":58},{"$f":"ADB58","v":58},{"$f":"ADC58","v":58},{"$f":"ADD58","v":58},{"$f":"ADE58","v":58},{"$f":"ADF58","v":58},{"$f":"ADG58","v":58},{"$f":"ADG59","v":58},5.1000000000000005]
[null,null,null,null,null,null,null,null,null,null,null,null,"12B",{"$f":"ROUND('3D Interpolace'!M61,2)","v":34.479999999999997},{"$f":"ROUND('3D Interpolace'!N61,2)","v":34.89},{"$f":"ROUND('3D Interpolace'!O61,2)","v":35.21},{"$f":"ROUND('3D Interpolace'!P61,2)","v":35.43},{"$f":"ROUND('3D Interpolace'!Q61,2)","v":35.54},{"$f":"ROUND('3D Interpolace'!R61,2)","v":35.56},{"$f":"ROUND('3D Interpolace'!S61,2)","v":35.42},{"$f":"ROUND('3D Interpolace'!T61,2)","v":35.11},{"$f":"ROUND('3D Interpolace'!U61,2)","v":34.74},{"$f":"ROUND('3D Interpolace'!V61,2)","v":34.39},{"$f":"ROUND('3D Interpolace'!W61,2)","v":34.159999999999997},{"$f":"ROUND('3D Interpolace'!X61,2)","v":34.06},{"$f":"ROUND('3D Interpolace'!Y61,2)","v":34.04},{"$f":"ROUND('3D Interpolace'!Z61,2)","v":34.06},{"$f":"ROUND('3D Interpolace'!AA61,2)","v":34.11},{"$f":"ROUND('3D Interpolace'!AB61,2)","v":34.159999999999997},{"$f":"ROUND('3D Interpolace'!AC61,2)","v":34.22},{"$f":"ROUND('3D Interpolace'!AD61,2)","v":34.299999999999997},{"$f":"ROUND('3D Interpolace'!AE61,2)","v":34.4},{"$f":"ROUND('3D Interpolace'!AF61,2)","v":34.5},{"$f":"ROUND('3D Interpolace'!AG61,2)","v":34.6},{"$f":"ROUND('3D Interpolace'!AH61,2)","v":34.700000000000003},{"$f":"ROUND('3D Interpolace'!AI61,2)","v":34.81},{"$f":"ROUND('3D Interpolace'!AJ61,2)","v":34.909999999999997},{"$f":"ROUND('3D Interpolace'!AK61,2)","v":35.01},{"$f":"ROUND('3D Interpolace'!AL61,2)","v":35.08},{"$f":"ROUND('3D Interpolace'!AM61,2)","v":35.15},{"$f":"ROUND('3D Interpolace'!AN61,2)","v":35.24},{"$f":"ROUND('3D Interpolace'!AO61,2)","v":35.29},{"$f":"ROUND('3D Interpolace'!AP61,2)","v":35.28},{"$f":"ROUND('3D Interpolace'!AQ61,2)","v":35.159999999999997},{"$f":"ROUND('3D Interpolace'!AR61,2)","v":34.869999999999997},{"$f":"ROUND('3D Interpolace'!AS61,2)","v":34.450000000000003},{"$f":"ROUND('3D Interpolace'!AT61,2)","v":33.97},{"$f":"ROUND('3D Interpolace'!AU61,2)","v":33.53},{"$f":"ROUND('3D Interpolace'!AV61,2)","v":33.200000000000003},{"$f":"ROUND('3D Interpolace'!AW61,2)","v":32.99},{"$f":"ROUND('3D Interpolace'!AX61,2)","v":32.840000000000003},{"$f":"ROUND('3D Interpolace'!AY61,2)","v":32.75},{"$f":"ROUND('3D Interpolace'!AZ61,2)","v":32.729999999999997},{"$f":"ROUND('3D Interpolace'!BA61,2)","v":32.76},null,5.7,58,null,null,null,null,null,null,null,null,null,null,null,null,null,null,null,null,null,null,null,null,null,null,null,null,null,null,null,null,null,null,null,null,null,null,null,null,null,null,null,null,null,5.7,null,5.7,58,34.479999999999997,34.89,35.21,35.43,35.54,35.56,35.42,35.11,34.74,34.39,34.159999999999997,34.06,34.04,34.06,34.11,34.159999999999997,34.22,34.299999999999997,34.4,34.5,34.6,34.700000000000003,34.81,34.909999999999997,35.01,35.08,35.15,35.24,35.29,35.28,35.159999999999997,34.869999999999997,34.450000000000003,33.97,33.53,33.200000000000003,32.99,32.840000000000003,32.75,32.729999999999997,32.76,5.7,null,5.2,53,40.44,40.25,40.049999999999997,39.86,39.67,39.47,39.26,39.03,38.81,38.630000000000003,38.5,38.450000000000003,38.44,38.47,38.549999999999997,38.65,38.78,38.93,39.130000000000003,39.369999999999997,39.67,39.67,40.119999999999997,40.71,41.31,41.78,41.97,41.79,41.34,40.76,40.19,39.78,39.549999999999997,39.409999999999997,39.31,39.229999999999997,39.130000000000003,39.01,38.9,38.799999999999997,38.700000000000003,38.6,null,null,null,5.2,53,40.44,0,0,0,0,39.47,0,0,0,0,38.5,0,0,0,0,38.65,0,0,0,0,39.67,39.67,0,0,0,0,41.97,0,0,0,0,39.78,0,0,0,0,39.130000000000003,0,0,0,0,38.6,5.2,null,null,null,53,40.714285714285722,40.714285714285722,40.714285714285722,40.714285714285722,40.714285714285722,40.714285714285722,40.714285714285722,40.714285714285722,40.714285714285722,40.714285714285722,40.714285714285722,40.714285714285722,40.714285714285722,40.714285714285722,40.714285714285722,40.714285714285722,40.714285714285722,40.714285714285722,40.714285714285722,40.714285714285722,40.714285714285722,42.666666666666664,42.533333333333331,42.4,42.266666666666666,42.133333333333326,41.999999999999993,41.86666666666666,41.733333333333327,41.599999999999994,41.466666666666661,41.333333333333329,41.199999999999996,41.066666666666663,40.93333333333333,40.799999999999997,40.666666666666664,40.533333333333331,40.4,40.266666666666666,40.133333333333326,39.999999999999993,5.2,null,null,null,null,null,5.2,53,0.27428571428572468,0.46428571428572241,0.66428571428572525,0.85428571428572297,1.0442857142857207,1.2442857142857235,1.4542857142857244,1.6842857142857213,1.9042857142857201,2.0842857142857198,2.2142857142857224,2.2642857142857196,2.2742857142857247,2.2442857142857235,2.1642857142857252,2.0642857142857238,1.9342857142857213,1.7842857142857227,1.5842857142857198,1.344285714285725,1.0442857142857207,2.9966666666666626,2.413333333333334,1.6899999999999977,0.95666666666666345,0.35333333333332462,2.9999999999994031E-2,7.6666666666660888E-2,0.39333333333332376,0.83999999999999631,1.2766666666666637,1.5533333333333275,1.6499999999999986,1.6566666666666663,1.6233333333333277,1.5700000000000003,1.5366666666666617,1.5233333333333334,1.5,1.4666666666666686,1.4333333333333229,1.3999999999999915,null,null,null,null,null,null,null,5.7,58,2.2257142857142878,1.9057142857142875,1.665714285714289,1.5107142857142897,1.4407142857142894,1.4782142857142873,1.6507142857142867,1.9182142857142868,2.2032142857142869,2.4332142857142891,2.5632142857142881,2.608214285714288,2.6057142857142885,2.5782142857142869,2.5432142857142885,2.5107142857142897,2.4757142857142895,2.4307142857142896,2.3757142857142881,2.3157142857142876,2.5624999999999929,2.34916666666666,2.1283333333333267,1.9099999999999913,1.7116666666666571,1.5283333333333236,1.3399999999999892,1.1616666666666564,1.0283333333333236,0.97499999999999076,1.0441666666666602,1.2458333333333265,1.5324999999999918,1.8316666666666599,2.0708333333333275,2.2124999999999932,2.2816666666666592,2.3008333333333262,2.2699999999999925,2.1916666666666575,null,null,5.7,58,5.27,22.99,22.99,22.99,22.99,22.99,22.99,22.99,5.27,5.27,5.27,5.27,5.27,5.27,5.27,5.27,5.27,5.27,5.27,5.27,5.27,5.27,5.27,22.99,22.99,22.99,22.99,22.99,22.99,22.99,22.99,22.99,22.99,22.99,5.27,5.27,5.27,5.27,5.27,5.27,null,null,5.7,58,-17.72,0,0,0,0,0,0,0,-17.72,-17.72,-17.72,-17.72,-17.72,-17.72,-17.72,-17.72,-17.72,-17.72,-17.72,-17.72,-17.72,-17.72,-17.72,0,0,0,0,0,0,0,0,0,0,0,-17.72,-17.72,-17.72,-17.72,-17.72,-17.72,null,null,5.7,58,0,0,0,0,0,0,0,0,0,0,0,0,0,0,0,0,0,0,0,0,0,0,0,0,0,0,0,0,0,0,0,0,0,0,0,0,0,0,0,0,0,5.7,null,5.7,58,40.44,0,0,0,0,0,0,0,0,0,0,0,0,0,0,0,0,0,0,0,39.67,0,0,0,0,0,41.97,0,0,0,0,0,0,0,0,0,0,0,0,0,0,5.7,null,5.7,58,1,0,0,0,0,0,0,0,0,0,0,0,0,0,0,0,0,0,0,0,1,0,0,0,0,0,0,0,0,0,0,0,0,0,0,0,0,0,0,0,1,5.7,null,5.7,58,34.479999999999997,0,0,0,0,0,0,0,0,0,0,0,0,0,0,0,0,0,0,0,34.6,0,0,0,0,0,0,0,0,0,0,0,0,0,0,0,0,0,0,0,32.76,5.7,null,5.2,53,{"$f":"YE59","v":4},{"$f":"YF59","v":4},4,4,4,4,4,4,4,4,4,4,4,4,4,4,4,4,4,4,{"$f":"YX60","v":4},1,{"$f":"ZA59","v":1},1,1,1,1,1,1,1,1,1,1,1,1,1,1,1,1,1,1,{"$f":"ZS60","v":1},5.2,null,5.2,53,4,4,4,4,4,4,4,4,4,4,4,4,4,4,4,4,4,4,4,4,4,4,4,4,4,4,4,4,4,4,4,4,4,4,4,4,4,4,4,4,4,4,5.2,null,5.2,53,{"$f":"ABS59","v":51},{"$f":"ABT59","v":51},51,51,51,51,51,51,51,51,51,51,51,51,51,51,51,51,51,51,{"$f":"ACL60","v":51},58,{"$f":"ACO59","v":58},58,58,58,58,58,58,58,58,58,58,58,58,58,58,58,58,58,58,{"$f":"ADG60","v":58},5.2]
[null,null,null,null,null,null,null,null,null,null,null,null,"12C",{"$f":"ROUND('3D Interpolace'!M62,2)","v":34.28},{"$f":"ROUND('3D Interpolace'!N62,2)","v":34.590000000000003},{"$f":"ROUND('3D Interpolace'!O62,2)","v":34.83},{"$f":"ROUND('3D Interpolace'!P62,2)","v":35.01},{"$f":"ROUND('3D Interpolace'!Q62,2)","v":35.119999999999997},{"$f":"ROUND('3D Interpolace'!R62,2)","v":35.159999999999997},{"$f":"ROUND('3D Interpolace'!S62,2)","v":35.090000000000003},{"$f":"ROUND('3D Interpolace'!T62,2)","v":34.92},{"$f":"ROUND('3D Interpolace'!U62,2)","v":34.700000000000003},{"$f":"ROUND('3D Interpolace'!V62,2)","v":34.5},{"$f":"ROUND('3D Interpolace'!W62,2)","v":34.36},{"$f":"ROUND('3D Interpolace'!X62,2)","v":34.31},{"$f":"ROUND('3D Interpolace'!Y62,2)","v":34.299999999999997},{"$f":"ROUND('3D Interpolace'!Z62,2)","v":34.32},{"$f":"ROUND('3D Interpolace'!AA62,2)","v":34.340000000000003},{"$f":"ROUND('3D Interpolace'!AB62,2)","v":34.36},{"$f":"ROUND('3D Interpolace'!AC62,2)","v":34.36},{"$f":"ROUND('3D Interpolace'!AD62,2)","v":34.36},{"$f":"ROUND('3D Interpolace'!AE62,2)","v":34.36},{"$f":"ROUND('3D Interpolace'!AF62,2)","v":34.380000000000003},{"$f":"ROUND('3D Interpolace'!AG62,2)","v":34.4},{"$f":"ROUND('3D Interpolace'!AH62,2)","v":34.450000000000003},{"$f":"ROUND('3D Interpolace'!AI62,2)","v":34.51},{"$f":"ROUND('3D Interpolace'!AJ62,2)","v":34.590000000000003},{"$f":"ROUND('3D Interpolace'!AK62,2)","v":34.65},{"$f":"ROUND('3D Interpolace'!AL62,2)","v":34.68},{"$f":"ROUND('3D Interpolace'!AM62,2)","v":34.71},{"$f":"ROUND('3D Interpolace'!AN62,2)","v":34.74},{"$f":"ROUND('3D Interpolace'!AO62,2)","v":34.75},{"$f":"ROUND('3D Interpolace'!AP62,2)","v":34.700000000000003},{"$f":"ROUND('3D Interpolace'!AQ62,2)","v":34.56},{"$f":"ROUND('3D Interpolace'!AR62,2)","v":34.299999999999997},{"$f":"ROUND('3D Interpolace'!AS62,2)","v":33.93},{"$f":"ROUND('3D Interpolace'!AT62,2)","v":33.520000000000003},{"$f":"ROUND('3D Interpolace'!AU62,2)","v":33.119999999999997},{"$f":"ROUND('3D Interpolace'!AV62,2)","v":32.799999999999997},{"$f":"ROUND('3D Interpolace'!AW62,2)","v":32.56},{"$f":"ROUND('3D Interpolace'!AX62,2)","v":32.35},{"$f":"ROUND('3D Interpolace'!AY62,2)","v":32.19},{"$f":"ROUND('3D Interpolace'!AZ62,2)","v":32.049999999999997},{"$f":"ROUND('3D Interpolace'!BA62,2)","v":31.96},null,5.8,59,null,null,null,null,null,null,null,null,null,null,null,null,null,null,null,null,null,null,null,null,null,null,null,null,null,null,null,null,null,null,null,null,null,null,null,null,null,null,null,null,null,5.8,null,5.8,59,34.28,34.590000000000003,34.83,35.01,35.119999999999997,35.159999999999997,35.090000000000003,34.92,34.700000000000003,34.5,34.36,34.31,34.299999999999997,34.32,34.340000000000003,34.36,34.36,34.36,34.36,34.380000000000003,34.4,34.450000000000003,34.51,34.590000000000003,34.65,34.68,34.71,34.74,34.75,34.700000000000003,34.56,34.299999999999997,33.93,33.520000000000003,33.119999999999997,32.799999999999997,32.56,32.35,32.19,32.049999999999997,31.96,5.8,null,5.3000000000000007,54,39.92,40,40.020000000000003,39.99,39.909999999999997,39.770000000000003,39.53,39.18,38.81,38.479999999999997,38.26,38.159999999999997,38.130000000000003,38.159999999999997,38.24,38.35,38.5,38.68,38.909999999999997,39.17,39.450000000000003,39.450000000000003,39.82,40.270000000000003,40.729999999999997,41.1,41.27,41.21,40.97,40.64,40.28,39.979999999999997,39.71,39.43,39.17,38.93,38.75,38.630000000000003,38.54,38.49,38.49,38.520000000000003,null,null,null,5.3000000000000007,54,39.92,0,0,0,0,39.770000000000003,0,0,0,0,38.26,0,0,0,0,38.35,0,0,0,0,39.450000000000003,39.450000000000003,0,0,0,0,41.27,0,0,0,0,39.979999999999997,0,0,0,0,38.75,0,0,0,0,38.520000000000003,5.3000000000000007,null,null,null,54,40,40,40,40,40,40,40,40,40,40,40,40,40,40,40,40,40,40,40,40,40,41.666666666666657,41.533333333333324,41.399999999999991,41.266666666666652,41.133333333333319,40.999999999999986,40.866666666666653,40.73333333333332,40.599999999999987,40.466666666666654,40.333333333333321,40.199999999999989,40.066666666666656,39.933333333333323,39.79999999999999,39.666666666666657,39.533333333333324,39.399999999999991,39.266666666666652,39.133333333333319,38.999999999999986,5.3000000000000007,null,null,null,null,null,5.3000000000000007,54,7.9999999999998295E-2,0,-2.0000000000003126E-2,9.9999999999980105E-3,9.0000000000003411E-2,0.22999999999999687,0.46999999999999886,0.82000000000000028,1.1899999999999977,1.5200000000000031,1.740000000000002,1.8400000000000034,1.8699999999999974,1.8400000000000034,1.759999999999998,1.6499999999999986,1.5,1.3200000000000003,1.0900000000000034,0.82999999999999829,0.54999999999999716,2.2166666666666544,1.713333333333324,1.1299999999999883,0.53666666666665463,3.3333333333317228E-2,-0.27000000000001734,-0.34333333333334792,-0.23666666666667879,-4.0000000000013358E-2,0.18666666666665321,0.35333333333332462,0.48999999999998778,0.63666666666665606,0.76333333333332121,0.86999999999999034,0.91666666666665719,0.90333333333332178,0.85999999999999233,0.77666666666664952,0.64333333333331666,0.47999999999998266,null,null,null,null,null,null,null,5.8000000000000007,59,1.7564285714285752,1.5514285714285752,1.3914285714285768,1.2714285714285776,1.1964285714285783,1.1814285714285759,1.2314285714285749,1.3314285714285763,1.443928571428577,1.5339285714285769,1.5814285714285763,1.5914285714285779,1.5839285714285776,1.5714285714285747,1.5689285714285752,1.5889285714285766,1.631428571428577,1.6839285714285772,1.7314285714285766,1.761428571428576,1.7874999999999925,1.61666666666666,1.4258333333333262,1.2349999999999905,1.0716666666666566,0.93583333333332241,0.81249999999998934,0.70666666666665634,0.63583333333332348,0.62249999999998984,0.68916666666665805,0.8408333333333271,1.0499999999999918,1.2766666666666584,1.4783333333333282,1.6299999999999955,1.7466666666666608,1.8433333333333266,1.9199999999999919,1.9766666666666586,null,null,5.8000000000000007,59,22.99,22.99,22.99,22.99,22.99,22.99,22.99,22.99,22.99,22.99,22.99,22.99,22.99,22.99,22.99,22.99,22.99,22.99,22.99,22.99,22.99,22.99,22.99,22.99,22.99,22.99,22.99,22.99,22.99,22.99,22.99,22.99,22.99,22.99,22.99,22.99,22.99,22.99,22.99,22.99,null,null,5.8000000000000007,59,0,0,0,0,0,0,0,0,0,0,0,0,0,0,0,0,0,0,0,0,0,0,0,0,0,0,0,0,0,0,0,0,0,0,0,0,0,0,0,0,null,null,5.8,59,0,0,0,0,0,0,0,0,0,0,0,0,0,0,0,0,0,0,0,0,0,0,0,0,0,0,0,0,0,0,0,0,0,0,0,0,0,0,0,0,0,5.8,null,5.8,59,0,0,0,0,0,0,0,0,0,0,0,0,0,0,0,0,0,0,0,0,0,0,0,0,0,0,0,0,0,0,0,0,0,0,0,0,0,0,0,0,0,5.8,null,5.8,59,1,0,0,0,0,0,0,0,0,0,0,0,0,0,0,0,0,0,0,0,1,0,0,0,0,0,0,0,0,0,0,0,0,0,0,0,0,0,0,0,1,5.8,null,5.8,59,34.28,0,0,0,0,0,0,0,0,0,0,0,0,0,0,0,0,0,0,0,34.4,0,0,0,0,0,0,0,0,0,0,0,0,0,0,0,0,0,0,0,31.96,5.8,null,5.3000000000000007,54,4,4,4,4,4,4,4,4,4,4,4,4,4,4,4,4,4,4,4,4,4,1,1,1,1,1,1,1,1,1,1,1,1,1,1,1,1,1,1,1,1,1,5.3000000000000007,null,5.3000000000000007,54,4,4,4,4,4,4,4,4,4,4,4,4,4,4,4,4,4,4,4,4,4,4,4,4,4,4,4,4,4,4,4,4,4,4,4,4,4,4,4,4,4,4,5.3000000000000007,null,5.3000000000000007,54,51,51,51,51,51,51,51,51,51,51,51,51,51,51,51,51,51,51,51,51,51,58,58,58,58,58,58,58,58,58,58,58,58,58,58,58,58,58,58,58,58,58,5.3000000000000007]
[null,null,null,null,null,null,null,null,null,null,null,null,"12D",{"$f":"ROUND('3D Interpolace'!M63,2)","v":34.119999999999997},{"$f":"ROUND('3D Interpolace'!N63,2)","v":34.270000000000003},{"$f":"ROUND('3D Interpolace'!O63,2)","v":34.39},{"$f":"ROUND('3D Interpolace'!P63,2)","v":34.49},{"$f":"ROUND('3D Interpolace'!Q63,2)","v":34.58},{"$f":"ROUND('3D Interpolace'!R63,2)","v":34.64},{"$f":"ROUND('3D Interpolace'!S63,2)","v":34.67},{"$f":"ROUND('3D Interpolace'!T63,2)","v":34.68},{"$f":"ROUND('3D Interpolace'!U63,2)","v":34.659999999999997},{"$f":"ROUND('3D Interpolace'!V63,2)","v":34.65},{"$f":"ROUND('3D Interpolace'!W63,2)","v":34.64},{"$f":"ROUND('3D Interpolace'!X63,2)","v":34.65},{"$f":"ROUND('3D Interpolace'!Y63,2)","v":34.659999999999997},{"$f":"ROUND('3D Interpolace'!Z63,2)","v":34.67},{"$f":"ROUND('3D Interpolace'!AA63,2)","v":34.67},{"$f":"ROUND('3D Interpolace'!AB63,2)","v":34.64},{"$f":"ROUND('3D Interpolace'!AC63,2)","v":34.57},{"$f":"ROUND('3D Interpolace'!AD63,2)","v":34.47},{"$f":"ROUND('3D Interpolace'!AE63,2)","v":34.36},{"$f":"ROUND('3D Interpolace'!AF63,2)","v":34.26},{"$f":"ROUND('3D Interpolace'!AG63,2)","v":34.200000000000003},{"$f":"ROUND('3D Interpolace'!AH63,2)","v":34.200000000000003},{"$f":"ROUND('3D Interpolace'!AI63,2)","v":34.24},{"$f":"ROUND('3D Interpolace'!AJ63,2)","v":34.29},{"$f":"ROUND('3D Interpolace'!AK63,2)","v":34.33},{"$f":"ROUND('3D Interpolace'!AL63,2)","v":34.32},{"$f":"ROUND('3D Interpolace'!AM63,2)","v":34.28},{"$f":"ROUND('3D Interpolace'!AN63,2)","v":34.22},{"$f":"ROUND('3D Interpolace'!AO63,2)","v":34.130000000000003},{"$f":"ROUND('3D Interpolace'!AP63,2)","v":34.01},{"$f":"ROUND('3D Interpolace'!AQ63,2)","v":33.840000000000003},{"$f":"ROUND('3D Interpolace'!AR63,2)","v":33.61},{"$f":"ROUND('3D Interpolace'!AS63,2)","v":33.33},{"$f":"ROUND('3D Interpolace'!AT63,2)","v":33.020000000000003},{"$f":"ROUND('3D Interpolace'!AU63,2)","v":32.700000000000003},{"$f":"ROUND('3D Interpolace'!AV63,2)","v":32.4},{"$f":"ROUND('3D Interpolace'!AW63,2)","v":32.119999999999997},{"$f":"ROUND('3D Interpolace'!AX63,2)","v":31.85},{"$f":"ROUND('3D Interpolace'!AY63,2)","v":31.57},{"$f":"ROUND('3D Interpolace'!AZ63,2)","v":31.31},{"$f":"ROUND('3D Interpolace'!BA63,2)","v":31.04},null,5.9,60,null,null,null,null,null,null,null,null,null,null,null,null,null,null,null,null,null,null,null,null,null,null,null,null,null,null,null,null,null,null,null,null,null,null,null,null,null,null,null,null,null,5.9,null,5.9,60,34.119999999999997,34.270000000000003,34.39,34.49,34.58,34.64,34.67,34.68,34.659999999999997,34.65,34.64,34.65,34.659999999999997,34.67,34.67,34.64,34.57,34.47,34.36,34.26,34.200000000000003,34.200000000000003,34.24,34.29,34.33,34.32,34.28,34.22,34.130000000000003,34.01,33.840000000000003,33.61,33.33,33.020000000000003,32.700000000000003,32.4,32.119999999999997,31.85,31.57,31.31,31.04,5.9,null,5.4,55,35.4,35.71,35.93,36.04,36.06,35.979999999999997,35.72,35.299999999999997,34.81,34.369999999999997,34.07,33.94,33.89,33.92,34,34.1,34.25,34.46,34.700000000000003,34.96,35.22,35.22,35.5,35.83,36.159999999999997,36.42,36.58,36.630000000000003,36.590000000000003,36.479999999999997,36.32,36.11,35.82,35.43,35.01,34.64,34.380000000000003,34.24,34.17,34.17,34.229999999999997,34.36,null,null,null,5.4,55,0,0,0,0,0,0,0,0,0,0,0,0,0,0,0,0,0,0,0,0,0,0,0,0,0,0,0,0,0,0,0,0,0,0,0,0,0,0,0,0,0,0,5.4,null,null,null,55,39.285714285714292,39.285714285714292,39.285714285714292,39.285714285714292,39.285714285714292,39.285714285714292,39.285714285714292,39.285714285714292,39.285714285714292,39.285714285714292,39.285714285714292,39.285714285714292,39.285714285714292,39.285714285714292,39.285714285714292,39.285714285714292,39.285714285714292,39.285714285714292,39.285714285714292,39.285714285714292,39.285714285714292,40.666666666666664,40.533333333333331,40.4,40.266666666666666,40.133333333333326,39.999999999999993,39.86666666666666,39.733333333333327,39.599999999999994,39.466666666666661,39.333333333333329,39.199999999999996,39.066666666666663,38.93333333333333,38.799999999999997,38.666666666666664,38.533333333333331,38.4,38.266666666666666,38.133333333333326,37.999999999999993,5.4,null,null,null,null,null,5.4,55,3.8857142857142932,3.575714285714291,3.3557142857142921,3.2457142857142927,3.2257142857142895,3.3057142857142949,3.5657142857142929,3.9857142857142946,4.4757142857142895,4.9157142857142944,5.2157142857142915,5.3457142857142941,5.3957142857142912,5.3657142857142901,5.2857142857142918,5.1857142857142904,5.0357142857142918,4.825714285714291,4.585714285714289,4.325714285714291,4.0657142857142929,5.4466666666666654,5.0333333333333314,4.57,4.1066666666666691,3.713333333333324,3.4199999999999946,3.2366666666666575,3.1433333333333238,3.1199999999999974,3.1466666666666612,3.2233333333333292,3.3799999999999955,3.6366666666666632,3.923333333333332,4.1599999999999966,4.2866666666666617,4.2933333333333294,4.2299999999999969,4.096666666666664,3.9033333333333289,3.6399999999999935,null,null,null,null,null,null,null,5.9,60,1.2796428571428642,1.2421428571428628,1.1971428571428628,1.1396428571428636,1.0721428571428646,0.99214285714286454,0.88714285714286412,0.77214285714286568,0.66214285714286625,0.57214285714286284,0.51464285714286362,0.47964285714286703,0.46464285714286646,0.47214285714286497,0.50964285714286284,0.59214285714286241,0.72964285714286525,0.89964285714286518,1.0696428571428651,1.2046428571428649,1.0124999999999957,0.87416666666666387,0.70083333333333186,0.52749999999999631,0.39166666666666217,0.31833333333332803,0.29249999999999332,0.29916666666665925,0.33083333333332732,0.38249999999999496,0.44916666666666316,0.53083333333333194,0.63249999999999496,0.7541666666666611,0.89333333333332909,1.0499999999999972,1.2241666666666635,1.4183333333333294,1.6299999999999955,1.8591666666666633,null,null,5.9,60,22.99,22.99,22.99,22.99,22.99,22.99,22.99,22.99,22.99,22.99,22.99,22.99,22.99,22.99,22.99,22.99,22.99,22.99,22.99,22.99,22.99,22.99,22.99,22.99,22.99,22.99,22.99,22.99,22.99,22.99,22.99,22.99,22.99,22.99,22.99,22.99,22.99,22.99,22.99,22.99,null,null,5.9,60,0,0,0,0,0,0,0,0,0,0,0,0,0,0,0,0,0,0,0,0,0,0,0,0,0,0,0,0,0,0,0,0,0,0,0,0,0,0,0,0,null,null,5.9,60,0,0,0,0,0,0,0,0,0,0,0,0,0,0,0,0,0,0,0,0,0,0,0,0,0,0,0,0,0,0,0,0,0,0,0,0,0,0,0,0,0,5.9,null,5.9,60,0,0,0,0,0,0,0,0,0,0,0,0,0,0,0,0,0,0,0,0,0,0,0,0,0,0,0,0,0,0,0,0,0,0,0,0,0,0,0,0,0,5.9,null,5.9,60,1,0,0,0,0,0,0,0,0,0,0,0,0,0,0,0,0,0,0,0,1,0,0,0,0,0,0,0,0,0,0,0,0,0,0,0,0,0,0,0,1,5.9,null,5.9,60,34.119999999999997,0,0,0,0,0,0,0,0,0,0,0,0,0,0,0,0,0,0,0,34.200000000000003,0,0,0,0,0,0,0,0,0,0,0,0,0,0,0,0,0,0,0,31.04,5.9,null,5.4,55,4,4,4,4,4,4,4,4,4,4,4,4,4,4,4,4,4,4,4,4,4,1,1,1,1,1,1,1,1,1,1,1,1,1,1,1,1,1,1,1,1,1,5.4,null,5.4,55,0,0,0,0,0,0,0,0,0,0,0,0,0,0,0,0,0,0,0,0,0,0,0,0,0,0,0,0,0,0,0,0,0,0,0,0,0,0,0,0,0,0,5.4,null,5.4,55,51,51,51,51,51,51,51,51,51,51,51,51,51,51,51,51,51,51,51,51,51,58,58,58,58,58,58,58,58,58,58,58,58,58,58,58,58,58,58,58,58,58,5.4]
[null,null,null,null,null,null,null,null,null,null,null,null,"13",{"$f":"ROUND('3D Interpolace'!M64,2)","v":34},{"$f":"ROUND('3D Interpolace'!N64,2)","v":33.92},{"$f":"ROUND('3D Interpolace'!O64,2)","v":33.880000000000003},{"$f":"ROUND('3D Interpolace'!P64,2)","v":33.880000000000003},{"$f":"ROUND('3D Interpolace'!Q64,2)","v":33.92},{"$f":"ROUND('3D Interpolace'!R64,2)","v":34},{"$f":"ROUND('3D Interpolace'!S64,2)","v":34.15},{"$f":"ROUND('3D Interpolace'!T64,2)","v":34.380000000000003},{"$f":"ROUND('3D Interpolace'!U64,2)","v":34.619999999999997},{"$f":"ROUND('3D Interpolace'!V64,2)","v":34.85},{"$f":"ROUND('3D Interpolace'!W64,2)","v":35},{"$f":"ROUND('3D Interpolace'!X64,2)","v":35.08},{"$f":"ROUND('3D Interpolace'!Y64,2)","v":35.119999999999997},{"$f":"ROUND('3D Interpolace'!Z64,2)","v":35.119999999999997},{"$f":"ROUND('3D Interpolace'!AA64,2)","v":35.08},{"$f":"ROUND('3D Interpolace'!AB64,2)","v":35},{"$f":"ROUND('3D Interpolace'!AC64,2)","v":34.85},{"$f":"ROUND('3D Interpolace'!AD64,2)","v":34.619999999999997},{"$f":"ROUND('3D Interpolace'!AE64,2)","v":34.380000000000003},{"$f":"ROUND('3D Interpolace'!AF64,2)","v":34.15},{"$f":"ROUND('3D Interpolace'!AG64,2)","v":34},{"$f":"ROUND('3D Interpolace'!AH64,2)","v":33.950000000000003},{"$f":"ROUND('3D Interpolace'!AI64,2)","v":33.979999999999997},{"$f":"ROUND('3D Interpolace'!AJ64,2)","v":34.020000000000003},{"$f":"ROUND('3D Interpolace'!AK64,2)","v":34.049999999999997},{"$f":"ROUND('3D Interpolace'!AL64,2)","v":34},{"$f":"ROUND('3D Interpolace'!AM64,2)","v":33.86},{"$f":"ROUND('3D Interpolace'!AN64,2)","v":33.67},{"$f":"ROUND('3D Interpolace'!AO64,2)","v":33.450000000000003},{"$f":"ROUND('3D Interpolace'!AP64,2)","v":33.22},{"$f":"ROUND('3D Interpolace'!AQ64,2)","v":33},{"$f":"ROUND('3D Interpolace'!AR64,2)","v":32.82},{"$f":"ROUND('3D Interpolace'!AS64,2)","v":32.65},{"$f":"ROUND('3D Interpolace'!AT64,2)","v":32.47},{"$f":"ROUND('3D Interpolace'!AU64,2)","v":32.26},{"$f":"ROUND('3D Interpolace'!AV64,2)","v":32},{"$f":"ROUND('3D Interpolace'!AW64,2)","v":31.68},{"$f":"ROUND('3D Interpolace'!AX64,2)","v":31.32},{"$f":"ROUND('3D Interpolace'!AY64,2)","v":30.92},{"$f":"ROUND('3D Interpolace'!AZ64,2)","v":30.48},{"$f":"ROUND('3D Interpolace'!BA64,2)","v":30},null,6,61,null,null,null,null,null,null,null,null,null,null,null,null,null,null,null,null,null,null,null,null,null,null,null,null,null,null,null,null,null,null,null,null,null,null,null,null,null,null,null,null,null,6,null,6,61,34,33.92,33.880000000000003,33.880000000000003,33.92,34,34.15,34.380000000000003,34.619999999999997,34.85,35,35.08,35.119999999999997,35.119999999999997,35.08,35,34.85,34.619999999999997,34.380000000000003,34.15,34,33.950000000000003,33.979999999999997,34.020000000000003,34.049999999999997,34,33.86,33.67,33.450000000000003,33.22,33,32.82,32.65,32.47,32.26,32,31.68,31.32,30.92,30.48,30,6,null,5.5,56,{"$f":"IF(ISNUMBER(INDEX(VstupniData,$EQ63,ER$2)),INDEX(VstupniData,$EQ63,ER$2),\"\")","v":35},35.44,35.76,35.96,36.04,36,35.76,35.32,34.799999999999997,34.32,{"$f":"IF(ISNUMBER(INDEX(VstupniData,$EQ63,FB$2)),INDEX(VstupniData,$EQ63,FB$2),\"\")","v":34},33.86,33.81,33.83,33.9,34,34.14,34.33,34.549999999999997,34.78,{"$f":"IF(ISNUMBER(INDEX(VstupniData,$EQ63,FL$2)),INDEX(VstupniData,$EQ63,FL$2),\"\")","v":35},35,35.22,35.450000000000003,35.67,35.86,36,36.1,36.17,36.19,{"$f":"IF(ISNUMBER(INDEX(VstupniData,$EQ63,FV$2)),INDEX(VstupniData,$EQ63,FV$2),\"\")","v":36.14},36,35.700000000000003,35.25,34.75,34.299999999999997,34,33.840000000000003,33.76,33.76,{"$f":"IF(ISNUMBER(INDEX(VstupniData,$EQ63,GF$2)),INDEX(VstupniData,$EQ63,GF$2),\"\")","v":33.840000000000003},34,null,null,null,5.5,56,35,0,0,0,0,36,0,0,0,0,34,0,0,0,0,34,0,0,0,0,35,35,0,0,0,0,36,0,0,0,0,36,0,0,0,0,34,0,0,0,0,34,5.5,null,null,null,56,38.571428571428577,38.571428571428577,38.571428571428577,38.571428571428577,38.571428571428577,38.571428571428577,38.571428571428577,38.571428571428577,38.571428571428577,38.571428571428577,38.571428571428577,38.571428571428577,38.571428571428577,38.571428571428577,38.571428571428577,38.571428571428577,38.571428571428577,38.571428571428577,38.571428571428577,38.571428571428577,38.571428571428577,39.666666666666664,39.533333333333331,39.4,39.266666666666666,39.133333333333326,38.999999999999993,38.86666666666666,38.733333333333327,38.599999999999994,38.466666666666661,38.333333333333329,38.199999999999996,38.066666666666663,37.93333333333333,37.799999999999997,37.666666666666664,37.533333333333331,37.4,37.266666666666666,37.133333333333326,36.999999999999993,5.5,null,null,null,null,null,5.5,56,3.5714285714285765,3.1314285714285788,2.8114285714285785,2.6114285714285757,2.5314285714285774,2.5714285714285765,2.8114285714285785,3.2514285714285762,3.7714285714285793,4.2514285714285762,4.5714285714285765,4.7114285714285771,4.7614285714285742,4.7414285714285782,4.6714285714285779,4.5714285714285765,4.4314285714285759,4.2414285714285782,4.0214285714285793,3.7914285714285754,3.5714285714285765,4.6666666666666643,4.3133333333333326,3.9499999999999957,3.596666666666664,3.2733333333333263,2.9999999999999929,2.7666666666666586,2.5633333333333255,2.4099999999999966,2.3266666666666609,2.3333333333333286,2.4999999999999929,2.8166666666666629,3.18333333333333,3.5,3.6666666666666643,3.693333333333328,3.6400000000000006,3.5066666666666677,3.2933333333333223,2.9999999999999929,null,null,null,null,null,null,null,null,null,null,null,null,null,null,null,null,null,null,null,null,null,null,null,null,null,null,null,null,null,null,null,null,null,null,null,null,null,null,null,null,null,null,null,null,null,null,null,null,null,null,null,null,null,null,null,null,null,null,null,null,null,null,null,null,null,null,null,null,null,null,null,null,null,null,null,null,null,null,null,null,null,null,null,null,null,null,null,null,null,null,null,null,null,null,null,null,null,null,null,null,null,null,null,null,null,null,null,null,null,null,null,null,null,null,null,null,null,null,null,null,null,null,null,null,null,null,null,null,null,null,null,null,null,null,null,null,null,null,null,6,61,{"$f":"IF(CY63=MAX(CY62:CZ63),CY63,0)","v":0},{"$f":"IF(CZ63=MAX(CY62:DA63),CZ63,0)","v":0},0,0,0,0,0,0,0,0,0,0,35.119999999999997,35.119999999999997,0,0,0,0,0,0,0,0,0,0,0,0,0,0,0,0,0,0,0,0,0,0,0,0,0,0,{"$f":"IF(EM63=MAX(EL62:EM63),EM63,0)","v":0},6,null,6,61,{"$f":"IF(ER63=MAX(ER62:ES63),ER63,0)","v":0},{"$f":"IF(ES63=MAX(ER62:ET63),ES63,0)","v":0},0,0,0,0,0,0,0,0,0,0,0,0,0,0,0,0,0,0,0,0,0,0,0,0,0,0,0,0,0,0,0,0,0,0,0,0,0,0,{"$f":"IF(GF63=MAX(GE62:GF63),GF63,0)","v":0},6,null,6,61,1,1,1,1,1,1,1,1,1,1,1,1,1,1,1,1,1,1,1,1,1,1,1,1,1,1,1,1,1,1,1,1,1,1,1,1,1,1,1,1,1,6,null,6,61,34,33.92,33.880000000000003,33.880000000000003,33.92,34,34.15,34.380000000000003,34.619999999999997,34.85,35,35.08,35.119999999999997,35.119999999999997,35.08,35,34.85,34.619999999999997,34.380000000000003,34.15,34,33.950000000000003,33.979999999999997,34.020000000000003,34.049999999999997,34,33.86,33.67,33.450000000000003,33.22,33,32.82,32.65,32.47,32.26,32,31.68,31.32,30.92,30.48,30,6,null,5.5,56,4,4,4,4,4,4,4,4,4,4,4,4,4,4,4,4,4,4,4,4,4,1,1,1,1,1,1,1,1,1,1,1,1,1,1,1,1,1,1,1,1,1,5.5,null,5.5,56,{"$f":"IF(ISNUMBER(INDEX(Asfalt,$ZX63,ZY$2)),INDEX(Asfalt,$ZX63,ZY$2),0)","v":0},0,0,0,0,0,0,0,0,0,{"$f":"IF(ISNUMBER(INDEX(Asfalt,$ZX63,AAI$2)),INDEX(Asfalt,$ZX63,AAI$2),0)","v":0},0,0,0,0,0,0,0,0,0,{"$f":"IF(ISNUMBER(INDEX(Asfalt,$ZX63,AAS$2)),INDEX(Asfalt,$ZX63,AAS$2),0)","v":0},0,0,0,0,0,0,0,0,0,{"$f":"IF(ISNUMBER(INDEX(Asfalt,$ZX63,ABC$2)),INDEX(Asfalt,$ZX63,ABC$2),0)","v":0},0,0,0,0,0,0,0,0,0,0,0,5.5,null,5.5,56,51,51,51,51,51,51,51,51,51,51,51,51,51,51,51,51,51,51,51,51,51,58,58,58,58,58,58,58,58,58,58,58,58,58,58,58,58,58,58,58,58,58,5.5]
[null,null,null,null,null,null,null,null,null,null,null,null,null,null,null,null,null,null,null,null,null,null,null,null,null,null,null,null,null,null,null,null,null,null,null,null,null,null,null,null,null,null,null,null,null,null,null,null,null,null,null,null,null,null,null,null,null,null,null,null,null,null,null,null,null,null,null,null,null,null,null,null,null,null,null,null,null,null,null,null,null,null,null,null,null,null,null,null,null,null,null,null,null,null,null,null,null,null,null,null,null,null,null,null,null,null,null,null,null,null,null,null,null,null,null,null,null,null,null,null,null,null,null,null,null,null,null,null,null,null,null,null,null,null,null,null,null,null,null,null,null,null,null,null,null,"",null,"","","","","","","","","","","","","","","","","","","","","","","","","","","","","","","","","","","","","","","","","","",null,null,null,"",null,null,null,null,null,null,null,null,null,null,null,null,null,null,null,null,null,null,null,null,null,null,null,null,null,null,null,null,null,null,null,null,null,null,null,null,null,null,null,null,null,null,null,null,null,null,null,0,null,null,null,null,null,null,null,null,null,null,null,null,null,null,null,null,null,null,null,null,null,null,null,null,null,null,null,null,null,null,null,null,null,null,null,null,null,null,null,null,null,null,null,null,null,null,null,null,"",0,null,null,null,null,null,null,null,null,null,null,null,null,null,null,null,null,null,null,null,null,null,null,null,null,null,null,null,null,null,null,null,null,null,null,null,null,null,null,null,null,null,null,null,null,null,null,null,null,null,null,null,null,null,null,null,null,null,null,null,null,null,null,null,null,null,null,null,null,null,null,null,null,null,null,null,null,null,null,null,null,null,null,null,null,null,null,null,null,null,null,null,null,null,null,null,null,null,null,null,null,null,null,null,null,null,null,null,null,null,null,null,null,null,null,null,null,null,null,null,null,null,null,null,null,null,null,null,null,null,null,null,null,null,null,null,null,null,null,null,null,null,null,null,null,null,null,null,null,null,null,null,null,null,null,null,null,null,null,null,null,null,null,null,null,null,null,null,null,null,null,null,null,null,null,null,null,null,null,null,null,null,null,6,{"$f":"COUNTIF(RG28:RQ33,\">0\")","v":2},{"$f":"COUNTIF(RQ28:SA33,\">0\")","v":2},{"$f":"COUNTIF(SA28:SK33,\">0\")","v":2},{"$f":"COUNTIF(SK28:SU33,\">0\")","v":0},null,6,{"$f":"COUNTIF(RG53:SA63,\">0\")","v":4},{"$f":"COUNTIF(SA53:SU63,\">0\")","v":1},null,null,null,null,null,null,null,null,null,null,null,null,null,null,null,null,null,null,null,null,null,null,null,null,null,null,null,null,null,null,null,null,null,null,null,null,6,{"$f":"COUNTIF(SZ28:TJ33,\">0\")","v":1},{"$f":"COUNTIF(TJ28:TT33,\">0\")","v":3},{"$f":"COUNTIF(TT28:UD33,\">0\")","v":3},{"$f":"COUNTIF(UD28:UN33,\">0\")","v":0},null,6,{"$f":"COUNTIF(SZ53:TT63,\">0\")","v":7},{"$f":"COUNTIF(TT53:UN63,\">0\")","v":7}]
[null,null,null,null,null,null,null,null,null,null,null,null,null,null,null,null,null,null,null,null,null,null,null,null,null,null,null,null,null,null,null,null,null,null,null,null,null,null,null,null,null,null,null,null,null,null,null,null,null,null,null,null,null,null,null,null,null,null,null,null,null,null,null,null,null,null,null,null,null,null,null,null,null,null,null,null,null,null,null,null,null,null,null,null,null,null,null,null,null,null,null,null,null,null,null,null,null,null,null,null,null,null,null,null,null,null,null,null,null,null,null,null,null,null,null,null,null,null,null,null,null,null,null,null,null,null,null,null,null,null,null,null,null,null,null,null,null,null,null,null,null,null,null,null,null,null,null,null,null,null,null,null,null,null,null,null,null,null,null,null,null,null,null,null,null,null,null,null,null,null,null,null,null,null,null,null,null,null,null,null,null,null,null,null,null,null,null,null,null,null,null,null,null,null,null,null,null,null,null,null,null,null,null,null,null,null,null,null,null,null,null,null,null,null,null,null,null,null,null,null,null,null,null,null,null,null,null,null,null,null,null,null,null,null,null,null,null,null,null,null,null,null,null,null,null,null,null,null,null,null,null,null,null,null,null,null,null,null,null,null,null,null,null,null,null,null,null,null,null,null,null,null,null,null,null,null,null,null,null,null,null,null,null,null,null,null,null,null,null,null,null,null,null,null,null,null,null,null,null,null,null,null,null,null,null,null,null,null,null,null,null,null,null,null,null,null,null,null,null,null,null,null,null,null,null,null,null,null,null,null,null,null,null,null,null,null,null,null,null,null,null,null,null,null,null,null,null,null,null,null,null,null,null,null,null,null,null,null,null,null,null,null,null,null,null,null,null,null,null,null,null,null,null,null,null,null,null,null,null,null,null,null,null,null,null,null,null,null,null,null,null,null,null,null,null,null,null,null,null,null,null,null,null,null,null,null,null,null,null,null,null,null,null,null,null,null,null,null,null,null,null,null,null,null,null,null,null,null,null,null,null,null,null,null,null,null,null,null,null,null,null,null,null,null,null,null,null,null,null,null,null,null,null,null,null,null,null,null,null,null,null,null,null,null,null,null,null,null,null,null,null,null,null,9,{"$f":"COUNTIF(RG43:RQ48,\">0\")","v":2},{"$f":"COUNTIF(RQ43:SA48,\">0\")","v":1},{"$f":"COUNTIF(SA43:SK48,\">0\")","v":1},{"$f":"COUNTIF(SK43:SU48,\">0\")","v":2},null,null,null,null,null,null,null,null,null,null,null,null,null,null,null,null,null,null,null,null,null,null,null,null,null,null,null,null,null,null,null,null,null,null,null,null,null,null,null,null,9,{"$f":"COUNTIF(SZ43:TJ48,\">0\")","v":2},{"$f":"COUNTIF(TJ43:TT48,\">0\")","v":5},{"$f":"COUNTIF(TT43:UD48,\">0\")","v":4},{"$f":"COUNTIF(UD43:UN48,\">0\")","v":1}]
[null,null,null,null,null,null,null,null,null,null,null,null,null,null,null,null,null,null,null,null,null,null,null,null,null,null,null,null,null,null,null,null,null,null,null,null,null,null,null,null,null,null,null,null,null,null,null,null,null,null,null,null,null,null,null,null,null,null,null,null,null,null,null,null,null,null,null,null,null,null,null,null,null,null,null,null,null,null,null,null,null,null,null,null,null,null,null,null,null,null,null,null,null,null,null,null,null,null,null,null,null,null,null,null,null,null,null,null,null,null,null,null,null,null,null,null,null,null,null,null,null,null,null,null,null,null,null,null,null,null,null,null,null,null,null,null,null,null,null,null,null,null,null,null,null,5,0.4,0,100,199.99999999999997,300.00000000000006,400,500,600,700.00000000000011,800,900,1000,1099.9999999999998,1200,1299.9999999999998,1400,1500,1599.9999999999998,1700,1799.9999999999998,1900,2000,2000,2100,2199.9999999999995,2300,2400,2500,2600,2699.9999999999995,2800,2900,3000,3100,3199.9999999999995,3300,3400,3500,3600,3699.9999999999995,3800,3900,3999.9999999999995,null,null,null,5,0.4,0,100,199.99999999999997,300.00000000000006,400,500,600,700.00000000000011,800,900,1000,1099.9999999999998,1200,1299.9999999999998,1400,1500,1599.9999999999998,1700,1799.9999999999998,1900,2000,2000,2100,2199.9999999999995,2300,2400,2500,2600,2699.9999999999995,2800,2900,3000,3100,3199.9999999999995,3300,3400,3500,3600,3699.9999999999995,3800,3900,4000]
[null,null,null,null,null,null,null,null,null,null,null,null,null,null,null,null,null,null,null,null,null,null,null,null,null,null,null,null,null,null,null,null,null,null,null,null,null,null,null,null,null,null,null,null,null,null,null,null,null,null,null,null,null,null,null,null,null,null,null,null,null,null,null,null,null,null,null,null,null,null,null,null,null,null,null,null,null,null,null,null,null,null,null,null,null,null,null,null,null,null,null,null,null,null,null,null,null,null,null,null,null,null,null,null,null,null,null,null,null,null,null,null,null,null,null,null,null,null,null,null,null,null,null,null,null,null,null,null,null,null,null,null,null,null,null,null,null,null,null,null,null,null,null,null,null,14,1.2,0,100,199.99999999999997,300.00000000000006,400,500,600,700.00000000000011,800,900,1000,1099.9999999999998,1200,1299.9999999999998,1400,1500,1599.9999999999998,1700,1799.9999999999998,1900,2000,2000,2100,2199.9999999999995,2300,2400,2500,2600,2699.9999999999995,2800,2900,3000,3100,3199.9999999999995,3300,3400,3500,3600,3699.9999999999995,3800,3900,3999.9999999999995,null,null,null,14,1.2,0,100,199.99999999999997,300.00000000000006,400,500,600,700.00000000000011,800,900,1000,1099.9999999999998,1200,1299.9999999999998,1400,1500,1599.9999999999998,1700,1799.9999999999998,1900,2000,2000,2100,2199.9999999999995,2300,2400,2500,2600,2699.9999999999995,2800,2900,3000,3100,3199.9999999999995,3300,3400,3500,3600,3699.9999999999995,3800,3900,4000]
[null,null,null,null,null,null,null,null,null,null,null,null,null,null,null,null,null,null,null,null,null,null,null,null,null,null,null,null,null,null,null,null,null,null,null,null,null,null,null,null,null,null,null,null,null,null,null,null,null,null,null,null,null,null,null,null,null,null,null,null,null,null,null,null,null,null,null,null,null,null,null,null,null,null,null,null,null,null,null,null,null,null,null,null,null,null,null,null,null,null,null,null,null,null,null,null,null,null,null,null,null,null,null,null,null,null,null,null,null,null,null,null,null,null,null,null,null,null,null,null,null,null,null,null,null,null,null,null,null,null,null,null,null,null,null,null,null,null,null,null,null,null,null,null,null,17,1.5,0,100,199.99999999999997,300.00000000000006,400,500,600,700.00000000000011,800,900,1000,1099.9999999999998,1200,1299.9999999999998,1400,1500,1599.9999999999998,1700,1799.9999999999998,1900,2000,2000,2100,2199.9999999999995,2300,2400,2500,2600,2699.9999999999995,2800,2900,3000,{"$f":"FX$77*1000","v":3100},3199.9999999999995,3300,3400,3500,3600,3699.9999999999995,3800,3900,3999.9999999999995,null,null,null,17,1.5,0,100,199.99999999999997,300.00000000000006,400,500,600,700.00000000000011,800,900,1000,1099.9999999999998,1200,1299.9999999999998,1400,1500,1599.9999999999998,1700,1799.9999999999998,1900,2000,2000,2100,2199.9999999999995,2300,2400,2500,2600,2699.9999999999995,2800,2900,3000,3100,3199.9999999999995,3300,3400,3500,3600,3699.9999999999995,3800,3900,4000]
[null,null,null,null,null,null,null,null,null,null,null,null,null,null,null,null,null,null,null,null,null,null,null,null,null,null,null,null,null,null,null,null,null,null,null,null,null,null,null,null,null,null,null,null,null,null,null,null,null,null,null,null,null,null,null,null,null,null,null,null,null,null,null,null,null,null,null,null,null,null,null,null,null,null,null,null,null,null,null,null,null,null,null,null,null,null,null,null,null,null,null,null,null,null,null,null,null,null,null,null,null,null,null,null,null,null,null,null,null,null,null,null,null,null,null,null,null,null,null,null,null,null,null,null,null,null,null,null,null,null,null,null,null,null,null,null,null,null,null,null,null,null,null,null,null,24,2.1,0,100,199.99999999999997,300.00000000000006,400,500,600,700.00000000000011,800,900,1000,1099.9999999999998,1200,1299.9999999999998,1400,1500,1599.9999999999998,1700,1799.9999999999998,1900,2000,2000,2100,2199.9999999999995,2300,2400,2500,2600,2699.9999999999995,{"$f":"FU$77*1000","v":2800},{"$f":"FV$77*1000","v":2900},{"$f":"FW$77*1000","v":3000},3100,3199.9999999999995,3300,3400,3500,3600,{"$f":"GD$77*1000","v":3699.9999999999995},{"$f":"GE$77*1000","v":3800},{"$f":"GF$77*1000","v":3900},{"$f":"GG$77*1000","v":3999.9999999999995},null,null,null,24,2.1,0,100,199.99999999999997,300.00000000000006,400,500,600,700.00000000000011,800,900,1000,1099.9999999999998,1200,1299.9999999999998,1400,1500,1599.9999999999998,1700,1799.9999999999998,1900,2000,2000,2100,2199.9999999999995,2300,2400,2500,2600,2699.9999999999995,{"$f":"HP$77*1000","v":2800},{"$f":"HQ$77*1000","v":2900},{"$f":"HR$77*1000","v":3000},3100,3199.9999999999995,3300,3400,3500,3600,{"$f":"HY$77*1000","v":3699.9999999999995},{"$f":"HZ$77*1000","v":3800},{"$f":"IA$77*1000","v":3900},{"$f":"IB$77*1000","v":4000}]
[null,null,null,null,null,null,null,null,null,null,null,null,null,null,null,null,null,null,null,null,null,null,null,null,null,null,null,null,null,null,null,null,null,null,null,null,null,null,null,null,null,null,null,null,null,null,null,null,null,null,null,null,null,null,null,null,null,null,null,null,null,null,null,null,null,null,null,null,null,null,null,null,null,null,null,null,null,null,null,null,null,null,null,null,null,null,null,null,null,null,null,null,null,null,null,null,null,null,null,null,null,null,null,null,null,null,null,null,null,null,null,null,null,null,null,null,null,null,null,null,null,null,null,null,null,null,null,null,null,null,null,null,null,null,null,null,null,null,null,null,null,null,null,null,null,27,2.4,0,100,199.99999999999997,300.00000000000006,400,500,600,700.00000000000011,800,900,1000,1099.9999999999998,1200,1299.9999999999998,1400,1500,1599.9999999999998,1700,1799.9999999999998,1900,2000,2000,2100,2199.9999999999995,2300,2400,2500,2600,2699.9999999999995,2800,2900,3000,3100,3199.9999999999995,3300,3400,3500,3600,3699.9999999999995,3800,3900,3999.9999999999995,null,null,null,27,2.4,0,100,199.99999999999997,300.00000000000006,400,500,600,700.00000000000011,800,900,1000,1099.9999999999998,1200,1299.9999999999998,1400,1500,1599.9999999999998,1700,1799.9999999999998,1900,2000,2000,2100,2199.9999999999995,2300,2400,2500,2600,2699.9999999999995,2800,2900,3000,3100,3199.9999999999995,3300,3400,3500,3600,3699.9999999999995,3800,3900,4000]
[null,null,null,null,null,null,null,null,null,null,null,null,null,null,null,null,null,null,null,null,null,null,null,null,null,null,null,null,null,null,null,null,null,null,null,null,null,null,null,null,null,null,null,null,null,null,null,null,null,null,null,null,null,null,null,null,null,null,null,null,null,null,null,null,null,null,null,null,null,null,null,null,null,null,null,null,null,null,null,null,null,null,null,null,null,null,null,null,null,null,null,null,null,null,null,null,null,null,null,null,null,null,null,null,null,null,null,null,null,null,null,null,null,null,null,null,null,null,null,null,null,null,null,null,null,null,null,null,null,null,null,null,null,null,null,null,null,null,null,null,null,null,null,null,null,34,3,0,100,199.99999999999997,300.00000000000006,400,500,600,700.00000000000011,800,900,1000,1099.9999999999998,1200,1299.9999999999998,1400,1500,1599.9999999999998,1700,1799.9999999999998,1900,2000,2000,2100,2199.9999999999995,2300,2400,2500,2600,2699.9999999999995,2800,2900,3000,3100,3199.9999999999995,3300,3400,3500,3600,3699.9999999999995,3800,3900,3999.9999999999995,null,null,null,34,3,0,100,199.99999999999997,300.00000000000006,400,500,600,700.00000000000011,800,900,1000,1099.9999999999998,1200,1299.9999999999998,1400,1500,1599.9999999999998,1700,1799.9999999999998,1900,2000,2000,2100,2199.9999999999995,2300,2400,2500,2600,2699.9999999999995,2800,2900,3000,3100,3199.9999999999995,3300,3400,3500,3600,3699.9999999999995,3800,3900,4000]
[null,null,null,null,null,null,null,null,null,null,null,null,null,null,null,null,null,null,null,null,null,null,null,null,null,null,null,null,null,null,null,null,null,null,null,null,null,null,null,null,null,null,null,null,null,null,null,null,null,null,null,null,null,null,null,null,null,null,null,null,null,null,null,null,null,null,null,null,null,null,null,null,null,null,null,null,null,null,null,null,null,null,null,null,null,null,null,null,null,null,null,null,null,null,null,null,null,null,null,null,null,null,null,null,null,null,null,null,null,null,null,null,null,null,null,null,null,null,null,null,null,null,null,null,null,null,null,null,null,null,null,null,null,null,null,null,null,null,null,null,null,null,null,null,null,43,3.9,0,100,199.99999999999997,300.00000000000006,400,500,600,700.00000000000011,800,900,1000,1099.9999999999998,1200,1299.9999999999998,1400,1500,1599.9999999999998,1700,1799.9999999999998,1900,2000,2000,2100,2199.9999999999995,2300,2400,2500,2600,2699.9999999999995,2800,2900,{"$f":"FW$77*1000","v":3000},3100,3199.9999999999995,3300,3400,3500,3600,3699.9999999999995,3800,3900,3999.9999999999995,null,null,null,43,3.9,0,100,199.99999999999997,300.00000000000006,400,500,600,700.00000000000011,800,900,1000,1099.9999999999998,1200,1299.9999999999998,1400,1500,1599.9999999999998,1700,1799.9999999999998,1900,2000,2000,2100,2199.9999999999995,2300,2400,2500,2600,2699.9999999999995,2800,2900,{"$f":"HR$77*1000","v":3000},3100,3199.9999999999995,3300,3400,3500,3600,3699.9999999999995,3800,3900,4000]
[null,null,null,null,null,null,null,null,null,null,null,null,null,null,null,null,null,null,null,null,null,null,null,null,null,null,null,null,null,null,null,null,null,null,null,null,null,null,null,null,null,null,null,null,null,null,null,null,null,null,null,null,null,null,null,null,null,null,null,null,null,null,null,null,null,null,null,null,null,null,null,null,null,null,null,null,null,null,null,null,null,null,null,null,null,null,null,null,null,null,null,null,null,null,null,null,null,null,null,null,null,null,null,null,null,null,null,null,null,null,null,null,null,null,null,null,null,null,null,null,null,null,null,null,null,null,null,null,null,null,null,null,null,null,null,null,null,null,null,null,null,null,null,null,null,46,4.1000000000000005,0,100,199.99999999999997,300.00000000000006,400,500,600,700.00000000000011,800,900,1000,1099.9999999999998,1200,1299.9999999999998,1400,1500,1599.9999999999998,1700,1799.9999999999998,1900,2000,2000,2100,2199.9999999999995,2300,2400,2500,2600,2699.9999999999995,2800,2900,3000,3100,3199.9999999999995,3300,3400,3500,3600,3699.9999999999995,3800,3900,3999.9999999999995,null,null,null,46,4.1000000000000005,0,100,199.99999999999997,300.00000000000006,400,500,600,700.00000000000011,800,900,1000,1099.9999999999998,1200,1299.9999999999998,1400,1500,1599.9999999999998,1700,1799.9999999999998,1900,2000,2000,2100,2199.9999999999995,2300,2400,2500,2600,2699.9999999999995,2800,2900,3000,3100,3199.9999999999995,3300,3400,3500,3600,3699.9999999999995,3800,3900,4000]
[null,null,null,null,null,null,null,null,null,null,null,null,null,null,null,null,null,null,null,null,null,null,null,null,null,null,null,null,null,null,null,null,null,null,null,null,null,null,null,null,null,null,null,null,null,null,null,null,null,null,null,null,null,null,null,null,null,null,null,null,null,null,null,null,null,null,null,null,null,null,null,null,null,null,null,null,null,null,null,null,null,null,null,null,null,null,null,null,null,null,null,null,null,null,null,null,null,null,null,null,null,null,null,null,null,null,null,null,null,null,null,null,null,null,null,null,null,null,null,null,null,null,null,null,null,null,null,null,null,null,null,null,null,null,null,null,null,null,null,null,null,null,null,null,null,53,4.8000000000000007,0,100,199.99999999999997,300.00000000000006,400,500,600,700.00000000000011,800,900,1000,1099.9999999999998,1200,1299.9999999999998,1400,1500,1599.9999999999998,1700,1799.9999999999998,1900,2000,2000,2100,2199.9999999999995,2300,2400,2500,2600,2699.9999999999995,2800,2900,3000,3100,3199.9999999999995,3300,3400,3500,3600,3699.9999999999995,3800,3900,3999.9999999999995,null,null,null,53,4.8000000000000007,0,100,199.99999999999997,300.00000000000006,400,500,600,700.00000000000011,800,900,1000,1099.9999999999998,1200,1299.9999999999998,1400,1500,1599.9999999999998,1700,1799.9999999999998,1900,2000,2000,2100,2199.9999999999995,2300,2400,2500,2600,2699.9999999999995,2800,2900,3000,3100,3199.9999999999995,3300,3400,3500,3600,3699.9999999999995,3800,3900,4000]
[null,null,null,null,null,null,null,null,null,null,null,null,null,null,null,null,null,null,null,null,null,null,null,null,null,null,null,null,null,null,null,null,null,null,null,null,null,null,null,null,null,null,null,null,null,null,null,null,null,null,null,null,null,null,null,null,null,null,null,null,null,null,null,null,null,null,null,null,null,null,null,null,null,null,null,null,null,null,null,null,null,null,null,null,null,null,null,null,null,null,null,null,null,null,null,null,null,null,null,null,null,null,null,null,null,null,null,null,null,null,null,null,null,null,null,null,null,null,null,null,null,null,null,null,null,null,null,null,null,null,null,null,null,null,null,null,null,null,null,null,null,null,null,null,null,62,5.6000000000000005,0,100,199.99999999999997,300.00000000000006,400,500,600,700.00000000000011,800,900,1000,1099.9999999999998,1200,1299.9999999999998,1400,1500,1599.9999999999998,1700,1799.9999999999998,1900,2000,2000,2100,2199.9999999999995,2300,2400,2500,2600,2699.9999999999995,2800,2900,3000,3100,3199.9999999999995,3300,3400,3500,3600,3699.9999999999995,3800,3900,3999.9999999999995,null,null,null,62,5.6,0,100,199.99999999999997,300.00000000000006,400,500,600,700.00000000000011,800,900,1000,1099.9999999999998,1200,1299.9999999999998,1400,1500,1599.9999999999998,1700,1799.9999999999998,1900,2000,2000,2100,2199.9999999999995,2300,2400,2500,2600,2699.9999999999995,2800,2900,3000,3100,3199.9999999999995,3300,3400,3500,3600,3699.9999999999995,3800,3900,4000]
[null,null,null,null,null,null,null,null,null,null,null,null,null,null,null,null,null,null,null,null,null,null,null,null,null,null,null,null,null,null,null,null,null,null,null,null,null,null,null,null,null,null,null,null,null,null,null,null,null,null,null,null,null,null,null,null,null,null,null,null,null,null,null,null,null,null,null,null,null,null,null,null,null,null,null,null,null,null,null,null,null,null,null,null,null,null,null,null,null,null,null,null,null,null,null,null,null,null,null,null,null,null,null,null,null,null,null,null,null,null,null,null,null,null,null,null,null,null,null,null,null,null,null,null,null,null,null,null,null,null,null,null,null,null,null,null,null,null,null,null,null,null,null,null,null,65,5.9,0,100,199.99999999999997,300.00000000000006,400,500,600,700.00000000000011,800,900,1000,1099.9999999999998,1200,1299.9999999999998,1400,1500,1599.9999999999998,1700,1799.9999999999998,1900,2000,2000,2100,2199.9999999999995,2300,2400,2500,2600,2699.9999999999995,2800,2900,3000,3100,3199.9999999999995,3300,3400,3500,3600,3699.9999999999995,3800,3900,3999.9999999999995,null,null,null,65,5.9,0,100,199.99999999999997,300.00000000000006,400,500,600,700.00000000000011,800,900,1000,1099.9999999999998,1200,1299.9999999999998,1400,1500,1599.9999999999998,1700,1799.9999999999998,1900,2000,2000,2100,2199.9999999999995,2300,2400,2500,2600,2699.9999999999995,2800,2900,3000,3100,3199.9999999999995,3300,3400,3500,3600,3699.9999999999995,3800,3900,4000]
[null,null,null,null,null,null,null,null,null,null,null,null,null,null,null,null,null,null,null,null,null,null,null,null,null,null,null,null,null,null,null,null,null,null,null,null,null,null,null,null,null,null,null,null,null,null,null,null,null,null,null,null,null,null,null,null,null,null,null,null,null,null,null,null,null,null,null,null,null,null,null,null,null,null,null,null,null,null,null,null,null,null,null,null,null,null,null,null,null,null,null,null,null,null,null,null,null,null,null,null,null,null,null,null,null,null,null,null,null,null,null,null,null,null,null,null,null,null,null,null,null,null,null,null,null,null,null,null,null,null,null,null,null,null,null,null,null,null,null,null,null,null,null,null,null,72,"",0,100,199.99999999999997,300.00000000000006,400,500,600,700.00000000000011,800,900,1000,1099.9999999999998,1200,1299.9999999999998,1400,1500,1599.9999999999998,1700,1799.9999999999998,1900,2000,2000,2100,2199.9999999999995,2300,2400,2500,2600,2699.9999999999995,2800,2900,3000,3100,3199.9999999999995,3300,3400,3500,3600,3699.9999999999995,3800,3900,3999.9999999999995,null,null,null,72,"",0,100,199.99999999999997,300.00000000000006,400,500,600,700.00000000000011,800,900,1000,1099.9999999999998,1200,1299.9999999999998,1400,1500,1599.9999999999998,1700,1799.9999999999998,1900,2000,2000,2100,2199.9999999999995,2300,2400,2500,2600,2699.9999999999995,2800,2900,3000,3100,3199.9999999999995,3300,3400,3500,3600,3699.9999999999995,3800,3900,4000]
[null,null,null,null,null,null,null,null,null,null,null,null,null,null,null,null,null,null,null,null,null,null,null,null,null,null,null,null,null,null,null,null,null,null,null,null,null,null,null,null,null,null,null,null,null,null,null,null,null,null,null,null,null,null,null,null,null,null,null,null,null,null,null,null,null,null,null,null,null,null,null,null,null,null,null,null,null,null,null,null,null,null,null,null,null,null,null,null,null,null,null,null,null,null,null,null,null,null,null,null,null,null,null,null,null,null,null,null,null,null,null,null,null,null,null,null,null,null,null,null,null,null,null,null,null,null,null,null,null,null,null,null,null,null,null,null,null,null,null,null,null,null,null,null,null,"Souřadnice Y",null,{"$f":"ER77","v":0},{"$f":"ES77","v":0.1},0.19999999999999998,0.30000000000000004,0.4,0.5,0.6,0.70000000000000007,0.8,0.9,1,1.0999999999999999,1.2,1.2999999999999998,1.4,1.5,1.5999999999999999,1.7,1.7999999999999998,1.9,2,2,2.1,2.1999999999999997,2.2999999999999998,2.4,2.5,2.6,2.6999999999999997,2.8,2.9,3,3.1,3.1999999999999997,3.3,3.4,3.5,3.6,3.6999999999999997,3.8,3.9,3.9999999999999996,null,null,null,"Souřadnice Y",null,{"$f":"GM77","v":0},{"$f":"GN77","v":0.1},0.19999999999999998,0.30000000000000004,0.4,0.5,0.6,0.70000000000000007,0.8,0.9,1,1.0999999999999999,1.2,1.2999999999999998,1.4,1.5,1.5999999999999999,1.7,1.7999999999999998,1.9,2,2,2.1,2.1999999999999997,2.2999999999999998,2.4,2.5,2.6,2.6999999999999997,2.8,2.9,3,3.1,3.1999999999999997,3.3,3.4,3.5,3.6,3.6999999999999997,3.8,3.9,4]
[null,null,null,null,null,null,null,null,null,null,null,null,null,null,null,null,null,null,null,null,null,null,null,null,null,null,null,null,null,null,null,null,null,null,null,null,null,null,null,null,null,null,null,null,null,null,null,null,null,null,null,null,null,null,null,null,null,null,null,null,null,null,null,null,null,null,null,null,null,null,null,null,null,null,null,null,null,null,null,null,null,null,null,null,null,null,null,null,null,null,null,null,null,null,null,null,null,null,null,null,null,null,null,null,null,null,null,null,null,null,null,null,null,null,null,null,null,null,null,null,null,null,null,null,null,null,null,null,null,null,null,null,null,null,null,null,null,null,null,null,null,null,null,null,null,7,0.6,600,600,600,600,600,600,600,600,600,600,600,600,600,600,600,600,600,600,600,600,600,600,600,600,600,600,600,600,600,600,600,600,600,600,600,600,600,600,600,600,600,600,null,null,null,7,0.6,600,600,600,600,600,600,600,600,600,600,600,600,600,600,600,600,600,600,600,600,600,600,600,600,600,600,600,600,600,600,600,600,600,600,600,600,600,600,600,600,600,600]
[null,null,null,null,null,null,null,null,null,null,null,null,null,null,null,null,null,null,null,null,null,null,null,null,null,null,null,null,null,null,null,null,null,null,null,null,null,null,null,null,null,null,null,null,null,null,null,null,null,null,null,null,null,null,null,null,null,null,null,null,null,null,null,null,null,null,null,null,null,null,null,null,null,null,null,null,null,null,null,null,null,null,null,null,null,null,null,null,null,null,null,null,null,null,null,null,null,null,null,null,null,null,null,null,null,null,null,null,null,null,null,null,null,null,null,null,null,null,null,null,null,null,null,null,null,null,null,null,null,null,null,null,null,null,null,null,null,null,null,null,null,null,null,null,null,16,1.4,1400,1400,1400,1400,1400,1400,1400,1400,1400,1400,1400,1400,1400,1400,1400,1400,1400,1400,1400,1400,1400,1400,1400,1400,1400,1400,1400,1400,1400,1400,1400,1400,1400,1400,1400,1400,1400,1400,1400,1400,1400,1400,null,null,null,16,1.4,1400,1400,1400,1400,1400,1400,1400,1400,1400,1400,1400,1400,1400,1400,1400,1400,1400,1400,1400,1400,1400,1400,1400,1400,1400,1400,1400,1400,1400,1400,1400,1400,1400,1400,1400,1400,1400,1400,1400,1400,1400,1400]
[null,null,null,null,null,null,null,null,null,null,null,null,null,null,null,null,null,null,null,null,null,null,null,null,null,null,null,null,null,null,null,null,null,null,null,null,null,null,null,null,null,null,null,null,null,null,null,null,null,null,null,null,null,null,null,null,null,null,null,null,null,null,null,null,null,null,null,null,null,null,null,null,null,null,null,null,null,null,null,null,null,null,null,null,null,null,null,null,null,null,null,null,null,null,null,null,null,null,null,null,null,null,null,null,null,null,null,null,null,null,null,null,null,null,null,null,null,null,null,null,null,null,null,null,null,null,null,null,null,null,null,null,null,null,null,null,null,null,null,null,null,null,null,null,null,19,1.7,1700,1700,1700,1700,1700,1700,1700,1700,1700,1700,1700,1700,1700,1700,1700,1700,1700,1700,1700,1700,1700,1700,1700,1700,1700,1700,1700,1700,1700,1700,1700,1700,1700,1700,1700,1700,1700,1700,1700,1700,1700,1700,null,null,null,19,1.7,1700,1700,1700,1700,1700,1700,1700,1700,1700,1700,1700,1700,1700,1700,1700,1700,1700,1700,1700,1700,1700,1700,1700,1700,1700,1700,1700,1700,1700,1700,1700,1700,1700,1700,1700,1700,1700,1700,1700,1700,1700,1700]
[null,null,null,null,null,null,null,null,null,null,null,null,null,null,null,null,null,null,null,null,null,null,null,null,null,null,null,null,null,null,null,null,null,null,null,null,null,null,null,null,null,null,null,null,null,null,null,null,null,null,null,null,null,null,null,null,null,null,null,null,null,null,null,null,null,null,null,null,null,null,null,null,null,null,null,null,null,null,null,null,null,null,null,null,null,null,null,null,null,null,null,null,null,null,null,null,null,null,null,null,null,null,null,null,null,null,null,null,null,null,null,null,null,null,null,null,null,null,null,null,null,null,null,null,null,null,null,null,null,null,null,null,null,null,null,null,null,null,null,null,null,null,null,null,null,26,2.2999999999999998,2300,2300,2300,2300,2300,2300,2300,2300,2300,2300,2300,2300,2300,2300,2300,2300,2300,2300,2300,2300,2300,2300,2300,2300,2300,2300,2300,2300,2300,2300,2300,2300,2300,2300,2300,2300,2300,2300,2300,2300,2300,2300,null,null,null,26,2.2999999999999998,2300,2300,2300,2300,2300,2300,2300,2300,2300,2300,2300,2300,2300,2300,2300,2300,2300,2300,2300,2300,2300,2300,2300,2300,2300,2300,2300,2300,2300,2300,2300,2300,2300,2300,2300,2300,2300,2300,2300,2300,2300,2300]
[null,null,null,null,null,null,null,null,null,null,null,null,null,null,null,null,null,null,null,null,null,null,null,null,null,null,null,null,null,null,null,null,null,null,null,null,null,null,null,null,null,null,null,null,null,null,null,null,null,null,null,null,null,null,null,null,null,null,null,null,null,null,null,null,null,null,null,null,null,null,null,null,null,null,null,null,null,null,null,null,null,null,null,null,null,null,null,null,null,null,null,null,null,null,null,null,null,null,null,null,null,null,null,null,null,null,null,null,null,null,null,null,null,null,null,null,null,null,null,null,null,null,null,null,null,null,null,null,null,null,null,null,null,null,null,null,null,null,null,null,null,null,null,null,null,35,3.1,3100,3100,3100,3100,3100,3100,3100,3100,3100,3100,3100,3100,3100,3100,3100,3100,3100,3100,3100,3100,3100,3100,3100,3100,3100,3100,3100,3100,3100,3100,3100,3100,3100,3100,3100,3100,3100,3100,3100,3100,3100,3100,null,null,null,35,3.1,3100,3100,3100,3100,3100,3100,3100,3100,3100,3100,3100,3100,3100,3100,3100,3100,3100,3100,3100,3100,3100,3100,3100,3100,3100,3100,3100,3100,3100,3100,3100,3100,3100,3100,3100,3100,3100,3100,3100,3100,3100,3100]
[null,null,null,null,null,null,null,null,null,null,null,null,null,null,null,null,null,null,null,null,null,null,null,null,null,null,null,null,null,null,null,null,null,null,null,null,null,null,null,null,null,null,null,null,null,null,null,null,null,null,null,null,null,null,null,null,null,null,null,null,null,null,null,null,null,null,null,null,null,null,null,null,null,null,null,null,null,null,null,null,null,null,null,null,null,null,null,null,null,null,null,null,null,null,null,null,null,null,null,null,null,null,null,null,null,null,null,null,null,null,null,null,null,null,null,null,null,null,null,null,null,null,null,null,null,null,null,null,null,null,null,null,null,null,null,null,null,null,null,null,null,null,null,null,null,36,3.1999999999999997,3199.9999999999995,3199.9999999999995,3199.9999999999995,3199.9999999999995,3199.9999999999995,3199.9999999999995,3199.9999999999995,3199.9999999999995,3199.9999999999995,3199.9999999999995,3199.9999999999995,3199.9999999999995,3199.9999999999995,3199.9999999999995,3199.9999999999995,3199.9999999999995,3199.9999999999995,3199.9999999999995,3199.9999999999995,3199.9999999999995,3199.9999999999995,3199.9999999999995,3199.9999999999995,3199.9999999999995,3199.9999999999995,3199.9999999999995,3199.9999999999995,3199.9999999999995,3199.9999999999995,3199.9999999999995,3199.9999999999995,3199.9999999999995,3199.9999999999995,3199.9999999999995,3199.9999999999995,3199.9999999999995,3199.9999999999995,3199.9999999999995,3199.9999999999995,3199.9999999999995,3199.9999999999995,3199.9999999999995,null,null,null,36,3.1999999999999997,3199.9999999999995,3199.9999999999995,3199.9999999999995,3199.9999999999995,3199.9999999999995,3199.9999999999995,3199.9999999999995,3199.9999999999995,3199.9999999999995,3199.9999999999995,3199.9999999999995,3199.9999999999995,3199.9999999999995,3199.9999999999995,3199.9999999999995,3199.9999999999995,3199.9999999999995,3199.9999999999995,3199.9999999999995,3199.9999999999995,3199.9999999999995,3199.9999999999995,3199.9999999999995,3199.9999999999995,3199.9999999999995,3199.9999999999995,3199.9999999999995,3199.9999999999995,3199.9999999999995,3199.9999999999995,3199.9999999999995,3199.9999999999995,3199.9999999999995,3199.9999999999995,3199.9999999999995,3199.9999999999995,3199.9999999999995,3199.9999999999995,3199.9999999999995,3199.9999999999995,3199.9999999999995,3199.9999999999995]
[null,null,null,null,null,null,null,null,null,null,null,null,null,null,null,null,null,null,null,null,null,null,null,null,null,null,null,null,null,null,null,null,null,null,null,null,null,null,null,null,null,null,null,null,null,null,null,null,null,null,null,null,null,null,null,null,null,null,null,null,null,null,null,null,null,null,null,null,null,null,null,null,null,null,null,null,null,null,null,null,null,null,null,null,null,null,null,null,null,null,null,null,null,null,null,null,null,null,null,null,null,null,null,null,null,null,null,null,null,null,null,null,null,null,null,null,null,null,null,null,null,null,null,null,null,null,null,null,null,null,null,null,null,null,null,null,null,null,null,null,null,null,null,null,null,45,3.9999999999999996,3999.9999999999995,3999.9999999999995,3999.9999999999995,3999.9999999999995,3999.9999999999995,3999.9999999999995,3999.9999999999995,3999.9999999999995,3999.9999999999995,3999.9999999999995,3999.9999999999995,3999.9999999999995,3999.9999999999995,3999.9999999999995,3999.9999999999995,3999.9999999999995,3999.9999999999995,3999.9999999999995,3999.9999999999995,3999.9999999999995,3999.9999999999995,3999.9999999999995,3999.9999999999995,3999.9999999999995,3999.9999999999995,3999.9999999999995,3999.9999999999995,3999.9999999999995,3999.9999999999995,3999.9999999999995,3999.9999999999995,3999.9999999999995,3999.9999999999995,3999.9999999999995,3999.9999999999995,3999.9999999999995,3999.9999999999995,3999.9999999999995,3999.9999999999995,3999.9999999999995,3999.9999999999995,3999.9999999999995,null,null,null,45,4,3999.9999999999995,3999.9999999999995,3999.9999999999995,3999.9999999999995,3999.9999999999995,3999.9999999999995,3999.9999999999995,3999.9999999999995,3999.9999999999995,3999.9999999999995,3999.9999999999995,3999.9999999999995,3999.9999999999995,3999.9999999999995,3999.9999999999995,3999.9999999999995,3999.9999999999995,3999.9999999999995,3999.9999999999995,3999.9999999999995,3999.9999999999995,3999.9999999999995,3999.9999999999995,3999.9999999999995,3999.9999999999995,3999.9999999999995,3999.9999999999995,3999.9999999999995,3999.9999999999995,3999.9999999999995,3999.9999999999995,3999.9999999999995,3999.9999999999995,3999.9999999999995,3999.9999999999995,3999.9999999999995,3999.9999999999995,3999.9999999999995,3999.9999999999995,3999.9999999999995,3999.9999999999995,3999.9999999999995]
[null,null,null,null,null,null,null,null,null,null,null,null,null,null,null,null,null,null,null,null,null,null,null,null,null,null,null,null,null,null,null,null,null,null,null,null,null,null,null,null,null,null,null,null,null,null,null,null,null,null,null,null,null,null,null,null,null,null,null,null,null,null,null,null,null,null,null,null,null,null,null,null,null,null,null,null,null,null,null,null,null,null,null,null,null,null,null,null,null,null,null,null,null,null,null,null,null,null,null,null,null,null,null,null,null,null,null,null,null,null,null,null,null,null,null,null,null,null,null,null,null,null,null,null,null,null,null,null,null,null,null,null,null,null,null,null,null,null,null,null,null,null,null,null,null,48,4.3000000000000007,4300.0000000000009,4300.0000000000009,4300.0000000000009,4300.0000000000009,4300.0000000000009,4300.0000000000009,4300.0000000000009,4300.0000000000009,4300.0000000000009,4300.0000000000009,4300.0000000000009,4300.0000000000009,4300.0000000000009,4300.0000000000009,4300.0000000000009,4300.0000000000009,4300.0000000000009,4300.0000000000009,4300.0000000000009,4300.0000000000009,4300.0000000000009,4300.0000000000009,4300.0000000000009,4300.0000000000009,4300.0000000000009,4300.0000000000009,4300.0000000000009,4300.0000000000009,4300.0000000000009,4300.0000000000009,4300.0000000000009,4300.0000000000009,4300.0000000000009,4300.0000000000009,4300.0000000000009,4300.0000000000009,4300.0000000000009,4300.0000000000009,4300.0000000000009,4300.0000000000009,4300.0000000000009,4300.0000000000009,null,null,null,48,4.3000000000000007,4300.0000000000009,4300.0000000000009,4300.0000000000009,4300.0000000000009,4300.0000000000009,4300.0000000000009,4300.0000000000009,4300.0000000000009,4300.0000000000009,4300.0000000000009,4300.0000000000009,4300.0000000000009,4300.0000000000009,4300.0000000000009,4300.0000000000009,4300.0000000000009,4300.0000000000009,4300.0000000000009,4300.0000000000009,4300.0000000000009,4300.0000000000009,4300.0000000000009,4300.0000000000009,4300.0000000000009,4300.0000000000009,4300.0000000000009,4300.0000000000009,4300.0000000000009,4300.0000000000009,4300.0000000000009,4300.0000000000009,4300.0000000000009,4300.0000000000009,4300.0000000000009,4300.0000000000009,4300.0000000000009,4300.0000000000009,4300.0000000000009,4300.0000000000009,4300.0000000000009,4300.0000000000009,4300.0000000000009]
[null,null,null,null,null,null,null,null,null,null,null,null,null,null,null,null,null,null,null,null,null,null,null,null,null,null,null,null,null,null,null,null,null,null,null,null,null,null,null,null,null,null,null,null,null,null,null,null,null,null,null,null,null,null,null,null,null,null,null,null,null,null,null,null,null,null,null,null,null,null,null,null,null,null,null,null,null,null,null,null,null,null,null,null,null,null,null,null,null,null,null,null,null,null,null,null,null,null,null,null,null,null,null,null,null,null,null,null,null,null,null,null,null,null,null,null,null,null,null,null,null,null,null,null,null,null,null,null,null,null,null,null,null,null,null,null,null,null,null,null,null,null,null,null,null,55,5,5000,5000,5000,5000,5000,5000,5000,5000,5000,5000,5000,5000,5000,5000,5000,5000,5000,5000,5000,5000,5000,5000,5000,5000,5000,5000,5000,5000,5000,5000,5000,5000,5000,5000,5000,5000,5000,5000,5000,5000,5000,5000,null,null,null,55,5,5000,5000,5000,5000,5000,5000,5000,5000,5000,5000,5000,5000,5000,5000,5000,5000,5000,5000,5000,5000,5000,5000,5000,5000,5000,5000,5000,5000,5000,5000,5000,5000,5000,5000,5000,5000,5000,5000,5000,5000,5000,5000]
[null,null,null,null,null,null,null,null,null,null,null,null,null,null,null,null,null,null,null,null,null,null,null,null,null,null,null,null,null,null,null,null,null,null,null,null,null,null,null,null,null,null,null,null,null,null,null,null,null,null,null,null,null,null,null,null,null,null,null,null,null,null,null,null,null,null,null,null,null,null,null,null,null,null,null,null,null,null,null,null,null,null,null,null,null,null,null,null,null,null,null,null,null,null,null,null,null,null,null,null,null,null,null,null,null,null,null,null,null,null,null,null,null,null,null,null,null,null,null,null,null,null,null,null,null,null,null,null,null,null,null,null,null,null,null,null,null,null,null,null,null,null,null,null,null,64,5.8000000000000007,5800.0000000000009,5800.0000000000009,5800.0000000000009,5800.0000000000009,5800.0000000000009,5800.0000000000009,5800.0000000000009,5800.0000000000009,5800.0000000000009,5800.0000000000009,5800.0000000000009,5800.0000000000009,5800.0000000000009,5800.0000000000009,5800.0000000000009,5800.0000000000009,5800.0000000000009,5800.0000000000009,5800.0000000000009,5800.0000000000009,5800.0000000000009,5800.0000000000009,5800.0000000000009,5800.0000000000009,5800.0000000000009,5800.0000000000009,5800.0000000000009,5800.0000000000009,5800.0000000000009,5800.0000000000009,5800.0000000000009,5800.0000000000009,5800.0000000000009,5800.0000000000009,5800.0000000000009,5800.0000000000009,5800.0000000000009,5800.0000000000009,5800.0000000000009,5800.0000000000009,5800.0000000000009,5800.0000000000009,null,null,null,64,5.8,5800.0000000000009,5800.0000000000009,5800.0000000000009,5800.0000000000009,5800.0000000000009,5800.0000000000009,5800.0000000000009,5800.0000000000009,5800.0000000000009,5800.0000000000009,5800.0000000000009,5800.0000000000009,5800.0000000000009,5800.0000000000009,5800.0000000000009,5800.0000000000009,5800.0000000000009,5800.0000000000009,5800.0000000000009,5800.0000000000009,5800.0000000000009,5800.0000000000009,5800.0000000000009,5800.0000000000009,5800.0000000000009,5800.0000000000009,5800.0000000000009,5800.0000000000009,5800.0000000000009,5800.0000000000009,5800.0000000000009,5800.0000000000009,5800.0000000000009,5800.0000000000009,5800.0000000000009,5800.0000000000009,5800.0000000000009,5800.0000000000009,5800.0000000000009,5800.0000000000009,5800.0000000000009,5800.0000000000009]
[null,null,null,null,null,null,null,null,null,null,null,null,null,null,null,null,null,null,null,null,null,null,null,null,null,null,null,null,null,null,null,null,null,null,null,null,null,null,null,null,null,null,null,null,null,null,null,null,null,null,null,null,null,null,null,null,null,null,null,null,null,null,null,null,null,null,null,null,null,null,null,null,null,null,null,null,null,null,null,null,null,null,null,null,null,null,null,null,null,null,null,null,null,null,null,null,null,null,null,null,null,null,null,null,null,null,null,null,null,null,null,null,null,null,null,null,null,null,null,null,null,null,null,null,null,null,null,null,null,null,null,null,null,null,null,null,null,null,null,null,null,null,null,null,null,67]
[null,null,null,null,null,null,null,null,null,null,null,null,null,null,null,null,null,null,null,null,null,null,null,null,null,null,null,null,null,null,null,null,null,null,null,null,null,null,null,null,null,null,null,null,null,null,null,null,null,null,null,null,null,null,null,null,null,null,null,null,null,null,null,null,null,null,null,null,null,null,null,null,null,null,null,null,null,null,null,null,null,null,null,null,null,null,null,null,null,null,null,null,null,null,null,null,null,null,null,null,null,null,null,null,null,null,null,null,null,null,null,null,null,null,null,null,null,null,null,null,null,null,null,null,null,null,null,null,null,null,null,null,null,null,null,null,null,null,null,null,null,null,null,null,null,null,null,1,2,3,4,5,6,7,8,9,10,11,11,12,13,14,15,16,17,18,19,20,21,21,22,23,24,25,26,27,28,29,30,31,31,32,33,34,35,36,37,38,39,40,41,null,null,null,1,2,3,4,5,6,7,8,9,10,11,11,12,13,14,15,16,17,18,19,20,21,21,22,23,24,25,26,27,28,29,30,31,31,32,33,34,35,36,37,38,39,40,41,null,null,null,1,2,3,4,5,6,7,8,9,10,11,11,12,13,14,15,16,17,18,19,20,21,21,22,23,24,25,26,27,28,29,30,31,31,32,33,34,35,36,37,38,39,40,41,null,null,null,null,null,null,1,2,3,4,5,6,7,8,9,10,11,11,12,13,14,15,16,17,18,19,20,21,21,22,23,24,25,26,27,28,29,30,31,31,32,33,34,35,36,37,38,39,40,41,null,null,null,null,null,null,null,1,2,3,4,5,6,7,8,9,10,11,12,13,14,15,16,17,18,19,20,21,22,23,24,25,26,27,28,29,30,31,32,33,34,35,36,37,38,39,40,null,null,null,null,1,2,3,4,5,6,7,8,9,10,11,12,13,14,15,16,17,18,19,20,21,22,23,24,25,26,27,28,29,30,31,32,33,34,35,36,37,38,39,40,null,null,null,null,1,2,3,4,5,6,7,8,9,10,11,12,13,14,15,16,17,18,19,20,21,22,23,24,25,26,27,28,29,30,31,32,33,34,35,36,37,38,39,40,null,null,null,null,null,null,null,null,null,null,null,null,null,null,null,null,null,null,null,null,null,null,null,null,null,null,null,null,null,null,null,null,null,null,null,null,null,null,null,null,null,null,null,null,null,null,null,null,null,null,null,null,null,null,null,null,null,null,null,null,null,null,null,null,null,null,null,null,null,null,null,null,null,null,null,null,null,null,null,null,null,null,null,null,null,null,null,null,null,null,null,null,null,null,null,null,null,null,null,null,null,null,null,null,null,null,null,null,null,null,null,null,null,null,null,null,null,null,null,null,null,null,null,null,null,null,null,null,null,null,null,null,null,null,null,null,null,null,null,null,null,null,null,null,null,null,null,null,null,null,null,null,null,null,null,null,null,null,null,null,null,null,null,null,null,null,null,null,null,null,null,null,null,null,null,null,null,null,null,null,null,null,null,null,null,null,null,null,null,null,null,null,null,null,null,null,null,null,null,null,null,null,null,null,null,null,null,null,null,null,null,null,null,null,null,null,null,null,null,null,null,null,null,null,null,null,null,1,2,3,4,5,6,7,8,9,10,11,11,12,13,14,15,16,17,18,19,20,21,21,22,23,24,25,26,27,28,29,30,31,31,32,33,34,35,36,37,38,39,40,41]
[null,null,null,null,null,null,null,null,null,null,null,null,null,null,null,null,null,null,null,null,null,null,null,null,null,null,null,null,null,null,null,null,null,null,null,null,null,null,null,null,null,null,null,null,null,null,null,null,null,null,null,null,null,null,null,null,null,null,null,null,null,null,null,null,null,null,null,null,null,null,null,null,null,null,null,null,null,null,null,null,null,null,null,null,null,null,null,null,null,null,null,null,null,null,null,null,null,null,null,null,null,null,null,null,null,null,null,null,null,null,null,null,null,null,null,null,null,null,null,null,null,null,null,null,null,null,null,null,null,null,null,null,null,null,null,null,null,null,null,null,null,null,null,null,null,0.70000000000000007,8,43.5,43.26,43.06,42.91,42.81,42.76,42.81,42.96,43.14,47.25,47.22,47.22,42.96,42.51,42.02,41.64,41.5,41.74,42.26,42.86,43.36,43.57,43.57,43.43,43.07,42.57,42.02,41.5,41.02,40.5,39.96,39.43,38.9,38.9,38.36,37.799999999999997,37.25,36.770000000000003,36.42,36.18,36.020000000000003,35.96,35.980000000000004,36.08,null,0.70000000000000007,8,43.5,0,0,0,0,42.76,0,0,0,47.25,47.22,47.22,0,0,0,0,41.5,0,0,0,0,43.57,43.57,0,0,0,0,41.5,0,0,0,0,38.9,38.9,0,0,0,0,36.42,0,0,0,0,36.08,null,null,8,45,45.444444444444443,45.888888888888886,46.333333333333329,46.777777777777771,47.222222222222221,47.666666666666664,48.111111111111114,48.555555555555557,49,49.444444444444443,50,49.599999999999994,49.199999999999996,48.8,48.399999999999991,48,47.599999999999994,47.199999999999996,46.8,46.399999999999991,46,44,43.6,43.2,42.8,42.400000000000006,42,41.6,41.2,40.799999999999997,40.400000000000006,40,39,38.700000000000003,38.400000000000006,38.1,37.799999999999997,37.5,37.200000000000003,36.900000000000006,36.6,36.299999999999997,36,null,null,null,null,0.70000000000000007,8,1.5,2.1844444444444449,2.8288888888888835,3.423333333333332,3.9677777777777692,4.4622222222222234,4.856666666666662,5.1511111111111134,5.4155555555555566,1.75,2.224444444444444,2.7800000000000011,6.6399999999999935,6.6899999999999977,6.779999999999994,6.7599999999999909,6.5,5.8599999999999923,4.9399999999999977,3.9399999999999977,3.039999999999992,2.4299999999999997,0.42999999999999972,0.17000000000000171,0.13000000000000256,0.22999999999999687,0.38000000000000256,0.5,0.57999999999999829,0.70000000000000284,0.83999999999999631,0.97000000000000597,1.1000000000000014,0.10000000000000142,0.34000000000000341,0.60000000000000853,0.85000000000000142,1.029999999999994,1.0799999999999983,1.0200000000000031,0.88000000000000256,0.64000000000000057,0.31999999999999318,-7.9999999999998295E-2,null,null,null,null,null,0.8,9,0.95222222222222186,1.4691666666666645,1.9886111111111084,2.5055555555555546,3.0224999999999991,3.5369444444444422,4.0363888888888901,4.528333333333336,4.0402777777777779,3.5922222222222207,3.8499999999999996,4.7225000000000019,4.6450000000000014,4.5399999999999991,4.3324999999999996,3.9600000000000009,3.4100000000000019,2.754999999999999,2.0924999999999976,1.5224999999999991,5.8449999999999989,5.5300000000000011,5.2925000000000004,5.1149999999999984,4.9924999999999997,4.9225000000000012,4.9025000000000034,4.9375000000000018,5.0274999999999981,5.1649999999999991,4.4350000000000023,4.8725000000000005,5.3774999999999995,5.8424999999999994,6.1524999999999999,6.2550000000000026,6.1850000000000014,5.9775000000000018,5.6375000000000002,5.1624999999999979,null,null,0.8,9,22.99,22.99,22.99,5.27,5.27,5.27,1.68,1.68,1.68,5.27,5.27,1.68,1.68,1.68,1.68,5.27,5.27,5.27,5.27,22.99,1.68,1.68,1.68,1.68,1.68,1.68,1.68,1.68,1.68,1.68,1.68,1.68,1.68,1.68,0.56999999999999995,0.56999999999999995,0.56999999999999995,1.68,1.68,1.68,null,null,0.8,9,22.799999999999997,22.799999999999997,22.799999999999997,5.0799999999999992,5.0799999999999992,4.6999999999999993,1.1099999999999999,1.1099999999999999,1.1099999999999999,3.59,3.59,1.1099999999999999,1.1099999999999999,1.1099999999999999,1.1099999999999999,4.6999999999999993,3.59,3.59,3.59,21.31,0,0,-3.59,-3.59,0,0,0,0,0,0,0,1.1099999999999999,1.1099999999999999,1.1099999999999999,0,0,0.37999999999999995,1.1099999999999999,1.1099999999999999,1.1099999999999999,null,null,null,null,null,null,null,null,null,null,null,null,null,null,null,null,null,null,null,null,null,null,null,null,null,null,null,null,null,null,null,null,null,null,null,null,null,null,null,null,null,null,null,null,null,null,null,null,null,null,null,null,null,null,null,null,null,null,null,null,null,null,null,null,null,null,null,null,null,null,null,null,null,null,null,null,null,null,null,null,null,null,null,null,null,null,null,null,null,null,null,null,null,null,null,null,null,null,null,null,null,null,null,null,null,null,null,null,null,null,null,null,null,null,null,null,null,null,null,null,null,null,null,null,null,null,null,null,null,null,null,null,null,null,null,null,null,null,null,null,null,null,null,null,null,null,null,null,null,null,null,null,null,null,null,null,null,null,null,null,null,null,null,null,null,null,null,null,null,null,null,null,null,null,null,null,null,null,null,null,null,null,null,null,null,null,null,null,null,null,null,null,null,null,null,null,null,null,null,null,null,null,null,null,null,null,null,null,null,null,null,null,null,null,null,null,null,null,null,null,null,null,null,null,0.70000000000000007,8,{"$f":"IF(ISNUMBER(INDEX(Asfalt,$ZT235,ZV$226)),INDEX(Asfalt,$ZT235,ZV$226),0)","v":4},4,4,4,4,4,4,4,4,8,8,8,4,4,4,4,4,4,4,4,4,4,4,4,4,4,4,4,4,4,4,4,4,4,4,4,4,4,4,4,4,4,4,4]
[null,null,null,null,null,null,null,null,null,null,null,null,null,null,null,null,null,null,null,null,null,null,null,null,null,null,null,null,null,null,null,null,null,null,null,null,null,null,null,null,null,null,null,null,null,null,null,null,null,null,null,null,null,null,null,null,null,null,null,null,null,null,null,null,null,null,null,null,null,null,null,null,null,null,null,null,null,null,null,null,null,null,null,null,null,null,null,null,null,null,null,null,null,null,null,null,null,null,null,null,null,null,null,null,null,null,null,null,null,null,null,null,null,null,null,null,null,null,null,null,null,null,null,null,null,null,null,null,null,null,null,null,null,null,null,null,null,null,null,null,null,null,null,null,null,0.8,9,43.38,43.25,43.13,43.03,42.95,42.88,42.85,42.87,42.89,46.87,46.78,46.78,42.54,42.18,41.8,41.5,41.38,41.5,41.82,42.21,42.54,42.67,42.67,42.6,42.39,42.1,41.75,41.38,40.98,40.54,40.049999999999997,39.53,38.979999999999997,38.979999999999997,38.33,37.6,36.86,36.21,35.739999999999995,35.46,35.299999999999997,35.269999999999996,35.35,35.56,null,0.8,9,43.38,0,0,0,0,42.88,0,0,0,46.87,46.78,46.78,0,0,0,0,41.38,0,0,0,0,42.67,42.67,0,0,0,0,41.38,0,0,0,0,38.979999999999997,38.979999999999997,0,0,0,0,35.739999999999995,0,0,0,0,35.56,null,null,9,43,43.444444444444443,43.888888888888886,44.333333333333336,44.777777777777779,45.222222222222221,45.666666666666664,46.111111111111114,46.555555555555557,47,47.444444444444443,47,46.6,46.2,45.8,45.4,45,44.6,44.2,43.8,43.4,43,45.5,45.1,44.7,44.3,43.9,43.5,43.1,42.7,42.3,41.9,41.5,40.5,40.200000000000003,39.9,39.6,39.299999999999997,39,38.700000000000003,38.4,38.1,37.799999999999997,37.5,null,null,null,null,0.8,9,-0.38000000000000256,0.19444444444444287,0.75888888888888317,1.3033333333333346,1.8277777777777757,2.3422222222222189,2.8166666666666629,3.2411111111111168,3.6655555555555566,0.13000000000000256,0.66444444444444173,0.21999999999999886,4.0600000000000023,4.0200000000000031,4,3.8999999999999986,3.6199999999999974,3.1000000000000014,2.3800000000000026,1.5899999999999963,0.85999999999999943,0.32999999999999829,2.8299999999999983,2.5,2.3100000000000023,2.1999999999999957,2.1499999999999986,2.1199999999999974,2.1200000000000045,2.1600000000000037,2.25,2.3699999999999974,2.5200000000000031,1.5200000000000031,1.8700000000000045,2.2999999999999972,2.740000000000002,3.0899999999999963,3.2600000000000051,3.240000000000002,3.1000000000000014,2.8300000000000054,2.4499999999999957,1.9399999999999977,null,null,null,null,null,0.9,10,1.0897222222222229,1.5141666666666662,1.9686111111111089,2.4505555555555549,2.9600000000000009,3.5044444444444451,4.0838888888888913,4.6883333333333344,5.3127777777777769,5.9497222222222206,4.2349999999999994,4.0700000000000021,3.9200000000000017,3.7474999999999987,3.5175000000000001,3.1950000000000021,2.7725000000000026,2.2924999999999986,1.7974999999999977,1.33,10.154999999999999,9.745000000000001,9.3550000000000004,9.009999999999998,8.7424999999999997,8.5725000000000016,8.4825000000000035,8.4650000000000016,8.5224999999999973,8.6524999999999981,7.9475000000000016,8.4525000000000006,9.0525000000000002,9.6125000000000007,9.9949999999999992,10.135000000000002,10.075000000000001,9.86,9.4924999999999997,8.9699999999999989,null,null,0.9,10,22.99,22.99,22.99,5.27,5.27,5.27,1.68,1.68,1.68,1.68,1.68,1.68,5.27,5.27,5.27,5.27,5.27,5.27,22.99,22.99,0.06,0.19,0.19,0.19,0.19,0.19,0.19,0.19,0.19,0.19,0.56999999999999995,0.19,0.19,0.19,0.19,0.06,0.06,0.19,0.19,0.19,null,null,0.9,10,22.93,22.93,22.93,5.21,5.21,5.21,1.49,1.49,1.49,1.49,1.49,1.49,5.0799999999999992,5.0799999999999992,5.0799999999999992,5.0799999999999992,5.0799999999999992,5.0799999999999992,22.419999999999998,22.419999999999998,-0.51,-0.37999999999999995,-0.37999999999999995,-0.37999999999999995,-0.37999999999999995,-0.37999999999999995,-0.37999999999999995,-0.37999999999999995,-0.37999999999999995,-0.37999999999999995,0,0,0,0,0.13,0,0,0.13,0.13,0,null,null,null,null,null,null,null,null,null,null,null,null,null,null,null,null,null,null,null,null,null,null,null,null,null,null,null,null,null,null,null,null,null,null,null,null,null,null,null,null,null,null,null,null,null,null,null,null,null,null,null,null,null,null,null,null,null,null,null,null,null,null,null,null,null,null,null,null,null,null,null,null,null,null,null,null,null,null,null,null,null,null,null,null,null,null,null,null,null,null,null,null,null,null,null,null,null,null,null,null,null,null,null,null,null,null,null,null,null,null,null,null,null,null,null,null,null,null,null,null,null,null,null,null,null,null,null,null,null,null,null,null,null,null,null,null,null,null,null,null,null,null,null,null,null,null,null,null,null,null,null,null,null,null,null,null,null,null,null,null,null,null,null,null,null,null,null,null,null,null,null,null,null,null,null,null,null,null,null,null,null,null,null,null,null,null,null,null,null,null,null,null,null,null,null,null,null,null,null,null,null,null,null,null,null,null,null,null,null,null,null,null,null,null,null,null,null,null,null,null,null,null,null,null,0.8,9,{"$f":"IF(ISNUMBER(INDEX(Asfalt,$ZT236,ZV$226)),INDEX(Asfalt,$ZT236,ZV$226),0)","v":4},4,4,4,4,4,4,4,4,8,8,8,4,4,4,4,4,4,4,4,4,4,4,4,4,4,4,4,4,4,4,4,4,4,4,4,4,4,4,4,4,4,4,4]
[null,null,null,null,null,null,null,null,null,null,null,null,null,null,null,null,null,null,null,null,null,null,null,null,null,null,null,null,null,null,null,null,null,null,null,null,null,null,null,null,null,null,null,null,null,null,null,null,null,null,null,null,null,null,null,null,null,null,null,null,null,null,null,null,null,null,null,null,null,null,null,null,null,null,null,null,null,null,null,null,null,null,null,null,null,null,null,null,null,null,null,null,null,null,null,null,null,null,null,null,null,null,null,null,null,null,null,null,null,null,null,null,null,null,null,null,null,null,null,null,null,null,null,null,null,null,null,null,null,null,null,null,null,null,null,null,null,null,null,null,null,null,null,null,null,1.5,16,37,37.36,37.64,37.840000000000003,37.96,38,37.94,37.79,37.57,37.299999999999997,37,37,36.65,36.22,35.78,35.35,35,34.700000000000003,34.43,34.21,34.06,34,34,34.1,34.35,34.65,34.9,35,34.93,34.74,34.5,34.229999999999997,34,34,33.78,33.549999999999997,33.33,33.14,33,32.92,32.880000000000003,32.880000000000003,32.92,33,null,1.5,16,37,0,0,0,0,38,0,0,0,0,37,37,0,0,0,0,35,0,0,0,0,34,34,0,0,0,0,35,0,0,0,0,34,34,0,0,0,0,33,0,0,0,0,33,null,null,16,46.333333333333329,46.133333333333326,45.93333333333333,45.733333333333327,45.533333333333331,45.333333333333329,45.133333333333326,44.93333333333333,44.733333333333327,44.533333333333331,44.333333333333329,44.333333333333329,44.733333333333327,45.133333333333326,45.533333333333331,45.93333333333333,46.333333333333329,46.733333333333327,47.133333333333326,47.533333333333331,47.93333333333333,48.333333333333329,44.083333333333336,43.708333333333336,43.333333333333336,42.958333333333336,42.583333333333336,42.208333333333336,41.833333333333336,41.458333333333336,41.083333333333336,40.708333333333336,40.333333333333336,40.333333333333336,40.133333333333333,39.933333333333337,39.733333333333334,39.533333333333339,39.333333333333336,39.133333333333333,38.933333333333337,38.733333333333334,38.533333333333339,38.333333333333336,null,null,null,null,1.5,16,9.3333333333333286,8.7733333333333263,8.2933333333333294,7.8933333333333238,7.5733333333333306,7.3333333333333286,7.193333333333328,7.1433333333333309,7.1633333333333269,7.2333333333333343,7.3333333333333286,7.3333333333333286,8.0833333333333286,8.9133333333333269,9.7533333333333303,10.583333333333329,11.333333333333329,12.033333333333324,12.703333333333326,13.323333333333331,13.873333333333328,14.333333333333329,10.083333333333336,9.6083333333333343,8.9833333333333343,8.3083333333333371,7.6833333333333371,7.2083333333333357,6.903333333333336,6.7183333333333337,6.5833333333333357,6.4783333333333388,6.3333333333333357,6.3333333333333357,6.3533333333333317,6.38333333333334,6.403333333333336,6.393333333333338,6.3333333333333357,6.2133333333333312,6.0533333333333346,5.8533333333333317,5.6133333333333368,5.3333333333333357,null,null,null,null,null,1.7999999999999998,19,4.0499999999999954,3.4674999999999976,2.9749999999999979,2.572499999999998,2.2649999999999952,2.082499999999996,2.0599999999999952,2.1474999999999955,2.2424999999999979,2.2399999999999949,2.3774999999999942,2.6774999999999967,2.8874999999999957,3.0524999999999967,3.207499999999996,3.3599999999999959,3.4949999999999974,3.6124999999999954,3.7324999999999982,3.884999999999998,4.4600000000000044,1.9525000000000023,3.4825000000000017,5.0225000000000026,4.542500000000004,4.0050000000000043,3.3925000000000036,2.7525000000000031,2.172500000000003,1.7425000000000033,1.6325000000000021,1.8575000000000035,2.2375000000000043,2.6475000000000044,2.9650000000000034,3.1325000000000021,3.1875000000000036,3.1675000000000022,3.0800000000000018,2.922500000000003,null,null,1.7999999999999998,19,1.68,5.27,5.27,5.27,5.27,5.27,5.27,5.27,5.27,5.27,5.27,5.27,5.27,5.27,5.27,5.27,5.27,5.27,5.27,5.27,1.68,22.99,5.27,1.68,1.68,1.68,5.27,5.27,5.27,22.99,22.99,22.99,5.27,5.27,5.27,5.27,5.27,5.27,5.27,5.27,null,null,1.7999999999999998,19,1.1099999999999999,4.6999999999999993,4.6999999999999993,4.6999999999999993,3.59,3.59,4.6999999999999993,4.6999999999999993,4.6999999999999993,4.6999999999999993,4.6999999999999993,4.6999999999999993,4.6999999999999993,4.6999999999999993,4.6999999999999993,3.59,3.59,3.59,3.59,3.59,0,17.72,3.59,0,0,0,3.59,3.59,0,17.72,17.72,17.72,0,0,3.59,3.59,3.59,3.59,3.59,0,null,null,null,null,null,null,null,null,null,null,null,null,null,null,null,null,null,null,null,null,null,null,null,null,null,null,null,null,null,null,null,null,null,null,null,null,null,null,null,null,null,null,null,null,null,null,null,null,null,null,null,null,null,null,null,null,null,null,null,null,null,null,null,null,null,null,null,null,null,null,null,null,null,null,null,null,null,null,null,null,null,null,null,null,null,null,null,null,null,null,null,null,null,null,null,null,null,null,null,null,null,null,null,null,null,null,null,null,null,null,null,null,null,null,null,null,null,null,null,null,null,null,null,null,null,null,null,null,null,null,null,null,null,null,null,null,null,null,null,null,null,null,null,null,null,null,null,null,null,null,null,null,null,null,null,null,null,null,null,null,null,null,null,null,null,null,null,null,null,null,null,null,null,null,null,null,null,null,null,null,null,null,null,null,null,null,null,null,null,null,null,null,null,null,null,null,null,null,null,null,null,null,null,null,null,null,null,null,null,null,null,null,null,null,null,null,null,null,null,null,null,null,null,null,1.5,16,{"$f":"IF(ISNUMBER(INDEX(Asfalt,$ZT245,ZV$226)),INDEX(Asfalt,$ZT245,ZV$226),0)","v":0},0,0,0,0,0,0,0,0,0,0,0,0,0,0,0,0,0,0,0,0,0,0,0,0,0,0,0,0,0,0,0,0,0,0,0,0,0,0,0,0,0,0,0]
[null,null,null,null,null,null,null,null,null,null,null,null,null,null,null,null,null,null,null,null,null,null,null,null,null,null,null,null,null,null,null,null,null,null,null,null,null,null,null,null,null,null,null,null,null,null,null,null,null,null,null,null,null,null,null,null,null,null,null,null,null,null,null,null,null,null,null,null,null,null,null,null,null,null,null,null,null,null,null,null,null,null,null,null,null,null,null,null,null,null,null,null,null,null,null,null,null,null,null,null,null,null,null,null,null,null,null,null,null,null,null,null,null,null,null,null,null,null,null,null,null,null,null,null,null,null,null,null,null,null,null,null,null,null,null,null,null,null,null,null,null,null,null,null,null,1.7999999999999998,19,36.21,36.65,36.99,37.25,37.409999999999997,37.47,37.380000000000003,37.14,36.83,36.549999999999997,36.4,36.4,36.380000000000003,36.44,36.56,36.700000000000003,36.85,37.020000000000003,37.22,37.43,37.64,37.82,37.82,41.95,42.06,38.15,38.25,38.36,38.53,38.75,38.96,39.07,39.020000000000003,39.020000000000003,38.729999999999997,38.25,37.69,37.159999999999997,36.770000000000003,36.51,36.32,36.200000000000003,36.14,36.14,null,1.7999999999999998,19,0,0,0,0,0,0,0,0,0,0,0,0,0,0,0,0,0,0,0,0,0,0,0,0,0,0,0,0,0,0,0,0,0,0,0,0,0,0,0,0,0,0,0,0,null,null,19,41.333333333333329,41.133333333333333,40.933333333333337,40.733333333333334,40.533333333333331,40.333333333333329,40.133333333333333,39.93333333333333,39.733333333333334,39.533333333333331,39.333333333333329,39.333333333333329,39.733333333333334,40.133333333333333,40.533333333333331,40.933333333333337,41.333333333333329,41.733333333333334,42.133333333333333,42.533333333333331,42.933333333333337,43.333333333333329,45.083333333333336,44.708333333333336,44.333333333333336,43.958333333333336,43.583333333333336,43.208333333333336,42.833333333333336,42.458333333333336,42.083333333333336,41.708333333333336,41.333333333333336,41.333333333333336,41.133333333333333,40.933333333333337,40.733333333333334,40.533333333333339,40.333333333333336,40.133333333333333,39.933333333333337,39.733333333333334,39.533333333333339,39.333333333333336,null,null,null,null,1.7999999999999998,19,5.1233333333333277,4.4833333333333343,3.9433333333333351,3.4833333333333343,3.1233333333333348,2.8633333333333297,2.7533333333333303,2.7933333333333294,2.903333333333336,2.9833333333333343,2.93333333333333,2.93333333333333,3.3533333333333317,3.6933333333333351,3.9733333333333292,4.2333333333333343,4.4833333333333272,4.7133333333333312,4.913333333333334,5.1033333333333317,5.2933333333333366,5.5133333333333283,7.2633333333333354,2.7583333333333329,2.2733333333333334,5.8083333333333371,5.3333333333333357,4.8483333333333363,4.3033333333333346,3.7083333333333357,3.1233333333333348,2.6383333333333354,2.3133333333333326,2.3133333333333326,2.403333333333336,2.6833333333333371,3.0433333333333366,3.373333333333342,3.5633333333333326,3.6233333333333348,3.6133333333333368,3.5333333333333314,3.393333333333338,3.1933333333333351,null,null,null,null,null,2.1,22,2.5299999999999976,2.2574999999999985,2.0174999999999983,1.8099999999999987,1.6374999999999993,1.5274999999999999,1.5125000000000011,1.5449999999999999,1.5324999999999989,1.384999999999998,1.4424999999999937,1.4674999999999958,1.3574999999999964,1.1974999999999962,1.0799999999999965,1.0699999999999932,1.1474999999999937,1.2599999999999962,1.3599999999999977,1.4024999999999981,4.2849999999999984,1.4274999999999984,2.504999999999999,3.6199999999999974,2.8774999999999977,2.34,1.9774999999999991,1.7424999999999979,1.6174999999999962,1.582499999999996,0.75749999999999851,0.98249999999999815,1.3149999999999995,1.6624999999999996,1.9374999999999982,2.0874999999999986,2.1425000000000018,2.1375000000000028,2.0700000000000003,1.9399999999999995,null,null,2.1,22,5.27,5.27,5.27,22.99,22.99,22.99,22.99,22.99,22.99,22.99,22.99,22.99,22.99,22.99,22.99,22.99,22.99,22.99,22.99,22.99,1.68,22.99,5.27,5.27,5.27,5.27,22.99,22.99,22.99,22.99,22.99,22.99,22.99,22.99,22.99,5.27,5.27,5.27,5.27,22.99,null,null,2.1,22,3.59,0,0,17.72,17.72,21.31,21.31,21.31,21.31,21.31,21.31,21.31,17.72,17.72,17.72,17.72,0,0,0,0,1.6199999999999999,22.799999999999997,5.0799999999999992,5.21,5.0799999999999992,5.0799999999999992,22.419999999999998,22.419999999999998,22.419999999999998,22.419999999999998,22.419999999999998,22.419999999999998,22.419999999999998,22.419999999999998,22.419999999999998,4.6999999999999993,4.6999999999999993,4.6999999999999993,4.6999999999999993,22.419999999999998,null,null,null,null,null,null,null,null,null,null,null,null,null,null,null,null,null,null,null,null,null,null,null,null,null,null,null,null,null,null,null,null,null,null,null,null,null,null,null,null,null,null,null,null,null,null,null,null,null,null,null,null,null,null,null,null,null,null,null,null,null,null,null,null,null,null,null,null,null,null,null,null,null,null,null,null,null,null,null,null,null,null,null,null,null,null,null,null,null,null,null,null,null,null,null,null,null,null,null,null,null,null,null,null,null,null,null,null,null,null,null,null,null,null,null,null,null,null,null,null,null,null,null,null,null,null,null,null,null,null,null,null,null,null,null,null,null,null,null,null,null,null,null,null,null,null,null,null,null,null,null,null,null,null,null,null,null,null,null,null,null,null,null,null,null,null,null,null,null,null,null,null,null,null,null,null,null,null,null,null,null,null,null,null,null,null,null,null,null,null,null,null,null,null,null,null,null,null,null,null,null,null,null,null,null,null,null,null,null,null,null,null,null,null,null,null,null,null,null,null,null,null,null,null,1.7999999999999998,19,{"$f":"IF(ISNUMBER(INDEX(Asfalt,$ZT248,ZV$226)),INDEX(Asfalt,$ZT248,ZV$226),0)","v":0},0,0,0,0,0,0,0,0,0,0,0,0,0,0,0,0,0,0,0,0,0,0,4,4,0,0,0,0,0,0,0,0,0,0,0,0,0,0,0,0,0,0,0]
[null,null,null,null,null,null,null,null,null,null,null,null,null,null,null,null,null,null,null,null,null,null,null,null,null,null,null,null,null,null,null,null,null,null,null,null,null,null,null,null,null,null,null,null,null,null,null,null,null,null,null,null,null,null,null,null,null,null,null,null,null,null,null,null,null,null,null,null,null,null,null,null,null,null,null,null,null,null,null,null,null,null,null,null,null,null,null,null,null,null,null,null,null,null,null,null,null,null,null,null,null,null,null,null,null,null,null,null,null,null,null,null,null,null,null,null,null,null,null,null,null,null,null,null,null,null,null,null,null,null,null,null,null,null,null,null,null,null,null,null,null,null,null,null,null,2.4,25,36.9,36.42,36,35.659999999999997,35.380000000000003,35.159999999999997,35,34.9,34.86,34.92,35.07,35.07,35.39,35.880000000000003,36.409999999999997,36.909999999999997,37.26,37.340000000000003,37.19,37.04,37.1,37.549999999999997,37.549999999999997,42.69,44.37,42.18,43.71,44.55,44.5,43.84,42.86,41.87,41.15,41.15,40.75,40.450000000000003,40.229999999999997,40.03,39.82,39.590000000000003,39.369999999999997,39.17,38.979999999999997,38.799999999999997,null,2.4,25,0,0,0,0,0,0,0,0,0,0,0,0,0,0,0,0,0,0,0,0,0,0,0,0,0,0,0,0,0,0,0,0,0,0,0,0,0,0,0,0,0,0,0,0,null,null,25,40.4,40.200000000000003,40,39.799999999999997,39.6,39.4,39.200000000000003,39,38.799999999999997,38.6,38.4,38.72,39.119999999999997,39.519999999999996,39.92,40.32,40.72,41.12,41.519999999999996,41.92,42.32,42.72,49.3,49.05,48.8,48.55,48.3,48.05,47.8,47.55,47.3,47.05,46.8,44.4,44.15,43.9,43.65,43.4,43.15,42.9,42.650000000000006,42.4,42.15,41.9,null,null,null,null,2.4,25,3.5,3.7800000000000011,4,4.1400000000000006,4.2199999999999989,4.240000000000002,4.2000000000000028,4.1000000000000014,3.9399999999999977,3.6799999999999997,3.3299999999999983,3.6499999999999986,3.7299999999999969,3.6399999999999935,3.5100000000000051,3.4100000000000037,3.4600000000000009,3.779999999999994,4.3299999999999983,4.8800000000000026,5.2199999999999989,5.1700000000000017,11.75,6.3599999999999994,4.43,6.3699999999999974,4.5899999999999963,3.5,3.2999999999999972,3.7099999999999937,4.4399999999999977,5.18,5.6499999999999986,3.25,3.3999999999999986,3.4499999999999957,3.4200000000000017,3.3699999999999974,3.3299999999999983,3.3099999999999952,3.2800000000000082,3.2299999999999969,3.1700000000000017,3.1000000000000014,null,null,null,null,null,2.8,29,2.6674999999999986,2.3650000000000002,2.1074999999999999,1.8949999999999996,1.7250000000000014,1.6174999999999997,1.5975000000000001,1.6325000000000021,1.6575000000000006,1.6099999999999994,2.9175000000000004,2.8425000000000011,2.7000000000000011,2.5225000000000009,2.3475000000000001,2.25,2.2724999999999991,2.317499999999999,2.2199999999999989,1.8199999999999985,6.782500000000006,5.6058333333333366,4.0866666666666731,2.6275000000000084,1.6208333333333407,1.3516666666666755,1.7750000000000075,2.63333333333334,3.6641666666666755,4.612500000000006,1.4658333333333289,1.3824999999999985,1.2591666666666654,1.1133333333333315,0.96749999999999936,0.83416666666666472,0.70333333333332959,0.56999999999999851,0.43666666666666387,0.30083333333332973,null,null,2.8,29,5.27,5.27,5.27,22.99,22.99,22.99,22.99,22.99,22.99,22.99,5.27,5.27,5.27,5.27,5.27,5.27,5.27,5.27,5.27,22.99,0.56999999999999995,1.68,1.68,5.27,22.99,22.99,22.99,5.27,5.27,1.68,22.99,22.99,22.99,22.99,22.99,22.99,22.99,22.99,22.99,22.99,null,null,2.8,29,3.59,3.59,3.59,21.31,21.31,21.31,21.31,21.31,21.31,22.419999999999998,4.6999999999999993,4.6999999999999993,3.59,3.59,3.59,3.59,3.59,3.59,3.59,21.31,0.51,1.6199999999999999,1.1099999999999999,3.59,17.72,17.72,17.72,0,0,-3.59,17.72,17.72,17.72,17.72,17.72,17.72,17.72,0,0,0,null,null,null,null,null,null,null,null,null,null,null,null,null,null,null,null,null,null,null,null,null,null,null,null,null,null,null,null,null,null,null,null,null,null,null,null,null,null,null,null,null,null,null,null,null,null,null,null,null,null,null,null,null,null,null,null,null,null,null,null,null,null,null,null,null,null,null,null,null,null,null,null,null,null,null,null,null,null,null,null,null,null,null,null,null,null,null,null,null,null,null,null,null,null,null,null,null,null,null,null,null,null,null,null,null,null,null,null,null,null,null,null,null,null,null,null,null,null,null,null,null,null,null,null,null,null,null,null,null,null,null,null,null,null,null,null,null,null,null,null,null,null,null,null,null,null,null,null,null,null,null,null,null,null,null,null,null,null,null,null,null,null,null,null,null,null,null,null,null,null,null,null,null,null,null,null,null,null,null,null,null,null,null,null,null,null,null,null,null,null,null,null,null,null,null,null,null,null,null,null,null,null,null,null,null,null,null,null,null,null,null,null,null,null,null,null,null,null,null,null,null,null,null,null,2.4,25,{"$f":"IF(ISNUMBER(INDEX(Asfalt,$ZT255,ZV$226)),INDEX(Asfalt,$ZT255,ZV$226),0)","v":0},0,0,0,0,0,0,0,0,0,0,0,0,0,0,0,0,0,0,0,0,0,0,4,4,0,0,0,0,0,0,0,0,0,0,0,0,0,0,0,0,0,0,0]
[null,null,null,null,null,null,null,null,null,null,null,null,null,null,null,null,null,null,null,null,null,null,null,null,null,null,null,null,null,null,null,null,null,null,null,null,null,null,null,null,null,null,null,null,null,null,null,null,null,null,null,null,null,null,null,null,null,null,null,null,null,null,null,null,null,null,null,null,null,null,null,null,null,null,null,null,null,null,null,null,null,null,null,null,null,null,null,null,null,null,null,null,null,null,null,null,null,null,null,null,null,null,null,null,null,null,null,null,null,null,null,null,null,null,null,null,null,null,null,null,null,null,null,null,null,null,null,null,null,null,null,null,null,null,null,null,null,null,null,null,null,null,null,null,null,3.1,32,35.94,36.28,36.56,36.770000000000003,36.909999999999997,36.99,36.979999999999997,36.869999999999997,36.71,36.54,36.4,36.4,36.270000000000003,36.130000000000003,36.01,35.92,35.92,35.92,35.92,36,36.270000000000003,36.85,36.85,37.92,39.43,41.07,42.52,43.48,43.84,43.81,43.54,43.22,42.99,42.99,42.87,42.75,42.62,42.47,42.31,42.14,41.95,41.75,41.54,41.31,null,3.1,32,0,0,0,0,0,0,0,0,0,0,0,0,0,0,0,0,0,0,0,0,0,0,0,0,0,0,0,0,0,0,0,0,0,0,0,0,0,0,0,0,0,0,0,0,null,null,32,37,37.200000000000003,37.4,37.6,37.799999999999997,38,38.200000000000003,38.4,38.6,38.799999999999997,39,39.75,39.549999999999997,39.35,39.15,38.950000000000003,38.75,38.549999999999997,38.35,38.15,37.950000000000003,37.75,43.25,43.45,43.65,43.85,44.05,44.25,44.45,44.65,44.85,45.05,45.25,45.2,45,44.800000000000004,44.6,44.400000000000006,44.2,44,43.800000000000004,43.6,43.400000000000006,43.2,null,null,null,null,3.1,32,1.0600000000000023,0.92000000000000171,0.83999999999999631,0.82999999999999829,0.89000000000000057,1.009999999999998,1.220000000000006,1.5300000000000011,1.8900000000000006,2.259999999999998,2.6000000000000014,3.3500000000000014,3.279999999999994,3.2199999999999989,3.1400000000000006,3.0300000000000011,2.8299999999999983,2.6299999999999955,2.4299999999999997,2.1499999999999986,1.6799999999999997,0.89999999999999858,6.3999999999999986,5.5300000000000011,4.2199999999999989,2.7800000000000011,1.529999999999994,0.77000000000000313,0.60999999999999943,0.83999999999999631,1.3100000000000023,1.8299999999999983,2.259999999999998,2.2100000000000009,2.1300000000000026,2.0500000000000043,1.980000000000004,1.9300000000000068,1.8900000000000006,1.8599999999999994,1.8500000000000014,1.8500000000000014,1.8600000000000065,1.8900000000000006,null,null,null,null,null,3.6999999999999997,38,3.0950000000000006,3.3574999999999999,3.5274999999999999,3.6050000000000004,3.5900000000000016,3.4500000000000011,3.1449999999999996,2.7299999999999986,2.3125,1.9975000000000005,2.8524999999999956,2.6549999999999976,2.5525000000000002,2.5,2.449999999999994,2.4324999999999957,2.5074999999999985,2.6174999999999979,2.6199999999999992,2.3674999999999962,2.2074999999999996,2.3049999999999979,2.1324999999999985,1.9375,1.9624999999999986,2.3674999999999997,3.1099999999999977,4.0549999999999979,5.0850000000000009,6.0825000000000014,9.3966666666666612,8.3833333333333275,5.3499999999999961,2.3466666666666605,3.4233333333333285,4.5999999999999979,3.8616666666666646,3.1933333333333316,2.5949999999999953,2.0666666666666593,null,null,3.6999999999999997,38,5.27,5.27,5.27,5.27,5.27,5.27,5.27,5.27,5.27,22.99,5.27,5.27,5.27,5.27,5.27,5.27,5.27,5.27,5.27,5.27,5.27,5.27,5.27,22.99,22.99,5.27,5.27,1.68,1.68,0.56999999999999995,0.19,0.19,1.68,5.27,5.27,1.68,5.27,5.27,5.27,5.27,null,null,3.6999999999999997,38,0,0,0,0,0,0,0,0,0,17.72,0,0,0,3.59,3.59,3.59,3.59,3.59,4.6999999999999993,4.6999999999999993,3.59,3.59,3.59,17.72,17.72,0,0,-3.59,0,-1.1099999999999999,-1.49,-1.49,-3.59,0,3.59,1.1099999999999999,4.6999999999999993,5.0799999999999992,5.0799999999999992,5.0799999999999992,null,null,null,null,null,null,null,null,null,null,null,null,null,null,null,null,null,null,null,null,null,null,null,null,null,null,null,null,null,null,null,null,null,null,null,null,null,null,null,null,null,null,null,null,null,null,null,null,null,null,null,null,null,null,null,null,null,null,null,null,null,null,null,null,null,null,null,null,null,null,null,null,null,null,null,null,null,null,null,null,null,null,null,null,null,null,null,null,null,null,null,null,null,null,null,null,null,null,null,null,null,null,null,null,null,null,null,null,null,null,null,null,null,null,null,null,null,null,null,null,null,null,null,null,null,null,null,null,null,null,null,null,null,null,null,null,null,null,null,null,null,null,null,null,null,null,null,null,null,null,null,null,null,null,null,null,null,null,null,null,null,null,null,null,null,null,null,null,null,null,null,null,null,null,null,null,null,null,null,null,null,null,null,null,null,null,null,null,null,null,null,null,null,null,null,null,null,null,null,null,null,null,null,null,null,null,null,null,null,null,null,null,null,null,null,null,null,null,null,null,null,null,null,null,3.1,32,{"$f":"IF(ISNUMBER(INDEX(Asfalt,$ZT264,ZV$226)),INDEX(Asfalt,$ZT264,ZV$226),0)","v":0},0,0,0,0,0,0,0,0,0,0,0,0,0,0,0,0,0,0,0,0,0,0,0,0,0,0,0,0,0,0,0,0,0,0,0,0,0,0,0,0,0,0,0]
[null,null,null,null,null,null,null,null,null,null,null,null,null,null,null,null,null,null,null,null,null,null,null,null,null,null,null,null,null,null,null,null,null,null,null,null,null,null,null,null,null,null,null,null,null,null,null,null,null,null,null,null,null,null,null,null,null,null,null,null,null,null,null,null,null,null,null,null,null,null,null,null,null,null,null,null,null,null,null,null,null,null,null,null,null,null,null,null,null,null,null,null,null,null,null,null,null,null,null,null,null,null,null,null,null,null,null,null,null,null,null,null,null,null,null,null,null,null,null,null,null,null,null,null,null,null,null,null,null,null,null,null,null,null,null,null,null,null,null,null,null,null,null,null,null,3.4,35,{"$f":"IF(ISNUMBER(INDEX(VstupniData,$EQ267,ER$226)),INDEX(VstupniData,$EQ267,ER$226),\"\")","v":39.979999999999997},39.93,39.93,39.979999999999997,40.090000000000003,40.25,40.54,40.96,41.39,41.73,{"$f":"IF(ISNUMBER(INDEX(VstupniData,$EQ267,FB$226)),INDEX(VstupniData,$EQ267,FB$226),\"\")","v":41.84},41.84,41.65,41.22,40.700000000000003,40.22,39.92,39.75,39.619999999999997,39.590000000000003,{"$f":"IF(ISNUMBER(INDEX(VstupniData,$EQ267,FL$226)),INDEX(VstupniData,$EQ267,FL$226),\"\")","v":39.75},40.15,40.15,40.96,42.12,43.4,44.59,45.44,45.89,46.09,{"$f":"IF(ISNUMBER(INDEX(VstupniData,$EQ267,FV$226)),INDEX(VstupniData,$EQ267,FV$226),\"\")","v":46.14},46.16,46.25,46.25,46.43,46.64,50.83,50.97,47.01,46.95,46.82,46.62,46.35,46.01,null,3.4,35,39.979999999999997,0,0,0,0,40.25,0,0,0,0,41.84,41.84,0,0,0,0,39.92,0,0,0,0,40.15,40.15,0,0,0,0,45.44,0,0,0,0,46.25,46.25,0,0,50.83,50.97,47.01,0,0,0,0,46.01,null,null,35,40,40.200000000000003,40.4,40.6,40.799999999999997,41,41.2,41.4,41.6,41.8,42,42,41.8,41.6,41.4,41.2,41,40.799999999999997,40.6,40.4,40.200000000000003,40,44,44.2,44.4,44.6,44.8,45,45.2,45.4,45.6,45.8,46,51.8,51.599999999999994,51.399999999999991,51.2,51,50.8,50.599999999999994,50.399999999999991,50.2,50,49.8,null,null,null,null,3.4,35,2.0000000000003126E-2,0.27000000000000313,0.46999999999999886,0.62000000000000455,0.70999999999999375,0.75,0.66000000000000369,0.43999999999999773,0.21000000000000085,7.0000000000000284E-2,0.15999999999999659,0.15999999999999659,0.14999999999999858,0.38000000000000256,0.69999999999999574,0.98000000000000398,1.0799999999999983,1.0499999999999972,0.98000000000000398,0.80999999999999517,0.45000000000000284,-0.14999999999999858,3.8500000000000014,3.240000000000002,2.2800000000000011,1.2000000000000028,0.20999999999999375,-0.43999999999999773,-0.68999999999999773,-0.69000000000000483,-0.53999999999999915,-0.35999999999999943,-0.25,5.5499999999999972,5.1699999999999946,4.7599999999999909,0.37000000000000455,3.0000000000001137E-2,3.7899999999999991,3.6499999999999915,3.5799999999999912,3.5800000000000054,3.6499999999999986,3.7899999999999991,null,null,null,null,null,3.9999999999999996,41,{"$f":"AVERAGE(KF275:KG276)","v":0.81250000000000178},1.2175000000000011,1.5425000000000004,1.7899999999999991,1.9625000000000004,2.0450000000000017,2.0150000000000023,1.9000000000000004,1.7524999999999977,1.6149999999999984,{"$f":"AVERAGE(KQ275:KR276)","v":1.4525000000000006},1.2375000000000007,1.0224999999999991,0.84249999999999936,0.73500000000000121,0.77750000000000163,1.0125000000000011,1.3424999999999994,1.5924999999999994,1.5875000000000004,{"$f":"AVERAGE(LB275:LC276)","v":1.557500000000001},1.4775000000000009,1.1324999999999985,0.76999999999999602,0.63249999999999851,0.88250000000000384,1.4750000000000032,2.2699999999999996,3.1649999999999974,4.0574999999999957,{"$f":"AVERAGE(LM275:LN276)","v":7.4091666666666693},6.5833333333333428,3.772500000000008,0.98416666666667041,2.2258333333333358,3.51,2.829166666666671,2.1783333333333346,1.5624999999999982,0.97666666666667012,null,null,3.9999999999999996,41,22.99,22.99,22.99,22.99,22.99,5.27,5.27,22.99,22.99,22.99,22.99,22.99,22.99,22.99,22.99,22.99,22.99,22.99,22.99,22.99,22.99,22.99,22.99,22.99,22.99,22.99,22.99,5.27,5.27,1.68,0.56999999999999995,0.56999999999999995,5.27,22.99,5.27,5.27,5.27,5.27,22.99,22.99,null,null,3.9999999999999996,41,22.419999999999998,22.419999999999998,22.419999999999998,22.419999999999998,22.419999999999998,4.6999999999999993,4.6999999999999993,22.419999999999998,22.419999999999998,21.31,21.31,21.31,21.31,21.31,21.31,21.31,21.31,21.31,21.31,21.31,22.419999999999998,22.419999999999998,22.419999999999998,21.31,21.31,21.31,21.31,3.59,3.59,1.1099999999999999,0,0.37999999999999995,5.0799999999999992,22.419999999999998,4.6999999999999993,5.0799999999999992,5.21,5.25,22.97,22.97,null,null,null,null,null,null,null,null,null,null,null,null,null,null,null,null,null,null,null,null,null,null,null,null,null,null,null,null,null,null,null,null,null,null,null,null,null,null,null,null,null,null,null,null,null,null,null,null,null,null,null,null,null,null,null,null,null,null,null,null,null,null,null,null,null,null,null,null,null,null,null,null,null,null,null,null,null,null,null,null,null,null,null,null,null,null,null,null,null,null,null,null,null,null,null,null,null,null,null,null,null,null,null,null,null,null,null,null,null,null,null,null,null,null,null,null,null,null,null,null,null,null,null,null,null,null,null,null,null,null,null,null,null,null,null,null,null,null,null,null,null,null,null,null,null,null,null,null,null,null,null,null,null,null,null,null,null,null,null,null,null,null,null,null,null,null,null,null,null,null,null,null,null,null,null,null,null,null,null,null,null,null,null,null,null,null,null,null,null,null,null,null,null,null,null,null,null,null,null,null,null,null,null,null,null,null,null,null,null,null,null,null,null,null,null,null,null,null,null,null,null,null,null,null,3.4,35,{"$f":"IF(ISNUMBER(INDEX(Asfalt,$ZT267,ZV$226)),INDEX(Asfalt,$ZT267,ZV$226),0)","v":4},4,4,4,4,4,4,4,4,4,4,4,4,4,4,4,4,4,4,4,4,4,4,4,4,4,4,4,4,4,4,4,4,4,4,4,8,8,4,4,4,4,4,4]
[null,null,null,null,null,null,null,null,null,null,null,null,null,null,null,null,null,null,null,null,null,null,null,null,null,null,null,null,null,null,null,null,null,null,null,null,null,null,null,null,null,null,null,null,null,null,null,null,null,null,null,null,null,null,null,null,null,null,null,null,null,null,null,null,null,null,null,null,null,null,null,null,null,null,null,null,null,null,null,null,null,null,null,null,null,null,null,null,null,null,null,null,null,null,null,null,null,null,null,null,null,null,null,null,null,null,null,null,null,null,null,null,null,null,null,null,null,null,null,null,null,null,null,null,null,null,null,null,null,null,null,null,null,null,null,null,null,null,null,null,null,null,null,null,null,3.9999999999999996,41,36,35.64,35.36,35.159999999999997,35.04,35,35.07,35.26,35.5,35.770000000000003,36,36,36.229999999999997,36.5,36.74,36.93,37,36.83,36.46,36.06,35.85,36,36,36.700000000000003,37.81,39.07,40.22,41,41.32,41.36,41.24,41.08,41,41,41.02,41.05,45.07,45.06,41,40.880000000000003,40.72,40.520000000000003,40.28,40,null,4,41,36,0,0,0,0,35,0,0,0,0,36,36,0,0,0,0,37,0,0,0,0,36,36,0,0,0,0,41,0,0,0,0,41,41,0,0,45.07,45.06,41,0,0,0,0,40,null,null,41,36.000000000000007,36.000000000000007,36.000000000000007,36.000000000000007,36.000000000000007,36.000000000000007,36.000000000000007,36.000000000000007,36.000000000000007,36.000000000000007,36.000000000000007,38,37.799999999999997,37.6,37.4,37.200000000000003,37,36.799999999999997,36.6,36.4,36.200000000000003,36,36,37,38,39,40,41,42,43,44,45,46,48.333333333333329,47.5,46.666666666666671,45.833333333333329,45,44.166666666666671,43.333333333333329,42.500000000000014,41.666666666666671,40.833333333333329,40,null,null,null,null,3.9999999999999996,41,0,0.36000000000000654,0.64000000000000767,0.84000000000001052,0.96000000000000796,1.0000000000000071,0.93000000000000682,0.74000000000000909,0.50000000000000711,0.23000000000000398,0,2,1.5700000000000003,1.1000000000000014,0.65999999999999659,0.27000000000000313,0,-3.0000000000001137E-2,0.14000000000000057,0.33999999999999631,0.35000000000000142,0,0,0.29999999999999716,0.18999999999999773,-7.0000000000000284E-2,-0.21999999999999886,0,0.67999999999999972,1.6400000000000006,2.759999999999998,3.9200000000000017,5,7.3333333333333286,6.4799999999999969,5.6166666666666742,0.76333333333332831,-6.0000000000002274E-2,3.1666666666666714,2.453333333333326,1.7800000000000153,1.1466666666666683,0.55333333333332746,0,null,null,null,null,null,4.7,48,1.5199999999999996,1.6475000000000026,1.7075000000000014,1.6974999999999962,1.6174999999999962,1.4399999999999995,1.1375000000000011,0.7475000000000005,0.35999999999999766,5.9999999999996945E-2,7.2499999999999787E-2,0.40999999999999837,0.84249999999999936,1.2550000000000008,1.5299999999999994,1.6025000000000009,1.5025000000000013,1.2824999999999989,0.97499999999999609,0.62249999999999872,0.85500000000000043,0.61749999999999794,0.30499999999999972,4.00000000000027E-2,-6.2499999999998224E-2,7.7500000000000568E-2,0.44999999999999929,0.98000000000000043,1.5900000000000034,2.2025000000000023,0.4849999999999941,0.46749999999999581,0.46999999999999709,0.48249999999999638,0.49499999999999744,0.50499999999999368,0.51249999999999396,0.51999999999999602,0.53249999999999709,0.54999999999999716,null,null,4.7,48,22.99,22.99,22.99,22.99,22.99,22.99,22.99,22.99,22.99,22.99,22.99,22.99,22.99,22.99,22.99,22.99,22.99,22.99,22.99,22.99,22.99,22.99,22.99,22.99,22.99,22.99,22.99,22.99,22.99,5.27,22.99,22.99,22.99,22.99,22.99,22.99,22.99,22.99,22.99,22.99,null,null,4.7,48,17.72,17.72,17.72,17.72,17.72,17.72,17.72,17.72,17.72,17.72,17.72,17.72,17.72,17.72,17.72,17.72,17.72,17.72,17.72,17.72,0,0,0,0,0,17.72,17.72,17.72,21.31,3.59,21.31,22.419999999999998,22.419999999999998,22.799999999999997,22.799999999999997,22.93,22.93,22.93,22.97,22.97,null,null,null,null,null,null,null,null,null,null,null,null,null,null,null,null,null,null,null,null,null,null,null,null,null,null,null,null,null,null,null,null,null,null,null,null,null,null,null,null,null,null,null,null,null,null,null,null,null,null,null,null,null,null,null,null,null,null,null,null,null,null,null,null,null,null,null,null,null,null,null,null,null,null,null,null,null,null,null,null,null,null,null,null,null,null,null,null,null,null,null,null,null,null,null,null,null,null,null,null,null,null,null,null,null,null,null,null,null,null,null,null,null,null,null,null,null,null,null,null,null,null,null,null,null,null,null,null,null,null,null,null,null,null,null,null,null,null,null,null,null,null,null,null,null,null,null,null,null,null,null,null,null,null,null,null,null,null,null,null,null,null,null,null,null,null,null,null,null,null,null,null,null,null,null,null,null,null,null,null,null,null,null,null,null,null,null,null,null,null,null,null,null,null,null,null,null,null,null,null,null,null,null,null,null,null,null,null,null,null,null,null,null,null,null,null,null,null,null,null,null,null,null,null,3.9999999999999996,41,{"$f":"IF(ISNUMBER(INDEX(Asfalt,$ZT274,ZV$226)),INDEX(Asfalt,$ZT274,ZV$226),0)","v":0},0,0,0,0,0,0,0,0,0,0,0,0,0,0,0,0,0,0,0,0,0,0,0,0,0,0,0,0,0,0,0,0,0,0,0,4,4,0,0,0,0,0,0]
[null,null,null,null,null,null,null,null,null,null,null,null,null,null,null,null,null,null,null,null,null,null,null,null,null,null,null,null,null,null,null,null,null,null,null,null,null,null,null,null,null,null,null,null,null,null,null,null,null,null,null,null,null,null,null,null,null,null,null,null,null,null,null,null,null,null,null,null,null,null,null,null,null,null,null,null,null,null,null,null,null,null,null,null,null,null,null,null,null,null,null,null,null,null,null,null,null,null,null,null,null,null,null,null,null,null,null,null,null,null,null,null,null,null,null,null,null,null,null,null,null,null,null,null,null,null,null,null,null,null,null,null,null,null,null,null,null,null,null,null,null,null,null,null,null,4.7,48,35.78,35.49,35.26,35.1,34.99,34.950000000000003,35.03,35.229999999999997,35.47,35.64,35.67,35.67,35.47,35.090000000000003,34.659999999999997,34.32,34.21,34.35,34.65,35.07,35.56,36.049999999999997,36.049999999999997,36.61,37.28,37.97,38.57,39,39.229999999999997,39.32,39.31,39.229999999999997,39.119999999999997,39.119999999999997,38.950000000000003,38.69,38.39,38.090000000000003,37.82,37.590000000000003,37.380000000000003,37.17,36.97,36.78,null,4.7,48,0,0,0,0,0,0,0,0,0,0,0,0,0,0,0,0,0,0,0,0,0,0,0,0,0,0,0,0,0,0,0,0,0,0,0,0,0,0,0,0,0,0,0,0,null,null,48,37.6,37.4,37.200000000000003,37,36.799999999999997,36.6,36.4,36.200000000000003,36,35.799999999999997,35.6,35.6,35.700000000000003,35.799999999999997,35.9,36,36.1,36.200000000000003,36.299999999999997,36.4,36.5,36.6,37,37.4,37.799999999999997,38.200000000000003,38.6,39,39.4,39.799999999999997,40.200000000000003,40.6,41,39.4,39.199999999999996,39,38.799999999999997,38.6,38.4,38.199999999999996,38,37.799999999999997,37.6,37.4,null,null,null,null,4.7,48,1.8200000000000003,1.9099999999999966,1.9400000000000048,1.8999999999999986,1.8099999999999952,1.6499999999999986,1.3699999999999974,0.97000000000000597,0.53000000000000114,0.15999999999999659,-7.0000000000000284E-2,-7.0000000000000284E-2,0.23000000000000398,0.70999999999999375,1.240000000000002,1.6799999999999997,1.8900000000000006,1.8500000000000014,1.6499999999999986,1.3299999999999983,0.93999999999999773,0.55000000000000426,0.95000000000000284,0.78999999999999915,0.51999999999999602,0.23000000000000398,3.0000000000001137E-2,0,0.17000000000000171,0.47999999999999687,0.89000000000000057,1.3700000000000045,1.8800000000000026,0.28000000000000114,0.24999999999999289,0.31000000000000227,0.40999999999999659,0.50999999999999801,0.57999999999999829,0.60999999999999233,0.61999999999999744,0.62999999999999545,0.63000000000000256,0.61999999999999744,null,null,null,null,null,{"$f":"IF(MD283>0,MD283/10-0.1,\"\")","v":5.6000000000000005},57,0.28249999999999886,-5.3290705182007514E-15,-0.17500000000000426,-0.24000000000000199,-0.19750000000000512,-1.5000000000004121E-2,0.34749999999999481,0.83499999999999552,1.3424999999999976,1.7699999999999978,0.30750000000000277,0.48000000000000398,0.58250000000000313,0.64250000000000007,0.68250000000000099,0.71000000000000263,0.71250000000000391,0.68750000000000355,0.65000000000000036,0.61500000000000021,0.63499999999999801,0.50249999999999773,0.36999999999999922,0.24499999999999922,0.14249999999999829,5.7499999999999218E-2,-3.0000000000001137E-2,-0.1050000000000022,-0.12750000000000128,-6.0000000000000497E-2,-0.25250000000000661,-8.7500000000007461E-2,0.17749999999999311,0.44999999999999396,0.63749999999999396,0.69749999999999091,0.65999999999999126,0.55499999999999261,0.37999999999999545,0.13749999999999751,null,null,5.6000000000000005,57,22.99,22.99,22.99,22.99,22.99,22.99,22.99,22.99,22.99,22.99,22.99,22.99,22.99,22.99,22.99,22.99,22.99,22.99,22.99,22.99,22.99,22.99,22.99,22.99,22.99,22.99,22.99,22.99,22.99,22.99,22.99,22.99,22.99,22.99,22.99,22.99,22.99,22.99,22.99,22.99,null,null,5.6000000000000005,57,17.72,17.72,17.72,0,0,0,17.72,17.72,17.72,17.72,17.72,17.72,17.72,17.72,17.72,17.72,17.72,17.72,17.72,17.72,17.72,17.72,17.72,17.72,17.72,17.72,0,0,0,0,0,0,17.72,17.72,17.72,17.72,17.72,17.72,17.72,17.72,null,null,null,null,null,null,null,null,null,null,null,null,null,null,null,null,null,null,null,null,null,null,null,null,null,null,null,null,null,null,null,null,null,null,null,null,null,null,null,null,null,null,null,null,null,null,null,null,null,null,null,null,null,null,null,null,null,null,null,null,null,null,null,null,null,null,null,null,null,null,null,null,null,null,null,null,null,null,null,null,null,null,null,null,null,null,null,null,null,null,null,null,null,null,null,null,null,null,null,null,null,null,null,null,null,null,null,null,null,null,null,null,null,null,null,null,null,null,null,null,null,null,null,null,null,null,null,null,null,null,null,null,null,null,null,null,null,null,null,null,null,null,null,null,null,null,null,null,null,null,null,null,null,null,null,null,null,null,null,null,null,null,null,null,null,null,null,null,null,null,null,null,null,null,null,null,null,null,null,null,null,null,null,null,null,null,null,null,null,null,null,null,null,null,null,null,null,null,null,null,null,null,null,null,null,null,null,null,null,null,null,null,null,null,null,null,null,null,null,null,null,null,null,null,4.7,48,{"$f":"IF(ISNUMBER(INDEX(Asfalt,$ZT283,ZV$226)),INDEX(Asfalt,$ZT283,ZV$226),0)","v":0},0,0,0,0,0,0,0,0,0,0,0,0,0,0,0,0,0,0,0,0,0,0,0,0,0,0,0,0,0,0,0,0,0,0,0,0,0,0,0,0,0,0,0]
[null,null,null,null,null,null,null,null,null,null,null,null,null,null,null,null,null,null,null,null,null,null,null,null,null,null,null,null,null,null,null,null,null,null,null,null,null,null,null,null,null,null,null,null,null,null,null,null,null,null,null,null,null,null,null,null,null,null,null,null,null,null,null,null,null,null,null,null,null,null,null,null,null,null,null,null,null,null,null,null,null,null,null,null,null,null,null,null,null,null,null,null,null,null,null,null,null,null,null,null,null,null,null,null,null,null,null,null,null,null,null,null,null,null,null,null,null,null,null,null,null,null,null,null,null,null,null,null,null,null,null,null,null,null,null,null,null,null,null,null,null,null,null,null,null,4.8000000000000007,49,36.340000000000003,35.909999999999997,35.549999999999997,35.26,35.06,34.93,34.93,35.06,35.25,35.4,35.450000000000003,35.450000000000003,35.32,35.08,34.799999999999997,34.6,34.549999999999997,34.68,34.909999999999997,35.24,35.630000000000003,36.07,36.07,36.65,37.39,38.14,38.76,39.119999999999997,39.14,38.909999999999997,38.54,38.159999999999997,37.880000000000003,37.880000000000003,37.71,37.58,37.46,37.33,37.18,36.99,36.79,36.58,36.35,36.1,null,4.8000000000000007,49,0,0,0,0,0,0,0,0,0,0,0,0,0,0,0,0,0,0,0,0,0,0,0,0,0,0,0,0,0,0,0,0,0,0,0,0,0,0,0,0,0,0,0,0,null,null,49,37.4,37.200000000000003,37,36.799999999999997,36.599999999999994,36.4,36.200000000000003,36,35.799999999999997,35.599999999999994,35.4,35.4,35.5,35.599999999999994,35.700000000000003,35.799999999999997,35.9,36,36.1,36.199999999999996,36.299999999999997,36.4,37,37.4,37.799999999999997,38.200000000000003,38.6,39,39.4,39.799999999999997,40.200000000000003,40.6,41,38.599999999999994,38.399999999999991,38.199999999999996,37.999999999999993,37.799999999999997,37.599999999999994,37.399999999999991,37.199999999999996,36.999999999999993,36.799999999999997,36.599999999999994,null,null,null,null,4.8000000000000007,49,1.0599999999999952,1.2900000000000063,1.4500000000000028,1.5399999999999991,1.539999999999992,1.4699999999999989,1.2700000000000031,0.93999999999999773,0.54999999999999716,0.19999999999999574,-5.0000000000004263E-2,-5.0000000000004263E-2,0.17999999999999972,0.51999999999999602,0.90000000000000568,1.1999999999999957,1.3500000000000014,1.3200000000000003,1.1900000000000048,0.95999999999999375,0.6699999999999946,0.32999999999999829,0.92999999999999972,0.75,0.40999999999999659,6.0000000000002274E-2,-0.15999999999999659,-0.11999999999999744,0.25999999999999801,0.89000000000000057,1.6600000000000037,2.4400000000000048,3.1199999999999974,0.71999999999999176,0.68999999999999062,0.61999999999999744,0.53999999999999204,0.46999999999999886,0.4199999999999946,0.40999999999998948,0.40999999999999659,0.4199999999999946,0.44999999999999574,0.49999999999999289,null,null,null,null,null,{"$f":"IF(MD284>0,MD284/10-0.1,\"\")","v":5.7},58,0.23999999999999844,1.9999999999997797E-2,-0.12000000000000099,-0.17499999999999893,-0.14500000000000135,-7.5000000000020606E-3,0.26499999999999702,0.63249999999999673,1.0174999999999983,1.3474999999999984,0.32750000000000057,0.47250000000000014,0.57000000000000206,0.64250000000000007,0.70749999999999957,0.77500000000000213,0.84000000000000163,0.89500000000000313,0.94000000000000128,0.97999999999999865,0.46249999999999858,0.38249999999999851,0.29499999999999993,0.21000000000000085,0.14500000000000135,9.5000000000000639E-2,3.9999999999999147E-2,-5.0000000000007816E-3,-5.0000000000007816E-3,7.4999999999999289E-2,-0.32250000000000334,-0.18750000000000355,3.249999999999531E-2,0.26499999999999702,0.43749999999999822,0.51249999999999396,0.51499999999999346,0.46749999999999581,0.36999999999999922,0.22499999999999964,null,null,5.7,58,22.99,22.99,22.99,22.99,22.99,22.99,22.99,22.99,22.99,22.99,22.99,22.99,22.99,22.99,22.99,22.99,22.99,22.99,22.99,22.99,22.99,22.99,22.99,22.99,22.99,22.99,22.99,22.99,22.99,22.99,22.99,22.99,22.99,22.99,22.99,22.99,22.99,22.99,22.99,22.99,null,null,5.7,58,17.72,0,0,0,0,0,0,0,17.72,17.72,17.72,17.72,17.72,17.72,17.72,17.72,17.72,17.72,17.72,17.72,17.72,17.72,17.72,0,0,0,0,0,0,0,0,0,0,0,17.72,17.72,17.72,17.72,17.72,17.72,null,null,null,null,null,null,null,null,null,null,null,null,null,null,null,null,null,null,null,null,null,null,null,null,null,null,null,null,null,null,null,null,null,null,null,null,null,null,null,null,null,null,null,null,null,null,null,null,null,null,null,null,null,null,null,null,null,null,null,null,null,null,null,null,null,null,null,null,null,null,null,null,null,null,null,null,null,null,null,null,null,null,null,null,null,null,null,null,null,null,null,null,null,null,null,null,null,null,null,null,null,null,null,null,null,null,null,null,null,null,null,null,null,null,null,null,null,null,null,null,null,null,null,null,null,null,null,null,null,null,null,null,null,null,null,null,null,null,null,null,null,null,null,null,null,null,null,null,null,null,null,null,null,null,null,null,null,null,null,null,null,null,null,null,null,null,null,null,null,null,null,null,null,null,null,null,null,null,null,null,null,null,null,null,null,null,null,null,null,null,null,null,null,null,null,null,null,null,null,null,null,null,null,null,null,null,null,null,null,null,null,null,null,null,null,null,null,null,null,null,null,null,null,null,4.8000000000000007,49,{"$f":"IF(ISNUMBER(INDEX(Asfalt,$ZT284,ZV$226)),INDEX(Asfalt,$ZT284,ZV$226),0)","v":0},0,0,0,0,0,0,0,0,0,0,0,0,0,0,0,0,0,0,0,0,0,0,0,0,0,0,0,0,0,0,0,0,0,0,0,0,0,0,0,0,0,0,0]
[null,null,null,null,null,null,null,null,null,null,null,null,null,null,null,null,null,null,null,null,null,null,null,null,null,null,null,null,null,null,null,null,null,null,null,null,null,null,null,null,null,null,null,null,null,null,null,null,null,null,null,null,null,null,null,null,null,null,null,null,null,null,null,null,null,null,null,null,null,null,null,null,null,null,null,null,null,null,null,null,null,null,null,null,null,null,null,null,null,null,null,null,null,null,null,null,null,null,null,null,null,null,null,null,null,null,null,null,null,null,null,null,null,null,null,null,null,null,null,null,null,null,null,null,null,null,null,null,null,null,null,null,null,null,null,null,null,null,null,null,null,null,null,null,null,5.5,56,35,35.44,35.76,35.96,36.04,36,35.76,35.32,34.799999999999997,34.32,34,34,33.86,33.81,33.83,33.9,34,34.14,34.33,34.549999999999997,34.78,35,35,35.22,35.450000000000003,35.67,35.86,36,36.1,36.17,36.19,36.14,36,36,35.700000000000003,35.25,34.75,34.299999999999997,34,33.840000000000003,33.76,33.76,33.840000000000003,34,null,5.5,56,35,0,0,0,0,36,0,0,0,0,34,34,0,0,0,0,34,0,0,0,0,35,35,0,0,0,0,36,0,0,0,0,36,36,0,0,0,0,34,0,0,0,0,34,null,null,56,35.5,35.6,35.700000000000003,35.799999999999997,35.9,36,36.1,36.200000000000003,36.299999999999997,36.4,36.5,34,34.1,34.200000000000003,34.299999999999997,34.4,34.5,34.6,34.700000000000003,34.799999999999997,34.9,35,36,36,36,36,36,36,36,36,36,36,36,36,35.799999999999997,35.6,35.4,35.200000000000003,35,34.799999999999997,34.6,34.4,34.200000000000003,34,null,null,null,null,5.5,56,0.5,0.16000000000000369,-5.9999999999995168E-2,-0.16000000000000369,-0.14000000000000057,0,0.34000000000000341,0.88000000000000256,1.5,2.0799999999999983,2.5,0,0.24000000000000199,0.39000000000000057,0.46999999999999886,0.5,0.5,0.46000000000000085,0.37000000000000455,0.25,0.11999999999999744,0,1,0.78000000000000114,0.54999999999999716,0.32999999999999829,0.14000000000000057,0,-0.10000000000000142,-0.17000000000000171,-0.18999999999999773,-0.14000000000000057,0,0,9.9999999999994316E-2,0.35000000000000142,0.64999999999999858,0.90000000000000568,1,0.95999999999999375,0.84000000000000341,0.64000000000000057,0.35999999999999943,0,null,null,null,null,null,null,null,null,null,null,null,null,null,null,null,null,null,null,null,null,null,null,null,null,null,null,null,null,null,null,null,null,null,null,null,null,null,null,null,null,null,null,null,null,null,null,null,null,null,null,null,null,null,null,null,null,null,null,null,null,null,null,null,null,null,null,null,null,null,null,null,null,null,null,null,null,null,null,null,null,null,null,null,null,null,null,null,null,null,null,null,null,null,null,null,null,null,null,null,null,null,null,null,null,null,null,null,null,null,null,null,null,null,null,null,null,null,null,null,null,null,null,null,null,null,null,null,null,null,null,null,null,null,null,null,null,null,null,null,null,null,null,null,null,null,null,null,null,null,null,null,null,null,null,null,null,null,null,null,null,null,null,null,null,null,null,null,null,null,null,null,null,null,null,null,null,null,null,null,null,null,null,null,null,null,null,null,null,null,null,null,null,null,null,null,null,null,null,null,null,null,null,null,null,null,null,null,null,null,null,null,null,null,null,null,null,null,null,null,null,null,null,null,null,null,null,null,null,null,null,null,null,null,null,null,null,null,null,null,null,null,null,null,null,null,null,null,null,null,null,null,null,null,null,null,null,null,null,null,null,null,null,null,null,null,null,null,null,null,null,null,null,null,null,null,null,null,null,null,null,null,null,null,null,null,null,null,null,null,null,null,null,null,null,null,null,null,null,null,null,null,null,null,null,null,null,null,null,null,null,null,null,null,null,null,null,null,null,null,null,null,null,null,null,null,null,null,null,null,null,null,null,null,null,null,null,null,null,null,null,null,null,null,null,null,null,null,null,null,null,null,null,null,null,null,null,null,null,null,5.5,56,{"$f":"IF(ISNUMBER(INDEX(Asfalt,$ZT293,ZV$226)),INDEX(Asfalt,$ZT293,ZV$226),0)","v":0},0,0,0,0,0,0,0,0,0,0,0,0,0,0,0,0,0,0,0,0,0,0,0,0,0,0,0,0,0,0,0,0,0,0,0,0,0,0,0,0,0,0,0]
[null,null,null,null,null,null,null,null,null,null,null,null,null,null,null,null,null,null,null,null,null,null,null,null,null,null,null,null,null,null,null,null,null,null,null,null,null,null,null,null,null,null,null,null,null,null,null,null,null,null,null,null,null,null,null,null,null,null,null,null,null,null,null,null,null,null,null,null,null,null,null,null,null,null,null,null,null,null,null,null,null,null,null,null,null,null,null,null,null,null,null,null,null,null,null,null,null,null,null,null,null,null,null,null,null,null,null,null,null,null,null,null,null,null,null,null,null,null,null,null,null,null,null,null,null,null,null,null,null,null,null,null,null,null,null,null,null,null,null,null,null,null,null,null,null,5.8000000000000007,59,34.28,34.590000000000003,34.83,35.01,35.119999999999997,35.159999999999997,35.090000000000003,34.92,34.700000000000003,34.5,34.36,34.36,34.31,34.299999999999997,34.32,34.340000000000003,34.36,34.36,34.36,34.36,34.380000000000003,34.4,34.4,34.450000000000003,34.51,34.590000000000003,34.65,34.68,34.71,34.74,34.75,34.700000000000003,34.56,34.56,34.299999999999997,33.93,33.520000000000003,33.119999999999997,32.799999999999997,32.56,32.35,32.19,32.049999999999997,31.96,null,5.8000000000000007,59,0,0,0,0,0,0,0,0,0,0,0,0,0,0,0,0,0,0,0,0,0,0,0,0,0,0,0,0,0,0,0,0,0,0,0,0,0,0,0,0,0,0,0,0,null,null,59,34.599999999999994,34.700000000000003,34.799999999999997,34.9,35,35.099999999999994,35.200000000000003,35.299999999999997,35.4,35.5,35.599999999999994,34.6,34.700000000000003,34.799999999999997,34.900000000000006,35,35.1,35.200000000000003,35.299999999999997,35.400000000000006,35.5,35.6,34.799999999999997,34.799999999999997,34.799999999999997,34.799999999999997,34.799999999999997,34.799999999999997,34.799999999999997,34.799999999999997,34.799999999999997,34.799999999999997,34.799999999999997,34.199999999999996,33.999999999999993,33.799999999999997,33.599999999999994,33.4,33.199999999999996,32.999999999999993,32.799999999999997,32.599999999999994,32.4,32.199999999999996,null,null,null,null,5.8000000000000007,59,0.31999999999999318,0.10999999999999943,-3.0000000000001137E-2,-0.10999999999999943,-0.11999999999999744,-6.0000000000002274E-2,0.10999999999999943,0.37999999999999545,0.69999999999999574,1,1.2399999999999949,0.24000000000000199,0.39000000000000057,0.5,0.5800000000000054,0.65999999999999659,0.74000000000000199,0.84000000000000341,0.93999999999999773,1.0400000000000063,1.1199999999999974,1.2000000000000028,0.39999999999999858,0.34999999999999432,0.28999999999999915,0.20999999999999375,0.14999999999999858,0.11999999999999744,8.9999999999996305E-2,5.9999999999995168E-2,4.9999999999997158E-2,9.9999999999994316E-2,0.23999999999999488,-0.36000000000000654,-0.30000000000000426,-0.13000000000000256,7.9999999999991189E-2,0.28000000000000114,0.39999999999999858,0.43999999999999062,0.44999999999999574,0.40999999999999659,0.35000000000000142,0.23999999999999488,null,null,null,null,null,null,null,null,null,null,null,null,null,null,null,null,null,null,null,null,null,null,null,null,null,null,null,null,null,null,null,null,null,null,null,null,null,null,null,null,null,null,null,null,null,null,null,null,null,null,null,null,null,null,null,null,null,null,null,null,null,null,null,null,null,null,null,null,null,null,null,null,null,null,null,null,null,null,null,null,null,null,null,null,null,null,null,null,null,null,null,null,null,null,null,null,null,null,null,null,null,null,null,null,null,null,null,null,null,null,null,null,null,null,null,null,null,null,null,null,null,null,null,null,null,null,null,null,null,null,null,null,null,null,null,null,null,null,null,null,null,null,null,null,null,null,null,null,null,null,null,null,null,null,null,null,null,null,null,null,null,null,null,null,null,null,null,null,null,null,null,null,null,null,null,null,null,null,null,null,null,null,null,null,null,null,null,null,null,null,null,null,null,null,null,null,null,null,null,null,null,null,null,null,null,null,null,null,null,null,null,null,null,null,null,null,null,null,null,null,null,null,null,null,null,null,null,null,null,null,null,null,null,null,null,null,null,null,null,null,null,null,null,null,null,null,null,null,null,null,null,null,null,null,null,null,null,null,null,null,null,null,null,null,null,null,null,null,null,null,null,null,null,null,null,null,null,null,null,null,null,null,null,null,null,null,null,null,null,null,null,null,null,null,null,null,null,null,null,null,null,null,null,null,null,null,null,null,null,null,null,null,null,null,null,null,null,null,null,null,null,null,null,null,null,null,null,null,null,null,null,null,null,null,null,null,null,null,null,null,null,null,null,null,null,null,null,null,null,null,null,null,null,null,null,null,null,null,null,5.8000000000000007,59,{"$f":"IF(ISNUMBER(INDEX(Asfalt,$ZT296,ZV$226)),INDEX(Asfalt,$ZT296,ZV$226),0)","v":0},0,0,0,0,0,0,0,0,0,0,0,0,0,0,0,0,0,0,0,0,0,0,0,0,0,0,0,0,0,0,0,0,0,0,0,0,0,0,0,0,0,0,0]
[null,null,null,null,null,null,null,null,null,null,null,null,null,null,null,null,null,null,null,null,null,null,null,null,null,null,null,null,null,null,null,null,null,null,null,null,null,null,null,null,null,null,null,null,null,null,null,null,null,null,null,null,null,null,null,null,null,null,null,null,null,null,null,null,null,null,null,null,null,null,null,null,null,null,null,null,null,null,null,null,null,null,null,null,null,null,null,null,null,null,null,null,null,null,null,null,null,null,null,null,null,null,null,null,null,null,null,null,null,null,null,null,null,null,null,null,null,null,null,null,null,null,null,null,null,null,null,null,null,null,null,null,null,null,null,null,null,null,null,null,null,null,null,null,null,2,{"$f":"EP228","v":0.1},{"$f":"ER$301*1000","v":0},100,199.99999999999997,300.00000000000006,400,500,600,700.00000000000011,800,900,1000,1000,1099.9999999999998,1200,1299.9999999999998,1400,1500,1599.9999999999998,1700,1799.9999999999998,1900,2000,2000,2100,2199.9999999999995,2300,2400,2500,2600,2699.9999999999995,2800,2900,3000,3000,3100,3199.9999999999995,3300,3400,3500,3600,3699.9999999999995,3800,3900,3999.9999999999995,null,2,{"$f":"GK228","v":0.1},{"$f":"GM$301*1000","v":0},100,199.99999999999997,300.00000000000006,400,500,600,700.00000000000011,800,900,1000,1000,1099.9999999999998,1200,1299.9999999999998,1400,1500,1599.9999999999998,1700,1799.9999999999998,1900,2000,2000,2100,2199.9999999999995,2300,2400,2500,2600,2699.9999999999995,2800,2900,3000,3000,3100,3199.9999999999995,3300,3400,3500,3600,3699.9999999999995,3800,3900,4000]
[null,null,null,null,null,null,null,null,null,null,null,null,null,null,null,null,null,null,null,null,null,null,null,null,null,null,null,null,null,null,null,null,null,null,null,null,null,null,null,null,null,null,null,null,null,null,null,null,null,null,null,null,null,null,null,null,null,null,null,null,null,null,null,null,null,null,null,null,null,null,null,null,null,null,null,null,null,null,null,null,null,null,null,null,null,null,null,null,null,null,null,null,null,null,null,null,null,null,null,null,null,null,null,null,null,null,null,null,null,null,null,null,null,null,null,null,null,null,null,null,null,null,null,null,null,null,null,null,null,null,null,null,null,null,null,null,null,null,null,null,null,null,null,null,null,11,0.9,0,100,199.99999999999997,300.00000000000006,400,500,600,700.00000000000011,800,900,1000,1000,1099.9999999999998,1200,1299.9999999999998,1400,1500,1599.9999999999998,1700,1799.9999999999998,1900,2000,2000,2100,2199.9999999999995,2300,2400,2500,2600,2699.9999999999995,2800,2900,3000,3000,3100,3199.9999999999995,3300,3400,3500,3600,3699.9999999999995,3800,3900,3999.9999999999995,null,11,0.9,0,100,199.99999999999997,300.00000000000006,400,500,600,700.00000000000011,800,900,1000,1000,1099.9999999999998,1200,1299.9999999999998,1400,1500,1599.9999999999998,1700,1799.9999999999998,1900,2000,2000,2100,2199.9999999999995,2300,2400,2500,2600,2699.9999999999995,2800,2900,3000,3000,3100,3199.9999999999995,3300,3400,3500,3600,3699.9999999999995,3800,3900,4000]
[null,null,null,null,null,null,null,null,null,null,null,null,null,null,null,null,null,null,null,null,null,null,null,null,null,null,null,null,null,null,null,null,null,null,null,null,null,null,null,null,null,null,null,null,null,null,null,null,null,null,null,null,null,null,null,null,null,null,null,null,null,null,null,null,null,null,null,null,null,null,null,null,null,null,null,null,null,null,null,null,null,null,null,null,null,null,null,null,null,null,null,null,null,null,null,null,null,null,null,null,null,null,null,null,null,null,null,null,null,null,null,null,null,null,null,null,null,null,null,null,null,null,null,null,null,null,null,null,null,null,null,null,null,null,null,null,null,null,null,null,null,null,null,null,null,18,1.5,0,100,199.99999999999997,300.00000000000006,400,500,600,700.00000000000011,800,900,1000,1000,1099.9999999999998,1200,1299.9999999999998,1400,1500,1599.9999999999998,1700,1799.9999999999998,1900,2000,2000,2100,2199.9999999999995,2300,2400,2500,2600,2699.9999999999995,2800,2900,3000,3000,3100,3199.9999999999995,3300,3400,3500,3600,3699.9999999999995,3800,3900,3999.9999999999995,null,18,1.5,0,100,199.99999999999997,300.00000000000006,400,500,600,700.00000000000011,800,900,1000,1000,1099.9999999999998,1200,1299.9999999999998,1400,1500,1599.9999999999998,1700,1799.9999999999998,1900,2000,2000,2100,2199.9999999999995,2300,2400,2500,2600,2699.9999999999995,2800,2900,3000,3000,3100,3199.9999999999995,3300,3400,3500,3600,3699.9999999999995,3800,3900,4000]
[null,null,null,null,null,null,null,null,null,null,null,null,null,null,null,null,null,null,null,null,null,null,null,null,null,null,null,null,null,null,null,null,null,null,null,null,null,null,null,null,null,null,null,null,null,null,null,null,null,null,null,null,null,null,null,null,null,null,null,null,null,null,null,null,null,null,null,null,null,null,null,null,null,null,null,null,null,null,null,null,null,null,null,null,null,null,null,null,null,null,null,null,null,null,null,null,null,null,null,null,null,null,null,null,null,null,null,null,null,null,null,null,null,null,null,null,null,null,null,null,null,null,null,null,null,null,null,null,null,null,null,null,null,null,null,null,null,null,null,null,null,null,null,null,null,21,1.7,0,100,199.99999999999997,300.00000000000006,400,500,600,700.00000000000011,800,900,1000,1000,1099.9999999999998,1200,1299.9999999999998,1400,1500,1599.9999999999998,1700,1799.9999999999998,1900,2000,2000,2100,2199.9999999999995,2300,2400,2500,2600,2699.9999999999995,2800,2900,3000,3000,3100,3199.9999999999995,3300,3400,3500,3600,3699.9999999999995,3800,3900,3999.9999999999995,null,21,1.7,0,100,199.99999999999997,300.00000000000006,400,500,600,700.00000000000011,800,900,1000,1000,1099.9999999999998,1200,1299.9999999999998,1400,1500,1599.9999999999998,1700,1799.9999999999998,1900,2000,2000,2100,2199.9999999999995,2300,2400,2500,2600,2699.9999999999995,2800,2900,3000,3000,3100,3199.9999999999995,3300,3400,3500,3600,3699.9999999999995,3800,3900,4000]
[null,null,null,null,null,null,null,null,null,null,null,null,null,null,null,null,null,null,null,null,null,null,null,null,null,null,null,null,null,null,null,null,null,null,null,null,null,null,null,null,null,null,null,null,null,null,null,null,null,null,null,null,null,null,null,null,null,null,null,null,null,null,null,null,null,null,null,null,null,null,null,null,null,null,null,null,null,null,null,null,null,null,null,null,null,null,null,null,null,null,null,null,null,null,null,null,null,null,null,null,null,null,null,null,null,null,null,null,null,null,null,null,null,null,null,null,null,null,null,null,null,null,null,null,null,null,null,null,null,null,null,null,null,null,null,null,null,null,null,null,null,null,null,null,null,30,2.5,0,100,199.99999999999997,300.00000000000006,400,500,600,700.00000000000011,800,900,1000,1000,1099.9999999999998,1200,1299.9999999999998,1400,1500,1599.9999999999998,1700,1799.9999999999998,1900,2000,2000,2100,2199.9999999999995,2300,2400,2500,2600,2699.9999999999995,2800,2900,3000,3000,3100,3199.9999999999995,3300,3400,3500,3600,3699.9999999999995,3800,3900,3999.9999999999995,null,30,2.5,0,100,199.99999999999997,300.00000000000006,400,500,600,700.00000000000011,800,900,1000,1000,1099.9999999999998,1200,1299.9999999999998,1400,1500,1599.9999999999998,1700,1799.9999999999998,1900,2000,2000,2100,2199.9999999999995,2300,2400,2500,2600,2699.9999999999995,2800,2900,3000,3000,3100,3199.9999999999995,3300,3400,3500,3600,3699.9999999999995,3800,3900,4000]
[null,null,null,null,null,null,null,null,null,null,null,null,null,null,null,null,null,null,null,null,null,null,null,null,null,null,null,null,null,null,null,null,null,null,null,null,null,null,null,null,null,null,null,null,null,null,null,null,null,null,null,null,null,null,null,null,null,null,null,null,null,null,null,null,null,null,null,null,null,null,null,null,null,null,null,null,null,null,null,null,null,null,null,null,null,null,null,null,null,null,null,null,null,null,null,null,null,null,null,null,null,null,null,null,null,null,null,null,null,null,null,null,null,null,null,null,null,null,null,null,null,null,null,null,null,null,null,null,null,null,null,null,null,null,null,null,null,null,null,null,null,null,null,null,null,31,2.5,0,100,199.99999999999997,300.00000000000006,400,500,600,700.00000000000011,800,900,1000,1000,1099.9999999999998,1200,1299.9999999999998,1400,1500,1599.9999999999998,1700,1799.9999999999998,1900,2000,2000,2100,2199.9999999999995,2300,2400,2500,2600,2699.9999999999995,2800,2900,3000,3000,3100,3199.9999999999995,3300,3400,3500,3600,3699.9999999999995,3800,3900,3999.9999999999995,null,31,2.5,0,100,199.99999999999997,300.00000000000006,400,500,600,700.00000000000011,800,900,1000,1000,1099.9999999999998,1200,1299.9999999999998,1400,1500,1599.9999999999998,1700,1799.9999999999998,1900,2000,2000,2100,2199.9999999999995,2300,2400,2500,2600,2699.9999999999995,2800,2900,3000,3000,3100,3199.9999999999995,3300,3400,3500,3600,3699.9999999999995,3800,3900,4000]
[null,null,null,null,null,null,null,null,null,null,null,null,null,null,null,null,null,null,null,null,null,null,null,null,null,null,null,null,null,null,null,null,null,null,null,null,null,null,null,null,null,null,null,null,null,null,null,null,null,null,null,null,null,null,null,null,null,null,null,null,null,null,null,null,null,null,null,null,null,null,null,null,null,null,null,null,null,null,null,null,null,null,null,null,null,null,null,null,null,null,null,null,null,null,null,null,null,null,null,null,null,null,null,null,null,null,null,null,null,null,null,null,null,null,null,null,null,null,null,null,null,null,null,null,null,null,null,null,null,null,null,null,null,null,null,null,null,null,null,null,null,null,null,null,null,40,3.3,0,100,199.99999999999997,300.00000000000006,400,500,600,700.00000000000011,800,900,1000,1000,1099.9999999999998,1200,1299.9999999999998,1400,1500,1599.9999999999998,1700,1799.9999999999998,1900,2000,2000,2100,2199.9999999999995,2300,2400,2500,2600,2699.9999999999995,2800,2900,3000,3000,3100,3199.9999999999995,3300,3400,3500,3600,3699.9999999999995,3800,3900,3999.9999999999995,null,40,3.3,0,100,199.99999999999997,300.00000000000006,400,500,600,700.00000000000011,800,900,1000,1000,1099.9999999999998,1200,1299.9999999999998,1400,1500,1599.9999999999998,1700,1799.9999999999998,1900,2000,2000,2100,2199.9999999999995,2300,2400,2500,2600,2699.9999999999995,2800,2900,3000,3000,3100,3199.9999999999995,3300,3400,3500,3600,3699.9999999999995,3800,3900,4000]
[null,null,null,null,null,null,null,null,null,null,null,null,null,null,null,null,null,null,null,null,null,null,null,null,null,null,null,null,null,null,null,null,null,null,null,null,null,null,null,null,null,null,null,null,null,null,null,null,null,null,null,null,null,null,null,null,null,null,null,null,null,null,null,null,null,null,null,null,null,null,null,null,null,null,null,null,null,null,null,null,null,null,null,null,null,null,null,null,null,null,null,null,null,null,null,null,null,null,null,null,null,null,null,null,null,null,null,null,null,null,null,null,null,null,null,null,null,null,null,null,null,null,null,null,null,null,null,null,null,null,null,null,null,null,null,null,null,null,null,null,null,null,null,null,null,43,3.5,0,100,199.99999999999997,300.00000000000006,400,500,600,700.00000000000011,800,900,1000,1000,1099.9999999999998,1200,1299.9999999999998,1400,1500,1599.9999999999998,1700,1799.9999999999998,1900,2000,2000,2100,2199.9999999999995,2300,2400,2500,2600,2699.9999999999995,2800,{"$f":"FW$301*1000","v":2900},3000,3000,3100,3199.9999999999995,3300,3400,3500,3600,3699.9999999999995,3800,3900,3999.9999999999995,null,43,3.5,0,100,199.99999999999997,300.00000000000006,400,500,600,700.00000000000011,800,900,1000,1000,1099.9999999999998,1200,1299.9999999999998,1400,1500,1599.9999999999998,1700,1799.9999999999998,1900,2000,2000,2100,2199.9999999999995,2300,2400,2500,2600,2699.9999999999995,2800,{"$f":"HR$301*1000","v":2900},3000,3000,3100,3199.9999999999995,3300,3400,3500,3600,3699.9999999999995,3800,3900,4000]
[null,null,null,null,null,null,null,null,null,null,null,null,null,null,null,null,null,null,null,null,null,null,null,null,null,null,null,null,null,null,null,null,null,null,null,null,null,null,null,null,null,null,null,null,null,null,null,null,null,null,null,null,null,null,null,null,null,null,null,null,null,null,null,null,null,null,null,null,null,null,null,null,null,null,null,null,null,null,null,null,null,null,null,null,null,null,null,null,null,null,null,null,null,null,null,null,null,null,null,null,null,null,null,null,null,null,null,null,null,null,null,null,null,null,null,null,null,null,null,null,null,null,null,null,null,null,null,null,null,null,null,null,null,null,null,null,null,null,null,null,null,null,null,null,null,50,4.1000000000000005,0,100,199.99999999999997,300.00000000000006,400,500,600,700.00000000000011,800,900,1000,1000,1099.9999999999998,1200,1299.9999999999998,1400,1500,1599.9999999999998,1700,1799.9999999999998,1900,2000,2000,2100,2199.9999999999995,2300,2400,2500,2600,2699.9999999999995,2800,2900,3000,3000,3100,3199.9999999999995,3300,3400,3500,3600,3699.9999999999995,3800,3900,3999.9999999999995,null,50,4.1000000000000005,0,100,199.99999999999997,300.00000000000006,400,500,600,700.00000000000011,800,900,1000,1000,1099.9999999999998,1200,1299.9999999999998,1400,1500,1599.9999999999998,1700,1799.9999999999998,1900,2000,2000,2100,2199.9999999999995,2300,2400,2500,2600,2699.9999999999995,2800,2900,3000,3000,3100,3199.9999999999995,3300,3400,3500,3600,3699.9999999999995,3800,3900,4000]
[null,null,null,null,null,null,null,null,null,null,null,null,null,null,null,null,null,null,null,null,null,null,null,null,null,null,null,null,null,null,null,null,null,null,null,null,null,null,null,null,null,null,null,null,null,null,null,null,null,null,null,null,null,null,null,null,null,null,null,null,null,null,null,null,null,null,null,null,null,null,null,null,null,null,null,null,null,null,null,null,null,null,null,null,null,null,null,null,null,null,null,null,null,null,null,null,null,null,null,null,null,null,null,null,null,null,null,null,null,null,null,null,null,null,null,null,null,null,null,null,null,null,null,null,null,null,null,null,null,null,null,null,null,null,null,null,null,null,null,null,null,null,null,null,null,59,4.9000000000000004,0,100,199.99999999999997,300.00000000000006,400,500,600,700.00000000000011,800,900,1000,1000,1099.9999999999998,1200,1299.9999999999998,1400,1500,1599.9999999999998,1700,1799.9999999999998,1900,2000,2000,2100,2199.9999999999995,2300,2400,2500,2600,2699.9999999999995,2800,2900,3000,3000,3100,3199.9999999999995,3300,3400,3500,3600,3699.9999999999995,3800,3900,3999.9999999999995,null,59,4.9000000000000004,0,100,199.99999999999997,300.00000000000006,400,500,600,700.00000000000011,800,900,1000,1000,1099.9999999999998,1200,1299.9999999999998,1400,1500,1599.9999999999998,1700,1799.9999999999998,1900,2000,2000,2100,2199.9999999999995,2300,2400,2500,2600,2699.9999999999995,2800,2900,3000,3000,3100,3199.9999999999995,3300,3400,3500,3600,3699.9999999999995,3800,3900,4000]
[null,null,null,null,null,null,null,null,null,null,null,null,null,null,null,null,null,null,null,null,null,null,null,null,null,null,null,null,null,null,null,null,null,null,null,null,null,null,null,null,null,null,null,null,null,null,null,null,null,null,null,null,null,null,null,null,null,null,null,null,null,null,null,null,null,null,null,null,null,null,null,null,null,null,null,null,null,null,null,null,null,null,null,null,null,null,null,null,null,null,null,null,null,null,null,null,null,null,null,null,null,null,null,null,null,null,null,null,null,null,null,null,null,null,null,null,null,null,null,null,null,null,null,null,null,null,null,null,null,null,null,null,null,null,null,null,null,null,null,null,null,null,null,null,null,66,{"$f":"EP292","v":5.5},0,100,199.99999999999997,300.00000000000006,400,500,600,700.00000000000011,800,900,1000,1000,1099.9999999999998,1200,1299.9999999999998,1400,1500,1599.9999999999998,1700,1799.9999999999998,1900,2000,2000,2100,2199.9999999999995,2300,2400,2500,2600,2699.9999999999995,2800,2900,3000,3000,3100,3199.9999999999995,3300,3400,3500,3600,3699.9999999999995,3800,3900,3999.9999999999995,null,66,{"$f":"GK292","v":5.5},0,100,199.99999999999997,300.00000000000006,400,500,600,700.00000000000011,800,900,1000,1000,1099.9999999999998,1200,1299.9999999999998,1400,1500,1599.9999999999998,1700,1799.9999999999998,1900,2000,2000,2100,2199.9999999999995,2300,2400,2500,2600,2699.9999999999995,2800,2900,3000,3000,3100,3199.9999999999995,3300,3400,3500,3600,3699.9999999999995,3800,3900,4000]
[null,null,null,null,null,null,null,null,null,null,null,null,null,null,null,null,null,null,null,null,null,null,null,null,null,null,null,null,null,null,null,null,null,null,null,null,null,null,null,null,null,null,null,null,null,null,null,null,null,null,null,null,null,null,null,null,null,null,null,null,null,null,null,null,null,null,null,null,null,null,null,null,null,null,null,null,null,null,null,null,null,null,null,null,null,null,null,null,null,null,null,null,null,null,null,null,null,null,null,null,null,null,null,null,null,null,null,null,null,null,null,null,null,null,null,null,null,null,null,null,null,null,null,null,null,null,null,null,null,null,null,null,null,null,null,null,null,null,null,null,null,null,null,null,null,69,5.7,0,100,199.99999999999997,300.00000000000006,400,500,600,700.00000000000011,800,900,1000,1000,1099.9999999999998,1200,1299.9999999999998,1400,1500,1599.9999999999998,1700,1799.9999999999998,1900,2000,2000,2100,2199.9999999999995,2300,2400,2500,2600,2699.9999999999995,2800,2900,3000,3000,3100,3199.9999999999995,3300,3400,3500,3600,3699.9999999999995,3800,3900,3999.9999999999995,null,69,5.7,0,100,199.99999999999997,300.00000000000006,400,500,600,700.00000000000011,800,900,1000,1000,1099.9999999999998,1200,1299.9999999999998,1400,1500,1599.9999999999998,1700,1799.9999999999998,1900,2000,2000,2100,2199.9999999999995,2300,2400,2500,2600,2699.9999999999995,2800,2900,3000,3000,3100,3199.9999999999995,3300,3400,3500,3600,3699.9999999999995,3800,3900,4000]
[null,null,null,null,null,null,null,null,null,null,null,null,null,null,null,null,null,null,null,null,null,null,null,null,null,null,null,null,null,null,null,null,null,null,null,null,null,null,null,null,null,null,null,null,null,null,null,null,null,null,null,null,null,null,null,null,null,null,null,null,null,null,null,null,null,null,null,null,null,null,null,null,null,null,null,null,null,null,null,null,null,null,null,null,null,null,null,null,null,null,null,null,null,null,null,null,null,null,null,null,null,null,null,null,null,null,null,null,null,null,null,null,null,null,null,null,null,null,null,null,null,null,null,null,null,null,null,null,null,null,null,null,null,null,null,null,null,null,null,null,null,null,null,null,null,3,0.19999999999999998,199.99999999999997,199.99999999999997,199.99999999999997,199.99999999999997,199.99999999999997,199.99999999999997,199.99999999999997,199.99999999999997,199.99999999999997,199.99999999999997,199.99999999999997,199.99999999999997,199.99999999999997,199.99999999999997,199.99999999999997,199.99999999999997,199.99999999999997,199.99999999999997,199.99999999999997,199.99999999999997,199.99999999999997,199.99999999999997,199.99999999999997,199.99999999999997,199.99999999999997,199.99999999999997,199.99999999999997,199.99999999999997,199.99999999999997,199.99999999999997,199.99999999999997,199.99999999999997,199.99999999999997,199.99999999999997,199.99999999999997,199.99999999999997,199.99999999999997,199.99999999999997,199.99999999999997,199.99999999999997,199.99999999999997,199.99999999999997,199.99999999999997,199.99999999999997,null,3,0.19999999999999998,199.99999999999997,199.99999999999997,199.99999999999997,199.99999999999997,199.99999999999997,199.99999999999997,199.99999999999997,199.99999999999997,199.99999999999997,199.99999999999997,199.99999999999997,199.99999999999997,199.99999999999997,199.99999999999997,199.99999999999997,199.99999999999997,199.99999999999997,199.99999999999997,199.99999999999997,199.99999999999997,199.99999999999997,199.99999999999997,199.99999999999997,199.99999999999997,199.99999999999997,199.99999999999997,199.99999999999997,199.99999999999997,199.99999999999997,199.99999999999997,199.99999999999997,199.99999999999997,199.99999999999997,199.99999999999997,199.99999999999997,199.99999999999997,199.99999999999997,199.99999999999997,199.99999999999997,199.99999999999997,199.99999999999997,199.99999999999997,199.99999999999997,199.99999999999997]
[null,null,null,null,null,null,null,null,null,null,null,null,null,null,null,null,null,null,null,null,null,null,null,null,null,null,null,null,null,null,null,null,null,null,null,null,null,null,null,null,null,null,null,null,null,null,null,null,null,null,null,null,null,null,null,null,null,null,null,null,null,null,null,null,null,null,null,null,null,null,null,null,null,null,null,null,null,null,null,null,null,null,null,null,null,null,null,null,null,null,null,null,null,null,null,null,null,null,null,null,null,null,null,null,null,null,null,null,null,null,null,null,null,null,null,null,null,null,null,null,null,null,null,null,null,null,null,null,null,null,null,null,null,null,null,null,null,null,null,null,null,null,null,null,null,4,0.30000000000000004,300.00000000000006,300.00000000000006,300.00000000000006,300.00000000000006,300.00000000000006,300.00000000000006,300.00000000000006,300.00000000000006,300.00000000000006,300.00000000000006,300.00000000000006,300.00000000000006,300.00000000000006,300.00000000000006,300.00000000000006,300.00000000000006,300.00000000000006,300.00000000000006,300.00000000000006,300.00000000000006,300.00000000000006,300.00000000000006,300.00000000000006,300.00000000000006,300.00000000000006,300.00000000000006,300.00000000000006,300.00000000000006,300.00000000000006,300.00000000000006,300.00000000000006,300.00000000000006,300.00000000000006,300.00000000000006,300.00000000000006,300.00000000000006,300.00000000000006,300.00000000000006,300.00000000000006,300.00000000000006,300.00000000000006,300.00000000000006,300.00000000000006,300.00000000000006,null,4,0.30000000000000004,300.00000000000006,300.00000000000006,300.00000000000006,300.00000000000006,300.00000000000006,300.00000000000006,300.00000000000006,300.00000000000006,300.00000000000006,300.00000000000006,300.00000000000006,300.00000000000006,300.00000000000006,300.00000000000006,300.00000000000006,300.00000000000006,300.00000000000006,300.00000000000006,300.00000000000006,300.00000000000006,300.00000000000006,300.00000000000006,300.00000000000006,300.00000000000006,300.00000000000006,300.00000000000006,300.00000000000006,300.00000000000006,300.00000000000006,300.00000000000006,300.00000000000006,300.00000000000006,300.00000000000006,300.00000000000006,300.00000000000006,300.00000000000006,300.00000000000006,300.00000000000006,300.00000000000006,300.00000000000006,300.00000000000006,300.00000000000006,300.00000000000006,300.00000000000006]
[null,null,null,null,null,null,null,null,null,null,null,null,null,null,null,null,null,null,null,null,null,null,null,null,null,null,null,null,null,null,null,null,null,null,null,null,null,null,null,null,null,null,null,null,null,null,null,null,null,null,null,null,null,null,null,null,null,null,null,null,null,null,null,null,null,null,null,null,null,null,null,null,null,null,null,null,null,null,null,null,null,null,null,null,null,null,null,null,null,null,null,null,null,null,null,null,null,null,null,null,null,null,null,null,null,null,null,null,null,null,null,null,null,null,null,null,null,null,null,null,null,null,null,null,null,null,null,null,null,null,null,null,null,null,null,null,null,null,null,null,null,null,null,null,null,13,1,1000,1000,1000,1000,1000,1000,1000,1000,1000,1000,1000,1000,1000,1000,1000,1000,1000,1000,1000,1000,1000,1000,1000,1000,1000,1000,1000,1000,1000,1000,1000,1000,1000,1000,1000,1000,1000,1000,1000,1000,1000,1000,1000,1000,null,13,1,1000,1000,1000,1000,1000,1000,1000,1000,1000,1000,1000,1000,1000,1000,1000,1000,1000,1000,1000,1000,1000,1000,1000,1000,1000,1000,1000,1000,1000,1000,1000,1000,1000,1000,1000,1000,1000,1000,1000,1000,1000,1000,1000,1000]
[null,null,null,null,null,null,null,null,null,null,null,null,null,null,null,null,null,null,null,null,null,null,null,null,null,null,null,null,null,null,null,null,null,null,null,null,null,null,null,null,null,null,null,null,null,null,null,null,null,null,null,null,null,null,null,null,null,null,null,null,null,null,null,null,null,null,null,null,null,null,null,null,null,null,null,null,null,null,null,null,null,null,null,null,null,null,null,null,null,null,null,null,null,null,null,null,null,null,null,null,null,null,null,null,null,null,null,null,null,null,null,null,null,null,null,null,null,null,null,null,null,null,null,null,null,null,null,null,null,null,null,null,null,null,null,null,null,null,null,null,null,null,null,null,null,20,1.5999999999999999,1599.9999999999998,1599.9999999999998,1599.9999999999998,1599.9999999999998,1599.9999999999998,1599.9999999999998,1599.9999999999998,1599.9999999999998,1599.9999999999998,1599.9999999999998,1599.9999999999998,1599.9999999999998,1599.9999999999998,1599.9999999999998,1599.9999999999998,1599.9999999999998,1599.9999999999998,1599.9999999999998,1599.9999999999998,1599.9999999999998,1599.9999999999998,1599.9999999999998,1599.9999999999998,1599.9999999999998,1599.9999999999998,1599.9999999999998,1599.9999999999998,1599.9999999999998,1599.9999999999998,1599.9999999999998,1599.9999999999998,1599.9999999999998,1599.9999999999998,1599.9999999999998,1599.9999999999998,1599.9999999999998,1599.9999999999998,1599.9999999999998,1599.9999999999998,1599.9999999999998,1599.9999999999998,1599.9999999999998,1599.9999999999998,1599.9999999999998,null,20,1.5999999999999999,1599.9999999999998,1599.9999999999998,1599.9999999999998,1599.9999999999998,1599.9999999999998,1599.9999999999998,1599.9999999999998,1599.9999999999998,1599.9999999999998,1599.9999999999998,1599.9999999999998,1599.9999999999998,1599.9999999999998,1599.9999999999998,1599.9999999999998,1599.9999999999998,1599.9999999999998,1599.9999999999998,1599.9999999999998,1599.9999999999998,1599.9999999999998,1599.9999999999998,1599.9999999999998,1599.9999999999998,1599.9999999999998,1599.9999999999998,1599.9999999999998,1599.9999999999998,1599.9999999999998,1599.9999999999998,1599.9999999999998,1599.9999999999998,1599.9999999999998,1599.9999999999998,1599.9999999999998,1599.9999999999998,1599.9999999999998,1599.9999999999998,1599.9999999999998,1599.9999999999998,1599.9999999999998,1599.9999999999998,1599.9999999999998,1599.9999999999998]
[null,null,null,null,null,null,null,null,null,null,null,null,null,null,null,null,null,null,null,null,null,null,null,null,null,null,null,null,null,null,null,null,null,null,null,null,null,null,null,null,null,null,null,null,null,null,null,null,null,null,null,null,null,null,null,null,null,null,null,null,null,null,null,null,null,null,null,null,null,null,null,null,null,null,null,null,null,null,null,null,null,null,null,null,null,null,null,null,null,null,null,null,null,null,null,null,null,null,null,null,null,null,null,null,null,null,null,null,null,null,null,null,null,null,null,null,null,null,null,null,null,null,null,null,null,null,null,null,null,null,null,null,null,null,null,null,null,null,null,null,null,null,null,null,null,23,1.9,{"$f":"$EQ399*1000","v":1900},1900,1900,1900,1900,1900,1900,1900,1900,1900,1900,1900,1900,1900,1900,1900,1900,1900,1900,1900,1900,1900,1900,1900,1900,1900,1900,1900,1900,1900,1900,1900,1900,1900,1900,1900,1900,1900,1900,1900,1900,1900,1900,1900,null,23,1.9,{"$f":"$EQ399*1000","v":1900},1900,1900,1900,1900,1900,1900,1900,1900,1900,1900,1900,1900,1900,1900,1900,1900,1900,1900,1900,1900,1900,1900,1900,1900,1900,1900,1900,1900,1900,1900,1900,1900,1900,1900,1900,1900,1900,1900,1900,1900,1900,1900,1900]
[null,null,null,null,null,null,null,null,null,null,null,null,null,null,null,null,null,null,null,null,null,null,null,null,null,null,null,null,null,null,null,null,null,null,null,null,null,null,null,null,null,null,null,null,null,null,null,null,null,null,null,null,null,null,null,null,null,null,null,null,null,null,null,null,null,null,null,null,null,null,null,null,null,null,null,null,null,null,null,null,null,null,null,null,null,null,null,null,null,null,null,null,null,null,null,null,null,null,null,null,null,null,null,null,null,null,null,null,null,null,null,null,null,null,null,null,null,null,null,null,null,null,null,null,null,null,null,null,null,null,null,null,null,null,null,null,null,null,null,null,null,null,null,null,null,32,2.6,2600,2600,2600,2600,2600,2600,2600,2600,2600,2600,2600,2600,2600,2600,2600,2600,2600,2600,2600,2600,2600,2600,2600,2600,2600,2600,2600,2600,2600,2600,2600,2600,2600,2600,2600,2600,2600,2600,2600,2600,2600,2600,2600,2600,null,32,2.6,2600,2600,2600,2600,2600,2600,2600,2600,2600,2600,2600,2600,2600,2600,2600,2600,2600,2600,2600,2600,2600,2600,2600,2600,2600,2600,2600,2600,2600,2600,2600,2600,2600,2600,2600,2600,2600,2600,2600,2600,2600,2600,2600,2600]
[null,null,null,null,null,null,null,null,null,null,null,null,null,null,null,null,null,null,null,null,null,null,null,null,null,null,null,null,null,null,null,null,null,null,null,null,null,null,null,null,null,null,null,null,null,null,null,null,null,null,null,null,null,null,null,null,null,null,null,null,null,null,null,null,null,null,null,null,null,null,null,null,null,null,null,null,null,null,null,null,null,null,null,null,null,null,null,null,null,null,null,null,null,null,null,null,null,null,null,null,null,null,null,null,null,null,null,null,null,null,null,null,null,null,null,null,null,null,null,null,null,null,null,null,null,null,null,null,null,null,null,null,null,null,null,null,null,null,null,null,null,null,null,null,null,39,3.1999999999999997,{"$f":"$EQ415*1000","v":3199.9999999999995},3199.9999999999995,3199.9999999999995,3199.9999999999995,3199.9999999999995,3199.9999999999995,3199.9999999999995,3199.9999999999995,3199.9999999999995,3199.9999999999995,3199.9999999999995,3199.9999999999995,3199.9999999999995,3199.9999999999995,3199.9999999999995,3199.9999999999995,3199.9999999999995,3199.9999999999995,3199.9999999999995,3199.9999999999995,3199.9999999999995,3199.9999999999995,3199.9999999999995,3199.9999999999995,3199.9999999999995,3199.9999999999995,3199.9999999999995,3199.9999999999995,3199.9999999999995,3199.9999999999995,3199.9999999999995,3199.9999999999995,3199.9999999999995,3199.9999999999995,3199.9999999999995,3199.9999999999995,3199.9999999999995,3199.9999999999995,3199.9999999999995,3199.9999999999995,3199.9999999999995,3199.9999999999995,3199.9999999999995,3199.9999999999995,null,39,3.1999999999999997,{"$f":"$EQ415*1000","v":3199.9999999999995},3199.9999999999995,3199.9999999999995,3199.9999999999995,3199.9999999999995,3199.9999999999995,3199.9999999999995,3199.9999999999995,3199.9999999999995,3199.9999999999995,3199.9999999999995,3199.9999999999995,3199.9999999999995,3199.9999999999995,3199.9999999999995,3199.9999999999995,3199.9999999999995,3199.9999999999995,3199.9999999999995,3199.9999999999995,3199.9999999999995,3199.9999999999995,3199.9999999999995,3199.9999999999995,3199.9999999999995,3199.9999999999995,3199.9999999999995,3199.9999999999995,3199.9999999999995,3199.9999999999995,3199.9999999999995,3199.9999999999995,3199.9999999999995,3199.9999999999995,3199.9999999999995,3199.9999999999995,3199.9999999999995,3199.9999999999995,3199.9999999999995,3199.9999999999995,3199.9999999999995,3199.9999999999995,3199.9999999999995,3199.9999999999995]
[null,null,null,null,null,null,null,null,null,null,null,null,null,null,null,null,null,null,null,null,null,null,null,null,null,null,null,null,null,null,null,null,null,null,null,null,null,null,null,null,null,null,null,null,null,null,null,null,null,null,null,null,null,null,null,null,null,null,null,null,null,null,null,null,null,null,null,null,null,null,null,null,null,null,null,null,null,null,null,null,null,null,null,null,null,null,null,null,null,null,null,null,null,null,null,null,null,null,null,null,null,null,null,null,null,null,null,null,null,null,null,null,null,null,null,null,null,null,null,null,null,null,null,null,null,null,null,null,null,null,null,null,null,null,null,null,null,null,null,null,null,null,null,null,null,42,3.5,3500,3500,3500,3500,3500,3500,3500,3500,3500,3500,3500,3500,3500,3500,3500,3500,3500,3500,3500,3500,3500,3500,3500,3500,3500,3500,3500,3500,3500,3500,3500,3500,3500,3500,{"$f":"$EQ418*1000","v":3500},3500,3500,3500,3500,3500,3500,3500,3500,3500,null,42,3.5,3500,3500,3500,3500,3500,3500,3500,3500,3500,3500,3500,3500,3500,3500,3500,3500,3500,3500,3500,3500,3500,3500,3500,3500,3500,3500,3500,3500,3500,3500,3500,3500,3500,3500,{"$f":"$EQ418*1000","v":3500},3500,3500,3500,3500,3500,3500,3500,3500,3500]
[null,null,null,null,null,null,null,null,null,null,null,null,null,null,null,null,null,null,null,null,null,null,null,null,null,null,null,null,null,null,null,null,null,null,null,null,null,null,null,null,null,null,null,null,null,null,null,null,null,null,null,null,null,null,null,null,null,null,null,null,null,null,null,null,null,null,null,null,null,null,null,null,null,null,null,null,null,null,null,null,null,null,null,null,null,null,null,null,null,null,null,null,null,null,null,null,null,null,null,null,null,null,null,null,null,null,null,null,null,null,null,null,null,null,null,null,null,null,null,null,null,null,null,null,null,null,null,null,null,null,null,null,null,null,null,null,null,null,null,null,null,null,null,null,null,51,4.2,4200,4200,4200,4200,4200,4200,4200,4200,4200,4200,4200,4200,4200,4200,4200,4200,4200,4200,4200,4200,4200,4200,4200,4200,4200,4200,4200,4200,4200,4200,4200,4200,4200,4200,4200,4200,4200,4200,4200,4200,4200,4200,4200,4200,null,51,4.2,4200,4200,4200,4200,4200,4200,4200,4200,4200,4200,4200,4200,4200,4200,4200,4200,4200,4200,4200,4200,4200,4200,4200,4200,4200,4200,4200,4200,4200,4200,4200,4200,4200,4200,4200,4200,4200,4200,4200,4200,4200,4200,4200,4200]
[null,null,null,null,null,null,null,null,null,null,null,null,null,null,null,null,null,null,null,null,null,null,null,null,null,null,null,null,null,null,null,null,null,null,null,null,null,null,null,null,null,null,null,null,null,null,null,null,null,null,null,null,null,null,null,null,null,null,null,null,null,null,null,null,null,null,null,null,null,null,null,null,null,null,null,null,null,null,null,null,null,null,null,null,null,null,null,null,null,null,null,null,null,null,null,null,null,null,null,null,null,null,null,null,null,null,null,null,null,null,null,null,null,null,null,null,null,null,null,null,null,null,null,null,null,null,null,null,null,null,null,null,null,null,null,null,null,null,null,null,null,null,null,null,null,52,4.3000000000000007,4300.0000000000009,4300.0000000000009,4300.0000000000009,4300.0000000000009,4300.0000000000009,4300.0000000000009,4300.0000000000009,4300.0000000000009,4300.0000000000009,4300.0000000000009,4300.0000000000009,4300.0000000000009,4300.0000000000009,4300.0000000000009,4300.0000000000009,4300.0000000000009,4300.0000000000009,4300.0000000000009,4300.0000000000009,4300.0000000000009,4300.0000000000009,4300.0000000000009,4300.0000000000009,4300.0000000000009,4300.0000000000009,4300.0000000000009,4300.0000000000009,4300.0000000000009,4300.0000000000009,4300.0000000000009,4300.0000000000009,4300.0000000000009,4300.0000000000009,4300.0000000000009,4300.0000000000009,4300.0000000000009,4300.0000000000009,4300.0000000000009,4300.0000000000009,4300.0000000000009,4300.0000000000009,4300.0000000000009,4300.0000000000009,4300.0000000000009,null,52,4.3000000000000007,4300.0000000000009,4300.0000000000009,4300.0000000000009,4300.0000000000009,4300.0000000000009,4300.0000000000009,4300.0000000000009,4300.0000000000009,4300.0000000000009,4300.0000000000009,4300.0000000000009,4300.0000000000009,4300.0000000000009,4300.0000000000009,4300.0000000000009,4300.0000000000009,4300.0000000000009,4300.0000000000009,4300.0000000000009,4300.0000000000009,4300.0000000000009,4300.0000000000009,4300.0000000000009,4300.0000000000009,4300.0000000000009,4300.0000000000009,4300.0000000000009,4300.0000000000009,4300.0000000000009,4300.0000000000009,4300.0000000000009,4300.0000000000009,4300.0000000000009,4300.0000000000009,4300.0000000000009,4300.0000000000009,4300.0000000000009,4300.0000000000009,4300.0000000000009,4300.0000000000009,4300.0000000000009,4300.0000000000009,4300.0000000000009,4300.0000000000009]
[null,null,null,null,null,null,null,null,null,null,null,null,null,null,null,null,null,null,null,null,null,null,null,null,null,null,null,null,null,null,null,null,null,null,null,null,null,null,null,null,null,null,null,null,null,null,null,null,null,null,null,null,null,null,null,null,null,null,null,null,null,null,null,null,null,null,null,null,null,null,null,null,null,null,null,null,null,null,null,null,null,null,null,null,null,null,null,null,null,null,null,null,null,null,null,null,null,null,null,null,null,null,null,null,null,null,null,null,null,null,null,null,null,null,null,null,null,null,null,null,null,null,null,null,null,null,null,null,null,null,null,null,null,null,null,null,null,null,null,null,null,null,null,null,null,58,4.8000000000000007,4800.0000000000009,4800.0000000000009,4800.0000000000009,4800.0000000000009,4800.0000000000009,4800.0000000000009,4800.0000000000009,4800.0000000000009,4800.0000000000009,4800.0000000000009,4800.0000000000009,4800.0000000000009,4800.0000000000009,4800.0000000000009,4800.0000000000009,4800.0000000000009,4800.0000000000009,4800.0000000000009,4800.0000000000009,4800.0000000000009,4800.0000000000009,4800.0000000000009,4800.0000000000009,4800.0000000000009,4800.0000000000009,4800.0000000000009,4800.0000000000009,4800.0000000000009,4800.0000000000009,4800.0000000000009,4800.0000000000009,4800.0000000000009,4800.0000000000009,4800.0000000000009,4800.0000000000009,4800.0000000000009,4800.0000000000009,4800.0000000000009,4800.0000000000009,4800.0000000000009,4800.0000000000009,4800.0000000000009,4800.0000000000009,4800.0000000000009,null,58,4.8000000000000007,4800.0000000000009,4800.0000000000009,4800.0000000000009,4800.0000000000009,4800.0000000000009,4800.0000000000009,4800.0000000000009,4800.0000000000009,4800.0000000000009,4800.0000000000009,4800.0000000000009,4800.0000000000009,4800.0000000000009,4800.0000000000009,4800.0000000000009,4800.0000000000009,4800.0000000000009,4800.0000000000009,4800.0000000000009,4800.0000000000009,4800.0000000000009,4800.0000000000009,4800.0000000000009,4800.0000000000009,4800.0000000000009,4800.0000000000009,4800.0000000000009,4800.0000000000009,4800.0000000000009,4800.0000000000009,4800.0000000000009,4800.0000000000009,4800.0000000000009,4800.0000000000009,4800.0000000000009,4800.0000000000009,4800.0000000000009,4800.0000000000009,4800.0000000000009,4800.0000000000009,4800.0000000000009,4800.0000000000009,4800.0000000000009,4800.0000000000009]
[null,null,null,null,null,null,null,null,null,null,null,null,null,null,null,null,null,null,null,null,null,null,null,null,null,null,null,null,null,null,null,null,null,null,null,null,null,null,null,null,null,null,null,null,null,null,null,null,null,null,null,null,null,null,null,null,null,null,null,null,null,null,null,null,null,null,null,null,null,null,null,null,null,null,null,null,null,null,null,null,null,null,null,null,null,null,null,null,null,null,null,null,null,null,null,null,null,null,null,null,null,null,null,null,null,null,null,null,null,null,null,null,null,null,null,null,null,null,null,null,null,null,null,null,null,null,null,null,null,null,null,null,null,null,null,null,null,null,null,null,null,null,null,null,null,59,4.9000000000000004,4900,4900,4900,4900,4900,4900,4900,4900,4900,4900,4900,4900,4900,4900,4900,4900,4900,4900,4900,4900,4900,4900,4900,4900,4900,4900,4900,4900,4900,4900,4900,4900,4900,4900,4900,4900,4900,4900,4900,4900,4900,4900,4900,4900,null,59,4.9000000000000004,4900,4900,4900,4900,4900,4900,4900,4900,4900,4900,4900,4900,4900,4900,4900,4900,4900,4900,4900,4900,4900,4900,4900,4900,4900,4900,4900,4900,4900,4900,4900,4900,4900,4900,4900,4900,4900,4900,4900,4900,4900,4900,4900,4900]
[null,null,null,null,null,null,null,null,null,null,null,null,null,null,null,null,null,null,null,null,null,null,null,null,null,null,null,null,null,null,null,null,null,null,null,null,null,null,null,null,null,null,null,null,null,null,null,null,null,null,null,null,null,null,null,null,null,null,null,null,null,null,null,null,null,null,null,null,null,null,null,null,null,null,null,null,null,null,null,null,null,null,null,null,null,null,null,null,null,null,null,null,null,null,null,null,null,null,null,null,null,null,null,null,null,null,null,null,null,null,null,null,null,null,null,null,null,null,null,null,null,null,null,null,null,null,null,null,null,null,null,null,null,null,null,null,null,null,null,null,null,null,null,null,null,60,5,5000,5000,5000,5000,5000,5000,5000,5000,5000,5000,5000,5000,5000,5000,5000,5000,5000,5000,5000,5000,5000,5000,5000,5000,5000,5000,5000,5000,5000,5000,5000,5000,5000,5000,5000,5000,5000,5000,5000,5000,5000,5000,5000,5000,null,60,5,5000,5000,5000,5000,5000,5000,5000,5000,5000,5000,5000,5000,5000,5000,5000,5000,5000,5000,5000,5000,5000,5000,5000,5000,5000,5000,5000,5000,5000,5000,5000,5000,5000,5000,5000,5000,5000,5000,5000,5000,5000,5000,5000,5000]
[null,null,null,null,null,null,null,null,null,null,null,null,null,null,null,null,null,null,null,null,null,null,null,null,null,null,null,null,null,null,null,null,null,null,null,null,null,null,null,null,null,null,null,null,null,null,null,null,null,null,null,null,null,null,null,null,null,null,null,null,null,null,null,null,null,null,null,null,null,null,null,null,null,null,null,null,null,null,null,null,null,null,null,null,null,null,null,null,null,null,null,null,null,null,null,null,null,null,null,null,null,null,null,null,null,null,null,null,null,null,null,null,null,null,null,null,null,null,null,null,null,null,null,null,null,null,null,null,null,null,null,null,null,null,null,null,null,null,null,null,null,null,null,null,null,61,5,5000,5000,5000,5000,5000,5000,5000,5000,5000,5000,5000,5000,5000,5000,5000,5000,5000,5000,5000,5000,5000,5000,5000,5000,5000,5000,5000,5000,5000,5000,5000,5000,5000,5000,5000,5000,5000,5000,5000,5000,5000,5000,5000,5000,null,61,5,5000,5000,5000,5000,5000,5000,5000,5000,5000,5000,5000,5000,5000,5000,5000,5000,5000,5000,5000,5000,5000,5000,5000,5000,5000,5000,5000,5000,5000,5000,5000,5000,5000,5000,5000,5000,5000,5000,5000,5000,5000,5000,5000,5000]
[null,null,null,null,null,null,null,null,null,null,null,null,null,null,null,null,null,null,null,null,null,null,null,null,null,null,null,null,null,null,null,null,null,null,null,null,null,null,null,null,null,null,null,null,null,null,null,null,null,null,null,null,null,null,null,null,null,null,null,null,null,null,null,null,null,null,null,null,null,null,null,null,null,null,null,null,null,null,null,null,null,null,null,null,null,null,null,null,null,null,null,null,null,null,null,null,null,null,null,null,null,null,null,null,null,null,null,null,null,null,null,null,null,null,null,null,null,null,null,null,null,null,null,null,null,null,null,null,null,null,null,null,null,null,null,null,null,null,null,null,null,null,null,null,null,62,5.1000000000000005,5100.0000000000009,5100.0000000000009,5100.0000000000009,5100.0000000000009,5100.0000000000009,5100.0000000000009,5100.0000000000009,5100.0000000000009,5100.0000000000009,5100.0000000000009,5100.0000000000009,5100.0000000000009,5100.0000000000009,5100.0000000000009,5100.0000000000009,5100.0000000000009,5100.0000000000009,5100.0000000000009,5100.0000000000009,5100.0000000000009,5100.0000000000009,5100.0000000000009,5100.0000000000009,5100.0000000000009,5100.0000000000009,5100.0000000000009,5100.0000000000009,5100.0000000000009,5100.0000000000009,5100.0000000000009,5100.0000000000009,5100.0000000000009,5100.0000000000009,5100.0000000000009,5100.0000000000009,5100.0000000000009,5100.0000000000009,5100.0000000000009,5100.0000000000009,{"$f":"$EQ438*1000","v":5100.0000000000009},{"$f":"$EQ438*1000","v":5100.0000000000009},{"$f":"$EQ438*1000","v":5100.0000000000009},{"$f":"$EQ438*1000","v":5100.0000000000009},{"$f":"$EQ438*1000","v":5100.0000000000009},null,62,5.1000000000000005,5100.0000000000009,5100.0000000000009,5100.0000000000009,5100.0000000000009,5100.0000000000009,5100.0000000000009,5100.0000000000009,5100.0000000000009,5100.0000000000009,5100.0000000000009,5100.0000000000009,5100.0000000000009,5100.0000000000009,5100.0000000000009,5100.0000000000009,5100.0000000000009,5100.0000000000009,5100.0000000000009,5100.0000000000009,5100.0000000000009,5100.0000000000009,5100.0000000000009,5100.0000000000009,5100.0000000000009,5100.0000000000009,5100.0000000000009,5100.0000000000009,5100.0000000000009,5100.0000000000009,5100.0000000000009,5100.0000000000009,5100.0000000000009,5100.0000000000009,5100.0000000000009,5100.0000000000009,5100.0000000000009,5100.0000000000009,5100.0000000000009,5100.0000000000009,{"$f":"$EQ438*1000","v":5100.0000000000009},{"$f":"$EQ438*1000","v":5100.0000000000009},{"$f":"$EQ438*1000","v":5100.0000000000009},{"$f":"$EQ438*1000","v":5100.0000000000009},{"$f":"$EQ438*1000","v":5100.0000000000009}]
[null,null,null,null,null,null,null,null,null,null,null,null,null,null,null,null,null,null,null,null,null,null,null,null,null,null,null,null,null,null,null,null,null,null,null,null,null,null,null,null,null,null,null,null,null,null,null,null,null,null,null,null,null,null,null,null,null,null,null,null,null,null,null,null,null,null,null,null,null,null,null,null,null,null,null,null,null,null,null,null,null,null,null,null,null,null,null,null,null,null,null,null,null,null,null,null,null,null,null,null,null,null,null,null,null,null,null,null,null,null,null,null,null,null,null,null,null,null,null,null,null,null,null,null,null,null,null,null,null,null,null,null,null,null,null,null,null,null,null,null,null,null,null,null,null,63,5.2,5200,5200,5200,5200,5200,5200,5200,5200,5200,5200,5200,5200,5200,5200,5200,5200,5200,5200,5200,5200,5200,5200,5200,5200,5200,5200,5200,5200,5200,5200,5200,{"$f":"$EQ439*1000","v":5200},5200,5200,5200,5200,5200,5200,5200,5200,5200,5200,5200,5200,null,63,5.2,5200,5200,5200,5200,5200,5200,5200,5200,5200,5200,5200,5200,5200,5200,5200,5200,5200,5200,5200,5200,5200,5200,5200,5200,5200,5200,5200,5200,5200,5200,5200,{"$f":"$EQ439*1000","v":5200},5200,5200,5200,5200,5200,5200,5200,5200,5200,5200,5200,5200]
[null,null,null,null,null,null,null,null,null,null,null,null,null,null,null,null,null,null,null,null,null,null,null,null,null,null,null,null,null,null,null,null,null,null,null,null,null,null,null,null,null,null,null,null,null,null,null,null,null,null,null,null,null,null,null,null,null,null,null,null,null,null,null,null,null,null,null,null,null,null,null,null,null,null,null,null,null,null,null,null,null,null,null,null,null,null,null,null,null,null,null,null,null,null,null,null,null,null,null,null,null,null,null,null,null,null,null,null,null,null,null,null,null,null,null,null,null,null,null,null,null,null,null,null,null,null,null,null,null,null,null,null,null,null,null,null,null,null,null,null,null,null,null,null,null,64,5.3000000000000007,5300.0000000000009,5300.0000000000009,5300.0000000000009,5300.0000000000009,5300.0000000000009,5300.0000000000009,5300.0000000000009,5300.0000000000009,5300.0000000000009,5300.0000000000009,5300.0000000000009,5300.0000000000009,5300.0000000000009,5300.0000000000009,5300.0000000000009,5300.0000000000009,5300.0000000000009,5300.0000000000009,5300.0000000000009,5300.0000000000009,5300.0000000000009,5300.0000000000009,5300.0000000000009,5300.0000000000009,5300.0000000000009,5300.0000000000009,5300.0000000000009,5300.0000000000009,5300.0000000000009,5300.0000000000009,5300.0000000000009,5300.0000000000009,5300.0000000000009,5300.0000000000009,5300.0000000000009,5300.0000000000009,5300.0000000000009,5300.0000000000009,5300.0000000000009,5300.0000000000009,5300.0000000000009,5300.0000000000009,5300.0000000000009,5300.0000000000009,null,64,5.3000000000000007,5300.0000000000009,5300.0000000000009,5300.0000000000009,5300.0000000000009,5300.0000000000009,5300.0000000000009,5300.0000000000009,5300.0000000000009,5300.0000000000009,5300.0000000000009,5300.0000000000009,5300.0000000000009,5300.0000000000009,5300.0000000000009,5300.0000000000009,5300.0000000000009,5300.0000000000009,5300.0000000000009,5300.0000000000009,5300.0000000000009,5300.0000000000009,5300.0000000000009,5300.0000000000009,5300.0000000000009,5300.0000000000009,5300.0000000000009,5300.0000000000009,5300.0000000000009,5300.0000000000009,5300.0000000000009,5300.0000000000009,5300.0000000000009,5300.0000000000009,5300.0000000000009,5300.0000000000009,5300.0000000000009,5300.0000000000009,5300.0000000000009,5300.0000000000009,5300.0000000000009,5300.0000000000009,5300.0000000000009,5300.0000000000009,5300.0000000000009]
[null,null,null,null,null,null,null,null,null,null,null,null,null,null,null,null,null,null,null,null,null,null,null,null,null,null,null,null,null,null,null,null,null,null,null,null,null,null,null,null,null,null,null,null,null,null,null,null,null,null,null,null,null,null,null,null,null,null,null,null,null,null,null,null,null,null,null,null,null,null,null,null,null,null,null,null,null,null,null,null,null,null,null,null,null,null,null,null,null,null,null,null,null,null,null,null,null,null,null,null,null,null,null,null,null,null,null,null,null,null,null,null,null,null,null,null,null,null,null,null,null,null,null,null,null,null,null,null,null,null,null,null,null,null,null,null,null,null,null,null,null,null,null,null,null,65,5.4,5400,5400,5400,5400,5400,5400,5400,5400,5400,5400,5400,5400,5400,5400,5400,5400,5400,5400,5400,5400,5400,5400,5400,5400,5400,5400,5400,5400,5400,5400,5400,5400,5400,5400,5400,5400,5400,5400,5400,5400,5400,5400,5400,5400,null,65,5.4,5400,5400,5400,5400,5400,5400,5400,5400,5400,5400,5400,5400,5400,5400,5400,5400,5400,5400,5400,5400,5400,5400,5400,5400,5400,5400,5400,5400,5400,5400,5400,5400,5400,5400,5400,5400,5400,5400,5400,5400,5400,5400,5400,5400]
[null,null,null,null,null,null,null,null,null,null,null,null,null,null,null,null,null,null,null,null,null,null,null,null,null,null,null,null,null,null,null,null,null,null,null,null,null,null,null,null,null,null,null,null,null,null,null,null,null,null,null,null,null,null,null,null,null,null,null,null,null,null,null,null,null,null,null,null,null,null,null,null,null,null,null,null,null,null,null,null,null,null,null,null,null,null,null,null,null,null,null,null,null,null,null,null,null,null,null,null,null,null,null,null,null,null,null,null,null,null,null,null,null,null,null,null,null,null,null,null,null,null,null,null,null,null,null,null,null,null,null,null,null,null,null,null,null,null,null,null,null,null,null,null,null,66,{"$f":"EQ367","v":5.5},5500,5500,5500,5500,5500,5500,5500,5500,5500,5500,5500,5500,5500,5500,5500,5500,5500,5500,5500,5500,5500,5500,5500,5500,5500,5500,5500,5500,5500,5500,5500,5500,5500,5500,5500,5500,5500,5500,5500,5500,5500,5500,5500,5500,null,66,{"$f":"GL367","v":5.5},5500,5500,5500,5500,5500,5500,5500,5500,5500,5500,5500,5500,5500,5500,5500,5500,5500,5500,5500,5500,5500,5500,5500,5500,5500,5500,5500,5500,5500,5500,5500,5500,5500,5500,5500,5500,5500,5500,5500,5500,5500,5500,5500,5500]
[null,null,null,null,null,null,null,null,null,null,null,null,null,null,null,null,null,null,null,null,null,null,null,null,null,null,null,null,null,null,null,null,null,null,null,null,null,null,null,null,null,null,null,null,null,null,null,null,null,null,null,null,null,null,null,null,null,null,null,null,null,null,null,null,null,null,null,null,null,null,null,null,null,null,null,null,null,null,null,null,null,null,null,null,null,null,null,null,null,null,null,null,null,null,null,null,null,null,null,null,null,null,null,null,null,null,null,null,null,null,null,null,null,null,null,null,null,null,null,null,null,null,null,null,null,null,null,null,null,null,null,null,null,null,null,null,null,null,null,null,null,null,null,null,null,67,5.5,5500,5500,5500,5500,5500,5500,5500,5500,5500,5500,5500,5500,5500,5500,5500,5500,5500,5500,5500,5500,5500,5500,5500,5500,5500,5500,5500,5500,5500,5500,5500,5500,5500,5500,5500,5500,5500,5500,5500,5500,5500,5500,5500,5500,null,67,5.5,5500,5500,5500,5500,5500,5500,5500,5500,5500,5500,5500,5500,5500,5500,5500,5500,5500,5500,5500,5500,5500,5500,5500,5500,5500,5500,5500,5500,5500,5500,5500,5500,5500,5500,5500,5500,5500,5500,5500,5500,5500,5500,5500,5500]
[null,null,null,null,null,null,null,null,null,null,null,null,null,null,null,null,null,null,null,null,null,null,null,null,null,null,null,null,null,null,null,null,null,null,null,null,null,null,null,null,null,null,null,null,null,null,null,null,null,null,null,null,null,null,null,null,null,null,null,null,null,null,null,null,null,null,null,null,null,null,null,null,null,null,null,null,null,null,null,null,null,null,null,null,null,null,null,null,null,null,null,null,null,null,null,null,null,null,null,null,null,null,null,null,null,null,null,null,null,null,null,null,null,null,null,null,null,null,null,null,null,null,null,null,null,null,null,null,null,null,null,null,null,null,null,null,null,null,null,null,null,null,null,null,null,68,5.6000000000000005,5600.0000000000009,5600.0000000000009,5600.0000000000009,5600.0000000000009,5600.0000000000009,5600.0000000000009,5600.0000000000009,5600.0000000000009,5600.0000000000009,5600.0000000000009,5600.0000000000009,5600.0000000000009,5600.0000000000009,5600.0000000000009,5600.0000000000009,5600.0000000000009,5600.0000000000009,5600.0000000000009,5600.0000000000009,5600.0000000000009,5600.0000000000009,5600.0000000000009,5600.0000000000009,5600.0000000000009,5600.0000000000009,5600.0000000000009,5600.0000000000009,5600.0000000000009,5600.0000000000009,5600.0000000000009,5600.0000000000009,5600.0000000000009,5600.0000000000009,5600.0000000000009,5600.0000000000009,5600.0000000000009,5600.0000000000009,5600.0000000000009,5600.0000000000009,5600.0000000000009,5600.0000000000009,5600.0000000000009,5600.0000000000009,5600.0000000000009,null,68,5.6000000000000005,5600.0000000000009,5600.0000000000009,5600.0000000000009,5600.0000000000009,5600.0000000000009,5600.0000000000009,5600.0000000000009,5600.0000000000009,5600.0000000000009,5600.0000000000009,5600.0000000000009,5600.0000000000009,5600.0000000000009,5600.0000000000009,5600.0000000000009,5600.0000000000009,5600.0000000000009,5600.0000000000009,5600.0000000000009,5600.0000000000009,5600.0000000000009,5600.0000000000009,5600.0000000000009,5600.0000000000009,5600.0000000000009,5600.0000000000009,5600.0000000000009,5600.0000000000009,5600.0000000000009,5600.0000000000009,5600.0000000000009,5600.0000000000009,5600.0000000000009,5600.0000000000009,5600.0000000000009,5600.0000000000009,5600.0000000000009,5600.0000000000009,5600.0000000000009,5600.0000000000009,5600.0000000000009,5600.0000000000009,5600.0000000000009,5600.0000000000009]
[null,null,null,null,null,null,null,null,null,null,null,null,null,null,null,null,null,null,null,null,null,null,null,null,null,null,null,null,null,null,null,null,null,null,null,null,null,null,null,null,null,null,null,null,null,null,null,null,null,null,null,null,null,null,null,null,null,null,null,null,null,null,null,null,null,null,null,null,null,null,null,null,null,null,null,null,null,null,null,null,null,null,null,null,null,null,null,null,null,null,null,null,null,null,null,null,null,null,null,null,null,null,null,null,null,null,null,null,null,null,null,null,null,null,null,null,null,null,null,null,null,null,null,null,null,null,null,null,null,null,null,null,null,null,null,null,null,null,null,null,null,null,null,null,null,69,5.7,5700,5700,5700,5700,5700,5700,5700,5700,5700,5700,5700,5700,5700,5700,5700,5700,5700,5700,5700,5700,5700,5700,5700,5700,5700,5700,5700,5700,5700,5700,5700,5700,5700,5700,5700,5700,5700,5700,5700,5700,5700,5700,5700,5700,null,69,5.7,5700,5700,5700,5700,5700,5700,5700,5700,5700,5700,5700,5700,5700,5700,5700,5700,5700,5700,5700,5700,5700,5700,5700,5700,5700,5700,5700,5700,5700,5700,5700,5700,5700,5700,5700,5700,5700,5700,5700,5700,5700,5700,5700,5700]
[null,null,null,null,null,null,null,null,null,null,null,null,null,null,null,null,null,null,null,null,null,null,null,null,null,null,null,null,null,null,null,null,null,null,null,null,null,null,null,null,null,null,null,null,null,null,null,null,null,null,null,null,null,null,null,null,null,null,null,null,null,null,null,null,null,null,null,null,null,null,null,null,null,null,null,null,null,null,null,null,null,null,null,null,null,null,null,null,null,null,null,null,null,null,null,null,null,null,null,null,null,null,null,null,null,null,null,null,null,null,null,null,null,null,null,null,null,null,null,null,null,null,null,null,null,null,null,null,null,null,null,null,null,null,null,null,null,null,null,null,null,null,null,null,null,70,5.8000000000000007,5800.0000000000009,5800.0000000000009,5800.0000000000009,5800.0000000000009,5800.0000000000009,5800.0000000000009,5800.0000000000009,5800.0000000000009,5800.0000000000009,5800.0000000000009,5800.0000000000009,5800.0000000000009,5800.0000000000009,5800.0000000000009,5800.0000000000009,{"$f":"$EQ446*1000","v":5800.0000000000009},5800.0000000000009,5800.0000000000009,5800.0000000000009,5800.0000000000009,5800.0000000000009,5800.0000000000009,5800.0000000000009,5800.0000000000009,5800.0000000000009,5800.0000000000009,5800.0000000000009,5800.0000000000009,5800.0000000000009,5800.0000000000009,5800.0000000000009,5800.0000000000009,5800.0000000000009,5800.0000000000009,5800.0000000000009,5800.0000000000009,5800.0000000000009,5800.0000000000009,5800.0000000000009,5800.0000000000009,5800.0000000000009,5800.0000000000009,5800.0000000000009,5800.0000000000009,null,70,5.8000000000000007,5800.0000000000009,5800.0000000000009,5800.0000000000009,5800.0000000000009,5800.0000000000009,5800.0000000000009,5800.0000000000009,5800.0000000000009,5800.0000000000009,5800.0000000000009,5800.0000000000009,5800.0000000000009,5800.0000000000009,5800.0000000000009,5800.0000000000009,{"$f":"$EQ446*1000","v":5800.0000000000009},5800.0000000000009,5800.0000000000009,5800.0000000000009,5800.0000000000009,5800.0000000000009,5800.0000000000009,5800.0000000000009,5800.0000000000009,5800.0000000000009,5800.0000000000009,5800.0000000000009,5800.0000000000009,5800.0000000000009,5800.0000000000009,5800.0000000000009,5800.0000000000009,5800.0000000000009,5800.0000000000009,5800.0000000000009,5800.0000000000009,5800.0000000000009,5800.0000000000009,5800.0000000000009,5800.0000000000009,5800.0000000000009,5800.0000000000009,5800.0000000000009,5800.0000000000009]
[null,null,null,null,null,null,null,null,null,null,null,null,null,null,null,null,null,null,null,null,null,null,null,null,null,null,null,null,null,null,null,null,null,null,null,null,null,null,null,null,null,null,null,null,null,null,null,null,null,null,null,null,null,null,null,null,null,null,null,null,null,null,null,null,null,null,null,null,null,null,null,null,null,null,null,null,null,null,null,null,null,null,null,null,null,null,null,null,null,null,null,null,null,null,null,null,null,null,null,null,null,null,null,null,null,null,null,null,null,null,null,null,null,null,null,null,null,null,null,null,null,null,null,null,null,null,null,null,null,null,null,null,null,null,null,null,null,null,null,null,null,null,null,null,null,71,5.9,{"$f":"$EQ447*1000","v":5900},5900,5900,5900,5900,5900,5900,5900,5900,5900,5900,5900,5900,5900,5900,5900,5900,5900,5900,5900,5900,5900,5900,5900,5900,5900,5900,5900,5900,5900,5900,5900,5900,5900,5900,5900,5900,5900,5900,5900,5900,5900,5900,5900,null,71,5.9,{"$f":"$EQ447*1000","v":5900},5900,5900,5900,5900,5900,5900,5900,5900,5900,5900,5900,5900,5900,5900,5900,5900,5900,5900,5900,5900,5900,5900,5900,5900,5900,5900,5900,5900,5900,5900,5900,5900,5900,5900,5900,5900,5900,5900,5900,5900,5900,5900,5900]
[null,null,null,null,null,null,null,null,null,null,null,null,null,null,null,null,null,null,null,null,null,null,null,null,null,null,null,null,null,null,null,null,null,null,null,null,null,null,null,null,null,null,null,null,null,null,null,null,null,null,null,null,null,null,null,null,null,null,null,null,null,null,null,null,null,null,null,null,null,null,null,null,null,null,null,null,null,null,null,null,null,null,null,null,null,null,null,null,null,null,null,null,null,null,null,null,null,null,null,null,null,null,null,null,null,null,null,null,null,null,null,null,null,null,null,null,null,null,null,null,null,null,null,null,null,null,null,null,null,null,null,null,null,null,null,null,null,null,null,null,null,null,null,null,null,72,6,6000,6000,6000,6000,6000,6000,6000,6000,6000,6000,6000,6000,6000,6000,6000,6000,6000,6000,6000,6000,6000,6000,6000,6000,6000,6000,6000,6000,6000,6000,6000,6000,6000,6000,6000,6000,6000,6000,6000,6000,6000,6000,6000,6000,null,72,6,6000,6000,6000,6000,6000,6000,6000,6000,6000,6000,6000,6000,6000,6000,6000,6000,6000,6000,6000,6000,6000,6000,6000,6000,6000,6000,6000,6000,6000,6000,6000,6000,6000,6000,6000,6000,6000,6000,6000,6000,6000,6000,6000,6000]

{"sheet":"List2","index":1,"n_rows":39,"n_cols":38,"rows_kept":39,"cut":false,"hidden":true,"merged":[]}
[null,0,0.1,0.2,0.3,0.4,0.5,0.6,0.7,0.8,0.9,1,null,null,0,0.1,0.2,0.3,0.4,0.5,0.6,0.7,0.8,0.9,1,null,null,0,0.1,0.2,0.3,0.4,0.5,0.6,0.7,0.8,0.9,1]
[0,41.999999999999993,42.040000000079999,42.160000000159997,42.360000000239999,42.640000000320001,43.0000000004,43.552000000675996,44.296000000784005,45.064000000724,45.688000000496004,46.000000000100002,null,0,{"$f":"$D$27*O15+$E$27*O29+$F$27","v":53.462400004098363},{"$f":"$D$27*P15+$E$27*P29+$F$27","v":53.834560004552387},54.206720005006417,54.578880005460441,54.951040005914464,55.323200006368495,55.695360006822519,56.067520007276542,56.439680007730573,56.811840008184596,57.18400000863862,null,0,{"$f":"O2-B2","v":11.46240000409837},{"$f":"P2-C2","v":11.794560004472388},12.046720004846421,12.218880005220441,12.311040005594464,12.323200005968495,12.143360006146523,11.771520006492537,11.375680007006572,11.123840007688592,11.184000008538618]
[0.1,42.639999999735991,42.431999999847996,42.335999999960002,42.352000000071996,42.480000000183992,42.720000000295997,43.197440000627523,43.912320000770876,44.676480000726073,45.301760000493118,45.600000000071994,null,0.1,{"$f":"$D$27*O16+$E$27*O30+$F$27","v":50.161600002520238},50.533760002974262,50.905920003428292,51.278080003882316,51.650240004336339,52.02240000479037,52.394560005244394,52.766720005698417,53.138880006152448,53.511040006606471,53.883200007060495,null,0.1,{"$f":"O3-B3","v":7.5216000027842469},{"$f":"P3-C3","v":8.101760003126266},{"$f":"Q3-D3","v":8.5699200034682903},{"$f":"R3-E3","v":8.9260800038103199},{"$f":"S3-F3","v":9.1702400041523475},{"$f":"T3-G3","v":9.3024000044943733},{"$f":"U3-H3","v":9.1971200046168704},{"$f":"V3-I3","v":8.8544000049275411},{"$f":"W3-J3","v":8.4624000054263746},{"$f":"X3-K3","v":8.2092800061133531},{"$f":"Y3-L3","v":8.2832000069885012}]
[0.2,43.159999999523997,42.751999999660001,42.479999999796,42.343999999931995,42.344000000068,42.480000000204001,42.885760000574088,43.561280000743523,44.30592000071232,44.919040000480493,45.200000000048007,null,0.2,{"$f":"$D$27*O17+$E$27*O31+$F$27","v":46.860800000942113},47.232960001396144,47.605120001850167,47.977280002304191,48.349440002758215,48.721600003212245,49.093760003666269,49.465920004120299,49.838080004574323,50.210240005028346,50.58240000548237,null,0.2,3.7008000014181164,4.4809600017361433,5.1251200020541674,5.6332800023721958,6.0054400026902144,6.2416000030082444,6.2080000030921809,5.9046400033767767,5.5321600038620034,5.2912000045478536,5.3824000054343628]
[0.3,43.559999999363995,42.999999999516,42.591999999667998,42.335999999819997,42.231999999972004,42.280000000124005,42.616960000515675,43.242880000701916,43.952320000682718,44.539840000458071,44.800000000028,null,0.3,{"$f":"$D$27*O18+$E$27*O32+$F$27","v":43.559999999363995},43.932159999818019,44.304320000272043,44.676480000726073,45.048640001180097,45.42080000163412,45.792960002088151,46.165120002542174,46.537280002996198,46.909440003450229,47.281600003904252,null,0.3,0,0.9321600003020194,1.7123200006040449,2.3404800009060764,2.8166400012080928,3.1408000015101152,3.1760000015724756,2.9222400018402581,2.5849600023134798,2.3696000029921578,2.4816000038762525]
[0.4,43.839999999256001,43.175999999416007,42.671999999576009,42.327999999736008,42.143999999896003,42.120000000056002,42.391040000452328,42.957120000646086,43.615680000637276,44.164160000425923,44.400000000012,null,0.4,{"$f":"$D$27*O19+$E$27*O33+$F$27","v":40.259199997785871},40.631359998239894,41.003519998693918,41.375679999147948,41.747839999601972,42.120000000055995,42.492160000510026,42.864320000964049,43.236480001418073,43.608640001872104,43.980800002326127,null,0.4,-3.5808000014701307,-2.5446400011761128,-1.6684800008820915,-0.95232000058805966,-0.39616000029403153,0,0.10112000005769772,-9.2799999682036116E-2,-0.37919999921920322,-0.55551999855381951,-0.41919999768587246]
[0.5,43.9999999992,43.279999999360001,42.719999999519999,42.31999999968,42.079999999839998,42,42.208000000383997,42.704000000576002,43.296000000576001,43.792000000384,44,null,0.5,{"$f":"$D$27*O20+$E$27*O34+$F$27","v":36.958399996207746},37.330559996661769,37.702719997115793,38.074879997569823,38.447039998023847,38.81919999847787,39.191359998931901,39.563519999385925,39.935679999839948,40.307840000293979,40.680000000748002,null,0.5,-7.0416000029922543,-5.9494400026982319,-5.0172800024042061,-4.2451200021101769,-3.6329600018161514,-3.1808000015221296,-3.016640001452096,-3.1404800011900775,-3.3603200007360527,-3.4841600000900215,-3.3199999992519977]
[0.6,43.975999999227994,43.277439999374877,42.725759999521756,42.320959999668638,42.063039999815516,41.951999999962396,42.100096000305733,42.507328000480669,43.005312000487237,43.425664000325412,43.599999999995205,null,0.6,{"$f":"$D$27*O21+$E$27*O35+$F$27","v":33.657599994629621},34.029759995083651,34.401919995537668,34.774079995991698,35.146239996445729,35.518399996899745,35.890559997353776,36.262719997807807,36.634879998261823,37.007039998715854,37.379199999169877,null,0.6,-10.318400004598374,-9.2476800042912259,-8.3238400039840883,-7.5468800036769395,-6.9168000033697865,-6.4336000030626508,-6.2095360029519568,-6.2446080026728623,-6.3704320022254137,-6.4186240016095581,-6.2208000008253279]
[0.7,47.767999999339999,47.168319999460643,46.689279999581274,46.330879999701921,46.093119999822562,45.975999999943198,46.067328000217508,46.367104000360094,46.743616000370977,47.065152000250151,47.199999999997601,null,0.7,{"$f":"$D$27*O22+$E$27*O36+$F$27","v":30.356799993051496},30.728959993505523,31.101119993959546,31.473279994413573,31.845439994867601,32.217599995321621,32.589759995775651,32.961919996229682,33.334079996683698,33.706239997137729,34.078399997591752,null,0.7,-17.411200006288503,-16.43936000595512,-15.588160005621727,-14.857600005288347,-14.247680004954962,-13.758400004621578,-13.477568004441856,-13.405184004130412,-13.409536003687279,-13.358912003112422,-13.121600002405849]
[0.8,47.471999999487991,47.004479999576958,46.625919999665925,46.336319999754878,46.135679999843838,46.023999999932798,46.061312000126819,46.247616000230778,46.492864000244701,46.707008000168571,46.800000000002399,null,0.8,{"$f":"$D$27*O23+$E$27*O37+$F$27","v":27.055999991473371},27.428159991927398,27.800319992381421,28.172479992835449,28.544639993289476,28.916799993743499,29.288959994197526,29.661119994651553,30.033279995105577,30.405439995559604,30.777599996013628,null,0.8,-20.41600000801462,-19.57632000764956,-18.825600007284503,-18.163840006919429,-17.591040006554362,-17.107200006189299,-16.772352005929292,-16.586496005579225,-16.459584005139124,-16.301568004608967,-16.022400003988771]
[0.9,43.183999999623992,42.83775999968352,42.55103999974304,42.323839999802559,42.156159999862084,42.047999999921601,42.033664000041156,42.113152000109253,42.235008000125887,42.347776000091073,42.400000000004795,null,0.9,{"$f":"$D$27*O24+$E$27*O38+$F$27","v":23.755199989895246},24.127359990349273,24.499519990803297,24.871679991257324,25.243839991711351,25.615999992165374,25.988159992619401,26.360319993073428,26.732479993527452,27.104639993981479,27.476799994435503,null,0.9,-19.428800009728747,-18.710400009334247,-18.051520008939743,-17.452160008545235,-16.912320008150733,-16.432000007756226,-16.045504007421755,-15.752832007035824,-15.502528006598435,-15.243136006109594,-14.923200005569292]
[1,42.999999999700009,42.719999999740004,42.479999999780006,42.279999999819999,42.119999999859999,41.999999999899998,41.935999999968004,41.928000000012005,41.952000000032001,41.984000000028004,42,null,1,{"$f":"$D$27*O25+$E$27*O39+$F$27","v":20.454399988317121},20.826559988771145,21.198719989225175,21.570879989679199,21.943039990133226,22.315199990587249,22.687359991041276,23.059519991495304,23.431679991949327,23.803839992403354,24.175999992857378,null,1,-22.545600011382888,-21.89344001096886,-21.281280010554831,-20.709120010140801,-20.176960009726773,-19.684800009312749,-19.248640008926728,-18.868480008516702,-18.520320008082674,-18.18016000762465,-17.824000007142622]
[]
[null,null,null,null,null,null,null,null,null,null,null,null,null,null,0,0.1,0.2,0.3,0.4,0.5,0.6,0.7,0.8,0.9,1]
[null,null,null,"x","y","z",null,null,null,null,null,null,null,0,{"$f":"O14*1000","v":0},{"$f":"P14*1000","v":100},200,300,400,500,600,700,800,900,1000]
[null,null,"Bod A",300.00000000000006,300.00000000000006,44.676480000726073,null,null,null,null,null,null,null,0.1,{"$f":"O15","v":0},{"$f":"P15","v":100},200,300,400,500,600,700,800,900,1000]
[null,null,"Bod B",0,300.00000000000006,43.559999999363995,null,null,null,null,null,null,null,0.2,{"$f":"O16","v":0},{"$f":"P16","v":100},{"$f":"Q16","v":200},{"$f":"R16","v":300},{"$f":"S16","v":400},{"$f":"T16","v":500},{"$f":"U16","v":600},{"$f":"V16","v":700},{"$f":"W16","v":800},{"$f":"X16","v":900},{"$f":"Y16","v":1000}]
[null,null,"Bod C",500,400,42.120000000056002,null,null,null,null,null,null,null,0.3,0,100,200,300,400,500,600,700,800,900,1000]
[null,null,null,null,null,null,null,null,null,null,null,null,null,0.4,0,100,200,300,400,500,600,700,800,900,1000]
[null,null,"AB",{"$f":"(D17-D16)","v":-300.00000000000006},{"$f":"(E17-E16)","v":0},{"$f":"F17-F16","v":-1.1164800013620777},null,null,null,null,null,null,null,0.5,0,100,200,300,400,500,600,700,800,900,1000]
[null,null,"AC",{"$f":"(D18-D16)","v":199.99999999999994},{"$f":"E18-E16","v":99.999999999999943},{"$f":"F18-F16","v":-2.5564800006700708},null,null,null,null,null,null,null,0.6,0,100,200,300,400,500,600,700,800,900,1000]
[null,null,null,null,null,null,null,null,null,null,null,null,null,0.7,0,100,200,300,400,500,600,700,800,900,1000]
[null,null,"AB x AC",{"$f":"E20*F21-F20*E21","v":111.64800013620771},{"$f":"F20*D21-D20*F21","v":-990.24000047343679},{"$f":"IF(D20*E21-E20*D21=0,123456789,D20*E21-E20*D21)","v":-29999.999999999989},null,null,null,null,null,null,null,0.8,0,100,200,300,400,500,600,700,800,900,1000]
[null,null,null,null,null,null,null,null,null,null,null,null,null,0.9,0,100,200,300,400,500,600,700,800,900,1000]
[null,null,"d",{"$f":"-1*(D23*D16+E23*E16+F23*F16)","v":1603872.0001229504},null,null,null,null,null,null,null,null,null,1,0,100,200,300,400,500,600,700,800,900,1000]
[]
[null,null,"z",{"$f":"(-D23)/F23","v":3.7216000045402586E-3},{"$f":"-E23/F23","v":-3.300800001578124E-2},{"$f":"-D25/F23","v":53.462400004098363}]
[null,null,null,null,null,null,null,null,null,null,null,null,null,null,0,0.1,0.2,0.3,0.4,0.5,0.6,0.7,0.8,0.9,1]
[null,null,null,null,null,null,null,null,null,null,null,null,null,0,{"$f":"N29*1000","v":0},{"$f":"O29","v":0},{"$f":"P29","v":0},0,0,0,0,0,0,0,0]
[null,null,null,null,null,null,null,null,null,null,null,null,null,0.1,{"$f":"N30*1000","v":100},{"$f":"O30","v":100},100,100,100,100,100,100,100,100,100]
[null,null,null,null,null,null,null,null,null,null,null,null,null,0.2,200,200,200,200,200,200,200,200,200,200,200]
[null,null,null,null,null,null,null,null,null,null,null,null,null,0.3,300,300,300,300,300,300,300,300,300,300,300]
[null,null,null,null,null,null,null,null,null,null,null,null,null,0.4,400,400,400,400,400,400,400,400,400,400,400]
[null,null,null,null,null,null,null,null,null,null,null,null,null,0.5,500,500,500,500,500,500,500,500,500,500,500]
[null,null,null,null,null,null,null,null,null,null,null,null,null,0.6,600,600,600,600,600,600,600,600,600,600,600]
[null,null,null,null,null,null,null,null,null,null,null,null,null,0.7,700,700,700,700,700,700,700,700,700,700,700]
[null,null,null,null,null,null,null,null,null,null,null,null,null,0.8,800,800,800,800,800,800,800,800,800,800,800]
[null,null,null,null,null,null,null,null,null,null,null,null,null,0.9,900,900,900,900,900,900,900,900,900,900,900]
[null,null,null,null,null,null,null,null,null,null,null,null,null,1,1000,1000,1000,1000,1000,1000,1000,1000,1000,1000,1000]

{"sheet":"List1","index":2,"n_rows":14,"n_cols":42,"rows_kept":14,"cut":false,"hidden":true,"merged":[]}
[]
[null,0,0.5,1,1.5,2,2.5,3,3.5,4]
[null,1,2,3,4,5,6,7,8,9]
[null,42,43,46,44,43,42,41,42,40]
[]
[null,{"$f":"LOGEST($B$4:$J$4,$B$2:$J$2)","v":0.9820821082795631},{"$f":"LOGEST($B$4:$J$4,$B$2:$J$2)","v":0.9820821082795631},0.9820821082795631,0.9820821082795631,0.9820821082795631,0.9820821082795631,0.9820821082795631,0.9820821082795631,0.9820821082795631]
[]
[null,0,0.1,0.2,0.3,0.4,0.5,0.6,0.7,0.8,0.9,1,1.1000000000000001,1.2,1.3,1.4,1.5,1.6,1.7,1.8,1.9,2,2.1,2.2000000000000002,2.2999999999999998,2.4,2.5,2.6,2.7,2.8,2.9,3,3.1,3.2,3.3,3.4,3.5,3.6,3.7,3.8,3.9,4]
[]
[]
["LOGLINTREND",{"$f":"GROWTH($B$4:$J$4,$B$2:$J$2,B8)","v":44.090201529001376},{"$f":"GROWTH($B$4:$J$4,$B$2:$J$2,C8)","v":44.010556875745735},43.931056092796247,43.851698920265221,43.772485098734421,43.693414369254242,43.614486473342829,43.535701152985254,43.457058150632683,43.378557209201496,43.30019807207249,43.221980483089993,43.14390418656108,43.065968927254701,42.988174450400855,42.91052050168976,42.833006827271007,42.75563317375277,42.678399288200914,42.601304918138247,42.524349811543622,42.447533716851147,42.370856382949377,42.294317559180456,42.217916995339323,42.141654441672891,42.065529648879227,41.98954236810674,41.913692350953362,41.837979349465726,41.762403116138401,41.686963403913019,41.611659966177506,41.536492556765289,41.461460929954441,41.386564840466924,41.311804043467781,41.237178294564302,41.162687349805275,41.088330965680129,41.014108899118192]
["FORECAST"]
[]
[0,{"$f":"LOGEST(B4:J4,B2:J2,TRUE,TRUE)","v":0.9820821082795631}]

{"sheet":"3D Interpolace","index":3,"n_rows":2518,"n_cols":53,"rows_kept":2518,"cut":false,"hidden":false,"merged":[]}
[]
[null,0,0.5,1,1.5,2,2.5,3,3.5,4,null,null,0,0.1,0.2,0.3,0.4,0.5,0.6,0.7,0.8,0.9,1,1.1000000000000001,1.2,1.3,1.4,1.5,1.6,1.7,1.8,1.9,2,2.1,2.2000000000000002,2.2999999999999998,2.4,2.5,2.6,2.7,2.8,2.9,3,3.1,3.2,3.3,3.4,3.5,3.6,3.7,3.8,3.9,4]
[0,{"$f":"'M1'!C3","v":43},{"$f":"'M1'!D3","v":43},{"$f":"'M1'!E3","v":41},{"$f":"'M1'!F3","v":41},{"$f":"'M1'!G3","v":42},{"$f":"'M1'!H3","v":41},{"$f":"'M1'!I3","v":37},{"$f":"'M1'!J3","v":39},{"$f":"'M1'!K3","v":34},null,null,"1","1A","1B","1C","1D","2","2A","2B","2C","2D","3","3A","3B","3C","3D","4","4A","4B","4C","4D","5","5A","5B","5C","5D","6","6A","6B","6C","6D","7","7A","7B","7C","7D","8","8A","8B","8C","8D","9"]
[0.5,{"$f":"'M1'!C4","v":40},{"$f":"'M1'!D4","v":39},{"$f":"'M1'!E4","v":40},{"$f":"'M1'!F4","v":38},{"$f":"'M1'!G4","v":41},{"$f":"'M1'!H4","v":38},{"$f":"'M1'!I4","v":35},{"$f":"'M1'!J4","v":34},{"$f":"'M1'!K4","v":33},0,"1",{"$f":"G18","v":43.000000000200004},{"$f":"G79","v":43.160000000119993},{"$f":"G140","v":43.240000000039998},{"$f":"G201","v":43.239999999959998},{"$f":"G262","v":43.15999999988},{"$f":"G323","v":42.999999999799996},{"$f":"G384","v":42.695999999607999},{"$f":"G445","v":42.247999999512004},{"$f":"G506","v":41.751999999511995},{"$f":"G567","v":41.303999999607996},{"$f":"G628","v":40.999999999800004},{"$f":"G689","v":40.855999999908001},{"$f":"G750","v":40.807999999992006},{"$f":"G811","v":40.832000000052005},{"$f":"G872","v":40.904000000088004},{"$f":"G933","v":41.000000000100002},{"$f":"G994","v":41.168000000223998},{"$f":"G1055","v":41.42400000027601},{"$f":"G1116","v":41.696000000255999},{"$f":"G1177","v":41.912000000163999},{"$f":"G1238","v":42},{"$f":"G1299","v":41.975999999948002},{"$f":"G1360","v":41.887999999871994},{"$f":"G1421","v":41.71199999977199},{"$f":"G1482","v":41.423999999648004},{"$f":"G1543","v":40.999999999499991},{"$f":"G1604","v":40.295999999127993},{"$f":"G1665","v":39.32799999897199},{"$f":"G1726","v":38.311999999031983},{"$f":"G1787","v":37.463999999307987},{"$f":"G1848","v":36.999999999799996},{"$f":"G1909","v":37.128000000404015},{"$f":"G1970","v":37.704000000696006},{"$f":"G2031","v":38.416000000676014},{"$f":"G2092","v":38.952000000344007},{"$f":"G2153","v":38.999999999699995},{"$f":"G2214","v":38.559999999419986},{"$f":"G2275","v":37.839999999139977},{"$f":"G2336","v":36.839999998859966},{"$f":"G2397","v":35.559999998579961},{"$f":"ROUND(G2458,2)","v":34}]
[1,{"$f":"'M1'!C5","v":39},{"$f":"'M1'!D5","v":39},{"$f":"'M1'!E5","v":38},{"$f":"'M1'!F5","v":37},{"$f":"'M1'!G5","v":37},{"$f":"'M1'!H5","v":37},{"$f":"'M1'!I5","v":35},{"$f":"'M1'!J5","v":31},{"$f":"'M1'!K5","v":31},0.1,"1A",{"$f":"G19","v":42.239999999991994},{"$f":"G80","v":42.219199999966399},{"$f":"G141","v":42.1727999999408},{"$f":"G202","v":42.100799999915203},{"$f":"G263","v":42.003199999889603},{"$f":"G324","v":41.879999999863998},{"$f":"G385","v":41.715199999810402},{"$f":"G446","v":41.508799999780805},{"$f":"G507","v":41.284799999775196},{"$f":"G568","v":41.067199999793587},{"$f":"G629","v":40.879999999835995},{"$f":"G690","v":40.689919999792153},{"$f":"G751","v":40.480959999798237},{"$f":"G812","v":40.303039999854235},{"$f":"G873","v":40.20607999996016},{"$f":"G934","v":40.240000000115998},{"$f":"G995","v":40.501440000382715},{"$f":"G1056","v":40.957120000504482},{"$f":"G1117","v":41.462080000481279},{"$f":"G1178","v":41.871360000313118},{"$f":"G1239","v":42.04},{"$f":"G1300","v":41.942399999811194},{"$f":"G1361","v":41.675199999660798},{"$f":"G1422","v":41.276799999548786},{"$f":"G1483","v":40.785599999475195},{"$f":"G1544","v":40.239999999439988},{"$f":"G1605","v":39.524799999158382},{"$f":"G1666","v":38.614399999049589},{"$f":"G1727","v":37.681599999113587},{"$f":"G1788","v":36.899199999350394},{"$f":"G1849","v":36.439999999760005},{"$f":"G1910","v":36.47296000026369},{"$f":"G1971","v":36.882880000513936},{"$f":"G2032","v":37.416320000510737},{"$f":"G2093","v":37.819840000254089},{"$f":"G2154","v":37.839999999743995},{"$f":"G2215","v":37.47679999952959},{"$f":"G2276","v":36.899199999315186},{"$f":"G2337","v":36.107199999100779},{"$f":"G2398","v":35.100799998886366},{"$f":"ROUND(G2459,2)","v":33.880000000000003}]
[1.5,{"$f":"'M1'!C6","v":37},{"$f":"'M1'!D6","v":38},{"$f":"'M1'!E6","v":37},{"$f":"'M1'!F6","v":35},{"$f":"'M1'!G6","v":34},{"$f":"'M1'!H6","v":35},{"$f":"'M1'!I6","v":34},{"$f":"'M1'!J6","v":33},{"$f":"'M1'!K6","v":33},0.2,"1B",41.559999999828001,41.396799999845598,41.251199999863189,41.123199999880796,41.012799999898391,40.919999999916001,40.867199999972797,40.854399999996005,40.847999999985596,40.814399999941593,40.719999999864001,40.492479999699029,40.154239999642563,39.813759999694561,39.579519999855044,39.560000000124006,39.888960000500482,40.494080000676334,41.174720000651526,41.730240000426086,41.96,41.806399999707203,41.403199999500799,40.836799999380801,40.1935999993472,39.559999999399992,38.846399999195192,37.995199999124793,37.140799999188786,36.417599999387186,35.959999999719997,35.899840000126723,36.147520000335689,36.505280000346893,36.775360000160319,36.759999999775999,36.459199999622385,36.004799999468787,35.396799999315178,34.635199999161578,33.72]
[2,{"$f":"'M1'!C7","v":36},{"$f":"'M1'!D7","v":37},{"$f":"'M1'!E7","v":36},{"$f":"'M1'!F7","v":38},{"$f":"'M1'!G7","v":40},{"$f":"'M1'!H7","v":41},{"$f":"'M1'!I7","v":42},{"$f":"'M1'!J7","v":39},{"$f":"'M1'!K7","v":38},0.3,"1C",40.959999999707996,40.692799999757597,40.475199999807202,40.307199999856792,40.188799999906394,40.119999999955994,40.1520000000952,40.284800000157588,40.441600000143197,40.545600000052005,40.519999999883993,40.263679999628636,39.827839999524954,39.364159999572955,39.024319999772636,38.960000000123998,39.330560000577279,40.034880000791532,40.833920000766724,41.488640000502883,41.76,41.567999999635994,41.071999999391991,40.391999999267995,39.647999999263995,38.959999999379988,38.260799999238387,37.470399999197589,36.689599999257581,36.019199999418383,35.559999999679988,35.408639999993113,35.497920000161287,35.682880000184483,35.818560000062725,35.759999999796001,35.5071999996984,35.156799999600793,34.708799999503185,34.163199999405585,33.520000000000003]
[2.5,{"$f":"'M1'!C8","v":37},{"$f":"'M1'!D8","v":35},{"$f":"'M1'!E8","v":35},{"$f":"'M1'!F8","v":37},{"$f":"'M1'!G8","v":37},{"$f":"'M1'!H8","v":45},{"$f":"'M1'!I8","v":41},{"$f":"'M1'!J8","v":40},{"$f":"'M1'!K8","v":39},0.4,"1D",40.439999999632001,40.107199999702402,39.844799999772803,39.652799999843204,39.531199999913603,39.479999999984003,39.569600000177601,39.800000000265605,40.065600000247997,40.260800000124803,40.279999999896006,40.003519999580966,39.50175999944544,38.954239999489438,38.540479999712957,38.440000000116001,38.826240000613126,39.579520000850081,40.439680000826883,41.146560000543523,41.44,41.227199999597602,40.681599999334395,39.942399999210387,39.148799999225588,38.439999999379992,37.767999999287994,37.039999999267991,36.327999999319985,35.70399999944398,35.239999999639991,34.999359999862875,34.934079999990715,34.949120000023527,34.949439999961285,34.839999999804,34.620799999757594,34.355199999711196,34.0431999996648,33.684799999618392,33.28]
[3,{"$f":"'M1'!C9","v":36},{"$f":"'M1'!D9","v":37},{"$f":"'M1'!E9","v":36},{"$f":"'M1'!F9","v":36},{"$f":"'M1'!G9","v":37},{"$f":"'M1'!H9","v":44},{"$f":"'M1'!I9","v":43},{"$f":"'M1'!J9","v":42},{"$f":"'M1'!K9","v":41},0.5,"2",39.999999999600007,39.639999999680001,39.359999999759999,39.159999999839997,39.039999999919999,39.000000000000007,39.120000000220003,39.400000000319999,39.720000000300004,39.960000000160001,39.999999999899998,39.711999999556006,39.175999999403999,38.583999999443996,38.127999999676,38.000000000100002,38.376000000608009,39.128000000852005,39.992000000832007,40.704000000548007,41,40.783999999592005,40.231999999327989,39.487999999207993,38.695999999231987,37.999999999399989,37.367999999343994,36.703999999335991,36.055999999375992,35.471999999463996,34.999999999599993,34.671999999735988,34.455999999823995,34.303999999863997,34.167999999856001,33.999999999799996,33.799999999799994,33.599999999799998,33.399999999799995,33.199999999799992,33]
[3.5,{"$f":"'M1'!C10","v":36},{"$f":"'M1'!D10","v":36},{"$f":"'M1'!E10","v":38},{"$f":"'M1'!F10","v":36},{"$f":"'M1'!G10","v":36},{"$f":"'M1'!H10","v":41},{"$f":"'M1'!I10","v":42},{"$f":"'M1'!J10","v":43},{"$f":"'M1'!K10","v":42},0.6,"2A",39.687999999632801,39.357119999705439,39.098879999778077,38.913279999850715,38.80031999992336,38.759999999995998,38.866944000199226,39.121152000290522,39.410688000269886,39.623616000137311,39.647999999892797,39.363903999568983,38.845951999425083,38.274047999461089,37.828095999676997,37.688000000072805,38.014144000539396,38.686592000765408,39.464768000750851,40.108096000495721,40.375999999999998,40.184255999637564,39.693247999401464,39.029311999291707,38.31878399930828,37.687999999451193,37.117503999412669,36.523071999403328,35.933887999423163,35.37913599947219,34.887999999550402,34.460479999594561,34.077119999638718,33.73791999968288,33.442879999727033,33.191999999771198,32.985279999815354,32.822719999859522,32.704319999903674,32.630079999947839,32.6]
[4,{"$f":"'M1'!C11","v":36},{"$f":"'M1'!D11","v":35},{"$f":"'M1'!E11","v":36},{"$f":"'M1'!F11","v":37},{"$f":"'M1'!G11","v":36},{"$f":"'M1'!H11","v":41},{"$f":"'M1'!I11","v":41},{"$f":"'M1'!J11","v":41},{"$f":"'M1'!K11","v":40},0.7,"2B",39.503999999730397,39.258559999778718,39.061439999827037,38.91263999987536,38.812159999923679,38.759999999971996,38.810432000115291,38.963456000177189,39.137664000157663,39.251648000056747,39.223999999874401,38.959231999619938,38.511615999508706,38.024383999540703,37.640767999715933,37.504000000034395,37.740672000407294,38.255296000590306,38.857984000583428,39.358848000386658,39.567999999999998,39.4279679997343,39.065343999554806,38.566335999461529,38.017151999454455,37.50399999953359,37.016511999494,36.497215999469979,35.961663999461493,35.425407999468575,34.903999999491191,34.364799999438553,33.797439999434872,33.250879999480148,32.77407999957439,32.415999999717585,32.176639999803669,32.023359999889749,31.956159999975831,31.975040000061917,32.08]
[4.5,{"$f":"'M1'!C12","v":35},{"$f":"'M1'!D12","v":35},{"$f":"'M1'!E12","v":36},{"$f":"'M1'!F12","v":34},{"$f":"'M1'!G12","v":36},{"$f":"'M1'!H12","v":39},{"$f":"'M1'!I12","v":41},{"$f":"'M1'!J12","v":39},{"$f":"'M1'!K12","v":38},0.8,"2C",39.375999999861591,39.24543999987727,39.130559999892952,39.031359999908631,38.947839999924312,38.879999999939997,38.854848000002946,38.87238400002537,38.892096000007292,38.873471999948698,38.775999999849603,38.535807999685979,38.179903999618176,37.804095999646172,37.504191999769979,37.375999999989595,37.504128000245501,37.824704000374496,38.210816000376568,38.535552000251741,38.671999999999997,38.596351999854647,38.393215999745017,38.098303999671096,37.747327999632887,37.375999999630395,36.979967999578619,36.535423999533364,36.048895999494647,35.526911999462456,34.975999999436794,34.334079999294865,33.596799999246066,32.857279999290391,32.208639999427831,31.743999999658396,31.463359999780316,31.304639999902243,31.267840000024162,31.352960000146084,31.56]
[5,{"$f":"'M1'!C13","v":37},{"$f":"'M1'!D13","v":35},{"$f":"'M1'!E13","v":35},{"$f":"'M1'!F13","v":35},{"$f":"'M1'!G13","v":36},{"$f":"'M1'!H13","v":39},{"$f":"'M1'!I13","v":36},{"$f":"'M1'!J13","v":36},{"$f":"'M1'!K13","v":35},0.9,"2D",39.231999999995203,39.218879999978562,39.189119999961918,39.142719999945278,39.079679999928643,38.999999999911999,38.904575999896927,38.793407999880515,38.665151999862751,38.518463999843654,38.351999999823207,38.13145599974429,37.857727999716829,37.582271999740833,37.356543999816282,37.231999999943199,37.253056000087803,37.385408000165796,37.562432000177147,37.717504000121885,37.783999999999999,37.770623999971065,37.721791999929088,37.62444799987405,37.465535999805951,37.231999999724792,36.922815999657082,36.546687999590908,36.105151999526257,35.599743999463158,35.031999999401584,34.317439999190384,33.455039999105907,32.571519999148144,31.793599999317113,31.247999999612794,30.934719999760638,30.769279999908484,30.751680000056325,30.881920000204168,31.16]
[5.5,{"$f":"'M1'!C14","v":35},{"$f":"'M1'!D14","v":36},{"$f":"'M1'!E14","v":34},{"$f":"'M1'!F14","v":34},{"$f":"'M1'!G14","v":35},{"$f":"'M1'!H14","v":36},{"$f":"'M1'!I14","v":36},{"$f":"'M1'!J14","v":34},{"$f":"'M1'!K14","v":34},1,"3",39.000000000100002,39.080000000060004,39.120000000019999,39.119999999980003,39.07999999994,38.999999999899998,38.863999999832004,38.671999999788,38.447999999768001,38.215999999771995,37.999999999799996,37.783999999772,37.551999999768,37.327999999788005,37.135999999832002,36.999999999899998,36.935999999968004,36.928000000012005,36.952000000032001,36.984000000027997,37,37.032000000056001,37.096000000064002,37.144000000024,37.127999999936002,36.999999999799996,36.759999999719994,36.439999999639994,36.039999999559996,35.559999999479992,34.999999999399989,34.263999999151984,33.351999999047983,32.407999999087977,31.575999999271986,30.999999999599993,30.679999999759993,30.51999999992,30.520000000080003,30.680000000240007,31]
[6,{"$f":"'M1'!C15","v":34},{"$f":"'M1'!D15","v":34},{"$f":"'M1'!E15","v":35},{"$f":"'M1'!F15","v":35},{"$f":"'M1'!G15","v":34},{"$f":"'M1'!H15","v":34},{"$f":"'M1'!I15","v":33},{"$f":"'M1'!J15","v":32},{"$f":"'M1'!K15","v":30},1.1000000000000001,"3A",38.648000000177596,38.798720000123836,38.89568000007008,38.938880000016312,38.928319999962561,38.863999999908799,38.724799999818075,38.51071999975904,38.253439999731683,37.984639999736004,37.735999999771998,37.494975999749087,37.240447999744987,36.991231999759712,36.766143999793243,36.583999999845602,36.445183999876669,36.337151999907171,36.259327999937092,36.21113599996643,36.191999999995204,36.248256000105727,36.380288000146749,36.518592000118275,36.59366400002029,36.535999999852798,36.341247999758778,36.055743999671293,35.686015999590325,35.23859199951589,34.719999999447992,34.039487999213648,33.192703999115444,32.31577599915336,31.544831999327407,31.015999999637593,30.729279999788954,30.593919999940319,30.609920000091684,30.777280000243049,31.1]
[null,null,null,null,null,null,null,null,null,null,1.2,"3B",38.2240000002488,38.440960000185122,38.594240000121438,38.683840000057756,38.709759999994077,38.671999999930392,38.550719999831998,38.34591999976336,38.087359999724484,37.804799999715364,37.527999999736004,37.239167999690792,36.918463999672262,36.59257599968042,36.288191999715266,36.031999999776801,35.814911999791299,35.61913599981942,35.458303999861172,35.346047999916571,35.29599999998559,35.365248000138621,35.544704000206018,35.748736000187776,35.891712000083906,35.887999999894404,35.723263999779711,35.454591999686521,35.103487999614842,34.69145599956466,34.239999999535982,33.677823999357457,32.990591999285868,32.285247999321228,31.668735999463539,31.247999999712793,31.023039999837273,30.922559999961756,30.94656000008624,31.095040000210723,31.37]
[null,"X","Y","Z","X","Y","Z",null,null,null,1.3,"3C",37.776000000311193,38.051840000240475,38.256960000169755,38.391360000099034,38.455040000028312,38.447999999957588,38.354239999858876,38.17375999978416,37.930559999733433,37.648639999706717,37.351999999703992,37.014271999627134,36.619455999589817,36.207103999592064,35.816767999633853,35.4879999997152,35.20684799972598,34.946943999757693,34.729215999810336,34.574591999883907,34.503999999978404,34.581312000160267,34.792576000246306,35.041984000236553,35.233728000130981,35.271999999929598,35.131455999795648,34.875967999699704,34.543551999641778,34.172223999621878,33.799999999639994,33.380415999532438,32.888127999494579,32.392831999526422,31.964223999627961,31.671999999799201,31.516159999889119,31.450239999979047,31.474240000068963,31.588160000158886,31.79]
[null,0,0,{"$f":"B3","v":43},1E-10,0,{"$f":"_xll.Interp3D($B$18:$B$134,$C$18:$C$134,$D$18:$D$134,E18,F18)","v":43.000000000200004},null,{"$f":"B18+1","v":1},null,1.4,"3D",37.352000000362402,37.67648000028656,37.925120000210725,38.097920000134877,38.194880000059044,38.215999999983197,38.147839999883836,37.990399999804637,37.763839999745599,37.488319999706718,37.183999999687998,36.817983999588186,36.376831999537728,35.909887999536608,35.466495999584829,35.095999999682391,34.782655999694839,34.493567999730907,34.252351999790591,34.082623999873888,34.007999999980797,34.09478400017619,34.327232000272133,34.605888000268607,34.831296000165629,34.90399999996319,34.791231999819445,34.55929599972486,34.257343999679421,33.934527999683141,33.639999999736006,33.348671999687618,33.027775999676862,32.714943999703742,32.447807999768251,32.2639999998704,32.163519999928639,32.121279999986882,32.137280000045124,32.21152000010337,32.340000000000003]
[null,0,0.5,{"$f":"B4","v":40},{"$f":"E18","v":1E-10},0.1,{"$f":"_xll.Interp3D($B$18:$B$134,$C$18:$C$134,$D$18:$D$134,E19,F19)","v":42.239999999991994},null,null,null,1.5,"4",37.000000000399993,37.360000000319999,37.640000000240001,37.840000000160003,37.960000000080001,38,37.943999999892,37.791999999807999,37.567999999747997,37.295999999711995,36.999999999699995,36.647999999603996,36.223999999555993,35.775999999556007,35.351999999603997,34.999999999699995,34.703999999712003,34.431999999748001,34.207999999808003,34.055999999892002,34,34.104000000192002,34.352000000288001,34.648000000288008,34.896000000192004,35,34.927999999863999,34.743999999776001,34.495999999735993,34.231999999743998,33.999999999799996,33.783999999771993,33.551999999768,33.327999999787991,33.135999999831995,32.999999999899998,32.919999999939996,32.879999999980001,32.880000000020004,32.92000000006,33]
[null,0,1,39,{"$f":"E19","v":1E-10},0.2,{"$f":"_xll.Interp3D($B$18:$B$134,$C$18:$C$134,$D$18:$D$134,E20,F20)","v":41.559999999828001},null,null,null,1.6,"4A",36.704000000435201,37.096640000350085,37.404160000264966,37.626560000179843,37.763840000094724,37.816000000009602,37.756031999877223,37.583935999785353,37.340223999733986,37.065407999723135,36.799999999752799,36.52287999969824,36.207039999675359,35.884159999684165,35.585919999724638,35.3439999997968,35.148031999813853,34.976895999846462,34.846143999894622,34.771327999958338,34.768000000037603,34.88467200018362,35.110976000256869,35.374144000257353,35.60140800018506,35.720000000040002,35.715327999954305,35.635903999890495,35.50361599984857,35.340351999828535,35.167999999830386,34.961215999762359,34.705407999732344,34.438591999740339,34.198783999786357,34.023999999870398,33.91423999991008,33.84415999994976,33.813759999989436,33.823040000029117,33.869999999999997]
[null,0,1.5,37,1E-10,0.3,{"$f":"_xll.Interp3D($B$18:$B$134,$C$18:$C$134,$D$18:$D$134,E21,F21)","v":40.959999999707996},null,null,null,1.7,"4B",36.4320000004696,36.856320000379043,37.190080000288482,37.433280000197925,37.585920000107365,37.6480000000168,37.575615999849418,37.368767999747874,37.093311999712192,36.815103999742362,36.599999999838403,36.444159999850882,36.303679999869125,36.184319999893127,36.091839999922882,36.031999999958401,36.006975999991006,36.012928000020352,36.046592000046431,36.104704000069248,36.184000000088801,36.304576000147321,36.468608000175713,36.645952000173949,36.80646400014205,36.920000000080002,37.002944000081797,37.075392000059011,37.112768000011656,37.090495999939719,36.983999999843206,36.746047999692706,36.393023999613057,35.995775999604255,35.625151999666301,35.351999999799197,35.17631999984944,35.050879999899678,34.975679999949918,34.95072000000016,34.979999999999997]
[null,0,2,36,1E-10,0.4,{"$f":"_xll.Interp3D($B$18:$B$134,$C$18:$C$134,$D$18:$D$134,E22,F22)","v":40.439999999632001},null,null,null,1.8,"4C",36.2080000004864,36.64768000039296,36.993920000299511,37.246720000206075,37.406080000112638,37.472000000019193,37.382783999817789,37.138431999708921,36.831487999692605,36.554495999768825,36.399999999937599,36.384000000026397,36.444800000091199,36.558400000131996,36.700800000148796,36.848000000141596,37.015104000188835,37.218112000213409,37.434368000215329,37.641216000194603,37.816000000151206,37.950144000119238,38.058752000100135,38.154688000093898,38.250816000100514,38.360000000119996,38.530496000208935,38.753728000225479,38.957312000169637,39.068864000041401,39.015999999840794,38.726271999597849,38.247935999463571,37.689663999437968,37.160127999521045,36.767999999712799,36.513279999777758,36.323519999842716,36.198719999907681,36.138879999972644,36.14]
[null,0,2.5,37,1E-10,0.5,{"$f":"_xll.Interp3D($B$18:$B$134,$C$18:$C$134,$D$18:$D$134,E23,F23)","v":39.999999999600007},null,null,null,1.9,"4D",36.056000000468799,36.479360000377923,36.811840000287042,37.053440000196161,37.204160000105283,37.264000000014406,37.157567999791588,36.884863999681855,36.558975999685217,36.292991999801671,36.20000000003121,36.314560000189282,36.561280000295525,36.888320000349921,37.243840000352485,37.576000000303196,37.906688000352709,38.27046400036938,38.634496000353217,38.965952000304227,39.232000000222399,39.407808000135418,39.515264000085693,39.591616000073223,39.674112000097992,39.800000000159997,40.037632000298174,40.362176000333825,40.671104000266951,40.861888000097537,40.831999999825598,40.489663999512672,39.903231999337393,39.210367999299791,38.548735999399852,38.055999999637592,37.73215999971471,37.485439999791829,37.315839999868956,37.223359999946076,37.21]
[null,0,3,36,1E-10,0.6,{"$f":"_xll.Interp3D($B$18:$B$134,$C$18:$C$134,$D$18:$D$134,E24,F24)","v":39.687999999632801},null,null,null,2,"5",36.000000000399993,36.360000000319999,36.640000000240001,36.840000000160003,36.960000000080001,36.999999999999993,36.879999999780004,36.599999999680001,36.279999999700003,36.039999999839999,36.000000000100002,36.208000000304004,36.584000000435999,37.056000000495999,37.552000000484,38.0000000004,38.416000000427999,38.848000000432009,39.272000000412,39.664000000367999,40.000000000300005,40.264000000232002,40.472000000188004,40.648000000168004,40.816000000171996,41.000000000200004,41.264000000312009,41.592000000327999,41.888000000248006,42.056000000072004,41.999999999799996,41.623999999471991,40.991999999287984,40.24799999924798,39.535999999351986,38.999999999599993,38.639999999679993,38.359999999759999,38.159999999839997,38.039999999919999,38]
[null,0,3.5,36,1E-10,0.7,{"$f":"_xll.Interp3D($B$18:$B$134,$C$18:$C$134,$D$18:$D$134,E25,F25)","v":39.503999999730397},null,null,null,2.1,"5A",36.104000000231999,36.309440000178881,36.461760000125764,36.56096000007264,36.607040000019524,36.5999999999664,36.468671999788732,36.213055999717824,35.93990399975366,35.755967999896249,35.768000000145591,36.032576000369403,36.478528000508348,37.02099200056243,37.575104000531645,38.056000000415999,38.453696000381889,38.824768000362752,39.1841920003586,39.546944000369415,39.928000000395208,40.358848000458636,40.829504000474827,41.292736000443782,41.701312000365505,42.008000000240003,42.234944000208344,42.41363200014348,42.510848000045399,42.4933759999141,42.327999999749593,41.936255999486519,41.340287999341143,40.65779199931346,40.006463999403479,39.503999999611196,39.150399999681603,38.867199999752003,38.654399999822402,38.511999999892808,38.44]
[null,0,4,36,1E-10,0.8,{"$f":"_xll.Interp3D($B$18:$B$134,$C$18:$C$134,$D$18:$D$134,E26,F26)","v":39.375999999861591},null,null,null,2.2000000000000002,"5B",36.351999999975995,36.321919999963839,36.279679999951675,36.225279999939517,36.158719999927357,36.079999999915202,35.936895999811647,35.729407999786432,35.535871999839557,35.434623999971009,35.50400000018081,35.80684800040919,36.290944000543298,36.862016000583139,37.425792000528709,37.888000000380003,38.196928000250786,38.415424000199138,38.621056000225053,38.891392000328537,39.304000000509603,39.96806400079123,40.831872000909101,41.731648000863174,42.503616000653487,42.984000000280005,43.124032000012264,43.032895999817661,42.78374399969622,42.449727999647926,42.103999999672794,41.701247999533024,41.192703999461202,40.646335999457364,40.130111999521496,39.7119999996536,39.3919999997064,39.124799999759198,38.910399999812,38.748799999864801,38.64]
[null,0,4.5,35,1E-10,0.9,{"$f":"_xll.Interp3D($B$18:$B$134,$C$18:$C$134,$D$18:$D$134,E27,F27)","v":39.231999999995203},null,null,null,2.2999999999999998,"5C",36.647999999704005,36.367679999735358,36.118719999766718,35.901119999798077,35.714879999829435,35.559999999860793,35.406783999840187,35.255231999864129,35.149887999932602,35.135296000045628,35.256000000203201,35.57843200042506,36.07289600054726,36.63974400056982,37.179328000492738,37.592000000316006,37.779712000083933,37.808895999998938,37.826624000061031,37.979968000270183,38.416000000626411,39.331456001155345,40.628288001389166,42.011392001327891,43.185664000971499,43.856000000320009,43.89324799978678,43.494143999447289,42.852415999301527,42.161791999349497,41.615999999591189,41.208511999595444,40.810175999609498,40.430783999633334,40.080127999666971,39.767999999710398,39.494399999742392,39.252799999774403,39.043199999806397,38.865599999838402,38.72]
[null,0,5,37,1E-10,1,{"$f":"_xll.Interp3D($B$18:$B$134,$C$18:$C$134,$D$18:$D$134,E28,F28)","v":39.000000000100002},null,null,null,2.4,"5D",36.895999999488005,36.416959999553924,36.003839999619842,35.656639999685758,35.37535999975168,35.1599999998176,35.00044799986582,34.896703999929215,34.863936000007776,34.917312000101504,35.072000000210402,35.394944000418754,35.876032000526692,36.414848000534214,36.910976000441323,37.264000000248004,37.336063999930595,37.194111999819967,37.044927999916126,37.095296000219072,37.55200000072881,38.688832001476428,40.367936001813362,42.178624001739607,43.710208001255168,44.55200000036001,44.504575999595005,43.841727999129148,42.862591998962422,41.866303999094839,41.151999999526396,40.747583999657792,40.453631999747337,40.228287999795008,40.029695999800836,39.815999999764799,39.587199999777596,39.371199999790392,39.167999999803193,38.977599999815986,38.799999999999997]
[null,0,5.5,35,1E-10,1.1000000000000001,{"$f":"_xll.Interp3D($B$18:$B$134,$C$18:$C$134,$D$18:$D$134,E29,F29)","v":38.648000000177596},null,null,null,2.5,"6",36.999999999399996,36.439999999480001,35.959999999559997,35.559999999639999,35.239999999719998,34.999999999799996,34.83999999988,34.759999999960002,34.760000000040002,34.84000000012,35.000000000200004,35.304000000391994,35.752000000488003,36.248000000488005,36.696000000392004,37.000000000200004,36.99999999984,36.759999999719994,36.519999999840003,36.5200000002,37.000000000800007,38.280000001680015,40.200000002080024,42.280000002000023,44.040000001440021,45.000000000400007,44.919999999499993,44.119999998959983,42.959999998779978,41.799999998959976,40.999999999499991,40.607999999703992,40.383999999835993,40.255999999895998,40.151999999883998,39.999999999799996,39.799999999799994,39.599999999799998,39.399999999799995,39.199999999799992,39]
[null,0,6,34,1E-10,1.2,{"$f":"_xll.Interp3D($B$18:$B$134,$C$18:$C$134,$D$18:$D$134,E30,F30)","v":38.2240000002488},null,null,null,2.6,"6A",36.911999999497596,36.441279999560962,36.033919999624324,35.689919999687682,35.409279999751043,35.191999999814399,35.033599999869921,34.934079999932159,34.900160000001122,34.938560000076791,35.056000000159202,35.309312000333215,35.694016000421982,36.124864000425504,36.516608000343773,36.784000000176803,36.767423999829958,36.523711999722529,36.29228799985453,36.312576000225953,36.824000000836804,38.154752001742672,40.145216002156246,42.303104002077525,44.136128001506506,45.152000000443195,45.107263999528179,44.330111998978353,43.185727998793709,42.039295998974254,41.255999999519986,40.885247999726147,40.683583999858179,40.576895999916097,40.491071999899901,40.3519999998096,40.159679999805761,39.963519999801917,39.763519999798071,39.559679999794241,39.35]
[null,0.5,0,{"$f":"C3","v":43},1E-10,1.3,{"$f":"_xll.Interp3D($B$18:$B$134,$C$18:$C$134,$D$18:$D$134,E31,F31)","v":37.776000000311193},null,null,null,2.7,"6B",36.695999999732813,36.440639999756485,36.208959999780163,36.00095999980384,35.816639999827515,35.655999999851204,35.499839999841278,35.348159999860158,35.229759999907841,35.173439999984318,35.208000000089598,35.379136000241246,35.667648000324348,36.004992000338909,36.322624000284932,36.552000000162394,36.548991999867617,36.359295999789019,36.199103999926628,36.284608000280421,36.832000000850407,38.153216001714071,40.104128002109817,42.216832002037663,44.023424001497588,45.056000000489611,45.091711999637539,44.442495999119735,43.442623998936213,42.426367999086949,41.727999999571985,41.386303999734906,41.178431999839646,41.0462079998862,40.931455999874593,40.775999999804796,40.579839999802886,40.381759999800963,40.181759999799027,39.979839999797115,39.78]
[null,0.5,0.5,{"$f":"C4","v":39},1E-10,1.4,{"$f":"_xll.Interp3D($B$18:$B$134,$C$18:$C$134,$D$18:$D$134,E32,F32)","v":37.352000000362402},null,null,null,2.8,"6C",36.424000000019205,36.431359999995514,36.415039999971846,36.375039999948157,36.311359999924484,36.223999999900798,36.07647999981328,35.868799999780478,35.655679999802402,35.491839999879048,35.432000000010405,35.507904000133479,35.683072000208931,35.909888000236776,36.140736000216997,36.328000000149601,36.350847999926309,36.241023999884256,36.179776000023452,36.348352000343901,36.928000000845607,38.200704001629319,40.045632001990064,42.039808001927824,43.760256001442613,44.784000000534405,44.921727999788374,44.455423999326328,43.669055999148249,42.846591999254144,42.271999999643995,41.96793599974221,41.745087999806429,41.569471999836665,41.407103999832934,41.223999999795197,41.020159999797116,40.81823999979904,40.618239999800963,40.420159999802877,40.22]
[null,0.5,1,39,1E-10,1.5,{"$f":"_xll.Interp3D($B$18:$B$134,$C$18:$C$134,$D$18:$D$134,E33,F33)","v":37.000000000399993},null,null,null,2.9,"6D",36.168000000270411,36.406720000207045,36.582080000143691,36.694080000080319,36.742720000016959,36.727999999953603,36.601279999805122,36.362559999729605,36.084799999727039,35.840959999797441,35.703999999940805,35.690048000027268,35.750464000089536,35.861056000127618,35.997632000141508,36.136000000131205,36.17913599997933,36.143167999972995,36.173632000112192,36.416064000396922,37.016000000827205,38.222528001523592,39.93862400184635,41.790656001795476,43.404992001370964,44.408000000572812,44.64569599994109,44.367167999540357,43.803391999370589,43.185343999431801,42.743999999724004,42.48691199975994,42.260095999784546,42.052223999797832,41.851967999799783,41.6479999997904,41.440319999794241,41.236479999798078,41.036479999801912,40.840319999805757,40.65]
[null,0.5,1.5,38,1E-10,1.6,{"$f":"_xll.Interp3D($B$18:$B$134,$C$18:$C$134,$D$18:$D$134,E34,F34)","v":36.704000000435201},null,null,null,3,"7",36.000000000399993,36.360000000319999,36.640000000240001,36.840000000160003,36.960000000080001,36.999999999999993,36.911999999836006,36.695999999744004,36.423999999724003,36.167999999776001,35.999999999899998,35.919999999939996,35.879999999980001,35.880000000020004,35.92000000006,36.000000000099995,36.039999999999992,36.040000000020001,36.120000000160005,36.40000000042,37.000000000800007,38.144000001432012,39.752000001728021,41.488000001688022,43.016000001312015,44.000000000599996,44.312000000056003,44.17599999970399,43.783999999543994,43.327999999575994,42.999999999799996,42.799999999799994,42.599999999800005,42.399999999799995,42.199999999799999,41.999999999799996,41.799999999799994,41.599999999799998,41.399999999800002,41.199999999799992,41]
[null,0.5,2,37,1E-10,1.7,{"$f":"_xll.Interp3D($B$18:$B$134,$C$18:$C$134,$D$18:$D$134,E35,F35)","v":36.4320000004696},null,null,null,3.1,"7A",35.936000000375998,36.279040000310076,36.556160000244155,36.767360000178236,36.912640000112312,36.992000000046403,36.977279999931199,36.868479999858238,36.707839999827513,36.537599999839038,36.399999999892799,36.274303999860997,36.132351999860283,36.005247999890685,35.924095999952186,35.920000000044794,35.924223999980832,35.916032000019968,35.99852800016221,36.274816000407554,36.848000000756002,37.923264001343242,39.4318720016227,41.066048001594382,42.518016001258289,43.48000000061441,43.841152000135622,43.806655999823093,43.542783999676857,43.215807999696892,42.991999999883205,42.873407999879106,42.749183999871931,42.616255999861693,42.47155199984838,42.311999999831997,42.137599999819187,41.950399999806393,41.750399999793601,41.537599999780795,41.31]
[null,0.5,2.5,35,1E-10,1.8,{"$f":"_xll.Interp3D($B$18:$B$134,$C$18:$C$134,$D$18:$D$134,E36,F36)","v":36.2080000004864},null,null,null,3.2,"7B",35.928000000255999,36.168320000224632,36.377280000193281,36.554880000161916,36.701120000130565,36.816000000099201,36.905280000077923,36.968960000048,36.99840000000944,36.984959999962243,36.919999999906402,36.756671999778654,36.500735999721186,36.222463999733989,35.992127999817058,35.879999999970401,35.827711999939623,35.788415999996381,35.849664000140706,36.099008000372578,36.624000000692007,37.610112001233873,38.998976001497525,40.512384001482957,41.872128001190184,42.800000000619207,43.20089600020637,43.260287999936196,43.120831999808672,42.925183999823808,42.815999999981599,42.802623999989315,42.78995199998301,42.763967999962688,42.710655999928356,42.615999999879996,42.47999999984799,42.311999999815995,42.111999999783997,41.879999999751988,41.62]
[null,0.5,3,37,1E-10,1.9,{"$f":"_xll.Interp3D($B$18:$B$134,$C$18:$C$134,$D$18:$D$134,E37,F37)","v":36.056000000468799},null,null,null,3.3,"7C",35.952000000087999,36.046080000100162,36.152320000112319,36.270720000124484,36.401280000136637,36.544000000148799,36.743040000238238,36.998400000261441,37.243840000218398,37.413120000109117,37.439999999933598,37.252287999709026,36.894143999592728,36.473855999584735,36.099711999685027,35.879999999893599,35.764287999887586,35.680383999957222,35.703936000102502,35.910592000323433,36.37600000062001,37.26732800112088,38.53414400137099,39.925696001370355,41.191232001118969,42.080000000616813,42.51046400026452,42.64979200003453,42.620287999926845,42.54425599994147,42.544000000078398,42.638336000105568,42.745728000104513,42.837952000075234,42.886784000017734,42.863999999932005,42.769599999879205,42.622399999826399,42.422399999773596,42.169599999720802,41.86]
[null,0.5,3.5,36,1E-10,2,{"$f":"_xll.Interp3D($B$18:$B$134,$C$18:$C$134,$D$18:$D$134,E38,F38)","v":36.000000000399993},null,null,null,3.4,"7D",35.983999999920002,35.93055999997312,35.930240000026245,35.983040000079363,36.088960000132488,36.248000000185606,36.53760000037424,36.957760000446726,37.392320000403046,37.725120000243201,37.839999999967205,37.646335999668132,37.221567999504991,36.701631999477783,36.222463999586516,35.919999999831191,35.747775999835959,35.615167999910426,35.591872000054586,35.747584000268446,36.152000000552007,36.957696001021262,38.11820800126165,39.40467200127317,40.588224001055821,41.440000000609615,41.889088000306316,42.088064000109384,42.143296000018822,42.161152000034633,42.248000000156807,42.431232000202826,42.639936000207754,42.833024000171598,42.969408000094347,43.007999999976008,42.948799999905603,42.819199999835192,42.619199999764788,42.348799999694393,42.01]
[null,0.5,4,35,1E-10,2.1,{"$f":"_xll.Interp3D($B$18:$B$134,$C$18:$C$134,$D$18:$D$134,E39,F39)","v":36.104000000231999},null,null,null,3.5,"8",35.999999999800004,35.83999999988,35.759999999960002,35.760000000040002,35.84000000012,36.000000000200004,36.336000000447996,36.848000000551998,37.392000000511999,37.824000000327999,38,37.823999999672004,37.391999999488,36.847999999448,36.335999999552001,35.999999999799996,35.791999999796005,35.615999999864002,35.544000000003997,35.648000000216001,36.000000000500009,36.744000000952013,37.832000001188007,39.04800000120801,40.176000001012007,41.000000000600011,41.456000000328004,41.688000000152009,41.792000000072008,41.864000000087998,42.000000000200004,42.232000000256008,42.496000000264004,42.744000000224005,42.928000000135995,43,42.959999999920001,42.839999999839996,42.639999999759993,42.359999999679985,42]
[null,0.5,4.5,35,1E-10,2.2000000000000002,{"$f":"_xll.Interp3D($B$18:$B$134,$C$18:$C$134,$D$18:$D$134,E40,F40)","v":36.351999999975995},null,null,null,3.6,"8A",36.015999999726404,35.787839999817272,35.650559999908154,35.604159999999034,35.648640000089912,35.784000000180797,36.105216000437885,36.61228800055251,37.162752000524662,37.614144000354365,37.824000000041593,37.711935999754367,37.372927999587716,36.927551999541635,36.496383999616135,36.199999999811197,35.977471999758976,35.748415999798141,35.604223999928699,35.636288000150657,35.936000000463999,36.649408000926307,37.715584001169546,38.915456001193704,40.029952000998804,40.840000000584809,41.281216000313734,41.499648000139231,41.591872000061315,41.654464000079969,41.784000000195206,42.013632000255782,42.278976000266631,42.530304000227751,42.717888000139155,42.792000000000812,42.75263999992049,42.63295999984016,42.432959999759838,42.152639999679522,41.79]
[null,0.5,5,35,1E-10,2.2999999999999998,{"$f":"_xll.Interp3D($B$18:$B$134,$C$18:$C$134,$D$18:$D$134,E41,F41)","v":36.647999999704005},null,null,null,3.7,"8B",36.047999999667198,35.761919999760636,35.569279999854082,35.470079999947522,35.464320000040956,35.552000000134399,35.81388800036919,36.249984000482819,36.739136000475291,37.160192000346626,37.392000000096793,37.386687999904538,37.225023999784092,36.978815999735453,36.719871999758624,36.519999999853603,36.294975999717408,35.996927999707552,35.752191999824035,35.687104000066846,35.928000000436001,36.632064000932843,37.715072001193896,38.941248001219172,40.074816001008685,40.880000000562404,41.285248000265987,41.447744000076895,41.474815999995144,41.473792000020708,41.552000000153612,41.742336000218856,41.973248000234761,42.195392000201323,42.359424000118537,42.415999999986404,42.36511999991184,42.239679999837279,42.039679999762711,41.765119999688153,41.42]
[null,0.5,5.5,36,1E-10,2.4,{"$f":"_xll.Interp3D($B$18:$B$134,$C$18:$C$134,$D$18:$D$134,E42,F42)","v":36.895999999488005},null,null,null,3.8,"8C",36.071999999624801,35.742079999715358,35.502719999805926,35.353919999896483,35.295679999987044,35.328000000077601,35.511552000274335,35.84633600038007,36.241344000394783,36.605568000318499,36.848000000151202,36.958272000071936,36.997056000008229,36.979903999960072,36.922367999927459,36.839999999910404,36.623743999684351,36.263231999621887,35.922047999723006,35.763775999987715,35.952000000416007,36.657216000951813,37.77036800123188,39.035712001256208,40.197504001024782,41.000000000537611,41.363072000208575,41.457215999999747,41.4026239999111,41.319487999942659,41.328000000094406,41.458624000159247,41.631232000178372,41.800128000151808,41.919616000079564,41.943999999961605,41.873279999896958,41.737919999832314,41.537919999767674,41.273279999703036,40.94]
[null,0.5,6,34,1E-10,2.5,{"$f":"_xll.Interp3D($B$18:$B$134,$C$18:$C$134,$D$18:$D$134,E43,F43)","v":36.999999999399996},null,null,null,3.9,"8D",36.063999999601599,35.708159999686721,35.437439999771847,35.251839999856962,35.151359999942088,35.136000000027202,35.24774400018579,35.486592000281405,35.789568000314048,36.093696000283707,36.336000000190396,36.536704000205951,36.737792000191163,36.908928000146048,37.019776000070593,37.039999999964799,36.843007999672864,36.449023999570812,36.047935999658648,35.829631999936389,35.984000000404009,36.690112000963467,37.821376001254322,39.10918400127656,40.284928001030188,41.080000000515206,41.409664000165314,41.452991999942526,41.337087999846844,41.189055999878278,41.136000000036802,41.203008000090946,41.305344000107461,41.405376000086335,41.465472000027589,41.447999999931199,41.352959999878721,41.20543999982624,41.005439999773756,40.75295999972127,40.450000000000003]
[null,{"$f":"B31+0.5","v":1},0,{"$f":"D3","v":41},1E-10,2.6,{"$f":"_xll.Interp3D($B$18:$B$134,$C$18:$C$134,$D$18:$D$134,E44,F44)","v":36.911999999497596},null,null,null,4,"9",35.999999999600007,35.639999999680001,35.359999999759999,35.159999999840004,35.039999999919999,35.000000000000007,35.072000000136001,35.256000000224006,35.504000000264,35.768000000256002,36.000000000200004,36.232000000256001,36.496000000264004,36.744000000224005,36.928000000136002,37,36.831999999696002,36.455999999584002,36.063999999663999,35.847999999936,36.000000000400007,36.696000000948011,37.808000001232017,39.072000001252015,40.224000001008015,41.000000000500009,41.320000000160007,41.359999999940001,41.239999999839995,41.079999999859993,41,41.016000000028001,41.048000000032005,41.072000000011997,41.063999999968004,40.999999999899998,40.87999999985999,40.719999999819997,40.519999999779998,40.279999999739992,40]
[null,{"$f":"B32+0.5","v":1},0.5,{"$f":"D4","v":40},1E-10,2.7,{"$f":"_xll.Interp3D($B$18:$B$134,$C$18:$C$134,$D$18:$D$134,E45,F45)","v":36.695999999732813},null,null,null,4.0999999999999996,"9A",35.815999999640795,35.49343999971407,35.244159999787357,35.068159999860633,34.965439999933913,34.936000000007191,35.013120000138713,35.196800000220321,35.437120000252001,35.684160000233767,35.888000000165604,36.06540800018503,36.249664000179308,36.415616000148418,36.538112000092397,36.592000000011211,36.471935999775013,36.194687999696839,35.918271999776678,35.800704000014534,36.000000000410409,36.670784000892517,37.707712001142696,38.878848001160932,39.952256000947244,40.696000000501598,41.051584000224196,41.17363200003453,41.149887999932609,41.068095999918434,41.015999999992005,40.99167999995985,40.936639999930563,40.853759999904156,40.745919999880641,40.615999999859994,40.463999999835991,40.287999999811994,40.087999999787996,39.86399999976399,39.619999999999997]
[null,1,1,38,1E-10,2.8,{"$f":"_xll.Interp3D($B$18:$B$134,$C$18:$C$134,$D$18:$D$134,E46,F46)","v":36.424000000019205},null,null,null,4.2,"9B",35.527999999722404,35.281919999785444,35.098879999848485,34.978879999911527,34.921919999974563,34.928000000037599,35.038080000172322,35.25216000024561,35.508800000257438,35.746560000207836,35.904000000096801,35.963584000026749,35.966271999983007,35.938367999965557,35.906175999974423,35.896000000009593,35.843327999901177,35.730623999889531,35.654655999974651,35.712192000156541,36.000000000435207,36.637632000810179,37.560576001005835,38.589504001022156,39.545088000859145,40.248000000516804,40.674432000342016,40.943936000202939,41.092224000099577,41.155008000031927,41.167999999999992,41.103039999877112,40.936319999796481,40.710079999758079,40.466559999761913,40.247999999808002,40.054399999804801,39.857599999801607,39.6575999997984,39.454399999795193,39.25]
[null,1,1.5,37,1E-10,2.9,{"$f":"_xll.Interp3D($B$18:$B$134,$C$18:$C$134,$D$18:$D$134,E47,F47)","v":36.168000000270411},null,null,null,4.3,"9C",35.231999999813603,35.071679999865758,34.963519999917921,34.907519999970077,34.903680000022234,34.952000000074399,35.103680000216158,35.358720000281117,35.640320000269284,35.871680000180639,35.976000000015198,35.894655999836765,35.678847999746274,35.416511999743712,35.195583999829083,35.104000000002401,35.124352000042656,35.198016000109028,35.351104000201509,35.609728000320104,36.000000000464802,36.602688000720391,37.400384000854828,38.271936000868102,39.096192000760226,39.752000000531204,40.252288000466152,40.677824000381698,41.00921600027786,41.227072000154621,41.312000000011999,41.208959999795667,40.930879999661911,40.560319999610712,40.17983999964207,39.871999999756,39.636799999773594,39.419199999791196,39.219199999808794,39.036799999826393,38.869999999999997]
[null,1,2,36,1E-10,3,{"$f":"_xll.Interp3D($B$18:$B$134,$C$18:$C$134,$D$18:$D$134,E48,F48)","v":36.000000000399993},null,null,null,4.4000000000000004,"9D",35.023999999883202,34.928959999926725,34.877439999970242,34.869440000013761,34.904960000057287,34.984000000100806,35.166720000249597,35.453120000308161,35.752960000276488,35.976000000154571,36.0319999999424,35.826751999670662,35.420415999540225,34.954303999551101,34.569727999703289,34.40799999999679,34.493184000167552,34.731072000302206,35.08556800040077,35.520576000463237,36.000000000489607,36.572096000642539,37.260928000723077,37.994112000731242,38.699264000667021,39.304000000530408,39.84889600054926,40.382208000507234,40.843072000404362,41.170624000240622,41.304000000016003,41.168319999731359,40.804159999559033,40.323839999499029,39.83967999955135,39.463999999715995,39.196799999749594,38.963199999783193,38.763199999816791,38.59679999985039,38.46]
[null,1,2.5,35,1E-10,3.1,{"$f":"_xll.Interp3D($B$18:$B$134,$C$18:$C$134,$D$18:$D$134,E49,F49)","v":35.936000000375998},null,null,null,4.5,"10",34.999999999900005,34.919999999940003,34.879999999980001,34.880000000019997,34.92000000006,35.000000000100002,35.184000000251999,35.472000000308,35.768000000267996,35.976000000132004,35.999999999899998,35.727999999584,35.223999999436003,34.655999999456,34.191999999643997,34,34.128000000244,34.464000000416,34.936000000516003,35.472000000544,36.000000000500009,36.55200000059601,37.176000000644009,37.824000000644006,38.448000000596004,39.000000000500009,39.528000000544012,40.064000000516003,40.53600000041601,40.872000000244,41,40.839999999699998,40.439999999519991,39.919999999459989,39.399999999519991,38.999999999699995,38.71999999973999,38.479999999779999,38.279999999819992,38.119999999859992,38]
[null,1,3,36,1E-10,3.2,{"$f":"_xll.Interp3D($B$18:$B$134,$C$18:$C$134,$D$18:$D$134,E50,F50)","v":35.928000000255999},null,null,null,4.5999999999999996,"10A",35.271999999825603,35.120959999872319,35.016639999919043,34.959039999965761,34.948160000012479,34.984000000059204,35.129536000216127,35.384768000278591,35.655232000246592,35.846464000120122,35.8639999998992,35.600703999600988,35.119551999463482,34.581247999486692,34.146495999670599,33.976000000015205,34.118784000258117,34.467712000427497,34.949248000523326,35.489856000545636,36.016000000494401,36.566848000597503,37.191424000641859,37.830976000627452,38.426752000554309,38.920000000422398,39.335168000401829,39.711424000344579,40.012096000250665,40.200512000120071,40.239999999952801,40.068351999719454,39.710015999579419,39.2583039995327,38.806527999579288,38.447999999719201,38.182719999750248,37.948479999781284,37.745279999812318,37.573119999843357,37.43]
[null,1,3.5,38,1E-10,3.3,{"$f":"_xll.Interp3D($B$18:$B$134,$C$18:$C$134,$D$18:$D$134,E51,F51)","v":35.952000000087999},null,null,null,4.7,"10B",35.775999999680799,35.487679999742554,35.261119999804315,35.096319999866076,34.993279999927836,34.951999999989596,35.032128000155737,35.233664000232416,35.467136000219618,35.643072000117343,35.671999999925596,35.466111999684571,35.08505599957526,34.660543999597657,34.324287999751775,34.2080000000376,34.346752000231135,34.652736000372066,35.073344000460388,35.555968000496101,36.048000000479206,36.612544000634117,37.284672000694378,37.96972800065997,38.573056000530919,39.000000000307203,39.227904000154268,39.319872000035332,39.309887999950369,39.231935999899392,39.119999999882403,38.947455999779166,38.691647999715869,38.392511999692502,38.089983999709084,37.82399999976559,37.594559999775512,37.375039999785429,37.165439999795353,36.965759999805272,36.78]
[null,1,4,36,1E-10,3.4,{"$f":"_xll.Interp3D($B$18:$B$134,$C$18:$C$134,$D$18:$D$134,E52,F52)","v":35.983999999920002},null,null,null,4.8,"10C",36.343999999523206,35.905919999600641,35.545279999678087,35.262079999755528,35.056319999832965,34.927999999910405,34.930752000081704,35.064576000172551,35.249024000182949,35.403648000112895,35.447999999962406,35.32076799979847,35.075583999726497,34.804415999746503,34.599231999858468,34.552000000062407,34.676928000183914,34.912704000284101,35.23801600036299,35.631552000420555,36.072000000456811,36.652416000680773,37.387008000765157,38.136192000709961,38.760384000515174,39.120000000180802,39.137855999874205,38.907007999683387,38.543231999608345,38.16230399964909,37.879999999805598,37.710783999852353,37.57747199987741,37.458367999880771,37.331775999862437,37.175999999822395,36.991039999807683,36.791359999792952,36.576959999778239,36.347839999763515,36.1]
[null,1,4.5,36,1E-10,3.5,{"$f":"_xll.Interp3D($B$18:$B$134,$C$18:$C$134,$D$18:$D$134,E53,F53)","v":35.999999999800004},null,null,null,4.9000000000000004,"10D",36.807999999410399,36.261439999496474,35.80095999958256,35.426559999668633,35.138239999754717,34.935999999840789,34.864384000004826,34.923392000102041,35.046208000132445,35.166016000096036,35.215999999992803,35.161215999906368,35.046207999872351,34.923391999890747,34.845183999961563,34.8640000000848,34.974336000137249,35.141248000197955,35.372992000266919,35.677824000344124,36.064000000429601,36.649792000712424,37.429696000817835,38.226304000745834,38.862208000496423,39.160000000069601,38.996671999634486,38.490495999383889,37.825983999317813,37.187647999436244,36.759999999739193,36.59180799991222,36.560064000012098,36.591616000038812,36.613311999992384,36.551999999872791,36.40767999983855,36.229119999804311,36.016319999770062,35.769279999735829,35.49]
[null,1,5,35,1E-10,3.6,{"$f":"_xll.Interp3D($B$18:$B$134,$C$18:$C$134,$D$18:$D$134,E54,F54)","v":36.015999999726404},null,null,null,5,"11",36.999999999399996,36.439999999480001,35.959999999559997,35.559999999639999,35.239999999719998,34.999999999799996,34.871999999936001,34.856000000023997,34.904000000064002,34.968000000056001,35,34.983999999971999,34.951999999968002,34.927999999988003,34.936000000031996,35.000000000100002,35.104000000111995,35.232000000148005,35.408000000207998,35.656000000291996,36.000000000400007,36.568000000704004,37.34400000081601,38.136000000736011,38.752000000464008,39,38.735999999507996,38.08799999923199,37.271999999171989,36.503999999327988,35.999999999699995,35.823999999931999,35.832000000068,35.928000000108,36.016000000052003,35.999999999899998,35.879999999859997,35.719999999819997,35.519999999779998,35.279999999739992,35]
[null,1,5.5,34,1E-10,3.7,{"$f":"_xll.Interp3D($B$18:$B$134,$C$18:$C$134,$D$18:$D$134,E55,F55)","v":36.047999999667198},null,null,null,5.0999999999999996,"11A",36.839999999544801,36.409599999594406,36.028799999644008,35.697599999693608,35.4159999997432,35.183999999792803,35.012735999861889,34.902207999914268,34.83571199994995,34.796543999968918,34.767999999971195,34.745343999984662,34.739712000005241,34.75820800003293,34.807936000067706,34.896000000109602,35.007936000117894,35.139008000147868,35.310912000199551,35.545344000272927,35.864000000368002,36.383744000642274,37.090112000741257,37.807808000664934,38.361536000413324,38.575999999986401,38.319743999533948,37.709631999278677,36.942847999220596,36.216575999359698,35.727999999695996,35.529599999894081,35.489920000013441,35.530240000054086,35.571840000016003,35.535999999899204,35.422719999874239,35.284479999849275,35.121279999824317,34.933119999799352,34.72]
[null,1,6,35,1E-10,3.8,{"$f":"_xll.Interp3D($B$18:$B$134,$C$18:$C$134,$D$18:$D$134,E56,F56)","v":36.071999999624801},null,null,null,5.2,"11B",36.439999999806403,36.246399999806407,36.052799999806403,35.8591999998064,35.665599999806403,35.4719999998064,35.260607999775267,35.031423999770816,34.811135999793052,34.626431999841984,34.503999999917596,34.447551999968574,34.439296000013982,34.47366400005383,34.5450880000881,34.648000000116802,34.776128000141028,34.933184000174656,35.128576000217699,35.371712000270144,35.672000000331998,36.121472000543932,36.713856000617824,37.311104000553662,37.775168000351456,37.968000000011195,37.793471999663765,37.343615999460532,36.762623999401491,36.194687999486646,35.783999999715995,35.552959999816323,35.405439999883036,35.307839999916155,35.226559999915679,35.127999999881595,35.01215999988672,34.901439999891842,34.795839999896963,34.695359999902074,34.6]
[null,1.5,0,{"$f":"E3","v":41},1E-10,3.9,{"$f":"_xll.Interp3D($B$18:$B$134,$C$18:$C$134,$D$18:$D$134,E57,F57)","v":36.063999999601599},null,null,null,5.3,"11C",35.920000000105603,35.998400000051205,36.022399999996807,35.991999999942408,35.907199999888007,35.767999999833606,35.526911999696097,35.183935999629824,34.810303999634783,34.477247999710976,34.255999999858403,34.156287999939742,34.130624000006499,34.164416000058651,34.24307200009622,34.352000000119197,34.495552000166811,34.683456000207904,34.909184000242462,35.166208000270501,35.448000000291998,35.816128000428861,36.274944000473383,36.732096000425543,37.095232000285357,37.272000000052806,37.21132799983863,36.974783999701053,36.638975999640095,36.280511999655737,35.975999999747998,35.710719999725114,35.433599999724308,35.166719999745595,34.932159999788951,34.751999999854391,34.626239999894068,34.540159999933749,34.493759999973435,34.487040000013117,34.520000000000003]
[null,1.5,0.5,{"$f":"E4","v":38},1E-10,4,{"$f":"_xll.Interp3D($B$18:$B$134,$C$18:$C$134,$D$18:$D$134,E58,F58)","v":35.999999999600007},null,null,null,5.4,"11D",35.4000000003632,35.713600000264002,35.928000000164801,36.043200000065596,36.059199999966395,35.975999999867199,35.72294399964435,35.300031999527491,34.813247999516605,34.368575999611714,34.071999999812803,33.937215999914216,33.893567999995071,33.920512000055396,33.997504000095169,34.104000000114397,34.253184000180674,34.458752000227172,34.700928000253889,34.959936000260832,35.216000000248002,35.502656000316932,35.833088000335557,36.156992000303873,36.42406400022189,36.584000000089596,36.62745599999964,36.587967999923706,36.479551999861783,36.316223999813879,36.111999999779989,35.819519999646872,35.429439999584787,35.012799999593753,34.640639999673752,34.383999999824795,34.242879999892956,34.169919999961124,34.165120000029283,34.228480000097441,34.36]
[null,1.5,1,37,1E-10,4.0999999999999996,{"$f":"_xll.Interp3D($B$18:$B$134,$C$18:$C$134,$D$18:$D$134,E59,F59)","v":35.815999999640795},null,null,null,5.5,"12",35.000000000499995,35.440000000380003,35.76000000026,35.960000000139999,36.040000000020001,35.999999999899998,35.759999999639994,35.319999999499998,34.799999999480001,34.319999999579998,33.999999999799996,33.855999999908001,33.807999999991999,33.832000000051998,33.904000000087997,34.000000000100002,34.136000000168004,34.328000000212,34.552000000231999,34.784000000228005,35.000000000200004,35.216000000228,35.448000000232,35.672000000212002,35.864000000168005,36.000000000100002,36.096000000088004,36.168000000052004,36.191999999991999,36.14399999990799,35.999999999799996,35.695999999607992,35.247999999511997,34.751999999511987,34.303999999607996,33.999999999799996,33.83999999988,33.759999999960002,33.760000000040002,33.84000000012,34]
[null,1.5,1.5,35,1E-10,4.2,{"$f":"_xll.Interp3D($B$18:$B$134,$C$18:$C$134,$D$18:$D$134,E60,F60)","v":35.527999999722404},null,null,null,5.6,"12A",34.720000000515995,35.177600000399202,35.518400000282398,35.742400000165603,35.84960000004881,35.839999999932004,35.638079999683043,35.243839999547362,34.770559999524963,34.331519999615843,34.039999999819997,33.912639999921119,33.873919999997284,33.898880000048479,33.962560000074717,34.040000000075999,34.144000000128798,34.291200000162398,34.4624000001768,34.638400000171998,34.800000000147996,34.956160000162079,35.119680000162717,35.277120000149921,35.415040000123689,35.520000000084003,35.616960000103688,35.71488000008592,35.776320000030722,35.763839999938078,35.639999999807998,35.340159999608474,34.889279999505909,34.384319999500313,33.922239999591675,33.599999999779996,33.417599999855199,33.310399999930397,33.278400000005597,33.321600000080799,33.44]
[null,1.5,2,38,1E-10,4.3,{"$f":"_xll.Interp3D($B$18:$B$134,$C$18:$C$134,$D$18:$D$134,E61,F61)","v":35.231999999813603},null,null,null,5.7,"12B",34.480000000464003,34.894400000364804,35.20960000026561,35.425600000166405,35.542400000067204,35.559999999967999,35.416319999760162,35.111359999645444,34.738239999623843,34.390079999695359,34.159999999859998,34.063359999942875,34.038080000002715,34.061120000039516,34.109440000053276,34.160000000043993,34.219200000072796,34.302400000092,34.400000000101599,34.502400000101602,34.600000000092002,34.699840000105915,34.808320000109283,34.91488000010208,35.008960000084329,35.080000000056003,35.15424000008592,35.238720000076476,35.294080000027677,35.280959999939519,35.159999999811994,34.87423999963071,34.44991999953487,33.972479999524474,33.527359999599511,33.199999999759996,32.990399999820802,32.841599999881602,32.753599999942402,32.726400000003203,32.76]
[null,1.5,2.5,37,1E-10,4.4000000000000004,{"$f":"_xll.Interp3D($B$18:$B$134,$C$18:$C$134,$D$18:$D$134,E62,F62)","v":35.023999999883202},null,null,null,5.8,"12C",34.280000000344003,34.590400000276802,34.8336000002096,35.009600000142399,35.118400000075191,35.160000000007997,35.094719999871359,34.922559999794238,34.703039999776635,34.495679999818556,34.359999999919999,34.308159999973277,34.300480000008321,34.318720000025124,34.344640000023674,34.360000000004,34.361600000000003,34.361600000000799,34.364800000006397,34.376000000016802,34.400000000031994,34.447040000059523,34.513920000071678,34.585280000068479,34.645760000049918,34.680000000015994,34.707840000034714,34.739520000023688,34.745279999982884,34.69535999991232,34.559999999812,34.298239999674713,33.929919999598873,33.516479999584476,33.119359999631513,32.799999999739995,32.558399999776796,32.353599999813596,32.185599999850396,32.054399999887195,31.96]
[null,1.5,3,36,1E-10,4.5,{"$f":"_xll.Interp3D($B$18:$B$134,$C$18:$C$134,$D$18:$D$134,E63,F63)","v":34.999999999900005},null,null,null,5.9,"12D",34.120000000156011,34.265600000135208,34.390400000114404,34.494400000093606,34.577600000072806,34.640000000051998,34.673280000016646,34.677439999993759,34.66495999998336,34.648319999985439,34.64,34.647040000012325,34.66112000001408,34.671680000005281,34.668159999985917,34.639999999956004,34.571199999910398,34.468799999888802,34.356799999891201,34.259199999917605,34.199999999968,34.197760000022882,34.236480000049923,34.288320000049126,34.325440000020478,34.319999999963997,34.277759999950078,34.217279999927513,34.129919999896316,34.007039999856467,33.839999999807986,33.612159999740463,33.329279999697903,33.016319999680306,32.698239999687672,32.399999999719995,32.121599999723188,31.846399999726394,31.574399999729597,31.305599999732795,31.04]
[null,1.5,3.5,36,1E-10,4.5999999999999996,{"$f":"_xll.Interp3D($B$18:$B$134,$C$18:$C$134,$D$18:$D$134,E64,F64)","v":35.271999999825603},null,null,null,6,"13",33.999999999899998,33.919999999940003,33.879999999980001,33.880000000019997,33.92000000006,34.000000000100002,34.152000000195997,34.376000000244005,34.624000000243996,34.848000000196002,35.000000000100002,35.080000000059997,35.120000000019999,35.119999999980003,35.07999999994,34.999999999899998,34.847999999804003,34.623999999755995,34.375999999756004,34.151999999803998,33.999999999900005,33.951999999996005,33.976000000044003,34.024000000043998,34.047999999996001,33.999999999899998,33.863999999831996,33.671999999788,33.447999999767994,33.215999999772002,32.999999999799996,32.815999999827994,32.647999999831995,32.471999999811999,32.263999999768004,31.999999999699995,31.679999999659991,31.319999999619988,30.919999999579989,30.479999999539992,30]
[null,1.5,4,37,1E-10,4.7,{"$f":"_xll.Interp3D($B$18:$B$134,$C$18:$C$134,$D$18:$D$134,E65,F65)","v":35.775999999680799}]
[null,1.5,4.5,34,1E-10,4.8,{"$f":"_xll.Interp3D($B$18:$B$134,$C$18:$C$134,$D$18:$D$134,E66,F66)","v":36.343999999523206}]
[null,1.5,5,35,1E-10,4.9000000000000004,{"$f":"_xll.Interp3D($B$18:$B$134,$C$18:$C$134,$D$18:$D$134,E67,F67)","v":36.807999999410399}]
[null,1.5,5.5,34,1E-10,5,{"$f":"_xll.Interp3D($B$18:$B$134,$C$18:$C$134,$D$18:$D$134,E68,F68)","v":36.999999999399996}]
[null,1.5,6,35,1E-10,5.0999999999999996,{"$f":"_xll.Interp3D($B$18:$B$134,$C$18:$C$134,$D$18:$D$134,E69,F69)","v":36.839999999544801}]
[null,2,0,{"$f":"F3","v":42},1E-10,5.2,{"$f":"_xll.Interp3D($B$18:$B$134,$C$18:$C$134,$D$18:$D$134,E70,F70)","v":36.439999999806403}]
[null,2,0.5,{"$f":"F4","v":41},1E-10,5.3,{"$f":"_xll.Interp3D($B$18:$B$134,$C$18:$C$134,$D$18:$D$134,E71,F71)","v":35.920000000105603}]
[null,2,1,37,1E-10,5.4,{"$f":"_xll.Interp3D($B$18:$B$134,$C$18:$C$134,$D$18:$D$134,E72,F72)","v":35.4000000003632}]
[null,2,1.5,34,1E-10,5.5,{"$f":"_xll.Interp3D($B$18:$B$134,$C$18:$C$134,$D$18:$D$134,E73,F73)","v":35.000000000499995}]
[null,2,2,40,1E-10,5.6,{"$f":"_xll.Interp3D($B$18:$B$134,$C$18:$C$134,$D$18:$D$134,E74,F74)","v":34.720000000515995}]
[null,2,2.5,37,1E-10,5.7,{"$f":"_xll.Interp3D($B$18:$B$134,$C$18:$C$134,$D$18:$D$134,E75,F75)","v":34.480000000464003}]
[null,2,3,37,1E-10,5.8,{"$f":"_xll.Interp3D($B$18:$B$134,$C$18:$C$134,$D$18:$D$134,E76,F76)","v":34.280000000344003}]
[null,2,3.5,36,1E-10,5.9,{"$f":"_xll.Interp3D($B$18:$B$134,$C$18:$C$134,$D$18:$D$134,E77,F77)","v":34.120000000156011}]
[null,2,4,36,1E-10,6,{"$f":"_xll.Interp3D($B$18:$B$134,$C$18:$C$134,$D$18:$D$134,E78,F78)","v":33.999999999899998}]
[null,2,4.5,36,{"$f":"E18+0.1","v":0.1000000001},{"$f":"F18","v":0},{"$f":"_xll.Interp3D($B$18:$B$134,$C$18:$C$134,$D$18:$D$134,E79,F79)","v":43.160000000119993}]
[null,2,5,36,{"$f":"E19+0.1","v":0.1000000001},{"$f":"F19","v":0.1},{"$f":"_xll.Interp3D($B$18:$B$134,$C$18:$C$134,$D$18:$D$134,E80,F80)","v":42.219199999966399}]
[null,2,5.5,35,0.1000000001,0.2,{"$f":"_xll.Interp3D($B$18:$B$134,$C$18:$C$134,$D$18:$D$134,E81,F81)","v":41.396799999845598}]
[null,2,6,34,0.1000000001,0.3,{"$f":"_xll.Interp3D($B$18:$B$134,$C$18:$C$134,$D$18:$D$134,E82,F82)","v":40.692799999757597}]
[null,2.5,0,{"$f":"G3","v":41},0.1000000001,0.4,{"$f":"_xll.Interp3D($B$18:$B$134,$C$18:$C$134,$D$18:$D$134,E83,F83)","v":40.107199999702402}]
[null,2.5,0.5,{"$f":"G4","v":38},0.1000000001,0.5,{"$f":"_xll.Interp3D($B$18:$B$134,$C$18:$C$134,$D$18:$D$134,E84,F84)","v":39.639999999680001}]
[null,2.5,1,37,0.1000000001,0.6,{"$f":"_xll.Interp3D($B$18:$B$134,$C$18:$C$134,$D$18:$D$134,E85,F85)","v":39.357119999705439}]
[null,2.5,1.5,35,0.1000000001,0.7,{"$f":"_xll.Interp3D($B$18:$B$134,$C$18:$C$134,$D$18:$D$134,E86,F86)","v":39.258559999778718}]
[null,2.5,2,41,0.1000000001,0.8,{"$f":"_xll.Interp3D($B$18:$B$134,$C$18:$C$134,$D$18:$D$134,E87,F87)","v":39.24543999987727}]
[null,2.5,2.5,45,0.1000000001,0.9,{"$f":"_xll.Interp3D($B$18:$B$134,$C$18:$C$134,$D$18:$D$134,E88,F88)","v":39.218879999978562}]
[null,2.5,3,44,0.1000000001,1,{"$f":"_xll.Interp3D($B$18:$B$134,$C$18:$C$134,$D$18:$D$134,E89,F89)","v":39.080000000060004}]
[null,2.5,3.5,41,0.1000000001,1.1000000000000001,{"$f":"_xll.Interp3D($B$18:$B$134,$C$18:$C$134,$D$18:$D$134,E90,F90)","v":38.798720000123836}]
[null,2.5,4,41,0.1000000001,1.2,{"$f":"_xll.Interp3D($B$18:$B$134,$C$18:$C$134,$D$18:$D$134,E91,F91)","v":38.440960000185122}]
[null,2.5,4.5,39,0.1000000001,1.3,{"$f":"_xll.Interp3D($B$18:$B$134,$C$18:$C$134,$D$18:$D$134,E92,F92)","v":38.051840000240475}]
[null,2.5,5,39,0.1000000001,1.4,{"$f":"_xll.Interp3D($B$18:$B$134,$C$18:$C$134,$D$18:$D$134,E93,F93)","v":37.67648000028656}]
[null,2.5,5.5,36,0.1000000001,1.5,{"$f":"_xll.Interp3D($B$18:$B$134,$C$18:$C$134,$D$18:$D$134,E94,F94)","v":37.360000000319999}]
[null,2.5,6,34,0.1000000001,1.6,{"$f":"_xll.Interp3D($B$18:$B$134,$C$18:$C$134,$D$18:$D$134,E95,F95)","v":37.096640000350085}]
[null,3,0,{"$f":"H3","v":37},0.1000000001,1.7,{"$f":"_xll.Interp3D($B$18:$B$134,$C$18:$C$134,$D$18:$D$134,E96,F96)","v":36.856320000379043}]
[null,3,0.5,{"$f":"H4","v":35},0.1000000001,1.8,{"$f":"_xll.Interp3D($B$18:$B$134,$C$18:$C$134,$D$18:$D$134,E97,F97)","v":36.64768000039296}]
[null,3,1,35,0.1000000001,1.9,{"$f":"_xll.Interp3D($B$18:$B$134,$C$18:$C$134,$D$18:$D$134,E98,F98)","v":36.479360000377923}]
[null,{"$f":"B86+0.5","v":3},1.5,34,0.1000000001,2,{"$f":"_xll.Interp3D($B$18:$B$134,$C$18:$C$134,$D$18:$D$134,E99,F99)","v":36.360000000319999}]
[null,3,2,42,0.1000000001,2.1,{"$f":"_xll.Interp3D($B$18:$B$134,$C$18:$C$134,$D$18:$D$134,E100,F100)","v":36.309440000178881}]
[null,3,2.5,41,0.1000000001,2.2000000000000002,{"$f":"_xll.Interp3D($B$18:$B$134,$C$18:$C$134,$D$18:$D$134,E101,F101)","v":36.321919999963839}]
[null,3,3,43,0.1000000001,2.2999999999999998,{"$f":"_xll.Interp3D($B$18:$B$134,$C$18:$C$134,$D$18:$D$134,E102,F102)","v":36.367679999735358}]
[null,3,3.5,42,0.1000000001,2.4,{"$f":"_xll.Interp3D($B$18:$B$134,$C$18:$C$134,$D$18:$D$134,E103,F103)","v":36.416959999553924}]
[null,3,4,41,0.1000000001,2.5,{"$f":"_xll.Interp3D($B$18:$B$134,$C$18:$C$134,$D$18:$D$134,E104,F104)","v":36.439999999480001}]
[null,3,4.5,41,0.1000000001,2.6,{"$f":"_xll.Interp3D($B$18:$B$134,$C$18:$C$134,$D$18:$D$134,E105,F105)","v":36.441279999560962}]
[null,3,5,36,0.1000000001,2.7,{"$f":"_xll.Interp3D($B$18:$B$134,$C$18:$C$134,$D$18:$D$134,E106,F106)","v":36.440639999756485}]
[null,3,5.5,36,0.1000000001,2.8,{"$f":"_xll.Interp3D($B$18:$B$134,$C$18:$C$134,$D$18:$D$134,E107,F107)","v":36.431359999995514}]
[null,3,6,33,0.1000000001,2.9,{"$f":"_xll.Interp3D($B$18:$B$134,$C$18:$C$134,$D$18:$D$134,E108,F108)","v":36.406720000207045}]
[null,{"$f":"B96+0.5","v":3.5},0,{"$f":"I3","v":39},0.1000000001,3,{"$f":"_xll.Interp3D($B$18:$B$134,$C$18:$C$134,$D$18:$D$134,E109,F109)","v":36.360000000319999}]
[null,3.5,0.5,{"$f":"I4","v":34},0.1000000001,3.1,{"$f":"_xll.Interp3D($B$18:$B$134,$C$18:$C$134,$D$18:$D$134,E110,F110)","v":36.279040000310076}]
[null,3.5,1,31,0.1000000001,3.2,{"$f":"_xll.Interp3D($B$18:$B$134,$C$18:$C$134,$D$18:$D$134,E111,F111)","v":36.168320000224632}]
[null,3.5,1.5,33,0.1000000001,3.3,{"$f":"_xll.Interp3D($B$18:$B$134,$C$18:$C$134,$D$18:$D$134,E112,F112)","v":36.046080000100162}]
[null,3.5,2,39,0.1000000001,3.4,{"$f":"_xll.Interp3D($B$18:$B$134,$C$18:$C$134,$D$18:$D$134,E113,F113)","v":35.93055999997312}]
[null,3.5,2.5,40,0.1000000001,3.5,{"$f":"_xll.Interp3D($B$18:$B$134,$C$18:$C$134,$D$18:$D$134,E114,F114)","v":35.83999999988}]
[null,3.5,3,42,0.1000000001,3.6,{"$f":"_xll.Interp3D($B$18:$B$134,$C$18:$C$134,$D$18:$D$134,E115,F115)","v":35.787839999817272}]
[null,3.5,3.5,43,0.1000000001,3.7,{"$f":"_xll.Interp3D($B$18:$B$134,$C$18:$C$134,$D$18:$D$134,E116,F116)","v":35.761919999760636}]
[null,3.5,4,41,0.1000000001,3.8,{"$f":"_xll.Interp3D($B$18:$B$134,$C$18:$C$134,$D$18:$D$134,E117,F117)","v":35.742079999715358}]
[null,3.5,4.5,39,0.1000000001,3.9,{"$f":"_xll.Interp3D($B$18:$B$134,$C$18:$C$134,$D$18:$D$134,E118,F118)","v":35.708159999686721}]
[null,3.5,5,36,0.1000000001,4,{"$f":"_xll.Interp3D($B$18:$B$134,$C$18:$C$134,$D$18:$D$134,E119,F119)","v":35.639999999680001}]
[null,3.5,5.5,34,0.1000000001,4.0999999999999996,{"$f":"_xll.Interp3D($B$18:$B$134,$C$18:$C$134,$D$18:$D$134,E120,F120)","v":35.49343999971407}]
[null,3.5,6,32,0.1000000001,4.2,{"$f":"_xll.Interp3D($B$18:$B$134,$C$18:$C$134,$D$18:$D$134,E121,F121)","v":35.281919999785444}]
[null,4,0,{"$f":"J3","v":34},0.1000000001,4.3,{"$f":"_xll.Interp3D($B$18:$B$134,$C$18:$C$134,$D$18:$D$134,E122,F122)","v":35.071679999865758}]
[null,4,0.5,{"$f":"J4","v":33},0.1000000001,4.4000000000000004,{"$f":"_xll.Interp3D($B$18:$B$134,$C$18:$C$134,$D$18:$D$134,E123,F123)","v":34.928959999926725}]
[null,{"$f":"B111+0.5","v":4},1,31,0.1000000001,4.5,{"$f":"_xll.Interp3D($B$18:$B$134,$C$18:$C$134,$D$18:$D$134,E124,F124)","v":34.919999999940003}]
[null,{"$f":"B112+0.5","v":4},1.5,33,0.1000000001,4.5999999999999996,{"$f":"_xll.Interp3D($B$18:$B$134,$C$18:$C$134,$D$18:$D$134,E125,F125)","v":35.120959999872319}]
[null,4,2,38,0.1000000001,4.7,{"$f":"_xll.Interp3D($B$18:$B$134,$C$18:$C$134,$D$18:$D$134,E126,F126)","v":35.487679999742554}]
[null,4,2.5,39,0.1000000001,4.8,{"$f":"_xll.Interp3D($B$18:$B$134,$C$18:$C$134,$D$18:$D$134,E127,F127)","v":35.905919999600641}]
[null,4,3,41,0.1000000001,4.9000000000000004,{"$f":"_xll.Interp3D($B$18:$B$134,$C$18:$C$134,$D$18:$D$134,E128,F128)","v":36.261439999496474}]
[null,4,3.5,42,0.1000000001,5,{"$f":"_xll.Interp3D($B$18:$B$134,$C$18:$C$134,$D$18:$D$134,E129,F129)","v":36.439999999480001}]
[null,4,4,40,0.1000000001,5.0999999999999996,{"$f":"_xll.Interp3D($B$18:$B$134,$C$18:$C$134,$D$18:$D$134,E130,F130)","v":36.409599999594406}]
[null,{"$f":"B118+0.5","v":4},4.5,38,0.1000000001,5.2,{"$f":"_xll.Interp3D($B$18:$B$134,$C$18:$C$134,$D$18:$D$134,E131,F131)","v":36.246399999806407}]
[null,{"$f":"B119+0.5","v":4},5,35,0.1000000001,5.3,{"$f":"_xll.Interp3D($B$18:$B$134,$C$18:$C$134,$D$18:$D$134,E132,F132)","v":35.998400000051205}]
[null,{"$f":"B120+0.5","v":4},5.5,34,0.1000000001,5.4,{"$f":"_xll.Interp3D($B$18:$B$134,$C$18:$C$134,$D$18:$D$134,E133,F133)","v":35.713600000264002}]
[null,{"$f":"B121+0.5","v":4},6,30,0.1000000001,5.5,{"$f":"_xll.Interp3D($B$18:$B$134,$C$18:$C$134,$D$18:$D$134,E134,F134)","v":35.440000000380003}]
[null,null,null,null,0.1000000001,5.6,{"$f":"_xll.Interp3D($B$18:$B$134,$C$18:$C$134,$D$18:$D$134,E135,F135)","v":35.177600000399202}]
[null,null,null,null,0.1000000001,5.7,{"$f":"_xll.Interp3D($B$18:$B$134,$C$18:$C$134,$D$18:$D$134,E136,F136)","v":34.894400000364804}]
[null,null,null,null,0.1000000001,5.8,{"$f":"_xll.Interp3D($B$18:$B$134,$C$18:$C$134,$D$18:$D$134,E137,F137)","v":34.590400000276802}]
[null,null,null,null,0.1000000001,5.9,{"$f":"_xll.Interp3D($B$18:$B$134,$C$18:$C$134,$D$18:$D$134,E138,F138)","v":34.265600000135208}]
[null,null,null,null,0.1000000001,6,{"$f":"_xll.Interp3D($B$18:$B$134,$C$18:$C$134,$D$18:$D$134,E139,F139)","v":33.919999999940003}]
[null,null,null,null,0.20000000010000002,0,{"$f":"_xll.Interp3D($B$18:$B$134,$C$18:$C$134,$D$18:$D$134,E140,F140)","v":43.240000000039998}]
[null,null,null,null,0.20000000010000002,0.1,{"$f":"_xll.Interp3D($B$18:$B$134,$C$18:$C$134,$D$18:$D$134,E141,F141)","v":42.1727999999408}]
[null,null,null,null,0.20000000010000002,0.2,{"$f":"_xll.Interp3D($B$18:$B$134,$C$18:$C$134,$D$18:$D$134,E142,F142)","v":41.251199999863189}]
[null,null,null,null,0.20000000010000002,0.3,{"$f":"_xll.Interp3D($B$18:$B$134,$C$18:$C$134,$D$18:$D$134,E143,F143)","v":40.475199999807202}]
[null,null,null,null,{"$f":"E83+0.1","v":0.20000000010000002},{"$f":"F83","v":0.4},{"$f":"_xll.Interp3D($B$18:$B$134,$C$18:$C$134,$D$18:$D$134,E144,F144)","v":39.844799999772803}]
[null,null,null,null,0.20000000010000002,0.5,{"$f":"_xll.Interp3D($B$18:$B$134,$C$18:$C$134,$D$18:$D$134,E145,F145)","v":39.359999999759999}]
[null,null,null,null,0.20000000010000002,0.6,{"$f":"_xll.Interp3D($B$18:$B$134,$C$18:$C$134,$D$18:$D$134,E146,F146)","v":39.098879999778077}]
[null,null,null,null,0.20000000010000002,0.7,{"$f":"_xll.Interp3D($B$18:$B$134,$C$18:$C$134,$D$18:$D$134,E147,F147)","v":39.061439999827037}]
[null,null,null,null,0.20000000010000002,0.8,{"$f":"_xll.Interp3D($B$18:$B$134,$C$18:$C$134,$D$18:$D$134,E148,F148)","v":39.130559999892952}]
[null,null,null,null,0.20000000010000002,0.9,{"$f":"_xll.Interp3D($B$18:$B$134,$C$18:$C$134,$D$18:$D$134,E149,F149)","v":39.189119999961918}]
[null,null,null,null,0.20000000010000002,1,{"$f":"_xll.Interp3D($B$18:$B$134,$C$18:$C$134,$D$18:$D$134,E150,F150)","v":39.120000000019999}]
[null,null,null,null,0.20000000010000002,1.1000000000000001,{"$f":"_xll.Interp3D($B$18:$B$134,$C$18:$C$134,$D$18:$D$134,E151,F151)","v":38.89568000007008}]
[null,null,null,null,0.20000000010000002,1.2,{"$f":"_xll.Interp3D($B$18:$B$134,$C$18:$C$134,$D$18:$D$134,E152,F152)","v":38.594240000121438}]
[null,null,null,null,0.20000000010000002,1.3,{"$f":"_xll.Interp3D($B$18:$B$134,$C$18:$C$134,$D$18:$D$134,E153,F153)","v":38.256960000169755}]
[null,null,null,null,0.20000000010000002,1.4,{"$f":"_xll.Interp3D($B$18:$B$134,$C$18:$C$134,$D$18:$D$134,E154,F154)","v":37.925120000210725}]
[null,null,null,null,0.20000000010000002,1.5,{"$f":"_xll.Interp3D($B$18:$B$134,$C$18:$C$134,$D$18:$D$134,E155,F155)","v":37.640000000240001}]
[null,null,null,null,0.20000000010000002,1.6,{"$f":"_xll.Interp3D($B$18:$B$134,$C$18:$C$134,$D$18:$D$134,E156,F156)","v":37.404160000264966}]
[null,null,null,null,0.20000000010000002,1.7,{"$f":"_xll.Interp3D($B$18:$B$134,$C$18:$C$134,$D$18:$D$134,E157,F157)","v":37.190080000288482}]
[null,null,null,null,0.20000000010000002,1.8,{"$f":"_xll.Interp3D($B$18:$B$134,$C$18:$C$134,$D$18:$D$134,E158,F158)","v":36.993920000299511}]
[null,null,null,null,0.20000000010000002,1.9,{"$f":"_xll.Interp3D($B$18:$B$134,$C$18:$C$134,$D$18:$D$134,E159,F159)","v":36.811840000287042}]
[null,null,null,null,0.20000000010000002,2,{"$f":"_xll.Interp3D($B$18:$B$134,$C$18:$C$134,$D$18:$D$134,E160,F160)","v":36.640000000240001}]
[null,null,null,null,0.20000000010000002,2.1,{"$f":"_xll.Interp3D($B$18:$B$134,$C$18:$C$134,$D$18:$D$134,E161,F161)","v":36.461760000125764}]
[null,null,null,null,0.20000000010000002,2.2000000000000002,{"$f":"_xll.Interp3D($B$18:$B$134,$C$18:$C$134,$D$18:$D$134,E162,F162)","v":36.279679999951675}]
[null,null,null,null,0.20000000010000002,2.2999999999999998,{"$f":"_xll.Interp3D($B$18:$B$134,$C$18:$C$134,$D$18:$D$134,E163,F163)","v":36.118719999766718}]
[null,null,null,null,0.20000000010000002,2.4,{"$f":"_xll.Interp3D($B$18:$B$134,$C$18:$C$134,$D$18:$D$134,E164,F164)","v":36.003839999619842}]
[null,null,null,null,0.20000000010000002,2.5,{"$f":"_xll.Interp3D($B$18:$B$134,$C$18:$C$134,$D$18:$D$134,E165,F165)","v":35.959999999559997}]
[null,null,null,null,0.20000000010000002,2.6,{"$f":"_xll.Interp3D($B$18:$B$134,$C$18:$C$134,$D$18:$D$134,E166,F166)","v":36.033919999624324}]
[null,null,null,null,0.20000000010000002,2.7,{"$f":"_xll.Interp3D($B$18:$B$134,$C$18:$C$134,$D$18:$D$134,E167,F167)","v":36.208959999780163}]
[null,null,null,null,0.20000000010000002,2.8,{"$f":"_xll.Interp3D($B$18:$B$134,$C$18:$C$134,$D$18:$D$134,E168,F168)","v":36.415039999971846}]
[null,null,null,null,0.20000000010000002,2.9,{"$f":"_xll.Interp3D($B$18:$B$134,$C$18:$C$134,$D$18:$D$134,E169,F169)","v":36.582080000143691}]
[null,null,null,null,0.20000000010000002,3,{"$f":"_xll.Interp3D($B$18:$B$134,$C$18:$C$134,$D$18:$D$134,E170,F170)","v":36.640000000240001}]
[null,null,null,null,0.20000000010000002,3.1,{"$f":"_xll.Interp3D($B$18:$B$134,$C$18:$C$134,$D$18:$D$134,E171,F171)","v":36.556160000244155}]
[null,null,null,null,0.20000000010000002,3.2,{"$f":"_xll.Interp3D($B$18:$B$134,$C$18:$C$134,$D$18:$D$134,E172,F172)","v":36.377280000193281}]
[null,null,null,null,0.20000000010000002,3.3,{"$f":"_xll.Interp3D($B$18:$B$134,$C$18:$C$134,$D$18:$D$134,E173,F173)","v":36.152320000112319}]
[null,null,null,null,0.20000000010000002,3.4,{"$f":"_xll.Interp3D($B$18:$B$134,$C$18:$C$134,$D$18:$D$134,E174,F174)","v":35.930240000026245}]
[null,null,null,null,0.20000000010000002,3.5,{"$f":"_xll.Interp3D($B$18:$B$134,$C$18:$C$134,$D$18:$D$134,E175,F175)","v":35.759999999960002}]
[null,null,null,null,0.20000000010000002,3.6,{"$f":"_xll.Interp3D($B$18:$B$134,$C$18:$C$134,$D$18:$D$134,E176,F176)","v":35.650559999908154}]
[null,null,null,null,0.20000000010000002,3.7,{"$f":"_xll.Interp3D($B$18:$B$134,$C$18:$C$134,$D$18:$D$134,E177,F177)","v":35.569279999854082}]
[null,null,null,null,0.20000000010000002,3.8,{"$f":"_xll.Interp3D($B$18:$B$134,$C$18:$C$134,$D$18:$D$134,E178,F178)","v":35.502719999805926}]
[null,null,null,null,0.20000000010000002,3.9,{"$f":"_xll.Interp3D($B$18:$B$134,$C$18:$C$134,$D$18:$D$134,E179,F179)","v":35.437439999771847}]
[null,null,null,null,0.20000000010000002,4,{"$f":"_xll.Interp3D($B$18:$B$134,$C$18:$C$134,$D$18:$D$134,E180,F180)","v":35.359999999759999}]
[null,null,null,null,0.20000000010000002,4.0999999999999996,{"$f":"_xll.Interp3D($B$18:$B$134,$C$18:$C$134,$D$18:$D$134,E181,F181)","v":35.244159999787357}]
[null,null,null,null,0.20000000010000002,4.2,{"$f":"_xll.Interp3D($B$18:$B$134,$C$18:$C$134,$D$18:$D$134,E182,F182)","v":35.098879999848485}]
[null,null,null,null,0.20000000010000002,4.3,{"$f":"_xll.Interp3D($B$18:$B$134,$C$18:$C$134,$D$18:$D$134,E183,F183)","v":34.963519999917921}]
[null,null,null,null,0.20000000010000002,4.4000000000000004,{"$f":"_xll.Interp3D($B$18:$B$134,$C$18:$C$134,$D$18:$D$134,E184,F184)","v":34.877439999970242}]
[null,null,null,null,0.20000000010000002,4.5,{"$f":"_xll.Interp3D($B$18:$B$134,$C$18:$C$134,$D$18:$D$134,E185,F185)","v":34.879999999980001}]
[null,null,null,null,0.20000000010000002,4.5999999999999996,{"$f":"_xll.Interp3D($B$18:$B$134,$C$18:$C$134,$D$18:$D$134,E186,F186)","v":35.016639999919043}]
[null,null,null,null,0.20000000010000002,4.7,{"$f":"_xll.Interp3D($B$18:$B$134,$C$18:$C$134,$D$18:$D$134,E187,F187)","v":35.261119999804315}]
[null,null,null,null,0.20000000010000002,4.8,{"$f":"_xll.Interp3D($B$18:$B$134,$C$18:$C$134,$D$18:$D$134,E188,F188)","v":35.545279999678087}]
[null,null,null,null,0.20000000010000002,4.9000000000000004,{"$f":"_xll.Interp3D($B$18:$B$134,$C$18:$C$134,$D$18:$D$134,E189,F189)","v":35.80095999958256}]
[null,null,null,null,0.20000000010000002,5,{"$f":"_xll.Interp3D($B$18:$B$134,$C$18:$C$134,$D$18:$D$134,E190,F190)","v":35.959999999559997}]
[null,null,null,null,0.20000000010000002,5.0999999999999996,{"$f":"_xll.Interp3D($B$18:$B$134,$C$18:$C$134,$D$18:$D$134,E191,F191)","v":36.028799999644008}]
[null,null,null,null,0.20000000010000002,5.2,{"$f":"_xll.Interp3D($B$18:$B$134,$C$18:$C$134,$D$18:$D$134,E192,F192)","v":36.052799999806403}]
[null,null,null,null,0.20000000010000002,5.3,{"$f":"_xll.Interp3D($B$18:$B$134,$C$18:$C$134,$D$18:$D$134,E193,F193)","v":36.022399999996807}]
[null,null,null,null,0.20000000010000002,5.4,{"$f":"_xll.Interp3D($B$18:$B$134,$C$18:$C$134,$D$18:$D$134,E194,F194)","v":35.928000000164801}]
[null,null,null,null,0.20000000010000002,5.5,{"$f":"_xll.Interp3D($B$18:$B$134,$C$18:$C$134,$D$18:$D$134,E195,F195)","v":35.76000000026}]
[null,null,null,null,0.20000000010000002,5.6,{"$f":"_xll.Interp3D($B$18:$B$134,$C$18:$C$134,$D$18:$D$134,E196,F196)","v":35.518400000282398}]
[null,null,null,null,0.20000000010000002,5.7,{"$f":"_xll.Interp3D($B$18:$B$134,$C$18:$C$134,$D$18:$D$134,E197,F197)","v":35.20960000026561}]
[null,null,null,null,0.20000000010000002,5.8,{"$f":"_xll.Interp3D($B$18:$B$134,$C$18:$C$134,$D$18:$D$134,E198,F198)","v":34.8336000002096}]
[null,null,null,null,0.20000000010000002,5.9,{"$f":"_xll.Interp3D($B$18:$B$134,$C$18:$C$134,$D$18:$D$134,E199,F199)","v":34.390400000114404}]
[null,null,null,null,0.20000000010000002,6,{"$f":"_xll.Interp3D($B$18:$B$134,$C$18:$C$134,$D$18:$D$134,E200,F200)","v":33.879999999980001}]
[null,null,null,null,0.30000000010000005,0,{"$f":"_xll.Interp3D($B$18:$B$134,$C$18:$C$134,$D$18:$D$134,E201,F201)","v":43.239999999959998}]
[null,null,null,null,0.30000000010000005,0.1,{"$f":"_xll.Interp3D($B$18:$B$134,$C$18:$C$134,$D$18:$D$134,E202,F202)","v":42.100799999915203}]
[null,null,null,null,0.30000000010000005,0.2,{"$f":"_xll.Interp3D($B$18:$B$134,$C$18:$C$134,$D$18:$D$134,E203,F203)","v":41.123199999880796}]
[null,null,null,null,0.30000000010000005,0.3,{"$f":"_xll.Interp3D($B$18:$B$134,$C$18:$C$134,$D$18:$D$134,E204,F204)","v":40.307199999856792}]
[null,null,null,null,0.30000000010000005,0.4,{"$f":"_xll.Interp3D($B$18:$B$134,$C$18:$C$134,$D$18:$D$134,E205,F205)","v":39.652799999843204}]
[null,null,null,null,0.30000000010000005,0.5,{"$f":"_xll.Interp3D($B$18:$B$134,$C$18:$C$134,$D$18:$D$134,E206,F206)","v":39.159999999839997}]
[null,null,null,null,0.30000000010000005,0.6,{"$f":"_xll.Interp3D($B$18:$B$134,$C$18:$C$134,$D$18:$D$134,E207,F207)","v":38.913279999850715}]
[null,null,null,null,{"$f":"E147+0.1","v":0.30000000010000005},{"$f":"F147","v":0.7},{"$f":"_xll.Interp3D($B$18:$B$134,$C$18:$C$134,$D$18:$D$134,E208,F208)","v":38.91263999987536}]
[null,null,null,null,0.30000000010000005,0.8,{"$f":"_xll.Interp3D($B$18:$B$134,$C$18:$C$134,$D$18:$D$134,E209,F209)","v":39.031359999908631}]
[null,null,null,null,0.30000000010000005,0.9,{"$f":"_xll.Interp3D($B$18:$B$134,$C$18:$C$134,$D$18:$D$134,E210,F210)","v":39.142719999945278}]
[null,null,null,null,0.30000000010000005,1,{"$f":"_xll.Interp3D($B$18:$B$134,$C$18:$C$134,$D$18:$D$134,E211,F211)","v":39.119999999980003}]
[null,null,null,null,0.30000000010000005,1.1000000000000001,{"$f":"_xll.Interp3D($B$18:$B$134,$C$18:$C$134,$D$18:$D$134,E212,F212)","v":38.938880000016312}]
[null,null,null,null,0.30000000010000005,1.2,{"$f":"_xll.Interp3D($B$18:$B$134,$C$18:$C$134,$D$18:$D$134,E213,F213)","v":38.683840000057756}]
[null,null,null,null,0.30000000010000005,1.3,{"$f":"_xll.Interp3D($B$18:$B$134,$C$18:$C$134,$D$18:$D$134,E214,F214)","v":38.391360000099034}]
[null,null,null,null,0.30000000010000005,1.4,{"$f":"_xll.Interp3D($B$18:$B$134,$C$18:$C$134,$D$18:$D$134,E215,F215)","v":38.097920000134877}]
[null,null,null,null,0.30000000010000005,1.5,{"$f":"_xll.Interp3D($B$18:$B$134,$C$18:$C$134,$D$18:$D$134,E216,F216)","v":37.840000000160003}]
[null,null,null,null,0.30000000010000005,1.6,{"$f":"_xll.Interp3D($B$18:$B$134,$C$18:$C$134,$D$18:$D$134,E217,F217)","v":37.626560000179843}]
[null,null,null,null,0.30000000010000005,1.7,{"$f":"_xll.Interp3D($B$18:$B$134,$C$18:$C$134,$D$18:$D$134,E218,F218)","v":37.433280000197925}]
[null,null,null,null,0.30000000010000005,1.8,{"$f":"_xll.Interp3D($B$18:$B$134,$C$18:$C$134,$D$18:$D$134,E219,F219)","v":37.246720000206075}]
[null,null,null,null,0.30000000010000005,1.9,{"$f":"_xll.Interp3D($B$18:$B$134,$C$18:$C$134,$D$18:$D$134,E220,F220)","v":37.053440000196161}]
[null,null,null,null,0.30000000010000005,2,{"$f":"_xll.Interp3D($B$18:$B$134,$C$18:$C$134,$D$18:$D$134,E221,F221)","v":36.840000000160003}]
[null,null,null,null,0.30000000010000005,2.1,{"$f":"_xll.Interp3D($B$18:$B$134,$C$18:$C$134,$D$18:$D$134,E222,F222)","v":36.56096000007264}]
[null,null,null,null,0.30000000010000005,2.2000000000000002,{"$f":"_xll.Interp3D($B$18:$B$134,$C$18:$C$134,$D$18:$D$134,E223,F223)","v":36.225279999939517}]
[null,null,null,null,0.30000000010000005,2.2999999999999998,{"$f":"_xll.Interp3D($B$18:$B$134,$C$18:$C$134,$D$18:$D$134,E224,F224)","v":35.901119999798077}]
[null,null,null,null,0.30000000010000005,2.4,{"$f":"_xll.Interp3D($B$18:$B$134,$C$18:$C$134,$D$18:$D$134,E225,F225)","v":35.656639999685758}]
[null,null,null,null,0.30000000010000005,2.5,{"$f":"_xll.Interp3D($B$18:$B$134,$C$18:$C$134,$D$18:$D$134,E226,F226)","v":35.559999999639999}]
[null,null,null,null,0.30000000010000005,2.6,{"$f":"_xll.Interp3D($B$18:$B$134,$C$18:$C$134,$D$18:$D$134,E227,F227)","v":35.689919999687682}]
[null,null,null,null,0.30000000010000005,2.7,{"$f":"_xll.Interp3D($B$18:$B$134,$C$18:$C$134,$D$18:$D$134,E228,F228)","v":36.00095999980384}]
[null,null,null,null,0.30000000010000005,2.8,{"$f":"_xll.Interp3D($B$18:$B$134,$C$18:$C$134,$D$18:$D$134,E229,F229)","v":36.375039999948157}]
[null,null,null,null,0.30000000010000005,2.9,{"$f":"_xll.Interp3D($B$18:$B$134,$C$18:$C$134,$D$18:$D$134,E230,F230)","v":36.694080000080319}]
[null,null,null,null,0.30000000010000005,3,{"$f":"_xll.Interp3D($B$18:$B$134,$C$18:$C$134,$D$18:$D$134,E231,F231)","v":36.840000000160003}]
[null,null,null,null,0.30000000010000005,3.1,{"$f":"_xll.Interp3D($B$18:$B$134,$C$18:$C$134,$D$18:$D$134,E232,F232)","v":36.767360000178236}]
[null,null,null,null,0.30000000010000005,3.2,{"$f":"_xll.Interp3D($B$18:$B$134,$C$18:$C$134,$D$18:$D$134,E233,F233)","v":36.554880000161916}]
[null,null,null,null,0.30000000010000005,3.3,{"$f":"_xll.Interp3D($B$18:$B$134,$C$18:$C$134,$D$18:$D$134,E234,F234)","v":36.270720000124484}]
[null,null,null,null,0.30000000010000005,3.4,{"$f":"_xll.Interp3D($B$18:$B$134,$C$18:$C$134,$D$18:$D$134,E235,F235)","v":35.983040000079363}]
[null,null,null,null,0.30000000010000005,3.5,{"$f":"_xll.Interp3D($B$18:$B$134,$C$18:$C$134,$D$18:$D$134,E236,F236)","v":35.760000000040002}]
[null,null,null,null,0.30000000010000005,3.6,{"$f":"_xll.Interp3D($B$18:$B$134,$C$18:$C$134,$D$18:$D$134,E237,F237)","v":35.604159999999034}]
[null,null,null,null,0.30000000010000005,3.7,{"$f":"_xll.Interp3D($B$18:$B$134,$C$18:$C$134,$D$18:$D$134,E238,F238)","v":35.470079999947522}]
[null,null,null,null,0.30000000010000005,3.8,{"$f":"_xll.Interp3D($B$18:$B$134,$C$18:$C$134,$D$18:$D$134,E239,F239)","v":35.353919999896483}]
[null,null,null,null,0.30000000010000005,3.9,{"$f":"_xll.Interp3D($B$18:$B$134,$C$18:$C$134,$D$18:$D$134,E240,F240)","v":35.251839999856962}]
[null,null,null,null,0.30000000010000005,4,{"$f":"_xll.Interp3D($B$18:$B$134,$C$18:$C$134,$D$18:$D$134,E241,F241)","v":35.159999999840004}]
[null,null,null,null,0.30000000010000005,4.0999999999999996,{"$f":"_xll.Interp3D($B$18:$B$134,$C$18:$C$134,$D$18:$D$134,E242,F242)","v":35.068159999860633}]
[null,null,null,null,0.30000000010000005,4.2,{"$f":"_xll.Interp3D($B$18:$B$134,$C$18:$C$134,$D$18:$D$134,E243,F243)","v":34.978879999911527}]
[null,null,null,null,0.30000000010000005,4.3,{"$f":"_xll.Interp3D($B$18:$B$134,$C$18:$C$134,$D$18:$D$134,E244,F244)","v":34.907519999970077}]
[null,null,null,null,0.30000000010000005,4.4000000000000004,{"$f":"_xll.Interp3D($B$18:$B$134,$C$18:$C$134,$D$18:$D$134,E245,F245)","v":34.869440000013761}]
[null,null,null,null,0.30000000010000005,4.5,{"$f":"_xll.Interp3D($B$18:$B$134,$C$18:$C$134,$D$18:$D$134,E246,F246)","v":34.880000000019997}]
[null,null,null,null,0.30000000010000005,4.5999999999999996,{"$f":"_xll.Interp3D($B$18:$B$134,$C$18:$C$134,$D$18:$D$134,E247,F247)","v":34.959039999965761}]
[null,null,null,null,0.30000000010000005,4.7,{"$f":"_xll.Interp3D($B$18:$B$134,$C$18:$C$134,$D$18:$D$134,E248,F248)","v":35.096319999866076}]
[null,null,null,null,0.30000000010000005,4.8,{"$f":"_xll.Interp3D($B$18:$B$134,$C$18:$C$134,$D$18:$D$134,E249,F249)","v":35.262079999755528}]
[null,null,null,null,0.30000000010000005,4.9000000000000004,{"$f":"_xll.Interp3D($B$18:$B$134,$C$18:$C$134,$D$18:$D$134,E250,F250)","v":35.426559999668633}]
[null,null,null,null,0.30000000010000005,5,{"$f":"_xll.Interp3D($B$18:$B$134,$C$18:$C$134,$D$18:$D$134,E251,F251)","v":35.559999999639999}]
[null,null,null,null,0.30000000010000005,5.0999999999999996,{"$f":"_xll.Interp3D($B$18:$B$134,$C$18:$C$134,$D$18:$D$134,E252,F252)","v":35.697599999693608}]
[null,null,null,null,0.30000000010000005,5.2,{"$f":"_xll.Interp3D($B$18:$B$134,$C$18:$C$134,$D$18:$D$134,E253,F253)","v":35.8591999998064}]
[null,null,null,null,0.30000000010000005,5.3,{"$f":"_xll.Interp3D($B$18:$B$134,$C$18:$C$134,$D$18:$D$134,E254,F254)","v":35.991999999942408}]
[null,null,null,null,0.30000000010000005,5.4,{"$f":"_xll.Interp3D($B$18:$B$134,$C$18:$C$134,$D$18:$D$134,E255,F255)","v":36.043200000065596}]
[null,null,null,null,0.30000000010000005,5.5,{"$f":"_xll.Interp3D($B$18:$B$134,$C$18:$C$134,$D$18:$D$134,E256,F256)","v":35.960000000139999}]
[null,null,null,null,0.30000000010000005,5.6,{"$f":"_xll.Interp3D($B$18:$B$134,$C$18:$C$134,$D$18:$D$134,E257,F257)","v":35.742400000165603}]
[null,null,null,null,0.30000000010000005,5.7,{"$f":"_xll.Interp3D($B$18:$B$134,$C$18:$C$134,$D$18:$D$134,E258,F258)","v":35.425600000166405}]
[null,null,null,null,0.30000000010000005,5.8,{"$f":"_xll.Interp3D($B$18:$B$134,$C$18:$C$134,$D$18:$D$134,E259,F259)","v":35.009600000142399}]
[null,null,null,null,0.30000000010000005,5.9,{"$f":"_xll.Interp3D($B$18:$B$134,$C$18:$C$134,$D$18:$D$134,E260,F260)","v":34.494400000093606}]
[null,null,null,null,0.30000000010000005,6,{"$f":"_xll.Interp3D($B$18:$B$134,$C$18:$C$134,$D$18:$D$134,E261,F261)","v":33.880000000019997}]
[null,null,null,null,0.40000000010000003,0,{"$f":"_xll.Interp3D($B$18:$B$134,$C$18:$C$134,$D$18:$D$134,E262,F262)","v":43.15999999988}]
[null,null,null,null,0.40000000010000003,0.1,{"$f":"_xll.Interp3D($B$18:$B$134,$C$18:$C$134,$D$18:$D$134,E263,F263)","v":42.003199999889603}]
[null,null,null,null,0.40000000010000003,0.2,{"$f":"_xll.Interp3D($B$18:$B$134,$C$18:$C$134,$D$18:$D$134,E264,F264)","v":41.012799999898391}]
[null,null,null,null,0.40000000010000003,0.3,{"$f":"_xll.Interp3D($B$18:$B$134,$C$18:$C$134,$D$18:$D$134,E265,F265)","v":40.188799999906394}]
[null,null,null,null,0.40000000010000003,0.4,{"$f":"_xll.Interp3D($B$18:$B$134,$C$18:$C$134,$D$18:$D$134,E266,F266)","v":39.531199999913603}]
[null,null,null,null,0.40000000010000003,0.5,{"$f":"_xll.Interp3D($B$18:$B$134,$C$18:$C$134,$D$18:$D$134,E267,F267)","v":39.039999999919999}]
[null,null,null,null,0.40000000010000003,0.6,{"$f":"_xll.Interp3D($B$18:$B$134,$C$18:$C$134,$D$18:$D$134,E268,F268)","v":38.80031999992336}]
[null,null,null,null,0.40000000010000003,0.7,{"$f":"_xll.Interp3D($B$18:$B$134,$C$18:$C$134,$D$18:$D$134,E269,F269)","v":38.812159999923679}]
[null,null,null,null,0.40000000010000003,0.8,{"$f":"_xll.Interp3D($B$18:$B$134,$C$18:$C$134,$D$18:$D$134,E270,F270)","v":38.947839999924312}]
[null,null,null,null,0.40000000010000003,0.9,{"$f":"_xll.Interp3D($B$18:$B$134,$C$18:$C$134,$D$18:$D$134,E271,F271)","v":39.079679999928643}]
[null,null,null,null,{"$f":"E211+0.1","v":0.40000000010000003},{"$f":"F211","v":1},{"$f":"_xll.Interp3D($B$18:$B$134,$C$18:$C$134,$D$18:$D$134,E272,F272)","v":39.07999999994}]
[null,null,null,null,0.40000000010000003,1.1000000000000001,{"$f":"_xll.Interp3D($B$18:$B$134,$C$18:$C$134,$D$18:$D$134,E273,F273)","v":38.928319999962561}]
[null,null,null,null,0.40000000010000003,1.2,{"$f":"_xll.Interp3D($B$18:$B$134,$C$18:$C$134,$D$18:$D$134,E274,F274)","v":38.709759999994077}]
[null,null,null,null,0.40000000010000003,1.3,{"$f":"_xll.Interp3D($B$18:$B$134,$C$18:$C$134,$D$18:$D$134,E275,F275)","v":38.455040000028312}]
[null,null,null,null,0.40000000010000003,1.4,{"$f":"_xll.Interp3D($B$18:$B$134,$C$18:$C$134,$D$18:$D$134,E276,F276)","v":38.194880000059044}]
[null,null,null,null,0.40000000010000003,1.5,{"$f":"_xll.Interp3D($B$18:$B$134,$C$18:$C$134,$D$18:$D$134,E277,F277)","v":37.960000000080001}]
[null,null,null,null,0.40000000010000003,1.6,{"$f":"_xll.Interp3D($B$18:$B$134,$C$18:$C$134,$D$18:$D$134,E278,F278)","v":37.763840000094724}]
[null,null,null,null,0.40000000010000003,1.7,{"$f":"_xll.Interp3D($B$18:$B$134,$C$18:$C$134,$D$18:$D$134,E279,F279)","v":37.585920000107365}]
[null,null,null,null,0.40000000010000003,1.8,{"$f":"_xll.Interp3D($B$18:$B$134,$C$18:$C$134,$D$18:$D$134,E280,F280)","v":37.406080000112638}]
[null,null,null,null,0.40000000010000003,1.9,{"$f":"_xll.Interp3D($B$18:$B$134,$C$18:$C$134,$D$18:$D$134,E281,F281)","v":37.204160000105283}]
[null,null,null,null,0.40000000010000003,2,{"$f":"_xll.Interp3D($B$18:$B$134,$C$18:$C$134,$D$18:$D$134,E282,F282)","v":36.960000000080001}]
[null,null,null,null,0.40000000010000003,2.1,{"$f":"_xll.Interp3D($B$18:$B$134,$C$18:$C$134,$D$18:$D$134,E283,F283)","v":36.607040000019524}]
[null,null,null,null,0.40000000010000003,2.2000000000000002,{"$f":"_xll.Interp3D($B$18:$B$134,$C$18:$C$134,$D$18:$D$134,E284,F284)","v":36.158719999927357}]
[null,null,null,null,0.40000000010000003,2.2999999999999998,{"$f":"_xll.Interp3D($B$18:$B$134,$C$18:$C$134,$D$18:$D$134,E285,F285)","v":35.714879999829435}]
[null,null,null,null,0.40000000010000003,2.4,{"$f":"_xll.Interp3D($B$18:$B$134,$C$18:$C$134,$D$18:$D$134,E286,F286)","v":35.37535999975168}]
[null,null,null,null,0.40000000010000003,2.5,{"$f":"_xll.Interp3D($B$18:$B$134,$C$18:$C$134,$D$18:$D$134,E287,F287)","v":35.239999999719998}]
[null,null,null,null,0.40000000010000003,2.6,{"$f":"_xll.Interp3D($B$18:$B$134,$C$18:$C$134,$D$18:$D$134,E288,F288)","v":35.409279999751043}]
[null,null,null,null,0.40000000010000003,2.7,{"$f":"_xll.Interp3D($B$18:$B$134,$C$18:$C$134,$D$18:$D$134,E289,F289)","v":35.816639999827515}]
[null,null,null,null,0.40000000010000003,2.8,{"$f":"_xll.Interp3D($B$18:$B$134,$C$18:$C$134,$D$18:$D$134,E290,F290)","v":36.311359999924484}]
[null,null,null,null,0.40000000010000003,2.9,{"$f":"_xll.Interp3D($B$18:$B$134,$C$18:$C$134,$D$18:$D$134,E291,F291)","v":36.742720000016959}]
[null,null,null,null,0.40000000010000003,3,{"$f":"_xll.Interp3D($B$18:$B$134,$C$18:$C$134,$D$18:$D$134,E292,F292)","v":36.960000000080001}]
[null,null,null,null,0.40000000010000003,3.1,{"$f":"_xll.Interp3D($B$18:$B$134,$C$18:$C$134,$D$18:$D$134,E293,F293)","v":36.912640000112312}]
[null,null,null,null,0.40000000010000003,3.2,{"$f":"_xll.Interp3D($B$18:$B$134,$C$18:$C$134,$D$18:$D$134,E294,F294)","v":36.701120000130565}]
[null,null,null,null,0.40000000010000003,3.3,{"$f":"_xll.Interp3D($B$18:$B$134,$C$18:$C$134,$D$18:$D$134,E295,F295)","v":36.401280000136637}]
[null,null,null,null,0.40000000010000003,3.4,{"$f":"_xll.Interp3D($B$18:$B$134,$C$18:$C$134,$D$18:$D$134,E296,F296)","v":36.088960000132488}]
[null,null,null,null,0.40000000010000003,3.5,{"$f":"_xll.Interp3D($B$18:$B$134,$C$18:$C$134,$D$18:$D$134,E297,F297)","v":35.84000000012}]
[null,null,null,null,0.40000000010000003,3.6,{"$f":"_xll.Interp3D($B$18:$B$134,$C$18:$C$134,$D$18:$D$134,E298,F298)","v":35.648640000089912}]
[null,null,null,null,0.40000000010000003,3.7,{"$f":"_xll.Interp3D($B$18:$B$134,$C$18:$C$134,$D$18:$D$134,E299,F299)","v":35.464320000040956}]
[null,null,null,null,0.40000000010000003,3.8,{"$f":"_xll.Interp3D($B$18:$B$134,$C$18:$C$134,$D$18:$D$134,E300,F300)","v":35.295679999987044}]
[null,null,null,null,0.40000000010000003,3.9,{"$f":"_xll.Interp3D($B$18:$B$134,$C$18:$C$134,$D$18:$D$134,E301,F301)","v":35.151359999942088}]
[null,null,null,null,0.40000000010000003,4,{"$f":"_xll.Interp3D($B$18:$B$134,$C$18:$C$134,$D$18:$D$134,E302,F302)","v":35.039999999919999}]
[null,null,null,null,0.40000000010000003,4.0999999999999996,{"$f":"_xll.Interp3D($B$18:$B$134,$C$18:$C$134,$D$18:$D$134,E303,F303)","v":34.965439999933913}]
[null,null,null,null,0.40000000010000003,4.2,{"$f":"_xll.Interp3D($B$18:$B$134,$C$18:$C$134,$D$18:$D$134,E304,F304)","v":34.921919999974563}]
[null,null,null,null,0.40000000010000003,4.3,{"$f":"_xll.Interp3D($B$18:$B$134,$C$18:$C$134,$D$18:$D$134,E305,F305)","v":34.903680000022234}]
[null,null,null,null,0.40000000010000003,4.4000000000000004,{"$f":"_xll.Interp3D($B$18:$B$134,$C$18:$C$134,$D$18:$D$134,E306,F306)","v":34.904960000057287}]
[null,null,null,null,0.40000000010000003,4.5,{"$f":"_xll.Interp3D($B$18:$B$134,$C$18:$C$134,$D$18:$D$134,E307,F307)","v":34.92000000006}]
[null,null,null,null,0.40000000010000003,4.5999999999999996,{"$f":"_xll.Interp3D($B$18:$B$134,$C$18:$C$134,$D$18:$D$134,E308,F308)","v":34.948160000012479}]
[null,null,null,null,0.40000000010000003,4.7,{"$f":"_xll.Interp3D($B$18:$B$134,$C$18:$C$134,$D$18:$D$134,E309,F309)","v":34.993279999927836}]
[null,null,null,null,0.40000000010000003,4.8,{"$f":"_xll.Interp3D($B$18:$B$134,$C$18:$C$134,$D$18:$D$134,E310,F310)","v":35.056319999832965}]
[null,null,null,null,0.40000000010000003,4.9000000000000004,{"$f":"_xll.Interp3D($B$18:$B$134,$C$18:$C$134,$D$18:$D$134,E311,F311)","v":35.138239999754717}]
[null,null,null,null,0.40000000010000003,5,{"$f":"_xll.Interp3D($B$18:$B$134,$C$18:$C$134,$D$18:$D$134,E312,F312)","v":35.239999999719998}]
[null,null,null,null,0.40000000010000003,5.0999999999999996,{"$f":"_xll.Interp3D($B$18:$B$134,$C$18:$C$134,$D$18:$D$134,E313,F313)","v":35.4159999997432}]
[null,null,null,null,0.40000000010000003,5.2,{"$f":"_xll.Interp3D($B$18:$B$134,$C$18:$C$134,$D$18:$D$134,E314,F314)","v":35.665599999806403}]
[null,null,null,null,0.40000000010000003,5.3,{"$f":"_xll.Interp3D($B$18:$B$134,$C$18:$C$134,$D$18:$D$134,E315,F315)","v":35.907199999888007}]
[null,null,null,null,0.40000000010000003,5.4,{"$f":"_xll.Interp3D($B$18:$B$134,$C$18:$C$134,$D$18:$D$134,E316,F316)","v":36.059199999966395}]
[null,null,null,null,0.40000000010000003,5.5,{"$f":"_xll.Interp3D($B$18:$B$134,$C$18:$C$134,$D$18:$D$134,E317,F317)","v":36.040000000020001}]
[null,null,null,null,0.40000000010000003,5.6,{"$f":"_xll.Interp3D($B$18:$B$134,$C$18:$C$134,$D$18:$D$134,E318,F318)","v":35.84960000004881}]
[null,null,null,null,0.40000000010000003,5.7,{"$f":"_xll.Interp3D($B$18:$B$134,$C$18:$C$134,$D$18:$D$134,E319,F319)","v":35.542400000067204}]
[null,null,null,null,0.40000000010000003,5.8,{"$f":"_xll.Interp3D($B$18:$B$134,$C$18:$C$134,$D$18:$D$134,E320,F320)","v":35.118400000075191}]
[null,null,null,null,0.40000000010000003,5.9,{"$f":"_xll.Interp3D($B$18:$B$134,$C$18:$C$134,$D$18:$D$134,E321,F321)","v":34.577600000072806}]
[null,null,null,null,0.40000000010000003,6,{"$f":"_xll.Interp3D($B$18:$B$134,$C$18:$C$134,$D$18:$D$134,E322,F322)","v":33.92000000006}]
[null,null,null,null,0.50000000010000001,0,{"$f":"_xll.Interp3D($B$18:$B$134,$C$18:$C$134,$D$18:$D$134,E323,F323)","v":42.999999999799996}]
[null,null,null,null,0.50000000010000001,0.1,{"$f":"_xll.Interp3D($B$18:$B$134,$C$18:$C$134,$D$18:$D$134,E324,F324)","v":41.879999999863998}]
[null,null,null,null,0.50000000010000001,0.2,{"$f":"_xll.Interp3D($B$18:$B$134,$C$18:$C$134,$D$18:$D$134,E325,F325)","v":40.919999999916001}]
[null,null,null,null,0.50000000010000001,0.3,{"$f":"_xll.Interp3D($B$18:$B$134,$C$18:$C$134,$D$18:$D$134,E326,F326)","v":40.119999999955994}]
[null,null,null,null,0.50000000010000001,0.4,{"$f":"_xll.Interp3D($B$18:$B$134,$C$18:$C$134,$D$18:$D$134,E327,F327)","v":39.479999999984003}]
[null,null,null,null,0.50000000010000001,0.5,{"$f":"_xll.Interp3D($B$18:$B$134,$C$18:$C$134,$D$18:$D$134,E328,F328)","v":39.000000000000007}]
[null,null,null,null,0.50000000010000001,0.6,{"$f":"_xll.Interp3D($B$18:$B$134,$C$18:$C$134,$D$18:$D$134,E329,F329)","v":38.759999999995998}]
[null,null,null,null,0.50000000010000001,0.7,{"$f":"_xll.Interp3D($B$18:$B$134,$C$18:$C$134,$D$18:$D$134,E330,F330)","v":38.759999999971996}]
[null,null,null,null,0.50000000010000001,0.8,{"$f":"_xll.Interp3D($B$18:$B$134,$C$18:$C$134,$D$18:$D$134,E331,F331)","v":38.879999999939997}]
[null,null,null,null,0.50000000010000001,0.9,{"$f":"_xll.Interp3D($B$18:$B$134,$C$18:$C$134,$D$18:$D$134,E332,F332)","v":38.999999999911999}]
[null,null,null,null,0.50000000010000001,1,{"$f":"_xll.Interp3D($B$18:$B$134,$C$18:$C$134,$D$18:$D$134,E333,F333)","v":38.999999999899998}]
[null,null,null,null,0.50000000010000001,1.1000000000000001,{"$f":"_xll.Interp3D($B$18:$B$134,$C$18:$C$134,$D$18:$D$134,E334,F334)","v":38.863999999908799}]
[null,null,null,null,0.50000000010000001,1.2,{"$f":"_xll.Interp3D($B$18:$B$134,$C$18:$C$134,$D$18:$D$134,E335,F335)","v":38.671999999930392}]
[null,null,null,null,{"$f":"E275+0.1","v":0.50000000010000001},{"$f":"F275","v":1.3},{"$f":"_xll.Interp3D($B$18:$B$134,$C$18:$C$134,$D$18:$D$134,E336,F336)","v":38.447999999957588}]
[null,null,null,null,0.50000000010000001,1.4,{"$f":"_xll.Interp3D($B$18:$B$134,$C$18:$C$134,$D$18:$D$134,E337,F337)","v":38.215999999983197}]
[null,null,null,null,0.50000000010000001,1.5,{"$f":"_xll.Interp3D($B$18:$B$134,$C$18:$C$134,$D$18:$D$134,E338,F338)","v":38}]
[null,null,null,null,0.50000000010000001,1.6,{"$f":"_xll.Interp3D($B$18:$B$134,$C$18:$C$134,$D$18:$D$134,E339,F339)","v":37.816000000009602}]
[null,null,null,null,0.50000000010000001,1.7,{"$f":"_xll.Interp3D($B$18:$B$134,$C$18:$C$134,$D$18:$D$134,E340,F340)","v":37.6480000000168}]
[null,null,null,null,0.50000000010000001,1.8,{"$f":"_xll.Interp3D($B$18:$B$134,$C$18:$C$134,$D$18:$D$134,E341,F341)","v":37.472000000019193}]
[null,null,null,null,0.50000000010000001,1.9,{"$f":"_xll.Interp3D($B$18:$B$134,$C$18:$C$134,$D$18:$D$134,E342,F342)","v":37.264000000014406}]
[null,null,null,null,0.50000000010000001,2,{"$f":"_xll.Interp3D($B$18:$B$134,$C$18:$C$134,$D$18:$D$134,E343,F343)","v":36.999999999999993}]
[null,null,null,null,0.50000000010000001,2.1,{"$f":"_xll.Interp3D($B$18:$B$134,$C$18:$C$134,$D$18:$D$134,E344,F344)","v":36.5999999999664}]
[null,null,null,null,0.50000000010000001,2.2000000000000002,{"$f":"_xll.Interp3D($B$18:$B$134,$C$18:$C$134,$D$18:$D$134,E345,F345)","v":36.079999999915202}]
[null,null,null,null,0.50000000010000001,2.2999999999999998,{"$f":"_xll.Interp3D($B$18:$B$134,$C$18:$C$134,$D$18:$D$134,E346,F346)","v":35.559999999860793}]
[null,null,null,null,0.50000000010000001,2.4,{"$f":"_xll.Interp3D($B$18:$B$134,$C$18:$C$134,$D$18:$D$134,E347,F347)","v":35.1599999998176}]
[null,null,null,null,0.50000000010000001,2.5,{"$f":"_xll.Interp3D($B$18:$B$134,$C$18:$C$134,$D$18:$D$134,E348,F348)","v":34.999999999799996}]
[null,null,null,null,0.50000000010000001,2.6,{"$f":"_xll.Interp3D($B$18:$B$134,$C$18:$C$134,$D$18:$D$134,E349,F349)","v":35.191999999814399}]
[null,null,null,null,0.50000000010000001,2.7,{"$f":"_xll.Interp3D($B$18:$B$134,$C$18:$C$134,$D$18:$D$134,E350,F350)","v":35.655999999851204}]
[null,null,null,null,0.50000000010000001,2.8,{"$f":"_xll.Interp3D($B$18:$B$134,$C$18:$C$134,$D$18:$D$134,E351,F351)","v":36.223999999900798}]
[null,null,null,null,0.50000000010000001,2.9,{"$f":"_xll.Interp3D($B$18:$B$134,$C$18:$C$134,$D$18:$D$134,E352,F352)","v":36.727999999953603}]
[null,null,null,null,0.50000000010000001,3,{"$f":"_xll.Interp3D($B$18:$B$134,$C$18:$C$134,$D$18:$D$134,E353,F353)","v":36.999999999999993}]
[null,null,null,null,0.50000000010000001,3.1,{"$f":"_xll.Interp3D($B$18:$B$134,$C$18:$C$134,$D$18:$D$134,E354,F354)","v":36.992000000046403}]
[null,null,null,null,0.50000000010000001,3.2,{"$f":"_xll.Interp3D($B$18:$B$134,$C$18:$C$134,$D$18:$D$134,E355,F355)","v":36.816000000099201}]
[null,null,null,null,0.50000000010000001,3.3,{"$f":"_xll.Interp3D($B$18:$B$134,$C$18:$C$134,$D$18:$D$134,E356,F356)","v":36.544000000148799}]
[null,null,null,null,0.50000000010000001,3.4,{"$f":"_xll.Interp3D($B$18:$B$134,$C$18:$C$134,$D$18:$D$134,E357,F357)","v":36.248000000185606}]
[null,null,null,null,0.50000000010000001,3.5,{"$f":"_xll.Interp3D($B$18:$B$134,$C$18:$C$134,$D$18:$D$134,E358,F358)","v":36.000000000200004}]
[null,null,null,null,0.50000000010000001,3.6,{"$f":"_xll.Interp3D($B$18:$B$134,$C$18:$C$134,$D$18:$D$134,E359,F359)","v":35.784000000180797}]
[null,null,null,null,0.50000000010000001,3.7,{"$f":"_xll.Interp3D($B$18:$B$134,$C$18:$C$134,$D$18:$D$134,E360,F360)","v":35.552000000134399}]
[null,null,null,null,0.50000000010000001,3.8,{"$f":"_xll.Interp3D($B$18:$B$134,$C$18:$C$134,$D$18:$D$134,E361,F361)","v":35.328000000077601}]
[null,null,null,null,0.50000000010000001,3.9,{"$f":"_xll.Interp3D($B$18:$B$134,$C$18:$C$134,$D$18:$D$134,E362,F362)","v":35.136000000027202}]
[null,null,null,null,0.50000000010000001,4,{"$f":"_xll.Interp3D($B$18:$B$134,$C$18:$C$134,$D$18:$D$134,E363,F363)","v":35.000000000000007}]
[null,null,null,null,0.50000000010000001,4.0999999999999996,{"$f":"_xll.Interp3D($B$18:$B$134,$C$18:$C$134,$D$18:$D$134,E364,F364)","v":34.936000000007191}]
[null,null,null,null,0.50000000010000001,4.2,{"$f":"_xll.Interp3D($B$18:$B$134,$C$18:$C$134,$D$18:$D$134,E365,F365)","v":34.928000000037599}]
[null,null,null,null,0.50000000010000001,4.3,{"$f":"_xll.Interp3D($B$18:$B$134,$C$18:$C$134,$D$18:$D$134,E366,F366)","v":34.952000000074399}]
[null,null,null,null,0.50000000010000001,4.4000000000000004,{"$f":"_xll.Interp3D($B$18:$B$134,$C$18:$C$134,$D$18:$D$134,E367,F367)","v":34.984000000100806}]
[null,null,null,null,0.50000000010000001,4.5,{"$f":"_xll.Interp3D($B$18:$B$134,$C$18:$C$134,$D$18:$D$134,E368,F368)","v":35.000000000100002}]
[null,null,null,null,0.50000000010000001,4.5999999999999996,{"$f":"_xll.Interp3D($B$18:$B$134,$C$18:$C$134,$D$18:$D$134,E369,F369)","v":34.984000000059204}]
[null,null,null,null,0.50000000010000001,4.7,{"$f":"_xll.Interp3D($B$18:$B$134,$C$18:$C$134,$D$18:$D$134,E370,F370)","v":34.951999999989596}]
[null,null,null,null,0.50000000010000001,4.8,{"$f":"_xll.Interp3D($B$18:$B$134,$C$18:$C$134,$D$18:$D$134,E371,F371)","v":34.927999999910405}]
[null,null,null,null,0.50000000010000001,4.9000000000000004,{"$f":"_xll.Interp3D($B$18:$B$134,$C$18:$C$134,$D$18:$D$134,E372,F372)","v":34.935999999840789}]
[null,null,null,null,0.50000000010000001,5,{"$f":"_xll.Interp3D($B$18:$B$134,$C$18:$C$134,$D$18:$D$134,E373,F373)","v":34.999999999799996}]
[null,null,null,null,0.50000000010000001,5.0999999999999996,{"$f":"_xll.Interp3D($B$18:$B$134,$C$18:$C$134,$D$18:$D$134,E374,F374)","v":35.183999999792803}]
[null,null,null,null,0.50000000010000001,5.2,{"$f":"_xll.Interp3D($B$18:$B$134,$C$18:$C$134,$D$18:$D$134,E375,F375)","v":35.4719999998064}]
[null,null,null,null,0.50000000010000001,5.3,{"$f":"_xll.Interp3D($B$18:$B$134,$C$18:$C$134,$D$18:$D$134,E376,F376)","v":35.767999999833606}]
[null,null,null,null,0.50000000010000001,5.4,{"$f":"_xll.Interp3D($B$18:$B$134,$C$18:$C$134,$D$18:$D$134,E377,F377)","v":35.975999999867199}]
[null,null,null,null,0.50000000010000001,5.5,{"$f":"_xll.Interp3D($B$18:$B$134,$C$18:$C$134,$D$18:$D$134,E378,F378)","v":35.999999999899998}]
[null,null,null,null,0.50000000010000001,5.6,{"$f":"_xll.Interp3D($B$18:$B$134,$C$18:$C$134,$D$18:$D$134,E379,F379)","v":35.839999999932004}]
[null,null,null,null,0.50000000010000001,5.7,{"$f":"_xll.Interp3D($B$18:$B$134,$C$18:$C$134,$D$18:$D$134,E380,F380)","v":35.559999999967999}]
[null,null,null,null,0.50000000010000001,5.8,{"$f":"_xll.Interp3D($B$18:$B$134,$C$18:$C$134,$D$18:$D$134,E381,F381)","v":35.160000000007997}]
[null,null,null,null,0.50000000010000001,5.9,{"$f":"_xll.Interp3D($B$18:$B$134,$C$18:$C$134,$D$18:$D$134,E382,F382)","v":34.640000000051998}]
[null,null,null,null,0.50000000010000001,6,{"$f":"_xll.Interp3D($B$18:$B$134,$C$18:$C$134,$D$18:$D$134,E383,F383)","v":34.000000000100002}]
[null,null,null,null,0.60000000009999999,0,{"$f":"_xll.Interp3D($B$18:$B$134,$C$18:$C$134,$D$18:$D$134,E384,F384)","v":42.695999999607999}]
[null,null,null,null,0.60000000009999999,0.1,{"$f":"_xll.Interp3D($B$18:$B$134,$C$18:$C$134,$D$18:$D$134,E385,F385)","v":41.715199999810402}]
[null,null,null,null,0.60000000009999999,0.2,{"$f":"_xll.Interp3D($B$18:$B$134,$C$18:$C$134,$D$18:$D$134,E386,F386)","v":40.867199999972797}]
[null,null,null,null,0.60000000009999999,0.3,{"$f":"_xll.Interp3D($B$18:$B$134,$C$18:$C$134,$D$18:$D$134,E387,F387)","v":40.1520000000952}]
[null,null,null,null,0.60000000009999999,0.4,{"$f":"_xll.Interp3D($B$18:$B$134,$C$18:$C$134,$D$18:$D$134,E388,F388)","v":39.569600000177601}]
[null,null,null,null,0.60000000009999999,0.5,{"$f":"_xll.Interp3D($B$18:$B$134,$C$18:$C$134,$D$18:$D$134,E389,F389)","v":39.120000000220003}]
[null,null,null,null,0.60000000009999999,0.6,{"$f":"_xll.Interp3D($B$18:$B$134,$C$18:$C$134,$D$18:$D$134,E390,F390)","v":38.866944000199226}]
[null,null,null,null,0.60000000009999999,0.7,{"$f":"_xll.Interp3D($B$18:$B$134,$C$18:$C$134,$D$18:$D$134,E391,F391)","v":38.810432000115291}]
[null,null,null,null,0.60000000009999999,0.8,{"$f":"_xll.Interp3D($B$18:$B$134,$C$18:$C$134,$D$18:$D$134,E392,F392)","v":38.854848000002946}]
[null,null,null,null,0.60000000009999999,0.9,{"$f":"_xll.Interp3D($B$18:$B$134,$C$18:$C$134,$D$18:$D$134,E393,F393)","v":38.904575999896927}]
[null,null,null,null,0.60000000009999999,1,{"$f":"_xll.Interp3D($B$18:$B$134,$C$18:$C$134,$D$18:$D$134,E394,F394)","v":38.863999999832004}]
[null,null,null,null,0.60000000009999999,1.1000000000000001,{"$f":"_xll.Interp3D($B$18:$B$134,$C$18:$C$134,$D$18:$D$134,E395,F395)","v":38.724799999818075}]
[null,null,null,null,0.60000000009999999,1.2,{"$f":"_xll.Interp3D($B$18:$B$134,$C$18:$C$134,$D$18:$D$134,E396,F396)","v":38.550719999831998}]
[null,null,null,null,0.60000000009999999,1.3,{"$f":"_xll.Interp3D($B$18:$B$134,$C$18:$C$134,$D$18:$D$134,E397,F397)","v":38.354239999858876}]
[null,null,null,null,0.60000000009999999,1.4,{"$f":"_xll.Interp3D($B$18:$B$134,$C$18:$C$134,$D$18:$D$134,E398,F398)","v":38.147839999883836}]
[null,null,null,null,0.60000000009999999,1.5,{"$f":"_xll.Interp3D($B$18:$B$134,$C$18:$C$134,$D$18:$D$134,E399,F399)","v":37.943999999892}]
[null,null,null,null,{"$f":"E339+0.1","v":0.60000000009999999},{"$f":"F339","v":1.6},{"$f":"_xll.Interp3D($B$18:$B$134,$C$18:$C$134,$D$18:$D$134,E400,F400)","v":37.756031999877223}]
[null,null,null,null,0.60000000009999999,1.7,{"$f":"_xll.Interp3D($B$18:$B$134,$C$18:$C$134,$D$18:$D$134,E401,F401)","v":37.575615999849418}]
[null,null,null,null,0.60000000009999999,1.8,{"$f":"_xll.Interp3D($B$18:$B$134,$C$18:$C$134,$D$18:$D$134,E402,F402)","v":37.382783999817789}]
[null,null,null,null,0.60000000009999999,1.9,{"$f":"_xll.Interp3D($B$18:$B$134,$C$18:$C$134,$D$18:$D$134,E403,F403)","v":37.157567999791588}]
[null,null,null,null,0.60000000009999999,2,{"$f":"_xll.Interp3D($B$18:$B$134,$C$18:$C$134,$D$18:$D$134,E404,F404)","v":36.879999999780004}]
[null,null,null,null,0.60000000009999999,2.1,{"$f":"_xll.Interp3D($B$18:$B$134,$C$18:$C$134,$D$18:$D$134,E405,F405)","v":36.468671999788732}]
[null,null,null,null,0.60000000009999999,2.2000000000000002,{"$f":"_xll.Interp3D($B$18:$B$134,$C$18:$C$134,$D$18:$D$134,E406,F406)","v":35.936895999811647}]
[null,null,null,null,0.60000000009999999,2.2999999999999998,{"$f":"_xll.Interp3D($B$18:$B$134,$C$18:$C$134,$D$18:$D$134,E407,F407)","v":35.406783999840187}]
[null,null,null,null,0.60000000009999999,2.4,{"$f":"_xll.Interp3D($B$18:$B$134,$C$18:$C$134,$D$18:$D$134,E408,F408)","v":35.00044799986582}]
[null,null,null,null,0.60000000009999999,2.5,{"$f":"_xll.Interp3D($B$18:$B$134,$C$18:$C$134,$D$18:$D$134,E409,F409)","v":34.83999999988}]
[null,null,null,null,0.60000000009999999,2.6,{"$f":"_xll.Interp3D($B$18:$B$134,$C$18:$C$134,$D$18:$D$134,E410,F410)","v":35.033599999869921}]
[null,null,null,null,0.60000000009999999,2.7,{"$f":"_xll.Interp3D($B$18:$B$134,$C$18:$C$134,$D$18:$D$134,E411,F411)","v":35.499839999841278}]
[null,null,null,null,0.60000000009999999,2.8,{"$f":"_xll.Interp3D($B$18:$B$134,$C$18:$C$134,$D$18:$D$134,E412,F412)","v":36.07647999981328}]
[null,null,null,null,0.60000000009999999,2.9,{"$f":"_xll.Interp3D($B$18:$B$134,$C$18:$C$134,$D$18:$D$134,E413,F413)","v":36.601279999805122}]
[null,null,null,null,0.60000000009999999,3,{"$f":"_xll.Interp3D($B$18:$B$134,$C$18:$C$134,$D$18:$D$134,E414,F414)","v":36.911999999836006}]
[null,null,null,null,0.60000000009999999,3.1,{"$f":"_xll.Interp3D($B$18:$B$134,$C$18:$C$134,$D$18:$D$134,E415,F415)","v":36.977279999931199}]
[null,null,null,null,0.60000000009999999,3.2,{"$f":"_xll.Interp3D($B$18:$B$134,$C$18:$C$134,$D$18:$D$134,E416,F416)","v":36.905280000077923}]
[null,null,null,null,0.60000000009999999,3.3,{"$f":"_xll.Interp3D($B$18:$B$134,$C$18:$C$134,$D$18:$D$134,E417,F417)","v":36.743040000238238}]
[null,null,null,null,0.60000000009999999,3.4,{"$f":"_xll.Interp3D($B$18:$B$134,$C$18:$C$134,$D$18:$D$134,E418,F418)","v":36.53760000037424}]
[null,null,null,null,0.60000000009999999,3.5,{"$f":"_xll.Interp3D($B$18:$B$134,$C$18:$C$134,$D$18:$D$134,E419,F419)","v":36.336000000447996}]
[null,null,null,null,0.60000000009999999,3.6,{"$f":"_xll.Interp3D($B$18:$B$134,$C$18:$C$134,$D$18:$D$134,E420,F420)","v":36.105216000437885}]
[null,null,null,null,0.60000000009999999,3.7,{"$f":"_xll.Interp3D($B$18:$B$134,$C$18:$C$134,$D$18:$D$134,E421,F421)","v":35.81388800036919}]
[null,null,null,null,0.60000000009999999,3.8,{"$f":"_xll.Interp3D($B$18:$B$134,$C$18:$C$134,$D$18:$D$134,E422,F422)","v":35.511552000274335}]
[null,null,null,null,0.60000000009999999,3.9,{"$f":"_xll.Interp3D($B$18:$B$134,$C$18:$C$134,$D$18:$D$134,E423,F423)","v":35.24774400018579}]
[null,null,null,null,0.60000000009999999,4,{"$f":"_xll.Interp3D($B$18:$B$134,$C$18:$C$134,$D$18:$D$134,E424,F424)","v":35.072000000136001}]
[null,null,null,null,0.60000000009999999,4.0999999999999996,{"$f":"_xll.Interp3D($B$18:$B$134,$C$18:$C$134,$D$18:$D$134,E425,F425)","v":35.013120000138713}]
[null,null,null,null,0.60000000009999999,4.2,{"$f":"_xll.Interp3D($B$18:$B$134,$C$18:$C$134,$D$18:$D$134,E426,F426)","v":35.038080000172322}]
[null,null,null,null,0.60000000009999999,4.3,{"$f":"_xll.Interp3D($B$18:$B$134,$C$18:$C$134,$D$18:$D$134,E427,F427)","v":35.103680000216158}]
[null,null,null,null,0.60000000009999999,4.4000000000000004,{"$f":"_xll.Interp3D($B$18:$B$134,$C$18:$C$134,$D$18:$D$134,E428,F428)","v":35.166720000249597}]
[null,null,null,null,0.60000000009999999,4.5,{"$f":"_xll.Interp3D($B$18:$B$134,$C$18:$C$134,$D$18:$D$134,E429,F429)","v":35.184000000251999}]
[null,null,null,null,0.60000000009999999,4.5999999999999996,{"$f":"_xll.Interp3D($B$18:$B$134,$C$18:$C$134,$D$18:$D$134,E430,F430)","v":35.129536000216127}]
[null,null,null,null,0.60000000009999999,4.7,{"$f":"_xll.Interp3D($B$18:$B$134,$C$18:$C$134,$D$18:$D$134,E431,F431)","v":35.032128000155737}]
[null,null,null,null,0.60000000009999999,4.8,{"$f":"_xll.Interp3D($B$18:$B$134,$C$18:$C$134,$D$18:$D$134,E432,F432)","v":34.930752000081704}]
[null,null,null,null,0.60000000009999999,4.9000000000000004,{"$f":"_xll.Interp3D($B$18:$B$134,$C$18:$C$134,$D$18:$D$134,E433,F433)","v":34.864384000004826}]
[null,null,null,null,0.60000000009999999,5,{"$f":"_xll.Interp3D($B$18:$B$134,$C$18:$C$134,$D$18:$D$134,E434,F434)","v":34.871999999936001}]
[null,null,null,null,0.60000000009999999,5.0999999999999996,{"$f":"_xll.Interp3D($B$18:$B$134,$C$18:$C$134,$D$18:$D$134,E435,F435)","v":35.012735999861889}]
[null,null,null,null,0.60000000009999999,5.2,{"$f":"_xll.Interp3D($B$18:$B$134,$C$18:$C$134,$D$18:$D$134,E436,F436)","v":35.260607999775267}]
[null,null,null,null,0.60000000009999999,5.3,{"$f":"_xll.Interp3D($B$18:$B$134,$C$18:$C$134,$D$18:$D$134,E437,F437)","v":35.526911999696097}]
[null,null,null,null,0.60000000009999999,5.4,{"$f":"_xll.Interp3D($B$18:$B$134,$C$18:$C$134,$D$18:$D$134,E438,F438)","v":35.72294399964435}]
[null,null,null,null,0.60000000009999999,5.5,{"$f":"_xll.Interp3D($B$18:$B$134,$C$18:$C$134,$D$18:$D$134,E439,F439)","v":35.759999999639994}]
[null,null,null,null,0.60000000009999999,5.6,{"$f":"_xll.Interp3D($B$18:$B$134,$C$18:$C$134,$D$18:$D$134,E440,F440)","v":35.638079999683043}]
[null,null,null,null,0.60000000009999999,5.7,{"$f":"_xll.Interp3D($B$18:$B$134,$C$18:$C$134,$D$18:$D$134,E441,F441)","v":35.416319999760162}]
[null,null,null,null,0.60000000009999999,5.8,{"$f":"_xll.Interp3D($B$18:$B$134,$C$18:$C$134,$D$18:$D$134,E442,F442)","v":35.094719999871359}]
[null,null,null,null,0.60000000009999999,5.9,{"$f":"_xll.Interp3D($B$18:$B$134,$C$18:$C$134,$D$18:$D$134,E443,F443)","v":34.673280000016646}]
[null,null,null,null,0.60000000009999999,6,{"$f":"_xll.Interp3D($B$18:$B$134,$C$18:$C$134,$D$18:$D$134,E444,F444)","v":34.152000000195997}]
[null,null,null,null,0.70000000009999996,0,{"$f":"_xll.Interp3D($B$18:$B$134,$C$18:$C$134,$D$18:$D$134,E445,F445)","v":42.247999999512004}]
[null,null,null,null,0.70000000009999996,0.1,{"$f":"_xll.Interp3D($B$18:$B$134,$C$18:$C$134,$D$18:$D$134,E446,F446)","v":41.508799999780805}]
[null,null,null,null,0.70000000009999996,0.2,{"$f":"_xll.Interp3D($B$18:$B$134,$C$18:$C$134,$D$18:$D$134,E447,F447)","v":40.854399999996005}]
[null,null,null,null,0.70000000009999996,0.3,{"$f":"_xll.Interp3D($B$18:$B$134,$C$18:$C$134,$D$18:$D$134,E448,F448)","v":40.284800000157588}]
[null,null,null,null,0.70000000009999996,0.4,{"$f":"_xll.Interp3D($B$18:$B$134,$C$18:$C$134,$D$18:$D$134,E449,F449)","v":39.800000000265605}]
[null,null,null,null,0.70000000009999996,0.5,{"$f":"_xll.Interp3D($B$18:$B$134,$C$18:$C$134,$D$18:$D$134,E450,F450)","v":39.400000000319999}]
[null,null,null,null,0.70000000009999996,0.6,{"$f":"_xll.Interp3D($B$18:$B$134,$C$18:$C$134,$D$18:$D$134,E451,F451)","v":39.121152000290522}]
[null,null,null,null,0.70000000009999996,0.7,{"$f":"_xll.Interp3D($B$18:$B$134,$C$18:$C$134,$D$18:$D$134,E452,F452)","v":38.963456000177189}]
[null,null,null,null,0.70000000009999996,0.8,{"$f":"_xll.Interp3D($B$18:$B$134,$C$18:$C$134,$D$18:$D$134,E453,F453)","v":38.87238400002537}]
[null,null,null,null,0.70000000009999996,0.9,{"$f":"_xll.Interp3D($B$18:$B$134,$C$18:$C$134,$D$18:$D$134,E454,F454)","v":38.793407999880515}]
[null,null,null,null,0.70000000009999996,1,{"$f":"_xll.Interp3D($B$18:$B$134,$C$18:$C$134,$D$18:$D$134,E455,F455)","v":38.671999999788}]
[null,null,null,null,0.70000000009999996,1.1000000000000001,{"$f":"_xll.Interp3D($B$18:$B$134,$C$18:$C$134,$D$18:$D$134,E456,F456)","v":38.51071999975904}]
[null,null,null,null,0.70000000009999996,1.2,{"$f":"_xll.Interp3D($B$18:$B$134,$C$18:$C$134,$D$18:$D$134,E457,F457)","v":38.34591999976336}]
[null,null,null,null,0.70000000009999996,1.3,{"$f":"_xll.Interp3D($B$18:$B$134,$C$18:$C$134,$D$18:$D$134,E458,F458)","v":38.17375999978416}]
[null,null,null,null,0.70000000009999996,1.4,{"$f":"_xll.Interp3D($B$18:$B$134,$C$18:$C$134,$D$18:$D$134,E459,F459)","v":37.990399999804637}]
[null,null,null,null,0.70000000009999996,1.5,{"$f":"_xll.Interp3D($B$18:$B$134,$C$18:$C$134,$D$18:$D$134,E460,F460)","v":37.791999999807999}]
[null,null,null,null,0.70000000009999996,1.6,{"$f":"_xll.Interp3D($B$18:$B$134,$C$18:$C$134,$D$18:$D$134,E461,F461)","v":37.583935999785353}]
[null,null,null,null,0.70000000009999996,1.7,{"$f":"_xll.Interp3D($B$18:$B$134,$C$18:$C$134,$D$18:$D$134,E462,F462)","v":37.368767999747874}]
[null,null,null,null,0.70000000009999996,1.8,{"$f":"_xll.Interp3D($B$18:$B$134,$C$18:$C$134,$D$18:$D$134,E463,F463)","v":37.138431999708921}]
[null,null,null,null,{"$f":"E403+0.1","v":0.70000000009999996},{"$f":"F403","v":1.9},{"$f":"_xll.Interp3D($B$18:$B$134,$C$18:$C$134,$D$18:$D$134,E464,F464)","v":36.884863999681855}]
[null,null,null,null,0.70000000009999996,2,{"$f":"_xll.Interp3D($B$18:$B$134,$C$18:$C$134,$D$18:$D$134,E465,F465)","v":36.599999999680001}]
[null,null,null,null,0.70000000009999996,2.1,{"$f":"_xll.Interp3D($B$18:$B$134,$C$18:$C$134,$D$18:$D$134,E466,F466)","v":36.213055999717824}]
[null,null,null,null,0.70000000009999996,2.2000000000000002,{"$f":"_xll.Interp3D($B$18:$B$134,$C$18:$C$134,$D$18:$D$134,E467,F467)","v":35.729407999786432}]
[null,null,null,null,0.70000000009999996,2.2999999999999998,{"$f":"_xll.Interp3D($B$18:$B$134,$C$18:$C$134,$D$18:$D$134,E468,F468)","v":35.255231999864129}]
[null,null,null,null,0.70000000009999996,2.4,{"$f":"_xll.Interp3D($B$18:$B$134,$C$18:$C$134,$D$18:$D$134,E469,F469)","v":34.896703999929215}]
[null,null,null,null,0.70000000009999996,2.5,{"$f":"_xll.Interp3D($B$18:$B$134,$C$18:$C$134,$D$18:$D$134,E470,F470)","v":34.759999999960002}]
[null,null,null,null,0.70000000009999996,2.6,{"$f":"_xll.Interp3D($B$18:$B$134,$C$18:$C$134,$D$18:$D$134,E471,F471)","v":34.934079999932159}]
[null,null,null,null,0.70000000009999996,2.7,{"$f":"_xll.Interp3D($B$18:$B$134,$C$18:$C$134,$D$18:$D$134,E472,F472)","v":35.348159999860158}]
[null,null,null,null,0.70000000009999996,2.8,{"$f":"_xll.Interp3D($B$18:$B$134,$C$18:$C$134,$D$18:$D$134,E473,F473)","v":35.868799999780478}]
[null,null,null,null,0.70000000009999996,2.9,{"$f":"_xll.Interp3D($B$18:$B$134,$C$18:$C$134,$D$18:$D$134,E474,F474)","v":36.362559999729605}]
[null,null,null,null,0.70000000009999996,3,{"$f":"_xll.Interp3D($B$18:$B$134,$C$18:$C$134,$D$18:$D$134,E475,F475)","v":36.695999999744004}]
[null,null,null,null,0.70000000009999996,3.1,{"$f":"_xll.Interp3D($B$18:$B$134,$C$18:$C$134,$D$18:$D$134,E476,F476)","v":36.868479999858238}]
[null,null,null,null,0.70000000009999996,3.2,{"$f":"_xll.Interp3D($B$18:$B$134,$C$18:$C$134,$D$18:$D$134,E477,F477)","v":36.968960000048}]
[null,null,null,null,0.70000000009999996,3.3,{"$f":"_xll.Interp3D($B$18:$B$134,$C$18:$C$134,$D$18:$D$134,E478,F478)","v":36.998400000261441}]
[null,null,null,null,0.70000000009999996,3.4,{"$f":"_xll.Interp3D($B$18:$B$134,$C$18:$C$134,$D$18:$D$134,E479,F479)","v":36.957760000446726}]
[null,null,null,null,0.70000000009999996,3.5,{"$f":"_xll.Interp3D($B$18:$B$134,$C$18:$C$134,$D$18:$D$134,E480,F480)","v":36.848000000551998}]
[null,null,null,null,0.70000000009999996,3.6,{"$f":"_xll.Interp3D($B$18:$B$134,$C$18:$C$134,$D$18:$D$134,E481,F481)","v":36.61228800055251}]
[null,null,null,null,0.70000000009999996,3.7,{"$f":"_xll.Interp3D($B$18:$B$134,$C$18:$C$134,$D$18:$D$134,E482,F482)","v":36.249984000482819}]
[null,null,null,null,0.70000000009999996,3.8,{"$f":"_xll.Interp3D($B$18:$B$134,$C$18:$C$134,$D$18:$D$134,E483,F483)","v":35.84633600038007}]
[null,null,null,null,0.70000000009999996,3.9,{"$f":"_xll.Interp3D($B$18:$B$134,$C$18:$C$134,$D$18:$D$134,E484,F484)","v":35.486592000281405}]
[null,null,null,null,0.70000000009999996,4,{"$f":"_xll.Interp3D($B$18:$B$134,$C$18:$C$134,$D$18:$D$134,E485,F485)","v":35.256000000224006}]
[null,null,null,null,0.70000000009999996,4.0999999999999996,{"$f":"_xll.Interp3D($B$18:$B$134,$C$18:$C$134,$D$18:$D$134,E486,F486)","v":35.196800000220321}]
[null,null,null,null,0.70000000009999996,4.2,{"$f":"_xll.Interp3D($B$18:$B$134,$C$18:$C$134,$D$18:$D$134,E487,F487)","v":35.25216000024561}]
[null,null,null,null,0.70000000009999996,4.3,{"$f":"_xll.Interp3D($B$18:$B$134,$C$18:$C$134,$D$18:$D$134,E488,F488)","v":35.358720000281117}]
[null,null,null,null,0.70000000009999996,4.4000000000000004,{"$f":"_xll.Interp3D($B$18:$B$134,$C$18:$C$134,$D$18:$D$134,E489,F489)","v":35.453120000308161}]
[null,null,null,null,0.70000000009999996,4.5,{"$f":"_xll.Interp3D($B$18:$B$134,$C$18:$C$134,$D$18:$D$134,E490,F490)","v":35.472000000308}]
[null,null,null,null,0.70000000009999996,4.5999999999999996,{"$f":"_xll.Interp3D($B$18:$B$134,$C$18:$C$134,$D$18:$D$134,E491,F491)","v":35.384768000278591}]
[null,null,null,null,0.70000000009999996,4.7,{"$f":"_xll.Interp3D($B$18:$B$134,$C$18:$C$134,$D$18:$D$134,E492,F492)","v":35.233664000232416}]
[null,null,null,null,0.70000000009999996,4.8,{"$f":"_xll.Interp3D($B$18:$B$134,$C$18:$C$134,$D$18:$D$134,E493,F493)","v":35.064576000172551}]
[null,null,null,null,0.70000000009999996,4.9000000000000004,{"$f":"_xll.Interp3D($B$18:$B$134,$C$18:$C$134,$D$18:$D$134,E494,F494)","v":34.923392000102041}]
[null,null,null,null,0.70000000009999996,5,{"$f":"_xll.Interp3D($B$18:$B$134,$C$18:$C$134,$D$18:$D$134,E495,F495)","v":34.856000000023997}]
[null,null,null,null,0.70000000009999996,5.0999999999999996,{"$f":"_xll.Interp3D($B$18:$B$134,$C$18:$C$134,$D$18:$D$134,E496,F496)","v":34.902207999914268}]
[null,null,null,null,0.70000000009999996,5.2,{"$f":"_xll.Interp3D($B$18:$B$134,$C$18:$C$134,$D$18:$D$134,E497,F497)","v":35.031423999770816}]
[null,null,null,null,0.70000000009999996,5.3,{"$f":"_xll.Interp3D($B$18:$B$134,$C$18:$C$134,$D$18:$D$134,E498,F498)","v":35.183935999629824}]
[null,null,null,null,0.70000000009999996,5.4,{"$f":"_xll.Interp3D($B$18:$B$134,$C$18:$C$134,$D$18:$D$134,E499,F499)","v":35.300031999527491}]
[null,null,null,null,0.70000000009999996,5.5,{"$f":"_xll.Interp3D($B$18:$B$134,$C$18:$C$134,$D$18:$D$134,E500,F500)","v":35.319999999499998}]
[null,null,null,null,0.70000000009999996,5.6,{"$f":"_xll.Interp3D($B$18:$B$134,$C$18:$C$134,$D$18:$D$134,E501,F501)","v":35.243839999547362}]
[null,null,null,null,0.70000000009999996,5.7,{"$f":"_xll.Interp3D($B$18:$B$134,$C$18:$C$134,$D$18:$D$134,E502,F502)","v":35.111359999645444}]
[null,null,null,null,0.70000000009999996,5.8,{"$f":"_xll.Interp3D($B$18:$B$134,$C$18:$C$134,$D$18:$D$134,E503,F503)","v":34.922559999794238}]
[null,null,null,null,0.70000000009999996,5.9,{"$f":"_xll.Interp3D($B$18:$B$134,$C$18:$C$134,$D$18:$D$134,E504,F504)","v":34.677439999993759}]
[null,null,null,null,0.70000000009999996,6,{"$f":"_xll.Interp3D($B$18:$B$134,$C$18:$C$134,$D$18:$D$134,E505,F505)","v":34.376000000244005}]
[null,null,null,null,0.80000000009999994,0,{"$f":"_xll.Interp3D($B$18:$B$134,$C$18:$C$134,$D$18:$D$134,E506,F506)","v":41.751999999511995}]
[null,null,null,null,0.80000000009999994,0.1,{"$f":"_xll.Interp3D($B$18:$B$134,$C$18:$C$134,$D$18:$D$134,E507,F507)","v":41.284799999775196}]
[null,null,null,null,0.80000000009999994,0.2,{"$f":"_xll.Interp3D($B$18:$B$134,$C$18:$C$134,$D$18:$D$134,E508,F508)","v":40.847999999985596}]
[null,null,null,null,0.80000000009999994,0.3,{"$f":"_xll.Interp3D($B$18:$B$134,$C$18:$C$134,$D$18:$D$134,E509,F509)","v":40.441600000143197}]
[null,null,null,null,0.80000000009999994,0.4,{"$f":"_xll.Interp3D($B$18:$B$134,$C$18:$C$134,$D$18:$D$134,E510,F510)","v":40.065600000247997}]
[null,null,null,null,0.80000000009999994,0.5,{"$f":"_xll.Interp3D($B$18:$B$134,$C$18:$C$134,$D$18:$D$134,E511,F511)","v":39.720000000300004}]
[null,null,null,null,0.80000000009999994,0.6,{"$f":"_xll.Interp3D($B$18:$B$134,$C$18:$C$134,$D$18:$D$134,E512,F512)","v":39.410688000269886}]
[null,null,null,null,0.80000000009999994,0.7,{"$f":"_xll.Interp3D($B$18:$B$134,$C$18:$C$134,$D$18:$D$134,E513,F513)","v":39.137664000157663}]
[null,null,null,null,0.80000000009999994,0.8,{"$f":"_xll.Interp3D($B$18:$B$134,$C$18:$C$134,$D$18:$D$134,E514,F514)","v":38.892096000007292}]
[null,null,null,null,0.80000000009999994,0.9,{"$f":"_xll.Interp3D($B$18:$B$134,$C$18:$C$134,$D$18:$D$134,E515,F515)","v":38.665151999862751}]
[null,null,null,null,0.80000000009999994,1,{"$f":"_xll.Interp3D($B$18:$B$134,$C$18:$C$134,$D$18:$D$134,E516,F516)","v":38.447999999768001}]
[null,null,null,null,0.80000000009999994,1.1000000000000001,{"$f":"_xll.Interp3D($B$18:$B$134,$C$18:$C$134,$D$18:$D$134,E517,F517)","v":38.253439999731683}]
[null,null,null,null,0.80000000009999994,1.2,{"$f":"_xll.Interp3D($B$18:$B$134,$C$18:$C$134,$D$18:$D$134,E518,F518)","v":38.087359999724484}]
[null,null,null,null,0.80000000009999994,1.3,{"$f":"_xll.Interp3D($B$18:$B$134,$C$18:$C$134,$D$18:$D$134,E519,F519)","v":37.930559999733433}]
[null,null,null,null,0.80000000009999994,1.4,{"$f":"_xll.Interp3D($B$18:$B$134,$C$18:$C$134,$D$18:$D$134,E520,F520)","v":37.763839999745599}]
[null,null,null,null,0.80000000009999994,1.5,{"$f":"_xll.Interp3D($B$18:$B$134,$C$18:$C$134,$D$18:$D$134,E521,F521)","v":37.567999999747997}]
[null,null,null,null,0.80000000009999994,1.6,{"$f":"_xll.Interp3D($B$18:$B$134,$C$18:$C$134,$D$18:$D$134,E522,F522)","v":37.340223999733986}]
[null,null,null,null,0.80000000009999994,1.7,{"$f":"_xll.Interp3D($B$18:$B$134,$C$18:$C$134,$D$18:$D$134,E523,F523)","v":37.093311999712192}]
[null,null,null,null,0.80000000009999994,1.8,{"$f":"_xll.Interp3D($B$18:$B$134,$C$18:$C$134,$D$18:$D$134,E524,F524)","v":36.831487999692605}]
[null,null,null,null,0.80000000009999994,1.9,{"$f":"_xll.Interp3D($B$18:$B$134,$C$18:$C$134,$D$18:$D$134,E525,F525)","v":36.558975999685217}]
[null,null,null,null,0.80000000009999994,2,{"$f":"_xll.Interp3D($B$18:$B$134,$C$18:$C$134,$D$18:$D$134,E526,F526)","v":36.279999999700003}]
[null,null,null,null,0.80000000009999994,2.1,{"$f":"_xll.Interp3D($B$18:$B$134,$C$18:$C$134,$D$18:$D$134,E527,F527)","v":35.93990399975366}]
[null,null,null,null,{"$f":"E467+0.1","v":0.80000000009999994},{"$f":"F467","v":2.2000000000000002},{"$f":"_xll.Interp3D($B$18:$B$134,$C$18:$C$134,$D$18:$D$134,E528,F528)","v":35.535871999839557}]
[null,null,null,null,0.80000000009999994,2.2999999999999998,{"$f":"_xll.Interp3D($B$18:$B$134,$C$18:$C$134,$D$18:$D$134,E529,F529)","v":35.149887999932602}]
[null,null,null,null,0.80000000009999994,2.4,{"$f":"_xll.Interp3D($B$18:$B$134,$C$18:$C$134,$D$18:$D$134,E530,F530)","v":34.863936000007776}]
[null,null,null,null,0.80000000009999994,2.5,{"$f":"_xll.Interp3D($B$18:$B$134,$C$18:$C$134,$D$18:$D$134,E531,F531)","v":34.760000000040002}]
[null,null,null,null,0.80000000009999994,2.6,{"$f":"_xll.Interp3D($B$18:$B$134,$C$18:$C$134,$D$18:$D$134,E532,F532)","v":34.900160000001122}]
[null,null,null,null,0.80000000009999994,2.7,{"$f":"_xll.Interp3D($B$18:$B$134,$C$18:$C$134,$D$18:$D$134,E533,F533)","v":35.229759999907841}]
[null,null,null,null,0.80000000009999994,2.8,{"$f":"_xll.Interp3D($B$18:$B$134,$C$18:$C$134,$D$18:$D$134,E534,F534)","v":35.655679999802402}]
[null,null,null,null,0.80000000009999994,2.9,{"$f":"_xll.Interp3D($B$18:$B$134,$C$18:$C$134,$D$18:$D$134,E535,F535)","v":36.084799999727039}]
[null,null,null,null,0.80000000009999994,3,{"$f":"_xll.Interp3D($B$18:$B$134,$C$18:$C$134,$D$18:$D$134,E536,F536)","v":36.423999999724003}]
[null,null,null,null,0.80000000009999994,3.1,{"$f":"_xll.Interp3D($B$18:$B$134,$C$18:$C$134,$D$18:$D$134,E537,F537)","v":36.707839999827513}]
[null,null,null,null,0.80000000009999994,3.2,{"$f":"_xll.Interp3D($B$18:$B$134,$C$18:$C$134,$D$18:$D$134,E538,F538)","v":36.99840000000944}]
[null,null,null,null,0.80000000009999994,3.3,{"$f":"_xll.Interp3D($B$18:$B$134,$C$18:$C$134,$D$18:$D$134,E539,F539)","v":37.243840000218398}]
[null,null,null,null,0.80000000009999994,3.4,{"$f":"_xll.Interp3D($B$18:$B$134,$C$18:$C$134,$D$18:$D$134,E540,F540)","v":37.392320000403046}]
[null,null,null,null,0.80000000009999994,3.5,{"$f":"_xll.Interp3D($B$18:$B$134,$C$18:$C$134,$D$18:$D$134,E541,F541)","v":37.392000000511999}]
[null,null,null,null,0.80000000009999994,3.6,{"$f":"_xll.Interp3D($B$18:$B$134,$C$18:$C$134,$D$18:$D$134,E542,F542)","v":37.162752000524662}]
[null,null,null,null,0.80000000009999994,3.7,{"$f":"_xll.Interp3D($B$18:$B$134,$C$18:$C$134,$D$18:$D$134,E543,F543)","v":36.739136000475291}]
[null,null,null,null,0.80000000009999994,3.8,{"$f":"_xll.Interp3D($B$18:$B$134,$C$18:$C$134,$D$18:$D$134,E544,F544)","v":36.241344000394783}]
[null,null,null,null,0.80000000009999994,3.9,{"$f":"_xll.Interp3D($B$18:$B$134,$C$18:$C$134,$D$18:$D$134,E545,F545)","v":35.789568000314048}]
[null,null,null,null,0.80000000009999994,4,{"$f":"_xll.Interp3D($B$18:$B$134,$C$18:$C$134,$D$18:$D$134,E546,F546)","v":35.504000000264}]
[null,null,null,null,0.80000000009999994,4.0999999999999996,{"$f":"_xll.Interp3D($B$18:$B$134,$C$18:$C$134,$D$18:$D$134,E547,F547)","v":35.437120000252001}]
[null,null,null,null,0.80000000009999994,4.2,{"$f":"_xll.Interp3D($B$18:$B$134,$C$18:$C$134,$D$18:$D$134,E548,F548)","v":35.508800000257438}]
[null,null,null,null,0.80000000009999994,4.3,{"$f":"_xll.Interp3D($B$18:$B$134,$C$18:$C$134,$D$18:$D$134,E549,F549)","v":35.640320000269284}]
[null,null,null,null,0.80000000009999994,4.4000000000000004,{"$f":"_xll.Interp3D($B$18:$B$134,$C$18:$C$134,$D$18:$D$134,E550,F550)","v":35.752960000276488}]
[null,null,null,null,0.80000000009999994,4.5,{"$f":"_xll.Interp3D($B$18:$B$134,$C$18:$C$134,$D$18:$D$134,E551,F551)","v":35.768000000267996}]
[null,null,null,null,0.80000000009999994,4.5999999999999996,{"$f":"_xll.Interp3D($B$18:$B$134,$C$18:$C$134,$D$18:$D$134,E552,F552)","v":35.655232000246592}]
[null,null,null,null,0.80000000009999994,4.7,{"$f":"_xll.Interp3D($B$18:$B$134,$C$18:$C$134,$D$18:$D$134,E553,F553)","v":35.467136000219618}]
[null,null,null,null,0.80000000009999994,4.8,{"$f":"_xll.Interp3D($B$18:$B$134,$C$18:$C$134,$D$18:$D$134,E554,F554)","v":35.249024000182949}]
[null,null,null,null,0.80000000009999994,4.9000000000000004,{"$f":"_xll.Interp3D($B$18:$B$134,$C$18:$C$134,$D$18:$D$134,E555,F555)","v":35.046208000132445}]
[null,null,null,null,0.80000000009999994,5,{"$f":"_xll.Interp3D($B$18:$B$134,$C$18:$C$134,$D$18:$D$134,E556,F556)","v":34.904000000064002}]
[null,null,null,null,0.80000000009999994,5.0999999999999996,{"$f":"_xll.Interp3D($B$18:$B$134,$C$18:$C$134,$D$18:$D$134,E557,F557)","v":34.83571199994995}]
[null,null,null,null,0.80000000009999994,5.2,{"$f":"_xll.Interp3D($B$18:$B$134,$C$18:$C$134,$D$18:$D$134,E558,F558)","v":34.811135999793052}]
[null,null,null,null,0.80000000009999994,5.3,{"$f":"_xll.Interp3D($B$18:$B$134,$C$18:$C$134,$D$18:$D$134,E559,F559)","v":34.810303999634783}]
[null,null,null,null,0.80000000009999994,5.4,{"$f":"_xll.Interp3D($B$18:$B$134,$C$18:$C$134,$D$18:$D$134,E560,F560)","v":34.813247999516605}]
[null,null,null,null,0.80000000009999994,5.5,{"$f":"_xll.Interp3D($B$18:$B$134,$C$18:$C$134,$D$18:$D$134,E561,F561)","v":34.799999999480001}]
[null,null,null,null,0.80000000009999994,5.6,{"$f":"_xll.Interp3D($B$18:$B$134,$C$18:$C$134,$D$18:$D$134,E562,F562)","v":34.770559999524963}]
[null,null,null,null,0.80000000009999994,5.7,{"$f":"_xll.Interp3D($B$18:$B$134,$C$18:$C$134,$D$18:$D$134,E563,F563)","v":34.738239999623843}]
[null,null,null,null,0.80000000009999994,5.8,{"$f":"_xll.Interp3D($B$18:$B$134,$C$18:$C$134,$D$18:$D$134,E564,F564)","v":34.703039999776635}]
[null,null,null,null,0.80000000009999994,5.9,{"$f":"_xll.Interp3D($B$18:$B$134,$C$18:$C$134,$D$18:$D$134,E565,F565)","v":34.66495999998336}]
[null,null,null,null,0.80000000009999994,6,{"$f":"_xll.Interp3D($B$18:$B$134,$C$18:$C$134,$D$18:$D$134,E566,F566)","v":34.624000000243996}]
[null,null,null,null,0.90000000009999992,0,{"$f":"_xll.Interp3D($B$18:$B$134,$C$18:$C$134,$D$18:$D$134,E567,F567)","v":41.303999999607996}]
[null,null,null,null,0.90000000009999992,0.1,{"$f":"_xll.Interp3D($B$18:$B$134,$C$18:$C$134,$D$18:$D$134,E568,F568)","v":41.067199999793587}]
[null,null,null,null,0.90000000009999992,0.2,{"$f":"_xll.Interp3D($B$18:$B$134,$C$18:$C$134,$D$18:$D$134,E569,F569)","v":40.814399999941593}]
[null,null,null,null,0.90000000009999992,0.3,{"$f":"_xll.Interp3D($B$18:$B$134,$C$18:$C$134,$D$18:$D$134,E570,F570)","v":40.545600000052005}]
[null,null,null,null,0.90000000009999992,0.4,{"$f":"_xll.Interp3D($B$18:$B$134,$C$18:$C$134,$D$18:$D$134,E571,F571)","v":40.260800000124803}]
[null,null,null,null,0.90000000009999992,0.5,{"$f":"_xll.Interp3D($B$18:$B$134,$C$18:$C$134,$D$18:$D$134,E572,F572)","v":39.960000000160001}]
[null,null,null,null,0.90000000009999992,0.6,{"$f":"_xll.Interp3D($B$18:$B$134,$C$18:$C$134,$D$18:$D$134,E573,F573)","v":39.623616000137311}]
[null,null,null,null,0.90000000009999992,0.7,{"$f":"_xll.Interp3D($B$18:$B$134,$C$18:$C$134,$D$18:$D$134,E574,F574)","v":39.251648000056747}]
[null,null,null,null,0.90000000009999992,0.8,{"$f":"_xll.Interp3D($B$18:$B$134,$C$18:$C$134,$D$18:$D$134,E575,F575)","v":38.873471999948698}]
[null,null,null,null,0.90000000009999992,0.9,{"$f":"_xll.Interp3D($B$18:$B$134,$C$18:$C$134,$D$18:$D$134,E576,F576)","v":38.518463999843654}]
[null,null,null,null,0.90000000009999992,1,{"$f":"_xll.Interp3D($B$18:$B$134,$C$18:$C$134,$D$18:$D$134,E577,F577)","v":38.215999999771995}]
[null,null,null,null,0.90000000009999992,1.1000000000000001,{"$f":"_xll.Interp3D($B$18:$B$134,$C$18:$C$134,$D$18:$D$134,E578,F578)","v":37.984639999736004}]
[null,null,null,null,0.90000000009999992,1.2,{"$f":"_xll.Interp3D($B$18:$B$134,$C$18:$C$134,$D$18:$D$134,E579,F579)","v":37.804799999715364}]
[null,null,null,null,0.90000000009999992,1.3,{"$f":"_xll.Interp3D($B$18:$B$134,$C$18:$C$134,$D$18:$D$134,E580,F580)","v":37.648639999706717}]
[null,null,null,null,0.90000000009999992,1.4,{"$f":"_xll.Interp3D($B$18:$B$134,$C$18:$C$134,$D$18:$D$134,E581,F581)","v":37.488319999706718}]
[null,null,null,null,0.90000000009999992,1.5,{"$f":"_xll.Interp3D($B$18:$B$134,$C$18:$C$134,$D$18:$D$134,E582,F582)","v":37.295999999711995}]
[null,null,null,null,0.90000000009999992,1.6,{"$f":"_xll.Interp3D($B$18:$B$134,$C$18:$C$134,$D$18:$D$134,E583,F583)","v":37.065407999723135}]
[null,null,null,null,0.90000000009999992,1.7,{"$f":"_xll.Interp3D($B$18:$B$134,$C$18:$C$134,$D$18:$D$134,E584,F584)","v":36.815103999742362}]
[null,null,null,null,0.90000000009999992,1.8,{"$f":"_xll.Interp3D($B$18:$B$134,$C$18:$C$134,$D$18:$D$134,E585,F585)","v":36.554495999768825}]
[null,null,null,null,0.90000000009999992,1.9,{"$f":"_xll.Interp3D($B$18:$B$134,$C$18:$C$134,$D$18:$D$134,E586,F586)","v":36.292991999801671}]
[null,null,null,null,0.90000000009999992,2,{"$f":"_xll.Interp3D($B$18:$B$134,$C$18:$C$134,$D$18:$D$134,E587,F587)","v":36.039999999839999}]
[null,null,null,null,0.90000000009999992,2.1,{"$f":"_xll.Interp3D($B$18:$B$134,$C$18:$C$134,$D$18:$D$134,E588,F588)","v":35.755967999896249}]
[null,null,null,null,0.90000000009999992,2.2000000000000002,{"$f":"_xll.Interp3D($B$18:$B$134,$C$18:$C$134,$D$18:$D$134,E589,F589)","v":35.434623999971009}]
[null,null,null,null,0.90000000009999992,2.2999999999999998,{"$f":"_xll.Interp3D($B$18:$B$134,$C$18:$C$134,$D$18:$D$134,E590,F590)","v":35.135296000045628}]
[null,null,null,null,0.90000000009999992,2.4,{"$f":"_xll.Interp3D($B$18:$B$134,$C$18:$C$134,$D$18:$D$134,E591,F591)","v":34.917312000101504}]
[null,null,null,null,{"$f":"E531+0.1","v":0.90000000009999992},{"$f":"F531","v":2.5},{"$f":"_xll.Interp3D($B$18:$B$134,$C$18:$C$134,$D$18:$D$134,E592,F592)","v":34.84000000012}]
[null,null,null,null,0.90000000009999992,2.6,{"$f":"_xll.Interp3D($B$18:$B$134,$C$18:$C$134,$D$18:$D$134,E593,F593)","v":34.938560000076791}]
[null,null,null,null,0.90000000009999992,2.7,{"$f":"_xll.Interp3D($B$18:$B$134,$C$18:$C$134,$D$18:$D$134,E594,F594)","v":35.173439999984318}]
[null,null,null,null,0.90000000009999992,2.8,{"$f":"_xll.Interp3D($B$18:$B$134,$C$18:$C$134,$D$18:$D$134,E595,F595)","v":35.491839999879048}]
[null,null,null,null,0.90000000009999992,2.9,{"$f":"_xll.Interp3D($B$18:$B$134,$C$18:$C$134,$D$18:$D$134,E596,F596)","v":35.840959999797441}]
[null,null,null,null,0.90000000009999992,3,{"$f":"_xll.Interp3D($B$18:$B$134,$C$18:$C$134,$D$18:$D$134,E597,F597)","v":36.167999999776001}]
[null,null,null,null,0.90000000009999992,3.1,{"$f":"_xll.Interp3D($B$18:$B$134,$C$18:$C$134,$D$18:$D$134,E598,F598)","v":36.537599999839038}]
[null,null,null,null,0.90000000009999992,3.2,{"$f":"_xll.Interp3D($B$18:$B$134,$C$18:$C$134,$D$18:$D$134,E599,F599)","v":36.984959999962243}]
[null,null,null,null,0.90000000009999992,3.3,{"$f":"_xll.Interp3D($B$18:$B$134,$C$18:$C$134,$D$18:$D$134,E600,F600)","v":37.413120000109117}]
[null,null,null,null,0.90000000009999992,3.4,{"$f":"_xll.Interp3D($B$18:$B$134,$C$18:$C$134,$D$18:$D$134,E601,F601)","v":37.725120000243201}]
[null,null,null,null,0.90000000009999992,3.5,{"$f":"_xll.Interp3D($B$18:$B$134,$C$18:$C$134,$D$18:$D$134,E602,F602)","v":37.824000000327999}]
[null,null,null,null,0.90000000009999992,3.6,{"$f":"_xll.Interp3D($B$18:$B$134,$C$18:$C$134,$D$18:$D$134,E603,F603)","v":37.614144000354365}]
[null,null,null,null,0.90000000009999992,3.7,{"$f":"_xll.Interp3D($B$18:$B$134,$C$18:$C$134,$D$18:$D$134,E604,F604)","v":37.160192000346626}]
[null,null,null,null,0.90000000009999992,3.8,{"$f":"_xll.Interp3D($B$18:$B$134,$C$18:$C$134,$D$18:$D$134,E605,F605)","v":36.605568000318499}]
[null,null,null,null,0.90000000009999992,3.9,{"$f":"_xll.Interp3D($B$18:$B$134,$C$18:$C$134,$D$18:$D$134,E606,F606)","v":36.093696000283707}]
[null,null,null,null,0.90000000009999992,4,{"$f":"_xll.Interp3D($B$18:$B$134,$C$18:$C$134,$D$18:$D$134,E607,F607)","v":35.768000000256002}]
[null,null,null,null,0.90000000009999992,4.0999999999999996,{"$f":"_xll.Interp3D($B$18:$B$134,$C$18:$C$134,$D$18:$D$134,E608,F608)","v":35.684160000233767}]
[null,null,null,null,0.90000000009999992,4.2,{"$f":"_xll.Interp3D($B$18:$B$134,$C$18:$C$134,$D$18:$D$134,E609,F609)","v":35.746560000207836}]
[null,null,null,null,0.90000000009999992,4.3,{"$f":"_xll.Interp3D($B$18:$B$134,$C$18:$C$134,$D$18:$D$134,E610,F610)","v":35.871680000180639}]
[null,null,null,null,0.90000000009999992,4.4000000000000004,{"$f":"_xll.Interp3D($B$18:$B$134,$C$18:$C$134,$D$18:$D$134,E611,F611)","v":35.976000000154571}]
[null,null,null,null,0.90000000009999992,4.5,{"$f":"_xll.Interp3D($B$18:$B$134,$C$18:$C$134,$D$18:$D$134,E612,F612)","v":35.976000000132004}]
[null,null,null,null,0.90000000009999992,4.5999999999999996,{"$f":"_xll.Interp3D($B$18:$B$134,$C$18:$C$134,$D$18:$D$134,E613,F613)","v":35.846464000120122}]
[null,null,null,null,0.90000000009999992,4.7,{"$f":"_xll.Interp3D($B$18:$B$134,$C$18:$C$134,$D$18:$D$134,E614,F614)","v":35.643072000117343}]
[null,null,null,null,0.90000000009999992,4.8,{"$f":"_xll.Interp3D($B$18:$B$134,$C$18:$C$134,$D$18:$D$134,E615,F615)","v":35.403648000112895}]
[null,null,null,null,0.90000000009999992,4.9000000000000004,{"$f":"_xll.Interp3D($B$18:$B$134,$C$18:$C$134,$D$18:$D$134,E616,F616)","v":35.166016000096036}]
[null,null,null,null,0.90000000009999992,5,{"$f":"_xll.Interp3D($B$18:$B$134,$C$18:$C$134,$D$18:$D$134,E617,F617)","v":34.968000000056001}]
[null,null,null,null,0.90000000009999992,5.0999999999999996,{"$f":"_xll.Interp3D($B$18:$B$134,$C$18:$C$134,$D$18:$D$134,E618,F618)","v":34.796543999968918}]
[null,null,null,null,0.90000000009999992,5.2,{"$f":"_xll.Interp3D($B$18:$B$134,$C$18:$C$134,$D$18:$D$134,E619,F619)","v":34.626431999841984}]
[null,null,null,null,0.90000000009999992,5.3,{"$f":"_xll.Interp3D($B$18:$B$134,$C$18:$C$134,$D$18:$D$134,E620,F620)","v":34.477247999710976}]
[null,null,null,null,0.90000000009999992,5.4,{"$f":"_xll.Interp3D($B$18:$B$134,$C$18:$C$134,$D$18:$D$134,E621,F621)","v":34.368575999611714}]
[null,null,null,null,0.90000000009999992,5.5,{"$f":"_xll.Interp3D($B$18:$B$134,$C$18:$C$134,$D$18:$D$134,E622,F622)","v":34.319999999579998}]
[null,null,null,null,0.90000000009999992,5.6,{"$f":"_xll.Interp3D($B$18:$B$134,$C$18:$C$134,$D$18:$D$134,E623,F623)","v":34.331519999615843}]
[null,null,null,null,0.90000000009999992,5.7,{"$f":"_xll.Interp3D($B$18:$B$134,$C$18:$C$134,$D$18:$D$134,E624,F624)","v":34.390079999695359}]
[null,null,null,null,0.90000000009999992,5.8,{"$f":"_xll.Interp3D($B$18:$B$134,$C$18:$C$134,$D$18:$D$134,E625,F625)","v":34.495679999818556}]
[null,null,null,null,0.90000000009999992,5.9,{"$f":"_xll.Interp3D($B$18:$B$134,$C$18:$C$134,$D$18:$D$134,E626,F626)","v":34.648319999985439}]
[null,null,null,null,0.90000000009999992,6,{"$f":"_xll.Interp3D($B$18:$B$134,$C$18:$C$134,$D$18:$D$134,E627,F627)","v":34.848000000196002}]
[null,null,null,null,1.0000000001,0,{"$f":"_xll.Interp3D($B$18:$B$134,$C$18:$C$134,$D$18:$D$134,E628,F628)","v":40.999999999800004}]
[null,null,null,null,1.0000000001,0.1,{"$f":"_xll.Interp3D($B$18:$B$134,$C$18:$C$134,$D$18:$D$134,E629,F629)","v":40.879999999835995}]
[null,null,null,null,1.0000000001,0.2,{"$f":"_xll.Interp3D($B$18:$B$134,$C$18:$C$134,$D$18:$D$134,E630,F630)","v":40.719999999864001}]
[null,null,null,null,1.0000000001,0.3,{"$f":"_xll.Interp3D($B$18:$B$134,$C$18:$C$134,$D$18:$D$134,E631,F631)","v":40.519999999883993}]
[null,null,null,null,1.0000000001,0.4,{"$f":"_xll.Interp3D($B$18:$B$134,$C$18:$C$134,$D$18:$D$134,E632,F632)","v":40.279999999896006}]
[null,null,null,null,1.0000000001,0.5,{"$f":"_xll.Interp3D($B$18:$B$134,$C$18:$C$134,$D$18:$D$134,E633,F633)","v":39.999999999899998}]
[null,null,null,null,1.0000000001,0.6,{"$f":"_xll.Interp3D($B$18:$B$134,$C$18:$C$134,$D$18:$D$134,E634,F634)","v":39.647999999892797}]
[null,null,null,null,1.0000000001,0.7,{"$f":"_xll.Interp3D($B$18:$B$134,$C$18:$C$134,$D$18:$D$134,E635,F635)","v":39.223999999874401}]
[null,null,null,null,1.0000000001,0.8,{"$f":"_xll.Interp3D($B$18:$B$134,$C$18:$C$134,$D$18:$D$134,E636,F636)","v":38.775999999849603}]
[null,null,null,null,1.0000000001,0.9,{"$f":"_xll.Interp3D($B$18:$B$134,$C$18:$C$134,$D$18:$D$134,E637,F637)","v":38.351999999823207}]
[null,null,null,null,1.0000000001,1,{"$f":"_xll.Interp3D($B$18:$B$134,$C$18:$C$134,$D$18:$D$134,E638,F638)","v":37.999999999799996}]
[null,null,null,null,1.0000000001,1.1000000000000001,{"$f":"_xll.Interp3D($B$18:$B$134,$C$18:$C$134,$D$18:$D$134,E639,F639)","v":37.735999999771998}]
[null,null,null,null,1.0000000001,1.2,{"$f":"_xll.Interp3D($B$18:$B$134,$C$18:$C$134,$D$18:$D$134,E640,F640)","v":37.527999999736004}]
[null,null,null,null,1.0000000001,1.3,{"$f":"_xll.Interp3D($B$18:$B$134,$C$18:$C$134,$D$18:$D$134,E641,F641)","v":37.351999999703992}]
[null,null,null,null,1.0000000001,1.4,{"$f":"_xll.Interp3D($B$18:$B$134,$C$18:$C$134,$D$18:$D$134,E642,F642)","v":37.183999999687998}]
[null,null,null,null,1.0000000001,1.5,{"$f":"_xll.Interp3D($B$18:$B$134,$C$18:$C$134,$D$18:$D$134,E643,F643)","v":36.999999999699995}]
[null,null,null,null,1.0000000001,1.6,{"$f":"_xll.Interp3D($B$18:$B$134,$C$18:$C$134,$D$18:$D$134,E644,F644)","v":36.799999999752799}]
[null,null,null,null,1.0000000001,1.7,{"$f":"_xll.Interp3D($B$18:$B$134,$C$18:$C$134,$D$18:$D$134,E645,F645)","v":36.599999999838403}]
[null,null,null,null,1.0000000001,1.8,{"$f":"_xll.Interp3D($B$18:$B$134,$C$18:$C$134,$D$18:$D$134,E646,F646)","v":36.399999999937599}]
[null,null,null,null,1.0000000001,1.9,{"$f":"_xll.Interp3D($B$18:$B$134,$C$18:$C$134,$D$18:$D$134,E647,F647)","v":36.20000000003121}]
[null,null,null,null,1.0000000001,2,{"$f":"_xll.Interp3D($B$18:$B$134,$C$18:$C$134,$D$18:$D$134,E648,F648)","v":36.000000000100002}]
[null,null,null,null,1.0000000001,2.1,{"$f":"_xll.Interp3D($B$18:$B$134,$C$18:$C$134,$D$18:$D$134,E649,F649)","v":35.768000000145591}]
[null,null,null,null,1.0000000001,2.2000000000000002,{"$f":"_xll.Interp3D($B$18:$B$134,$C$18:$C$134,$D$18:$D$134,E650,F650)","v":35.50400000018081}]
[null,null,null,null,1.0000000001,2.2999999999999998,{"$f":"_xll.Interp3D($B$18:$B$134,$C$18:$C$134,$D$18:$D$134,E651,F651)","v":35.256000000203201}]
[null,null,null,null,1.0000000001,2.4,{"$f":"_xll.Interp3D($B$18:$B$134,$C$18:$C$134,$D$18:$D$134,E652,F652)","v":35.072000000210402}]
[null,null,null,null,1.0000000001,2.5,{"$f":"_xll.Interp3D($B$18:$B$134,$C$18:$C$134,$D$18:$D$134,E653,F653)","v":35.000000000200004}]
[null,null,null,null,1.0000000001,2.6,{"$f":"_xll.Interp3D($B$18:$B$134,$C$18:$C$134,$D$18:$D$134,E654,F654)","v":35.056000000159202}]
[null,null,null,null,1.0000000001,2.7,{"$f":"_xll.Interp3D($B$18:$B$134,$C$18:$C$134,$D$18:$D$134,E655,F655)","v":35.208000000089598}]
[null,null,null,null,{"$f":"E595+0.1","v":1.0000000001},{"$f":"F595","v":2.8},{"$f":"_xll.Interp3D($B$18:$B$134,$C$18:$C$134,$D$18:$D$134,E656,F656)","v":35.432000000010405}]
[null,null,null,null,1.0000000001,2.9,{"$f":"_xll.Interp3D($B$18:$B$134,$C$18:$C$134,$D$18:$D$134,E657,F657)","v":35.703999999940805}]
[null,null,null,null,1.0000000001,3,{"$f":"_xll.Interp3D($B$18:$B$134,$C$18:$C$134,$D$18:$D$134,E658,F658)","v":35.999999999899998}]
[null,null,null,null,1.0000000001,3.1,{"$f":"_xll.Interp3D($B$18:$B$134,$C$18:$C$134,$D$18:$D$134,E659,F659)","v":36.399999999892799}]
[null,null,null,null,1.0000000001,3.2,{"$f":"_xll.Interp3D($B$18:$B$134,$C$18:$C$134,$D$18:$D$134,E660,F660)","v":36.919999999906402}]
[null,null,null,null,1.0000000001,3.3,{"$f":"_xll.Interp3D($B$18:$B$134,$C$18:$C$134,$D$18:$D$134,E661,F661)","v":37.439999999933598}]
[null,null,null,null,1.0000000001,3.4,{"$f":"_xll.Interp3D($B$18:$B$134,$C$18:$C$134,$D$18:$D$134,E662,F662)","v":37.839999999967205}]
[null,null,null,null,1.0000000001,3.5,{"$f":"_xll.Interp3D($B$18:$B$134,$C$18:$C$134,$D$18:$D$134,E663,F663)","v":38}]
[null,null,null,null,1.0000000001,3.6,{"$f":"_xll.Interp3D($B$18:$B$134,$C$18:$C$134,$D$18:$D$134,E664,F664)","v":37.824000000041593}]
[null,null,null,null,1.0000000001,3.7,{"$f":"_xll.Interp3D($B$18:$B$134,$C$18:$C$134,$D$18:$D$134,E665,F665)","v":37.392000000096793}]
[null,null,null,null,1.0000000001,3.8,{"$f":"_xll.Interp3D($B$18:$B$134,$C$18:$C$134,$D$18:$D$134,E666,F666)","v":36.848000000151202}]
[null,null,null,null,1.0000000001,3.9,{"$f":"_xll.Interp3D($B$18:$B$134,$C$18:$C$134,$D$18:$D$134,E667,F667)","v":36.336000000190396}]
[null,null,null,null,1.0000000001,4,{"$f":"_xll.Interp3D($B$18:$B$134,$C$18:$C$134,$D$18:$D$134,E668,F668)","v":36.000000000200004}]
[null,null,null,null,1.0000000001,4.0999999999999996,{"$f":"_xll.Interp3D($B$18:$B$134,$C$18:$C$134,$D$18:$D$134,E669,F669)","v":35.888000000165604}]
[null,null,null,null,1.0000000001,4.2,{"$f":"_xll.Interp3D($B$18:$B$134,$C$18:$C$134,$D$18:$D$134,E670,F670)","v":35.904000000096801}]
[null,null,null,null,1.0000000001,4.3,{"$f":"_xll.Interp3D($B$18:$B$134,$C$18:$C$134,$D$18:$D$134,E671,F671)","v":35.976000000015198}]
[null,null,null,null,1.0000000001,4.4000000000000004,{"$f":"_xll.Interp3D($B$18:$B$134,$C$18:$C$134,$D$18:$D$134,E672,F672)","v":36.0319999999424}]
[null,null,null,null,1.0000000001,4.5,{"$f":"_xll.Interp3D($B$18:$B$134,$C$18:$C$134,$D$18:$D$134,E673,F673)","v":35.999999999899998}]
[null,null,null,null,1.0000000001,4.5999999999999996,{"$f":"_xll.Interp3D($B$18:$B$134,$C$18:$C$134,$D$18:$D$134,E674,F674)","v":35.8639999998992}]
[null,null,null,null,1.0000000001,4.7,{"$f":"_xll.Interp3D($B$18:$B$134,$C$18:$C$134,$D$18:$D$134,E675,F675)","v":35.671999999925596}]
[null,null,null,null,1.0000000001,4.8,{"$f":"_xll.Interp3D($B$18:$B$134,$C$18:$C$134,$D$18:$D$134,E676,F676)","v":35.447999999962406}]
[null,null,null,null,1.0000000001,4.9000000000000004,{"$f":"_xll.Interp3D($B$18:$B$134,$C$18:$C$134,$D$18:$D$134,E677,F677)","v":35.215999999992803}]
[null,null,null,null,1.0000000001,5,{"$f":"_xll.Interp3D($B$18:$B$134,$C$18:$C$134,$D$18:$D$134,E678,F678)","v":35}]
[null,null,null,null,1.0000000001,5.0999999999999996,{"$f":"_xll.Interp3D($B$18:$B$134,$C$18:$C$134,$D$18:$D$134,E679,F679)","v":34.767999999971195}]
[null,null,null,null,1.0000000001,5.2,{"$f":"_xll.Interp3D($B$18:$B$134,$C$18:$C$134,$D$18:$D$134,E680,F680)","v":34.503999999917596}]
[null,null,null,null,1.0000000001,5.3,{"$f":"_xll.Interp3D($B$18:$B$134,$C$18:$C$134,$D$18:$D$134,E681,F681)","v":34.255999999858403}]
[null,null,null,null,1.0000000001,5.4,{"$f":"_xll.Interp3D($B$18:$B$134,$C$18:$C$134,$D$18:$D$134,E682,F682)","v":34.071999999812803}]
[null,null,null,null,1.0000000001,5.5,{"$f":"_xll.Interp3D($B$18:$B$134,$C$18:$C$134,$D$18:$D$134,E683,F683)","v":33.999999999799996}]
[null,null,null,null,1.0000000001,5.6,{"$f":"_xll.Interp3D($B$18:$B$134,$C$18:$C$134,$D$18:$D$134,E684,F684)","v":34.039999999819997}]
[null,null,null,null,1.0000000001,5.7,{"$f":"_xll.Interp3D($B$18:$B$134,$C$18:$C$134,$D$18:$D$134,E685,F685)","v":34.159999999859998}]
[null,null,null,null,1.0000000001,5.8,{"$f":"_xll.Interp3D($B$18:$B$134,$C$18:$C$134,$D$18:$D$134,E686,F686)","v":34.359999999919999}]
[null,null,null,null,1.0000000001,5.9,{"$f":"_xll.Interp3D($B$18:$B$134,$C$18:$C$134,$D$18:$D$134,E687,F687)","v":34.64}]
[null,null,null,null,1.0000000001,6,{"$f":"_xll.Interp3D($B$18:$B$134,$C$18:$C$134,$D$18:$D$134,E688,F688)","v":35.000000000100002}]
[null,null,null,null,1.1000000001000001,0,{"$f":"_xll.Interp3D($B$18:$B$134,$C$18:$C$134,$D$18:$D$134,E689,F689)","v":40.855999999908001}]
[null,null,null,null,1.1000000001000001,0.1,{"$f":"_xll.Interp3D($B$18:$B$134,$C$18:$C$134,$D$18:$D$134,E690,F690)","v":40.689919999792153}]
[null,null,null,null,1.1000000001000001,0.2,{"$f":"_xll.Interp3D($B$18:$B$134,$C$18:$C$134,$D$18:$D$134,E691,F691)","v":40.492479999699029}]
[null,null,null,null,1.1000000001000001,0.3,{"$f":"_xll.Interp3D($B$18:$B$134,$C$18:$C$134,$D$18:$D$134,E692,F692)","v":40.263679999628636}]
[null,null,null,null,1.1000000001000001,0.4,{"$f":"_xll.Interp3D($B$18:$B$134,$C$18:$C$134,$D$18:$D$134,E693,F693)","v":40.003519999580966}]
[null,null,null,null,1.1000000001000001,0.5,{"$f":"_xll.Interp3D($B$18:$B$134,$C$18:$C$134,$D$18:$D$134,E694,F694)","v":39.711999999556006}]
[null,null,null,null,1.1000000001000001,0.6,{"$f":"_xll.Interp3D($B$18:$B$134,$C$18:$C$134,$D$18:$D$134,E695,F695)","v":39.363903999568983}]
[null,null,null,null,1.1000000001000001,0.7,{"$f":"_xll.Interp3D($B$18:$B$134,$C$18:$C$134,$D$18:$D$134,E696,F696)","v":38.959231999619938}]
[null,null,null,null,1.1000000001000001,0.8,{"$f":"_xll.Interp3D($B$18:$B$134,$C$18:$C$134,$D$18:$D$134,E697,F697)","v":38.535807999685979}]
[null,null,null,null,1.1000000001000001,0.9,{"$f":"_xll.Interp3D($B$18:$B$134,$C$18:$C$134,$D$18:$D$134,E698,F698)","v":38.13145599974429}]
[null,null,null,null,1.1000000001000001,1,{"$f":"_xll.Interp3D($B$18:$B$134,$C$18:$C$134,$D$18:$D$134,E699,F699)","v":37.783999999772}]
[null,null,null,null,1.1000000001000001,1.1000000000000001,{"$f":"_xll.Interp3D($B$18:$B$134,$C$18:$C$134,$D$18:$D$134,E700,F700)","v":37.494975999749087}]
[null,null,null,null,1.1000000001000001,1.2,{"$f":"_xll.Interp3D($B$18:$B$134,$C$18:$C$134,$D$18:$D$134,E701,F701)","v":37.239167999690792}]
[null,null,null,null,1.1000000001000001,1.3,{"$f":"_xll.Interp3D($B$18:$B$134,$C$18:$C$134,$D$18:$D$134,E702,F702)","v":37.014271999627134}]
[null,null,null,null,1.1000000001000001,1.4,{"$f":"_xll.Interp3D($B$18:$B$134,$C$18:$C$134,$D$18:$D$134,E703,F703)","v":36.817983999588186}]
[null,null,null,null,1.1000000001000001,1.5,{"$f":"_xll.Interp3D($B$18:$B$134,$C$18:$C$134,$D$18:$D$134,E704,F704)","v":36.647999999603996}]
[null,null,null,null,1.1000000001000001,1.6,{"$f":"_xll.Interp3D($B$18:$B$134,$C$18:$C$134,$D$18:$D$134,E705,F705)","v":36.52287999969824}]
[null,null,null,null,1.1000000001000001,1.7,{"$f":"_xll.Interp3D($B$18:$B$134,$C$18:$C$134,$D$18:$D$134,E706,F706)","v":36.444159999850882}]
[null,null,null,null,1.1000000001000001,1.8,{"$f":"_xll.Interp3D($B$18:$B$134,$C$18:$C$134,$D$18:$D$134,E707,F707)","v":36.384000000026397}]
[null,null,null,null,1.1000000001000001,1.9,{"$f":"_xll.Interp3D($B$18:$B$134,$C$18:$C$134,$D$18:$D$134,E708,F708)","v":36.314560000189282}]
[null,null,null,null,1.1000000001000001,2,{"$f":"_xll.Interp3D($B$18:$B$134,$C$18:$C$134,$D$18:$D$134,E709,F709)","v":36.208000000304004}]
[null,null,null,null,1.1000000001000001,2.1,{"$f":"_xll.Interp3D($B$18:$B$134,$C$18:$C$134,$D$18:$D$134,E710,F710)","v":36.032576000369403}]
[null,null,null,null,1.1000000001000001,2.2000000000000002,{"$f":"_xll.Interp3D($B$18:$B$134,$C$18:$C$134,$D$18:$D$134,E711,F711)","v":35.80684800040919}]
[null,null,null,null,1.1000000001000001,2.2999999999999998,{"$f":"_xll.Interp3D($B$18:$B$134,$C$18:$C$134,$D$18:$D$134,E712,F712)","v":35.57843200042506}]
[null,null,null,null,1.1000000001000001,2.4,{"$f":"_xll.Interp3D($B$18:$B$134,$C$18:$C$134,$D$18:$D$134,E713,F713)","v":35.394944000418754}]
[null,null,null,null,1.1000000001000001,2.5,{"$f":"_xll.Interp3D($B$18:$B$134,$C$18:$C$134,$D$18:$D$134,E714,F714)","v":35.304000000391994}]
[null,null,null,null,1.1000000001000001,2.6,{"$f":"_xll.Interp3D($B$18:$B$134,$C$18:$C$134,$D$18:$D$134,E715,F715)","v":35.309312000333215}]
[null,null,null,null,1.1000000001000001,2.7,{"$f":"_xll.Interp3D($B$18:$B$134,$C$18:$C$134,$D$18:$D$134,E716,F716)","v":35.379136000241246}]
[null,null,null,null,1.1000000001000001,2.8,{"$f":"_xll.Interp3D($B$18:$B$134,$C$18:$C$134,$D$18:$D$134,E717,F717)","v":35.507904000133479}]
[null,null,null,null,1.1000000001000001,2.9,{"$f":"_xll.Interp3D($B$18:$B$134,$C$18:$C$134,$D$18:$D$134,E718,F718)","v":35.690048000027268}]
[null,null,null,null,1.1000000001000001,3,{"$f":"_xll.Interp3D($B$18:$B$134,$C$18:$C$134,$D$18:$D$134,E719,F719)","v":35.919999999939996}]
[null,null,null,null,{"$f":"E659+0.1","v":1.1000000001000001},{"$f":"F659","v":3.1},{"$f":"_xll.Interp3D($B$18:$B$134,$C$18:$C$134,$D$18:$D$134,E720,F720)","v":36.274303999860997}]
[null,null,null,null,1.1000000001000001,3.2,{"$f":"_xll.Interp3D($B$18:$B$134,$C$18:$C$134,$D$18:$D$134,E721,F721)","v":36.756671999778654}]
[null,null,null,null,1.1000000001000001,3.3,{"$f":"_xll.Interp3D($B$18:$B$134,$C$18:$C$134,$D$18:$D$134,E722,F722)","v":37.252287999709026}]
[null,null,null,null,1.1000000001000001,3.4,{"$f":"_xll.Interp3D($B$18:$B$134,$C$18:$C$134,$D$18:$D$134,E723,F723)","v":37.646335999668132}]
[null,null,null,null,1.1000000001000001,3.5,{"$f":"_xll.Interp3D($B$18:$B$134,$C$18:$C$134,$D$18:$D$134,E724,F724)","v":37.823999999672004}]
[null,null,null,null,1.1000000001000001,3.6,{"$f":"_xll.Interp3D($B$18:$B$134,$C$18:$C$134,$D$18:$D$134,E725,F725)","v":37.711935999754367}]
[null,null,null,null,1.1000000001000001,3.7,{"$f":"_xll.Interp3D($B$18:$B$134,$C$18:$C$134,$D$18:$D$134,E726,F726)","v":37.386687999904538}]
[null,null,null,null,1.1000000001000001,3.8,{"$f":"_xll.Interp3D($B$18:$B$134,$C$18:$C$134,$D$18:$D$134,E727,F727)","v":36.958272000071936}]
[null,null,null,null,1.1000000001000001,3.9,{"$f":"_xll.Interp3D($B$18:$B$134,$C$18:$C$134,$D$18:$D$134,E728,F728)","v":36.536704000205951}]
[null,null,null,null,1.1000000001000001,4,{"$f":"_xll.Interp3D($B$18:$B$134,$C$18:$C$134,$D$18:$D$134,E729,F729)","v":36.232000000256001}]
[null,null,null,null,1.1000000001000001,4.0999999999999996,{"$f":"_xll.Interp3D($B$18:$B$134,$C$18:$C$134,$D$18:$D$134,E730,F730)","v":36.06540800018503}]
[null,null,null,null,1.1000000001000001,4.2,{"$f":"_xll.Interp3D($B$18:$B$134,$C$18:$C$134,$D$18:$D$134,E731,F731)","v":35.963584000026749}]
[null,null,null,null,1.1000000001000001,4.3,{"$f":"_xll.Interp3D($B$18:$B$134,$C$18:$C$134,$D$18:$D$134,E732,F732)","v":35.894655999836765}]
[null,null,null,null,1.1000000001000001,4.4000000000000004,{"$f":"_xll.Interp3D($B$18:$B$134,$C$18:$C$134,$D$18:$D$134,E733,F733)","v":35.826751999670662}]
[null,null,null,null,1.1000000001000001,4.5,{"$f":"_xll.Interp3D($B$18:$B$134,$C$18:$C$134,$D$18:$D$134,E734,F734)","v":35.727999999584}]
[null,null,null,null,1.1000000001000001,4.5999999999999996,{"$f":"_xll.Interp3D($B$18:$B$134,$C$18:$C$134,$D$18:$D$134,E735,F735)","v":35.600703999600988}]
[null,null,null,null,1.1000000001000001,4.7,{"$f":"_xll.Interp3D($B$18:$B$134,$C$18:$C$134,$D$18:$D$134,E736,F736)","v":35.466111999684571}]
[null,null,null,null,1.1000000001000001,4.8,{"$f":"_xll.Interp3D($B$18:$B$134,$C$18:$C$134,$D$18:$D$134,E737,F737)","v":35.32076799979847}]
[null,null,null,null,1.1000000001000001,4.9000000000000004,{"$f":"_xll.Interp3D($B$18:$B$134,$C$18:$C$134,$D$18:$D$134,E738,F738)","v":35.161215999906368}]
[null,null,null,null,1.1000000001000001,5,{"$f":"_xll.Interp3D($B$18:$B$134,$C$18:$C$134,$D$18:$D$134,E739,F739)","v":34.983999999971999}]
[null,null,null,null,1.1000000001000001,5.0999999999999996,{"$f":"_xll.Interp3D($B$18:$B$134,$C$18:$C$134,$D$18:$D$134,E740,F740)","v":34.745343999984662}]
[null,null,null,null,1.1000000001000001,5.2,{"$f":"_xll.Interp3D($B$18:$B$134,$C$18:$C$134,$D$18:$D$134,E741,F741)","v":34.447551999968574}]
[null,null,null,null,1.1000000001000001,5.3,{"$f":"_xll.Interp3D($B$18:$B$134,$C$18:$C$134,$D$18:$D$134,E742,F742)","v":34.156287999939742}]
[null,null,null,null,1.1000000001000001,5.4,{"$f":"_xll.Interp3D($B$18:$B$134,$C$18:$C$134,$D$18:$D$134,E743,F743)","v":33.937215999914216}]
[null,null,null,null,1.1000000001000001,5.5,{"$f":"_xll.Interp3D($B$18:$B$134,$C$18:$C$134,$D$18:$D$134,E744,F744)","v":33.855999999908001}]
[null,null,null,null,1.1000000001000001,5.6,{"$f":"_xll.Interp3D($B$18:$B$134,$C$18:$C$134,$D$18:$D$134,E745,F745)","v":33.912639999921119}]
[null,null,null,null,1.1000000001000001,5.7,{"$f":"_xll.Interp3D($B$18:$B$134,$C$18:$C$134,$D$18:$D$134,E746,F746)","v":34.063359999942875}]
[null,null,null,null,1.1000000001000001,5.8,{"$f":"_xll.Interp3D($B$18:$B$134,$C$18:$C$134,$D$18:$D$134,E747,F747)","v":34.308159999973277}]
[null,null,null,null,1.1000000001000001,5.9,{"$f":"_xll.Interp3D($B$18:$B$134,$C$18:$C$134,$D$18:$D$134,E748,F748)","v":34.647040000012325}]
[null,null,null,null,1.1000000001000001,6,{"$f":"_xll.Interp3D($B$18:$B$134,$C$18:$C$134,$D$18:$D$134,E749,F749)","v":35.080000000059997}]
[null,null,null,null,1.2000000001000002,0,{"$f":"_xll.Interp3D($B$18:$B$134,$C$18:$C$134,$D$18:$D$134,E750,F750)","v":40.807999999992006}]
[null,null,null,null,1.2000000001000002,0.1,{"$f":"_xll.Interp3D($B$18:$B$134,$C$18:$C$134,$D$18:$D$134,E751,F751)","v":40.480959999798237}]
[null,null,null,null,1.2000000001000002,0.2,{"$f":"_xll.Interp3D($B$18:$B$134,$C$18:$C$134,$D$18:$D$134,E752,F752)","v":40.154239999642563}]
[null,null,null,null,1.2000000001000002,0.3,{"$f":"_xll.Interp3D($B$18:$B$134,$C$18:$C$134,$D$18:$D$134,E753,F753)","v":39.827839999524954}]
[null,null,null,null,1.2000000001000002,0.4,{"$f":"_xll.Interp3D($B$18:$B$134,$C$18:$C$134,$D$18:$D$134,E754,F754)","v":39.50175999944544}]
[null,null,null,null,1.2000000001000002,0.5,{"$f":"_xll.Interp3D($B$18:$B$134,$C$18:$C$134,$D$18:$D$134,E755,F755)","v":39.175999999403999}]
[null,null,null,null,1.2000000001000002,0.6,{"$f":"_xll.Interp3D($B$18:$B$134,$C$18:$C$134,$D$18:$D$134,E756,F756)","v":38.845951999425083}]
[null,null,null,null,1.2000000001000002,0.7,{"$f":"_xll.Interp3D($B$18:$B$134,$C$18:$C$134,$D$18:$D$134,E757,F757)","v":38.511615999508706}]
[null,null,null,null,1.2000000001000002,0.8,{"$f":"_xll.Interp3D($B$18:$B$134,$C$18:$C$134,$D$18:$D$134,E758,F758)","v":38.179903999618176}]
[null,null,null,null,1.2000000001000002,0.9,{"$f":"_xll.Interp3D($B$18:$B$134,$C$18:$C$134,$D$18:$D$134,E759,F759)","v":37.857727999716829}]
[null,null,null,null,1.2000000001000002,1,{"$f":"_xll.Interp3D($B$18:$B$134,$C$18:$C$134,$D$18:$D$134,E760,F760)","v":37.551999999768}]
[null,null,null,null,1.2000000001000002,1.1000000000000001,{"$f":"_xll.Interp3D($B$18:$B$134,$C$18:$C$134,$D$18:$D$134,E761,F761)","v":37.240447999744987}]
[null,null,null,null,1.2000000001000002,1.2,{"$f":"_xll.Interp3D($B$18:$B$134,$C$18:$C$134,$D$18:$D$134,E762,F762)","v":36.918463999672262}]
[null,null,null,null,1.2000000001000002,1.3,{"$f":"_xll.Interp3D($B$18:$B$134,$C$18:$C$134,$D$18:$D$134,E763,F763)","v":36.619455999589817}]
[null,null,null,null,1.2000000001000002,1.4,{"$f":"_xll.Interp3D($B$18:$B$134,$C$18:$C$134,$D$18:$D$134,E764,F764)","v":36.376831999537728}]
[null,null,null,null,1.2000000001000002,1.5,{"$f":"_xll.Interp3D($B$18:$B$134,$C$18:$C$134,$D$18:$D$134,E765,F765)","v":36.223999999555993}]
[null,null,null,null,1.2000000001000002,1.6,{"$f":"_xll.Interp3D($B$18:$B$134,$C$18:$C$134,$D$18:$D$134,E766,F766)","v":36.207039999675359}]
[null,null,null,null,1.2000000001000002,1.7,{"$f":"_xll.Interp3D($B$18:$B$134,$C$18:$C$134,$D$18:$D$134,E767,F767)","v":36.303679999869125}]
[null,null,null,null,1.2000000001000002,1.8,{"$f":"_xll.Interp3D($B$18:$B$134,$C$18:$C$134,$D$18:$D$134,E768,F768)","v":36.444800000091199}]
[null,null,null,null,1.2000000001000002,1.9,{"$f":"_xll.Interp3D($B$18:$B$134,$C$18:$C$134,$D$18:$D$134,E769,F769)","v":36.561280000295525}]
[null,null,null,null,1.2000000001000002,2,{"$f":"_xll.Interp3D($B$18:$B$134,$C$18:$C$134,$D$18:$D$134,E770,F770)","v":36.584000000435999}]
[null,null,null,null,1.2000000001000002,2.1,{"$f":"_xll.Interp3D($B$18:$B$134,$C$18:$C$134,$D$18:$D$134,E771,F771)","v":36.478528000508348}]
[null,null,null,null,1.2000000001000002,2.2000000000000002,{"$f":"_xll.Interp3D($B$18:$B$134,$C$18:$C$134,$D$18:$D$134,E772,F772)","v":36.290944000543298}]
[null,null,null,null,1.2000000001000002,2.2999999999999998,{"$f":"_xll.Interp3D($B$18:$B$134,$C$18:$C$134,$D$18:$D$134,E773,F773)","v":36.07289600054726}]
[null,null,null,null,1.2000000001000002,2.4,{"$f":"_xll.Interp3D($B$18:$B$134,$C$18:$C$134,$D$18:$D$134,E774,F774)","v":35.876032000526692}]
[null,null,null,null,1.2000000001000002,2.5,{"$f":"_xll.Interp3D($B$18:$B$134,$C$18:$C$134,$D$18:$D$134,E775,F775)","v":35.752000000488003}]
[null,null,null,null,1.2000000001000002,2.6,{"$f":"_xll.Interp3D($B$18:$B$134,$C$18:$C$134,$D$18:$D$134,E776,F776)","v":35.694016000421982}]
[null,null,null,null,1.2000000001000002,2.7,{"$f":"_xll.Interp3D($B$18:$B$134,$C$18:$C$134,$D$18:$D$134,E777,F777)","v":35.667648000324348}]
[null,null,null,null,1.2000000001000002,2.8,{"$f":"_xll.Interp3D($B$18:$B$134,$C$18:$C$134,$D$18:$D$134,E778,F778)","v":35.683072000208931}]
[null,null,null,null,1.2000000001000002,2.9,{"$f":"_xll.Interp3D($B$18:$B$134,$C$18:$C$134,$D$18:$D$134,E779,F779)","v":35.750464000089536}]
[null,null,null,null,1.2000000001000002,3,{"$f":"_xll.Interp3D($B$18:$B$134,$C$18:$C$134,$D$18:$D$134,E780,F780)","v":35.879999999980001}]
[null,null,null,null,1.2000000001000002,3.1,{"$f":"_xll.Interp3D($B$18:$B$134,$C$18:$C$134,$D$18:$D$134,E781,F781)","v":36.132351999860283}]
[null,null,null,null,1.2000000001000002,3.2,{"$f":"_xll.Interp3D($B$18:$B$134,$C$18:$C$134,$D$18:$D$134,E782,F782)","v":36.500735999721186}]
[null,null,null,null,1.2000000001000002,3.3,{"$f":"_xll.Interp3D($B$18:$B$134,$C$18:$C$134,$D$18:$D$134,E783,F783)","v":36.894143999592728}]
[null,null,null,null,{"$f":"E723+0.1","v":1.2000000001000002},{"$f":"F723","v":3.4},{"$f":"_xll.Interp3D($B$18:$B$134,$C$18:$C$134,$D$18:$D$134,E784,F784)","v":37.221567999504991}]
[null,null,null,null,1.2000000001000002,3.5,{"$f":"_xll.Interp3D($B$18:$B$134,$C$18:$C$134,$D$18:$D$134,E785,F785)","v":37.391999999488}]
[null,null,null,null,1.2000000001000002,3.6,{"$f":"_xll.Interp3D($B$18:$B$134,$C$18:$C$134,$D$18:$D$134,E786,F786)","v":37.372927999587716}]
[null,null,null,null,1.2000000001000002,3.7,{"$f":"_xll.Interp3D($B$18:$B$134,$C$18:$C$134,$D$18:$D$134,E787,F787)","v":37.225023999784092}]
[null,null,null,null,1.2000000001000002,3.8,{"$f":"_xll.Interp3D($B$18:$B$134,$C$18:$C$134,$D$18:$D$134,E788,F788)","v":36.997056000008229}]
[null,null,null,null,1.2000000001000002,3.9,{"$f":"_xll.Interp3D($B$18:$B$134,$C$18:$C$134,$D$18:$D$134,E789,F789)","v":36.737792000191163}]
[null,null,null,null,1.2000000001000002,4,{"$f":"_xll.Interp3D($B$18:$B$134,$C$18:$C$134,$D$18:$D$134,E790,F790)","v":36.496000000264004}]
[null,null,null,null,1.2000000001000002,4.0999999999999996,{"$f":"_xll.Interp3D($B$18:$B$134,$C$18:$C$134,$D$18:$D$134,E791,F791)","v":36.249664000179308}]
[null,null,null,null,1.2000000001000002,4.2,{"$f":"_xll.Interp3D($B$18:$B$134,$C$18:$C$134,$D$18:$D$134,E792,F792)","v":35.966271999983007}]
[null,null,null,null,1.2000000001000002,4.3,{"$f":"_xll.Interp3D($B$18:$B$134,$C$18:$C$134,$D$18:$D$134,E793,F793)","v":35.678847999746274}]
[null,null,null,null,1.2000000001000002,4.4000000000000004,{"$f":"_xll.Interp3D($B$18:$B$134,$C$18:$C$134,$D$18:$D$134,E794,F794)","v":35.420415999540225}]
[null,null,null,null,1.2000000001000002,4.5,{"$f":"_xll.Interp3D($B$18:$B$134,$C$18:$C$134,$D$18:$D$134,E795,F795)","v":35.223999999436003}]
[null,null,null,null,1.2000000001000002,4.5999999999999996,{"$f":"_xll.Interp3D($B$18:$B$134,$C$18:$C$134,$D$18:$D$134,E796,F796)","v":35.119551999463482}]
[null,null,null,null,1.2000000001000002,4.7,{"$f":"_xll.Interp3D($B$18:$B$134,$C$18:$C$134,$D$18:$D$134,E797,F797)","v":35.08505599957526}]
[null,null,null,null,1.2000000001000002,4.8,{"$f":"_xll.Interp3D($B$18:$B$134,$C$18:$C$134,$D$18:$D$134,E798,F798)","v":35.075583999726497}]
[null,null,null,null,1.2000000001000002,4.9000000000000004,{"$f":"_xll.Interp3D($B$18:$B$134,$C$18:$C$134,$D$18:$D$134,E799,F799)","v":35.046207999872351}]
[null,null,null,null,1.2000000001000002,5,{"$f":"_xll.Interp3D($B$18:$B$134,$C$18:$C$134,$D$18:$D$134,E800,F800)","v":34.951999999968002}]
[null,null,null,null,1.2000000001000002,5.0999999999999996,{"$f":"_xll.Interp3D($B$18:$B$134,$C$18:$C$134,$D$18:$D$134,E801,F801)","v":34.739712000005241}]
[null,null,null,null,1.2000000001000002,5.2,{"$f":"_xll.Interp3D($B$18:$B$134,$C$18:$C$134,$D$18:$D$134,E802,F802)","v":34.439296000013982}]
[null,null,null,null,1.2000000001000002,5.3,{"$f":"_xll.Interp3D($B$18:$B$134,$C$18:$C$134,$D$18:$D$134,E803,F803)","v":34.130624000006499}]
[null,null,null,null,1.2000000001000002,5.4,{"$f":"_xll.Interp3D($B$18:$B$134,$C$18:$C$134,$D$18:$D$134,E804,F804)","v":33.893567999995071}]
[null,null,null,null,1.2000000001000002,5.5,{"$f":"_xll.Interp3D($B$18:$B$134,$C$18:$C$134,$D$18:$D$134,E805,F805)","v":33.807999999991999}]
[null,null,null,null,1.2000000001000002,5.6,{"$f":"_xll.Interp3D($B$18:$B$134,$C$18:$C$134,$D$18:$D$134,E806,F806)","v":33.873919999997284}]
[null,null,null,null,1.2000000001000002,5.7,{"$f":"_xll.Interp3D($B$18:$B$134,$C$18:$C$134,$D$18:$D$134,E807,F807)","v":34.038080000002715}]
[null,null,null,null,1.2000000001000002,5.8,{"$f":"_xll.Interp3D($B$18:$B$134,$C$18:$C$134,$D$18:$D$134,E808,F808)","v":34.300480000008321}]
[null,null,null,null,1.2000000001000002,5.9,{"$f":"_xll.Interp3D($B$18:$B$134,$C$18:$C$134,$D$18:$D$134,E809,F809)","v":34.66112000001408}]
[null,null,null,null,1.2000000001000002,6,{"$f":"_xll.Interp3D($B$18:$B$134,$C$18:$C$134,$D$18:$D$134,E810,F810)","v":35.120000000019999}]
[null,null,null,null,1.3000000001000003,0,{"$f":"_xll.Interp3D($B$18:$B$134,$C$18:$C$134,$D$18:$D$134,E811,F811)","v":40.832000000052005}]
[null,null,null,null,1.3000000001000003,0.1,{"$f":"_xll.Interp3D($B$18:$B$134,$C$18:$C$134,$D$18:$D$134,E812,F812)","v":40.303039999854235}]
[null,null,null,null,1.3000000001000003,0.2,{"$f":"_xll.Interp3D($B$18:$B$134,$C$18:$C$134,$D$18:$D$134,E813,F813)","v":39.813759999694561}]
[null,null,null,null,1.3000000001000003,0.3,{"$f":"_xll.Interp3D($B$18:$B$134,$C$18:$C$134,$D$18:$D$134,E814,F814)","v":39.364159999572955}]
[null,null,null,null,1.3000000001000003,0.4,{"$f":"_xll.Interp3D($B$18:$B$134,$C$18:$C$134,$D$18:$D$134,E815,F815)","v":38.954239999489438}]
[null,null,null,null,1.3000000001000003,0.5,{"$f":"_xll.Interp3D($B$18:$B$134,$C$18:$C$134,$D$18:$D$134,E816,F816)","v":38.583999999443996}]
[null,null,null,null,1.3000000001000003,0.6,{"$f":"_xll.Interp3D($B$18:$B$134,$C$18:$C$134,$D$18:$D$134,E817,F817)","v":38.274047999461089}]
[null,null,null,null,1.3000000001000003,0.7,{"$f":"_xll.Interp3D($B$18:$B$134,$C$18:$C$134,$D$18:$D$134,E818,F818)","v":38.024383999540703}]
[null,null,null,null,1.3000000001000003,0.8,{"$f":"_xll.Interp3D($B$18:$B$134,$C$18:$C$134,$D$18:$D$134,E819,F819)","v":37.804095999646172}]
[null,null,null,null,1.3000000001000003,0.9,{"$f":"_xll.Interp3D($B$18:$B$134,$C$18:$C$134,$D$18:$D$134,E820,F820)","v":37.582271999740833}]
[null,null,null,null,1.3000000001000003,1,{"$f":"_xll.Interp3D($B$18:$B$134,$C$18:$C$134,$D$18:$D$134,E821,F821)","v":37.327999999788005}]
[null,null,null,null,1.3000000001000003,1.1000000000000001,{"$f":"_xll.Interp3D($B$18:$B$134,$C$18:$C$134,$D$18:$D$134,E822,F822)","v":36.991231999759712}]
[null,null,null,null,1.3000000001000003,1.2,{"$f":"_xll.Interp3D($B$18:$B$134,$C$18:$C$134,$D$18:$D$134,E823,F823)","v":36.59257599968042}]
[null,null,null,null,1.3000000001000003,1.3,{"$f":"_xll.Interp3D($B$18:$B$134,$C$18:$C$134,$D$18:$D$134,E824,F824)","v":36.207103999592064}]
[null,null,null,null,1.3000000001000003,1.4,{"$f":"_xll.Interp3D($B$18:$B$134,$C$18:$C$134,$D$18:$D$134,E825,F825)","v":35.909887999536608}]
[null,null,null,null,1.3000000001000003,1.5,{"$f":"_xll.Interp3D($B$18:$B$134,$C$18:$C$134,$D$18:$D$134,E826,F826)","v":35.775999999556007}]
[null,null,null,null,1.3000000001000003,1.6,{"$f":"_xll.Interp3D($B$18:$B$134,$C$18:$C$134,$D$18:$D$134,E827,F827)","v":35.884159999684165}]
[null,null,null,null,1.3000000001000003,1.7,{"$f":"_xll.Interp3D($B$18:$B$134,$C$18:$C$134,$D$18:$D$134,E828,F828)","v":36.184319999893127}]
[null,null,null,null,1.3000000001000003,1.8,{"$f":"_xll.Interp3D($B$18:$B$134,$C$18:$C$134,$D$18:$D$134,E829,F829)","v":36.558400000131996}]
[null,null,null,null,1.3000000001000003,1.9,{"$f":"_xll.Interp3D($B$18:$B$134,$C$18:$C$134,$D$18:$D$134,E830,F830)","v":36.888320000349921}]
[null,null,null,null,1.3000000001000003,2,{"$f":"_xll.Interp3D($B$18:$B$134,$C$18:$C$134,$D$18:$D$134,E831,F831)","v":37.056000000495999}]
[null,null,null,null,1.3000000001000003,2.1,{"$f":"_xll.Interp3D($B$18:$B$134,$C$18:$C$134,$D$18:$D$134,E832,F832)","v":37.02099200056243}]
[null,null,null,null,1.3000000001000003,2.2000000000000002,{"$f":"_xll.Interp3D($B$18:$B$134,$C$18:$C$134,$D$18:$D$134,E833,F833)","v":36.862016000583139}]
[null,null,null,null,1.3000000001000003,2.2999999999999998,{"$f":"_xll.Interp3D($B$18:$B$134,$C$18:$C$134,$D$18:$D$134,E834,F834)","v":36.63974400056982}]
[null,null,null,null,1.3000000001000003,2.4,{"$f":"_xll.Interp3D($B$18:$B$134,$C$18:$C$134,$D$18:$D$134,E835,F835)","v":36.414848000534214}]
[null,null,null,null,1.3000000001000003,2.5,{"$f":"_xll.Interp3D($B$18:$B$134,$C$18:$C$134,$D$18:$D$134,E836,F836)","v":36.248000000488005}]
[null,null,null,null,1.3000000001000003,2.6,{"$f":"_xll.Interp3D($B$18:$B$134,$C$18:$C$134,$D$18:$D$134,E837,F837)","v":36.124864000425504}]
[null,null,null,null,1.3000000001000003,2.7,{"$f":"_xll.Interp3D($B$18:$B$134,$C$18:$C$134,$D$18:$D$134,E838,F838)","v":36.004992000338909}]
[null,null,null,null,1.3000000001000003,2.8,{"$f":"_xll.Interp3D($B$18:$B$134,$C$18:$C$134,$D$18:$D$134,E839,F839)","v":35.909888000236776}]
[null,null,null,null,1.3000000001000003,2.9,{"$f":"_xll.Interp3D($B$18:$B$134,$C$18:$C$134,$D$18:$D$134,E840,F840)","v":35.861056000127618}]
[null,null,null,null,1.3000000001000003,3,{"$f":"_xll.Interp3D($B$18:$B$134,$C$18:$C$134,$D$18:$D$134,E841,F841)","v":35.880000000020004}]
[null,null,null,null,1.3000000001000003,3.1,{"$f":"_xll.Interp3D($B$18:$B$134,$C$18:$C$134,$D$18:$D$134,E842,F842)","v":36.005247999890685}]
[null,null,null,null,1.3000000001000003,3.2,{"$f":"_xll.Interp3D($B$18:$B$134,$C$18:$C$134,$D$18:$D$134,E843,F843)","v":36.222463999733989}]
[null,null,null,null,1.3000000001000003,3.3,{"$f":"_xll.Interp3D($B$18:$B$134,$C$18:$C$134,$D$18:$D$134,E844,F844)","v":36.473855999584735}]
[null,null,null,null,1.3000000001000003,3.4,{"$f":"_xll.Interp3D($B$18:$B$134,$C$18:$C$134,$D$18:$D$134,E845,F845)","v":36.701631999477783}]
[null,null,null,null,1.3000000001000003,3.5,{"$f":"_xll.Interp3D($B$18:$B$134,$C$18:$C$134,$D$18:$D$134,E846,F846)","v":36.847999999448}]
[null,null,null,null,1.3000000001000003,3.6,{"$f":"_xll.Interp3D($B$18:$B$134,$C$18:$C$134,$D$18:$D$134,E847,F847)","v":36.927551999541635}]
[null,null,null,null,{"$f":"E787+0.1","v":1.3000000001000003},{"$f":"F787","v":3.7},{"$f":"_xll.Interp3D($B$18:$B$134,$C$18:$C$134,$D$18:$D$134,E848,F848)","v":36.978815999735453}]
[null,null,null,null,1.3000000001000003,3.8,{"$f":"_xll.Interp3D($B$18:$B$134,$C$18:$C$134,$D$18:$D$134,E849,F849)","v":36.979903999960072}]
[null,null,null,null,1.3000000001000003,3.9,{"$f":"_xll.Interp3D($B$18:$B$134,$C$18:$C$134,$D$18:$D$134,E850,F850)","v":36.908928000146048}]
[null,null,null,null,1.3000000001000003,4,{"$f":"_xll.Interp3D($B$18:$B$134,$C$18:$C$134,$D$18:$D$134,E851,F851)","v":36.744000000224005}]
[null,null,null,null,1.3000000001000003,4.0999999999999996,{"$f":"_xll.Interp3D($B$18:$B$134,$C$18:$C$134,$D$18:$D$134,E852,F852)","v":36.415616000148418}]
[null,null,null,null,1.3000000001000003,4.2,{"$f":"_xll.Interp3D($B$18:$B$134,$C$18:$C$134,$D$18:$D$134,E853,F853)","v":35.938367999965557}]
[null,null,null,null,1.3000000001000003,4.3,{"$f":"_xll.Interp3D($B$18:$B$134,$C$18:$C$134,$D$18:$D$134,E854,F854)","v":35.416511999743712}]
[null,null,null,null,1.3000000001000003,4.4000000000000004,{"$f":"_xll.Interp3D($B$18:$B$134,$C$18:$C$134,$D$18:$D$134,E855,F855)","v":34.954303999551101}]
[null,null,null,null,1.3000000001000003,4.5,{"$f":"_xll.Interp3D($B$18:$B$134,$C$18:$C$134,$D$18:$D$134,E856,F856)","v":34.655999999456}]
[null,null,null,null,1.3000000001000003,4.5999999999999996,{"$f":"_xll.Interp3D($B$18:$B$134,$C$18:$C$134,$D$18:$D$134,E857,F857)","v":34.581247999486692}]
[null,null,null,null,1.3000000001000003,4.7,{"$f":"_xll.Interp3D($B$18:$B$134,$C$18:$C$134,$D$18:$D$134,E858,F858)","v":34.660543999597657}]
[null,null,null,null,1.3000000001000003,4.8,{"$f":"_xll.Interp3D($B$18:$B$134,$C$18:$C$134,$D$18:$D$134,E859,F859)","v":34.804415999746503}]
[null,null,null,null,1.3000000001000003,4.9000000000000004,{"$f":"_xll.Interp3D($B$18:$B$134,$C$18:$C$134,$D$18:$D$134,E860,F860)","v":34.923391999890747}]
[null,null,null,null,1.3000000001000003,5,{"$f":"_xll.Interp3D($B$18:$B$134,$C$18:$C$134,$D$18:$D$134,E861,F861)","v":34.927999999988003}]
[null,null,null,null,1.3000000001000003,5.0999999999999996,{"$f":"_xll.Interp3D($B$18:$B$134,$C$18:$C$134,$D$18:$D$134,E862,F862)","v":34.75820800003293}]
[null,null,null,null,1.3000000001000003,5.2,{"$f":"_xll.Interp3D($B$18:$B$134,$C$18:$C$134,$D$18:$D$134,E863,F863)","v":34.47366400005383}]
[null,null,null,null,1.3000000001000003,5.3,{"$f":"_xll.Interp3D($B$18:$B$134,$C$18:$C$134,$D$18:$D$134,E864,F864)","v":34.164416000058651}]
[null,null,null,null,1.3000000001000003,5.4,{"$f":"_xll.Interp3D($B$18:$B$134,$C$18:$C$134,$D$18:$D$134,E865,F865)","v":33.920512000055396}]
[null,null,null,null,1.3000000001000003,5.5,{"$f":"_xll.Interp3D($B$18:$B$134,$C$18:$C$134,$D$18:$D$134,E866,F866)","v":33.832000000051998}]
[null,null,null,null,1.3000000001000003,5.6,{"$f":"_xll.Interp3D($B$18:$B$134,$C$18:$C$134,$D$18:$D$134,E867,F867)","v":33.898880000048479}]
[null,null,null,null,1.3000000001000003,5.7,{"$f":"_xll.Interp3D($B$18:$B$134,$C$18:$C$134,$D$18:$D$134,E868,F868)","v":34.061120000039516}]
[null,null,null,null,1.3000000001000003,5.8,{"$f":"_xll.Interp3D($B$18:$B$134,$C$18:$C$134,$D$18:$D$134,E869,F869)","v":34.318720000025124}]
[null,null,null,null,1.3000000001000003,5.9,{"$f":"_xll.Interp3D($B$18:$B$134,$C$18:$C$134,$D$18:$D$134,E870,F870)","v":34.671680000005281}]
[null,null,null,null,1.3000000001000003,6,{"$f":"_xll.Interp3D($B$18:$B$134,$C$18:$C$134,$D$18:$D$134,E871,F871)","v":35.119999999980003}]
[null,null,null,null,1.4000000001000004,0,{"$f":"_xll.Interp3D($B$18:$B$134,$C$18:$C$134,$D$18:$D$134,E872,F872)","v":40.904000000088004}]
[null,null,null,null,1.4000000001000004,0.1,{"$f":"_xll.Interp3D($B$18:$B$134,$C$18:$C$134,$D$18:$D$134,E873,F873)","v":40.20607999996016}]
[null,null,null,null,1.4000000001000004,0.2,{"$f":"_xll.Interp3D($B$18:$B$134,$C$18:$C$134,$D$18:$D$134,E874,F874)","v":39.579519999855044}]
[null,null,null,null,1.4000000001000004,0.3,{"$f":"_xll.Interp3D($B$18:$B$134,$C$18:$C$134,$D$18:$D$134,E875,F875)","v":39.024319999772636}]
[null,null,null,null,1.4000000001000004,0.4,{"$f":"_xll.Interp3D($B$18:$B$134,$C$18:$C$134,$D$18:$D$134,E876,F876)","v":38.540479999712957}]
[null,null,null,null,1.4000000001000004,0.5,{"$f":"_xll.Interp3D($B$18:$B$134,$C$18:$C$134,$D$18:$D$134,E877,F877)","v":38.127999999676}]
[null,null,null,null,1.4000000001000004,0.6,{"$f":"_xll.Interp3D($B$18:$B$134,$C$18:$C$134,$D$18:$D$134,E878,F878)","v":37.828095999676997}]
[null,null,null,null,1.4000000001000004,0.7,{"$f":"_xll.Interp3D($B$18:$B$134,$C$18:$C$134,$D$18:$D$134,E879,F879)","v":37.640767999715933}]
[null,null,null,null,1.4000000001000004,0.8,{"$f":"_xll.Interp3D($B$18:$B$134,$C$18:$C$134,$D$18:$D$134,E880,F880)","v":37.504191999769979}]
[null,null,null,null,1.4000000001000004,0.9,{"$f":"_xll.Interp3D($B$18:$B$134,$C$18:$C$134,$D$18:$D$134,E881,F881)","v":37.356543999816282}]
[null,null,null,null,1.4000000001000004,1,{"$f":"_xll.Interp3D($B$18:$B$134,$C$18:$C$134,$D$18:$D$134,E882,F882)","v":37.135999999832002}]
[null,null,null,null,1.4000000001000004,1.1000000000000001,{"$f":"_xll.Interp3D($B$18:$B$134,$C$18:$C$134,$D$18:$D$134,E883,F883)","v":36.766143999793243}]
[null,null,null,null,1.4000000001000004,1.2,{"$f":"_xll.Interp3D($B$18:$B$134,$C$18:$C$134,$D$18:$D$134,E884,F884)","v":36.288191999715266}]
[null,null,null,null,1.4000000001000004,1.3,{"$f":"_xll.Interp3D($B$18:$B$134,$C$18:$C$134,$D$18:$D$134,E885,F885)","v":35.816767999633853}]
[null,null,null,null,1.4000000001000004,1.4,{"$f":"_xll.Interp3D($B$18:$B$134,$C$18:$C$134,$D$18:$D$134,E886,F886)","v":35.466495999584829}]
[null,null,null,null,1.4000000001000004,1.5,{"$f":"_xll.Interp3D($B$18:$B$134,$C$18:$C$134,$D$18:$D$134,E887,F887)","v":35.351999999603997}]
[null,null,null,null,1.4000000001000004,1.6,{"$f":"_xll.Interp3D($B$18:$B$134,$C$18:$C$134,$D$18:$D$134,E888,F888)","v":35.585919999724638}]
[null,null,null,null,1.4000000001000004,1.7,{"$f":"_xll.Interp3D($B$18:$B$134,$C$18:$C$134,$D$18:$D$134,E889,F889)","v":36.091839999922882}]
[null,null,null,null,1.4000000001000004,1.8,{"$f":"_xll.Interp3D($B$18:$B$134,$C$18:$C$134,$D$18:$D$134,E890,F890)","v":36.700800000148796}]
[null,null,null,null,1.4000000001000004,1.9,{"$f":"_xll.Interp3D($B$18:$B$134,$C$18:$C$134,$D$18:$D$134,E891,F891)","v":37.243840000352485}]
[null,null,null,null,1.4000000001000004,2,{"$f":"_xll.Interp3D($B$18:$B$134,$C$18:$C$134,$D$18:$D$134,E892,F892)","v":37.552000000484}]
[null,null,null,null,1.4000000001000004,2.1,{"$f":"_xll.Interp3D($B$18:$B$134,$C$18:$C$134,$D$18:$D$134,E893,F893)","v":37.575104000531645}]
[null,null,null,null,1.4000000001000004,2.2000000000000002,{"$f":"_xll.Interp3D($B$18:$B$134,$C$18:$C$134,$D$18:$D$134,E894,F894)","v":37.425792000528709}]
[null,null,null,null,1.4000000001000004,2.2999999999999998,{"$f":"_xll.Interp3D($B$18:$B$134,$C$18:$C$134,$D$18:$D$134,E895,F895)","v":37.179328000492738}]
[null,null,null,null,1.4000000001000004,2.4,{"$f":"_xll.Interp3D($B$18:$B$134,$C$18:$C$134,$D$18:$D$134,E896,F896)","v":36.910976000441323}]
[null,null,null,null,1.4000000001000004,2.5,{"$f":"_xll.Interp3D($B$18:$B$134,$C$18:$C$134,$D$18:$D$134,E897,F897)","v":36.696000000392004}]
[null,null,null,null,1.4000000001000004,2.6,{"$f":"_xll.Interp3D($B$18:$B$134,$C$18:$C$134,$D$18:$D$134,E898,F898)","v":36.516608000343773}]
[null,null,null,null,1.4000000001000004,2.7,{"$f":"_xll.Interp3D($B$18:$B$134,$C$18:$C$134,$D$18:$D$134,E899,F899)","v":36.322624000284932}]
[null,null,null,null,1.4000000001000004,2.8,{"$f":"_xll.Interp3D($B$18:$B$134,$C$18:$C$134,$D$18:$D$134,E900,F900)","v":36.140736000216997}]
[null,null,null,null,1.4000000001000004,2.9,{"$f":"_xll.Interp3D($B$18:$B$134,$C$18:$C$134,$D$18:$D$134,E901,F901)","v":35.997632000141508}]
[null,null,null,null,1.4000000001000004,3,{"$f":"_xll.Interp3D($B$18:$B$134,$C$18:$C$134,$D$18:$D$134,E902,F902)","v":35.92000000006}]
[null,null,null,null,1.4000000001000004,3.1,{"$f":"_xll.Interp3D($B$18:$B$134,$C$18:$C$134,$D$18:$D$134,E903,F903)","v":35.924095999952186}]
[null,null,null,null,1.4000000001000004,3.2,{"$f":"_xll.Interp3D($B$18:$B$134,$C$18:$C$134,$D$18:$D$134,E904,F904)","v":35.992127999817058}]
[null,null,null,null,1.4000000001000004,3.3,{"$f":"_xll.Interp3D($B$18:$B$134,$C$18:$C$134,$D$18:$D$134,E905,F905)","v":36.099711999685027}]
[null,null,null,null,1.4000000001000004,3.4,{"$f":"_xll.Interp3D($B$18:$B$134,$C$18:$C$134,$D$18:$D$134,E906,F906)","v":36.222463999586516}]
[null,null,null,null,1.4000000001000004,3.5,{"$f":"_xll.Interp3D($B$18:$B$134,$C$18:$C$134,$D$18:$D$134,E907,F907)","v":36.335999999552001}]
[null,null,null,null,1.4000000001000004,3.6,{"$f":"_xll.Interp3D($B$18:$B$134,$C$18:$C$134,$D$18:$D$134,E908,F908)","v":36.496383999616135}]
[null,null,null,null,1.4000000001000004,3.7,{"$f":"_xll.Interp3D($B$18:$B$134,$C$18:$C$134,$D$18:$D$134,E909,F909)","v":36.719871999758624}]
[null,null,null,null,1.4000000001000004,3.8,{"$f":"_xll.Interp3D($B$18:$B$134,$C$18:$C$134,$D$18:$D$134,E910,F910)","v":36.922367999927459}]
[null,null,null,null,1.4000000001000004,3.9,{"$f":"_xll.Interp3D($B$18:$B$134,$C$18:$C$134,$D$18:$D$134,E911,F911)","v":37.019776000070593}]
[null,null,null,null,{"$f":"E851+0.1","v":1.4000000001000004},{"$f":"F851","v":4},{"$f":"_xll.Interp3D($B$18:$B$134,$C$18:$C$134,$D$18:$D$134,E912,F912)","v":36.928000000136002}]
[null,null,null,null,1.4000000001000004,4.0999999999999996,{"$f":"_xll.Interp3D($B$18:$B$134,$C$18:$C$134,$D$18:$D$134,E913,F913)","v":36.538112000092397}]
[null,null,null,null,1.4000000001000004,4.2,{"$f":"_xll.Interp3D($B$18:$B$134,$C$18:$C$134,$D$18:$D$134,E914,F914)","v":35.906175999974423}]
[null,null,null,null,1.4000000001000004,4.3,{"$f":"_xll.Interp3D($B$18:$B$134,$C$18:$C$134,$D$18:$D$134,E915,F915)","v":35.195583999829083}]
[null,null,null,null,1.4000000001000004,4.4000000000000004,{"$f":"_xll.Interp3D($B$18:$B$134,$C$18:$C$134,$D$18:$D$134,E916,F916)","v":34.569727999703289}]
[null,null,null,null,1.4000000001000004,4.5,{"$f":"_xll.Interp3D($B$18:$B$134,$C$18:$C$134,$D$18:$D$134,E917,F917)","v":34.191999999643997}]
[null,null,null,null,1.4000000001000004,4.5999999999999996,{"$f":"_xll.Interp3D($B$18:$B$134,$C$18:$C$134,$D$18:$D$134,E918,F918)","v":34.146495999670599}]
[null,null,null,null,1.4000000001000004,4.7,{"$f":"_xll.Interp3D($B$18:$B$134,$C$18:$C$134,$D$18:$D$134,E919,F919)","v":34.324287999751775}]
[null,null,null,null,1.4000000001000004,4.8,{"$f":"_xll.Interp3D($B$18:$B$134,$C$18:$C$134,$D$18:$D$134,E920,F920)","v":34.599231999858468}]
[null,null,null,null,1.4000000001000004,4.9000000000000004,{"$f":"_xll.Interp3D($B$18:$B$134,$C$18:$C$134,$D$18:$D$134,E921,F921)","v":34.845183999961563}]
[null,null,null,null,1.4000000001000004,5,{"$f":"_xll.Interp3D($B$18:$B$134,$C$18:$C$134,$D$18:$D$134,E922,F922)","v":34.936000000031996}]
[null,null,null,null,1.4000000001000004,5.0999999999999996,{"$f":"_xll.Interp3D($B$18:$B$134,$C$18:$C$134,$D$18:$D$134,E923,F923)","v":34.807936000067706}]
[null,null,null,null,1.4000000001000004,5.2,{"$f":"_xll.Interp3D($B$18:$B$134,$C$18:$C$134,$D$18:$D$134,E924,F924)","v":34.5450880000881}]
[null,null,null,null,1.4000000001000004,5.3,{"$f":"_xll.Interp3D($B$18:$B$134,$C$18:$C$134,$D$18:$D$134,E925,F925)","v":34.24307200009622}]
[null,null,null,null,1.4000000001000004,5.4,{"$f":"_xll.Interp3D($B$18:$B$134,$C$18:$C$134,$D$18:$D$134,E926,F926)","v":33.997504000095169}]
[null,null,null,null,1.4000000001000004,5.5,{"$f":"_xll.Interp3D($B$18:$B$134,$C$18:$C$134,$D$18:$D$134,E927,F927)","v":33.904000000087997}]
[null,null,null,null,1.4000000001000004,5.6,{"$f":"_xll.Interp3D($B$18:$B$134,$C$18:$C$134,$D$18:$D$134,E928,F928)","v":33.962560000074717}]
[null,null,null,null,1.4000000001000004,5.7,{"$f":"_xll.Interp3D($B$18:$B$134,$C$18:$C$134,$D$18:$D$134,E929,F929)","v":34.109440000053276}]
[null,null,null,null,1.4000000001000004,5.8,{"$f":"_xll.Interp3D($B$18:$B$134,$C$18:$C$134,$D$18:$D$134,E930,F930)","v":34.344640000023674}]
[null,null,null,null,1.4000000001000004,5.9,{"$f":"_xll.Interp3D($B$18:$B$134,$C$18:$C$134,$D$18:$D$134,E931,F931)","v":34.668159999985917}]
[null,null,null,null,1.4000000001000004,6,{"$f":"_xll.Interp3D($B$18:$B$134,$C$18:$C$134,$D$18:$D$134,E932,F932)","v":35.07999999994}]
[null,null,null,null,1.5000000001000005,0,{"$f":"_xll.Interp3D($B$18:$B$134,$C$18:$C$134,$D$18:$D$134,E933,F933)","v":41.000000000100002}]
[null,null,null,null,1.5000000001000005,0.1,{"$f":"_xll.Interp3D($B$18:$B$134,$C$18:$C$134,$D$18:$D$134,E934,F934)","v":40.240000000115998}]
[null,null,null,null,1.5000000001000005,0.2,{"$f":"_xll.Interp3D($B$18:$B$134,$C$18:$C$134,$D$18:$D$134,E935,F935)","v":39.560000000124006}]
[null,null,null,null,1.5000000001000005,0.3,{"$f":"_xll.Interp3D($B$18:$B$134,$C$18:$C$134,$D$18:$D$134,E936,F936)","v":38.960000000123998}]
[null,null,null,null,1.5000000001000005,0.4,{"$f":"_xll.Interp3D($B$18:$B$134,$C$18:$C$134,$D$18:$D$134,E937,F937)","v":38.440000000116001}]
[null,null,null,null,1.5000000001000005,0.5,{"$f":"_xll.Interp3D($B$18:$B$134,$C$18:$C$134,$D$18:$D$134,E938,F938)","v":38.000000000100002}]
[null,null,null,null,1.5000000001000005,0.6,{"$f":"_xll.Interp3D($B$18:$B$134,$C$18:$C$134,$D$18:$D$134,E939,F939)","v":37.688000000072805}]
[null,null,null,null,1.5000000001000005,0.7,{"$f":"_xll.Interp3D($B$18:$B$134,$C$18:$C$134,$D$18:$D$134,E940,F940)","v":37.504000000034395}]
[null,null,null,null,1.5000000001000005,0.8,{"$f":"_xll.Interp3D($B$18:$B$134,$C$18:$C$134,$D$18:$D$134,E941,F941)","v":37.375999999989595}]
[null,null,null,null,1.5000000001000005,0.9,{"$f":"_xll.Interp3D($B$18:$B$134,$C$18:$C$134,$D$18:$D$134,E942,F942)","v":37.231999999943199}]
[null,null,null,null,1.5000000001000005,1,{"$f":"_xll.Interp3D($B$18:$B$134,$C$18:$C$134,$D$18:$D$134,E943,F943)","v":36.999999999899998}]
[null,null,null,null,1.5000000001000005,1.1000000000000001,{"$f":"_xll.Interp3D($B$18:$B$134,$C$18:$C$134,$D$18:$D$134,E944,F944)","v":36.583999999845602}]
[null,null,null,null,1.5000000001000005,1.2,{"$f":"_xll.Interp3D($B$18:$B$134,$C$18:$C$134,$D$18:$D$134,E945,F945)","v":36.031999999776801}]
[null,null,null,null,1.5000000001000005,1.3,{"$f":"_xll.Interp3D($B$18:$B$134,$C$18:$C$134,$D$18:$D$134,E946,F946)","v":35.4879999997152}]
[null,null,null,null,1.5000000001000005,1.4,{"$f":"_xll.Interp3D($B$18:$B$134,$C$18:$C$134,$D$18:$D$134,E947,F947)","v":35.095999999682391}]
[null,null,null,null,1.5000000001000005,1.5,{"$f":"_xll.Interp3D($B$18:$B$134,$C$18:$C$134,$D$18:$D$134,E948,F948)","v":34.999999999699995}]
[null,null,null,null,1.5000000001000005,1.6,{"$f":"_xll.Interp3D($B$18:$B$134,$C$18:$C$134,$D$18:$D$134,E949,F949)","v":35.3439999997968}]
[null,null,null,null,1.5000000001000005,1.7,{"$f":"_xll.Interp3D($B$18:$B$134,$C$18:$C$134,$D$18:$D$134,E950,F950)","v":36.031999999958401}]
[null,null,null,null,1.5000000001000005,1.8,{"$f":"_xll.Interp3D($B$18:$B$134,$C$18:$C$134,$D$18:$D$134,E951,F951)","v":36.848000000141596}]
[null,null,null,null,1.5000000001000005,1.9,{"$f":"_xll.Interp3D($B$18:$B$134,$C$18:$C$134,$D$18:$D$134,E952,F952)","v":37.576000000303196}]
[null,null,null,null,1.5000000001000005,2,{"$f":"_xll.Interp3D($B$18:$B$134,$C$18:$C$134,$D$18:$D$134,E953,F953)","v":38.0000000004}]
[null,null,null,null,1.5000000001000005,2.1,{"$f":"_xll.Interp3D($B$18:$B$134,$C$18:$C$134,$D$18:$D$134,E954,F954)","v":38.056000000415999}]
[null,null,null,null,1.5000000001000005,2.2000000000000002,{"$f":"_xll.Interp3D($B$18:$B$134,$C$18:$C$134,$D$18:$D$134,E955,F955)","v":37.888000000380003}]
[null,null,null,null,1.5000000001000005,2.2999999999999998,{"$f":"_xll.Interp3D($B$18:$B$134,$C$18:$C$134,$D$18:$D$134,E956,F956)","v":37.592000000316006}]
[null,null,null,null,1.5000000001000005,2.4,{"$f":"_xll.Interp3D($B$18:$B$134,$C$18:$C$134,$D$18:$D$134,E957,F957)","v":37.264000000248004}]
[null,null,null,null,1.5000000001000005,2.5,{"$f":"_xll.Interp3D($B$18:$B$134,$C$18:$C$134,$D$18:$D$134,E958,F958)","v":37.000000000200004}]
[null,null,null,null,1.5000000001000005,2.6,{"$f":"_xll.Interp3D($B$18:$B$134,$C$18:$C$134,$D$18:$D$134,E959,F959)","v":36.784000000176803}]
[null,null,null,null,1.5000000001000005,2.7,{"$f":"_xll.Interp3D($B$18:$B$134,$C$18:$C$134,$D$18:$D$134,E960,F960)","v":36.552000000162394}]
[null,null,null,null,1.5000000001000005,2.8,{"$f":"_xll.Interp3D($B$18:$B$134,$C$18:$C$134,$D$18:$D$134,E961,F961)","v":36.328000000149601}]
[null,null,null,null,1.5000000001000005,2.9,{"$f":"_xll.Interp3D($B$18:$B$134,$C$18:$C$134,$D$18:$D$134,E962,F962)","v":36.136000000131205}]
[null,null,null,null,1.5000000001000005,3,{"$f":"_xll.Interp3D($B$18:$B$134,$C$18:$C$134,$D$18:$D$134,E963,F963)","v":36.000000000099995}]
[null,null,null,null,1.5000000001000005,3.1,{"$f":"_xll.Interp3D($B$18:$B$134,$C$18:$C$134,$D$18:$D$134,E964,F964)","v":35.920000000044794}]
[null,null,null,null,1.5000000001000005,3.2,{"$f":"_xll.Interp3D($B$18:$B$134,$C$18:$C$134,$D$18:$D$134,E965,F965)","v":35.879999999970401}]
[null,null,null,null,1.5000000001000005,3.3,{"$f":"_xll.Interp3D($B$18:$B$134,$C$18:$C$134,$D$18:$D$134,E966,F966)","v":35.879999999893599}]
[null,null,null,null,1.5000000001000005,3.4,{"$f":"_xll.Interp3D($B$18:$B$134,$C$18:$C$134,$D$18:$D$134,E967,F967)","v":35.919999999831191}]
[null,null,null,null,1.5000000001000005,3.5,{"$f":"_xll.Interp3D($B$18:$B$134,$C$18:$C$134,$D$18:$D$134,E968,F968)","v":35.999999999799996}]
[null,null,null,null,1.5000000001000005,3.6,{"$f":"_xll.Interp3D($B$18:$B$134,$C$18:$C$134,$D$18:$D$134,E969,F969)","v":36.199999999811197}]
[null,null,null,null,1.5000000001000005,3.7,{"$f":"_xll.Interp3D($B$18:$B$134,$C$18:$C$134,$D$18:$D$134,E970,F970)","v":36.519999999853603}]
[null,null,null,null,1.5000000001000005,3.8,{"$f":"_xll.Interp3D($B$18:$B$134,$C$18:$C$134,$D$18:$D$134,E971,F971)","v":36.839999999910404}]
[null,null,null,null,1.5000000001000005,3.9,{"$f":"_xll.Interp3D($B$18:$B$134,$C$18:$C$134,$D$18:$D$134,E972,F972)","v":37.039999999964799}]
[null,null,null,null,1.5000000001000005,4,{"$f":"_xll.Interp3D($B$18:$B$134,$C$18:$C$134,$D$18:$D$134,E973,F973)","v":37}]
[null,null,null,null,1.5000000001000005,4.0999999999999996,{"$f":"_xll.Interp3D($B$18:$B$134,$C$18:$C$134,$D$18:$D$134,E974,F974)","v":36.592000000011211}]
[null,null,null,null,1.5000000001000005,4.2,{"$f":"_xll.Interp3D($B$18:$B$134,$C$18:$C$134,$D$18:$D$134,E975,F975)","v":35.896000000009593}]
[null,null,null,null,{"$f":"E915+0.1","v":1.5000000001000005},{"$f":"F915","v":4.3},{"$f":"_xll.Interp3D($B$18:$B$134,$C$18:$C$134,$D$18:$D$134,E976,F976)","v":35.104000000002401}]
[null,null,null,null,1.5000000001000005,4.4000000000000004,{"$f":"_xll.Interp3D($B$18:$B$134,$C$18:$C$134,$D$18:$D$134,E977,F977)","v":34.40799999999679}]
[null,null,null,null,1.5000000001000005,4.5,{"$f":"_xll.Interp3D($B$18:$B$134,$C$18:$C$134,$D$18:$D$134,E978,F978)","v":34}]
[null,null,null,null,1.5000000001000005,4.5999999999999996,{"$f":"_xll.Interp3D($B$18:$B$134,$C$18:$C$134,$D$18:$D$134,E979,F979)","v":33.976000000015205}]
[null,null,null,null,1.5000000001000005,4.7,{"$f":"_xll.Interp3D($B$18:$B$134,$C$18:$C$134,$D$18:$D$134,E980,F980)","v":34.2080000000376}]
[null,null,null,null,1.5000000001000005,4.8,{"$f":"_xll.Interp3D($B$18:$B$134,$C$18:$C$134,$D$18:$D$134,E981,F981)","v":34.552000000062407}]
[null,null,null,null,1.5000000001000005,4.9000000000000004,{"$f":"_xll.Interp3D($B$18:$B$134,$C$18:$C$134,$D$18:$D$134,E982,F982)","v":34.8640000000848}]
[null,null,null,null,1.5000000001000005,5,{"$f":"_xll.Interp3D($B$18:$B$134,$C$18:$C$134,$D$18:$D$134,E983,F983)","v":35.000000000100002}]
[null,null,null,null,1.5000000001000005,5.0999999999999996,{"$f":"_xll.Interp3D($B$18:$B$134,$C$18:$C$134,$D$18:$D$134,E984,F984)","v":34.896000000109602}]
[null,null,null,null,1.5000000001000005,5.2,{"$f":"_xll.Interp3D($B$18:$B$134,$C$18:$C$134,$D$18:$D$134,E985,F985)","v":34.648000000116802}]
[null,null,null,null,1.5000000001000005,5.3,{"$f":"_xll.Interp3D($B$18:$B$134,$C$18:$C$134,$D$18:$D$134,E986,F986)","v":34.352000000119197}]
[null,null,null,null,1.5000000001000005,5.4,{"$f":"_xll.Interp3D($B$18:$B$134,$C$18:$C$134,$D$18:$D$134,E987,F987)","v":34.104000000114397}]
[null,null,null,null,1.5000000001000005,5.5,{"$f":"_xll.Interp3D($B$18:$B$134,$C$18:$C$134,$D$18:$D$134,E988,F988)","v":34.000000000100002}]
[null,null,null,null,1.5000000001000005,5.6,{"$f":"_xll.Interp3D($B$18:$B$134,$C$18:$C$134,$D$18:$D$134,E989,F989)","v":34.040000000075999}]
[null,null,null,null,1.5000000001000005,5.7,{"$f":"_xll.Interp3D($B$18:$B$134,$C$18:$C$134,$D$18:$D$134,E990,F990)","v":34.160000000043993}]
[null,null,null,null,1.5000000001000005,5.8,{"$f":"_xll.Interp3D($B$18:$B$134,$C$18:$C$134,$D$18:$D$134,E991,F991)","v":34.360000000004}]
[null,null,null,null,1.5000000001000005,5.9,{"$f":"_xll.Interp3D($B$18:$B$134,$C$18:$C$134,$D$18:$D$134,E992,F992)","v":34.639999999956004}]
[null,null,null,null,1.5000000001000005,6,{"$f":"_xll.Interp3D($B$18:$B$134,$C$18:$C$134,$D$18:$D$134,E993,F993)","v":34.999999999899998}]
[null,null,null,null,1.6000000001000005,0,{"$f":"_xll.Interp3D($B$18:$B$134,$C$18:$C$134,$D$18:$D$134,E994,F994)","v":41.168000000223998}]
[null,null,null,null,1.6000000001000005,0.1,{"$f":"_xll.Interp3D($B$18:$B$134,$C$18:$C$134,$D$18:$D$134,E995,F995)","v":40.501440000382715}]
[null,null,null,null,1.6000000001000005,0.2,{"$f":"_xll.Interp3D($B$18:$B$134,$C$18:$C$134,$D$18:$D$134,E996,F996)","v":39.888960000500482}]
[null,null,null,null,1.6000000001000005,0.3,{"$f":"_xll.Interp3D($B$18:$B$134,$C$18:$C$134,$D$18:$D$134,E997,F997)","v":39.330560000577279}]
[null,null,null,null,1.6000000001000005,0.4,{"$f":"_xll.Interp3D($B$18:$B$134,$C$18:$C$134,$D$18:$D$134,E998,F998)","v":38.826240000613126}]
[null,null,null,null,1.6000000001000005,0.5,{"$f":"_xll.Interp3D($B$18:$B$134,$C$18:$C$134,$D$18:$D$134,E999,F999)","v":38.376000000608009}]
[null,null,null,null,1.6000000001000005,0.6,{"$f":"_xll.Interp3D($B$18:$B$134,$C$18:$C$134,$D$18:$D$134,E1000,F1000)","v":38.014144000539396}]
[null,null,null,null,1.6000000001000005,0.7,{"$f":"_xll.Interp3D($B$18:$B$134,$C$18:$C$134,$D$18:$D$134,E1001,F1001)","v":37.740672000407294}]
[null,null,null,null,1.6000000001000005,0.8,{"$f":"_xll.Interp3D($B$18:$B$134,$C$18:$C$134,$D$18:$D$134,E1002,F1002)","v":37.504128000245501}]
[null,null,null,null,1.6000000001000005,0.9,{"$f":"_xll.Interp3D($B$18:$B$134,$C$18:$C$134,$D$18:$D$134,E1003,F1003)","v":37.253056000087803}]
[null,null,null,null,1.6000000001000005,1,{"$f":"_xll.Interp3D($B$18:$B$134,$C$18:$C$134,$D$18:$D$134,E1004,F1004)","v":36.935999999968004}]
[null,null,null,null,1.6000000001000005,1.1000000000000001,{"$f":"_xll.Interp3D($B$18:$B$134,$C$18:$C$134,$D$18:$D$134,E1005,F1005)","v":36.445183999876669}]
[null,null,null,null,1.6000000001000005,1.2,{"$f":"_xll.Interp3D($B$18:$B$134,$C$18:$C$134,$D$18:$D$134,E1006,F1006)","v":35.814911999791299}]
[null,null,null,null,1.6000000001000005,1.3,{"$f":"_xll.Interp3D($B$18:$B$134,$C$18:$C$134,$D$18:$D$134,E1007,F1007)","v":35.20684799972598}]
[null,null,null,null,1.6000000001000005,1.4,{"$f":"_xll.Interp3D($B$18:$B$134,$C$18:$C$134,$D$18:$D$134,E1008,F1008)","v":34.782655999694839}]
[null,null,null,null,1.6000000001000005,1.5,{"$f":"_xll.Interp3D($B$18:$B$134,$C$18:$C$134,$D$18:$D$134,E1009,F1009)","v":34.703999999712003}]
[null,null,null,null,1.6000000001000005,1.6,{"$f":"_xll.Interp3D($B$18:$B$134,$C$18:$C$134,$D$18:$D$134,E1010,F1010)","v":35.148031999813853}]
[null,null,null,null,1.6000000001000005,1.7,{"$f":"_xll.Interp3D($B$18:$B$134,$C$18:$C$134,$D$18:$D$134,E1011,F1011)","v":36.006975999991006}]
[null,null,null,null,1.6000000001000005,1.8,{"$f":"_xll.Interp3D($B$18:$B$134,$C$18:$C$134,$D$18:$D$134,E1012,F1012)","v":37.015104000188835}]
[null,null,null,null,1.6000000001000005,1.9,{"$f":"_xll.Interp3D($B$18:$B$134,$C$18:$C$134,$D$18:$D$134,E1013,F1013)","v":37.906688000352709}]
[null,null,null,null,1.6000000001000005,2,{"$f":"_xll.Interp3D($B$18:$B$134,$C$18:$C$134,$D$18:$D$134,E1014,F1014)","v":38.416000000427999}]
[null,null,null,null,1.6000000001000005,2.1,{"$f":"_xll.Interp3D($B$18:$B$134,$C$18:$C$134,$D$18:$D$134,E1015,F1015)","v":38.453696000381889}]
[null,null,null,null,1.6000000001000005,2.2000000000000002,{"$f":"_xll.Interp3D($B$18:$B$134,$C$18:$C$134,$D$18:$D$134,E1016,F1016)","v":38.196928000250786}]
[null,null,null,null,1.6000000001000005,2.2999999999999998,{"$f":"_xll.Interp3D($B$18:$B$134,$C$18:$C$134,$D$18:$D$134,E1017,F1017)","v":37.779712000083933}]
[null,null,null,null,1.6000000001000005,2.4,{"$f":"_xll.Interp3D($B$18:$B$134,$C$18:$C$134,$D$18:$D$134,E1018,F1018)","v":37.336063999930595}]
[null,null,null,null,1.6000000001000005,2.5,{"$f":"_xll.Interp3D($B$18:$B$134,$C$18:$C$134,$D$18:$D$134,E1019,F1019)","v":36.99999999984}]
[null,null,null,null,1.6000000001000005,2.6,{"$f":"_xll.Interp3D($B$18:$B$134,$C$18:$C$134,$D$18:$D$134,E1020,F1020)","v":36.767423999829958}]
[null,null,null,null,1.6000000001000005,2.7,{"$f":"_xll.Interp3D($B$18:$B$134,$C$18:$C$134,$D$18:$D$134,E1021,F1021)","v":36.548991999867617}]
[null,null,null,null,1.6000000001000005,2.8,{"$f":"_xll.Interp3D($B$18:$B$134,$C$18:$C$134,$D$18:$D$134,E1022,F1022)","v":36.350847999926309}]
[null,null,null,null,1.6000000001000005,2.9,{"$f":"_xll.Interp3D($B$18:$B$134,$C$18:$C$134,$D$18:$D$134,E1023,F1023)","v":36.17913599997933}]
[null,null,null,null,1.6000000001000005,3,{"$f":"_xll.Interp3D($B$18:$B$134,$C$18:$C$134,$D$18:$D$134,E1024,F1024)","v":36.039999999999992}]
[null,null,null,null,1.6000000001000005,3.1,{"$f":"_xll.Interp3D($B$18:$B$134,$C$18:$C$134,$D$18:$D$134,E1025,F1025)","v":35.924223999980832}]
[null,null,null,null,1.6000000001000005,3.2,{"$f":"_xll.Interp3D($B$18:$B$134,$C$18:$C$134,$D$18:$D$134,E1026,F1026)","v":35.827711999939623}]
[null,null,null,null,1.6000000001000005,3.3,{"$f":"_xll.Interp3D($B$18:$B$134,$C$18:$C$134,$D$18:$D$134,E1027,F1027)","v":35.764287999887586}]
[null,null,null,null,1.6000000001000005,3.4,{"$f":"_xll.Interp3D($B$18:$B$134,$C$18:$C$134,$D$18:$D$134,E1028,F1028)","v":35.747775999835959}]
[null,null,null,null,1.6000000001000005,3.5,{"$f":"_xll.Interp3D($B$18:$B$134,$C$18:$C$134,$D$18:$D$134,E1029,F1029)","v":35.791999999796005}]
[null,null,null,null,1.6000000001000005,3.6,{"$f":"_xll.Interp3D($B$18:$B$134,$C$18:$C$134,$D$18:$D$134,E1030,F1030)","v":35.977471999758976}]
[null,null,null,null,1.6000000001000005,3.7,{"$f":"_xll.Interp3D($B$18:$B$134,$C$18:$C$134,$D$18:$D$134,E1031,F1031)","v":36.294975999717408}]
[null,null,null,null,1.6000000001000005,3.8,{"$f":"_xll.Interp3D($B$18:$B$134,$C$18:$C$134,$D$18:$D$134,E1032,F1032)","v":36.623743999684351}]
[null,null,null,null,1.6000000001000005,3.9,{"$f":"_xll.Interp3D($B$18:$B$134,$C$18:$C$134,$D$18:$D$134,E1033,F1033)","v":36.843007999672864}]
[null,null,null,null,1.6000000001000005,4,{"$f":"_xll.Interp3D($B$18:$B$134,$C$18:$C$134,$D$18:$D$134,E1034,F1034)","v":36.831999999696002}]
[null,null,null,null,1.6000000001000005,4.0999999999999996,{"$f":"_xll.Interp3D($B$18:$B$134,$C$18:$C$134,$D$18:$D$134,E1035,F1035)","v":36.471935999775013}]
[null,null,null,null,1.6000000001000005,4.2,{"$f":"_xll.Interp3D($B$18:$B$134,$C$18:$C$134,$D$18:$D$134,E1036,F1036)","v":35.843327999901177}]
[null,null,null,null,1.6000000001000005,4.3,{"$f":"_xll.Interp3D($B$18:$B$134,$C$18:$C$134,$D$18:$D$134,E1037,F1037)","v":35.124352000042656}]
[null,null,null,null,1.6000000001000005,4.4000000000000004,{"$f":"_xll.Interp3D($B$18:$B$134,$C$18:$C$134,$D$18:$D$134,E1038,F1038)","v":34.493184000167552}]
[null,null,null,null,1.6000000001000005,4.5,{"$f":"_xll.Interp3D($B$18:$B$134,$C$18:$C$134,$D$18:$D$134,E1039,F1039)","v":34.128000000244}]
[null,null,null,null,{"$f":"E979+0.1","v":1.6000000001000005},{"$f":"F979","v":4.5999999999999996},{"$f":"_xll.Interp3D($B$18:$B$134,$C$18:$C$134,$D$18:$D$134,E1040,F1040)","v":34.118784000258117}]
[null,null,null,null,1.6000000001000005,4.7,{"$f":"_xll.Interp3D($B$18:$B$134,$C$18:$C$134,$D$18:$D$134,E1041,F1041)","v":34.346752000231135}]
[null,null,null,null,1.6000000001000005,4.8,{"$f":"_xll.Interp3D($B$18:$B$134,$C$18:$C$134,$D$18:$D$134,E1042,F1042)","v":34.676928000183914}]
[null,null,null,null,1.6000000001000005,4.9000000000000004,{"$f":"_xll.Interp3D($B$18:$B$134,$C$18:$C$134,$D$18:$D$134,E1043,F1043)","v":34.974336000137249}]
[null,null,null,null,1.6000000001000005,5,{"$f":"_xll.Interp3D($B$18:$B$134,$C$18:$C$134,$D$18:$D$134,E1044,F1044)","v":35.104000000111995}]
[null,null,null,null,1.6000000001000005,5.0999999999999996,{"$f":"_xll.Interp3D($B$18:$B$134,$C$18:$C$134,$D$18:$D$134,E1045,F1045)","v":35.007936000117894}]
[null,null,null,null,1.6000000001000005,5.2,{"$f":"_xll.Interp3D($B$18:$B$134,$C$18:$C$134,$D$18:$D$134,E1046,F1046)","v":34.776128000141028}]
[null,null,null,null,1.6000000001000005,5.3,{"$f":"_xll.Interp3D($B$18:$B$134,$C$18:$C$134,$D$18:$D$134,E1047,F1047)","v":34.495552000166811}]
[null,null,null,null,1.6000000001000005,5.4,{"$f":"_xll.Interp3D($B$18:$B$134,$C$18:$C$134,$D$18:$D$134,E1048,F1048)","v":34.253184000180674}]
[null,null,null,null,1.6000000001000005,5.5,{"$f":"_xll.Interp3D($B$18:$B$134,$C$18:$C$134,$D$18:$D$134,E1049,F1049)","v":34.136000000168004}]
[null,null,null,null,1.6000000001000005,5.6,{"$f":"_xll.Interp3D($B$18:$B$134,$C$18:$C$134,$D$18:$D$134,E1050,F1050)","v":34.144000000128798}]
[null,null,null,null,1.6000000001000005,5.7,{"$f":"_xll.Interp3D($B$18:$B$134,$C$18:$C$134,$D$18:$D$134,E1051,F1051)","v":34.219200000072796}]
[null,null,null,null,1.6000000001000005,5.8,{"$f":"_xll.Interp3D($B$18:$B$134,$C$18:$C$134,$D$18:$D$134,E1052,F1052)","v":34.361600000000003}]
[null,null,null,null,1.6000000001000005,5.9,{"$f":"_xll.Interp3D($B$18:$B$134,$C$18:$C$134,$D$18:$D$134,E1053,F1053)","v":34.571199999910398}]
[null,null,null,null,1.6000000001000005,6,{"$f":"_xll.Interp3D($B$18:$B$134,$C$18:$C$134,$D$18:$D$134,E1054,F1054)","v":34.847999999804003}]
[null,null,null,null,1.7000000001000006,0,{"$f":"_xll.Interp3D($B$18:$B$134,$C$18:$C$134,$D$18:$D$134,E1055,F1055)","v":41.42400000027601}]
[null,null,null,null,1.7000000001000006,0.1,{"$f":"_xll.Interp3D($B$18:$B$134,$C$18:$C$134,$D$18:$D$134,E1056,F1056)","v":40.957120000504482}]
[null,null,null,null,1.7000000001000006,0.2,{"$f":"_xll.Interp3D($B$18:$B$134,$C$18:$C$134,$D$18:$D$134,E1057,F1057)","v":40.494080000676334}]
[null,null,null,null,1.7000000001000006,0.3,{"$f":"_xll.Interp3D($B$18:$B$134,$C$18:$C$134,$D$18:$D$134,E1058,F1058)","v":40.034880000791532}]
[null,null,null,null,1.7000000001000006,0.4,{"$f":"_xll.Interp3D($B$18:$B$134,$C$18:$C$134,$D$18:$D$134,E1059,F1059)","v":39.579520000850081}]
[null,null,null,null,1.7000000001000006,0.5,{"$f":"_xll.Interp3D($B$18:$B$134,$C$18:$C$134,$D$18:$D$134,E1060,F1060)","v":39.128000000852005}]
[null,null,null,null,1.7000000001000006,0.6,{"$f":"_xll.Interp3D($B$18:$B$134,$C$18:$C$134,$D$18:$D$134,E1061,F1061)","v":38.686592000765408}]
[null,null,null,null,1.7000000001000006,0.7,{"$f":"_xll.Interp3D($B$18:$B$134,$C$18:$C$134,$D$18:$D$134,E1062,F1062)","v":38.255296000590306}]
[null,null,null,null,1.7000000001000006,0.8,{"$f":"_xll.Interp3D($B$18:$B$134,$C$18:$C$134,$D$18:$D$134,E1063,F1063)","v":37.824704000374496}]
[null,null,null,null,1.7000000001000006,0.9,{"$f":"_xll.Interp3D($B$18:$B$134,$C$18:$C$134,$D$18:$D$134,E1064,F1064)","v":37.385408000165796}]
[null,null,null,null,1.7000000001000006,1,{"$f":"_xll.Interp3D($B$18:$B$134,$C$18:$C$134,$D$18:$D$134,E1065,F1065)","v":36.928000000012005}]
[null,null,null,null,1.7000000001000006,1.1000000000000001,{"$f":"_xll.Interp3D($B$18:$B$134,$C$18:$C$134,$D$18:$D$134,E1066,F1066)","v":36.337151999907171}]
[null,null,null,null,1.7000000001000006,1.2,{"$f":"_xll.Interp3D($B$18:$B$134,$C$18:$C$134,$D$18:$D$134,E1067,F1067)","v":35.61913599981942}]
[null,null,null,null,1.7000000001000006,1.3,{"$f":"_xll.Interp3D($B$18:$B$134,$C$18:$C$134,$D$18:$D$134,E1068,F1068)","v":34.946943999757693}]
[null,null,null,null,1.7000000001000006,1.4,{"$f":"_xll.Interp3D($B$18:$B$134,$C$18:$C$134,$D$18:$D$134,E1069,F1069)","v":34.493567999730907}]
[null,null,null,null,1.7000000001000006,1.5,{"$f":"_xll.Interp3D($B$18:$B$134,$C$18:$C$134,$D$18:$D$134,E1070,F1070)","v":34.431999999748001}]
[null,null,null,null,1.7000000001000006,1.6,{"$f":"_xll.Interp3D($B$18:$B$134,$C$18:$C$134,$D$18:$D$134,E1071,F1071)","v":34.976895999846462}]
[null,null,null,null,1.7000000001000006,1.7,{"$f":"_xll.Interp3D($B$18:$B$134,$C$18:$C$134,$D$18:$D$134,E1072,F1072)","v":36.012928000020352}]
[null,null,null,null,1.7000000001000006,1.8,{"$f":"_xll.Interp3D($B$18:$B$134,$C$18:$C$134,$D$18:$D$134,E1073,F1073)","v":37.218112000213409}]
[null,null,null,null,1.7000000001000006,1.9,{"$f":"_xll.Interp3D($B$18:$B$134,$C$18:$C$134,$D$18:$D$134,E1074,F1074)","v":38.27046400036938}]
[null,null,null,null,1.7000000001000006,2,{"$f":"_xll.Interp3D($B$18:$B$134,$C$18:$C$134,$D$18:$D$134,E1075,F1075)","v":38.848000000432009}]
[null,null,null,null,1.7000000001000006,2.1,{"$f":"_xll.Interp3D($B$18:$B$134,$C$18:$C$134,$D$18:$D$134,E1076,F1076)","v":38.824768000362752}]
[null,null,null,null,1.7000000001000006,2.2000000000000002,{"$f":"_xll.Interp3D($B$18:$B$134,$C$18:$C$134,$D$18:$D$134,E1077,F1077)","v":38.415424000199138}]
[null,null,null,null,1.7000000001000006,2.2999999999999998,{"$f":"_xll.Interp3D($B$18:$B$134,$C$18:$C$134,$D$18:$D$134,E1078,F1078)","v":37.808895999998938}]
[null,null,null,null,1.7000000001000006,2.4,{"$f":"_xll.Interp3D($B$18:$B$134,$C$18:$C$134,$D$18:$D$134,E1079,F1079)","v":37.194111999819967}]
[null,null,null,null,1.7000000001000006,2.5,{"$f":"_xll.Interp3D($B$18:$B$134,$C$18:$C$134,$D$18:$D$134,E1080,F1080)","v":36.759999999719994}]
[null,null,null,null,1.7000000001000006,2.6,{"$f":"_xll.Interp3D($B$18:$B$134,$C$18:$C$134,$D$18:$D$134,E1081,F1081)","v":36.523711999722529}]
[null,null,null,null,1.7000000001000006,2.7,{"$f":"_xll.Interp3D($B$18:$B$134,$C$18:$C$134,$D$18:$D$134,E1082,F1082)","v":36.359295999789019}]
[null,null,null,null,1.7000000001000006,2.8,{"$f":"_xll.Interp3D($B$18:$B$134,$C$18:$C$134,$D$18:$D$134,E1083,F1083)","v":36.241023999884256}]
[null,null,null,null,1.7000000001000006,2.9,{"$f":"_xll.Interp3D($B$18:$B$134,$C$18:$C$134,$D$18:$D$134,E1084,F1084)","v":36.143167999972995}]
[null,null,null,null,1.7000000001000006,3,{"$f":"_xll.Interp3D($B$18:$B$134,$C$18:$C$134,$D$18:$D$134,E1085,F1085)","v":36.040000000020001}]
[null,null,null,null,1.7000000001000006,3.1,{"$f":"_xll.Interp3D($B$18:$B$134,$C$18:$C$134,$D$18:$D$134,E1086,F1086)","v":35.916032000019968}]
[null,null,null,null,1.7000000001000006,3.2,{"$f":"_xll.Interp3D($B$18:$B$134,$C$18:$C$134,$D$18:$D$134,E1087,F1087)","v":35.788415999996381}]
[null,null,null,null,1.7000000001000006,3.3,{"$f":"_xll.Interp3D($B$18:$B$134,$C$18:$C$134,$D$18:$D$134,E1088,F1088)","v":35.680383999957222}]
[null,null,null,null,1.7000000001000006,3.4,{"$f":"_xll.Interp3D($B$18:$B$134,$C$18:$C$134,$D$18:$D$134,E1089,F1089)","v":35.615167999910426}]
[null,null,null,null,1.7000000001000006,3.5,{"$f":"_xll.Interp3D($B$18:$B$134,$C$18:$C$134,$D$18:$D$134,E1090,F1090)","v":35.615999999864002}]
[null,null,null,null,1.7000000001000006,3.6,{"$f":"_xll.Interp3D($B$18:$B$134,$C$18:$C$134,$D$18:$D$134,E1091,F1091)","v":35.748415999798141}]
[null,null,null,null,1.7000000001000006,3.7,{"$f":"_xll.Interp3D($B$18:$B$134,$C$18:$C$134,$D$18:$D$134,E1092,F1092)","v":35.996927999707552}]
[null,null,null,null,1.7000000001000006,3.8,{"$f":"_xll.Interp3D($B$18:$B$134,$C$18:$C$134,$D$18:$D$134,E1093,F1093)","v":36.263231999621887}]
[null,null,null,null,1.7000000001000006,3.9,{"$f":"_xll.Interp3D($B$18:$B$134,$C$18:$C$134,$D$18:$D$134,E1094,F1094)","v":36.449023999570812}]
[null,null,null,null,1.7000000001000006,4,{"$f":"_xll.Interp3D($B$18:$B$134,$C$18:$C$134,$D$18:$D$134,E1095,F1095)","v":36.455999999584002}]
[null,null,null,null,1.7000000001000006,4.0999999999999996,{"$f":"_xll.Interp3D($B$18:$B$134,$C$18:$C$134,$D$18:$D$134,E1096,F1096)","v":36.194687999696839}]
[null,null,null,null,1.7000000001000006,4.2,{"$f":"_xll.Interp3D($B$18:$B$134,$C$18:$C$134,$D$18:$D$134,E1097,F1097)","v":35.730623999889531}]
[null,null,null,null,1.7000000001000006,4.3,{"$f":"_xll.Interp3D($B$18:$B$134,$C$18:$C$134,$D$18:$D$134,E1098,F1098)","v":35.198016000109028}]
[null,null,null,null,1.7000000001000006,4.4000000000000004,{"$f":"_xll.Interp3D($B$18:$B$134,$C$18:$C$134,$D$18:$D$134,E1099,F1099)","v":34.731072000302206}]
[null,null,null,null,1.7000000001000006,4.5,{"$f":"_xll.Interp3D($B$18:$B$134,$C$18:$C$134,$D$18:$D$134,E1100,F1100)","v":34.464000000416}]
[null,null,null,null,1.7000000001000006,4.5999999999999996,{"$f":"_xll.Interp3D($B$18:$B$134,$C$18:$C$134,$D$18:$D$134,E1101,F1101)","v":34.467712000427497}]
[null,null,null,null,1.7000000001000006,4.7,{"$f":"_xll.Interp3D($B$18:$B$134,$C$18:$C$134,$D$18:$D$134,E1102,F1102)","v":34.652736000372066}]
[null,null,null,null,1.7000000001000006,4.8,{"$f":"_xll.Interp3D($B$18:$B$134,$C$18:$C$134,$D$18:$D$134,E1103,F1103)","v":34.912704000284101}]
[null,null,null,null,{"$f":"E1043+0.1","v":1.7000000001000006},{"$f":"F1043","v":4.9000000000000004},{"$f":"_xll.Interp3D($B$18:$B$134,$C$18:$C$134,$D$18:$D$134,E1104,F1104)","v":35.141248000197955}]
[null,null,null,null,1.7000000001000006,5,{"$f":"_xll.Interp3D($B$18:$B$134,$C$18:$C$134,$D$18:$D$134,E1105,F1105)","v":35.232000000148005}]
[null,null,null,null,1.7000000001000006,5.0999999999999996,{"$f":"_xll.Interp3D($B$18:$B$134,$C$18:$C$134,$D$18:$D$134,E1106,F1106)","v":35.139008000147868}]
[null,null,null,null,1.7000000001000006,5.2,{"$f":"_xll.Interp3D($B$18:$B$134,$C$18:$C$134,$D$18:$D$134,E1107,F1107)","v":34.933184000174656}]
[null,null,null,null,1.7000000001000006,5.3,{"$f":"_xll.Interp3D($B$18:$B$134,$C$18:$C$134,$D$18:$D$134,E1108,F1108)","v":34.683456000207904}]
[null,null,null,null,1.7000000001000006,5.4,{"$f":"_xll.Interp3D($B$18:$B$134,$C$18:$C$134,$D$18:$D$134,E1109,F1109)","v":34.458752000227172}]
[null,null,null,null,1.7000000001000006,5.5,{"$f":"_xll.Interp3D($B$18:$B$134,$C$18:$C$134,$D$18:$D$134,E1110,F1110)","v":34.328000000212}]
[null,null,null,null,1.7000000001000006,5.6,{"$f":"_xll.Interp3D($B$18:$B$134,$C$18:$C$134,$D$18:$D$134,E1111,F1111)","v":34.291200000162398}]
[null,null,null,null,1.7000000001000006,5.7,{"$f":"_xll.Interp3D($B$18:$B$134,$C$18:$C$134,$D$18:$D$134,E1112,F1112)","v":34.302400000092}]
[null,null,null,null,1.7000000001000006,5.8,{"$f":"_xll.Interp3D($B$18:$B$134,$C$18:$C$134,$D$18:$D$134,E1113,F1113)","v":34.361600000000799}]
[null,null,null,null,1.7000000001000006,5.9,{"$f":"_xll.Interp3D($B$18:$B$134,$C$18:$C$134,$D$18:$D$134,E1114,F1114)","v":34.468799999888802}]
[null,null,null,null,1.7000000001000006,6,{"$f":"_xll.Interp3D($B$18:$B$134,$C$18:$C$134,$D$18:$D$134,E1115,F1115)","v":34.623999999755995}]
[null,null,null,null,1.8000000001000007,0,{"$f":"_xll.Interp3D($B$18:$B$134,$C$18:$C$134,$D$18:$D$134,E1116,F1116)","v":41.696000000255999}]
[null,null,null,null,1.8000000001000007,0.1,{"$f":"_xll.Interp3D($B$18:$B$134,$C$18:$C$134,$D$18:$D$134,E1117,F1117)","v":41.462080000481279}]
[null,null,null,null,1.8000000001000007,0.2,{"$f":"_xll.Interp3D($B$18:$B$134,$C$18:$C$134,$D$18:$D$134,E1118,F1118)","v":41.174720000651526}]
[null,null,null,null,1.8000000001000007,0.3,{"$f":"_xll.Interp3D($B$18:$B$134,$C$18:$C$134,$D$18:$D$134,E1119,F1119)","v":40.833920000766724}]
[null,null,null,null,1.8000000001000007,0.4,{"$f":"_xll.Interp3D($B$18:$B$134,$C$18:$C$134,$D$18:$D$134,E1120,F1120)","v":40.439680000826883}]
[null,null,null,null,1.8000000001000007,0.5,{"$f":"_xll.Interp3D($B$18:$B$134,$C$18:$C$134,$D$18:$D$134,E1121,F1121)","v":39.992000000832007}]
[null,null,null,null,1.8000000001000007,0.6,{"$f":"_xll.Interp3D($B$18:$B$134,$C$18:$C$134,$D$18:$D$134,E1122,F1122)","v":39.464768000750851}]
[null,null,null,null,1.8000000001000007,0.7,{"$f":"_xll.Interp3D($B$18:$B$134,$C$18:$C$134,$D$18:$D$134,E1123,F1123)","v":38.857984000583428}]
[null,null,null,null,1.8000000001000007,0.8,{"$f":"_xll.Interp3D($B$18:$B$134,$C$18:$C$134,$D$18:$D$134,E1124,F1124)","v":38.210816000376568}]
[null,null,null,null,1.8000000001000007,0.9,{"$f":"_xll.Interp3D($B$18:$B$134,$C$18:$C$134,$D$18:$D$134,E1125,F1125)","v":37.562432000177147}]
[null,null,null,null,1.8000000001000007,1,{"$f":"_xll.Interp3D($B$18:$B$134,$C$18:$C$134,$D$18:$D$134,E1126,F1126)","v":36.952000000032001}]
[null,null,null,null,1.8000000001000007,1.1000000000000001,{"$f":"_xll.Interp3D($B$18:$B$134,$C$18:$C$134,$D$18:$D$134,E1127,F1127)","v":36.259327999937092}]
[null,null,null,null,1.8000000001000007,1.2,{"$f":"_xll.Interp3D($B$18:$B$134,$C$18:$C$134,$D$18:$D$134,E1128,F1128)","v":35.458303999861172}]
[null,null,null,null,1.8000000001000007,1.3,{"$f":"_xll.Interp3D($B$18:$B$134,$C$18:$C$134,$D$18:$D$134,E1129,F1129)","v":34.729215999810336}]
[null,null,null,null,1.8000000001000007,1.4,{"$f":"_xll.Interp3D($B$18:$B$134,$C$18:$C$134,$D$18:$D$134,E1130,F1130)","v":34.252351999790591}]
[null,null,null,null,1.8000000001000007,1.5,{"$f":"_xll.Interp3D($B$18:$B$134,$C$18:$C$134,$D$18:$D$134,E1131,F1131)","v":34.207999999808003}]
[null,null,null,null,1.8000000001000007,1.6,{"$f":"_xll.Interp3D($B$18:$B$134,$C$18:$C$134,$D$18:$D$134,E1132,F1132)","v":34.846143999894622}]
[null,null,null,null,1.8000000001000007,1.7,{"$f":"_xll.Interp3D($B$18:$B$134,$C$18:$C$134,$D$18:$D$134,E1133,F1133)","v":36.046592000046431}]
[null,null,null,null,1.8000000001000007,1.8,{"$f":"_xll.Interp3D($B$18:$B$134,$C$18:$C$134,$D$18:$D$134,E1134,F1134)","v":37.434368000215329}]
[null,null,null,null,1.8000000001000007,1.9,{"$f":"_xll.Interp3D($B$18:$B$134,$C$18:$C$134,$D$18:$D$134,E1135,F1135)","v":38.634496000353217}]
[null,null,null,null,1.8000000001000007,2,{"$f":"_xll.Interp3D($B$18:$B$134,$C$18:$C$134,$D$18:$D$134,E1136,F1136)","v":39.272000000412}]
[null,null,null,null,1.8000000001000007,2.1,{"$f":"_xll.Interp3D($B$18:$B$134,$C$18:$C$134,$D$18:$D$134,E1137,F1137)","v":39.1841920003586}]
[null,null,null,null,1.8000000001000007,2.2000000000000002,{"$f":"_xll.Interp3D($B$18:$B$134,$C$18:$C$134,$D$18:$D$134,E1138,F1138)","v":38.621056000225053}]
[null,null,null,null,1.8000000001000007,2.2999999999999998,{"$f":"_xll.Interp3D($B$18:$B$134,$C$18:$C$134,$D$18:$D$134,E1139,F1139)","v":37.826624000061031}]
[null,null,null,null,1.8000000001000007,2.4,{"$f":"_xll.Interp3D($B$18:$B$134,$C$18:$C$134,$D$18:$D$134,E1140,F1140)","v":37.044927999916126}]
[null,null,null,null,1.8000000001000007,2.5,{"$f":"_xll.Interp3D($B$18:$B$134,$C$18:$C$134,$D$18:$D$134,E1141,F1141)","v":36.519999999840003}]
[null,null,null,null,1.8000000001000007,2.6,{"$f":"_xll.Interp3D($B$18:$B$134,$C$18:$C$134,$D$18:$D$134,E1142,F1142)","v":36.29228799985453}]
[null,null,null,null,1.8000000001000007,2.7,{"$f":"_xll.Interp3D($B$18:$B$134,$C$18:$C$134,$D$18:$D$134,E1143,F1143)","v":36.199103999926628}]
[null,null,null,null,1.8000000001000007,2.8,{"$f":"_xll.Interp3D($B$18:$B$134,$C$18:$C$134,$D$18:$D$134,E1144,F1144)","v":36.179776000023452}]
[null,null,null,null,1.8000000001000007,2.9,{"$f":"_xll.Interp3D($B$18:$B$134,$C$18:$C$134,$D$18:$D$134,E1145,F1145)","v":36.173632000112192}]
[null,null,null,null,1.8000000001000007,3,{"$f":"_xll.Interp3D($B$18:$B$134,$C$18:$C$134,$D$18:$D$134,E1146,F1146)","v":36.120000000160005}]
[null,null,null,null,1.8000000001000007,3.1,{"$f":"_xll.Interp3D($B$18:$B$134,$C$18:$C$134,$D$18:$D$134,E1147,F1147)","v":35.99852800016221}]
[null,null,null,null,1.8000000001000007,3.2,{"$f":"_xll.Interp3D($B$18:$B$134,$C$18:$C$134,$D$18:$D$134,E1148,F1148)","v":35.849664000140706}]
[null,null,null,null,1.8000000001000007,3.3,{"$f":"_xll.Interp3D($B$18:$B$134,$C$18:$C$134,$D$18:$D$134,E1149,F1149)","v":35.703936000102502}]
[null,null,null,null,1.8000000001000007,3.4,{"$f":"_xll.Interp3D($B$18:$B$134,$C$18:$C$134,$D$18:$D$134,E1150,F1150)","v":35.591872000054586}]
[null,null,null,null,1.8000000001000007,3.5,{"$f":"_xll.Interp3D($B$18:$B$134,$C$18:$C$134,$D$18:$D$134,E1151,F1151)","v":35.544000000003997}]
[null,null,null,null,1.8000000001000007,3.6,{"$f":"_xll.Interp3D($B$18:$B$134,$C$18:$C$134,$D$18:$D$134,E1152,F1152)","v":35.604223999928699}]
[null,null,null,null,1.8000000001000007,3.7,{"$f":"_xll.Interp3D($B$18:$B$134,$C$18:$C$134,$D$18:$D$134,E1153,F1153)","v":35.752191999824035}]
[null,null,null,null,1.8000000001000007,3.8,{"$f":"_xll.Interp3D($B$18:$B$134,$C$18:$C$134,$D$18:$D$134,E1154,F1154)","v":35.922047999723006}]
[null,null,null,null,1.8000000001000007,3.9,{"$f":"_xll.Interp3D($B$18:$B$134,$C$18:$C$134,$D$18:$D$134,E1155,F1155)","v":36.047935999658648}]
[null,null,null,null,1.8000000001000007,4,{"$f":"_xll.Interp3D($B$18:$B$134,$C$18:$C$134,$D$18:$D$134,E1156,F1156)","v":36.063999999663999}]
[null,null,null,null,1.8000000001000007,4.0999999999999996,{"$f":"_xll.Interp3D($B$18:$B$134,$C$18:$C$134,$D$18:$D$134,E1157,F1157)","v":35.918271999776678}]
[null,null,null,null,1.8000000001000007,4.2,{"$f":"_xll.Interp3D($B$18:$B$134,$C$18:$C$134,$D$18:$D$134,E1158,F1158)","v":35.654655999974651}]
[null,null,null,null,1.8000000001000007,4.3,{"$f":"_xll.Interp3D($B$18:$B$134,$C$18:$C$134,$D$18:$D$134,E1159,F1159)","v":35.351104000201509}]
[null,null,null,null,1.8000000001000007,4.4000000000000004,{"$f":"_xll.Interp3D($B$18:$B$134,$C$18:$C$134,$D$18:$D$134,E1160,F1160)","v":35.08556800040077}]
[null,null,null,null,1.8000000001000007,4.5,{"$f":"_xll.Interp3D($B$18:$B$134,$C$18:$C$134,$D$18:$D$134,E1161,F1161)","v":34.936000000516003}]
[null,null,null,null,1.8000000001000007,4.5999999999999996,{"$f":"_xll.Interp3D($B$18:$B$134,$C$18:$C$134,$D$18:$D$134,E1162,F1162)","v":34.949248000523326}]
[null,null,null,null,1.8000000001000007,4.7,{"$f":"_xll.Interp3D($B$18:$B$134,$C$18:$C$134,$D$18:$D$134,E1163,F1163)","v":35.073344000460388}]
[null,null,null,null,1.8000000001000007,4.8,{"$f":"_xll.Interp3D($B$18:$B$134,$C$18:$C$134,$D$18:$D$134,E1164,F1164)","v":35.23801600036299}]
[null,null,null,null,1.8000000001000007,4.9000000000000004,{"$f":"_xll.Interp3D($B$18:$B$134,$C$18:$C$134,$D$18:$D$134,E1165,F1165)","v":35.372992000266919}]
[null,null,null,null,1.8000000001000007,5,{"$f":"_xll.Interp3D($B$18:$B$134,$C$18:$C$134,$D$18:$D$134,E1166,F1166)","v":35.408000000207998}]
[null,null,null,null,1.8000000001000007,5.0999999999999996,{"$f":"_xll.Interp3D($B$18:$B$134,$C$18:$C$134,$D$18:$D$134,E1167,F1167)","v":35.310912000199551}]
[null,null,null,null,{"$f":"E1107+0.1","v":1.8000000001000007},{"$f":"F1107","v":5.2},{"$f":"_xll.Interp3D($B$18:$B$134,$C$18:$C$134,$D$18:$D$134,E1168,F1168)","v":35.128576000217699}]
[null,null,null,null,1.8000000001000007,5.3,{"$f":"_xll.Interp3D($B$18:$B$134,$C$18:$C$134,$D$18:$D$134,E1169,F1169)","v":34.909184000242462}]
[null,null,null,null,1.8000000001000007,5.4,{"$f":"_xll.Interp3D($B$18:$B$134,$C$18:$C$134,$D$18:$D$134,E1170,F1170)","v":34.700928000253889}]
[null,null,null,null,1.8000000001000007,5.5,{"$f":"_xll.Interp3D($B$18:$B$134,$C$18:$C$134,$D$18:$D$134,E1171,F1171)","v":34.552000000231999}]
[null,null,null,null,1.8000000001000007,5.6,{"$f":"_xll.Interp3D($B$18:$B$134,$C$18:$C$134,$D$18:$D$134,E1172,F1172)","v":34.4624000001768}]
[null,null,null,null,1.8000000001000007,5.7,{"$f":"_xll.Interp3D($B$18:$B$134,$C$18:$C$134,$D$18:$D$134,E1173,F1173)","v":34.400000000101599}]
[null,null,null,null,1.8000000001000007,5.8,{"$f":"_xll.Interp3D($B$18:$B$134,$C$18:$C$134,$D$18:$D$134,E1174,F1174)","v":34.364800000006397}]
[null,null,null,null,1.8000000001000007,5.9,{"$f":"_xll.Interp3D($B$18:$B$134,$C$18:$C$134,$D$18:$D$134,E1175,F1175)","v":34.356799999891201}]
[null,null,null,null,1.8000000001000007,6,{"$f":"_xll.Interp3D($B$18:$B$134,$C$18:$C$134,$D$18:$D$134,E1176,F1176)","v":34.375999999756004}]
[null,null,null,null,1.9000000001000008,0,{"$f":"_xll.Interp3D($B$18:$B$134,$C$18:$C$134,$D$18:$D$134,E1177,F1177)","v":41.912000000163999}]
[null,null,null,null,1.9000000001000008,0.1,{"$f":"_xll.Interp3D($B$18:$B$134,$C$18:$C$134,$D$18:$D$134,E1178,F1178)","v":41.871360000313118}]
[null,null,null,null,1.9000000001000008,0.2,{"$f":"_xll.Interp3D($B$18:$B$134,$C$18:$C$134,$D$18:$D$134,E1179,F1179)","v":41.730240000426086}]
[null,null,null,null,1.9000000001000008,0.3,{"$f":"_xll.Interp3D($B$18:$B$134,$C$18:$C$134,$D$18:$D$134,E1180,F1180)","v":41.488640000502883}]
[null,null,null,null,1.9000000001000008,0.4,{"$f":"_xll.Interp3D($B$18:$B$134,$C$18:$C$134,$D$18:$D$134,E1181,F1181)","v":41.146560000543523}]
[null,null,null,null,1.9000000001000008,0.5,{"$f":"_xll.Interp3D($B$18:$B$134,$C$18:$C$134,$D$18:$D$134,E1182,F1182)","v":40.704000000548007}]
[null,null,null,null,1.9000000001000008,0.6,{"$f":"_xll.Interp3D($B$18:$B$134,$C$18:$C$134,$D$18:$D$134,E1183,F1183)","v":40.108096000495721}]
[null,null,null,null,1.9000000001000008,0.7,{"$f":"_xll.Interp3D($B$18:$B$134,$C$18:$C$134,$D$18:$D$134,E1184,F1184)","v":39.358848000386658}]
[null,null,null,null,1.9000000001000008,0.8,{"$f":"_xll.Interp3D($B$18:$B$134,$C$18:$C$134,$D$18:$D$134,E1185,F1185)","v":38.535552000251741}]
[null,null,null,null,1.9000000001000008,0.9,{"$f":"_xll.Interp3D($B$18:$B$134,$C$18:$C$134,$D$18:$D$134,E1186,F1186)","v":37.717504000121885}]
[null,null,null,null,1.9000000001000008,1,{"$f":"_xll.Interp3D($B$18:$B$134,$C$18:$C$134,$D$18:$D$134,E1187,F1187)","v":36.984000000027997}]
[null,null,null,null,1.9000000001000008,1.1000000000000001,{"$f":"_xll.Interp3D($B$18:$B$134,$C$18:$C$134,$D$18:$D$134,E1188,F1188)","v":36.21113599996643}]
[null,null,null,null,1.9000000001000008,1.2,{"$f":"_xll.Interp3D($B$18:$B$134,$C$18:$C$134,$D$18:$D$134,E1189,F1189)","v":35.346047999916571}]
[null,null,null,null,1.9000000001000008,1.3,{"$f":"_xll.Interp3D($B$18:$B$134,$C$18:$C$134,$D$18:$D$134,E1190,F1190)","v":34.574591999883907}]
[null,null,null,null,1.9000000001000008,1.4,{"$f":"_xll.Interp3D($B$18:$B$134,$C$18:$C$134,$D$18:$D$134,E1191,F1191)","v":34.082623999873888}]
[null,null,null,null,1.9000000001000008,1.5,{"$f":"_xll.Interp3D($B$18:$B$134,$C$18:$C$134,$D$18:$D$134,E1192,F1192)","v":34.055999999892002}]
[null,null,null,null,1.9000000001000008,1.6,{"$f":"_xll.Interp3D($B$18:$B$134,$C$18:$C$134,$D$18:$D$134,E1193,F1193)","v":34.771327999958338}]
[null,null,null,null,1.9000000001000008,1.7,{"$f":"_xll.Interp3D($B$18:$B$134,$C$18:$C$134,$D$18:$D$134,E1194,F1194)","v":36.104704000069248}]
[null,null,null,null,1.9000000001000008,1.8,{"$f":"_xll.Interp3D($B$18:$B$134,$C$18:$C$134,$D$18:$D$134,E1195,F1195)","v":37.641216000194603}]
[null,null,null,null,1.9000000001000008,1.9,{"$f":"_xll.Interp3D($B$18:$B$134,$C$18:$C$134,$D$18:$D$134,E1196,F1196)","v":38.965952000304227}]
[null,null,null,null,1.9000000001000008,2,{"$f":"_xll.Interp3D($B$18:$B$134,$C$18:$C$134,$D$18:$D$134,E1197,F1197)","v":39.664000000367999}]
[null,null,null,null,1.9000000001000008,2.1,{"$f":"_xll.Interp3D($B$18:$B$134,$C$18:$C$134,$D$18:$D$134,E1198,F1198)","v":39.546944000369415}]
[null,null,null,null,1.9000000001000008,2.2000000000000002,{"$f":"_xll.Interp3D($B$18:$B$134,$C$18:$C$134,$D$18:$D$134,E1199,F1199)","v":38.891392000328537}]
[null,null,null,null,1.9000000001000008,2.2999999999999998,{"$f":"_xll.Interp3D($B$18:$B$134,$C$18:$C$134,$D$18:$D$134,E1200,F1200)","v":37.979968000270183}]
[null,null,null,null,1.9000000001000008,2.4,{"$f":"_xll.Interp3D($B$18:$B$134,$C$18:$C$134,$D$18:$D$134,E1201,F1201)","v":37.095296000219072}]
[null,null,null,null,1.9000000001000008,2.5,{"$f":"_xll.Interp3D($B$18:$B$134,$C$18:$C$134,$D$18:$D$134,E1202,F1202)","v":36.5200000002}]
[null,null,null,null,1.9000000001000008,2.6,{"$f":"_xll.Interp3D($B$18:$B$134,$C$18:$C$134,$D$18:$D$134,E1203,F1203)","v":36.312576000225953}]
[null,null,null,null,1.9000000001000008,2.7,{"$f":"_xll.Interp3D($B$18:$B$134,$C$18:$C$134,$D$18:$D$134,E1204,F1204)","v":36.284608000280421}]
[null,null,null,null,1.9000000001000008,2.8,{"$f":"_xll.Interp3D($B$18:$B$134,$C$18:$C$134,$D$18:$D$134,E1205,F1205)","v":36.348352000343901}]
[null,null,null,null,1.9000000001000008,2.9,{"$f":"_xll.Interp3D($B$18:$B$134,$C$18:$C$134,$D$18:$D$134,E1206,F1206)","v":36.416064000396922}]
[null,null,null,null,1.9000000001000008,3,{"$f":"_xll.Interp3D($B$18:$B$134,$C$18:$C$134,$D$18:$D$134,E1207,F1207)","v":36.40000000042}]
[null,null,null,null,1.9000000001000008,3.1,{"$f":"_xll.Interp3D($B$18:$B$134,$C$18:$C$134,$D$18:$D$134,E1208,F1208)","v":36.274816000407554}]
[null,null,null,null,1.9000000001000008,3.2,{"$f":"_xll.Interp3D($B$18:$B$134,$C$18:$C$134,$D$18:$D$134,E1209,F1209)","v":36.099008000372578}]
[null,null,null,null,1.9000000001000008,3.3,{"$f":"_xll.Interp3D($B$18:$B$134,$C$18:$C$134,$D$18:$D$134,E1210,F1210)","v":35.910592000323433}]
[null,null,null,null,1.9000000001000008,3.4,{"$f":"_xll.Interp3D($B$18:$B$134,$C$18:$C$134,$D$18:$D$134,E1211,F1211)","v":35.747584000268446}]
[null,null,null,null,1.9000000001000008,3.5,{"$f":"_xll.Interp3D($B$18:$B$134,$C$18:$C$134,$D$18:$D$134,E1212,F1212)","v":35.648000000216001}]
[null,null,null,null,1.9000000001000008,3.6,{"$f":"_xll.Interp3D($B$18:$B$134,$C$18:$C$134,$D$18:$D$134,E1213,F1213)","v":35.636288000150657}]
[null,null,null,null,1.9000000001000008,3.7,{"$f":"_xll.Interp3D($B$18:$B$134,$C$18:$C$134,$D$18:$D$134,E1214,F1214)","v":35.687104000066846}]
[null,null,null,null,1.9000000001000008,3.8,{"$f":"_xll.Interp3D($B$18:$B$134,$C$18:$C$134,$D$18:$D$134,E1215,F1215)","v":35.763775999987715}]
[null,null,null,null,1.9000000001000008,3.9,{"$f":"_xll.Interp3D($B$18:$B$134,$C$18:$C$134,$D$18:$D$134,E1216,F1216)","v":35.829631999936389}]
[null,null,null,null,1.9000000001000008,4,{"$f":"_xll.Interp3D($B$18:$B$134,$C$18:$C$134,$D$18:$D$134,E1217,F1217)","v":35.847999999936}]
[null,null,null,null,1.9000000001000008,4.0999999999999996,{"$f":"_xll.Interp3D($B$18:$B$134,$C$18:$C$134,$D$18:$D$134,E1218,F1218)","v":35.800704000014534}]
[null,null,null,null,1.9000000001000008,4.2,{"$f":"_xll.Interp3D($B$18:$B$134,$C$18:$C$134,$D$18:$D$134,E1219,F1219)","v":35.712192000156541}]
[null,null,null,null,1.9000000001000008,4.3,{"$f":"_xll.Interp3D($B$18:$B$134,$C$18:$C$134,$D$18:$D$134,E1220,F1220)","v":35.609728000320104}]
[null,null,null,null,1.9000000001000008,4.4000000000000004,{"$f":"_xll.Interp3D($B$18:$B$134,$C$18:$C$134,$D$18:$D$134,E1221,F1221)","v":35.520576000463237}]
[null,null,null,null,1.9000000001000008,4.5,{"$f":"_xll.Interp3D($B$18:$B$134,$C$18:$C$134,$D$18:$D$134,E1222,F1222)","v":35.472000000544}]
[null,null,null,null,1.9000000001000008,4.5999999999999996,{"$f":"_xll.Interp3D($B$18:$B$134,$C$18:$C$134,$D$18:$D$134,E1223,F1223)","v":35.489856000545636}]
[null,null,null,null,1.9000000001000008,4.7,{"$f":"_xll.Interp3D($B$18:$B$134,$C$18:$C$134,$D$18:$D$134,E1224,F1224)","v":35.555968000496101}]
[null,null,null,null,1.9000000001000008,4.8,{"$f":"_xll.Interp3D($B$18:$B$134,$C$18:$C$134,$D$18:$D$134,E1225,F1225)","v":35.631552000420555}]
[null,null,null,null,1.9000000001000008,4.9000000000000004,{"$f":"_xll.Interp3D($B$18:$B$134,$C$18:$C$134,$D$18:$D$134,E1226,F1226)","v":35.677824000344124}]
[null,null,null,null,1.9000000001000008,5,{"$f":"_xll.Interp3D($B$18:$B$134,$C$18:$C$134,$D$18:$D$134,E1227,F1227)","v":35.656000000291996}]
[null,null,null,null,1.9000000001000008,5.0999999999999996,{"$f":"_xll.Interp3D($B$18:$B$134,$C$18:$C$134,$D$18:$D$134,E1228,F1228)","v":35.545344000272927}]
[null,null,null,null,1.9000000001000008,5.2,{"$f":"_xll.Interp3D($B$18:$B$134,$C$18:$C$134,$D$18:$D$134,E1229,F1229)","v":35.371712000270144}]
[null,null,null,null,1.9000000001000008,5.3,{"$f":"_xll.Interp3D($B$18:$B$134,$C$18:$C$134,$D$18:$D$134,E1230,F1230)","v":35.166208000270501}]
[null,null,null,null,1.9000000001000008,5.4,{"$f":"_xll.Interp3D($B$18:$B$134,$C$18:$C$134,$D$18:$D$134,E1231,F1231)","v":34.959936000260832}]
[null,null,null,null,{"$f":"E1171+0.1","v":1.9000000001000008},{"$f":"F1171","v":5.5},{"$f":"_xll.Interp3D($B$18:$B$134,$C$18:$C$134,$D$18:$D$134,E1232,F1232)","v":34.784000000228005}]
[null,null,null,null,1.9000000001000008,5.6,{"$f":"_xll.Interp3D($B$18:$B$134,$C$18:$C$134,$D$18:$D$134,E1233,F1233)","v":34.638400000171998}]
[null,null,null,null,1.9000000001000008,5.7,{"$f":"_xll.Interp3D($B$18:$B$134,$C$18:$C$134,$D$18:$D$134,E1234,F1234)","v":34.502400000101602}]
[null,null,null,null,1.9000000001000008,5.8,{"$f":"_xll.Interp3D($B$18:$B$134,$C$18:$C$134,$D$18:$D$134,E1235,F1235)","v":34.376000000016802}]
[null,null,null,null,1.9000000001000008,5.9,{"$f":"_xll.Interp3D($B$18:$B$134,$C$18:$C$134,$D$18:$D$134,E1236,F1236)","v":34.259199999917605}]
[null,null,null,null,1.9000000001000008,6,{"$f":"_xll.Interp3D($B$18:$B$134,$C$18:$C$134,$D$18:$D$134,E1237,F1237)","v":34.151999999803998}]
[null,null,null,null,2.0000000001000009,0,{"$f":"_xll.Interp3D($B$18:$B$134,$C$18:$C$134,$D$18:$D$134,E1238,F1238)","v":42}]
[null,null,null,null,2.0000000001000009,0.1,{"$f":"_xll.Interp3D($B$18:$B$134,$C$18:$C$134,$D$18:$D$134,E1239,F1239)","v":42.04}]
[null,null,null,null,2.0000000001000009,0.2,{"$f":"_xll.Interp3D($B$18:$B$134,$C$18:$C$134,$D$18:$D$134,E1240,F1240)","v":41.96}]
[null,null,null,null,2.0000000001000009,0.3,{"$f":"_xll.Interp3D($B$18:$B$134,$C$18:$C$134,$D$18:$D$134,E1241,F1241)","v":41.76}]
[null,null,null,null,2.0000000001000009,0.4,{"$f":"_xll.Interp3D($B$18:$B$134,$C$18:$C$134,$D$18:$D$134,E1242,F1242)","v":41.44}]
[null,null,null,null,2.0000000001000009,0.5,{"$f":"_xll.Interp3D($B$18:$B$134,$C$18:$C$134,$D$18:$D$134,E1243,F1243)","v":41}]
[null,null,null,null,2.0000000001000009,0.6,{"$f":"_xll.Interp3D($B$18:$B$134,$C$18:$C$134,$D$18:$D$134,E1244,F1244)","v":40.375999999999998}]
[null,null,null,null,2.0000000001000009,0.7,{"$f":"_xll.Interp3D($B$18:$B$134,$C$18:$C$134,$D$18:$D$134,E1245,F1245)","v":39.567999999999998}]
[null,null,null,null,2.0000000001000009,0.8,{"$f":"_xll.Interp3D($B$18:$B$134,$C$18:$C$134,$D$18:$D$134,E1246,F1246)","v":38.671999999999997}]
[null,null,null,null,2.0000000001000009,0.9,{"$f":"_xll.Interp3D($B$18:$B$134,$C$18:$C$134,$D$18:$D$134,E1247,F1247)","v":37.783999999999999}]
[null,null,null,null,2.0000000001000009,1,{"$f":"_xll.Interp3D($B$18:$B$134,$C$18:$C$134,$D$18:$D$134,E1248,F1248)","v":37}]
[null,null,null,null,2.0000000001000009,1.1000000000000001,{"$f":"_xll.Interp3D($B$18:$B$134,$C$18:$C$134,$D$18:$D$134,E1249,F1249)","v":36.191999999995204}]
[null,null,null,null,2.0000000001000009,1.2,{"$f":"_xll.Interp3D($B$18:$B$134,$C$18:$C$134,$D$18:$D$134,E1250,F1250)","v":35.29599999998559}]
[null,null,null,null,2.0000000001000009,1.3,{"$f":"_xll.Interp3D($B$18:$B$134,$C$18:$C$134,$D$18:$D$134,E1251,F1251)","v":34.503999999978404}]
[null,null,null,null,2.0000000001000009,1.4,{"$f":"_xll.Interp3D($B$18:$B$134,$C$18:$C$134,$D$18:$D$134,E1252,F1252)","v":34.007999999980797}]
[null,null,null,null,2.0000000001000009,1.5,{"$f":"_xll.Interp3D($B$18:$B$134,$C$18:$C$134,$D$18:$D$134,E1253,F1253)","v":34}]
[null,null,null,null,2.0000000001000009,1.6,{"$f":"_xll.Interp3D($B$18:$B$134,$C$18:$C$134,$D$18:$D$134,E1254,F1254)","v":34.768000000037603}]
[null,null,null,null,2.0000000001000009,1.7,{"$f":"_xll.Interp3D($B$18:$B$134,$C$18:$C$134,$D$18:$D$134,E1255,F1255)","v":36.184000000088801}]
[null,null,null,null,2.0000000001000009,1.8,{"$f":"_xll.Interp3D($B$18:$B$134,$C$18:$C$134,$D$18:$D$134,E1256,F1256)","v":37.816000000151206}]
[null,null,null,null,2.0000000001000009,1.9,{"$f":"_xll.Interp3D($B$18:$B$134,$C$18:$C$134,$D$18:$D$134,E1257,F1257)","v":39.232000000222399}]
[null,null,null,null,2.0000000001000009,2,{"$f":"_xll.Interp3D($B$18:$B$134,$C$18:$C$134,$D$18:$D$134,E1258,F1258)","v":40.000000000300005}]
[null,null,null,null,2.0000000001000009,2.1,{"$f":"_xll.Interp3D($B$18:$B$134,$C$18:$C$134,$D$18:$D$134,E1259,F1259)","v":39.928000000395208}]
[null,null,null,null,2.0000000001000009,2.2000000000000002,{"$f":"_xll.Interp3D($B$18:$B$134,$C$18:$C$134,$D$18:$D$134,E1260,F1260)","v":39.304000000509603}]
[null,null,null,null,2.0000000001000009,2.2999999999999998,{"$f":"_xll.Interp3D($B$18:$B$134,$C$18:$C$134,$D$18:$D$134,E1261,F1261)","v":38.416000000626411}]
[null,null,null,null,2.0000000001000009,2.4,{"$f":"_xll.Interp3D($B$18:$B$134,$C$18:$C$134,$D$18:$D$134,E1262,F1262)","v":37.55200000072881}]
[null,null,null,null,2.0000000001000009,2.5,{"$f":"_xll.Interp3D($B$18:$B$134,$C$18:$C$134,$D$18:$D$134,E1263,F1263)","v":37.000000000800007}]
[null,null,null,null,2.0000000001000009,2.6,{"$f":"_xll.Interp3D($B$18:$B$134,$C$18:$C$134,$D$18:$D$134,E1264,F1264)","v":36.824000000836804}]
[null,null,null,null,2.0000000001000009,2.7,{"$f":"_xll.Interp3D($B$18:$B$134,$C$18:$C$134,$D$18:$D$134,E1265,F1265)","v":36.832000000850407}]
[null,null,null,null,2.0000000001000009,2.8,{"$f":"_xll.Interp3D($B$18:$B$134,$C$18:$C$134,$D$18:$D$134,E1266,F1266)","v":36.928000000845607}]
[null,null,null,null,2.0000000001000009,2.9,{"$f":"_xll.Interp3D($B$18:$B$134,$C$18:$C$134,$D$18:$D$134,E1267,F1267)","v":37.016000000827205}]
[null,null,null,null,2.0000000001000009,3,{"$f":"_xll.Interp3D($B$18:$B$134,$C$18:$C$134,$D$18:$D$134,E1268,F1268)","v":37.000000000800007}]
[null,null,null,null,2.0000000001000009,3.1,{"$f":"_xll.Interp3D($B$18:$B$134,$C$18:$C$134,$D$18:$D$134,E1269,F1269)","v":36.848000000756002}]
[null,null,null,null,2.0000000001000009,3.2,{"$f":"_xll.Interp3D($B$18:$B$134,$C$18:$C$134,$D$18:$D$134,E1270,F1270)","v":36.624000000692007}]
[null,null,null,null,2.0000000001000009,3.3,{"$f":"_xll.Interp3D($B$18:$B$134,$C$18:$C$134,$D$18:$D$134,E1271,F1271)","v":36.37600000062001}]
[null,null,null,null,2.0000000001000009,3.4,{"$f":"_xll.Interp3D($B$18:$B$134,$C$18:$C$134,$D$18:$D$134,E1272,F1272)","v":36.152000000552007}]
[null,null,null,null,2.0000000001000009,3.5,{"$f":"_xll.Interp3D($B$18:$B$134,$C$18:$C$134,$D$18:$D$134,E1273,F1273)","v":36.000000000500009}]
[null,null,null,null,2.0000000001000009,3.6,{"$f":"_xll.Interp3D($B$18:$B$134,$C$18:$C$134,$D$18:$D$134,E1274,F1274)","v":35.936000000463999}]
[null,null,null,null,2.0000000001000009,3.7,{"$f":"_xll.Interp3D($B$18:$B$134,$C$18:$C$134,$D$18:$D$134,E1275,F1275)","v":35.928000000436001}]
[null,null,null,null,2.0000000001000009,3.8,{"$f":"_xll.Interp3D($B$18:$B$134,$C$18:$C$134,$D$18:$D$134,E1276,F1276)","v":35.952000000416007}]
[null,null,null,null,2.0000000001000009,3.9,{"$f":"_xll.Interp3D($B$18:$B$134,$C$18:$C$134,$D$18:$D$134,E1277,F1277)","v":35.984000000404009}]
[null,null,null,null,2.0000000001000009,4,{"$f":"_xll.Interp3D($B$18:$B$134,$C$18:$C$134,$D$18:$D$134,E1278,F1278)","v":36.000000000400007}]
[null,null,null,null,2.0000000001000009,4.0999999999999996,{"$f":"_xll.Interp3D($B$18:$B$134,$C$18:$C$134,$D$18:$D$134,E1279,F1279)","v":36.000000000410409}]
[null,null,null,null,2.0000000001000009,4.2,{"$f":"_xll.Interp3D($B$18:$B$134,$C$18:$C$134,$D$18:$D$134,E1280,F1280)","v":36.000000000435207}]
[null,null,null,null,2.0000000001000009,4.3,{"$f":"_xll.Interp3D($B$18:$B$134,$C$18:$C$134,$D$18:$D$134,E1281,F1281)","v":36.000000000464802}]
[null,null,null,null,2.0000000001000009,4.4000000000000004,{"$f":"_xll.Interp3D($B$18:$B$134,$C$18:$C$134,$D$18:$D$134,E1282,F1282)","v":36.000000000489607}]
[null,null,null,null,2.0000000001000009,4.5,{"$f":"_xll.Interp3D($B$18:$B$134,$C$18:$C$134,$D$18:$D$134,E1283,F1283)","v":36.000000000500009}]
[null,null,null,null,2.0000000001000009,4.5999999999999996,{"$f":"_xll.Interp3D($B$18:$B$134,$C$18:$C$134,$D$18:$D$134,E1284,F1284)","v":36.016000000494401}]
[null,null,null,null,2.0000000001000009,4.7,{"$f":"_xll.Interp3D($B$18:$B$134,$C$18:$C$134,$D$18:$D$134,E1285,F1285)","v":36.048000000479206}]
[null,null,null,null,2.0000000001000009,4.8,{"$f":"_xll.Interp3D($B$18:$B$134,$C$18:$C$134,$D$18:$D$134,E1286,F1286)","v":36.072000000456811}]
[null,null,null,null,2.0000000001000009,4.9000000000000004,{"$f":"_xll.Interp3D($B$18:$B$134,$C$18:$C$134,$D$18:$D$134,E1287,F1287)","v":36.064000000429601}]
[null,null,null,null,2.0000000001000009,5,{"$f":"_xll.Interp3D($B$18:$B$134,$C$18:$C$134,$D$18:$D$134,E1288,F1288)","v":36.000000000400007}]
[null,null,null,null,2.0000000001000009,5.0999999999999996,{"$f":"_xll.Interp3D($B$18:$B$134,$C$18:$C$134,$D$18:$D$134,E1289,F1289)","v":35.864000000368002}]
[null,null,null,null,2.0000000001000009,5.2,{"$f":"_xll.Interp3D($B$18:$B$134,$C$18:$C$134,$D$18:$D$134,E1290,F1290)","v":35.672000000331998}]
[null,null,null,null,2.0000000001000009,5.3,{"$f":"_xll.Interp3D($B$18:$B$134,$C$18:$C$134,$D$18:$D$134,E1291,F1291)","v":35.448000000291998}]
[null,null,null,null,2.0000000001000009,5.4,{"$f":"_xll.Interp3D($B$18:$B$134,$C$18:$C$134,$D$18:$D$134,E1292,F1292)","v":35.216000000248002}]
[null,null,null,null,2.0000000001000009,5.5,{"$f":"_xll.Interp3D($B$18:$B$134,$C$18:$C$134,$D$18:$D$134,E1293,F1293)","v":35.000000000200004}]
[null,null,null,null,2.0000000001000009,5.6,{"$f":"_xll.Interp3D($B$18:$B$134,$C$18:$C$134,$D$18:$D$134,E1294,F1294)","v":34.800000000147996}]
[null,null,null,null,2.0000000001000009,5.7,{"$f":"_xll.Interp3D($B$18:$B$134,$C$18:$C$134,$D$18:$D$134,E1295,F1295)","v":34.600000000092002}]
[null,null,null,null,{"$f":"E1235+0.1","v":2.0000000001000009},{"$f":"F1235","v":5.8},{"$f":"_xll.Interp3D($B$18:$B$134,$C$18:$C$134,$D$18:$D$134,E1296,F1296)","v":34.400000000031994}]
[null,null,null,null,2.0000000001000009,5.9,{"$f":"_xll.Interp3D($B$18:$B$134,$C$18:$C$134,$D$18:$D$134,E1297,F1297)","v":34.199999999968}]
[null,null,null,null,2.0000000001000009,6,{"$f":"_xll.Interp3D($B$18:$B$134,$C$18:$C$134,$D$18:$D$134,E1298,F1298)","v":33.999999999900005}]
[null,null,null,null,2.100000000100001,0,{"$f":"_xll.Interp3D($B$18:$B$134,$C$18:$C$134,$D$18:$D$134,E1299,F1299)","v":41.975999999948002}]
[null,null,null,null,2.100000000100001,0.1,{"$f":"_xll.Interp3D($B$18:$B$134,$C$18:$C$134,$D$18:$D$134,E1300,F1300)","v":41.942399999811194}]
[null,null,null,null,2.100000000100001,0.2,{"$f":"_xll.Interp3D($B$18:$B$134,$C$18:$C$134,$D$18:$D$134,E1301,F1301)","v":41.806399999707203}]
[null,null,null,null,2.100000000100001,0.3,{"$f":"_xll.Interp3D($B$18:$B$134,$C$18:$C$134,$D$18:$D$134,E1302,F1302)","v":41.567999999635994}]
[null,null,null,null,2.100000000100001,0.4,{"$f":"_xll.Interp3D($B$18:$B$134,$C$18:$C$134,$D$18:$D$134,E1303,F1303)","v":41.227199999597602}]
[null,null,null,null,2.100000000100001,0.5,{"$f":"_xll.Interp3D($B$18:$B$134,$C$18:$C$134,$D$18:$D$134,E1304,F1304)","v":40.783999999592005}]
[null,null,null,null,2.100000000100001,0.6,{"$f":"_xll.Interp3D($B$18:$B$134,$C$18:$C$134,$D$18:$D$134,E1305,F1305)","v":40.184255999637564}]
[null,null,null,null,2.100000000100001,0.7,{"$f":"_xll.Interp3D($B$18:$B$134,$C$18:$C$134,$D$18:$D$134,E1306,F1306)","v":39.4279679997343}]
[null,null,null,null,2.100000000100001,0.8,{"$f":"_xll.Interp3D($B$18:$B$134,$C$18:$C$134,$D$18:$D$134,E1307,F1307)","v":38.596351999854647}]
[null,null,null,null,2.100000000100001,0.9,{"$f":"_xll.Interp3D($B$18:$B$134,$C$18:$C$134,$D$18:$D$134,E1308,F1308)","v":37.770623999971065}]
[null,null,null,null,2.100000000100001,1,{"$f":"_xll.Interp3D($B$18:$B$134,$C$18:$C$134,$D$18:$D$134,E1309,F1309)","v":37.032000000056001}]
[null,null,null,null,2.100000000100001,1.1000000000000001,{"$f":"_xll.Interp3D($B$18:$B$134,$C$18:$C$134,$D$18:$D$134,E1310,F1310)","v":36.248256000105727}]
[null,null,null,null,2.100000000100001,1.2,{"$f":"_xll.Interp3D($B$18:$B$134,$C$18:$C$134,$D$18:$D$134,E1311,F1311)","v":35.365248000138621}]
[null,null,null,null,2.100000000100001,1.3,{"$f":"_xll.Interp3D($B$18:$B$134,$C$18:$C$134,$D$18:$D$134,E1312,F1312)","v":34.581312000160267}]
[null,null,null,null,2.100000000100001,1.4,{"$f":"_xll.Interp3D($B$18:$B$134,$C$18:$C$134,$D$18:$D$134,E1313,F1313)","v":34.09478400017619}]
[null,null,null,null,2.100000000100001,1.5,{"$f":"_xll.Interp3D($B$18:$B$134,$C$18:$C$134,$D$18:$D$134,E1314,F1314)","v":34.104000000192002}]
[null,null,null,null,2.100000000100001,1.6,{"$f":"_xll.Interp3D($B$18:$B$134,$C$18:$C$134,$D$18:$D$134,E1315,F1315)","v":34.88467200018362}]
[null,null,null,null,2.100000000100001,1.7,{"$f":"_xll.Interp3D($B$18:$B$134,$C$18:$C$134,$D$18:$D$134,E1316,F1316)","v":36.304576000147321}]
[null,null,null,null,2.100000000100001,1.8,{"$f":"_xll.Interp3D($B$18:$B$134,$C$18:$C$134,$D$18:$D$134,E1317,F1317)","v":37.950144000119238}]
[null,null,null,null,2.100000000100001,1.9,{"$f":"_xll.Interp3D($B$18:$B$134,$C$18:$C$134,$D$18:$D$134,E1318,F1318)","v":39.407808000135418}]
[null,null,null,null,2.100000000100001,2,{"$f":"_xll.Interp3D($B$18:$B$134,$C$18:$C$134,$D$18:$D$134,E1319,F1319)","v":40.264000000232002}]
[null,null,null,null,2.100000000100001,2.1,{"$f":"_xll.Interp3D($B$18:$B$134,$C$18:$C$134,$D$18:$D$134,E1320,F1320)","v":40.358848000458636}]
[null,null,null,null,2.100000000100001,2.2000000000000002,{"$f":"_xll.Interp3D($B$18:$B$134,$C$18:$C$134,$D$18:$D$134,E1321,F1321)","v":39.96806400079123}]
[null,null,null,null,2.100000000100001,2.2999999999999998,{"$f":"_xll.Interp3D($B$18:$B$134,$C$18:$C$134,$D$18:$D$134,E1322,F1322)","v":39.331456001155345}]
[null,null,null,null,2.100000000100001,2.4,{"$f":"_xll.Interp3D($B$18:$B$134,$C$18:$C$134,$D$18:$D$134,E1323,F1323)","v":38.688832001476428}]
[null,null,null,null,2.100000000100001,2.5,{"$f":"_xll.Interp3D($B$18:$B$134,$C$18:$C$134,$D$18:$D$134,E1324,F1324)","v":38.280000001680015}]
[null,null,null,null,2.100000000100001,2.6,{"$f":"_xll.Interp3D($B$18:$B$134,$C$18:$C$134,$D$18:$D$134,E1325,F1325)","v":38.154752001742672}]
[null,null,null,null,2.100000000100001,2.7,{"$f":"_xll.Interp3D($B$18:$B$134,$C$18:$C$134,$D$18:$D$134,E1326,F1326)","v":38.153216001714071}]
[null,null,null,null,2.100000000100001,2.8,{"$f":"_xll.Interp3D($B$18:$B$134,$C$18:$C$134,$D$18:$D$134,E1327,F1327)","v":38.200704001629319}]
[null,null,null,null,2.100000000100001,2.9,{"$f":"_xll.Interp3D($B$18:$B$134,$C$18:$C$134,$D$18:$D$134,E1328,F1328)","v":38.222528001523592}]
[null,null,null,null,2.100000000100001,3,{"$f":"_xll.Interp3D($B$18:$B$134,$C$18:$C$134,$D$18:$D$134,E1329,F1329)","v":38.144000001432012}]
[null,null,null,null,2.100000000100001,3.1,{"$f":"_xll.Interp3D($B$18:$B$134,$C$18:$C$134,$D$18:$D$134,E1330,F1330)","v":37.923264001343242}]
[null,null,null,null,2.100000000100001,3.2,{"$f":"_xll.Interp3D($B$18:$B$134,$C$18:$C$134,$D$18:$D$134,E1331,F1331)","v":37.610112001233873}]
[null,null,null,null,2.100000000100001,3.3,{"$f":"_xll.Interp3D($B$18:$B$134,$C$18:$C$134,$D$18:$D$134,E1332,F1332)","v":37.26732800112088}]
[null,null,null,null,2.100000000100001,3.4,{"$f":"_xll.Interp3D($B$18:$B$134,$C$18:$C$134,$D$18:$D$134,E1333,F1333)","v":36.957696001021262}]
[null,null,null,null,2.100000000100001,3.5,{"$f":"_xll.Interp3D($B$18:$B$134,$C$18:$C$134,$D$18:$D$134,E1334,F1334)","v":36.744000000952013}]
[null,null,null,null,2.100000000100001,3.6,{"$f":"_xll.Interp3D($B$18:$B$134,$C$18:$C$134,$D$18:$D$134,E1335,F1335)","v":36.649408000926307}]
[null,null,null,null,2.100000000100001,3.7,{"$f":"_xll.Interp3D($B$18:$B$134,$C$18:$C$134,$D$18:$D$134,E1336,F1336)","v":36.632064000932843}]
[null,null,null,null,2.100000000100001,3.8,{"$f":"_xll.Interp3D($B$18:$B$134,$C$18:$C$134,$D$18:$D$134,E1337,F1337)","v":36.657216000951813}]
[null,null,null,null,2.100000000100001,3.9,{"$f":"_xll.Interp3D($B$18:$B$134,$C$18:$C$134,$D$18:$D$134,E1338,F1338)","v":36.690112000963467}]
[null,null,null,null,2.100000000100001,4,{"$f":"_xll.Interp3D($B$18:$B$134,$C$18:$C$134,$D$18:$D$134,E1339,F1339)","v":36.696000000948011}]
[null,null,null,null,2.100000000100001,4.0999999999999996,{"$f":"_xll.Interp3D($B$18:$B$134,$C$18:$C$134,$D$18:$D$134,E1340,F1340)","v":36.670784000892517}]
[null,null,null,null,2.100000000100001,4.2,{"$f":"_xll.Interp3D($B$18:$B$134,$C$18:$C$134,$D$18:$D$134,E1341,F1341)","v":36.637632000810179}]
[null,null,null,null,2.100000000100001,4.3,{"$f":"_xll.Interp3D($B$18:$B$134,$C$18:$C$134,$D$18:$D$134,E1342,F1342)","v":36.602688000720391}]
[null,null,null,null,2.100000000100001,4.4000000000000004,{"$f":"_xll.Interp3D($B$18:$B$134,$C$18:$C$134,$D$18:$D$134,E1343,F1343)","v":36.572096000642539}]
[null,null,null,null,2.100000000100001,4.5,{"$f":"_xll.Interp3D($B$18:$B$134,$C$18:$C$134,$D$18:$D$134,E1344,F1344)","v":36.55200000059601}]
[null,null,null,null,2.100000000100001,4.5999999999999996,{"$f":"_xll.Interp3D($B$18:$B$134,$C$18:$C$134,$D$18:$D$134,E1345,F1345)","v":36.566848000597503}]
[null,null,null,null,2.100000000100001,4.7,{"$f":"_xll.Interp3D($B$18:$B$134,$C$18:$C$134,$D$18:$D$134,E1346,F1346)","v":36.612544000634117}]
[null,null,null,null,2.100000000100001,4.8,{"$f":"_xll.Interp3D($B$18:$B$134,$C$18:$C$134,$D$18:$D$134,E1347,F1347)","v":36.652416000680773}]
[null,null,null,null,2.100000000100001,4.9000000000000004,{"$f":"_xll.Interp3D($B$18:$B$134,$C$18:$C$134,$D$18:$D$134,E1348,F1348)","v":36.649792000712424}]
[null,null,null,null,2.100000000100001,5,{"$f":"_xll.Interp3D($B$18:$B$134,$C$18:$C$134,$D$18:$D$134,E1349,F1349)","v":36.568000000704004}]
[null,null,null,null,2.100000000100001,5.0999999999999996,{"$f":"_xll.Interp3D($B$18:$B$134,$C$18:$C$134,$D$18:$D$134,E1350,F1350)","v":36.383744000642274}]
[null,null,null,null,2.100000000100001,5.2,{"$f":"_xll.Interp3D($B$18:$B$134,$C$18:$C$134,$D$18:$D$134,E1351,F1351)","v":36.121472000543932}]
[null,null,null,null,2.100000000100001,5.3,{"$f":"_xll.Interp3D($B$18:$B$134,$C$18:$C$134,$D$18:$D$134,E1352,F1352)","v":35.816128000428861}]
[null,null,null,null,2.100000000100001,5.4,{"$f":"_xll.Interp3D($B$18:$B$134,$C$18:$C$134,$D$18:$D$134,E1353,F1353)","v":35.502656000316932}]
[null,null,null,null,2.100000000100001,5.5,{"$f":"_xll.Interp3D($B$18:$B$134,$C$18:$C$134,$D$18:$D$134,E1354,F1354)","v":35.216000000228}]
[null,null,null,null,2.100000000100001,5.6,{"$f":"_xll.Interp3D($B$18:$B$134,$C$18:$C$134,$D$18:$D$134,E1355,F1355)","v":34.956160000162079}]
[null,null,null,null,2.100000000100001,5.7,{"$f":"_xll.Interp3D($B$18:$B$134,$C$18:$C$134,$D$18:$D$134,E1356,F1356)","v":34.699840000105915}]
[null,null,null,null,2.100000000100001,5.8,{"$f":"_xll.Interp3D($B$18:$B$134,$C$18:$C$134,$D$18:$D$134,E1357,F1357)","v":34.447040000059523}]
[null,null,null,null,2.100000000100001,5.9,{"$f":"_xll.Interp3D($B$18:$B$134,$C$18:$C$134,$D$18:$D$134,E1358,F1358)","v":34.197760000022882}]
[null,null,null,null,2.100000000100001,6,{"$f":"_xll.Interp3D($B$18:$B$134,$C$18:$C$134,$D$18:$D$134,E1359,F1359)","v":33.951999999996005}]
[null,null,null,null,{"$f":"E1299+0.1","v":2.2000000001000011},{"$f":"F1299","v":0},{"$f":"_xll.Interp3D($B$18:$B$134,$C$18:$C$134,$D$18:$D$134,E1360,F1360)","v":41.887999999871994}]
[null,null,null,null,2.2000000001000011,0.1,{"$f":"_xll.Interp3D($B$18:$B$134,$C$18:$C$134,$D$18:$D$134,E1361,F1361)","v":41.675199999660798}]
[null,null,null,null,2.2000000001000011,0.2,{"$f":"_xll.Interp3D($B$18:$B$134,$C$18:$C$134,$D$18:$D$134,E1362,F1362)","v":41.403199999500799}]
[null,null,null,null,2.2000000001000011,0.3,{"$f":"_xll.Interp3D($B$18:$B$134,$C$18:$C$134,$D$18:$D$134,E1363,F1363)","v":41.071999999391991}]
[null,null,null,null,2.2000000001000011,0.4,{"$f":"_xll.Interp3D($B$18:$B$134,$C$18:$C$134,$D$18:$D$134,E1364,F1364)","v":40.681599999334395}]
[null,null,null,null,2.2000000001000011,0.5,{"$f":"_xll.Interp3D($B$18:$B$134,$C$18:$C$134,$D$18:$D$134,E1365,F1365)","v":40.231999999327989}]
[null,null,null,null,2.2000000001000011,0.6,{"$f":"_xll.Interp3D($B$18:$B$134,$C$18:$C$134,$D$18:$D$134,E1366,F1366)","v":39.693247999401464}]
[null,null,null,null,2.2000000001000011,0.7,{"$f":"_xll.Interp3D($B$18:$B$134,$C$18:$C$134,$D$18:$D$134,E1367,F1367)","v":39.065343999554806}]
[null,null,null,null,2.2000000001000011,0.8,{"$f":"_xll.Interp3D($B$18:$B$134,$C$18:$C$134,$D$18:$D$134,E1368,F1368)","v":38.393215999745017}]
[null,null,null,null,2.2000000001000011,0.9,{"$f":"_xll.Interp3D($B$18:$B$134,$C$18:$C$134,$D$18:$D$134,E1369,F1369)","v":37.721791999929088}]
[null,null,null,null,2.2000000001000011,1,{"$f":"_xll.Interp3D($B$18:$B$134,$C$18:$C$134,$D$18:$D$134,E1370,F1370)","v":37.096000000064002}]
[null,null,null,null,2.2000000001000011,1.1000000000000001,{"$f":"_xll.Interp3D($B$18:$B$134,$C$18:$C$134,$D$18:$D$134,E1371,F1371)","v":36.380288000146749}]
[null,null,null,null,2.2000000001000011,1.2,{"$f":"_xll.Interp3D($B$18:$B$134,$C$18:$C$134,$D$18:$D$134,E1372,F1372)","v":35.544704000206018}]
[null,null,null,null,2.2000000001000011,1.3,{"$f":"_xll.Interp3D($B$18:$B$134,$C$18:$C$134,$D$18:$D$134,E1373,F1373)","v":34.792576000246306}]
[null,null,null,null,2.2000000001000011,1.4,{"$f":"_xll.Interp3D($B$18:$B$134,$C$18:$C$134,$D$18:$D$134,E1374,F1374)","v":34.327232000272133}]
[null,null,null,null,2.2000000001000011,1.5,{"$f":"_xll.Interp3D($B$18:$B$134,$C$18:$C$134,$D$18:$D$134,E1375,F1375)","v":34.352000000288001}]
[null,null,null,null,2.2000000001000011,1.6,{"$f":"_xll.Interp3D($B$18:$B$134,$C$18:$C$134,$D$18:$D$134,E1376,F1376)","v":35.110976000256869}]
[null,null,null,null,2.2000000001000011,1.7,{"$f":"_xll.Interp3D($B$18:$B$134,$C$18:$C$134,$D$18:$D$134,E1377,F1377)","v":36.468608000175713}]
[null,null,null,null,2.2000000001000011,1.8,{"$f":"_xll.Interp3D($B$18:$B$134,$C$18:$C$134,$D$18:$D$134,E1378,F1378)","v":38.058752000100135}]
[null,null,null,null,2.2000000001000011,1.9,{"$f":"_xll.Interp3D($B$18:$B$134,$C$18:$C$134,$D$18:$D$134,E1379,F1379)","v":39.515264000085693}]
[null,null,null,null,2.2000000001000011,2,{"$f":"_xll.Interp3D($B$18:$B$134,$C$18:$C$134,$D$18:$D$134,E1380,F1380)","v":40.472000000188004}]
[null,null,null,null,2.2000000001000011,2.1,{"$f":"_xll.Interp3D($B$18:$B$134,$C$18:$C$134,$D$18:$D$134,E1381,F1381)","v":40.829504000474827}]
[null,null,null,null,2.2000000001000011,2.2000000000000002,{"$f":"_xll.Interp3D($B$18:$B$134,$C$18:$C$134,$D$18:$D$134,E1382,F1382)","v":40.831872000909101}]
[null,null,null,null,2.2000000001000011,2.2999999999999998,{"$f":"_xll.Interp3D($B$18:$B$134,$C$18:$C$134,$D$18:$D$134,E1383,F1383)","v":40.628288001389166}]
[null,null,null,null,2.2000000001000011,2.4,{"$f":"_xll.Interp3D($B$18:$B$134,$C$18:$C$134,$D$18:$D$134,E1384,F1384)","v":40.367936001813362}]
[null,null,null,null,2.2000000001000011,2.5,{"$f":"_xll.Interp3D($B$18:$B$134,$C$18:$C$134,$D$18:$D$134,E1385,F1385)","v":40.200000002080024}]
[null,null,null,null,2.2000000001000011,2.6,{"$f":"_xll.Interp3D($B$18:$B$134,$C$18:$C$134,$D$18:$D$134,E1386,F1386)","v":40.145216002156246}]
[null,null,null,null,2.2000000001000011,2.7,{"$f":"_xll.Interp3D($B$18:$B$134,$C$18:$C$134,$D$18:$D$134,E1387,F1387)","v":40.104128002109817}]
[null,null,null,null,2.2000000001000011,2.8,{"$f":"_xll.Interp3D($B$18:$B$134,$C$18:$C$134,$D$18:$D$134,E1388,F1388)","v":40.045632001990064}]
[null,null,null,null,2.2000000001000011,2.9,{"$f":"_xll.Interp3D($B$18:$B$134,$C$18:$C$134,$D$18:$D$134,E1389,F1389)","v":39.93862400184635}]
[null,null,null,null,2.2000000001000011,3,{"$f":"_xll.Interp3D($B$18:$B$134,$C$18:$C$134,$D$18:$D$134,E1390,F1390)","v":39.752000001728021}]
[null,null,null,null,2.2000000001000011,3.1,{"$f":"_xll.Interp3D($B$18:$B$134,$C$18:$C$134,$D$18:$D$134,E1391,F1391)","v":39.4318720016227}]
[null,null,null,null,2.2000000001000011,3.2,{"$f":"_xll.Interp3D($B$18:$B$134,$C$18:$C$134,$D$18:$D$134,E1392,F1392)","v":38.998976001497525}]
[null,null,null,null,2.2000000001000011,3.3,{"$f":"_xll.Interp3D($B$18:$B$134,$C$18:$C$134,$D$18:$D$134,E1393,F1393)","v":38.53414400137099}]
[null,null,null,null,2.2000000001000011,3.4,{"$f":"_xll.Interp3D($B$18:$B$134,$C$18:$C$134,$D$18:$D$134,E1394,F1394)","v":38.11820800126165}]
[null,null,null,null,2.2000000001000011,3.5,{"$f":"_xll.Interp3D($B$18:$B$134,$C$18:$C$134,$D$18:$D$134,E1395,F1395)","v":37.832000001188007}]
[null,null,null,null,2.2000000001000011,3.6,{"$f":"_xll.Interp3D($B$18:$B$134,$C$18:$C$134,$D$18:$D$134,E1396,F1396)","v":37.715584001169546}]
[null,null,null,null,2.2000000001000011,3.7,{"$f":"_xll.Interp3D($B$18:$B$134,$C$18:$C$134,$D$18:$D$134,E1397,F1397)","v":37.715072001193896}]
[null,null,null,null,2.2000000001000011,3.8,{"$f":"_xll.Interp3D($B$18:$B$134,$C$18:$C$134,$D$18:$D$134,E1398,F1398)","v":37.77036800123188}]
[null,null,null,null,2.2000000001000011,3.9,{"$f":"_xll.Interp3D($B$18:$B$134,$C$18:$C$134,$D$18:$D$134,E1399,F1399)","v":37.821376001254322}]
[null,null,null,null,2.2000000001000011,4,{"$f":"_xll.Interp3D($B$18:$B$134,$C$18:$C$134,$D$18:$D$134,E1400,F1400)","v":37.808000001232017}]
[null,null,null,null,2.2000000001000011,4.0999999999999996,{"$f":"_xll.Interp3D($B$18:$B$134,$C$18:$C$134,$D$18:$D$134,E1401,F1401)","v":37.707712001142696}]
[null,null,null,null,2.2000000001000011,4.2,{"$f":"_xll.Interp3D($B$18:$B$134,$C$18:$C$134,$D$18:$D$134,E1402,F1402)","v":37.560576001005835}]
[null,null,null,null,2.2000000001000011,4.3,{"$f":"_xll.Interp3D($B$18:$B$134,$C$18:$C$134,$D$18:$D$134,E1403,F1403)","v":37.400384000854828}]
[null,null,null,null,2.2000000001000011,4.4000000000000004,{"$f":"_xll.Interp3D($B$18:$B$134,$C$18:$C$134,$D$18:$D$134,E1404,F1404)","v":37.260928000723077}]
[null,null,null,null,2.2000000001000011,4.5,{"$f":"_xll.Interp3D($B$18:$B$134,$C$18:$C$134,$D$18:$D$134,E1405,F1405)","v":37.176000000644009}]
[null,null,null,null,2.2000000001000011,4.5999999999999996,{"$f":"_xll.Interp3D($B$18:$B$134,$C$18:$C$134,$D$18:$D$134,E1406,F1406)","v":37.191424000641859}]
[null,null,null,null,2.2000000001000011,4.7,{"$f":"_xll.Interp3D($B$18:$B$134,$C$18:$C$134,$D$18:$D$134,E1407,F1407)","v":37.284672000694378}]
[null,null,null,null,2.2000000001000011,4.8,{"$f":"_xll.Interp3D($B$18:$B$134,$C$18:$C$134,$D$18:$D$134,E1408,F1408)","v":37.387008000765157}]
[null,null,null,null,2.2000000001000011,4.9000000000000004,{"$f":"_xll.Interp3D($B$18:$B$134,$C$18:$C$134,$D$18:$D$134,E1409,F1409)","v":37.429696000817835}]
[null,null,null,null,2.2000000001000011,5,{"$f":"_xll.Interp3D($B$18:$B$134,$C$18:$C$134,$D$18:$D$134,E1410,F1410)","v":37.34400000081601}]
[null,null,null,null,2.2000000001000011,5.0999999999999996,{"$f":"_xll.Interp3D($B$18:$B$134,$C$18:$C$134,$D$18:$D$134,E1411,F1411)","v":37.090112000741257}]
[null,null,null,null,2.2000000001000011,5.2,{"$f":"_xll.Interp3D($B$18:$B$134,$C$18:$C$134,$D$18:$D$134,E1412,F1412)","v":36.713856000617824}]
[null,null,null,null,2.2000000001000011,5.3,{"$f":"_xll.Interp3D($B$18:$B$134,$C$18:$C$134,$D$18:$D$134,E1413,F1413)","v":36.274944000473383}]
[null,null,null,null,2.2000000001000011,5.4,{"$f":"_xll.Interp3D($B$18:$B$134,$C$18:$C$134,$D$18:$D$134,E1414,F1414)","v":35.833088000335557}]
[null,null,null,null,2.2000000001000011,5.5,{"$f":"_xll.Interp3D($B$18:$B$134,$C$18:$C$134,$D$18:$D$134,E1415,F1415)","v":35.448000000232}]
[null,null,null,null,2.2000000001000011,5.6,{"$f":"_xll.Interp3D($B$18:$B$134,$C$18:$C$134,$D$18:$D$134,E1416,F1416)","v":35.119680000162717}]
[null,null,null,null,2.2000000001000011,5.7,{"$f":"_xll.Interp3D($B$18:$B$134,$C$18:$C$134,$D$18:$D$134,E1417,F1417)","v":34.808320000109283}]
[null,null,null,null,2.2000000001000011,5.8,{"$f":"_xll.Interp3D($B$18:$B$134,$C$18:$C$134,$D$18:$D$134,E1418,F1418)","v":34.513920000071678}]
[null,null,null,null,2.2000000001000011,5.9,{"$f":"_xll.Interp3D($B$18:$B$134,$C$18:$C$134,$D$18:$D$134,E1419,F1419)","v":34.236480000049923}]
[null,null,null,null,2.2000000001000011,6,{"$f":"_xll.Interp3D($B$18:$B$134,$C$18:$C$134,$D$18:$D$134,E1420,F1420)","v":33.976000000044003}]
[null,null,null,null,2.3000000001000012,0,{"$f":"_xll.Interp3D($B$18:$B$134,$C$18:$C$134,$D$18:$D$134,E1421,F1421)","v":41.71199999977199}]
[null,null,null,null,2.3000000001000012,0.1,{"$f":"_xll.Interp3D($B$18:$B$134,$C$18:$C$134,$D$18:$D$134,E1422,F1422)","v":41.276799999548786}]
[null,null,null,null,2.3000000001000012,0.2,{"$f":"_xll.Interp3D($B$18:$B$134,$C$18:$C$134,$D$18:$D$134,E1423,F1423)","v":40.836799999380801}]
[null,null,null,null,{"$f":"E1363+0.1","v":2.3000000001000012},{"$f":"F1363","v":0.3},{"$f":"_xll.Interp3D($B$18:$B$134,$C$18:$C$134,$D$18:$D$134,E1424,F1424)","v":40.391999999267995}]
[null,null,null,null,2.3000000001000012,0.4,{"$f":"_xll.Interp3D($B$18:$B$134,$C$18:$C$134,$D$18:$D$134,E1425,F1425)","v":39.942399999210387}]
[null,null,null,null,2.3000000001000012,0.5,{"$f":"_xll.Interp3D($B$18:$B$134,$C$18:$C$134,$D$18:$D$134,E1426,F1426)","v":39.487999999207993}]
[null,null,null,null,2.3000000001000012,0.6,{"$f":"_xll.Interp3D($B$18:$B$134,$C$18:$C$134,$D$18:$D$134,E1427,F1427)","v":39.029311999291707}]
[null,null,null,null,2.3000000001000012,0.7,{"$f":"_xll.Interp3D($B$18:$B$134,$C$18:$C$134,$D$18:$D$134,E1428,F1428)","v":38.566335999461529}]
[null,null,null,null,2.3000000001000012,0.8,{"$f":"_xll.Interp3D($B$18:$B$134,$C$18:$C$134,$D$18:$D$134,E1429,F1429)","v":38.098303999671096}]
[null,null,null,null,2.3000000001000012,0.9,{"$f":"_xll.Interp3D($B$18:$B$134,$C$18:$C$134,$D$18:$D$134,E1430,F1430)","v":37.62444799987405}]
[null,null,null,null,2.3000000001000012,1,{"$f":"_xll.Interp3D($B$18:$B$134,$C$18:$C$134,$D$18:$D$134,E1431,F1431)","v":37.144000000024}]
[null,null,null,null,2.3000000001000012,1.1000000000000001,{"$f":"_xll.Interp3D($B$18:$B$134,$C$18:$C$134,$D$18:$D$134,E1432,F1432)","v":36.518592000118275}]
[null,null,null,null,2.3000000001000012,1.2,{"$f":"_xll.Interp3D($B$18:$B$134,$C$18:$C$134,$D$18:$D$134,E1433,F1433)","v":35.748736000187776}]
[null,null,null,null,2.3000000001000012,1.3,{"$f":"_xll.Interp3D($B$18:$B$134,$C$18:$C$134,$D$18:$D$134,E1434,F1434)","v":35.041984000236553}]
[null,null,null,null,2.3000000001000012,1.4,{"$f":"_xll.Interp3D($B$18:$B$134,$C$18:$C$134,$D$18:$D$134,E1435,F1435)","v":34.605888000268607}]
[null,null,null,null,2.3000000001000012,1.5,{"$f":"_xll.Interp3D($B$18:$B$134,$C$18:$C$134,$D$18:$D$134,E1436,F1436)","v":34.648000000288008}]
[null,null,null,null,2.3000000001000012,1.6,{"$f":"_xll.Interp3D($B$18:$B$134,$C$18:$C$134,$D$18:$D$134,E1437,F1437)","v":35.374144000257353}]
[null,null,null,null,2.3000000001000012,1.7,{"$f":"_xll.Interp3D($B$18:$B$134,$C$18:$C$134,$D$18:$D$134,E1438,F1438)","v":36.645952000173949}]
[null,null,null,null,2.3000000001000012,1.8,{"$f":"_xll.Interp3D($B$18:$B$134,$C$18:$C$134,$D$18:$D$134,E1439,F1439)","v":38.154688000093898}]
[null,null,null,null,2.3000000001000012,1.9,{"$f":"_xll.Interp3D($B$18:$B$134,$C$18:$C$134,$D$18:$D$134,E1440,F1440)","v":39.591616000073223}]
[null,null,null,null,2.3000000001000012,2,{"$f":"_xll.Interp3D($B$18:$B$134,$C$18:$C$134,$D$18:$D$134,E1441,F1441)","v":40.648000000168004}]
[null,null,null,null,2.3000000001000012,2.1,{"$f":"_xll.Interp3D($B$18:$B$134,$C$18:$C$134,$D$18:$D$134,E1442,F1442)","v":41.292736000443782}]
[null,null,null,null,2.3000000001000012,2.2000000000000002,{"$f":"_xll.Interp3D($B$18:$B$134,$C$18:$C$134,$D$18:$D$134,E1443,F1443)","v":41.731648000863174}]
[null,null,null,null,2.3000000001000012,2.2999999999999998,{"$f":"_xll.Interp3D($B$18:$B$134,$C$18:$C$134,$D$18:$D$134,E1444,F1444)","v":42.011392001327891}]
[null,null,null,null,2.3000000001000012,2.4,{"$f":"_xll.Interp3D($B$18:$B$134,$C$18:$C$134,$D$18:$D$134,E1445,F1445)","v":42.178624001739607}]
[null,null,null,null,2.3000000001000012,2.5,{"$f":"_xll.Interp3D($B$18:$B$134,$C$18:$C$134,$D$18:$D$134,E1446,F1446)","v":42.280000002000023}]
[null,null,null,null,2.3000000001000012,2.6,{"$f":"_xll.Interp3D($B$18:$B$134,$C$18:$C$134,$D$18:$D$134,E1447,F1447)","v":42.303104002077525}]
[null,null,null,null,2.3000000001000012,2.7,{"$f":"_xll.Interp3D($B$18:$B$134,$C$18:$C$134,$D$18:$D$134,E1448,F1448)","v":42.216832002037663}]
[null,null,null,null,2.3000000001000012,2.8,{"$f":"_xll.Interp3D($B$18:$B$134,$C$18:$C$134,$D$18:$D$134,E1449,F1449)","v":42.039808001927824}]
[null,null,null,null,2.3000000001000012,2.9,{"$f":"_xll.Interp3D($B$18:$B$134,$C$18:$C$134,$D$18:$D$134,E1450,F1450)","v":41.790656001795476}]
[null,null,null,null,2.3000000001000012,3,{"$f":"_xll.Interp3D($B$18:$B$134,$C$18:$C$134,$D$18:$D$134,E1451,F1451)","v":41.488000001688022}]
[null,null,null,null,2.3000000001000012,3.1,{"$f":"_xll.Interp3D($B$18:$B$134,$C$18:$C$134,$D$18:$D$134,E1452,F1452)","v":41.066048001594382}]
[null,null,null,null,2.3000000001000012,3.2,{"$f":"_xll.Interp3D($B$18:$B$134,$C$18:$C$134,$D$18:$D$134,E1453,F1453)","v":40.512384001482957}]
[null,null,null,null,2.3000000001000012,3.3,{"$f":"_xll.Interp3D($B$18:$B$134,$C$18:$C$134,$D$18:$D$134,E1454,F1454)","v":39.925696001370355}]
[null,null,null,null,2.3000000001000012,3.4,{"$f":"_xll.Interp3D($B$18:$B$134,$C$18:$C$134,$D$18:$D$134,E1455,F1455)","v":39.40467200127317}]
[null,null,null,null,2.3000000001000012,3.5,{"$f":"_xll.Interp3D($B$18:$B$134,$C$18:$C$134,$D$18:$D$134,E1456,F1456)","v":39.04800000120801}]
[null,null,null,null,2.3000000001000012,3.6,{"$f":"_xll.Interp3D($B$18:$B$134,$C$18:$C$134,$D$18:$D$134,E1457,F1457)","v":38.915456001193704}]
[null,null,null,null,2.3000000001000012,3.7,{"$f":"_xll.Interp3D($B$18:$B$134,$C$18:$C$134,$D$18:$D$134,E1458,F1458)","v":38.941248001219172}]
[null,null,null,null,2.3000000001000012,3.8,{"$f":"_xll.Interp3D($B$18:$B$134,$C$18:$C$134,$D$18:$D$134,E1459,F1459)","v":39.035712001256208}]
[null,null,null,null,2.3000000001000012,3.9,{"$f":"_xll.Interp3D($B$18:$B$134,$C$18:$C$134,$D$18:$D$134,E1460,F1460)","v":39.10918400127656}]
[null,null,null,null,2.3000000001000012,4,{"$f":"_xll.Interp3D($B$18:$B$134,$C$18:$C$134,$D$18:$D$134,E1461,F1461)","v":39.072000001252015}]
[null,null,null,null,2.3000000001000012,4.0999999999999996,{"$f":"_xll.Interp3D($B$18:$B$134,$C$18:$C$134,$D$18:$D$134,E1462,F1462)","v":38.878848001160932}]
[null,null,null,null,2.3000000001000012,4.2,{"$f":"_xll.Interp3D($B$18:$B$134,$C$18:$C$134,$D$18:$D$134,E1463,F1463)","v":38.589504001022156}]
[null,null,null,null,2.3000000001000012,4.3,{"$f":"_xll.Interp3D($B$18:$B$134,$C$18:$C$134,$D$18:$D$134,E1464,F1464)","v":38.271936000868102}]
[null,null,null,null,2.3000000001000012,4.4000000000000004,{"$f":"_xll.Interp3D($B$18:$B$134,$C$18:$C$134,$D$18:$D$134,E1465,F1465)","v":37.994112000731242}]
[null,null,null,null,2.3000000001000012,4.5,{"$f":"_xll.Interp3D($B$18:$B$134,$C$18:$C$134,$D$18:$D$134,E1466,F1466)","v":37.824000000644006}]
[null,null,null,null,2.3000000001000012,4.5999999999999996,{"$f":"_xll.Interp3D($B$18:$B$134,$C$18:$C$134,$D$18:$D$134,E1467,F1467)","v":37.830976000627452}]
[null,null,null,null,2.3000000001000012,4.7,{"$f":"_xll.Interp3D($B$18:$B$134,$C$18:$C$134,$D$18:$D$134,E1468,F1468)","v":37.96972800065997}]
[null,null,null,null,2.3000000001000012,4.8,{"$f":"_xll.Interp3D($B$18:$B$134,$C$18:$C$134,$D$18:$D$134,E1469,F1469)","v":38.136192000709961}]
[null,null,null,null,2.3000000001000012,4.9000000000000004,{"$f":"_xll.Interp3D($B$18:$B$134,$C$18:$C$134,$D$18:$D$134,E1470,F1470)","v":38.226304000745834}]
[null,null,null,null,2.3000000001000012,5,{"$f":"_xll.Interp3D($B$18:$B$134,$C$18:$C$134,$D$18:$D$134,E1471,F1471)","v":38.136000000736011}]
[null,null,null,null,2.3000000001000012,5.0999999999999996,{"$f":"_xll.Interp3D($B$18:$B$134,$C$18:$C$134,$D$18:$D$134,E1472,F1472)","v":37.807808000664934}]
[null,null,null,null,2.3000000001000012,5.2,{"$f":"_xll.Interp3D($B$18:$B$134,$C$18:$C$134,$D$18:$D$134,E1473,F1473)","v":37.311104000553662}]
[null,null,null,null,2.3000000001000012,5.3,{"$f":"_xll.Interp3D($B$18:$B$134,$C$18:$C$134,$D$18:$D$134,E1474,F1474)","v":36.732096000425543}]
[null,null,null,null,2.3000000001000012,5.4,{"$f":"_xll.Interp3D($B$18:$B$134,$C$18:$C$134,$D$18:$D$134,E1475,F1475)","v":36.156992000303873}]
[null,null,null,null,2.3000000001000012,5.5,{"$f":"_xll.Interp3D($B$18:$B$134,$C$18:$C$134,$D$18:$D$134,E1476,F1476)","v":35.672000000212002}]
[null,null,null,null,2.3000000001000012,5.6,{"$f":"_xll.Interp3D($B$18:$B$134,$C$18:$C$134,$D$18:$D$134,E1477,F1477)","v":35.277120000149921}]
[null,null,null,null,2.3000000001000012,5.7,{"$f":"_xll.Interp3D($B$18:$B$134,$C$18:$C$134,$D$18:$D$134,E1478,F1478)","v":34.91488000010208}]
[null,null,null,null,2.3000000001000012,5.8,{"$f":"_xll.Interp3D($B$18:$B$134,$C$18:$C$134,$D$18:$D$134,E1479,F1479)","v":34.585280000068479}]
[null,null,null,null,2.3000000001000012,5.9,{"$f":"_xll.Interp3D($B$18:$B$134,$C$18:$C$134,$D$18:$D$134,E1480,F1480)","v":34.288320000049126}]
[null,null,null,null,2.3000000001000012,6,{"$f":"_xll.Interp3D($B$18:$B$134,$C$18:$C$134,$D$18:$D$134,E1481,F1481)","v":34.024000000043998}]
[null,null,null,null,2.4000000001000013,0,{"$f":"_xll.Interp3D($B$18:$B$134,$C$18:$C$134,$D$18:$D$134,E1482,F1482)","v":41.423999999648004}]
[null,null,null,null,2.4000000001000013,0.1,{"$f":"_xll.Interp3D($B$18:$B$134,$C$18:$C$134,$D$18:$D$134,E1483,F1483)","v":40.785599999475195}]
[null,null,null,null,2.4000000001000013,0.2,{"$f":"_xll.Interp3D($B$18:$B$134,$C$18:$C$134,$D$18:$D$134,E1484,F1484)","v":40.1935999993472}]
[null,null,null,null,2.4000000001000013,0.3,{"$f":"_xll.Interp3D($B$18:$B$134,$C$18:$C$134,$D$18:$D$134,E1485,F1485)","v":39.647999999263995}]
[null,null,null,null,2.4000000001000013,0.4,{"$f":"_xll.Interp3D($B$18:$B$134,$C$18:$C$134,$D$18:$D$134,E1486,F1486)","v":39.148799999225588}]
[null,null,null,null,2.4000000001000013,0.5,{"$f":"_xll.Interp3D($B$18:$B$134,$C$18:$C$134,$D$18:$D$134,E1487,F1487)","v":38.695999999231987}]
[null,null,null,null,{"$f":"E1427+0.1","v":2.4000000001000013},{"$f":"F1427","v":0.6},{"$f":"_xll.Interp3D($B$18:$B$134,$C$18:$C$134,$D$18:$D$134,E1488,F1488)","v":38.31878399930828}]
[null,null,null,null,2.4000000001000013,0.7,{"$f":"_xll.Interp3D($B$18:$B$134,$C$18:$C$134,$D$18:$D$134,E1489,F1489)","v":38.017151999454455}]
[null,null,null,null,2.4000000001000013,0.8,{"$f":"_xll.Interp3D($B$18:$B$134,$C$18:$C$134,$D$18:$D$134,E1490,F1490)","v":37.747327999632887}]
[null,null,null,null,2.4000000001000013,0.9,{"$f":"_xll.Interp3D($B$18:$B$134,$C$18:$C$134,$D$18:$D$134,E1491,F1491)","v":37.465535999805951}]
[null,null,null,null,2.4000000001000013,1,{"$f":"_xll.Interp3D($B$18:$B$134,$C$18:$C$134,$D$18:$D$134,E1492,F1492)","v":37.127999999936002}]
[null,null,null,null,2.4000000001000013,1.1000000000000001,{"$f":"_xll.Interp3D($B$18:$B$134,$C$18:$C$134,$D$18:$D$134,E1493,F1493)","v":36.59366400002029}]
[null,null,null,null,2.4000000001000013,1.2,{"$f":"_xll.Interp3D($B$18:$B$134,$C$18:$C$134,$D$18:$D$134,E1494,F1494)","v":35.891712000083906}]
[null,null,null,null,2.4000000001000013,1.3,{"$f":"_xll.Interp3D($B$18:$B$134,$C$18:$C$134,$D$18:$D$134,E1495,F1495)","v":35.233728000130981}]
[null,null,null,null,2.4000000001000013,1.4,{"$f":"_xll.Interp3D($B$18:$B$134,$C$18:$C$134,$D$18:$D$134,E1496,F1496)","v":34.831296000165629}]
[null,null,null,null,2.4000000001000013,1.5,{"$f":"_xll.Interp3D($B$18:$B$134,$C$18:$C$134,$D$18:$D$134,E1497,F1497)","v":34.896000000192004}]
[null,null,null,null,2.4000000001000013,1.6,{"$f":"_xll.Interp3D($B$18:$B$134,$C$18:$C$134,$D$18:$D$134,E1498,F1498)","v":35.60140800018506}]
[null,null,null,null,2.4000000001000013,1.7,{"$f":"_xll.Interp3D($B$18:$B$134,$C$18:$C$134,$D$18:$D$134,E1499,F1499)","v":36.80646400014205}]
[null,null,null,null,2.4000000001000013,1.8,{"$f":"_xll.Interp3D($B$18:$B$134,$C$18:$C$134,$D$18:$D$134,E1500,F1500)","v":38.250816000100514}]
[null,null,null,null,2.4000000001000013,1.9,{"$f":"_xll.Interp3D($B$18:$B$134,$C$18:$C$134,$D$18:$D$134,E1501,F1501)","v":39.674112000097992}]
[null,null,null,null,2.4000000001000013,2,{"$f":"_xll.Interp3D($B$18:$B$134,$C$18:$C$134,$D$18:$D$134,E1502,F1502)","v":40.816000000171996}]
[null,null,null,null,2.4000000001000013,2.1,{"$f":"_xll.Interp3D($B$18:$B$134,$C$18:$C$134,$D$18:$D$134,E1503,F1503)","v":41.701312000365505}]
[null,null,null,null,2.4000000001000013,2.2000000000000002,{"$f":"_xll.Interp3D($B$18:$B$134,$C$18:$C$134,$D$18:$D$134,E1504,F1504)","v":42.503616000653487}]
[null,null,null,null,2.4000000001000013,2.2999999999999998,{"$f":"_xll.Interp3D($B$18:$B$134,$C$18:$C$134,$D$18:$D$134,E1505,F1505)","v":43.185664000971499}]
[null,null,null,null,2.4000000001000013,2.4,{"$f":"_xll.Interp3D($B$18:$B$134,$C$18:$C$134,$D$18:$D$134,E1506,F1506)","v":43.710208001255168}]
[null,null,null,null,2.4000000001000013,2.5,{"$f":"_xll.Interp3D($B$18:$B$134,$C$18:$C$134,$D$18:$D$134,E1507,F1507)","v":44.040000001440021}]
[null,null,null,null,2.4000000001000013,2.6,{"$f":"_xll.Interp3D($B$18:$B$134,$C$18:$C$134,$D$18:$D$134,E1508,F1508)","v":44.136128001506506}]
[null,null,null,null,2.4000000001000013,2.7,{"$f":"_xll.Interp3D($B$18:$B$134,$C$18:$C$134,$D$18:$D$134,E1509,F1509)","v":44.023424001497588}]
[null,null,null,null,2.4000000001000013,2.8,{"$f":"_xll.Interp3D($B$18:$B$134,$C$18:$C$134,$D$18:$D$134,E1510,F1510)","v":43.760256001442613}]
[null,null,null,null,2.4000000001000013,2.9,{"$f":"_xll.Interp3D($B$18:$B$134,$C$18:$C$134,$D$18:$D$134,E1511,F1511)","v":43.404992001370964}]
[null,null,null,null,2.4000000001000013,3,{"$f":"_xll.Interp3D($B$18:$B$134,$C$18:$C$134,$D$18:$D$134,E1512,F1512)","v":43.016000001312015}]
[null,null,null,null,2.4000000001000013,3.1,{"$f":"_xll.Interp3D($B$18:$B$134,$C$18:$C$134,$D$18:$D$134,E1513,F1513)","v":42.518016001258289}]
[null,null,null,null,2.4000000001000013,3.2,{"$f":"_xll.Interp3D($B$18:$B$134,$C$18:$C$134,$D$18:$D$134,E1514,F1514)","v":41.872128001190184}]
[null,null,null,null,2.4000000001000013,3.3,{"$f":"_xll.Interp3D($B$18:$B$134,$C$18:$C$134,$D$18:$D$134,E1515,F1515)","v":41.191232001118969}]
[null,null,null,null,2.4000000001000013,3.4,{"$f":"_xll.Interp3D($B$18:$B$134,$C$18:$C$134,$D$18:$D$134,E1516,F1516)","v":40.588224001055821}]
[null,null,null,null,2.4000000001000013,3.5,{"$f":"_xll.Interp3D($B$18:$B$134,$C$18:$C$134,$D$18:$D$134,E1517,F1517)","v":40.176000001012007}]
[null,null,null,null,2.4000000001000013,3.6,{"$f":"_xll.Interp3D($B$18:$B$134,$C$18:$C$134,$D$18:$D$134,E1518,F1518)","v":40.029952000998804}]
[null,null,null,null,2.4000000001000013,3.7,{"$f":"_xll.Interp3D($B$18:$B$134,$C$18:$C$134,$D$18:$D$134,E1519,F1519)","v":40.074816001008685}]
[null,null,null,null,2.4000000001000013,3.8,{"$f":"_xll.Interp3D($B$18:$B$134,$C$18:$C$134,$D$18:$D$134,E1520,F1520)","v":40.197504001024782}]
[null,null,null,null,2.4000000001000013,3.9,{"$f":"_xll.Interp3D($B$18:$B$134,$C$18:$C$134,$D$18:$D$134,E1521,F1521)","v":40.284928001030188}]
[null,null,null,null,2.4000000001000013,4,{"$f":"_xll.Interp3D($B$18:$B$134,$C$18:$C$134,$D$18:$D$134,E1522,F1522)","v":40.224000001008015}]
[null,null,null,null,2.4000000001000013,4.0999999999999996,{"$f":"_xll.Interp3D($B$18:$B$134,$C$18:$C$134,$D$18:$D$134,E1523,F1523)","v":39.952256000947244}]
[null,null,null,null,2.4000000001000013,4.2,{"$f":"_xll.Interp3D($B$18:$B$134,$C$18:$C$134,$D$18:$D$134,E1524,F1524)","v":39.545088000859145}]
[null,null,null,null,2.4000000001000013,4.3,{"$f":"_xll.Interp3D($B$18:$B$134,$C$18:$C$134,$D$18:$D$134,E1525,F1525)","v":39.096192000760226}]
[null,null,null,null,2.4000000001000013,4.4000000000000004,{"$f":"_xll.Interp3D($B$18:$B$134,$C$18:$C$134,$D$18:$D$134,E1526,F1526)","v":38.699264000667021}]
[null,null,null,null,2.4000000001000013,4.5,{"$f":"_xll.Interp3D($B$18:$B$134,$C$18:$C$134,$D$18:$D$134,E1527,F1527)","v":38.448000000596004}]
[null,null,null,null,2.4000000001000013,4.5999999999999996,{"$f":"_xll.Interp3D($B$18:$B$134,$C$18:$C$134,$D$18:$D$134,E1528,F1528)","v":38.426752000554309}]
[null,null,null,null,2.4000000001000013,4.7,{"$f":"_xll.Interp3D($B$18:$B$134,$C$18:$C$134,$D$18:$D$134,E1529,F1529)","v":38.573056000530919}]
[null,null,null,null,2.4000000001000013,4.8,{"$f":"_xll.Interp3D($B$18:$B$134,$C$18:$C$134,$D$18:$D$134,E1530,F1530)","v":38.760384000515174}]
[null,null,null,null,2.4000000001000013,4.9000000000000004,{"$f":"_xll.Interp3D($B$18:$B$134,$C$18:$C$134,$D$18:$D$134,E1531,F1531)","v":38.862208000496423}]
[null,null,null,null,2.4000000001000013,5,{"$f":"_xll.Interp3D($B$18:$B$134,$C$18:$C$134,$D$18:$D$134,E1532,F1532)","v":38.752000000464008}]
[null,null,null,null,2.4000000001000013,5.0999999999999996,{"$f":"_xll.Interp3D($B$18:$B$134,$C$18:$C$134,$D$18:$D$134,E1533,F1533)","v":38.361536000413324}]
[null,null,null,null,2.4000000001000013,5.2,{"$f":"_xll.Interp3D($B$18:$B$134,$C$18:$C$134,$D$18:$D$134,E1534,F1534)","v":37.775168000351456}]
[null,null,null,null,2.4000000001000013,5.3,{"$f":"_xll.Interp3D($B$18:$B$134,$C$18:$C$134,$D$18:$D$134,E1535,F1535)","v":37.095232000285357}]
[null,null,null,null,2.4000000001000013,5.4,{"$f":"_xll.Interp3D($B$18:$B$134,$C$18:$C$134,$D$18:$D$134,E1536,F1536)","v":36.42406400022189}]
[null,null,null,null,2.4000000001000013,5.5,{"$f":"_xll.Interp3D($B$18:$B$134,$C$18:$C$134,$D$18:$D$134,E1537,F1537)","v":35.864000000168005}]
[null,null,null,null,2.4000000001000013,5.6,{"$f":"_xll.Interp3D($B$18:$B$134,$C$18:$C$134,$D$18:$D$134,E1538,F1538)","v":35.415040000123689}]
[null,null,null,null,2.4000000001000013,5.7,{"$f":"_xll.Interp3D($B$18:$B$134,$C$18:$C$134,$D$18:$D$134,E1539,F1539)","v":35.008960000084329}]
[null,null,null,null,2.4000000001000013,5.8,{"$f":"_xll.Interp3D($B$18:$B$134,$C$18:$C$134,$D$18:$D$134,E1540,F1540)","v":34.645760000049918}]
[null,null,null,null,2.4000000001000013,5.9,{"$f":"_xll.Interp3D($B$18:$B$134,$C$18:$C$134,$D$18:$D$134,E1541,F1541)","v":34.325440000020478}]
[null,null,null,null,2.4000000001000013,6,{"$f":"_xll.Interp3D($B$18:$B$134,$C$18:$C$134,$D$18:$D$134,E1542,F1542)","v":34.047999999996001}]
[null,null,null,null,2.5000000001000013,0,{"$f":"_xll.Interp3D($B$18:$B$134,$C$18:$C$134,$D$18:$D$134,E1543,F1543)","v":40.999999999499991}]
[null,null,null,null,2.5000000001000013,0.1,{"$f":"_xll.Interp3D($B$18:$B$134,$C$18:$C$134,$D$18:$D$134,E1544,F1544)","v":40.239999999439988}]
[null,null,null,null,2.5000000001000013,0.2,{"$f":"_xll.Interp3D($B$18:$B$134,$C$18:$C$134,$D$18:$D$134,E1545,F1545)","v":39.559999999399992}]
[null,null,null,null,2.5000000001000013,0.3,{"$f":"_xll.Interp3D($B$18:$B$134,$C$18:$C$134,$D$18:$D$134,E1546,F1546)","v":38.959999999379988}]
[null,null,null,null,2.5000000001000013,0.4,{"$f":"_xll.Interp3D($B$18:$B$134,$C$18:$C$134,$D$18:$D$134,E1547,F1547)","v":38.439999999379992}]
[null,null,null,null,2.5000000001000013,0.5,{"$f":"_xll.Interp3D($B$18:$B$134,$C$18:$C$134,$D$18:$D$134,E1548,F1548)","v":37.999999999399989}]
[null,null,null,null,2.5000000001000013,0.6,{"$f":"_xll.Interp3D($B$18:$B$134,$C$18:$C$134,$D$18:$D$134,E1549,F1549)","v":37.687999999451193}]
[null,null,null,null,2.5000000001000013,0.7,{"$f":"_xll.Interp3D($B$18:$B$134,$C$18:$C$134,$D$18:$D$134,E1550,F1550)","v":37.50399999953359}]
[null,null,null,null,2.5000000001000013,0.8,{"$f":"_xll.Interp3D($B$18:$B$134,$C$18:$C$134,$D$18:$D$134,E1551,F1551)","v":37.375999999630395}]
[null,null,null,null,{"$f":"E1491+0.1","v":2.5000000001000013},{"$f":"F1491","v":0.9},{"$f":"_xll.Interp3D($B$18:$B$134,$C$18:$C$134,$D$18:$D$134,E1552,F1552)","v":37.231999999724792}]
[null,null,null,null,2.5000000001000013,1,{"$f":"_xll.Interp3D($B$18:$B$134,$C$18:$C$134,$D$18:$D$134,E1553,F1553)","v":36.999999999799996}]
[null,null,null,null,2.5000000001000013,1.1000000000000001,{"$f":"_xll.Interp3D($B$18:$B$134,$C$18:$C$134,$D$18:$D$134,E1554,F1554)","v":36.535999999852798}]
[null,null,null,null,2.5000000001000013,1.2,{"$f":"_xll.Interp3D($B$18:$B$134,$C$18:$C$134,$D$18:$D$134,E1555,F1555)","v":35.887999999894404}]
[null,null,null,null,2.5000000001000013,1.3,{"$f":"_xll.Interp3D($B$18:$B$134,$C$18:$C$134,$D$18:$D$134,E1556,F1556)","v":35.271999999929598}]
[null,null,null,null,2.5000000001000013,1.4,{"$f":"_xll.Interp3D($B$18:$B$134,$C$18:$C$134,$D$18:$D$134,E1557,F1557)","v":34.90399999996319}]
[null,null,null,null,2.5000000001000013,1.5,{"$f":"_xll.Interp3D($B$18:$B$134,$C$18:$C$134,$D$18:$D$134,E1558,F1558)","v":35}]
[null,null,null,null,2.5000000001000013,1.6,{"$f":"_xll.Interp3D($B$18:$B$134,$C$18:$C$134,$D$18:$D$134,E1559,F1559)","v":35.720000000040002}]
[null,null,null,null,2.5000000001000013,1.7,{"$f":"_xll.Interp3D($B$18:$B$134,$C$18:$C$134,$D$18:$D$134,E1560,F1560)","v":36.920000000080002}]
[null,null,null,null,2.5000000001000013,1.8,{"$f":"_xll.Interp3D($B$18:$B$134,$C$18:$C$134,$D$18:$D$134,E1561,F1561)","v":38.360000000119996}]
[null,null,null,null,2.5000000001000013,1.9,{"$f":"_xll.Interp3D($B$18:$B$134,$C$18:$C$134,$D$18:$D$134,E1562,F1562)","v":39.800000000159997}]
[null,null,null,null,2.5000000001000013,2,{"$f":"_xll.Interp3D($B$18:$B$134,$C$18:$C$134,$D$18:$D$134,E1563,F1563)","v":41.000000000200004}]
[null,null,null,null,2.5000000001000013,2.1,{"$f":"_xll.Interp3D($B$18:$B$134,$C$18:$C$134,$D$18:$D$134,E1564,F1564)","v":42.008000000240003}]
[null,null,null,null,2.5000000001000013,2.2000000000000002,{"$f":"_xll.Interp3D($B$18:$B$134,$C$18:$C$134,$D$18:$D$134,E1565,F1565)","v":42.984000000280005}]
[null,null,null,null,2.5000000001000013,2.2999999999999998,{"$f":"_xll.Interp3D($B$18:$B$134,$C$18:$C$134,$D$18:$D$134,E1566,F1566)","v":43.856000000320009}]
[null,null,null,null,2.5000000001000013,2.4,{"$f":"_xll.Interp3D($B$18:$B$134,$C$18:$C$134,$D$18:$D$134,E1567,F1567)","v":44.55200000036001}]
[null,null,null,null,2.5000000001000013,2.5,{"$f":"_xll.Interp3D($B$18:$B$134,$C$18:$C$134,$D$18:$D$134,E1568,F1568)","v":45.000000000400007}]
[null,null,null,null,2.5000000001000013,2.6,{"$f":"_xll.Interp3D($B$18:$B$134,$C$18:$C$134,$D$18:$D$134,E1569,F1569)","v":45.152000000443195}]
[null,null,null,null,2.5000000001000013,2.7,{"$f":"_xll.Interp3D($B$18:$B$134,$C$18:$C$134,$D$18:$D$134,E1570,F1570)","v":45.056000000489611}]
[null,null,null,null,2.5000000001000013,2.8,{"$f":"_xll.Interp3D($B$18:$B$134,$C$18:$C$134,$D$18:$D$134,E1571,F1571)","v":44.784000000534405}]
[null,null,null,null,2.5000000001000013,2.9,{"$f":"_xll.Interp3D($B$18:$B$134,$C$18:$C$134,$D$18:$D$134,E1572,F1572)","v":44.408000000572812}]
[null,null,null,null,2.5000000001000013,3,{"$f":"_xll.Interp3D($B$18:$B$134,$C$18:$C$134,$D$18:$D$134,E1573,F1573)","v":44.000000000599996}]
[null,null,null,null,2.5000000001000013,3.1,{"$f":"_xll.Interp3D($B$18:$B$134,$C$18:$C$134,$D$18:$D$134,E1574,F1574)","v":43.48000000061441}]
[null,null,null,null,2.5000000001000013,3.2,{"$f":"_xll.Interp3D($B$18:$B$134,$C$18:$C$134,$D$18:$D$134,E1575,F1575)","v":42.800000000619207}]
[null,null,null,null,2.5000000001000013,3.3,{"$f":"_xll.Interp3D($B$18:$B$134,$C$18:$C$134,$D$18:$D$134,E1576,F1576)","v":42.080000000616813}]
[null,null,null,null,2.5000000001000013,3.4,{"$f":"_xll.Interp3D($B$18:$B$134,$C$18:$C$134,$D$18:$D$134,E1577,F1577)","v":41.440000000609615}]
[null,null,null,null,2.5000000001000013,3.5,{"$f":"_xll.Interp3D($B$18:$B$134,$C$18:$C$134,$D$18:$D$134,E1578,F1578)","v":41.000000000600011}]
[null,null,null,null,2.5000000001000013,3.6,{"$f":"_xll.Interp3D($B$18:$B$134,$C$18:$C$134,$D$18:$D$134,E1579,F1579)","v":40.840000000584809}]
[null,null,null,null,2.5000000001000013,3.7,{"$f":"_xll.Interp3D($B$18:$B$134,$C$18:$C$134,$D$18:$D$134,E1580,F1580)","v":40.880000000562404}]
[null,null,null,null,2.5000000001000013,3.8,{"$f":"_xll.Interp3D($B$18:$B$134,$C$18:$C$134,$D$18:$D$134,E1581,F1581)","v":41.000000000537611}]
[null,null,null,null,2.5000000001000013,3.9,{"$f":"_xll.Interp3D($B$18:$B$134,$C$18:$C$134,$D$18:$D$134,E1582,F1582)","v":41.080000000515206}]
[null,null,null,null,2.5000000001000013,4,{"$f":"_xll.Interp3D($B$18:$B$134,$C$18:$C$134,$D$18:$D$134,E1583,F1583)","v":41.000000000500009}]
[null,null,null,null,2.5000000001000013,4.0999999999999996,{"$f":"_xll.Interp3D($B$18:$B$134,$C$18:$C$134,$D$18:$D$134,E1584,F1584)","v":40.696000000501598}]
[null,null,null,null,2.5000000001000013,4.2,{"$f":"_xll.Interp3D($B$18:$B$134,$C$18:$C$134,$D$18:$D$134,E1585,F1585)","v":40.248000000516804}]
[null,null,null,null,2.5000000001000013,4.3,{"$f":"_xll.Interp3D($B$18:$B$134,$C$18:$C$134,$D$18:$D$134,E1586,F1586)","v":39.752000000531204}]
[null,null,null,null,2.5000000001000013,4.4000000000000004,{"$f":"_xll.Interp3D($B$18:$B$134,$C$18:$C$134,$D$18:$D$134,E1587,F1587)","v":39.304000000530408}]
[null,null,null,null,2.5000000001000013,4.5,{"$f":"_xll.Interp3D($B$18:$B$134,$C$18:$C$134,$D$18:$D$134,E1588,F1588)","v":39.000000000500009}]
[null,null,null,null,2.5000000001000013,4.5999999999999996,{"$f":"_xll.Interp3D($B$18:$B$134,$C$18:$C$134,$D$18:$D$134,E1589,F1589)","v":38.920000000422398}]
[null,null,null,null,2.5000000001000013,4.7,{"$f":"_xll.Interp3D($B$18:$B$134,$C$18:$C$134,$D$18:$D$134,E1590,F1590)","v":39.000000000307203}]
[null,null,null,null,2.5000000001000013,4.8,{"$f":"_xll.Interp3D($B$18:$B$134,$C$18:$C$134,$D$18:$D$134,E1591,F1591)","v":39.120000000180802}]
[null,null,null,null,2.5000000001000013,4.9000000000000004,{"$f":"_xll.Interp3D($B$18:$B$134,$C$18:$C$134,$D$18:$D$134,E1592,F1592)","v":39.160000000069601}]
[null,null,null,null,2.5000000001000013,5,{"$f":"_xll.Interp3D($B$18:$B$134,$C$18:$C$134,$D$18:$D$134,E1593,F1593)","v":39}]
[null,null,null,null,2.5000000001000013,5.0999999999999996,{"$f":"_xll.Interp3D($B$18:$B$134,$C$18:$C$134,$D$18:$D$134,E1594,F1594)","v":38.575999999986401}]
[null,null,null,null,2.5000000001000013,5.2,{"$f":"_xll.Interp3D($B$18:$B$134,$C$18:$C$134,$D$18:$D$134,E1595,F1595)","v":37.968000000011195}]
[null,null,null,null,2.5000000001000013,5.3,{"$f":"_xll.Interp3D($B$18:$B$134,$C$18:$C$134,$D$18:$D$134,E1596,F1596)","v":37.272000000052806}]
[null,null,null,null,2.5000000001000013,5.4,{"$f":"_xll.Interp3D($B$18:$B$134,$C$18:$C$134,$D$18:$D$134,E1597,F1597)","v":36.584000000089596}]
[null,null,null,null,2.5000000001000013,5.5,{"$f":"_xll.Interp3D($B$18:$B$134,$C$18:$C$134,$D$18:$D$134,E1598,F1598)","v":36.000000000100002}]
[null,null,null,null,2.5000000001000013,5.6,{"$f":"_xll.Interp3D($B$18:$B$134,$C$18:$C$134,$D$18:$D$134,E1599,F1599)","v":35.520000000084003}]
[null,null,null,null,2.5000000001000013,5.7,{"$f":"_xll.Interp3D($B$18:$B$134,$C$18:$C$134,$D$18:$D$134,E1600,F1600)","v":35.080000000056003}]
[null,null,null,null,2.5000000001000013,5.8,{"$f":"_xll.Interp3D($B$18:$B$134,$C$18:$C$134,$D$18:$D$134,E1601,F1601)","v":34.680000000015994}]
[null,null,null,null,2.5000000001000013,5.9,{"$f":"_xll.Interp3D($B$18:$B$134,$C$18:$C$134,$D$18:$D$134,E1602,F1602)","v":34.319999999963997}]
[null,null,null,null,2.5000000001000013,6,{"$f":"_xll.Interp3D($B$18:$B$134,$C$18:$C$134,$D$18:$D$134,E1603,F1603)","v":33.999999999899998}]
[null,null,null,null,2.6000000001000014,0,{"$f":"_xll.Interp3D($B$18:$B$134,$C$18:$C$134,$D$18:$D$134,E1604,F1604)","v":40.295999999127993}]
[null,null,null,null,2.6000000001000014,0.1,{"$f":"_xll.Interp3D($B$18:$B$134,$C$18:$C$134,$D$18:$D$134,E1605,F1605)","v":39.524799999158382}]
[null,null,null,null,2.6000000001000014,0.2,{"$f":"_xll.Interp3D($B$18:$B$134,$C$18:$C$134,$D$18:$D$134,E1606,F1606)","v":38.846399999195192}]
[null,null,null,null,2.6000000001000014,0.3,{"$f":"_xll.Interp3D($B$18:$B$134,$C$18:$C$134,$D$18:$D$134,E1607,F1607)","v":38.260799999238387}]
[null,null,null,null,2.6000000001000014,0.4,{"$f":"_xll.Interp3D($B$18:$B$134,$C$18:$C$134,$D$18:$D$134,E1608,F1608)","v":37.767999999287994}]
[null,null,null,null,2.6000000001000014,0.5,{"$f":"_xll.Interp3D($B$18:$B$134,$C$18:$C$134,$D$18:$D$134,E1609,F1609)","v":37.367999999343994}]
[null,null,null,null,2.6000000001000014,0.6,{"$f":"_xll.Interp3D($B$18:$B$134,$C$18:$C$134,$D$18:$D$134,E1610,F1610)","v":37.117503999412669}]
[null,null,null,null,2.6000000001000014,0.7,{"$f":"_xll.Interp3D($B$18:$B$134,$C$18:$C$134,$D$18:$D$134,E1611,F1611)","v":37.016511999494}]
[null,null,null,null,2.6000000001000014,0.8,{"$f":"_xll.Interp3D($B$18:$B$134,$C$18:$C$134,$D$18:$D$134,E1612,F1612)","v":36.979967999578619}]
[null,null,null,null,2.6000000001000014,0.9,{"$f":"_xll.Interp3D($B$18:$B$134,$C$18:$C$134,$D$18:$D$134,E1613,F1613)","v":36.922815999657082}]
[null,null,null,null,2.6000000001000014,1,{"$f":"_xll.Interp3D($B$18:$B$134,$C$18:$C$134,$D$18:$D$134,E1614,F1614)","v":36.759999999719994}]
[null,null,null,null,2.6000000001000014,1.1000000000000001,{"$f":"_xll.Interp3D($B$18:$B$134,$C$18:$C$134,$D$18:$D$134,E1615,F1615)","v":36.341247999758778}]
[null,null,null,null,{"$f":"E1555+0.1","v":2.6000000001000014},{"$f":"F1555","v":1.2},{"$f":"_xll.Interp3D($B$18:$B$134,$C$18:$C$134,$D$18:$D$134,E1616,F1616)","v":35.723263999779711}]
[null,null,null,null,2.6000000001000014,1.3,{"$f":"_xll.Interp3D($B$18:$B$134,$C$18:$C$134,$D$18:$D$134,E1617,F1617)","v":35.131455999795648}]
[null,null,null,null,2.6000000001000014,1.4,{"$f":"_xll.Interp3D($B$18:$B$134,$C$18:$C$134,$D$18:$D$134,E1618,F1618)","v":34.791231999819445}]
[null,null,null,null,2.6000000001000014,1.5,{"$f":"_xll.Interp3D($B$18:$B$134,$C$18:$C$134,$D$18:$D$134,E1619,F1619)","v":34.927999999863999}]
[null,null,null,null,2.6000000001000014,1.6,{"$f":"_xll.Interp3D($B$18:$B$134,$C$18:$C$134,$D$18:$D$134,E1620,F1620)","v":35.715327999954305}]
[null,null,null,null,2.6000000001000014,1.7,{"$f":"_xll.Interp3D($B$18:$B$134,$C$18:$C$134,$D$18:$D$134,E1621,F1621)","v":37.002944000081797}]
[null,null,null,null,2.6000000001000014,1.8,{"$f":"_xll.Interp3D($B$18:$B$134,$C$18:$C$134,$D$18:$D$134,E1622,F1622)","v":38.530496000208935}]
[null,null,null,null,2.6000000001000014,1.9,{"$f":"_xll.Interp3D($B$18:$B$134,$C$18:$C$134,$D$18:$D$134,E1623,F1623)","v":40.037632000298174}]
[null,null,null,null,2.6000000001000014,2,{"$f":"_xll.Interp3D($B$18:$B$134,$C$18:$C$134,$D$18:$D$134,E1624,F1624)","v":41.264000000312009}]
[null,null,null,null,2.6000000001000014,2.1,{"$f":"_xll.Interp3D($B$18:$B$134,$C$18:$C$134,$D$18:$D$134,E1625,F1625)","v":42.234944000208344}]
[null,null,null,null,2.6000000001000014,2.2000000000000002,{"$f":"_xll.Interp3D($B$18:$B$134,$C$18:$C$134,$D$18:$D$134,E1626,F1626)","v":43.124032000012264}]
[null,null,null,null,2.6000000001000014,2.2999999999999998,{"$f":"_xll.Interp3D($B$18:$B$134,$C$18:$C$134,$D$18:$D$134,E1627,F1627)","v":43.89324799978678}]
[null,null,null,null,2.6000000001000014,2.4,{"$f":"_xll.Interp3D($B$18:$B$134,$C$18:$C$134,$D$18:$D$134,E1628,F1628)","v":44.504575999595005}]
[null,null,null,null,2.6000000001000014,2.5,{"$f":"_xll.Interp3D($B$18:$B$134,$C$18:$C$134,$D$18:$D$134,E1629,F1629)","v":44.919999999499993}]
[null,null,null,null,2.6000000001000014,2.6,{"$f":"_xll.Interp3D($B$18:$B$134,$C$18:$C$134,$D$18:$D$134,E1630,F1630)","v":45.107263999528179}]
[null,null,null,null,2.6000000001000014,2.7,{"$f":"_xll.Interp3D($B$18:$B$134,$C$18:$C$134,$D$18:$D$134,E1631,F1631)","v":45.091711999637539}]
[null,null,null,null,2.6000000001000014,2.8,{"$f":"_xll.Interp3D($B$18:$B$134,$C$18:$C$134,$D$18:$D$134,E1632,F1632)","v":44.921727999788374}]
[null,null,null,null,2.6000000001000014,2.9,{"$f":"_xll.Interp3D($B$18:$B$134,$C$18:$C$134,$D$18:$D$134,E1633,F1633)","v":44.64569599994109}]
[null,null,null,null,2.6000000001000014,3,{"$f":"_xll.Interp3D($B$18:$B$134,$C$18:$C$134,$D$18:$D$134,E1634,F1634)","v":44.312000000056003}]
[null,null,null,null,2.6000000001000014,3.1,{"$f":"_xll.Interp3D($B$18:$B$134,$C$18:$C$134,$D$18:$D$134,E1635,F1635)","v":43.841152000135622}]
[null,null,null,null,2.6000000001000014,3.2,{"$f":"_xll.Interp3D($B$18:$B$134,$C$18:$C$134,$D$18:$D$134,E1636,F1636)","v":43.20089600020637}]
[null,null,null,null,2.6000000001000014,3.3,{"$f":"_xll.Interp3D($B$18:$B$134,$C$18:$C$134,$D$18:$D$134,E1637,F1637)","v":42.51046400026452}]
[null,null,null,null,2.6000000001000014,3.4,{"$f":"_xll.Interp3D($B$18:$B$134,$C$18:$C$134,$D$18:$D$134,E1638,F1638)","v":41.889088000306316}]
[null,null,null,null,2.6000000001000014,3.5,{"$f":"_xll.Interp3D($B$18:$B$134,$C$18:$C$134,$D$18:$D$134,E1639,F1639)","v":41.456000000328004}]
[null,null,null,null,2.6000000001000014,3.6,{"$f":"_xll.Interp3D($B$18:$B$134,$C$18:$C$134,$D$18:$D$134,E1640,F1640)","v":41.281216000313734}]
[null,null,null,null,2.6000000001000014,3.7,{"$f":"_xll.Interp3D($B$18:$B$134,$C$18:$C$134,$D$18:$D$134,E1641,F1641)","v":41.285248000265987}]
[null,null,null,null,2.6000000001000014,3.8,{"$f":"_xll.Interp3D($B$18:$B$134,$C$18:$C$134,$D$18:$D$134,E1642,F1642)","v":41.363072000208575}]
[null,null,null,null,2.6000000001000014,3.9,{"$f":"_xll.Interp3D($B$18:$B$134,$C$18:$C$134,$D$18:$D$134,E1643,F1643)","v":41.409664000165314}]
[null,null,null,null,2.6000000001000014,4,{"$f":"_xll.Interp3D($B$18:$B$134,$C$18:$C$134,$D$18:$D$134,E1644,F1644)","v":41.320000000160007}]
[null,null,null,null,2.6000000001000014,4.0999999999999996,{"$f":"_xll.Interp3D($B$18:$B$134,$C$18:$C$134,$D$18:$D$134,E1645,F1645)","v":41.051584000224196}]
[null,null,null,null,2.6000000001000014,4.2,{"$f":"_xll.Interp3D($B$18:$B$134,$C$18:$C$134,$D$18:$D$134,E1646,F1646)","v":40.674432000342016}]
[null,null,null,null,2.6000000001000014,4.3,{"$f":"_xll.Interp3D($B$18:$B$134,$C$18:$C$134,$D$18:$D$134,E1647,F1647)","v":40.252288000466152}]
[null,null,null,null,2.6000000001000014,4.4000000000000004,{"$f":"_xll.Interp3D($B$18:$B$134,$C$18:$C$134,$D$18:$D$134,E1648,F1648)","v":39.84889600054926}]
[null,null,null,null,2.6000000001000014,4.5,{"$f":"_xll.Interp3D($B$18:$B$134,$C$18:$C$134,$D$18:$D$134,E1649,F1649)","v":39.528000000544012}]
[null,null,null,null,2.6000000001000014,4.5999999999999996,{"$f":"_xll.Interp3D($B$18:$B$134,$C$18:$C$134,$D$18:$D$134,E1650,F1650)","v":39.335168000401829}]
[null,null,null,null,2.6000000001000014,4.7,{"$f":"_xll.Interp3D($B$18:$B$134,$C$18:$C$134,$D$18:$D$134,E1651,F1651)","v":39.227904000154268}]
[null,null,null,null,2.6000000001000014,4.8,{"$f":"_xll.Interp3D($B$18:$B$134,$C$18:$C$134,$D$18:$D$134,E1652,F1652)","v":39.137855999874205}]
[null,null,null,null,2.6000000001000014,4.9000000000000004,{"$f":"_xll.Interp3D($B$18:$B$134,$C$18:$C$134,$D$18:$D$134,E1653,F1653)","v":38.996671999634486}]
[null,null,null,null,2.6000000001000014,5,{"$f":"_xll.Interp3D($B$18:$B$134,$C$18:$C$134,$D$18:$D$134,E1654,F1654)","v":38.735999999507996}]
[null,null,null,null,2.6000000001000014,5.0999999999999996,{"$f":"_xll.Interp3D($B$18:$B$134,$C$18:$C$134,$D$18:$D$134,E1655,F1655)","v":38.319743999533948}]
[null,null,null,null,2.6000000001000014,5.2,{"$f":"_xll.Interp3D($B$18:$B$134,$C$18:$C$134,$D$18:$D$134,E1656,F1656)","v":37.793471999663765}]
[null,null,null,null,2.6000000001000014,5.3,{"$f":"_xll.Interp3D($B$18:$B$134,$C$18:$C$134,$D$18:$D$134,E1657,F1657)","v":37.21132799983863}]
[null,null,null,null,2.6000000001000014,5.4,{"$f":"_xll.Interp3D($B$18:$B$134,$C$18:$C$134,$D$18:$D$134,E1658,F1658)","v":36.62745599999964}]
[null,null,null,null,2.6000000001000014,5.5,{"$f":"_xll.Interp3D($B$18:$B$134,$C$18:$C$134,$D$18:$D$134,E1659,F1659)","v":36.096000000088004}]
[null,null,null,null,2.6000000001000014,5.6,{"$f":"_xll.Interp3D($B$18:$B$134,$C$18:$C$134,$D$18:$D$134,E1660,F1660)","v":35.616960000103688}]
[null,null,null,null,2.6000000001000014,5.7,{"$f":"_xll.Interp3D($B$18:$B$134,$C$18:$C$134,$D$18:$D$134,E1661,F1661)","v":35.15424000008592}]
[null,null,null,null,2.6000000001000014,5.8,{"$f":"_xll.Interp3D($B$18:$B$134,$C$18:$C$134,$D$18:$D$134,E1662,F1662)","v":34.707840000034714}]
[null,null,null,null,2.6000000001000014,5.9,{"$f":"_xll.Interp3D($B$18:$B$134,$C$18:$C$134,$D$18:$D$134,E1663,F1663)","v":34.277759999950078}]
[null,null,null,null,2.6000000001000014,6,{"$f":"_xll.Interp3D($B$18:$B$134,$C$18:$C$134,$D$18:$D$134,E1664,F1664)","v":33.863999999831996}]
[null,null,null,null,2.7000000001000015,0,{"$f":"_xll.Interp3D($B$18:$B$134,$C$18:$C$134,$D$18:$D$134,E1665,F1665)","v":39.32799999897199}]
[null,null,null,null,2.7000000001000015,0.1,{"$f":"_xll.Interp3D($B$18:$B$134,$C$18:$C$134,$D$18:$D$134,E1666,F1666)","v":38.614399999049589}]
[null,null,null,null,2.7000000001000015,0.2,{"$f":"_xll.Interp3D($B$18:$B$134,$C$18:$C$134,$D$18:$D$134,E1667,F1667)","v":37.995199999124793}]
[null,null,null,null,2.7000000001000015,0.3,{"$f":"_xll.Interp3D($B$18:$B$134,$C$18:$C$134,$D$18:$D$134,E1668,F1668)","v":37.470399999197589}]
[null,null,null,null,2.7000000001000015,0.4,{"$f":"_xll.Interp3D($B$18:$B$134,$C$18:$C$134,$D$18:$D$134,E1669,F1669)","v":37.039999999267991}]
[null,null,null,null,2.7000000001000015,0.5,{"$f":"_xll.Interp3D($B$18:$B$134,$C$18:$C$134,$D$18:$D$134,E1670,F1670)","v":36.703999999335991}]
[null,null,null,null,2.7000000001000015,0.6,{"$f":"_xll.Interp3D($B$18:$B$134,$C$18:$C$134,$D$18:$D$134,E1671,F1671)","v":36.523071999403328}]
[null,null,null,null,2.7000000001000015,0.7,{"$f":"_xll.Interp3D($B$18:$B$134,$C$18:$C$134,$D$18:$D$134,E1672,F1672)","v":36.497215999469979}]
[null,null,null,null,2.7000000001000015,0.8,{"$f":"_xll.Interp3D($B$18:$B$134,$C$18:$C$134,$D$18:$D$134,E1673,F1673)","v":36.535423999533364}]
[null,null,null,null,2.7000000001000015,0.9,{"$f":"_xll.Interp3D($B$18:$B$134,$C$18:$C$134,$D$18:$D$134,E1674,F1674)","v":36.546687999590908}]
[null,null,null,null,2.7000000001000015,1,{"$f":"_xll.Interp3D($B$18:$B$134,$C$18:$C$134,$D$18:$D$134,E1675,F1675)","v":36.439999999639994}]
[null,null,null,null,2.7000000001000015,1.1000000000000001,{"$f":"_xll.Interp3D($B$18:$B$134,$C$18:$C$134,$D$18:$D$134,E1676,F1676)","v":36.055743999671293}]
[null,null,null,null,2.7000000001000015,1.2,{"$f":"_xll.Interp3D($B$18:$B$134,$C$18:$C$134,$D$18:$D$134,E1677,F1677)","v":35.454591999686521}]
[null,null,null,null,2.7000000001000015,1.3,{"$f":"_xll.Interp3D($B$18:$B$134,$C$18:$C$134,$D$18:$D$134,E1678,F1678)","v":34.875967999699704}]
[null,null,null,null,2.7000000001000015,1.4,{"$f":"_xll.Interp3D($B$18:$B$134,$C$18:$C$134,$D$18:$D$134,E1679,F1679)","v":34.55929599972486}]
[null,null,null,null,{"$f":"E1619+0.1","v":2.7000000001000015},{"$f":"F1619","v":1.5},{"$f":"_xll.Interp3D($B$18:$B$134,$C$18:$C$134,$D$18:$D$134,E1680,F1680)","v":34.743999999776001}]
[null,null,null,null,2.7000000001000015,1.6,{"$f":"_xll.Interp3D($B$18:$B$134,$C$18:$C$134,$D$18:$D$134,E1681,F1681)","v":35.635903999890495}]
[null,null,null,null,2.7000000001000015,1.7,{"$f":"_xll.Interp3D($B$18:$B$134,$C$18:$C$134,$D$18:$D$134,E1682,F1682)","v":37.075392000059011}]
[null,null,null,null,2.7000000001000015,1.8,{"$f":"_xll.Interp3D($B$18:$B$134,$C$18:$C$134,$D$18:$D$134,E1683,F1683)","v":38.753728000225479}]
[null,null,null,null,2.7000000001000015,1.9,{"$f":"_xll.Interp3D($B$18:$B$134,$C$18:$C$134,$D$18:$D$134,E1684,F1684)","v":40.362176000333825}]
[null,null,null,null,2.7000000001000015,2,{"$f":"_xll.Interp3D($B$18:$B$134,$C$18:$C$134,$D$18:$D$134,E1685,F1685)","v":41.592000000327999}]
[null,null,null,null,2.7000000001000015,2.1,{"$f":"_xll.Interp3D($B$18:$B$134,$C$18:$C$134,$D$18:$D$134,E1686,F1686)","v":42.41363200014348}]
[null,null,null,null,2.7000000001000015,2.2000000000000002,{"$f":"_xll.Interp3D($B$18:$B$134,$C$18:$C$134,$D$18:$D$134,E1687,F1687)","v":43.032895999817661}]
[null,null,null,null,2.7000000001000015,2.2999999999999998,{"$f":"_xll.Interp3D($B$18:$B$134,$C$18:$C$134,$D$18:$D$134,E1688,F1688)","v":43.494143999447289}]
[null,null,null,null,2.7000000001000015,2.4,{"$f":"_xll.Interp3D($B$18:$B$134,$C$18:$C$134,$D$18:$D$134,E1689,F1689)","v":43.841727999129148}]
[null,null,null,null,2.7000000001000015,2.5,{"$f":"_xll.Interp3D($B$18:$B$134,$C$18:$C$134,$D$18:$D$134,E1690,F1690)","v":44.119999998959983}]
[null,null,null,null,2.7000000001000015,2.6,{"$f":"_xll.Interp3D($B$18:$B$134,$C$18:$C$134,$D$18:$D$134,E1691,F1691)","v":44.330111998978353}]
[null,null,null,null,2.7000000001000015,2.7,{"$f":"_xll.Interp3D($B$18:$B$134,$C$18:$C$134,$D$18:$D$134,E1692,F1692)","v":44.442495999119735}]
[null,null,null,null,2.7000000001000015,2.8,{"$f":"_xll.Interp3D($B$18:$B$134,$C$18:$C$134,$D$18:$D$134,E1693,F1693)","v":44.455423999326328}]
[null,null,null,null,2.7000000001000015,2.9,{"$f":"_xll.Interp3D($B$18:$B$134,$C$18:$C$134,$D$18:$D$134,E1694,F1694)","v":44.367167999540357}]
[null,null,null,null,2.7000000001000015,3,{"$f":"_xll.Interp3D($B$18:$B$134,$C$18:$C$134,$D$18:$D$134,E1695,F1695)","v":44.17599999970399}]
[null,null,null,null,2.7000000001000015,3.1,{"$f":"_xll.Interp3D($B$18:$B$134,$C$18:$C$134,$D$18:$D$134,E1696,F1696)","v":43.806655999823093}]
[null,null,null,null,2.7000000001000015,3.2,{"$f":"_xll.Interp3D($B$18:$B$134,$C$18:$C$134,$D$18:$D$134,E1697,F1697)","v":43.260287999936196}]
[null,null,null,null,2.7000000001000015,3.3,{"$f":"_xll.Interp3D($B$18:$B$134,$C$18:$C$134,$D$18:$D$134,E1698,F1698)","v":42.64979200003453}]
[null,null,null,null,2.7000000001000015,3.4,{"$f":"_xll.Interp3D($B$18:$B$134,$C$18:$C$134,$D$18:$D$134,E1699,F1699)","v":42.088064000109384}]
[null,null,null,null,2.7000000001000015,3.5,{"$f":"_xll.Interp3D($B$18:$B$134,$C$18:$C$134,$D$18:$D$134,E1700,F1700)","v":41.688000000152009}]
[null,null,null,null,2.7000000001000015,3.6,{"$f":"_xll.Interp3D($B$18:$B$134,$C$18:$C$134,$D$18:$D$134,E1701,F1701)","v":41.499648000139231}]
[null,null,null,null,2.7000000001000015,3.7,{"$f":"_xll.Interp3D($B$18:$B$134,$C$18:$C$134,$D$18:$D$134,E1702,F1702)","v":41.447744000076895}]
[null,null,null,null,2.7000000001000015,3.8,{"$f":"_xll.Interp3D($B$18:$B$134,$C$18:$C$134,$D$18:$D$134,E1703,F1703)","v":41.457215999999747}]
[null,null,null,null,2.7000000001000015,3.9,{"$f":"_xll.Interp3D($B$18:$B$134,$C$18:$C$134,$D$18:$D$134,E1704,F1704)","v":41.452991999942526}]
[null,null,null,null,2.7000000001000015,4,{"$f":"_xll.Interp3D($B$18:$B$134,$C$18:$C$134,$D$18:$D$134,E1705,F1705)","v":41.359999999940001}]
[null,null,null,null,2.7000000001000015,4.0999999999999996,{"$f":"_xll.Interp3D($B$18:$B$134,$C$18:$C$134,$D$18:$D$134,E1706,F1706)","v":41.17363200003453}]
[null,null,null,null,2.7000000001000015,4.2,{"$f":"_xll.Interp3D($B$18:$B$134,$C$18:$C$134,$D$18:$D$134,E1707,F1707)","v":40.943936000202939}]
[null,null,null,null,2.7000000001000015,4.3,{"$f":"_xll.Interp3D($B$18:$B$134,$C$18:$C$134,$D$18:$D$134,E1708,F1708)","v":40.677824000381698}]
[null,null,null,null,2.7000000001000015,4.4000000000000004,{"$f":"_xll.Interp3D($B$18:$B$134,$C$18:$C$134,$D$18:$D$134,E1709,F1709)","v":40.382208000507234}]
[null,null,null,null,2.7000000001000015,4.5,{"$f":"_xll.Interp3D($B$18:$B$134,$C$18:$C$134,$D$18:$D$134,E1710,F1710)","v":40.064000000516003}]
[null,null,null,null,2.7000000001000015,4.5999999999999996,{"$f":"_xll.Interp3D($B$18:$B$134,$C$18:$C$134,$D$18:$D$134,E1711,F1711)","v":39.711424000344579}]
[null,null,null,null,2.7000000001000015,4.7,{"$f":"_xll.Interp3D($B$18:$B$134,$C$18:$C$134,$D$18:$D$134,E1712,F1712)","v":39.319872000035332}]
[null,null,null,null,2.7000000001000015,4.8,{"$f":"_xll.Interp3D($B$18:$B$134,$C$18:$C$134,$D$18:$D$134,E1713,F1713)","v":38.907007999683387}]
[null,null,null,null,2.7000000001000015,4.9000000000000004,{"$f":"_xll.Interp3D($B$18:$B$134,$C$18:$C$134,$D$18:$D$134,E1714,F1714)","v":38.490495999383889}]
[null,null,null,null,2.7000000001000015,5,{"$f":"_xll.Interp3D($B$18:$B$134,$C$18:$C$134,$D$18:$D$134,E1715,F1715)","v":38.08799999923199}]
[null,null,null,null,2.7000000001000015,5.0999999999999996,{"$f":"_xll.Interp3D($B$18:$B$134,$C$18:$C$134,$D$18:$D$134,E1716,F1716)","v":37.709631999278677}]
[null,null,null,null,2.7000000001000015,5.2,{"$f":"_xll.Interp3D($B$18:$B$134,$C$18:$C$134,$D$18:$D$134,E1717,F1717)","v":37.343615999460532}]
[null,null,null,null,2.7000000001000015,5.3,{"$f":"_xll.Interp3D($B$18:$B$134,$C$18:$C$134,$D$18:$D$134,E1718,F1718)","v":36.974783999701053}]
[null,null,null,null,2.7000000001000015,5.4,{"$f":"_xll.Interp3D($B$18:$B$134,$C$18:$C$134,$D$18:$D$134,E1719,F1719)","v":36.587967999923706}]
[null,null,null,null,2.7000000001000015,5.5,{"$f":"_xll.Interp3D($B$18:$B$134,$C$18:$C$134,$D$18:$D$134,E1720,F1720)","v":36.168000000052004}]
[null,null,null,null,2.7000000001000015,5.6,{"$f":"_xll.Interp3D($B$18:$B$134,$C$18:$C$134,$D$18:$D$134,E1721,F1721)","v":35.71488000008592}]
[null,null,null,null,2.7000000001000015,5.7,{"$f":"_xll.Interp3D($B$18:$B$134,$C$18:$C$134,$D$18:$D$134,E1722,F1722)","v":35.238720000076476}]
[null,null,null,null,2.7000000001000015,5.8,{"$f":"_xll.Interp3D($B$18:$B$134,$C$18:$C$134,$D$18:$D$134,E1723,F1723)","v":34.739520000023688}]
[null,null,null,null,2.7000000001000015,5.9,{"$f":"_xll.Interp3D($B$18:$B$134,$C$18:$C$134,$D$18:$D$134,E1724,F1724)","v":34.217279999927513}]
[null,null,null,null,2.7000000001000015,6,{"$f":"_xll.Interp3D($B$18:$B$134,$C$18:$C$134,$D$18:$D$134,E1725,F1725)","v":33.671999999788}]
[null,null,null,null,2.8000000001000016,0,{"$f":"_xll.Interp3D($B$18:$B$134,$C$18:$C$134,$D$18:$D$134,E1726,F1726)","v":38.311999999031983}]
[null,null,null,null,2.8000000001000016,0.1,{"$f":"_xll.Interp3D($B$18:$B$134,$C$18:$C$134,$D$18:$D$134,E1727,F1727)","v":37.681599999113587}]
[null,null,null,null,2.8000000001000016,0.2,{"$f":"_xll.Interp3D($B$18:$B$134,$C$18:$C$134,$D$18:$D$134,E1728,F1728)","v":37.140799999188786}]
[null,null,null,null,2.8000000001000016,0.3,{"$f":"_xll.Interp3D($B$18:$B$134,$C$18:$C$134,$D$18:$D$134,E1729,F1729)","v":36.689599999257581}]
[null,null,null,null,2.8000000001000016,0.4,{"$f":"_xll.Interp3D($B$18:$B$134,$C$18:$C$134,$D$18:$D$134,E1730,F1730)","v":36.327999999319985}]
[null,null,null,null,2.8000000001000016,0.5,{"$f":"_xll.Interp3D($B$18:$B$134,$C$18:$C$134,$D$18:$D$134,E1731,F1731)","v":36.055999999375992}]
[null,null,null,null,2.8000000001000016,0.6,{"$f":"_xll.Interp3D($B$18:$B$134,$C$18:$C$134,$D$18:$D$134,E1732,F1732)","v":35.933887999423163}]
[null,null,null,null,2.8000000001000016,0.7,{"$f":"_xll.Interp3D($B$18:$B$134,$C$18:$C$134,$D$18:$D$134,E1733,F1733)","v":35.961663999461493}]
[null,null,null,null,2.8000000001000016,0.8,{"$f":"_xll.Interp3D($B$18:$B$134,$C$18:$C$134,$D$18:$D$134,E1734,F1734)","v":36.048895999494647}]
[null,null,null,null,2.8000000001000016,0.9,{"$f":"_xll.Interp3D($B$18:$B$134,$C$18:$C$134,$D$18:$D$134,E1735,F1735)","v":36.105151999526257}]
[null,null,null,null,2.8000000001000016,1,{"$f":"_xll.Interp3D($B$18:$B$134,$C$18:$C$134,$D$18:$D$134,E1736,F1736)","v":36.039999999559996}]
[null,null,null,null,2.8000000001000016,1.1000000000000001,{"$f":"_xll.Interp3D($B$18:$B$134,$C$18:$C$134,$D$18:$D$134,E1737,F1737)","v":35.686015999590325}]
[null,null,null,null,2.8000000001000016,1.2,{"$f":"_xll.Interp3D($B$18:$B$134,$C$18:$C$134,$D$18:$D$134,E1738,F1738)","v":35.103487999614842}]
[null,null,null,null,2.8000000001000016,1.3,{"$f":"_xll.Interp3D($B$18:$B$134,$C$18:$C$134,$D$18:$D$134,E1739,F1739)","v":34.543551999641778}]
[null,null,null,null,2.8000000001000016,1.4,{"$f":"_xll.Interp3D($B$18:$B$134,$C$18:$C$134,$D$18:$D$134,E1740,F1740)","v":34.257343999679421}]
[null,null,null,null,2.8000000001000016,1.5,{"$f":"_xll.Interp3D($B$18:$B$134,$C$18:$C$134,$D$18:$D$134,E1741,F1741)","v":34.495999999735993}]
[null,null,null,null,2.8000000001000016,1.6,{"$f":"_xll.Interp3D($B$18:$B$134,$C$18:$C$134,$D$18:$D$134,E1742,F1742)","v":35.50361599984857}]
[null,null,null,null,2.8000000001000016,1.7,{"$f":"_xll.Interp3D($B$18:$B$134,$C$18:$C$134,$D$18:$D$134,E1743,F1743)","v":37.112768000011656}]
[null,null,null,null,{"$f":"E1683+0.1","v":2.8000000001000016},{"$f":"F1683","v":1.8},{"$f":"_xll.Interp3D($B$18:$B$134,$C$18:$C$134,$D$18:$D$134,E1744,F1744)","v":38.957312000169637}]
[null,null,null,null,2.8000000001000016,1.9,{"$f":"_xll.Interp3D($B$18:$B$134,$C$18:$C$134,$D$18:$D$134,E1745,F1745)","v":40.671104000266951}]
[null,null,null,null,2.8000000001000016,2,{"$f":"_xll.Interp3D($B$18:$B$134,$C$18:$C$134,$D$18:$D$134,E1746,F1746)","v":41.888000000248006}]
[null,null,null,null,2.8000000001000016,2.1,{"$f":"_xll.Interp3D($B$18:$B$134,$C$18:$C$134,$D$18:$D$134,E1747,F1747)","v":42.510848000045399}]
[null,null,null,null,2.8000000001000016,2.2000000000000002,{"$f":"_xll.Interp3D($B$18:$B$134,$C$18:$C$134,$D$18:$D$134,E1748,F1748)","v":42.78374399969622}]
[null,null,null,null,2.8000000001000016,2.2999999999999998,{"$f":"_xll.Interp3D($B$18:$B$134,$C$18:$C$134,$D$18:$D$134,E1749,F1749)","v":42.852415999301527}]
[null,null,null,null,2.8000000001000016,2.4,{"$f":"_xll.Interp3D($B$18:$B$134,$C$18:$C$134,$D$18:$D$134,E1750,F1750)","v":42.862591998962422}]
[null,null,null,null,2.8000000001000016,2.5,{"$f":"_xll.Interp3D($B$18:$B$134,$C$18:$C$134,$D$18:$D$134,E1751,F1751)","v":42.959999998779978}]
[null,null,null,null,2.8000000001000016,2.6,{"$f":"_xll.Interp3D($B$18:$B$134,$C$18:$C$134,$D$18:$D$134,E1752,F1752)","v":43.185727998793709}]
[null,null,null,null,2.8000000001000016,2.7,{"$f":"_xll.Interp3D($B$18:$B$134,$C$18:$C$134,$D$18:$D$134,E1753,F1753)","v":43.442623998936213}]
[null,null,null,null,2.8000000001000016,2.8,{"$f":"_xll.Interp3D($B$18:$B$134,$C$18:$C$134,$D$18:$D$134,E1754,F1754)","v":43.669055999148249}]
[null,null,null,null,2.8000000001000016,2.9,{"$f":"_xll.Interp3D($B$18:$B$134,$C$18:$C$134,$D$18:$D$134,E1755,F1755)","v":43.803391999370589}]
[null,null,null,null,2.8000000001000016,3,{"$f":"_xll.Interp3D($B$18:$B$134,$C$18:$C$134,$D$18:$D$134,E1756,F1756)","v":43.783999999543994}]
[null,null,null,null,2.8000000001000016,3.1,{"$f":"_xll.Interp3D($B$18:$B$134,$C$18:$C$134,$D$18:$D$134,E1757,F1757)","v":43.542783999676857}]
[null,null,null,null,2.8000000001000016,3.2,{"$f":"_xll.Interp3D($B$18:$B$134,$C$18:$C$134,$D$18:$D$134,E1758,F1758)","v":43.120831999808672}]
[null,null,null,null,2.8000000001000016,3.3,{"$f":"_xll.Interp3D($B$18:$B$134,$C$18:$C$134,$D$18:$D$134,E1759,F1759)","v":42.620287999926845}]
[null,null,null,null,2.8000000001000016,3.4,{"$f":"_xll.Interp3D($B$18:$B$134,$C$18:$C$134,$D$18:$D$134,E1760,F1760)","v":42.143296000018822}]
[null,null,null,null,2.8000000001000016,3.5,{"$f":"_xll.Interp3D($B$18:$B$134,$C$18:$C$134,$D$18:$D$134,E1761,F1761)","v":41.792000000072008}]
[null,null,null,null,2.8000000001000016,3.6,{"$f":"_xll.Interp3D($B$18:$B$134,$C$18:$C$134,$D$18:$D$134,E1762,F1762)","v":41.591872000061315}]
[null,null,null,null,2.8000000001000016,3.7,{"$f":"_xll.Interp3D($B$18:$B$134,$C$18:$C$134,$D$18:$D$134,E1763,F1763)","v":41.474815999995144}]
[null,null,null,null,2.8000000001000016,3.8,{"$f":"_xll.Interp3D($B$18:$B$134,$C$18:$C$134,$D$18:$D$134,E1764,F1764)","v":41.4026239999111}]
[null,null,null,null,2.8000000001000016,3.9,{"$f":"_xll.Interp3D($B$18:$B$134,$C$18:$C$134,$D$18:$D$134,E1765,F1765)","v":41.337087999846844}]
[null,null,null,null,2.8000000001000016,4,{"$f":"_xll.Interp3D($B$18:$B$134,$C$18:$C$134,$D$18:$D$134,E1766,F1766)","v":41.239999999839995}]
[null,null,null,null,2.8000000001000016,4.0999999999999996,{"$f":"_xll.Interp3D($B$18:$B$134,$C$18:$C$134,$D$18:$D$134,E1767,F1767)","v":41.149887999932609}]
[null,null,null,null,2.8000000001000016,4.2,{"$f":"_xll.Interp3D($B$18:$B$134,$C$18:$C$134,$D$18:$D$134,E1768,F1768)","v":41.092224000099577}]
[null,null,null,null,2.8000000001000016,4.3,{"$f":"_xll.Interp3D($B$18:$B$134,$C$18:$C$134,$D$18:$D$134,E1769,F1769)","v":41.00921600027786}]
[null,null,null,null,2.8000000001000016,4.4000000000000004,{"$f":"_xll.Interp3D($B$18:$B$134,$C$18:$C$134,$D$18:$D$134,E1770,F1770)","v":40.843072000404362}]
[null,null,null,null,2.8000000001000016,4.5,{"$f":"_xll.Interp3D($B$18:$B$134,$C$18:$C$134,$D$18:$D$134,E1771,F1771)","v":40.53600000041601}]
[null,null,null,null,2.8000000001000016,4.5999999999999996,{"$f":"_xll.Interp3D($B$18:$B$134,$C$18:$C$134,$D$18:$D$134,E1772,F1772)","v":40.012096000250665}]
[null,null,null,null,2.8000000001000016,4.7,{"$f":"_xll.Interp3D($B$18:$B$134,$C$18:$C$134,$D$18:$D$134,E1773,F1773)","v":39.309887999950369}]
[null,null,null,null,2.8000000001000016,4.8,{"$f":"_xll.Interp3D($B$18:$B$134,$C$18:$C$134,$D$18:$D$134,E1774,F1774)","v":38.543231999608345}]
[null,null,null,null,2.8000000001000016,4.9000000000000004,{"$f":"_xll.Interp3D($B$18:$B$134,$C$18:$C$134,$D$18:$D$134,E1775,F1775)","v":37.825983999317813}]
[null,null,null,null,2.8000000001000016,5,{"$f":"_xll.Interp3D($B$18:$B$134,$C$18:$C$134,$D$18:$D$134,E1776,F1776)","v":37.271999999171989}]
[null,null,null,null,2.8000000001000016,5.0999999999999996,{"$f":"_xll.Interp3D($B$18:$B$134,$C$18:$C$134,$D$18:$D$134,E1777,F1777)","v":36.942847999220596}]
[null,null,null,null,2.8000000001000016,5.2,{"$f":"_xll.Interp3D($B$18:$B$134,$C$18:$C$134,$D$18:$D$134,E1778,F1778)","v":36.762623999401491}]
[null,null,null,null,2.8000000001000016,5.3,{"$f":"_xll.Interp3D($B$18:$B$134,$C$18:$C$134,$D$18:$D$134,E1779,F1779)","v":36.638975999640095}]
[null,null,null,null,2.8000000001000016,5.4,{"$f":"_xll.Interp3D($B$18:$B$134,$C$18:$C$134,$D$18:$D$134,E1780,F1780)","v":36.479551999861783}]
[null,null,null,null,2.8000000001000016,5.5,{"$f":"_xll.Interp3D($B$18:$B$134,$C$18:$C$134,$D$18:$D$134,E1781,F1781)","v":36.191999999991999}]
[null,null,null,null,2.8000000001000016,5.6,{"$f":"_xll.Interp3D($B$18:$B$134,$C$18:$C$134,$D$18:$D$134,E1782,F1782)","v":35.776320000030722}]
[null,null,null,null,2.8000000001000016,5.7,{"$f":"_xll.Interp3D($B$18:$B$134,$C$18:$C$134,$D$18:$D$134,E1783,F1783)","v":35.294080000027677}]
[null,null,null,null,2.8000000001000016,5.8,{"$f":"_xll.Interp3D($B$18:$B$134,$C$18:$C$134,$D$18:$D$134,E1784,F1784)","v":34.745279999982884}]
[null,null,null,null,2.8000000001000016,5.9,{"$f":"_xll.Interp3D($B$18:$B$134,$C$18:$C$134,$D$18:$D$134,E1785,F1785)","v":34.129919999896316}]
[null,null,null,null,2.8000000001000016,6,{"$f":"_xll.Interp3D($B$18:$B$134,$C$18:$C$134,$D$18:$D$134,E1786,F1786)","v":33.447999999767994}]
[null,null,null,null,2.9000000001000017,0,{"$f":"_xll.Interp3D($B$18:$B$134,$C$18:$C$134,$D$18:$D$134,E1787,F1787)","v":37.463999999307987}]
[null,null,null,null,2.9000000001000017,0.1,{"$f":"_xll.Interp3D($B$18:$B$134,$C$18:$C$134,$D$18:$D$134,E1788,F1788)","v":36.899199999350394}]
[null,null,null,null,2.9000000001000017,0.2,{"$f":"_xll.Interp3D($B$18:$B$134,$C$18:$C$134,$D$18:$D$134,E1789,F1789)","v":36.417599999387186}]
[null,null,null,null,2.9000000001000017,0.3,{"$f":"_xll.Interp3D($B$18:$B$134,$C$18:$C$134,$D$18:$D$134,E1790,F1790)","v":36.019199999418383}]
[null,null,null,null,2.9000000001000017,0.4,{"$f":"_xll.Interp3D($B$18:$B$134,$C$18:$C$134,$D$18:$D$134,E1791,F1791)","v":35.70399999944398}]
[null,null,null,null,2.9000000001000017,0.5,{"$f":"_xll.Interp3D($B$18:$B$134,$C$18:$C$134,$D$18:$D$134,E1792,F1792)","v":35.471999999463996}]
[null,null,null,null,2.9000000001000017,0.6,{"$f":"_xll.Interp3D($B$18:$B$134,$C$18:$C$134,$D$18:$D$134,E1793,F1793)","v":35.37913599947219}]
[null,null,null,null,2.9000000001000017,0.7,{"$f":"_xll.Interp3D($B$18:$B$134,$C$18:$C$134,$D$18:$D$134,E1794,F1794)","v":35.425407999468575}]
[null,null,null,null,2.9000000001000017,0.8,{"$f":"_xll.Interp3D($B$18:$B$134,$C$18:$C$134,$D$18:$D$134,E1795,F1795)","v":35.526911999462456}]
[null,null,null,null,2.9000000001000017,0.9,{"$f":"_xll.Interp3D($B$18:$B$134,$C$18:$C$134,$D$18:$D$134,E1796,F1796)","v":35.599743999463158}]
[null,null,null,null,2.9000000001000017,1,{"$f":"_xll.Interp3D($B$18:$B$134,$C$18:$C$134,$D$18:$D$134,E1797,F1797)","v":35.559999999479992}]
[null,null,null,null,2.9000000001000017,1.1000000000000001,{"$f":"_xll.Interp3D($B$18:$B$134,$C$18:$C$134,$D$18:$D$134,E1798,F1798)","v":35.23859199951589}]
[null,null,null,null,2.9000000001000017,1.2,{"$f":"_xll.Interp3D($B$18:$B$134,$C$18:$C$134,$D$18:$D$134,E1799,F1799)","v":34.69145599956466}]
[null,null,null,null,2.9000000001000017,1.3,{"$f":"_xll.Interp3D($B$18:$B$134,$C$18:$C$134,$D$18:$D$134,E1800,F1800)","v":34.172223999621878}]
[null,null,null,null,2.9000000001000017,1.4,{"$f":"_xll.Interp3D($B$18:$B$134,$C$18:$C$134,$D$18:$D$134,E1801,F1801)","v":33.934527999683141}]
[null,null,null,null,2.9000000001000017,1.5,{"$f":"_xll.Interp3D($B$18:$B$134,$C$18:$C$134,$D$18:$D$134,E1802,F1802)","v":34.231999999743998}]
[null,null,null,null,2.9000000001000017,1.6,{"$f":"_xll.Interp3D($B$18:$B$134,$C$18:$C$134,$D$18:$D$134,E1803,F1803)","v":35.340351999828535}]
[null,null,null,null,2.9000000001000017,1.7,{"$f":"_xll.Interp3D($B$18:$B$134,$C$18:$C$134,$D$18:$D$134,E1804,F1804)","v":37.090495999939719}]
[null,null,null,null,2.9000000001000017,1.8,{"$f":"_xll.Interp3D($B$18:$B$134,$C$18:$C$134,$D$18:$D$134,E1805,F1805)","v":39.068864000041401}]
[null,null,null,null,2.9000000001000017,1.9,{"$f":"_xll.Interp3D($B$18:$B$134,$C$18:$C$134,$D$18:$D$134,E1806,F1806)","v":40.861888000097537}]
[null,null,null,null,2.9000000001000017,2,{"$f":"_xll.Interp3D($B$18:$B$134,$C$18:$C$134,$D$18:$D$134,E1807,F1807)","v":42.056000000072004}]
[null,null,null,null,{"$f":"E1747+0.1","v":2.9000000001000017},{"$f":"F1747","v":2.1},{"$f":"_xll.Interp3D($B$18:$B$134,$C$18:$C$134,$D$18:$D$134,E1808,F1808)","v":42.4933759999141}]
[null,null,null,null,2.9000000001000017,2.2000000000000002,{"$f":"_xll.Interp3D($B$18:$B$134,$C$18:$C$134,$D$18:$D$134,E1809,F1809)","v":42.449727999647926}]
[null,null,null,null,2.9000000001000017,2.2999999999999998,{"$f":"_xll.Interp3D($B$18:$B$134,$C$18:$C$134,$D$18:$D$134,E1810,F1810)","v":42.161791999349497}]
[null,null,null,null,2.9000000001000017,2.4,{"$f":"_xll.Interp3D($B$18:$B$134,$C$18:$C$134,$D$18:$D$134,E1811,F1811)","v":41.866303999094839}]
[null,null,null,null,2.9000000001000017,2.5,{"$f":"_xll.Interp3D($B$18:$B$134,$C$18:$C$134,$D$18:$D$134,E1812,F1812)","v":41.799999998959976}]
[null,null,null,null,2.9000000001000017,2.6,{"$f":"_xll.Interp3D($B$18:$B$134,$C$18:$C$134,$D$18:$D$134,E1813,F1813)","v":42.039295998974254}]
[null,null,null,null,2.9000000001000017,2.7,{"$f":"_xll.Interp3D($B$18:$B$134,$C$18:$C$134,$D$18:$D$134,E1814,F1814)","v":42.426367999086949}]
[null,null,null,null,2.9000000001000017,2.8,{"$f":"_xll.Interp3D($B$18:$B$134,$C$18:$C$134,$D$18:$D$134,E1815,F1815)","v":42.846591999254144}]
[null,null,null,null,2.9000000001000017,2.9,{"$f":"_xll.Interp3D($B$18:$B$134,$C$18:$C$134,$D$18:$D$134,E1816,F1816)","v":43.185343999431801}]
[null,null,null,null,2.9000000001000017,3,{"$f":"_xll.Interp3D($B$18:$B$134,$C$18:$C$134,$D$18:$D$134,E1817,F1817)","v":43.327999999575994}]
[null,null,null,null,2.9000000001000017,3.1,{"$f":"_xll.Interp3D($B$18:$B$134,$C$18:$C$134,$D$18:$D$134,E1818,F1818)","v":43.215807999696892}]
[null,null,null,null,2.9000000001000017,3.2,{"$f":"_xll.Interp3D($B$18:$B$134,$C$18:$C$134,$D$18:$D$134,E1819,F1819)","v":42.925183999823808}]
[null,null,null,null,2.9000000001000017,3.3,{"$f":"_xll.Interp3D($B$18:$B$134,$C$18:$C$134,$D$18:$D$134,E1820,F1820)","v":42.54425599994147}]
[null,null,null,null,2.9000000001000017,3.4,{"$f":"_xll.Interp3D($B$18:$B$134,$C$18:$C$134,$D$18:$D$134,E1821,F1821)","v":42.161152000034633}]
[null,null,null,null,2.9000000001000017,3.5,{"$f":"_xll.Interp3D($B$18:$B$134,$C$18:$C$134,$D$18:$D$134,E1822,F1822)","v":41.864000000087998}]
[null,null,null,null,2.9000000001000017,3.6,{"$f":"_xll.Interp3D($B$18:$B$134,$C$18:$C$134,$D$18:$D$134,E1823,F1823)","v":41.654464000079969}]
[null,null,null,null,2.9000000001000017,3.7,{"$f":"_xll.Interp3D($B$18:$B$134,$C$18:$C$134,$D$18:$D$134,E1824,F1824)","v":41.473792000020708}]
[null,null,null,null,2.9000000001000017,3.8,{"$f":"_xll.Interp3D($B$18:$B$134,$C$18:$C$134,$D$18:$D$134,E1825,F1825)","v":41.319487999942659}]
[null,null,null,null,2.9000000001000017,3.9,{"$f":"_xll.Interp3D($B$18:$B$134,$C$18:$C$134,$D$18:$D$134,E1826,F1826)","v":41.189055999878278}]
[null,null,null,null,2.9000000001000017,4,{"$f":"_xll.Interp3D($B$18:$B$134,$C$18:$C$134,$D$18:$D$134,E1827,F1827)","v":41.079999999859993}]
[null,null,null,null,2.9000000001000017,4.0999999999999996,{"$f":"_xll.Interp3D($B$18:$B$134,$C$18:$C$134,$D$18:$D$134,E1828,F1828)","v":41.068095999918434}]
[null,null,null,null,2.9000000001000017,4.2,{"$f":"_xll.Interp3D($B$18:$B$134,$C$18:$C$134,$D$18:$D$134,E1829,F1829)","v":41.155008000031927}]
[null,null,null,null,2.9000000001000017,4.3,{"$f":"_xll.Interp3D($B$18:$B$134,$C$18:$C$134,$D$18:$D$134,E1830,F1830)","v":41.227072000154621}]
[null,null,null,null,2.9000000001000017,4.4000000000000004,{"$f":"_xll.Interp3D($B$18:$B$134,$C$18:$C$134,$D$18:$D$134,E1831,F1831)","v":41.170624000240622}]
[null,null,null,null,2.9000000001000017,4.5,{"$f":"_xll.Interp3D($B$18:$B$134,$C$18:$C$134,$D$18:$D$134,E1832,F1832)","v":40.872000000244}]
[null,null,null,null,2.9000000001000017,4.5999999999999996,{"$f":"_xll.Interp3D($B$18:$B$134,$C$18:$C$134,$D$18:$D$134,E1833,F1833)","v":40.200512000120071}]
[null,null,null,null,2.9000000001000017,4.7,{"$f":"_xll.Interp3D($B$18:$B$134,$C$18:$C$134,$D$18:$D$134,E1834,F1834)","v":39.231935999899392}]
[null,null,null,null,2.9000000001000017,4.8,{"$f":"_xll.Interp3D($B$18:$B$134,$C$18:$C$134,$D$18:$D$134,E1835,F1835)","v":38.16230399964909}]
[null,null,null,null,2.9000000001000017,4.9000000000000004,{"$f":"_xll.Interp3D($B$18:$B$134,$C$18:$C$134,$D$18:$D$134,E1836,F1836)","v":37.187647999436244}]
[null,null,null,null,2.9000000001000017,5,{"$f":"_xll.Interp3D($B$18:$B$134,$C$18:$C$134,$D$18:$D$134,E1837,F1837)","v":36.503999999327988}]
[null,null,null,null,2.9000000001000017,5.0999999999999996,{"$f":"_xll.Interp3D($B$18:$B$134,$C$18:$C$134,$D$18:$D$134,E1838,F1838)","v":36.216575999359698}]
[null,null,null,null,2.9000000001000017,5.2,{"$f":"_xll.Interp3D($B$18:$B$134,$C$18:$C$134,$D$18:$D$134,E1839,F1839)","v":36.194687999486646}]
[null,null,null,null,2.9000000001000017,5.3,{"$f":"_xll.Interp3D($B$18:$B$134,$C$18:$C$134,$D$18:$D$134,E1840,F1840)","v":36.280511999655737}]
[null,null,null,null,2.9000000001000017,5.4,{"$f":"_xll.Interp3D($B$18:$B$134,$C$18:$C$134,$D$18:$D$134,E1841,F1841)","v":36.316223999813879}]
[null,null,null,null,2.9000000001000017,5.5,{"$f":"_xll.Interp3D($B$18:$B$134,$C$18:$C$134,$D$18:$D$134,E1842,F1842)","v":36.14399999990799}]
[null,null,null,null,2.9000000001000017,5.6,{"$f":"_xll.Interp3D($B$18:$B$134,$C$18:$C$134,$D$18:$D$134,E1843,F1843)","v":35.763839999938078}]
[null,null,null,null,2.9000000001000017,5.7,{"$f":"_xll.Interp3D($B$18:$B$134,$C$18:$C$134,$D$18:$D$134,E1844,F1844)","v":35.280959999939519}]
[null,null,null,null,2.9000000001000017,5.8,{"$f":"_xll.Interp3D($B$18:$B$134,$C$18:$C$134,$D$18:$D$134,E1845,F1845)","v":34.69535999991232}]
[null,null,null,null,2.9000000001000017,5.9,{"$f":"_xll.Interp3D($B$18:$B$134,$C$18:$C$134,$D$18:$D$134,E1846,F1846)","v":34.007039999856467}]
[null,null,null,null,2.9000000001000017,6,{"$f":"_xll.Interp3D($B$18:$B$134,$C$18:$C$134,$D$18:$D$134,E1847,F1847)","v":33.215999999772002}]
[null,null,null,null,3.0000000001000018,0,{"$f":"_xll.Interp3D($B$18:$B$134,$C$18:$C$134,$D$18:$D$134,E1848,F1848)","v":36.999999999799996}]
[null,null,null,null,3.0000000001000018,0.1,{"$f":"_xll.Interp3D($B$18:$B$134,$C$18:$C$134,$D$18:$D$134,E1849,F1849)","v":36.439999999760005}]
[null,null,null,null,3.0000000001000018,0.2,{"$f":"_xll.Interp3D($B$18:$B$134,$C$18:$C$134,$D$18:$D$134,E1850,F1850)","v":35.959999999719997}]
[null,null,null,null,3.0000000001000018,0.3,{"$f":"_xll.Interp3D($B$18:$B$134,$C$18:$C$134,$D$18:$D$134,E1851,F1851)","v":35.559999999679988}]
[null,null,null,null,3.0000000001000018,0.4,{"$f":"_xll.Interp3D($B$18:$B$134,$C$18:$C$134,$D$18:$D$134,E1852,F1852)","v":35.239999999639991}]
[null,null,null,null,3.0000000001000018,0.5,{"$f":"_xll.Interp3D($B$18:$B$134,$C$18:$C$134,$D$18:$D$134,E1853,F1853)","v":34.999999999599993}]
[null,null,null,null,3.0000000001000018,0.6,{"$f":"_xll.Interp3D($B$18:$B$134,$C$18:$C$134,$D$18:$D$134,E1854,F1854)","v":34.887999999550402}]
[null,null,null,null,3.0000000001000018,0.7,{"$f":"_xll.Interp3D($B$18:$B$134,$C$18:$C$134,$D$18:$D$134,E1855,F1855)","v":34.903999999491191}]
[null,null,null,null,3.0000000001000018,0.8,{"$f":"_xll.Interp3D($B$18:$B$134,$C$18:$C$134,$D$18:$D$134,E1856,F1856)","v":34.975999999436794}]
[null,null,null,null,3.0000000001000018,0.9,{"$f":"_xll.Interp3D($B$18:$B$134,$C$18:$C$134,$D$18:$D$134,E1857,F1857)","v":35.031999999401584}]
[null,null,null,null,3.0000000001000018,1,{"$f":"_xll.Interp3D($B$18:$B$134,$C$18:$C$134,$D$18:$D$134,E1858,F1858)","v":34.999999999399989}]
[null,null,null,null,3.0000000001000018,1.1000000000000001,{"$f":"_xll.Interp3D($B$18:$B$134,$C$18:$C$134,$D$18:$D$134,E1859,F1859)","v":34.719999999447992}]
[null,null,null,null,3.0000000001000018,1.2,{"$f":"_xll.Interp3D($B$18:$B$134,$C$18:$C$134,$D$18:$D$134,E1860,F1860)","v":34.239999999535982}]
[null,null,null,null,3.0000000001000018,1.3,{"$f":"_xll.Interp3D($B$18:$B$134,$C$18:$C$134,$D$18:$D$134,E1861,F1861)","v":33.799999999639994}]
[null,null,null,null,3.0000000001000018,1.4,{"$f":"_xll.Interp3D($B$18:$B$134,$C$18:$C$134,$D$18:$D$134,E1862,F1862)","v":33.639999999736006}]
[null,null,null,null,3.0000000001000018,1.5,{"$f":"_xll.Interp3D($B$18:$B$134,$C$18:$C$134,$D$18:$D$134,E1863,F1863)","v":33.999999999799996}]
[null,null,null,null,3.0000000001000018,1.6,{"$f":"_xll.Interp3D($B$18:$B$134,$C$18:$C$134,$D$18:$D$134,E1864,F1864)","v":35.167999999830386}]
[null,null,null,null,3.0000000001000018,1.7,{"$f":"_xll.Interp3D($B$18:$B$134,$C$18:$C$134,$D$18:$D$134,E1865,F1865)","v":36.983999999843206}]
[null,null,null,null,3.0000000001000018,1.8,{"$f":"_xll.Interp3D($B$18:$B$134,$C$18:$C$134,$D$18:$D$134,E1866,F1866)","v":39.015999999840794}]
[null,null,null,null,3.0000000001000018,1.9,{"$f":"_xll.Interp3D($B$18:$B$134,$C$18:$C$134,$D$18:$D$134,E1867,F1867)","v":40.831999999825598}]
[null,null,null,null,3.0000000001000018,2,{"$f":"_xll.Interp3D($B$18:$B$134,$C$18:$C$134,$D$18:$D$134,E1868,F1868)","v":41.999999999799996}]
[null,null,null,null,3.0000000001000018,2.1,{"$f":"_xll.Interp3D($B$18:$B$134,$C$18:$C$134,$D$18:$D$134,E1869,F1869)","v":42.327999999749593}]
[null,null,null,null,3.0000000001000018,2.2000000000000002,{"$f":"_xll.Interp3D($B$18:$B$134,$C$18:$C$134,$D$18:$D$134,E1870,F1870)","v":42.103999999672794}]
[null,null,null,null,3.0000000001000018,2.2999999999999998,{"$f":"_xll.Interp3D($B$18:$B$134,$C$18:$C$134,$D$18:$D$134,E1871,F1871)","v":41.615999999591189}]
[null,null,null,null,{"$f":"E1811+0.1","v":3.0000000001000018},{"$f":"F1811","v":2.4},{"$f":"_xll.Interp3D($B$18:$B$134,$C$18:$C$134,$D$18:$D$134,E1872,F1872)","v":41.151999999526396}]
[null,null,null,null,3.0000000001000018,2.5,{"$f":"_xll.Interp3D($B$18:$B$134,$C$18:$C$134,$D$18:$D$134,E1873,F1873)","v":40.999999999499991}]
[null,null,null,null,3.0000000001000018,2.6,{"$f":"_xll.Interp3D($B$18:$B$134,$C$18:$C$134,$D$18:$D$134,E1874,F1874)","v":41.255999999519986}]
[null,null,null,null,3.0000000001000018,2.7,{"$f":"_xll.Interp3D($B$18:$B$134,$C$18:$C$134,$D$18:$D$134,E1875,F1875)","v":41.727999999571985}]
[null,null,null,null,3.0000000001000018,2.8,{"$f":"_xll.Interp3D($B$18:$B$134,$C$18:$C$134,$D$18:$D$134,E1876,F1876)","v":42.271999999643995}]
[null,null,null,null,3.0000000001000018,2.9,{"$f":"_xll.Interp3D($B$18:$B$134,$C$18:$C$134,$D$18:$D$134,E1877,F1877)","v":42.743999999724004}]
[null,null,null,null,3.0000000001000018,3,{"$f":"_xll.Interp3D($B$18:$B$134,$C$18:$C$134,$D$18:$D$134,E1878,F1878)","v":42.999999999799996}]
[null,null,null,null,3.0000000001000018,3.1,{"$f":"_xll.Interp3D($B$18:$B$134,$C$18:$C$134,$D$18:$D$134,E1879,F1879)","v":42.991999999883205}]
[null,null,null,null,3.0000000001000018,3.2,{"$f":"_xll.Interp3D($B$18:$B$134,$C$18:$C$134,$D$18:$D$134,E1880,F1880)","v":42.815999999981599}]
[null,null,null,null,3.0000000001000018,3.3,{"$f":"_xll.Interp3D($B$18:$B$134,$C$18:$C$134,$D$18:$D$134,E1881,F1881)","v":42.544000000078398}]
[null,null,null,null,3.0000000001000018,3.4,{"$f":"_xll.Interp3D($B$18:$B$134,$C$18:$C$134,$D$18:$D$134,E1882,F1882)","v":42.248000000156807}]
[null,null,null,null,3.0000000001000018,3.5,{"$f":"_xll.Interp3D($B$18:$B$134,$C$18:$C$134,$D$18:$D$134,E1883,F1883)","v":42.000000000200004}]
[null,null,null,null,3.0000000001000018,3.6,{"$f":"_xll.Interp3D($B$18:$B$134,$C$18:$C$134,$D$18:$D$134,E1884,F1884)","v":41.784000000195206}]
[null,null,null,null,3.0000000001000018,3.7,{"$f":"_xll.Interp3D($B$18:$B$134,$C$18:$C$134,$D$18:$D$134,E1885,F1885)","v":41.552000000153612}]
[null,null,null,null,3.0000000001000018,3.8,{"$f":"_xll.Interp3D($B$18:$B$134,$C$18:$C$134,$D$18:$D$134,E1886,F1886)","v":41.328000000094406}]
[null,null,null,null,3.0000000001000018,3.9,{"$f":"_xll.Interp3D($B$18:$B$134,$C$18:$C$134,$D$18:$D$134,E1887,F1887)","v":41.136000000036802}]
[null,null,null,null,3.0000000001000018,4,{"$f":"_xll.Interp3D($B$18:$B$134,$C$18:$C$134,$D$18:$D$134,E1888,F1888)","v":41}]
[null,null,null,null,3.0000000001000018,4.0999999999999996,{"$f":"_xll.Interp3D($B$18:$B$134,$C$18:$C$134,$D$18:$D$134,E1889,F1889)","v":41.015999999992005}]
[null,null,null,null,3.0000000001000018,4.2,{"$f":"_xll.Interp3D($B$18:$B$134,$C$18:$C$134,$D$18:$D$134,E1890,F1890)","v":41.167999999999992}]
[null,null,null,null,3.0000000001000018,4.3,{"$f":"_xll.Interp3D($B$18:$B$134,$C$18:$C$134,$D$18:$D$134,E1891,F1891)","v":41.312000000011999}]
[null,null,null,null,3.0000000001000018,4.4000000000000004,{"$f":"_xll.Interp3D($B$18:$B$134,$C$18:$C$134,$D$18:$D$134,E1892,F1892)","v":41.304000000016003}]
[null,null,null,null,3.0000000001000018,4.5,{"$f":"_xll.Interp3D($B$18:$B$134,$C$18:$C$134,$D$18:$D$134,E1893,F1893)","v":41}]
[null,null,null,null,3.0000000001000018,4.5999999999999996,{"$f":"_xll.Interp3D($B$18:$B$134,$C$18:$C$134,$D$18:$D$134,E1894,F1894)","v":40.239999999952801}]
[null,null,null,null,3.0000000001000018,4.7,{"$f":"_xll.Interp3D($B$18:$B$134,$C$18:$C$134,$D$18:$D$134,E1895,F1895)","v":39.119999999882403}]
[null,null,null,null,3.0000000001000018,4.8,{"$f":"_xll.Interp3D($B$18:$B$134,$C$18:$C$134,$D$18:$D$134,E1896,F1896)","v":37.879999999805598}]
[null,null,null,null,3.0000000001000018,4.9000000000000004,{"$f":"_xll.Interp3D($B$18:$B$134,$C$18:$C$134,$D$18:$D$134,E1897,F1897)","v":36.759999999739193}]
[null,null,null,null,3.0000000001000018,5,{"$f":"_xll.Interp3D($B$18:$B$134,$C$18:$C$134,$D$18:$D$134,E1898,F1898)","v":35.999999999699995}]
[null,null,null,null,3.0000000001000018,5.0999999999999996,{"$f":"_xll.Interp3D($B$18:$B$134,$C$18:$C$134,$D$18:$D$134,E1899,F1899)","v":35.727999999695996}]
[null,null,null,null,3.0000000001000018,5.2,{"$f":"_xll.Interp3D($B$18:$B$134,$C$18:$C$134,$D$18:$D$134,E1900,F1900)","v":35.783999999715995}]
[null,null,null,null,3.0000000001000018,5.3,{"$f":"_xll.Interp3D($B$18:$B$134,$C$18:$C$134,$D$18:$D$134,E1901,F1901)","v":35.975999999747998}]
[null,null,null,null,3.0000000001000018,5.4,{"$f":"_xll.Interp3D($B$18:$B$134,$C$18:$C$134,$D$18:$D$134,E1902,F1902)","v":36.111999999779989}]
[null,null,null,null,3.0000000001000018,5.5,{"$f":"_xll.Interp3D($B$18:$B$134,$C$18:$C$134,$D$18:$D$134,E1903,F1903)","v":35.999999999799996}]
[null,null,null,null,3.0000000001000018,5.6,{"$f":"_xll.Interp3D($B$18:$B$134,$C$18:$C$134,$D$18:$D$134,E1904,F1904)","v":35.639999999807998}]
[null,null,null,null,3.0000000001000018,5.7,{"$f":"_xll.Interp3D($B$18:$B$134,$C$18:$C$134,$D$18:$D$134,E1905,F1905)","v":35.159999999811994}]
[null,null,null,null,3.0000000001000018,5.8,{"$f":"_xll.Interp3D($B$18:$B$134,$C$18:$C$134,$D$18:$D$134,E1906,F1906)","v":34.559999999812}]
[null,null,null,null,3.0000000001000018,5.9,{"$f":"_xll.Interp3D($B$18:$B$134,$C$18:$C$134,$D$18:$D$134,E1907,F1907)","v":33.839999999807986}]
[null,null,null,null,3.0000000001000018,6,{"$f":"_xll.Interp3D($B$18:$B$134,$C$18:$C$134,$D$18:$D$134,E1908,F1908)","v":32.999999999799996}]
[null,null,null,null,3.1000000001000019,0,{"$f":"_xll.Interp3D($B$18:$B$134,$C$18:$C$134,$D$18:$D$134,E1909,F1909)","v":37.128000000404015}]
[null,null,null,null,3.1000000001000019,0.1,{"$f":"_xll.Interp3D($B$18:$B$134,$C$18:$C$134,$D$18:$D$134,E1910,F1910)","v":36.47296000026369}]
[null,null,null,null,3.1000000001000019,0.2,{"$f":"_xll.Interp3D($B$18:$B$134,$C$18:$C$134,$D$18:$D$134,E1911,F1911)","v":35.899840000126723}]
[null,null,null,null,3.1000000001000019,0.3,{"$f":"_xll.Interp3D($B$18:$B$134,$C$18:$C$134,$D$18:$D$134,E1912,F1912)","v":35.408639999993113}]
[null,null,null,null,3.1000000001000019,0.4,{"$f":"_xll.Interp3D($B$18:$B$134,$C$18:$C$134,$D$18:$D$134,E1913,F1913)","v":34.999359999862875}]
[null,null,null,null,3.1000000001000019,0.5,{"$f":"_xll.Interp3D($B$18:$B$134,$C$18:$C$134,$D$18:$D$134,E1914,F1914)","v":34.671999999735988}]
[null,null,null,null,3.1000000001000019,0.6,{"$f":"_xll.Interp3D($B$18:$B$134,$C$18:$C$134,$D$18:$D$134,E1915,F1915)","v":34.460479999594561}]
[null,null,null,null,3.1000000001000019,0.7,{"$f":"_xll.Interp3D($B$18:$B$134,$C$18:$C$134,$D$18:$D$134,E1916,F1916)","v":34.364799999438553}]
[null,null,null,null,3.1000000001000019,0.8,{"$f":"_xll.Interp3D($B$18:$B$134,$C$18:$C$134,$D$18:$D$134,E1917,F1917)","v":34.334079999294865}]
[null,null,null,null,3.1000000001000019,0.9,{"$f":"_xll.Interp3D($B$18:$B$134,$C$18:$C$134,$D$18:$D$134,E1918,F1918)","v":34.317439999190384}]
[null,null,null,null,3.1000000001000019,1,{"$f":"_xll.Interp3D($B$18:$B$134,$C$18:$C$134,$D$18:$D$134,E1919,F1919)","v":34.263999999151984}]
[null,null,null,null,3.1000000001000019,1.1000000000000001,{"$f":"_xll.Interp3D($B$18:$B$134,$C$18:$C$134,$D$18:$D$134,E1920,F1920)","v":34.039487999213648}]
[null,null,null,null,3.1000000001000019,1.2,{"$f":"_xll.Interp3D($B$18:$B$134,$C$18:$C$134,$D$18:$D$134,E1921,F1921)","v":33.677823999357457}]
[null,null,null,null,3.1000000001000019,1.3,{"$f":"_xll.Interp3D($B$18:$B$134,$C$18:$C$134,$D$18:$D$134,E1922,F1922)","v":33.380415999532438}]
[null,null,null,null,3.1000000001000019,1.4,{"$f":"_xll.Interp3D($B$18:$B$134,$C$18:$C$134,$D$18:$D$134,E1923,F1923)","v":33.348671999687618}]
[null,null,null,null,3.1000000001000019,1.5,{"$f":"_xll.Interp3D($B$18:$B$134,$C$18:$C$134,$D$18:$D$134,E1924,F1924)","v":33.783999999771993}]
[null,null,null,null,3.1000000001000019,1.6,{"$f":"_xll.Interp3D($B$18:$B$134,$C$18:$C$134,$D$18:$D$134,E1925,F1925)","v":34.961215999762359}]
[null,null,null,null,3.1000000001000019,1.7,{"$f":"_xll.Interp3D($B$18:$B$134,$C$18:$C$134,$D$18:$D$134,E1926,F1926)","v":36.746047999692706}]
[null,null,null,null,3.1000000001000019,1.8,{"$f":"_xll.Interp3D($B$18:$B$134,$C$18:$C$134,$D$18:$D$134,E1927,F1927)","v":38.726271999597849}]
[null,null,null,null,3.1000000001000019,1.9,{"$f":"_xll.Interp3D($B$18:$B$134,$C$18:$C$134,$D$18:$D$134,E1928,F1928)","v":40.489663999512672}]
[null,null,null,null,3.1000000001000019,2,{"$f":"_xll.Interp3D($B$18:$B$134,$C$18:$C$134,$D$18:$D$134,E1929,F1929)","v":41.623999999471991}]
[null,null,null,null,3.1000000001000019,2.1,{"$f":"_xll.Interp3D($B$18:$B$134,$C$18:$C$134,$D$18:$D$134,E1930,F1930)","v":41.936255999486519}]
[null,null,null,null,3.1000000001000019,2.2000000000000002,{"$f":"_xll.Interp3D($B$18:$B$134,$C$18:$C$134,$D$18:$D$134,E1931,F1931)","v":41.701247999533024}]
[null,null,null,null,3.1000000001000019,2.2999999999999998,{"$f":"_xll.Interp3D($B$18:$B$134,$C$18:$C$134,$D$18:$D$134,E1932,F1932)","v":41.208511999595444}]
[null,null,null,null,3.1000000001000019,2.4,{"$f":"_xll.Interp3D($B$18:$B$134,$C$18:$C$134,$D$18:$D$134,E1933,F1933)","v":40.747583999657792}]
[null,null,null,null,3.1000000001000019,2.5,{"$f":"_xll.Interp3D($B$18:$B$134,$C$18:$C$134,$D$18:$D$134,E1934,F1934)","v":40.607999999703992}]
[null,null,null,null,3.1000000001000019,2.6,{"$f":"_xll.Interp3D($B$18:$B$134,$C$18:$C$134,$D$18:$D$134,E1935,F1935)","v":40.885247999726147}]
[null,null,null,null,{"$f":"E1875+0.1","v":3.1000000001000019},{"$f":"F1875","v":2.7},{"$f":"_xll.Interp3D($B$18:$B$134,$C$18:$C$134,$D$18:$D$134,E1936,F1936)","v":41.386303999734906}]
[null,null,null,null,3.1000000001000019,2.8,{"$f":"_xll.Interp3D($B$18:$B$134,$C$18:$C$134,$D$18:$D$134,E1937,F1937)","v":41.96793599974221}]
[null,null,null,null,3.1000000001000019,2.9,{"$f":"_xll.Interp3D($B$18:$B$134,$C$18:$C$134,$D$18:$D$134,E1938,F1938)","v":42.48691199975994}]
[null,null,null,null,3.1000000001000019,3,{"$f":"_xll.Interp3D($B$18:$B$134,$C$18:$C$134,$D$18:$D$134,E1939,F1939)","v":42.799999999799994}]
[null,null,null,null,3.1000000001000019,3.1,{"$f":"_xll.Interp3D($B$18:$B$134,$C$18:$C$134,$D$18:$D$134,E1940,F1940)","v":42.873407999879106}]
[null,null,null,null,3.1000000001000019,3.2,{"$f":"_xll.Interp3D($B$18:$B$134,$C$18:$C$134,$D$18:$D$134,E1941,F1941)","v":42.802623999989315}]
[null,null,null,null,3.1000000001000019,3.3,{"$f":"_xll.Interp3D($B$18:$B$134,$C$18:$C$134,$D$18:$D$134,E1942,F1942)","v":42.638336000105568}]
[null,null,null,null,3.1000000001000019,3.4,{"$f":"_xll.Interp3D($B$18:$B$134,$C$18:$C$134,$D$18:$D$134,E1943,F1943)","v":42.431232000202826}]
[null,null,null,null,3.1000000001000019,3.5,{"$f":"_xll.Interp3D($B$18:$B$134,$C$18:$C$134,$D$18:$D$134,E1944,F1944)","v":42.232000000256008}]
[null,null,null,null,3.1000000001000019,3.6,{"$f":"_xll.Interp3D($B$18:$B$134,$C$18:$C$134,$D$18:$D$134,E1945,F1945)","v":42.013632000255782}]
[null,null,null,null,3.1000000001000019,3.7,{"$f":"_xll.Interp3D($B$18:$B$134,$C$18:$C$134,$D$18:$D$134,E1946,F1946)","v":41.742336000218856}]
[null,null,null,null,3.1000000001000019,3.8,{"$f":"_xll.Interp3D($B$18:$B$134,$C$18:$C$134,$D$18:$D$134,E1947,F1947)","v":41.458624000159247}]
[null,null,null,null,3.1000000001000019,3.9,{"$f":"_xll.Interp3D($B$18:$B$134,$C$18:$C$134,$D$18:$D$134,E1948,F1948)","v":41.203008000090946}]
[null,null,null,null,3.1000000001000019,4,{"$f":"_xll.Interp3D($B$18:$B$134,$C$18:$C$134,$D$18:$D$134,E1949,F1949)","v":41.016000000028001}]
[null,null,null,null,3.1000000001000019,4.0999999999999996,{"$f":"_xll.Interp3D($B$18:$B$134,$C$18:$C$134,$D$18:$D$134,E1950,F1950)","v":40.99167999995985}]
[null,null,null,null,3.1000000001000019,4.2,{"$f":"_xll.Interp3D($B$18:$B$134,$C$18:$C$134,$D$18:$D$134,E1951,F1951)","v":41.103039999877112}]
[null,null,null,null,3.1000000001000019,4.3,{"$f":"_xll.Interp3D($B$18:$B$134,$C$18:$C$134,$D$18:$D$134,E1952,F1952)","v":41.208959999795667}]
[null,null,null,null,3.1000000001000019,4.4000000000000004,{"$f":"_xll.Interp3D($B$18:$B$134,$C$18:$C$134,$D$18:$D$134,E1953,F1953)","v":41.168319999731359}]
[null,null,null,null,3.1000000001000019,4.5,{"$f":"_xll.Interp3D($B$18:$B$134,$C$18:$C$134,$D$18:$D$134,E1954,F1954)","v":40.839999999699998}]
[null,null,null,null,3.1000000001000019,4.5999999999999996,{"$f":"_xll.Interp3D($B$18:$B$134,$C$18:$C$134,$D$18:$D$134,E1955,F1955)","v":40.068351999719454}]
[null,null,null,null,3.1000000001000019,4.7,{"$f":"_xll.Interp3D($B$18:$B$134,$C$18:$C$134,$D$18:$D$134,E1956,F1956)","v":38.947455999779166}]
[null,null,null,null,3.1000000001000019,4.8,{"$f":"_xll.Interp3D($B$18:$B$134,$C$18:$C$134,$D$18:$D$134,E1957,F1957)","v":37.710783999852353}]
[null,null,null,null,3.1000000001000019,4.9000000000000004,{"$f":"_xll.Interp3D($B$18:$B$134,$C$18:$C$134,$D$18:$D$134,E1958,F1958)","v":36.59180799991222}]
[null,null,null,null,3.1000000001000019,5,{"$f":"_xll.Interp3D($B$18:$B$134,$C$18:$C$134,$D$18:$D$134,E1959,F1959)","v":35.823999999931999}]
[null,null,null,null,3.1000000001000019,5.0999999999999996,{"$f":"_xll.Interp3D($B$18:$B$134,$C$18:$C$134,$D$18:$D$134,E1960,F1960)","v":35.529599999894081}]
[null,null,null,null,3.1000000001000019,5.2,{"$f":"_xll.Interp3D($B$18:$B$134,$C$18:$C$134,$D$18:$D$134,E1961,F1961)","v":35.552959999816323}]
[null,null,null,null,3.1000000001000019,5.3,{"$f":"_xll.Interp3D($B$18:$B$134,$C$18:$C$134,$D$18:$D$134,E1962,F1962)","v":35.710719999725114}]
[null,null,null,null,3.1000000001000019,5.4,{"$f":"_xll.Interp3D($B$18:$B$134,$C$18:$C$134,$D$18:$D$134,E1963,F1963)","v":35.819519999646872}]
[null,null,null,null,3.1000000001000019,5.5,{"$f":"_xll.Interp3D($B$18:$B$134,$C$18:$C$134,$D$18:$D$134,E1964,F1964)","v":35.695999999607992}]
[null,null,null,null,3.1000000001000019,5.6,{"$f":"_xll.Interp3D($B$18:$B$134,$C$18:$C$134,$D$18:$D$134,E1965,F1965)","v":35.340159999608474}]
[null,null,null,null,3.1000000001000019,5.7,{"$f":"_xll.Interp3D($B$18:$B$134,$C$18:$C$134,$D$18:$D$134,E1966,F1966)","v":34.87423999963071}]
[null,null,null,null,3.1000000001000019,5.8,{"$f":"_xll.Interp3D($B$18:$B$134,$C$18:$C$134,$D$18:$D$134,E1967,F1967)","v":34.298239999674713}]
[null,null,null,null,3.1000000001000019,5.9,{"$f":"_xll.Interp3D($B$18:$B$134,$C$18:$C$134,$D$18:$D$134,E1968,F1968)","v":33.612159999740463}]
[null,null,null,null,3.1000000001000019,6,{"$f":"_xll.Interp3D($B$18:$B$134,$C$18:$C$134,$D$18:$D$134,E1969,F1969)","v":32.815999999827994}]
[null,null,null,null,3.200000000100002,0,{"$f":"_xll.Interp3D($B$18:$B$134,$C$18:$C$134,$D$18:$D$134,E1970,F1970)","v":37.704000000696006}]
[null,null,null,null,3.200000000100002,0.1,{"$f":"_xll.Interp3D($B$18:$B$134,$C$18:$C$134,$D$18:$D$134,E1971,F1971)","v":36.882880000513936}]
[null,null,null,null,3.200000000100002,0.2,{"$f":"_xll.Interp3D($B$18:$B$134,$C$18:$C$134,$D$18:$D$134,E1972,F1972)","v":36.147520000335689}]
[null,null,null,null,3.200000000100002,0.3,{"$f":"_xll.Interp3D($B$18:$B$134,$C$18:$C$134,$D$18:$D$134,E1973,F1973)","v":35.497920000161287}]
[null,null,null,null,3.200000000100002,0.4,{"$f":"_xll.Interp3D($B$18:$B$134,$C$18:$C$134,$D$18:$D$134,E1974,F1974)","v":34.934079999990715}]
[null,null,null,null,3.200000000100002,0.5,{"$f":"_xll.Interp3D($B$18:$B$134,$C$18:$C$134,$D$18:$D$134,E1975,F1975)","v":34.455999999823995}]
[null,null,null,null,3.200000000100002,0.6,{"$f":"_xll.Interp3D($B$18:$B$134,$C$18:$C$134,$D$18:$D$134,E1976,F1976)","v":34.077119999638718}]
[null,null,null,null,3.200000000100002,0.7,{"$f":"_xll.Interp3D($B$18:$B$134,$C$18:$C$134,$D$18:$D$134,E1977,F1977)","v":33.797439999434872}]
[null,null,null,null,3.200000000100002,0.8,{"$f":"_xll.Interp3D($B$18:$B$134,$C$18:$C$134,$D$18:$D$134,E1978,F1978)","v":33.596799999246066}]
[null,null,null,null,3.200000000100002,0.9,{"$f":"_xll.Interp3D($B$18:$B$134,$C$18:$C$134,$D$18:$D$134,E1979,F1979)","v":33.455039999105907}]
[null,null,null,null,3.200000000100002,1,{"$f":"_xll.Interp3D($B$18:$B$134,$C$18:$C$134,$D$18:$D$134,E1980,F1980)","v":33.351999999047983}]
[null,null,null,null,3.200000000100002,1.1000000000000001,{"$f":"_xll.Interp3D($B$18:$B$134,$C$18:$C$134,$D$18:$D$134,E1981,F1981)","v":33.192703999115444}]
[null,null,null,null,3.200000000100002,1.2,{"$f":"_xll.Interp3D($B$18:$B$134,$C$18:$C$134,$D$18:$D$134,E1982,F1982)","v":32.990591999285868}]
[null,null,null,null,3.200000000100002,1.3,{"$f":"_xll.Interp3D($B$18:$B$134,$C$18:$C$134,$D$18:$D$134,E1983,F1983)","v":32.888127999494579}]
[null,null,null,null,3.200000000100002,1.4,{"$f":"_xll.Interp3D($B$18:$B$134,$C$18:$C$134,$D$18:$D$134,E1984,F1984)","v":33.027775999676862}]
[null,null,null,null,3.200000000100002,1.5,{"$f":"_xll.Interp3D($B$18:$B$134,$C$18:$C$134,$D$18:$D$134,E1985,F1985)","v":33.551999999768}]
[null,null,null,null,3.200000000100002,1.6,{"$f":"_xll.Interp3D($B$18:$B$134,$C$18:$C$134,$D$18:$D$134,E1986,F1986)","v":34.705407999732344}]
[null,null,null,null,3.200000000100002,1.7,{"$f":"_xll.Interp3D($B$18:$B$134,$C$18:$C$134,$D$18:$D$134,E1987,F1987)","v":36.393023999613057}]
[null,null,null,null,3.200000000100002,1.8,{"$f":"_xll.Interp3D($B$18:$B$134,$C$18:$C$134,$D$18:$D$134,E1988,F1988)","v":38.247935999463571}]
[null,null,null,null,3.200000000100002,1.9,{"$f":"_xll.Interp3D($B$18:$B$134,$C$18:$C$134,$D$18:$D$134,E1989,F1989)","v":39.903231999337393}]
[null,null,null,null,3.200000000100002,2,{"$f":"_xll.Interp3D($B$18:$B$134,$C$18:$C$134,$D$18:$D$134,E1990,F1990)","v":40.991999999287984}]
[null,null,null,null,3.200000000100002,2.1,{"$f":"_xll.Interp3D($B$18:$B$134,$C$18:$C$134,$D$18:$D$134,E1991,F1991)","v":41.340287999341143}]
[null,null,null,null,3.200000000100002,2.2000000000000002,{"$f":"_xll.Interp3D($B$18:$B$134,$C$18:$C$134,$D$18:$D$134,E1992,F1992)","v":41.192703999461202}]
[null,null,null,null,3.200000000100002,2.2999999999999998,{"$f":"_xll.Interp3D($B$18:$B$134,$C$18:$C$134,$D$18:$D$134,E1993,F1993)","v":40.810175999609498}]
[null,null,null,null,3.200000000100002,2.4,{"$f":"_xll.Interp3D($B$18:$B$134,$C$18:$C$134,$D$18:$D$134,E1994,F1994)","v":40.453631999747337}]
[null,null,null,null,3.200000000100002,2.5,{"$f":"_xll.Interp3D($B$18:$B$134,$C$18:$C$134,$D$18:$D$134,E1995,F1995)","v":40.383999999835993}]
[null,null,null,null,3.200000000100002,2.6,{"$f":"_xll.Interp3D($B$18:$B$134,$C$18:$C$134,$D$18:$D$134,E1996,F1996)","v":40.683583999858179}]
[null,null,null,null,3.200000000100002,2.7,{"$f":"_xll.Interp3D($B$18:$B$134,$C$18:$C$134,$D$18:$D$134,E1997,F1997)","v":41.178431999839646}]
[null,null,null,null,3.200000000100002,2.8,{"$f":"_xll.Interp3D($B$18:$B$134,$C$18:$C$134,$D$18:$D$134,E1998,F1998)","v":41.745087999806429}]
[null,null,null,null,3.200000000100002,2.9,{"$f":"_xll.Interp3D($B$18:$B$134,$C$18:$C$134,$D$18:$D$134,E1999,F1999)","v":42.260095999784546}]
[null,null,null,null,{"$f":"E1939+0.1","v":3.200000000100002},{"$f":"F1939","v":3},{"$f":"_xll.Interp3D($B$18:$B$134,$C$18:$C$134,$D$18:$D$134,E2000,F2000)","v":42.599999999800005}]
[null,null,null,null,3.200000000100002,3.1,{"$f":"_xll.Interp3D($B$18:$B$134,$C$18:$C$134,$D$18:$D$134,E2001,F2001)","v":42.749183999871931}]
[null,null,null,null,3.200000000100002,3.2,{"$f":"_xll.Interp3D($B$18:$B$134,$C$18:$C$134,$D$18:$D$134,E2002,F2002)","v":42.78995199998301}]
[null,null,null,null,3.200000000100002,3.3,{"$f":"_xll.Interp3D($B$18:$B$134,$C$18:$C$134,$D$18:$D$134,E2003,F2003)","v":42.745728000104513}]
[null,null,null,null,3.200000000100002,3.4,{"$f":"_xll.Interp3D($B$18:$B$134,$C$18:$C$134,$D$18:$D$134,E2004,F2004)","v":42.639936000207754}]
[null,null,null,null,3.200000000100002,3.5,{"$f":"_xll.Interp3D($B$18:$B$134,$C$18:$C$134,$D$18:$D$134,E2005,F2005)","v":42.496000000264004}]
[null,null,null,null,3.200000000100002,3.6,{"$f":"_xll.Interp3D($B$18:$B$134,$C$18:$C$134,$D$18:$D$134,E2006,F2006)","v":42.278976000266631}]
[null,null,null,null,3.200000000100002,3.7,{"$f":"_xll.Interp3D($B$18:$B$134,$C$18:$C$134,$D$18:$D$134,E2007,F2007)","v":41.973248000234761}]
[null,null,null,null,3.200000000100002,3.8,{"$f":"_xll.Interp3D($B$18:$B$134,$C$18:$C$134,$D$18:$D$134,E2008,F2008)","v":41.631232000178372}]
[null,null,null,null,3.200000000100002,3.9,{"$f":"_xll.Interp3D($B$18:$B$134,$C$18:$C$134,$D$18:$D$134,E2009,F2009)","v":41.305344000107461}]
[null,null,null,null,3.200000000100002,4,{"$f":"_xll.Interp3D($B$18:$B$134,$C$18:$C$134,$D$18:$D$134,E2010,F2010)","v":41.048000000032005}]
[null,null,null,null,3.200000000100002,4.0999999999999996,{"$f":"_xll.Interp3D($B$18:$B$134,$C$18:$C$134,$D$18:$D$134,E2011,F2011)","v":40.936639999930563}]
[null,null,null,null,3.200000000100002,4.2,{"$f":"_xll.Interp3D($B$18:$B$134,$C$18:$C$134,$D$18:$D$134,E2012,F2012)","v":40.936319999796481}]
[null,null,null,null,3.200000000100002,4.3,{"$f":"_xll.Interp3D($B$18:$B$134,$C$18:$C$134,$D$18:$D$134,E2013,F2013)","v":40.930879999661911}]
[null,null,null,null,3.200000000100002,4.4000000000000004,{"$f":"_xll.Interp3D($B$18:$B$134,$C$18:$C$134,$D$18:$D$134,E2014,F2014)","v":40.804159999559033}]
[null,null,null,null,3.200000000100002,4.5,{"$f":"_xll.Interp3D($B$18:$B$134,$C$18:$C$134,$D$18:$D$134,E2015,F2015)","v":40.439999999519991}]
[null,null,null,null,3.200000000100002,4.5999999999999996,{"$f":"_xll.Interp3D($B$18:$B$134,$C$18:$C$134,$D$18:$D$134,E2016,F2016)","v":39.710015999579419}]
[null,null,null,null,3.200000000100002,4.7,{"$f":"_xll.Interp3D($B$18:$B$134,$C$18:$C$134,$D$18:$D$134,E2017,F2017)","v":38.691647999715869}]
[null,null,null,null,3.200000000100002,4.8,{"$f":"_xll.Interp3D($B$18:$B$134,$C$18:$C$134,$D$18:$D$134,E2018,F2018)","v":37.57747199987741}]
[null,null,null,null,3.200000000100002,4.9000000000000004,{"$f":"_xll.Interp3D($B$18:$B$134,$C$18:$C$134,$D$18:$D$134,E2019,F2019)","v":36.560064000012098}]
[null,null,null,null,3.200000000100002,5,{"$f":"_xll.Interp3D($B$18:$B$134,$C$18:$C$134,$D$18:$D$134,E2020,F2020)","v":35.832000000068}]
[null,null,null,null,3.200000000100002,5.0999999999999996,{"$f":"_xll.Interp3D($B$18:$B$134,$C$18:$C$134,$D$18:$D$134,E2021,F2021)","v":35.489920000013441}]
[null,null,null,null,3.200000000100002,5.2,{"$f":"_xll.Interp3D($B$18:$B$134,$C$18:$C$134,$D$18:$D$134,E2022,F2022)","v":35.405439999883036}]
[null,null,null,null,3.200000000100002,5.3,{"$f":"_xll.Interp3D($B$18:$B$134,$C$18:$C$134,$D$18:$D$134,E2023,F2023)","v":35.433599999724308}]
[null,null,null,null,3.200000000100002,5.4,{"$f":"_xll.Interp3D($B$18:$B$134,$C$18:$C$134,$D$18:$D$134,E2024,F2024)","v":35.429439999584787}]
[null,null,null,null,3.200000000100002,5.5,{"$f":"_xll.Interp3D($B$18:$B$134,$C$18:$C$134,$D$18:$D$134,E2025,F2025)","v":35.247999999511997}]
[null,null,null,null,3.200000000100002,5.6,{"$f":"_xll.Interp3D($B$18:$B$134,$C$18:$C$134,$D$18:$D$134,E2026,F2026)","v":34.889279999505909}]
[null,null,null,null,3.200000000100002,5.7,{"$f":"_xll.Interp3D($B$18:$B$134,$C$18:$C$134,$D$18:$D$134,E2027,F2027)","v":34.44991999953487}]
[null,null,null,null,3.200000000100002,5.8,{"$f":"_xll.Interp3D($B$18:$B$134,$C$18:$C$134,$D$18:$D$134,E2028,F2028)","v":33.929919999598873}]
[null,null,null,null,3.200000000100002,5.9,{"$f":"_xll.Interp3D($B$18:$B$134,$C$18:$C$134,$D$18:$D$134,E2029,F2029)","v":33.329279999697903}]
[null,null,null,null,3.200000000100002,6,{"$f":"_xll.Interp3D($B$18:$B$134,$C$18:$C$134,$D$18:$D$134,E2030,F2030)","v":32.647999999831995}]
[null,null,null,null,3.3000000001000021,0,{"$f":"_xll.Interp3D($B$18:$B$134,$C$18:$C$134,$D$18:$D$134,E2031,F2031)","v":38.416000000676014}]
[null,null,null,null,3.3000000001000021,0.1,{"$f":"_xll.Interp3D($B$18:$B$134,$C$18:$C$134,$D$18:$D$134,E2032,F2032)","v":37.416320000510737}]
[null,null,null,null,3.3000000001000021,0.2,{"$f":"_xll.Interp3D($B$18:$B$134,$C$18:$C$134,$D$18:$D$134,E2033,F2033)","v":36.505280000346893}]
[null,null,null,null,3.3000000001000021,0.3,{"$f":"_xll.Interp3D($B$18:$B$134,$C$18:$C$134,$D$18:$D$134,E2034,F2034)","v":35.682880000184483}]
[null,null,null,null,3.3000000001000021,0.4,{"$f":"_xll.Interp3D($B$18:$B$134,$C$18:$C$134,$D$18:$D$134,E2035,F2035)","v":34.949120000023527}]
[null,null,null,null,3.3000000001000021,0.5,{"$f":"_xll.Interp3D($B$18:$B$134,$C$18:$C$134,$D$18:$D$134,E2036,F2036)","v":34.303999999863997}]
[null,null,null,null,3.3000000001000021,0.6,{"$f":"_xll.Interp3D($B$18:$B$134,$C$18:$C$134,$D$18:$D$134,E2037,F2037)","v":33.73791999968288}]
[null,null,null,null,3.3000000001000021,0.7,{"$f":"_xll.Interp3D($B$18:$B$134,$C$18:$C$134,$D$18:$D$134,E2038,F2038)","v":33.250879999480148}]
[null,null,null,null,3.3000000001000021,0.8,{"$f":"_xll.Interp3D($B$18:$B$134,$C$18:$C$134,$D$18:$D$134,E2039,F2039)","v":32.857279999290391}]
[null,null,null,null,3.3000000001000021,0.9,{"$f":"_xll.Interp3D($B$18:$B$134,$C$18:$C$134,$D$18:$D$134,E2040,F2040)","v":32.571519999148144}]
[null,null,null,null,3.3000000001000021,1,{"$f":"_xll.Interp3D($B$18:$B$134,$C$18:$C$134,$D$18:$D$134,E2041,F2041)","v":32.407999999087977}]
[null,null,null,null,3.3000000001000021,1.1000000000000001,{"$f":"_xll.Interp3D($B$18:$B$134,$C$18:$C$134,$D$18:$D$134,E2042,F2042)","v":32.31577599915336}]
[null,null,null,null,3.3000000001000021,1.2,{"$f":"_xll.Interp3D($B$18:$B$134,$C$18:$C$134,$D$18:$D$134,E2043,F2043)","v":32.285247999321228}]
[null,null,null,null,3.3000000001000021,1.3,{"$f":"_xll.Interp3D($B$18:$B$134,$C$18:$C$134,$D$18:$D$134,E2044,F2044)","v":32.392831999526422}]
[null,null,null,null,3.3000000001000021,1.4,{"$f":"_xll.Interp3D($B$18:$B$134,$C$18:$C$134,$D$18:$D$134,E2045,F2045)","v":32.714943999703742}]
[null,null,null,null,3.3000000001000021,1.5,{"$f":"_xll.Interp3D($B$18:$B$134,$C$18:$C$134,$D$18:$D$134,E2046,F2046)","v":33.327999999787991}]
[null,null,null,null,3.3000000001000021,1.6,{"$f":"_xll.Interp3D($B$18:$B$134,$C$18:$C$134,$D$18:$D$134,E2047,F2047)","v":34.438591999740339}]
[null,null,null,null,3.3000000001000021,1.7,{"$f":"_xll.Interp3D($B$18:$B$134,$C$18:$C$134,$D$18:$D$134,E2048,F2048)","v":35.995775999604255}]
[null,null,null,null,3.3000000001000021,1.8,{"$f":"_xll.Interp3D($B$18:$B$134,$C$18:$C$134,$D$18:$D$134,E2049,F2049)","v":37.689663999437968}]
[null,null,null,null,3.3000000001000021,1.9,{"$f":"_xll.Interp3D($B$18:$B$134,$C$18:$C$134,$D$18:$D$134,E2050,F2050)","v":39.210367999299791}]
[null,null,null,null,3.3000000001000021,2,{"$f":"_xll.Interp3D($B$18:$B$134,$C$18:$C$134,$D$18:$D$134,E2051,F2051)","v":40.24799999924798}]
[null,null,null,null,3.3000000001000021,2.1,{"$f":"_xll.Interp3D($B$18:$B$134,$C$18:$C$134,$D$18:$D$134,E2052,F2052)","v":40.65779199931346}]
[null,null,null,null,3.3000000001000021,2.2000000000000002,{"$f":"_xll.Interp3D($B$18:$B$134,$C$18:$C$134,$D$18:$D$134,E2053,F2053)","v":40.646335999457364}]
[null,null,null,null,3.3000000001000021,2.2999999999999998,{"$f":"_xll.Interp3D($B$18:$B$134,$C$18:$C$134,$D$18:$D$134,E2054,F2054)","v":40.430783999633334}]
[null,null,null,null,3.3000000001000021,2.4,{"$f":"_xll.Interp3D($B$18:$B$134,$C$18:$C$134,$D$18:$D$134,E2055,F2055)","v":40.228287999795008}]
[null,null,null,null,3.3000000001000021,2.5,{"$f":"_xll.Interp3D($B$18:$B$134,$C$18:$C$134,$D$18:$D$134,E2056,F2056)","v":40.255999999895998}]
[null,null,null,null,3.3000000001000021,2.6,{"$f":"_xll.Interp3D($B$18:$B$134,$C$18:$C$134,$D$18:$D$134,E2057,F2057)","v":40.576895999916097}]
[null,null,null,null,3.3000000001000021,2.7,{"$f":"_xll.Interp3D($B$18:$B$134,$C$18:$C$134,$D$18:$D$134,E2058,F2058)","v":41.0462079998862}]
[null,null,null,null,3.3000000001000021,2.8,{"$f":"_xll.Interp3D($B$18:$B$134,$C$18:$C$134,$D$18:$D$134,E2059,F2059)","v":41.569471999836665}]
[null,null,null,null,3.3000000001000021,2.9,{"$f":"_xll.Interp3D($B$18:$B$134,$C$18:$C$134,$D$18:$D$134,E2060,F2060)","v":42.052223999797832}]
[null,null,null,null,3.3000000001000021,3,{"$f":"_xll.Interp3D($B$18:$B$134,$C$18:$C$134,$D$18:$D$134,E2061,F2061)","v":42.399999999799995}]
[null,null,null,null,3.3000000001000021,3.1,{"$f":"_xll.Interp3D($B$18:$B$134,$C$18:$C$134,$D$18:$D$134,E2062,F2062)","v":42.616255999861693}]
[null,null,null,null,3.3000000001000021,3.2,{"$f":"_xll.Interp3D($B$18:$B$134,$C$18:$C$134,$D$18:$D$134,E2063,F2063)","v":42.763967999962688}]
[null,null,null,null,{"$f":"E2003+0.1","v":3.3000000001000021},{"$f":"F2003","v":3.3},{"$f":"_xll.Interp3D($B$18:$B$134,$C$18:$C$134,$D$18:$D$134,E2064,F2064)","v":42.837952000075234}]
[null,null,null,null,3.3000000001000021,3.4,{"$f":"_xll.Interp3D($B$18:$B$134,$C$18:$C$134,$D$18:$D$134,E2065,F2065)","v":42.833024000171598}]
[null,null,null,null,3.3000000001000021,3.5,{"$f":"_xll.Interp3D($B$18:$B$134,$C$18:$C$134,$D$18:$D$134,E2066,F2066)","v":42.744000000224005}]
[null,null,null,null,3.3000000001000021,3.6,{"$f":"_xll.Interp3D($B$18:$B$134,$C$18:$C$134,$D$18:$D$134,E2067,F2067)","v":42.530304000227751}]
[null,null,null,null,3.3000000001000021,3.7,{"$f":"_xll.Interp3D($B$18:$B$134,$C$18:$C$134,$D$18:$D$134,E2068,F2068)","v":42.195392000201323}]
[null,null,null,null,3.3000000001000021,3.8,{"$f":"_xll.Interp3D($B$18:$B$134,$C$18:$C$134,$D$18:$D$134,E2069,F2069)","v":41.800128000151808}]
[null,null,null,null,3.3000000001000021,3.9,{"$f":"_xll.Interp3D($B$18:$B$134,$C$18:$C$134,$D$18:$D$134,E2070,F2070)","v":41.405376000086335}]
[null,null,null,null,3.3000000001000021,4,{"$f":"_xll.Interp3D($B$18:$B$134,$C$18:$C$134,$D$18:$D$134,E2071,F2071)","v":41.072000000011997}]
[null,null,null,null,3.3000000001000021,4.0999999999999996,{"$f":"_xll.Interp3D($B$18:$B$134,$C$18:$C$134,$D$18:$D$134,E2072,F2072)","v":40.853759999904156}]
[null,null,null,null,3.3000000001000021,4.2,{"$f":"_xll.Interp3D($B$18:$B$134,$C$18:$C$134,$D$18:$D$134,E2073,F2073)","v":40.710079999758079}]
[null,null,null,null,3.3000000001000021,4.3,{"$f":"_xll.Interp3D($B$18:$B$134,$C$18:$C$134,$D$18:$D$134,E2074,F2074)","v":40.560319999610712}]
[null,null,null,null,3.3000000001000021,4.4000000000000004,{"$f":"_xll.Interp3D($B$18:$B$134,$C$18:$C$134,$D$18:$D$134,E2075,F2075)","v":40.323839999499029}]
[null,null,null,null,3.3000000001000021,4.5,{"$f":"_xll.Interp3D($B$18:$B$134,$C$18:$C$134,$D$18:$D$134,E2076,F2076)","v":39.919999999459989}]
[null,null,null,null,3.3000000001000021,4.5999999999999996,{"$f":"_xll.Interp3D($B$18:$B$134,$C$18:$C$134,$D$18:$D$134,E2077,F2077)","v":39.2583039995327}]
[null,null,null,null,3.3000000001000021,4.7,{"$f":"_xll.Interp3D($B$18:$B$134,$C$18:$C$134,$D$18:$D$134,E2078,F2078)","v":38.392511999692502}]
[null,null,null,null,3.3000000001000021,4.8,{"$f":"_xll.Interp3D($B$18:$B$134,$C$18:$C$134,$D$18:$D$134,E2079,F2079)","v":37.458367999880771}]
[null,null,null,null,3.3000000001000021,4.9000000000000004,{"$f":"_xll.Interp3D($B$18:$B$134,$C$18:$C$134,$D$18:$D$134,E2080,F2080)","v":36.591616000038812}]
[null,null,null,null,3.3000000001000021,5,{"$f":"_xll.Interp3D($B$18:$B$134,$C$18:$C$134,$D$18:$D$134,E2081,F2081)","v":35.928000000108}]
[null,null,null,null,3.3000000001000021,5.0999999999999996,{"$f":"_xll.Interp3D($B$18:$B$134,$C$18:$C$134,$D$18:$D$134,E2082,F2082)","v":35.530240000054086}]
[null,null,null,null,3.3000000001000021,5.2,{"$f":"_xll.Interp3D($B$18:$B$134,$C$18:$C$134,$D$18:$D$134,E2083,F2083)","v":35.307839999916155}]
[null,null,null,null,3.3000000001000021,5.3,{"$f":"_xll.Interp3D($B$18:$B$134,$C$18:$C$134,$D$18:$D$134,E2084,F2084)","v":35.166719999745595}]
[null,null,null,null,3.3000000001000021,5.4,{"$f":"_xll.Interp3D($B$18:$B$134,$C$18:$C$134,$D$18:$D$134,E2085,F2085)","v":35.012799999593753}]
[null,null,null,null,3.3000000001000021,5.5,{"$f":"_xll.Interp3D($B$18:$B$134,$C$18:$C$134,$D$18:$D$134,E2086,F2086)","v":34.751999999511987}]
[null,null,null,null,3.3000000001000021,5.6,{"$f":"_xll.Interp3D($B$18:$B$134,$C$18:$C$134,$D$18:$D$134,E2087,F2087)","v":34.384319999500313}]
[null,null,null,null,3.3000000001000021,5.7,{"$f":"_xll.Interp3D($B$18:$B$134,$C$18:$C$134,$D$18:$D$134,E2088,F2088)","v":33.972479999524474}]
[null,null,null,null,3.3000000001000021,5.8,{"$f":"_xll.Interp3D($B$18:$B$134,$C$18:$C$134,$D$18:$D$134,E2089,F2089)","v":33.516479999584476}]
[null,null,null,null,3.3000000001000021,5.9,{"$f":"_xll.Interp3D($B$18:$B$134,$C$18:$C$134,$D$18:$D$134,E2090,F2090)","v":33.016319999680306}]
[null,null,null,null,3.3000000001000021,6,{"$f":"_xll.Interp3D($B$18:$B$134,$C$18:$C$134,$D$18:$D$134,E2091,F2091)","v":32.471999999811999}]
[null,null,null,null,3.4000000001000021,0,{"$f":"_xll.Interp3D($B$18:$B$134,$C$18:$C$134,$D$18:$D$134,E2092,F2092)","v":38.952000000344007}]
[null,null,null,null,3.4000000001000021,0.1,{"$f":"_xll.Interp3D($B$18:$B$134,$C$18:$C$134,$D$18:$D$134,E2093,F2093)","v":37.819840000254089}]
[null,null,null,null,3.4000000001000021,0.2,{"$f":"_xll.Interp3D($B$18:$B$134,$C$18:$C$134,$D$18:$D$134,E2094,F2094)","v":36.775360000160319}]
[null,null,null,null,3.4000000001000021,0.3,{"$f":"_xll.Interp3D($B$18:$B$134,$C$18:$C$134,$D$18:$D$134,E2095,F2095)","v":35.818560000062725}]
[null,null,null,null,3.4000000001000021,0.4,{"$f":"_xll.Interp3D($B$18:$B$134,$C$18:$C$134,$D$18:$D$134,E2096,F2096)","v":34.949439999961285}]
[null,null,null,null,3.4000000001000021,0.5,{"$f":"_xll.Interp3D($B$18:$B$134,$C$18:$C$134,$D$18:$D$134,E2097,F2097)","v":34.167999999856001}]
[null,null,null,null,3.4000000001000021,0.6,{"$f":"_xll.Interp3D($B$18:$B$134,$C$18:$C$134,$D$18:$D$134,E2098,F2098)","v":33.442879999727033}]
[null,null,null,null,3.4000000001000021,0.7,{"$f":"_xll.Interp3D($B$18:$B$134,$C$18:$C$134,$D$18:$D$134,E2099,F2099)","v":32.77407999957439}]
[null,null,null,null,3.4000000001000021,0.8,{"$f":"_xll.Interp3D($B$18:$B$134,$C$18:$C$134,$D$18:$D$134,E2100,F2100)","v":32.208639999427831}]
[null,null,null,null,3.4000000001000021,0.9,{"$f":"_xll.Interp3D($B$18:$B$134,$C$18:$C$134,$D$18:$D$134,E2101,F2101)","v":31.793599999317113}]
[null,null,null,null,3.4000000001000021,1,{"$f":"_xll.Interp3D($B$18:$B$134,$C$18:$C$134,$D$18:$D$134,E2102,F2102)","v":31.575999999271986}]
[null,null,null,null,3.4000000001000021,1.1000000000000001,{"$f":"_xll.Interp3D($B$18:$B$134,$C$18:$C$134,$D$18:$D$134,E2103,F2103)","v":31.544831999327407}]
[null,null,null,null,3.4000000001000021,1.2,{"$f":"_xll.Interp3D($B$18:$B$134,$C$18:$C$134,$D$18:$D$134,E2104,F2104)","v":31.668735999463539}]
[null,null,null,null,3.4000000001000021,1.3,{"$f":"_xll.Interp3D($B$18:$B$134,$C$18:$C$134,$D$18:$D$134,E2105,F2105)","v":31.964223999627961}]
[null,null,null,null,3.4000000001000021,1.4,{"$f":"_xll.Interp3D($B$18:$B$134,$C$18:$C$134,$D$18:$D$134,E2106,F2106)","v":32.447807999768251}]
[null,null,null,null,3.4000000001000021,1.5,{"$f":"_xll.Interp3D($B$18:$B$134,$C$18:$C$134,$D$18:$D$134,E2107,F2107)","v":33.135999999831995}]
[null,null,null,null,3.4000000001000021,1.6,{"$f":"_xll.Interp3D($B$18:$B$134,$C$18:$C$134,$D$18:$D$134,E2108,F2108)","v":34.198783999786357}]
[null,null,null,null,3.4000000001000021,1.7,{"$f":"_xll.Interp3D($B$18:$B$134,$C$18:$C$134,$D$18:$D$134,E2109,F2109)","v":35.625151999666301}]
[null,null,null,null,3.4000000001000021,1.8,{"$f":"_xll.Interp3D($B$18:$B$134,$C$18:$C$134,$D$18:$D$134,E2110,F2110)","v":37.160127999521045}]
[null,null,null,null,3.4000000001000021,1.9,{"$f":"_xll.Interp3D($B$18:$B$134,$C$18:$C$134,$D$18:$D$134,E2111,F2111)","v":38.548735999399852}]
[null,null,null,null,3.4000000001000021,2,{"$f":"_xll.Interp3D($B$18:$B$134,$C$18:$C$134,$D$18:$D$134,E2112,F2112)","v":39.535999999351986}]
[null,null,null,null,3.4000000001000021,2.1,{"$f":"_xll.Interp3D($B$18:$B$134,$C$18:$C$134,$D$18:$D$134,E2113,F2113)","v":40.006463999403479}]
[null,null,null,null,3.4000000001000021,2.2000000000000002,{"$f":"_xll.Interp3D($B$18:$B$134,$C$18:$C$134,$D$18:$D$134,E2114,F2114)","v":40.130111999521496}]
[null,null,null,null,3.4000000001000021,2.2999999999999998,{"$f":"_xll.Interp3D($B$18:$B$134,$C$18:$C$134,$D$18:$D$134,E2115,F2115)","v":40.080127999666971}]
[null,null,null,null,3.4000000001000021,2.4,{"$f":"_xll.Interp3D($B$18:$B$134,$C$18:$C$134,$D$18:$D$134,E2116,F2116)","v":40.029695999800836}]
[null,null,null,null,3.4000000001000021,2.5,{"$f":"_xll.Interp3D($B$18:$B$134,$C$18:$C$134,$D$18:$D$134,E2117,F2117)","v":40.151999999883998}]
[null,null,null,null,3.4000000001000021,2.6,{"$f":"_xll.Interp3D($B$18:$B$134,$C$18:$C$134,$D$18:$D$134,E2118,F2118)","v":40.491071999899901}]
[null,null,null,null,3.4000000001000021,2.7,{"$f":"_xll.Interp3D($B$18:$B$134,$C$18:$C$134,$D$18:$D$134,E2119,F2119)","v":40.931455999874593}]
[null,null,null,null,3.4000000001000021,2.8,{"$f":"_xll.Interp3D($B$18:$B$134,$C$18:$C$134,$D$18:$D$134,E2120,F2120)","v":41.407103999832934}]
[null,null,null,null,3.4000000001000021,2.9,{"$f":"_xll.Interp3D($B$18:$B$134,$C$18:$C$134,$D$18:$D$134,E2121,F2121)","v":41.851967999799783}]
[null,null,null,null,3.4000000001000021,3,{"$f":"_xll.Interp3D($B$18:$B$134,$C$18:$C$134,$D$18:$D$134,E2122,F2122)","v":42.199999999799999}]
[null,null,null,null,3.4000000001000021,3.1,{"$f":"_xll.Interp3D($B$18:$B$134,$C$18:$C$134,$D$18:$D$134,E2123,F2123)","v":42.47155199984838}]
[null,null,null,null,3.4000000001000021,3.2,{"$f":"_xll.Interp3D($B$18:$B$134,$C$18:$C$134,$D$18:$D$134,E2124,F2124)","v":42.710655999928356}]
[null,null,null,null,3.4000000001000021,3.3,{"$f":"_xll.Interp3D($B$18:$B$134,$C$18:$C$134,$D$18:$D$134,E2125,F2125)","v":42.886784000017734}]
[null,null,null,null,3.4000000001000021,3.4,{"$f":"_xll.Interp3D($B$18:$B$134,$C$18:$C$134,$D$18:$D$134,E2126,F2126)","v":42.969408000094347}]
[null,null,null,null,3.4000000001000021,3.5,{"$f":"_xll.Interp3D($B$18:$B$134,$C$18:$C$134,$D$18:$D$134,E2127,F2127)","v":42.928000000135995}]
[null,null,null,null,{"$f":"E2067+0.1","v":3.4000000001000021},{"$f":"F2067","v":3.6},{"$f":"_xll.Interp3D($B$18:$B$134,$C$18:$C$134,$D$18:$D$134,E2128,F2128)","v":42.717888000139155}]
[null,null,null,null,3.4000000001000021,3.7,{"$f":"_xll.Interp3D($B$18:$B$134,$C$18:$C$134,$D$18:$D$134,E2129,F2129)","v":42.359424000118537}]
[null,null,null,null,3.4000000001000021,3.8,{"$f":"_xll.Interp3D($B$18:$B$134,$C$18:$C$134,$D$18:$D$134,E2130,F2130)","v":41.919616000079564}]
[null,null,null,null,3.4000000001000021,3.9,{"$f":"_xll.Interp3D($B$18:$B$134,$C$18:$C$134,$D$18:$D$134,E2131,F2131)","v":41.465472000027589}]
[null,null,null,null,3.4000000001000021,4,{"$f":"_xll.Interp3D($B$18:$B$134,$C$18:$C$134,$D$18:$D$134,E2132,F2132)","v":41.063999999968004}]
[null,null,null,null,3.4000000001000021,4.0999999999999996,{"$f":"_xll.Interp3D($B$18:$B$134,$C$18:$C$134,$D$18:$D$134,E2133,F2133)","v":40.745919999880641}]
[null,null,null,null,3.4000000001000021,4.2,{"$f":"_xll.Interp3D($B$18:$B$134,$C$18:$C$134,$D$18:$D$134,E2134,F2134)","v":40.466559999761913}]
[null,null,null,null,3.4000000001000021,4.3,{"$f":"_xll.Interp3D($B$18:$B$134,$C$18:$C$134,$D$18:$D$134,E2135,F2135)","v":40.17983999964207}]
[null,null,null,null,3.4000000001000021,4.4000000000000004,{"$f":"_xll.Interp3D($B$18:$B$134,$C$18:$C$134,$D$18:$D$134,E2136,F2136)","v":39.83967999955135}]
[null,null,null,null,3.4000000001000021,4.5,{"$f":"_xll.Interp3D($B$18:$B$134,$C$18:$C$134,$D$18:$D$134,E2137,F2137)","v":39.399999999519991}]
[null,null,null,null,3.4000000001000021,4.5999999999999996,{"$f":"_xll.Interp3D($B$18:$B$134,$C$18:$C$134,$D$18:$D$134,E2138,F2138)","v":38.806527999579288}]
[null,null,null,null,3.4000000001000021,4.7,{"$f":"_xll.Interp3D($B$18:$B$134,$C$18:$C$134,$D$18:$D$134,E2139,F2139)","v":38.089983999709084}]
[null,null,null,null,3.4000000001000021,4.8,{"$f":"_xll.Interp3D($B$18:$B$134,$C$18:$C$134,$D$18:$D$134,E2140,F2140)","v":37.331775999862437}]
[null,null,null,null,3.4000000001000021,4.9000000000000004,{"$f":"_xll.Interp3D($B$18:$B$134,$C$18:$C$134,$D$18:$D$134,E2141,F2141)","v":36.613311999992384}]
[null,null,null,null,3.4000000001000021,5,{"$f":"_xll.Interp3D($B$18:$B$134,$C$18:$C$134,$D$18:$D$134,E2142,F2142)","v":36.016000000052003}]
[null,null,null,null,3.4000000001000021,5.0999999999999996,{"$f":"_xll.Interp3D($B$18:$B$134,$C$18:$C$134,$D$18:$D$134,E2143,F2143)","v":35.571840000016003}]
[null,null,null,null,3.4000000001000021,5.2,{"$f":"_xll.Interp3D($B$18:$B$134,$C$18:$C$134,$D$18:$D$134,E2144,F2144)","v":35.226559999915679}]
[null,null,null,null,3.4000000001000021,5.3,{"$f":"_xll.Interp3D($B$18:$B$134,$C$18:$C$134,$D$18:$D$134,E2145,F2145)","v":34.932159999788951}]
[null,null,null,null,3.4000000001000021,5.4,{"$f":"_xll.Interp3D($B$18:$B$134,$C$18:$C$134,$D$18:$D$134,E2146,F2146)","v":34.640639999673752}]
[null,null,null,null,3.4000000001000021,5.5,{"$f":"_xll.Interp3D($B$18:$B$134,$C$18:$C$134,$D$18:$D$134,E2147,F2147)","v":34.303999999607996}]
[null,null,null,null,3.4000000001000021,5.6,{"$f":"_xll.Interp3D($B$18:$B$134,$C$18:$C$134,$D$18:$D$134,E2148,F2148)","v":33.922239999591675}]
[null,null,null,null,3.4000000001000021,5.7,{"$f":"_xll.Interp3D($B$18:$B$134,$C$18:$C$134,$D$18:$D$134,E2149,F2149)","v":33.527359999599511}]
[null,null,null,null,3.4000000001000021,5.8,{"$f":"_xll.Interp3D($B$18:$B$134,$C$18:$C$134,$D$18:$D$134,E2150,F2150)","v":33.119359999631513}]
[null,null,null,null,3.4000000001000021,5.9,{"$f":"_xll.Interp3D($B$18:$B$134,$C$18:$C$134,$D$18:$D$134,E2151,F2151)","v":32.698239999687672}]
[null,null,null,null,3.4000000001000021,6,{"$f":"_xll.Interp3D($B$18:$B$134,$C$18:$C$134,$D$18:$D$134,E2152,F2152)","v":32.263999999768004}]
[null,null,null,null,3.5000000001000022,0,{"$f":"_xll.Interp3D($B$18:$B$134,$C$18:$C$134,$D$18:$D$134,E2153,F2153)","v":38.999999999699995}]
[null,null,null,null,3.5000000001000022,0.1,{"$f":"_xll.Interp3D($B$18:$B$134,$C$18:$C$134,$D$18:$D$134,E2154,F2154)","v":37.839999999743995}]
[null,null,null,null,3.5000000001000022,0.2,{"$f":"_xll.Interp3D($B$18:$B$134,$C$18:$C$134,$D$18:$D$134,E2155,F2155)","v":36.759999999775999}]
[null,null,null,null,3.5000000001000022,0.3,{"$f":"_xll.Interp3D($B$18:$B$134,$C$18:$C$134,$D$18:$D$134,E2156,F2156)","v":35.759999999796001}]
[null,null,null,null,3.5000000001000022,0.4,{"$f":"_xll.Interp3D($B$18:$B$134,$C$18:$C$134,$D$18:$D$134,E2157,F2157)","v":34.839999999804}]
[null,null,null,null,3.5000000001000022,0.5,{"$f":"_xll.Interp3D($B$18:$B$134,$C$18:$C$134,$D$18:$D$134,E2158,F2158)","v":33.999999999799996}]
[null,null,null,null,3.5000000001000022,0.6,{"$f":"_xll.Interp3D($B$18:$B$134,$C$18:$C$134,$D$18:$D$134,E2159,F2159)","v":33.191999999771198}]
[null,null,null,null,3.5000000001000022,0.7,{"$f":"_xll.Interp3D($B$18:$B$134,$C$18:$C$134,$D$18:$D$134,E2160,F2160)","v":32.415999999717585}]
[null,null,null,null,3.5000000001000022,0.8,{"$f":"_xll.Interp3D($B$18:$B$134,$C$18:$C$134,$D$18:$D$134,E2161,F2161)","v":31.743999999658396}]
[null,null,null,null,3.5000000001000022,0.9,{"$f":"_xll.Interp3D($B$18:$B$134,$C$18:$C$134,$D$18:$D$134,E2162,F2162)","v":31.247999999612794}]
[null,null,null,null,3.5000000001000022,1,{"$f":"_xll.Interp3D($B$18:$B$134,$C$18:$C$134,$D$18:$D$134,E2163,F2163)","v":30.999999999599993}]
[null,null,null,null,3.5000000001000022,1.1000000000000001,{"$f":"_xll.Interp3D($B$18:$B$134,$C$18:$C$134,$D$18:$D$134,E2164,F2164)","v":31.015999999637593}]
[null,null,null,null,3.5000000001000022,1.2,{"$f":"_xll.Interp3D($B$18:$B$134,$C$18:$C$134,$D$18:$D$134,E2165,F2165)","v":31.247999999712793}]
[null,null,null,null,3.5000000001000022,1.3,{"$f":"_xll.Interp3D($B$18:$B$134,$C$18:$C$134,$D$18:$D$134,E2166,F2166)","v":31.671999999799201}]
[null,null,null,null,3.5000000001000022,1.4,{"$f":"_xll.Interp3D($B$18:$B$134,$C$18:$C$134,$D$18:$D$134,E2167,F2167)","v":32.2639999998704}]
[null,null,null,null,3.5000000001000022,1.5,{"$f":"_xll.Interp3D($B$18:$B$134,$C$18:$C$134,$D$18:$D$134,E2168,F2168)","v":32.999999999899998}]
[null,null,null,null,3.5000000001000022,1.6,{"$f":"_xll.Interp3D($B$18:$B$134,$C$18:$C$134,$D$18:$D$134,E2169,F2169)","v":34.023999999870398}]
[null,null,null,null,3.5000000001000022,1.7,{"$f":"_xll.Interp3D($B$18:$B$134,$C$18:$C$134,$D$18:$D$134,E2170,F2170)","v":35.351999999799197}]
[null,null,null,null,3.5000000001000022,1.8,{"$f":"_xll.Interp3D($B$18:$B$134,$C$18:$C$134,$D$18:$D$134,E2171,F2171)","v":36.767999999712799}]
[null,null,null,null,3.5000000001000022,1.9,{"$f":"_xll.Interp3D($B$18:$B$134,$C$18:$C$134,$D$18:$D$134,E2172,F2172)","v":38.055999999637592}]
[null,null,null,null,3.5000000001000022,2,{"$f":"_xll.Interp3D($B$18:$B$134,$C$18:$C$134,$D$18:$D$134,E2173,F2173)","v":38.999999999599993}]
[null,null,null,null,3.5000000001000022,2.1,{"$f":"_xll.Interp3D($B$18:$B$134,$C$18:$C$134,$D$18:$D$134,E2174,F2174)","v":39.503999999611196}]
[null,null,null,null,3.5000000001000022,2.2000000000000002,{"$f":"_xll.Interp3D($B$18:$B$134,$C$18:$C$134,$D$18:$D$134,E2175,F2175)","v":39.7119999996536}]
[null,null,null,null,3.5000000001000022,2.2999999999999998,{"$f":"_xll.Interp3D($B$18:$B$134,$C$18:$C$134,$D$18:$D$134,E2176,F2176)","v":39.767999999710398}]
[null,null,null,null,3.5000000001000022,2.4,{"$f":"_xll.Interp3D($B$18:$B$134,$C$18:$C$134,$D$18:$D$134,E2177,F2177)","v":39.815999999764799}]
[null,null,null,null,3.5000000001000022,2.5,{"$f":"_xll.Interp3D($B$18:$B$134,$C$18:$C$134,$D$18:$D$134,E2178,F2178)","v":39.999999999799996}]
[null,null,null,null,3.5000000001000022,2.6,{"$f":"_xll.Interp3D($B$18:$B$134,$C$18:$C$134,$D$18:$D$134,E2179,F2179)","v":40.3519999998096}]
[null,null,null,null,3.5000000001000022,2.7,{"$f":"_xll.Interp3D($B$18:$B$134,$C$18:$C$134,$D$18:$D$134,E2180,F2180)","v":40.775999999804796}]
[null,null,null,null,3.5000000001000022,2.8,{"$f":"_xll.Interp3D($B$18:$B$134,$C$18:$C$134,$D$18:$D$134,E2181,F2181)","v":41.223999999795197}]
[null,null,null,null,3.5000000001000022,2.9,{"$f":"_xll.Interp3D($B$18:$B$134,$C$18:$C$134,$D$18:$D$134,E2182,F2182)","v":41.6479999997904}]
[null,null,null,null,3.5000000001000022,3,{"$f":"_xll.Interp3D($B$18:$B$134,$C$18:$C$134,$D$18:$D$134,E2183,F2183)","v":41.999999999799996}]
[null,null,null,null,3.5000000001000022,3.1,{"$f":"_xll.Interp3D($B$18:$B$134,$C$18:$C$134,$D$18:$D$134,E2184,F2184)","v":42.311999999831997}]
[null,null,null,null,3.5000000001000022,3.2,{"$f":"_xll.Interp3D($B$18:$B$134,$C$18:$C$134,$D$18:$D$134,E2185,F2185)","v":42.615999999879996}]
[null,null,null,null,3.5000000001000022,3.3,{"$f":"_xll.Interp3D($B$18:$B$134,$C$18:$C$134,$D$18:$D$134,E2186,F2186)","v":42.863999999932005}]
[null,null,null,null,3.5000000001000022,3.4,{"$f":"_xll.Interp3D($B$18:$B$134,$C$18:$C$134,$D$18:$D$134,E2187,F2187)","v":43.007999999976008}]
[null,null,null,null,3.5000000001000022,3.5,{"$f":"_xll.Interp3D($B$18:$B$134,$C$18:$C$134,$D$18:$D$134,E2188,F2188)","v":43}]
[null,null,null,null,3.5000000001000022,3.6,{"$f":"_xll.Interp3D($B$18:$B$134,$C$18:$C$134,$D$18:$D$134,E2189,F2189)","v":42.792000000000812}]
[null,null,null,null,3.5000000001000022,3.7,{"$f":"_xll.Interp3D($B$18:$B$134,$C$18:$C$134,$D$18:$D$134,E2190,F2190)","v":42.415999999986404}]
[null,null,null,null,3.5000000001000022,3.8,{"$f":"_xll.Interp3D($B$18:$B$134,$C$18:$C$134,$D$18:$D$134,E2191,F2191)","v":41.943999999961605}]
[null,null,null,null,{"$f":"E2131+0.1","v":3.5000000001000022},{"$f":"F2131","v":3.9},{"$f":"_xll.Interp3D($B$18:$B$134,$C$18:$C$134,$D$18:$D$134,E2192,F2192)","v":41.447999999931199}]
[null,null,null,null,3.5000000001000022,4,{"$f":"_xll.Interp3D($B$18:$B$134,$C$18:$C$134,$D$18:$D$134,E2193,F2193)","v":40.999999999899998}]
[null,null,null,null,3.5000000001000022,4.0999999999999996,{"$f":"_xll.Interp3D($B$18:$B$134,$C$18:$C$134,$D$18:$D$134,E2194,F2194)","v":40.615999999859994}]
[null,null,null,null,3.5000000001000022,4.2,{"$f":"_xll.Interp3D($B$18:$B$134,$C$18:$C$134,$D$18:$D$134,E2195,F2195)","v":40.247999999808002}]
[null,null,null,null,3.5000000001000022,4.3,{"$f":"_xll.Interp3D($B$18:$B$134,$C$18:$C$134,$D$18:$D$134,E2196,F2196)","v":39.871999999756}]
[null,null,null,null,3.5000000001000022,4.4000000000000004,{"$f":"_xll.Interp3D($B$18:$B$134,$C$18:$C$134,$D$18:$D$134,E2197,F2197)","v":39.463999999715995}]
[null,null,null,null,3.5000000001000022,4.5,{"$f":"_xll.Interp3D($B$18:$B$134,$C$18:$C$134,$D$18:$D$134,E2198,F2198)","v":38.999999999699995}]
[null,null,null,null,3.5000000001000022,4.5999999999999996,{"$f":"_xll.Interp3D($B$18:$B$134,$C$18:$C$134,$D$18:$D$134,E2199,F2199)","v":38.447999999719201}]
[null,null,null,null,3.5000000001000022,4.7,{"$f":"_xll.Interp3D($B$18:$B$134,$C$18:$C$134,$D$18:$D$134,E2200,F2200)","v":37.82399999976559}]
[null,null,null,null,3.5000000001000022,4.8,{"$f":"_xll.Interp3D($B$18:$B$134,$C$18:$C$134,$D$18:$D$134,E2201,F2201)","v":37.175999999822395}]
[null,null,null,null,3.5000000001000022,4.9000000000000004,{"$f":"_xll.Interp3D($B$18:$B$134,$C$18:$C$134,$D$18:$D$134,E2202,F2202)","v":36.551999999872791}]
[null,null,null,null,3.5000000001000022,5,{"$f":"_xll.Interp3D($B$18:$B$134,$C$18:$C$134,$D$18:$D$134,E2203,F2203)","v":35.999999999899998}]
[null,null,null,null,3.5000000001000022,5.0999999999999996,{"$f":"_xll.Interp3D($B$18:$B$134,$C$18:$C$134,$D$18:$D$134,E2204,F2204)","v":35.535999999899204}]
[null,null,null,null,3.5000000001000022,5.2,{"$f":"_xll.Interp3D($B$18:$B$134,$C$18:$C$134,$D$18:$D$134,E2205,F2205)","v":35.127999999881595}]
[null,null,null,null,3.5000000001000022,5.3,{"$f":"_xll.Interp3D($B$18:$B$134,$C$18:$C$134,$D$18:$D$134,E2206,F2206)","v":34.751999999854391}]
[null,null,null,null,3.5000000001000022,5.4,{"$f":"_xll.Interp3D($B$18:$B$134,$C$18:$C$134,$D$18:$D$134,E2207,F2207)","v":34.383999999824795}]
[null,null,null,null,3.5000000001000022,5.5,{"$f":"_xll.Interp3D($B$18:$B$134,$C$18:$C$134,$D$18:$D$134,E2208,F2208)","v":33.999999999799996}]
[null,null,null,null,3.5000000001000022,5.6,{"$f":"_xll.Interp3D($B$18:$B$134,$C$18:$C$134,$D$18:$D$134,E2209,F2209)","v":33.599999999779996}]
[null,null,null,null,3.5000000001000022,5.7,{"$f":"_xll.Interp3D($B$18:$B$134,$C$18:$C$134,$D$18:$D$134,E2210,F2210)","v":33.199999999759996}]
[null,null,null,null,3.5000000001000022,5.8,{"$f":"_xll.Interp3D($B$18:$B$134,$C$18:$C$134,$D$18:$D$134,E2211,F2211)","v":32.799999999739995}]
[null,null,null,null,3.5000000001000022,5.9,{"$f":"_xll.Interp3D($B$18:$B$134,$C$18:$C$134,$D$18:$D$134,E2212,F2212)","v":32.399999999719995}]
[null,null,null,null,3.5000000001000022,6,{"$f":"_xll.Interp3D($B$18:$B$134,$C$18:$C$134,$D$18:$D$134,E2213,F2213)","v":31.999999999699995}]
[null,null,null,null,3.6000000001000023,0,{"$f":"_xll.Interp3D($B$18:$B$134,$C$18:$C$134,$D$18:$D$134,E2214,F2214)","v":38.559999999419986}]
[null,null,null,null,3.6000000001000023,0.1,{"$f":"_xll.Interp3D($B$18:$B$134,$C$18:$C$134,$D$18:$D$134,E2215,F2215)","v":37.47679999952959}]
[null,null,null,null,3.6000000001000023,0.2,{"$f":"_xll.Interp3D($B$18:$B$134,$C$18:$C$134,$D$18:$D$134,E2216,F2216)","v":36.459199999622385}]
[null,null,null,null,3.6000000001000023,0.3,{"$f":"_xll.Interp3D($B$18:$B$134,$C$18:$C$134,$D$18:$D$134,E2217,F2217)","v":35.5071999996984}]
[null,null,null,null,3.6000000001000023,0.4,{"$f":"_xll.Interp3D($B$18:$B$134,$C$18:$C$134,$D$18:$D$134,E2218,F2218)","v":34.620799999757594}]
[null,null,null,null,3.6000000001000023,0.5,{"$f":"_xll.Interp3D($B$18:$B$134,$C$18:$C$134,$D$18:$D$134,E2219,F2219)","v":33.799999999799994}]
[null,null,null,null,3.6000000001000023,0.6,{"$f":"_xll.Interp3D($B$18:$B$134,$C$18:$C$134,$D$18:$D$134,E2220,F2220)","v":32.985279999815354}]
[null,null,null,null,3.6000000001000023,0.7,{"$f":"_xll.Interp3D($B$18:$B$134,$C$18:$C$134,$D$18:$D$134,E2221,F2221)","v":32.176639999803669}]
[null,null,null,null,3.6000000001000023,0.8,{"$f":"_xll.Interp3D($B$18:$B$134,$C$18:$C$134,$D$18:$D$134,E2222,F2222)","v":31.463359999780316}]
[null,null,null,null,3.6000000001000023,0.9,{"$f":"_xll.Interp3D($B$18:$B$134,$C$18:$C$134,$D$18:$D$134,E2223,F2223)","v":30.934719999760638}]
[null,null,null,null,3.6000000001000023,1,{"$f":"_xll.Interp3D($B$18:$B$134,$C$18:$C$134,$D$18:$D$134,E2224,F2224)","v":30.679999999759993}]
[null,null,null,null,3.6000000001000023,1.1000000000000001,{"$f":"_xll.Interp3D($B$18:$B$134,$C$18:$C$134,$D$18:$D$134,E2225,F2225)","v":30.729279999788954}]
[null,null,null,null,3.6000000001000023,1.2,{"$f":"_xll.Interp3D($B$18:$B$134,$C$18:$C$134,$D$18:$D$134,E2226,F2226)","v":31.023039999837273}]
[null,null,null,null,3.6000000001000023,1.3,{"$f":"_xll.Interp3D($B$18:$B$134,$C$18:$C$134,$D$18:$D$134,E2227,F2227)","v":31.516159999889119}]
[null,null,null,null,3.6000000001000023,1.4,{"$f":"_xll.Interp3D($B$18:$B$134,$C$18:$C$134,$D$18:$D$134,E2228,F2228)","v":32.163519999928639}]
[null,null,null,null,3.6000000001000023,1.5,{"$f":"_xll.Interp3D($B$18:$B$134,$C$18:$C$134,$D$18:$D$134,E2229,F2229)","v":32.919999999939996}]
[null,null,null,null,3.6000000001000023,1.6,{"$f":"_xll.Interp3D($B$18:$B$134,$C$18:$C$134,$D$18:$D$134,E2230,F2230)","v":33.91423999991008}]
[null,null,null,null,3.6000000001000023,1.7,{"$f":"_xll.Interp3D($B$18:$B$134,$C$18:$C$134,$D$18:$D$134,E2231,F2231)","v":35.17631999984944}]
[null,null,null,null,3.6000000001000023,1.8,{"$f":"_xll.Interp3D($B$18:$B$134,$C$18:$C$134,$D$18:$D$134,E2232,F2232)","v":36.513279999777758}]
[null,null,null,null,3.6000000001000023,1.9,{"$f":"_xll.Interp3D($B$18:$B$134,$C$18:$C$134,$D$18:$D$134,E2233,F2233)","v":37.73215999971471}]
[null,null,null,null,3.6000000001000023,2,{"$f":"_xll.Interp3D($B$18:$B$134,$C$18:$C$134,$D$18:$D$134,E2234,F2234)","v":38.639999999679993}]
[null,null,null,null,3.6000000001000023,2.1,{"$f":"_xll.Interp3D($B$18:$B$134,$C$18:$C$134,$D$18:$D$134,E2235,F2235)","v":39.150399999681603}]
[null,null,null,null,3.6000000001000023,2.2000000000000002,{"$f":"_xll.Interp3D($B$18:$B$134,$C$18:$C$134,$D$18:$D$134,E2236,F2236)","v":39.3919999997064}]
[null,null,null,null,3.6000000001000023,2.2999999999999998,{"$f":"_xll.Interp3D($B$18:$B$134,$C$18:$C$134,$D$18:$D$134,E2237,F2237)","v":39.494399999742392}]
[null,null,null,null,3.6000000001000023,2.4,{"$f":"_xll.Interp3D($B$18:$B$134,$C$18:$C$134,$D$18:$D$134,E2238,F2238)","v":39.587199999777596}]
[null,null,null,null,3.6000000001000023,2.5,{"$f":"_xll.Interp3D($B$18:$B$134,$C$18:$C$134,$D$18:$D$134,E2239,F2239)","v":39.799999999799994}]
[null,null,null,null,3.6000000001000023,2.6,{"$f":"_xll.Interp3D($B$18:$B$134,$C$18:$C$134,$D$18:$D$134,E2240,F2240)","v":40.159679999805761}]
[null,null,null,null,3.6000000001000023,2.7,{"$f":"_xll.Interp3D($B$18:$B$134,$C$18:$C$134,$D$18:$D$134,E2241,F2241)","v":40.579839999802886}]
[null,null,null,null,3.6000000001000023,2.8,{"$f":"_xll.Interp3D($B$18:$B$134,$C$18:$C$134,$D$18:$D$134,E2242,F2242)","v":41.020159999797116}]
[null,null,null,null,3.6000000001000023,2.9,{"$f":"_xll.Interp3D($B$18:$B$134,$C$18:$C$134,$D$18:$D$134,E2243,F2243)","v":41.440319999794241}]
[null,null,null,null,3.6000000001000023,3,{"$f":"_xll.Interp3D($B$18:$B$134,$C$18:$C$134,$D$18:$D$134,E2244,F2244)","v":41.799999999799994}]
[null,null,null,null,3.6000000001000023,3.1,{"$f":"_xll.Interp3D($B$18:$B$134,$C$18:$C$134,$D$18:$D$134,E2245,F2245)","v":42.137599999819187}]
[null,null,null,null,3.6000000001000023,3.2,{"$f":"_xll.Interp3D($B$18:$B$134,$C$18:$C$134,$D$18:$D$134,E2246,F2246)","v":42.47999999984799}]
[null,null,null,null,3.6000000001000023,3.3,{"$f":"_xll.Interp3D($B$18:$B$134,$C$18:$C$134,$D$18:$D$134,E2247,F2247)","v":42.769599999879205}]
[null,null,null,null,3.6000000001000023,3.4,{"$f":"_xll.Interp3D($B$18:$B$134,$C$18:$C$134,$D$18:$D$134,E2248,F2248)","v":42.948799999905603}]
[null,null,null,null,3.6000000001000023,3.5,{"$f":"_xll.Interp3D($B$18:$B$134,$C$18:$C$134,$D$18:$D$134,E2249,F2249)","v":42.959999999920001}]
[null,null,null,null,3.6000000001000023,3.6,{"$f":"_xll.Interp3D($B$18:$B$134,$C$18:$C$134,$D$18:$D$134,E2250,F2250)","v":42.75263999992049}]
[null,null,null,null,3.6000000001000023,3.7,{"$f":"_xll.Interp3D($B$18:$B$134,$C$18:$C$134,$D$18:$D$134,E2251,F2251)","v":42.36511999991184}]
[null,null,null,null,3.6000000001000023,3.8,{"$f":"_xll.Interp3D($B$18:$B$134,$C$18:$C$134,$D$18:$D$134,E2252,F2252)","v":41.873279999896958}]
[null,null,null,null,3.6000000001000023,3.9,{"$f":"_xll.Interp3D($B$18:$B$134,$C$18:$C$134,$D$18:$D$134,E2253,F2253)","v":41.352959999878721}]
[null,null,null,null,3.6000000001000023,4,{"$f":"_xll.Interp3D($B$18:$B$134,$C$18:$C$134,$D$18:$D$134,E2254,F2254)","v":40.87999999985999}]
[null,null,null,null,3.6000000001000023,4.0999999999999996,{"$f":"_xll.Interp3D($B$18:$B$134,$C$18:$C$134,$D$18:$D$134,E2255,F2255)","v":40.463999999835991}]
[null,null,null,null,{"$f":"E2195+0.1","v":3.6000000001000023},{"$f":"F2195","v":4.2},{"$f":"_xll.Interp3D($B$18:$B$134,$C$18:$C$134,$D$18:$D$134,E2256,F2256)","v":40.054399999804801}]
[null,null,null,null,3.6000000001000023,4.3,{"$f":"_xll.Interp3D($B$18:$B$134,$C$18:$C$134,$D$18:$D$134,E2257,F2257)","v":39.636799999773594}]
[null,null,null,null,3.6000000001000023,4.4000000000000004,{"$f":"_xll.Interp3D($B$18:$B$134,$C$18:$C$134,$D$18:$D$134,E2258,F2258)","v":39.196799999749594}]
[null,null,null,null,3.6000000001000023,4.5,{"$f":"_xll.Interp3D($B$18:$B$134,$C$18:$C$134,$D$18:$D$134,E2259,F2259)","v":38.71999999973999}]
[null,null,null,null,3.6000000001000023,4.5999999999999996,{"$f":"_xll.Interp3D($B$18:$B$134,$C$18:$C$134,$D$18:$D$134,E2260,F2260)","v":38.182719999750248}]
[null,null,null,null,3.6000000001000023,4.7,{"$f":"_xll.Interp3D($B$18:$B$134,$C$18:$C$134,$D$18:$D$134,E2261,F2261)","v":37.594559999775512}]
[null,null,null,null,3.6000000001000023,4.8,{"$f":"_xll.Interp3D($B$18:$B$134,$C$18:$C$134,$D$18:$D$134,E2262,F2262)","v":36.991039999807683}]
[null,null,null,null,3.6000000001000023,4.9000000000000004,{"$f":"_xll.Interp3D($B$18:$B$134,$C$18:$C$134,$D$18:$D$134,E2263,F2263)","v":36.40767999983855}]
[null,null,null,null,3.6000000001000023,5,{"$f":"_xll.Interp3D($B$18:$B$134,$C$18:$C$134,$D$18:$D$134,E2264,F2264)","v":35.879999999859997}]
[null,null,null,null,3.6000000001000023,5.0999999999999996,{"$f":"_xll.Interp3D($B$18:$B$134,$C$18:$C$134,$D$18:$D$134,E2265,F2265)","v":35.422719999874239}]
[null,null,null,null,3.6000000001000023,5.2,{"$f":"_xll.Interp3D($B$18:$B$134,$C$18:$C$134,$D$18:$D$134,E2266,F2266)","v":35.01215999988672}]
[null,null,null,null,3.6000000001000023,5.3,{"$f":"_xll.Interp3D($B$18:$B$134,$C$18:$C$134,$D$18:$D$134,E2267,F2267)","v":34.626239999894068}]
[null,null,null,null,3.6000000001000023,5.4,{"$f":"_xll.Interp3D($B$18:$B$134,$C$18:$C$134,$D$18:$D$134,E2268,F2268)","v":34.242879999892956}]
[null,null,null,null,3.6000000001000023,5.5,{"$f":"_xll.Interp3D($B$18:$B$134,$C$18:$C$134,$D$18:$D$134,E2269,F2269)","v":33.83999999988}]
[null,null,null,null,3.6000000001000023,5.6,{"$f":"_xll.Interp3D($B$18:$B$134,$C$18:$C$134,$D$18:$D$134,E2270,F2270)","v":33.417599999855199}]
[null,null,null,null,3.6000000001000023,5.7,{"$f":"_xll.Interp3D($B$18:$B$134,$C$18:$C$134,$D$18:$D$134,E2271,F2271)","v":32.990399999820802}]
[null,null,null,null,3.6000000001000023,5.8,{"$f":"_xll.Interp3D($B$18:$B$134,$C$18:$C$134,$D$18:$D$134,E2272,F2272)","v":32.558399999776796}]
[null,null,null,null,3.6000000001000023,5.9,{"$f":"_xll.Interp3D($B$18:$B$134,$C$18:$C$134,$D$18:$D$134,E2273,F2273)","v":32.121599999723188}]
[null,null,null,null,3.6000000001000023,6,{"$f":"_xll.Interp3D($B$18:$B$134,$C$18:$C$134,$D$18:$D$134,E2274,F2274)","v":31.679999999659991}]
[null,null,null,null,3.7000000001000024,0,{"$f":"_xll.Interp3D($B$18:$B$134,$C$18:$C$134,$D$18:$D$134,E2275,F2275)","v":37.839999999139977}]
[null,null,null,null,3.7000000001000024,0.1,{"$f":"_xll.Interp3D($B$18:$B$134,$C$18:$C$134,$D$18:$D$134,E2276,F2276)","v":36.899199999315186}]
[null,null,null,null,3.7000000001000024,0.2,{"$f":"_xll.Interp3D($B$18:$B$134,$C$18:$C$134,$D$18:$D$134,E2277,F2277)","v":36.004799999468787}]
[null,null,null,null,3.7000000001000024,0.3,{"$f":"_xll.Interp3D($B$18:$B$134,$C$18:$C$134,$D$18:$D$134,E2278,F2278)","v":35.156799999600793}]
[null,null,null,null,3.7000000001000024,0.4,{"$f":"_xll.Interp3D($B$18:$B$134,$C$18:$C$134,$D$18:$D$134,E2279,F2279)","v":34.355199999711196}]
[null,null,null,null,3.7000000001000024,0.5,{"$f":"_xll.Interp3D($B$18:$B$134,$C$18:$C$134,$D$18:$D$134,E2280,F2280)","v":33.599999999799998}]
[null,null,null,null,3.7000000001000024,0.6,{"$f":"_xll.Interp3D($B$18:$B$134,$C$18:$C$134,$D$18:$D$134,E2281,F2281)","v":32.822719999859522}]
[null,null,null,null,3.7000000001000024,0.7,{"$f":"_xll.Interp3D($B$18:$B$134,$C$18:$C$134,$D$18:$D$134,E2282,F2282)","v":32.023359999889749}]
[null,null,null,null,3.7000000001000024,0.8,{"$f":"_xll.Interp3D($B$18:$B$134,$C$18:$C$134,$D$18:$D$134,E2283,F2283)","v":31.304639999902243}]
[null,null,null,null,3.7000000001000024,0.9,{"$f":"_xll.Interp3D($B$18:$B$134,$C$18:$C$134,$D$18:$D$134,E2284,F2284)","v":30.769279999908484}]
[null,null,null,null,3.7000000001000024,1,{"$f":"_xll.Interp3D($B$18:$B$134,$C$18:$C$134,$D$18:$D$134,E2285,F2285)","v":30.51999999992}]
[null,null,null,null,3.7000000001000024,1.1000000000000001,{"$f":"_xll.Interp3D($B$18:$B$134,$C$18:$C$134,$D$18:$D$134,E2286,F2286)","v":30.593919999940319}]
[null,null,null,null,3.7000000001000024,1.2,{"$f":"_xll.Interp3D($B$18:$B$134,$C$18:$C$134,$D$18:$D$134,E2287,F2287)","v":30.922559999961756}]
[null,null,null,null,3.7000000001000024,1.3,{"$f":"_xll.Interp3D($B$18:$B$134,$C$18:$C$134,$D$18:$D$134,E2288,F2288)","v":31.450239999979047}]
[null,null,null,null,3.7000000001000024,1.4,{"$f":"_xll.Interp3D($B$18:$B$134,$C$18:$C$134,$D$18:$D$134,E2289,F2289)","v":32.121279999986882}]
[null,null,null,null,3.7000000001000024,1.5,{"$f":"_xll.Interp3D($B$18:$B$134,$C$18:$C$134,$D$18:$D$134,E2290,F2290)","v":32.879999999980001}]
[null,null,null,null,3.7000000001000024,1.6,{"$f":"_xll.Interp3D($B$18:$B$134,$C$18:$C$134,$D$18:$D$134,E2291,F2291)","v":33.84415999994976}]
[null,null,null,null,3.7000000001000024,1.7,{"$f":"_xll.Interp3D($B$18:$B$134,$C$18:$C$134,$D$18:$D$134,E2292,F2292)","v":35.050879999899678}]
[null,null,null,null,3.7000000001000024,1.8,{"$f":"_xll.Interp3D($B$18:$B$134,$C$18:$C$134,$D$18:$D$134,E2293,F2293)","v":36.323519999842716}]
[null,null,null,null,3.7000000001000024,1.9,{"$f":"_xll.Interp3D($B$18:$B$134,$C$18:$C$134,$D$18:$D$134,E2294,F2294)","v":37.485439999791829}]
[null,null,null,null,3.7000000001000024,2,{"$f":"_xll.Interp3D($B$18:$B$134,$C$18:$C$134,$D$18:$D$134,E2295,F2295)","v":38.359999999759999}]
[null,null,null,null,3.7000000001000024,2.1,{"$f":"_xll.Interp3D($B$18:$B$134,$C$18:$C$134,$D$18:$D$134,E2296,F2296)","v":38.867199999752003}]
[null,null,null,null,3.7000000001000024,2.2000000000000002,{"$f":"_xll.Interp3D($B$18:$B$134,$C$18:$C$134,$D$18:$D$134,E2297,F2297)","v":39.124799999759198}]
[null,null,null,null,3.7000000001000024,2.2999999999999998,{"$f":"_xll.Interp3D($B$18:$B$134,$C$18:$C$134,$D$18:$D$134,E2298,F2298)","v":39.252799999774403}]
[null,null,null,null,3.7000000001000024,2.4,{"$f":"_xll.Interp3D($B$18:$B$134,$C$18:$C$134,$D$18:$D$134,E2299,F2299)","v":39.371199999790392}]
[null,null,null,null,3.7000000001000024,2.5,{"$f":"_xll.Interp3D($B$18:$B$134,$C$18:$C$134,$D$18:$D$134,E2300,F2300)","v":39.599999999799998}]
[null,null,null,null,3.7000000001000024,2.6,{"$f":"_xll.Interp3D($B$18:$B$134,$C$18:$C$134,$D$18:$D$134,E2301,F2301)","v":39.963519999801917}]
[null,null,null,null,3.7000000001000024,2.7,{"$f":"_xll.Interp3D($B$18:$B$134,$C$18:$C$134,$D$18:$D$134,E2302,F2302)","v":40.381759999800963}]
[null,null,null,null,3.7000000001000024,2.8,{"$f":"_xll.Interp3D($B$18:$B$134,$C$18:$C$134,$D$18:$D$134,E2303,F2303)","v":40.81823999979904}]
[null,null,null,null,3.7000000001000024,2.9,{"$f":"_xll.Interp3D($B$18:$B$134,$C$18:$C$134,$D$18:$D$134,E2304,F2304)","v":41.236479999798078}]
[null,null,null,null,3.7000000001000024,3,{"$f":"_xll.Interp3D($B$18:$B$134,$C$18:$C$134,$D$18:$D$134,E2305,F2305)","v":41.599999999799998}]
[null,null,null,null,3.7000000001000024,3.1,{"$f":"_xll.Interp3D($B$18:$B$134,$C$18:$C$134,$D$18:$D$134,E2306,F2306)","v":41.950399999806393}]
[null,null,null,null,3.7000000001000024,3.2,{"$f":"_xll.Interp3D($B$18:$B$134,$C$18:$C$134,$D$18:$D$134,E2307,F2307)","v":42.311999999815995}]
[null,null,null,null,3.7000000001000024,3.3,{"$f":"_xll.Interp3D($B$18:$B$134,$C$18:$C$134,$D$18:$D$134,E2308,F2308)","v":42.622399999826399}]
[null,null,null,null,3.7000000001000024,3.4,{"$f":"_xll.Interp3D($B$18:$B$134,$C$18:$C$134,$D$18:$D$134,E2309,F2309)","v":42.819199999835192}]
[null,null,null,null,3.7000000001000024,3.5,{"$f":"_xll.Interp3D($B$18:$B$134,$C$18:$C$134,$D$18:$D$134,E2310,F2310)","v":42.839999999839996}]
[null,null,null,null,3.7000000001000024,3.6,{"$f":"_xll.Interp3D($B$18:$B$134,$C$18:$C$134,$D$18:$D$134,E2311,F2311)","v":42.63295999984016}]
[null,null,null,null,3.7000000001000024,3.7,{"$f":"_xll.Interp3D($B$18:$B$134,$C$18:$C$134,$D$18:$D$134,E2312,F2312)","v":42.239679999837279}]
[null,null,null,null,3.7000000001000024,3.8,{"$f":"_xll.Interp3D($B$18:$B$134,$C$18:$C$134,$D$18:$D$134,E2313,F2313)","v":41.737919999832314}]
[null,null,null,null,3.7000000001000024,3.9,{"$f":"_xll.Interp3D($B$18:$B$134,$C$18:$C$134,$D$18:$D$134,E2314,F2314)","v":41.20543999982624}]
[null,null,null,null,3.7000000001000024,4,{"$f":"_xll.Interp3D($B$18:$B$134,$C$18:$C$134,$D$18:$D$134,E2315,F2315)","v":40.719999999819997}]
[null,null,null,null,3.7000000001000024,4.0999999999999996,{"$f":"_xll.Interp3D($B$18:$B$134,$C$18:$C$134,$D$18:$D$134,E2316,F2316)","v":40.287999999811994}]
[null,null,null,null,3.7000000001000024,4.2,{"$f":"_xll.Interp3D($B$18:$B$134,$C$18:$C$134,$D$18:$D$134,E2317,F2317)","v":39.857599999801607}]
[null,null,null,null,3.7000000001000024,4.3,{"$f":"_xll.Interp3D($B$18:$B$134,$C$18:$C$134,$D$18:$D$134,E2318,F2318)","v":39.419199999791196}]
[null,null,null,null,3.7000000001000024,4.4000000000000004,{"$f":"_xll.Interp3D($B$18:$B$134,$C$18:$C$134,$D$18:$D$134,E2319,F2319)","v":38.963199999783193}]
[null,null,null,null,{"$f":"E2259+0.1","v":3.7000000001000024},{"$f":"F2259","v":4.5},{"$f":"_xll.Interp3D($B$18:$B$134,$C$18:$C$134,$D$18:$D$134,E2320,F2320)","v":38.479999999779999}]
[null,null,null,null,3.7000000001000024,4.5999999999999996,{"$f":"_xll.Interp3D($B$18:$B$134,$C$18:$C$134,$D$18:$D$134,E2321,F2321)","v":37.948479999781284}]
[null,null,null,null,3.7000000001000024,4.7,{"$f":"_xll.Interp3D($B$18:$B$134,$C$18:$C$134,$D$18:$D$134,E2322,F2322)","v":37.375039999785429}]
[null,null,null,null,3.7000000001000024,4.8,{"$f":"_xll.Interp3D($B$18:$B$134,$C$18:$C$134,$D$18:$D$134,E2323,F2323)","v":36.791359999792952}]
[null,null,null,null,3.7000000001000024,4.9000000000000004,{"$f":"_xll.Interp3D($B$18:$B$134,$C$18:$C$134,$D$18:$D$134,E2324,F2324)","v":36.229119999804311}]
[null,null,null,null,3.7000000001000024,5,{"$f":"_xll.Interp3D($B$18:$B$134,$C$18:$C$134,$D$18:$D$134,E2325,F2325)","v":35.719999999819997}]
[null,null,null,null,3.7000000001000024,5.0999999999999996,{"$f":"_xll.Interp3D($B$18:$B$134,$C$18:$C$134,$D$18:$D$134,E2326,F2326)","v":35.284479999849275}]
[null,null,null,null,3.7000000001000024,5.2,{"$f":"_xll.Interp3D($B$18:$B$134,$C$18:$C$134,$D$18:$D$134,E2327,F2327)","v":34.901439999891842}]
[null,null,null,null,3.7000000001000024,5.3,{"$f":"_xll.Interp3D($B$18:$B$134,$C$18:$C$134,$D$18:$D$134,E2328,F2328)","v":34.540159999933749}]
[null,null,null,null,3.7000000001000024,5.4,{"$f":"_xll.Interp3D($B$18:$B$134,$C$18:$C$134,$D$18:$D$134,E2329,F2329)","v":34.169919999961124}]
[null,null,null,null,3.7000000001000024,5.5,{"$f":"_xll.Interp3D($B$18:$B$134,$C$18:$C$134,$D$18:$D$134,E2330,F2330)","v":33.759999999960002}]
[null,null,null,null,3.7000000001000024,5.6,{"$f":"_xll.Interp3D($B$18:$B$134,$C$18:$C$134,$D$18:$D$134,E2331,F2331)","v":33.310399999930397}]
[null,null,null,null,3.7000000001000024,5.7,{"$f":"_xll.Interp3D($B$18:$B$134,$C$18:$C$134,$D$18:$D$134,E2332,F2332)","v":32.841599999881602}]
[null,null,null,null,3.7000000001000024,5.8,{"$f":"_xll.Interp3D($B$18:$B$134,$C$18:$C$134,$D$18:$D$134,E2333,F2333)","v":32.353599999813596}]
[null,null,null,null,3.7000000001000024,5.9,{"$f":"_xll.Interp3D($B$18:$B$134,$C$18:$C$134,$D$18:$D$134,E2334,F2334)","v":31.846399999726394}]
[null,null,null,null,3.7000000001000024,6,{"$f":"_xll.Interp3D($B$18:$B$134,$C$18:$C$134,$D$18:$D$134,E2335,F2335)","v":31.319999999619988}]
[null,null,null,null,3.8000000001000025,0,{"$f":"_xll.Interp3D($B$18:$B$134,$C$18:$C$134,$D$18:$D$134,E2336,F2336)","v":36.839999998859966}]
[null,null,null,null,3.8000000001000025,0.1,{"$f":"_xll.Interp3D($B$18:$B$134,$C$18:$C$134,$D$18:$D$134,E2337,F2337)","v":36.107199999100779}]
[null,null,null,null,3.8000000001000025,0.2,{"$f":"_xll.Interp3D($B$18:$B$134,$C$18:$C$134,$D$18:$D$134,E2338,F2338)","v":35.396799999315178}]
[null,null,null,null,3.8000000001000025,0.3,{"$f":"_xll.Interp3D($B$18:$B$134,$C$18:$C$134,$D$18:$D$134,E2339,F2339)","v":34.708799999503185}]
[null,null,null,null,3.8000000001000025,0.4,{"$f":"_xll.Interp3D($B$18:$B$134,$C$18:$C$134,$D$18:$D$134,E2340,F2340)","v":34.0431999996648}]
[null,null,null,null,3.8000000001000025,0.5,{"$f":"_xll.Interp3D($B$18:$B$134,$C$18:$C$134,$D$18:$D$134,E2341,F2341)","v":33.399999999799995}]
[null,null,null,null,3.8000000001000025,0.6,{"$f":"_xll.Interp3D($B$18:$B$134,$C$18:$C$134,$D$18:$D$134,E2342,F2342)","v":32.704319999903674}]
[null,null,null,null,3.8000000001000025,0.7,{"$f":"_xll.Interp3D($B$18:$B$134,$C$18:$C$134,$D$18:$D$134,E2343,F2343)","v":31.956159999975831}]
[null,null,null,null,3.8000000001000025,0.8,{"$f":"_xll.Interp3D($B$18:$B$134,$C$18:$C$134,$D$18:$D$134,E2344,F2344)","v":31.267840000024162}]
[null,null,null,null,3.8000000001000025,0.9,{"$f":"_xll.Interp3D($B$18:$B$134,$C$18:$C$134,$D$18:$D$134,E2345,F2345)","v":30.751680000056325}]
[null,null,null,null,3.8000000001000025,1,{"$f":"_xll.Interp3D($B$18:$B$134,$C$18:$C$134,$D$18:$D$134,E2346,F2346)","v":30.520000000080003}]
[null,null,null,null,3.8000000001000025,1.1000000000000001,{"$f":"_xll.Interp3D($B$18:$B$134,$C$18:$C$134,$D$18:$D$134,E2347,F2347)","v":30.609920000091684}]
[null,null,null,null,3.8000000001000025,1.2,{"$f":"_xll.Interp3D($B$18:$B$134,$C$18:$C$134,$D$18:$D$134,E2348,F2348)","v":30.94656000008624}]
[null,null,null,null,3.8000000001000025,1.3,{"$f":"_xll.Interp3D($B$18:$B$134,$C$18:$C$134,$D$18:$D$134,E2349,F2349)","v":31.474240000068963}]
[null,null,null,null,3.8000000001000025,1.4,{"$f":"_xll.Interp3D($B$18:$B$134,$C$18:$C$134,$D$18:$D$134,E2350,F2350)","v":32.137280000045124}]
[null,null,null,null,3.8000000001000025,1.5,{"$f":"_xll.Interp3D($B$18:$B$134,$C$18:$C$134,$D$18:$D$134,E2351,F2351)","v":32.880000000020004}]
[null,null,null,null,3.8000000001000025,1.6,{"$f":"_xll.Interp3D($B$18:$B$134,$C$18:$C$134,$D$18:$D$134,E2352,F2352)","v":33.813759999989436}]
[null,null,null,null,3.8000000001000025,1.7,{"$f":"_xll.Interp3D($B$18:$B$134,$C$18:$C$134,$D$18:$D$134,E2353,F2353)","v":34.975679999949918}]
[null,null,null,null,3.8000000001000025,1.8,{"$f":"_xll.Interp3D($B$18:$B$134,$C$18:$C$134,$D$18:$D$134,E2354,F2354)","v":36.198719999907681}]
[null,null,null,null,3.8000000001000025,1.9,{"$f":"_xll.Interp3D($B$18:$B$134,$C$18:$C$134,$D$18:$D$134,E2355,F2355)","v":37.315839999868956}]
[null,null,null,null,3.8000000001000025,2,{"$f":"_xll.Interp3D($B$18:$B$134,$C$18:$C$134,$D$18:$D$134,E2356,F2356)","v":38.159999999839997}]
[null,null,null,null,3.8000000001000025,2.1,{"$f":"_xll.Interp3D($B$18:$B$134,$C$18:$C$134,$D$18:$D$134,E2357,F2357)","v":38.654399999822402}]
[null,null,null,null,3.8000000001000025,2.2000000000000002,{"$f":"_xll.Interp3D($B$18:$B$134,$C$18:$C$134,$D$18:$D$134,E2358,F2358)","v":38.910399999812}]
[null,null,null,null,3.8000000001000025,2.2999999999999998,{"$f":"_xll.Interp3D($B$18:$B$134,$C$18:$C$134,$D$18:$D$134,E2359,F2359)","v":39.043199999806397}]
[null,null,null,null,3.8000000001000025,2.4,{"$f":"_xll.Interp3D($B$18:$B$134,$C$18:$C$134,$D$18:$D$134,E2360,F2360)","v":39.167999999803193}]
[null,null,null,null,3.8000000001000025,2.5,{"$f":"_xll.Interp3D($B$18:$B$134,$C$18:$C$134,$D$18:$D$134,E2361,F2361)","v":39.399999999799995}]
[null,null,null,null,3.8000000001000025,2.6,{"$f":"_xll.Interp3D($B$18:$B$134,$C$18:$C$134,$D$18:$D$134,E2362,F2362)","v":39.763519999798071}]
[null,null,null,null,3.8000000001000025,2.7,{"$f":"_xll.Interp3D($B$18:$B$134,$C$18:$C$134,$D$18:$D$134,E2363,F2363)","v":40.181759999799027}]
[null,null,null,null,3.8000000001000025,2.8,{"$f":"_xll.Interp3D($B$18:$B$134,$C$18:$C$134,$D$18:$D$134,E2364,F2364)","v":40.618239999800963}]
[null,null,null,null,3.8000000001000025,2.9,{"$f":"_xll.Interp3D($B$18:$B$134,$C$18:$C$134,$D$18:$D$134,E2365,F2365)","v":41.036479999801912}]
[null,null,null,null,3.8000000001000025,3,{"$f":"_xll.Interp3D($B$18:$B$134,$C$18:$C$134,$D$18:$D$134,E2366,F2366)","v":41.399999999800002}]
[null,null,null,null,3.8000000001000025,3.1,{"$f":"_xll.Interp3D($B$18:$B$134,$C$18:$C$134,$D$18:$D$134,E2367,F2367)","v":41.750399999793601}]
[null,null,null,null,3.8000000001000025,3.2,{"$f":"_xll.Interp3D($B$18:$B$134,$C$18:$C$134,$D$18:$D$134,E2368,F2368)","v":42.111999999783997}]
[null,null,null,null,3.8000000001000025,3.3,{"$f":"_xll.Interp3D($B$18:$B$134,$C$18:$C$134,$D$18:$D$134,E2369,F2369)","v":42.422399999773596}]
[null,null,null,null,3.8000000001000025,3.4,{"$f":"_xll.Interp3D($B$18:$B$134,$C$18:$C$134,$D$18:$D$134,E2370,F2370)","v":42.619199999764788}]
[null,null,null,null,3.8000000001000025,3.5,{"$f":"_xll.Interp3D($B$18:$B$134,$C$18:$C$134,$D$18:$D$134,E2371,F2371)","v":42.639999999759993}]
[null,null,null,null,3.8000000001000025,3.6,{"$f":"_xll.Interp3D($B$18:$B$134,$C$18:$C$134,$D$18:$D$134,E2372,F2372)","v":42.432959999759838}]
[null,null,null,null,3.8000000001000025,3.7,{"$f":"_xll.Interp3D($B$18:$B$134,$C$18:$C$134,$D$18:$D$134,E2373,F2373)","v":42.039679999762711}]
[null,null,null,null,3.8000000001000025,3.8,{"$f":"_xll.Interp3D($B$18:$B$134,$C$18:$C$134,$D$18:$D$134,E2374,F2374)","v":41.537919999767674}]
[null,null,null,null,3.8000000001000025,3.9,{"$f":"_xll.Interp3D($B$18:$B$134,$C$18:$C$134,$D$18:$D$134,E2375,F2375)","v":41.005439999773756}]
[null,null,null,null,3.8000000001000025,4,{"$f":"_xll.Interp3D($B$18:$B$134,$C$18:$C$134,$D$18:$D$134,E2376,F2376)","v":40.519999999779998}]
[null,null,null,null,3.8000000001000025,4.0999999999999996,{"$f":"_xll.Interp3D($B$18:$B$134,$C$18:$C$134,$D$18:$D$134,E2377,F2377)","v":40.087999999787996}]
[null,null,null,null,3.8000000001000025,4.2,{"$f":"_xll.Interp3D($B$18:$B$134,$C$18:$C$134,$D$18:$D$134,E2378,F2378)","v":39.6575999997984}]
[null,null,null,null,3.8000000001000025,4.3,{"$f":"_xll.Interp3D($B$18:$B$134,$C$18:$C$134,$D$18:$D$134,E2379,F2379)","v":39.219199999808794}]
[null,null,null,null,3.8000000001000025,4.4000000000000004,{"$f":"_xll.Interp3D($B$18:$B$134,$C$18:$C$134,$D$18:$D$134,E2380,F2380)","v":38.763199999816791}]
[null,null,null,null,3.8000000001000025,4.5,{"$f":"_xll.Interp3D($B$18:$B$134,$C$18:$C$134,$D$18:$D$134,E2381,F2381)","v":38.279999999819992}]
[null,null,null,null,3.8000000001000025,4.5999999999999996,{"$f":"_xll.Interp3D($B$18:$B$134,$C$18:$C$134,$D$18:$D$134,E2382,F2382)","v":37.745279999812318}]
[null,null,null,null,3.8000000001000025,4.7,{"$f":"_xll.Interp3D($B$18:$B$134,$C$18:$C$134,$D$18:$D$134,E2383,F2383)","v":37.165439999795353}]
[null,null,null,null,{"$f":"E2323+0.1","v":3.8000000001000025},{"$f":"F2323","v":4.8},{"$f":"_xll.Interp3D($B$18:$B$134,$C$18:$C$134,$D$18:$D$134,E2384,F2384)","v":36.576959999778239}]
[null,null,null,null,3.8000000001000025,4.9000000000000004,{"$f":"_xll.Interp3D($B$18:$B$134,$C$18:$C$134,$D$18:$D$134,E2385,F2385)","v":36.016319999770062}]
[null,null,null,null,3.8000000001000025,5,{"$f":"_xll.Interp3D($B$18:$B$134,$C$18:$C$134,$D$18:$D$134,E2386,F2386)","v":35.519999999779998}]
[null,null,null,null,3.8000000001000025,5.0999999999999996,{"$f":"_xll.Interp3D($B$18:$B$134,$C$18:$C$134,$D$18:$D$134,E2387,F2387)","v":35.121279999824317}]
[null,null,null,null,3.8000000001000025,5.2,{"$f":"_xll.Interp3D($B$18:$B$134,$C$18:$C$134,$D$18:$D$134,E2388,F2388)","v":34.795839999896963}]
[null,null,null,null,3.8000000001000025,5.3,{"$f":"_xll.Interp3D($B$18:$B$134,$C$18:$C$134,$D$18:$D$134,E2389,F2389)","v":34.493759999973435}]
[null,null,null,null,3.8000000001000025,5.4,{"$f":"_xll.Interp3D($B$18:$B$134,$C$18:$C$134,$D$18:$D$134,E2390,F2390)","v":34.165120000029283}]
[null,null,null,null,3.8000000001000025,5.5,{"$f":"_xll.Interp3D($B$18:$B$134,$C$18:$C$134,$D$18:$D$134,E2391,F2391)","v":33.760000000040002}]
[null,null,null,null,3.8000000001000025,5.6,{"$f":"_xll.Interp3D($B$18:$B$134,$C$18:$C$134,$D$18:$D$134,E2392,F2392)","v":33.278400000005597}]
[null,null,null,null,3.8000000001000025,5.7,{"$f":"_xll.Interp3D($B$18:$B$134,$C$18:$C$134,$D$18:$D$134,E2393,F2393)","v":32.753599999942402}]
[null,null,null,null,3.8000000001000025,5.8,{"$f":"_xll.Interp3D($B$18:$B$134,$C$18:$C$134,$D$18:$D$134,E2394,F2394)","v":32.185599999850396}]
[null,null,null,null,3.8000000001000025,5.9,{"$f":"_xll.Interp3D($B$18:$B$134,$C$18:$C$134,$D$18:$D$134,E2395,F2395)","v":31.574399999729597}]
[null,null,null,null,3.8000000001000025,6,{"$f":"_xll.Interp3D($B$18:$B$134,$C$18:$C$134,$D$18:$D$134,E2396,F2396)","v":30.919999999579989}]
[null,null,null,null,3.9000000001000026,0,{"$f":"_xll.Interp3D($B$18:$B$134,$C$18:$C$134,$D$18:$D$134,E2397,F2397)","v":35.559999998579961}]
[null,null,null,null,3.9000000001000026,0.1,{"$f":"_xll.Interp3D($B$18:$B$134,$C$18:$C$134,$D$18:$D$134,E2398,F2398)","v":35.100799998886366}]
[null,null,null,null,3.9000000001000026,0.2,{"$f":"_xll.Interp3D($B$18:$B$134,$C$18:$C$134,$D$18:$D$134,E2399,F2399)","v":34.635199999161578}]
[null,null,null,null,3.9000000001000026,0.3,{"$f":"_xll.Interp3D($B$18:$B$134,$C$18:$C$134,$D$18:$D$134,E2400,F2400)","v":34.163199999405585}]
[null,null,null,null,3.9000000001000026,0.4,{"$f":"_xll.Interp3D($B$18:$B$134,$C$18:$C$134,$D$18:$D$134,E2401,F2401)","v":33.684799999618392}]
[null,null,null,null,3.9000000001000026,0.5,{"$f":"_xll.Interp3D($B$18:$B$134,$C$18:$C$134,$D$18:$D$134,E2402,F2402)","v":33.199999999799992}]
[null,null,null,null,3.9000000001000026,0.6,{"$f":"_xll.Interp3D($B$18:$B$134,$C$18:$C$134,$D$18:$D$134,E2403,F2403)","v":32.630079999947839}]
[null,null,null,null,3.9000000001000026,0.7,{"$f":"_xll.Interp3D($B$18:$B$134,$C$18:$C$134,$D$18:$D$134,E2404,F2404)","v":31.975040000061917}]
[null,null,null,null,3.9000000001000026,0.8,{"$f":"_xll.Interp3D($B$18:$B$134,$C$18:$C$134,$D$18:$D$134,E2405,F2405)","v":31.352960000146084}]
[null,null,null,null,3.9000000001000026,0.9,{"$f":"_xll.Interp3D($B$18:$B$134,$C$18:$C$134,$D$18:$D$134,E2406,F2406)","v":30.881920000204168}]
[null,null,null,null,3.9000000001000026,1,{"$f":"_xll.Interp3D($B$18:$B$134,$C$18:$C$134,$D$18:$D$134,E2407,F2407)","v":30.680000000240007}]
[null,null,null,null,3.9000000001000026,1.1000000000000001,{"$f":"_xll.Interp3D($B$18:$B$134,$C$18:$C$134,$D$18:$D$134,E2408,F2408)","v":30.777280000243049}]
[null,null,null,null,3.9000000001000026,1.2,{"$f":"_xll.Interp3D($B$18:$B$134,$C$18:$C$134,$D$18:$D$134,E2409,F2409)","v":31.095040000210723}]
[null,null,null,null,3.9000000001000026,1.3,{"$f":"_xll.Interp3D($B$18:$B$134,$C$18:$C$134,$D$18:$D$134,E2410,F2410)","v":31.588160000158886}]
[null,null,null,null,3.9000000001000026,1.4,{"$f":"_xll.Interp3D($B$18:$B$134,$C$18:$C$134,$D$18:$D$134,E2411,F2411)","v":32.21152000010337}]
[null,null,null,null,3.9000000001000026,1.5,{"$f":"_xll.Interp3D($B$18:$B$134,$C$18:$C$134,$D$18:$D$134,E2412,F2412)","v":32.92000000006}]
[null,null,null,null,3.9000000001000026,1.6,{"$f":"_xll.Interp3D($B$18:$B$134,$C$18:$C$134,$D$18:$D$134,E2413,F2413)","v":33.823040000029117}]
[null,null,null,null,3.9000000001000026,1.7,{"$f":"_xll.Interp3D($B$18:$B$134,$C$18:$C$134,$D$18:$D$134,E2414,F2414)","v":34.95072000000016}]
[null,null,null,null,3.9000000001000026,1.8,{"$f":"_xll.Interp3D($B$18:$B$134,$C$18:$C$134,$D$18:$D$134,E2415,F2415)","v":36.138879999972644}]
[null,null,null,null,3.9000000001000026,1.9,{"$f":"_xll.Interp3D($B$18:$B$134,$C$18:$C$134,$D$18:$D$134,E2416,F2416)","v":37.223359999946076}]
[null,null,null,null,3.9000000001000026,2,{"$f":"_xll.Interp3D($B$18:$B$134,$C$18:$C$134,$D$18:$D$134,E2417,F2417)","v":38.039999999919999}]
[null,null,null,null,3.9000000001000026,2.1,{"$f":"_xll.Interp3D($B$18:$B$134,$C$18:$C$134,$D$18:$D$134,E2418,F2418)","v":38.511999999892808}]
[null,null,null,null,3.9000000001000026,2.2000000000000002,{"$f":"_xll.Interp3D($B$18:$B$134,$C$18:$C$134,$D$18:$D$134,E2419,F2419)","v":38.748799999864801}]
[null,null,null,null,3.9000000001000026,2.2999999999999998,{"$f":"_xll.Interp3D($B$18:$B$134,$C$18:$C$134,$D$18:$D$134,E2420,F2420)","v":38.865599999838402}]
[null,null,null,null,3.9000000001000026,2.4,{"$f":"_xll.Interp3D($B$18:$B$134,$C$18:$C$134,$D$18:$D$134,E2421,F2421)","v":38.977599999815986}]
[null,null,null,null,3.9000000001000026,2.5,{"$f":"_xll.Interp3D($B$18:$B$134,$C$18:$C$134,$D$18:$D$134,E2422,F2422)","v":39.199999999799992}]
[null,null,null,null,3.9000000001000026,2.6,{"$f":"_xll.Interp3D($B$18:$B$134,$C$18:$C$134,$D$18:$D$134,E2423,F2423)","v":39.559679999794241}]
[null,null,null,null,3.9000000001000026,2.7,{"$f":"_xll.Interp3D($B$18:$B$134,$C$18:$C$134,$D$18:$D$134,E2424,F2424)","v":39.979839999797115}]
[null,null,null,null,3.9000000001000026,2.8,{"$f":"_xll.Interp3D($B$18:$B$134,$C$18:$C$134,$D$18:$D$134,E2425,F2425)","v":40.420159999802877}]
[null,null,null,null,3.9000000001000026,2.9,{"$f":"_xll.Interp3D($B$18:$B$134,$C$18:$C$134,$D$18:$D$134,E2426,F2426)","v":40.840319999805757}]
[null,null,null,null,3.9000000001000026,3,{"$f":"_xll.Interp3D($B$18:$B$134,$C$18:$C$134,$D$18:$D$134,E2427,F2427)","v":41.199999999799992}]
[null,null,null,null,3.9000000001000026,3.1,{"$f":"_xll.Interp3D($B$18:$B$134,$C$18:$C$134,$D$18:$D$134,E2428,F2428)","v":41.537599999780795}]
[null,null,null,null,3.9000000001000026,3.2,{"$f":"_xll.Interp3D($B$18:$B$134,$C$18:$C$134,$D$18:$D$134,E2429,F2429)","v":41.879999999751988}]
[null,null,null,null,3.9000000001000026,3.3,{"$f":"_xll.Interp3D($B$18:$B$134,$C$18:$C$134,$D$18:$D$134,E2430,F2430)","v":42.169599999720802}]
[null,null,null,null,3.9000000001000026,3.4,{"$f":"_xll.Interp3D($B$18:$B$134,$C$18:$C$134,$D$18:$D$134,E2431,F2431)","v":42.348799999694393}]
[null,null,null,null,3.9000000001000026,3.5,{"$f":"_xll.Interp3D($B$18:$B$134,$C$18:$C$134,$D$18:$D$134,E2432,F2432)","v":42.359999999679985}]
[null,null,null,null,3.9000000001000026,3.6,{"$f":"_xll.Interp3D($B$18:$B$134,$C$18:$C$134,$D$18:$D$134,E2433,F2433)","v":42.152639999679522}]
[null,null,null,null,3.9000000001000026,3.7,{"$f":"_xll.Interp3D($B$18:$B$134,$C$18:$C$134,$D$18:$D$134,E2434,F2434)","v":41.765119999688153}]
[null,null,null,null,3.9000000001000026,3.8,{"$f":"_xll.Interp3D($B$18:$B$134,$C$18:$C$134,$D$18:$D$134,E2435,F2435)","v":41.273279999703036}]
[null,null,null,null,3.9000000001000026,3.9,{"$f":"_xll.Interp3D($B$18:$B$134,$C$18:$C$134,$D$18:$D$134,E2436,F2436)","v":40.75295999972127}]
[null,null,null,null,3.9000000001000026,4,{"$f":"_xll.Interp3D($B$18:$B$134,$C$18:$C$134,$D$18:$D$134,E2437,F2437)","v":40.279999999739992}]
[null,null,null,null,3.9000000001000026,4.0999999999999996,{"$f":"_xll.Interp3D($B$18:$B$134,$C$18:$C$134,$D$18:$D$134,E2438,F2438)","v":39.86399999976399}]
[null,null,null,null,3.9000000001000026,4.2,{"$f":"_xll.Interp3D($B$18:$B$134,$C$18:$C$134,$D$18:$D$134,E2439,F2439)","v":39.454399999795193}]
[null,null,null,null,3.9000000001000026,4.3,{"$f":"_xll.Interp3D($B$18:$B$134,$C$18:$C$134,$D$18:$D$134,E2440,F2440)","v":39.036799999826393}]
[null,null,null,null,3.9000000001000026,4.4000000000000004,{"$f":"_xll.Interp3D($B$18:$B$134,$C$18:$C$134,$D$18:$D$134,E2441,F2441)","v":38.59679999985039}]
[null,null,null,null,3.9000000001000026,4.5,{"$f":"_xll.Interp3D($B$18:$B$134,$C$18:$C$134,$D$18:$D$134,E2442,F2442)","v":38.119999999859992}]
[null,null,null,null,3.9000000001000026,4.5999999999999996,{"$f":"_xll.Interp3D($B$18:$B$134,$C$18:$C$134,$D$18:$D$134,E2443,F2443)","v":37.573119999843357}]
[null,null,null,null,3.9000000001000026,4.7,{"$f":"_xll.Interp3D($B$18:$B$134,$C$18:$C$134,$D$18:$D$134,E2444,F2444)","v":36.965759999805272}]
[null,null,null,null,3.9000000001000026,4.8,{"$f":"_xll.Interp3D($B$18:$B$134,$C$18:$C$134,$D$18:$D$134,E2445,F2445)","v":36.347839999763515}]
[null,null,null,null,3.9000000001000026,4.9000000000000004,{"$f":"_xll.Interp3D($B$18:$B$134,$C$18:$C$134,$D$18:$D$134,E2446,F2446)","v":35.769279999735829}]
[null,null,null,null,3.9000000001000026,5,{"$f":"_xll.Interp3D($B$18:$B$134,$C$18:$C$134,$D$18:$D$134,E2447,F2447)","v":35.279999999739992}]
[null,null,null,null,{"$f":"E2387+0.1","v":3.9000000001000026},{"$f":"F2387","v":5.0999999999999996},{"$f":"_xll.Interp3D($B$18:$B$134,$C$18:$C$134,$D$18:$D$134,E2448,F2448)","v":34.933119999799352}]
[null,null,null,null,3.9000000001000026,5.2,{"$f":"_xll.Interp3D($B$18:$B$134,$C$18:$C$134,$D$18:$D$134,E2449,F2449)","v":34.695359999902074}]
[null,null,null,null,3.9000000001000026,5.3,{"$f":"_xll.Interp3D($B$18:$B$134,$C$18:$C$134,$D$18:$D$134,E2450,F2450)","v":34.487040000013117}]
[null,null,null,null,3.9000000001000026,5.4,{"$f":"_xll.Interp3D($B$18:$B$134,$C$18:$C$134,$D$18:$D$134,E2451,F2451)","v":34.228480000097441}]
[null,null,null,null,3.9000000001000026,5.5,{"$f":"_xll.Interp3D($B$18:$B$134,$C$18:$C$134,$D$18:$D$134,E2452,F2452)","v":33.84000000012}]
[null,null,null,null,3.9000000001000026,5.6,{"$f":"_xll.Interp3D($B$18:$B$134,$C$18:$C$134,$D$18:$D$134,E2453,F2453)","v":33.321600000080799}]
[null,null,null,null,3.9000000001000026,5.7,{"$f":"_xll.Interp3D($B$18:$B$134,$C$18:$C$134,$D$18:$D$134,E2454,F2454)","v":32.726400000003203}]
[null,null,null,null,3.9000000001000026,5.8,{"$f":"_xll.Interp3D($B$18:$B$134,$C$18:$C$134,$D$18:$D$134,E2455,F2455)","v":32.054399999887195}]
[null,null,null,null,3.9000000001000026,5.9,{"$f":"_xll.Interp3D($B$18:$B$134,$C$18:$C$134,$D$18:$D$134,E2456,F2456)","v":31.305599999732795}]
[null,null,null,null,3.9000000001000026,6,{"$f":"_xll.Interp3D($B$18:$B$134,$C$18:$C$134,$D$18:$D$134,E2457,F2457)","v":30.479999999539992}]
[null,null,null,null,{"$f":"3.9999999","v":3.9999999000000002},0,{"$f":"_xll.Interp3D($B$18:$B$134,$C$18:$C$134,$D$18:$D$134,E2458,F2458)","v":34.000001699999856}]
[null,null,null,null,{"$f":"E2458","v":3.9999999000000002},0.1,{"$f":"_xll.Interp3D($B$18:$B$134,$C$18:$C$134,$D$18:$D$134,E2459,F2459)","v":33.880001327999885}]
[null,null,null,null,{"$f":"E2459","v":3.9999999000000002},0.2,{"$f":"_xll.Interp3D($B$18:$B$134,$C$18:$C$134,$D$18:$D$134,E2460,F2460)","v":33.720000991999918}]
[null,null,null,null,3.9999999000000002,0.3,{"$f":"_xll.Interp3D($B$18:$B$134,$C$18:$C$134,$D$18:$D$134,E2461,F2461)","v":33.520000691999947}]
[null,null,null,null,3.9999999000000002,0.4,{"$f":"_xll.Interp3D($B$18:$B$134,$C$18:$C$134,$D$18:$D$134,E2462,F2462)","v":33.280000427999973}]
[null,null,null,null,3.9999999000000002,0.5,{"$f":"_xll.Interp3D($B$18:$B$134,$C$18:$C$134,$D$18:$D$134,E2463,F2463)","v":33.000000200000002}]
[null,null,null,null,3.9999999000000002,0.6,{"$f":"_xll.Interp3D($B$18:$B$134,$C$18:$C$134,$D$18:$D$134,E2464,F2464)","v":32.600000008000023}]
[null,null,null,null,3.9999999000000002,0.7,{"$f":"_xll.Interp3D($B$18:$B$134,$C$18:$C$134,$D$18:$D$134,E2465,F2465)","v":32.079999852000036}]
[null,null,null,null,3.9999999000000002,0.8,{"$f":"_xll.Interp3D($B$18:$B$134,$C$18:$C$134,$D$18:$D$134,E2466,F2466)","v":31.559999732000058}]
[null,null,null,null,3.9999999000000002,0.9,{"$f":"_xll.Interp3D($B$18:$B$134,$C$18:$C$134,$D$18:$D$134,E2467,F2467)","v":31.159999648000081}]
[null,null,null,null,3.9999999000000002,1,{"$f":"_xll.Interp3D($B$18:$B$134,$C$18:$C$134,$D$18:$D$134,E2468,F2468)","v":30.999999600000081}]
[null,null,null,null,3.9999999000000002,1.1000000000000001,{"$f":"_xll.Interp3D($B$18:$B$134,$C$18:$C$134,$D$18:$D$134,E2469,F2469)","v":31.095999605600078}]
[null,null,null,null,3.9999999000000002,1.2,{"$f":"_xll.Interp3D($B$18:$B$134,$C$18:$C$134,$D$18:$D$134,E2470,F2470)","v":31.367999664800063}]
[null,null,null,null,3.9999999000000002,1.3,{"$f":"_xll.Interp3D($B$18:$B$134,$C$18:$C$134,$D$18:$D$134,E2471,F2471)","v":31.791999751200049}]
[null,null,null,null,3.9999999000000002,1.4,{"$f":"_xll.Interp3D($B$18:$B$134,$C$18:$C$134,$D$18:$D$134,E2472,F2472)","v":32.34399983840003}]
[null,null,null,null,3.9999999000000002,1.5,{"$f":"_xll.Interp3D($B$18:$B$134,$C$18:$C$134,$D$18:$D$134,E2473,F2473)","v":32.99999990000002}]
[null,null,null,null,3.9999999000000002,1.6,{"$f":"_xll.Interp3D($B$18:$B$134,$C$18:$C$134,$D$18:$D$134,E2474,F2474)","v":33.871999931200023}]
[null,null,null,null,3.9999999000000002,1.7,{"$f":"_xll.Interp3D($B$18:$B$134,$C$18:$C$134,$D$18:$D$134,E2475,F2475)","v":34.975999949600023}]
[null,null,null,null,3.9999999000000002,1.8,{"$f":"_xll.Interp3D($B$18:$B$134,$C$18:$C$134,$D$18:$D$134,E2476,F2476)","v":36.143999962400038}]
[null,null,null,null,3.9999999000000002,1.9,{"$f":"_xll.Interp3D($B$18:$B$134,$C$18:$C$134,$D$18:$D$134,E2477,F2477)","v":37.207999976800039}]
[null,null,null,null,3.9999999000000002,2,{"$f":"_xll.Interp3D($B$18:$B$134,$C$18:$C$134,$D$18:$D$134,E2478,F2478)","v":38.000000000000043}]
[null,null,null,null,3.9999999000000002,2.1,{"$f":"_xll.Interp3D($B$18:$B$134,$C$18:$C$134,$D$18:$D$134,E2479,F2479)","v":38.440000036800036}]
[null,null,null,null,3.9999999000000002,2.2000000000000002,{"$f":"_xll.Interp3D($B$18:$B$134,$C$18:$C$134,$D$18:$D$134,E2480,F2480)","v":38.640000082400022}]
[null,null,null,null,3.9999999000000002,2.2999999999999998,{"$f":"_xll.Interp3D($B$18:$B$134,$C$18:$C$134,$D$18:$D$134,E2481,F2481)","v":38.720000129600017}]
[null,null,null,null,3.9999999000000002,2.4,{"$f":"_xll.Interp3D($B$18:$B$134,$C$18:$C$134,$D$18:$D$134,E2482,F2482)","v":38.800000171200004}]
[null,null,null,null,3.9999999000000002,2.5,{"$f":"_xll.Interp3D($B$18:$B$134,$C$18:$C$134,$D$18:$D$134,E2483,F2483)","v":39.000000200000002}]
[null,null,null,null,3.9999999000000002,2.6,{"$f":"_xll.Interp3D($B$18:$B$134,$C$18:$C$134,$D$18:$D$134,E2484,F2484)","v":39.3520002096}]
[null,null,null,null,3.9999999000000002,2.7,{"$f":"_xll.Interp3D($B$18:$B$134,$C$18:$C$134,$D$18:$D$134,E2485,F2485)","v":39.776000204799992}]
[null,null,null,null,3.9999999000000002,2.8,{"$f":"_xll.Interp3D($B$18:$B$134,$C$18:$C$134,$D$18:$D$134,E2486,F2486)","v":40.224000195200006}]
[null,null,null,null,3.9999999000000002,2.9,{"$f":"_xll.Interp3D($B$18:$B$134,$C$18:$C$134,$D$18:$D$134,E2487,F2487)","v":40.648000190399998}]
[null,null,null,null,3.9999999000000002,3,{"$f":"_xll.Interp3D($B$18:$B$134,$C$18:$C$134,$D$18:$D$134,E2488,F2488)","v":41.000000200000002}]
[null,null,null,null,3.9999999000000002,3.1,{"$f":"_xll.Interp3D($B$18:$B$134,$C$18:$C$134,$D$18:$D$134,E2489,F2489)","v":41.312000231999995}]
[null,null,null,null,3.9999999000000002,3.2,{"$f":"_xll.Interp3D($B$18:$B$134,$C$18:$C$134,$D$18:$D$134,E2490,F2490)","v":41.616000279999987}]
[null,null,null,null,3.9999999000000002,3.3,{"$f":"_xll.Interp3D($B$18:$B$134,$C$18:$C$134,$D$18:$D$134,E2491,F2491)","v":41.864000331999975}]
[null,null,null,null,3.9999999000000002,3.4,{"$f":"_xll.Interp3D($B$18:$B$134,$C$18:$C$134,$D$18:$D$134,E2492,F2492)","v":42.008000375999963}]
[null,null,null,null,3.9999999000000002,3.5,{"$f":"_xll.Interp3D($B$18:$B$134,$C$18:$C$134,$D$18:$D$134,E2493,F2493)","v":42.000000399999962}]
[null,null,null,null,3.9999999000000002,3.6,{"$f":"_xll.Interp3D($B$18:$B$134,$C$18:$C$134,$D$18:$D$134,E2494,F2494)","v":41.792000400799964}]
[null,null,null,null,3.9999999000000002,3.7,{"$f":"_xll.Interp3D($B$18:$B$134,$C$18:$C$134,$D$18:$D$134,E2495,F2495)","v":41.416000386399958}]
[null,null,null,null,3.9999999000000002,3.8,{"$f":"_xll.Interp3D($B$18:$B$134,$C$18:$C$134,$D$18:$D$134,E2496,F2496)","v":40.944000361599976}]
[null,null,null,null,3.9999999000000002,3.9,{"$f":"_xll.Interp3D($B$18:$B$134,$C$18:$C$134,$D$18:$D$134,E2497,F2497)","v":40.448000331199978}]
[null,null,null,null,3.9999999000000002,4,{"$f":"_xll.Interp3D($B$18:$B$134,$C$18:$C$134,$D$18:$D$134,E2498,F2498)","v":40.000000299999982}]
[null,null,null,null,3.9999999000000002,4.0999999999999996,{"$f":"_xll.Interp3D($B$18:$B$134,$C$18:$C$134,$D$18:$D$134,E2499,F2499)","v":39.616000259999986}]
[null,null,null,null,3.9999999000000002,4.2,{"$f":"_xll.Interp3D($B$18:$B$134,$C$18:$C$134,$D$18:$D$134,E2500,F2500)","v":39.248000208000008}]
[null,null,null,null,3.9999999000000002,4.3,{"$f":"_xll.Interp3D($B$18:$B$134,$C$18:$C$134,$D$18:$D$134,E2501,F2501)","v":38.872000156000006}]
[null,null,null,null,3.9999999000000002,4.4000000000000004,{"$f":"_xll.Interp3D($B$18:$B$134,$C$18:$C$134,$D$18:$D$134,E2502,F2502)","v":38.464000116000022}]
[null,null,null,null,3.9999999000000002,4.5,{"$f":"_xll.Interp3D($B$18:$B$134,$C$18:$C$134,$D$18:$D$134,E2503,F2503)","v":38.000000100000022}]
[null,null,null,null,3.9999999000000002,4.5999999999999996,{"$f":"_xll.Interp3D($B$18:$B$134,$C$18:$C$134,$D$18:$D$134,E2504,F2504)","v":37.432000125600027}]
[null,null,null,null,3.9999999000000002,4.7,{"$f":"_xll.Interp3D($B$18:$B$134,$C$18:$C$134,$D$18:$D$134,E2505,F2505)","v":36.776000184800004}]
[null,null,null,null,3.9999999000000002,4.8,{"$f":"_xll.Interp3D($B$18:$B$134,$C$18:$C$134,$D$18:$D$134,E2506,F2506)","v":36.104000251199992}]
[null,null,null,null,3.9999999000000002,4.9000000000000004,{"$f":"_xll.Interp3D($B$18:$B$134,$C$18:$C$134,$D$18:$D$134,E2507,F2507)","v":35.488000298399967}]
[null,null,null,null,3.9999999000000002,5,{"$f":"_xll.Interp3D($B$18:$B$134,$C$18:$C$134,$D$18:$D$134,E2508,F2508)","v":35.000000299999982}]
[null,null,null,null,3.9999999000000002,5.0999999999999996,{"$f":"_xll.Interp3D($B$18:$B$134,$C$18:$C$134,$D$18:$D$134,E2509,F2509)","v":34.720000225599989}]
[null,null,null,null,3.9999999000000002,5.2,{"$f":"_xll.Interp3D($B$18:$B$134,$C$18:$C$134,$D$18:$D$134,E2510,F2510)","v":34.600000092800009}]
[null,null,null,null,3.9999999000000002,5.3,{"$f":"_xll.Interp3D($B$18:$B$134,$C$18:$C$134,$D$18:$D$134,E2511,F2511)","v":34.519999947200013}]
[null,null,null,null,3.9999999000000002,{"$f":"F2451","v":5.4},{"$f":"_xll.Interp3D($B$18:$B$134,$C$18:$C$134,$D$18:$D$134,E2512,F2512)","v":34.359999834400035}]
[null,null,null,null,3.9999999000000002,5.5,{"$f":"_xll.Interp3D($B$18:$B$134,$C$18:$C$134,$D$18:$D$134,E2513,F2513)","v":33.99999980000004}]
[null,null,null,null,3.9999999000000002,5.6,{"$f":"_xll.Interp3D($B$18:$B$134,$C$18:$C$134,$D$18:$D$134,E2514,F2514)","v":33.439999844000035}]
[null,null,null,null,3.9999999000000002,5.7,{"$f":"_xll.Interp3D($B$18:$B$134,$C$18:$C$134,$D$18:$D$134,E2515,F2515)","v":32.759999936000028}]
[null,null,null,null,3.9999999000000002,5.8,{"$f":"_xll.Interp3D($B$18:$B$134,$C$18:$C$134,$D$18:$D$134,E2516,F2516)","v":31.960000076000018}]
[null,null,null,null,3.9999999000000002,5.9,{"$f":"_xll.Interp3D($B$18:$B$134,$C$18:$C$134,$D$18:$D$134,E2517,F2517)","v":31.040000264000003}]
[null,null,null,null,3.9999999000000002,6,{"$f":"_xll.Interp3D($B$18:$B$134,$C$18:$C$134,$D$18:$D$134,E2518,F2518)","v":30.000000499999977}]

{"sheet":"Ukázka výpočtu","index":4,"n_rows":12,"n_cols":37,"rows_kept":12,"cut":false,"hidden":true,"merged":[]}
[]
[null,null,0,0.5,1,1.5,2,null,null,0,0.5,1,1.5,2,null,null,0,0.5,1,1.5,2,null,null,null,null,null,null,null,null,null,null,null,42,44,46,48,50]
[null,0,42,43,46,44,43,null,0,42,43,44,45,46,null,0,{"$f":"J3-C3","v":0},0,-2,1,3,null,null,null,null,null,null,null,null,null,null,null,44,46,48,50,52]
[null,0.5,44,42,44,42,41,null,0.5,44,45,46,47,48,null,0.5,0,3,2,5,7,null,null,null,null,null,null,null,null,null,null,null,46,48,50,52,54]
[null,1,43,42,42,42,40,null,1,46,47,48,49,50,null,1,3,5,6,7,10]
[]
[null,null,0,0.5,1,1.5,2,null,null,0,0.5,1,1.5,2,null,null,0,0.5,1,1.5,2]
[null,0,42,43,46,44,43,null,0,42,44,46,48,50,null,0,{"$f":"J8-C8","v":0},1,0,4,7]
[null,0.5,44,42,44,42,41,null,0.5,44,46,48,50,52,null,0.5,0,4,4,8,11]
[null,1,43,42,42,42,40,null,1,46,48,50,52,54,null,1,3,6,8,10,14]
[null,null,null,null,null,null,null,null,null,null,null,null,null,null,null,null,null,null,null,null,null,null,{"$f":"AVERAGE(Q8:R9)","v":1.25},2.25,4,7.5]
[null,null,null,null,null,null,null,null,null,null,null,null,null,null,null,null,null,null,null,null,null,null,3.25,5.5,7.5,10.75]

{"sheet":"List3","index":5,"n_rows":8,"n_cols":13,"rows_kept":8,"cut":false,"hidden":true,"merged":[]}
[]
[null,null,0,100,200,300,400,500,600,700,800,900,1000]
[null,0,40,39.89,39.78,39.74,39.79,40,40.36,40.840000000000003,41.44,42.16,43]
[null,100,39.97,39.869999999999997,39.78,39.75,39.82,40.04,40.409999999999997,40.89,41.5,42.22,43.06]
[null,200,44.02,43.96,43.93,43.95,44.06,44.28,48.61,49.04,45.56,46.18,46.89]
[null,300,44.1,44.08,44.12,44.22,44.38,44.6,48.88,49.22,45.62,46.07,46.59]
[null,400,40.11,40.15,40.270000000000003,40.450000000000003,40.659999999999997,40.880000000000003,45.11,45.36,41.64,41.94,42.26]
[null,500,40,40.07,40.26,40.5,40.770000000000003,41,45.2,45.4,41.6,41.8,42]

{"sheet":"Ukázka balancování","index":6,"n_rows":20,"n_cols":39,"rows_kept":20,"cut":false,"hidden":true,"merged":[]}
[]
[null,null,null,30,0,0.5,1,1.5,2,null,null,0,0.5,1,1.5,2,null,null,0,0.5,1,1.5,2,null,null,null,null,null,null,null,null,null,null,null,42,44,46,48,50]
[null,null,null,0,43,44,45,46,48,null,0,32.260869565217391,36.195652173913047,40.130434782608695,44.065217391304344,48,null,0,{"$f":"L3-E3","v":-10.739130434782609},{"$f":"M3-F3","v":-7.8043478260869534},-4.8695652173913047,-1.9347826086956559,0,null,null,null,null,null,null,null,null,null,null,null,44,46,48,50,52]
[null,null,null,0.5,45,45,46,45,46,null,0.5,39.630434782608695,43.565217391304344,47.5,51.434782608695656,55.369565217391305,null,0.5,-5.3695652173913047,-1.4347826086956559,1.5,6.4347826086956559,9.3695652173913047,null,null,null,null,null,null,null,null,null,null,null,46,48,50,52,54]
[null,null,null,1,47,46,45,44,43,null,1,47,50.934782608695656,54.869565217391305,58.804347826086953,62.739130434782609,null,1,0,4.9347826086956559,9.8695652173913047,14.804347826086953,19.739130434782609]
[null,null,null,null,null,null,null,null,null,null,null,null,null,null,null,null,null,null,null,null,null,null,null,null,null,null,null,null,null,null,null,null,null,null,32.260869565217391,36.195652173913047,40.130434782608695,44.065217391304344,48]
[null,null,null,43,0,0.5,1,1.5,2,null,null,0,0.5,1,1.5,2,null,null,0,0.5,1,1.5,2,null,null,null,null,null,null,null,null,null,null,null,42,44,46,48,50]
[null,null,null,0,43,44,45,46,48,null,0,43.565217391304351,44.673913043478265,45.782608695652179,46.891304347826093,48,null,0,{"$f":"L8-E8","v":0.56521739130435122},0.67391304347826519,0.78260869565217916,0.89130434782609314,0,null,null,null,null,null,43.565217391304351,44.673913043478265,45.782608695652179,46.891304347826093,48,null,44,46,48,50,52]
[null,null,null,0.5,45,45,46,45,46,null,0.5,45.282608695652179,46.391304347826093,47.5,48.608695652173914,49.717391304347828,null,0.5,0.28260869565217916,1.3913043478260931,1.5,3.608695652173914,3.7173913043478279,null,null,null,null,null,45.282608695652179,46.391304347826093,47.5,48.608695652173914,49.717391304347828,null,46,48,50,52,54]
[null,null,null,1,47,46,45,44,43,null,1,47,48.108695652173914,49.217391304347828,50.326086956521742,51.434782608695656,null,1,0,2.108695652173914,4.2173913043478279,6.3260869565217419,8.4347826086956559,null,null,null,null,null,47,48.108695652173914,49.217391304347828,50.326086956521742,51.434782608695656]
[]
[null,null,null,52,0,0.5,1,1.5,2,null,null,0,0.5,1,1.5,2,null,null,0,0.5,1,1.5,2,null,null,null,null,null,null,null,null,null,null,null,42,44,46,48,50]
[null,null,null,0,43,44,45,46,48,null,0,51.391304347826086,50.543478260869563,49.695652173913039,48.847826086956523,48,null,0,{"$f":"L13-E13","v":8.391304347826086},6.5434782608695627,4.6956521739130395,2.8478260869565233,0,null,null,null,null,null,51.391304347826086,50.543478260869563,49.695652173913039,48.847826086956523,48,null,44,46,48,50,52]
[null,null,null,0.5,45,45,46,45,46,null,0.5,49.195652173913039,48.347826086956523,47.5,46.652173913043477,45.804347826086953,null,0.5,4.1956521739130395,3.3478260869565233,1.5,1.6521739130434767,-0.19565217391304657,null,null,null,null,null,49.195652173913039,48.347826086956523,47.5,46.652173913043477,45.804347826086953,null,46,48,50,52,54]
[null,null,null,1,47,46,45,44,43,null,1,47,46.152173913043477,45.304347826086953,44.456521739130437,43.608695652173914,null,1,0,0.15217391304347672,0.30434782608695343,0.45652173913043725,0.60869565217391397,null,null,null,null,null,47,46.152173913043477,45.304347826086953,44.456521739130437,43.608695652173914]
[]
[null,null,null,47,0,0.5,1,1.5,2,null,null,0,0.5,1,1.5,2,null,null,0,0.5,1,1.5,2,null,null,null,null,null,null,null,null,null,null,null,47.043478260869563,47.282608695652172,47.521739130434781,47.760869565217391,48]
[null,null,null,0,43,44,45,46,48,null,0,47.043478260869563,47.282608695652172,47.521739130434781,47.760869565217391,48,null,0,{"$f":"L18-E18","v":4.0434782608695627},3.2826086956521721,2.5217391304347814,1.7608695652173907,0,null,null,null,null,null,43.565217391304351,44.673913043478265,45.782608695652179,46.891304347826093,48,null,47.021739130434781,47.260869565217391,47.5,47.739130434782609,47.978260869565212]
[null,null,null,0.5,45,45,46,45,46,null,0.5,47.021739130434781,47.260869565217391,47.5,47.739130434782609,47.978260869565212,null,0.5,2.0217391304347814,2.2608695652173907,1.5,2.7391304347826093,1.9782608695652115,null,null,null,null,null,45.282608695652179,46.391304347826093,47.5,48.608695652173914,49.717391304347828,null,47,47.239130434782609,47.478260869565212,47.717391304347821,47.95652173913043]
[null,null,null,1,47,46,45,44,43,null,1,47,47.239130434782609,47.478260869565212,47.717391304347821,47.95652173913043,null,1,0,1.2391304347826093,2.4782608695652115,3.7173913043478208,4.9565217391304301,null,null,null,null,null,47,48.108695652173914,49.217391304347828,50.326086956521742,51.434782608695656]