{"text_format":"1","workbook":"xlsx","n_sheets":12,"sheets":["Požadavky na kritéria","Vstupní data","Metoda bodovací_","Bodové hodnocení více experty","Metoda pořadí","Vyšší počet expertů","Saatyho metoda","Hodnotyp pro jednotlivá krit","Metoda bodovací_ručně","Metoda bodovací_automaticky","Metoda pořadí_","Metoda TOPSIS"],"not_rendered":{"charts":2,"images":0,"macros":1,"external_links":0,"defined_names":0,"comments":6,"pivot_tables":0},"unopened":[],"bounds":{"document_bytes":16777216,"sheet_cells":100000,"rows_first":2000,"rows_last":500,"rows_between":2000,"halvings":0,"cell_chars":16384,"cell_head_chars":4096},"cells_cut":0,"cells_raw":0,"read":"whole","date_system":"1900"}

{"sheet":"Požadavky na kritéria","index":0,"n_rows":13,"n_cols":49,"rows_kept":13,"cut":false,"hidden":true,"merged":[[0,0,1,6]]}
["Kritéria jsou seřazena v tomto směru a je zvýrazněno to, které jste označil nulou"]
[]
[{"$f":"'Vstupní data'!M17","v":"Cena"},"Min","Max","Body",null,{"$f":"'Vstupní data'!M17","v":"Cena"},"Min","Max","Body",null,{"$f":"'Vstupní data'!M19","v":"Záruční doba"},"Min","Max","Body",null,{"$f":"'Vstupní data'!M20","v":"Spolehlivost dodavatele"},"Min","Max","Body",null,{"$f":"'Vstupní data'!M21","v":"OS"},"Min","Max","Body",null,{"$f":"'Vstupní data'!M22","v":"Vnitřní paměť"},"Min","Max","Body",null,{"$f":"'Vstupní data'!M23","v":"Frekvence RAM"},"Min","Max","Body",null,{"$f":"'Vstupní data'!M24","v":"Kapacita disku"},"Min","Max","Body",null,{"$f":"'Vstupní data'!M25","v":"Grafická karta"},"Min","Max","Body",null,{"$f":"'Vstupní data'!M26","v":"Výbava"},"Min","Max","Body"]
[null,0,null,1,null,null,0,null,1,null,null,0,null,1,null,null,0,1,1,null,null,0,null,1,null,null,0,null,1,null,null,0,null,1,null,null,0,null,1,null,null,0,null,1,null,null,0,null,1]
[null,null,null,2,null,null,null,null,2,null,null,null,null,2,null,null,null,null,2,null,null,null,null,2,null,null,null,null,2,null,null,null,null,2,null,null,null,null,2,null,null,null,null,2,null,null,null,null,2]
[null,null,null,3,null,null,null,null,3,null,null,null,null,3,null,null,null,null,3,null,null,null,null,3,null,null,null,null,3,null,null,null,null,3,null,null,null,null,3,null,null,null,null,3,null,null,null,null,3]
[null,null,null,4,null,null,null,null,4,null,null,null,null,4,null,null,null,null,4,null,null,null,null,4,null,null,null,null,4,null,null,null,null,4,null,null,null,null,4,null,null,null,null,4,null,null,null,null,4]
[null,null,null,5,null,null,null,null,5,null,null,null,null,5,null,null,null,null,5,null,null,null,null,5,null,null,null,null,5,null,null,null,null,5,null,null,null,null,5,null,null,null,null,5,null,null,null,null,5]
[null,null,null,6,null,null,null,null,6,null,null,null,null,6,null,null,null,null,6,null,null,null,null,6,null,null,null,null,6,null,null,null,null,6,null,null,null,null,6,null,null,null,null,6,null,null,null,null,6]
[null,null,null,7,null,null,null,null,7,null,null,null,null,7,null,null,null,null,7,null,null,null,null,7,null,null,null,null,7,null,null,null,null,7,null,null,null,null,7,null,null,null,null,7,null,null,null,null,7]
[null,null,null,8,null,null,null,null,8,null,null,null,null,8,null,null,null,null,8,null,null,null,null,8,null,null,null,null,8,null,null,null,null,8,null,null,null,null,8,null,null,null,null,8,null,null,null,null,8]
[null,null,null,9,null,null,null,null,9,null,null,null,null,9,null,null,null,null,9,null,null,null,null,9,null,null,null,null,9,null,null,null,null,9,null,null,null,null,9,null,null,null,null,9,null,null,null,null,9]
[null,null,null,10,null,null,null,null,10,null,null,null,null,10,null,null,null,null,10,null,null,null,null,10,null,null,null,null,10,null,null,null,null,10,null,null,null,null,10,null,null,null,null,10,null,null,null,null,10]

{"sheet":"Vstupní data","index":1,"n_rows":26,"n_cols":16,"rows_kept":26,"cut":false,"hidden":false,"merged":[[25,12,25,13],[5,4,5,14],[3,3,4,15],[17,6,17,8],[16,6,16,8],[18,6,18,8],[19,6,19,8],[25,6,25,8],[16,12,16,13],[17,12,17,13],[18,12,18,13],[19,12,19,13],[7,3,9,5],[10,3,12,5],[6,13,13,15],[22,10,22,11],[23,10,23,11],[24,10,24,11],[25,10,25,11],[16,10,16,11],[17,10,17,11],[18,10,18,11],[19,10,19,11],[20,10,20,11],[21,10,21,11],[20,12,20,13],[21,12,21,13],[22,12,22,13],[23,12,23,13],[24,12,24,13],[20,6,20,8],[21,6,21,8],[22,6,22,8],[23,6,23,8],[24,6,24,8],[21,4,21,5],[22,4,22,5],[23,4,23,5],[24,4,24,5],[25,4,25,5],[16,4,16,5],[17,4,17,5],[18,4,18,5],[19,4,19,5],[20,4,20,5]]}
[]
[]
[]
[null,null,null,"Vicekriteriální model rozhodování"]
[]
[null,null,null,null,"Vstupní data"]
[]
[null,null,null,"Stanovení váhy kritérií"]
[]
[]
[null,null,null,"Agregace hodnotících kritérií"]
[]
[]
[]
[]
[null,null,null,null,null,null,null,null,null,null,null,null,null,null,"Jednotky","MAX/MIN"]
[null,null,null,null,"V1",null,"Lenovo Ideacentre 300-20ISH",null,null,null,"K1",null,"Cena",null,"Kč","MIN"]
[null,null,null,null,"V2",null,"Fujitsu Esprimo P556/E85+ ",null,null,null,"K2",null,"Doba bezplatného servisu",null,"Měsíce","MAX"]
[null,null,null,null,"V3",null,"HP Pavilion 24-b151nc ",null,null,null,"K3",null,"Záruční doba",null,"Roky","MAX"]
[null,null,null,null,"V4",null,"Lenovo IdeaCentre 700-24ISH",null,null,null,"K4",null,"Spolehlivost dodavatele",null,"Body","MAX"]
[null,null,null,null,"V5",null,"HP ProDesk 400 G4 Micro Tower ",null,null,null,"K5",null,"OS",null,null,"MAX"]
[null,null,null,null,"V6",null,"Lenovo S510 Tower ",null,null,null,"K6",null,"Vnitřní paměť",null,"Gb","MAX"]
[null,null,null,null,"V7",null,"Dell Inspiron 24",null,null,null,"K7",null,"Frekvence RAM",null,"MHz","MAX"]
[null,null,null,null,"V8",null,"Dell OptiPlex 3050 SFF",null,null,null,"K8",null,"Kapacita disku",null,"Gb","MAX"]
[null,null,null,null,"V9",null,"Dell Optiplex 3040 SFF",null,null,null,"K9",null,"Grafická karta",null,"Body","MAX"]
[null,null,null,null,"V10",null,"Dell Vostro 3668 MT",null,null,null,"K10",null,"Výbava",null,"Body","MAX"]

{"sheet":"Metoda bodovací_","index":2,"n_rows":13,"n_cols":10,"rows_kept":13,"cut":false,"hidden":false,"merged":[]}
["MIN","MAX"]
[null,"Kritérium","Název kritéria","Typ","Body","Váhy",null,null,"Kritérium","Název varianty"]
[null,"K1",{"$f":"'Vstupní data'!M17","v":"Cena"},"MIN",1,0.16376306620209058,null,null,"K1",{"$f":"'Vstupní data'!G17","v":"Lenovo Ideacentre 300-20ISH"}]
[null,"K2",{"$f":"'Vstupní data'!M18","v":"Doba bezplatného servisu"},"MAX",9,5.5749128919860627E-2,null,null,"K2",{"$f":"'Vstupní data'!G18","v":"Fujitsu Esprimo P556/E85+ "}]
[null,"K3",{"$f":"'Vstupní data'!M19","v":"Záruční doba"},"MAX",10,4.1811846689895474E-2,null,null,"K3",{"$f":"'Vstupní data'!G19","v":"HP Pavilion 24-b151nc "}]
[null,"K4",{"$f":"'Vstupní data'!M20","v":"Spolehlivost dodavatele"},"MAX",3,0.11846689895470383,null,null,"K4",{"$f":"'Vstupní data'!G20","v":"Lenovo IdeaCentre 700-24ISH"}]
[null,"K5",{"$f":"'Vstupní data'!M21","v":"OS"},"MIN",4,0.11149825783972125,null,null,"K5",{"$f":"'Vstupní data'!G21","v":"HP ProDesk 400 G4 Micro Tower "}]
[null,"K6",{"$f":"'Vstupní data'!M22","v":"Vnitřní paměť"},"MAX",6,9.4076655052264813E-2,null,null,"K6",{"$f":"'Vstupní data'!G22","v":"Lenovo S510 Tower "}]
[null,"K7",{"$f":"'Vstupní data'!M23","v":"Frekvence RAM"},"MAX",7,9.0592334494773524E-2,null,null,"K7",{"$f":"'Vstupní data'!G23","v":"Dell Inspiron 24"}]
[null,"K8",{"$f":"'Vstupní data'!M24","v":"Kapacita disku"},"MAX",4,0.11149825783972125,null,null,"K8",{"$f":"'Vstupní data'!G24","v":"Dell OptiPlex 3050 SFF"}]
[null,"K9",{"$f":"'Vstupní data'!M25","v":"Grafická karta"},"MAX",8,6.968641114982578E-2,null,null,"K9",{"$f":"'Vstupní data'!G25","v":"Dell Optiplex 3040 SFF"}]
[null,"K10",{"$f":"'Vstupní data'!M26","v":"Výbava"},"MAX",2,0.14285714285714285,null,null,"K10",{"$f":"'Vstupní data'!G26","v":"Dell Vostro 3668 MT"}]
[null,null,null,null,{"$f":"SUM(E3:E12)","v":54}]

{"sheet":"Bodové hodnocení více experty","index":3,"n_rows":13,"n_cols":61,"rows_kept":13,"cut":false,"hidden":false,"merged":[]}
[]
[null,null,"Body","Pořadí","Pr","E1","E2","E3","E4","E5","E6","…"]
[{"$f":"SUM(F3:BI3)","v":47},null,"K1",{"$f":"RANK(E3,$E$3:$E$12)","v":1},{"$f":"A3/$A$13","v":0.16376306620209058},10,9,8,5,6,9]
[{"$f":"SUM(F4:BI4)","v":16},null,"K2",{"$f":"RANK(E4,$E$3:$E$12)","v":9},{"$f":"A4/$A$13","v":5.5749128919860627E-2},2,3,2,1,7,1]
[12,null,"K3",{"$f":"RANK(E5,$E$3:$E$12)","v":10},{"$f":"A5/$A$13","v":4.1811846689895474E-2},1,2,1,3,4,1]
[34,null,"K4",3,{"$f":"A6/$A$13","v":0.11846689895470383},6,1,9,6,6,6]
[32,null,"K5",4,{"$f":"A7/$A$13","v":0.11149825783972125},2,8,7,4,3,8]
[27,null,"K6",6,{"$f":"A8/$A$13","v":9.4076655052264813E-2},7,1,3,8,1,7]
[26,null,"K7",7,{"$f":"A9/$A$13","v":9.0592334494773524E-2},3,5,6,7,2,3]
[32,null,"K8",4,{"$f":"A10/$A$13","v":0.11149825783972125},5,7,5,2,8,5]
[20,null,"K9",8,{"$f":"A11/$A$13","v":6.968641114982578E-2},4,6,4,1,1,4]
[41,null,"K10",2,{"$f":"A12/$A$13","v":0.14285714285714285},8,5,2,9,9,8]
[{"$f":"SUM(A3:A12)","v":287},null,null,null,{"$f":"SUM(E3:E12)","v":1},{"$f":"SUM(F3:F12)","v":48},{"$f":"SUM(G3:G12)","v":47},47,46,47,52,0,0,0,0,0,0,0,0,0,0,0,0,0,0,0,0,0,0,0,0,0,0,0,0,0,0,0,0,0,0,0,0,0,0,0,0,0,0,0,0,0,0,0,0,0,0,0,0,0,0]

{"sheet":"Metoda pořadí","index":4,"n_rows":128,"n_cols":10,"rows_kept":128,"cut":false,"hidden":false,"merged":[]}
[]
[null,"Kritérium","Název kritéria","Typ","Pořadí","Váhy",null,null,"Kritérium","Název varianty"]
[null,"K1",{"$f":"'Vstupní data'!M17","v":"Cena"},{"$f":"'Vstupní data'!P17","v":"MIN"},1,0.15937499999999999,null,null,"K1",{"$f":"'Vstupní data'!G17","v":"Lenovo Ideacentre 300-20ISH"}]
[null,"K2",{"$f":"'Vstupní data'!M18","v":"Doba bezplatného servisu"},{"$f":"'Vstupní data'!P18","v":"MAX"},9,5.9374999999999997E-2,null,null,"K2",{"$f":"'Vstupní data'!G18","v":"Fujitsu Esprimo P556/E85+ "}]
[null,"K3",{"$f":"'Vstupní data'!M19","v":"Záruční doba"},{"$f":"'Vstupní data'!P19","v":"MAX"},10,4.0625000000000001E-2,null,null,"K3",{"$f":"'Vstupní data'!G19","v":"HP Pavilion 24-b151nc "}]
[null,"K4",{"$f":"'Vstupní data'!M20","v":"Spolehlivost dodavatele"},{"$f":"'Vstupní data'!P20","v":"MAX"},3,0.11562500000000001,null,null,"K4",{"$f":"'Vstupní data'!G20","v":"Lenovo IdeaCentre 700-24ISH"}]
[null,"K5",{"$f":"'Vstupní data'!M21","v":"OS"},{"$f":"'Vstupní data'!P21","v":"MAX"},6,9.6875000000000003E-2,null,null,"K5",{"$f":"'Vstupní data'!G21","v":"HP ProDesk 400 G4 Micro Tower "}]
[null,"K6",{"$f":"'Vstupní data'!M22","v":"Vnitřní paměť"},{"$f":"'Vstupní data'!P22","v":"MAX"},5,0.10625,null,null,"K6",{"$f":"'Vstupní data'!G22","v":"Lenovo S510 Tower "}]
[null,"K7",{"$f":"'Vstupní data'!M23","v":"Frekvence RAM"},{"$f":"'Vstupní data'!P23","v":"MAX"},7,8.1250000000000003E-2,null,null,"K7",{"$f":"'Vstupní data'!G23","v":"Dell Inspiron 24"}]
[null,"K8",{"$f":"'Vstupní data'!M24","v":"Kapacita disku"},{"$f":"'Vstupní data'!P24","v":"MAX"},4,0.1125,null,null,"K8",{"$f":"'Vstupní data'!G24","v":"Dell OptiPlex 3050 SFF"}]
[null,"K9",{"$f":"'Vstupní data'!M25","v":"Grafická karta"},{"$f":"'Vstupní data'!P25","v":"MAX"},8,6.8750000000000006E-2,null,null,"K9",{"$f":"'Vstupní data'!G25","v":"Dell Optiplex 3040 SFF"}]
[null,"K10",{"$f":"'Vstupní data'!M26","v":"Výbava"},{"$f":"'Vstupní data'!P26","v":"MAX"},1,0.15937499999999999,null,null,"K10",{"$f":"'Vstupní data'!G26","v":"Dell Vostro 3668 MT"}]
[null,null,null,null,{"$f":"SUM(E3:E12)","v":54}]
[]
[]
[]
[]
[]
[]
[]
[]
[]
[]
[]
[]
[]
[]
[]
[]
[]
[]
[]
[]
[]
[]
[]
[]
[]
[]
[]
[]
[]
[]
[]
[]
[]
[]
[]
[]
[]
[]
[]
[]
[]
[]
[]
[]
[]
[]
[]
[]
[]
[]
[]
[]
[]
[]
[]
[]
[]
[]
[]
[]
[]
[]
[]
[]
[]
[]
[]
[]
[]
[]
[]
[]
[]
[]
[]
[]
[]
[]
[]
[]
[]
[]
[]
[]
[]
[]
[]
[]
[]
[]
[]
[]
[]
[]
[]
[]
[]
[]
[]
[]
[]
[]
[]
[]
[null,null,null,null,"Kritérium","Váhy"]
[null,null,null,null,{"$f":"C3","v":"Cena"},{"$f":"(11-E3)/$E$13","v":0.18518518518518517}]
[null,null,null,null,{"$f":"C4","v":"Doba bezplatného servisu"},3.7037037037037035E-2]
[null,null,null,null,"Záruční doba",1.8518518518518517E-2]
[null,null,null,null,"Spolehlivost dodavatele",0.14814814814814814]
[null,null,null,null,"OS",9.2592592592592587E-2]
[null,null,null,null,"Vnitřní paměť",0.1111111111111111]
[null,null,null,null,"Frekvence RAM",7.407407407407407E-2]
[null,null,null,null,"Kapacita disku",0.12962962962962962]
[null,null,null,null,"Grafická karta",5.5555555555555552E-2]
[null,null,null,null,"Výbava",0.18518518518518517]

{"sheet":"Vyšší počet expertů","index":5,"n_rows":29,"n_cols":62,"rows_kept":29,"cut":false,"hidden":false,"merged":[]}
[]
[null,null,null,null,"Pořadí","Pr","E1","E2","E3","E4","E5","E6","…"]
[{"$f":"SUM(G19:BJ19)","v":51},null,"K1",{"$f":"'Vstupní data'!M17","v":"Cena"},{"$f":"RANK(F3,$F$3:$F$12)","v":1},{"$f":"A3/$A$13","v":0.15937499999999999},1,1,1,5,4,1]
[{"$f":"SUM(G20:BJ20)","v":19},null,"K2",{"$f":"'Vstupní data'!M18","v":"Doba bezplatného servisu"},{"$f":"RANK(F4,$F$3:$F$12)","v":9},{"$f":"A4/$A$13","v":5.9374999999999997E-2},8,7,8,10,3,9]
[13,null,"K3",{"$f":"'Vstupní data'!M19","v":"Záruční doba"},{"$f":"RANK(F5,$F$3:$F$12)","v":10},4.0625000000000001E-2,10,8,10,7,6,10]
[37,null,"K4",{"$f":"'Vstupní data'!M20","v":"Spolehlivost dodavatele"},3,0.11562500000000001,2,10,2,4,4,4]
[31,null,"K5",{"$f":"'Vstupní data'!M21","v":"OS"},6,9.6875000000000003E-2,7,2,7,6,7,2]
[34,null,"K6",{"$f":"'Vstupní data'!M22","v":"Vnitřní paměť"},5,0.10625,3,9,3,2,9,3]
[26,null,"K7",{"$f":"'Vstupní data'!M23","v":"Frekvence RAM"},7,8.1250000000000003E-2,6,5,6,3,8,7]
[36,null,"K8",{"$f":"'Vstupní data'!M24","v":"Kapacita disku"},4,0.1125,4,3,4,8,2,5]
[22,null,"K9",{"$f":"'Vstupní data'!M25","v":"Grafická karta"},8,6.8750000000000006E-2,5,4,5,10,10,6]
[51,null,"K10",{"$f":"'Vstupní data'!M26","v":"Výbava"},1,0.15937499999999999,2,5,2,1,2,2]
[{"$f":"SUM(G29:BJ29)","v":320},null,null,null,null,null,{"$f":"SUM(G3:G12)","v":48},{"$f":"SUM(H3:H12)","v":54},48,56,55,49,0,0,0,0,0,{"$f":"SUM(R3:R12)","v":0},{"$f":"SUM(S3:S12)","v":0},{"$f":"SUM(T3:T12)","v":0},{"$f":"SUM(U3:U12)","v":0},{"$f":"SUM(V3:V12)","v":0},{"$f":"SUM(W3:W12)","v":0},{"$f":"SUM(X3:X12)","v":0},{"$f":"SUM(Y3:Y12)","v":0},{"$f":"SUM(Z3:Z12)","v":0},{"$f":"SUM(AA3:AA12)","v":0},{"$f":"SUM(AB3:AB12)","v":0},{"$f":"SUM(AC3:AC12)","v":0},{"$f":"SUM(AD3:AD12)","v":0},{"$f":"SUM(AE3:AE12)","v":0},{"$f":"SUM(AF3:AF12)","v":0},{"$f":"SUM(AG3:AG12)","v":0},{"$f":"SUM(AH3:AH12)","v":0},{"$f":"SUM(AI3:AI12)","v":0},{"$f":"SUM(AJ3:AJ12)","v":0},{"$f":"SUM(AK3:AK12)","v":0},{"$f":"SUM(AL3:AL12)","v":0},{"$f":"SUM(AM3:AM12)","v":0},{"$f":"SUM(AN3:AN12)","v":0},{"$f":"SUM(AO3:AO12)","v":0},{"$f":"SUM(AP3:AP12)","v":0},{"$f":"SUM(AQ3:AQ12)","v":0},{"$f":"SUM(AR3:AR12)","v":0},{"$f":"SUM(AS3:AS12)","v":0},{"$f":"SUM(AT3:AT12)","v":0},{"$f":"SUM(AU3:AU12)","v":0},{"$f":"SUM(AV3:AV12)","v":0},{"$f":"SUM(AW3:AW12)","v":0},{"$f":"SUM(AX3:AX12)","v":0},{"$f":"SUM(AY3:AY12)","v":0},{"$f":"SUM(AZ3:AZ12)","v":0},{"$f":"SUM(BA3:BA12)","v":0},{"$f":"SUM(BB3:BB12)","v":0},{"$f":"SUM(BC3:BC12)","v":0},{"$f":"SUM(BD3:BD12)","v":0},{"$f":"SUM(BE3:BE12)","v":0},{"$f":"SUM(BF3:BF12)","v":0},{"$f":"SUM(BG3:BG12)","v":0},{"$f":"SUM(BH3:BH12)","v":0},{"$f":"SUM(BI3:BI12)","v":0},{"$f":"SUM(BJ3:BJ12)","v":0}]
[]
[]
[]
[]
[]
[null,null,null,null,null,null,{"$f":"IF(G3=1,10,IF(G3=2,9,IF(G3=3,7,IF(G3=4,6,IF(G3=5,5,IF(G3=6,4,IF(G3=7,3,IF(G3=8,3,IF(G3=9,2,IF(G3=10,1,\"\"))))))))))","v":10},{"$f":"IF(H3=1,10,IF(H3=2,9,IF(H3=3,7,IF(H3=4,6,IF(H3=5,5,IF(H3=6,4,IF(H3=7,3,IF(H3=8,3,IF(H3=9,2,IF(H3=10,1,\"\"))))))))))","v":10},10,5,6,10,"","","","","","","","","","","","","","","","","","","","","","","","","","","","","","","","","","","","","","","","","","","","","","","","","",""]
[null,null,null,null,null,null,{"$f":"IF(G4=1,10,IF(G4=2,9,IF(G4=3,7,IF(G4=4,6,IF(G4=5,5,IF(G4=6,4,IF(G4=7,3,IF(G4=8,3,IF(G4=9,2,IF(G4=10,1,\"\"))))))))))","v":3},3,3,1,7,2,"","","","","","","","","","","","","","","","","","","","","","","","","","","","","","","","","","","","","","","","","","","","","","","","","",""]
[null,null,null,null,null,null,{"$f":"IF(G5=1,10,IF(G5=2,9,IF(G5=3,7,IF(G5=4,6,IF(G5=5,5,IF(G5=6,4,IF(G5=7,3,IF(G5=8,3,IF(G5=9,2,IF(G5=10,1,\"\"))))))))))","v":1},3,1,3,4,1,"","","","","","","","","","","","","","","","","","","","","","","","","","","","","","","","","","","","","","","","","","","","","","","","","",""]
[null,null,null,null,null,null,{"$f":"IF(G6=1,10,IF(G6=2,9,IF(G6=3,7,IF(G6=4,6,IF(G6=5,5,IF(G6=6,4,IF(G6=7,3,IF(G6=8,3,IF(G6=9,2,IF(G6=10,1,\"\"))))))))))","v":9},1,9,6,6,6,"","","","","","","","","","","","","","","","","","","","","","","","","","","","","","","","","","","","","","","","","","","","","","","","","",""]
[null,null,null,null,null,null,{"$f":"IF(G7=1,10,IF(G7=2,9,IF(G7=3,7,IF(G7=4,6,IF(G7=5,5,IF(G7=6,4,IF(G7=7,3,IF(G7=8,3,IF(G7=9,2,IF(G7=10,1,\"\"))))))))))","v":3},9,3,4,3,9,"","","","","","","","","","","","","","","","","","","","","","","","","","","","","","","","","","","","","","","","","","","","","","","","","",""]
[null,null,null,null,null,null,{"$f":"IF(G8=1,10,IF(G8=2,9,IF(G8=3,7,IF(G8=4,6,IF(G8=5,5,IF(G8=6,4,IF(G8=7,3,IF(G8=8,3,IF(G8=9,2,IF(G8=10,1,\"\"))))))))))","v":7},2,7,9,2,7,"","","","","","","","","","","","","","","","","","","","","","","","","","","","","","","","","","","","","","","","","","","","","","","","","",""]
[null,null,null,null,null,null,{"$f":"IF(G9=1,10,IF(G9=2,9,IF(G9=3,7,IF(G9=4,6,IF(G9=5,5,IF(G9=6,4,IF(G9=7,3,IF(G9=8,3,IF(G9=9,2,IF(G9=10,1,\"\"))))))))))","v":4},5,4,7,3,3,"","","","","","","","","","","","","","","","","","","","","","","","","","","","","","","","","","","","","","","","","","","","","","","","","",""]
[null,null,null,null,null,null,{"$f":"IF(G10=1,10,IF(G10=2,9,IF(G10=3,7,IF(G10=4,6,IF(G10=5,5,IF(G10=6,4,IF(G10=7,3,IF(G10=8,3,IF(G10=9,2,IF(G10=10,1,\"\"))))))))))","v":6},7,6,3,9,5,"","","","","","","","","","","","","","","","","","","","","","","","","","","","","","","","","","","","","","","","","","","","","","","","","",""]
[null,null,null,null,null,null,{"$f":"IF(G11=1,10,IF(G11=2,9,IF(G11=3,7,IF(G11=4,6,IF(G11=5,5,IF(G11=6,4,IF(G11=7,3,IF(G11=8,3,IF(G11=9,2,IF(G11=10,1,\"\"))))))))))","v":5},6,5,1,1,4,"","","","","","","","","","","","","","","","","","","","","","","","","","","","","","","","","","","","","","","","","","","","","","","","","",""]
[null,null,null,null,null,null,{"$f":"IF(G12=1,10,IF(G12=2,9,IF(G12=3,7,IF(G12=4,6,IF(G12=5,5,IF(G12=6,4,IF(G12=7,3,IF(G12=8,3,IF(G12=9,2,IF(G12=10,1,\"\"))))))))))","v":9},5,9,10,9,9,"","","","","","","","","","","","","","","","","","","","","","","","","","","","","","","","","","","","","","","","","","","","","","","","","",""]
[null,null,null,null,null,null,{"$f":"SUM(G19:G28)","v":57},{"$f":"SUM(H19:H28)","v":51},57,49,50,56,0,0,0,0,0,0,0,0,0,0,0,0,0,0,0,0,0,0,0,0,0,0,0,0,0,0,0,0,0,0,0,0,0,0,0,0,0,0,0,0,0,0,0,0,0,0,0,0,0,0]

{"sheet":"Saatyho metoda","index":6,"n_rows":24,"n_cols":14,"rows_kept":24,"cut":false,"hidden":false,"merged":[[19,9,19,11],[20,9,20,11],[21,9,21,11],[22,9,22,11],[23,9,23,11],[14,9,14,11],[15,9,15,11],[16,9,16,11],[17,9,17,11],[18,9,18,11],[18,2,18,7],[19,2,19,7],[14,2,14,7],[15,2,15,7],[16,2,16,7],[17,2,17,7]]}
[]
[null,"Saatyho matice","K1","K2","K3","K4","K5","K6","K7","K8","K9","K10","Geometrický průměr","Výsledné váhy"]
[null,"K1",1,9,7,5,5,3,3,1,3,3,{"$f":"GEOMEAN(C3:L3)","v":3.2402353647047279},{"$f":"M3/(SUM($M$3:$M$12))","v":0.24276957111900604}]
[null,"K2",{"$f":"1/D3","v":0.1111111111111111},1,1,0.33333333333333331,0.33333333333333331,0.2,0.2,0.2,0.14285714285714285,0.33333333333333331,{"$f":"GEOMEAN(C4:L4)","v":0.2932503690491215},{"$f":"M4/(SUM($M$3:$M$12))","v":2.1971325632708472E-2}]
[null,"K3",{"$f":"1/E3","v":0.14285714285714285},{"$f":"1/E4","v":1},1,0.33333333333333331,0.33333333333333331,0.33333333333333331,0.33333333333333331,0.2,0.14285714285714285,0.33333333333333331,{"$f":"GEOMEAN(C5:L5)","v":0.33306021970759264},2.4954016481633711E-2]
[null,"K4",{"$f":"1/F3","v":0.2},{"$f":"1/F4","v":3},{"$f":"1/F5","v":3},1,0.2,0.14285714285714285,0.14285714285714285,0.14285714285714285,0.14285714285714285,0.1111111111111111,{"$f":"GEOMEAN(C6:L6)","v":0.33278732985500964},2.4933570635879435E-2]
[null,"K5",{"$f":"1/G3","v":0.2},{"$f":"1/G4","v":3},{"$f":"1/G5","v":3},{"$f":"1/G6","v":5},1,0.33333333333333331,0.33333333333333331,0.2,0.2,0.2,0.6170338627200096,4.6230297912969946E-2]
[null,"K6",{"$f":"1/H3","v":0.33333333333333331},{"$f":"1/H4","v":5},{"$f":"1/H5","v":3},{"$f":"1/H6","v":7},{"$f":"1/H7","v":3},1,1,0.33333333333333331,1,0.33333333333333331,1.2784821797941675,9.5788279411056179E-2]
[null,"K7",{"$f":"1/I3","v":0.33333333333333331},{"$f":"1/I4","v":5},{"$f":"1/I5","v":3},{"$f":"1/I6","v":7},{"$f":"I7","v":0.33333333333333331},{"$f":"1/I8","v":1},1,1,3,1,1.4269435884576511,0.10691151845151453]
[null,"K8",{"$f":"1/J3","v":1},{"$f":"1/J4","v":5},{"$f":"1/J5","v":5},{"$f":"1/J6","v":7},{"$f":"1/J7","v":5},{"$f":"1/J8","v":3},{"$f":"1/J9","v":1},1,3,0.33333333333333331,2.1974192805510628,0.16463820564362905]
[null,"K9",{"$f":"1/K3","v":0.33333333333333331},{"$f":"1/K4","v":7},{"$f":"1/K5","v":7},{"$f":"1/K6","v":7},{"$f":"1/K7","v":5},{"$f":"1/K8","v":1},{"$f":"1/K9","v":0.33333333333333331},{"$f":"1/K10","v":0.33333333333333331},1,0.33333333333333331,1.3569939473050168,0.10167065089987576]
[null,"K10",{"$f":"1/L3","v":0.33333333333333331},{"$f":"1/L4","v":3},{"$f":"1/L5","v":3},{"$f":"1/L6","v":9},{"$f":"1/L7","v":5},{"$f":"1/L8","v":3},{"$f":"1/L9","v":1},{"$f":"1/L10","v":3},{"$f":"1/L11","v":3},1,2.2707522504144824,{"$f":"M12/(SUM($M$3:$M$12))","v":0.17013256381172703}]
[]
[]
[null,"Počet bodů","Deskriptor",null,null,null,null,null,null,{"$f":"'Vstupní data'!M17","v":"Cena"},null,null,"K1"]
[null,1,"Kritéria jsou stejně významná",null,null,null,null,null,null,{"$f":"'Vstupní data'!M18","v":"Doba bezplatného servisu"},null,null,"K2"]
[null,3,"První kritérium je slabě významnější než druhé",null,null,null,null,null,null,{"$f":"'Vstupní data'!M19","v":"Záruční doba"},null,null,"K3"]
[null,5,"První kritérium je dosti významnější než druhé",null,null,null,null,null,null,{"$f":"'Vstupní data'!M20","v":"Spolehlivost dodavatele"},null,null,"K4"]
[null,7,"První kritérium je prokazatelně významnější než druhé",null,null,null,null,null,null,{"$f":"'Vstupní data'!M21","v":"OS"},null,null,"K5"]
[null,9,"První kritérium je absolutně významnější než druhé",null,null,null,null,null,null,{"$f":"'Vstupní data'!M22","v":"Vnitřní paměť"},null,null,"K6"]
[null,null,null,null,null,null,null,null,null,{"$f":"'Vstupní data'!M23","v":"Frekvence RAM"},null,null,"K7"]
[null,null,null,null,null,null,null,null,null,{"$f":"'Vstupní data'!M24","v":"Kapacita disku"},null,null,"K8"]
[null,null,null,null,null,null,null,null,null,{"$f":"'Vstupní data'!M25","v":"Grafická karta"},null,null,"K9"]
[null,null,null,null,null,null,null,null,null,{"$f":"'Vstupní data'!M26","v":"Výbava"},null,null,"K10"]

{"sheet":"Hodnotyp pro jednotlivá krit","index":7,"n_rows":15,"n_cols":13,"rows_kept":15,"cut":false,"hidden":false,"merged":[[1,1,4,2],[4,14,6,15]]}
[]
[null,"Kritériální matice",null,"K1","K2","K3","K4","K5","K6","K7","K8","K9","K10"]
[null,null,null,{"$f":"'Vstupní data'!M17","v":"Cena"},{"$f":"'Vstupní data'!M18","v":"Doba bezplatného servisu"},{"$f":"'Vstupní data'!M19","v":"Záruční doba"},{"$f":"'Vstupní data'!M20","v":"Spolehlivost dodavatele"},{"$f":"'Vstupní data'!M21","v":"OS"},{"$f":"'Vstupní data'!M22","v":"Vnitřní paměť"},{"$f":"'Vstupní data'!M23","v":"Frekvence RAM"},{"$f":"'Vstupní data'!M24","v":"Kapacita disku"},{"$f":"'Vstupní data'!M25","v":"Grafická karta"},{"$f":"'Vstupní data'!M26","v":"Výbava"}]
[null,null,null,{"$f":"'Vstupní data'!O17","v":"Kč"},{"$f":"'Vstupní data'!O18","v":"Měsíce"},{"$f":"'Vstupní data'!O19","v":"Roky"},{"$f":"'Vstupní data'!O20","v":"Body"},{"$f":"'Vstupní data'!O21","v":0},{"$f":"'Vstupní data'!O22","v":"Gb"},{"$f":"'Vstupní data'!O23","v":"MHz"},{"$f":"'Vstupní data'!O24","v":"Gb"},{"$f":"'Vstupní data'!O25","v":"Body"},{"$f":"'Vstupní data'!O26","v":"Body"}]
[null,null,null,{"$f":"'Metoda pořadí'!D3","v":"MIN"},{"$f":"'Metoda pořadí'!D4","v":"MAX"},{"$f":"'Metoda pořadí'!D5","v":"MAX"},{"$f":"'Metoda pořadí'!D6","v":"MAX"},{"$f":"'Metoda pořadí'!D7","v":"MAX"},{"$f":"'Metoda pořadí'!D8","v":"MAX"},{"$f":"'Metoda pořadí'!D9","v":"MAX"},{"$f":"'Metoda pořadí'!D10","v":"MAX"},{"$f":"'Metoda pořadí'!D11","v":"MAX"},{"$f":"'Metoda pořadí'!D12","v":"MAX"}]
[null,"V1",{"$f":"'Vstupní data'!G17","v":"Lenovo Ideacentre 300-20ISH"},24467,24,24,1,10,2,3300,1,3,1]
[null,"V2",{"$f":"'Vstupní data'!G18","v":"Fujitsu Esprimo P556/E85+ "},19590,24,24,1,4,2,3200,1.1299999999999999,7,1]
[null,"V3",{"$f":"'Vstupní data'!G19","v":"HP Pavilion 24-b151nc "},22990,24,24,1,10,2,2200,1.1299999999999999,6,2]
[null,"V4",{"$f":"'Vstupní data'!G20","v":"Lenovo IdeaCentre 700-24ISH"},22990,24,24,1,10,2,3300,1.1299999999999999,4,2]
[null,"V5",{"$f":"'Vstupní data'!G21","v":"HP ProDesk 400 G4 Micro Tower "},20458,36,24,1,10,2,3900,0.25600000000000001,8,1]
[null,"V6",{"$f":"'Vstupní data'!G22","v":"Lenovo S510 Tower "},11990,36,36,2,10,1,3300,0.5,5,1]
[null,"V7",{"$f":"'Vstupní data'!G23","v":"Dell Inspiron 24"},17990,24,24,2,10,1,2400,1,2,2]
[null,"V8",{"$f":"'Vstupní data'!G24","v":"Dell OptiPlex 3050 SFF"},18990,36,36,2,10,2,3400,1,9,1]
[null,"V9",{"$f":"'Vstupní data'!G25","v":"Dell Optiplex 3040 SFF"},13290,36,36,1,10,1,3700,0.5,1,1]
[null,"V10",{"$f":"'Vstupní data'!G26","v":"Dell Vostro 3668 MT"},18990,36,36,2,10,2,3600,1,10,1]

{"sheet":"Metoda bodovací_ručně","index":8,"n_rows":106,"n_cols":52,"rows_kept":106,"cut":false,"hidden":false,"merged":[[15,1,16,1],[15,12,16,12],[28,1,29,1],[57,1,58,1],[1,2,1,3],[1,6,1,7],[1,10,1,11],[40,1,41,1],[1,14,1,15],[1,18,1,19],[8,2,8,3],[8,6,8,7],[8,10,8,11],[8,14,8,15],[8,18,8,19]]}
[]
[null,"Počet bodů","K1",null,null,"Počet bodů","K2",null,null,"Počet bodů","K3",null,null,"Počet bodů","K4",null,null,"Počet bodů","K5"]
[null,1,24467,21971.599999999999,null,1,24,26.4,null,1,24,26.4,null,1,1,1.2,null,1,4,5.2]
[null,2,21971.599989999999,19476.2,null,2,26.400009999999998,28.8,null,2,26.400009999999998,28.8,null,2,1.20001,1.4,null,2,5.2000099999999998,6.4]
[null,3,19476.199990000001,16980.8,null,3,28.80001,31.2,null,3,28.80001,31.2,null,3,1.40001,1.6,null,3,6.40001,7.6]
[null,4,16980.79999,14485.4,null,4,31.200009999999999,33.6,null,4,31.200009999999999,33.6,null,4,1.6000100000000002,1.8,null,4,7.6000099999999993,8.8000000000000007]
[null,5,14485.39999,11990,null,5,33.600010000000005,36,null,5,33.600010000000005,36,null,5,1.8000100000000001,2,null,5,8.8000100000000003,10]
[]
[null,"Počet bodů","K6",null,null,"Počet bodů","K7",null,null,"Počet bodů","K8",null,null,"Počet bodů","K9",null,null,"Počet bodů","K10"]
[null,1,1,5.2,null,1,2200,2540,null,1,0.25600000000000001,0.43079999999999996,null,1,1,2.8,null,1,1,1.2]
[null,2,5.2000099999999998,6.4,null,2,2540.0000100000002,2880,null,2,0.43080999999999997,0.60559999999999992,null,2,2.8000099999999999,4.5999999999999996,null,2,1.20001,1.4]
[null,3,6.40001,7.6,null,3,2880.0000100000002,3220,null,3,0.60560999999999987,0.78039999999999998,null,3,4.6000099999999993,6.4,null,3,1.40001,1.6]
[null,4,7.6000099999999993,8.8000000000000007,null,4,3220.0000100000002,3560,null,4,0.78040999999999994,0.95519999999999994,null,4,6.40001,8.1999999999999993,null,4,1.6000100000000002,1.8]
[null,5,8.8000100000000003,2,null,5,3560.0000100000002,3900,null,5,0.95520999999999989,1.1299999999999999,null,5,8.2000099999999989,10,null,5,1.8000100000000001,2]
[]
[null,"Tabulka bodů",{"$f":"C91","v":"V1"},"V2","V3","V4","V5","V6","V7","V8","V9","V10","Váhy"]
[null,null,{"$f":"C92","v":"MIN"},"MAX","MAX","MAX","MAX","MAX","MAX","MAX","MAX","MAX"]
[null,{"$f":"B93","v":"K1"},{"$f":"C45+M45+W45+AG45+AQ45+C60+M60+W60+AG60+AQ60","v":1},{"$f":"D45+N45+X45+AH45+AR45+D60+N60+X60+AH60+AR60","v":1},{"$f":"E45+O45+Y45+AI45+AS45+E60+O60+Y60+AI60+AS60","v":1},{"$f":"F45+P45+Z45+AJ45+AT45+F60+P60+Z60+AJ60+AT60","v":1},{"$f":"G45+Q45+AA45+AK45+AU45+G60+Q60+AA60+AK60+AU60","v":5},{"$f":"H45+R45+AB45+AL45+AV45+H60+R60+AB60+AL60+AV60","v":1},{"$f":"I45+S45+AC45+AM45+AW45+I60+S60+AC60+AM60+AW60","v":4},{"$f":"J45+T45+AD45+AN45+AX45+J60+T60+AD60+AN60+AX60","v":5},{"$f":"K45+U45+AE45+AO45+AY45+K60+U60+AE60+AO60+AY60","v":2},{"$f":"L45+V45+AF45+AP45+AZ45+L60+V60+AF60+AP60+AZ60","v":1},0.16376306620209058]
[null,"K2",2,1,1,1,1,1,3,5,4,1,5.5749128919860627E-2]
[null,"K3",1,1,1,1,5,1,1,5,3,5,4.1811846689895474E-2]
[null,"K4",1,1,1,1,5,1,4,5,2,5,0.11846689895470383]
[null,"K5",2,5,1,1,5,1,5,1,4,1,0.11149825783972125]
[null,"K6",5,5,5,5,5,1,4,2,3,1,9.4076655052264813E-2]
[null,"K7",3,1,1,5,5,1,1,5,1,5,9.0592334494773524E-2]
[null,"K8",3,5,5,5,5,1,4,5,5,1,0.11149825783972125]
[null,"K9",5,5,5,1,5,1,5,2,1,1,6.968641114982578E-2]
[null,"K10",3,5,5,5,5,1,5,5,5,1,0.14285714285714285]
[]
[null,{"$f":"B16","v":"Tabulka bodů"},{"$f":"C16","v":"V1"},{"$f":"D16","v":"V2"},"V3","V4","V5","V6","V7","V8","V9","V10"]
[null,null,{"$f":"C17","v":"MIN"},"MAX","MAX","MAX","MAX","MAX","MAX","MAX","MAX","MAX"]
[null,{"$f":"B18","v":"K1"},{"$f":"C18*$M18","v":0.16376306620209058},{"$f":"D18*$M18","v":0.16376306620209058},0.16376306620209058,0.16376306620209058,0.8188153310104529,0.16376306620209058,0.65505226480836232,0.8188153310104529,0.32752613240418116,0.16376306620209058]
[null,{"$f":"B19","v":"K2"},{"$f":"C19*$M19","v":0.11149825783972125},5.5749128919860627E-2,5.5749128919860627E-2,5.5749128919860627E-2,5.5749128919860627E-2,5.5749128919860627E-2,0.1672473867595819,0.27874564459930312,0.22299651567944251,5.5749128919860627E-2]
[null,"K3",4.1811846689895474E-2,4.1811846689895474E-2,4.1811846689895474E-2,4.1811846689895474E-2,0.20905923344947736,4.1811846689895474E-2,4.1811846689895474E-2,0.20905923344947736,0.12543554006968644,0.20905923344947736]
[null,"K4",0.11846689895470383,0.11846689895470383,0.11846689895470383,0.11846689895470383,0.59233449477351918,0.11846689895470383,0.47386759581881532,0.59233449477351918,0.23693379790940766,0.59233449477351918]
[null,"K5",0.22299651567944251,0.55749128919860624,0.11149825783972125,0.11149825783972125,0.55749128919860624,0.11149825783972125,0.55749128919860624,0.11149825783972125,0.44599303135888502,0.11149825783972125]
[null,"K6",0.47038327526132406,0.47038327526132406,0.47038327526132406,0.47038327526132406,0.47038327526132406,9.4076655052264813E-2,0.37630662020905925,0.18815331010452963,0.28222996515679444,9.4076655052264813E-2]
[null,"K7",0.27177700348432055,9.0592334494773524E-2,9.0592334494773524E-2,0.45296167247386765,0.45296167247386765,9.0592334494773524E-2,9.0592334494773524E-2,0.45296167247386765,9.0592334494773524E-2,0.45296167247386765]
[null,"K8",0.33449477351916379,0.55749128919860624,0.55749128919860624,0.55749128919860624,0.55749128919860624,0.11149825783972125,0.44599303135888502,0.55749128919860624,0.55749128919860624,0.11149825783972125]
[null,"K9",0.34843205574912889,0.34843205574912889,0.34843205574912889,6.968641114982578E-2,0.34843205574912889,6.968641114982578E-2,0.34843205574912889,0.13937282229965156,6.968641114982578E-2,6.968641114982578E-2]
[null,"K10",0.42857142857142855,0.71428571428571419,0.71428571428571419,0.71428571428571419,0.71428571428571419,{"$f":"H27*$M27","v":0.14285714285714285},0.71428571428571419,0.71428571428571419,0.71428571428571419,0.14285714285714285]
[null,null,{"$f":"SUM(C31:C40)","v":2.5121951219512191},{"$f":"SUM(D31:D40)","v":3.1184668989547033},2.6724738675958188,2.7560975609756095,4.7770034843205575,1,3.8710801393728218,4.0627177700348431,3.0731707317073171,2.0034843205574915]
[null,null,{"$f":"RANK(C41,$C$41:$L$41)","v":8},{"$f":"RANK(D41,$C$41:$L$41)","v":4},7,6,1,10,3,2,5,9]
[]
[]
[null,null,{"$f":"IF(AND($C93>=$C$3,$C93<=$D$3,C$92=\"MAX\"),1,0)","v":0},{"$f":"IF(AND($D93>=$G$3,$D93<=$H$3,D$92=\"MAX\"),1,0)","v":1},{"$f":"IF(AND($E93>=$K$3,$E93<=$L$3,E$92=\"MAX\"),1,0)","v":1},{"$f":"IF(AND($F93>=$O$3,$F93<=$P$3,F$92=\"MAX\"),1,0)","v":1},{"$f":"IF(AND($G93>=$S$3,$G93<=$T$3,G$92=\"MAX\"),1,0)","v":0},{"$f":"IF(AND($H93>=$C$10,$H93<=$D$10,H$92=\"MAX\"),1,0)","v":1},{"$f":"IF(AND($I93>=$G$10,$I93<=$H$10,I$92=\"MAX\"),1,0)","v":0},{"$f":"IF(AND($J93>=$K$10,$J93<=$L$10,J$92=\"MAX\"),1,0)","v":0},{"$f":"IF(AND($K93>=$O$10,$K93<=$P$10,K$92=\"MAX\"),1,0)","v":0},{"$f":"IF(AND($L93>=$S$10,$L93<=$T$10,L$92=\"MAX\"),1,0)","v":1},{"$f":"IF(AND($C93>=$C$4,$C93<=$D$4,C$92=\"MAX\"),2,0)","v":0},{"$f":"IF(AND($D93>=$G$4,$D93<=$H$4,D$92=\"MAX\"),2,0)","v":0},{"$f":"IF(AND($E93>=$K$4,$E93<=$L$4,E$92=\"MAX\"),2,0)","v":0},{"$f":"IF(AND($F93>=$O$4,$F93<=$P$4,F$92=\"MAX\"),2,0)","v":0},{"$f":"IF(AND($G93>=$S$4,$G93<=$T$4,G$92=\"MAX\"),2,0)","v":0},{"$f":"IF(AND($H93>=$C$11,$H93<=$D$11,H$92=\"MAX\"),2,0)","v":0},{"$f":"IF(AND($I93>=$G$11,$I93<=$H$11,I$92=\"MAX\"),2,0)","v":0},{"$f":"IF(AND($J93>=$K$11,$J93<=$L$11,J$92=\"MAX\"),2,0)","v":0},{"$f":"IF(AND($K93>=$O$11,$K93<=$P$11,K$92=\"MAX\"),2,0)","v":2},{"$f":"IF(AND($L93>=$S$11,$L93<=$T$11,L$92=\"MAX\"),2,0)","v":0},{"$f":"IF(AND($C93>=$C$5,$C93<=$D$5,C$92=\"MAX\"),3,0)","v":0},{"$f":"IF(AND($D93>=$G$5,$D93<=$H$5,D$92=\"MAX\"),3,0)","v":0},{"$f":"IF(AND($E93>=$K$5,$E93<=$L$5,E$92=\"MAX\"),3,0)","v":0},{"$f":"IF(AND($F93>=$O$5,$F93<=$P$5,F$92=\"MAX\"),3,0)","v":0},{"$f":"IF(AND($G93>=$S$5,$G93<=$T$5,G$92=\"MAX\"),3,0)","v":0},{"$f":"IF(AND($H93>=$C$12,$H93<=$D$12,H$92=\"MAX\"),3,0)","v":0},{"$f":"IF(AND($I93>=$G$12,$I93<=$H$12,I$92=\"MAX\"),3,0)","v":0},{"$f":"IF(AND($J93>=$K$12,$J93<=$L$12,J$92=\"MAX\"),3,0)","v":0},{"$f":"IF(AND($K93>=$O$12,$K93<=$P$12,K$92=\"MAX\"),3,0)","v":0},{"$f":"IF(AND($L93>=$S$12,$L93<=$T$12,L$92=\"MAX\"),3,0)","v":0},{"$f":"IF(AND($C93=$C$6,$C93<=$D$6,C$92=\"MAX\"),4,0)","v":0},{"$f":"IF(AND($D93>=$G$6,$D93<=$H$6,D$92=\"MAX\"),4,0)","v":0},{"$f":"IF(AND($E93>=$K$6,$E93<=$L$6,E$92=\"MAX\"),4,0)","v":0},{"$f":"IF(AND($F93>=$O$6,$F93<=$P$6,F$92=\"MAX\"),4,0)","v":0},{"$f":"IF(AND($G93>=$S$6,$G93<=$T$6,G$92=\"MAX\"),4,0)","v":0},{"$f":"IF(AND($H93>=$C$13,$H93<=$D$13,H$92=\"MAX\"),4,0)","v":0},{"$f":"IF(AND($I93>=$G$13,$I93<=$H$13,I$92=\"MAX\"),4,0)","v":4},{"$f":"IF(AND($J93>=$K$13,$J93<=$L$13,J$92=\"MAX\"),4,0)","v":0},{"$f":"IF(AND($K93>=$O$13,$K93<=$P$13,K$92=\"MAX\"),4,0)","v":0},{"$f":"IF(AND($L93>=$S$13,$L93<=$T$13,L$92=\"MAX\"),4,0)","v":0},{"$f":"IF(AND($C93>=$C$7,$C93<=$D$7,C$92=\"MAX\"),5,0)","v":0},{"$f":"IF(AND($D93>=$G$7,$D93<=$H$7,D$92=\"MAX\"),5,0)","v":0},{"$f":"IF(AND($E93>=$K$7,$E93<=$L$7,E$92=\"MAX\"),5,0)","v":0},{"$f":"IF(AND($F93>=$O$7,$F93<=$P$7,F$92=\"MAX\"),5,0)","v":0},{"$f":"IF(AND($G93>=$S$7,$G93<=$T$7,G$92=\"MAX\"),5,0)","v":5},{"$f":"IF(AND($H93>=$C$14,$H93<=$D$14,H$92=\"MAX\"),5,0)","v":0},{"$f":"IF(AND($I93>=$G$14,$I93<=$H$14,I$92=\"MAX\"),5,0)","v":0},{"$f":"IF(AND($J93>=$K$14,$J93<=$L$14,J$92=\"MAX\"),5,0)","v":5},{"$f":"IF(AND($K93>=$O$14,$K93<=$P$14,K$92=\"MAX\"),5,0)","v":0},{"$f":"IF(AND($L93>=$S$14,$L93<=$T$14,L$92=\"MAX\"),5,0)","v":0}]
[null,null,{"$f":"IF(AND($C94>=$C$3,$C94<=$D$3,C$92=\"MAX\"),1,0)","v":0},1,1,1,1,1,0,0,0,1,0,0,0,0,0,0,0,0,0,0,0,0,0,0,0,0,3,0,0,0,0,0,0,0,0,0,0,0,4,0,0,0,0,0,0,0,0,5,0,0]
[null,null,0,1,1,1,0,1,1,0,0,0,0,0,0,0,0,0,0,0,0,0,0,0,0,0,0,0,0,0,3,0,0,0,0,0,0,0,0,0,0,0,0,0,0,0,5,0,0,5,0,5]
[null,null,0,1,1,1,0,1,0,0,0,0,0,0,0,0,0,0,0,0,2,0,0,0,0,0,0,0,0,0,0,0,0,0,0,0,0,0,4,0,0,0,0,0,0,0,5,0,0,5,0,5]
[null,null,0,0,1,1,0,1,0,1,0,1,0,0,0,0,0,0,0,0,0,0,0,0,0,0,0,0,0,0,0,0,0,0,0,0,0,0,0,0,4,0,0,5,0,0,5,0,5,0,0,0]
[null,null,0,0,0,0,0,1,0,0,0,1,0,0,0,0,0,0,0,2,0,0,0,0,0,0,0,0,0,0,3,0,0,0,0,0,0,0,4,0,0,0,0,5,5,5,5,0,0,0,0,0]
[null,null,0,1,1,0,0,1,1,0,1,0,0,0,0,0,0,0,0,0,0,0,0,0,0,0,0,0,0,0,0,0,0,0,0,0,0,0,0,0,0,0,0,0,0,5,5,0,0,5,0,5]
[null,null,0,0,0,0,0,1,0,0,0,1,0,0,0,0,0,0,0,0,0,0,0,0,0,0,0,0,0,0,0,0,0,0,0,0,0,0,4,0,0,0,0,5,5,5,5,0,0,5,5,0]
[null,null,0,0,0,1,0,1,0,0,1,1,0,0,0,0,0,0,0,2,0,0,0,0,0,0,0,0,0,0,0,0,0,0,0,0,0,0,0,0,0,0,0,5,5,0,5,0,5,0,0,0]
[null,null,0,0,0,0,0,1,0,0,0,1,0,0,0,0,0,0,0,0,0,0,0,0,0,0,0,0,0,0,0,0,0,0,0,0,0,0,0,0,0,0,0,5,5,5,5,0,5,5,5,0]
[]
[]
[]
["MIN","1.interval","V1","V2","V3","V4","V5","V6","V7","V8","V9","V10"]
[null,null,{"$f":"C92","v":"MIN"},"MAX","MAX","MAX","MAX","MAX","MAX","MAX","MAX","MAX"]
[null,"K1",{"$f":"IF(AND($C93<=$C$3,$C93>=$D$3,C$92=\"MIN\"),1,0)","v":1},{"$f":"IF(AND($D93<=$G$3,$D93>=$H$3,D$92=\"MIN\"),1,0)","v":0},{"$f":"IF(AND($E93<=$K$3,$E93>=$L$3,E$92=\"MIN\"),1,0)","v":0},{"$f":"IF(AND($F93<=$O$3,$F93>=$P$3,F$92=\"MIN\"),1,0)","v":0},{"$f":"IF(AND($G93<=$S$3,$G93>=$T$3,G$92=\"MIN\"),1,0)","v":0},{"$f":"IF(AND($H93<=$C$10,$H93>=$D$10,H$92=\"MIN\"),1,0)","v":0},{"$f":"IF(AND($I93<=$G$10,$I93>=$H$10,I$92=\"MIN\"),1,0)","v":0},{"$f":"IF(AND($J93<=$K$10,$J93>=$L$10,J$92=\"MIN\"),1,0)","v":0},{"$f":"IF(AND($K93<=$O$10,$K93>=$P$10,K$92=\"MIN\"),1,0)","v":0},{"$f":"IF(AND($L93<=$S$10,$L93>=$T$10,L$92=\"MIN\"),1,0)","v":0},{"$f":"IF(AND($C93<=$C$4,$C93>=$D$4,C$92=\"MIN\"),2,0)","v":0},{"$f":"IF(AND($D93<=$G$4,$D93>=$H$4,D$92=\"MIN\"),2,0)","v":0},{"$f":"IF(AND($E93<=$K$4,$E93>=$L$4,E$92=\"MIN\"),2,0)","v":0},{"$f":"IF(AND($F93<=$O$4,$F93>=$P$4,F$92=\"MIN\"),2,0)","v":0},{"$f":"IF(AND($G93<=$S$4,$G93>=$T$4,G$92=\"MIN\"),2,0)","v":0},{"$f":"IF(AND($H93<=$C$11,$H93>=$D$11,H$92=\"MIN\"),2,0)","v":0},{"$f":"IF(AND($I93<=$G$11,$I93>=$H$11,I$92=\"MIN\"),2,0)","v":0},{"$f":"IF(AND($J93<=$K$11,$J93>=$L$11,J$92=\"MIN\"),2,0)","v":0},{"$f":"IF(AND($K93<=$O$11,$K93>=$P$11,K$92=\"MIN\"),2,0)","v":0},{"$f":"IF(AND($L93<=$S$11,$L93>=$T$11,L$92=\"MIN\"),2,0)","v":0},{"$f":"IF(AND($C93<=$C$5,$C93>=$D$5,C$92=\"MIN\"),3,0)","v":0},{"$f":"IF(AND($D93<=$G$5,$D93>=$H$5,D$92=\"MIN\"),3,0)","v":0},{"$f":"IF(AND($E93<=$K$5,$E93>=$L$5,E$92=\"MIN\"),3,0)","v":0},{"$f":"IF(AND($F93<=$O$5,$F93>=$P$5,F$92=\"MIN\"),3,0)","v":0},{"$f":"IF(AND($G93<=$S$5,$G93>=$T$5,G$92=\"MIN\"),3,0)","v":0},{"$f":"IF(AND($H93<=$C$12,$H93>=$D$12,H$92=\"MIN\"),3,0)","v":0},{"$f":"IF(AND($I93<=$G$12,$I93>=$H$12,I$92=\"MIN\"),3,0)","v":0},{"$f":"IF(AND($J93<=$K$12,$J93>=$L$12,J$92=\"MIN\"),3,0)","v":0},{"$f":"IF(AND($K93<=$O$12,$K93>=$P$12,K$92=\"MIN\"),3,0)","v":0},{"$f":"IF(AND($L93<=$S$12,$L93>=$T$12,L$92=\"MIN\"),3,0)","v":0},{"$f":"IF(AND($C93<=$C$6,$C93>=$D$6,C$92=\"MIN\"),4,0)","v":0},{"$f":"IF(AND($D93<=$G$6,$D93>=$H$6,D$92=\"MIN\"),4,0)","v":0},{"$f":"IF(AND($E93<=$K$6,$E93>=$L$6,E$92=\"MIN\"),4,0)","v":0},{"$f":"IF(AND($F93<=$O$6,$F93>=$P$6,F$92=\"MIN\"),4,0)","v":0},{"$f":"IF(AND($G93<=$S$6,$G93>=$T$6,G$92=\"MIN\"),4,0)","v":0},{"$f":"IF(AND($H93<=$C$13,$H93>=$D$13,H$92=\"MIN\"),4,0)","v":0},{"$f":"IF(AND($I93<=$G$13,$I93>=$H$13,I$92=\"MIN\"),4,0)","v":0},{"$f":"IF(AND($J93<=$K$13,$J93>=$L$13,J$92=\"MIN\"),4,0)","v":0},{"$f":"IF(AND($K93<=$O$13,$K93>=$P$13,K$92=\"MIN\"),4,0)","v":0},{"$f":"IF(AND($L93<=$S$13,$L93>=$T$13,L$92=\"MIN\"),4,0)","v":0},{"$f":"IF(AND($C93<=$C$7,$C93>=$D$7,C$92=\"MIN\"),5,0)","v":0},{"$f":"IF(AND($D93<=$G$7,$D93>=$H$7,D$92=\"MIN\"),5,0)","v":0},{"$f":"IF(AND($E93<=$K$7,$E93>=$L$7,E$92=\"MIN\"),5,0)","v":0},{"$f":"IF(AND($F93<=$O$7,$F93>=$P$7,F$92=\"MIN\"),5,0)","v":0},{"$f":"IF(AND($G93<=$S$7,$G93>=$T$7,G$92=\"MIN\"),5,0)","v":0},{"$f":"IF(AND($H93<=$C$14,$H93>=$D$14,H$92=\"MIN\"),5,0)","v":0},{"$f":"IF(AND($I93<=$G$14,$I93>=$H$14,I$92=\"MIN\"),5,0)","v":0},{"$f":"IF(AND($J93<=$K$14,$J93>=$L$14,J$92=\"MIN\"),5,0)","v":0},{"$f":"IF(AND($K93<=$O$14,$K93>=$P$14,K$92=\"MIN\"),5,0)","v":0},{"$f":"IF(AND($L93<=$S$14,$L93>=$T$14,L$92=\"MIN\"),5,0)","v":0}]
[null,"K2",0,0,0,0,0,0,0,0,0,0,2,0,0,0,0,0,0,0,0,0,0,0,0,0,0,0,0,0,0,0,0,0,0,0,0,0,0,0,0,0,0,0,0,0,0,0,0,0,0,0]
[null,"K3",1,0,0,0,0,0,0,0,0,0,0,0,0,0,0,0,0,0,0,0,0,0,0,0,0,0,0,0,0,0,0,0,0,0,0,0,0,0,0,0,0,0,0,0,0,0,0,0,0,0]
[null,"K4",1,0,0,0,0,0,0,0,0,0,0,0,0,0,0,0,0,0,0,0,0,0,0,0,0,0,0,0,0,0,0,0,0,0,0,0,0,0,0,0,0,0,0,0,0,0,0,0,0,0]
[null,"K5",0,0,0,0,0,0,0,0,0,0,2,0,0,0,0,0,0,0,0,0,0,0,0,0,0,0,0,0,0,0,0,0,0,0,0,0,0,0,0,0,0,0,0,0,0,0,0,0,0,0]
[null,"K6",0,0,0,0,0,0,0,0,0,0,0,0,0,0,0,0,0,0,0,0,0,0,0,0,0,0,0,0,0,0,0,0,0,0,0,0,0,0,0,0,5,0,0,0,0,0,0,0,0,0]
[null,"K7",0,0,0,0,0,0,0,0,0,0,0,0,0,0,0,0,0,0,0,0,3,0,0,0,0,0,0,0,0,0,0,0,0,0,0,0,0,0,0,0,0,0,0,0,0,0,0,0,0,0]
[null,"K8",0,0,0,0,0,0,0,0,0,0,0,0,0,0,0,0,0,0,0,0,3,0,0,0,0,0,0,0,0,0,0,0,0,0,0,0,0,0,0,0,0,0,0,0,0,0,0,0,0,0]
[null,"K9",0,0,0,0,0,0,0,0,0,0,0,0,0,0,0,0,0,0,0,0,0,0,0,0,0,0,0,0,0,0,0,0,0,0,0,0,0,0,0,0,5,0,0,0,0,0,0,0,0,0]
[null,"K10",0,0,0,0,0,0,0,0,0,0,0,0,0,0,0,0,0,0,0,0,3,0,0,0,0,0,0,0,0,0,0,0,0,0,0,0,0,0,0,0,0,0,0,0,0,0,0,0,0,0]
[]
[]
[null,{"$f":"B2","v":"Počet bodů"},{"$f":"C2","v":"K1"},null,null,"Počet bodů","K2",null,null,"Počet bodů","K3",null,null,"Počet bodů","K4",null,null,"Počet bodů","K5"]
[null,1,{"$f":"IF($C$92=\"MIN\",D7,D3)","v":11990},null,null,{"$f":"F3","v":1},24,26.4,null,{"$f":"J3","v":1},24,26.4,null,{"$f":"N3","v":1},1,1.2,null,{"$f":"R3","v":1},4,5.2]
[null,2,{"$f":"IF($C$92=\"MIN\",D6,D4)","v":14485.4},null,null,2,26.400009999999998,28.8,null,2,26.400009999999998,28.8,null,2,1.20001,1.4,null,2,5.2000099999999998,6.4]
[null,3,{"$f":"IF($C$92=\"MIN\",D5,D5)","v":16980.8},null,null,3,28.80001,31.2,null,3,28.80001,31.2,null,3,1.40001,1.6,null,3,6.40001,7.6]
[null,4,{"$f":"IF($C$92=\"MIN\",D4,D6)","v":19476.2},null,null,4,31.200009999999999,33.6,null,4,31.200009999999999,33.6,null,4,1.6000100000000002,1.8,null,4,7.6000099999999993,8.8000000000000007]
[null,5,{"$f":"IF($C$92=\"MIN\",D3,D7)","v":21971.599999999999},null,null,5,33.600010000000005,36,null,5,33.600010000000005,36,null,5,1.8000100000000001,2,null,5,8.8000100000000003,10]
[]
[null,{"$f":"B9","v":"Počet bodů"},"K6",null,null,{"$f":"F9","v":"Počet bodů"},"K7",null,null,{"$f":"J9","v":"Počet bodů"},"K8",null,null,{"$f":"N9","v":"Počet bodů"},"K9",null,null,{"$f":"R9","v":"Počet bodů"},"K10"]
[null,1,1,{"$f":"D10","v":5.2},null,1,2200,{"$f":"H10","v":2540},null,1,0.25600000000000001,{"$f":"L10","v":0.43079999999999996},null,1,1,{"$f":"P10","v":2.8},null,1,1,{"$f":"T10","v":1.2}]
[null,2,5.2000099999999998,{"$f":"D11","v":6.4},null,2,2540.0000100000002,{"$f":"H11","v":2880},null,2,0.43080999999999997,{"$f":"L11","v":0.60559999999999992},null,2,2.8000099999999999,{"$f":"P11","v":4.5999999999999996},null,2,1.20001,{"$f":"T11","v":1.4}]
[null,3,6.40001,{"$f":"D12","v":7.6},null,3,2880.0000100000002,{"$f":"H12","v":3220},null,3,0.60560999999999987,{"$f":"L12","v":0.78039999999999998},null,3,4.6000099999999993,{"$f":"P12","v":6.4},null,3,1.40001,{"$f":"T12","v":1.6}]
[null,4,7.6000099999999993,{"$f":"D13","v":8.8000000000000007},null,4,3220.0000100000002,{"$f":"H13","v":3560},null,4,0.78040999999999994,{"$f":"L13","v":0.95519999999999994},null,4,6.40001,{"$f":"P13","v":8.1999999999999993},null,4,1.6000100000000002,{"$f":"T13","v":1.8}]
[null,5,8.8000100000000003,{"$f":"D14","v":2},null,5,3560.0000100000002,{"$f":"H14","v":3900},null,5,0.95520999999999989,{"$f":"L14","v":1.1299999999999999},null,5,8.2000099999999989,{"$f":"P14","v":10},null,5,1.8000100000000001,{"$f":"T14","v":2}]
[]
[]
[]
[]
[]
[]
[null,null,"V1","V2","V3","V4","V5","V6","V7","V8","V9","V10"]
[null,null,{"$f":"'Hodnotyp pro jednotlivá krit'!D5","v":"MIN"},{"$f":"'Hodnotyp pro jednotlivá krit'!E5","v":"MAX"},{"$f":"'Hodnotyp pro jednotlivá krit'!F5","v":"MAX"},{"$f":"'Hodnotyp pro jednotlivá krit'!G5","v":"MAX"},{"$f":"'Hodnotyp pro jednotlivá krit'!H5","v":"MAX"},{"$f":"'Hodnotyp pro jednotlivá krit'!I5","v":"MAX"},{"$f":"'Hodnotyp pro jednotlivá krit'!J5","v":"MAX"},{"$f":"'Hodnotyp pro jednotlivá krit'!K5","v":"MAX"},{"$f":"'Hodnotyp pro jednotlivá krit'!L5","v":"MAX"},{"$f":"'Hodnotyp pro jednotlivá krit'!M5","v":"MAX"}]
[null,"K1",{"$f":"'Hodnotyp pro jednotlivá krit'!D6","v":24467},{"$f":"'Hodnotyp pro jednotlivá krit'!E6","v":24},{"$f":"'Hodnotyp pro jednotlivá krit'!F6","v":24},{"$f":"'Hodnotyp pro jednotlivá krit'!G6","v":1},{"$f":"'Hodnotyp pro jednotlivá krit'!H6","v":10},{"$f":"'Hodnotyp pro jednotlivá krit'!I6","v":2},{"$f":"'Hodnotyp pro jednotlivá krit'!J6","v":3300},{"$f":"'Hodnotyp pro jednotlivá krit'!K6","v":1},{"$f":"'Hodnotyp pro jednotlivá krit'!L6","v":3},{"$f":"'Hodnotyp pro jednotlivá krit'!M6","v":1}]
[null,"K2",{"$f":"'Hodnotyp pro jednotlivá krit'!D7","v":19590},{"$f":"'Hodnotyp pro jednotlivá krit'!E7","v":24},{"$f":"'Hodnotyp pro jednotlivá krit'!F7","v":24},{"$f":"'Hodnotyp pro jednotlivá krit'!G7","v":1},{"$f":"'Hodnotyp pro jednotlivá krit'!H7","v":4},{"$f":"'Hodnotyp pro jednotlivá krit'!I7","v":2},{"$f":"'Hodnotyp pro jednotlivá krit'!J7","v":3200},{"$f":"'Hodnotyp pro jednotlivá krit'!K7","v":1.1299999999999999},{"$f":"'Hodnotyp pro jednotlivá krit'!L7","v":7},{"$f":"'Hodnotyp pro jednotlivá krit'!M7","v":1}]
[null,"K3",{"$f":"'Hodnotyp pro jednotlivá krit'!D8","v":22990},{"$f":"'Hodnotyp pro jednotlivá krit'!E8","v":24},{"$f":"'Hodnotyp pro jednotlivá krit'!F8","v":24},{"$f":"'Hodnotyp pro jednotlivá krit'!G8","v":1},{"$f":"'Hodnotyp pro jednotlivá krit'!H8","v":10},{"$f":"'Hodnotyp pro jednotlivá krit'!I8","v":2},{"$f":"'Hodnotyp pro jednotlivá krit'!J8","v":2200},{"$f":"'Hodnotyp pro jednotlivá krit'!K8","v":1.1299999999999999},{"$f":"'Hodnotyp pro jednotlivá krit'!L8","v":6},{"$f":"'Hodnotyp pro jednotlivá krit'!M8","v":2}]
[null,"K4",{"$f":"'Hodnotyp pro jednotlivá krit'!D9","v":22990},{"$f":"'Hodnotyp pro jednotlivá krit'!E9","v":24},{"$f":"'Hodnotyp pro jednotlivá krit'!F9","v":24},{"$f":"'Hodnotyp pro jednotlivá krit'!G9","v":1},{"$f":"'Hodnotyp pro jednotlivá krit'!H9","v":10},{"$f":"'Hodnotyp pro jednotlivá krit'!I9","v":2},{"$f":"'Hodnotyp pro jednotlivá krit'!J9","v":3300},{"$f":"'Hodnotyp pro jednotlivá krit'!K9","v":1.1299999999999999},{"$f":"'Hodnotyp pro jednotlivá krit'!L9","v":4},{"$f":"'Hodnotyp pro jednotlivá krit'!M9","v":2}]
[null,"K5",{"$f":"'Hodnotyp pro jednotlivá krit'!D10","v":20458},{"$f":"'Hodnotyp pro jednotlivá krit'!E10","v":36},{"$f":"'Hodnotyp pro jednotlivá krit'!F10","v":24},{"$f":"'Hodnotyp pro jednotlivá krit'!G10","v":1},{"$f":"'Hodnotyp pro jednotlivá krit'!H10","v":10},{"$f":"'Hodnotyp pro jednotlivá krit'!I10","v":2},{"$f":"'Hodnotyp pro jednotlivá krit'!J10","v":3900},{"$f":"'Hodnotyp pro jednotlivá krit'!K10","v":0.25600000000000001},{"$f":"'Hodnotyp pro jednotlivá krit'!L10","v":8},{"$f":"'Hodnotyp pro jednotlivá krit'!M10","v":1}]
[null,"K6",{"$f":"'Hodnotyp pro jednotlivá krit'!D11","v":11990},{"$f":"'Hodnotyp pro jednotlivá krit'!E11","v":36},{"$f":"'Hodnotyp pro jednotlivá krit'!F11","v":36},{"$f":"'Hodnotyp pro jednotlivá krit'!G11","v":2},{"$f":"'Hodnotyp pro jednotlivá krit'!H11","v":10},{"$f":"'Hodnotyp pro jednotlivá krit'!I11","v":1},{"$f":"'Hodnotyp pro jednotlivá krit'!J11","v":3300},{"$f":"'Hodnotyp pro jednotlivá krit'!K11","v":0.5},{"$f":"'Hodnotyp pro jednotlivá krit'!L11","v":5},{"$f":"'Hodnotyp pro jednotlivá krit'!M11","v":1}]
[null,"K7",{"$f":"'Hodnotyp pro jednotlivá krit'!D12","v":17990},{"$f":"'Hodnotyp pro jednotlivá krit'!E12","v":24},{"$f":"'Hodnotyp pro jednotlivá krit'!F12","v":24},{"$f":"'Hodnotyp pro jednotlivá krit'!G12","v":2},{"$f":"'Hodnotyp pro jednotlivá krit'!H12","v":10},{"$f":"'Hodnotyp pro jednotlivá krit'!I12","v":1},{"$f":"'Hodnotyp pro jednotlivá krit'!J12","v":2400},{"$f":"'Hodnotyp pro jednotlivá krit'!K12","v":1},{"$f":"'Hodnotyp pro jednotlivá krit'!L12","v":2},{"$f":"'Hodnotyp pro jednotlivá krit'!M12","v":2}]
[null,"K8",{"$f":"'Hodnotyp pro jednotlivá krit'!D13","v":18990},{"$f":"'Hodnotyp pro jednotlivá krit'!E13","v":36},{"$f":"'Hodnotyp pro jednotlivá krit'!F13","v":36},{"$f":"'Hodnotyp pro jednotlivá krit'!G13","v":2},{"$f":"'Hodnotyp pro jednotlivá krit'!H13","v":10},{"$f":"'Hodnotyp pro jednotlivá krit'!I13","v":2},{"$f":"'Hodnotyp pro jednotlivá krit'!J13","v":3400},{"$f":"'Hodnotyp pro jednotlivá krit'!K13","v":1},{"$f":"'Hodnotyp pro jednotlivá krit'!L13","v":9},{"$f":"'Hodnotyp pro jednotlivá krit'!M13","v":1}]
[null,"K9",{"$f":"'Hodnotyp pro jednotlivá krit'!D14","v":13290},{"$f":"'Hodnotyp pro jednotlivá krit'!E14","v":36},{"$f":"'Hodnotyp pro jednotlivá krit'!F14","v":36},{"$f":"'Hodnotyp pro jednotlivá krit'!G14","v":1},{"$f":"'Hodnotyp pro jednotlivá krit'!H14","v":10},{"$f":"'Hodnotyp pro jednotlivá krit'!I14","v":1},{"$f":"'Hodnotyp pro jednotlivá krit'!J14","v":3700},{"$f":"'Hodnotyp pro jednotlivá krit'!K14","v":0.5},{"$f":"'Hodnotyp pro jednotlivá krit'!L14","v":1},{"$f":"'Hodnotyp pro jednotlivá krit'!M14","v":1}]
[null,"K10",{"$f":"'Hodnotyp pro jednotlivá krit'!D15","v":18990},{"$f":"'Hodnotyp pro jednotlivá krit'!E15","v":36},{"$f":"'Hodnotyp pro jednotlivá krit'!F15","v":36},{"$f":"'Hodnotyp pro jednotlivá krit'!G15","v":2},{"$f":"'Hodnotyp pro jednotlivá krit'!H15","v":10},{"$f":"'Hodnotyp pro jednotlivá krit'!I15","v":2},{"$f":"'Hodnotyp pro jednotlivá krit'!J15","v":3600},{"$f":"'Hodnotyp pro jednotlivá krit'!K15","v":1},{"$f":"'Hodnotyp pro jednotlivá krit'!L15","v":10},{"$f":"'Hodnotyp pro jednotlivá krit'!M15","v":1}]
[]
[null,"MAX",{"$f":"MAX(C93:C102)","v":24467},{"$f":"MAX(D93:D102)","v":36},36,2,10,2,3900,1.1299999999999999,10,2]
[null,"MIN",{"$f":"MIN(C93:C102)","v":11990},{"$f":"MIN(D93:D102)","v":24},24,1,4,1,2200,0.25600000000000001,1,1]
[null,"Stupeň",{"$f":"(C104-C105)/5","v":2495.4},{"$f":"(D104-D105)/5","v":2.4},{"$f":"(E104-E105)/5","v":2.4},0.2,1.2,0.2,340,0.17479999999999998,1.8,0.2]

{"sheet":"Metoda bodovací_automaticky","index":9,"n_rows":106,"n_cols":52,"rows_kept":106,"cut":false,"hidden":false,"merged":[[1,18,1,19],[8,18,8,19],[57,1,58,1],[15,1,16,1],[15,12,16,12],[28,1,29,1],[1,14,1,15],[1,10,1,11],[1,6,1,7],[1,2,1,3],[8,2,8,3],[8,6,8,7],[8,10,8,11],[8,14,8,15],[40,1,41,1]]}
[]
[null,"Počet bodů","K1",null,null,"Počet bodů","K2",null,null,"Počet bodů","K3",null,null,"Počet bodů","K4",null,null,"Počet bodů","K5"]
[null,1,{"$f":"IF(C92=\"MIN\",C104,C105)","v":24467},{"$f":"IF(C92=\"MIN\",C104-C106,C105+C106)","v":21971.599999999999},null,1,{"$f":"IF(D92=\"MIN\",D104,D105)","v":24},{"$f":"IF(D92=\"MIN\",D104-D106,D105+D106)","v":26.4},null,1,{"$f":"IF(E92=\"MIN\",E104,E105)","v":24},{"$f":"IF(E92=\"MIN\",E104-(E106),E105+(E106))","v":26.4},null,1,{"$f":"IF(F92=\"MIN\",F104,F105)","v":1},{"$f":"IF(F92=\"MIN\",F104-F106,F105+F106)","v":1.2},null,1,{"$f":"IF(G92=\"MIN\",G104,G105)","v":4},{"$f":"IF(G92=\"MIN\",G104-G106,G105+G106)","v":5.2}]
[null,2,{"$f":"IF(C92=\"MIN\",C104-(C106)-0.00001,C105+(C106)+0.00001)","v":21971.599989999999},{"$f":"IF(C92=\"MIN\",C104-(2*C106),C105+(2*C106))","v":19476.2},null,2,{"$f":"IF(D92=\"MIN\",D104-(D106)-0.00001,D105+(D106)+0.00001)","v":26.400009999999998},{"$f":"IF(D92=\"MIN\",D104-(2*D106),D105+(2*D106))","v":28.8},null,2,{"$f":"IF(E92=\"MIN\",E104-(E106)-0.00001,E105+(E106)+0.00001)","v":26.400009999999998},{"$f":"IF(E92=\"MIN\",E104-(2*E106),E105+(2*E106))","v":28.8},null,2,{"$f":"IF(F92=\"MIN\",F104-(F106)-0.00001,F105+(F106)+0.00001)","v":1.20001},{"$f":"IF(F92=\"MIN\",F104-(2*F106),F105+(2*F106))","v":1.4},null,2,{"$f":"IF(G92=\"MIN\",G104-(G106)-0.00001,G105+(G106)+0.00001)","v":5.2000099999999998},{"$f":"IF(G92=\"MIN\",G104-(2*G106),G105+(2*G106))","v":6.4}]
[null,3,{"$f":"IF(C92=\"MIN\",C104-(2*C106)-0.00001,C105+(2*C106)+0.00001)","v":19476.199990000001},{"$f":"IF(C92=\"MIN\",C104-(3*C106),C105+(3*C106))","v":16980.8},null,3,{"$f":"IF(D92=\"MIN\",D104-(2*D106)-0.00001,D105+(2*D106)+0.00001)","v":28.80001},{"$f":"IF(D92=\"MIN\",D104-(3*D106),D105+(3*D106))","v":31.2},null,3,{"$f":"IF(E92=\"MIN\",E104-(2*E106)-0.00001,E105+(2*E106)+0.00001)","v":28.80001},{"$f":"IF(E92=\"MIN\",E104-(3*E106),E105+(3*E106))","v":31.2},null,3,{"$f":"IF(F92=\"MIN\",F104-(2*F106)-0.00001,F105+(2*F106)+0.00001)","v":1.40001},{"$f":"IF(F92=\"MIN\",F104-(3*F106),F105+(3*F106))","v":1.6},null,3,{"$f":"IF(G92=\"MIN\",G104-(2*G106)-0.00001,G105+(2*G106)+0.00001)","v":6.40001},{"$f":"IF(G92=\"MIN\",G104-(3*G106),G105+(3*G106))","v":7.6}]
[null,4,{"$f":"IF(C92=\"MIN\",C104-(3*C106)-0.00001,C105+(3*C106)+0.00001)","v":16980.79999},{"$f":"IF(C92=\"MIN\",C104-(4*C106),C105+(4*C106))","v":14485.4},null,4,{"$f":"IF(D92=\"MIN\",D104-(3*D106)-0.00001,D105+(3*D106)+0.00001)","v":31.200009999999999},{"$f":"IF(D92=\"MIN\",D104-(4*D106),D105+(4*D106))","v":33.6},null,4,{"$f":"IF(E92=\"MIN\",E104-(3*E106)-0.00001,E105+(3*E106)+0.00001)","v":31.200009999999999},{"$f":"IF(E92=\"MIN\",E104-(4*E106),E105+(4*E106))","v":33.6},null,4,{"$f":"IF(F92=\"MIN\",F104-(3*F106)-0.00001,F105+(3*F106)+0.00001)","v":1.6000100000000002},{"$f":"IF(F92=\"MIN\",F104-(4*F106),F105+(4*F106))","v":1.8},null,4,{"$f":"IF(G92=\"MIN\",G104-(3*G106)-0.00001,G105+(3*G106)+0.00001)","v":7.6000099999999993},{"$f":"IF(G92=\"MIN\",G104-(4*G106),G105+(4*G106))","v":8.8000000000000007}]
[null,5,{"$f":"IF(C92=\"MIN\",C104-(4*C106)-0.00001,C105+(4*C106)+0.00001)","v":14485.39999},{"$f":"IF(C92=\"MIN\",C104-(5*C106),C105+(5*C106))","v":11990},null,5,{"$f":"IF(D92=\"MIN\",D104-(4*D106)-0.00001,D105+(4*D106)+0.00001)","v":33.600010000000005},{"$f":"IF(D92=\"MIN\",D104-(5*D106),D105+(5*D106))","v":36},null,5,{"$f":"IF(E92=\"MIN\",E104-(4*E106)-0.00001,E105+(4*E106)+0.00001)","v":33.600010000000005},{"$f":"IF(E92=\"MIN\",E104-(5*E106),E105+(5*E106))","v":36},null,5,{"$f":"IF(F92=\"MIN\",F104-(4*F106)-0.00001,F105+(4*F106)+0.00001)","v":1.8000100000000001},{"$f":"IF(F92=\"MIN\",F104-(5*F106),F105+(5*F106))","v":2},null,5,{"$f":"IF(G92=\"MIN\",G104-(4*G106)-0.00001,G105+(4*G106)+0.00001)","v":8.8000100000000003},{"$f":"IF(G92=\"MIN\",G104-(5*G106),G105+(5*G106))","v":10}]
[]
[null,"Počet bodů","K6",null,null,"Počet bodů","K7",null,null,"Počet bodů","K8",null,null,"Počet bodů","K9",null,null,"Počet bodů","K10"]
[null,1,{"$f":"IF(H92=\"MIN\",H104,H105)","v":1},{"$f":"IF(H92=\"MIN\",H104-G106,G105+G106)","v":5.2},null,1,{"$f":"IF(I92=\"MIN\",I104,I105)","v":2200},{"$f":"IF(I92=\"MIN\",I104-I106,I105+I106)","v":2540},null,1,{"$f":"IF(J92=\"MIN\",J104,J105)","v":0.25600000000000001},{"$f":"IF(J92=\"MIN\",J104-J106,J105+J106)","v":0.43079999999999996},null,1,{"$f":"IF(K92=\"MIN\",K104,K105)","v":1},{"$f":"IF(K92=\"MIN\",K104-K106,K105+K106)","v":2.8},null,1,{"$f":"IF(L92=\"MIN\",L104,L105)","v":1},{"$f":"IF(L92=\"MIN\",L104-L106,L105+L106)","v":1.2}]
[null,2,{"$f":"IF(H92=\"MIN\",G104-(G106)-0.00001,G105+(G106)+0.00001)","v":5.2000099999999998},{"$f":"IF(H92=\"MIN\",G104-(2*G106),G105+(2*G106))","v":6.4},null,2,{"$f":"IF(I92=\"MIN\",I104-(I106)-0.00001,I105+(I106)+0.00001)","v":2540.0000100000002},{"$f":"IF(I92=\"MIN\",I104-(2*I106),I105+(2*I106))","v":2880},null,2,{"$f":"IF(J92=\"MIN\",J104-(J106)-0.00001,J105+(J106)+0.00001)","v":0.43080999999999997},{"$f":"IF(J92=\"MIN\",J104-(2*J106),J105+(2*J106))","v":0.60559999999999992},null,2,{"$f":"IF(K92=\"MIN\",K104-(K106)-0.00001,K105+(K106)+0.00001)","v":2.8000099999999999},{"$f":"IF(K92=\"MIN\",K104-(2*K106),K105+(2*K106))","v":4.5999999999999996},null,2,{"$f":"IF(L92=\"MIN\",L104-(L106)-0.00001,L105+(L106)+0.00001)","v":1.20001},{"$f":"IF(L92=\"MIN\",L104-(2*L106),L105+(2*L106))","v":1.4}]
[null,3,{"$f":"IF(H92=\"MIN\",G104-(2*G106)-0.00001,G105+(2*G106)+0.00001)","v":6.40001},{"$f":"IF(H92=\"MIN\",G104-(3*G106),G105+(3*G106))","v":7.6},null,3,{"$f":"IF(I92=\"MIN\",I104-(2*I106)-0.00001,I105+(2*I106)+0.00001)","v":2880.0000100000002},{"$f":"IF(I92=\"MIN\",I104-(3*I106),I105+(3*I106))","v":3220},null,3,{"$f":"IF(J92=\"MIN\",J104-(2*J106)-0.00001,J105+(2*J106)+0.00001)","v":0.60560999999999987},{"$f":"IF(J92=\"MIN\",J104-(3*J106),J105+(3*J106))","v":0.78039999999999998},null,3,{"$f":"IF(K92=\"MIN\",K104-(2*K106)-0.00001,K105+(2*K106)+0.00001)","v":4.6000099999999993},{"$f":"IF(K92=\"MIN\",K104-(3*K106),K105+(3*K106))","v":6.4},null,3,{"$f":"IF(L92=\"MIN\",L104-(2*L106)-0.00001,L105+(2*L106)+0.00001)","v":1.40001},{"$f":"IF(L92=\"MIN\",L104-(3*L106),L105+(3*L106))","v":1.6}]
[null,4,{"$f":"IF(H92=\"MIN\",G104-(3*G106)-0.00001,G105+(3*G106)+0.00001)","v":7.6000099999999993},{"$f":"IF(H92=\"MIN\",G104-(4*G106),G105+(4*G106))","v":8.8000000000000007},null,4,{"$f":"IF(I92=\"MIN\",I104-(3*I106)-0.00001,I105+(3*I106)+0.00001)","v":3220.0000100000002},{"$f":"IF(I92=\"MIN\",I104-(4*I106),I105+(4*I106))","v":3560},null,4,{"$f":"IF(J92=\"MIN\",J104-(3*J106)-0.00001,J105+(3*J106)+0.00001)","v":0.78040999999999994},{"$f":"IF(J92=\"MIN\",J104-(4*J106),J105+(4*J106))","v":0.95519999999999994},null,4,{"$f":"IF(K92=\"MIN\",K104-(3*K106)-0.00001,K105+(3*K106)+0.00001)","v":6.40001},{"$f":"IF(K92=\"MIN\",K104-(4*K106),K105+(4*K106))","v":8.1999999999999993},null,4,{"$f":"IF(L92=\"MIN\",L104-(3*L106)-0.00001,L105+(3*L106)+0.00001)","v":1.6000100000000002},{"$f":"IF(L92=\"MIN\",L104-(4*L106),L105+(4*L106))","v":1.8}]
[null,5,{"$f":"IF(H92=\"MIN\",G104-(4*G106)-0.00001,G105+(4*G106)+0.00001)","v":8.8000100000000003},{"$f":"IF(H92=\"MIN\",H104-(5*H106),H105+(5*H106))","v":2},null,5,{"$f":"IF(I92=\"MIN\",I104-(4*I106)-0.00001,I105+(4*I106)+0.00001)","v":3560.0000100000002},{"$f":"IF(I92=\"MIN\",I104-(5*I106),I105+(5*I106))","v":3900},null,5,{"$f":"IF(J92=\"MIN\",J104-(4*J106)-0.00001,J105+(4*J106)+0.00001)","v":0.95520999999999989},{"$f":"IF(J92=\"MIN\",J104-(5*J106),J105+(5*J106))","v":1.1299999999999999},null,5,{"$f":"IF(K92=\"MIN\",K104-(4*K106)-0.00001,K105+(4*K106)+0.00001)","v":8.2000099999999989},{"$f":"IF(K92=\"MIN\",K104-(5*K106),K105+(5*K106))","v":10},null,5,{"$f":"IF(L92=\"MIN\",L104-(4*L106)-0.00001,L105+(4*L106)+0.00001)","v":1.8000100000000001},{"$f":"IF(L92=\"MIN\",L104-(5*L106),L105+(5*L106))","v":2}]
[]
[null,"Tabulka bodů",{"$f":"C91","v":"V1"},"V2","V3","V4","V5","V6","V7","V8","V9","V10","Váhy"]
[null,null,{"$f":"C92","v":"MIN"},"MAX","MAX","MAX","MAX","MAX","MAX","MAX","MAX","MAX"]
[null,{"$f":"B93","v":"K1"},{"$f":"C45+M45+W45+AG45+AQ45+C60+M60+W60+AG60+AQ60","v":1},{"$f":"D45+N45+X45+AH45+AR45+D60+N60+X60+AH60+AR60","v":1},{"$f":"E45+O45+Y45+AI45+AS45+E60+O60+Y60+AI60+AS60","v":1},{"$f":"F45+P45+Z45+AJ45+AT45+F60+P60+Z60+AJ60+AT60","v":1},{"$f":"G45+Q45+AA45+AK45+AU45+G60+Q60+AA60+AK60+AU60","v":5},{"$f":"H45+R45+AB45+AL45+AV45+H60+R60+AB60+AL60+AV60","v":1},{"$f":"I45+S45+AC45+AM45+AW45+I60+S60+AC60+AM60+AW60","v":4},{"$f":"J45+T45+AD45+AN45+AX45+J60+T60+AD60+AN60+AX60","v":5},{"$f":"K45+U45+AE45+AO45+AY45+K60+U60+AE60+AO60+AY60","v":2},{"$f":"L45+V45+AF45+AP45+AZ45+L60+V60+AF60+AP60+AZ60","v":1},0.16376306620209058]
[null,"K2",2,1,1,1,1,1,3,5,4,1,5.5749128919860627E-2]
[null,"K3",1,1,1,1,5,1,1,5,3,5,4.1811846689895474E-2]
[null,"K4",1,1,1,1,5,1,4,5,2,5,0.11846689895470383]
[null,"K5",2,5,1,1,5,1,5,1,4,1,0.11149825783972125]
[null,"K6",5,5,5,5,5,1,4,2,3,1,9.4076655052264813E-2]
[null,"K7",3,1,1,5,5,1,1,5,1,5,9.0592334494773524E-2]
[null,"K8",3,5,5,5,5,1,4,5,5,1,0.11149825783972125]
[null,"K9",5,5,5,1,5,1,5,2,1,1,6.968641114982578E-2]
[null,"K10",3,5,5,5,5,1,5,5,5,1,0.14285714285714285]
[]
[null,{"$f":"B16","v":"Tabulka bodů"},{"$f":"C16","v":"V1"},{"$f":"D16","v":"V2"},"V3","V4","V5","V6","V7","V8","V9","V10"]
[null,null,{"$f":"C17","v":"MIN"},{"$f":"D17","v":"MAX"},"MAX","MAX","MAX","MAX","MAX","MAX","MAX","MAX"]
[null,{"$f":"B18","v":"K1"},{"$f":"C18*$M18","v":0.16376306620209058},{"$f":"D18*$M18","v":0.16376306620209058},0.16376306620209058,0.16376306620209058,0.8188153310104529,0.16376306620209058,0.65505226480836232,0.8188153310104529,0.32752613240418116,0.16376306620209058]
[null,{"$f":"B19","v":"K2"},{"$f":"C19*$M19","v":0.11149825783972125},5.5749128919860627E-2,5.5749128919860627E-2,5.5749128919860627E-2,5.5749128919860627E-2,5.5749128919860627E-2,0.1672473867595819,0.27874564459930312,0.22299651567944251,5.5749128919860627E-2]
[null,"K3",{"$f":"C20*$M20","v":4.1811846689895474E-2},4.1811846689895474E-2,4.1811846689895474E-2,4.1811846689895474E-2,0.20905923344947736,4.1811846689895474E-2,4.1811846689895474E-2,0.20905923344947736,0.12543554006968644,0.20905923344947736]
[null,"K4",{"$f":"C21*$M21","v":0.11846689895470383},0.11846689895470383,0.11846689895470383,0.11846689895470383,0.59233449477351918,0.11846689895470383,0.47386759581881532,0.59233449477351918,0.23693379790940766,0.59233449477351918]
[null,"K5",{"$f":"C22*$M22","v":0.22299651567944251},0.55749128919860624,0.11149825783972125,0.11149825783972125,0.55749128919860624,0.11149825783972125,0.55749128919860624,0.11149825783972125,0.44599303135888502,0.11149825783972125]
[null,"K6",{"$f":"C23*$M23","v":0.47038327526132406},0.47038327526132406,0.47038327526132406,0.47038327526132406,0.47038327526132406,9.4076655052264813E-2,0.37630662020905925,0.18815331010452963,0.28222996515679444,9.4076655052264813E-2]
[null,"K7",{"$f":"C24*$M24","v":0.27177700348432055},9.0592334494773524E-2,9.0592334494773524E-2,0.45296167247386765,0.45296167247386765,9.0592334494773524E-2,9.0592334494773524E-2,0.45296167247386765,9.0592334494773524E-2,0.45296167247386765]
[null,"K8",{"$f":"C25*$M25","v":0.33449477351916379},0.55749128919860624,0.55749128919860624,0.55749128919860624,0.55749128919860624,0.11149825783972125,0.44599303135888502,0.55749128919860624,0.55749128919860624,0.11149825783972125]
[null,"K9",{"$f":"C26*$M26","v":0.34843205574912889},0.34843205574912889,0.34843205574912889,6.968641114982578E-2,0.34843205574912889,6.968641114982578E-2,0.34843205574912889,0.13937282229965156,6.968641114982578E-2,6.968641114982578E-2]
[null,"K10",{"$f":"C27*$M27","v":0.42857142857142855},0.71428571428571419,0.71428571428571419,0.71428571428571419,0.71428571428571419,{"$f":"H27*$M27","v":0.14285714285714285},0.71428571428571419,0.71428571428571419,0.71428571428571419,0.14285714285714285]
[null,null,{"$f":"SUM(C31:C40)","v":2.5121951219512191},{"$f":"SUM(D31:D40)","v":3.1184668989547033},2.6724738675958188,2.7560975609756095,4.7770034843205575,1,3.8710801393728218,4.0627177700348431,3.0731707317073171,2.0034843205574915]
[null,null,{"$f":"RANK(C41,$C$41:$L$41)","v":8},{"$f":"RANK(D41,$C$41:$L$41)","v":4},7,6,1,10,3,2,5,9]
[]
[]
[null,null,{"$f":"IF(AND($C93>=$C$3,$C93<=$D$3,C$92=\"MAX\"),1,0)","v":0},{"$f":"IF(AND($D93>=$G$3,$D93<=$H$3,D$92=\"MAX\"),1,0)","v":1},{"$f":"IF(AND($E93>=$K$3,$E93<=$L$3,E$92=\"MAX\"),1,0)","v":1},{"$f":"IF(AND($F93>=$O$3,$F93<=$P$3,F$92=\"MAX\"),1,0)","v":1},{"$f":"IF(AND($G93>=$S$3,$G93<=$T$3,G$92=\"MAX\"),1,0)","v":0},{"$f":"IF(AND($H93>=$C$10,$H93<=$D$10,H$92=\"MAX\"),1,0)","v":1},{"$f":"IF(AND($I93>=$G$10,$I93<=$H$10,I$92=\"MAX\"),1,0)","v":0},{"$f":"IF(AND($J93>=$K$10,$J93<=$L$10,J$92=\"MAX\"),1,0)","v":0},{"$f":"IF(AND($K93>=$O$10,$K93<=$P$10,K$92=\"MAX\"),1,0)","v":0},{"$f":"IF(AND($L93>=$S$10,$L93<=$T$10,L$92=\"MAX\"),1,0)","v":1},{"$f":"IF(AND($C93>=$C$4,$C93<=$D$4,C$92=\"MAX\"),2,0)","v":0},{"$f":"IF(AND($D93>=$G$4,$D93<=$H$4,D$92=\"MAX\"),2,0)","v":0},{"$f":"IF(AND($E93>=$K$4,$E93<=$L$4,E$92=\"MAX\"),2,0)","v":0},{"$f":"IF(AND($F93>=$O$4,$F93<=$P$4,F$92=\"MAX\"),2,0)","v":0},{"$f":"IF(AND($G93>=$S$4,$G93<=$T$4,G$92=\"MAX\"),2,0)","v":0},{"$f":"IF(AND($H93>=$C$11,$H93<=$D$11,H$92=\"MAX\"),2,0)","v":0},{"$f":"IF(AND($I93>=$G$11,$I93<=$H$11,I$92=\"MAX\"),2,0)","v":0},{"$f":"IF(AND($J93>=$K$11,$J93<=$L$11,J$92=\"MAX\"),2,0)","v":0},{"$f":"IF(AND($K93>=$O$11,$K93<=$P$11,K$92=\"MAX\"),2,0)","v":2},{"$f":"IF(AND($L93>=$S$11,$L93<=$T$11,L$92=\"MAX\"),2,0)","v":0},{"$f":"IF(AND($C93>=$C$5,$C93<=$D$5,C$92=\"MAX\"),3,0)","v":0},{"$f":"IF(AND($D93>=$G$5,$D93<=$H$5,D$92=\"MAX\"),3,0)","v":0},{"$f":"IF(AND($E93>=$K$5,$E93<=$L$5,E$92=\"MAX\"),3,0)","v":0},{"$f":"IF(AND($F93>=$O$5,$F93<=$P$5,F$92=\"MAX\"),3,0)","v":0},{"$f":"IF(AND($G93>=$S$5,$G93<=$T$5,G$92=\"MAX\"),3,0)","v":0},{"$f":"IF(AND($H93>=$C$12,$H93<=$D$12,H$92=\"MAX\"),3,0)","v":0},{"$f":"IF(AND($I93>=$G$12,$I93<=$H$12,I$92=\"MAX\"),3,0)","v":0},{"$f":"IF(AND($J93>=$K$12,$J93<=$L$12,J$92=\"MAX\"),3,0)","v":0},{"$f":"IF(AND($K93>=$O$12,$K93<=$P$12,K$92=\"MAX\"),3,0)","v":0},{"$f":"IF(AND($L93>=$S$12,$L93<=$T$12,L$92=\"MAX\"),3,0)","v":0},{"$f":"IF(AND($C93=$C$6,$C93<=$D$6,C$92=\"MAX\"),4,0)","v":0},{"$f":"IF(AND($D93>=$G$6,$D93<=$H$6,D$92=\"MAX\"),4,0)","v":0},{"$f":"IF(AND($E93>=$K$6,$E93<=$L$6,E$92=\"MAX\"),4,0)","v":0},{"$f":"IF(AND($F93>=$O$6,$F93<=$P$6,F$92=\"MAX\"),4,0)","v":0},{"$f":"IF(AND($G93>=$S$6,$G93<=$T$6,G$92=\"MAX\"),4,0)","v":0},{"$f":"IF(AND($H93>=$C$13,$H93<=$D$13,H$92=\"MAX\"),4,0)","v":0},{"$f":"IF(AND($I93>=$G$13,$I93<=$H$13,I$92=\"MAX\"),4,0)","v":4},{"$f":"IF(AND($J93>=$K$13,$J93<=$L$13,J$92=\"MAX\"),4,0)","v":0},{"$f":"IF(AND($K93>=$O$13,$K93<=$P$13,K$92=\"MAX\"),4,0)","v":0},{"$f":"IF(AND($L93>=$S$13,$L93<=$T$13,L$92=\"MAX\"),4,0)","v":0},{"$f":"IF(AND($C93>=$C$7,$C93<=$D$7,C$92=\"MAX\"),5,0)","v":0},{"$f":"IF(AND($D93>=$G$7,$D93<=$H$7,D$92=\"MAX\"),5,0)","v":0},{"$f":"IF(AND($E93>=$K$7,$E93<=$L$7,E$92=\"MAX\"),5,0)","v":0},{"$f":"IF(AND($F93>=$O$7,$F93<=$P$7,F$92=\"MAX\"),5,0)","v":0},{"$f":"IF(AND($G93>=$S$7,$G93<=$T$7,G$92=\"MAX\"),5,0)","v":5},{"$f":"IF(AND($H93>=$C$14,$H93<=$D$14,H$92=\"MAX\"),5,0)","v":0},{"$f":"IF(AND($I93>=$G$14,$I93<=$H$14,I$92=\"MAX\"),5,0)","v":0},{"$f":"IF(AND($J93>=$K$14,$J93<=$L$14,J$92=\"MAX\"),5,0)","v":5},{"$f":"IF(AND($K93>=$O$14,$K93<=$P$14,K$92=\"MAX\"),5,0)","v":0},{"$f":"IF(AND($L93>=$S$14,$L93<=$T$14,L$92=\"MAX\"),5,0)","v":0}]
[null,null,0,1,1,1,1,1,0,0,0,1,0,0,0,0,0,0,0,0,0,0,0,0,0,0,0,0,3,0,0,0,0,0,0,0,0,0,0,0,4,0,0,0,0,0,0,0,0,5,0,0]
[null,null,0,1,1,1,0,1,1,0,0,0,0,0,0,0,0,0,0,0,0,0,0,0,0,0,0,0,0,0,3,0,0,0,0,0,0,0,0,0,0,0,0,0,0,0,5,0,0,5,0,5]
[null,null,0,1,1,1,0,1,0,0,0,0,0,0,0,0,0,0,0,0,2,0,0,0,0,0,0,0,0,0,0,0,0,0,0,0,0,0,4,0,0,0,0,0,0,0,5,0,0,5,0,5]
[null,null,0,0,1,1,0,1,0,1,0,1,0,0,0,0,0,0,0,0,0,0,0,0,0,0,0,0,0,0,0,0,0,0,0,0,0,0,0,0,4,0,0,5,0,0,5,0,5,0,0,0]
[null,null,0,0,0,0,0,1,0,0,0,1,0,0,0,0,0,0,0,2,0,0,0,0,0,0,0,0,0,0,3,0,0,0,0,0,0,0,4,0,0,0,0,5,5,5,5,0,0,0,0,0]
[null,null,0,1,1,0,0,1,1,0,1,0,0,0,0,0,0,0,0,0,0,0,0,0,0,0,0,0,0,0,0,0,0,0,0,0,0,0,0,0,0,0,0,0,0,5,5,0,0,5,0,5]
[null,null,0,0,0,0,0,1,0,0,0,1,0,0,0,0,0,0,0,0,0,0,0,0,0,0,0,0,0,0,0,0,0,0,0,0,0,0,4,0,0,0,0,5,5,5,5,0,0,5,5,0]
[null,null,0,0,0,1,0,1,0,0,1,1,0,0,0,0,0,0,0,2,0,0,0,0,0,0,0,0,0,0,0,0,0,0,0,0,0,0,0,0,0,0,0,5,5,0,5,0,5,0,0,0]
[null,null,0,0,0,0,0,1,0,0,0,1,0,0,0,0,0,0,0,0,0,0,0,0,0,0,0,0,0,0,0,0,0,0,0,0,0,0,0,0,0,0,0,5,5,5,5,0,5,5,5,0]
[]
[]
[]
["MIN","1.interval","V1","V2","V3","V4","V5","V6","V7","V8","V9","V10"]
[null,null,{"$f":"C92","v":"MIN"},"MAX","MAX","MAX","MAX","MAX","MAX","MAX","MAX","MAX"]
[null,"K1",{"$f":"IF(AND($C93<=$C$3,$C93>=$D$3,C$92=\"MIN\"),1,0)","v":1},{"$f":"IF(AND($D93<=$G$3,$D93>=$H$3,D$92=\"MIN\"),1,0)","v":0},{"$f":"IF(AND($E93<=$K$3,$E93>=$L$3,E$92=\"MIN\"),1,0)","v":0},{"$f":"IF(AND($F93<=$O$3,$F93>=$P$3,F$92=\"MIN\"),1,0)","v":0},{"$f":"IF(AND($G93<=$S$3,$G93>=$T$3,G$92=\"MIN\"),1,0)","v":0},{"$f":"IF(AND($H93<=$C$10,$H93>=$D$10,H$92=\"MIN\"),1,0)","v":0},{"$f":"IF(AND($I93<=$G$10,$I93>=$H$10,I$92=\"MIN\"),1,0)","v":0},{"$f":"IF(AND($J93<=$K$10,$J93>=$L$10,J$92=\"MIN\"),1,0)","v":0},{"$f":"IF(AND($K93<=$O$10,$K93>=$P$10,K$92=\"MIN\"),1,0)","v":0},{"$f":"IF(AND($L93<=$S$10,$L93>=$T$10,L$92=\"MIN\"),1,0)","v":0},{"$f":"IF(AND($C93<=$C$4,$C93>=$D$4,C$92=\"MIN\"),2,0)","v":0},{"$f":"IF(AND($D93<=$G$4,$D93>=$H$4,D$92=\"MIN\"),2,0)","v":0},{"$f":"IF(AND($E93<=$K$4,$E93>=$L$4,E$92=\"MIN\"),2,0)","v":0},{"$f":"IF(AND($F93<=$O$4,$F93>=$P$4,F$92=\"MIN\"),2,0)","v":0},{"$f":"IF(AND($G93<=$S$4,$G93>=$T$4,G$92=\"MIN\"),2,0)","v":0},{"$f":"IF(AND($H93<=$C$11,$H93>=$D$11,H$92=\"MIN\"),2,0)","v":0},{"$f":"IF(AND($I93<=$G$11,$I93>=$H$11,I$92=\"MIN\"),2,0)","v":0},{"$f":"IF(AND($J93<=$K$11,$J93>=$L$11,J$92=\"MIN\"),2,0)","v":0},{"$f":"IF(AND($K93<=$O$11,$K93>=$P$11,K$92=\"MIN\"),2,0)","v":0},{"$f":"IF(AND($L93<=$S$11,$L93>=$T$11,L$92=\"MIN\"),2,0)","v":0},{"$f":"IF(AND($C93<=$C$5,$C93>=$D$5,C$92=\"MIN\"),3,0)","v":0},{"$f":"IF(AND($D93<=$G$5,$D93>=$H$5,D$92=\"MIN\"),3,0)","v":0},{"$f":"IF(AND($E93<=$K$5,$E93>=$L$5,E$92=\"MIN\"),3,0)","v":0},{"$f":"IF(AND($F93<=$O$5,$F93>=$P$5,F$92=\"MIN\"),3,0)","v":0},{"$f":"IF(AND($G93<=$S$5,$G93>=$T$5,G$92=\"MIN\"),3,0)","v":0},{"$f":"IF(AND($H93<=$C$12,$H93>=$D$12,H$92=\"MIN\"),3,0)","v":0},{"$f":"IF(AND($I93<=$G$12,$I93>=$H$12,I$92=\"MIN\"),3,0)","v":0},{"$f":"IF(AND($J93<=$K$12,$J93>=$L$12,J$92=\"MIN\"),3,0)","v":0},{"$f":"IF(AND($K93<=$O$12,$K93>=$P$12,K$92=\"MIN\"),3,0)","v":0},{"$f":"IF(AND($L93<=$S$12,$L93>=$T$12,L$92=\"MIN\"),3,0)","v":0},{"$f":"IF(AND($C93<=$C$6,$C93>=$D$6,C$92=\"MIN\"),4,0)","v":0},{"$f":"IF(AND($D93<=$G$6,$D93>=$H$6,D$92=\"MIN\"),4,0)","v":0},{"$f":"IF(AND($E93<=$K$6,$E93>=$L$6,E$92=\"MIN\"),4,0)","v":0},{"$f":"IF(AND($F93<=$O$6,$F93>=$P$6,F$92=\"MIN\"),4,0)","v":0},{"$f":"IF(AND($G93<=$S$6,$G93>=$T$6,G$92=\"MIN\"),4,0)","v":0},{"$f":"IF(AND($H93<=$C$13,$H93>=$D$13,H$92=\"MIN\"),4,0)","v":0},{"$f":"IF(AND($I93<=$G$13,$I93>=$H$13,I$92=\"MIN\"),4,0)","v":0},{"$f":"IF(AND($J93<=$K$13,$J93>=$L$13,J$92=\"MIN\"),4,0)","v":0},{"$f":"IF(AND($K93<=$O$13,$K93>=$P$13,K$92=\"MIN\"),4,0)","v":0},{"$f":"IF(AND($L93<=$S$13,$L93>=$T$13,L$92=\"MIN\"),4,0)","v":0},{"$f":"IF(AND($C93<=$C$7,$C93>=$D$7,C$92=\"MIN\"),5,0)","v":0},{"$f":"IF(AND($D93<=$G$7,$D93>=$H$7,D$92=\"MIN\"),5,0)","v":0},{"$f":"IF(AND($E93<=$K$7,$E93>=$L$7,E$92=\"MIN\"),5,0)","v":0},{"$f":"IF(AND($F93<=$O$7,$F93>=$P$7,F$92=\"MIN\"),5,0)","v":0},{"$f":"IF(AND($G93<=$S$7,$G93>=$T$7,G$92=\"MIN\"),5,0)","v":0},{"$f":"IF(AND($H93<=$C$14,$H93>=$D$14,H$92=\"MIN\"),5,0)","v":0},{"$f":"IF(AND($I93<=$G$14,$I93>=$H$14,I$92=\"MIN\"),5,0)","v":0},{"$f":"IF(AND($J93<=$K$14,$J93>=$L$14,J$92=\"MIN\"),5,0)","v":0},{"$f":"IF(AND($K93<=$O$14,$K93>=$P$14,K$92=\"MIN\"),5,0)","v":0},{"$f":"IF(AND($L93<=$S$14,$L93>=$T$14,L$92=\"MIN\"),5,0)","v":0}]
[null,"K2",0,0,0,0,0,0,0,0,0,0,2,0,0,0,0,0,0,0,0,0,0,0,0,0,0,0,0,0,0,0,0,0,0,0,0,0,0,0,0,0,0,0,0,0,0,0,0,0,0,0]
[null,"K3",1,0,0,0,0,0,0,0,0,0,0,0,0,0,0,0,0,0,0,0,0,0,0,0,0,0,0,0,0,0,0,0,0,0,0,0,0,0,0,0,0,0,0,0,0,0,0,0,0,0]
[null,"K4",1,0,0,0,0,0,0,0,0,0,0,0,0,0,0,0,0,0,0,0,0,0,0,0,0,0,0,0,0,0,0,0,0,0,0,0,0,0,0,0,0,0,0,0,0,0,0,0,0,0]
[null,"K5",0,0,0,0,0,0,0,0,0,0,2,0,0,0,0,0,0,0,0,0,0,0,0,0,0,0,0,0,0,0,0,0,0,0,0,0,0,0,0,0,0,0,0,0,0,0,0,0,0,0]
[null,"K6",0,0,0,0,0,0,0,0,0,0,0,0,0,0,0,0,0,0,0,0,0,0,0,0,0,0,0,0,0,0,0,0,0,0,0,0,0,0,0,0,5,0,0,0,0,0,0,0,0,0]
[null,"K7",0,0,0,0,0,0,0,0,0,0,0,0,0,0,0,0,0,0,0,0,3,0,0,0,0,0,0,0,0,0,0,0,0,0,0,0,0,0,0,0,0,0,0,0,0,0,0,0,0,0]
[null,"K8",0,0,0,0,0,0,0,0,0,0,0,0,0,0,0,0,0,0,0,0,3,0,0,0,0,0,0,0,0,0,0,0,0,0,0,0,0,0,0,0,0,0,0,0,0,0,0,0,0,0]
[null,"K9",0,0,0,0,0,0,0,0,0,0,0,0,0,0,0,0,0,0,0,0,0,0,0,0,0,0,0,0,0,0,0,0,0,0,0,0,0,0,0,0,5,0,0,0,0,0,0,0,0,0]
[null,"K10",0,0,0,0,0,0,0,0,0,0,0,0,0,0,0,0,0,0,0,0,3,0,0,0,0,0,0,0,0,0,0,0,0,0,0,0,0,0,0,0,0,0,0,0,0,0,0,0,0,0]
[]
[]
[null,{"$f":"B2","v":"Počet bodů"},{"$f":"C2","v":"K1"},null,null,"Počet bodů","K2",null,null,"Počet bodů","K3",null,null,"Počet bodů","K4",null,null,"Počet bodů","K5"]
[null,1,{"$f":"IF($C$92=\"MIN\",D7,D3)","v":11990},null,null,{"$f":"F3","v":1},24,26.4,null,1,24,26.4,null,1,1,1.2,null,1,4,5.2]
[null,2,{"$f":"IF($C$92=\"MIN\",D6,D4)","v":14485.4},null,null,{"$f":"F4","v":2},26.400009999999998,28.8,null,2,26.400009999999998,28.8,null,2,1.20001,1.4,null,2,5.2000099999999998,6.4]
[null,3,{"$f":"IF($C$92=\"MIN\",D5,D5)","v":16980.8},null,null,{"$f":"F5","v":3},28.80001,31.2,null,3,28.80001,31.2,null,3,1.40001,1.6,null,3,6.40001,7.6]
[null,4,{"$f":"IF($C$92=\"MIN\",D4,D6)","v":19476.2},null,null,{"$f":"F6","v":4},31.200009999999999,33.6,null,4,31.200009999999999,33.6,null,4,1.6000100000000002,1.8,null,4,7.6000099999999993,8.8000000000000007]
[null,5,{"$f":"IF($C$92=\"MIN\",D3,D7)","v":21971.599999999999},null,null,{"$f":"F7","v":5},33.600010000000005,36,null,5,33.600010000000005,36,null,5,1.8000100000000001,2,null,5,8.8000100000000003,10]
[]
[null,{"$f":"B9","v":"Počet bodů"},"K6",null,null,"Počet bodů","K7",null,null,"Počet bodů","K8",null,null,"Počet bodů","K9",null,null,"Počet bodů","K10"]
[null,{"$f":"B10","v":1},1,5.2,null,1,2200,2540,null,1,0.25600000000000001,0.43079999999999996,null,1,{"$f":"O10","v":1},2.8,null,1,1,1.2]
[null,{"$f":"B11","v":2},5.2000099999999998,6.4,null,2,2540.0000100000002,2880,null,2,0.43080999999999997,0.60559999999999992,null,2,2.8000099999999999,4.5999999999999996,null,2,1.20001,1.4]
[null,{"$f":"B12","v":3},6.40001,7.6,null,3,2880.0000100000002,3220,null,3,0.60560999999999987,0.78039999999999998,null,3,4.6000099999999993,6.4,null,3,1.40001,1.6]
[null,{"$f":"B13","v":4},7.6000099999999993,8.8000000000000007,null,4,3220.0000100000002,3560,null,4,0.78040999999999994,0.95519999999999994,null,4,6.40001,8.1999999999999993,null,4,1.6000100000000002,1.8]
[null,{"$f":"B14","v":5},8.8000100000000003,2,null,5,3560.0000100000002,3900,null,5,0.95520999999999989,1.1299999999999999,null,5,8.2000099999999989,10,null,5,1.8000100000000001,2]
[]
[]
[]
[]
[]
[]
[null,null,"V1","V2","V3","V4","V5","V6","V7","V8","V9","V10"]
[null,null,{"$f":"'Hodnotyp pro jednotlivá krit'!D5","v":"MIN"},{"$f":"'Hodnotyp pro jednotlivá krit'!E5","v":"MAX"},{"$f":"'Hodnotyp pro jednotlivá krit'!F5","v":"MAX"},{"$f":"'Hodnotyp pro jednotlivá krit'!G5","v":"MAX"},{"$f":"'Hodnotyp pro jednotlivá krit'!H5","v":"MAX"},{"$f":"'Hodnotyp pro jednotlivá krit'!I5","v":"MAX"},{"$f":"'Hodnotyp pro jednotlivá krit'!J5","v":"MAX"},{"$f":"'Hodnotyp pro jednotlivá krit'!K5","v":"MAX"},{"$f":"'Hodnotyp pro jednotlivá krit'!L5","v":"MAX"},{"$f":"'Hodnotyp pro jednotlivá krit'!M5","v":"MAX"}]
[null,"K1",{"$f":"'Hodnotyp pro jednotlivá krit'!D6","v":24467},{"$f":"'Hodnotyp pro jednotlivá krit'!E6","v":24},{"$f":"'Hodnotyp pro jednotlivá krit'!F6","v":24},{"$f":"'Hodnotyp pro jednotlivá krit'!G6","v":1},{"$f":"'Hodnotyp pro jednotlivá krit'!H6","v":10},{"$f":"'Hodnotyp pro jednotlivá krit'!I6","v":2},{"$f":"'Hodnotyp pro jednotlivá krit'!J6","v":3300},{"$f":"'Hodnotyp pro jednotlivá krit'!K6","v":1},{"$f":"'Hodnotyp pro jednotlivá krit'!L6","v":3},{"$f":"'Hodnotyp pro jednotlivá krit'!M6","v":1}]
[null,"K2",{"$f":"'Hodnotyp pro jednotlivá krit'!D7","v":19590},{"$f":"'Hodnotyp pro jednotlivá krit'!E7","v":24},{"$f":"'Hodnotyp pro jednotlivá krit'!F7","v":24},{"$f":"'Hodnotyp pro jednotlivá krit'!G7","v":1},{"$f":"'Hodnotyp pro jednotlivá krit'!H7","v":4},{"$f":"'Hodnotyp pro jednotlivá krit'!I7","v":2},{"$f":"'Hodnotyp pro jednotlivá krit'!J7","v":3200},{"$f":"'Hodnotyp pro jednotlivá krit'!K7","v":1.1299999999999999},{"$f":"'Hodnotyp pro jednotlivá krit'!L7","v":7},{"$f":"'Hodnotyp pro jednotlivá krit'!M7","v":1}]
[null,"K3",{"$f":"'Hodnotyp pro jednotlivá krit'!D8","v":22990},{"$f":"'Hodnotyp pro jednotlivá krit'!E8","v":24},{"$f":"'Hodnotyp pro jednotlivá krit'!F8","v":24},{"$f":"'Hodnotyp pro jednotlivá krit'!G8","v":1},{"$f":"'Hodnotyp pro jednotlivá krit'!H8","v":10},{"$f":"'Hodnotyp pro jednotlivá krit'!I8","v":2},{"$f":"'Hodnotyp pro jednotlivá krit'!J8","v":2200},{"$f":"'Hodnotyp pro jednotlivá krit'!K8","v":1.1299999999999999},{"$f":"'Hodnotyp pro jednotlivá krit'!L8","v":6},{"$f":"'Hodnotyp pro jednotlivá krit'!M8","v":2}]
[null,"K4",{"$f":"'Hodnotyp pro jednotlivá krit'!D9","v":22990},{"$f":"'Hodnotyp pro jednotlivá krit'!E9","v":24},{"$f":"'Hodnotyp pro jednotlivá krit'!F9","v":24},{"$f":"'Hodnotyp pro jednotlivá krit'!G9","v":1},{"$f":"'Hodnotyp pro jednotlivá krit'!H9","v":10},{"$f":"'Hodnotyp pro jednotlivá krit'!I9","v":2},{"$f":"'Hodnotyp pro jednotlivá krit'!J9","v":3300},{"$f":"'Hodnotyp pro jednotlivá krit'!K9","v":1.1299999999999999},{"$f":"'Hodnotyp pro jednotlivá krit'!L9","v":4},{"$f":"'Hodnotyp pro jednotlivá krit'!M9","v":2}]
[null,"K5",{"$f":"'Hodnotyp pro jednotlivá krit'!D10","v":20458},{"$f":"'Hodnotyp pro jednotlivá krit'!E10","v":36},{"$f":"'Hodnotyp pro jednotlivá krit'!F10","v":24},{"$f":"'Hodnotyp pro jednotlivá krit'!G10","v":1},{"$f":"'Hodnotyp pro jednotlivá krit'!H10","v":10},{"$f":"'Hodnotyp pro jednotlivá krit'!I10","v":2},{"$f":"'Hodnotyp pro jednotlivá krit'!J10","v":3900},{"$f":"'Hodnotyp pro jednotlivá krit'!K10","v":0.25600000000000001},{"$f":"'Hodnotyp pro jednotlivá krit'!L10","v":8},{"$f":"'Hodnotyp pro jednotlivá krit'!M10","v":1}]
[null,"K6",{"$f":"'Hodnotyp pro jednotlivá krit'!D11","v":11990},{"$f":"'Hodnotyp pro jednotlivá krit'!E11","v":36},{"$f":"'Hodnotyp pro jednotlivá krit'!F11","v":36},{"$f":"'Hodnotyp pro jednotlivá krit'!G11","v":2},{"$f":"'Hodnotyp pro jednotlivá krit'!H11","v":10},{"$f":"'Hodnotyp pro jednotlivá krit'!I11","v":1},{"$f":"'Hodnotyp pro jednotlivá krit'!J11","v":3300},{"$f":"'Hodnotyp pro jednotlivá krit'!K11","v":0.5},{"$f":"'Hodnotyp pro jednotlivá krit'!L11","v":5},{"$f":"'Hodnotyp pro jednotlivá krit'!M11","v":1}]
[null,"K7",{"$f":"'Hodnotyp pro jednotlivá krit'!D12","v":17990},{"$f":"'Hodnotyp pro jednotlivá krit'!E12","v":24},{"$f":"'Hodnotyp pro jednotlivá krit'!F12","v":24},{"$f":"'Hodnotyp pro jednotlivá krit'!G12","v":2},{"$f":"'Hodnotyp pro jednotlivá krit'!H12","v":10},{"$f":"'Hodnotyp pro jednotlivá krit'!I12","v":1},{"$f":"'Hodnotyp pro jednotlivá krit'!J12","v":2400},{"$f":"'Hodnotyp pro jednotlivá krit'!K12","v":1},{"$f":"'Hodnotyp pro jednotlivá krit'!L12","v":2},{"$f":"'Hodnotyp pro jednotlivá krit'!M12","v":2}]
[null,"K8",{"$f":"'Hodnotyp pro jednotlivá krit'!D13","v":18990},{"$f":"'Hodnotyp pro jednotlivá krit'!E13","v":36},{"$f":"'Hodnotyp pro jednotlivá krit'!F13","v":36},{"$f":"'Hodnotyp pro jednotlivá krit'!G13","v":2},{"$f":"'Hodnotyp pro jednotlivá krit'!H13","v":10},{"$f":"'Hodnotyp pro jednotlivá krit'!I13","v":2},{"$f":"'Hodnotyp pro jednotlivá krit'!J13","v":3400},{"$f":"'Hodnotyp pro jednotlivá krit'!K13","v":1},{"$f":"'Hodnotyp pro jednotlivá krit'!L13","v":9},{"$f":"'Hodnotyp pro jednotlivá krit'!M13","v":1}]
[null,"K9",{"$f":"'Hodnotyp pro jednotlivá krit'!D14","v":13290},{"$f":"'Hodnotyp pro jednotlivá krit'!E14","v":36},{"$f":"'Hodnotyp pro jednotlivá krit'!F14","v":36},{"$f":"'Hodnotyp pro jednotlivá krit'!G14","v":1},{"$f":"'Hodnotyp pro jednotlivá krit'!H14","v":10},{"$f":"'Hodnotyp pro jednotlivá krit'!I14","v":1},{"$f":"'Hodnotyp pro jednotlivá krit'!J14","v":3700},{"$f":"'Hodnotyp pro jednotlivá krit'!K14","v":0.5},{"$f":"'Hodnotyp pro jednotlivá krit'!L14","v":1},{"$f":"'Hodnotyp pro jednotlivá krit'!M14","v":1}]
[null,"K10",{"$f":"'Hodnotyp pro jednotlivá krit'!D15","v":18990},{"$f":"'Hodnotyp pro jednotlivá krit'!E15","v":36},{"$f":"'Hodnotyp pro jednotlivá krit'!F15","v":36},{"$f":"'Hodnotyp pro jednotlivá krit'!G15","v":2},{"$f":"'Hodnotyp pro jednotlivá krit'!H15","v":10},{"$f":"'Hodnotyp pro jednotlivá krit'!I15","v":2},{"$f":"'Hodnotyp pro jednotlivá krit'!J15","v":3600},{"$f":"'Hodnotyp pro jednotlivá krit'!K15","v":1},{"$f":"'Hodnotyp pro jednotlivá krit'!L15","v":10},{"$f":"'Hodnotyp pro jednotlivá krit'!M15","v":1}]
[]
[null,"MAX",{"$f":"MAX(C93:C102)","v":24467},{"$f":"MAX(D93:D102)","v":36},36,2,10,2,3900,1.1299999999999999,10,2]
[null,"MIN",{"$f":"MIN(C93:C102)","v":11990},{"$f":"MIN(D93:D102)","v":24},24,1,4,1,2200,0.25600000000000001,1,1]
[null,"Stupeň",{"$f":"(C104-C105)/5","v":2495.4},{"$f":"(D104-D105)/5","v":2.4},{"$f":"(E104-E105)/5","v":2.4},0.2,1.2,0.2,340,0.17479999999999998,1.8,0.2]

{"sheet":"Metoda pořadí_","index":10,"n_rows":57,"n_cols":19,"rows_kept":57,"cut":false,"hidden":false,"merged":[[1,12,12,12],[1,13,12,13]]}
[]
[null,null,{"$f":"'Hodnotyp pro jednotlivá krit'!D2","v":"K1"},{"$f":"'Hodnotyp pro jednotlivá krit'!E2","v":"K2"},{"$f":"'Hodnotyp pro jednotlivá krit'!F2","v":"K3"},{"$f":"'Hodnotyp pro jednotlivá krit'!G2","v":"K4"},{"$f":"'Hodnotyp pro jednotlivá krit'!H2","v":"K5"},{"$f":"'Hodnotyp pro jednotlivá krit'!I2","v":"K6"},{"$f":"'Hodnotyp pro jednotlivá krit'!J2","v":"K7"},{"$f":"'Hodnotyp pro jednotlivá krit'!K2","v":"K8"},{"$f":"'Hodnotyp pro jednotlivá krit'!L2","v":"K9"},{"$f":"'Hodnotyp pro jednotlivá krit'!M2","v":"K10"},"Součet pořadí"]
[null,null,{"$f":"RANK(C34,C$34:C$43)","v":1},{"$f":"RANK(D34,D$34:D$43)","v":6},5,5,1,1,5,4,8,4]
[null,null,5,{"$f":"RANK(D35,D$34:D$43)","v":6},5,5,10,1,8,1,4,4]
[null,null,2,{"$f":"RANK(D36,D$34:D$43)","v":10},5,5,1,1,10,1,5,1]
[null,null,2,{"$f":"RANK(D37,D$34:D$43)","v":6},5,5,1,1,5,1,7,1]
[null,null,4,{"$f":"RANK(D38,D$34:D$43)","v":1},5,5,1,1,1,10,3,4]
[null,null,10,{"$f":"RANK(D39,D$34:D$43)","v":1},1,1,1,8,5,8,6,4]
[null,null,8,{"$f":"RANK(D40,D$34:D$43)","v":6},5,1,1,8,9,4,9,1]
[null,null,6,{"$f":"RANK(D41,D$34:D$43)","v":1},1,1,1,1,4,4,2,4]
[null,null,9,{"$f":"RANK(D42,D$34:D$43)","v":1},1,5,1,8,2,8,10,4]
[null,null,6,{"$f":"RANK(D43,D$34:D$43)","v":1},1,1,1,1,3,4,1,4]
[null,null,{"$f":"'Hodnotyp pro jednotlivá krit'!D5","v":"MIN"},{"$f":"'Hodnotyp pro jednotlivá krit'!E5","v":"MAX"},{"$f":"'Hodnotyp pro jednotlivá krit'!F5","v":"MAX"},{"$f":"'Hodnotyp pro jednotlivá krit'!G5","v":"MAX"},{"$f":"'Hodnotyp pro jednotlivá krit'!H5","v":"MAX"},{"$f":"'Hodnotyp pro jednotlivá krit'!I5","v":"MAX"},{"$f":"'Hodnotyp pro jednotlivá krit'!J5","v":"MAX"},{"$f":"'Hodnotyp pro jednotlivá krit'!K5","v":"MAX"},{"$f":"'Hodnotyp pro jednotlivá krit'!L5","v":"MAX"},{"$f":"'Hodnotyp pro jednotlivá krit'!M5","v":"MAX"}]
[null,{"$f":"'Hodnotyp pro jednotlivá krit'!B6","v":"V1"},{"$f":"IF(C$33=\"MIN\",11-C3,C3)","v":10},{"$f":"IF(D$33=\"MIN\",11-D3,D3)","v":6},5,5,1,1,5,4,8,4,{"$f":"SUM(C14:L14)","v":49}]
[null,{"$f":"'Hodnotyp pro jednotlivá krit'!B7","v":"V2"},{"$f":"IF(C$33=\"MIN\",11-C4,C4)","v":6},6,5,5,10,1,8,1,4,4,50]
[null,{"$f":"'Hodnotyp pro jednotlivá krit'!B8","v":"V3"},9,10,5,5,1,1,10,1,5,1,48]
[null,{"$f":"'Hodnotyp pro jednotlivá krit'!B9","v":"V4"},9,6,5,5,1,1,5,1,7,1,41]
[null,{"$f":"'Hodnotyp pro jednotlivá krit'!B10","v":"V5"},7,1,5,5,1,1,1,10,3,4,38]
[null,{"$f":"'Hodnotyp pro jednotlivá krit'!B11","v":"V6"},1,1,1,1,1,8,5,8,6,4,36]
[null,{"$f":"'Hodnotyp pro jednotlivá krit'!B12","v":"V7"},3,6,5,1,1,8,9,4,9,1,47]
[null,{"$f":"'Hodnotyp pro jednotlivá krit'!B13","v":"V8"},5,1,1,1,1,1,4,4,2,4,24]
[null,{"$f":"'Hodnotyp pro jednotlivá krit'!B14","v":"V9"},2,1,1,5,1,8,2,8,10,4,42]
[null,{"$f":"'Hodnotyp pro jednotlivá krit'!B15","v":"V10"},5,1,1,1,1,1,3,4,1,4,22]
[]
[]
[]
[]
[]
[]
[]
[]
[null,null,{"$f":"'Hodnotyp pro jednotlivá krit'!D2","v":"K1"},{"$f":"'Hodnotyp pro jednotlivá krit'!E2","v":"K2"},{"$f":"'Hodnotyp pro jednotlivá krit'!F2","v":"K3"},{"$f":"'Hodnotyp pro jednotlivá krit'!G2","v":"K4"},{"$f":"'Hodnotyp pro jednotlivá krit'!H2","v":"K5"},{"$f":"'Hodnotyp pro jednotlivá krit'!I2","v":"K6"},{"$f":"'Hodnotyp pro jednotlivá krit'!J2","v":"K7"},{"$f":"'Hodnotyp pro jednotlivá krit'!K2","v":"K8"},{"$f":"'Hodnotyp pro jednotlivá krit'!L2","v":"K9"},{"$f":"'Hodnotyp pro jednotlivá krit'!M2","v":"K10"}]
[null,null,{"$f":"'Hodnotyp pro jednotlivá krit'!D5","v":"MIN"},{"$f":"'Hodnotyp pro jednotlivá krit'!E5","v":"MAX"},{"$f":"'Hodnotyp pro jednotlivá krit'!F5","v":"MAX"},{"$f":"'Hodnotyp pro jednotlivá krit'!G5","v":"MAX"},{"$f":"'Hodnotyp pro jednotlivá krit'!H5","v":"MAX"},{"$f":"'Hodnotyp pro jednotlivá krit'!I5","v":"MAX"},{"$f":"'Hodnotyp pro jednotlivá krit'!J5","v":"MAX"},{"$f":"'Hodnotyp pro jednotlivá krit'!K5","v":"MAX"},{"$f":"'Hodnotyp pro jednotlivá krit'!L5","v":"MAX"},{"$f":"'Hodnotyp pro jednotlivá krit'!M5","v":"MAX"}]
[null,{"$f":"'Hodnotyp pro jednotlivá krit'!B6","v":"V1"},{"$f":"'Hodnotyp pro jednotlivá krit'!D6","v":24467},{"$f":"'Hodnotyp pro jednotlivá krit'!E6","v":24},{"$f":"'Hodnotyp pro jednotlivá krit'!F6","v":24},{"$f":"'Hodnotyp pro jednotlivá krit'!G6","v":1},{"$f":"'Hodnotyp pro jednotlivá krit'!H6","v":10},{"$f":"'Hodnotyp pro jednotlivá krit'!I6","v":2},{"$f":"'Hodnotyp pro jednotlivá krit'!J6","v":3300},{"$f":"'Hodnotyp pro jednotlivá krit'!K6","v":1},{"$f":"'Hodnotyp pro jednotlivá krit'!L6","v":3},{"$f":"'Hodnotyp pro jednotlivá krit'!M6","v":1},null,null,{"$f":"RANK(S48,$S$48:$S$57)","v":1}]
[null,{"$f":"'Hodnotyp pro jednotlivá krit'!B7","v":"V2"},{"$f":"'Hodnotyp pro jednotlivá krit'!D7","v":19590},{"$f":"'Hodnotyp pro jednotlivá krit'!E7","v":24},{"$f":"'Hodnotyp pro jednotlivá krit'!F7","v":24},{"$f":"'Hodnotyp pro jednotlivá krit'!G7","v":1},{"$f":"'Hodnotyp pro jednotlivá krit'!H7","v":4},{"$f":"'Hodnotyp pro jednotlivá krit'!I7","v":2},{"$f":"'Hodnotyp pro jednotlivá krit'!J7","v":3200},{"$f":"'Hodnotyp pro jednotlivá krit'!K7","v":1.1299999999999999},{"$f":"'Hodnotyp pro jednotlivá krit'!L7","v":7},{"$f":"'Hodnotyp pro jednotlivá krit'!M7","v":1},null,null,{"$f":"RANK(S49,$S$48:$S$57)","v":7}]
[null,{"$f":"'Hodnotyp pro jednotlivá krit'!B8","v":"V3"},{"$f":"'Hodnotyp pro jednotlivá krit'!D8","v":22990},2,{"$f":"'Hodnotyp pro jednotlivá krit'!F8","v":24},{"$f":"'Hodnotyp pro jednotlivá krit'!G8","v":1},{"$f":"'Hodnotyp pro jednotlivá krit'!H8","v":10},{"$f":"'Hodnotyp pro jednotlivá krit'!I8","v":2},{"$f":"'Hodnotyp pro jednotlivá krit'!J8","v":2200},{"$f":"'Hodnotyp pro jednotlivá krit'!K8","v":1.1299999999999999},{"$f":"'Hodnotyp pro jednotlivá krit'!L8","v":6},{"$f":"'Hodnotyp pro jednotlivá krit'!M8","v":2},null,null,10]
[null,{"$f":"'Hodnotyp pro jednotlivá krit'!B9","v":"V4"},{"$f":"'Hodnotyp pro jednotlivá krit'!D9","v":22990},{"$f":"'Hodnotyp pro jednotlivá krit'!E9","v":24},{"$f":"'Hodnotyp pro jednotlivá krit'!F9","v":24},{"$f":"'Hodnotyp pro jednotlivá krit'!G9","v":1},{"$f":"'Hodnotyp pro jednotlivá krit'!H9","v":10},{"$f":"'Hodnotyp pro jednotlivá krit'!I9","v":2},{"$f":"'Hodnotyp pro jednotlivá krit'!J9","v":3300},{"$f":"'Hodnotyp pro jednotlivá krit'!K9","v":1.1299999999999999},{"$f":"'Hodnotyp pro jednotlivá krit'!L9","v":4},{"$f":"'Hodnotyp pro jednotlivá krit'!M9","v":2},null,null,2]
[null,{"$f":"'Hodnotyp pro jednotlivá krit'!B10","v":"V5"},{"$f":"'Hodnotyp pro jednotlivá krit'!D10","v":20458},{"$f":"'Hodnotyp pro jednotlivá krit'!E10","v":36},{"$f":"'Hodnotyp pro jednotlivá krit'!F10","v":24},{"$f":"'Hodnotyp pro jednotlivá krit'!G10","v":1},{"$f":"'Hodnotyp pro jednotlivá krit'!H10","v":10},{"$f":"'Hodnotyp pro jednotlivá krit'!I10","v":2},{"$f":"'Hodnotyp pro jednotlivá krit'!J10","v":3900},{"$f":"'Hodnotyp pro jednotlivá krit'!K10","v":0.25600000000000001},{"$f":"'Hodnotyp pro jednotlivá krit'!L10","v":8},{"$f":"'Hodnotyp pro jednotlivá krit'!M10","v":1},null,null,5]
[null,{"$f":"'Hodnotyp pro jednotlivá krit'!B11","v":"V6"},{"$f":"'Hodnotyp pro jednotlivá krit'!D11","v":11990},{"$f":"'Hodnotyp pro jednotlivá krit'!E11","v":36},{"$f":"'Hodnotyp pro jednotlivá krit'!F11","v":36},{"$f":"'Hodnotyp pro jednotlivá krit'!G11","v":2},{"$f":"'Hodnotyp pro jednotlivá krit'!H11","v":10},{"$f":"'Hodnotyp pro jednotlivá krit'!I11","v":1},{"$f":"'Hodnotyp pro jednotlivá krit'!J11","v":3300},{"$f":"'Hodnotyp pro jednotlivá krit'!K11","v":0.5},{"$f":"'Hodnotyp pro jednotlivá krit'!L11","v":5},{"$f":"'Hodnotyp pro jednotlivá krit'!M11","v":1},null,null,3]
[null,{"$f":"'Hodnotyp pro jednotlivá krit'!B12","v":"V7"},{"$f":"'Hodnotyp pro jednotlivá krit'!D12","v":17990},{"$f":"'Hodnotyp pro jednotlivá krit'!E12","v":24},{"$f":"'Hodnotyp pro jednotlivá krit'!F12","v":24},{"$f":"'Hodnotyp pro jednotlivá krit'!G12","v":2},{"$f":"'Hodnotyp pro jednotlivá krit'!H12","v":10},{"$f":"'Hodnotyp pro jednotlivá krit'!I12","v":1},{"$f":"'Hodnotyp pro jednotlivá krit'!J12","v":2400},{"$f":"'Hodnotyp pro jednotlivá krit'!K12","v":1},{"$f":"'Hodnotyp pro jednotlivá krit'!L12","v":2},{"$f":"'Hodnotyp pro jednotlivá krit'!M12","v":2},null,null,4]
[null,{"$f":"'Hodnotyp pro jednotlivá krit'!B13","v":"V8"},{"$f":"'Hodnotyp pro jednotlivá krit'!D13","v":18990},{"$f":"'Hodnotyp pro jednotlivá krit'!E13","v":36},{"$f":"'Hodnotyp pro jednotlivá krit'!F13","v":36},{"$f":"'Hodnotyp pro jednotlivá krit'!G13","v":2},{"$f":"'Hodnotyp pro jednotlivá krit'!H13","v":10},{"$f":"'Hodnotyp pro jednotlivá krit'!I13","v":2},{"$f":"'Hodnotyp pro jednotlivá krit'!J13","v":3400},{"$f":"'Hodnotyp pro jednotlivá krit'!K13","v":1},{"$f":"'Hodnotyp pro jednotlivá krit'!L13","v":9},{"$f":"'Hodnotyp pro jednotlivá krit'!M13","v":1},null,null,9]
[null,{"$f":"'Hodnotyp pro jednotlivá krit'!B14","v":"V9"},{"$f":"'Hodnotyp pro jednotlivá krit'!D14","v":13290},{"$f":"'Hodnotyp pro jednotlivá krit'!E14","v":36},{"$f":"'Hodnotyp pro jednotlivá krit'!F14","v":36},{"$f":"'Hodnotyp pro jednotlivá krit'!G14","v":1},{"$f":"'Hodnotyp pro jednotlivá krit'!H14","v":10},{"$f":"'Hodnotyp pro jednotlivá krit'!I14","v":1},{"$f":"'Hodnotyp pro jednotlivá krit'!J14","v":3700},{"$f":"'Hodnotyp pro jednotlivá krit'!K14","v":0.5},{"$f":"'Hodnotyp pro jednotlivá krit'!L14","v":1},{"$f":"'Hodnotyp pro jednotlivá krit'!M14","v":1},null,null,8]
[null,{"$f":"'Hodnotyp pro jednotlivá krit'!B15","v":"V10"},{"$f":"'Hodnotyp pro jednotlivá krit'!D15","v":18990},{"$f":"'Hodnotyp pro jednotlivá krit'!E15","v":36},{"$f":"'Hodnotyp pro jednotlivá krit'!F15","v":36},{"$f":"'Hodnotyp pro jednotlivá krit'!G15","v":2},{"$f":"'Hodnotyp pro jednotlivá krit'!H15","v":10},{"$f":"'Hodnotyp pro jednotlivá krit'!I15","v":2},{"$f":"'Hodnotyp pro jednotlivá krit'!J15","v":3600},{"$f":"'Hodnotyp pro jednotlivá krit'!K15","v":1},{"$f":"'Hodnotyp pro jednotlivá krit'!L15","v":10},{"$f":"'Hodnotyp pro jednotlivá krit'!M15","v":1},null,null,6]
[]
[]
[]
[null,null,{"$f":"C2","v":"K1"},{"$f":"D2","v":"K2"},"K3","K4","K5","K6","K7","K8","K9","K10","Váhy","Pořadí variant"]
[null,{"$f":"B14","v":"V1"},{"$f":"C14*$M48","v":1.59375},0.95624999999999993,0.796875,0.796875,0.15937499999999999,0.15937499999999999,0.796875,0.63749999999999996,1.2749999999999999,0.63749999999999996,0.15937499999999999,{"$f":"11-O34","v":10},null,null,null,null,{"$f":"SUM(C48:L48)","v":7.8093750000000002}]
[null,{"$f":"B15","v":"V2"},{"$f":"C15*$M49","v":0.35624999999999996},0.35624999999999996,0.296875,0.296875,0.59375,5.9374999999999997E-2,0.47499999999999998,5.9374999999999997E-2,0.23749999999999999,0.23749999999999999,5.9374999999999997E-2,{"$f":"11-O35","v":4},null,null,null,null,{"$f":"SUM(C49:L49)","v":2.9687499999999996}]
[null,"V3",{"$f":"C16*$M50","v":0.36562500000000003},0.40625,0.203125,0.203125,4.0625000000000001E-2,4.0625000000000001E-2,0.40625,4.0625000000000001E-2,0.203125,4.0625000000000001E-2,4.0625000000000001E-2,{"$f":"11-O36","v":1},null,null,null,null,1.9499999999999997]
[null,"V4",{"$f":"C17*$M51","v":1.0406250000000001},0.69375000000000009,0.578125,0.578125,0.11562500000000001,0.11562500000000001,0.578125,0.11562500000000001,0.80937500000000007,0.11562500000000001,0.11562500000000001,9,null,null,null,null,4.7406249999999996]
[null,"V5",{"$f":"C18*$M52","v":0.67812499999999998},9.6875000000000003E-2,0.484375,0.484375,9.6875000000000003E-2,9.6875000000000003E-2,9.6875000000000003E-2,0.96875,0.29062500000000002,0.38750000000000001,9.6875000000000003E-2,6,null,null,null,null,3.6812499999999999]
[null,"V6",{"$f":"C19*$M53","v":0.10625},0.10625,0.10625,0.10625,0.10625,0.85,0.53125,0.85,0.63749999999999996,0.42499999999999999,0.10625,8,null,null,null,null,3.8250000000000002]
[null,"V7",{"$f":"C20*$M54","v":0.24375000000000002},0.48750000000000004,0.40625,8.1250000000000003E-2,8.1250000000000003E-2,0.65,0.73125000000000007,0.32500000000000001,0.73125000000000007,8.1250000000000003E-2,8.1250000000000003E-2,7,null,null,null,null,3.8187500000000005]
[null,"V8",{"$f":"C21*$M55","v":0.5625},0.1125,0.1125,0.1125,0.1125,0.1125,0.45,0.45,0.22500000000000001,0.45,0.1125,2,null,null,null,null,2.7000000000000006]
[null,"V9",{"$f":"C22*$M56","v":0.13750000000000001},6.8750000000000006E-2,6.8750000000000006E-2,0.34375,6.8750000000000006E-2,0.55000000000000004,0.13750000000000001,0.55000000000000004,0.6875,0.27500000000000002,6.8750000000000006E-2,3,null,null,null,null,2.8874999999999997]
[null,"V10",{"$f":"C23*$M57","v":0.796875},0.15937499999999999,0.15937499999999999,0.15937499999999999,0.15937499999999999,0.15937499999999999,0.47812499999999997,0.63749999999999996,0.15937499999999999,0.63749999999999996,0.15937499999999999,5,null,null,null,null,3.5062500000000005]

{"sheet":"Metoda TOPSIS","index":11,"n_rows":64,"n_cols":34,"rows_kept":64,"cut":false,"hidden":false,"merged":[[14,11,15,11],[14,22,15,22],[14,23,15,23]]}
[null,"K1","K2","K3","K4",null,null,null,null,null,null,null,{"$f":"'Hodnotyp pro jednotlivá krit'!D6","v":24467},{"$f":"'Hodnotyp pro jednotlivá krit'!E6","v":24},{"$f":"'Hodnotyp pro jednotlivá krit'!F6","v":24},{"$f":"'Hodnotyp pro jednotlivá krit'!G6","v":1},{"$f":"'Hodnotyp pro jednotlivá krit'!H6","v":10},{"$f":"'Hodnotyp pro jednotlivá krit'!I6","v":2},{"$f":"'Hodnotyp pro jednotlivá krit'!J6","v":3300},{"$f":"'Hodnotyp pro jednotlivá krit'!K6","v":1},{"$f":"'Hodnotyp pro jednotlivá krit'!L6","v":3},{"$f":"'Hodnotyp pro jednotlivá krit'!M6","v":1}]
["VA",30,0,2,9,null,null,null,null,null,null,null,{"$f":"'Hodnotyp pro jednotlivá krit'!D7","v":19590},{"$f":"'Hodnotyp pro jednotlivá krit'!E7","v":24},{"$f":"'Hodnotyp pro jednotlivá krit'!F7","v":24},{"$f":"'Hodnotyp pro jednotlivá krit'!G7","v":1},{"$f":"'Hodnotyp pro jednotlivá krit'!H7","v":4},{"$f":"'Hodnotyp pro jednotlivá krit'!I7","v":2},{"$f":"'Hodnotyp pro jednotlivá krit'!J7","v":3200},{"$f":"'Hodnotyp pro jednotlivá krit'!K7","v":1.1299999999999999},{"$f":"'Hodnotyp pro jednotlivá krit'!L7","v":7},{"$f":"'Hodnotyp pro jednotlivá krit'!M7","v":1}]
["VB",22,30,1,7.5,null,null,null,null,null,null,null,{"$f":"'Hodnotyp pro jednotlivá krit'!D8","v":22990},{"$f":"'Hodnotyp pro jednotlivá krit'!E8","v":24},{"$f":"'Hodnotyp pro jednotlivá krit'!F8","v":24},{"$f":"'Hodnotyp pro jednotlivá krit'!G8","v":1},{"$f":"'Hodnotyp pro jednotlivá krit'!H8","v":10},{"$f":"'Hodnotyp pro jednotlivá krit'!I8","v":2},{"$f":"'Hodnotyp pro jednotlivá krit'!J8","v":2200},{"$f":"'Hodnotyp pro jednotlivá krit'!K8","v":1.1299999999999999},{"$f":"'Hodnotyp pro jednotlivá krit'!L8","v":6},{"$f":"'Hodnotyp pro jednotlivá krit'!M8","v":2}]
["VC",26,15,3,8,null,null,null,null,null,null,null,{"$f":"'Hodnotyp pro jednotlivá krit'!D9","v":22990},{"$f":"'Hodnotyp pro jednotlivá krit'!E9","v":24},{"$f":"'Hodnotyp pro jednotlivá krit'!F9","v":24},{"$f":"'Hodnotyp pro jednotlivá krit'!G9","v":1},{"$f":"'Hodnotyp pro jednotlivá krit'!H9","v":10},{"$f":"'Hodnotyp pro jednotlivá krit'!I9","v":2},{"$f":"'Hodnotyp pro jednotlivá krit'!J9","v":3300},{"$f":"'Hodnotyp pro jednotlivá krit'!K9","v":1.1299999999999999},{"$f":"'Hodnotyp pro jednotlivá krit'!L9","v":4},{"$f":"'Hodnotyp pro jednotlivá krit'!M9","v":2}]
[null,{"$f":"(B2/B$32)","v":0.66097897385884763},{"$f":"C2/C$32","v":0},0.53452248382484879,0.63441663916521718,null,null,null,null,null,null,null,{"$f":"'Hodnotyp pro jednotlivá krit'!D10","v":20458},{"$f":"'Hodnotyp pro jednotlivá krit'!E10","v":36},{"$f":"'Hodnotyp pro jednotlivá krit'!F10","v":24},{"$f":"'Hodnotyp pro jednotlivá krit'!G10","v":1},{"$f":"'Hodnotyp pro jednotlivá krit'!H10","v":10},{"$f":"'Hodnotyp pro jednotlivá krit'!I10","v":2},{"$f":"'Hodnotyp pro jednotlivá krit'!J10","v":3900},{"$f":"'Hodnotyp pro jednotlivá krit'!K10","v":0.25600000000000001},{"$f":"'Hodnotyp pro jednotlivá krit'!L10","v":8},{"$f":"'Hodnotyp pro jednotlivá krit'!M10","v":1}]
[null,{"$f":"B3/B$32","v":0.48471791416315496},0.89442719099991597,0.2672612419124244,0.528680532637681,null,null,null,null,null,null,null,{"$f":"'Hodnotyp pro jednotlivá krit'!D11","v":11990},{"$f":"'Hodnotyp pro jednotlivá krit'!E11","v":36},{"$f":"'Hodnotyp pro jednotlivá krit'!F11","v":36},{"$f":"'Hodnotyp pro jednotlivá krit'!G11","v":2},{"$f":"'Hodnotyp pro jednotlivá krit'!H11","v":10},{"$f":"'Hodnotyp pro jednotlivá krit'!I11","v":1},{"$f":"'Hodnotyp pro jednotlivá krit'!J11","v":3300},{"$f":"'Hodnotyp pro jednotlivá krit'!K11","v":0.5},{"$f":"'Hodnotyp pro jednotlivá krit'!L11","v":5},{"$f":"'Hodnotyp pro jednotlivá krit'!M11","v":1}]
[null,{"$f":"B4/B$32","v":0.57284844401100132},0.44721359549995798,0.80178372573727319,0.56392590148019306,null,null,null,null,null,null,null,{"$f":"'Hodnotyp pro jednotlivá krit'!D12","v":17990},{"$f":"'Hodnotyp pro jednotlivá krit'!E12","v":24},{"$f":"'Hodnotyp pro jednotlivá krit'!F12","v":24},{"$f":"'Hodnotyp pro jednotlivá krit'!G12","v":2},{"$f":"'Hodnotyp pro jednotlivá krit'!H12","v":10},{"$f":"'Hodnotyp pro jednotlivá krit'!I12","v":1},{"$f":"'Hodnotyp pro jednotlivá krit'!J12","v":2400},{"$f":"'Hodnotyp pro jednotlivá krit'!K12","v":1},{"$f":"'Hodnotyp pro jednotlivá krit'!L12","v":2},{"$f":"'Hodnotyp pro jednotlivá krit'!M12","v":2}]
[null,null,null,null,null,null,null,null,null,null,null,null,{"$f":"'Hodnotyp pro jednotlivá krit'!D13","v":18990},{"$f":"'Hodnotyp pro jednotlivá krit'!E13","v":36},{"$f":"'Hodnotyp pro jednotlivá krit'!F13","v":36},{"$f":"'Hodnotyp pro jednotlivá krit'!G13","v":2},{"$f":"'Hodnotyp pro jednotlivá krit'!H13","v":10},{"$f":"'Hodnotyp pro jednotlivá krit'!I13","v":2},{"$f":"'Hodnotyp pro jednotlivá krit'!J13","v":3400},{"$f":"'Hodnotyp pro jednotlivá krit'!K13","v":1},{"$f":"'Hodnotyp pro jednotlivá krit'!L13","v":9},{"$f":"'Hodnotyp pro jednotlivá krit'!M13","v":1}]
[null,{"$f":"B5*B$35","v":0.33048948692942381},{"$f":"C5*C$35","v":0},0.1336306209562122,3.1720831958260857E-2,null,null,null,null,null,null,null,{"$f":"'Hodnotyp pro jednotlivá krit'!D14","v":13290},{"$f":"'Hodnotyp pro jednotlivá krit'!E14","v":36},{"$f":"'Hodnotyp pro jednotlivá krit'!F14","v":36},{"$f":"'Hodnotyp pro jednotlivá krit'!G14","v":1},{"$f":"'Hodnotyp pro jednotlivá krit'!H14","v":10},{"$f":"'Hodnotyp pro jednotlivá krit'!I14","v":1},{"$f":"'Hodnotyp pro jednotlivá krit'!J14","v":3700},{"$f":"'Hodnotyp pro jednotlivá krit'!K14","v":0.5},{"$f":"'Hodnotyp pro jednotlivá krit'!L14","v":1},{"$f":"'Hodnotyp pro jednotlivá krit'!M14","v":1}]
[null,{"$f":"B6*B$35","v":0.24235895708157748},0.1788854381999832,6.6815310478106099E-2,2.6434026631884051E-2,null,null,null,null,null,null,null,{"$f":"'Hodnotyp pro jednotlivá krit'!D15","v":18990},{"$f":"'Hodnotyp pro jednotlivá krit'!E15","v":36},{"$f":"'Hodnotyp pro jednotlivá krit'!F15","v":36},{"$f":"'Hodnotyp pro jednotlivá krit'!G15","v":2},{"$f":"'Hodnotyp pro jednotlivá krit'!H15","v":10},{"$f":"'Hodnotyp pro jednotlivá krit'!I15","v":2},{"$f":"'Hodnotyp pro jednotlivá krit'!J15","v":3600},{"$f":"'Hodnotyp pro jednotlivá krit'!K15","v":1},{"$f":"'Hodnotyp pro jednotlivá krit'!L15","v":10},{"$f":"'Hodnotyp pro jednotlivá krit'!M15","v":1}]
[null,{"$f":"B7*B$35","v":0.28642422200550066},8.9442719099991602E-2,0.2004459314343183,2.8196295074009656E-2]
["hj",{"$f":"MAX(B9:B11)","v":0.33048948692942381},{"$f":"MAX(C9:C11)","v":0.1788854381999832},0.2004459314343183,3.1720831958260857E-2]
["dj",{"$f":"MIN(B9:B11)","v":0.24235895708157748},{"$f":"MIN(C9:C11)","v":0},{"$f":"MIN(D9:D11)","v":6.6815310478106099E-2},{"$f":"MIN(E9:E11)","v":2.6434026631884051E-2}]
[]
[null,null,null,null,null,null,null,null,null,null,null,null,{"$f":"'Hodnotyp pro jednotlivá krit'!D2","v":"K1"},{"$f":"'Hodnotyp pro jednotlivá krit'!E2","v":"K2"},{"$f":"'Hodnotyp pro jednotlivá krit'!F2","v":"K3"},{"$f":"'Hodnotyp pro jednotlivá krit'!G2","v":"K4"},{"$f":"'Hodnotyp pro jednotlivá krit'!H2","v":"K5"},{"$f":"'Hodnotyp pro jednotlivá krit'!I2","v":"K6"},{"$f":"'Hodnotyp pro jednotlivá krit'!J2","v":"K7"},{"$f":"'Hodnotyp pro jednotlivá krit'!K2","v":"K8"},{"$f":"'Hodnotyp pro jednotlivá krit'!L2","v":"K9"},{"$f":"'Hodnotyp pro jednotlivá krit'!M2","v":"K10"},"Váhy","Kritérium pro váhy"]
[null,null,null,null,null,null,null,null,null,null,null,null,{"$f":"'Hodnotyp pro jednotlivá krit'!D5","v":"MIN"},{"$f":"'Hodnotyp pro jednotlivá krit'!E5","v":"MAX"},{"$f":"'Hodnotyp pro jednotlivá krit'!F5","v":"MAX"},{"$f":"'Hodnotyp pro jednotlivá krit'!G5","v":"MAX"},{"$f":"'Hodnotyp pro jednotlivá krit'!H5","v":"MAX"},{"$f":"'Hodnotyp pro jednotlivá krit'!I5","v":"MAX"},{"$f":"'Hodnotyp pro jednotlivá krit'!J5","v":"MAX"},{"$f":"'Hodnotyp pro jednotlivá krit'!K5","v":"MAX"},{"$f":"'Hodnotyp pro jednotlivá krit'!L5","v":"MAX"},{"$f":"'Hodnotyp pro jednotlivá krit'!M5","v":"MAX"},null,null,null,"d+","d-","ci","Pořadí"]
[null,{"$f":"(B9-B$12)^2","v":0},{"$f":"(C9-C$12)^2","v":3.2000000000000008E-2},4.4642857142857149E-3,0,null,{"$f":"(B9-B$13)^2","v":7.7669902912621339E-3},0,4.4642857142857149E-3,2.7950310559006166E-5,null,"V1",{"$f":"IF(M$16=\"MIN\",((MAX(M$1:M$10)-M1)/M$39),M1/M$39)","v":0},{"$f":"IF(N$16=\"MIN\",((MAX(N$1:N$10)-N1)/N$39),N1/N$39)","v":0.24806946917841693},0.25819888974716115,0.21320071635561041,0.33040930022754489,0.35921060405354982,0.31912744594569353,0.34511010943325016,0.15289415743128767,0.22941573387056174,0.24276957111900604,"K1",null,{"$f":"SQRT((SUM(M55:V55)))","v":7.3334349756606423E-2},{"$f":"SQRT((SUM(Y55:AH55)))","v":4.9027598969711622E-2},{"$f":"AA17/(Z17+AA17)","v":0.40067684014553939},{"$f":"AE17","v":9},null,{"$f":"RANK(AB17,$AB$17:$AB$26)","v":9}]
[null,{"$f":"(B10-B$12)^2","v":7.7669902912621339E-3},{"$f":"(C10-C$12)^2","v":0},1.785714285714286E-2,2.7950310559006166E-5,null,0,3.2000000000000008E-2,0,0,null,"V2",{"$f":"IF(M$16=\"MIN\",((MAX(M$1:M$10)-M2)/M$39),M2/M$39)","v":7.8874186534744622E-2},0.24806946917841693,0.25819888974716115,0.21320071635561041,0.13216372009101796,0.35921060405354982,0.30945691728067254,0.38997442365957263,0.3567530340063379,0.22941573387056174,2.1971325632708472E-2,"K2",null,5.3271895215899541E-2,6.4823874481568927E-2,0.54890936946879065,{"$f":"AE18","v":5},null,5]
[null,{"$f":"(B11-B$12)^2","v":1.9417475728155322E-3},8.0000000000000019E-3,0,1.242236024844717E-5,null,1.9417475728155345E-3,8.0000000000000019E-3,1.785714285714286E-2,3.1055900621118047E-6,null,"V3",{"$f":"IF(M$16=\"MIN\",((MAX(M$1:M$10)-M3)/M$39),M3/M$39)","v":2.3887056287024359E-2},0.24806946917841693,0.25819888974716115,0.21320071635561041,0.33040930022754489,0.35921060405354982,0.21275163063046237,0.38997442365957263,0.30578831486257535,0.45883146774112349,2.4954016481633711E-2,"K3",null,5.1476454793975363E-2,7.1234096962537297E-2,0.58050506613223396,{"$f":"AE19","v":2},null,2]
[null,null,null,null,null,null,null,null,null,null,null,"V4",{"$f":"IF(M$16=\"MIN\",((MAX(M$1:M$10)-M4)/M$39),M4/M$39)","v":2.3887056287024359E-2},0.24806946917841693,0.25819888974716115,0.21320071635561041,0.33040930022754489,0.35921060405354982,0.31912744594569353,0.38997442365957263,0.20385887657505022,0.45883146774112349,2.4933570635879435E-2,"K4",null,5.4003415901372781E-2,6.9094506371639774E-2,0.56129709661872784,4,null,4]
[null,"d+","d-","ci","Pořadí",null,null,null,null,null,null,"V5",{"$f":"IF(M$16=\"MIN\",((MAX(M$1:M$10)-M5)/M$39),M5/M$39)","v":6.4836295636208977E-2},0.37210420376762537,0.25819888974716115,0.21320071635561041,0.33040930022754489,0.35921060405354982,0.37715061793581967,8.8348188014912038E-2,0.40771775315010045,0.22941573387056174,4.6230297912969946E-2,"K5",null,7.2393941125900932E-2,4.7536186452667169E-2,0.39636567902027342,10,null,10]
[null,{"$f":"SQRT(B17+C17+D17+E17)","v":0.19095624031250122},{"$f":"SQRT(G17+H17+I17+J17)","v":0.1107213905083695},{"$f":"C22/(B22+C22)","v":0.36701889433132456},{"$f":"RANK(D22,$D$22:$D$24)","v":3},null,null,null,null,null,null,"V6",{"$f":"IF(M$16=\"MIN\",((MAX(M$1:M$10)-M6)/M$39),M6/M$39)","v":0.20178659532376636},0.37210420376762537,0.3872983346207417,0.42640143271122083,0.33040930022754489,0.17960530202677491,0.31912744594569353,0.17255505471662508,0.2548235957188128,0.22941573387056174,9.5788279411056179E-2,"K6",null,6.1728734597478706E-2,5.727981649169913E-2,0.48130840992070467,7,null,7]
[null,{"$f":"SQRT(B18+C18+D18+E18)","v":0.16016267810874044},{"$f":"SQRT(G18+H18+I18+J18)","v":0.1788854381999832},{"$f":"C23/(B23+C23)","v":0.52761077143722357},{"$f":"RANK(D23,$D$22:$D$24)","v":2},null,null,null,null,null,null,"V7",{"$f":"IF(M$16=\"MIN\",((MAX(M$1:M$10)-M7)/M$39),M7/M$39)","v":0.10475048312190709},0.24806946917841693,0.25819888974716115,0.42640143271122083,0.33040930022754489,0.17960530202677491,0.23209268796050439,0.34511010943325016,0.10192943828752511,0.45883146774112349,0.10691151845151453,"K7",null,5.3685665934827181E-2,6.4035094722566743E-2,0.54395753446522399,6,null,6]
[null,{"$f":"SQRT(B19+C19+D19+E19)","v":9.9770586512578849E-2},0.16673930556416658,0.62564021269481274,1,null,null,null,null,null,null,"V8",{"$f":"IF(M$16=\"MIN\",((MAX(M$1:M$10)-M8)/M$39),M8/M$39)","v":8.8577797754930548E-2},0.37210420376762537,0.3872983346207417,0.42640143271122083,0.33040930022754489,0.35921060405354982,0.32879797461071458,0.34511010943325016,0.458682472293863,0.22941573387056174,0.16463820564362905,"K8",null,4.8855990979235493E-2,6.7436821082696566E-2,0.57988812796772771,3,null,3]
[null,null,null,null,null,null,null,null,null,null,null,"V9",{"$f":"IF(M$16=\"MIN\",((MAX(M$1:M$10)-M9)/M$39),M9/M$39)","v":0.18076210434669684},0.37210420376762537,0.3872983346207417,0.21320071635561041,0.33040930022754489,0.17960530202677491,0.35780956060577762,0.17255505471662508,5.0964719143762556E-2,0.22941573387056174,0.10167065089987576,"K9",null,7.3034877319475722E-2,4.9601180008529519E-2,0.40445837129177314,8,null,8]
[null,null,null,null,null,null,null,null,null,null,null,"V10",{"$f":"IF(M$16=\"MIN\",((MAX(M$1:M$10)-M10)/M$39),M10/M$39)","v":8.8577797754930548E-2},0.37210420376762537,0.3872983346207417,0.42640143271122083,0.33040930022754489,0.35921060405354982,0.34813903194075657,0.34511010943325016,0.5096471914376256,0.22941573387056174,0.17013256381172703,"K10",null,4.8404088897863053E-2,7.1131882461741167E-2,0.59506675398782383,1,null,1]
[]
[]
[null,{"$f":"B2*B2","v":900},0,4,81,null,null,null,null,null,null,null,{"$f":"M1*M1","v":598634089},576,576,1,100,4,10890000,1,9,1]
[null,484,900,1,56.25,null,null,null,null,null,null,null,{"$f":"M2*M2","v":383768100},576,576,1,16,4,10240000,1.2768999999999997,49,1]
[null,676,225,9,64,null,null,null,null,null,null,null,{"$f":"M3*M3","v":528540100},576,576,1,100,4,4840000,1.2768999999999997,36,4]
[null,{"$f":"SQRT(B29+B30+B31)","v":45.387222871640866},{"$f":"SQRT(C29+C30+C31)","v":33.541019662496844},3.7416573867739413,14.186260959111108,null,null,null,null,null,null,null,{"$f":"M4*M4","v":528540100},576,576,1,100,4,10890000,1.2768999999999997,16,4]
[null,null,null,null,null,null,null,null,null,null,null,null,{"$f":"M5*M5","v":418529764},1296,576,1,100,4,15210000,6.5535999999999997E-2,64,1]
[null,null,null,null,null,null,null,null,null,null,null,null,{"$f":"M6*M6","v":143760100},1296,1296,4,100,1,10890000,0.25,25,1]
["Váhy",0.5,0.2,0.25,0.05,null,null,null,null,null,null,null,{"$f":"M7*M7","v":323640100},576,576,4,100,1,5760000,1,4,4]
[null,null,null,null,null,null,null,null,null,null,null,null,{"$f":"M8*M8","v":360620100},1296,1296,4,100,4,11560000,1,81,1]
[null,null,null,null,null,null,null,null,null,null,null,null,{"$f":"M9*M9","v":176624100},1296,1296,1,100,1,13690000,0.25,1,1]
[null,null,null,null,null,null,null,null,null,null,null,null,{"$f":"M10*M10","v":360620100},1296,1296,4,100,4,12960000,1,100,1]
[null,null,null,null,null,null,null,null,null,null,null,null,{"$f":"SQRT(SUM(M29:M38))","v":61832.650379876162},{"$f":"SQRT(SUM(N29:N38))","v":96.74709297958259},92.951600308978001,4.6904157598234297,30.265491900843113,5.5677643628300215,10340.696301506974,2.8976259247873934,19.621416870348583,4.358898943540674]
[]
[null,null,null,null,null,null,null,null,null,null,null,null,{"$f":"M15","v":"K1"},{"$f":"N15","v":"K2"},"K3","K4","K5","K6","K7","K8","K9","K10"]
[null,null,null,null,null,null,null,null,null,null,null,"V1",{"$f":"M17*W$17","v":0},{"$f":"N17*W$18","v":5.4504150868521367E-3},{"$f":"O17*W$19","v":6.4430993502901848E-3},{"$f":"P17*W$20","v":5.3158551208727081E-3},{"$f":"Q17*W$21","v":1.5274920382735329E-2},{"$f":"R17*W$22","v":3.4408165708495697E-2},{"$f":"S17*W$23","v":3.4118399825607722E-2},{"$f":"T17*W$24","v":5.6818309166566765E-2},{"$f":"U17*W$25","v":1.5544848504827093E-2},{"$f":"V17*W$26","v":3.903108698214753E-2}]
[null,null,null,null,null,null,null,null,null,null,null,"V2",{"$f":"M18*W$17","v":1.9148252437400433E-2},{"$f":"N18*W$18","v":5.4504150868521367E-3},{"$f":"O18*W$19","v":6.4430993502901848E-3},{"$f":"P18*W$20","v":5.3158551208727081E-3},{"$f":"Q18*W$21","v":6.1099681530941315E-3},{"$f":"R18*W$22","v":3.4408165708495697E-2},{"$f":"S18*W$23","v":3.3084508921801425E-2},{"$f":"T18*W$24","v":6.4204689358220435E-2},{"$f":"U18*W$25","v":3.6271313177929886E-2},{"$f":"V18*W$26","v":3.903108698214753E-2}]
[null,null,null,null,null,null,null,null,null,null,null,"V3",5.7990504100964603E-3,5.4504150868521367E-3,6.4430993502901848E-3,5.3158551208727081E-3,1.5274920382735329E-2,3.4408165708495697E-2,2.2745599883738483E-2,6.4204689358220435E-2,3.1089697009654187E-2,7.8062173964295059E-2]
[null,null,null,null,null,null,null,null,null,null,null,"V4",5.7990504100964603E-3,5.4504150868521367E-3,6.4430993502901848E-3,5.3158551208727081E-3,1.5274920382735329E-2,3.4408165708495697E-2,3.4118399825607722E-2,6.4204689358220435E-2,2.0726464673102792E-2,7.8062173964295059E-2]
[null,null,null,null,null,null,null,null,null,null,null,"V5",1.5740279684547536E-2,8.1756226302782033E-3,6.4430993502901848E-3,5.3158551208727081E-3,1.5274920382735329E-2,3.4408165708495697E-2,4.0321745248445492E-2,1.4545487146641091E-2,4.1452929346205585E-2,3.903108698214753E-2]
[null,null,null,null,null,null,null,null,null,null,null,"V6",4.8987645204315193E-2,8.1756226302782033E-3,9.6646490254352763E-3,1.0631710241745416E-2,1.5274920382735329E-2,1.7204082854247849E-2,3.4118399825607722E-2,2.8409154583283382E-2,2.5908080841378491E-2,3.903108698214753E-2]
[null,null,null,null,null,null,null,null,null,null,null,"V7",2.5430229862014066E-2,5.4504150868521367E-3,6.4430993502901848E-3,1.0631710241745416E-2,1.5274920382735329E-2,1.7204082854247849E-2,2.4813381691351069E-2,5.6818309166566765E-2,1.0363232336551396E-2,7.8062173964295059E-2]
[null,null,null,null,null,null,null,null,null,null,null,"V8",2.1503993971630546E-2,8.1756226302782033E-3,9.6646490254352763E-3,1.0631710241745416E-2,1.5274920382735329E-2,3.4408165708495697E-2,3.5152290729414018E-2,5.6818309166566765E-2,4.6634545514481276E-2,3.903108698214753E-2]
[null,null,null,null,null,null,null,null,null,null,null,"V9",4.3883538546816613E-2,8.1756226302782033E-3,9.6646490254352763E-3,5.3158551208727081E-3,1.5274920382735329E-2,1.7204082854247849E-2,3.82539634408329E-2,2.8409154583283382E-2,5.1816161682756981E-3,3.903108698214753E-2]
[null,null,null,null,null,null,null,null,null,null,null,"V10",2.1503993971630546E-2,8.1756226302782033E-3,9.6646490254352763E-3,1.0631710241745416E-2,1.5274920382735329E-2,3.4408165708495697E-2,3.7220072537026604E-2,5.6818309166566765E-2,5.1816161682756982E-2,3.903108698214753E-2]
[null,null,null,null,null,null,null,null,null,null,null,"hj",{"$f":"MAX(M42:M51)","v":4.8987645204315193E-2},{"$f":"MAX(N42:N51)","v":8.1756226302782033E-3},9.6646490254352763E-3,1.0631710241745416E-2,1.5274920382735329E-2,3.4408165708495697E-2,4.0321745248445492E-2,6.4204689358220435E-2,5.1816161682756982E-2,7.8062173964295059E-2]
[null,null,null,null,null,null,null,null,null,null,null,"dj",{"$f":"MIN(M42:M51)","v":0},{"$f":"MIN(N42:N51)","v":5.4504150868521367E-3},6.4430993502901848E-3,5.3158551208727081E-3,6.1099681530941315E-3,1.7204082854247849E-2,2.2745599883738483E-2,1.4545487146641091E-2,5.1816161682756981E-3,3.903108698214753E-2]
[]
[null,null,null,null,null,null,null,null,null,null,null,null,{"$f":"(M42-M$52)^2","v":2.3997893826638653E-3},{"$f":"(N42-N$52)^2","v":7.4267561547463366E-6},1.0378382309427444E-5,2.8258315666108595E-5,0,0,3.848149443504232E-5,5.4558612335653708E-5,1.3156081596514707E-3,1.5234257510079664E-3,null,null,{"$f":"(M42-M$53)^2","v":0},{"$f":"(N42-N$53)^2","v":0},{"$f":"(O42-O$53)^2","v":0},{"$f":"(P42-P$53)^2","v":0},{"$f":"(Q42-Q$53)^2","v":8.3996349371605146E-5},{"$f":"(R42-R$53)^2","v":2.9598046685582477E-4},{"$f":"(S42-S$53)^2","v":1.2934057851778094E-4},{"$f":"(T42-T$53)^2","v":1.786991481528313E-3},{"$f":"(U42-U$53)^2","v":1.0739658446134447E-4},{"$f":"(V42-V$53)^2","v":0}]
[null,null,null,null,null,null,null,null,null,null,null,null,{"$f":"(M43-M$52)^2","v":8.9038936069820492E-4},7.4267561547463366E-6,1.0378382309427444E-5,2.8258315666108595E-5,8.3996349371605146E-5,0,5.2377589647696511E-5,0,2.4164231503802524E-4,1.5234257510079664E-3,null,null,{"$f":"(M43-M$53)^2","v":3.6665557140641163E-4},{"$f":"(N43-N$53)^2","v":0},{"$f":"(O43-O$53)^2","v":0},{"$f":"(P43-P$53)^2","v":0},{"$f":"(Q43-Q$53)^2","v":0},{"$f":"(R43-R$53)^2","v":2.9598046685582477E-4},{"$f":"(S43-S$53)^2","v":1.0689304009733959E-4},{"$f":"(T43-T$53)^2","v":2.466036364290527E-3},{"$f":"(U43-U$53)^2","v":9.6656926015210051E-4},{"$f":"(V43-V$53)^2","v":0}]
[null,null,null,null,null,null,null,null,null,null,null,null,{"$f":"(M44-M$52)^2","v":1.8652547202992172E-3},7.4267561547463366E-6,1.0378382309427444E-5,2.8258315666108595E-5,0,0,3.0892088588131168E-4,0,4.2958633784537817E-4,0,null,null,3.3628985658839924E-5,0,0,0,8.3996349371605146E-5,2.9598046685582477E-4,0,2.466036364290527E-3,6.71228652883403E-4,1.5234257510079664E-3]
[null,null,null,null,null,null,null,null,null,null,null,null,{"$f":"(M45-M$52)^2","v":1.8652547202992172E-3},7.4267561547463366E-6,1.0378382309427444E-5,2.8258315666108595E-5,0,0,3.848149443504232E-5,0,9.6656926015210073E-4,0,null,null,3.3628985658839924E-5,0,0,0,8.3996349371605146E-5,2.9598046685582477E-4,1.2934057851778094E-4,2.466036364290527E-3,2.4164231503802513E-4,1.5234257510079664E-3]
[null,null,null,null,null,null,null,null,null,null,null,null,{"$f":"(M46-M$52)^2","v":1.1053873140050355E-3},0,1.0378382309427444E-5,2.8258315666108595E-5,0,0,0,2.466036364290527E-3,1.0739658446134454E-4,1.5234257510079664E-3,null,null,2.477564045477799E-4,7.4267561547463366E-6,0,0,8.3996349371605146E-5,2.9598046685582477E-4,3.0892088588131168E-4,0,1.3156081596514702E-3,0]
[null,null,null,null,null,null,null,null,null,null,null,null,{"$f":"(M47-M$52)^2","v":0},0,0,0,0,2.9598046685582477E-4,3.848149443504232E-5,1.2813203098237275E-3,6.7122865288340322E-4,1.5234257510079664E-3,null,null,2.3997893826638653E-3,7.4267561547463366E-6,1.0378382309427444E-5,2.8258315666108595E-5,8.3996349371605146E-5,0,1.2934057851778094E-4,1.9220127479381585E-4,4.2958633784537806E-4,0]
[null,null,null,null,null,null,null,null,null,null,null,null,{"$f":"(M48-M$52)^2","v":5.5495181760968453E-4},7.4267561547463366E-6,1.0378382309427444E-5,0,0,2.9598046685582477E-4,2.4050934021901439E-4,5.4558612335653708E-5,1.7183453513815122E-3,0,null,null,6.4669659083487201E-4,0,0,2.8258315666108595E-5,8.3996349371605146E-5,0,4.2757216038935724E-6,1.786991481528313E-3,2.6849146115336129E-5,1.5234257510079664E-3]
[null,null,null,null,null,null,null,null,null,null,null,null,{"$f":"(M49-M$52)^2","v":7.5535108507984836E-4},0,0,0,0,0,2.6723260024334934E-5,5.4558612335653708E-5,2.6849146115336207E-5,1.5234257510079664E-3,null,null,4.6242175673192286E-4,7.4267561547463366E-6,1.0378382309427444E-5,2.8258315666108595E-5,8.3996349371605146E-5,2.9598046685582477E-4,1.5392597774016912E-4,1.786991481528313E-3,1.7183453513815116E-3,0]
[null,null,null,null,null,null,null,null,null,null,null,null,{"$f":"(M50-M$52)^2","v":2.6051904771121331E-5},0,0,2.8258315666108595E-5,0,2.9598046685582477E-4,4.2757216038936004E-6,1.2813203098237275E-3,2.1747808353422262E-3,1.5234257510079664E-3,null,null,1.9257649553899394E-3,7.4267561547463366E-6,1.0378382309427444E-5,0,8.3996349371605146E-5,0,2.4050934021901417E-4,1.9220127479381585E-4,0,0]
[null,null,null,null,null,null,null,null,null,null,null,null,{"$f":"(M51-M$52)^2","v":7.5535108507984836E-4},0,0,0,0,0,9.6203736087606019E-6,5.4558612335653708E-5,0,1.5234257510079664E-3,null,null,4.6242175673192286E-4,7.4267561547463366E-6,1.0378382309427444E-5,2.8258315666108595E-5,8.3996349371605146E-5,2.9598046685582477E-4,2.0951035859078564E-4,1.786991481528313E-3,2.1747808353422262E-3,0]