{"text_format":"1","workbook":"xlsx","n_sheets":9,"sheets":["Návod","Náklady - výnosy","Provozní - náhradní díly","Výpočet NPV","Mezní podmínky","Citlivostní a. - infl.+dis","Citlivostní a. - elektrina","Citlivostni a. - cena panelu","Ověření dat"],"not_rendered":{"charts":3,"images":2,"macros":1,"external_links":0,"defined_names":0,"comments":0,"pivot_tables":0},"unopened":[],"bounds":{"document_bytes":16777216,"sheet_cells":100000,"rows_first":2000,"rows_last":500,"rows_between":2000,"halvings":0,"cell_chars":16384,"cell_head_chars":4096},"cells_cut":0,"cells_raw":0,"read":"whole","date_system":"1900"}

{"sheet":"Návod","index":0,"n_rows":39,"n_cols":2,"rows_kept":39,"cut":false,"hidden":false,"merged":[[4,1,13,7],[1,1,2,7],[15,1,16,7],[38,1,46,7],[18,1,21,7],[23,1,24,7],[26,1,36,7],[37,1,37,7]]}
[]
[null,"Návod na používání tohoto nástroje"]
[]
[]
[null,"Tento dokument je součástí diplomové práce:\nSpecifika připojení fotovoltaické elektrárny do distribuční soustavy vn v České republice\n\nSpecifics of connecting a photovoltaic power plant to the high voltage distribution grid in the Czech Republic\nNa Fakultě elektrotechnické, katedra elektroenergetiky, ČVUT 2016/2017\nAutor diplomové práce: Bc. Petr Novák\nVedoucí diplomové práce: Ing. Vít Klein, Ph.D.\n"]
[]
[]
[]
[]
[]
[]
[]
[]
[]
[]
[null,"Cíl dokumentu:"]
[]
[]
[null,"Tento nástroj slouží k ekonomické analýze projektů týkajících se fotovoltaických systémů. Jedná se o univerzální a zjednodušený nástroj, jehož výsledky jsou pouze orientační. Pro odbornou kalkulaci je potřeba kontaktovat dodavatele těchto systémů a finanční odborníky."]
[]
[]
[]
[]
[null,"Obecné používání:"]
[]
[]
[null,"Tento dokument byl vytvořen v Microsoft Excel 2010. Ve starších verzích nemusejí veškeré funkce pracovat správně. Zejména Makra\nCelý dokument je uzamčen, aby bylo zabráněno nechtěným změnám v tomto dokumentu. Buňky, do kterých se dá psát, jsou označeny modře, nacházejí se pouze na listech ‘Výdaje - příjmy’, ’Citlivostní a. – elektrina’ a ‘Citlivostní a. – cena panelu’.\nNástroj vypočítáva ekonomická kritéria pro hodnocení zcela automaticky po zadání potřebných vstupních hodnot.\nPro vytvoření grafů citlovstních analýz cen elektřiny a cen panelu je potřeba mít zapnutá MAKRA. V případě, že makra nejde z jakéhokoliv důvodu použít, je možnost využít funkci “Řešitel (Goal Seek)” a vypočtené hodnoty zadat do tabulky ručně.\n\n"]
[]
[]
[]
[]
[]
[]
[]
[]
[]
[]
[]
[null,"Doufám, že Vám tento nástroj pomůže a že splní svůj účel. V případě dotazů případně výtek mne můžete kontaktovat na:\nNovakp81@fel.cvut.cz\nPetr,novak.alpine@gmail.com\n\nDěkuji Vám\nPetr Novák (autor)\n"]

{"sheet":"Náklady - výnosy","index":1,"n_rows":61,"n_cols":25,"rows_kept":61,"cut":false,"hidden":false,"merged":[[51,1,54,1],[28,11,29,13],[14,1,14,2],[15,1,15,2],[16,1,16,2],[17,1,17,2],[18,1,18,2],[21,11,21,12],[30,11,30,13],[31,11,31,13],[32,11,32,13],[33,12,33,13],[34,12,34,13],[11,1,11,2],[12,1,12,2],[13,1,13,2],[26,1,26,2],[27,1,27,2],[19,1,19,2],[20,1,20,2],[21,1,21,2],[22,1,22,2],[23,1,23,2],[24,1,24,2],[25,1,25,2],[6,1,6,2],[7,1,7,2],[8,1,8,2],[9,1,9,2],[10,1,10,2],[1,21,1,25],[2,21,2,22],[3,21,3,22],[4,21,4,22],[7,21,7,22],[6,21,6,22],[2,24,2,25],[3,24,3,25],[4,24,4,25],[5,24,5,25],[6,24,6,25],[7,24,7,25],[5,21,5,22],[14,15,14,19],[15,15,15,17],[16,15,16,17],[11,15,11,19],[12,15,12,17],[10,15,10,19],[6,15,6,17],[7,15,7,17],[8,15,8,17],[9,15,9,17],[1,15,1,19],[2,15,2,19],[3,15,3,17],[5,15,5,19],[4,15,4,19],[2,1,2,9],[1,1,1,9],[32,1,32,9],[28,5,28,8],[1,11,1,13],[9,11,9,13],[10,12,10,13],[11,12,11,13],[12,12,12,13],[13,12,13,13],[17,11,17,13],[19,11,19,12],[18,11,18,12],[20,11,20,12],[4,1,4,2],[5,1,5,2]]}
[]
[null,"Náklady",null,null,null,null,null,null,null,null,null,"Ekonomické ukazatele",null,null,null,"Výnosy",null,null,null,null,null,"Meziroční nárůst cenové hladiny"]
[null,"Investiční",null,null,null,null,null,null,null,null,null,"Ukazatel","Symbol","Hodnota",null,"Množství dodané energie do sítě",null,null,null,null,null,"Položka",null,"Ano/Ne","Meziroční % rozdíl "]
[null,"Položka",null,"Životnost (let)","Symbol","Jednotková cena","Měna","CZK","Počet jednotek","Celkem",null,"Reálný diskont","r",0.08,null,"Data ze simulace/ měření",null,null,1070.5999999999999,"MWh",null,"Provozní - Osobní",null,"Ano",0.01]
[null,"FV Panel",null,25,"NFVP",500,"$",{"$f":"IF(G5=$L$13,F5*$M$13,IF(G5=$L$14,F5*$M$14,F5))","v":12500},2400,{"$f":"I5*H5","v":30000000},null,"Inflace","α",0.02,null,null,null,null,null,null,null,"Provozní - Údržba + oprava",null,"Ne",0.02]
[null,"Střídač",null,25,"NINV",108000,"$",{"$f":"IF(G6=$L$13,F6*$M$13,IF(G6=$L$14,F6*$M$14,F6))","v":2700000},2,{"$f":"I6*H6","v":5400000},null,"Nominální diskont","rn",{"$f":"(1+$N$4)*(1+$N$5)-1","v":0.10160000000000013},null,"Pomocný výpočet pokud nejsou data k dispozici",null,null,null,null,null,"Provozní náhradní díly",null,"Ano",0.01]
[null,"Kabel SS",null,15,"NKss",100,"Kč",100,11600,1160000,null,"Daňová sazba","τ",0.19,null,"Instalovaný výkon",null,null,1044,"KWp",null,"Provozní jiné",null,"Ne",0.02]
[null,"Kabel Stř",null,15,"Nkst",300,"Kč",300,200,60000,null,null,null,null,null,"Dopadající výkon solárního záření za rok",null,null,1250,"kWh/m2/rok",null,"Výkupní cena",null,"Ano",0.03]
[null,"Nosné konstrukce",null,25,"Nkon",30000,"Kč",30000,200,6000000,null,null,null,null,null,"Účinnost systému",null,null,0.85,"[-]"]
[null,"Projekt",null,25,"Npro",100000,"Kč",100000,1,100000,null,"Použité měny",null,null,null,"Vyrobené energie",null,null,{"$f":"S7*S8*S9/1000","v":1109.25},"MWh"]
[null,"Transformátor",null,25,"Ntrf",7500,"€",202500,2,405000,null,"Měna","Kurz vůči CZK"]
[null,"Ochrana Stringů",null,10,"Npoj",200,"Kč",200,400,80000,null,"Kč",1,null,null,"Degradace systému"]
[null,"Odpojovače",null,20,"Nodp",4000,"Kč",4000,20,80000,null,"€",27,null,null,"Meziroční snižování výkonu",null,null,5.0000000000000001E-3,"% / rok"]
[null,"Montáž",null,25,"Nmon",1000000,"Kč",1000000,1,1000000,null,"$",25]
[null,"Oplocení",null,25,"Nopl",300000,"Kč",300000,1,300000,null,null,null,null,null,"Výkupní cena elektřiny"]
[null,"Monitorovací zařízení",null,10,"Nmon",30000,"Kč",30000,1,30000,null,null,null,null,null,"Výkupní cena 1 MWh v 1. roce",null,null,"Měna","CZK/MWh"]
[null,"Doprava a logistika",null,25,"Ndop",150000,"Kč",150000,1,150000,null,null,null,null,null,35,null,null,"€",{"$f":"IF(S17=$L$13,P17*$M$13,IF(S17=$L$14,P17*$M$14,P17))","v":945}]
[null,"Pozemek",null,25,"Npoz",600000,"Kč",600000,1,600000,null,"Daňové odpisy"]
[null,"Přípojka",null,25,"Npři",30000,null,30000,1,30000,null,"Odpisová skupina",null,4]
[null,"Elektroměr",null,20,"Nelm",10000,null,10000,1,10000,null,"Doba odpisování",null,20]
[null,"Ochranné prvky, zemnění",null,25,"Noch",40000,null,40000,1,40000,null,"Daňový odpis 1. rok",null,2.1499999999999998E-2]
[null,"PV Combiner Box",null,13,"Nbox",3000,"Kč",3000,16,48000,null,"Odpisy v následujícíh letech",null,5.1499999999999997E-2,{"$f":"IF((N21+(N20-1)*N22)=1,\"\",\"Pozor! Odpisy netvoří 100 %\")","v":""}]
[null,"DC/DC Converter s MPPT",null,25,"NDCC",20000,"Kč",20000,8,160000]
[null,null,null,null,null,null,null,0,null,0]
[null,null,null,null,null,null,null,0,null,0]
[null,null,null,null,null,null,null,0,null,0]
[null,null,null,null,null,null,null,0,null,0]
[null,null,null,null,null,null,null,0,null,0]
[null,"Součet",null,null,null,"-",null,null,null,{"$f":"SUM(J5:J28)","v":45653000},null,"Dotace"]
[]
[null,null,null,null,null,null,null,null,null,null,null,"Dotace investiční"]
[null,null,null,null,null,null,null,null,null,null,null,0]
[null,"Provozní",null,null,null,null,null,null,null,null,null,"Provozní"]
[null,"Položka","Kategorie","Počet ročně","Symbol","Jednotková cena","Měna","CZK","Počet jednotek","Celkem",null,"Roční částka","Na kolik let"]
[null,"Administrace","Režijní + Jiné",12,"Nadm",8000,"Kč",{"$f":"IF(G35=$L$13,F35*$M$13,IF(G35=$L$14,F35*$M$14,F35))*D35","v":96000},1,{"$f":"H35*I35","v":96000},null,0,0]
[null,"Udržba pozemku","Údržba + opravy",6,"Nudr",5000,"Kč",{"$f":"IF(G36=$L$13,F36*$M$13,IF(G36=$L$14,F36*$M$14,F36))*D36","v":30000},1,30000]
[null,"Práce na systému","Údržba + opravy",2,"Npra",5000,"Kč",{"$f":"IF(G37=$L$13,F37*$M$13,IF(G37=$L$14,F37*$M$14,F37))*D37","v":10000},1,10000]
[null,"Revize systému","Údržba + opravy",1,"Nrev",20000,"Kč",{"$f":"IF(G38=$L$13,F38*$M$13,IF(G38=$L$14,F38*$M$14,F38))*D38","v":20000},1,20000]
[null,"Pojištění","Režijní + Jiné",1,"Npoj",10000,"Kč",{"$f":"IF(G39=$L$13,F39*$M$13,IF(G39=$L$14,F39*$M$14,F39))*D39","v":10000},1,10000]
[null,null,null,0,null,null,null,{"$f":"IF(G40=$L$13,F40*$M$13,IF(G40=$L$14,F40*$M$14,F40))*D40","v":0},null,0]
[null,null,null,0,null,null,null,0,null,0]
[null,null,null,0,null,null,null,0,null,0]
[null,null,null,0,null,null,null,0,null,{"$f":"H43*I43","v":0}]
[null,null,null,0,null,null,null,0,null,0]
[null,null,null,0,null,null,null,0,null,0]
[null,null,null,0,null,null,null,0,null,0]
[null,null,null,0,null,null,null,0,null,0]
[null,null,null,1,null,null,null,{"$f":"IF(G48=$L$13,F48*$M$13,IF(G48=$L$14,F48*$M$14,F48))*D48","v":0},null,0]
[null,null,null,0,null,null,null,{"$f":"IF(G49=$L$13,F49*$M$13,IF(G49=$L$14,F49*$M$14,F49))*D49","v":0},null,0]
[null,null,null,0,null,null,null,{"$f":"IF(G50=$L$13,F50*$M$13,IF(G50=$L$14,F50*$M$14,F50))*D50","v":0},null,0]
[null,null,null,0,null,null,null,{"$f":"IF(G51=$L$13,F51*$M$13,IF(G51=$L$14,F51*$M$14,F51))*D51","v":0},null,{"$f":"H51*I51","v":0}]
[null,"Součet",null,null,null,null,null,null,"Osobní",{"$f":"SUMIF($C$35:$C$51,I52,$J$35:$J$51)","v":0}]
[null,null,null,null,null,null,null,null,"Údržba + opravy",{"$f":"SUMIF($C$35:$C$51,I53,$J$35:$J$51)","v":60000}]
[null,null,null,null,null,null,null,null,"Náhradní díly",{"$f":"SUMIF($C$35:$C$51,I54,$J$35:$J$51)","v":0}]
[null,null,null,null,null,null,null,null,"Režijní + Jiné",{"$f":"SUMIF($C$35:$C$51,I55,$J$35:$J$51) + SUMIF($C$35:$C$51,\"\",$J$35:$J$51)","v":106000}]
[]
[]
[]
[]
[null,"Ano"]
[null,"Ne"]

{"sheet":"Provozní - náhradní díly","index":2,"n_rows":28,"n_cols":28,"rows_kept":28,"cut":false,"hidden":false,"merged":[[1,3,1,27]]}
[]
[null,null,null,"Rok"]
[null,"Prvek","Životnost",1,2,3,4,5,6,7,8,9,10,11,12,13,14,15,16,17,18,19,20,21,22,23,24,25]
[null,{"$f":"'Náklady - výnosy'!B5","v":"FV Panel"},{"$f":"'Náklady - výnosy'!D5","v":25},0,{"$f":"IF($C4=0,0,IF(MOD(E$3,$C4)=0,'Náklady - výnosy'!$J5,0))","v":0},{"$f":"IF($C4=0,0,IF(MOD(F$3,$C4)=0,'Náklady - výnosy'!$J5,0))","v":0},{"$f":"IF($C4=0,0,IF(MOD(G$3,$C4)=0,'Náklady - výnosy'!$J5,0))","v":0},{"$f":"IF($C4=0,0,IF(MOD(H$3,$C4)=0,'Náklady - výnosy'!$J5,0))","v":0},{"$f":"IF($C4=0,0,IF(MOD(I$3,$C4)=0,'Náklady - výnosy'!$J5,0))","v":0},{"$f":"IF($C4=0,0,IF(MOD(J$3,$C4)=0,'Náklady - výnosy'!$J5,0))","v":0},{"$f":"IF($C4=0,0,IF(MOD(K$3,$C4)=0,'Náklady - výnosy'!$J5,0))","v":0},{"$f":"IF($C4=0,0,IF(MOD(L$3,$C4)=0,'Náklady - výnosy'!$J5,0))","v":0},{"$f":"IF($C4=0,0,IF(MOD(M$3,$C4)=0,'Náklady - výnosy'!$J5,0))","v":0},{"$f":"IF($C4=0,0,IF(MOD(N$3,$C4)=0,'Náklady - výnosy'!$J5,0))","v":0},{"$f":"IF($C4=0,0,IF(MOD(O$3,$C4)=0,'Náklady - výnosy'!$J5,0))","v":0},{"$f":"IF($C4=0,0,IF(MOD(P$3,$C4)=0,'Náklady - výnosy'!$J5,0))","v":0},{"$f":"IF($C4=0,0,IF(MOD(Q$3,$C4)=0,'Náklady - výnosy'!$J5,0))","v":0},{"$f":"IF($C4=0,0,IF(MOD(R$3,$C4)=0,'Náklady - výnosy'!$J5,0))","v":0},{"$f":"IF($C4=0,0,IF(MOD(S$3,$C4)=0,'Náklady - výnosy'!$J5,0))","v":0},{"$f":"IF($C4=0,0,IF(MOD(T$3,$C4)=0,'Náklady - výnosy'!$J5,0))","v":0},{"$f":"IF($C4=0,0,IF(MOD(U$3,$C4)=0,'Náklady - výnosy'!$J5,0))","v":0},{"$f":"IF($C4=0,0,IF(MOD(V$3,$C4)=0,'Náklady - výnosy'!$J5,0))","v":0},{"$f":"IF($C4=0,0,IF(MOD(W$3,$C4)=0,'Náklady - výnosy'!$J5,0))","v":0},{"$f":"IF($C4=0,0,IF(MOD(X$3,$C4)=0,'Náklady - výnosy'!$J5,0))","v":0},{"$f":"IF($C4=0,0,IF(MOD(Y$3,$C4)=0,'Náklady - výnosy'!$J5,0))","v":0},{"$f":"IF($C4=0,0,IF(MOD(Z$3,$C4)=0,'Náklady - výnosy'!$J5,0))","v":0},{"$f":"IF($C4=0,0,IF(MOD(AA$3,$C4)=0,'Náklady - výnosy'!$J5,0))","v":0},0]
[null,{"$f":"'Náklady - výnosy'!B6","v":"Střídač"},{"$f":"'Náklady - výnosy'!D6","v":25},0,{"$f":"IF($C5=0,0,IF(MOD(E$3,$C5)=0,'Náklady - výnosy'!$J6,0))","v":0},{"$f":"IF($C5=0,0,IF(MOD(F$3,$C5)=0,'Náklady - výnosy'!$J6,0))","v":0},{"$f":"IF($C5=0,0,IF(MOD(G$3,$C5)=0,'Náklady - výnosy'!$J6,0))","v":0},{"$f":"IF($C5=0,0,IF(MOD(H$3,$C5)=0,'Náklady - výnosy'!$J6,0))","v":0},{"$f":"IF($C5=0,0,IF(MOD(I$3,$C5)=0,'Náklady - výnosy'!$J6,0))","v":0},{"$f":"IF($C5=0,0,IF(MOD(J$3,$C5)=0,'Náklady - výnosy'!$J6,0))","v":0},{"$f":"IF($C5=0,0,IF(MOD(K$3,$C5)=0,'Náklady - výnosy'!$J6,0))","v":0},{"$f":"IF($C5=0,0,IF(MOD(L$3,$C5)=0,'Náklady - výnosy'!$J6,0))","v":0},{"$f":"IF($C5=0,0,IF(MOD(M$3,$C5)=0,'Náklady - výnosy'!$J6,0))","v":0},{"$f":"IF($C5=0,0,IF(MOD(N$3,$C5)=0,'Náklady - výnosy'!$J6,0))","v":0},{"$f":"IF($C5=0,0,IF(MOD(O$3,$C5)=0,'Náklady - výnosy'!$J6,0))","v":0},{"$f":"IF($C5=0,0,IF(MOD(P$3,$C5)=0,'Náklady - výnosy'!$J6,0))","v":0},{"$f":"IF($C5=0,0,IF(MOD(Q$3,$C5)=0,'Náklady - výnosy'!$J6,0))","v":0},{"$f":"IF($C5=0,0,IF(MOD(R$3,$C5)=0,'Náklady - výnosy'!$J6,0))","v":0},{"$f":"IF($C5=0,0,IF(MOD(S$3,$C5)=0,'Náklady - výnosy'!$J6,0))","v":0},{"$f":"IF($C5=0,0,IF(MOD(T$3,$C5)=0,'Náklady - výnosy'!$J6,0))","v":0},{"$f":"IF($C5=0,0,IF(MOD(U$3,$C5)=0,'Náklady - výnosy'!$J6,0))","v":0},{"$f":"IF($C5=0,0,IF(MOD(V$3,$C5)=0,'Náklady - výnosy'!$J6,0))","v":0},{"$f":"IF($C5=0,0,IF(MOD(W$3,$C5)=0,'Náklady - výnosy'!$J6,0))","v":0},{"$f":"IF($C5=0,0,IF(MOD(X$3,$C5)=0,'Náklady - výnosy'!$J6,0))","v":0},{"$f":"IF($C5=0,0,IF(MOD(Y$3,$C5)=0,'Náklady - výnosy'!$J6,0))","v":0},{"$f":"IF($C5=0,0,IF(MOD(Z$3,$C5)=0,'Náklady - výnosy'!$J6,0))","v":0},{"$f":"IF($C5=0,0,IF(MOD(AA$3,$C5)=0,'Náklady - výnosy'!$J6,0))","v":0},0]
[null,{"$f":"'Náklady - výnosy'!B7","v":"Kabel SS"},{"$f":"'Náklady - výnosy'!D7","v":15},0,{"$f":"IF($C6=0,0,IF(MOD(E$3,$C6)=0,'Náklady - výnosy'!$J7,0))","v":0},{"$f":"IF($C6=0,0,IF(MOD(F$3,$C6)=0,'Náklady - výnosy'!$J7,0))","v":0},{"$f":"IF($C6=0,0,IF(MOD(G$3,$C6)=0,'Náklady - výnosy'!$J7,0))","v":0},{"$f":"IF($C6=0,0,IF(MOD(H$3,$C6)=0,'Náklady - výnosy'!$J7,0))","v":0},{"$f":"IF($C6=0,0,IF(MOD(I$3,$C6)=0,'Náklady - výnosy'!$J7,0))","v":0},{"$f":"IF($C6=0,0,IF(MOD(J$3,$C6)=0,'Náklady - výnosy'!$J7,0))","v":0},{"$f":"IF($C6=0,0,IF(MOD(K$3,$C6)=0,'Náklady - výnosy'!$J7,0))","v":0},{"$f":"IF($C6=0,0,IF(MOD(L$3,$C6)=0,'Náklady - výnosy'!$J7,0))","v":0},{"$f":"IF($C6=0,0,IF(MOD(M$3,$C6)=0,'Náklady - výnosy'!$J7,0))","v":0},{"$f":"IF($C6=0,0,IF(MOD(N$3,$C6)=0,'Náklady - výnosy'!$J7,0))","v":0},{"$f":"IF($C6=0,0,IF(MOD(O$3,$C6)=0,'Náklady - výnosy'!$J7,0))","v":0},{"$f":"IF($C6=0,0,IF(MOD(P$3,$C6)=0,'Náklady - výnosy'!$J7,0))","v":0},{"$f":"IF($C6=0,0,IF(MOD(Q$3,$C6)=0,'Náklady - výnosy'!$J7,0))","v":0},{"$f":"IF($C6=0,0,IF(MOD(R$3,$C6)=0,'Náklady - výnosy'!$J7,0))","v":1160000},{"$f":"IF($C6=0,0,IF(MOD(S$3,$C6)=0,'Náklady - výnosy'!$J7,0))","v":0},{"$f":"IF($C6=0,0,IF(MOD(T$3,$C6)=0,'Náklady - výnosy'!$J7,0))","v":0},{"$f":"IF($C6=0,0,IF(MOD(U$3,$C6)=0,'Náklady - výnosy'!$J7,0))","v":0},{"$f":"IF($C6=0,0,IF(MOD(V$3,$C6)=0,'Náklady - výnosy'!$J7,0))","v":0},{"$f":"IF($C6=0,0,IF(MOD(W$3,$C6)=0,'Náklady - výnosy'!$J7,0))","v":0},{"$f":"IF($C6=0,0,IF(MOD(X$3,$C6)=0,'Náklady - výnosy'!$J7,0))","v":0},{"$f":"IF($C6=0,0,IF(MOD(Y$3,$C6)=0,'Náklady - výnosy'!$J7,0))","v":0},{"$f":"IF($C6=0,0,IF(MOD(Z$3,$C6)=0,'Náklady - výnosy'!$J7,0))","v":0},{"$f":"IF($C6=0,0,IF(MOD(AA$3,$C6)=0,'Náklady - výnosy'!$J7,0))","v":0},0]
[null,{"$f":"'Náklady - výnosy'!B8","v":"Kabel Stř"},{"$f":"'Náklady - výnosy'!D8","v":15},0,{"$f":"IF($C7=0,0,IF(MOD(E$3,$C7)=0,'Náklady - výnosy'!$J8,0))","v":0},{"$f":"IF($C7=0,0,IF(MOD(F$3,$C7)=0,'Náklady - výnosy'!$J8,0))","v":0},{"$f":"IF($C7=0,0,IF(MOD(G$3,$C7)=0,'Náklady - výnosy'!$J8,0))","v":0},{"$f":"IF($C7=0,0,IF(MOD(H$3,$C7)=0,'Náklady - výnosy'!$J8,0))","v":0},{"$f":"IF($C7=0,0,IF(MOD(I$3,$C7)=0,'Náklady - výnosy'!$J8,0))","v":0},{"$f":"IF($C7=0,0,IF(MOD(J$3,$C7)=0,'Náklady - výnosy'!$J8,0))","v":0},{"$f":"IF($C7=0,0,IF(MOD(K$3,$C7)=0,'Náklady - výnosy'!$J8,0))","v":0},{"$f":"IF($C7=0,0,IF(MOD(L$3,$C7)=0,'Náklady - výnosy'!$J8,0))","v":0},{"$f":"IF($C7=0,0,IF(MOD(M$3,$C7)=0,'Náklady - výnosy'!$J8,0))","v":0},{"$f":"IF($C7=0,0,IF(MOD(N$3,$C7)=0,'Náklady - výnosy'!$J8,0))","v":0},{"$f":"IF($C7=0,0,IF(MOD(O$3,$C7)=0,'Náklady - výnosy'!$J8,0))","v":0},{"$f":"IF($C7=0,0,IF(MOD(P$3,$C7)=0,'Náklady - výnosy'!$J8,0))","v":0},{"$f":"IF($C7=0,0,IF(MOD(Q$3,$C7)=0,'Náklady - výnosy'!$J8,0))","v":0},{"$f":"IF($C7=0,0,IF(MOD(R$3,$C7)=0,'Náklady - výnosy'!$J8,0))","v":60000},{"$f":"IF($C7=0,0,IF(MOD(S$3,$C7)=0,'Náklady - výnosy'!$J8,0))","v":0},{"$f":"IF($C7=0,0,IF(MOD(T$3,$C7)=0,'Náklady - výnosy'!$J8,0))","v":0},{"$f":"IF($C7=0,0,IF(MOD(U$3,$C7)=0,'Náklady - výnosy'!$J8,0))","v":0},{"$f":"IF($C7=0,0,IF(MOD(V$3,$C7)=0,'Náklady - výnosy'!$J8,0))","v":0},{"$f":"IF($C7=0,0,IF(MOD(W$3,$C7)=0,'Náklady - výnosy'!$J8,0))","v":0},{"$f":"IF($C7=0,0,IF(MOD(X$3,$C7)=0,'Náklady - výnosy'!$J8,0))","v":0},{"$f":"IF($C7=0,0,IF(MOD(Y$3,$C7)=0,'Náklady - výnosy'!$J8,0))","v":0},{"$f":"IF($C7=0,0,IF(MOD(Z$3,$C7)=0,'Náklady - výnosy'!$J8,0))","v":0},{"$f":"IF($C7=0,0,IF(MOD(AA$3,$C7)=0,'Náklady - výnosy'!$J8,0))","v":0},0]
[null,{"$f":"'Náklady - výnosy'!B9","v":"Nosné konstrukce"},{"$f":"'Náklady - výnosy'!D9","v":25},0,{"$f":"IF($C8=0,0,IF(MOD(E$3,$C8)=0,'Náklady - výnosy'!$J9,0))","v":0},{"$f":"IF($C8=0,0,IF(MOD(F$3,$C8)=0,'Náklady - výnosy'!$J9,0))","v":0},{"$f":"IF($C8=0,0,IF(MOD(G$3,$C8)=0,'Náklady - výnosy'!$J9,0))","v":0},{"$f":"IF($C8=0,0,IF(MOD(H$3,$C8)=0,'Náklady - výnosy'!$J9,0))","v":0},{"$f":"IF($C8=0,0,IF(MOD(I$3,$C8)=0,'Náklady - výnosy'!$J9,0))","v":0},{"$f":"IF($C8=0,0,IF(MOD(J$3,$C8)=0,'Náklady - výnosy'!$J9,0))","v":0},{"$f":"IF($C8=0,0,IF(MOD(K$3,$C8)=0,'Náklady - výnosy'!$J9,0))","v":0},{"$f":"IF($C8=0,0,IF(MOD(L$3,$C8)=0,'Náklady - výnosy'!$J9,0))","v":0},{"$f":"IF($C8=0,0,IF(MOD(M$3,$C8)=0,'Náklady - výnosy'!$J9,0))","v":0},{"$f":"IF($C8=0,0,IF(MOD(N$3,$C8)=0,'Náklady - výnosy'!$J9,0))","v":0},{"$f":"IF($C8=0,0,IF(MOD(O$3,$C8)=0,'Náklady - výnosy'!$J9,0))","v":0},{"$f":"IF($C8=0,0,IF(MOD(P$3,$C8)=0,'Náklady - výnosy'!$J9,0))","v":0},{"$f":"IF($C8=0,0,IF(MOD(Q$3,$C8)=0,'Náklady - výnosy'!$J9,0))","v":0},{"$f":"IF($C8=0,0,IF(MOD(R$3,$C8)=0,'Náklady - výnosy'!$J9,0))","v":0},{"$f":"IF($C8=0,0,IF(MOD(S$3,$C8)=0,'Náklady - výnosy'!$J9,0))","v":0},{"$f":"IF($C8=0,0,IF(MOD(T$3,$C8)=0,'Náklady - výnosy'!$J9,0))","v":0},{"$f":"IF($C8=0,0,IF(MOD(U$3,$C8)=0,'Náklady - výnosy'!$J9,0))","v":0},{"$f":"IF($C8=0,0,IF(MOD(V$3,$C8)=0,'Náklady - výnosy'!$J9,0))","v":0},{"$f":"IF($C8=0,0,IF(MOD(W$3,$C8)=0,'Náklady - výnosy'!$J9,0))","v":0},{"$f":"IF($C8=0,0,IF(MOD(X$3,$C8)=0,'Náklady - výnosy'!$J9,0))","v":0},{"$f":"IF($C8=0,0,IF(MOD(Y$3,$C8)=0,'Náklady - výnosy'!$J9,0))","v":0},{"$f":"IF($C8=0,0,IF(MOD(Z$3,$C8)=0,'Náklady - výnosy'!$J9,0))","v":0},{"$f":"IF($C8=0,0,IF(MOD(AA$3,$C8)=0,'Náklady - výnosy'!$J9,0))","v":0},0]
[null,{"$f":"'Náklady - výnosy'!B10","v":"Projekt"},{"$f":"'Náklady - výnosy'!D10","v":25},0,{"$f":"IF($C9=0,0,IF(MOD(E$3,$C9)=0,'Náklady - výnosy'!$J10,0))","v":0},{"$f":"IF($C9=0,0,IF(MOD(F$3,$C9)=0,'Náklady - výnosy'!$J10,0))","v":0},{"$f":"IF($C9=0,0,IF(MOD(G$3,$C9)=0,'Náklady - výnosy'!$J10,0))","v":0},{"$f":"IF($C9=0,0,IF(MOD(H$3,$C9)=0,'Náklady - výnosy'!$J10,0))","v":0},{"$f":"IF($C9=0,0,IF(MOD(I$3,$C9)=0,'Náklady - výnosy'!$J10,0))","v":0},{"$f":"IF($C9=0,0,IF(MOD(J$3,$C9)=0,'Náklady - výnosy'!$J10,0))","v":0},{"$f":"IF($C9=0,0,IF(MOD(K$3,$C9)=0,'Náklady - výnosy'!$J10,0))","v":0},{"$f":"IF($C9=0,0,IF(MOD(L$3,$C9)=0,'Náklady - výnosy'!$J10,0))","v":0},{"$f":"IF($C9=0,0,IF(MOD(M$3,$C9)=0,'Náklady - výnosy'!$J10,0))","v":0},{"$f":"IF($C9=0,0,IF(MOD(N$3,$C9)=0,'Náklady - výnosy'!$J10,0))","v":0},{"$f":"IF($C9=0,0,IF(MOD(O$3,$C9)=0,'Náklady - výnosy'!$J10,0))","v":0},{"$f":"IF($C9=0,0,IF(MOD(P$3,$C9)=0,'Náklady - výnosy'!$J10,0))","v":0},{"$f":"IF($C9=0,0,IF(MOD(Q$3,$C9)=0,'Náklady - výnosy'!$J10,0))","v":0},{"$f":"IF($C9=0,0,IF(MOD(R$3,$C9)=0,'Náklady - výnosy'!$J10,0))","v":0},{"$f":"IF($C9=0,0,IF(MOD(S$3,$C9)=0,'Náklady - výnosy'!$J10,0))","v":0},{"$f":"IF($C9=0,0,IF(MOD(T$3,$C9)=0,'Náklady - výnosy'!$J10,0))","v":0},{"$f":"IF($C9=0,0,IF(MOD(U$3,$C9)=0,'Náklady - výnosy'!$J10,0))","v":0},{"$f":"IF($C9=0,0,IF(MOD(V$3,$C9)=0,'Náklady - výnosy'!$J10,0))","v":0},{"$f":"IF($C9=0,0,IF(MOD(W$3,$C9)=0,'Náklady - výnosy'!$J10,0))","v":0},{"$f":"IF($C9=0,0,IF(MOD(X$3,$C9)=0,'Náklady - výnosy'!$J10,0))","v":0},{"$f":"IF($C9=0,0,IF(MOD(Y$3,$C9)=0,'Náklady - výnosy'!$J10,0))","v":0},{"$f":"IF($C9=0,0,IF(MOD(Z$3,$C9)=0,'Náklady - výnosy'!$J10,0))","v":0},{"$f":"IF($C9=0,0,IF(MOD(AA$3,$C9)=0,'Náklady - výnosy'!$J10,0))","v":0},0]
[null,{"$f":"'Náklady - výnosy'!B11","v":"Transformátor"},{"$f":"'Náklady - výnosy'!D11","v":25},0,{"$f":"IF($C10=0,0,IF(MOD(E$3,$C10)=0,'Náklady - výnosy'!$J11,0))","v":0},{"$f":"IF($C10=0,0,IF(MOD(F$3,$C10)=0,'Náklady - výnosy'!$J11,0))","v":0},{"$f":"IF($C10=0,0,IF(MOD(G$3,$C10)=0,'Náklady - výnosy'!$J11,0))","v":0},{"$f":"IF($C10=0,0,IF(MOD(H$3,$C10)=0,'Náklady - výnosy'!$J11,0))","v":0},{"$f":"IF($C10=0,0,IF(MOD(I$3,$C10)=0,'Náklady - výnosy'!$J11,0))","v":0},{"$f":"IF($C10=0,0,IF(MOD(J$3,$C10)=0,'Náklady - výnosy'!$J11,0))","v":0},{"$f":"IF($C10=0,0,IF(MOD(K$3,$C10)=0,'Náklady - výnosy'!$J11,0))","v":0},{"$f":"IF($C10=0,0,IF(MOD(L$3,$C10)=0,'Náklady - výnosy'!$J11,0))","v":0},{"$f":"IF($C10=0,0,IF(MOD(M$3,$C10)=0,'Náklady - výnosy'!$J11,0))","v":0},{"$f":"IF($C10=0,0,IF(MOD(N$3,$C10)=0,'Náklady - výnosy'!$J11,0))","v":0},{"$f":"IF($C10=0,0,IF(MOD(O$3,$C10)=0,'Náklady - výnosy'!$J11,0))","v":0},{"$f":"IF($C10=0,0,IF(MOD(P$3,$C10)=0,'Náklady - výnosy'!$J11,0))","v":0},{"$f":"IF($C10=0,0,IF(MOD(Q$3,$C10)=0,'Náklady - výnosy'!$J11,0))","v":0},{"$f":"IF($C10=0,0,IF(MOD(R$3,$C10)=0,'Náklady - výnosy'!$J11,0))","v":0},{"$f":"IF($C10=0,0,IF(MOD(S$3,$C10)=0,'Náklady - výnosy'!$J11,0))","v":0},{"$f":"IF($C10=0,0,IF(MOD(T$3,$C10)=0,'Náklady - výnosy'!$J11,0))","v":0},{"$f":"IF($C10=0,0,IF(MOD(U$3,$C10)=0,'Náklady - výnosy'!$J11,0))","v":0},{"$f":"IF($C10=0,0,IF(MOD(V$3,$C10)=0,'Náklady - výnosy'!$J11,0))","v":0},{"$f":"IF($C10=0,0,IF(MOD(W$3,$C10)=0,'Náklady - výnosy'!$J11,0))","v":0},{"$f":"IF($C10=0,0,IF(MOD(X$3,$C10)=0,'Náklady - výnosy'!$J11,0))","v":0},{"$f":"IF($C10=0,0,IF(MOD(Y$3,$C10)=0,'Náklady - výnosy'!$J11,0))","v":0},{"$f":"IF($C10=0,0,IF(MOD(Z$3,$C10)=0,'Náklady - výnosy'!$J11,0))","v":0},{"$f":"IF($C10=0,0,IF(MOD(AA$3,$C10)=0,'Náklady - výnosy'!$J11,0))","v":0},0]
[null,{"$f":"'Náklady - výnosy'!B12","v":"Ochrana Stringů"},{"$f":"'Náklady - výnosy'!D12","v":10},0,{"$f":"IF($C11=0,0,IF(MOD(E$3,$C11)=0,'Náklady - výnosy'!$J12,0))","v":0},{"$f":"IF($C11=0,0,IF(MOD(F$3,$C11)=0,'Náklady - výnosy'!$J12,0))","v":0},{"$f":"IF($C11=0,0,IF(MOD(G$3,$C11)=0,'Náklady - výnosy'!$J12,0))","v":0},{"$f":"IF($C11=0,0,IF(MOD(H$3,$C11)=0,'Náklady - výnosy'!$J12,0))","v":0},{"$f":"IF($C11=0,0,IF(MOD(I$3,$C11)=0,'Náklady - výnosy'!$J12,0))","v":0},{"$f":"IF($C11=0,0,IF(MOD(J$3,$C11)=0,'Náklady - výnosy'!$J12,0))","v":0},{"$f":"IF($C11=0,0,IF(MOD(K$3,$C11)=0,'Náklady - výnosy'!$J12,0))","v":0},{"$f":"IF($C11=0,0,IF(MOD(L$3,$C11)=0,'Náklady - výnosy'!$J12,0))","v":0},{"$f":"IF($C11=0,0,IF(MOD(M$3,$C11)=0,'Náklady - výnosy'!$J12,0))","v":80000},{"$f":"IF($C11=0,0,IF(MOD(N$3,$C11)=0,'Náklady - výnosy'!$J12,0))","v":0},{"$f":"IF($C11=0,0,IF(MOD(O$3,$C11)=0,'Náklady - výnosy'!$J12,0))","v":0},{"$f":"IF($C11=0,0,IF(MOD(P$3,$C11)=0,'Náklady - výnosy'!$J12,0))","v":0},{"$f":"IF($C11=0,0,IF(MOD(Q$3,$C11)=0,'Náklady - výnosy'!$J12,0))","v":0},{"$f":"IF($C11=0,0,IF(MOD(R$3,$C11)=0,'Náklady - výnosy'!$J12,0))","v":0},{"$f":"IF($C11=0,0,IF(MOD(S$3,$C11)=0,'Náklady - výnosy'!$J12,0))","v":0},{"$f":"IF($C11=0,0,IF(MOD(T$3,$C11)=0,'Náklady - výnosy'!$J12,0))","v":0},{"$f":"IF($C11=0,0,IF(MOD(U$3,$C11)=0,'Náklady - výnosy'!$J12,0))","v":0},{"$f":"IF($C11=0,0,IF(MOD(V$3,$C11)=0,'Náklady - výnosy'!$J12,0))","v":0},{"$f":"IF($C11=0,0,IF(MOD(W$3,$C11)=0,'Náklady - výnosy'!$J12,0))","v":80000},{"$f":"IF($C11=0,0,IF(MOD(X$3,$C11)=0,'Náklady - výnosy'!$J12,0))","v":0},{"$f":"IF($C11=0,0,IF(MOD(Y$3,$C11)=0,'Náklady - výnosy'!$J12,0))","v":0},{"$f":"IF($C11=0,0,IF(MOD(Z$3,$C11)=0,'Náklady - výnosy'!$J12,0))","v":0},{"$f":"IF($C11=0,0,IF(MOD(AA$3,$C11)=0,'Náklady - výnosy'!$J12,0))","v":0},0]
[null,{"$f":"'Náklady - výnosy'!B13","v":"Odpojovače"},{"$f":"'Náklady - výnosy'!D13","v":20},0,{"$f":"IF($C12=0,0,IF(MOD(E$3,$C12)=0,'Náklady - výnosy'!$J13,0))","v":0},{"$f":"IF($C12=0,0,IF(MOD(F$3,$C12)=0,'Náklady - výnosy'!$J13,0))","v":0},{"$f":"IF($C12=0,0,IF(MOD(G$3,$C12)=0,'Náklady - výnosy'!$J13,0))","v":0},{"$f":"IF($C12=0,0,IF(MOD(H$3,$C12)=0,'Náklady - výnosy'!$J13,0))","v":0},{"$f":"IF($C12=0,0,IF(MOD(I$3,$C12)=0,'Náklady - výnosy'!$J13,0))","v":0},{"$f":"IF($C12=0,0,IF(MOD(J$3,$C12)=0,'Náklady - výnosy'!$J13,0))","v":0},{"$f":"IF($C12=0,0,IF(MOD(K$3,$C12)=0,'Náklady - výnosy'!$J13,0))","v":0},{"$f":"IF($C12=0,0,IF(MOD(L$3,$C12)=0,'Náklady - výnosy'!$J13,0))","v":0},{"$f":"IF($C12=0,0,IF(MOD(M$3,$C12)=0,'Náklady - výnosy'!$J13,0))","v":0},{"$f":"IF($C12=0,0,IF(MOD(N$3,$C12)=0,'Náklady - výnosy'!$J13,0))","v":0},{"$f":"IF($C12=0,0,IF(MOD(O$3,$C12)=0,'Náklady - výnosy'!$J13,0))","v":0},{"$f":"IF($C12=0,0,IF(MOD(P$3,$C12)=0,'Náklady - výnosy'!$J13,0))","v":0},{"$f":"IF($C12=0,0,IF(MOD(Q$3,$C12)=0,'Náklady - výnosy'!$J13,0))","v":0},{"$f":"IF($C12=0,0,IF(MOD(R$3,$C12)=0,'Náklady - výnosy'!$J13,0))","v":0},{"$f":"IF($C12=0,0,IF(MOD(S$3,$C12)=0,'Náklady - výnosy'!$J13,0))","v":0},{"$f":"IF($C12=0,0,IF(MOD(T$3,$C12)=0,'Náklady - výnosy'!$J13,0))","v":0},{"$f":"IF($C12=0,0,IF(MOD(U$3,$C12)=0,'Náklady - výnosy'!$J13,0))","v":0},{"$f":"IF($C12=0,0,IF(MOD(V$3,$C12)=0,'Náklady - výnosy'!$J13,0))","v":0},{"$f":"IF($C12=0,0,IF(MOD(W$3,$C12)=0,'Náklady - výnosy'!$J13,0))","v":80000},{"$f":"IF($C12=0,0,IF(MOD(X$3,$C12)=0,'Náklady - výnosy'!$J13,0))","v":0},{"$f":"IF($C12=0,0,IF(MOD(Y$3,$C12)=0,'Náklady - výnosy'!$J13,0))","v":0},{"$f":"IF($C12=0,0,IF(MOD(Z$3,$C12)=0,'Náklady - výnosy'!$J13,0))","v":0},{"$f":"IF($C12=0,0,IF(MOD(AA$3,$C12)=0,'Náklady - výnosy'!$J13,0))","v":0},0]
[null,{"$f":"'Náklady - výnosy'!B14","v":"Montáž"},{"$f":"'Náklady - výnosy'!D14","v":25},0,{"$f":"IF($C13=0,0,IF(MOD(E$3,$C13)=0,'Náklady - výnosy'!$J14,0))","v":0},{"$f":"IF($C13=0,0,IF(MOD(F$3,$C13)=0,'Náklady - výnosy'!$J14,0))","v":0},{"$f":"IF($C13=0,0,IF(MOD(G$3,$C13)=0,'Náklady - výnosy'!$J14,0))","v":0},{"$f":"IF($C13=0,0,IF(MOD(H$3,$C13)=0,'Náklady - výnosy'!$J14,0))","v":0},{"$f":"IF($C13=0,0,IF(MOD(I$3,$C13)=0,'Náklady - výnosy'!$J14,0))","v":0},{"$f":"IF($C13=0,0,IF(MOD(J$3,$C13)=0,'Náklady - výnosy'!$J14,0))","v":0},{"$f":"IF($C13=0,0,IF(MOD(K$3,$C13)=0,'Náklady - výnosy'!$J14,0))","v":0},{"$f":"IF($C13=0,0,IF(MOD(L$3,$C13)=0,'Náklady - výnosy'!$J14,0))","v":0},{"$f":"IF($C13=0,0,IF(MOD(M$3,$C13)=0,'Náklady - výnosy'!$J14,0))","v":0},{"$f":"IF($C13=0,0,IF(MOD(N$3,$C13)=0,'Náklady - výnosy'!$J14,0))","v":0},{"$f":"IF($C13=0,0,IF(MOD(O$3,$C13)=0,'Náklady - výnosy'!$J14,0))","v":0},{"$f":"IF($C13=0,0,IF(MOD(P$3,$C13)=0,'Náklady - výnosy'!$J14,0))","v":0},{"$f":"IF($C13=0,0,IF(MOD(Q$3,$C13)=0,'Náklady - výnosy'!$J14,0))","v":0},{"$f":"IF($C13=0,0,IF(MOD(R$3,$C13)=0,'Náklady - výnosy'!$J14,0))","v":0},{"$f":"IF($C13=0,0,IF(MOD(S$3,$C13)=0,'Náklady - výnosy'!$J14,0))","v":0},{"$f":"IF($C13=0,0,IF(MOD(T$3,$C13)=0,'Náklady - výnosy'!$J14,0))","v":0},{"$f":"IF($C13=0,0,IF(MOD(U$3,$C13)=0,'Náklady - výnosy'!$J14,0))","v":0},{"$f":"IF($C13=0,0,IF(MOD(V$3,$C13)=0,'Náklady - výnosy'!$J14,0))","v":0},{"$f":"IF($C13=0,0,IF(MOD(W$3,$C13)=0,'Náklady - výnosy'!$J14,0))","v":0},{"$f":"IF($C13=0,0,IF(MOD(X$3,$C13)=0,'Náklady - výnosy'!$J14,0))","v":0},{"$f":"IF($C13=0,0,IF(MOD(Y$3,$C13)=0,'Náklady - výnosy'!$J14,0))","v":0},{"$f":"IF($C13=0,0,IF(MOD(Z$3,$C13)=0,'Náklady - výnosy'!$J14,0))","v":0},{"$f":"IF($C13=0,0,IF(MOD(AA$3,$C13)=0,'Náklady - výnosy'!$J14,0))","v":0},0]
[null,{"$f":"'Náklady - výnosy'!B15","v":"Oplocení"},{"$f":"'Náklady - výnosy'!D15","v":25},0,{"$f":"IF($C14=0,0,IF(MOD(E$3,$C14)=0,'Náklady - výnosy'!$J15,0))","v":0},{"$f":"IF($C14=0,0,IF(MOD(F$3,$C14)=0,'Náklady - výnosy'!$J15,0))","v":0},{"$f":"IF($C14=0,0,IF(MOD(G$3,$C14)=0,'Náklady - výnosy'!$J15,0))","v":0},{"$f":"IF($C14=0,0,IF(MOD(H$3,$C14)=0,'Náklady - výnosy'!$J15,0))","v":0},{"$f":"IF($C14=0,0,IF(MOD(I$3,$C14)=0,'Náklady - výnosy'!$J15,0))","v":0},{"$f":"IF($C14=0,0,IF(MOD(J$3,$C14)=0,'Náklady - výnosy'!$J15,0))","v":0},{"$f":"IF($C14=0,0,IF(MOD(K$3,$C14)=0,'Náklady - výnosy'!$J15,0))","v":0},{"$f":"IF($C14=0,0,IF(MOD(L$3,$C14)=0,'Náklady - výnosy'!$J15,0))","v":0},{"$f":"IF($C14=0,0,IF(MOD(M$3,$C14)=0,'Náklady - výnosy'!$J15,0))","v":0},{"$f":"IF($C14=0,0,IF(MOD(N$3,$C14)=0,'Náklady - výnosy'!$J15,0))","v":0},{"$f":"IF($C14=0,0,IF(MOD(O$3,$C14)=0,'Náklady - výnosy'!$J15,0))","v":0},{"$f":"IF($C14=0,0,IF(MOD(P$3,$C14)=0,'Náklady - výnosy'!$J15,0))","v":0},{"$f":"IF($C14=0,0,IF(MOD(Q$3,$C14)=0,'Náklady - výnosy'!$J15,0))","v":0},{"$f":"IF($C14=0,0,IF(MOD(R$3,$C14)=0,'Náklady - výnosy'!$J15,0))","v":0},{"$f":"IF($C14=0,0,IF(MOD(S$3,$C14)=0,'Náklady - výnosy'!$J15,0))","v":0},{"$f":"IF($C14=0,0,IF(MOD(T$3,$C14)=0,'Náklady - výnosy'!$J15,0))","v":0},{"$f":"IF($C14=0,0,IF(MOD(U$3,$C14)=0,'Náklady - výnosy'!$J15,0))","v":0},{"$f":"IF($C14=0,0,IF(MOD(V$3,$C14)=0,'Náklady - výnosy'!$J15,0))","v":0},{"$f":"IF($C14=0,0,IF(MOD(W$3,$C14)=0,'Náklady - výnosy'!$J15,0))","v":0},{"$f":"IF($C14=0,0,IF(MOD(X$3,$C14)=0,'Náklady - výnosy'!$J15,0))","v":0},{"$f":"IF($C14=0,0,IF(MOD(Y$3,$C14)=0,'Náklady - výnosy'!$J15,0))","v":0},{"$f":"IF($C14=0,0,IF(MOD(Z$3,$C14)=0,'Náklady - výnosy'!$J15,0))","v":0},{"$f":"IF($C14=0,0,IF(MOD(AA$3,$C14)=0,'Náklady - výnosy'!$J15,0))","v":0},0]
[null,{"$f":"'Náklady - výnosy'!B16","v":"Monitorovací zařízení"},{"$f":"'Náklady - výnosy'!D16","v":10},0,{"$f":"IF($C15=0,0,IF(MOD(E$3,$C15)=0,'Náklady - výnosy'!$J16,0))","v":0},{"$f":"IF($C15=0,0,IF(MOD(F$3,$C15)=0,'Náklady - výnosy'!$J16,0))","v":0},{"$f":"IF($C15=0,0,IF(MOD(G$3,$C15)=0,'Náklady - výnosy'!$J16,0))","v":0},{"$f":"IF($C15=0,0,IF(MOD(H$3,$C15)=0,'Náklady - výnosy'!$J16,0))","v":0},{"$f":"IF($C15=0,0,IF(MOD(I$3,$C15)=0,'Náklady - výnosy'!$J16,0))","v":0},{"$f":"IF($C15=0,0,IF(MOD(J$3,$C15)=0,'Náklady - výnosy'!$J16,0))","v":0},{"$f":"IF($C15=0,0,IF(MOD(K$3,$C15)=0,'Náklady - výnosy'!$J16,0))","v":0},{"$f":"IF($C15=0,0,IF(MOD(L$3,$C15)=0,'Náklady - výnosy'!$J16,0))","v":0},{"$f":"IF($C15=0,0,IF(MOD(M$3,$C15)=0,'Náklady - výnosy'!$J16,0))","v":30000},{"$f":"IF($C15=0,0,IF(MOD(N$3,$C15)=0,'Náklady - výnosy'!$J16,0))","v":0},{"$f":"IF($C15=0,0,IF(MOD(O$3,$C15)=0,'Náklady - výnosy'!$J16,0))","v":0},{"$f":"IF($C15=0,0,IF(MOD(P$3,$C15)=0,'Náklady - výnosy'!$J16,0))","v":0},{"$f":"IF($C15=0,0,IF(MOD(Q$3,$C15)=0,'Náklady - výnosy'!$J16,0))","v":0},{"$f":"IF($C15=0,0,IF(MOD(R$3,$C15)=0,'Náklady - výnosy'!$J16,0))","v":0},{"$f":"IF($C15=0,0,IF(MOD(S$3,$C15)=0,'Náklady - výnosy'!$J16,0))","v":0},{"$f":"IF($C15=0,0,IF(MOD(T$3,$C15)=0,'Náklady - výnosy'!$J16,0))","v":0},{"$f":"IF($C15=0,0,IF(MOD(U$3,$C15)=0,'Náklady - výnosy'!$J16,0))","v":0},{"$f":"IF($C15=0,0,IF(MOD(V$3,$C15)=0,'Náklady - výnosy'!$J16,0))","v":0},{"$f":"IF($C15=0,0,IF(MOD(W$3,$C15)=0,'Náklady - výnosy'!$J16,0))","v":30000},{"$f":"IF($C15=0,0,IF(MOD(X$3,$C15)=0,'Náklady - výnosy'!$J16,0))","v":0},{"$f":"IF($C15=0,0,IF(MOD(Y$3,$C15)=0,'Náklady - výnosy'!$J16,0))","v":0},{"$f":"IF($C15=0,0,IF(MOD(Z$3,$C15)=0,'Náklady - výnosy'!$J16,0))","v":0},{"$f":"IF($C15=0,0,IF(MOD(AA$3,$C15)=0,'Náklady - výnosy'!$J16,0))","v":0},0]
[null,{"$f":"'Náklady - výnosy'!B17","v":"Doprava a logistika"},{"$f":"'Náklady - výnosy'!D17","v":25},0,{"$f":"IF($C16=0,0,IF(MOD(E$3,$C16)=0,'Náklady - výnosy'!$J17,0))","v":0},{"$f":"IF($C16=0,0,IF(MOD(F$3,$C16)=0,'Náklady - výnosy'!$J17,0))","v":0},{"$f":"IF($C16=0,0,IF(MOD(G$3,$C16)=0,'Náklady - výnosy'!$J17,0))","v":0},{"$f":"IF($C16=0,0,IF(MOD(H$3,$C16)=0,'Náklady - výnosy'!$J17,0))","v":0},{"$f":"IF($C16=0,0,IF(MOD(I$3,$C16)=0,'Náklady - výnosy'!$J17,0))","v":0},{"$f":"IF($C16=0,0,IF(MOD(J$3,$C16)=0,'Náklady - výnosy'!$J17,0))","v":0},{"$f":"IF($C16=0,0,IF(MOD(K$3,$C16)=0,'Náklady - výnosy'!$J17,0))","v":0},{"$f":"IF($C16=0,0,IF(MOD(L$3,$C16)=0,'Náklady - výnosy'!$J17,0))","v":0},{"$f":"IF($C16=0,0,IF(MOD(M$3,$C16)=0,'Náklady - výnosy'!$J17,0))","v":0},{"$f":"IF($C16=0,0,IF(MOD(N$3,$C16)=0,'Náklady - výnosy'!$J17,0))","v":0},{"$f":"IF($C16=0,0,IF(MOD(O$3,$C16)=0,'Náklady - výnosy'!$J17,0))","v":0},{"$f":"IF($C16=0,0,IF(MOD(P$3,$C16)=0,'Náklady - výnosy'!$J17,0))","v":0},{"$f":"IF($C16=0,0,IF(MOD(Q$3,$C16)=0,'Náklady - výnosy'!$J17,0))","v":0},{"$f":"IF($C16=0,0,IF(MOD(R$3,$C16)=0,'Náklady - výnosy'!$J17,0))","v":0},{"$f":"IF($C16=0,0,IF(MOD(S$3,$C16)=0,'Náklady - výnosy'!$J17,0))","v":0},{"$f":"IF($C16=0,0,IF(MOD(T$3,$C16)=0,'Náklady - výnosy'!$J17,0))","v":0},{"$f":"IF($C16=0,0,IF(MOD(U$3,$C16)=0,'Náklady - výnosy'!$J17,0))","v":0},{"$f":"IF($C16=0,0,IF(MOD(V$3,$C16)=0,'Náklady - výnosy'!$J17,0))","v":0},{"$f":"IF($C16=0,0,IF(MOD(W$3,$C16)=0,'Náklady - výnosy'!$J17,0))","v":0},{"$f":"IF($C16=0,0,IF(MOD(X$3,$C16)=0,'Náklady - výnosy'!$J17,0))","v":0},{"$f":"IF($C16=0,0,IF(MOD(Y$3,$C16)=0,'Náklady - výnosy'!$J17,0))","v":0},{"$f":"IF($C16=0,0,IF(MOD(Z$3,$C16)=0,'Náklady - výnosy'!$J17,0))","v":0},{"$f":"IF($C16=0,0,IF(MOD(AA$3,$C16)=0,'Náklady - výnosy'!$J17,0))","v":0},0]
[null,{"$f":"'Náklady - výnosy'!B18","v":"Pozemek"},{"$f":"'Náklady - výnosy'!D18","v":25},0,{"$f":"IF($C17=0,0,IF(MOD(E$3,$C17)=0,'Náklady - výnosy'!$J18,0))","v":0},{"$f":"IF($C17=0,0,IF(MOD(F$3,$C17)=0,'Náklady - výnosy'!$J18,0))","v":0},{"$f":"IF($C17=0,0,IF(MOD(G$3,$C17)=0,'Náklady - výnosy'!$J18,0))","v":0},{"$f":"IF($C17=0,0,IF(MOD(H$3,$C17)=0,'Náklady - výnosy'!$J18,0))","v":0},{"$f":"IF($C17=0,0,IF(MOD(I$3,$C17)=0,'Náklady - výnosy'!$J18,0))","v":0},{"$f":"IF($C17=0,0,IF(MOD(J$3,$C17)=0,'Náklady - výnosy'!$J18,0))","v":0},{"$f":"IF($C17=0,0,IF(MOD(K$3,$C17)=0,'Náklady - výnosy'!$J18,0))","v":0},{"$f":"IF($C17=0,0,IF(MOD(L$3,$C17)=0,'Náklady - výnosy'!$J18,0))","v":0},{"$f":"IF($C17=0,0,IF(MOD(M$3,$C17)=0,'Náklady - výnosy'!$J18,0))","v":0},{"$f":"IF($C17=0,0,IF(MOD(N$3,$C17)=0,'Náklady - výnosy'!$J18,0))","v":0},{"$f":"IF($C17=0,0,IF(MOD(O$3,$C17)=0,'Náklady - výnosy'!$J18,0))","v":0},{"$f":"IF($C17=0,0,IF(MOD(P$3,$C17)=0,'Náklady - výnosy'!$J18,0))","v":0},{"$f":"IF($C17=0,0,IF(MOD(Q$3,$C17)=0,'Náklady - výnosy'!$J18,0))","v":0},{"$f":"IF($C17=0,0,IF(MOD(R$3,$C17)=0,'Náklady - výnosy'!$J18,0))","v":0},{"$f":"IF($C17=0,0,IF(MOD(S$3,$C17)=0,'Náklady - výnosy'!$J18,0))","v":0},{"$f":"IF($C17=0,0,IF(MOD(T$3,$C17)=0,'Náklady - výnosy'!$J18,0))","v":0},{"$f":"IF($C17=0,0,IF(MOD(U$3,$C17)=0,'Náklady - výnosy'!$J18,0))","v":0},{"$f":"IF($C17=0,0,IF(MOD(V$3,$C17)=0,'Náklady - výnosy'!$J18,0))","v":0},{"$f":"IF($C17=0,0,IF(MOD(W$3,$C17)=0,'Náklady - výnosy'!$J18,0))","v":0},{"$f":"IF($C17=0,0,IF(MOD(X$3,$C17)=0,'Náklady - výnosy'!$J18,0))","v":0},{"$f":"IF($C17=0,0,IF(MOD(Y$3,$C17)=0,'Náklady - výnosy'!$J18,0))","v":0},{"$f":"IF($C17=0,0,IF(MOD(Z$3,$C17)=0,'Náklady - výnosy'!$J18,0))","v":0},{"$f":"IF($C17=0,0,IF(MOD(AA$3,$C17)=0,'Náklady - výnosy'!$J18,0))","v":0},0]
[null,{"$f":"'Náklady - výnosy'!B19","v":"Přípojka"},{"$f":"'Náklady - výnosy'!D19","v":25},0,{"$f":"IF($C18=0,0,IF(MOD(E$3,$C18)=0,'Náklady - výnosy'!$J19,0))","v":0},{"$f":"IF($C18=0,0,IF(MOD(F$3,$C18)=0,'Náklady - výnosy'!$J19,0))","v":0},{"$f":"IF($C18=0,0,IF(MOD(G$3,$C18)=0,'Náklady - výnosy'!$J19,0))","v":0},{"$f":"IF($C18=0,0,IF(MOD(H$3,$C18)=0,'Náklady - výnosy'!$J19,0))","v":0},{"$f":"IF($C18=0,0,IF(MOD(I$3,$C18)=0,'Náklady - výnosy'!$J19,0))","v":0},{"$f":"IF($C18=0,0,IF(MOD(J$3,$C18)=0,'Náklady - výnosy'!$J19,0))","v":0},{"$f":"IF($C18=0,0,IF(MOD(K$3,$C18)=0,'Náklady - výnosy'!$J19,0))","v":0},{"$f":"IF($C18=0,0,IF(MOD(L$3,$C18)=0,'Náklady - výnosy'!$J19,0))","v":0},{"$f":"IF($C18=0,0,IF(MOD(M$3,$C18)=0,'Náklady - výnosy'!$J19,0))","v":0},{"$f":"IF($C18=0,0,IF(MOD(N$3,$C18)=0,'Náklady - výnosy'!$J19,0))","v":0},{"$f":"IF($C18=0,0,IF(MOD(O$3,$C18)=0,'Náklady - výnosy'!$J19,0))","v":0},{"$f":"IF($C18=0,0,IF(MOD(P$3,$C18)=0,'Náklady - výnosy'!$J19,0))","v":0},{"$f":"IF($C18=0,0,IF(MOD(Q$3,$C18)=0,'Náklady - výnosy'!$J19,0))","v":0},{"$f":"IF($C18=0,0,IF(MOD(R$3,$C18)=0,'Náklady - výnosy'!$J19,0))","v":0},{"$f":"IF($C18=0,0,IF(MOD(S$3,$C18)=0,'Náklady - výnosy'!$J19,0))","v":0},{"$f":"IF($C18=0,0,IF(MOD(T$3,$C18)=0,'Náklady - výnosy'!$J19,0))","v":0},{"$f":"IF($C18=0,0,IF(MOD(U$3,$C18)=0,'Náklady - výnosy'!$J19,0))","v":0},{"$f":"IF($C18=0,0,IF(MOD(V$3,$C18)=0,'Náklady - výnosy'!$J19,0))","v":0},{"$f":"IF($C18=0,0,IF(MOD(W$3,$C18)=0,'Náklady - výnosy'!$J19,0))","v":0},{"$f":"IF($C18=0,0,IF(MOD(X$3,$C18)=0,'Náklady - výnosy'!$J19,0))","v":0},{"$f":"IF($C18=0,0,IF(MOD(Y$3,$C18)=0,'Náklady - výnosy'!$J19,0))","v":0},{"$f":"IF($C18=0,0,IF(MOD(Z$3,$C18)=0,'Náklady - výnosy'!$J19,0))","v":0},{"$f":"IF($C18=0,0,IF(MOD(AA$3,$C18)=0,'Náklady - výnosy'!$J19,0))","v":0},0]
[null,{"$f":"'Náklady - výnosy'!B20","v":"Elektroměr"},{"$f":"'Náklady - výnosy'!D20","v":20},0,{"$f":"IF($C19=0,0,IF(MOD(E$3,$C19)=0,'Náklady - výnosy'!$J20,0))","v":0},{"$f":"IF($C19=0,0,IF(MOD(F$3,$C19)=0,'Náklady - výnosy'!$J20,0))","v":0},{"$f":"IF($C19=0,0,IF(MOD(G$3,$C19)=0,'Náklady - výnosy'!$J20,0))","v":0},{"$f":"IF($C19=0,0,IF(MOD(H$3,$C19)=0,'Náklady - výnosy'!$J20,0))","v":0},{"$f":"IF($C19=0,0,IF(MOD(I$3,$C19)=0,'Náklady - výnosy'!$J20,0))","v":0},{"$f":"IF($C19=0,0,IF(MOD(J$3,$C19)=0,'Náklady - výnosy'!$J20,0))","v":0},{"$f":"IF($C19=0,0,IF(MOD(K$3,$C19)=0,'Náklady - výnosy'!$J20,0))","v":0},{"$f":"IF($C19=0,0,IF(MOD(L$3,$C19)=0,'Náklady - výnosy'!$J20,0))","v":0},{"$f":"IF($C19=0,0,IF(MOD(M$3,$C19)=0,'Náklady - výnosy'!$J20,0))","v":0},{"$f":"IF($C19=0,0,IF(MOD(N$3,$C19)=0,'Náklady - výnosy'!$J20,0))","v":0},{"$f":"IF($C19=0,0,IF(MOD(O$3,$C19)=0,'Náklady - výnosy'!$J20,0))","v":0},{"$f":"IF($C19=0,0,IF(MOD(P$3,$C19)=0,'Náklady - výnosy'!$J20,0))","v":0},{"$f":"IF($C19=0,0,IF(MOD(Q$3,$C19)=0,'Náklady - výnosy'!$J20,0))","v":0},{"$f":"IF($C19=0,0,IF(MOD(R$3,$C19)=0,'Náklady - výnosy'!$J20,0))","v":0},{"$f":"IF($C19=0,0,IF(MOD(S$3,$C19)=0,'Náklady - výnosy'!$J20,0))","v":0},{"$f":"IF($C19=0,0,IF(MOD(T$3,$C19)=0,'Náklady - výnosy'!$J20,0))","v":0},{"$f":"IF($C19=0,0,IF(MOD(U$3,$C19)=0,'Náklady - výnosy'!$J20,0))","v":0},{"$f":"IF($C19=0,0,IF(MOD(V$3,$C19)=0,'Náklady - výnosy'!$J20,0))","v":0},{"$f":"IF($C19=0,0,IF(MOD(W$3,$C19)=0,'Náklady - výnosy'!$J20,0))","v":10000},{"$f":"IF($C19=0,0,IF(MOD(X$3,$C19)=0,'Náklady - výnosy'!$J20,0))","v":0},{"$f":"IF($C19=0,0,IF(MOD(Y$3,$C19)=0,'Náklady - výnosy'!$J20,0))","v":0},{"$f":"IF($C19=0,0,IF(MOD(Z$3,$C19)=0,'Náklady - výnosy'!$J20,0))","v":0},{"$f":"IF($C19=0,0,IF(MOD(AA$3,$C19)=0,'Náklady - výnosy'!$J20,0))","v":0},0]
[null,{"$f":"'Náklady - výnosy'!B21","v":"Ochranné prvky, zemnění"},{"$f":"'Náklady - výnosy'!D21","v":25},0,{"$f":"IF($C20=0,0,IF(MOD(E$3,$C20)=0,'Náklady - výnosy'!$J21,0))","v":0},{"$f":"IF($C20=0,0,IF(MOD(F$3,$C20)=0,'Náklady - výnosy'!$J21,0))","v":0},{"$f":"IF($C20=0,0,IF(MOD(G$3,$C20)=0,'Náklady - výnosy'!$J21,0))","v":0},{"$f":"IF($C20=0,0,IF(MOD(H$3,$C20)=0,'Náklady - výnosy'!$J21,0))","v":0},{"$f":"IF($C20=0,0,IF(MOD(I$3,$C20)=0,'Náklady - výnosy'!$J21,0))","v":0},{"$f":"IF($C20=0,0,IF(MOD(J$3,$C20)=0,'Náklady - výnosy'!$J21,0))","v":0},{"$f":"IF($C20=0,0,IF(MOD(K$3,$C20)=0,'Náklady - výnosy'!$J21,0))","v":0},{"$f":"IF($C20=0,0,IF(MOD(L$3,$C20)=0,'Náklady - výnosy'!$J21,0))","v":0},{"$f":"IF($C20=0,0,IF(MOD(M$3,$C20)=0,'Náklady - výnosy'!$J21,0))","v":0},{"$f":"IF($C20=0,0,IF(MOD(N$3,$C20)=0,'Náklady - výnosy'!$J21,0))","v":0},{"$f":"IF($C20=0,0,IF(MOD(O$3,$C20)=0,'Náklady - výnosy'!$J21,0))","v":0},{"$f":"IF($C20=0,0,IF(MOD(P$3,$C20)=0,'Náklady - výnosy'!$J21,0))","v":0},{"$f":"IF($C20=0,0,IF(MOD(Q$3,$C20)=0,'Náklady - výnosy'!$J21,0))","v":0},{"$f":"IF($C20=0,0,IF(MOD(R$3,$C20)=0,'Náklady - výnosy'!$J21,0))","v":0},{"$f":"IF($C20=0,0,IF(MOD(S$3,$C20)=0,'Náklady - výnosy'!$J21,0))","v":0},{"$f":"IF($C20=0,0,IF(MOD(T$3,$C20)=0,'Náklady - výnosy'!$J21,0))","v":0},{"$f":"IF($C20=0,0,IF(MOD(U$3,$C20)=0,'Náklady - výnosy'!$J21,0))","v":0},{"$f":"IF($C20=0,0,IF(MOD(V$3,$C20)=0,'Náklady - výnosy'!$J21,0))","v":0},{"$f":"IF($C20=0,0,IF(MOD(W$3,$C20)=0,'Náklady - výnosy'!$J21,0))","v":0},{"$f":"IF($C20=0,0,IF(MOD(X$3,$C20)=0,'Náklady - výnosy'!$J21,0))","v":0},{"$f":"IF($C20=0,0,IF(MOD(Y$3,$C20)=0,'Náklady - výnosy'!$J21,0))","v":0},{"$f":"IF($C20=0,0,IF(MOD(Z$3,$C20)=0,'Náklady - výnosy'!$J21,0))","v":0},{"$f":"IF($C20=0,0,IF(MOD(AA$3,$C20)=0,'Náklady - výnosy'!$J21,0))","v":0},0]
[null,{"$f":"'Náklady - výnosy'!B22","v":"PV Combiner Box"},{"$f":"'Náklady - výnosy'!D22","v":13},0,{"$f":"IF($C21=0,0,IF(MOD(E$3,$C21)=0,'Náklady - výnosy'!$J22,0))","v":0},{"$f":"IF($C21=0,0,IF(MOD(F$3,$C21)=0,'Náklady - výnosy'!$J22,0))","v":0},{"$f":"IF($C21=0,0,IF(MOD(G$3,$C21)=0,'Náklady - výnosy'!$J22,0))","v":0},{"$f":"IF($C21=0,0,IF(MOD(H$3,$C21)=0,'Náklady - výnosy'!$J22,0))","v":0},{"$f":"IF($C21=0,0,IF(MOD(I$3,$C21)=0,'Náklady - výnosy'!$J22,0))","v":0},{"$f":"IF($C21=0,0,IF(MOD(J$3,$C21)=0,'Náklady - výnosy'!$J22,0))","v":0},{"$f":"IF($C21=0,0,IF(MOD(K$3,$C21)=0,'Náklady - výnosy'!$J22,0))","v":0},{"$f":"IF($C21=0,0,IF(MOD(L$3,$C21)=0,'Náklady - výnosy'!$J22,0))","v":0},{"$f":"IF($C21=0,0,IF(MOD(M$3,$C21)=0,'Náklady - výnosy'!$J22,0))","v":0},{"$f":"IF($C21=0,0,IF(MOD(N$3,$C21)=0,'Náklady - výnosy'!$J22,0))","v":0},{"$f":"IF($C21=0,0,IF(MOD(O$3,$C21)=0,'Náklady - výnosy'!$J22,0))","v":0},{"$f":"IF($C21=0,0,IF(MOD(P$3,$C21)=0,'Náklady - výnosy'!$J22,0))","v":48000},{"$f":"IF($C21=0,0,IF(MOD(Q$3,$C21)=0,'Náklady - výnosy'!$J22,0))","v":0},{"$f":"IF($C21=0,0,IF(MOD(R$3,$C21)=0,'Náklady - výnosy'!$J22,0))","v":0},{"$f":"IF($C21=0,0,IF(MOD(S$3,$C21)=0,'Náklady - výnosy'!$J22,0))","v":0},{"$f":"IF($C21=0,0,IF(MOD(T$3,$C21)=0,'Náklady - výnosy'!$J22,0))","v":0},{"$f":"IF($C21=0,0,IF(MOD(U$3,$C21)=0,'Náklady - výnosy'!$J22,0))","v":0},{"$f":"IF($C21=0,0,IF(MOD(V$3,$C21)=0,'Náklady - výnosy'!$J22,0))","v":0},{"$f":"IF($C21=0,0,IF(MOD(W$3,$C21)=0,'Náklady - výnosy'!$J22,0))","v":0},{"$f":"IF($C21=0,0,IF(MOD(X$3,$C21)=0,'Náklady - výnosy'!$J22,0))","v":0},{"$f":"IF($C21=0,0,IF(MOD(Y$3,$C21)=0,'Náklady - výnosy'!$J22,0))","v":0},{"$f":"IF($C21=0,0,IF(MOD(Z$3,$C21)=0,'Náklady - výnosy'!$J22,0))","v":0},{"$f":"IF($C21=0,0,IF(MOD(AA$3,$C21)=0,'Náklady - výnosy'!$J22,0))","v":0},0]
[null,{"$f":"'Náklady - výnosy'!B23","v":"DC/DC Converter s MPPT"},{"$f":"'Náklady - výnosy'!D23","v":25},0,{"$f":"IF($C22=0,0,IF(MOD(E$3,$C22)=0,'Náklady - výnosy'!$J23,0))","v":0},{"$f":"IF($C22=0,0,IF(MOD(F$3,$C22)=0,'Náklady - výnosy'!$J23,0))","v":0},{"$f":"IF($C22=0,0,IF(MOD(G$3,$C22)=0,'Náklady - výnosy'!$J23,0))","v":0},{"$f":"IF($C22=0,0,IF(MOD(H$3,$C22)=0,'Náklady - výnosy'!$J23,0))","v":0},{"$f":"IF($C22=0,0,IF(MOD(I$3,$C22)=0,'Náklady - výnosy'!$J23,0))","v":0},{"$f":"IF($C22=0,0,IF(MOD(J$3,$C22)=0,'Náklady - výnosy'!$J23,0))","v":0},{"$f":"IF($C22=0,0,IF(MOD(K$3,$C22)=0,'Náklady - výnosy'!$J23,0))","v":0},{"$f":"IF($C22=0,0,IF(MOD(L$3,$C22)=0,'Náklady - výnosy'!$J23,0))","v":0},{"$f":"IF($C22=0,0,IF(MOD(M$3,$C22)=0,'Náklady - výnosy'!$J23,0))","v":0},{"$f":"IF($C22=0,0,IF(MOD(N$3,$C22)=0,'Náklady - výnosy'!$J23,0))","v":0},{"$f":"IF($C22=0,0,IF(MOD(O$3,$C22)=0,'Náklady - výnosy'!$J23,0))","v":0},{"$f":"IF($C22=0,0,IF(MOD(P$3,$C22)=0,'Náklady - výnosy'!$J23,0))","v":0},{"$f":"IF($C22=0,0,IF(MOD(Q$3,$C22)=0,'Náklady - výnosy'!$J23,0))","v":0},{"$f":"IF($C22=0,0,IF(MOD(R$3,$C22)=0,'Náklady - výnosy'!$J23,0))","v":0},{"$f":"IF($C22=0,0,IF(MOD(S$3,$C22)=0,'Náklady - výnosy'!$J23,0))","v":0},{"$f":"IF($C22=0,0,IF(MOD(T$3,$C22)=0,'Náklady - výnosy'!$J23,0))","v":0},{"$f":"IF($C22=0,0,IF(MOD(U$3,$C22)=0,'Náklady - výnosy'!$J23,0))","v":0},{"$f":"IF($C22=0,0,IF(MOD(V$3,$C22)=0,'Náklady - výnosy'!$J23,0))","v":0},{"$f":"IF($C22=0,0,IF(MOD(W$3,$C22)=0,'Náklady - výnosy'!$J23,0))","v":0},{"$f":"IF($C22=0,0,IF(MOD(X$3,$C22)=0,'Náklady - výnosy'!$J23,0))","v":0},{"$f":"IF($C22=0,0,IF(MOD(Y$3,$C22)=0,'Náklady - výnosy'!$J23,0))","v":0},{"$f":"IF($C22=0,0,IF(MOD(Z$3,$C22)=0,'Náklady - výnosy'!$J23,0))","v":0},{"$f":"IF($C22=0,0,IF(MOD(AA$3,$C22)=0,'Náklady - výnosy'!$J23,0))","v":0},0]
[null,{"$f":"'Náklady - výnosy'!B24","v":0},{"$f":"'Náklady - výnosy'!D24","v":0},0,{"$f":"IF($C23=0,0,IF(MOD(E$3,$C23)=0,'Náklady - výnosy'!$J24,0))","v":0},{"$f":"IF($C23=0,0,IF(MOD(F$3,$C23)=0,'Náklady - výnosy'!$J24,0))","v":0},{"$f":"IF($C23=0,0,IF(MOD(G$3,$C23)=0,'Náklady - výnosy'!$J24,0))","v":0},{"$f":"IF($C23=0,0,IF(MOD(H$3,$C23)=0,'Náklady - výnosy'!$J24,0))","v":0},{"$f":"IF($C23=0,0,IF(MOD(I$3,$C23)=0,'Náklady - výnosy'!$J24,0))","v":0},{"$f":"IF($C23=0,0,IF(MOD(J$3,$C23)=0,'Náklady - výnosy'!$J24,0))","v":0},{"$f":"IF($C23=0,0,IF(MOD(K$3,$C23)=0,'Náklady - výnosy'!$J24,0))","v":0},{"$f":"IF($C23=0,0,IF(MOD(L$3,$C23)=0,'Náklady - výnosy'!$J24,0))","v":0},{"$f":"IF($C23=0,0,IF(MOD(M$3,$C23)=0,'Náklady - výnosy'!$J24,0))","v":0},{"$f":"IF($C23=0,0,IF(MOD(N$3,$C23)=0,'Náklady - výnosy'!$J24,0))","v":0},{"$f":"IF($C23=0,0,IF(MOD(O$3,$C23)=0,'Náklady - výnosy'!$J24,0))","v":0},{"$f":"IF($C23=0,0,IF(MOD(P$3,$C23)=0,'Náklady - výnosy'!$J24,0))","v":0},{"$f":"IF($C23=0,0,IF(MOD(Q$3,$C23)=0,'Náklady - výnosy'!$J24,0))","v":0},{"$f":"IF($C23=0,0,IF(MOD(R$3,$C23)=0,'Náklady - výnosy'!$J24,0))","v":0},{"$f":"IF($C23=0,0,IF(MOD(S$3,$C23)=0,'Náklady - výnosy'!$J24,0))","v":0},{"$f":"IF($C23=0,0,IF(MOD(T$3,$C23)=0,'Náklady - výnosy'!$J24,0))","v":0},{"$f":"IF($C23=0,0,IF(MOD(U$3,$C23)=0,'Náklady - výnosy'!$J24,0))","v":0},{"$f":"IF($C23=0,0,IF(MOD(V$3,$C23)=0,'Náklady - výnosy'!$J24,0))","v":0},{"$f":"IF($C23=0,0,IF(MOD(W$3,$C23)=0,'Náklady - výnosy'!$J24,0))","v":0},{"$f":"IF($C23=0,0,IF(MOD(X$3,$C23)=0,'Náklady - výnosy'!$J24,0))","v":0},{"$f":"IF($C23=0,0,IF(MOD(Y$3,$C23)=0,'Náklady - výnosy'!$J24,0))","v":0},{"$f":"IF($C23=0,0,IF(MOD(Z$3,$C23)=0,'Náklady - výnosy'!$J24,0))","v":0},{"$f":"IF($C23=0,0,IF(MOD(AA$3,$C23)=0,'Náklady - výnosy'!$J24,0))","v":0},0]
[null,{"$f":"'Náklady - výnosy'!B25","v":0},{"$f":"'Náklady - výnosy'!D25","v":0},0,{"$f":"IF($C24=0,0,IF(MOD(E$3,$C24)=0,'Náklady - výnosy'!$J25,0))","v":0},{"$f":"IF($C24=0,0,IF(MOD(F$3,$C24)=0,'Náklady - výnosy'!$J25,0))","v":0},{"$f":"IF($C24=0,0,IF(MOD(G$3,$C24)=0,'Náklady - výnosy'!$J25,0))","v":0},{"$f":"IF($C24=0,0,IF(MOD(H$3,$C24)=0,'Náklady - výnosy'!$J25,0))","v":0},{"$f":"IF($C24=0,0,IF(MOD(I$3,$C24)=0,'Náklady - výnosy'!$J25,0))","v":0},{"$f":"IF($C24=0,0,IF(MOD(J$3,$C24)=0,'Náklady - výnosy'!$J25,0))","v":0},{"$f":"IF($C24=0,0,IF(MOD(K$3,$C24)=0,'Náklady - výnosy'!$J25,0))","v":0},{"$f":"IF($C24=0,0,IF(MOD(L$3,$C24)=0,'Náklady - výnosy'!$J25,0))","v":0},{"$f":"IF($C24=0,0,IF(MOD(M$3,$C24)=0,'Náklady - výnosy'!$J25,0))","v":0},{"$f":"IF($C24=0,0,IF(MOD(N$3,$C24)=0,'Náklady - výnosy'!$J25,0))","v":0},{"$f":"IF($C24=0,0,IF(MOD(O$3,$C24)=0,'Náklady - výnosy'!$J25,0))","v":0},{"$f":"IF($C24=0,0,IF(MOD(P$3,$C24)=0,'Náklady - výnosy'!$J25,0))","v":0},{"$f":"IF($C24=0,0,IF(MOD(Q$3,$C24)=0,'Náklady - výnosy'!$J25,0))","v":0},{"$f":"IF($C24=0,0,IF(MOD(R$3,$C24)=0,'Náklady - výnosy'!$J25,0))","v":0},{"$f":"IF($C24=0,0,IF(MOD(S$3,$C24)=0,'Náklady - výnosy'!$J25,0))","v":0},{"$f":"IF($C24=0,0,IF(MOD(T$3,$C24)=0,'Náklady - výnosy'!$J25,0))","v":0},{"$f":"IF($C24=0,0,IF(MOD(U$3,$C24)=0,'Náklady - výnosy'!$J25,0))","v":0},{"$f":"IF($C24=0,0,IF(MOD(V$3,$C24)=0,'Náklady - výnosy'!$J25,0))","v":0},{"$f":"IF($C24=0,0,IF(MOD(W$3,$C24)=0,'Náklady - výnosy'!$J25,0))","v":0},{"$f":"IF($C24=0,0,IF(MOD(X$3,$C24)=0,'Náklady - výnosy'!$J25,0))","v":0},{"$f":"IF($C24=0,0,IF(MOD(Y$3,$C24)=0,'Náklady - výnosy'!$J25,0))","v":0},{"$f":"IF($C24=0,0,IF(MOD(Z$3,$C24)=0,'Náklady - výnosy'!$J25,0))","v":0},{"$f":"IF($C24=0,0,IF(MOD(AA$3,$C24)=0,'Náklady - výnosy'!$J25,0))","v":0},0]
[null,{"$f":"'Náklady - výnosy'!B26","v":0},{"$f":"'Náklady - výnosy'!D26","v":0},0,{"$f":"IF($C25=0,0,IF(MOD(E$3,$C25)=0,'Náklady - výnosy'!$J26,0))","v":0},{"$f":"IF($C25=0,0,IF(MOD(F$3,$C25)=0,'Náklady - výnosy'!$J26,0))","v":0},{"$f":"IF($C25=0,0,IF(MOD(G$3,$C25)=0,'Náklady - výnosy'!$J26,0))","v":0},{"$f":"IF($C25=0,0,IF(MOD(H$3,$C25)=0,'Náklady - výnosy'!$J26,0))","v":0},{"$f":"IF($C25=0,0,IF(MOD(I$3,$C25)=0,'Náklady - výnosy'!$J26,0))","v":0},{"$f":"IF($C25=0,0,IF(MOD(J$3,$C25)=0,'Náklady - výnosy'!$J26,0))","v":0},{"$f":"IF($C25=0,0,IF(MOD(K$3,$C25)=0,'Náklady - výnosy'!$J26,0))","v":0},{"$f":"IF($C25=0,0,IF(MOD(L$3,$C25)=0,'Náklady - výnosy'!$J26,0))","v":0},{"$f":"IF($C25=0,0,IF(MOD(M$3,$C25)=0,'Náklady - výnosy'!$J26,0))","v":0},{"$f":"IF($C25=0,0,IF(MOD(N$3,$C25)=0,'Náklady - výnosy'!$J26,0))","v":0},{"$f":"IF($C25=0,0,IF(MOD(O$3,$C25)=0,'Náklady - výnosy'!$J26,0))","v":0},{"$f":"IF($C25=0,0,IF(MOD(P$3,$C25)=0,'Náklady - výnosy'!$J26,0))","v":0},{"$f":"IF($C25=0,0,IF(MOD(Q$3,$C25)=0,'Náklady - výnosy'!$J26,0))","v":0},{"$f":"IF($C25=0,0,IF(MOD(R$3,$C25)=0,'Náklady - výnosy'!$J26,0))","v":0},{"$f":"IF($C25=0,0,IF(MOD(S$3,$C25)=0,'Náklady - výnosy'!$J26,0))","v":0},{"$f":"IF($C25=0,0,IF(MOD(T$3,$C25)=0,'Náklady - výnosy'!$J26,0))","v":0},{"$f":"IF($C25=0,0,IF(MOD(U$3,$C25)=0,'Náklady - výnosy'!$J26,0))","v":0},{"$f":"IF($C25=0,0,IF(MOD(V$3,$C25)=0,'Náklady - výnosy'!$J26,0))","v":0},{"$f":"IF($C25=0,0,IF(MOD(W$3,$C25)=0,'Náklady - výnosy'!$J26,0))","v":0},{"$f":"IF($C25=0,0,IF(MOD(X$3,$C25)=0,'Náklady - výnosy'!$J26,0))","v":0},{"$f":"IF($C25=0,0,IF(MOD(Y$3,$C25)=0,'Náklady - výnosy'!$J26,0))","v":0},{"$f":"IF($C25=0,0,IF(MOD(Z$3,$C25)=0,'Náklady - výnosy'!$J26,0))","v":0},{"$f":"IF($C25=0,0,IF(MOD(AA$3,$C25)=0,'Náklady - výnosy'!$J26,0))","v":0},0]
[null,{"$f":"'Náklady - výnosy'!B27","v":0},{"$f":"'Náklady - výnosy'!D27","v":0},0,{"$f":"IF($C26=0,0,IF(MOD(E$3,$C26)=0,'Náklady - výnosy'!$J27,0))","v":0},{"$f":"IF($C26=0,0,IF(MOD(F$3,$C26)=0,'Náklady - výnosy'!$J27,0))","v":0},{"$f":"IF($C26=0,0,IF(MOD(G$3,$C26)=0,'Náklady - výnosy'!$J27,0))","v":0},{"$f":"IF($C26=0,0,IF(MOD(H$3,$C26)=0,'Náklady - výnosy'!$J27,0))","v":0},{"$f":"IF($C26=0,0,IF(MOD(I$3,$C26)=0,'Náklady - výnosy'!$J27,0))","v":0},{"$f":"IF($C26=0,0,IF(MOD(J$3,$C26)=0,'Náklady - výnosy'!$J27,0))","v":0},{"$f":"IF($C26=0,0,IF(MOD(K$3,$C26)=0,'Náklady - výnosy'!$J27,0))","v":0},{"$f":"IF($C26=0,0,IF(MOD(L$3,$C26)=0,'Náklady - výnosy'!$J27,0))","v":0},{"$f":"IF($C26=0,0,IF(MOD(M$3,$C26)=0,'Náklady - výnosy'!$J27,0))","v":0},{"$f":"IF($C26=0,0,IF(MOD(N$3,$C26)=0,'Náklady - výnosy'!$J27,0))","v":0},{"$f":"IF($C26=0,0,IF(MOD(O$3,$C26)=0,'Náklady - výnosy'!$J27,0))","v":0},{"$f":"IF($C26=0,0,IF(MOD(P$3,$C26)=0,'Náklady - výnosy'!$J27,0))","v":0},{"$f":"IF($C26=0,0,IF(MOD(Q$3,$C26)=0,'Náklady - výnosy'!$J27,0))","v":0},{"$f":"IF($C26=0,0,IF(MOD(R$3,$C26)=0,'Náklady - výnosy'!$J27,0))","v":0},{"$f":"IF($C26=0,0,IF(MOD(S$3,$C26)=0,'Náklady - výnosy'!$J27,0))","v":0},{"$f":"IF($C26=0,0,IF(MOD(T$3,$C26)=0,'Náklady - výnosy'!$J27,0))","v":0},{"$f":"IF($C26=0,0,IF(MOD(U$3,$C26)=0,'Náklady - výnosy'!$J27,0))","v":0},{"$f":"IF($C26=0,0,IF(MOD(V$3,$C26)=0,'Náklady - výnosy'!$J27,0))","v":0},{"$f":"IF($C26=0,0,IF(MOD(W$3,$C26)=0,'Náklady - výnosy'!$J27,0))","v":0},{"$f":"IF($C26=0,0,IF(MOD(X$3,$C26)=0,'Náklady - výnosy'!$J27,0))","v":0},{"$f":"IF($C26=0,0,IF(MOD(Y$3,$C26)=0,'Náklady - výnosy'!$J27,0))","v":0},{"$f":"IF($C26=0,0,IF(MOD(Z$3,$C26)=0,'Náklady - výnosy'!$J27,0))","v":0},{"$f":"IF($C26=0,0,IF(MOD(AA$3,$C26)=0,'Náklady - výnosy'!$J27,0))","v":0},0]
[null,{"$f":"'Náklady - výnosy'!B28","v":0},{"$f":"'Náklady - výnosy'!D28","v":0},0,{"$f":"IF($C27=0,0,IF(MOD(E$3,$C27)=0,'Náklady - výnosy'!$J28,0))","v":0},{"$f":"IF($C27=0,0,IF(MOD(F$3,$C27)=0,'Náklady - výnosy'!$J28,0))","v":0},{"$f":"IF($C27=0,0,IF(MOD(G$3,$C27)=0,'Náklady - výnosy'!$J28,0))","v":0},{"$f":"IF($C27=0,0,IF(MOD(H$3,$C27)=0,'Náklady - výnosy'!$J28,0))","v":0},{"$f":"IF($C27=0,0,IF(MOD(I$3,$C27)=0,'Náklady - výnosy'!$J28,0))","v":0},{"$f":"IF($C27=0,0,IF(MOD(J$3,$C27)=0,'Náklady - výnosy'!$J28,0))","v":0},{"$f":"IF($C27=0,0,IF(MOD(K$3,$C27)=0,'Náklady - výnosy'!$J28,0))","v":0},{"$f":"IF($C27=0,0,IF(MOD(L$3,$C27)=0,'Náklady - výnosy'!$J28,0))","v":0},{"$f":"IF($C27=0,0,IF(MOD(M$3,$C27)=0,'Náklady - výnosy'!$J28,0))","v":0},{"$f":"IF($C27=0,0,IF(MOD(N$3,$C27)=0,'Náklady - výnosy'!$J28,0))","v":0},{"$f":"IF($C27=0,0,IF(MOD(O$3,$C27)=0,'Náklady - výnosy'!$J28,0))","v":0},{"$f":"IF($C27=0,0,IF(MOD(P$3,$C27)=0,'Náklady - výnosy'!$J28,0))","v":0},{"$f":"IF($C27=0,0,IF(MOD(Q$3,$C27)=0,'Náklady - výnosy'!$J28,0))","v":0},{"$f":"IF($C27=0,0,IF(MOD(R$3,$C27)=0,'Náklady - výnosy'!$J28,0))","v":0},{"$f":"IF($C27=0,0,IF(MOD(S$3,$C27)=0,'Náklady - výnosy'!$J28,0))","v":0},{"$f":"IF($C27=0,0,IF(MOD(T$3,$C27)=0,'Náklady - výnosy'!$J28,0))","v":0},{"$f":"IF($C27=0,0,IF(MOD(U$3,$C27)=0,'Náklady - výnosy'!$J28,0))","v":0},{"$f":"IF($C27=0,0,IF(MOD(V$3,$C27)=0,'Náklady - výnosy'!$J28,0))","v":0},{"$f":"IF($C27=0,0,IF(MOD(W$3,$C27)=0,'Náklady - výnosy'!$J28,0))","v":0},{"$f":"IF($C27=0,0,IF(MOD(X$3,$C27)=0,'Náklady - výnosy'!$J28,0))","v":0},{"$f":"IF($C27=0,0,IF(MOD(Y$3,$C27)=0,'Náklady - výnosy'!$J28,0))","v":0},{"$f":"IF($C27=0,0,IF(MOD(Z$3,$C27)=0,'Náklady - výnosy'!$J28,0))","v":0},{"$f":"IF($C27=0,0,IF(MOD(AA$3,$C27)=0,'Náklady - výnosy'!$J28,0))","v":0},0]
[null,"Celkem",null,{"$f":"SUM(D4:D27)","v":0},{"$f":"SUM(E4:E27)","v":0},0,0,0,0,0,0,0,110000,0,0,48000,0,1220000,0,0,0,0,200000,0,0,0,0,0]

{"sheet":"Výpočet NPV","index":3,"n_rows":39,"n_cols":30,"rows_kept":39,"cut":false,"hidden":false,"merged":[[32,1,33,2],[4,3,4,28],[6,1,11,1],[13,1,15,1],[19,1,23,1],[25,1,28,1]]}
[]
[]
[]
[]
[null,null,null,"Rok"]
[null,null,null,0,1,2,3,4,5,6,7,8,9,10,11,12,13,14,15,16,17,18,19,20,21,22,23,24,25]
[null,"Náklady","Investiční",{"$f":"'Náklady - výnosy'!J29","v":45653000},0,0,0,0,0,0,0,0,0,0,0,0,0,0,0,0,0,0,0,0,0,0,0,0,0]
[null,null,"Osobní",0,{"$f":"'Náklady - výnosy'!J52","v":0},{"$f":"IF('Náklady - výnosy'!$X$4='Ověření dat'!$B$2,'Náklady - výnosy'!$J$52*(1+'Náklady - výnosy'!$Y$4)^('Výpočet NPV'!F6-1),'Náklady - výnosy'!$J$52)","v":0},{"$f":"IF('Náklady - výnosy'!$X$4='Ověření dat'!$B$2,'Náklady - výnosy'!$J$52*(1+'Náklady - výnosy'!$Y$4)^('Výpočet NPV'!G6-1),'Náklady - výnosy'!$J$52)","v":0},{"$f":"IF('Náklady - výnosy'!$X$4='Ověření dat'!$B$2,'Náklady - výnosy'!$J$52*(1+'Náklady - výnosy'!$Y$4)^('Výpočet NPV'!H6-1),'Náklady - výnosy'!$J$52)","v":0},{"$f":"IF('Náklady - výnosy'!$X$4='Ověření dat'!$B$2,'Náklady - výnosy'!$J$52*(1+'Náklady - výnosy'!$Y$4)^('Výpočet NPV'!I6-1),'Náklady - výnosy'!$J$52)","v":0},{"$f":"IF('Náklady - výnosy'!$X$4='Ověření dat'!$B$2,'Náklady - výnosy'!$J$52*(1+'Náklady - výnosy'!$Y$4)^('Výpočet NPV'!J6-1),'Náklady - výnosy'!$J$52)","v":0},{"$f":"IF('Náklady - výnosy'!$X$4='Ověření dat'!$B$2,'Náklady - výnosy'!$J$52*(1+'Náklady - výnosy'!$Y$4)^('Výpočet NPV'!K6-1),'Náklady - výnosy'!$J$52)","v":0},{"$f":"IF('Náklady - výnosy'!$X$4='Ověření dat'!$B$2,'Náklady - výnosy'!$J$52*(1+'Náklady - výnosy'!$Y$4)^('Výpočet NPV'!L6-1),'Náklady - výnosy'!$J$52)","v":0},{"$f":"IF('Náklady - výnosy'!$X$4='Ověření dat'!$B$2,'Náklady - výnosy'!$J$52*(1+'Náklady - výnosy'!$Y$4)^('Výpočet NPV'!M6-1),'Náklady - výnosy'!$J$52)","v":0},{"$f":"IF('Náklady - výnosy'!$X$4='Ověření dat'!$B$2,'Náklady - výnosy'!$J$52*(1+'Náklady - výnosy'!$Y$4)^('Výpočet NPV'!N6-1),'Náklady - výnosy'!$J$52)","v":0},{"$f":"IF('Náklady - výnosy'!$X$4='Ověření dat'!$B$2,'Náklady - výnosy'!$J$52*(1+'Náklady - výnosy'!$Y$4)^('Výpočet NPV'!O6-1),'Náklady - výnosy'!$J$52)","v":0},{"$f":"IF('Náklady - výnosy'!$X$4='Ověření dat'!$B$2,'Náklady - výnosy'!$J$52*(1+'Náklady - výnosy'!$Y$4)^('Výpočet NPV'!P6-1),'Náklady - výnosy'!$J$52)","v":0},{"$f":"IF('Náklady - výnosy'!$X$4='Ověření dat'!$B$2,'Náklady - výnosy'!$J$52*(1+'Náklady - výnosy'!$Y$4)^('Výpočet NPV'!Q6-1),'Náklady - výnosy'!$J$52)","v":0},{"$f":"IF('Náklady - výnosy'!$X$4='Ověření dat'!$B$2,'Náklady - výnosy'!$J$52*(1+'Náklady - výnosy'!$Y$4)^('Výpočet NPV'!R6-1),'Náklady - výnosy'!$J$52)","v":0},{"$f":"IF('Náklady - výnosy'!$X$4='Ověření dat'!$B$2,'Náklady - výnosy'!$J$52*(1+'Náklady - výnosy'!$Y$4)^('Výpočet NPV'!S6-1),'Náklady - výnosy'!$J$52)","v":0},{"$f":"IF('Náklady - výnosy'!$X$4='Ověření dat'!$B$2,'Náklady - výnosy'!$J$52*(1+'Náklady - výnosy'!$Y$4)^('Výpočet NPV'!T6-1),'Náklady - výnosy'!$J$52)","v":0},{"$f":"IF('Náklady - výnosy'!$X$4='Ověření dat'!$B$2,'Náklady - výnosy'!$J$52*(1+'Náklady - výnosy'!$Y$4)^('Výpočet NPV'!U6-1),'Náklady - výnosy'!$J$52)","v":0},{"$f":"IF('Náklady - výnosy'!$X$4='Ověření dat'!$B$2,'Náklady - výnosy'!$J$52*(1+'Náklady - výnosy'!$Y$4)^('Výpočet NPV'!V6-1),'Náklady - výnosy'!$J$52)","v":0},{"$f":"IF('Náklady - výnosy'!$X$4='Ověření dat'!$B$2,'Náklady - výnosy'!$J$52*(1+'Náklady - výnosy'!$Y$4)^('Výpočet NPV'!W6-1),'Náklady - výnosy'!$J$52)","v":0},{"$f":"IF('Náklady - výnosy'!$X$4='Ověření dat'!$B$2,'Náklady - výnosy'!$J$52*(1+'Náklady - výnosy'!$Y$4)^('Výpočet NPV'!X6-1),'Náklady - výnosy'!$J$52)","v":0},{"$f":"IF('Náklady - výnosy'!$X$4='Ověření dat'!$B$2,'Náklady - výnosy'!$J$52*(1+'Náklady - výnosy'!$Y$4)^('Výpočet NPV'!Y6-1),'Náklady - výnosy'!$J$52)","v":0},{"$f":"IF('Náklady - výnosy'!$X$4='Ověření dat'!$B$2,'Náklady - výnosy'!$J$52*(1+'Náklady - výnosy'!$Y$4)^('Výpočet NPV'!Z6-1),'Náklady - výnosy'!$J$52)","v":0},{"$f":"IF('Náklady - výnosy'!$X$4='Ověření dat'!$B$2,'Náklady - výnosy'!$J$52*(1+'Náklady - výnosy'!$Y$4)^('Výpočet NPV'!AA6-1),'Náklady - výnosy'!$J$52)","v":0},{"$f":"IF('Náklady - výnosy'!$X$4='Ověření dat'!$B$2,'Náklady - výnosy'!$J$52*(1+'Náklady - výnosy'!$Y$4)^('Výpočet NPV'!AB6-1),'Náklady - výnosy'!$J$52)","v":0},{"$f":"IF('Náklady - výnosy'!$X$4='Ověření dat'!$B$2,'Náklady - výnosy'!$J$52*(1+'Náklady - výnosy'!$Y$4)^('Výpočet NPV'!AC6-1),'Náklady - výnosy'!$J$52)","v":0}]
[null,null,"Údržba + opravy",0,{"$f":"'Náklady - výnosy'!J53","v":60000},{"$f":"IF('Náklady - výnosy'!$X$5='Ověření dat'!$B$2,'Náklady - výnosy'!$J$53*(1+'Náklady - výnosy'!$Y$5)^('Výpočet NPV'!F$6-1),'Náklady - výnosy'!$J$53)","v":60000},{"$f":"IF('Náklady - výnosy'!$X$5='Ověření dat'!$B$2,'Náklady - výnosy'!$J$53*(1+'Náklady - výnosy'!$Y$5)^('Výpočet NPV'!G$6-1),'Náklady - výnosy'!$J$53)","v":60000},{"$f":"IF('Náklady - výnosy'!$X$5='Ověření dat'!$B$2,'Náklady - výnosy'!$J$53*(1+'Náklady - výnosy'!$Y$5)^('Výpočet NPV'!H$6-1),'Náklady - výnosy'!$J$53)","v":60000},{"$f":"IF('Náklady - výnosy'!$X$5='Ověření dat'!$B$2,'Náklady - výnosy'!$J$53*(1+'Náklady - výnosy'!$Y$5)^('Výpočet NPV'!I$6-1),'Náklady - výnosy'!$J$53)","v":60000},{"$f":"IF('Náklady - výnosy'!$X$5='Ověření dat'!$B$2,'Náklady - výnosy'!$J$53*(1+'Náklady - výnosy'!$Y$5)^('Výpočet NPV'!J$6-1),'Náklady - výnosy'!$J$53)","v":60000},{"$f":"IF('Náklady - výnosy'!$X$5='Ověření dat'!$B$2,'Náklady - výnosy'!$J$53*(1+'Náklady - výnosy'!$Y$5)^('Výpočet NPV'!K$6-1),'Náklady - výnosy'!$J$53)","v":60000},{"$f":"IF('Náklady - výnosy'!$X$5='Ověření dat'!$B$2,'Náklady - výnosy'!$J$53*(1+'Náklady - výnosy'!$Y$5)^('Výpočet NPV'!L$6-1),'Náklady - výnosy'!$J$53)","v":60000},{"$f":"IF('Náklady - výnosy'!$X$5='Ověření dat'!$B$2,'Náklady - výnosy'!$J$53*(1+'Náklady - výnosy'!$Y$5)^('Výpočet NPV'!M$6-1),'Náklady - výnosy'!$J$53)","v":60000},{"$f":"IF('Náklady - výnosy'!$X$5='Ověření dat'!$B$2,'Náklady - výnosy'!$J$53*(1+'Náklady - výnosy'!$Y$5)^('Výpočet NPV'!N$6-1),'Náklady - výnosy'!$J$53)","v":60000},{"$f":"IF('Náklady - výnosy'!$X$5='Ověření dat'!$B$2,'Náklady - výnosy'!$J$53*(1+'Náklady - výnosy'!$Y$5)^('Výpočet NPV'!O$6-1),'Náklady - výnosy'!$J$53)","v":60000},{"$f":"IF('Náklady - výnosy'!$X$5='Ověření dat'!$B$2,'Náklady - výnosy'!$J$53*(1+'Náklady - výnosy'!$Y$5)^('Výpočet NPV'!P$6-1),'Náklady - výnosy'!$J$53)","v":60000},{"$f":"IF('Náklady - výnosy'!$X$5='Ověření dat'!$B$2,'Náklady - výnosy'!$J$53*(1+'Náklady - výnosy'!$Y$5)^('Výpočet NPV'!Q$6-1),'Náklady - výnosy'!$J$53)","v":60000},{"$f":"IF('Náklady - výnosy'!$X$5='Ověření dat'!$B$2,'Náklady - výnosy'!$J$53*(1+'Náklady - výnosy'!$Y$5)^('Výpočet NPV'!R$6-1),'Náklady - výnosy'!$J$53)","v":60000},{"$f":"IF('Náklady - výnosy'!$X$5='Ověření dat'!$B$2,'Náklady - výnosy'!$J$53*(1+'Náklady - výnosy'!$Y$5)^('Výpočet NPV'!S$6-1),'Náklady - výnosy'!$J$53)","v":60000},{"$f":"IF('Náklady - výnosy'!$X$5='Ověření dat'!$B$2,'Náklady - výnosy'!$J$53*(1+'Náklady - výnosy'!$Y$5)^('Výpočet NPV'!T$6-1),'Náklady - výnosy'!$J$53)","v":60000},{"$f":"IF('Náklady - výnosy'!$X$5='Ověření dat'!$B$2,'Náklady - výnosy'!$J$53*(1+'Náklady - výnosy'!$Y$5)^('Výpočet NPV'!U$6-1),'Náklady - výnosy'!$J$53)","v":60000},{"$f":"IF('Náklady - výnosy'!$X$5='Ověření dat'!$B$2,'Náklady - výnosy'!$J$53*(1+'Náklady - výnosy'!$Y$5)^('Výpočet NPV'!V$6-1),'Náklady - výnosy'!$J$53)","v":60000},{"$f":"IF('Náklady - výnosy'!$X$5='Ověření dat'!$B$2,'Náklady - výnosy'!$J$53*(1+'Náklady - výnosy'!$Y$5)^('Výpočet NPV'!W$6-1),'Náklady - výnosy'!$J$53)","v":60000},{"$f":"IF('Náklady - výnosy'!$X$5='Ověření dat'!$B$2,'Náklady - výnosy'!$J$53*(1+'Náklady - výnosy'!$Y$5)^('Výpočet NPV'!X$6-1),'Náklady - výnosy'!$J$53)","v":60000},{"$f":"IF('Náklady - výnosy'!$X$5='Ověření dat'!$B$2,'Náklady - výnosy'!$J$53*(1+'Náklady - výnosy'!$Y$5)^('Výpočet NPV'!Y$6-1),'Náklady - výnosy'!$J$53)","v":60000},{"$f":"IF('Náklady - výnosy'!$X$5='Ověření dat'!$B$2,'Náklady - výnosy'!$J$53*(1+'Náklady - výnosy'!$Y$5)^('Výpočet NPV'!Z$6-1),'Náklady - výnosy'!$J$53)","v":60000},{"$f":"IF('Náklady - výnosy'!$X$5='Ověření dat'!$B$2,'Náklady - výnosy'!$J$53*(1+'Náklady - výnosy'!$Y$5)^('Výpočet NPV'!AA$6-1),'Náklady - výnosy'!$J$53)","v":60000},{"$f":"IF('Náklady - výnosy'!$X$5='Ověření dat'!$B$2,'Náklady - výnosy'!$J$53*(1+'Náklady - výnosy'!$Y$5)^('Výpočet NPV'!AB$6-1),'Náklady - výnosy'!$J$53)","v":60000},{"$f":"IF('Náklady - výnosy'!$X$5='Ověření dat'!$B$2,'Náklady - výnosy'!$J$53*(1+'Náklady - výnosy'!$Y$5)^('Výpočet NPV'!AC$6-1),'Náklady - výnosy'!$J$53)","v":60000}]
[null,null,"Náhradní díly",0,{"$f":"'Náklady - výnosy'!J54","v":0},{"$f":"IF('Náklady - výnosy'!$X$6='Ověření dat'!$B$2,('Náklady - výnosy'!$J$54+'Provozní - náhradní díly'!E$28)*(1+'Náklady - výnosy'!$Y$6)^('Výpočet NPV'!F$6-1),'Náklady - výnosy'!$J$54+'Provozní - náhradní díly'!E$28)","v":0},{"$f":"IF('Náklady - výnosy'!$X$6='Ověření dat'!$B$2,('Náklady - výnosy'!$J$54+'Provozní - náhradní díly'!F$28)*(1+'Náklady - výnosy'!$Y$6)^('Výpočet NPV'!G$6-1),'Náklady - výnosy'!$J$54+'Provozní - náhradní díly'!F$28)","v":0},{"$f":"IF('Náklady - výnosy'!$X$6='Ověření dat'!$B$2,('Náklady - výnosy'!$J$54+'Provozní - náhradní díly'!G$28)*(1+'Náklady - výnosy'!$Y$6)^('Výpočet NPV'!H$6-1),'Náklady - výnosy'!$J$54+'Provozní - náhradní díly'!G$28)","v":0},{"$f":"IF('Náklady - výnosy'!$X$6='Ověření dat'!$B$2,('Náklady - výnosy'!$J$54+'Provozní - náhradní díly'!H$28)*(1+'Náklady - výnosy'!$Y$6)^('Výpočet NPV'!I$6-1),'Náklady - výnosy'!$J$54+'Provozní - náhradní díly'!H$28)","v":0},{"$f":"IF('Náklady - výnosy'!$X$6='Ověření dat'!$B$2,('Náklady - výnosy'!$J$54+'Provozní - náhradní díly'!I$28)*(1+'Náklady - výnosy'!$Y$6)^('Výpočet NPV'!J$6-1),'Náklady - výnosy'!$J$54+'Provozní - náhradní díly'!I$28)","v":0},{"$f":"IF('Náklady - výnosy'!$X$6='Ověření dat'!$B$2,('Náklady - výnosy'!$J$54+'Provozní - náhradní díly'!J$28)*(1+'Náklady - výnosy'!$Y$6)^('Výpočet NPV'!K$6-1),'Náklady - výnosy'!$J$54+'Provozní - náhradní díly'!J$28)","v":0},{"$f":"IF('Náklady - výnosy'!$X$6='Ověření dat'!$B$2,('Náklady - výnosy'!$J$54+'Provozní - náhradní díly'!K$28)*(1+'Náklady - výnosy'!$Y$6)^('Výpočet NPV'!L$6-1),'Náklady - výnosy'!$J$54+'Provozní - náhradní díly'!K$28)","v":0},{"$f":"IF('Náklady - výnosy'!$X$6='Ověření dat'!$B$2,('Náklady - výnosy'!$J$54+'Provozní - náhradní díly'!L$28)*(1+'Náklady - výnosy'!$Y$6)^('Výpočet NPV'!M$6-1),'Náklady - výnosy'!$J$54+'Provozní - náhradní díly'!L$28)","v":0},{"$f":"IF('Náklady - výnosy'!$X$6='Ověření dat'!$B$2,('Náklady - výnosy'!$J$54+'Provozní - náhradní díly'!M$28)*(1+'Náklady - výnosy'!$Y$6)^('Výpočet NPV'!N$6-1),'Náklady - výnosy'!$J$54+'Provozní - náhradní díly'!M$28)","v":120305.37999527973},{"$f":"IF('Náklady - výnosy'!$X$6='Ověření dat'!$B$2,('Náklady - výnosy'!$J$54+'Provozní - náhradní díly'!N$28)*(1+'Náklady - výnosy'!$Y$6)^('Výpočet NPV'!O$6-1),'Náklady - výnosy'!$J$54+'Provozní - náhradní díly'!N$28)","v":0},{"$f":"IF('Náklady - výnosy'!$X$6='Ověření dat'!$B$2,('Náklady - výnosy'!$J$54+'Provozní - náhradní díly'!O$28)*(1+'Náklady - výnosy'!$Y$6)^('Výpočet NPV'!P$6-1),'Náklady - výnosy'!$J$54+'Provozní - náhradní díly'!O$28)","v":0},{"$f":"IF('Náklady - výnosy'!$X$6='Ověření dat'!$B$2,('Náklady - výnosy'!$J$54+'Provozní - náhradní díly'!P$28)*(1+'Náklady - výnosy'!$Y$6)^('Výpočet NPV'!Q$6-1),'Náklady - výnosy'!$J$54+'Provozní - náhradní díly'!P$28)","v":54087.601446334549},{"$f":"IF('Náklady - výnosy'!$X$6='Ověření dat'!$B$2,('Náklady - výnosy'!$J$54+'Provozní - náhradní díly'!Q$28)*(1+'Náklady - výnosy'!$Y$6)^('Výpočet NPV'!R$6-1),'Náklady - výnosy'!$J$54+'Provozní - náhradní díly'!Q$28)","v":0},{"$f":"IF('Náklady - výnosy'!$X$6='Ověření dat'!$B$2,('Náklady - výnosy'!$J$54+'Provozní - náhradní díly'!R$28)*(1+'Náklady - výnosy'!$Y$6)^('Výpočet NPV'!S$6-1),'Náklady - výnosy'!$J$54+'Provozní - náhradní díly'!R$28)","v":1402358.5401498994},{"$f":"IF('Náklady - výnosy'!$X$6='Ověření dat'!$B$2,('Náklady - výnosy'!$J$54+'Provozní - náhradní díly'!S$28)*(1+'Náklady - výnosy'!$Y$6)^('Výpočet NPV'!T$6-1),'Náklady - výnosy'!$J$54+'Provozní - náhradní díly'!S$28)","v":0},{"$f":"IF('Náklady - výnosy'!$X$6='Ověření dat'!$B$2,('Náklady - výnosy'!$J$54+'Provozní - náhradní díly'!T$28)*(1+'Náklady - výnosy'!$Y$6)^('Výpočet NPV'!U$6-1),'Náklady - výnosy'!$J$54+'Provozní - náhradní díly'!T$28)","v":0},{"$f":"IF('Náklady - výnosy'!$X$6='Ověření dat'!$B$2,('Náklady - výnosy'!$J$54+'Provozní - náhradní díly'!U$28)*(1+'Náklady - výnosy'!$Y$6)^('Výpočet NPV'!V$6-1),'Náklady - výnosy'!$J$54+'Provozní - náhradní díly'!U$28)","v":0},{"$f":"IF('Náklady - výnosy'!$X$6='Ověření dat'!$B$2,('Náklady - výnosy'!$J$54+'Provozní - náhradní díly'!V$28)*(1+'Náklady - výnosy'!$Y$6)^('Výpočet NPV'!W$6-1),'Náklady - výnosy'!$J$54+'Provozní - náhradní díly'!V$28)","v":0},{"$f":"IF('Náklady - výnosy'!$X$6='Ověření dat'!$B$2,('Náklady - výnosy'!$J$54+'Provozní - náhradní díly'!W$28)*(1+'Náklady - výnosy'!$Y$6)^('Výpočet NPV'!X$6-1),'Náklady - výnosy'!$J$54+'Provozní - náhradní díly'!W$28)","v":241621.79008870633},{"$f":"IF('Náklady - výnosy'!$X$6='Ověření dat'!$B$2,('Náklady - výnosy'!$J$54+'Provozní - náhradní díly'!X$28)*(1+'Náklady - výnosy'!$Y$6)^('Výpočet NPV'!Y$6-1),'Náklady - výnosy'!$J$54+'Provozní - náhradní díly'!X$28)","v":0},{"$f":"IF('Náklady - výnosy'!$X$6='Ověření dat'!$B$2,('Náklady - výnosy'!$J$54+'Provozní - náhradní díly'!Y$28)*(1+'Náklady - výnosy'!$Y$6)^('Výpočet NPV'!Z$6-1),'Náklady - výnosy'!$J$54+'Provozní - náhradní díly'!Y$28)","v":0},{"$f":"IF('Náklady - výnosy'!$X$6='Ověření dat'!$B$2,('Náklady - výnosy'!$J$54+'Provozní - náhradní díly'!Z$28)*(1+'Náklady - výnosy'!$Y$6)^('Výpočet NPV'!AA$6-1),'Náklady - výnosy'!$J$54+'Provozní - náhradní díly'!Z$28)","v":0},{"$f":"IF('Náklady - výnosy'!$X$6='Ověření dat'!$B$2,('Náklady - výnosy'!$J$54+'Provozní - náhradní díly'!AA$28)*(1+'Náklady - výnosy'!$Y$6)^('Výpočet NPV'!AB$6-1),'Náklady - výnosy'!$J$54+'Provozní - náhradní díly'!AA$28)","v":0},{"$f":"IF('Náklady - výnosy'!$X$6='Ověření dat'!$B$2,('Náklady - výnosy'!$J$54+'Provozní - náhradní díly'!AB$28)*(1+'Náklady - výnosy'!$Y$6)^('Výpočet NPV'!AC$6-1),'Náklady - výnosy'!$J$54+'Provozní - náhradní díly'!AB$28)","v":0}]
[null,null,"Jiné",0,{"$f":"'Náklady - výnosy'!J55","v":106000},{"$f":"IF('Náklady - výnosy'!$X$7='Ověření dat'!$B$2,'Náklady - výnosy'!$J$55*(1+'Náklady - výnosy'!$Y$7)^('Výpočet NPV'!F$6-1),'Náklady - výnosy'!$J$55)","v":106000},{"$f":"IF('Náklady - výnosy'!$X$7='Ověření dat'!$B$2,'Náklady - výnosy'!$J$55*(1+'Náklady - výnosy'!$Y$7)^('Výpočet NPV'!G$6-1),'Náklady - výnosy'!$J$55)","v":106000},{"$f":"IF('Náklady - výnosy'!$X$7='Ověření dat'!$B$2,'Náklady - výnosy'!$J$55*(1+'Náklady - výnosy'!$Y$7)^('Výpočet NPV'!H$6-1),'Náklady - výnosy'!$J$55)","v":106000},{"$f":"IF('Náklady - výnosy'!$X$7='Ověření dat'!$B$2,'Náklady - výnosy'!$J$55*(1+'Náklady - výnosy'!$Y$7)^('Výpočet NPV'!I$6-1),'Náklady - výnosy'!$J$55)","v":106000},{"$f":"IF('Náklady - výnosy'!$X$7='Ověření dat'!$B$2,'Náklady - výnosy'!$J$55*(1+'Náklady - výnosy'!$Y$7)^('Výpočet NPV'!J$6-1),'Náklady - výnosy'!$J$55)","v":106000},{"$f":"IF('Náklady - výnosy'!$X$7='Ověření dat'!$B$2,'Náklady - výnosy'!$J$55*(1+'Náklady - výnosy'!$Y$7)^('Výpočet NPV'!K$6-1),'Náklady - výnosy'!$J$55)","v":106000},{"$f":"IF('Náklady - výnosy'!$X$7='Ověření dat'!$B$2,'Náklady - výnosy'!$J$55*(1+'Náklady - výnosy'!$Y$7)^('Výpočet NPV'!L$6-1),'Náklady - výnosy'!$J$55)","v":106000},{"$f":"IF('Náklady - výnosy'!$X$7='Ověření dat'!$B$2,'Náklady - výnosy'!$J$55*(1+'Náklady - výnosy'!$Y$7)^('Výpočet NPV'!M$6-1),'Náklady - výnosy'!$J$55)","v":106000},{"$f":"IF('Náklady - výnosy'!$X$7='Ověření dat'!$B$2,'Náklady - výnosy'!$J$55*(1+'Náklady - výnosy'!$Y$7)^('Výpočet NPV'!N$6-1),'Náklady - výnosy'!$J$55)","v":106000},{"$f":"IF('Náklady - výnosy'!$X$7='Ověření dat'!$B$2,'Náklady - výnosy'!$J$55*(1+'Náklady - výnosy'!$Y$7)^('Výpočet NPV'!O$6-1),'Náklady - výnosy'!$J$55)","v":106000},{"$f":"IF('Náklady - výnosy'!$X$7='Ověření dat'!$B$2,'Náklady - výnosy'!$J$55*(1+'Náklady - výnosy'!$Y$7)^('Výpočet NPV'!P$6-1),'Náklady - výnosy'!$J$55)","v":106000},{"$f":"IF('Náklady - výnosy'!$X$7='Ověření dat'!$B$2,'Náklady - výnosy'!$J$55*(1+'Náklady - výnosy'!$Y$7)^('Výpočet NPV'!Q$6-1),'Náklady - výnosy'!$J$55)","v":106000},{"$f":"IF('Náklady - výnosy'!$X$7='Ověření dat'!$B$2,'Náklady - výnosy'!$J$55*(1+'Náklady - výnosy'!$Y$7)^('Výpočet NPV'!R$6-1),'Náklady - výnosy'!$J$55)","v":106000},{"$f":"IF('Náklady - výnosy'!$X$7='Ověření dat'!$B$2,'Náklady - výnosy'!$J$55*(1+'Náklady - výnosy'!$Y$7)^('Výpočet NPV'!S$6-1),'Náklady - výnosy'!$J$55)","v":106000},{"$f":"IF('Náklady - výnosy'!$X$7='Ověření dat'!$B$2,'Náklady - výnosy'!$J$55*(1+'Náklady - výnosy'!$Y$7)^('Výpočet NPV'!T$6-1),'Náklady - výnosy'!$J$55)","v":106000},{"$f":"IF('Náklady - výnosy'!$X$7='Ověření dat'!$B$2,'Náklady - výnosy'!$J$55*(1+'Náklady - výnosy'!$Y$7)^('Výpočet NPV'!U$6-1),'Náklady - výnosy'!$J$55)","v":106000},{"$f":"IF('Náklady - výnosy'!$X$7='Ověření dat'!$B$2,'Náklady - výnosy'!$J$55*(1+'Náklady - výnosy'!$Y$7)^('Výpočet NPV'!V$6-1),'Náklady - výnosy'!$J$55)","v":106000},{"$f":"IF('Náklady - výnosy'!$X$7='Ověření dat'!$B$2,'Náklady - výnosy'!$J$55*(1+'Náklady - výnosy'!$Y$7)^('Výpočet NPV'!W$6-1),'Náklady - výnosy'!$J$55)","v":106000},{"$f":"IF('Náklady - výnosy'!$X$7='Ověření dat'!$B$2,'Náklady - výnosy'!$J$55*(1+'Náklady - výnosy'!$Y$7)^('Výpočet NPV'!X$6-1),'Náklady - výnosy'!$J$55)","v":106000},{"$f":"IF('Náklady - výnosy'!$X$7='Ověření dat'!$B$2,'Náklady - výnosy'!$J$55*(1+'Náklady - výnosy'!$Y$7)^('Výpočet NPV'!Y$6-1),'Náklady - výnosy'!$J$55)","v":106000},{"$f":"IF('Náklady - výnosy'!$X$7='Ověření dat'!$B$2,'Náklady - výnosy'!$J$55*(1+'Náklady - výnosy'!$Y$7)^('Výpočet NPV'!Z$6-1),'Náklady - výnosy'!$J$55)","v":106000},{"$f":"IF('Náklady - výnosy'!$X$7='Ověření dat'!$B$2,'Náklady - výnosy'!$J$55*(1+'Náklady - výnosy'!$Y$7)^('Výpočet NPV'!AA$6-1),'Náklady - výnosy'!$J$55)","v":106000},{"$f":"IF('Náklady - výnosy'!$X$7='Ověření dat'!$B$2,'Náklady - výnosy'!$J$55*(1+'Náklady - výnosy'!$Y$7)^('Výpočet NPV'!AB$6-1),'Náklady - výnosy'!$J$55)","v":106000},{"$f":"IF('Náklady - výnosy'!$X$7='Ověření dat'!$B$2,'Náklady - výnosy'!$J$55*(1+'Náklady - výnosy'!$Y$7)^('Výpočet NPV'!AC$6-1),'Náklady - výnosy'!$J$55)","v":106000}]
[null,null,"Celkem výdaje",{"$f":"SUM(D7:D11)","v":45653000},{"$f":"SUM(E7:E11)","v":166000},166000,166000,166000,166000,166000,166000,166000,166000,286305.37999527971,166000,166000,220087.60144633456,166000,1568358.5401498994,166000,166000,166000,166000,407621.7900887063,166000,166000,166000,166000,166000]
[]
[null,"Výnosy","Dodané elektřiny",0,{"$f":"IF('Náklady - výnosy'!$S$4>0,'Náklady - výnosy'!$S$4,'Náklady - výnosy'!S10)","v":1070.5999999999999},{"$f":"E14*(1-'Náklady - výnosy'!$S$13)","v":1065.2469999999998},{"$f":"F14*(1-'Náklady - výnosy'!$S$13)","v":1059.9207649999998},{"$f":"G14*(1-'Náklady - výnosy'!$S$13)","v":1054.6211611749998},{"$f":"H14*(1-'Náklady - výnosy'!$S$13)","v":1049.3480553691247},{"$f":"I14*(1-'Náklady - výnosy'!$S$13)","v":1044.101315092279},{"$f":"J14*(1-'Náklady - výnosy'!$S$13)","v":1038.8808085168175},{"$f":"K14*(1-'Náklady - výnosy'!$S$13)","v":1033.6864044742335},{"$f":"L14*(1-'Náklady - výnosy'!$S$13)","v":1028.5179724518623},{"$f":"M14*(1-'Náklady - výnosy'!$S$13)","v":1023.375382589603},{"$f":"N14*(1-'Náklady - výnosy'!$S$13)","v":1018.258505676655},{"$f":"O14*(1-'Náklady - výnosy'!$S$13)","v":1013.1672131482717},{"$f":"P14*(1-'Náklady - výnosy'!$S$13)","v":1008.1013770825303},{"$f":"Q14*(1-'Náklady - výnosy'!$S$13)","v":1003.0608701971177},{"$f":"R14*(1-'Náklady - výnosy'!$S$13)","v":998.04556584613204},{"$f":"S14*(1-'Náklady - výnosy'!$S$13)","v":993.05533801690137},{"$f":"T14*(1-'Náklady - výnosy'!$S$13)","v":988.09006132681691},{"$f":"U14*(1-'Náklady - výnosy'!$S$13)","v":983.14961102018287},{"$f":"V14*(1-'Náklady - výnosy'!$S$13)","v":978.23386296508193},{"$f":"W14*(1-'Náklady - výnosy'!$S$13)","v":973.34269365025648},{"$f":"X14*(1-'Náklady - výnosy'!$S$13)","v":968.47598018200517},{"$f":"Y14*(1-'Náklady - výnosy'!$S$13)","v":963.63360028109514},{"$f":"Z14*(1-'Náklady - výnosy'!$S$13)","v":958.81543227968962},{"$f":"AA14*(1-'Náklady - výnosy'!$S$13)","v":954.02135511829113},{"$f":"AB14*(1-'Náklady - výnosy'!$S$13)","v":949.25124834269968}]
[null,null,"Cena za MWh",0,{"$f":"'Náklady - výnosy'!T17","v":945},{"$f":"IF('Náklady - výnosy'!$X$8='Ověření dat'!$B$2,'Náklady - výnosy'!$T$17*(1+'Náklady - výnosy'!$Y$8)^('Výpočet NPV'!F6-1),'Náklady - výnosy'!$T$17)","v":973.35},{"$f":"IF('Náklady - výnosy'!$X$8='Ověření dat'!$B$2,'Náklady - výnosy'!$T$17*(1+'Náklady - výnosy'!$Y$8)^('Výpočet NPV'!G6-1),'Náklady - výnosy'!$T$17)","v":1002.5504999999999},{"$f":"IF('Náklady - výnosy'!$X$8='Ověření dat'!$B$2,'Náklady - výnosy'!$T$17*(1+'Náklady - výnosy'!$Y$8)^('Výpočet NPV'!H6-1),'Náklady - výnosy'!$T$17)","v":1032.627015},{"$f":"IF('Náklady - výnosy'!$X$8='Ověření dat'!$B$2,'Náklady - výnosy'!$T$17*(1+'Náklady - výnosy'!$Y$8)^('Výpočet NPV'!I6-1),'Náklady - výnosy'!$T$17)","v":1063.6058254499999},{"$f":"IF('Náklady - výnosy'!$X$8='Ověření dat'!$B$2,'Náklady - výnosy'!$T$17*(1+'Náklady - výnosy'!$Y$8)^('Výpočet NPV'!J6-1),'Náklady - výnosy'!$T$17)","v":1095.5140002134999},{"$f":"IF('Náklady - výnosy'!$X$8='Ověření dat'!$B$2,'Náklady - výnosy'!$T$17*(1+'Náklady - výnosy'!$Y$8)^('Výpočet NPV'!K6-1),'Náklady - výnosy'!$T$17)","v":1128.3794202199049},{"$f":"IF('Náklady - výnosy'!$X$8='Ověření dat'!$B$2,'Náklady - výnosy'!$T$17*(1+'Náklady - výnosy'!$Y$8)^('Výpočet NPV'!L6-1),'Náklady - výnosy'!$T$17)","v":1162.2308028265022},{"$f":"IF('Náklady - výnosy'!$X$8='Ověření dat'!$B$2,'Náklady - výnosy'!$T$17*(1+'Náklady - výnosy'!$Y$8)^('Výpočet NPV'!M6-1),'Náklady - výnosy'!$T$17)","v":1197.0977269112971},{"$f":"IF('Náklady - výnosy'!$X$8='Ověření dat'!$B$2,'Náklady - výnosy'!$T$17*(1+'Náklady - výnosy'!$Y$8)^('Výpočet NPV'!N6-1),'Náklady - výnosy'!$T$17)","v":1233.010658718636},{"$f":"IF('Náklady - výnosy'!$X$8='Ověření dat'!$B$2,'Náklady - výnosy'!$T$17*(1+'Náklady - výnosy'!$Y$8)^('Výpočet NPV'!O6-1),'Náklady - výnosy'!$T$17)","v":1270.000978480195},{"$f":"IF('Náklady - výnosy'!$X$8='Ověření dat'!$B$2,'Náklady - výnosy'!$T$17*(1+'Náklady - výnosy'!$Y$8)^('Výpočet NPV'!P6-1),'Náklady - výnosy'!$T$17)","v":1308.101007834601},{"$f":"IF('Náklady - výnosy'!$X$8='Ověření dat'!$B$2,'Náklady - výnosy'!$T$17*(1+'Náklady - výnosy'!$Y$8)^('Výpočet NPV'!Q6-1),'Náklady - výnosy'!$T$17)","v":1347.3440380696388},{"$f":"IF('Náklady - výnosy'!$X$8='Ověření dat'!$B$2,'Náklady - výnosy'!$T$17*(1+'Náklady - výnosy'!$Y$8)^('Výpočet NPV'!R6-1),'Náklady - výnosy'!$T$17)","v":1387.7643592117279},{"$f":"IF('Náklady - výnosy'!$X$8='Ověření dat'!$B$2,'Náklady - výnosy'!$T$17*(1+'Náklady - výnosy'!$Y$8)^('Výpočet NPV'!S6-1),'Náklady - výnosy'!$T$17)","v":1429.3972899880798},{"$f":"IF('Náklady - výnosy'!$X$8='Ověření dat'!$B$2,'Náklady - výnosy'!$T$17*(1+'Náklady - výnosy'!$Y$8)^('Výpočet NPV'!T6-1),'Náklady - výnosy'!$T$17)","v":1472.2792086877223},{"$f":"IF('Náklady - výnosy'!$X$8='Ověření dat'!$B$2,'Náklady - výnosy'!$T$17*(1+'Náklady - výnosy'!$Y$8)^('Výpočet NPV'!U6-1),'Náklady - výnosy'!$T$17)","v":1516.4475849483538},{"$f":"IF('Náklady - výnosy'!$X$8='Ověření dat'!$B$2,'Náklady - výnosy'!$T$17*(1+'Náklady - výnosy'!$Y$8)^('Výpočet NPV'!V6-1),'Náklady - výnosy'!$T$17)","v":1561.9410124968044},{"$f":"IF('Náklady - výnosy'!$X$8='Ověření dat'!$B$2,'Náklady - výnosy'!$T$17*(1+'Náklady - výnosy'!$Y$8)^('Výpočet NPV'!W6-1),'Náklady - výnosy'!$T$17)","v":1608.7992428717087},{"$f":"IF('Náklady - výnosy'!$X$8='Ověření dat'!$B$2,'Náklady - výnosy'!$T$17*(1+'Náklady - výnosy'!$Y$8)^('Výpočet NPV'!X6-1),'Náklady - výnosy'!$T$17)","v":1657.0632201578599},{"$f":"IF('Náklady - výnosy'!$X$8='Ověření dat'!$B$2,'Náklady - výnosy'!$T$17*(1+'Náklady - výnosy'!$Y$8)^('Výpočet NPV'!Y6-1),'Náklady - výnosy'!$T$17)","v":1706.7751167625954},{"$f":"IF('Náklady - výnosy'!$X$8='Ověření dat'!$B$2,'Náklady - výnosy'!$T$17*(1+'Náklady - výnosy'!$Y$8)^('Výpočet NPV'!Z6-1),'Náklady - výnosy'!$T$17)","v":1757.9783702654731},{"$f":"IF('Náklady - výnosy'!$X$8='Ověření dat'!$B$2,'Náklady - výnosy'!$T$17*(1+'Náklady - výnosy'!$Y$8)^('Výpočet NPV'!AA6-1),'Náklady - výnosy'!$T$17)","v":1810.7177213734376},{"$f":"IF('Náklady - výnosy'!$X$8='Ověření dat'!$B$2,'Náklady - výnosy'!$T$17*(1+'Náklady - výnosy'!$Y$8)^('Výpočet NPV'!AB6-1),'Náklady - výnosy'!$T$17)","v":1865.0392530146407},{"$f":"IF('Náklady - výnosy'!$X$8='Ověření dat'!$B$2,'Náklady - výnosy'!$T$17*(1+'Náklady - výnosy'!$Y$8)^('Výpočet NPV'!AC6-1),'Náklady - výnosy'!$T$17)","v":1920.9904306050796}]
[null,null,"Celkem za elektřinu",null,{"$f":"E15*E14","v":1011716.9999999999},1036858.1674499998,1062624.0929111324,1089030.301619974,1116092.70461523,1143827.6083249184,1172251.7243917927,1201382.1797429288,1231236.5269095404,1261832.7546032425,1293189.2985551332,1325325.0526242282,1358259.38018194,1392012.1257794611,1426603.6271050808,1462054.7272386421,1498386.7872105222,1535621.6988727038,1573781.8980896906,1612890.3782572192,1652970.704156911,1694047.0261552101,1736144.0947551671,1779287.2755098329,1823502.5643062519]
[]
[null,"Dotace","Dotace",{"$f":"'Náklady - výnosy'!L32","v":0},{"$f":"IF(E6<='Náklady - výnosy'!$M$35,'Náklady - výnosy'!$L$35,0)","v":0},{"$f":"IF(F6<='Náklady - výnosy'!$M$35,'Náklady - výnosy'!$L$35,0)","v":0},{"$f":"IF(G6<='Náklady - výnosy'!$M$35,'Náklady - výnosy'!$L$35,0)","v":0},{"$f":"IF(H6<='Náklady - výnosy'!$M$35,'Náklady - výnosy'!$L$35,0)","v":0},{"$f":"IF(I6<='Náklady - výnosy'!$M$35,'Náklady - výnosy'!$L$35,0)","v":0},{"$f":"IF(J6<='Náklady - výnosy'!$M$35,'Náklady - výnosy'!$L$35,0)","v":0},{"$f":"IF(K6<='Náklady - výnosy'!$M$35,'Náklady - výnosy'!$L$35,0)","v":0},{"$f":"IF(L6<='Náklady - výnosy'!$M$35,'Náklady - výnosy'!$L$35,0)","v":0},{"$f":"IF(M6<='Náklady - výnosy'!$M$35,'Náklady - výnosy'!$L$35,0)","v":0},{"$f":"IF(N6<='Náklady - výnosy'!$M$35,'Náklady - výnosy'!$L$35,0)","v":0},{"$f":"IF(O6<='Náklady - výnosy'!$M$35,'Náklady - výnosy'!$L$35,0)","v":0},{"$f":"IF(P6<='Náklady - výnosy'!$M$35,'Náklady - výnosy'!$L$35,0)","v":0},{"$f":"IF(Q6<='Náklady - výnosy'!$M$35,'Náklady - výnosy'!$L$35,0)","v":0},{"$f":"IF(R6<='Náklady - výnosy'!$M$35,'Náklady - výnosy'!$L$35,0)","v":0},{"$f":"IF(S6<='Náklady - výnosy'!$M$35,'Náklady - výnosy'!$L$35,0)","v":0},{"$f":"IF(T6<='Náklady - výnosy'!$M$35,'Náklady - výnosy'!$L$35,0)","v":0},{"$f":"IF(U6<='Náklady - výnosy'!$M$35,'Náklady - výnosy'!$L$35,0)","v":0},{"$f":"IF(V6<='Náklady - výnosy'!$M$35,'Náklady - výnosy'!$L$35,0)","v":0},{"$f":"IF(W6<='Náklady - výnosy'!$M$35,'Náklady - výnosy'!$L$35,0)","v":0},{"$f":"IF(X6<='Náklady - výnosy'!$M$35,'Náklady - výnosy'!$L$35,0)","v":0},{"$f":"IF(Y6<='Náklady - výnosy'!$M$35,'Náklady - výnosy'!$L$35,0)","v":0},{"$f":"IF(Z6<='Náklady - výnosy'!$M$35,'Náklady - výnosy'!$L$35,0)","v":0},{"$f":"IF(AA6<='Náklady - výnosy'!$M$35,'Náklady - výnosy'!$L$35,0)","v":0},{"$f":"IF(AB6<='Náklady - výnosy'!$M$35,'Náklady - výnosy'!$L$35,0)","v":0},{"$f":"IF(AC6<='Náklady - výnosy'!$M$35,'Náklady - výnosy'!$L$35,0)","v":0}]
[]
[null,"Zdanitelné položky","Odpisy",0,{"$f":"(D7-D18)*'Náklady - výnosy'!N21","v":981539.49999999988},{"$f":"IF(F6<='Náklady - výnosy'!$N$20,('Výpočet NPV'!$D$7-$D$18)*'Náklady - výnosy'!$N$22,0)","v":2351129.5},{"$f":"IF(G6<='Náklady - výnosy'!$N$20,('Výpočet NPV'!$D$7-$D$18)*'Náklady - výnosy'!$N$22,0)","v":2351129.5},{"$f":"IF(H6<='Náklady - výnosy'!$N$20,('Výpočet NPV'!$D$7-$D$18)*'Náklady - výnosy'!$N$22,0)","v":2351129.5},{"$f":"IF(I6<='Náklady - výnosy'!$N$20,('Výpočet NPV'!$D$7-$D$18)*'Náklady - výnosy'!$N$22,0)","v":2351129.5},{"$f":"IF(J6<='Náklady - výnosy'!$N$20,('Výpočet NPV'!$D$7-$D$18)*'Náklady - výnosy'!$N$22,0)","v":2351129.5},{"$f":"IF(K6<='Náklady - výnosy'!$N$20,('Výpočet NPV'!$D$7-$D$18)*'Náklady - výnosy'!$N$22,0)","v":2351129.5},{"$f":"IF(L6<='Náklady - výnosy'!$N$20,('Výpočet NPV'!$D$7-$D$18)*'Náklady - výnosy'!$N$22,0)","v":2351129.5},{"$f":"IF(M6<='Náklady - výnosy'!$N$20,('Výpočet NPV'!$D$7-$D$18)*'Náklady - výnosy'!$N$22,0)","v":2351129.5},{"$f":"IF(N6<='Náklady - výnosy'!$N$20,('Výpočet NPV'!$D$7-$D$18)*'Náklady - výnosy'!$N$22,0)","v":2351129.5},{"$f":"IF(O6<='Náklady - výnosy'!$N$20,('Výpočet NPV'!$D$7-$D$18)*'Náklady - výnosy'!$N$22,0)","v":2351129.5},{"$f":"IF(P6<='Náklady - výnosy'!$N$20,('Výpočet NPV'!$D$7-$D$18)*'Náklady - výnosy'!$N$22,0)","v":2351129.5},{"$f":"IF(Q6<='Náklady - výnosy'!$N$20,('Výpočet NPV'!$D$7-$D$18)*'Náklady - výnosy'!$N$22,0)","v":2351129.5},{"$f":"IF(R6<='Náklady - výnosy'!$N$20,('Výpočet NPV'!$D$7-$D$18)*'Náklady - výnosy'!$N$22,0)","v":2351129.5},{"$f":"IF(S6<='Náklady - výnosy'!$N$20,('Výpočet NPV'!$D$7-$D$18)*'Náklady - výnosy'!$N$22,0)","v":2351129.5},{"$f":"IF(T6<='Náklady - výnosy'!$N$20,('Výpočet NPV'!$D$7-$D$18)*'Náklady - výnosy'!$N$22,0)","v":2351129.5},{"$f":"IF(U6<='Náklady - výnosy'!$N$20,('Výpočet NPV'!$D$7-$D$18)*'Náklady - výnosy'!$N$22,0)","v":2351129.5},{"$f":"IF(V6<='Náklady - výnosy'!$N$20,('Výpočet NPV'!$D$7-$D$18)*'Náklady - výnosy'!$N$22,0)","v":2351129.5},{"$f":"IF(W6<='Náklady - výnosy'!$N$20,('Výpočet NPV'!$D$7-$D$18)*'Náklady - výnosy'!$N$22,0)","v":2351129.5},{"$f":"IF(X6<='Náklady - výnosy'!$N$20,('Výpočet NPV'!$D$7-$D$18)*'Náklady - výnosy'!$N$22,0)","v":2351129.5},{"$f":"IF(Y6<='Náklady - výnosy'!$N$20,('Výpočet NPV'!$D$7-$D$18)*'Náklady - výnosy'!$N$22,0)","v":0},{"$f":"IF(Z6<='Náklady - výnosy'!$N$20,('Výpočet NPV'!$D$7-$D$18)*'Náklady - výnosy'!$N$22,0)","v":0},{"$f":"IF(AA6<='Náklady - výnosy'!$N$20,('Výpočet NPV'!$D$7-$D$18)*'Náklady - výnosy'!$N$22,0)","v":0},{"$f":"IF(AB6<='Náklady - výnosy'!$N$20,('Výpočet NPV'!$D$7-$D$18)*'Náklady - výnosy'!$N$22,0)","v":0},{"$f":"IF(AC6<='Náklady - výnosy'!$N$20,('Výpočet NPV'!$D$7-$D$18)*'Náklady - výnosy'!$N$22,0)","v":0}]
[null,null,"Výdaje",0,{"$f":"E12","v":166000},166000,166000,166000,166000,166000,166000,166000,166000,286305.37999527971,166000,166000,220087.60144633456,166000,1568358.5401498994,166000,166000,166000,166000,407621.7900887063,166000,166000,166000,166000,166000]
[null,null,"Příjmy",0,{"$f":"E16","v":1011716.9999999999},{"$f":"F16","v":1036858.1674499998},1062624.0929111324,1089030.301619974,1116092.70461523,1143827.6083249184,1172251.7243917927,1201382.1797429288,1231236.5269095404,1261832.7546032425,1293189.2985551332,1325325.0526242282,1358259.38018194,1392012.1257794611,1426603.6271050808,1462054.7272386421,1498386.7872105222,1535621.6988727038,1573781.8980896906,1612890.3782572192,1652970.704156911,1694047.0261552101,1736144.0947551671,1779287.2755098329,1823502.5643062519]
[null,null,"Základ daně",{"$f":"D22-D21-D20","v":0},{"$f":"E22-E21-E20","v":-135822.5},{"$f":"F22-F21-F20","v":-1480271.3325500002},-1454505.4070888676,-1428099.198380026,-1401036.79538477,-1373301.8916750816,-1344877.7756082073,-1315747.3202570712,-1285892.9730904596,-1375602.1253920372,-1223940.2014448668,-1191804.4473757718,-1212957.7212643945,-1125117.3742205389,-2492884.4130448187,-1055074.7727613579,-1018742.7127894778,-981507.80112729617,-943347.6019103094,-1145860.911831487,1486970.704156911,1528047.0261552101,1570144.0947551671,1613287.2755098329,1657502.5643062519]
[null,null,"Daň",{"$f":"IF(D23<0,0,D23*'Náklady - výnosy'!$N$7)","v":0},{"$f":"IF(E23<0,0,E23*'Náklady - výnosy'!$N$7)","v":0},{"$f":"IF(F23<0,0,F23*'Náklady - výnosy'!$N$7)","v":0},{"$f":"IF(G23<0,0,G23*'Náklady - výnosy'!$N$7)","v":0},{"$f":"IF(H23<0,0,H23*'Náklady - výnosy'!$N$7)","v":0},{"$f":"IF(I23<0,0,I23*'Náklady - výnosy'!$N$7)","v":0},{"$f":"IF(J23<0,0,J23*'Náklady - výnosy'!$N$7)","v":0},{"$f":"IF(K23<0,0,K23*'Náklady - výnosy'!$N$7)","v":0},{"$f":"IF(L23<0,0,L23*'Náklady - výnosy'!$N$7)","v":0},{"$f":"IF(M23<0,0,M23*'Náklady - výnosy'!$N$7)","v":0},{"$f":"IF(N23<0,0,N23*'Náklady - výnosy'!$N$7)","v":0},{"$f":"IF(O23<0,0,O23*'Náklady - výnosy'!$N$7)","v":0},{"$f":"IF(P23<0,0,P23*'Náklady - výnosy'!$N$7)","v":0},{"$f":"IF(Q23<0,0,Q23*'Náklady - výnosy'!$N$7)","v":0},{"$f":"IF(R23<0,0,R23*'Náklady - výnosy'!$N$7)","v":0},{"$f":"IF(S23<0,0,S23*'Náklady - výnosy'!$N$7)","v":0},{"$f":"IF(T23<0,0,T23*'Náklady - výnosy'!$N$7)","v":0},{"$f":"IF(U23<0,0,U23*'Náklady - výnosy'!$N$7)","v":0},{"$f":"IF(V23<0,0,V23*'Náklady - výnosy'!$N$7)","v":0},{"$f":"IF(W23<0,0,W23*'Náklady - výnosy'!$N$7)","v":0},{"$f":"IF(X23<0,0,X23*'Náklady - výnosy'!$N$7)","v":0},{"$f":"IF(Y23<0,0,Y23*'Náklady - výnosy'!$N$7)","v":282524.43378981308},{"$f":"IF(Z23<0,0,Z23*'Náklady - výnosy'!$N$7)","v":290328.93496948993},{"$f":"IF(AA23<0,0,AA23*'Náklady - výnosy'!$N$7)","v":298327.37800348178},{"$f":"IF(AB23<0,0,AB23*'Náklady - výnosy'!$N$7)","v":306524.58234686824},{"$f":"IF(AC23<0,0,AC23*'Náklady - výnosy'!$N$7)","v":314925.48721818789}]
[]
[null,"Cash Flow","Celkem za obdobi",{"$f":"D16-D12+D18-D24","v":-45653000},{"$f":"E16-E12-E24+E18","v":845716.99999999988},{"$f":"F16-F12-F24+F18","v":870858.16744999983},896624.09291113238,923030.30161997396,950092.70461522997,977827.60832491843,1006251.7243917927,1035382.1797429288,1065236.5269095404,975527.37460796279,1127189.2985551332,1159325.0526242282,1138171.7787356055,1226012.1257794611,-141754.91304481868,1296054.7272386421,1332386.7872105222,1369621.6988727038,1407781.8980896906,1205268.588168513,1204446.270367098,1237718.0911857202,1271816.7167516854,1306762.6931629647,1342577.077088064]
[null,null,"CCF",{"$f":"D26","v":-45653000},{"$f":"SUM($D$26:E26)","v":-44807283},{"$f":"SUM($D$26:F26)","v":-43936424.832549997},{"$f":"SUM($D$26:G26)","v":-43039800.739638865},{"$f":"SUM($D$26:H26)","v":-42116770.438018888},{"$f":"SUM($D$26:I26)","v":-41166677.73340366},{"$f":"SUM($D$26:J26)","v":-40188850.125078745},{"$f":"SUM($D$26:K26)","v":-39182598.400686949},{"$f":"SUM($D$26:L26)","v":-38147216.220944017},{"$f":"SUM($D$26:M26)","v":-37081979.69403448},{"$f":"SUM($D$26:N26)","v":-36106452.319426514},{"$f":"SUM($D$26:O26)","v":-34979263.020871378},{"$f":"SUM($D$26:P26)","v":-33819937.968247153},{"$f":"SUM($D$26:Q26)","v":-32681766.189511549},{"$f":"SUM($D$26:R26)","v":-31455754.063732088},{"$f":"SUM($D$26:S26)","v":-31597508.976776905},{"$f":"SUM($D$26:T26)","v":-30301454.249538265},{"$f":"SUM($D$26:U26)","v":-28969067.462327741},{"$f":"SUM($D$26:V26)","v":-27599445.763455037},{"$f":"SUM($D$26:W26)","v":-26191663.865365345},{"$f":"SUM($D$26:X26)","v":-24986395.277196832},{"$f":"SUM($D$26:Y26)","v":-23781949.006829735},{"$f":"SUM($D$26:Z26)","v":-22544230.915644016},{"$f":"SUM($D$26:AA26)","v":-21272414.198892333},{"$f":"SUM($D$26:AB26)","v":-19965651.50572937},{"$f":"SUM($D$26:AC26)","v":-18623074.428641304}]
[null,null,"DCF",{"$f":"D27","v":-45653000},{"$f":"E26/((1+'Náklady - výnosy'!$N$6)^E6)","v":767716.95715323149},{"$f":"F26/((1+'Náklady - výnosy'!$N$6)^F6)","v":717628.32942306367},{"$f":"G26/((1+'Náklady - výnosy'!$N$6)^G6)","v":670715.93224732636},{"$f":"H26/((1+'Náklady - výnosy'!$N$6)^H6)","v":626787.38843679137},{"$f":"I26/((1+'Náklady - výnosy'!$N$6)^I6)","v":585661.05715393531},{"$f":"J26/((1+'Náklady - výnosy'!$N$6)^J6)","v":547165.53185714176},{"$f":"K26/((1+'Náklady - výnosy'!$N$6)^K6)","v":511139.15053899423},{"$f":"L26/((1+'Náklady - výnosy'!$N$6)^L6)","v":477429.5194943301},{"$f":"M26/((1+'Náklady - výnosy'!$N$6)^M6)","v":445893.05157465907},{"$f":"N26/((1+'Náklady - výnosy'!$N$6)^N6)","v":370680.88250042999},{"$f":"O26/((1+'Náklady - výnosy'!$N$6)^O6)","v":388806.62574033561},{"$f":"P26/((1+'Náklady - výnosy'!$N$6)^P6)","v":363009.58627441281},{"$f":"Q26/((1+'Náklady - výnosy'!$N$6)^Q6)","v":323516.74079990876},{"$f":"R26/((1+'Náklady - výnosy'!$N$6)^R6)","v":316344.13281333615},{"$f":"S26/((1+'Náklady - výnosy'!$N$6)^S6)","v":-33203.144173214016},{"$f":"T26/((1+'Náklady - výnosy'!$N$6)^T6)","v":275575.43680378905},{"$f":"U26/((1+'Náklady - výnosy'!$N$6)^U6)","v":257171.92404346264},{"$f":"V26/((1+'Náklady - výnosy'!$N$6)^V6)","v":239977.17549117649},{"$f":"W26/((1+'Náklady - výnosy'!$N$6)^W6)","v":223913.74765275573},{"$f":"X26/((1+'Náklady - výnosy'!$N$6)^X6)","v":174022.45579609933},{"$f":"Y26/((1+'Náklady - výnosy'!$N$6)^Y6)","v":157864.67466452095},{"$f":"Z26/((1+'Náklady - výnosy'!$N$6)^Z6)","v":147263.5750398782},{"$f":"AA26/((1+'Náklady - výnosy'!$N$6)^AA6)","v":137364.40278570843},{"$f":"AB26/((1+'Náklady - výnosy'!$N$6)^AB6)","v":128121.63532967675},{"$f":"AC26/((1+'Náklady - výnosy'!$N$6)^AC6)","v":119492.60982949333}]
[null,null,"CDCF",{"$f":"D28","v":-45653000},{"$f":"SUM($D$28:E28)","v":-44885283.042846769},{"$f":"SUM($D$28:F28)","v":-44167654.713423707},{"$f":"SUM($D$28:G28)","v":-43496938.781176381},{"$f":"SUM($D$28:H28)","v":-42870151.392739587},{"$f":"SUM($D$28:I28)","v":-42284490.335585654},{"$f":"SUM($D$28:J28)","v":-41737324.803728513},{"$f":"SUM($D$28:K28)","v":-41226185.653189518},{"$f":"SUM($D$28:L28)","v":-40748756.133695185},{"$f":"SUM($D$28:M28)","v":-40302863.082120523},{"$f":"SUM($D$28:N28)","v":-39932182.19962009},{"$f":"SUM($D$28:O28)","v":-39543375.573879756},{"$f":"SUM($D$28:P28)","v":-39180365.987605341},{"$f":"SUM($D$28:Q28)","v":-38856849.246805429},{"$f":"SUM($D$28:R28)","v":-38540505.113992095},{"$f":"SUM($D$28:S28)","v":-38573708.258165307},{"$f":"SUM($D$28:T28)","v":-38298132.821361519},{"$f":"SUM($D$28:U28)","v":-38040960.897318058},{"$f":"SUM($D$28:V28)","v":-37800983.721826881},{"$f":"SUM($D$28:W28)","v":-37577069.974174127},{"$f":"SUM($D$28:X28)","v":-37403047.518378027},{"$f":"SUM($D$28:Y28)","v":-37245182.843713507},{"$f":"SUM($D$28:Z28)","v":-37097919.268673629},{"$f":"SUM($D$28:AA28)","v":-36960554.865887918},{"$f":"SUM($D$28:AB28)","v":-36832433.230558239},{"$f":"SUM($D$28:AC28)","v":-36712940.620728746}]
[]
[null,null,null,{"$f":"IF(D27>0,-1,\"-\")","v":"-"},{"$f":"IF(AND(D27<0,E27>0),E6,\"-\")","v":"-"},"-","-","-","-","-","-","-","-","-","-","-","-","-","-","-","-","-","-","-","-","-","-","-","-",{"$f":"MIN(D31:AC31)","v":0}]
[]
[null,"Kritéria pro hodnocení výnosnosti investičních projektů"]
[]
[null,"NPV",{"$f":"NPV('Náklady - výnosy'!N6,'Výpočet NPV'!E26:AC26)+D26","v":-36712940.620728754}]
[null,"ROI",{"$f":"(AC27-D27)/AC6/-D27","v":2.3682934809417733E-2}]
[null,"IRR",{"$f":"IRR(D26:AC26,'Náklady - výnosy'!N6)","v":-3.4764089779346974E-2}]
[null,"Diskont",{"$f":"(1+C37)/(1+'Náklady - výnosy'!N5)-1","v":-5.3690284097399066E-2}]
[null,"Doba návratnosti",{"$f":"IF(AD31=-1,\"Okamžitá návratnost\",IF(AD31=0,\">25\",AD31))","v":">25"}]

{"sheet":"Mezní podmínky","index":4,"n_rows":35,"n_cols":6,"rows_kept":35,"cut":false,"hidden":false,"merged":[[9,1,9,3],[10,1,10,3],[34,2,37,2],[1,1,2,5],[3,1,3,2],[4,1,4,2],[6,1,6,2],[5,1,5,2]]}
[]
[null,"Výpočet mezniních podmínek aby NPV = 0"]
[]
[null,"Cena elektřiny za 1 MWh",null,171.33859520599651,"€",{"$f":"IF(E4='Náklady - výnosy'!L13,D4*'Náklady - výnosy'!M13,IF(E4='Náklady - výnosy'!L14,D4*'Náklady - výnosy'!M14,D4))","v":4626.1420705619057}]
[null,"Potřebná výroba elektřiny",null,5241.0028579297114,"MWh"]
[null,"Dotace Investiční (Snížení prvotní investice)",null,37690015.924590342,"Kč"]
[null,"Cena panelů",null,-128.16693207650562,"$",{"$f":"IF(E7='Náklady - výnosy'!L13,D7*'Náklady - výnosy'!M13,IF(E7='Náklady - výnosy'!L14,D7*'Náklady - výnosy'!M14,D7))","v":-3204.1733019126405}]
[]
[]
[null,"V případe že makra nefungují:"]
[null,"V menu zvolte Data-> Data Tools-> What-If Analysis-> Goal Seek"]
[]
[]
[]
[]
[]
[]
[]
[]
[]
[]
[]
[]
[]
[null,"Ve vyskakovacím okně potom zadáme následující hodnoty:"]
[]
[null,"Set Cell:","Výpočet NPV'!C35"]
[null,"To Value",0]
[null,"By changing cell:","Náklady - výnosy'!P17","Cena el."]
[null,null,"Náklady - výnosy'!S4","Výroba"]
[null,null,"Náklady - výnosy'!L32","Dotace"]
[null,null,"Náklady - výnosy'!F5","Cena Panelu"]
[]
[]
[null,null,"Musí být zadaná vždy jen jedna buňka.                                        Špatně:  'Výdaje - Příjmy'!P17:R17;                Dobře:'Výdaje - Příjmy'!P17"]

{"sheet":"Citlivostní a. - infl.+dis","index":5,"n_rows":100,"n_cols":25,"rows_kept":100,"cut":false,"hidden":false,"merged":[[54,2,88,2],[52,4,52,24]]}
[]
[]
[]
[]
[]
[]
[]
[]
[]
[]
[]
[]
[]
[]
[]
[]
[]
[]
[]
[]
[]
[]
[]
[]
[]
[]
[]
[]
[]
[]
[]
[]
[]
[]
[]
[]
[]
[]
[]
[]
[]
[]
[]
[]
[]
[]
[]
[]
[]
[]
[]
[]
[null,null,null,null,"Inflace"]
[null,null,null,{"$f":"(NPV((1+D92)*(1+D93)-1,'Výpočet NPV'!$E$26:$AC$26)+'Výpočet NPV'!D26)/1000000","v":-36.712940620728752},0,2.5000000000000001E-3,5.0000000000000001E-3,7.4999999999999997E-3,0.01,1.2500000000000001E-2,1.4999999999999999E-2,1.7500000000000002E-2,0.02,2.2499999999999999E-2,2.5000000000000001E-2,2.75E-2,0.03,3.2500000000000001E-2,3.5000000000000003E-2,3.7499999999999999E-2,0.04,4.2500000000000003E-2,4.4999999999999998E-2,4.7500000000000001E-2,0.05]
[null,null,"Diskont",-7.0000000000000007E-2,38.828341610327065,35.254310454524386,31.859964241823704,28.635370998378189,25.571186682341949,22.658618389365344,19.889389973975881,17.255709921270647,14.750241315156579,12.366073760292329,10.096697125016981,7.9359769819229395,5.8781316314255001,3.9177106017315388,2.0495745260884615,0.26887630511036514,-1.4289565315919817,-3.0482383442945182,-4.5930408568398651,-6.0672076542705593,-7.4743677688024643]
[null,null,null,-6.5000000000000002E-2,31.363923539134799,28.147295735935419,25.091385353187441,22.187342413417323,19.42683945956918,16.802038916991592,14.305562595205158,11.930463182972707,9.6701976006339709,7.5186020833196565,5.4698688776085298,3.5185244424816222,1.6594090531090646,-0.11234228687205165,-1.8013177123256101,-3.4118452244462221,-4.9480083553826208,-6.4136608403226587,-7.8124403628088537,-9.1477814345228516,-10.422927466557272]
[null,null,null,-0.06,24.678719566010564,21.780090679952561,19.025367911240398,16.406657773544989,13.916531587545693,11.547996504809737,9.2944684284881802,7.1497467011406872,5.1079904392365743,3.1636964024140535,1.311678293502152,-0.45295260736297815,-2.1348055643941835,-3.7382273471494614,-5.2673181085906702,-6.7259462525104139,-8.1177623576041018,-9.4462122208025239,-10.714549078148119,-11.925845057483464,-13.083001913488779]
[null,null,null,-5.5E-2,18.683651038899026,16.068267954630294,13.581876165713071,11.217428508271315,8.9682916592931381,6.8282203894172904,4.7913334985580747,2.8520913194544613,1.005274682403259,-0.75403475800986586,-2.4304729263517038,-4.0284105456402299,-5.5519692521613466,-7.0050366798886579,-8.3912805834129305,-9.7141620634918802,-10.976947954877488,-12.182722431947507,-13.334397883831635,-14.43472510716629,-15.486302861305024]
[null,null,null,-0.05,13.300508888079673,10.937689922835395,8.6906170340977678,6.5529925868521701,4.5188877398015332,2.5827195476890581,0.7392295578533411,-1.0165362008897514,-2.6892459317036197,-4.2832995734994412,-5.8028451767725278,-7.2517942275164575,-8.6338359898881532,-9.9524509333532674,-11.210923305453367,-12.412352907086794,-13.559666123243685,-14.655626258479606,-15.702843223006107,-16.703782612126847,-17.660774218814684]
[null,null,null,-4.4999999999999998E-2,8.4605556638800206,6.3231864335810615,4.2897893054818068,2.3547310548454599,0.51270740042907748,-1.2412773763364331,-2.9119294843119383,-4.5036834382033275,-6.0207187207292092,-7.4669753694893046,-8.8461685611134477,-10.161802260172673,-11.417181995598941,-12.615426822981112,-13.759480527030334,-14.852122114739846,-15.895975646261659,-16.893519447274599,-17.847094743600039,-18.758913756025276,-19.631067290691291]
[null,null,null,-0.04,4.1033156638661179,2.1674103879208939,0.32500090041138979,-1.4289565315920412,-3.099211980877064,-4.6902400160281212,-6.2062566764024645,-7.6512353464761453,-9.0289216041974871,-10.342847112720609,-11.596342619998939,-12.792550126197323,-13.93443427467952,-15.024793018438194,-16.066267610220805,-17.061351961258428,-18.012401410394769,-18.92164094252928,-19.791172892609111,-20.622984168920105,-21.418953027116117]
[null,null,null,-3.5000000000000003E-2,0.17552680816733093,-1.5801538035613523,-3.2516693227287234,-4.8435399894971702,-6.3600236505921561,-7.8051319468311373,-9.182645449481539,-10.496127816855967,-11.748939037498005,-12.944247821633901,-14.085043198222865,-15.174145370921206,-16.214215882545101,-17.207767134159841,-18.157171301714794,-19.064668690169608,-19.932375562293903,-20.762291476762375,-21.5563061677836,-22.316205996295885,-23.04368000070777]
[null,null,null,-0.03,-3.3697682525548487,-4.9640501422451733,-6.4824853129227016,-7.9291287046170007,-9.3078005949088265,-10.622101043518395,-11.875423400497741,-13.070966941551532,-14.211748689521324,-15.300614476908345,-16.340249300452122,-17.333187015211575,-18.281819412276572,-19.188404721169526,-20.055075575138623,-20.883846474905525,-21.676620783969121,-22.435197286292908,-23.161276335082814,-23.856465619401646,-24.522285573537019]
[null,null,null,-2.5000000000000001E-2,-6.574011060791217,-8.023597542537809,-9.4047603220114553,-10.72114039351248,-11.976168704880356,-13.173079057520875,-14.3149201716123,-15.404566973047693,-16.44473115467644,-17.437971060709266,-18.38670093971832,-19.293199608489289,-20.159618566030325,-20.987989594310044,-21.780231879759636,-22.538158687219152,-23.263483615824022,-23.957826464301363,-24.622718731257802,-25.259608774296204,-25.869866650171968]
[null,null,null,-0.02,-9.4738128062241085,-10.793538501452826,-12.051470882467038,-13.250882356918041,-14.394857155340961,-15.486302861305024,-16.527961196709406,-17.522418112616773,-18.472113232460821,-19.379348691173153,-20.24629741071988,-21.075010849709695,-21.867426262110925,-22.625373497678776,-23.35058137443669,-24.044683651458193,-24.709224628252006,-25.345664395244562,-25.955383758178762,-26.539688857687956,-27.099815503858981]
[null,null,null,-1.4999999999999999E-2,-12.101550453973603,-13.304603301734213,-14.451790898824447,-15.5460571644933,-16.590177286354411,-17.586768034606429,-18.538297411145109,-19.447093678500963,-20.315353810368016,-21.145151402559762,-21.938444080503864,-22.697080436871875,-23.422806530597732,-24.117271976370901,-24.782035651677933,-25.418571046596796,-26.028271279816028,-26.612453802740383,-27.172364812047835,-27.709183389677641,-28.224025387934677]
[null,null,null,-9.9999999999998996E-3,-14.485885683840991,-15.584001217952103,-16.631556693498357,-17.6312030193032,-18.585439677251909,-19.496623956360477,-20.366979592479847,-21.198604853730583,-21.99348010894197,-22.753474913756015,-23.480354646629717,-24.175786724725754,-24.841346427592882,-25.478522354606334,-26.088721540340174,-26.673274250382022,-27.233438478550237,-27.770404165040947,-28.285297153695403,-28.779182905342715,-29.253069983019106]
[null,null,null,-4.9999999999999099E-3,-16.6522170650357,-17.655848577673542,-18.613672319820811,-19.528077606711399,-20.401317739020232,-21.235518276633425,-22.032684780856016,-22.794710060866603,-23.523380957705843,-24.220384696757829,-24.887314837517966,-25.525676847437428,-26.136893324773411,-26.722308893649341,-27.283194792924952,-27.820753178993733,-28.336121161240865,-28.830374587616124,-29.304531596583647,-29.759555950605719,-30.196360165289455]
[null,null,null,9.7144514654701197E-17,-18.623074428641303,-19.541542148582785,-20.418463150197312,-21.255992999282935,-22.056164985405747,-22.820897541245703,-23.552001186180608,-24.251185026108729,-24.920062839262403,-25.560158775685071,-26.17291269611135,-26.759685174201465,-27.321762184418855,-27.860359496299985,-28.376626794433523,-28.871651542139531,-29.346462605606039,-29.802033654095716,-30.239286350771142,-30.6590933477001,-31.062281097683112]
[null,null,null,5.0000000000000903E-3,-20.418463150197383,-21.260085141703147,-22.063984631682146,-22.83210813504984,-23.566292146653339,-24.268269799796833,-24.939677098619736,-25.582058752945663,-26.196873642215383,-26.785499933256798,-27.349239874918862,-27.889324290998481,-28.4069167914042,-28.903117720123674,-29.378967857283659,-29.835451891403935,-30.273501676845587,-30.693999290430408,-31.097779900256405,-31.485634458852541,-31.858312231993228]
[null,null,null,1.0000000000000101E-2,-22.056164985405747,-22.828372110593833,-23.566292146653272,-24.271684484296472,-24.946209437005706,-25.591434221557122,-26.208838556544432,-26.799819904516582,-27.365698381550818,-27.907721356419206,-28.427067759964547,-28.92485212387222,-29.402128366696758,-29.859893343770235,-30.299090176476582,-30.720611375314348,-31.125301770185285,-31.513961260429873,-31.887347396280454,-32.246177802612635,-32.591132455140581]
[null,null,null,1.50000000000001E-2,-23.552001186180672,-24.261438161146788,-24.939677098619736,-25.588309747224923,-26.208838556544489,-26.802682052972923,-27.371179872885413,-27.915597476060562,-28.437130560695515,-28.936909199865156,-29.41600171789413,-29.875418323835117,-30.316114518054952,-30.738994286831403,-31.144913098838046,-31.534680716445283,-31.909063833883941,-32.268788553497295,-32.614542710545813,-32.9469780563226,-33.26671230867705]
[null,null,null,2.0000000000000101E-2,-24.920062839262403,-25.572677144872269,-26.196873642215326,-26.79409376227532,-27.365698381550818,-27.91297265822752,-28.437130560695469,-28.939319108977422,-29.420622348194026,-29.882065071864087,-30.324616311598806,-30.749192608606631,-31.156661081358909,-31.547842302782296,-31.923512999424315,-32.284408584190778,-32.631225533460452,-32.96462361865089,-33.285228001624006,-33.593631202688876,-33.890394949367028]
[null,null,null,2.5000000000000099E-2,-26.1729126961114,-26.774032872130096,-27.349239874918862,-27.899840236266321,-28.427067759964597,-28.932087875926801,-29.41600171789413,-29.879849943178339,-30.324616311598838,-30.751231039580748,-31.160573944272006,-31.553477391513468,-31.930729060540504,-32.293074537411542,-32.641219748336759,-32.97583324331832,-33.297548339803413,-33.606965135395569,-33.904652398055255,-34.191149341653869,-34.466967294216161]
[null,null,null,0.03,-27.321762184418855,-27.876166835174086,-28.406916791404154,-28.915197419105692,-29.402128366696758,-29.86876748822576,-30.31611451805491,-30.74511451357554,-31.156661081358909,-31.551599401077901,-31.930729060540475,-32.29480671425766,-32.644548577112076,-32.980632763901404,-33.303701484792605,-33.614363106040813,-33.913194084689081,-34.200740785376269,-34.477521186830216,-34.74402648511375,-35.000722600216747]
[null,null,null,3.5000000000000003E-2,-28.376626794433523,-28.888605461027755,-29.378967857283616,-29.848790425908,-30.299090176476582,-30.730828223161534,-31.144913098837971,-31.54220386044291,-31.923512999424315,-32.289609170160418,-32.641219748336731,-32.979033230444038,-33.303701484792605,-33.615841863726601,-33.916039186060729,-34.204847598147687,-34.482792321414031,-34.750371293672131,-35.008056711022768,-35.256296476704776,-35.495515562822618]
[null,null,null,0.04,-29.346462605606039,-29.819869509957037,-30.273501676845548,-30.708337548009606,-31.125301770185285,-31.525268387730026,-31.909063833883916,-32.277469734039492,-32.631225533460452,-32.971030961029271,-33.297548339803356,-33.611404754418544,-33.913194084689081,-34.203478914115294,-34.482792321414031,-34.751639562637664,-35.010499650933326,-35.259826840518372,-35.500052021004969,-35.731584027795215,-35.95481087388513]
[null,null,null,4.4999999999999998E-2,-30.239286350771142,-30.677587887181897,-31.097779900256374,-31.500752583146006,-31.887347396280454,-32.258359950801747,-32.614542710545791,-32.956607524599356,-33.285228001624006,-33.601041736366511,-33.904652398055234,-34.196631689717243,-34.477521186830216,-34.747834063150464,-35.008056711022768,-35.258650262983203,-35.500052021004969,-35.732676799308571,-35.956918186260104,-36.173149730510971,-36.381726056187752]
[null,null,null,0.05,-31.062281097683112,-31.468597835413249,-31.8583122319932,-32.232234946757018,-32.591132455140581,-32.935729654896434,-33.266712308677022,-33.584729333813726,-33.890394949367028,-34.184290689829496,-34.46696729421614,-34.738946478677789,-35.000722600216747,-35.252764218567215,-35.495515562822618,-35.729397908945963,-35.95481087388513,-36.172133631629826,-36.381726056187752,-36.583929796125652,-36.779069285010237]
[null,null,null,5.5E-2,-31.821889353921264,-32.19903321694634,-32.560940157499275,-32.90834909488963,-33.241958855178716,-33.562430528654616,-33.870389679638564,-34.166428418375091,-34.451107344084186,-34.724957367627738,-34.988481421661334,-35.242156065603567,-35.486432992253789,-35.721740442424938,-35.948484533524677,-36.167050507618249,-36.377803904131497,-36.581091662007616,-36.777243155806609,-36.966571169938206,-37.149372814938729]
[null,null,null,0.06,-32.523895164796961,-32.874402370539457,-33.210910793694431,-33.534094589251112,-33.844591500447386,-34.143004992894127,-34.429906255338018,-34.705836075855821,-34.971306601663223,-35.226802990160436,-35.472784958311408,-35.70968823696942,-35.93792593631062,-36.157889828117668,-36.369951550267217,-36.574463738412646,-36.77176108951798,-36.962161361586062,-37.145966313633245,-37.323462589693236,-37.494922550380267]
[null,null,null,6.5000000000000002E-2,-33.173496569624348,-33.499656835152372,-33.812942086295045,-34.113967962165773,-34.403317005971687,-34.681540598435987,-34.94916077069324,-35.206671904589086,-35.454542327767676,-35.693215810423496,-35.923112970122162,-36.144632590657828,-36.35815286050849,-36.564032536072865,-36.762612034521538,-36.954214460769911,-37.139146572776511,-37.317699689089345,-37.490150542300192,-37.656762081823722,-37.817784229191027]
[null,null,null,7.0000000000000007E-2,-33.775369605055943,-34.079252065557839,-34.371280418884567,-34.652017389705016,-34.921995595605402,-35.181719300029819,-35.431666056214183,-35.672288249273279,-35.904014543106598,-36.12725123833188,-36.342383547029655,-36.549776789688693,-36.749777519374589,-36.942714577804736,-37.128900087695463,-37.308630385453618,-37.482186898011641,-37.649836967350943,-37.811834626021614,-37.968421326747297,-38.119826628998602]
[null,null,null,7.4999999999999997E-2,-34.333724891260971,-34.617201120210645,-34.88975156186816,-35.151891051825984,-35.404107014727003,-35.646861054787919,-35.880590447664503,-36.10570954012578,-36.322611063559449,-36.531667366918242,-36.733231574333402,-36.927638672266049,-37.115206530736167,-37.296236862862202,-37.471016126658341,-37.639816372771662,-37.802896041594153,-37.960500712955806,-38.112863811390589,-38.260207269769694,-38.402742153910538]
[null,null,null,0.08,-34.852357704244334,-35.11712217645583,-35.371805770906377,-35.616879946195063,-35.852791183946408,-36.079962433067251,-36.298794464647145,-36.509667143348139,-36.712940620728752,-36.908956455573637,-37.098038665955123,-37.280494717431374,-37.456616451487314,-37.626680958047309,-37.790951395630529,-37.949677762480491,-38.103097621777238,-38.251436783833803,-38.394909947984914,-38.533721306697394,-38.668065114264088]
[null,null,null,8.5000000000000006E-2,-35.334692322729417,-35.582280619494611,-35.820557741616945,-36.049955825089562,-36.270884227922203,-36.48373084258079,-36.688863327437268,-36.886630262518125,-37.07736223447661,-37.261372855378184,-37.438959719574711,-37.61040530265452,-37.775977806184095,-37.935931951707971,-38.09050972723913,-38.239941089256632,-38.384444623025288,-38.524228163864912,-38.659489381822347,-38.790416332037388,-38.917187972942322]
[null,null,null,0.09,-35.783821338343202,-36.015626357224065,-36.238822038106008,-36.453804840328999,-36.660950433459611,-36.860614890849398,-37.053135809734918,-37.238833362666433,-37.418011284723384,-37.590957800672193,-37.757946495937958,-37.919237135000351,-38.075076430579806,-38.225698766753347,-38.371326878928798,-38.512172493410709,-38.648436929108243,-38.780311663766717,-38.907978866946188,-39.031611901823901,-39.151375797760693]
[null,null,null,9.5000000000000001E-2,-36.202540531259132,-36.419826931150574,-36.629144535375254,-36.830857407823416,-37.025310621612,-37.212831345351944,-37.39372986274099,-37.568300529817463,-37.736822673914475,-37.899561438078521,-38.056768574461316,-38.208683189956091,-38.355532447129328,-38.497532223293504,-38.634887730376285,-38.767794098063582,-38.896436922529894,-39.020992782915378,-39.141629727566418,-39.25850773192365,-39.371779129817682]
[null,null,null,0.1,-36.593379838193826,-36.79729692236787,-36.993830348261262,-37.183314739537643,-37.366067358117981,-37.542389093547783,-37.71256539180434,-37.87686712747356,-38.035551422958243,-38.188862418130121,-38.337031993607376,-38.480280450623994,-38.618817150257961,-38.752841114599619,-38.882541592268829,-39.008098590529045,-39.129683376097191,-39.247458946609207,-39.361580474571902,-39.472195725511114,-39.579445451914331]
[]
[]
[null,null,"rr",{"$f":"'Náklady - výnosy'!N4","v":0.08}]
[null,null,"alfa",{"$f":"'Náklady - výnosy'!N5","v":0.02}]
[]
[]
[]
[]
[]
[]
[null,null,null,0.1]

{"sheet":"Citlivostní a. - elektrina","index":6,"n_rows":37,"n_cols":23,"rows_kept":37,"cut":false,"hidden":false,"merged":[[36,3,36,17]]}
[]
[]
[]
[]
[]
[]
[]
[]
[]
[]
[]
[]
[]
[]
[]
[]
[]
[]
[]
[]
[]
[]
[]
[]
[]
[]
[]
[]
[]
[]
[]
[null,"Cena Elektřiny za 1 MWh [Kč/€/$]",600,800,1000,1200,1400,1600,1800,2000,2200,2400,2600,2800,3000,3200,3400,3600,3800,4000,4200,4400,"Kč"]
[null,"Cena Elektřiny [Kč/MWh]",{"$f":"IF($W$32='Náklady - výnosy'!$L$13,'Citlivostní a. - elektrina'!C32*'Náklady - výnosy'!$M$13,IF($W$32='Náklady - výnosy'!$L$14,'Citlivostní a. - elektrina'!C32*'Náklady - výnosy'!$M$14,'Citlivostní a. - elektrina'!C32))","v":600},{"$f":"IF($W$32='Náklady - výnosy'!$L$13,'Citlivostní a. - elektrina'!D32*'Náklady - výnosy'!$M$13,IF($W$32='Náklady - výnosy'!$L$14,'Citlivostní a. - elektrina'!D32*'Náklady - výnosy'!$M$14,'Citlivostní a. - elektrina'!D32))","v":800},{"$f":"IF($W$32='Náklady - výnosy'!$L$13,'Citlivostní a. - elektrina'!E32*'Náklady - výnosy'!$M$13,IF($W$32='Náklady - výnosy'!$L$14,'Citlivostní a. - elektrina'!E32*'Náklady - výnosy'!$M$14,'Citlivostní a. - elektrina'!E32))","v":1000},{"$f":"IF($W$32='Náklady - výnosy'!$L$13,'Citlivostní a. - elektrina'!F32*'Náklady - výnosy'!$M$13,IF($W$32='Náklady - výnosy'!$L$14,'Citlivostní a. - elektrina'!F32*'Náklady - výnosy'!$M$14,'Citlivostní a. - elektrina'!F32))","v":1200},{"$f":"IF($W$32='Náklady - výnosy'!$L$13,'Citlivostní a. - elektrina'!G32*'Náklady - výnosy'!$M$13,IF($W$32='Náklady - výnosy'!$L$14,'Citlivostní a. - elektrina'!G32*'Náklady - výnosy'!$M$14,'Citlivostní a. - elektrina'!G32))","v":1400},{"$f":"IF($W$32='Náklady - výnosy'!$L$13,'Citlivostní a. - elektrina'!H32*'Náklady - výnosy'!$M$13,IF($W$32='Náklady - výnosy'!$L$14,'Citlivostní a. - elektrina'!H32*'Náklady - výnosy'!$M$14,'Citlivostní a. - elektrina'!H32))","v":1600},{"$f":"IF($W$32='Náklady - výnosy'!$L$13,'Citlivostní a. - elektrina'!I32*'Náklady - výnosy'!$M$13,IF($W$32='Náklady - výnosy'!$L$14,'Citlivostní a. - elektrina'!I32*'Náklady - výnosy'!$M$14,'Citlivostní a. - elektrina'!I32))","v":1800},{"$f":"IF($W$32='Náklady - výnosy'!$L$13,'Citlivostní a. - elektrina'!J32*'Náklady - výnosy'!$M$13,IF($W$32='Náklady - výnosy'!$L$14,'Citlivostní a. - elektrina'!J32*'Náklady - výnosy'!$M$14,'Citlivostní a. - elektrina'!J32))","v":2000},{"$f":"IF($W$32='Náklady - výnosy'!$L$13,'Citlivostní a. - elektrina'!K32*'Náklady - výnosy'!$M$13,IF($W$32='Náklady - výnosy'!$L$14,'Citlivostní a. - elektrina'!K32*'Náklady - výnosy'!$M$14,'Citlivostní a. - elektrina'!K32))","v":2200},{"$f":"IF($W$32='Náklady - výnosy'!$L$13,'Citlivostní a. - elektrina'!L32*'Náklady - výnosy'!$M$13,IF($W$32='Náklady - výnosy'!$L$14,'Citlivostní a. - elektrina'!L32*'Náklady - výnosy'!$M$14,'Citlivostní a. - elektrina'!L32))","v":2400},{"$f":"IF($W$32='Náklady - výnosy'!$L$13,'Citlivostní a. - elektrina'!M32*'Náklady - výnosy'!$M$13,IF($W$32='Náklady - výnosy'!$L$14,'Citlivostní a. - elektrina'!M32*'Náklady - výnosy'!$M$14,'Citlivostní a. - elektrina'!M32))","v":2600},{"$f":"IF($W$32='Náklady - výnosy'!$L$13,'Citlivostní a. - elektrina'!N32*'Náklady - výnosy'!$M$13,IF($W$32='Náklady - výnosy'!$L$14,'Citlivostní a. - elektrina'!N32*'Náklady - výnosy'!$M$14,'Citlivostní a. - elektrina'!N32))","v":2800},{"$f":"IF($W$32='Náklady - výnosy'!$L$13,'Citlivostní a. - elektrina'!O32*'Náklady - výnosy'!$M$13,IF($W$32='Náklady - výnosy'!$L$14,'Citlivostní a. - elektrina'!O32*'Náklady - výnosy'!$M$14,'Citlivostní a. - elektrina'!O32))","v":3000},{"$f":"IF($W$32='Náklady - výnosy'!$L$13,'Citlivostní a. - elektrina'!P32*'Náklady - výnosy'!$M$13,IF($W$32='Náklady - výnosy'!$L$14,'Citlivostní a. - elektrina'!P32*'Náklady - výnosy'!$M$14,'Citlivostní a. - elektrina'!P32))","v":3200},{"$f":"IF($W$32='Náklady - výnosy'!$L$13,'Citlivostní a. - elektrina'!Q32*'Náklady - výnosy'!$M$13,IF($W$32='Náklady - výnosy'!$L$14,'Citlivostní a. - elektrina'!Q32*'Náklady - výnosy'!$M$14,'Citlivostní a. - elektrina'!Q32))","v":3400},{"$f":"IF($W$32='Náklady - výnosy'!$L$13,'Citlivostní a. - elektrina'!R32*'Náklady - výnosy'!$M$13,IF($W$32='Náklady - výnosy'!$L$14,'Citlivostní a. - elektrina'!R32*'Náklady - výnosy'!$M$14,'Citlivostní a. - elektrina'!R32))","v":3600},{"$f":"IF($W$32='Náklady - výnosy'!$L$13,'Citlivostní a. - elektrina'!S32*'Náklady - výnosy'!$M$13,IF($W$32='Náklady - výnosy'!$L$14,'Citlivostní a. - elektrina'!S32*'Náklady - výnosy'!$M$14,'Citlivostní a. - elektrina'!S32))","v":3800},{"$f":"IF($W$32='Náklady - výnosy'!$L$13,'Citlivostní a. - elektrina'!T32*'Náklady - výnosy'!$M$13,IF($W$32='Náklady - výnosy'!$L$14,'Citlivostní a. - elektrina'!T32*'Náklady - výnosy'!$M$14,'Citlivostní a. - elektrina'!T32))","v":4000},{"$f":"IF($W$32='Náklady - výnosy'!$L$13,'Citlivostní a. - elektrina'!U32*'Náklady - výnosy'!$M$13,IF($W$32='Náklady - výnosy'!$L$14,'Citlivostní a. - elektrina'!U32*'Náklady - výnosy'!$M$14,'Citlivostní a. - elektrina'!U32))","v":4200},{"$f":"IF($W$32='Náklady - výnosy'!$L$13,'Citlivostní a. - elektrina'!V32*'Náklady - výnosy'!$M$13,IF($W$32='Náklady - výnosy'!$L$14,'Citlivostní a. - elektrina'!V32*'Náklady - výnosy'!$M$14,'Citlivostní a. - elektrina'!V32))","v":4400},"Kč"]
[null,"NPV [Kč]",-40668851.281993225,-38375569.739231214,-36082288.196469203,-33812667.052218452,-31556316.155789047,-29307907.545086436,-27111366.329895336,-24982128.243709806,-22954832.786801361,-21030816.340864975,-19129371.255176488,-17241115.586128432,-15352859.917080373,-13464604.24803232,-11576348.578984253,-9688092.9099361822,-7799837.2408881336,-5911581.5718400627,-4023325.9027920067,-2135070.2337439358,"Kč"]
[]
[]
[null,null,null,"V případě nefungujících Maker je potřeba řádek 34 vyplnit ručně postupným dosazováním hodnot do příslušné buňky na listu 'Náklady - Výnosy' a následně zkopírovat výsledne NPV z 'Výpočet NPV'"]

{"sheet":"Citlivostni a. - cena panelu","index":7,"n_rows":40,"n_cols":25,"rows_kept":40,"cut":false,"hidden":false,"merged":[[39,6,39,20]]}
[]
[]
[]
[]
[]
[]
[]
[]
[]
[]
[]
[]
[]
[]
[]
[]
[]
[]
[]
[]
[]
[]
[]
[]
[]
[]
[]
[]
[]
[]
[]
[]
[]
[]
[null,null,"Cena Panelu [Kč/€/$]",6000,6500,7000,7500,8000,8500,9000,9500,10000,10500,11000,11500,12000,12500,13000,13500,14000,14500,15000,15500,16000,"Kč"]
[null,null,"Cena panelu [Kč]",{"$f":"IF($Y$35='Náklady - výnosy'!$L$13,'Citlivostni a. - cena panelu'!D35*'Náklady - výnosy'!$M$13,IF($Y$35='Náklady - výnosy'!$L$14,'Citlivostni a. - cena panelu'!D35*'Náklady - výnosy'!$M$14,'Citlivostni a. - cena panelu'!D35))","v":6000},{"$f":"IF($Y$35='Náklady - výnosy'!$L$13,'Citlivostni a. - cena panelu'!E35*'Náklady - výnosy'!$M$13,IF($Y$35='Náklady - výnosy'!$L$14,'Citlivostni a. - cena panelu'!E35*'Náklady - výnosy'!$M$14,'Citlivostni a. - cena panelu'!E35))","v":6500},{"$f":"IF($Y$35='Náklady - výnosy'!$L$13,'Citlivostni a. - cena panelu'!F35*'Náklady - výnosy'!$M$13,IF($Y$35='Náklady - výnosy'!$L$14,'Citlivostni a. - cena panelu'!F35*'Náklady - výnosy'!$M$14,'Citlivostni a. - cena panelu'!F35))","v":7000},{"$f":"IF($Y$35='Náklady - výnosy'!$L$13,'Citlivostni a. - cena panelu'!G35*'Náklady - výnosy'!$M$13,IF($Y$35='Náklady - výnosy'!$L$14,'Citlivostni a. - cena panelu'!G35*'Náklady - výnosy'!$M$14,'Citlivostni a. - cena panelu'!G35))","v":7500},{"$f":"IF($Y$35='Náklady - výnosy'!$L$13,'Citlivostni a. - cena panelu'!H35*'Náklady - výnosy'!$M$13,IF($Y$35='Náklady - výnosy'!$L$14,'Citlivostni a. - cena panelu'!H35*'Náklady - výnosy'!$M$14,'Citlivostni a. - cena panelu'!H35))","v":8000},{"$f":"IF($Y$35='Náklady - výnosy'!$L$13,'Citlivostni a. - cena panelu'!I35*'Náklady - výnosy'!$M$13,IF($Y$35='Náklady - výnosy'!$L$14,'Citlivostni a. - cena panelu'!I35*'Náklady - výnosy'!$M$14,'Citlivostni a. - cena panelu'!I35))","v":8500},{"$f":"IF($Y$35='Náklady - výnosy'!$L$13,'Citlivostni a. - cena panelu'!J35*'Náklady - výnosy'!$M$13,IF($Y$35='Náklady - výnosy'!$L$14,'Citlivostni a. - cena panelu'!J35*'Náklady - výnosy'!$M$14,'Citlivostni a. - cena panelu'!J35))","v":9000},{"$f":"IF($Y$35='Náklady - výnosy'!$L$13,'Citlivostni a. - cena panelu'!K35*'Náklady - výnosy'!$M$13,IF($Y$35='Náklady - výnosy'!$L$14,'Citlivostni a. - cena panelu'!K35*'Náklady - výnosy'!$M$14,'Citlivostni a. - cena panelu'!K35))","v":9500},{"$f":"IF($Y$35='Náklady - výnosy'!$L$13,'Citlivostni a. - cena panelu'!L35*'Náklady - výnosy'!$M$13,IF($Y$35='Náklady - výnosy'!$L$14,'Citlivostni a. - cena panelu'!L35*'Náklady - výnosy'!$M$14,'Citlivostni a. - cena panelu'!L35))","v":10000},{"$f":"IF($Y$35='Náklady - výnosy'!$L$13,'Citlivostni a. - cena panelu'!M35*'Náklady - výnosy'!$M$13,IF($Y$35='Náklady - výnosy'!$L$14,'Citlivostni a. - cena panelu'!M35*'Náklady - výnosy'!$M$14,'Citlivostni a. - cena panelu'!M35))","v":10500},{"$f":"IF($Y$35='Náklady - výnosy'!$L$13,'Citlivostni a. - cena panelu'!N35*'Náklady - výnosy'!$M$13,IF($Y$35='Náklady - výnosy'!$L$14,'Citlivostni a. - cena panelu'!N35*'Náklady - výnosy'!$M$14,'Citlivostni a. - cena panelu'!N35))","v":11000},{"$f":"IF($Y$35='Náklady - výnosy'!$L$13,'Citlivostni a. - cena panelu'!O35*'Náklady - výnosy'!$M$13,IF($Y$35='Náklady - výnosy'!$L$14,'Citlivostni a. - cena panelu'!O35*'Náklady - výnosy'!$M$14,'Citlivostni a. - cena panelu'!O35))","v":11500},{"$f":"IF($Y$35='Náklady - výnosy'!$L$13,'Citlivostni a. - cena panelu'!P35*'Náklady - výnosy'!$M$13,IF($Y$35='Náklady - výnosy'!$L$14,'Citlivostni a. - cena panelu'!P35*'Náklady - výnosy'!$M$14,'Citlivostni a. - cena panelu'!P35))","v":12000},{"$f":"IF($Y$35='Náklady - výnosy'!$L$13,'Citlivostni a. - cena panelu'!Q35*'Náklady - výnosy'!$M$13,IF($Y$35='Náklady - výnosy'!$L$14,'Citlivostni a. - cena panelu'!Q35*'Náklady - výnosy'!$M$14,'Citlivostni a. - cena panelu'!Q35))","v":12500},{"$f":"IF($Y$35='Náklady - výnosy'!$L$13,'Citlivostni a. - cena panelu'!R35*'Náklady - výnosy'!$M$13,IF($Y$35='Náklady - výnosy'!$L$14,'Citlivostni a. - cena panelu'!R35*'Náklady - výnosy'!$M$14,'Citlivostni a. - cena panelu'!R35))","v":13000},{"$f":"IF($Y$35='Náklady - výnosy'!$L$13,'Citlivostni a. - cena panelu'!S35*'Náklady - výnosy'!$M$13,IF($Y$35='Náklady - výnosy'!$L$14,'Citlivostni a. - cena panelu'!S35*'Náklady - výnosy'!$M$14,'Citlivostni a. - cena panelu'!S35))","v":13500},{"$f":"IF($Y$35='Náklady - výnosy'!$L$13,'Citlivostni a. - cena panelu'!T35*'Náklady - výnosy'!$M$13,IF($Y$35='Náklady - výnosy'!$L$14,'Citlivostni a. - cena panelu'!T35*'Náklady - výnosy'!$M$14,'Citlivostni a. - cena panelu'!T35))","v":14000},{"$f":"IF($Y$35='Náklady - výnosy'!$L$13,'Citlivostni a. - cena panelu'!U35*'Náklady - výnosy'!$M$13,IF($Y$35='Náklady - výnosy'!$L$14,'Citlivostni a. - cena panelu'!U35*'Náklady - výnosy'!$M$14,'Citlivostni a. - cena panelu'!U35))","v":14500},{"$f":"IF($Y$35='Náklady - výnosy'!$L$13,'Citlivostni a. - cena panelu'!V35*'Náklady - výnosy'!$M$13,IF($Y$35='Náklady - výnosy'!$L$14,'Citlivostni a. - cena panelu'!V35*'Náklady - výnosy'!$M$14,'Citlivostni a. - cena panelu'!V35))","v":15000},{"$f":"IF($Y$35='Náklady - výnosy'!$L$13,'Citlivostni a. - cena panelu'!W35*'Náklady - výnosy'!$M$13,IF($Y$35='Náklady - výnosy'!$L$14,'Citlivostni a. - cena panelu'!W35*'Náklady - výnosy'!$M$14,'Citlivostni a. - cena panelu'!W35))","v":15500},{"$f":"IF($Y$35='Náklady - výnosy'!$L$13,'Citlivostni a. - cena panelu'!X35*'Náklady - výnosy'!$M$13,IF($Y$35='Náklady - výnosy'!$L$14,'Citlivostni a. - cena panelu'!X35*'Náklady - výnosy'!$M$14,'Citlivostni a. - cena panelu'!X35))","v":16000},"Kč"]
[null,null,"NPV",-21147363.029043935,-22342913.137976393,-23538463.246908858,-24734013.355841316,-25929563.464773782,-27125113.573706239,-28320663.682638705,-29516213.791571166,-30712940.620728754,-31912940.620728754,-33112940.620728754,-34312940.620728754,-35512940.620728754,-36712940.620728754,-37912940.620728754,-39112940.620728754,-40312940.620728754,-41512940.620728754,-42712940.620728754,-43912940.620728754,-45112940.620728754,"Kč"]
[]
[]
[null,null,null,null,null,null,"V případě nefungujících Maker je potřeba řádek 37 vyplnit ručně postupným dosazováním hodnot do příslušné buňky na listu 'Náklady-výnosy' a následně zkopírovat výsledne NPV z 'Výpočet NPV'"]

{"sheet":"Ověření dat","index":8,"n_rows":5,"n_cols":4,"rows_kept":5,"cut":false,"hidden":true,"merged":[]}
[]
[null,"Ano",null,"Osobní"]
[null,"Ne",null,"Údržba + opravy"]
[null,null,null,"Náhradní díly"]
[null,null,null,"Jiné"]