{"text_format":"1","workbook":"xlsx","n_sheets":11,"sheets":["Úvod","Skladby konstrukcí","Konstrukce","Panely","Data_fi","Výpočetní pomůcky_fi","Výsledek","Data","Data_ksi","Výpočet","Tabulky"],"not_rendered":{"charts":0,"images":23,"macros":1,"external_links":1,"defined_names":19,"comments":5,"pivot_tables":0},"unopened":[],"bounds":{"document_bytes":16777216,"sheet_cells":100000,"rows_first":2000,"rows_last":500,"rows_between":2000,"halvings":0,"cell_chars":16384,"cell_head_chars":4096},"cells_cut":0,"cells_raw":0,"read":"whole","date_system":"1900"}

{"sheet":"Úvod","index":0,"n_rows":27,"n_cols":8,"rows_kept":27,"cut":false,"hidden":false,"merged":[[2,0,2,8],[4,1,6,7],[10,1,11,7],[12,1,13,7],[20,1,22,7]]}
[]
[]
["Nástroj pro posuzování projektů sálavého vytápění"]
[]
[null,"Nástroj slouží k vypočítání povrchových teplot konstrukcí a vytvoření teplotní mapy v prostorech vytápěných závěsnými sálavými panely"]
[]
[]
[]
[null,"Uživatel vyplňuje pouze pole označená"]
[null,"S listy \"Data\", \"Data_ksi\", \"Výpočet\", \"Tabulky\" uživatel nijak nemanipuluje"]
[null,"Ve všech listech není doporučeno přidávat sloupce ani měnit obsahy buněk neoznačených k úpravě"]
[]
[null,"Více informací ohledně fungování výpočetního nástroje lze nalézt v diplomové práci"]
[]
[]
[]
[]
[]
[]
[]
[null,"Tato výpočetní pomůcka vznikla na základě vypracování diplomové práce s názvem: Nástroj pro posuzování projektů sálavého vytápění."]
[]
[]
[null,null,null,null,null,null,"vypracoval:"]
[null,null,null,null,null,null,null,"Jan Víša"]
[null,null,null,null,null,null,"rok:"]
[null,null,null,null,null,null,null,"2015-2016"]

{"sheet":"Skladby konstrukcí","index":1,"n_rows":47,"n_cols":9,"rows_kept":47,"cut":false,"hidden":false,"merged":[[13,4,16,4],[22,0,22,4],[23,4,26,4],[12,0,12,4],[2,0,2,4],[3,4,6,4],[7,0,7,4],[8,4,11,4],[23,0,26,0],[3,0,6,0],[8,0,11,0],[17,0,17,4],[18,4,21,4],[38,4,41,4],[42,0,42,4],[43,4,46,4],[27,0,27,4],[28,4,31,4],[32,0,32,4],[33,4,36,4],[37,0,37,4],[28,0,31,0],[33,0,36,0],[38,0,41,0],[43,0,46,0]]}
[]
[null,"l            (W/mK)","d            (mm)","Ri        (m2K/W)","∑Ri        (m2K/W)",null,"Označení","R           (m2K/W)","ε [-]"]
["Venkovní obvodová konstrukce - do výšky 2,4 m nad podlahu",null,null,null,null,null,"os1",{"$f":"E4","v":2.5},0.9]
["Skladba konstrukce neznámá, tepelný odpor převzat z výpočtu tepelné ztráty pro stavební povolení",999,0,{"$f":"C4/1000/B4","v":0},2.5]
[null,999,0,{"$f":"C5/1000/B5","v":0}]
[null,999,0,0]
[null,999,0,0]
["Vnitřní svislá konstrukce - od výšky 2,4 m nad podlahou",null,null,null,null,null,"os2",{"$f":"E9","v":3.4},0.9]
["Skladba konstrukce neznámá, tepelný odpor převzat z výpočtu tepelné ztráty pro stavební povolení",999,0,{"$f":"C9/1000/B9","v":0},3.4]
[null,999,0,{"$f":"C10/1000/B10","v":0}]
[null,999,0,0]
[null,999,0,0]
["Vnitřní svislá konstrukce",null,null,null,null,null,"ns1",{"$f":"E14","v":1.5},0.9]
["Tepelně izolační panel Balextherm PLUS 60",0.04,60,{"$f":"C14/1000/B14","v":1.5},{"$f":"SUM(D14:D17)","v":1.5}]
[null,999,0,{"$f":"C15/1000/B15","v":0}]
[null,999,0,0]
[null,999,0,0]
["Fiktivní konstrukce dělící horní a dolní část prostoru",null,null,null,null,null,"ns2",{"$f":"E19","v":0},0.9]
[null,999,0,{"$f":"C19/1000/B19","v":0},{"$f":"SUM(D19:D22)","v":0}]
[null,999,0,{"$f":"C20/1000/B20","v":0}]
[null,999,0,0]
[null,999,0,0]
["Střešní plášť",null,null,null,null,null,"ostrech1",{"$f":"E24","v":4},0.9]
["Skladba konstrukce neznámá, tepelný odpor převzat z výpočtu tepelné ztráty pro stavební povolení",999,0,{"$f":"C24/1000/B24","v":0},4]
[null,999,0,{"$f":"C25/1000/B25","v":0}]
[null,999,0,0]
[null,999,0,0]
["Podlaha se zeminou",null,null,null,null,null,"npdl1",{"$f":"E29","v":1.08},0.9]
["Skladba konstrukce neznámá, tepelný odpor převzat z výpočtu tepelné ztráty pro stavební povolení",0.04,60,{"$f":"C29/1000/B29","v":1.5},1.08]
[null,999,0,{"$f":"C30/1000/B30","v":0}]
[null,999,0,0]
[null,999,0,0]
["Okna a světlíky",null,null,null,null,null,"ooz1",{"$f":"E34","v":0.4},0.9]
["Parametry konstrukcí neznámé, tepelně-technické vlastnosti převzaty z výpočtu tepelné ztráty pro stavební povolení",999,0,{"$f":"C34/1000/B34","v":0},0.4]
[null,999,0,{"$f":"C35/1000/B35","v":0}]
[null,999,0,0]
[null,999,0,0]
["Sekční vrata",null,null,null,null,null,"ooz2",{"$f":"E39","v":0.8},0.9]
["Parametry konstrukcí neznámé, tepelně-technické vlastnosti odhadnuty na základě fotodokumentace a parametrů obdobných výrobků",999,0,{"$f":"C39/1000/B39","v":0},0.8]
[null,999,0,{"$f":"C40/1000/B40","v":0}]
[null,999,0,0]
[null,999,0,0]
["Dveře do venovního prostředí",null,null,null,null,null,"ooz3",{"$f":"E44","v":0.4},0.9]
["Parametry konstrukcí neznámé, tepelně-technické vlastnosti převzaty z výpočtu tepelné ztráty pro stavební povolení",999,0,{"$f":"C44/1000/B44","v":0},0.4]
[null,999,0,{"$f":"C45/1000/B45","v":0}]
[null,999,0,0]
[null,999,0,0]

{"sheet":"Konstrukce","index":2,"n_rows":38,"n_cols":80,"rows_kept":38,"cut":false,"hidden":false,"merged":[]}
[null,null,"ti [°C]",18.770175404064034,null,"te [°C]",-12,null,"Mv [kg/h]",{"$f":"M2*M1","v":33600},null,"ρv [kg/m3]",1.2,null,"tp,vz [°C]",18]
[null,null,"ti' [°C]",19.934229593106764,null,"tz [°C]",5,null,"cv [J/kgK]",1010,null,"Vv [m3/h]",28000,null,"w [m/s]",0.2]
[]
[]
[1,2,3,4,5,6,7,8,9,10,11,12,13,14,15,16,17,18,19,20,21,22,23,24,25,26,27,28,29,30,31,32,33,34,35,36,37,38,39,40,41,42,43,44,45,46,47,48,49,50,51,52,53,54,55,56,57,58,59,60,61,62,63,64,65,66,67,68,69,70,71,72,73,74,75,76,77,78,79,80]
[null,null,null,null,"rozměry",null,null,null,null,null,null,null,null,null,null,null,null,null,null,null,null,null,null,null,null,null,null,null,null,null,null,null,null,"součinitel přestupu tepla konvekcí na vnitřní straně",null,null,null,null,null,null,null,null,null,null,null,"součinitel přestupu tepla konvekcí na vnější straně"]
[null,null,null,null,"bod1",null,null,"bod2",null,null,"bod3",null,null,"bod4",null,null,null,null,null,null,null,null,null,null,null,null,null,null,null,null,null,null,null,null,"vlastnosti vzduchu",null,null,null,null,null,null,null,null,null,null,null,null,null,null,null,null,null,null,null,null,null,null,null,null,null,null,null,null,null,null,null,null,null,"součinitel přestupu tepla konvekcí na horní straně - ASHRAE"]
["index","skladba","te' [°C]","orientace","x","y","z","x","y","z","x","y","z","x","y","z","X [m]","Y [m]","Z [m]","S [m2]","S-SO [m2]","R [m2K/W]","tp [°C]","ε [-]","Λ [W/m2K]","αki [W/m2K]","αke [W/m2K]","obdelník",null,null,null,"g [m/s2]","L ","ts [°C]","β [1/K]","νvz [m2/s]","λvz [W/mK]","Pr [-]","Δt [°C]","Gr [-]","index","K","n","Nu [-]","αk [W/m2K]","ts [°C]","β [1/K]","νvz [m2/s]","λvz [W/mK]","Pr [-]","Δt [°C]","Gr [-]","index","K","n","Nu [-]","αk [W/m2K]",null,"plocha s/h?","fiktivni plocha/panel?","index navazujici plochy","orientace","otvor","L [m]","Re [-]","Nu [-]","αk [W/m2K]","index","K","n"]
[1,"os1",null,"s1",0,0,0,0,14.9,0,0,0,2.4,0,14.9,2.4,{"$f":"IF(OR(MID($D9,2,1)=\"1\",MID($D9,2,1)=\"2\"),0,ABS(E9-H9))","v":0},{"$f":"IF(OR(MID($D9,2,1)=\"3\",MID($D9,2,1)=\"4\"),0,ABS(F9-O9))","v":14.9},{"$f":"IF(OR(MID($D9,2,1)=\"5\",MID($D9,2,1)=\"6\"),0,ABS(G9-P9))","v":2.4},{"$f":"IF(OR(MID($D9,2,1)=\"1\",MID($D9,2,1)=\"2\"),R9*S9,IF(OR(MID($D9,2,1)=\"3\",MID($D9,2,1)=\"4\"),Q9*S9,Q9*R9))","v":35.76},{"$f":"IF(MID($B9,1,2)=\"oo\",T9,IF(MID($B10,1,2)=\"oo\",IF(MID($B11,1,2)=\"oo\",T9-U10-U11,T9-U10),T9))","v":33.96},{"$f":"VLOOKUP(B9,tabulka_konstrukce,2,FALSE)","v":2.5},20.887937951028093,{"$f":"IF(MID(D9,3,1)=\"f\",1,VLOOKUP(B9,tabulka_konstrukce,3,FALSE))","v":0.9},{"$f":"1/(V9+(1/AA9))","v":0.39316239316239315},{"$f":"IF(P2<=0.2,AS9,MAX(AS9,BO9))","v":2.0059025625181222},{"$f":"IF(ISBLANK($C9),23,IF(MID($C9,1,1)=\"z\",10^15,BE9))","v":23},1,{"$f":"IF(BH9=\"f\",VLOOKUP(VALUE(BI9),tabulka_kce_def,23,FALSE),W9)","v":20.887937951028093},null,null,9.81,{"$f":"IF(OR(MID($D9,2,1)=\"1\",MID($D9,2,1)=\"2\",MID($D9,2,1)=\"3\",MID($D9,2,1)=\"4\"),$S9,(($Q9*$R9)/(2*($Q9+$R9))))","v":2.4},{"$f":"IF(($W9+$D$1)/2<0,0,($W9+$D$1)/2)","v":19.829056677546063},{"$f":"1/(273.15+(AH9))","v":3.4132132560608388E-3},{"$f":"VLOOKUP(ROUND(AH9,0),tabulka_FyzVl_vzduch,6,TRUE)*10^-6","v":1.5688E-5},{"$f":"VLOOKUP(ROUND(AH9,0),tabulka_FyzVl_vzduch,4,TRUE)","v":2.5100000000000001E-2},{"$f":"VLOOKUP(ROUND(AH9,0),tabulka_FyzVl_vzduch,8,TRUE)","v":0.72},{"$f":"ABS($D$1-$W9)","v":2.1177625469640589},{"$f":"$AF9*AI9*AM9*($AG9^3)/(AJ9^2)","v":3982981216.4816628},{"$f":"IF(AN9*AL9>2*10^7,4,IF(AN9*AL9>5*10^2,3,IF(AN9*AL9>10^-3,2,1)))","v":4},{"$f":"VLOOKUP($AO9,tabulka_exponenty_Michejev,4,FALSE)","v":0.13500000000000001},{"$f":"VLOOKUP($AO9,tabulka_exponenty_Michejev,5,FALSE)","v":0.33333333333333331},{"$f":"IF(OR(MID($D9,2,1)=\"1\",MID($D9,2,1)=\"2\",MID($D9,2,1)=\"3\",MID($D9,2,1)=\"4\"),AP9*((AN9*AL9)^AQ9),IF(MID($D9,2,1)=\"5\",BQ9*((AN9*AL9)^BR9),0.27*(AN9*AL9)^(1/4)))","v":191.7994482089041},{"$f":"AR9*AK9/$AG9","v":2.0059025625181222},{"$f":"IF(($W9+$C9)/2<0,0,($W9+$C9)/2)","v":10.443968975514046},{"$f":"1/(273.15+(AT9))","v":3.5261680761847995E-3},{"$f":"VLOOKUP(ROUND(AT9,0),tabulka_FyzVl_vzduch,6,TRUE)*10^-6","v":1.4805E-5},{"$f":"VLOOKUP(ROUND(AT9,0),tabulka_FyzVl_vzduch,4,TRUE)","v":2.4400000000000002E-2},{"$f":"VLOOKUP(ROUND(AT9,0),tabulka_FyzVl_vzduch,8,TRUE)","v":0.72},{"$f":"ABS($C9-$W9)","v":20.887937951028093},{"$f":"$AF9*AU9*AY9*($AG9^3)/(AV9^2)","v":45570572754.547371},{"$f":"IF(AZ9*AX9>2*10^7,4,IF(AZ9*AX9>5*10^2,3,IF(AZ9*AX9>10^-3,2,1)))","v":4},{"$f":"VLOOKUP($BA9,tabulka_exponenty_Michejev,4,FALSE)","v":0.13500000000000001},{"$f":"VLOOKUP($BA9,tabulka_exponenty_Michejev,5,FALSE)","v":0.33333333333333331},{"$f":"IF(OR(MID($D9,2,1)=\"1\",MID($D9,2,1)=\"2\",MID($D9,2,1)=\"3\",MID($D9,2,1)=\"4\"),BB9*((AZ9*AX9)^BC9),0.137*((AZ9*AX9)^(1/3)))","v":432.18805847858442},{"$f":"BD9*AW9/$AG9","v":4.3939119278656094},null,{"$f":"MID($D9,1,1)","v":"s"},{"$f":"MID($D9,3,1)","v":""},{"$f":"MID($D9,4,2)","v":""},{"$f":"MID($D9,2,1)","v":"1"},{"$f":"IF(MID($B9,1,2)=\"oo\",0,IF(AND(MID($B10,1,2)=\"oo\",BJ9=BJ10),IF(AND(MID($B11,1,2)=\"oo\",BJ9=BJ11),2,1),0))","v":1},{"$f":"IF(OR(MID($D9,2,1)=\"1\",MID($D9,2,1)=\"2\",MID($D9,2,1)=\"3\",MID($D9,2,1)=\"4\"),$S9,0.5*($Q9+$R9))","v":2.4},{"$f":"$P$2*BL9/AJ9","v":30596.634370219275},{"$f":"IF(BM9<=4*10^5,0.664*(BM9^0.5)*(AL9^(1/3)),0.054*(BM9^0.78)*(AL9^0.78))","v":104.0996029853266},{"$f":"BN9*AK9/BL9","v":1.0887083478882074},{"$f":"IF(AN9*AL9>8*10^6,4,IF(AN9*AL9>10^4,3,IF(AN9*AL9>200,2,1)))","v":4},{"$f":"VLOOKUP($BP9,tabulka_exponenty_ASHRAE,4,FALSE)","v":0.15},{"$f":"VLOOKUP($BP9,tabulka_exponenty_ASHRAE,5,FALSE)","v":0.33333333333333331}]
[{"$f":"IF(ISNUMBER(A9),A9+1,\"=\")","v":2},"ooz3",null,"s1",0,6.95,0,0,7.85,0,0,6.95,2,0,7.85,2,{"$f":"IF(OR(MID($D10,2,1)=\"1\",MID($D10,2,1)=\"2\"),0,ABS(E10-H10))","v":0},{"$f":"IF(OR(MID($D10,2,1)=\"3\",MID($D10,2,1)=\"4\"),0,ABS(F10-O10))","v":0.89999999999999947},{"$f":"IF(OR(MID($D10,2,1)=\"5\",MID($D10,2,1)=\"6\"),0,ABS(G10-P10))","v":2},{"$f":"IF(OR(MID($D10,2,1)=\"1\",MID($D10,2,1)=\"2\"),R10*S10,IF(OR(MID($D10,2,1)=\"3\",MID($D10,2,1)=\"4\"),Q10*S10,Q10*R10))","v":1.7999999999999989},{"$f":"IF(MID($B10,1,2)=\"oo\",T10,IF(MID($B11,1,2)=\"oo\",IF(MID($B12,1,2)=\"oo\",T10-U11-U12,T10-U11),T10))","v":1.7999999999999989},0.4,14.304531036006335,0.9,{"$f":"1/(V10+(1/AA10))","v":2.2549019607843137},{"$f":"MAX(AS10,BO10)","v":2.589592687770903},23,1,14.304531036006335,null,null,{"$f":"AF9","v":9.81},{"$f":"IF(OR(MID($D10,2,1)=\"1\",MID($D10,2,1)=\"2\",MID($D10,2,1)=\"3\",MID($D10,2,1)=\"4\"),$S10,(($Q10*$R10)/(2*($Q10+$R10))))","v":2},{"$f":"IF(($W10+$D$1)/2<0,0,($W10+$D$1)/2)","v":16.537353220035186},{"$f":"1/(273.15+(AH10))","v":3.4519974340765894E-3},1.5422999999999998E-5,2.4889999999999999E-2,0.72,{"$f":"ABS($D$1-$W10)","v":4.4656443680576992},5085994374.635828,{"$f":"IF(AN10*AL10>2*10^7,4,IF(AN10*AL10>5*10^2,3,IF(AN10*AL10>10^-3,2,1)))","v":4},{"$f":"VLOOKUP($AO10,tabulka_exponenty_Michejev,4,FALSE)","v":0.13500000000000001},0.33333333333333331,{"$f":"IF(OR(MID($D10,2,1)=\"1\",MID($D10,2,1)=\"2\",MID($D10,2,1)=\"3\",MID($D10,2,1)=\"4\"),AP10*((AN10*AL10)^AQ10),IF(MID($D10,2,1)=\"5\",BQ10*((AN10*AL10)^BR10),0.27*(AN10*AL10)^(1/4)))","v":208.08298013426301},2.589592687770903,{"$f":"IF(($W10+$C10)/2<0,0,($W10+$C10)/2)","v":7.1522655180031673},{"$f":"1/(273.15+(AT10))","v":3.5675773014248878E-3},1.4539999999999998E-5,2.419E-2,0.72,{"$f":"ABS($C10-$W10)","v":14.304531036006335},18944240466.344875,{"$f":"IF(AZ10*AX10>2*10^7,4,IF(AZ10*AX10>5*10^2,3,IF(AZ10*AX10>10^-3,2,1)))","v":4},0.13500000000000001,0.33333333333333331,322.55491694295785,{"$f":"BD10*AW10/$AG10","v":3.9013017204250753},null,{"$f":"MID($D10,1,1)","v":"s"},{"$f":"MID($D10,3,1)","v":""},{"$f":"MID($D10,4,2)","v":""},{"$f":"MID($D10,2,1)","v":"1"},0,{"$f":"IF(OR(MID($D10,2,1)=\"1\",MID($D10,2,1)=\"2\",MID($D10,2,1)=\"3\",MID($D10,2,1)=\"4\"),$S10,0.5*($Q10+$R10))","v":2},{"$f":"$P$2*BL10/AJ10","v":25935.291447837652},{"$f":"IF(BM10<=4*10^5,0.664*(BM10^0.5)*(AL10^(1/3)),0.054*(BM10^0.78)*(AL10^0.78))","v":95.842428869790581},{"$f":"BN10*AK10/BL10","v":1.1927590272845436},{"$f":"IF(AN10*AL10>8*10^6,4,IF(AN10*AL10>10^4,3,IF(AN10*AL10>200,2,1)))","v":4},0.15,0.33333333333333331]
[3,"os2",null,"s1",0,0,2.4,0,14.9,2.4,0,0,5.95,0,14.9,5.95,0,14.9,3.5500000000000003,52.895000000000003,52.895000000000003,3.4,21.384327530246765,0.9,0.29040404040404039,2.1511553746835563,23,1,21.384327530246765,null,null,{"$f":"AF10","v":9.81},3.5500000000000003,20.077251467155399,3.41032422803994E-3,1.5688E-5,2.5100000000000001E-2,0.72,2.6141521261827307,15898107623.853319,4,0.13500000000000001,0.33333333333333331,304.24707490544324,2.1511553746835563,10.692163765123382,3.5230847550453792E-3,1.4893E-5,2.4469999999999999E-2,0.72,21.384327530246765,149076221413.63791,4,0.13500000000000001,0.33333333333333331,641.57494107863045,4.4223489600546717,null,"s","","","1",{"$f":"IF(MID($B11,1,2)=\"oo\",0,IF(AND(MID($B12,1,2)=\"oo\",BJ11=BJ12),IF(AND(MID($B13,1,2)=\"oo\",BJ11=BJ13),2,1),0))","v":0},3.5500000000000003,45257.521672616022,126.6069739769567,0.8951648019215811,{"$f":"IF(AN11*AL11>8*10^6,4,IF(AN11*AL11>10^4,3,IF(AN11*AL11>200,2,1)))","v":4},0.15,0.33333333333333331]
[4,"os1",null,"s4",0,14.9,0,1.74,14.9,0,0,14.9,2.4,1.74,14.9,2.4,1.74,0,2.4,4.1760000000000002,4.1760000000000002,2.5,17.48407538624928,0.9,0.39316239316239315,1.705256740363909,23,1,17.48407538624928,null,null,9.81,2.4,18.127125395156657,3.4331566498514614E-3,1.5512E-5,2.496E-2,0.72,1.2861000178147535,2488487735.7527614,4,0.13500000000000001,0.33333333333333331,163.96699426576046,1.705256740363909,8.7420376931246402,3.5474574173273645E-3,1.4715999999999999E-5,2.4330000000000001E-2,0.72,17.48407538624928,38840341127.707947,4,0.13500000000000001,0.33333333333333331,409.76885463650592,4.1540317638775797,null,"s","","","4",{"$f":"IF(MID($B12,1,2)=\"oo\",0,IF(AND(MID($B13,1,2)=\"oo\",BJ12=BJ13),IF(AND(MID($B14,1,2)=\"oo\",BJ12=BJ14),2,1),0))","v":0},2.4,30943.785456420836,104.68849718348613,1.0887603707082558,4,0.15,0.33333333333333331]
[5,"os2",null,"s4",0,14.9,2.4,1.74,14.9,2.4,0,14.9,5.95,1.74,14.9,5.95,1.74,0,3.5500000000000003,6.1770000000000005,6.1770000000000005,3.4,17.743820353951094,0.9,0.29040404040404039,1.5814890975768345,23,1,17.743820353951094,null,null,9.81,3.5500000000000003,18.256997879007564,3.4316265816485333E-3,1.5512E-5,2.496E-2,0.72,1.0263550501129401,6424156631.6651754,4,0.13500000000000001,0.33333333333333331,224.9313420031155,1.5814890975768345,8.8719101769755468,3.5458237956493377E-3,1.4715999999999999E-5,2.4330000000000001E-2,0.72,17.743820353951094,127508398266.18468,4,0.13500000000000001,0.33333333333333331,609.00968244559704,4.1738607250426405,null,"s","","","4",0,3.5500000000000003,45771.015987622493,127.32319296611149,0.89520757646032179,4,0.15,0.33333333333333331]
[6,"os1",10,"s4",1.74,14.9,0,36,14.9,0,1.74,14.9,2.4,36,14.9,2.4,34.26,0,2.4,82.22399999999999,82.22399999999999,2.5,22.078679971822083,0.9,0.36013712429396422,2.325952149696461,3.6137595987781146,1,22.078679971822083,null,null,9.81,2.4,20.424427687943059,3.406291235498743E-3,1.5688E-5,2.5100000000000001E-2,0.72,3.3085045677580496,6209849671.2457924,4,0.13500000000000001,0.33333333333333331,222.40179917416359,2.325952149696461,16.039339985911042,3.4579421221014538E-3,1.5335000000000001E-5,2.4819999999999998E-2,0.72,12.078679971822083,24086426183.338058,4,0.13500000000000001,0.33333333333333331,{"$f":"IF(OR(MID($D14,2,1)=\"1\",MID($D14,2,1)=\"2\",MID($D14,2,1)=\"3\",MID($D14,2,1)=\"4\"),BB14*((AZ14*AX14)^BC14),0.137*((AZ14*AX14)^(1/3)))","v":349.43686692455583},{"$f":"BD14*AW14/$AG14","v":3.6137595987781146},null,"s","","","4",0,2.4,30596.634370219275,104.0996029853266,1.0887083478882074,4,0.15,0.33333333333333331]
[7,"os2",10,"s4",1.74,14.9,2.4,36,14.9,2.4,1.74,14.9,5.95,36,14.9,5.95,34.26,0,3.5500000000000003,121.623,121.623,3.4,22.449005906357346,0.9,0.27218238777070763,2.4069041460962959,3.6495416995295922,1,22.449005906357346,null,null,9.81,3.5500000000000003,20.609590655210688,3.4041441771128847E-3,1.5775999999999999E-5,2.5170000000000001E-2,0.72,3.6788305022933123,22084013080.291054,4,0.13500000000000001,0.33333333333333331,339.47197928652565,2.4069041460962959,16.224502953178671,3.4557294778724923E-3,1.5335000000000001E-5,2.4819999999999998E-2,0.72,12.449005906357346,80289899906.822571,4,0.13500000000000001,0.33333333333333331,521.99327289806831,3.6495416995295922,null,"s","","","4",0,3.5500000000000003,45005.070993914815,126.25336741774468,0.89515415715623492,4,0.15,0.33333333333333331]
[8,"ns1",18,"s2",36,8.6999999999999993,0,36,14.9,0,36,8.6999999999999993,5.95,36,14.9,5.95,0,6.2000000000000011,5.95,36.890000000000008,32.890000000000008,1.5,22.055255377475582,0.9,0.52588635770403935,2.320480666177497,2.4903405008799706,1,22.055255377475582,null,null,9.81,5.95,20.412715390769808,3.4064271365962509E-3,1.5688E-5,2.5100000000000001E-2,0.72,3.2850799734115483,93957141105.601379,4,0.13500000000000001,0.33333333333333331,550.0741021416776,2.320480666177497,20.027627688737791,3.4109014657205867E-3,1.5688E-5,2.5100000000000001E-2,0.72,4.0552553774755822,116137407125.09216,4,0.13500000000000001,0.33333333333333331,590.33968048748307,2.4903405008799706,null,"s","","","2",2,5.95,75854.156042835297,163.90867335594049,0.6914466724763203,4,0.15,0.33333333333333331]
[9,"ooz1",18,"s2",36,9.1999999999999993,1,36,11.2,1,36,9.1999999999999993,2,36,11.2,2,0,2,1,2,2,0.4,19.685256472804507,0.9,1.0674016417876784,1.6866531941408553,1.8627021936553858,1,19.685256472804507,null,null,9.81,1,19.227715938434272,3.4202332992113848E-3,1.56E-5,2.503E-2,0.72,0.91508106874047357,126163901.9835311,4,0.13500000000000001,0.33333333333333331,60.686157247913208,1.5189745159152677,18.842628236402255,3.4247439945312001E-3,1.56E-5,2.503E-2,0.72,1.6852564728045074,232655823.33895919,4,0.13500000000000001,0.33333333333333331,74.418785203970671,1.8627021936553858,null,"s","","","2",0,1,12820.512820512822,67.385265447097694,1.6866531941408553,4,0.15,0.33333333333333331]
[10,"ooz1",18,"s2",36,11.65,1,36,13.65,1,36,11.65,2,36,13.65,2,0,2,1,2,2,0.4,19.781168339176524,0.9,1.0786685225847681,1.6866531941408553,1.897285291511283,1,19.781168339176524,null,null,9.81,1,19.275671871620279,3.4196724029038625E-3,1.56E-5,2.503E-2,0.72,1.0109929351124904,139364587.91831014,4,0.13500000000000001,0.33333333333333331,62.732906911568541,1.5702046599965607,18.890584169588262,3.4241816179195806E-3,1.56E-5,2.503E-2,0.72,1.7811683391765243,245856428.81350511,4,0.13500000000000001,0.33333333333333331,75.800451119108388,1.897285291511283,null,"s","","","2",0,1,12820.512820512822,67.385265447097694,1.6866531941408553,4,0.15,0.33333333333333331]
[11,"ns1",18,"s2",36,0,0,36,8.6999999999999993,0,36,0,5.95,36,8.6999999999999993,5.95,0,8.6999999999999993,5.95,51.765000000000001,40.765000000000001,1.5,22.47818164051737,0.9,0.52949734047070862,2.4132102726791027,2.5734487204244498,1,22.47818164051737,null,null,9.81,5.95,20.624178522290702,3.4039751384212381E-3,1.5775999999999999E-5,2.5170000000000001E-2,0.72,3.7080062364533362,104797987993.86769,4,0.13500000000000001,0.33333333333333331,570.46488368854432,2.4132102726791027,20.239090820258685,3.4084430242589969E-3,1.5688E-5,2.5100000000000001E-2,0.72,4.47818164051737,128157045595.14996,4,0.13500000000000001,0.33333333333333331,610.04063292930186,2.5734487204244498,null,"s","","","2",2,5.95,75431.034482758638,163.45088512998586,0.69143845020533512,4,0.15,0.33333333333333331]
[12,"ooz1",18,"s2",36,6.7,1,36,8.6999999999999993,1,36,6.7,2,36,8.6999999999999993,2,0,1.9999999999999991,1,1.9999999999999991,1.9999999999999991,0.4,19.537121135421057,0.9,1.0487375226754199,1.6866531941408553,1.8065951870553081,1,19.537121135421057,null,null,9.81,1,19.153648269742547,3.4210999620407877E-3,1.56E-5,2.503E-2,0.72,0.76694573135702271,105767005.67869127,4,0.13500000000000001,0.33333333333333331,57.221776550144256,1.4322610670501108,18.76856056771053,3.4256129451147041E-3,1.56E-5,2.503E-2,0.72,1.5371211354210566,212259040.12875313,4,0.13500000000000001,0.33333333333333331,72.177194848394251,1.8065951870553081,null,{"$f":"MID($D20,1,1)","v":"s"},"","","2",0,1,12820.512820512822,67.385265447097694,1.6866531941408553,4,0.15,0.33333333333333331]
[13,"ooz2",18,"s2",36,3.1,0,36,6.1,0,36,3.1,3,36,6.1,3,0,2.9999999999999996,3,8.9999999999999982,8.9999999999999982,0.8,20.208861728004312,0.9,0.77477151625044605,1.7657251422557179,2.0378921475242207,1,20.208861728004312,null,null,9.81,3,19.489518566034171,3.4171734730159141E-3,1.56E-5,2.503E-2,0.72,1.4386863239402778,5350775334.3843937,4,0.13500000000000001,0.33333333333333331,211.63305740180397,1.7657251422557179,19.104430864002154,3.4216760958718901E-3,1.56E-5,2.503E-2,0.72,2.2088617280043117,8226043486.3496208,4,0.13500000000000001,0.33333333333333331,244.25395295935525,2.0378921475242207,null,"s","","","2",0,3,38461.538461538468,116.71470343588875,0.97378967566676522,4,0.15,0.33333333333333331]
[14,"ns1",18,"s3",6.1,0,0,36,0,0,6.1,0,5.95,36,0,5.95,29.9,0,5.95,177.905,168.905,1.5,20.715213623321713,0.9,0.51067015565742191,1.9500068523939622,2.1823999026369609,1,20.715213623321713,null,null,9.81,5.95,19.742694513692875,3.4142196740699167E-3,1.5688E-5,2.5100000000000001E-2,0.72,1.9450382192576789,55757634837.164108,4,0.13500000000000001,0.33333333333333331,462.25262038821018,1.9500068523939622,19.357606811660858,3.4187145110515975E-3,1.56E-5,2.503E-2,0.72,2.7152136233217128,78820202673.310715,4,0.13500000000000001,0.33333333333333331,518.78863047103141,2.1823999026369609,null,"s","","","3",1,5.95,75854.156042835297,163.90867335594049,0.6914466724763203,4,0.15,0.33333333333333331]
[15,"ooz2",18,"s3",19.600000000000001,0,0,22.6,0,0,19.600000000000001,0,3,22.6,0,3,3,0,3,9,9,0.8,20.414810717622299,0.9,0.7834580448610543,1.8442687983343351,2.0991092982937745,1,20.414810717622299,null,null,9.81,3,19.592493060843168,3.4159714551319398E-3,1.5688E-5,2.5100000000000001E-2,0.72,1.6446353135582648,6046185317.9136305,4,0.13500000000000001,0.33333333333333331,220.43053366545837,1.8442687983343351,19.207405358811151,3.4204709087929442E-3,1.56E-5,2.503E-2,0.72,2.4148107176222986,8989852592.6194344,4,0.13500000000000001,0.33333333333333331,251.59120634763576,2.0991092982937745,null,"s","","","3",0,3,38245.792962774103,116.38689435296516,0.97377034941980856,4,0.15,0.33333333333333331]
[16,"ns1",5,"s3",0,0,0,6.1,0,0,0,0,5.95,6.1,0,5.95,6.1,0,5.95,36.295000000000002,36.295000000000002,1.5,20.608738062670845,0.9,0.57067437142103994,1.9138705148988384,3.9633345569439613,1,20.608738062670845,null,null,9.81,5.95,19.68945673336744,3.4148403741593733E-3,1.5688E-5,2.5100000000000001E-2,0.72,1.8385626586068113,52714924161.962929,4,0.13500000000000001,0.33333333333333331,453.68643679872861,1.9138705148988384,12.804369031335423,3.4970614486062226E-3,1.507E-5,2.461E-2,0.72,15.608738062670845,496666028995.35553,4,0.13500000000000001,0.33333333333333331,958.22188597385491,3.9633345569439613,null,"s","","","3",0,5.95,75854.156042835297,163.90867335594049,0.6914466724763203,4,0.15,0.33333333333333331]
[17,"npdl1","z","s5",0,0,0,36,0,0,0,14.9,0,36,14.9,0,36,14.9,0,536.4,536.4,1.08,21.5895425358853,0.9,0.92592592592592493,2.4508621286141401,1000000000000000,1,21.5895425358853,null,null,9.81,5.269155206286837,20.179858969974667,3.4091312882755672E-3,1.5688E-5,2.5100000000000001E-2,0.72,2.8193671318212665,56046975132.447876,4,0.13500000000000001,0.33333333333333331,514.50091413858308,2.4508621286141401,{"$error":"#VALUE!"},{"$error":"#VALUE!"},{"$error":"#VALUE!"},{"$error":"#VALUE!"},{"$error":"#VALUE!"},{"$error":"#VALUE!"},{"$error":"#VALUE!"},{"$error":"#VALUE!"},{"$error":"#VALUE!"},{"$error":"#VALUE!"},{"$error":"#VALUE!"},{"$error":"#VALUE!"},null,"s","","","5",0,25.45,324451.8103008669,338.99035805261212,0.33432840813833259,4,0.15,0.33333333333333331]
[18,"ns2",null,"s6f28",{"$f":"E25","v":0},{"$f":"F25","v":0},5.95,{"$f":"H25","v":36},{"$f":"I25","v":0},5.95,{"$f":"K25","v":0},{"$f":"L25","v":14.9},5.95,{"$f":"N25","v":36},{"$f":"O25","v":14.9},5.95,36,14.9,0,536.4,{"$f":"T26-U27","v":446.84999999999997},0,21.141279371622549,1,23,0.55214150739515788,23,0,21.141279371622549,null,null,9.81,5.269155206286837,19.955727387843289,3.4117381769097274E-3,1.5688E-5,2.5100000000000001E-2,0.72,2.3711039675585148,47171872067.325325,4,0.13500000000000001,0.33333333333333331,115.90913539036886,0.55214150739515788,10.570639685811274,3.5245937733236034E-3,1.4893E-5,2.4469999999999999E-2,0.72,21.141279371622549,482134197459.5177,4,0.13500000000000001,0.33333333333333331,962.83982417353479,4.4714360414768581,null,"s","f","28","6",0,25.45,324451.8103008669,338.99035805261212,0.33432840813833259,4,0.15,0.33333333333333331]
[19,"ns2",null,"s6f29",{"$f":"E37","v":6.15},{"$f":"F37","v":5.9},5.95,{"$f":"H37","v":36},{"$f":"I37","v":5.9},5.95,{"$f":"K37","v":6.15},{"$f":"L37","v":8.9},5.95,{"$f":"N37","v":36},{"$f":"O37","v":8.9},5.95,29.85,3,0,89.550000000000011,89.550000000000011,0,12.23382597159998,1,23,1.0015880731104128,23,1,12.23382597159998,null,null,9.81,1.3630136986301371,15.502000687832007,3.4643792442702261E-3,1.5335000000000001E-5,2.4819999999999998E-2,0.72,6.5363494324640534,2392008937.9223213,4,0.13500000000000001,0.33333333333333331,55.00315326486929,1.0015880731104128,6.1169129857999902,3.580803716804244E-3,1.4452E-5,2.4119999999999999E-2,0.72,12.23382597159998,5210226187.3991385,4,0.13500000000000001,0.33333333333333331,212.87120819604667,3.7669860155102621,null,"s","f","29","6",0,16.425000000000001,214215.84610368437,275.44699680858446,0.41623101739963869,4,0.15,0.33333333333333331]
[20,"ns2",null,"h5f17",{"$f":"E26","v":0},{"$f":"F26","v":0},5.95,{"$f":"H26","v":36},{"$f":"I26","v":0},5.95,{"$f":"K26","v":0},{"$f":"L26","v":14.9},5.95,{"$f":"N26","v":36},{"$f":"O26","v":14.9},5.95,36,14.9,0,536.4,536.4,0,21.5895425358853,1,23,2.4508621286141401,23,1,21.5895425358853,null,null,9.81,{"$f":"IF(OR(MID($D28,2,1)=\"1\",MID($D28,2,1)=\"2\",MID($D28,2,1)=\"3\",MID($D28,2,1)=\"4\"),$S28,(($Q28*$R28)/(2*($Q28+$R28))))","v":5.269155206286837},20.179858969974667,3.4091312882755672E-3,1.5688E-5,2.5100000000000001E-2,0.72,2.8193671318212665,56046975132.447876,4,0.13500000000000001,0.33333333333333331,514.50091413858308,2.4508621286141401,10.79477126794265,3.5218116379975755E-3,1.4893E-5,2.4469999999999999E-2,0.72,21.5895425358853,491968352551.01483,4,0.13500000000000001,0.33333333333333331,969.34220306360282,4.5016331423802676,null,"h","f","17","5",0,25.45,324451.8103008669,338.99035805261212,0.33432840813833259,4,0.15,0.33333333333333331]
[21,"ns2",null,"h5f17",{"$f":"E27","v":6.15},{"$f":"F27","v":5.9},5.95,{"$f":"H27","v":36},{"$f":"I27","v":5.9},5.95,{"$f":"K27","v":6.15},{"$f":"L27","v":8.9},5.95,{"$f":"N27","v":36},{"$f":"O27","v":8.9},5.95,{"$f":"IF(OR(MID($D29,2,1)=\"1\",MID($D29,2,1)=\"2\"),0,ABS(E29-H29))","v":29.85},{"$f":"IF(OR(MID($D29,2,1)=\"3\",MID($D29,2,1)=\"4\"),0,ABS(F29-O29))","v":3},{"$f":"IF(OR(MID($D29,2,1)=\"5\",MID($D29,2,1)=\"6\"),0,ABS(G29-P29))","v":0},{"$f":"IF(OR(MID($D29,2,1)=\"1\",MID($D29,2,1)=\"2\"),R29*S29,IF(OR(MID($D29,2,1)=\"3\",MID($D29,2,1)=\"4\"),Q29*S29,Q29*R29))","v":89.550000000000011},89.550000000000011,{"$f":"VLOOKUP(B29,tabulka_konstrukce,2,FALSE)","v":0},21.5895425358853,1,{"$f":"1/(V29+(1/AA29))","v":23},2.4508621286141388,{"$f":"IF(ISBLANK($C29),23,IF(MID($C29,1,1)=\"z\",10^15,BE29))","v":23},1,21.5895425358853,null,null,9.81,1.3630136986301371,20.179858969974667,{"$f":"1/(273.15+(AH29))","v":3.4091312882755672E-3},1.5688E-5,2.5100000000000001E-2,0.72,2.8193671318212665,{"$f":"$AF29*AI29*AM29*($AG29^3)/(AJ29^2)","v":970129848.44266725},{"$f":"IF(AN29*AL29>2*10^7,4,IF(AN29*AL29>5*10^2,3,IF(AN29*AL29>10^-3,2,1)))","v":4},0.13500000000000001,0.33333333333333331,133.08998624521467,{"$f":"AR29*AK29/$AG29","v":2.4508621286141388},10.79477126794265,{"$f":"1/(273.15+(AT29))","v":3.5218116379975755E-3},1.4893E-5,2.4469999999999999E-2,0.72,21.5895425358853,{"$f":"$AF29*AU29*AY29*($AG29^3)/(AV29^2)","v":8515592182.6473703},{"$f":"IF(AZ29*AX29>2*10^7,4,IF(AZ29*AX29>5*10^2,3,IF(AZ29*AX29>10^-3,2,1)))","v":4},0.13500000000000001,0.33333333333333331,{"$f":"IF(OR(MID($D29,2,1)=\"1\",MID($D29,2,1)=\"2\",MID($D29,2,1)=\"3\",MID($D29,2,1)=\"4\"),BB29*((AZ29*AX29)^BC29),0.137*((AZ29*AX29)^(1/3)))","v":250.74734937767604},{"$f":"BD29*AW29/$AG29","v":4.5016331423802658},null,"h","f","17","5",{"$f":"IF(MID($B29,1,2)=\"oo\",0,IF(AND(MID($B30,1,2)=\"oo\",BJ29=BJ30),IF(AND(MID($B31,1,2)=\"oo\",BJ29=BJ31),2,1),0))","v":0},16.425000000000001,209395.71647118818,272.3304109804435,0.41616397659720744,4,0.15,0.33333333333333331]
[22,"os2",null,"h1",0,0,5.95,0,14.9,5.95,0,0,6.9,0,14.9,6.9,0,14.9,0.95000000000000018,14.155000000000003,14.155000000000003,3.4,18.085966728551817,0.9,0.29040404040404039,1.7305180081118603,23,1,18.085966728551817,null,null,9.81,0.95000000000000018,18.428071066307925,3.4296131953372769E-3,1.5512E-5,2.496E-2,0.72,0.68420867551221676,82023434.298755378,4,0.13500000000000001,0.33333333333333331,52.572333028355402,1.3812688761976322,9.0429833642759085,3.5436742192456461E-3,1.4715999999999999E-5,2.4330000000000001E-2,0.72,18.085966728551817,2489177011.9314108,4,0.13500000000000001,0.33333333333333331,163.98213172030941,4.1996686997422392,null,"h","","","1",0,0.95000000000000018,12248.581743166584,65.865068417719058,1.7305180081118603,4,0.15,0.33333333333333331]
[23,"os2",null,"h4",0,14.9,5.95,1.74,14.9,5.95,0,14.9,6.9,1.74,14.9,6.9,1.74,0,0.95000000000000018,1.6530000000000002,{"$f":"IF(MID($B31,1,2)=\"oo\",T31,IF(MID($B32,1,2)=\"oo\",IF(MID($B33,1,2)=\"oo\",T31-U32-U33,T31-U32),T31))","v":1.6530000000000002},3.4,16.275072406794344,0.9,0.29040404040404039,2.1282783917091357,23,1,16.275072406794344,null,null,9.81,0.95000000000000018,17.522623905429189,3.4402964633000722E-3,1.5512E-5,2.496E-2,0.72,2.4951029972696901,300046508.86852264,4,0.13500000000000001,0.33333333333333331,81.004185581878176,2.1282783917091357,8.1375362033971719,3.5550810871225612E-3,1.4628E-5,2.426E-2,0.72,16.275072406794344,2274271768.0322928,4,0.13500000000000001,0.33333333333333331,159.12022615750266,4.0634280911379088,null,"h","","","4",0,0.95000000000000018,12248.581743166584,65.865068417719058,1.7305180081118603,4,0.15,0.33333333333333331]
[24,"os2",10,"h4",1.74,14.9,5.95,36,14.9,5.95,1.74,14.9,6.9,36,14.9,6.9,34.26,0,0.95000000000000018,32.547000000000004,32.547000000000004,3.4,19.251858689125875,0.9,0.27015054376661823,1.7304696646637963,3.315212577655998,1,19.251858689125875,null,null,9.81,0.95000000000000018,19.011017046594954,3.4227701221361657E-3,1.56E-5,2.503E-2,0.72,0.4816832850618411,56980982.709963948,4,0.13500000000000001,0.33333333333333331,46.560887047682307,1.2267568450563031,14.625929344562937,3.4749257947931751E-3,1.5247E-5,2.4750000000000001E-2,0.72,9.2518586891258749,1163176309.7121484,4,0.13500000000000001,0.33333333333333331,127.2505837888161,3.315212577655998,null,"h","","","4",0,0.95000000000000018,12179.487179487183,65.679032418322279,1.7304696646637963,4,0.15,0.33333333333333331]
[25,"ns1",18,"h2",36,0,5.95,36,14.9,5.95,36,0,6.9,36,14.9,6.9,0,14.9,0.95000000000000018,14.155000000000003,14.155000000000003,1.5,19.640176040200569,0.9,0.48978440804586754,1.7304696646637963,1.8459903285000794,1,19.640176040200569,null,null,9.81,0.95000000000000018,19.205175722132303,3.4204969948965283E-3,1.56E-5,2.503E-2,0.72,0.87000063613653467,102848842.87265205,4,0.13500000000000001,0.33333333333333331,56.690602235385846,1.4936481831070605,18.820088020100286,3.4250083862397453E-3,1.56E-5,2.503E-2,0.72,1.6401760402005685,194152384.68484542,4,0.13500000000000001,0.33333333333333331,70.063556215544381,1.8459903285000794,null,"h","","","2",0,0.95000000000000018,12179.487179487183,65.679032418322279,1.7304696646637963,4,0.15,0.33333333333333331]
[26,"ns1",18,"h3",6.1,0,5.95,36,0,5.95,6.1,0,6.9,36,0,6.9,29.9,0,0.95000000000000018,28.405000000000005,28.405000000000005,1.5,19.847501923301376,0.9,0.49487715766518869,1.7304696646637963,1.9204787709550259,1,19.847501923301376,null,null,9.81,0.95000000000000018,19.308838663682707,3.4192845891382502E-3,1.56E-5,2.503E-2,0.72,1.0773265192373422,127313138.93644968,4,0.13500000000000001,0.33333333333333331,60.869865568036879,1.6037607738610136,18.92375096165069,3.4237927807874123E-3,1.56E-5,2.503E-2,0.72,1.8475019233013761,218616530.46411717,4,0.13500000000000001,0.33333333333333331,72.890724426978622,1.9204787709550259,null,"h","","","3",0,0.95000000000000018,12179.487179487183,65.679032418322279,1.7304696646637963,4,0.15,0.33333333333333331]
[27,"ns1",5,"h3",0,0,5.95,6.1,0,5.95,0,0,6.9,6.1,0,6.9,6.1,0,0.95000000000000018,5.7950000000000008,5.7950000000000008,1.5,17.054899606813493,0.9,0.56374903616817307,1.877512640263199,3.6517814193583011,1,17.054899606813493,null,null,9.81,0.95000000000000018,17.912537505438763,3.4356877685824275E-3,1.5512E-5,2.496E-2,0.72,1.7152757972505412,205992723.49183849,4,0.13500000000000001,0.33333333333333331,71.459816035658633,1.877512640263199,11.027449803406746,3.5189280524960641E-3,1.4893E-5,2.4469999999999999E-2,0.72,12.054899606813493,1608605056.6080396,4,0.13500000000000001,0.33333333333333331,141.77328763344451,3.6517814193583011,null,"h","","","3",0,0.95000000000000018,12248.581743166584,65.865068417719058,1.7305180081118603,4,0.15,0.33333333333333331]
[28,"ostrech1",null,"h6",0,0,6.9,36,0,6.9,0,14.9,6.9,36,14.9,6.9,36,14.9,0,536.4,446.84999999999997,4,21.141279371622549,0.9,0.24731182795698922,0.55214150739515788,23,1,21.141279371622549,null,null,9.81,5.269155206286837,19.955727387843289,3.4117381769097274E-3,1.5688E-5,2.5100000000000001E-2,0.72,2.3711039675585148,47171872067.325325,4,0.13500000000000001,0.33333333333333331,115.90913539036886,0.55214150739515788,10.570639685811274,3.5245937733236034E-3,1.4893E-5,2.4469999999999999E-2,0.72,21.141279371622549,482134197459.5177,4,0.13500000000000001,0.33333333333333331,962.83982417353479,4.4714360414768581,null,"h","","","6",1,25.45,324451.8103008669,338.99035805261212,0.33432840813833259,4,0.15,0.33333333333333331]
[29,"ooz1",null,"h6",6.15,5.9,6.9,36,5.9,6.9,6.15,8.9,6.9,36,8.9,6.9,29.85,3,0,89.550000000000011,89.550000000000011,0.4,12.23382597159998,0.9,2.2549019607843137,1.0015880731104128,23,1,12.23382597159998,null,null,9.81,1.3630136986301371,15.502000687832007,3.4643792442702261E-3,1.5335000000000001E-5,2.4819999999999998E-2,0.72,6.5363494324640534,2392008937.9223213,4,0.13500000000000001,0.33333333333333331,55.00315326486929,1.0015880731104128,6.1169129857999902,3.580803716804244E-3,1.4452E-5,2.4119999999999999E-2,0.72,12.23382597159998,5210226187.3991385,4,0.13500000000000001,0.33333333333333331,212.87120819604667,3.7669860155102621,null,"h","","","6",0,16.425000000000001,214215.84610368437,275.44699680858446,0.41623101739963869,4,0.15,0.33333333333333331]
["="]

{"sheet":"Panely","index":3,"n_rows":29,"n_cols":73,"rows_kept":29,"cut":false,"hidden":false,"merged":[]}
[null,null,"ti [°C]",{"$f":"Konstrukce!D1","v":18.770175404064034},null,"te [°C]",{"$f":"Konstrukce!G1","v":-12}]
[null,null,"ti' [°C]",{"$f":"Konstrukce!D2","v":19.934229593106764},null,"tz [°C]",{"$f":"Konstrukce!G2","v":5}]
[]
[]
[1,2,3,4,5,6,7,8,9,10,11,12,13,14,15,16,17,18,19,20,21,22,23,24,25,26,27,28,29,30,31,32,33,34,35,36,37,38,39,40,41,42,43,44,45,46,47,48,49,50,51,52,53,54,55,56,57,58,59,60,61,62,63,64,65,66,67,68,69,70,71,72,73]
[null,null,null,null,null,null,"rozměry"]
[null,null,null,null,null,null,"bod1",null,null,"bod2",null,null,"bod3",null,null,"bod4",null,null,null,null,null,null,null,null,null,null,null,null,null,null,null,null,null,null,null,null,null,"součinitel přestupu tepla konvekcí na spodní straně",null,null,null,null,null,null,null,null,null,null,null,"součinitel přestupu tepla konvekcí na horní straně",null,null,null,null,null,null,"Michejev",null,null,null,null,null,null,null,null,null,"součinitel přestupu tepla konvekcí na horní straně - ASHRAE"]
["index","ID panelu","Typ panelu","orientace","tw1 [°C]","tw2 [°C]","x","y","z","x","y","z","x","y","z","x","y","z","X [m]","Y [m]","Z [m]","S [m2]","l [m]","tp [°C]","tp' [°C]","m [-]","aL [m]","λL [W/mK]","R2 [m2K/W]","Λ2 [W/m2K]","αks [W/m2K]","αkh [W/m2K]","ε [-]",null,null,"g [m/s2]","L ","ts [°C]","β [1/K]","νvz [m2/s]","λvz [W/mK]","Pr [-]","Δt [°C]","Gr [-]","index","K","n","Nu [-]","αk [W/m2K]","ts [°C]","β [1/K]","νvz [m2/s]","λvz [W/mK]","Pr [-]","Δt [°C]","Gr [-]","index","K","n","Nu [-]","αk [W/m2K]",{"$f":"MID(D9,4,2)","v":""},"plocha s/h?","fiktivni plocha/panel?","orientace","index","K","n"]
[{"$f":"MAX(Konstrukce!A9:A38)+1","v":30},6,{"$f":"VLOOKUP(B9,tabulka_panely,2,FALSE)","v":"KZ/1050"},"s6p",90,80,2.1,10.5,5.95,34.1,10.5,5.95,2.1,11.55,5.95,34.1,11.55,5.95,{"$f":"IF(OR(MID($D9,2,1)=\"1\",MID($D9,2,1)=\"2\"),0,ABS(G9-J9))","v":32},{"$f":"IF(OR(MID($D9,2,1)=\"3\",MID($D9,2,1)=\"4\"),0,ABS(H9-Q9))","v":1.0500000000000007},{"$f":"IF(OR(MID($D9,2,1)=\"5\",MID($D9,2,1)=\"6\"),0,ABS(I9-R9))","v":0},{"$f":"IF(OR(MID($D9,2,1)=\"1\",MID($D9,2,1)=\"2\"),T9*U9,IF(OR(MID($D9,2,1)=\"3\",MID($D9,2,1)=\"4\"),S9*U9,S9*T9))","v":33.600000000000023},{"$f":"VLOOKUP(B9,tabulka_panely,4,FALSE)","v":0.15},83.119244173431809,31.936243270463216,{"$f":"SQRT((AE9+AD9)/(AB9*AA9))","v":3.9597185930553711},{"$f":"VLOOKUP($B9,tabulka_panely,5,FALSE)","v":8.0000000000000004E-4},{"$f":"VLOOKUP($B9,tabulka_panely,6,FALSE)","v":237},{"$f":"VLOOKUP($B9,tabulka_panely,9,FALSE)","v":1.0526315789473684},{"$f":"1/(AC9+(1/AF9))","v":0.76964199772376141},{"$f":"AW9","v":2.2031668076175608},{"$f":"BI9","v":4.0539365518016766},{"$f":"VLOOKUP(B9,tabulka_panely,10)","v":0.9},null,null,9.81,{"$f":"IF(OR(MID($D9,2,1)=\"1\",MID($D9,2,1)=\"2\",MID($D9,2,1)=\"3\",MID($D9,2,1)=\"4\"),U9,((S9*T9)/(2*(S9+T9))))","v":0.50832072617246638},{"$f":"($X9+$D$1)/2","v":50.944709788747922},{"$f":"1/(273.15+(AL9))","v":3.0855178125302391E-3},{"$f":"VLOOKUP(ROUND(AL9,0),tabulka_FyzVl_vzduch,6,TRUE)*10^-6","v":1.8455999999999997E-5},{"$f":"VLOOKUP(ROUND(AL9,0),tabulka_FyzVl_vzduch,4,TRUE)","v":2.7199999999999998E-2},{"$f":"VLOOKUP(ROUND(AL9,0),tabulka_FyzVl_vzduch,8,TRUE)","v":0.72},{"$f":"ABS($X9-$D$1)","v":64.349068769367776},{"$f":"$AJ9*AM9*AQ9*($AK9^3)/(AN9^2)","v":751065169.89744544},{"$f":"IF(AR9*AP9>2*10^7,4,IF(AR9*AP9>5*10^2,3,IF(AR9*AP9>10^-3,2,1)))","v":4},{"$f":"VLOOKUP($AS9,tabulka_exponenty_Michejev,4,FALSE)","v":0.13500000000000001},{"$f":"VLOOKUP($AS9,tabulka_exponenty_Michejev,5,FALSE)","v":0.33333333333333331},{"$f":"IF(OR(MID($D9,2,1)=\"1\",MID($D9,2,1)=\"2\",MID($D9,2,1)=\"3\",MID($D9,2,1)=\"4\"),AT9*((AR9*AP9)^AU9),0.27*((AR9*AP9)^(1/4)))","v":41.173358512030632},{"$f":"AV9*AO9/$AK9","v":2.2031668076175608},{"$f":"IF(($Y9+$D$1)/2<0,0,($Y9+$D$1)/2)","v":25.353209337263625},{"$f":"1/(273.15+(AX9))","v":3.3500477338927058E-3},{"$f":"VLOOKUP(ROUND(AX9,0),tabulka_FyzVl_vzduch,6,TRUE)*10^-6","v":1.6129000000000001E-5},{"$f":"VLOOKUP(ROUND(AX9,0),tabulka_FyzVl_vzduch,4,TRUE)","v":2.545E-2},{"$f":"VLOOKUP(ROUND(AX9,0),tabulka_FyzVl_vzduch,8,TRUE)","v":0.72},{"$f":"ABS($Y9-$D$1)","v":13.166067866399182},{"$f":"$AJ9*AY9*BC9*($AK9^3)/(AZ9^2)","v":218461374.54822004},{"$f":"IF(BD9*BB9>2*10^7,4,IF(BD9*BB9>5*10^2,3,IF(BD9*BB9>10^-3,2,1)))","v":4},{"$f":"VLOOKUP($BE9,tabulka_exponenty_Michejev,4,FALSE)","v":0.13500000000000001},{"$f":"VLOOKUP($BE9,tabulka_exponenty_Michejev,5,FALSE)","v":0.33333333333333331},{"$f":"IF(OR(MID($D9,2,1)=\"1\",MID($D9,2,1)=\"2\",MID($D9,2,1)=\"3\",MID($D9,2,1)=\"4\"),BF9*((BD9*BB9)^BG9),BO9*((BD9*BB9)^BP9))","v":80.970529346519939},{"$f":"BH9*BA9/$AK9","v":4.0539365518016766},null,{"$f":"MID($D9,1,1)","v":"s"},{"$f":"MID($D9,3,1)","v":"p"},{"$f":"MID($D9,2,1)","v":"6"},{"$f":"IF(BD9*BB9>8*10^6,4,IF(BD9*BB9>10^4,3,IF(BD9*BB9>200,2,1)))","v":4},{"$f":"VLOOKUP($AS9,tabulka_exponenty_ASHRAE,4,FALSE)","v":0.15},{"$f":"VLOOKUP($AS9,tabulka_exponenty_ASHRAE,5,FALSE)","v":0.33333333333333331}]
[{"$f":"IF(ISNUMBER(A9),A9+1,\"=\")","v":31},6,"KZ/1050","s6p",80,70,2.1,3.3,5.95,34.1,3.3,5.95,2.1,4.3499999999999996,5.95,34.1,4.3499999999999996,5.95,{"$f":"IF(OR(MID($D10,2,1)=\"1\",MID($D10,2,1)=\"2\"),0,ABS(G10-J10))","v":32},{"$f":"IF(OR(MID($D10,2,1)=\"3\",MID($D10,2,1)=\"4\"),0,ABS(H10-Q10))","v":1.0499999999999998},{"$f":"IF(OR(MID($D10,2,1)=\"5\",MID($D10,2,1)=\"6\"),0,ABS(I10-R10))","v":0},{"$f":"IF(OR(MID($D10,2,1)=\"1\",MID($D10,2,1)=\"2\"),T10*U10,IF(OR(MID($D10,2,1)=\"3\",MID($D10,2,1)=\"4\"),S10*U10,S10*T10))","v":33.599999999999994},0.15,73.447386182804053,30.430385075367546,{"$f":"SQRT((AE10+AD10)/(AB10*AA10))","v":3.9026685159544026},8.0000000000000004E-4,237,1.0526315789473684,{"$f":"1/(AC10+(1/AF10))","v":0.76377784462921605},{"$f":"AW10","v":2.1239859203827463},{"$f":"BI10","v":3.8963621216446915},0.9,null,null,9.81,{"$f":"IF(OR(MID($D10,2,1)=\"1\",MID($D10,2,1)=\"2\",MID($D10,2,1)=\"3\",MID($D10,2,1)=\"4\"),U10,((S10*T10)/(2*(S10+T10))))","v":0.50832072617246593},{"$f":"($X10+$D$1)/2","v":46.108780793434043},{"$f":"1/(273.15+(AL10))","v":3.1322552742786341E-3},1.8065000000000001E-5,2.6919999999999999E-2,0.72,54.677210778740019,{"$f":"$AJ10*AM10*AQ10*($AK10^3)/(AN10^2)","v":676192003.36132634},{"$f":"IF(AR10*AP10>2*10^7,4,IF(AR10*AP10>5*10^2,3,IF(AR10*AP10>10^-3,2,1)))","v":4},0.13500000000000001,0.33333333333333331,{"$f":"IF(OR(MID($D10,2,1)=\"1\",MID($D10,2,1)=\"2\",MID($D10,2,1)=\"3\",MID($D10,2,1)=\"4\"),AT10*((AR10*AP10)^AU10),0.27*((AR10*AP10)^(1/4)))","v":40.106466026339191},2.1239859203827463,{"$f":"IF(($Y10+$D$1)/2<0,0,($Y10+$D$1)/2)","v":24.60028023971579},{"$f":"1/(273.15+(AX10))","v":3.3585190892008901E-3},1.6129000000000001E-5,2.545E-2,0.72,11.660209671303512,{"$f":"$AJ10*AY10*BC10*($AK10^3)/(AZ10^2)","v":193964279.814329},{"$f":"IF(BD10*BB10>2*10^7,4,IF(BD10*BB10>5*10^2,3,IF(BD10*BB10>10^-3,2,1)))","v":4},0.13500000000000001,0.33333333333333331,{"$f":"IF(OR(MID($D10,2,1)=\"1\",MID($D10,2,1)=\"2\",MID($D10,2,1)=\"3\",MID($D10,2,1)=\"4\"),BF10*((BD10*BB10)^BG10),BO10*((BD10*BB10)^BP10))","v":77.82324648743888},{"$f":"BH10*BA10/$AK10","v":3.8963621216446915},null,{"$f":"MID($D10,1,1)","v":"s"},{"$f":"MID($D10,3,1)","v":"p"},{"$f":"MID($D10,2,1)","v":"6"},{"$f":"IF(BD10*BB10>8*10^6,4,IF(BD10*BB10>10^4,3,IF(BD10*BB10>200,2,1)))","v":4},0.15,0.33333333333333331]
["=",null,{"$error":"#N/A"},null,null,null,null,null,null,null,null,null,null,null,null,null,null,null,0,0,0,0,{"$error":"#N/A"},{"$f":"($E11+$F11)/2","v":0},0,{"$error":"#DIV/0!"},{"$error":"#N/A"},{"$error":"#N/A"},{"$error":"#N/A"},{"$error":"#N/A"},{"$error":"#DIV/0!"},{"$error":"#DIV/0!"},{"$error":"#N/A"},null,null,9.81,{"$f":"IF(OR(MID($D11,2,1)=\"1\",MID($D11,2,1)=\"2\",MID($D11,2,1)=\"3\",MID($D11,2,1)=\"4\"),U11,((S11*T11)/(2*(S11+T11))))","v":{"$error":"#DIV/0!"}},9.3850877020320169,3.5393834023709756E-3,1.4715999999999999E-5,2.4330000000000001E-2,0.72,18.770175404064034,{"$f":"$AJ11*AM11*AQ11*($AK11^3)/(AN11^2)","v":{"$error":"#DIV/0!"}},{"$error":"#DIV/0!"},{"$error":"#DIV/0!"},{"$error":"#DIV/0!"},{"$error":"#DIV/0!"},{"$error":"#DIV/0!"},9.3850877020320169,3.5393834023709756E-3,1.4715999999999999E-5,2.4330000000000001E-2,0.72,18.770175404064034,{"$f":"$AJ11*AY11*BC11*($AK11^3)/(AZ11^2)","v":{"$error":"#DIV/0!"}},{"$error":"#DIV/0!"},{"$error":"#DIV/0!"},{"$error":"#DIV/0!"},{"$f":"IF(OR(MID($D11,2,1)=\"1\",MID($D11,2,1)=\"2\",MID($D11,2,1)=\"3\",MID($D11,2,1)=\"4\"),BF11*((BD11*BB11)^BG11),BO11*((BD11*BB11)^BP11))","v":{"$error":"#DIV/0!"}},{"$f":"BH11*BA11/$AK11","v":{"$error":"#DIV/0!"}},null,"","","",{"$error":"#DIV/0!"},{"$error":"#DIV/0!"},{"$error":"#DIV/0!"}]
["=",null,{"$error":"#N/A"},null,null,null,null,null,null,null,null,null,null,null,null,null,null,null,0,0,0,0,{"$error":"#N/A"},0,0,{"$error":"#DIV/0!"},{"$error":"#N/A"},{"$error":"#N/A"},{"$error":"#N/A"},{"$error":"#N/A"},{"$error":"#DIV/0!"},{"$error":"#DIV/0!"},{"$error":"#N/A"},null,null,9.81,{"$error":"#DIV/0!"},9.3850877020320169,3.5393834023709756E-3,1.4715999999999999E-5,2.4330000000000001E-2,0.72,18.770175404064034,{"$f":"$AJ12*AM12*AQ12*($AK12^3)/(AN12^2)","v":{"$error":"#DIV/0!"}},{"$error":"#DIV/0!"},{"$error":"#DIV/0!"},{"$error":"#DIV/0!"},{"$error":"#DIV/0!"},{"$error":"#DIV/0!"},9.3850877020320169,3.5393834023709756E-3,1.4715999999999999E-5,2.4330000000000001E-2,0.72,18.770175404064034,{"$error":"#DIV/0!"},{"$error":"#DIV/0!"},{"$error":"#DIV/0!"},{"$error":"#DIV/0!"},{"$f":"IF(OR(MID($D12,2,1)=\"1\",MID($D12,2,1)=\"2\",MID($D12,2,1)=\"3\",MID($D12,2,1)=\"4\"),BF12*((BD12*BB12)^BG12),BO12*((BD12*BB12)^BP12))","v":{"$error":"#DIV/0!"}},{"$f":"BH12*BA12/$AK12","v":{"$error":"#DIV/0!"}},null,"","","",{"$error":"#DIV/0!"},{"$error":"#DIV/0!"},{"$error":"#DIV/0!"}]
["=",null,{"$error":"#N/A"},null,null,null,null,null,null,null,null,null,null,null,null,null,null,null,0,0,0,0,{"$error":"#N/A"},0,0,{"$error":"#DIV/0!"},{"$error":"#N/A"},{"$error":"#N/A"},{"$error":"#N/A"},{"$error":"#N/A"},{"$error":"#DIV/0!"},{"$error":"#DIV/0!"},{"$error":"#N/A"},null,null,9.81,{"$error":"#DIV/0!"},9.3850877020320169,3.5393834023709756E-3,1.4715999999999999E-5,2.4330000000000001E-2,0.72,18.770175404064034,{"$f":"$AJ13*AM13*AQ13*($AK13^3)/(AN13^2)","v":{"$error":"#DIV/0!"}},{"$error":"#DIV/0!"},{"$error":"#DIV/0!"},{"$error":"#DIV/0!"},{"$error":"#DIV/0!"},{"$error":"#DIV/0!"},9.3850877020320169,3.5393834023709756E-3,1.4715999999999999E-5,2.4330000000000001E-2,0.72,18.770175404064034,{"$error":"#DIV/0!"},{"$error":"#DIV/0!"},{"$error":"#DIV/0!"},{"$error":"#DIV/0!"},{"$error":"#DIV/0!"},{"$error":"#DIV/0!"},null,"","","",{"$error":"#DIV/0!"},{"$error":"#DIV/0!"},{"$error":"#DIV/0!"}]
["=",null,{"$error":"#N/A"},null,null,null,null,null,null,null,null,null,null,null,null,null,null,null,0,0,0,0,{"$error":"#N/A"},0,0,{"$error":"#DIV/0!"},{"$error":"#N/A"},{"$error":"#N/A"},{"$error":"#N/A"},{"$error":"#N/A"},{"$error":"#DIV/0!"},{"$error":"#DIV/0!"},{"$error":"#N/A"},null,null,9.81,{"$error":"#DIV/0!"},9.3850877020320169,3.5393834023709756E-3,1.4715999999999999E-5,2.4330000000000001E-2,0.72,18.770175404064034,{"$error":"#DIV/0!"},{"$error":"#DIV/0!"},{"$error":"#DIV/0!"},{"$error":"#DIV/0!"},{"$error":"#DIV/0!"},{"$error":"#DIV/0!"},9.3850877020320169,3.5393834023709756E-3,1.4715999999999999E-5,2.4330000000000001E-2,0.72,18.770175404064034,{"$error":"#DIV/0!"},{"$error":"#DIV/0!"},{"$error":"#DIV/0!"},{"$error":"#DIV/0!"},{"$error":"#DIV/0!"},{"$error":"#DIV/0!"},null,"","","",{"$error":"#DIV/0!"},{"$error":"#DIV/0!"},{"$error":"#DIV/0!"}]
["=",null,{"$error":"#N/A"},null,null,null,null,null,null,null,null,null,null,null,null,null,null,null,0,0,0,0,{"$error":"#N/A"},0,0,{"$error":"#DIV/0!"},{"$error":"#N/A"},{"$error":"#N/A"},{"$error":"#N/A"},{"$error":"#N/A"},{"$error":"#DIV/0!"},{"$error":"#DIV/0!"},{"$error":"#N/A"},null,null,9.81,{"$error":"#DIV/0!"},9.3850877020320169,3.5393834023709756E-3,1.4715999999999999E-5,2.4330000000000001E-2,0.72,18.770175404064034,{"$error":"#DIV/0!"},{"$error":"#DIV/0!"},{"$error":"#DIV/0!"},{"$error":"#DIV/0!"},{"$error":"#DIV/0!"},{"$error":"#DIV/0!"},9.3850877020320169,3.5393834023709756E-3,1.4715999999999999E-5,2.4330000000000001E-2,0.72,18.770175404064034,{"$error":"#DIV/0!"},{"$error":"#DIV/0!"},{"$error":"#DIV/0!"},{"$error":"#DIV/0!"},{"$error":"#DIV/0!"},{"$error":"#DIV/0!"},null,"","","",{"$error":"#DIV/0!"},{"$error":"#DIV/0!"},{"$error":"#DIV/0!"}]
["=",null,{"$error":"#N/A"},null,null,null,null,null,null,null,null,null,null,null,null,null,null,null,0,0,0,0,{"$error":"#N/A"},0,0,{"$error":"#DIV/0!"},{"$error":"#N/A"},{"$error":"#N/A"},{"$error":"#N/A"},{"$error":"#N/A"},{"$error":"#DIV/0!"},{"$error":"#DIV/0!"},{"$error":"#N/A"},null,null,9.81,{"$error":"#DIV/0!"},9.3850877020320169,3.5393834023709756E-3,1.4715999999999999E-5,2.4330000000000001E-2,0.72,18.770175404064034,{"$error":"#DIV/0!"},{"$error":"#DIV/0!"},{"$error":"#DIV/0!"},{"$error":"#DIV/0!"},{"$error":"#DIV/0!"},{"$error":"#DIV/0!"},9.3850877020320169,3.5393834023709756E-3,1.4715999999999999E-5,2.4330000000000001E-2,0.72,18.770175404064034,{"$error":"#DIV/0!"},{"$error":"#DIV/0!"},{"$error":"#DIV/0!"},{"$error":"#DIV/0!"},{"$error":"#DIV/0!"},{"$error":"#DIV/0!"},null,"","","",{"$error":"#DIV/0!"},{"$error":"#DIV/0!"},{"$error":"#DIV/0!"}]
["=",null,{"$error":"#N/A"},null,null,null,null,null,null,null,null,null,null,null,null,null,null,null,0,0,0,0,{"$error":"#N/A"},0,0,{"$error":"#DIV/0!"},{"$error":"#N/A"},{"$error":"#N/A"},{"$error":"#N/A"},{"$error":"#N/A"},{"$error":"#DIV/0!"},{"$error":"#DIV/0!"},{"$error":"#N/A"},null,null,9.81,{"$error":"#DIV/0!"},9.3850877020320169,3.5393834023709756E-3,1.4715999999999999E-5,2.4330000000000001E-2,0.72,18.770175404064034,{"$error":"#DIV/0!"},{"$error":"#DIV/0!"},{"$error":"#DIV/0!"},{"$error":"#DIV/0!"},{"$error":"#DIV/0!"},{"$error":"#DIV/0!"},9.3850877020320169,3.5393834023709756E-3,1.4715999999999999E-5,2.4330000000000001E-2,0.72,18.770175404064034,{"$error":"#DIV/0!"},{"$error":"#DIV/0!"},{"$error":"#DIV/0!"},{"$error":"#DIV/0!"},{"$error":"#DIV/0!"},{"$error":"#DIV/0!"},null,"","","",{"$error":"#DIV/0!"},{"$error":"#DIV/0!"},{"$error":"#DIV/0!"}]
["=",null,{"$error":"#N/A"},null,null,null,null,null,null,null,null,null,null,null,null,null,null,null,0,0,0,0,{"$error":"#N/A"},0,0,{"$error":"#DIV/0!"},{"$error":"#N/A"},{"$error":"#N/A"},{"$error":"#N/A"},{"$error":"#N/A"},{"$error":"#DIV/0!"},{"$error":"#DIV/0!"},{"$error":"#N/A"},null,null,9.81,{"$error":"#DIV/0!"},9.3850877020320169,3.5393834023709756E-3,1.4715999999999999E-5,2.4330000000000001E-2,0.72,18.770175404064034,{"$error":"#DIV/0!"},{"$error":"#DIV/0!"},{"$error":"#DIV/0!"},{"$error":"#DIV/0!"},{"$error":"#DIV/0!"},{"$error":"#DIV/0!"},9.3850877020320169,3.5393834023709756E-3,1.4715999999999999E-5,2.4330000000000001E-2,0.72,18.770175404064034,{"$error":"#DIV/0!"},{"$error":"#DIV/0!"},{"$error":"#DIV/0!"},{"$error":"#DIV/0!"},{"$error":"#DIV/0!"},{"$error":"#DIV/0!"},null,"","","",{"$error":"#DIV/0!"},{"$error":"#DIV/0!"},{"$error":"#DIV/0!"}]
["=",null,{"$error":"#N/A"},null,null,null,null,null,null,null,null,null,null,null,null,null,null,null,0,0,0,0,{"$error":"#N/A"},0,0,{"$error":"#DIV/0!"},{"$error":"#N/A"},{"$error":"#N/A"},{"$error":"#N/A"},{"$error":"#N/A"},{"$error":"#DIV/0!"},{"$error":"#DIV/0!"},{"$error":"#N/A"},null,null,9.81,{"$error":"#DIV/0!"},9.3850877020320169,3.5393834023709756E-3,1.4715999999999999E-5,2.4330000000000001E-2,0.72,18.770175404064034,{"$error":"#DIV/0!"},{"$error":"#DIV/0!"},{"$error":"#DIV/0!"},{"$error":"#DIV/0!"},{"$error":"#DIV/0!"},{"$error":"#DIV/0!"},9.3850877020320169,3.5393834023709756E-3,1.4715999999999999E-5,2.4330000000000001E-2,0.72,18.770175404064034,{"$error":"#DIV/0!"},{"$error":"#DIV/0!"},{"$error":"#DIV/0!"},{"$error":"#DIV/0!"},{"$error":"#DIV/0!"},{"$error":"#DIV/0!"},null,"","","",{"$error":"#DIV/0!"},{"$error":"#DIV/0!"},{"$error":"#DIV/0!"}]
["=",null,{"$error":"#N/A"},null,null,null,null,null,null,null,null,null,null,null,null,null,null,null,0,0,0,0,{"$error":"#N/A"},0,0,{"$error":"#DIV/0!"},{"$error":"#N/A"},{"$error":"#N/A"},{"$error":"#N/A"},{"$error":"#N/A"},{"$error":"#DIV/0!"},{"$error":"#DIV/0!"},{"$error":"#N/A"},null,null,9.81,{"$error":"#DIV/0!"},9.3850877020320169,3.5393834023709756E-3,1.4715999999999999E-5,2.4330000000000001E-2,0.72,18.770175404064034,{"$error":"#DIV/0!"},{"$error":"#DIV/0!"},{"$error":"#DIV/0!"},{"$error":"#DIV/0!"},{"$error":"#DIV/0!"},{"$error":"#DIV/0!"},9.3850877020320169,3.5393834023709756E-3,1.4715999999999999E-5,2.4330000000000001E-2,0.72,18.770175404064034,{"$error":"#DIV/0!"},{"$error":"#DIV/0!"},{"$error":"#DIV/0!"},{"$error":"#DIV/0!"},{"$error":"#DIV/0!"},{"$error":"#DIV/0!"},null,"","","",{"$error":"#DIV/0!"},{"$error":"#DIV/0!"},{"$error":"#DIV/0!"}]
["=",null,{"$error":"#N/A"},null,null,null,null,null,null,null,null,null,null,null,null,null,null,null,0,0,0,0,{"$error":"#N/A"},0,0,{"$error":"#DIV/0!"},{"$error":"#N/A"},{"$error":"#N/A"},{"$error":"#N/A"},{"$error":"#N/A"},{"$error":"#DIV/0!"},{"$error":"#DIV/0!"},{"$error":"#N/A"},null,null,9.81,{"$error":"#DIV/0!"},9.3850877020320169,3.5393834023709756E-3,1.4715999999999999E-5,2.4330000000000001E-2,0.72,18.770175404064034,{"$error":"#DIV/0!"},{"$error":"#DIV/0!"},{"$error":"#DIV/0!"},{"$error":"#DIV/0!"},{"$error":"#DIV/0!"},{"$error":"#DIV/0!"},9.3850877020320169,3.5393834023709756E-3,1.4715999999999999E-5,2.4330000000000001E-2,0.72,18.770175404064034,{"$error":"#DIV/0!"},{"$error":"#DIV/0!"},{"$error":"#DIV/0!"},{"$error":"#DIV/0!"},{"$error":"#DIV/0!"},{"$error":"#DIV/0!"},null,"","","",{"$error":"#DIV/0!"},{"$error":"#DIV/0!"},{"$error":"#DIV/0!"}]
["=",null,{"$error":"#N/A"},null,null,null,null,null,null,null,null,null,null,null,null,null,null,null,0,0,0,0,{"$error":"#N/A"},0,0,{"$error":"#DIV/0!"},{"$error":"#N/A"},{"$error":"#N/A"},{"$error":"#N/A"},{"$error":"#N/A"},{"$error":"#DIV/0!"},{"$error":"#DIV/0!"},{"$error":"#N/A"},null,null,9.81,{"$error":"#DIV/0!"},9.3850877020320169,3.5393834023709756E-3,1.4715999999999999E-5,2.4330000000000001E-2,0.72,18.770175404064034,{"$error":"#DIV/0!"},{"$error":"#DIV/0!"},{"$error":"#DIV/0!"},{"$error":"#DIV/0!"},{"$error":"#DIV/0!"},{"$error":"#DIV/0!"},9.3850877020320169,3.5393834023709756E-3,1.4715999999999999E-5,2.4330000000000001E-2,0.72,18.770175404064034,{"$error":"#DIV/0!"},{"$error":"#DIV/0!"},{"$error":"#DIV/0!"},{"$error":"#DIV/0!"},{"$error":"#DIV/0!"},{"$error":"#DIV/0!"},null,"","","",{"$error":"#DIV/0!"},{"$error":"#DIV/0!"},{"$error":"#DIV/0!"}]
["=",null,{"$error":"#N/A"},null,null,null,null,null,null,null,null,null,null,null,null,null,null,null,0,0,0,0,{"$error":"#N/A"},0,0,{"$error":"#DIV/0!"},{"$error":"#N/A"},{"$error":"#N/A"},{"$error":"#N/A"},{"$error":"#N/A"},{"$error":"#DIV/0!"},{"$error":"#DIV/0!"},{"$error":"#N/A"},null,null,9.81,{"$error":"#DIV/0!"},9.3850877020320169,3.5393834023709756E-3,1.4715999999999999E-5,2.4330000000000001E-2,0.72,18.770175404064034,{"$error":"#DIV/0!"},{"$error":"#DIV/0!"},{"$error":"#DIV/0!"},{"$error":"#DIV/0!"},{"$error":"#DIV/0!"},{"$error":"#DIV/0!"},9.3850877020320169,3.5393834023709756E-3,1.4715999999999999E-5,2.4330000000000001E-2,0.72,18.770175404064034,{"$error":"#DIV/0!"},{"$error":"#DIV/0!"},{"$error":"#DIV/0!"},{"$error":"#DIV/0!"},{"$error":"#DIV/0!"},{"$error":"#DIV/0!"},null,"","","",{"$error":"#DIV/0!"},{"$error":"#DIV/0!"},{"$error":"#DIV/0!"}]
["=",null,{"$error":"#N/A"},null,null,null,null,null,null,null,null,null,null,null,null,null,null,null,0,0,0,0,{"$error":"#N/A"},0,0,{"$error":"#DIV/0!"},{"$error":"#N/A"},{"$error":"#N/A"},{"$error":"#N/A"},{"$error":"#N/A"},{"$error":"#DIV/0!"},{"$error":"#DIV/0!"},{"$error":"#N/A"},null,null,9.81,{"$error":"#DIV/0!"},9.3850877020320169,3.5393834023709756E-3,1.4715999999999999E-5,2.4330000000000001E-2,0.72,18.770175404064034,{"$error":"#DIV/0!"},{"$error":"#DIV/0!"},{"$error":"#DIV/0!"},{"$error":"#DIV/0!"},{"$error":"#DIV/0!"},{"$error":"#DIV/0!"},9.3850877020320169,3.5393834023709756E-3,1.4715999999999999E-5,2.4330000000000001E-2,0.72,18.770175404064034,{"$error":"#DIV/0!"},{"$error":"#DIV/0!"},{"$error":"#DIV/0!"},{"$error":"#DIV/0!"},{"$error":"#DIV/0!"},{"$error":"#DIV/0!"},null,"","","",{"$error":"#DIV/0!"},{"$error":"#DIV/0!"},{"$error":"#DIV/0!"}]
["=",null,{"$error":"#N/A"},null,null,null,null,null,null,null,null,null,null,null,null,null,null,null,0,0,0,0,{"$error":"#N/A"},0,0,{"$error":"#DIV/0!"},{"$error":"#N/A"},{"$error":"#N/A"},{"$error":"#N/A"},{"$error":"#N/A"},{"$error":"#DIV/0!"},{"$error":"#DIV/0!"},{"$error":"#N/A"},null,null,9.81,{"$error":"#DIV/0!"},9.3850877020320169,3.5393834023709756E-3,1.4715999999999999E-5,2.4330000000000001E-2,0.72,18.770175404064034,{"$error":"#DIV/0!"},{"$error":"#DIV/0!"},{"$error":"#DIV/0!"},{"$error":"#DIV/0!"},{"$error":"#DIV/0!"},{"$error":"#DIV/0!"},9.3850877020320169,3.5393834023709756E-3,1.4715999999999999E-5,2.4330000000000001E-2,0.72,18.770175404064034,{"$error":"#DIV/0!"},{"$error":"#DIV/0!"},{"$error":"#DIV/0!"},{"$error":"#DIV/0!"},{"$error":"#DIV/0!"},{"$error":"#DIV/0!"},null,"","","",{"$error":"#DIV/0!"},{"$error":"#DIV/0!"},{"$error":"#DIV/0!"}]
["=",null,{"$error":"#N/A"},null,null,null,null,null,null,null,null,null,null,null,null,null,null,null,0,0,0,0,{"$error":"#N/A"},0,0,{"$error":"#DIV/0!"},{"$error":"#N/A"},{"$error":"#N/A"},{"$error":"#N/A"},{"$error":"#N/A"},{"$error":"#DIV/0!"},{"$error":"#DIV/0!"},{"$error":"#N/A"},null,null,9.81,{"$error":"#DIV/0!"},9.3850877020320169,3.5393834023709756E-3,1.4715999999999999E-5,2.4330000000000001E-2,0.72,18.770175404064034,{"$error":"#DIV/0!"},{"$error":"#DIV/0!"},{"$error":"#DIV/0!"},{"$error":"#DIV/0!"},{"$error":"#DIV/0!"},{"$error":"#DIV/0!"},9.3850877020320169,3.5393834023709756E-3,1.4715999999999999E-5,2.4330000000000001E-2,0.72,18.770175404064034,{"$error":"#DIV/0!"},{"$error":"#DIV/0!"},{"$error":"#DIV/0!"},{"$error":"#DIV/0!"},{"$error":"#DIV/0!"},{"$error":"#DIV/0!"},null,"","","",{"$error":"#DIV/0!"},{"$error":"#DIV/0!"},{"$error":"#DIV/0!"}]
["=",null,{"$error":"#N/A"},null,null,null,null,null,null,null,null,null,null,null,null,null,null,null,0,0,0,0,{"$error":"#N/A"},0,0,{"$error":"#DIV/0!"},{"$error":"#N/A"},{"$error":"#N/A"},{"$error":"#N/A"},{"$error":"#N/A"},{"$error":"#DIV/0!"},{"$error":"#DIV/0!"},{"$error":"#N/A"},null,null,9.81,{"$error":"#DIV/0!"},9.3850877020320169,3.5393834023709756E-3,1.4715999999999999E-5,2.4330000000000001E-2,0.72,18.770175404064034,{"$error":"#DIV/0!"},{"$error":"#DIV/0!"},{"$error":"#DIV/0!"},{"$error":"#DIV/0!"},{"$error":"#DIV/0!"},{"$error":"#DIV/0!"},9.3850877020320169,3.5393834023709756E-3,1.4715999999999999E-5,2.4330000000000001E-2,0.72,18.770175404064034,{"$error":"#DIV/0!"},{"$error":"#DIV/0!"},{"$error":"#DIV/0!"},{"$error":"#DIV/0!"},{"$error":"#DIV/0!"},{"$error":"#DIV/0!"},null,"","","",{"$error":"#DIV/0!"},{"$error":"#DIV/0!"},{"$error":"#DIV/0!"}]
["=",null,{"$error":"#N/A"},null,null,null,null,null,null,null,null,null,null,null,null,null,null,null,0,0,0,0,{"$error":"#N/A"},0,0,{"$error":"#DIV/0!"},{"$error":"#N/A"},{"$error":"#N/A"},{"$error":"#N/A"},{"$error":"#N/A"},{"$error":"#DIV/0!"},{"$error":"#DIV/0!"},{"$error":"#N/A"},null,null,9.81,{"$error":"#DIV/0!"},9.3850877020320169,3.5393834023709756E-3,1.4715999999999999E-5,2.4330000000000001E-2,0.72,18.770175404064034,{"$error":"#DIV/0!"},{"$f":"IF(AR28*AP28>2*10^7,4,IF(AR28*AP28>5*10^2,3,IF(AR28*AP28>10^-3,2,1)))","v":{"$error":"#DIV/0!"}},{"$error":"#DIV/0!"},{"$error":"#DIV/0!"},{"$error":"#DIV/0!"},{"$error":"#DIV/0!"},9.3850877020320169,3.5393834023709756E-3,1.4715999999999999E-5,2.4330000000000001E-2,0.72,18.770175404064034,{"$error":"#DIV/0!"},{"$error":"#DIV/0!"},{"$error":"#DIV/0!"},{"$error":"#DIV/0!"},{"$error":"#DIV/0!"},{"$error":"#DIV/0!"},null,"","","",{"$error":"#DIV/0!"},{"$error":"#DIV/0!"},{"$error":"#DIV/0!"}]
["="]

{"sheet":"Data_fi","index":4,"n_rows":46,"n_cols":42,"rows_kept":46,"cut":false,"hidden":false,"merged":[]}
[null,null,1,2,3,4,5,6,7,8,9,10,11,12,13,14,15,16,17,18,19,20,21,22,23,24,25,26,27,28,29,30,31,32,33,34,35,36,37,38,39,40]
["index","Sp [m2]",{"$f":"B3","v":33.96},{"$f":"B4","v":1.7999999999999989},{"$f":"B5","v":52.895000000000003},{"$f":"B6","v":4.1760000000000002},{"$f":"B7","v":6.1770000000000005},{"$f":"B8","v":82.22399999999999},{"$f":"B9","v":121.623},{"$f":"B10","v":32.890000000000008},{"$f":"B11","v":2},{"$f":"B12","v":2},{"$f":"B13","v":40.765000000000001},{"$f":"B14","v":1.9999999999999991},{"$f":"B15","v":8.9999999999999982},{"$f":"B16","v":168.905},{"$f":"B17","v":9},{"$f":"B18","v":36.295000000000002},{"$f":"B19","v":536.4},446.84999999999997,{"$f":"B21","v":89.550000000000011},{"$f":"B22","v":536.4},{"$f":"B23","v":89.550000000000011},{"$f":"B24","v":14.155000000000003},{"$f":"B25","v":1.6530000000000002},{"$f":"B26","v":32.547000000000004},{"$f":"B27","v":14.155000000000003},{"$f":"B28","v":28.405000000000005},{"$f":"B29","v":5.7950000000000008},{"$f":"B30","v":446.84999999999997},{"$f":"B31","v":89.550000000000011},{"$f":"B32","v":33.600000000000023},{"$f":"B33","v":33.599999999999994},{"$f":"B34","v":"="},{"$f":"B35","v":"="},{"$f":"B36","v":"="},{"$f":"B37","v":"="},{"$f":"B38","v":"="},{"$f":"B39","v":"="},{"$f":"B40","v":"="},{"$f":"B41","v":"="},{"$f":"B42","v":"="}]
[1,33.96,0,0,0,3.0584784841404797E-2,6.112662911612143E-3,5.0157982112727796E-2,5.4549642715502972E-2,7.7849094967731335E-3,7.9563244286759999E-3,7.7451525904734808E-3,5.4901917130997981E-3,8.0379894915267903E-3,7.9361486481275278E-3,3.75757423785283E-3,3.7575453788528299E-3,1.4302568232012647E-2,2.5803385022007828E-2,4.8754625297614797E-2,1.029114114583364E-2,0,0,0,0,0,0,0,0,0,0,1.9779751359552025E-2,1.9687067522880151E-2]
[2,1.7999999999999989,{"$f":"D$3*$B4/$B$3","v":0},{"$f":"$C$3","v":0},0,2.548263538801443E-3,2.7853775778754475E-3,9.9799351791099661E-4,8.506965373238966E-4,4.622211422161782E-4,4.8461839276114926E-4,4.7024073086276985E-4,4.5726302202321378E-4,4.903315702335933E-4,4.8374532828650746E-4,1.0556449456879601E-5,1.05564875684496E-5,4.0181271488005166E-5,1.6998775546295032E-3,2.9754339033294E-3,7.8823207074357E-4,0,0,0,0,0,0,0,0,0,0,6.7335847116146074E-5,6.7456360539825872E-5]
[3,52.895000000000003,{"$f":"E$3*$B5/$B$3","v":0},{"$f":"E$4*$B5/$B$4","v":0},{"$f":"$C$3","v":0},6.0155766689494895E-3,3.7799854234911695E-2,3.6878631694987923E-2,7.0655197321813884E-2,1.2154410389452898E-2,1.234316456384477E-2,1.2015036177388083E-2,1.2240529731123532E-2,1.2470265797844609E-2,1.2312969279075029E-2,9.1753783512180005E-3,9.1158735735121805E-3,3.4698276869340482E-2,2.8736967010053426E-2,6.9784533701758897E-2,8.129135250198323E-3,0,0,0,0,0,0,0,0,0,0,3.4448965533831422E-2,3.4303630921328536E-2]
[4,4.1760000000000002,{"$f":"F$3*$B6/$B$3","v":3.7609558744907665E-3},{"$f":"F$4*$B6/$B$4","v":5.9119714100193512E-3},{"$f":"F$5*$B6/$B$5","v":4.7492292597661528E-4},{"$f":"$C$3","v":0},0,0,0,1.0395295544538728E-5,1.4348105346186912E-4,2.9280807546285822E-4,2.1370552455279959E-5,4.2637816997626049E-4,1.2319375980351572E-3,2.4568626062399998E-3,1.87520983768723E-4,4.9873256732064402E-4,2.6186172432215451E-3,6.2731101881599843E-5,6.5351772309672133E-4,0,0,0,0,0,0,0,0,0,0,2.4382876003803934E-4,1.0363242498198768E-4]
[5,6.1770000000000005,{"$f":"G$3*$B7/$B$3","v":1.1118350649301594E-3},{"$f":"G$4*$B7/$B$4","v":9.5584873880759178E-3},{"$f":"G$5*$B7/$B$5","v":4.4142111656876749E-3},{"$f":"G$6*$B7/$B$6","v":0},{"$f":"$C$3","v":0},0,0,2.2739141945475075E-5,3.0948766751919264E-4,6.3168999868423747E-4,4.6740521049610267E-5,9.2010067552621459E-4,5.6846259889729248E-4,3.3467967717300002E-3,1.94558955157903E-4,7.7653808284529997E-4,2.4608603164282174E-3,1.3725151240674688E-4,4.5713711296873851E-4,0,0,0,0,0,0,0,0,0,0,4.4369675748405848E-4,1.0170627167367237E-4]
[6,82.22399999999999,{"$f":"H$3*$B8/$B$3","v":0.12144257718601088},{"$f":"H$4*$B8/$B$4","v":4.5588343898174351E-2},{"$f":"H$5*$B8/$B$5","v":5.7326942291117997E-2},{"$f":"H$6*$B8/$B$6","v":0},{"$f":"H$7*$B8/$B$7","v":0},{"$f":"$C$3","v":0},0,0.1069752124489783,3.8513480449891484E-3,1.9032099222788884E-3,4.083602877255188E-2,1.2278892930835776E-3,3.7015534359949253E-3,4.7644273708557297E-2,2.5456785576963401E-3,9.4564462099300008E-3,6.7533712760533202E-2,2.4319751710557294E-2,5.2734896075711205E-2,0,0,0,0,0,0,0,0,0,0,5.3669494638928561E-2,6.9847497055805646E-2]
[7,121.623,{"$f":"I$3*$B9/$B$3","v":0.19536193156618425},{"$f":"I$4*$B9/$B$4","v":5.7480147199413523E-2},{"$f":"I$5*$B9/$B$5","v":0.16245953424465392},{"$f":"I$6*$B9/$B$6","v":0},{"$f":"I$7*$B9/$B$7","v":0},{"$f":"I$8*$B9/$B$8","v":0},{"$f":"$C$3","v":0},0.16503995388550741,1.8437640053926914E-3,1.4515015600525972E-3,6.1634855907860296E-2,1.0717665426101715E-3,3.4427569396688748E-3,6.7345360574400007E-2,3.8769082591810001E-3,1.4567622251890001E-2,7.3649684798875764E-2,5.3210012314635145E-2,4.3903986703641908E-2,0,0,0,0,0,0,0,0,0,0,0.11256734977965277,7.0233687617389379E-2]
[8,32.890000000000008,{"$f":"J$3*$B10/$B$3","v":7.5396252458441813E-3},{"$f":"J$4*$B10/$B$4","v":8.4458074263833952E-3},{"$f":"J$5*$B10/$B$5","v":7.5575868741678022E-3},{"$f":"J$6*$B10/$B$6","v":8.1872909592882871E-5},{"$f":"J$7*$B10/$B$7","v":1.2107663567859404E-4},{"$f":"J$8*$B10/$B$8","v":4.2790605388291714E-2},{"$f":"J$9*$B10/$B$9","v":4.4631065532788533E-2},{"$f":"$C$3","v":0},0,0,0,0,0,4.8745383785799998E-2,2.8763412210734201E-3,9.7896802095559007E-3,1.9873284686104584E-2,3.6874522689579001E-3,1.9286394036601873E-2,0,0,0,0,0,0,0,0,0,0,3.0890313845282458E-2,7.2320074693401175E-3]
[9,2,{"$f":"K$3*$B11/$B$3","v":4.6857034326713777E-4},{"$f":"K$4*$B11/$B$4","v":5.3846488084572167E-4},{"$f":"K$5*$B11/$B$5","v":4.6670439791453896E-4},{"$f":"K$6*$B11/$B$6","v":6.8716979627331956E-5},{"$f":"K$7*$B11/$B$7","v":1.0020646511872839E-4},{"$f":"K$8*$B11/$B$8","v":9.3679413431337541E-5},{"$f":"K$9*$B11/$B$9","v":3.031933113626027E-5},{"$f":"K$10*$B11/$B$10","v":0},{"$f":"$C$3","v":0},0,0,0,0,2.7854384547192001E-3,1.7845330682482601E-4,5.7863750134119003E-4,1.5828951590089687E-3,1.37896453670973E-5,1.6751929632213315E-3,0,0,0,0,0,0,0,0,0,0,1.0560477497527886E-4,3.9282137178953372E-5]
[10,2,{"$f":"L$3*$B12/$B$3","v":4.5613383925049945E-4},{"$f":"L$4*$B12/$B$4","v":5.2248970095863348E-4},{"$f":"L$5*$B12/$B$5","v":4.5429761517678732E-4},{"$f":"L$6*$B12/$B$6","v":1.4023375261631139E-4},{"$f":"L$7*$B12/$B$7","v":2.0452970655147722E-4},{"$f":"L$8*$B12/$B$8","v":4.6293294470687111E-5},{"$f":"L$9*$B12/$B$9","v":2.3868866251491859E-5},{"$f":"L$10*$B12/$B$10","v":0},{"$f":"L$11*$B12/$B$11","v":0},{"$f":"$C$3","v":0},0,0,0,2.7786456845471899E-3,1.4845306824826001E-4,5.6543375013411905E-4,1.4258650348077031E-3,1.398785097352E-5,9.7910267372280425E-4,0,0,0,0,0,0,0,0,0,0,9.7560081068231942E-5,2.3988476318676455E-5]
[11,40.765000000000001,{"$f":"M$3*$B13/$B$3","v":6.5903317192141722E-3},{"$f":"M$4*$B13/$B$4","v":1.0355737273764622E-2},{"$f":"M$5*$B13/$B$5","v":9.4335040077370407E-3},{"$f":"M$6*$B13/$B$6","v":2.0861364244240601E-4},{"$f":"M$7*$B13/$B$7","v":3.0846322496152866E-4},{"$f":"M$8*$B13/$B$8","v":2.0245679034261013E-2},{"$f":"M$9*$B13/$B$9","v":2.0658468390714953E-2},{"$f":"M$10*$B13/$B$10","v":0},{"$f":"M$11*$B13/$B$11","v":0},{"$f":"M$12*$B13/$B$12","v":0},{"$f":"$C$3","v":0},0,0,5.4876831399999999E-2,2.8123453563570198E-3,1.5467724841210799E-2,2.4623085898387347E-2,5.5534937497207712E-3,4.3107628878723561E-2,0,0,0,0,0,0,0,0,0,0,2.0685934224233711E-2,5.2452351985297845E-2]
[12,1.9999999999999991,{"$f":"N$3*$B14/$B$3","v":4.7337982871182487E-4},{"$f":"N$4*$B14/$B$4","v":5.4481285581510378E-4},{"$f":"N$5*$B14/$B$5","v":4.7151019180809541E-4},{"$f":"N$6*$B14/$B$6","v":2.0420410439476067E-4},{"$f":"N$7*$B14/$B$7","v":2.9791182629956744E-4},{"$f":"N$8*$B14/$B$8","v":2.9866931627835598E-5},{"$f":"N$9*$B14/$B$9","v":1.7624405624103515E-5},{"$f":"N$10*$B14/$B$10","v":0},{"$f":"N$11*$B14/$B$11","v":0},{"$f":"N$12*$B14/$B$12","v":0},{"$f":"N$13*$B14/$B$13","v":0},{"$f":"$C$3","v":0},0,2.6513554719199998E-3,1.415436824826E-4,5.7864533750134103E-4,1.6171519048432913E-3,1.456367097352E-5,2.2274711248776199E-3,0,0,0,0,0,0,0,0,0,0,7.4759612030918479E-5,6.634116172248254E-5]
[13,8.9999999999999982,{"$f":"O$3*$B15/$B$3","v":2.1032196063942208E-3},{"$f":"O$4*$B15/$B$4","v":2.4187266414325385E-3},{"$f":"O$5*$B15/$B$5","v":2.095032111006243E-3},{"$f":"O$6*$B15/$B$6","v":2.6550379267999071E-3},{"$f":"O$7*$B15/$B$7","v":8.2826022180275719E-4},{"$f":"O$8*$B15/$B$8","v":4.051612780204603E-4},{"$f":"O$9*$B15/$B$9","v":2.5476112624273257E-4},{"$f":"O$10*$B15/$B$10","v":0},{"$f":"O$11*$B15/$B$11","v":0},{"$f":"O$12*$B15/$B$12","v":0},{"$f":"O$13*$B15/$B$13","v":0},{"$f":"O$14*$B15/$B$14","v":0},{"$f":"$C$3","v":0},1.1486513804623601E-2,6.4537878807117098E-4,2.5984545187560299E-3,7.1179469035386536E-3,2.7975418372138002E-4,7.5234394145618673E-3,0,0,0,0,0,0,0,0,0,0,7.8513676089555118E-4,2.1193651051592292E-3]
[14,168.905,{"$f":"P$3*$B16/$B$3","v":1.8688842068449122E-2},{"$f":"P$4*$B16/$B$4","v":9.9057616417458339E-4},{"$f":"P$5*$B16/$B$5","v":2.9298937147414241E-2},{"$f":"P$6*$B16/$B$6","v":9.9371738148220104E-2},{"$f":"P$7*$B16/$B$7","v":9.151541342545827E-2},{"$f":"P$8*$B16/$B$8","v":9.7871133133195551E-2},{"$f":"P$9*$B16/$B$9","v":9.3526455751124643E-2},{"$f":"P$10*$B16/$B$10","v":0.25032955452540429},{"$f":"P$11*$B16/$B$11","v":0.23523724109717326},{"$f":"P$12*$B16/$B$12","v":0.23466357467422155},{"$f":"P$13*$B16/$B$13","v":0.22737571955395558},{"$f":"P$14*$B16/$B$14","v":0.22391359799232391},{"$f":"P$15*$B16/$B$15","v":0.21556995712999441},{"$f":"$C$3","v":0},0,0,0.11703471447651477,0.10262352969045598,8.5995890788886795E-2,0,0,0,0,0,0,0,0,0,0,2.2353988048527448E-2,2.6360576225455366E-2]
[15,9,{"$f":"Q$3*$B17/$B$3","v":9.9581591312354134E-4},{"$f":"Q$4*$B17/$B$4","v":5.2782437842248037E-5},{"$f":"Q$5*$B17/$B$5","v":1.5510513689688933E-3},{"$f":"Q$6*$B17/$B$6","v":4.0414005122569609E-4},{"$f":"Q$7*$B17/$B$7","v":2.8347589386775568E-4},{"$f":"Q$8*$B17/$B$8","v":2.7864257417867125E-4},{"$f":"Q$9*$B17/$B$9","v":2.8688795978251642E-4},{"$f":"Q$10*$B17/$B$10","v":7.8708029764854893E-4},{"$f":"Q$11*$B17/$B$11","v":8.0303988071171706E-4},{"$f":"Q$12*$B17/$B$12","v":6.6803880711717011E-4},{"$f":"Q$13*$B17/$B$13","v":6.2090293651939599E-4},{"$f":"Q$14*$B17/$B$14","v":6.3694657117170032E-4},{"$f":"Q$15*$B17/$B$15","v":6.4537878807117109E-4},{"$f":"Q$16*$B17/$B$16","v":0},{"$f":"$C$3","v":0},0,7.4712658280646398E-3,2.9137142297859623E-4,7.150112103356524E-3,0,0,0,0,0,0,0,0,0,0,9.6078316406870588E-4,3.0820726374802131E-3]
[16,36.295000000000002,{"$f":"R$3*$B18/$B$3","v":1.5285975087776769E-2},{"$f":"R$4*$B18/$B$4","v":8.1021069369841578E-4},{"$f":"R$5*$B18/$B$5","v":2.380894146843204E-2},{"$f":"R$6*$B18/$B$6","v":4.3346500313464495E-3},{"$f":"R$7*$B18/$B$7","v":4.5628055232103228E-3},{"$f":"R$8*$B18/$B$8","v":4.1742279041327287E-3},{"$f":"R$9*$B18/$B$9","v":4.3473014942268127E-3},{"$f":"R$10*$B18/$B$10","v":1.0803175530733698E-2},{"$f":"R$11*$B18/$B$11","v":1.0500824055589247E-2},{"$f":"R$12*$B18/$B$12","v":1.0261208980558927E-2},{"$f":"R$13*$B18/$B$13","v":1.3771644133735951E-2},{"$f":"R$14*$B18/$B$14","v":1.0500966262305593E-2},{"$f":"R$15*$B18/$B$15","v":1.0478989639805571E-2},{"$f":"R$16*$B18/$B$16","v":0},{"$f":"R$17*$B18/$B$17","v":0},{"$f":"$C$3","v":0},2.1756894814479323E-2,4.7386598741038363E-3,6.6294087363392949E-3,0,0,0,0,0,0,0,0,0,0,6.6941150371906634E-3,2.8383747925552365E-2]
[17,536.4,{"$f":"S$3*$B19/$B$3","v":0.4075658340931978},{"$f":"S$4*$B19/$B$4","v":0.5065635112795922},{"$f":"S$5*$B19/$B$5","v":0.29141713024279525},{"$f":"S$6*$B19/$B$6","v":0.33635687003449155},{"$f":"S$7*$B19/$B$7","v":0.21369685506428618},{"$f":"S$8*$B19/$B$8","v":0.4405658144185397},{"$f":"S$9*$B19/$B$9","v":0.32482088853355823},{"$f":"S$10*$B19/$B$10","v":0.32411158119873806},{"$f":"S$11*$B19/$B$11","v":0.42453248164620538},{"$f":"S$12*$B19/$B$12","v":0.38241700233542597},{"$f":"S$13*$B19/$B$13","v":0.32399909912657848},{"$f":"S$14*$B19/$B$14","v":0.43372014087897087},{"$f":"S$15*$B19/$B$15","v":0.42422963545090381},{"$f":"S$16*$B19/$B$16","v":0.37167295725527677},{"$f":"S$17*$B19/$B$17","v":0.44528744335265252},{"$f":"S$18*$B19/$B$18","v":0.3215428675709246},{"$f":"$C$3","v":0},0.47430650587652284,0.70846718542371445,0,0,0,0,0,0,0,0,0,0,0.65301226417337832,0.64958248988072542]
[18,446.84999999999997,{"$f":"T$3*$B20/$B$3","v":0.64151956166782009},{"$f":"T$4*$B20/$B$4","v":0.73865146650152391},{"$f":"T$5*$B20/$B$5","v":0.58953055836337953},{"$f":"T$6*$B20/$B$6","v":6.7124982940117064E-3},{"$f":"T$7*$B20/$B$7","v":9.9289037265589825E-3},{"$f":"T$8*$B20/$B$8","v":0.13216677675450633},{"$f":"T$9*$B20/$B$9","v":0.19549669061604064},{"$f":"T$10*$B20/$B$10","v":5.0098450786981975E-2},{"$f":"T$11*$B20/$B$11","v":3.0809515161437143E-3},{"$f":"T$12*$B20/$B$12","v":3.1252356037587059E-3},{"$f":"T$13*$B20/$B$13","v":6.0875228310136795E-2},{"$f":"T$14*$B20/$B$14","v":3.2538881872587072E-3},{"$f":"T$15*$B20/$B$15","v":1.388979522176652E-2},{"$f":"T$16*$B20/$B$16","v":0.2714977309267354},{"$f":"T$17*$B20/$B$17","v":1.44665911508873E-2},{"$f":"T$18*$B20/$B$18","v":5.8340547313494938E-2},{"$f":"T$19*$B20/$B$19","v":0.3951227855162644},{"$f":"$C$3","v":0},0,0,0,0,0,0,0,0,0,0,0,0,0]
[19,89.550000000000011,{"$f":"U$3*$B21/$B$3","v":2.7136975547980054E-2},{"$f":"U$4*$B21/$B$4","v":3.9214545519492633E-2},{"$f":"U$5*$B21/$B$5","v":1.3762436178377161E-2},{"$f":"U$6*$B21/$B$6","v":1.4014011518992193E-2},{"$f":"U$7*$B21/$B$7","v":6.6272670335681613E-3},{"$f":"U$8*$B21/$B$8","v":5.7433473725188998E-2},{"$f":"U$9*$B21/$B$9","v":3.2326139046982338E-2},{"$f":"U$10*$B21/$B$10","v":5.2511297840611051E-2},{"$f":"U$11*$B21/$B$11","v":7.5006764928235131E-2},{"$f":"U$12*$B21/$B$12","v":4.3839322215938566E-2},{"$f":"U$13*$B21/$B$13","v":9.4696140465833328E-2},{"$f":"U$14*$B21/$B$14","v":9.9735019616395484E-2},{"$f":"U$15*$B21/$B$15","v":7.4858222174890604E-2},{"$f":"U$16*$B21/$B$16","v":4.5593274445071573E-2},{"$f":"U$17*$B21/$B$17","v":7.1143615428397422E-2},{"$f":"U$18*$B21/$B$18","v":1.6356620811108523E-2},{"$f":"U$19*$B21/$B$19","v":0.11827598145916041},{"$f":"U$20*$B21/$B$20","v":0},{"$f":"$C$3","v":0},0,0,0,0,0,0,0,0,0,0,0,0]
[20,536.4,{"$f":"V$3*$B22/$B$3","v":0},{"$f":"V$4*$B22/$B$4","v":0},{"$f":"V$5*$B22/$B$5","v":0},{"$f":"V$6*$B22/$B$6","v":0},{"$f":"V$7*$B22/$B$7","v":0},{"$f":"V$8*$B22/$B$8","v":0},{"$f":"V$9*$B22/$B$9","v":0},{"$f":"V$10*$B22/$B$10","v":0},{"$f":"V$11*$B22/$B$11","v":0},{"$f":"V$12*$B22/$B$12","v":0},{"$f":"V$13*$B22/$B$13","v":0},{"$f":"V$14*$B22/$B$14","v":0},{"$f":"V$15*$B22/$B$15","v":0},{"$f":"V$16*$B22/$B$16","v":0},{"$f":"V$17*$B22/$B$17","v":0},{"$f":"V$18*$B22/$B$18","v":0},{"$f":"V$19*$B22/$B$19","v":0},{"$f":"V$20*$B22/$B$20","v":0},{"$f":"V$21*$B22/$B$21","v":0},{"$f":"$C$3","v":0},0,6.4298407178919915E-3,8.9329035015704044E-4,1.3628884180150484E-2,3.9635872334053378E-2,9.6860482828745424E-3,2.6534715651615149E-3,0.78986755287434363,0.23745148290955786,0,0]
[21,89.550000000000011,{"$f":"W$3*$B23/$B$3","v":0},{"$f":"W$4*$B23/$B$4","v":0},{"$f":"W$5*$B23/$B$5","v":0},{"$f":"W$6*$B23/$B$6","v":0},{"$f":"W$7*$B23/$B$7","v":0},{"$f":"W$8*$B23/$B$8","v":0},{"$f":"W$9*$B23/$B$9","v":0},{"$f":"W$10*$B23/$B$10","v":0},{"$f":"W$11*$B23/$B$11","v":0},{"$f":"W$12*$B23/$B$12","v":0},{"$f":"W$13*$B23/$B$13","v":0},{"$f":"W$14*$B23/$B$14","v":0},{"$f":"W$15*$B23/$B$15","v":0},{"$f":"W$16*$B23/$B$16","v":0},{"$f":"W$17*$B23/$B$17","v":0},{"$f":"W$18*$B23/$B$18","v":0},{"$f":"W$19*$B23/$B$19","v":0},{"$f":"W$20*$B23/$B$20","v":0},{"$f":"W$21*$B23/$B$21","v":0},{"$f":"W$22*$B23/$B$22","v":0},{"$f":"$C$3","v":0},6.5339200197662029E-4,3.6743197393171833E-5,9.5243524453084854E-4,1.5282522034673783E-2,1.2015523898628426E-3,2.3404926873937316E-4,5.2550209082469095E-2,0.71433944357852153,0,0]
[22,14.155000000000003,{"$f":"X$3*$B24/$B$3","v":0},{"$f":"X$4*$B24/$B$4","v":0},{"$f":"X$5*$B24/$B$5","v":0},{"$f":"X$6*$B24/$B$6","v":0},{"$f":"X$7*$B24/$B$7","v":0},{"$f":"X$8*$B24/$B$8","v":0},{"$f":"X$9*$B24/$B$9","v":0},{"$f":"X$10*$B24/$B$10","v":0},{"$f":"X$11*$B24/$B$11","v":0},{"$f":"X$12*$B24/$B$12","v":0},{"$f":"X$13*$B24/$B$13","v":0},{"$f":"X$14*$B24/$B$14","v":0},{"$f":"X$15*$B24/$B$15","v":0},{"$f":"X$16*$B24/$B$16","v":0},{"$f":"X$17*$B24/$B$17","v":0},{"$f":"X$18*$B24/$B$18","v":0},{"$f":"X$19*$B24/$B$19","v":0},{"$f":"X$20*$B24/$B$20","v":0},{"$f":"X$21*$B24/$B$21","v":0},{"$f":"X$22*$B24/$B$22","v":1.6967635227770539E-4},{"$f":"X$23*$B24/$B$23","v":1.0328044431020727E-4},{"$f":"$C$3","v":0},2.1531533797099718E-2,2.0822947858142093E-2,3.29553722564395E-3,9.0289942768211427E-3,0.19929459730451629,1.1379734631559727E-2,1.0328044431020727E-4,1.0450166755302246E-3,1.0412989633992848E-3]
[23,1.6530000000000002,{"$f":"Y$3*$B25/$B$3","v":0},{"$f":"Y$4*$B25/$B$4","v":0},{"$f":"Y$5*$B25/$B$5","v":0},{"$f":"Y$6*$B25/$B$6","v":0},{"$f":"Y$7*$B25/$B$7","v":0},{"$f":"Y$8*$B25/$B$8","v":0},{"$f":"Y$9*$B25/$B$9","v":0},{"$f":"Y$10*$B25/$B$10","v":0},{"$f":"Y$11*$B25/$B$11","v":0},{"$f":"Y$12*$B25/$B$12","v":0},{"$f":"Y$13*$B25/$B$13","v":0},{"$f":"Y$14*$B25/$B$14","v":0},{"$f":"Y$15*$B25/$B$15","v":0},{"$f":"Y$16*$B25/$B$16","v":0},{"$f":"Y$17*$B25/$B$17","v":0},{"$f":"Y$18*$B25/$B$18","v":0},{"$f":"Y$19*$B25/$B$19","v":0},{"$f":"Y$20*$B25/$B$20","v":0},{"$f":"Y$21*$B25/$B$21","v":0},{"$f":"Y$22*$B25/$B$22","v":2.7528131036718648E-6},{"$f":"Y$23*$B25/$B$23","v":6.7824126511349013E-7},{"$f":"Y$24*$B25/$B$24","v":2.5144207252988928E-3},{"$f":"$C$3","v":0},0,9.1808743220407807E-6,5.1930122419009098E-4,2.2119995782131194E-3,4.414126530339989E-6,6.7824126511349003E-7,1.262679978423263E-5,2.1301164762678189E-6]
[24,32.547000000000004,{"$f":"Z$3*$B26/$B$3","v":0},{"$f":"Z$4*$B26/$B$4","v":0},{"$f":"Z$5*$B26/$B$5","v":0},{"$f":"Z$6*$B26/$B$6","v":0},{"$f":"Z$7*$B26/$B$7","v":0},{"$f":"Z$8*$B26/$B$8","v":0},{"$f":"Z$9*$B26/$B$9","v":0},{"$f":"Z$10*$B26/$B$10","v":0},{"$f":"Z$11*$B26/$B$11","v":0},{"$f":"Z$12*$B26/$B$12","v":0},{"$f":"Z$13*$B26/$B$13","v":0},{"$f":"Z$14*$B26/$B$14","v":0},{"$f":"Z$15*$B26/$B$15","v":0},{"$f":"Z$16*$B26/$B$16","v":0},{"$f":"Z$17*$B26/$B$17","v":0},{"$f":"Z$18*$B26/$B$18","v":0},{"$f":"Z$19*$B26/$B$19","v":0},{"$f":"Z$20*$B26/$B$20","v":0},{"$f":"Z$21*$B26/$B$21","v":0},{"$f":"Z$22*$B26/$B$22","v":8.2695617712781112E-4},{"$f":"Z$23*$B26/$B$23","v":3.4616314800385849E-4},{"$f":"Z$24*$B26/$B$24","v":4.7878804940936111E-2},{"$f":"Z$25*$B26/$B$25","v":0},{"$f":"$C$3","v":0},9.6762875593438394E-2,2.4293815128740254E-2,1.7143441044586497E-2,2.0261083968059639E-3,3.4616314800385849E-4,1.3219135868286618E-2,1.4471187032947016E-3]
[25,14.155000000000003,{"$f":"AA$3*$B27/$B$3","v":0},{"$f":"AA$4*$B27/$B$4","v":0},{"$f":"AA$5*$B27/$B$5","v":0},{"$f":"AA$6*$B27/$B$6","v":0},{"$f":"AA$7*$B27/$B$7","v":0},{"$f":"AA$8*$B27/$B$8","v":0},{"$f":"AA$9*$B27/$B$9","v":0},{"$f":"AA$10*$B27/$B$10","v":0},{"$f":"AA$11*$B27/$B$11","v":0},{"$f":"AA$12*$B27/$B$12","v":0},{"$f":"AA$13*$B27/$B$13","v":0},{"$f":"AA$14*$B27/$B$14","v":0},{"$f":"AA$15*$B27/$B$15","v":0},{"$f":"AA$16*$B27/$B$16","v":0},{"$f":"AA$17*$B27/$B$17","v":0},{"$f":"AA$18*$B27/$B$18","v":0},{"$f":"AA$19*$B27/$B$19","v":0},{"$f":"AA$20*$B27/$B$20","v":0},{"$f":"AA$21*$B27/$B$21","v":0},{"$f":"AA$22*$B27/$B$22","v":1.0459466310375198E-3},{"$f":"AA$23*$B27/$B$23","v":2.4156795019632318E-3},{"$f":"AA$24*$B27/$B$24","v":3.29553722564395E-3},{"$f":"AA$25*$B27/$B$25","v":7.8617831838165308E-5},{"$f":"AA$26*$B27/$B$26","v":4.2083095339819972E-2},{"$f":"$C$3","v":0},4.203156099366382E-2,1.3446327995257309E-3,3.1854880924899663E-4,2.4156795019632318E-3,1.0450166755302246E-3,1.1540906392226431E-3]
[26,28.405000000000005,{"$f":"AB$3*$B28/$B$3","v":0},{"$f":"AB$4*$B28/$B$4","v":0},{"$f":"AB$5*$B28/$B$5","v":0},{"$f":"AB$6*$B28/$B$6","v":0},{"$f":"AB$7*$B28/$B$7","v":0},{"$f":"AB$8*$B28/$B$8","v":0},{"$f":"AB$9*$B28/$B$9","v":0},{"$f":"AB$10*$B28/$B$10","v":0},{"$f":"AB$11*$B28/$B$11","v":0},{"$f":"AB$12*$B28/$B$12","v":0},{"$f":"AB$13*$B28/$B$13","v":0},{"$f":"AB$14*$B28/$B$14","v":0},{"$f":"AB$15*$B28/$B$15","v":0},{"$f":"AB$16*$B28/$B$16","v":0},{"$f":"AB$17*$B28/$B$17","v":0},{"$f":"AB$18*$B28/$B$18","v":0},{"$f":"AB$19*$B28/$B$19","v":0},{"$f":"AB$20*$B28/$B$20","v":0},{"$f":"AB$21*$B28/$B$21","v":0},{"$f":"AB$22*$B28/$B$22","v":5.1292356725401089E-4},{"$f":"AB$23*$B28/$B$23","v":3.8112892947017363E-4},{"$f":"AB$24*$B28/$B$24","v":1.811858583066793E-2},{"$f":"AB$25*$B28/$B$25","v":8.9236244846458163E-3},{"$f":"AB$26*$B28/$B$26","v":2.1202132876512948E-2},{"$f":"AB$27*$B28/$B$27","v":8.4345213000707922E-2},{"$f":"$C$3","v":0},0,1.5221040337616498E-3,3.8112892947017363E-4,1.161188573559754E-3,1.0893075272636837E-2]
[27,5.7950000000000008,{"$f":"AC$3*$B29/$B$3","v":0},{"$f":"AC$4*$B29/$B$4","v":0},{"$f":"AC$5*$B29/$B$5","v":0},{"$f":"AC$6*$B29/$B$6","v":0},{"$f":"AC$7*$B29/$B$7","v":0},{"$f":"AC$8*$B29/$B$8","v":0},{"$f":"AC$9*$B29/$B$9","v":0},{"$f":"AC$10*$B29/$B$10","v":0},{"$f":"AC$11*$B29/$B$11","v":0},{"$f":"AC$12*$B29/$B$12","v":0},{"$f":"AC$13*$B29/$B$13","v":0},{"$f":"AC$14*$B29/$B$14","v":0},{"$f":"AC$15*$B29/$B$15","v":0},{"$f":"AC$16*$B29/$B$16","v":0},{"$f":"AC$17*$B29/$B$17","v":0},{"$f":"AC$18*$B29/$B$18","v":0},{"$f":"AC$19*$B29/$B$19","v":0},{"$f":"AC$20*$B29/$B$20","v":0},{"$f":"AC$21*$B29/$B$21","v":0},{"$f":"AC$22*$B29/$B$22","v":2.8666792915941428E-5},{"$f":"AC$23*$B29/$B$23","v":1.5145901868728839E-5},{"$f":"AC$24*$B29/$B$24","v":8.1590405607889216E-2},{"$f":"AC$25*$B29/$B$25","v":7.7547111650000163E-3},{"$f":"AC$26*$B29/$B$26","v":3.0523931807348984E-3},{"$f":"AC$27*$B29/$B$27","v":5.5048725349711122E-4},{"$f":"AC$28*$B29/$B$28","v":0},{"$f":"$C$3","v":0},5.9902972110156041E-5,1.5145901868728839E-5,3.3224062683155825E-5,3.0579117101780037E-4]
[28,446.84999999999997,{"$f":"AD$3*$B30/$B$3","v":0},{"$f":"AD$4*$B30/$B$4","v":0},{"$f":"AD$5*$B30/$B$5","v":0},{"$f":"AD$6*$B30/$B$6","v":0},{"$f":"AD$7*$B30/$B$7","v":0},{"$f":"AD$8*$B30/$B$8","v":0},{"$f":"AD$9*$B30/$B$9","v":0},{"$f":"AD$10*$B30/$B$10","v":0},{"$f":"AD$11*$B30/$B$11","v":0},{"$f":"AD$12*$B30/$B$12","v":0},{"$f":"AD$13*$B30/$B$13","v":0},{"$f":"AD$14*$B30/$B$14","v":0},{"$f":"AD$15*$B30/$B$15","v":0},{"$f":"AD$16*$B30/$B$16","v":0},{"$f":"AD$17*$B30/$B$17","v":0},{"$f":"AD$18*$B30/$B$18","v":0},{"$f":"AD$19*$B30/$B$19","v":0},{"$f":"AD$20*$B30/$B$20","v":0},{"$f":"AD$21*$B30/$B$21","v":0},{"$f":"AD$22*$B30/$B$22","v":0.65800208054045572},{"$f":"AD$23*$B30/$B$23","v":0.26222290260749648},{"$f":"AD$24*$B30/$B$24","v":0.35923945037883875},{"$f":"AD$25*$B30/$B$25","v":1.1932561645991674E-3},{"$f":"AD$26*$B30/$B$26","v":2.7817203954673082E-2},{"$f":"AD$27*$B30/$B$27","v":1.0056060431855465E-2},{"$f":"AD$28*$B30/$B$28","v":2.3944805051448446E-2},{"$f":"AD$29*$B30/$B$29","v":4.6190928537399867E-3},{"$f":"$C$3","v":0},0,0.94612840156304079,0.94595452385202439]
[29,89.550000000000011,{"$f":"AE$3*$B31/$B$3","v":0},{"$f":"AE$4*$B31/$B$4","v":0},{"$f":"AE$5*$B31/$B$5","v":0},{"$f":"AE$6*$B31/$B$6","v":0},{"$f":"AE$7*$B31/$B$7","v":0},{"$f":"AE$8*$B31/$B$8","v":0},{"$f":"AE$9*$B31/$B$9","v":0},{"$f":"AE$10*$B31/$B$10","v":0},{"$f":"AE$11*$B31/$B$11","v":0},{"$f":"AE$12*$B31/$B$12","v":0},{"$f":"AE$13*$B31/$B$13","v":0},{"$f":"AE$14*$B31/$B$14","v":0},{"$f":"AE$15*$B31/$B$15","v":0},{"$f":"AE$16*$B31/$B$16","v":0},{"$f":"AE$17*$B31/$B$17","v":0},{"$f":"AE$18*$B31/$B$18","v":0},{"$f":"AE$19*$B31/$B$19","v":0},{"$f":"AE$20*$B31/$B$20","v":0},{"$f":"AE$21*$B31/$B$21","v":0},{"$f":"AE$22*$B31/$B$22","v":3.9641648572988269E-2},{"$f":"AE$23*$B31/$B$23","v":0.71433944357852153},{"$f":"AE$24*$B31/$B$24","v":6.5339200197662029E-4},{"$f":"AE$25*$B31/$B$25","v":3.6743197393171833E-5},{"$f":"AE$26*$B31/$B$26","v":9.5243524453084854E-4},{"$f":"AE$27*$B31/$B$27","v":1.5282522034673783E-2},{"$f":"AE$28*$B31/$B$28","v":1.2015523898628426E-3},{"$f":"AE$29*$B31/$B$29","v":2.3404926873937316E-4},{"$f":"AE$30*$B31/$B$30","v":0},{"$f":"$C$3","v":0},3.3335106128704245E-2,3.2685150834105038E-2]
[30,33.600000000000023,{"$f":"AF$3*$B32/$B$3","v":1.957007201651792E-2},{"$f":"AF$4*$B32/$B$4","v":1.2569358128347284E-3},{"$f":"AF$5*$B32/$B$5","v":2.1882696699815418E-2},{"$f":"AF$6*$B32/$B$6","v":1.9618405980072143E-3},{"$f":"AF$7*$B32/$B$7","v":2.4135034889856523E-3},{"$f":"AF$8*$B32/$B$8","v":2.193149226342675E-2},{"$f":"AF$9*$B32/$B$9","v":3.1098254052246168E-2},{"$f":"AF$10*$B32/$B$10","v":3.1557146403207392E-2},{"$f":"AF$11*$B32/$B$11","v":1.774160219584686E-3},{"$f":"AF$12*$B32/$B$12","v":1.6390093619462977E-3},{"$f":"AF$13*$B32/$B$13","v":1.7050101556095994E-2},{"$f":"AF$14*$B32/$B$14","v":1.2559614821194319E-3},{"$f":"AF$15*$B32/$B$15","v":2.9311772406767269E-3},{"$f":"AF$16*$B32/$B$16","v":4.4468428905628772E-3},{"$f":"AF$17*$B32/$B$17","v":3.5869238125231708E-3},{"$f":"AF$18*$B32/$B$18","v":6.1970592436866347E-3},{"$f":"AF$19*$B32/$B$19","v":4.0904571357616569E-2},{"$f":"AF$20*$B32/$B$20","v":0},{"$f":"AF$21*$B32/$B$21","v":0},{"$f":"AF$22*$B32/$B$22","v":0},{"$f":"AF$23*$B32/$B$23","v":0},{"$f":"AF$24*$B32/$B$24","v":2.4805764957835088E-3},{"$f":"AF$25*$B32/$B$25","v":2.5666090305518247E-4},{"$f":"AF$26*$B32/$B$26","v":1.3646817377160125E-2},{"$f":"AF$27*$B32/$B$27","v":2.4805764957835088E-3},{"$f":"AF$28*$B32/$B$28","v":1.373558742179467E-3},{"$f":"AF$29*$B32/$B$29","v":1.9263649804211153E-4},{"$f":"AF$30*$B32/$B$30","v":7.1142249731494217E-2},{"$f":"AF$31*$B32/$B$31","v":1.2507644510602605E-2},{"$f":"$C$3","v":0},0]
[31,33.599999999999994,{"$f":"AG$3*$B33/$B$3","v":1.9478370694015694E-2},{"$f":"AG$4*$B33/$B$4","v":1.2591853967434169E-3},{"$f":"AG$5*$B33/$B$5","v":2.1790377142577529E-2},{"$f":"AG$6*$B33/$B$6","v":8.3382410905047551E-4},{"$f":"AG$7*$B33/$B$7","v":5.5323469778782437E-4},{"$f":"AG$8*$B33/$B$8","v":2.8542468148898981E-2},{"$f":"AG$9*$B33/$B$9","v":1.9403006865019633E-2},{"$f":"AG$10*$B33/$B$10","v":7.388125599569105E-3},{"$f":"AG$11*$B33/$B$11","v":6.5993990460641648E-4},{"$f":"AG$12*$B33/$B$12","v":4.0300640215376436E-4},{"$f":"AG$13*$B33/$B$13","v":4.3233141830148591E-2},{"$f":"AG$14*$B33/$B$14","v":1.1145315169377068E-3},{"$f":"AG$15*$B33/$B$15","v":7.9122963925944562E-3},{"$f":"AG$16*$B33/$B$16","v":5.2438670328012792E-3},{"$f":"AG$17*$B33/$B$17","v":1.1506404513259461E-2},{"$f":"AG$18*$B33/$B$18","v":2.6276179371774604E-2},{"$f":"AG$19*$B33/$B$19","v":4.0689730909754605E-2},{"$f":"AG$20*$B33/$B$20","v":0},{"$f":"AG$21*$B33/$B$21","v":0},{"$f":"AG$22*$B33/$B$22","v":0},{"$f":"AG$23*$B33/$B$23","v":0},{"$f":"AG$24*$B33/$B$24","v":2.4717516898774962E-3},{"$f":"AG$25*$B33/$B$25","v":4.3298193347004657E-5},{"$f":"AG$26*$B33/$B$26","v":1.4939376418933222E-3},{"$f":"AG$27*$B33/$B$27","v":2.7394874940219567E-3},{"$f":"AG$28*$B33/$B$28","v":1.2885313471592944E-2},{"$f":"AG$29*$B33/$B$29","v":1.773008342743415E-3},{"$f":"AG$30*$B33/$B$30","v":7.1129175341676218E-2},{"$f":"AG$31*$B33/$B$31","v":1.2263775187335889E-2},{"$f":"AG$32*$B33/$B$32","v":0},{"$f":"$C$3","v":0}]
[32,"=",{"$f":"AH$3*$B34/$B$3","v":{"$error":"#VALUE!"}},{"$f":"AH$4*$B34/$B$4","v":{"$error":"#VALUE!"}},{"$f":"AH$5*$B34/$B$5","v":{"$error":"#VALUE!"}},{"$f":"AH$6*$B34/$B$6","v":{"$error":"#VALUE!"}},{"$f":"AH$7*$B34/$B$7","v":{"$error":"#VALUE!"}},{"$f":"AH$8*$B34/$B$8","v":{"$error":"#VALUE!"}},{"$f":"AH$9*$B34/$B$9","v":{"$error":"#VALUE!"}},{"$f":"AH$10*$B34/$B$10","v":{"$error":"#VALUE!"}},{"$f":"AH$11*$B34/$B$11","v":{"$error":"#VALUE!"}},{"$f":"AH$12*$B34/$B$12","v":{"$error":"#VALUE!"}},{"$f":"AH$13*$B34/$B$13","v":{"$error":"#VALUE!"}},{"$f":"AH$14*$B34/$B$14","v":{"$error":"#VALUE!"}},{"$f":"AH$15*$B34/$B$15","v":{"$error":"#VALUE!"}},{"$f":"AH$16*$B34/$B$16","v":{"$error":"#VALUE!"}},{"$f":"AH$17*$B34/$B$17","v":{"$error":"#VALUE!"}},{"$f":"AH$18*$B34/$B$18","v":{"$error":"#VALUE!"}},{"$f":"AH$19*$B34/$B$19","v":{"$error":"#VALUE!"}},{"$f":"AH$20*$B34/$B$20","v":{"$error":"#VALUE!"}},{"$f":"AH$21*$B34/$B$21","v":{"$error":"#VALUE!"}},{"$f":"AH$22*$B34/$B$22","v":{"$error":"#VALUE!"}},{"$f":"AH$23*$B34/$B$23","v":{"$error":"#VALUE!"}},{"$f":"AH$24*$B34/$B$24","v":{"$error":"#VALUE!"}},{"$f":"AH$25*$B34/$B$25","v":{"$error":"#VALUE!"}},{"$f":"AH$26*$B34/$B$26","v":{"$error":"#VALUE!"}},{"$f":"AH$27*$B34/$B$27","v":{"$error":"#VALUE!"}},{"$f":"AH$28*$B34/$B$28","v":{"$error":"#VALUE!"}},{"$f":"AH$29*$B34/$B$29","v":{"$error":"#VALUE!"}},{"$f":"AH$30*$B34/$B$30","v":{"$error":"#VALUE!"}},{"$f":"AH$31*$B34/$B$31","v":{"$error":"#VALUE!"}},{"$f":"AH$32*$B34/$B$32","v":{"$error":"#VALUE!"}},{"$f":"AH$33*$B34/$B$33","v":{"$error":"#VALUE!"}},{"$f":"$C$3","v":0}]
[33,"=",{"$f":"AI$3*$B35/$B$3","v":{"$error":"#VALUE!"}},{"$f":"AI$4*$B35/$B$4","v":{"$error":"#VALUE!"}},{"$f":"AI$5*$B35/$B$5","v":{"$error":"#VALUE!"}},{"$f":"AI$6*$B35/$B$6","v":{"$error":"#VALUE!"}},{"$f":"AI$7*$B35/$B$7","v":{"$error":"#VALUE!"}},{"$f":"AI$8*$B35/$B$8","v":{"$error":"#VALUE!"}},{"$f":"AI$9*$B35/$B$9","v":{"$error":"#VALUE!"}},{"$f":"AI$10*$B35/$B$10","v":{"$error":"#VALUE!"}},{"$f":"AI$11*$B35/$B$11","v":{"$error":"#VALUE!"}},{"$f":"AI$12*$B35/$B$12","v":{"$error":"#VALUE!"}},{"$f":"AI$13*$B35/$B$13","v":{"$error":"#VALUE!"}},{"$f":"AI$14*$B35/$B$14","v":{"$error":"#VALUE!"}},{"$f":"AI$15*$B35/$B$15","v":{"$error":"#VALUE!"}},{"$f":"AI$16*$B35/$B$16","v":{"$error":"#VALUE!"}},{"$f":"AI$17*$B35/$B$17","v":{"$error":"#VALUE!"}},{"$f":"AI$18*$B35/$B$18","v":{"$error":"#VALUE!"}},{"$f":"AI$19*$B35/$B$19","v":{"$error":"#VALUE!"}},{"$f":"AI$20*$B35/$B$20","v":{"$error":"#VALUE!"}},{"$f":"AI$21*$B35/$B$21","v":{"$error":"#VALUE!"}},{"$f":"AI$22*$B35/$B$22","v":{"$error":"#VALUE!"}},{"$f":"AI$23*$B35/$B$23","v":{"$error":"#VALUE!"}},{"$f":"AI$24*$B35/$B$24","v":{"$error":"#VALUE!"}},{"$f":"AI$25*$B35/$B$25","v":{"$error":"#VALUE!"}},{"$f":"AI$26*$B35/$B$26","v":{"$error":"#VALUE!"}},{"$f":"AI$27*$B35/$B$27","v":{"$error":"#VALUE!"}},{"$f":"AI$28*$B35/$B$28","v":{"$error":"#VALUE!"}},{"$f":"AI$29*$B35/$B$29","v":{"$error":"#VALUE!"}},{"$f":"AI$30*$B35/$B$30","v":{"$error":"#VALUE!"}},{"$f":"AI$31*$B35/$B$31","v":{"$error":"#VALUE!"}},{"$f":"AI$32*$B35/$B$32","v":{"$error":"#VALUE!"}},{"$f":"AI$33*$B35/$B$33","v":{"$error":"#VALUE!"}},{"$f":"AI$34*$B35/$B$34","v":{"$error":"#VALUE!"}},{"$f":"$C$3","v":0}]
[34,"=",{"$f":"AJ$3*$B36/$B$3","v":{"$error":"#VALUE!"}},{"$f":"AJ$4*$B36/$B$4","v":{"$error":"#VALUE!"}},{"$f":"AJ$5*$B36/$B$5","v":{"$error":"#VALUE!"}},{"$f":"AJ$6*$B36/$B$6","v":{"$error":"#VALUE!"}},{"$f":"AJ$7*$B36/$B$7","v":{"$error":"#VALUE!"}},{"$f":"AJ$8*$B36/$B$8","v":{"$error":"#VALUE!"}},{"$f":"AJ$9*$B36/$B$9","v":{"$error":"#VALUE!"}},{"$f":"AJ$10*$B36/$B$10","v":{"$error":"#VALUE!"}},{"$f":"AJ$11*$B36/$B$11","v":{"$error":"#VALUE!"}},{"$f":"AJ$12*$B36/$B$12","v":{"$error":"#VALUE!"}},{"$f":"AJ$13*$B36/$B$13","v":{"$error":"#VALUE!"}},{"$f":"AJ$14*$B36/$B$14","v":{"$error":"#VALUE!"}},{"$f":"AJ$15*$B36/$B$15","v":{"$error":"#VALUE!"}},{"$f":"AJ$16*$B36/$B$16","v":{"$error":"#VALUE!"}},{"$f":"AJ$17*$B36/$B$17","v":{"$error":"#VALUE!"}},{"$f":"AJ$18*$B36/$B$18","v":{"$error":"#VALUE!"}},{"$f":"AJ$19*$B36/$B$19","v":{"$error":"#VALUE!"}},{"$f":"AJ$20*$B36/$B$20","v":{"$error":"#VALUE!"}},{"$f":"AJ$21*$B36/$B$21","v":{"$error":"#VALUE!"}},{"$f":"AJ$22*$B36/$B$22","v":{"$error":"#VALUE!"}},{"$f":"AJ$23*$B36/$B$23","v":{"$error":"#VALUE!"}},{"$f":"AJ$24*$B36/$B$24","v":{"$error":"#VALUE!"}},{"$f":"AJ$25*$B36/$B$25","v":{"$error":"#VALUE!"}},{"$f":"AJ$26*$B36/$B$26","v":{"$error":"#VALUE!"}},{"$f":"AJ$27*$B36/$B$27","v":{"$error":"#VALUE!"}},{"$f":"AJ$28*$B36/$B$28","v":{"$error":"#VALUE!"}},{"$f":"AJ$29*$B36/$B$29","v":{"$error":"#VALUE!"}},{"$f":"AJ$30*$B36/$B$30","v":{"$error":"#VALUE!"}},{"$f":"AJ$31*$B36/$B$31","v":{"$error":"#VALUE!"}},{"$f":"AJ$32*$B36/$B$32","v":{"$error":"#VALUE!"}},{"$f":"AJ$33*$B36/$B$33","v":{"$error":"#VALUE!"}},{"$f":"AJ$34*$B36/$B$34","v":{"$error":"#VALUE!"}},{"$f":"AJ$35*$B36/$B$35","v":{"$error":"#VALUE!"}},{"$f":"$C$3","v":0}]
[35,"=",{"$f":"AK$3*$B37/$B$3","v":{"$error":"#VALUE!"}},{"$f":"AK$4*$B37/$B$4","v":{"$error":"#VALUE!"}},{"$f":"AK$5*$B37/$B$5","v":{"$error":"#VALUE!"}},{"$f":"AK$6*$B37/$B$6","v":{"$error":"#VALUE!"}},{"$f":"AK$7*$B37/$B$7","v":{"$error":"#VALUE!"}},{"$f":"AK$8*$B37/$B$8","v":{"$error":"#VALUE!"}},{"$f":"AK$9*$B37/$B$9","v":{"$error":"#VALUE!"}},{"$f":"AK$10*$B37/$B$10","v":{"$error":"#VALUE!"}},{"$f":"AK$11*$B37/$B$11","v":{"$error":"#VALUE!"}},{"$f":"AK$12*$B37/$B$12","v":{"$error":"#VALUE!"}},{"$f":"AK$13*$B37/$B$13","v":{"$error":"#VALUE!"}},{"$f":"AK$14*$B37/$B$14","v":{"$error":"#VALUE!"}},{"$f":"AK$15*$B37/$B$15","v":{"$error":"#VALUE!"}},{"$f":"AK$16*$B37/$B$16","v":{"$error":"#VALUE!"}},{"$f":"AK$17*$B37/$B$17","v":{"$error":"#VALUE!"}},{"$f":"AK$18*$B37/$B$18","v":{"$error":"#VALUE!"}},{"$f":"AK$19*$B37/$B$19","v":{"$error":"#VALUE!"}},{"$f":"AK$20*$B37/$B$20","v":{"$error":"#VALUE!"}},{"$f":"AK$21*$B37/$B$21","v":{"$error":"#VALUE!"}},{"$f":"AK$22*$B37/$B$22","v":{"$error":"#VALUE!"}},{"$f":"AK$23*$B37/$B$23","v":{"$error":"#VALUE!"}},{"$f":"AK$24*$B37/$B$24","v":{"$error":"#VALUE!"}},{"$f":"AK$25*$B37/$B$25","v":{"$error":"#VALUE!"}},{"$f":"AK$26*$B37/$B$26","v":{"$error":"#VALUE!"}},{"$f":"AK$27*$B37/$B$27","v":{"$error":"#VALUE!"}},{"$f":"AK$28*$B37/$B$28","v":{"$error":"#VALUE!"}},{"$f":"AK$29*$B37/$B$29","v":{"$error":"#VALUE!"}},{"$f":"AK$30*$B37/$B$30","v":{"$error":"#VALUE!"}},{"$f":"AK$31*$B37/$B$31","v":{"$error":"#VALUE!"}},{"$f":"AK$32*$B37/$B$32","v":{"$error":"#VALUE!"}},{"$f":"AK$33*$B37/$B$33","v":{"$error":"#VALUE!"}},{"$f":"AK$34*$B37/$B$34","v":{"$error":"#VALUE!"}},{"$f":"AK$35*$B37/$B$35","v":{"$error":"#VALUE!"}},{"$f":"AK$36*$B37/$B$36","v":{"$error":"#VALUE!"}},{"$f":"$C$3","v":0}]
[36,"=",{"$f":"AL$3*$B38/$B$3","v":{"$error":"#VALUE!"}},{"$f":"AL$4*$B38/$B$4","v":{"$error":"#VALUE!"}},{"$f":"AL$5*$B38/$B$5","v":{"$error":"#VALUE!"}},{"$f":"AL$6*$B38/$B$6","v":{"$error":"#VALUE!"}},{"$f":"AL$7*$B38/$B$7","v":{"$error":"#VALUE!"}},{"$f":"AL$8*$B38/$B$8","v":{"$error":"#VALUE!"}},{"$f":"AL$9*$B38/$B$9","v":{"$error":"#VALUE!"}},{"$f":"AL$10*$B38/$B$10","v":{"$error":"#VALUE!"}},{"$f":"AL$11*$B38/$B$11","v":{"$error":"#VALUE!"}},{"$f":"AL$12*$B38/$B$12","v":{"$error":"#VALUE!"}},{"$f":"AL$13*$B38/$B$13","v":{"$error":"#VALUE!"}},{"$f":"AL$14*$B38/$B$14","v":{"$error":"#VALUE!"}},{"$f":"AL$15*$B38/$B$15","v":{"$error":"#VALUE!"}},{"$f":"AL$16*$B38/$B$16","v":{"$error":"#VALUE!"}},{"$f":"AL$17*$B38/$B$17","v":{"$error":"#VALUE!"}},{"$f":"AL$18*$B38/$B$18","v":{"$error":"#VALUE!"}},{"$f":"AL$19*$B38/$B$19","v":{"$error":"#VALUE!"}},{"$f":"AL$20*$B38/$B$20","v":{"$error":"#VALUE!"}},{"$f":"AL$21*$B38/$B$21","v":{"$error":"#VALUE!"}},{"$f":"AL$22*$B38/$B$22","v":{"$error":"#VALUE!"}},{"$f":"AL$23*$B38/$B$23","v":{"$error":"#VALUE!"}},{"$f":"AL$24*$B38/$B$24","v":{"$error":"#VALUE!"}},{"$f":"AL$25*$B38/$B$25","v":{"$error":"#VALUE!"}},{"$f":"AL$26*$B38/$B$26","v":{"$error":"#VALUE!"}},{"$f":"AL$27*$B38/$B$27","v":{"$error":"#VALUE!"}},{"$f":"AL$28*$B38/$B$28","v":{"$error":"#VALUE!"}},{"$f":"AL$29*$B38/$B$29","v":{"$error":"#VALUE!"}},{"$f":"AL$30*$B38/$B$30","v":{"$error":"#VALUE!"}},{"$f":"AL$31*$B38/$B$31","v":{"$error":"#VALUE!"}},{"$f":"AL$32*$B38/$B$32","v":{"$error":"#VALUE!"}},{"$f":"AL$33*$B38/$B$33","v":{"$error":"#VALUE!"}},{"$f":"AL$34*$B38/$B$34","v":{"$error":"#VALUE!"}},{"$f":"AL$35*$B38/$B$35","v":{"$error":"#VALUE!"}},{"$f":"AL$36*$B38/$B$36","v":{"$error":"#VALUE!"}},{"$f":"AL$37*$B38/$B$37","v":{"$error":"#VALUE!"}},{"$f":"$C$3","v":0}]
[37,"=",{"$f":"AM$3*$B39/$B$3","v":{"$error":"#VALUE!"}},{"$f":"AM$4*$B39/$B$4","v":{"$error":"#VALUE!"}},{"$f":"AM$5*$B39/$B$5","v":{"$error":"#VALUE!"}},{"$f":"AM$6*$B39/$B$6","v":{"$error":"#VALUE!"}},{"$f":"AM$7*$B39/$B$7","v":{"$error":"#VALUE!"}},{"$f":"AM$8*$B39/$B$8","v":{"$error":"#VALUE!"}},{"$f":"AM$9*$B39/$B$9","v":{"$error":"#VALUE!"}},{"$f":"AM$10*$B39/$B$10","v":{"$error":"#VALUE!"}},{"$f":"AM$11*$B39/$B$11","v":{"$error":"#VALUE!"}},{"$f":"AM$12*$B39/$B$12","v":{"$error":"#VALUE!"}},{"$f":"AM$13*$B39/$B$13","v":{"$error":"#VALUE!"}},{"$f":"AM$14*$B39/$B$14","v":{"$error":"#VALUE!"}},{"$f":"AM$15*$B39/$B$15","v":{"$error":"#VALUE!"}},{"$f":"AM$16*$B39/$B$16","v":{"$error":"#VALUE!"}},{"$f":"AM$17*$B39/$B$17","v":{"$error":"#VALUE!"}},{"$f":"AM$18*$B39/$B$18","v":{"$error":"#VALUE!"}},{"$f":"AM$19*$B39/$B$19","v":{"$error":"#VALUE!"}},{"$f":"AM$20*$B39/$B$20","v":{"$error":"#VALUE!"}},{"$f":"AM$21*$B39/$B$21","v":{"$error":"#VALUE!"}},{"$f":"AM$22*$B39/$B$22","v":{"$error":"#VALUE!"}},{"$f":"AM$23*$B39/$B$23","v":{"$error":"#VALUE!"}},{"$f":"AM$24*$B39/$B$24","v":{"$error":"#VALUE!"}},{"$f":"AM$25*$B39/$B$25","v":{"$error":"#VALUE!"}},{"$f":"AM$26*$B39/$B$26","v":{"$error":"#VALUE!"}},{"$f":"AM$27*$B39/$B$27","v":{"$error":"#VALUE!"}},{"$f":"AM$28*$B39/$B$28","v":{"$error":"#VALUE!"}},{"$f":"AM$29*$B39/$B$29","v":{"$error":"#VALUE!"}},{"$f":"AM$30*$B39/$B$30","v":{"$error":"#VALUE!"}},{"$f":"AM$31*$B39/$B$31","v":{"$error":"#VALUE!"}},{"$f":"AM$32*$B39/$B$32","v":{"$error":"#VALUE!"}},{"$f":"AM$33*$B39/$B$33","v":{"$error":"#VALUE!"}},{"$f":"AM$34*$B39/$B$34","v":{"$error":"#VALUE!"}},{"$f":"AM$35*$B39/$B$35","v":{"$error":"#VALUE!"}},{"$f":"AM$36*$B39/$B$36","v":{"$error":"#VALUE!"}},{"$f":"AM$37*$B39/$B$37","v":{"$error":"#VALUE!"}},{"$f":"AM$38*$B39/$B$38","v":{"$error":"#VALUE!"}},{"$f":"$C$3","v":0}]
[38,"=",{"$f":"AN$3*$B40/$B$3","v":{"$error":"#VALUE!"}},{"$f":"AN$4*$B40/$B$4","v":{"$error":"#VALUE!"}},{"$f":"AN$5*$B40/$B$5","v":{"$error":"#VALUE!"}},{"$f":"AN$6*$B40/$B$6","v":{"$error":"#VALUE!"}},{"$f":"AN$7*$B40/$B$7","v":{"$error":"#VALUE!"}},{"$f":"AN$8*$B40/$B$8","v":{"$error":"#VALUE!"}},{"$f":"AN$9*$B40/$B$9","v":{"$error":"#VALUE!"}},{"$f":"AN$10*$B40/$B$10","v":{"$error":"#VALUE!"}},{"$f":"AN$11*$B40/$B$11","v":{"$error":"#VALUE!"}},{"$f":"AN$12*$B40/$B$12","v":{"$error":"#VALUE!"}},{"$f":"AN$13*$B40/$B$13","v":{"$error":"#VALUE!"}},{"$f":"AN$14*$B40/$B$14","v":{"$error":"#VALUE!"}},{"$f":"AN$15*$B40/$B$15","v":{"$error":"#VALUE!"}},{"$f":"AN$16*$B40/$B$16","v":{"$error":"#VALUE!"}},{"$f":"AN$17*$B40/$B$17","v":{"$error":"#VALUE!"}},{"$f":"AN$18*$B40/$B$18","v":{"$error":"#VALUE!"}},{"$f":"AN$19*$B40/$B$19","v":{"$error":"#VALUE!"}},{"$f":"AN$20*$B40/$B$20","v":{"$error":"#VALUE!"}},{"$f":"AN$21*$B40/$B$21","v":{"$error":"#VALUE!"}},{"$f":"AN$22*$B40/$B$22","v":{"$error":"#VALUE!"}},{"$f":"AN$23*$B40/$B$23","v":{"$error":"#VALUE!"}},{"$f":"AN$24*$B40/$B$24","v":{"$error":"#VALUE!"}},{"$f":"AN$25*$B40/$B$25","v":{"$error":"#VALUE!"}},{"$f":"AN$26*$B40/$B$26","v":{"$error":"#VALUE!"}},{"$f":"AN$27*$B40/$B$27","v":{"$error":"#VALUE!"}},{"$f":"AN$28*$B40/$B$28","v":{"$error":"#VALUE!"}},{"$f":"AN$29*$B40/$B$29","v":{"$error":"#VALUE!"}},{"$f":"AN$30*$B40/$B$30","v":{"$error":"#VALUE!"}},{"$f":"AN$31*$B40/$B$31","v":{"$error":"#VALUE!"}},{"$f":"AN$32*$B40/$B$32","v":{"$error":"#VALUE!"}},{"$f":"AN$33*$B40/$B$33","v":{"$error":"#VALUE!"}},{"$f":"AN$34*$B40/$B$34","v":{"$error":"#VALUE!"}},{"$f":"AN$35*$B40/$B$35","v":{"$error":"#VALUE!"}},{"$f":"AN$36*$B40/$B$36","v":{"$error":"#VALUE!"}},{"$f":"AN$37*$B40/$B$37","v":{"$error":"#VALUE!"}},{"$f":"AN$38*$B40/$B$38","v":{"$error":"#VALUE!"}},{"$f":"AN$39*$B40/$B$39","v":{"$error":"#VALUE!"}},{"$f":"$C$3","v":0}]
[39,"=",{"$f":"AO$3*$B41/$B$3","v":{"$error":"#VALUE!"}},{"$f":"AO$4*$B41/$B$4","v":{"$error":"#VALUE!"}},{"$f":"AO$5*$B41/$B$5","v":{"$error":"#VALUE!"}},{"$f":"AO$6*$B41/$B$6","v":{"$error":"#VALUE!"}},{"$f":"AO$7*$B41/$B$7","v":{"$error":"#VALUE!"}},{"$f":"AO$8*$B41/$B$8","v":{"$error":"#VALUE!"}},{"$f":"AO$9*$B41/$B$9","v":{"$error":"#VALUE!"}},{"$f":"AO$10*$B41/$B$10","v":{"$error":"#VALUE!"}},{"$f":"AO$11*$B41/$B$11","v":{"$error":"#VALUE!"}},{"$f":"AO$12*$B41/$B$12","v":{"$error":"#VALUE!"}},{"$f":"AO$13*$B41/$B$13","v":{"$error":"#VALUE!"}},{"$f":"AO$14*$B41/$B$14","v":{"$error":"#VALUE!"}},{"$f":"AO$15*$B41/$B$15","v":{"$error":"#VALUE!"}},{"$f":"AO$16*$B41/$B$16","v":{"$error":"#VALUE!"}},{"$f":"AO$17*$B41/$B$17","v":{"$error":"#VALUE!"}},{"$f":"AO$18*$B41/$B$18","v":{"$error":"#VALUE!"}},{"$f":"AO$19*$B41/$B$19","v":{"$error":"#VALUE!"}},{"$f":"AO$20*$B41/$B$20","v":{"$error":"#VALUE!"}},{"$f":"AO$21*$B41/$B$21","v":{"$error":"#VALUE!"}},{"$f":"AO$22*$B41/$B$22","v":{"$error":"#VALUE!"}},{"$f":"AO$23*$B41/$B$23","v":{"$error":"#VALUE!"}},{"$f":"AO$24*$B41/$B$24","v":{"$error":"#VALUE!"}},{"$f":"AO$25*$B41/$B$25","v":{"$error":"#VALUE!"}},{"$f":"AO$26*$B41/$B$26","v":{"$error":"#VALUE!"}},{"$f":"AO$27*$B41/$B$27","v":{"$error":"#VALUE!"}},{"$f":"AO$28*$B41/$B$28","v":{"$error":"#VALUE!"}},{"$f":"AO$29*$B41/$B$29","v":{"$error":"#VALUE!"}},{"$f":"AO$30*$B41/$B$30","v":{"$error":"#VALUE!"}},{"$f":"AO$31*$B41/$B$31","v":{"$error":"#VALUE!"}},{"$f":"AO$32*$B41/$B$32","v":{"$error":"#VALUE!"}},{"$f":"AO$33*$B41/$B$33","v":{"$error":"#VALUE!"}},{"$f":"AO$34*$B41/$B$34","v":{"$error":"#VALUE!"}},{"$f":"AO$35*$B41/$B$35","v":{"$error":"#VALUE!"}},{"$f":"AO$36*$B41/$B$36","v":{"$error":"#VALUE!"}},{"$f":"AO$37*$B41/$B$37","v":{"$error":"#VALUE!"}},{"$f":"AO$38*$B41/$B$38","v":{"$error":"#VALUE!"}},{"$f":"AO$39*$B41/$B$39","v":{"$error":"#VALUE!"}},{"$f":"AO$40*$B41/$B$40","v":{"$error":"#VALUE!"}},{"$f":"$C$3","v":0}]
[40,"=",{"$f":"AP$3*$B42/$B$3","v":{"$error":"#VALUE!"}},{"$f":"AP$4*$B42/$B$4","v":{"$error":"#VALUE!"}},{"$f":"AP$5*$B42/$B$5","v":{"$error":"#VALUE!"}},{"$f":"AP$6*$B42/$B$6","v":{"$error":"#VALUE!"}},{"$f":"AP$7*$B42/$B$7","v":{"$error":"#VALUE!"}},{"$f":"AP$8*$B42/$B$8","v":{"$error":"#VALUE!"}},{"$f":"AP$9*$B42/$B$9","v":{"$error":"#VALUE!"}},{"$f":"AP$10*$B42/$B$10","v":{"$error":"#VALUE!"}},{"$f":"AP$11*$B42/$B$11","v":{"$error":"#VALUE!"}},{"$f":"AP$12*$B42/$B$12","v":{"$error":"#VALUE!"}},{"$f":"AP$13*$B42/$B$13","v":{"$error":"#VALUE!"}},{"$f":"AP$14*$B42/$B$14","v":{"$error":"#VALUE!"}},{"$f":"AP$15*$B42/$B$15","v":{"$error":"#VALUE!"}},{"$f":"AP$16*$B42/$B$16","v":{"$error":"#VALUE!"}},{"$f":"AP$17*$B42/$B$17","v":{"$error":"#VALUE!"}},{"$f":"AP$18*$B42/$B$18","v":{"$error":"#VALUE!"}},{"$f":"AP$19*$B42/$B$19","v":{"$error":"#VALUE!"}},{"$f":"AP$20*$B42/$B$20","v":{"$error":"#VALUE!"}},{"$f":"AP$21*$B42/$B$21","v":{"$error":"#VALUE!"}},{"$f":"AP$22*$B42/$B$22","v":{"$error":"#VALUE!"}},{"$f":"AP$23*$B42/$B$23","v":{"$error":"#VALUE!"}},{"$f":"AP$24*$B42/$B$24","v":{"$error":"#VALUE!"}},{"$f":"AP$25*$B42/$B$25","v":{"$error":"#VALUE!"}},{"$f":"AP$26*$B42/$B$26","v":{"$error":"#VALUE!"}},{"$f":"AP$27*$B42/$B$27","v":{"$error":"#VALUE!"}},{"$f":"AP$28*$B42/$B$28","v":{"$error":"#VALUE!"}},{"$f":"AP$29*$B42/$B$29","v":{"$error":"#VALUE!"}},{"$f":"AP$30*$B42/$B$30","v":{"$error":"#VALUE!"}},{"$f":"AP$31*$B42/$B$31","v":{"$error":"#VALUE!"}},{"$f":"AP$32*$B42/$B$32","v":{"$error":"#VALUE!"}},{"$f":"AP$33*$B42/$B$33","v":{"$error":"#VALUE!"}},{"$f":"AP$34*$B42/$B$34","v":{"$error":"#VALUE!"}},{"$f":"AP$35*$B42/$B$35","v":{"$error":"#VALUE!"}},{"$f":"AP$36*$B42/$B$36","v":{"$error":"#VALUE!"}},{"$f":"AP$37*$B42/$B$37","v":{"$error":"#VALUE!"}},{"$f":"AP$38*$B42/$B$38","v":{"$error":"#VALUE!"}},{"$f":"AP$39*$B42/$B$39","v":{"$error":"#VALUE!"}},{"$f":"AP$40*$B42/$B$40","v":{"$error":"#VALUE!"}},{"$f":"AP$41*$B42/$B$41","v":{"$error":"#VALUE!"}},{"$f":"$C$3","v":0}]
[null,"="]
[]
["Vloží plochy jednotlivých konstrukcí předtím, než bude poprvé spuštěn výpočet"]
["Slouží k usnadnění práce uživateli, aby mohl kontrolovat poměry osálání dopočítané pravidlem reciprocity"]

{"sheet":"Výpočetní pomůcky_fi","index":5,"n_rows":115,"n_cols":31,"rows_kept":115,"cut":false,"hidden":false,"merged":[]}
[null,"Případ poměru osálání","Vzorec","Řešení","Vstupní hodnoty"]
[null,null,null,"ϕ2,1","a [m]","b [m]","c [m]"]
[null,null,null,{"$f":"(1/(E3*F3*PI()))*(E3*F3*ATAN(E3/F3)-E3*SQRT(F3^2+G3^2)*ATAN(E3/(SQRT(F3^2+G3^2)))+E3*G3*ATAN(E3/G3)+((F3^2)/4)*LN(((E3^2+F3^2+G3^2)*F3^2)/((E3^2+F3^2)*(F3^2+G3^2)))+((G3^2)/4)*LN(((E3^2+F3^2+G3^2)*G3^2)/((E3^2+G3^2)*(F3^2+G3^2)))-((E3^2)/4)*LN(((E3^2+F3^2+G3^2)*E3^2)/((E3^2+F3^2)*(E3^2+G3^2))))","v":{"$error":"#DIV/0!"}}]
[]
[]
[]
[]
[]
[]
[]
[]
[]
[null,null,null,"ϕD,A","AA [m2]","AB [m2]","AAB [m2]","ϕ(CD),(AB)","ϕC,A","ϕD,B"]
[null,null,null,{"$f":"(1/(2*E14))*(H14*G14-E14*I14-F14*J14)","v":{"$error":"#DIV/0!"}}]
[]
[]
[]
[]
[]
[]
[]
[]
[]
[null,null,null,"ϕD,A","AA [m2]","AB [m2]","AAB [m2]","ϕ(CD),(AB)","ϕC,A","ϕD,B"]
[null,null,null,{"$f":"(1/(2*E25))*(H25*G25-E25*I25-F25*J25)","v":{"$error":"#DIV/0!"}}]
[]
[]
[]
[]
[]
[]
[]
[]
[]
[null,null,null,"ϕD,A","AA [m2]","AB [m2]","AAB [m2]","ϕ(CD),(AB)","ϕ(CD),B","ϕC,(AB)","ϕC,B"]
[null,null,null,{"$f":"(1/E36)*(G36*H36-F36*I36-G36*J36+F36*K36)","v":{"$error":"#DIV/0!"}}]
[]
[]
[]
[]
[]
[]
[]
[]
[]
[null,null,null,"ϕC,A","AA [m2]","AB [m2]","AAB [m2]","ϕC,(AB)","ϕC,B"]
[null,null,null,{"$f":"(1/E47)*(G47*H47-F47*I47)","v":{"$error":"#DIV/0!"}}]
[]
[]
[]
[]
[]
[]
[]
[]
[]
[null,null,null,"ϕ2,1","K1","K2","a [m]","b [m]","L [m]"]
[null,null,null,{"$f":"(2/PI())*((((1+F58^2)^0.5)/F58)*ATAN(E58/((1+F58^2)^0.5))+(((1+E58^2)^0.5)/E58)*ATAN(F58/((1+E58^2)^0.5))-(1/F58)*ATAN(E58)-(1/E58)*ATAN(F58)+(1/(2*E58*F58))*LN(((1+E58^2)*(1+F58^2))/(1+E58^2+F58^2)))","v":{"$error":"#DIV/0!"}},{"$f":"G58/I58","v":{"$error":"#DIV/0!"}},{"$f":"H58/I58","v":{"$error":"#DIV/0!"}}]
[]
[]
[]
[]
[]
[]
[]
[]
[]
[null,null,null,"ϕB',A","AA [m2]","AB [m2]","AAB [m2]","ϕ(A'B'),(AB)","ϕA',A","ϕB',B"]
[null,null,null,{"$f":"(1/(2*E69))*(G69*H69-E69*I69-F69*J69)","v":{"$error":"#DIV/0!"}}]
[]
[]
[]
[]
[]
[]
[]
[]
[]
[null,null,null,"ϕD',A","AA [m2]","AB [m2]","AC [m2]","AD [m2]","AS [m2]"]
[null,null,null,{"$f":"(1/(4*E80))*(E82*I80-(F82+G82+H82)*E80-(F84+G84+H84)*F80-(F86+G86+H86)*G80-(F88+G88+H88)*H80)","v":{"$error":"#DIV/0!"}}]
[null,null,null,null,"ϕS',S","ϕA',A","ϕB',A","ϕC',A"]
[]
[null,null,null,null,null,"ϕA',B","ϕB',B","ϕD',B"]
[]
[null,null,null,null,null,"ϕA',C","ϕC',C","ϕD',C"]
[]
[null,null,null,null,null,"ϕB',D","ϕC',D","ϕD',D"]
[]
[]
[null,null,null,"ϕ1,2","A1"]
[null,null,null,{"$f":"SUM(AE98:AE113)/((F92-F91)*(F94-F93))","v":{"$error":"#DIV/0!"}},"x1"]
[null,null,null,"ϕ2,1","x2"]
[null,null,null,{"$f":"(D91*(F92-F91)*(F94-F93))/((F97-F96)*(F99-F98))","v":{"$error":"#DIV/0!"}},"y1"]
[null,null,null,null,"y2"]
[null,null,null,null,"A2"]
[null,null,null,null,"ξ1",null,null,null,null,null,null,null,null,"rovnobezne",null,null,null,null,null,null,null,null,null,null,null,"kolme"]
[null,null,null,null,"ξ2",null,null,null,null,null,null,null,null,"i","j","k","l","(-1)i+j+k+l","z","h","x","x","y","G","iG","h","x","x","y","G","iG"]
[null,null,null,null,"η1",null,null,null,null,null,null,null,null,1,1,1,1,{"$f":"(-1)^(N98+O98+P98+Q98)","v":1},{"$f":"$F$113","v":0},{"$f":"$F$111","v":0},{"$f":"$F$109","v":0},{"$f":"$F$104","v":0},{"$f":"$F$106","v":0},{"$f":"1/2/PI()*((W98-T98)*((V98-U98)^2+S98^2)^0.5*ATAN((W98-T98)/((V98-U98)^2+S98^2)^0.5)+(V98-U98)*((W98-T98)^2+S98^2)^0.5*ATAN((V98-U98)/((W98-T98)^2+S98^2)^0.5)-S98^2/2*LN((V98-U98)^2+(W98-T98)^2+S98^2))","v":{"$error":"#DIV/0!"}},{"$f":"X98*R98","v":{"$error":"#DIV/0!"}},{"$f":"$F$98","v":0},{"$f":"$F$96","v":0},{"$f":"$F$91","v":0},{"$f":"$F$93","v":0},{"$f":"1/2/PI()*((AC98-Z98)*(AB98^2+AA98^2)^0.5*ATAN((AC98-Z98)/(AB98^2+AA98^2)^0.5)-1/4*(AB98^2+AA98^2-(AC98-Z98)^2)*LN(AB98^2+(AC98-Z98)^2+AA98^2))","v":{"$error":"#DIV/0!"}},{"$f":"AD98*R98","v":{"$error":"#DIV/0!"}}]
[null,null,null,null,"η2",null,null,null,null,null,null,null,null,1,1,1,2,{"$f":"(-1)^(N99+O99+P99+Q99)","v":-1},{"$f":"$F$113","v":0},{"$f":"$F$111","v":0},0,{"$f":"$F$104","v":0},{"$f":"$F$107","v":0},{"$f":"1/2/PI()*((W99-T99)*((V99-U99)^2+S99^2)^0.5*ATAN((W99-T99)/((V99-U99)^2+S99^2)^0.5)+(V99-U99)*((W99-T99)^2+S99^2)^0.5*ATAN((V99-U99)/((W99-T99)^2+S99^2)^0.5)-S99^2/2*LN((V99-U99)^2+(W99-T99)^2+S99^2))","v":{"$error":"#DIV/0!"}},{"$f":"X99*R99","v":{"$error":"#DIV/0!"}},{"$f":"Z98","v":0},{"$f":"AA98","v":0},{"$f":"AB98","v":0},{"$f":"$F$94","v":0},{"$f":"1/2/PI()*((AC99-Z99)*(AB99^2+AA99^2)^0.5*ATAN((AC99-Z99)/(AB99^2+AA99^2)^0.5)-1/4*(AB99^2+AA99^2-(AC99-Z99)^2)*LN(AB99^2+(AC99-Z99)^2+AA99^2))","v":{"$error":"#DIV/0!"}},{"$error":"#DIV/0!"}]
[null,null,null,null,null,null,null,null,null,null,null,null,null,1,1,2,1,{"$f":"(-1)^(N100+O100+P100+Q100)","v":-1},0,0,0,{"$f":"$F$105","v":0},{"$f":"$F$106","v":0},{"$f":"1/2/PI()*((W100-T100)*((V100-U100)^2+S100^2)^0.5*ATAN((W100-T100)/((V100-U100)^2+S100^2)^0.5)+(V100-U100)*((W100-T100)^2+S100^2)^0.5*ATAN((V100-U100)/((W100-T100)^2+S100^2)^0.5)-S100^2/2*LN((V100-U100)^2+(W100-T100)^2+S100^2))","v":{"$error":"#DIV/0!"}},{"$error":"#DIV/0!"},{"$f":"Z99","v":0},{"$f":"AA99","v":0},{"$f":"$F$92","v":0},{"$f":"$F$93","v":0},{"$error":"#DIV/0!"},{"$error":"#DIV/0!"}]
[null,null,null,null,null,null,null,null,null,null,null,null,null,1,1,2,2,{"$f":"(-1)^(N101+O101+P101+Q101)","v":1},0,0,{"$f":"$F$109","v":0},{"$f":"$F$105","v":0},{"$f":"$F$107","v":0},{"$f":"1/2/PI()*((W101-T101)*((V101-U101)^2+S101^2)^0.5*ATAN((W101-T101)/((V101-U101)^2+S101^2)^0.5)+(V101-U101)*((W101-T101)^2+S101^2)^0.5*ATAN((V101-U101)/((W101-T101)^2+S101^2)^0.5)-S101^2/2*LN((V101-U101)^2+(W101-T101)^2+S101^2))","v":{"$error":"#DIV/0!"}},{"$error":"#DIV/0!"},0,0,{"$f":"$F$92","v":0},{"$f":"$F$94","v":0},{"$error":"#DIV/0!"},{"$error":"#DIV/0!"}]
[null,"Převzato z  [7]",null,null,null,null,null,null,null,null,null,null,null,1,2,1,1,{"$f":"(-1)^(N102+O102+P102+Q102)","v":-1},0,0,{"$f":"$F$110","v":0},{"$f":"$F$104","v":0},{"$f":"$F$106","v":0},{"$error":"#DIV/0!"},{"$error":"#DIV/0!"},0,{"$f":"$F$97","v":0},{"$f":"$F$91","v":0},{"$f":"$F$93","v":0},{"$error":"#DIV/0!"},{"$error":"#DIV/0!"}]
[null,null,null,"ϕ1,2","A1",null,null,null,null,null,null,null,null,1,2,1,2,1,0,0,{"$f":"$F$110","v":0},{"$f":"$F$104","v":0},{"$f":"$F$107","v":0},{"$error":"#DIV/0!"},{"$error":"#DIV/0!"},0,{"$f":"AA102","v":0},{"$f":"AB102","v":0},{"$f":"$F$94","v":0},{"$error":"#DIV/0!"},{"$error":"#DIV/0!"}]
[null,null,null,{"$f":"SUM(Y98:Y113)/((F105-F104)*(F107-F106))","v":{"$error":"#DIV/0!"}},"x1",null,null,null,null,null,null,null,null,1,2,2,1,1,0,0,{"$f":"$F$110","v":0},{"$f":"$F$105","v":0},{"$f":"$F$106","v":0},{"$error":"#DIV/0!"},{"$error":"#DIV/0!"},0,{"$f":"AA103","v":0},{"$f":"$F$92","v":0},{"$f":"$F$93","v":0},{"$error":"#DIV/0!"},{"$error":"#DIV/0!"}]
[null,null,null,"ϕ2,1","x2",null,null,null,null,null,null,null,null,1,2,2,2,-1,0,0,{"$f":"$F$110","v":0},{"$f":"$F$105","v":0},{"$f":"$F$107","v":0},{"$error":"#DIV/0!"},{"$error":"#DIV/0!"},0,{"$f":"AA104","v":0},{"$f":"$F$92","v":0},{"$f":"$F$94","v":0},{"$error":"#DIV/0!"},{"$error":"#DIV/0!"}]
[null,null,null,{"$f":"(D104*(F105-F104)*(F107-F106))/((F110-F109)*(F112-F111))","v":{"$error":"#DIV/0!"}},"y1",null,null,null,null,null,null,null,null,2,1,1,1,-1,0,{"$f":"$F$112","v":0},{"$f":"$F$109","v":0},{"$f":"$F$104","v":0},{"$f":"$F$106","v":0},{"$error":"#DIV/0!"},{"$error":"#DIV/0!"},{"$f":"$F$99","v":0},{"$f":"AA98","v":0},{"$f":"$F$91","v":0},{"$f":"$F$93","v":0},{"$error":"#DIV/0!"},{"$error":"#DIV/0!"}]
[null,null,null,null,"y2",null,null,null,null,null,null,null,null,2,1,1,2,1,0,{"$f":"$F$112","v":0},0,{"$f":"$F$104","v":0},{"$f":"$F$107","v":0},{"$error":"#DIV/0!"},{"$error":"#DIV/0!"},{"$f":"Z106","v":0},{"$f":"AA99","v":0},{"$f":"AB106","v":0},{"$f":"$F$94","v":0},{"$error":"#DIV/0!"},{"$error":"#DIV/0!"}]
[null,null,null,null,"A2",null,null,null,null,null,null,null,null,2,1,2,1,1,0,0,0,{"$f":"$F$105","v":0},{"$f":"$F$106","v":0},{"$error":"#DIV/0!"},{"$error":"#DIV/0!"},{"$f":"Z107","v":0},{"$f":"AA100","v":0},{"$f":"$F$92","v":0},{"$f":"$F$93","v":0},{"$error":"#DIV/0!"},{"$error":"#DIV/0!"}]
[null,null,null,null,"ξ1",null,null,null,null,null,null,null,null,2,1,2,2,-1,0,0,0,{"$f":"$F$105","v":0},{"$f":"$F$107","v":0},{"$error":"#DIV/0!"},{"$error":"#DIV/0!"},0,{"$f":"AA101","v":0},{"$f":"$F$92","v":0},{"$f":"$F$94","v":0},{"$error":"#DIV/0!"},{"$error":"#DIV/0!"}]
[null,null,null,null,"ξ2",null,null,null,null,null,null,null,null,2,2,1,1,1,0,0,{"$f":"$F$110","v":0},{"$f":"$F$104","v":0},{"$f":"$F$106","v":0},{"$error":"#DIV/0!"},{"$error":"#DIV/0!"},0,{"$f":"AA102","v":0},{"$f":"$F$91","v":0},{"$f":"$F$93","v":0},{"$error":"#DIV/0!"},{"$error":"#DIV/0!"}]
[null,null,null,null,"η1",null,null,null,null,null,null,null,null,2,2,1,2,-1,0,0,{"$f":"$F$110","v":0},{"$f":"$F$104","v":0},{"$f":"$F$107","v":0},{"$error":"#DIV/0!"},{"$error":"#DIV/0!"},0,{"$f":"AA103","v":0},{"$f":"AB110","v":0},{"$f":"$F$94","v":0},{"$error":"#DIV/0!"},{"$error":"#DIV/0!"}]
[null,null,null,null,"η2",null,null,null,null,null,null,null,null,2,2,2,1,-1,0,0,{"$f":"$F$110","v":0},{"$f":"$F$105","v":0},{"$f":"$F$106","v":0},{"$error":"#DIV/0!"},{"$error":"#DIV/0!"},0,0,{"$f":"$F$92","v":0},{"$f":"$F$93","v":0},{"$error":"#DIV/0!"},{"$error":"#DIV/0!"}]
[null,null,null,null,"z",null,null,null,null,null,null,null,null,2,2,2,2,1,0,0,{"$f":"$F$110","v":0},{"$f":"$F$105","v":0},{"$f":"$F$107","v":0},{"$error":"#DIV/0!"},{"$error":"#DIV/0!"},0,{"$f":"AA105","v":0},{"$f":"$F$92","v":0},{"$f":"$F$94","v":0},{"$error":"#DIV/0!"},{"$error":"#DIV/0!"}]
[]
[null,"Převzato z  [7]"]

{"sheet":"Výsledek","index":6,"n_rows":79,"n_cols":153,"rows_kept":79,"cut":false,"hidden":false,"merged":[[13,6,13,11],[13,12,13,19],[11,6,11,11],[11,12,11,19],[12,0,12,5],[12,6,12,11],[12,12,12,19],[11,0,11,5],[13,0,13,5],[9,6,9,11],[9,12,9,19],[10,0,10,5],[10,6,10,11],[10,12,10,19],[9,0,9,5],[7,6,7,11],[7,12,7,19],[8,0,8,5],[8,6,8,11],[8,12,8,19],[7,0,7,5],[57,1,58,1],[62,1,63,1],[67,1,68,1],[72,1,73,1],[77,1,78,1],[43,0,53,0],[17,1,18,1],[22,1,23,1],[27,1,28,1],[32,1,33,1],[37,1,38,1],[42,1,43,1],[47,1,48,1],[52,1,53,1]]}
[null,-12,-8,-3,3,8,12]
["DP - MEVA - ver_5_1_2016_2.xlsm - 9.1.2016 - 20:18:15 - rovina YZ - X = 21 m"]
["Požadovaná operativní teplota - to = 18 °C"]
["Krok výpočtu -> 0,1 m"]
[]
["Legenda:"]
[null,null,null,null,null,null,null,null,"Barevné označení:",null,null,null,null,null,null,null,null,null,null,null,"∆ = tg,vyp - tg,pož"]
[null,null,null,null,null,null,null,null,null,null,null,null,null,null,null,null,null,null,null,null,"( -∞ ; -12 )"]
[null,null,null,null,null,null,null,null,null,null,null,null,null,null,null,null,null,null,null,null,"< -12 ; -8 )"]
[null,null,null,null,null,null,null,null,null,null,null,null,null,null,null,null,null,null,null,null,"< -8 ; -3 )"]
[null,null,null,null,null,null,null,null,null,null,null,null,null,null,null,null,null,null,null,null,"< -3 ; 3 >"]
[null,null,null,null,null,null,null,null,null,null,null,null,null,null,null,null,null,null,null,null,"( 3 ; 8 >"]
[null,null,null,null,null,null,null,null,null,null,null,null,null,null,null,null,null,null,null,null,"( 8 ; 12 >"]
[null,null,null,null,null,null,null,null,null,null,null,null,null,null,null,null,null,null,null,null,"( 12 ; ∞ )"]
[]
[null,null,null,null,null,null,null,null,null,null,null,null,null,null,null,null,null,null,null,null,null,null,null,null,null,null,null,null,null,null,null,null,null,null,null,null,null,null,null,null,null,null,null,null,null,null,null,null,null,null,null,null,null,null,null,null,null,null,null,null,null,null,null,null,null,null,null,null,null,null,null,null,null,null,null,null,"Y [m]"]
[null,null,null,0,null,null,null,null,"0,5",null,null,null,null,"1",null,null,null,null,"1,5",null,null,null,null,"2",null,null,null,null,"2,5",null,null,null,null,"3",null,null,null,null,"3,5",null,null,null,null,"4",null,null,null,null,"4,5",null,null,null,null,"5",null,null,null,null,"5,5",null,null,null,null,"6",null,null,null,null,"6,5",null,null,null,null,"7",null,null,null,null,"7,5",null,null,null,null,"8",null,null,null,null,"8,5",null,null,null,null,"9",null,null,null,null,"9,5",null,null,null,null,"10",null,null,null,null,"10,5",null,null,null,null,"11",null,null,null,null,"11,5",null,null,null,null,"12",null,null,null,null,"12,5",null,null,null,null,"13",null,null,null,null,"13,5",null,null,null,null,"14",null,null,null,null,"14,5",null,null,null,"14,9"]
[null,"5,95"]
[null,null,null,1.9800345469151779,1.9752423592597808,1.9764870026430259,1.9777338675780953,1.9789831391787089,1.9802349640257972,1.9814894397800202,1.9827466068634152,1.9840064424578401,1.9852688569321373,1.9865336926743993,1.9878007251872845,1.9890696662119893,1.9903401685715636,1.991611832389637,1.992884212317918,1.9941568254206885,1.9954291593821978,1.996700680746315,1.9979708429423084,1.9992390938965485,2.000504883083309,2.0017676679101015,2.003026919374733,2.0042821269673397,2.0055328028157504,2.0067784850993036,2.0080187407692307,2.0092531676276195,2.0104813958214862,2.0117030888154233,2.0129179439048386,2.0141256923312909,16.656145784495394,16.657043328496869,16.657935075931604,16.658820922968843,16.659700788695531,16.660574614219385,16.661442361714464,16.662304013423537,16.663159570639706,16.664009052677713,16.664852495851463,2.0280101190354998,2.0291151675639441,2.03021245019535,2.0313020926321457,2.0323842368282072,2.033459039864951,2.0345266728833593,2.0355873200754075,2.0366411777333582,2.0376884533595927,2.0387293648334577,2.039764139637569,2.0407930141384583,2.0418162329239209,2.0428340481915228,2.0438467191895171,-0.12666260136920471,-0.12561368695524777,-0.1245693002828574,-0.12352914565066442,-0.12249292219426877,-0.12146032419956043,-0.12043104137946159,-0.11940475911505644,-0.11838115866414967,-0.11735991733824847,-0.11634070865220281,-0.11532320244513983,-0.11430706497755239,-0.11329195900525235,-0.11227754383126864,-0.11126347533895853,-0.11024940600624689,-0.10923498490431882,-0.10821985768073716,-0.1072036665306797,-0.10618605015538662,-0.10516664371142781,-0.10414507875073298,-0.10312098315547757,-0.102093981066119,-0.10106369280693173,-0.1000297348098087,-9.8991719538176426E-2,-9.7949255413467995E-2,-9.6901946745063583E-2,2.0743249086531108,2.07533701403257,2.0763549137266608,2.0773790024483816,2.0784096790365112,2.0794473464457752,2.0804924117143599,2.0815452859043972,2.0826063840102762,2.0836761248316833,2.0847549308046922,2.0858432277862988,2.086941444785694,2.0880500136350832,2.0891693685937156,2.0902999458758273,19.720362579949054,19.721184887170708,19.722016132194298,19.72285662689076,19.723706681800863,19.724566605318259,19.725436702763417,19.726317275334466,19.727208618924962,19.728111022798217,2.1036014630720814,2.1049003413141207,2.1062158718300594,2.1075483997158102,2.108898247860779,2.1102657135644876,2.1116510648605384,2.1130545365512461,2.1144763259535893,2.1159165883690179,2.1173754322985161,2.1188529144321961,2.1203490344552307,2.1218637297265417,2.1233968698972916,2.1249482515556934,2.1265175929971321,2.1281045292356993,2.1297086073856377,2.1313292825584682,2.1329659144243891,2.1346177645990139,2.1362839950121923,2.1379636674119098,2.1396557441432975,2.1413590903200799,2.1430724774806293,2.1447945887803854,2.1465240257331715,2.1482593164630117,2.1499989253799896,2.1517412641385789,2.1534847036922287,2.1552275872103479]
[null,null,null,1.9607404372172965,1.990789413549507,2.0053100726225779,2.0139487341889577,2.0206187401093842,2.026567458091435,2.0322989884442251,2.0380688764882819,2.0440363401680912,2.0503212529692831,2.0570295716618006,2.0642669620691976,2.0721478386834491,2.080802920986244,2.0903869522945087,2.1010877524224583,2.1131377550555754,2.1268294655314577,2.1425368822780371,2.1607459984904125,2.1820993506807014,2.2074628206085976,2.2380287486011667,2.2754804093889476,2.3222645451707393,2.3820636799953121,2.4606599500341844,2.5676224191295347,2.719884680987704,2.9501667030663015,3.3296828666211837,4.0409227668568093,5.6482931716958404,9.4088882994923182,12.905980927580586,14.239486500401668,14.775027191892619,15.013477187976562,15.09910653927524,15.071789036771875,14.919314084801229,14.562543840004864,13.736705542072812,11.508100414484076,7.2214888717305001,4.6663048045729312,3.6238766639973932,3.1131417838678743,2.8192948847465829,2.6307627746864028,2.4997749330747325,2.4025974418134268,2.3258562290420031,2.2609091010168498,2.2009493248726102,2.1387005120971736,2.0627550870278384,1.9472897312960669,1.7129754026307893,1.1623768702400668,0.60794689265527779,0.37463158409111941,0.26817208282740523,0.20867768953660004,0.17088389668369075,0.14495257174370124,0.12632665809887555,0.11261468206812708,0.1024435695926087,9.4972508257271215E-2,8.9663675321858705E-2,8.6164935536871212E-2,8.4246151107535638E-2,8.3763367664758448E-2,8.4638747755278132E-2,8.6850352589451063E-2,9.0429050124143373E-2,9.5461756681473275E-2,0.1021018074339537,0.11058917934435897,0.12128646512830699,0.13474272037616686,0.15181090000676534,0.17387718722100942,0.2033469623652735,0.24479115452781741,0.30805878959485256,0.41841150580991382,0.65567898256166757,1.2139163221187488,1.7685070455855652,2.0074204482441047,2.1279678462279179,2.2094616097062811,2.2777660295918025,2.3443422863906704,2.4165031291912413,2.501020220217768,2.6062969859423362,2.7449141269381272,2.9382497065938793,3.2269308024930723,3.698694408410816,4.5771004145064325,6.5479700994498131,11.104509783532123,15.285056275798908,16.867238773044519,17.501585361196092,17.784426730066755,17.886818313422523,17.855990173050927,17.677541407817372,17.257825063805555,16.282622139944451,13.635442747955992,8.4843318839772195,5.3743870303132582,4.0983317593881594,3.4736226454106855,3.116393892667034,2.8901048904582325,2.7364143481295145,2.6266883055064767,2.5453743155664057,2.4833573999932099,2.4349715337946947,2.3965259557565588,2.3655234738678956,2.3402205914536154,2.3193676276411708,2.3020488013504377,2.2875803959851027,2.2754440158136191,2.2652417987169002,2.2566658298305953,2.2494770688609407,2.2434909419393847,2.2385679343897351,2.2346084014055947,2.2315516646718407,2.2293806345695515,2.2281353826035541,2.2279440503478014,2.2290924440790576,2.2321923907001491,2.2386439502865727,2.2521496702477322,2.2846052371996706,2.3654198852770065]
[null,null,null,2.0005379780788957,2.0218418629822708,2.0387075567176254,2.0517775600673787,2.0628418230772212,2.0730372195657054,2.0830020655169363,2.0931238212317993,2.1036717003484142,2.1148623838521843,2.1268948606794851,2.139971508627653,2.1543133806025452,2.1701737424068455,2.1878523115664024,2.2077121245834377,2.2302010329023432,2.2558803621699468,2.2854643266507964,2.3198756082615404,2.3603255725901278,2.4084328231775913,2.4664029511455254,2.5373088849867287,2.6255422540545084,2.7375666503848919,2.8832267261922055,3.0781282962607435,3.3481781619214104,3.7386282798286601,4.3323170543093426,5.2818083005605416,6.8177289782178576,8.9683644685163557,11.017810307827929,12.348924714149277,13.083752420503671,13.458064228824767,13.599400074656572,13.552795676264807,13.303840408912365,12.770832884555645,11.770711134986854,10.059831871632767,7.8342551811121126,5.9506453270809772,4.7337153984893661,3.9821466425632224,3.4977232589787519,3.1670084109788519,2.9284609559048107,2.7471797079348477,2.6018474531404507,2.478030345927877,2.3642897688828697,2.2491671922760617,2.1175658076719088,1.9451573179378414,1.6946664252453871,1.3514408017103818,1.0105238855229999,0.769725250801784,0.61770400417258031,0.51902882956035512,0.4514205658871191,0.40294968055157199,0.36709294181009966,0.34008296980614716,0.31962385507968349,0.30425360909880794,0.29301190278728484,0.28525830800775509,0.28056892112617504,0.27867631013141647,0.27943511000900401,0.28280425865069958,0.28884159061676939,0.29770952246242643,0.30969309891766272,0.32523468355780949,0.34499429730637132,0.36995326374265858,0.40159617680014037,0.44224320819584761,0.49568729353082119,0.56847715293572776,0.67256401777224539,0.83023648940282158,1.0769137123477179,1.4239502571286806,1.7737280925147587,2.0314527385414323,2.2118892700623718,2.3523925285900162,2.4773944574658202,2.6021110364358009,2.7381045811232383,2.8968357666857543,3.0925264120121341,3.345689226693068,3.6889830639294274,4.1783655813749618,4.9151758915499073,6.084305905667506,7.9609613912178503,10.566430482487888,13.029356641730161,14.620428233598133,15.496969805390805,15.944058841710742,16.114568294731512,16.062362825603188,15.770356554361669,15.141042056077183,13.954689218257514,11.91386476185103,9.2398788505540068,6.9606742448419965,5.482169002560326,4.5694283251931296,3.984405191435215,3.5899003288740374,3.3115516925626736,3.1077060347663377,2.9538386739589129,2.8347957494780616,2.740806378539915,2.6653356749983033,2.6038740954196697,2.5532252136907942,2.5110706391673574,2.4756952967953083,2.4458088890972505,2.4204269527804598,2.3987899693320429,2.3803075003858254,2.364519313843445,2.3510685277508259,2.3396838018339707,2.3301690883763939,2.322400827445037,2.3163342076526163,2.3120230137152333,2.3096633528689807,2.3096841594023516,2.3129357965709261,2.3210861021031093,2.3373696441293959,2.3670459365973642,2.4118577916867281]
[null,null,null,2.0399707221986745,2.0585878618975784,2.0758720515490126,2.0914383091968176,2.1058147010198667,2.1196525681534553,2.1334753282093715,2.1476803486872171,2.162586523914527,2.178474720658059,2.1956166328890419,2.2142961174215969,2.234826983865716,2.2575701672946735,2.2829525686583594,2.3114896908561917,2.3438144697498871,2.3807154082899302,2.4231883842078474,2.4725085751964997,2.5303323042284802,2.5988440886440145,2.6809732529584522,2.7807197391208689,2.9036547945826925,3.0577068318494725,3.2544178195402509,3.5109723834789435,3.8534351777205273,4.3215401805766334,4.9738460313875379,5.8846218336297085,7.1026131870784042,8.5392818301918822,9.9160070405444145,10.980066668831896,11.681511294252957,12.081036991895573,12.239957950507844,12.186184478835926,11.910311912274423,11.366273064283448,10.484698700098491,9.2415544373796905,7.7896398163220368,6.4322053590773436,5.3620007642241632,4.5818422751995485,4.0203663399079943,3.6088756757295499,3.2979362113850215,3.0542315707608196,2.8550330699855095,2.683908212860743,2.5276765369793424,2.3740801887316394,2.2098809080111579,2.020189122659545,1.7930502424288335,1.5351310824130309,1.2825950351149373,1.0726851580327406,0.91432119988307647,0.79806003406055481,0.71207933352242492,0.64742260265883544,0.59807587917289595,0.56008898599044699,0.53084302672534989,0.50857242864104535,0.4920706990842092,0.48051071518737842,0.47333444617494536,0.47018540509732532,0.47086852864599393,0.47532899529154804,0.48364572483409063,0.49603826773373783,0.51288837888237993,0.53478053308241158,0.56256986577979262,0.59749282063681619,0.64134716083252385,0.6967863484930632,0.76779729084684334,0.86043200519382879,0.9836847472443111,1.149414379642522,1.3671072731989824,1.6279269167429646,1.8947916565741281,2.1317419756713747,2.3322952580798386,2.5085768956385692,2.6756616150672556,2.8469954449708013,3.0350552962468527,3.2532185843289625,3.5180243306136418,3.8521025811544547,4.2883612361123795,4.8758682460793779,5.6859104646722614,6.8075606512441738,8.2966966205774071,10.041464769105247,11.703905306115573,12.983785358883679,13.826269272253214,14.307096553221029,14.50092098391228,14.441596319644404,14.117948680707528,13.474452328312694,12.426518403451482,10.941736033160552,9.1990531160559073,7.5628480724638081,6.2701067886031439,5.3289467018709757,4.655641815338484,4.1682962593387316,3.8079644823216228,3.5354325549567278,3.3248972525900484,3.1591633003437636,3.0265338342829722,2.9188726064249551,2.8303961556448627,2.7569100766416028,2.6953166287712946,2.6432906725614913,2.599062085315083,2.5612669657229361,2.5288442577920165,2.5009630632807358,2.4769712454193069,2.4563593257575889,2.4387359550607215,2.4238129152766277,2.4113990605199405,2.4014041801169554,2.3938558699465347,2.3889355729351252,2.3870438958216056,2.3889060706648166,2.3957024538480738,2.4090605939575624,2.4302724864622434,2.4578671304980304]
[null,"5,5",null,2.0788802402156108,2.096959385357124,2.1148630897406946,2.1322535514450323,2.1492572627239923,2.1662131231813504,2.1834976798088093,2.2014648883258161,2.2204427717063737,2.2407480595336011,2.2627040831943219,2.2866583387413044,2.3129999071717435,2.3421780085899542,2.3747233123929021,2.4112739078368151,2.4526082980106452,2.499688543788082,2.5537178906062508,2.6162190643620562,2.689142240482326,2.7750159528584817,2.8771606048341738,2.999993634214988,3.1494684352489486,3.3337047965334392,3.5638788679959106,3.8554142453795208,4.2293513290829168,4.7131840431575966,5.3388067410357252,6.1319387814605335,7.0858461750573696,8.1277736851402693,9.1238227225855582,9.9482345716520655,10.542664948160692,10.906088023597633,11.056163343449768,11.003997197654812,10.745570259696692,10.264379170768322,9.547502083743538,8.6198379215572203,7.5762175917134158,6.556870176756334,5.6700480872076042,4.9519353606309409,4.3882467477904896,3.9473768136663949,3.5981734760417936,3.3152207401576703,3.0788557792255773,2.8737278657670942,2.687253845619594,2.5083818309725103,2.326972674244459,2.1345220598986003,1.9273450879687317,1.7114999117604128,1.5031118329173552,1.3189740215535863,1.1669067147407048,1.0457815004878768,0.95052738525153302,0.8757100837489844,0.81683610616020985,0.77051634749805942,0.7342796417704136,0.70634484535703734,0.68543557490444584,0.67064669198465765,0.66135293804624951,0.65714865877650652,0.65781017736036063,0.66327531893402636,0.67363706452137251,0.68915037814157643,0.71025316737392075,0.73760440078756062,0.77214487642881124,0.81518906914173783,0.86855909084054872,0.93477031820891909,1.0172595594896876,1.1205717129534065,1.2501969137257021,1.4112696281777204,1.6049989448852244,1.8236801866502645,2.0506837851282143,2.2700859111496214,2.4760475086961122,2.6724877393516948,2.8681732354529998,3.0735474112280343,3.3000193639984303,3.5605955770327711,3.8711487576475889,4.252069113732361,4.7300544990680038,5.3391393911494589,6.1180754169971152,7.0972715109096072,8.2669201821295673,9.5372474052952469,10.746244702802429,11.744091717272667,12.463176403991369,12.90432484305849,13.08994118447923,13.033914622771519,12.731522268365282,12.162561779511904,11.310417682112828,10.203173826956814,8.9531789701434406,7.7292628743750953,6.6639018472414051,5.8033476387240484,5.1324133181402232,4.6143681047966396,4.2127804942329448,3.898285896813988,3.6489195129948797,3.448664870530834,3.2858893989771758,3.1520950178235267,3.0410097551180542,2.9479491830718842,2.8693716621603045,2.8025679790673195,2.7454432292520181,2.6963621272269478,2.654038300138879,2.6174544856331607,2.5858048432747722,2.5584535038660903,2.5349055157795846,2.5147878409027129,2.4978392364833013,2.4839088691444573,2.4729643134302108,2.4651096904949981,2.4606121788738875,2.4599241022652478,2.4636540581993671,2.4723668558361993,2.4860357113230833,2.5032629346810751]
[null,null,null,2.1171155971850482,2.1355698404933179,2.1544135630354759,2.1734472479546554,2.1927064673857473,2.2123900112892301,2.2327758080493112,2.2541715395450552,2.2768975261146949,2.3012877939498395,2.3276994805213036,2.3565260488486075,2.3882129402769152,2.423275843457148,2.4623225381694311,2.5060797968819344,2.5554273567234276,2.6114416563998333,2.6754529749719751,2.7491209170472217,2.834534965735017,2.934349134104238,3.0519624781552039,3.1917597461642657,3.3594266401904207,3.5623463083588689,3.8100533253326176,4.1146350804636,4.4907596151828812,4.9545675687991064,5.519966228687494,6.1904802905711591,6.9469274501921205,7.7383820787945723,8.490115261750347,9.1301078871698138,9.6124108505138821,9.9192759154946515,10.048754643317707,10.002329449615033,9.7792188292649627,9.3782690352489197,8.8072897156823302,8.0968655652994102,7.3074393724718192,6.5159034813794534,5.7872148984947813,5.1556860851595872,4.6270433487353131,4.190599024881223,3.829800743213255,3.5279038743212112,3.2700770052439481,3.0437320839946409,2.8382082786599057,2.6444142880169039,2.4548273426234317,2.2641987233346725,2.0710390523068014,1.8789538556085148,1.6957925620180703,1.5299250466159862,1.3864543807343495,1.266284866958145,1.1675175259347697,1.0871655951756196,1.0222176352536252,0.97007786869609447,0.92866434472422554,0.89636878316910895,0.8719788012134444,0.85460244200577051,0.84360732696579532,0.83857615825137088,0.83927704409303772,0.84564671078045706,0.85778524873087747,0.87596192367114156,0.90063252825312645,0.93246963192207488,0.97240766849499494,1.0217043900117773,1.0820169633405072,1.1554804070652693,1.244748529507703,1.3528969143755916,1.4829847302279831,1.6369959682514974,1.8141317382234519,2.0094250341452806,2.2146799222659155,2.4222579106077973,2.6287969440980277,2.8360641315846493,3.0496312729427615,3.2774080063076241,3.5289632415617547,3.8155712034579352,4.1506568369315033,4.5502969560185562,5.0332803665949228,5.6197557266448968,6.3266914527368812,7.1579763857126153,8.0896562750126151,9.0595137255109108,9.9773550871944821,10.757275359033926,11.345371035909565,11.72164352478579,11.884718041299649,11.836914556394603,11.577437822100094,11.104655726008488,10.427327038242893,9.5813883377174278,8.6389856969410204,7.6929416896908975,6.8226776490119647,6.0711694883478202,5.4468906703656188,4.9383108628214103,4.5267249122519928,4.1932939175354278,3.9217777517610983,3.6990888502469517,3.5149934612306737,3.3615835955920517,3.2327623063877269,3.1238156395730101,3.0310790329866251,2.9516848028703606,2.8833733922045468,2.8243528749141973,2.7731944108474096,2.7287543996481958,2.6901165742841755,2.6565491914162322,2.6274739157360187,2.6024440655561847,2.5811306515054042,2.5633150707054853,2.5488871917635123,2.5378462406155364,2.5302979271221915,2.5264321437506538,2.5264497417509659,2.5303943578274897,2.5378815451843337,2.5478688730721188]
[null,null,null,2.1545353027963898,2.173792767769001,2.1937787165978335,2.2144014418572482,2.2356979797725245,2.2578178794717161,2.2809881483444912,2.3054845309264778,2.3316168072303327,2.3597259727559248,2.3901892416261461,2.4234300014442596,2.4599313786224997,2.5002531896582099,2.5450527855974343,2.5951108220589134,2.6513634506466843,2.7149429199929358,2.7872291421098936,2.8699154215785398,2.9650921823735104,3.0753529164531841,3.203926121415563,3.3548343431052245,3.5330737178223472,3.7447888128746598,3.997377248608089,4.2993790205954525,4.6598672846813685,5.0868700856709523,5.5842487133422907,6.1468522635373546,6.7552834650337132,7.3739786737217656,7.9565970261303818,8.4576706442763765,8.8431319633841809,9.0934168601337575,9.199995344573793,9.1603059376923142,8.9749788462616067,8.6487910537886563,8.1949028886117361,7.6397577251032516,7.0237786079610345,6.3941791301519544,5.7927716044727475,5.2468093785138166,4.7675354144573845,4.3543112829865009,3.9999387933048212,3.6946518383092979,3.4283744230126985,3.1917409459952495,2.9764658451407655,2.7755027584094734,2.5832884905075986,2.3962230607259727,2.2132844782116052,2.0362946644026039,1.8692067416295828,1.7164075408133641,1.5810036158421354,1.4640921888020699,1.3650665347470721,1.2823437332088332,1.2140040267718319,1.1581797216899048,1.1132344007350667,1.0778174066205253,1.0508586725347442,1.0315414054898184,1.0192710574572033,1.0136485332809144,1.0144505483942368,1.0216179264104568,1.0352519133628704,1.0556184815270484,1.0831606596569969,1.1185188229505769,1.162558164172637,1.2164004489962252,1.2814521354157904,1.3594104826868119,1.452210274269774,1.5618463412942702,1.6899873851153728,1.8373409107018261,2.0029315897118494,2.1838028939655061,2.3757518511464042,2.5750460063087672,2.7801231525059649,2.9923097858505656,3.2155675753911481,3.4558994627975466,3.7209025258563457,4.0195776505364762,4.3622617336622653,4.76041426014568,5.2258468004966545,5.7687909464547573,6.3941088217065527,7.0954651053523463,7.8491391314602623,8.6119775480932645,9.3281986378906225,9.9435603889719033,10.417889694644813,10.728530533593855,10.865943596299886,10.827512255228768,10.614183425210271,10.231633730641235,9.6954292230683876,9.0370794432736972,8.30513886680653,7.5567969769376617,6.8432385796304374,6.1984287213466729,5.6371306411715381,5.1597613806412284,4.7588176867054841,4.4237690462154688,4.1438677951606309,3.9094287363344762,3.7122371179282965,3.5455394909417777,3.4038702085053814,3.282836409050546,3.1789140027963043,3.0892729079501606,3.0116345421902651,2.944158598496827,2.8853543746570978,2.834011933227444,2.7891490122206477,2.7499703906528481,2.7158371322491774,2.6862436981194691,2.6608012728591888,2.6392256852613656,2.6213278156359507,2.6070029931652954,2.5962131160340363,2.5889510445563957,2.5851735946051377,2.5846957061579161,2.5870687440541218,2.5915194703922424]
[null,null,null,2.1910089854762731,2.2112694682293323,2.232492006302877,2.2546594434031846,2.2778328341542391,2.3021518093191986,2.3278220276617247,2.3551012874069528,2.3842907335494345,2.4157326200359961,2.4498137680406131,2.4869734987236285,2.5277152459727432,2.5726216174425502,2.6223731538059241,2.6777714155902999,2.7397673339883823,2.809496016119212,2.8883193795127369,2.9778780269509895,3.0801534770361485,3.1975408627284168,3.3329297805634752,3.4897858013711556,3.6722149613202504,3.884974738398185,4.1333628474151709,4.4228662266855991,4.7583933937885519,5.1428812900382326,5.5751620889653424,6.0473546329142067,6.5427660117358784,7.0359235277840497,7.4958904370298427,7.8919974598176594,8.1991614581456673,8.400342629306877,8.4860452781964426,8.4525971299180611,8.3010409688366593,8.0375245815524892,7.6748914205357579,7.2340474636920504,6.7431207346060518,6.2333907513698961,5.7333542368885304,5.2639195976997968,4.8367595935103651,4.4555365521036521,4.1184137275254074,3.820487661500735,3.5555565452965681,3.3172095020149897,3.0994478340084726,2.8970706738765415,2.7059963508366565,2.5235881781262748,2.3489123629726265,2.1827242818761903,2.0269965014731923,1.8840609683254712,1.7557456212839924,1.6428957283321637,1.5453692227371363,1.4623200869232988,1.392539108958502,1.334721583259423,1.2876327258957616,1.2501909290073883,1.2214990958187144,1.2008483236802334,1.1877095275302025,1.1817218512961318,1.1826824652808199,1.1905399569079265,1.205392261334211,1.2274893937560734,1.257240734917545,1.2952259381272739,1.3422072690745637,1.3991388074614264,1.467163707029087,1.5475839979608139,1.6417787956647061,1.7510408840260965,1.876311829735485,2.0178451110413533,2.1749276753763098,2.3458900718985234,2.5285902497410433,2.7212814399838834,2.923474917725926,3.1364196043993076,3.363128403930105,3.6081400943676414,3.8772235327246705,4.1771012934388381,4.5151304022083849,4.8987726188019707,5.3346091723611693,5.826627993082198,6.3736433144901099,6.966182281315966,7.5840471025278333,8.1965008965783142,8.7664099724995168,9.2572110003368238,9.6392576341016678,9.8926455803387654,10.006483199035827,9.9767423439268867,9.8048986096007269,9.4984169292584539,9.0727251840109631,8.5529673630359895,7.9731310880578263,7.371259236354021,6.7823259305473158,6.2323755327729913,5.7364320490960239,5.2999029543900491,4.9215881784813433,4.5966299496212599,4.3186643118548176,4.0811209538936879,3.8778888798515112,3.7035883565390151,3.5536276846023753,3.4241562084134927,3.3119760146989421,3.2144443921536521,3.1293819486870831,3.0549922099511804,2.9897940377185961,2.9325661795479192,2.8823024860948152,2.8381761531026228,2.7995114094433546,2.7657611846480705,2.7364893210407075,2.7113557333289151,2.6901024386954049,2.672537477272968,2.6585124883055329,2.6478887834531264,2.6404881880403792,2.6360322793569395,2.6340890753531454,2.6340620184156052]
[null,null,null,2.2264187537606261,2.2477593716515543,2.2702363587164456,2.29388343108063,2.3187871620490483,2.3450917953747847,2.3729964344341994,2.4027497358580803,2.4346460772126903,2.4690250704181977,2.5062747944973722,2.5468384943746543,2.5912244336673353,2.6400187704072522,2.6939015537917754,2.7536661348914464,2.8202424107227699,2.8947243485459495,2.9784021076707319,3.0727986753082774,3.1797100526469961,3.3012463079259504,3.439867666566883,3.5984043333906044,3.7800397049638974,3.9882227148222142,4.2264558685885874,4.497884277787719,4.8045998905220841,5.146602614144868,5.5204716259966204,5.9180298783538916,6.3255742521359224,6.7243578379897286,7.0926403865581023,7.4087909249388559,7.6542499621925657,7.8153082021963627,7.8835161317424678,7.8553277700928987,7.7317668060809837,7.5185473109369099,7.2264995628816706,6.8716423715806485,6.4741224174035921,6.0557534462486018,5.6368134261982874,5.2333369765451749,4.8558309875934498,4.5094847958565794,4.1953042361801778,3.9115015020894788,3.6547170913818974,3.420930278445681,3.2060868706785044,3.0065345099779819,2.8193461739425487,2.6425634668307367,2.4753271254061104,2.3178200929202006,2.1709768144547041,2.0360194582760158,1.9139888085736771,1.8054398154693416,1.7103644926027783,1.6282879862489068,1.5584382621982087,1.4999112505154102,1.451795385479258,1.4132507407150143,1.3835521597797964,1.3621086163178546,1.3484689937869661,1.3423213614789375,1.3434901601340954,1.3519338176805746,1.3677440566666377,1.3911472775227054,1.422507649688086,1.4623306672967118,1.5112646720642857,1.5700959625725517,1.6397304618814275,1.721151827737188,1.8153438810191886,1.9231680993695051,2.0452011373044314,2.1815685421874065,2.331852773667876,2.4951748194979331,2.6705032703867033,2.8571281785604725,3.0551303742844169,3.2656797191510094,3.491103011052175,3.7347692729391468,4.0008684174873821,4.2941168574974853,4.6193574936286979,4.9809660561844993,5.3819509876769729,5.8226683169406073,6.2992141421626258,6.8018400641092427,7.3140840713303277,7.8134331712332852,8.2738684168619869,8.6696346440313476,8.9787829976405789,9.1852476505387273,9.2792678362495877,9.2569085082373164,9.1196389005858549,8.874489878263617,8.5346086711856657,8.1194131245300554,7.6533908527754164,7.1631933322519927,6.6737923967432238,6.2051880326377358,5.7708092092118335,5.3777223948155068,5.0279732605774967,4.7202504328985952,4.4513429736228574,4.217196923467057,4.0135842936934267,3.8364776676174728,3.682229761338661,3.5476358660907152,3.4299320228397647,3.3267616845730998,3.236129823514446,3.1563547558376257,3.0860228023822884,3.0239479860708371,2.9691373871720117,2.9207619601843504,2.8781322045191615,2.8406778547659854,2.8079305729126389,2.7795083882323439,2.7551002866350842,2.7344489279839337,2.7173291833436366,2.7035206059403407,2.6927740788126044,2.6847776404214443,2.6791330339514872,2.6753581375043183]
[null,"5",null,2.2606602230223842,2.2830856969631412,2.3067826175711588,2.3318195365845185,2.3583042313200195,2.386389194019884,2.4162728284110386,2.4481986261987032,2.4824545507458566,2.5193740743618349,2.5593395187774064,2.602787852805406,2.6502189036715578,2.7022059202832764,2.759408474606019,2.8225877238914308,2.8926240278499478,2.9705367686086817,3.0575058851722616,3.1548939950304344,3.26426685708158,3.3874080693490072,3.5263209300737373,3.6832058895687823,3.8603956256976488,4.0602216131242272,4.2847776293460669,4.5355414155691705,4.8128250853540209,5.1150625960906808,5.4380227253572428,5.7741531738665373,6.1123632063052895,6.4385350816014437,6.7368345590000871,6.9915322099461861,7.1887902700545538,7.3179315743960984,7.3720432743079272,7.3481100709113747,7.2469922293893916,7.0734360355464361,6.8360507316248942,6.5469751089222399,6.2209442419790122,5.8737144811880881,5.5201815608721319,5.1727509846806896,4.8404090366316694,4.5286003654472182,4.2397085899664404,3.9738227732797071,3.7295304675103722,3.5045986906888942,3.2965052535832768,3.1028364243160382,2.9215781976651414,2.7513130605895668,2.5913105509289807,2.4414891810146031,2.3022465013015534,2.1741994958961612,2.057917506169801,1.9537294894213488,1.8616447922562571,1.7813745597576229,1.7124116794276603,1.6541269018095051,1.6058540759521662,1.5669537520611385,1.5368550237191556,1.51508016570547,1.5012575340123107,1.4951273912315202,1.4965440432616077,1.5054764686690447,1.5220086345399153,1.5463398810488371,1.5787850102000078,1.6197729047515992,1.6698415206177941,1.7296258996853311,1.799834585432265,1.8812090375920576,1.9744615721396741,2.0801920503055413,2.1987941532250801,2.3303783471986748,2.4747538550066253,2.6315116094626916,2.8002209553009578,2.9807009841130565,3.1732850543290141,3.378996903218777,3.5995968019824574,3.8375014022961835,4.0955995668776524,4.3769744966097477,4.6845161067978296,5.0203867504293811,5.3853056457545421,5.7776602561981889,6.1925503358315126,6.621012314113031,7.0497918056451994,7.4620047209123328,7.8387554481040667,8.1613482522953262,8.4134281601419474,8.5824762335101212,8.6604977252788018,8.6441526456557511,8.5347170644698309,8.3381037860079488,8.0648615151971939,7.7298135718573491,7.3509766551111539,6.9476949568683182,6.5383819527208544,6.1385426634737001,5.759626054586036,5.4088474686159458,5.0897423906634884,4.8030671769733004,4.5477254234707658,4.3215414136937937,4.1218254136496313,3.9457467574021194,3.7905578694075786,3.6537144189591544,3.5329285695834329,3.4261820175878341,3.3317166465325982,3.2480140339773556,3.1737705407853269,3.1078717929045609,3.0493685413944007,2.9974547734093875,2.9514482695845601,2.9107733741772535,2.8749454400228984,2.8435561581591031,2.816258762423999,2.7927519697494603,2.7727616510351965,2.7560199351097054,2.7422430708451344,2.7311119051103816,2.7222612955979884,2.7152849637366927]
[null,null,null,2.293643200335012,2.3171127338638797,2.3419592607331055,2.3682751135315669,2.3961838677476095,2.4258453784080274,2.4574584428017232,2.491262107245646,2.5275368233665318,2.5666064096095766,2.6088413872216023,2.6546639376414731,2.7045545298436622,2.7590601650887692,2.8188041275591758,2.884497057513741,2.9569490285075659,3.0370820590076875,3.1259420554629997,3.2247084793675214,3.3346989355926411,3.4573642453702718,3.5942672427921849,3.7470354358055573,3.9172739562310568,4.106421604555706,4.3155310686170338,4.5449580329123052,4.7939582132182608,5.0602220210877675,5.3394247665374195,5.624924342963098,5.9077672550487108,6.1771263822081863,6.4211719994398351,6.6282147022148052,6.7878519322967605,6.8918749872932068,6.9348319957435791,6.9142934843549853,6.8309346763876277,6.6885084282381371,6.493682489276793,6.255635354589387,5.9853162668904503,5.6943924593374931,5.3940663494683605,5.0940367565215325,4.8018333591073059,4.5226062276242516,4.2593005999307962,4.0130668891598162,3.7837566489699981,3.5704014097608905,3.3716234500979994,3.1859636504524786,3.0121270199358747,2.849146775383403,2.6964628416045997,2.5539108634472285,2.4216296696720434,2.2999153843312428,2.1890662725009093,2.0892613593552056,2.0004971796031015,1.9225824799602407,1.8551736013186684,1.7978286447131353,1.7500630182852746,1.7113965445090713,1.6813887826313447,1.6596631651670606,1.6459222547290864,1.6399567268048401,1.6416502985165522,1.6509821983096202,1.6680281154873313,1.6929599425325961,1.7260440149407685,1.7676369291682619,1.8181773671874879,1.8781717372808231,1.948171063684029,2.0287368670046391,2.120395493371845,2.2235842957768881,2.3385995336494005,2.4655634054782496,2.6044320748425349,2.7550618910851057,2.9173339215707159,3.0913124565181676,3.2773945750777358,3.4764068662388325,3.6896211847414264,3.9186812259425352,4.1654428319067875,4.4317298469732265,4.7190000936029008,5.0279129655984747,5.3578016316676127,5.7060867608802113,6.0677255351415482,6.434853783772482,6.7968117772085321,7.1406958483857323,7.4524286717520027,7.7181455615745023,7.9255701646148822,8.065089869368407,8.1304127617274702,8.118870545501025,8.0315106463830972,7.8730687901379071,7.65178935643344,7.3789621069285687,7.0680548689242215,6.73346240714163,6.3890861251884843,6.0470740235152931,5.7170008469344538,5.405592248267439,5.1169118890261558,4.852829862317364,4.6135884333403538,4.3983356564923355,4.2055620728764467,4.0334243111089307,3.8799665029527119,3.7432608831578449,3.6214897610935708,3.5129876173581209,3.416257544002022,3.3299720831541464,3.2529652180410977,3.1842198561149502,3.1228534629836275,3.0681033694069555,3.019312514513544,2.975915877434872,2.9374274970151504,2.9034277343909167,2.8735502877298273,2.8474684643107224,2.8248804478827054,2.8054938906005731,2.7890111597745744,2.7751177772625653,2.7634773772492593,2.7537359528836731]
[null,null,null,2.3252920340298004,2.3497351185963424,2.3756365171310705,2.4031044767918246,2.4322732992125822,2.4633076333707464,2.4964054695806368,2.5318002919289171,2.5697630270737903,2.6106043689798781,2.6546778785670568,2.7023840599209308,2.7541754522441266,2.8105626522199287,2.8721210708553286,2.9394980975331322,3.0134201535442884,3.0946988255165166,3.1842348269915561,3.2830178867349531,3.3921197430945114,3.5126761823828616,3.6458524887174377,3.7927848830357362,3.9544888725057916,4.1317246869631816,4.324811552912152,4.5333885464475969,4.7561325472639595,4.9904646374403256,5.2323026488449074,5.4759403103937672,5.7141367859241399,5.9384689986037102,6.139932199828408,6.3096960054378854,6.4398743659882456,6.5241773104407201,6.5583714722007329,6.540545133284823,6.4712107917904547,6.3532704274585257,6.1918343513884935,5.9938595216826087,5.767587374270974,5.5218180559517833,5.2651279553239334,5.0051755481694755,4.7482196745472578,4.4989061140578741,4.2603014771770376,4.0341030292529894,3.8209402603319376,3.6206985824961322,3.4328201435350962,3.2565582940895155,3.0911753758897902,2.9360790771542753,2.7908948571796799,2.6554756287186336,2.5298574896142583,2.4141800841528465,2.3085969572540392,2.2132003052007718,2.1279756269947967,2.0527895525971047,1.9874042989384435,1.9315078136847745,1.8847492127337233,1.8467722615583995,1.8172431724559175,1.7958716781378854,1.7824259112014857,1.7767422731887876,1.7787315469262097,1.788382267326412,1.8057619927186437,1.8310166992923058,1.8643680923141659,1.9061082096622926,1.9565903228379256,2.016214906121931,2.0854095193640916,2.1646021085614251,2.2541887993165091,2.3544999423628354,2.4657716782546544,2.5881334076277795,2.72162206884569,2.8662297100177199,3.0219810131254263,3.1890252164430279,3.3677179915321602,3.5586678215866101,3.7627280343045442,3.9809250593549024,4.2143204375316969,4.4638067911124466,4.7298388267299316,5.0121044343215857,5.3091530387300878,5.6180210125139212,5.9339240807856726,6.2501126597686749,6.5579884994109676,6.8475415227864147,7.1080841996036526,7.3291672907397327,7.5015046166873987,7.6177490885429364,7.6730359618576784,7.6652926843547533,7.5953585512223896,7.4669460049926641,7.2864319651535965,7.0624354962563558,6.8051538122038409,6.5254968321948326,6.2341460650129505,5.9407118009728634,5.6531395442355148,5.3774351977059638,5.1176851302368078,4.8762848703214701,4.6542733599840886,4.4516870832792819,4.267879593819103,4.1017813297008985,3.952095171528768,3.8174345006946595,3.6964149567167937,3.5877114763406013,3.4900906660133586,3.4024264269870486,3.3237046883456998,3.2530213753423283,3.1895764025909585,3.1326654928802924,3.081670911361087,3.0360517017700346,2.995333661933941,2.9590990680256795,2.9269760445681783,2.8986274997434549,2.8737397400365268,2.8520112700206397,2.8331428292607796,2.816830238444922,2.8027617845830974,2.7906213075660133]
[null,null,null,2.355545646580552,2.3808720999136739,2.4077173015852651,2.4361996601760296,2.4664598493787508,2.4986643238613766,2.5330081356112402,2.5697172493890008,2.6090506810163134,2.6513027805078053,2.6968058952045197,2.7459335259035385,2.7991039633409827,2.8567842712981673,2.919494355972958,2.9878107087219377,3.0623692052875953,3.1438660608947231,3.2330556476258181,3.330743350706129,3.4377709563468528,3.5549912356371323,3.6832274858829095,3.8232129923819258,3.975505040495122,4.1403688551203146,4.317629567144607,4.5064960482199439,4.7053699653342704,4.9116662631014236,5.1216847441833551,5.3305807715075133,5.5324788675689973,5.7207509043903855,5.8884432268054496,6.0287972680800266,6.1357839107289891,6.2045745274004815,6.2318975768551894,6.2162621076014801,6.158050801349205,6.0594883207932213,5.9244827788786978,5.7583341216618606,5.5673153576374972,5.35816121669815,5.1375306176961004,4.9115252874578204,4.6853356883161297,4.4630514328987516,4.2476327680130481,4.0410089678200762,3.8442562902818196,3.6578104173667469,3.4816788655318902,3.315630799186593,3.1593510845996065,3.0125515813006842,2.8750369553589366,2.7467265902921412,2.6276393782952567,2.5178534556109042,2.4174561739741733,2.3264989546418491,2.2449671626490186,2.1727687375398403,2.1097396267806943,2.05566078242218,2.0102807971914132,1.973339328738561,1.9445882062623951,1.9238087458836759,1.9108249622727982,1.9055130119764527,1.9078074467367259,1.9177048325584707,1.9352651176923388,1.9606108886094518,1.9939243886454818,2.0354419307251277,2.0854451645567877,2.1442486381729253,2.212183338451311,2.2895765439014184,2.3767294819595435,2.4738959080842022,2.5812664557187617,2.6989646584278404,2.8270598370900046,2.9655987366965206,3.114652089124732,3.2743658579578465,3.4450023736476254,3.6269558303219895,3.8207296598516933,4.0268682657302719,4.2458403341830859,4.4778746058766075,4.7227525892461557,4.9795683702908065,5.2464753490878735,5.5204535414825244,5.7971458970647376,6.0708209184873141,6.3345126081716074,6.5803612428713478,6.8001331223741346,6.9858500434727233,7.1304313533571388,7.2282563898102552,7.2755877002989706,7.270835009990023,7.214665079228709,7.1099652878216233,6.9616579101765836,6.7763560139660939,6.5618657775909384,6.3265744502864578,6.0788021455697532,5.826216031291878,5.5753930716076781,5.3315770287357651,5.0986263029763705,4.8791115442063386,4.674505635989604,4.485411605979678,4.3117879117994136,4.153147002593343,4.0087168552812926,3.8775644871277706,3.7586855472532505,3.6510661403750788,3.5537232400815668,3.4657293278024639,3.3862258356052877,3.3144288981675203,3.2496299782662419,3.1911931665938909,3.1385503666187304,3.0911951356396656,3.0486756397640846,3.0105869764501705,2.9765630180153124,2.9462679374080807,2.9193876988073697,2.8956220176097105,2.8746775602220538,2.8562633432660647,2.8400892372381605,2.8258680472446969]
[null,null,null,2.3843572793197296,2.4104640007899292,2.4381314716331275,2.4674839945810589,2.4986650413851379,2.5318400288978324,2.5671987355155323,2.6049574313997397,2.6453608672452873,2.6886842720352746,2.735235462789646,2.7853570897924413,2.8394289451741059,2.8978701564979161,2.9611409656247503,3.0297436453403037,3.1042219173075267,3.1851579895401727,3.273166016996683,3.3688803997892904,3.472936880843875,3.5859439304288543,3.7084415034967577,3.8408441035958134,3.9833654710651132,4.1359235409056367,4.2980270705659649,4.4686499250681919,4.6461054414455276,4.8279407517136548,5.0108773606140602,5.1908264165407871,5.3630015932193515,5.522137805081357,5.6628025695913919,5.7797654390178508,5.8683777815377738,5.9249152590141279,5.9468470122625234,5.9330116871678484,5.8836932034567013,5.8005950823204131,5.6867136731864179,5.5461137143772277,5.3836190628508263,5.2044467017683331,5.0138271654819135,4.8166611153774141,4.6172551291597728,4.4191616430039034,4.2251255539388666,4.0371212055737402,3.8564530221436684,3.6838911438712927,3.5198172911335206,3.3643623218975023,3.217523093940386,3.0792513267416979,2.9495113386188194,2.8283073732354609,2.7156849683068884,2.6117140284066664,2.5164630549956684,2.4299736601739568,2.3522421273329286,2.283211302781794,2.222772759832722,2.1707769060870561,2.1270477925167341,2.0913995637576619,2.0636522614819768,2.043645601315589,2.0312501080421868,2.026375506517482,2.0289765323017122,2.0390564022061284,2.056668136034844,2.081913803857347,2.1149416350663302,2.1559408088811978,2.2051336975956843,2.2627654105213111,2.3290907529505347,2.4043592254078732,2.4887994482771632,2.5826052971110443,2.6859267931782398,2.7988689566652596,2.9215008962568021,3.0538751143879352,3.1960536384728613,3.3481340745793062,3.5102662610260751,3.6826497777638991,3.8655042047500245,4.0590070059999306,4.2631973624037158,4.4778477982590488,4.7023093959375188,4.935341543690285,5.1749440000858868,5.4182169719667996,5.6612816008130125,5.8992948985222284,6.1265857241213411,6.336920128011414,6.5238784273060588,6.681300933848334,6.8037441838038006,6.8868905247554579,6.9278687048686294,6.9254628210653522,6.8802021502416011,6.7943309192103101,6.6716581484625834,6.5172907381174952,6.3372638533140133,6.1381010201573218,5.9263548012822724,5.7081874566292328,5.4890435321675142,5.2734448117275434,5.064911063062155,4.8659872409192388,4.6783451789070938,4.5029258222901518,4.3400935168426855,4.189782554035574,4.0516247756614092,3.9250538067075382,3.8093859554927434,3.703880282981558,3.6077813588795919,3.5203483404641105,3.4408736545500886,3.3686940136982599,3.3031959178431549,3.2438172643879142,3.1900462470133704,3.1414183736951173,3.0975121746731844,3.0579439962082091,3.0223621823646027,2.9904409320390499,2.9618741744562698,2.936369911483709,2.913645583132805,2.8934250515234368,2.8754376888661426,2.8594197516498099]
[null,"4,5",null,2.4116939848200758,2.4384696654422697,2.4668317309832588,2.496907233983606,2.5288396217592748,2.5627908207315073,2.5989431681646096,2.6375011990663069,2.6786933240166917,2.7227734311139926,2.7700224138837228,2.8207495732000751,2.8752937704658592,2.9340241230687951,2.9973399288922877,3.0656693788746878,3.1394664586998005,3.21920524746956,3.3053705920019212,3.3984438788369431,3.4988823671864537,3.6070903364025781,3.723380231424855,3.8479222003241347,3.980681105877224,4.1213414929292327,4.2692233205640804,4.4231946004674541,4.5815911792744402,4.7421580081716144,4.9020290047750024,5.0577622954897805,5.2054427652412159,5.3408542022330749,5.4597106639377699,5.5579245795394314,5.6318815086943204,5.6786907064570045,5.6963860551952479,5.6840604156821399,5.6419244952346475,5.5712871127865782,5.4744579330746177,5.3545785131562553,5.2153944966173214,5.0609904565231858,4.8955163505122954,4.7229371910175786,4.5468332797747593,4.370268076929861,4.195727819327729,4.0251253470539012,3.8598529760783862,3.700866361435132,3.548782179621,3.4039755027657321,3.2666665199015625,3.1369899673317576,3.0150440121743571,2.900918412024609,2.7947045150375089,2.696491814445281,2.6063569391411505,2.5243508802402772,2.4504890118058569,2.3847465300890605,2.3270599479202048,2.2773337641496454,2.2354506173594899,2.2012830755190436,2.1747054895668469,2.1556048019894121,2.1438896641656839,2.1394975767877185,2.1423999951204422,2.152605447513551,2.1701607329008112,2.195150227373901,2.2276932768942146,2.2679396175249309,2.3160627816856021,2.3722515549051053,2.4366997734044133,2.5095951101577754,2.5911079541730686,2.6813819420118108,2.7805279643501279,2.8886232964643312,3.0057166708893561,3.1318385701860478,3.2670140014137559,3.4112730422553028,3.5646531529304895,3.7271870873221218,3.8988712941772832,4.079611709726251,4.2691464355345232,4.4669477638926622,4.6721094129609213,4.8832288229582304,5.0982988570260801,5.3146275492810133,5.5288071706887507,5.7367528430468298,5.9338245251454822,6.1150342164850855,6.2753248621020674,6.4098930327464956,6.5145187193970884,6.5858651566801001,6.6217185172671833,6.6211477232147189,6.584574209097056,6.5137481106469153,6.4116319708424925,6.2821984014488095,6.1301563094032616,5.9606307055979499,5.7788302900134312,5.5897405097723123,5.3978749940541064,5.2071061213093657,5.0205799763449335,4.840706966356791,4.669210303170118,4.5072113710640309,4.3553325744478997,4.2138025583083305,4.0825537809717645,3.9613069935473817,3.8496406440671223,3.7470454912047586,3.6529659725033952,3.5668304060794895,3.4880721780649395,3.4161438867503051,3.3505261195083591,3.2907322169079549,3.2363100782047098,3.1868418072971707,3.1419417981800137,3.1012537167618888,3.0644467509211637,3.0312114686508522,3.0012556350086896,2.9743003725137527,2.9500770746924587,2.9283254580123383,2.9087930267539406,2.8912360165271167]
[null,null,null,2.4375359075105365,2.4648643360342675,2.493790345156313,2.5244415111695133,2.5569591404898091,2.5914997025961526,2.6282362636718943,2.6673598876039222,2.7090809634042472,2.7536304044236175,2.8012606421713571,2.852246303586881,2.9068844129935627,2.9654938966095159,3.0284140863249291,3.0960018187150382,3.1686266042124629,3.2466632018633135,3.3304807840269035,3.4204277283053415,3.5168109599507176,3.6198687352960661,3.7297358782334555,3.8464008567503214,3.9696548341367901,4.0990340653697643,4.2337587978252742,4.3726741144742647,4.514200646684273,4.6563052166124379,4.7965024186790259,4.9318970173485042,5.0592732276668784,5.1752306029988659,5.2763585275937288,5.3594341385534534,5.4216238904663641,5.4606680910900565,5.4750303629709975,5.463998760120333,5.4277305494136527,5.367237459080215,5.2843125230406969,5.1814041534957909,5.0614481785264474,4.9276738048418594,4.7834033975822337,4.6318669721705277,4.4760494877314301,4.3185828981314529,4.1616871252516177,4.0071567376352135,3.8563847373674065,3.7104121217691244,3.5699915512912668,3.4356547895759064,3.3077757983787279,3.1866238893157259,3.0724038351467158,2.965282166359529,2.8654008933536801,2.7728814248213922,2.687822308290535,2.6102944952408933,2.5403372038598633,2.4779563717067532,2.4231265017903496,2.3757957111599382,2.3358931596680321,2.3033377860264039,2.2780473209228234,2.25994675544014,2.2489757026858825,2.2450943246018795,2.2482876676915708,2.2585683544890429,2.2759776238460603,2.3005847231228103,2.3324846529543635,2.3717942749756702,2.4186468384032622,2.4731850830719537,2.5355532458449517,2.605888527420646,2.6843128301764096,2.7709257775359362,2.8658000563862771,2.9689798587711351,3.0804825496127677,3.2003026711471847,3.3284161795081815,3.4647816945667245,3.6093348710796107,3.7619720193635686,3.9225198912957779,4.0906900072892682,4.266017863063766,4.447789685836014,4.6349620378180276,4.82608240683372,5.0192217254096221,5.2119319537635391,5.4012425560992057,5.5837078919924608,5.7555125805013034,5.9126340057474209,6.0510517397501786,6.1669851045521256,6.25713476138678,6.3189034209506616,6.3505741582421962,6.3514306678034274,6.3218101044520409,6.2630847481326413,6.1775736991921377,6.0683910062947035,5.9392426332003794,5.7941909430919196,5.6374102195533595,5.4729581382106431,5.3045849302742312,5.1355947661741226,4.9687646316476588,4.8063171903815913,4.6499377970197457,4.500822759851232,4.3597458593650202,4.2271320571971813,4.1031301965906124,3.9876794358397802,3.8805666523078202,3.7814739020189023,3.6900162254427613,3.6057707680659092,3.5282984803285302,3.4571597099692468,3.3919249064547472,3.3321814966750338,3.2775378118557938,3.2276247767639319,3.1820959297781855,3.1406262339037454,3.1029100662677394,3.0686587340785394,3.0375978501052856,3.0094648958611145,2.9840072855875945,2.9609811966704882,2.9401513359575375,2.9212916660473098]
[null,null,null,2.4618753953385379,2.4896376921054042,2.5189962347142085,2.5500777134006825,2.5830198439519876,2.6179721761945558,2.6550970606518689,2.6945707022971845,2.7365841898038497,2.7813443666659197,2.8290743993074869,2.8800138853680011,2.9344183230393099,2.9925577239827845,3.05471409625072,3.1211774510093022,3.1922399013448484,3.2681873295106953,3.3492880114831536,3.4357775222014624,3.5278392284983084,3.6255797487723527,3.7289989713444669,3.8379546399583973,3.9521221983246591,4.0709515793710551,4.1936239195337208,4.3190126691959136,4.4456550173568843,4.5717405649467793,4.6951242814096616,4.8133695115044901,4.9238239479016528,5.023727268816188,5.110344285667324,5.1811130363655735,5.2337943645481033,5.2666087773189503,5.2783477360095929,5.2684494003717504,5.2370324217760214,5.1848850896551681,5.1134107981128665,5.0245344867803823,4.9205784029195314,4.8041188510217552,4.6778378130550635,4.5443836757635978,4.4062534266942777,4.2657048744960804,4.1247025979163965,3.9848965537026828,3.8476285140338433,3.7139592463854427,3.5847086036351214,3.4605011488966255,3.3418111742468426,3.2290026043553297,3.1223610283660577,3.0221167874324664,2.9284595143517862,2.8415456426056522,2.7615010660890249,2.6884212925516664,2.6223711445271505,2.5633854658737079,2.5114715834307759,2.4666136308284905,2.428778380746067,2.3979219886851268,2.3739969971143324,2.3569590215504519,2.3467726736245851,2.343416418548216,2.3468861845939699,2.3571976282154168,2.374387012046995,2.3985106844096009,2.4296431723536358,2.4678739311833766,2.51330284598383,2.56603466488896,2.6261726611929959,2.6938119595788663,2.7690330892574053,2.8518963914968509,2.9424378444218888,3.0406666118637844,3.1465641467778056,3.2600840188879232,3.3811509057737652,3.5096565649899532,3.6454502849291117,3.788321439571078,3.937972402607798,4.093981174515406,4.2557545518148601,4.4224744160392078,4.5930416301542465,4.7660239493774412,4.9396160232403332,5.1116205806339821,5.2794597308267583,5.4402234964584721,5.5907590090619834,5.7277985460089695,5.8481186695466505,5.9487174498637074,6.0269933783435619,6.0809088205889879,6.1091226213937517,6.1110799823839415,6.0870520123142313,6.0381217180679272,5.9661174797177097,5.8734993652285965,5.7632080073465062,5.6384897538729746,5.5027145360659659,5.3592034411685034,5.2110808544590697,5.061161585044843,4.9118776666955029,4.7652438921113713,4.6228567455981562,4.4859188440982365,4.3552802795055783,4.2314889538786673,4.1148435258543969,4.0054443987750261,3.9032398926178615,3.8080661430247034,3.7196802942423091,3.6377872218483986,3.5620604028099052,3.492157722969651,3.4277330467852067,3.3684443278702219,3.3139589529323956,3.2639569139971201,3.2181323118088443,3.1761936168007168,3.1378630568541297,3.1028754622346497,3.070976872028794,3.0419231836093985,3.0154790949403179,2.9914175371645655,2.9695197151097403,2.9495757689940802]
[null,null,null,2.4847159853220404,2.5127919144776882,2.5424521992535887,2.5738220272401549,2.6070347145778072,2.6422319022382084,2.6795641279568798,2.7191916465286425,2.7612852958887828,2.8060271848947735,2.8536109910958061,2.9042416769581365,2.9581344416273367,3.0155127135698905,3.0766049571453919,3.1416400181866351,3.2108406775574707,3.2844150269757932,3.3625452404983349,3.445373304587676,3.5329833120014911,3.6253800487510404,3.7224638433213073,3.8240020385988061,3.9295980168695195,4.038659461232001,4.1503684340568583,4.2636567914068593,4.3771912503623156,4.4893728329993934,4.5983551493703914,4.7020848327031644,4.7983653476983221,4.8849425530557511,4.9596072717110786,5.0203073310517112,5.0652596781688004,5.0930526190266932,5.1027290012034854,5.0938429854125076,5.0664855276726399,5.0212764701706618,4.959324004247506,4.8821551077203793,4.7916232207946194,4.6898016257705279,4.578872336721858,4.4610204197903016,4.3383424092800311,4.2127750542229165,4.086047522990313,3.959657045095625,3.8348653437178228,3.7127114541198836,3.5940357174225568,3.4795097685516936,3.3696679793912239,3.2649368342072904,3.165659897384117,3.0721172193830597,2.984539085361078,2.9031148382585314,2.8279980322029559,2.7593093671123228,2.6971387531480246,2.6415475380827473,2.5925715142634687,2.5502249134321033,2.5145052751444013,2.4853988731060639,2.462886300092336,2.4469478184746691,2.4375681435358985,2.4347404080763368,2.4384691364550832,2.4487721223537875,2.4656811546409614,2.4892415736631079,2.5195106736370434,2.5565550042123704,2.6004466731844076,2.6512588165379185,2.7090604787495494,2.7739112235108081,2.8458558496848099,2.9249195865349549,3.0111040496979768,3.1043840272102869,3.2047048297679197,3.3119795165387558,3.4260848752167732,3.5468547016663621,3.6740688039322862,3.807436333979993,3.9465725651053418,4.0909690667734111,4.2399583231517539,4.3926751106651096,4.5480182821677175,4.7046178500750244,4.8608132081098034,5.0146487097956793,5.1638923382212027,5.3060816320352586,5.4385983457766685,5.558769781542523,5.6639909027348807,5.7518579822162081,5.8203023518144477,5.8677122232068513,5.8930315423289557,5.8958270680270033,5.8763178334744595,5.8353644378296252,5.7744189912128689,5.6954398840392315,5.6007787145409651,5.4930493578811621,5.3749908180267454,5.2493357185990845,5.1186948730903197,4.9854655490371016,4.8517673988436485,4.7194063385990859,4.5898635995487638,4.4643051687218502,4.3436059638890328,4.2283831805237782,4.1190339941897633,4.0157738723990093,3.9186728784584233,3.8276883617258335,3.7426932381175533,3.6634996520478609,3.5898781970122826,3.5215730962967626,3.4583138513232967,3.3998238923291666,3.3458267461534348,3.2960501924626868,3.2502288289444579,3.2081054178350854,3.1694313455193281,3.1339664944331247,3.10147879910879,3.0717437301430408,3.0445439140798527,3.0196690475664951,2.996916198235013,2.9760905061994407]
[null,null,null,2.5060713040057152,2.5343396841551993,2.5641720993238408,2.5956924670676784,2.6290295239609378,2.6643164114453128,2.7016909873460264,2.7412966237302925,2.7832831395514432,2.8278075186353675,2.8750341277489753,2.9251342216927156,2.9782845702730043,3.0346650565300735,3.0944550819468049,3.1578285835320088,3.2249474316376876,3.2959529479171152,3.3709552722422274,3.450020329740326,3.5331542211159643,3.6202850004178089,3.7112420344902404,3.8057334742857591,3.9033228164289966,4.0034060801275615,4.1051917245321334,4.207685999041658,4.3096868256676117,4.4097894009637031,4.5064063208150031,4.5978040734635073,4.6821562218217849,4.7576116584026664,4.8223742579834692,4.8747884462162432,4.9134239956242567,4.9371529769450575,4.9452122750504799,4.9372463002288924,4.9133262707205887,4.8739444867684796,4.8199841757971882,4.7526676096031082,4.6734871127637945,4.5841250892702732,4.4863700602361831,4.3820357451000547,4.272889380851197,4.1605938901684709,4.046666474555721,3.9324540970446407,3.8191244784749614,3.7076698989534833,3.5989203658221385,3.4935625490969215,3.3921611818743003,3.2951802310565057,3.2030019188332091,3.1159424912978437,3.0342643831439915,2.9581850360194579,2.887883039876769,2.8235024622201621,2.7651562266274112,2.7129292479371117,2.6668817938115836,2.6270532881926414,2.5934665537201482,2.5661323366496305,2.5450538754084988,2.5302312523011068,2.5216652883742228,2.5193607847212007,2.5233289640730874,2.5335890148151492,2.5501686817142541,2.5731038841913829,2.6024373771755194,2.6382165055554623,2.6804901441978899,2.729304961889639,2.7847011953891041,2.8467081593142183,2.9153397332589321,2.9905900398508578,3.0724294377558721,3.1608007915848333,3.2556157526044132,3.3567505195271536,3.464040300148568,3.5772715302382068,3.6961708941834246,3.820390383843673,3.9494880495815465,4.0829047279587627,4.2199378301387327,4.359714172994174,4.5011647353276345,4.6430050000213754,4.7837250447463902,4.9215935947829763,5.0546796895526285,5.1808943441847788,5.2980526417849632,5.4039542740548967,5.4964780211173121,5.5736834749432518,5.6339118766926077,5.675877510331091,5.6987417056646876,5.7021629894054371,5.6863190153434715,5.6518983365117634,5.6000626416527695,5.5323825951383441,5.4507527086560543,5.3572924931692256,5.254242214124119,5.1438616752177921,5.0283395166996598,4.90971868382276,4.7898413493168306,4.6703141093896505,4.5524921327605483,4.4374794070294996,4.3261413972491454,4.2191262493742983,4.1168909770003808,4.0197296697810572,3.9278014795246889,3.8411568436543035,3.7597610155788033,3.6835144523347054,3.6122699581555793,3.5458467136975429,3.4840414581299939,3.4266371601849954,3.3734095370487722,3.3241317749156138,3.2785777856715441,3.2365243096559055,3.1977521499041615,3.1620468002912077,3.129198707295231,3.0990033792435128,3.0712615236578955,3.0457793492612808,3.0223691137417319,3.0008499349816731]
[null,"4",null,2.5259639205898878,2.5543020241984351,2.5841778211696891,2.6157151986641196,2.6490387597365981,2.6842728108098441,2.7215416716928331,2.7609708215332063,2.8026882580135606,2.846825533015263,2.8935181017794065,2.9429047788621432,2.9951261889016081,3.0503221343688125,3.1086277959077364,3.1701686551626693,3.2350540025199876,3.3033688759632724,3.375164283104894,3.4504455968720862,3.5291590974062359,3.6111767698826185,3.6962796701281633,3.7841404422998579,3.8743059109604729,3.9661810535472597,4.0590160470504344,4.1518984090709949,4.2437524313169916,4.3333480365931933,4.4193207946160982,4.5002040655542856,4.5744731312022253,4.6405998355433979,4.6971148785160182,4.7426737172881559,4.7761212396184334,4.7965501242370436,4.803348132309182,4.7962304232627986,4.7752542340421513,4.7408147553080511,4.6936226357850472,4.6346651081435226,4.5651541148413202,4.4864658708786607,4.4000768909243817,4.307501532927958,4.2102355547026065,4.1097091338055947,4.0072514455208221,3.9040674576182113,3.8012263032398295,3.6996595969692549,3.6001674452140122,3.5034296735073411,3.4100198954096896,3.3204203937261667,3.2350362785217186,3.1542079364962916,3.0782213139242032,3.0073160191249002,2.9416915497232736,2.8815121279962881,2.8269106716852406,2.7779923653545353,2.7348381684887073,2.6975084429675888,2.6660467392327831,2.6404836697895604,2.6208407295412286,2.6071338927547032,2.5993768175235772,2.5975835095616304,2.6017703281781763,2.6119572513645295,2.6281683502462982,2.6504314547385519,2.6787770228569201,2.71323625717325,2.7538385441246618,2.8006083242092217,2.8535615296841144,2.9127017441257834,2.9780162352328574,3.0494719776510664,3.1270117077629465,3.2105499353380793,3.2999686868357543,3.3951125947916552,3.4957828126714361,3.6017291677919019,3.7126400078259252,3.8281293790991668,3.9477215082371089,4.0708330305748319,4.1967539838649515,4.3246292075709079,4.4534423800148346,4.5820053934094602,4.7089560025123518,4.8327665774483961,4.9517662580560255,5.0641778119602776,5.1681690913079166,5.2619173129955215,5.343682689993031,5.4118864934981019,5.465187677558518,5.5025519101443336,5.5233072643270731,5.5271818514689102,5.5143201724099953,5.4852767455867451,5.4409874731992005,5.3827210688795475,5.3120145299539416,5.2305979197330288,5.1403144614670708,5.0430420157801308,4.9406213958198606,4.8347957722009909,4.727163846999261,4.6191478046612957,4.5119755382160491,4.4066754911518871,4.3040817375719627,4.2048466374344713,4.109458471651763,4.0182617718168814,3.9314784979941493,3.8492286914852656,3.7715496723682094,3.6984132268317325,3.629740522697162,3.5654147045710971,3.5052912633299087,3.4492063624988845,3.3969833513302063,3.3484377142218165,3.3033807092100034,3.2616219423960473,3.2229711151936868,3.1872391693022593,3.1542390399230413,3.1237862086532999,3.0956992205073988,3.0698002919618688,3.0459160884001193,3.0238786930353996]
[null,null,null,2.5444241862430061,2.5727058391357644,2.6024957718856427,2.633920400104202,2.667101244353816,2.7021534137831651,2.7391864498352305,2.778306480194388,2.8196185555270432,2.8632283637028451,2.9092429091007688,2.9577700251020218,3.0089167236940426,3.0627864175936423,3.1194750285299762,3.1790659577298328,3.241623863161962,3.3071871746836479,3.3757592902186531,3.4472984394248414,3.5217062817225298,3.5988154282713225,3.6783762456482094,3.7600435111511814,3.8433637365626936,3.9277642384295035,4.0125452744220098,4.0968767394022478,4.1798009640825597,4.2602430257677639,4.3370296207005055,4.4089169477001775,4.4746272448395956,4.5328926870474078,4.5825044171950395,4.6223636903354901,4.6515315923055738,4.6692736400526513,4.675095812403768,4.6687691673479748,4.6503411006588777,4.6201323908667149,4.5787203479237206,4.5269095262417949,4.4656924662517525,4.3962036856286062,4.3196705613836031,4.2373647719576155,4.1505576030941569,4.0604817238120887,3.9683011240019113,3.8750899170832867,3.7818197913264413,3.6893551529844473,3.5984545077573813,3.5097763899521937,3.4238881466724678,3.3412760670706945,3.2623556516154935,3.1874811797901117,3.116954099292272,3.0510300796468783,2.9899248167662478,2.9338188274764008,2.8828615356962786,2.8371749397187074,2.7968570864774023,2.7619854899295007,2.7326205399798056,2.7088088722109234,2.6905866156961764,2.6779824078704308,2.6710200585243484,2.6697207537603873,2.6741047093243111,2.6841922062488806,2.7000039671076053,2.7215608567838245,2.7488829170790581,2.7819877696104669,2.8208884458248207,2.865590724972364,2.9160900773898533,2.9723683165705239,3.0343900533539028,3.1020990135118467,3.1754142228158031,3.254225983103268,3.3383914678072557,3.4277296728983941,3.5220153931134774,3.6209718809047189,3.7242619117576652,3.8314771412916997,3.9421259007441591,4.0556199259995509,4.1712609226844251,4.2882282917182266,4.4055697181621696,4.5221965928729588,4.6368863187436347,4.7482933846800535,4.854970625890374,4.9554013227981528,5.0480417714670267,5.131372793385836,5.2039574970892346,5.2645016333839152,5.3119122570530664,5.3453502249769969,5.364272355152238,5.3684598033747051,5.3580302922024003,5.3334331303822609,5.2954273616118286,5.2450447499681871,5.1835405165133608,5.1123356622438649,5.0329552388351573,4.946966993017341,4.85592440892394,4.7613173757133183,4.6645326499891411,4.5668251339996431,4.4692999178880513,4.3729041661408559,4.278427336094424,4.1865079115977863,4.0976447823475581,4.0122115360315291,3.9304721851500375,3.8525971585930137,3.7786786997921951,3.7087450956437777,3.6427733960524478,3.5807004674881711,3.5224323580127219,3.4678520429515771,3.4168256787436206,3.3692075265406203,3.3248437249142313,3.2835750989669492,3.2452391957322533,3.2096717352461468,3.1767076630740263,3.1461819812187031,3.1179305165801026,3.0917907557511484,3.0676028302482479,3.0452106797497862]
[null,null,null,2.5614890882577157,2.5895808731795711,2.6191524643684687,2.6503372473550684,2.6832551880902002,2.7180112185925651,2.7546977804519912,2.7933991794998434,2.8341957136372713,2.8771664592531323,2.9223903925064434,2.9699459429959774,3.0199092038376847,3.0723509967960609,3.1273329172142752,3.1849024133414758,3.245086908239486,3.3078869550581231,3.3732684288141144,3.441153800191401,3.5114126100784375,3.5838513681974149,3.6582032341400037,3.7341179996635816,3.8111530667082292,3.8887662882466003,3.966311682494208,4.0430391116546076,4.1180989972384481,4.1905529911791035,4.2593912137526928,4.3235562056818964,4.3819731516270082,4.4335852746836366,4.4773926595664335,4.5124922287368037,4.5381162552719587,4.5536667075093789,4.5587429057622018,4.553160414883294,4.5369597506805377,4.5104042743671897,4.4739675072690801,4.4283109337059869,4.3742540903144942,4.3127392892543099,4.2447936308691254,4.1714909952436159,4.0939164644118904,4.0131351592288382,3.9301668514833779,3.845967025577707,3.7614144081693297,3.677304435077744,3.5943477315597221,3.5131724631728076,3.4343293610829022,3.358298309309717,3.285495562290194,3.2162808960146236,3.1509642441265129,3.0898115979138225,3.0330501319133845,2.9808726419397686,2.9334414477978186,2.8908919261341879,2.8533358134931603,2.8208643718904938,2.7935514544015945,2.7714564582366705,2.754627114801778,2.7431020431369433,2.7369129842693809,2.7360866367714749,2.7406460248230786,2.7506113461978856,2.7660002664380698,2.7868276454603773,2.81310470299114,2.8448376487957745,2.882025821698349,2.9246593962616174,2.9727167253460749,3.0261613874530582,3.0849389964571259,3.1489738055108631,3.2181650960697397,3.2923832902003909,3.3714656671817949,3.4552115162361332,3.5433765319826449,3.6356662750213644,3.7317285917431064,3.8311450238664548,3.9334214390290612,4.0379783676448398,4.1441418152390526,4.2511355997951767,4.3580764976907318,4.4639736216691546,4.5677334521999882,4.6681717598176391,4.7640332687625317,4.8540193276948429,4.9368231127131565,5.0111710683079167,5.0758684970471819,5.1298465521854126,5.1722074700515321,5.2022647695901725,5.2195753687719417,5.2239611002606097,5.2155178932011808,5.1946118417065321,5.1618624087834206,5.1181140181689244,5.0643981684594195,5.0018888745139094,4.9318546289482157,4.8556101409635772,4.7744708523112678,4.6897126984736843,4.602538863962522,4.5140544828322362,4.4252494678733711,4.3369890027398554,4.250010755266274,4.1649275854833974,4.0822344150102339,4.0023179612395978,3.9254681763208765,3.8518904240196008,3.7817176405324204,3.7150219314785744,3.6518252398152953,3.5921088701756929,3.5358217723857734,3.4828875732050193,3.4332104055769292,3.3866796247947235,3.3431735269756615,3.3025622025077013,3.2647096699789273,3.2294754471127902,3.1967157246853759,3.1662843146415725,3.1380335391782666,3.1118152064470763,3.0874817754102963,3.0648877477427305]
[null,null,null,2.5772011426178523,2.6049555099109938,2.6341683530776407,2.6649873243807605,2.6975323223955883,2.7318952071274083,2.7681466603235805,2.8063448689162698,2.8465425229212684,2.8887909350696788,2.9331414651273775,2.9796448753519229,3.0283492029097516,3.0792965502309499,3.1325190202176003,3.188033903842566,3.2458381626828299,3.3059022274664329,3.3681631461754904,3.4325171556758818,3.4988118158901926,3.5668379327614872,3.6363216023371621,3.7069168273139184,3.7781992794694617,3.8496618918740779,3.920713044155562,3.9906781294394449,4.0588052395212202,4.1242755560489144,4.1862187804410809,4.243733579468639,4.2959125909820983,4.3418710676807422,4.3807777923096722,4.4118865363662252,4.4345661112869976,4.4483270148016771,4.4528428211448698,4.4479647926257684,4.433728670100308,4.4103531831902529,4.3782304496875639,4.3379090454588862,4.2900710605684509,4.2355048604040206,4.1750755015666101,4.1096947900048377,4.0402928163295115,3.9677924884921225,3.8930881539601927,3.8170289232370891,3.7404068363284324,3.663949606617976,3.5883173691978101,3.5141026702195433,3.4418328591600158,3.3719740714801816,3.3049360902113136,3.241077522678367,3.1807108944473867,3.1241074221307059,3.0715013615565141,3.0230939271015842,2.9790568382703242,2.9395355739118685,2.9046524104273743,2.8745092978470979,2.8491905967024564,2.8287656675116892,2.813291279138511,2.8028137852285937,2.7973710100151976,2.7969937850354682,2.8017070849649457,2.8115307219001835,2.8264795712924666,2.8465633179748551,2.8717857262896445,2.9021434532349843,2.9376244367725945,2.9782059015984288,3.0238520300701879,3.074511344720392,3.1301138391377634,3.1905678751401609,3.2557568368650465,3.3255354998623972,3.3997260415367094,3.4781135970759323,3.5604412628793085,3.6464044780640421,3.7356447823819252,3.8277430598038364,3.9222125286810154,4.0184919215832764,4.1159394925680743,4.2138286714514805,4.3113463230408655,4.4075946313815706,4.5015975840671985,4.5923128564313203,4.6786495807553052,4.7594920418568591,4.8337288007020192,4.9002861669530802,4.9581643900300065,5.0064744912841803,5.0444733835226288,5.0715948639006996,5.087474239305962,5.0919647370313754,5.0851444290754699,5.0673130981462151,5.0389792285572952,5.0008380423959267,4.9537421489095124,4.8986668691511994,4.8366725897920873,4.7688665636486718,4.6963664122707058,4.6202672298952194,4.5416136949385901,4.4613780361012658,4.3804441474153322,4.2995976612531734,4.2195214117361246,4.140795471559656,4.0639008205427984,3.9892256864102507,3.9170736611161345,3.8476728108776825,3.7811851390497253,3.717715907273444,3.6573224574455736,3.6000222963022424,3.545800301992486,3.4946149877124668,3.446403813509292,3.4010875774580853,3.358573946135138,3.3187602065181778,3.2815353418408364,3.2467815560923299,3.2143753969705102,3.1841886521182943,3.1560892098155335,3.1299420695601299,3.1056106465640738,3.0829584318783105]
[null,null,null,2.5916073434950562,2.6188501411855185,2.6475482342950585,2.677875259805873,2.7099507068602264,2.7438456385741716,2.7795997760524216,2.8172380403266146,2.8567814202993276,2.8982520908009377,2.9416744509074846,2.9870736882244415,3.0344729262967149,3.0838895298091842,3.1353308360070713,3.1887894177267953,3.2442379124089058,3.3016234356546619,3.360861616152178,3.4218303301820043,3.4843632728345,3.5482435758728599,3.6131977649658467,3.6788904361414865,3.7449201144975035,3.8108168261319548,3.876041952996033,3.9399909345970769,4.0019993157517746,4.0613525054244377,4.1172994049633616,4.1690697921088002,4.215895029248216,4.2570313311692161,4.2917845175530971,4.3195349294915815,4.3397610437813654,4.3520602991344646,4.3561657651208208,4.3519575312753744,4.3394680486499482,4.3188810853190347,4.2905244192952381,4.2548568419162365,4.2124504381074104,4.1639694086486685,4.1101468754194599,4.0517611493136343,3.9896128443983372,3.9245040097828081,3.8572201550976075,3.7885157072234534,3.7191030971398362,3.6496453735585561,3.5807520014593734,3.5129773434144482,3.4468212420632796,3.3827311152959822,3.3211050264889792,3.2622952815518573,3.2066122130650143,3.1543279218279139,3.1056798439785354,3.0608740885584069,3.0200885421496793,2.9834757645907217,2.951165706801433,2.9232682742865705,2.8998757443519452,2.8810650271428386,2.8668997446037991,2.8574320899732726,2.8527044245480653,2.8527505680866767,2.8575967435413787,2.8672621446894908,2.8817591054755525,2.9010928614184337,2.92526090531031,2.9542519507246112,2.9880445266114322,3.0266052334306295,3.0698866946894583,3.1178252363497307,3.1703383195779367,3.2273217397781906,3.2886465879885662,3.3541559523966527,3.423661322501502,3.4969386524064845,3.5737240496891474,3.6537090887171217,3.7365358067082326,3.8217915285037662,3.909003778533517,3.9976356671293303,4.0870822691588415,4.1766686273019928,4.2656500885740485,4.3532156987435116,4.4384953156082219,4.5205709456759422,4.5984925570553941,4.6712982852372278,4.7380385537358194,4.7978032175815457,4.8497504527014001,4.8931358086227732,4.9273396597309471,4.9518912619271163,4.9664877587552638,4.9710067756336542,4.9655116662249128,4.9502489905813007,4.9256383608254879,4.8922553333415095,4.8508085046191098,4.8021123353807837,4.7470574504769871,4.6865802226680415,4.6216333486394063,4.5531588867640522,4.482064885756543,4.4092063386646743,4.3353707964445078,4.2612686123154475,4.1875274930330448,4.1146908226135253,4.043219100482176,3.9734937910911157,3.9058229003089338,3.8404476569237005,3.7775497673277556,3.7172588123402619,3.65965945524853,3.6047982214535779,3.5526896879857617,3.5033219838721408,3.4566615503324414,3.4126571452213597,3.3712431026114444,3.3323418807656964,3.2958659558544952,3.2617191506042076,3.2297975305934443,3.1999900543406312,3.1721792145801402,3.1462419328439211,3.1220509366642233,3.0994767374976817]
[null,"3,5",null,2.6047581834150009,2.631265077593028,2.6592646563944271,2.6889746233152181,2.7205060358813995,2.7538900984976209,2.7891183587582162,2.8261717120968086,2.8650346089202827,2.90569923824971,2.9481645360573481,2.9924329379540922,3.038506269962582,3.0863813312117117,3.1360453352325663,3.1874712249600492,3.2406128358257291,3.2953998911854256,3.3517328483311672,3.4094776606010413,3.4684605770500951,3.5284631630940311,3.5892177904331817,3.6504039079847672,3.7116454611443004,3.7725098662083525,3.8325089605665568,3.8911023273440861,3.947703326901248,4.001688051699162,4.0524072557181086,4.0992011021835282,4.1414163389285505,4.1784252714027588,4.2096456858430287,4.2345607071174669,4.2527374815105503,4.2638435711615017,4.2676600407296092,4.2640904035182956,4.2531648584203339,4.2350395665741445,4.2099910576080362,4.1784061873218405,4.140768359970636,4.0976409516297707,4.0496490064887354,3.9974603153973334,3.9417669269671904,3.8832679986549152,3.82265469029646,3.7605975630740005,3.6977367017683065,3.6346745534590212,3.5719712915425106,3.5101423819881603,3.4496579528694582,3.3909435447503853,3.3343818394785245,3.2803150160488457,3.2290474511948304,3.1808485567978977,3.1359556159099355,3.0945765370785097,3.0568924890428804,3.0230604040954319,2.9932153503251158,2.9674727739430438,2.945930606935562,2.9286712262382508,2.9157632415623453,2.9072630820868568,2.9032163485651523,2.9036588972922885,2.9086176255610354,2.9181109340575091,2.9321488493534531,2.9507327984318152,2.9738550362632878,3.001497736055299,3.033631759167335,3.0702151270325118,3.1111912200226612,3.1564867274596935,3.2060093687175737,3.259645397978673,3.3172568959905533,3.3786788434439501,3.4437159656971374,3.5121393416454652,3.5836827849010007,3.6580390368775824,3.7348558610390938,3.813732195199762,3.8942146007781702,3.975794337166306,4.0579054751772929,4.139924532388207,4.221172150057086,4.3009173214277752,4.3783846125608505,4.452764682427059,4.5232282095952741,4.5889430784369978,4.649094388145059,4.7029065512056292,4.7496664777899156,4.7887466329912485,4.8196266345825478,4.8419120503576067,4.8553491640230249,4.8598347012042922,4.8554198238175132,4.842308082928767,4.8208474315575955,4.7915168009628104,4.7549080991287695,4.711704765722132,4.662658189681494,4.6085633514314992,4.550234992447642,4.4884854546992159,4.4241050963489243,4.3578459097506226,4.2904086766248071,4.2224337233453895,4.154495109489531,4.0870979089819883,4.0206781299011567,3.9556047630918982,3.8921834424076138,3.8306612290256368,3.7712320864634847,3.7140426802763358,3.6591982075273819,3.6067680289328479,3.5567909363829102,3.5092799377211605,3.4642264784032619,3.4216040468453031,3.381371129615772,3.3434734991592592,3.3078458382327511,3.2744127421293143,3.2430892026517171,3.2137807711625186,3.1863837093192302,3.1607855250761219,3.1368662924216295,3.1145010043095311]
["Z [m]",null,null,2.6167067534938866,2.6421550318710132,2.669226539401123,2.6982063647138972,2.7291625720936423,2.7620424906910301,2.7967604692857861,2.8332401899867108,2.8714261518099562,2.9112819002678947,2.9527842279562861,2.9959168622337558,3.0406646306740441,3.0870081984006816,3.134919224837617,3.184355765367556,3.2352577878475159,3.2875427328178972,3.3411011052491091,3.395792142514793,3.4514396585108642,3.5078282176607587,3.5646998438470092,3.6217515153086453,3.6786337328475582,3.7349504695961429,3.7902608096586476,3.8440825538549603,3.8958980086332957,3.9451620767286073,3.9913126370530136,4.0337830432067534,4.0720163965852834,4.1054810773297703,4.1336868630362318,4.1562008501225449,4.1726623323956602,4.1827957969272092,4.1864212730706498,4.1834614127906633,4.1739448784080224,4.1580058501004515,4.1358797185593659,4.1078952746746751,4.0744639252773567,4.0360666322122967,3.9932393771177459,3.946557989064118,3.8966231373803026,3.8440461959484793,3.7894365426972598,3.7333906877115766,3.6764834453029067,3.6192611979875693,3.5622371582972363,3.5058884271953019,3.4506545795457697,3.3969374763949389,3.34510200559167,3.29547747866674,3.2483594540036194,3.2040118054508326,3.1626689041992933,3.1245378244850457,3.0898005171680865,3.0586159183273054,3.0311219732971182,3.0074375618534788,2.9876643099783138,2.9718882702839124,2.9601814489645761,2.9526031536737634,2.9492011350259162,2.9500124949214666,2.9550643375776673,2.9643741437263458,2.977949854401075,2.9957896575428862,3.0178814776970881,3.0442021757673814,3.0747164715526338,3.1093756060862887,3.1481157631627497,3.1908562696418272,3.2374975922158313,3.2879191448569571,3.3419769172771367,3.3995009322046172,3.4602925405168747,3.5241215709701379,3.5907233681252109,3.6597957801235026,3.7309961980293025,3.8039387994842997,3.8781922081146121,3.9532778407210998,4.0286692687632097,4.1037929593373548,4.1780307733945534,4.2507245757044672,4.3211832447384069,4.3886922578962384,4.4525258705492519,4.5119617147780247,4.5662974304691062,4.6148687279030156,4.6570680905545174,4.6923631829551624,4.7203139512625825,4.7405874072774594,4.7529691751849867,4.7573710499079453,4.7538340533515822,4.7425267592823701,4.7237389633810807,4.6978710742259153,4.6654198663865856,4.6269614449401359,4.5831324042860757,4.5346102141455304,4.4820938323464219,4.4262854367265874,4.3678740040184465,4.3075212634302176,4.2458503399081877,4.1834371980361169,4.120804819257458,4.0584199037865432,3.9966917892625844,3.9359732204461153,3.876562583420835,3.8187072265871365,3.7626075209127947,3.708421355179226,3.6562688110752362,3.6062368119395529,3.5583835832337201,3.5127427992359088,3.4693273170747574,3.428132415512934,3.3891384632199646,3.3523129441802126,3.3176117760736616,3.2849798877552274,3.254351097852819,3.225647480168945,3.1987786128305089,3.1736413318787839,3.1501207164145484,3.1280928575150284]
[null,null,null,2.6275079293183836,2.6513662795167221,2.677215779050087,2.7054086701766238,2.7358493519776772,2.7683100197247796,2.8025894304364414,2.8385456118875965,2.8760861846651977,2.9151521898780146,2.9557045380301048,2.9977139072034475,3.0411531946748624,3.085991599439339,3.1321896808311323,3.1796949790511775,3.2284379550106763,3.2783281251969782,3.3292503520548706,3.3810613156182541,3.433586246100802,3.4866160438257765,3.5399049532841929,3.5931689910652977,3.6460853502078834,3.698293012413032,3.7493947903894735,3.7989609915561999,3.8465348387609168,3.8916397030496199,3.9337881001356862,3.9724922817084831,4.0072761240289054,4.0376878910537499,4.0633133407832389,4.0837885646954959,4.0988119121185349,4.108154361660965,4.1116677629870111,4.1092904814773448,4.101050127585026,4.0870632295426645,4.0675318969698964,4.0427377070373183,4.0130332077843462,3.9788315608671354,3.940594928168494,3.8988222380408359,3.8540369477116343,3.8067753540918119,3.757575905877772,3.7069698482743121,3.6554734018321682,3.6035815519134786,3.551763415986855,3.5004590697514715,3.4500776536957432,3.4009965492155771,3.353561405035137,3.3080868054884291,3.2648573963256098,3.2241293150411678,3.1861318059225852,3.1510689308457955,3.1191213125548956,3.0904478664122195,3.0651874893414259,3.0434606817471064,3.025371081015706,3.0110068853426952,3.0004421456174128,2.9937379020895065,2.9909431423902362,2.9920955586127178,2.9972220836864807,3.0063391910999968,3.0194529468260924,3.0365588077270758,3.0576411663202379,3.0826726471504031,3.1116131647177809,3.1444087566029992,3.1809902078568797,3.2212714838143626,3.265147988433668,3.3124946645827862,3.3631639523310497,3.4169836225746479,3.4737545078728687,3.5332481619514482,3.5952044955011644,3.6593294596731738,3.7252928800698868,3.7927265817356641,3.8612229867810157,3.9303344062969785,3.9995732812023306,4.0684136457534663,4.1362940855882897,4.2026224331762734,4.2667823831179561,4.3281421166522449,4.3860649016908866,4.4399214887834688,4.4891039659703296,4.5330405811861141,4.5712109062323094,4.6031606175654503,4.6285151199448791,4.6469912485543574,4.6584063567581637,4.6626842268454283,4.6598574202672438,4.6500658970602871,4.6335519628066635,4.6106518254193389,4.5817842436415646,4.54743690739231,4.5081512944858702,4.4645067921078834,4.4171048545574223,4.3665538972224596,4.3134555118701456,4.2583924448319834,4.2019186236382637,4.1445513643278247,4.0867657536747828,4.0289910868647638,3.9716091564887819,3.9149541340746765,3.8593137585032053,3.8049315422382648,3.7520097207911505,3.7007126973956161,3.6511707679330954,3.6034839457513925,3.5577257379137706,3.5139467499853225,3.4721780126044308,3.4324339273164099,3.3947147202643606,3.3590082723431323,3.3252911725594316,3.2935288404909357,3.2636746269751171,3.235667990343515,3.2094322068552827,3.1848725675743452,3.161876412820888,3.1403162534273719]
[null,null,null,2.6372176448005433,2.6584519196884031,2.6827591851302515,2.7103122210877615,2.7404792204847155,2.7727170759982727,2.8066911620561967,2.8422084190877257,2.879156640690141,2.9174677070399895,2.9570963505177161,2.9980073812818802,3.0401673862297258,3.0835388082895037,3.1280753111413588,3.1737178519793616,3.2203911614844714,3.2680004868729071,3.3164285503211346,3.3655327405139559,3.4151426037849291,3.4650577398563627,3.5150462378618244,3.5648438110286378,3.6141538015095733,3.6626482280091892,3.7099700354262808,3.7557366755116703,3.7995450992841739,3.8409781759854269,3.879612472077909,3.915027231834344,3.9468143052754243,3.9745886780734878,3.9979991809337179,4.016738901938723,4.0305548019847635,4.0392560457035671,4.0427206096963886,4.0408998142451793,4.0338205379629386,4.0215850080371212,4.0043682006035652,3.9824130241716631,3.9560235820952556,3.9255569076420471,3.891413629805399,3.8540280556497493,3.8138581456236551,3.7713758155439763,3.7270579296371835,3.6813782619889395,3.6348006087848859,3.5877731401999284,3.5407239966957178,3.4940580655848663,3.4481548232482311,3.4033670971213184,3.3600205880643585,3.3184139950596006,3.2788195964283346,3.2414841607911598,3.2066300829501841,3.1744566615738989,3.1451414547699557,3.1188416650560242,3.0956955164899824,3.0758235941073195,3.0593301200729144,3.0463041430820823,3.0368206185070648,3.0309413574309616,3.0287158236745171,3.0301817595794631,3.0353656238317086,3.0442828279624194,3.0569377621957159,3.0733236057754567,3.0934219215105969,3.1172020387292463,3.1446202328457531,3.1756187130975917,3.2101244325866531,3.248047736562782,3.2892808661582791,3.3336963359672183,3.3811452056769298,3.4314552693619902,3.4844291921068162,3.5398426334447066,3.5974424115145069,3.6569447812267555,3.7180339237275888,3.7803607717024619,3.8435423231640442,3.9071616218303831,3.970768600676152,4.0338819919091549,4.095992496773917,4.156567378277046,4.2150565868156065,4.2709004526675898,4.3235388830940593,4.3724218911229826,4.4170211664781363,4.4568422872495574,4.4914370754581938,4.5204155319499222,4.5434567554477354,4.5603182632927002,4.5708431893597066,4.5749649352137141,4.5727089866803254,4.5641917687735685,4.5496165839361851,4.5292668471730195,4.5034969826824494,4.4727214676676255,4.43740259099242,4.3980375322152128,4.3551453597963103,4.3092544998872171,4.260891146698853,4.2105689821907646,4.1587804579995833,4.1059897770980029,4.0526276060338517,3.9990874577602966,3.9457236142865639,3.8928504091897054,3.8407426616725644,3.7896370438345883,3.7397341675796127,3.6912011930282773,3.6441747822782844,3.5987642468275709,3.5550547600788178,3.5131105241554366,3.4729777884888478,3.4346876112962974,3.3982582286201222,3.3636968446147222,3.3310005833404119,3.3001562674712801,3.2711386748466538,3.2439070953202105,3.2184005430016924,3.1945329639884648,3.1721909224846883,3.1512366231330446]
[null,null,null,2.6458922536739209,2.6620063854972926,2.6849366468780858,2.7125997052478255,2.7430273313031108,2.7753542650828109,2.8091994682411467,2.8443793186199144,2.8807965454612798,2.9183936892009825,2.9571311981476214,2.9969757483021766,3.0378931500576272,3.0798434511032582,3.1227771494111067,3.1666319992819325,3.2113301631226392,3.2567756016548657,3.3028516760345354,3.3494189875580815,3.3963135179010209,3.4433451610301091,3.4902967590787313,3.5369237685495278,3.5829546891066428,3.6280923833410696,3.6720164005493672,3.7143863895336295,3.7548466442332114,3.7930317723916147,3.8285734136442642,3.861107863138713,3.8902843852517464,3.9157739353863548,3.9372779528853386,3.9545368511201531,3.9673378170176505,3.9755215449268775,3.9789875697015731,3.9776979293281016,3.9716789739439236,3.9610212390488897,3.9458774079488563,3.9264584931602684,3.9030284600788008,3.8758975912507907,3.8454149406170046,3.8119602511297188,3.7759357059163818,3.7377578550600248,3.697850011703153,3.6566353487147154,3.6145308574802613,3.5719422602423236,3.5292599026988256,3.4868555987391829,3.4450803569807107,3.4042628901814425,3.3647087930921629,3.32670027012459,3.2904962988518065,3.2563331260065951,3.2244250065533748,3.1949651112377211,3.1681265419772302,3.1440634064162083,3.1229119123924391,3.1047914499669247,3.0898056333759172,3.0780432783553664,3.0695792923802259,3.0644754570173376,3.0627810832938991,3.0645335230135089,3.0697585214938528,3.0784704002582401,3.0906720617211221,3.1063548117140698,3.125497999606651,3.1480684796054987,3.1740199003634331,3.2032918331838829,3.2358087518129679,3.2714788791256098,3.3101929181521967,3.3518226872210022,3.3962196820305479,3.4432135918743398,3.4926108036989234,3.5441929368323741,3.5977154634534685,3.6529064852188213,3.7094657543596412,3.7670640467822949,3.8253430132890998,3.8839156503368173,3.9423675406242893,4.0002590128941762,4.0571283565360972,4.112496197457844,4.1658710960824834,4.2167563667156429,4.2646580424055429,4.3090938253446183,4.3496027762711975,4.3857554149771971,4.4171638362640095,4.4434913993966489,4.4644615307846465,4.4798651933903813,4.4895666233997389,4.4935070128690455,4.4917059211271777,4.4842603197331385,4.4713413059925102,4.4531886477967788,4.4301034375333046,4.4024392260010785,4.3705920719294653,4.3349899750108278,4.2960821597097407,4.2543286460353755,4.2101904871366429,4.1641209790521572,4.1165580632026177,4.0679180551564542,4.0185907508539316,3.9689358892953095,3.9192808923253182,3.8699197593104913,3.8211129672545923,3.7730882139582178,3.7260418409923517,3.6801407817803664,3.6355248949906382,3.5923095616194161,3.550588442289623,3.5104363055691152,3.4719118434005765,3.4350603785776599,3.3999163303831921,3.3665052224321101,3.3348448745286845,3.3049452145943548,3.276805929196442,3.2504111318221049,3.2257207861148771,3.2026603302485768,3.1811128162837434,3.1609201146516881]
[null,"3",null,2.6535879761847667,2.6572598707426636,2.6826694692630753,2.7122585484928408,2.7436933033321651,2.7764407836396714,2.8103182200541852,2.8452463481999501,2.8811836088044771,2.9181027875379044,2.9559806223731613,2.9947921207843393,3.0345068075816499,3.0750858391397884,3.1164795392879654,3.1586251644494752,3.2014448213894724,3.2448435217952323,3.2887073951938959,3.3329021079927514,3.3772715567267397,3.4216369195598162,3.4657961617659652,3.5095240975335713,3.552573110801049,3.594674630637158,3.635541440782319,3.6748708776364225,3.7123489361746493,3.7476552598541986,3.7804689404638196,3.8104750000376697,3.8373713733398489,3.8608761606035813,3.8807348809495323,3.896727431676041,3.908674450978495,3.9164427937752322,3.9199498626607436,3.9191665870544767,3.9141189100878222,3.9048877197636642,3.8916072424963062,3.8744619968547198,3.8536824769332299,3.8295397928568349,3.8023395364314041,3.772415160606343,3.7401211618725227,3.7058263365258739,3.6699073480196063,3.6327427977091276,3.5947079400323076,3.5561701304591651,3.5174850447122168,3.4789936642594199,3.4410199881558157,3.4038694060190124,3.3678276512134033,3.3331602461980623,3.3001123519081688,3.2689089380851755,3.239755199721813,3.2128371545347107,3.1883223662163545,3.1663607472090263,3.1470854023376233,3.1306134806655876,3.1170470075173142,3.1064736720259845,3.0989675481954322,3.0945897296774518,3.0933888605891156,3.0954015469548466,3.1006526358911088,3.109155352504601,3.1209112876123726,3.1359102327315753,3.1541298622066023,3.175535265722786,3.2000783376818589,3.2276970329229897,3.258314501050009,3.2918381142465449,3.3281584061072493,3.367147941948744,3.4086601446726235,3.4525281049482004,3.4985634106910624,3.546555038864696,3.5962683626499512,3.6474443388451192,3.6997989533710296,3.7530230159119498,3.8067824064506368,3.8607188847939113,3.9144515768578998,3.9675792462205521,4.0196834441900506,4.0703326049802655,4.1190871140411076,4.165505327918126,4.2091504654093654,4.249598225819355,4.2864449256434369,4.319315885710509,4.3478737526492779,4.3718264070690367,4.3909341005529399,4.4050154772045431,4.4139521737216825,4.4176917530841564,4.4162488070141563,4.4097041555674963,4.3982021713898547,4.3819463535802043,4.3611933641754348,4.3362458124133099,4.307444123125137,4.2751578529533418,4.2397768209223301,4.2017023998208032,4.1613392754008913,4.1190879264756433,4.0753380162737045,4.0304628196493439,3.984814747167448,3.9387219699570295,3.8924861015696735,3.8463808566082349,3.8006515811130015,3.7555155360883106,3.7111628119152869,3.667757756013529,3.6254408070333426,3.5843306439802092,3.5445265755904387,3.5061111109158531,3.4691526616423261,3.4337083216729667,3.3998266342283188,3.3675501624374959,3.3369174780822135,3.3079638089190695,3.2807189946542081,3.255200729854792,3.2314009992939106,3.2092657801471063,3.1886743514345284,3.1694329315761678]
[null,null,null,2.5867433659228567,2.6420102972342221,2.6773001328903518,2.7101945910527974,2.7430312217793897,2.7763449457757901,2.8103186896769756,2.8450288055790196,2.8805089885453157,2.9167712657924909,2.9538136409223199,2.9916227487476732,3.0301743811418618,3.0694330148102296,3.1093508444063929,3.1498665724611072,3.1909041002106022,3.2323712174483745,3.2741583717193947,3.3161375927194143,3.3581616494000315,3.4000635208949603,3.4416562653535578,3.4827333711166801,3.5230696708394049,3.5624228898606844,3.6005358844515598,3.637139603046748,3.6719567743377155,3.704706290990103,3.7351082183481168,3.7628893161484456,3.7877889209481026,3.8095650010364324,3.828000167496711,3.8429074079430023,3.8541353057394048,3.8615725186585479,3.8651513171123355,3.8648500221115825,3.8606942344692499,3.852756805855293,3.8411565647501078,3.8260558714305688,3.8076571312709433,3.786198440863032,3.7619485737540259,3.7352015302155763,3.7062708780125178,3.6754840996401725,3.6431771380657523,3.6096893006630211,3.5753586432370952,3.5405179163253848,3.5054911175718217,3.4705906595184075,3.4361151334926632,3.4023476283883127,3.3695545482267306,3.3379848639754783,3.3078697322247734,3.2794224147130677,3.2528384370513805,3.2282959310292796,3.2059561115784021,3.1859638460166622,3.1684482791037141,3.1535234824720959,3.1412891011331538,3.131830973113253,3.125221701054798,3.1215211570683294,3.1207769044265348,3.123024522044588,3.128287820183246,3.1365789384841918,3.1478983203129047,3.1622345603710613,3.1795641256064044,3.1998509524901095,3.2230459267164946,3.2490862542476719,3.2778947354048427,3.3093789564656078,3.3434304160915786,3.3799236070897933,3.4187150777436699,3.4596425015061101,3.502523789447892,3.5471562866578807,3.5933161017455433,3.6407576274655042,3.6892133196728452,3.7383938104656664,3.7879884382557663,3.8376662811534032,3.8870777788942661,3.9358570209842441,3.983624763523423,4.0299922134949924,4.0745655870988031,4.1169514088227714,4.156762472220251,4.1936243346192015,4.2271821698729042,4.2571077599474023,4.2831063718935951,4.3049232455380348,4.3223494121052823,4.3352265768416345,4.3434508298362147,4.3469749972654057,4.3458095072841587,4.3400217164137729,4.32973371829992,4.3151187314329178,4.2963962302993224,4.2738260405790669,4.2477016597005246,4.2183430870513661,4.1860894528121975,4.1512917217074943,4.114305720369444,4.0754856979114464,4.0351785827709392,3.9937190491088899,3.951425456958944,3.9085966852176028,3.8655098379376085,3.8224187738287725,3.7795533871030358,3.73711955482419,3.6952996612120756,3.6542536120180813,3.6141202611311058,3.5750191859381886,3.5370527665819367,3.5003085457268099,3.4648618671653111,3.4307788075363561,3.3981194110617849,3.3669411782670267,3.3373025697375596,3.3092658085050601,3.2828972284172409,3.2582615297894648,3.2354039183560559,3.2143142021490263,3.1948773169243765,3.1768407642614278]
[null,null,null,2.5926559845711523,2.6354348230418196,2.6731736059869462,2.7079660638687386,2.7417861635106959,2.7755026480789269,2.8094982058906766,2.843955211101715,2.8789649608921053,2.9145718606025781,2.9507925781566797,2.9876246837281286,3.0250504918981136,3.0630385620144551,3.1015439994949503,3.1405081320191215,3.1798578734576921,3.2195049638227857,3.2593452131154805,3.2992578479497041,3.3391050462822278,3.3787317391988978,3.4179657547693836,3.4566183745984205,3.494485366937468,3.531348549772062,3.5669779223460552,3.6011343837929672,3.6335730330895757,3.6640470161508034,3.6923118548649683,3.7181301610171857,3.7412766076287625,3.7615430037010498,3.7787432982012348,3.7927183275597969,3.8033401196917822,3.8105155775125041,3.8141893861508009,3.8143460195744723,3.8110107622640186,3.8042497071892711,3.7941687394491197,3.780911562035314,3.7646568629238999,3.745614758117668,3.7240226711148097,3.7001408242141594,3.6742475207182252,3.6466343900854525,3.6176017518638588,3.5874542309327211,3.5564967286535278,3.5250308245584989,3.4933516535964912,3.4617452767057131,3.4304865390871413,3.3998373919081502,3.370045639571245,3.3413440659850124,3.3139498888732675,3.2880644902806324,3.2638733731363203,3.2415462971465985,3.221237551603636,3.2030863272951393,3.1872171541567837,3.173740375354285,3.1627526320413466,3.1543373361185019,3.1485651110177599,3.145494182996444,3.1451707077581119,3.1476290195508767,3.1528917922988313,3.1609701048337087,3.1718634049231156,3.1855593695132001,3.2020336613767455,3.2212495851444345,3.2431576484579097,3.2676950367152955,3.2947850125854785,3.3243362542261394,3.3562421490271532,3.3903800628678624,3.4266106084677261,3.4647769405729747,3.5047041105793397,3.5461985187403542,3.5890475082742199,3.6330191521375781,3.6778622895048017,3.7233068743468749,3.7690647020075261,3.8148305802845783,3.8602840080885841,3.9050914162666714,3.9489090108322813,3.9913862382417307,4.0321698656786538,4.0709086373538099,4.1072584321521362,4.140887810751039,4.1714838043489948,4.1987577654467287,4.2224510768077863,4.2423405005755086,4.2582429477071031,4.270019459604427,4.2775782192143055,4.2808764468201019,4.2799210840289135,4.2747682248517407,4.2655213114098132,4.2523281694652582,4.2353770115944229,4.2148915797506419,4.1911256314337351,4.1643569929252209,4.1348814085130954,4.103006406916748,4.0690453868501635,4.0333120952672488,3.9961156372168176,3.9577561184829477,3.9185209842388957,3.8786820813757714,3.838493440992707,3.7981897521884918,3.7579854795726959,3.7180745651409239,3.6786306502783788,3.6398077554136563,3.601741363049328,3.5645498645427978,3.5283363525914098,3.4931907709489423,3.4591924720058813,3.4264132825604321,3.3949212352705871,3.3647851694988589,3.3360803748634424,3.3088951462517429,3.2833370106879585,3.2595342580289213,3.2376213302154184,3.217686273934234,3.1996621624185053,3.1832083082286573]
[null,null,null,2.5977520088659531,2.6353341145883036,2.6716298068069335,2.7064742706158853,2.7405062859365756,2.7742748213759825,2.8081189971823477,2.8422339161926828,2.8767295823054013,2.91166532918119,2.9470683028104503,2.9829431714534707,3.019277127843921,3.0560423379289006,3.0931969832618478,3.1306855268255305,3.1684385645059052,3.206372484206284,3.2443890803211133,3.2823752317047621,3.3202027298971046,3.3577283321990166,3.3947941060206261,3.4312281236334314,3.4668455580502524,3.5014502199878308,3.5348365620078681,3.5667921587238283,3.5971006515750759,3.6255451237189931,3.651911846122502,3.6759943113302569,3.6975974483548413,3.7165418924821978,3.7326681693126744,3.745840644647231,3.7559510920467147,3.7629217386431861,3.7667076670229704,3.7672984759318382,3.7647191337533883,3.7590299941421534,3.7503259804833959,3.7387349823918186,3.7244155407968407,3.7075539260522845,3.6883607342949034,3.6670671398844803,3.6439209458717272,3.6191825704228648,3.5931210959789581,3.5660104911373622,3.5381260945699324,3.5097414276321643,3.4811253794486134,3.4525397867241878,3.4242374115200533,3.3964603045091479,3.3694385291675104,3.3433892139436949,3.3185158943703215,3.2950081048480371,3.273041179812239,3.2527762255568149,3.2343602265643341,3.2179262532764454,3.2035937414775759,3.1914688166247487,3.1816446394006306,3.1742017514676633,3.1692084028893959,3.1667208450094932,3.1667835748345254,3.1694295191986868,3.1746801492715377,3.1825455183095954,3.1930242179805504,3.2061032510733156,3.2217578209441484,3.2399510406045096,3.2606335669208732,3.2837431679597415,3.3092042341042287,3.3369272462108341,3.366808216863987,3.3987281237717895,3.4325523576413133,3.4681302105349374,3.5052944347714714,3.5438609068601039,3.5836284355808203,3.6243787578916482,3.6658767703990094,3.70787104712646,3.7500946955393744,3.7922666014662667,3.8340931089384611,3.8752701723508238,3.9154860052959037,3.9544242327600756,3.9917675313993612,4.027201717064699,4.0604202108888927,4.0911287868079995,4.1190504764155804,4.1439304838342963,4.1655409460512232,4.18368536490145,4.1982025370882496,4.2089698191065423,4.2159055846834264,4.2189707624882686,4.2181693796833173,4.2135480799850455,4.2051946304026302,4.1932354755983994,4.1778324398264175,4.1591787109718013,4.1374942671920252,4.1130209227312804,4.0860171751154581,4.0567530315011453,4.0255049785474029,3.9925512395213758,3.958167436526125,3.9226227470294788,3.8861766144882353,3.8490760447873384,3.8115534950966463,3.7738253408036115,3.7360908902328589,3.6985319063742139,3.6613125900652932,3.6245799801830998,3.588464733774785,3.5530822635476653,3.5185342336113337,3.4849104503618804,3.4522912403782726,3.4207504921599678,3.3903596711367214,3.361193322019588,3.3333368681636699,3.3068978509692073,3.282021722426478,3.2589111667822834,3.2378376430145437,3.2191006184463475,3.2028307347232072,3.1885988634939082]
[null,null,null,2.602083210998515,2.6369301745647675,2.6715824930415835,2.7056972700451496,2.739379454991095,2.7728660928300002,2.8063670758210293,2.8400313066324117,2.873954601294983,2.9081935408885187,2.9427762672296325,2.9777094882394834,3.0129826612374728,3.0485703314323729,3.0844333255182761,3.1205192595941611,3.1567626584346584,3.193084882630032,3.2293940000084689,3.2655847022746656,3.3015383466660779,3.3371231891413657,3.3721948661073071,3.4065971733564737,3.4401631820649499,3.4727167213388412,3.5040742443261053,3.5340470801351813,3.5624440568957283,3.5890744627746329,3.6137512924305923,3.636294707357635,3.6565356210709439,3.6743193055073533,3.689508904622059,3.7019887361038428,3.7116672632081276,3.7184796263014306,3.7223896377382033,3.7233911635068893,3.7215088395971492,3.7167980987264428,3.7093445121330291,3.6992624796791205,3.6866933276426579,3.6718028956706377,3.6547787111395138,3.6358268597845296,3.6151686656537407,3.593037291388967,3.569674362253707,3.5453267052333644,3.5202432792168707,3.4946723551008319,3.4688589869762296,3.4430427985429759,3.4174560934904292,3.3923222854391639,3.3678546325272833,3.3442552539168986,3.3217144002714036,3.3004099472870365,3.2805070802603638,3.2621581379936941,3.2455025856520336,3.2306670881219333,3.217765657688048,3.2068998522262433,3.1981590024771975,3.1916204492597302,3.1873497736797134,3.1854010055204327,3.185816797089231,3.1886285518915116,3.1938564996183487,3.2015097111104041,3.2115860491855273,3.2240720534966414,3.2389427599045604,3.256161457199866,3.275679386369049,3.2974353899953854,3.321355521796292,3.3473526287884994,3.3753259211514006,3.4051605475909952,3.4367271969207849,3.4698817497045837,3.5044650071179007,3.5403025276107059,3.5772046053410094,3.6149664274246192,3.6533684494892356,3.6921770303521413,3.7311453663679259,3.770014763544637,3.8085162803985071,3.8463727662693685,3.8833013082096528,3.9190160845885345,3.9532316055286429,3.9856662998952146,4.0160463867944287,4.044109947751835,4.0696110955028786,4.092324118302642,4.1120474664942464,4.1286074421641246,4.1418614541113499,4.151700709592248,4.1580522312893748,4.1608801120019479,4.1601859493488433,4.1560084365019208,4.148422120480987,4.1375353745108185,4.1234876630914101,4.1064462057517375,4.0866021663302803,4.064166508004476,4.0393656597408238,4.0124371375478773,3.9836252546346742,3.9531770395161203,3.9213384617842024,3.8883510433550867,3.8544489101648622,3.8198563170752067,3.7847856584580626,3.749435959593896,3.7139918303902988,3.6786228535149377,3.6434833742176949,3.6087126592670273,3.5744353981803698,3.5407625325420469,3.5077924211819465,3.4756123852868512,3.4443007377215764,3.4139295036801656,3.3845682222408726,3.3562895547191687,3.3291780660440935,3.3033447862360248,3.2789525128197141,3.2562606451793243,3.2356999957420811,3.2179555287678596,3.2038176130517542,3.1930740079501589]
[null,"2,5",null,2.605699564686077,2.6388078431094328,2.6721003014281877,2.7053039664796614,2.7383636555689037,2.7713457655270446,2.8043500557904082,2.8374662310653065,2.8707607202633341,2.9042761537073858,2.938034408844274,2.9720397923261288,3.0062814315123916,3.0407348267868741,3.075362752061821,3.1101157121839123,3.1449321310628449,3.1797384046154065,3.2144489212697493,3.2489661306991735,3.2831807263597881,3.3169719966944484,3.3502083913978566,3.382748341343941,3.4144413625531485,3.4451294652204609,3.4746488779469615,3.5028320848377774,3.5295101592182192,3.5545153628087718,3.5776839639566589,3.5988592137631059,3.61789440565083,3.6346559330727501,3.649026252623301,3.6609066565807922,3.6702197604439135,3.6769116175649543,3.6809533844201638,3.682342475880219,3.6811031692121077,3.6772866372966035,3.6709704143481332,3.662257319829834,3.6512738868753587,3.638168359116932,3.6231083334032377,3.6062781348263542,3.5878760145055679,3.5681112598130795,3.5472013016332795,3.5253688945607138,3.502839434576245,3.4798384657195101,3.4565894135891284,3.4333115700533341,3.4102183411000766,3.3875157588334872,3.3654012495798753,3.3440626430201092,3.323677402204126,3.3044120510199519,3.2864217739611803,3.269850162534695,3.2548290830802813,3.2414786418579951,3.2299072247580654,3.2202115907226272,3.2124769998224423,3.2067773588185133,3.2031753689353621,3.2017226624580957,3.2024599166657168,3.2054169355196649,3.2106126914793691,3.2180553218048118,3.2277420757418867,3.2396592110692808,3.2537818406012065,3.2700737313843291,3.2884870615011863,3.3089621415826258,3.3314271103619859,3.3557976158713387,3.3819764962255903,3.4098534763573838,3.4393048995887199,3.4701935155211032,3.502368348368762,3.5356646724437297,3.5699041238841716,3.6048949796790026,3.6404326362986552,3.676300320444156,3.7122700632125571,3.7481039659295874,3.7835557807084257,3.8183728211727583,3.8522982086295059,3.8850734463856753,3.9164413001689553,3.9461489463361801,3.9739513325330478,3.9996146787630522,4.0229200316069154,4.0436667718585539,4.0616759672898439,4.0767934586452128,4.088892569018256,4.0978763348089586,4.1036791704134004,4.1062678980656386,4.1056420978556645,4.1018337594907877,4.0949062452458946,4.0849526010100732,4.0720932776801675,4.0564733468445553,4.0382593115223102,4.0176356238509214,3.9948010266776777,3.9699648350926253,3.9433432675542548,3.9151559252553767,3.8856225038540373,3.8549598048968932,3.823379096430628,3.7910838546236931,3.7582679017335892,3.7251139412873755,3.6917924795416894,3.6584611136064922,3.6252641614115504,3.5923326073148161,3.5597843401402969,3.5277246688311692,3.4962471168114035,3.465434523823248,3.4353605321489766,3.4060916207832719,3.3776900152680156,3.3502181305608616,3.3237459104055773,3.2983640499179074,3.2742101228420353,3.2515255331203292,3.2307928164132562,3.2130912776528504,3.2008645004190868,3.1966933376572086]
[null,null,null,2.6086490904018973,2.640509362348169,2.672696240568925,2.7050076591003034,2.7373498761070181,2.7697109333574446,2.8021201009834016,2.8346178485677029,2.8672399677840446,2.9000111422248125,2.9329432002302127,2.966035204589943,2.9992740384209782,3.032634966874312,3.0660820291949022,3.0995682651709302,3.1330358297920924,3.1664160602123133,3.1996295558351591,3.2325863256145482,3.2651860498406364,3.2973184974124337,3.328864133609116,3.3596949471567967,3.3896755184627665,3.4186643429365091,3.4465154141565364,3.4730800613056232,3.4982090239741552,3.5217547355023981,3.5435737740383075,3.5635294290596704,3.5814943210041434,3.5973530035943924,3.6110044731441775,3.6223645071601567,3.6313677562873607,3.6379695192605226,3.6421471398653154,3.6439009776136828,3.6432549192120263,3.6402564150952088,3.6349760432851639,3.627506620526745,3.6179618970121368,3.6064748850740926,3.5931958832755839,3.5782902648310682,3.5619361030456531,3.5443217065094217,3.5256431334334337,3.5061017482916128,3.485901875503842,3.4652485949991245,3.4443457138908542,3.4233939378665497,3.4025892558436652,3.3821215424037092,3.3621733748135085,3.3429190552104302,3.3245238237943084,3.3071432455565031,3.2909227510114221,3.2759973103883198,3.2624912205777008,3.250517984581748,3.2401802641381465,3.2315698873926664,3.2247678949090783,3.2198446088211625,3.2168597115275617,3.215862321971386,3.2168910592257447,3.2199740848284506,3.2251291170718019,3.2323634122584082,3.241673709786923,3.2530461398184087,3.2664560941981478,3.2818680632578747,3.2992354430962649,3.3185003199304361,3.339593240127229,3.3624329765649605,3.3869263040541426,3.4129677986491771,3.440439677808385,3.4692117004826315,3.4991411482599375,3.530072910591727,3.561839698726331,3.5942624140953825,3.6271506973271102,3.6603036835169434,3.693510987614971,3.726553940512602,3.7592070914100617,3.7912399851770289,3.8224192146535501,3.8525107373006762,3.8812824336090586,3.9085068716731968,3.9339642290335775,3.9574453100469356,3.9787545856007256,3.9977131728468152,4.0141616666695796,4.0279627325461291,4.0390033728105976,4.0471967853033419,4.0524837448606803,4.0548334536255055,4.0542438249400874,4.0507411865977616,4.0443794112333222,4.0352385033186948,4.0234226923023897,4.0090580987442621,3.992290053891324,3.9732801623895995,3.9522032024047888,3.9292439573648466,3.9045940691653271,3.8784489946191201,3.851005135958431,3.822457203236965,3.7929958524672571,3.7628056291571141,3.7320632333858583,3.7009361103324494,3.6695813597425939,3.6381449495400346,3.6067612128706941,3.5755526044714401,3.5446296915248041,3.5140913564130614,3.4840251946958318,3.4545081027595046,3.4256070692687359,3.3973802201647487,3.3698782351725498,3.3431463943821456,3.3172278283551719,3.292169320581408,3.2680331494982369,3.2449252670481172,3.2230764461908592,3.2031482605172386,3.1880336850837949,3.1995142668709917]
[null,null,null,2.6109777451373049,2.6418690325522647,2.673136603724501,2.7046264697547571,2.7362415787614935,2.7679365294969642,2.799700275741813,2.8315386823667126,2.8634620875775028,2.8954780112731981,2.9275874141479079,2.9597829646976521,2.9920482976472584,3.024357707808079,3.0566760145152756,3.0889584901461973,3.1211508246232569,3.1531891337190388,3.1850000339642435,3.2165008120958163,3.2475997175315428,3.2781964046437082,3.3081825485019323,3.3374426535617232,3.365855069492298,3.3932932219820344,3.4196270589332158,3.4447247040994711,3.4684543011352815,3.4906860215780995,3.5112942008851036,3.5301595578411451,3.5471714449837322,3.5622300717281661,3.5752486381371256,3.5861553161653461,3.5948950170111544,3.6014308879912136,3.605745490026564,3.6078416170572751,3.6077427309748344,3.6054929993308775,3.6011569373351477,3.594818669720226,3.586580841087013,3.5765632146625848,3.564901008410672,3.5517430237490686,3.5372496255430832,3.5215906325837949,3.5049431756331586,3.4874895756785662,3.4694152887870047,3.4509069564251007,3.4321505918767485,3.4133299249921691,3.3946249193875104,3.3762104687741186,3.3582552725695365,3.3409208855129719,3.3243609316972851,3.3087204702351727,3.2941354975992709,3.2807325703769408,3.268628531623321,3.2579303240229791,3.2487348735404424,3.2411290280470126,3.2351895364349019,3.2309830549427687,3.228566168714579,3.2279854180298031,3.2292773200936011,3.2324683788138344,3.2375750765588833,3.2446038435173108,3.2535510019489635,3.2644026843182559,3.277134726037545,3.2917125353094292,3.3080909443312549,3.3262140479224485,3.3460150374317692,3.3674160395960513,3.3903279718249593,3.4146504271873397,3.440271604138033,3.4670682977108385,3.4949059704679399,3.5236389228276863,3.5531105833954797,3.5831539404343431,3.6135921354638327,3.6442392389694049,3.6749012261506238,3.7053771673554223,3.7354606431874373,3.7649413881952256,3.7936071595425318,3.8212458182940594,3.8476476011757228,3.8726075503055171,3.895928057959182,3.917421473566165,3.93691271151188,3.9542417916355959,3.9692662402072045,3.9818632781554157,3.9919317257495806,3.9993935589480287,4.0041950620871916,4.0063075341376617,4.0057275207878575,4.0024765613315623,3.9966004567983333,3.9881680829801525,3.9772697879900107,3.9640154278561823,3.9485321046807229,3.9309616795765265,3.9114581366570604,3.8901848748029835,3.8673120009619453,3.8430136928064229,3.8174656902319697,3.7908429651046305,3.7633176075622004,3.7350569557064688,3.7062219843056283,3.6769659576386715,3.6474333422261935,3.6177589670916319,3.5880674124484955,3.5584726021452155,3.5290775704934418,3.4999743695854164,3.4712440777337434,3.4429568611934798,3.4151720259530833,3.3879379662083267,3.3612918539607648,3.3352587797637199,3.3098497455789158,3.2850571403925386,3.2608441945116482,3.2371180995569517,3.2136501368070896,3.1897708539418517,3.1625695109448344,3.1102083699698682]
[null,null,null,2.6127293507580447,2.6428290913294035,2.6733137681236911,2.7040596670667156,2.734974934328207,2.7660005121746423,2.7971032569478638,2.828266517903856,2.859481707104905,2.8907421122062971,2.9220388360582632,2.953358289078821,2.9846806757251869,3.0159790753317708,3.0472188720596449,3.0783573989645987,3.1093437299173416,3.1401185928200306,3.1706143993786355,3.2007553980641177,3.2304579622497016,3.2596310272749491,3.288176689637865,3.3159909792734794,3.3429648122855014,3.3689851267357227,3.3939361983305361,3.4177011262731725,3.4401634724046772,3.4612090293582725,3.4807276861703969,3.4986153530334292,3.5147759010986448,3.5291230688530533,3.5415822839934066,3.5520923492117475,3.5606069420641262,3.5670958831856723,3.5715461334236664,3.5739624887442716,3.5743679516156277,3.5728037684844054,3.5693291343386733,3.5640205765708259,3.5569710408120017,3.5482887105452079,3.5380955996886172,3.5265259626369101,3.5137245693233154,3.4998448936792528,3.4850472625841036,3.4694970092582622,3.4533626704168654,3.4368142607739998,3.4200216520956275,3.4031530773482217,3.3863737739623758,3.3698447740996045,3.3537218443367607,3.3381545724777624,3.323285595364311,3.3092499585721811,3.296174596716682,3.2841779216555977,3.2733695050872171,3.2638498417631894,3.255710179697715,3.2490324042257868,3.243888963506194,3.2403428239785654,3.2384474453549359,3.2382467658959655,3.2397751899880944,3.2430575713676575,3.2481091867335721,3.2549356959346341,3.2635330864091117,3.2738876010764528,3.2859756504393687,3.2997637112261344,3.3152082154951898,3.3322554357126108,3.3508413729079649,3.3708916565928604,3.3923214666759947,3.4150354891262538,3.4389279185632091,3.4638825222867951,3.4897727813999069,3.5164621255819526,3.5438042786150135,3.5716437318452421,3.5998163622359556,3.6281502103970666,3.6564664318226079,3.6845804314191213,3.7123031871758343,3.7394427635008327,3.765806008375435,3.7912004211988091,3.8154361702557225,3.8383282304676669,3.859698603910104,3.8793785779824788,3.8972109696223782,3.9130522990833327,3.9267748340074746,3.9382684442040983,3.9474422099240627,3.9542257315793421,3.9585700966798214,3.9604484699550682,3.9598562847143199,3.9568110268682091,3.951351616964061,3.9435374093224738,3.9334468401435316,3.9211757676117855,3.906835555998569,3.8905509621341849,3.8724578861922367,3.8527010494428708,3.8314316596455882,3.808805120357718,3.7849788340491699,3.7601101410161988,3.7343544272107039,3.7078634247312294,3.6807837193089625,3.6532554700279007,3.6254113379485347,3.5973756123617449,3.5692635159320929,3.541180662615389,3.5132226341718393,3.4854746308809723,3.4580111371183619,3.4308955179530898,3.4041794196202915,3.3779017659807238,3.3520869853986852,3.3267417792530836,3.3018490430166736,3.2773559318780059,3.2531490289441223,3.2289986668664739,3.2044228030371897,3.1783321864655392,3.148262191615558,3.1115978890661182]
[null,null,null,2.6139455554218358,2.6433777608555857,2.6731838805921626,2.7032588065884084,2.7335164858473462,2.7638924483734542,2.7943414801971045,2.8248327411829308,2.855344384820441,2.885858850089889,2.9163592100393743,2.9468265227028638,2.9772379737142529,3.0075655936589811,3.0377753808164556,3.0678267139380608,3.0976719833552835,3.1272563995010074,3.156517958099343,3.1853875538208598,3.2137892415259017,3.241640647987694,3.2688535382355468,3.2953345400452321,3.3209860280026788,3.3457071652930068,3.3693950971049986,3.3919462845597224,3.4132579625807722,3.433229699445107,3.4517650301751104,3.4687731308114422,3.4841704962934585,3.497882581488895,3.5098453631623983,3.5200067805622126,3.5283280139884852,3.5347845641920941,3.5393671006705034,3.5420820536575519,3.5429519325519578,3.542015362287529,3.5393268382672574,3.5349562094966274,3.5289879079642361,3.5215199497415171,3.5126627393322423,3.5025377132640045,3.491275861636197,3.4790161673003155,3.4659040016384637,3.452089513709879,3.4377260461023553,3.4229686064649769,3.4079724187322853,3.3928915727820907,3.3778777860136557,3.3630792853011116,3.3486398131938557,3.3346977582049107,3.3213854056438805,3.3088283027349661,3.2971447296867069,3.286445266919273,3.2768324477321329,3.2684004852277297,3.2612350622375033,3.2554131732367608,3.2510030077246626,3.2480638652406384,3.2466460930339309,3.2467910383758891,3.2485310085789507,3.2518892329321289,3.2568798219908359,3.2635077209275352,3.2717686549702449,3.2816490663146425,3.2931260432718688,3.306167243816148,3.3207308170987488,3.3367653279004656,3.3542096903820351,3.3729931188522499,3.39303510459591,3.4142454290464883,3.4365242247501016,3.4597620965702589,3.4838403164124969,3.5086311052968568,3.5339980168314042,3.5597964359093197,3.5858742057009323,3.6120723946106779,3.6382262127360008,3.6641660844335178,3.6897188798111955,3.7147093033530467,3.7389614324925873,3.7623003929322039,3.7845541510539675,3.8055553971684191,3.8251434869281837,3.8431664023847105,3.8594826892709051,3.8739633235592663,3.8864934584959343,3.896974003435119,3.9053229880479563,3.9114766698987609,3.9153903498692699,3.9170388682208994,3.9164167638513874,3.913538090046714,3.9084358911948271,3.9011613559377594,3.891782672515788,3.8803836210647518,3.8670619449507768,3.8519275485177928,3.8351005717254196,3.8167093929917968,3.7968886102473078,3.7757770469278142,3.7535158247083444,3.730246538538907,3.706109562381485,3.681242506328104,3.6557788378186586,3.629846671731471,3.6035677263057124,3.5770564341685684,3.5504191899354822,3.5237537074189191,3.4971484494106875,3.4706820795425273,3.4444228657683738,3.4184279329917757,3.3927422080479772,3.3673968043432154,3.3424064183461581,3.3177649809931751,3.293438173004418,3.2693501765465243,3.2453596821574848,3.2212163310382067,3.1964870913856629,3.1704745160019883,3.1423663476813459,3.1123457262973631]
[null,"2",null,2.6146658229651933,2.6435248154045183,2.67273678547933,2.7022077057516327,2.7318558281455267,2.7616144352227963,2.7914315063649013,2.8212672968404178,2.851090974947013,2.8808771773331756,2.9106029533640339,2.9402452671585735,2.9697790541741114,2.9991757579391418,3.0284022583998791,3.057420114326149,3.0861850604830607,3.1146467178337076,3.1427484892101205,3.1704276233045476,3.197615436958344,3.2242376901579775,3.2502151104461774,3.2754640640098529,3.2998973698590675,3.3234252515119209,3.3459564176731504,3.367399259782232,3.3876631502375432,3.4066598208349745,3.4243047967813567,3.4405188578171959,3.4552294948161517,3.4683723279575673,3.4798924514433764,3.4897456698976015,3.4978995931560775,3.5043345591401902,3.509044358830991,3.5120367428592232,3.5133336956666739,3.5129714702628547,3.5110003839472341,3.507484382636008,3.502500388242666,3.4961374496118509,3.488495722497774,3.4796853078363625,3.4698249799580339,3.4590408373973247,3.4474649086399864,3.4352337436315423,3.4224870193383055,3.4093661843298122,3.3960131634913608,3.382569139801106,3.3691734258753883,3.3559624338634677,3.3430687484466119,3.3306203042669011,3.3187396661571285,3.3075434081068948,3.2971415849741987,3.2876372895230901,3.2791262863917865,3.2716967140196829,3.2654288453334601,3.2603948980560489,3.2566588858075391,3.2542765016712423,3.253295026557808,3.2537532554994044,3.2556814359002288,3.2591012127594325,3.2640255769384083,3.2704588136556225,3.2783964495569222,3.2878251978956285,3.2987229025810478,3.3110584830809131,3.3247918833947523,3.3398740295413205,3.3562468012013795,3.3738430243176794,3.3925864925582658,3.4123920265704299,3.4331655808611714,3.4548044088941054,3.4771972975552643,3.5002248824336988,3.5237600553462158,3.5476684751144063,3.571809191712461,3.5960353924786119,3.6201952770411907,3.6441330649373498,3.6676901365567431,3.6907063040777501,3.713021204523514,3.7344758020981459,3.7549139817257782,3.7741842104475296,3.7921412382901138,3.8086478057104642,3.8235763210424096,3.8368104688153295,3.8482467086381433,3.857795624741911,3.8653830883480538,3.8709511988185028,3.8744589749277765,3.8758827744037916,3.8752164278113383,3.8724710815228178,3.8676747535213423,3.8608716146474222,3.8521210161948858,3.8414962920703459,3.8290833697197542,3.8149792284253436,3.7992902462506066,3.7821304777845199,3.7636199039905165,3.7438826930068529,3.7230455069158239,3.701235884531215,3.6785807244338713,3.6552048860912265,3.6312299201323839,3.6067729319249366,3.5819455755447933,3.5568531680154223,3.5315939060608201,3.506258159060323,3.4809278014915179,3.4556755343705987,3.4305641254419044,3.4056454678503059,3.3809593096243731,3.356531429831378,3.3323709134870541,3.3084659811912474,3.2847775414036136,3.2612293056469497,3.2376933397401473,3.2139720607965927,3.1897879745032895,3.1648256983948073,3.1389301907974385,3.1124996137950944]
[null,null,null,2.6149274456447102,2.6432907494329214,2.6719809695221812,2.7009101476923973,2.7299989764738228,2.759179438204356,2.7883953597676481,2.8176013131641042,2.8467605040752488,2.8758422445976493,2.9048194352285321,2.9336662984128026,2.9623564671951073,2.9908614475986752,3.0191494308507032,3.0471844158715982,3.0749256011254857,3.1023270099943971,3.1293373208988129,3.1558998802330933,3.1819528818868861,3.2074297013611641,3.2322593752411848,3.2563672181559724,3.2796755694927384,3.3021046612160632,3.3235735963650797,3.3440014253618955,3.3633083043871039,3.3814167169900742,3.3982527370500719,3.4137473084148411,3.4278375142686031,3.4404678077170985,3.4515911744042995,3.461170198332141,3.4691780035039841,3.4755990465648239,3.4804297392107202,3.4836788836567649,3.4853679096851664,3.485530907534681,3.4842144568358009,3.4814772576854551,3.4773895754942004,3.4720325161853367,3.4654971524587523,3.4578835249925959,3.4492995445597074,3.4398598220375192,3.4296844532345432,3.4188977844313371,3.4076271826693443,3.3960018323019341,3.384151576302699,3.372205817534379,3.3602924917636159,3.3485371208404189,3.3370619512730428,3.3259851805229204,3.3154202707921883,3.305475347911468,3.2962526811860897,3.2878482387009029,3.2803513116105165,3.2738442003080337,3.2684019550363956,3.2640921634456532,3.260974777760353,3.259101974571152,3.2585180407763659,3.2592592798367406,3.2613539332536305,3.2648221130151143,3.2696757416647841,3.2759184976090268,3.2835457642885189,3.2925445828866629,3.3028936093054,3.3145630772172439,3.3275147700719714,3.3417020059917917,3.3570696405172242,3.3735540931432553,3.3910834044992129,3.4095773318482117,3.428947491285939,3.4490975555629149,3.469923516811761,3.4913140235635609,3.513150801253758,3.5353091648780861,3.557658631511643,3.5800636390077756,3.6023843752933118,3.6244777202746405,3.6461982994400017,3.6673996448541715,3.6879354554350101,3.7076609443025319,3.7264342567462307,3.7441179381455783,3.7605804272226209,3.7756975465247677,3.7893539592764256,3.8014445599078073,3.8118757648645527,3.8205666708574739,3.8274500496075206,3.8324731513715307,3.8355982940301914,3.8368032201047555,3.8360812105380688,3.8334409511051746,3.8289061546068268,3.8225149491691894,3.8143190497057304,3.8043827355413526,3.7927816621193102,3.7796015383729724,3.7649367036386678,3.7488886388475606,3.7315644462020856,3.7130753296935808,3.6935351058236705,3.6730587699115489,3.6517611386308175,3.6297555840936724,3.6071528690886083,3.5840600870635768,3.5605797042252476,3.5368086946030104,3.5128377519551321,3.4887505545895436,3.4646230499295285,3.4405227140189965,3.4165077257218712,3.3926259741891869,3.3689137889227396,3.3453942427462238,3.322074831688056,3.2989443000643774,3.275968418977115,3.2530848390006923,3.230198252290549,3.2071802327541121,3.1838852082787668,3.1602043902105237,3.1361758207727206,3.1121047606716985]
[null,null,null,2.6147655760851904,2.6427015683440374,2.6709357280837622,2.699382616335825,2.7279635798028181,2.75660926678934,2.7852606019945512,2.8138684003551049,2.8423919990316762,2.8707973302294505,2.8990547958502049,2.92713720038644,2.9550178957973259,2.9826692123688332,3.0100611967055642,3.0371606476200697,3.063930426134462,3.0903290110872064,3.1163102725476932,3.1418234384509702,3.166813233824584,3.1912201756729957,3.2149810095163076,3.2380292755373574,3.2602959932321056,3.2817104534654646,3.3022011060343885,3.3216965293982952,3.3401264673590134,3.3574229153539505,3.3735212368782044,3.3883612885972099,3.4018885311206049,3.4140551013838234,3.4248208222491741,3.4341541254047883,3.4420328649690504,3.4484450013963936,3.4533891382843791,3.4568748983991071,3.4589231295222618,3.459565935384731,3.4588465317959987,3.4568189328604859,3.4535474767047702,3.4491062041930576,3.4435781075413985,3.4370542684064986,3.4296329068584868,3.421418363606378,3.4125200379617553,3.4030513033471976,3.3931284208034498,3.3828694690217986,3.3723933070888137,3.3618185835159835,3.351262802374734,3.3408414546072294,3.3306672199338863,3.3208492423269291,3.3114924798236274,3.3026971275527472,3.2945581112776239,3.2871646474988125,3.2805998652210207,3.2749404838357208,3.2702565411878339,3.2666111657416224,3.2640603868178601,3.2626529771038264,3.2624303220217286,3.2634263110443982,3.2656672466661831,3.2691717674297678,3.2739507821896865,3.2800074136130348,3.2873369497962273,3.2959268037765952,3.30575648163979,3.3167975608543117,3.3290136813865701,3.3423605530534104,3.3567859834381721,3.3722299315140418,3.3886245928656109,3.4058945230515434,3.4239568061810672,3.442721276164022,3.4620907982796751,3.4819616186864693,3.5022237891925698,3.5227616740059347,3.5434545442277994,3.5641772645264069,3.5848010746932886,3.6051944666406115,3.6252241548702813,3.644756135543858,3.6636568261095448,3.6817942740626535,3.6990394199729195,3.7152673965514822,3.7303588424168623,3.7442012065412626,3.7566900172882782,3.7677300886621623,3.777236636008908,3.7851362740539258,3.7913678718620218,3.795883242072378,3.7986476455134124,3.799640096917571,3.7988534627419455,3.7962943478381845,3.7919827736376845,3.7859516563496953,3.778246099147978,3.7689225171898642,3.7580476183562297,3.7456972656626562,3.7319552492534598,3.716911996710806,3.7006632500982022,3.683308736765909,3.6649508585984591,3.6456934211881986,3.625640420554717,3.6048949006120807,3.5835578897771398,3.5617274199860418,3.5394976260120785,3.5169579173452092,3.4941922089232804,3.4712781905567311,3.4482866077307079,3.4252805183701156,3.4023144809757326,3.3794336196356056,3.3566725025271893,3.3340537679959965,3.3115864501247501,3.2892640276334788,3.2670624219189079,3.2449386580465642,3.2228319473745302,3.2006708432833051,3.1783925124656918,3.1559800706096581,3.1335135322933212,3.1112038778303344]
[null,null,null,2.6142132747560964,2.641786171140339,2.6696270109486449,2.697650121633913,2.7257758383731385,2.7539329847092375,2.7820600778866975,2.8101053287162898,2.8380256855603392,2.8657852488673967,2.8933533731574386,2.9207027128157819,2.9478073903602109,2.9746413935449851,3.0011772512641102,3.027384999716233,3.0532314272158061,3.0786795744156308,3.1036884626363559,3.1282130233642391,3.1522042045384495,3.17560923253059,3.1983720118437446,3.2204336470536958,3.2417330731832834,3.2622077815209565,3.2817946279318022,3.3004307101246724,3.3180542992762838,3.3346058100931799,3.3500287919681995,3.3642709225775462,3.37728498421815,3.3890298025507519,3.3994711273275726,3.4085824352122103,3.4163456360032427,3.4227516654495531,3.4278009503586446,3.4315037347750916,3.4338802595131739,3.4349607911527613,3.4347855005455443,3.4334041948017529,3.4308759104290374,3.4272683786461897,3.4226573767400197,3.4171259815951629,3.4107637431095981,3.4036657961159023,3.3959319296409518,3.3876656319184946,3.3789731285832971,3.3699624300153772,3.3607424019826482,3.3514218716523914,3.3421087788349979,3.3329093800671359,3.3239275109509236,3.315263910102928,3.3070156061812526,3.2992753678156674,3.2921312148586281,3.2856659882326511,3.2799569747652271,3.2750755827559743,3.2710870636134501,3.2680502746836027,3.266017478375872,3.2650341728253949,3.265138949610801,3.2663633744403029,3.2687318872205395,3.2722617184998484,3.2769628199303469,3.2828378070968114,3.2898819138074344,3.2980829577161757,3.3074213179409497,3.3178699261347191,3.329394273259723,3.3419524350757825,3.355495120087042,3.3699657443636823,3.3853005382579937,3.4014286905459556,3.4182725359133741,3.4357477919583204,3.4537638519539513,3.4722241394865847,3.4910265307243122,3.5100638494329388,3.5292244389413128,3.5483928140104553,3.5674503940059736,3.5862763168831719,3.6047483313057995,3.622743761769911,3.6401405389452037,3.6568182846703365,3.6726594382497666,3.6875504080084198,3.7013827296183734,3.7140542106483991,3.7254700392411877,3.7355438339288725,3.7441986114432808,3.751367650055343,3.7569952274955227,3.7610372148753157,3.7634615111758905,3.7642483066871506,3.7633901681330286,3.7608919429109022,3.7567704847139254,3.7510542075659004,3.7437824797856791,3.7350048733884336,3.7247802877818827,3.7131759691757651,3.7002664488040722,3.6861324238301307,3.6708596046388351,3.6545375511918081,3.6372585192689115,3.619116334872146,3.6002053119127453,3.580619224671139,3.560450342506968,3.5397885299988872,3.5187204111829686,3.4973285918722326,3.4756909292396898,3.4538798329640628,3.4319615774352172,3.4099956001372078,3.3880337581968973,3.3661195150408929,3.344287035996544,3.3225601933399815,3.3009515330704033,3.2794613659095688,3.2580773613708089,3.2367754114907115,3.2155231323356048,3.1942880510174945,3.1730526020491112,3.1518358849331065,3.1307158561471482,3.1098372222597419]
[null,null,null,2.6133015697378568,2.6405750550174076,2.6680852847876366,2.6957439547683606,2.723468762442721,2.7511859712483187,2.7788317793659161,2.8063525172950818,2.8337038721607115,2.8608494286757349,2.887758830539056,2.9144058254856162,2.9407663905319197,2.9668170639567251,2.9925335507677886,3.0178896242007198,3.0428563170615206,3.0674013806736724,3.0914889822066556,3.1150796099722271,3.1381301582619727,3.1605941666637847,3.1824221923797751,3.2035622972164361,3.2239606333157127,3.243562113270329,3.2623111510434484,3.2801524602362946,3.2970318958706599,3.3128973251483416,3.3276995118103656,3.3413929978941184,3.3539369660448273,3.3652960651997859,3.3754411825348285,3.3843501451174092,3.3920083357915729,3.3984092094232352,3.4035546977427629,3.4074554935663031,3.4101312080664883,3.4116103978937105,3.4119304621845146,3.4111374127001142,3.4092855233895563,3.4064368684372113,3.4026607602330188,3.3980331006055593,3.3926356600452863,3.3865553004639111,3.3798831573225669,3.3727137967131711,3.36514436227516,3.3572737257207308,3.3492016533290183,3.3410279991197598,3.3328519336402991,3.3247712154583127,3.3168815106391918,3.3092757637526944,3.3020436223524001,3.2952709154436235,3.289039185215799,3.2834252702925397,3.2785009379254433,3.2743325619497483,3.2709808428924845,3.2685005663893918,3.2669403959789776,3.2663426964187892,3.2667433838519315,3.2681717994669981,3.2706506036824265,3.274195688373041,3.2788161051931155,3.2845140086467808,3.2912846131914222,3.2991161643159757,3.3079899242168977,3.3178801733648271,3.3287542299284638,3.3405724896604596,3.3532884894570856,3.3668489983560477,3.3811941402117469,3.396257552683565,3.4119665874446099,3.4282425566703267,3.445001030846484,3.4621521927494001,3.4796012520423147,3.4972489243118474,3.5149919774828362,3.5327238474262828,3.5503353231717512,3.5677153004903772,3.5847516007347764,3.6013318497475808,3.6173444094344376,3.6326793523225689,3.6472294671523713,3.660891281412475,3.673566084802431,3.6851609360193009,3.6955896341251133,3.7047736351374709,3.7126428944977903,3.719136616734815,3.7242038950000591,3.7278042251756887,3.729907881897546,3.7304961470125448,3.7295613845823681,3.7271069604040434,3.7231470079903914,3.7177060468647625,3.7108184627063423,3.7025278621810713,3.692886318074855,3.6819535224948794,3.6697958673594115,3.6564854721005275,3.6420991784640222,3.6267175315291382,3.6104237646324151,3.5933028038533479,3.5754403051692947,3.5569217344253587,3.5378314969637046,3.5182521202160473,3.4982634888650779,3.4779421284151937,3.4573605293167162,3.4365865003690743,3.4156825373568012,3.3947051914710613,3.3737044233202909,3.3527229346022551,3.3317954849104154,3.310948232643554,3.2901981976112751,3.2695530442480418,3.2490115451340245,3.2285653075968668,3.2082025785707202,3.1879149927697625,3.1677075746956262,3.1476105899203191,3.1276889557764065,3.1080426569958348]
[null,"1,5",null,2.6120595259623229,2.6390997757370798,2.6663446147143617,2.6937007318335446,2.7210814797885661,2.7484096581046487,2.7756190285054032,2.8026545774540779,2.8294717273422094,2.8560348014704147,2.8823150689726589,2.9082886565364987,2.9339345434534749,2.9592327801949381,2.9841630041669731,3.0087032764306656,3.0328292305366205,3.0565135063733209,3.0797254341373588,3.1024309324239567,3.1245925870452567,3.1461698813876495,3.167119553614171,3.1873960600335209,3.2069521271531727,3.225739377227697,3.2437090135397426,3.2608125523630207,3.2770025887094931,3.2922335827487785,3.3064626533714687,3.3196503649091511,3.3317614926701111,3.3427657528122694,3.3526384822463484,3.3613612548047769,3.3689224208692536,3.3753175590162954,3.3805498300074959,3.3846302255514757,3.3875777066592292,3.3894192289767062,3.3901896551413557,3.3899315568466903,3.388694911813289,3.3865367031593365,3.3835204306479199,3.3797155449041867,3.3751968168861453,3.370043655650548,3.3643393877558339,3.3581705115351639,3.3516259389668761,3.3447962370420186,3.3377728794213368,3.3306475178724355,3.3235112815457768,3.3164541106433063,3.3095641295367813,3.3029270629387923,3.2966256973673609,3.290739388920187,3.2853436172856192,3.280509585003486,3.2763038602426917,3.2727880607813944,3.270018576466569,3.2680463271674824,3.2669165531224138,3.2666686345915963,3.2673359378532751,3.268945684812806,3.2715188438028093,3.2750700395461223,3.2796074806993403,3.2851329038888792,3.2916415336896279,3.2991220585477805,3.3075566232215721,3.316920838886162,3.3271838126019162,3.3383081983873666,3.3502502726286565,3.3629600370050667,3.3763813524845574,3.3904521082344417,3.4051044294815966,3.4202649284194848,3.4358550021869547,3.4517911817052749,3.4679855347471715,3.4843461260006592,3.5007775360784734,3.5171814403951913,3.5334572476009924,3.5495027958259442,3.5652151033798845,3.580491168804329,3.5952288133307917,3.6093275569242138,3.6226895172572284,3.6352203192469545,3.6468300012733863,3.6574339029865968,3.6669535187629521,3.6753173004775448,3.6824613933667223,3.6883302894032823,3.6928773838035767,3.6960654220260523,3.6978668268447592,3.698263897734293,3.6972488777810071,3.6948238865239915,3.6910007204044604,3.6858005257301301,3.6792533520992805,3.6713975969697827,3.6622793543794359,3.6519516826399041,3.6404738070890943,3.6279102746370739,3.6143300768922444,3.5998057581110032,3.5844125231143522,3.568227358722126,3.5513281802203522,3.5337930119912784,3.5156992087617169,3.4971227210547084,3.4781374054546319,3.4588143773282667,3.4392214008630759,3.4194223089651672,3.3994764441682861,3.3794381120455483,3.3593560420269597,3.3392728591596637,3.3192245875332418,3.2992402365521372,3.2793415707821083,3.2595432376964908,3.2398535236735455,3.220276105813312,3.2008132023796207,3.1814703693029998,3.1622626646528005,3.1432209111368508,3.1243956198439236,3.1058557234014614]
[null,null,null,2.6105143214883668,2.6373929129932634,2.6644425973353663,2.6915624083500092,2.7186594262052921,2.7456519350085244,2.7724710777405193,2.7990610474899285,2.8253780762995149,2.8513885986151735,2.877066979604237,2.902393140720207,2.9273503238075733,2.95192314136942,2.9760959824184141,2.99985178725818,3.0231711698111638,3.0460318483267343,3.0684083392470569,3.0902718700470047,3.1115904715505422,3.1323292162097545,3.1524505747664904,3.1719148688466845,3.190680801108627,3.2087060475256663,3.2259478983662433,3.2423639355949518,3.2579127349670927,3.2725545812111392,3.2862521845765258,3.2989713868073665,3.3106818444385766,3.3213576772921698,3.3309780702677045,3.3395278170269052,3.3469977950014851,3.3533853623114709,3.3586946686490506,3.3629368739326679,3.3661302705004204,3.3683003067279031,3.3694795121446788,3.3697073263000306,3.3690298357033583,3.3674994250749677,3.3651743508024623,3.3621182458667676,3.3583995665333219,3.3540909917791595,3.349268786747885,3.3440121414905519,3.3384024959069478,3.332522861177992,3.3264571471180062,3.3202895038501339,3.3141036850470726,3.3079824387607886,3.3020069306194131,3.2962562029600946,3.2908066723109215,3.2857316665820377,3.2811010023805949,3.2769806020562982,3.2734321494055081,3.2705127824344373,3.2682748211784514,3.2667655283187997,3.2660269001903117,3.2660954857501139,3.2670022311526026,3.2687723477393575,3.2714252014985306,3.2749742223569882,3.2794268320384248,3.2847843896273474,3.291042154425142,3.2981892661491514,3.3062087429999423,3.3150774986024913,3.3247663792840143,3.3352402235987171,3.3464579464048398,3.35837265015833,3.3709317663733742,3.3840772304119611,3.3977456928765406,3.4118687708937472,3.426373342448656,3.44118188667683,3.4562128726060024,3.4713811982609997,3.4865986813007197,3.5017746014347466,3.5168162937801384,3.5316297910789416,3.546120511324844,3.5601939858720044,3.5737566215720591,3.5867164889432814,3.5989841268913239,3.6104733531317237,3.6211020682789723,3.6307930406381246,3.6394746581220971,3.6470816334738885,3.65355564915005,3.6588459288320934,3.6629097235932164,3.6657127022381388,3.6672292372177964,3.6674425797427119,3.6663449201966642,3.6639373326044762,3.6602296046173564,3.6552399571558141,3.6489946603777099,3.6415275549190795,3.6328794893106959,3.6230976860194772,3.6122350496620612,3.6003494315524307,3.5875028648614347,3.5737607843133645,3.559191243517219,3.5438641418136427,3.5278504709170448,3.5112215897498373,3.4940485337339595,3.4764013625158015,3.458348547734559,3.4399564001110861,3.4212885330061198,3.402405357928771,3.3833636067015078,3.3642158757850353,3.3450101917360513,3.3257896045024182,3.306591829494252,3.2874489827144799,3.2683874878761827,3.2494282799057004,3.2305874778413539,3.2118777298132528,3.1933103993125798,3.1748986004221393,3.1566607443969446,3.1386237623308233,3.1208247376336118,3.1033097228549167]
[null,null,null,2.6086913287367821,2.6354884548825765,2.6624210219606397,2.6893771642269115,2.7162553800406357,2.7429682491557656,2.7694441931522675,2.7956273952579664,2.8214762825043209,2.8469610962324765,2.8720610578384225,2.8967615311864705,2.9210514484922356,2.9449211424542199,2.968360633052967,2.9913583561140769,3.0139002873556962,3.0359694022728974,3.0575454112978804,3.0786047153919895,3.0991205356396421,3.1190631791699133,3.1384004115801503,3.1570979124852983,3.1751197957412529,3.1924291794368429,3.2089887931323204,3.2247616112748716,3.2397115025117529,3.2538038849356923,3.2670063773460782,3.2792894365266108,3.2906269704736957,3.3009969175395355,3.3103817816685677,3.3187691143496494,3.3261519346053063,3.3325290793087987,3.3379054773341892,3.3422923424894719,3.3457072818010971,3.3481743174618401,3.3497238225572943,3.3503923724807265,3.3502225156718595,3.3492624688949917,3.3475657436742523,3.345190711656258,3.3422001175644169,3.3386605490129995,3.3346418727638394,3.3302166470341916,3.3254595192368157,3.3204466180615526,3.3152549481492741,3.3099617947850817,3.3046441451152333,3.2993781313893606,3.2942385007059301,3.2892981147290499,3.2846274818656269,3.2802943234934077,3.2763631750110136,3.2728950217684911,3.2699469693337875,3.2675719470633311,3.265818443571348,3.2647302724345053,3.2643463663103915,3.2647005975974963,3.2658216237932294,3.2677327558254063,3.2704518478162896,3.2739912069846326,3.2783575226848285,3.2835518139203685,3.2895693950340075,3.2963998596596724,3.3040270834178358,3.3124292462277225,3.3215788754900899,3.3314429117504432,3.3419827987799096,3.3531546002783017,3.3649091456299658,3.3771922072808849,3.3899447123670114,3.4031029911884758,3.4165990649727433,3.4303609751031416,3.44431315558667,3.4583768500004197,3.4724705734733305,3.4865106194446724,3.5004116099889728,3.5140870874251817,3.5274501437641703,3.540414083305464,3.5528931124287482,3.5648030493581615,3.5760620454768315,3.5865913086750396,3.5963158182894546,3.6051650204806407,3.6130734924577297,3.6199815638320985,3.6258358835899429,3.6305899217500297,3.634204395705936,3.636647612532883,3.6378957201413442,3.6379328620251528,3.6367512324265334,3.6343510309525442,3.6307403179336148,3.6259347740458026,3.6199573698302601,3.612837952658694,3.6046127603444091,3.5953238719317397,3.5850186071628372,3.5737488866983966,3.5615705653548986,3.5485427504109595,3.5347271164582565,3.5201872273607222,3.5049878746746543,3.4891944404236455,3.4728722904712725,3.4560862029376125,3.4388998342417807,3.421375223495474,3.4035723342474711,3.3855486311512237,3.3673586883041224,3.3490538262035585,3.3306817761959877,3.3122863758912473,3.2939073075489631,3.2755799051508774,3.2573350753743426,3.2391994014302981,3.221195520530685,3.2033428716881502,3.1856588775147401,3.1681605248615057,3.1508661330053229,3.1337968816765596,3.1169775257887267,3.1004358053378525]
[null,null,null,2.6066141989183933,2.6334226279286241,2.6603273137265973,2.6872012352879295,2.713931428166191,2.7404234821314191,2.7666032870620967,2.7924163297562785,2.8178252292291148,2.842806303691944,2.8673458593112144,2.8914366890113143,2.9150750598260942,2.9382582996255024,2.9609829828559242,2.9832436538577412,3.0050320013879599,3.0263363952287392,3.0471417045612412,3.0674293311070784,3.0871774038561028,3.106361094521489,3.1249530229361966,3.1429237293375394,3.160242196138185,3.1768764056971719,3.1927939231729994,3.2079624950974761,3.2223506551447514,3.2359283289398348,3.2486674298230156,3.2605424374456646,3.2715309510111155,3.2816142089983629,3.2907775673743203,3.2990109286628666,3.3063091148064387,3.3126721775499135,3.3181056410752632,3.3226206727969014,3.3262341795616379,3.3289688279285059,3.3308529886922287,3.3319206072981302,3.3322110032222412,3.3317686027169628,3.3306426104904716,3.3288866268728299,3.3265582177883601,3.3237184453959259,3.3204313675521036,3.3167635143257286,3.3127833496421459,3.3085607257876433,3.304166337994431,3.2996711856791734,3.2951460461587914,3.2906609658561052,3.2862847731617109,3.2820846162734512,3.2781255285139395,3.2744700228553683,3.2711777166770588,3.268304987156128,3.265904657154536,3.2640257110279691,3.262713039433109,3.2620072119609773,3.2619442762604223,3.2625555822456107,3.263867629978094,3.2659019398943911,3.2686749441812282,3.2721978982951185,3.2764768118556589,3.2815123984136534,3.2873000438934952,3.2938297938223826,3.3010863597821896,3.3090491458408025,3.3176922960265216,3.3269847641959274,3.3368904079020325,3.3473681080760258,3.3583719164968926,3.3698512331138346,3.3817510153023846,3.3940120210667004,3.4065710880357329,3.4193614498277753,3.4323130909825323,3.4453531411612772,3.4584063087039141,3.4713953529109602,3.4842415935864466,3.4968654554614744,3.5091870441234931,3.5211267490391407,3.5326058682050672,3.5435472479219783,3.5538759302178704,3.5635197995717789,3.5724102198654606,3.580482651956558,3.5876772419561718,3.5939393702463036,3.5992201515070263,3.6034768765498626,3.606673387579221,3.6087803796086888,3.6097756221196136,3.6096440966279744,3.6083780475685359,3.6059769457567228,3.6024473655805451,3.5978027789441143,3.592063270756185,3.5852551823821699,3.5774106908793186,3.5685673329953289,3.5587674837702679,3.5480578001378689,3.5364886401559517,3.5241134684248863,3.5109882578793901,3.4971708974995721,3.4827206146121767,3.4676974193731525,3.4521615777889991,3.4361731182677744,3.4197913752514495,3.4030745719827138,3.3860794429647143,3.3688608952189298,3.3514717061268158,3.3339622545842218,3.3163802816021217,3.2987706767006699,3.2811752878912301,3.2636327562795628,3.2461783817956444,3.2288440342048688,3.211658132089056,3.1946457184505306,3.1778286589316309,3.1612259700588794,3.144854246760147,3.1287281084878629,3.1128605462821639,3.0972630627834832]
[null,null,null,2.6043049481777842,2.6312353116348532,2.6582169939411102,2.6851019554510032,2.711762093168133,2.7380947611644189,2.7640241745725262,2.7894994269583577,2.8144903601360483,2.8389825318400455,2.8629722297433915,2.8864620993722241,2.9094576285278464,2.9319645124729306,2.9539868061155943,2.9755257233033916,2.9965789397952989,3.0171402735573025,3.0371996401194821,3.0567432045958611,3.075753672446794,3.0942106772659912,3.1120912360060089,3.1293702507443157,3.1460210420753896,3.1620159031470649,3.1773266658122878,3.1919252717618889,3.2057843422066838,3.2188777399164081,3.2311811174198084,3.2426724450512694,3.2533325124128822,3.2631453967800468,3.2720988920711847,3.2801848922605217,3.2873997235554242,3.2937444202894284,3.2992249402897329,3.3038523164404268,3.3076427422527814,3.3106175904304536,3.3128033646423916,3.314231585942693,3.3149386164651133,3.3149654241210982,3.3143572930158456,3.3131634851316818,3.3114368594912236,3.3092334554869609,3.3066120473470875,3.3036336767995209,3.3003611709077774,3.2968586517991838,3.2931910446121293,3.28942358947738,3.2856213627481594,3.2818488120290539,3.2781693088613935,3.2746447222136936,3.2713350152386766,3.2682978670986671,3.2655883210591838,3.2632584594994256,3.2613571060233681,3.2599295544515172,3.2590173241610358,3.2586579410008341,3.2588847428477692,3.2597267087822814,3.2612083108424059,3.2633493873529318,3.2661650369285979,3.2696655323907322,3.2738562540206004,3.2787376417895331,3.2843051664458329,3.2905493195886919,3.2974556231224739,3.3050046587440391,3.3131721183560643,3.3219288765320272,3.3312410863520796,3.3410703000817676,3.3513736162829701,3.3621038549881774,3.3732097625583464,3.384636247750521,3.396324650350536,3.4082130434571951,3.4202365701543016,3.4323278148505239,3.4444172090214096,3.45643347045133,3.4683040743537816,3.4799557539595156,3.4913150273219316,3.5023087462164568,3.51286466214124,3.5229120035718182,3.5323820578392855,3.5412087503064384,3.549329212951065,3.556684334064542,3.5632192805651215,3.5688839844331568,3.573633585017447,3.5774288194445347,3.5802363540943389,3.5820290510529134,3.5827861646235561,3.5824934643086266,3.5811432821513876,3.5787344838828261,3.575272364911612,3.5707684737730148,3.5652403671476378,3.5587113019456496,3.5512098711588891,3.5427695911974837,3.5334284492041235,3.5232284193767356,3.5122149576162514,3.5004364838559496,3.4879438612372411,3.4747898809025486,3.4610287605868422,3.4467156644632695,3.4319062508318865,3.4166562532771962,3.4010210998574593,3.3850555737173664,3.3688135171959601,3.3523475799432703,3.3357090096240967,3.3189474812576947,3.3021109578214833,3.285245570096393,3.2683954975415617,3.2516028242327906,3.2349073352750821,3.218346211778524,3.2019535810957933,3.1857598912732357,3.1697911144852498,3.1540678510576043,3.1386044989040016,3.1234087440716536,3.1084816609666319,3.0938186253747375]
[null,"1",null,2.6017840442270455,2.6289723368317226,2.6561576470638926,2.6831625281829048,2.7098390332583477,2.7360754425466638,2.7617965220706395,2.7869590145953822,2.8115446577503604,2.8355527015012996,2.858993181106527,2.8818815128472437,2.9042345040389677,2.9260676167217952,2.9473932327521624,2.9682196668032219,2.9885507121755808,3.0083855529552324,3.027718921004535,3.0465414126189074,3.0648399069329599,3.082598047586103,3.0997967624922893,3.1164148053851619,3.1324293084506536,3.147816338781368,3.1625514533178176,3.1766102478960789,3.1899688963509192,3.2026046755954525,3.2144964723842833,3.2256252671980548,3.2359745904457924,3.2455309460406312,3.2542841973901062,3.2622279109929906,3.2693596531461679,3.2756812357516338,3.2811989078510493,3.2859234902882264,3.2898704517913728,3.2930599257231705,3.2955166677613335,3.2972699557830225,3.2983534342123022,3.2988049060148938,3.2986660763495621,3.2979822525968103,3.2968020060576322,3.295176801031559,3.2931605972470521,3.2908094317244121,3.2881809861041091,3.2853341452929641,3.2823285529819231,3.2792241691790167,3.276080834424377,3.272957844814286,3.2699135413827065,3.2670049168100519,3.264287241841302,3.2618137132415796,3.2596351245962154,3.2577995607875465,3.2563521165676974,3.2553346392896998,3.2547854955721363,3.2547393614478182,3.2552270353910586,3.2562752735189662,3.2579066462293866,3.2601394155482666,3.2629874325311192,3.2664600541591113,3.2705620793220334,3.27529370363699,3.2806504930516525,3.2866233763728729,3.2931986570763314,3.3003580449504426,3.3080787083268461,3.316333347819679,3.3250902926476584,3.3343136207207209,3.3439633037473442,3.3539953786318364,3.3643621463939013,3.3750123997346151,3.3858916801984122,3.396942565625821,3.4081049882651513,3.41931658349624,3.4305130686397689,3.441628650760677,3.4525964617557605,3.4633490183403666,3.4738187038336861,3.4839382679212321,3.4936413398381063,3.5028629497322612,3.5115400523233831,3.5196120464256779,3.527021283462247,3.5337135578026988,3.5396385716199887,3.5447503670115594,3.5490077183676334,3.5523744784166382,3.5548198720134252,3.556318732565515,3.5568516769894103,3.5564052162251443,3.5549717995892394,3.5525497925602139,3.5491433889442163,3.5447624596973952,3.5394223419638848,3.533143573064919,3.5259515752325541,3.5178762977649995,3.5089518240030628,3.4992159510414211,3.4887097504231264,3.4774771182057549,3.4655643227529396,3.4530195584240886,3.439892513015181,3.4262339563879181,3.4120953572149659,3.3975285341922614,3.3825853473981482,3.3673174346711363,3.3517759968158174,3.336011633924258,3.3200742327632469,3.304012901471495,3.2878759419142654,3.2717108408752011,3.255564247527289,3.2394818853118892,3.223508321627051,3.2076864919680048,3.1920568560418445,3.1766560713499672,3.1615151349355273,3.1466570986765561,3.1320947158285577,3.117828667290425,3.1038471882212804,3.0901277592728746]
[null,null,null,2.5990704924653159,2.6266892485215436,2.6542353124834364,2.6814894445173962,2.7082779741697749,2.7344805768281191,2.760027496924252,2.7848901390398595,2.8090693096135766,2.8325841469988546,2.8554632136903848,2.877738067691169,2.8994390197065485,2.9205925756090352,2.9412200732583784,2.9613371165802533,2.9809535169491568,3.0000735434084476,3.0186963519911245,3.0368165124158253,3.0544245823939633,3.0715077003017512,3.0880501797082474,3.1040340968644244,3.1194398665733019,3.1342468040941611,3.1484336716875561,3.1619792085927116,3.1748626429905045,3.1870641840533693,3.1985654916670541,3.2093501209175628,3.2194039380336648,3.2287155041971829,3.2372764235043832,3.2450816513960064,3.2521297600676036,3.2584231577203155,3.2639682590090473,3.268775604655545,3.2728599289132632,3.2762401743558627,3.2789394542867427,3.2809849639111661,3.2824078422255099,3.2832429873578945,3.2835288287837301,3.2833070604519463,3.282622339341728,3.2815219543477809,3.2800554706237648,3.2782743546325577,3.2762315851369266,3.2739812552367056,3.2715781703297893,3.2690774465535668,3.2665341138844468,3.2640027276238612,3.2615369915369996,3.2591893954167546,3.2570108693596325,3.2550504565676732,3.253355006044174,3.2519688861404887,3.2509337195472909,3.2502881400104258,3.2500675707860154,3.2503040246473489,3.2510259250990856,3.2522579483592864,3.2540208856164412,3.2563315250670968,3.2592025532759266,3.2626424754770227,3.2666555545348359,3.2712417684157202,3.2763967861645114,3.2821119625405544,3.2883743516250519,3.2951667398744036,3.3024676992402107,3.3102516611083246,3.3184890119184018,3.3271462113985564,3.3361859343894906,3.3455672372244436,3.35524574957374,3.3651738925465082,3.3753011236731965,3.3855742091439112,3.395937523386479,3.4063333756879359,3.4167023631413969,3.4269837487047567,3.4371158626260154,3.4470365249098478,3.4566834858994611,3.4659948814387889,3.4749096984798058,3.4833682464309135,3.4913126290305883,3.4986872110907967,3.5054390741183994,3.5115184546046549,3.5168791586946355,3.521478947021464,3.5252798837244512,3.5282486440753331,3.5303567756982233,3.5315809090869408,3.5319029139843252,3.5313099991551127,3.5297947541516947,3.5273551327904755,3.5239943792034438,3.5197208984680657,3.514548074908717,3.5084940421888433,3.5015814102243183,3.4938369547499093,3.4852912760245971,3.475978433676076,3.4659355650475305,3.4552024946426485,3.443821342367599,3.4318361382721463,3.4192924514199632,3.4062370403876372,3.3927175327336414,3.3787821405952201,3.3644794193388492,3.3498580758521115,3.3349668324630244,3.3198543513266117,3.3045692219230745,3.2891600102357614,3.2736753609218141,3.2581641314074972,3.2426755167669086,3.2272590934705505,3.2119646664271073,3.1968417485384322,3.1819384460184637,3.1672994952000835,3.1529632546909028,3.1389576833067423,3.1252957978246769,3.1119717580312596,3.0989592766300831,3.0862139645256121]
[null,null,null,2.5961819207714854,2.6244576677607512,2.6525650187792138,2.6802241348840568,2.7072288655915742,2.7334541734884539,2.7588459428015852,2.7834021979565904,2.8071536042715906,2.8301475256767361,2.8524368015545036,2.8740727124936569,2.8951010522371092,2.9155602647882262,2.9354808501608289,2.9548854973204897,2.9737896029095765,2.9922019722711042,3.010125587559898,3.0275583814565294,3.0444939863981944,3.0609224468639553,3.0768308916164102,3.0922041673534153,3.107025437036711,3.1212767464575819,3.1349395621090395,3.1479952825757636,3.1604257246599303,3.1722135844835151,3.1833428729278097,3.1937993240082534,3.2035707742018502,3.212647510315449,3.2210225832397867,3.2286920848535345,3.23565538542924,3.241915329127167,3.2474783855294191,3.2523547556517229,3.2565584314417748,3.2601072084116112,3.2630226517345449,3.2653300168269226,3.2670581261220804,3.2682392043871431,3.2689086755231784,3.2691049243068306,3.2688690269519185,3.2682444546964149,3.2672767548418875,3.2660132137831539,3.2645025065778128,3.2627943375193098,3.2609390760037087,3.2589873917296046,3.2569898929668994,3.2549967712664767,3.2530574556015637,3.2512202785221263,3.2495321564962438,3.248038286211667,3.2467818582290562,3.2458037890246345,3.2451424721410973,3.2448335488875415,3.2449096987923411,3.2454004498238618,3.2463320082496381,3.2477271079009853,3.2496048785567808,3.2519807331370743,3.2548662734163969,3.2582692140137652,3.2621933244904113,3.2666383894826225,3.2716001869037683,3.2770704843738514,3.2830370541552583,3.2894837069920726,3.2963903453658219,3.3037330367714191,3.311484107693289,3.3196122590083093,3.3280827035535339,3.3368573265713479,3.3458948696733302,3.355151138849422,3.3645792368734675,3.3741298202388492,3.3837513804779888,3.3933905493900198,3.4029924273190915,3.4125009332032192,3.4218591746478211,3.4310098357851331,3.4398955801780602,3.4484594655096856,3.456645366311264,3.4643984005112003,3.4716653551766541,3.4783951064734566,3.4845390286091487,3.4900513863712348,3.4948897058336996,3.4990151178937339,3.5023926695298684,3.5049915980326745,3.5067855639605199,3.5077528391954473,3.5078764472154234,3.5071442535311945,3.5055490051463352,3.5030883188555464,3.4997646191746554,3.495585027672476,3.4905612064116127,3.4847091590953738,3.4780489943225774,3.4706046560660724,3.462403627102006,3.4534766116150166,3.4438572036054751,3.4335815480184664,3.4226880017431682,3.4112168017959874,3.3992097481393699,3.3867099087355967,3.3737613546090728,3.3604089329153481,3.3466980862923634,3.332674727033023,3.3183851747528053,3.3038761659383482,3.2891949425119975,3.2743894233864097,3.2595084562611163,3.2446021339674047,3.2297221363636623,3.2149220192285526,3.2002573085137129,3.1857851655122289,3.1715632683240216,3.1576474351654582,3.1440874778097765,3.1309209861623373,3.1181654409763979,3.1058103538414485,3.0938126551690317,3.082099072122972]
[null,null,null,2.5931346623277847,2.6223765690466365,2.6513087684616465,2.6795615968064652,2.7068906414084921,2.7331783737972586,2.7584064469560161,2.782619378939458,2.8058932850350828,2.8283142684424405,2.8499656854875042,2.8709217364424404,2.8912449522717765,2.9109858332649452,2.9301835534256355,2.9488671140966147,2.967056622895214,2.9847645420336875,3.0019968409141171,3.0187540342022174,3.0350321085001468,3.0508233497690611,3.0661170861950922,3.0809003606390917,3.0951585449381156,3.1088759060297804,3.122036131573779,3.1346228206455606,3.1466199432402249,3.1580122707777463,3.1687857785245654,3.1789280198344869,3.1884284713292885,3.1972788475920169,3.205473383580042,3.2130090828002977,3.2198859292744118,3.2261070614667773,3.2316789066075415,3.2366112742211186,3.2409174081248722,3.2446139966814513,3.2477211416507572,3.2502622865579411,3.2522641060684663,3.2537563583994569,3.2547717033008183,3.2553454885747755,3.2555155084737493,3.2553217375982939,3.2548060441207127,3.2540118862705896,3.2529839960433975,3.2517680540425289,3.2504103592301448,3.2489574971750557,3.2474560101347123,3.2459520720198753,3.2444911709768149,3.2431178019770499,3.2418751714709941,3.2408049158160139,3.2399468348684337,3.2393386418207371,3.2390157300877007,3.239010957802904,3.2393544502685785,3.2400734205362909,3.2411920081521686,3.2427311360066682,3.2447083851619851,3.2471378875017791,3.2500302360485733,3.2533924128185703,3.2572277341358671,3.2615358133933086,3.2663125413283893,3.2715500839694442,3.2772368984998224,3.2833577673752785,3.289893851106271,3.2968227601884479,3.3041186467067263,3.3117523161606783,3.3196913600580018,3.3279003097735398,3.3363408121014544,3.3449718268037287,3.3537498463000901,3.36262913743154,3.3715620049870978,3.3804990763794223,3.3893896065256541,3.3981818016190601,3.4068231600754046,3.4152608285227615,3.4234419702703036,3.4313141432721324,3.4388256841851188,3.4459260947447348,3.4525664263516518,3.4586996584815353,3.4642810663453218,3.4692685731085504,3.4736230819786869,3.4773087835646805,3.4802934341295355,3.4825486006842397,3.4840498693093735,3.4847770136417324,3.4847141210938304,3.4838496750987673,3.4821765924502728,3.4796922156251213,3.476398260820261,3.4723007232689582,3.4674097422192602,3.4617394287262897,3.4553076601230401,3.4481358456811648,3.4402486685319928,3.431673809412203,3.4224416582105022,3.4125850196464427,3.4021388197325706,3.3911398199674494,3.3796263465384158,3.3676380421939456,3.355215648937147,3.3424008303320392,3.3292360430313153,3.3157644681350718,3.3020300141223373,3.288077404172995,3.2739523613188481,3.2597019041803463,3.2453747624606279,3.2310219119074333,3.216697207840312,3.2024580555935387,3.1883659809957834,3.1744868338904126,3.160890150614577,3.1476469133150289,3.1348246441332748,3.1224787122678919,3.1106394654786556,3.0992970539559082,3.0883896018782906,3.0778033393759898]
[null,null,null,2.5899438359731306,2.6205935190641725,2.6507076171271109,2.6797806999730227,2.707532162896328,2.7338838231098492,2.7588916630221121,2.7826782924409912,2.8053861706041374,2.827151840208515,2.8480945967205145,2.8683132582458057,2.8878868248096268,2.9068766808797335,2.9253291837336377,2.9432781328905122,2.9607469410214691,2.9777504751495911,2.9942965970353583,3.0103874504288939,3.026020543775175,3.0411896711103594,3.055885706251118,3.0700972980265391,3.0838114879190215,3.0970142662254005,3.1096910786105951,3.1218272915634628,3.133408622604847,3.1444215390168182,3.1548536272411951,3.164693933855105,3.1739332781057641,3.1825645353204521,3.1905828900716671,3.1979860577317112,3.2047744729711809,3.2109514438230207,3.2165232701184578,3.2214993253884501,3.2258921016872222,3.2297172172207382,3.232993387123102,3.2357423581993174,3.2379888089364357,3.2397602165373627,3.2410866931619324,3.242000793931382,3.2425372995745221,3.2427329768467388,3.2426263200292311,3.2422572769341826,3.2416669628685639,3.2408973659873226,3.2399910473648816,3.2389908389705653,3.23793954253442,3.2368796320548512,3.2358529624429622,3.2349004865158548,3.2340619822655725,3.2333757920439297,3.232878575027101,3.2326050740584122,3.2325878977285498,3.2328573183339273,3.2334410861652572,3.2343642604227369,3.23564905692227,3.2373147126659916,3.2393773672782942,3.2418499612769693,3.244742151129131,3.2480602410574164,3.2518071315879098,3.2559822848751736,3.2605817068986056,3.2655979466804155,3.2710201127456031,3.2768339070999986,3.2830216770603755,3.2895624853087639,3.2964321985700593,3.3036035953154084,3.3110464928697496,3.3187278942559857,3.3266121550205554,3.33466117017106,3.3428345812026947,3.3510900029971964,3.3593832701541686,3.3676687020506364,3.3758993856287844,3.3840274745936796,3.3920045033581374,3.3997817137135513,3.4073103918479575,3.4145422129728189,3.4214295904853174,3.4279260262805025,3.4339864585613071,3.439567603283237,3.4446282852182861,3.4491297545562105,3.4530359849721748,3.4563139491961152,3.4589338683180557,3.4608694313633492,3.4620979820540043,3.4626006701567604,3.4623625653648418,3.4613727322828396,3.4596242657564318,3.4571142864890163,3.4538438976142771,3.449818103612543,3.4450456936689449,3.4395390922391442,3.433314180226418,3.4263900907449312,3.4187889839738688,3.4105358060690634,3.4016580375269569,3.3921854367804514,3.3821497851943008,3.3715846400265121,3.3605251023934528,3.3490076078601732,3.3370697480352334,3.3247501325715945,3.3120883023225502,3.2991247061883797,3.2859007564785117,3.2724589804350188,3.2588432888330914,3.2450993858910948,3.2312753470828426,3.2174223905000332,3.2035958581721928,3.1898563959274071,3.1762712538355942,3.1629154866196103,3.1498725517452471,3.1372332960255989,3.1250915336293446,3.1135335282240675,3.1026185976233336,3.0923509247106296,3.0826509226695435,3.0733455429610075]
[null,"0,5",null,2.5866234237082466,2.6193478176363811,2.6511418277857928,2.6812938799519799,2.7095199903919678,2.7358582021607418,2.7605092890292866,2.7837200817497347,2.805723431065033,2.8267160379843261,2.8468551471460302,2.8662626694300712,2.8850312646741116,2.9032301877671927,2.9209102129899378,2.9381075636261897,2.9548469815071456,2.9711441141946722,2.9870073818268992,3.0024394544692115,3.0174384400807384,3.0319988576932388,3.0461124506494599,3.0597688799395684,3.0729563267091322,3.0856620249381166,3.0978727393100343,3.1095751988653575,3.1207564937138415,3.1314044396103071,3.1415079133306136,3.1510571604076034,3.1600440757635653,3.1684624570631996,3.1763082301187211,3.183579645401224,3.1902774445861581,3.1964049960770495,3.2019683985849809,3.2069765520581228,3.2114411955541442,3.2153769119963869,3.2188011001359911,3.2217339144451245,3.2241981740719297,3.2262192423709877,3.227824878894765,3.2290450660478172,3.2299118128902791,3.2304589387961897,3.2307218398390631,3.2307372408828741,3.2305429363982086,3.2301775230152003,3.2296801267529389,3.2290901277539348,3.2284468851984371,3.2277894648806438,3.2271563717189196,3.2265852892420384,3.2261128278486382,3.225774283403112,3.225603407487327,3.2256321904060741,3.225890657833034,3.2264066817925396,3.2272058065045286,3.2283110894785381,3.2297429581217472,3.2315190820342394,3.2336542610984367,3.2361603294244929,3.2390460751900747,3.2423171764101397,3.24597615268722,3.2500223330137743,3.2544518397367455,3.259257588832881,3.2644293066853578,3.2699535635920967,3.2758138242661374,3.2819905156149645,3.2884611120858978,3.2952002388611987,3.3021797931467773,3.3093690837468017,3.316734989025619,3.3242421332515022,3.3318530811650504,3.3395285504459338,3.3472276415457003,3.354908084118037,3.3625264990254067,3.3700386746181863,3.3773998556874432,3.3845650431929215,3.39148930255881,3.3981280780359242,3.404437510348842,3.4103747545934056,3.4158982951382626,3.4209682541148396,3.425546689974297,3.4295978825434332,3.4330886010428543,3.435988351635288,3.438269601258682,3.4399079747666548,3.4408824227391648,3.4411753577447683,3.4407727573187259,3.4396642324497719,3.4378430609544495,3.4353061857203073,3.432054178421069,3.4280911699367635,3.4234247493161973,3.4180658337167671,3.4120285123030811,3.405329867616004,3.3979897783898281,3.3900307082464991,3.3814774851057479,3.3723570765534276,3.3626983668279564,3.352531941551419,3.3418898868885236,3.3308056105375243,3.3193136929138944,3.3074497781945098,3.2952505166910129,3.2827535724980663,3.2699977137709624,3.25702300762741,3.2438711479165505,3.2305859523295481,3.2172140757518122,3.2038059989335039,3.1904173631935606,3.1771107258824003,3.1639577892074584,3.1510420621120403,3.1384616509353265,3.1263312338029579,3.1147808994945336,3.1039470419868138,3.0939473618403639,3.084832169370415,3.0765179046255327,3.0687430691213393]
[null,null,null,2.5831863450799375,2.6190669010136247,2.6532497490714064,2.6847268469753232,2.7133484846872165,2.7394442434511319,2.763476819931455,2.7858730976787882,2.8069748208017842,2.8270398645737629,2.8462579823819993,2.8647673177968471,2.8826678532406476,2.9000314593243814,2.9169091685111397,2.9333363998334931,2.9493367312220613,2.964924657891558,2.9801076448990358,2.9948876865354777,3.0092625186054391,3.0232265840675012,3.0367718214827875,3.0498883245451367,3.062564906409861,3.0747895924201742,3.0865500577230165,3.0978340212010522,3.1086296035079641,3.1189256543421635,3.1287120521668754,3.1379799781680191,3.1467221652290362,3.154933121983575,3.1626093315249904,3.1697494240677742,3.1763543227190354,3.182427361508374,3.1879743749286007,3.1930037584077553,3.1975264993884451,3.2015561789748546,3.2051089444349117,3.2082034531856465,3.210860789233962,3.2131043533789097,3.2149597287924934,3.2164545238823479,3.2176181945809077,3.2184818484020212,3.219078032764159,3.2194405101691785,3.2196040228863723,3.2196040497817506,3.2194765578969253,3.2192577512881115,3.2189838195211706,3.2186906880614714,3.2184137726261355,3.218187739376063,3.2180462726245906,3.218021851533436,3.2181455370701002,3.2184467703028332,3.2189531829292406,3.2196904207647634,3.2206819807722553,3.2219490620784796,3.2235104313197809,3.2253823025661603,3.2275782320098045,3.2301090275520181,3.2329826733977001,3.2362042697461249,3.2397759876734966,3.2436970393066105,3.247963663410431,3.2525691265307302,3.2575037398590467,3.2627548920075782,3.2683070978966526,3.2741420639638221,3.2802387698951776,3.2865735670612679,3.29312029379237,3.299850407572805,3.3067331341440394,3.313735633398565,3.3208231818136227,3.3279593710099533,3.335106321843611,3.3422249132243707,3.3492750246357872,3.3562157910846935,3.3630058689589504,3.369603711009475,3.3759678484225475,3.3820571776952448,3.3878312497968324,3.3932505588999362,3.3982768277852955,3.4028732869035849,3.4070049439921064,3.4106388411270387,3.4137442961264952,3.4162931253277264,3.4182598449309438,3.4196218483441072,3.4203595572647458,3.4204565445996451,3.4198996277416569,3.4186789311861077,3.4167879179674259,3.4142233899212755,3.4109854573143963,3.4070774789214653,3.4025059741632759,3.3972805094274605,3.3914135611881733,3.384920358993881,3.3778187118300167,3.3701288217635437,3.3618730891696913,3.3530759142341111,3.3437634998362427,3.3339636614063721,3.3237056499329327,3.3130199950719685,3.3019383763549541,3.2904935319501902,3.2787192164901313,3.2666502224132188,3.2543224834788447,3.2417732852017451,3.229041615777092,3.2161687039365319,3.2031988089282066,3.1901803549863956,3.1771675412345672,3.1642226101098885,3.1514190196287899,3.1388458133265118,3.1266134303011626,3.1148607863553224,3.1037619879131313,3.093526910873905,3.0843805480062514,3.0764924032785501,3.06983214091359,3.0640120006450076]
[null,null,null,2.5796445282542066,2.6206099749601464,2.6581730285225973,2.6910325978214615,2.7196499362112689,2.7450072971606545,2.7679832968243403,2.7892220526724003,2.8091671254467627,2.8281194957052236,2.8462840028108616,2.8638011603818683,2.8807679779516349,2.8972514884150797,2.9132976178044174,2.9289371022627364,2.9441895216429117,2.9590661172032497,2.9735718125899808,2.9877067043965297,3.001467193814463,3.0148468714616143,3.0278372296726133,3.040428252119213,3.052608914579011,3.0643676199467365,3.0756925832868802,3.0865721776844595,3.0969952481093088,3.1069513979935977,3.1164312514206216,3.1254266925304108,3.1339310828270328,3.1419394564322687,3.1494486929110366,3.1564576670339619,3.1629673747368514,3.1689810345205416,3.1745041636291518,3.1795446284938151,3.1841126691441417,3.1882208975403756,3.1918842700618342,3.1951200346764637,3.1979476536202895,3.200388702701261,3.2024667486147251,3.2042072059089861,3.2056371754485866,3.2067852664081187,3.20768140396207,3.2083566249343534,3.2088428637236603,3.2091727308316678,3.2093792862935544,3.2094958102466791,3.2095555727817811,3.2095916050933084,3.2096364738127505,3.2097220602453405,3.2098793460656765,3.2101382068577067,3.2105272147127693,3.21107345092976,3.2118023297108067,3.2127374335893393,3.2139003612045514,3.2153105879118442,3.2169853396227523,3.2189394801817599,3.2211854125250028,3.223732993810259,3.2265894646779003,3.2297593927765007,3.2332446306788967,3.2370442883107415,3.2411547200193667,3.2455695264192883,3.2502795711584582,3.2552730127570584,3.2605353516709812,3.2660494927277597,3.2717958230619644,3.2777523056483489,3.2838945884846424,3.2901961294085567,3.2966283364538498,3.3031607235423763,3.3097610811866929,3.3163956617323294,3.3230293785022269,3.3296260180263033,3.33614846433737,3.3425589341089932,3.3488192211920449,3.3548909488850853,3.3607358280638238,3.3663159190802361,3.3715938951599043,3.3765333048539361,3.3810988309688383,3.3852565432988087,3.3889741424268465,3.3922211918571605,3.3949693357851203,3.3971924999116112,3.3988670728685264,3.3999720660341808,3.4004892497876398,3.4004032645692206,3.3997017054758061,3.3983751795256154,3.3964173351528046,3.3938248639466764,3.390597475112159,3.3867378435931386,3.3822515332572749,3.3771468969869858,3.3714349559446788,3.3651292606803764,3.3582457371340553,3.3508025209392684,3.3428197837901195,3.3343195559868803,3.3253255496589844,3.3158629876107995,3.3059584432874516,3.2956396980881522,3.2849356232617168,3.2738760950370391,3.2624919536920487,3.250815020264227,3.2388781890486626,3.2267156207010004,3.2143630709149846,3.2018584053134163,3.1892423757411592,3.1765597721607293,3.1638611270927441,3.1512052512475321,3.1386630434764271,3.1263232780829213,3.114301453093546,3.1027532142224885,3.0918938217354111,3.0820223006675036,3.0735353443396463,3.0668722371965345,3.0622540420482238,3.0591672003435093]
[null,null,null,2.5760089776687352,2.6259913060869025,2.6680560679455851,2.7015844474711201,2.72911557663069,2.7528373428535957,2.7741171385599586,2.7937629761499494,2.8122580433493027,2.8298997205347831,2.8468764751282407,2.8633106251539715,2.8792827731074482,2.89484623629194,2.910035865357159,2.9248736192052291,2.9393722096911716,2.9535375658794436,2.9673705578328082,2.9808682448567509,2.9940248115616868,3.0068322946852533,3.0192811668114672,3.0313608201987421,3.0430599793130426,3.0543670611643421,3.065270496226006,3.0757590184425823,3.0858219298817886,3.0954493435245496,3.1046324062323976,3.1133635029024305,3.121636442098449,3.1294466229535232,3.1367911828261725,3.1436691250085147,3.1500814257230587,3.1560311196572997,3.1615233633848021,3.166565476166582,3.1711669578227344,3.1753394835915429,3.1790968761409744,3.1824550551580586,3.1854319652047565,3.1880474827813003,3.1903233037843819,3.1922828127574547,3.1939509355352556,3.195353977032525,3.1965194460651816,3.1974758691761593,3.1982525954968111,3.1988795946909789,3.1993872500201661,3.1998061485159468,3.2001668701793875,3.2004997780297373,3.200834810707633,3.2012012792142315,3.2016276692225034,3.2021414502604983,3.2027688929123741,3.203534895049259,3.204462817957662,3.2055743331096238,3.2068892801980695,3.2084255369576198,3.2101989011980976,3.2122229854001461,3.2145091241564359,3.2170662946948454,3.2199010506757446,3.2230174694314115,3.2264171127969661,3.2300990016685063,3.234059604420807,3.2382928393105743,3.2427900909946601,3.247540241278287,3.2525297142086487,3.2577425356064538,3.2631604071049622,3.2687627947274933,3.2745270319862101,3.2804284374158357,3.2864404463785633,3.2925347568753836,3.2986814889839451,3.3048493574137723,3.3110058565177525,3.3171174569420003,3.3231498129194534,3.3290679790343205,3.3348366350936516,3.3404203175627316,3.3457836558306298,3.3508916114079028,3.3557097179971009,3.3602043202425733,3.3643428088619345,3.3680938497798678,3.3714276048546736,3.3743159417862643,3.3767326308463765,3.3786535261681223,3.38005672947439,3.3809227343191566,3.3812345491491413,3.3809777977748325,3.3801407961559988,3.3787146047508969,3.37669305605543,3.3740727573417786,3.3708530690078788,3.3670360593448692,3.3626264369255381,3.3576314621959256,3.3520608402159695,3.3459265968407834,3.3392429409558559,3.3320261156880377,3.3242942418089996,3.3160671568422941,3.3073662537101569,3.2982143231073309,3.2886354042533554,3.2786546492571489,3.2682982071615498,3.2575931349071965,3.2465673441938776,3.2352495957938032,3.2236695568021076,3.2118579423616183,3.1998467729236921,3.1876697933665099,3.1753631253024395,3.1629662658571789,3.1505236184151357,3.1380868685740069,3.1257187511393312,3.1134991897651645,3.1015356281881026,3.0899810020189165,3.0790658979599215,3.0691564899207293,3.0608520024822354,3.055092543184756,3.0529614081732888,3.054222390845112]
[null,null,null,2.5722898382041279,2.6409925395513341,2.6867944805982944,2.7179377315556366,2.7421834959397273,2.7629530904898019,2.7817637644499342,2.7993534501537027,2.8161129820203001,2.8322636129234553,2.8479368268366301,2.8632132665554622,2.8781430698907542,2.8927571277287569,2.9070736379249098,2.9211020979249298,2.934845843644851,2.9483037334119473,2.9614713133426989,2.9743416594297543,2.9869060129790768,2.9991542808161995,3.0110754449342352,3.0226579100121143,3.0338898071200475,3.0447592654832789,3.0552546599666783,3.0653648391396047,3.0750793368698197,3.084388569078456,3.0932840163732322,3.1017583926318224,3.1098057991774368,3.1174218639007591,3.1246038645148104,3.1313508350563524,3.1376636547515915,3.1435451184249956,3.1489999877500878,3.1540350227975438,3.1586589935229057,3.162882671052941,3.1667187988566781,3.1701820441203807,3.1732889298851177,3.1760577487317931,3.1785084590137416,3.1806625648352878,3.1825429811470798,3.1841738854758859,3.1855805579248653,3.1867892111683176,3.1878268122186313,3.1887208977705228,3.1894993849255826,3.1901903790660953,3.1908219805963114,3.1914220921935481,3.1920182281168792,3.1926373270202504,3.1933055695960348,3.1940482022608165,3.1948893679644783,3.1958519450886769,3.1969573952772379,3.1982256209310691,3.1996748329941198,3.201321429565624,3.2031798857852181,3.2052626553677186,3.207580084101707,3.2101403355744793,3.2129493293435729,3.2160106917471722,3.2193257195142593,3.2228933563251161,3.2267101824502191,3.2307704175894258,3.2350659370199395,3.239586301144314,3.2443187985179378,3.2492485024063598,3.2543583408932903,3.2596291805194113,3.2650399233772731,3.2705676175241791,3.2761875804957725,3.2818735356103872,3.2875977606502289,3.2933312483809942,3.299043878247474,3.3047045984306607,3.3102816173098546,3.3157426032081077,3.3210548911450388,3.3261856951595377,3.3311023246130418,3.335772402739039,3.3401640855778538,3.3442462793251337,3.3479888540380358,3.3513628515861313,3.3543406857111648,3.3568963320725658,3.3590055062033883,3.360645827394805,3.3617969666587015,3.3624407770854958,3.3625614051270958,3.3621453815767524,3.3611816912906392,3.3596618210015805,3.3575797848883013,3.3549321279045188,3.3517179072061225,3.347938652361151,3.3435983053577303,3.3387031417472457,3.3332616745717445,3.3272845430038132,3.3207843878974899,3.3137757166952468,3.3062747603606653,3.2982993252342538,3.2898686429253274,3.2810032216033989,3.2717247023395686,3.26205572452524,3.2520198049174525,3.241641235609265,3.2309450073473869,3.2199567663177362,3.2087028151716623,3.1972101732389007,3.1855067176061169,3.1736214378260144,3.1615848557304531,3.1494296943087505,3.1371919378502895,3.124912533892811,3.1126401978006157,3.1004362096098106,3.0883830187317329,3.0766006088397688,3.0652798942537203,3.0547567927060442,3.0456923054165514,3.0395405790871024,3.0395598400797468,3.0491902305926288]
[null,"0",null,2.5684964558733014,2.6845958161095638,2.7188913808597164,2.7404398495400386,2.7583990684807276,2.7748547777051868,2.7905164877003727,2.8056831524850878,2.8204974864672323,2.8350326333359561,2.84932710912598,2.8634006484560786,2.8772620419713206,2.8909132855955733,2.9043519084173823,2.9175723524688948,2.9305668387545296,2.9433259461131769,2.9558390255736953,2.9680945185445609,2.9800802177775125,2.9917834936464516,3.003191498912841,3.0142913596539103,3.0250703567392492,3.0355161002147923,3.0456166976698427,3.0553609168374152,3.0647383421181047,3.0737395243517796,3.082356122907342,3.0905810389988773,3.0984085390454226,3.1058343668519655,3.1128558434002542,3.1194719530887625,3.1256834153562494,3.1314927407378406,3.1369042705623684,3.141924199668594,3.1465605817165141,3.1508233168738258,3.1547241218786866,3.1582764826928411,3.161495590179257,3.1643982594471964,3.1670028336979357,3.1693290735903616,3.1713980332979617,3.1732319245680429,3.1748539702013971,3.1762882484554069,3.1775595299311163,3.1786931085317889,3.1797146280913609,3.1806499062463587,3.1815247570907701,3.1823648140914855,3.1831953546710139,3.1840411277753873,3.1849261856537936,3.1858737209705481,3.1869059102702266,3.1880437647079845,3.1893069888590588,3.1907138483185946,3.1922810467138873,3.1940236126653048,3.1959547971540445,3.1980859816894025,3.2004265976063806,3.2029840567757475,3.2057636939664889,3.2087687210630946,3.2120001933149496,3.2154569877669559,3.2191357940034067,3.2230311173159549,3.2271352943868266,3.2314385215616284,3.2359288957570556,3.2405924680210916,3.2454133097311484,3.2503735913631289,3.2554536737200834,3.2606322114369988,3.2658862685091066,3.2711914455022253,3.2765220180051955,3.2818510857806444,3.2871507319460562,3.2923921913983776,3.2975460275554411,3.3025823163594481,3.3074708363418353,3.312181263422147,3.3166833689777064,3.3209472196059124,3.3249433768935006,3.328643095417064,3.3320185171375698,3.3350428603034885,3.337690600969708,3.33993764525313,3.3417614904991666,3.3431413736143298,3.3440584049435955,3.3444956862196165,3.344438411294604,3.3438739485825835,3.3427919043726178,3.3411841664366619,3.3390449276302121,3.3363706894668752,3.3331602459425227,3.3294146481684805,3.3251371506568859,3.3203331403720853,3.3150100499092474,3.3091772563951878,3.3028459679130009,3.2960290994324311,3.2887411403853122,3.2809980161568291,3.272816945876869,3.2642162989924515,3.2552154531985451,3.2458346564013567,3.2360948955262501,3.226017775169808,3.2156254093963952,3.2049403304680908,3.1939854190955685,3.1827838621343147,3.17135914589484,3.1597350970841802,3.147935990104159,3.1359867514336059,3.123913313961296,3.1117432165459178,3.0995066291756217,3.0872381647370304,3.0749802494579086,3.0627898435213723,3.0507531225707538,3.0390217160964283,3.0279188535105419,3.0183422320080098,3.0141392631688149,3.0440823859953099]
[null,null,null,3.5218738336022142,2.8674813335694154,2.8090054786802767,2.79907497174203,2.8012533343345325,2.8081672991015552,2.8173831082486487,2.8278618314711679,2.8390817059670752,2.8507489354944511,2.8626830735244511,2.8747652439859195,2.886912331556104,2.8990630938501027,2.9111702229161125,2.923195585543553,2.9351072618694474,2.9468776516124962,2.9584822406892926,2.9698987908209205,2.9811068082331502,2.9920872011629029,3.0028220677570374,3.0132945754961185,3.023488905599109,3.0333902438103593,3.0429848042087286,3.0522598761852322,3.0612038871252167,3.0698064749953318,3.0780585662018183,3.0859524549338886,3.0934818808369045,3.1006421023421495,3.1074299633700804,3.113843951454939,3.1198842456245046,3.1255527526424913,3.1308531304686227,3.1357907980430326,3.1403729307400994,3.1446084410754764,3.1485079444831143,3.1520837102016941,3.1553495975290247,3.1583209779067403,3.1610146434853306,3.1634487029933069,3.1656424658838915,3.1676163158683579,3.1693915750441732,3.1709903599179512,3.1724354306773961,3.1737500351045043,3.1749577485358174,3.1760823112670238,3.1771474647753593,3.1781767880855085,3.1791935355520735,3.1802204772585156,3.1812797431577877,3.1823926719907121,3.1835796659378985,3.1848600518609516,3.1862519499125739,3.1877721501969205,3.1894359980918665,3.1912572887572281,3.1932481712936891,3.1954190629465558,3.1977785736955724,3.2003334415228295,3.2030884786083647,3.2060465286646291,3.2092084355914352,3.2125730236032126,3.216137088955989,3.2198954033788283,3.2238407292851576,3.2279638468223339,3.2322535927802249,3.2366969113523254,3.2412789167023703,3.2459829672413747,3.2507907514729055,3.2556823851935377,3.2606365197724045,3.2656304611502804,3.2706402991058354,3.2756410462488788,3.2806067860827994,3.2855108293779409,3.2903258779764002,3.2950241950311607,3.2995777805671338,3.303958551134869,3.3081385222219666,3.3120899919833988,3.3157857247733915,3.319199132882332,3.3223044548408751,3.3250769286154735,3.3274929580262409,3.3295302707321781,3.3311680661881411,3.3323871520570236,3.3331700676724125,3.3335011932886545,3.3333668440240132,3.3327553475955511,3.3316571051652346,3.3300646348483127,3.3279725976922094,3.3253778061967552,3.3222792157160512,3.318677899361731,3.3145770073003433,3.3099817116102059,3.3048991381385946,3.299338287060479,3.2933099441128064,3.2868265847485389,3.2799022737421666,3.2725525631025931,3.2647943915175546,3.2566459890265236,3.2481267912246068,3.2392573681357959,3.2300593740747985,3.2205555265342269,3.2107696246864492,3.2007266219644777,3.1904527731833383,3.1799758861374272,3.1693257229305374,3.158534621685007,3.1476384526029761,3.1366780987096234,3.1257017913592762,3.114768897770702,3.1039562955509581,3.0933696191587075,3.0831643102220454,3.0735880722943563,3.065075163477232,3.0584847334075249,3.0558246372433615,3.0631754259242854,3.1105931481643125,3.6501455890283836]

{"sheet":"Data","index":7,"n_rows":190,"n_cols":53,"rows_kept":190,"cut":false,"hidden":false,"merged":[[12,24,12,38],[13,24,13,26],[13,27,13,29],[13,30,13,32],[13,33,13,35]]}
[1,2,3,4,5,6,7,8,9,10,11,12,13,14,15,16,17,18,19,20,21,22,23,24,25,26,27,28,29,30,31,32,33,34,35,36,37,38,39,40,41,42,43,44,45,46,47,48,49,50,51,52,53]
[null,"index","orientace","tp [°C]","S [m2]","αki [W/m2K]","αke [W/m2K]","te' [°C]","tp' [°C]","ε [-]","ti [°C]","ti' [°C]","te [°C]","plocha s/h?","fiktivni plocha/panel?","index navazujici plochy","Λ [W/m2K]",null,null,null,null,null,"tp,vz [°C]",{"$f":"IF(ISBLANK(Konstrukce!P1),Konstrukce!G1,Konstrukce!P1)","v":18},null,"ksi'",null,null,null,null,null,null,null,null,null,null,"Vykreslovani vysledku:"]
[null,1,{"$f":"IF(Data!$B3<MIN(Panely!$A$9:$A$28),VLOOKUP(Data!$B3,tabulka_kce_def,4,FALSE),VLOOKUP(Data!$B3,tabulka_panely_def,4,FALSE))","v":"s1"},{"$f":"IF(Data!$B3<MIN(Panely!$A$9:$A$28),VLOOKUP(Data!$B3,tabulka_kce_def,23,FALSE),VLOOKUP(Data!$B3,tabulka_panely_def,24,FALSE))","v":20.887937951028093},{"$f":"IF(Data!$B3<MIN(Panely!$A$9:$A$28),VLOOKUP(Data!$B3,tabulka_kce_def,21,FALSE),VLOOKUP(Data!$B3,tabulka_panely_def,22,FALSE))","v":33.96},{"$f":"IF(Data!$B3<MIN(Panely!$A$9:$A$28),VLOOKUP(Data!$B3,tabulka_kce_def,26,FALSE),VLOOKUP(Data!$B3,tabulka_panely_def,31,FALSE))","v":2.0059025625181222},{"$f":"IF(Data!$B3<MIN(Panely!$A$9:$A$28),VLOOKUP(Data!$B3,tabulka_kce_def,27,FALSE),VLOOKUP(Data!$B3,tabulka_panely_def,32,FALSE))","v":23},{"$f":"IF(VLOOKUP(Data!$B3,tabulka_kce_def,3,FALSE)=\"\",Konstrukce!$G$1,IF(VLOOKUP(Data!$B3,tabulka_kce_def,3,FALSE)=\"z\",Konstrukce!$G$2,VLOOKUP(Data!$B3,tabulka_kce_def,3,FALSE)))","v":-12},{"$f":"IF(Data!$B3<MIN(Panely!$A$9:$A$28),0,VLOOKUP(Data!$B3,tabulka_panely_def,25,FALSE))","v":0},{"$f":"IF(Data!$B3<MIN(Panely!$A$9:$A$28),VLOOKUP(Data!$B3,tabulka_kce_def,24,FALSE),VLOOKUP(Data!$B3,tabulka_panely_def,33,FALSE))","v":0.9},{"$f":"Konstrukce!$D$1","v":18.770175404064034},{"$f":"Konstrukce!$D$2","v":19.934229593106764},{"$f":"Konstrukce!$G$1","v":-12},{"$f":"IF(Data!$B3<MIN(Panely!$A$9:$A$28),VLOOKUP(Data!$B3,tabulka_kce_def,59,FALSE),VLOOKUP(Data!$B3,tabulka_panely_def,63,FALSE))","v":"s"},{"$f":"IF(Data!$B3<MIN(Panely!$A$9:$A$28),VLOOKUP(Data!$B3,tabulka_kce_def,60,FALSE),VLOOKUP(Data!$B3,tabulka_panely_def,64,FALSE))","v":""},{"$f":"IF(Data!$B3<MIN(Panely!$A$9:$A$28),VLOOKUP(Data!$B3,tabulka_kce_def,61,FALSE),VLOOKUP(Data!$B3,tabulka_panely_def,65,FALSE))","v":""},{"$f":"IF(Data!$B3<MIN(Panely!$A$9:$A$28),VLOOKUP(Data!$B3,tabulka_kce_def,25,FALSE),0)","v":0.39316239316239315},{"$f":"IF(O3=\"f\",VLOOKUP(VALUE(P3),tabulka_data,3,FALSE),D3)","v":20.887937951028093},null,null,null,null,"ti [°C]",{"$f":"K3","v":18.770175404064034},null,12.234955794021609,30.430265625350515,{"$f":"(((273.15+Z3)^4)-((273.15+AA3)^4))/((10^8)*(Z3-AA3))","v":1.0224763159040891},null,null,null,null,null,null,null,null,"intervaly"]
[null,2,{"$f":"IF(Data!$B4<MIN(Panely!$A$9:$A$28),VLOOKUP(Data!$B4,tabulka_kce_def,4,FALSE),VLOOKUP(Data!$B4,tabulka_panely_def,4,FALSE))","v":"s1"},{"$f":"IF(Data!$B4<MIN(Panely!$A$9:$A$28),VLOOKUP(Data!$B4,tabulka_kce_def,23,FALSE),VLOOKUP(Data!$B4,tabulka_panely_def,24,FALSE))","v":14.304531036006335},{"$f":"IF(Data!$B4<MIN(Panely!$A$9:$A$28),VLOOKUP(Data!$B4,tabulka_kce_def,21,FALSE),VLOOKUP(Data!$B4,tabulka_panely_def,22,FALSE))","v":1.7999999999999989},{"$f":"IF(Data!$B4<MIN(Panely!$A$9:$A$28),VLOOKUP(Data!$B4,tabulka_kce_def,26,FALSE),VLOOKUP(Data!$B4,tabulka_panely_def,31,FALSE))","v":2.589592687770903},{"$f":"IF(Data!$B4<MIN(Panely!$A$9:$A$28),VLOOKUP(Data!$B4,tabulka_kce_def,27,FALSE),VLOOKUP(Data!$B4,tabulka_panely_def,32,FALSE))","v":23},{"$f":"IF(VLOOKUP(Data!$B4,tabulka_kce_def,3,FALSE)=\"\",Konstrukce!$G$1,IF(VLOOKUP(Data!$B4,tabulka_kce_def,3,FALSE)=\"z\",Konstrukce!$G$2,VLOOKUP(Data!$B4,tabulka_kce_def,3,FALSE)))","v":-12},{"$f":"IF(Data!$B4<MIN(Panely!$A$9:$A$28),0,VLOOKUP(Data!$B4,tabulka_panely_def,25,FALSE))","v":0},{"$f":"IF(Data!$B4<MIN(Panely!$A$9:$A$28),VLOOKUP(Data!$B4,tabulka_kce_def,24,FALSE),VLOOKUP(Data!$B4,tabulka_panely_def,33,FALSE))","v":0.9},{"$f":"Konstrukce!$D$1","v":18.770175404064034},{"$f":"Konstrukce!$D$2","v":19.934229593106764},{"$f":"Konstrukce!$G$1","v":-12},{"$f":"IF(Data!$B4<MIN(Panely!$A$9:$A$28),VLOOKUP(Data!$B4,tabulka_kce_def,59,FALSE),VLOOKUP(Data!$B4,tabulka_panely_def,63,FALSE))","v":"s"},{"$f":"IF(Data!$B4<MIN(Panely!$A$9:$A$28),VLOOKUP(Data!$B4,tabulka_kce_def,60,FALSE),VLOOKUP(Data!$B4,tabulka_panely_def,64,FALSE))","v":""},{"$f":"IF(Data!$B4<MIN(Panely!$A$9:$A$28),VLOOKUP(Data!$B4,tabulka_kce_def,61,FALSE),VLOOKUP(Data!$B4,tabulka_panely_def,65,FALSE))","v":""},{"$f":"IF(Data!$B4<MIN(Panely!$A$9:$A$28),VLOOKUP(Data!$B4,tabulka_kce_def,25,FALSE),0)","v":2.2549019607843137},14.304531036006335,null,null,null,null,"ti' [°C]",{"$f":"L3","v":19.934229593106764},null,null,null,null,null,null,null,null,null,null,null,null,"od","do"]
[null,3,{"$f":"IF(Data!$B5<MIN(Panely!$A$9:$A$28),VLOOKUP(Data!$B5,tabulka_kce_def,4,FALSE),VLOOKUP(Data!$B5,tabulka_panely_def,4,FALSE))","v":"s1"},{"$f":"IF(Data!$B5<MIN(Panely!$A$9:$A$28),VLOOKUP(Data!$B5,tabulka_kce_def,23,FALSE),VLOOKUP(Data!$B5,tabulka_panely_def,24,FALSE))","v":21.384327530246765},{"$f":"IF(Data!$B5<MIN(Panely!$A$9:$A$28),VLOOKUP(Data!$B5,tabulka_kce_def,21,FALSE),VLOOKUP(Data!$B5,tabulka_panely_def,22,FALSE))","v":52.895000000000003},{"$f":"IF(Data!$B5<MIN(Panely!$A$9:$A$28),VLOOKUP(Data!$B5,tabulka_kce_def,26,FALSE),VLOOKUP(Data!$B5,tabulka_panely_def,31,FALSE))","v":2.1511553746835563},{"$f":"IF(Data!$B5<MIN(Panely!$A$9:$A$28),VLOOKUP(Data!$B5,tabulka_kce_def,27,FALSE),VLOOKUP(Data!$B5,tabulka_panely_def,32,FALSE))","v":23},{"$f":"IF(VLOOKUP(Data!$B5,tabulka_kce_def,3,FALSE)=\"\",Konstrukce!$G$1,IF(VLOOKUP(Data!$B5,tabulka_kce_def,3,FALSE)=\"z\",Konstrukce!$G$2,VLOOKUP(Data!$B5,tabulka_kce_def,3,FALSE)))","v":-12},{"$f":"IF(Data!$B5<MIN(Panely!$A$9:$A$28),0,VLOOKUP(Data!$B5,tabulka_panely_def,25,FALSE))","v":0},{"$f":"IF(Data!$B5<MIN(Panely!$A$9:$A$28),VLOOKUP(Data!$B5,tabulka_kce_def,24,FALSE),VLOOKUP(Data!$B5,tabulka_panely_def,33,FALSE))","v":0.9},{"$f":"Konstrukce!$D$1","v":18.770175404064034},{"$f":"Konstrukce!$D$2","v":19.934229593106764},{"$f":"Konstrukce!$G$1","v":-12},{"$f":"IF(Data!$B5<MIN(Panely!$A$9:$A$28),VLOOKUP(Data!$B5,tabulka_kce_def,59,FALSE),VLOOKUP(Data!$B5,tabulka_panely_def,63,FALSE))","v":"s"},{"$f":"IF(Data!$B5<MIN(Panely!$A$9:$A$28),VLOOKUP(Data!$B5,tabulka_kce_def,60,FALSE),VLOOKUP(Data!$B5,tabulka_panely_def,64,FALSE))","v":""},{"$f":"IF(Data!$B5<MIN(Panely!$A$9:$A$28),VLOOKUP(Data!$B5,tabulka_kce_def,61,FALSE),VLOOKUP(Data!$B5,tabulka_panely_def,65,FALSE))","v":""},{"$f":"IF(Data!$B5<MIN(Panely!$A$9:$A$28),VLOOKUP(Data!$B5,tabulka_kce_def,25,FALSE),0)","v":0.29040404040404039},21.384327530246765,null,null,null,null,"te [°C]",{"$f":"M3","v":-12},null,"index","tm","m","l","Λ2 [W/m2K]","αkh [W/m2K]","tw1 [°C]","tw2 [°C]","tp","tp'",null,null,-12]
[null,4,{"$f":"IF(Data!$B6<MIN(Panely!$A$9:$A$28),VLOOKUP(Data!$B6,tabulka_kce_def,4,FALSE),VLOOKUP(Data!$B6,tabulka_panely_def,4,FALSE))","v":"s4"},{"$f":"IF(Data!$B6<MIN(Panely!$A$9:$A$28),VLOOKUP(Data!$B6,tabulka_kce_def,23,FALSE),VLOOKUP(Data!$B6,tabulka_panely_def,24,FALSE))","v":17.48407538624928},{"$f":"IF(Data!$B6<MIN(Panely!$A$9:$A$28),VLOOKUP(Data!$B6,tabulka_kce_def,21,FALSE),VLOOKUP(Data!$B6,tabulka_panely_def,22,FALSE))","v":4.1760000000000002},{"$f":"IF(Data!$B6<MIN(Panely!$A$9:$A$28),VLOOKUP(Data!$B6,tabulka_kce_def,26,FALSE),VLOOKUP(Data!$B6,tabulka_panely_def,31,FALSE))","v":1.705256740363909},{"$f":"IF(Data!$B6<MIN(Panely!$A$9:$A$28),VLOOKUP(Data!$B6,tabulka_kce_def,27,FALSE),VLOOKUP(Data!$B6,tabulka_panely_def,32,FALSE))","v":23},{"$f":"IF(VLOOKUP(Data!$B6,tabulka_kce_def,3,FALSE)=\"\",Konstrukce!$G$1,IF(VLOOKUP(Data!$B6,tabulka_kce_def,3,FALSE)=\"z\",Konstrukce!$G$2,VLOOKUP(Data!$B6,tabulka_kce_def,3,FALSE)))","v":-12},{"$f":"IF(Data!$B6<MIN(Panely!$A$9:$A$28),0,VLOOKUP(Data!$B6,tabulka_panely_def,25,FALSE))","v":0},{"$f":"IF(Data!$B6<MIN(Panely!$A$9:$A$28),VLOOKUP(Data!$B6,tabulka_kce_def,24,FALSE),VLOOKUP(Data!$B6,tabulka_panely_def,33,FALSE))","v":0.9},{"$f":"Konstrukce!$D$1","v":18.770175404064034},{"$f":"Konstrukce!$D$2","v":19.934229593106764},{"$f":"Konstrukce!$G$1","v":-12},{"$f":"IF(Data!$B6<MIN(Panely!$A$9:$A$28),VLOOKUP(Data!$B6,tabulka_kce_def,59,FALSE),VLOOKUP(Data!$B6,tabulka_panely_def,63,FALSE))","v":"s"},{"$f":"IF(Data!$B6<MIN(Panely!$A$9:$A$28),VLOOKUP(Data!$B6,tabulka_kce_def,60,FALSE),VLOOKUP(Data!$B6,tabulka_panely_def,64,FALSE))","v":""},{"$f":"IF(Data!$B6<MIN(Panely!$A$9:$A$28),VLOOKUP(Data!$B6,tabulka_kce_def,61,FALSE),VLOOKUP(Data!$B6,tabulka_panely_def,65,FALSE))","v":""},{"$f":"IF(Data!$B6<MIN(Panely!$A$9:$A$28),VLOOKUP(Data!$B6,tabulka_kce_def,25,FALSE),0)","v":0.39316239316239315},17.48407538624928,null,null,null,null,"Mv [kg/s]",{"$f":"Konstrukce!J1/3600","v":9.3333333333333339},null,31,{"$f":"(AF6+AG6)/2","v":75},{"$f":"VLOOKUP($Z$6,tabulka_panely_def,26,FALSE)","v":3.9026685159544026},{"$f":"VLOOKUP($Z$6,tabulka_panely_def,23,FALSE)","v":0.15},{"$f":"VLOOKUP($Z$6,tabulka_panely_def,30,FALSE)","v":0.76377784462921605},{"$f":"VLOOKUP($Z$6,tabulka_panely_def,32,FALSE)","v":3.8963621216446915},{"$f":"VLOOKUP($Z$6,tabulka_panely_def,5,FALSE)","v":80},{"$f":"VLOOKUP($Z$6,tabulka_panely_def,6,FALSE)","v":70},{"$f":"X3+(-X3+AA6)*((TANH(AB6*AC6/2))/(AB6*AC6/2))","v":73.447385904102489},{"$f":"X4+(AD6/AE6)*(AA6-X4)*((TANH(AB6*AC6/2))/(AB6*AC6/2))","v":30.430356773568946},null,{"$f":"AL5","v":-12},-8]
[null,5,{"$f":"IF(Data!$B7<MIN(Panely!$A$9:$A$28),VLOOKUP(Data!$B7,tabulka_kce_def,4,FALSE),VLOOKUP(Data!$B7,tabulka_panely_def,4,FALSE))","v":"s4"},{"$f":"IF(Data!$B7<MIN(Panely!$A$9:$A$28),VLOOKUP(Data!$B7,tabulka_kce_def,23,FALSE),VLOOKUP(Data!$B7,tabulka_panely_def,24,FALSE))","v":17.743820353951094},{"$f":"IF(Data!$B7<MIN(Panely!$A$9:$A$28),VLOOKUP(Data!$B7,tabulka_kce_def,21,FALSE),VLOOKUP(Data!$B7,tabulka_panely_def,22,FALSE))","v":6.1770000000000005},{"$f":"IF(Data!$B7<MIN(Panely!$A$9:$A$28),VLOOKUP(Data!$B7,tabulka_kce_def,26,FALSE),VLOOKUP(Data!$B7,tabulka_panely_def,31,FALSE))","v":1.5814890975768345},{"$f":"IF(Data!$B7<MIN(Panely!$A$9:$A$28),VLOOKUP(Data!$B7,tabulka_kce_def,27,FALSE),VLOOKUP(Data!$B7,tabulka_panely_def,32,FALSE))","v":23},{"$f":"IF(VLOOKUP(Data!$B7,tabulka_kce_def,3,FALSE)=\"\",Konstrukce!$G$1,IF(VLOOKUP(Data!$B7,tabulka_kce_def,3,FALSE)=\"z\",Konstrukce!$G$2,VLOOKUP(Data!$B7,tabulka_kce_def,3,FALSE)))","v":-12},{"$f":"IF(Data!$B7<MIN(Panely!$A$9:$A$28),0,VLOOKUP(Data!$B7,tabulka_panely_def,25,FALSE))","v":0},{"$f":"IF(Data!$B7<MIN(Panely!$A$9:$A$28),VLOOKUP(Data!$B7,tabulka_kce_def,24,FALSE),VLOOKUP(Data!$B7,tabulka_panely_def,33,FALSE))","v":0.9},{"$f":"Konstrukce!$D$1","v":18.770175404064034},{"$f":"Konstrukce!$D$2","v":19.934229593106764},{"$f":"Konstrukce!$G$1","v":-12},{"$f":"IF(Data!$B7<MIN(Panely!$A$9:$A$28),VLOOKUP(Data!$B7,tabulka_kce_def,59,FALSE),VLOOKUP(Data!$B7,tabulka_panely_def,63,FALSE))","v":"s"},{"$f":"IF(Data!$B7<MIN(Panely!$A$9:$A$28),VLOOKUP(Data!$B7,tabulka_kce_def,60,FALSE),VLOOKUP(Data!$B7,tabulka_panely_def,64,FALSE))","v":""},{"$f":"IF(Data!$B7<MIN(Panely!$A$9:$A$28),VLOOKUP(Data!$B7,tabulka_kce_def,61,FALSE),VLOOKUP(Data!$B7,tabulka_panely_def,65,FALSE))","v":""},{"$f":"IF(Data!$B7<MIN(Panely!$A$9:$A$28),VLOOKUP(Data!$B7,tabulka_kce_def,25,FALSE),0)","v":0.29040404040404039},17.743820353951094,null,null,null,null,"cv [J/kgK]",{"$f":"Konstrukce!J2","v":1010},null,null,null,null,null,null,null,null,null,null,null,null,-8,-3]
[null,6,{"$f":"IF(Data!$B8<MIN(Panely!$A$9:$A$28),VLOOKUP(Data!$B8,tabulka_kce_def,4,FALSE),VLOOKUP(Data!$B8,tabulka_panely_def,4,FALSE))","v":"s4"},{"$f":"IF(Data!$B8<MIN(Panely!$A$9:$A$28),VLOOKUP(Data!$B8,tabulka_kce_def,23,FALSE),VLOOKUP(Data!$B8,tabulka_panely_def,24,FALSE))","v":22.078679971822083},{"$f":"IF(Data!$B8<MIN(Panely!$A$9:$A$28),VLOOKUP(Data!$B8,tabulka_kce_def,21,FALSE),VLOOKUP(Data!$B8,tabulka_panely_def,22,FALSE))","v":82.22399999999999},{"$f":"IF(Data!$B8<MIN(Panely!$A$9:$A$28),VLOOKUP(Data!$B8,tabulka_kce_def,26,FALSE),VLOOKUP(Data!$B8,tabulka_panely_def,31,FALSE))","v":2.325952149696461},{"$f":"IF(Data!$B8<MIN(Panely!$A$9:$A$28),VLOOKUP(Data!$B8,tabulka_kce_def,27,FALSE),VLOOKUP(Data!$B8,tabulka_panely_def,32,FALSE))","v":3.6137595987781146},{"$f":"IF(VLOOKUP(Data!$B8,tabulka_kce_def,3,FALSE)=\"\",Konstrukce!$G$1,IF(VLOOKUP(Data!$B8,tabulka_kce_def,3,FALSE)=\"z\",Konstrukce!$G$2,VLOOKUP(Data!$B8,tabulka_kce_def,3,FALSE)))","v":10},{"$f":"IF(Data!$B8<MIN(Panely!$A$9:$A$28),0,VLOOKUP(Data!$B8,tabulka_panely_def,25,FALSE))","v":0},{"$f":"IF(Data!$B8<MIN(Panely!$A$9:$A$28),VLOOKUP(Data!$B8,tabulka_kce_def,24,FALSE),VLOOKUP(Data!$B8,tabulka_panely_def,33,FALSE))","v":0.9},{"$f":"Konstrukce!$D$1","v":18.770175404064034},{"$f":"Konstrukce!$D$2","v":19.934229593106764},{"$f":"Konstrukce!$G$1","v":-12},{"$f":"IF(Data!$B8<MIN(Panely!$A$9:$A$28),VLOOKUP(Data!$B8,tabulka_kce_def,59,FALSE),VLOOKUP(Data!$B8,tabulka_panely_def,63,FALSE))","v":"s"},{"$f":"IF(Data!$B8<MIN(Panely!$A$9:$A$28),VLOOKUP(Data!$B8,tabulka_kce_def,60,FALSE),VLOOKUP(Data!$B8,tabulka_panely_def,64,FALSE))","v":""},{"$f":"IF(Data!$B8<MIN(Panely!$A$9:$A$28),VLOOKUP(Data!$B8,tabulka_kce_def,61,FALSE),VLOOKUP(Data!$B8,tabulka_panely_def,65,FALSE))","v":""},{"$f":"IF(Data!$B8<MIN(Panely!$A$9:$A$28),VLOOKUP(Data!$B8,tabulka_kce_def,25,FALSE),0)","v":0.36013712429396422},22.078679971822083,null,null,null,null,"w [m/s]",{"$f":"Konstrukce!P2","v":0.2},null,null,null,null,null,null,null,null,null,null,null,null,-3,3]
[null,7,{"$f":"IF(Data!$B9<MIN(Panely!$A$9:$A$28),VLOOKUP(Data!$B9,tabulka_kce_def,4,FALSE),VLOOKUP(Data!$B9,tabulka_panely_def,4,FALSE))","v":"s4"},{"$f":"IF(Data!$B9<MIN(Panely!$A$9:$A$28),VLOOKUP(Data!$B9,tabulka_kce_def,23,FALSE),VLOOKUP(Data!$B9,tabulka_panely_def,24,FALSE))","v":22.449005906357346},{"$f":"IF(Data!$B9<MIN(Panely!$A$9:$A$28),VLOOKUP(Data!$B9,tabulka_kce_def,21,FALSE),VLOOKUP(Data!$B9,tabulka_panely_def,22,FALSE))","v":121.623},{"$f":"IF(Data!$B9<MIN(Panely!$A$9:$A$28),VLOOKUP(Data!$B9,tabulka_kce_def,26,FALSE),VLOOKUP(Data!$B9,tabulka_panely_def,31,FALSE))","v":2.4069041460962959},{"$f":"IF(Data!$B9<MIN(Panely!$A$9:$A$28),VLOOKUP(Data!$B9,tabulka_kce_def,27,FALSE),VLOOKUP(Data!$B9,tabulka_panely_def,32,FALSE))","v":3.6495416995295922},{"$f":"IF(VLOOKUP(Data!$B9,tabulka_kce_def,3,FALSE)=\"\",Konstrukce!$G$1,IF(VLOOKUP(Data!$B9,tabulka_kce_def,3,FALSE)=\"z\",Konstrukce!$G$2,VLOOKUP(Data!$B9,tabulka_kce_def,3,FALSE)))","v":10},{"$f":"IF(Data!$B9<MIN(Panely!$A$9:$A$28),0,VLOOKUP(Data!$B9,tabulka_panely_def,25,FALSE))","v":0},{"$f":"IF(Data!$B9<MIN(Panely!$A$9:$A$28),VLOOKUP(Data!$B9,tabulka_kce_def,24,FALSE),VLOOKUP(Data!$B9,tabulka_panely_def,33,FALSE))","v":0.9},{"$f":"Konstrukce!$D$1","v":18.770175404064034},{"$f":"Konstrukce!$D$2","v":19.934229593106764},{"$f":"Konstrukce!$G$1","v":-12},{"$f":"IF(Data!$B9<MIN(Panely!$A$9:$A$28),VLOOKUP(Data!$B9,tabulka_kce_def,59,FALSE),VLOOKUP(Data!$B9,tabulka_panely_def,63,FALSE))","v":"s"},{"$f":"IF(Data!$B9<MIN(Panely!$A$9:$A$28),VLOOKUP(Data!$B9,tabulka_kce_def,60,FALSE),VLOOKUP(Data!$B9,tabulka_panely_def,64,FALSE))","v":""},{"$f":"IF(Data!$B9<MIN(Panely!$A$9:$A$28),VLOOKUP(Data!$B9,tabulka_kce_def,61,FALSE),VLOOKUP(Data!$B9,tabulka_panely_def,65,FALSE))","v":""},{"$f":"IF(Data!$B9<MIN(Panely!$A$9:$A$28),VLOOKUP(Data!$B9,tabulka_kce_def,25,FALSE),0)","v":0.27218238777070763},22.449005906357346,null,null,null,null,"A [-]",{"$f":"IF(X8>1,0.75*X8^0.16,VLOOKUP(ROUND(X8,1),tab_NarVl361_2007_koef_A,2,FALSE))","v":0.5},null,null,0,0,3,null,null,null,null,null,null,null,3,8]
[null,8,{"$f":"IF(Data!$B10<MIN(Panely!$A$9:$A$28),VLOOKUP(Data!$B10,tabulka_kce_def,4,FALSE),VLOOKUP(Data!$B10,tabulka_panely_def,4,FALSE))","v":"s2"},{"$f":"IF(Data!$B10<MIN(Panely!$A$9:$A$28),VLOOKUP(Data!$B10,tabulka_kce_def,23,FALSE),VLOOKUP(Data!$B10,tabulka_panely_def,24,FALSE))","v":22.055255377475582},{"$f":"IF(Data!$B10<MIN(Panely!$A$9:$A$28),VLOOKUP(Data!$B10,tabulka_kce_def,21,FALSE),VLOOKUP(Data!$B10,tabulka_panely_def,22,FALSE))","v":32.890000000000008},{"$f":"IF(Data!$B10<MIN(Panely!$A$9:$A$28),VLOOKUP(Data!$B10,tabulka_kce_def,26,FALSE),VLOOKUP(Data!$B10,tabulka_panely_def,31,FALSE))","v":2.320480666177497},{"$f":"IF(Data!$B10<MIN(Panely!$A$9:$A$28),VLOOKUP(Data!$B10,tabulka_kce_def,27,FALSE),VLOOKUP(Data!$B10,tabulka_panely_def,32,FALSE))","v":2.4903405008799706},{"$f":"IF(VLOOKUP(Data!$B10,tabulka_kce_def,3,FALSE)=\"\",Konstrukce!$G$1,IF(VLOOKUP(Data!$B10,tabulka_kce_def,3,FALSE)=\"z\",Konstrukce!$G$2,VLOOKUP(Data!$B10,tabulka_kce_def,3,FALSE)))","v":18},{"$f":"IF(Data!$B10<MIN(Panely!$A$9:$A$28),0,VLOOKUP(Data!$B10,tabulka_panely_def,25,FALSE))","v":0},{"$f":"IF(Data!$B10<MIN(Panely!$A$9:$A$28),VLOOKUP(Data!$B10,tabulka_kce_def,24,FALSE),VLOOKUP(Data!$B10,tabulka_panely_def,33,FALSE))","v":0.9},{"$f":"Konstrukce!$D$1","v":18.770175404064034},{"$f":"Konstrukce!$D$2","v":19.934229593106764},{"$f":"Konstrukce!$G$1","v":-12},{"$f":"IF(Data!$B10<MIN(Panely!$A$9:$A$28),VLOOKUP(Data!$B10,tabulka_kce_def,59,FALSE),VLOOKUP(Data!$B10,tabulka_panely_def,63,FALSE))","v":"s"},{"$f":"IF(Data!$B10<MIN(Panely!$A$9:$A$28),VLOOKUP(Data!$B10,tabulka_kce_def,60,FALSE),VLOOKUP(Data!$B10,tabulka_panely_def,64,FALSE))","v":""},{"$f":"IF(Data!$B10<MIN(Panely!$A$9:$A$28),VLOOKUP(Data!$B10,tabulka_kce_def,61,FALSE),VLOOKUP(Data!$B10,tabulka_panely_def,65,FALSE))","v":""},{"$f":"IF(Data!$B10<MIN(Panely!$A$9:$A$28),VLOOKUP(Data!$B10,tabulka_kce_def,25,FALSE),0)","v":0.52588635770403935},22.055255377475582,null,null,null,null,null,null,null,null,null,null,null,null,null,null,null,null,null,null,8,12]
[null,9,{"$f":"IF(Data!$B11<MIN(Panely!$A$9:$A$28),VLOOKUP(Data!$B11,tabulka_kce_def,4,FALSE),VLOOKUP(Data!$B11,tabulka_panely_def,4,FALSE))","v":"s2"},{"$f":"IF(Data!$B11<MIN(Panely!$A$9:$A$28),VLOOKUP(Data!$B11,tabulka_kce_def,23,FALSE),VLOOKUP(Data!$B11,tabulka_panely_def,24,FALSE))","v":19.685256472804507},{"$f":"IF(Data!$B11<MIN(Panely!$A$9:$A$28),VLOOKUP(Data!$B11,tabulka_kce_def,21,FALSE),VLOOKUP(Data!$B11,tabulka_panely_def,22,FALSE))","v":2},{"$f":"IF(Data!$B11<MIN(Panely!$A$9:$A$28),VLOOKUP(Data!$B11,tabulka_kce_def,26,FALSE),VLOOKUP(Data!$B11,tabulka_panely_def,31,FALSE))","v":1.6866531941408553},{"$f":"IF(Data!$B11<MIN(Panely!$A$9:$A$28),VLOOKUP(Data!$B11,tabulka_kce_def,27,FALSE),VLOOKUP(Data!$B11,tabulka_panely_def,32,FALSE))","v":1.8627021936553858},{"$f":"IF(VLOOKUP(Data!$B11,tabulka_kce_def,3,FALSE)=\"\",Konstrukce!$G$1,IF(VLOOKUP(Data!$B11,tabulka_kce_def,3,FALSE)=\"z\",Konstrukce!$G$2,VLOOKUP(Data!$B11,tabulka_kce_def,3,FALSE)))","v":18},{"$f":"IF(Data!$B11<MIN(Panely!$A$9:$A$28),0,VLOOKUP(Data!$B11,tabulka_panely_def,25,FALSE))","v":0},{"$f":"IF(Data!$B11<MIN(Panely!$A$9:$A$28),VLOOKUP(Data!$B11,tabulka_kce_def,24,FALSE),VLOOKUP(Data!$B11,tabulka_panely_def,33,FALSE))","v":0.9},{"$f":"Konstrukce!$D$1","v":18.770175404064034},{"$f":"Konstrukce!$D$2","v":19.934229593106764},{"$f":"Konstrukce!$G$1","v":-12},{"$f":"IF(Data!$B11<MIN(Panely!$A$9:$A$28),VLOOKUP(Data!$B11,tabulka_kce_def,59,FALSE),VLOOKUP(Data!$B11,tabulka_panely_def,63,FALSE))","v":"s"},{"$f":"IF(Data!$B11<MIN(Panely!$A$9:$A$28),VLOOKUP(Data!$B11,tabulka_kce_def,60,FALSE),VLOOKUP(Data!$B11,tabulka_panely_def,64,FALSE))","v":""},{"$f":"IF(Data!$B11<MIN(Panely!$A$9:$A$28),VLOOKUP(Data!$B11,tabulka_kce_def,61,FALSE),VLOOKUP(Data!$B11,tabulka_panely_def,65,FALSE))","v":""},{"$f":"IF(Data!$B11<MIN(Panely!$A$9:$A$28),VLOOKUP(Data!$B11,tabulka_kce_def,25,FALSE),0)","v":1.0674016417876784},19.685256472804507,null,null,null,null,null,null,null,null,null,null,null,null,null,null,null,null,null,null,12]
[null,10,{"$f":"IF(Data!$B12<MIN(Panely!$A$9:$A$28),VLOOKUP(Data!$B12,tabulka_kce_def,4,FALSE),VLOOKUP(Data!$B12,tabulka_panely_def,4,FALSE))","v":"s2"},{"$f":"IF(Data!$B12<MIN(Panely!$A$9:$A$28),VLOOKUP(Data!$B12,tabulka_kce_def,23,FALSE),VLOOKUP(Data!$B12,tabulka_panely_def,24,FALSE))","v":19.781168339176524},{"$f":"IF(Data!$B12<MIN(Panely!$A$9:$A$28),VLOOKUP(Data!$B12,tabulka_kce_def,21,FALSE),VLOOKUP(Data!$B12,tabulka_panely_def,22,FALSE))","v":2},{"$f":"IF(Data!$B12<MIN(Panely!$A$9:$A$28),VLOOKUP(Data!$B12,tabulka_kce_def,26,FALSE),VLOOKUP(Data!$B12,tabulka_panely_def,31,FALSE))","v":1.6866531941408553},{"$f":"IF(Data!$B12<MIN(Panely!$A$9:$A$28),VLOOKUP(Data!$B12,tabulka_kce_def,27,FALSE),VLOOKUP(Data!$B12,tabulka_panely_def,32,FALSE))","v":1.897285291511283},{"$f":"IF(VLOOKUP(Data!$B12,tabulka_kce_def,3,FALSE)=\"\",Konstrukce!$G$1,IF(VLOOKUP(Data!$B12,tabulka_kce_def,3,FALSE)=\"z\",Konstrukce!$G$2,VLOOKUP(Data!$B12,tabulka_kce_def,3,FALSE)))","v":18},{"$f":"IF(Data!$B12<MIN(Panely!$A$9:$A$28),0,VLOOKUP(Data!$B12,tabulka_panely_def,25,FALSE))","v":0},{"$f":"IF(Data!$B12<MIN(Panely!$A$9:$A$28),VLOOKUP(Data!$B12,tabulka_kce_def,24,FALSE),VLOOKUP(Data!$B12,tabulka_panely_def,33,FALSE))","v":0.9},{"$f":"Konstrukce!$D$1","v":18.770175404064034},{"$f":"Konstrukce!$D$2","v":19.934229593106764},{"$f":"Konstrukce!$G$1","v":-12},{"$f":"IF(Data!$B12<MIN(Panely!$A$9:$A$28),VLOOKUP(Data!$B12,tabulka_kce_def,59,FALSE),VLOOKUP(Data!$B12,tabulka_panely_def,63,FALSE))","v":"s"},{"$f":"IF(Data!$B12<MIN(Panely!$A$9:$A$28),VLOOKUP(Data!$B12,tabulka_kce_def,60,FALSE),VLOOKUP(Data!$B12,tabulka_panely_def,64,FALSE))","v":""},{"$f":"IF(Data!$B12<MIN(Panely!$A$9:$A$28),VLOOKUP(Data!$B12,tabulka_kce_def,61,FALSE),VLOOKUP(Data!$B12,tabulka_panely_def,65,FALSE))","v":""},{"$f":"IF(Data!$B12<MIN(Panely!$A$9:$A$28),VLOOKUP(Data!$B12,tabulka_kce_def,25,FALSE),0)","v":1.0786685225847681},19.781168339176524]
[null,11,{"$f":"IF(Data!$B13<MIN(Panely!$A$9:$A$28),VLOOKUP(Data!$B13,tabulka_kce_def,4,FALSE),VLOOKUP(Data!$B13,tabulka_panely_def,4,FALSE))","v":"s2"},{"$f":"IF(Data!$B13<MIN(Panely!$A$9:$A$28),VLOOKUP(Data!$B13,tabulka_kce_def,23,FALSE),VLOOKUP(Data!$B13,tabulka_panely_def,24,FALSE))","v":22.47818164051737},{"$f":"IF(Data!$B13<MIN(Panely!$A$9:$A$28),VLOOKUP(Data!$B13,tabulka_kce_def,21,FALSE),VLOOKUP(Data!$B13,tabulka_panely_def,22,FALSE))","v":40.765000000000001},{"$f":"IF(Data!$B13<MIN(Panely!$A$9:$A$28),VLOOKUP(Data!$B13,tabulka_kce_def,26,FALSE),VLOOKUP(Data!$B13,tabulka_panely_def,31,FALSE))","v":2.4132102726791027},{"$f":"IF(Data!$B13<MIN(Panely!$A$9:$A$28),VLOOKUP(Data!$B13,tabulka_kce_def,27,FALSE),VLOOKUP(Data!$B13,tabulka_panely_def,32,FALSE))","v":2.5734487204244498},{"$f":"IF(VLOOKUP(Data!$B13,tabulka_kce_def,3,FALSE)=\"\",Konstrukce!$G$1,IF(VLOOKUP(Data!$B13,tabulka_kce_def,3,FALSE)=\"z\",Konstrukce!$G$2,VLOOKUP(Data!$B13,tabulka_kce_def,3,FALSE)))","v":18},{"$f":"IF(Data!$B13<MIN(Panely!$A$9:$A$28),0,VLOOKUP(Data!$B13,tabulka_panely_def,25,FALSE))","v":0},{"$f":"IF(Data!$B13<MIN(Panely!$A$9:$A$28),VLOOKUP(Data!$B13,tabulka_kce_def,24,FALSE),VLOOKUP(Data!$B13,tabulka_panely_def,33,FALSE))","v":0.9},{"$f":"Konstrukce!$D$1","v":18.770175404064034},{"$f":"Konstrukce!$D$2","v":19.934229593106764},{"$f":"Konstrukce!$G$1","v":-12},{"$f":"IF(Data!$B13<MIN(Panely!$A$9:$A$28),VLOOKUP(Data!$B13,tabulka_kce_def,59,FALSE),VLOOKUP(Data!$B13,tabulka_panely_def,63,FALSE))","v":"s"},{"$f":"IF(Data!$B13<MIN(Panely!$A$9:$A$28),VLOOKUP(Data!$B13,tabulka_kce_def,60,FALSE),VLOOKUP(Data!$B13,tabulka_panely_def,64,FALSE))","v":""},{"$f":"IF(Data!$B13<MIN(Panely!$A$9:$A$28),VLOOKUP(Data!$B13,tabulka_kce_def,61,FALSE),VLOOKUP(Data!$B13,tabulka_panely_def,65,FALSE))","v":""},{"$f":"IF(Data!$B13<MIN(Panely!$A$9:$A$28),VLOOKUP(Data!$B13,tabulka_kce_def,25,FALSE),0)","v":0.52949734047070862},22.47818164051737,null,null,null,null,null,null,"rozměry"]
[null,12,{"$f":"IF(Data!$B14<MIN(Panely!$A$9:$A$28),VLOOKUP(Data!$B14,tabulka_kce_def,4,FALSE),VLOOKUP(Data!$B14,tabulka_panely_def,4,FALSE))","v":"s2"},{"$f":"IF(Data!$B14<MIN(Panely!$A$9:$A$28),VLOOKUP(Data!$B14,tabulka_kce_def,23,FALSE),VLOOKUP(Data!$B14,tabulka_panely_def,24,FALSE))","v":19.537121135421057},{"$f":"IF(Data!$B14<MIN(Panely!$A$9:$A$28),VLOOKUP(Data!$B14,tabulka_kce_def,21,FALSE),VLOOKUP(Data!$B14,tabulka_panely_def,22,FALSE))","v":1.9999999999999991},{"$f":"IF(Data!$B14<MIN(Panely!$A$9:$A$28),VLOOKUP(Data!$B14,tabulka_kce_def,26,FALSE),VLOOKUP(Data!$B14,tabulka_panely_def,31,FALSE))","v":1.6866531941408553},{"$f":"IF(Data!$B14<MIN(Panely!$A$9:$A$28),VLOOKUP(Data!$B14,tabulka_kce_def,27,FALSE),VLOOKUP(Data!$B14,tabulka_panely_def,32,FALSE))","v":1.8065951870553081},{"$f":"IF(VLOOKUP(Data!$B14,tabulka_kce_def,3,FALSE)=\"\",Konstrukce!$G$1,IF(VLOOKUP(Data!$B14,tabulka_kce_def,3,FALSE)=\"z\",Konstrukce!$G$2,VLOOKUP(Data!$B14,tabulka_kce_def,3,FALSE)))","v":18},{"$f":"IF(Data!$B14<MIN(Panely!$A$9:$A$28),0,VLOOKUP(Data!$B14,tabulka_panely_def,25,FALSE))","v":0},{"$f":"IF(Data!$B14<MIN(Panely!$A$9:$A$28),VLOOKUP(Data!$B14,tabulka_kce_def,24,FALSE),VLOOKUP(Data!$B14,tabulka_panely_def,33,FALSE))","v":0.9},{"$f":"Konstrukce!$D$1","v":18.770175404064034},{"$f":"Konstrukce!$D$2","v":19.934229593106764},{"$f":"Konstrukce!$G$1","v":-12},{"$f":"IF(Data!$B14<MIN(Panely!$A$9:$A$28),VLOOKUP(Data!$B14,tabulka_kce_def,59,FALSE),VLOOKUP(Data!$B14,tabulka_panely_def,63,FALSE))","v":"s"},{"$f":"IF(Data!$B14<MIN(Panely!$A$9:$A$28),VLOOKUP(Data!$B14,tabulka_kce_def,60,FALSE),VLOOKUP(Data!$B14,tabulka_panely_def,64,FALSE))","v":""},{"$f":"IF(Data!$B14<MIN(Panely!$A$9:$A$28),VLOOKUP(Data!$B14,tabulka_kce_def,61,FALSE),VLOOKUP(Data!$B14,tabulka_panely_def,65,FALSE))","v":""},{"$f":"IF(Data!$B14<MIN(Panely!$A$9:$A$28),VLOOKUP(Data!$B14,tabulka_kce_def,25,FALSE),0)","v":1.0487375226754199},19.537121135421057,null,null,null,null,null,null,"bod1",null,null,"bod2",null,null,"bod3",null,null,"bod4"]
[null,13,{"$f":"IF(Data!$B15<MIN(Panely!$A$9:$A$28),VLOOKUP(Data!$B15,tabulka_kce_def,4,FALSE),VLOOKUP(Data!$B15,tabulka_panely_def,4,FALSE))","v":"s2"},{"$f":"IF(Data!$B15<MIN(Panely!$A$9:$A$28),VLOOKUP(Data!$B15,tabulka_kce_def,23,FALSE),VLOOKUP(Data!$B15,tabulka_panely_def,24,FALSE))","v":20.208861728004312},{"$f":"IF(Data!$B15<MIN(Panely!$A$9:$A$28),VLOOKUP(Data!$B15,tabulka_kce_def,21,FALSE),VLOOKUP(Data!$B15,tabulka_panely_def,22,FALSE))","v":8.9999999999999982},{"$f":"IF(Data!$B15<MIN(Panely!$A$9:$A$28),VLOOKUP(Data!$B15,tabulka_kce_def,26,FALSE),VLOOKUP(Data!$B15,tabulka_panely_def,31,FALSE))","v":1.7657251422557179},{"$f":"IF(Data!$B15<MIN(Panely!$A$9:$A$28),VLOOKUP(Data!$B15,tabulka_kce_def,27,FALSE),VLOOKUP(Data!$B15,tabulka_panely_def,32,FALSE))","v":2.0378921475242207},{"$f":"IF(VLOOKUP(Data!$B15,tabulka_kce_def,3,FALSE)=\"\",Konstrukce!$G$1,IF(VLOOKUP(Data!$B15,tabulka_kce_def,3,FALSE)=\"z\",Konstrukce!$G$2,VLOOKUP(Data!$B15,tabulka_kce_def,3,FALSE)))","v":18},{"$f":"IF(Data!$B15<MIN(Panely!$A$9:$A$28),0,VLOOKUP(Data!$B15,tabulka_panely_def,25,FALSE))","v":0},{"$f":"IF(Data!$B15<MIN(Panely!$A$9:$A$28),VLOOKUP(Data!$B15,tabulka_kce_def,24,FALSE),VLOOKUP(Data!$B15,tabulka_panely_def,33,FALSE))","v":0.9},{"$f":"Konstrukce!$D$1","v":18.770175404064034},{"$f":"Konstrukce!$D$2","v":19.934229593106764},{"$f":"Konstrukce!$G$1","v":-12},{"$f":"IF(Data!$B15<MIN(Panely!$A$9:$A$28),VLOOKUP(Data!$B15,tabulka_kce_def,59,FALSE),VLOOKUP(Data!$B15,tabulka_panely_def,63,FALSE))","v":"s"},{"$f":"IF(Data!$B15<MIN(Panely!$A$9:$A$28),VLOOKUP(Data!$B15,tabulka_kce_def,60,FALSE),VLOOKUP(Data!$B15,tabulka_panely_def,64,FALSE))","v":""},{"$f":"IF(Data!$B15<MIN(Panely!$A$9:$A$28),VLOOKUP(Data!$B15,tabulka_kce_def,61,FALSE),VLOOKUP(Data!$B15,tabulka_panely_def,65,FALSE))","v":""},{"$f":"IF(Data!$B15<MIN(Panely!$A$9:$A$28),VLOOKUP(Data!$B15,tabulka_kce_def,25,FALSE),0)","v":0.77477151625044605},20.208861728004312,null,null,null,null,"index","orientace","x","y","z","x","y","z","x","y","z","x","y","z","X [m]","Y [m]","Z [m]","celli","ma otvor?","obdelnik","tp [°C]","ϕi","ϕi.Tp4","tr [°C]","jsem otvor?","jsem fiktivni otvor?","index","jsem fiktivni okno?","jsem panel?"]
[null,14,{"$f":"IF(Data!$B16<MIN(Panely!$A$9:$A$28),VLOOKUP(Data!$B16,tabulka_kce_def,4,FALSE),VLOOKUP(Data!$B16,tabulka_panely_def,4,FALSE))","v":"s3"},{"$f":"IF(Data!$B16<MIN(Panely!$A$9:$A$28),VLOOKUP(Data!$B16,tabulka_kce_def,23,FALSE),VLOOKUP(Data!$B16,tabulka_panely_def,24,FALSE))","v":20.715213623321713},{"$f":"IF(Data!$B16<MIN(Panely!$A$9:$A$28),VLOOKUP(Data!$B16,tabulka_kce_def,21,FALSE),VLOOKUP(Data!$B16,tabulka_panely_def,22,FALSE))","v":168.905},{"$f":"IF(Data!$B16<MIN(Panely!$A$9:$A$28),VLOOKUP(Data!$B16,tabulka_kce_def,26,FALSE),VLOOKUP(Data!$B16,tabulka_panely_def,31,FALSE))","v":1.9500068523939622},{"$f":"IF(Data!$B16<MIN(Panely!$A$9:$A$28),VLOOKUP(Data!$B16,tabulka_kce_def,27,FALSE),VLOOKUP(Data!$B16,tabulka_panely_def,32,FALSE))","v":2.1823999026369609},{"$f":"IF(VLOOKUP(Data!$B16,tabulka_kce_def,3,FALSE)=\"\",Konstrukce!$G$1,IF(VLOOKUP(Data!$B16,tabulka_kce_def,3,FALSE)=\"z\",Konstrukce!$G$2,VLOOKUP(Data!$B16,tabulka_kce_def,3,FALSE)))","v":18},{"$f":"IF(Data!$B16<MIN(Panely!$A$9:$A$28),0,VLOOKUP(Data!$B16,tabulka_panely_def,25,FALSE))","v":0},{"$f":"IF(Data!$B16<MIN(Panely!$A$9:$A$28),VLOOKUP(Data!$B16,tabulka_kce_def,24,FALSE),VLOOKUP(Data!$B16,tabulka_panely_def,33,FALSE))","v":0.9},{"$f":"Konstrukce!$D$1","v":18.770175404064034},{"$f":"Konstrukce!$D$2","v":19.934229593106764},{"$f":"Konstrukce!$G$1","v":-12},{"$f":"IF(Data!$B16<MIN(Panely!$A$9:$A$28),VLOOKUP(Data!$B16,tabulka_kce_def,59,FALSE),VLOOKUP(Data!$B16,tabulka_panely_def,63,FALSE))","v":"s"},{"$f":"IF(Data!$B16<MIN(Panely!$A$9:$A$28),VLOOKUP(Data!$B16,tabulka_kce_def,60,FALSE),VLOOKUP(Data!$B16,tabulka_panely_def,64,FALSE))","v":""},{"$f":"IF(Data!$B16<MIN(Panely!$A$9:$A$28),VLOOKUP(Data!$B16,tabulka_kce_def,61,FALSE),VLOOKUP(Data!$B16,tabulka_panely_def,65,FALSE))","v":""},{"$f":"IF(Data!$B16<MIN(Panely!$A$9:$A$28),VLOOKUP(Data!$B16,tabulka_kce_def,25,FALSE),0)","v":0.51067015565742191},20.715213623321713,null,null,null,null,1,{"$f":"IF(Data!$W16<MIN(Panely!$A$9:$A$28),VLOOKUP(Data!$W16,tabulka_kce_def,62,FALSE),VLOOKUP(Data!$W16,tabulka_panely_def,65,FALSE))","v":"1"},{"$f":"IF(Data!$W16<MIN(Panely!$A$9:$A$28),VLOOKUP(Data!$W16,tabulka_kce_def,Y$1-20,FALSE),VLOOKUP(Data!$W16,tabulka_panely_def,Y$1-18,FALSE))","v":0},{"$f":"IF(Data!$W16<MIN(Panely!$A$9:$A$28),VLOOKUP(Data!$W16,tabulka_kce_def,Z$1-20,FALSE),VLOOKUP(Data!$W16,tabulka_panely_def,Z$1-18,FALSE))","v":0},{"$f":"IF(Data!$W16<MIN(Panely!$A$9:$A$28),VLOOKUP(Data!$W16,tabulka_kce_def,AA$1-20,FALSE),VLOOKUP(Data!$W16,tabulka_panely_def,AA$1-18,FALSE))","v":0},{"$f":"IF(Data!$W16<MIN(Panely!$A$9:$A$28),VLOOKUP(Data!$W16,tabulka_kce_def,AB$1-20,FALSE),VLOOKUP(Data!$W16,tabulka_panely_def,AB$1-18,FALSE))","v":0},{"$f":"IF(Data!$W16<MIN(Panely!$A$9:$A$28),VLOOKUP(Data!$W16,tabulka_kce_def,AC$1-20,FALSE),VLOOKUP(Data!$W16,tabulka_panely_def,AC$1-18,FALSE))","v":14.9},{"$f":"IF(Data!$W16<MIN(Panely!$A$9:$A$28),VLOOKUP(Data!$W16,tabulka_kce_def,AD$1-20,FALSE),VLOOKUP(Data!$W16,tabulka_panely_def,AD$1-18,FALSE))","v":0},{"$f":"IF(Data!$W16<MIN(Panely!$A$9:$A$28),VLOOKUP(Data!$W16,tabulka_kce_def,AE$1-20,FALSE),VLOOKUP(Data!$W16,tabulka_panely_def,AE$1-18,FALSE))","v":0},{"$f":"IF(Data!$W16<MIN(Panely!$A$9:$A$28),VLOOKUP(Data!$W16,tabulka_kce_def,AF$1-20,FALSE),VLOOKUP(Data!$W16,tabulka_panely_def,AF$1-18,FALSE))","v":0},{"$f":"IF(Data!$W16<MIN(Panely!$A$9:$A$28),VLOOKUP(Data!$W16,tabulka_kce_def,AG$1-20,FALSE),VLOOKUP(Data!$W16,tabulka_panely_def,AG$1-18,FALSE))","v":2.4},{"$f":"IF(Data!$W16<MIN(Panely!$A$9:$A$28),VLOOKUP(Data!$W16,tabulka_kce_def,AH$1-20,FALSE),VLOOKUP(Data!$W16,tabulka_panely_def,AH$1-18,FALSE))","v":0},{"$f":"IF(Data!$W16<MIN(Panely!$A$9:$A$28),VLOOKUP(Data!$W16,tabulka_kce_def,AI$1-20,FALSE),VLOOKUP(Data!$W16,tabulka_panely_def,AI$1-18,FALSE))","v":14.9},{"$f":"IF(Data!$W16<MIN(Panely!$A$9:$A$28),VLOOKUP(Data!$W16,tabulka_kce_def,AJ$1-20,FALSE),VLOOKUP(Data!$W16,tabulka_panely_def,AJ$1-18,FALSE))","v":2.4},{"$f":"IF(Data!$W16<MIN(Panely!$A$9:$A$28),VLOOKUP(Data!$W16,tabulka_kce_def,AK$1-20,FALSE),VLOOKUP(Data!$W16,tabulka_panely_def,AK$1-18,FALSE))","v":0},{"$f":"IF(Data!$W16<MIN(Panely!$A$9:$A$28),VLOOKUP(Data!$W16,tabulka_kce_def,AL$1-20,FALSE),VLOOKUP(Data!$W16,tabulka_panely_def,AL$1-18,FALSE))","v":14.9},{"$f":"IF(Data!$W16<MIN(Panely!$A$9:$A$28),VLOOKUP(Data!$W16,tabulka_kce_def,AM$1-20,FALSE),VLOOKUP(Data!$W16,tabulka_panely_def,AM$1-18,FALSE))","v":2.4},16,{"$f":"IF(Data!$W16<MIN(Panely!$A$9:$A$28),VLOOKUP(Data!$W16,tabulka_kce_def,63,FALSE),0)","v":1},{"$f":"IF(Data!$W16<MIN(Panely!$A$9:$A$28),VLOOKUP(Data!$W16,tabulka_kce_def,28,FALSE),1)","v":1},{"$f":"IF(Data!$W16<MIN(Panely!$A$9:$A$28),VLOOKUP(Data!$W16,tabulka_kce_def,23,FALSE),VLOOKUP(Data!$W16,tabulka_panely_def,24,FALSE))","v":20.887937951028093},null,{"$f":"IF(ISERROR(AR16*(273.15+AQ16)^4),0,AR16*((273.15+AQ16)^4))","v":0},{"$f":"(((1/SUM(AR16:AR190))*SUM(AS16:AS190))^0.25)-273.15","v":{"$error":"#DIV/0!"}},{"$f":"IF(ISERROR(MID(VLOOKUP($W16,tabulka_kce_def,2,FALSE),1,3)=\"ooz\"),0,IF(MID(VLOOKUP($W16,tabulka_kce_def,2,FALSE),1,3)=\"ooz\",1,0))","v":0},{"$f":"IF(ISERROR(MID(VLOOKUP($W16,tabulka_kce_def,60,FALSE),1,1)=\"f\"),0,IF(MID(VLOOKUP($W16,tabulka_kce_def,60,FALSE),1,1)=\"f\",1,0))","v":0},{"$f":"VALUE(VLOOKUP($W16,tabulka_kce_def,61,FALSE))","v":{"$error":"#VALUE!"}},{"$f":"IF(AV16=1,IF(MID(VLOOKUP(AW16,tabulka_kce_def,2,FALSE),1,3)=\"ooz\",1,0),0)","v":0},{"$f":"IF(AND(W16>MAX(Konstrukce!A:A),ISNUMBER(W16)),1,0)","v":0}]
[null,15,{"$f":"IF(Data!$B17<MIN(Panely!$A$9:$A$28),VLOOKUP(Data!$B17,tabulka_kce_def,4,FALSE),VLOOKUP(Data!$B17,tabulka_panely_def,4,FALSE))","v":"s3"},{"$f":"IF(Data!$B17<MIN(Panely!$A$9:$A$28),VLOOKUP(Data!$B17,tabulka_kce_def,23,FALSE),VLOOKUP(Data!$B17,tabulka_panely_def,24,FALSE))","v":20.414810717622299},{"$f":"IF(Data!$B17<MIN(Panely!$A$9:$A$28),VLOOKUP(Data!$B17,tabulka_kce_def,21,FALSE),VLOOKUP(Data!$B17,tabulka_panely_def,22,FALSE))","v":9},{"$f":"IF(Data!$B17<MIN(Panely!$A$9:$A$28),VLOOKUP(Data!$B17,tabulka_kce_def,26,FALSE),VLOOKUP(Data!$B17,tabulka_panely_def,31,FALSE))","v":1.8442687983343351},{"$f":"IF(Data!$B17<MIN(Panely!$A$9:$A$28),VLOOKUP(Data!$B17,tabulka_kce_def,27,FALSE),VLOOKUP(Data!$B17,tabulka_panely_def,32,FALSE))","v":2.0991092982937745},{"$f":"IF(VLOOKUP(Data!$B17,tabulka_kce_def,3,FALSE)=\"\",Konstrukce!$G$1,IF(VLOOKUP(Data!$B17,tabulka_kce_def,3,FALSE)=\"z\",Konstrukce!$G$2,VLOOKUP(Data!$B17,tabulka_kce_def,3,FALSE)))","v":18},{"$f":"IF(Data!$B17<MIN(Panely!$A$9:$A$28),0,VLOOKUP(Data!$B17,tabulka_panely_def,25,FALSE))","v":0},{"$f":"IF(Data!$B17<MIN(Panely!$A$9:$A$28),VLOOKUP(Data!$B17,tabulka_kce_def,24,FALSE),VLOOKUP(Data!$B17,tabulka_panely_def,33,FALSE))","v":0.9},{"$f":"Konstrukce!$D$1","v":18.770175404064034},{"$f":"Konstrukce!$D$2","v":19.934229593106764},{"$f":"Konstrukce!$G$1","v":-12},{"$f":"IF(Data!$B17<MIN(Panely!$A$9:$A$28),VLOOKUP(Data!$B17,tabulka_kce_def,59,FALSE),VLOOKUP(Data!$B17,tabulka_panely_def,63,FALSE))","v":"s"},{"$f":"IF(Data!$B17<MIN(Panely!$A$9:$A$28),VLOOKUP(Data!$B17,tabulka_kce_def,60,FALSE),VLOOKUP(Data!$B17,tabulka_panely_def,64,FALSE))","v":""},{"$f":"IF(Data!$B17<MIN(Panely!$A$9:$A$28),VLOOKUP(Data!$B17,tabulka_kce_def,61,FALSE),VLOOKUP(Data!$B17,tabulka_panely_def,65,FALSE))","v":""},{"$f":"IF(Data!$B17<MIN(Panely!$A$9:$A$28),VLOOKUP(Data!$B17,tabulka_kce_def,25,FALSE),0)","v":0.7834580448610543},20.414810717622299,null,null,null,null,2,{"$f":"IF(Data!$W17<MIN(Panely!$A$9:$A$28),VLOOKUP(Data!$W17,tabulka_kce_def,62,FALSE),VLOOKUP(Data!$W17,tabulka_panely_def,65,FALSE))","v":"1"},{"$f":"IF(Data!$W17<MIN(Panely!$A$9:$A$28),VLOOKUP(Data!$W17,tabulka_kce_def,Y$1-20,FALSE),VLOOKUP(Data!$W17,tabulka_panely_def,Y$1-18,FALSE))","v":0},{"$f":"IF(Data!$W17<MIN(Panely!$A$9:$A$28),VLOOKUP(Data!$W17,tabulka_kce_def,Z$1-20,FALSE),VLOOKUP(Data!$W17,tabulka_panely_def,Z$1-18,FALSE))","v":6.95},{"$f":"IF(Data!$W17<MIN(Panely!$A$9:$A$28),VLOOKUP(Data!$W17,tabulka_kce_def,AA$1-20,FALSE),VLOOKUP(Data!$W17,tabulka_panely_def,AA$1-18,FALSE))","v":0},{"$f":"IF(Data!$W17<MIN(Panely!$A$9:$A$28),VLOOKUP(Data!$W17,tabulka_kce_def,AB$1-20,FALSE),VLOOKUP(Data!$W17,tabulka_panely_def,AB$1-18,FALSE))","v":0},{"$f":"IF(Data!$W17<MIN(Panely!$A$9:$A$28),VLOOKUP(Data!$W17,tabulka_kce_def,AC$1-20,FALSE),VLOOKUP(Data!$W17,tabulka_panely_def,AC$1-18,FALSE))","v":7.85},{"$f":"IF(Data!$W17<MIN(Panely!$A$9:$A$28),VLOOKUP(Data!$W17,tabulka_kce_def,AD$1-20,FALSE),VLOOKUP(Data!$W17,tabulka_panely_def,AD$1-18,FALSE))","v":0},{"$f":"IF(Data!$W17<MIN(Panely!$A$9:$A$28),VLOOKUP(Data!$W17,tabulka_kce_def,AE$1-20,FALSE),VLOOKUP(Data!$W17,tabulka_panely_def,AE$1-18,FALSE))","v":0},{"$f":"IF(Data!$W17<MIN(Panely!$A$9:$A$28),VLOOKUP(Data!$W17,tabulka_kce_def,AF$1-20,FALSE),VLOOKUP(Data!$W17,tabulka_panely_def,AF$1-18,FALSE))","v":6.95},{"$f":"IF(Data!$W17<MIN(Panely!$A$9:$A$28),VLOOKUP(Data!$W17,tabulka_kce_def,AG$1-20,FALSE),VLOOKUP(Data!$W17,tabulka_panely_def,AG$1-18,FALSE))","v":2},{"$f":"IF(Data!$W17<MIN(Panely!$A$9:$A$28),VLOOKUP(Data!$W17,tabulka_kce_def,AH$1-20,FALSE),VLOOKUP(Data!$W17,tabulka_panely_def,AH$1-18,FALSE))","v":0},{"$f":"IF(Data!$W17<MIN(Panely!$A$9:$A$28),VLOOKUP(Data!$W17,tabulka_kce_def,AI$1-20,FALSE),VLOOKUP(Data!$W17,tabulka_panely_def,AI$1-18,FALSE))","v":7.85},{"$f":"IF(Data!$W17<MIN(Panely!$A$9:$A$28),VLOOKUP(Data!$W17,tabulka_kce_def,AJ$1-20,FALSE),VLOOKUP(Data!$W17,tabulka_panely_def,AJ$1-18,FALSE))","v":2},{"$f":"IF(Data!$W17<MIN(Panely!$A$9:$A$28),VLOOKUP(Data!$W17,tabulka_kce_def,AK$1-20,FALSE),VLOOKUP(Data!$W17,tabulka_panely_def,AK$1-18,FALSE))","v":0},{"$f":"IF(Data!$W17<MIN(Panely!$A$9:$A$28),VLOOKUP(Data!$W17,tabulka_kce_def,AL$1-20,FALSE),VLOOKUP(Data!$W17,tabulka_panely_def,AL$1-18,FALSE))","v":0.89999999999999947},{"$f":"IF(Data!$W17<MIN(Panely!$A$9:$A$28),VLOOKUP(Data!$W17,tabulka_kce_def,AM$1-20,FALSE),VLOOKUP(Data!$W17,tabulka_panely_def,AM$1-18,FALSE))","v":2},{"$f":"AN16+1","v":17},{"$f":"IF(Data!$W17<MIN(Panely!$A$9:$A$28),VLOOKUP(Data!$W17,tabulka_kce_def,63,FALSE),0)","v":0},{"$f":"IF(Data!$W17<MIN(Panely!$A$9:$A$28),VLOOKUP(Data!$W17,tabulka_kce_def,28,FALSE),1)","v":1},{"$f":"IF(Data!$W17<MIN(Panely!$A$9:$A$28),VLOOKUP(Data!$W17,tabulka_kce_def,23,FALSE),VLOOKUP(Data!$W17,tabulka_panely_def,24,FALSE))","v":14.304531036006335},null,{"$f":"IF(ISERROR(AR17*(273.15+AQ17)^4),0,AR17*((273.15+AQ17)^4))","v":0},null,1,0,{"$error":"#VALUE!"},0,{"$f":"IF(AND(W17>MAX(Konstrukce!A:A),ISNUMBER(W17)),1,0)","v":0}]
[null,16,{"$f":"IF(Data!$B18<MIN(Panely!$A$9:$A$28),VLOOKUP(Data!$B18,tabulka_kce_def,4,FALSE),VLOOKUP(Data!$B18,tabulka_panely_def,4,FALSE))","v":"s3"},{"$f":"IF(Data!$B18<MIN(Panely!$A$9:$A$28),VLOOKUP(Data!$B18,tabulka_kce_def,23,FALSE),VLOOKUP(Data!$B18,tabulka_panely_def,24,FALSE))","v":20.608738062670845},{"$f":"IF(Data!$B18<MIN(Panely!$A$9:$A$28),VLOOKUP(Data!$B18,tabulka_kce_def,21,FALSE),VLOOKUP(Data!$B18,tabulka_panely_def,22,FALSE))","v":36.295000000000002},{"$f":"IF(Data!$B18<MIN(Panely!$A$9:$A$28),VLOOKUP(Data!$B18,tabulka_kce_def,26,FALSE),VLOOKUP(Data!$B18,tabulka_panely_def,31,FALSE))","v":1.9138705148988384},{"$f":"IF(Data!$B18<MIN(Panely!$A$9:$A$28),VLOOKUP(Data!$B18,tabulka_kce_def,27,FALSE),VLOOKUP(Data!$B18,tabulka_panely_def,32,FALSE))","v":3.9633345569439613},{"$f":"IF(VLOOKUP(Data!$B18,tabulka_kce_def,3,FALSE)=\"\",Konstrukce!$G$1,IF(VLOOKUP(Data!$B18,tabulka_kce_def,3,FALSE)=\"z\",Konstrukce!$G$2,VLOOKUP(Data!$B18,tabulka_kce_def,3,FALSE)))","v":5},{"$f":"IF(Data!$B18<MIN(Panely!$A$9:$A$28),0,VLOOKUP(Data!$B18,tabulka_panely_def,25,FALSE))","v":0},{"$f":"IF(Data!$B18<MIN(Panely!$A$9:$A$28),VLOOKUP(Data!$B18,tabulka_kce_def,24,FALSE),VLOOKUP(Data!$B18,tabulka_panely_def,33,FALSE))","v":0.9},{"$f":"Konstrukce!$D$1","v":18.770175404064034},{"$f":"Konstrukce!$D$2","v":19.934229593106764},{"$f":"Konstrukce!$G$1","v":-12},{"$f":"IF(Data!$B18<MIN(Panely!$A$9:$A$28),VLOOKUP(Data!$B18,tabulka_kce_def,59,FALSE),VLOOKUP(Data!$B18,tabulka_panely_def,63,FALSE))","v":"s"},{"$f":"IF(Data!$B18<MIN(Panely!$A$9:$A$28),VLOOKUP(Data!$B18,tabulka_kce_def,60,FALSE),VLOOKUP(Data!$B18,tabulka_panely_def,64,FALSE))","v":""},{"$f":"IF(Data!$B18<MIN(Panely!$A$9:$A$28),VLOOKUP(Data!$B18,tabulka_kce_def,61,FALSE),VLOOKUP(Data!$B18,tabulka_panely_def,65,FALSE))","v":""},{"$f":"IF(Data!$B18<MIN(Panely!$A$9:$A$28),VLOOKUP(Data!$B18,tabulka_kce_def,25,FALSE),0)","v":0.57067437142103994},20.608738062670845,null,null,null,null,3,{"$f":"IF(Data!$W18<MIN(Panely!$A$9:$A$28),VLOOKUP(Data!$W18,tabulka_kce_def,62,FALSE),VLOOKUP(Data!$W18,tabulka_panely_def,65,FALSE))","v":"1"},{"$f":"IF(Data!$W18<MIN(Panely!$A$9:$A$28),VLOOKUP(Data!$W18,tabulka_kce_def,Y$1-20,FALSE),VLOOKUP(Data!$W18,tabulka_panely_def,Y$1-18,FALSE))","v":0},{"$f":"IF(Data!$W18<MIN(Panely!$A$9:$A$28),VLOOKUP(Data!$W18,tabulka_kce_def,Z$1-20,FALSE),VLOOKUP(Data!$W18,tabulka_panely_def,Z$1-18,FALSE))","v":0},{"$f":"IF(Data!$W18<MIN(Panely!$A$9:$A$28),VLOOKUP(Data!$W18,tabulka_kce_def,AA$1-20,FALSE),VLOOKUP(Data!$W18,tabulka_panely_def,AA$1-18,FALSE))","v":2.4},{"$f":"IF(Data!$W18<MIN(Panely!$A$9:$A$28),VLOOKUP(Data!$W18,tabulka_kce_def,AB$1-20,FALSE),VLOOKUP(Data!$W18,tabulka_panely_def,AB$1-18,FALSE))","v":0},{"$f":"IF(Data!$W18<MIN(Panely!$A$9:$A$28),VLOOKUP(Data!$W18,tabulka_kce_def,AC$1-20,FALSE),VLOOKUP(Data!$W18,tabulka_panely_def,AC$1-18,FALSE))","v":14.9},{"$f":"IF(Data!$W18<MIN(Panely!$A$9:$A$28),VLOOKUP(Data!$W18,tabulka_kce_def,AD$1-20,FALSE),VLOOKUP(Data!$W18,tabulka_panely_def,AD$1-18,FALSE))","v":2.4},{"$f":"IF(Data!$W18<MIN(Panely!$A$9:$A$28),VLOOKUP(Data!$W18,tabulka_kce_def,AE$1-20,FALSE),VLOOKUP(Data!$W18,tabulka_panely_def,AE$1-18,FALSE))","v":0},{"$f":"IF(Data!$W18<MIN(Panely!$A$9:$A$28),VLOOKUP(Data!$W18,tabulka_kce_def,AF$1-20,FALSE),VLOOKUP(Data!$W18,tabulka_panely_def,AF$1-18,FALSE))","v":0},{"$f":"IF(Data!$W18<MIN(Panely!$A$9:$A$28),VLOOKUP(Data!$W18,tabulka_kce_def,AG$1-20,FALSE),VLOOKUP(Data!$W18,tabulka_panely_def,AG$1-18,FALSE))","v":5.95},{"$f":"IF(Data!$W18<MIN(Panely!$A$9:$A$28),VLOOKUP(Data!$W18,tabulka_kce_def,AH$1-20,FALSE),VLOOKUP(Data!$W18,tabulka_panely_def,AH$1-18,FALSE))","v":0},{"$f":"IF(Data!$W18<MIN(Panely!$A$9:$A$28),VLOOKUP(Data!$W18,tabulka_kce_def,AI$1-20,FALSE),VLOOKUP(Data!$W18,tabulka_panely_def,AI$1-18,FALSE))","v":14.9},{"$f":"IF(Data!$W18<MIN(Panely!$A$9:$A$28),VLOOKUP(Data!$W18,tabulka_kce_def,AJ$1-20,FALSE),VLOOKUP(Data!$W18,tabulka_panely_def,AJ$1-18,FALSE))","v":5.95},{"$f":"IF(Data!$W18<MIN(Panely!$A$9:$A$28),VLOOKUP(Data!$W18,tabulka_kce_def,AK$1-20,FALSE),VLOOKUP(Data!$W18,tabulka_panely_def,AK$1-18,FALSE))","v":0},{"$f":"IF(Data!$W18<MIN(Panely!$A$9:$A$28),VLOOKUP(Data!$W18,tabulka_kce_def,AL$1-20,FALSE),VLOOKUP(Data!$W18,tabulka_panely_def,AL$1-18,FALSE))","v":14.9},{"$f":"IF(Data!$W18<MIN(Panely!$A$9:$A$28),VLOOKUP(Data!$W18,tabulka_kce_def,AM$1-20,FALSE),VLOOKUP(Data!$W18,tabulka_panely_def,AM$1-18,FALSE))","v":3.5500000000000003},{"$f":"AN17+1","v":18},{"$f":"IF(Data!$W18<MIN(Panely!$A$9:$A$28),VLOOKUP(Data!$W18,tabulka_kce_def,63,FALSE),0)","v":0},{"$f":"IF(Data!$W18<MIN(Panely!$A$9:$A$28),VLOOKUP(Data!$W18,tabulka_kce_def,28,FALSE),1)","v":1},{"$f":"IF(Data!$W18<MIN(Panely!$A$9:$A$28),VLOOKUP(Data!$W18,tabulka_kce_def,23,FALSE),VLOOKUP(Data!$W18,tabulka_panely_def,24,FALSE))","v":21.384327530246765},null,0,null,0,0,{"$error":"#VALUE!"},0,{"$f":"IF(AND(W18>MAX(Konstrukce!A:A),ISNUMBER(W18)),1,0)","v":0}]
[null,17,{"$f":"IF(Data!$B19<MIN(Panely!$A$9:$A$28),VLOOKUP(Data!$B19,tabulka_kce_def,4,FALSE),VLOOKUP(Data!$B19,tabulka_panely_def,4,FALSE))","v":"s5"},{"$f":"IF(Data!$B19<MIN(Panely!$A$9:$A$28),VLOOKUP(Data!$B19,tabulka_kce_def,23,FALSE),VLOOKUP(Data!$B19,tabulka_panely_def,24,FALSE))","v":21.5895425358853},{"$f":"IF(Data!$B19<MIN(Panely!$A$9:$A$28),VLOOKUP(Data!$B19,tabulka_kce_def,21,FALSE),VLOOKUP(Data!$B19,tabulka_panely_def,22,FALSE))","v":536.4},{"$f":"IF(Data!$B19<MIN(Panely!$A$9:$A$28),VLOOKUP(Data!$B19,tabulka_kce_def,26,FALSE),VLOOKUP(Data!$B19,tabulka_panely_def,31,FALSE))","v":2.4508621286141401},{"$f":"IF(Data!$B19<MIN(Panely!$A$9:$A$28),VLOOKUP(Data!$B19,tabulka_kce_def,27,FALSE),VLOOKUP(Data!$B19,tabulka_panely_def,32,FALSE))","v":1000000000000000},{"$f":"IF(VLOOKUP(Data!$B19,tabulka_kce_def,3,FALSE)=\"\",Konstrukce!$G$1,IF(VLOOKUP(Data!$B19,tabulka_kce_def,3,FALSE)=\"z\",Konstrukce!$G$2,VLOOKUP(Data!$B19,tabulka_kce_def,3,FALSE)))","v":5},{"$f":"IF(Data!$B19<MIN(Panely!$A$9:$A$28),0,VLOOKUP(Data!$B19,tabulka_panely_def,25,FALSE))","v":0},{"$f":"IF(Data!$B19<MIN(Panely!$A$9:$A$28),VLOOKUP(Data!$B19,tabulka_kce_def,24,FALSE),VLOOKUP(Data!$B19,tabulka_panely_def,33,FALSE))","v":0.9},{"$f":"Konstrukce!$D$1","v":18.770175404064034},{"$f":"Konstrukce!$D$2","v":19.934229593106764},{"$f":"Konstrukce!$G$1","v":-12},{"$f":"IF(Data!$B19<MIN(Panely!$A$9:$A$28),VLOOKUP(Data!$B19,tabulka_kce_def,59,FALSE),VLOOKUP(Data!$B19,tabulka_panely_def,63,FALSE))","v":"s"},{"$f":"IF(Data!$B19<MIN(Panely!$A$9:$A$28),VLOOKUP(Data!$B19,tabulka_kce_def,60,FALSE),VLOOKUP(Data!$B19,tabulka_panely_def,64,FALSE))","v":""},{"$f":"IF(Data!$B19<MIN(Panely!$A$9:$A$28),VLOOKUP(Data!$B19,tabulka_kce_def,61,FALSE),VLOOKUP(Data!$B19,tabulka_panely_def,65,FALSE))","v":""},{"$f":"IF(Data!$B19<MIN(Panely!$A$9:$A$28),VLOOKUP(Data!$B19,tabulka_kce_def,25,FALSE),0)","v":0.92592592592592493},21.5895425358853,null,null,null,null,4,{"$f":"IF(Data!$W19<MIN(Panely!$A$9:$A$28),VLOOKUP(Data!$W19,tabulka_kce_def,62,FALSE),VLOOKUP(Data!$W19,tabulka_panely_def,65,FALSE))","v":"4"},{"$f":"IF(Data!$W19<MIN(Panely!$A$9:$A$28),VLOOKUP(Data!$W19,tabulka_kce_def,Y$1-20,FALSE),VLOOKUP(Data!$W19,tabulka_panely_def,Y$1-18,FALSE))","v":0},{"$f":"IF(Data!$W19<MIN(Panely!$A$9:$A$28),VLOOKUP(Data!$W19,tabulka_kce_def,Z$1-20,FALSE),VLOOKUP(Data!$W19,tabulka_panely_def,Z$1-18,FALSE))","v":14.9},{"$f":"IF(Data!$W19<MIN(Panely!$A$9:$A$28),VLOOKUP(Data!$W19,tabulka_kce_def,AA$1-20,FALSE),VLOOKUP(Data!$W19,tabulka_panely_def,AA$1-18,FALSE))","v":0},{"$f":"IF(Data!$W19<MIN(Panely!$A$9:$A$28),VLOOKUP(Data!$W19,tabulka_kce_def,AB$1-20,FALSE),VLOOKUP(Data!$W19,tabulka_panely_def,AB$1-18,FALSE))","v":1.74},{"$f":"IF(Data!$W19<MIN(Panely!$A$9:$A$28),VLOOKUP(Data!$W19,tabulka_kce_def,AC$1-20,FALSE),VLOOKUP(Data!$W19,tabulka_panely_def,AC$1-18,FALSE))","v":14.9},{"$f":"IF(Data!$W19<MIN(Panely!$A$9:$A$28),VLOOKUP(Data!$W19,tabulka_kce_def,AD$1-20,FALSE),VLOOKUP(Data!$W19,tabulka_panely_def,AD$1-18,FALSE))","v":0},{"$f":"IF(Data!$W19<MIN(Panely!$A$9:$A$28),VLOOKUP(Data!$W19,tabulka_kce_def,AE$1-20,FALSE),VLOOKUP(Data!$W19,tabulka_panely_def,AE$1-18,FALSE))","v":0},{"$f":"IF(Data!$W19<MIN(Panely!$A$9:$A$28),VLOOKUP(Data!$W19,tabulka_kce_def,AF$1-20,FALSE),VLOOKUP(Data!$W19,tabulka_panely_def,AF$1-18,FALSE))","v":14.9},{"$f":"IF(Data!$W19<MIN(Panely!$A$9:$A$28),VLOOKUP(Data!$W19,tabulka_kce_def,AG$1-20,FALSE),VLOOKUP(Data!$W19,tabulka_panely_def,AG$1-18,FALSE))","v":2.4},{"$f":"IF(Data!$W19<MIN(Panely!$A$9:$A$28),VLOOKUP(Data!$W19,tabulka_kce_def,AH$1-20,FALSE),VLOOKUP(Data!$W19,tabulka_panely_def,AH$1-18,FALSE))","v":1.74},{"$f":"IF(Data!$W19<MIN(Panely!$A$9:$A$28),VLOOKUP(Data!$W19,tabulka_kce_def,AI$1-20,FALSE),VLOOKUP(Data!$W19,tabulka_panely_def,AI$1-18,FALSE))","v":14.9},{"$f":"IF(Data!$W19<MIN(Panely!$A$9:$A$28),VLOOKUP(Data!$W19,tabulka_kce_def,AJ$1-20,FALSE),VLOOKUP(Data!$W19,tabulka_panely_def,AJ$1-18,FALSE))","v":2.4},{"$f":"IF(Data!$W19<MIN(Panely!$A$9:$A$28),VLOOKUP(Data!$W19,tabulka_kce_def,AK$1-20,FALSE),VLOOKUP(Data!$W19,tabulka_panely_def,AK$1-18,FALSE))","v":1.74},{"$f":"IF(Data!$W19<MIN(Panely!$A$9:$A$28),VLOOKUP(Data!$W19,tabulka_kce_def,AL$1-20,FALSE),VLOOKUP(Data!$W19,tabulka_panely_def,AL$1-18,FALSE))","v":0},{"$f":"IF(Data!$W19<MIN(Panely!$A$9:$A$28),VLOOKUP(Data!$W19,tabulka_kce_def,AM$1-20,FALSE),VLOOKUP(Data!$W19,tabulka_panely_def,AM$1-18,FALSE))","v":2.4},19,{"$f":"IF(Data!$W19<MIN(Panely!$A$9:$A$28),VLOOKUP(Data!$W19,tabulka_kce_def,63,FALSE),0)","v":0},{"$f":"IF(Data!$W19<MIN(Panely!$A$9:$A$28),VLOOKUP(Data!$W19,tabulka_kce_def,28,FALSE),1)","v":1},{"$f":"IF(Data!$W19<MIN(Panely!$A$9:$A$28),VLOOKUP(Data!$W19,tabulka_kce_def,23,FALSE),VLOOKUP(Data!$W19,tabulka_panely_def,24,FALSE))","v":17.48407538624928},null,0,null,0,0,{"$error":"#VALUE!"},0,{"$f":"IF(AND(W19>MAX(Konstrukce!A:A),ISNUMBER(W19)),1,0)","v":0}]
[null,18,{"$f":"IF(Data!$B20<MIN(Panely!$A$9:$A$28),VLOOKUP(Data!$B20,tabulka_kce_def,4,FALSE),VLOOKUP(Data!$B20,tabulka_panely_def,4,FALSE))","v":"s6f28"},{"$f":"IF(Data!$B20<MIN(Panely!$A$9:$A$28),VLOOKUP(Data!$B20,tabulka_kce_def,23,FALSE),VLOOKUP(Data!$B20,tabulka_panely_def,24,FALSE))","v":21.141279371622549},{"$f":"IF(Data!$B20<MIN(Panely!$A$9:$A$28),VLOOKUP(Data!$B20,tabulka_kce_def,21,FALSE),VLOOKUP(Data!$B20,tabulka_panely_def,22,FALSE))","v":446.84999999999997},{"$f":"IF(Data!$B20<MIN(Panely!$A$9:$A$28),VLOOKUP(Data!$B20,tabulka_kce_def,26,FALSE),VLOOKUP(Data!$B20,tabulka_panely_def,31,FALSE))","v":0.55214150739515788},{"$f":"IF(Data!$B20<MIN(Panely!$A$9:$A$28),VLOOKUP(Data!$B20,tabulka_kce_def,27,FALSE),VLOOKUP(Data!$B20,tabulka_panely_def,32,FALSE))","v":23},{"$f":"IF(VLOOKUP(Data!$B20,tabulka_kce_def,3,FALSE)=\"\",Konstrukce!$G$1,IF(VLOOKUP(Data!$B20,tabulka_kce_def,3,FALSE)=\"z\",Konstrukce!$G$2,VLOOKUP(Data!$B20,tabulka_kce_def,3,FALSE)))","v":-12},{"$f":"IF(Data!$B20<MIN(Panely!$A$9:$A$28),0,VLOOKUP(Data!$B20,tabulka_panely_def,25,FALSE))","v":0},{"$f":"IF(Data!$B20<MIN(Panely!$A$9:$A$28),VLOOKUP(Data!$B20,tabulka_kce_def,24,FALSE),VLOOKUP(Data!$B20,tabulka_panely_def,33,FALSE))","v":1},{"$f":"Konstrukce!$D$1","v":18.770175404064034},{"$f":"Konstrukce!$D$2","v":19.934229593106764},{"$f":"Konstrukce!$G$1","v":-12},{"$f":"IF(Data!$B20<MIN(Panely!$A$9:$A$28),VLOOKUP(Data!$B20,tabulka_kce_def,59,FALSE),VLOOKUP(Data!$B20,tabulka_panely_def,63,FALSE))","v":"s"},{"$f":"IF(Data!$B20<MIN(Panely!$A$9:$A$28),VLOOKUP(Data!$B20,tabulka_kce_def,60,FALSE),VLOOKUP(Data!$B20,tabulka_panely_def,64,FALSE))","v":"f"},{"$f":"IF(Data!$B20<MIN(Panely!$A$9:$A$28),VLOOKUP(Data!$B20,tabulka_kce_def,61,FALSE),VLOOKUP(Data!$B20,tabulka_panely_def,65,FALSE))","v":"28"},{"$f":"IF(Data!$B20<MIN(Panely!$A$9:$A$28),VLOOKUP(Data!$B20,tabulka_kce_def,25,FALSE),0)","v":23},21.141279371622549,null,null,null,null,5,{"$f":"IF(Data!$W20<MIN(Panely!$A$9:$A$28),VLOOKUP(Data!$W20,tabulka_kce_def,62,FALSE),VLOOKUP(Data!$W20,tabulka_panely_def,65,FALSE))","v":"4"},{"$f":"IF(Data!$W20<MIN(Panely!$A$9:$A$28),VLOOKUP(Data!$W20,tabulka_kce_def,Y$1-20,FALSE),VLOOKUP(Data!$W20,tabulka_panely_def,Y$1-18,FALSE))","v":0},{"$f":"IF(Data!$W20<MIN(Panely!$A$9:$A$28),VLOOKUP(Data!$W20,tabulka_kce_def,Z$1-20,FALSE),VLOOKUP(Data!$W20,tabulka_panely_def,Z$1-18,FALSE))","v":14.9},{"$f":"IF(Data!$W20<MIN(Panely!$A$9:$A$28),VLOOKUP(Data!$W20,tabulka_kce_def,AA$1-20,FALSE),VLOOKUP(Data!$W20,tabulka_panely_def,AA$1-18,FALSE))","v":2.4},{"$f":"IF(Data!$W20<MIN(Panely!$A$9:$A$28),VLOOKUP(Data!$W20,tabulka_kce_def,AB$1-20,FALSE),VLOOKUP(Data!$W20,tabulka_panely_def,AB$1-18,FALSE))","v":1.74},{"$f":"IF(Data!$W20<MIN(Panely!$A$9:$A$28),VLOOKUP(Data!$W20,tabulka_kce_def,AC$1-20,FALSE),VLOOKUP(Data!$W20,tabulka_panely_def,AC$1-18,FALSE))","v":14.9},{"$f":"IF(Data!$W20<MIN(Panely!$A$9:$A$28),VLOOKUP(Data!$W20,tabulka_kce_def,AD$1-20,FALSE),VLOOKUP(Data!$W20,tabulka_panely_def,AD$1-18,FALSE))","v":2.4},{"$f":"IF(Data!$W20<MIN(Panely!$A$9:$A$28),VLOOKUP(Data!$W20,tabulka_kce_def,AE$1-20,FALSE),VLOOKUP(Data!$W20,tabulka_panely_def,AE$1-18,FALSE))","v":0},{"$f":"IF(Data!$W20<MIN(Panely!$A$9:$A$28),VLOOKUP(Data!$W20,tabulka_kce_def,AF$1-20,FALSE),VLOOKUP(Data!$W20,tabulka_panely_def,AF$1-18,FALSE))","v":14.9},{"$f":"IF(Data!$W20<MIN(Panely!$A$9:$A$28),VLOOKUP(Data!$W20,tabulka_kce_def,AG$1-20,FALSE),VLOOKUP(Data!$W20,tabulka_panely_def,AG$1-18,FALSE))","v":5.95},{"$f":"IF(Data!$W20<MIN(Panely!$A$9:$A$28),VLOOKUP(Data!$W20,tabulka_kce_def,AH$1-20,FALSE),VLOOKUP(Data!$W20,tabulka_panely_def,AH$1-18,FALSE))","v":1.74},{"$f":"IF(Data!$W20<MIN(Panely!$A$9:$A$28),VLOOKUP(Data!$W20,tabulka_kce_def,AI$1-20,FALSE),VLOOKUP(Data!$W20,tabulka_panely_def,AI$1-18,FALSE))","v":14.9},{"$f":"IF(Data!$W20<MIN(Panely!$A$9:$A$28),VLOOKUP(Data!$W20,tabulka_kce_def,AJ$1-20,FALSE),VLOOKUP(Data!$W20,tabulka_panely_def,AJ$1-18,FALSE))","v":5.95},{"$f":"IF(Data!$W20<MIN(Panely!$A$9:$A$28),VLOOKUP(Data!$W20,tabulka_kce_def,AK$1-20,FALSE),VLOOKUP(Data!$W20,tabulka_panely_def,AK$1-18,FALSE))","v":1.74},{"$f":"IF(Data!$W20<MIN(Panely!$A$9:$A$28),VLOOKUP(Data!$W20,tabulka_kce_def,AL$1-20,FALSE),VLOOKUP(Data!$W20,tabulka_panely_def,AL$1-18,FALSE))","v":0},{"$f":"IF(Data!$W20<MIN(Panely!$A$9:$A$28),VLOOKUP(Data!$W20,tabulka_kce_def,AM$1-20,FALSE),VLOOKUP(Data!$W20,tabulka_panely_def,AM$1-18,FALSE))","v":3.5500000000000003},20,{"$f":"IF(Data!$W20<MIN(Panely!$A$9:$A$28),VLOOKUP(Data!$W20,tabulka_kce_def,63,FALSE),0)","v":0},{"$f":"IF(Data!$W20<MIN(Panely!$A$9:$A$28),VLOOKUP(Data!$W20,tabulka_kce_def,28,FALSE),1)","v":1},{"$f":"IF(Data!$W20<MIN(Panely!$A$9:$A$28),VLOOKUP(Data!$W20,tabulka_kce_def,23,FALSE),VLOOKUP(Data!$W20,tabulka_panely_def,24,FALSE))","v":17.743820353951094},null,0,null,0,0,{"$error":"#VALUE!"},0,{"$f":"IF(AND(W20>MAX(Konstrukce!A:A),ISNUMBER(W20)),1,0)","v":0}]
[null,19,{"$f":"IF(Data!$B21<MIN(Panely!$A$9:$A$28),VLOOKUP(Data!$B21,tabulka_kce_def,4,FALSE),VLOOKUP(Data!$B21,tabulka_panely_def,4,FALSE))","v":"s6f29"},{"$f":"IF(Data!$B21<MIN(Panely!$A$9:$A$28),VLOOKUP(Data!$B21,tabulka_kce_def,23,FALSE),VLOOKUP(Data!$B21,tabulka_panely_def,24,FALSE))","v":12.23382597159998},{"$f":"IF(Data!$B21<MIN(Panely!$A$9:$A$28),VLOOKUP(Data!$B21,tabulka_kce_def,21,FALSE),VLOOKUP(Data!$B21,tabulka_panely_def,22,FALSE))","v":89.550000000000011},{"$f":"IF(Data!$B21<MIN(Panely!$A$9:$A$28),VLOOKUP(Data!$B21,tabulka_kce_def,26,FALSE),VLOOKUP(Data!$B21,tabulka_panely_def,31,FALSE))","v":1.0015880731104128},{"$f":"IF(Data!$B21<MIN(Panely!$A$9:$A$28),VLOOKUP(Data!$B21,tabulka_kce_def,27,FALSE),VLOOKUP(Data!$B21,tabulka_panely_def,32,FALSE))","v":23},{"$f":"IF(VLOOKUP(Data!$B21,tabulka_kce_def,3,FALSE)=\"\",Konstrukce!$G$1,IF(VLOOKUP(Data!$B21,tabulka_kce_def,3,FALSE)=\"z\",Konstrukce!$G$2,VLOOKUP(Data!$B21,tabulka_kce_def,3,FALSE)))","v":-12},{"$f":"IF(Data!$B21<MIN(Panely!$A$9:$A$28),0,VLOOKUP(Data!$B21,tabulka_panely_def,25,FALSE))","v":0},{"$f":"IF(Data!$B21<MIN(Panely!$A$9:$A$28),VLOOKUP(Data!$B21,tabulka_kce_def,24,FALSE),VLOOKUP(Data!$B21,tabulka_panely_def,33,FALSE))","v":1},{"$f":"Konstrukce!$D$1","v":18.770175404064034},{"$f":"Konstrukce!$D$2","v":19.934229593106764},{"$f":"Konstrukce!$G$1","v":-12},{"$f":"IF(Data!$B21<MIN(Panely!$A$9:$A$28),VLOOKUP(Data!$B21,tabulka_kce_def,59,FALSE),VLOOKUP(Data!$B21,tabulka_panely_def,63,FALSE))","v":"s"},{"$f":"IF(Data!$B21<MIN(Panely!$A$9:$A$28),VLOOKUP(Data!$B21,tabulka_kce_def,60,FALSE),VLOOKUP(Data!$B21,tabulka_panely_def,64,FALSE))","v":"f"},{"$f":"IF(Data!$B21<MIN(Panely!$A$9:$A$28),VLOOKUP(Data!$B21,tabulka_kce_def,61,FALSE),VLOOKUP(Data!$B21,tabulka_panely_def,65,FALSE))","v":"29"},{"$f":"IF(Data!$B21<MIN(Panely!$A$9:$A$28),VLOOKUP(Data!$B21,tabulka_kce_def,25,FALSE),0)","v":23},12.23382597159998,null,null,null,null,6,{"$f":"IF(Data!$W21<MIN(Panely!$A$9:$A$28),VLOOKUP(Data!$W21,tabulka_kce_def,62,FALSE),VLOOKUP(Data!$W21,tabulka_panely_def,65,FALSE))","v":"4"},{"$f":"IF(Data!$W21<MIN(Panely!$A$9:$A$28),VLOOKUP(Data!$W21,tabulka_kce_def,Y$1-20,FALSE),VLOOKUP(Data!$W21,tabulka_panely_def,Y$1-18,FALSE))","v":1.74},{"$f":"IF(Data!$W21<MIN(Panely!$A$9:$A$28),VLOOKUP(Data!$W21,tabulka_kce_def,Z$1-20,FALSE),VLOOKUP(Data!$W21,tabulka_panely_def,Z$1-18,FALSE))","v":14.9},{"$f":"IF(Data!$W21<MIN(Panely!$A$9:$A$28),VLOOKUP(Data!$W21,tabulka_kce_def,AA$1-20,FALSE),VLOOKUP(Data!$W21,tabulka_panely_def,AA$1-18,FALSE))","v":0},{"$f":"IF(Data!$W21<MIN(Panely!$A$9:$A$28),VLOOKUP(Data!$W21,tabulka_kce_def,AB$1-20,FALSE),VLOOKUP(Data!$W21,tabulka_panely_def,AB$1-18,FALSE))","v":36},{"$f":"IF(Data!$W21<MIN(Panely!$A$9:$A$28),VLOOKUP(Data!$W21,tabulka_kce_def,AC$1-20,FALSE),VLOOKUP(Data!$W21,tabulka_panely_def,AC$1-18,FALSE))","v":14.9},{"$f":"IF(Data!$W21<MIN(Panely!$A$9:$A$28),VLOOKUP(Data!$W21,tabulka_kce_def,AD$1-20,FALSE),VLOOKUP(Data!$W21,tabulka_panely_def,AD$1-18,FALSE))","v":0},{"$f":"IF(Data!$W21<MIN(Panely!$A$9:$A$28),VLOOKUP(Data!$W21,tabulka_kce_def,AE$1-20,FALSE),VLOOKUP(Data!$W21,tabulka_panely_def,AE$1-18,FALSE))","v":1.74},{"$f":"IF(Data!$W21<MIN(Panely!$A$9:$A$28),VLOOKUP(Data!$W21,tabulka_kce_def,AF$1-20,FALSE),VLOOKUP(Data!$W21,tabulka_panely_def,AF$1-18,FALSE))","v":14.9},{"$f":"IF(Data!$W21<MIN(Panely!$A$9:$A$28),VLOOKUP(Data!$W21,tabulka_kce_def,AG$1-20,FALSE),VLOOKUP(Data!$W21,tabulka_panely_def,AG$1-18,FALSE))","v":2.4},{"$f":"IF(Data!$W21<MIN(Panely!$A$9:$A$28),VLOOKUP(Data!$W21,tabulka_kce_def,AH$1-20,FALSE),VLOOKUP(Data!$W21,tabulka_panely_def,AH$1-18,FALSE))","v":36},{"$f":"IF(Data!$W21<MIN(Panely!$A$9:$A$28),VLOOKUP(Data!$W21,tabulka_kce_def,AI$1-20,FALSE),VLOOKUP(Data!$W21,tabulka_panely_def,AI$1-18,FALSE))","v":14.9},{"$f":"IF(Data!$W21<MIN(Panely!$A$9:$A$28),VLOOKUP(Data!$W21,tabulka_kce_def,AJ$1-20,FALSE),VLOOKUP(Data!$W21,tabulka_panely_def,AJ$1-18,FALSE))","v":2.4},{"$f":"IF(Data!$W21<MIN(Panely!$A$9:$A$28),VLOOKUP(Data!$W21,tabulka_kce_def,AK$1-20,FALSE),VLOOKUP(Data!$W21,tabulka_panely_def,AK$1-18,FALSE))","v":34.26},{"$f":"IF(Data!$W21<MIN(Panely!$A$9:$A$28),VLOOKUP(Data!$W21,tabulka_kce_def,AL$1-20,FALSE),VLOOKUP(Data!$W21,tabulka_panely_def,AL$1-18,FALSE))","v":0},{"$f":"IF(Data!$W21<MIN(Panely!$A$9:$A$28),VLOOKUP(Data!$W21,tabulka_kce_def,AM$1-20,FALSE),VLOOKUP(Data!$W21,tabulka_panely_def,AM$1-18,FALSE))","v":2.4},21,{"$f":"IF(Data!$W21<MIN(Panely!$A$9:$A$28),VLOOKUP(Data!$W21,tabulka_kce_def,63,FALSE),0)","v":0},{"$f":"IF(Data!$W21<MIN(Panely!$A$9:$A$28),VLOOKUP(Data!$W21,tabulka_kce_def,28,FALSE),1)","v":1},{"$f":"IF(Data!$W21<MIN(Panely!$A$9:$A$28),VLOOKUP(Data!$W21,tabulka_kce_def,23,FALSE),VLOOKUP(Data!$W21,tabulka_panely_def,24,FALSE))","v":22.078679971822083},null,0,null,0,0,{"$error":"#VALUE!"},0,{"$f":"IF(AND(W21>MAX(Konstrukce!A:A),ISNUMBER(W21)),1,0)","v":0}]
[null,20,{"$f":"IF(Data!$B22<MIN(Panely!$A$9:$A$28),VLOOKUP(Data!$B22,tabulka_kce_def,4,FALSE),VLOOKUP(Data!$B22,tabulka_panely_def,4,FALSE))","v":"h5f17"},{"$f":"IF(Data!$B22<MIN(Panely!$A$9:$A$28),VLOOKUP(Data!$B22,tabulka_kce_def,23,FALSE),VLOOKUP(Data!$B22,tabulka_panely_def,24,FALSE))","v":21.5895425358853},{"$f":"IF(Data!$B22<MIN(Panely!$A$9:$A$28),VLOOKUP(Data!$B22,tabulka_kce_def,21,FALSE),VLOOKUP(Data!$B22,tabulka_panely_def,22,FALSE))","v":536.4},{"$f":"IF(Data!$B22<MIN(Panely!$A$9:$A$28),VLOOKUP(Data!$B22,tabulka_kce_def,26,FALSE),VLOOKUP(Data!$B22,tabulka_panely_def,31,FALSE))","v":2.4508621286141401},{"$f":"IF(Data!$B22<MIN(Panely!$A$9:$A$28),VLOOKUP(Data!$B22,tabulka_kce_def,27,FALSE),VLOOKUP(Data!$B22,tabulka_panely_def,32,FALSE))","v":23},{"$f":"IF(VLOOKUP(Data!$B22,tabulka_kce_def,3,FALSE)=\"\",Konstrukce!$G$1,IF(VLOOKUP(Data!$B22,tabulka_kce_def,3,FALSE)=\"z\",Konstrukce!$G$2,VLOOKUP(Data!$B22,tabulka_kce_def,3,FALSE)))","v":-12},{"$f":"IF(Data!$B22<MIN(Panely!$A$9:$A$28),0,VLOOKUP(Data!$B22,tabulka_panely_def,25,FALSE))","v":0},{"$f":"IF(Data!$B22<MIN(Panely!$A$9:$A$28),VLOOKUP(Data!$B22,tabulka_kce_def,24,FALSE),VLOOKUP(Data!$B22,tabulka_panely_def,33,FALSE))","v":1},{"$f":"Konstrukce!$D$1","v":18.770175404064034},{"$f":"Konstrukce!$D$2","v":19.934229593106764},{"$f":"Konstrukce!$G$1","v":-12},{"$f":"IF(Data!$B22<MIN(Panely!$A$9:$A$28),VLOOKUP(Data!$B22,tabulka_kce_def,59,FALSE),VLOOKUP(Data!$B22,tabulka_panely_def,63,FALSE))","v":"h"},{"$f":"IF(Data!$B22<MIN(Panely!$A$9:$A$28),VLOOKUP(Data!$B22,tabulka_kce_def,60,FALSE),VLOOKUP(Data!$B22,tabulka_panely_def,64,FALSE))","v":"f"},{"$f":"IF(Data!$B22<MIN(Panely!$A$9:$A$28),VLOOKUP(Data!$B22,tabulka_kce_def,61,FALSE),VLOOKUP(Data!$B22,tabulka_panely_def,65,FALSE))","v":"17"},{"$f":"IF(Data!$B22<MIN(Panely!$A$9:$A$28),VLOOKUP(Data!$B22,tabulka_kce_def,25,FALSE),0)","v":23},21.5895425358853,null,null,null,null,7,{"$f":"IF(Data!$W22<MIN(Panely!$A$9:$A$28),VLOOKUP(Data!$W22,tabulka_kce_def,62,FALSE),VLOOKUP(Data!$W22,tabulka_panely_def,65,FALSE))","v":"4"},{"$f":"IF(Data!$W22<MIN(Panely!$A$9:$A$28),VLOOKUP(Data!$W22,tabulka_kce_def,Y$1-20,FALSE),VLOOKUP(Data!$W22,tabulka_panely_def,Y$1-18,FALSE))","v":1.74},{"$f":"IF(Data!$W22<MIN(Panely!$A$9:$A$28),VLOOKUP(Data!$W22,tabulka_kce_def,Z$1-20,FALSE),VLOOKUP(Data!$W22,tabulka_panely_def,Z$1-18,FALSE))","v":14.9},{"$f":"IF(Data!$W22<MIN(Panely!$A$9:$A$28),VLOOKUP(Data!$W22,tabulka_kce_def,AA$1-20,FALSE),VLOOKUP(Data!$W22,tabulka_panely_def,AA$1-18,FALSE))","v":2.4},{"$f":"IF(Data!$W22<MIN(Panely!$A$9:$A$28),VLOOKUP(Data!$W22,tabulka_kce_def,AB$1-20,FALSE),VLOOKUP(Data!$W22,tabulka_panely_def,AB$1-18,FALSE))","v":36},{"$f":"IF(Data!$W22<MIN(Panely!$A$9:$A$28),VLOOKUP(Data!$W22,tabulka_kce_def,AC$1-20,FALSE),VLOOKUP(Data!$W22,tabulka_panely_def,AC$1-18,FALSE))","v":14.9},{"$f":"IF(Data!$W22<MIN(Panely!$A$9:$A$28),VLOOKUP(Data!$W22,tabulka_kce_def,AD$1-20,FALSE),VLOOKUP(Data!$W22,tabulka_panely_def,AD$1-18,FALSE))","v":2.4},{"$f":"IF(Data!$W22<MIN(Panely!$A$9:$A$28),VLOOKUP(Data!$W22,tabulka_kce_def,AE$1-20,FALSE),VLOOKUP(Data!$W22,tabulka_panely_def,AE$1-18,FALSE))","v":1.74},{"$f":"IF(Data!$W22<MIN(Panely!$A$9:$A$28),VLOOKUP(Data!$W22,tabulka_kce_def,AF$1-20,FALSE),VLOOKUP(Data!$W22,tabulka_panely_def,AF$1-18,FALSE))","v":14.9},{"$f":"IF(Data!$W22<MIN(Panely!$A$9:$A$28),VLOOKUP(Data!$W22,tabulka_kce_def,AG$1-20,FALSE),VLOOKUP(Data!$W22,tabulka_panely_def,AG$1-18,FALSE))","v":5.95},{"$f":"IF(Data!$W22<MIN(Panely!$A$9:$A$28),VLOOKUP(Data!$W22,tabulka_kce_def,AH$1-20,FALSE),VLOOKUP(Data!$W22,tabulka_panely_def,AH$1-18,FALSE))","v":36},{"$f":"IF(Data!$W22<MIN(Panely!$A$9:$A$28),VLOOKUP(Data!$W22,tabulka_kce_def,AI$1-20,FALSE),VLOOKUP(Data!$W22,tabulka_panely_def,AI$1-18,FALSE))","v":14.9},{"$f":"IF(Data!$W22<MIN(Panely!$A$9:$A$28),VLOOKUP(Data!$W22,tabulka_kce_def,AJ$1-20,FALSE),VLOOKUP(Data!$W22,tabulka_panely_def,AJ$1-18,FALSE))","v":5.95},{"$f":"IF(Data!$W22<MIN(Panely!$A$9:$A$28),VLOOKUP(Data!$W22,tabulka_kce_def,AK$1-20,FALSE),VLOOKUP(Data!$W22,tabulka_panely_def,AK$1-18,FALSE))","v":34.26},{"$f":"IF(Data!$W22<MIN(Panely!$A$9:$A$28),VLOOKUP(Data!$W22,tabulka_kce_def,AL$1-20,FALSE),VLOOKUP(Data!$W22,tabulka_panely_def,AL$1-18,FALSE))","v":0},{"$f":"IF(Data!$W22<MIN(Panely!$A$9:$A$28),VLOOKUP(Data!$W22,tabulka_kce_def,AM$1-20,FALSE),VLOOKUP(Data!$W22,tabulka_panely_def,AM$1-18,FALSE))","v":3.5500000000000003},22,{"$f":"IF(Data!$W22<MIN(Panely!$A$9:$A$28),VLOOKUP(Data!$W22,tabulka_kce_def,63,FALSE),0)","v":0},{"$f":"IF(Data!$W22<MIN(Panely!$A$9:$A$28),VLOOKUP(Data!$W22,tabulka_kce_def,28,FALSE),1)","v":1},{"$f":"IF(Data!$W22<MIN(Panely!$A$9:$A$28),VLOOKUP(Data!$W22,tabulka_kce_def,23,FALSE),VLOOKUP(Data!$W22,tabulka_panely_def,24,FALSE))","v":22.449005906357346},null,0,null,0,0,{"$error":"#VALUE!"},0,{"$f":"IF(AND(W22>MAX(Konstrukce!A:A),ISNUMBER(W22)),1,0)","v":0}]
[null,21,{"$f":"IF(Data!$B23<MIN(Panely!$A$9:$A$28),VLOOKUP(Data!$B23,tabulka_kce_def,4,FALSE),VLOOKUP(Data!$B23,tabulka_panely_def,4,FALSE))","v":"h5f17"},{"$f":"IF(Data!$B23<MIN(Panely!$A$9:$A$28),VLOOKUP(Data!$B23,tabulka_kce_def,23,FALSE),VLOOKUP(Data!$B23,tabulka_panely_def,24,FALSE))","v":21.5895425358853},{"$f":"IF(Data!$B23<MIN(Panely!$A$9:$A$28),VLOOKUP(Data!$B23,tabulka_kce_def,21,FALSE),VLOOKUP(Data!$B23,tabulka_panely_def,22,FALSE))","v":89.550000000000011},{"$f":"IF(Data!$B23<MIN(Panely!$A$9:$A$28),VLOOKUP(Data!$B23,tabulka_kce_def,26,FALSE),VLOOKUP(Data!$B23,tabulka_panely_def,31,FALSE))","v":2.4508621286141388},{"$f":"IF(Data!$B23<MIN(Panely!$A$9:$A$28),VLOOKUP(Data!$B23,tabulka_kce_def,27,FALSE),VLOOKUP(Data!$B23,tabulka_panely_def,32,FALSE))","v":23},{"$f":"IF(VLOOKUP(Data!$B23,tabulka_kce_def,3,FALSE)=\"\",Konstrukce!$G$1,IF(VLOOKUP(Data!$B23,tabulka_kce_def,3,FALSE)=\"z\",Konstrukce!$G$2,VLOOKUP(Data!$B23,tabulka_kce_def,3,FALSE)))","v":-12},{"$f":"IF(Data!$B23<MIN(Panely!$A$9:$A$28),0,VLOOKUP(Data!$B23,tabulka_panely_def,25,FALSE))","v":0},{"$f":"IF(Data!$B23<MIN(Panely!$A$9:$A$28),VLOOKUP(Data!$B23,tabulka_kce_def,24,FALSE),VLOOKUP(Data!$B23,tabulka_panely_def,33,FALSE))","v":1},{"$f":"Konstrukce!$D$1","v":18.770175404064034},{"$f":"Konstrukce!$D$2","v":19.934229593106764},{"$f":"Konstrukce!$G$1","v":-12},{"$f":"IF(Data!$B23<MIN(Panely!$A$9:$A$28),VLOOKUP(Data!$B23,tabulka_kce_def,59,FALSE),VLOOKUP(Data!$B23,tabulka_panely_def,63,FALSE))","v":"h"},{"$f":"IF(Data!$B23<MIN(Panely!$A$9:$A$28),VLOOKUP(Data!$B23,tabulka_kce_def,60,FALSE),VLOOKUP(Data!$B23,tabulka_panely_def,64,FALSE))","v":"f"},{"$f":"IF(Data!$B23<MIN(Panely!$A$9:$A$28),VLOOKUP(Data!$B23,tabulka_kce_def,61,FALSE),VLOOKUP(Data!$B23,tabulka_panely_def,65,FALSE))","v":"17"},{"$f":"IF(Data!$B23<MIN(Panely!$A$9:$A$28),VLOOKUP(Data!$B23,tabulka_kce_def,25,FALSE),0)","v":23},21.5895425358853,null,null,null,null,8,{"$f":"IF(Data!$W23<MIN(Panely!$A$9:$A$28),VLOOKUP(Data!$W23,tabulka_kce_def,62,FALSE),VLOOKUP(Data!$W23,tabulka_panely_def,65,FALSE))","v":"2"},{"$f":"IF(Data!$W23<MIN(Panely!$A$9:$A$28),VLOOKUP(Data!$W23,tabulka_kce_def,Y$1-20,FALSE),VLOOKUP(Data!$W23,tabulka_panely_def,Y$1-18,FALSE))","v":36},{"$f":"IF(Data!$W23<MIN(Panely!$A$9:$A$28),VLOOKUP(Data!$W23,tabulka_kce_def,Z$1-20,FALSE),VLOOKUP(Data!$W23,tabulka_panely_def,Z$1-18,FALSE))","v":8.6999999999999993},{"$f":"IF(Data!$W23<MIN(Panely!$A$9:$A$28),VLOOKUP(Data!$W23,tabulka_kce_def,AA$1-20,FALSE),VLOOKUP(Data!$W23,tabulka_panely_def,AA$1-18,FALSE))","v":0},{"$f":"IF(Data!$W23<MIN(Panely!$A$9:$A$28),VLOOKUP(Data!$W23,tabulka_kce_def,AB$1-20,FALSE),VLOOKUP(Data!$W23,tabulka_panely_def,AB$1-18,FALSE))","v":36},{"$f":"IF(Data!$W23<MIN(Panely!$A$9:$A$28),VLOOKUP(Data!$W23,tabulka_kce_def,AC$1-20,FALSE),VLOOKUP(Data!$W23,tabulka_panely_def,AC$1-18,FALSE))","v":14.9},{"$f":"IF(Data!$W23<MIN(Panely!$A$9:$A$28),VLOOKUP(Data!$W23,tabulka_kce_def,AD$1-20,FALSE),VLOOKUP(Data!$W23,tabulka_panely_def,AD$1-18,FALSE))","v":0},{"$f":"IF(Data!$W23<MIN(Panely!$A$9:$A$28),VLOOKUP(Data!$W23,tabulka_kce_def,AE$1-20,FALSE),VLOOKUP(Data!$W23,tabulka_panely_def,AE$1-18,FALSE))","v":36},{"$f":"IF(Data!$W23<MIN(Panely!$A$9:$A$28),VLOOKUP(Data!$W23,tabulka_kce_def,AF$1-20,FALSE),VLOOKUP(Data!$W23,tabulka_panely_def,AF$1-18,FALSE))","v":8.6999999999999993},{"$f":"IF(Data!$W23<MIN(Panely!$A$9:$A$28),VLOOKUP(Data!$W23,tabulka_kce_def,AG$1-20,FALSE),VLOOKUP(Data!$W23,tabulka_panely_def,AG$1-18,FALSE))","v":5.95},{"$f":"IF(Data!$W23<MIN(Panely!$A$9:$A$28),VLOOKUP(Data!$W23,tabulka_kce_def,AH$1-20,FALSE),VLOOKUP(Data!$W23,tabulka_panely_def,AH$1-18,FALSE))","v":36},{"$f":"IF(Data!$W23<MIN(Panely!$A$9:$A$28),VLOOKUP(Data!$W23,tabulka_kce_def,AI$1-20,FALSE),VLOOKUP(Data!$W23,tabulka_panely_def,AI$1-18,FALSE))","v":14.9},{"$f":"IF(Data!$W23<MIN(Panely!$A$9:$A$28),VLOOKUP(Data!$W23,tabulka_kce_def,AJ$1-20,FALSE),VLOOKUP(Data!$W23,tabulka_panely_def,AJ$1-18,FALSE))","v":5.95},{"$f":"IF(Data!$W23<MIN(Panely!$A$9:$A$28),VLOOKUP(Data!$W23,tabulka_kce_def,AK$1-20,FALSE),VLOOKUP(Data!$W23,tabulka_panely_def,AK$1-18,FALSE))","v":0},{"$f":"IF(Data!$W23<MIN(Panely!$A$9:$A$28),VLOOKUP(Data!$W23,tabulka_kce_def,AL$1-20,FALSE),VLOOKUP(Data!$W23,tabulka_panely_def,AL$1-18,FALSE))","v":6.2000000000000011},{"$f":"IF(Data!$W23<MIN(Panely!$A$9:$A$28),VLOOKUP(Data!$W23,tabulka_kce_def,AM$1-20,FALSE),VLOOKUP(Data!$W23,tabulka_panely_def,AM$1-18,FALSE))","v":5.95},23,{"$f":"IF(Data!$W23<MIN(Panely!$A$9:$A$28),VLOOKUP(Data!$W23,tabulka_kce_def,63,FALSE),0)","v":2},{"$f":"IF(Data!$W23<MIN(Panely!$A$9:$A$28),VLOOKUP(Data!$W23,tabulka_kce_def,28,FALSE),1)","v":1},{"$f":"IF(Data!$W23<MIN(Panely!$A$9:$A$28),VLOOKUP(Data!$W23,tabulka_kce_def,23,FALSE),VLOOKUP(Data!$W23,tabulka_panely_def,24,FALSE))","v":22.055255377475582},null,0,null,0,0,{"$error":"#VALUE!"},0,{"$f":"IF(AND(W23>MAX(Konstrukce!A:A),ISNUMBER(W23)),1,0)","v":0}]
[null,22,{"$f":"IF(Data!$B24<MIN(Panely!$A$9:$A$28),VLOOKUP(Data!$B24,tabulka_kce_def,4,FALSE),VLOOKUP(Data!$B24,tabulka_panely_def,4,FALSE))","v":"h1"},{"$f":"IF(Data!$B24<MIN(Panely!$A$9:$A$28),VLOOKUP(Data!$B24,tabulka_kce_def,23,FALSE),VLOOKUP(Data!$B24,tabulka_panely_def,24,FALSE))","v":18.085966728551817},{"$f":"IF(Data!$B24<MIN(Panely!$A$9:$A$28),VLOOKUP(Data!$B24,tabulka_kce_def,21,FALSE),VLOOKUP(Data!$B24,tabulka_panely_def,22,FALSE))","v":14.155000000000003},{"$f":"IF(Data!$B24<MIN(Panely!$A$9:$A$28),VLOOKUP(Data!$B24,tabulka_kce_def,26,FALSE),VLOOKUP(Data!$B24,tabulka_panely_def,31,FALSE))","v":1.7305180081118603},{"$f":"IF(Data!$B24<MIN(Panely!$A$9:$A$28),VLOOKUP(Data!$B24,tabulka_kce_def,27,FALSE),VLOOKUP(Data!$B24,tabulka_panely_def,32,FALSE))","v":23},{"$f":"IF(VLOOKUP(Data!$B24,tabulka_kce_def,3,FALSE)=\"\",Konstrukce!$G$1,IF(VLOOKUP(Data!$B24,tabulka_kce_def,3,FALSE)=\"z\",Konstrukce!$G$2,VLOOKUP(Data!$B24,tabulka_kce_def,3,FALSE)))","v":-12},{"$f":"IF(Data!$B24<MIN(Panely!$A$9:$A$28),0,VLOOKUP(Data!$B24,tabulka_panely_def,25,FALSE))","v":0},{"$f":"IF(Data!$B24<MIN(Panely!$A$9:$A$28),VLOOKUP(Data!$B24,tabulka_kce_def,24,FALSE),VLOOKUP(Data!$B24,tabulka_panely_def,33,FALSE))","v":0.9},{"$f":"Konstrukce!$D$1","v":18.770175404064034},{"$f":"Konstrukce!$D$2","v":19.934229593106764},{"$f":"Konstrukce!$G$1","v":-12},{"$f":"IF(Data!$B24<MIN(Panely!$A$9:$A$28),VLOOKUP(Data!$B24,tabulka_kce_def,59,FALSE),VLOOKUP(Data!$B24,tabulka_panely_def,63,FALSE))","v":"h"},{"$f":"IF(Data!$B24<MIN(Panely!$A$9:$A$28),VLOOKUP(Data!$B24,tabulka_kce_def,60,FALSE),VLOOKUP(Data!$B24,tabulka_panely_def,64,FALSE))","v":""},{"$f":"IF(Data!$B24<MIN(Panely!$A$9:$A$28),VLOOKUP(Data!$B24,tabulka_kce_def,61,FALSE),VLOOKUP(Data!$B24,tabulka_panely_def,65,FALSE))","v":""},{"$f":"IF(Data!$B24<MIN(Panely!$A$9:$A$28),VLOOKUP(Data!$B24,tabulka_kce_def,25,FALSE),0)","v":0.29040404040404039},18.085966728551817,null,null,null,null,9,{"$f":"IF(Data!$W24<MIN(Panely!$A$9:$A$28),VLOOKUP(Data!$W24,tabulka_kce_def,62,FALSE),VLOOKUP(Data!$W24,tabulka_panely_def,65,FALSE))","v":"2"},{"$f":"IF(Data!$W24<MIN(Panely!$A$9:$A$28),VLOOKUP(Data!$W24,tabulka_kce_def,Y$1-20,FALSE),VLOOKUP(Data!$W24,tabulka_panely_def,Y$1-18,FALSE))","v":36},{"$f":"IF(Data!$W24<MIN(Panely!$A$9:$A$28),VLOOKUP(Data!$W24,tabulka_kce_def,Z$1-20,FALSE),VLOOKUP(Data!$W24,tabulka_panely_def,Z$1-18,FALSE))","v":9.1999999999999993},{"$f":"IF(Data!$W24<MIN(Panely!$A$9:$A$28),VLOOKUP(Data!$W24,tabulka_kce_def,AA$1-20,FALSE),VLOOKUP(Data!$W24,tabulka_panely_def,AA$1-18,FALSE))","v":1},{"$f":"IF(Data!$W24<MIN(Panely!$A$9:$A$28),VLOOKUP(Data!$W24,tabulka_kce_def,AB$1-20,FALSE),VLOOKUP(Data!$W24,tabulka_panely_def,AB$1-18,FALSE))","v":36},{"$f":"IF(Data!$W24<MIN(Panely!$A$9:$A$28),VLOOKUP(Data!$W24,tabulka_kce_def,AC$1-20,FALSE),VLOOKUP(Data!$W24,tabulka_panely_def,AC$1-18,FALSE))","v":11.2},{"$f":"IF(Data!$W24<MIN(Panely!$A$9:$A$28),VLOOKUP(Data!$W24,tabulka_kce_def,AD$1-20,FALSE),VLOOKUP(Data!$W24,tabulka_panely_def,AD$1-18,FALSE))","v":1},{"$f":"IF(Data!$W24<MIN(Panely!$A$9:$A$28),VLOOKUP(Data!$W24,tabulka_kce_def,AE$1-20,FALSE),VLOOKUP(Data!$W24,tabulka_panely_def,AE$1-18,FALSE))","v":36},{"$f":"IF(Data!$W24<MIN(Panely!$A$9:$A$28),VLOOKUP(Data!$W24,tabulka_kce_def,AF$1-20,FALSE),VLOOKUP(Data!$W24,tabulka_panely_def,AF$1-18,FALSE))","v":9.1999999999999993},{"$f":"IF(Data!$W24<MIN(Panely!$A$9:$A$28),VLOOKUP(Data!$W24,tabulka_kce_def,AG$1-20,FALSE),VLOOKUP(Data!$W24,tabulka_panely_def,AG$1-18,FALSE))","v":2},{"$f":"IF(Data!$W24<MIN(Panely!$A$9:$A$28),VLOOKUP(Data!$W24,tabulka_kce_def,AH$1-20,FALSE),VLOOKUP(Data!$W24,tabulka_panely_def,AH$1-18,FALSE))","v":36},{"$f":"IF(Data!$W24<MIN(Panely!$A$9:$A$28),VLOOKUP(Data!$W24,tabulka_kce_def,AI$1-20,FALSE),VLOOKUP(Data!$W24,tabulka_panely_def,AI$1-18,FALSE))","v":11.2},{"$f":"IF(Data!$W24<MIN(Panely!$A$9:$A$28),VLOOKUP(Data!$W24,tabulka_kce_def,AJ$1-20,FALSE),VLOOKUP(Data!$W24,tabulka_panely_def,AJ$1-18,FALSE))","v":2},{"$f":"IF(Data!$W24<MIN(Panely!$A$9:$A$28),VLOOKUP(Data!$W24,tabulka_kce_def,AK$1-20,FALSE),VLOOKUP(Data!$W24,tabulka_panely_def,AK$1-18,FALSE))","v":0},{"$f":"IF(Data!$W24<MIN(Panely!$A$9:$A$28),VLOOKUP(Data!$W24,tabulka_kce_def,AL$1-20,FALSE),VLOOKUP(Data!$W24,tabulka_panely_def,AL$1-18,FALSE))","v":2},{"$f":"IF(Data!$W24<MIN(Panely!$A$9:$A$28),VLOOKUP(Data!$W24,tabulka_kce_def,AM$1-20,FALSE),VLOOKUP(Data!$W24,tabulka_panely_def,AM$1-18,FALSE))","v":1},24,{"$f":"IF(Data!$W24<MIN(Panely!$A$9:$A$28),VLOOKUP(Data!$W24,tabulka_kce_def,63,FALSE),0)","v":0},{"$f":"IF(Data!$W24<MIN(Panely!$A$9:$A$28),VLOOKUP(Data!$W24,tabulka_kce_def,28,FALSE),1)","v":1},{"$f":"IF(Data!$W24<MIN(Panely!$A$9:$A$28),VLOOKUP(Data!$W24,tabulka_kce_def,23,FALSE),VLOOKUP(Data!$W24,tabulka_panely_def,24,FALSE))","v":19.685256472804507},null,0,null,1,0,{"$error":"#VALUE!"},0,{"$f":"IF(AND(W24>MAX(Konstrukce!A:A),ISNUMBER(W24)),1,0)","v":0}]
[null,23,{"$f":"IF(Data!$B25<MIN(Panely!$A$9:$A$28),VLOOKUP(Data!$B25,tabulka_kce_def,4,FALSE),VLOOKUP(Data!$B25,tabulka_panely_def,4,FALSE))","v":"h4"},{"$f":"IF(Data!$B25<MIN(Panely!$A$9:$A$28),VLOOKUP(Data!$B25,tabulka_kce_def,23,FALSE),VLOOKUP(Data!$B25,tabulka_panely_def,24,FALSE))","v":16.275072406794344},{"$f":"IF(Data!$B25<MIN(Panely!$A$9:$A$28),VLOOKUP(Data!$B25,tabulka_kce_def,21,FALSE),VLOOKUP(Data!$B25,tabulka_panely_def,22,FALSE))","v":1.6530000000000002},{"$f":"IF(Data!$B25<MIN(Panely!$A$9:$A$28),VLOOKUP(Data!$B25,tabulka_kce_def,26,FALSE),VLOOKUP(Data!$B25,tabulka_panely_def,31,FALSE))","v":2.1282783917091357},{"$f":"IF(Data!$B25<MIN(Panely!$A$9:$A$28),VLOOKUP(Data!$B25,tabulka_kce_def,27,FALSE),VLOOKUP(Data!$B25,tabulka_panely_def,32,FALSE))","v":23},{"$f":"IF(VLOOKUP(Data!$B25,tabulka_kce_def,3,FALSE)=\"\",Konstrukce!$G$1,IF(VLOOKUP(Data!$B25,tabulka_kce_def,3,FALSE)=\"z\",Konstrukce!$G$2,VLOOKUP(Data!$B25,tabulka_kce_def,3,FALSE)))","v":-12},{"$f":"IF(Data!$B25<MIN(Panely!$A$9:$A$28),0,VLOOKUP(Data!$B25,tabulka_panely_def,25,FALSE))","v":0},{"$f":"IF(Data!$B25<MIN(Panely!$A$9:$A$28),VLOOKUP(Data!$B25,tabulka_kce_def,24,FALSE),VLOOKUP(Data!$B25,tabulka_panely_def,33,FALSE))","v":0.9},{"$f":"Konstrukce!$D$1","v":18.770175404064034},{"$f":"Konstrukce!$D$2","v":19.934229593106764},{"$f":"Konstrukce!$G$1","v":-12},{"$f":"IF(Data!$B25<MIN(Panely!$A$9:$A$28),VLOOKUP(Data!$B25,tabulka_kce_def,59,FALSE),VLOOKUP(Data!$B25,tabulka_panely_def,63,FALSE))","v":"h"},{"$f":"IF(Data!$B25<MIN(Panely!$A$9:$A$28),VLOOKUP(Data!$B25,tabulka_kce_def,60,FALSE),VLOOKUP(Data!$B25,tabulka_panely_def,64,FALSE))","v":""},{"$f":"IF(Data!$B25<MIN(Panely!$A$9:$A$28),VLOOKUP(Data!$B25,tabulka_kce_def,61,FALSE),VLOOKUP(Data!$B25,tabulka_panely_def,65,FALSE))","v":""},{"$f":"IF(Data!$B25<MIN(Panely!$A$9:$A$28),VLOOKUP(Data!$B25,tabulka_kce_def,25,FALSE),0)","v":0.29040404040404039},16.275072406794344,null,null,null,null,10,{"$f":"IF(Data!$W25<MIN(Panely!$A$9:$A$28),VLOOKUP(Data!$W25,tabulka_kce_def,62,FALSE),VLOOKUP(Data!$W25,tabulka_panely_def,65,FALSE))","v":"2"},{"$f":"IF(Data!$W25<MIN(Panely!$A$9:$A$28),VLOOKUP(Data!$W25,tabulka_kce_def,Y$1-20,FALSE),VLOOKUP(Data!$W25,tabulka_panely_def,Y$1-18,FALSE))","v":36},{"$f":"IF(Data!$W25<MIN(Panely!$A$9:$A$28),VLOOKUP(Data!$W25,tabulka_kce_def,Z$1-20,FALSE),VLOOKUP(Data!$W25,tabulka_panely_def,Z$1-18,FALSE))","v":11.65},{"$f":"IF(Data!$W25<MIN(Panely!$A$9:$A$28),VLOOKUP(Data!$W25,tabulka_kce_def,AA$1-20,FALSE),VLOOKUP(Data!$W25,tabulka_panely_def,AA$1-18,FALSE))","v":1},{"$f":"IF(Data!$W25<MIN(Panely!$A$9:$A$28),VLOOKUP(Data!$W25,tabulka_kce_def,AB$1-20,FALSE),VLOOKUP(Data!$W25,tabulka_panely_def,AB$1-18,FALSE))","v":36},{"$f":"IF(Data!$W25<MIN(Panely!$A$9:$A$28),VLOOKUP(Data!$W25,tabulka_kce_def,AC$1-20,FALSE),VLOOKUP(Data!$W25,tabulka_panely_def,AC$1-18,FALSE))","v":13.65},{"$f":"IF(Data!$W25<MIN(Panely!$A$9:$A$28),VLOOKUP(Data!$W25,tabulka_kce_def,AD$1-20,FALSE),VLOOKUP(Data!$W25,tabulka_panely_def,AD$1-18,FALSE))","v":1},{"$f":"IF(Data!$W25<MIN(Panely!$A$9:$A$28),VLOOKUP(Data!$W25,tabulka_kce_def,AE$1-20,FALSE),VLOOKUP(Data!$W25,tabulka_panely_def,AE$1-18,FALSE))","v":36},{"$f":"IF(Data!$W25<MIN(Panely!$A$9:$A$28),VLOOKUP(Data!$W25,tabulka_kce_def,AF$1-20,FALSE),VLOOKUP(Data!$W25,tabulka_panely_def,AF$1-18,FALSE))","v":11.65},{"$f":"IF(Data!$W25<MIN(Panely!$A$9:$A$28),VLOOKUP(Data!$W25,tabulka_kce_def,AG$1-20,FALSE),VLOOKUP(Data!$W25,tabulka_panely_def,AG$1-18,FALSE))","v":2},{"$f":"IF(Data!$W25<MIN(Panely!$A$9:$A$28),VLOOKUP(Data!$W25,tabulka_kce_def,AH$1-20,FALSE),VLOOKUP(Data!$W25,tabulka_panely_def,AH$1-18,FALSE))","v":36},{"$f":"IF(Data!$W25<MIN(Panely!$A$9:$A$28),VLOOKUP(Data!$W25,tabulka_kce_def,AI$1-20,FALSE),VLOOKUP(Data!$W25,tabulka_panely_def,AI$1-18,FALSE))","v":13.65},{"$f":"IF(Data!$W25<MIN(Panely!$A$9:$A$28),VLOOKUP(Data!$W25,tabulka_kce_def,AJ$1-20,FALSE),VLOOKUP(Data!$W25,tabulka_panely_def,AJ$1-18,FALSE))","v":2},{"$f":"IF(Data!$W25<MIN(Panely!$A$9:$A$28),VLOOKUP(Data!$W25,tabulka_kce_def,AK$1-20,FALSE),VLOOKUP(Data!$W25,tabulka_panely_def,AK$1-18,FALSE))","v":0},{"$f":"IF(Data!$W25<MIN(Panely!$A$9:$A$28),VLOOKUP(Data!$W25,tabulka_kce_def,AL$1-20,FALSE),VLOOKUP(Data!$W25,tabulka_panely_def,AL$1-18,FALSE))","v":2},{"$f":"IF(Data!$W25<MIN(Panely!$A$9:$A$28),VLOOKUP(Data!$W25,tabulka_kce_def,AM$1-20,FALSE),VLOOKUP(Data!$W25,tabulka_panely_def,AM$1-18,FALSE))","v":1},25,{"$f":"IF(Data!$W25<MIN(Panely!$A$9:$A$28),VLOOKUP(Data!$W25,tabulka_kce_def,63,FALSE),0)","v":0},{"$f":"IF(Data!$W25<MIN(Panely!$A$9:$A$28),VLOOKUP(Data!$W25,tabulka_kce_def,28,FALSE),1)","v":1},{"$f":"IF(Data!$W25<MIN(Panely!$A$9:$A$28),VLOOKUP(Data!$W25,tabulka_kce_def,23,FALSE),VLOOKUP(Data!$W25,tabulka_panely_def,24,FALSE))","v":19.781168339176524},null,0,null,1,0,{"$error":"#VALUE!"},0,{"$f":"IF(AND(W25>MAX(Konstrukce!A:A),ISNUMBER(W25)),1,0)","v":0}]
[null,24,{"$f":"IF(Data!$B26<MIN(Panely!$A$9:$A$28),VLOOKUP(Data!$B26,tabulka_kce_def,4,FALSE),VLOOKUP(Data!$B26,tabulka_panely_def,4,FALSE))","v":"h4"},{"$f":"IF(Data!$B26<MIN(Panely!$A$9:$A$28),VLOOKUP(Data!$B26,tabulka_kce_def,23,FALSE),VLOOKUP(Data!$B26,tabulka_panely_def,24,FALSE))","v":19.251858689125875},{"$f":"IF(Data!$B26<MIN(Panely!$A$9:$A$28),VLOOKUP(Data!$B26,tabulka_kce_def,21,FALSE),VLOOKUP(Data!$B26,tabulka_panely_def,22,FALSE))","v":32.547000000000004},{"$f":"IF(Data!$B26<MIN(Panely!$A$9:$A$28),VLOOKUP(Data!$B26,tabulka_kce_def,26,FALSE),VLOOKUP(Data!$B26,tabulka_panely_def,31,FALSE))","v":1.7304696646637963},{"$f":"IF(Data!$B26<MIN(Panely!$A$9:$A$28),VLOOKUP(Data!$B26,tabulka_kce_def,27,FALSE),VLOOKUP(Data!$B26,tabulka_panely_def,32,FALSE))","v":3.315212577655998},{"$f":"IF(VLOOKUP(Data!$B26,tabulka_kce_def,3,FALSE)=\"\",Konstrukce!$G$1,IF(VLOOKUP(Data!$B26,tabulka_kce_def,3,FALSE)=\"z\",Konstrukce!$G$2,VLOOKUP(Data!$B26,tabulka_kce_def,3,FALSE)))","v":10},{"$f":"IF(Data!$B26<MIN(Panely!$A$9:$A$28),0,VLOOKUP(Data!$B26,tabulka_panely_def,25,FALSE))","v":0},{"$f":"IF(Data!$B26<MIN(Panely!$A$9:$A$28),VLOOKUP(Data!$B26,tabulka_kce_def,24,FALSE),VLOOKUP(Data!$B26,tabulka_panely_def,33,FALSE))","v":0.9},{"$f":"Konstrukce!$D$1","v":18.770175404064034},{"$f":"Konstrukce!$D$2","v":19.934229593106764},{"$f":"Konstrukce!$G$1","v":-12},{"$f":"IF(Data!$B26<MIN(Panely!$A$9:$A$28),VLOOKUP(Data!$B26,tabulka_kce_def,59,FALSE),VLOOKUP(Data!$B26,tabulka_panely_def,63,FALSE))","v":"h"},{"$f":"IF(Data!$B26<MIN(Panely!$A$9:$A$28),VLOOKUP(Data!$B26,tabulka_kce_def,60,FALSE),VLOOKUP(Data!$B26,tabulka_panely_def,64,FALSE))","v":""},{"$f":"IF(Data!$B26<MIN(Panely!$A$9:$A$28),VLOOKUP(Data!$B26,tabulka_kce_def,61,FALSE),VLOOKUP(Data!$B26,tabulka_panely_def,65,FALSE))","v":""},{"$f":"IF(Data!$B26<MIN(Panely!$A$9:$A$28),VLOOKUP(Data!$B26,tabulka_kce_def,25,FALSE),0)","v":0.27015054376661823},19.251858689125875,null,null,null,null,11,{"$f":"IF(Data!$W26<MIN(Panely!$A$9:$A$28),VLOOKUP(Data!$W26,tabulka_kce_def,62,FALSE),VLOOKUP(Data!$W26,tabulka_panely_def,65,FALSE))","v":"2"},{"$f":"IF(Data!$W26<MIN(Panely!$A$9:$A$28),VLOOKUP(Data!$W26,tabulka_kce_def,Y$1-20,FALSE),VLOOKUP(Data!$W26,tabulka_panely_def,Y$1-18,FALSE))","v":36},{"$f":"IF(Data!$W26<MIN(Panely!$A$9:$A$28),VLOOKUP(Data!$W26,tabulka_kce_def,Z$1-20,FALSE),VLOOKUP(Data!$W26,tabulka_panely_def,Z$1-18,FALSE))","v":0},{"$f":"IF(Data!$W26<MIN(Panely!$A$9:$A$28),VLOOKUP(Data!$W26,tabulka_kce_def,AA$1-20,FALSE),VLOOKUP(Data!$W26,tabulka_panely_def,AA$1-18,FALSE))","v":0},{"$f":"IF(Data!$W26<MIN(Panely!$A$9:$A$28),VLOOKUP(Data!$W26,tabulka_kce_def,AB$1-20,FALSE),VLOOKUP(Data!$W26,tabulka_panely_def,AB$1-18,FALSE))","v":36},{"$f":"IF(Data!$W26<MIN(Panely!$A$9:$A$28),VLOOKUP(Data!$W26,tabulka_kce_def,AC$1-20,FALSE),VLOOKUP(Data!$W26,tabulka_panely_def,AC$1-18,FALSE))","v":8.6999999999999993},{"$f":"IF(Data!$W26<MIN(Panely!$A$9:$A$28),VLOOKUP(Data!$W26,tabulka_kce_def,AD$1-20,FALSE),VLOOKUP(Data!$W26,tabulka_panely_def,AD$1-18,FALSE))","v":0},{"$f":"IF(Data!$W26<MIN(Panely!$A$9:$A$28),VLOOKUP(Data!$W26,tabulka_kce_def,AE$1-20,FALSE),VLOOKUP(Data!$W26,tabulka_panely_def,AE$1-18,FALSE))","v":36},{"$f":"IF(Data!$W26<MIN(Panely!$A$9:$A$28),VLOOKUP(Data!$W26,tabulka_kce_def,AF$1-20,FALSE),VLOOKUP(Data!$W26,tabulka_panely_def,AF$1-18,FALSE))","v":0},{"$f":"IF(Data!$W26<MIN(Panely!$A$9:$A$28),VLOOKUP(Data!$W26,tabulka_kce_def,AG$1-20,FALSE),VLOOKUP(Data!$W26,tabulka_panely_def,AG$1-18,FALSE))","v":5.95},{"$f":"IF(Data!$W26<MIN(Panely!$A$9:$A$28),VLOOKUP(Data!$W26,tabulka_kce_def,AH$1-20,FALSE),VLOOKUP(Data!$W26,tabulka_panely_def,AH$1-18,FALSE))","v":36},{"$f":"IF(Data!$W26<MIN(Panely!$A$9:$A$28),VLOOKUP(Data!$W26,tabulka_kce_def,AI$1-20,FALSE),VLOOKUP(Data!$W26,tabulka_panely_def,AI$1-18,FALSE))","v":8.6999999999999993},{"$f":"IF(Data!$W26<MIN(Panely!$A$9:$A$28),VLOOKUP(Data!$W26,tabulka_kce_def,AJ$1-20,FALSE),VLOOKUP(Data!$W26,tabulka_panely_def,AJ$1-18,FALSE))","v":5.95},{"$f":"IF(Data!$W26<MIN(Panely!$A$9:$A$28),VLOOKUP(Data!$W26,tabulka_kce_def,AK$1-20,FALSE),VLOOKUP(Data!$W26,tabulka_panely_def,AK$1-18,FALSE))","v":0},{"$f":"IF(Data!$W26<MIN(Panely!$A$9:$A$28),VLOOKUP(Data!$W26,tabulka_kce_def,AL$1-20,FALSE),VLOOKUP(Data!$W26,tabulka_panely_def,AL$1-18,FALSE))","v":8.6999999999999993},{"$f":"IF(Data!$W26<MIN(Panely!$A$9:$A$28),VLOOKUP(Data!$W26,tabulka_kce_def,AM$1-20,FALSE),VLOOKUP(Data!$W26,tabulka_panely_def,AM$1-18,FALSE))","v":5.95},26,{"$f":"IF(Data!$W26<MIN(Panely!$A$9:$A$28),VLOOKUP(Data!$W26,tabulka_kce_def,63,FALSE),0)","v":2},{"$f":"IF(Data!$W26<MIN(Panely!$A$9:$A$28),VLOOKUP(Data!$W26,tabulka_kce_def,28,FALSE),1)","v":1},{"$f":"IF(Data!$W26<MIN(Panely!$A$9:$A$28),VLOOKUP(Data!$W26,tabulka_kce_def,23,FALSE),VLOOKUP(Data!$W26,tabulka_panely_def,24,FALSE))","v":22.47818164051737},null,0,null,0,0,{"$error":"#VALUE!"},0,{"$f":"IF(AND(W26>MAX(Konstrukce!A:A),ISNUMBER(W26)),1,0)","v":0}]
[null,25,{"$f":"IF(Data!$B27<MIN(Panely!$A$9:$A$28),VLOOKUP(Data!$B27,tabulka_kce_def,4,FALSE),VLOOKUP(Data!$B27,tabulka_panely_def,4,FALSE))","v":"h2"},{"$f":"IF(Data!$B27<MIN(Panely!$A$9:$A$28),VLOOKUP(Data!$B27,tabulka_kce_def,23,FALSE),VLOOKUP(Data!$B27,tabulka_panely_def,24,FALSE))","v":19.640176040200569},{"$f":"IF(Data!$B27<MIN(Panely!$A$9:$A$28),VLOOKUP(Data!$B27,tabulka_kce_def,21,FALSE),VLOOKUP(Data!$B27,tabulka_panely_def,22,FALSE))","v":14.155000000000003},{"$f":"IF(Data!$B27<MIN(Panely!$A$9:$A$28),VLOOKUP(Data!$B27,tabulka_kce_def,26,FALSE),VLOOKUP(Data!$B27,tabulka_panely_def,31,FALSE))","v":1.7304696646637963},{"$f":"IF(Data!$B27<MIN(Panely!$A$9:$A$28),VLOOKUP(Data!$B27,tabulka_kce_def,27,FALSE),VLOOKUP(Data!$B27,tabulka_panely_def,32,FALSE))","v":1.8459903285000794},{"$f":"IF(VLOOKUP(Data!$B27,tabulka_kce_def,3,FALSE)=\"\",Konstrukce!$G$1,IF(VLOOKUP(Data!$B27,tabulka_kce_def,3,FALSE)=\"z\",Konstrukce!$G$2,VLOOKUP(Data!$B27,tabulka_kce_def,3,FALSE)))","v":18},{"$f":"IF(Data!$B27<MIN(Panely!$A$9:$A$28),0,VLOOKUP(Data!$B27,tabulka_panely_def,25,FALSE))","v":0},{"$f":"IF(Data!$B27<MIN(Panely!$A$9:$A$28),VLOOKUP(Data!$B27,tabulka_kce_def,24,FALSE),VLOOKUP(Data!$B27,tabulka_panely_def,33,FALSE))","v":0.9},{"$f":"Konstrukce!$D$1","v":18.770175404064034},{"$f":"Konstrukce!$D$2","v":19.934229593106764},{"$f":"Konstrukce!$G$1","v":-12},{"$f":"IF(Data!$B27<MIN(Panely!$A$9:$A$28),VLOOKUP(Data!$B27,tabulka_kce_def,59,FALSE),VLOOKUP(Data!$B27,tabulka_panely_def,63,FALSE))","v":"h"},{"$f":"IF(Data!$B27<MIN(Panely!$A$9:$A$28),VLOOKUP(Data!$B27,tabulka_kce_def,60,FALSE),VLOOKUP(Data!$B27,tabulka_panely_def,64,FALSE))","v":""},{"$f":"IF(Data!$B27<MIN(Panely!$A$9:$A$28),VLOOKUP(Data!$B27,tabulka_kce_def,61,FALSE),VLOOKUP(Data!$B27,tabulka_panely_def,65,FALSE))","v":""},{"$f":"IF(Data!$B27<MIN(Panely!$A$9:$A$28),VLOOKUP(Data!$B27,tabulka_kce_def,25,FALSE),0)","v":0.48978440804586754},19.640176040200569,null,null,null,null,12,{"$f":"IF(Data!$W27<MIN(Panely!$A$9:$A$28),VLOOKUP(Data!$W27,tabulka_kce_def,62,FALSE),VLOOKUP(Data!$W27,tabulka_panely_def,65,FALSE))","v":"2"},{"$f":"IF(Data!$W27<MIN(Panely!$A$9:$A$28),VLOOKUP(Data!$W27,tabulka_kce_def,Y$1-20,FALSE),VLOOKUP(Data!$W27,tabulka_panely_def,Y$1-18,FALSE))","v":36},{"$f":"IF(Data!$W27<MIN(Panely!$A$9:$A$28),VLOOKUP(Data!$W27,tabulka_kce_def,Z$1-20,FALSE),VLOOKUP(Data!$W27,tabulka_panely_def,Z$1-18,FALSE))","v":6.7},{"$f":"IF(Data!$W27<MIN(Panely!$A$9:$A$28),VLOOKUP(Data!$W27,tabulka_kce_def,AA$1-20,FALSE),VLOOKUP(Data!$W27,tabulka_panely_def,AA$1-18,FALSE))","v":1},{"$f":"IF(Data!$W27<MIN(Panely!$A$9:$A$28),VLOOKUP(Data!$W27,tabulka_kce_def,AB$1-20,FALSE),VLOOKUP(Data!$W27,tabulka_panely_def,AB$1-18,FALSE))","v":36},{"$f":"IF(Data!$W27<MIN(Panely!$A$9:$A$28),VLOOKUP(Data!$W27,tabulka_kce_def,AC$1-20,FALSE),VLOOKUP(Data!$W27,tabulka_panely_def,AC$1-18,FALSE))","v":8.6999999999999993},{"$f":"IF(Data!$W27<MIN(Panely!$A$9:$A$28),VLOOKUP(Data!$W27,tabulka_kce_def,AD$1-20,FALSE),VLOOKUP(Data!$W27,tabulka_panely_def,AD$1-18,FALSE))","v":1},{"$f":"IF(Data!$W27<MIN(Panely!$A$9:$A$28),VLOOKUP(Data!$W27,tabulka_kce_def,AE$1-20,FALSE),VLOOKUP(Data!$W27,tabulka_panely_def,AE$1-18,FALSE))","v":36},{"$f":"IF(Data!$W27<MIN(Panely!$A$9:$A$28),VLOOKUP(Data!$W27,tabulka_kce_def,AF$1-20,FALSE),VLOOKUP(Data!$W27,tabulka_panely_def,AF$1-18,FALSE))","v":6.7},{"$f":"IF(Data!$W27<MIN(Panely!$A$9:$A$28),VLOOKUP(Data!$W27,tabulka_kce_def,AG$1-20,FALSE),VLOOKUP(Data!$W27,tabulka_panely_def,AG$1-18,FALSE))","v":2},{"$f":"IF(Data!$W27<MIN(Panely!$A$9:$A$28),VLOOKUP(Data!$W27,tabulka_kce_def,AH$1-20,FALSE),VLOOKUP(Data!$W27,tabulka_panely_def,AH$1-18,FALSE))","v":36},{"$f":"IF(Data!$W27<MIN(Panely!$A$9:$A$28),VLOOKUP(Data!$W27,tabulka_kce_def,AI$1-20,FALSE),VLOOKUP(Data!$W27,tabulka_panely_def,AI$1-18,FALSE))","v":8.6999999999999993},{"$f":"IF(Data!$W27<MIN(Panely!$A$9:$A$28),VLOOKUP(Data!$W27,tabulka_kce_def,AJ$1-20,FALSE),VLOOKUP(Data!$W27,tabulka_panely_def,AJ$1-18,FALSE))","v":2},{"$f":"IF(Data!$W27<MIN(Panely!$A$9:$A$28),VLOOKUP(Data!$W27,tabulka_kce_def,AK$1-20,FALSE),VLOOKUP(Data!$W27,tabulka_panely_def,AK$1-18,FALSE))","v":0},{"$f":"IF(Data!$W27<MIN(Panely!$A$9:$A$28),VLOOKUP(Data!$W27,tabulka_kce_def,AL$1-20,FALSE),VLOOKUP(Data!$W27,tabulka_panely_def,AL$1-18,FALSE))","v":1.9999999999999991},{"$f":"IF(Data!$W27<MIN(Panely!$A$9:$A$28),VLOOKUP(Data!$W27,tabulka_kce_def,AM$1-20,FALSE),VLOOKUP(Data!$W27,tabulka_panely_def,AM$1-18,FALSE))","v":1},27,{"$f":"IF(Data!$W27<MIN(Panely!$A$9:$A$28),VLOOKUP(Data!$W27,tabulka_kce_def,63,FALSE),0)","v":0},{"$f":"IF(Data!$W27<MIN(Panely!$A$9:$A$28),VLOOKUP(Data!$W27,tabulka_kce_def,28,FALSE),1)","v":1},{"$f":"IF(Data!$W27<MIN(Panely!$A$9:$A$28),VLOOKUP(Data!$W27,tabulka_kce_def,23,FALSE),VLOOKUP(Data!$W27,tabulka_panely_def,24,FALSE))","v":19.537121135421057},null,0,null,1,0,{"$error":"#VALUE!"},0,{"$f":"IF(AND(W27>MAX(Konstrukce!A:A),ISNUMBER(W27)),1,0)","v":0}]
[null,26,{"$f":"IF(Data!$B28<MIN(Panely!$A$9:$A$28),VLOOKUP(Data!$B28,tabulka_kce_def,4,FALSE),VLOOKUP(Data!$B28,tabulka_panely_def,4,FALSE))","v":"h3"},{"$f":"IF(Data!$B28<MIN(Panely!$A$9:$A$28),VLOOKUP(Data!$B28,tabulka_kce_def,23,FALSE),VLOOKUP(Data!$B28,tabulka_panely_def,24,FALSE))","v":19.847501923301376},{"$f":"IF(Data!$B28<MIN(Panely!$A$9:$A$28),VLOOKUP(Data!$B28,tabulka_kce_def,21,FALSE),VLOOKUP(Data!$B28,tabulka_panely_def,22,FALSE))","v":28.405000000000005},{"$f":"IF(Data!$B28<MIN(Panely!$A$9:$A$28),VLOOKUP(Data!$B28,tabulka_kce_def,26,FALSE),VLOOKUP(Data!$B28,tabulka_panely_def,31,FALSE))","v":1.7304696646637963},{"$f":"IF(Data!$B28<MIN(Panely!$A$9:$A$28),VLOOKUP(Data!$B28,tabulka_kce_def,27,FALSE),VLOOKUP(Data!$B28,tabulka_panely_def,32,FALSE))","v":1.9204787709550259},{"$f":"IF(VLOOKUP(Data!$B28,tabulka_kce_def,3,FALSE)=\"\",Konstrukce!$G$1,IF(VLOOKUP(Data!$B28,tabulka_kce_def,3,FALSE)=\"z\",Konstrukce!$G$2,VLOOKUP(Data!$B28,tabulka_kce_def,3,FALSE)))","v":18},{"$f":"IF(Data!$B28<MIN(Panely!$A$9:$A$28),0,VLOOKUP(Data!$B28,tabulka_panely_def,25,FALSE))","v":0},{"$f":"IF(Data!$B28<MIN(Panely!$A$9:$A$28),VLOOKUP(Data!$B28,tabulka_kce_def,24,FALSE),VLOOKUP(Data!$B28,tabulka_panely_def,33,FALSE))","v":0.9},{"$f":"Konstrukce!$D$1","v":18.770175404064034},{"$f":"Konstrukce!$D$2","v":19.934229593106764},{"$f":"Konstrukce!$G$1","v":-12},{"$f":"IF(Data!$B28<MIN(Panely!$A$9:$A$28),VLOOKUP(Data!$B28,tabulka_kce_def,59,FALSE),VLOOKUP(Data!$B28,tabulka_panely_def,63,FALSE))","v":"h"},{"$f":"IF(Data!$B28<MIN(Panely!$A$9:$A$28),VLOOKUP(Data!$B28,tabulka_kce_def,60,FALSE),VLOOKUP(Data!$B28,tabulka_panely_def,64,FALSE))","v":""},{"$f":"IF(Data!$B28<MIN(Panely!$A$9:$A$28),VLOOKUP(Data!$B28,tabulka_kce_def,61,FALSE),VLOOKUP(Data!$B28,tabulka_panely_def,65,FALSE))","v":""},{"$f":"IF(Data!$B28<MIN(Panely!$A$9:$A$28),VLOOKUP(Data!$B28,tabulka_kce_def,25,FALSE),0)","v":0.49487715766518869},19.847501923301376,null,null,null,null,13,{"$f":"IF(Data!$W28<MIN(Panely!$A$9:$A$28),VLOOKUP(Data!$W28,tabulka_kce_def,62,FALSE),VLOOKUP(Data!$W28,tabulka_panely_def,65,FALSE))","v":"2"},{"$f":"IF(Data!$W28<MIN(Panely!$A$9:$A$28),VLOOKUP(Data!$W28,tabulka_kce_def,Y$1-20,FALSE),VLOOKUP(Data!$W28,tabulka_panely_def,Y$1-18,FALSE))","v":36},{"$f":"IF(Data!$W28<MIN(Panely!$A$9:$A$28),VLOOKUP(Data!$W28,tabulka_kce_def,Z$1-20,FALSE),VLOOKUP(Data!$W28,tabulka_panely_def,Z$1-18,FALSE))","v":3.1},{"$f":"IF(Data!$W28<MIN(Panely!$A$9:$A$28),VLOOKUP(Data!$W28,tabulka_kce_def,AA$1-20,FALSE),VLOOKUP(Data!$W28,tabulka_panely_def,AA$1-18,FALSE))","v":0},{"$f":"IF(Data!$W28<MIN(Panely!$A$9:$A$28),VLOOKUP(Data!$W28,tabulka_kce_def,AB$1-20,FALSE),VLOOKUP(Data!$W28,tabulka_panely_def,AB$1-18,FALSE))","v":36},{"$f":"IF(Data!$W28<MIN(Panely!$A$9:$A$28),VLOOKUP(Data!$W28,tabulka_kce_def,AC$1-20,FALSE),VLOOKUP(Data!$W28,tabulka_panely_def,AC$1-18,FALSE))","v":6.1},{"$f":"IF(Data!$W28<MIN(Panely!$A$9:$A$28),VLOOKUP(Data!$W28,tabulka_kce_def,AD$1-20,FALSE),VLOOKUP(Data!$W28,tabulka_panely_def,AD$1-18,FALSE))","v":0},{"$f":"IF(Data!$W28<MIN(Panely!$A$9:$A$28),VLOOKUP(Data!$W28,tabulka_kce_def,AE$1-20,FALSE),VLOOKUP(Data!$W28,tabulka_panely_def,AE$1-18,FALSE))","v":36},{"$f":"IF(Data!$W28<MIN(Panely!$A$9:$A$28),VLOOKUP(Data!$W28,tabulka_kce_def,AF$1-20,FALSE),VLOOKUP(Data!$W28,tabulka_panely_def,AF$1-18,FALSE))","v":3.1},{"$f":"IF(Data!$W28<MIN(Panely!$A$9:$A$28),VLOOKUP(Data!$W28,tabulka_kce_def,AG$1-20,FALSE),VLOOKUP(Data!$W28,tabulka_panely_def,AG$1-18,FALSE))","v":3},{"$f":"IF(Data!$W28<MIN(Panely!$A$9:$A$28),VLOOKUP(Data!$W28,tabulka_kce_def,AH$1-20,FALSE),VLOOKUP(Data!$W28,tabulka_panely_def,AH$1-18,FALSE))","v":36},{"$f":"IF(Data!$W28<MIN(Panely!$A$9:$A$28),VLOOKUP(Data!$W28,tabulka_kce_def,AI$1-20,FALSE),VLOOKUP(Data!$W28,tabulka_panely_def,AI$1-18,FALSE))","v":6.1},{"$f":"IF(Data!$W28<MIN(Panely!$A$9:$A$28),VLOOKUP(Data!$W28,tabulka_kce_def,AJ$1-20,FALSE),VLOOKUP(Data!$W28,tabulka_panely_def,AJ$1-18,FALSE))","v":3},{"$f":"IF(Data!$W28<MIN(Panely!$A$9:$A$28),VLOOKUP(Data!$W28,tabulka_kce_def,AK$1-20,FALSE),VLOOKUP(Data!$W28,tabulka_panely_def,AK$1-18,FALSE))","v":0},{"$f":"IF(Data!$W28<MIN(Panely!$A$9:$A$28),VLOOKUP(Data!$W28,tabulka_kce_def,AL$1-20,FALSE),VLOOKUP(Data!$W28,tabulka_panely_def,AL$1-18,FALSE))","v":2.9999999999999996},{"$f":"IF(Data!$W28<MIN(Panely!$A$9:$A$28),VLOOKUP(Data!$W28,tabulka_kce_def,AM$1-20,FALSE),VLOOKUP(Data!$W28,tabulka_panely_def,AM$1-18,FALSE))","v":3},28,{"$f":"IF(Data!$W28<MIN(Panely!$A$9:$A$28),VLOOKUP(Data!$W28,tabulka_kce_def,63,FALSE),0)","v":0},{"$f":"IF(Data!$W28<MIN(Panely!$A$9:$A$28),VLOOKUP(Data!$W28,tabulka_kce_def,28,FALSE),1)","v":1},{"$f":"IF(Data!$W28<MIN(Panely!$A$9:$A$28),VLOOKUP(Data!$W28,tabulka_kce_def,23,FALSE),VLOOKUP(Data!$W28,tabulka_panely_def,24,FALSE))","v":20.208861728004312},null,0,null,1,0,{"$error":"#VALUE!"},0,{"$f":"IF(AND(W28>MAX(Konstrukce!A:A),ISNUMBER(W28)),1,0)","v":0}]
[null,27,{"$f":"IF(Data!$B29<MIN(Panely!$A$9:$A$28),VLOOKUP(Data!$B29,tabulka_kce_def,4,FALSE),VLOOKUP(Data!$B29,tabulka_panely_def,4,FALSE))","v":"h3"},{"$f":"IF(Data!$B29<MIN(Panely!$A$9:$A$28),VLOOKUP(Data!$B29,tabulka_kce_def,23,FALSE),VLOOKUP(Data!$B29,tabulka_panely_def,24,FALSE))","v":17.054899606813493},{"$f":"IF(Data!$B29<MIN(Panely!$A$9:$A$28),VLOOKUP(Data!$B29,tabulka_kce_def,21,FALSE),VLOOKUP(Data!$B29,tabulka_panely_def,22,FALSE))","v":5.7950000000000008},{"$f":"IF(Data!$B29<MIN(Panely!$A$9:$A$28),VLOOKUP(Data!$B29,tabulka_kce_def,26,FALSE),VLOOKUP(Data!$B29,tabulka_panely_def,31,FALSE))","v":1.877512640263199},{"$f":"IF(Data!$B29<MIN(Panely!$A$9:$A$28),VLOOKUP(Data!$B29,tabulka_kce_def,27,FALSE),VLOOKUP(Data!$B29,tabulka_panely_def,32,FALSE))","v":3.6517814193583011},{"$f":"IF(VLOOKUP(Data!$B29,tabulka_kce_def,3,FALSE)=\"\",Konstrukce!$G$1,IF(VLOOKUP(Data!$B29,tabulka_kce_def,3,FALSE)=\"z\",Konstrukce!$G$2,VLOOKUP(Data!$B29,tabulka_kce_def,3,FALSE)))","v":5},{"$f":"IF(Data!$B29<MIN(Panely!$A$9:$A$28),0,VLOOKUP(Data!$B29,tabulka_panely_def,25,FALSE))","v":0},{"$f":"IF(Data!$B29<MIN(Panely!$A$9:$A$28),VLOOKUP(Data!$B29,tabulka_kce_def,24,FALSE),VLOOKUP(Data!$B29,tabulka_panely_def,33,FALSE))","v":0.9},{"$f":"Konstrukce!$D$1","v":18.770175404064034},{"$f":"Konstrukce!$D$2","v":19.934229593106764},{"$f":"Konstrukce!$G$1","v":-12},{"$f":"IF(Data!$B29<MIN(Panely!$A$9:$A$28),VLOOKUP(Data!$B29,tabulka_kce_def,59,FALSE),VLOOKUP(Data!$B29,tabulka_panely_def,63,FALSE))","v":"h"},{"$f":"IF(Data!$B29<MIN(Panely!$A$9:$A$28),VLOOKUP(Data!$B29,tabulka_kce_def,60,FALSE),VLOOKUP(Data!$B29,tabulka_panely_def,64,FALSE))","v":""},{"$f":"IF(Data!$B29<MIN(Panely!$A$9:$A$28),VLOOKUP(Data!$B29,tabulka_kce_def,61,FALSE),VLOOKUP(Data!$B29,tabulka_panely_def,65,FALSE))","v":""},{"$f":"IF(Data!$B29<MIN(Panely!$A$9:$A$28),VLOOKUP(Data!$B29,tabulka_kce_def,25,FALSE),0)","v":0.56374903616817307},17.054899606813493,null,null,null,null,14,{"$f":"IF(Data!$W29<MIN(Panely!$A$9:$A$28),VLOOKUP(Data!$W29,tabulka_kce_def,62,FALSE),VLOOKUP(Data!$W29,tabulka_panely_def,65,FALSE))","v":"3"},{"$f":"IF(Data!$W29<MIN(Panely!$A$9:$A$28),VLOOKUP(Data!$W29,tabulka_kce_def,Y$1-20,FALSE),VLOOKUP(Data!$W29,tabulka_panely_def,Y$1-18,FALSE))","v":6.1},{"$f":"IF(Data!$W29<MIN(Panely!$A$9:$A$28),VLOOKUP(Data!$W29,tabulka_kce_def,Z$1-20,FALSE),VLOOKUP(Data!$W29,tabulka_panely_def,Z$1-18,FALSE))","v":0},{"$f":"IF(Data!$W29<MIN(Panely!$A$9:$A$28),VLOOKUP(Data!$W29,tabulka_kce_def,AA$1-20,FALSE),VLOOKUP(Data!$W29,tabulka_panely_def,AA$1-18,FALSE))","v":0},{"$f":"IF(Data!$W29<MIN(Panely!$A$9:$A$28),VLOOKUP(Data!$W29,tabulka_kce_def,AB$1-20,FALSE),VLOOKUP(Data!$W29,tabulka_panely_def,AB$1-18,FALSE))","v":36},{"$f":"IF(Data!$W29<MIN(Panely!$A$9:$A$28),VLOOKUP(Data!$W29,tabulka_kce_def,AC$1-20,FALSE),VLOOKUP(Data!$W29,tabulka_panely_def,AC$1-18,FALSE))","v":0},{"$f":"IF(Data!$W29<MIN(Panely!$A$9:$A$28),VLOOKUP(Data!$W29,tabulka_kce_def,AD$1-20,FALSE),VLOOKUP(Data!$W29,tabulka_panely_def,AD$1-18,FALSE))","v":0},{"$f":"IF(Data!$W29<MIN(Panely!$A$9:$A$28),VLOOKUP(Data!$W29,tabulka_kce_def,AE$1-20,FALSE),VLOOKUP(Data!$W29,tabulka_panely_def,AE$1-18,FALSE))","v":6.1},{"$f":"IF(Data!$W29<MIN(Panely!$A$9:$A$28),VLOOKUP(Data!$W29,tabulka_kce_def,AF$1-20,FALSE),VLOOKUP(Data!$W29,tabulka_panely_def,AF$1-18,FALSE))","v":0},{"$f":"IF(Data!$W29<MIN(Panely!$A$9:$A$28),VLOOKUP(Data!$W29,tabulka_kce_def,AG$1-20,FALSE),VLOOKUP(Data!$W29,tabulka_panely_def,AG$1-18,FALSE))","v":5.95},{"$f":"IF(Data!$W29<MIN(Panely!$A$9:$A$28),VLOOKUP(Data!$W29,tabulka_kce_def,AH$1-20,FALSE),VLOOKUP(Data!$W29,tabulka_panely_def,AH$1-18,FALSE))","v":36},{"$f":"IF(Data!$W29<MIN(Panely!$A$9:$A$28),VLOOKUP(Data!$W29,tabulka_kce_def,AI$1-20,FALSE),VLOOKUP(Data!$W29,tabulka_panely_def,AI$1-18,FALSE))","v":0},{"$f":"IF(Data!$W29<MIN(Panely!$A$9:$A$28),VLOOKUP(Data!$W29,tabulka_kce_def,AJ$1-20,FALSE),VLOOKUP(Data!$W29,tabulka_panely_def,AJ$1-18,FALSE))","v":5.95},{"$f":"IF(Data!$W29<MIN(Panely!$A$9:$A$28),VLOOKUP(Data!$W29,tabulka_kce_def,AK$1-20,FALSE),VLOOKUP(Data!$W29,tabulka_panely_def,AK$1-18,FALSE))","v":29.9},{"$f":"IF(Data!$W29<MIN(Panely!$A$9:$A$28),VLOOKUP(Data!$W29,tabulka_kce_def,AL$1-20,FALSE),VLOOKUP(Data!$W29,tabulka_panely_def,AL$1-18,FALSE))","v":0},{"$f":"IF(Data!$W29<MIN(Panely!$A$9:$A$28),VLOOKUP(Data!$W29,tabulka_kce_def,AM$1-20,FALSE),VLOOKUP(Data!$W29,tabulka_panely_def,AM$1-18,FALSE))","v":5.95},29,{"$f":"IF(Data!$W29<MIN(Panely!$A$9:$A$28),VLOOKUP(Data!$W29,tabulka_kce_def,63,FALSE),0)","v":1},{"$f":"IF(Data!$W29<MIN(Panely!$A$9:$A$28),VLOOKUP(Data!$W29,tabulka_kce_def,28,FALSE),1)","v":1},{"$f":"IF(Data!$W29<MIN(Panely!$A$9:$A$28),VLOOKUP(Data!$W29,tabulka_kce_def,23,FALSE),VLOOKUP(Data!$W29,tabulka_panely_def,24,FALSE))","v":20.715213623321713},null,0,null,0,0,{"$error":"#VALUE!"},0,{"$f":"IF(AND(W29>MAX(Konstrukce!A:A),ISNUMBER(W29)),1,0)","v":0}]
[null,28,{"$f":"IF(Data!$B30<MIN(Panely!$A$9:$A$28),VLOOKUP(Data!$B30,tabulka_kce_def,4,FALSE),VLOOKUP(Data!$B30,tabulka_panely_def,4,FALSE))","v":"h6"},{"$f":"IF(Data!$B30<MIN(Panely!$A$9:$A$28),VLOOKUP(Data!$B30,tabulka_kce_def,23,FALSE),VLOOKUP(Data!$B30,tabulka_panely_def,24,FALSE))","v":21.141279371622549},{"$f":"IF(Data!$B30<MIN(Panely!$A$9:$A$28),VLOOKUP(Data!$B30,tabulka_kce_def,21,FALSE),VLOOKUP(Data!$B30,tabulka_panely_def,22,FALSE))","v":446.84999999999997},{"$f":"IF(Data!$B30<MIN(Panely!$A$9:$A$28),VLOOKUP(Data!$B30,tabulka_kce_def,26,FALSE),VLOOKUP(Data!$B30,tabulka_panely_def,31,FALSE))","v":0.55214150739515788},{"$f":"IF(Data!$B30<MIN(Panely!$A$9:$A$28),VLOOKUP(Data!$B30,tabulka_kce_def,27,FALSE),VLOOKUP(Data!$B30,tabulka_panely_def,32,FALSE))","v":23},{"$f":"IF(VLOOKUP(Data!$B30,tabulka_kce_def,3,FALSE)=\"\",Konstrukce!$G$1,IF(VLOOKUP(Data!$B30,tabulka_kce_def,3,FALSE)=\"z\",Konstrukce!$G$2,VLOOKUP(Data!$B30,tabulka_kce_def,3,FALSE)))","v":-12},{"$f":"IF(Data!$B30<MIN(Panely!$A$9:$A$28),0,VLOOKUP(Data!$B30,tabulka_panely_def,25,FALSE))","v":0},{"$f":"IF(Data!$B30<MIN(Panely!$A$9:$A$28),VLOOKUP(Data!$B30,tabulka_kce_def,24,FALSE),VLOOKUP(Data!$B30,tabulka_panely_def,33,FALSE))","v":0.9},{"$f":"Konstrukce!$D$1","v":18.770175404064034},{"$f":"Konstrukce!$D$2","v":19.934229593106764},{"$f":"Konstrukce!$G$1","v":-12},{"$f":"IF(Data!$B30<MIN(Panely!$A$9:$A$28),VLOOKUP(Data!$B30,tabulka_kce_def,59,FALSE),VLOOKUP(Data!$B30,tabulka_panely_def,63,FALSE))","v":"h"},{"$f":"IF(Data!$B30<MIN(Panely!$A$9:$A$28),VLOOKUP(Data!$B30,tabulka_kce_def,60,FALSE),VLOOKUP(Data!$B30,tabulka_panely_def,64,FALSE))","v":""},{"$f":"IF(Data!$B30<MIN(Panely!$A$9:$A$28),VLOOKUP(Data!$B30,tabulka_kce_def,61,FALSE),VLOOKUP(Data!$B30,tabulka_panely_def,65,FALSE))","v":""},{"$f":"IF(Data!$B30<MIN(Panely!$A$9:$A$28),VLOOKUP(Data!$B30,tabulka_kce_def,25,FALSE),0)","v":0.24731182795698922},21.141279371622549,null,null,null,null,15,{"$f":"IF(Data!$W30<MIN(Panely!$A$9:$A$28),VLOOKUP(Data!$W30,tabulka_kce_def,62,FALSE),VLOOKUP(Data!$W30,tabulka_panely_def,65,FALSE))","v":"3"},{"$f":"IF(Data!$W30<MIN(Panely!$A$9:$A$28),VLOOKUP(Data!$W30,tabulka_kce_def,Y$1-20,FALSE),VLOOKUP(Data!$W30,tabulka_panely_def,Y$1-18,FALSE))","v":19.600000000000001},{"$f":"IF(Data!$W30<MIN(Panely!$A$9:$A$28),VLOOKUP(Data!$W30,tabulka_kce_def,Z$1-20,FALSE),VLOOKUP(Data!$W30,tabulka_panely_def,Z$1-18,FALSE))","v":0},{"$f":"IF(Data!$W30<MIN(Panely!$A$9:$A$28),VLOOKUP(Data!$W30,tabulka_kce_def,AA$1-20,FALSE),VLOOKUP(Data!$W30,tabulka_panely_def,AA$1-18,FALSE))","v":0},{"$f":"IF(Data!$W30<MIN(Panely!$A$9:$A$28),VLOOKUP(Data!$W30,tabulka_kce_def,AB$1-20,FALSE),VLOOKUP(Data!$W30,tabulka_panely_def,AB$1-18,FALSE))","v":22.6},{"$f":"IF(Data!$W30<MIN(Panely!$A$9:$A$28),VLOOKUP(Data!$W30,tabulka_kce_def,AC$1-20,FALSE),VLOOKUP(Data!$W30,tabulka_panely_def,AC$1-18,FALSE))","v":0},{"$f":"IF(Data!$W30<MIN(Panely!$A$9:$A$28),VLOOKUP(Data!$W30,tabulka_kce_def,AD$1-20,FALSE),VLOOKUP(Data!$W30,tabulka_panely_def,AD$1-18,FALSE))","v":0},{"$f":"IF(Data!$W30<MIN(Panely!$A$9:$A$28),VLOOKUP(Data!$W30,tabulka_kce_def,AE$1-20,FALSE),VLOOKUP(Data!$W30,tabulka_panely_def,AE$1-18,FALSE))","v":19.600000000000001},{"$f":"IF(Data!$W30<MIN(Panely!$A$9:$A$28),VLOOKUP(Data!$W30,tabulka_kce_def,AF$1-20,FALSE),VLOOKUP(Data!$W30,tabulka_panely_def,AF$1-18,FALSE))","v":0},{"$f":"IF(Data!$W30<MIN(Panely!$A$9:$A$28),VLOOKUP(Data!$W30,tabulka_kce_def,AG$1-20,FALSE),VLOOKUP(Data!$W30,tabulka_panely_def,AG$1-18,FALSE))","v":3},{"$f":"IF(Data!$W30<MIN(Panely!$A$9:$A$28),VLOOKUP(Data!$W30,tabulka_kce_def,AH$1-20,FALSE),VLOOKUP(Data!$W30,tabulka_panely_def,AH$1-18,FALSE))","v":22.6},{"$f":"IF(Data!$W30<MIN(Panely!$A$9:$A$28),VLOOKUP(Data!$W30,tabulka_kce_def,AI$1-20,FALSE),VLOOKUP(Data!$W30,tabulka_panely_def,AI$1-18,FALSE))","v":0},{"$f":"IF(Data!$W30<MIN(Panely!$A$9:$A$28),VLOOKUP(Data!$W30,tabulka_kce_def,AJ$1-20,FALSE),VLOOKUP(Data!$W30,tabulka_panely_def,AJ$1-18,FALSE))","v":3},{"$f":"IF(Data!$W30<MIN(Panely!$A$9:$A$28),VLOOKUP(Data!$W30,tabulka_kce_def,AK$1-20,FALSE),VLOOKUP(Data!$W30,tabulka_panely_def,AK$1-18,FALSE))","v":3},{"$f":"IF(Data!$W30<MIN(Panely!$A$9:$A$28),VLOOKUP(Data!$W30,tabulka_kce_def,AL$1-20,FALSE),VLOOKUP(Data!$W30,tabulka_panely_def,AL$1-18,FALSE))","v":0},{"$f":"IF(Data!$W30<MIN(Panely!$A$9:$A$28),VLOOKUP(Data!$W30,tabulka_kce_def,AM$1-20,FALSE),VLOOKUP(Data!$W30,tabulka_panely_def,AM$1-18,FALSE))","v":3},30,{"$f":"IF(Data!$W30<MIN(Panely!$A$9:$A$28),VLOOKUP(Data!$W30,tabulka_kce_def,63,FALSE),0)","v":0},{"$f":"IF(Data!$W30<MIN(Panely!$A$9:$A$28),VLOOKUP(Data!$W30,tabulka_kce_def,28,FALSE),1)","v":1},{"$f":"IF(Data!$W30<MIN(Panely!$A$9:$A$28),VLOOKUP(Data!$W30,tabulka_kce_def,23,FALSE),VLOOKUP(Data!$W30,tabulka_panely_def,24,FALSE))","v":20.414810717622299},null,0,null,1,0,{"$error":"#VALUE!"},0,{"$f":"IF(AND(W30>MAX(Konstrukce!A:A),ISNUMBER(W30)),1,0)","v":0}]
[null,29,{"$f":"IF(Data!$B31<MIN(Panely!$A$9:$A$28),VLOOKUP(Data!$B31,tabulka_kce_def,4,FALSE),VLOOKUP(Data!$B31,tabulka_panely_def,4,FALSE))","v":"h6"},{"$f":"IF(Data!$B31<MIN(Panely!$A$9:$A$28),VLOOKUP(Data!$B31,tabulka_kce_def,23,FALSE),VLOOKUP(Data!$B31,tabulka_panely_def,24,FALSE))","v":12.23382597159998},{"$f":"IF(Data!$B31<MIN(Panely!$A$9:$A$28),VLOOKUP(Data!$B31,tabulka_kce_def,21,FALSE),VLOOKUP(Data!$B31,tabulka_panely_def,22,FALSE))","v":89.550000000000011},{"$f":"IF(Data!$B31<MIN(Panely!$A$9:$A$28),VLOOKUP(Data!$B31,tabulka_kce_def,26,FALSE),VLOOKUP(Data!$B31,tabulka_panely_def,31,FALSE))","v":1.0015880731104128},{"$f":"IF(Data!$B31<MIN(Panely!$A$9:$A$28),VLOOKUP(Data!$B31,tabulka_kce_def,27,FALSE),VLOOKUP(Data!$B31,tabulka_panely_def,32,FALSE))","v":23},{"$f":"IF(VLOOKUP(Data!$B31,tabulka_kce_def,3,FALSE)=\"\",Konstrukce!$G$1,IF(VLOOKUP(Data!$B31,tabulka_kce_def,3,FALSE)=\"z\",Konstrukce!$G$2,VLOOKUP(Data!$B31,tabulka_kce_def,3,FALSE)))","v":-12},{"$f":"IF(Data!$B31<MIN(Panely!$A$9:$A$28),0,VLOOKUP(Data!$B31,tabulka_panely_def,25,FALSE))","v":0},{"$f":"IF(Data!$B31<MIN(Panely!$A$9:$A$28),VLOOKUP(Data!$B31,tabulka_kce_def,24,FALSE),VLOOKUP(Data!$B31,tabulka_panely_def,33,FALSE))","v":0.9},{"$f":"Konstrukce!$D$1","v":18.770175404064034},{"$f":"Konstrukce!$D$2","v":19.934229593106764},{"$f":"Konstrukce!$G$1","v":-12},{"$f":"IF(Data!$B31<MIN(Panely!$A$9:$A$28),VLOOKUP(Data!$B31,tabulka_kce_def,59,FALSE),VLOOKUP(Data!$B31,tabulka_panely_def,63,FALSE))","v":"h"},{"$f":"IF(Data!$B31<MIN(Panely!$A$9:$A$28),VLOOKUP(Data!$B31,tabulka_kce_def,60,FALSE),VLOOKUP(Data!$B31,tabulka_panely_def,64,FALSE))","v":""},{"$f":"IF(Data!$B31<MIN(Panely!$A$9:$A$28),VLOOKUP(Data!$B31,tabulka_kce_def,61,FALSE),VLOOKUP(Data!$B31,tabulka_panely_def,65,FALSE))","v":""},{"$f":"IF(Data!$B31<MIN(Panely!$A$9:$A$28),VLOOKUP(Data!$B31,tabulka_kce_def,25,FALSE),0)","v":2.2549019607843137},12.23382597159998,null,null,null,null,16,{"$f":"IF(Data!$W31<MIN(Panely!$A$9:$A$28),VLOOKUP(Data!$W31,tabulka_kce_def,62,FALSE),VLOOKUP(Data!$W31,tabulka_panely_def,65,FALSE))","v":"3"},{"$f":"IF(Data!$W31<MIN(Panely!$A$9:$A$28),VLOOKUP(Data!$W31,tabulka_kce_def,Y$1-20,FALSE),VLOOKUP(Data!$W31,tabulka_panely_def,Y$1-18,FALSE))","v":0},{"$f":"IF(Data!$W31<MIN(Panely!$A$9:$A$28),VLOOKUP(Data!$W31,tabulka_kce_def,Z$1-20,FALSE),VLOOKUP(Data!$W31,tabulka_panely_def,Z$1-18,FALSE))","v":0},{"$f":"IF(Data!$W31<MIN(Panely!$A$9:$A$28),VLOOKUP(Data!$W31,tabulka_kce_def,AA$1-20,FALSE),VLOOKUP(Data!$W31,tabulka_panely_def,AA$1-18,FALSE))","v":0},{"$f":"IF(Data!$W31<MIN(Panely!$A$9:$A$28),VLOOKUP(Data!$W31,tabulka_kce_def,AB$1-20,FALSE),VLOOKUP(Data!$W31,tabulka_panely_def,AB$1-18,FALSE))","v":6.1},{"$f":"IF(Data!$W31<MIN(Panely!$A$9:$A$28),VLOOKUP(Data!$W31,tabulka_kce_def,AC$1-20,FALSE),VLOOKUP(Data!$W31,tabulka_panely_def,AC$1-18,FALSE))","v":0},{"$f":"IF(Data!$W31<MIN(Panely!$A$9:$A$28),VLOOKUP(Data!$W31,tabulka_kce_def,AD$1-20,FALSE),VLOOKUP(Data!$W31,tabulka_panely_def,AD$1-18,FALSE))","v":0},{"$f":"IF(Data!$W31<MIN(Panely!$A$9:$A$28),VLOOKUP(Data!$W31,tabulka_kce_def,AE$1-20,FALSE),VLOOKUP(Data!$W31,tabulka_panely_def,AE$1-18,FALSE))","v":0},{"$f":"IF(Data!$W31<MIN(Panely!$A$9:$A$28),VLOOKUP(Data!$W31,tabulka_kce_def,AF$1-20,FALSE),VLOOKUP(Data!$W31,tabulka_panely_def,AF$1-18,FALSE))","v":0},{"$f":"IF(Data!$W31<MIN(Panely!$A$9:$A$28),VLOOKUP(Data!$W31,tabulka_kce_def,AG$1-20,FALSE),VLOOKUP(Data!$W31,tabulka_panely_def,AG$1-18,FALSE))","v":5.95},{"$f":"IF(Data!$W31<MIN(Panely!$A$9:$A$28),VLOOKUP(Data!$W31,tabulka_kce_def,AH$1-20,FALSE),VLOOKUP(Data!$W31,tabulka_panely_def,AH$1-18,FALSE))","v":6.1},{"$f":"IF(Data!$W31<MIN(Panely!$A$9:$A$28),VLOOKUP(Data!$W31,tabulka_kce_def,AI$1-20,FALSE),VLOOKUP(Data!$W31,tabulka_panely_def,AI$1-18,FALSE))","v":0},{"$f":"IF(Data!$W31<MIN(Panely!$A$9:$A$28),VLOOKUP(Data!$W31,tabulka_kce_def,AJ$1-20,FALSE),VLOOKUP(Data!$W31,tabulka_panely_def,AJ$1-18,FALSE))","v":5.95},{"$f":"IF(Data!$W31<MIN(Panely!$A$9:$A$28),VLOOKUP(Data!$W31,tabulka_kce_def,AK$1-20,FALSE),VLOOKUP(Data!$W31,tabulka_panely_def,AK$1-18,FALSE))","v":6.1},{"$f":"IF(Data!$W31<MIN(Panely!$A$9:$A$28),VLOOKUP(Data!$W31,tabulka_kce_def,AL$1-20,FALSE),VLOOKUP(Data!$W31,tabulka_panely_def,AL$1-18,FALSE))","v":0},{"$f":"IF(Data!$W31<MIN(Panely!$A$9:$A$28),VLOOKUP(Data!$W31,tabulka_kce_def,AM$1-20,FALSE),VLOOKUP(Data!$W31,tabulka_panely_def,AM$1-18,FALSE))","v":5.95},31,{"$f":"IF(Data!$W31<MIN(Panely!$A$9:$A$28),VLOOKUP(Data!$W31,tabulka_kce_def,63,FALSE),0)","v":0},{"$f":"IF(Data!$W31<MIN(Panely!$A$9:$A$28),VLOOKUP(Data!$W31,tabulka_kce_def,28,FALSE),1)","v":1},{"$f":"IF(Data!$W31<MIN(Panely!$A$9:$A$28),VLOOKUP(Data!$W31,tabulka_kce_def,23,FALSE),VLOOKUP(Data!$W31,tabulka_panely_def,24,FALSE))","v":20.608738062670845},null,0,null,0,0,{"$error":"#VALUE!"},0,{"$f":"IF(AND(W31>MAX(Konstrukce!A:A),ISNUMBER(W31)),1,0)","v":0}]
[null,30,{"$f":"IF(Data!$B32<MIN(Panely!$A$9:$A$28),VLOOKUP(Data!$B32,tabulka_kce_def,4,FALSE),VLOOKUP(Data!$B32,tabulka_panely_def,4,FALSE))","v":"s6p"},{"$f":"IF(Data!$B32<MIN(Panely!$A$9:$A$28),VLOOKUP(Data!$B32,tabulka_kce_def,23,FALSE),VLOOKUP(Data!$B32,tabulka_panely_def,24,FALSE))","v":83.119244173431809},{"$f":"IF(Data!$B32<MIN(Panely!$A$9:$A$28),VLOOKUP(Data!$B32,tabulka_kce_def,21,FALSE),VLOOKUP(Data!$B32,tabulka_panely_def,22,FALSE))","v":33.600000000000023},{"$f":"IF(Data!$B32<MIN(Panely!$A$9:$A$28),VLOOKUP(Data!$B32,tabulka_kce_def,26,FALSE),VLOOKUP(Data!$B32,tabulka_panely_def,31,FALSE))","v":2.2031668076175608},{"$f":"IF(Data!$B32<MIN(Panely!$A$9:$A$28),VLOOKUP(Data!$B32,tabulka_kce_def,27,FALSE),VLOOKUP(Data!$B32,tabulka_panely_def,32,FALSE))","v":4.0539365518016766},{"$f":"IF(VLOOKUP(Data!$B32,tabulka_kce_def,3,FALSE)=\"\",Konstrukce!$G$1,IF(VLOOKUP(Data!$B32,tabulka_kce_def,3,FALSE)=\"z\",Konstrukce!$G$2,VLOOKUP(Data!$B32,tabulka_kce_def,3,FALSE)))","v":{"$error":"#N/A"}},{"$f":"IF(Data!$B32<MIN(Panely!$A$9:$A$28),0,VLOOKUP(Data!$B32,tabulka_panely_def,25,FALSE))","v":31.936243270463216},{"$f":"IF(Data!$B32<MIN(Panely!$A$9:$A$28),VLOOKUP(Data!$B32,tabulka_kce_def,24,FALSE),VLOOKUP(Data!$B32,tabulka_panely_def,33,FALSE))","v":0.9},{"$f":"Konstrukce!$D$1","v":18.770175404064034},{"$f":"Konstrukce!$D$2","v":19.934229593106764},{"$f":"Konstrukce!$G$1","v":-12},{"$f":"IF(Data!$B32<MIN(Panely!$A$9:$A$28),VLOOKUP(Data!$B32,tabulka_kce_def,59,FALSE),VLOOKUP(Data!$B32,tabulka_panely_def,63,FALSE))","v":"s"},{"$f":"IF(Data!$B32<MIN(Panely!$A$9:$A$28),VLOOKUP(Data!$B32,tabulka_kce_def,60,FALSE),VLOOKUP(Data!$B32,tabulka_panely_def,64,FALSE))","v":"p"},{"$f":"IF(Data!$B32<MIN(Panely!$A$9:$A$28),VLOOKUP(Data!$B32,tabulka_kce_def,61,FALSE),VLOOKUP(Data!$B32,tabulka_panely_def,65,FALSE))","v":"6"},{"$f":"IF(Data!$B32<MIN(Panely!$A$9:$A$28),VLOOKUP(Data!$B32,tabulka_kce_def,25,FALSE),0)","v":0},83.119244173431809,null,null,null,null,17,{"$f":"IF(Data!$W32<MIN(Panely!$A$9:$A$28),VLOOKUP(Data!$W32,tabulka_kce_def,62,FALSE),VLOOKUP(Data!$W32,tabulka_panely_def,65,FALSE))","v":"5"},{"$f":"IF(Data!$W32<MIN(Panely!$A$9:$A$28),VLOOKUP(Data!$W32,tabulka_kce_def,Y$1-20,FALSE),VLOOKUP(Data!$W32,tabulka_panely_def,Y$1-18,FALSE))","v":0},{"$f":"IF(Data!$W32<MIN(Panely!$A$9:$A$28),VLOOKUP(Data!$W32,tabulka_kce_def,Z$1-20,FALSE),VLOOKUP(Data!$W32,tabulka_panely_def,Z$1-18,FALSE))","v":0},{"$f":"IF(Data!$W32<MIN(Panely!$A$9:$A$28),VLOOKUP(Data!$W32,tabulka_kce_def,AA$1-20,FALSE),VLOOKUP(Data!$W32,tabulka_panely_def,AA$1-18,FALSE))","v":0},{"$f":"IF(Data!$W32<MIN(Panely!$A$9:$A$28),VLOOKUP(Data!$W32,tabulka_kce_def,AB$1-20,FALSE),VLOOKUP(Data!$W32,tabulka_panely_def,AB$1-18,FALSE))","v":36},{"$f":"IF(Data!$W32<MIN(Panely!$A$9:$A$28),VLOOKUP(Data!$W32,tabulka_kce_def,AC$1-20,FALSE),VLOOKUP(Data!$W32,tabulka_panely_def,AC$1-18,FALSE))","v":0},{"$f":"IF(Data!$W32<MIN(Panely!$A$9:$A$28),VLOOKUP(Data!$W32,tabulka_kce_def,AD$1-20,FALSE),VLOOKUP(Data!$W32,tabulka_panely_def,AD$1-18,FALSE))","v":0},{"$f":"IF(Data!$W32<MIN(Panely!$A$9:$A$28),VLOOKUP(Data!$W32,tabulka_kce_def,AE$1-20,FALSE),VLOOKUP(Data!$W32,tabulka_panely_def,AE$1-18,FALSE))","v":0},{"$f":"IF(Data!$W32<MIN(Panely!$A$9:$A$28),VLOOKUP(Data!$W32,tabulka_kce_def,AF$1-20,FALSE),VLOOKUP(Data!$W32,tabulka_panely_def,AF$1-18,FALSE))","v":14.9},{"$f":"IF(Data!$W32<MIN(Panely!$A$9:$A$28),VLOOKUP(Data!$W32,tabulka_kce_def,AG$1-20,FALSE),VLOOKUP(Data!$W32,tabulka_panely_def,AG$1-18,FALSE))","v":0},{"$f":"IF(Data!$W32<MIN(Panely!$A$9:$A$28),VLOOKUP(Data!$W32,tabulka_kce_def,AH$1-20,FALSE),VLOOKUP(Data!$W32,tabulka_panely_def,AH$1-18,FALSE))","v":36},{"$f":"IF(Data!$W32<MIN(Panely!$A$9:$A$28),VLOOKUP(Data!$W32,tabulka_kce_def,AI$1-20,FALSE),VLOOKUP(Data!$W32,tabulka_panely_def,AI$1-18,FALSE))","v":14.9},{"$f":"IF(Data!$W32<MIN(Panely!$A$9:$A$28),VLOOKUP(Data!$W32,tabulka_kce_def,AJ$1-20,FALSE),VLOOKUP(Data!$W32,tabulka_panely_def,AJ$1-18,FALSE))","v":0},{"$f":"IF(Data!$W32<MIN(Panely!$A$9:$A$28),VLOOKUP(Data!$W32,tabulka_kce_def,AK$1-20,FALSE),VLOOKUP(Data!$W32,tabulka_panely_def,AK$1-18,FALSE))","v":36},{"$f":"IF(Data!$W32<MIN(Panely!$A$9:$A$28),VLOOKUP(Data!$W32,tabulka_kce_def,AL$1-20,FALSE),VLOOKUP(Data!$W32,tabulka_panely_def,AL$1-18,FALSE))","v":14.9},{"$f":"IF(Data!$W32<MIN(Panely!$A$9:$A$28),VLOOKUP(Data!$W32,tabulka_kce_def,AM$1-20,FALSE),VLOOKUP(Data!$W32,tabulka_panely_def,AM$1-18,FALSE))","v":0},32,{"$f":"IF(Data!$W32<MIN(Panely!$A$9:$A$28),VLOOKUP(Data!$W32,tabulka_kce_def,63,FALSE),0)","v":0},{"$f":"IF(Data!$W32<MIN(Panely!$A$9:$A$28),VLOOKUP(Data!$W32,tabulka_kce_def,28,FALSE),1)","v":1},{"$f":"IF(Data!$W32<MIN(Panely!$A$9:$A$28),VLOOKUP(Data!$W32,tabulka_kce_def,23,FALSE),VLOOKUP(Data!$W32,tabulka_panely_def,24,FALSE))","v":21.5895425358853},null,0,null,0,0,{"$error":"#VALUE!"},0,{"$f":"IF(AND(W32>MAX(Konstrukce!A:A),ISNUMBER(W32)),1,0)","v":0}]
[null,31,{"$f":"IF(Data!$B33<MIN(Panely!$A$9:$A$28),VLOOKUP(Data!$B33,tabulka_kce_def,4,FALSE),VLOOKUP(Data!$B33,tabulka_panely_def,4,FALSE))","v":"s6p"},{"$f":"IF(Data!$B33<MIN(Panely!$A$9:$A$28),VLOOKUP(Data!$B33,tabulka_kce_def,23,FALSE),VLOOKUP(Data!$B33,tabulka_panely_def,24,FALSE))","v":73.447386182804053},{"$f":"IF(Data!$B33<MIN(Panely!$A$9:$A$28),VLOOKUP(Data!$B33,tabulka_kce_def,21,FALSE),VLOOKUP(Data!$B33,tabulka_panely_def,22,FALSE))","v":33.599999999999994},{"$f":"IF(Data!$B33<MIN(Panely!$A$9:$A$28),VLOOKUP(Data!$B33,tabulka_kce_def,26,FALSE),VLOOKUP(Data!$B33,tabulka_panely_def,31,FALSE))","v":2.1239859203827463},{"$f":"IF(Data!$B33<MIN(Panely!$A$9:$A$28),VLOOKUP(Data!$B33,tabulka_kce_def,27,FALSE),VLOOKUP(Data!$B33,tabulka_panely_def,32,FALSE))","v":3.8963621216446915},{"$f":"IF(VLOOKUP(Data!$B33,tabulka_kce_def,3,FALSE)=\"\",Konstrukce!$G$1,IF(VLOOKUP(Data!$B33,tabulka_kce_def,3,FALSE)=\"z\",Konstrukce!$G$2,VLOOKUP(Data!$B33,tabulka_kce_def,3,FALSE)))","v":{"$error":"#N/A"}},{"$f":"IF(Data!$B33<MIN(Panely!$A$9:$A$28),0,VLOOKUP(Data!$B33,tabulka_panely_def,25,FALSE))","v":30.430385075367546},{"$f":"IF(Data!$B33<MIN(Panely!$A$9:$A$28),VLOOKUP(Data!$B33,tabulka_kce_def,24,FALSE),VLOOKUP(Data!$B33,tabulka_panely_def,33,FALSE))","v":0.9},{"$f":"Konstrukce!$D$1","v":18.770175404064034},{"$f":"Konstrukce!$D$2","v":19.934229593106764},{"$f":"Konstrukce!$G$1","v":-12},{"$f":"IF(Data!$B33<MIN(Panely!$A$9:$A$28),VLOOKUP(Data!$B33,tabulka_kce_def,59,FALSE),VLOOKUP(Data!$B33,tabulka_panely_def,63,FALSE))","v":"s"},{"$f":"IF(Data!$B33<MIN(Panely!$A$9:$A$28),VLOOKUP(Data!$B33,tabulka_kce_def,60,FALSE),VLOOKUP(Data!$B33,tabulka_panely_def,64,FALSE))","v":"p"},{"$f":"IF(Data!$B33<MIN(Panely!$A$9:$A$28),VLOOKUP(Data!$B33,tabulka_kce_def,61,FALSE),VLOOKUP(Data!$B33,tabulka_panely_def,65,FALSE))","v":"6"},{"$f":"IF(Data!$B33<MIN(Panely!$A$9:$A$28),VLOOKUP(Data!$B33,tabulka_kce_def,25,FALSE),0)","v":0},73.447386182804053,null,null,null,null,18,{"$f":"IF(Data!$W33<MIN(Panely!$A$9:$A$28),VLOOKUP(Data!$W33,tabulka_kce_def,62,FALSE),VLOOKUP(Data!$W33,tabulka_panely_def,65,FALSE))","v":"6"},{"$f":"IF(Data!$W33<MIN(Panely!$A$9:$A$28),VLOOKUP(Data!$W33,tabulka_kce_def,Y$1-20,FALSE),VLOOKUP(Data!$W33,tabulka_panely_def,Y$1-18,FALSE))","v":0},{"$f":"IF(Data!$W33<MIN(Panely!$A$9:$A$28),VLOOKUP(Data!$W33,tabulka_kce_def,Z$1-20,FALSE),VLOOKUP(Data!$W33,tabulka_panely_def,Z$1-18,FALSE))","v":0},{"$f":"IF(Data!$W33<MIN(Panely!$A$9:$A$28),VLOOKUP(Data!$W33,tabulka_kce_def,AA$1-20,FALSE),VLOOKUP(Data!$W33,tabulka_panely_def,AA$1-18,FALSE))","v":5.95},{"$f":"IF(Data!$W33<MIN(Panely!$A$9:$A$28),VLOOKUP(Data!$W33,tabulka_kce_def,AB$1-20,FALSE),VLOOKUP(Data!$W33,tabulka_panely_def,AB$1-18,FALSE))","v":36},{"$f":"IF(Data!$W33<MIN(Panely!$A$9:$A$28),VLOOKUP(Data!$W33,tabulka_kce_def,AC$1-20,FALSE),VLOOKUP(Data!$W33,tabulka_panely_def,AC$1-18,FALSE))","v":0},{"$f":"IF(Data!$W33<MIN(Panely!$A$9:$A$28),VLOOKUP(Data!$W33,tabulka_kce_def,AD$1-20,FALSE),VLOOKUP(Data!$W33,tabulka_panely_def,AD$1-18,FALSE))","v":5.95},{"$f":"IF(Data!$W33<MIN(Panely!$A$9:$A$28),VLOOKUP(Data!$W33,tabulka_kce_def,AE$1-20,FALSE),VLOOKUP(Data!$W33,tabulka_panely_def,AE$1-18,FALSE))","v":0},{"$f":"IF(Data!$W33<MIN(Panely!$A$9:$A$28),VLOOKUP(Data!$W33,tabulka_kce_def,AF$1-20,FALSE),VLOOKUP(Data!$W33,tabulka_panely_def,AF$1-18,FALSE))","v":14.9},{"$f":"IF(Data!$W33<MIN(Panely!$A$9:$A$28),VLOOKUP(Data!$W33,tabulka_kce_def,AG$1-20,FALSE),VLOOKUP(Data!$W33,tabulka_panely_def,AG$1-18,FALSE))","v":5.95},{"$f":"IF(Data!$W33<MIN(Panely!$A$9:$A$28),VLOOKUP(Data!$W33,tabulka_kce_def,AH$1-20,FALSE),VLOOKUP(Data!$W33,tabulka_panely_def,AH$1-18,FALSE))","v":36},{"$f":"IF(Data!$W33<MIN(Panely!$A$9:$A$28),VLOOKUP(Data!$W33,tabulka_kce_def,AI$1-20,FALSE),VLOOKUP(Data!$W33,tabulka_panely_def,AI$1-18,FALSE))","v":14.9},{"$f":"IF(Data!$W33<MIN(Panely!$A$9:$A$28),VLOOKUP(Data!$W33,tabulka_kce_def,AJ$1-20,FALSE),VLOOKUP(Data!$W33,tabulka_panely_def,AJ$1-18,FALSE))","v":5.95},{"$f":"IF(Data!$W33<MIN(Panely!$A$9:$A$28),VLOOKUP(Data!$W33,tabulka_kce_def,AK$1-20,FALSE),VLOOKUP(Data!$W33,tabulka_panely_def,AK$1-18,FALSE))","v":36},{"$f":"IF(Data!$W33<MIN(Panely!$A$9:$A$28),VLOOKUP(Data!$W33,tabulka_kce_def,AL$1-20,FALSE),VLOOKUP(Data!$W33,tabulka_panely_def,AL$1-18,FALSE))","v":14.9},{"$f":"IF(Data!$W33<MIN(Panely!$A$9:$A$28),VLOOKUP(Data!$W33,tabulka_kce_def,AM$1-20,FALSE),VLOOKUP(Data!$W33,tabulka_panely_def,AM$1-18,FALSE))","v":0},33,{"$f":"IF(Data!$W33<MIN(Panely!$A$9:$A$28),VLOOKUP(Data!$W33,tabulka_kce_def,63,FALSE),0)","v":0},{"$f":"IF(Data!$W33<MIN(Panely!$A$9:$A$28),VLOOKUP(Data!$W33,tabulka_kce_def,28,FALSE),1)","v":0},{"$f":"IF(Data!$W33<MIN(Panely!$A$9:$A$28),VLOOKUP(Data!$W33,tabulka_kce_def,23,FALSE),VLOOKUP(Data!$W33,tabulka_panely_def,24,FALSE))","v":21.141279371622549},null,0,null,0,1,28,0,{"$f":"IF(AND(W33>MAX(Konstrukce!A:A),ISNUMBER(W33)),1,0)","v":0}]
[null,"=",{"$f":"IF(Data!$B34<MIN(Panely!$A$9:$A$28),VLOOKUP(Data!$B34,tabulka_kce_def,4,FALSE),VLOOKUP(Data!$B34,tabulka_panely_def,4,FALSE))","v":0},{"$f":"IF(Data!$B34<MIN(Panely!$A$9:$A$28),VLOOKUP(Data!$B34,tabulka_kce_def,23,FALSE),VLOOKUP(Data!$B34,tabulka_panely_def,24,FALSE))","v":0},{"$f":"IF(Data!$B34<MIN(Panely!$A$9:$A$28),VLOOKUP(Data!$B34,tabulka_kce_def,21,FALSE),VLOOKUP(Data!$B34,tabulka_panely_def,22,FALSE))","v":0},{"$f":"IF(Data!$B34<MIN(Panely!$A$9:$A$28),VLOOKUP(Data!$B34,tabulka_kce_def,26,FALSE),VLOOKUP(Data!$B34,tabulka_panely_def,31,FALSE))","v":{"$error":"#DIV/0!"}},{"$f":"IF(Data!$B34<MIN(Panely!$A$9:$A$28),VLOOKUP(Data!$B34,tabulka_kce_def,27,FALSE),VLOOKUP(Data!$B34,tabulka_panely_def,32,FALSE))","v":{"$error":"#DIV/0!"}},{"$f":"IF(VLOOKUP(Data!$B34,tabulka_kce_def,3,FALSE)=\"\",Konstrukce!$G$1,IF(VLOOKUP(Data!$B34,tabulka_kce_def,3,FALSE)=\"z\",Konstrukce!$G$2,VLOOKUP(Data!$B34,tabulka_kce_def,3,FALSE)))","v":{"$error":"#N/A"}},{"$f":"IF(Data!$B34<MIN(Panely!$A$9:$A$28),0,VLOOKUP(Data!$B34,tabulka_panely_def,25,FALSE))","v":0},{"$f":"IF(Data!$B34<MIN(Panely!$A$9:$A$28),VLOOKUP(Data!$B34,tabulka_kce_def,24,FALSE),VLOOKUP(Data!$B34,tabulka_panely_def,33,FALSE))","v":{"$error":"#N/A"}},{"$f":"Konstrukce!$D$1","v":18.770175404064034},{"$f":"Konstrukce!$D$2","v":19.934229593106764},{"$f":"Konstrukce!$G$1","v":-12},{"$f":"IF(Data!$B34<MIN(Panely!$A$9:$A$28),VLOOKUP(Data!$B34,tabulka_kce_def,59,FALSE),VLOOKUP(Data!$B34,tabulka_panely_def,63,FALSE))","v":""},{"$f":"IF(Data!$B34<MIN(Panely!$A$9:$A$28),VLOOKUP(Data!$B34,tabulka_kce_def,60,FALSE),VLOOKUP(Data!$B34,tabulka_panely_def,64,FALSE))","v":""},{"$f":"IF(Data!$B34<MIN(Panely!$A$9:$A$28),VLOOKUP(Data!$B34,tabulka_kce_def,61,FALSE),VLOOKUP(Data!$B34,tabulka_panely_def,65,FALSE))","v":""},{"$f":"IF(Data!$B34<MIN(Panely!$A$9:$A$28),VLOOKUP(Data!$B34,tabulka_kce_def,25,FALSE),0)","v":0},0,null,null,null,null,19,{"$f":"IF(Data!$W34<MIN(Panely!$A$9:$A$28),VLOOKUP(Data!$W34,tabulka_kce_def,62,FALSE),VLOOKUP(Data!$W34,tabulka_panely_def,65,FALSE))","v":"6"},{"$f":"IF(Data!$W34<MIN(Panely!$A$9:$A$28),VLOOKUP(Data!$W34,tabulka_kce_def,Y$1-20,FALSE),VLOOKUP(Data!$W34,tabulka_panely_def,Y$1-18,FALSE))","v":6.15},{"$f":"IF(Data!$W34<MIN(Panely!$A$9:$A$28),VLOOKUP(Data!$W34,tabulka_kce_def,Z$1-20,FALSE),VLOOKUP(Data!$W34,tabulka_panely_def,Z$1-18,FALSE))","v":5.9},{"$f":"IF(Data!$W34<MIN(Panely!$A$9:$A$28),VLOOKUP(Data!$W34,tabulka_kce_def,AA$1-20,FALSE),VLOOKUP(Data!$W34,tabulka_panely_def,AA$1-18,FALSE))","v":5.95},{"$f":"IF(Data!$W34<MIN(Panely!$A$9:$A$28),VLOOKUP(Data!$W34,tabulka_kce_def,AB$1-20,FALSE),VLOOKUP(Data!$W34,tabulka_panely_def,AB$1-18,FALSE))","v":36},{"$f":"IF(Data!$W34<MIN(Panely!$A$9:$A$28),VLOOKUP(Data!$W34,tabulka_kce_def,AC$1-20,FALSE),VLOOKUP(Data!$W34,tabulka_panely_def,AC$1-18,FALSE))","v":5.9},{"$f":"IF(Data!$W34<MIN(Panely!$A$9:$A$28),VLOOKUP(Data!$W34,tabulka_kce_def,AD$1-20,FALSE),VLOOKUP(Data!$W34,tabulka_panely_def,AD$1-18,FALSE))","v":5.95},{"$f":"IF(Data!$W34<MIN(Panely!$A$9:$A$28),VLOOKUP(Data!$W34,tabulka_kce_def,AE$1-20,FALSE),VLOOKUP(Data!$W34,tabulka_panely_def,AE$1-18,FALSE))","v":6.15},{"$f":"IF(Data!$W34<MIN(Panely!$A$9:$A$28),VLOOKUP(Data!$W34,tabulka_kce_def,AF$1-20,FALSE),VLOOKUP(Data!$W34,tabulka_panely_def,AF$1-18,FALSE))","v":8.9},{"$f":"IF(Data!$W34<MIN(Panely!$A$9:$A$28),VLOOKUP(Data!$W34,tabulka_kce_def,AG$1-20,FALSE),VLOOKUP(Data!$W34,tabulka_panely_def,AG$1-18,FALSE))","v":5.95},{"$f":"IF(Data!$W34<MIN(Panely!$A$9:$A$28),VLOOKUP(Data!$W34,tabulka_kce_def,AH$1-20,FALSE),VLOOKUP(Data!$W34,tabulka_panely_def,AH$1-18,FALSE))","v":36},{"$f":"IF(Data!$W34<MIN(Panely!$A$9:$A$28),VLOOKUP(Data!$W34,tabulka_kce_def,AI$1-20,FALSE),VLOOKUP(Data!$W34,tabulka_panely_def,AI$1-18,FALSE))","v":8.9},{"$f":"IF(Data!$W34<MIN(Panely!$A$9:$A$28),VLOOKUP(Data!$W34,tabulka_kce_def,AJ$1-20,FALSE),VLOOKUP(Data!$W34,tabulka_panely_def,AJ$1-18,FALSE))","v":5.95},{"$f":"IF(Data!$W34<MIN(Panely!$A$9:$A$28),VLOOKUP(Data!$W34,tabulka_kce_def,AK$1-20,FALSE),VLOOKUP(Data!$W34,tabulka_panely_def,AK$1-18,FALSE))","v":29.85},{"$f":"IF(Data!$W34<MIN(Panely!$A$9:$A$28),VLOOKUP(Data!$W34,tabulka_kce_def,AL$1-20,FALSE),VLOOKUP(Data!$W34,tabulka_panely_def,AL$1-18,FALSE))","v":3},{"$f":"IF(Data!$W34<MIN(Panely!$A$9:$A$28),VLOOKUP(Data!$W34,tabulka_kce_def,AM$1-20,FALSE),VLOOKUP(Data!$W34,tabulka_panely_def,AM$1-18,FALSE))","v":0},34,{"$f":"IF(Data!$W34<MIN(Panely!$A$9:$A$28),VLOOKUP(Data!$W34,tabulka_kce_def,63,FALSE),0)","v":0},{"$f":"IF(Data!$W34<MIN(Panely!$A$9:$A$28),VLOOKUP(Data!$W34,tabulka_kce_def,28,FALSE),1)","v":1},{"$f":"IF(Data!$W34<MIN(Panely!$A$9:$A$28),VLOOKUP(Data!$W34,tabulka_kce_def,23,FALSE),VLOOKUP(Data!$W34,tabulka_panely_def,24,FALSE))","v":12.23382597159998},null,0,null,0,1,29,1,{"$f":"IF(AND(W34>MAX(Konstrukce!A:A),ISNUMBER(W34)),1,0)","v":0}]
[null,"=",{"$f":"IF(Data!$B35<MIN(Panely!$A$9:$A$28),VLOOKUP(Data!$B35,tabulka_kce_def,4,FALSE),VLOOKUP(Data!$B35,tabulka_panely_def,4,FALSE))","v":0},{"$f":"IF(Data!$B35<MIN(Panely!$A$9:$A$28),VLOOKUP(Data!$B35,tabulka_kce_def,23,FALSE),VLOOKUP(Data!$B35,tabulka_panely_def,24,FALSE))","v":0},{"$f":"IF(Data!$B35<MIN(Panely!$A$9:$A$28),VLOOKUP(Data!$B35,tabulka_kce_def,21,FALSE),VLOOKUP(Data!$B35,tabulka_panely_def,22,FALSE))","v":0},{"$f":"IF(Data!$B35<MIN(Panely!$A$9:$A$28),VLOOKUP(Data!$B35,tabulka_kce_def,26,FALSE),VLOOKUP(Data!$B35,tabulka_panely_def,31,FALSE))","v":{"$error":"#DIV/0!"}},{"$f":"IF(Data!$B35<MIN(Panely!$A$9:$A$28),VLOOKUP(Data!$B35,tabulka_kce_def,27,FALSE),VLOOKUP(Data!$B35,tabulka_panely_def,32,FALSE))","v":{"$error":"#DIV/0!"}},{"$f":"IF(VLOOKUP(Data!$B35,tabulka_kce_def,3,FALSE)=\"\",Konstrukce!$G$1,IF(VLOOKUP(Data!$B35,tabulka_kce_def,3,FALSE)=\"z\",Konstrukce!$G$2,VLOOKUP(Data!$B35,tabulka_kce_def,3,FALSE)))","v":{"$error":"#N/A"}},{"$f":"IF(Data!$B35<MIN(Panely!$A$9:$A$28),0,VLOOKUP(Data!$B35,tabulka_panely_def,25,FALSE))","v":0},{"$f":"IF(Data!$B35<MIN(Panely!$A$9:$A$28),VLOOKUP(Data!$B35,tabulka_kce_def,24,FALSE),VLOOKUP(Data!$B35,tabulka_panely_def,33,FALSE))","v":{"$error":"#N/A"}},{"$f":"Konstrukce!$D$1","v":18.770175404064034},{"$f":"Konstrukce!$D$2","v":19.934229593106764},{"$f":"Konstrukce!$G$1","v":-12},{"$f":"IF(Data!$B35<MIN(Panely!$A$9:$A$28),VLOOKUP(Data!$B35,tabulka_kce_def,59,FALSE),VLOOKUP(Data!$B35,tabulka_panely_def,63,FALSE))","v":""},{"$f":"IF(Data!$B35<MIN(Panely!$A$9:$A$28),VLOOKUP(Data!$B35,tabulka_kce_def,60,FALSE),VLOOKUP(Data!$B35,tabulka_panely_def,64,FALSE))","v":""},{"$f":"IF(Data!$B35<MIN(Panely!$A$9:$A$28),VLOOKUP(Data!$B35,tabulka_kce_def,61,FALSE),VLOOKUP(Data!$B35,tabulka_panely_def,65,FALSE))","v":""},{"$f":"IF(Data!$B35<MIN(Panely!$A$9:$A$28),VLOOKUP(Data!$B35,tabulka_kce_def,25,FALSE),0)","v":0},{"$f":"IF(O35=\"f\",VLOOKUP(VALUE(P35),tabulka_data,3,FALSE),D35)","v":0},null,null,null,null,30,{"$f":"IF(Data!$W35<MIN(Panely!$A$9:$A$28),VLOOKUP(Data!$W35,tabulka_kce_def,62,FALSE),VLOOKUP(Data!$W35,tabulka_panely_def,65,FALSE))","v":"6"},{"$f":"IF(Data!$W35<MIN(Panely!$A$9:$A$28),VLOOKUP(Data!$W35,tabulka_kce_def,Y$1-20,FALSE),VLOOKUP(Data!$W35,tabulka_panely_def,Y$1-18,FALSE))","v":2.1},{"$f":"IF(Data!$W35<MIN(Panely!$A$9:$A$28),VLOOKUP(Data!$W35,tabulka_kce_def,Z$1-20,FALSE),VLOOKUP(Data!$W35,tabulka_panely_def,Z$1-18,FALSE))","v":10.5},{"$f":"IF(Data!$W35<MIN(Panely!$A$9:$A$28),VLOOKUP(Data!$W35,tabulka_kce_def,AA$1-20,FALSE),VLOOKUP(Data!$W35,tabulka_panely_def,AA$1-18,FALSE))","v":5.95},{"$f":"IF(Data!$W35<MIN(Panely!$A$9:$A$28),VLOOKUP(Data!$W35,tabulka_kce_def,AB$1-20,FALSE),VLOOKUP(Data!$W35,tabulka_panely_def,AB$1-18,FALSE))","v":34.1},{"$f":"IF(Data!$W35<MIN(Panely!$A$9:$A$28),VLOOKUP(Data!$W35,tabulka_kce_def,AC$1-20,FALSE),VLOOKUP(Data!$W35,tabulka_panely_def,AC$1-18,FALSE))","v":10.5},{"$f":"IF(Data!$W35<MIN(Panely!$A$9:$A$28),VLOOKUP(Data!$W35,tabulka_kce_def,AD$1-20,FALSE),VLOOKUP(Data!$W35,tabulka_panely_def,AD$1-18,FALSE))","v":5.95},{"$f":"IF(Data!$W35<MIN(Panely!$A$9:$A$28),VLOOKUP(Data!$W35,tabulka_kce_def,AE$1-20,FALSE),VLOOKUP(Data!$W35,tabulka_panely_def,AE$1-18,FALSE))","v":2.1},{"$f":"IF(Data!$W35<MIN(Panely!$A$9:$A$28),VLOOKUP(Data!$W35,tabulka_kce_def,AF$1-20,FALSE),VLOOKUP(Data!$W35,tabulka_panely_def,AF$1-18,FALSE))","v":11.55},{"$f":"IF(Data!$W35<MIN(Panely!$A$9:$A$28),VLOOKUP(Data!$W35,tabulka_kce_def,AG$1-20,FALSE),VLOOKUP(Data!$W35,tabulka_panely_def,AG$1-18,FALSE))","v":5.95},{"$f":"IF(Data!$W35<MIN(Panely!$A$9:$A$28),VLOOKUP(Data!$W35,tabulka_kce_def,AH$1-20,FALSE),VLOOKUP(Data!$W35,tabulka_panely_def,AH$1-18,FALSE))","v":34.1},{"$f":"IF(Data!$W35<MIN(Panely!$A$9:$A$28),VLOOKUP(Data!$W35,tabulka_kce_def,AI$1-20,FALSE),VLOOKUP(Data!$W35,tabulka_panely_def,AI$1-18,FALSE))","v":11.55},{"$f":"IF(Data!$W35<MIN(Panely!$A$9:$A$28),VLOOKUP(Data!$W35,tabulka_kce_def,AJ$1-20,FALSE),VLOOKUP(Data!$W35,tabulka_panely_def,AJ$1-18,FALSE))","v":5.95},{"$f":"IF(Data!$W35<MIN(Panely!$A$9:$A$28),VLOOKUP(Data!$W35,tabulka_kce_def,AK$1-20,FALSE),VLOOKUP(Data!$W35,tabulka_panely_def,AK$1-18,FALSE))","v":32},{"$f":"IF(Data!$W35<MIN(Panely!$A$9:$A$28),VLOOKUP(Data!$W35,tabulka_kce_def,AL$1-20,FALSE),VLOOKUP(Data!$W35,tabulka_panely_def,AL$1-18,FALSE))","v":1.0500000000000007},{"$f":"IF(Data!$W35<MIN(Panely!$A$9:$A$28),VLOOKUP(Data!$W35,tabulka_kce_def,AM$1-20,FALSE),VLOOKUP(Data!$W35,tabulka_panely_def,AM$1-18,FALSE))","v":0},35,{"$f":"IF(Data!$W35<MIN(Panely!$A$9:$A$28),VLOOKUP(Data!$W35,tabulka_kce_def,63,FALSE),0)","v":0},{"$f":"IF(Data!$W35<MIN(Panely!$A$9:$A$28),VLOOKUP(Data!$W35,tabulka_kce_def,28,FALSE),1)","v":1},{"$f":"IF(Data!$W35<MIN(Panely!$A$9:$A$28),VLOOKUP(Data!$W35,tabulka_kce_def,23,FALSE),VLOOKUP(Data!$W35,tabulka_panely_def,24,FALSE))","v":83.119244173431809},null,0,null,0,0,{"$error":"#N/A"},0,{"$f":"IF(AND(W35>MAX(Konstrukce!A:A),ISNUMBER(W35)),1,0)","v":1}]
[null,"=",{"$f":"IF(Data!$B36<MIN(Panely!$A$9:$A$28),VLOOKUP(Data!$B36,tabulka_kce_def,4,FALSE),VLOOKUP(Data!$B36,tabulka_panely_def,4,FALSE))","v":0},{"$f":"IF(Data!$B36<MIN(Panely!$A$9:$A$28),VLOOKUP(Data!$B36,tabulka_kce_def,23,FALSE),VLOOKUP(Data!$B36,tabulka_panely_def,24,FALSE))","v":0},{"$f":"IF(Data!$B36<MIN(Panely!$A$9:$A$28),VLOOKUP(Data!$B36,tabulka_kce_def,21,FALSE),VLOOKUP(Data!$B36,tabulka_panely_def,22,FALSE))","v":0},{"$f":"IF(Data!$B36<MIN(Panely!$A$9:$A$28),VLOOKUP(Data!$B36,tabulka_kce_def,26,FALSE),VLOOKUP(Data!$B36,tabulka_panely_def,31,FALSE))","v":{"$error":"#DIV/0!"}},{"$f":"IF(Data!$B36<MIN(Panely!$A$9:$A$28),VLOOKUP(Data!$B36,tabulka_kce_def,27,FALSE),VLOOKUP(Data!$B36,tabulka_panely_def,32,FALSE))","v":{"$error":"#DIV/0!"}},{"$f":"IF(VLOOKUP(Data!$B36,tabulka_kce_def,3,FALSE)=\"\",Konstrukce!$G$1,IF(VLOOKUP(Data!$B36,tabulka_kce_def,3,FALSE)=\"z\",Konstrukce!$G$2,VLOOKUP(Data!$B36,tabulka_kce_def,3,FALSE)))","v":{"$error":"#N/A"}},{"$f":"IF(Data!$B36<MIN(Panely!$A$9:$A$28),0,VLOOKUP(Data!$B36,tabulka_panely_def,25,FALSE))","v":0},{"$f":"IF(Data!$B36<MIN(Panely!$A$9:$A$28),VLOOKUP(Data!$B36,tabulka_kce_def,24,FALSE),VLOOKUP(Data!$B36,tabulka_panely_def,33,FALSE))","v":{"$error":"#N/A"}},{"$f":"Konstrukce!$D$1","v":18.770175404064034},{"$f":"Konstrukce!$D$2","v":19.934229593106764},{"$f":"Konstrukce!$G$1","v":-12},{"$f":"IF(Data!$B36<MIN(Panely!$A$9:$A$28),VLOOKUP(Data!$B36,tabulka_kce_def,59,FALSE),VLOOKUP(Data!$B36,tabulka_panely_def,63,FALSE))","v":""},{"$f":"IF(Data!$B36<MIN(Panely!$A$9:$A$28),VLOOKUP(Data!$B36,tabulka_kce_def,60,FALSE),VLOOKUP(Data!$B36,tabulka_panely_def,64,FALSE))","v":""},{"$f":"IF(Data!$B36<MIN(Panely!$A$9:$A$28),VLOOKUP(Data!$B36,tabulka_kce_def,61,FALSE),VLOOKUP(Data!$B36,tabulka_panely_def,65,FALSE))","v":""},{"$f":"IF(Data!$B36<MIN(Panely!$A$9:$A$28),VLOOKUP(Data!$B36,tabulka_kce_def,25,FALSE),0)","v":0},0,null,null,null,null,31,{"$f":"IF(Data!$W36<MIN(Panely!$A$9:$A$28),VLOOKUP(Data!$W36,tabulka_kce_def,62,FALSE),VLOOKUP(Data!$W36,tabulka_panely_def,65,FALSE))","v":"6"},{"$f":"IF(Data!$W36<MIN(Panely!$A$9:$A$28),VLOOKUP(Data!$W36,tabulka_kce_def,Y$1-20,FALSE),VLOOKUP(Data!$W36,tabulka_panely_def,Y$1-18,FALSE))","v":2.1},{"$f":"IF(Data!$W36<MIN(Panely!$A$9:$A$28),VLOOKUP(Data!$W36,tabulka_kce_def,Z$1-20,FALSE),VLOOKUP(Data!$W36,tabulka_panely_def,Z$1-18,FALSE))","v":3.3},{"$f":"IF(Data!$W36<MIN(Panely!$A$9:$A$28),VLOOKUP(Data!$W36,tabulka_kce_def,AA$1-20,FALSE),VLOOKUP(Data!$W36,tabulka_panely_def,AA$1-18,FALSE))","v":5.95},{"$f":"IF(Data!$W36<MIN(Panely!$A$9:$A$28),VLOOKUP(Data!$W36,tabulka_kce_def,AB$1-20,FALSE),VLOOKUP(Data!$W36,tabulka_panely_def,AB$1-18,FALSE))","v":34.1},{"$f":"IF(Data!$W36<MIN(Panely!$A$9:$A$28),VLOOKUP(Data!$W36,tabulka_kce_def,AC$1-20,FALSE),VLOOKUP(Data!$W36,tabulka_panely_def,AC$1-18,FALSE))","v":3.3},{"$f":"IF(Data!$W36<MIN(Panely!$A$9:$A$28),VLOOKUP(Data!$W36,tabulka_kce_def,AD$1-20,FALSE),VLOOKUP(Data!$W36,tabulka_panely_def,AD$1-18,FALSE))","v":5.95},{"$f":"IF(Data!$W36<MIN(Panely!$A$9:$A$28),VLOOKUP(Data!$W36,tabulka_kce_def,AE$1-20,FALSE),VLOOKUP(Data!$W36,tabulka_panely_def,AE$1-18,FALSE))","v":2.1},{"$f":"IF(Data!$W36<MIN(Panely!$A$9:$A$28),VLOOKUP(Data!$W36,tabulka_kce_def,AF$1-20,FALSE),VLOOKUP(Data!$W36,tabulka_panely_def,AF$1-18,FALSE))","v":4.3499999999999996},{"$f":"IF(Data!$W36<MIN(Panely!$A$9:$A$28),VLOOKUP(Data!$W36,tabulka_kce_def,AG$1-20,FALSE),VLOOKUP(Data!$W36,tabulka_panely_def,AG$1-18,FALSE))","v":5.95},{"$f":"IF(Data!$W36<MIN(Panely!$A$9:$A$28),VLOOKUP(Data!$W36,tabulka_kce_def,AH$1-20,FALSE),VLOOKUP(Data!$W36,tabulka_panely_def,AH$1-18,FALSE))","v":34.1},{"$f":"IF(Data!$W36<MIN(Panely!$A$9:$A$28),VLOOKUP(Data!$W36,tabulka_kce_def,AI$1-20,FALSE),VLOOKUP(Data!$W36,tabulka_panely_def,AI$1-18,FALSE))","v":4.3499999999999996},{"$f":"IF(Data!$W36<MIN(Panely!$A$9:$A$28),VLOOKUP(Data!$W36,tabulka_kce_def,AJ$1-20,FALSE),VLOOKUP(Data!$W36,tabulka_panely_def,AJ$1-18,FALSE))","v":5.95},{"$f":"IF(Data!$W36<MIN(Panely!$A$9:$A$28),VLOOKUP(Data!$W36,tabulka_kce_def,AK$1-20,FALSE),VLOOKUP(Data!$W36,tabulka_panely_def,AK$1-18,FALSE))","v":32},{"$f":"IF(Data!$W36<MIN(Panely!$A$9:$A$28),VLOOKUP(Data!$W36,tabulka_kce_def,AL$1-20,FALSE),VLOOKUP(Data!$W36,tabulka_panely_def,AL$1-18,FALSE))","v":1.0499999999999998},{"$f":"IF(Data!$W36<MIN(Panely!$A$9:$A$28),VLOOKUP(Data!$W36,tabulka_kce_def,AM$1-20,FALSE),VLOOKUP(Data!$W36,tabulka_panely_def,AM$1-18,FALSE))","v":0},36,{"$f":"IF(Data!$W36<MIN(Panely!$A$9:$A$28),VLOOKUP(Data!$W36,tabulka_kce_def,63,FALSE),0)","v":0},{"$f":"IF(Data!$W36<MIN(Panely!$A$9:$A$28),VLOOKUP(Data!$W36,tabulka_kce_def,28,FALSE),1)","v":1},{"$f":"IF(Data!$W36<MIN(Panely!$A$9:$A$28),VLOOKUP(Data!$W36,tabulka_kce_def,23,FALSE),VLOOKUP(Data!$W36,tabulka_panely_def,24,FALSE))","v":73.447386182804053},null,0,null,0,0,{"$error":"#N/A"},0,{"$f":"IF(AND(W36>MAX(Konstrukce!A:A),ISNUMBER(W36)),1,0)","v":1}]
[null,"=",{"$f":"IF(Data!$B37<MIN(Panely!$A$9:$A$28),VLOOKUP(Data!$B37,tabulka_kce_def,4,FALSE),VLOOKUP(Data!$B37,tabulka_panely_def,4,FALSE))","v":0},{"$f":"IF(Data!$B37<MIN(Panely!$A$9:$A$28),VLOOKUP(Data!$B37,tabulka_kce_def,23,FALSE),VLOOKUP(Data!$B37,tabulka_panely_def,24,FALSE))","v":0},{"$f":"IF(Data!$B37<MIN(Panely!$A$9:$A$28),VLOOKUP(Data!$B37,tabulka_kce_def,21,FALSE),VLOOKUP(Data!$B37,tabulka_panely_def,22,FALSE))","v":0},{"$f":"IF(Data!$B37<MIN(Panely!$A$9:$A$28),VLOOKUP(Data!$B37,tabulka_kce_def,26,FALSE),VLOOKUP(Data!$B37,tabulka_panely_def,31,FALSE))","v":{"$error":"#DIV/0!"}},{"$f":"IF(Data!$B37<MIN(Panely!$A$9:$A$28),VLOOKUP(Data!$B37,tabulka_kce_def,27,FALSE),VLOOKUP(Data!$B37,tabulka_panely_def,32,FALSE))","v":{"$error":"#DIV/0!"}},{"$f":"IF(VLOOKUP(Data!$B37,tabulka_kce_def,3,FALSE)=\"\",Konstrukce!$G$1,IF(VLOOKUP(Data!$B37,tabulka_kce_def,3,FALSE)=\"z\",Konstrukce!$G$2,VLOOKUP(Data!$B37,tabulka_kce_def,3,FALSE)))","v":{"$error":"#N/A"}},{"$f":"IF(Data!$B37<MIN(Panely!$A$9:$A$28),0,VLOOKUP(Data!$B37,tabulka_panely_def,25,FALSE))","v":0},{"$f":"IF(Data!$B37<MIN(Panely!$A$9:$A$28),VLOOKUP(Data!$B37,tabulka_kce_def,24,FALSE),VLOOKUP(Data!$B37,tabulka_panely_def,33,FALSE))","v":{"$error":"#N/A"}},{"$f":"Konstrukce!$D$1","v":18.770175404064034},{"$f":"Konstrukce!$D$2","v":19.934229593106764},{"$f":"Konstrukce!$G$1","v":-12},{"$f":"IF(Data!$B37<MIN(Panely!$A$9:$A$28),VLOOKUP(Data!$B37,tabulka_kce_def,59,FALSE),VLOOKUP(Data!$B37,tabulka_panely_def,63,FALSE))","v":""},{"$f":"IF(Data!$B37<MIN(Panely!$A$9:$A$28),VLOOKUP(Data!$B37,tabulka_kce_def,60,FALSE),VLOOKUP(Data!$B37,tabulka_panely_def,64,FALSE))","v":""},{"$f":"IF(Data!$B37<MIN(Panely!$A$9:$A$28),VLOOKUP(Data!$B37,tabulka_kce_def,61,FALSE),VLOOKUP(Data!$B37,tabulka_panely_def,65,FALSE))","v":""},{"$f":"IF(Data!$B37<MIN(Panely!$A$9:$A$28),VLOOKUP(Data!$B37,tabulka_kce_def,25,FALSE),0)","v":0},0,null,null,null,null,"=",{"$f":"IF(Data!$W37<MIN(Panely!$A$9:$A$28),VLOOKUP(Data!$W37,tabulka_kce_def,62,FALSE),VLOOKUP(Data!$W37,tabulka_panely_def,65,FALSE))","v":""},{"$f":"IF(Data!$W37<MIN(Panely!$A$9:$A$28),VLOOKUP(Data!$W37,tabulka_kce_def,Y$1-20,FALSE),VLOOKUP(Data!$W37,tabulka_panely_def,Y$1-18,FALSE))","v":0},{"$f":"IF(Data!$W37<MIN(Panely!$A$9:$A$28),VLOOKUP(Data!$W37,tabulka_kce_def,Z$1-20,FALSE),VLOOKUP(Data!$W37,tabulka_panely_def,Z$1-18,FALSE))","v":0},{"$f":"IF(Data!$W37<MIN(Panely!$A$9:$A$28),VLOOKUP(Data!$W37,tabulka_kce_def,AA$1-20,FALSE),VLOOKUP(Data!$W37,tabulka_panely_def,AA$1-18,FALSE))","v":0},{"$f":"IF(Data!$W37<MIN(Panely!$A$9:$A$28),VLOOKUP(Data!$W37,tabulka_kce_def,AB$1-20,FALSE),VLOOKUP(Data!$W37,tabulka_panely_def,AB$1-18,FALSE))","v":0},{"$f":"IF(Data!$W37<MIN(Panely!$A$9:$A$28),VLOOKUP(Data!$W37,tabulka_kce_def,AC$1-20,FALSE),VLOOKUP(Data!$W37,tabulka_panely_def,AC$1-18,FALSE))","v":0},{"$f":"IF(Data!$W37<MIN(Panely!$A$9:$A$28),VLOOKUP(Data!$W37,tabulka_kce_def,AD$1-20,FALSE),VLOOKUP(Data!$W37,tabulka_panely_def,AD$1-18,FALSE))","v":0},{"$f":"IF(Data!$W37<MIN(Panely!$A$9:$A$28),VLOOKUP(Data!$W37,tabulka_kce_def,AE$1-20,FALSE),VLOOKUP(Data!$W37,tabulka_panely_def,AE$1-18,FALSE))","v":0},{"$f":"IF(Data!$W37<MIN(Panely!$A$9:$A$28),VLOOKUP(Data!$W37,tabulka_kce_def,AF$1-20,FALSE),VLOOKUP(Data!$W37,tabulka_panely_def,AF$1-18,FALSE))","v":0},{"$f":"IF(Data!$W37<MIN(Panely!$A$9:$A$28),VLOOKUP(Data!$W37,tabulka_kce_def,AG$1-20,FALSE),VLOOKUP(Data!$W37,tabulka_panely_def,AG$1-18,FALSE))","v":0},{"$f":"IF(Data!$W37<MIN(Panely!$A$9:$A$28),VLOOKUP(Data!$W37,tabulka_kce_def,AH$1-20,FALSE),VLOOKUP(Data!$W37,tabulka_panely_def,AH$1-18,FALSE))","v":0},{"$f":"IF(Data!$W37<MIN(Panely!$A$9:$A$28),VLOOKUP(Data!$W37,tabulka_kce_def,AI$1-20,FALSE),VLOOKUP(Data!$W37,tabulka_panely_def,AI$1-18,FALSE))","v":0},{"$f":"IF(Data!$W37<MIN(Panely!$A$9:$A$28),VLOOKUP(Data!$W37,tabulka_kce_def,AJ$1-20,FALSE),VLOOKUP(Data!$W37,tabulka_panely_def,AJ$1-18,FALSE))","v":0},{"$f":"IF(Data!$W37<MIN(Panely!$A$9:$A$28),VLOOKUP(Data!$W37,tabulka_kce_def,AK$1-20,FALSE),VLOOKUP(Data!$W37,tabulka_panely_def,AK$1-18,FALSE))","v":0},{"$f":"IF(Data!$W37<MIN(Panely!$A$9:$A$28),VLOOKUP(Data!$W37,tabulka_kce_def,AL$1-20,FALSE),VLOOKUP(Data!$W37,tabulka_panely_def,AL$1-18,FALSE))","v":0},{"$f":"IF(Data!$W37<MIN(Panely!$A$9:$A$28),VLOOKUP(Data!$W37,tabulka_kce_def,AM$1-20,FALSE),VLOOKUP(Data!$W37,tabulka_panely_def,AM$1-18,FALSE))","v":0},37,{"$f":"IF(Data!$W37<MIN(Panely!$A$9:$A$28),VLOOKUP(Data!$W37,tabulka_kce_def,63,FALSE),0)","v":0},{"$f":"IF(Data!$W37<MIN(Panely!$A$9:$A$28),VLOOKUP(Data!$W37,tabulka_kce_def,28,FALSE),1)","v":1},{"$f":"IF(Data!$W37<MIN(Panely!$A$9:$A$28),VLOOKUP(Data!$W37,tabulka_kce_def,23,FALSE),VLOOKUP(Data!$W37,tabulka_panely_def,24,FALSE))","v":0},null,0,null,0,0,{"$error":"#N/A"},0,{"$f":"IF(AND(W37>MAX(Konstrukce!A:A),ISNUMBER(W37)),1,0)","v":0}]
[null,"=",{"$f":"IF(Data!$B38<MIN(Panely!$A$9:$A$28),VLOOKUP(Data!$B38,tabulka_kce_def,4,FALSE),VLOOKUP(Data!$B38,tabulka_panely_def,4,FALSE))","v":0},{"$f":"IF(Data!$B38<MIN(Panely!$A$9:$A$28),VLOOKUP(Data!$B38,tabulka_kce_def,23,FALSE),VLOOKUP(Data!$B38,tabulka_panely_def,24,FALSE))","v":0},{"$f":"IF(Data!$B38<MIN(Panely!$A$9:$A$28),VLOOKUP(Data!$B38,tabulka_kce_def,21,FALSE),VLOOKUP(Data!$B38,tabulka_panely_def,22,FALSE))","v":0},{"$f":"IF(Data!$B38<MIN(Panely!$A$9:$A$28),VLOOKUP(Data!$B38,tabulka_kce_def,26,FALSE),VLOOKUP(Data!$B38,tabulka_panely_def,31,FALSE))","v":{"$error":"#DIV/0!"}},{"$f":"IF(Data!$B38<MIN(Panely!$A$9:$A$28),VLOOKUP(Data!$B38,tabulka_kce_def,27,FALSE),VLOOKUP(Data!$B38,tabulka_panely_def,32,FALSE))","v":{"$error":"#DIV/0!"}},{"$f":"IF(VLOOKUP(Data!$B38,tabulka_kce_def,3,FALSE)=\"\",Konstrukce!$G$1,IF(VLOOKUP(Data!$B38,tabulka_kce_def,3,FALSE)=\"z\",Konstrukce!$G$2,VLOOKUP(Data!$B38,tabulka_kce_def,3,FALSE)))","v":{"$error":"#N/A"}},{"$f":"IF(Data!$B38<MIN(Panely!$A$9:$A$28),0,VLOOKUP(Data!$B38,tabulka_panely_def,25,FALSE))","v":0},{"$f":"IF(Data!$B38<MIN(Panely!$A$9:$A$28),VLOOKUP(Data!$B38,tabulka_kce_def,24,FALSE),VLOOKUP(Data!$B38,tabulka_panely_def,33,FALSE))","v":{"$error":"#N/A"}},{"$f":"Konstrukce!$D$1","v":18.770175404064034},{"$f":"Konstrukce!$D$2","v":19.934229593106764},{"$f":"Konstrukce!$G$1","v":-12},{"$f":"IF(Data!$B38<MIN(Panely!$A$9:$A$28),VLOOKUP(Data!$B38,tabulka_kce_def,59,FALSE),VLOOKUP(Data!$B38,tabulka_panely_def,63,FALSE))","v":""},{"$f":"IF(Data!$B38<MIN(Panely!$A$9:$A$28),VLOOKUP(Data!$B38,tabulka_kce_def,60,FALSE),VLOOKUP(Data!$B38,tabulka_panely_def,64,FALSE))","v":""},{"$f":"IF(Data!$B38<MIN(Panely!$A$9:$A$28),VLOOKUP(Data!$B38,tabulka_kce_def,61,FALSE),VLOOKUP(Data!$B38,tabulka_panely_def,65,FALSE))","v":""},{"$f":"IF(Data!$B38<MIN(Panely!$A$9:$A$28),VLOOKUP(Data!$B38,tabulka_kce_def,25,FALSE),0)","v":0},0,null,null,null,null,"=",{"$f":"IF(Data!$W38<MIN(Panely!$A$9:$A$28),VLOOKUP(Data!$W38,tabulka_kce_def,62,FALSE),VLOOKUP(Data!$W38,tabulka_panely_def,65,FALSE))","v":""},{"$f":"IF(Data!$W38<MIN(Panely!$A$9:$A$28),VLOOKUP(Data!$W38,tabulka_kce_def,Y$1-20,FALSE),VLOOKUP(Data!$W38,tabulka_panely_def,Y$1-18,FALSE))","v":0},{"$f":"IF(Data!$W38<MIN(Panely!$A$9:$A$28),VLOOKUP(Data!$W38,tabulka_kce_def,Z$1-20,FALSE),VLOOKUP(Data!$W38,tabulka_panely_def,Z$1-18,FALSE))","v":0},{"$f":"IF(Data!$W38<MIN(Panely!$A$9:$A$28),VLOOKUP(Data!$W38,tabulka_kce_def,AA$1-20,FALSE),VLOOKUP(Data!$W38,tabulka_panely_def,AA$1-18,FALSE))","v":0},{"$f":"IF(Data!$W38<MIN(Panely!$A$9:$A$28),VLOOKUP(Data!$W38,tabulka_kce_def,AB$1-20,FALSE),VLOOKUP(Data!$W38,tabulka_panely_def,AB$1-18,FALSE))","v":0},{"$f":"IF(Data!$W38<MIN(Panely!$A$9:$A$28),VLOOKUP(Data!$W38,tabulka_kce_def,AC$1-20,FALSE),VLOOKUP(Data!$W38,tabulka_panely_def,AC$1-18,FALSE))","v":0},{"$f":"IF(Data!$W38<MIN(Panely!$A$9:$A$28),VLOOKUP(Data!$W38,tabulka_kce_def,AD$1-20,FALSE),VLOOKUP(Data!$W38,tabulka_panely_def,AD$1-18,FALSE))","v":0},{"$f":"IF(Data!$W38<MIN(Panely!$A$9:$A$28),VLOOKUP(Data!$W38,tabulka_kce_def,AE$1-20,FALSE),VLOOKUP(Data!$W38,tabulka_panely_def,AE$1-18,FALSE))","v":0},{"$f":"IF(Data!$W38<MIN(Panely!$A$9:$A$28),VLOOKUP(Data!$W38,tabulka_kce_def,AF$1-20,FALSE),VLOOKUP(Data!$W38,tabulka_panely_def,AF$1-18,FALSE))","v":0},{"$f":"IF(Data!$W38<MIN(Panely!$A$9:$A$28),VLOOKUP(Data!$W38,tabulka_kce_def,AG$1-20,FALSE),VLOOKUP(Data!$W38,tabulka_panely_def,AG$1-18,FALSE))","v":0},{"$f":"IF(Data!$W38<MIN(Panely!$A$9:$A$28),VLOOKUP(Data!$W38,tabulka_kce_def,AH$1-20,FALSE),VLOOKUP(Data!$W38,tabulka_panely_def,AH$1-18,FALSE))","v":0},{"$f":"IF(Data!$W38<MIN(Panely!$A$9:$A$28),VLOOKUP(Data!$W38,tabulka_kce_def,AI$1-20,FALSE),VLOOKUP(Data!$W38,tabulka_panely_def,AI$1-18,FALSE))","v":0},{"$f":"IF(Data!$W38<MIN(Panely!$A$9:$A$28),VLOOKUP(Data!$W38,tabulka_kce_def,AJ$1-20,FALSE),VLOOKUP(Data!$W38,tabulka_panely_def,AJ$1-18,FALSE))","v":0},{"$f":"IF(Data!$W38<MIN(Panely!$A$9:$A$28),VLOOKUP(Data!$W38,tabulka_kce_def,AK$1-20,FALSE),VLOOKUP(Data!$W38,tabulka_panely_def,AK$1-18,FALSE))","v":0},{"$f":"IF(Data!$W38<MIN(Panely!$A$9:$A$28),VLOOKUP(Data!$W38,tabulka_kce_def,AL$1-20,FALSE),VLOOKUP(Data!$W38,tabulka_panely_def,AL$1-18,FALSE))","v":0},{"$f":"IF(Data!$W38<MIN(Panely!$A$9:$A$28),VLOOKUP(Data!$W38,tabulka_kce_def,AM$1-20,FALSE),VLOOKUP(Data!$W38,tabulka_panely_def,AM$1-18,FALSE))","v":0},38,{"$f":"IF(Data!$W38<MIN(Panely!$A$9:$A$28),VLOOKUP(Data!$W38,tabulka_kce_def,63,FALSE),0)","v":0},{"$f":"IF(Data!$W38<MIN(Panely!$A$9:$A$28),VLOOKUP(Data!$W38,tabulka_kce_def,28,FALSE),1)","v":1},{"$f":"IF(Data!$W38<MIN(Panely!$A$9:$A$28),VLOOKUP(Data!$W38,tabulka_kce_def,23,FALSE),VLOOKUP(Data!$W38,tabulka_panely_def,24,FALSE))","v":0},null,0,null,0,0,{"$error":"#N/A"},0,{"$f":"IF(AND(W38>MAX(Konstrukce!A:A),ISNUMBER(W38)),1,0)","v":0}]
[null,"=",{"$f":"IF(Data!$B39<MIN(Panely!$A$9:$A$28),VLOOKUP(Data!$B39,tabulka_kce_def,4,FALSE),VLOOKUP(Data!$B39,tabulka_panely_def,4,FALSE))","v":0},{"$f":"IF(Data!$B39<MIN(Panely!$A$9:$A$28),VLOOKUP(Data!$B39,tabulka_kce_def,23,FALSE),VLOOKUP(Data!$B39,tabulka_panely_def,24,FALSE))","v":0},{"$f":"IF(Data!$B39<MIN(Panely!$A$9:$A$28),VLOOKUP(Data!$B39,tabulka_kce_def,21,FALSE),VLOOKUP(Data!$B39,tabulka_panely_def,22,FALSE))","v":0},{"$f":"IF(Data!$B39<MIN(Panely!$A$9:$A$28),VLOOKUP(Data!$B39,tabulka_kce_def,26,FALSE),VLOOKUP(Data!$B39,tabulka_panely_def,31,FALSE))","v":{"$error":"#DIV/0!"}},{"$f":"IF(Data!$B39<MIN(Panely!$A$9:$A$28),VLOOKUP(Data!$B39,tabulka_kce_def,27,FALSE),VLOOKUP(Data!$B39,tabulka_panely_def,32,FALSE))","v":{"$error":"#DIV/0!"}},{"$f":"IF(VLOOKUP(Data!$B39,tabulka_kce_def,3,FALSE)=\"\",Konstrukce!$G$1,IF(VLOOKUP(Data!$B39,tabulka_kce_def,3,FALSE)=\"z\",Konstrukce!$G$2,VLOOKUP(Data!$B39,tabulka_kce_def,3,FALSE)))","v":{"$error":"#N/A"}},{"$f":"IF(Data!$B39<MIN(Panely!$A$9:$A$28),0,VLOOKUP(Data!$B39,tabulka_panely_def,25,FALSE))","v":0},{"$f":"IF(Data!$B39<MIN(Panely!$A$9:$A$28),VLOOKUP(Data!$B39,tabulka_kce_def,24,FALSE),VLOOKUP(Data!$B39,tabulka_panely_def,33,FALSE))","v":{"$error":"#N/A"}},{"$f":"Konstrukce!$D$1","v":18.770175404064034},{"$f":"Konstrukce!$D$2","v":19.934229593106764},{"$f":"Konstrukce!$G$1","v":-12},{"$f":"IF(Data!$B39<MIN(Panely!$A$9:$A$28),VLOOKUP(Data!$B39,tabulka_kce_def,59,FALSE),VLOOKUP(Data!$B39,tabulka_panely_def,63,FALSE))","v":""},{"$f":"IF(Data!$B39<MIN(Panely!$A$9:$A$28),VLOOKUP(Data!$B39,tabulka_kce_def,60,FALSE),VLOOKUP(Data!$B39,tabulka_panely_def,64,FALSE))","v":""},{"$f":"IF(Data!$B39<MIN(Panely!$A$9:$A$28),VLOOKUP(Data!$B39,tabulka_kce_def,61,FALSE),VLOOKUP(Data!$B39,tabulka_panely_def,65,FALSE))","v":""},{"$f":"IF(Data!$B39<MIN(Panely!$A$9:$A$28),VLOOKUP(Data!$B39,tabulka_kce_def,25,FALSE),0)","v":0},0,null,null,null,null,"=",{"$f":"IF(Data!$W39<MIN(Panely!$A$9:$A$28),VLOOKUP(Data!$W39,tabulka_kce_def,62,FALSE),VLOOKUP(Data!$W39,tabulka_panely_def,65,FALSE))","v":""},{"$f":"IF(Data!$W39<MIN(Panely!$A$9:$A$28),VLOOKUP(Data!$W39,tabulka_kce_def,Y$1-20,FALSE),VLOOKUP(Data!$W39,tabulka_panely_def,Y$1-18,FALSE))","v":0},{"$f":"IF(Data!$W39<MIN(Panely!$A$9:$A$28),VLOOKUP(Data!$W39,tabulka_kce_def,Z$1-20,FALSE),VLOOKUP(Data!$W39,tabulka_panely_def,Z$1-18,FALSE))","v":0},{"$f":"IF(Data!$W39<MIN(Panely!$A$9:$A$28),VLOOKUP(Data!$W39,tabulka_kce_def,AA$1-20,FALSE),VLOOKUP(Data!$W39,tabulka_panely_def,AA$1-18,FALSE))","v":0},{"$f":"IF(Data!$W39<MIN(Panely!$A$9:$A$28),VLOOKUP(Data!$W39,tabulka_kce_def,AB$1-20,FALSE),VLOOKUP(Data!$W39,tabulka_panely_def,AB$1-18,FALSE))","v":0},{"$f":"IF(Data!$W39<MIN(Panely!$A$9:$A$28),VLOOKUP(Data!$W39,tabulka_kce_def,AC$1-20,FALSE),VLOOKUP(Data!$W39,tabulka_panely_def,AC$1-18,FALSE))","v":0},{"$f":"IF(Data!$W39<MIN(Panely!$A$9:$A$28),VLOOKUP(Data!$W39,tabulka_kce_def,AD$1-20,FALSE),VLOOKUP(Data!$W39,tabulka_panely_def,AD$1-18,FALSE))","v":0},{"$f":"IF(Data!$W39<MIN(Panely!$A$9:$A$28),VLOOKUP(Data!$W39,tabulka_kce_def,AE$1-20,FALSE),VLOOKUP(Data!$W39,tabulka_panely_def,AE$1-18,FALSE))","v":0},{"$f":"IF(Data!$W39<MIN(Panely!$A$9:$A$28),VLOOKUP(Data!$W39,tabulka_kce_def,AF$1-20,FALSE),VLOOKUP(Data!$W39,tabulka_panely_def,AF$1-18,FALSE))","v":0},{"$f":"IF(Data!$W39<MIN(Panely!$A$9:$A$28),VLOOKUP(Data!$W39,tabulka_kce_def,AG$1-20,FALSE),VLOOKUP(Data!$W39,tabulka_panely_def,AG$1-18,FALSE))","v":0},{"$f":"IF(Data!$W39<MIN(Panely!$A$9:$A$28),VLOOKUP(Data!$W39,tabulka_kce_def,AH$1-20,FALSE),VLOOKUP(Data!$W39,tabulka_panely_def,AH$1-18,FALSE))","v":0},{"$f":"IF(Data!$W39<MIN(Panely!$A$9:$A$28),VLOOKUP(Data!$W39,tabulka_kce_def,AI$1-20,FALSE),VLOOKUP(Data!$W39,tabulka_panely_def,AI$1-18,FALSE))","v":0},{"$f":"IF(Data!$W39<MIN(Panely!$A$9:$A$28),VLOOKUP(Data!$W39,tabulka_kce_def,AJ$1-20,FALSE),VLOOKUP(Data!$W39,tabulka_panely_def,AJ$1-18,FALSE))","v":0},{"$f":"IF(Data!$W39<MIN(Panely!$A$9:$A$28),VLOOKUP(Data!$W39,tabulka_kce_def,AK$1-20,FALSE),VLOOKUP(Data!$W39,tabulka_panely_def,AK$1-18,FALSE))","v":0},{"$f":"IF(Data!$W39<MIN(Panely!$A$9:$A$28),VLOOKUP(Data!$W39,tabulka_kce_def,AL$1-20,FALSE),VLOOKUP(Data!$W39,tabulka_panely_def,AL$1-18,FALSE))","v":0},{"$f":"IF(Data!$W39<MIN(Panely!$A$9:$A$28),VLOOKUP(Data!$W39,tabulka_kce_def,AM$1-20,FALSE),VLOOKUP(Data!$W39,tabulka_panely_def,AM$1-18,FALSE))","v":0},39,{"$f":"IF(Data!$W39<MIN(Panely!$A$9:$A$28),VLOOKUP(Data!$W39,tabulka_kce_def,63,FALSE),0)","v":0},{"$f":"IF(Data!$W39<MIN(Panely!$A$9:$A$28),VLOOKUP(Data!$W39,tabulka_kce_def,28,FALSE),1)","v":1},{"$f":"IF(Data!$W39<MIN(Panely!$A$9:$A$28),VLOOKUP(Data!$W39,tabulka_kce_def,23,FALSE),VLOOKUP(Data!$W39,tabulka_panely_def,24,FALSE))","v":0},null,0,null,0,0,{"$error":"#N/A"},0,{"$f":"IF(AND(W39>MAX(Konstrukce!A:A),ISNUMBER(W39)),1,0)","v":0}]
[null,"=",{"$f":"IF(Data!$B40<MIN(Panely!$A$9:$A$28),VLOOKUP(Data!$B40,tabulka_kce_def,4,FALSE),VLOOKUP(Data!$B40,tabulka_panely_def,4,FALSE))","v":0},{"$f":"IF(Data!$B40<MIN(Panely!$A$9:$A$28),VLOOKUP(Data!$B40,tabulka_kce_def,23,FALSE),VLOOKUP(Data!$B40,tabulka_panely_def,24,FALSE))","v":0},{"$f":"IF(Data!$B40<MIN(Panely!$A$9:$A$28),VLOOKUP(Data!$B40,tabulka_kce_def,21,FALSE),VLOOKUP(Data!$B40,tabulka_panely_def,22,FALSE))","v":0},{"$f":"IF(Data!$B40<MIN(Panely!$A$9:$A$28),VLOOKUP(Data!$B40,tabulka_kce_def,26,FALSE),VLOOKUP(Data!$B40,tabulka_panely_def,31,FALSE))","v":{"$error":"#DIV/0!"}},{"$f":"IF(Data!$B40<MIN(Panely!$A$9:$A$28),VLOOKUP(Data!$B40,tabulka_kce_def,27,FALSE),VLOOKUP(Data!$B40,tabulka_panely_def,32,FALSE))","v":{"$error":"#DIV/0!"}},{"$f":"IF(VLOOKUP(Data!$B40,tabulka_kce_def,3,FALSE)=\"\",Konstrukce!$G$1,IF(VLOOKUP(Data!$B40,tabulka_kce_def,3,FALSE)=\"z\",Konstrukce!$G$2,VLOOKUP(Data!$B40,tabulka_kce_def,3,FALSE)))","v":{"$error":"#N/A"}},{"$f":"IF(Data!$B40<MIN(Panely!$A$9:$A$28),0,VLOOKUP(Data!$B40,tabulka_panely_def,25,FALSE))","v":0},{"$f":"IF(Data!$B40<MIN(Panely!$A$9:$A$28),VLOOKUP(Data!$B40,tabulka_kce_def,24,FALSE),VLOOKUP(Data!$B40,tabulka_panely_def,33,FALSE))","v":{"$error":"#N/A"}},{"$f":"Konstrukce!$D$1","v":18.770175404064034},{"$f":"Konstrukce!$D$2","v":19.934229593106764},{"$f":"Konstrukce!$G$1","v":-12},{"$f":"IF(Data!$B40<MIN(Panely!$A$9:$A$28),VLOOKUP(Data!$B40,tabulka_kce_def,59,FALSE),VLOOKUP(Data!$B40,tabulka_panely_def,63,FALSE))","v":""},{"$f":"IF(Data!$B40<MIN(Panely!$A$9:$A$28),VLOOKUP(Data!$B40,tabulka_kce_def,60,FALSE),VLOOKUP(Data!$B40,tabulka_panely_def,64,FALSE))","v":""},{"$f":"IF(Data!$B40<MIN(Panely!$A$9:$A$28),VLOOKUP(Data!$B40,tabulka_kce_def,61,FALSE),VLOOKUP(Data!$B40,tabulka_panely_def,65,FALSE))","v":""},{"$f":"IF(Data!$B40<MIN(Panely!$A$9:$A$28),VLOOKUP(Data!$B40,tabulka_kce_def,25,FALSE),0)","v":0},0,null,null,null,null,"=",{"$f":"IF(Data!$W40<MIN(Panely!$A$9:$A$28),VLOOKUP(Data!$W40,tabulka_kce_def,62,FALSE),VLOOKUP(Data!$W40,tabulka_panely_def,65,FALSE))","v":""},{"$f":"IF(Data!$W40<MIN(Panely!$A$9:$A$28),VLOOKUP(Data!$W40,tabulka_kce_def,Y$1-20,FALSE),VLOOKUP(Data!$W40,tabulka_panely_def,Y$1-18,FALSE))","v":0},{"$f":"IF(Data!$W40<MIN(Panely!$A$9:$A$28),VLOOKUP(Data!$W40,tabulka_kce_def,Z$1-20,FALSE),VLOOKUP(Data!$W40,tabulka_panely_def,Z$1-18,FALSE))","v":0},{"$f":"IF(Data!$W40<MIN(Panely!$A$9:$A$28),VLOOKUP(Data!$W40,tabulka_kce_def,AA$1-20,FALSE),VLOOKUP(Data!$W40,tabulka_panely_def,AA$1-18,FALSE))","v":0},{"$f":"IF(Data!$W40<MIN(Panely!$A$9:$A$28),VLOOKUP(Data!$W40,tabulka_kce_def,AB$1-20,FALSE),VLOOKUP(Data!$W40,tabulka_panely_def,AB$1-18,FALSE))","v":0},{"$f":"IF(Data!$W40<MIN(Panely!$A$9:$A$28),VLOOKUP(Data!$W40,tabulka_kce_def,AC$1-20,FALSE),VLOOKUP(Data!$W40,tabulka_panely_def,AC$1-18,FALSE))","v":0},{"$f":"IF(Data!$W40<MIN(Panely!$A$9:$A$28),VLOOKUP(Data!$W40,tabulka_kce_def,AD$1-20,FALSE),VLOOKUP(Data!$W40,tabulka_panely_def,AD$1-18,FALSE))","v":0},{"$f":"IF(Data!$W40<MIN(Panely!$A$9:$A$28),VLOOKUP(Data!$W40,tabulka_kce_def,AE$1-20,FALSE),VLOOKUP(Data!$W40,tabulka_panely_def,AE$1-18,FALSE))","v":0},{"$f":"IF(Data!$W40<MIN(Panely!$A$9:$A$28),VLOOKUP(Data!$W40,tabulka_kce_def,AF$1-20,FALSE),VLOOKUP(Data!$W40,tabulka_panely_def,AF$1-18,FALSE))","v":0},{"$f":"IF(Data!$W40<MIN(Panely!$A$9:$A$28),VLOOKUP(Data!$W40,tabulka_kce_def,AG$1-20,FALSE),VLOOKUP(Data!$W40,tabulka_panely_def,AG$1-18,FALSE))","v":0},{"$f":"IF(Data!$W40<MIN(Panely!$A$9:$A$28),VLOOKUP(Data!$W40,tabulka_kce_def,AH$1-20,FALSE),VLOOKUP(Data!$W40,tabulka_panely_def,AH$1-18,FALSE))","v":0},{"$f":"IF(Data!$W40<MIN(Panely!$A$9:$A$28),VLOOKUP(Data!$W40,tabulka_kce_def,AI$1-20,FALSE),VLOOKUP(Data!$W40,tabulka_panely_def,AI$1-18,FALSE))","v":0},{"$f":"IF(Data!$W40<MIN(Panely!$A$9:$A$28),VLOOKUP(Data!$W40,tabulka_kce_def,AJ$1-20,FALSE),VLOOKUP(Data!$W40,tabulka_panely_def,AJ$1-18,FALSE))","v":0},{"$f":"IF(Data!$W40<MIN(Panely!$A$9:$A$28),VLOOKUP(Data!$W40,tabulka_kce_def,AK$1-20,FALSE),VLOOKUP(Data!$W40,tabulka_panely_def,AK$1-18,FALSE))","v":0},{"$f":"IF(Data!$W40<MIN(Panely!$A$9:$A$28),VLOOKUP(Data!$W40,tabulka_kce_def,AL$1-20,FALSE),VLOOKUP(Data!$W40,tabulka_panely_def,AL$1-18,FALSE))","v":0},{"$f":"IF(Data!$W40<MIN(Panely!$A$9:$A$28),VLOOKUP(Data!$W40,tabulka_kce_def,AM$1-20,FALSE),VLOOKUP(Data!$W40,tabulka_panely_def,AM$1-18,FALSE))","v":0},40,{"$f":"IF(Data!$W40<MIN(Panely!$A$9:$A$28),VLOOKUP(Data!$W40,tabulka_kce_def,63,FALSE),0)","v":0},{"$f":"IF(Data!$W40<MIN(Panely!$A$9:$A$28),VLOOKUP(Data!$W40,tabulka_kce_def,28,FALSE),1)","v":1},{"$f":"IF(Data!$W40<MIN(Panely!$A$9:$A$28),VLOOKUP(Data!$W40,tabulka_kce_def,23,FALSE),VLOOKUP(Data!$W40,tabulka_panely_def,24,FALSE))","v":0},null,0,null,0,0,{"$error":"#N/A"},0,{"$f":"IF(AND(W40>MAX(Konstrukce!A:A),ISNUMBER(W40)),1,0)","v":0}]
[null,"=",{"$f":"IF(Data!$B41<MIN(Panely!$A$9:$A$28),VLOOKUP(Data!$B41,tabulka_kce_def,4,FALSE),VLOOKUP(Data!$B41,tabulka_panely_def,4,FALSE))","v":0},{"$f":"IF(Data!$B41<MIN(Panely!$A$9:$A$28),VLOOKUP(Data!$B41,tabulka_kce_def,23,FALSE),VLOOKUP(Data!$B41,tabulka_panely_def,24,FALSE))","v":0},{"$f":"IF(Data!$B41<MIN(Panely!$A$9:$A$28),VLOOKUP(Data!$B41,tabulka_kce_def,21,FALSE),VLOOKUP(Data!$B41,tabulka_panely_def,22,FALSE))","v":0},{"$f":"IF(Data!$B41<MIN(Panely!$A$9:$A$28),VLOOKUP(Data!$B41,tabulka_kce_def,26,FALSE),VLOOKUP(Data!$B41,tabulka_panely_def,31,FALSE))","v":{"$error":"#DIV/0!"}},{"$f":"IF(Data!$B41<MIN(Panely!$A$9:$A$28),VLOOKUP(Data!$B41,tabulka_kce_def,27,FALSE),VLOOKUP(Data!$B41,tabulka_panely_def,32,FALSE))","v":{"$error":"#DIV/0!"}},{"$f":"IF(VLOOKUP(Data!$B41,tabulka_kce_def,3,FALSE)=\"\",Konstrukce!$G$1,IF(VLOOKUP(Data!$B41,tabulka_kce_def,3,FALSE)=\"z\",Konstrukce!$G$2,VLOOKUP(Data!$B41,tabulka_kce_def,3,FALSE)))","v":{"$error":"#N/A"}},{"$f":"IF(Data!$B41<MIN(Panely!$A$9:$A$28),0,VLOOKUP(Data!$B41,tabulka_panely_def,25,FALSE))","v":0},{"$f":"IF(Data!$B41<MIN(Panely!$A$9:$A$28),VLOOKUP(Data!$B41,tabulka_kce_def,24,FALSE),VLOOKUP(Data!$B41,tabulka_panely_def,33,FALSE))","v":{"$error":"#N/A"}},{"$f":"Konstrukce!$D$1","v":18.770175404064034},{"$f":"Konstrukce!$D$2","v":19.934229593106764},{"$f":"Konstrukce!$G$1","v":-12},{"$f":"IF(Data!$B41<MIN(Panely!$A$9:$A$28),VLOOKUP(Data!$B41,tabulka_kce_def,59,FALSE),VLOOKUP(Data!$B41,tabulka_panely_def,63,FALSE))","v":""},{"$f":"IF(Data!$B41<MIN(Panely!$A$9:$A$28),VLOOKUP(Data!$B41,tabulka_kce_def,60,FALSE),VLOOKUP(Data!$B41,tabulka_panely_def,64,FALSE))","v":""},{"$f":"IF(Data!$B41<MIN(Panely!$A$9:$A$28),VLOOKUP(Data!$B41,tabulka_kce_def,61,FALSE),VLOOKUP(Data!$B41,tabulka_panely_def,65,FALSE))","v":""},{"$f":"IF(Data!$B41<MIN(Panely!$A$9:$A$28),VLOOKUP(Data!$B41,tabulka_kce_def,25,FALSE),0)","v":0},0,null,null,null,null,"=",{"$f":"IF(Data!$W41<MIN(Panely!$A$9:$A$28),VLOOKUP(Data!$W41,tabulka_kce_def,62,FALSE),VLOOKUP(Data!$W41,tabulka_panely_def,65,FALSE))","v":""},{"$f":"IF(Data!$W41<MIN(Panely!$A$9:$A$28),VLOOKUP(Data!$W41,tabulka_kce_def,Y$1-20,FALSE),VLOOKUP(Data!$W41,tabulka_panely_def,Y$1-18,FALSE))","v":0},{"$f":"IF(Data!$W41<MIN(Panely!$A$9:$A$28),VLOOKUP(Data!$W41,tabulka_kce_def,Z$1-20,FALSE),VLOOKUP(Data!$W41,tabulka_panely_def,Z$1-18,FALSE))","v":0},{"$f":"IF(Data!$W41<MIN(Panely!$A$9:$A$28),VLOOKUP(Data!$W41,tabulka_kce_def,AA$1-20,FALSE),VLOOKUP(Data!$W41,tabulka_panely_def,AA$1-18,FALSE))","v":0},{"$f":"IF(Data!$W41<MIN(Panely!$A$9:$A$28),VLOOKUP(Data!$W41,tabulka_kce_def,AB$1-20,FALSE),VLOOKUP(Data!$W41,tabulka_panely_def,AB$1-18,FALSE))","v":0},{"$f":"IF(Data!$W41<MIN(Panely!$A$9:$A$28),VLOOKUP(Data!$W41,tabulka_kce_def,AC$1-20,FALSE),VLOOKUP(Data!$W41,tabulka_panely_def,AC$1-18,FALSE))","v":0},{"$f":"IF(Data!$W41<MIN(Panely!$A$9:$A$28),VLOOKUP(Data!$W41,tabulka_kce_def,AD$1-20,FALSE),VLOOKUP(Data!$W41,tabulka_panely_def,AD$1-18,FALSE))","v":0},{"$f":"IF(Data!$W41<MIN(Panely!$A$9:$A$28),VLOOKUP(Data!$W41,tabulka_kce_def,AE$1-20,FALSE),VLOOKUP(Data!$W41,tabulka_panely_def,AE$1-18,FALSE))","v":0},{"$f":"IF(Data!$W41<MIN(Panely!$A$9:$A$28),VLOOKUP(Data!$W41,tabulka_kce_def,AF$1-20,FALSE),VLOOKUP(Data!$W41,tabulka_panely_def,AF$1-18,FALSE))","v":0},{"$f":"IF(Data!$W41<MIN(Panely!$A$9:$A$28),VLOOKUP(Data!$W41,tabulka_kce_def,AG$1-20,FALSE),VLOOKUP(Data!$W41,tabulka_panely_def,AG$1-18,FALSE))","v":0},{"$f":"IF(Data!$W41<MIN(Panely!$A$9:$A$28),VLOOKUP(Data!$W41,tabulka_kce_def,AH$1-20,FALSE),VLOOKUP(Data!$W41,tabulka_panely_def,AH$1-18,FALSE))","v":0},{"$f":"IF(Data!$W41<MIN(Panely!$A$9:$A$28),VLOOKUP(Data!$W41,tabulka_kce_def,AI$1-20,FALSE),VLOOKUP(Data!$W41,tabulka_panely_def,AI$1-18,FALSE))","v":0},{"$f":"IF(Data!$W41<MIN(Panely!$A$9:$A$28),VLOOKUP(Data!$W41,tabulka_kce_def,AJ$1-20,FALSE),VLOOKUP(Data!$W41,tabulka_panely_def,AJ$1-18,FALSE))","v":0},{"$f":"IF(Data!$W41<MIN(Panely!$A$9:$A$28),VLOOKUP(Data!$W41,tabulka_kce_def,AK$1-20,FALSE),VLOOKUP(Data!$W41,tabulka_panely_def,AK$1-18,FALSE))","v":0},{"$f":"IF(Data!$W41<MIN(Panely!$A$9:$A$28),VLOOKUP(Data!$W41,tabulka_kce_def,AL$1-20,FALSE),VLOOKUP(Data!$W41,tabulka_panely_def,AL$1-18,FALSE))","v":0},{"$f":"IF(Data!$W41<MIN(Panely!$A$9:$A$28),VLOOKUP(Data!$W41,tabulka_kce_def,AM$1-20,FALSE),VLOOKUP(Data!$W41,tabulka_panely_def,AM$1-18,FALSE))","v":0},41,{"$f":"IF(Data!$W41<MIN(Panely!$A$9:$A$28),VLOOKUP(Data!$W41,tabulka_kce_def,63,FALSE),0)","v":0},{"$f":"IF(Data!$W41<MIN(Panely!$A$9:$A$28),VLOOKUP(Data!$W41,tabulka_kce_def,28,FALSE),1)","v":1},{"$f":"IF(Data!$W41<MIN(Panely!$A$9:$A$28),VLOOKUP(Data!$W41,tabulka_kce_def,23,FALSE),VLOOKUP(Data!$W41,tabulka_panely_def,24,FALSE))","v":0},null,0,null,0,0,{"$error":"#N/A"},0,{"$f":"IF(AND(W41>MAX(Konstrukce!A:A),ISNUMBER(W41)),1,0)","v":0}]
[null,"=",{"$f":"IF(Data!$B42<MIN(Panely!$A$9:$A$28),VLOOKUP(Data!$B42,tabulka_kce_def,4,FALSE),VLOOKUP(Data!$B42,tabulka_panely_def,4,FALSE))","v":0},{"$f":"IF(Data!$B42<MIN(Panely!$A$9:$A$28),VLOOKUP(Data!$B42,tabulka_kce_def,23,FALSE),VLOOKUP(Data!$B42,tabulka_panely_def,24,FALSE))","v":0},{"$f":"IF(Data!$B42<MIN(Panely!$A$9:$A$28),VLOOKUP(Data!$B42,tabulka_kce_def,21,FALSE),VLOOKUP(Data!$B42,tabulka_panely_def,22,FALSE))","v":0},{"$f":"IF(Data!$B42<MIN(Panely!$A$9:$A$28),VLOOKUP(Data!$B42,tabulka_kce_def,26,FALSE),VLOOKUP(Data!$B42,tabulka_panely_def,31,FALSE))","v":{"$error":"#DIV/0!"}},{"$f":"IF(Data!$B42<MIN(Panely!$A$9:$A$28),VLOOKUP(Data!$B42,tabulka_kce_def,27,FALSE),VLOOKUP(Data!$B42,tabulka_panely_def,32,FALSE))","v":{"$error":"#DIV/0!"}},{"$f":"IF(VLOOKUP(Data!$B42,tabulka_kce_def,3,FALSE)=\"\",Konstrukce!$G$1,IF(VLOOKUP(Data!$B42,tabulka_kce_def,3,FALSE)=\"z\",Konstrukce!$G$2,VLOOKUP(Data!$B42,tabulka_kce_def,3,FALSE)))","v":{"$error":"#N/A"}},{"$f":"IF(Data!$B42<MIN(Panely!$A$9:$A$28),0,VLOOKUP(Data!$B42,tabulka_panely_def,25,FALSE))","v":0},{"$f":"IF(Data!$B42<MIN(Panely!$A$9:$A$28),VLOOKUP(Data!$B42,tabulka_kce_def,24,FALSE),VLOOKUP(Data!$B42,tabulka_panely_def,33,FALSE))","v":{"$error":"#N/A"}},{"$f":"Konstrukce!$D$1","v":18.770175404064034},{"$f":"Konstrukce!$D$2","v":19.934229593106764},{"$f":"Konstrukce!$G$1","v":-12},{"$f":"IF(Data!$B42<MIN(Panely!$A$9:$A$28),VLOOKUP(Data!$B42,tabulka_kce_def,59,FALSE),VLOOKUP(Data!$B42,tabulka_panely_def,63,FALSE))","v":""},{"$f":"IF(Data!$B42<MIN(Panely!$A$9:$A$28),VLOOKUP(Data!$B42,tabulka_kce_def,60,FALSE),VLOOKUP(Data!$B42,tabulka_panely_def,64,FALSE))","v":""},{"$f":"IF(Data!$B42<MIN(Panely!$A$9:$A$28),VLOOKUP(Data!$B42,tabulka_kce_def,61,FALSE),VLOOKUP(Data!$B42,tabulka_panely_def,65,FALSE))","v":""},{"$f":"IF(Data!$B42<MIN(Panely!$A$9:$A$28),VLOOKUP(Data!$B42,tabulka_kce_def,25,FALSE),0)","v":0},0,null,null,null,null,"=",{"$f":"IF(Data!$W42<MIN(Panely!$A$9:$A$28),VLOOKUP(Data!$W42,tabulka_kce_def,62,FALSE),VLOOKUP(Data!$W42,tabulka_panely_def,65,FALSE))","v":""},{"$f":"IF(Data!$W42<MIN(Panely!$A$9:$A$28),VLOOKUP(Data!$W42,tabulka_kce_def,Y$1-20,FALSE),VLOOKUP(Data!$W42,tabulka_panely_def,Y$1-18,FALSE))","v":0},{"$f":"IF(Data!$W42<MIN(Panely!$A$9:$A$28),VLOOKUP(Data!$W42,tabulka_kce_def,Z$1-20,FALSE),VLOOKUP(Data!$W42,tabulka_panely_def,Z$1-18,FALSE))","v":0},{"$f":"IF(Data!$W42<MIN(Panely!$A$9:$A$28),VLOOKUP(Data!$W42,tabulka_kce_def,AA$1-20,FALSE),VLOOKUP(Data!$W42,tabulka_panely_def,AA$1-18,FALSE))","v":0},{"$f":"IF(Data!$W42<MIN(Panely!$A$9:$A$28),VLOOKUP(Data!$W42,tabulka_kce_def,AB$1-20,FALSE),VLOOKUP(Data!$W42,tabulka_panely_def,AB$1-18,FALSE))","v":0},{"$f":"IF(Data!$W42<MIN(Panely!$A$9:$A$28),VLOOKUP(Data!$W42,tabulka_kce_def,AC$1-20,FALSE),VLOOKUP(Data!$W42,tabulka_panely_def,AC$1-18,FALSE))","v":0},{"$f":"IF(Data!$W42<MIN(Panely!$A$9:$A$28),VLOOKUP(Data!$W42,tabulka_kce_def,AD$1-20,FALSE),VLOOKUP(Data!$W42,tabulka_panely_def,AD$1-18,FALSE))","v":0},{"$f":"IF(Data!$W42<MIN(Panely!$A$9:$A$28),VLOOKUP(Data!$W42,tabulka_kce_def,AE$1-20,FALSE),VLOOKUP(Data!$W42,tabulka_panely_def,AE$1-18,FALSE))","v":0},{"$f":"IF(Data!$W42<MIN(Panely!$A$9:$A$28),VLOOKUP(Data!$W42,tabulka_kce_def,AF$1-20,FALSE),VLOOKUP(Data!$W42,tabulka_panely_def,AF$1-18,FALSE))","v":0},{"$f":"IF(Data!$W42<MIN(Panely!$A$9:$A$28),VLOOKUP(Data!$W42,tabulka_kce_def,AG$1-20,FALSE),VLOOKUP(Data!$W42,tabulka_panely_def,AG$1-18,FALSE))","v":0},{"$f":"IF(Data!$W42<MIN(Panely!$A$9:$A$28),VLOOKUP(Data!$W42,tabulka_kce_def,AH$1-20,FALSE),VLOOKUP(Data!$W42,tabulka_panely_def,AH$1-18,FALSE))","v":0},{"$f":"IF(Data!$W42<MIN(Panely!$A$9:$A$28),VLOOKUP(Data!$W42,tabulka_kce_def,AI$1-20,FALSE),VLOOKUP(Data!$W42,tabulka_panely_def,AI$1-18,FALSE))","v":0},{"$f":"IF(Data!$W42<MIN(Panely!$A$9:$A$28),VLOOKUP(Data!$W42,tabulka_kce_def,AJ$1-20,FALSE),VLOOKUP(Data!$W42,tabulka_panely_def,AJ$1-18,FALSE))","v":0},{"$f":"IF(Data!$W42<MIN(Panely!$A$9:$A$28),VLOOKUP(Data!$W42,tabulka_kce_def,AK$1-20,FALSE),VLOOKUP(Data!$W42,tabulka_panely_def,AK$1-18,FALSE))","v":0},{"$f":"IF(Data!$W42<MIN(Panely!$A$9:$A$28),VLOOKUP(Data!$W42,tabulka_kce_def,AL$1-20,FALSE),VLOOKUP(Data!$W42,tabulka_panely_def,AL$1-18,FALSE))","v":0},{"$f":"IF(Data!$W42<MIN(Panely!$A$9:$A$28),VLOOKUP(Data!$W42,tabulka_kce_def,AM$1-20,FALSE),VLOOKUP(Data!$W42,tabulka_panely_def,AM$1-18,FALSE))","v":0},42,{"$f":"IF(Data!$W42<MIN(Panely!$A$9:$A$28),VLOOKUP(Data!$W42,tabulka_kce_def,63,FALSE),0)","v":0},{"$f":"IF(Data!$W42<MIN(Panely!$A$9:$A$28),VLOOKUP(Data!$W42,tabulka_kce_def,28,FALSE),1)","v":1},{"$f":"IF(Data!$W42<MIN(Panely!$A$9:$A$28),VLOOKUP(Data!$W42,tabulka_kce_def,23,FALSE),VLOOKUP(Data!$W42,tabulka_panely_def,24,FALSE))","v":0},null,0,null,0,0,{"$error":"#N/A"},0,{"$f":"IF(AND(W42>MAX(Konstrukce!A:A),ISNUMBER(W42)),1,0)","v":0}]
[null,"=",{"$f":"IF(Data!$B43<MIN(Panely!$A$9:$A$28),VLOOKUP(Data!$B43,tabulka_kce_def,4,FALSE),VLOOKUP(Data!$B43,tabulka_panely_def,4,FALSE))","v":0},{"$f":"IF(Data!$B43<MIN(Panely!$A$9:$A$28),VLOOKUP(Data!$B43,tabulka_kce_def,23,FALSE),VLOOKUP(Data!$B43,tabulka_panely_def,24,FALSE))","v":0},{"$f":"IF(Data!$B43<MIN(Panely!$A$9:$A$28),VLOOKUP(Data!$B43,tabulka_kce_def,21,FALSE),VLOOKUP(Data!$B43,tabulka_panely_def,22,FALSE))","v":0},{"$f":"IF(Data!$B43<MIN(Panely!$A$9:$A$28),VLOOKUP(Data!$B43,tabulka_kce_def,26,FALSE),VLOOKUP(Data!$B43,tabulka_panely_def,31,FALSE))","v":{"$error":"#DIV/0!"}},{"$f":"IF(Data!$B43<MIN(Panely!$A$9:$A$28),VLOOKUP(Data!$B43,tabulka_kce_def,27,FALSE),VLOOKUP(Data!$B43,tabulka_panely_def,32,FALSE))","v":{"$error":"#DIV/0!"}},{"$f":"IF(VLOOKUP(Data!$B43,tabulka_kce_def,3,FALSE)=\"\",Konstrukce!$G$1,IF(VLOOKUP(Data!$B43,tabulka_kce_def,3,FALSE)=\"z\",Konstrukce!$G$2,VLOOKUP(Data!$B43,tabulka_kce_def,3,FALSE)))","v":{"$error":"#N/A"}},{"$f":"IF(Data!$B43<MIN(Panely!$A$9:$A$28),0,VLOOKUP(Data!$B43,tabulka_panely_def,25,FALSE))","v":0},{"$f":"IF(Data!$B43<MIN(Panely!$A$9:$A$28),VLOOKUP(Data!$B43,tabulka_kce_def,24,FALSE),VLOOKUP(Data!$B43,tabulka_panely_def,33,FALSE))","v":{"$error":"#N/A"}},{"$f":"Konstrukce!$D$1","v":18.770175404064034},{"$f":"Konstrukce!$D$2","v":19.934229593106764},{"$f":"Konstrukce!$G$1","v":-12},{"$f":"IF(Data!$B43<MIN(Panely!$A$9:$A$28),VLOOKUP(Data!$B43,tabulka_kce_def,59,FALSE),VLOOKUP(Data!$B43,tabulka_panely_def,63,FALSE))","v":""},{"$f":"IF(Data!$B43<MIN(Panely!$A$9:$A$28),VLOOKUP(Data!$B43,tabulka_kce_def,60,FALSE),VLOOKUP(Data!$B43,tabulka_panely_def,64,FALSE))","v":""},{"$f":"IF(Data!$B43<MIN(Panely!$A$9:$A$28),VLOOKUP(Data!$B43,tabulka_kce_def,61,FALSE),VLOOKUP(Data!$B43,tabulka_panely_def,65,FALSE))","v":""},{"$f":"IF(Data!$B43<MIN(Panely!$A$9:$A$28),VLOOKUP(Data!$B43,tabulka_kce_def,25,FALSE),0)","v":0},0,null,null,null,null,"=",{"$f":"IF(Data!$W43<MIN(Panely!$A$9:$A$28),VLOOKUP(Data!$W43,tabulka_kce_def,62,FALSE),VLOOKUP(Data!$W43,tabulka_panely_def,65,FALSE))","v":""},{"$f":"IF(Data!$W43<MIN(Panely!$A$9:$A$28),VLOOKUP(Data!$W43,tabulka_kce_def,Y$1-20,FALSE),VLOOKUP(Data!$W43,tabulka_panely_def,Y$1-18,FALSE))","v":0},{"$f":"IF(Data!$W43<MIN(Panely!$A$9:$A$28),VLOOKUP(Data!$W43,tabulka_kce_def,Z$1-20,FALSE),VLOOKUP(Data!$W43,tabulka_panely_def,Z$1-18,FALSE))","v":0},{"$f":"IF(Data!$W43<MIN(Panely!$A$9:$A$28),VLOOKUP(Data!$W43,tabulka_kce_def,AA$1-20,FALSE),VLOOKUP(Data!$W43,tabulka_panely_def,AA$1-18,FALSE))","v":0},{"$f":"IF(Data!$W43<MIN(Panely!$A$9:$A$28),VLOOKUP(Data!$W43,tabulka_kce_def,AB$1-20,FALSE),VLOOKUP(Data!$W43,tabulka_panely_def,AB$1-18,FALSE))","v":0},{"$f":"IF(Data!$W43<MIN(Panely!$A$9:$A$28),VLOOKUP(Data!$W43,tabulka_kce_def,AC$1-20,FALSE),VLOOKUP(Data!$W43,tabulka_panely_def,AC$1-18,FALSE))","v":0},{"$f":"IF(Data!$W43<MIN(Panely!$A$9:$A$28),VLOOKUP(Data!$W43,tabulka_kce_def,AD$1-20,FALSE),VLOOKUP(Data!$W43,tabulka_panely_def,AD$1-18,FALSE))","v":0},{"$f":"IF(Data!$W43<MIN(Panely!$A$9:$A$28),VLOOKUP(Data!$W43,tabulka_kce_def,AE$1-20,FALSE),VLOOKUP(Data!$W43,tabulka_panely_def,AE$1-18,FALSE))","v":0},{"$f":"IF(Data!$W43<MIN(Panely!$A$9:$A$28),VLOOKUP(Data!$W43,tabulka_kce_def,AF$1-20,FALSE),VLOOKUP(Data!$W43,tabulka_panely_def,AF$1-18,FALSE))","v":0},{"$f":"IF(Data!$W43<MIN(Panely!$A$9:$A$28),VLOOKUP(Data!$W43,tabulka_kce_def,AG$1-20,FALSE),VLOOKUP(Data!$W43,tabulka_panely_def,AG$1-18,FALSE))","v":0},{"$f":"IF(Data!$W43<MIN(Panely!$A$9:$A$28),VLOOKUP(Data!$W43,tabulka_kce_def,AH$1-20,FALSE),VLOOKUP(Data!$W43,tabulka_panely_def,AH$1-18,FALSE))","v":0},{"$f":"IF(Data!$W43<MIN(Panely!$A$9:$A$28),VLOOKUP(Data!$W43,tabulka_kce_def,AI$1-20,FALSE),VLOOKUP(Data!$W43,tabulka_panely_def,AI$1-18,FALSE))","v":0},{"$f":"IF(Data!$W43<MIN(Panely!$A$9:$A$28),VLOOKUP(Data!$W43,tabulka_kce_def,AJ$1-20,FALSE),VLOOKUP(Data!$W43,tabulka_panely_def,AJ$1-18,FALSE))","v":0},{"$f":"IF(Data!$W43<MIN(Panely!$A$9:$A$28),VLOOKUP(Data!$W43,tabulka_kce_def,AK$1-20,FALSE),VLOOKUP(Data!$W43,tabulka_panely_def,AK$1-18,FALSE))","v":0},{"$f":"IF(Data!$W43<MIN(Panely!$A$9:$A$28),VLOOKUP(Data!$W43,tabulka_kce_def,AL$1-20,FALSE),VLOOKUP(Data!$W43,tabulka_panely_def,AL$1-18,FALSE))","v":0},{"$f":"IF(Data!$W43<MIN(Panely!$A$9:$A$28),VLOOKUP(Data!$W43,tabulka_kce_def,AM$1-20,FALSE),VLOOKUP(Data!$W43,tabulka_panely_def,AM$1-18,FALSE))","v":0},43,{"$f":"IF(Data!$W43<MIN(Panely!$A$9:$A$28),VLOOKUP(Data!$W43,tabulka_kce_def,63,FALSE),0)","v":0},{"$f":"IF(Data!$W43<MIN(Panely!$A$9:$A$28),VLOOKUP(Data!$W43,tabulka_kce_def,28,FALSE),1)","v":1},{"$f":"IF(Data!$W43<MIN(Panely!$A$9:$A$28),VLOOKUP(Data!$W43,tabulka_kce_def,23,FALSE),VLOOKUP(Data!$W43,tabulka_panely_def,24,FALSE))","v":0},null,0,null,0,0,{"$error":"#N/A"},0,{"$f":"IF(AND(W43>MAX(Konstrukce!A:A),ISNUMBER(W43)),1,0)","v":0}]
[null,"=",{"$f":"IF(Data!$B44<MIN(Panely!$A$9:$A$28),VLOOKUP(Data!$B44,tabulka_kce_def,4,FALSE),VLOOKUP(Data!$B44,tabulka_panely_def,4,FALSE))","v":0},{"$f":"IF(Data!$B44<MIN(Panely!$A$9:$A$28),VLOOKUP(Data!$B44,tabulka_kce_def,23,FALSE),VLOOKUP(Data!$B44,tabulka_panely_def,24,FALSE))","v":0},{"$f":"IF(Data!$B44<MIN(Panely!$A$9:$A$28),VLOOKUP(Data!$B44,tabulka_kce_def,21,FALSE),VLOOKUP(Data!$B44,tabulka_panely_def,22,FALSE))","v":0},{"$f":"IF(Data!$B44<MIN(Panely!$A$9:$A$28),VLOOKUP(Data!$B44,tabulka_kce_def,26,FALSE),VLOOKUP(Data!$B44,tabulka_panely_def,31,FALSE))","v":{"$error":"#DIV/0!"}},{"$f":"IF(Data!$B44<MIN(Panely!$A$9:$A$28),VLOOKUP(Data!$B44,tabulka_kce_def,27,FALSE),VLOOKUP(Data!$B44,tabulka_panely_def,32,FALSE))","v":{"$error":"#DIV/0!"}},{"$f":"IF(VLOOKUP(Data!$B44,tabulka_kce_def,3,FALSE)=\"\",Konstrukce!$G$1,IF(VLOOKUP(Data!$B44,tabulka_kce_def,3,FALSE)=\"z\",Konstrukce!$G$2,VLOOKUP(Data!$B44,tabulka_kce_def,3,FALSE)))","v":{"$error":"#N/A"}},{"$f":"IF(Data!$B44<MIN(Panely!$A$9:$A$28),0,VLOOKUP(Data!$B44,tabulka_panely_def,25,FALSE))","v":0},{"$f":"IF(Data!$B44<MIN(Panely!$A$9:$A$28),VLOOKUP(Data!$B44,tabulka_kce_def,24,FALSE),VLOOKUP(Data!$B44,tabulka_panely_def,33,FALSE))","v":{"$error":"#N/A"}},{"$f":"Konstrukce!$D$1","v":18.770175404064034},{"$f":"Konstrukce!$D$2","v":19.934229593106764},{"$f":"Konstrukce!$G$1","v":-12},{"$f":"IF(Data!$B44<MIN(Panely!$A$9:$A$28),VLOOKUP(Data!$B44,tabulka_kce_def,59,FALSE),VLOOKUP(Data!$B44,tabulka_panely_def,63,FALSE))","v":""},{"$f":"IF(Data!$B44<MIN(Panely!$A$9:$A$28),VLOOKUP(Data!$B44,tabulka_kce_def,60,FALSE),VLOOKUP(Data!$B44,tabulka_panely_def,64,FALSE))","v":""},{"$f":"IF(Data!$B44<MIN(Panely!$A$9:$A$28),VLOOKUP(Data!$B44,tabulka_kce_def,61,FALSE),VLOOKUP(Data!$B44,tabulka_panely_def,65,FALSE))","v":""},{"$f":"IF(Data!$B44<MIN(Panely!$A$9:$A$28),VLOOKUP(Data!$B44,tabulka_kce_def,25,FALSE),0)","v":0},0,null,null,null,null,"=",{"$f":"IF(Data!$W44<MIN(Panely!$A$9:$A$28),VLOOKUP(Data!$W44,tabulka_kce_def,62,FALSE),VLOOKUP(Data!$W44,tabulka_panely_def,65,FALSE))","v":""},{"$f":"IF(Data!$W44<MIN(Panely!$A$9:$A$28),VLOOKUP(Data!$W44,tabulka_kce_def,Y$1-20,FALSE),VLOOKUP(Data!$W44,tabulka_panely_def,Y$1-18,FALSE))","v":0},{"$f":"IF(Data!$W44<MIN(Panely!$A$9:$A$28),VLOOKUP(Data!$W44,tabulka_kce_def,Z$1-20,FALSE),VLOOKUP(Data!$W44,tabulka_panely_def,Z$1-18,FALSE))","v":0},{"$f":"IF(Data!$W44<MIN(Panely!$A$9:$A$28),VLOOKUP(Data!$W44,tabulka_kce_def,AA$1-20,FALSE),VLOOKUP(Data!$W44,tabulka_panely_def,AA$1-18,FALSE))","v":0},{"$f":"IF(Data!$W44<MIN(Panely!$A$9:$A$28),VLOOKUP(Data!$W44,tabulka_kce_def,AB$1-20,FALSE),VLOOKUP(Data!$W44,tabulka_panely_def,AB$1-18,FALSE))","v":0},{"$f":"IF(Data!$W44<MIN(Panely!$A$9:$A$28),VLOOKUP(Data!$W44,tabulka_kce_def,AC$1-20,FALSE),VLOOKUP(Data!$W44,tabulka_panely_def,AC$1-18,FALSE))","v":0},{"$f":"IF(Data!$W44<MIN(Panely!$A$9:$A$28),VLOOKUP(Data!$W44,tabulka_kce_def,AD$1-20,FALSE),VLOOKUP(Data!$W44,tabulka_panely_def,AD$1-18,FALSE))","v":0},{"$f":"IF(Data!$W44<MIN(Panely!$A$9:$A$28),VLOOKUP(Data!$W44,tabulka_kce_def,AE$1-20,FALSE),VLOOKUP(Data!$W44,tabulka_panely_def,AE$1-18,FALSE))","v":0},{"$f":"IF(Data!$W44<MIN(Panely!$A$9:$A$28),VLOOKUP(Data!$W44,tabulka_kce_def,AF$1-20,FALSE),VLOOKUP(Data!$W44,tabulka_panely_def,AF$1-18,FALSE))","v":0},{"$f":"IF(Data!$W44<MIN(Panely!$A$9:$A$28),VLOOKUP(Data!$W44,tabulka_kce_def,AG$1-20,FALSE),VLOOKUP(Data!$W44,tabulka_panely_def,AG$1-18,FALSE))","v":0},{"$f":"IF(Data!$W44<MIN(Panely!$A$9:$A$28),VLOOKUP(Data!$W44,tabulka_kce_def,AH$1-20,FALSE),VLOOKUP(Data!$W44,tabulka_panely_def,AH$1-18,FALSE))","v":0},{"$f":"IF(Data!$W44<MIN(Panely!$A$9:$A$28),VLOOKUP(Data!$W44,tabulka_kce_def,AI$1-20,FALSE),VLOOKUP(Data!$W44,tabulka_panely_def,AI$1-18,FALSE))","v":0},{"$f":"IF(Data!$W44<MIN(Panely!$A$9:$A$28),VLOOKUP(Data!$W44,tabulka_kce_def,AJ$1-20,FALSE),VLOOKUP(Data!$W44,tabulka_panely_def,AJ$1-18,FALSE))","v":0},{"$f":"IF(Data!$W44<MIN(Panely!$A$9:$A$28),VLOOKUP(Data!$W44,tabulka_kce_def,AK$1-20,FALSE),VLOOKUP(Data!$W44,tabulka_panely_def,AK$1-18,FALSE))","v":0},{"$f":"IF(Data!$W44<MIN(Panely!$A$9:$A$28),VLOOKUP(Data!$W44,tabulka_kce_def,AL$1-20,FALSE),VLOOKUP(Data!$W44,tabulka_panely_def,AL$1-18,FALSE))","v":0},{"$f":"IF(Data!$W44<MIN(Panely!$A$9:$A$28),VLOOKUP(Data!$W44,tabulka_kce_def,AM$1-20,FALSE),VLOOKUP(Data!$W44,tabulka_panely_def,AM$1-18,FALSE))","v":0},44,{"$f":"IF(Data!$W44<MIN(Panely!$A$9:$A$28),VLOOKUP(Data!$W44,tabulka_kce_def,63,FALSE),0)","v":0},{"$f":"IF(Data!$W44<MIN(Panely!$A$9:$A$28),VLOOKUP(Data!$W44,tabulka_kce_def,28,FALSE),1)","v":1},{"$f":"IF(Data!$W44<MIN(Panely!$A$9:$A$28),VLOOKUP(Data!$W44,tabulka_kce_def,23,FALSE),VLOOKUP(Data!$W44,tabulka_panely_def,24,FALSE))","v":0},null,0,null,0,0,{"$error":"#N/A"},0,{"$f":"IF(AND(W44>MAX(Konstrukce!A:A),ISNUMBER(W44)),1,0)","v":0}]
[null,"=",{"$f":"IF(Data!$B45<MIN(Panely!$A$9:$A$28),VLOOKUP(Data!$B45,tabulka_kce_def,4,FALSE),VLOOKUP(Data!$B45,tabulka_panely_def,4,FALSE))","v":0},{"$f":"IF(Data!$B45<MIN(Panely!$A$9:$A$28),VLOOKUP(Data!$B45,tabulka_kce_def,23,FALSE),VLOOKUP(Data!$B45,tabulka_panely_def,24,FALSE))","v":0},{"$f":"IF(Data!$B45<MIN(Panely!$A$9:$A$28),VLOOKUP(Data!$B45,tabulka_kce_def,21,FALSE),VLOOKUP(Data!$B45,tabulka_panely_def,22,FALSE))","v":0},{"$f":"IF(Data!$B45<MIN(Panely!$A$9:$A$28),VLOOKUP(Data!$B45,tabulka_kce_def,26,FALSE),VLOOKUP(Data!$B45,tabulka_panely_def,31,FALSE))","v":{"$error":"#DIV/0!"}},{"$f":"IF(Data!$B45<MIN(Panely!$A$9:$A$28),VLOOKUP(Data!$B45,tabulka_kce_def,27,FALSE),VLOOKUP(Data!$B45,tabulka_panely_def,32,FALSE))","v":{"$error":"#DIV/0!"}},{"$f":"IF(VLOOKUP(Data!$B45,tabulka_kce_def,3,FALSE)=\"\",Konstrukce!$G$1,IF(VLOOKUP(Data!$B45,tabulka_kce_def,3,FALSE)=\"z\",Konstrukce!$G$2,VLOOKUP(Data!$B45,tabulka_kce_def,3,FALSE)))","v":{"$error":"#N/A"}},{"$f":"IF(Data!$B45<MIN(Panely!$A$9:$A$28),0,VLOOKUP(Data!$B45,tabulka_panely_def,25,FALSE))","v":0},{"$f":"IF(Data!$B45<MIN(Panely!$A$9:$A$28),VLOOKUP(Data!$B45,tabulka_kce_def,24,FALSE),VLOOKUP(Data!$B45,tabulka_panely_def,33,FALSE))","v":{"$error":"#N/A"}},{"$f":"Konstrukce!$D$1","v":18.770175404064034},{"$f":"Konstrukce!$D$2","v":19.934229593106764},{"$f":"Konstrukce!$G$1","v":-12},{"$f":"IF(Data!$B45<MIN(Panely!$A$9:$A$28),VLOOKUP(Data!$B45,tabulka_kce_def,59,FALSE),VLOOKUP(Data!$B45,tabulka_panely_def,63,FALSE))","v":""},{"$f":"IF(Data!$B45<MIN(Panely!$A$9:$A$28),VLOOKUP(Data!$B45,tabulka_kce_def,60,FALSE),VLOOKUP(Data!$B45,tabulka_panely_def,64,FALSE))","v":""},{"$f":"IF(Data!$B45<MIN(Panely!$A$9:$A$28),VLOOKUP(Data!$B45,tabulka_kce_def,61,FALSE),VLOOKUP(Data!$B45,tabulka_panely_def,65,FALSE))","v":""},{"$f":"IF(Data!$B45<MIN(Panely!$A$9:$A$28),VLOOKUP(Data!$B45,tabulka_kce_def,25,FALSE),0)","v":0},0,null,null,null,null,"=",{"$f":"IF(Data!$W45<MIN(Panely!$A$9:$A$28),VLOOKUP(Data!$W45,tabulka_kce_def,62,FALSE),VLOOKUP(Data!$W45,tabulka_panely_def,65,FALSE))","v":""},{"$f":"IF(Data!$W45<MIN(Panely!$A$9:$A$28),VLOOKUP(Data!$W45,tabulka_kce_def,Y$1-20,FALSE),VLOOKUP(Data!$W45,tabulka_panely_def,Y$1-18,FALSE))","v":0},{"$f":"IF(Data!$W45<MIN(Panely!$A$9:$A$28),VLOOKUP(Data!$W45,tabulka_kce_def,Z$1-20,FALSE),VLOOKUP(Data!$W45,tabulka_panely_def,Z$1-18,FALSE))","v":0},{"$f":"IF(Data!$W45<MIN(Panely!$A$9:$A$28),VLOOKUP(Data!$W45,tabulka_kce_def,AA$1-20,FALSE),VLOOKUP(Data!$W45,tabulka_panely_def,AA$1-18,FALSE))","v":0},{"$f":"IF(Data!$W45<MIN(Panely!$A$9:$A$28),VLOOKUP(Data!$W45,tabulka_kce_def,AB$1-20,FALSE),VLOOKUP(Data!$W45,tabulka_panely_def,AB$1-18,FALSE))","v":0},{"$f":"IF(Data!$W45<MIN(Panely!$A$9:$A$28),VLOOKUP(Data!$W45,tabulka_kce_def,AC$1-20,FALSE),VLOOKUP(Data!$W45,tabulka_panely_def,AC$1-18,FALSE))","v":0},{"$f":"IF(Data!$W45<MIN(Panely!$A$9:$A$28),VLOOKUP(Data!$W45,tabulka_kce_def,AD$1-20,FALSE),VLOOKUP(Data!$W45,tabulka_panely_def,AD$1-18,FALSE))","v":0},{"$f":"IF(Data!$W45<MIN(Panely!$A$9:$A$28),VLOOKUP(Data!$W45,tabulka_kce_def,AE$1-20,FALSE),VLOOKUP(Data!$W45,tabulka_panely_def,AE$1-18,FALSE))","v":0},{"$f":"IF(Data!$W45<MIN(Panely!$A$9:$A$28),VLOOKUP(Data!$W45,tabulka_kce_def,AF$1-20,FALSE),VLOOKUP(Data!$W45,tabulka_panely_def,AF$1-18,FALSE))","v":0},{"$f":"IF(Data!$W45<MIN(Panely!$A$9:$A$28),VLOOKUP(Data!$W45,tabulka_kce_def,AG$1-20,FALSE),VLOOKUP(Data!$W45,tabulka_panely_def,AG$1-18,FALSE))","v":0},{"$f":"IF(Data!$W45<MIN(Panely!$A$9:$A$28),VLOOKUP(Data!$W45,tabulka_kce_def,AH$1-20,FALSE),VLOOKUP(Data!$W45,tabulka_panely_def,AH$1-18,FALSE))","v":0},{"$f":"IF(Data!$W45<MIN(Panely!$A$9:$A$28),VLOOKUP(Data!$W45,tabulka_kce_def,AI$1-20,FALSE),VLOOKUP(Data!$W45,tabulka_panely_def,AI$1-18,FALSE))","v":0},{"$f":"IF(Data!$W45<MIN(Panely!$A$9:$A$28),VLOOKUP(Data!$W45,tabulka_kce_def,AJ$1-20,FALSE),VLOOKUP(Data!$W45,tabulka_panely_def,AJ$1-18,FALSE))","v":0},{"$f":"IF(Data!$W45<MIN(Panely!$A$9:$A$28),VLOOKUP(Data!$W45,tabulka_kce_def,AK$1-20,FALSE),VLOOKUP(Data!$W45,tabulka_panely_def,AK$1-18,FALSE))","v":0},{"$f":"IF(Data!$W45<MIN(Panely!$A$9:$A$28),VLOOKUP(Data!$W45,tabulka_kce_def,AL$1-20,FALSE),VLOOKUP(Data!$W45,tabulka_panely_def,AL$1-18,FALSE))","v":0},{"$f":"IF(Data!$W45<MIN(Panely!$A$9:$A$28),VLOOKUP(Data!$W45,tabulka_kce_def,AM$1-20,FALSE),VLOOKUP(Data!$W45,tabulka_panely_def,AM$1-18,FALSE))","v":0},45,{"$f":"IF(Data!$W45<MIN(Panely!$A$9:$A$28),VLOOKUP(Data!$W45,tabulka_kce_def,63,FALSE),0)","v":0},{"$f":"IF(Data!$W45<MIN(Panely!$A$9:$A$28),VLOOKUP(Data!$W45,tabulka_kce_def,28,FALSE),1)","v":1},{"$f":"IF(Data!$W45<MIN(Panely!$A$9:$A$28),VLOOKUP(Data!$W45,tabulka_kce_def,23,FALSE),VLOOKUP(Data!$W45,tabulka_panely_def,24,FALSE))","v":0},null,0,null,0,0,{"$error":"#N/A"},0,{"$f":"IF(AND(W45>MAX(Konstrukce!A:A),ISNUMBER(W45)),1,0)","v":0}]
[null,"=",{"$f":"IF(Data!$B46<MIN(Panely!$A$9:$A$28),VLOOKUP(Data!$B46,tabulka_kce_def,4,FALSE),VLOOKUP(Data!$B46,tabulka_panely_def,4,FALSE))","v":0},{"$f":"IF(Data!$B46<MIN(Panely!$A$9:$A$28),VLOOKUP(Data!$B46,tabulka_kce_def,23,FALSE),VLOOKUP(Data!$B46,tabulka_panely_def,24,FALSE))","v":0},{"$f":"IF(Data!$B46<MIN(Panely!$A$9:$A$28),VLOOKUP(Data!$B46,tabulka_kce_def,21,FALSE),VLOOKUP(Data!$B46,tabulka_panely_def,22,FALSE))","v":0},{"$f":"IF(Data!$B46<MIN(Panely!$A$9:$A$28),VLOOKUP(Data!$B46,tabulka_kce_def,26,FALSE),VLOOKUP(Data!$B46,tabulka_panely_def,31,FALSE))","v":{"$error":"#DIV/0!"}},{"$f":"IF(Data!$B46<MIN(Panely!$A$9:$A$28),VLOOKUP(Data!$B46,tabulka_kce_def,27,FALSE),VLOOKUP(Data!$B46,tabulka_panely_def,32,FALSE))","v":{"$error":"#DIV/0!"}},{"$f":"IF(VLOOKUP(Data!$B46,tabulka_kce_def,3,FALSE)=\"\",Konstrukce!$G$1,IF(VLOOKUP(Data!$B46,tabulka_kce_def,3,FALSE)=\"z\",Konstrukce!$G$2,VLOOKUP(Data!$B46,tabulka_kce_def,3,FALSE)))","v":{"$error":"#N/A"}},{"$f":"IF(Data!$B46<MIN(Panely!$A$9:$A$28),0,VLOOKUP(Data!$B46,tabulka_panely_def,25,FALSE))","v":0},{"$f":"IF(Data!$B46<MIN(Panely!$A$9:$A$28),VLOOKUP(Data!$B46,tabulka_kce_def,24,FALSE),VLOOKUP(Data!$B46,tabulka_panely_def,33,FALSE))","v":{"$error":"#N/A"}},{"$f":"Konstrukce!$D$1","v":18.770175404064034},{"$f":"Konstrukce!$D$2","v":19.934229593106764},{"$f":"Konstrukce!$G$1","v":-12},{"$f":"IF(Data!$B46<MIN(Panely!$A$9:$A$28),VLOOKUP(Data!$B46,tabulka_kce_def,59,FALSE),VLOOKUP(Data!$B46,tabulka_panely_def,63,FALSE))","v":""},{"$f":"IF(Data!$B46<MIN(Panely!$A$9:$A$28),VLOOKUP(Data!$B46,tabulka_kce_def,60,FALSE),VLOOKUP(Data!$B46,tabulka_panely_def,64,FALSE))","v":""},{"$f":"IF(Data!$B46<MIN(Panely!$A$9:$A$28),VLOOKUP(Data!$B46,tabulka_kce_def,61,FALSE),VLOOKUP(Data!$B46,tabulka_panely_def,65,FALSE))","v":""},{"$f":"IF(Data!$B46<MIN(Panely!$A$9:$A$28),VLOOKUP(Data!$B46,tabulka_kce_def,25,FALSE),0)","v":0},0,null,null,null,null,"=",{"$f":"IF(Data!$W46<MIN(Panely!$A$9:$A$28),VLOOKUP(Data!$W46,tabulka_kce_def,62,FALSE),VLOOKUP(Data!$W46,tabulka_panely_def,65,FALSE))","v":""},{"$f":"IF(Data!$W46<MIN(Panely!$A$9:$A$28),VLOOKUP(Data!$W46,tabulka_kce_def,Y$1-20,FALSE),VLOOKUP(Data!$W46,tabulka_panely_def,Y$1-18,FALSE))","v":0},{"$f":"IF(Data!$W46<MIN(Panely!$A$9:$A$28),VLOOKUP(Data!$W46,tabulka_kce_def,Z$1-20,FALSE),VLOOKUP(Data!$W46,tabulka_panely_def,Z$1-18,FALSE))","v":0},{"$f":"IF(Data!$W46<MIN(Panely!$A$9:$A$28),VLOOKUP(Data!$W46,tabulka_kce_def,AA$1-20,FALSE),VLOOKUP(Data!$W46,tabulka_panely_def,AA$1-18,FALSE))","v":0},{"$f":"IF(Data!$W46<MIN(Panely!$A$9:$A$28),VLOOKUP(Data!$W46,tabulka_kce_def,AB$1-20,FALSE),VLOOKUP(Data!$W46,tabulka_panely_def,AB$1-18,FALSE))","v":0},{"$f":"IF(Data!$W46<MIN(Panely!$A$9:$A$28),VLOOKUP(Data!$W46,tabulka_kce_def,AC$1-20,FALSE),VLOOKUP(Data!$W46,tabulka_panely_def,AC$1-18,FALSE))","v":0},{"$f":"IF(Data!$W46<MIN(Panely!$A$9:$A$28),VLOOKUP(Data!$W46,tabulka_kce_def,AD$1-20,FALSE),VLOOKUP(Data!$W46,tabulka_panely_def,AD$1-18,FALSE))","v":0},{"$f":"IF(Data!$W46<MIN(Panely!$A$9:$A$28),VLOOKUP(Data!$W46,tabulka_kce_def,AE$1-20,FALSE),VLOOKUP(Data!$W46,tabulka_panely_def,AE$1-18,FALSE))","v":0},{"$f":"IF(Data!$W46<MIN(Panely!$A$9:$A$28),VLOOKUP(Data!$W46,tabulka_kce_def,AF$1-20,FALSE),VLOOKUP(Data!$W46,tabulka_panely_def,AF$1-18,FALSE))","v":0},{"$f":"IF(Data!$W46<MIN(Panely!$A$9:$A$28),VLOOKUP(Data!$W46,tabulka_kce_def,AG$1-20,FALSE),VLOOKUP(Data!$W46,tabulka_panely_def,AG$1-18,FALSE))","v":0},{"$f":"IF(Data!$W46<MIN(Panely!$A$9:$A$28),VLOOKUP(Data!$W46,tabulka_kce_def,AH$1-20,FALSE),VLOOKUP(Data!$W46,tabulka_panely_def,AH$1-18,FALSE))","v":0},{"$f":"IF(Data!$W46<MIN(Panely!$A$9:$A$28),VLOOKUP(Data!$W46,tabulka_kce_def,AI$1-20,FALSE),VLOOKUP(Data!$W46,tabulka_panely_def,AI$1-18,FALSE))","v":0},{"$f":"IF(Data!$W46<MIN(Panely!$A$9:$A$28),VLOOKUP(Data!$W46,tabulka_kce_def,AJ$1-20,FALSE),VLOOKUP(Data!$W46,tabulka_panely_def,AJ$1-18,FALSE))","v":0},{"$f":"IF(Data!$W46<MIN(Panely!$A$9:$A$28),VLOOKUP(Data!$W46,tabulka_kce_def,AK$1-20,FALSE),VLOOKUP(Data!$W46,tabulka_panely_def,AK$1-18,FALSE))","v":0},{"$f":"IF(Data!$W46<MIN(Panely!$A$9:$A$28),VLOOKUP(Data!$W46,tabulka_kce_def,AL$1-20,FALSE),VLOOKUP(Data!$W46,tabulka_panely_def,AL$1-18,FALSE))","v":0},{"$f":"IF(Data!$W46<MIN(Panely!$A$9:$A$28),VLOOKUP(Data!$W46,tabulka_kce_def,AM$1-20,FALSE),VLOOKUP(Data!$W46,tabulka_panely_def,AM$1-18,FALSE))","v":0},46,{"$f":"IF(Data!$W46<MIN(Panely!$A$9:$A$28),VLOOKUP(Data!$W46,tabulka_kce_def,63,FALSE),0)","v":0},{"$f":"IF(Data!$W46<MIN(Panely!$A$9:$A$28),VLOOKUP(Data!$W46,tabulka_kce_def,28,FALSE),1)","v":1},{"$f":"IF(Data!$W46<MIN(Panely!$A$9:$A$28),VLOOKUP(Data!$W46,tabulka_kce_def,23,FALSE),VLOOKUP(Data!$W46,tabulka_panely_def,24,FALSE))","v":0},null,0,null,0,0,{"$error":"#N/A"},0,{"$f":"IF(AND(W46>MAX(Konstrukce!A:A),ISNUMBER(W46)),1,0)","v":0}]
[null,"=",{"$f":"IF(Data!$B47<MIN(Panely!$A$9:$A$28),VLOOKUP(Data!$B47,tabulka_kce_def,4,FALSE),VLOOKUP(Data!$B47,tabulka_panely_def,4,FALSE))","v":0},{"$f":"IF(Data!$B47<MIN(Panely!$A$9:$A$28),VLOOKUP(Data!$B47,tabulka_kce_def,23,FALSE),VLOOKUP(Data!$B47,tabulka_panely_def,24,FALSE))","v":0},{"$f":"IF(Data!$B47<MIN(Panely!$A$9:$A$28),VLOOKUP(Data!$B47,tabulka_kce_def,21,FALSE),VLOOKUP(Data!$B47,tabulka_panely_def,22,FALSE))","v":0},{"$f":"IF(Data!$B47<MIN(Panely!$A$9:$A$28),VLOOKUP(Data!$B47,tabulka_kce_def,26,FALSE),VLOOKUP(Data!$B47,tabulka_panely_def,31,FALSE))","v":{"$error":"#DIV/0!"}},{"$f":"IF(Data!$B47<MIN(Panely!$A$9:$A$28),VLOOKUP(Data!$B47,tabulka_kce_def,27,FALSE),VLOOKUP(Data!$B47,tabulka_panely_def,32,FALSE))","v":{"$error":"#DIV/0!"}},{"$f":"IF(VLOOKUP(Data!$B47,tabulka_kce_def,3,FALSE)=\"\",Konstrukce!$G$1,IF(VLOOKUP(Data!$B47,tabulka_kce_def,3,FALSE)=\"z\",Konstrukce!$G$2,VLOOKUP(Data!$B47,tabulka_kce_def,3,FALSE)))","v":{"$error":"#N/A"}},{"$f":"IF(Data!$B47<MIN(Panely!$A$9:$A$28),0,VLOOKUP(Data!$B47,tabulka_panely_def,25,FALSE))","v":0},{"$f":"IF(Data!$B47<MIN(Panely!$A$9:$A$28),VLOOKUP(Data!$B47,tabulka_kce_def,24,FALSE),VLOOKUP(Data!$B47,tabulka_panely_def,33,FALSE))","v":{"$error":"#N/A"}},{"$f":"Konstrukce!$D$1","v":18.770175404064034},{"$f":"Konstrukce!$D$2","v":19.934229593106764},{"$f":"Konstrukce!$G$1","v":-12},{"$f":"IF(Data!$B47<MIN(Panely!$A$9:$A$28),VLOOKUP(Data!$B47,tabulka_kce_def,59,FALSE),VLOOKUP(Data!$B47,tabulka_panely_def,63,FALSE))","v":""},{"$f":"IF(Data!$B47<MIN(Panely!$A$9:$A$28),VLOOKUP(Data!$B47,tabulka_kce_def,60,FALSE),VLOOKUP(Data!$B47,tabulka_panely_def,64,FALSE))","v":""},{"$f":"IF(Data!$B47<MIN(Panely!$A$9:$A$28),VLOOKUP(Data!$B47,tabulka_kce_def,61,FALSE),VLOOKUP(Data!$B47,tabulka_panely_def,65,FALSE))","v":""},{"$f":"IF(Data!$B47<MIN(Panely!$A$9:$A$28),VLOOKUP(Data!$B47,tabulka_kce_def,25,FALSE),0)","v":0},0,null,null,null,null,"=",{"$f":"IF(Data!$W47<MIN(Panely!$A$9:$A$28),VLOOKUP(Data!$W47,tabulka_kce_def,62,FALSE),VLOOKUP(Data!$W47,tabulka_panely_def,65,FALSE))","v":""},{"$f":"IF(Data!$W47<MIN(Panely!$A$9:$A$28),VLOOKUP(Data!$W47,tabulka_kce_def,Y$1-20,FALSE),VLOOKUP(Data!$W47,tabulka_panely_def,Y$1-18,FALSE))","v":0},{"$f":"IF(Data!$W47<MIN(Panely!$A$9:$A$28),VLOOKUP(Data!$W47,tabulka_kce_def,Z$1-20,FALSE),VLOOKUP(Data!$W47,tabulka_panely_def,Z$1-18,FALSE))","v":0},{"$f":"IF(Data!$W47<MIN(Panely!$A$9:$A$28),VLOOKUP(Data!$W47,tabulka_kce_def,AA$1-20,FALSE),VLOOKUP(Data!$W47,tabulka_panely_def,AA$1-18,FALSE))","v":0},{"$f":"IF(Data!$W47<MIN(Panely!$A$9:$A$28),VLOOKUP(Data!$W47,tabulka_kce_def,AB$1-20,FALSE),VLOOKUP(Data!$W47,tabulka_panely_def,AB$1-18,FALSE))","v":0},{"$f":"IF(Data!$W47<MIN(Panely!$A$9:$A$28),VLOOKUP(Data!$W47,tabulka_kce_def,AC$1-20,FALSE),VLOOKUP(Data!$W47,tabulka_panely_def,AC$1-18,FALSE))","v":0},{"$f":"IF(Data!$W47<MIN(Panely!$A$9:$A$28),VLOOKUP(Data!$W47,tabulka_kce_def,AD$1-20,FALSE),VLOOKUP(Data!$W47,tabulka_panely_def,AD$1-18,FALSE))","v":0},{"$f":"IF(Data!$W47<MIN(Panely!$A$9:$A$28),VLOOKUP(Data!$W47,tabulka_kce_def,AE$1-20,FALSE),VLOOKUP(Data!$W47,tabulka_panely_def,AE$1-18,FALSE))","v":0},{"$f":"IF(Data!$W47<MIN(Panely!$A$9:$A$28),VLOOKUP(Data!$W47,tabulka_kce_def,AF$1-20,FALSE),VLOOKUP(Data!$W47,tabulka_panely_def,AF$1-18,FALSE))","v":0},{"$f":"IF(Data!$W47<MIN(Panely!$A$9:$A$28),VLOOKUP(Data!$W47,tabulka_kce_def,AG$1-20,FALSE),VLOOKUP(Data!$W47,tabulka_panely_def,AG$1-18,FALSE))","v":0},{"$f":"IF(Data!$W47<MIN(Panely!$A$9:$A$28),VLOOKUP(Data!$W47,tabulka_kce_def,AH$1-20,FALSE),VLOOKUP(Data!$W47,tabulka_panely_def,AH$1-18,FALSE))","v":0},{"$f":"IF(Data!$W47<MIN(Panely!$A$9:$A$28),VLOOKUP(Data!$W47,tabulka_kce_def,AI$1-20,FALSE),VLOOKUP(Data!$W47,tabulka_panely_def,AI$1-18,FALSE))","v":0},{"$f":"IF(Data!$W47<MIN(Panely!$A$9:$A$28),VLOOKUP(Data!$W47,tabulka_kce_def,AJ$1-20,FALSE),VLOOKUP(Data!$W47,tabulka_panely_def,AJ$1-18,FALSE))","v":0},{"$f":"IF(Data!$W47<MIN(Panely!$A$9:$A$28),VLOOKUP(Data!$W47,tabulka_kce_def,AK$1-20,FALSE),VLOOKUP(Data!$W47,tabulka_panely_def,AK$1-18,FALSE))","v":0},{"$f":"IF(Data!$W47<MIN(Panely!$A$9:$A$28),VLOOKUP(Data!$W47,tabulka_kce_def,AL$1-20,FALSE),VLOOKUP(Data!$W47,tabulka_panely_def,AL$1-18,FALSE))","v":0},{"$f":"IF(Data!$W47<MIN(Panely!$A$9:$A$28),VLOOKUP(Data!$W47,tabulka_kce_def,AM$1-20,FALSE),VLOOKUP(Data!$W47,tabulka_panely_def,AM$1-18,FALSE))","v":0},47,{"$f":"IF(Data!$W47<MIN(Panely!$A$9:$A$28),VLOOKUP(Data!$W47,tabulka_kce_def,63,FALSE),0)","v":0},{"$f":"IF(Data!$W47<MIN(Panely!$A$9:$A$28),VLOOKUP(Data!$W47,tabulka_kce_def,28,FALSE),1)","v":1},{"$f":"IF(Data!$W47<MIN(Panely!$A$9:$A$28),VLOOKUP(Data!$W47,tabulka_kce_def,23,FALSE),VLOOKUP(Data!$W47,tabulka_panely_def,24,FALSE))","v":0},null,0,null,0,0,{"$error":"#N/A"},0,{"$f":"IF(AND(W47>MAX(Konstrukce!A:A),ISNUMBER(W47)),1,0)","v":0}]
[null,"=",{"$f":"IF(Data!$B48<MIN(Panely!$A$9:$A$28),VLOOKUP(Data!$B48,tabulka_kce_def,4,FALSE),VLOOKUP(Data!$B48,tabulka_panely_def,4,FALSE))","v":0},{"$f":"IF(Data!$B48<MIN(Panely!$A$9:$A$28),VLOOKUP(Data!$B48,tabulka_kce_def,23,FALSE),VLOOKUP(Data!$B48,tabulka_panely_def,24,FALSE))","v":0},{"$f":"IF(Data!$B48<MIN(Panely!$A$9:$A$28),VLOOKUP(Data!$B48,tabulka_kce_def,21,FALSE),VLOOKUP(Data!$B48,tabulka_panely_def,22,FALSE))","v":0},{"$f":"IF(Data!$B48<MIN(Panely!$A$9:$A$28),VLOOKUP(Data!$B48,tabulka_kce_def,26,FALSE),VLOOKUP(Data!$B48,tabulka_panely_def,31,FALSE))","v":{"$error":"#DIV/0!"}},{"$f":"IF(Data!$B48<MIN(Panely!$A$9:$A$28),VLOOKUP(Data!$B48,tabulka_kce_def,27,FALSE),VLOOKUP(Data!$B48,tabulka_panely_def,32,FALSE))","v":{"$error":"#DIV/0!"}},{"$f":"IF(VLOOKUP(Data!$B48,tabulka_kce_def,3,FALSE)=\"\",Konstrukce!$G$1,IF(VLOOKUP(Data!$B48,tabulka_kce_def,3,FALSE)=\"z\",Konstrukce!$G$2,VLOOKUP(Data!$B48,tabulka_kce_def,3,FALSE)))","v":{"$error":"#N/A"}},{"$f":"IF(Data!$B48<MIN(Panely!$A$9:$A$28),0,VLOOKUP(Data!$B48,tabulka_panely_def,25,FALSE))","v":0},{"$f":"IF(Data!$B48<MIN(Panely!$A$9:$A$28),VLOOKUP(Data!$B48,tabulka_kce_def,24,FALSE),VLOOKUP(Data!$B48,tabulka_panely_def,33,FALSE))","v":{"$error":"#N/A"}},{"$f":"Konstrukce!$D$1","v":18.770175404064034},{"$f":"Konstrukce!$D$2","v":19.934229593106764},{"$f":"Konstrukce!$G$1","v":-12},{"$f":"IF(Data!$B48<MIN(Panely!$A$9:$A$28),VLOOKUP(Data!$B48,tabulka_kce_def,59,FALSE),VLOOKUP(Data!$B48,tabulka_panely_def,63,FALSE))","v":""},{"$f":"IF(Data!$B48<MIN(Panely!$A$9:$A$28),VLOOKUP(Data!$B48,tabulka_kce_def,60,FALSE),VLOOKUP(Data!$B48,tabulka_panely_def,64,FALSE))","v":""},{"$f":"IF(Data!$B48<MIN(Panely!$A$9:$A$28),VLOOKUP(Data!$B48,tabulka_kce_def,61,FALSE),VLOOKUP(Data!$B48,tabulka_panely_def,65,FALSE))","v":""},{"$f":"IF(Data!$B48<MIN(Panely!$A$9:$A$28),VLOOKUP(Data!$B48,tabulka_kce_def,25,FALSE),0)","v":0},0,null,null,null,null,"=",{"$f":"IF(Data!$W48<MIN(Panely!$A$9:$A$28),VLOOKUP(Data!$W48,tabulka_kce_def,62,FALSE),VLOOKUP(Data!$W48,tabulka_panely_def,65,FALSE))","v":""},{"$f":"IF(Data!$W48<MIN(Panely!$A$9:$A$28),VLOOKUP(Data!$W48,tabulka_kce_def,Y$1-20,FALSE),VLOOKUP(Data!$W48,tabulka_panely_def,Y$1-18,FALSE))","v":0},{"$f":"IF(Data!$W48<MIN(Panely!$A$9:$A$28),VLOOKUP(Data!$W48,tabulka_kce_def,Z$1-20,FALSE),VLOOKUP(Data!$W48,tabulka_panely_def,Z$1-18,FALSE))","v":0},{"$f":"IF(Data!$W48<MIN(Panely!$A$9:$A$28),VLOOKUP(Data!$W48,tabulka_kce_def,AA$1-20,FALSE),VLOOKUP(Data!$W48,tabulka_panely_def,AA$1-18,FALSE))","v":0},{"$f":"IF(Data!$W48<MIN(Panely!$A$9:$A$28),VLOOKUP(Data!$W48,tabulka_kce_def,AB$1-20,FALSE),VLOOKUP(Data!$W48,tabulka_panely_def,AB$1-18,FALSE))","v":0},{"$f":"IF(Data!$W48<MIN(Panely!$A$9:$A$28),VLOOKUP(Data!$W48,tabulka_kce_def,AC$1-20,FALSE),VLOOKUP(Data!$W48,tabulka_panely_def,AC$1-18,FALSE))","v":0},{"$f":"IF(Data!$W48<MIN(Panely!$A$9:$A$28),VLOOKUP(Data!$W48,tabulka_kce_def,AD$1-20,FALSE),VLOOKUP(Data!$W48,tabulka_panely_def,AD$1-18,FALSE))","v":0},{"$f":"IF(Data!$W48<MIN(Panely!$A$9:$A$28),VLOOKUP(Data!$W48,tabulka_kce_def,AE$1-20,FALSE),VLOOKUP(Data!$W48,tabulka_panely_def,AE$1-18,FALSE))","v":0},{"$f":"IF(Data!$W48<MIN(Panely!$A$9:$A$28),VLOOKUP(Data!$W48,tabulka_kce_def,AF$1-20,FALSE),VLOOKUP(Data!$W48,tabulka_panely_def,AF$1-18,FALSE))","v":0},{"$f":"IF(Data!$W48<MIN(Panely!$A$9:$A$28),VLOOKUP(Data!$W48,tabulka_kce_def,AG$1-20,FALSE),VLOOKUP(Data!$W48,tabulka_panely_def,AG$1-18,FALSE))","v":0},{"$f":"IF(Data!$W48<MIN(Panely!$A$9:$A$28),VLOOKUP(Data!$W48,tabulka_kce_def,AH$1-20,FALSE),VLOOKUP(Data!$W48,tabulka_panely_def,AH$1-18,FALSE))","v":0},{"$f":"IF(Data!$W48<MIN(Panely!$A$9:$A$28),VLOOKUP(Data!$W48,tabulka_kce_def,AI$1-20,FALSE),VLOOKUP(Data!$W48,tabulka_panely_def,AI$1-18,FALSE))","v":0},{"$f":"IF(Data!$W48<MIN(Panely!$A$9:$A$28),VLOOKUP(Data!$W48,tabulka_kce_def,AJ$1-20,FALSE),VLOOKUP(Data!$W48,tabulka_panely_def,AJ$1-18,FALSE))","v":0},{"$f":"IF(Data!$W48<MIN(Panely!$A$9:$A$28),VLOOKUP(Data!$W48,tabulka_kce_def,AK$1-20,FALSE),VLOOKUP(Data!$W48,tabulka_panely_def,AK$1-18,FALSE))","v":0},{"$f":"IF(Data!$W48<MIN(Panely!$A$9:$A$28),VLOOKUP(Data!$W48,tabulka_kce_def,AL$1-20,FALSE),VLOOKUP(Data!$W48,tabulka_panely_def,AL$1-18,FALSE))","v":0},{"$f":"IF(Data!$W48<MIN(Panely!$A$9:$A$28),VLOOKUP(Data!$W48,tabulka_kce_def,AM$1-20,FALSE),VLOOKUP(Data!$W48,tabulka_panely_def,AM$1-18,FALSE))","v":0},48,{"$f":"IF(Data!$W48<MIN(Panely!$A$9:$A$28),VLOOKUP(Data!$W48,tabulka_kce_def,63,FALSE),0)","v":0},{"$f":"IF(Data!$W48<MIN(Panely!$A$9:$A$28),VLOOKUP(Data!$W48,tabulka_kce_def,28,FALSE),1)","v":1},{"$f":"IF(Data!$W48<MIN(Panely!$A$9:$A$28),VLOOKUP(Data!$W48,tabulka_kce_def,23,FALSE),VLOOKUP(Data!$W48,tabulka_panely_def,24,FALSE))","v":0},null,0,null,{"$f":"IF(ISERROR(MID(VLOOKUP($W48,tabulka_kce_def,2,FALSE),1,3)=\"ooz\"),0,IF(MID(VLOOKUP($W48,tabulka_kce_def,2,FALSE),1,3)=\"ooz\",1,0))","v":0},{"$f":"IF(ISERROR(MID(VLOOKUP($W48,tabulka_kce_def,60,FALSE),1,1)=\"f\"),0,IF(MID(VLOOKUP($W48,tabulka_kce_def,60,FALSE),1,1)=\"f\",1,0))","v":0},{"$f":"VALUE(VLOOKUP($W48,tabulka_kce_def,61,FALSE))","v":{"$error":"#N/A"}},{"$f":"IF(AV48=1,IF(MID(VLOOKUP(AW48,tabulka_kce_def,2,FALSE),1,3)=\"ooz\",1,0),0)","v":0},{"$f":"IF(AND(W48>MAX(Konstrukce!A:A),ISNUMBER(W48)),1,0)","v":0}]
[null,"=",{"$f":"IF(Data!$B49<MIN(Panely!$A$9:$A$28),VLOOKUP(Data!$B49,tabulka_kce_def,4,FALSE),VLOOKUP(Data!$B49,tabulka_panely_def,4,FALSE))","v":0},{"$f":"IF(Data!$B49<MIN(Panely!$A$9:$A$28),VLOOKUP(Data!$B49,tabulka_kce_def,23,FALSE),VLOOKUP(Data!$B49,tabulka_panely_def,24,FALSE))","v":0},{"$f":"IF(Data!$B49<MIN(Panely!$A$9:$A$28),VLOOKUP(Data!$B49,tabulka_kce_def,21,FALSE),VLOOKUP(Data!$B49,tabulka_panely_def,22,FALSE))","v":0},{"$f":"IF(Data!$B49<MIN(Panely!$A$9:$A$28),VLOOKUP(Data!$B49,tabulka_kce_def,26,FALSE),VLOOKUP(Data!$B49,tabulka_panely_def,31,FALSE))","v":{"$error":"#DIV/0!"}},{"$f":"IF(Data!$B49<MIN(Panely!$A$9:$A$28),VLOOKUP(Data!$B49,tabulka_kce_def,27,FALSE),VLOOKUP(Data!$B49,tabulka_panely_def,32,FALSE))","v":{"$error":"#DIV/0!"}},{"$f":"IF(VLOOKUP(Data!$B49,tabulka_kce_def,3,FALSE)=\"\",Konstrukce!$G$1,IF(VLOOKUP(Data!$B49,tabulka_kce_def,3,FALSE)=\"z\",Konstrukce!$G$2,VLOOKUP(Data!$B49,tabulka_kce_def,3,FALSE)))","v":{"$error":"#N/A"}},{"$f":"IF(Data!$B49<MIN(Panely!$A$9:$A$28),0,VLOOKUP(Data!$B49,tabulka_panely_def,25,FALSE))","v":0},{"$f":"IF(Data!$B49<MIN(Panely!$A$9:$A$28),VLOOKUP(Data!$B49,tabulka_kce_def,24,FALSE),VLOOKUP(Data!$B49,tabulka_panely_def,33,FALSE))","v":{"$error":"#N/A"}},{"$f":"Konstrukce!$D$1","v":18.770175404064034},{"$f":"Konstrukce!$D$2","v":19.934229593106764},{"$f":"Konstrukce!$G$1","v":-12},{"$f":"IF(Data!$B49<MIN(Panely!$A$9:$A$28),VLOOKUP(Data!$B49,tabulka_kce_def,59,FALSE),VLOOKUP(Data!$B49,tabulka_panely_def,63,FALSE))","v":""},{"$f":"IF(Data!$B49<MIN(Panely!$A$9:$A$28),VLOOKUP(Data!$B49,tabulka_kce_def,60,FALSE),VLOOKUP(Data!$B49,tabulka_panely_def,64,FALSE))","v":""},{"$f":"IF(Data!$B49<MIN(Panely!$A$9:$A$28),VLOOKUP(Data!$B49,tabulka_kce_def,61,FALSE),VLOOKUP(Data!$B49,tabulka_panely_def,65,FALSE))","v":""},{"$f":"IF(Data!$B49<MIN(Panely!$A$9:$A$28),VLOOKUP(Data!$B49,tabulka_kce_def,25,FALSE),0)","v":0},0,null,null,null,null,"=",{"$f":"IF(Data!$W49<MIN(Panely!$A$9:$A$28),VLOOKUP(Data!$W49,tabulka_kce_def,62,FALSE),VLOOKUP(Data!$W49,tabulka_panely_def,65,FALSE))","v":""},{"$f":"IF(Data!$W49<MIN(Panely!$A$9:$A$28),VLOOKUP(Data!$W49,tabulka_kce_def,Y$1-20,FALSE),VLOOKUP(Data!$W49,tabulka_panely_def,Y$1-18,FALSE))","v":0},{"$f":"IF(Data!$W49<MIN(Panely!$A$9:$A$28),VLOOKUP(Data!$W49,tabulka_kce_def,Z$1-20,FALSE),VLOOKUP(Data!$W49,tabulka_panely_def,Z$1-18,FALSE))","v":0},{"$f":"IF(Data!$W49<MIN(Panely!$A$9:$A$28),VLOOKUP(Data!$W49,tabulka_kce_def,AA$1-20,FALSE),VLOOKUP(Data!$W49,tabulka_panely_def,AA$1-18,FALSE))","v":0},{"$f":"IF(Data!$W49<MIN(Panely!$A$9:$A$28),VLOOKUP(Data!$W49,tabulka_kce_def,AB$1-20,FALSE),VLOOKUP(Data!$W49,tabulka_panely_def,AB$1-18,FALSE))","v":0},{"$f":"IF(Data!$W49<MIN(Panely!$A$9:$A$28),VLOOKUP(Data!$W49,tabulka_kce_def,AC$1-20,FALSE),VLOOKUP(Data!$W49,tabulka_panely_def,AC$1-18,FALSE))","v":0},{"$f":"IF(Data!$W49<MIN(Panely!$A$9:$A$28),VLOOKUP(Data!$W49,tabulka_kce_def,AD$1-20,FALSE),VLOOKUP(Data!$W49,tabulka_panely_def,AD$1-18,FALSE))","v":0},{"$f":"IF(Data!$W49<MIN(Panely!$A$9:$A$28),VLOOKUP(Data!$W49,tabulka_kce_def,AE$1-20,FALSE),VLOOKUP(Data!$W49,tabulka_panely_def,AE$1-18,FALSE))","v":0},{"$f":"IF(Data!$W49<MIN(Panely!$A$9:$A$28),VLOOKUP(Data!$W49,tabulka_kce_def,AF$1-20,FALSE),VLOOKUP(Data!$W49,tabulka_panely_def,AF$1-18,FALSE))","v":0},{"$f":"IF(Data!$W49<MIN(Panely!$A$9:$A$28),VLOOKUP(Data!$W49,tabulka_kce_def,AG$1-20,FALSE),VLOOKUP(Data!$W49,tabulka_panely_def,AG$1-18,FALSE))","v":0},{"$f":"IF(Data!$W49<MIN(Panely!$A$9:$A$28),VLOOKUP(Data!$W49,tabulka_kce_def,AH$1-20,FALSE),VLOOKUP(Data!$W49,tabulka_panely_def,AH$1-18,FALSE))","v":0},{"$f":"IF(Data!$W49<MIN(Panely!$A$9:$A$28),VLOOKUP(Data!$W49,tabulka_kce_def,AI$1-20,FALSE),VLOOKUP(Data!$W49,tabulka_panely_def,AI$1-18,FALSE))","v":0},{"$f":"IF(Data!$W49<MIN(Panely!$A$9:$A$28),VLOOKUP(Data!$W49,tabulka_kce_def,AJ$1-20,FALSE),VLOOKUP(Data!$W49,tabulka_panely_def,AJ$1-18,FALSE))","v":0},{"$f":"IF(Data!$W49<MIN(Panely!$A$9:$A$28),VLOOKUP(Data!$W49,tabulka_kce_def,AK$1-20,FALSE),VLOOKUP(Data!$W49,tabulka_panely_def,AK$1-18,FALSE))","v":0},{"$f":"IF(Data!$W49<MIN(Panely!$A$9:$A$28),VLOOKUP(Data!$W49,tabulka_kce_def,AL$1-20,FALSE),VLOOKUP(Data!$W49,tabulka_panely_def,AL$1-18,FALSE))","v":0},{"$f":"IF(Data!$W49<MIN(Panely!$A$9:$A$28),VLOOKUP(Data!$W49,tabulka_kce_def,AM$1-20,FALSE),VLOOKUP(Data!$W49,tabulka_panely_def,AM$1-18,FALSE))","v":0},49,{"$f":"IF(Data!$W49<MIN(Panely!$A$9:$A$28),VLOOKUP(Data!$W49,tabulka_kce_def,63,FALSE),0)","v":0},{"$f":"IF(Data!$W49<MIN(Panely!$A$9:$A$28),VLOOKUP(Data!$W49,tabulka_kce_def,28,FALSE),1)","v":1},{"$f":"IF(Data!$W49<MIN(Panely!$A$9:$A$28),VLOOKUP(Data!$W49,tabulka_kce_def,23,FALSE),VLOOKUP(Data!$W49,tabulka_panely_def,24,FALSE))","v":0},null,0,null,0,0,{"$error":"#N/A"},0,{"$f":"IF(AND(W49>MAX(Konstrukce!A:A),ISNUMBER(W49)),1,0)","v":0}]
[null,"=",{"$f":"IF(Data!$B50<MIN(Panely!$A$9:$A$28),VLOOKUP(Data!$B50,tabulka_kce_def,4,FALSE),VLOOKUP(Data!$B50,tabulka_panely_def,4,FALSE))","v":0},{"$f":"IF(Data!$B50<MIN(Panely!$A$9:$A$28),VLOOKUP(Data!$B50,tabulka_kce_def,23,FALSE),VLOOKUP(Data!$B50,tabulka_panely_def,24,FALSE))","v":0},{"$f":"IF(Data!$B50<MIN(Panely!$A$9:$A$28),VLOOKUP(Data!$B50,tabulka_kce_def,21,FALSE),VLOOKUP(Data!$B50,tabulka_panely_def,22,FALSE))","v":0},{"$f":"IF(Data!$B50<MIN(Panely!$A$9:$A$28),VLOOKUP(Data!$B50,tabulka_kce_def,26,FALSE),VLOOKUP(Data!$B50,tabulka_panely_def,31,FALSE))","v":{"$error":"#DIV/0!"}},{"$f":"IF(Data!$B50<MIN(Panely!$A$9:$A$28),VLOOKUP(Data!$B50,tabulka_kce_def,27,FALSE),VLOOKUP(Data!$B50,tabulka_panely_def,32,FALSE))","v":{"$error":"#DIV/0!"}},{"$f":"IF(VLOOKUP(Data!$B50,tabulka_kce_def,3,FALSE)=\"\",Konstrukce!$G$1,IF(VLOOKUP(Data!$B50,tabulka_kce_def,3,FALSE)=\"z\",Konstrukce!$G$2,VLOOKUP(Data!$B50,tabulka_kce_def,3,FALSE)))","v":{"$error":"#N/A"}},{"$f":"IF(Data!$B50<MIN(Panely!$A$9:$A$28),0,VLOOKUP(Data!$B50,tabulka_panely_def,25,FALSE))","v":0},{"$f":"IF(Data!$B50<MIN(Panely!$A$9:$A$28),VLOOKUP(Data!$B50,tabulka_kce_def,24,FALSE),VLOOKUP(Data!$B50,tabulka_panely_def,33,FALSE))","v":{"$error":"#N/A"}},{"$f":"Konstrukce!$D$1","v":18.770175404064034},{"$f":"Konstrukce!$D$2","v":19.934229593106764},{"$f":"Konstrukce!$G$1","v":-12},{"$f":"IF(Data!$B50<MIN(Panely!$A$9:$A$28),VLOOKUP(Data!$B50,tabulka_kce_def,59,FALSE),VLOOKUP(Data!$B50,tabulka_panely_def,63,FALSE))","v":""},{"$f":"IF(Data!$B50<MIN(Panely!$A$9:$A$28),VLOOKUP(Data!$B50,tabulka_kce_def,60,FALSE),VLOOKUP(Data!$B50,tabulka_panely_def,64,FALSE))","v":""},{"$f":"IF(Data!$B50<MIN(Panely!$A$9:$A$28),VLOOKUP(Data!$B50,tabulka_kce_def,61,FALSE),VLOOKUP(Data!$B50,tabulka_panely_def,65,FALSE))","v":""},{"$f":"IF(Data!$B50<MIN(Panely!$A$9:$A$28),VLOOKUP(Data!$B50,tabulka_kce_def,25,FALSE),0)","v":0},0,null,null,null,null,"=",{"$f":"IF(Data!$W50<MIN(Panely!$A$9:$A$28),VLOOKUP(Data!$W50,tabulka_kce_def,62,FALSE),VLOOKUP(Data!$W50,tabulka_panely_def,65,FALSE))","v":""},{"$f":"IF(Data!$W50<MIN(Panely!$A$9:$A$28),VLOOKUP(Data!$W50,tabulka_kce_def,Y$1-20,FALSE),VLOOKUP(Data!$W50,tabulka_panely_def,Y$1-18,FALSE))","v":0},{"$f":"IF(Data!$W50<MIN(Panely!$A$9:$A$28),VLOOKUP(Data!$W50,tabulka_kce_def,Z$1-20,FALSE),VLOOKUP(Data!$W50,tabulka_panely_def,Z$1-18,FALSE))","v":0},{"$f":"IF(Data!$W50<MIN(Panely!$A$9:$A$28),VLOOKUP(Data!$W50,tabulka_kce_def,AA$1-20,FALSE),VLOOKUP(Data!$W50,tabulka_panely_def,AA$1-18,FALSE))","v":0},{"$f":"IF(Data!$W50<MIN(Panely!$A$9:$A$28),VLOOKUP(Data!$W50,tabulka_kce_def,AB$1-20,FALSE),VLOOKUP(Data!$W50,tabulka_panely_def,AB$1-18,FALSE))","v":0},{"$f":"IF(Data!$W50<MIN(Panely!$A$9:$A$28),VLOOKUP(Data!$W50,tabulka_kce_def,AC$1-20,FALSE),VLOOKUP(Data!$W50,tabulka_panely_def,AC$1-18,FALSE))","v":0},{"$f":"IF(Data!$W50<MIN(Panely!$A$9:$A$28),VLOOKUP(Data!$W50,tabulka_kce_def,AD$1-20,FALSE),VLOOKUP(Data!$W50,tabulka_panely_def,AD$1-18,FALSE))","v":0},{"$f":"IF(Data!$W50<MIN(Panely!$A$9:$A$28),VLOOKUP(Data!$W50,tabulka_kce_def,AE$1-20,FALSE),VLOOKUP(Data!$W50,tabulka_panely_def,AE$1-18,FALSE))","v":0},{"$f":"IF(Data!$W50<MIN(Panely!$A$9:$A$28),VLOOKUP(Data!$W50,tabulka_kce_def,AF$1-20,FALSE),VLOOKUP(Data!$W50,tabulka_panely_def,AF$1-18,FALSE))","v":0},{"$f":"IF(Data!$W50<MIN(Panely!$A$9:$A$28),VLOOKUP(Data!$W50,tabulka_kce_def,AG$1-20,FALSE),VLOOKUP(Data!$W50,tabulka_panely_def,AG$1-18,FALSE))","v":0},{"$f":"IF(Data!$W50<MIN(Panely!$A$9:$A$28),VLOOKUP(Data!$W50,tabulka_kce_def,AH$1-20,FALSE),VLOOKUP(Data!$W50,tabulka_panely_def,AH$1-18,FALSE))","v":0},{"$f":"IF(Data!$W50<MIN(Panely!$A$9:$A$28),VLOOKUP(Data!$W50,tabulka_kce_def,AI$1-20,FALSE),VLOOKUP(Data!$W50,tabulka_panely_def,AI$1-18,FALSE))","v":0},{"$f":"IF(Data!$W50<MIN(Panely!$A$9:$A$28),VLOOKUP(Data!$W50,tabulka_kce_def,AJ$1-20,FALSE),VLOOKUP(Data!$W50,tabulka_panely_def,AJ$1-18,FALSE))","v":0},{"$f":"IF(Data!$W50<MIN(Panely!$A$9:$A$28),VLOOKUP(Data!$W50,tabulka_kce_def,AK$1-20,FALSE),VLOOKUP(Data!$W50,tabulka_panely_def,AK$1-18,FALSE))","v":0},{"$f":"IF(Data!$W50<MIN(Panely!$A$9:$A$28),VLOOKUP(Data!$W50,tabulka_kce_def,AL$1-20,FALSE),VLOOKUP(Data!$W50,tabulka_panely_def,AL$1-18,FALSE))","v":0},{"$f":"IF(Data!$W50<MIN(Panely!$A$9:$A$28),VLOOKUP(Data!$W50,tabulka_kce_def,AM$1-20,FALSE),VLOOKUP(Data!$W50,tabulka_panely_def,AM$1-18,FALSE))","v":0},50,{"$f":"IF(Data!$W50<MIN(Panely!$A$9:$A$28),VLOOKUP(Data!$W50,tabulka_kce_def,63,FALSE),0)","v":0},{"$f":"IF(Data!$W50<MIN(Panely!$A$9:$A$28),VLOOKUP(Data!$W50,tabulka_kce_def,28,FALSE),1)","v":1},{"$f":"IF(Data!$W50<MIN(Panely!$A$9:$A$28),VLOOKUP(Data!$W50,tabulka_kce_def,23,FALSE),VLOOKUP(Data!$W50,tabulka_panely_def,24,FALSE))","v":0},null,0,null,0,0,{"$error":"#N/A"},0,{"$f":"IF(AND(W50>MAX(Konstrukce!A:A),ISNUMBER(W50)),1,0)","v":0}]
[null,"=",{"$f":"IF(Data!$B51<MIN(Panely!$A$9:$A$28),VLOOKUP(Data!$B51,tabulka_kce_def,4,FALSE),VLOOKUP(Data!$B51,tabulka_panely_def,4,FALSE))","v":0},{"$f":"IF(Data!$B51<MIN(Panely!$A$9:$A$28),VLOOKUP(Data!$B51,tabulka_kce_def,23,FALSE),VLOOKUP(Data!$B51,tabulka_panely_def,24,FALSE))","v":0},{"$f":"IF(Data!$B51<MIN(Panely!$A$9:$A$28),VLOOKUP(Data!$B51,tabulka_kce_def,21,FALSE),VLOOKUP(Data!$B51,tabulka_panely_def,22,FALSE))","v":0},{"$f":"IF(Data!$B51<MIN(Panely!$A$9:$A$28),VLOOKUP(Data!$B51,tabulka_kce_def,26,FALSE),VLOOKUP(Data!$B51,tabulka_panely_def,31,FALSE))","v":{"$error":"#DIV/0!"}},{"$f":"IF(Data!$B51<MIN(Panely!$A$9:$A$28),VLOOKUP(Data!$B51,tabulka_kce_def,27,FALSE),VLOOKUP(Data!$B51,tabulka_panely_def,32,FALSE))","v":{"$error":"#DIV/0!"}},{"$f":"IF(VLOOKUP(Data!$B51,tabulka_kce_def,3,FALSE)=\"\",Konstrukce!$G$1,IF(VLOOKUP(Data!$B51,tabulka_kce_def,3,FALSE)=\"z\",Konstrukce!$G$2,VLOOKUP(Data!$B51,tabulka_kce_def,3,FALSE)))","v":{"$error":"#N/A"}},{"$f":"IF(Data!$B51<MIN(Panely!$A$9:$A$28),0,VLOOKUP(Data!$B51,tabulka_panely_def,25,FALSE))","v":0},{"$f":"IF(Data!$B51<MIN(Panely!$A$9:$A$28),VLOOKUP(Data!$B51,tabulka_kce_def,24,FALSE),VLOOKUP(Data!$B51,tabulka_panely_def,33,FALSE))","v":{"$error":"#N/A"}},{"$f":"Konstrukce!$D$1","v":18.770175404064034},{"$f":"Konstrukce!$D$2","v":19.934229593106764},{"$f":"Konstrukce!$G$1","v":-12},{"$f":"IF(Data!$B51<MIN(Panely!$A$9:$A$28),VLOOKUP(Data!$B51,tabulka_kce_def,59,FALSE),VLOOKUP(Data!$B51,tabulka_panely_def,63,FALSE))","v":""},{"$f":"IF(Data!$B51<MIN(Panely!$A$9:$A$28),VLOOKUP(Data!$B51,tabulka_kce_def,60,FALSE),VLOOKUP(Data!$B51,tabulka_panely_def,64,FALSE))","v":""},{"$f":"IF(Data!$B51<MIN(Panely!$A$9:$A$28),VLOOKUP(Data!$B51,tabulka_kce_def,61,FALSE),VLOOKUP(Data!$B51,tabulka_panely_def,65,FALSE))","v":""},{"$f":"IF(Data!$B51<MIN(Panely!$A$9:$A$28),VLOOKUP(Data!$B51,tabulka_kce_def,25,FALSE),0)","v":0},0,null,null,null,null,"=",{"$f":"IF(Data!$W51<MIN(Panely!$A$9:$A$28),VLOOKUP(Data!$W51,tabulka_kce_def,62,FALSE),VLOOKUP(Data!$W51,tabulka_panely_def,65,FALSE))","v":""},{"$f":"IF(Data!$W51<MIN(Panely!$A$9:$A$28),VLOOKUP(Data!$W51,tabulka_kce_def,Y$1-20,FALSE),VLOOKUP(Data!$W51,tabulka_panely_def,Y$1-18,FALSE))","v":0},{"$f":"IF(Data!$W51<MIN(Panely!$A$9:$A$28),VLOOKUP(Data!$W51,tabulka_kce_def,Z$1-20,FALSE),VLOOKUP(Data!$W51,tabulka_panely_def,Z$1-18,FALSE))","v":0},{"$f":"IF(Data!$W51<MIN(Panely!$A$9:$A$28),VLOOKUP(Data!$W51,tabulka_kce_def,AA$1-20,FALSE),VLOOKUP(Data!$W51,tabulka_panely_def,AA$1-18,FALSE))","v":0},{"$f":"IF(Data!$W51<MIN(Panely!$A$9:$A$28),VLOOKUP(Data!$W51,tabulka_kce_def,AB$1-20,FALSE),VLOOKUP(Data!$W51,tabulka_panely_def,AB$1-18,FALSE))","v":0},{"$f":"IF(Data!$W51<MIN(Panely!$A$9:$A$28),VLOOKUP(Data!$W51,tabulka_kce_def,AC$1-20,FALSE),VLOOKUP(Data!$W51,tabulka_panely_def,AC$1-18,FALSE))","v":0},{"$f":"IF(Data!$W51<MIN(Panely!$A$9:$A$28),VLOOKUP(Data!$W51,tabulka_kce_def,AD$1-20,FALSE),VLOOKUP(Data!$W51,tabulka_panely_def,AD$1-18,FALSE))","v":0},{"$f":"IF(Data!$W51<MIN(Panely!$A$9:$A$28),VLOOKUP(Data!$W51,tabulka_kce_def,AE$1-20,FALSE),VLOOKUP(Data!$W51,tabulka_panely_def,AE$1-18,FALSE))","v":0},{"$f":"IF(Data!$W51<MIN(Panely!$A$9:$A$28),VLOOKUP(Data!$W51,tabulka_kce_def,AF$1-20,FALSE),VLOOKUP(Data!$W51,tabulka_panely_def,AF$1-18,FALSE))","v":0},{"$f":"IF(Data!$W51<MIN(Panely!$A$9:$A$28),VLOOKUP(Data!$W51,tabulka_kce_def,AG$1-20,FALSE),VLOOKUP(Data!$W51,tabulka_panely_def,AG$1-18,FALSE))","v":0},{"$f":"IF(Data!$W51<MIN(Panely!$A$9:$A$28),VLOOKUP(Data!$W51,tabulka_kce_def,AH$1-20,FALSE),VLOOKUP(Data!$W51,tabulka_panely_def,AH$1-18,FALSE))","v":0},{"$f":"IF(Data!$W51<MIN(Panely!$A$9:$A$28),VLOOKUP(Data!$W51,tabulka_kce_def,AI$1-20,FALSE),VLOOKUP(Data!$W51,tabulka_panely_def,AI$1-18,FALSE))","v":0},{"$f":"IF(Data!$W51<MIN(Panely!$A$9:$A$28),VLOOKUP(Data!$W51,tabulka_kce_def,AJ$1-20,FALSE),VLOOKUP(Data!$W51,tabulka_panely_def,AJ$1-18,FALSE))","v":0},{"$f":"IF(Data!$W51<MIN(Panely!$A$9:$A$28),VLOOKUP(Data!$W51,tabulka_kce_def,AK$1-20,FALSE),VLOOKUP(Data!$W51,tabulka_panely_def,AK$1-18,FALSE))","v":0},{"$f":"IF(Data!$W51<MIN(Panely!$A$9:$A$28),VLOOKUP(Data!$W51,tabulka_kce_def,AL$1-20,FALSE),VLOOKUP(Data!$W51,tabulka_panely_def,AL$1-18,FALSE))","v":0},{"$f":"IF(Data!$W51<MIN(Panely!$A$9:$A$28),VLOOKUP(Data!$W51,tabulka_kce_def,AM$1-20,FALSE),VLOOKUP(Data!$W51,tabulka_panely_def,AM$1-18,FALSE))","v":0},51,{"$f":"IF(Data!$W51<MIN(Panely!$A$9:$A$28),VLOOKUP(Data!$W51,tabulka_kce_def,63,FALSE),0)","v":0},{"$f":"IF(Data!$W51<MIN(Panely!$A$9:$A$28),VLOOKUP(Data!$W51,tabulka_kce_def,28,FALSE),1)","v":1},{"$f":"IF(Data!$W51<MIN(Panely!$A$9:$A$28),VLOOKUP(Data!$W51,tabulka_kce_def,23,FALSE),VLOOKUP(Data!$W51,tabulka_panely_def,24,FALSE))","v":0},null,0,null,0,0,{"$error":"#N/A"},0,{"$f":"IF(AND(W51>MAX(Konstrukce!A:A),ISNUMBER(W51)),1,0)","v":0}]
[null,"=",{"$f":"IF(Data!$B52<MIN(Panely!$A$9:$A$28),VLOOKUP(Data!$B52,tabulka_kce_def,4,FALSE),VLOOKUP(Data!$B52,tabulka_panely_def,4,FALSE))","v":0},{"$f":"IF(Data!$B52<MIN(Panely!$A$9:$A$28),VLOOKUP(Data!$B52,tabulka_kce_def,23,FALSE),VLOOKUP(Data!$B52,tabulka_panely_def,24,FALSE))","v":0},{"$f":"IF(Data!$B52<MIN(Panely!$A$9:$A$28),VLOOKUP(Data!$B52,tabulka_kce_def,21,FALSE),VLOOKUP(Data!$B52,tabulka_panely_def,22,FALSE))","v":0},{"$f":"IF(Data!$B52<MIN(Panely!$A$9:$A$28),VLOOKUP(Data!$B52,tabulka_kce_def,26,FALSE),VLOOKUP(Data!$B52,tabulka_panely_def,31,FALSE))","v":{"$error":"#DIV/0!"}},{"$f":"IF(Data!$B52<MIN(Panely!$A$9:$A$28),VLOOKUP(Data!$B52,tabulka_kce_def,27,FALSE),VLOOKUP(Data!$B52,tabulka_panely_def,32,FALSE))","v":{"$error":"#DIV/0!"}},{"$f":"IF(VLOOKUP(Data!$B52,tabulka_kce_def,3,FALSE)=\"\",Konstrukce!$G$1,IF(VLOOKUP(Data!$B52,tabulka_kce_def,3,FALSE)=\"z\",Konstrukce!$G$2,VLOOKUP(Data!$B52,tabulka_kce_def,3,FALSE)))","v":{"$error":"#N/A"}},{"$f":"IF(Data!$B52<MIN(Panely!$A$9:$A$28),0,VLOOKUP(Data!$B52,tabulka_panely_def,25,FALSE))","v":0},{"$f":"IF(Data!$B52<MIN(Panely!$A$9:$A$28),VLOOKUP(Data!$B52,tabulka_kce_def,24,FALSE),VLOOKUP(Data!$B52,tabulka_panely_def,33,FALSE))","v":{"$error":"#N/A"}},{"$f":"Konstrukce!$D$1","v":18.770175404064034},{"$f":"Konstrukce!$D$2","v":19.934229593106764},{"$f":"Konstrukce!$G$1","v":-12},{"$f":"IF(Data!$B52<MIN(Panely!$A$9:$A$28),VLOOKUP(Data!$B52,tabulka_kce_def,59,FALSE),VLOOKUP(Data!$B52,tabulka_panely_def,63,FALSE))","v":""},{"$f":"IF(Data!$B52<MIN(Panely!$A$9:$A$28),VLOOKUP(Data!$B52,tabulka_kce_def,60,FALSE),VLOOKUP(Data!$B52,tabulka_panely_def,64,FALSE))","v":""},{"$f":"IF(Data!$B52<MIN(Panely!$A$9:$A$28),VLOOKUP(Data!$B52,tabulka_kce_def,61,FALSE),VLOOKUP(Data!$B52,tabulka_panely_def,65,FALSE))","v":""},{"$f":"IF(Data!$B52<MIN(Panely!$A$9:$A$28),VLOOKUP(Data!$B52,tabulka_kce_def,25,FALSE),0)","v":0},0,null,null,null,null,"=",{"$f":"IF(Data!$W52<MIN(Panely!$A$9:$A$28),VLOOKUP(Data!$W52,tabulka_kce_def,62,FALSE),VLOOKUP(Data!$W52,tabulka_panely_def,65,FALSE))","v":""},{"$f":"IF(Data!$W52<MIN(Panely!$A$9:$A$28),VLOOKUP(Data!$W52,tabulka_kce_def,Y$1-20,FALSE),VLOOKUP(Data!$W52,tabulka_panely_def,Y$1-18,FALSE))","v":0},{"$f":"IF(Data!$W52<MIN(Panely!$A$9:$A$28),VLOOKUP(Data!$W52,tabulka_kce_def,Z$1-20,FALSE),VLOOKUP(Data!$W52,tabulka_panely_def,Z$1-18,FALSE))","v":0},{"$f":"IF(Data!$W52<MIN(Panely!$A$9:$A$28),VLOOKUP(Data!$W52,tabulka_kce_def,AA$1-20,FALSE),VLOOKUP(Data!$W52,tabulka_panely_def,AA$1-18,FALSE))","v":0},{"$f":"IF(Data!$W52<MIN(Panely!$A$9:$A$28),VLOOKUP(Data!$W52,tabulka_kce_def,AB$1-20,FALSE),VLOOKUP(Data!$W52,tabulka_panely_def,AB$1-18,FALSE))","v":0},{"$f":"IF(Data!$W52<MIN(Panely!$A$9:$A$28),VLOOKUP(Data!$W52,tabulka_kce_def,AC$1-20,FALSE),VLOOKUP(Data!$W52,tabulka_panely_def,AC$1-18,FALSE))","v":0},{"$f":"IF(Data!$W52<MIN(Panely!$A$9:$A$28),VLOOKUP(Data!$W52,tabulka_kce_def,AD$1-20,FALSE),VLOOKUP(Data!$W52,tabulka_panely_def,AD$1-18,FALSE))","v":0},{"$f":"IF(Data!$W52<MIN(Panely!$A$9:$A$28),VLOOKUP(Data!$W52,tabulka_kce_def,AE$1-20,FALSE),VLOOKUP(Data!$W52,tabulka_panely_def,AE$1-18,FALSE))","v":0},{"$f":"IF(Data!$W52<MIN(Panely!$A$9:$A$28),VLOOKUP(Data!$W52,tabulka_kce_def,AF$1-20,FALSE),VLOOKUP(Data!$W52,tabulka_panely_def,AF$1-18,FALSE))","v":0},{"$f":"IF(Data!$W52<MIN(Panely!$A$9:$A$28),VLOOKUP(Data!$W52,tabulka_kce_def,AG$1-20,FALSE),VLOOKUP(Data!$W52,tabulka_panely_def,AG$1-18,FALSE))","v":0},{"$f":"IF(Data!$W52<MIN(Panely!$A$9:$A$28),VLOOKUP(Data!$W52,tabulka_kce_def,AH$1-20,FALSE),VLOOKUP(Data!$W52,tabulka_panely_def,AH$1-18,FALSE))","v":0},{"$f":"IF(Data!$W52<MIN(Panely!$A$9:$A$28),VLOOKUP(Data!$W52,tabulka_kce_def,AI$1-20,FALSE),VLOOKUP(Data!$W52,tabulka_panely_def,AI$1-18,FALSE))","v":0},{"$f":"IF(Data!$W52<MIN(Panely!$A$9:$A$28),VLOOKUP(Data!$W52,tabulka_kce_def,AJ$1-20,FALSE),VLOOKUP(Data!$W52,tabulka_panely_def,AJ$1-18,FALSE))","v":0},{"$f":"IF(Data!$W52<MIN(Panely!$A$9:$A$28),VLOOKUP(Data!$W52,tabulka_kce_def,AK$1-20,FALSE),VLOOKUP(Data!$W52,tabulka_panely_def,AK$1-18,FALSE))","v":0},{"$f":"IF(Data!$W52<MIN(Panely!$A$9:$A$28),VLOOKUP(Data!$W52,tabulka_kce_def,AL$1-20,FALSE),VLOOKUP(Data!$W52,tabulka_panely_def,AL$1-18,FALSE))","v":0},{"$f":"IF(Data!$W52<MIN(Panely!$A$9:$A$28),VLOOKUP(Data!$W52,tabulka_kce_def,AM$1-20,FALSE),VLOOKUP(Data!$W52,tabulka_panely_def,AM$1-18,FALSE))","v":0},52,{"$f":"IF(Data!$W52<MIN(Panely!$A$9:$A$28),VLOOKUP(Data!$W52,tabulka_kce_def,63,FALSE),0)","v":0},{"$f":"IF(Data!$W52<MIN(Panely!$A$9:$A$28),VLOOKUP(Data!$W52,tabulka_kce_def,28,FALSE),1)","v":1},{"$f":"IF(Data!$W52<MIN(Panely!$A$9:$A$28),VLOOKUP(Data!$W52,tabulka_kce_def,23,FALSE),VLOOKUP(Data!$W52,tabulka_panely_def,24,FALSE))","v":0},null,0,null,0,0,{"$error":"#N/A"},0,{"$f":"IF(AND(W52>MAX(Konstrukce!A:A),ISNUMBER(W52)),1,0)","v":0}]
[null,"=",{"$f":"IF(Data!$B53<MIN(Panely!$A$9:$A$28),VLOOKUP(Data!$B53,tabulka_kce_def,4,FALSE),VLOOKUP(Data!$B53,tabulka_panely_def,4,FALSE))","v":0},{"$f":"IF(Data!$B53<MIN(Panely!$A$9:$A$28),VLOOKUP(Data!$B53,tabulka_kce_def,23,FALSE),VLOOKUP(Data!$B53,tabulka_panely_def,24,FALSE))","v":0},{"$f":"IF(Data!$B53<MIN(Panely!$A$9:$A$28),VLOOKUP(Data!$B53,tabulka_kce_def,21,FALSE),VLOOKUP(Data!$B53,tabulka_panely_def,22,FALSE))","v":0},{"$f":"IF(Data!$B53<MIN(Panely!$A$9:$A$28),VLOOKUP(Data!$B53,tabulka_kce_def,26,FALSE),VLOOKUP(Data!$B53,tabulka_panely_def,31,FALSE))","v":{"$error":"#DIV/0!"}},{"$f":"IF(Data!$B53<MIN(Panely!$A$9:$A$28),VLOOKUP(Data!$B53,tabulka_kce_def,27,FALSE),VLOOKUP(Data!$B53,tabulka_panely_def,32,FALSE))","v":{"$error":"#DIV/0!"}},{"$f":"IF(VLOOKUP(Data!$B53,tabulka_kce_def,3,FALSE)=\"\",Konstrukce!$G$1,IF(VLOOKUP(Data!$B53,tabulka_kce_def,3,FALSE)=\"z\",Konstrukce!$G$2,VLOOKUP(Data!$B53,tabulka_kce_def,3,FALSE)))","v":{"$error":"#N/A"}},{"$f":"IF(Data!$B53<MIN(Panely!$A$9:$A$28),0,VLOOKUP(Data!$B53,tabulka_panely_def,25,FALSE))","v":0},{"$f":"IF(Data!$B53<MIN(Panely!$A$9:$A$28),VLOOKUP(Data!$B53,tabulka_kce_def,24,FALSE),VLOOKUP(Data!$B53,tabulka_panely_def,33,FALSE))","v":{"$error":"#N/A"}},{"$f":"Konstrukce!$D$1","v":18.770175404064034},{"$f":"Konstrukce!$D$2","v":19.934229593106764},{"$f":"Konstrukce!$G$1","v":-12},{"$f":"IF(Data!$B53<MIN(Panely!$A$9:$A$28),VLOOKUP(Data!$B53,tabulka_kce_def,59,FALSE),VLOOKUP(Data!$B53,tabulka_panely_def,63,FALSE))","v":""},{"$f":"IF(Data!$B53<MIN(Panely!$A$9:$A$28),VLOOKUP(Data!$B53,tabulka_kce_def,60,FALSE),VLOOKUP(Data!$B53,tabulka_panely_def,64,FALSE))","v":""},{"$f":"IF(Data!$B53<MIN(Panely!$A$9:$A$28),VLOOKUP(Data!$B53,tabulka_kce_def,61,FALSE),VLOOKUP(Data!$B53,tabulka_panely_def,65,FALSE))","v":""},{"$f":"IF(Data!$B53<MIN(Panely!$A$9:$A$28),VLOOKUP(Data!$B53,tabulka_kce_def,25,FALSE),0)","v":0},0,null,null,null,null,"=",{"$f":"IF(Data!$W53<MIN(Panely!$A$9:$A$28),VLOOKUP(Data!$W53,tabulka_kce_def,62,FALSE),VLOOKUP(Data!$W53,tabulka_panely_def,65,FALSE))","v":""},{"$f":"IF(Data!$W53<MIN(Panely!$A$9:$A$28),VLOOKUP(Data!$W53,tabulka_kce_def,Y$1-20,FALSE),VLOOKUP(Data!$W53,tabulka_panely_def,Y$1-18,FALSE))","v":0},{"$f":"IF(Data!$W53<MIN(Panely!$A$9:$A$28),VLOOKUP(Data!$W53,tabulka_kce_def,Z$1-20,FALSE),VLOOKUP(Data!$W53,tabulka_panely_def,Z$1-18,FALSE))","v":0},{"$f":"IF(Data!$W53<MIN(Panely!$A$9:$A$28),VLOOKUP(Data!$W53,tabulka_kce_def,AA$1-20,FALSE),VLOOKUP(Data!$W53,tabulka_panely_def,AA$1-18,FALSE))","v":0},{"$f":"IF(Data!$W53<MIN(Panely!$A$9:$A$28),VLOOKUP(Data!$W53,tabulka_kce_def,AB$1-20,FALSE),VLOOKUP(Data!$W53,tabulka_panely_def,AB$1-18,FALSE))","v":0},{"$f":"IF(Data!$W53<MIN(Panely!$A$9:$A$28),VLOOKUP(Data!$W53,tabulka_kce_def,AC$1-20,FALSE),VLOOKUP(Data!$W53,tabulka_panely_def,AC$1-18,FALSE))","v":0},{"$f":"IF(Data!$W53<MIN(Panely!$A$9:$A$28),VLOOKUP(Data!$W53,tabulka_kce_def,AD$1-20,FALSE),VLOOKUP(Data!$W53,tabulka_panely_def,AD$1-18,FALSE))","v":0},{"$f":"IF(Data!$W53<MIN(Panely!$A$9:$A$28),VLOOKUP(Data!$W53,tabulka_kce_def,AE$1-20,FALSE),VLOOKUP(Data!$W53,tabulka_panely_def,AE$1-18,FALSE))","v":0},{"$f":"IF(Data!$W53<MIN(Panely!$A$9:$A$28),VLOOKUP(Data!$W53,tabulka_kce_def,AF$1-20,FALSE),VLOOKUP(Data!$W53,tabulka_panely_def,AF$1-18,FALSE))","v":0},{"$f":"IF(Data!$W53<MIN(Panely!$A$9:$A$28),VLOOKUP(Data!$W53,tabulka_kce_def,AG$1-20,FALSE),VLOOKUP(Data!$W53,tabulka_panely_def,AG$1-18,FALSE))","v":0},{"$f":"IF(Data!$W53<MIN(Panely!$A$9:$A$28),VLOOKUP(Data!$W53,tabulka_kce_def,AH$1-20,FALSE),VLOOKUP(Data!$W53,tabulka_panely_def,AH$1-18,FALSE))","v":0},{"$f":"IF(Data!$W53<MIN(Panely!$A$9:$A$28),VLOOKUP(Data!$W53,tabulka_kce_def,AI$1-20,FALSE),VLOOKUP(Data!$W53,tabulka_panely_def,AI$1-18,FALSE))","v":0},{"$f":"IF(Data!$W53<MIN(Panely!$A$9:$A$28),VLOOKUP(Data!$W53,tabulka_kce_def,AJ$1-20,FALSE),VLOOKUP(Data!$W53,tabulka_panely_def,AJ$1-18,FALSE))","v":0},{"$f":"IF(Data!$W53<MIN(Panely!$A$9:$A$28),VLOOKUP(Data!$W53,tabulka_kce_def,AK$1-20,FALSE),VLOOKUP(Data!$W53,tabulka_panely_def,AK$1-18,FALSE))","v":0},{"$f":"IF(Data!$W53<MIN(Panely!$A$9:$A$28),VLOOKUP(Data!$W53,tabulka_kce_def,AL$1-20,FALSE),VLOOKUP(Data!$W53,tabulka_panely_def,AL$1-18,FALSE))","v":0},{"$f":"IF(Data!$W53<MIN(Panely!$A$9:$A$28),VLOOKUP(Data!$W53,tabulka_kce_def,AM$1-20,FALSE),VLOOKUP(Data!$W53,tabulka_panely_def,AM$1-18,FALSE))","v":0},53,{"$f":"IF(Data!$W53<MIN(Panely!$A$9:$A$28),VLOOKUP(Data!$W53,tabulka_kce_def,63,FALSE),0)","v":0},{"$f":"IF(Data!$W53<MIN(Panely!$A$9:$A$28),VLOOKUP(Data!$W53,tabulka_kce_def,28,FALSE),1)","v":1},{"$f":"IF(Data!$W53<MIN(Panely!$A$9:$A$28),VLOOKUP(Data!$W53,tabulka_kce_def,23,FALSE),VLOOKUP(Data!$W53,tabulka_panely_def,24,FALSE))","v":0},null,0,null,0,0,{"$error":"#N/A"},0,{"$f":"IF(AND(W53>MAX(Konstrukce!A:A),ISNUMBER(W53)),1,0)","v":0}]
[null,"=",{"$f":"IF(Data!$B54<MIN(Panely!$A$9:$A$28),VLOOKUP(Data!$B54,tabulka_kce_def,4,FALSE),VLOOKUP(Data!$B54,tabulka_panely_def,4,FALSE))","v":0},{"$f":"IF(Data!$B54<MIN(Panely!$A$9:$A$28),VLOOKUP(Data!$B54,tabulka_kce_def,23,FALSE),VLOOKUP(Data!$B54,tabulka_panely_def,24,FALSE))","v":0},{"$f":"IF(Data!$B54<MIN(Panely!$A$9:$A$28),VLOOKUP(Data!$B54,tabulka_kce_def,21,FALSE),VLOOKUP(Data!$B54,tabulka_panely_def,22,FALSE))","v":0},{"$f":"IF(Data!$B54<MIN(Panely!$A$9:$A$28),VLOOKUP(Data!$B54,tabulka_kce_def,26,FALSE),VLOOKUP(Data!$B54,tabulka_panely_def,31,FALSE))","v":{"$error":"#DIV/0!"}},{"$f":"IF(Data!$B54<MIN(Panely!$A$9:$A$28),VLOOKUP(Data!$B54,tabulka_kce_def,27,FALSE),VLOOKUP(Data!$B54,tabulka_panely_def,32,FALSE))","v":{"$error":"#DIV/0!"}},{"$f":"IF(VLOOKUP(Data!$B54,tabulka_kce_def,3,FALSE)=\"\",Konstrukce!$G$1,IF(VLOOKUP(Data!$B54,tabulka_kce_def,3,FALSE)=\"z\",Konstrukce!$G$2,VLOOKUP(Data!$B54,tabulka_kce_def,3,FALSE)))","v":{"$error":"#N/A"}},{"$f":"IF(Data!$B54<MIN(Panely!$A$9:$A$28),0,VLOOKUP(Data!$B54,tabulka_panely_def,25,FALSE))","v":0},{"$f":"IF(Data!$B54<MIN(Panely!$A$9:$A$28),VLOOKUP(Data!$B54,tabulka_kce_def,24,FALSE),VLOOKUP(Data!$B54,tabulka_panely_def,33,FALSE))","v":{"$error":"#N/A"}},{"$f":"Konstrukce!$D$1","v":18.770175404064034},{"$f":"Konstrukce!$D$2","v":19.934229593106764},{"$f":"Konstrukce!$G$1","v":-12},{"$f":"IF(Data!$B54<MIN(Panely!$A$9:$A$28),VLOOKUP(Data!$B54,tabulka_kce_def,59,FALSE),VLOOKUP(Data!$B54,tabulka_panely_def,63,FALSE))","v":""},{"$f":"IF(Data!$B54<MIN(Panely!$A$9:$A$28),VLOOKUP(Data!$B54,tabulka_kce_def,60,FALSE),VLOOKUP(Data!$B54,tabulka_panely_def,64,FALSE))","v":""},{"$f":"IF(Data!$B54<MIN(Panely!$A$9:$A$28),VLOOKUP(Data!$B54,tabulka_kce_def,61,FALSE),VLOOKUP(Data!$B54,tabulka_panely_def,65,FALSE))","v":""},{"$f":"IF(Data!$B54<MIN(Panely!$A$9:$A$28),VLOOKUP(Data!$B54,tabulka_kce_def,25,FALSE),0)","v":0},0,null,null,null,null,"=",{"$f":"IF(Data!$W54<MIN(Panely!$A$9:$A$28),VLOOKUP(Data!$W54,tabulka_kce_def,62,FALSE),VLOOKUP(Data!$W54,tabulka_panely_def,65,FALSE))","v":""},{"$f":"IF(Data!$W54<MIN(Panely!$A$9:$A$28),VLOOKUP(Data!$W54,tabulka_kce_def,Y$1-20,FALSE),VLOOKUP(Data!$W54,tabulka_panely_def,Y$1-18,FALSE))","v":0},{"$f":"IF(Data!$W54<MIN(Panely!$A$9:$A$28),VLOOKUP(Data!$W54,tabulka_kce_def,Z$1-20,FALSE),VLOOKUP(Data!$W54,tabulka_panely_def,Z$1-18,FALSE))","v":0},{"$f":"IF(Data!$W54<MIN(Panely!$A$9:$A$28),VLOOKUP(Data!$W54,tabulka_kce_def,AA$1-20,FALSE),VLOOKUP(Data!$W54,tabulka_panely_def,AA$1-18,FALSE))","v":0},{"$f":"IF(Data!$W54<MIN(Panely!$A$9:$A$28),VLOOKUP(Data!$W54,tabulka_kce_def,AB$1-20,FALSE),VLOOKUP(Data!$W54,tabulka_panely_def,AB$1-18,FALSE))","v":0},{"$f":"IF(Data!$W54<MIN(Panely!$A$9:$A$28),VLOOKUP(Data!$W54,tabulka_kce_def,AC$1-20,FALSE),VLOOKUP(Data!$W54,tabulka_panely_def,AC$1-18,FALSE))","v":0},{"$f":"IF(Data!$W54<MIN(Panely!$A$9:$A$28),VLOOKUP(Data!$W54,tabulka_kce_def,AD$1-20,FALSE),VLOOKUP(Data!$W54,tabulka_panely_def,AD$1-18,FALSE))","v":0},{"$f":"IF(Data!$W54<MIN(Panely!$A$9:$A$28),VLOOKUP(Data!$W54,tabulka_kce_def,AE$1-20,FALSE),VLOOKUP(Data!$W54,tabulka_panely_def,AE$1-18,FALSE))","v":0},{"$f":"IF(Data!$W54<MIN(Panely!$A$9:$A$28),VLOOKUP(Data!$W54,tabulka_kce_def,AF$1-20,FALSE),VLOOKUP(Data!$W54,tabulka_panely_def,AF$1-18,FALSE))","v":0},{"$f":"IF(Data!$W54<MIN(Panely!$A$9:$A$28),VLOOKUP(Data!$W54,tabulka_kce_def,AG$1-20,FALSE),VLOOKUP(Data!$W54,tabulka_panely_def,AG$1-18,FALSE))","v":0},{"$f":"IF(Data!$W54<MIN(Panely!$A$9:$A$28),VLOOKUP(Data!$W54,tabulka_kce_def,AH$1-20,FALSE),VLOOKUP(Data!$W54,tabulka_panely_def,AH$1-18,FALSE))","v":0},{"$f":"IF(Data!$W54<MIN(Panely!$A$9:$A$28),VLOOKUP(Data!$W54,tabulka_kce_def,AI$1-20,FALSE),VLOOKUP(Data!$W54,tabulka_panely_def,AI$1-18,FALSE))","v":0},{"$f":"IF(Data!$W54<MIN(Panely!$A$9:$A$28),VLOOKUP(Data!$W54,tabulka_kce_def,AJ$1-20,FALSE),VLOOKUP(Data!$W54,tabulka_panely_def,AJ$1-18,FALSE))","v":0},{"$f":"IF(Data!$W54<MIN(Panely!$A$9:$A$28),VLOOKUP(Data!$W54,tabulka_kce_def,AK$1-20,FALSE),VLOOKUP(Data!$W54,tabulka_panely_def,AK$1-18,FALSE))","v":0},{"$f":"IF(Data!$W54<MIN(Panely!$A$9:$A$28),VLOOKUP(Data!$W54,tabulka_kce_def,AL$1-20,FALSE),VLOOKUP(Data!$W54,tabulka_panely_def,AL$1-18,FALSE))","v":0},{"$f":"IF(Data!$W54<MIN(Panely!$A$9:$A$28),VLOOKUP(Data!$W54,tabulka_kce_def,AM$1-20,FALSE),VLOOKUP(Data!$W54,tabulka_panely_def,AM$1-18,FALSE))","v":0},54,{"$f":"IF(Data!$W54<MIN(Panely!$A$9:$A$28),VLOOKUP(Data!$W54,tabulka_kce_def,63,FALSE),0)","v":0},{"$f":"IF(Data!$W54<MIN(Panely!$A$9:$A$28),VLOOKUP(Data!$W54,tabulka_kce_def,28,FALSE),1)","v":1},{"$f":"IF(Data!$W54<MIN(Panely!$A$9:$A$28),VLOOKUP(Data!$W54,tabulka_kce_def,23,FALSE),VLOOKUP(Data!$W54,tabulka_panely_def,24,FALSE))","v":0},null,0,null,0,0,{"$error":"#N/A"},0,{"$f":"IF(AND(W54>MAX(Konstrukce!A:A),ISNUMBER(W54)),1,0)","v":0}]
[null,"=",{"$f":"IF(Data!$B55<MIN(Panely!$A$9:$A$28),VLOOKUP(Data!$B55,tabulka_kce_def,4,FALSE),VLOOKUP(Data!$B55,tabulka_panely_def,4,FALSE))","v":0},{"$f":"IF(Data!$B55<MIN(Panely!$A$9:$A$28),VLOOKUP(Data!$B55,tabulka_kce_def,23,FALSE),VLOOKUP(Data!$B55,tabulka_panely_def,24,FALSE))","v":0},{"$f":"IF(Data!$B55<MIN(Panely!$A$9:$A$28),VLOOKUP(Data!$B55,tabulka_kce_def,21,FALSE),VLOOKUP(Data!$B55,tabulka_panely_def,22,FALSE))","v":0},{"$f":"IF(Data!$B55<MIN(Panely!$A$9:$A$28),VLOOKUP(Data!$B55,tabulka_kce_def,26,FALSE),VLOOKUP(Data!$B55,tabulka_panely_def,31,FALSE))","v":{"$error":"#DIV/0!"}},{"$f":"IF(Data!$B55<MIN(Panely!$A$9:$A$28),VLOOKUP(Data!$B55,tabulka_kce_def,27,FALSE),VLOOKUP(Data!$B55,tabulka_panely_def,32,FALSE))","v":{"$error":"#DIV/0!"}},{"$f":"IF(VLOOKUP(Data!$B55,tabulka_kce_def,3,FALSE)=\"\",Konstrukce!$G$1,IF(VLOOKUP(Data!$B55,tabulka_kce_def,3,FALSE)=\"z\",Konstrukce!$G$2,VLOOKUP(Data!$B55,tabulka_kce_def,3,FALSE)))","v":{"$error":"#N/A"}},{"$f":"IF(Data!$B55<MIN(Panely!$A$9:$A$28),0,VLOOKUP(Data!$B55,tabulka_panely_def,25,FALSE))","v":0},{"$f":"IF(Data!$B55<MIN(Panely!$A$9:$A$28),VLOOKUP(Data!$B55,tabulka_kce_def,24,FALSE),VLOOKUP(Data!$B55,tabulka_panely_def,33,FALSE))","v":{"$error":"#N/A"}},{"$f":"Konstrukce!$D$1","v":18.770175404064034},{"$f":"Konstrukce!$D$2","v":19.934229593106764},{"$f":"Konstrukce!$G$1","v":-12},{"$f":"IF(Data!$B55<MIN(Panely!$A$9:$A$28),VLOOKUP(Data!$B55,tabulka_kce_def,59,FALSE),VLOOKUP(Data!$B55,tabulka_panely_def,63,FALSE))","v":""},{"$f":"IF(Data!$B55<MIN(Panely!$A$9:$A$28),VLOOKUP(Data!$B55,tabulka_kce_def,60,FALSE),VLOOKUP(Data!$B55,tabulka_panely_def,64,FALSE))","v":""},{"$f":"IF(Data!$B55<MIN(Panely!$A$9:$A$28),VLOOKUP(Data!$B55,tabulka_kce_def,61,FALSE),VLOOKUP(Data!$B55,tabulka_panely_def,65,FALSE))","v":""},{"$f":"IF(Data!$B55<MIN(Panely!$A$9:$A$28),VLOOKUP(Data!$B55,tabulka_kce_def,25,FALSE),0)","v":0},0,null,null,null,null,"=",{"$f":"IF(Data!$W55<MIN(Panely!$A$9:$A$28),VLOOKUP(Data!$W55,tabulka_kce_def,62,FALSE),VLOOKUP(Data!$W55,tabulka_panely_def,65,FALSE))","v":""},{"$f":"IF(Data!$W55<MIN(Panely!$A$9:$A$28),VLOOKUP(Data!$W55,tabulka_kce_def,Y$1-20,FALSE),VLOOKUP(Data!$W55,tabulka_panely_def,Y$1-18,FALSE))","v":0},{"$f":"IF(Data!$W55<MIN(Panely!$A$9:$A$28),VLOOKUP(Data!$W55,tabulka_kce_def,Z$1-20,FALSE),VLOOKUP(Data!$W55,tabulka_panely_def,Z$1-18,FALSE))","v":0},{"$f":"IF(Data!$W55<MIN(Panely!$A$9:$A$28),VLOOKUP(Data!$W55,tabulka_kce_def,AA$1-20,FALSE),VLOOKUP(Data!$W55,tabulka_panely_def,AA$1-18,FALSE))","v":0},{"$f":"IF(Data!$W55<MIN(Panely!$A$9:$A$28),VLOOKUP(Data!$W55,tabulka_kce_def,AB$1-20,FALSE),VLOOKUP(Data!$W55,tabulka_panely_def,AB$1-18,FALSE))","v":0},{"$f":"IF(Data!$W55<MIN(Panely!$A$9:$A$28),VLOOKUP(Data!$W55,tabulka_kce_def,AC$1-20,FALSE),VLOOKUP(Data!$W55,tabulka_panely_def,AC$1-18,FALSE))","v":0},{"$f":"IF(Data!$W55<MIN(Panely!$A$9:$A$28),VLOOKUP(Data!$W55,tabulka_kce_def,AD$1-20,FALSE),VLOOKUP(Data!$W55,tabulka_panely_def,AD$1-18,FALSE))","v":0},{"$f":"IF(Data!$W55<MIN(Panely!$A$9:$A$28),VLOOKUP(Data!$W55,tabulka_kce_def,AE$1-20,FALSE),VLOOKUP(Data!$W55,tabulka_panely_def,AE$1-18,FALSE))","v":0},{"$f":"IF(Data!$W55<MIN(Panely!$A$9:$A$28),VLOOKUP(Data!$W55,tabulka_kce_def,AF$1-20,FALSE),VLOOKUP(Data!$W55,tabulka_panely_def,AF$1-18,FALSE))","v":0},{"$f":"IF(Data!$W55<MIN(Panely!$A$9:$A$28),VLOOKUP(Data!$W55,tabulka_kce_def,AG$1-20,FALSE),VLOOKUP(Data!$W55,tabulka_panely_def,AG$1-18,FALSE))","v":0},{"$f":"IF(Data!$W55<MIN(Panely!$A$9:$A$28),VLOOKUP(Data!$W55,tabulka_kce_def,AH$1-20,FALSE),VLOOKUP(Data!$W55,tabulka_panely_def,AH$1-18,FALSE))","v":0},{"$f":"IF(Data!$W55<MIN(Panely!$A$9:$A$28),VLOOKUP(Data!$W55,tabulka_kce_def,AI$1-20,FALSE),VLOOKUP(Data!$W55,tabulka_panely_def,AI$1-18,FALSE))","v":0},{"$f":"IF(Data!$W55<MIN(Panely!$A$9:$A$28),VLOOKUP(Data!$W55,tabulka_kce_def,AJ$1-20,FALSE),VLOOKUP(Data!$W55,tabulka_panely_def,AJ$1-18,FALSE))","v":0},{"$f":"IF(Data!$W55<MIN(Panely!$A$9:$A$28),VLOOKUP(Data!$W55,tabulka_kce_def,AK$1-20,FALSE),VLOOKUP(Data!$W55,tabulka_panely_def,AK$1-18,FALSE))","v":0},{"$f":"IF(Data!$W55<MIN(Panely!$A$9:$A$28),VLOOKUP(Data!$W55,tabulka_kce_def,AL$1-20,FALSE),VLOOKUP(Data!$W55,tabulka_panely_def,AL$1-18,FALSE))","v":0},{"$f":"IF(Data!$W55<MIN(Panely!$A$9:$A$28),VLOOKUP(Data!$W55,tabulka_kce_def,AM$1-20,FALSE),VLOOKUP(Data!$W55,tabulka_panely_def,AM$1-18,FALSE))","v":0},55,{"$f":"IF(Data!$W55<MIN(Panely!$A$9:$A$28),VLOOKUP(Data!$W55,tabulka_kce_def,63,FALSE),0)","v":0},{"$f":"IF(Data!$W55<MIN(Panely!$A$9:$A$28),VLOOKUP(Data!$W55,tabulka_kce_def,28,FALSE),1)","v":1},{"$f":"IF(Data!$W55<MIN(Panely!$A$9:$A$28),VLOOKUP(Data!$W55,tabulka_kce_def,23,FALSE),VLOOKUP(Data!$W55,tabulka_panely_def,24,FALSE))","v":0},null,0,null,0,0,{"$error":"#N/A"},0,{"$f":"IF(AND(W55>MAX(Konstrukce!A:A),ISNUMBER(W55)),1,0)","v":0}]
[null,"=",{"$f":"IF(Data!$B56<MIN(Panely!$A$9:$A$28),VLOOKUP(Data!$B56,tabulka_kce_def,4,FALSE),VLOOKUP(Data!$B56,tabulka_panely_def,4,FALSE))","v":0},{"$f":"IF(Data!$B56<MIN(Panely!$A$9:$A$28),VLOOKUP(Data!$B56,tabulka_kce_def,23,FALSE),VLOOKUP(Data!$B56,tabulka_panely_def,24,FALSE))","v":0},{"$f":"IF(Data!$B56<MIN(Panely!$A$9:$A$28),VLOOKUP(Data!$B56,tabulka_kce_def,21,FALSE),VLOOKUP(Data!$B56,tabulka_panely_def,22,FALSE))","v":0},{"$f":"IF(Data!$B56<MIN(Panely!$A$9:$A$28),VLOOKUP(Data!$B56,tabulka_kce_def,26,FALSE),VLOOKUP(Data!$B56,tabulka_panely_def,31,FALSE))","v":{"$error":"#DIV/0!"}},{"$f":"IF(Data!$B56<MIN(Panely!$A$9:$A$28),VLOOKUP(Data!$B56,tabulka_kce_def,27,FALSE),VLOOKUP(Data!$B56,tabulka_panely_def,32,FALSE))","v":{"$error":"#DIV/0!"}},{"$f":"IF(VLOOKUP(Data!$B56,tabulka_kce_def,3,FALSE)=\"\",Konstrukce!$G$1,IF(VLOOKUP(Data!$B56,tabulka_kce_def,3,FALSE)=\"z\",Konstrukce!$G$2,VLOOKUP(Data!$B56,tabulka_kce_def,3,FALSE)))","v":{"$error":"#N/A"}},{"$f":"IF(Data!$B56<MIN(Panely!$A$9:$A$28),0,VLOOKUP(Data!$B56,tabulka_panely_def,25,FALSE))","v":0},{"$f":"IF(Data!$B56<MIN(Panely!$A$9:$A$28),VLOOKUP(Data!$B56,tabulka_kce_def,24,FALSE),VLOOKUP(Data!$B56,tabulka_panely_def,33,FALSE))","v":{"$error":"#N/A"}},{"$f":"Konstrukce!$D$1","v":18.770175404064034},{"$f":"Konstrukce!$D$2","v":19.934229593106764},{"$f":"Konstrukce!$G$1","v":-12},{"$f":"IF(Data!$B56<MIN(Panely!$A$9:$A$28),VLOOKUP(Data!$B56,tabulka_kce_def,59,FALSE),VLOOKUP(Data!$B56,tabulka_panely_def,63,FALSE))","v":""},{"$f":"IF(Data!$B56<MIN(Panely!$A$9:$A$28),VLOOKUP(Data!$B56,tabulka_kce_def,60,FALSE),VLOOKUP(Data!$B56,tabulka_panely_def,64,FALSE))","v":""},{"$f":"IF(Data!$B56<MIN(Panely!$A$9:$A$28),VLOOKUP(Data!$B56,tabulka_kce_def,61,FALSE),VLOOKUP(Data!$B56,tabulka_panely_def,65,FALSE))","v":""},{"$f":"IF(Data!$B56<MIN(Panely!$A$9:$A$28),VLOOKUP(Data!$B56,tabulka_kce_def,25,FALSE),0)","v":0},0,null,null,null,null,"=",{"$f":"IF(Data!$W56<MIN(Panely!$A$9:$A$28),VLOOKUP(Data!$W56,tabulka_kce_def,62,FALSE),VLOOKUP(Data!$W56,tabulka_panely_def,65,FALSE))","v":""},{"$f":"IF(Data!$W56<MIN(Panely!$A$9:$A$28),VLOOKUP(Data!$W56,tabulka_kce_def,Y$1-20,FALSE),VLOOKUP(Data!$W56,tabulka_panely_def,Y$1-18,FALSE))","v":0},{"$f":"IF(Data!$W56<MIN(Panely!$A$9:$A$28),VLOOKUP(Data!$W56,tabulka_kce_def,Z$1-20,FALSE),VLOOKUP(Data!$W56,tabulka_panely_def,Z$1-18,FALSE))","v":0},{"$f":"IF(Data!$W56<MIN(Panely!$A$9:$A$28),VLOOKUP(Data!$W56,tabulka_kce_def,AA$1-20,FALSE),VLOOKUP(Data!$W56,tabulka_panely_def,AA$1-18,FALSE))","v":0},{"$f":"IF(Data!$W56<MIN(Panely!$A$9:$A$28),VLOOKUP(Data!$W56,tabulka_kce_def,AB$1-20,FALSE),VLOOKUP(Data!$W56,tabulka_panely_def,AB$1-18,FALSE))","v":0},{"$f":"IF(Data!$W56<MIN(Panely!$A$9:$A$28),VLOOKUP(Data!$W56,tabulka_kce_def,AC$1-20,FALSE),VLOOKUP(Data!$W56,tabulka_panely_def,AC$1-18,FALSE))","v":0},{"$f":"IF(Data!$W56<MIN(Panely!$A$9:$A$28),VLOOKUP(Data!$W56,tabulka_kce_def,AD$1-20,FALSE),VLOOKUP(Data!$W56,tabulka_panely_def,AD$1-18,FALSE))","v":0},{"$f":"IF(Data!$W56<MIN(Panely!$A$9:$A$28),VLOOKUP(Data!$W56,tabulka_kce_def,AE$1-20,FALSE),VLOOKUP(Data!$W56,tabulka_panely_def,AE$1-18,FALSE))","v":0},{"$f":"IF(Data!$W56<MIN(Panely!$A$9:$A$28),VLOOKUP(Data!$W56,tabulka_kce_def,AF$1-20,FALSE),VLOOKUP(Data!$W56,tabulka_panely_def,AF$1-18,FALSE))","v":0},{"$f":"IF(Data!$W56<MIN(Panely!$A$9:$A$28),VLOOKUP(Data!$W56,tabulka_kce_def,AG$1-20,FALSE),VLOOKUP(Data!$W56,tabulka_panely_def,AG$1-18,FALSE))","v":0},{"$f":"IF(Data!$W56<MIN(Panely!$A$9:$A$28),VLOOKUP(Data!$W56,tabulka_kce_def,AH$1-20,FALSE),VLOOKUP(Data!$W56,tabulka_panely_def,AH$1-18,FALSE))","v":0},{"$f":"IF(Data!$W56<MIN(Panely!$A$9:$A$28),VLOOKUP(Data!$W56,tabulka_kce_def,AI$1-20,FALSE),VLOOKUP(Data!$W56,tabulka_panely_def,AI$1-18,FALSE))","v":0},{"$f":"IF(Data!$W56<MIN(Panely!$A$9:$A$28),VLOOKUP(Data!$W56,tabulka_kce_def,AJ$1-20,FALSE),VLOOKUP(Data!$W56,tabulka_panely_def,AJ$1-18,FALSE))","v":0},{"$f":"IF(Data!$W56<MIN(Panely!$A$9:$A$28),VLOOKUP(Data!$W56,tabulka_kce_def,AK$1-20,FALSE),VLOOKUP(Data!$W56,tabulka_panely_def,AK$1-18,FALSE))","v":0},{"$f":"IF(Data!$W56<MIN(Panely!$A$9:$A$28),VLOOKUP(Data!$W56,tabulka_kce_def,AL$1-20,FALSE),VLOOKUP(Data!$W56,tabulka_panely_def,AL$1-18,FALSE))","v":0},{"$f":"IF(Data!$W56<MIN(Panely!$A$9:$A$28),VLOOKUP(Data!$W56,tabulka_kce_def,AM$1-20,FALSE),VLOOKUP(Data!$W56,tabulka_panely_def,AM$1-18,FALSE))","v":0},56,{"$f":"IF(Data!$W56<MIN(Panely!$A$9:$A$28),VLOOKUP(Data!$W56,tabulka_kce_def,63,FALSE),0)","v":0},{"$f":"IF(Data!$W56<MIN(Panely!$A$9:$A$28),VLOOKUP(Data!$W56,tabulka_kce_def,28,FALSE),1)","v":1},{"$f":"IF(Data!$W56<MIN(Panely!$A$9:$A$28),VLOOKUP(Data!$W56,tabulka_kce_def,23,FALSE),VLOOKUP(Data!$W56,tabulka_panely_def,24,FALSE))","v":0},null,0,null,0,0,{"$error":"#N/A"},0,{"$f":"IF(AND(W56>MAX(Konstrukce!A:A),ISNUMBER(W56)),1,0)","v":0}]
[null,"=",{"$f":"IF(Data!$B57<MIN(Panely!$A$9:$A$28),VLOOKUP(Data!$B57,tabulka_kce_def,4,FALSE),VLOOKUP(Data!$B57,tabulka_panely_def,4,FALSE))","v":0},{"$f":"IF(Data!$B57<MIN(Panely!$A$9:$A$28),VLOOKUP(Data!$B57,tabulka_kce_def,23,FALSE),VLOOKUP(Data!$B57,tabulka_panely_def,24,FALSE))","v":0},{"$f":"IF(Data!$B57<MIN(Panely!$A$9:$A$28),VLOOKUP(Data!$B57,tabulka_kce_def,21,FALSE),VLOOKUP(Data!$B57,tabulka_panely_def,22,FALSE))","v":0},{"$f":"IF(Data!$B57<MIN(Panely!$A$9:$A$28),VLOOKUP(Data!$B57,tabulka_kce_def,26,FALSE),VLOOKUP(Data!$B57,tabulka_panely_def,31,FALSE))","v":{"$error":"#DIV/0!"}},{"$f":"IF(Data!$B57<MIN(Panely!$A$9:$A$28),VLOOKUP(Data!$B57,tabulka_kce_def,27,FALSE),VLOOKUP(Data!$B57,tabulka_panely_def,32,FALSE))","v":{"$error":"#DIV/0!"}},{"$f":"IF(VLOOKUP(Data!$B57,tabulka_kce_def,3,FALSE)=\"\",Konstrukce!$G$1,IF(VLOOKUP(Data!$B57,tabulka_kce_def,3,FALSE)=\"z\",Konstrukce!$G$2,VLOOKUP(Data!$B57,tabulka_kce_def,3,FALSE)))","v":{"$error":"#N/A"}},{"$f":"IF(Data!$B57<MIN(Panely!$A$9:$A$28),0,VLOOKUP(Data!$B57,tabulka_panely_def,25,FALSE))","v":0},{"$f":"IF(Data!$B57<MIN(Panely!$A$9:$A$28),VLOOKUP(Data!$B57,tabulka_kce_def,24,FALSE),VLOOKUP(Data!$B57,tabulka_panely_def,33,FALSE))","v":{"$error":"#N/A"}},{"$f":"Konstrukce!$D$1","v":18.770175404064034},{"$f":"Konstrukce!$D$2","v":19.934229593106764},{"$f":"Konstrukce!$G$1","v":-12},{"$f":"IF(Data!$B57<MIN(Panely!$A$9:$A$28),VLOOKUP(Data!$B57,tabulka_kce_def,59,FALSE),VLOOKUP(Data!$B57,tabulka_panely_def,63,FALSE))","v":""},{"$f":"IF(Data!$B57<MIN(Panely!$A$9:$A$28),VLOOKUP(Data!$B57,tabulka_kce_def,60,FALSE),VLOOKUP(Data!$B57,tabulka_panely_def,64,FALSE))","v":""},{"$f":"IF(Data!$B57<MIN(Panely!$A$9:$A$28),VLOOKUP(Data!$B57,tabulka_kce_def,61,FALSE),VLOOKUP(Data!$B57,tabulka_panely_def,65,FALSE))","v":""},{"$f":"IF(Data!$B57<MIN(Panely!$A$9:$A$28),VLOOKUP(Data!$B57,tabulka_kce_def,25,FALSE),0)","v":0},0,null,null,null,null,"=",{"$f":"IF(Data!$W57<MIN(Panely!$A$9:$A$28),VLOOKUP(Data!$W57,tabulka_kce_def,62,FALSE),VLOOKUP(Data!$W57,tabulka_panely_def,65,FALSE))","v":""},{"$f":"IF(Data!$W57<MIN(Panely!$A$9:$A$28),VLOOKUP(Data!$W57,tabulka_kce_def,Y$1-20,FALSE),VLOOKUP(Data!$W57,tabulka_panely_def,Y$1-18,FALSE))","v":0},{"$f":"IF(Data!$W57<MIN(Panely!$A$9:$A$28),VLOOKUP(Data!$W57,tabulka_kce_def,Z$1-20,FALSE),VLOOKUP(Data!$W57,tabulka_panely_def,Z$1-18,FALSE))","v":0},{"$f":"IF(Data!$W57<MIN(Panely!$A$9:$A$28),VLOOKUP(Data!$W57,tabulka_kce_def,AA$1-20,FALSE),VLOOKUP(Data!$W57,tabulka_panely_def,AA$1-18,FALSE))","v":0},{"$f":"IF(Data!$W57<MIN(Panely!$A$9:$A$28),VLOOKUP(Data!$W57,tabulka_kce_def,AB$1-20,FALSE),VLOOKUP(Data!$W57,tabulka_panely_def,AB$1-18,FALSE))","v":0},{"$f":"IF(Data!$W57<MIN(Panely!$A$9:$A$28),VLOOKUP(Data!$W57,tabulka_kce_def,AC$1-20,FALSE),VLOOKUP(Data!$W57,tabulka_panely_def,AC$1-18,FALSE))","v":0},{"$f":"IF(Data!$W57<MIN(Panely!$A$9:$A$28),VLOOKUP(Data!$W57,tabulka_kce_def,AD$1-20,FALSE),VLOOKUP(Data!$W57,tabulka_panely_def,AD$1-18,FALSE))","v":0},{"$f":"IF(Data!$W57<MIN(Panely!$A$9:$A$28),VLOOKUP(Data!$W57,tabulka_kce_def,AE$1-20,FALSE),VLOOKUP(Data!$W57,tabulka_panely_def,AE$1-18,FALSE))","v":0},{"$f":"IF(Data!$W57<MIN(Panely!$A$9:$A$28),VLOOKUP(Data!$W57,tabulka_kce_def,AF$1-20,FALSE),VLOOKUP(Data!$W57,tabulka_panely_def,AF$1-18,FALSE))","v":0},{"$f":"IF(Data!$W57<MIN(Panely!$A$9:$A$28),VLOOKUP(Data!$W57,tabulka_kce_def,AG$1-20,FALSE),VLOOKUP(Data!$W57,tabulka_panely_def,AG$1-18,FALSE))","v":0},{"$f":"IF(Data!$W57<MIN(Panely!$A$9:$A$28),VLOOKUP(Data!$W57,tabulka_kce_def,AH$1-20,FALSE),VLOOKUP(Data!$W57,tabulka_panely_def,AH$1-18,FALSE))","v":0},{"$f":"IF(Data!$W57<MIN(Panely!$A$9:$A$28),VLOOKUP(Data!$W57,tabulka_kce_def,AI$1-20,FALSE),VLOOKUP(Data!$W57,tabulka_panely_def,AI$1-18,FALSE))","v":0},{"$f":"IF(Data!$W57<MIN(Panely!$A$9:$A$28),VLOOKUP(Data!$W57,tabulka_kce_def,AJ$1-20,FALSE),VLOOKUP(Data!$W57,tabulka_panely_def,AJ$1-18,FALSE))","v":0},{"$f":"IF(Data!$W57<MIN(Panely!$A$9:$A$28),VLOOKUP(Data!$W57,tabulka_kce_def,AK$1-20,FALSE),VLOOKUP(Data!$W57,tabulka_panely_def,AK$1-18,FALSE))","v":0},{"$f":"IF(Data!$W57<MIN(Panely!$A$9:$A$28),VLOOKUP(Data!$W57,tabulka_kce_def,AL$1-20,FALSE),VLOOKUP(Data!$W57,tabulka_panely_def,AL$1-18,FALSE))","v":0},{"$f":"IF(Data!$W57<MIN(Panely!$A$9:$A$28),VLOOKUP(Data!$W57,tabulka_kce_def,AM$1-20,FALSE),VLOOKUP(Data!$W57,tabulka_panely_def,AM$1-18,FALSE))","v":0},57,{"$f":"IF(Data!$W57<MIN(Panely!$A$9:$A$28),VLOOKUP(Data!$W57,tabulka_kce_def,63,FALSE),0)","v":0},{"$f":"IF(Data!$W57<MIN(Panely!$A$9:$A$28),VLOOKUP(Data!$W57,tabulka_kce_def,28,FALSE),1)","v":1},{"$f":"IF(Data!$W57<MIN(Panely!$A$9:$A$28),VLOOKUP(Data!$W57,tabulka_kce_def,23,FALSE),VLOOKUP(Data!$W57,tabulka_panely_def,24,FALSE))","v":0},null,0,null,0,0,{"$error":"#N/A"},0,{"$f":"IF(AND(W57>MAX(Konstrukce!A:A),ISNUMBER(W57)),1,0)","v":0}]
[null,"=",{"$f":"IF(Data!$B58<MIN(Panely!$A$9:$A$28),VLOOKUP(Data!$B58,tabulka_kce_def,4,FALSE),VLOOKUP(Data!$B58,tabulka_panely_def,4,FALSE))","v":0},{"$f":"IF(Data!$B58<MIN(Panely!$A$9:$A$28),VLOOKUP(Data!$B58,tabulka_kce_def,23,FALSE),VLOOKUP(Data!$B58,tabulka_panely_def,24,FALSE))","v":0},{"$f":"IF(Data!$B58<MIN(Panely!$A$9:$A$28),VLOOKUP(Data!$B58,tabulka_kce_def,21,FALSE),VLOOKUP(Data!$B58,tabulka_panely_def,22,FALSE))","v":0},{"$f":"IF(Data!$B58<MIN(Panely!$A$9:$A$28),VLOOKUP(Data!$B58,tabulka_kce_def,26,FALSE),VLOOKUP(Data!$B58,tabulka_panely_def,31,FALSE))","v":{"$error":"#DIV/0!"}},{"$f":"IF(Data!$B58<MIN(Panely!$A$9:$A$28),VLOOKUP(Data!$B58,tabulka_kce_def,27,FALSE),VLOOKUP(Data!$B58,tabulka_panely_def,32,FALSE))","v":{"$error":"#DIV/0!"}},{"$f":"IF(VLOOKUP(Data!$B58,tabulka_kce_def,3,FALSE)=\"\",Konstrukce!$G$1,IF(VLOOKUP(Data!$B58,tabulka_kce_def,3,FALSE)=\"z\",Konstrukce!$G$2,VLOOKUP(Data!$B58,tabulka_kce_def,3,FALSE)))","v":{"$error":"#N/A"}},{"$f":"IF(Data!$B58<MIN(Panely!$A$9:$A$28),0,VLOOKUP(Data!$B58,tabulka_panely_def,25,FALSE))","v":0},{"$f":"IF(Data!$B58<MIN(Panely!$A$9:$A$28),VLOOKUP(Data!$B58,tabulka_kce_def,24,FALSE),VLOOKUP(Data!$B58,tabulka_panely_def,33,FALSE))","v":{"$error":"#N/A"}},{"$f":"Konstrukce!$D$1","v":18.770175404064034},{"$f":"Konstrukce!$D$2","v":19.934229593106764},{"$f":"Konstrukce!$G$1","v":-12},{"$f":"IF(Data!$B58<MIN(Panely!$A$9:$A$28),VLOOKUP(Data!$B58,tabulka_kce_def,59,FALSE),VLOOKUP(Data!$B58,tabulka_panely_def,63,FALSE))","v":""},{"$f":"IF(Data!$B58<MIN(Panely!$A$9:$A$28),VLOOKUP(Data!$B58,tabulka_kce_def,60,FALSE),VLOOKUP(Data!$B58,tabulka_panely_def,64,FALSE))","v":""},{"$f":"IF(Data!$B58<MIN(Panely!$A$9:$A$28),VLOOKUP(Data!$B58,tabulka_kce_def,61,FALSE),VLOOKUP(Data!$B58,tabulka_panely_def,65,FALSE))","v":""},{"$f":"IF(Data!$B58<MIN(Panely!$A$9:$A$28),VLOOKUP(Data!$B58,tabulka_kce_def,25,FALSE),0)","v":0},0,null,null,null,null,"=",{"$f":"IF(Data!$W58<MIN(Panely!$A$9:$A$28),VLOOKUP(Data!$W58,tabulka_kce_def,62,FALSE),VLOOKUP(Data!$W58,tabulka_panely_def,65,FALSE))","v":""},{"$f":"IF(Data!$W58<MIN(Panely!$A$9:$A$28),VLOOKUP(Data!$W58,tabulka_kce_def,Y$1-20,FALSE),VLOOKUP(Data!$W58,tabulka_panely_def,Y$1-18,FALSE))","v":0},{"$f":"IF(Data!$W58<MIN(Panely!$A$9:$A$28),VLOOKUP(Data!$W58,tabulka_kce_def,Z$1-20,FALSE),VLOOKUP(Data!$W58,tabulka_panely_def,Z$1-18,FALSE))","v":0},{"$f":"IF(Data!$W58<MIN(Panely!$A$9:$A$28),VLOOKUP(Data!$W58,tabulka_kce_def,AA$1-20,FALSE),VLOOKUP(Data!$W58,tabulka_panely_def,AA$1-18,FALSE))","v":0},{"$f":"IF(Data!$W58<MIN(Panely!$A$9:$A$28),VLOOKUP(Data!$W58,tabulka_kce_def,AB$1-20,FALSE),VLOOKUP(Data!$W58,tabulka_panely_def,AB$1-18,FALSE))","v":0},{"$f":"IF(Data!$W58<MIN(Panely!$A$9:$A$28),VLOOKUP(Data!$W58,tabulka_kce_def,AC$1-20,FALSE),VLOOKUP(Data!$W58,tabulka_panely_def,AC$1-18,FALSE))","v":0},{"$f":"IF(Data!$W58<MIN(Panely!$A$9:$A$28),VLOOKUP(Data!$W58,tabulka_kce_def,AD$1-20,FALSE),VLOOKUP(Data!$W58,tabulka_panely_def,AD$1-18,FALSE))","v":0},{"$f":"IF(Data!$W58<MIN(Panely!$A$9:$A$28),VLOOKUP(Data!$W58,tabulka_kce_def,AE$1-20,FALSE),VLOOKUP(Data!$W58,tabulka_panely_def,AE$1-18,FALSE))","v":0},{"$f":"IF(Data!$W58<MIN(Panely!$A$9:$A$28),VLOOKUP(Data!$W58,tabulka_kce_def,AF$1-20,FALSE),VLOOKUP(Data!$W58,tabulka_panely_def,AF$1-18,FALSE))","v":0},{"$f":"IF(Data!$W58<MIN(Panely!$A$9:$A$28),VLOOKUP(Data!$W58,tabulka_kce_def,AG$1-20,FALSE),VLOOKUP(Data!$W58,tabulka_panely_def,AG$1-18,FALSE))","v":0},{"$f":"IF(Data!$W58<MIN(Panely!$A$9:$A$28),VLOOKUP(Data!$W58,tabulka_kce_def,AH$1-20,FALSE),VLOOKUP(Data!$W58,tabulka_panely_def,AH$1-18,FALSE))","v":0},{"$f":"IF(Data!$W58<MIN(Panely!$A$9:$A$28),VLOOKUP(Data!$W58,tabulka_kce_def,AI$1-20,FALSE),VLOOKUP(Data!$W58,tabulka_panely_def,AI$1-18,FALSE))","v":0},{"$f":"IF(Data!$W58<MIN(Panely!$A$9:$A$28),VLOOKUP(Data!$W58,tabulka_kce_def,AJ$1-20,FALSE),VLOOKUP(Data!$W58,tabulka_panely_def,AJ$1-18,FALSE))","v":0},{"$f":"IF(Data!$W58<MIN(Panely!$A$9:$A$28),VLOOKUP(Data!$W58,tabulka_kce_def,AK$1-20,FALSE),VLOOKUP(Data!$W58,tabulka_panely_def,AK$1-18,FALSE))","v":0},{"$f":"IF(Data!$W58<MIN(Panely!$A$9:$A$28),VLOOKUP(Data!$W58,tabulka_kce_def,AL$1-20,FALSE),VLOOKUP(Data!$W58,tabulka_panely_def,AL$1-18,FALSE))","v":0},{"$f":"IF(Data!$W58<MIN(Panely!$A$9:$A$28),VLOOKUP(Data!$W58,tabulka_kce_def,AM$1-20,FALSE),VLOOKUP(Data!$W58,tabulka_panely_def,AM$1-18,FALSE))","v":0},58,{"$f":"IF(Data!$W58<MIN(Panely!$A$9:$A$28),VLOOKUP(Data!$W58,tabulka_kce_def,63,FALSE),0)","v":0},{"$f":"IF(Data!$W58<MIN(Panely!$A$9:$A$28),VLOOKUP(Data!$W58,tabulka_kce_def,28,FALSE),1)","v":1},{"$f":"IF(Data!$W58<MIN(Panely!$A$9:$A$28),VLOOKUP(Data!$W58,tabulka_kce_def,23,FALSE),VLOOKUP(Data!$W58,tabulka_panely_def,24,FALSE))","v":0},null,0,null,0,0,{"$error":"#N/A"},0,{"$f":"IF(AND(W58>MAX(Konstrukce!A:A),ISNUMBER(W58)),1,0)","v":0}]
[null,"=",{"$f":"IF(Data!$B59<MIN(Panely!$A$9:$A$28),VLOOKUP(Data!$B59,tabulka_kce_def,4,FALSE),VLOOKUP(Data!$B59,tabulka_panely_def,4,FALSE))","v":0},{"$f":"IF(Data!$B59<MIN(Panely!$A$9:$A$28),VLOOKUP(Data!$B59,tabulka_kce_def,23,FALSE),VLOOKUP(Data!$B59,tabulka_panely_def,24,FALSE))","v":0},{"$f":"IF(Data!$B59<MIN(Panely!$A$9:$A$28),VLOOKUP(Data!$B59,tabulka_kce_def,21,FALSE),VLOOKUP(Data!$B59,tabulka_panely_def,22,FALSE))","v":0},{"$f":"IF(Data!$B59<MIN(Panely!$A$9:$A$28),VLOOKUP(Data!$B59,tabulka_kce_def,26,FALSE),VLOOKUP(Data!$B59,tabulka_panely_def,31,FALSE))","v":{"$error":"#DIV/0!"}},{"$f":"IF(Data!$B59<MIN(Panely!$A$9:$A$28),VLOOKUP(Data!$B59,tabulka_kce_def,27,FALSE),VLOOKUP(Data!$B59,tabulka_panely_def,32,FALSE))","v":{"$error":"#DIV/0!"}},{"$f":"IF(VLOOKUP(Data!$B59,tabulka_kce_def,3,FALSE)=\"\",Konstrukce!$G$1,IF(VLOOKUP(Data!$B59,tabulka_kce_def,3,FALSE)=\"z\",Konstrukce!$G$2,VLOOKUP(Data!$B59,tabulka_kce_def,3,FALSE)))","v":{"$error":"#N/A"}},{"$f":"IF(Data!$B59<MIN(Panely!$A$9:$A$28),0,VLOOKUP(Data!$B59,tabulka_panely_def,25,FALSE))","v":0},{"$f":"IF(Data!$B59<MIN(Panely!$A$9:$A$28),VLOOKUP(Data!$B59,tabulka_kce_def,24,FALSE),VLOOKUP(Data!$B59,tabulka_panely_def,33,FALSE))","v":{"$error":"#N/A"}},{"$f":"Konstrukce!$D$1","v":18.770175404064034},{"$f":"Konstrukce!$D$2","v":19.934229593106764},{"$f":"Konstrukce!$G$1","v":-12},{"$f":"IF(Data!$B59<MIN(Panely!$A$9:$A$28),VLOOKUP(Data!$B59,tabulka_kce_def,59,FALSE),VLOOKUP(Data!$B59,tabulka_panely_def,63,FALSE))","v":""},{"$f":"IF(Data!$B59<MIN(Panely!$A$9:$A$28),VLOOKUP(Data!$B59,tabulka_kce_def,60,FALSE),VLOOKUP(Data!$B59,tabulka_panely_def,64,FALSE))","v":""},{"$f":"IF(Data!$B59<MIN(Panely!$A$9:$A$28),VLOOKUP(Data!$B59,tabulka_kce_def,61,FALSE),VLOOKUP(Data!$B59,tabulka_panely_def,65,FALSE))","v":""},{"$f":"IF(Data!$B59<MIN(Panely!$A$9:$A$28),VLOOKUP(Data!$B59,tabulka_kce_def,25,FALSE),0)","v":0},0,null,null,null,null,"=",{"$f":"IF(Data!$W59<MIN(Panely!$A$9:$A$28),VLOOKUP(Data!$W59,tabulka_kce_def,62,FALSE),VLOOKUP(Data!$W59,tabulka_panely_def,65,FALSE))","v":""},{"$f":"IF(Data!$W59<MIN(Panely!$A$9:$A$28),VLOOKUP(Data!$W59,tabulka_kce_def,Y$1-20,FALSE),VLOOKUP(Data!$W59,tabulka_panely_def,Y$1-18,FALSE))","v":0},{"$f":"IF(Data!$W59<MIN(Panely!$A$9:$A$28),VLOOKUP(Data!$W59,tabulka_kce_def,Z$1-20,FALSE),VLOOKUP(Data!$W59,tabulka_panely_def,Z$1-18,FALSE))","v":0},{"$f":"IF(Data!$W59<MIN(Panely!$A$9:$A$28),VLOOKUP(Data!$W59,tabulka_kce_def,AA$1-20,FALSE),VLOOKUP(Data!$W59,tabulka_panely_def,AA$1-18,FALSE))","v":0},{"$f":"IF(Data!$W59<MIN(Panely!$A$9:$A$28),VLOOKUP(Data!$W59,tabulka_kce_def,AB$1-20,FALSE),VLOOKUP(Data!$W59,tabulka_panely_def,AB$1-18,FALSE))","v":0},{"$f":"IF(Data!$W59<MIN(Panely!$A$9:$A$28),VLOOKUP(Data!$W59,tabulka_kce_def,AC$1-20,FALSE),VLOOKUP(Data!$W59,tabulka_panely_def,AC$1-18,FALSE))","v":0},{"$f":"IF(Data!$W59<MIN(Panely!$A$9:$A$28),VLOOKUP(Data!$W59,tabulka_kce_def,AD$1-20,FALSE),VLOOKUP(Data!$W59,tabulka_panely_def,AD$1-18,FALSE))","v":0},{"$f":"IF(Data!$W59<MIN(Panely!$A$9:$A$28),VLOOKUP(Data!$W59,tabulka_kce_def,AE$1-20,FALSE),VLOOKUP(Data!$W59,tabulka_panely_def,AE$1-18,FALSE))","v":0},{"$f":"IF(Data!$W59<MIN(Panely!$A$9:$A$28),VLOOKUP(Data!$W59,tabulka_kce_def,AF$1-20,FALSE),VLOOKUP(Data!$W59,tabulka_panely_def,AF$1-18,FALSE))","v":0},{"$f":"IF(Data!$W59<MIN(Panely!$A$9:$A$28),VLOOKUP(Data!$W59,tabulka_kce_def,AG$1-20,FALSE),VLOOKUP(Data!$W59,tabulka_panely_def,AG$1-18,FALSE))","v":0},{"$f":"IF(Data!$W59<MIN(Panely!$A$9:$A$28),VLOOKUP(Data!$W59,tabulka_kce_def,AH$1-20,FALSE),VLOOKUP(Data!$W59,tabulka_panely_def,AH$1-18,FALSE))","v":0},{"$f":"IF(Data!$W59<MIN(Panely!$A$9:$A$28),VLOOKUP(Data!$W59,tabulka_kce_def,AI$1-20,FALSE),VLOOKUP(Data!$W59,tabulka_panely_def,AI$1-18,FALSE))","v":0},{"$f":"IF(Data!$W59<MIN(Panely!$A$9:$A$28),VLOOKUP(Data!$W59,tabulka_kce_def,AJ$1-20,FALSE),VLOOKUP(Data!$W59,tabulka_panely_def,AJ$1-18,FALSE))","v":0},{"$f":"IF(Data!$W59<MIN(Panely!$A$9:$A$28),VLOOKUP(Data!$W59,tabulka_kce_def,AK$1-20,FALSE),VLOOKUP(Data!$W59,tabulka_panely_def,AK$1-18,FALSE))","v":0},{"$f":"IF(Data!$W59<MIN(Panely!$A$9:$A$28),VLOOKUP(Data!$W59,tabulka_kce_def,AL$1-20,FALSE),VLOOKUP(Data!$W59,tabulka_panely_def,AL$1-18,FALSE))","v":0},{"$f":"IF(Data!$W59<MIN(Panely!$A$9:$A$28),VLOOKUP(Data!$W59,tabulka_kce_def,AM$1-20,FALSE),VLOOKUP(Data!$W59,tabulka_panely_def,AM$1-18,FALSE))","v":0},59,{"$f":"IF(Data!$W59<MIN(Panely!$A$9:$A$28),VLOOKUP(Data!$W59,tabulka_kce_def,63,FALSE),0)","v":0},{"$f":"IF(Data!$W59<MIN(Panely!$A$9:$A$28),VLOOKUP(Data!$W59,tabulka_kce_def,28,FALSE),1)","v":1},{"$f":"IF(Data!$W59<MIN(Panely!$A$9:$A$28),VLOOKUP(Data!$W59,tabulka_kce_def,23,FALSE),VLOOKUP(Data!$W59,tabulka_panely_def,24,FALSE))","v":0},null,0,null,0,0,{"$error":"#N/A"},0,{"$f":"IF(AND(W59>MAX(Konstrukce!A:A),ISNUMBER(W59)),1,0)","v":0}]
[null,"=",{"$f":"IF(Data!$B60<MIN(Panely!$A$9:$A$28),VLOOKUP(Data!$B60,tabulka_kce_def,4,FALSE),VLOOKUP(Data!$B60,tabulka_panely_def,4,FALSE))","v":0},{"$f":"IF(Data!$B60<MIN(Panely!$A$9:$A$28),VLOOKUP(Data!$B60,tabulka_kce_def,23,FALSE),VLOOKUP(Data!$B60,tabulka_panely_def,24,FALSE))","v":0},{"$f":"IF(Data!$B60<MIN(Panely!$A$9:$A$28),VLOOKUP(Data!$B60,tabulka_kce_def,21,FALSE),VLOOKUP(Data!$B60,tabulka_panely_def,22,FALSE))","v":0},{"$f":"IF(Data!$B60<MIN(Panely!$A$9:$A$28),VLOOKUP(Data!$B60,tabulka_kce_def,26,FALSE),VLOOKUP(Data!$B60,tabulka_panely_def,31,FALSE))","v":{"$error":"#DIV/0!"}},{"$f":"IF(Data!$B60<MIN(Panely!$A$9:$A$28),VLOOKUP(Data!$B60,tabulka_kce_def,27,FALSE),VLOOKUP(Data!$B60,tabulka_panely_def,32,FALSE))","v":{"$error":"#DIV/0!"}},{"$f":"IF(VLOOKUP(Data!$B60,tabulka_kce_def,3,FALSE)=\"\",Konstrukce!$G$1,IF(VLOOKUP(Data!$B60,tabulka_kce_def,3,FALSE)=\"z\",Konstrukce!$G$2,VLOOKUP(Data!$B60,tabulka_kce_def,3,FALSE)))","v":{"$error":"#N/A"}},{"$f":"IF(Data!$B60<MIN(Panely!$A$9:$A$28),0,VLOOKUP(Data!$B60,tabulka_panely_def,25,FALSE))","v":0},{"$f":"IF(Data!$B60<MIN(Panely!$A$9:$A$28),VLOOKUP(Data!$B60,tabulka_kce_def,24,FALSE),VLOOKUP(Data!$B60,tabulka_panely_def,33,FALSE))","v":{"$error":"#N/A"}},{"$f":"Konstrukce!$D$1","v":18.770175404064034},{"$f":"Konstrukce!$D$2","v":19.934229593106764},{"$f":"Konstrukce!$G$1","v":-12},{"$f":"IF(Data!$B60<MIN(Panely!$A$9:$A$28),VLOOKUP(Data!$B60,tabulka_kce_def,59,FALSE),VLOOKUP(Data!$B60,tabulka_panely_def,63,FALSE))","v":""},{"$f":"IF(Data!$B60<MIN(Panely!$A$9:$A$28),VLOOKUP(Data!$B60,tabulka_kce_def,60,FALSE),VLOOKUP(Data!$B60,tabulka_panely_def,64,FALSE))","v":""},{"$f":"IF(Data!$B60<MIN(Panely!$A$9:$A$28),VLOOKUP(Data!$B60,tabulka_kce_def,61,FALSE),VLOOKUP(Data!$B60,tabulka_panely_def,65,FALSE))","v":""},{"$f":"IF(Data!$B60<MIN(Panely!$A$9:$A$28),VLOOKUP(Data!$B60,tabulka_kce_def,25,FALSE),0)","v":0},0,null,null,null,null,"=",{"$f":"IF(Data!$W60<MIN(Panely!$A$9:$A$28),VLOOKUP(Data!$W60,tabulka_kce_def,62,FALSE),VLOOKUP(Data!$W60,tabulka_panely_def,65,FALSE))","v":""},{"$f":"IF(Data!$W60<MIN(Panely!$A$9:$A$28),VLOOKUP(Data!$W60,tabulka_kce_def,Y$1-20,FALSE),VLOOKUP(Data!$W60,tabulka_panely_def,Y$1-18,FALSE))","v":0},{"$f":"IF(Data!$W60<MIN(Panely!$A$9:$A$28),VLOOKUP(Data!$W60,tabulka_kce_def,Z$1-20,FALSE),VLOOKUP(Data!$W60,tabulka_panely_def,Z$1-18,FALSE))","v":0},{"$f":"IF(Data!$W60<MIN(Panely!$A$9:$A$28),VLOOKUP(Data!$W60,tabulka_kce_def,AA$1-20,FALSE),VLOOKUP(Data!$W60,tabulka_panely_def,AA$1-18,FALSE))","v":0},{"$f":"IF(Data!$W60<MIN(Panely!$A$9:$A$28),VLOOKUP(Data!$W60,tabulka_kce_def,AB$1-20,FALSE),VLOOKUP(Data!$W60,tabulka_panely_def,AB$1-18,FALSE))","v":0},{"$f":"IF(Data!$W60<MIN(Panely!$A$9:$A$28),VLOOKUP(Data!$W60,tabulka_kce_def,AC$1-20,FALSE),VLOOKUP(Data!$W60,tabulka_panely_def,AC$1-18,FALSE))","v":0},{"$f":"IF(Data!$W60<MIN(Panely!$A$9:$A$28),VLOOKUP(Data!$W60,tabulka_kce_def,AD$1-20,FALSE),VLOOKUP(Data!$W60,tabulka_panely_def,AD$1-18,FALSE))","v":0},{"$f":"IF(Data!$W60<MIN(Panely!$A$9:$A$28),VLOOKUP(Data!$W60,tabulka_kce_def,AE$1-20,FALSE),VLOOKUP(Data!$W60,tabulka_panely_def,AE$1-18,FALSE))","v":0},{"$f":"IF(Data!$W60<MIN(Panely!$A$9:$A$28),VLOOKUP(Data!$W60,tabulka_kce_def,AF$1-20,FALSE),VLOOKUP(Data!$W60,tabulka_panely_def,AF$1-18,FALSE))","v":0},{"$f":"IF(Data!$W60<MIN(Panely!$A$9:$A$28),VLOOKUP(Data!$W60,tabulka_kce_def,AG$1-20,FALSE),VLOOKUP(Data!$W60,tabulka_panely_def,AG$1-18,FALSE))","v":0},{"$f":"IF(Data!$W60<MIN(Panely!$A$9:$A$28),VLOOKUP(Data!$W60,tabulka_kce_def,AH$1-20,FALSE),VLOOKUP(Data!$W60,tabulka_panely_def,AH$1-18,FALSE))","v":0},{"$f":"IF(Data!$W60<MIN(Panely!$A$9:$A$28),VLOOKUP(Data!$W60,tabulka_kce_def,AI$1-20,FALSE),VLOOKUP(Data!$W60,tabulka_panely_def,AI$1-18,FALSE))","v":0},{"$f":"IF(Data!$W60<MIN(Panely!$A$9:$A$28),VLOOKUP(Data!$W60,tabulka_kce_def,AJ$1-20,FALSE),VLOOKUP(Data!$W60,tabulka_panely_def,AJ$1-18,FALSE))","v":0},{"$f":"IF(Data!$W60<MIN(Panely!$A$9:$A$28),VLOOKUP(Data!$W60,tabulka_kce_def,AK$1-20,FALSE),VLOOKUP(Data!$W60,tabulka_panely_def,AK$1-18,FALSE))","v":0},{"$f":"IF(Data!$W60<MIN(Panely!$A$9:$A$28),VLOOKUP(Data!$W60,tabulka_kce_def,AL$1-20,FALSE),VLOOKUP(Data!$W60,tabulka_panely_def,AL$1-18,FALSE))","v":0},{"$f":"IF(Data!$W60<MIN(Panely!$A$9:$A$28),VLOOKUP(Data!$W60,tabulka_kce_def,AM$1-20,FALSE),VLOOKUP(Data!$W60,tabulka_panely_def,AM$1-18,FALSE))","v":0},60,{"$f":"IF(Data!$W60<MIN(Panely!$A$9:$A$28),VLOOKUP(Data!$W60,tabulka_kce_def,63,FALSE),0)","v":0},{"$f":"IF(Data!$W60<MIN(Panely!$A$9:$A$28),VLOOKUP(Data!$W60,tabulka_kce_def,28,FALSE),1)","v":1},{"$f":"IF(Data!$W60<MIN(Panely!$A$9:$A$28),VLOOKUP(Data!$W60,tabulka_kce_def,23,FALSE),VLOOKUP(Data!$W60,tabulka_panely_def,24,FALSE))","v":0},null,0,null,0,0,{"$error":"#N/A"},0,{"$f":"IF(AND(W60>MAX(Konstrukce!A:A),ISNUMBER(W60)),1,0)","v":0}]
[null,"=",{"$f":"IF(Data!$B61<MIN(Panely!$A$9:$A$28),VLOOKUP(Data!$B61,tabulka_kce_def,4,FALSE),VLOOKUP(Data!$B61,tabulka_panely_def,4,FALSE))","v":0},{"$f":"IF(Data!$B61<MIN(Panely!$A$9:$A$28),VLOOKUP(Data!$B61,tabulka_kce_def,23,FALSE),VLOOKUP(Data!$B61,tabulka_panely_def,24,FALSE))","v":0},{"$f":"IF(Data!$B61<MIN(Panely!$A$9:$A$28),VLOOKUP(Data!$B61,tabulka_kce_def,21,FALSE),VLOOKUP(Data!$B61,tabulka_panely_def,22,FALSE))","v":0},{"$f":"IF(Data!$B61<MIN(Panely!$A$9:$A$28),VLOOKUP(Data!$B61,tabulka_kce_def,26,FALSE),VLOOKUP(Data!$B61,tabulka_panely_def,31,FALSE))","v":{"$error":"#DIV/0!"}},{"$f":"IF(Data!$B61<MIN(Panely!$A$9:$A$28),VLOOKUP(Data!$B61,tabulka_kce_def,27,FALSE),VLOOKUP(Data!$B61,tabulka_panely_def,32,FALSE))","v":{"$error":"#DIV/0!"}},{"$f":"IF(VLOOKUP(Data!$B61,tabulka_kce_def,3,FALSE)=\"\",Konstrukce!$G$1,IF(VLOOKUP(Data!$B61,tabulka_kce_def,3,FALSE)=\"z\",Konstrukce!$G$2,VLOOKUP(Data!$B61,tabulka_kce_def,3,FALSE)))","v":{"$error":"#N/A"}},{"$f":"IF(Data!$B61<MIN(Panely!$A$9:$A$28),0,VLOOKUP(Data!$B61,tabulka_panely_def,25,FALSE))","v":0},{"$f":"IF(Data!$B61<MIN(Panely!$A$9:$A$28),VLOOKUP(Data!$B61,tabulka_kce_def,24,FALSE),VLOOKUP(Data!$B61,tabulka_panely_def,33,FALSE))","v":{"$error":"#N/A"}},{"$f":"Konstrukce!$D$1","v":18.770175404064034},{"$f":"Konstrukce!$D$2","v":19.934229593106764},{"$f":"Konstrukce!$G$1","v":-12},{"$f":"IF(Data!$B61<MIN(Panely!$A$9:$A$28),VLOOKUP(Data!$B61,tabulka_kce_def,59,FALSE),VLOOKUP(Data!$B61,tabulka_panely_def,63,FALSE))","v":""},{"$f":"IF(Data!$B61<MIN(Panely!$A$9:$A$28),VLOOKUP(Data!$B61,tabulka_kce_def,60,FALSE),VLOOKUP(Data!$B61,tabulka_panely_def,64,FALSE))","v":""},{"$f":"IF(Data!$B61<MIN(Panely!$A$9:$A$28),VLOOKUP(Data!$B61,tabulka_kce_def,61,FALSE),VLOOKUP(Data!$B61,tabulka_panely_def,65,FALSE))","v":""},{"$f":"IF(Data!$B61<MIN(Panely!$A$9:$A$28),VLOOKUP(Data!$B61,tabulka_kce_def,25,FALSE),0)","v":0},0,null,null,null,null,"=",{"$f":"IF(Data!$W61<MIN(Panely!$A$9:$A$28),VLOOKUP(Data!$W61,tabulka_kce_def,62,FALSE),VLOOKUP(Data!$W61,tabulka_panely_def,65,FALSE))","v":""},{"$f":"IF(Data!$W61<MIN(Panely!$A$9:$A$28),VLOOKUP(Data!$W61,tabulka_kce_def,Y$1-20,FALSE),VLOOKUP(Data!$W61,tabulka_panely_def,Y$1-18,FALSE))","v":0},{"$f":"IF(Data!$W61<MIN(Panely!$A$9:$A$28),VLOOKUP(Data!$W61,tabulka_kce_def,Z$1-20,FALSE),VLOOKUP(Data!$W61,tabulka_panely_def,Z$1-18,FALSE))","v":0},{"$f":"IF(Data!$W61<MIN(Panely!$A$9:$A$28),VLOOKUP(Data!$W61,tabulka_kce_def,AA$1-20,FALSE),VLOOKUP(Data!$W61,tabulka_panely_def,AA$1-18,FALSE))","v":0},{"$f":"IF(Data!$W61<MIN(Panely!$A$9:$A$28),VLOOKUP(Data!$W61,tabulka_kce_def,AB$1-20,FALSE),VLOOKUP(Data!$W61,tabulka_panely_def,AB$1-18,FALSE))","v":0},{"$f":"IF(Data!$W61<MIN(Panely!$A$9:$A$28),VLOOKUP(Data!$W61,tabulka_kce_def,AC$1-20,FALSE),VLOOKUP(Data!$W61,tabulka_panely_def,AC$1-18,FALSE))","v":0},{"$f":"IF(Data!$W61<MIN(Panely!$A$9:$A$28),VLOOKUP(Data!$W61,tabulka_kce_def,AD$1-20,FALSE),VLOOKUP(Data!$W61,tabulka_panely_def,AD$1-18,FALSE))","v":0},{"$f":"IF(Data!$W61<MIN(Panely!$A$9:$A$28),VLOOKUP(Data!$W61,tabulka_kce_def,AE$1-20,FALSE),VLOOKUP(Data!$W61,tabulka_panely_def,AE$1-18,FALSE))","v":0},{"$f":"IF(Data!$W61<MIN(Panely!$A$9:$A$28),VLOOKUP(Data!$W61,tabulka_kce_def,AF$1-20,FALSE),VLOOKUP(Data!$W61,tabulka_panely_def,AF$1-18,FALSE))","v":0},{"$f":"IF(Data!$W61<MIN(Panely!$A$9:$A$28),VLOOKUP(Data!$W61,tabulka_kce_def,AG$1-20,FALSE),VLOOKUP(Data!$W61,tabulka_panely_def,AG$1-18,FALSE))","v":0},{"$f":"IF(Data!$W61<MIN(Panely!$A$9:$A$28),VLOOKUP(Data!$W61,tabulka_kce_def,AH$1-20,FALSE),VLOOKUP(Data!$W61,tabulka_panely_def,AH$1-18,FALSE))","v":0},{"$f":"IF(Data!$W61<MIN(Panely!$A$9:$A$28),VLOOKUP(Data!$W61,tabulka_kce_def,AI$1-20,FALSE),VLOOKUP(Data!$W61,tabulka_panely_def,AI$1-18,FALSE))","v":0},{"$f":"IF(Data!$W61<MIN(Panely!$A$9:$A$28),VLOOKUP(Data!$W61,tabulka_kce_def,AJ$1-20,FALSE),VLOOKUP(Data!$W61,tabulka_panely_def,AJ$1-18,FALSE))","v":0},{"$f":"IF(Data!$W61<MIN(Panely!$A$9:$A$28),VLOOKUP(Data!$W61,tabulka_kce_def,AK$1-20,FALSE),VLOOKUP(Data!$W61,tabulka_panely_def,AK$1-18,FALSE))","v":0},{"$f":"IF(Data!$W61<MIN(Panely!$A$9:$A$28),VLOOKUP(Data!$W61,tabulka_kce_def,AL$1-20,FALSE),VLOOKUP(Data!$W61,tabulka_panely_def,AL$1-18,FALSE))","v":0},{"$f":"IF(Data!$W61<MIN(Panely!$A$9:$A$28),VLOOKUP(Data!$W61,tabulka_kce_def,AM$1-20,FALSE),VLOOKUP(Data!$W61,tabulka_panely_def,AM$1-18,FALSE))","v":0},61,{"$f":"IF(Data!$W61<MIN(Panely!$A$9:$A$28),VLOOKUP(Data!$W61,tabulka_kce_def,63,FALSE),0)","v":0},{"$f":"IF(Data!$W61<MIN(Panely!$A$9:$A$28),VLOOKUP(Data!$W61,tabulka_kce_def,28,FALSE),1)","v":1},{"$f":"IF(Data!$W61<MIN(Panely!$A$9:$A$28),VLOOKUP(Data!$W61,tabulka_kce_def,23,FALSE),VLOOKUP(Data!$W61,tabulka_panely_def,24,FALSE))","v":0},null,0,null,0,0,{"$error":"#N/A"},0,{"$f":"IF(AND(W61>MAX(Konstrukce!A:A),ISNUMBER(W61)),1,0)","v":0}]
[null,"=",{"$f":"IF(Data!$B62<MIN(Panely!$A$9:$A$28),VLOOKUP(Data!$B62,tabulka_kce_def,4,FALSE),VLOOKUP(Data!$B62,tabulka_panely_def,4,FALSE))","v":0},{"$f":"IF(Data!$B62<MIN(Panely!$A$9:$A$28),VLOOKUP(Data!$B62,tabulka_kce_def,23,FALSE),VLOOKUP(Data!$B62,tabulka_panely_def,24,FALSE))","v":0},{"$f":"IF(Data!$B62<MIN(Panely!$A$9:$A$28),VLOOKUP(Data!$B62,tabulka_kce_def,21,FALSE),VLOOKUP(Data!$B62,tabulka_panely_def,22,FALSE))","v":0},{"$f":"IF(Data!$B62<MIN(Panely!$A$9:$A$28),VLOOKUP(Data!$B62,tabulka_kce_def,26,FALSE),VLOOKUP(Data!$B62,tabulka_panely_def,31,FALSE))","v":{"$error":"#DIV/0!"}},{"$f":"IF(Data!$B62<MIN(Panely!$A$9:$A$28),VLOOKUP(Data!$B62,tabulka_kce_def,27,FALSE),VLOOKUP(Data!$B62,tabulka_panely_def,32,FALSE))","v":{"$error":"#DIV/0!"}},{"$f":"IF(VLOOKUP(Data!$B62,tabulka_kce_def,3,FALSE)=\"\",Konstrukce!$G$1,IF(VLOOKUP(Data!$B62,tabulka_kce_def,3,FALSE)=\"z\",Konstrukce!$G$2,VLOOKUP(Data!$B62,tabulka_kce_def,3,FALSE)))","v":{"$error":"#N/A"}},{"$f":"IF(Data!$B62<MIN(Panely!$A$9:$A$28),0,VLOOKUP(Data!$B62,tabulka_panely_def,25,FALSE))","v":0},{"$f":"IF(Data!$B62<MIN(Panely!$A$9:$A$28),VLOOKUP(Data!$B62,tabulka_kce_def,24,FALSE),VLOOKUP(Data!$B62,tabulka_panely_def,33,FALSE))","v":{"$error":"#N/A"}},{"$f":"Konstrukce!$D$1","v":18.770175404064034},{"$f":"Konstrukce!$D$2","v":19.934229593106764},{"$f":"Konstrukce!$G$1","v":-12},{"$f":"IF(Data!$B62<MIN(Panely!$A$9:$A$28),VLOOKUP(Data!$B62,tabulka_kce_def,59,FALSE),VLOOKUP(Data!$B62,tabulka_panely_def,63,FALSE))","v":""},{"$f":"IF(Data!$B62<MIN(Panely!$A$9:$A$28),VLOOKUP(Data!$B62,tabulka_kce_def,60,FALSE),VLOOKUP(Data!$B62,tabulka_panely_def,64,FALSE))","v":""},{"$f":"IF(Data!$B62<MIN(Panely!$A$9:$A$28),VLOOKUP(Data!$B62,tabulka_kce_def,61,FALSE),VLOOKUP(Data!$B62,tabulka_panely_def,65,FALSE))","v":""},{"$f":"IF(Data!$B62<MIN(Panely!$A$9:$A$28),VLOOKUP(Data!$B62,tabulka_kce_def,25,FALSE),0)","v":0},0,null,null,null,null,"=",{"$f":"IF(Data!$W62<MIN(Panely!$A$9:$A$28),VLOOKUP(Data!$W62,tabulka_kce_def,62,FALSE),VLOOKUP(Data!$W62,tabulka_panely_def,65,FALSE))","v":""},{"$f":"IF(Data!$W62<MIN(Panely!$A$9:$A$28),VLOOKUP(Data!$W62,tabulka_kce_def,Y$1-20,FALSE),VLOOKUP(Data!$W62,tabulka_panely_def,Y$1-18,FALSE))","v":0},{"$f":"IF(Data!$W62<MIN(Panely!$A$9:$A$28),VLOOKUP(Data!$W62,tabulka_kce_def,Z$1-20,FALSE),VLOOKUP(Data!$W62,tabulka_panely_def,Z$1-18,FALSE))","v":0},{"$f":"IF(Data!$W62<MIN(Panely!$A$9:$A$28),VLOOKUP(Data!$W62,tabulka_kce_def,AA$1-20,FALSE),VLOOKUP(Data!$W62,tabulka_panely_def,AA$1-18,FALSE))","v":0},{"$f":"IF(Data!$W62<MIN(Panely!$A$9:$A$28),VLOOKUP(Data!$W62,tabulka_kce_def,AB$1-20,FALSE),VLOOKUP(Data!$W62,tabulka_panely_def,AB$1-18,FALSE))","v":0},{"$f":"IF(Data!$W62<MIN(Panely!$A$9:$A$28),VLOOKUP(Data!$W62,tabulka_kce_def,AC$1-20,FALSE),VLOOKUP(Data!$W62,tabulka_panely_def,AC$1-18,FALSE))","v":0},{"$f":"IF(Data!$W62<MIN(Panely!$A$9:$A$28),VLOOKUP(Data!$W62,tabulka_kce_def,AD$1-20,FALSE),VLOOKUP(Data!$W62,tabulka_panely_def,AD$1-18,FALSE))","v":0},{"$f":"IF(Data!$W62<MIN(Panely!$A$9:$A$28),VLOOKUP(Data!$W62,tabulka_kce_def,AE$1-20,FALSE),VLOOKUP(Data!$W62,tabulka_panely_def,AE$1-18,FALSE))","v":0},{"$f":"IF(Data!$W62<MIN(Panely!$A$9:$A$28),VLOOKUP(Data!$W62,tabulka_kce_def,AF$1-20,FALSE),VLOOKUP(Data!$W62,tabulka_panely_def,AF$1-18,FALSE))","v":0},{"$f":"IF(Data!$W62<MIN(Panely!$A$9:$A$28),VLOOKUP(Data!$W62,tabulka_kce_def,AG$1-20,FALSE),VLOOKUP(Data!$W62,tabulka_panely_def,AG$1-18,FALSE))","v":0},{"$f":"IF(Data!$W62<MIN(Panely!$A$9:$A$28),VLOOKUP(Data!$W62,tabulka_kce_def,AH$1-20,FALSE),VLOOKUP(Data!$W62,tabulka_panely_def,AH$1-18,FALSE))","v":0},{"$f":"IF(Data!$W62<MIN(Panely!$A$9:$A$28),VLOOKUP(Data!$W62,tabulka_kce_def,AI$1-20,FALSE),VLOOKUP(Data!$W62,tabulka_panely_def,AI$1-18,FALSE))","v":0},{"$f":"IF(Data!$W62<MIN(Panely!$A$9:$A$28),VLOOKUP(Data!$W62,tabulka_kce_def,AJ$1-20,FALSE),VLOOKUP(Data!$W62,tabulka_panely_def,AJ$1-18,FALSE))","v":0},{"$f":"IF(Data!$W62<MIN(Panely!$A$9:$A$28),VLOOKUP(Data!$W62,tabulka_kce_def,AK$1-20,FALSE),VLOOKUP(Data!$W62,tabulka_panely_def,AK$1-18,FALSE))","v":0},{"$f":"IF(Data!$W62<MIN(Panely!$A$9:$A$28),VLOOKUP(Data!$W62,tabulka_kce_def,AL$1-20,FALSE),VLOOKUP(Data!$W62,tabulka_panely_def,AL$1-18,FALSE))","v":0},{"$f":"IF(Data!$W62<MIN(Panely!$A$9:$A$28),VLOOKUP(Data!$W62,tabulka_kce_def,AM$1-20,FALSE),VLOOKUP(Data!$W62,tabulka_panely_def,AM$1-18,FALSE))","v":0},62,{"$f":"IF(Data!$W62<MIN(Panely!$A$9:$A$28),VLOOKUP(Data!$W62,tabulka_kce_def,63,FALSE),0)","v":0},{"$f":"IF(Data!$W62<MIN(Panely!$A$9:$A$28),VLOOKUP(Data!$W62,tabulka_kce_def,28,FALSE),1)","v":1},{"$f":"IF(Data!$W62<MIN(Panely!$A$9:$A$28),VLOOKUP(Data!$W62,tabulka_kce_def,23,FALSE),VLOOKUP(Data!$W62,tabulka_panely_def,24,FALSE))","v":0},null,0,null,0,0,{"$error":"#N/A"},0,{"$f":"IF(AND(W62>MAX(Konstrukce!A:A),ISNUMBER(W62)),1,0)","v":0}]
[null,"=",{"$f":"IF(Data!$B63<MIN(Panely!$A$9:$A$28),VLOOKUP(Data!$B63,tabulka_kce_def,4,FALSE),VLOOKUP(Data!$B63,tabulka_panely_def,4,FALSE))","v":0},{"$f":"IF(Data!$B63<MIN(Panely!$A$9:$A$28),VLOOKUP(Data!$B63,tabulka_kce_def,23,FALSE),VLOOKUP(Data!$B63,tabulka_panely_def,24,FALSE))","v":0},{"$f":"IF(Data!$B63<MIN(Panely!$A$9:$A$28),VLOOKUP(Data!$B63,tabulka_kce_def,21,FALSE),VLOOKUP(Data!$B63,tabulka_panely_def,22,FALSE))","v":0},{"$f":"IF(Data!$B63<MIN(Panely!$A$9:$A$28),VLOOKUP(Data!$B63,tabulka_kce_def,26,FALSE),VLOOKUP(Data!$B63,tabulka_panely_def,31,FALSE))","v":{"$error":"#DIV/0!"}},{"$f":"IF(Data!$B63<MIN(Panely!$A$9:$A$28),VLOOKUP(Data!$B63,tabulka_kce_def,27,FALSE),VLOOKUP(Data!$B63,tabulka_panely_def,32,FALSE))","v":{"$error":"#DIV/0!"}},{"$f":"IF(VLOOKUP(Data!$B63,tabulka_kce_def,3,FALSE)=\"\",Konstrukce!$G$1,IF(VLOOKUP(Data!$B63,tabulka_kce_def,3,FALSE)=\"z\",Konstrukce!$G$2,VLOOKUP(Data!$B63,tabulka_kce_def,3,FALSE)))","v":{"$error":"#N/A"}},{"$f":"IF(Data!$B63<MIN(Panely!$A$9:$A$28),0,VLOOKUP(Data!$B63,tabulka_panely_def,25,FALSE))","v":0},{"$f":"IF(Data!$B63<MIN(Panely!$A$9:$A$28),VLOOKUP(Data!$B63,tabulka_kce_def,24,FALSE),VLOOKUP(Data!$B63,tabulka_panely_def,33,FALSE))","v":{"$error":"#N/A"}},{"$f":"Konstrukce!$D$1","v":18.770175404064034},{"$f":"Konstrukce!$D$2","v":19.934229593106764},{"$f":"Konstrukce!$G$1","v":-12},{"$f":"IF(Data!$B63<MIN(Panely!$A$9:$A$28),VLOOKUP(Data!$B63,tabulka_kce_def,59,FALSE),VLOOKUP(Data!$B63,tabulka_panely_def,63,FALSE))","v":""},{"$f":"IF(Data!$B63<MIN(Panely!$A$9:$A$28),VLOOKUP(Data!$B63,tabulka_kce_def,60,FALSE),VLOOKUP(Data!$B63,tabulka_panely_def,64,FALSE))","v":""},{"$f":"IF(Data!$B63<MIN(Panely!$A$9:$A$28),VLOOKUP(Data!$B63,tabulka_kce_def,61,FALSE),VLOOKUP(Data!$B63,tabulka_panely_def,65,FALSE))","v":""},{"$f":"IF(Data!$B63<MIN(Panely!$A$9:$A$28),VLOOKUP(Data!$B63,tabulka_kce_def,25,FALSE),0)","v":0},0,null,null,null,null,"=",{"$f":"IF(Data!$W63<MIN(Panely!$A$9:$A$28),VLOOKUP(Data!$W63,tabulka_kce_def,62,FALSE),VLOOKUP(Data!$W63,tabulka_panely_def,65,FALSE))","v":""},{"$f":"IF(Data!$W63<MIN(Panely!$A$9:$A$28),VLOOKUP(Data!$W63,tabulka_kce_def,Y$1-20,FALSE),VLOOKUP(Data!$W63,tabulka_panely_def,Y$1-18,FALSE))","v":0},{"$f":"IF(Data!$W63<MIN(Panely!$A$9:$A$28),VLOOKUP(Data!$W63,tabulka_kce_def,Z$1-20,FALSE),VLOOKUP(Data!$W63,tabulka_panely_def,Z$1-18,FALSE))","v":0},{"$f":"IF(Data!$W63<MIN(Panely!$A$9:$A$28),VLOOKUP(Data!$W63,tabulka_kce_def,AA$1-20,FALSE),VLOOKUP(Data!$W63,tabulka_panely_def,AA$1-18,FALSE))","v":0},{"$f":"IF(Data!$W63<MIN(Panely!$A$9:$A$28),VLOOKUP(Data!$W63,tabulka_kce_def,AB$1-20,FALSE),VLOOKUP(Data!$W63,tabulka_panely_def,AB$1-18,FALSE))","v":0},{"$f":"IF(Data!$W63<MIN(Panely!$A$9:$A$28),VLOOKUP(Data!$W63,tabulka_kce_def,AC$1-20,FALSE),VLOOKUP(Data!$W63,tabulka_panely_def,AC$1-18,FALSE))","v":0},{"$f":"IF(Data!$W63<MIN(Panely!$A$9:$A$28),VLOOKUP(Data!$W63,tabulka_kce_def,AD$1-20,FALSE),VLOOKUP(Data!$W63,tabulka_panely_def,AD$1-18,FALSE))","v":0},{"$f":"IF(Data!$W63<MIN(Panely!$A$9:$A$28),VLOOKUP(Data!$W63,tabulka_kce_def,AE$1-20,FALSE),VLOOKUP(Data!$W63,tabulka_panely_def,AE$1-18,FALSE))","v":0},{"$f":"IF(Data!$W63<MIN(Panely!$A$9:$A$28),VLOOKUP(Data!$W63,tabulka_kce_def,AF$1-20,FALSE),VLOOKUP(Data!$W63,tabulka_panely_def,AF$1-18,FALSE))","v":0},{"$f":"IF(Data!$W63<MIN(Panely!$A$9:$A$28),VLOOKUP(Data!$W63,tabulka_kce_def,AG$1-20,FALSE),VLOOKUP(Data!$W63,tabulka_panely_def,AG$1-18,FALSE))","v":0},{"$f":"IF(Data!$W63<MIN(Panely!$A$9:$A$28),VLOOKUP(Data!$W63,tabulka_kce_def,AH$1-20,FALSE),VLOOKUP(Data!$W63,tabulka_panely_def,AH$1-18,FALSE))","v":0},{"$f":"IF(Data!$W63<MIN(Panely!$A$9:$A$28),VLOOKUP(Data!$W63,tabulka_kce_def,AI$1-20,FALSE),VLOOKUP(Data!$W63,tabulka_panely_def,AI$1-18,FALSE))","v":0},{"$f":"IF(Data!$W63<MIN(Panely!$A$9:$A$28),VLOOKUP(Data!$W63,tabulka_kce_def,AJ$1-20,FALSE),VLOOKUP(Data!$W63,tabulka_panely_def,AJ$1-18,FALSE))","v":0},{"$f":"IF(Data!$W63<MIN(Panely!$A$9:$A$28),VLOOKUP(Data!$W63,tabulka_kce_def,AK$1-20,FALSE),VLOOKUP(Data!$W63,tabulka_panely_def,AK$1-18,FALSE))","v":0},{"$f":"IF(Data!$W63<MIN(Panely!$A$9:$A$28),VLOOKUP(Data!$W63,tabulka_kce_def,AL$1-20,FALSE),VLOOKUP(Data!$W63,tabulka_panely_def,AL$1-18,FALSE))","v":0},{"$f":"IF(Data!$W63<MIN(Panely!$A$9:$A$28),VLOOKUP(Data!$W63,tabulka_kce_def,AM$1-20,FALSE),VLOOKUP(Data!$W63,tabulka_panely_def,AM$1-18,FALSE))","v":0},63,{"$f":"IF(Data!$W63<MIN(Panely!$A$9:$A$28),VLOOKUP(Data!$W63,tabulka_kce_def,63,FALSE),0)","v":0},{"$f":"IF(Data!$W63<MIN(Panely!$A$9:$A$28),VLOOKUP(Data!$W63,tabulka_kce_def,28,FALSE),1)","v":1},{"$f":"IF(Data!$W63<MIN(Panely!$A$9:$A$28),VLOOKUP(Data!$W63,tabulka_kce_def,23,FALSE),VLOOKUP(Data!$W63,tabulka_panely_def,24,FALSE))","v":0},null,0,null,0,0,{"$error":"#N/A"},0,{"$f":"IF(AND(W63>MAX(Konstrukce!A:A),ISNUMBER(W63)),1,0)","v":0}]
[null,"=",{"$f":"IF(Data!$B64<MIN(Panely!$A$9:$A$28),VLOOKUP(Data!$B64,tabulka_kce_def,4,FALSE),VLOOKUP(Data!$B64,tabulka_panely_def,4,FALSE))","v":0},{"$f":"IF(Data!$B64<MIN(Panely!$A$9:$A$28),VLOOKUP(Data!$B64,tabulka_kce_def,23,FALSE),VLOOKUP(Data!$B64,tabulka_panely_def,24,FALSE))","v":0},{"$f":"IF(Data!$B64<MIN(Panely!$A$9:$A$28),VLOOKUP(Data!$B64,tabulka_kce_def,21,FALSE),VLOOKUP(Data!$B64,tabulka_panely_def,22,FALSE))","v":0},{"$f":"IF(Data!$B64<MIN(Panely!$A$9:$A$28),VLOOKUP(Data!$B64,tabulka_kce_def,26,FALSE),VLOOKUP(Data!$B64,tabulka_panely_def,31,FALSE))","v":{"$error":"#DIV/0!"}},{"$f":"IF(Data!$B64<MIN(Panely!$A$9:$A$28),VLOOKUP(Data!$B64,tabulka_kce_def,27,FALSE),VLOOKUP(Data!$B64,tabulka_panely_def,32,FALSE))","v":{"$error":"#DIV/0!"}},{"$f":"IF(VLOOKUP(Data!$B64,tabulka_kce_def,3,FALSE)=\"\",Konstrukce!$G$1,IF(VLOOKUP(Data!$B64,tabulka_kce_def,3,FALSE)=\"z\",Konstrukce!$G$2,VLOOKUP(Data!$B64,tabulka_kce_def,3,FALSE)))","v":{"$error":"#N/A"}},{"$f":"IF(Data!$B64<MIN(Panely!$A$9:$A$28),0,VLOOKUP(Data!$B64,tabulka_panely_def,25,FALSE))","v":0},{"$f":"IF(Data!$B64<MIN(Panely!$A$9:$A$28),VLOOKUP(Data!$B64,tabulka_kce_def,24,FALSE),VLOOKUP(Data!$B64,tabulka_panely_def,33,FALSE))","v":{"$error":"#N/A"}},{"$f":"Konstrukce!$D$1","v":18.770175404064034},{"$f":"Konstrukce!$D$2","v":19.934229593106764},{"$f":"Konstrukce!$G$1","v":-12},{"$f":"IF(Data!$B64<MIN(Panely!$A$9:$A$28),VLOOKUP(Data!$B64,tabulka_kce_def,59,FALSE),VLOOKUP(Data!$B64,tabulka_panely_def,63,FALSE))","v":""},{"$f":"IF(Data!$B64<MIN(Panely!$A$9:$A$28),VLOOKUP(Data!$B64,tabulka_kce_def,60,FALSE),VLOOKUP(Data!$B64,tabulka_panely_def,64,FALSE))","v":""},{"$f":"IF(Data!$B64<MIN(Panely!$A$9:$A$28),VLOOKUP(Data!$B64,tabulka_kce_def,61,FALSE),VLOOKUP(Data!$B64,tabulka_panely_def,65,FALSE))","v":""},{"$f":"IF(Data!$B64<MIN(Panely!$A$9:$A$28),VLOOKUP(Data!$B64,tabulka_kce_def,25,FALSE),0)","v":0},0,null,null,null,null,"=",{"$f":"IF(Data!$W64<MIN(Panely!$A$9:$A$28),VLOOKUP(Data!$W64,tabulka_kce_def,62,FALSE),VLOOKUP(Data!$W64,tabulka_panely_def,65,FALSE))","v":""},{"$f":"IF(Data!$W64<MIN(Panely!$A$9:$A$28),VLOOKUP(Data!$W64,tabulka_kce_def,Y$1-20,FALSE),VLOOKUP(Data!$W64,tabulka_panely_def,Y$1-18,FALSE))","v":0},{"$f":"IF(Data!$W64<MIN(Panely!$A$9:$A$28),VLOOKUP(Data!$W64,tabulka_kce_def,Z$1-20,FALSE),VLOOKUP(Data!$W64,tabulka_panely_def,Z$1-18,FALSE))","v":0},{"$f":"IF(Data!$W64<MIN(Panely!$A$9:$A$28),VLOOKUP(Data!$W64,tabulka_kce_def,AA$1-20,FALSE),VLOOKUP(Data!$W64,tabulka_panely_def,AA$1-18,FALSE))","v":0},{"$f":"IF(Data!$W64<MIN(Panely!$A$9:$A$28),VLOOKUP(Data!$W64,tabulka_kce_def,AB$1-20,FALSE),VLOOKUP(Data!$W64,tabulka_panely_def,AB$1-18,FALSE))","v":0},{"$f":"IF(Data!$W64<MIN(Panely!$A$9:$A$28),VLOOKUP(Data!$W64,tabulka_kce_def,AC$1-20,FALSE),VLOOKUP(Data!$W64,tabulka_panely_def,AC$1-18,FALSE))","v":0},{"$f":"IF(Data!$W64<MIN(Panely!$A$9:$A$28),VLOOKUP(Data!$W64,tabulka_kce_def,AD$1-20,FALSE),VLOOKUP(Data!$W64,tabulka_panely_def,AD$1-18,FALSE))","v":0},{"$f":"IF(Data!$W64<MIN(Panely!$A$9:$A$28),VLOOKUP(Data!$W64,tabulka_kce_def,AE$1-20,FALSE),VLOOKUP(Data!$W64,tabulka_panely_def,AE$1-18,FALSE))","v":0},{"$f":"IF(Data!$W64<MIN(Panely!$A$9:$A$28),VLOOKUP(Data!$W64,tabulka_kce_def,AF$1-20,FALSE),VLOOKUP(Data!$W64,tabulka_panely_def,AF$1-18,FALSE))","v":0},{"$f":"IF(Data!$W64<MIN(Panely!$A$9:$A$28),VLOOKUP(Data!$W64,tabulka_kce_def,AG$1-20,FALSE),VLOOKUP(Data!$W64,tabulka_panely_def,AG$1-18,FALSE))","v":0},{"$f":"IF(Data!$W64<MIN(Panely!$A$9:$A$28),VLOOKUP(Data!$W64,tabulka_kce_def,AH$1-20,FALSE),VLOOKUP(Data!$W64,tabulka_panely_def,AH$1-18,FALSE))","v":0},{"$f":"IF(Data!$W64<MIN(Panely!$A$9:$A$28),VLOOKUP(Data!$W64,tabulka_kce_def,AI$1-20,FALSE),VLOOKUP(Data!$W64,tabulka_panely_def,AI$1-18,FALSE))","v":0},{"$f":"IF(Data!$W64<MIN(Panely!$A$9:$A$28),VLOOKUP(Data!$W64,tabulka_kce_def,AJ$1-20,FALSE),VLOOKUP(Data!$W64,tabulka_panely_def,AJ$1-18,FALSE))","v":0},{"$f":"IF(Data!$W64<MIN(Panely!$A$9:$A$28),VLOOKUP(Data!$W64,tabulka_kce_def,AK$1-20,FALSE),VLOOKUP(Data!$W64,tabulka_panely_def,AK$1-18,FALSE))","v":0},{"$f":"IF(Data!$W64<MIN(Panely!$A$9:$A$28),VLOOKUP(Data!$W64,tabulka_kce_def,AL$1-20,FALSE),VLOOKUP(Data!$W64,tabulka_panely_def,AL$1-18,FALSE))","v":0},{"$f":"IF(Data!$W64<MIN(Panely!$A$9:$A$28),VLOOKUP(Data!$W64,tabulka_kce_def,AM$1-20,FALSE),VLOOKUP(Data!$W64,tabulka_panely_def,AM$1-18,FALSE))","v":0},64,{"$f":"IF(Data!$W64<MIN(Panely!$A$9:$A$28),VLOOKUP(Data!$W64,tabulka_kce_def,63,FALSE),0)","v":0},{"$f":"IF(Data!$W64<MIN(Panely!$A$9:$A$28),VLOOKUP(Data!$W64,tabulka_kce_def,28,FALSE),1)","v":1},{"$f":"IF(Data!$W64<MIN(Panely!$A$9:$A$28),VLOOKUP(Data!$W64,tabulka_kce_def,23,FALSE),VLOOKUP(Data!$W64,tabulka_panely_def,24,FALSE))","v":0},null,0,null,0,0,{"$error":"#N/A"},0,{"$f":"IF(AND(W64>MAX(Konstrukce!A:A),ISNUMBER(W64)),1,0)","v":0}]
[null,"=",{"$f":"IF(Data!$B65<MIN(Panely!$A$9:$A$28),VLOOKUP(Data!$B65,tabulka_kce_def,4,FALSE),VLOOKUP(Data!$B65,tabulka_panely_def,4,FALSE))","v":0},{"$f":"IF(Data!$B65<MIN(Panely!$A$9:$A$28),VLOOKUP(Data!$B65,tabulka_kce_def,23,FALSE),VLOOKUP(Data!$B65,tabulka_panely_def,24,FALSE))","v":0},{"$f":"IF(Data!$B65<MIN(Panely!$A$9:$A$28),VLOOKUP(Data!$B65,tabulka_kce_def,21,FALSE),VLOOKUP(Data!$B65,tabulka_panely_def,22,FALSE))","v":0},{"$f":"IF(Data!$B65<MIN(Panely!$A$9:$A$28),VLOOKUP(Data!$B65,tabulka_kce_def,26,FALSE),VLOOKUP(Data!$B65,tabulka_panely_def,31,FALSE))","v":{"$error":"#DIV/0!"}},{"$f":"IF(Data!$B65<MIN(Panely!$A$9:$A$28),VLOOKUP(Data!$B65,tabulka_kce_def,27,FALSE),VLOOKUP(Data!$B65,tabulka_panely_def,32,FALSE))","v":{"$error":"#DIV/0!"}},{"$f":"IF(VLOOKUP(Data!$B65,tabulka_kce_def,3,FALSE)=\"\",Konstrukce!$G$1,IF(VLOOKUP(Data!$B65,tabulka_kce_def,3,FALSE)=\"z\",Konstrukce!$G$2,VLOOKUP(Data!$B65,tabulka_kce_def,3,FALSE)))","v":{"$error":"#N/A"}},{"$f":"IF(Data!$B65<MIN(Panely!$A$9:$A$28),0,VLOOKUP(Data!$B65,tabulka_panely_def,25,FALSE))","v":0},{"$f":"IF(Data!$B65<MIN(Panely!$A$9:$A$28),VLOOKUP(Data!$B65,tabulka_kce_def,24,FALSE),VLOOKUP(Data!$B65,tabulka_panely_def,33,FALSE))","v":{"$error":"#N/A"}},{"$f":"Konstrukce!$D$1","v":18.770175404064034},{"$f":"Konstrukce!$D$2","v":19.934229593106764},{"$f":"Konstrukce!$G$1","v":-12},{"$f":"IF(Data!$B65<MIN(Panely!$A$9:$A$28),VLOOKUP(Data!$B65,tabulka_kce_def,59,FALSE),VLOOKUP(Data!$B65,tabulka_panely_def,63,FALSE))","v":""},{"$f":"IF(Data!$B65<MIN(Panely!$A$9:$A$28),VLOOKUP(Data!$B65,tabulka_kce_def,60,FALSE),VLOOKUP(Data!$B65,tabulka_panely_def,64,FALSE))","v":""},{"$f":"IF(Data!$B65<MIN(Panely!$A$9:$A$28),VLOOKUP(Data!$B65,tabulka_kce_def,61,FALSE),VLOOKUP(Data!$B65,tabulka_panely_def,65,FALSE))","v":""},{"$f":"IF(Data!$B65<MIN(Panely!$A$9:$A$28),VLOOKUP(Data!$B65,tabulka_kce_def,25,FALSE),0)","v":0},0,null,null,null,null,"=",{"$f":"IF(Data!$W65<MIN(Panely!$A$9:$A$28),VLOOKUP(Data!$W65,tabulka_kce_def,62,FALSE),VLOOKUP(Data!$W65,tabulka_panely_def,65,FALSE))","v":""},{"$f":"IF(Data!$W65<MIN(Panely!$A$9:$A$28),VLOOKUP(Data!$W65,tabulka_kce_def,Y$1-20,FALSE),VLOOKUP(Data!$W65,tabulka_panely_def,Y$1-18,FALSE))","v":0},{"$f":"IF(Data!$W65<MIN(Panely!$A$9:$A$28),VLOOKUP(Data!$W65,tabulka_kce_def,Z$1-20,FALSE),VLOOKUP(Data!$W65,tabulka_panely_def,Z$1-18,FALSE))","v":0},{"$f":"IF(Data!$W65<MIN(Panely!$A$9:$A$28),VLOOKUP(Data!$W65,tabulka_kce_def,AA$1-20,FALSE),VLOOKUP(Data!$W65,tabulka_panely_def,AA$1-18,FALSE))","v":0},{"$f":"IF(Data!$W65<MIN(Panely!$A$9:$A$28),VLOOKUP(Data!$W65,tabulka_kce_def,AB$1-20,FALSE),VLOOKUP(Data!$W65,tabulka_panely_def,AB$1-18,FALSE))","v":0},{"$f":"IF(Data!$W65<MIN(Panely!$A$9:$A$28),VLOOKUP(Data!$W65,tabulka_kce_def,AC$1-20,FALSE),VLOOKUP(Data!$W65,tabulka_panely_def,AC$1-18,FALSE))","v":0},{"$f":"IF(Data!$W65<MIN(Panely!$A$9:$A$28),VLOOKUP(Data!$W65,tabulka_kce_def,AD$1-20,FALSE),VLOOKUP(Data!$W65,tabulka_panely_def,AD$1-18,FALSE))","v":0},{"$f":"IF(Data!$W65<MIN(Panely!$A$9:$A$28),VLOOKUP(Data!$W65,tabulka_kce_def,AE$1-20,FALSE),VLOOKUP(Data!$W65,tabulka_panely_def,AE$1-18,FALSE))","v":0},{"$f":"IF(Data!$W65<MIN(Panely!$A$9:$A$28),VLOOKUP(Data!$W65,tabulka_kce_def,AF$1-20,FALSE),VLOOKUP(Data!$W65,tabulka_panely_def,AF$1-18,FALSE))","v":0},{"$f":"IF(Data!$W65<MIN(Panely!$A$9:$A$28),VLOOKUP(Data!$W65,tabulka_kce_def,AG$1-20,FALSE),VLOOKUP(Data!$W65,tabulka_panely_def,AG$1-18,FALSE))","v":0},{"$f":"IF(Data!$W65<MIN(Panely!$A$9:$A$28),VLOOKUP(Data!$W65,tabulka_kce_def,AH$1-20,FALSE),VLOOKUP(Data!$W65,tabulka_panely_def,AH$1-18,FALSE))","v":0},{"$f":"IF(Data!$W65<MIN(Panely!$A$9:$A$28),VLOOKUP(Data!$W65,tabulka_kce_def,AI$1-20,FALSE),VLOOKUP(Data!$W65,tabulka_panely_def,AI$1-18,FALSE))","v":0},{"$f":"IF(Data!$W65<MIN(Panely!$A$9:$A$28),VLOOKUP(Data!$W65,tabulka_kce_def,AJ$1-20,FALSE),VLOOKUP(Data!$W65,tabulka_panely_def,AJ$1-18,FALSE))","v":0},{"$f":"IF(Data!$W65<MIN(Panely!$A$9:$A$28),VLOOKUP(Data!$W65,tabulka_kce_def,AK$1-20,FALSE),VLOOKUP(Data!$W65,tabulka_panely_def,AK$1-18,FALSE))","v":0},{"$f":"IF(Data!$W65<MIN(Panely!$A$9:$A$28),VLOOKUP(Data!$W65,tabulka_kce_def,AL$1-20,FALSE),VLOOKUP(Data!$W65,tabulka_panely_def,AL$1-18,FALSE))","v":0},{"$f":"IF(Data!$W65<MIN(Panely!$A$9:$A$28),VLOOKUP(Data!$W65,tabulka_kce_def,AM$1-20,FALSE),VLOOKUP(Data!$W65,tabulka_panely_def,AM$1-18,FALSE))","v":0},65,{"$f":"IF(Data!$W65<MIN(Panely!$A$9:$A$28),VLOOKUP(Data!$W65,tabulka_kce_def,63,FALSE),0)","v":0},{"$f":"IF(Data!$W65<MIN(Panely!$A$9:$A$28),VLOOKUP(Data!$W65,tabulka_kce_def,28,FALSE),1)","v":1},{"$f":"IF(Data!$W65<MIN(Panely!$A$9:$A$28),VLOOKUP(Data!$W65,tabulka_kce_def,23,FALSE),VLOOKUP(Data!$W65,tabulka_panely_def,24,FALSE))","v":0},null,0,null,0,0,{"$error":"#N/A"},0,{"$f":"IF(AND(W65>MAX(Konstrukce!A:A),ISNUMBER(W65)),1,0)","v":0}]
[null,"=",{"$f":"IF(Data!$B66<MIN(Panely!$A$9:$A$28),VLOOKUP(Data!$B66,tabulka_kce_def,4,FALSE),VLOOKUP(Data!$B66,tabulka_panely_def,4,FALSE))","v":0},{"$f":"IF(Data!$B66<MIN(Panely!$A$9:$A$28),VLOOKUP(Data!$B66,tabulka_kce_def,23,FALSE),VLOOKUP(Data!$B66,tabulka_panely_def,24,FALSE))","v":0},{"$f":"IF(Data!$B66<MIN(Panely!$A$9:$A$28),VLOOKUP(Data!$B66,tabulka_kce_def,21,FALSE),VLOOKUP(Data!$B66,tabulka_panely_def,22,FALSE))","v":0},{"$f":"IF(Data!$B66<MIN(Panely!$A$9:$A$28),VLOOKUP(Data!$B66,tabulka_kce_def,26,FALSE),VLOOKUP(Data!$B66,tabulka_panely_def,31,FALSE))","v":{"$error":"#DIV/0!"}},{"$f":"IF(Data!$B66<MIN(Panely!$A$9:$A$28),VLOOKUP(Data!$B66,tabulka_kce_def,27,FALSE),VLOOKUP(Data!$B66,tabulka_panely_def,32,FALSE))","v":{"$error":"#DIV/0!"}},{"$f":"IF(VLOOKUP(Data!$B66,tabulka_kce_def,3,FALSE)=\"\",Konstrukce!$G$1,IF(VLOOKUP(Data!$B66,tabulka_kce_def,3,FALSE)=\"z\",Konstrukce!$G$2,VLOOKUP(Data!$B66,tabulka_kce_def,3,FALSE)))","v":{"$error":"#N/A"}},{"$f":"IF(Data!$B66<MIN(Panely!$A$9:$A$28),0,VLOOKUP(Data!$B66,tabulka_panely_def,25,FALSE))","v":0},{"$f":"IF(Data!$B66<MIN(Panely!$A$9:$A$28),VLOOKUP(Data!$B66,tabulka_kce_def,24,FALSE),VLOOKUP(Data!$B66,tabulka_panely_def,33,FALSE))","v":{"$error":"#N/A"}},{"$f":"Konstrukce!$D$1","v":18.770175404064034},{"$f":"Konstrukce!$D$2","v":19.934229593106764},{"$f":"Konstrukce!$G$1","v":-12},{"$f":"IF(Data!$B66<MIN(Panely!$A$9:$A$28),VLOOKUP(Data!$B66,tabulka_kce_def,59,FALSE),VLOOKUP(Data!$B66,tabulka_panely_def,63,FALSE))","v":""},{"$f":"IF(Data!$B66<MIN(Panely!$A$9:$A$28),VLOOKUP(Data!$B66,tabulka_kce_def,60,FALSE),VLOOKUP(Data!$B66,tabulka_panely_def,64,FALSE))","v":""},{"$f":"IF(Data!$B66<MIN(Panely!$A$9:$A$28),VLOOKUP(Data!$B66,tabulka_kce_def,61,FALSE),VLOOKUP(Data!$B66,tabulka_panely_def,65,FALSE))","v":""},{"$f":"IF(Data!$B66<MIN(Panely!$A$9:$A$28),VLOOKUP(Data!$B66,tabulka_kce_def,25,FALSE),0)","v":0},0,null,null,null,null,"=",{"$f":"IF(Data!$W66<MIN(Panely!$A$9:$A$28),VLOOKUP(Data!$W66,tabulka_kce_def,62,FALSE),VLOOKUP(Data!$W66,tabulka_panely_def,65,FALSE))","v":""},{"$f":"IF(Data!$W66<MIN(Panely!$A$9:$A$28),VLOOKUP(Data!$W66,tabulka_kce_def,Y$1-20,FALSE),VLOOKUP(Data!$W66,tabulka_panely_def,Y$1-18,FALSE))","v":0},{"$f":"IF(Data!$W66<MIN(Panely!$A$9:$A$28),VLOOKUP(Data!$W66,tabulka_kce_def,Z$1-20,FALSE),VLOOKUP(Data!$W66,tabulka_panely_def,Z$1-18,FALSE))","v":0},{"$f":"IF(Data!$W66<MIN(Panely!$A$9:$A$28),VLOOKUP(Data!$W66,tabulka_kce_def,AA$1-20,FALSE),VLOOKUP(Data!$W66,tabulka_panely_def,AA$1-18,FALSE))","v":0},{"$f":"IF(Data!$W66<MIN(Panely!$A$9:$A$28),VLOOKUP(Data!$W66,tabulka_kce_def,AB$1-20,FALSE),VLOOKUP(Data!$W66,tabulka_panely_def,AB$1-18,FALSE))","v":0},{"$f":"IF(Data!$W66<MIN(Panely!$A$9:$A$28),VLOOKUP(Data!$W66,tabulka_kce_def,AC$1-20,FALSE),VLOOKUP(Data!$W66,tabulka_panely_def,AC$1-18,FALSE))","v":0},{"$f":"IF(Data!$W66<MIN(Panely!$A$9:$A$28),VLOOKUP(Data!$W66,tabulka_kce_def,AD$1-20,FALSE),VLOOKUP(Data!$W66,tabulka_panely_def,AD$1-18,FALSE))","v":0},{"$f":"IF(Data!$W66<MIN(Panely!$A$9:$A$28),VLOOKUP(Data!$W66,tabulka_kce_def,AE$1-20,FALSE),VLOOKUP(Data!$W66,tabulka_panely_def,AE$1-18,FALSE))","v":0},{"$f":"IF(Data!$W66<MIN(Panely!$A$9:$A$28),VLOOKUP(Data!$W66,tabulka_kce_def,AF$1-20,FALSE),VLOOKUP(Data!$W66,tabulka_panely_def,AF$1-18,FALSE))","v":0},{"$f":"IF(Data!$W66<MIN(Panely!$A$9:$A$28),VLOOKUP(Data!$W66,tabulka_kce_def,AG$1-20,FALSE),VLOOKUP(Data!$W66,tabulka_panely_def,AG$1-18,FALSE))","v":0},{"$f":"IF(Data!$W66<MIN(Panely!$A$9:$A$28),VLOOKUP(Data!$W66,tabulka_kce_def,AH$1-20,FALSE),VLOOKUP(Data!$W66,tabulka_panely_def,AH$1-18,FALSE))","v":0},{"$f":"IF(Data!$W66<MIN(Panely!$A$9:$A$28),VLOOKUP(Data!$W66,tabulka_kce_def,AI$1-20,FALSE),VLOOKUP(Data!$W66,tabulka_panely_def,AI$1-18,FALSE))","v":0},{"$f":"IF(Data!$W66<MIN(Panely!$A$9:$A$28),VLOOKUP(Data!$W66,tabulka_kce_def,AJ$1-20,FALSE),VLOOKUP(Data!$W66,tabulka_panely_def,AJ$1-18,FALSE))","v":0},{"$f":"IF(Data!$W66<MIN(Panely!$A$9:$A$28),VLOOKUP(Data!$W66,tabulka_kce_def,AK$1-20,FALSE),VLOOKUP(Data!$W66,tabulka_panely_def,AK$1-18,FALSE))","v":0},{"$f":"IF(Data!$W66<MIN(Panely!$A$9:$A$28),VLOOKUP(Data!$W66,tabulka_kce_def,AL$1-20,FALSE),VLOOKUP(Data!$W66,tabulka_panely_def,AL$1-18,FALSE))","v":0},{"$f":"IF(Data!$W66<MIN(Panely!$A$9:$A$28),VLOOKUP(Data!$W66,tabulka_kce_def,AM$1-20,FALSE),VLOOKUP(Data!$W66,tabulka_panely_def,AM$1-18,FALSE))","v":0},66,{"$f":"IF(Data!$W66<MIN(Panely!$A$9:$A$28),VLOOKUP(Data!$W66,tabulka_kce_def,63,FALSE),0)","v":0},{"$f":"IF(Data!$W66<MIN(Panely!$A$9:$A$28),VLOOKUP(Data!$W66,tabulka_kce_def,28,FALSE),1)","v":1},{"$f":"IF(Data!$W66<MIN(Panely!$A$9:$A$28),VLOOKUP(Data!$W66,tabulka_kce_def,23,FALSE),VLOOKUP(Data!$W66,tabulka_panely_def,24,FALSE))","v":0},null,0,null,0,0,{"$error":"#N/A"},0,{"$f":"IF(AND(W66>MAX(Konstrukce!A:A),ISNUMBER(W66)),1,0)","v":0}]
[null,"=",{"$f":"IF(Data!$B67<MIN(Panely!$A$9:$A$28),VLOOKUP(Data!$B67,tabulka_kce_def,4,FALSE),VLOOKUP(Data!$B67,tabulka_panely_def,4,FALSE))","v":0},{"$f":"IF(Data!$B67<MIN(Panely!$A$9:$A$28),VLOOKUP(Data!$B67,tabulka_kce_def,23,FALSE),VLOOKUP(Data!$B67,tabulka_panely_def,24,FALSE))","v":0},{"$f":"IF(Data!$B67<MIN(Panely!$A$9:$A$28),VLOOKUP(Data!$B67,tabulka_kce_def,21,FALSE),VLOOKUP(Data!$B67,tabulka_panely_def,22,FALSE))","v":0},{"$f":"IF(Data!$B67<MIN(Panely!$A$9:$A$28),VLOOKUP(Data!$B67,tabulka_kce_def,26,FALSE),VLOOKUP(Data!$B67,tabulka_panely_def,31,FALSE))","v":{"$error":"#DIV/0!"}},{"$f":"IF(Data!$B67<MIN(Panely!$A$9:$A$28),VLOOKUP(Data!$B67,tabulka_kce_def,27,FALSE),VLOOKUP(Data!$B67,tabulka_panely_def,32,FALSE))","v":{"$error":"#DIV/0!"}},{"$f":"IF(VLOOKUP(Data!$B67,tabulka_kce_def,3,FALSE)=\"\",Konstrukce!$G$1,IF(VLOOKUP(Data!$B67,tabulka_kce_def,3,FALSE)=\"z\",Konstrukce!$G$2,VLOOKUP(Data!$B67,tabulka_kce_def,3,FALSE)))","v":{"$error":"#N/A"}},{"$f":"IF(Data!$B67<MIN(Panely!$A$9:$A$28),0,VLOOKUP(Data!$B67,tabulka_panely_def,25,FALSE))","v":0},{"$f":"IF(Data!$B67<MIN(Panely!$A$9:$A$28),VLOOKUP(Data!$B67,tabulka_kce_def,24,FALSE),VLOOKUP(Data!$B67,tabulka_panely_def,33,FALSE))","v":{"$error":"#N/A"}},{"$f":"Konstrukce!$D$1","v":18.770175404064034},{"$f":"Konstrukce!$D$2","v":19.934229593106764},{"$f":"Konstrukce!$G$1","v":-12},{"$f":"IF(Data!$B67<MIN(Panely!$A$9:$A$28),VLOOKUP(Data!$B67,tabulka_kce_def,59,FALSE),VLOOKUP(Data!$B67,tabulka_panely_def,63,FALSE))","v":""},{"$f":"IF(Data!$B67<MIN(Panely!$A$9:$A$28),VLOOKUP(Data!$B67,tabulka_kce_def,60,FALSE),VLOOKUP(Data!$B67,tabulka_panely_def,64,FALSE))","v":""},{"$f":"IF(Data!$B67<MIN(Panely!$A$9:$A$28),VLOOKUP(Data!$B67,tabulka_kce_def,61,FALSE),VLOOKUP(Data!$B67,tabulka_panely_def,65,FALSE))","v":""},{"$f":"IF(Data!$B67<MIN(Panely!$A$9:$A$28),VLOOKUP(Data!$B67,tabulka_kce_def,25,FALSE),0)","v":0},{"$f":"IF(O67=\"f\",VLOOKUP(VALUE(P67),tabulka_data,3,FALSE),D67)","v":0},null,null,null,null,"=",{"$f":"IF(Data!$W67<MIN(Panely!$A$9:$A$28),VLOOKUP(Data!$W67,tabulka_kce_def,62,FALSE),VLOOKUP(Data!$W67,tabulka_panely_def,65,FALSE))","v":""},{"$f":"IF(Data!$W67<MIN(Panely!$A$9:$A$28),VLOOKUP(Data!$W67,tabulka_kce_def,Y$1-20,FALSE),VLOOKUP(Data!$W67,tabulka_panely_def,Y$1-18,FALSE))","v":0},{"$f":"IF(Data!$W67<MIN(Panely!$A$9:$A$28),VLOOKUP(Data!$W67,tabulka_kce_def,Z$1-20,FALSE),VLOOKUP(Data!$W67,tabulka_panely_def,Z$1-18,FALSE))","v":0},{"$f":"IF(Data!$W67<MIN(Panely!$A$9:$A$28),VLOOKUP(Data!$W67,tabulka_kce_def,AA$1-20,FALSE),VLOOKUP(Data!$W67,tabulka_panely_def,AA$1-18,FALSE))","v":0},{"$f":"IF(Data!$W67<MIN(Panely!$A$9:$A$28),VLOOKUP(Data!$W67,tabulka_kce_def,AB$1-20,FALSE),VLOOKUP(Data!$W67,tabulka_panely_def,AB$1-18,FALSE))","v":0},{"$f":"IF(Data!$W67<MIN(Panely!$A$9:$A$28),VLOOKUP(Data!$W67,tabulka_kce_def,AC$1-20,FALSE),VLOOKUP(Data!$W67,tabulka_panely_def,AC$1-18,FALSE))","v":0},{"$f":"IF(Data!$W67<MIN(Panely!$A$9:$A$28),VLOOKUP(Data!$W67,tabulka_kce_def,AD$1-20,FALSE),VLOOKUP(Data!$W67,tabulka_panely_def,AD$1-18,FALSE))","v":0},{"$f":"IF(Data!$W67<MIN(Panely!$A$9:$A$28),VLOOKUP(Data!$W67,tabulka_kce_def,AE$1-20,FALSE),VLOOKUP(Data!$W67,tabulka_panely_def,AE$1-18,FALSE))","v":0},{"$f":"IF(Data!$W67<MIN(Panely!$A$9:$A$28),VLOOKUP(Data!$W67,tabulka_kce_def,AF$1-20,FALSE),VLOOKUP(Data!$W67,tabulka_panely_def,AF$1-18,FALSE))","v":0},{"$f":"IF(Data!$W67<MIN(Panely!$A$9:$A$28),VLOOKUP(Data!$W67,tabulka_kce_def,AG$1-20,FALSE),VLOOKUP(Data!$W67,tabulka_panely_def,AG$1-18,FALSE))","v":0},{"$f":"IF(Data!$W67<MIN(Panely!$A$9:$A$28),VLOOKUP(Data!$W67,tabulka_kce_def,AH$1-20,FALSE),VLOOKUP(Data!$W67,tabulka_panely_def,AH$1-18,FALSE))","v":0},{"$f":"IF(Data!$W67<MIN(Panely!$A$9:$A$28),VLOOKUP(Data!$W67,tabulka_kce_def,AI$1-20,FALSE),VLOOKUP(Data!$W67,tabulka_panely_def,AI$1-18,FALSE))","v":0},{"$f":"IF(Data!$W67<MIN(Panely!$A$9:$A$28),VLOOKUP(Data!$W67,tabulka_kce_def,AJ$1-20,FALSE),VLOOKUP(Data!$W67,tabulka_panely_def,AJ$1-18,FALSE))","v":0},{"$f":"IF(Data!$W67<MIN(Panely!$A$9:$A$28),VLOOKUP(Data!$W67,tabulka_kce_def,AK$1-20,FALSE),VLOOKUP(Data!$W67,tabulka_panely_def,AK$1-18,FALSE))","v":0},{"$f":"IF(Data!$W67<MIN(Panely!$A$9:$A$28),VLOOKUP(Data!$W67,tabulka_kce_def,AL$1-20,FALSE),VLOOKUP(Data!$W67,tabulka_panely_def,AL$1-18,FALSE))","v":0},{"$f":"IF(Data!$W67<MIN(Panely!$A$9:$A$28),VLOOKUP(Data!$W67,tabulka_kce_def,AM$1-20,FALSE),VLOOKUP(Data!$W67,tabulka_panely_def,AM$1-18,FALSE))","v":0},67,{"$f":"IF(Data!$W67<MIN(Panely!$A$9:$A$28),VLOOKUP(Data!$W67,tabulka_kce_def,63,FALSE),0)","v":0},{"$f":"IF(Data!$W67<MIN(Panely!$A$9:$A$28),VLOOKUP(Data!$W67,tabulka_kce_def,28,FALSE),1)","v":1},{"$f":"IF(Data!$W67<MIN(Panely!$A$9:$A$28),VLOOKUP(Data!$W67,tabulka_kce_def,23,FALSE),VLOOKUP(Data!$W67,tabulka_panely_def,24,FALSE))","v":0},null,0,null,0,0,{"$error":"#N/A"},0,{"$f":"IF(AND(W67>MAX(Konstrukce!A:A),ISNUMBER(W67)),1,0)","v":0}]
[null,"=",{"$f":"IF(Data!$B68<MIN(Panely!$A$9:$A$28),VLOOKUP(Data!$B68,tabulka_kce_def,4,FALSE),VLOOKUP(Data!$B68,tabulka_panely_def,4,FALSE))","v":0},{"$f":"IF(Data!$B68<MIN(Panely!$A$9:$A$28),VLOOKUP(Data!$B68,tabulka_kce_def,23,FALSE),VLOOKUP(Data!$B68,tabulka_panely_def,24,FALSE))","v":0},{"$f":"IF(Data!$B68<MIN(Panely!$A$9:$A$28),VLOOKUP(Data!$B68,tabulka_kce_def,21,FALSE),VLOOKUP(Data!$B68,tabulka_panely_def,22,FALSE))","v":0},{"$f":"IF(Data!$B68<MIN(Panely!$A$9:$A$28),VLOOKUP(Data!$B68,tabulka_kce_def,26,FALSE),VLOOKUP(Data!$B68,tabulka_panely_def,31,FALSE))","v":{"$error":"#DIV/0!"}},{"$f":"IF(Data!$B68<MIN(Panely!$A$9:$A$28),VLOOKUP(Data!$B68,tabulka_kce_def,27,FALSE),VLOOKUP(Data!$B68,tabulka_panely_def,32,FALSE))","v":{"$error":"#DIV/0!"}},{"$f":"IF(VLOOKUP(Data!$B68,tabulka_kce_def,3,FALSE)=\"\",Konstrukce!$G$1,IF(VLOOKUP(Data!$B68,tabulka_kce_def,3,FALSE)=\"z\",Konstrukce!$G$2,VLOOKUP(Data!$B68,tabulka_kce_def,3,FALSE)))","v":{"$error":"#N/A"}},{"$f":"IF(Data!$B68<MIN(Panely!$A$9:$A$28),0,VLOOKUP(Data!$B68,tabulka_panely_def,25,FALSE))","v":0},{"$f":"IF(Data!$B68<MIN(Panely!$A$9:$A$28),VLOOKUP(Data!$B68,tabulka_kce_def,24,FALSE),VLOOKUP(Data!$B68,tabulka_panely_def,33,FALSE))","v":{"$error":"#N/A"}},{"$f":"Konstrukce!$D$1","v":18.770175404064034},{"$f":"Konstrukce!$D$2","v":19.934229593106764},{"$f":"Konstrukce!$G$1","v":-12},{"$f":"IF(Data!$B68<MIN(Panely!$A$9:$A$28),VLOOKUP(Data!$B68,tabulka_kce_def,59,FALSE),VLOOKUP(Data!$B68,tabulka_panely_def,63,FALSE))","v":""},{"$f":"IF(Data!$B68<MIN(Panely!$A$9:$A$28),VLOOKUP(Data!$B68,tabulka_kce_def,60,FALSE),VLOOKUP(Data!$B68,tabulka_panely_def,64,FALSE))","v":""},{"$f":"IF(Data!$B68<MIN(Panely!$A$9:$A$28),VLOOKUP(Data!$B68,tabulka_kce_def,61,FALSE),VLOOKUP(Data!$B68,tabulka_panely_def,65,FALSE))","v":""},{"$f":"IF(Data!$B68<MIN(Panely!$A$9:$A$28),VLOOKUP(Data!$B68,tabulka_kce_def,25,FALSE),0)","v":0},0,null,null,null,null,"=",{"$f":"IF(Data!$W68<MIN(Panely!$A$9:$A$28),VLOOKUP(Data!$W68,tabulka_kce_def,62,FALSE),VLOOKUP(Data!$W68,tabulka_panely_def,65,FALSE))","v":""},{"$f":"IF(Data!$W68<MIN(Panely!$A$9:$A$28),VLOOKUP(Data!$W68,tabulka_kce_def,Y$1-20,FALSE),VLOOKUP(Data!$W68,tabulka_panely_def,Y$1-18,FALSE))","v":0},{"$f":"IF(Data!$W68<MIN(Panely!$A$9:$A$28),VLOOKUP(Data!$W68,tabulka_kce_def,Z$1-20,FALSE),VLOOKUP(Data!$W68,tabulka_panely_def,Z$1-18,FALSE))","v":0},{"$f":"IF(Data!$W68<MIN(Panely!$A$9:$A$28),VLOOKUP(Data!$W68,tabulka_kce_def,AA$1-20,FALSE),VLOOKUP(Data!$W68,tabulka_panely_def,AA$1-18,FALSE))","v":0},{"$f":"IF(Data!$W68<MIN(Panely!$A$9:$A$28),VLOOKUP(Data!$W68,tabulka_kce_def,AB$1-20,FALSE),VLOOKUP(Data!$W68,tabulka_panely_def,AB$1-18,FALSE))","v":0},{"$f":"IF(Data!$W68<MIN(Panely!$A$9:$A$28),VLOOKUP(Data!$W68,tabulka_kce_def,AC$1-20,FALSE),VLOOKUP(Data!$W68,tabulka_panely_def,AC$1-18,FALSE))","v":0},{"$f":"IF(Data!$W68<MIN(Panely!$A$9:$A$28),VLOOKUP(Data!$W68,tabulka_kce_def,AD$1-20,FALSE),VLOOKUP(Data!$W68,tabulka_panely_def,AD$1-18,FALSE))","v":0},{"$f":"IF(Data!$W68<MIN(Panely!$A$9:$A$28),VLOOKUP(Data!$W68,tabulka_kce_def,AE$1-20,FALSE),VLOOKUP(Data!$W68,tabulka_panely_def,AE$1-18,FALSE))","v":0},{"$f":"IF(Data!$W68<MIN(Panely!$A$9:$A$28),VLOOKUP(Data!$W68,tabulka_kce_def,AF$1-20,FALSE),VLOOKUP(Data!$W68,tabulka_panely_def,AF$1-18,FALSE))","v":0},{"$f":"IF(Data!$W68<MIN(Panely!$A$9:$A$28),VLOOKUP(Data!$W68,tabulka_kce_def,AG$1-20,FALSE),VLOOKUP(Data!$W68,tabulka_panely_def,AG$1-18,FALSE))","v":0},{"$f":"IF(Data!$W68<MIN(Panely!$A$9:$A$28),VLOOKUP(Data!$W68,tabulka_kce_def,AH$1-20,FALSE),VLOOKUP(Data!$W68,tabulka_panely_def,AH$1-18,FALSE))","v":0},{"$f":"IF(Data!$W68<MIN(Panely!$A$9:$A$28),VLOOKUP(Data!$W68,tabulka_kce_def,AI$1-20,FALSE),VLOOKUP(Data!$W68,tabulka_panely_def,AI$1-18,FALSE))","v":0},{"$f":"IF(Data!$W68<MIN(Panely!$A$9:$A$28),VLOOKUP(Data!$W68,tabulka_kce_def,AJ$1-20,FALSE),VLOOKUP(Data!$W68,tabulka_panely_def,AJ$1-18,FALSE))","v":0},{"$f":"IF(Data!$W68<MIN(Panely!$A$9:$A$28),VLOOKUP(Data!$W68,tabulka_kce_def,AK$1-20,FALSE),VLOOKUP(Data!$W68,tabulka_panely_def,AK$1-18,FALSE))","v":0},{"$f":"IF(Data!$W68<MIN(Panely!$A$9:$A$28),VLOOKUP(Data!$W68,tabulka_kce_def,AL$1-20,FALSE),VLOOKUP(Data!$W68,tabulka_panely_def,AL$1-18,FALSE))","v":0},{"$f":"IF(Data!$W68<MIN(Panely!$A$9:$A$28),VLOOKUP(Data!$W68,tabulka_kce_def,AM$1-20,FALSE),VLOOKUP(Data!$W68,tabulka_panely_def,AM$1-18,FALSE))","v":0},68,{"$f":"IF(Data!$W68<MIN(Panely!$A$9:$A$28),VLOOKUP(Data!$W68,tabulka_kce_def,63,FALSE),0)","v":0},{"$f":"IF(Data!$W68<MIN(Panely!$A$9:$A$28),VLOOKUP(Data!$W68,tabulka_kce_def,28,FALSE),1)","v":1},{"$f":"IF(Data!$W68<MIN(Panely!$A$9:$A$28),VLOOKUP(Data!$W68,tabulka_kce_def,23,FALSE),VLOOKUP(Data!$W68,tabulka_panely_def,24,FALSE))","v":0},null,0,null,0,0,{"$error":"#N/A"},0,{"$f":"IF(AND(W68>MAX(Konstrukce!A:A),ISNUMBER(W68)),1,0)","v":0}]
[null,"=",{"$f":"IF(Data!$B69<MIN(Panely!$A$9:$A$28),VLOOKUP(Data!$B69,tabulka_kce_def,4,FALSE),VLOOKUP(Data!$B69,tabulka_panely_def,4,FALSE))","v":0},{"$f":"IF(Data!$B69<MIN(Panely!$A$9:$A$28),VLOOKUP(Data!$B69,tabulka_kce_def,23,FALSE),VLOOKUP(Data!$B69,tabulka_panely_def,24,FALSE))","v":0},{"$f":"IF(Data!$B69<MIN(Panely!$A$9:$A$28),VLOOKUP(Data!$B69,tabulka_kce_def,21,FALSE),VLOOKUP(Data!$B69,tabulka_panely_def,22,FALSE))","v":0},{"$f":"IF(Data!$B69<MIN(Panely!$A$9:$A$28),VLOOKUP(Data!$B69,tabulka_kce_def,26,FALSE),VLOOKUP(Data!$B69,tabulka_panely_def,31,FALSE))","v":{"$error":"#DIV/0!"}},{"$f":"IF(Data!$B69<MIN(Panely!$A$9:$A$28),VLOOKUP(Data!$B69,tabulka_kce_def,27,FALSE),VLOOKUP(Data!$B69,tabulka_panely_def,32,FALSE))","v":{"$error":"#DIV/0!"}},{"$f":"IF(VLOOKUP(Data!$B69,tabulka_kce_def,3,FALSE)=\"\",Konstrukce!$G$1,IF(VLOOKUP(Data!$B69,tabulka_kce_def,3,FALSE)=\"z\",Konstrukce!$G$2,VLOOKUP(Data!$B69,tabulka_kce_def,3,FALSE)))","v":{"$error":"#N/A"}},{"$f":"IF(Data!$B69<MIN(Panely!$A$9:$A$28),0,VLOOKUP(Data!$B69,tabulka_panely_def,25,FALSE))","v":0},{"$f":"IF(Data!$B69<MIN(Panely!$A$9:$A$28),VLOOKUP(Data!$B69,tabulka_kce_def,24,FALSE),VLOOKUP(Data!$B69,tabulka_panely_def,33,FALSE))","v":{"$error":"#N/A"}},{"$f":"Konstrukce!$D$1","v":18.770175404064034},{"$f":"Konstrukce!$D$2","v":19.934229593106764},{"$f":"Konstrukce!$G$1","v":-12},{"$f":"IF(Data!$B69<MIN(Panely!$A$9:$A$28),VLOOKUP(Data!$B69,tabulka_kce_def,59,FALSE),VLOOKUP(Data!$B69,tabulka_panely_def,63,FALSE))","v":""},{"$f":"IF(Data!$B69<MIN(Panely!$A$9:$A$28),VLOOKUP(Data!$B69,tabulka_kce_def,60,FALSE),VLOOKUP(Data!$B69,tabulka_panely_def,64,FALSE))","v":""},{"$f":"IF(Data!$B69<MIN(Panely!$A$9:$A$28),VLOOKUP(Data!$B69,tabulka_kce_def,61,FALSE),VLOOKUP(Data!$B69,tabulka_panely_def,65,FALSE))","v":""},{"$f":"IF(Data!$B69<MIN(Panely!$A$9:$A$28),VLOOKUP(Data!$B69,tabulka_kce_def,25,FALSE),0)","v":0},0,null,null,null,null,"=",{"$f":"IF(Data!$W69<MIN(Panely!$A$9:$A$28),VLOOKUP(Data!$W69,tabulka_kce_def,62,FALSE),VLOOKUP(Data!$W69,tabulka_panely_def,65,FALSE))","v":""},{"$f":"IF(Data!$W69<MIN(Panely!$A$9:$A$28),VLOOKUP(Data!$W69,tabulka_kce_def,Y$1-20,FALSE),VLOOKUP(Data!$W69,tabulka_panely_def,Y$1-18,FALSE))","v":0},{"$f":"IF(Data!$W69<MIN(Panely!$A$9:$A$28),VLOOKUP(Data!$W69,tabulka_kce_def,Z$1-20,FALSE),VLOOKUP(Data!$W69,tabulka_panely_def,Z$1-18,FALSE))","v":0},{"$f":"IF(Data!$W69<MIN(Panely!$A$9:$A$28),VLOOKUP(Data!$W69,tabulka_kce_def,AA$1-20,FALSE),VLOOKUP(Data!$W69,tabulka_panely_def,AA$1-18,FALSE))","v":0},{"$f":"IF(Data!$W69<MIN(Panely!$A$9:$A$28),VLOOKUP(Data!$W69,tabulka_kce_def,AB$1-20,FALSE),VLOOKUP(Data!$W69,tabulka_panely_def,AB$1-18,FALSE))","v":0},{"$f":"IF(Data!$W69<MIN(Panely!$A$9:$A$28),VLOOKUP(Data!$W69,tabulka_kce_def,AC$1-20,FALSE),VLOOKUP(Data!$W69,tabulka_panely_def,AC$1-18,FALSE))","v":0},{"$f":"IF(Data!$W69<MIN(Panely!$A$9:$A$28),VLOOKUP(Data!$W69,tabulka_kce_def,AD$1-20,FALSE),VLOOKUP(Data!$W69,tabulka_panely_def,AD$1-18,FALSE))","v":0},{"$f":"IF(Data!$W69<MIN(Panely!$A$9:$A$28),VLOOKUP(Data!$W69,tabulka_kce_def,AE$1-20,FALSE),VLOOKUP(Data!$W69,tabulka_panely_def,AE$1-18,FALSE))","v":0},{"$f":"IF(Data!$W69<MIN(Panely!$A$9:$A$28),VLOOKUP(Data!$W69,tabulka_kce_def,AF$1-20,FALSE),VLOOKUP(Data!$W69,tabulka_panely_def,AF$1-18,FALSE))","v":0},{"$f":"IF(Data!$W69<MIN(Panely!$A$9:$A$28),VLOOKUP(Data!$W69,tabulka_kce_def,AG$1-20,FALSE),VLOOKUP(Data!$W69,tabulka_panely_def,AG$1-18,FALSE))","v":0},{"$f":"IF(Data!$W69<MIN(Panely!$A$9:$A$28),VLOOKUP(Data!$W69,tabulka_kce_def,AH$1-20,FALSE),VLOOKUP(Data!$W69,tabulka_panely_def,AH$1-18,FALSE))","v":0},{"$f":"IF(Data!$W69<MIN(Panely!$A$9:$A$28),VLOOKUP(Data!$W69,tabulka_kce_def,AI$1-20,FALSE),VLOOKUP(Data!$W69,tabulka_panely_def,AI$1-18,FALSE))","v":0},{"$f":"IF(Data!$W69<MIN(Panely!$A$9:$A$28),VLOOKUP(Data!$W69,tabulka_kce_def,AJ$1-20,FALSE),VLOOKUP(Data!$W69,tabulka_panely_def,AJ$1-18,FALSE))","v":0},{"$f":"IF(Data!$W69<MIN(Panely!$A$9:$A$28),VLOOKUP(Data!$W69,tabulka_kce_def,AK$1-20,FALSE),VLOOKUP(Data!$W69,tabulka_panely_def,AK$1-18,FALSE))","v":0},{"$f":"IF(Data!$W69<MIN(Panely!$A$9:$A$28),VLOOKUP(Data!$W69,tabulka_kce_def,AL$1-20,FALSE),VLOOKUP(Data!$W69,tabulka_panely_def,AL$1-18,FALSE))","v":0},{"$f":"IF(Data!$W69<MIN(Panely!$A$9:$A$28),VLOOKUP(Data!$W69,tabulka_kce_def,AM$1-20,FALSE),VLOOKUP(Data!$W69,tabulka_panely_def,AM$1-18,FALSE))","v":0},69,{"$f":"IF(Data!$W69<MIN(Panely!$A$9:$A$28),VLOOKUP(Data!$W69,tabulka_kce_def,63,FALSE),0)","v":0},{"$f":"IF(Data!$W69<MIN(Panely!$A$9:$A$28),VLOOKUP(Data!$W69,tabulka_kce_def,28,FALSE),1)","v":1},{"$f":"IF(Data!$W69<MIN(Panely!$A$9:$A$28),VLOOKUP(Data!$W69,tabulka_kce_def,23,FALSE),VLOOKUP(Data!$W69,tabulka_panely_def,24,FALSE))","v":0},null,0,null,0,0,{"$error":"#N/A"},0,{"$f":"IF(AND(W69>MAX(Konstrukce!A:A),ISNUMBER(W69)),1,0)","v":0}]
[null,"=",{"$f":"IF(Data!$B70<MIN(Panely!$A$9:$A$28),VLOOKUP(Data!$B70,tabulka_kce_def,4,FALSE),VLOOKUP(Data!$B70,tabulka_panely_def,4,FALSE))","v":0},{"$f":"IF(Data!$B70<MIN(Panely!$A$9:$A$28),VLOOKUP(Data!$B70,tabulka_kce_def,23,FALSE),VLOOKUP(Data!$B70,tabulka_panely_def,24,FALSE))","v":0},{"$f":"IF(Data!$B70<MIN(Panely!$A$9:$A$28),VLOOKUP(Data!$B70,tabulka_kce_def,21,FALSE),VLOOKUP(Data!$B70,tabulka_panely_def,22,FALSE))","v":0},{"$f":"IF(Data!$B70<MIN(Panely!$A$9:$A$28),VLOOKUP(Data!$B70,tabulka_kce_def,26,FALSE),VLOOKUP(Data!$B70,tabulka_panely_def,31,FALSE))","v":{"$error":"#DIV/0!"}},{"$f":"IF(Data!$B70<MIN(Panely!$A$9:$A$28),VLOOKUP(Data!$B70,tabulka_kce_def,27,FALSE),VLOOKUP(Data!$B70,tabulka_panely_def,32,FALSE))","v":{"$error":"#DIV/0!"}},{"$f":"IF(VLOOKUP(Data!$B70,tabulka_kce_def,3,FALSE)=\"\",Konstrukce!$G$1,IF(VLOOKUP(Data!$B70,tabulka_kce_def,3,FALSE)=\"z\",Konstrukce!$G$2,VLOOKUP(Data!$B70,tabulka_kce_def,3,FALSE)))","v":{"$error":"#N/A"}},{"$f":"IF(Data!$B70<MIN(Panely!$A$9:$A$28),0,VLOOKUP(Data!$B70,tabulka_panely_def,25,FALSE))","v":0},{"$f":"IF(Data!$B70<MIN(Panely!$A$9:$A$28),VLOOKUP(Data!$B70,tabulka_kce_def,24,FALSE),VLOOKUP(Data!$B70,tabulka_panely_def,33,FALSE))","v":{"$error":"#N/A"}},{"$f":"Konstrukce!$D$1","v":18.770175404064034},{"$f":"Konstrukce!$D$2","v":19.934229593106764},{"$f":"Konstrukce!$G$1","v":-12},{"$f":"IF(Data!$B70<MIN(Panely!$A$9:$A$28),VLOOKUP(Data!$B70,tabulka_kce_def,59,FALSE),VLOOKUP(Data!$B70,tabulka_panely_def,63,FALSE))","v":""},{"$f":"IF(Data!$B70<MIN(Panely!$A$9:$A$28),VLOOKUP(Data!$B70,tabulka_kce_def,60,FALSE),VLOOKUP(Data!$B70,tabulka_panely_def,64,FALSE))","v":""},{"$f":"IF(Data!$B70<MIN(Panely!$A$9:$A$28),VLOOKUP(Data!$B70,tabulka_kce_def,61,FALSE),VLOOKUP(Data!$B70,tabulka_panely_def,65,FALSE))","v":""},{"$f":"IF(Data!$B70<MIN(Panely!$A$9:$A$28),VLOOKUP(Data!$B70,tabulka_kce_def,25,FALSE),0)","v":0},0,null,null,null,null,"=",{"$f":"IF(Data!$W70<MIN(Panely!$A$9:$A$28),VLOOKUP(Data!$W70,tabulka_kce_def,62,FALSE),VLOOKUP(Data!$W70,tabulka_panely_def,65,FALSE))","v":""},{"$f":"IF(Data!$W70<MIN(Panely!$A$9:$A$28),VLOOKUP(Data!$W70,tabulka_kce_def,Y$1-20,FALSE),VLOOKUP(Data!$W70,tabulka_panely_def,Y$1-18,FALSE))","v":0},{"$f":"IF(Data!$W70<MIN(Panely!$A$9:$A$28),VLOOKUP(Data!$W70,tabulka_kce_def,Z$1-20,FALSE),VLOOKUP(Data!$W70,tabulka_panely_def,Z$1-18,FALSE))","v":0},{"$f":"IF(Data!$W70<MIN(Panely!$A$9:$A$28),VLOOKUP(Data!$W70,tabulka_kce_def,AA$1-20,FALSE),VLOOKUP(Data!$W70,tabulka_panely_def,AA$1-18,FALSE))","v":0},{"$f":"IF(Data!$W70<MIN(Panely!$A$9:$A$28),VLOOKUP(Data!$W70,tabulka_kce_def,AB$1-20,FALSE),VLOOKUP(Data!$W70,tabulka_panely_def,AB$1-18,FALSE))","v":0},{"$f":"IF(Data!$W70<MIN(Panely!$A$9:$A$28),VLOOKUP(Data!$W70,tabulka_kce_def,AC$1-20,FALSE),VLOOKUP(Data!$W70,tabulka_panely_def,AC$1-18,FALSE))","v":0},{"$f":"IF(Data!$W70<MIN(Panely!$A$9:$A$28),VLOOKUP(Data!$W70,tabulka_kce_def,AD$1-20,FALSE),VLOOKUP(Data!$W70,tabulka_panely_def,AD$1-18,FALSE))","v":0},{"$f":"IF(Data!$W70<MIN(Panely!$A$9:$A$28),VLOOKUP(Data!$W70,tabulka_kce_def,AE$1-20,FALSE),VLOOKUP(Data!$W70,tabulka_panely_def,AE$1-18,FALSE))","v":0},{"$f":"IF(Data!$W70<MIN(Panely!$A$9:$A$28),VLOOKUP(Data!$W70,tabulka_kce_def,AF$1-20,FALSE),VLOOKUP(Data!$W70,tabulka_panely_def,AF$1-18,FALSE))","v":0},{"$f":"IF(Data!$W70<MIN(Panely!$A$9:$A$28),VLOOKUP(Data!$W70,tabulka_kce_def,AG$1-20,FALSE),VLOOKUP(Data!$W70,tabulka_panely_def,AG$1-18,FALSE))","v":0},{"$f":"IF(Data!$W70<MIN(Panely!$A$9:$A$28),VLOOKUP(Data!$W70,tabulka_kce_def,AH$1-20,FALSE),VLOOKUP(Data!$W70,tabulka_panely_def,AH$1-18,FALSE))","v":0},{"$f":"IF(Data!$W70<MIN(Panely!$A$9:$A$28),VLOOKUP(Data!$W70,tabulka_kce_def,AI$1-20,FALSE),VLOOKUP(Data!$W70,tabulka_panely_def,AI$1-18,FALSE))","v":0},{"$f":"IF(Data!$W70<MIN(Panely!$A$9:$A$28),VLOOKUP(Data!$W70,tabulka_kce_def,AJ$1-20,FALSE),VLOOKUP(Data!$W70,tabulka_panely_def,AJ$1-18,FALSE))","v":0},{"$f":"IF(Data!$W70<MIN(Panely!$A$9:$A$28),VLOOKUP(Data!$W70,tabulka_kce_def,AK$1-20,FALSE),VLOOKUP(Data!$W70,tabulka_panely_def,AK$1-18,FALSE))","v":0},{"$f":"IF(Data!$W70<MIN(Panely!$A$9:$A$28),VLOOKUP(Data!$W70,tabulka_kce_def,AL$1-20,FALSE),VLOOKUP(Data!$W70,tabulka_panely_def,AL$1-18,FALSE))","v":0},{"$f":"IF(Data!$W70<MIN(Panely!$A$9:$A$28),VLOOKUP(Data!$W70,tabulka_kce_def,AM$1-20,FALSE),VLOOKUP(Data!$W70,tabulka_panely_def,AM$1-18,FALSE))","v":0},70,{"$f":"IF(Data!$W70<MIN(Panely!$A$9:$A$28),VLOOKUP(Data!$W70,tabulka_kce_def,63,FALSE),0)","v":0},{"$f":"IF(Data!$W70<MIN(Panely!$A$9:$A$28),VLOOKUP(Data!$W70,tabulka_kce_def,28,FALSE),1)","v":1},{"$f":"IF(Data!$W70<MIN(Panely!$A$9:$A$28),VLOOKUP(Data!$W70,tabulka_kce_def,23,FALSE),VLOOKUP(Data!$W70,tabulka_panely_def,24,FALSE))","v":0},null,0,null,0,0,{"$error":"#N/A"},0,{"$f":"IF(AND(W70>MAX(Konstrukce!A:A),ISNUMBER(W70)),1,0)","v":0}]
[null,"=",{"$f":"IF(Data!$B71<MIN(Panely!$A$9:$A$28),VLOOKUP(Data!$B71,tabulka_kce_def,4,FALSE),VLOOKUP(Data!$B71,tabulka_panely_def,4,FALSE))","v":0},{"$f":"IF(Data!$B71<MIN(Panely!$A$9:$A$28),VLOOKUP(Data!$B71,tabulka_kce_def,23,FALSE),VLOOKUP(Data!$B71,tabulka_panely_def,24,FALSE))","v":0},{"$f":"IF(Data!$B71<MIN(Panely!$A$9:$A$28),VLOOKUP(Data!$B71,tabulka_kce_def,21,FALSE),VLOOKUP(Data!$B71,tabulka_panely_def,22,FALSE))","v":0},{"$f":"IF(Data!$B71<MIN(Panely!$A$9:$A$28),VLOOKUP(Data!$B71,tabulka_kce_def,26,FALSE),VLOOKUP(Data!$B71,tabulka_panely_def,31,FALSE))","v":{"$error":"#DIV/0!"}},{"$f":"IF(Data!$B71<MIN(Panely!$A$9:$A$28),VLOOKUP(Data!$B71,tabulka_kce_def,27,FALSE),VLOOKUP(Data!$B71,tabulka_panely_def,32,FALSE))","v":{"$error":"#DIV/0!"}},{"$f":"IF(VLOOKUP(Data!$B71,tabulka_kce_def,3,FALSE)=\"\",Konstrukce!$G$1,IF(VLOOKUP(Data!$B71,tabulka_kce_def,3,FALSE)=\"z\",Konstrukce!$G$2,VLOOKUP(Data!$B71,tabulka_kce_def,3,FALSE)))","v":{"$error":"#N/A"}},{"$f":"IF(Data!$B71<MIN(Panely!$A$9:$A$28),0,VLOOKUP(Data!$B71,tabulka_panely_def,25,FALSE))","v":0},{"$f":"IF(Data!$B71<MIN(Panely!$A$9:$A$28),VLOOKUP(Data!$B71,tabulka_kce_def,24,FALSE),VLOOKUP(Data!$B71,tabulka_panely_def,33,FALSE))","v":{"$error":"#N/A"}},{"$f":"Konstrukce!$D$1","v":18.770175404064034},{"$f":"Konstrukce!$D$2","v":19.934229593106764},{"$f":"Konstrukce!$G$1","v":-12},{"$f":"IF(Data!$B71<MIN(Panely!$A$9:$A$28),VLOOKUP(Data!$B71,tabulka_kce_def,59,FALSE),VLOOKUP(Data!$B71,tabulka_panely_def,63,FALSE))","v":""},{"$f":"IF(Data!$B71<MIN(Panely!$A$9:$A$28),VLOOKUP(Data!$B71,tabulka_kce_def,60,FALSE),VLOOKUP(Data!$B71,tabulka_panely_def,64,FALSE))","v":""},{"$f":"IF(Data!$B71<MIN(Panely!$A$9:$A$28),VLOOKUP(Data!$B71,tabulka_kce_def,61,FALSE),VLOOKUP(Data!$B71,tabulka_panely_def,65,FALSE))","v":""},{"$f":"IF(Data!$B71<MIN(Panely!$A$9:$A$28),VLOOKUP(Data!$B71,tabulka_kce_def,25,FALSE),0)","v":0},0,null,null,null,null,"=",{"$f":"IF(Data!$W71<MIN(Panely!$A$9:$A$28),VLOOKUP(Data!$W71,tabulka_kce_def,62,FALSE),VLOOKUP(Data!$W71,tabulka_panely_def,65,FALSE))","v":""},{"$f":"IF(Data!$W71<MIN(Panely!$A$9:$A$28),VLOOKUP(Data!$W71,tabulka_kce_def,Y$1-20,FALSE),VLOOKUP(Data!$W71,tabulka_panely_def,Y$1-18,FALSE))","v":0},{"$f":"IF(Data!$W71<MIN(Panely!$A$9:$A$28),VLOOKUP(Data!$W71,tabulka_kce_def,Z$1-20,FALSE),VLOOKUP(Data!$W71,tabulka_panely_def,Z$1-18,FALSE))","v":0},{"$f":"IF(Data!$W71<MIN(Panely!$A$9:$A$28),VLOOKUP(Data!$W71,tabulka_kce_def,AA$1-20,FALSE),VLOOKUP(Data!$W71,tabulka_panely_def,AA$1-18,FALSE))","v":0},{"$f":"IF(Data!$W71<MIN(Panely!$A$9:$A$28),VLOOKUP(Data!$W71,tabulka_kce_def,AB$1-20,FALSE),VLOOKUP(Data!$W71,tabulka_panely_def,AB$1-18,FALSE))","v":0},{"$f":"IF(Data!$W71<MIN(Panely!$A$9:$A$28),VLOOKUP(Data!$W71,tabulka_kce_def,AC$1-20,FALSE),VLOOKUP(Data!$W71,tabulka_panely_def,AC$1-18,FALSE))","v":0},{"$f":"IF(Data!$W71<MIN(Panely!$A$9:$A$28),VLOOKUP(Data!$W71,tabulka_kce_def,AD$1-20,FALSE),VLOOKUP(Data!$W71,tabulka_panely_def,AD$1-18,FALSE))","v":0},{"$f":"IF(Data!$W71<MIN(Panely!$A$9:$A$28),VLOOKUP(Data!$W71,tabulka_kce_def,AE$1-20,FALSE),VLOOKUP(Data!$W71,tabulka_panely_def,AE$1-18,FALSE))","v":0},{"$f":"IF(Data!$W71<MIN(Panely!$A$9:$A$28),VLOOKUP(Data!$W71,tabulka_kce_def,AF$1-20,FALSE),VLOOKUP(Data!$W71,tabulka_panely_def,AF$1-18,FALSE))","v":0},{"$f":"IF(Data!$W71<MIN(Panely!$A$9:$A$28),VLOOKUP(Data!$W71,tabulka_kce_def,AG$1-20,FALSE),VLOOKUP(Data!$W71,tabulka_panely_def,AG$1-18,FALSE))","v":0},{"$f":"IF(Data!$W71<MIN(Panely!$A$9:$A$28),VLOOKUP(Data!$W71,tabulka_kce_def,AH$1-20,FALSE),VLOOKUP(Data!$W71,tabulka_panely_def,AH$1-18,FALSE))","v":0},{"$f":"IF(Data!$W71<MIN(Panely!$A$9:$A$28),VLOOKUP(Data!$W71,tabulka_kce_def,AI$1-20,FALSE),VLOOKUP(Data!$W71,tabulka_panely_def,AI$1-18,FALSE))","v":0},{"$f":"IF(Data!$W71<MIN(Panely!$A$9:$A$28),VLOOKUP(Data!$W71,tabulka_kce_def,AJ$1-20,FALSE),VLOOKUP(Data!$W71,tabulka_panely_def,AJ$1-18,FALSE))","v":0},{"$f":"IF(Data!$W71<MIN(Panely!$A$9:$A$28),VLOOKUP(Data!$W71,tabulka_kce_def,AK$1-20,FALSE),VLOOKUP(Data!$W71,tabulka_panely_def,AK$1-18,FALSE))","v":0},{"$f":"IF(Data!$W71<MIN(Panely!$A$9:$A$28),VLOOKUP(Data!$W71,tabulka_kce_def,AL$1-20,FALSE),VLOOKUP(Data!$W71,tabulka_panely_def,AL$1-18,FALSE))","v":0},{"$f":"IF(Data!$W71<MIN(Panely!$A$9:$A$28),VLOOKUP(Data!$W71,tabulka_kce_def,AM$1-20,FALSE),VLOOKUP(Data!$W71,tabulka_panely_def,AM$1-18,FALSE))","v":0},71,{"$f":"IF(Data!$W71<MIN(Panely!$A$9:$A$28),VLOOKUP(Data!$W71,tabulka_kce_def,63,FALSE),0)","v":0},{"$f":"IF(Data!$W71<MIN(Panely!$A$9:$A$28),VLOOKUP(Data!$W71,tabulka_kce_def,28,FALSE),1)","v":1},{"$f":"IF(Data!$W71<MIN(Panely!$A$9:$A$28),VLOOKUP(Data!$W71,tabulka_kce_def,23,FALSE),VLOOKUP(Data!$W71,tabulka_panely_def,24,FALSE))","v":0},null,0,null,0,0,{"$error":"#N/A"},0,{"$f":"IF(AND(W71>MAX(Konstrukce!A:A),ISNUMBER(W71)),1,0)","v":0}]
[null,"=",{"$f":"IF(Data!$B72<MIN(Panely!$A$9:$A$28),VLOOKUP(Data!$B72,tabulka_kce_def,4,FALSE),VLOOKUP(Data!$B72,tabulka_panely_def,4,FALSE))","v":0},{"$f":"IF(Data!$B72<MIN(Panely!$A$9:$A$28),VLOOKUP(Data!$B72,tabulka_kce_def,23,FALSE),VLOOKUP(Data!$B72,tabulka_panely_def,24,FALSE))","v":0},{"$f":"IF(Data!$B72<MIN(Panely!$A$9:$A$28),VLOOKUP(Data!$B72,tabulka_kce_def,21,FALSE),VLOOKUP(Data!$B72,tabulka_panely_def,22,FALSE))","v":0},{"$f":"IF(Data!$B72<MIN(Panely!$A$9:$A$28),VLOOKUP(Data!$B72,tabulka_kce_def,26,FALSE),VLOOKUP(Data!$B72,tabulka_panely_def,31,FALSE))","v":{"$error":"#DIV/0!"}},{"$f":"IF(Data!$B72<MIN(Panely!$A$9:$A$28),VLOOKUP(Data!$B72,tabulka_kce_def,27,FALSE),VLOOKUP(Data!$B72,tabulka_panely_def,32,FALSE))","v":{"$error":"#DIV/0!"}},{"$f":"IF(VLOOKUP(Data!$B72,tabulka_kce_def,3,FALSE)=\"\",Konstrukce!$G$1,IF(VLOOKUP(Data!$B72,tabulka_kce_def,3,FALSE)=\"z\",Konstrukce!$G$2,VLOOKUP(Data!$B72,tabulka_kce_def,3,FALSE)))","v":{"$error":"#N/A"}},{"$f":"IF(Data!$B72<MIN(Panely!$A$9:$A$28),0,VLOOKUP(Data!$B72,tabulka_panely_def,25,FALSE))","v":0},{"$f":"IF(Data!$B72<MIN(Panely!$A$9:$A$28),VLOOKUP(Data!$B72,tabulka_kce_def,24,FALSE),VLOOKUP(Data!$B72,tabulka_panely_def,33,FALSE))","v":{"$error":"#N/A"}},{"$f":"Konstrukce!$D$1","v":18.770175404064034},{"$f":"Konstrukce!$D$2","v":19.934229593106764},{"$f":"Konstrukce!$G$1","v":-12},{"$f":"IF(Data!$B72<MIN(Panely!$A$9:$A$28),VLOOKUP(Data!$B72,tabulka_kce_def,59,FALSE),VLOOKUP(Data!$B72,tabulka_panely_def,63,FALSE))","v":""},{"$f":"IF(Data!$B72<MIN(Panely!$A$9:$A$28),VLOOKUP(Data!$B72,tabulka_kce_def,60,FALSE),VLOOKUP(Data!$B72,tabulka_panely_def,64,FALSE))","v":""},{"$f":"IF(Data!$B72<MIN(Panely!$A$9:$A$28),VLOOKUP(Data!$B72,tabulka_kce_def,61,FALSE),VLOOKUP(Data!$B72,tabulka_panely_def,65,FALSE))","v":""},{"$f":"IF(Data!$B72<MIN(Panely!$A$9:$A$28),VLOOKUP(Data!$B72,tabulka_kce_def,25,FALSE),0)","v":0},0,null,null,null,null,"=",{"$f":"IF(Data!$W72<MIN(Panely!$A$9:$A$28),VLOOKUP(Data!$W72,tabulka_kce_def,62,FALSE),VLOOKUP(Data!$W72,tabulka_panely_def,65,FALSE))","v":""},{"$f":"IF(Data!$W72<MIN(Panely!$A$9:$A$28),VLOOKUP(Data!$W72,tabulka_kce_def,Y$1-20,FALSE),VLOOKUP(Data!$W72,tabulka_panely_def,Y$1-18,FALSE))","v":0},{"$f":"IF(Data!$W72<MIN(Panely!$A$9:$A$28),VLOOKUP(Data!$W72,tabulka_kce_def,Z$1-20,FALSE),VLOOKUP(Data!$W72,tabulka_panely_def,Z$1-18,FALSE))","v":0},{"$f":"IF(Data!$W72<MIN(Panely!$A$9:$A$28),VLOOKUP(Data!$W72,tabulka_kce_def,AA$1-20,FALSE),VLOOKUP(Data!$W72,tabulka_panely_def,AA$1-18,FALSE))","v":0},{"$f":"IF(Data!$W72<MIN(Panely!$A$9:$A$28),VLOOKUP(Data!$W72,tabulka_kce_def,AB$1-20,FALSE),VLOOKUP(Data!$W72,tabulka_panely_def,AB$1-18,FALSE))","v":0},{"$f":"IF(Data!$W72<MIN(Panely!$A$9:$A$28),VLOOKUP(Data!$W72,tabulka_kce_def,AC$1-20,FALSE),VLOOKUP(Data!$W72,tabulka_panely_def,AC$1-18,FALSE))","v":0},{"$f":"IF(Data!$W72<MIN(Panely!$A$9:$A$28),VLOOKUP(Data!$W72,tabulka_kce_def,AD$1-20,FALSE),VLOOKUP(Data!$W72,tabulka_panely_def,AD$1-18,FALSE))","v":0},{"$f":"IF(Data!$W72<MIN(Panely!$A$9:$A$28),VLOOKUP(Data!$W72,tabulka_kce_def,AE$1-20,FALSE),VLOOKUP(Data!$W72,tabulka_panely_def,AE$1-18,FALSE))","v":0},{"$f":"IF(Data!$W72<MIN(Panely!$A$9:$A$28),VLOOKUP(Data!$W72,tabulka_kce_def,AF$1-20,FALSE),VLOOKUP(Data!$W72,tabulka_panely_def,AF$1-18,FALSE))","v":0},{"$f":"IF(Data!$W72<MIN(Panely!$A$9:$A$28),VLOOKUP(Data!$W72,tabulka_kce_def,AG$1-20,FALSE),VLOOKUP(Data!$W72,tabulka_panely_def,AG$1-18,FALSE))","v":0},{"$f":"IF(Data!$W72<MIN(Panely!$A$9:$A$28),VLOOKUP(Data!$W72,tabulka_kce_def,AH$1-20,FALSE),VLOOKUP(Data!$W72,tabulka_panely_def,AH$1-18,FALSE))","v":0},{"$f":"IF(Data!$W72<MIN(Panely!$A$9:$A$28),VLOOKUP(Data!$W72,tabulka_kce_def,AI$1-20,FALSE),VLOOKUP(Data!$W72,tabulka_panely_def,AI$1-18,FALSE))","v":0},{"$f":"IF(Data!$W72<MIN(Panely!$A$9:$A$28),VLOOKUP(Data!$W72,tabulka_kce_def,AJ$1-20,FALSE),VLOOKUP(Data!$W72,tabulka_panely_def,AJ$1-18,FALSE))","v":0},{"$f":"IF(Data!$W72<MIN(Panely!$A$9:$A$28),VLOOKUP(Data!$W72,tabulka_kce_def,AK$1-20,FALSE),VLOOKUP(Data!$W72,tabulka_panely_def,AK$1-18,FALSE))","v":0},{"$f":"IF(Data!$W72<MIN(Panely!$A$9:$A$28),VLOOKUP(Data!$W72,tabulka_kce_def,AL$1-20,FALSE),VLOOKUP(Data!$W72,tabulka_panely_def,AL$1-18,FALSE))","v":0},{"$f":"IF(Data!$W72<MIN(Panely!$A$9:$A$28),VLOOKUP(Data!$W72,tabulka_kce_def,AM$1-20,FALSE),VLOOKUP(Data!$W72,tabulka_panely_def,AM$1-18,FALSE))","v":0},72,{"$f":"IF(Data!$W72<MIN(Panely!$A$9:$A$28),VLOOKUP(Data!$W72,tabulka_kce_def,63,FALSE),0)","v":0},{"$f":"IF(Data!$W72<MIN(Panely!$A$9:$A$28),VLOOKUP(Data!$W72,tabulka_kce_def,28,FALSE),1)","v":1},{"$f":"IF(Data!$W72<MIN(Panely!$A$9:$A$28),VLOOKUP(Data!$W72,tabulka_kce_def,23,FALSE),VLOOKUP(Data!$W72,tabulka_panely_def,24,FALSE))","v":0},null,0,null,0,0,{"$error":"#N/A"},0,{"$f":"IF(AND(W72>MAX(Konstrukce!A:A),ISNUMBER(W72)),1,0)","v":0}]
[null,"=",{"$f":"IF(Data!$B73<MIN(Panely!$A$9:$A$28),VLOOKUP(Data!$B73,tabulka_kce_def,4,FALSE),VLOOKUP(Data!$B73,tabulka_panely_def,4,FALSE))","v":0},{"$f":"IF(Data!$B73<MIN(Panely!$A$9:$A$28),VLOOKUP(Data!$B73,tabulka_kce_def,23,FALSE),VLOOKUP(Data!$B73,tabulka_panely_def,24,FALSE))","v":0},{"$f":"IF(Data!$B73<MIN(Panely!$A$9:$A$28),VLOOKUP(Data!$B73,tabulka_kce_def,21,FALSE),VLOOKUP(Data!$B73,tabulka_panely_def,22,FALSE))","v":0},{"$f":"IF(Data!$B73<MIN(Panely!$A$9:$A$28),VLOOKUP(Data!$B73,tabulka_kce_def,26,FALSE),VLOOKUP(Data!$B73,tabulka_panely_def,31,FALSE))","v":{"$error":"#DIV/0!"}},{"$f":"IF(Data!$B73<MIN(Panely!$A$9:$A$28),VLOOKUP(Data!$B73,tabulka_kce_def,27,FALSE),VLOOKUP(Data!$B73,tabulka_panely_def,32,FALSE))","v":{"$error":"#DIV/0!"}},{"$f":"IF(VLOOKUP(Data!$B73,tabulka_kce_def,3,FALSE)=\"\",Konstrukce!$G$1,IF(VLOOKUP(Data!$B73,tabulka_kce_def,3,FALSE)=\"z\",Konstrukce!$G$2,VLOOKUP(Data!$B73,tabulka_kce_def,3,FALSE)))","v":{"$error":"#N/A"}},{"$f":"IF(Data!$B73<MIN(Panely!$A$9:$A$28),0,VLOOKUP(Data!$B73,tabulka_panely_def,25,FALSE))","v":0},{"$f":"IF(Data!$B73<MIN(Panely!$A$9:$A$28),VLOOKUP(Data!$B73,tabulka_kce_def,24,FALSE),VLOOKUP(Data!$B73,tabulka_panely_def,33,FALSE))","v":{"$error":"#N/A"}},{"$f":"Konstrukce!$D$1","v":18.770175404064034},{"$f":"Konstrukce!$D$2","v":19.934229593106764},{"$f":"Konstrukce!$G$1","v":-12},{"$f":"IF(Data!$B73<MIN(Panely!$A$9:$A$28),VLOOKUP(Data!$B73,tabulka_kce_def,59,FALSE),VLOOKUP(Data!$B73,tabulka_panely_def,63,FALSE))","v":""},{"$f":"IF(Data!$B73<MIN(Panely!$A$9:$A$28),VLOOKUP(Data!$B73,tabulka_kce_def,60,FALSE),VLOOKUP(Data!$B73,tabulka_panely_def,64,FALSE))","v":""},{"$f":"IF(Data!$B73<MIN(Panely!$A$9:$A$28),VLOOKUP(Data!$B73,tabulka_kce_def,61,FALSE),VLOOKUP(Data!$B73,tabulka_panely_def,65,FALSE))","v":""},{"$f":"IF(Data!$B73<MIN(Panely!$A$9:$A$28),VLOOKUP(Data!$B73,tabulka_kce_def,25,FALSE),0)","v":0},0,null,null,null,null,"=",{"$f":"IF(Data!$W73<MIN(Panely!$A$9:$A$28),VLOOKUP(Data!$W73,tabulka_kce_def,62,FALSE),VLOOKUP(Data!$W73,tabulka_panely_def,65,FALSE))","v":""},{"$f":"IF(Data!$W73<MIN(Panely!$A$9:$A$28),VLOOKUP(Data!$W73,tabulka_kce_def,Y$1-20,FALSE),VLOOKUP(Data!$W73,tabulka_panely_def,Y$1-18,FALSE))","v":0},{"$f":"IF(Data!$W73<MIN(Panely!$A$9:$A$28),VLOOKUP(Data!$W73,tabulka_kce_def,Z$1-20,FALSE),VLOOKUP(Data!$W73,tabulka_panely_def,Z$1-18,FALSE))","v":0},{"$f":"IF(Data!$W73<MIN(Panely!$A$9:$A$28),VLOOKUP(Data!$W73,tabulka_kce_def,AA$1-20,FALSE),VLOOKUP(Data!$W73,tabulka_panely_def,AA$1-18,FALSE))","v":0},{"$f":"IF(Data!$W73<MIN(Panely!$A$9:$A$28),VLOOKUP(Data!$W73,tabulka_kce_def,AB$1-20,FALSE),VLOOKUP(Data!$W73,tabulka_panely_def,AB$1-18,FALSE))","v":0},{"$f":"IF(Data!$W73<MIN(Panely!$A$9:$A$28),VLOOKUP(Data!$W73,tabulka_kce_def,AC$1-20,FALSE),VLOOKUP(Data!$W73,tabulka_panely_def,AC$1-18,FALSE))","v":0},{"$f":"IF(Data!$W73<MIN(Panely!$A$9:$A$28),VLOOKUP(Data!$W73,tabulka_kce_def,AD$1-20,FALSE),VLOOKUP(Data!$W73,tabulka_panely_def,AD$1-18,FALSE))","v":0},{"$f":"IF(Data!$W73<MIN(Panely!$A$9:$A$28),VLOOKUP(Data!$W73,tabulka_kce_def,AE$1-20,FALSE),VLOOKUP(Data!$W73,tabulka_panely_def,AE$1-18,FALSE))","v":0},{"$f":"IF(Data!$W73<MIN(Panely!$A$9:$A$28),VLOOKUP(Data!$W73,tabulka_kce_def,AF$1-20,FALSE),VLOOKUP(Data!$W73,tabulka_panely_def,AF$1-18,FALSE))","v":0},{"$f":"IF(Data!$W73<MIN(Panely!$A$9:$A$28),VLOOKUP(Data!$W73,tabulka_kce_def,AG$1-20,FALSE),VLOOKUP(Data!$W73,tabulka_panely_def,AG$1-18,FALSE))","v":0},{"$f":"IF(Data!$W73<MIN(Panely!$A$9:$A$28),VLOOKUP(Data!$W73,tabulka_kce_def,AH$1-20,FALSE),VLOOKUP(Data!$W73,tabulka_panely_def,AH$1-18,FALSE))","v":0},{"$f":"IF(Data!$W73<MIN(Panely!$A$9:$A$28),VLOOKUP(Data!$W73,tabulka_kce_def,AI$1-20,FALSE),VLOOKUP(Data!$W73,tabulka_panely_def,AI$1-18,FALSE))","v":0},{"$f":"IF(Data!$W73<MIN(Panely!$A$9:$A$28),VLOOKUP(Data!$W73,tabulka_kce_def,AJ$1-20,FALSE),VLOOKUP(Data!$W73,tabulka_panely_def,AJ$1-18,FALSE))","v":0},{"$f":"IF(Data!$W73<MIN(Panely!$A$9:$A$28),VLOOKUP(Data!$W73,tabulka_kce_def,AK$1-20,FALSE),VLOOKUP(Data!$W73,tabulka_panely_def,AK$1-18,FALSE))","v":0},{"$f":"IF(Data!$W73<MIN(Panely!$A$9:$A$28),VLOOKUP(Data!$W73,tabulka_kce_def,AL$1-20,FALSE),VLOOKUP(Data!$W73,tabulka_panely_def,AL$1-18,FALSE))","v":0},{"$f":"IF(Data!$W73<MIN(Panely!$A$9:$A$28),VLOOKUP(Data!$W73,tabulka_kce_def,AM$1-20,FALSE),VLOOKUP(Data!$W73,tabulka_panely_def,AM$1-18,FALSE))","v":0},73,{"$f":"IF(Data!$W73<MIN(Panely!$A$9:$A$28),VLOOKUP(Data!$W73,tabulka_kce_def,63,FALSE),0)","v":0},{"$f":"IF(Data!$W73<MIN(Panely!$A$9:$A$28),VLOOKUP(Data!$W73,tabulka_kce_def,28,FALSE),1)","v":1},{"$f":"IF(Data!$W73<MIN(Panely!$A$9:$A$28),VLOOKUP(Data!$W73,tabulka_kce_def,23,FALSE),VLOOKUP(Data!$W73,tabulka_panely_def,24,FALSE))","v":0},null,0,null,0,0,{"$error":"#N/A"},0,{"$f":"IF(AND(W73>MAX(Konstrukce!A:A),ISNUMBER(W73)),1,0)","v":0}]
[null,"=",{"$f":"IF(Data!$B74<MIN(Panely!$A$9:$A$28),VLOOKUP(Data!$B74,tabulka_kce_def,4,FALSE),VLOOKUP(Data!$B74,tabulka_panely_def,4,FALSE))","v":0},{"$f":"IF(Data!$B74<MIN(Panely!$A$9:$A$28),VLOOKUP(Data!$B74,tabulka_kce_def,23,FALSE),VLOOKUP(Data!$B74,tabulka_panely_def,24,FALSE))","v":0},{"$f":"IF(Data!$B74<MIN(Panely!$A$9:$A$28),VLOOKUP(Data!$B74,tabulka_kce_def,21,FALSE),VLOOKUP(Data!$B74,tabulka_panely_def,22,FALSE))","v":0},{"$f":"IF(Data!$B74<MIN(Panely!$A$9:$A$28),VLOOKUP(Data!$B74,tabulka_kce_def,26,FALSE),VLOOKUP(Data!$B74,tabulka_panely_def,31,FALSE))","v":{"$error":"#DIV/0!"}},{"$f":"IF(Data!$B74<MIN(Panely!$A$9:$A$28),VLOOKUP(Data!$B74,tabulka_kce_def,27,FALSE),VLOOKUP(Data!$B74,tabulka_panely_def,32,FALSE))","v":{"$error":"#DIV/0!"}},{"$f":"IF(VLOOKUP(Data!$B74,tabulka_kce_def,3,FALSE)=\"\",Konstrukce!$G$1,IF(VLOOKUP(Data!$B74,tabulka_kce_def,3,FALSE)=\"z\",Konstrukce!$G$2,VLOOKUP(Data!$B74,tabulka_kce_def,3,FALSE)))","v":{"$error":"#N/A"}},{"$f":"IF(Data!$B74<MIN(Panely!$A$9:$A$28),0,VLOOKUP(Data!$B74,tabulka_panely_def,25,FALSE))","v":0},{"$f":"IF(Data!$B74<MIN(Panely!$A$9:$A$28),VLOOKUP(Data!$B74,tabulka_kce_def,24,FALSE),VLOOKUP(Data!$B74,tabulka_panely_def,33,FALSE))","v":{"$error":"#N/A"}},{"$f":"Konstrukce!$D$1","v":18.770175404064034},{"$f":"Konstrukce!$D$2","v":19.934229593106764},{"$f":"Konstrukce!$G$1","v":-12},{"$f":"IF(Data!$B74<MIN(Panely!$A$9:$A$28),VLOOKUP(Data!$B74,tabulka_kce_def,59,FALSE),VLOOKUP(Data!$B74,tabulka_panely_def,63,FALSE))","v":""},{"$f":"IF(Data!$B74<MIN(Panely!$A$9:$A$28),VLOOKUP(Data!$B74,tabulka_kce_def,60,FALSE),VLOOKUP(Data!$B74,tabulka_panely_def,64,FALSE))","v":""},{"$f":"IF(Data!$B74<MIN(Panely!$A$9:$A$28),VLOOKUP(Data!$B74,tabulka_kce_def,61,FALSE),VLOOKUP(Data!$B74,tabulka_panely_def,65,FALSE))","v":""},{"$f":"IF(Data!$B74<MIN(Panely!$A$9:$A$28),VLOOKUP(Data!$B74,tabulka_kce_def,25,FALSE),0)","v":0},0,null,null,null,null,"=",{"$f":"IF(Data!$W74<MIN(Panely!$A$9:$A$28),VLOOKUP(Data!$W74,tabulka_kce_def,62,FALSE),VLOOKUP(Data!$W74,tabulka_panely_def,65,FALSE))","v":""},{"$f":"IF(Data!$W74<MIN(Panely!$A$9:$A$28),VLOOKUP(Data!$W74,tabulka_kce_def,Y$1-20,FALSE),VLOOKUP(Data!$W74,tabulka_panely_def,Y$1-18,FALSE))","v":0},{"$f":"IF(Data!$W74<MIN(Panely!$A$9:$A$28),VLOOKUP(Data!$W74,tabulka_kce_def,Z$1-20,FALSE),VLOOKUP(Data!$W74,tabulka_panely_def,Z$1-18,FALSE))","v":0},{"$f":"IF(Data!$W74<MIN(Panely!$A$9:$A$28),VLOOKUP(Data!$W74,tabulka_kce_def,AA$1-20,FALSE),VLOOKUP(Data!$W74,tabulka_panely_def,AA$1-18,FALSE))","v":0},{"$f":"IF(Data!$W74<MIN(Panely!$A$9:$A$28),VLOOKUP(Data!$W74,tabulka_kce_def,AB$1-20,FALSE),VLOOKUP(Data!$W74,tabulka_panely_def,AB$1-18,FALSE))","v":0},{"$f":"IF(Data!$W74<MIN(Panely!$A$9:$A$28),VLOOKUP(Data!$W74,tabulka_kce_def,AC$1-20,FALSE),VLOOKUP(Data!$W74,tabulka_panely_def,AC$1-18,FALSE))","v":0},{"$f":"IF(Data!$W74<MIN(Panely!$A$9:$A$28),VLOOKUP(Data!$W74,tabulka_kce_def,AD$1-20,FALSE),VLOOKUP(Data!$W74,tabulka_panely_def,AD$1-18,FALSE))","v":0},{"$f":"IF(Data!$W74<MIN(Panely!$A$9:$A$28),VLOOKUP(Data!$W74,tabulka_kce_def,AE$1-20,FALSE),VLOOKUP(Data!$W74,tabulka_panely_def,AE$1-18,FALSE))","v":0},{"$f":"IF(Data!$W74<MIN(Panely!$A$9:$A$28),VLOOKUP(Data!$W74,tabulka_kce_def,AF$1-20,FALSE),VLOOKUP(Data!$W74,tabulka_panely_def,AF$1-18,FALSE))","v":0},{"$f":"IF(Data!$W74<MIN(Panely!$A$9:$A$28),VLOOKUP(Data!$W74,tabulka_kce_def,AG$1-20,FALSE),VLOOKUP(Data!$W74,tabulka_panely_def,AG$1-18,FALSE))","v":0},{"$f":"IF(Data!$W74<MIN(Panely!$A$9:$A$28),VLOOKUP(Data!$W74,tabulka_kce_def,AH$1-20,FALSE),VLOOKUP(Data!$W74,tabulka_panely_def,AH$1-18,FALSE))","v":0},{"$f":"IF(Data!$W74<MIN(Panely!$A$9:$A$28),VLOOKUP(Data!$W74,tabulka_kce_def,AI$1-20,FALSE),VLOOKUP(Data!$W74,tabulka_panely_def,AI$1-18,FALSE))","v":0},{"$f":"IF(Data!$W74<MIN(Panely!$A$9:$A$28),VLOOKUP(Data!$W74,tabulka_kce_def,AJ$1-20,FALSE),VLOOKUP(Data!$W74,tabulka_panely_def,AJ$1-18,FALSE))","v":0},{"$f":"IF(Data!$W74<MIN(Panely!$A$9:$A$28),VLOOKUP(Data!$W74,tabulka_kce_def,AK$1-20,FALSE),VLOOKUP(Data!$W74,tabulka_panely_def,AK$1-18,FALSE))","v":0},{"$f":"IF(Data!$W74<MIN(Panely!$A$9:$A$28),VLOOKUP(Data!$W74,tabulka_kce_def,AL$1-20,FALSE),VLOOKUP(Data!$W74,tabulka_panely_def,AL$1-18,FALSE))","v":0},{"$f":"IF(Data!$W74<MIN(Panely!$A$9:$A$28),VLOOKUP(Data!$W74,tabulka_kce_def,AM$1-20,FALSE),VLOOKUP(Data!$W74,tabulka_panely_def,AM$1-18,FALSE))","v":0},74,{"$f":"IF(Data!$W74<MIN(Panely!$A$9:$A$28),VLOOKUP(Data!$W74,tabulka_kce_def,63,FALSE),0)","v":0},{"$f":"IF(Data!$W74<MIN(Panely!$A$9:$A$28),VLOOKUP(Data!$W74,tabulka_kce_def,28,FALSE),1)","v":1},{"$f":"IF(Data!$W74<MIN(Panely!$A$9:$A$28),VLOOKUP(Data!$W74,tabulka_kce_def,23,FALSE),VLOOKUP(Data!$W74,tabulka_panely_def,24,FALSE))","v":0},null,0,null,0,0,{"$error":"#N/A"},0,{"$f":"IF(AND(W74>MAX(Konstrukce!A:A),ISNUMBER(W74)),1,0)","v":0}]
[null,"=",{"$f":"IF(Data!$B75<MIN(Panely!$A$9:$A$28),VLOOKUP(Data!$B75,tabulka_kce_def,4,FALSE),VLOOKUP(Data!$B75,tabulka_panely_def,4,FALSE))","v":0},{"$f":"IF(Data!$B75<MIN(Panely!$A$9:$A$28),VLOOKUP(Data!$B75,tabulka_kce_def,23,FALSE),VLOOKUP(Data!$B75,tabulka_panely_def,24,FALSE))","v":0},{"$f":"IF(Data!$B75<MIN(Panely!$A$9:$A$28),VLOOKUP(Data!$B75,tabulka_kce_def,21,FALSE),VLOOKUP(Data!$B75,tabulka_panely_def,22,FALSE))","v":0},{"$f":"IF(Data!$B75<MIN(Panely!$A$9:$A$28),VLOOKUP(Data!$B75,tabulka_kce_def,26,FALSE),VLOOKUP(Data!$B75,tabulka_panely_def,31,FALSE))","v":{"$error":"#DIV/0!"}},{"$f":"IF(Data!$B75<MIN(Panely!$A$9:$A$28),VLOOKUP(Data!$B75,tabulka_kce_def,27,FALSE),VLOOKUP(Data!$B75,tabulka_panely_def,32,FALSE))","v":{"$error":"#DIV/0!"}},{"$f":"IF(VLOOKUP(Data!$B75,tabulka_kce_def,3,FALSE)=\"\",Konstrukce!$G$1,IF(VLOOKUP(Data!$B75,tabulka_kce_def,3,FALSE)=\"z\",Konstrukce!$G$2,VLOOKUP(Data!$B75,tabulka_kce_def,3,FALSE)))","v":{"$error":"#N/A"}},{"$f":"IF(Data!$B75<MIN(Panely!$A$9:$A$28),0,VLOOKUP(Data!$B75,tabulka_panely_def,25,FALSE))","v":0},{"$f":"IF(Data!$B75<MIN(Panely!$A$9:$A$28),VLOOKUP(Data!$B75,tabulka_kce_def,24,FALSE),VLOOKUP(Data!$B75,tabulka_panely_def,33,FALSE))","v":{"$error":"#N/A"}},{"$f":"Konstrukce!$D$1","v":18.770175404064034},{"$f":"Konstrukce!$D$2","v":19.934229593106764},{"$f":"Konstrukce!$G$1","v":-12},{"$f":"IF(Data!$B75<MIN(Panely!$A$9:$A$28),VLOOKUP(Data!$B75,tabulka_kce_def,59,FALSE),VLOOKUP(Data!$B75,tabulka_panely_def,63,FALSE))","v":""},{"$f":"IF(Data!$B75<MIN(Panely!$A$9:$A$28),VLOOKUP(Data!$B75,tabulka_kce_def,60,FALSE),VLOOKUP(Data!$B75,tabulka_panely_def,64,FALSE))","v":""},{"$f":"IF(Data!$B75<MIN(Panely!$A$9:$A$28),VLOOKUP(Data!$B75,tabulka_kce_def,61,FALSE),VLOOKUP(Data!$B75,tabulka_panely_def,65,FALSE))","v":""},{"$f":"IF(Data!$B75<MIN(Panely!$A$9:$A$28),VLOOKUP(Data!$B75,tabulka_kce_def,25,FALSE),0)","v":0},0,null,null,null,null,"=",{"$f":"IF(Data!$W75<MIN(Panely!$A$9:$A$28),VLOOKUP(Data!$W75,tabulka_kce_def,62,FALSE),VLOOKUP(Data!$W75,tabulka_panely_def,65,FALSE))","v":""},{"$f":"IF(Data!$W75<MIN(Panely!$A$9:$A$28),VLOOKUP(Data!$W75,tabulka_kce_def,Y$1-20,FALSE),VLOOKUP(Data!$W75,tabulka_panely_def,Y$1-18,FALSE))","v":0},{"$f":"IF(Data!$W75<MIN(Panely!$A$9:$A$28),VLOOKUP(Data!$W75,tabulka_kce_def,Z$1-20,FALSE),VLOOKUP(Data!$W75,tabulka_panely_def,Z$1-18,FALSE))","v":0},{"$f":"IF(Data!$W75<MIN(Panely!$A$9:$A$28),VLOOKUP(Data!$W75,tabulka_kce_def,AA$1-20,FALSE),VLOOKUP(Data!$W75,tabulka_panely_def,AA$1-18,FALSE))","v":0},{"$f":"IF(Data!$W75<MIN(Panely!$A$9:$A$28),VLOOKUP(Data!$W75,tabulka_kce_def,AB$1-20,FALSE),VLOOKUP(Data!$W75,tabulka_panely_def,AB$1-18,FALSE))","v":0},{"$f":"IF(Data!$W75<MIN(Panely!$A$9:$A$28),VLOOKUP(Data!$W75,tabulka_kce_def,AC$1-20,FALSE),VLOOKUP(Data!$W75,tabulka_panely_def,AC$1-18,FALSE))","v":0},{"$f":"IF(Data!$W75<MIN(Panely!$A$9:$A$28),VLOOKUP(Data!$W75,tabulka_kce_def,AD$1-20,FALSE),VLOOKUP(Data!$W75,tabulka_panely_def,AD$1-18,FALSE))","v":0},{"$f":"IF(Data!$W75<MIN(Panely!$A$9:$A$28),VLOOKUP(Data!$W75,tabulka_kce_def,AE$1-20,FALSE),VLOOKUP(Data!$W75,tabulka_panely_def,AE$1-18,FALSE))","v":0},{"$f":"IF(Data!$W75<MIN(Panely!$A$9:$A$28),VLOOKUP(Data!$W75,tabulka_kce_def,AF$1-20,FALSE),VLOOKUP(Data!$W75,tabulka_panely_def,AF$1-18,FALSE))","v":0},{"$f":"IF(Data!$W75<MIN(Panely!$A$9:$A$28),VLOOKUP(Data!$W75,tabulka_kce_def,AG$1-20,FALSE),VLOOKUP(Data!$W75,tabulka_panely_def,AG$1-18,FALSE))","v":0},{"$f":"IF(Data!$W75<MIN(Panely!$A$9:$A$28),VLOOKUP(Data!$W75,tabulka_kce_def,AH$1-20,FALSE),VLOOKUP(Data!$W75,tabulka_panely_def,AH$1-18,FALSE))","v":0},{"$f":"IF(Data!$W75<MIN(Panely!$A$9:$A$28),VLOOKUP(Data!$W75,tabulka_kce_def,AI$1-20,FALSE),VLOOKUP(Data!$W75,tabulka_panely_def,AI$1-18,FALSE))","v":0},{"$f":"IF(Data!$W75<MIN(Panely!$A$9:$A$28),VLOOKUP(Data!$W75,tabulka_kce_def,AJ$1-20,FALSE),VLOOKUP(Data!$W75,tabulka_panely_def,AJ$1-18,FALSE))","v":0},{"$f":"IF(Data!$W75<MIN(Panely!$A$9:$A$28),VLOOKUP(Data!$W75,tabulka_kce_def,AK$1-20,FALSE),VLOOKUP(Data!$W75,tabulka_panely_def,AK$1-18,FALSE))","v":0},{"$f":"IF(Data!$W75<MIN(Panely!$A$9:$A$28),VLOOKUP(Data!$W75,tabulka_kce_def,AL$1-20,FALSE),VLOOKUP(Data!$W75,tabulka_panely_def,AL$1-18,FALSE))","v":0},{"$f":"IF(Data!$W75<MIN(Panely!$A$9:$A$28),VLOOKUP(Data!$W75,tabulka_kce_def,AM$1-20,FALSE),VLOOKUP(Data!$W75,tabulka_panely_def,AM$1-18,FALSE))","v":0},75,{"$f":"IF(Data!$W75<MIN(Panely!$A$9:$A$28),VLOOKUP(Data!$W75,tabulka_kce_def,63,FALSE),0)","v":0},{"$f":"IF(Data!$W75<MIN(Panely!$A$9:$A$28),VLOOKUP(Data!$W75,tabulka_kce_def,28,FALSE),1)","v":1},{"$f":"IF(Data!$W75<MIN(Panely!$A$9:$A$28),VLOOKUP(Data!$W75,tabulka_kce_def,23,FALSE),VLOOKUP(Data!$W75,tabulka_panely_def,24,FALSE))","v":0},null,0,null,0,0,{"$error":"#N/A"},0,{"$f":"IF(AND(W75>MAX(Konstrukce!A:A),ISNUMBER(W75)),1,0)","v":0}]
[null,"=",{"$f":"IF(Data!$B76<MIN(Panely!$A$9:$A$28),VLOOKUP(Data!$B76,tabulka_kce_def,4,FALSE),VLOOKUP(Data!$B76,tabulka_panely_def,4,FALSE))","v":0},{"$f":"IF(Data!$B76<MIN(Panely!$A$9:$A$28),VLOOKUP(Data!$B76,tabulka_kce_def,23,FALSE),VLOOKUP(Data!$B76,tabulka_panely_def,24,FALSE))","v":0},{"$f":"IF(Data!$B76<MIN(Panely!$A$9:$A$28),VLOOKUP(Data!$B76,tabulka_kce_def,21,FALSE),VLOOKUP(Data!$B76,tabulka_panely_def,22,FALSE))","v":0},{"$f":"IF(Data!$B76<MIN(Panely!$A$9:$A$28),VLOOKUP(Data!$B76,tabulka_kce_def,26,FALSE),VLOOKUP(Data!$B76,tabulka_panely_def,31,FALSE))","v":{"$error":"#DIV/0!"}},{"$f":"IF(Data!$B76<MIN(Panely!$A$9:$A$28),VLOOKUP(Data!$B76,tabulka_kce_def,27,FALSE),VLOOKUP(Data!$B76,tabulka_panely_def,32,FALSE))","v":{"$error":"#DIV/0!"}},{"$f":"IF(VLOOKUP(Data!$B76,tabulka_kce_def,3,FALSE)=\"\",Konstrukce!$G$1,IF(VLOOKUP(Data!$B76,tabulka_kce_def,3,FALSE)=\"z\",Konstrukce!$G$2,VLOOKUP(Data!$B76,tabulka_kce_def,3,FALSE)))","v":{"$error":"#N/A"}},{"$f":"IF(Data!$B76<MIN(Panely!$A$9:$A$28),0,VLOOKUP(Data!$B76,tabulka_panely_def,25,FALSE))","v":0},{"$f":"IF(Data!$B76<MIN(Panely!$A$9:$A$28),VLOOKUP(Data!$B76,tabulka_kce_def,24,FALSE),VLOOKUP(Data!$B76,tabulka_panely_def,33,FALSE))","v":{"$error":"#N/A"}},{"$f":"Konstrukce!$D$1","v":18.770175404064034},{"$f":"Konstrukce!$D$2","v":19.934229593106764},{"$f":"Konstrukce!$G$1","v":-12},{"$f":"IF(Data!$B76<MIN(Panely!$A$9:$A$28),VLOOKUP(Data!$B76,tabulka_kce_def,59,FALSE),VLOOKUP(Data!$B76,tabulka_panely_def,63,FALSE))","v":""},{"$f":"IF(Data!$B76<MIN(Panely!$A$9:$A$28),VLOOKUP(Data!$B76,tabulka_kce_def,60,FALSE),VLOOKUP(Data!$B76,tabulka_panely_def,64,FALSE))","v":""},{"$f":"IF(Data!$B76<MIN(Panely!$A$9:$A$28),VLOOKUP(Data!$B76,tabulka_kce_def,61,FALSE),VLOOKUP(Data!$B76,tabulka_panely_def,65,FALSE))","v":""},{"$f":"IF(Data!$B76<MIN(Panely!$A$9:$A$28),VLOOKUP(Data!$B76,tabulka_kce_def,25,FALSE),0)","v":0},0,null,null,null,null,"=",{"$f":"IF(Data!$W76<MIN(Panely!$A$9:$A$28),VLOOKUP(Data!$W76,tabulka_kce_def,62,FALSE),VLOOKUP(Data!$W76,tabulka_panely_def,65,FALSE))","v":""},{"$f":"IF(Data!$W76<MIN(Panely!$A$9:$A$28),VLOOKUP(Data!$W76,tabulka_kce_def,Y$1-20,FALSE),VLOOKUP(Data!$W76,tabulka_panely_def,Y$1-18,FALSE))","v":0},{"$f":"IF(Data!$W76<MIN(Panely!$A$9:$A$28),VLOOKUP(Data!$W76,tabulka_kce_def,Z$1-20,FALSE),VLOOKUP(Data!$W76,tabulka_panely_def,Z$1-18,FALSE))","v":0},{"$f":"IF(Data!$W76<MIN(Panely!$A$9:$A$28),VLOOKUP(Data!$W76,tabulka_kce_def,AA$1-20,FALSE),VLOOKUP(Data!$W76,tabulka_panely_def,AA$1-18,FALSE))","v":0},{"$f":"IF(Data!$W76<MIN(Panely!$A$9:$A$28),VLOOKUP(Data!$W76,tabulka_kce_def,AB$1-20,FALSE),VLOOKUP(Data!$W76,tabulka_panely_def,AB$1-18,FALSE))","v":0},{"$f":"IF(Data!$W76<MIN(Panely!$A$9:$A$28),VLOOKUP(Data!$W76,tabulka_kce_def,AC$1-20,FALSE),VLOOKUP(Data!$W76,tabulka_panely_def,AC$1-18,FALSE))","v":0},{"$f":"IF(Data!$W76<MIN(Panely!$A$9:$A$28),VLOOKUP(Data!$W76,tabulka_kce_def,AD$1-20,FALSE),VLOOKUP(Data!$W76,tabulka_panely_def,AD$1-18,FALSE))","v":0},{"$f":"IF(Data!$W76<MIN(Panely!$A$9:$A$28),VLOOKUP(Data!$W76,tabulka_kce_def,AE$1-20,FALSE),VLOOKUP(Data!$W76,tabulka_panely_def,AE$1-18,FALSE))","v":0},{"$f":"IF(Data!$W76<MIN(Panely!$A$9:$A$28),VLOOKUP(Data!$W76,tabulka_kce_def,AF$1-20,FALSE),VLOOKUP(Data!$W76,tabulka_panely_def,AF$1-18,FALSE))","v":0},{"$f":"IF(Data!$W76<MIN(Panely!$A$9:$A$28),VLOOKUP(Data!$W76,tabulka_kce_def,AG$1-20,FALSE),VLOOKUP(Data!$W76,tabulka_panely_def,AG$1-18,FALSE))","v":0},{"$f":"IF(Data!$W76<MIN(Panely!$A$9:$A$28),VLOOKUP(Data!$W76,tabulka_kce_def,AH$1-20,FALSE),VLOOKUP(Data!$W76,tabulka_panely_def,AH$1-18,FALSE))","v":0},{"$f":"IF(Data!$W76<MIN(Panely!$A$9:$A$28),VLOOKUP(Data!$W76,tabulka_kce_def,AI$1-20,FALSE),VLOOKUP(Data!$W76,tabulka_panely_def,AI$1-18,FALSE))","v":0},{"$f":"IF(Data!$W76<MIN(Panely!$A$9:$A$28),VLOOKUP(Data!$W76,tabulka_kce_def,AJ$1-20,FALSE),VLOOKUP(Data!$W76,tabulka_panely_def,AJ$1-18,FALSE))","v":0},{"$f":"IF(Data!$W76<MIN(Panely!$A$9:$A$28),VLOOKUP(Data!$W76,tabulka_kce_def,AK$1-20,FALSE),VLOOKUP(Data!$W76,tabulka_panely_def,AK$1-18,FALSE))","v":0},{"$f":"IF(Data!$W76<MIN(Panely!$A$9:$A$28),VLOOKUP(Data!$W76,tabulka_kce_def,AL$1-20,FALSE),VLOOKUP(Data!$W76,tabulka_panely_def,AL$1-18,FALSE))","v":0},{"$f":"IF(Data!$W76<MIN(Panely!$A$9:$A$28),VLOOKUP(Data!$W76,tabulka_kce_def,AM$1-20,FALSE),VLOOKUP(Data!$W76,tabulka_panely_def,AM$1-18,FALSE))","v":0},76,{"$f":"IF(Data!$W76<MIN(Panely!$A$9:$A$28),VLOOKUP(Data!$W76,tabulka_kce_def,63,FALSE),0)","v":0},{"$f":"IF(Data!$W76<MIN(Panely!$A$9:$A$28),VLOOKUP(Data!$W76,tabulka_kce_def,28,FALSE),1)","v":1},{"$f":"IF(Data!$W76<MIN(Panely!$A$9:$A$28),VLOOKUP(Data!$W76,tabulka_kce_def,23,FALSE),VLOOKUP(Data!$W76,tabulka_panely_def,24,FALSE))","v":0},null,0,null,0,0,{"$error":"#N/A"},0,{"$f":"IF(AND(W76>MAX(Konstrukce!A:A),ISNUMBER(W76)),1,0)","v":0}]
[null,"=",{"$f":"IF(Data!$B77<MIN(Panely!$A$9:$A$28),VLOOKUP(Data!$B77,tabulka_kce_def,4,FALSE),VLOOKUP(Data!$B77,tabulka_panely_def,4,FALSE))","v":0},{"$f":"IF(Data!$B77<MIN(Panely!$A$9:$A$28),VLOOKUP(Data!$B77,tabulka_kce_def,23,FALSE),VLOOKUP(Data!$B77,tabulka_panely_def,24,FALSE))","v":0},{"$f":"IF(Data!$B77<MIN(Panely!$A$9:$A$28),VLOOKUP(Data!$B77,tabulka_kce_def,21,FALSE),VLOOKUP(Data!$B77,tabulka_panely_def,22,FALSE))","v":0},{"$f":"IF(Data!$B77<MIN(Panely!$A$9:$A$28),VLOOKUP(Data!$B77,tabulka_kce_def,26,FALSE),VLOOKUP(Data!$B77,tabulka_panely_def,31,FALSE))","v":{"$error":"#DIV/0!"}},{"$f":"IF(Data!$B77<MIN(Panely!$A$9:$A$28),VLOOKUP(Data!$B77,tabulka_kce_def,27,FALSE),VLOOKUP(Data!$B77,tabulka_panely_def,32,FALSE))","v":{"$error":"#DIV/0!"}},{"$f":"IF(VLOOKUP(Data!$B77,tabulka_kce_def,3,FALSE)=\"\",Konstrukce!$G$1,IF(VLOOKUP(Data!$B77,tabulka_kce_def,3,FALSE)=\"z\",Konstrukce!$G$2,VLOOKUP(Data!$B77,tabulka_kce_def,3,FALSE)))","v":{"$error":"#N/A"}},{"$f":"IF(Data!$B77<MIN(Panely!$A$9:$A$28),0,VLOOKUP(Data!$B77,tabulka_panely_def,25,FALSE))","v":0},{"$f":"IF(Data!$B77<MIN(Panely!$A$9:$A$28),VLOOKUP(Data!$B77,tabulka_kce_def,24,FALSE),VLOOKUP(Data!$B77,tabulka_panely_def,33,FALSE))","v":{"$error":"#N/A"}},{"$f":"Konstrukce!$D$1","v":18.770175404064034},{"$f":"Konstrukce!$D$2","v":19.934229593106764},{"$f":"Konstrukce!$G$1","v":-12},{"$f":"IF(Data!$B77<MIN(Panely!$A$9:$A$28),VLOOKUP(Data!$B77,tabulka_kce_def,59,FALSE),VLOOKUP(Data!$B77,tabulka_panely_def,63,FALSE))","v":""},{"$f":"IF(Data!$B77<MIN(Panely!$A$9:$A$28),VLOOKUP(Data!$B77,tabulka_kce_def,60,FALSE),VLOOKUP(Data!$B77,tabulka_panely_def,64,FALSE))","v":""},{"$f":"IF(Data!$B77<MIN(Panely!$A$9:$A$28),VLOOKUP(Data!$B77,tabulka_kce_def,61,FALSE),VLOOKUP(Data!$B77,tabulka_panely_def,65,FALSE))","v":""},{"$f":"IF(Data!$B77<MIN(Panely!$A$9:$A$28),VLOOKUP(Data!$B77,tabulka_kce_def,25,FALSE),0)","v":0},0,null,null,null,null,"=",{"$f":"IF(Data!$W77<MIN(Panely!$A$9:$A$28),VLOOKUP(Data!$W77,tabulka_kce_def,62,FALSE),VLOOKUP(Data!$W77,tabulka_panely_def,65,FALSE))","v":""},{"$f":"IF(Data!$W77<MIN(Panely!$A$9:$A$28),VLOOKUP(Data!$W77,tabulka_kce_def,Y$1-20,FALSE),VLOOKUP(Data!$W77,tabulka_panely_def,Y$1-18,FALSE))","v":0},{"$f":"IF(Data!$W77<MIN(Panely!$A$9:$A$28),VLOOKUP(Data!$W77,tabulka_kce_def,Z$1-20,FALSE),VLOOKUP(Data!$W77,tabulka_panely_def,Z$1-18,FALSE))","v":0},{"$f":"IF(Data!$W77<MIN(Panely!$A$9:$A$28),VLOOKUP(Data!$W77,tabulka_kce_def,AA$1-20,FALSE),VLOOKUP(Data!$W77,tabulka_panely_def,AA$1-18,FALSE))","v":0},{"$f":"IF(Data!$W77<MIN(Panely!$A$9:$A$28),VLOOKUP(Data!$W77,tabulka_kce_def,AB$1-20,FALSE),VLOOKUP(Data!$W77,tabulka_panely_def,AB$1-18,FALSE))","v":0},{"$f":"IF(Data!$W77<MIN(Panely!$A$9:$A$28),VLOOKUP(Data!$W77,tabulka_kce_def,AC$1-20,FALSE),VLOOKUP(Data!$W77,tabulka_panely_def,AC$1-18,FALSE))","v":0},{"$f":"IF(Data!$W77<MIN(Panely!$A$9:$A$28),VLOOKUP(Data!$W77,tabulka_kce_def,AD$1-20,FALSE),VLOOKUP(Data!$W77,tabulka_panely_def,AD$1-18,FALSE))","v":0},{"$f":"IF(Data!$W77<MIN(Panely!$A$9:$A$28),VLOOKUP(Data!$W77,tabulka_kce_def,AE$1-20,FALSE),VLOOKUP(Data!$W77,tabulka_panely_def,AE$1-18,FALSE))","v":0},{"$f":"IF(Data!$W77<MIN(Panely!$A$9:$A$28),VLOOKUP(Data!$W77,tabulka_kce_def,AF$1-20,FALSE),VLOOKUP(Data!$W77,tabulka_panely_def,AF$1-18,FALSE))","v":0},{"$f":"IF(Data!$W77<MIN(Panely!$A$9:$A$28),VLOOKUP(Data!$W77,tabulka_kce_def,AG$1-20,FALSE),VLOOKUP(Data!$W77,tabulka_panely_def,AG$1-18,FALSE))","v":0},{"$f":"IF(Data!$W77<MIN(Panely!$A$9:$A$28),VLOOKUP(Data!$W77,tabulka_kce_def,AH$1-20,FALSE),VLOOKUP(Data!$W77,tabulka_panely_def,AH$1-18,FALSE))","v":0},{"$f":"IF(Data!$W77<MIN(Panely!$A$9:$A$28),VLOOKUP(Data!$W77,tabulka_kce_def,AI$1-20,FALSE),VLOOKUP(Data!$W77,tabulka_panely_def,AI$1-18,FALSE))","v":0},{"$f":"IF(Data!$W77<MIN(Panely!$A$9:$A$28),VLOOKUP(Data!$W77,tabulka_kce_def,AJ$1-20,FALSE),VLOOKUP(Data!$W77,tabulka_panely_def,AJ$1-18,FALSE))","v":0},{"$f":"IF(Data!$W77<MIN(Panely!$A$9:$A$28),VLOOKUP(Data!$W77,tabulka_kce_def,AK$1-20,FALSE),VLOOKUP(Data!$W77,tabulka_panely_def,AK$1-18,FALSE))","v":0},{"$f":"IF(Data!$W77<MIN(Panely!$A$9:$A$28),VLOOKUP(Data!$W77,tabulka_kce_def,AL$1-20,FALSE),VLOOKUP(Data!$W77,tabulka_panely_def,AL$1-18,FALSE))","v":0},{"$f":"IF(Data!$W77<MIN(Panely!$A$9:$A$28),VLOOKUP(Data!$W77,tabulka_kce_def,AM$1-20,FALSE),VLOOKUP(Data!$W77,tabulka_panely_def,AM$1-18,FALSE))","v":0},77,{"$f":"IF(Data!$W77<MIN(Panely!$A$9:$A$28),VLOOKUP(Data!$W77,tabulka_kce_def,63,FALSE),0)","v":0},{"$f":"IF(Data!$W77<MIN(Panely!$A$9:$A$28),VLOOKUP(Data!$W77,tabulka_kce_def,28,FALSE),1)","v":1},{"$f":"IF(Data!$W77<MIN(Panely!$A$9:$A$28),VLOOKUP(Data!$W77,tabulka_kce_def,23,FALSE),VLOOKUP(Data!$W77,tabulka_panely_def,24,FALSE))","v":0},null,0,null,0,0,{"$error":"#N/A"},0,{"$f":"IF(AND(W77>MAX(Konstrukce!A:A),ISNUMBER(W77)),1,0)","v":0}]
[null,"=",{"$f":"IF(Data!$B78<MIN(Panely!$A$9:$A$28),VLOOKUP(Data!$B78,tabulka_kce_def,4,FALSE),VLOOKUP(Data!$B78,tabulka_panely_def,4,FALSE))","v":0},{"$f":"IF(Data!$B78<MIN(Panely!$A$9:$A$28),VLOOKUP(Data!$B78,tabulka_kce_def,23,FALSE),VLOOKUP(Data!$B78,tabulka_panely_def,24,FALSE))","v":0},{"$f":"IF(Data!$B78<MIN(Panely!$A$9:$A$28),VLOOKUP(Data!$B78,tabulka_kce_def,21,FALSE),VLOOKUP(Data!$B78,tabulka_panely_def,22,FALSE))","v":0},{"$f":"IF(Data!$B78<MIN(Panely!$A$9:$A$28),VLOOKUP(Data!$B78,tabulka_kce_def,26,FALSE),VLOOKUP(Data!$B78,tabulka_panely_def,31,FALSE))","v":{"$error":"#DIV/0!"}},{"$f":"IF(Data!$B78<MIN(Panely!$A$9:$A$28),VLOOKUP(Data!$B78,tabulka_kce_def,27,FALSE),VLOOKUP(Data!$B78,tabulka_panely_def,32,FALSE))","v":{"$error":"#DIV/0!"}},{"$f":"IF(VLOOKUP(Data!$B78,tabulka_kce_def,3,FALSE)=\"\",Konstrukce!$G$1,IF(VLOOKUP(Data!$B78,tabulka_kce_def,3,FALSE)=\"z\",Konstrukce!$G$2,VLOOKUP(Data!$B78,tabulka_kce_def,3,FALSE)))","v":{"$error":"#N/A"}},{"$f":"IF(Data!$B78<MIN(Panely!$A$9:$A$28),0,VLOOKUP(Data!$B78,tabulka_panely_def,25,FALSE))","v":0},{"$f":"IF(Data!$B78<MIN(Panely!$A$9:$A$28),VLOOKUP(Data!$B78,tabulka_kce_def,24,FALSE),VLOOKUP(Data!$B78,tabulka_panely_def,33,FALSE))","v":{"$error":"#N/A"}},{"$f":"Konstrukce!$D$1","v":18.770175404064034},{"$f":"Konstrukce!$D$2","v":19.934229593106764},{"$f":"Konstrukce!$G$1","v":-12},{"$f":"IF(Data!$B78<MIN(Panely!$A$9:$A$28),VLOOKUP(Data!$B78,tabulka_kce_def,59,FALSE),VLOOKUP(Data!$B78,tabulka_panely_def,63,FALSE))","v":""},{"$f":"IF(Data!$B78<MIN(Panely!$A$9:$A$28),VLOOKUP(Data!$B78,tabulka_kce_def,60,FALSE),VLOOKUP(Data!$B78,tabulka_panely_def,64,FALSE))","v":""},{"$f":"IF(Data!$B78<MIN(Panely!$A$9:$A$28),VLOOKUP(Data!$B78,tabulka_kce_def,61,FALSE),VLOOKUP(Data!$B78,tabulka_panely_def,65,FALSE))","v":""},{"$f":"IF(Data!$B78<MIN(Panely!$A$9:$A$28),VLOOKUP(Data!$B78,tabulka_kce_def,25,FALSE),0)","v":0},0,null,null,null,null,"=",{"$f":"IF(Data!$W78<MIN(Panely!$A$9:$A$28),VLOOKUP(Data!$W78,tabulka_kce_def,62,FALSE),VLOOKUP(Data!$W78,tabulka_panely_def,65,FALSE))","v":""},{"$f":"IF(Data!$W78<MIN(Panely!$A$9:$A$28),VLOOKUP(Data!$W78,tabulka_kce_def,Y$1-20,FALSE),VLOOKUP(Data!$W78,tabulka_panely_def,Y$1-18,FALSE))","v":0},{"$f":"IF(Data!$W78<MIN(Panely!$A$9:$A$28),VLOOKUP(Data!$W78,tabulka_kce_def,Z$1-20,FALSE),VLOOKUP(Data!$W78,tabulka_panely_def,Z$1-18,FALSE))","v":0},{"$f":"IF(Data!$W78<MIN(Panely!$A$9:$A$28),VLOOKUP(Data!$W78,tabulka_kce_def,AA$1-20,FALSE),VLOOKUP(Data!$W78,tabulka_panely_def,AA$1-18,FALSE))","v":0},{"$f":"IF(Data!$W78<MIN(Panely!$A$9:$A$28),VLOOKUP(Data!$W78,tabulka_kce_def,AB$1-20,FALSE),VLOOKUP(Data!$W78,tabulka_panely_def,AB$1-18,FALSE))","v":0},{"$f":"IF(Data!$W78<MIN(Panely!$A$9:$A$28),VLOOKUP(Data!$W78,tabulka_kce_def,AC$1-20,FALSE),VLOOKUP(Data!$W78,tabulka_panely_def,AC$1-18,FALSE))","v":0},{"$f":"IF(Data!$W78<MIN(Panely!$A$9:$A$28),VLOOKUP(Data!$W78,tabulka_kce_def,AD$1-20,FALSE),VLOOKUP(Data!$W78,tabulka_panely_def,AD$1-18,FALSE))","v":0},{"$f":"IF(Data!$W78<MIN(Panely!$A$9:$A$28),VLOOKUP(Data!$W78,tabulka_kce_def,AE$1-20,FALSE),VLOOKUP(Data!$W78,tabulka_panely_def,AE$1-18,FALSE))","v":0},{"$f":"IF(Data!$W78<MIN(Panely!$A$9:$A$28),VLOOKUP(Data!$W78,tabulka_kce_def,AF$1-20,FALSE),VLOOKUP(Data!$W78,tabulka_panely_def,AF$1-18,FALSE))","v":0},{"$f":"IF(Data!$W78<MIN(Panely!$A$9:$A$28),VLOOKUP(Data!$W78,tabulka_kce_def,AG$1-20,FALSE),VLOOKUP(Data!$W78,tabulka_panely_def,AG$1-18,FALSE))","v":0},{"$f":"IF(Data!$W78<MIN(Panely!$A$9:$A$28),VLOOKUP(Data!$W78,tabulka_kce_def,AH$1-20,FALSE),VLOOKUP(Data!$W78,tabulka_panely_def,AH$1-18,FALSE))","v":0},{"$f":"IF(Data!$W78<MIN(Panely!$A$9:$A$28),VLOOKUP(Data!$W78,tabulka_kce_def,AI$1-20,FALSE),VLOOKUP(Data!$W78,tabulka_panely_def,AI$1-18,FALSE))","v":0},{"$f":"IF(Data!$W78<MIN(Panely!$A$9:$A$28),VLOOKUP(Data!$W78,tabulka_kce_def,AJ$1-20,FALSE),VLOOKUP(Data!$W78,tabulka_panely_def,AJ$1-18,FALSE))","v":0},{"$f":"IF(Data!$W78<MIN(Panely!$A$9:$A$28),VLOOKUP(Data!$W78,tabulka_kce_def,AK$1-20,FALSE),VLOOKUP(Data!$W78,tabulka_panely_def,AK$1-18,FALSE))","v":0},{"$f":"IF(Data!$W78<MIN(Panely!$A$9:$A$28),VLOOKUP(Data!$W78,tabulka_kce_def,AL$1-20,FALSE),VLOOKUP(Data!$W78,tabulka_panely_def,AL$1-18,FALSE))","v":0},{"$f":"IF(Data!$W78<MIN(Panely!$A$9:$A$28),VLOOKUP(Data!$W78,tabulka_kce_def,AM$1-20,FALSE),VLOOKUP(Data!$W78,tabulka_panely_def,AM$1-18,FALSE))","v":0},78,{"$f":"IF(Data!$W78<MIN(Panely!$A$9:$A$28),VLOOKUP(Data!$W78,tabulka_kce_def,63,FALSE),0)","v":0},{"$f":"IF(Data!$W78<MIN(Panely!$A$9:$A$28),VLOOKUP(Data!$W78,tabulka_kce_def,28,FALSE),1)","v":1},{"$f":"IF(Data!$W78<MIN(Panely!$A$9:$A$28),VLOOKUP(Data!$W78,tabulka_kce_def,23,FALSE),VLOOKUP(Data!$W78,tabulka_panely_def,24,FALSE))","v":0},null,0,null,0,0,{"$error":"#N/A"},0,{"$f":"IF(AND(W78>MAX(Konstrukce!A:A),ISNUMBER(W78)),1,0)","v":0}]
[null,"=",{"$f":"IF(Data!$B79<MIN(Panely!$A$9:$A$28),VLOOKUP(Data!$B79,tabulka_kce_def,4,FALSE),VLOOKUP(Data!$B79,tabulka_panely_def,4,FALSE))","v":0},{"$f":"IF(Data!$B79<MIN(Panely!$A$9:$A$28),VLOOKUP(Data!$B79,tabulka_kce_def,23,FALSE),VLOOKUP(Data!$B79,tabulka_panely_def,24,FALSE))","v":0},{"$f":"IF(Data!$B79<MIN(Panely!$A$9:$A$28),VLOOKUP(Data!$B79,tabulka_kce_def,21,FALSE),VLOOKUP(Data!$B79,tabulka_panely_def,22,FALSE))","v":0},{"$f":"IF(Data!$B79<MIN(Panely!$A$9:$A$28),VLOOKUP(Data!$B79,tabulka_kce_def,26,FALSE),VLOOKUP(Data!$B79,tabulka_panely_def,31,FALSE))","v":{"$error":"#DIV/0!"}},{"$f":"IF(Data!$B79<MIN(Panely!$A$9:$A$28),VLOOKUP(Data!$B79,tabulka_kce_def,27,FALSE),VLOOKUP(Data!$B79,tabulka_panely_def,32,FALSE))","v":{"$error":"#DIV/0!"}},{"$f":"IF(VLOOKUP(Data!$B79,tabulka_kce_def,3,FALSE)=\"\",Konstrukce!$G$1,IF(VLOOKUP(Data!$B79,tabulka_kce_def,3,FALSE)=\"z\",Konstrukce!$G$2,VLOOKUP(Data!$B79,tabulka_kce_def,3,FALSE)))","v":{"$error":"#N/A"}},{"$f":"IF(Data!$B79<MIN(Panely!$A$9:$A$28),0,VLOOKUP(Data!$B79,tabulka_panely_def,25,FALSE))","v":0},{"$f":"IF(Data!$B79<MIN(Panely!$A$9:$A$28),VLOOKUP(Data!$B79,tabulka_kce_def,24,FALSE),VLOOKUP(Data!$B79,tabulka_panely_def,33,FALSE))","v":{"$error":"#N/A"}},{"$f":"Konstrukce!$D$1","v":18.770175404064034},{"$f":"Konstrukce!$D$2","v":19.934229593106764},{"$f":"Konstrukce!$G$1","v":-12},{"$f":"IF(Data!$B79<MIN(Panely!$A$9:$A$28),VLOOKUP(Data!$B79,tabulka_kce_def,59,FALSE),VLOOKUP(Data!$B79,tabulka_panely_def,63,FALSE))","v":""},{"$f":"IF(Data!$B79<MIN(Panely!$A$9:$A$28),VLOOKUP(Data!$B79,tabulka_kce_def,60,FALSE),VLOOKUP(Data!$B79,tabulka_panely_def,64,FALSE))","v":""},{"$f":"IF(Data!$B79<MIN(Panely!$A$9:$A$28),VLOOKUP(Data!$B79,tabulka_kce_def,61,FALSE),VLOOKUP(Data!$B79,tabulka_panely_def,65,FALSE))","v":""},{"$f":"IF(Data!$B79<MIN(Panely!$A$9:$A$28),VLOOKUP(Data!$B79,tabulka_kce_def,25,FALSE),0)","v":0},0,null,null,null,null,"=",{"$f":"IF(Data!$W79<MIN(Panely!$A$9:$A$28),VLOOKUP(Data!$W79,tabulka_kce_def,62,FALSE),VLOOKUP(Data!$W79,tabulka_panely_def,65,FALSE))","v":""},{"$f":"IF(Data!$W79<MIN(Panely!$A$9:$A$28),VLOOKUP(Data!$W79,tabulka_kce_def,Y$1-20,FALSE),VLOOKUP(Data!$W79,tabulka_panely_def,Y$1-18,FALSE))","v":0},{"$f":"IF(Data!$W79<MIN(Panely!$A$9:$A$28),VLOOKUP(Data!$W79,tabulka_kce_def,Z$1-20,FALSE),VLOOKUP(Data!$W79,tabulka_panely_def,Z$1-18,FALSE))","v":0},{"$f":"IF(Data!$W79<MIN(Panely!$A$9:$A$28),VLOOKUP(Data!$W79,tabulka_kce_def,AA$1-20,FALSE),VLOOKUP(Data!$W79,tabulka_panely_def,AA$1-18,FALSE))","v":0},{"$f":"IF(Data!$W79<MIN(Panely!$A$9:$A$28),VLOOKUP(Data!$W79,tabulka_kce_def,AB$1-20,FALSE),VLOOKUP(Data!$W79,tabulka_panely_def,AB$1-18,FALSE))","v":0},{"$f":"IF(Data!$W79<MIN(Panely!$A$9:$A$28),VLOOKUP(Data!$W79,tabulka_kce_def,AC$1-20,FALSE),VLOOKUP(Data!$W79,tabulka_panely_def,AC$1-18,FALSE))","v":0},{"$f":"IF(Data!$W79<MIN(Panely!$A$9:$A$28),VLOOKUP(Data!$W79,tabulka_kce_def,AD$1-20,FALSE),VLOOKUP(Data!$W79,tabulka_panely_def,AD$1-18,FALSE))","v":0},{"$f":"IF(Data!$W79<MIN(Panely!$A$9:$A$28),VLOOKUP(Data!$W79,tabulka_kce_def,AE$1-20,FALSE),VLOOKUP(Data!$W79,tabulka_panely_def,AE$1-18,FALSE))","v":0},{"$f":"IF(Data!$W79<MIN(Panely!$A$9:$A$28),VLOOKUP(Data!$W79,tabulka_kce_def,AF$1-20,FALSE),VLOOKUP(Data!$W79,tabulka_panely_def,AF$1-18,FALSE))","v":0},{"$f":"IF(Data!$W79<MIN(Panely!$A$9:$A$28),VLOOKUP(Data!$W79,tabulka_kce_def,AG$1-20,FALSE),VLOOKUP(Data!$W79,tabulka_panely_def,AG$1-18,FALSE))","v":0},{"$f":"IF(Data!$W79<MIN(Panely!$A$9:$A$28),VLOOKUP(Data!$W79,tabulka_kce_def,AH$1-20,FALSE),VLOOKUP(Data!$W79,tabulka_panely_def,AH$1-18,FALSE))","v":0},{"$f":"IF(Data!$W79<MIN(Panely!$A$9:$A$28),VLOOKUP(Data!$W79,tabulka_kce_def,AI$1-20,FALSE),VLOOKUP(Data!$W79,tabulka_panely_def,AI$1-18,FALSE))","v":0},{"$f":"IF(Data!$W79<MIN(Panely!$A$9:$A$28),VLOOKUP(Data!$W79,tabulka_kce_def,AJ$1-20,FALSE),VLOOKUP(Data!$W79,tabulka_panely_def,AJ$1-18,FALSE))","v":0},{"$f":"IF(Data!$W79<MIN(Panely!$A$9:$A$28),VLOOKUP(Data!$W79,tabulka_kce_def,AK$1-20,FALSE),VLOOKUP(Data!$W79,tabulka_panely_def,AK$1-18,FALSE))","v":0},{"$f":"IF(Data!$W79<MIN(Panely!$A$9:$A$28),VLOOKUP(Data!$W79,tabulka_kce_def,AL$1-20,FALSE),VLOOKUP(Data!$W79,tabulka_panely_def,AL$1-18,FALSE))","v":0},{"$f":"IF(Data!$W79<MIN(Panely!$A$9:$A$28),VLOOKUP(Data!$W79,tabulka_kce_def,AM$1-20,FALSE),VLOOKUP(Data!$W79,tabulka_panely_def,AM$1-18,FALSE))","v":0},79,{"$f":"IF(Data!$W79<MIN(Panely!$A$9:$A$28),VLOOKUP(Data!$W79,tabulka_kce_def,63,FALSE),0)","v":0},{"$f":"IF(Data!$W79<MIN(Panely!$A$9:$A$28),VLOOKUP(Data!$W79,tabulka_kce_def,28,FALSE),1)","v":1},{"$f":"IF(Data!$W79<MIN(Panely!$A$9:$A$28),VLOOKUP(Data!$W79,tabulka_kce_def,23,FALSE),VLOOKUP(Data!$W79,tabulka_panely_def,24,FALSE))","v":0},null,0,null,0,0,{"$error":"#N/A"},0,{"$f":"IF(AND(W79>MAX(Konstrukce!A:A),ISNUMBER(W79)),1,0)","v":0}]
[null,"=",{"$f":"IF(Data!$B80<MIN(Panely!$A$9:$A$28),VLOOKUP(Data!$B80,tabulka_kce_def,4,FALSE),VLOOKUP(Data!$B80,tabulka_panely_def,4,FALSE))","v":0},{"$f":"IF(Data!$B80<MIN(Panely!$A$9:$A$28),VLOOKUP(Data!$B80,tabulka_kce_def,23,FALSE),VLOOKUP(Data!$B80,tabulka_panely_def,24,FALSE))","v":0},{"$f":"IF(Data!$B80<MIN(Panely!$A$9:$A$28),VLOOKUP(Data!$B80,tabulka_kce_def,21,FALSE),VLOOKUP(Data!$B80,tabulka_panely_def,22,FALSE))","v":0},{"$f":"IF(Data!$B80<MIN(Panely!$A$9:$A$28),VLOOKUP(Data!$B80,tabulka_kce_def,26,FALSE),VLOOKUP(Data!$B80,tabulka_panely_def,31,FALSE))","v":{"$error":"#DIV/0!"}},{"$f":"IF(Data!$B80<MIN(Panely!$A$9:$A$28),VLOOKUP(Data!$B80,tabulka_kce_def,27,FALSE),VLOOKUP(Data!$B80,tabulka_panely_def,32,FALSE))","v":{"$error":"#DIV/0!"}},{"$f":"IF(VLOOKUP(Data!$B80,tabulka_kce_def,3,FALSE)=\"\",Konstrukce!$G$1,IF(VLOOKUP(Data!$B80,tabulka_kce_def,3,FALSE)=\"z\",Konstrukce!$G$2,VLOOKUP(Data!$B80,tabulka_kce_def,3,FALSE)))","v":{"$error":"#N/A"}},{"$f":"IF(Data!$B80<MIN(Panely!$A$9:$A$28),0,VLOOKUP(Data!$B80,tabulka_panely_def,25,FALSE))","v":0},{"$f":"IF(Data!$B80<MIN(Panely!$A$9:$A$28),VLOOKUP(Data!$B80,tabulka_kce_def,24,FALSE),VLOOKUP(Data!$B80,tabulka_panely_def,33,FALSE))","v":{"$error":"#N/A"}},{"$f":"Konstrukce!$D$1","v":18.770175404064034},{"$f":"Konstrukce!$D$2","v":19.934229593106764},{"$f":"Konstrukce!$G$1","v":-12},{"$f":"IF(Data!$B80<MIN(Panely!$A$9:$A$28),VLOOKUP(Data!$B80,tabulka_kce_def,59,FALSE),VLOOKUP(Data!$B80,tabulka_panely_def,63,FALSE))","v":""},{"$f":"IF(Data!$B80<MIN(Panely!$A$9:$A$28),VLOOKUP(Data!$B80,tabulka_kce_def,60,FALSE),VLOOKUP(Data!$B80,tabulka_panely_def,64,FALSE))","v":""},{"$f":"IF(Data!$B80<MIN(Panely!$A$9:$A$28),VLOOKUP(Data!$B80,tabulka_kce_def,61,FALSE),VLOOKUP(Data!$B80,tabulka_panely_def,65,FALSE))","v":""},{"$f":"IF(Data!$B80<MIN(Panely!$A$9:$A$28),VLOOKUP(Data!$B80,tabulka_kce_def,25,FALSE),0)","v":0},0,null,null,null,null,"=",{"$f":"IF(Data!$W80<MIN(Panely!$A$9:$A$28),VLOOKUP(Data!$W80,tabulka_kce_def,62,FALSE),VLOOKUP(Data!$W80,tabulka_panely_def,65,FALSE))","v":""},{"$f":"IF(Data!$W80<MIN(Panely!$A$9:$A$28),VLOOKUP(Data!$W80,tabulka_kce_def,Y$1-20,FALSE),VLOOKUP(Data!$W80,tabulka_panely_def,Y$1-18,FALSE))","v":0},{"$f":"IF(Data!$W80<MIN(Panely!$A$9:$A$28),VLOOKUP(Data!$W80,tabulka_kce_def,Z$1-20,FALSE),VLOOKUP(Data!$W80,tabulka_panely_def,Z$1-18,FALSE))","v":0},{"$f":"IF(Data!$W80<MIN(Panely!$A$9:$A$28),VLOOKUP(Data!$W80,tabulka_kce_def,AA$1-20,FALSE),VLOOKUP(Data!$W80,tabulka_panely_def,AA$1-18,FALSE))","v":0},{"$f":"IF(Data!$W80<MIN(Panely!$A$9:$A$28),VLOOKUP(Data!$W80,tabulka_kce_def,AB$1-20,FALSE),VLOOKUP(Data!$W80,tabulka_panely_def,AB$1-18,FALSE))","v":0},{"$f":"IF(Data!$W80<MIN(Panely!$A$9:$A$28),VLOOKUP(Data!$W80,tabulka_kce_def,AC$1-20,FALSE),VLOOKUP(Data!$W80,tabulka_panely_def,AC$1-18,FALSE))","v":0},{"$f":"IF(Data!$W80<MIN(Panely!$A$9:$A$28),VLOOKUP(Data!$W80,tabulka_kce_def,AD$1-20,FALSE),VLOOKUP(Data!$W80,tabulka_panely_def,AD$1-18,FALSE))","v":0},{"$f":"IF(Data!$W80<MIN(Panely!$A$9:$A$28),VLOOKUP(Data!$W80,tabulka_kce_def,AE$1-20,FALSE),VLOOKUP(Data!$W80,tabulka_panely_def,AE$1-18,FALSE))","v":0},{"$f":"IF(Data!$W80<MIN(Panely!$A$9:$A$28),VLOOKUP(Data!$W80,tabulka_kce_def,AF$1-20,FALSE),VLOOKUP(Data!$W80,tabulka_panely_def,AF$1-18,FALSE))","v":0},{"$f":"IF(Data!$W80<MIN(Panely!$A$9:$A$28),VLOOKUP(Data!$W80,tabulka_kce_def,AG$1-20,FALSE),VLOOKUP(Data!$W80,tabulka_panely_def,AG$1-18,FALSE))","v":0},{"$f":"IF(Data!$W80<MIN(Panely!$A$9:$A$28),VLOOKUP(Data!$W80,tabulka_kce_def,AH$1-20,FALSE),VLOOKUP(Data!$W80,tabulka_panely_def,AH$1-18,FALSE))","v":0},{"$f":"IF(Data!$W80<MIN(Panely!$A$9:$A$28),VLOOKUP(Data!$W80,tabulka_kce_def,AI$1-20,FALSE),VLOOKUP(Data!$W80,tabulka_panely_def,AI$1-18,FALSE))","v":0},{"$f":"IF(Data!$W80<MIN(Panely!$A$9:$A$28),VLOOKUP(Data!$W80,tabulka_kce_def,AJ$1-20,FALSE),VLOOKUP(Data!$W80,tabulka_panely_def,AJ$1-18,FALSE))","v":0},{"$f":"IF(Data!$W80<MIN(Panely!$A$9:$A$28),VLOOKUP(Data!$W80,tabulka_kce_def,AK$1-20,FALSE),VLOOKUP(Data!$W80,tabulka_panely_def,AK$1-18,FALSE))","v":0},{"$f":"IF(Data!$W80<MIN(Panely!$A$9:$A$28),VLOOKUP(Data!$W80,tabulka_kce_def,AL$1-20,FALSE),VLOOKUP(Data!$W80,tabulka_panely_def,AL$1-18,FALSE))","v":0},{"$f":"IF(Data!$W80<MIN(Panely!$A$9:$A$28),VLOOKUP(Data!$W80,tabulka_kce_def,AM$1-20,FALSE),VLOOKUP(Data!$W80,tabulka_panely_def,AM$1-18,FALSE))","v":0},80,{"$f":"IF(Data!$W80<MIN(Panely!$A$9:$A$28),VLOOKUP(Data!$W80,tabulka_kce_def,63,FALSE),0)","v":0},{"$f":"IF(Data!$W80<MIN(Panely!$A$9:$A$28),VLOOKUP(Data!$W80,tabulka_kce_def,28,FALSE),1)","v":1},{"$f":"IF(Data!$W80<MIN(Panely!$A$9:$A$28),VLOOKUP(Data!$W80,tabulka_kce_def,23,FALSE),VLOOKUP(Data!$W80,tabulka_panely_def,24,FALSE))","v":0},null,0,null,{"$f":"IF(ISERROR(MID(VLOOKUP($W80,tabulka_kce_def,2,FALSE),1,3)=\"ooz\"),0,IF(MID(VLOOKUP($W80,tabulka_kce_def,2,FALSE),1,3)=\"ooz\",1,0))","v":0},{"$f":"IF(ISERROR(MID(VLOOKUP($W80,tabulka_kce_def,60,FALSE),1,1)=\"f\"),0,IF(MID(VLOOKUP($W80,tabulka_kce_def,60,FALSE),1,1)=\"f\",1,0))","v":0},{"$f":"VALUE(VLOOKUP($W80,tabulka_kce_def,61,FALSE))","v":{"$error":"#N/A"}},{"$f":"IF(AV80=1,IF(MID(VLOOKUP(AW80,tabulka_kce_def,2,FALSE),1,3)=\"ooz\",1,0),0)","v":0},{"$f":"IF(AND(W80>MAX(Konstrukce!A:A),ISNUMBER(W80)),1,0)","v":0}]
[null,"=",{"$f":"IF(Data!$B81<MIN(Panely!$A$9:$A$28),VLOOKUP(Data!$B81,tabulka_kce_def,4,FALSE),VLOOKUP(Data!$B81,tabulka_panely_def,4,FALSE))","v":0},{"$f":"IF(Data!$B81<MIN(Panely!$A$9:$A$28),VLOOKUP(Data!$B81,tabulka_kce_def,23,FALSE),VLOOKUP(Data!$B81,tabulka_panely_def,24,FALSE))","v":0},{"$f":"IF(Data!$B81<MIN(Panely!$A$9:$A$28),VLOOKUP(Data!$B81,tabulka_kce_def,21,FALSE),VLOOKUP(Data!$B81,tabulka_panely_def,22,FALSE))","v":0},{"$f":"IF(Data!$B81<MIN(Panely!$A$9:$A$28),VLOOKUP(Data!$B81,tabulka_kce_def,26,FALSE),VLOOKUP(Data!$B81,tabulka_panely_def,31,FALSE))","v":{"$error":"#DIV/0!"}},{"$f":"IF(Data!$B81<MIN(Panely!$A$9:$A$28),VLOOKUP(Data!$B81,tabulka_kce_def,27,FALSE),VLOOKUP(Data!$B81,tabulka_panely_def,32,FALSE))","v":{"$error":"#DIV/0!"}},{"$f":"IF(VLOOKUP(Data!$B81,tabulka_kce_def,3,FALSE)=\"\",Konstrukce!$G$1,IF(VLOOKUP(Data!$B81,tabulka_kce_def,3,FALSE)=\"z\",Konstrukce!$G$2,VLOOKUP(Data!$B81,tabulka_kce_def,3,FALSE)))","v":{"$error":"#N/A"}},{"$f":"IF(Data!$B81<MIN(Panely!$A$9:$A$28),0,VLOOKUP(Data!$B81,tabulka_panely_def,25,FALSE))","v":0},{"$f":"IF(Data!$B81<MIN(Panely!$A$9:$A$28),VLOOKUP(Data!$B81,tabulka_kce_def,24,FALSE),VLOOKUP(Data!$B81,tabulka_panely_def,33,FALSE))","v":{"$error":"#N/A"}},{"$f":"Konstrukce!$D$1","v":18.770175404064034},{"$f":"Konstrukce!$D$2","v":19.934229593106764},{"$f":"Konstrukce!$G$1","v":-12},{"$f":"IF(Data!$B81<MIN(Panely!$A$9:$A$28),VLOOKUP(Data!$B81,tabulka_kce_def,59,FALSE),VLOOKUP(Data!$B81,tabulka_panely_def,63,FALSE))","v":""},{"$f":"IF(Data!$B81<MIN(Panely!$A$9:$A$28),VLOOKUP(Data!$B81,tabulka_kce_def,60,FALSE),VLOOKUP(Data!$B81,tabulka_panely_def,64,FALSE))","v":""},{"$f":"IF(Data!$B81<MIN(Panely!$A$9:$A$28),VLOOKUP(Data!$B81,tabulka_kce_def,61,FALSE),VLOOKUP(Data!$B81,tabulka_panely_def,65,FALSE))","v":""},{"$f":"IF(Data!$B81<MIN(Panely!$A$9:$A$28),VLOOKUP(Data!$B81,tabulka_kce_def,25,FALSE),0)","v":0},0,null,null,null,null,"=",{"$f":"IF(Data!$W81<MIN(Panely!$A$9:$A$28),VLOOKUP(Data!$W81,tabulka_kce_def,62,FALSE),VLOOKUP(Data!$W81,tabulka_panely_def,65,FALSE))","v":""},{"$f":"IF(Data!$W81<MIN(Panely!$A$9:$A$28),VLOOKUP(Data!$W81,tabulka_kce_def,Y$1-20,FALSE),VLOOKUP(Data!$W81,tabulka_panely_def,Y$1-18,FALSE))","v":0},{"$f":"IF(Data!$W81<MIN(Panely!$A$9:$A$28),VLOOKUP(Data!$W81,tabulka_kce_def,Z$1-20,FALSE),VLOOKUP(Data!$W81,tabulka_panely_def,Z$1-18,FALSE))","v":0},{"$f":"IF(Data!$W81<MIN(Panely!$A$9:$A$28),VLOOKUP(Data!$W81,tabulka_kce_def,AA$1-20,FALSE),VLOOKUP(Data!$W81,tabulka_panely_def,AA$1-18,FALSE))","v":0},{"$f":"IF(Data!$W81<MIN(Panely!$A$9:$A$28),VLOOKUP(Data!$W81,tabulka_kce_def,AB$1-20,FALSE),VLOOKUP(Data!$W81,tabulka_panely_def,AB$1-18,FALSE))","v":0},{"$f":"IF(Data!$W81<MIN(Panely!$A$9:$A$28),VLOOKUP(Data!$W81,tabulka_kce_def,AC$1-20,FALSE),VLOOKUP(Data!$W81,tabulka_panely_def,AC$1-18,FALSE))","v":0},{"$f":"IF(Data!$W81<MIN(Panely!$A$9:$A$28),VLOOKUP(Data!$W81,tabulka_kce_def,AD$1-20,FALSE),VLOOKUP(Data!$W81,tabulka_panely_def,AD$1-18,FALSE))","v":0},{"$f":"IF(Data!$W81<MIN(Panely!$A$9:$A$28),VLOOKUP(Data!$W81,tabulka_kce_def,AE$1-20,FALSE),VLOOKUP(Data!$W81,tabulka_panely_def,AE$1-18,FALSE))","v":0},{"$f":"IF(Data!$W81<MIN(Panely!$A$9:$A$28),VLOOKUP(Data!$W81,tabulka_kce_def,AF$1-20,FALSE),VLOOKUP(Data!$W81,tabulka_panely_def,AF$1-18,FALSE))","v":0},{"$f":"IF(Data!$W81<MIN(Panely!$A$9:$A$28),VLOOKUP(Data!$W81,tabulka_kce_def,AG$1-20,FALSE),VLOOKUP(Data!$W81,tabulka_panely_def,AG$1-18,FALSE))","v":0},{"$f":"IF(Data!$W81<MIN(Panely!$A$9:$A$28),VLOOKUP(Data!$W81,tabulka_kce_def,AH$1-20,FALSE),VLOOKUP(Data!$W81,tabulka_panely_def,AH$1-18,FALSE))","v":0},{"$f":"IF(Data!$W81<MIN(Panely!$A$9:$A$28),VLOOKUP(Data!$W81,tabulka_kce_def,AI$1-20,FALSE),VLOOKUP(Data!$W81,tabulka_panely_def,AI$1-18,FALSE))","v":0},{"$f":"IF(Data!$W81<MIN(Panely!$A$9:$A$28),VLOOKUP(Data!$W81,tabulka_kce_def,AJ$1-20,FALSE),VLOOKUP(Data!$W81,tabulka_panely_def,AJ$1-18,FALSE))","v":0},{"$f":"IF(Data!$W81<MIN(Panely!$A$9:$A$28),VLOOKUP(Data!$W81,tabulka_kce_def,AK$1-20,FALSE),VLOOKUP(Data!$W81,tabulka_panely_def,AK$1-18,FALSE))","v":0},{"$f":"IF(Data!$W81<MIN(Panely!$A$9:$A$28),VLOOKUP(Data!$W81,tabulka_kce_def,AL$1-20,FALSE),VLOOKUP(Data!$W81,tabulka_panely_def,AL$1-18,FALSE))","v":0},{"$f":"IF(Data!$W81<MIN(Panely!$A$9:$A$28),VLOOKUP(Data!$W81,tabulka_kce_def,AM$1-20,FALSE),VLOOKUP(Data!$W81,tabulka_panely_def,AM$1-18,FALSE))","v":0},81,{"$f":"IF(Data!$W81<MIN(Panely!$A$9:$A$28),VLOOKUP(Data!$W81,tabulka_kce_def,63,FALSE),0)","v":0},{"$f":"IF(Data!$W81<MIN(Panely!$A$9:$A$28),VLOOKUP(Data!$W81,tabulka_kce_def,28,FALSE),1)","v":1},{"$f":"IF(Data!$W81<MIN(Panely!$A$9:$A$28),VLOOKUP(Data!$W81,tabulka_kce_def,23,FALSE),VLOOKUP(Data!$W81,tabulka_panely_def,24,FALSE))","v":0},null,{"$f":"IF(ISERROR(AR81*(273.15+AQ81)^4),0,AR81*((273.15+AQ81)^4))","v":0},null,0,0,{"$error":"#N/A"},0,{"$f":"IF(AND(W81>MAX(Konstrukce!A:A),ISNUMBER(W81)),1,0)","v":0}]
[null,"=",{"$f":"IF(Data!$B82<MIN(Panely!$A$9:$A$28),VLOOKUP(Data!$B82,tabulka_kce_def,4,FALSE),VLOOKUP(Data!$B82,tabulka_panely_def,4,FALSE))","v":0},{"$f":"IF(Data!$B82<MIN(Panely!$A$9:$A$28),VLOOKUP(Data!$B82,tabulka_kce_def,23,FALSE),VLOOKUP(Data!$B82,tabulka_panely_def,24,FALSE))","v":0},{"$f":"IF(Data!$B82<MIN(Panely!$A$9:$A$28),VLOOKUP(Data!$B82,tabulka_kce_def,21,FALSE),VLOOKUP(Data!$B82,tabulka_panely_def,22,FALSE))","v":0},{"$f":"IF(Data!$B82<MIN(Panely!$A$9:$A$28),VLOOKUP(Data!$B82,tabulka_kce_def,26,FALSE),VLOOKUP(Data!$B82,tabulka_panely_def,31,FALSE))","v":{"$error":"#DIV/0!"}},{"$f":"IF(Data!$B82<MIN(Panely!$A$9:$A$28),VLOOKUP(Data!$B82,tabulka_kce_def,27,FALSE),VLOOKUP(Data!$B82,tabulka_panely_def,32,FALSE))","v":{"$error":"#DIV/0!"}},{"$f":"IF(VLOOKUP(Data!$B82,tabulka_kce_def,3,FALSE)=\"\",Konstrukce!$G$1,IF(VLOOKUP(Data!$B82,tabulka_kce_def,3,FALSE)=\"z\",Konstrukce!$G$2,VLOOKUP(Data!$B82,tabulka_kce_def,3,FALSE)))","v":{"$error":"#N/A"}},{"$f":"IF(Data!$B82<MIN(Panely!$A$9:$A$28),0,VLOOKUP(Data!$B82,tabulka_panely_def,25,FALSE))","v":0},{"$f":"IF(Data!$B82<MIN(Panely!$A$9:$A$28),VLOOKUP(Data!$B82,tabulka_kce_def,24,FALSE),VLOOKUP(Data!$B82,tabulka_panely_def,33,FALSE))","v":{"$error":"#N/A"}},{"$f":"Konstrukce!$D$1","v":18.770175404064034},{"$f":"Konstrukce!$D$2","v":19.934229593106764},{"$f":"Konstrukce!$G$1","v":-12},{"$f":"IF(Data!$B82<MIN(Panely!$A$9:$A$28),VLOOKUP(Data!$B82,tabulka_kce_def,59,FALSE),VLOOKUP(Data!$B82,tabulka_panely_def,63,FALSE))","v":""},{"$f":"IF(Data!$B82<MIN(Panely!$A$9:$A$28),VLOOKUP(Data!$B82,tabulka_kce_def,60,FALSE),VLOOKUP(Data!$B82,tabulka_panely_def,64,FALSE))","v":""},{"$f":"IF(Data!$B82<MIN(Panely!$A$9:$A$28),VLOOKUP(Data!$B82,tabulka_kce_def,61,FALSE),VLOOKUP(Data!$B82,tabulka_panely_def,65,FALSE))","v":""},{"$f":"IF(Data!$B82<MIN(Panely!$A$9:$A$28),VLOOKUP(Data!$B82,tabulka_kce_def,25,FALSE),0)","v":0},0,null,null,null,null,"=",{"$f":"IF(Data!$W82<MIN(Panely!$A$9:$A$28),VLOOKUP(Data!$W82,tabulka_kce_def,62,FALSE),VLOOKUP(Data!$W82,tabulka_panely_def,65,FALSE))","v":""},{"$f":"IF(Data!$W82<MIN(Panely!$A$9:$A$28),VLOOKUP(Data!$W82,tabulka_kce_def,Y$1-20,FALSE),VLOOKUP(Data!$W82,tabulka_panely_def,Y$1-18,FALSE))","v":0},{"$f":"IF(Data!$W82<MIN(Panely!$A$9:$A$28),VLOOKUP(Data!$W82,tabulka_kce_def,Z$1-20,FALSE),VLOOKUP(Data!$W82,tabulka_panely_def,Z$1-18,FALSE))","v":0},{"$f":"IF(Data!$W82<MIN(Panely!$A$9:$A$28),VLOOKUP(Data!$W82,tabulka_kce_def,AA$1-20,FALSE),VLOOKUP(Data!$W82,tabulka_panely_def,AA$1-18,FALSE))","v":0},{"$f":"IF(Data!$W82<MIN(Panely!$A$9:$A$28),VLOOKUP(Data!$W82,tabulka_kce_def,AB$1-20,FALSE),VLOOKUP(Data!$W82,tabulka_panely_def,AB$1-18,FALSE))","v":0},{"$f":"IF(Data!$W82<MIN(Panely!$A$9:$A$28),VLOOKUP(Data!$W82,tabulka_kce_def,AC$1-20,FALSE),VLOOKUP(Data!$W82,tabulka_panely_def,AC$1-18,FALSE))","v":0},{"$f":"IF(Data!$W82<MIN(Panely!$A$9:$A$28),VLOOKUP(Data!$W82,tabulka_kce_def,AD$1-20,FALSE),VLOOKUP(Data!$W82,tabulka_panely_def,AD$1-18,FALSE))","v":0},{"$f":"IF(Data!$W82<MIN(Panely!$A$9:$A$28),VLOOKUP(Data!$W82,tabulka_kce_def,AE$1-20,FALSE),VLOOKUP(Data!$W82,tabulka_panely_def,AE$1-18,FALSE))","v":0},{"$f":"IF(Data!$W82<MIN(Panely!$A$9:$A$28),VLOOKUP(Data!$W82,tabulka_kce_def,AF$1-20,FALSE),VLOOKUP(Data!$W82,tabulka_panely_def,AF$1-18,FALSE))","v":0},{"$f":"IF(Data!$W82<MIN(Panely!$A$9:$A$28),VLOOKUP(Data!$W82,tabulka_kce_def,AG$1-20,FALSE),VLOOKUP(Data!$W82,tabulka_panely_def,AG$1-18,FALSE))","v":0},{"$f":"IF(Data!$W82<MIN(Panely!$A$9:$A$28),VLOOKUP(Data!$W82,tabulka_kce_def,AH$1-20,FALSE),VLOOKUP(Data!$W82,tabulka_panely_def,AH$1-18,FALSE))","v":0},{"$f":"IF(Data!$W82<MIN(Panely!$A$9:$A$28),VLOOKUP(Data!$W82,tabulka_kce_def,AI$1-20,FALSE),VLOOKUP(Data!$W82,tabulka_panely_def,AI$1-18,FALSE))","v":0},{"$f":"IF(Data!$W82<MIN(Panely!$A$9:$A$28),VLOOKUP(Data!$W82,tabulka_kce_def,AJ$1-20,FALSE),VLOOKUP(Data!$W82,tabulka_panely_def,AJ$1-18,FALSE))","v":0},{"$f":"IF(Data!$W82<MIN(Panely!$A$9:$A$28),VLOOKUP(Data!$W82,tabulka_kce_def,AK$1-20,FALSE),VLOOKUP(Data!$W82,tabulka_panely_def,AK$1-18,FALSE))","v":0},{"$f":"IF(Data!$W82<MIN(Panely!$A$9:$A$28),VLOOKUP(Data!$W82,tabulka_kce_def,AL$1-20,FALSE),VLOOKUP(Data!$W82,tabulka_panely_def,AL$1-18,FALSE))","v":0},{"$f":"IF(Data!$W82<MIN(Panely!$A$9:$A$28),VLOOKUP(Data!$W82,tabulka_kce_def,AM$1-20,FALSE),VLOOKUP(Data!$W82,tabulka_panely_def,AM$1-18,FALSE))","v":0},{"$f":"AN81+1","v":82},{"$f":"IF(Data!$W82<MIN(Panely!$A$9:$A$28),VLOOKUP(Data!$W82,tabulka_kce_def,63,FALSE),0)","v":0},{"$f":"IF(Data!$W82<MIN(Panely!$A$9:$A$28),VLOOKUP(Data!$W82,tabulka_kce_def,28,FALSE),1)","v":1},{"$f":"IF(Data!$W82<MIN(Panely!$A$9:$A$28),VLOOKUP(Data!$W82,tabulka_kce_def,23,FALSE),VLOOKUP(Data!$W82,tabulka_panely_def,24,FALSE))","v":0},null,0,null,0,0,{"$error":"#N/A"},0,{"$f":"IF(AND(W82>MAX(Konstrukce!A:A),ISNUMBER(W82)),1,0)","v":0}]
[null,"=",{"$f":"IF(Data!$B83<MIN(Panely!$A$9:$A$28),VLOOKUP(Data!$B83,tabulka_kce_def,4,FALSE),VLOOKUP(Data!$B83,tabulka_panely_def,4,FALSE))","v":0},{"$f":"IF(Data!$B83<MIN(Panely!$A$9:$A$28),VLOOKUP(Data!$B83,tabulka_kce_def,23,FALSE),VLOOKUP(Data!$B83,tabulka_panely_def,24,FALSE))","v":0},{"$f":"IF(Data!$B83<MIN(Panely!$A$9:$A$28),VLOOKUP(Data!$B83,tabulka_kce_def,21,FALSE),VLOOKUP(Data!$B83,tabulka_panely_def,22,FALSE))","v":0},{"$f":"IF(Data!$B83<MIN(Panely!$A$9:$A$28),VLOOKUP(Data!$B83,tabulka_kce_def,26,FALSE),VLOOKUP(Data!$B83,tabulka_panely_def,31,FALSE))","v":{"$error":"#DIV/0!"}},{"$f":"IF(Data!$B83<MIN(Panely!$A$9:$A$28),VLOOKUP(Data!$B83,tabulka_kce_def,27,FALSE),VLOOKUP(Data!$B83,tabulka_panely_def,32,FALSE))","v":{"$error":"#DIV/0!"}},{"$f":"IF(VLOOKUP(Data!$B83,tabulka_kce_def,3,FALSE)=\"\",Konstrukce!$G$1,IF(VLOOKUP(Data!$B83,tabulka_kce_def,3,FALSE)=\"z\",Konstrukce!$G$2,VLOOKUP(Data!$B83,tabulka_kce_def,3,FALSE)))","v":{"$error":"#N/A"}},{"$f":"IF(Data!$B83<MIN(Panely!$A$9:$A$28),0,VLOOKUP(Data!$B83,tabulka_panely_def,25,FALSE))","v":0},{"$f":"IF(Data!$B83<MIN(Panely!$A$9:$A$28),VLOOKUP(Data!$B83,tabulka_kce_def,24,FALSE),VLOOKUP(Data!$B83,tabulka_panely_def,33,FALSE))","v":{"$error":"#N/A"}},{"$f":"Konstrukce!$D$1","v":18.770175404064034},{"$f":"Konstrukce!$D$2","v":19.934229593106764},{"$f":"Konstrukce!$G$1","v":-12},{"$f":"IF(Data!$B83<MIN(Panely!$A$9:$A$28),VLOOKUP(Data!$B83,tabulka_kce_def,59,FALSE),VLOOKUP(Data!$B83,tabulka_panely_def,63,FALSE))","v":""},{"$f":"IF(Data!$B83<MIN(Panely!$A$9:$A$28),VLOOKUP(Data!$B83,tabulka_kce_def,60,FALSE),VLOOKUP(Data!$B83,tabulka_panely_def,64,FALSE))","v":""},{"$f":"IF(Data!$B83<MIN(Panely!$A$9:$A$28),VLOOKUP(Data!$B83,tabulka_kce_def,61,FALSE),VLOOKUP(Data!$B83,tabulka_panely_def,65,FALSE))","v":""},{"$f":"IF(Data!$B83<MIN(Panely!$A$9:$A$28),VLOOKUP(Data!$B83,tabulka_kce_def,25,FALSE),0)","v":0},0,null,null,null,null,"=",{"$f":"IF(Data!$W83<MIN(Panely!$A$9:$A$28),VLOOKUP(Data!$W83,tabulka_kce_def,62,FALSE),VLOOKUP(Data!$W83,tabulka_panely_def,65,FALSE))","v":""},{"$f":"IF(Data!$W83<MIN(Panely!$A$9:$A$28),VLOOKUP(Data!$W83,tabulka_kce_def,Y$1-20,FALSE),VLOOKUP(Data!$W83,tabulka_panely_def,Y$1-18,FALSE))","v":0},{"$f":"IF(Data!$W83<MIN(Panely!$A$9:$A$28),VLOOKUP(Data!$W83,tabulka_kce_def,Z$1-20,FALSE),VLOOKUP(Data!$W83,tabulka_panely_def,Z$1-18,FALSE))","v":0},{"$f":"IF(Data!$W83<MIN(Panely!$A$9:$A$28),VLOOKUP(Data!$W83,tabulka_kce_def,AA$1-20,FALSE),VLOOKUP(Data!$W83,tabulka_panely_def,AA$1-18,FALSE))","v":0},{"$f":"IF(Data!$W83<MIN(Panely!$A$9:$A$28),VLOOKUP(Data!$W83,tabulka_kce_def,AB$1-20,FALSE),VLOOKUP(Data!$W83,tabulka_panely_def,AB$1-18,FALSE))","v":0},{"$f":"IF(Data!$W83<MIN(Panely!$A$9:$A$28),VLOOKUP(Data!$W83,tabulka_kce_def,AC$1-20,FALSE),VLOOKUP(Data!$W83,tabulka_panely_def,AC$1-18,FALSE))","v":0},{"$f":"IF(Data!$W83<MIN(Panely!$A$9:$A$28),VLOOKUP(Data!$W83,tabulka_kce_def,AD$1-20,FALSE),VLOOKUP(Data!$W83,tabulka_panely_def,AD$1-18,FALSE))","v":0},{"$f":"IF(Data!$W83<MIN(Panely!$A$9:$A$28),VLOOKUP(Data!$W83,tabulka_kce_def,AE$1-20,FALSE),VLOOKUP(Data!$W83,tabulka_panely_def,AE$1-18,FALSE))","v":0},{"$f":"IF(Data!$W83<MIN(Panely!$A$9:$A$28),VLOOKUP(Data!$W83,tabulka_kce_def,AF$1-20,FALSE),VLOOKUP(Data!$W83,tabulka_panely_def,AF$1-18,FALSE))","v":0},{"$f":"IF(Data!$W83<MIN(Panely!$A$9:$A$28),VLOOKUP(Data!$W83,tabulka_kce_def,AG$1-20,FALSE),VLOOKUP(Data!$W83,tabulka_panely_def,AG$1-18,FALSE))","v":0},{"$f":"IF(Data!$W83<MIN(Panely!$A$9:$A$28),VLOOKUP(Data!$W83,tabulka_kce_def,AH$1-20,FALSE),VLOOKUP(Data!$W83,tabulka_panely_def,AH$1-18,FALSE))","v":0},{"$f":"IF(Data!$W83<MIN(Panely!$A$9:$A$28),VLOOKUP(Data!$W83,tabulka_kce_def,AI$1-20,FALSE),VLOOKUP(Data!$W83,tabulka_panely_def,AI$1-18,FALSE))","v":0},{"$f":"IF(Data!$W83<MIN(Panely!$A$9:$A$28),VLOOKUP(Data!$W83,tabulka_kce_def,AJ$1-20,FALSE),VLOOKUP(Data!$W83,tabulka_panely_def,AJ$1-18,FALSE))","v":0},{"$f":"IF(Data!$W83<MIN(Panely!$A$9:$A$28),VLOOKUP(Data!$W83,tabulka_kce_def,AK$1-20,FALSE),VLOOKUP(Data!$W83,tabulka_panely_def,AK$1-18,FALSE))","v":0},{"$f":"IF(Data!$W83<MIN(Panely!$A$9:$A$28),VLOOKUP(Data!$W83,tabulka_kce_def,AL$1-20,FALSE),VLOOKUP(Data!$W83,tabulka_panely_def,AL$1-18,FALSE))","v":0},{"$f":"IF(Data!$W83<MIN(Panely!$A$9:$A$28),VLOOKUP(Data!$W83,tabulka_kce_def,AM$1-20,FALSE),VLOOKUP(Data!$W83,tabulka_panely_def,AM$1-18,FALSE))","v":0},83,{"$f":"IF(Data!$W83<MIN(Panely!$A$9:$A$28),VLOOKUP(Data!$W83,tabulka_kce_def,63,FALSE),0)","v":0},{"$f":"IF(Data!$W83<MIN(Panely!$A$9:$A$28),VLOOKUP(Data!$W83,tabulka_kce_def,28,FALSE),1)","v":1},{"$f":"IF(Data!$W83<MIN(Panely!$A$9:$A$28),VLOOKUP(Data!$W83,tabulka_kce_def,23,FALSE),VLOOKUP(Data!$W83,tabulka_panely_def,24,FALSE))","v":0},null,0,null,0,0,{"$error":"#N/A"},0,{"$f":"IF(AND(W83>MAX(Konstrukce!A:A),ISNUMBER(W83)),1,0)","v":0}]
[null,"=",{"$f":"IF(Data!$B84<MIN(Panely!$A$9:$A$28),VLOOKUP(Data!$B84,tabulka_kce_def,4,FALSE),VLOOKUP(Data!$B84,tabulka_panely_def,4,FALSE))","v":0},{"$f":"IF(Data!$B84<MIN(Panely!$A$9:$A$28),VLOOKUP(Data!$B84,tabulka_kce_def,23,FALSE),VLOOKUP(Data!$B84,tabulka_panely_def,24,FALSE))","v":0},{"$f":"IF(Data!$B84<MIN(Panely!$A$9:$A$28),VLOOKUP(Data!$B84,tabulka_kce_def,21,FALSE),VLOOKUP(Data!$B84,tabulka_panely_def,22,FALSE))","v":0},{"$f":"IF(Data!$B84<MIN(Panely!$A$9:$A$28),VLOOKUP(Data!$B84,tabulka_kce_def,26,FALSE),VLOOKUP(Data!$B84,tabulka_panely_def,31,FALSE))","v":{"$error":"#DIV/0!"}},{"$f":"IF(Data!$B84<MIN(Panely!$A$9:$A$28),VLOOKUP(Data!$B84,tabulka_kce_def,27,FALSE),VLOOKUP(Data!$B84,tabulka_panely_def,32,FALSE))","v":{"$error":"#DIV/0!"}},{"$f":"IF(VLOOKUP(Data!$B84,tabulka_kce_def,3,FALSE)=\"\",Konstrukce!$G$1,IF(VLOOKUP(Data!$B84,tabulka_kce_def,3,FALSE)=\"z\",Konstrukce!$G$2,VLOOKUP(Data!$B84,tabulka_kce_def,3,FALSE)))","v":{"$error":"#N/A"}},{"$f":"IF(Data!$B84<MIN(Panely!$A$9:$A$28),0,VLOOKUP(Data!$B84,tabulka_panely_def,25,FALSE))","v":0},{"$f":"IF(Data!$B84<MIN(Panely!$A$9:$A$28),VLOOKUP(Data!$B84,tabulka_kce_def,24,FALSE),VLOOKUP(Data!$B84,tabulka_panely_def,33,FALSE))","v":{"$error":"#N/A"}},{"$f":"Konstrukce!$D$1","v":18.770175404064034},{"$f":"Konstrukce!$D$2","v":19.934229593106764},{"$f":"Konstrukce!$G$1","v":-12},{"$f":"IF(Data!$B84<MIN(Panely!$A$9:$A$28),VLOOKUP(Data!$B84,tabulka_kce_def,59,FALSE),VLOOKUP(Data!$B84,tabulka_panely_def,63,FALSE))","v":""},{"$f":"IF(Data!$B84<MIN(Panely!$A$9:$A$28),VLOOKUP(Data!$B84,tabulka_kce_def,60,FALSE),VLOOKUP(Data!$B84,tabulka_panely_def,64,FALSE))","v":""},{"$f":"IF(Data!$B84<MIN(Panely!$A$9:$A$28),VLOOKUP(Data!$B84,tabulka_kce_def,61,FALSE),VLOOKUP(Data!$B84,tabulka_panely_def,65,FALSE))","v":""},{"$f":"IF(Data!$B84<MIN(Panely!$A$9:$A$28),VLOOKUP(Data!$B84,tabulka_kce_def,25,FALSE),0)","v":0},0,null,null,null,null,"=",{"$f":"IF(Data!$W84<MIN(Panely!$A$9:$A$28),VLOOKUP(Data!$W84,tabulka_kce_def,62,FALSE),VLOOKUP(Data!$W84,tabulka_panely_def,65,FALSE))","v":""},{"$f":"IF(Data!$W84<MIN(Panely!$A$9:$A$28),VLOOKUP(Data!$W84,tabulka_kce_def,Y$1-20,FALSE),VLOOKUP(Data!$W84,tabulka_panely_def,Y$1-18,FALSE))","v":0},{"$f":"IF(Data!$W84<MIN(Panely!$A$9:$A$28),VLOOKUP(Data!$W84,tabulka_kce_def,Z$1-20,FALSE),VLOOKUP(Data!$W84,tabulka_panely_def,Z$1-18,FALSE))","v":0},{"$f":"IF(Data!$W84<MIN(Panely!$A$9:$A$28),VLOOKUP(Data!$W84,tabulka_kce_def,AA$1-20,FALSE),VLOOKUP(Data!$W84,tabulka_panely_def,AA$1-18,FALSE))","v":0},{"$f":"IF(Data!$W84<MIN(Panely!$A$9:$A$28),VLOOKUP(Data!$W84,tabulka_kce_def,AB$1-20,FALSE),VLOOKUP(Data!$W84,tabulka_panely_def,AB$1-18,FALSE))","v":0},{"$f":"IF(Data!$W84<MIN(Panely!$A$9:$A$28),VLOOKUP(Data!$W84,tabulka_kce_def,AC$1-20,FALSE),VLOOKUP(Data!$W84,tabulka_panely_def,AC$1-18,FALSE))","v":0},{"$f":"IF(Data!$W84<MIN(Panely!$A$9:$A$28),VLOOKUP(Data!$W84,tabulka_kce_def,AD$1-20,FALSE),VLOOKUP(Data!$W84,tabulka_panely_def,AD$1-18,FALSE))","v":0},{"$f":"IF(Data!$W84<MIN(Panely!$A$9:$A$28),VLOOKUP(Data!$W84,tabulka_kce_def,AE$1-20,FALSE),VLOOKUP(Data!$W84,tabulka_panely_def,AE$1-18,FALSE))","v":0},{"$f":"IF(Data!$W84<MIN(Panely!$A$9:$A$28),VLOOKUP(Data!$W84,tabulka_kce_def,AF$1-20,FALSE),VLOOKUP(Data!$W84,tabulka_panely_def,AF$1-18,FALSE))","v":0},{"$f":"IF(Data!$W84<MIN(Panely!$A$9:$A$28),VLOOKUP(Data!$W84,tabulka_kce_def,AG$1-20,FALSE),VLOOKUP(Data!$W84,tabulka_panely_def,AG$1-18,FALSE))","v":0},{"$f":"IF(Data!$W84<MIN(Panely!$A$9:$A$28),VLOOKUP(Data!$W84,tabulka_kce_def,AH$1-20,FALSE),VLOOKUP(Data!$W84,tabulka_panely_def,AH$1-18,FALSE))","v":0},{"$f":"IF(Data!$W84<MIN(Panely!$A$9:$A$28),VLOOKUP(Data!$W84,tabulka_kce_def,AI$1-20,FALSE),VLOOKUP(Data!$W84,tabulka_panely_def,AI$1-18,FALSE))","v":0},{"$f":"IF(Data!$W84<MIN(Panely!$A$9:$A$28),VLOOKUP(Data!$W84,tabulka_kce_def,AJ$1-20,FALSE),VLOOKUP(Data!$W84,tabulka_panely_def,AJ$1-18,FALSE))","v":0},{"$f":"IF(Data!$W84<MIN(Panely!$A$9:$A$28),VLOOKUP(Data!$W84,tabulka_kce_def,AK$1-20,FALSE),VLOOKUP(Data!$W84,tabulka_panely_def,AK$1-18,FALSE))","v":0},{"$f":"IF(Data!$W84<MIN(Panely!$A$9:$A$28),VLOOKUP(Data!$W84,tabulka_kce_def,AL$1-20,FALSE),VLOOKUP(Data!$W84,tabulka_panely_def,AL$1-18,FALSE))","v":0},{"$f":"IF(Data!$W84<MIN(Panely!$A$9:$A$28),VLOOKUP(Data!$W84,tabulka_kce_def,AM$1-20,FALSE),VLOOKUP(Data!$W84,tabulka_panely_def,AM$1-18,FALSE))","v":0},84,{"$f":"IF(Data!$W84<MIN(Panely!$A$9:$A$28),VLOOKUP(Data!$W84,tabulka_kce_def,63,FALSE),0)","v":0},{"$f":"IF(Data!$W84<MIN(Panely!$A$9:$A$28),VLOOKUP(Data!$W84,tabulka_kce_def,28,FALSE),1)","v":1},{"$f":"IF(Data!$W84<MIN(Panely!$A$9:$A$28),VLOOKUP(Data!$W84,tabulka_kce_def,23,FALSE),VLOOKUP(Data!$W84,tabulka_panely_def,24,FALSE))","v":0},null,0,null,0,0,{"$error":"#N/A"},0,{"$f":"IF(AND(W84>MAX(Konstrukce!A:A),ISNUMBER(W84)),1,0)","v":0}]
[null,"=",{"$f":"IF(Data!$B85<MIN(Panely!$A$9:$A$28),VLOOKUP(Data!$B85,tabulka_kce_def,4,FALSE),VLOOKUP(Data!$B85,tabulka_panely_def,4,FALSE))","v":0},{"$f":"IF(Data!$B85<MIN(Panely!$A$9:$A$28),VLOOKUP(Data!$B85,tabulka_kce_def,23,FALSE),VLOOKUP(Data!$B85,tabulka_panely_def,24,FALSE))","v":0},{"$f":"IF(Data!$B85<MIN(Panely!$A$9:$A$28),VLOOKUP(Data!$B85,tabulka_kce_def,21,FALSE),VLOOKUP(Data!$B85,tabulka_panely_def,22,FALSE))","v":0},{"$f":"IF(Data!$B85<MIN(Panely!$A$9:$A$28),VLOOKUP(Data!$B85,tabulka_kce_def,26,FALSE),VLOOKUP(Data!$B85,tabulka_panely_def,31,FALSE))","v":{"$error":"#DIV/0!"}},{"$f":"IF(Data!$B85<MIN(Panely!$A$9:$A$28),VLOOKUP(Data!$B85,tabulka_kce_def,27,FALSE),VLOOKUP(Data!$B85,tabulka_panely_def,32,FALSE))","v":{"$error":"#DIV/0!"}},{"$f":"IF(VLOOKUP(Data!$B85,tabulka_kce_def,3,FALSE)=\"\",Konstrukce!$G$1,IF(VLOOKUP(Data!$B85,tabulka_kce_def,3,FALSE)=\"z\",Konstrukce!$G$2,VLOOKUP(Data!$B85,tabulka_kce_def,3,FALSE)))","v":{"$error":"#N/A"}},{"$f":"IF(Data!$B85<MIN(Panely!$A$9:$A$28),0,VLOOKUP(Data!$B85,tabulka_panely_def,25,FALSE))","v":0},{"$f":"IF(Data!$B85<MIN(Panely!$A$9:$A$28),VLOOKUP(Data!$B85,tabulka_kce_def,24,FALSE),VLOOKUP(Data!$B85,tabulka_panely_def,33,FALSE))","v":{"$error":"#N/A"}},{"$f":"Konstrukce!$D$1","v":18.770175404064034},{"$f":"Konstrukce!$D$2","v":19.934229593106764},{"$f":"Konstrukce!$G$1","v":-12},{"$f":"IF(Data!$B85<MIN(Panely!$A$9:$A$28),VLOOKUP(Data!$B85,tabulka_kce_def,59,FALSE),VLOOKUP(Data!$B85,tabulka_panely_def,63,FALSE))","v":""},{"$f":"IF(Data!$B85<MIN(Panely!$A$9:$A$28),VLOOKUP(Data!$B85,tabulka_kce_def,60,FALSE),VLOOKUP(Data!$B85,tabulka_panely_def,64,FALSE))","v":""},{"$f":"IF(Data!$B85<MIN(Panely!$A$9:$A$28),VLOOKUP(Data!$B85,tabulka_kce_def,61,FALSE),VLOOKUP(Data!$B85,tabulka_panely_def,65,FALSE))","v":""},{"$f":"IF(Data!$B85<MIN(Panely!$A$9:$A$28),VLOOKUP(Data!$B85,tabulka_kce_def,25,FALSE),0)","v":0},0,null,null,null,null,"=",{"$f":"IF(Data!$W85<MIN(Panely!$A$9:$A$28),VLOOKUP(Data!$W85,tabulka_kce_def,62,FALSE),VLOOKUP(Data!$W85,tabulka_panely_def,65,FALSE))","v":""},{"$f":"IF(Data!$W85<MIN(Panely!$A$9:$A$28),VLOOKUP(Data!$W85,tabulka_kce_def,Y$1-20,FALSE),VLOOKUP(Data!$W85,tabulka_panely_def,Y$1-18,FALSE))","v":0},{"$f":"IF(Data!$W85<MIN(Panely!$A$9:$A$28),VLOOKUP(Data!$W85,tabulka_kce_def,Z$1-20,FALSE),VLOOKUP(Data!$W85,tabulka_panely_def,Z$1-18,FALSE))","v":0},{"$f":"IF(Data!$W85<MIN(Panely!$A$9:$A$28),VLOOKUP(Data!$W85,tabulka_kce_def,AA$1-20,FALSE),VLOOKUP(Data!$W85,tabulka_panely_def,AA$1-18,FALSE))","v":0},{"$f":"IF(Data!$W85<MIN(Panely!$A$9:$A$28),VLOOKUP(Data!$W85,tabulka_kce_def,AB$1-20,FALSE),VLOOKUP(Data!$W85,tabulka_panely_def,AB$1-18,FALSE))","v":0},{"$f":"IF(Data!$W85<MIN(Panely!$A$9:$A$28),VLOOKUP(Data!$W85,tabulka_kce_def,AC$1-20,FALSE),VLOOKUP(Data!$W85,tabulka_panely_def,AC$1-18,FALSE))","v":0},{"$f":"IF(Data!$W85<MIN(Panely!$A$9:$A$28),VLOOKUP(Data!$W85,tabulka_kce_def,AD$1-20,FALSE),VLOOKUP(Data!$W85,tabulka_panely_def,AD$1-18,FALSE))","v":0},{"$f":"IF(Data!$W85<MIN(Panely!$A$9:$A$28),VLOOKUP(Data!$W85,tabulka_kce_def,AE$1-20,FALSE),VLOOKUP(Data!$W85,tabulka_panely_def,AE$1-18,FALSE))","v":0},{"$f":"IF(Data!$W85<MIN(Panely!$A$9:$A$28),VLOOKUP(Data!$W85,tabulka_kce_def,AF$1-20,FALSE),VLOOKUP(Data!$W85,tabulka_panely_def,AF$1-18,FALSE))","v":0},{"$f":"IF(Data!$W85<MIN(Panely!$A$9:$A$28),VLOOKUP(Data!$W85,tabulka_kce_def,AG$1-20,FALSE),VLOOKUP(Data!$W85,tabulka_panely_def,AG$1-18,FALSE))","v":0},{"$f":"IF(Data!$W85<MIN(Panely!$A$9:$A$28),VLOOKUP(Data!$W85,tabulka_kce_def,AH$1-20,FALSE),VLOOKUP(Data!$W85,tabulka_panely_def,AH$1-18,FALSE))","v":0},{"$f":"IF(Data!$W85<MIN(Panely!$A$9:$A$28),VLOOKUP(Data!$W85,tabulka_kce_def,AI$1-20,FALSE),VLOOKUP(Data!$W85,tabulka_panely_def,AI$1-18,FALSE))","v":0},{"$f":"IF(Data!$W85<MIN(Panely!$A$9:$A$28),VLOOKUP(Data!$W85,tabulka_kce_def,AJ$1-20,FALSE),VLOOKUP(Data!$W85,tabulka_panely_def,AJ$1-18,FALSE))","v":0},{"$f":"IF(Data!$W85<MIN(Panely!$A$9:$A$28),VLOOKUP(Data!$W85,tabulka_kce_def,AK$1-20,FALSE),VLOOKUP(Data!$W85,tabulka_panely_def,AK$1-18,FALSE))","v":0},{"$f":"IF(Data!$W85<MIN(Panely!$A$9:$A$28),VLOOKUP(Data!$W85,tabulka_kce_def,AL$1-20,FALSE),VLOOKUP(Data!$W85,tabulka_panely_def,AL$1-18,FALSE))","v":0},{"$f":"IF(Data!$W85<MIN(Panely!$A$9:$A$28),VLOOKUP(Data!$W85,tabulka_kce_def,AM$1-20,FALSE),VLOOKUP(Data!$W85,tabulka_panely_def,AM$1-18,FALSE))","v":0},85,{"$f":"IF(Data!$W85<MIN(Panely!$A$9:$A$28),VLOOKUP(Data!$W85,tabulka_kce_def,63,FALSE),0)","v":0},{"$f":"IF(Data!$W85<MIN(Panely!$A$9:$A$28),VLOOKUP(Data!$W85,tabulka_kce_def,28,FALSE),1)","v":1},{"$f":"IF(Data!$W85<MIN(Panely!$A$9:$A$28),VLOOKUP(Data!$W85,tabulka_kce_def,23,FALSE),VLOOKUP(Data!$W85,tabulka_panely_def,24,FALSE))","v":0},null,0,null,0,0,{"$error":"#N/A"},0,{"$f":"IF(AND(W85>MAX(Konstrukce!A:A),ISNUMBER(W85)),1,0)","v":0}]
[null,"=",{"$f":"IF(Data!$B86<MIN(Panely!$A$9:$A$28),VLOOKUP(Data!$B86,tabulka_kce_def,4,FALSE),VLOOKUP(Data!$B86,tabulka_panely_def,4,FALSE))","v":0},{"$f":"IF(Data!$B86<MIN(Panely!$A$9:$A$28),VLOOKUP(Data!$B86,tabulka_kce_def,23,FALSE),VLOOKUP(Data!$B86,tabulka_panely_def,24,FALSE))","v":0},{"$f":"IF(Data!$B86<MIN(Panely!$A$9:$A$28),VLOOKUP(Data!$B86,tabulka_kce_def,21,FALSE),VLOOKUP(Data!$B86,tabulka_panely_def,22,FALSE))","v":0},{"$f":"IF(Data!$B86<MIN(Panely!$A$9:$A$28),VLOOKUP(Data!$B86,tabulka_kce_def,26,FALSE),VLOOKUP(Data!$B86,tabulka_panely_def,31,FALSE))","v":{"$error":"#DIV/0!"}},{"$f":"IF(Data!$B86<MIN(Panely!$A$9:$A$28),VLOOKUP(Data!$B86,tabulka_kce_def,27,FALSE),VLOOKUP(Data!$B86,tabulka_panely_def,32,FALSE))","v":{"$error":"#DIV/0!"}},{"$f":"IF(VLOOKUP(Data!$B86,tabulka_kce_def,3,FALSE)=\"\",Konstrukce!$G$1,IF(VLOOKUP(Data!$B86,tabulka_kce_def,3,FALSE)=\"z\",Konstrukce!$G$2,VLOOKUP(Data!$B86,tabulka_kce_def,3,FALSE)))","v":{"$error":"#N/A"}},{"$f":"IF(Data!$B86<MIN(Panely!$A$9:$A$28),0,VLOOKUP(Data!$B86,tabulka_panely_def,25,FALSE))","v":0},{"$f":"IF(Data!$B86<MIN(Panely!$A$9:$A$28),VLOOKUP(Data!$B86,tabulka_kce_def,24,FALSE),VLOOKUP(Data!$B86,tabulka_panely_def,33,FALSE))","v":{"$error":"#N/A"}},{"$f":"Konstrukce!$D$1","v":18.770175404064034},{"$f":"Konstrukce!$D$2","v":19.934229593106764},{"$f":"Konstrukce!$G$1","v":-12},{"$f":"IF(Data!$B86<MIN(Panely!$A$9:$A$28),VLOOKUP(Data!$B86,tabulka_kce_def,59,FALSE),VLOOKUP(Data!$B86,tabulka_panely_def,63,FALSE))","v":""},{"$f":"IF(Data!$B86<MIN(Panely!$A$9:$A$28),VLOOKUP(Data!$B86,tabulka_kce_def,60,FALSE),VLOOKUP(Data!$B86,tabulka_panely_def,64,FALSE))","v":""},{"$f":"IF(Data!$B86<MIN(Panely!$A$9:$A$28),VLOOKUP(Data!$B86,tabulka_kce_def,61,FALSE),VLOOKUP(Data!$B86,tabulka_panely_def,65,FALSE))","v":""},{"$f":"IF(Data!$B86<MIN(Panely!$A$9:$A$28),VLOOKUP(Data!$B86,tabulka_kce_def,25,FALSE),0)","v":0},0,null,null,null,null,"=",{"$f":"IF(Data!$W86<MIN(Panely!$A$9:$A$28),VLOOKUP(Data!$W86,tabulka_kce_def,62,FALSE),VLOOKUP(Data!$W86,tabulka_panely_def,65,FALSE))","v":""},{"$f":"IF(Data!$W86<MIN(Panely!$A$9:$A$28),VLOOKUP(Data!$W86,tabulka_kce_def,Y$1-20,FALSE),VLOOKUP(Data!$W86,tabulka_panely_def,Y$1-18,FALSE))","v":0},{"$f":"IF(Data!$W86<MIN(Panely!$A$9:$A$28),VLOOKUP(Data!$W86,tabulka_kce_def,Z$1-20,FALSE),VLOOKUP(Data!$W86,tabulka_panely_def,Z$1-18,FALSE))","v":0},{"$f":"IF(Data!$W86<MIN(Panely!$A$9:$A$28),VLOOKUP(Data!$W86,tabulka_kce_def,AA$1-20,FALSE),VLOOKUP(Data!$W86,tabulka_panely_def,AA$1-18,FALSE))","v":0},{"$f":"IF(Data!$W86<MIN(Panely!$A$9:$A$28),VLOOKUP(Data!$W86,tabulka_kce_def,AB$1-20,FALSE),VLOOKUP(Data!$W86,tabulka_panely_def,AB$1-18,FALSE))","v":0},{"$f":"IF(Data!$W86<MIN(Panely!$A$9:$A$28),VLOOKUP(Data!$W86,tabulka_kce_def,AC$1-20,FALSE),VLOOKUP(Data!$W86,tabulka_panely_def,AC$1-18,FALSE))","v":0},{"$f":"IF(Data!$W86<MIN(Panely!$A$9:$A$28),VLOOKUP(Data!$W86,tabulka_kce_def,AD$1-20,FALSE),VLOOKUP(Data!$W86,tabulka_panely_def,AD$1-18,FALSE))","v":0},{"$f":"IF(Data!$W86<MIN(Panely!$A$9:$A$28),VLOOKUP(Data!$W86,tabulka_kce_def,AE$1-20,FALSE),VLOOKUP(Data!$W86,tabulka_panely_def,AE$1-18,FALSE))","v":0},{"$f":"IF(Data!$W86<MIN(Panely!$A$9:$A$28),VLOOKUP(Data!$W86,tabulka_kce_def,AF$1-20,FALSE),VLOOKUP(Data!$W86,tabulka_panely_def,AF$1-18,FALSE))","v":0},{"$f":"IF(Data!$W86<MIN(Panely!$A$9:$A$28),VLOOKUP(Data!$W86,tabulka_kce_def,AG$1-20,FALSE),VLOOKUP(Data!$W86,tabulka_panely_def,AG$1-18,FALSE))","v":0},{"$f":"IF(Data!$W86<MIN(Panely!$A$9:$A$28),VLOOKUP(Data!$W86,tabulka_kce_def,AH$1-20,FALSE),VLOOKUP(Data!$W86,tabulka_panely_def,AH$1-18,FALSE))","v":0},{"$f":"IF(Data!$W86<MIN(Panely!$A$9:$A$28),VLOOKUP(Data!$W86,tabulka_kce_def,AI$1-20,FALSE),VLOOKUP(Data!$W86,tabulka_panely_def,AI$1-18,FALSE))","v":0},{"$f":"IF(Data!$W86<MIN(Panely!$A$9:$A$28),VLOOKUP(Data!$W86,tabulka_kce_def,AJ$1-20,FALSE),VLOOKUP(Data!$W86,tabulka_panely_def,AJ$1-18,FALSE))","v":0},{"$f":"IF(Data!$W86<MIN(Panely!$A$9:$A$28),VLOOKUP(Data!$W86,tabulka_kce_def,AK$1-20,FALSE),VLOOKUP(Data!$W86,tabulka_panely_def,AK$1-18,FALSE))","v":0},{"$f":"IF(Data!$W86<MIN(Panely!$A$9:$A$28),VLOOKUP(Data!$W86,tabulka_kce_def,AL$1-20,FALSE),VLOOKUP(Data!$W86,tabulka_panely_def,AL$1-18,FALSE))","v":0},{"$f":"IF(Data!$W86<MIN(Panely!$A$9:$A$28),VLOOKUP(Data!$W86,tabulka_kce_def,AM$1-20,FALSE),VLOOKUP(Data!$W86,tabulka_panely_def,AM$1-18,FALSE))","v":0},86,{"$f":"IF(Data!$W86<MIN(Panely!$A$9:$A$28),VLOOKUP(Data!$W86,tabulka_kce_def,63,FALSE),0)","v":0},{"$f":"IF(Data!$W86<MIN(Panely!$A$9:$A$28),VLOOKUP(Data!$W86,tabulka_kce_def,28,FALSE),1)","v":1},{"$f":"IF(Data!$W86<MIN(Panely!$A$9:$A$28),VLOOKUP(Data!$W86,tabulka_kce_def,23,FALSE),VLOOKUP(Data!$W86,tabulka_panely_def,24,FALSE))","v":0},null,0,null,0,0,{"$error":"#N/A"},0,{"$f":"IF(AND(W86>MAX(Konstrukce!A:A),ISNUMBER(W86)),1,0)","v":0}]
[null,"=",{"$f":"IF(Data!$B87<MIN(Panely!$A$9:$A$28),VLOOKUP(Data!$B87,tabulka_kce_def,4,FALSE),VLOOKUP(Data!$B87,tabulka_panely_def,4,FALSE))","v":0},{"$f":"IF(Data!$B87<MIN(Panely!$A$9:$A$28),VLOOKUP(Data!$B87,tabulka_kce_def,23,FALSE),VLOOKUP(Data!$B87,tabulka_panely_def,24,FALSE))","v":0},{"$f":"IF(Data!$B87<MIN(Panely!$A$9:$A$28),VLOOKUP(Data!$B87,tabulka_kce_def,21,FALSE),VLOOKUP(Data!$B87,tabulka_panely_def,22,FALSE))","v":0},{"$f":"IF(Data!$B87<MIN(Panely!$A$9:$A$28),VLOOKUP(Data!$B87,tabulka_kce_def,26,FALSE),VLOOKUP(Data!$B87,tabulka_panely_def,31,FALSE))","v":{"$error":"#DIV/0!"}},{"$f":"IF(Data!$B87<MIN(Panely!$A$9:$A$28),VLOOKUP(Data!$B87,tabulka_kce_def,27,FALSE),VLOOKUP(Data!$B87,tabulka_panely_def,32,FALSE))","v":{"$error":"#DIV/0!"}},{"$f":"IF(VLOOKUP(Data!$B87,tabulka_kce_def,3,FALSE)=\"\",Konstrukce!$G$1,IF(VLOOKUP(Data!$B87,tabulka_kce_def,3,FALSE)=\"z\",Konstrukce!$G$2,VLOOKUP(Data!$B87,tabulka_kce_def,3,FALSE)))","v":{"$error":"#N/A"}},{"$f":"IF(Data!$B87<MIN(Panely!$A$9:$A$28),0,VLOOKUP(Data!$B87,tabulka_panely_def,25,FALSE))","v":0},{"$f":"IF(Data!$B87<MIN(Panely!$A$9:$A$28),VLOOKUP(Data!$B87,tabulka_kce_def,24,FALSE),VLOOKUP(Data!$B87,tabulka_panely_def,33,FALSE))","v":{"$error":"#N/A"}},{"$f":"Konstrukce!$D$1","v":18.770175404064034},{"$f":"Konstrukce!$D$2","v":19.934229593106764},{"$f":"Konstrukce!$G$1","v":-12},{"$f":"IF(Data!$B87<MIN(Panely!$A$9:$A$28),VLOOKUP(Data!$B87,tabulka_kce_def,59,FALSE),VLOOKUP(Data!$B87,tabulka_panely_def,63,FALSE))","v":""},{"$f":"IF(Data!$B87<MIN(Panely!$A$9:$A$28),VLOOKUP(Data!$B87,tabulka_kce_def,60,FALSE),VLOOKUP(Data!$B87,tabulka_panely_def,64,FALSE))","v":""},{"$f":"IF(Data!$B87<MIN(Panely!$A$9:$A$28),VLOOKUP(Data!$B87,tabulka_kce_def,61,FALSE),VLOOKUP(Data!$B87,tabulka_panely_def,65,FALSE))","v":""},{"$f":"IF(Data!$B87<MIN(Panely!$A$9:$A$28),VLOOKUP(Data!$B87,tabulka_kce_def,25,FALSE),0)","v":0},0,null,null,null,null,"=",{"$f":"IF(Data!$W87<MIN(Panely!$A$9:$A$28),VLOOKUP(Data!$W87,tabulka_kce_def,62,FALSE),VLOOKUP(Data!$W87,tabulka_panely_def,65,FALSE))","v":""},{"$f":"IF(Data!$W87<MIN(Panely!$A$9:$A$28),VLOOKUP(Data!$W87,tabulka_kce_def,Y$1-20,FALSE),VLOOKUP(Data!$W87,tabulka_panely_def,Y$1-18,FALSE))","v":0},{"$f":"IF(Data!$W87<MIN(Panely!$A$9:$A$28),VLOOKUP(Data!$W87,tabulka_kce_def,Z$1-20,FALSE),VLOOKUP(Data!$W87,tabulka_panely_def,Z$1-18,FALSE))","v":0},{"$f":"IF(Data!$W87<MIN(Panely!$A$9:$A$28),VLOOKUP(Data!$W87,tabulka_kce_def,AA$1-20,FALSE),VLOOKUP(Data!$W87,tabulka_panely_def,AA$1-18,FALSE))","v":0},{"$f":"IF(Data!$W87<MIN(Panely!$A$9:$A$28),VLOOKUP(Data!$W87,tabulka_kce_def,AB$1-20,FALSE),VLOOKUP(Data!$W87,tabulka_panely_def,AB$1-18,FALSE))","v":0},{"$f":"IF(Data!$W87<MIN(Panely!$A$9:$A$28),VLOOKUP(Data!$W87,tabulka_kce_def,AC$1-20,FALSE),VLOOKUP(Data!$W87,tabulka_panely_def,AC$1-18,FALSE))","v":0},{"$f":"IF(Data!$W87<MIN(Panely!$A$9:$A$28),VLOOKUP(Data!$W87,tabulka_kce_def,AD$1-20,FALSE),VLOOKUP(Data!$W87,tabulka_panely_def,AD$1-18,FALSE))","v":0},{"$f":"IF(Data!$W87<MIN(Panely!$A$9:$A$28),VLOOKUP(Data!$W87,tabulka_kce_def,AE$1-20,FALSE),VLOOKUP(Data!$W87,tabulka_panely_def,AE$1-18,FALSE))","v":0},{"$f":"IF(Data!$W87<MIN(Panely!$A$9:$A$28),VLOOKUP(Data!$W87,tabulka_kce_def,AF$1-20,FALSE),VLOOKUP(Data!$W87,tabulka_panely_def,AF$1-18,FALSE))","v":0},{"$f":"IF(Data!$W87<MIN(Panely!$A$9:$A$28),VLOOKUP(Data!$W87,tabulka_kce_def,AG$1-20,FALSE),VLOOKUP(Data!$W87,tabulka_panely_def,AG$1-18,FALSE))","v":0},{"$f":"IF(Data!$W87<MIN(Panely!$A$9:$A$28),VLOOKUP(Data!$W87,tabulka_kce_def,AH$1-20,FALSE),VLOOKUP(Data!$W87,tabulka_panely_def,AH$1-18,FALSE))","v":0},{"$f":"IF(Data!$W87<MIN(Panely!$A$9:$A$28),VLOOKUP(Data!$W87,tabulka_kce_def,AI$1-20,FALSE),VLOOKUP(Data!$W87,tabulka_panely_def,AI$1-18,FALSE))","v":0},{"$f":"IF(Data!$W87<MIN(Panely!$A$9:$A$28),VLOOKUP(Data!$W87,tabulka_kce_def,AJ$1-20,FALSE),VLOOKUP(Data!$W87,tabulka_panely_def,AJ$1-18,FALSE))","v":0},{"$f":"IF(Data!$W87<MIN(Panely!$A$9:$A$28),VLOOKUP(Data!$W87,tabulka_kce_def,AK$1-20,FALSE),VLOOKUP(Data!$W87,tabulka_panely_def,AK$1-18,FALSE))","v":0},{"$f":"IF(Data!$W87<MIN(Panely!$A$9:$A$28),VLOOKUP(Data!$W87,tabulka_kce_def,AL$1-20,FALSE),VLOOKUP(Data!$W87,tabulka_panely_def,AL$1-18,FALSE))","v":0},{"$f":"IF(Data!$W87<MIN(Panely!$A$9:$A$28),VLOOKUP(Data!$W87,tabulka_kce_def,AM$1-20,FALSE),VLOOKUP(Data!$W87,tabulka_panely_def,AM$1-18,FALSE))","v":0},87,{"$f":"IF(Data!$W87<MIN(Panely!$A$9:$A$28),VLOOKUP(Data!$W87,tabulka_kce_def,63,FALSE),0)","v":0},{"$f":"IF(Data!$W87<MIN(Panely!$A$9:$A$28),VLOOKUP(Data!$W87,tabulka_kce_def,28,FALSE),1)","v":1},{"$f":"IF(Data!$W87<MIN(Panely!$A$9:$A$28),VLOOKUP(Data!$W87,tabulka_kce_def,23,FALSE),VLOOKUP(Data!$W87,tabulka_panely_def,24,FALSE))","v":0},null,0,null,0,0,{"$error":"#N/A"},0,{"$f":"IF(AND(W87>MAX(Konstrukce!A:A),ISNUMBER(W87)),1,0)","v":0}]
[null,"=",{"$f":"IF(Data!$B88<MIN(Panely!$A$9:$A$28),VLOOKUP(Data!$B88,tabulka_kce_def,4,FALSE),VLOOKUP(Data!$B88,tabulka_panely_def,4,FALSE))","v":0},{"$f":"IF(Data!$B88<MIN(Panely!$A$9:$A$28),VLOOKUP(Data!$B88,tabulka_kce_def,23,FALSE),VLOOKUP(Data!$B88,tabulka_panely_def,24,FALSE))","v":0},{"$f":"IF(Data!$B88<MIN(Panely!$A$9:$A$28),VLOOKUP(Data!$B88,tabulka_kce_def,21,FALSE),VLOOKUP(Data!$B88,tabulka_panely_def,22,FALSE))","v":0},{"$f":"IF(Data!$B88<MIN(Panely!$A$9:$A$28),VLOOKUP(Data!$B88,tabulka_kce_def,26,FALSE),VLOOKUP(Data!$B88,tabulka_panely_def,31,FALSE))","v":{"$error":"#DIV/0!"}},{"$f":"IF(Data!$B88<MIN(Panely!$A$9:$A$28),VLOOKUP(Data!$B88,tabulka_kce_def,27,FALSE),VLOOKUP(Data!$B88,tabulka_panely_def,32,FALSE))","v":{"$error":"#DIV/0!"}},{"$f":"IF(VLOOKUP(Data!$B88,tabulka_kce_def,3,FALSE)=\"\",Konstrukce!$G$1,IF(VLOOKUP(Data!$B88,tabulka_kce_def,3,FALSE)=\"z\",Konstrukce!$G$2,VLOOKUP(Data!$B88,tabulka_kce_def,3,FALSE)))","v":{"$error":"#N/A"}},{"$f":"IF(Data!$B88<MIN(Panely!$A$9:$A$28),0,VLOOKUP(Data!$B88,tabulka_panely_def,25,FALSE))","v":0},{"$f":"IF(Data!$B88<MIN(Panely!$A$9:$A$28),VLOOKUP(Data!$B88,tabulka_kce_def,24,FALSE),VLOOKUP(Data!$B88,tabulka_panely_def,33,FALSE))","v":{"$error":"#N/A"}},{"$f":"Konstrukce!$D$1","v":18.770175404064034},{"$f":"Konstrukce!$D$2","v":19.934229593106764},{"$f":"Konstrukce!$G$1","v":-12},{"$f":"IF(Data!$B88<MIN(Panely!$A$9:$A$28),VLOOKUP(Data!$B88,tabulka_kce_def,59,FALSE),VLOOKUP(Data!$B88,tabulka_panely_def,63,FALSE))","v":""},{"$f":"IF(Data!$B88<MIN(Panely!$A$9:$A$28),VLOOKUP(Data!$B88,tabulka_kce_def,60,FALSE),VLOOKUP(Data!$B88,tabulka_panely_def,64,FALSE))","v":""},{"$f":"IF(Data!$B88<MIN(Panely!$A$9:$A$28),VLOOKUP(Data!$B88,tabulka_kce_def,61,FALSE),VLOOKUP(Data!$B88,tabulka_panely_def,65,FALSE))","v":""},{"$f":"IF(Data!$B88<MIN(Panely!$A$9:$A$28),VLOOKUP(Data!$B88,tabulka_kce_def,25,FALSE),0)","v":0},0,null,null,null,null,"=",{"$f":"IF(Data!$W88<MIN(Panely!$A$9:$A$28),VLOOKUP(Data!$W88,tabulka_kce_def,62,FALSE),VLOOKUP(Data!$W88,tabulka_panely_def,65,FALSE))","v":""},{"$f":"IF(Data!$W88<MIN(Panely!$A$9:$A$28),VLOOKUP(Data!$W88,tabulka_kce_def,Y$1-20,FALSE),VLOOKUP(Data!$W88,tabulka_panely_def,Y$1-18,FALSE))","v":0},{"$f":"IF(Data!$W88<MIN(Panely!$A$9:$A$28),VLOOKUP(Data!$W88,tabulka_kce_def,Z$1-20,FALSE),VLOOKUP(Data!$W88,tabulka_panely_def,Z$1-18,FALSE))","v":0},{"$f":"IF(Data!$W88<MIN(Panely!$A$9:$A$28),VLOOKUP(Data!$W88,tabulka_kce_def,AA$1-20,FALSE),VLOOKUP(Data!$W88,tabulka_panely_def,AA$1-18,FALSE))","v":0},{"$f":"IF(Data!$W88<MIN(Panely!$A$9:$A$28),VLOOKUP(Data!$W88,tabulka_kce_def,AB$1-20,FALSE),VLOOKUP(Data!$W88,tabulka_panely_def,AB$1-18,FALSE))","v":0},{"$f":"IF(Data!$W88<MIN(Panely!$A$9:$A$28),VLOOKUP(Data!$W88,tabulka_kce_def,AC$1-20,FALSE),VLOOKUP(Data!$W88,tabulka_panely_def,AC$1-18,FALSE))","v":0},{"$f":"IF(Data!$W88<MIN(Panely!$A$9:$A$28),VLOOKUP(Data!$W88,tabulka_kce_def,AD$1-20,FALSE),VLOOKUP(Data!$W88,tabulka_panely_def,AD$1-18,FALSE))","v":0},{"$f":"IF(Data!$W88<MIN(Panely!$A$9:$A$28),VLOOKUP(Data!$W88,tabulka_kce_def,AE$1-20,FALSE),VLOOKUP(Data!$W88,tabulka_panely_def,AE$1-18,FALSE))","v":0},{"$f":"IF(Data!$W88<MIN(Panely!$A$9:$A$28),VLOOKUP(Data!$W88,tabulka_kce_def,AF$1-20,FALSE),VLOOKUP(Data!$W88,tabulka_panely_def,AF$1-18,FALSE))","v":0},{"$f":"IF(Data!$W88<MIN(Panely!$A$9:$A$28),VLOOKUP(Data!$W88,tabulka_kce_def,AG$1-20,FALSE),VLOOKUP(Data!$W88,tabulka_panely_def,AG$1-18,FALSE))","v":0},{"$f":"IF(Data!$W88<MIN(Panely!$A$9:$A$28),VLOOKUP(Data!$W88,tabulka_kce_def,AH$1-20,FALSE),VLOOKUP(Data!$W88,tabulka_panely_def,AH$1-18,FALSE))","v":0},{"$f":"IF(Data!$W88<MIN(Panely!$A$9:$A$28),VLOOKUP(Data!$W88,tabulka_kce_def,AI$1-20,FALSE),VLOOKUP(Data!$W88,tabulka_panely_def,AI$1-18,FALSE))","v":0},{"$f":"IF(Data!$W88<MIN(Panely!$A$9:$A$28),VLOOKUP(Data!$W88,tabulka_kce_def,AJ$1-20,FALSE),VLOOKUP(Data!$W88,tabulka_panely_def,AJ$1-18,FALSE))","v":0},{"$f":"IF(Data!$W88<MIN(Panely!$A$9:$A$28),VLOOKUP(Data!$W88,tabulka_kce_def,AK$1-20,FALSE),VLOOKUP(Data!$W88,tabulka_panely_def,AK$1-18,FALSE))","v":0},{"$f":"IF(Data!$W88<MIN(Panely!$A$9:$A$28),VLOOKUP(Data!$W88,tabulka_kce_def,AL$1-20,FALSE),VLOOKUP(Data!$W88,tabulka_panely_def,AL$1-18,FALSE))","v":0},{"$f":"IF(Data!$W88<MIN(Panely!$A$9:$A$28),VLOOKUP(Data!$W88,tabulka_kce_def,AM$1-20,FALSE),VLOOKUP(Data!$W88,tabulka_panely_def,AM$1-18,FALSE))","v":0},88,{"$f":"IF(Data!$W88<MIN(Panely!$A$9:$A$28),VLOOKUP(Data!$W88,tabulka_kce_def,63,FALSE),0)","v":0},{"$f":"IF(Data!$W88<MIN(Panely!$A$9:$A$28),VLOOKUP(Data!$W88,tabulka_kce_def,28,FALSE),1)","v":1},{"$f":"IF(Data!$W88<MIN(Panely!$A$9:$A$28),VLOOKUP(Data!$W88,tabulka_kce_def,23,FALSE),VLOOKUP(Data!$W88,tabulka_panely_def,24,FALSE))","v":0},null,0,null,0,0,{"$error":"#N/A"},0,{"$f":"IF(AND(W88>MAX(Konstrukce!A:A),ISNUMBER(W88)),1,0)","v":0}]
[null,"=",{"$f":"IF(Data!$B89<MIN(Panely!$A$9:$A$28),VLOOKUP(Data!$B89,tabulka_kce_def,4,FALSE),VLOOKUP(Data!$B89,tabulka_panely_def,4,FALSE))","v":0},{"$f":"IF(Data!$B89<MIN(Panely!$A$9:$A$28),VLOOKUP(Data!$B89,tabulka_kce_def,23,FALSE),VLOOKUP(Data!$B89,tabulka_panely_def,24,FALSE))","v":0},{"$f":"IF(Data!$B89<MIN(Panely!$A$9:$A$28),VLOOKUP(Data!$B89,tabulka_kce_def,21,FALSE),VLOOKUP(Data!$B89,tabulka_panely_def,22,FALSE))","v":0},{"$f":"IF(Data!$B89<MIN(Panely!$A$9:$A$28),VLOOKUP(Data!$B89,tabulka_kce_def,26,FALSE),VLOOKUP(Data!$B89,tabulka_panely_def,31,FALSE))","v":{"$error":"#DIV/0!"}},{"$f":"IF(Data!$B89<MIN(Panely!$A$9:$A$28),VLOOKUP(Data!$B89,tabulka_kce_def,27,FALSE),VLOOKUP(Data!$B89,tabulka_panely_def,32,FALSE))","v":{"$error":"#DIV/0!"}},{"$f":"IF(VLOOKUP(Data!$B89,tabulka_kce_def,3,FALSE)=\"\",Konstrukce!$G$1,IF(VLOOKUP(Data!$B89,tabulka_kce_def,3,FALSE)=\"z\",Konstrukce!$G$2,VLOOKUP(Data!$B89,tabulka_kce_def,3,FALSE)))","v":{"$error":"#N/A"}},{"$f":"IF(Data!$B89<MIN(Panely!$A$9:$A$28),0,VLOOKUP(Data!$B89,tabulka_panely_def,25,FALSE))","v":0},{"$f":"IF(Data!$B89<MIN(Panely!$A$9:$A$28),VLOOKUP(Data!$B89,tabulka_kce_def,24,FALSE),VLOOKUP(Data!$B89,tabulka_panely_def,33,FALSE))","v":{"$error":"#N/A"}},{"$f":"Konstrukce!$D$1","v":18.770175404064034},{"$f":"Konstrukce!$D$2","v":19.934229593106764},{"$f":"Konstrukce!$G$1","v":-12},{"$f":"IF(Data!$B89<MIN(Panely!$A$9:$A$28),VLOOKUP(Data!$B89,tabulka_kce_def,59,FALSE),VLOOKUP(Data!$B89,tabulka_panely_def,63,FALSE))","v":""},{"$f":"IF(Data!$B89<MIN(Panely!$A$9:$A$28),VLOOKUP(Data!$B89,tabulka_kce_def,60,FALSE),VLOOKUP(Data!$B89,tabulka_panely_def,64,FALSE))","v":""},{"$f":"IF(Data!$B89<MIN(Panely!$A$9:$A$28),VLOOKUP(Data!$B89,tabulka_kce_def,61,FALSE),VLOOKUP(Data!$B89,tabulka_panely_def,65,FALSE))","v":""},{"$f":"IF(Data!$B89<MIN(Panely!$A$9:$A$28),VLOOKUP(Data!$B89,tabulka_kce_def,25,FALSE),0)","v":0},0,null,null,null,null,"=",{"$f":"IF(Data!$W89<MIN(Panely!$A$9:$A$28),VLOOKUP(Data!$W89,tabulka_kce_def,62,FALSE),VLOOKUP(Data!$W89,tabulka_panely_def,65,FALSE))","v":""},{"$f":"IF(Data!$W89<MIN(Panely!$A$9:$A$28),VLOOKUP(Data!$W89,tabulka_kce_def,Y$1-20,FALSE),VLOOKUP(Data!$W89,tabulka_panely_def,Y$1-18,FALSE))","v":0},{"$f":"IF(Data!$W89<MIN(Panely!$A$9:$A$28),VLOOKUP(Data!$W89,tabulka_kce_def,Z$1-20,FALSE),VLOOKUP(Data!$W89,tabulka_panely_def,Z$1-18,FALSE))","v":0},{"$f":"IF(Data!$W89<MIN(Panely!$A$9:$A$28),VLOOKUP(Data!$W89,tabulka_kce_def,AA$1-20,FALSE),VLOOKUP(Data!$W89,tabulka_panely_def,AA$1-18,FALSE))","v":0},{"$f":"IF(Data!$W89<MIN(Panely!$A$9:$A$28),VLOOKUP(Data!$W89,tabulka_kce_def,AB$1-20,FALSE),VLOOKUP(Data!$W89,tabulka_panely_def,AB$1-18,FALSE))","v":0},{"$f":"IF(Data!$W89<MIN(Panely!$A$9:$A$28),VLOOKUP(Data!$W89,tabulka_kce_def,AC$1-20,FALSE),VLOOKUP(Data!$W89,tabulka_panely_def,AC$1-18,FALSE))","v":0},{"$f":"IF(Data!$W89<MIN(Panely!$A$9:$A$28),VLOOKUP(Data!$W89,tabulka_kce_def,AD$1-20,FALSE),VLOOKUP(Data!$W89,tabulka_panely_def,AD$1-18,FALSE))","v":0},{"$f":"IF(Data!$W89<MIN(Panely!$A$9:$A$28),VLOOKUP(Data!$W89,tabulka_kce_def,AE$1-20,FALSE),VLOOKUP(Data!$W89,tabulka_panely_def,AE$1-18,FALSE))","v":0},{"$f":"IF(Data!$W89<MIN(Panely!$A$9:$A$28),VLOOKUP(Data!$W89,tabulka_kce_def,AF$1-20,FALSE),VLOOKUP(Data!$W89,tabulka_panely_def,AF$1-18,FALSE))","v":0},{"$f":"IF(Data!$W89<MIN(Panely!$A$9:$A$28),VLOOKUP(Data!$W89,tabulka_kce_def,AG$1-20,FALSE),VLOOKUP(Data!$W89,tabulka_panely_def,AG$1-18,FALSE))","v":0},{"$f":"IF(Data!$W89<MIN(Panely!$A$9:$A$28),VLOOKUP(Data!$W89,tabulka_kce_def,AH$1-20,FALSE),VLOOKUP(Data!$W89,tabulka_panely_def,AH$1-18,FALSE))","v":0},{"$f":"IF(Data!$W89<MIN(Panely!$A$9:$A$28),VLOOKUP(Data!$W89,tabulka_kce_def,AI$1-20,FALSE),VLOOKUP(Data!$W89,tabulka_panely_def,AI$1-18,FALSE))","v":0},{"$f":"IF(Data!$W89<MIN(Panely!$A$9:$A$28),VLOOKUP(Data!$W89,tabulka_kce_def,AJ$1-20,FALSE),VLOOKUP(Data!$W89,tabulka_panely_def,AJ$1-18,FALSE))","v":0},{"$f":"IF(Data!$W89<MIN(Panely!$A$9:$A$28),VLOOKUP(Data!$W89,tabulka_kce_def,AK$1-20,FALSE),VLOOKUP(Data!$W89,tabulka_panely_def,AK$1-18,FALSE))","v":0},{"$f":"IF(Data!$W89<MIN(Panely!$A$9:$A$28),VLOOKUP(Data!$W89,tabulka_kce_def,AL$1-20,FALSE),VLOOKUP(Data!$W89,tabulka_panely_def,AL$1-18,FALSE))","v":0},{"$f":"IF(Data!$W89<MIN(Panely!$A$9:$A$28),VLOOKUP(Data!$W89,tabulka_kce_def,AM$1-20,FALSE),VLOOKUP(Data!$W89,tabulka_panely_def,AM$1-18,FALSE))","v":0},89,{"$f":"IF(Data!$W89<MIN(Panely!$A$9:$A$28),VLOOKUP(Data!$W89,tabulka_kce_def,63,FALSE),0)","v":0},{"$f":"IF(Data!$W89<MIN(Panely!$A$9:$A$28),VLOOKUP(Data!$W89,tabulka_kce_def,28,FALSE),1)","v":1},{"$f":"IF(Data!$W89<MIN(Panely!$A$9:$A$28),VLOOKUP(Data!$W89,tabulka_kce_def,23,FALSE),VLOOKUP(Data!$W89,tabulka_panely_def,24,FALSE))","v":0},null,0,null,0,0,{"$error":"#N/A"},0,{"$f":"IF(AND(W89>MAX(Konstrukce!A:A),ISNUMBER(W89)),1,0)","v":0}]
[null,"=",{"$f":"IF(Data!$B90<MIN(Panely!$A$9:$A$28),VLOOKUP(Data!$B90,tabulka_kce_def,4,FALSE),VLOOKUP(Data!$B90,tabulka_panely_def,4,FALSE))","v":0},{"$f":"IF(Data!$B90<MIN(Panely!$A$9:$A$28),VLOOKUP(Data!$B90,tabulka_kce_def,23,FALSE),VLOOKUP(Data!$B90,tabulka_panely_def,24,FALSE))","v":0},{"$f":"IF(Data!$B90<MIN(Panely!$A$9:$A$28),VLOOKUP(Data!$B90,tabulka_kce_def,21,FALSE),VLOOKUP(Data!$B90,tabulka_panely_def,22,FALSE))","v":0},{"$f":"IF(Data!$B90<MIN(Panely!$A$9:$A$28),VLOOKUP(Data!$B90,tabulka_kce_def,26,FALSE),VLOOKUP(Data!$B90,tabulka_panely_def,31,FALSE))","v":{"$error":"#DIV/0!"}},{"$f":"IF(Data!$B90<MIN(Panely!$A$9:$A$28),VLOOKUP(Data!$B90,tabulka_kce_def,27,FALSE),VLOOKUP(Data!$B90,tabulka_panely_def,32,FALSE))","v":{"$error":"#DIV/0!"}},{"$f":"IF(VLOOKUP(Data!$B90,tabulka_kce_def,3,FALSE)=\"\",Konstrukce!$G$1,IF(VLOOKUP(Data!$B90,tabulka_kce_def,3,FALSE)=\"z\",Konstrukce!$G$2,VLOOKUP(Data!$B90,tabulka_kce_def,3,FALSE)))","v":{"$error":"#N/A"}},{"$f":"IF(Data!$B90<MIN(Panely!$A$9:$A$28),0,VLOOKUP(Data!$B90,tabulka_panely_def,25,FALSE))","v":0},{"$f":"IF(Data!$B90<MIN(Panely!$A$9:$A$28),VLOOKUP(Data!$B90,tabulka_kce_def,24,FALSE),VLOOKUP(Data!$B90,tabulka_panely_def,33,FALSE))","v":{"$error":"#N/A"}},{"$f":"Konstrukce!$D$1","v":18.770175404064034},{"$f":"Konstrukce!$D$2","v":19.934229593106764},{"$f":"Konstrukce!$G$1","v":-12},{"$f":"IF(Data!$B90<MIN(Panely!$A$9:$A$28),VLOOKUP(Data!$B90,tabulka_kce_def,59,FALSE),VLOOKUP(Data!$B90,tabulka_panely_def,63,FALSE))","v":""},{"$f":"IF(Data!$B90<MIN(Panely!$A$9:$A$28),VLOOKUP(Data!$B90,tabulka_kce_def,60,FALSE),VLOOKUP(Data!$B90,tabulka_panely_def,64,FALSE))","v":""},{"$f":"IF(Data!$B90<MIN(Panely!$A$9:$A$28),VLOOKUP(Data!$B90,tabulka_kce_def,61,FALSE),VLOOKUP(Data!$B90,tabulka_panely_def,65,FALSE))","v":""},{"$f":"IF(Data!$B90<MIN(Panely!$A$9:$A$28),VLOOKUP(Data!$B90,tabulka_kce_def,25,FALSE),0)","v":0},0,null,null,null,null,"=",{"$f":"IF(Data!$W90<MIN(Panely!$A$9:$A$28),VLOOKUP(Data!$W90,tabulka_kce_def,62,FALSE),VLOOKUP(Data!$W90,tabulka_panely_def,65,FALSE))","v":""},{"$f":"IF(Data!$W90<MIN(Panely!$A$9:$A$28),VLOOKUP(Data!$W90,tabulka_kce_def,Y$1-20,FALSE),VLOOKUP(Data!$W90,tabulka_panely_def,Y$1-18,FALSE))","v":0},{"$f":"IF(Data!$W90<MIN(Panely!$A$9:$A$28),VLOOKUP(Data!$W90,tabulka_kce_def,Z$1-20,FALSE),VLOOKUP(Data!$W90,tabulka_panely_def,Z$1-18,FALSE))","v":0},{"$f":"IF(Data!$W90<MIN(Panely!$A$9:$A$28),VLOOKUP(Data!$W90,tabulka_kce_def,AA$1-20,FALSE),VLOOKUP(Data!$W90,tabulka_panely_def,AA$1-18,FALSE))","v":0},{"$f":"IF(Data!$W90<MIN(Panely!$A$9:$A$28),VLOOKUP(Data!$W90,tabulka_kce_def,AB$1-20,FALSE),VLOOKUP(Data!$W90,tabulka_panely_def,AB$1-18,FALSE))","v":0},{"$f":"IF(Data!$W90<MIN(Panely!$A$9:$A$28),VLOOKUP(Data!$W90,tabulka_kce_def,AC$1-20,FALSE),VLOOKUP(Data!$W90,tabulka_panely_def,AC$1-18,FALSE))","v":0},{"$f":"IF(Data!$W90<MIN(Panely!$A$9:$A$28),VLOOKUP(Data!$W90,tabulka_kce_def,AD$1-20,FALSE),VLOOKUP(Data!$W90,tabulka_panely_def,AD$1-18,FALSE))","v":0},{"$f":"IF(Data!$W90<MIN(Panely!$A$9:$A$28),VLOOKUP(Data!$W90,tabulka_kce_def,AE$1-20,FALSE),VLOOKUP(Data!$W90,tabulka_panely_def,AE$1-18,FALSE))","v":0},{"$f":"IF(Data!$W90<MIN(Panely!$A$9:$A$28),VLOOKUP(Data!$W90,tabulka_kce_def,AF$1-20,FALSE),VLOOKUP(Data!$W90,tabulka_panely_def,AF$1-18,FALSE))","v":0},{"$f":"IF(Data!$W90<MIN(Panely!$A$9:$A$28),VLOOKUP(Data!$W90,tabulka_kce_def,AG$1-20,FALSE),VLOOKUP(Data!$W90,tabulka_panely_def,AG$1-18,FALSE))","v":0},{"$f":"IF(Data!$W90<MIN(Panely!$A$9:$A$28),VLOOKUP(Data!$W90,tabulka_kce_def,AH$1-20,FALSE),VLOOKUP(Data!$W90,tabulka_panely_def,AH$1-18,FALSE))","v":0},{"$f":"IF(Data!$W90<MIN(Panely!$A$9:$A$28),VLOOKUP(Data!$W90,tabulka_kce_def,AI$1-20,FALSE),VLOOKUP(Data!$W90,tabulka_panely_def,AI$1-18,FALSE))","v":0},{"$f":"IF(Data!$W90<MIN(Panely!$A$9:$A$28),VLOOKUP(Data!$W90,tabulka_kce_def,AJ$1-20,FALSE),VLOOKUP(Data!$W90,tabulka_panely_def,AJ$1-18,FALSE))","v":0},{"$f":"IF(Data!$W90<MIN(Panely!$A$9:$A$28),VLOOKUP(Data!$W90,tabulka_kce_def,AK$1-20,FALSE),VLOOKUP(Data!$W90,tabulka_panely_def,AK$1-18,FALSE))","v":0},{"$f":"IF(Data!$W90<MIN(Panely!$A$9:$A$28),VLOOKUP(Data!$W90,tabulka_kce_def,AL$1-20,FALSE),VLOOKUP(Data!$W90,tabulka_panely_def,AL$1-18,FALSE))","v":0},{"$f":"IF(Data!$W90<MIN(Panely!$A$9:$A$28),VLOOKUP(Data!$W90,tabulka_kce_def,AM$1-20,FALSE),VLOOKUP(Data!$W90,tabulka_panely_def,AM$1-18,FALSE))","v":0},90,{"$f":"IF(Data!$W90<MIN(Panely!$A$9:$A$28),VLOOKUP(Data!$W90,tabulka_kce_def,63,FALSE),0)","v":0},{"$f":"IF(Data!$W90<MIN(Panely!$A$9:$A$28),VLOOKUP(Data!$W90,tabulka_kce_def,28,FALSE),1)","v":1},{"$f":"IF(Data!$W90<MIN(Panely!$A$9:$A$28),VLOOKUP(Data!$W90,tabulka_kce_def,23,FALSE),VLOOKUP(Data!$W90,tabulka_panely_def,24,FALSE))","v":0},null,0,null,0,0,{"$error":"#N/A"},0,{"$f":"IF(AND(W90>MAX(Konstrukce!A:A),ISNUMBER(W90)),1,0)","v":0}]
[null,"=",{"$f":"IF(Data!$B91<MIN(Panely!$A$9:$A$28),VLOOKUP(Data!$B91,tabulka_kce_def,4,FALSE),VLOOKUP(Data!$B91,tabulka_panely_def,4,FALSE))","v":0},{"$f":"IF(Data!$B91<MIN(Panely!$A$9:$A$28),VLOOKUP(Data!$B91,tabulka_kce_def,23,FALSE),VLOOKUP(Data!$B91,tabulka_panely_def,24,FALSE))","v":0},{"$f":"IF(Data!$B91<MIN(Panely!$A$9:$A$28),VLOOKUP(Data!$B91,tabulka_kce_def,21,FALSE),VLOOKUP(Data!$B91,tabulka_panely_def,22,FALSE))","v":0},{"$f":"IF(Data!$B91<MIN(Panely!$A$9:$A$28),VLOOKUP(Data!$B91,tabulka_kce_def,26,FALSE),VLOOKUP(Data!$B91,tabulka_panely_def,31,FALSE))","v":{"$error":"#DIV/0!"}},{"$f":"IF(Data!$B91<MIN(Panely!$A$9:$A$28),VLOOKUP(Data!$B91,tabulka_kce_def,27,FALSE),VLOOKUP(Data!$B91,tabulka_panely_def,32,FALSE))","v":{"$error":"#DIV/0!"}},{"$f":"IF(VLOOKUP(Data!$B91,tabulka_kce_def,3,FALSE)=\"\",Konstrukce!$G$1,IF(VLOOKUP(Data!$B91,tabulka_kce_def,3,FALSE)=\"z\",Konstrukce!$G$2,VLOOKUP(Data!$B91,tabulka_kce_def,3,FALSE)))","v":{"$error":"#N/A"}},{"$f":"IF(Data!$B91<MIN(Panely!$A$9:$A$28),0,VLOOKUP(Data!$B91,tabulka_panely_def,25,FALSE))","v":0},{"$f":"IF(Data!$B91<MIN(Panely!$A$9:$A$28),VLOOKUP(Data!$B91,tabulka_kce_def,24,FALSE),VLOOKUP(Data!$B91,tabulka_panely_def,33,FALSE))","v":{"$error":"#N/A"}},{"$f":"Konstrukce!$D$1","v":18.770175404064034},{"$f":"Konstrukce!$D$2","v":19.934229593106764},{"$f":"Konstrukce!$G$1","v":-12},{"$f":"IF(Data!$B91<MIN(Panely!$A$9:$A$28),VLOOKUP(Data!$B91,tabulka_kce_def,59,FALSE),VLOOKUP(Data!$B91,tabulka_panely_def,63,FALSE))","v":""},{"$f":"IF(Data!$B91<MIN(Panely!$A$9:$A$28),VLOOKUP(Data!$B91,tabulka_kce_def,60,FALSE),VLOOKUP(Data!$B91,tabulka_panely_def,64,FALSE))","v":""},{"$f":"IF(Data!$B91<MIN(Panely!$A$9:$A$28),VLOOKUP(Data!$B91,tabulka_kce_def,61,FALSE),VLOOKUP(Data!$B91,tabulka_panely_def,65,FALSE))","v":""},{"$f":"IF(Data!$B91<MIN(Panely!$A$9:$A$28),VLOOKUP(Data!$B91,tabulka_kce_def,25,FALSE),0)","v":0},0,null,null,null,null,"=",{"$f":"IF(Data!$W91<MIN(Panely!$A$9:$A$28),VLOOKUP(Data!$W91,tabulka_kce_def,62,FALSE),VLOOKUP(Data!$W91,tabulka_panely_def,65,FALSE))","v":""},{"$f":"IF(Data!$W91<MIN(Panely!$A$9:$A$28),VLOOKUP(Data!$W91,tabulka_kce_def,Y$1-20,FALSE),VLOOKUP(Data!$W91,tabulka_panely_def,Y$1-18,FALSE))","v":0},{"$f":"IF(Data!$W91<MIN(Panely!$A$9:$A$28),VLOOKUP(Data!$W91,tabulka_kce_def,Z$1-20,FALSE),VLOOKUP(Data!$W91,tabulka_panely_def,Z$1-18,FALSE))","v":0},{"$f":"IF(Data!$W91<MIN(Panely!$A$9:$A$28),VLOOKUP(Data!$W91,tabulka_kce_def,AA$1-20,FALSE),VLOOKUP(Data!$W91,tabulka_panely_def,AA$1-18,FALSE))","v":0},{"$f":"IF(Data!$W91<MIN(Panely!$A$9:$A$28),VLOOKUP(Data!$W91,tabulka_kce_def,AB$1-20,FALSE),VLOOKUP(Data!$W91,tabulka_panely_def,AB$1-18,FALSE))","v":0},{"$f":"IF(Data!$W91<MIN(Panely!$A$9:$A$28),VLOOKUP(Data!$W91,tabulka_kce_def,AC$1-20,FALSE),VLOOKUP(Data!$W91,tabulka_panely_def,AC$1-18,FALSE))","v":0},{"$f":"IF(Data!$W91<MIN(Panely!$A$9:$A$28),VLOOKUP(Data!$W91,tabulka_kce_def,AD$1-20,FALSE),VLOOKUP(Data!$W91,tabulka_panely_def,AD$1-18,FALSE))","v":0},{"$f":"IF(Data!$W91<MIN(Panely!$A$9:$A$28),VLOOKUP(Data!$W91,tabulka_kce_def,AE$1-20,FALSE),VLOOKUP(Data!$W91,tabulka_panely_def,AE$1-18,FALSE))","v":0},{"$f":"IF(Data!$W91<MIN(Panely!$A$9:$A$28),VLOOKUP(Data!$W91,tabulka_kce_def,AF$1-20,FALSE),VLOOKUP(Data!$W91,tabulka_panely_def,AF$1-18,FALSE))","v":0},{"$f":"IF(Data!$W91<MIN(Panely!$A$9:$A$28),VLOOKUP(Data!$W91,tabulka_kce_def,AG$1-20,FALSE),VLOOKUP(Data!$W91,tabulka_panely_def,AG$1-18,FALSE))","v":0},{"$f":"IF(Data!$W91<MIN(Panely!$A$9:$A$28),VLOOKUP(Data!$W91,tabulka_kce_def,AH$1-20,FALSE),VLOOKUP(Data!$W91,tabulka_panely_def,AH$1-18,FALSE))","v":0},{"$f":"IF(Data!$W91<MIN(Panely!$A$9:$A$28),VLOOKUP(Data!$W91,tabulka_kce_def,AI$1-20,FALSE),VLOOKUP(Data!$W91,tabulka_panely_def,AI$1-18,FALSE))","v":0},{"$f":"IF(Data!$W91<MIN(Panely!$A$9:$A$28),VLOOKUP(Data!$W91,tabulka_kce_def,AJ$1-20,FALSE),VLOOKUP(Data!$W91,tabulka_panely_def,AJ$1-18,FALSE))","v":0},{"$f":"IF(Data!$W91<MIN(Panely!$A$9:$A$28),VLOOKUP(Data!$W91,tabulka_kce_def,AK$1-20,FALSE),VLOOKUP(Data!$W91,tabulka_panely_def,AK$1-18,FALSE))","v":0},{"$f":"IF(Data!$W91<MIN(Panely!$A$9:$A$28),VLOOKUP(Data!$W91,tabulka_kce_def,AL$1-20,FALSE),VLOOKUP(Data!$W91,tabulka_panely_def,AL$1-18,FALSE))","v":0},{"$f":"IF(Data!$W91<MIN(Panely!$A$9:$A$28),VLOOKUP(Data!$W91,tabulka_kce_def,AM$1-20,FALSE),VLOOKUP(Data!$W91,tabulka_panely_def,AM$1-18,FALSE))","v":0},91,{"$f":"IF(Data!$W91<MIN(Panely!$A$9:$A$28),VLOOKUP(Data!$W91,tabulka_kce_def,63,FALSE),0)","v":0},{"$f":"IF(Data!$W91<MIN(Panely!$A$9:$A$28),VLOOKUP(Data!$W91,tabulka_kce_def,28,FALSE),1)","v":1},{"$f":"IF(Data!$W91<MIN(Panely!$A$9:$A$28),VLOOKUP(Data!$W91,tabulka_kce_def,23,FALSE),VLOOKUP(Data!$W91,tabulka_panely_def,24,FALSE))","v":0},null,0,null,0,0,{"$error":"#N/A"},0,{"$f":"IF(AND(W91>MAX(Konstrukce!A:A),ISNUMBER(W91)),1,0)","v":0}]
[null,"=",{"$f":"IF(Data!$B92<MIN(Panely!$A$9:$A$28),VLOOKUP(Data!$B92,tabulka_kce_def,4,FALSE),VLOOKUP(Data!$B92,tabulka_panely_def,4,FALSE))","v":0},{"$f":"IF(Data!$B92<MIN(Panely!$A$9:$A$28),VLOOKUP(Data!$B92,tabulka_kce_def,23,FALSE),VLOOKUP(Data!$B92,tabulka_panely_def,24,FALSE))","v":0},{"$f":"IF(Data!$B92<MIN(Panely!$A$9:$A$28),VLOOKUP(Data!$B92,tabulka_kce_def,21,FALSE),VLOOKUP(Data!$B92,tabulka_panely_def,22,FALSE))","v":0},{"$f":"IF(Data!$B92<MIN(Panely!$A$9:$A$28),VLOOKUP(Data!$B92,tabulka_kce_def,26,FALSE),VLOOKUP(Data!$B92,tabulka_panely_def,31,FALSE))","v":{"$error":"#DIV/0!"}},{"$f":"IF(Data!$B92<MIN(Panely!$A$9:$A$28),VLOOKUP(Data!$B92,tabulka_kce_def,27,FALSE),VLOOKUP(Data!$B92,tabulka_panely_def,32,FALSE))","v":{"$error":"#DIV/0!"}},{"$f":"IF(VLOOKUP(Data!$B92,tabulka_kce_def,3,FALSE)=\"\",Konstrukce!$G$1,IF(VLOOKUP(Data!$B92,tabulka_kce_def,3,FALSE)=\"z\",Konstrukce!$G$2,VLOOKUP(Data!$B92,tabulka_kce_def,3,FALSE)))","v":{"$error":"#N/A"}},{"$f":"IF(Data!$B92<MIN(Panely!$A$9:$A$28),0,VLOOKUP(Data!$B92,tabulka_panely_def,25,FALSE))","v":0},{"$f":"IF(Data!$B92<MIN(Panely!$A$9:$A$28),VLOOKUP(Data!$B92,tabulka_kce_def,24,FALSE),VLOOKUP(Data!$B92,tabulka_panely_def,33,FALSE))","v":{"$error":"#N/A"}},{"$f":"Konstrukce!$D$1","v":18.770175404064034},{"$f":"Konstrukce!$D$2","v":19.934229593106764},{"$f":"Konstrukce!$G$1","v":-12},{"$f":"IF(Data!$B92<MIN(Panely!$A$9:$A$28),VLOOKUP(Data!$B92,tabulka_kce_def,59,FALSE),VLOOKUP(Data!$B92,tabulka_panely_def,63,FALSE))","v":""},{"$f":"IF(Data!$B92<MIN(Panely!$A$9:$A$28),VLOOKUP(Data!$B92,tabulka_kce_def,60,FALSE),VLOOKUP(Data!$B92,tabulka_panely_def,64,FALSE))","v":""},{"$f":"IF(Data!$B92<MIN(Panely!$A$9:$A$28),VLOOKUP(Data!$B92,tabulka_kce_def,61,FALSE),VLOOKUP(Data!$B92,tabulka_panely_def,65,FALSE))","v":""},{"$f":"IF(Data!$B92<MIN(Panely!$A$9:$A$28),VLOOKUP(Data!$B92,tabulka_kce_def,25,FALSE),0)","v":0},0,null,null,null,null,"=",{"$f":"IF(Data!$W92<MIN(Panely!$A$9:$A$28),VLOOKUP(Data!$W92,tabulka_kce_def,62,FALSE),VLOOKUP(Data!$W92,tabulka_panely_def,65,FALSE))","v":""},{"$f":"IF(Data!$W92<MIN(Panely!$A$9:$A$28),VLOOKUP(Data!$W92,tabulka_kce_def,Y$1-20,FALSE),VLOOKUP(Data!$W92,tabulka_panely_def,Y$1-18,FALSE))","v":0},{"$f":"IF(Data!$W92<MIN(Panely!$A$9:$A$28),VLOOKUP(Data!$W92,tabulka_kce_def,Z$1-20,FALSE),VLOOKUP(Data!$W92,tabulka_panely_def,Z$1-18,FALSE))","v":0},{"$f":"IF(Data!$W92<MIN(Panely!$A$9:$A$28),VLOOKUP(Data!$W92,tabulka_kce_def,AA$1-20,FALSE),VLOOKUP(Data!$W92,tabulka_panely_def,AA$1-18,FALSE))","v":0},{"$f":"IF(Data!$W92<MIN(Panely!$A$9:$A$28),VLOOKUP(Data!$W92,tabulka_kce_def,AB$1-20,FALSE),VLOOKUP(Data!$W92,tabulka_panely_def,AB$1-18,FALSE))","v":0},{"$f":"IF(Data!$W92<MIN(Panely!$A$9:$A$28),VLOOKUP(Data!$W92,tabulka_kce_def,AC$1-20,FALSE),VLOOKUP(Data!$W92,tabulka_panely_def,AC$1-18,FALSE))","v":0},{"$f":"IF(Data!$W92<MIN(Panely!$A$9:$A$28),VLOOKUP(Data!$W92,tabulka_kce_def,AD$1-20,FALSE),VLOOKUP(Data!$W92,tabulka_panely_def,AD$1-18,FALSE))","v":0},{"$f":"IF(Data!$W92<MIN(Panely!$A$9:$A$28),VLOOKUP(Data!$W92,tabulka_kce_def,AE$1-20,FALSE),VLOOKUP(Data!$W92,tabulka_panely_def,AE$1-18,FALSE))","v":0},{"$f":"IF(Data!$W92<MIN(Panely!$A$9:$A$28),VLOOKUP(Data!$W92,tabulka_kce_def,AF$1-20,FALSE),VLOOKUP(Data!$W92,tabulka_panely_def,AF$1-18,FALSE))","v":0},{"$f":"IF(Data!$W92<MIN(Panely!$A$9:$A$28),VLOOKUP(Data!$W92,tabulka_kce_def,AG$1-20,FALSE),VLOOKUP(Data!$W92,tabulka_panely_def,AG$1-18,FALSE))","v":0},{"$f":"IF(Data!$W92<MIN(Panely!$A$9:$A$28),VLOOKUP(Data!$W92,tabulka_kce_def,AH$1-20,FALSE),VLOOKUP(Data!$W92,tabulka_panely_def,AH$1-18,FALSE))","v":0},{"$f":"IF(Data!$W92<MIN(Panely!$A$9:$A$28),VLOOKUP(Data!$W92,tabulka_kce_def,AI$1-20,FALSE),VLOOKUP(Data!$W92,tabulka_panely_def,AI$1-18,FALSE))","v":0},{"$f":"IF(Data!$W92<MIN(Panely!$A$9:$A$28),VLOOKUP(Data!$W92,tabulka_kce_def,AJ$1-20,FALSE),VLOOKUP(Data!$W92,tabulka_panely_def,AJ$1-18,FALSE))","v":0},{"$f":"IF(Data!$W92<MIN(Panely!$A$9:$A$28),VLOOKUP(Data!$W92,tabulka_kce_def,AK$1-20,FALSE),VLOOKUP(Data!$W92,tabulka_panely_def,AK$1-18,FALSE))","v":0},{"$f":"IF(Data!$W92<MIN(Panely!$A$9:$A$28),VLOOKUP(Data!$W92,tabulka_kce_def,AL$1-20,FALSE),VLOOKUP(Data!$W92,tabulka_panely_def,AL$1-18,FALSE))","v":0},{"$f":"IF(Data!$W92<MIN(Panely!$A$9:$A$28),VLOOKUP(Data!$W92,tabulka_kce_def,AM$1-20,FALSE),VLOOKUP(Data!$W92,tabulka_panely_def,AM$1-18,FALSE))","v":0},92,{"$f":"IF(Data!$W92<MIN(Panely!$A$9:$A$28),VLOOKUP(Data!$W92,tabulka_kce_def,63,FALSE),0)","v":0},{"$f":"IF(Data!$W92<MIN(Panely!$A$9:$A$28),VLOOKUP(Data!$W92,tabulka_kce_def,28,FALSE),1)","v":1},{"$f":"IF(Data!$W92<MIN(Panely!$A$9:$A$28),VLOOKUP(Data!$W92,tabulka_kce_def,23,FALSE),VLOOKUP(Data!$W92,tabulka_panely_def,24,FALSE))","v":0},null,0,null,0,0,{"$error":"#N/A"},0,{"$f":"IF(AND(W92>MAX(Konstrukce!A:A),ISNUMBER(W92)),1,0)","v":0}]
[null,"=",{"$f":"IF(Data!$B93<MIN(Panely!$A$9:$A$28),VLOOKUP(Data!$B93,tabulka_kce_def,4,FALSE),VLOOKUP(Data!$B93,tabulka_panely_def,4,FALSE))","v":0},{"$f":"IF(Data!$B93<MIN(Panely!$A$9:$A$28),VLOOKUP(Data!$B93,tabulka_kce_def,23,FALSE),VLOOKUP(Data!$B93,tabulka_panely_def,24,FALSE))","v":0},{"$f":"IF(Data!$B93<MIN(Panely!$A$9:$A$28),VLOOKUP(Data!$B93,tabulka_kce_def,21,FALSE),VLOOKUP(Data!$B93,tabulka_panely_def,22,FALSE))","v":0},{"$f":"IF(Data!$B93<MIN(Panely!$A$9:$A$28),VLOOKUP(Data!$B93,tabulka_kce_def,26,FALSE),VLOOKUP(Data!$B93,tabulka_panely_def,31,FALSE))","v":{"$error":"#DIV/0!"}},{"$f":"IF(Data!$B93<MIN(Panely!$A$9:$A$28),VLOOKUP(Data!$B93,tabulka_kce_def,27,FALSE),VLOOKUP(Data!$B93,tabulka_panely_def,32,FALSE))","v":{"$error":"#DIV/0!"}},{"$f":"IF(VLOOKUP(Data!$B93,tabulka_kce_def,3,FALSE)=\"\",Konstrukce!$G$1,IF(VLOOKUP(Data!$B93,tabulka_kce_def,3,FALSE)=\"z\",Konstrukce!$G$2,VLOOKUP(Data!$B93,tabulka_kce_def,3,FALSE)))","v":{"$error":"#N/A"}},{"$f":"IF(Data!$B93<MIN(Panely!$A$9:$A$28),0,VLOOKUP(Data!$B93,tabulka_panely_def,25,FALSE))","v":0},{"$f":"IF(Data!$B93<MIN(Panely!$A$9:$A$28),VLOOKUP(Data!$B93,tabulka_kce_def,24,FALSE),VLOOKUP(Data!$B93,tabulka_panely_def,33,FALSE))","v":{"$error":"#N/A"}},{"$f":"Konstrukce!$D$1","v":18.770175404064034},{"$f":"Konstrukce!$D$2","v":19.934229593106764},{"$f":"Konstrukce!$G$1","v":-12},{"$f":"IF(Data!$B93<MIN(Panely!$A$9:$A$28),VLOOKUP(Data!$B93,tabulka_kce_def,59,FALSE),VLOOKUP(Data!$B93,tabulka_panely_def,63,FALSE))","v":""},{"$f":"IF(Data!$B93<MIN(Panely!$A$9:$A$28),VLOOKUP(Data!$B93,tabulka_kce_def,60,FALSE),VLOOKUP(Data!$B93,tabulka_panely_def,64,FALSE))","v":""},{"$f":"IF(Data!$B93<MIN(Panely!$A$9:$A$28),VLOOKUP(Data!$B93,tabulka_kce_def,61,FALSE),VLOOKUP(Data!$B93,tabulka_panely_def,65,FALSE))","v":""},{"$f":"IF(Data!$B93<MIN(Panely!$A$9:$A$28),VLOOKUP(Data!$B93,tabulka_kce_def,25,FALSE),0)","v":0},0,null,null,null,null,"=",{"$f":"IF(Data!$W93<MIN(Panely!$A$9:$A$28),VLOOKUP(Data!$W93,tabulka_kce_def,62,FALSE),VLOOKUP(Data!$W93,tabulka_panely_def,65,FALSE))","v":""},{"$f":"IF(Data!$W93<MIN(Panely!$A$9:$A$28),VLOOKUP(Data!$W93,tabulka_kce_def,Y$1-20,FALSE),VLOOKUP(Data!$W93,tabulka_panely_def,Y$1-18,FALSE))","v":0},{"$f":"IF(Data!$W93<MIN(Panely!$A$9:$A$28),VLOOKUP(Data!$W93,tabulka_kce_def,Z$1-20,FALSE),VLOOKUP(Data!$W93,tabulka_panely_def,Z$1-18,FALSE))","v":0},{"$f":"IF(Data!$W93<MIN(Panely!$A$9:$A$28),VLOOKUP(Data!$W93,tabulka_kce_def,AA$1-20,FALSE),VLOOKUP(Data!$W93,tabulka_panely_def,AA$1-18,FALSE))","v":0},{"$f":"IF(Data!$W93<MIN(Panely!$A$9:$A$28),VLOOKUP(Data!$W93,tabulka_kce_def,AB$1-20,FALSE),VLOOKUP(Data!$W93,tabulka_panely_def,AB$1-18,FALSE))","v":0},{"$f":"IF(Data!$W93<MIN(Panely!$A$9:$A$28),VLOOKUP(Data!$W93,tabulka_kce_def,AC$1-20,FALSE),VLOOKUP(Data!$W93,tabulka_panely_def,AC$1-18,FALSE))","v":0},{"$f":"IF(Data!$W93<MIN(Panely!$A$9:$A$28),VLOOKUP(Data!$W93,tabulka_kce_def,AD$1-20,FALSE),VLOOKUP(Data!$W93,tabulka_panely_def,AD$1-18,FALSE))","v":0},{"$f":"IF(Data!$W93<MIN(Panely!$A$9:$A$28),VLOOKUP(Data!$W93,tabulka_kce_def,AE$1-20,FALSE),VLOOKUP(Data!$W93,tabulka_panely_def,AE$1-18,FALSE))","v":0},{"$f":"IF(Data!$W93<MIN(Panely!$A$9:$A$28),VLOOKUP(Data!$W93,tabulka_kce_def,AF$1-20,FALSE),VLOOKUP(Data!$W93,tabulka_panely_def,AF$1-18,FALSE))","v":0},{"$f":"IF(Data!$W93<MIN(Panely!$A$9:$A$28),VLOOKUP(Data!$W93,tabulka_kce_def,AG$1-20,FALSE),VLOOKUP(Data!$W93,tabulka_panely_def,AG$1-18,FALSE))","v":0},{"$f":"IF(Data!$W93<MIN(Panely!$A$9:$A$28),VLOOKUP(Data!$W93,tabulka_kce_def,AH$1-20,FALSE),VLOOKUP(Data!$W93,tabulka_panely_def,AH$1-18,FALSE))","v":0},{"$f":"IF(Data!$W93<MIN(Panely!$A$9:$A$28),VLOOKUP(Data!$W93,tabulka_kce_def,AI$1-20,FALSE),VLOOKUP(Data!$W93,tabulka_panely_def,AI$1-18,FALSE))","v":0},{"$f":"IF(Data!$W93<MIN(Panely!$A$9:$A$28),VLOOKUP(Data!$W93,tabulka_kce_def,AJ$1-20,FALSE),VLOOKUP(Data!$W93,tabulka_panely_def,AJ$1-18,FALSE))","v":0},{"$f":"IF(Data!$W93<MIN(Panely!$A$9:$A$28),VLOOKUP(Data!$W93,tabulka_kce_def,AK$1-20,FALSE),VLOOKUP(Data!$W93,tabulka_panely_def,AK$1-18,FALSE))","v":0},{"$f":"IF(Data!$W93<MIN(Panely!$A$9:$A$28),VLOOKUP(Data!$W93,tabulka_kce_def,AL$1-20,FALSE),VLOOKUP(Data!$W93,tabulka_panely_def,AL$1-18,FALSE))","v":0},{"$f":"IF(Data!$W93<MIN(Panely!$A$9:$A$28),VLOOKUP(Data!$W93,tabulka_kce_def,AM$1-20,FALSE),VLOOKUP(Data!$W93,tabulka_panely_def,AM$1-18,FALSE))","v":0},93,{"$f":"IF(Data!$W93<MIN(Panely!$A$9:$A$28),VLOOKUP(Data!$W93,tabulka_kce_def,63,FALSE),0)","v":0},{"$f":"IF(Data!$W93<MIN(Panely!$A$9:$A$28),VLOOKUP(Data!$W93,tabulka_kce_def,28,FALSE),1)","v":1},{"$f":"IF(Data!$W93<MIN(Panely!$A$9:$A$28),VLOOKUP(Data!$W93,tabulka_kce_def,23,FALSE),VLOOKUP(Data!$W93,tabulka_panely_def,24,FALSE))","v":0},null,0,null,0,0,{"$error":"#N/A"},0,{"$f":"IF(AND(W93>MAX(Konstrukce!A:A),ISNUMBER(W93)),1,0)","v":0}]
[null,"=",{"$f":"IF(Data!$B94<MIN(Panely!$A$9:$A$28),VLOOKUP(Data!$B94,tabulka_kce_def,4,FALSE),VLOOKUP(Data!$B94,tabulka_panely_def,4,FALSE))","v":0},{"$f":"IF(Data!$B94<MIN(Panely!$A$9:$A$28),VLOOKUP(Data!$B94,tabulka_kce_def,23,FALSE),VLOOKUP(Data!$B94,tabulka_panely_def,24,FALSE))","v":0},{"$f":"IF(Data!$B94<MIN(Panely!$A$9:$A$28),VLOOKUP(Data!$B94,tabulka_kce_def,21,FALSE),VLOOKUP(Data!$B94,tabulka_panely_def,22,FALSE))","v":0},{"$f":"IF(Data!$B94<MIN(Panely!$A$9:$A$28),VLOOKUP(Data!$B94,tabulka_kce_def,26,FALSE),VLOOKUP(Data!$B94,tabulka_panely_def,31,FALSE))","v":{"$error":"#DIV/0!"}},{"$f":"IF(Data!$B94<MIN(Panely!$A$9:$A$28),VLOOKUP(Data!$B94,tabulka_kce_def,27,FALSE),VLOOKUP(Data!$B94,tabulka_panely_def,32,FALSE))","v":{"$error":"#DIV/0!"}},{"$f":"IF(VLOOKUP(Data!$B94,tabulka_kce_def,3,FALSE)=\"\",Konstrukce!$G$1,IF(VLOOKUP(Data!$B94,tabulka_kce_def,3,FALSE)=\"z\",Konstrukce!$G$2,VLOOKUP(Data!$B94,tabulka_kce_def,3,FALSE)))","v":{"$error":"#N/A"}},{"$f":"IF(Data!$B94<MIN(Panely!$A$9:$A$28),0,VLOOKUP(Data!$B94,tabulka_panely_def,25,FALSE))","v":0},{"$f":"IF(Data!$B94<MIN(Panely!$A$9:$A$28),VLOOKUP(Data!$B94,tabulka_kce_def,24,FALSE),VLOOKUP(Data!$B94,tabulka_panely_def,33,FALSE))","v":{"$error":"#N/A"}},{"$f":"Konstrukce!$D$1","v":18.770175404064034},{"$f":"Konstrukce!$D$2","v":19.934229593106764},{"$f":"Konstrukce!$G$1","v":-12},{"$f":"IF(Data!$B94<MIN(Panely!$A$9:$A$28),VLOOKUP(Data!$B94,tabulka_kce_def,59,FALSE),VLOOKUP(Data!$B94,tabulka_panely_def,63,FALSE))","v":""},{"$f":"IF(Data!$B94<MIN(Panely!$A$9:$A$28),VLOOKUP(Data!$B94,tabulka_kce_def,60,FALSE),VLOOKUP(Data!$B94,tabulka_panely_def,64,FALSE))","v":""},{"$f":"IF(Data!$B94<MIN(Panely!$A$9:$A$28),VLOOKUP(Data!$B94,tabulka_kce_def,61,FALSE),VLOOKUP(Data!$B94,tabulka_panely_def,65,FALSE))","v":""},{"$f":"IF(Data!$B94<MIN(Panely!$A$9:$A$28),VLOOKUP(Data!$B94,tabulka_kce_def,25,FALSE),0)","v":0},0,null,null,null,null,"=",{"$f":"IF(Data!$W94<MIN(Panely!$A$9:$A$28),VLOOKUP(Data!$W94,tabulka_kce_def,62,FALSE),VLOOKUP(Data!$W94,tabulka_panely_def,65,FALSE))","v":""},{"$f":"IF(Data!$W94<MIN(Panely!$A$9:$A$28),VLOOKUP(Data!$W94,tabulka_kce_def,Y$1-20,FALSE),VLOOKUP(Data!$W94,tabulka_panely_def,Y$1-18,FALSE))","v":0},{"$f":"IF(Data!$W94<MIN(Panely!$A$9:$A$28),VLOOKUP(Data!$W94,tabulka_kce_def,Z$1-20,FALSE),VLOOKUP(Data!$W94,tabulka_panely_def,Z$1-18,FALSE))","v":0},{"$f":"IF(Data!$W94<MIN(Panely!$A$9:$A$28),VLOOKUP(Data!$W94,tabulka_kce_def,AA$1-20,FALSE),VLOOKUP(Data!$W94,tabulka_panely_def,AA$1-18,FALSE))","v":0},{"$f":"IF(Data!$W94<MIN(Panely!$A$9:$A$28),VLOOKUP(Data!$W94,tabulka_kce_def,AB$1-20,FALSE),VLOOKUP(Data!$W94,tabulka_panely_def,AB$1-18,FALSE))","v":0},{"$f":"IF(Data!$W94<MIN(Panely!$A$9:$A$28),VLOOKUP(Data!$W94,tabulka_kce_def,AC$1-20,FALSE),VLOOKUP(Data!$W94,tabulka_panely_def,AC$1-18,FALSE))","v":0},{"$f":"IF(Data!$W94<MIN(Panely!$A$9:$A$28),VLOOKUP(Data!$W94,tabulka_kce_def,AD$1-20,FALSE),VLOOKUP(Data!$W94,tabulka_panely_def,AD$1-18,FALSE))","v":0},{"$f":"IF(Data!$W94<MIN(Panely!$A$9:$A$28),VLOOKUP(Data!$W94,tabulka_kce_def,AE$1-20,FALSE),VLOOKUP(Data!$W94,tabulka_panely_def,AE$1-18,FALSE))","v":0},{"$f":"IF(Data!$W94<MIN(Panely!$A$9:$A$28),VLOOKUP(Data!$W94,tabulka_kce_def,AF$1-20,FALSE),VLOOKUP(Data!$W94,tabulka_panely_def,AF$1-18,FALSE))","v":0},{"$f":"IF(Data!$W94<MIN(Panely!$A$9:$A$28),VLOOKUP(Data!$W94,tabulka_kce_def,AG$1-20,FALSE),VLOOKUP(Data!$W94,tabulka_panely_def,AG$1-18,FALSE))","v":0},{"$f":"IF(Data!$W94<MIN(Panely!$A$9:$A$28),VLOOKUP(Data!$W94,tabulka_kce_def,AH$1-20,FALSE),VLOOKUP(Data!$W94,tabulka_panely_def,AH$1-18,FALSE))","v":0},{"$f":"IF(Data!$W94<MIN(Panely!$A$9:$A$28),VLOOKUP(Data!$W94,tabulka_kce_def,AI$1-20,FALSE),VLOOKUP(Data!$W94,tabulka_panely_def,AI$1-18,FALSE))","v":0},{"$f":"IF(Data!$W94<MIN(Panely!$A$9:$A$28),VLOOKUP(Data!$W94,tabulka_kce_def,AJ$1-20,FALSE),VLOOKUP(Data!$W94,tabulka_panely_def,AJ$1-18,FALSE))","v":0},{"$f":"IF(Data!$W94<MIN(Panely!$A$9:$A$28),VLOOKUP(Data!$W94,tabulka_kce_def,AK$1-20,FALSE),VLOOKUP(Data!$W94,tabulka_panely_def,AK$1-18,FALSE))","v":0},{"$f":"IF(Data!$W94<MIN(Panely!$A$9:$A$28),VLOOKUP(Data!$W94,tabulka_kce_def,AL$1-20,FALSE),VLOOKUP(Data!$W94,tabulka_panely_def,AL$1-18,FALSE))","v":0},{"$f":"IF(Data!$W94<MIN(Panely!$A$9:$A$28),VLOOKUP(Data!$W94,tabulka_kce_def,AM$1-20,FALSE),VLOOKUP(Data!$W94,tabulka_panely_def,AM$1-18,FALSE))","v":0},94,{"$f":"IF(Data!$W94<MIN(Panely!$A$9:$A$28),VLOOKUP(Data!$W94,tabulka_kce_def,63,FALSE),0)","v":0},{"$f":"IF(Data!$W94<MIN(Panely!$A$9:$A$28),VLOOKUP(Data!$W94,tabulka_kce_def,28,FALSE),1)","v":1},{"$f":"IF(Data!$W94<MIN(Panely!$A$9:$A$28),VLOOKUP(Data!$W94,tabulka_kce_def,23,FALSE),VLOOKUP(Data!$W94,tabulka_panely_def,24,FALSE))","v":0},null,0,null,0,0,{"$error":"#N/A"},0,{"$f":"IF(AND(W94>MAX(Konstrukce!A:A),ISNUMBER(W94)),1,0)","v":0}]
[null,"=",{"$f":"IF(Data!$B95<MIN(Panely!$A$9:$A$28),VLOOKUP(Data!$B95,tabulka_kce_def,4,FALSE),VLOOKUP(Data!$B95,tabulka_panely_def,4,FALSE))","v":0},{"$f":"IF(Data!$B95<MIN(Panely!$A$9:$A$28),VLOOKUP(Data!$B95,tabulka_kce_def,23,FALSE),VLOOKUP(Data!$B95,tabulka_panely_def,24,FALSE))","v":0},{"$f":"IF(Data!$B95<MIN(Panely!$A$9:$A$28),VLOOKUP(Data!$B95,tabulka_kce_def,21,FALSE),VLOOKUP(Data!$B95,tabulka_panely_def,22,FALSE))","v":0},{"$f":"IF(Data!$B95<MIN(Panely!$A$9:$A$28),VLOOKUP(Data!$B95,tabulka_kce_def,26,FALSE),VLOOKUP(Data!$B95,tabulka_panely_def,31,FALSE))","v":{"$error":"#DIV/0!"}},{"$f":"IF(Data!$B95<MIN(Panely!$A$9:$A$28),VLOOKUP(Data!$B95,tabulka_kce_def,27,FALSE),VLOOKUP(Data!$B95,tabulka_panely_def,32,FALSE))","v":{"$error":"#DIV/0!"}},{"$f":"IF(VLOOKUP(Data!$B95,tabulka_kce_def,3,FALSE)=\"\",Konstrukce!$G$1,IF(VLOOKUP(Data!$B95,tabulka_kce_def,3,FALSE)=\"z\",Konstrukce!$G$2,VLOOKUP(Data!$B95,tabulka_kce_def,3,FALSE)))","v":{"$error":"#N/A"}},{"$f":"IF(Data!$B95<MIN(Panely!$A$9:$A$28),0,VLOOKUP(Data!$B95,tabulka_panely_def,25,FALSE))","v":0},{"$f":"IF(Data!$B95<MIN(Panely!$A$9:$A$28),VLOOKUP(Data!$B95,tabulka_kce_def,24,FALSE),VLOOKUP(Data!$B95,tabulka_panely_def,33,FALSE))","v":{"$error":"#N/A"}},{"$f":"Konstrukce!$D$1","v":18.770175404064034},{"$f":"Konstrukce!$D$2","v":19.934229593106764},{"$f":"Konstrukce!$G$1","v":-12},{"$f":"IF(Data!$B95<MIN(Panely!$A$9:$A$28),VLOOKUP(Data!$B95,tabulka_kce_def,59,FALSE),VLOOKUP(Data!$B95,tabulka_panely_def,63,FALSE))","v":""},{"$f":"IF(Data!$B95<MIN(Panely!$A$9:$A$28),VLOOKUP(Data!$B95,tabulka_kce_def,60,FALSE),VLOOKUP(Data!$B95,tabulka_panely_def,64,FALSE))","v":""},{"$f":"IF(Data!$B95<MIN(Panely!$A$9:$A$28),VLOOKUP(Data!$B95,tabulka_kce_def,61,FALSE),VLOOKUP(Data!$B95,tabulka_panely_def,65,FALSE))","v":""},{"$f":"IF(Data!$B95<MIN(Panely!$A$9:$A$28),VLOOKUP(Data!$B95,tabulka_kce_def,25,FALSE),0)","v":0},0,null,null,null,null,"=",{"$f":"IF(Data!$W95<MIN(Panely!$A$9:$A$28),VLOOKUP(Data!$W95,tabulka_kce_def,62,FALSE),VLOOKUP(Data!$W95,tabulka_panely_def,65,FALSE))","v":""},{"$f":"IF(Data!$W95<MIN(Panely!$A$9:$A$28),VLOOKUP(Data!$W95,tabulka_kce_def,Y$1-20,FALSE),VLOOKUP(Data!$W95,tabulka_panely_def,Y$1-18,FALSE))","v":0},{"$f":"IF(Data!$W95<MIN(Panely!$A$9:$A$28),VLOOKUP(Data!$W95,tabulka_kce_def,Z$1-20,FALSE),VLOOKUP(Data!$W95,tabulka_panely_def,Z$1-18,FALSE))","v":0},{"$f":"IF(Data!$W95<MIN(Panely!$A$9:$A$28),VLOOKUP(Data!$W95,tabulka_kce_def,AA$1-20,FALSE),VLOOKUP(Data!$W95,tabulka_panely_def,AA$1-18,FALSE))","v":0},{"$f":"IF(Data!$W95<MIN(Panely!$A$9:$A$28),VLOOKUP(Data!$W95,tabulka_kce_def,AB$1-20,FALSE),VLOOKUP(Data!$W95,tabulka_panely_def,AB$1-18,FALSE))","v":0},{"$f":"IF(Data!$W95<MIN(Panely!$A$9:$A$28),VLOOKUP(Data!$W95,tabulka_kce_def,AC$1-20,FALSE),VLOOKUP(Data!$W95,tabulka_panely_def,AC$1-18,FALSE))","v":0},{"$f":"IF(Data!$W95<MIN(Panely!$A$9:$A$28),VLOOKUP(Data!$W95,tabulka_kce_def,AD$1-20,FALSE),VLOOKUP(Data!$W95,tabulka_panely_def,AD$1-18,FALSE))","v":0},{"$f":"IF(Data!$W95<MIN(Panely!$A$9:$A$28),VLOOKUP(Data!$W95,tabulka_kce_def,AE$1-20,FALSE),VLOOKUP(Data!$W95,tabulka_panely_def,AE$1-18,FALSE))","v":0},{"$f":"IF(Data!$W95<MIN(Panely!$A$9:$A$28),VLOOKUP(Data!$W95,tabulka_kce_def,AF$1-20,FALSE),VLOOKUP(Data!$W95,tabulka_panely_def,AF$1-18,FALSE))","v":0},{"$f":"IF(Data!$W95<MIN(Panely!$A$9:$A$28),VLOOKUP(Data!$W95,tabulka_kce_def,AG$1-20,FALSE),VLOOKUP(Data!$W95,tabulka_panely_def,AG$1-18,FALSE))","v":0},{"$f":"IF(Data!$W95<MIN(Panely!$A$9:$A$28),VLOOKUP(Data!$W95,tabulka_kce_def,AH$1-20,FALSE),VLOOKUP(Data!$W95,tabulka_panely_def,AH$1-18,FALSE))","v":0},{"$f":"IF(Data!$W95<MIN(Panely!$A$9:$A$28),VLOOKUP(Data!$W95,tabulka_kce_def,AI$1-20,FALSE),VLOOKUP(Data!$W95,tabulka_panely_def,AI$1-18,FALSE))","v":0},{"$f":"IF(Data!$W95<MIN(Panely!$A$9:$A$28),VLOOKUP(Data!$W95,tabulka_kce_def,AJ$1-20,FALSE),VLOOKUP(Data!$W95,tabulka_panely_def,AJ$1-18,FALSE))","v":0},{"$f":"IF(Data!$W95<MIN(Panely!$A$9:$A$28),VLOOKUP(Data!$W95,tabulka_kce_def,AK$1-20,FALSE),VLOOKUP(Data!$W95,tabulka_panely_def,AK$1-18,FALSE))","v":0},{"$f":"IF(Data!$W95<MIN(Panely!$A$9:$A$28),VLOOKUP(Data!$W95,tabulka_kce_def,AL$1-20,FALSE),VLOOKUP(Data!$W95,tabulka_panely_def,AL$1-18,FALSE))","v":0},{"$f":"IF(Data!$W95<MIN(Panely!$A$9:$A$28),VLOOKUP(Data!$W95,tabulka_kce_def,AM$1-20,FALSE),VLOOKUP(Data!$W95,tabulka_panely_def,AM$1-18,FALSE))","v":0},95,{"$f":"IF(Data!$W95<MIN(Panely!$A$9:$A$28),VLOOKUP(Data!$W95,tabulka_kce_def,63,FALSE),0)","v":0},{"$f":"IF(Data!$W95<MIN(Panely!$A$9:$A$28),VLOOKUP(Data!$W95,tabulka_kce_def,28,FALSE),1)","v":1},{"$f":"IF(Data!$W95<MIN(Panely!$A$9:$A$28),VLOOKUP(Data!$W95,tabulka_kce_def,23,FALSE),VLOOKUP(Data!$W95,tabulka_panely_def,24,FALSE))","v":0},null,0,null,0,0,{"$error":"#N/A"},0,{"$f":"IF(AND(W95>MAX(Konstrukce!A:A),ISNUMBER(W95)),1,0)","v":0}]
[null,"=",{"$f":"IF(Data!$B96<MIN(Panely!$A$9:$A$28),VLOOKUP(Data!$B96,tabulka_kce_def,4,FALSE),VLOOKUP(Data!$B96,tabulka_panely_def,4,FALSE))","v":0},{"$f":"IF(Data!$B96<MIN(Panely!$A$9:$A$28),VLOOKUP(Data!$B96,tabulka_kce_def,23,FALSE),VLOOKUP(Data!$B96,tabulka_panely_def,24,FALSE))","v":0},{"$f":"IF(Data!$B96<MIN(Panely!$A$9:$A$28),VLOOKUP(Data!$B96,tabulka_kce_def,21,FALSE),VLOOKUP(Data!$B96,tabulka_panely_def,22,FALSE))","v":0},{"$f":"IF(Data!$B96<MIN(Panely!$A$9:$A$28),VLOOKUP(Data!$B96,tabulka_kce_def,26,FALSE),VLOOKUP(Data!$B96,tabulka_panely_def,31,FALSE))","v":{"$error":"#DIV/0!"}},{"$f":"IF(Data!$B96<MIN(Panely!$A$9:$A$28),VLOOKUP(Data!$B96,tabulka_kce_def,27,FALSE),VLOOKUP(Data!$B96,tabulka_panely_def,32,FALSE))","v":{"$error":"#DIV/0!"}},{"$f":"IF(VLOOKUP(Data!$B96,tabulka_kce_def,3,FALSE)=\"\",Konstrukce!$G$1,IF(VLOOKUP(Data!$B96,tabulka_kce_def,3,FALSE)=\"z\",Konstrukce!$G$2,VLOOKUP(Data!$B96,tabulka_kce_def,3,FALSE)))","v":{"$error":"#N/A"}},{"$f":"IF(Data!$B96<MIN(Panely!$A$9:$A$28),0,VLOOKUP(Data!$B96,tabulka_panely_def,25,FALSE))","v":0},{"$f":"IF(Data!$B96<MIN(Panely!$A$9:$A$28),VLOOKUP(Data!$B96,tabulka_kce_def,24,FALSE),VLOOKUP(Data!$B96,tabulka_panely_def,33,FALSE))","v":{"$error":"#N/A"}},{"$f":"Konstrukce!$D$1","v":18.770175404064034},{"$f":"Konstrukce!$D$2","v":19.934229593106764},{"$f":"Konstrukce!$G$1","v":-12},{"$f":"IF(Data!$B96<MIN(Panely!$A$9:$A$28),VLOOKUP(Data!$B96,tabulka_kce_def,59,FALSE),VLOOKUP(Data!$B96,tabulka_panely_def,63,FALSE))","v":""},{"$f":"IF(Data!$B96<MIN(Panely!$A$9:$A$28),VLOOKUP(Data!$B96,tabulka_kce_def,60,FALSE),VLOOKUP(Data!$B96,tabulka_panely_def,64,FALSE))","v":""},{"$f":"IF(Data!$B96<MIN(Panely!$A$9:$A$28),VLOOKUP(Data!$B96,tabulka_kce_def,61,FALSE),VLOOKUP(Data!$B96,tabulka_panely_def,65,FALSE))","v":""},{"$f":"IF(Data!$B96<MIN(Panely!$A$9:$A$28),VLOOKUP(Data!$B96,tabulka_kce_def,25,FALSE),0)","v":0},0,null,null,null,null,"=",{"$f":"IF(Data!$W96<MIN(Panely!$A$9:$A$28),VLOOKUP(Data!$W96,tabulka_kce_def,62,FALSE),VLOOKUP(Data!$W96,tabulka_panely_def,65,FALSE))","v":""},{"$f":"IF(Data!$W96<MIN(Panely!$A$9:$A$28),VLOOKUP(Data!$W96,tabulka_kce_def,Y$1-20,FALSE),VLOOKUP(Data!$W96,tabulka_panely_def,Y$1-18,FALSE))","v":0},{"$f":"IF(Data!$W96<MIN(Panely!$A$9:$A$28),VLOOKUP(Data!$W96,tabulka_kce_def,Z$1-20,FALSE),VLOOKUP(Data!$W96,tabulka_panely_def,Z$1-18,FALSE))","v":0},{"$f":"IF(Data!$W96<MIN(Panely!$A$9:$A$28),VLOOKUP(Data!$W96,tabulka_kce_def,AA$1-20,FALSE),VLOOKUP(Data!$W96,tabulka_panely_def,AA$1-18,FALSE))","v":0},{"$f":"IF(Data!$W96<MIN(Panely!$A$9:$A$28),VLOOKUP(Data!$W96,tabulka_kce_def,AB$1-20,FALSE),VLOOKUP(Data!$W96,tabulka_panely_def,AB$1-18,FALSE))","v":0},{"$f":"IF(Data!$W96<MIN(Panely!$A$9:$A$28),VLOOKUP(Data!$W96,tabulka_kce_def,AC$1-20,FALSE),VLOOKUP(Data!$W96,tabulka_panely_def,AC$1-18,FALSE))","v":0},{"$f":"IF(Data!$W96<MIN(Panely!$A$9:$A$28),VLOOKUP(Data!$W96,tabulka_kce_def,AD$1-20,FALSE),VLOOKUP(Data!$W96,tabulka_panely_def,AD$1-18,FALSE))","v":0},{"$f":"IF(Data!$W96<MIN(Panely!$A$9:$A$28),VLOOKUP(Data!$W96,tabulka_kce_def,AE$1-20,FALSE),VLOOKUP(Data!$W96,tabulka_panely_def,AE$1-18,FALSE))","v":0},{"$f":"IF(Data!$W96<MIN(Panely!$A$9:$A$28),VLOOKUP(Data!$W96,tabulka_kce_def,AF$1-20,FALSE),VLOOKUP(Data!$W96,tabulka_panely_def,AF$1-18,FALSE))","v":0},{"$f":"IF(Data!$W96<MIN(Panely!$A$9:$A$28),VLOOKUP(Data!$W96,tabulka_kce_def,AG$1-20,FALSE),VLOOKUP(Data!$W96,tabulka_panely_def,AG$1-18,FALSE))","v":0},{"$f":"IF(Data!$W96<MIN(Panely!$A$9:$A$28),VLOOKUP(Data!$W96,tabulka_kce_def,AH$1-20,FALSE),VLOOKUP(Data!$W96,tabulka_panely_def,AH$1-18,FALSE))","v":0},{"$f":"IF(Data!$W96<MIN(Panely!$A$9:$A$28),VLOOKUP(Data!$W96,tabulka_kce_def,AI$1-20,FALSE),VLOOKUP(Data!$W96,tabulka_panely_def,AI$1-18,FALSE))","v":0},{"$f":"IF(Data!$W96<MIN(Panely!$A$9:$A$28),VLOOKUP(Data!$W96,tabulka_kce_def,AJ$1-20,FALSE),VLOOKUP(Data!$W96,tabulka_panely_def,AJ$1-18,FALSE))","v":0},{"$f":"IF(Data!$W96<MIN(Panely!$A$9:$A$28),VLOOKUP(Data!$W96,tabulka_kce_def,AK$1-20,FALSE),VLOOKUP(Data!$W96,tabulka_panely_def,AK$1-18,FALSE))","v":0},{"$f":"IF(Data!$W96<MIN(Panely!$A$9:$A$28),VLOOKUP(Data!$W96,tabulka_kce_def,AL$1-20,FALSE),VLOOKUP(Data!$W96,tabulka_panely_def,AL$1-18,FALSE))","v":0},{"$f":"IF(Data!$W96<MIN(Panely!$A$9:$A$28),VLOOKUP(Data!$W96,tabulka_kce_def,AM$1-20,FALSE),VLOOKUP(Data!$W96,tabulka_panely_def,AM$1-18,FALSE))","v":0},96,{"$f":"IF(Data!$W96<MIN(Panely!$A$9:$A$28),VLOOKUP(Data!$W96,tabulka_kce_def,63,FALSE),0)","v":0},{"$f":"IF(Data!$W96<MIN(Panely!$A$9:$A$28),VLOOKUP(Data!$W96,tabulka_kce_def,28,FALSE),1)","v":1},{"$f":"IF(Data!$W96<MIN(Panely!$A$9:$A$28),VLOOKUP(Data!$W96,tabulka_kce_def,23,FALSE),VLOOKUP(Data!$W96,tabulka_panely_def,24,FALSE))","v":0},null,0,null,0,0,{"$error":"#N/A"},0,{"$f":"IF(AND(W96>MAX(Konstrukce!A:A),ISNUMBER(W96)),1,0)","v":0}]
[null,"=",{"$f":"IF(Data!$B97<MIN(Panely!$A$9:$A$28),VLOOKUP(Data!$B97,tabulka_kce_def,4,FALSE),VLOOKUP(Data!$B97,tabulka_panely_def,4,FALSE))","v":0},{"$f":"IF(Data!$B97<MIN(Panely!$A$9:$A$28),VLOOKUP(Data!$B97,tabulka_kce_def,23,FALSE),VLOOKUP(Data!$B97,tabulka_panely_def,24,FALSE))","v":0},{"$f":"IF(Data!$B97<MIN(Panely!$A$9:$A$28),VLOOKUP(Data!$B97,tabulka_kce_def,21,FALSE),VLOOKUP(Data!$B97,tabulka_panely_def,22,FALSE))","v":0},{"$f":"IF(Data!$B97<MIN(Panely!$A$9:$A$28),VLOOKUP(Data!$B97,tabulka_kce_def,26,FALSE),VLOOKUP(Data!$B97,tabulka_panely_def,31,FALSE))","v":{"$error":"#DIV/0!"}},{"$f":"IF(Data!$B97<MIN(Panely!$A$9:$A$28),VLOOKUP(Data!$B97,tabulka_kce_def,27,FALSE),VLOOKUP(Data!$B97,tabulka_panely_def,32,FALSE))","v":{"$error":"#DIV/0!"}},{"$f":"IF(VLOOKUP(Data!$B97,tabulka_kce_def,3,FALSE)=\"\",Konstrukce!$G$1,IF(VLOOKUP(Data!$B97,tabulka_kce_def,3,FALSE)=\"z\",Konstrukce!$G$2,VLOOKUP(Data!$B97,tabulka_kce_def,3,FALSE)))","v":{"$error":"#N/A"}},{"$f":"IF(Data!$B97<MIN(Panely!$A$9:$A$28),0,VLOOKUP(Data!$B97,tabulka_panely_def,25,FALSE))","v":0},{"$f":"IF(Data!$B97<MIN(Panely!$A$9:$A$28),VLOOKUP(Data!$B97,tabulka_kce_def,24,FALSE),VLOOKUP(Data!$B97,tabulka_panely_def,33,FALSE))","v":{"$error":"#N/A"}},{"$f":"Konstrukce!$D$1","v":18.770175404064034},{"$f":"Konstrukce!$D$2","v":19.934229593106764},{"$f":"Konstrukce!$G$1","v":-12},{"$f":"IF(Data!$B97<MIN(Panely!$A$9:$A$28),VLOOKUP(Data!$B97,tabulka_kce_def,59,FALSE),VLOOKUP(Data!$B97,tabulka_panely_def,63,FALSE))","v":""},{"$f":"IF(Data!$B97<MIN(Panely!$A$9:$A$28),VLOOKUP(Data!$B97,tabulka_kce_def,60,FALSE),VLOOKUP(Data!$B97,tabulka_panely_def,64,FALSE))","v":""},{"$f":"IF(Data!$B97<MIN(Panely!$A$9:$A$28),VLOOKUP(Data!$B97,tabulka_kce_def,61,FALSE),VLOOKUP(Data!$B97,tabulka_panely_def,65,FALSE))","v":""},{"$f":"IF(Data!$B97<MIN(Panely!$A$9:$A$28),VLOOKUP(Data!$B97,tabulka_kce_def,25,FALSE),0)","v":0},0,null,null,null,null,"=",{"$f":"IF(Data!$W97<MIN(Panely!$A$9:$A$28),VLOOKUP(Data!$W97,tabulka_kce_def,62,FALSE),VLOOKUP(Data!$W97,tabulka_panely_def,65,FALSE))","v":""},{"$f":"IF(Data!$W97<MIN(Panely!$A$9:$A$28),VLOOKUP(Data!$W97,tabulka_kce_def,Y$1-20,FALSE),VLOOKUP(Data!$W97,tabulka_panely_def,Y$1-18,FALSE))","v":0},{"$f":"IF(Data!$W97<MIN(Panely!$A$9:$A$28),VLOOKUP(Data!$W97,tabulka_kce_def,Z$1-20,FALSE),VLOOKUP(Data!$W97,tabulka_panely_def,Z$1-18,FALSE))","v":0},{"$f":"IF(Data!$W97<MIN(Panely!$A$9:$A$28),VLOOKUP(Data!$W97,tabulka_kce_def,AA$1-20,FALSE),VLOOKUP(Data!$W97,tabulka_panely_def,AA$1-18,FALSE))","v":0},{"$f":"IF(Data!$W97<MIN(Panely!$A$9:$A$28),VLOOKUP(Data!$W97,tabulka_kce_def,AB$1-20,FALSE),VLOOKUP(Data!$W97,tabulka_panely_def,AB$1-18,FALSE))","v":0},{"$f":"IF(Data!$W97<MIN(Panely!$A$9:$A$28),VLOOKUP(Data!$W97,tabulka_kce_def,AC$1-20,FALSE),VLOOKUP(Data!$W97,tabulka_panely_def,AC$1-18,FALSE))","v":0},{"$f":"IF(Data!$W97<MIN(Panely!$A$9:$A$28),VLOOKUP(Data!$W97,tabulka_kce_def,AD$1-20,FALSE),VLOOKUP(Data!$W97,tabulka_panely_def,AD$1-18,FALSE))","v":0},{"$f":"IF(Data!$W97<MIN(Panely!$A$9:$A$28),VLOOKUP(Data!$W97,tabulka_kce_def,AE$1-20,FALSE),VLOOKUP(Data!$W97,tabulka_panely_def,AE$1-18,FALSE))","v":0},{"$f":"IF(Data!$W97<MIN(Panely!$A$9:$A$28),VLOOKUP(Data!$W97,tabulka_kce_def,AF$1-20,FALSE),VLOOKUP(Data!$W97,tabulka_panely_def,AF$1-18,FALSE))","v":0},{"$f":"IF(Data!$W97<MIN(Panely!$A$9:$A$28),VLOOKUP(Data!$W97,tabulka_kce_def,AG$1-20,FALSE),VLOOKUP(Data!$W97,tabulka_panely_def,AG$1-18,FALSE))","v":0},{"$f":"IF(Data!$W97<MIN(Panely!$A$9:$A$28),VLOOKUP(Data!$W97,tabulka_kce_def,AH$1-20,FALSE),VLOOKUP(Data!$W97,tabulka_panely_def,AH$1-18,FALSE))","v":0},{"$f":"IF(Data!$W97<MIN(Panely!$A$9:$A$28),VLOOKUP(Data!$W97,tabulka_kce_def,AI$1-20,FALSE),VLOOKUP(Data!$W97,tabulka_panely_def,AI$1-18,FALSE))","v":0},{"$f":"IF(Data!$W97<MIN(Panely!$A$9:$A$28),VLOOKUP(Data!$W97,tabulka_kce_def,AJ$1-20,FALSE),VLOOKUP(Data!$W97,tabulka_panely_def,AJ$1-18,FALSE))","v":0},{"$f":"IF(Data!$W97<MIN(Panely!$A$9:$A$28),VLOOKUP(Data!$W97,tabulka_kce_def,AK$1-20,FALSE),VLOOKUP(Data!$W97,tabulka_panely_def,AK$1-18,FALSE))","v":0},{"$f":"IF(Data!$W97<MIN(Panely!$A$9:$A$28),VLOOKUP(Data!$W97,tabulka_kce_def,AL$1-20,FALSE),VLOOKUP(Data!$W97,tabulka_panely_def,AL$1-18,FALSE))","v":0},{"$f":"IF(Data!$W97<MIN(Panely!$A$9:$A$28),VLOOKUP(Data!$W97,tabulka_kce_def,AM$1-20,FALSE),VLOOKUP(Data!$W97,tabulka_panely_def,AM$1-18,FALSE))","v":0},97,{"$f":"IF(Data!$W97<MIN(Panely!$A$9:$A$28),VLOOKUP(Data!$W97,tabulka_kce_def,63,FALSE),0)","v":0},{"$f":"IF(Data!$W97<MIN(Panely!$A$9:$A$28),VLOOKUP(Data!$W97,tabulka_kce_def,28,FALSE),1)","v":1},{"$f":"IF(Data!$W97<MIN(Panely!$A$9:$A$28),VLOOKUP(Data!$W97,tabulka_kce_def,23,FALSE),VLOOKUP(Data!$W97,tabulka_panely_def,24,FALSE))","v":0},null,0,null,0,0,{"$error":"#N/A"},0,{"$f":"IF(AND(W97>MAX(Konstrukce!A:A),ISNUMBER(W97)),1,0)","v":0}]
[null,"=",{"$f":"IF(Data!$B98<MIN(Panely!$A$9:$A$28),VLOOKUP(Data!$B98,tabulka_kce_def,4,FALSE),VLOOKUP(Data!$B98,tabulka_panely_def,4,FALSE))","v":0},{"$f":"IF(Data!$B98<MIN(Panely!$A$9:$A$28),VLOOKUP(Data!$B98,tabulka_kce_def,23,FALSE),VLOOKUP(Data!$B98,tabulka_panely_def,24,FALSE))","v":0},{"$f":"IF(Data!$B98<MIN(Panely!$A$9:$A$28),VLOOKUP(Data!$B98,tabulka_kce_def,21,FALSE),VLOOKUP(Data!$B98,tabulka_panely_def,22,FALSE))","v":0},{"$f":"IF(Data!$B98<MIN(Panely!$A$9:$A$28),VLOOKUP(Data!$B98,tabulka_kce_def,26,FALSE),VLOOKUP(Data!$B98,tabulka_panely_def,31,FALSE))","v":{"$error":"#DIV/0!"}},{"$f":"IF(Data!$B98<MIN(Panely!$A$9:$A$28),VLOOKUP(Data!$B98,tabulka_kce_def,27,FALSE),VLOOKUP(Data!$B98,tabulka_panely_def,32,FALSE))","v":{"$error":"#DIV/0!"}},{"$f":"IF(VLOOKUP(Data!$B98,tabulka_kce_def,3,FALSE)=\"\",Konstrukce!$G$1,IF(VLOOKUP(Data!$B98,tabulka_kce_def,3,FALSE)=\"z\",Konstrukce!$G$2,VLOOKUP(Data!$B98,tabulka_kce_def,3,FALSE)))","v":{"$error":"#N/A"}},{"$f":"IF(Data!$B98<MIN(Panely!$A$9:$A$28),0,VLOOKUP(Data!$B98,tabulka_panely_def,25,FALSE))","v":0},{"$f":"IF(Data!$B98<MIN(Panely!$A$9:$A$28),VLOOKUP(Data!$B98,tabulka_kce_def,24,FALSE),VLOOKUP(Data!$B98,tabulka_panely_def,33,FALSE))","v":{"$error":"#N/A"}},{"$f":"Konstrukce!$D$1","v":18.770175404064034},{"$f":"Konstrukce!$D$2","v":19.934229593106764},{"$f":"Konstrukce!$G$1","v":-12},{"$f":"IF(Data!$B98<MIN(Panely!$A$9:$A$28),VLOOKUP(Data!$B98,tabulka_kce_def,59,FALSE),VLOOKUP(Data!$B98,tabulka_panely_def,63,FALSE))","v":""},{"$f":"IF(Data!$B98<MIN(Panely!$A$9:$A$28),VLOOKUP(Data!$B98,tabulka_kce_def,60,FALSE),VLOOKUP(Data!$B98,tabulka_panely_def,64,FALSE))","v":""},{"$f":"IF(Data!$B98<MIN(Panely!$A$9:$A$28),VLOOKUP(Data!$B98,tabulka_kce_def,61,FALSE),VLOOKUP(Data!$B98,tabulka_panely_def,65,FALSE))","v":""},{"$f":"IF(Data!$B98<MIN(Panely!$A$9:$A$28),VLOOKUP(Data!$B98,tabulka_kce_def,25,FALSE),0)","v":0},0,null,null,null,null,"=",{"$f":"IF(Data!$W98<MIN(Panely!$A$9:$A$28),VLOOKUP(Data!$W98,tabulka_kce_def,62,FALSE),VLOOKUP(Data!$W98,tabulka_panely_def,65,FALSE))","v":""},{"$f":"IF(Data!$W98<MIN(Panely!$A$9:$A$28),VLOOKUP(Data!$W98,tabulka_kce_def,Y$1-20,FALSE),VLOOKUP(Data!$W98,tabulka_panely_def,Y$1-18,FALSE))","v":0},{"$f":"IF(Data!$W98<MIN(Panely!$A$9:$A$28),VLOOKUP(Data!$W98,tabulka_kce_def,Z$1-20,FALSE),VLOOKUP(Data!$W98,tabulka_panely_def,Z$1-18,FALSE))","v":0},{"$f":"IF(Data!$W98<MIN(Panely!$A$9:$A$28),VLOOKUP(Data!$W98,tabulka_kce_def,AA$1-20,FALSE),VLOOKUP(Data!$W98,tabulka_panely_def,AA$1-18,FALSE))","v":0},{"$f":"IF(Data!$W98<MIN(Panely!$A$9:$A$28),VLOOKUP(Data!$W98,tabulka_kce_def,AB$1-20,FALSE),VLOOKUP(Data!$W98,tabulka_panely_def,AB$1-18,FALSE))","v":0},{"$f":"IF(Data!$W98<MIN(Panely!$A$9:$A$28),VLOOKUP(Data!$W98,tabulka_kce_def,AC$1-20,FALSE),VLOOKUP(Data!$W98,tabulka_panely_def,AC$1-18,FALSE))","v":0},{"$f":"IF(Data!$W98<MIN(Panely!$A$9:$A$28),VLOOKUP(Data!$W98,tabulka_kce_def,AD$1-20,FALSE),VLOOKUP(Data!$W98,tabulka_panely_def,AD$1-18,FALSE))","v":0},{"$f":"IF(Data!$W98<MIN(Panely!$A$9:$A$28),VLOOKUP(Data!$W98,tabulka_kce_def,AE$1-20,FALSE),VLOOKUP(Data!$W98,tabulka_panely_def,AE$1-18,FALSE))","v":0},{"$f":"IF(Data!$W98<MIN(Panely!$A$9:$A$28),VLOOKUP(Data!$W98,tabulka_kce_def,AF$1-20,FALSE),VLOOKUP(Data!$W98,tabulka_panely_def,AF$1-18,FALSE))","v":0},{"$f":"IF(Data!$W98<MIN(Panely!$A$9:$A$28),VLOOKUP(Data!$W98,tabulka_kce_def,AG$1-20,FALSE),VLOOKUP(Data!$W98,tabulka_panely_def,AG$1-18,FALSE))","v":0},{"$f":"IF(Data!$W98<MIN(Panely!$A$9:$A$28),VLOOKUP(Data!$W98,tabulka_kce_def,AH$1-20,FALSE),VLOOKUP(Data!$W98,tabulka_panely_def,AH$1-18,FALSE))","v":0},{"$f":"IF(Data!$W98<MIN(Panely!$A$9:$A$28),VLOOKUP(Data!$W98,tabulka_kce_def,AI$1-20,FALSE),VLOOKUP(Data!$W98,tabulka_panely_def,AI$1-18,FALSE))","v":0},{"$f":"IF(Data!$W98<MIN(Panely!$A$9:$A$28),VLOOKUP(Data!$W98,tabulka_kce_def,AJ$1-20,FALSE),VLOOKUP(Data!$W98,tabulka_panely_def,AJ$1-18,FALSE))","v":0},{"$f":"IF(Data!$W98<MIN(Panely!$A$9:$A$28),VLOOKUP(Data!$W98,tabulka_kce_def,AK$1-20,FALSE),VLOOKUP(Data!$W98,tabulka_panely_def,AK$1-18,FALSE))","v":0},{"$f":"IF(Data!$W98<MIN(Panely!$A$9:$A$28),VLOOKUP(Data!$W98,tabulka_kce_def,AL$1-20,FALSE),VLOOKUP(Data!$W98,tabulka_panely_def,AL$1-18,FALSE))","v":0},{"$f":"IF(Data!$W98<MIN(Panely!$A$9:$A$28),VLOOKUP(Data!$W98,tabulka_kce_def,AM$1-20,FALSE),VLOOKUP(Data!$W98,tabulka_panely_def,AM$1-18,FALSE))","v":0},98,{"$f":"IF(Data!$W98<MIN(Panely!$A$9:$A$28),VLOOKUP(Data!$W98,tabulka_kce_def,63,FALSE),0)","v":0},{"$f":"IF(Data!$W98<MIN(Panely!$A$9:$A$28),VLOOKUP(Data!$W98,tabulka_kce_def,28,FALSE),1)","v":1},{"$f":"IF(Data!$W98<MIN(Panely!$A$9:$A$28),VLOOKUP(Data!$W98,tabulka_kce_def,23,FALSE),VLOOKUP(Data!$W98,tabulka_panely_def,24,FALSE))","v":0},null,0,null,0,0,{"$error":"#N/A"},0,{"$f":"IF(AND(W98>MAX(Konstrukce!A:A),ISNUMBER(W98)),1,0)","v":0}]
[null,"=",{"$f":"IF(Data!$B99<MIN(Panely!$A$9:$A$28),VLOOKUP(Data!$B99,tabulka_kce_def,4,FALSE),VLOOKUP(Data!$B99,tabulka_panely_def,4,FALSE))","v":0},{"$f":"IF(Data!$B99<MIN(Panely!$A$9:$A$28),VLOOKUP(Data!$B99,tabulka_kce_def,23,FALSE),VLOOKUP(Data!$B99,tabulka_panely_def,24,FALSE))","v":0},{"$f":"IF(Data!$B99<MIN(Panely!$A$9:$A$28),VLOOKUP(Data!$B99,tabulka_kce_def,21,FALSE),VLOOKUP(Data!$B99,tabulka_panely_def,22,FALSE))","v":0},{"$f":"IF(Data!$B99<MIN(Panely!$A$9:$A$28),VLOOKUP(Data!$B99,tabulka_kce_def,26,FALSE),VLOOKUP(Data!$B99,tabulka_panely_def,31,FALSE))","v":{"$error":"#DIV/0!"}},{"$f":"IF(Data!$B99<MIN(Panely!$A$9:$A$28),VLOOKUP(Data!$B99,tabulka_kce_def,27,FALSE),VLOOKUP(Data!$B99,tabulka_panely_def,32,FALSE))","v":{"$error":"#DIV/0!"}},{"$f":"IF(VLOOKUP(Data!$B99,tabulka_kce_def,3,FALSE)=\"\",Konstrukce!$G$1,IF(VLOOKUP(Data!$B99,tabulka_kce_def,3,FALSE)=\"z\",Konstrukce!$G$2,VLOOKUP(Data!$B99,tabulka_kce_def,3,FALSE)))","v":{"$error":"#N/A"}},{"$f":"IF(Data!$B99<MIN(Panely!$A$9:$A$28),0,VLOOKUP(Data!$B99,tabulka_panely_def,25,FALSE))","v":0},{"$f":"IF(Data!$B99<MIN(Panely!$A$9:$A$28),VLOOKUP(Data!$B99,tabulka_kce_def,24,FALSE),VLOOKUP(Data!$B99,tabulka_panely_def,33,FALSE))","v":{"$error":"#N/A"}},{"$f":"Konstrukce!$D$1","v":18.770175404064034},{"$f":"Konstrukce!$D$2","v":19.934229593106764},{"$f":"Konstrukce!$G$1","v":-12},{"$f":"IF(Data!$B99<MIN(Panely!$A$9:$A$28),VLOOKUP(Data!$B99,tabulka_kce_def,59,FALSE),VLOOKUP(Data!$B99,tabulka_panely_def,63,FALSE))","v":""},{"$f":"IF(Data!$B99<MIN(Panely!$A$9:$A$28),VLOOKUP(Data!$B99,tabulka_kce_def,60,FALSE),VLOOKUP(Data!$B99,tabulka_panely_def,64,FALSE))","v":""},{"$f":"IF(Data!$B99<MIN(Panely!$A$9:$A$28),VLOOKUP(Data!$B99,tabulka_kce_def,61,FALSE),VLOOKUP(Data!$B99,tabulka_panely_def,65,FALSE))","v":""},{"$f":"IF(Data!$B99<MIN(Panely!$A$9:$A$28),VLOOKUP(Data!$B99,tabulka_kce_def,25,FALSE),0)","v":0},{"$f":"IF(O99=\"f\",VLOOKUP(VALUE(P99),tabulka_data,3,FALSE),D99)","v":0},null,null,null,null,"=",{"$f":"IF(Data!$W99<MIN(Panely!$A$9:$A$28),VLOOKUP(Data!$W99,tabulka_kce_def,62,FALSE),VLOOKUP(Data!$W99,tabulka_panely_def,65,FALSE))","v":""},{"$f":"IF(Data!$W99<MIN(Panely!$A$9:$A$28),VLOOKUP(Data!$W99,tabulka_kce_def,Y$1-20,FALSE),VLOOKUP(Data!$W99,tabulka_panely_def,Y$1-18,FALSE))","v":0},{"$f":"IF(Data!$W99<MIN(Panely!$A$9:$A$28),VLOOKUP(Data!$W99,tabulka_kce_def,Z$1-20,FALSE),VLOOKUP(Data!$W99,tabulka_panely_def,Z$1-18,FALSE))","v":0},{"$f":"IF(Data!$W99<MIN(Panely!$A$9:$A$28),VLOOKUP(Data!$W99,tabulka_kce_def,AA$1-20,FALSE),VLOOKUP(Data!$W99,tabulka_panely_def,AA$1-18,FALSE))","v":0},{"$f":"IF(Data!$W99<MIN(Panely!$A$9:$A$28),VLOOKUP(Data!$W99,tabulka_kce_def,AB$1-20,FALSE),VLOOKUP(Data!$W99,tabulka_panely_def,AB$1-18,FALSE))","v":0},{"$f":"IF(Data!$W99<MIN(Panely!$A$9:$A$28),VLOOKUP(Data!$W99,tabulka_kce_def,AC$1-20,FALSE),VLOOKUP(Data!$W99,tabulka_panely_def,AC$1-18,FALSE))","v":0},{"$f":"IF(Data!$W99<MIN(Panely!$A$9:$A$28),VLOOKUP(Data!$W99,tabulka_kce_def,AD$1-20,FALSE),VLOOKUP(Data!$W99,tabulka_panely_def,AD$1-18,FALSE))","v":0},{"$f":"IF(Data!$W99<MIN(Panely!$A$9:$A$28),VLOOKUP(Data!$W99,tabulka_kce_def,AE$1-20,FALSE),VLOOKUP(Data!$W99,tabulka_panely_def,AE$1-18,FALSE))","v":0},{"$f":"IF(Data!$W99<MIN(Panely!$A$9:$A$28),VLOOKUP(Data!$W99,tabulka_kce_def,AF$1-20,FALSE),VLOOKUP(Data!$W99,tabulka_panely_def,AF$1-18,FALSE))","v":0},{"$f":"IF(Data!$W99<MIN(Panely!$A$9:$A$28),VLOOKUP(Data!$W99,tabulka_kce_def,AG$1-20,FALSE),VLOOKUP(Data!$W99,tabulka_panely_def,AG$1-18,FALSE))","v":0},{"$f":"IF(Data!$W99<MIN(Panely!$A$9:$A$28),VLOOKUP(Data!$W99,tabulka_kce_def,AH$1-20,FALSE),VLOOKUP(Data!$W99,tabulka_panely_def,AH$1-18,FALSE))","v":0},{"$f":"IF(Data!$W99<MIN(Panely!$A$9:$A$28),VLOOKUP(Data!$W99,tabulka_kce_def,AI$1-20,FALSE),VLOOKUP(Data!$W99,tabulka_panely_def,AI$1-18,FALSE))","v":0},{"$f":"IF(Data!$W99<MIN(Panely!$A$9:$A$28),VLOOKUP(Data!$W99,tabulka_kce_def,AJ$1-20,FALSE),VLOOKUP(Data!$W99,tabulka_panely_def,AJ$1-18,FALSE))","v":0},{"$f":"IF(Data!$W99<MIN(Panely!$A$9:$A$28),VLOOKUP(Data!$W99,tabulka_kce_def,AK$1-20,FALSE),VLOOKUP(Data!$W99,tabulka_panely_def,AK$1-18,FALSE))","v":0},{"$f":"IF(Data!$W99<MIN(Panely!$A$9:$A$28),VLOOKUP(Data!$W99,tabulka_kce_def,AL$1-20,FALSE),VLOOKUP(Data!$W99,tabulka_panely_def,AL$1-18,FALSE))","v":0},{"$f":"IF(Data!$W99<MIN(Panely!$A$9:$A$28),VLOOKUP(Data!$W99,tabulka_kce_def,AM$1-20,FALSE),VLOOKUP(Data!$W99,tabulka_panely_def,AM$1-18,FALSE))","v":0},99,{"$f":"IF(Data!$W99<MIN(Panely!$A$9:$A$28),VLOOKUP(Data!$W99,tabulka_kce_def,63,FALSE),0)","v":0},{"$f":"IF(Data!$W99<MIN(Panely!$A$9:$A$28),VLOOKUP(Data!$W99,tabulka_kce_def,28,FALSE),1)","v":1},{"$f":"IF(Data!$W99<MIN(Panely!$A$9:$A$28),VLOOKUP(Data!$W99,tabulka_kce_def,23,FALSE),VLOOKUP(Data!$W99,tabulka_panely_def,24,FALSE))","v":0},null,0,null,0,0,{"$error":"#N/A"},0,{"$f":"IF(AND(W99>MAX(Konstrukce!A:A),ISNUMBER(W99)),1,0)","v":0}]
[null,"=",{"$f":"IF(Data!$B100<MIN(Panely!$A$9:$A$28),VLOOKUP(Data!$B100,tabulka_kce_def,4,FALSE),VLOOKUP(Data!$B100,tabulka_panely_def,4,FALSE))","v":0},{"$f":"IF(Data!$B100<MIN(Panely!$A$9:$A$28),VLOOKUP(Data!$B100,tabulka_kce_def,23,FALSE),VLOOKUP(Data!$B100,tabulka_panely_def,24,FALSE))","v":0},{"$f":"IF(Data!$B100<MIN(Panely!$A$9:$A$28),VLOOKUP(Data!$B100,tabulka_kce_def,21,FALSE),VLOOKUP(Data!$B100,tabulka_panely_def,22,FALSE))","v":0},{"$f":"IF(Data!$B100<MIN(Panely!$A$9:$A$28),VLOOKUP(Data!$B100,tabulka_kce_def,26,FALSE),VLOOKUP(Data!$B100,tabulka_panely_def,31,FALSE))","v":{"$error":"#DIV/0!"}},{"$f":"IF(Data!$B100<MIN(Panely!$A$9:$A$28),VLOOKUP(Data!$B100,tabulka_kce_def,27,FALSE),VLOOKUP(Data!$B100,tabulka_panely_def,32,FALSE))","v":{"$error":"#DIV/0!"}},{"$f":"IF(VLOOKUP(Data!$B100,tabulka_kce_def,3,FALSE)=\"\",Konstrukce!$G$1,IF(VLOOKUP(Data!$B100,tabulka_kce_def,3,FALSE)=\"z\",Konstrukce!$G$2,VLOOKUP(Data!$B100,tabulka_kce_def,3,FALSE)))","v":{"$error":"#N/A"}},{"$f":"IF(Data!$B100<MIN(Panely!$A$9:$A$28),0,VLOOKUP(Data!$B100,tabulka_panely_def,25,FALSE))","v":0},{"$f":"IF(Data!$B100<MIN(Panely!$A$9:$A$28),VLOOKUP(Data!$B100,tabulka_kce_def,24,FALSE),VLOOKUP(Data!$B100,tabulka_panely_def,33,FALSE))","v":{"$error":"#N/A"}},{"$f":"Konstrukce!$D$1","v":18.770175404064034},{"$f":"Konstrukce!$D$2","v":19.934229593106764},{"$f":"Konstrukce!$G$1","v":-12},{"$f":"IF(Data!$B100<MIN(Panely!$A$9:$A$28),VLOOKUP(Data!$B100,tabulka_kce_def,59,FALSE),VLOOKUP(Data!$B100,tabulka_panely_def,63,FALSE))","v":""},{"$f":"IF(Data!$B100<MIN(Panely!$A$9:$A$28),VLOOKUP(Data!$B100,tabulka_kce_def,60,FALSE),VLOOKUP(Data!$B100,tabulka_panely_def,64,FALSE))","v":""},{"$f":"IF(Data!$B100<MIN(Panely!$A$9:$A$28),VLOOKUP(Data!$B100,tabulka_kce_def,61,FALSE),VLOOKUP(Data!$B100,tabulka_panely_def,65,FALSE))","v":""},{"$f":"IF(Data!$B100<MIN(Panely!$A$9:$A$28),VLOOKUP(Data!$B100,tabulka_kce_def,25,FALSE),0)","v":0},0,null,null,null,null,"=",{"$f":"IF(Data!$W100<MIN(Panely!$A$9:$A$28),VLOOKUP(Data!$W100,tabulka_kce_def,62,FALSE),VLOOKUP(Data!$W100,tabulka_panely_def,65,FALSE))","v":""},{"$f":"IF(Data!$W100<MIN(Panely!$A$9:$A$28),VLOOKUP(Data!$W100,tabulka_kce_def,Y$1-20,FALSE),VLOOKUP(Data!$W100,tabulka_panely_def,Y$1-18,FALSE))","v":0},{"$f":"IF(Data!$W100<MIN(Panely!$A$9:$A$28),VLOOKUP(Data!$W100,tabulka_kce_def,Z$1-20,FALSE),VLOOKUP(Data!$W100,tabulka_panely_def,Z$1-18,FALSE))","v":0},{"$f":"IF(Data!$W100<MIN(Panely!$A$9:$A$28),VLOOKUP(Data!$W100,tabulka_kce_def,AA$1-20,FALSE),VLOOKUP(Data!$W100,tabulka_panely_def,AA$1-18,FALSE))","v":0},{"$f":"IF(Data!$W100<MIN(Panely!$A$9:$A$28),VLOOKUP(Data!$W100,tabulka_kce_def,AB$1-20,FALSE),VLOOKUP(Data!$W100,tabulka_panely_def,AB$1-18,FALSE))","v":0},{"$f":"IF(Data!$W100<MIN(Panely!$A$9:$A$28),VLOOKUP(Data!$W100,tabulka_kce_def,AC$1-20,FALSE),VLOOKUP(Data!$W100,tabulka_panely_def,AC$1-18,FALSE))","v":0},{"$f":"IF(Data!$W100<MIN(Panely!$A$9:$A$28),VLOOKUP(Data!$W100,tabulka_kce_def,AD$1-20,FALSE),VLOOKUP(Data!$W100,tabulka_panely_def,AD$1-18,FALSE))","v":0},{"$f":"IF(Data!$W100<MIN(Panely!$A$9:$A$28),VLOOKUP(Data!$W100,tabulka_kce_def,AE$1-20,FALSE),VLOOKUP(Data!$W100,tabulka_panely_def,AE$1-18,FALSE))","v":0},{"$f":"IF(Data!$W100<MIN(Panely!$A$9:$A$28),VLOOKUP(Data!$W100,tabulka_kce_def,AF$1-20,FALSE),VLOOKUP(Data!$W100,tabulka_panely_def,AF$1-18,FALSE))","v":0},{"$f":"IF(Data!$W100<MIN(Panely!$A$9:$A$28),VLOOKUP(Data!$W100,tabulka_kce_def,AG$1-20,FALSE),VLOOKUP(Data!$W100,tabulka_panely_def,AG$1-18,FALSE))","v":0},{"$f":"IF(Data!$W100<MIN(Panely!$A$9:$A$28),VLOOKUP(Data!$W100,tabulka_kce_def,AH$1-20,FALSE),VLOOKUP(Data!$W100,tabulka_panely_def,AH$1-18,FALSE))","v":0},{"$f":"IF(Data!$W100<MIN(Panely!$A$9:$A$28),VLOOKUP(Data!$W100,tabulka_kce_def,AI$1-20,FALSE),VLOOKUP(Data!$W100,tabulka_panely_def,AI$1-18,FALSE))","v":0},{"$f":"IF(Data!$W100<MIN(Panely!$A$9:$A$28),VLOOKUP(Data!$W100,tabulka_kce_def,AJ$1-20,FALSE),VLOOKUP(Data!$W100,tabulka_panely_def,AJ$1-18,FALSE))","v":0},{"$f":"IF(Data!$W100<MIN(Panely!$A$9:$A$28),VLOOKUP(Data!$W100,tabulka_kce_def,AK$1-20,FALSE),VLOOKUP(Data!$W100,tabulka_panely_def,AK$1-18,FALSE))","v":0},{"$f":"IF(Data!$W100<MIN(Panely!$A$9:$A$28),VLOOKUP(Data!$W100,tabulka_kce_def,AL$1-20,FALSE),VLOOKUP(Data!$W100,tabulka_panely_def,AL$1-18,FALSE))","v":0},{"$f":"IF(Data!$W100<MIN(Panely!$A$9:$A$28),VLOOKUP(Data!$W100,tabulka_kce_def,AM$1-20,FALSE),VLOOKUP(Data!$W100,tabulka_panely_def,AM$1-18,FALSE))","v":0},100,{"$f":"IF(Data!$W100<MIN(Panely!$A$9:$A$28),VLOOKUP(Data!$W100,tabulka_kce_def,63,FALSE),0)","v":0},{"$f":"IF(Data!$W100<MIN(Panely!$A$9:$A$28),VLOOKUP(Data!$W100,tabulka_kce_def,28,FALSE),1)","v":1},{"$f":"IF(Data!$W100<MIN(Panely!$A$9:$A$28),VLOOKUP(Data!$W100,tabulka_kce_def,23,FALSE),VLOOKUP(Data!$W100,tabulka_panely_def,24,FALSE))","v":0},null,0,null,0,0,{"$error":"#N/A"},0,{"$f":"IF(AND(W100>MAX(Konstrukce!A:A),ISNUMBER(W100)),1,0)","v":0}]
[null,"=",{"$f":"IF(Data!$B101<MIN(Panely!$A$9:$A$28),VLOOKUP(Data!$B101,tabulka_kce_def,4,FALSE),VLOOKUP(Data!$B101,tabulka_panely_def,4,FALSE))","v":0},{"$f":"IF(Data!$B101<MIN(Panely!$A$9:$A$28),VLOOKUP(Data!$B101,tabulka_kce_def,23,FALSE),VLOOKUP(Data!$B101,tabulka_panely_def,24,FALSE))","v":0},{"$f":"IF(Data!$B101<MIN(Panely!$A$9:$A$28),VLOOKUP(Data!$B101,tabulka_kce_def,21,FALSE),VLOOKUP(Data!$B101,tabulka_panely_def,22,FALSE))","v":0},{"$f":"IF(Data!$B101<MIN(Panely!$A$9:$A$28),VLOOKUP(Data!$B101,tabulka_kce_def,26,FALSE),VLOOKUP(Data!$B101,tabulka_panely_def,31,FALSE))","v":{"$error":"#DIV/0!"}},{"$f":"IF(Data!$B101<MIN(Panely!$A$9:$A$28),VLOOKUP(Data!$B101,tabulka_kce_def,27,FALSE),VLOOKUP(Data!$B101,tabulka_panely_def,32,FALSE))","v":{"$error":"#DIV/0!"}},{"$f":"IF(VLOOKUP(Data!$B101,tabulka_kce_def,3,FALSE)=\"\",Konstrukce!$G$1,IF(VLOOKUP(Data!$B101,tabulka_kce_def,3,FALSE)=\"z\",Konstrukce!$G$2,VLOOKUP(Data!$B101,tabulka_kce_def,3,FALSE)))","v":{"$error":"#N/A"}},{"$f":"IF(Data!$B101<MIN(Panely!$A$9:$A$28),0,VLOOKUP(Data!$B101,tabulka_panely_def,25,FALSE))","v":0},{"$f":"IF(Data!$B101<MIN(Panely!$A$9:$A$28),VLOOKUP(Data!$B101,tabulka_kce_def,24,FALSE),VLOOKUP(Data!$B101,tabulka_panely_def,33,FALSE))","v":{"$error":"#N/A"}},{"$f":"Konstrukce!$D$1","v":18.770175404064034},{"$f":"Konstrukce!$D$2","v":19.934229593106764},{"$f":"Konstrukce!$G$1","v":-12},{"$f":"IF(Data!$B101<MIN(Panely!$A$9:$A$28),VLOOKUP(Data!$B101,tabulka_kce_def,59,FALSE),VLOOKUP(Data!$B101,tabulka_panely_def,63,FALSE))","v":""},{"$f":"IF(Data!$B101<MIN(Panely!$A$9:$A$28),VLOOKUP(Data!$B101,tabulka_kce_def,60,FALSE),VLOOKUP(Data!$B101,tabulka_panely_def,64,FALSE))","v":""},{"$f":"IF(Data!$B101<MIN(Panely!$A$9:$A$28),VLOOKUP(Data!$B101,tabulka_kce_def,61,FALSE),VLOOKUP(Data!$B101,tabulka_panely_def,65,FALSE))","v":""},{"$f":"IF(Data!$B101<MIN(Panely!$A$9:$A$28),VLOOKUP(Data!$B101,tabulka_kce_def,25,FALSE),0)","v":0},0,null,null,null,null,"=",{"$f":"IF(Data!$W101<MIN(Panely!$A$9:$A$28),VLOOKUP(Data!$W101,tabulka_kce_def,62,FALSE),VLOOKUP(Data!$W101,tabulka_panely_def,65,FALSE))","v":""},{"$f":"IF(Data!$W101<MIN(Panely!$A$9:$A$28),VLOOKUP(Data!$W101,tabulka_kce_def,Y$1-20,FALSE),VLOOKUP(Data!$W101,tabulka_panely_def,Y$1-18,FALSE))","v":0},{"$f":"IF(Data!$W101<MIN(Panely!$A$9:$A$28),VLOOKUP(Data!$W101,tabulka_kce_def,Z$1-20,FALSE),VLOOKUP(Data!$W101,tabulka_panely_def,Z$1-18,FALSE))","v":0},{"$f":"IF(Data!$W101<MIN(Panely!$A$9:$A$28),VLOOKUP(Data!$W101,tabulka_kce_def,AA$1-20,FALSE),VLOOKUP(Data!$W101,tabulka_panely_def,AA$1-18,FALSE))","v":0},{"$f":"IF(Data!$W101<MIN(Panely!$A$9:$A$28),VLOOKUP(Data!$W101,tabulka_kce_def,AB$1-20,FALSE),VLOOKUP(Data!$W101,tabulka_panely_def,AB$1-18,FALSE))","v":0},{"$f":"IF(Data!$W101<MIN(Panely!$A$9:$A$28),VLOOKUP(Data!$W101,tabulka_kce_def,AC$1-20,FALSE),VLOOKUP(Data!$W101,tabulka_panely_def,AC$1-18,FALSE))","v":0},{"$f":"IF(Data!$W101<MIN(Panely!$A$9:$A$28),VLOOKUP(Data!$W101,tabulka_kce_def,AD$1-20,FALSE),VLOOKUP(Data!$W101,tabulka_panely_def,AD$1-18,FALSE))","v":0},{"$f":"IF(Data!$W101<MIN(Panely!$A$9:$A$28),VLOOKUP(Data!$W101,tabulka_kce_def,AE$1-20,FALSE),VLOOKUP(Data!$W101,tabulka_panely_def,AE$1-18,FALSE))","v":0},{"$f":"IF(Data!$W101<MIN(Panely!$A$9:$A$28),VLOOKUP(Data!$W101,tabulka_kce_def,AF$1-20,FALSE),VLOOKUP(Data!$W101,tabulka_panely_def,AF$1-18,FALSE))","v":0},{"$f":"IF(Data!$W101<MIN(Panely!$A$9:$A$28),VLOOKUP(Data!$W101,tabulka_kce_def,AG$1-20,FALSE),VLOOKUP(Data!$W101,tabulka_panely_def,AG$1-18,FALSE))","v":0},{"$f":"IF(Data!$W101<MIN(Panely!$A$9:$A$28),VLOOKUP(Data!$W101,tabulka_kce_def,AH$1-20,FALSE),VLOOKUP(Data!$W101,tabulka_panely_def,AH$1-18,FALSE))","v":0},{"$f":"IF(Data!$W101<MIN(Panely!$A$9:$A$28),VLOOKUP(Data!$W101,tabulka_kce_def,AI$1-20,FALSE),VLOOKUP(Data!$W101,tabulka_panely_def,AI$1-18,FALSE))","v":0},{"$f":"IF(Data!$W101<MIN(Panely!$A$9:$A$28),VLOOKUP(Data!$W101,tabulka_kce_def,AJ$1-20,FALSE),VLOOKUP(Data!$W101,tabulka_panely_def,AJ$1-18,FALSE))","v":0},{"$f":"IF(Data!$W101<MIN(Panely!$A$9:$A$28),VLOOKUP(Data!$W101,tabulka_kce_def,AK$1-20,FALSE),VLOOKUP(Data!$W101,tabulka_panely_def,AK$1-18,FALSE))","v":0},{"$f":"IF(Data!$W101<MIN(Panely!$A$9:$A$28),VLOOKUP(Data!$W101,tabulka_kce_def,AL$1-20,FALSE),VLOOKUP(Data!$W101,tabulka_panely_def,AL$1-18,FALSE))","v":0},{"$f":"IF(Data!$W101<MIN(Panely!$A$9:$A$28),VLOOKUP(Data!$W101,tabulka_kce_def,AM$1-20,FALSE),VLOOKUP(Data!$W101,tabulka_panely_def,AM$1-18,FALSE))","v":0},101,{"$f":"IF(Data!$W101<MIN(Panely!$A$9:$A$28),VLOOKUP(Data!$W101,tabulka_kce_def,63,FALSE),0)","v":0},{"$f":"IF(Data!$W101<MIN(Panely!$A$9:$A$28),VLOOKUP(Data!$W101,tabulka_kce_def,28,FALSE),1)","v":1},{"$f":"IF(Data!$W101<MIN(Panely!$A$9:$A$28),VLOOKUP(Data!$W101,tabulka_kce_def,23,FALSE),VLOOKUP(Data!$W101,tabulka_panely_def,24,FALSE))","v":0},null,0,null,0,0,{"$error":"#N/A"},0,{"$f":"IF(AND(W101>MAX(Konstrukce!A:A),ISNUMBER(W101)),1,0)","v":0}]
[null,"=",{"$f":"IF(Data!$B102<MIN(Panely!$A$9:$A$28),VLOOKUP(Data!$B102,tabulka_kce_def,4,FALSE),VLOOKUP(Data!$B102,tabulka_panely_def,4,FALSE))","v":0},{"$f":"IF(Data!$B102<MIN(Panely!$A$9:$A$28),VLOOKUP(Data!$B102,tabulka_kce_def,23,FALSE),VLOOKUP(Data!$B102,tabulka_panely_def,24,FALSE))","v":0},{"$f":"IF(Data!$B102<MIN(Panely!$A$9:$A$28),VLOOKUP(Data!$B102,tabulka_kce_def,21,FALSE),VLOOKUP(Data!$B102,tabulka_panely_def,22,FALSE))","v":0},{"$f":"IF(Data!$B102<MIN(Panely!$A$9:$A$28),VLOOKUP(Data!$B102,tabulka_kce_def,26,FALSE),VLOOKUP(Data!$B102,tabulka_panely_def,31,FALSE))","v":{"$error":"#DIV/0!"}},{"$f":"IF(Data!$B102<MIN(Panely!$A$9:$A$28),VLOOKUP(Data!$B102,tabulka_kce_def,27,FALSE),VLOOKUP(Data!$B102,tabulka_panely_def,32,FALSE))","v":{"$error":"#DIV/0!"}},{"$f":"IF(VLOOKUP(Data!$B102,tabulka_kce_def,3,FALSE)=\"\",Konstrukce!$G$1,IF(VLOOKUP(Data!$B102,tabulka_kce_def,3,FALSE)=\"z\",Konstrukce!$G$2,VLOOKUP(Data!$B102,tabulka_kce_def,3,FALSE)))","v":{"$error":"#N/A"}},{"$f":"IF(Data!$B102<MIN(Panely!$A$9:$A$28),0,VLOOKUP(Data!$B102,tabulka_panely_def,25,FALSE))","v":0},{"$f":"IF(Data!$B102<MIN(Panely!$A$9:$A$28),VLOOKUP(Data!$B102,tabulka_kce_def,24,FALSE),VLOOKUP(Data!$B102,tabulka_panely_def,33,FALSE))","v":{"$error":"#N/A"}},{"$f":"Konstrukce!$D$1","v":18.770175404064034},{"$f":"Konstrukce!$D$2","v":19.934229593106764},{"$f":"Konstrukce!$G$1","v":-12},{"$f":"IF(Data!$B102<MIN(Panely!$A$9:$A$28),VLOOKUP(Data!$B102,tabulka_kce_def,59,FALSE),VLOOKUP(Data!$B102,tabulka_panely_def,63,FALSE))","v":""},{"$f":"IF(Data!$B102<MIN(Panely!$A$9:$A$28),VLOOKUP(Data!$B102,tabulka_kce_def,60,FALSE),VLOOKUP(Data!$B102,tabulka_panely_def,64,FALSE))","v":""},{"$f":"IF(Data!$B102<MIN(Panely!$A$9:$A$28),VLOOKUP(Data!$B102,tabulka_kce_def,61,FALSE),VLOOKUP(Data!$B102,tabulka_panely_def,65,FALSE))","v":""},{"$f":"IF(Data!$B102<MIN(Panely!$A$9:$A$28),VLOOKUP(Data!$B102,tabulka_kce_def,25,FALSE),0)","v":0},0,null,null,null,null,"=",{"$f":"IF(Data!$W102<MIN(Panely!$A$9:$A$28),VLOOKUP(Data!$W102,tabulka_kce_def,62,FALSE),VLOOKUP(Data!$W102,tabulka_panely_def,65,FALSE))","v":""},{"$f":"IF(Data!$W102<MIN(Panely!$A$9:$A$28),VLOOKUP(Data!$W102,tabulka_kce_def,Y$1-20,FALSE),VLOOKUP(Data!$W102,tabulka_panely_def,Y$1-18,FALSE))","v":0},{"$f":"IF(Data!$W102<MIN(Panely!$A$9:$A$28),VLOOKUP(Data!$W102,tabulka_kce_def,Z$1-20,FALSE),VLOOKUP(Data!$W102,tabulka_panely_def,Z$1-18,FALSE))","v":0},{"$f":"IF(Data!$W102<MIN(Panely!$A$9:$A$28),VLOOKUP(Data!$W102,tabulka_kce_def,AA$1-20,FALSE),VLOOKUP(Data!$W102,tabulka_panely_def,AA$1-18,FALSE))","v":0},{"$f":"IF(Data!$W102<MIN(Panely!$A$9:$A$28),VLOOKUP(Data!$W102,tabulka_kce_def,AB$1-20,FALSE),VLOOKUP(Data!$W102,tabulka_panely_def,AB$1-18,FALSE))","v":0},{"$f":"IF(Data!$W102<MIN(Panely!$A$9:$A$28),VLOOKUP(Data!$W102,tabulka_kce_def,AC$1-20,FALSE),VLOOKUP(Data!$W102,tabulka_panely_def,AC$1-18,FALSE))","v":0},{"$f":"IF(Data!$W102<MIN(Panely!$A$9:$A$28),VLOOKUP(Data!$W102,tabulka_kce_def,AD$1-20,FALSE),VLOOKUP(Data!$W102,tabulka_panely_def,AD$1-18,FALSE))","v":0},{"$f":"IF(Data!$W102<MIN(Panely!$A$9:$A$28),VLOOKUP(Data!$W102,tabulka_kce_def,AE$1-20,FALSE),VLOOKUP(Data!$W102,tabulka_panely_def,AE$1-18,FALSE))","v":0},{"$f":"IF(Data!$W102<MIN(Panely!$A$9:$A$28),VLOOKUP(Data!$W102,tabulka_kce_def,AF$1-20,FALSE),VLOOKUP(Data!$W102,tabulka_panely_def,AF$1-18,FALSE))","v":0},{"$f":"IF(Data!$W102<MIN(Panely!$A$9:$A$28),VLOOKUP(Data!$W102,tabulka_kce_def,AG$1-20,FALSE),VLOOKUP(Data!$W102,tabulka_panely_def,AG$1-18,FALSE))","v":0},{"$f":"IF(Data!$W102<MIN(Panely!$A$9:$A$28),VLOOKUP(Data!$W102,tabulka_kce_def,AH$1-20,FALSE),VLOOKUP(Data!$W102,tabulka_panely_def,AH$1-18,FALSE))","v":0},{"$f":"IF(Data!$W102<MIN(Panely!$A$9:$A$28),VLOOKUP(Data!$W102,tabulka_kce_def,AI$1-20,FALSE),VLOOKUP(Data!$W102,tabulka_panely_def,AI$1-18,FALSE))","v":0},{"$f":"IF(Data!$W102<MIN(Panely!$A$9:$A$28),VLOOKUP(Data!$W102,tabulka_kce_def,AJ$1-20,FALSE),VLOOKUP(Data!$W102,tabulka_panely_def,AJ$1-18,FALSE))","v":0},{"$f":"IF(Data!$W102<MIN(Panely!$A$9:$A$28),VLOOKUP(Data!$W102,tabulka_kce_def,AK$1-20,FALSE),VLOOKUP(Data!$W102,tabulka_panely_def,AK$1-18,FALSE))","v":0},{"$f":"IF(Data!$W102<MIN(Panely!$A$9:$A$28),VLOOKUP(Data!$W102,tabulka_kce_def,AL$1-20,FALSE),VLOOKUP(Data!$W102,tabulka_panely_def,AL$1-18,FALSE))","v":0},{"$f":"IF(Data!$W102<MIN(Panely!$A$9:$A$28),VLOOKUP(Data!$W102,tabulka_kce_def,AM$1-20,FALSE),VLOOKUP(Data!$W102,tabulka_panely_def,AM$1-18,FALSE))","v":0},102,{"$f":"IF(Data!$W102<MIN(Panely!$A$9:$A$28),VLOOKUP(Data!$W102,tabulka_kce_def,63,FALSE),0)","v":0},{"$f":"IF(Data!$W102<MIN(Panely!$A$9:$A$28),VLOOKUP(Data!$W102,tabulka_kce_def,28,FALSE),1)","v":1},{"$f":"IF(Data!$W102<MIN(Panely!$A$9:$A$28),VLOOKUP(Data!$W102,tabulka_kce_def,23,FALSE),VLOOKUP(Data!$W102,tabulka_panely_def,24,FALSE))","v":0},null,0,null,0,0,{"$error":"#N/A"},0,{"$f":"IF(AND(W102>MAX(Konstrukce!A:A),ISNUMBER(W102)),1,0)","v":0}]
[null,"=",{"$f":"IF(Data!$B103<MIN(Panely!$A$9:$A$28),VLOOKUP(Data!$B103,tabulka_kce_def,4,FALSE),VLOOKUP(Data!$B103,tabulka_panely_def,4,FALSE))","v":0},{"$f":"IF(Data!$B103<MIN(Panely!$A$9:$A$28),VLOOKUP(Data!$B103,tabulka_kce_def,23,FALSE),VLOOKUP(Data!$B103,tabulka_panely_def,24,FALSE))","v":0},{"$f":"IF(Data!$B103<MIN(Panely!$A$9:$A$28),VLOOKUP(Data!$B103,tabulka_kce_def,21,FALSE),VLOOKUP(Data!$B103,tabulka_panely_def,22,FALSE))","v":0},{"$f":"IF(Data!$B103<MIN(Panely!$A$9:$A$28),VLOOKUP(Data!$B103,tabulka_kce_def,26,FALSE),VLOOKUP(Data!$B103,tabulka_panely_def,31,FALSE))","v":{"$error":"#DIV/0!"}},{"$f":"IF(Data!$B103<MIN(Panely!$A$9:$A$28),VLOOKUP(Data!$B103,tabulka_kce_def,27,FALSE),VLOOKUP(Data!$B103,tabulka_panely_def,32,FALSE))","v":{"$error":"#DIV/0!"}},{"$f":"IF(VLOOKUP(Data!$B103,tabulka_kce_def,3,FALSE)=\"\",Konstrukce!$G$1,IF(VLOOKUP(Data!$B103,tabulka_kce_def,3,FALSE)=\"z\",Konstrukce!$G$2,VLOOKUP(Data!$B103,tabulka_kce_def,3,FALSE)))","v":{"$error":"#N/A"}},{"$f":"IF(Data!$B103<MIN(Panely!$A$9:$A$28),0,VLOOKUP(Data!$B103,tabulka_panely_def,25,FALSE))","v":0},{"$f":"IF(Data!$B103<MIN(Panely!$A$9:$A$28),VLOOKUP(Data!$B103,tabulka_kce_def,24,FALSE),VLOOKUP(Data!$B103,tabulka_panely_def,33,FALSE))","v":{"$error":"#N/A"}},{"$f":"Konstrukce!$D$1","v":18.770175404064034},{"$f":"Konstrukce!$D$2","v":19.934229593106764},{"$f":"Konstrukce!$G$1","v":-12},{"$f":"IF(Data!$B103<MIN(Panely!$A$9:$A$28),VLOOKUP(Data!$B103,tabulka_kce_def,59,FALSE),VLOOKUP(Data!$B103,tabulka_panely_def,63,FALSE))","v":""},{"$f":"IF(Data!$B103<MIN(Panely!$A$9:$A$28),VLOOKUP(Data!$B103,tabulka_kce_def,60,FALSE),VLOOKUP(Data!$B103,tabulka_panely_def,64,FALSE))","v":""},{"$f":"IF(Data!$B103<MIN(Panely!$A$9:$A$28),VLOOKUP(Data!$B103,tabulka_kce_def,61,FALSE),VLOOKUP(Data!$B103,tabulka_panely_def,65,FALSE))","v":""},{"$f":"IF(Data!$B103<MIN(Panely!$A$9:$A$28),VLOOKUP(Data!$B103,tabulka_kce_def,25,FALSE),0)","v":0},0,null,null,null,null,"=",{"$f":"IF(Data!$W103<MIN(Panely!$A$9:$A$28),VLOOKUP(Data!$W103,tabulka_kce_def,62,FALSE),VLOOKUP(Data!$W103,tabulka_panely_def,65,FALSE))","v":""},{"$f":"IF(Data!$W103<MIN(Panely!$A$9:$A$28),VLOOKUP(Data!$W103,tabulka_kce_def,Y$1-20,FALSE),VLOOKUP(Data!$W103,tabulka_panely_def,Y$1-18,FALSE))","v":0},{"$f":"IF(Data!$W103<MIN(Panely!$A$9:$A$28),VLOOKUP(Data!$W103,tabulka_kce_def,Z$1-20,FALSE),VLOOKUP(Data!$W103,tabulka_panely_def,Z$1-18,FALSE))","v":0},{"$f":"IF(Data!$W103<MIN(Panely!$A$9:$A$28),VLOOKUP(Data!$W103,tabulka_kce_def,AA$1-20,FALSE),VLOOKUP(Data!$W103,tabulka_panely_def,AA$1-18,FALSE))","v":0},{"$f":"IF(Data!$W103<MIN(Panely!$A$9:$A$28),VLOOKUP(Data!$W103,tabulka_kce_def,AB$1-20,FALSE),VLOOKUP(Data!$W103,tabulka_panely_def,AB$1-18,FALSE))","v":0},{"$f":"IF(Data!$W103<MIN(Panely!$A$9:$A$28),VLOOKUP(Data!$W103,tabulka_kce_def,AC$1-20,FALSE),VLOOKUP(Data!$W103,tabulka_panely_def,AC$1-18,FALSE))","v":0},{"$f":"IF(Data!$W103<MIN(Panely!$A$9:$A$28),VLOOKUP(Data!$W103,tabulka_kce_def,AD$1-20,FALSE),VLOOKUP(Data!$W103,tabulka_panely_def,AD$1-18,FALSE))","v":0},{"$f":"IF(Data!$W103<MIN(Panely!$A$9:$A$28),VLOOKUP(Data!$W103,tabulka_kce_def,AE$1-20,FALSE),VLOOKUP(Data!$W103,tabulka_panely_def,AE$1-18,FALSE))","v":0},{"$f":"IF(Data!$W103<MIN(Panely!$A$9:$A$28),VLOOKUP(Data!$W103,tabulka_kce_def,AF$1-20,FALSE),VLOOKUP(Data!$W103,tabulka_panely_def,AF$1-18,FALSE))","v":0},{"$f":"IF(Data!$W103<MIN(Panely!$A$9:$A$28),VLOOKUP(Data!$W103,tabulka_kce_def,AG$1-20,FALSE),VLOOKUP(Data!$W103,tabulka_panely_def,AG$1-18,FALSE))","v":0},{"$f":"IF(Data!$W103<MIN(Panely!$A$9:$A$28),VLOOKUP(Data!$W103,tabulka_kce_def,AH$1-20,FALSE),VLOOKUP(Data!$W103,tabulka_panely_def,AH$1-18,FALSE))","v":0},{"$f":"IF(Data!$W103<MIN(Panely!$A$9:$A$28),VLOOKUP(Data!$W103,tabulka_kce_def,AI$1-20,FALSE),VLOOKUP(Data!$W103,tabulka_panely_def,AI$1-18,FALSE))","v":0},{"$f":"IF(Data!$W103<MIN(Panely!$A$9:$A$28),VLOOKUP(Data!$W103,tabulka_kce_def,AJ$1-20,FALSE),VLOOKUP(Data!$W103,tabulka_panely_def,AJ$1-18,FALSE))","v":0},{"$f":"IF(Data!$W103<MIN(Panely!$A$9:$A$28),VLOOKUP(Data!$W103,tabulka_kce_def,AK$1-20,FALSE),VLOOKUP(Data!$W103,tabulka_panely_def,AK$1-18,FALSE))","v":0},{"$f":"IF(Data!$W103<MIN(Panely!$A$9:$A$28),VLOOKUP(Data!$W103,tabulka_kce_def,AL$1-20,FALSE),VLOOKUP(Data!$W103,tabulka_panely_def,AL$1-18,FALSE))","v":0},{"$f":"IF(Data!$W103<MIN(Panely!$A$9:$A$28),VLOOKUP(Data!$W103,tabulka_kce_def,AM$1-20,FALSE),VLOOKUP(Data!$W103,tabulka_panely_def,AM$1-18,FALSE))","v":0},103,{"$f":"IF(Data!$W103<MIN(Panely!$A$9:$A$28),VLOOKUP(Data!$W103,tabulka_kce_def,63,FALSE),0)","v":0},{"$f":"IF(Data!$W103<MIN(Panely!$A$9:$A$28),VLOOKUP(Data!$W103,tabulka_kce_def,28,FALSE),1)","v":1},{"$f":"IF(Data!$W103<MIN(Panely!$A$9:$A$28),VLOOKUP(Data!$W103,tabulka_kce_def,23,FALSE),VLOOKUP(Data!$W103,tabulka_panely_def,24,FALSE))","v":0},null,0,null,0,0,{"$error":"#N/A"},0,{"$f":"IF(AND(W103>MAX(Konstrukce!A:A),ISNUMBER(W103)),1,0)","v":0}]
[null,"=",{"$f":"IF(Data!$B104<MIN(Panely!$A$9:$A$28),VLOOKUP(Data!$B104,tabulka_kce_def,4,FALSE),VLOOKUP(Data!$B104,tabulka_panely_def,4,FALSE))","v":0},{"$f":"IF(Data!$B104<MIN(Panely!$A$9:$A$28),VLOOKUP(Data!$B104,tabulka_kce_def,23,FALSE),VLOOKUP(Data!$B104,tabulka_panely_def,24,FALSE))","v":0},{"$f":"IF(Data!$B104<MIN(Panely!$A$9:$A$28),VLOOKUP(Data!$B104,tabulka_kce_def,21,FALSE),VLOOKUP(Data!$B104,tabulka_panely_def,22,FALSE))","v":0},{"$f":"IF(Data!$B104<MIN(Panely!$A$9:$A$28),VLOOKUP(Data!$B104,tabulka_kce_def,26,FALSE),VLOOKUP(Data!$B104,tabulka_panely_def,31,FALSE))","v":{"$error":"#DIV/0!"}},{"$f":"IF(Data!$B104<MIN(Panely!$A$9:$A$28),VLOOKUP(Data!$B104,tabulka_kce_def,27,FALSE),VLOOKUP(Data!$B104,tabulka_panely_def,32,FALSE))","v":{"$error":"#DIV/0!"}},{"$f":"IF(VLOOKUP(Data!$B104,tabulka_kce_def,3,FALSE)=\"\",Konstrukce!$G$1,IF(VLOOKUP(Data!$B104,tabulka_kce_def,3,FALSE)=\"z\",Konstrukce!$G$2,VLOOKUP(Data!$B104,tabulka_kce_def,3,FALSE)))","v":{"$error":"#N/A"}},{"$f":"IF(Data!$B104<MIN(Panely!$A$9:$A$28),0,VLOOKUP(Data!$B104,tabulka_panely_def,25,FALSE))","v":0},{"$f":"IF(Data!$B104<MIN(Panely!$A$9:$A$28),VLOOKUP(Data!$B104,tabulka_kce_def,24,FALSE),VLOOKUP(Data!$B104,tabulka_panely_def,33,FALSE))","v":{"$error":"#N/A"}},{"$f":"Konstrukce!$D$1","v":18.770175404064034},{"$f":"Konstrukce!$D$2","v":19.934229593106764},{"$f":"Konstrukce!$G$1","v":-12},{"$f":"IF(Data!$B104<MIN(Panely!$A$9:$A$28),VLOOKUP(Data!$B104,tabulka_kce_def,59,FALSE),VLOOKUP(Data!$B104,tabulka_panely_def,63,FALSE))","v":""},{"$f":"IF(Data!$B104<MIN(Panely!$A$9:$A$28),VLOOKUP(Data!$B104,tabulka_kce_def,60,FALSE),VLOOKUP(Data!$B104,tabulka_panely_def,64,FALSE))","v":""},{"$f":"IF(Data!$B104<MIN(Panely!$A$9:$A$28),VLOOKUP(Data!$B104,tabulka_kce_def,61,FALSE),VLOOKUP(Data!$B104,tabulka_panely_def,65,FALSE))","v":""},{"$f":"IF(Data!$B104<MIN(Panely!$A$9:$A$28),VLOOKUP(Data!$B104,tabulka_kce_def,25,FALSE),0)","v":0},0,null,null,null,null,"=",{"$f":"IF(Data!$W104<MIN(Panely!$A$9:$A$28),VLOOKUP(Data!$W104,tabulka_kce_def,62,FALSE),VLOOKUP(Data!$W104,tabulka_panely_def,65,FALSE))","v":""},{"$f":"IF(Data!$W104<MIN(Panely!$A$9:$A$28),VLOOKUP(Data!$W104,tabulka_kce_def,Y$1-20,FALSE),VLOOKUP(Data!$W104,tabulka_panely_def,Y$1-18,FALSE))","v":0},{"$f":"IF(Data!$W104<MIN(Panely!$A$9:$A$28),VLOOKUP(Data!$W104,tabulka_kce_def,Z$1-20,FALSE),VLOOKUP(Data!$W104,tabulka_panely_def,Z$1-18,FALSE))","v":0},{"$f":"IF(Data!$W104<MIN(Panely!$A$9:$A$28),VLOOKUP(Data!$W104,tabulka_kce_def,AA$1-20,FALSE),VLOOKUP(Data!$W104,tabulka_panely_def,AA$1-18,FALSE))","v":0},{"$f":"IF(Data!$W104<MIN(Panely!$A$9:$A$28),VLOOKUP(Data!$W104,tabulka_kce_def,AB$1-20,FALSE),VLOOKUP(Data!$W104,tabulka_panely_def,AB$1-18,FALSE))","v":0},{"$f":"IF(Data!$W104<MIN(Panely!$A$9:$A$28),VLOOKUP(Data!$W104,tabulka_kce_def,AC$1-20,FALSE),VLOOKUP(Data!$W104,tabulka_panely_def,AC$1-18,FALSE))","v":0},{"$f":"IF(Data!$W104<MIN(Panely!$A$9:$A$28),VLOOKUP(Data!$W104,tabulka_kce_def,AD$1-20,FALSE),VLOOKUP(Data!$W104,tabulka_panely_def,AD$1-18,FALSE))","v":0},{"$f":"IF(Data!$W104<MIN(Panely!$A$9:$A$28),VLOOKUP(Data!$W104,tabulka_kce_def,AE$1-20,FALSE),VLOOKUP(Data!$W104,tabulka_panely_def,AE$1-18,FALSE))","v":0},{"$f":"IF(Data!$W104<MIN(Panely!$A$9:$A$28),VLOOKUP(Data!$W104,tabulka_kce_def,AF$1-20,FALSE),VLOOKUP(Data!$W104,tabulka_panely_def,AF$1-18,FALSE))","v":0},{"$f":"IF(Data!$W104<MIN(Panely!$A$9:$A$28),VLOOKUP(Data!$W104,tabulka_kce_def,AG$1-20,FALSE),VLOOKUP(Data!$W104,tabulka_panely_def,AG$1-18,FALSE))","v":0},{"$f":"IF(Data!$W104<MIN(Panely!$A$9:$A$28),VLOOKUP(Data!$W104,tabulka_kce_def,AH$1-20,FALSE),VLOOKUP(Data!$W104,tabulka_panely_def,AH$1-18,FALSE))","v":0},{"$f":"IF(Data!$W104<MIN(Panely!$A$9:$A$28),VLOOKUP(Data!$W104,tabulka_kce_def,AI$1-20,FALSE),VLOOKUP(Data!$W104,tabulka_panely_def,AI$1-18,FALSE))","v":0},{"$f":"IF(Data!$W104<MIN(Panely!$A$9:$A$28),VLOOKUP(Data!$W104,tabulka_kce_def,AJ$1-20,FALSE),VLOOKUP(Data!$W104,tabulka_panely_def,AJ$1-18,FALSE))","v":0},{"$f":"IF(Data!$W104<MIN(Panely!$A$9:$A$28),VLOOKUP(Data!$W104,tabulka_kce_def,AK$1-20,FALSE),VLOOKUP(Data!$W104,tabulka_panely_def,AK$1-18,FALSE))","v":0},{"$f":"IF(Data!$W104<MIN(Panely!$A$9:$A$28),VLOOKUP(Data!$W104,tabulka_kce_def,AL$1-20,FALSE),VLOOKUP(Data!$W104,tabulka_panely_def,AL$1-18,FALSE))","v":0},{"$f":"IF(Data!$W104<MIN(Panely!$A$9:$A$28),VLOOKUP(Data!$W104,tabulka_kce_def,AM$1-20,FALSE),VLOOKUP(Data!$W104,tabulka_panely_def,AM$1-18,FALSE))","v":0},104,{"$f":"IF(Data!$W104<MIN(Panely!$A$9:$A$28),VLOOKUP(Data!$W104,tabulka_kce_def,63,FALSE),0)","v":0},{"$f":"IF(Data!$W104<MIN(Panely!$A$9:$A$28),VLOOKUP(Data!$W104,tabulka_kce_def,28,FALSE),1)","v":1},{"$f":"IF(Data!$W104<MIN(Panely!$A$9:$A$28),VLOOKUP(Data!$W104,tabulka_kce_def,23,FALSE),VLOOKUP(Data!$W104,tabulka_panely_def,24,FALSE))","v":0},null,0,null,0,0,{"$error":"#N/A"},0,{"$f":"IF(AND(W104>MAX(Konstrukce!A:A),ISNUMBER(W104)),1,0)","v":0}]
[null,"=",{"$f":"IF(Data!$B105<MIN(Panely!$A$9:$A$28),VLOOKUP(Data!$B105,tabulka_kce_def,4,FALSE),VLOOKUP(Data!$B105,tabulka_panely_def,4,FALSE))","v":0},{"$f":"IF(Data!$B105<MIN(Panely!$A$9:$A$28),VLOOKUP(Data!$B105,tabulka_kce_def,23,FALSE),VLOOKUP(Data!$B105,tabulka_panely_def,24,FALSE))","v":0},{"$f":"IF(Data!$B105<MIN(Panely!$A$9:$A$28),VLOOKUP(Data!$B105,tabulka_kce_def,21,FALSE),VLOOKUP(Data!$B105,tabulka_panely_def,22,FALSE))","v":0},{"$f":"IF(Data!$B105<MIN(Panely!$A$9:$A$28),VLOOKUP(Data!$B105,tabulka_kce_def,26,FALSE),VLOOKUP(Data!$B105,tabulka_panely_def,31,FALSE))","v":{"$error":"#DIV/0!"}},{"$f":"IF(Data!$B105<MIN(Panely!$A$9:$A$28),VLOOKUP(Data!$B105,tabulka_kce_def,27,FALSE),VLOOKUP(Data!$B105,tabulka_panely_def,32,FALSE))","v":{"$error":"#DIV/0!"}},{"$f":"IF(VLOOKUP(Data!$B105,tabulka_kce_def,3,FALSE)=\"\",Konstrukce!$G$1,IF(VLOOKUP(Data!$B105,tabulka_kce_def,3,FALSE)=\"z\",Konstrukce!$G$2,VLOOKUP(Data!$B105,tabulka_kce_def,3,FALSE)))","v":{"$error":"#N/A"}},{"$f":"IF(Data!$B105<MIN(Panely!$A$9:$A$28),0,VLOOKUP(Data!$B105,tabulka_panely_def,25,FALSE))","v":0},{"$f":"IF(Data!$B105<MIN(Panely!$A$9:$A$28),VLOOKUP(Data!$B105,tabulka_kce_def,24,FALSE),VLOOKUP(Data!$B105,tabulka_panely_def,33,FALSE))","v":{"$error":"#N/A"}},{"$f":"Konstrukce!$D$1","v":18.770175404064034},{"$f":"Konstrukce!$D$2","v":19.934229593106764},{"$f":"Konstrukce!$G$1","v":-12},{"$f":"IF(Data!$B105<MIN(Panely!$A$9:$A$28),VLOOKUP(Data!$B105,tabulka_kce_def,59,FALSE),VLOOKUP(Data!$B105,tabulka_panely_def,63,FALSE))","v":""},{"$f":"IF(Data!$B105<MIN(Panely!$A$9:$A$28),VLOOKUP(Data!$B105,tabulka_kce_def,60,FALSE),VLOOKUP(Data!$B105,tabulka_panely_def,64,FALSE))","v":""},{"$f":"IF(Data!$B105<MIN(Panely!$A$9:$A$28),VLOOKUP(Data!$B105,tabulka_kce_def,61,FALSE),VLOOKUP(Data!$B105,tabulka_panely_def,65,FALSE))","v":""},{"$f":"IF(Data!$B105<MIN(Panely!$A$9:$A$28),VLOOKUP(Data!$B105,tabulka_kce_def,25,FALSE),0)","v":0},0,null,null,null,null,"=",{"$f":"IF(Data!$W105<MIN(Panely!$A$9:$A$28),VLOOKUP(Data!$W105,tabulka_kce_def,62,FALSE),VLOOKUP(Data!$W105,tabulka_panely_def,65,FALSE))","v":""},{"$f":"IF(Data!$W105<MIN(Panely!$A$9:$A$28),VLOOKUP(Data!$W105,tabulka_kce_def,Y$1-20,FALSE),VLOOKUP(Data!$W105,tabulka_panely_def,Y$1-18,FALSE))","v":0},{"$f":"IF(Data!$W105<MIN(Panely!$A$9:$A$28),VLOOKUP(Data!$W105,tabulka_kce_def,Z$1-20,FALSE),VLOOKUP(Data!$W105,tabulka_panely_def,Z$1-18,FALSE))","v":0},{"$f":"IF(Data!$W105<MIN(Panely!$A$9:$A$28),VLOOKUP(Data!$W105,tabulka_kce_def,AA$1-20,FALSE),VLOOKUP(Data!$W105,tabulka_panely_def,AA$1-18,FALSE))","v":0},{"$f":"IF(Data!$W105<MIN(Panely!$A$9:$A$28),VLOOKUP(Data!$W105,tabulka_kce_def,AB$1-20,FALSE),VLOOKUP(Data!$W105,tabulka_panely_def,AB$1-18,FALSE))","v":0},{"$f":"IF(Data!$W105<MIN(Panely!$A$9:$A$28),VLOOKUP(Data!$W105,tabulka_kce_def,AC$1-20,FALSE),VLOOKUP(Data!$W105,tabulka_panely_def,AC$1-18,FALSE))","v":0},{"$f":"IF(Data!$W105<MIN(Panely!$A$9:$A$28),VLOOKUP(Data!$W105,tabulka_kce_def,AD$1-20,FALSE),VLOOKUP(Data!$W105,tabulka_panely_def,AD$1-18,FALSE))","v":0},{"$f":"IF(Data!$W105<MIN(Panely!$A$9:$A$28),VLOOKUP(Data!$W105,tabulka_kce_def,AE$1-20,FALSE),VLOOKUP(Data!$W105,tabulka_panely_def,AE$1-18,FALSE))","v":0},{"$f":"IF(Data!$W105<MIN(Panely!$A$9:$A$28),VLOOKUP(Data!$W105,tabulka_kce_def,AF$1-20,FALSE),VLOOKUP(Data!$W105,tabulka_panely_def,AF$1-18,FALSE))","v":0},{"$f":"IF(Data!$W105<MIN(Panely!$A$9:$A$28),VLOOKUP(Data!$W105,tabulka_kce_def,AG$1-20,FALSE),VLOOKUP(Data!$W105,tabulka_panely_def,AG$1-18,FALSE))","v":0},{"$f":"IF(Data!$W105<MIN(Panely!$A$9:$A$28),VLOOKUP(Data!$W105,tabulka_kce_def,AH$1-20,FALSE),VLOOKUP(Data!$W105,tabulka_panely_def,AH$1-18,FALSE))","v":0},{"$f":"IF(Data!$W105<MIN(Panely!$A$9:$A$28),VLOOKUP(Data!$W105,tabulka_kce_def,AI$1-20,FALSE),VLOOKUP(Data!$W105,tabulka_panely_def,AI$1-18,FALSE))","v":0},{"$f":"IF(Data!$W105<MIN(Panely!$A$9:$A$28),VLOOKUP(Data!$W105,tabulka_kce_def,AJ$1-20,FALSE),VLOOKUP(Data!$W105,tabulka_panely_def,AJ$1-18,FALSE))","v":0},{"$f":"IF(Data!$W105<MIN(Panely!$A$9:$A$28),VLOOKUP(Data!$W105,tabulka_kce_def,AK$1-20,FALSE),VLOOKUP(Data!$W105,tabulka_panely_def,AK$1-18,FALSE))","v":0},{"$f":"IF(Data!$W105<MIN(Panely!$A$9:$A$28),VLOOKUP(Data!$W105,tabulka_kce_def,AL$1-20,FALSE),VLOOKUP(Data!$W105,tabulka_panely_def,AL$1-18,FALSE))","v":0},{"$f":"IF(Data!$W105<MIN(Panely!$A$9:$A$28),VLOOKUP(Data!$W105,tabulka_kce_def,AM$1-20,FALSE),VLOOKUP(Data!$W105,tabulka_panely_def,AM$1-18,FALSE))","v":0},105,{"$f":"IF(Data!$W105<MIN(Panely!$A$9:$A$28),VLOOKUP(Data!$W105,tabulka_kce_def,63,FALSE),0)","v":0},{"$f":"IF(Data!$W105<MIN(Panely!$A$9:$A$28),VLOOKUP(Data!$W105,tabulka_kce_def,28,FALSE),1)","v":1},{"$f":"IF(Data!$W105<MIN(Panely!$A$9:$A$28),VLOOKUP(Data!$W105,tabulka_kce_def,23,FALSE),VLOOKUP(Data!$W105,tabulka_panely_def,24,FALSE))","v":0},null,0,null,0,0,{"$error":"#N/A"},0,{"$f":"IF(AND(W105>MAX(Konstrukce!A:A),ISNUMBER(W105)),1,0)","v":0}]
[null,"=",{"$f":"IF(Data!$B106<MIN(Panely!$A$9:$A$28),VLOOKUP(Data!$B106,tabulka_kce_def,4,FALSE),VLOOKUP(Data!$B106,tabulka_panely_def,4,FALSE))","v":0},{"$f":"IF(Data!$B106<MIN(Panely!$A$9:$A$28),VLOOKUP(Data!$B106,tabulka_kce_def,23,FALSE),VLOOKUP(Data!$B106,tabulka_panely_def,24,FALSE))","v":0},{"$f":"IF(Data!$B106<MIN(Panely!$A$9:$A$28),VLOOKUP(Data!$B106,tabulka_kce_def,21,FALSE),VLOOKUP(Data!$B106,tabulka_panely_def,22,FALSE))","v":0},{"$f":"IF(Data!$B106<MIN(Panely!$A$9:$A$28),VLOOKUP(Data!$B106,tabulka_kce_def,26,FALSE),VLOOKUP(Data!$B106,tabulka_panely_def,31,FALSE))","v":{"$error":"#DIV/0!"}},{"$f":"IF(Data!$B106<MIN(Panely!$A$9:$A$28),VLOOKUP(Data!$B106,tabulka_kce_def,27,FALSE),VLOOKUP(Data!$B106,tabulka_panely_def,32,FALSE))","v":{"$error":"#DIV/0!"}},{"$f":"IF(VLOOKUP(Data!$B106,tabulka_kce_def,3,FALSE)=\"\",Konstrukce!$G$1,IF(VLOOKUP(Data!$B106,tabulka_kce_def,3,FALSE)=\"z\",Konstrukce!$G$2,VLOOKUP(Data!$B106,tabulka_kce_def,3,FALSE)))","v":{"$error":"#N/A"}},{"$f":"IF(Data!$B106<MIN(Panely!$A$9:$A$28),0,VLOOKUP(Data!$B106,tabulka_panely_def,25,FALSE))","v":0},{"$f":"IF(Data!$B106<MIN(Panely!$A$9:$A$28),VLOOKUP(Data!$B106,tabulka_kce_def,24,FALSE),VLOOKUP(Data!$B106,tabulka_panely_def,33,FALSE))","v":{"$error":"#N/A"}},{"$f":"Konstrukce!$D$1","v":18.770175404064034},{"$f":"Konstrukce!$D$2","v":19.934229593106764},{"$f":"Konstrukce!$G$1","v":-12},{"$f":"IF(Data!$B106<MIN(Panely!$A$9:$A$28),VLOOKUP(Data!$B106,tabulka_kce_def,59,FALSE),VLOOKUP(Data!$B106,tabulka_panely_def,63,FALSE))","v":""},{"$f":"IF(Data!$B106<MIN(Panely!$A$9:$A$28),VLOOKUP(Data!$B106,tabulka_kce_def,60,FALSE),VLOOKUP(Data!$B106,tabulka_panely_def,64,FALSE))","v":""},{"$f":"IF(Data!$B106<MIN(Panely!$A$9:$A$28),VLOOKUP(Data!$B106,tabulka_kce_def,61,FALSE),VLOOKUP(Data!$B106,tabulka_panely_def,65,FALSE))","v":""},{"$f":"IF(Data!$B106<MIN(Panely!$A$9:$A$28),VLOOKUP(Data!$B106,tabulka_kce_def,25,FALSE),0)","v":0},0,null,null,null,null,"=",{"$f":"IF(Data!$W106<MIN(Panely!$A$9:$A$28),VLOOKUP(Data!$W106,tabulka_kce_def,62,FALSE),VLOOKUP(Data!$W106,tabulka_panely_def,65,FALSE))","v":""},{"$f":"IF(Data!$W106<MIN(Panely!$A$9:$A$28),VLOOKUP(Data!$W106,tabulka_kce_def,Y$1-20,FALSE),VLOOKUP(Data!$W106,tabulka_panely_def,Y$1-18,FALSE))","v":0},{"$f":"IF(Data!$W106<MIN(Panely!$A$9:$A$28),VLOOKUP(Data!$W106,tabulka_kce_def,Z$1-20,FALSE),VLOOKUP(Data!$W106,tabulka_panely_def,Z$1-18,FALSE))","v":0},{"$f":"IF(Data!$W106<MIN(Panely!$A$9:$A$28),VLOOKUP(Data!$W106,tabulka_kce_def,AA$1-20,FALSE),VLOOKUP(Data!$W106,tabulka_panely_def,AA$1-18,FALSE))","v":0},{"$f":"IF(Data!$W106<MIN(Panely!$A$9:$A$28),VLOOKUP(Data!$W106,tabulka_kce_def,AB$1-20,FALSE),VLOOKUP(Data!$W106,tabulka_panely_def,AB$1-18,FALSE))","v":0},{"$f":"IF(Data!$W106<MIN(Panely!$A$9:$A$28),VLOOKUP(Data!$W106,tabulka_kce_def,AC$1-20,FALSE),VLOOKUP(Data!$W106,tabulka_panely_def,AC$1-18,FALSE))","v":0},{"$f":"IF(Data!$W106<MIN(Panely!$A$9:$A$28),VLOOKUP(Data!$W106,tabulka_kce_def,AD$1-20,FALSE),VLOOKUP(Data!$W106,tabulka_panely_def,AD$1-18,FALSE))","v":0},{"$f":"IF(Data!$W106<MIN(Panely!$A$9:$A$28),VLOOKUP(Data!$W106,tabulka_kce_def,AE$1-20,FALSE),VLOOKUP(Data!$W106,tabulka_panely_def,AE$1-18,FALSE))","v":0},{"$f":"IF(Data!$W106<MIN(Panely!$A$9:$A$28),VLOOKUP(Data!$W106,tabulka_kce_def,AF$1-20,FALSE),VLOOKUP(Data!$W106,tabulka_panely_def,AF$1-18,FALSE))","v":0},{"$f":"IF(Data!$W106<MIN(Panely!$A$9:$A$28),VLOOKUP(Data!$W106,tabulka_kce_def,AG$1-20,FALSE),VLOOKUP(Data!$W106,tabulka_panely_def,AG$1-18,FALSE))","v":0},{"$f":"IF(Data!$W106<MIN(Panely!$A$9:$A$28),VLOOKUP(Data!$W106,tabulka_kce_def,AH$1-20,FALSE),VLOOKUP(Data!$W106,tabulka_panely_def,AH$1-18,FALSE))","v":0},{"$f":"IF(Data!$W106<MIN(Panely!$A$9:$A$28),VLOOKUP(Data!$W106,tabulka_kce_def,AI$1-20,FALSE),VLOOKUP(Data!$W106,tabulka_panely_def,AI$1-18,FALSE))","v":0},{"$f":"IF(Data!$W106<MIN(Panely!$A$9:$A$28),VLOOKUP(Data!$W106,tabulka_kce_def,AJ$1-20,FALSE),VLOOKUP(Data!$W106,tabulka_panely_def,AJ$1-18,FALSE))","v":0},{"$f":"IF(Data!$W106<MIN(Panely!$A$9:$A$28),VLOOKUP(Data!$W106,tabulka_kce_def,AK$1-20,FALSE),VLOOKUP(Data!$W106,tabulka_panely_def,AK$1-18,FALSE))","v":0},{"$f":"IF(Data!$W106<MIN(Panely!$A$9:$A$28),VLOOKUP(Data!$W106,tabulka_kce_def,AL$1-20,FALSE),VLOOKUP(Data!$W106,tabulka_panely_def,AL$1-18,FALSE))","v":0},{"$f":"IF(Data!$W106<MIN(Panely!$A$9:$A$28),VLOOKUP(Data!$W106,tabulka_kce_def,AM$1-20,FALSE),VLOOKUP(Data!$W106,tabulka_panely_def,AM$1-18,FALSE))","v":0},106,{"$f":"IF(Data!$W106<MIN(Panely!$A$9:$A$28),VLOOKUP(Data!$W106,tabulka_kce_def,63,FALSE),0)","v":0},{"$f":"IF(Data!$W106<MIN(Panely!$A$9:$A$28),VLOOKUP(Data!$W106,tabulka_kce_def,28,FALSE),1)","v":1},{"$f":"IF(Data!$W106<MIN(Panely!$A$9:$A$28),VLOOKUP(Data!$W106,tabulka_kce_def,23,FALSE),VLOOKUP(Data!$W106,tabulka_panely_def,24,FALSE))","v":0},null,0,null,0,0,{"$error":"#N/A"},0,{"$f":"IF(AND(W106>MAX(Konstrukce!A:A),ISNUMBER(W106)),1,0)","v":0}]
[null,"=",{"$f":"IF(Data!$B107<MIN(Panely!$A$9:$A$28),VLOOKUP(Data!$B107,tabulka_kce_def,4,FALSE),VLOOKUP(Data!$B107,tabulka_panely_def,4,FALSE))","v":0},{"$f":"IF(Data!$B107<MIN(Panely!$A$9:$A$28),VLOOKUP(Data!$B107,tabulka_kce_def,23,FALSE),VLOOKUP(Data!$B107,tabulka_panely_def,24,FALSE))","v":0},{"$f":"IF(Data!$B107<MIN(Panely!$A$9:$A$28),VLOOKUP(Data!$B107,tabulka_kce_def,21,FALSE),VLOOKUP(Data!$B107,tabulka_panely_def,22,FALSE))","v":0},{"$f":"IF(Data!$B107<MIN(Panely!$A$9:$A$28),VLOOKUP(Data!$B107,tabulka_kce_def,26,FALSE),VLOOKUP(Data!$B107,tabulka_panely_def,31,FALSE))","v":{"$error":"#DIV/0!"}},{"$f":"IF(Data!$B107<MIN(Panely!$A$9:$A$28),VLOOKUP(Data!$B107,tabulka_kce_def,27,FALSE),VLOOKUP(Data!$B107,tabulka_panely_def,32,FALSE))","v":{"$error":"#DIV/0!"}},{"$f":"IF(VLOOKUP(Data!$B107,tabulka_kce_def,3,FALSE)=\"\",Konstrukce!$G$1,IF(VLOOKUP(Data!$B107,tabulka_kce_def,3,FALSE)=\"z\",Konstrukce!$G$2,VLOOKUP(Data!$B107,tabulka_kce_def,3,FALSE)))","v":{"$error":"#N/A"}},{"$f":"IF(Data!$B107<MIN(Panely!$A$9:$A$28),0,VLOOKUP(Data!$B107,tabulka_panely_def,25,FALSE))","v":0},{"$f":"IF(Data!$B107<MIN(Panely!$A$9:$A$28),VLOOKUP(Data!$B107,tabulka_kce_def,24,FALSE),VLOOKUP(Data!$B107,tabulka_panely_def,33,FALSE))","v":{"$error":"#N/A"}},{"$f":"Konstrukce!$D$1","v":18.770175404064034},{"$f":"Konstrukce!$D$2","v":19.934229593106764},{"$f":"Konstrukce!$G$1","v":-12},{"$f":"IF(Data!$B107<MIN(Panely!$A$9:$A$28),VLOOKUP(Data!$B107,tabulka_kce_def,59,FALSE),VLOOKUP(Data!$B107,tabulka_panely_def,63,FALSE))","v":""},{"$f":"IF(Data!$B107<MIN(Panely!$A$9:$A$28),VLOOKUP(Data!$B107,tabulka_kce_def,60,FALSE),VLOOKUP(Data!$B107,tabulka_panely_def,64,FALSE))","v":""},{"$f":"IF(Data!$B107<MIN(Panely!$A$9:$A$28),VLOOKUP(Data!$B107,tabulka_kce_def,61,FALSE),VLOOKUP(Data!$B107,tabulka_panely_def,65,FALSE))","v":""},{"$f":"IF(Data!$B107<MIN(Panely!$A$9:$A$28),VLOOKUP(Data!$B107,tabulka_kce_def,25,FALSE),0)","v":0},0,null,null,null,null,"=",{"$f":"IF(Data!$W107<MIN(Panely!$A$9:$A$28),VLOOKUP(Data!$W107,tabulka_kce_def,62,FALSE),VLOOKUP(Data!$W107,tabulka_panely_def,65,FALSE))","v":""},{"$f":"IF(Data!$W107<MIN(Panely!$A$9:$A$28),VLOOKUP(Data!$W107,tabulka_kce_def,Y$1-20,FALSE),VLOOKUP(Data!$W107,tabulka_panely_def,Y$1-18,FALSE))","v":0},{"$f":"IF(Data!$W107<MIN(Panely!$A$9:$A$28),VLOOKUP(Data!$W107,tabulka_kce_def,Z$1-20,FALSE),VLOOKUP(Data!$W107,tabulka_panely_def,Z$1-18,FALSE))","v":0},{"$f":"IF(Data!$W107<MIN(Panely!$A$9:$A$28),VLOOKUP(Data!$W107,tabulka_kce_def,AA$1-20,FALSE),VLOOKUP(Data!$W107,tabulka_panely_def,AA$1-18,FALSE))","v":0},{"$f":"IF(Data!$W107<MIN(Panely!$A$9:$A$28),VLOOKUP(Data!$W107,tabulka_kce_def,AB$1-20,FALSE),VLOOKUP(Data!$W107,tabulka_panely_def,AB$1-18,FALSE))","v":0},{"$f":"IF(Data!$W107<MIN(Panely!$A$9:$A$28),VLOOKUP(Data!$W107,tabulka_kce_def,AC$1-20,FALSE),VLOOKUP(Data!$W107,tabulka_panely_def,AC$1-18,FALSE))","v":0},{"$f":"IF(Data!$W107<MIN(Panely!$A$9:$A$28),VLOOKUP(Data!$W107,tabulka_kce_def,AD$1-20,FALSE),VLOOKUP(Data!$W107,tabulka_panely_def,AD$1-18,FALSE))","v":0},{"$f":"IF(Data!$W107<MIN(Panely!$A$9:$A$28),VLOOKUP(Data!$W107,tabulka_kce_def,AE$1-20,FALSE),VLOOKUP(Data!$W107,tabulka_panely_def,AE$1-18,FALSE))","v":0},{"$f":"IF(Data!$W107<MIN(Panely!$A$9:$A$28),VLOOKUP(Data!$W107,tabulka_kce_def,AF$1-20,FALSE),VLOOKUP(Data!$W107,tabulka_panely_def,AF$1-18,FALSE))","v":0},{"$f":"IF(Data!$W107<MIN(Panely!$A$9:$A$28),VLOOKUP(Data!$W107,tabulka_kce_def,AG$1-20,FALSE),VLOOKUP(Data!$W107,tabulka_panely_def,AG$1-18,FALSE))","v":0},{"$f":"IF(Data!$W107<MIN(Panely!$A$9:$A$28),VLOOKUP(Data!$W107,tabulka_kce_def,AH$1-20,FALSE),VLOOKUP(Data!$W107,tabulka_panely_def,AH$1-18,FALSE))","v":0},{"$f":"IF(Data!$W107<MIN(Panely!$A$9:$A$28),VLOOKUP(Data!$W107,tabulka_kce_def,AI$1-20,FALSE),VLOOKUP(Data!$W107,tabulka_panely_def,AI$1-18,FALSE))","v":0},{"$f":"IF(Data!$W107<MIN(Panely!$A$9:$A$28),VLOOKUP(Data!$W107,tabulka_kce_def,AJ$1-20,FALSE),VLOOKUP(Data!$W107,tabulka_panely_def,AJ$1-18,FALSE))","v":0},{"$f":"IF(Data!$W107<MIN(Panely!$A$9:$A$28),VLOOKUP(Data!$W107,tabulka_kce_def,AK$1-20,FALSE),VLOOKUP(Data!$W107,tabulka_panely_def,AK$1-18,FALSE))","v":0},{"$f":"IF(Data!$W107<MIN(Panely!$A$9:$A$28),VLOOKUP(Data!$W107,tabulka_kce_def,AL$1-20,FALSE),VLOOKUP(Data!$W107,tabulka_panely_def,AL$1-18,FALSE))","v":0},{"$f":"IF(Data!$W107<MIN(Panely!$A$9:$A$28),VLOOKUP(Data!$W107,tabulka_kce_def,AM$1-20,FALSE),VLOOKUP(Data!$W107,tabulka_panely_def,AM$1-18,FALSE))","v":0},107,{"$f":"IF(Data!$W107<MIN(Panely!$A$9:$A$28),VLOOKUP(Data!$W107,tabulka_kce_def,63,FALSE),0)","v":0},{"$f":"IF(Data!$W107<MIN(Panely!$A$9:$A$28),VLOOKUP(Data!$W107,tabulka_kce_def,28,FALSE),1)","v":1},{"$f":"IF(Data!$W107<MIN(Panely!$A$9:$A$28),VLOOKUP(Data!$W107,tabulka_kce_def,23,FALSE),VLOOKUP(Data!$W107,tabulka_panely_def,24,FALSE))","v":0},null,0,null,0,0,{"$error":"#N/A"},0,{"$f":"IF(AND(W107>MAX(Konstrukce!A:A),ISNUMBER(W107)),1,0)","v":0}]
[null,"=",{"$f":"IF(Data!$B108<MIN(Panely!$A$9:$A$28),VLOOKUP(Data!$B108,tabulka_kce_def,4,FALSE),VLOOKUP(Data!$B108,tabulka_panely_def,4,FALSE))","v":0},{"$f":"IF(Data!$B108<MIN(Panely!$A$9:$A$28),VLOOKUP(Data!$B108,tabulka_kce_def,23,FALSE),VLOOKUP(Data!$B108,tabulka_panely_def,24,FALSE))","v":0},{"$f":"IF(Data!$B108<MIN(Panely!$A$9:$A$28),VLOOKUP(Data!$B108,tabulka_kce_def,21,FALSE),VLOOKUP(Data!$B108,tabulka_panely_def,22,FALSE))","v":0},{"$f":"IF(Data!$B108<MIN(Panely!$A$9:$A$28),VLOOKUP(Data!$B108,tabulka_kce_def,26,FALSE),VLOOKUP(Data!$B108,tabulka_panely_def,31,FALSE))","v":{"$error":"#DIV/0!"}},{"$f":"IF(Data!$B108<MIN(Panely!$A$9:$A$28),VLOOKUP(Data!$B108,tabulka_kce_def,27,FALSE),VLOOKUP(Data!$B108,tabulka_panely_def,32,FALSE))","v":{"$error":"#DIV/0!"}},{"$f":"IF(VLOOKUP(Data!$B108,tabulka_kce_def,3,FALSE)=\"\",Konstrukce!$G$1,IF(VLOOKUP(Data!$B108,tabulka_kce_def,3,FALSE)=\"z\",Konstrukce!$G$2,VLOOKUP(Data!$B108,tabulka_kce_def,3,FALSE)))","v":{"$error":"#N/A"}},{"$f":"IF(Data!$B108<MIN(Panely!$A$9:$A$28),0,VLOOKUP(Data!$B108,tabulka_panely_def,25,FALSE))","v":0},{"$f":"IF(Data!$B108<MIN(Panely!$A$9:$A$28),VLOOKUP(Data!$B108,tabulka_kce_def,24,FALSE),VLOOKUP(Data!$B108,tabulka_panely_def,33,FALSE))","v":{"$error":"#N/A"}},{"$f":"Konstrukce!$D$1","v":18.770175404064034},{"$f":"Konstrukce!$D$2","v":19.934229593106764},{"$f":"Konstrukce!$G$1","v":-12},{"$f":"IF(Data!$B108<MIN(Panely!$A$9:$A$28),VLOOKUP(Data!$B108,tabulka_kce_def,59,FALSE),VLOOKUP(Data!$B108,tabulka_panely_def,63,FALSE))","v":""},{"$f":"IF(Data!$B108<MIN(Panely!$A$9:$A$28),VLOOKUP(Data!$B108,tabulka_kce_def,60,FALSE),VLOOKUP(Data!$B108,tabulka_panely_def,64,FALSE))","v":""},{"$f":"IF(Data!$B108<MIN(Panely!$A$9:$A$28),VLOOKUP(Data!$B108,tabulka_kce_def,61,FALSE),VLOOKUP(Data!$B108,tabulka_panely_def,65,FALSE))","v":""},{"$f":"IF(Data!$B108<MIN(Panely!$A$9:$A$28),VLOOKUP(Data!$B108,tabulka_kce_def,25,FALSE),0)","v":0},0,null,null,null,null,"=",{"$f":"IF(Data!$W108<MIN(Panely!$A$9:$A$28),VLOOKUP(Data!$W108,tabulka_kce_def,62,FALSE),VLOOKUP(Data!$W108,tabulka_panely_def,65,FALSE))","v":""},{"$f":"IF(Data!$W108<MIN(Panely!$A$9:$A$28),VLOOKUP(Data!$W108,tabulka_kce_def,Y$1-20,FALSE),VLOOKUP(Data!$W108,tabulka_panely_def,Y$1-18,FALSE))","v":0},{"$f":"IF(Data!$W108<MIN(Panely!$A$9:$A$28),VLOOKUP(Data!$W108,tabulka_kce_def,Z$1-20,FALSE),VLOOKUP(Data!$W108,tabulka_panely_def,Z$1-18,FALSE))","v":0},{"$f":"IF(Data!$W108<MIN(Panely!$A$9:$A$28),VLOOKUP(Data!$W108,tabulka_kce_def,AA$1-20,FALSE),VLOOKUP(Data!$W108,tabulka_panely_def,AA$1-18,FALSE))","v":0},{"$f":"IF(Data!$W108<MIN(Panely!$A$9:$A$28),VLOOKUP(Data!$W108,tabulka_kce_def,AB$1-20,FALSE),VLOOKUP(Data!$W108,tabulka_panely_def,AB$1-18,FALSE))","v":0},{"$f":"IF(Data!$W108<MIN(Panely!$A$9:$A$28),VLOOKUP(Data!$W108,tabulka_kce_def,AC$1-20,FALSE),VLOOKUP(Data!$W108,tabulka_panely_def,AC$1-18,FALSE))","v":0},{"$f":"IF(Data!$W108<MIN(Panely!$A$9:$A$28),VLOOKUP(Data!$W108,tabulka_kce_def,AD$1-20,FALSE),VLOOKUP(Data!$W108,tabulka_panely_def,AD$1-18,FALSE))","v":0},{"$f":"IF(Data!$W108<MIN(Panely!$A$9:$A$28),VLOOKUP(Data!$W108,tabulka_kce_def,AE$1-20,FALSE),VLOOKUP(Data!$W108,tabulka_panely_def,AE$1-18,FALSE))","v":0},{"$f":"IF(Data!$W108<MIN(Panely!$A$9:$A$28),VLOOKUP(Data!$W108,tabulka_kce_def,AF$1-20,FALSE),VLOOKUP(Data!$W108,tabulka_panely_def,AF$1-18,FALSE))","v":0},{"$f":"IF(Data!$W108<MIN(Panely!$A$9:$A$28),VLOOKUP(Data!$W108,tabulka_kce_def,AG$1-20,FALSE),VLOOKUP(Data!$W108,tabulka_panely_def,AG$1-18,FALSE))","v":0},{"$f":"IF(Data!$W108<MIN(Panely!$A$9:$A$28),VLOOKUP(Data!$W108,tabulka_kce_def,AH$1-20,FALSE),VLOOKUP(Data!$W108,tabulka_panely_def,AH$1-18,FALSE))","v":0},{"$f":"IF(Data!$W108<MIN(Panely!$A$9:$A$28),VLOOKUP(Data!$W108,tabulka_kce_def,AI$1-20,FALSE),VLOOKUP(Data!$W108,tabulka_panely_def,AI$1-18,FALSE))","v":0},{"$f":"IF(Data!$W108<MIN(Panely!$A$9:$A$28),VLOOKUP(Data!$W108,tabulka_kce_def,AJ$1-20,FALSE),VLOOKUP(Data!$W108,tabulka_panely_def,AJ$1-18,FALSE))","v":0},{"$f":"IF(Data!$W108<MIN(Panely!$A$9:$A$28),VLOOKUP(Data!$W108,tabulka_kce_def,AK$1-20,FALSE),VLOOKUP(Data!$W108,tabulka_panely_def,AK$1-18,FALSE))","v":0},{"$f":"IF(Data!$W108<MIN(Panely!$A$9:$A$28),VLOOKUP(Data!$W108,tabulka_kce_def,AL$1-20,FALSE),VLOOKUP(Data!$W108,tabulka_panely_def,AL$1-18,FALSE))","v":0},{"$f":"IF(Data!$W108<MIN(Panely!$A$9:$A$28),VLOOKUP(Data!$W108,tabulka_kce_def,AM$1-20,FALSE),VLOOKUP(Data!$W108,tabulka_panely_def,AM$1-18,FALSE))","v":0},108,{"$f":"IF(Data!$W108<MIN(Panely!$A$9:$A$28),VLOOKUP(Data!$W108,tabulka_kce_def,63,FALSE),0)","v":0},{"$f":"IF(Data!$W108<MIN(Panely!$A$9:$A$28),VLOOKUP(Data!$W108,tabulka_kce_def,28,FALSE),1)","v":1},{"$f":"IF(Data!$W108<MIN(Panely!$A$9:$A$28),VLOOKUP(Data!$W108,tabulka_kce_def,23,FALSE),VLOOKUP(Data!$W108,tabulka_panely_def,24,FALSE))","v":0},null,0,null,0,0,{"$error":"#N/A"},0,{"$f":"IF(AND(W108>MAX(Konstrukce!A:A),ISNUMBER(W108)),1,0)","v":0}]
[null,"=",{"$f":"IF(Data!$B109<MIN(Panely!$A$9:$A$28),VLOOKUP(Data!$B109,tabulka_kce_def,4,FALSE),VLOOKUP(Data!$B109,tabulka_panely_def,4,FALSE))","v":0},{"$f":"IF(Data!$B109<MIN(Panely!$A$9:$A$28),VLOOKUP(Data!$B109,tabulka_kce_def,23,FALSE),VLOOKUP(Data!$B109,tabulka_panely_def,24,FALSE))","v":0},{"$f":"IF(Data!$B109<MIN(Panely!$A$9:$A$28),VLOOKUP(Data!$B109,tabulka_kce_def,21,FALSE),VLOOKUP(Data!$B109,tabulka_panely_def,22,FALSE))","v":0},{"$f":"IF(Data!$B109<MIN(Panely!$A$9:$A$28),VLOOKUP(Data!$B109,tabulka_kce_def,26,FALSE),VLOOKUP(Data!$B109,tabulka_panely_def,31,FALSE))","v":{"$error":"#DIV/0!"}},{"$f":"IF(Data!$B109<MIN(Panely!$A$9:$A$28),VLOOKUP(Data!$B109,tabulka_kce_def,27,FALSE),VLOOKUP(Data!$B109,tabulka_panely_def,32,FALSE))","v":{"$error":"#DIV/0!"}},{"$f":"IF(VLOOKUP(Data!$B109,tabulka_kce_def,3,FALSE)=\"\",Konstrukce!$G$1,IF(VLOOKUP(Data!$B109,tabulka_kce_def,3,FALSE)=\"z\",Konstrukce!$G$2,VLOOKUP(Data!$B109,tabulka_kce_def,3,FALSE)))","v":{"$error":"#N/A"}},{"$f":"IF(Data!$B109<MIN(Panely!$A$9:$A$28),0,VLOOKUP(Data!$B109,tabulka_panely_def,25,FALSE))","v":0},{"$f":"IF(Data!$B109<MIN(Panely!$A$9:$A$28),VLOOKUP(Data!$B109,tabulka_kce_def,24,FALSE),VLOOKUP(Data!$B109,tabulka_panely_def,33,FALSE))","v":{"$error":"#N/A"}},{"$f":"Konstrukce!$D$1","v":18.770175404064034},{"$f":"Konstrukce!$D$2","v":19.934229593106764},{"$f":"Konstrukce!$G$1","v":-12},{"$f":"IF(Data!$B109<MIN(Panely!$A$9:$A$28),VLOOKUP(Data!$B109,tabulka_kce_def,59,FALSE),VLOOKUP(Data!$B109,tabulka_panely_def,63,FALSE))","v":""},{"$f":"IF(Data!$B109<MIN(Panely!$A$9:$A$28),VLOOKUP(Data!$B109,tabulka_kce_def,60,FALSE),VLOOKUP(Data!$B109,tabulka_panely_def,64,FALSE))","v":""},{"$f":"IF(Data!$B109<MIN(Panely!$A$9:$A$28),VLOOKUP(Data!$B109,tabulka_kce_def,61,FALSE),VLOOKUP(Data!$B109,tabulka_panely_def,65,FALSE))","v":""},{"$f":"IF(Data!$B109<MIN(Panely!$A$9:$A$28),VLOOKUP(Data!$B109,tabulka_kce_def,25,FALSE),0)","v":0},0,null,null,null,null,"=",{"$f":"IF(Data!$W109<MIN(Panely!$A$9:$A$28),VLOOKUP(Data!$W109,tabulka_kce_def,62,FALSE),VLOOKUP(Data!$W109,tabulka_panely_def,65,FALSE))","v":""},{"$f":"IF(Data!$W109<MIN(Panely!$A$9:$A$28),VLOOKUP(Data!$W109,tabulka_kce_def,Y$1-20,FALSE),VLOOKUP(Data!$W109,tabulka_panely_def,Y$1-18,FALSE))","v":0},{"$f":"IF(Data!$W109<MIN(Panely!$A$9:$A$28),VLOOKUP(Data!$W109,tabulka_kce_def,Z$1-20,FALSE),VLOOKUP(Data!$W109,tabulka_panely_def,Z$1-18,FALSE))","v":0},{"$f":"IF(Data!$W109<MIN(Panely!$A$9:$A$28),VLOOKUP(Data!$W109,tabulka_kce_def,AA$1-20,FALSE),VLOOKUP(Data!$W109,tabulka_panely_def,AA$1-18,FALSE))","v":0},{"$f":"IF(Data!$W109<MIN(Panely!$A$9:$A$28),VLOOKUP(Data!$W109,tabulka_kce_def,AB$1-20,FALSE),VLOOKUP(Data!$W109,tabulka_panely_def,AB$1-18,FALSE))","v":0},{"$f":"IF(Data!$W109<MIN(Panely!$A$9:$A$28),VLOOKUP(Data!$W109,tabulka_kce_def,AC$1-20,FALSE),VLOOKUP(Data!$W109,tabulka_panely_def,AC$1-18,FALSE))","v":0},{"$f":"IF(Data!$W109<MIN(Panely!$A$9:$A$28),VLOOKUP(Data!$W109,tabulka_kce_def,AD$1-20,FALSE),VLOOKUP(Data!$W109,tabulka_panely_def,AD$1-18,FALSE))","v":0},{"$f":"IF(Data!$W109<MIN(Panely!$A$9:$A$28),VLOOKUP(Data!$W109,tabulka_kce_def,AE$1-20,FALSE),VLOOKUP(Data!$W109,tabulka_panely_def,AE$1-18,FALSE))","v":0},{"$f":"IF(Data!$W109<MIN(Panely!$A$9:$A$28),VLOOKUP(Data!$W109,tabulka_kce_def,AF$1-20,FALSE),VLOOKUP(Data!$W109,tabulka_panely_def,AF$1-18,FALSE))","v":0},{"$f":"IF(Data!$W109<MIN(Panely!$A$9:$A$28),VLOOKUP(Data!$W109,tabulka_kce_def,AG$1-20,FALSE),VLOOKUP(Data!$W109,tabulka_panely_def,AG$1-18,FALSE))","v":0},{"$f":"IF(Data!$W109<MIN(Panely!$A$9:$A$28),VLOOKUP(Data!$W109,tabulka_kce_def,AH$1-20,FALSE),VLOOKUP(Data!$W109,tabulka_panely_def,AH$1-18,FALSE))","v":0},{"$f":"IF(Data!$W109<MIN(Panely!$A$9:$A$28),VLOOKUP(Data!$W109,tabulka_kce_def,AI$1-20,FALSE),VLOOKUP(Data!$W109,tabulka_panely_def,AI$1-18,FALSE))","v":0},{"$f":"IF(Data!$W109<MIN(Panely!$A$9:$A$28),VLOOKUP(Data!$W109,tabulka_kce_def,AJ$1-20,FALSE),VLOOKUP(Data!$W109,tabulka_panely_def,AJ$1-18,FALSE))","v":0},{"$f":"IF(Data!$W109<MIN(Panely!$A$9:$A$28),VLOOKUP(Data!$W109,tabulka_kce_def,AK$1-20,FALSE),VLOOKUP(Data!$W109,tabulka_panely_def,AK$1-18,FALSE))","v":0},{"$f":"IF(Data!$W109<MIN(Panely!$A$9:$A$28),VLOOKUP(Data!$W109,tabulka_kce_def,AL$1-20,FALSE),VLOOKUP(Data!$W109,tabulka_panely_def,AL$1-18,FALSE))","v":0},{"$f":"IF(Data!$W109<MIN(Panely!$A$9:$A$28),VLOOKUP(Data!$W109,tabulka_kce_def,AM$1-20,FALSE),VLOOKUP(Data!$W109,tabulka_panely_def,AM$1-18,FALSE))","v":0},109,{"$f":"IF(Data!$W109<MIN(Panely!$A$9:$A$28),VLOOKUP(Data!$W109,tabulka_kce_def,63,FALSE),0)","v":0},{"$f":"IF(Data!$W109<MIN(Panely!$A$9:$A$28),VLOOKUP(Data!$W109,tabulka_kce_def,28,FALSE),1)","v":1},{"$f":"IF(Data!$W109<MIN(Panely!$A$9:$A$28),VLOOKUP(Data!$W109,tabulka_kce_def,23,FALSE),VLOOKUP(Data!$W109,tabulka_panely_def,24,FALSE))","v":0},null,0,null,0,0,{"$error":"#N/A"},0,{"$f":"IF(AND(W109>MAX(Konstrukce!A:A),ISNUMBER(W109)),1,0)","v":0}]
[null,"=",{"$f":"IF(Data!$B110<MIN(Panely!$A$9:$A$28),VLOOKUP(Data!$B110,tabulka_kce_def,4,FALSE),VLOOKUP(Data!$B110,tabulka_panely_def,4,FALSE))","v":0},{"$f":"IF(Data!$B110<MIN(Panely!$A$9:$A$28),VLOOKUP(Data!$B110,tabulka_kce_def,23,FALSE),VLOOKUP(Data!$B110,tabulka_panely_def,24,FALSE))","v":0},{"$f":"IF(Data!$B110<MIN(Panely!$A$9:$A$28),VLOOKUP(Data!$B110,tabulka_kce_def,21,FALSE),VLOOKUP(Data!$B110,tabulka_panely_def,22,FALSE))","v":0},{"$f":"IF(Data!$B110<MIN(Panely!$A$9:$A$28),VLOOKUP(Data!$B110,tabulka_kce_def,26,FALSE),VLOOKUP(Data!$B110,tabulka_panely_def,31,FALSE))","v":{"$error":"#DIV/0!"}},{"$f":"IF(Data!$B110<MIN(Panely!$A$9:$A$28),VLOOKUP(Data!$B110,tabulka_kce_def,27,FALSE),VLOOKUP(Data!$B110,tabulka_panely_def,32,FALSE))","v":{"$error":"#DIV/0!"}},{"$f":"IF(VLOOKUP(Data!$B110,tabulka_kce_def,3,FALSE)=\"\",Konstrukce!$G$1,IF(VLOOKUP(Data!$B110,tabulka_kce_def,3,FALSE)=\"z\",Konstrukce!$G$2,VLOOKUP(Data!$B110,tabulka_kce_def,3,FALSE)))","v":{"$error":"#N/A"}},{"$f":"IF(Data!$B110<MIN(Panely!$A$9:$A$28),0,VLOOKUP(Data!$B110,tabulka_panely_def,25,FALSE))","v":0},{"$f":"IF(Data!$B110<MIN(Panely!$A$9:$A$28),VLOOKUP(Data!$B110,tabulka_kce_def,24,FALSE),VLOOKUP(Data!$B110,tabulka_panely_def,33,FALSE))","v":{"$error":"#N/A"}},{"$f":"Konstrukce!$D$1","v":18.770175404064034},{"$f":"Konstrukce!$D$2","v":19.934229593106764},{"$f":"Konstrukce!$G$1","v":-12},{"$f":"IF(Data!$B110<MIN(Panely!$A$9:$A$28),VLOOKUP(Data!$B110,tabulka_kce_def,59,FALSE),VLOOKUP(Data!$B110,tabulka_panely_def,63,FALSE))","v":""},{"$f":"IF(Data!$B110<MIN(Panely!$A$9:$A$28),VLOOKUP(Data!$B110,tabulka_kce_def,60,FALSE),VLOOKUP(Data!$B110,tabulka_panely_def,64,FALSE))","v":""},{"$f":"IF(Data!$B110<MIN(Panely!$A$9:$A$28),VLOOKUP(Data!$B110,tabulka_kce_def,61,FALSE),VLOOKUP(Data!$B110,tabulka_panely_def,65,FALSE))","v":""},{"$f":"IF(Data!$B110<MIN(Panely!$A$9:$A$28),VLOOKUP(Data!$B110,tabulka_kce_def,25,FALSE),0)","v":0},0,null,null,null,null,"=",{"$f":"IF(Data!$W110<MIN(Panely!$A$9:$A$28),VLOOKUP(Data!$W110,tabulka_kce_def,62,FALSE),VLOOKUP(Data!$W110,tabulka_panely_def,65,FALSE))","v":""},{"$f":"IF(Data!$W110<MIN(Panely!$A$9:$A$28),VLOOKUP(Data!$W110,tabulka_kce_def,Y$1-20,FALSE),VLOOKUP(Data!$W110,tabulka_panely_def,Y$1-18,FALSE))","v":0},{"$f":"IF(Data!$W110<MIN(Panely!$A$9:$A$28),VLOOKUP(Data!$W110,tabulka_kce_def,Z$1-20,FALSE),VLOOKUP(Data!$W110,tabulka_panely_def,Z$1-18,FALSE))","v":0},{"$f":"IF(Data!$W110<MIN(Panely!$A$9:$A$28),VLOOKUP(Data!$W110,tabulka_kce_def,AA$1-20,FALSE),VLOOKUP(Data!$W110,tabulka_panely_def,AA$1-18,FALSE))","v":0},{"$f":"IF(Data!$W110<MIN(Panely!$A$9:$A$28),VLOOKUP(Data!$W110,tabulka_kce_def,AB$1-20,FALSE),VLOOKUP(Data!$W110,tabulka_panely_def,AB$1-18,FALSE))","v":0},{"$f":"IF(Data!$W110<MIN(Panely!$A$9:$A$28),VLOOKUP(Data!$W110,tabulka_kce_def,AC$1-20,FALSE),VLOOKUP(Data!$W110,tabulka_panely_def,AC$1-18,FALSE))","v":0},{"$f":"IF(Data!$W110<MIN(Panely!$A$9:$A$28),VLOOKUP(Data!$W110,tabulka_kce_def,AD$1-20,FALSE),VLOOKUP(Data!$W110,tabulka_panely_def,AD$1-18,FALSE))","v":0},{"$f":"IF(Data!$W110<MIN(Panely!$A$9:$A$28),VLOOKUP(Data!$W110,tabulka_kce_def,AE$1-20,FALSE),VLOOKUP(Data!$W110,tabulka_panely_def,AE$1-18,FALSE))","v":0},{"$f":"IF(Data!$W110<MIN(Panely!$A$9:$A$28),VLOOKUP(Data!$W110,tabulka_kce_def,AF$1-20,FALSE),VLOOKUP(Data!$W110,tabulka_panely_def,AF$1-18,FALSE))","v":0},{"$f":"IF(Data!$W110<MIN(Panely!$A$9:$A$28),VLOOKUP(Data!$W110,tabulka_kce_def,AG$1-20,FALSE),VLOOKUP(Data!$W110,tabulka_panely_def,AG$1-18,FALSE))","v":0},{"$f":"IF(Data!$W110<MIN(Panely!$A$9:$A$28),VLOOKUP(Data!$W110,tabulka_kce_def,AH$1-20,FALSE),VLOOKUP(Data!$W110,tabulka_panely_def,AH$1-18,FALSE))","v":0},{"$f":"IF(Data!$W110<MIN(Panely!$A$9:$A$28),VLOOKUP(Data!$W110,tabulka_kce_def,AI$1-20,FALSE),VLOOKUP(Data!$W110,tabulka_panely_def,AI$1-18,FALSE))","v":0},{"$f":"IF(Data!$W110<MIN(Panely!$A$9:$A$28),VLOOKUP(Data!$W110,tabulka_kce_def,AJ$1-20,FALSE),VLOOKUP(Data!$W110,tabulka_panely_def,AJ$1-18,FALSE))","v":0},{"$f":"IF(Data!$W110<MIN(Panely!$A$9:$A$28),VLOOKUP(Data!$W110,tabulka_kce_def,AK$1-20,FALSE),VLOOKUP(Data!$W110,tabulka_panely_def,AK$1-18,FALSE))","v":0},{"$f":"IF(Data!$W110<MIN(Panely!$A$9:$A$28),VLOOKUP(Data!$W110,tabulka_kce_def,AL$1-20,FALSE),VLOOKUP(Data!$W110,tabulka_panely_def,AL$1-18,FALSE))","v":0},{"$f":"IF(Data!$W110<MIN(Panely!$A$9:$A$28),VLOOKUP(Data!$W110,tabulka_kce_def,AM$1-20,FALSE),VLOOKUP(Data!$W110,tabulka_panely_def,AM$1-18,FALSE))","v":0},110,{"$f":"IF(Data!$W110<MIN(Panely!$A$9:$A$28),VLOOKUP(Data!$W110,tabulka_kce_def,63,FALSE),0)","v":0},{"$f":"IF(Data!$W110<MIN(Panely!$A$9:$A$28),VLOOKUP(Data!$W110,tabulka_kce_def,28,FALSE),1)","v":1},{"$f":"IF(Data!$W110<MIN(Panely!$A$9:$A$28),VLOOKUP(Data!$W110,tabulka_kce_def,23,FALSE),VLOOKUP(Data!$W110,tabulka_panely_def,24,FALSE))","v":0},null,0,null,0,0,{"$error":"#N/A"},0,{"$f":"IF(AND(W110>MAX(Konstrukce!A:A),ISNUMBER(W110)),1,0)","v":0}]
[null,"=",{"$f":"IF(Data!$B111<MIN(Panely!$A$9:$A$28),VLOOKUP(Data!$B111,tabulka_kce_def,4,FALSE),VLOOKUP(Data!$B111,tabulka_panely_def,4,FALSE))","v":0},{"$f":"IF(Data!$B111<MIN(Panely!$A$9:$A$28),VLOOKUP(Data!$B111,tabulka_kce_def,23,FALSE),VLOOKUP(Data!$B111,tabulka_panely_def,24,FALSE))","v":0},{"$f":"IF(Data!$B111<MIN(Panely!$A$9:$A$28),VLOOKUP(Data!$B111,tabulka_kce_def,21,FALSE),VLOOKUP(Data!$B111,tabulka_panely_def,22,FALSE))","v":0},{"$f":"IF(Data!$B111<MIN(Panely!$A$9:$A$28),VLOOKUP(Data!$B111,tabulka_kce_def,26,FALSE),VLOOKUP(Data!$B111,tabulka_panely_def,31,FALSE))","v":{"$error":"#DIV/0!"}},{"$f":"IF(Data!$B111<MIN(Panely!$A$9:$A$28),VLOOKUP(Data!$B111,tabulka_kce_def,27,FALSE),VLOOKUP(Data!$B111,tabulka_panely_def,32,FALSE))","v":{"$error":"#DIV/0!"}},{"$f":"IF(VLOOKUP(Data!$B111,tabulka_kce_def,3,FALSE)=\"\",Konstrukce!$G$1,IF(VLOOKUP(Data!$B111,tabulka_kce_def,3,FALSE)=\"z\",Konstrukce!$G$2,VLOOKUP(Data!$B111,tabulka_kce_def,3,FALSE)))","v":{"$error":"#N/A"}},{"$f":"IF(Data!$B111<MIN(Panely!$A$9:$A$28),0,VLOOKUP(Data!$B111,tabulka_panely_def,25,FALSE))","v":0},{"$f":"IF(Data!$B111<MIN(Panely!$A$9:$A$28),VLOOKUP(Data!$B111,tabulka_kce_def,24,FALSE),VLOOKUP(Data!$B111,tabulka_panely_def,33,FALSE))","v":{"$error":"#N/A"}},{"$f":"Konstrukce!$D$1","v":18.770175404064034},{"$f":"Konstrukce!$D$2","v":19.934229593106764},{"$f":"Konstrukce!$G$1","v":-12},{"$f":"IF(Data!$B111<MIN(Panely!$A$9:$A$28),VLOOKUP(Data!$B111,tabulka_kce_def,59,FALSE),VLOOKUP(Data!$B111,tabulka_panely_def,63,FALSE))","v":""},{"$f":"IF(Data!$B111<MIN(Panely!$A$9:$A$28),VLOOKUP(Data!$B111,tabulka_kce_def,60,FALSE),VLOOKUP(Data!$B111,tabulka_panely_def,64,FALSE))","v":""},{"$f":"IF(Data!$B111<MIN(Panely!$A$9:$A$28),VLOOKUP(Data!$B111,tabulka_kce_def,61,FALSE),VLOOKUP(Data!$B111,tabulka_panely_def,65,FALSE))","v":""},{"$f":"IF(Data!$B111<MIN(Panely!$A$9:$A$28),VLOOKUP(Data!$B111,tabulka_kce_def,25,FALSE),0)","v":0},0,null,null,null,null,"=",{"$f":"IF(Data!$W111<MIN(Panely!$A$9:$A$28),VLOOKUP(Data!$W111,tabulka_kce_def,62,FALSE),VLOOKUP(Data!$W111,tabulka_panely_def,65,FALSE))","v":""},{"$f":"IF(Data!$W111<MIN(Panely!$A$9:$A$28),VLOOKUP(Data!$W111,tabulka_kce_def,Y$1-20,FALSE),VLOOKUP(Data!$W111,tabulka_panely_def,Y$1-18,FALSE))","v":0},{"$f":"IF(Data!$W111<MIN(Panely!$A$9:$A$28),VLOOKUP(Data!$W111,tabulka_kce_def,Z$1-20,FALSE),VLOOKUP(Data!$W111,tabulka_panely_def,Z$1-18,FALSE))","v":0},{"$f":"IF(Data!$W111<MIN(Panely!$A$9:$A$28),VLOOKUP(Data!$W111,tabulka_kce_def,AA$1-20,FALSE),VLOOKUP(Data!$W111,tabulka_panely_def,AA$1-18,FALSE))","v":0},{"$f":"IF(Data!$W111<MIN(Panely!$A$9:$A$28),VLOOKUP(Data!$W111,tabulka_kce_def,AB$1-20,FALSE),VLOOKUP(Data!$W111,tabulka_panely_def,AB$1-18,FALSE))","v":0},{"$f":"IF(Data!$W111<MIN(Panely!$A$9:$A$28),VLOOKUP(Data!$W111,tabulka_kce_def,AC$1-20,FALSE),VLOOKUP(Data!$W111,tabulka_panely_def,AC$1-18,FALSE))","v":0},{"$f":"IF(Data!$W111<MIN(Panely!$A$9:$A$28),VLOOKUP(Data!$W111,tabulka_kce_def,AD$1-20,FALSE),VLOOKUP(Data!$W111,tabulka_panely_def,AD$1-18,FALSE))","v":0},{"$f":"IF(Data!$W111<MIN(Panely!$A$9:$A$28),VLOOKUP(Data!$W111,tabulka_kce_def,AE$1-20,FALSE),VLOOKUP(Data!$W111,tabulka_panely_def,AE$1-18,FALSE))","v":0},{"$f":"IF(Data!$W111<MIN(Panely!$A$9:$A$28),VLOOKUP(Data!$W111,tabulka_kce_def,AF$1-20,FALSE),VLOOKUP(Data!$W111,tabulka_panely_def,AF$1-18,FALSE))","v":0},{"$f":"IF(Data!$W111<MIN(Panely!$A$9:$A$28),VLOOKUP(Data!$W111,tabulka_kce_def,AG$1-20,FALSE),VLOOKUP(Data!$W111,tabulka_panely_def,AG$1-18,FALSE))","v":0},{"$f":"IF(Data!$W111<MIN(Panely!$A$9:$A$28),VLOOKUP(Data!$W111,tabulka_kce_def,AH$1-20,FALSE),VLOOKUP(Data!$W111,tabulka_panely_def,AH$1-18,FALSE))","v":0},{"$f":"IF(Data!$W111<MIN(Panely!$A$9:$A$28),VLOOKUP(Data!$W111,tabulka_kce_def,AI$1-20,FALSE),VLOOKUP(Data!$W111,tabulka_panely_def,AI$1-18,FALSE))","v":0},{"$f":"IF(Data!$W111<MIN(Panely!$A$9:$A$28),VLOOKUP(Data!$W111,tabulka_kce_def,AJ$1-20,FALSE),VLOOKUP(Data!$W111,tabulka_panely_def,AJ$1-18,FALSE))","v":0},{"$f":"IF(Data!$W111<MIN(Panely!$A$9:$A$28),VLOOKUP(Data!$W111,tabulka_kce_def,AK$1-20,FALSE),VLOOKUP(Data!$W111,tabulka_panely_def,AK$1-18,FALSE))","v":0},{"$f":"IF(Data!$W111<MIN(Panely!$A$9:$A$28),VLOOKUP(Data!$W111,tabulka_kce_def,AL$1-20,FALSE),VLOOKUP(Data!$W111,tabulka_panely_def,AL$1-18,FALSE))","v":0},{"$f":"IF(Data!$W111<MIN(Panely!$A$9:$A$28),VLOOKUP(Data!$W111,tabulka_kce_def,AM$1-20,FALSE),VLOOKUP(Data!$W111,tabulka_panely_def,AM$1-18,FALSE))","v":0},111,{"$f":"IF(Data!$W111<MIN(Panely!$A$9:$A$28),VLOOKUP(Data!$W111,tabulka_kce_def,63,FALSE),0)","v":0},{"$f":"IF(Data!$W111<MIN(Panely!$A$9:$A$28),VLOOKUP(Data!$W111,tabulka_kce_def,28,FALSE),1)","v":1},{"$f":"IF(Data!$W111<MIN(Panely!$A$9:$A$28),VLOOKUP(Data!$W111,tabulka_kce_def,23,FALSE),VLOOKUP(Data!$W111,tabulka_panely_def,24,FALSE))","v":0},null,0,null,0,0,{"$error":"#N/A"},0,{"$f":"IF(AND(W111>MAX(Konstrukce!A:A),ISNUMBER(W111)),1,0)","v":0}]
[null,"=",{"$f":"IF(Data!$B112<MIN(Panely!$A$9:$A$28),VLOOKUP(Data!$B112,tabulka_kce_def,4,FALSE),VLOOKUP(Data!$B112,tabulka_panely_def,4,FALSE))","v":0},{"$f":"IF(Data!$B112<MIN(Panely!$A$9:$A$28),VLOOKUP(Data!$B112,tabulka_kce_def,23,FALSE),VLOOKUP(Data!$B112,tabulka_panely_def,24,FALSE))","v":0},{"$f":"IF(Data!$B112<MIN(Panely!$A$9:$A$28),VLOOKUP(Data!$B112,tabulka_kce_def,21,FALSE),VLOOKUP(Data!$B112,tabulka_panely_def,22,FALSE))","v":0},{"$f":"IF(Data!$B112<MIN(Panely!$A$9:$A$28),VLOOKUP(Data!$B112,tabulka_kce_def,26,FALSE),VLOOKUP(Data!$B112,tabulka_panely_def,31,FALSE))","v":{"$error":"#DIV/0!"}},{"$f":"IF(Data!$B112<MIN(Panely!$A$9:$A$28),VLOOKUP(Data!$B112,tabulka_kce_def,27,FALSE),VLOOKUP(Data!$B112,tabulka_panely_def,32,FALSE))","v":{"$error":"#DIV/0!"}},{"$f":"IF(VLOOKUP(Data!$B112,tabulka_kce_def,3,FALSE)=\"\",Konstrukce!$G$1,IF(VLOOKUP(Data!$B112,tabulka_kce_def,3,FALSE)=\"z\",Konstrukce!$G$2,VLOOKUP(Data!$B112,tabulka_kce_def,3,FALSE)))","v":{"$error":"#N/A"}},{"$f":"IF(Data!$B112<MIN(Panely!$A$9:$A$28),0,VLOOKUP(Data!$B112,tabulka_panely_def,25,FALSE))","v":0},{"$f":"IF(Data!$B112<MIN(Panely!$A$9:$A$28),VLOOKUP(Data!$B112,tabulka_kce_def,24,FALSE),VLOOKUP(Data!$B112,tabulka_panely_def,33,FALSE))","v":{"$error":"#N/A"}},{"$f":"Konstrukce!$D$1","v":18.770175404064034},{"$f":"Konstrukce!$D$2","v":19.934229593106764},{"$f":"Konstrukce!$G$1","v":-12},{"$f":"IF(Data!$B112<MIN(Panely!$A$9:$A$28),VLOOKUP(Data!$B112,tabulka_kce_def,59,FALSE),VLOOKUP(Data!$B112,tabulka_panely_def,63,FALSE))","v":""},{"$f":"IF(Data!$B112<MIN(Panely!$A$9:$A$28),VLOOKUP(Data!$B112,tabulka_kce_def,60,FALSE),VLOOKUP(Data!$B112,tabulka_panely_def,64,FALSE))","v":""},{"$f":"IF(Data!$B112<MIN(Panely!$A$9:$A$28),VLOOKUP(Data!$B112,tabulka_kce_def,61,FALSE),VLOOKUP(Data!$B112,tabulka_panely_def,65,FALSE))","v":""},{"$f":"IF(Data!$B112<MIN(Panely!$A$9:$A$28),VLOOKUP(Data!$B112,tabulka_kce_def,25,FALSE),0)","v":0},0,null,null,null,null,"=",{"$f":"IF(Data!$W112<MIN(Panely!$A$9:$A$28),VLOOKUP(Data!$W112,tabulka_kce_def,62,FALSE),VLOOKUP(Data!$W112,tabulka_panely_def,65,FALSE))","v":""},{"$f":"IF(Data!$W112<MIN(Panely!$A$9:$A$28),VLOOKUP(Data!$W112,tabulka_kce_def,Y$1-20,FALSE),VLOOKUP(Data!$W112,tabulka_panely_def,Y$1-18,FALSE))","v":0},{"$f":"IF(Data!$W112<MIN(Panely!$A$9:$A$28),VLOOKUP(Data!$W112,tabulka_kce_def,Z$1-20,FALSE),VLOOKUP(Data!$W112,tabulka_panely_def,Z$1-18,FALSE))","v":0},{"$f":"IF(Data!$W112<MIN(Panely!$A$9:$A$28),VLOOKUP(Data!$W112,tabulka_kce_def,AA$1-20,FALSE),VLOOKUP(Data!$W112,tabulka_panely_def,AA$1-18,FALSE))","v":0},{"$f":"IF(Data!$W112<MIN(Panely!$A$9:$A$28),VLOOKUP(Data!$W112,tabulka_kce_def,AB$1-20,FALSE),VLOOKUP(Data!$W112,tabulka_panely_def,AB$1-18,FALSE))","v":0},{"$f":"IF(Data!$W112<MIN(Panely!$A$9:$A$28),VLOOKUP(Data!$W112,tabulka_kce_def,AC$1-20,FALSE),VLOOKUP(Data!$W112,tabulka_panely_def,AC$1-18,FALSE))","v":0},{"$f":"IF(Data!$W112<MIN(Panely!$A$9:$A$28),VLOOKUP(Data!$W112,tabulka_kce_def,AD$1-20,FALSE),VLOOKUP(Data!$W112,tabulka_panely_def,AD$1-18,FALSE))","v":0},{"$f":"IF(Data!$W112<MIN(Panely!$A$9:$A$28),VLOOKUP(Data!$W112,tabulka_kce_def,AE$1-20,FALSE),VLOOKUP(Data!$W112,tabulka_panely_def,AE$1-18,FALSE))","v":0},{"$f":"IF(Data!$W112<MIN(Panely!$A$9:$A$28),VLOOKUP(Data!$W112,tabulka_kce_def,AF$1-20,FALSE),VLOOKUP(Data!$W112,tabulka_panely_def,AF$1-18,FALSE))","v":0},{"$f":"IF(Data!$W112<MIN(Panely!$A$9:$A$28),VLOOKUP(Data!$W112,tabulka_kce_def,AG$1-20,FALSE),VLOOKUP(Data!$W112,tabulka_panely_def,AG$1-18,FALSE))","v":0},{"$f":"IF(Data!$W112<MIN(Panely!$A$9:$A$28),VLOOKUP(Data!$W112,tabulka_kce_def,AH$1-20,FALSE),VLOOKUP(Data!$W112,tabulka_panely_def,AH$1-18,FALSE))","v":0},{"$f":"IF(Data!$W112<MIN(Panely!$A$9:$A$28),VLOOKUP(Data!$W112,tabulka_kce_def,AI$1-20,FALSE),VLOOKUP(Data!$W112,tabulka_panely_def,AI$1-18,FALSE))","v":0},{"$f":"IF(Data!$W112<MIN(Panely!$A$9:$A$28),VLOOKUP(Data!$W112,tabulka_kce_def,AJ$1-20,FALSE),VLOOKUP(Data!$W112,tabulka_panely_def,AJ$1-18,FALSE))","v":0},{"$f":"IF(Data!$W112<MIN(Panely!$A$9:$A$28),VLOOKUP(Data!$W112,tabulka_kce_def,AK$1-20,FALSE),VLOOKUP(Data!$W112,tabulka_panely_def,AK$1-18,FALSE))","v":0},{"$f":"IF(Data!$W112<MIN(Panely!$A$9:$A$28),VLOOKUP(Data!$W112,tabulka_kce_def,AL$1-20,FALSE),VLOOKUP(Data!$W112,tabulka_panely_def,AL$1-18,FALSE))","v":0},{"$f":"IF(Data!$W112<MIN(Panely!$A$9:$A$28),VLOOKUP(Data!$W112,tabulka_kce_def,AM$1-20,FALSE),VLOOKUP(Data!$W112,tabulka_panely_def,AM$1-18,FALSE))","v":0},112,{"$f":"IF(Data!$W112<MIN(Panely!$A$9:$A$28),VLOOKUP(Data!$W112,tabulka_kce_def,63,FALSE),0)","v":0},{"$f":"IF(Data!$W112<MIN(Panely!$A$9:$A$28),VLOOKUP(Data!$W112,tabulka_kce_def,28,FALSE),1)","v":1},{"$f":"IF(Data!$W112<MIN(Panely!$A$9:$A$28),VLOOKUP(Data!$W112,tabulka_kce_def,23,FALSE),VLOOKUP(Data!$W112,tabulka_panely_def,24,FALSE))","v":0},null,0,null,{"$f":"IF(ISERROR(MID(VLOOKUP($W112,tabulka_kce_def,2,FALSE),1,3)=\"ooz\"),0,IF(MID(VLOOKUP($W112,tabulka_kce_def,2,FALSE),1,3)=\"ooz\",1,0))","v":0},{"$f":"IF(ISERROR(MID(VLOOKUP($W112,tabulka_kce_def,60,FALSE),1,1)=\"f\"),0,IF(MID(VLOOKUP($W112,tabulka_kce_def,60,FALSE),1,1)=\"f\",1,0))","v":0},{"$f":"VALUE(VLOOKUP($W112,tabulka_kce_def,61,FALSE))","v":{"$error":"#N/A"}},{"$f":"IF(AV112=1,IF(MID(VLOOKUP(AW112,tabulka_kce_def,2,FALSE),1,3)=\"ooz\",1,0),0)","v":0},{"$f":"IF(AND(W112>MAX(Konstrukce!A:A),ISNUMBER(W112)),1,0)","v":0}]
[null,"=",{"$f":"IF(Data!$B113<MIN(Panely!$A$9:$A$28),VLOOKUP(Data!$B113,tabulka_kce_def,4,FALSE),VLOOKUP(Data!$B113,tabulka_panely_def,4,FALSE))","v":0},{"$f":"IF(Data!$B113<MIN(Panely!$A$9:$A$28),VLOOKUP(Data!$B113,tabulka_kce_def,23,FALSE),VLOOKUP(Data!$B113,tabulka_panely_def,24,FALSE))","v":0},{"$f":"IF(Data!$B113<MIN(Panely!$A$9:$A$28),VLOOKUP(Data!$B113,tabulka_kce_def,21,FALSE),VLOOKUP(Data!$B113,tabulka_panely_def,22,FALSE))","v":0},{"$f":"IF(Data!$B113<MIN(Panely!$A$9:$A$28),VLOOKUP(Data!$B113,tabulka_kce_def,26,FALSE),VLOOKUP(Data!$B113,tabulka_panely_def,31,FALSE))","v":{"$error":"#DIV/0!"}},{"$f":"IF(Data!$B113<MIN(Panely!$A$9:$A$28),VLOOKUP(Data!$B113,tabulka_kce_def,27,FALSE),VLOOKUP(Data!$B113,tabulka_panely_def,32,FALSE))","v":{"$error":"#DIV/0!"}},{"$f":"IF(VLOOKUP(Data!$B113,tabulka_kce_def,3,FALSE)=\"\",Konstrukce!$G$1,IF(VLOOKUP(Data!$B113,tabulka_kce_def,3,FALSE)=\"z\",Konstrukce!$G$2,VLOOKUP(Data!$B113,tabulka_kce_def,3,FALSE)))","v":{"$error":"#N/A"}},{"$f":"IF(Data!$B113<MIN(Panely!$A$9:$A$28),0,VLOOKUP(Data!$B113,tabulka_panely_def,25,FALSE))","v":0},{"$f":"IF(Data!$B113<MIN(Panely!$A$9:$A$28),VLOOKUP(Data!$B113,tabulka_kce_def,24,FALSE),VLOOKUP(Data!$B113,tabulka_panely_def,33,FALSE))","v":{"$error":"#N/A"}},{"$f":"Konstrukce!$D$1","v":18.770175404064034},{"$f":"Konstrukce!$D$2","v":19.934229593106764},{"$f":"Konstrukce!$G$1","v":-12},{"$f":"IF(Data!$B113<MIN(Panely!$A$9:$A$28),VLOOKUP(Data!$B113,tabulka_kce_def,59,FALSE),VLOOKUP(Data!$B113,tabulka_panely_def,63,FALSE))","v":""},{"$f":"IF(Data!$B113<MIN(Panely!$A$9:$A$28),VLOOKUP(Data!$B113,tabulka_kce_def,60,FALSE),VLOOKUP(Data!$B113,tabulka_panely_def,64,FALSE))","v":""},{"$f":"IF(Data!$B113<MIN(Panely!$A$9:$A$28),VLOOKUP(Data!$B113,tabulka_kce_def,61,FALSE),VLOOKUP(Data!$B113,tabulka_panely_def,65,FALSE))","v":""},{"$f":"IF(Data!$B113<MIN(Panely!$A$9:$A$28),VLOOKUP(Data!$B113,tabulka_kce_def,25,FALSE),0)","v":0},0,null,null,null,null,"=",{"$f":"IF(Data!$W113<MIN(Panely!$A$9:$A$28),VLOOKUP(Data!$W113,tabulka_kce_def,62,FALSE),VLOOKUP(Data!$W113,tabulka_panely_def,65,FALSE))","v":""},{"$f":"IF(Data!$W113<MIN(Panely!$A$9:$A$28),VLOOKUP(Data!$W113,tabulka_kce_def,Y$1-20,FALSE),VLOOKUP(Data!$W113,tabulka_panely_def,Y$1-18,FALSE))","v":0},{"$f":"IF(Data!$W113<MIN(Panely!$A$9:$A$28),VLOOKUP(Data!$W113,tabulka_kce_def,Z$1-20,FALSE),VLOOKUP(Data!$W113,tabulka_panely_def,Z$1-18,FALSE))","v":0},{"$f":"IF(Data!$W113<MIN(Panely!$A$9:$A$28),VLOOKUP(Data!$W113,tabulka_kce_def,AA$1-20,FALSE),VLOOKUP(Data!$W113,tabulka_panely_def,AA$1-18,FALSE))","v":0},{"$f":"IF(Data!$W113<MIN(Panely!$A$9:$A$28),VLOOKUP(Data!$W113,tabulka_kce_def,AB$1-20,FALSE),VLOOKUP(Data!$W113,tabulka_panely_def,AB$1-18,FALSE))","v":0},{"$f":"IF(Data!$W113<MIN(Panely!$A$9:$A$28),VLOOKUP(Data!$W113,tabulka_kce_def,AC$1-20,FALSE),VLOOKUP(Data!$W113,tabulka_panely_def,AC$1-18,FALSE))","v":0},{"$f":"IF(Data!$W113<MIN(Panely!$A$9:$A$28),VLOOKUP(Data!$W113,tabulka_kce_def,AD$1-20,FALSE),VLOOKUP(Data!$W113,tabulka_panely_def,AD$1-18,FALSE))","v":0},{"$f":"IF(Data!$W113<MIN(Panely!$A$9:$A$28),VLOOKUP(Data!$W113,tabulka_kce_def,AE$1-20,FALSE),VLOOKUP(Data!$W113,tabulka_panely_def,AE$1-18,FALSE))","v":0},{"$f":"IF(Data!$W113<MIN(Panely!$A$9:$A$28),VLOOKUP(Data!$W113,tabulka_kce_def,AF$1-20,FALSE),VLOOKUP(Data!$W113,tabulka_panely_def,AF$1-18,FALSE))","v":0},{"$f":"IF(Data!$W113<MIN(Panely!$A$9:$A$28),VLOOKUP(Data!$W113,tabulka_kce_def,AG$1-20,FALSE),VLOOKUP(Data!$W113,tabulka_panely_def,AG$1-18,FALSE))","v":0},{"$f":"IF(Data!$W113<MIN(Panely!$A$9:$A$28),VLOOKUP(Data!$W113,tabulka_kce_def,AH$1-20,FALSE),VLOOKUP(Data!$W113,tabulka_panely_def,AH$1-18,FALSE))","v":0},{"$f":"IF(Data!$W113<MIN(Panely!$A$9:$A$28),VLOOKUP(Data!$W113,tabulka_kce_def,AI$1-20,FALSE),VLOOKUP(Data!$W113,tabulka_panely_def,AI$1-18,FALSE))","v":0},{"$f":"IF(Data!$W113<MIN(Panely!$A$9:$A$28),VLOOKUP(Data!$W113,tabulka_kce_def,AJ$1-20,FALSE),VLOOKUP(Data!$W113,tabulka_panely_def,AJ$1-18,FALSE))","v":0},{"$f":"IF(Data!$W113<MIN(Panely!$A$9:$A$28),VLOOKUP(Data!$W113,tabulka_kce_def,AK$1-20,FALSE),VLOOKUP(Data!$W113,tabulka_panely_def,AK$1-18,FALSE))","v":0},{"$f":"IF(Data!$W113<MIN(Panely!$A$9:$A$28),VLOOKUP(Data!$W113,tabulka_kce_def,AL$1-20,FALSE),VLOOKUP(Data!$W113,tabulka_panely_def,AL$1-18,FALSE))","v":0},{"$f":"IF(Data!$W113<MIN(Panely!$A$9:$A$28),VLOOKUP(Data!$W113,tabulka_kce_def,AM$1-20,FALSE),VLOOKUP(Data!$W113,tabulka_panely_def,AM$1-18,FALSE))","v":0},113,{"$f":"IF(Data!$W113<MIN(Panely!$A$9:$A$28),VLOOKUP(Data!$W113,tabulka_kce_def,63,FALSE),0)","v":0},{"$f":"IF(Data!$W113<MIN(Panely!$A$9:$A$28),VLOOKUP(Data!$W113,tabulka_kce_def,28,FALSE),1)","v":1},{"$f":"IF(Data!$W113<MIN(Panely!$A$9:$A$28),VLOOKUP(Data!$W113,tabulka_kce_def,23,FALSE),VLOOKUP(Data!$W113,tabulka_panely_def,24,FALSE))","v":0},null,0,null,0,0,{"$error":"#N/A"},0,{"$f":"IF(AND(W113>MAX(Konstrukce!A:A),ISNUMBER(W113)),1,0)","v":0}]
[null,"=",{"$f":"IF(Data!$B114<MIN(Panely!$A$9:$A$28),VLOOKUP(Data!$B114,tabulka_kce_def,4,FALSE),VLOOKUP(Data!$B114,tabulka_panely_def,4,FALSE))","v":0},{"$f":"IF(Data!$B114<MIN(Panely!$A$9:$A$28),VLOOKUP(Data!$B114,tabulka_kce_def,23,FALSE),VLOOKUP(Data!$B114,tabulka_panely_def,24,FALSE))","v":0},{"$f":"IF(Data!$B114<MIN(Panely!$A$9:$A$28),VLOOKUP(Data!$B114,tabulka_kce_def,21,FALSE),VLOOKUP(Data!$B114,tabulka_panely_def,22,FALSE))","v":0},{"$f":"IF(Data!$B114<MIN(Panely!$A$9:$A$28),VLOOKUP(Data!$B114,tabulka_kce_def,26,FALSE),VLOOKUP(Data!$B114,tabulka_panely_def,31,FALSE))","v":{"$error":"#DIV/0!"}},{"$f":"IF(Data!$B114<MIN(Panely!$A$9:$A$28),VLOOKUP(Data!$B114,tabulka_kce_def,27,FALSE),VLOOKUP(Data!$B114,tabulka_panely_def,32,FALSE))","v":{"$error":"#DIV/0!"}},{"$f":"IF(VLOOKUP(Data!$B114,tabulka_kce_def,3,FALSE)=\"\",Konstrukce!$G$1,IF(VLOOKUP(Data!$B114,tabulka_kce_def,3,FALSE)=\"z\",Konstrukce!$G$2,VLOOKUP(Data!$B114,tabulka_kce_def,3,FALSE)))","v":{"$error":"#N/A"}},{"$f":"IF(Data!$B114<MIN(Panely!$A$9:$A$28),0,VLOOKUP(Data!$B114,tabulka_panely_def,25,FALSE))","v":0},{"$f":"IF(Data!$B114<MIN(Panely!$A$9:$A$28),VLOOKUP(Data!$B114,tabulka_kce_def,24,FALSE),VLOOKUP(Data!$B114,tabulka_panely_def,33,FALSE))","v":{"$error":"#N/A"}},{"$f":"Konstrukce!$D$1","v":18.770175404064034},{"$f":"Konstrukce!$D$2","v":19.934229593106764},{"$f":"Konstrukce!$G$1","v":-12},{"$f":"IF(Data!$B114<MIN(Panely!$A$9:$A$28),VLOOKUP(Data!$B114,tabulka_kce_def,59,FALSE),VLOOKUP(Data!$B114,tabulka_panely_def,63,FALSE))","v":""},{"$f":"IF(Data!$B114<MIN(Panely!$A$9:$A$28),VLOOKUP(Data!$B114,tabulka_kce_def,60,FALSE),VLOOKUP(Data!$B114,tabulka_panely_def,64,FALSE))","v":""},{"$f":"IF(Data!$B114<MIN(Panely!$A$9:$A$28),VLOOKUP(Data!$B114,tabulka_kce_def,61,FALSE),VLOOKUP(Data!$B114,tabulka_panely_def,65,FALSE))","v":""},{"$f":"IF(Data!$B114<MIN(Panely!$A$9:$A$28),VLOOKUP(Data!$B114,tabulka_kce_def,25,FALSE),0)","v":0},0,null,null,null,null,"=",{"$f":"IF(Data!$W114<MIN(Panely!$A$9:$A$28),VLOOKUP(Data!$W114,tabulka_kce_def,62,FALSE),VLOOKUP(Data!$W114,tabulka_panely_def,65,FALSE))","v":""},{"$f":"IF(Data!$W114<MIN(Panely!$A$9:$A$28),VLOOKUP(Data!$W114,tabulka_kce_def,Y$1-20,FALSE),VLOOKUP(Data!$W114,tabulka_panely_def,Y$1-18,FALSE))","v":0},{"$f":"IF(Data!$W114<MIN(Panely!$A$9:$A$28),VLOOKUP(Data!$W114,tabulka_kce_def,Z$1-20,FALSE),VLOOKUP(Data!$W114,tabulka_panely_def,Z$1-18,FALSE))","v":0},{"$f":"IF(Data!$W114<MIN(Panely!$A$9:$A$28),VLOOKUP(Data!$W114,tabulka_kce_def,AA$1-20,FALSE),VLOOKUP(Data!$W114,tabulka_panely_def,AA$1-18,FALSE))","v":0},{"$f":"IF(Data!$W114<MIN(Panely!$A$9:$A$28),VLOOKUP(Data!$W114,tabulka_kce_def,AB$1-20,FALSE),VLOOKUP(Data!$W114,tabulka_panely_def,AB$1-18,FALSE))","v":0},{"$f":"IF(Data!$W114<MIN(Panely!$A$9:$A$28),VLOOKUP(Data!$W114,tabulka_kce_def,AC$1-20,FALSE),VLOOKUP(Data!$W114,tabulka_panely_def,AC$1-18,FALSE))","v":0},{"$f":"IF(Data!$W114<MIN(Panely!$A$9:$A$28),VLOOKUP(Data!$W114,tabulka_kce_def,AD$1-20,FALSE),VLOOKUP(Data!$W114,tabulka_panely_def,AD$1-18,FALSE))","v":0},{"$f":"IF(Data!$W114<MIN(Panely!$A$9:$A$28),VLOOKUP(Data!$W114,tabulka_kce_def,AE$1-20,FALSE),VLOOKUP(Data!$W114,tabulka_panely_def,AE$1-18,FALSE))","v":0},{"$f":"IF(Data!$W114<MIN(Panely!$A$9:$A$28),VLOOKUP(Data!$W114,tabulka_kce_def,AF$1-20,FALSE),VLOOKUP(Data!$W114,tabulka_panely_def,AF$1-18,FALSE))","v":0},{"$f":"IF(Data!$W114<MIN(Panely!$A$9:$A$28),VLOOKUP(Data!$W114,tabulka_kce_def,AG$1-20,FALSE),VLOOKUP(Data!$W114,tabulka_panely_def,AG$1-18,FALSE))","v":0},{"$f":"IF(Data!$W114<MIN(Panely!$A$9:$A$28),VLOOKUP(Data!$W114,tabulka_kce_def,AH$1-20,FALSE),VLOOKUP(Data!$W114,tabulka_panely_def,AH$1-18,FALSE))","v":0},{"$f":"IF(Data!$W114<MIN(Panely!$A$9:$A$28),VLOOKUP(Data!$W114,tabulka_kce_def,AI$1-20,FALSE),VLOOKUP(Data!$W114,tabulka_panely_def,AI$1-18,FALSE))","v":0},{"$f":"IF(Data!$W114<MIN(Panely!$A$9:$A$28),VLOOKUP(Data!$W114,tabulka_kce_def,AJ$1-20,FALSE),VLOOKUP(Data!$W114,tabulka_panely_def,AJ$1-18,FALSE))","v":0},{"$f":"IF(Data!$W114<MIN(Panely!$A$9:$A$28),VLOOKUP(Data!$W114,tabulka_kce_def,AK$1-20,FALSE),VLOOKUP(Data!$W114,tabulka_panely_def,AK$1-18,FALSE))","v":0},{"$f":"IF(Data!$W114<MIN(Panely!$A$9:$A$28),VLOOKUP(Data!$W114,tabulka_kce_def,AL$1-20,FALSE),VLOOKUP(Data!$W114,tabulka_panely_def,AL$1-18,FALSE))","v":0},{"$f":"IF(Data!$W114<MIN(Panely!$A$9:$A$28),VLOOKUP(Data!$W114,tabulka_kce_def,AM$1-20,FALSE),VLOOKUP(Data!$W114,tabulka_panely_def,AM$1-18,FALSE))","v":0},114,{"$f":"IF(Data!$W114<MIN(Panely!$A$9:$A$28),VLOOKUP(Data!$W114,tabulka_kce_def,63,FALSE),0)","v":0},{"$f":"IF(Data!$W114<MIN(Panely!$A$9:$A$28),VLOOKUP(Data!$W114,tabulka_kce_def,28,FALSE),1)","v":1},{"$f":"IF(Data!$W114<MIN(Panely!$A$9:$A$28),VLOOKUP(Data!$W114,tabulka_kce_def,23,FALSE),VLOOKUP(Data!$W114,tabulka_panely_def,24,FALSE))","v":0},null,0,null,0,0,{"$error":"#N/A"},0,{"$f":"IF(AND(W114>MAX(Konstrukce!A:A),ISNUMBER(W114)),1,0)","v":0}]
[null,"=",{"$f":"IF(Data!$B115<MIN(Panely!$A$9:$A$28),VLOOKUP(Data!$B115,tabulka_kce_def,4,FALSE),VLOOKUP(Data!$B115,tabulka_panely_def,4,FALSE))","v":0},{"$f":"IF(Data!$B115<MIN(Panely!$A$9:$A$28),VLOOKUP(Data!$B115,tabulka_kce_def,23,FALSE),VLOOKUP(Data!$B115,tabulka_panely_def,24,FALSE))","v":0},{"$f":"IF(Data!$B115<MIN(Panely!$A$9:$A$28),VLOOKUP(Data!$B115,tabulka_kce_def,21,FALSE),VLOOKUP(Data!$B115,tabulka_panely_def,22,FALSE))","v":0},{"$f":"IF(Data!$B115<MIN(Panely!$A$9:$A$28),VLOOKUP(Data!$B115,tabulka_kce_def,26,FALSE),VLOOKUP(Data!$B115,tabulka_panely_def,31,FALSE))","v":{"$error":"#DIV/0!"}},{"$f":"IF(Data!$B115<MIN(Panely!$A$9:$A$28),VLOOKUP(Data!$B115,tabulka_kce_def,27,FALSE),VLOOKUP(Data!$B115,tabulka_panely_def,32,FALSE))","v":{"$error":"#DIV/0!"}},{"$f":"IF(VLOOKUP(Data!$B115,tabulka_kce_def,3,FALSE)=\"\",Konstrukce!$G$1,IF(VLOOKUP(Data!$B115,tabulka_kce_def,3,FALSE)=\"z\",Konstrukce!$G$2,VLOOKUP(Data!$B115,tabulka_kce_def,3,FALSE)))","v":{"$error":"#N/A"}},{"$f":"IF(Data!$B115<MIN(Panely!$A$9:$A$28),0,VLOOKUP(Data!$B115,tabulka_panely_def,25,FALSE))","v":0},{"$f":"IF(Data!$B115<MIN(Panely!$A$9:$A$28),VLOOKUP(Data!$B115,tabulka_kce_def,24,FALSE),VLOOKUP(Data!$B115,tabulka_panely_def,33,FALSE))","v":{"$error":"#N/A"}},{"$f":"Konstrukce!$D$1","v":18.770175404064034},{"$f":"Konstrukce!$D$2","v":19.934229593106764},{"$f":"Konstrukce!$G$1","v":-12},{"$f":"IF(Data!$B115<MIN(Panely!$A$9:$A$28),VLOOKUP(Data!$B115,tabulka_kce_def,59,FALSE),VLOOKUP(Data!$B115,tabulka_panely_def,63,FALSE))","v":""},{"$f":"IF(Data!$B115<MIN(Panely!$A$9:$A$28),VLOOKUP(Data!$B115,tabulka_kce_def,60,FALSE),VLOOKUP(Data!$B115,tabulka_panely_def,64,FALSE))","v":""},{"$f":"IF(Data!$B115<MIN(Panely!$A$9:$A$28),VLOOKUP(Data!$B115,tabulka_kce_def,61,FALSE),VLOOKUP(Data!$B115,tabulka_panely_def,65,FALSE))","v":""},{"$f":"IF(Data!$B115<MIN(Panely!$A$9:$A$28),VLOOKUP(Data!$B115,tabulka_kce_def,25,FALSE),0)","v":0},0,null,null,null,null,"=",{"$f":"IF(Data!$W115<MIN(Panely!$A$9:$A$28),VLOOKUP(Data!$W115,tabulka_kce_def,62,FALSE),VLOOKUP(Data!$W115,tabulka_panely_def,65,FALSE))","v":""},{"$f":"IF(Data!$W115<MIN(Panely!$A$9:$A$28),VLOOKUP(Data!$W115,tabulka_kce_def,Y$1-20,FALSE),VLOOKUP(Data!$W115,tabulka_panely_def,Y$1-18,FALSE))","v":0},{"$f":"IF(Data!$W115<MIN(Panely!$A$9:$A$28),VLOOKUP(Data!$W115,tabulka_kce_def,Z$1-20,FALSE),VLOOKUP(Data!$W115,tabulka_panely_def,Z$1-18,FALSE))","v":0},{"$f":"IF(Data!$W115<MIN(Panely!$A$9:$A$28),VLOOKUP(Data!$W115,tabulka_kce_def,AA$1-20,FALSE),VLOOKUP(Data!$W115,tabulka_panely_def,AA$1-18,FALSE))","v":0},{"$f":"IF(Data!$W115<MIN(Panely!$A$9:$A$28),VLOOKUP(Data!$W115,tabulka_kce_def,AB$1-20,FALSE),VLOOKUP(Data!$W115,tabulka_panely_def,AB$1-18,FALSE))","v":0},{"$f":"IF(Data!$W115<MIN(Panely!$A$9:$A$28),VLOOKUP(Data!$W115,tabulka_kce_def,AC$1-20,FALSE),VLOOKUP(Data!$W115,tabulka_panely_def,AC$1-18,FALSE))","v":0},{"$f":"IF(Data!$W115<MIN(Panely!$A$9:$A$28),VLOOKUP(Data!$W115,tabulka_kce_def,AD$1-20,FALSE),VLOOKUP(Data!$W115,tabulka_panely_def,AD$1-18,FALSE))","v":0},{"$f":"IF(Data!$W115<MIN(Panely!$A$9:$A$28),VLOOKUP(Data!$W115,tabulka_kce_def,AE$1-20,FALSE),VLOOKUP(Data!$W115,tabulka_panely_def,AE$1-18,FALSE))","v":0},{"$f":"IF(Data!$W115<MIN(Panely!$A$9:$A$28),VLOOKUP(Data!$W115,tabulka_kce_def,AF$1-20,FALSE),VLOOKUP(Data!$W115,tabulka_panely_def,AF$1-18,FALSE))","v":0},{"$f":"IF(Data!$W115<MIN(Panely!$A$9:$A$28),VLOOKUP(Data!$W115,tabulka_kce_def,AG$1-20,FALSE),VLOOKUP(Data!$W115,tabulka_panely_def,AG$1-18,FALSE))","v":0},{"$f":"IF(Data!$W115<MIN(Panely!$A$9:$A$28),VLOOKUP(Data!$W115,tabulka_kce_def,AH$1-20,FALSE),VLOOKUP(Data!$W115,tabulka_panely_def,AH$1-18,FALSE))","v":0},{"$f":"IF(Data!$W115<MIN(Panely!$A$9:$A$28),VLOOKUP(Data!$W115,tabulka_kce_def,AI$1-20,FALSE),VLOOKUP(Data!$W115,tabulka_panely_def,AI$1-18,FALSE))","v":0},{"$f":"IF(Data!$W115<MIN(Panely!$A$9:$A$28),VLOOKUP(Data!$W115,tabulka_kce_def,AJ$1-20,FALSE),VLOOKUP(Data!$W115,tabulka_panely_def,AJ$1-18,FALSE))","v":0},{"$f":"IF(Data!$W115<MIN(Panely!$A$9:$A$28),VLOOKUP(Data!$W115,tabulka_kce_def,AK$1-20,FALSE),VLOOKUP(Data!$W115,tabulka_panely_def,AK$1-18,FALSE))","v":0},{"$f":"IF(Data!$W115<MIN(Panely!$A$9:$A$28),VLOOKUP(Data!$W115,tabulka_kce_def,AL$1-20,FALSE),VLOOKUP(Data!$W115,tabulka_panely_def,AL$1-18,FALSE))","v":0},{"$f":"IF(Data!$W115<MIN(Panely!$A$9:$A$28),VLOOKUP(Data!$W115,tabulka_kce_def,AM$1-20,FALSE),VLOOKUP(Data!$W115,tabulka_panely_def,AM$1-18,FALSE))","v":0},115,{"$f":"IF(Data!$W115<MIN(Panely!$A$9:$A$28),VLOOKUP(Data!$W115,tabulka_kce_def,63,FALSE),0)","v":0},{"$f":"IF(Data!$W115<MIN(Panely!$A$9:$A$28),VLOOKUP(Data!$W115,tabulka_kce_def,28,FALSE),1)","v":1},{"$f":"IF(Data!$W115<MIN(Panely!$A$9:$A$28),VLOOKUP(Data!$W115,tabulka_kce_def,23,FALSE),VLOOKUP(Data!$W115,tabulka_panely_def,24,FALSE))","v":0},null,0,null,0,0,{"$error":"#N/A"},0,{"$f":"IF(AND(W115>MAX(Konstrukce!A:A),ISNUMBER(W115)),1,0)","v":0}]
[null,"=",{"$f":"IF(Data!$B116<MIN(Panely!$A$9:$A$28),VLOOKUP(Data!$B116,tabulka_kce_def,4,FALSE),VLOOKUP(Data!$B116,tabulka_panely_def,4,FALSE))","v":0},{"$f":"IF(Data!$B116<MIN(Panely!$A$9:$A$28),VLOOKUP(Data!$B116,tabulka_kce_def,23,FALSE),VLOOKUP(Data!$B116,tabulka_panely_def,24,FALSE))","v":0},{"$f":"IF(Data!$B116<MIN(Panely!$A$9:$A$28),VLOOKUP(Data!$B116,tabulka_kce_def,21,FALSE),VLOOKUP(Data!$B116,tabulka_panely_def,22,FALSE))","v":0},{"$f":"IF(Data!$B116<MIN(Panely!$A$9:$A$28),VLOOKUP(Data!$B116,tabulka_kce_def,26,FALSE),VLOOKUP(Data!$B116,tabulka_panely_def,31,FALSE))","v":{"$error":"#DIV/0!"}},{"$f":"IF(Data!$B116<MIN(Panely!$A$9:$A$28),VLOOKUP(Data!$B116,tabulka_kce_def,27,FALSE),VLOOKUP(Data!$B116,tabulka_panely_def,32,FALSE))","v":{"$error":"#DIV/0!"}},{"$f":"IF(VLOOKUP(Data!$B116,tabulka_kce_def,3,FALSE)=\"\",Konstrukce!$G$1,IF(VLOOKUP(Data!$B116,tabulka_kce_def,3,FALSE)=\"z\",Konstrukce!$G$2,VLOOKUP(Data!$B116,tabulka_kce_def,3,FALSE)))","v":{"$error":"#N/A"}},{"$f":"IF(Data!$B116<MIN(Panely!$A$9:$A$28),0,VLOOKUP(Data!$B116,tabulka_panely_def,25,FALSE))","v":0},{"$f":"IF(Data!$B116<MIN(Panely!$A$9:$A$28),VLOOKUP(Data!$B116,tabulka_kce_def,24,FALSE),VLOOKUP(Data!$B116,tabulka_panely_def,33,FALSE))","v":{"$error":"#N/A"}},{"$f":"Konstrukce!$D$1","v":18.770175404064034},{"$f":"Konstrukce!$D$2","v":19.934229593106764},{"$f":"Konstrukce!$G$1","v":-12},{"$f":"IF(Data!$B116<MIN(Panely!$A$9:$A$28),VLOOKUP(Data!$B116,tabulka_kce_def,59,FALSE),VLOOKUP(Data!$B116,tabulka_panely_def,63,FALSE))","v":""},{"$f":"IF(Data!$B116<MIN(Panely!$A$9:$A$28),VLOOKUP(Data!$B116,tabulka_kce_def,60,FALSE),VLOOKUP(Data!$B116,tabulka_panely_def,64,FALSE))","v":""},{"$f":"IF(Data!$B116<MIN(Panely!$A$9:$A$28),VLOOKUP(Data!$B116,tabulka_kce_def,61,FALSE),VLOOKUP(Data!$B116,tabulka_panely_def,65,FALSE))","v":""},{"$f":"IF(Data!$B116<MIN(Panely!$A$9:$A$28),VLOOKUP(Data!$B116,tabulka_kce_def,25,FALSE),0)","v":0},0,null,null,null,null,"=",{"$f":"IF(Data!$W116<MIN(Panely!$A$9:$A$28),VLOOKUP(Data!$W116,tabulka_kce_def,62,FALSE),VLOOKUP(Data!$W116,tabulka_panely_def,65,FALSE))","v":""},{"$f":"IF(Data!$W116<MIN(Panely!$A$9:$A$28),VLOOKUP(Data!$W116,tabulka_kce_def,Y$1-20,FALSE),VLOOKUP(Data!$W116,tabulka_panely_def,Y$1-18,FALSE))","v":0},{"$f":"IF(Data!$W116<MIN(Panely!$A$9:$A$28),VLOOKUP(Data!$W116,tabulka_kce_def,Z$1-20,FALSE),VLOOKUP(Data!$W116,tabulka_panely_def,Z$1-18,FALSE))","v":0},{"$f":"IF(Data!$W116<MIN(Panely!$A$9:$A$28),VLOOKUP(Data!$W116,tabulka_kce_def,AA$1-20,FALSE),VLOOKUP(Data!$W116,tabulka_panely_def,AA$1-18,FALSE))","v":0},{"$f":"IF(Data!$W116<MIN(Panely!$A$9:$A$28),VLOOKUP(Data!$W116,tabulka_kce_def,AB$1-20,FALSE),VLOOKUP(Data!$W116,tabulka_panely_def,AB$1-18,FALSE))","v":0},{"$f":"IF(Data!$W116<MIN(Panely!$A$9:$A$28),VLOOKUP(Data!$W116,tabulka_kce_def,AC$1-20,FALSE),VLOOKUP(Data!$W116,tabulka_panely_def,AC$1-18,FALSE))","v":0},{"$f":"IF(Data!$W116<MIN(Panely!$A$9:$A$28),VLOOKUP(Data!$W116,tabulka_kce_def,AD$1-20,FALSE),VLOOKUP(Data!$W116,tabulka_panely_def,AD$1-18,FALSE))","v":0},{"$f":"IF(Data!$W116<MIN(Panely!$A$9:$A$28),VLOOKUP(Data!$W116,tabulka_kce_def,AE$1-20,FALSE),VLOOKUP(Data!$W116,tabulka_panely_def,AE$1-18,FALSE))","v":0},{"$f":"IF(Data!$W116<MIN(Panely!$A$9:$A$28),VLOOKUP(Data!$W116,tabulka_kce_def,AF$1-20,FALSE),VLOOKUP(Data!$W116,tabulka_panely_def,AF$1-18,FALSE))","v":0},{"$f":"IF(Data!$W116<MIN(Panely!$A$9:$A$28),VLOOKUP(Data!$W116,tabulka_kce_def,AG$1-20,FALSE),VLOOKUP(Data!$W116,tabulka_panely_def,AG$1-18,FALSE))","v":0},{"$f":"IF(Data!$W116<MIN(Panely!$A$9:$A$28),VLOOKUP(Data!$W116,tabulka_kce_def,AH$1-20,FALSE),VLOOKUP(Data!$W116,tabulka_panely_def,AH$1-18,FALSE))","v":0},{"$f":"IF(Data!$W116<MIN(Panely!$A$9:$A$28),VLOOKUP(Data!$W116,tabulka_kce_def,AI$1-20,FALSE),VLOOKUP(Data!$W116,tabulka_panely_def,AI$1-18,FALSE))","v":0},{"$f":"IF(Data!$W116<MIN(Panely!$A$9:$A$28),VLOOKUP(Data!$W116,tabulka_kce_def,AJ$1-20,FALSE),VLOOKUP(Data!$W116,tabulka_panely_def,AJ$1-18,FALSE))","v":0},{"$f":"IF(Data!$W116<MIN(Panely!$A$9:$A$28),VLOOKUP(Data!$W116,tabulka_kce_def,AK$1-20,FALSE),VLOOKUP(Data!$W116,tabulka_panely_def,AK$1-18,FALSE))","v":0},{"$f":"IF(Data!$W116<MIN(Panely!$A$9:$A$28),VLOOKUP(Data!$W116,tabulka_kce_def,AL$1-20,FALSE),VLOOKUP(Data!$W116,tabulka_panely_def,AL$1-18,FALSE))","v":0},{"$f":"IF(Data!$W116<MIN(Panely!$A$9:$A$28),VLOOKUP(Data!$W116,tabulka_kce_def,AM$1-20,FALSE),VLOOKUP(Data!$W116,tabulka_panely_def,AM$1-18,FALSE))","v":0},116,{"$f":"IF(Data!$W116<MIN(Panely!$A$9:$A$28),VLOOKUP(Data!$W116,tabulka_kce_def,63,FALSE),0)","v":0},{"$f":"IF(Data!$W116<MIN(Panely!$A$9:$A$28),VLOOKUP(Data!$W116,tabulka_kce_def,28,FALSE),1)","v":1},{"$f":"IF(Data!$W116<MIN(Panely!$A$9:$A$28),VLOOKUP(Data!$W116,tabulka_kce_def,23,FALSE),VLOOKUP(Data!$W116,tabulka_panely_def,24,FALSE))","v":0},null,0,null,0,0,{"$error":"#N/A"},0,{"$f":"IF(AND(W116>MAX(Konstrukce!A:A),ISNUMBER(W116)),1,0)","v":0}]
[null,"=",{"$f":"IF(Data!$B117<MIN(Panely!$A$9:$A$28),VLOOKUP(Data!$B117,tabulka_kce_def,4,FALSE),VLOOKUP(Data!$B117,tabulka_panely_def,4,FALSE))","v":0},{"$f":"IF(Data!$B117<MIN(Panely!$A$9:$A$28),VLOOKUP(Data!$B117,tabulka_kce_def,23,FALSE),VLOOKUP(Data!$B117,tabulka_panely_def,24,FALSE))","v":0},{"$f":"IF(Data!$B117<MIN(Panely!$A$9:$A$28),VLOOKUP(Data!$B117,tabulka_kce_def,21,FALSE),VLOOKUP(Data!$B117,tabulka_panely_def,22,FALSE))","v":0},{"$f":"IF(Data!$B117<MIN(Panely!$A$9:$A$28),VLOOKUP(Data!$B117,tabulka_kce_def,26,FALSE),VLOOKUP(Data!$B117,tabulka_panely_def,31,FALSE))","v":{"$error":"#DIV/0!"}},{"$f":"IF(Data!$B117<MIN(Panely!$A$9:$A$28),VLOOKUP(Data!$B117,tabulka_kce_def,27,FALSE),VLOOKUP(Data!$B117,tabulka_panely_def,32,FALSE))","v":{"$error":"#DIV/0!"}},{"$f":"IF(VLOOKUP(Data!$B117,tabulka_kce_def,3,FALSE)=\"\",Konstrukce!$G$1,IF(VLOOKUP(Data!$B117,tabulka_kce_def,3,FALSE)=\"z\",Konstrukce!$G$2,VLOOKUP(Data!$B117,tabulka_kce_def,3,FALSE)))","v":{"$error":"#N/A"}},{"$f":"IF(Data!$B117<MIN(Panely!$A$9:$A$28),0,VLOOKUP(Data!$B117,tabulka_panely_def,25,FALSE))","v":0},{"$f":"IF(Data!$B117<MIN(Panely!$A$9:$A$28),VLOOKUP(Data!$B117,tabulka_kce_def,24,FALSE),VLOOKUP(Data!$B117,tabulka_panely_def,33,FALSE))","v":{"$error":"#N/A"}},{"$f":"Konstrukce!$D$1","v":18.770175404064034},{"$f":"Konstrukce!$D$2","v":19.934229593106764},{"$f":"Konstrukce!$G$1","v":-12},{"$f":"IF(Data!$B117<MIN(Panely!$A$9:$A$28),VLOOKUP(Data!$B117,tabulka_kce_def,59,FALSE),VLOOKUP(Data!$B117,tabulka_panely_def,63,FALSE))","v":""},{"$f":"IF(Data!$B117<MIN(Panely!$A$9:$A$28),VLOOKUP(Data!$B117,tabulka_kce_def,60,FALSE),VLOOKUP(Data!$B117,tabulka_panely_def,64,FALSE))","v":""},{"$f":"IF(Data!$B117<MIN(Panely!$A$9:$A$28),VLOOKUP(Data!$B117,tabulka_kce_def,61,FALSE),VLOOKUP(Data!$B117,tabulka_panely_def,65,FALSE))","v":""},{"$f":"IF(Data!$B117<MIN(Panely!$A$9:$A$28),VLOOKUP(Data!$B117,tabulka_kce_def,25,FALSE),0)","v":0},0,null,null,null,null,"=",{"$f":"IF(Data!$W117<MIN(Panely!$A$9:$A$28),VLOOKUP(Data!$W117,tabulka_kce_def,62,FALSE),VLOOKUP(Data!$W117,tabulka_panely_def,65,FALSE))","v":""},{"$f":"IF(Data!$W117<MIN(Panely!$A$9:$A$28),VLOOKUP(Data!$W117,tabulka_kce_def,Y$1-20,FALSE),VLOOKUP(Data!$W117,tabulka_panely_def,Y$1-18,FALSE))","v":0},{"$f":"IF(Data!$W117<MIN(Panely!$A$9:$A$28),VLOOKUP(Data!$W117,tabulka_kce_def,Z$1-20,FALSE),VLOOKUP(Data!$W117,tabulka_panely_def,Z$1-18,FALSE))","v":0},{"$f":"IF(Data!$W117<MIN(Panely!$A$9:$A$28),VLOOKUP(Data!$W117,tabulka_kce_def,AA$1-20,FALSE),VLOOKUP(Data!$W117,tabulka_panely_def,AA$1-18,FALSE))","v":0},{"$f":"IF(Data!$W117<MIN(Panely!$A$9:$A$28),VLOOKUP(Data!$W117,tabulka_kce_def,AB$1-20,FALSE),VLOOKUP(Data!$W117,tabulka_panely_def,AB$1-18,FALSE))","v":0},{"$f":"IF(Data!$W117<MIN(Panely!$A$9:$A$28),VLOOKUP(Data!$W117,tabulka_kce_def,AC$1-20,FALSE),VLOOKUP(Data!$W117,tabulka_panely_def,AC$1-18,FALSE))","v":0},{"$f":"IF(Data!$W117<MIN(Panely!$A$9:$A$28),VLOOKUP(Data!$W117,tabulka_kce_def,AD$1-20,FALSE),VLOOKUP(Data!$W117,tabulka_panely_def,AD$1-18,FALSE))","v":0},{"$f":"IF(Data!$W117<MIN(Panely!$A$9:$A$28),VLOOKUP(Data!$W117,tabulka_kce_def,AE$1-20,FALSE),VLOOKUP(Data!$W117,tabulka_panely_def,AE$1-18,FALSE))","v":0},{"$f":"IF(Data!$W117<MIN(Panely!$A$9:$A$28),VLOOKUP(Data!$W117,tabulka_kce_def,AF$1-20,FALSE),VLOOKUP(Data!$W117,tabulka_panely_def,AF$1-18,FALSE))","v":0},{"$f":"IF(Data!$W117<MIN(Panely!$A$9:$A$28),VLOOKUP(Data!$W117,tabulka_kce_def,AG$1-20,FALSE),VLOOKUP(Data!$W117,tabulka_panely_def,AG$1-18,FALSE))","v":0},{"$f":"IF(Data!$W117<MIN(Panely!$A$9:$A$28),VLOOKUP(Data!$W117,tabulka_kce_def,AH$1-20,FALSE),VLOOKUP(Data!$W117,tabulka_panely_def,AH$1-18,FALSE))","v":0},{"$f":"IF(Data!$W117<MIN(Panely!$A$9:$A$28),VLOOKUP(Data!$W117,tabulka_kce_def,AI$1-20,FALSE),VLOOKUP(Data!$W117,tabulka_panely_def,AI$1-18,FALSE))","v":0},{"$f":"IF(Data!$W117<MIN(Panely!$A$9:$A$28),VLOOKUP(Data!$W117,tabulka_kce_def,AJ$1-20,FALSE),VLOOKUP(Data!$W117,tabulka_panely_def,AJ$1-18,FALSE))","v":0},{"$f":"IF(Data!$W117<MIN(Panely!$A$9:$A$28),VLOOKUP(Data!$W117,tabulka_kce_def,AK$1-20,FALSE),VLOOKUP(Data!$W117,tabulka_panely_def,AK$1-18,FALSE))","v":0},{"$f":"IF(Data!$W117<MIN(Panely!$A$9:$A$28),VLOOKUP(Data!$W117,tabulka_kce_def,AL$1-20,FALSE),VLOOKUP(Data!$W117,tabulka_panely_def,AL$1-18,FALSE))","v":0},{"$f":"IF(Data!$W117<MIN(Panely!$A$9:$A$28),VLOOKUP(Data!$W117,tabulka_kce_def,AM$1-20,FALSE),VLOOKUP(Data!$W117,tabulka_panely_def,AM$1-18,FALSE))","v":0},117,{"$f":"IF(Data!$W117<MIN(Panely!$A$9:$A$28),VLOOKUP(Data!$W117,tabulka_kce_def,63,FALSE),0)","v":0},{"$f":"IF(Data!$W117<MIN(Panely!$A$9:$A$28),VLOOKUP(Data!$W117,tabulka_kce_def,28,FALSE),1)","v":1},{"$f":"IF(Data!$W117<MIN(Panely!$A$9:$A$28),VLOOKUP(Data!$W117,tabulka_kce_def,23,FALSE),VLOOKUP(Data!$W117,tabulka_panely_def,24,FALSE))","v":0},null,0,null,0,0,{"$error":"#N/A"},0,{"$f":"IF(AND(W117>MAX(Konstrukce!A:A),ISNUMBER(W117)),1,0)","v":0}]
[null,"=",{"$f":"IF(Data!$B118<MIN(Panely!$A$9:$A$28),VLOOKUP(Data!$B118,tabulka_kce_def,4,FALSE),VLOOKUP(Data!$B118,tabulka_panely_def,4,FALSE))","v":0},{"$f":"IF(Data!$B118<MIN(Panely!$A$9:$A$28),VLOOKUP(Data!$B118,tabulka_kce_def,23,FALSE),VLOOKUP(Data!$B118,tabulka_panely_def,24,FALSE))","v":0},{"$f":"IF(Data!$B118<MIN(Panely!$A$9:$A$28),VLOOKUP(Data!$B118,tabulka_kce_def,21,FALSE),VLOOKUP(Data!$B118,tabulka_panely_def,22,FALSE))","v":0},{"$f":"IF(Data!$B118<MIN(Panely!$A$9:$A$28),VLOOKUP(Data!$B118,tabulka_kce_def,26,FALSE),VLOOKUP(Data!$B118,tabulka_panely_def,31,FALSE))","v":{"$error":"#DIV/0!"}},{"$f":"IF(Data!$B118<MIN(Panely!$A$9:$A$28),VLOOKUP(Data!$B118,tabulka_kce_def,27,FALSE),VLOOKUP(Data!$B118,tabulka_panely_def,32,FALSE))","v":{"$error":"#DIV/0!"}},{"$f":"IF(VLOOKUP(Data!$B118,tabulka_kce_def,3,FALSE)=\"\",Konstrukce!$G$1,IF(VLOOKUP(Data!$B118,tabulka_kce_def,3,FALSE)=\"z\",Konstrukce!$G$2,VLOOKUP(Data!$B118,tabulka_kce_def,3,FALSE)))","v":{"$error":"#N/A"}},{"$f":"IF(Data!$B118<MIN(Panely!$A$9:$A$28),0,VLOOKUP(Data!$B118,tabulka_panely_def,25,FALSE))","v":0},{"$f":"IF(Data!$B118<MIN(Panely!$A$9:$A$28),VLOOKUP(Data!$B118,tabulka_kce_def,24,FALSE),VLOOKUP(Data!$B118,tabulka_panely_def,33,FALSE))","v":{"$error":"#N/A"}},{"$f":"Konstrukce!$D$1","v":18.770175404064034},{"$f":"Konstrukce!$D$2","v":19.934229593106764},{"$f":"Konstrukce!$G$1","v":-12},{"$f":"IF(Data!$B118<MIN(Panely!$A$9:$A$28),VLOOKUP(Data!$B118,tabulka_kce_def,59,FALSE),VLOOKUP(Data!$B118,tabulka_panely_def,63,FALSE))","v":""},{"$f":"IF(Data!$B118<MIN(Panely!$A$9:$A$28),VLOOKUP(Data!$B118,tabulka_kce_def,60,FALSE),VLOOKUP(Data!$B118,tabulka_panely_def,64,FALSE))","v":""},{"$f":"IF(Data!$B118<MIN(Panely!$A$9:$A$28),VLOOKUP(Data!$B118,tabulka_kce_def,61,FALSE),VLOOKUP(Data!$B118,tabulka_panely_def,65,FALSE))","v":""},{"$f":"IF(Data!$B118<MIN(Panely!$A$9:$A$28),VLOOKUP(Data!$B118,tabulka_kce_def,25,FALSE),0)","v":0},0,null,null,null,null,"=",{"$f":"IF(Data!$W118<MIN(Panely!$A$9:$A$28),VLOOKUP(Data!$W118,tabulka_kce_def,62,FALSE),VLOOKUP(Data!$W118,tabulka_panely_def,65,FALSE))","v":""},{"$f":"IF(Data!$W118<MIN(Panely!$A$9:$A$28),VLOOKUP(Data!$W118,tabulka_kce_def,Y$1-20,FALSE),VLOOKUP(Data!$W118,tabulka_panely_def,Y$1-18,FALSE))","v":0},{"$f":"IF(Data!$W118<MIN(Panely!$A$9:$A$28),VLOOKUP(Data!$W118,tabulka_kce_def,Z$1-20,FALSE),VLOOKUP(Data!$W118,tabulka_panely_def,Z$1-18,FALSE))","v":0},{"$f":"IF(Data!$W118<MIN(Panely!$A$9:$A$28),VLOOKUP(Data!$W118,tabulka_kce_def,AA$1-20,FALSE),VLOOKUP(Data!$W118,tabulka_panely_def,AA$1-18,FALSE))","v":0},{"$f":"IF(Data!$W118<MIN(Panely!$A$9:$A$28),VLOOKUP(Data!$W118,tabulka_kce_def,AB$1-20,FALSE),VLOOKUP(Data!$W118,tabulka_panely_def,AB$1-18,FALSE))","v":0},{"$f":"IF(Data!$W118<MIN(Panely!$A$9:$A$28),VLOOKUP(Data!$W118,tabulka_kce_def,AC$1-20,FALSE),VLOOKUP(Data!$W118,tabulka_panely_def,AC$1-18,FALSE))","v":0},{"$f":"IF(Data!$W118<MIN(Panely!$A$9:$A$28),VLOOKUP(Data!$W118,tabulka_kce_def,AD$1-20,FALSE),VLOOKUP(Data!$W118,tabulka_panely_def,AD$1-18,FALSE))","v":0},{"$f":"IF(Data!$W118<MIN(Panely!$A$9:$A$28),VLOOKUP(Data!$W118,tabulka_kce_def,AE$1-20,FALSE),VLOOKUP(Data!$W118,tabulka_panely_def,AE$1-18,FALSE))","v":0},{"$f":"IF(Data!$W118<MIN(Panely!$A$9:$A$28),VLOOKUP(Data!$W118,tabulka_kce_def,AF$1-20,FALSE),VLOOKUP(Data!$W118,tabulka_panely_def,AF$1-18,FALSE))","v":0},{"$f":"IF(Data!$W118<MIN(Panely!$A$9:$A$28),VLOOKUP(Data!$W118,tabulka_kce_def,AG$1-20,FALSE),VLOOKUP(Data!$W118,tabulka_panely_def,AG$1-18,FALSE))","v":0},{"$f":"IF(Data!$W118<MIN(Panely!$A$9:$A$28),VLOOKUP(Data!$W118,tabulka_kce_def,AH$1-20,FALSE),VLOOKUP(Data!$W118,tabulka_panely_def,AH$1-18,FALSE))","v":0},{"$f":"IF(Data!$W118<MIN(Panely!$A$9:$A$28),VLOOKUP(Data!$W118,tabulka_kce_def,AI$1-20,FALSE),VLOOKUP(Data!$W118,tabulka_panely_def,AI$1-18,FALSE))","v":0},{"$f":"IF(Data!$W118<MIN(Panely!$A$9:$A$28),VLOOKUP(Data!$W118,tabulka_kce_def,AJ$1-20,FALSE),VLOOKUP(Data!$W118,tabulka_panely_def,AJ$1-18,FALSE))","v":0},{"$f":"IF(Data!$W118<MIN(Panely!$A$9:$A$28),VLOOKUP(Data!$W118,tabulka_kce_def,AK$1-20,FALSE),VLOOKUP(Data!$W118,tabulka_panely_def,AK$1-18,FALSE))","v":0},{"$f":"IF(Data!$W118<MIN(Panely!$A$9:$A$28),VLOOKUP(Data!$W118,tabulka_kce_def,AL$1-20,FALSE),VLOOKUP(Data!$W118,tabulka_panely_def,AL$1-18,FALSE))","v":0},{"$f":"IF(Data!$W118<MIN(Panely!$A$9:$A$28),VLOOKUP(Data!$W118,tabulka_kce_def,AM$1-20,FALSE),VLOOKUP(Data!$W118,tabulka_panely_def,AM$1-18,FALSE))","v":0},118,{"$f":"IF(Data!$W118<MIN(Panely!$A$9:$A$28),VLOOKUP(Data!$W118,tabulka_kce_def,63,FALSE),0)","v":0},{"$f":"IF(Data!$W118<MIN(Panely!$A$9:$A$28),VLOOKUP(Data!$W118,tabulka_kce_def,28,FALSE),1)","v":1},{"$f":"IF(Data!$W118<MIN(Panely!$A$9:$A$28),VLOOKUP(Data!$W118,tabulka_kce_def,23,FALSE),VLOOKUP(Data!$W118,tabulka_panely_def,24,FALSE))","v":0},null,0,null,0,0,{"$error":"#N/A"},0,{"$f":"IF(AND(W118>MAX(Konstrukce!A:A),ISNUMBER(W118)),1,0)","v":0}]
[null,"=",{"$f":"IF(Data!$B119<MIN(Panely!$A$9:$A$28),VLOOKUP(Data!$B119,tabulka_kce_def,4,FALSE),VLOOKUP(Data!$B119,tabulka_panely_def,4,FALSE))","v":0},{"$f":"IF(Data!$B119<MIN(Panely!$A$9:$A$28),VLOOKUP(Data!$B119,tabulka_kce_def,23,FALSE),VLOOKUP(Data!$B119,tabulka_panely_def,24,FALSE))","v":0},{"$f":"IF(Data!$B119<MIN(Panely!$A$9:$A$28),VLOOKUP(Data!$B119,tabulka_kce_def,21,FALSE),VLOOKUP(Data!$B119,tabulka_panely_def,22,FALSE))","v":0},{"$f":"IF(Data!$B119<MIN(Panely!$A$9:$A$28),VLOOKUP(Data!$B119,tabulka_kce_def,26,FALSE),VLOOKUP(Data!$B119,tabulka_panely_def,31,FALSE))","v":{"$error":"#DIV/0!"}},{"$f":"IF(Data!$B119<MIN(Panely!$A$9:$A$28),VLOOKUP(Data!$B119,tabulka_kce_def,27,FALSE),VLOOKUP(Data!$B119,tabulka_panely_def,32,FALSE))","v":{"$error":"#DIV/0!"}},{"$f":"IF(VLOOKUP(Data!$B119,tabulka_kce_def,3,FALSE)=\"\",Konstrukce!$G$1,IF(VLOOKUP(Data!$B119,tabulka_kce_def,3,FALSE)=\"z\",Konstrukce!$G$2,VLOOKUP(Data!$B119,tabulka_kce_def,3,FALSE)))","v":{"$error":"#N/A"}},{"$f":"IF(Data!$B119<MIN(Panely!$A$9:$A$28),0,VLOOKUP(Data!$B119,tabulka_panely_def,25,FALSE))","v":0},{"$f":"IF(Data!$B119<MIN(Panely!$A$9:$A$28),VLOOKUP(Data!$B119,tabulka_kce_def,24,FALSE),VLOOKUP(Data!$B119,tabulka_panely_def,33,FALSE))","v":{"$error":"#N/A"}},{"$f":"Konstrukce!$D$1","v":18.770175404064034},{"$f":"Konstrukce!$D$2","v":19.934229593106764},{"$f":"Konstrukce!$G$1","v":-12},{"$f":"IF(Data!$B119<MIN(Panely!$A$9:$A$28),VLOOKUP(Data!$B119,tabulka_kce_def,59,FALSE),VLOOKUP(Data!$B119,tabulka_panely_def,63,FALSE))","v":""},{"$f":"IF(Data!$B119<MIN(Panely!$A$9:$A$28),VLOOKUP(Data!$B119,tabulka_kce_def,60,FALSE),VLOOKUP(Data!$B119,tabulka_panely_def,64,FALSE))","v":""},{"$f":"IF(Data!$B119<MIN(Panely!$A$9:$A$28),VLOOKUP(Data!$B119,tabulka_kce_def,61,FALSE),VLOOKUP(Data!$B119,tabulka_panely_def,65,FALSE))","v":""},{"$f":"IF(Data!$B119<MIN(Panely!$A$9:$A$28),VLOOKUP(Data!$B119,tabulka_kce_def,25,FALSE),0)","v":0},0,null,null,null,null,"=",{"$f":"IF(Data!$W119<MIN(Panely!$A$9:$A$28),VLOOKUP(Data!$W119,tabulka_kce_def,62,FALSE),VLOOKUP(Data!$W119,tabulka_panely_def,65,FALSE))","v":""},{"$f":"IF(Data!$W119<MIN(Panely!$A$9:$A$28),VLOOKUP(Data!$W119,tabulka_kce_def,Y$1-20,FALSE),VLOOKUP(Data!$W119,tabulka_panely_def,Y$1-18,FALSE))","v":0},{"$f":"IF(Data!$W119<MIN(Panely!$A$9:$A$28),VLOOKUP(Data!$W119,tabulka_kce_def,Z$1-20,FALSE),VLOOKUP(Data!$W119,tabulka_panely_def,Z$1-18,FALSE))","v":0},{"$f":"IF(Data!$W119<MIN(Panely!$A$9:$A$28),VLOOKUP(Data!$W119,tabulka_kce_def,AA$1-20,FALSE),VLOOKUP(Data!$W119,tabulka_panely_def,AA$1-18,FALSE))","v":0},{"$f":"IF(Data!$W119<MIN(Panely!$A$9:$A$28),VLOOKUP(Data!$W119,tabulka_kce_def,AB$1-20,FALSE),VLOOKUP(Data!$W119,tabulka_panely_def,AB$1-18,FALSE))","v":0},{"$f":"IF(Data!$W119<MIN(Panely!$A$9:$A$28),VLOOKUP(Data!$W119,tabulka_kce_def,AC$1-20,FALSE),VLOOKUP(Data!$W119,tabulka_panely_def,AC$1-18,FALSE))","v":0},{"$f":"IF(Data!$W119<MIN(Panely!$A$9:$A$28),VLOOKUP(Data!$W119,tabulka_kce_def,AD$1-20,FALSE),VLOOKUP(Data!$W119,tabulka_panely_def,AD$1-18,FALSE))","v":0},{"$f":"IF(Data!$W119<MIN(Panely!$A$9:$A$28),VLOOKUP(Data!$W119,tabulka_kce_def,AE$1-20,FALSE),VLOOKUP(Data!$W119,tabulka_panely_def,AE$1-18,FALSE))","v":0},{"$f":"IF(Data!$W119<MIN(Panely!$A$9:$A$28),VLOOKUP(Data!$W119,tabulka_kce_def,AF$1-20,FALSE),VLOOKUP(Data!$W119,tabulka_panely_def,AF$1-18,FALSE))","v":0},{"$f":"IF(Data!$W119<MIN(Panely!$A$9:$A$28),VLOOKUP(Data!$W119,tabulka_kce_def,AG$1-20,FALSE),VLOOKUP(Data!$W119,tabulka_panely_def,AG$1-18,FALSE))","v":0},{"$f":"IF(Data!$W119<MIN(Panely!$A$9:$A$28),VLOOKUP(Data!$W119,tabulka_kce_def,AH$1-20,FALSE),VLOOKUP(Data!$W119,tabulka_panely_def,AH$1-18,FALSE))","v":0},{"$f":"IF(Data!$W119<MIN(Panely!$A$9:$A$28),VLOOKUP(Data!$W119,tabulka_kce_def,AI$1-20,FALSE),VLOOKUP(Data!$W119,tabulka_panely_def,AI$1-18,FALSE))","v":0},{"$f":"IF(Data!$W119<MIN(Panely!$A$9:$A$28),VLOOKUP(Data!$W119,tabulka_kce_def,AJ$1-20,FALSE),VLOOKUP(Data!$W119,tabulka_panely_def,AJ$1-18,FALSE))","v":0},{"$f":"IF(Data!$W119<MIN(Panely!$A$9:$A$28),VLOOKUP(Data!$W119,tabulka_kce_def,AK$1-20,FALSE),VLOOKUP(Data!$W119,tabulka_panely_def,AK$1-18,FALSE))","v":0},{"$f":"IF(Data!$W119<MIN(Panely!$A$9:$A$28),VLOOKUP(Data!$W119,tabulka_kce_def,AL$1-20,FALSE),VLOOKUP(Data!$W119,tabulka_panely_def,AL$1-18,FALSE))","v":0},{"$f":"IF(Data!$W119<MIN(Panely!$A$9:$A$28),VLOOKUP(Data!$W119,tabulka_kce_def,AM$1-20,FALSE),VLOOKUP(Data!$W119,tabulka_panely_def,AM$1-18,FALSE))","v":0},119,{"$f":"IF(Data!$W119<MIN(Panely!$A$9:$A$28),VLOOKUP(Data!$W119,tabulka_kce_def,63,FALSE),0)","v":0},{"$f":"IF(Data!$W119<MIN(Panely!$A$9:$A$28),VLOOKUP(Data!$W119,tabulka_kce_def,28,FALSE),1)","v":1},{"$f":"IF(Data!$W119<MIN(Panely!$A$9:$A$28),VLOOKUP(Data!$W119,tabulka_kce_def,23,FALSE),VLOOKUP(Data!$W119,tabulka_panely_def,24,FALSE))","v":0},null,0,null,0,0,{"$error":"#N/A"},0,{"$f":"IF(AND(W119>MAX(Konstrukce!A:A),ISNUMBER(W119)),1,0)","v":0}]
[null,"=",{"$f":"IF(Data!$B120<MIN(Panely!$A$9:$A$28),VLOOKUP(Data!$B120,tabulka_kce_def,4,FALSE),VLOOKUP(Data!$B120,tabulka_panely_def,4,FALSE))","v":0},{"$f":"IF(Data!$B120<MIN(Panely!$A$9:$A$28),VLOOKUP(Data!$B120,tabulka_kce_def,23,FALSE),VLOOKUP(Data!$B120,tabulka_panely_def,24,FALSE))","v":0},{"$f":"IF(Data!$B120<MIN(Panely!$A$9:$A$28),VLOOKUP(Data!$B120,tabulka_kce_def,21,FALSE),VLOOKUP(Data!$B120,tabulka_panely_def,22,FALSE))","v":0},{"$f":"IF(Data!$B120<MIN(Panely!$A$9:$A$28),VLOOKUP(Data!$B120,tabulka_kce_def,26,FALSE),VLOOKUP(Data!$B120,tabulka_panely_def,31,FALSE))","v":{"$error":"#DIV/0!"}},{"$f":"IF(Data!$B120<MIN(Panely!$A$9:$A$28),VLOOKUP(Data!$B120,tabulka_kce_def,27,FALSE),VLOOKUP(Data!$B120,tabulka_panely_def,32,FALSE))","v":{"$error":"#DIV/0!"}},{"$f":"IF(VLOOKUP(Data!$B120,tabulka_kce_def,3,FALSE)=\"\",Konstrukce!$G$1,IF(VLOOKUP(Data!$B120,tabulka_kce_def,3,FALSE)=\"z\",Konstrukce!$G$2,VLOOKUP(Data!$B120,tabulka_kce_def,3,FALSE)))","v":{"$error":"#N/A"}},{"$f":"IF(Data!$B120<MIN(Panely!$A$9:$A$28),0,VLOOKUP(Data!$B120,tabulka_panely_def,25,FALSE))","v":0},{"$f":"IF(Data!$B120<MIN(Panely!$A$9:$A$28),VLOOKUP(Data!$B120,tabulka_kce_def,24,FALSE),VLOOKUP(Data!$B120,tabulka_panely_def,33,FALSE))","v":{"$error":"#N/A"}},{"$f":"Konstrukce!$D$1","v":18.770175404064034},{"$f":"Konstrukce!$D$2","v":19.934229593106764},{"$f":"Konstrukce!$G$1","v":-12},{"$f":"IF(Data!$B120<MIN(Panely!$A$9:$A$28),VLOOKUP(Data!$B120,tabulka_kce_def,59,FALSE),VLOOKUP(Data!$B120,tabulka_panely_def,63,FALSE))","v":""},{"$f":"IF(Data!$B120<MIN(Panely!$A$9:$A$28),VLOOKUP(Data!$B120,tabulka_kce_def,60,FALSE),VLOOKUP(Data!$B120,tabulka_panely_def,64,FALSE))","v":""},{"$f":"IF(Data!$B120<MIN(Panely!$A$9:$A$28),VLOOKUP(Data!$B120,tabulka_kce_def,61,FALSE),VLOOKUP(Data!$B120,tabulka_panely_def,65,FALSE))","v":""},{"$f":"IF(Data!$B120<MIN(Panely!$A$9:$A$28),VLOOKUP(Data!$B120,tabulka_kce_def,25,FALSE),0)","v":0},0,null,null,null,null,"=",{"$f":"IF(Data!$W120<MIN(Panely!$A$9:$A$28),VLOOKUP(Data!$W120,tabulka_kce_def,62,FALSE),VLOOKUP(Data!$W120,tabulka_panely_def,65,FALSE))","v":""},{"$f":"IF(Data!$W120<MIN(Panely!$A$9:$A$28),VLOOKUP(Data!$W120,tabulka_kce_def,Y$1-20,FALSE),VLOOKUP(Data!$W120,tabulka_panely_def,Y$1-18,FALSE))","v":0},{"$f":"IF(Data!$W120<MIN(Panely!$A$9:$A$28),VLOOKUP(Data!$W120,tabulka_kce_def,Z$1-20,FALSE),VLOOKUP(Data!$W120,tabulka_panely_def,Z$1-18,FALSE))","v":0},{"$f":"IF(Data!$W120<MIN(Panely!$A$9:$A$28),VLOOKUP(Data!$W120,tabulka_kce_def,AA$1-20,FALSE),VLOOKUP(Data!$W120,tabulka_panely_def,AA$1-18,FALSE))","v":0},{"$f":"IF(Data!$W120<MIN(Panely!$A$9:$A$28),VLOOKUP(Data!$W120,tabulka_kce_def,AB$1-20,FALSE),VLOOKUP(Data!$W120,tabulka_panely_def,AB$1-18,FALSE))","v":0},{"$f":"IF(Data!$W120<MIN(Panely!$A$9:$A$28),VLOOKUP(Data!$W120,tabulka_kce_def,AC$1-20,FALSE),VLOOKUP(Data!$W120,tabulka_panely_def,AC$1-18,FALSE))","v":0},{"$f":"IF(Data!$W120<MIN(Panely!$A$9:$A$28),VLOOKUP(Data!$W120,tabulka_kce_def,AD$1-20,FALSE),VLOOKUP(Data!$W120,tabulka_panely_def,AD$1-18,FALSE))","v":0},{"$f":"IF(Data!$W120<MIN(Panely!$A$9:$A$28),VLOOKUP(Data!$W120,tabulka_kce_def,AE$1-20,FALSE),VLOOKUP(Data!$W120,tabulka_panely_def,AE$1-18,FALSE))","v":0},{"$f":"IF(Data!$W120<MIN(Panely!$A$9:$A$28),VLOOKUP(Data!$W120,tabulka_kce_def,AF$1-20,FALSE),VLOOKUP(Data!$W120,tabulka_panely_def,AF$1-18,FALSE))","v":0},{"$f":"IF(Data!$W120<MIN(Panely!$A$9:$A$28),VLOOKUP(Data!$W120,tabulka_kce_def,AG$1-20,FALSE),VLOOKUP(Data!$W120,tabulka_panely_def,AG$1-18,FALSE))","v":0},{"$f":"IF(Data!$W120<MIN(Panely!$A$9:$A$28),VLOOKUP(Data!$W120,tabulka_kce_def,AH$1-20,FALSE),VLOOKUP(Data!$W120,tabulka_panely_def,AH$1-18,FALSE))","v":0},{"$f":"IF(Data!$W120<MIN(Panely!$A$9:$A$28),VLOOKUP(Data!$W120,tabulka_kce_def,AI$1-20,FALSE),VLOOKUP(Data!$W120,tabulka_panely_def,AI$1-18,FALSE))","v":0},{"$f":"IF(Data!$W120<MIN(Panely!$A$9:$A$28),VLOOKUP(Data!$W120,tabulka_kce_def,AJ$1-20,FALSE),VLOOKUP(Data!$W120,tabulka_panely_def,AJ$1-18,FALSE))","v":0},{"$f":"IF(Data!$W120<MIN(Panely!$A$9:$A$28),VLOOKUP(Data!$W120,tabulka_kce_def,AK$1-20,FALSE),VLOOKUP(Data!$W120,tabulka_panely_def,AK$1-18,FALSE))","v":0},{"$f":"IF(Data!$W120<MIN(Panely!$A$9:$A$28),VLOOKUP(Data!$W120,tabulka_kce_def,AL$1-20,FALSE),VLOOKUP(Data!$W120,tabulka_panely_def,AL$1-18,FALSE))","v":0},{"$f":"IF(Data!$W120<MIN(Panely!$A$9:$A$28),VLOOKUP(Data!$W120,tabulka_kce_def,AM$1-20,FALSE),VLOOKUP(Data!$W120,tabulka_panely_def,AM$1-18,FALSE))","v":0},120,{"$f":"IF(Data!$W120<MIN(Panely!$A$9:$A$28),VLOOKUP(Data!$W120,tabulka_kce_def,63,FALSE),0)","v":0},{"$f":"IF(Data!$W120<MIN(Panely!$A$9:$A$28),VLOOKUP(Data!$W120,tabulka_kce_def,28,FALSE),1)","v":1},{"$f":"IF(Data!$W120<MIN(Panely!$A$9:$A$28),VLOOKUP(Data!$W120,tabulka_kce_def,23,FALSE),VLOOKUP(Data!$W120,tabulka_panely_def,24,FALSE))","v":0},null,0,null,0,0,{"$error":"#N/A"},0,{"$f":"IF(AND(W120>MAX(Konstrukce!A:A),ISNUMBER(W120)),1,0)","v":0}]
[null,"=",{"$f":"IF(Data!$B121<MIN(Panely!$A$9:$A$28),VLOOKUP(Data!$B121,tabulka_kce_def,4,FALSE),VLOOKUP(Data!$B121,tabulka_panely_def,4,FALSE))","v":0},{"$f":"IF(Data!$B121<MIN(Panely!$A$9:$A$28),VLOOKUP(Data!$B121,tabulka_kce_def,23,FALSE),VLOOKUP(Data!$B121,tabulka_panely_def,24,FALSE))","v":0},{"$f":"IF(Data!$B121<MIN(Panely!$A$9:$A$28),VLOOKUP(Data!$B121,tabulka_kce_def,21,FALSE),VLOOKUP(Data!$B121,tabulka_panely_def,22,FALSE))","v":0},{"$f":"IF(Data!$B121<MIN(Panely!$A$9:$A$28),VLOOKUP(Data!$B121,tabulka_kce_def,26,FALSE),VLOOKUP(Data!$B121,tabulka_panely_def,31,FALSE))","v":{"$error":"#DIV/0!"}},{"$f":"IF(Data!$B121<MIN(Panely!$A$9:$A$28),VLOOKUP(Data!$B121,tabulka_kce_def,27,FALSE),VLOOKUP(Data!$B121,tabulka_panely_def,32,FALSE))","v":{"$error":"#DIV/0!"}},{"$f":"IF(VLOOKUP(Data!$B121,tabulka_kce_def,3,FALSE)=\"\",Konstrukce!$G$1,IF(VLOOKUP(Data!$B121,tabulka_kce_def,3,FALSE)=\"z\",Konstrukce!$G$2,VLOOKUP(Data!$B121,tabulka_kce_def,3,FALSE)))","v":{"$error":"#N/A"}},{"$f":"IF(Data!$B121<MIN(Panely!$A$9:$A$28),0,VLOOKUP(Data!$B121,tabulka_panely_def,25,FALSE))","v":0},{"$f":"IF(Data!$B121<MIN(Panely!$A$9:$A$28),VLOOKUP(Data!$B121,tabulka_kce_def,24,FALSE),VLOOKUP(Data!$B121,tabulka_panely_def,33,FALSE))","v":{"$error":"#N/A"}},{"$f":"Konstrukce!$D$1","v":18.770175404064034},{"$f":"Konstrukce!$D$2","v":19.934229593106764},{"$f":"Konstrukce!$G$1","v":-12},{"$f":"IF(Data!$B121<MIN(Panely!$A$9:$A$28),VLOOKUP(Data!$B121,tabulka_kce_def,59,FALSE),VLOOKUP(Data!$B121,tabulka_panely_def,63,FALSE))","v":""},{"$f":"IF(Data!$B121<MIN(Panely!$A$9:$A$28),VLOOKUP(Data!$B121,tabulka_kce_def,60,FALSE),VLOOKUP(Data!$B121,tabulka_panely_def,64,FALSE))","v":""},{"$f":"IF(Data!$B121<MIN(Panely!$A$9:$A$28),VLOOKUP(Data!$B121,tabulka_kce_def,61,FALSE),VLOOKUP(Data!$B121,tabulka_panely_def,65,FALSE))","v":""},{"$f":"IF(Data!$B121<MIN(Panely!$A$9:$A$28),VLOOKUP(Data!$B121,tabulka_kce_def,25,FALSE),0)","v":0},0,null,null,null,null,"=",{"$f":"IF(Data!$W121<MIN(Panely!$A$9:$A$28),VLOOKUP(Data!$W121,tabulka_kce_def,62,FALSE),VLOOKUP(Data!$W121,tabulka_panely_def,65,FALSE))","v":""},{"$f":"IF(Data!$W121<MIN(Panely!$A$9:$A$28),VLOOKUP(Data!$W121,tabulka_kce_def,Y$1-20,FALSE),VLOOKUP(Data!$W121,tabulka_panely_def,Y$1-18,FALSE))","v":0},{"$f":"IF(Data!$W121<MIN(Panely!$A$9:$A$28),VLOOKUP(Data!$W121,tabulka_kce_def,Z$1-20,FALSE),VLOOKUP(Data!$W121,tabulka_panely_def,Z$1-18,FALSE))","v":0},{"$f":"IF(Data!$W121<MIN(Panely!$A$9:$A$28),VLOOKUP(Data!$W121,tabulka_kce_def,AA$1-20,FALSE),VLOOKUP(Data!$W121,tabulka_panely_def,AA$1-18,FALSE))","v":0},{"$f":"IF(Data!$W121<MIN(Panely!$A$9:$A$28),VLOOKUP(Data!$W121,tabulka_kce_def,AB$1-20,FALSE),VLOOKUP(Data!$W121,tabulka_panely_def,AB$1-18,FALSE))","v":0},{"$f":"IF(Data!$W121<MIN(Panely!$A$9:$A$28),VLOOKUP(Data!$W121,tabulka_kce_def,AC$1-20,FALSE),VLOOKUP(Data!$W121,tabulka_panely_def,AC$1-18,FALSE))","v":0},{"$f":"IF(Data!$W121<MIN(Panely!$A$9:$A$28),VLOOKUP(Data!$W121,tabulka_kce_def,AD$1-20,FALSE),VLOOKUP(Data!$W121,tabulka_panely_def,AD$1-18,FALSE))","v":0},{"$f":"IF(Data!$W121<MIN(Panely!$A$9:$A$28),VLOOKUP(Data!$W121,tabulka_kce_def,AE$1-20,FALSE),VLOOKUP(Data!$W121,tabulka_panely_def,AE$1-18,FALSE))","v":0},{"$f":"IF(Data!$W121<MIN(Panely!$A$9:$A$28),VLOOKUP(Data!$W121,tabulka_kce_def,AF$1-20,FALSE),VLOOKUP(Data!$W121,tabulka_panely_def,AF$1-18,FALSE))","v":0},{"$f":"IF(Data!$W121<MIN(Panely!$A$9:$A$28),VLOOKUP(Data!$W121,tabulka_kce_def,AG$1-20,FALSE),VLOOKUP(Data!$W121,tabulka_panely_def,AG$1-18,FALSE))","v":0},{"$f":"IF(Data!$W121<MIN(Panely!$A$9:$A$28),VLOOKUP(Data!$W121,tabulka_kce_def,AH$1-20,FALSE),VLOOKUP(Data!$W121,tabulka_panely_def,AH$1-18,FALSE))","v":0},{"$f":"IF(Data!$W121<MIN(Panely!$A$9:$A$28),VLOOKUP(Data!$W121,tabulka_kce_def,AI$1-20,FALSE),VLOOKUP(Data!$W121,tabulka_panely_def,AI$1-18,FALSE))","v":0},{"$f":"IF(Data!$W121<MIN(Panely!$A$9:$A$28),VLOOKUP(Data!$W121,tabulka_kce_def,AJ$1-20,FALSE),VLOOKUP(Data!$W121,tabulka_panely_def,AJ$1-18,FALSE))","v":0},{"$f":"IF(Data!$W121<MIN(Panely!$A$9:$A$28),VLOOKUP(Data!$W121,tabulka_kce_def,AK$1-20,FALSE),VLOOKUP(Data!$W121,tabulka_panely_def,AK$1-18,FALSE))","v":0},{"$f":"IF(Data!$W121<MIN(Panely!$A$9:$A$28),VLOOKUP(Data!$W121,tabulka_kce_def,AL$1-20,FALSE),VLOOKUP(Data!$W121,tabulka_panely_def,AL$1-18,FALSE))","v":0},{"$f":"IF(Data!$W121<MIN(Panely!$A$9:$A$28),VLOOKUP(Data!$W121,tabulka_kce_def,AM$1-20,FALSE),VLOOKUP(Data!$W121,tabulka_panely_def,AM$1-18,FALSE))","v":0},121,{"$f":"IF(Data!$W121<MIN(Panely!$A$9:$A$28),VLOOKUP(Data!$W121,tabulka_kce_def,63,FALSE),0)","v":0},{"$f":"IF(Data!$W121<MIN(Panely!$A$9:$A$28),VLOOKUP(Data!$W121,tabulka_kce_def,28,FALSE),1)","v":1},{"$f":"IF(Data!$W121<MIN(Panely!$A$9:$A$28),VLOOKUP(Data!$W121,tabulka_kce_def,23,FALSE),VLOOKUP(Data!$W121,tabulka_panely_def,24,FALSE))","v":0},null,0,null,0,0,{"$error":"#N/A"},0,{"$f":"IF(AND(W121>MAX(Konstrukce!A:A),ISNUMBER(W121)),1,0)","v":0}]
[null,"=",{"$f":"IF(Data!$B122<MIN(Panely!$A$9:$A$28),VLOOKUP(Data!$B122,tabulka_kce_def,4,FALSE),VLOOKUP(Data!$B122,tabulka_panely_def,4,FALSE))","v":0},{"$f":"IF(Data!$B122<MIN(Panely!$A$9:$A$28),VLOOKUP(Data!$B122,tabulka_kce_def,23,FALSE),VLOOKUP(Data!$B122,tabulka_panely_def,24,FALSE))","v":0},{"$f":"IF(Data!$B122<MIN(Panely!$A$9:$A$28),VLOOKUP(Data!$B122,tabulka_kce_def,21,FALSE),VLOOKUP(Data!$B122,tabulka_panely_def,22,FALSE))","v":0},{"$f":"IF(Data!$B122<MIN(Panely!$A$9:$A$28),VLOOKUP(Data!$B122,tabulka_kce_def,26,FALSE),VLOOKUP(Data!$B122,tabulka_panely_def,31,FALSE))","v":{"$error":"#DIV/0!"}},{"$f":"IF(Data!$B122<MIN(Panely!$A$9:$A$28),VLOOKUP(Data!$B122,tabulka_kce_def,27,FALSE),VLOOKUP(Data!$B122,tabulka_panely_def,32,FALSE))","v":{"$error":"#DIV/0!"}},{"$f":"IF(VLOOKUP(Data!$B122,tabulka_kce_def,3,FALSE)=\"\",Konstrukce!$G$1,IF(VLOOKUP(Data!$B122,tabulka_kce_def,3,FALSE)=\"z\",Konstrukce!$G$2,VLOOKUP(Data!$B122,tabulka_kce_def,3,FALSE)))","v":{"$error":"#N/A"}},{"$f":"IF(Data!$B122<MIN(Panely!$A$9:$A$28),0,VLOOKUP(Data!$B122,tabulka_panely_def,25,FALSE))","v":0},{"$f":"IF(Data!$B122<MIN(Panely!$A$9:$A$28),VLOOKUP(Data!$B122,tabulka_kce_def,24,FALSE),VLOOKUP(Data!$B122,tabulka_panely_def,33,FALSE))","v":{"$error":"#N/A"}},{"$f":"Konstrukce!$D$1","v":18.770175404064034},{"$f":"Konstrukce!$D$2","v":19.934229593106764},{"$f":"Konstrukce!$G$1","v":-12},{"$f":"IF(Data!$B122<MIN(Panely!$A$9:$A$28),VLOOKUP(Data!$B122,tabulka_kce_def,59,FALSE),VLOOKUP(Data!$B122,tabulka_panely_def,63,FALSE))","v":""},{"$f":"IF(Data!$B122<MIN(Panely!$A$9:$A$28),VLOOKUP(Data!$B122,tabulka_kce_def,60,FALSE),VLOOKUP(Data!$B122,tabulka_panely_def,64,FALSE))","v":""},{"$f":"IF(Data!$B122<MIN(Panely!$A$9:$A$28),VLOOKUP(Data!$B122,tabulka_kce_def,61,FALSE),VLOOKUP(Data!$B122,tabulka_panely_def,65,FALSE))","v":""},{"$f":"IF(Data!$B122<MIN(Panely!$A$9:$A$28),VLOOKUP(Data!$B122,tabulka_kce_def,25,FALSE),0)","v":0},0,null,null,null,null,"=",{"$f":"IF(Data!$W122<MIN(Panely!$A$9:$A$28),VLOOKUP(Data!$W122,tabulka_kce_def,62,FALSE),VLOOKUP(Data!$W122,tabulka_panely_def,65,FALSE))","v":""},{"$f":"IF(Data!$W122<MIN(Panely!$A$9:$A$28),VLOOKUP(Data!$W122,tabulka_kce_def,Y$1-20,FALSE),VLOOKUP(Data!$W122,tabulka_panely_def,Y$1-18,FALSE))","v":0},{"$f":"IF(Data!$W122<MIN(Panely!$A$9:$A$28),VLOOKUP(Data!$W122,tabulka_kce_def,Z$1-20,FALSE),VLOOKUP(Data!$W122,tabulka_panely_def,Z$1-18,FALSE))","v":0},{"$f":"IF(Data!$W122<MIN(Panely!$A$9:$A$28),VLOOKUP(Data!$W122,tabulka_kce_def,AA$1-20,FALSE),VLOOKUP(Data!$W122,tabulka_panely_def,AA$1-18,FALSE))","v":0},{"$f":"IF(Data!$W122<MIN(Panely!$A$9:$A$28),VLOOKUP(Data!$W122,tabulka_kce_def,AB$1-20,FALSE),VLOOKUP(Data!$W122,tabulka_panely_def,AB$1-18,FALSE))","v":0},{"$f":"IF(Data!$W122<MIN(Panely!$A$9:$A$28),VLOOKUP(Data!$W122,tabulka_kce_def,AC$1-20,FALSE),VLOOKUP(Data!$W122,tabulka_panely_def,AC$1-18,FALSE))","v":0},{"$f":"IF(Data!$W122<MIN(Panely!$A$9:$A$28),VLOOKUP(Data!$W122,tabulka_kce_def,AD$1-20,FALSE),VLOOKUP(Data!$W122,tabulka_panely_def,AD$1-18,FALSE))","v":0},{"$f":"IF(Data!$W122<MIN(Panely!$A$9:$A$28),VLOOKUP(Data!$W122,tabulka_kce_def,AE$1-20,FALSE),VLOOKUP(Data!$W122,tabulka_panely_def,AE$1-18,FALSE))","v":0},{"$f":"IF(Data!$W122<MIN(Panely!$A$9:$A$28),VLOOKUP(Data!$W122,tabulka_kce_def,AF$1-20,FALSE),VLOOKUP(Data!$W122,tabulka_panely_def,AF$1-18,FALSE))","v":0},{"$f":"IF(Data!$W122<MIN(Panely!$A$9:$A$28),VLOOKUP(Data!$W122,tabulka_kce_def,AG$1-20,FALSE),VLOOKUP(Data!$W122,tabulka_panely_def,AG$1-18,FALSE))","v":0},{"$f":"IF(Data!$W122<MIN(Panely!$A$9:$A$28),VLOOKUP(Data!$W122,tabulka_kce_def,AH$1-20,FALSE),VLOOKUP(Data!$W122,tabulka_panely_def,AH$1-18,FALSE))","v":0},{"$f":"IF(Data!$W122<MIN(Panely!$A$9:$A$28),VLOOKUP(Data!$W122,tabulka_kce_def,AI$1-20,FALSE),VLOOKUP(Data!$W122,tabulka_panely_def,AI$1-18,FALSE))","v":0},{"$f":"IF(Data!$W122<MIN(Panely!$A$9:$A$28),VLOOKUP(Data!$W122,tabulka_kce_def,AJ$1-20,FALSE),VLOOKUP(Data!$W122,tabulka_panely_def,AJ$1-18,FALSE))","v":0},{"$f":"IF(Data!$W122<MIN(Panely!$A$9:$A$28),VLOOKUP(Data!$W122,tabulka_kce_def,AK$1-20,FALSE),VLOOKUP(Data!$W122,tabulka_panely_def,AK$1-18,FALSE))","v":0},{"$f":"IF(Data!$W122<MIN(Panely!$A$9:$A$28),VLOOKUP(Data!$W122,tabulka_kce_def,AL$1-20,FALSE),VLOOKUP(Data!$W122,tabulka_panely_def,AL$1-18,FALSE))","v":0},{"$f":"IF(Data!$W122<MIN(Panely!$A$9:$A$28),VLOOKUP(Data!$W122,tabulka_kce_def,AM$1-20,FALSE),VLOOKUP(Data!$W122,tabulka_panely_def,AM$1-18,FALSE))","v":0},122,{"$f":"IF(Data!$W122<MIN(Panely!$A$9:$A$28),VLOOKUP(Data!$W122,tabulka_kce_def,63,FALSE),0)","v":0},{"$f":"IF(Data!$W122<MIN(Panely!$A$9:$A$28),VLOOKUP(Data!$W122,tabulka_kce_def,28,FALSE),1)","v":1},{"$f":"IF(Data!$W122<MIN(Panely!$A$9:$A$28),VLOOKUP(Data!$W122,tabulka_kce_def,23,FALSE),VLOOKUP(Data!$W122,tabulka_panely_def,24,FALSE))","v":0},null,0,null,0,0,{"$error":"#N/A"},0,{"$f":"IF(AND(W122>MAX(Konstrukce!A:A),ISNUMBER(W122)),1,0)","v":0}]
[null,"=",{"$f":"IF(Data!$B123<MIN(Panely!$A$9:$A$28),VLOOKUP(Data!$B123,tabulka_kce_def,4,FALSE),VLOOKUP(Data!$B123,tabulka_panely_def,4,FALSE))","v":0},{"$f":"IF(Data!$B123<MIN(Panely!$A$9:$A$28),VLOOKUP(Data!$B123,tabulka_kce_def,23,FALSE),VLOOKUP(Data!$B123,tabulka_panely_def,24,FALSE))","v":0},{"$f":"IF(Data!$B123<MIN(Panely!$A$9:$A$28),VLOOKUP(Data!$B123,tabulka_kce_def,21,FALSE),VLOOKUP(Data!$B123,tabulka_panely_def,22,FALSE))","v":0},{"$f":"IF(Data!$B123<MIN(Panely!$A$9:$A$28),VLOOKUP(Data!$B123,tabulka_kce_def,26,FALSE),VLOOKUP(Data!$B123,tabulka_panely_def,31,FALSE))","v":{"$error":"#DIV/0!"}},{"$f":"IF(Data!$B123<MIN(Panely!$A$9:$A$28),VLOOKUP(Data!$B123,tabulka_kce_def,27,FALSE),VLOOKUP(Data!$B123,tabulka_panely_def,32,FALSE))","v":{"$error":"#DIV/0!"}},{"$f":"IF(VLOOKUP(Data!$B123,tabulka_kce_def,3,FALSE)=\"\",Konstrukce!$G$1,IF(VLOOKUP(Data!$B123,tabulka_kce_def,3,FALSE)=\"z\",Konstrukce!$G$2,VLOOKUP(Data!$B123,tabulka_kce_def,3,FALSE)))","v":{"$error":"#N/A"}},{"$f":"IF(Data!$B123<MIN(Panely!$A$9:$A$28),0,VLOOKUP(Data!$B123,tabulka_panely_def,25,FALSE))","v":0},{"$f":"IF(Data!$B123<MIN(Panely!$A$9:$A$28),VLOOKUP(Data!$B123,tabulka_kce_def,24,FALSE),VLOOKUP(Data!$B123,tabulka_panely_def,33,FALSE))","v":{"$error":"#N/A"}},{"$f":"Konstrukce!$D$1","v":18.770175404064034},{"$f":"Konstrukce!$D$2","v":19.934229593106764},{"$f":"Konstrukce!$G$1","v":-12},{"$f":"IF(Data!$B123<MIN(Panely!$A$9:$A$28),VLOOKUP(Data!$B123,tabulka_kce_def,59,FALSE),VLOOKUP(Data!$B123,tabulka_panely_def,63,FALSE))","v":""},{"$f":"IF(Data!$B123<MIN(Panely!$A$9:$A$28),VLOOKUP(Data!$B123,tabulka_kce_def,60,FALSE),VLOOKUP(Data!$B123,tabulka_panely_def,64,FALSE))","v":""},{"$f":"IF(Data!$B123<MIN(Panely!$A$9:$A$28),VLOOKUP(Data!$B123,tabulka_kce_def,61,FALSE),VLOOKUP(Data!$B123,tabulka_panely_def,65,FALSE))","v":""},{"$f":"IF(Data!$B123<MIN(Panely!$A$9:$A$28),VLOOKUP(Data!$B123,tabulka_kce_def,25,FALSE),0)","v":0},0,null,null,null,null,"=",{"$f":"IF(Data!$W123<MIN(Panely!$A$9:$A$28),VLOOKUP(Data!$W123,tabulka_kce_def,62,FALSE),VLOOKUP(Data!$W123,tabulka_panely_def,65,FALSE))","v":""},{"$f":"IF(Data!$W123<MIN(Panely!$A$9:$A$28),VLOOKUP(Data!$W123,tabulka_kce_def,Y$1-20,FALSE),VLOOKUP(Data!$W123,tabulka_panely_def,Y$1-18,FALSE))","v":0},{"$f":"IF(Data!$W123<MIN(Panely!$A$9:$A$28),VLOOKUP(Data!$W123,tabulka_kce_def,Z$1-20,FALSE),VLOOKUP(Data!$W123,tabulka_panely_def,Z$1-18,FALSE))","v":0},{"$f":"IF(Data!$W123<MIN(Panely!$A$9:$A$28),VLOOKUP(Data!$W123,tabulka_kce_def,AA$1-20,FALSE),VLOOKUP(Data!$W123,tabulka_panely_def,AA$1-18,FALSE))","v":0},{"$f":"IF(Data!$W123<MIN(Panely!$A$9:$A$28),VLOOKUP(Data!$W123,tabulka_kce_def,AB$1-20,FALSE),VLOOKUP(Data!$W123,tabulka_panely_def,AB$1-18,FALSE))","v":0},{"$f":"IF(Data!$W123<MIN(Panely!$A$9:$A$28),VLOOKUP(Data!$W123,tabulka_kce_def,AC$1-20,FALSE),VLOOKUP(Data!$W123,tabulka_panely_def,AC$1-18,FALSE))","v":0},{"$f":"IF(Data!$W123<MIN(Panely!$A$9:$A$28),VLOOKUP(Data!$W123,tabulka_kce_def,AD$1-20,FALSE),VLOOKUP(Data!$W123,tabulka_panely_def,AD$1-18,FALSE))","v":0},{"$f":"IF(Data!$W123<MIN(Panely!$A$9:$A$28),VLOOKUP(Data!$W123,tabulka_kce_def,AE$1-20,FALSE),VLOOKUP(Data!$W123,tabulka_panely_def,AE$1-18,FALSE))","v":0},{"$f":"IF(Data!$W123<MIN(Panely!$A$9:$A$28),VLOOKUP(Data!$W123,tabulka_kce_def,AF$1-20,FALSE),VLOOKUP(Data!$W123,tabulka_panely_def,AF$1-18,FALSE))","v":0},{"$f":"IF(Data!$W123<MIN(Panely!$A$9:$A$28),VLOOKUP(Data!$W123,tabulka_kce_def,AG$1-20,FALSE),VLOOKUP(Data!$W123,tabulka_panely_def,AG$1-18,FALSE))","v":0},{"$f":"IF(Data!$W123<MIN(Panely!$A$9:$A$28),VLOOKUP(Data!$W123,tabulka_kce_def,AH$1-20,FALSE),VLOOKUP(Data!$W123,tabulka_panely_def,AH$1-18,FALSE))","v":0},{"$f":"IF(Data!$W123<MIN(Panely!$A$9:$A$28),VLOOKUP(Data!$W123,tabulka_kce_def,AI$1-20,FALSE),VLOOKUP(Data!$W123,tabulka_panely_def,AI$1-18,FALSE))","v":0},{"$f":"IF(Data!$W123<MIN(Panely!$A$9:$A$28),VLOOKUP(Data!$W123,tabulka_kce_def,AJ$1-20,FALSE),VLOOKUP(Data!$W123,tabulka_panely_def,AJ$1-18,FALSE))","v":0},{"$f":"IF(Data!$W123<MIN(Panely!$A$9:$A$28),VLOOKUP(Data!$W123,tabulka_kce_def,AK$1-20,FALSE),VLOOKUP(Data!$W123,tabulka_panely_def,AK$1-18,FALSE))","v":0},{"$f":"IF(Data!$W123<MIN(Panely!$A$9:$A$28),VLOOKUP(Data!$W123,tabulka_kce_def,AL$1-20,FALSE),VLOOKUP(Data!$W123,tabulka_panely_def,AL$1-18,FALSE))","v":0},{"$f":"IF(Data!$W123<MIN(Panely!$A$9:$A$28),VLOOKUP(Data!$W123,tabulka_kce_def,AM$1-20,FALSE),VLOOKUP(Data!$W123,tabulka_panely_def,AM$1-18,FALSE))","v":0},123,{"$f":"IF(Data!$W123<MIN(Panely!$A$9:$A$28),VLOOKUP(Data!$W123,tabulka_kce_def,63,FALSE),0)","v":0},{"$f":"IF(Data!$W123<MIN(Panely!$A$9:$A$28),VLOOKUP(Data!$W123,tabulka_kce_def,28,FALSE),1)","v":1},{"$f":"IF(Data!$W123<MIN(Panely!$A$9:$A$28),VLOOKUP(Data!$W123,tabulka_kce_def,23,FALSE),VLOOKUP(Data!$W123,tabulka_panely_def,24,FALSE))","v":0},null,0,null,0,0,{"$error":"#N/A"},0,{"$f":"IF(AND(W123>MAX(Konstrukce!A:A),ISNUMBER(W123)),1,0)","v":0}]
[null,"=",{"$f":"IF(Data!$B124<MIN(Panely!$A$9:$A$28),VLOOKUP(Data!$B124,tabulka_kce_def,4,FALSE),VLOOKUP(Data!$B124,tabulka_panely_def,4,FALSE))","v":0},{"$f":"IF(Data!$B124<MIN(Panely!$A$9:$A$28),VLOOKUP(Data!$B124,tabulka_kce_def,23,FALSE),VLOOKUP(Data!$B124,tabulka_panely_def,24,FALSE))","v":0},{"$f":"IF(Data!$B124<MIN(Panely!$A$9:$A$28),VLOOKUP(Data!$B124,tabulka_kce_def,21,FALSE),VLOOKUP(Data!$B124,tabulka_panely_def,22,FALSE))","v":0},{"$f":"IF(Data!$B124<MIN(Panely!$A$9:$A$28),VLOOKUP(Data!$B124,tabulka_kce_def,26,FALSE),VLOOKUP(Data!$B124,tabulka_panely_def,31,FALSE))","v":{"$error":"#DIV/0!"}},{"$f":"IF(Data!$B124<MIN(Panely!$A$9:$A$28),VLOOKUP(Data!$B124,tabulka_kce_def,27,FALSE),VLOOKUP(Data!$B124,tabulka_panely_def,32,FALSE))","v":{"$error":"#DIV/0!"}},{"$f":"IF(VLOOKUP(Data!$B124,tabulka_kce_def,3,FALSE)=\"\",Konstrukce!$G$1,IF(VLOOKUP(Data!$B124,tabulka_kce_def,3,FALSE)=\"z\",Konstrukce!$G$2,VLOOKUP(Data!$B124,tabulka_kce_def,3,FALSE)))","v":{"$error":"#N/A"}},{"$f":"IF(Data!$B124<MIN(Panely!$A$9:$A$28),0,VLOOKUP(Data!$B124,tabulka_panely_def,25,FALSE))","v":0},{"$f":"IF(Data!$B124<MIN(Panely!$A$9:$A$28),VLOOKUP(Data!$B124,tabulka_kce_def,24,FALSE),VLOOKUP(Data!$B124,tabulka_panely_def,33,FALSE))","v":{"$error":"#N/A"}},{"$f":"Konstrukce!$D$1","v":18.770175404064034},{"$f":"Konstrukce!$D$2","v":19.934229593106764},{"$f":"Konstrukce!$G$1","v":-12},{"$f":"IF(Data!$B124<MIN(Panely!$A$9:$A$28),VLOOKUP(Data!$B124,tabulka_kce_def,59,FALSE),VLOOKUP(Data!$B124,tabulka_panely_def,63,FALSE))","v":""},{"$f":"IF(Data!$B124<MIN(Panely!$A$9:$A$28),VLOOKUP(Data!$B124,tabulka_kce_def,60,FALSE),VLOOKUP(Data!$B124,tabulka_panely_def,64,FALSE))","v":""},{"$f":"IF(Data!$B124<MIN(Panely!$A$9:$A$28),VLOOKUP(Data!$B124,tabulka_kce_def,61,FALSE),VLOOKUP(Data!$B124,tabulka_panely_def,65,FALSE))","v":""},{"$f":"IF(Data!$B124<MIN(Panely!$A$9:$A$28),VLOOKUP(Data!$B124,tabulka_kce_def,25,FALSE),0)","v":0},0,null,null,null,null,"=",{"$f":"IF(Data!$W124<MIN(Panely!$A$9:$A$28),VLOOKUP(Data!$W124,tabulka_kce_def,62,FALSE),VLOOKUP(Data!$W124,tabulka_panely_def,65,FALSE))","v":""},{"$f":"IF(Data!$W124<MIN(Panely!$A$9:$A$28),VLOOKUP(Data!$W124,tabulka_kce_def,Y$1-20,FALSE),VLOOKUP(Data!$W124,tabulka_panely_def,Y$1-18,FALSE))","v":0},{"$f":"IF(Data!$W124<MIN(Panely!$A$9:$A$28),VLOOKUP(Data!$W124,tabulka_kce_def,Z$1-20,FALSE),VLOOKUP(Data!$W124,tabulka_panely_def,Z$1-18,FALSE))","v":0},{"$f":"IF(Data!$W124<MIN(Panely!$A$9:$A$28),VLOOKUP(Data!$W124,tabulka_kce_def,AA$1-20,FALSE),VLOOKUP(Data!$W124,tabulka_panely_def,AA$1-18,FALSE))","v":0},{"$f":"IF(Data!$W124<MIN(Panely!$A$9:$A$28),VLOOKUP(Data!$W124,tabulka_kce_def,AB$1-20,FALSE),VLOOKUP(Data!$W124,tabulka_panely_def,AB$1-18,FALSE))","v":0},{"$f":"IF(Data!$W124<MIN(Panely!$A$9:$A$28),VLOOKUP(Data!$W124,tabulka_kce_def,AC$1-20,FALSE),VLOOKUP(Data!$W124,tabulka_panely_def,AC$1-18,FALSE))","v":0},{"$f":"IF(Data!$W124<MIN(Panely!$A$9:$A$28),VLOOKUP(Data!$W124,tabulka_kce_def,AD$1-20,FALSE),VLOOKUP(Data!$W124,tabulka_panely_def,AD$1-18,FALSE))","v":0},{"$f":"IF(Data!$W124<MIN(Panely!$A$9:$A$28),VLOOKUP(Data!$W124,tabulka_kce_def,AE$1-20,FALSE),VLOOKUP(Data!$W124,tabulka_panely_def,AE$1-18,FALSE))","v":0},{"$f":"IF(Data!$W124<MIN(Panely!$A$9:$A$28),VLOOKUP(Data!$W124,tabulka_kce_def,AF$1-20,FALSE),VLOOKUP(Data!$W124,tabulka_panely_def,AF$1-18,FALSE))","v":0},{"$f":"IF(Data!$W124<MIN(Panely!$A$9:$A$28),VLOOKUP(Data!$W124,tabulka_kce_def,AG$1-20,FALSE),VLOOKUP(Data!$W124,tabulka_panely_def,AG$1-18,FALSE))","v":0},{"$f":"IF(Data!$W124<MIN(Panely!$A$9:$A$28),VLOOKUP(Data!$W124,tabulka_kce_def,AH$1-20,FALSE),VLOOKUP(Data!$W124,tabulka_panely_def,AH$1-18,FALSE))","v":0},{"$f":"IF(Data!$W124<MIN(Panely!$A$9:$A$28),VLOOKUP(Data!$W124,tabulka_kce_def,AI$1-20,FALSE),VLOOKUP(Data!$W124,tabulka_panely_def,AI$1-18,FALSE))","v":0},{"$f":"IF(Data!$W124<MIN(Panely!$A$9:$A$28),VLOOKUP(Data!$W124,tabulka_kce_def,AJ$1-20,FALSE),VLOOKUP(Data!$W124,tabulka_panely_def,AJ$1-18,FALSE))","v":0},{"$f":"IF(Data!$W124<MIN(Panely!$A$9:$A$28),VLOOKUP(Data!$W124,tabulka_kce_def,AK$1-20,FALSE),VLOOKUP(Data!$W124,tabulka_panely_def,AK$1-18,FALSE))","v":0},{"$f":"IF(Data!$W124<MIN(Panely!$A$9:$A$28),VLOOKUP(Data!$W124,tabulka_kce_def,AL$1-20,FALSE),VLOOKUP(Data!$W124,tabulka_panely_def,AL$1-18,FALSE))","v":0},{"$f":"IF(Data!$W124<MIN(Panely!$A$9:$A$28),VLOOKUP(Data!$W124,tabulka_kce_def,AM$1-20,FALSE),VLOOKUP(Data!$W124,tabulka_panely_def,AM$1-18,FALSE))","v":0},124,{"$f":"IF(Data!$W124<MIN(Panely!$A$9:$A$28),VLOOKUP(Data!$W124,tabulka_kce_def,63,FALSE),0)","v":0},{"$f":"IF(Data!$W124<MIN(Panely!$A$9:$A$28),VLOOKUP(Data!$W124,tabulka_kce_def,28,FALSE),1)","v":1},{"$f":"IF(Data!$W124<MIN(Panely!$A$9:$A$28),VLOOKUP(Data!$W124,tabulka_kce_def,23,FALSE),VLOOKUP(Data!$W124,tabulka_panely_def,24,FALSE))","v":0},null,0,null,0,0,{"$error":"#N/A"},0,{"$f":"IF(AND(W124>MAX(Konstrukce!A:A),ISNUMBER(W124)),1,0)","v":0}]
[null,"=",{"$f":"IF(Data!$B125<MIN(Panely!$A$9:$A$28),VLOOKUP(Data!$B125,tabulka_kce_def,4,FALSE),VLOOKUP(Data!$B125,tabulka_panely_def,4,FALSE))","v":0},{"$f":"IF(Data!$B125<MIN(Panely!$A$9:$A$28),VLOOKUP(Data!$B125,tabulka_kce_def,23,FALSE),VLOOKUP(Data!$B125,tabulka_panely_def,24,FALSE))","v":0},{"$f":"IF(Data!$B125<MIN(Panely!$A$9:$A$28),VLOOKUP(Data!$B125,tabulka_kce_def,21,FALSE),VLOOKUP(Data!$B125,tabulka_panely_def,22,FALSE))","v":0},{"$f":"IF(Data!$B125<MIN(Panely!$A$9:$A$28),VLOOKUP(Data!$B125,tabulka_kce_def,26,FALSE),VLOOKUP(Data!$B125,tabulka_panely_def,31,FALSE))","v":{"$error":"#DIV/0!"}},{"$f":"IF(Data!$B125<MIN(Panely!$A$9:$A$28),VLOOKUP(Data!$B125,tabulka_kce_def,27,FALSE),VLOOKUP(Data!$B125,tabulka_panely_def,32,FALSE))","v":{"$error":"#DIV/0!"}},{"$f":"IF(VLOOKUP(Data!$B125,tabulka_kce_def,3,FALSE)=\"\",Konstrukce!$G$1,IF(VLOOKUP(Data!$B125,tabulka_kce_def,3,FALSE)=\"z\",Konstrukce!$G$2,VLOOKUP(Data!$B125,tabulka_kce_def,3,FALSE)))","v":{"$error":"#N/A"}},{"$f":"IF(Data!$B125<MIN(Panely!$A$9:$A$28),0,VLOOKUP(Data!$B125,tabulka_panely_def,25,FALSE))","v":0},{"$f":"IF(Data!$B125<MIN(Panely!$A$9:$A$28),VLOOKUP(Data!$B125,tabulka_kce_def,24,FALSE),VLOOKUP(Data!$B125,tabulka_panely_def,33,FALSE))","v":{"$error":"#N/A"}},{"$f":"Konstrukce!$D$1","v":18.770175404064034},{"$f":"Konstrukce!$D$2","v":19.934229593106764},{"$f":"Konstrukce!$G$1","v":-12},{"$f":"IF(Data!$B125<MIN(Panely!$A$9:$A$28),VLOOKUP(Data!$B125,tabulka_kce_def,59,FALSE),VLOOKUP(Data!$B125,tabulka_panely_def,63,FALSE))","v":""},{"$f":"IF(Data!$B125<MIN(Panely!$A$9:$A$28),VLOOKUP(Data!$B125,tabulka_kce_def,60,FALSE),VLOOKUP(Data!$B125,tabulka_panely_def,64,FALSE))","v":""},{"$f":"IF(Data!$B125<MIN(Panely!$A$9:$A$28),VLOOKUP(Data!$B125,tabulka_kce_def,61,FALSE),VLOOKUP(Data!$B125,tabulka_panely_def,65,FALSE))","v":""},{"$f":"IF(Data!$B125<MIN(Panely!$A$9:$A$28),VLOOKUP(Data!$B125,tabulka_kce_def,25,FALSE),0)","v":0},0,null,null,null,null,"=",{"$f":"IF(Data!$W125<MIN(Panely!$A$9:$A$28),VLOOKUP(Data!$W125,tabulka_kce_def,62,FALSE),VLOOKUP(Data!$W125,tabulka_panely_def,65,FALSE))","v":""},{"$f":"IF(Data!$W125<MIN(Panely!$A$9:$A$28),VLOOKUP(Data!$W125,tabulka_kce_def,Y$1-20,FALSE),VLOOKUP(Data!$W125,tabulka_panely_def,Y$1-18,FALSE))","v":0},{"$f":"IF(Data!$W125<MIN(Panely!$A$9:$A$28),VLOOKUP(Data!$W125,tabulka_kce_def,Z$1-20,FALSE),VLOOKUP(Data!$W125,tabulka_panely_def,Z$1-18,FALSE))","v":0},{"$f":"IF(Data!$W125<MIN(Panely!$A$9:$A$28),VLOOKUP(Data!$W125,tabulka_kce_def,AA$1-20,FALSE),VLOOKUP(Data!$W125,tabulka_panely_def,AA$1-18,FALSE))","v":0},{"$f":"IF(Data!$W125<MIN(Panely!$A$9:$A$28),VLOOKUP(Data!$W125,tabulka_kce_def,AB$1-20,FALSE),VLOOKUP(Data!$W125,tabulka_panely_def,AB$1-18,FALSE))","v":0},{"$f":"IF(Data!$W125<MIN(Panely!$A$9:$A$28),VLOOKUP(Data!$W125,tabulka_kce_def,AC$1-20,FALSE),VLOOKUP(Data!$W125,tabulka_panely_def,AC$1-18,FALSE))","v":0},{"$f":"IF(Data!$W125<MIN(Panely!$A$9:$A$28),VLOOKUP(Data!$W125,tabulka_kce_def,AD$1-20,FALSE),VLOOKUP(Data!$W125,tabulka_panely_def,AD$1-18,FALSE))","v":0},{"$f":"IF(Data!$W125<MIN(Panely!$A$9:$A$28),VLOOKUP(Data!$W125,tabulka_kce_def,AE$1-20,FALSE),VLOOKUP(Data!$W125,tabulka_panely_def,AE$1-18,FALSE))","v":0},{"$f":"IF(Data!$W125<MIN(Panely!$A$9:$A$28),VLOOKUP(Data!$W125,tabulka_kce_def,AF$1-20,FALSE),VLOOKUP(Data!$W125,tabulka_panely_def,AF$1-18,FALSE))","v":0},{"$f":"IF(Data!$W125<MIN(Panely!$A$9:$A$28),VLOOKUP(Data!$W125,tabulka_kce_def,AG$1-20,FALSE),VLOOKUP(Data!$W125,tabulka_panely_def,AG$1-18,FALSE))","v":0},{"$f":"IF(Data!$W125<MIN(Panely!$A$9:$A$28),VLOOKUP(Data!$W125,tabulka_kce_def,AH$1-20,FALSE),VLOOKUP(Data!$W125,tabulka_panely_def,AH$1-18,FALSE))","v":0},{"$f":"IF(Data!$W125<MIN(Panely!$A$9:$A$28),VLOOKUP(Data!$W125,tabulka_kce_def,AI$1-20,FALSE),VLOOKUP(Data!$W125,tabulka_panely_def,AI$1-18,FALSE))","v":0},{"$f":"IF(Data!$W125<MIN(Panely!$A$9:$A$28),VLOOKUP(Data!$W125,tabulka_kce_def,AJ$1-20,FALSE),VLOOKUP(Data!$W125,tabulka_panely_def,AJ$1-18,FALSE))","v":0},{"$f":"IF(Data!$W125<MIN(Panely!$A$9:$A$28),VLOOKUP(Data!$W125,tabulka_kce_def,AK$1-20,FALSE),VLOOKUP(Data!$W125,tabulka_panely_def,AK$1-18,FALSE))","v":0},{"$f":"IF(Data!$W125<MIN(Panely!$A$9:$A$28),VLOOKUP(Data!$W125,tabulka_kce_def,AL$1-20,FALSE),VLOOKUP(Data!$W125,tabulka_panely_def,AL$1-18,FALSE))","v":0},{"$f":"IF(Data!$W125<MIN(Panely!$A$9:$A$28),VLOOKUP(Data!$W125,tabulka_kce_def,AM$1-20,FALSE),VLOOKUP(Data!$W125,tabulka_panely_def,AM$1-18,FALSE))","v":0},125,{"$f":"IF(Data!$W125<MIN(Panely!$A$9:$A$28),VLOOKUP(Data!$W125,tabulka_kce_def,63,FALSE),0)","v":0},{"$f":"IF(Data!$W125<MIN(Panely!$A$9:$A$28),VLOOKUP(Data!$W125,tabulka_kce_def,28,FALSE),1)","v":1},{"$f":"IF(Data!$W125<MIN(Panely!$A$9:$A$28),VLOOKUP(Data!$W125,tabulka_kce_def,23,FALSE),VLOOKUP(Data!$W125,tabulka_panely_def,24,FALSE))","v":0},null,0,null,0,0,{"$error":"#N/A"},0,{"$f":"IF(AND(W125>MAX(Konstrukce!A:A),ISNUMBER(W125)),1,0)","v":0}]
[null,"=",{"$f":"IF(Data!$B126<MIN(Panely!$A$9:$A$28),VLOOKUP(Data!$B126,tabulka_kce_def,4,FALSE),VLOOKUP(Data!$B126,tabulka_panely_def,4,FALSE))","v":0},{"$f":"IF(Data!$B126<MIN(Panely!$A$9:$A$28),VLOOKUP(Data!$B126,tabulka_kce_def,23,FALSE),VLOOKUP(Data!$B126,tabulka_panely_def,24,FALSE))","v":0},{"$f":"IF(Data!$B126<MIN(Panely!$A$9:$A$28),VLOOKUP(Data!$B126,tabulka_kce_def,21,FALSE),VLOOKUP(Data!$B126,tabulka_panely_def,22,FALSE))","v":0},{"$f":"IF(Data!$B126<MIN(Panely!$A$9:$A$28),VLOOKUP(Data!$B126,tabulka_kce_def,26,FALSE),VLOOKUP(Data!$B126,tabulka_panely_def,31,FALSE))","v":{"$error":"#DIV/0!"}},{"$f":"IF(Data!$B126<MIN(Panely!$A$9:$A$28),VLOOKUP(Data!$B126,tabulka_kce_def,27,FALSE),VLOOKUP(Data!$B126,tabulka_panely_def,32,FALSE))","v":{"$error":"#DIV/0!"}},{"$f":"IF(VLOOKUP(Data!$B126,tabulka_kce_def,3,FALSE)=\"\",Konstrukce!$G$1,IF(VLOOKUP(Data!$B126,tabulka_kce_def,3,FALSE)=\"z\",Konstrukce!$G$2,VLOOKUP(Data!$B126,tabulka_kce_def,3,FALSE)))","v":{"$error":"#N/A"}},{"$f":"IF(Data!$B126<MIN(Panely!$A$9:$A$28),0,VLOOKUP(Data!$B126,tabulka_panely_def,25,FALSE))","v":0},{"$f":"IF(Data!$B126<MIN(Panely!$A$9:$A$28),VLOOKUP(Data!$B126,tabulka_kce_def,24,FALSE),VLOOKUP(Data!$B126,tabulka_panely_def,33,FALSE))","v":{"$error":"#N/A"}},{"$f":"Konstrukce!$D$1","v":18.770175404064034},{"$f":"Konstrukce!$D$2","v":19.934229593106764},{"$f":"Konstrukce!$G$1","v":-12},{"$f":"IF(Data!$B126<MIN(Panely!$A$9:$A$28),VLOOKUP(Data!$B126,tabulka_kce_def,59,FALSE),VLOOKUP(Data!$B126,tabulka_panely_def,63,FALSE))","v":""},{"$f":"IF(Data!$B126<MIN(Panely!$A$9:$A$28),VLOOKUP(Data!$B126,tabulka_kce_def,60,FALSE),VLOOKUP(Data!$B126,tabulka_panely_def,64,FALSE))","v":""},{"$f":"IF(Data!$B126<MIN(Panely!$A$9:$A$28),VLOOKUP(Data!$B126,tabulka_kce_def,61,FALSE),VLOOKUP(Data!$B126,tabulka_panely_def,65,FALSE))","v":""},{"$f":"IF(Data!$B126<MIN(Panely!$A$9:$A$28),VLOOKUP(Data!$B126,tabulka_kce_def,25,FALSE),0)","v":0},0,null,null,null,null,"=",{"$f":"IF(Data!$W126<MIN(Panely!$A$9:$A$28),VLOOKUP(Data!$W126,tabulka_kce_def,62,FALSE),VLOOKUP(Data!$W126,tabulka_panely_def,65,FALSE))","v":""},{"$f":"IF(Data!$W126<MIN(Panely!$A$9:$A$28),VLOOKUP(Data!$W126,tabulka_kce_def,Y$1-20,FALSE),VLOOKUP(Data!$W126,tabulka_panely_def,Y$1-18,FALSE))","v":0},{"$f":"IF(Data!$W126<MIN(Panely!$A$9:$A$28),VLOOKUP(Data!$W126,tabulka_kce_def,Z$1-20,FALSE),VLOOKUP(Data!$W126,tabulka_panely_def,Z$1-18,FALSE))","v":0},{"$f":"IF(Data!$W126<MIN(Panely!$A$9:$A$28),VLOOKUP(Data!$W126,tabulka_kce_def,AA$1-20,FALSE),VLOOKUP(Data!$W126,tabulka_panely_def,AA$1-18,FALSE))","v":0},{"$f":"IF(Data!$W126<MIN(Panely!$A$9:$A$28),VLOOKUP(Data!$W126,tabulka_kce_def,AB$1-20,FALSE),VLOOKUP(Data!$W126,tabulka_panely_def,AB$1-18,FALSE))","v":0},{"$f":"IF(Data!$W126<MIN(Panely!$A$9:$A$28),VLOOKUP(Data!$W126,tabulka_kce_def,AC$1-20,FALSE),VLOOKUP(Data!$W126,tabulka_panely_def,AC$1-18,FALSE))","v":0},{"$f":"IF(Data!$W126<MIN(Panely!$A$9:$A$28),VLOOKUP(Data!$W126,tabulka_kce_def,AD$1-20,FALSE),VLOOKUP(Data!$W126,tabulka_panely_def,AD$1-18,FALSE))","v":0},{"$f":"IF(Data!$W126<MIN(Panely!$A$9:$A$28),VLOOKUP(Data!$W126,tabulka_kce_def,AE$1-20,FALSE),VLOOKUP(Data!$W126,tabulka_panely_def,AE$1-18,FALSE))","v":0},{"$f":"IF(Data!$W126<MIN(Panely!$A$9:$A$28),VLOOKUP(Data!$W126,tabulka_kce_def,AF$1-20,FALSE),VLOOKUP(Data!$W126,tabulka_panely_def,AF$1-18,FALSE))","v":0},{"$f":"IF(Data!$W126<MIN(Panely!$A$9:$A$28),VLOOKUP(Data!$W126,tabulka_kce_def,AG$1-20,FALSE),VLOOKUP(Data!$W126,tabulka_panely_def,AG$1-18,FALSE))","v":0},{"$f":"IF(Data!$W126<MIN(Panely!$A$9:$A$28),VLOOKUP(Data!$W126,tabulka_kce_def,AH$1-20,FALSE),VLOOKUP(Data!$W126,tabulka_panely_def,AH$1-18,FALSE))","v":0},{"$f":"IF(Data!$W126<MIN(Panely!$A$9:$A$28),VLOOKUP(Data!$W126,tabulka_kce_def,AI$1-20,FALSE),VLOOKUP(Data!$W126,tabulka_panely_def,AI$1-18,FALSE))","v":0},{"$f":"IF(Data!$W126<MIN(Panely!$A$9:$A$28),VLOOKUP(Data!$W126,tabulka_kce_def,AJ$1-20,FALSE),VLOOKUP(Data!$W126,tabulka_panely_def,AJ$1-18,FALSE))","v":0},{"$f":"IF(Data!$W126<MIN(Panely!$A$9:$A$28),VLOOKUP(Data!$W126,tabulka_kce_def,AK$1-20,FALSE),VLOOKUP(Data!$W126,tabulka_panely_def,AK$1-18,FALSE))","v":0},{"$f":"IF(Data!$W126<MIN(Panely!$A$9:$A$28),VLOOKUP(Data!$W126,tabulka_kce_def,AL$1-20,FALSE),VLOOKUP(Data!$W126,tabulka_panely_def,AL$1-18,FALSE))","v":0},{"$f":"IF(Data!$W126<MIN(Panely!$A$9:$A$28),VLOOKUP(Data!$W126,tabulka_kce_def,AM$1-20,FALSE),VLOOKUP(Data!$W126,tabulka_panely_def,AM$1-18,FALSE))","v":0},126,{"$f":"IF(Data!$W126<MIN(Panely!$A$9:$A$28),VLOOKUP(Data!$W126,tabulka_kce_def,63,FALSE),0)","v":0},{"$f":"IF(Data!$W126<MIN(Panely!$A$9:$A$28),VLOOKUP(Data!$W126,tabulka_kce_def,28,FALSE),1)","v":1},{"$f":"IF(Data!$W126<MIN(Panely!$A$9:$A$28),VLOOKUP(Data!$W126,tabulka_kce_def,23,FALSE),VLOOKUP(Data!$W126,tabulka_panely_def,24,FALSE))","v":0},null,0,null,0,0,{"$error":"#N/A"},0,{"$f":"IF(AND(W126>MAX(Konstrukce!A:A),ISNUMBER(W126)),1,0)","v":0}]
[null,"=",{"$f":"IF(Data!$B127<MIN(Panely!$A$9:$A$28),VLOOKUP(Data!$B127,tabulka_kce_def,4,FALSE),VLOOKUP(Data!$B127,tabulka_panely_def,4,FALSE))","v":0},{"$f":"IF(Data!$B127<MIN(Panely!$A$9:$A$28),VLOOKUP(Data!$B127,tabulka_kce_def,23,FALSE),VLOOKUP(Data!$B127,tabulka_panely_def,24,FALSE))","v":0},{"$f":"IF(Data!$B127<MIN(Panely!$A$9:$A$28),VLOOKUP(Data!$B127,tabulka_kce_def,21,FALSE),VLOOKUP(Data!$B127,tabulka_panely_def,22,FALSE))","v":0},{"$f":"IF(Data!$B127<MIN(Panely!$A$9:$A$28),VLOOKUP(Data!$B127,tabulka_kce_def,26,FALSE),VLOOKUP(Data!$B127,tabulka_panely_def,31,FALSE))","v":{"$error":"#DIV/0!"}},{"$f":"IF(Data!$B127<MIN(Panely!$A$9:$A$28),VLOOKUP(Data!$B127,tabulka_kce_def,27,FALSE),VLOOKUP(Data!$B127,tabulka_panely_def,32,FALSE))","v":{"$error":"#DIV/0!"}},{"$f":"IF(VLOOKUP(Data!$B127,tabulka_kce_def,3,FALSE)=\"\",Konstrukce!$G$1,IF(VLOOKUP(Data!$B127,tabulka_kce_def,3,FALSE)=\"z\",Konstrukce!$G$2,VLOOKUP(Data!$B127,tabulka_kce_def,3,FALSE)))","v":{"$error":"#N/A"}},{"$f":"IF(Data!$B127<MIN(Panely!$A$9:$A$28),0,VLOOKUP(Data!$B127,tabulka_panely_def,25,FALSE))","v":0},{"$f":"IF(Data!$B127<MIN(Panely!$A$9:$A$28),VLOOKUP(Data!$B127,tabulka_kce_def,24,FALSE),VLOOKUP(Data!$B127,tabulka_panely_def,33,FALSE))","v":{"$error":"#N/A"}},{"$f":"Konstrukce!$D$1","v":18.770175404064034},{"$f":"Konstrukce!$D$2","v":19.934229593106764},{"$f":"Konstrukce!$G$1","v":-12},{"$f":"IF(Data!$B127<MIN(Panely!$A$9:$A$28),VLOOKUP(Data!$B127,tabulka_kce_def,59,FALSE),VLOOKUP(Data!$B127,tabulka_panely_def,63,FALSE))","v":""},{"$f":"IF(Data!$B127<MIN(Panely!$A$9:$A$28),VLOOKUP(Data!$B127,tabulka_kce_def,60,FALSE),VLOOKUP(Data!$B127,tabulka_panely_def,64,FALSE))","v":""},{"$f":"IF(Data!$B127<MIN(Panely!$A$9:$A$28),VLOOKUP(Data!$B127,tabulka_kce_def,61,FALSE),VLOOKUP(Data!$B127,tabulka_panely_def,65,FALSE))","v":""},{"$f":"IF(Data!$B127<MIN(Panely!$A$9:$A$28),VLOOKUP(Data!$B127,tabulka_kce_def,25,FALSE),0)","v":0},0,null,null,null,null,"=",{"$f":"IF(Data!$W127<MIN(Panely!$A$9:$A$28),VLOOKUP(Data!$W127,tabulka_kce_def,62,FALSE),VLOOKUP(Data!$W127,tabulka_panely_def,65,FALSE))","v":""},{"$f":"IF(Data!$W127<MIN(Panely!$A$9:$A$28),VLOOKUP(Data!$W127,tabulka_kce_def,Y$1-20,FALSE),VLOOKUP(Data!$W127,tabulka_panely_def,Y$1-18,FALSE))","v":0},{"$f":"IF(Data!$W127<MIN(Panely!$A$9:$A$28),VLOOKUP(Data!$W127,tabulka_kce_def,Z$1-20,FALSE),VLOOKUP(Data!$W127,tabulka_panely_def,Z$1-18,FALSE))","v":0},{"$f":"IF(Data!$W127<MIN(Panely!$A$9:$A$28),VLOOKUP(Data!$W127,tabulka_kce_def,AA$1-20,FALSE),VLOOKUP(Data!$W127,tabulka_panely_def,AA$1-18,FALSE))","v":0},{"$f":"IF(Data!$W127<MIN(Panely!$A$9:$A$28),VLOOKUP(Data!$W127,tabulka_kce_def,AB$1-20,FALSE),VLOOKUP(Data!$W127,tabulka_panely_def,AB$1-18,FALSE))","v":0},{"$f":"IF(Data!$W127<MIN(Panely!$A$9:$A$28),VLOOKUP(Data!$W127,tabulka_kce_def,AC$1-20,FALSE),VLOOKUP(Data!$W127,tabulka_panely_def,AC$1-18,FALSE))","v":0},{"$f":"IF(Data!$W127<MIN(Panely!$A$9:$A$28),VLOOKUP(Data!$W127,tabulka_kce_def,AD$1-20,FALSE),VLOOKUP(Data!$W127,tabulka_panely_def,AD$1-18,FALSE))","v":0},{"$f":"IF(Data!$W127<MIN(Panely!$A$9:$A$28),VLOOKUP(Data!$W127,tabulka_kce_def,AE$1-20,FALSE),VLOOKUP(Data!$W127,tabulka_panely_def,AE$1-18,FALSE))","v":0},{"$f":"IF(Data!$W127<MIN(Panely!$A$9:$A$28),VLOOKUP(Data!$W127,tabulka_kce_def,AF$1-20,FALSE),VLOOKUP(Data!$W127,tabulka_panely_def,AF$1-18,FALSE))","v":0},{"$f":"IF(Data!$W127<MIN(Panely!$A$9:$A$28),VLOOKUP(Data!$W127,tabulka_kce_def,AG$1-20,FALSE),VLOOKUP(Data!$W127,tabulka_panely_def,AG$1-18,FALSE))","v":0},{"$f":"IF(Data!$W127<MIN(Panely!$A$9:$A$28),VLOOKUP(Data!$W127,tabulka_kce_def,AH$1-20,FALSE),VLOOKUP(Data!$W127,tabulka_panely_def,AH$1-18,FALSE))","v":0},{"$f":"IF(Data!$W127<MIN(Panely!$A$9:$A$28),VLOOKUP(Data!$W127,tabulka_kce_def,AI$1-20,FALSE),VLOOKUP(Data!$W127,tabulka_panely_def,AI$1-18,FALSE))","v":0},{"$f":"IF(Data!$W127<MIN(Panely!$A$9:$A$28),VLOOKUP(Data!$W127,tabulka_kce_def,AJ$1-20,FALSE),VLOOKUP(Data!$W127,tabulka_panely_def,AJ$1-18,FALSE))","v":0},{"$f":"IF(Data!$W127<MIN(Panely!$A$9:$A$28),VLOOKUP(Data!$W127,tabulka_kce_def,AK$1-20,FALSE),VLOOKUP(Data!$W127,tabulka_panely_def,AK$1-18,FALSE))","v":0},{"$f":"IF(Data!$W127<MIN(Panely!$A$9:$A$28),VLOOKUP(Data!$W127,tabulka_kce_def,AL$1-20,FALSE),VLOOKUP(Data!$W127,tabulka_panely_def,AL$1-18,FALSE))","v":0},{"$f":"IF(Data!$W127<MIN(Panely!$A$9:$A$28),VLOOKUP(Data!$W127,tabulka_kce_def,AM$1-20,FALSE),VLOOKUP(Data!$W127,tabulka_panely_def,AM$1-18,FALSE))","v":0},127,{"$f":"IF(Data!$W127<MIN(Panely!$A$9:$A$28),VLOOKUP(Data!$W127,tabulka_kce_def,63,FALSE),0)","v":0},{"$f":"IF(Data!$W127<MIN(Panely!$A$9:$A$28),VLOOKUP(Data!$W127,tabulka_kce_def,28,FALSE),1)","v":1},{"$f":"IF(Data!$W127<MIN(Panely!$A$9:$A$28),VLOOKUP(Data!$W127,tabulka_kce_def,23,FALSE),VLOOKUP(Data!$W127,tabulka_panely_def,24,FALSE))","v":0},null,0,null,0,0,{"$error":"#N/A"},0,{"$f":"IF(AND(W127>MAX(Konstrukce!A:A),ISNUMBER(W127)),1,0)","v":0}]
[null,"=",{"$f":"IF(Data!$B128<MIN(Panely!$A$9:$A$28),VLOOKUP(Data!$B128,tabulka_kce_def,4,FALSE),VLOOKUP(Data!$B128,tabulka_panely_def,4,FALSE))","v":0},{"$f":"IF(Data!$B128<MIN(Panely!$A$9:$A$28),VLOOKUP(Data!$B128,tabulka_kce_def,23,FALSE),VLOOKUP(Data!$B128,tabulka_panely_def,24,FALSE))","v":0},{"$f":"IF(Data!$B128<MIN(Panely!$A$9:$A$28),VLOOKUP(Data!$B128,tabulka_kce_def,21,FALSE),VLOOKUP(Data!$B128,tabulka_panely_def,22,FALSE))","v":0},{"$f":"IF(Data!$B128<MIN(Panely!$A$9:$A$28),VLOOKUP(Data!$B128,tabulka_kce_def,26,FALSE),VLOOKUP(Data!$B128,tabulka_panely_def,31,FALSE))","v":{"$error":"#DIV/0!"}},{"$f":"IF(Data!$B128<MIN(Panely!$A$9:$A$28),VLOOKUP(Data!$B128,tabulka_kce_def,27,FALSE),VLOOKUP(Data!$B128,tabulka_panely_def,32,FALSE))","v":{"$error":"#DIV/0!"}},{"$f":"IF(VLOOKUP(Data!$B128,tabulka_kce_def,3,FALSE)=\"\",Konstrukce!$G$1,IF(VLOOKUP(Data!$B128,tabulka_kce_def,3,FALSE)=\"z\",Konstrukce!$G$2,VLOOKUP(Data!$B128,tabulka_kce_def,3,FALSE)))","v":{"$error":"#N/A"}},{"$f":"IF(Data!$B128<MIN(Panely!$A$9:$A$28),0,VLOOKUP(Data!$B128,tabulka_panely_def,25,FALSE))","v":0},{"$f":"IF(Data!$B128<MIN(Panely!$A$9:$A$28),VLOOKUP(Data!$B128,tabulka_kce_def,24,FALSE),VLOOKUP(Data!$B128,tabulka_panely_def,33,FALSE))","v":{"$error":"#N/A"}},{"$f":"Konstrukce!$D$1","v":18.770175404064034},{"$f":"Konstrukce!$D$2","v":19.934229593106764},{"$f":"Konstrukce!$G$1","v":-12},{"$f":"IF(Data!$B128<MIN(Panely!$A$9:$A$28),VLOOKUP(Data!$B128,tabulka_kce_def,59,FALSE),VLOOKUP(Data!$B128,tabulka_panely_def,63,FALSE))","v":""},{"$f":"IF(Data!$B128<MIN(Panely!$A$9:$A$28),VLOOKUP(Data!$B128,tabulka_kce_def,60,FALSE),VLOOKUP(Data!$B128,tabulka_panely_def,64,FALSE))","v":""},{"$f":"IF(Data!$B128<MIN(Panely!$A$9:$A$28),VLOOKUP(Data!$B128,tabulka_kce_def,61,FALSE),VLOOKUP(Data!$B128,tabulka_panely_def,65,FALSE))","v":""},{"$f":"IF(Data!$B128<MIN(Panely!$A$9:$A$28),VLOOKUP(Data!$B128,tabulka_kce_def,25,FALSE),0)","v":0},0,null,null,null,null,"=",{"$f":"IF(Data!$W128<MIN(Panely!$A$9:$A$28),VLOOKUP(Data!$W128,tabulka_kce_def,62,FALSE),VLOOKUP(Data!$W128,tabulka_panely_def,65,FALSE))","v":""},{"$f":"IF(Data!$W128<MIN(Panely!$A$9:$A$28),VLOOKUP(Data!$W128,tabulka_kce_def,Y$1-20,FALSE),VLOOKUP(Data!$W128,tabulka_panely_def,Y$1-18,FALSE))","v":0},{"$f":"IF(Data!$W128<MIN(Panely!$A$9:$A$28),VLOOKUP(Data!$W128,tabulka_kce_def,Z$1-20,FALSE),VLOOKUP(Data!$W128,tabulka_panely_def,Z$1-18,FALSE))","v":0},{"$f":"IF(Data!$W128<MIN(Panely!$A$9:$A$28),VLOOKUP(Data!$W128,tabulka_kce_def,AA$1-20,FALSE),VLOOKUP(Data!$W128,tabulka_panely_def,AA$1-18,FALSE))","v":0},{"$f":"IF(Data!$W128<MIN(Panely!$A$9:$A$28),VLOOKUP(Data!$W128,tabulka_kce_def,AB$1-20,FALSE),VLOOKUP(Data!$W128,tabulka_panely_def,AB$1-18,FALSE))","v":0},{"$f":"IF(Data!$W128<MIN(Panely!$A$9:$A$28),VLOOKUP(Data!$W128,tabulka_kce_def,AC$1-20,FALSE),VLOOKUP(Data!$W128,tabulka_panely_def,AC$1-18,FALSE))","v":0},{"$f":"IF(Data!$W128<MIN(Panely!$A$9:$A$28),VLOOKUP(Data!$W128,tabulka_kce_def,AD$1-20,FALSE),VLOOKUP(Data!$W128,tabulka_panely_def,AD$1-18,FALSE))","v":0},{"$f":"IF(Data!$W128<MIN(Panely!$A$9:$A$28),VLOOKUP(Data!$W128,tabulka_kce_def,AE$1-20,FALSE),VLOOKUP(Data!$W128,tabulka_panely_def,AE$1-18,FALSE))","v":0},{"$f":"IF(Data!$W128<MIN(Panely!$A$9:$A$28),VLOOKUP(Data!$W128,tabulka_kce_def,AF$1-20,FALSE),VLOOKUP(Data!$W128,tabulka_panely_def,AF$1-18,FALSE))","v":0},{"$f":"IF(Data!$W128<MIN(Panely!$A$9:$A$28),VLOOKUP(Data!$W128,tabulka_kce_def,AG$1-20,FALSE),VLOOKUP(Data!$W128,tabulka_panely_def,AG$1-18,FALSE))","v":0},{"$f":"IF(Data!$W128<MIN(Panely!$A$9:$A$28),VLOOKUP(Data!$W128,tabulka_kce_def,AH$1-20,FALSE),VLOOKUP(Data!$W128,tabulka_panely_def,AH$1-18,FALSE))","v":0},{"$f":"IF(Data!$W128<MIN(Panely!$A$9:$A$28),VLOOKUP(Data!$W128,tabulka_kce_def,AI$1-20,FALSE),VLOOKUP(Data!$W128,tabulka_panely_def,AI$1-18,FALSE))","v":0},{"$f":"IF(Data!$W128<MIN(Panely!$A$9:$A$28),VLOOKUP(Data!$W128,tabulka_kce_def,AJ$1-20,FALSE),VLOOKUP(Data!$W128,tabulka_panely_def,AJ$1-18,FALSE))","v":0},{"$f":"IF(Data!$W128<MIN(Panely!$A$9:$A$28),VLOOKUP(Data!$W128,tabulka_kce_def,AK$1-20,FALSE),VLOOKUP(Data!$W128,tabulka_panely_def,AK$1-18,FALSE))","v":0},{"$f":"IF(Data!$W128<MIN(Panely!$A$9:$A$28),VLOOKUP(Data!$W128,tabulka_kce_def,AL$1-20,FALSE),VLOOKUP(Data!$W128,tabulka_panely_def,AL$1-18,FALSE))","v":0},{"$f":"IF(Data!$W128<MIN(Panely!$A$9:$A$28),VLOOKUP(Data!$W128,tabulka_kce_def,AM$1-20,FALSE),VLOOKUP(Data!$W128,tabulka_panely_def,AM$1-18,FALSE))","v":0},128,{"$f":"IF(Data!$W128<MIN(Panely!$A$9:$A$28),VLOOKUP(Data!$W128,tabulka_kce_def,63,FALSE),0)","v":0},{"$f":"IF(Data!$W128<MIN(Panely!$A$9:$A$28),VLOOKUP(Data!$W128,tabulka_kce_def,28,FALSE),1)","v":1},{"$f":"IF(Data!$W128<MIN(Panely!$A$9:$A$28),VLOOKUP(Data!$W128,tabulka_kce_def,23,FALSE),VLOOKUP(Data!$W128,tabulka_panely_def,24,FALSE))","v":0},null,0,null,0,0,{"$error":"#N/A"},0,{"$f":"IF(AND(W128>MAX(Konstrukce!A:A),ISNUMBER(W128)),1,0)","v":0}]
[null,"=",{"$f":"IF(Data!$B129<MIN(Panely!$A$9:$A$28),VLOOKUP(Data!$B129,tabulka_kce_def,4,FALSE),VLOOKUP(Data!$B129,tabulka_panely_def,4,FALSE))","v":0},{"$f":"IF(Data!$B129<MIN(Panely!$A$9:$A$28),VLOOKUP(Data!$B129,tabulka_kce_def,23,FALSE),VLOOKUP(Data!$B129,tabulka_panely_def,24,FALSE))","v":0},{"$f":"IF(Data!$B129<MIN(Panely!$A$9:$A$28),VLOOKUP(Data!$B129,tabulka_kce_def,21,FALSE),VLOOKUP(Data!$B129,tabulka_panely_def,22,FALSE))","v":0},{"$f":"IF(Data!$B129<MIN(Panely!$A$9:$A$28),VLOOKUP(Data!$B129,tabulka_kce_def,26,FALSE),VLOOKUP(Data!$B129,tabulka_panely_def,31,FALSE))","v":{"$error":"#DIV/0!"}},{"$f":"IF(Data!$B129<MIN(Panely!$A$9:$A$28),VLOOKUP(Data!$B129,tabulka_kce_def,27,FALSE),VLOOKUP(Data!$B129,tabulka_panely_def,32,FALSE))","v":{"$error":"#DIV/0!"}},{"$f":"IF(VLOOKUP(Data!$B129,tabulka_kce_def,3,FALSE)=\"\",Konstrukce!$G$1,IF(VLOOKUP(Data!$B129,tabulka_kce_def,3,FALSE)=\"z\",Konstrukce!$G$2,VLOOKUP(Data!$B129,tabulka_kce_def,3,FALSE)))","v":{"$error":"#N/A"}},{"$f":"IF(Data!$B129<MIN(Panely!$A$9:$A$28),0,VLOOKUP(Data!$B129,tabulka_panely_def,25,FALSE))","v":0},{"$f":"IF(Data!$B129<MIN(Panely!$A$9:$A$28),VLOOKUP(Data!$B129,tabulka_kce_def,24,FALSE),VLOOKUP(Data!$B129,tabulka_panely_def,33,FALSE))","v":{"$error":"#N/A"}},{"$f":"Konstrukce!$D$1","v":18.770175404064034},{"$f":"Konstrukce!$D$2","v":19.934229593106764},{"$f":"Konstrukce!$G$1","v":-12},{"$f":"IF(Data!$B129<MIN(Panely!$A$9:$A$28),VLOOKUP(Data!$B129,tabulka_kce_def,59,FALSE),VLOOKUP(Data!$B129,tabulka_panely_def,63,FALSE))","v":""},{"$f":"IF(Data!$B129<MIN(Panely!$A$9:$A$28),VLOOKUP(Data!$B129,tabulka_kce_def,60,FALSE),VLOOKUP(Data!$B129,tabulka_panely_def,64,FALSE))","v":""},{"$f":"IF(Data!$B129<MIN(Panely!$A$9:$A$28),VLOOKUP(Data!$B129,tabulka_kce_def,61,FALSE),VLOOKUP(Data!$B129,tabulka_panely_def,65,FALSE))","v":""},{"$f":"IF(Data!$B129<MIN(Panely!$A$9:$A$28),VLOOKUP(Data!$B129,tabulka_kce_def,25,FALSE),0)","v":0},0,null,null,null,null,"=",{"$f":"IF(Data!$W129<MIN(Panely!$A$9:$A$28),VLOOKUP(Data!$W129,tabulka_kce_def,62,FALSE),VLOOKUP(Data!$W129,tabulka_panely_def,65,FALSE))","v":""},{"$f":"IF(Data!$W129<MIN(Panely!$A$9:$A$28),VLOOKUP(Data!$W129,tabulka_kce_def,Y$1-20,FALSE),VLOOKUP(Data!$W129,tabulka_panely_def,Y$1-18,FALSE))","v":0},{"$f":"IF(Data!$W129<MIN(Panely!$A$9:$A$28),VLOOKUP(Data!$W129,tabulka_kce_def,Z$1-20,FALSE),VLOOKUP(Data!$W129,tabulka_panely_def,Z$1-18,FALSE))","v":0},{"$f":"IF(Data!$W129<MIN(Panely!$A$9:$A$28),VLOOKUP(Data!$W129,tabulka_kce_def,AA$1-20,FALSE),VLOOKUP(Data!$W129,tabulka_panely_def,AA$1-18,FALSE))","v":0},{"$f":"IF(Data!$W129<MIN(Panely!$A$9:$A$28),VLOOKUP(Data!$W129,tabulka_kce_def,AB$1-20,FALSE),VLOOKUP(Data!$W129,tabulka_panely_def,AB$1-18,FALSE))","v":0},{"$f":"IF(Data!$W129<MIN(Panely!$A$9:$A$28),VLOOKUP(Data!$W129,tabulka_kce_def,AC$1-20,FALSE),VLOOKUP(Data!$W129,tabulka_panely_def,AC$1-18,FALSE))","v":0},{"$f":"IF(Data!$W129<MIN(Panely!$A$9:$A$28),VLOOKUP(Data!$W129,tabulka_kce_def,AD$1-20,FALSE),VLOOKUP(Data!$W129,tabulka_panely_def,AD$1-18,FALSE))","v":0},{"$f":"IF(Data!$W129<MIN(Panely!$A$9:$A$28),VLOOKUP(Data!$W129,tabulka_kce_def,AE$1-20,FALSE),VLOOKUP(Data!$W129,tabulka_panely_def,AE$1-18,FALSE))","v":0},{"$f":"IF(Data!$W129<MIN(Panely!$A$9:$A$28),VLOOKUP(Data!$W129,tabulka_kce_def,AF$1-20,FALSE),VLOOKUP(Data!$W129,tabulka_panely_def,AF$1-18,FALSE))","v":0},{"$f":"IF(Data!$W129<MIN(Panely!$A$9:$A$28),VLOOKUP(Data!$W129,tabulka_kce_def,AG$1-20,FALSE),VLOOKUP(Data!$W129,tabulka_panely_def,AG$1-18,FALSE))","v":0},{"$f":"IF(Data!$W129<MIN(Panely!$A$9:$A$28),VLOOKUP(Data!$W129,tabulka_kce_def,AH$1-20,FALSE),VLOOKUP(Data!$W129,tabulka_panely_def,AH$1-18,FALSE))","v":0},{"$f":"IF(Data!$W129<MIN(Panely!$A$9:$A$28),VLOOKUP(Data!$W129,tabulka_kce_def,AI$1-20,FALSE),VLOOKUP(Data!$W129,tabulka_panely_def,AI$1-18,FALSE))","v":0},{"$f":"IF(Data!$W129<MIN(Panely!$A$9:$A$28),VLOOKUP(Data!$W129,tabulka_kce_def,AJ$1-20,FALSE),VLOOKUP(Data!$W129,tabulka_panely_def,AJ$1-18,FALSE))","v":0},{"$f":"IF(Data!$W129<MIN(Panely!$A$9:$A$28),VLOOKUP(Data!$W129,tabulka_kce_def,AK$1-20,FALSE),VLOOKUP(Data!$W129,tabulka_panely_def,AK$1-18,FALSE))","v":0},{"$f":"IF(Data!$W129<MIN(Panely!$A$9:$A$28),VLOOKUP(Data!$W129,tabulka_kce_def,AL$1-20,FALSE),VLOOKUP(Data!$W129,tabulka_panely_def,AL$1-18,FALSE))","v":0},{"$f":"IF(Data!$W129<MIN(Panely!$A$9:$A$28),VLOOKUP(Data!$W129,tabulka_kce_def,AM$1-20,FALSE),VLOOKUP(Data!$W129,tabulka_panely_def,AM$1-18,FALSE))","v":0},129,{"$f":"IF(Data!$W129<MIN(Panely!$A$9:$A$28),VLOOKUP(Data!$W129,tabulka_kce_def,63,FALSE),0)","v":0},{"$f":"IF(Data!$W129<MIN(Panely!$A$9:$A$28),VLOOKUP(Data!$W129,tabulka_kce_def,28,FALSE),1)","v":1},{"$f":"IF(Data!$W129<MIN(Panely!$A$9:$A$28),VLOOKUP(Data!$W129,tabulka_kce_def,23,FALSE),VLOOKUP(Data!$W129,tabulka_panely_def,24,FALSE))","v":0},null,0,null,0,0,{"$error":"#N/A"},0,{"$f":"IF(AND(W129>MAX(Konstrukce!A:A),ISNUMBER(W129)),1,0)","v":0}]
[null,"=",{"$f":"IF(Data!$B130<MIN(Panely!$A$9:$A$28),VLOOKUP(Data!$B130,tabulka_kce_def,4,FALSE),VLOOKUP(Data!$B130,tabulka_panely_def,4,FALSE))","v":0},{"$f":"IF(Data!$B130<MIN(Panely!$A$9:$A$28),VLOOKUP(Data!$B130,tabulka_kce_def,23,FALSE),VLOOKUP(Data!$B130,tabulka_panely_def,24,FALSE))","v":0},{"$f":"IF(Data!$B130<MIN(Panely!$A$9:$A$28),VLOOKUP(Data!$B130,tabulka_kce_def,21,FALSE),VLOOKUP(Data!$B130,tabulka_panely_def,22,FALSE))","v":0},{"$f":"IF(Data!$B130<MIN(Panely!$A$9:$A$28),VLOOKUP(Data!$B130,tabulka_kce_def,26,FALSE),VLOOKUP(Data!$B130,tabulka_panely_def,31,FALSE))","v":{"$error":"#DIV/0!"}},{"$f":"IF(Data!$B130<MIN(Panely!$A$9:$A$28),VLOOKUP(Data!$B130,tabulka_kce_def,27,FALSE),VLOOKUP(Data!$B130,tabulka_panely_def,32,FALSE))","v":{"$error":"#DIV/0!"}},{"$f":"IF(VLOOKUP(Data!$B130,tabulka_kce_def,3,FALSE)=\"\",Konstrukce!$G$1,IF(VLOOKUP(Data!$B130,tabulka_kce_def,3,FALSE)=\"z\",Konstrukce!$G$2,VLOOKUP(Data!$B130,tabulka_kce_def,3,FALSE)))","v":{"$error":"#N/A"}},{"$f":"IF(Data!$B130<MIN(Panely!$A$9:$A$28),0,VLOOKUP(Data!$B130,tabulka_panely_def,25,FALSE))","v":0},{"$f":"IF(Data!$B130<MIN(Panely!$A$9:$A$28),VLOOKUP(Data!$B130,tabulka_kce_def,24,FALSE),VLOOKUP(Data!$B130,tabulka_panely_def,33,FALSE))","v":{"$error":"#N/A"}},{"$f":"Konstrukce!$D$1","v":18.770175404064034},{"$f":"Konstrukce!$D$2","v":19.934229593106764},{"$f":"Konstrukce!$G$1","v":-12},{"$f":"IF(Data!$B130<MIN(Panely!$A$9:$A$28),VLOOKUP(Data!$B130,tabulka_kce_def,59,FALSE),VLOOKUP(Data!$B130,tabulka_panely_def,63,FALSE))","v":""},{"$f":"IF(Data!$B130<MIN(Panely!$A$9:$A$28),VLOOKUP(Data!$B130,tabulka_kce_def,60,FALSE),VLOOKUP(Data!$B130,tabulka_panely_def,64,FALSE))","v":""},{"$f":"IF(Data!$B130<MIN(Panely!$A$9:$A$28),VLOOKUP(Data!$B130,tabulka_kce_def,61,FALSE),VLOOKUP(Data!$B130,tabulka_panely_def,65,FALSE))","v":""},{"$f":"IF(Data!$B130<MIN(Panely!$A$9:$A$28),VLOOKUP(Data!$B130,tabulka_kce_def,25,FALSE),0)","v":0},0,null,null,null,null,"=",{"$f":"IF(Data!$W130<MIN(Panely!$A$9:$A$28),VLOOKUP(Data!$W130,tabulka_kce_def,62,FALSE),VLOOKUP(Data!$W130,tabulka_panely_def,65,FALSE))","v":""},{"$f":"IF(Data!$W130<MIN(Panely!$A$9:$A$28),VLOOKUP(Data!$W130,tabulka_kce_def,Y$1-20,FALSE),VLOOKUP(Data!$W130,tabulka_panely_def,Y$1-18,FALSE))","v":0},{"$f":"IF(Data!$W130<MIN(Panely!$A$9:$A$28),VLOOKUP(Data!$W130,tabulka_kce_def,Z$1-20,FALSE),VLOOKUP(Data!$W130,tabulka_panely_def,Z$1-18,FALSE))","v":0},{"$f":"IF(Data!$W130<MIN(Panely!$A$9:$A$28),VLOOKUP(Data!$W130,tabulka_kce_def,AA$1-20,FALSE),VLOOKUP(Data!$W130,tabulka_panely_def,AA$1-18,FALSE))","v":0},{"$f":"IF(Data!$W130<MIN(Panely!$A$9:$A$28),VLOOKUP(Data!$W130,tabulka_kce_def,AB$1-20,FALSE),VLOOKUP(Data!$W130,tabulka_panely_def,AB$1-18,FALSE))","v":0},{"$f":"IF(Data!$W130<MIN(Panely!$A$9:$A$28),VLOOKUP(Data!$W130,tabulka_kce_def,AC$1-20,FALSE),VLOOKUP(Data!$W130,tabulka_panely_def,AC$1-18,FALSE))","v":0},{"$f":"IF(Data!$W130<MIN(Panely!$A$9:$A$28),VLOOKUP(Data!$W130,tabulka_kce_def,AD$1-20,FALSE),VLOOKUP(Data!$W130,tabulka_panely_def,AD$1-18,FALSE))","v":0},{"$f":"IF(Data!$W130<MIN(Panely!$A$9:$A$28),VLOOKUP(Data!$W130,tabulka_kce_def,AE$1-20,FALSE),VLOOKUP(Data!$W130,tabulka_panely_def,AE$1-18,FALSE))","v":0},{"$f":"IF(Data!$W130<MIN(Panely!$A$9:$A$28),VLOOKUP(Data!$W130,tabulka_kce_def,AF$1-20,FALSE),VLOOKUP(Data!$W130,tabulka_panely_def,AF$1-18,FALSE))","v":0},{"$f":"IF(Data!$W130<MIN(Panely!$A$9:$A$28),VLOOKUP(Data!$W130,tabulka_kce_def,AG$1-20,FALSE),VLOOKUP(Data!$W130,tabulka_panely_def,AG$1-18,FALSE))","v":0},{"$f":"IF(Data!$W130<MIN(Panely!$A$9:$A$28),VLOOKUP(Data!$W130,tabulka_kce_def,AH$1-20,FALSE),VLOOKUP(Data!$W130,tabulka_panely_def,AH$1-18,FALSE))","v":0},{"$f":"IF(Data!$W130<MIN(Panely!$A$9:$A$28),VLOOKUP(Data!$W130,tabulka_kce_def,AI$1-20,FALSE),VLOOKUP(Data!$W130,tabulka_panely_def,AI$1-18,FALSE))","v":0},{"$f":"IF(Data!$W130<MIN(Panely!$A$9:$A$28),VLOOKUP(Data!$W130,tabulka_kce_def,AJ$1-20,FALSE),VLOOKUP(Data!$W130,tabulka_panely_def,AJ$1-18,FALSE))","v":0},{"$f":"IF(Data!$W130<MIN(Panely!$A$9:$A$28),VLOOKUP(Data!$W130,tabulka_kce_def,AK$1-20,FALSE),VLOOKUP(Data!$W130,tabulka_panely_def,AK$1-18,FALSE))","v":0},{"$f":"IF(Data!$W130<MIN(Panely!$A$9:$A$28),VLOOKUP(Data!$W130,tabulka_kce_def,AL$1-20,FALSE),VLOOKUP(Data!$W130,tabulka_panely_def,AL$1-18,FALSE))","v":0},{"$f":"IF(Data!$W130<MIN(Panely!$A$9:$A$28),VLOOKUP(Data!$W130,tabulka_kce_def,AM$1-20,FALSE),VLOOKUP(Data!$W130,tabulka_panely_def,AM$1-18,FALSE))","v":0},130,{"$f":"IF(Data!$W130<MIN(Panely!$A$9:$A$28),VLOOKUP(Data!$W130,tabulka_kce_def,63,FALSE),0)","v":0},{"$f":"IF(Data!$W130<MIN(Panely!$A$9:$A$28),VLOOKUP(Data!$W130,tabulka_kce_def,28,FALSE),1)","v":1},{"$f":"IF(Data!$W130<MIN(Panely!$A$9:$A$28),VLOOKUP(Data!$W130,tabulka_kce_def,23,FALSE),VLOOKUP(Data!$W130,tabulka_panely_def,24,FALSE))","v":0},null,0,null,0,0,{"$error":"#N/A"},0,{"$f":"IF(AND(W130>MAX(Konstrukce!A:A),ISNUMBER(W130)),1,0)","v":0}]
[null,"=",{"$f":"IF(Data!$B131<MIN(Panely!$A$9:$A$28),VLOOKUP(Data!$B131,tabulka_kce_def,4,FALSE),VLOOKUP(Data!$B131,tabulka_panely_def,4,FALSE))","v":0},{"$f":"IF(Data!$B131<MIN(Panely!$A$9:$A$28),VLOOKUP(Data!$B131,tabulka_kce_def,23,FALSE),VLOOKUP(Data!$B131,tabulka_panely_def,24,FALSE))","v":0},{"$f":"IF(Data!$B131<MIN(Panely!$A$9:$A$28),VLOOKUP(Data!$B131,tabulka_kce_def,21,FALSE),VLOOKUP(Data!$B131,tabulka_panely_def,22,FALSE))","v":0},{"$f":"IF(Data!$B131<MIN(Panely!$A$9:$A$28),VLOOKUP(Data!$B131,tabulka_kce_def,26,FALSE),VLOOKUP(Data!$B131,tabulka_panely_def,31,FALSE))","v":{"$error":"#DIV/0!"}},{"$f":"IF(Data!$B131<MIN(Panely!$A$9:$A$28),VLOOKUP(Data!$B131,tabulka_kce_def,27,FALSE),VLOOKUP(Data!$B131,tabulka_panely_def,32,FALSE))","v":{"$error":"#DIV/0!"}},{"$f":"IF(VLOOKUP(Data!$B131,tabulka_kce_def,3,FALSE)=\"\",Konstrukce!$G$1,IF(VLOOKUP(Data!$B131,tabulka_kce_def,3,FALSE)=\"z\",Konstrukce!$G$2,VLOOKUP(Data!$B131,tabulka_kce_def,3,FALSE)))","v":{"$error":"#N/A"}},{"$f":"IF(Data!$B131<MIN(Panely!$A$9:$A$28),0,VLOOKUP(Data!$B131,tabulka_panely_def,25,FALSE))","v":0},{"$f":"IF(Data!$B131<MIN(Panely!$A$9:$A$28),VLOOKUP(Data!$B131,tabulka_kce_def,24,FALSE),VLOOKUP(Data!$B131,tabulka_panely_def,33,FALSE))","v":{"$error":"#N/A"}},{"$f":"Konstrukce!$D$1","v":18.770175404064034},{"$f":"Konstrukce!$D$2","v":19.934229593106764},{"$f":"Konstrukce!$G$1","v":-12},{"$f":"IF(Data!$B131<MIN(Panely!$A$9:$A$28),VLOOKUP(Data!$B131,tabulka_kce_def,59,FALSE),VLOOKUP(Data!$B131,tabulka_panely_def,63,FALSE))","v":""},{"$f":"IF(Data!$B131<MIN(Panely!$A$9:$A$28),VLOOKUP(Data!$B131,tabulka_kce_def,60,FALSE),VLOOKUP(Data!$B131,tabulka_panely_def,64,FALSE))","v":""},{"$f":"IF(Data!$B131<MIN(Panely!$A$9:$A$28),VLOOKUP(Data!$B131,tabulka_kce_def,61,FALSE),VLOOKUP(Data!$B131,tabulka_panely_def,65,FALSE))","v":""},{"$f":"IF(Data!$B131<MIN(Panely!$A$9:$A$28),VLOOKUP(Data!$B131,tabulka_kce_def,25,FALSE),0)","v":0},{"$f":"IF(O131=\"f\",VLOOKUP(VALUE(P131),tabulka_data,3,FALSE),D131)","v":0},null,null,null,null,"=",{"$f":"IF(Data!$W131<MIN(Panely!$A$9:$A$28),VLOOKUP(Data!$W131,tabulka_kce_def,62,FALSE),VLOOKUP(Data!$W131,tabulka_panely_def,65,FALSE))","v":""},{"$f":"IF(Data!$W131<MIN(Panely!$A$9:$A$28),VLOOKUP(Data!$W131,tabulka_kce_def,Y$1-20,FALSE),VLOOKUP(Data!$W131,tabulka_panely_def,Y$1-18,FALSE))","v":0},{"$f":"IF(Data!$W131<MIN(Panely!$A$9:$A$28),VLOOKUP(Data!$W131,tabulka_kce_def,Z$1-20,FALSE),VLOOKUP(Data!$W131,tabulka_panely_def,Z$1-18,FALSE))","v":0},{"$f":"IF(Data!$W131<MIN(Panely!$A$9:$A$28),VLOOKUP(Data!$W131,tabulka_kce_def,AA$1-20,FALSE),VLOOKUP(Data!$W131,tabulka_panely_def,AA$1-18,FALSE))","v":0},{"$f":"IF(Data!$W131<MIN(Panely!$A$9:$A$28),VLOOKUP(Data!$W131,tabulka_kce_def,AB$1-20,FALSE),VLOOKUP(Data!$W131,tabulka_panely_def,AB$1-18,FALSE))","v":0},{"$f":"IF(Data!$W131<MIN(Panely!$A$9:$A$28),VLOOKUP(Data!$W131,tabulka_kce_def,AC$1-20,FALSE),VLOOKUP(Data!$W131,tabulka_panely_def,AC$1-18,FALSE))","v":0},{"$f":"IF(Data!$W131<MIN(Panely!$A$9:$A$28),VLOOKUP(Data!$W131,tabulka_kce_def,AD$1-20,FALSE),VLOOKUP(Data!$W131,tabulka_panely_def,AD$1-18,FALSE))","v":0},{"$f":"IF(Data!$W131<MIN(Panely!$A$9:$A$28),VLOOKUP(Data!$W131,tabulka_kce_def,AE$1-20,FALSE),VLOOKUP(Data!$W131,tabulka_panely_def,AE$1-18,FALSE))","v":0},{"$f":"IF(Data!$W131<MIN(Panely!$A$9:$A$28),VLOOKUP(Data!$W131,tabulka_kce_def,AF$1-20,FALSE),VLOOKUP(Data!$W131,tabulka_panely_def,AF$1-18,FALSE))","v":0},{"$f":"IF(Data!$W131<MIN(Panely!$A$9:$A$28),VLOOKUP(Data!$W131,tabulka_kce_def,AG$1-20,FALSE),VLOOKUP(Data!$W131,tabulka_panely_def,AG$1-18,FALSE))","v":0},{"$f":"IF(Data!$W131<MIN(Panely!$A$9:$A$28),VLOOKUP(Data!$W131,tabulka_kce_def,AH$1-20,FALSE),VLOOKUP(Data!$W131,tabulka_panely_def,AH$1-18,FALSE))","v":0},{"$f":"IF(Data!$W131<MIN(Panely!$A$9:$A$28),VLOOKUP(Data!$W131,tabulka_kce_def,AI$1-20,FALSE),VLOOKUP(Data!$W131,tabulka_panely_def,AI$1-18,FALSE))","v":0},{"$f":"IF(Data!$W131<MIN(Panely!$A$9:$A$28),VLOOKUP(Data!$W131,tabulka_kce_def,AJ$1-20,FALSE),VLOOKUP(Data!$W131,tabulka_panely_def,AJ$1-18,FALSE))","v":0},{"$f":"IF(Data!$W131<MIN(Panely!$A$9:$A$28),VLOOKUP(Data!$W131,tabulka_kce_def,AK$1-20,FALSE),VLOOKUP(Data!$W131,tabulka_panely_def,AK$1-18,FALSE))","v":0},{"$f":"IF(Data!$W131<MIN(Panely!$A$9:$A$28),VLOOKUP(Data!$W131,tabulka_kce_def,AL$1-20,FALSE),VLOOKUP(Data!$W131,tabulka_panely_def,AL$1-18,FALSE))","v":0},{"$f":"IF(Data!$W131<MIN(Panely!$A$9:$A$28),VLOOKUP(Data!$W131,tabulka_kce_def,AM$1-20,FALSE),VLOOKUP(Data!$W131,tabulka_panely_def,AM$1-18,FALSE))","v":0},131,{"$f":"IF(Data!$W131<MIN(Panely!$A$9:$A$28),VLOOKUP(Data!$W131,tabulka_kce_def,63,FALSE),0)","v":0},{"$f":"IF(Data!$W131<MIN(Panely!$A$9:$A$28),VLOOKUP(Data!$W131,tabulka_kce_def,28,FALSE),1)","v":1},{"$f":"IF(Data!$W131<MIN(Panely!$A$9:$A$28),VLOOKUP(Data!$W131,tabulka_kce_def,23,FALSE),VLOOKUP(Data!$W131,tabulka_panely_def,24,FALSE))","v":0},null,0,null,0,0,{"$error":"#N/A"},0,{"$f":"IF(AND(W131>MAX(Konstrukce!A:A),ISNUMBER(W131)),1,0)","v":0}]
[null,"=",{"$f":"IF(Data!$B132<MIN(Panely!$A$9:$A$28),VLOOKUP(Data!$B132,tabulka_kce_def,4,FALSE),VLOOKUP(Data!$B132,tabulka_panely_def,4,FALSE))","v":0},{"$f":"IF(Data!$B132<MIN(Panely!$A$9:$A$28),VLOOKUP(Data!$B132,tabulka_kce_def,23,FALSE),VLOOKUP(Data!$B132,tabulka_panely_def,24,FALSE))","v":0},{"$f":"IF(Data!$B132<MIN(Panely!$A$9:$A$28),VLOOKUP(Data!$B132,tabulka_kce_def,21,FALSE),VLOOKUP(Data!$B132,tabulka_panely_def,22,FALSE))","v":0},{"$f":"IF(Data!$B132<MIN(Panely!$A$9:$A$28),VLOOKUP(Data!$B132,tabulka_kce_def,26,FALSE),VLOOKUP(Data!$B132,tabulka_panely_def,31,FALSE))","v":{"$error":"#DIV/0!"}},{"$f":"IF(Data!$B132<MIN(Panely!$A$9:$A$28),VLOOKUP(Data!$B132,tabulka_kce_def,27,FALSE),VLOOKUP(Data!$B132,tabulka_panely_def,32,FALSE))","v":{"$error":"#DIV/0!"}},{"$f":"IF(VLOOKUP(Data!$B132,tabulka_kce_def,3,FALSE)=\"\",Konstrukce!$G$1,IF(VLOOKUP(Data!$B132,tabulka_kce_def,3,FALSE)=\"z\",Konstrukce!$G$2,VLOOKUP(Data!$B132,tabulka_kce_def,3,FALSE)))","v":{"$error":"#N/A"}},{"$f":"IF(Data!$B132<MIN(Panely!$A$9:$A$28),0,VLOOKUP(Data!$B132,tabulka_panely_def,25,FALSE))","v":0},{"$f":"IF(Data!$B132<MIN(Panely!$A$9:$A$28),VLOOKUP(Data!$B132,tabulka_kce_def,24,FALSE),VLOOKUP(Data!$B132,tabulka_panely_def,33,FALSE))","v":{"$error":"#N/A"}},{"$f":"Konstrukce!$D$1","v":18.770175404064034},{"$f":"Konstrukce!$D$2","v":19.934229593106764},{"$f":"Konstrukce!$G$1","v":-12},{"$f":"IF(Data!$B132<MIN(Panely!$A$9:$A$28),VLOOKUP(Data!$B132,tabulka_kce_def,59,FALSE),VLOOKUP(Data!$B132,tabulka_panely_def,63,FALSE))","v":""},{"$f":"IF(Data!$B132<MIN(Panely!$A$9:$A$28),VLOOKUP(Data!$B132,tabulka_kce_def,60,FALSE),VLOOKUP(Data!$B132,tabulka_panely_def,64,FALSE))","v":""},{"$f":"IF(Data!$B132<MIN(Panely!$A$9:$A$28),VLOOKUP(Data!$B132,tabulka_kce_def,61,FALSE),VLOOKUP(Data!$B132,tabulka_panely_def,65,FALSE))","v":""},{"$f":"IF(Data!$B132<MIN(Panely!$A$9:$A$28),VLOOKUP(Data!$B132,tabulka_kce_def,25,FALSE),0)","v":0},0,null,null,null,null,"=",{"$f":"IF(Data!$W132<MIN(Panely!$A$9:$A$28),VLOOKUP(Data!$W132,tabulka_kce_def,62,FALSE),VLOOKUP(Data!$W132,tabulka_panely_def,65,FALSE))","v":""},{"$f":"IF(Data!$W132<MIN(Panely!$A$9:$A$28),VLOOKUP(Data!$W132,tabulka_kce_def,Y$1-20,FALSE),VLOOKUP(Data!$W132,tabulka_panely_def,Y$1-18,FALSE))","v":0},{"$f":"IF(Data!$W132<MIN(Panely!$A$9:$A$28),VLOOKUP(Data!$W132,tabulka_kce_def,Z$1-20,FALSE),VLOOKUP(Data!$W132,tabulka_panely_def,Z$1-18,FALSE))","v":0},{"$f":"IF(Data!$W132<MIN(Panely!$A$9:$A$28),VLOOKUP(Data!$W132,tabulka_kce_def,AA$1-20,FALSE),VLOOKUP(Data!$W132,tabulka_panely_def,AA$1-18,FALSE))","v":0},{"$f":"IF(Data!$W132<MIN(Panely!$A$9:$A$28),VLOOKUP(Data!$W132,tabulka_kce_def,AB$1-20,FALSE),VLOOKUP(Data!$W132,tabulka_panely_def,AB$1-18,FALSE))","v":0},{"$f":"IF(Data!$W132<MIN(Panely!$A$9:$A$28),VLOOKUP(Data!$W132,tabulka_kce_def,AC$1-20,FALSE),VLOOKUP(Data!$W132,tabulka_panely_def,AC$1-18,FALSE))","v":0},{"$f":"IF(Data!$W132<MIN(Panely!$A$9:$A$28),VLOOKUP(Data!$W132,tabulka_kce_def,AD$1-20,FALSE),VLOOKUP(Data!$W132,tabulka_panely_def,AD$1-18,FALSE))","v":0},{"$f":"IF(Data!$W132<MIN(Panely!$A$9:$A$28),VLOOKUP(Data!$W132,tabulka_kce_def,AE$1-20,FALSE),VLOOKUP(Data!$W132,tabulka_panely_def,AE$1-18,FALSE))","v":0},{"$f":"IF(Data!$W132<MIN(Panely!$A$9:$A$28),VLOOKUP(Data!$W132,tabulka_kce_def,AF$1-20,FALSE),VLOOKUP(Data!$W132,tabulka_panely_def,AF$1-18,FALSE))","v":0},{"$f":"IF(Data!$W132<MIN(Panely!$A$9:$A$28),VLOOKUP(Data!$W132,tabulka_kce_def,AG$1-20,FALSE),VLOOKUP(Data!$W132,tabulka_panely_def,AG$1-18,FALSE))","v":0},{"$f":"IF(Data!$W132<MIN(Panely!$A$9:$A$28),VLOOKUP(Data!$W132,tabulka_kce_def,AH$1-20,FALSE),VLOOKUP(Data!$W132,tabulka_panely_def,AH$1-18,FALSE))","v":0},{"$f":"IF(Data!$W132<MIN(Panely!$A$9:$A$28),VLOOKUP(Data!$W132,tabulka_kce_def,AI$1-20,FALSE),VLOOKUP(Data!$W132,tabulka_panely_def,AI$1-18,FALSE))","v":0},{"$f":"IF(Data!$W132<MIN(Panely!$A$9:$A$28),VLOOKUP(Data!$W132,tabulka_kce_def,AJ$1-20,FALSE),VLOOKUP(Data!$W132,tabulka_panely_def,AJ$1-18,FALSE))","v":0},{"$f":"IF(Data!$W132<MIN(Panely!$A$9:$A$28),VLOOKUP(Data!$W132,tabulka_kce_def,AK$1-20,FALSE),VLOOKUP(Data!$W132,tabulka_panely_def,AK$1-18,FALSE))","v":0},{"$f":"IF(Data!$W132<MIN(Panely!$A$9:$A$28),VLOOKUP(Data!$W132,tabulka_kce_def,AL$1-20,FALSE),VLOOKUP(Data!$W132,tabulka_panely_def,AL$1-18,FALSE))","v":0},{"$f":"IF(Data!$W132<MIN(Panely!$A$9:$A$28),VLOOKUP(Data!$W132,tabulka_kce_def,AM$1-20,FALSE),VLOOKUP(Data!$W132,tabulka_panely_def,AM$1-18,FALSE))","v":0},132,{"$f":"IF(Data!$W132<MIN(Panely!$A$9:$A$28),VLOOKUP(Data!$W132,tabulka_kce_def,63,FALSE),0)","v":0},{"$f":"IF(Data!$W132<MIN(Panely!$A$9:$A$28),VLOOKUP(Data!$W132,tabulka_kce_def,28,FALSE),1)","v":1},{"$f":"IF(Data!$W132<MIN(Panely!$A$9:$A$28),VLOOKUP(Data!$W132,tabulka_kce_def,23,FALSE),VLOOKUP(Data!$W132,tabulka_panely_def,24,FALSE))","v":0},null,0,null,0,0,{"$error":"#N/A"},0,{"$f":"IF(AND(W132>MAX(Konstrukce!A:A),ISNUMBER(W132)),1,0)","v":0}]
[null,"=",{"$f":"IF(Data!$B133<MIN(Panely!$A$9:$A$28),VLOOKUP(Data!$B133,tabulka_kce_def,4,FALSE),VLOOKUP(Data!$B133,tabulka_panely_def,4,FALSE))","v":0},{"$f":"IF(Data!$B133<MIN(Panely!$A$9:$A$28),VLOOKUP(Data!$B133,tabulka_kce_def,23,FALSE),VLOOKUP(Data!$B133,tabulka_panely_def,24,FALSE))","v":0},{"$f":"IF(Data!$B133<MIN(Panely!$A$9:$A$28),VLOOKUP(Data!$B133,tabulka_kce_def,21,FALSE),VLOOKUP(Data!$B133,tabulka_panely_def,22,FALSE))","v":0},{"$f":"IF(Data!$B133<MIN(Panely!$A$9:$A$28),VLOOKUP(Data!$B133,tabulka_kce_def,26,FALSE),VLOOKUP(Data!$B133,tabulka_panely_def,31,FALSE))","v":{"$error":"#DIV/0!"}},{"$f":"IF(Data!$B133<MIN(Panely!$A$9:$A$28),VLOOKUP(Data!$B133,tabulka_kce_def,27,FALSE),VLOOKUP(Data!$B133,tabulka_panely_def,32,FALSE))","v":{"$error":"#DIV/0!"}},{"$f":"IF(VLOOKUP(Data!$B133,tabulka_kce_def,3,FALSE)=\"\",Konstrukce!$G$1,IF(VLOOKUP(Data!$B133,tabulka_kce_def,3,FALSE)=\"z\",Konstrukce!$G$2,VLOOKUP(Data!$B133,tabulka_kce_def,3,FALSE)))","v":{"$error":"#N/A"}},{"$f":"IF(Data!$B133<MIN(Panely!$A$9:$A$28),0,VLOOKUP(Data!$B133,tabulka_panely_def,25,FALSE))","v":0},{"$f":"IF(Data!$B133<MIN(Panely!$A$9:$A$28),VLOOKUP(Data!$B133,tabulka_kce_def,24,FALSE),VLOOKUP(Data!$B133,tabulka_panely_def,33,FALSE))","v":{"$error":"#N/A"}},{"$f":"Konstrukce!$D$1","v":18.770175404064034},{"$f":"Konstrukce!$D$2","v":19.934229593106764},{"$f":"Konstrukce!$G$1","v":-12},{"$f":"IF(Data!$B133<MIN(Panely!$A$9:$A$28),VLOOKUP(Data!$B133,tabulka_kce_def,59,FALSE),VLOOKUP(Data!$B133,tabulka_panely_def,63,FALSE))","v":""},{"$f":"IF(Data!$B133<MIN(Panely!$A$9:$A$28),VLOOKUP(Data!$B133,tabulka_kce_def,60,FALSE),VLOOKUP(Data!$B133,tabulka_panely_def,64,FALSE))","v":""},{"$f":"IF(Data!$B133<MIN(Panely!$A$9:$A$28),VLOOKUP(Data!$B133,tabulka_kce_def,61,FALSE),VLOOKUP(Data!$B133,tabulka_panely_def,65,FALSE))","v":""},{"$f":"IF(Data!$B133<MIN(Panely!$A$9:$A$28),VLOOKUP(Data!$B133,tabulka_kce_def,25,FALSE),0)","v":0},0,null,null,null,null,"=",{"$f":"IF(Data!$W133<MIN(Panely!$A$9:$A$28),VLOOKUP(Data!$W133,tabulka_kce_def,62,FALSE),VLOOKUP(Data!$W133,tabulka_panely_def,65,FALSE))","v":""},{"$f":"IF(Data!$W133<MIN(Panely!$A$9:$A$28),VLOOKUP(Data!$W133,tabulka_kce_def,Y$1-20,FALSE),VLOOKUP(Data!$W133,tabulka_panely_def,Y$1-18,FALSE))","v":0},{"$f":"IF(Data!$W133<MIN(Panely!$A$9:$A$28),VLOOKUP(Data!$W133,tabulka_kce_def,Z$1-20,FALSE),VLOOKUP(Data!$W133,tabulka_panely_def,Z$1-18,FALSE))","v":0},{"$f":"IF(Data!$W133<MIN(Panely!$A$9:$A$28),VLOOKUP(Data!$W133,tabulka_kce_def,AA$1-20,FALSE),VLOOKUP(Data!$W133,tabulka_panely_def,AA$1-18,FALSE))","v":0},{"$f":"IF(Data!$W133<MIN(Panely!$A$9:$A$28),VLOOKUP(Data!$W133,tabulka_kce_def,AB$1-20,FALSE),VLOOKUP(Data!$W133,tabulka_panely_def,AB$1-18,FALSE))","v":0},{"$f":"IF(Data!$W133<MIN(Panely!$A$9:$A$28),VLOOKUP(Data!$W133,tabulka_kce_def,AC$1-20,FALSE),VLOOKUP(Data!$W133,tabulka_panely_def,AC$1-18,FALSE))","v":0},{"$f":"IF(Data!$W133<MIN(Panely!$A$9:$A$28),VLOOKUP(Data!$W133,tabulka_kce_def,AD$1-20,FALSE),VLOOKUP(Data!$W133,tabulka_panely_def,AD$1-18,FALSE))","v":0},{"$f":"IF(Data!$W133<MIN(Panely!$A$9:$A$28),VLOOKUP(Data!$W133,tabulka_kce_def,AE$1-20,FALSE),VLOOKUP(Data!$W133,tabulka_panely_def,AE$1-18,FALSE))","v":0},{"$f":"IF(Data!$W133<MIN(Panely!$A$9:$A$28),VLOOKUP(Data!$W133,tabulka_kce_def,AF$1-20,FALSE),VLOOKUP(Data!$W133,tabulka_panely_def,AF$1-18,FALSE))","v":0},{"$f":"IF(Data!$W133<MIN(Panely!$A$9:$A$28),VLOOKUP(Data!$W133,tabulka_kce_def,AG$1-20,FALSE),VLOOKUP(Data!$W133,tabulka_panely_def,AG$1-18,FALSE))","v":0},{"$f":"IF(Data!$W133<MIN(Panely!$A$9:$A$28),VLOOKUP(Data!$W133,tabulka_kce_def,AH$1-20,FALSE),VLOOKUP(Data!$W133,tabulka_panely_def,AH$1-18,FALSE))","v":0},{"$f":"IF(Data!$W133<MIN(Panely!$A$9:$A$28),VLOOKUP(Data!$W133,tabulka_kce_def,AI$1-20,FALSE),VLOOKUP(Data!$W133,tabulka_panely_def,AI$1-18,FALSE))","v":0},{"$f":"IF(Data!$W133<MIN(Panely!$A$9:$A$28),VLOOKUP(Data!$W133,tabulka_kce_def,AJ$1-20,FALSE),VLOOKUP(Data!$W133,tabulka_panely_def,AJ$1-18,FALSE))","v":0},{"$f":"IF(Data!$W133<MIN(Panely!$A$9:$A$28),VLOOKUP(Data!$W133,tabulka_kce_def,AK$1-20,FALSE),VLOOKUP(Data!$W133,tabulka_panely_def,AK$1-18,FALSE))","v":0},{"$f":"IF(Data!$W133<MIN(Panely!$A$9:$A$28),VLOOKUP(Data!$W133,tabulka_kce_def,AL$1-20,FALSE),VLOOKUP(Data!$W133,tabulka_panely_def,AL$1-18,FALSE))","v":0},{"$f":"IF(Data!$W133<MIN(Panely!$A$9:$A$28),VLOOKUP(Data!$W133,tabulka_kce_def,AM$1-20,FALSE),VLOOKUP(Data!$W133,tabulka_panely_def,AM$1-18,FALSE))","v":0},133,{"$f":"IF(Data!$W133<MIN(Panely!$A$9:$A$28),VLOOKUP(Data!$W133,tabulka_kce_def,63,FALSE),0)","v":0},{"$f":"IF(Data!$W133<MIN(Panely!$A$9:$A$28),VLOOKUP(Data!$W133,tabulka_kce_def,28,FALSE),1)","v":1},{"$f":"IF(Data!$W133<MIN(Panely!$A$9:$A$28),VLOOKUP(Data!$W133,tabulka_kce_def,23,FALSE),VLOOKUP(Data!$W133,tabulka_panely_def,24,FALSE))","v":0},null,0,null,0,0,{"$error":"#N/A"},0,{"$f":"IF(AND(W133>MAX(Konstrukce!A:A),ISNUMBER(W133)),1,0)","v":0}]
[null,"=",{"$f":"IF(Data!$B134<MIN(Panely!$A$9:$A$28),VLOOKUP(Data!$B134,tabulka_kce_def,4,FALSE),VLOOKUP(Data!$B134,tabulka_panely_def,4,FALSE))","v":0},{"$f":"IF(Data!$B134<MIN(Panely!$A$9:$A$28),VLOOKUP(Data!$B134,tabulka_kce_def,23,FALSE),VLOOKUP(Data!$B134,tabulka_panely_def,24,FALSE))","v":0},{"$f":"IF(Data!$B134<MIN(Panely!$A$9:$A$28),VLOOKUP(Data!$B134,tabulka_kce_def,21,FALSE),VLOOKUP(Data!$B134,tabulka_panely_def,22,FALSE))","v":0},{"$f":"IF(Data!$B134<MIN(Panely!$A$9:$A$28),VLOOKUP(Data!$B134,tabulka_kce_def,26,FALSE),VLOOKUP(Data!$B134,tabulka_panely_def,31,FALSE))","v":{"$error":"#DIV/0!"}},{"$f":"IF(Data!$B134<MIN(Panely!$A$9:$A$28),VLOOKUP(Data!$B134,tabulka_kce_def,27,FALSE),VLOOKUP(Data!$B134,tabulka_panely_def,32,FALSE))","v":{"$error":"#DIV/0!"}},{"$f":"IF(VLOOKUP(Data!$B134,tabulka_kce_def,3,FALSE)=\"\",Konstrukce!$G$1,IF(VLOOKUP(Data!$B134,tabulka_kce_def,3,FALSE)=\"z\",Konstrukce!$G$2,VLOOKUP(Data!$B134,tabulka_kce_def,3,FALSE)))","v":{"$error":"#N/A"}},{"$f":"IF(Data!$B134<MIN(Panely!$A$9:$A$28),0,VLOOKUP(Data!$B134,tabulka_panely_def,25,FALSE))","v":0},{"$f":"IF(Data!$B134<MIN(Panely!$A$9:$A$28),VLOOKUP(Data!$B134,tabulka_kce_def,24,FALSE),VLOOKUP(Data!$B134,tabulka_panely_def,33,FALSE))","v":{"$error":"#N/A"}},{"$f":"Konstrukce!$D$1","v":18.770175404064034},{"$f":"Konstrukce!$D$2","v":19.934229593106764},{"$f":"Konstrukce!$G$1","v":-12},{"$f":"IF(Data!$B134<MIN(Panely!$A$9:$A$28),VLOOKUP(Data!$B134,tabulka_kce_def,59,FALSE),VLOOKUP(Data!$B134,tabulka_panely_def,63,FALSE))","v":""},{"$f":"IF(Data!$B134<MIN(Panely!$A$9:$A$28),VLOOKUP(Data!$B134,tabulka_kce_def,60,FALSE),VLOOKUP(Data!$B134,tabulka_panely_def,64,FALSE))","v":""},{"$f":"IF(Data!$B134<MIN(Panely!$A$9:$A$28),VLOOKUP(Data!$B134,tabulka_kce_def,61,FALSE),VLOOKUP(Data!$B134,tabulka_panely_def,65,FALSE))","v":""},{"$f":"IF(Data!$B134<MIN(Panely!$A$9:$A$28),VLOOKUP(Data!$B134,tabulka_kce_def,25,FALSE),0)","v":0},0,null,null,null,null,"=",{"$f":"IF(Data!$W134<MIN(Panely!$A$9:$A$28),VLOOKUP(Data!$W134,tabulka_kce_def,62,FALSE),VLOOKUP(Data!$W134,tabulka_panely_def,65,FALSE))","v":""},{"$f":"IF(Data!$W134<MIN(Panely!$A$9:$A$28),VLOOKUP(Data!$W134,tabulka_kce_def,Y$1-20,FALSE),VLOOKUP(Data!$W134,tabulka_panely_def,Y$1-18,FALSE))","v":0},{"$f":"IF(Data!$W134<MIN(Panely!$A$9:$A$28),VLOOKUP(Data!$W134,tabulka_kce_def,Z$1-20,FALSE),VLOOKUP(Data!$W134,tabulka_panely_def,Z$1-18,FALSE))","v":0},{"$f":"IF(Data!$W134<MIN(Panely!$A$9:$A$28),VLOOKUP(Data!$W134,tabulka_kce_def,AA$1-20,FALSE),VLOOKUP(Data!$W134,tabulka_panely_def,AA$1-18,FALSE))","v":0},{"$f":"IF(Data!$W134<MIN(Panely!$A$9:$A$28),VLOOKUP(Data!$W134,tabulka_kce_def,AB$1-20,FALSE),VLOOKUP(Data!$W134,tabulka_panely_def,AB$1-18,FALSE))","v":0},{"$f":"IF(Data!$W134<MIN(Panely!$A$9:$A$28),VLOOKUP(Data!$W134,tabulka_kce_def,AC$1-20,FALSE),VLOOKUP(Data!$W134,tabulka_panely_def,AC$1-18,FALSE))","v":0},{"$f":"IF(Data!$W134<MIN(Panely!$A$9:$A$28),VLOOKUP(Data!$W134,tabulka_kce_def,AD$1-20,FALSE),VLOOKUP(Data!$W134,tabulka_panely_def,AD$1-18,FALSE))","v":0},{"$f":"IF(Data!$W134<MIN(Panely!$A$9:$A$28),VLOOKUP(Data!$W134,tabulka_kce_def,AE$1-20,FALSE),VLOOKUP(Data!$W134,tabulka_panely_def,AE$1-18,FALSE))","v":0},{"$f":"IF(Data!$W134<MIN(Panely!$A$9:$A$28),VLOOKUP(Data!$W134,tabulka_kce_def,AF$1-20,FALSE),VLOOKUP(Data!$W134,tabulka_panely_def,AF$1-18,FALSE))","v":0},{"$f":"IF(Data!$W134<MIN(Panely!$A$9:$A$28),VLOOKUP(Data!$W134,tabulka_kce_def,AG$1-20,FALSE),VLOOKUP(Data!$W134,tabulka_panely_def,AG$1-18,FALSE))","v":0},{"$f":"IF(Data!$W134<MIN(Panely!$A$9:$A$28),VLOOKUP(Data!$W134,tabulka_kce_def,AH$1-20,FALSE),VLOOKUP(Data!$W134,tabulka_panely_def,AH$1-18,FALSE))","v":0},{"$f":"IF(Data!$W134<MIN(Panely!$A$9:$A$28),VLOOKUP(Data!$W134,tabulka_kce_def,AI$1-20,FALSE),VLOOKUP(Data!$W134,tabulka_panely_def,AI$1-18,FALSE))","v":0},{"$f":"IF(Data!$W134<MIN(Panely!$A$9:$A$28),VLOOKUP(Data!$W134,tabulka_kce_def,AJ$1-20,FALSE),VLOOKUP(Data!$W134,tabulka_panely_def,AJ$1-18,FALSE))","v":0},{"$f":"IF(Data!$W134<MIN(Panely!$A$9:$A$28),VLOOKUP(Data!$W134,tabulka_kce_def,AK$1-20,FALSE),VLOOKUP(Data!$W134,tabulka_panely_def,AK$1-18,FALSE))","v":0},{"$f":"IF(Data!$W134<MIN(Panely!$A$9:$A$28),VLOOKUP(Data!$W134,tabulka_kce_def,AL$1-20,FALSE),VLOOKUP(Data!$W134,tabulka_panely_def,AL$1-18,FALSE))","v":0},{"$f":"IF(Data!$W134<MIN(Panely!$A$9:$A$28),VLOOKUP(Data!$W134,tabulka_kce_def,AM$1-20,FALSE),VLOOKUP(Data!$W134,tabulka_panely_def,AM$1-18,FALSE))","v":0},134,{"$f":"IF(Data!$W134<MIN(Panely!$A$9:$A$28),VLOOKUP(Data!$W134,tabulka_kce_def,63,FALSE),0)","v":0},{"$f":"IF(Data!$W134<MIN(Panely!$A$9:$A$28),VLOOKUP(Data!$W134,tabulka_kce_def,28,FALSE),1)","v":1},{"$f":"IF(Data!$W134<MIN(Panely!$A$9:$A$28),VLOOKUP(Data!$W134,tabulka_kce_def,23,FALSE),VLOOKUP(Data!$W134,tabulka_panely_def,24,FALSE))","v":0},null,0,null,0,0,{"$error":"#N/A"},0,{"$f":"IF(AND(W134>MAX(Konstrukce!A:A),ISNUMBER(W134)),1,0)","v":0}]
[null,"=",{"$f":"IF(Data!$B135<MIN(Panely!$A$9:$A$28),VLOOKUP(Data!$B135,tabulka_kce_def,4,FALSE),VLOOKUP(Data!$B135,tabulka_panely_def,4,FALSE))","v":0},{"$f":"IF(Data!$B135<MIN(Panely!$A$9:$A$28),VLOOKUP(Data!$B135,tabulka_kce_def,23,FALSE),VLOOKUP(Data!$B135,tabulka_panely_def,24,FALSE))","v":0},{"$f":"IF(Data!$B135<MIN(Panely!$A$9:$A$28),VLOOKUP(Data!$B135,tabulka_kce_def,21,FALSE),VLOOKUP(Data!$B135,tabulka_panely_def,22,FALSE))","v":0},{"$f":"IF(Data!$B135<MIN(Panely!$A$9:$A$28),VLOOKUP(Data!$B135,tabulka_kce_def,26,FALSE),VLOOKUP(Data!$B135,tabulka_panely_def,31,FALSE))","v":{"$error":"#DIV/0!"}},{"$f":"IF(Data!$B135<MIN(Panely!$A$9:$A$28),VLOOKUP(Data!$B135,tabulka_kce_def,27,FALSE),VLOOKUP(Data!$B135,tabulka_panely_def,32,FALSE))","v":{"$error":"#DIV/0!"}},{"$f":"IF(VLOOKUP(Data!$B135,tabulka_kce_def,3,FALSE)=\"\",Konstrukce!$G$1,IF(VLOOKUP(Data!$B135,tabulka_kce_def,3,FALSE)=\"z\",Konstrukce!$G$2,VLOOKUP(Data!$B135,tabulka_kce_def,3,FALSE)))","v":{"$error":"#N/A"}},{"$f":"IF(Data!$B135<MIN(Panely!$A$9:$A$28),0,VLOOKUP(Data!$B135,tabulka_panely_def,25,FALSE))","v":0},{"$f":"IF(Data!$B135<MIN(Panely!$A$9:$A$28),VLOOKUP(Data!$B135,tabulka_kce_def,24,FALSE),VLOOKUP(Data!$B135,tabulka_panely_def,33,FALSE))","v":{"$error":"#N/A"}},{"$f":"Konstrukce!$D$1","v":18.770175404064034},{"$f":"Konstrukce!$D$2","v":19.934229593106764},{"$f":"Konstrukce!$G$1","v":-12},{"$f":"IF(Data!$B135<MIN(Panely!$A$9:$A$28),VLOOKUP(Data!$B135,tabulka_kce_def,59,FALSE),VLOOKUP(Data!$B135,tabulka_panely_def,63,FALSE))","v":""},{"$f":"IF(Data!$B135<MIN(Panely!$A$9:$A$28),VLOOKUP(Data!$B135,tabulka_kce_def,60,FALSE),VLOOKUP(Data!$B135,tabulka_panely_def,64,FALSE))","v":""},{"$f":"IF(Data!$B135<MIN(Panely!$A$9:$A$28),VLOOKUP(Data!$B135,tabulka_kce_def,61,FALSE),VLOOKUP(Data!$B135,tabulka_panely_def,65,FALSE))","v":""},{"$f":"IF(Data!$B135<MIN(Panely!$A$9:$A$28),VLOOKUP(Data!$B135,tabulka_kce_def,25,FALSE),0)","v":0},0,null,null,null,null,"=",{"$f":"IF(Data!$W135<MIN(Panely!$A$9:$A$28),VLOOKUP(Data!$W135,tabulka_kce_def,62,FALSE),VLOOKUP(Data!$W135,tabulka_panely_def,65,FALSE))","v":""},{"$f":"IF(Data!$W135<MIN(Panely!$A$9:$A$28),VLOOKUP(Data!$W135,tabulka_kce_def,Y$1-20,FALSE),VLOOKUP(Data!$W135,tabulka_panely_def,Y$1-18,FALSE))","v":0},{"$f":"IF(Data!$W135<MIN(Panely!$A$9:$A$28),VLOOKUP(Data!$W135,tabulka_kce_def,Z$1-20,FALSE),VLOOKUP(Data!$W135,tabulka_panely_def,Z$1-18,FALSE))","v":0},{"$f":"IF(Data!$W135<MIN(Panely!$A$9:$A$28),VLOOKUP(Data!$W135,tabulka_kce_def,AA$1-20,FALSE),VLOOKUP(Data!$W135,tabulka_panely_def,AA$1-18,FALSE))","v":0},{"$f":"IF(Data!$W135<MIN(Panely!$A$9:$A$28),VLOOKUP(Data!$W135,tabulka_kce_def,AB$1-20,FALSE),VLOOKUP(Data!$W135,tabulka_panely_def,AB$1-18,FALSE))","v":0},{"$f":"IF(Data!$W135<MIN(Panely!$A$9:$A$28),VLOOKUP(Data!$W135,tabulka_kce_def,AC$1-20,FALSE),VLOOKUP(Data!$W135,tabulka_panely_def,AC$1-18,FALSE))","v":0},{"$f":"IF(Data!$W135<MIN(Panely!$A$9:$A$28),VLOOKUP(Data!$W135,tabulka_kce_def,AD$1-20,FALSE),VLOOKUP(Data!$W135,tabulka_panely_def,AD$1-18,FALSE))","v":0},{"$f":"IF(Data!$W135<MIN(Panely!$A$9:$A$28),VLOOKUP(Data!$W135,tabulka_kce_def,AE$1-20,FALSE),VLOOKUP(Data!$W135,tabulka_panely_def,AE$1-18,FALSE))","v":0},{"$f":"IF(Data!$W135<MIN(Panely!$A$9:$A$28),VLOOKUP(Data!$W135,tabulka_kce_def,AF$1-20,FALSE),VLOOKUP(Data!$W135,tabulka_panely_def,AF$1-18,FALSE))","v":0},{"$f":"IF(Data!$W135<MIN(Panely!$A$9:$A$28),VLOOKUP(Data!$W135,tabulka_kce_def,AG$1-20,FALSE),VLOOKUP(Data!$W135,tabulka_panely_def,AG$1-18,FALSE))","v":0},{"$f":"IF(Data!$W135<MIN(Panely!$A$9:$A$28),VLOOKUP(Data!$W135,tabulka_kce_def,AH$1-20,FALSE),VLOOKUP(Data!$W135,tabulka_panely_def,AH$1-18,FALSE))","v":0},{"$f":"IF(Data!$W135<MIN(Panely!$A$9:$A$28),VLOOKUP(Data!$W135,tabulka_kce_def,AI$1-20,FALSE),VLOOKUP(Data!$W135,tabulka_panely_def,AI$1-18,FALSE))","v":0},{"$f":"IF(Data!$W135<MIN(Panely!$A$9:$A$28),VLOOKUP(Data!$W135,tabulka_kce_def,AJ$1-20,FALSE),VLOOKUP(Data!$W135,tabulka_panely_def,AJ$1-18,FALSE))","v":0},{"$f":"IF(Data!$W135<MIN(Panely!$A$9:$A$28),VLOOKUP(Data!$W135,tabulka_kce_def,AK$1-20,FALSE),VLOOKUP(Data!$W135,tabulka_panely_def,AK$1-18,FALSE))","v":0},{"$f":"IF(Data!$W135<MIN(Panely!$A$9:$A$28),VLOOKUP(Data!$W135,tabulka_kce_def,AL$1-20,FALSE),VLOOKUP(Data!$W135,tabulka_panely_def,AL$1-18,FALSE))","v":0},{"$f":"IF(Data!$W135<MIN(Panely!$A$9:$A$28),VLOOKUP(Data!$W135,tabulka_kce_def,AM$1-20,FALSE),VLOOKUP(Data!$W135,tabulka_panely_def,AM$1-18,FALSE))","v":0},135,{"$f":"IF(Data!$W135<MIN(Panely!$A$9:$A$28),VLOOKUP(Data!$W135,tabulka_kce_def,63,FALSE),0)","v":0},{"$f":"IF(Data!$W135<MIN(Panely!$A$9:$A$28),VLOOKUP(Data!$W135,tabulka_kce_def,28,FALSE),1)","v":1},{"$f":"IF(Data!$W135<MIN(Panely!$A$9:$A$28),VLOOKUP(Data!$W135,tabulka_kce_def,23,FALSE),VLOOKUP(Data!$W135,tabulka_panely_def,24,FALSE))","v":0},null,0,null,0,0,{"$error":"#N/A"},0,{"$f":"IF(AND(W135>MAX(Konstrukce!A:A),ISNUMBER(W135)),1,0)","v":0}]
[null,"=",{"$f":"IF(Data!$B136<MIN(Panely!$A$9:$A$28),VLOOKUP(Data!$B136,tabulka_kce_def,4,FALSE),VLOOKUP(Data!$B136,tabulka_panely_def,4,FALSE))","v":0},{"$f":"IF(Data!$B136<MIN(Panely!$A$9:$A$28),VLOOKUP(Data!$B136,tabulka_kce_def,23,FALSE),VLOOKUP(Data!$B136,tabulka_panely_def,24,FALSE))","v":0},{"$f":"IF(Data!$B136<MIN(Panely!$A$9:$A$28),VLOOKUP(Data!$B136,tabulka_kce_def,21,FALSE),VLOOKUP(Data!$B136,tabulka_panely_def,22,FALSE))","v":0},{"$f":"IF(Data!$B136<MIN(Panely!$A$9:$A$28),VLOOKUP(Data!$B136,tabulka_kce_def,26,FALSE),VLOOKUP(Data!$B136,tabulka_panely_def,31,FALSE))","v":{"$error":"#DIV/0!"}},{"$f":"IF(Data!$B136<MIN(Panely!$A$9:$A$28),VLOOKUP(Data!$B136,tabulka_kce_def,27,FALSE),VLOOKUP(Data!$B136,tabulka_panely_def,32,FALSE))","v":{"$error":"#DIV/0!"}},{"$f":"IF(VLOOKUP(Data!$B136,tabulka_kce_def,3,FALSE)=\"\",Konstrukce!$G$1,IF(VLOOKUP(Data!$B136,tabulka_kce_def,3,FALSE)=\"z\",Konstrukce!$G$2,VLOOKUP(Data!$B136,tabulka_kce_def,3,FALSE)))","v":{"$error":"#N/A"}},{"$f":"IF(Data!$B136<MIN(Panely!$A$9:$A$28),0,VLOOKUP(Data!$B136,tabulka_panely_def,25,FALSE))","v":0},{"$f":"IF(Data!$B136<MIN(Panely!$A$9:$A$28),VLOOKUP(Data!$B136,tabulka_kce_def,24,FALSE),VLOOKUP(Data!$B136,tabulka_panely_def,33,FALSE))","v":{"$error":"#N/A"}},{"$f":"Konstrukce!$D$1","v":18.770175404064034},{"$f":"Konstrukce!$D$2","v":19.934229593106764},{"$f":"Konstrukce!$G$1","v":-12},{"$f":"IF(Data!$B136<MIN(Panely!$A$9:$A$28),VLOOKUP(Data!$B136,tabulka_kce_def,59,FALSE),VLOOKUP(Data!$B136,tabulka_panely_def,63,FALSE))","v":""},{"$f":"IF(Data!$B136<MIN(Panely!$A$9:$A$28),VLOOKUP(Data!$B136,tabulka_kce_def,60,FALSE),VLOOKUP(Data!$B136,tabulka_panely_def,64,FALSE))","v":""},{"$f":"IF(Data!$B136<MIN(Panely!$A$9:$A$28),VLOOKUP(Data!$B136,tabulka_kce_def,61,FALSE),VLOOKUP(Data!$B136,tabulka_panely_def,65,FALSE))","v":""},{"$f":"IF(Data!$B136<MIN(Panely!$A$9:$A$28),VLOOKUP(Data!$B136,tabulka_kce_def,25,FALSE),0)","v":0},0,null,null,null,null,"=",{"$f":"IF(Data!$W136<MIN(Panely!$A$9:$A$28),VLOOKUP(Data!$W136,tabulka_kce_def,62,FALSE),VLOOKUP(Data!$W136,tabulka_panely_def,65,FALSE))","v":""},{"$f":"IF(Data!$W136<MIN(Panely!$A$9:$A$28),VLOOKUP(Data!$W136,tabulka_kce_def,Y$1-20,FALSE),VLOOKUP(Data!$W136,tabulka_panely_def,Y$1-18,FALSE))","v":0},{"$f":"IF(Data!$W136<MIN(Panely!$A$9:$A$28),VLOOKUP(Data!$W136,tabulka_kce_def,Z$1-20,FALSE),VLOOKUP(Data!$W136,tabulka_panely_def,Z$1-18,FALSE))","v":0},{"$f":"IF(Data!$W136<MIN(Panely!$A$9:$A$28),VLOOKUP(Data!$W136,tabulka_kce_def,AA$1-20,FALSE),VLOOKUP(Data!$W136,tabulka_panely_def,AA$1-18,FALSE))","v":0},{"$f":"IF(Data!$W136<MIN(Panely!$A$9:$A$28),VLOOKUP(Data!$W136,tabulka_kce_def,AB$1-20,FALSE),VLOOKUP(Data!$W136,tabulka_panely_def,AB$1-18,FALSE))","v":0},{"$f":"IF(Data!$W136<MIN(Panely!$A$9:$A$28),VLOOKUP(Data!$W136,tabulka_kce_def,AC$1-20,FALSE),VLOOKUP(Data!$W136,tabulka_panely_def,AC$1-18,FALSE))","v":0},{"$f":"IF(Data!$W136<MIN(Panely!$A$9:$A$28),VLOOKUP(Data!$W136,tabulka_kce_def,AD$1-20,FALSE),VLOOKUP(Data!$W136,tabulka_panely_def,AD$1-18,FALSE))","v":0},{"$f":"IF(Data!$W136<MIN(Panely!$A$9:$A$28),VLOOKUP(Data!$W136,tabulka_kce_def,AE$1-20,FALSE),VLOOKUP(Data!$W136,tabulka_panely_def,AE$1-18,FALSE))","v":0},{"$f":"IF(Data!$W136<MIN(Panely!$A$9:$A$28),VLOOKUP(Data!$W136,tabulka_kce_def,AF$1-20,FALSE),VLOOKUP(Data!$W136,tabulka_panely_def,AF$1-18,FALSE))","v":0},{"$f":"IF(Data!$W136<MIN(Panely!$A$9:$A$28),VLOOKUP(Data!$W136,tabulka_kce_def,AG$1-20,FALSE),VLOOKUP(Data!$W136,tabulka_panely_def,AG$1-18,FALSE))","v":0},{"$f":"IF(Data!$W136<MIN(Panely!$A$9:$A$28),VLOOKUP(Data!$W136,tabulka_kce_def,AH$1-20,FALSE),VLOOKUP(Data!$W136,tabulka_panely_def,AH$1-18,FALSE))","v":0},{"$f":"IF(Data!$W136<MIN(Panely!$A$9:$A$28),VLOOKUP(Data!$W136,tabulka_kce_def,AI$1-20,FALSE),VLOOKUP(Data!$W136,tabulka_panely_def,AI$1-18,FALSE))","v":0},{"$f":"IF(Data!$W136<MIN(Panely!$A$9:$A$28),VLOOKUP(Data!$W136,tabulka_kce_def,AJ$1-20,FALSE),VLOOKUP(Data!$W136,tabulka_panely_def,AJ$1-18,FALSE))","v":0},{"$f":"IF(Data!$W136<MIN(Panely!$A$9:$A$28),VLOOKUP(Data!$W136,tabulka_kce_def,AK$1-20,FALSE),VLOOKUP(Data!$W136,tabulka_panely_def,AK$1-18,FALSE))","v":0},{"$f":"IF(Data!$W136<MIN(Panely!$A$9:$A$28),VLOOKUP(Data!$W136,tabulka_kce_def,AL$1-20,FALSE),VLOOKUP(Data!$W136,tabulka_panely_def,AL$1-18,FALSE))","v":0},{"$f":"IF(Data!$W136<MIN(Panely!$A$9:$A$28),VLOOKUP(Data!$W136,tabulka_kce_def,AM$1-20,FALSE),VLOOKUP(Data!$W136,tabulka_panely_def,AM$1-18,FALSE))","v":0},136,{"$f":"IF(Data!$W136<MIN(Panely!$A$9:$A$28),VLOOKUP(Data!$W136,tabulka_kce_def,63,FALSE),0)","v":0},{"$f":"IF(Data!$W136<MIN(Panely!$A$9:$A$28),VLOOKUP(Data!$W136,tabulka_kce_def,28,FALSE),1)","v":1},{"$f":"IF(Data!$W136<MIN(Panely!$A$9:$A$28),VLOOKUP(Data!$W136,tabulka_kce_def,23,FALSE),VLOOKUP(Data!$W136,tabulka_panely_def,24,FALSE))","v":0},null,0,null,0,0,{"$error":"#N/A"},0,{"$f":"IF(AND(W136>MAX(Konstrukce!A:A),ISNUMBER(W136)),1,0)","v":0}]
[null,"=",{"$f":"IF(Data!$B137<MIN(Panely!$A$9:$A$28),VLOOKUP(Data!$B137,tabulka_kce_def,4,FALSE),VLOOKUP(Data!$B137,tabulka_panely_def,4,FALSE))","v":0},{"$f":"IF(Data!$B137<MIN(Panely!$A$9:$A$28),VLOOKUP(Data!$B137,tabulka_kce_def,23,FALSE),VLOOKUP(Data!$B137,tabulka_panely_def,24,FALSE))","v":0},{"$f":"IF(Data!$B137<MIN(Panely!$A$9:$A$28),VLOOKUP(Data!$B137,tabulka_kce_def,21,FALSE),VLOOKUP(Data!$B137,tabulka_panely_def,22,FALSE))","v":0},{"$f":"IF(Data!$B137<MIN(Panely!$A$9:$A$28),VLOOKUP(Data!$B137,tabulka_kce_def,26,FALSE),VLOOKUP(Data!$B137,tabulka_panely_def,31,FALSE))","v":{"$error":"#DIV/0!"}},{"$f":"IF(Data!$B137<MIN(Panely!$A$9:$A$28),VLOOKUP(Data!$B137,tabulka_kce_def,27,FALSE),VLOOKUP(Data!$B137,tabulka_panely_def,32,FALSE))","v":{"$error":"#DIV/0!"}},{"$f":"IF(VLOOKUP(Data!$B137,tabulka_kce_def,3,FALSE)=\"\",Konstrukce!$G$1,IF(VLOOKUP(Data!$B137,tabulka_kce_def,3,FALSE)=\"z\",Konstrukce!$G$2,VLOOKUP(Data!$B137,tabulka_kce_def,3,FALSE)))","v":{"$error":"#N/A"}},{"$f":"IF(Data!$B137<MIN(Panely!$A$9:$A$28),0,VLOOKUP(Data!$B137,tabulka_panely_def,25,FALSE))","v":0},{"$f":"IF(Data!$B137<MIN(Panely!$A$9:$A$28),VLOOKUP(Data!$B137,tabulka_kce_def,24,FALSE),VLOOKUP(Data!$B137,tabulka_panely_def,33,FALSE))","v":{"$error":"#N/A"}},{"$f":"Konstrukce!$D$1","v":18.770175404064034},{"$f":"Konstrukce!$D$2","v":19.934229593106764},{"$f":"Konstrukce!$G$1","v":-12},{"$f":"IF(Data!$B137<MIN(Panely!$A$9:$A$28),VLOOKUP(Data!$B137,tabulka_kce_def,59,FALSE),VLOOKUP(Data!$B137,tabulka_panely_def,63,FALSE))","v":""},{"$f":"IF(Data!$B137<MIN(Panely!$A$9:$A$28),VLOOKUP(Data!$B137,tabulka_kce_def,60,FALSE),VLOOKUP(Data!$B137,tabulka_panely_def,64,FALSE))","v":""},{"$f":"IF(Data!$B137<MIN(Panely!$A$9:$A$28),VLOOKUP(Data!$B137,tabulka_kce_def,61,FALSE),VLOOKUP(Data!$B137,tabulka_panely_def,65,FALSE))","v":""},{"$f":"IF(Data!$B137<MIN(Panely!$A$9:$A$28),VLOOKUP(Data!$B137,tabulka_kce_def,25,FALSE),0)","v":0},0,null,null,null,null,"=",{"$f":"IF(Data!$W137<MIN(Panely!$A$9:$A$28),VLOOKUP(Data!$W137,tabulka_kce_def,62,FALSE),VLOOKUP(Data!$W137,tabulka_panely_def,65,FALSE))","v":""},{"$f":"IF(Data!$W137<MIN(Panely!$A$9:$A$28),VLOOKUP(Data!$W137,tabulka_kce_def,Y$1-20,FALSE),VLOOKUP(Data!$W137,tabulka_panely_def,Y$1-18,FALSE))","v":0},{"$f":"IF(Data!$W137<MIN(Panely!$A$9:$A$28),VLOOKUP(Data!$W137,tabulka_kce_def,Z$1-20,FALSE),VLOOKUP(Data!$W137,tabulka_panely_def,Z$1-18,FALSE))","v":0},{"$f":"IF(Data!$W137<MIN(Panely!$A$9:$A$28),VLOOKUP(Data!$W137,tabulka_kce_def,AA$1-20,FALSE),VLOOKUP(Data!$W137,tabulka_panely_def,AA$1-18,FALSE))","v":0},{"$f":"IF(Data!$W137<MIN(Panely!$A$9:$A$28),VLOOKUP(Data!$W137,tabulka_kce_def,AB$1-20,FALSE),VLOOKUP(Data!$W137,tabulka_panely_def,AB$1-18,FALSE))","v":0},{"$f":"IF(Data!$W137<MIN(Panely!$A$9:$A$28),VLOOKUP(Data!$W137,tabulka_kce_def,AC$1-20,FALSE),VLOOKUP(Data!$W137,tabulka_panely_def,AC$1-18,FALSE))","v":0},{"$f":"IF(Data!$W137<MIN(Panely!$A$9:$A$28),VLOOKUP(Data!$W137,tabulka_kce_def,AD$1-20,FALSE),VLOOKUP(Data!$W137,tabulka_panely_def,AD$1-18,FALSE))","v":0},{"$f":"IF(Data!$W137<MIN(Panely!$A$9:$A$28),VLOOKUP(Data!$W137,tabulka_kce_def,AE$1-20,FALSE),VLOOKUP(Data!$W137,tabulka_panely_def,AE$1-18,FALSE))","v":0},{"$f":"IF(Data!$W137<MIN(Panely!$A$9:$A$28),VLOOKUP(Data!$W137,tabulka_kce_def,AF$1-20,FALSE),VLOOKUP(Data!$W137,tabulka_panely_def,AF$1-18,FALSE))","v":0},{"$f":"IF(Data!$W137<MIN(Panely!$A$9:$A$28),VLOOKUP(Data!$W137,tabulka_kce_def,AG$1-20,FALSE),VLOOKUP(Data!$W137,tabulka_panely_def,AG$1-18,FALSE))","v":0},{"$f":"IF(Data!$W137<MIN(Panely!$A$9:$A$28),VLOOKUP(Data!$W137,tabulka_kce_def,AH$1-20,FALSE),VLOOKUP(Data!$W137,tabulka_panely_def,AH$1-18,FALSE))","v":0},{"$f":"IF(Data!$W137<MIN(Panely!$A$9:$A$28),VLOOKUP(Data!$W137,tabulka_kce_def,AI$1-20,FALSE),VLOOKUP(Data!$W137,tabulka_panely_def,AI$1-18,FALSE))","v":0},{"$f":"IF(Data!$W137<MIN(Panely!$A$9:$A$28),VLOOKUP(Data!$W137,tabulka_kce_def,AJ$1-20,FALSE),VLOOKUP(Data!$W137,tabulka_panely_def,AJ$1-18,FALSE))","v":0},{"$f":"IF(Data!$W137<MIN(Panely!$A$9:$A$28),VLOOKUP(Data!$W137,tabulka_kce_def,AK$1-20,FALSE),VLOOKUP(Data!$W137,tabulka_panely_def,AK$1-18,FALSE))","v":0},{"$f":"IF(Data!$W137<MIN(Panely!$A$9:$A$28),VLOOKUP(Data!$W137,tabulka_kce_def,AL$1-20,FALSE),VLOOKUP(Data!$W137,tabulka_panely_def,AL$1-18,FALSE))","v":0},{"$f":"IF(Data!$W137<MIN(Panely!$A$9:$A$28),VLOOKUP(Data!$W137,tabulka_kce_def,AM$1-20,FALSE),VLOOKUP(Data!$W137,tabulka_panely_def,AM$1-18,FALSE))","v":0},137,{"$f":"IF(Data!$W137<MIN(Panely!$A$9:$A$28),VLOOKUP(Data!$W137,tabulka_kce_def,63,FALSE),0)","v":0},{"$f":"IF(Data!$W137<MIN(Panely!$A$9:$A$28),VLOOKUP(Data!$W137,tabulka_kce_def,28,FALSE),1)","v":1},{"$f":"IF(Data!$W137<MIN(Panely!$A$9:$A$28),VLOOKUP(Data!$W137,tabulka_kce_def,23,FALSE),VLOOKUP(Data!$W137,tabulka_panely_def,24,FALSE))","v":0},null,0,null,0,0,{"$error":"#N/A"},0,{"$f":"IF(AND(W137>MAX(Konstrukce!A:A),ISNUMBER(W137)),1,0)","v":0}]
[null,"=",{"$f":"IF(Data!$B138<MIN(Panely!$A$9:$A$28),VLOOKUP(Data!$B138,tabulka_kce_def,4,FALSE),VLOOKUP(Data!$B138,tabulka_panely_def,4,FALSE))","v":0},{"$f":"IF(Data!$B138<MIN(Panely!$A$9:$A$28),VLOOKUP(Data!$B138,tabulka_kce_def,23,FALSE),VLOOKUP(Data!$B138,tabulka_panely_def,24,FALSE))","v":0},{"$f":"IF(Data!$B138<MIN(Panely!$A$9:$A$28),VLOOKUP(Data!$B138,tabulka_kce_def,21,FALSE),VLOOKUP(Data!$B138,tabulka_panely_def,22,FALSE))","v":0},{"$f":"IF(Data!$B138<MIN(Panely!$A$9:$A$28),VLOOKUP(Data!$B138,tabulka_kce_def,26,FALSE),VLOOKUP(Data!$B138,tabulka_panely_def,31,FALSE))","v":{"$error":"#DIV/0!"}},{"$f":"IF(Data!$B138<MIN(Panely!$A$9:$A$28),VLOOKUP(Data!$B138,tabulka_kce_def,27,FALSE),VLOOKUP(Data!$B138,tabulka_panely_def,32,FALSE))","v":{"$error":"#DIV/0!"}},{"$f":"IF(VLOOKUP(Data!$B138,tabulka_kce_def,3,FALSE)=\"\",Konstrukce!$G$1,IF(VLOOKUP(Data!$B138,tabulka_kce_def,3,FALSE)=\"z\",Konstrukce!$G$2,VLOOKUP(Data!$B138,tabulka_kce_def,3,FALSE)))","v":{"$error":"#N/A"}},{"$f":"IF(Data!$B138<MIN(Panely!$A$9:$A$28),0,VLOOKUP(Data!$B138,tabulka_panely_def,25,FALSE))","v":0},{"$f":"IF(Data!$B138<MIN(Panely!$A$9:$A$28),VLOOKUP(Data!$B138,tabulka_kce_def,24,FALSE),VLOOKUP(Data!$B138,tabulka_panely_def,33,FALSE))","v":{"$error":"#N/A"}},{"$f":"Konstrukce!$D$1","v":18.770175404064034},{"$f":"Konstrukce!$D$2","v":19.934229593106764},{"$f":"Konstrukce!$G$1","v":-12},{"$f":"IF(Data!$B138<MIN(Panely!$A$9:$A$28),VLOOKUP(Data!$B138,tabulka_kce_def,59,FALSE),VLOOKUP(Data!$B138,tabulka_panely_def,63,FALSE))","v":""},{"$f":"IF(Data!$B138<MIN(Panely!$A$9:$A$28),VLOOKUP(Data!$B138,tabulka_kce_def,60,FALSE),VLOOKUP(Data!$B138,tabulka_panely_def,64,FALSE))","v":""},{"$f":"IF(Data!$B138<MIN(Panely!$A$9:$A$28),VLOOKUP(Data!$B138,tabulka_kce_def,61,FALSE),VLOOKUP(Data!$B138,tabulka_panely_def,65,FALSE))","v":""},{"$f":"IF(Data!$B138<MIN(Panely!$A$9:$A$28),VLOOKUP(Data!$B138,tabulka_kce_def,25,FALSE),0)","v":0},0,null,null,null,null,"=",{"$f":"IF(Data!$W138<MIN(Panely!$A$9:$A$28),VLOOKUP(Data!$W138,tabulka_kce_def,62,FALSE),VLOOKUP(Data!$W138,tabulka_panely_def,65,FALSE))","v":""},{"$f":"IF(Data!$W138<MIN(Panely!$A$9:$A$28),VLOOKUP(Data!$W138,tabulka_kce_def,Y$1-20,FALSE),VLOOKUP(Data!$W138,tabulka_panely_def,Y$1-18,FALSE))","v":0},{"$f":"IF(Data!$W138<MIN(Panely!$A$9:$A$28),VLOOKUP(Data!$W138,tabulka_kce_def,Z$1-20,FALSE),VLOOKUP(Data!$W138,tabulka_panely_def,Z$1-18,FALSE))","v":0},{"$f":"IF(Data!$W138<MIN(Panely!$A$9:$A$28),VLOOKUP(Data!$W138,tabulka_kce_def,AA$1-20,FALSE),VLOOKUP(Data!$W138,tabulka_panely_def,AA$1-18,FALSE))","v":0},{"$f":"IF(Data!$W138<MIN(Panely!$A$9:$A$28),VLOOKUP(Data!$W138,tabulka_kce_def,AB$1-20,FALSE),VLOOKUP(Data!$W138,tabulka_panely_def,AB$1-18,FALSE))","v":0},{"$f":"IF(Data!$W138<MIN(Panely!$A$9:$A$28),VLOOKUP(Data!$W138,tabulka_kce_def,AC$1-20,FALSE),VLOOKUP(Data!$W138,tabulka_panely_def,AC$1-18,FALSE))","v":0},{"$f":"IF(Data!$W138<MIN(Panely!$A$9:$A$28),VLOOKUP(Data!$W138,tabulka_kce_def,AD$1-20,FALSE),VLOOKUP(Data!$W138,tabulka_panely_def,AD$1-18,FALSE))","v":0},{"$f":"IF(Data!$W138<MIN(Panely!$A$9:$A$28),VLOOKUP(Data!$W138,tabulka_kce_def,AE$1-20,FALSE),VLOOKUP(Data!$W138,tabulka_panely_def,AE$1-18,FALSE))","v":0},{"$f":"IF(Data!$W138<MIN(Panely!$A$9:$A$28),VLOOKUP(Data!$W138,tabulka_kce_def,AF$1-20,FALSE),VLOOKUP(Data!$W138,tabulka_panely_def,AF$1-18,FALSE))","v":0},{"$f":"IF(Data!$W138<MIN(Panely!$A$9:$A$28),VLOOKUP(Data!$W138,tabulka_kce_def,AG$1-20,FALSE),VLOOKUP(Data!$W138,tabulka_panely_def,AG$1-18,FALSE))","v":0},{"$f":"IF(Data!$W138<MIN(Panely!$A$9:$A$28),VLOOKUP(Data!$W138,tabulka_kce_def,AH$1-20,FALSE),VLOOKUP(Data!$W138,tabulka_panely_def,AH$1-18,FALSE))","v":0},{"$f":"IF(Data!$W138<MIN(Panely!$A$9:$A$28),VLOOKUP(Data!$W138,tabulka_kce_def,AI$1-20,FALSE),VLOOKUP(Data!$W138,tabulka_panely_def,AI$1-18,FALSE))","v":0},{"$f":"IF(Data!$W138<MIN(Panely!$A$9:$A$28),VLOOKUP(Data!$W138,tabulka_kce_def,AJ$1-20,FALSE),VLOOKUP(Data!$W138,tabulka_panely_def,AJ$1-18,FALSE))","v":0},{"$f":"IF(Data!$W138<MIN(Panely!$A$9:$A$28),VLOOKUP(Data!$W138,tabulka_kce_def,AK$1-20,FALSE),VLOOKUP(Data!$W138,tabulka_panely_def,AK$1-18,FALSE))","v":0},{"$f":"IF(Data!$W138<MIN(Panely!$A$9:$A$28),VLOOKUP(Data!$W138,tabulka_kce_def,AL$1-20,FALSE),VLOOKUP(Data!$W138,tabulka_panely_def,AL$1-18,FALSE))","v":0},{"$f":"IF(Data!$W138<MIN(Panely!$A$9:$A$28),VLOOKUP(Data!$W138,tabulka_kce_def,AM$1-20,FALSE),VLOOKUP(Data!$W138,tabulka_panely_def,AM$1-18,FALSE))","v":0},138,{"$f":"IF(Data!$W138<MIN(Panely!$A$9:$A$28),VLOOKUP(Data!$W138,tabulka_kce_def,63,FALSE),0)","v":0},{"$f":"IF(Data!$W138<MIN(Panely!$A$9:$A$28),VLOOKUP(Data!$W138,tabulka_kce_def,28,FALSE),1)","v":1},{"$f":"IF(Data!$W138<MIN(Panely!$A$9:$A$28),VLOOKUP(Data!$W138,tabulka_kce_def,23,FALSE),VLOOKUP(Data!$W138,tabulka_panely_def,24,FALSE))","v":0},null,0,null,0,0,{"$error":"#N/A"},0,{"$f":"IF(AND(W138>MAX(Konstrukce!A:A),ISNUMBER(W138)),1,0)","v":0}]
[null,"=",{"$f":"IF(Data!$B139<MIN(Panely!$A$9:$A$28),VLOOKUP(Data!$B139,tabulka_kce_def,4,FALSE),VLOOKUP(Data!$B139,tabulka_panely_def,4,FALSE))","v":0},{"$f":"IF(Data!$B139<MIN(Panely!$A$9:$A$28),VLOOKUP(Data!$B139,tabulka_kce_def,23,FALSE),VLOOKUP(Data!$B139,tabulka_panely_def,24,FALSE))","v":0},{"$f":"IF(Data!$B139<MIN(Panely!$A$9:$A$28),VLOOKUP(Data!$B139,tabulka_kce_def,21,FALSE),VLOOKUP(Data!$B139,tabulka_panely_def,22,FALSE))","v":0},{"$f":"IF(Data!$B139<MIN(Panely!$A$9:$A$28),VLOOKUP(Data!$B139,tabulka_kce_def,26,FALSE),VLOOKUP(Data!$B139,tabulka_panely_def,31,FALSE))","v":{"$error":"#DIV/0!"}},{"$f":"IF(Data!$B139<MIN(Panely!$A$9:$A$28),VLOOKUP(Data!$B139,tabulka_kce_def,27,FALSE),VLOOKUP(Data!$B139,tabulka_panely_def,32,FALSE))","v":{"$error":"#DIV/0!"}},{"$f":"IF(VLOOKUP(Data!$B139,tabulka_kce_def,3,FALSE)=\"\",Konstrukce!$G$1,IF(VLOOKUP(Data!$B139,tabulka_kce_def,3,FALSE)=\"z\",Konstrukce!$G$2,VLOOKUP(Data!$B139,tabulka_kce_def,3,FALSE)))","v":{"$error":"#N/A"}},{"$f":"IF(Data!$B139<MIN(Panely!$A$9:$A$28),0,VLOOKUP(Data!$B139,tabulka_panely_def,25,FALSE))","v":0},{"$f":"IF(Data!$B139<MIN(Panely!$A$9:$A$28),VLOOKUP(Data!$B139,tabulka_kce_def,24,FALSE),VLOOKUP(Data!$B139,tabulka_panely_def,33,FALSE))","v":{"$error":"#N/A"}},{"$f":"Konstrukce!$D$1","v":18.770175404064034},{"$f":"Konstrukce!$D$2","v":19.934229593106764},{"$f":"Konstrukce!$G$1","v":-12},{"$f":"IF(Data!$B139<MIN(Panely!$A$9:$A$28),VLOOKUP(Data!$B139,tabulka_kce_def,59,FALSE),VLOOKUP(Data!$B139,tabulka_panely_def,63,FALSE))","v":""},{"$f":"IF(Data!$B139<MIN(Panely!$A$9:$A$28),VLOOKUP(Data!$B139,tabulka_kce_def,60,FALSE),VLOOKUP(Data!$B139,tabulka_panely_def,64,FALSE))","v":""},{"$f":"IF(Data!$B139<MIN(Panely!$A$9:$A$28),VLOOKUP(Data!$B139,tabulka_kce_def,61,FALSE),VLOOKUP(Data!$B139,tabulka_panely_def,65,FALSE))","v":""},{"$f":"IF(Data!$B139<MIN(Panely!$A$9:$A$28),VLOOKUP(Data!$B139,tabulka_kce_def,25,FALSE),0)","v":0},0,null,null,null,null,"=",{"$f":"IF(Data!$W139<MIN(Panely!$A$9:$A$28),VLOOKUP(Data!$W139,tabulka_kce_def,62,FALSE),VLOOKUP(Data!$W139,tabulka_panely_def,65,FALSE))","v":""},{"$f":"IF(Data!$W139<MIN(Panely!$A$9:$A$28),VLOOKUP(Data!$W139,tabulka_kce_def,Y$1-20,FALSE),VLOOKUP(Data!$W139,tabulka_panely_def,Y$1-18,FALSE))","v":0},{"$f":"IF(Data!$W139<MIN(Panely!$A$9:$A$28),VLOOKUP(Data!$W139,tabulka_kce_def,Z$1-20,FALSE),VLOOKUP(Data!$W139,tabulka_panely_def,Z$1-18,FALSE))","v":0},{"$f":"IF(Data!$W139<MIN(Panely!$A$9:$A$28),VLOOKUP(Data!$W139,tabulka_kce_def,AA$1-20,FALSE),VLOOKUP(Data!$W139,tabulka_panely_def,AA$1-18,FALSE))","v":0},{"$f":"IF(Data!$W139<MIN(Panely!$A$9:$A$28),VLOOKUP(Data!$W139,tabulka_kce_def,AB$1-20,FALSE),VLOOKUP(Data!$W139,tabulka_panely_def,AB$1-18,FALSE))","v":0},{"$f":"IF(Data!$W139<MIN(Panely!$A$9:$A$28),VLOOKUP(Data!$W139,tabulka_kce_def,AC$1-20,FALSE),VLOOKUP(Data!$W139,tabulka_panely_def,AC$1-18,FALSE))","v":0},{"$f":"IF(Data!$W139<MIN(Panely!$A$9:$A$28),VLOOKUP(Data!$W139,tabulka_kce_def,AD$1-20,FALSE),VLOOKUP(Data!$W139,tabulka_panely_def,AD$1-18,FALSE))","v":0},{"$f":"IF(Data!$W139<MIN(Panely!$A$9:$A$28),VLOOKUP(Data!$W139,tabulka_kce_def,AE$1-20,FALSE),VLOOKUP(Data!$W139,tabulka_panely_def,AE$1-18,FALSE))","v":0},{"$f":"IF(Data!$W139<MIN(Panely!$A$9:$A$28),VLOOKUP(Data!$W139,tabulka_kce_def,AF$1-20,FALSE),VLOOKUP(Data!$W139,tabulka_panely_def,AF$1-18,FALSE))","v":0},{"$f":"IF(Data!$W139<MIN(Panely!$A$9:$A$28),VLOOKUP(Data!$W139,tabulka_kce_def,AG$1-20,FALSE),VLOOKUP(Data!$W139,tabulka_panely_def,AG$1-18,FALSE))","v":0},{"$f":"IF(Data!$W139<MIN(Panely!$A$9:$A$28),VLOOKUP(Data!$W139,tabulka_kce_def,AH$1-20,FALSE),VLOOKUP(Data!$W139,tabulka_panely_def,AH$1-18,FALSE))","v":0},{"$f":"IF(Data!$W139<MIN(Panely!$A$9:$A$28),VLOOKUP(Data!$W139,tabulka_kce_def,AI$1-20,FALSE),VLOOKUP(Data!$W139,tabulka_panely_def,AI$1-18,FALSE))","v":0},{"$f":"IF(Data!$W139<MIN(Panely!$A$9:$A$28),VLOOKUP(Data!$W139,tabulka_kce_def,AJ$1-20,FALSE),VLOOKUP(Data!$W139,tabulka_panely_def,AJ$1-18,FALSE))","v":0},{"$f":"IF(Data!$W139<MIN(Panely!$A$9:$A$28),VLOOKUP(Data!$W139,tabulka_kce_def,AK$1-20,FALSE),VLOOKUP(Data!$W139,tabulka_panely_def,AK$1-18,FALSE))","v":0},{"$f":"IF(Data!$W139<MIN(Panely!$A$9:$A$28),VLOOKUP(Data!$W139,tabulka_kce_def,AL$1-20,FALSE),VLOOKUP(Data!$W139,tabulka_panely_def,AL$1-18,FALSE))","v":0},{"$f":"IF(Data!$W139<MIN(Panely!$A$9:$A$28),VLOOKUP(Data!$W139,tabulka_kce_def,AM$1-20,FALSE),VLOOKUP(Data!$W139,tabulka_panely_def,AM$1-18,FALSE))","v":0},139,{"$f":"IF(Data!$W139<MIN(Panely!$A$9:$A$28),VLOOKUP(Data!$W139,tabulka_kce_def,63,FALSE),0)","v":0},{"$f":"IF(Data!$W139<MIN(Panely!$A$9:$A$28),VLOOKUP(Data!$W139,tabulka_kce_def,28,FALSE),1)","v":1},{"$f":"IF(Data!$W139<MIN(Panely!$A$9:$A$28),VLOOKUP(Data!$W139,tabulka_kce_def,23,FALSE),VLOOKUP(Data!$W139,tabulka_panely_def,24,FALSE))","v":0},null,0,null,0,0,{"$error":"#N/A"},0,{"$f":"IF(AND(W139>MAX(Konstrukce!A:A),ISNUMBER(W139)),1,0)","v":0}]
[null,"=",{"$f":"IF(Data!$B140<MIN(Panely!$A$9:$A$28),VLOOKUP(Data!$B140,tabulka_kce_def,4,FALSE),VLOOKUP(Data!$B140,tabulka_panely_def,4,FALSE))","v":0},{"$f":"IF(Data!$B140<MIN(Panely!$A$9:$A$28),VLOOKUP(Data!$B140,tabulka_kce_def,23,FALSE),VLOOKUP(Data!$B140,tabulka_panely_def,24,FALSE))","v":0},{"$f":"IF(Data!$B140<MIN(Panely!$A$9:$A$28),VLOOKUP(Data!$B140,tabulka_kce_def,21,FALSE),VLOOKUP(Data!$B140,tabulka_panely_def,22,FALSE))","v":0},{"$f":"IF(Data!$B140<MIN(Panely!$A$9:$A$28),VLOOKUP(Data!$B140,tabulka_kce_def,26,FALSE),VLOOKUP(Data!$B140,tabulka_panely_def,31,FALSE))","v":{"$error":"#DIV/0!"}},{"$f":"IF(Data!$B140<MIN(Panely!$A$9:$A$28),VLOOKUP(Data!$B140,tabulka_kce_def,27,FALSE),VLOOKUP(Data!$B140,tabulka_panely_def,32,FALSE))","v":{"$error":"#DIV/0!"}},{"$f":"IF(VLOOKUP(Data!$B140,tabulka_kce_def,3,FALSE)=\"\",Konstrukce!$G$1,IF(VLOOKUP(Data!$B140,tabulka_kce_def,3,FALSE)=\"z\",Konstrukce!$G$2,VLOOKUP(Data!$B140,tabulka_kce_def,3,FALSE)))","v":{"$error":"#N/A"}},{"$f":"IF(Data!$B140<MIN(Panely!$A$9:$A$28),0,VLOOKUP(Data!$B140,tabulka_panely_def,25,FALSE))","v":0},{"$f":"IF(Data!$B140<MIN(Panely!$A$9:$A$28),VLOOKUP(Data!$B140,tabulka_kce_def,24,FALSE),VLOOKUP(Data!$B140,tabulka_panely_def,33,FALSE))","v":{"$error":"#N/A"}},{"$f":"Konstrukce!$D$1","v":18.770175404064034},{"$f":"Konstrukce!$D$2","v":19.934229593106764},{"$f":"Konstrukce!$G$1","v":-12},{"$f":"IF(Data!$B140<MIN(Panely!$A$9:$A$28),VLOOKUP(Data!$B140,tabulka_kce_def,59,FALSE),VLOOKUP(Data!$B140,tabulka_panely_def,63,FALSE))","v":""},{"$f":"IF(Data!$B140<MIN(Panely!$A$9:$A$28),VLOOKUP(Data!$B140,tabulka_kce_def,60,FALSE),VLOOKUP(Data!$B140,tabulka_panely_def,64,FALSE))","v":""},{"$f":"IF(Data!$B140<MIN(Panely!$A$9:$A$28),VLOOKUP(Data!$B140,tabulka_kce_def,61,FALSE),VLOOKUP(Data!$B140,tabulka_panely_def,65,FALSE))","v":""},{"$f":"IF(Data!$B140<MIN(Panely!$A$9:$A$28),VLOOKUP(Data!$B140,tabulka_kce_def,25,FALSE),0)","v":0},0,null,null,null,null,"=",{"$f":"IF(Data!$W140<MIN(Panely!$A$9:$A$28),VLOOKUP(Data!$W140,tabulka_kce_def,62,FALSE),VLOOKUP(Data!$W140,tabulka_panely_def,65,FALSE))","v":""},{"$f":"IF(Data!$W140<MIN(Panely!$A$9:$A$28),VLOOKUP(Data!$W140,tabulka_kce_def,Y$1-20,FALSE),VLOOKUP(Data!$W140,tabulka_panely_def,Y$1-18,FALSE))","v":0},{"$f":"IF(Data!$W140<MIN(Panely!$A$9:$A$28),VLOOKUP(Data!$W140,tabulka_kce_def,Z$1-20,FALSE),VLOOKUP(Data!$W140,tabulka_panely_def,Z$1-18,FALSE))","v":0},{"$f":"IF(Data!$W140<MIN(Panely!$A$9:$A$28),VLOOKUP(Data!$W140,tabulka_kce_def,AA$1-20,FALSE),VLOOKUP(Data!$W140,tabulka_panely_def,AA$1-18,FALSE))","v":0},{"$f":"IF(Data!$W140<MIN(Panely!$A$9:$A$28),VLOOKUP(Data!$W140,tabulka_kce_def,AB$1-20,FALSE),VLOOKUP(Data!$W140,tabulka_panely_def,AB$1-18,FALSE))","v":0},{"$f":"IF(Data!$W140<MIN(Panely!$A$9:$A$28),VLOOKUP(Data!$W140,tabulka_kce_def,AC$1-20,FALSE),VLOOKUP(Data!$W140,tabulka_panely_def,AC$1-18,FALSE))","v":0},{"$f":"IF(Data!$W140<MIN(Panely!$A$9:$A$28),VLOOKUP(Data!$W140,tabulka_kce_def,AD$1-20,FALSE),VLOOKUP(Data!$W140,tabulka_panely_def,AD$1-18,FALSE))","v":0},{"$f":"IF(Data!$W140<MIN(Panely!$A$9:$A$28),VLOOKUP(Data!$W140,tabulka_kce_def,AE$1-20,FALSE),VLOOKUP(Data!$W140,tabulka_panely_def,AE$1-18,FALSE))","v":0},{"$f":"IF(Data!$W140<MIN(Panely!$A$9:$A$28),VLOOKUP(Data!$W140,tabulka_kce_def,AF$1-20,FALSE),VLOOKUP(Data!$W140,tabulka_panely_def,AF$1-18,FALSE))","v":0},{"$f":"IF(Data!$W140<MIN(Panely!$A$9:$A$28),VLOOKUP(Data!$W140,tabulka_kce_def,AG$1-20,FALSE),VLOOKUP(Data!$W140,tabulka_panely_def,AG$1-18,FALSE))","v":0},{"$f":"IF(Data!$W140<MIN(Panely!$A$9:$A$28),VLOOKUP(Data!$W140,tabulka_kce_def,AH$1-20,FALSE),VLOOKUP(Data!$W140,tabulka_panely_def,AH$1-18,FALSE))","v":0},{"$f":"IF(Data!$W140<MIN(Panely!$A$9:$A$28),VLOOKUP(Data!$W140,tabulka_kce_def,AI$1-20,FALSE),VLOOKUP(Data!$W140,tabulka_panely_def,AI$1-18,FALSE))","v":0},{"$f":"IF(Data!$W140<MIN(Panely!$A$9:$A$28),VLOOKUP(Data!$W140,tabulka_kce_def,AJ$1-20,FALSE),VLOOKUP(Data!$W140,tabulka_panely_def,AJ$1-18,FALSE))","v":0},{"$f":"IF(Data!$W140<MIN(Panely!$A$9:$A$28),VLOOKUP(Data!$W140,tabulka_kce_def,AK$1-20,FALSE),VLOOKUP(Data!$W140,tabulka_panely_def,AK$1-18,FALSE))","v":0},{"$f":"IF(Data!$W140<MIN(Panely!$A$9:$A$28),VLOOKUP(Data!$W140,tabulka_kce_def,AL$1-20,FALSE),VLOOKUP(Data!$W140,tabulka_panely_def,AL$1-18,FALSE))","v":0},{"$f":"IF(Data!$W140<MIN(Panely!$A$9:$A$28),VLOOKUP(Data!$W140,tabulka_kce_def,AM$1-20,FALSE),VLOOKUP(Data!$W140,tabulka_panely_def,AM$1-18,FALSE))","v":0},140,{"$f":"IF(Data!$W140<MIN(Panely!$A$9:$A$28),VLOOKUP(Data!$W140,tabulka_kce_def,63,FALSE),0)","v":0},{"$f":"IF(Data!$W140<MIN(Panely!$A$9:$A$28),VLOOKUP(Data!$W140,tabulka_kce_def,28,FALSE),1)","v":1},{"$f":"IF(Data!$W140<MIN(Panely!$A$9:$A$28),VLOOKUP(Data!$W140,tabulka_kce_def,23,FALSE),VLOOKUP(Data!$W140,tabulka_panely_def,24,FALSE))","v":0},null,0,null,0,0,{"$error":"#N/A"},0,{"$f":"IF(AND(W140>MAX(Konstrukce!A:A),ISNUMBER(W140)),1,0)","v":0}]
[null,"=",{"$f":"IF(Data!$B141<MIN(Panely!$A$9:$A$28),VLOOKUP(Data!$B141,tabulka_kce_def,4,FALSE),VLOOKUP(Data!$B141,tabulka_panely_def,4,FALSE))","v":0},{"$f":"IF(Data!$B141<MIN(Panely!$A$9:$A$28),VLOOKUP(Data!$B141,tabulka_kce_def,23,FALSE),VLOOKUP(Data!$B141,tabulka_panely_def,24,FALSE))","v":0},{"$f":"IF(Data!$B141<MIN(Panely!$A$9:$A$28),VLOOKUP(Data!$B141,tabulka_kce_def,21,FALSE),VLOOKUP(Data!$B141,tabulka_panely_def,22,FALSE))","v":0},{"$f":"IF(Data!$B141<MIN(Panely!$A$9:$A$28),VLOOKUP(Data!$B141,tabulka_kce_def,26,FALSE),VLOOKUP(Data!$B141,tabulka_panely_def,31,FALSE))","v":{"$error":"#DIV/0!"}},{"$f":"IF(Data!$B141<MIN(Panely!$A$9:$A$28),VLOOKUP(Data!$B141,tabulka_kce_def,27,FALSE),VLOOKUP(Data!$B141,tabulka_panely_def,32,FALSE))","v":{"$error":"#DIV/0!"}},{"$f":"IF(VLOOKUP(Data!$B141,tabulka_kce_def,3,FALSE)=\"\",Konstrukce!$G$1,IF(VLOOKUP(Data!$B141,tabulka_kce_def,3,FALSE)=\"z\",Konstrukce!$G$2,VLOOKUP(Data!$B141,tabulka_kce_def,3,FALSE)))","v":{"$error":"#N/A"}},{"$f":"IF(Data!$B141<MIN(Panely!$A$9:$A$28),0,VLOOKUP(Data!$B141,tabulka_panely_def,25,FALSE))","v":0},{"$f":"IF(Data!$B141<MIN(Panely!$A$9:$A$28),VLOOKUP(Data!$B141,tabulka_kce_def,24,FALSE),VLOOKUP(Data!$B141,tabulka_panely_def,33,FALSE))","v":{"$error":"#N/A"}},{"$f":"Konstrukce!$D$1","v":18.770175404064034},{"$f":"Konstrukce!$D$2","v":19.934229593106764},{"$f":"Konstrukce!$G$1","v":-12},{"$f":"IF(Data!$B141<MIN(Panely!$A$9:$A$28),VLOOKUP(Data!$B141,tabulka_kce_def,59,FALSE),VLOOKUP(Data!$B141,tabulka_panely_def,63,FALSE))","v":""},{"$f":"IF(Data!$B141<MIN(Panely!$A$9:$A$28),VLOOKUP(Data!$B141,tabulka_kce_def,60,FALSE),VLOOKUP(Data!$B141,tabulka_panely_def,64,FALSE))","v":""},{"$f":"IF(Data!$B141<MIN(Panely!$A$9:$A$28),VLOOKUP(Data!$B141,tabulka_kce_def,61,FALSE),VLOOKUP(Data!$B141,tabulka_panely_def,65,FALSE))","v":""},{"$f":"IF(Data!$B141<MIN(Panely!$A$9:$A$28),VLOOKUP(Data!$B141,tabulka_kce_def,25,FALSE),0)","v":0},0,null,null,null,null,"=",{"$f":"IF(Data!$W141<MIN(Panely!$A$9:$A$28),VLOOKUP(Data!$W141,tabulka_kce_def,62,FALSE),VLOOKUP(Data!$W141,tabulka_panely_def,65,FALSE))","v":""},{"$f":"IF(Data!$W141<MIN(Panely!$A$9:$A$28),VLOOKUP(Data!$W141,tabulka_kce_def,Y$1-20,FALSE),VLOOKUP(Data!$W141,tabulka_panely_def,Y$1-18,FALSE))","v":0},{"$f":"IF(Data!$W141<MIN(Panely!$A$9:$A$28),VLOOKUP(Data!$W141,tabulka_kce_def,Z$1-20,FALSE),VLOOKUP(Data!$W141,tabulka_panely_def,Z$1-18,FALSE))","v":0},{"$f":"IF(Data!$W141<MIN(Panely!$A$9:$A$28),VLOOKUP(Data!$W141,tabulka_kce_def,AA$1-20,FALSE),VLOOKUP(Data!$W141,tabulka_panely_def,AA$1-18,FALSE))","v":0},{"$f":"IF(Data!$W141<MIN(Panely!$A$9:$A$28),VLOOKUP(Data!$W141,tabulka_kce_def,AB$1-20,FALSE),VLOOKUP(Data!$W141,tabulka_panely_def,AB$1-18,FALSE))","v":0},{"$f":"IF(Data!$W141<MIN(Panely!$A$9:$A$28),VLOOKUP(Data!$W141,tabulka_kce_def,AC$1-20,FALSE),VLOOKUP(Data!$W141,tabulka_panely_def,AC$1-18,FALSE))","v":0},{"$f":"IF(Data!$W141<MIN(Panely!$A$9:$A$28),VLOOKUP(Data!$W141,tabulka_kce_def,AD$1-20,FALSE),VLOOKUP(Data!$W141,tabulka_panely_def,AD$1-18,FALSE))","v":0},{"$f":"IF(Data!$W141<MIN(Panely!$A$9:$A$28),VLOOKUP(Data!$W141,tabulka_kce_def,AE$1-20,FALSE),VLOOKUP(Data!$W141,tabulka_panely_def,AE$1-18,FALSE))","v":0},{"$f":"IF(Data!$W141<MIN(Panely!$A$9:$A$28),VLOOKUP(Data!$W141,tabulka_kce_def,AF$1-20,FALSE),VLOOKUP(Data!$W141,tabulka_panely_def,AF$1-18,FALSE))","v":0},{"$f":"IF(Data!$W141<MIN(Panely!$A$9:$A$28),VLOOKUP(Data!$W141,tabulka_kce_def,AG$1-20,FALSE),VLOOKUP(Data!$W141,tabulka_panely_def,AG$1-18,FALSE))","v":0},{"$f":"IF(Data!$W141<MIN(Panely!$A$9:$A$28),VLOOKUP(Data!$W141,tabulka_kce_def,AH$1-20,FALSE),VLOOKUP(Data!$W141,tabulka_panely_def,AH$1-18,FALSE))","v":0},{"$f":"IF(Data!$W141<MIN(Panely!$A$9:$A$28),VLOOKUP(Data!$W141,tabulka_kce_def,AI$1-20,FALSE),VLOOKUP(Data!$W141,tabulka_panely_def,AI$1-18,FALSE))","v":0},{"$f":"IF(Data!$W141<MIN(Panely!$A$9:$A$28),VLOOKUP(Data!$W141,tabulka_kce_def,AJ$1-20,FALSE),VLOOKUP(Data!$W141,tabulka_panely_def,AJ$1-18,FALSE))","v":0},{"$f":"IF(Data!$W141<MIN(Panely!$A$9:$A$28),VLOOKUP(Data!$W141,tabulka_kce_def,AK$1-20,FALSE),VLOOKUP(Data!$W141,tabulka_panely_def,AK$1-18,FALSE))","v":0},{"$f":"IF(Data!$W141<MIN(Panely!$A$9:$A$28),VLOOKUP(Data!$W141,tabulka_kce_def,AL$1-20,FALSE),VLOOKUP(Data!$W141,tabulka_panely_def,AL$1-18,FALSE))","v":0},{"$f":"IF(Data!$W141<MIN(Panely!$A$9:$A$28),VLOOKUP(Data!$W141,tabulka_kce_def,AM$1-20,FALSE),VLOOKUP(Data!$W141,tabulka_panely_def,AM$1-18,FALSE))","v":0},141,{"$f":"IF(Data!$W141<MIN(Panely!$A$9:$A$28),VLOOKUP(Data!$W141,tabulka_kce_def,63,FALSE),0)","v":0},{"$f":"IF(Data!$W141<MIN(Panely!$A$9:$A$28),VLOOKUP(Data!$W141,tabulka_kce_def,28,FALSE),1)","v":1},{"$f":"IF(Data!$W141<MIN(Panely!$A$9:$A$28),VLOOKUP(Data!$W141,tabulka_kce_def,23,FALSE),VLOOKUP(Data!$W141,tabulka_panely_def,24,FALSE))","v":0},null,0,null,0,0,{"$error":"#N/A"},0,{"$f":"IF(AND(W141>MAX(Konstrukce!A:A),ISNUMBER(W141)),1,0)","v":0}]
[null,"=",{"$f":"IF(Data!$B142<MIN(Panely!$A$9:$A$28),VLOOKUP(Data!$B142,tabulka_kce_def,4,FALSE),VLOOKUP(Data!$B142,tabulka_panely_def,4,FALSE))","v":0},{"$f":"IF(Data!$B142<MIN(Panely!$A$9:$A$28),VLOOKUP(Data!$B142,tabulka_kce_def,23,FALSE),VLOOKUP(Data!$B142,tabulka_panely_def,24,FALSE))","v":0},{"$f":"IF(Data!$B142<MIN(Panely!$A$9:$A$28),VLOOKUP(Data!$B142,tabulka_kce_def,21,FALSE),VLOOKUP(Data!$B142,tabulka_panely_def,22,FALSE))","v":0},{"$f":"IF(Data!$B142<MIN(Panely!$A$9:$A$28),VLOOKUP(Data!$B142,tabulka_kce_def,26,FALSE),VLOOKUP(Data!$B142,tabulka_panely_def,31,FALSE))","v":{"$error":"#DIV/0!"}},{"$f":"IF(Data!$B142<MIN(Panely!$A$9:$A$28),VLOOKUP(Data!$B142,tabulka_kce_def,27,FALSE),VLOOKUP(Data!$B142,tabulka_panely_def,32,FALSE))","v":{"$error":"#DIV/0!"}},{"$f":"IF(VLOOKUP(Data!$B142,tabulka_kce_def,3,FALSE)=\"\",Konstrukce!$G$1,IF(VLOOKUP(Data!$B142,tabulka_kce_def,3,FALSE)=\"z\",Konstrukce!$G$2,VLOOKUP(Data!$B142,tabulka_kce_def,3,FALSE)))","v":{"$error":"#N/A"}},{"$f":"IF(Data!$B142<MIN(Panely!$A$9:$A$28),0,VLOOKUP(Data!$B142,tabulka_panely_def,25,FALSE))","v":0},{"$f":"IF(Data!$B142<MIN(Panely!$A$9:$A$28),VLOOKUP(Data!$B142,tabulka_kce_def,24,FALSE),VLOOKUP(Data!$B142,tabulka_panely_def,33,FALSE))","v":{"$error":"#N/A"}},{"$f":"Konstrukce!$D$1","v":18.770175404064034},{"$f":"Konstrukce!$D$2","v":19.934229593106764},{"$f":"Konstrukce!$G$1","v":-12},{"$f":"IF(Data!$B142<MIN(Panely!$A$9:$A$28),VLOOKUP(Data!$B142,tabulka_kce_def,59,FALSE),VLOOKUP(Data!$B142,tabulka_panely_def,63,FALSE))","v":""},{"$f":"IF(Data!$B142<MIN(Panely!$A$9:$A$28),VLOOKUP(Data!$B142,tabulka_kce_def,60,FALSE),VLOOKUP(Data!$B142,tabulka_panely_def,64,FALSE))","v":""},{"$f":"IF(Data!$B142<MIN(Panely!$A$9:$A$28),VLOOKUP(Data!$B142,tabulka_kce_def,61,FALSE),VLOOKUP(Data!$B142,tabulka_panely_def,65,FALSE))","v":""},{"$f":"IF(Data!$B142<MIN(Panely!$A$9:$A$28),VLOOKUP(Data!$B142,tabulka_kce_def,25,FALSE),0)","v":0},0,null,null,null,null,"=",{"$f":"IF(Data!$W142<MIN(Panely!$A$9:$A$28),VLOOKUP(Data!$W142,tabulka_kce_def,62,FALSE),VLOOKUP(Data!$W142,tabulka_panely_def,65,FALSE))","v":""},{"$f":"IF(Data!$W142<MIN(Panely!$A$9:$A$28),VLOOKUP(Data!$W142,tabulka_kce_def,Y$1-20,FALSE),VLOOKUP(Data!$W142,tabulka_panely_def,Y$1-18,FALSE))","v":0},{"$f":"IF(Data!$W142<MIN(Panely!$A$9:$A$28),VLOOKUP(Data!$W142,tabulka_kce_def,Z$1-20,FALSE),VLOOKUP(Data!$W142,tabulka_panely_def,Z$1-18,FALSE))","v":0},{"$f":"IF(Data!$W142<MIN(Panely!$A$9:$A$28),VLOOKUP(Data!$W142,tabulka_kce_def,AA$1-20,FALSE),VLOOKUP(Data!$W142,tabulka_panely_def,AA$1-18,FALSE))","v":0},{"$f":"IF(Data!$W142<MIN(Panely!$A$9:$A$28),VLOOKUP(Data!$W142,tabulka_kce_def,AB$1-20,FALSE),VLOOKUP(Data!$W142,tabulka_panely_def,AB$1-18,FALSE))","v":0},{"$f":"IF(Data!$W142<MIN(Panely!$A$9:$A$28),VLOOKUP(Data!$W142,tabulka_kce_def,AC$1-20,FALSE),VLOOKUP(Data!$W142,tabulka_panely_def,AC$1-18,FALSE))","v":0},{"$f":"IF(Data!$W142<MIN(Panely!$A$9:$A$28),VLOOKUP(Data!$W142,tabulka_kce_def,AD$1-20,FALSE),VLOOKUP(Data!$W142,tabulka_panely_def,AD$1-18,FALSE))","v":0},{"$f":"IF(Data!$W142<MIN(Panely!$A$9:$A$28),VLOOKUP(Data!$W142,tabulka_kce_def,AE$1-20,FALSE),VLOOKUP(Data!$W142,tabulka_panely_def,AE$1-18,FALSE))","v":0},{"$f":"IF(Data!$W142<MIN(Panely!$A$9:$A$28),VLOOKUP(Data!$W142,tabulka_kce_def,AF$1-20,FALSE),VLOOKUP(Data!$W142,tabulka_panely_def,AF$1-18,FALSE))","v":0},{"$f":"IF(Data!$W142<MIN(Panely!$A$9:$A$28),VLOOKUP(Data!$W142,tabulka_kce_def,AG$1-20,FALSE),VLOOKUP(Data!$W142,tabulka_panely_def,AG$1-18,FALSE))","v":0},{"$f":"IF(Data!$W142<MIN(Panely!$A$9:$A$28),VLOOKUP(Data!$W142,tabulka_kce_def,AH$1-20,FALSE),VLOOKUP(Data!$W142,tabulka_panely_def,AH$1-18,FALSE))","v":0},{"$f":"IF(Data!$W142<MIN(Panely!$A$9:$A$28),VLOOKUP(Data!$W142,tabulka_kce_def,AI$1-20,FALSE),VLOOKUP(Data!$W142,tabulka_panely_def,AI$1-18,FALSE))","v":0},{"$f":"IF(Data!$W142<MIN(Panely!$A$9:$A$28),VLOOKUP(Data!$W142,tabulka_kce_def,AJ$1-20,FALSE),VLOOKUP(Data!$W142,tabulka_panely_def,AJ$1-18,FALSE))","v":0},{"$f":"IF(Data!$W142<MIN(Panely!$A$9:$A$28),VLOOKUP(Data!$W142,tabulka_kce_def,AK$1-20,FALSE),VLOOKUP(Data!$W142,tabulka_panely_def,AK$1-18,FALSE))","v":0},{"$f":"IF(Data!$W142<MIN(Panely!$A$9:$A$28),VLOOKUP(Data!$W142,tabulka_kce_def,AL$1-20,FALSE),VLOOKUP(Data!$W142,tabulka_panely_def,AL$1-18,FALSE))","v":0},{"$f":"IF(Data!$W142<MIN(Panely!$A$9:$A$28),VLOOKUP(Data!$W142,tabulka_kce_def,AM$1-20,FALSE),VLOOKUP(Data!$W142,tabulka_panely_def,AM$1-18,FALSE))","v":0},142,{"$f":"IF(Data!$W142<MIN(Panely!$A$9:$A$28),VLOOKUP(Data!$W142,tabulka_kce_def,63,FALSE),0)","v":0},{"$f":"IF(Data!$W142<MIN(Panely!$A$9:$A$28),VLOOKUP(Data!$W142,tabulka_kce_def,28,FALSE),1)","v":1},{"$f":"IF(Data!$W142<MIN(Panely!$A$9:$A$28),VLOOKUP(Data!$W142,tabulka_kce_def,23,FALSE),VLOOKUP(Data!$W142,tabulka_panely_def,24,FALSE))","v":0},null,0,null,0,0,{"$error":"#N/A"},0,{"$f":"IF(AND(W142>MAX(Konstrukce!A:A),ISNUMBER(W142)),1,0)","v":0}]
[null,"=",{"$f":"IF(Data!$B143<MIN(Panely!$A$9:$A$28),VLOOKUP(Data!$B143,tabulka_kce_def,4,FALSE),VLOOKUP(Data!$B143,tabulka_panely_def,4,FALSE))","v":0},{"$f":"IF(Data!$B143<MIN(Panely!$A$9:$A$28),VLOOKUP(Data!$B143,tabulka_kce_def,23,FALSE),VLOOKUP(Data!$B143,tabulka_panely_def,24,FALSE))","v":0},{"$f":"IF(Data!$B143<MIN(Panely!$A$9:$A$28),VLOOKUP(Data!$B143,tabulka_kce_def,21,FALSE),VLOOKUP(Data!$B143,tabulka_panely_def,22,FALSE))","v":0},{"$f":"IF(Data!$B143<MIN(Panely!$A$9:$A$28),VLOOKUP(Data!$B143,tabulka_kce_def,26,FALSE),VLOOKUP(Data!$B143,tabulka_panely_def,31,FALSE))","v":{"$error":"#DIV/0!"}},{"$f":"IF(Data!$B143<MIN(Panely!$A$9:$A$28),VLOOKUP(Data!$B143,tabulka_kce_def,27,FALSE),VLOOKUP(Data!$B143,tabulka_panely_def,32,FALSE))","v":{"$error":"#DIV/0!"}},{"$f":"IF(VLOOKUP(Data!$B143,tabulka_kce_def,3,FALSE)=\"\",Konstrukce!$G$1,IF(VLOOKUP(Data!$B143,tabulka_kce_def,3,FALSE)=\"z\",Konstrukce!$G$2,VLOOKUP(Data!$B143,tabulka_kce_def,3,FALSE)))","v":{"$error":"#N/A"}},{"$f":"IF(Data!$B143<MIN(Panely!$A$9:$A$28),0,VLOOKUP(Data!$B143,tabulka_panely_def,25,FALSE))","v":0},{"$f":"IF(Data!$B143<MIN(Panely!$A$9:$A$28),VLOOKUP(Data!$B143,tabulka_kce_def,24,FALSE),VLOOKUP(Data!$B143,tabulka_panely_def,33,FALSE))","v":{"$error":"#N/A"}},{"$f":"Konstrukce!$D$1","v":18.770175404064034},{"$f":"Konstrukce!$D$2","v":19.934229593106764},{"$f":"Konstrukce!$G$1","v":-12},{"$f":"IF(Data!$B143<MIN(Panely!$A$9:$A$28),VLOOKUP(Data!$B143,tabulka_kce_def,59,FALSE),VLOOKUP(Data!$B143,tabulka_panely_def,63,FALSE))","v":""},{"$f":"IF(Data!$B143<MIN(Panely!$A$9:$A$28),VLOOKUP(Data!$B143,tabulka_kce_def,60,FALSE),VLOOKUP(Data!$B143,tabulka_panely_def,64,FALSE))","v":""},{"$f":"IF(Data!$B143<MIN(Panely!$A$9:$A$28),VLOOKUP(Data!$B143,tabulka_kce_def,61,FALSE),VLOOKUP(Data!$B143,tabulka_panely_def,65,FALSE))","v":""},{"$f":"IF(Data!$B143<MIN(Panely!$A$9:$A$28),VLOOKUP(Data!$B143,tabulka_kce_def,25,FALSE),0)","v":0},0,null,null,null,null,"=",{"$f":"IF(Data!$W143<MIN(Panely!$A$9:$A$28),VLOOKUP(Data!$W143,tabulka_kce_def,62,FALSE),VLOOKUP(Data!$W143,tabulka_panely_def,65,FALSE))","v":""},{"$f":"IF(Data!$W143<MIN(Panely!$A$9:$A$28),VLOOKUP(Data!$W143,tabulka_kce_def,Y$1-20,FALSE),VLOOKUP(Data!$W143,tabulka_panely_def,Y$1-18,FALSE))","v":0},{"$f":"IF(Data!$W143<MIN(Panely!$A$9:$A$28),VLOOKUP(Data!$W143,tabulka_kce_def,Z$1-20,FALSE),VLOOKUP(Data!$W143,tabulka_panely_def,Z$1-18,FALSE))","v":0},{"$f":"IF(Data!$W143<MIN(Panely!$A$9:$A$28),VLOOKUP(Data!$W143,tabulka_kce_def,AA$1-20,FALSE),VLOOKUP(Data!$W143,tabulka_panely_def,AA$1-18,FALSE))","v":0},{"$f":"IF(Data!$W143<MIN(Panely!$A$9:$A$28),VLOOKUP(Data!$W143,tabulka_kce_def,AB$1-20,FALSE),VLOOKUP(Data!$W143,tabulka_panely_def,AB$1-18,FALSE))","v":0},{"$f":"IF(Data!$W143<MIN(Panely!$A$9:$A$28),VLOOKUP(Data!$W143,tabulka_kce_def,AC$1-20,FALSE),VLOOKUP(Data!$W143,tabulka_panely_def,AC$1-18,FALSE))","v":0},{"$f":"IF(Data!$W143<MIN(Panely!$A$9:$A$28),VLOOKUP(Data!$W143,tabulka_kce_def,AD$1-20,FALSE),VLOOKUP(Data!$W143,tabulka_panely_def,AD$1-18,FALSE))","v":0},{"$f":"IF(Data!$W143<MIN(Panely!$A$9:$A$28),VLOOKUP(Data!$W143,tabulka_kce_def,AE$1-20,FALSE),VLOOKUP(Data!$W143,tabulka_panely_def,AE$1-18,FALSE))","v":0},{"$f":"IF(Data!$W143<MIN(Panely!$A$9:$A$28),VLOOKUP(Data!$W143,tabulka_kce_def,AF$1-20,FALSE),VLOOKUP(Data!$W143,tabulka_panely_def,AF$1-18,FALSE))","v":0},{"$f":"IF(Data!$W143<MIN(Panely!$A$9:$A$28),VLOOKUP(Data!$W143,tabulka_kce_def,AG$1-20,FALSE),VLOOKUP(Data!$W143,tabulka_panely_def,AG$1-18,FALSE))","v":0},{"$f":"IF(Data!$W143<MIN(Panely!$A$9:$A$28),VLOOKUP(Data!$W143,tabulka_kce_def,AH$1-20,FALSE),VLOOKUP(Data!$W143,tabulka_panely_def,AH$1-18,FALSE))","v":0},{"$f":"IF(Data!$W143<MIN(Panely!$A$9:$A$28),VLOOKUP(Data!$W143,tabulka_kce_def,AI$1-20,FALSE),VLOOKUP(Data!$W143,tabulka_panely_def,AI$1-18,FALSE))","v":0},{"$f":"IF(Data!$W143<MIN(Panely!$A$9:$A$28),VLOOKUP(Data!$W143,tabulka_kce_def,AJ$1-20,FALSE),VLOOKUP(Data!$W143,tabulka_panely_def,AJ$1-18,FALSE))","v":0},{"$f":"IF(Data!$W143<MIN(Panely!$A$9:$A$28),VLOOKUP(Data!$W143,tabulka_kce_def,AK$1-20,FALSE),VLOOKUP(Data!$W143,tabulka_panely_def,AK$1-18,FALSE))","v":0},{"$f":"IF(Data!$W143<MIN(Panely!$A$9:$A$28),VLOOKUP(Data!$W143,tabulka_kce_def,AL$1-20,FALSE),VLOOKUP(Data!$W143,tabulka_panely_def,AL$1-18,FALSE))","v":0},{"$f":"IF(Data!$W143<MIN(Panely!$A$9:$A$28),VLOOKUP(Data!$W143,tabulka_kce_def,AM$1-20,FALSE),VLOOKUP(Data!$W143,tabulka_panely_def,AM$1-18,FALSE))","v":0},143,{"$f":"IF(Data!$W143<MIN(Panely!$A$9:$A$28),VLOOKUP(Data!$W143,tabulka_kce_def,63,FALSE),0)","v":0},{"$f":"IF(Data!$W143<MIN(Panely!$A$9:$A$28),VLOOKUP(Data!$W143,tabulka_kce_def,28,FALSE),1)","v":1},{"$f":"IF(Data!$W143<MIN(Panely!$A$9:$A$28),VLOOKUP(Data!$W143,tabulka_kce_def,23,FALSE),VLOOKUP(Data!$W143,tabulka_panely_def,24,FALSE))","v":0},null,0,null,0,0,{"$error":"#N/A"},0,{"$f":"IF(AND(W143>MAX(Konstrukce!A:A),ISNUMBER(W143)),1,0)","v":0}]
[null,"=",{"$f":"IF(Data!$B144<MIN(Panely!$A$9:$A$28),VLOOKUP(Data!$B144,tabulka_kce_def,4,FALSE),VLOOKUP(Data!$B144,tabulka_panely_def,4,FALSE))","v":0},{"$f":"IF(Data!$B144<MIN(Panely!$A$9:$A$28),VLOOKUP(Data!$B144,tabulka_kce_def,23,FALSE),VLOOKUP(Data!$B144,tabulka_panely_def,24,FALSE))","v":0},{"$f":"IF(Data!$B144<MIN(Panely!$A$9:$A$28),VLOOKUP(Data!$B144,tabulka_kce_def,21,FALSE),VLOOKUP(Data!$B144,tabulka_panely_def,22,FALSE))","v":0},{"$f":"IF(Data!$B144<MIN(Panely!$A$9:$A$28),VLOOKUP(Data!$B144,tabulka_kce_def,26,FALSE),VLOOKUP(Data!$B144,tabulka_panely_def,31,FALSE))","v":{"$error":"#DIV/0!"}},{"$f":"IF(Data!$B144<MIN(Panely!$A$9:$A$28),VLOOKUP(Data!$B144,tabulka_kce_def,27,FALSE),VLOOKUP(Data!$B144,tabulka_panely_def,32,FALSE))","v":{"$error":"#DIV/0!"}},{"$f":"IF(VLOOKUP(Data!$B144,tabulka_kce_def,3,FALSE)=\"\",Konstrukce!$G$1,IF(VLOOKUP(Data!$B144,tabulka_kce_def,3,FALSE)=\"z\",Konstrukce!$G$2,VLOOKUP(Data!$B144,tabulka_kce_def,3,FALSE)))","v":{"$error":"#N/A"}},{"$f":"IF(Data!$B144<MIN(Panely!$A$9:$A$28),0,VLOOKUP(Data!$B144,tabulka_panely_def,25,FALSE))","v":0},{"$f":"IF(Data!$B144<MIN(Panely!$A$9:$A$28),VLOOKUP(Data!$B144,tabulka_kce_def,24,FALSE),VLOOKUP(Data!$B144,tabulka_panely_def,33,FALSE))","v":{"$error":"#N/A"}},{"$f":"Konstrukce!$D$1","v":18.770175404064034},{"$f":"Konstrukce!$D$2","v":19.934229593106764},{"$f":"Konstrukce!$G$1","v":-12},{"$f":"IF(Data!$B144<MIN(Panely!$A$9:$A$28),VLOOKUP(Data!$B144,tabulka_kce_def,59,FALSE),VLOOKUP(Data!$B144,tabulka_panely_def,63,FALSE))","v":""},{"$f":"IF(Data!$B144<MIN(Panely!$A$9:$A$28),VLOOKUP(Data!$B144,tabulka_kce_def,60,FALSE),VLOOKUP(Data!$B144,tabulka_panely_def,64,FALSE))","v":""},{"$f":"IF(Data!$B144<MIN(Panely!$A$9:$A$28),VLOOKUP(Data!$B144,tabulka_kce_def,61,FALSE),VLOOKUP(Data!$B144,tabulka_panely_def,65,FALSE))","v":""},{"$f":"IF(Data!$B144<MIN(Panely!$A$9:$A$28),VLOOKUP(Data!$B144,tabulka_kce_def,25,FALSE),0)","v":0},0,null,null,null,null,"=",{"$f":"IF(Data!$W144<MIN(Panely!$A$9:$A$28),VLOOKUP(Data!$W144,tabulka_kce_def,62,FALSE),VLOOKUP(Data!$W144,tabulka_panely_def,65,FALSE))","v":""},{"$f":"IF(Data!$W144<MIN(Panely!$A$9:$A$28),VLOOKUP(Data!$W144,tabulka_kce_def,Y$1-20,FALSE),VLOOKUP(Data!$W144,tabulka_panely_def,Y$1-18,FALSE))","v":0},{"$f":"IF(Data!$W144<MIN(Panely!$A$9:$A$28),VLOOKUP(Data!$W144,tabulka_kce_def,Z$1-20,FALSE),VLOOKUP(Data!$W144,tabulka_panely_def,Z$1-18,FALSE))","v":0},{"$f":"IF(Data!$W144<MIN(Panely!$A$9:$A$28),VLOOKUP(Data!$W144,tabulka_kce_def,AA$1-20,FALSE),VLOOKUP(Data!$W144,tabulka_panely_def,AA$1-18,FALSE))","v":0},{"$f":"IF(Data!$W144<MIN(Panely!$A$9:$A$28),VLOOKUP(Data!$W144,tabulka_kce_def,AB$1-20,FALSE),VLOOKUP(Data!$W144,tabulka_panely_def,AB$1-18,FALSE))","v":0},{"$f":"IF(Data!$W144<MIN(Panely!$A$9:$A$28),VLOOKUP(Data!$W144,tabulka_kce_def,AC$1-20,FALSE),VLOOKUP(Data!$W144,tabulka_panely_def,AC$1-18,FALSE))","v":0},{"$f":"IF(Data!$W144<MIN(Panely!$A$9:$A$28),VLOOKUP(Data!$W144,tabulka_kce_def,AD$1-20,FALSE),VLOOKUP(Data!$W144,tabulka_panely_def,AD$1-18,FALSE))","v":0},{"$f":"IF(Data!$W144<MIN(Panely!$A$9:$A$28),VLOOKUP(Data!$W144,tabulka_kce_def,AE$1-20,FALSE),VLOOKUP(Data!$W144,tabulka_panely_def,AE$1-18,FALSE))","v":0},{"$f":"IF(Data!$W144<MIN(Panely!$A$9:$A$28),VLOOKUP(Data!$W144,tabulka_kce_def,AF$1-20,FALSE),VLOOKUP(Data!$W144,tabulka_panely_def,AF$1-18,FALSE))","v":0},{"$f":"IF(Data!$W144<MIN(Panely!$A$9:$A$28),VLOOKUP(Data!$W144,tabulka_kce_def,AG$1-20,FALSE),VLOOKUP(Data!$W144,tabulka_panely_def,AG$1-18,FALSE))","v":0},{"$f":"IF(Data!$W144<MIN(Panely!$A$9:$A$28),VLOOKUP(Data!$W144,tabulka_kce_def,AH$1-20,FALSE),VLOOKUP(Data!$W144,tabulka_panely_def,AH$1-18,FALSE))","v":0},{"$f":"IF(Data!$W144<MIN(Panely!$A$9:$A$28),VLOOKUP(Data!$W144,tabulka_kce_def,AI$1-20,FALSE),VLOOKUP(Data!$W144,tabulka_panely_def,AI$1-18,FALSE))","v":0},{"$f":"IF(Data!$W144<MIN(Panely!$A$9:$A$28),VLOOKUP(Data!$W144,tabulka_kce_def,AJ$1-20,FALSE),VLOOKUP(Data!$W144,tabulka_panely_def,AJ$1-18,FALSE))","v":0},{"$f":"IF(Data!$W144<MIN(Panely!$A$9:$A$28),VLOOKUP(Data!$W144,tabulka_kce_def,AK$1-20,FALSE),VLOOKUP(Data!$W144,tabulka_panely_def,AK$1-18,FALSE))","v":0},{"$f":"IF(Data!$W144<MIN(Panely!$A$9:$A$28),VLOOKUP(Data!$W144,tabulka_kce_def,AL$1-20,FALSE),VLOOKUP(Data!$W144,tabulka_panely_def,AL$1-18,FALSE))","v":0},{"$f":"IF(Data!$W144<MIN(Panely!$A$9:$A$28),VLOOKUP(Data!$W144,tabulka_kce_def,AM$1-20,FALSE),VLOOKUP(Data!$W144,tabulka_panely_def,AM$1-18,FALSE))","v":0},144,{"$f":"IF(Data!$W144<MIN(Panely!$A$9:$A$28),VLOOKUP(Data!$W144,tabulka_kce_def,63,FALSE),0)","v":0},{"$f":"IF(Data!$W144<MIN(Panely!$A$9:$A$28),VLOOKUP(Data!$W144,tabulka_kce_def,28,FALSE),1)","v":1},{"$f":"IF(Data!$W144<MIN(Panely!$A$9:$A$28),VLOOKUP(Data!$W144,tabulka_kce_def,23,FALSE),VLOOKUP(Data!$W144,tabulka_panely_def,24,FALSE))","v":0},null,0,null,{"$f":"IF(ISERROR(MID(VLOOKUP($W144,tabulka_kce_def,2,FALSE),1,3)=\"ooz\"),0,IF(MID(VLOOKUP($W144,tabulka_kce_def,2,FALSE),1,3)=\"ooz\",1,0))","v":0},{"$f":"IF(ISERROR(MID(VLOOKUP($W144,tabulka_kce_def,60,FALSE),1,1)=\"f\"),0,IF(MID(VLOOKUP($W144,tabulka_kce_def,60,FALSE),1,1)=\"f\",1,0))","v":0},{"$f":"VALUE(VLOOKUP($W144,tabulka_kce_def,61,FALSE))","v":{"$error":"#N/A"}},{"$f":"IF(AV144=1,IF(MID(VLOOKUP(AW144,tabulka_kce_def,2,FALSE),1,3)=\"ooz\",1,0),0)","v":0},{"$f":"IF(AND(W144>MAX(Konstrukce!A:A),ISNUMBER(W144)),1,0)","v":0}]
[null,"=",{"$f":"IF(Data!$B145<MIN(Panely!$A$9:$A$28),VLOOKUP(Data!$B145,tabulka_kce_def,4,FALSE),VLOOKUP(Data!$B145,tabulka_panely_def,4,FALSE))","v":0},{"$f":"IF(Data!$B145<MIN(Panely!$A$9:$A$28),VLOOKUP(Data!$B145,tabulka_kce_def,23,FALSE),VLOOKUP(Data!$B145,tabulka_panely_def,24,FALSE))","v":0},{"$f":"IF(Data!$B145<MIN(Panely!$A$9:$A$28),VLOOKUP(Data!$B145,tabulka_kce_def,21,FALSE),VLOOKUP(Data!$B145,tabulka_panely_def,22,FALSE))","v":0},{"$f":"IF(Data!$B145<MIN(Panely!$A$9:$A$28),VLOOKUP(Data!$B145,tabulka_kce_def,26,FALSE),VLOOKUP(Data!$B145,tabulka_panely_def,31,FALSE))","v":{"$error":"#DIV/0!"}},{"$f":"IF(Data!$B145<MIN(Panely!$A$9:$A$28),VLOOKUP(Data!$B145,tabulka_kce_def,27,FALSE),VLOOKUP(Data!$B145,tabulka_panely_def,32,FALSE))","v":{"$error":"#DIV/0!"}},{"$f":"IF(VLOOKUP(Data!$B145,tabulka_kce_def,3,FALSE)=\"\",Konstrukce!$G$1,IF(VLOOKUP(Data!$B145,tabulka_kce_def,3,FALSE)=\"z\",Konstrukce!$G$2,VLOOKUP(Data!$B145,tabulka_kce_def,3,FALSE)))","v":{"$error":"#N/A"}},{"$f":"IF(Data!$B145<MIN(Panely!$A$9:$A$28),0,VLOOKUP(Data!$B145,tabulka_panely_def,25,FALSE))","v":0},{"$f":"IF(Data!$B145<MIN(Panely!$A$9:$A$28),VLOOKUP(Data!$B145,tabulka_kce_def,24,FALSE),VLOOKUP(Data!$B145,tabulka_panely_def,33,FALSE))","v":{"$error":"#N/A"}},{"$f":"Konstrukce!$D$1","v":18.770175404064034},{"$f":"Konstrukce!$D$2","v":19.934229593106764},{"$f":"Konstrukce!$G$1","v":-12},{"$f":"IF(Data!$B145<MIN(Panely!$A$9:$A$28),VLOOKUP(Data!$B145,tabulka_kce_def,59,FALSE),VLOOKUP(Data!$B145,tabulka_panely_def,63,FALSE))","v":""},{"$f":"IF(Data!$B145<MIN(Panely!$A$9:$A$28),VLOOKUP(Data!$B145,tabulka_kce_def,60,FALSE),VLOOKUP(Data!$B145,tabulka_panely_def,64,FALSE))","v":""},{"$f":"IF(Data!$B145<MIN(Panely!$A$9:$A$28),VLOOKUP(Data!$B145,tabulka_kce_def,61,FALSE),VLOOKUP(Data!$B145,tabulka_panely_def,65,FALSE))","v":""},{"$f":"IF(Data!$B145<MIN(Panely!$A$9:$A$28),VLOOKUP(Data!$B145,tabulka_kce_def,25,FALSE),0)","v":0},0,null,null,null,null,"=",{"$f":"IF(Data!$W145<MIN(Panely!$A$9:$A$28),VLOOKUP(Data!$W145,tabulka_kce_def,62,FALSE),VLOOKUP(Data!$W145,tabulka_panely_def,65,FALSE))","v":""},{"$f":"IF(Data!$W145<MIN(Panely!$A$9:$A$28),VLOOKUP(Data!$W145,tabulka_kce_def,Y$1-20,FALSE),VLOOKUP(Data!$W145,tabulka_panely_def,Y$1-18,FALSE))","v":0},{"$f":"IF(Data!$W145<MIN(Panely!$A$9:$A$28),VLOOKUP(Data!$W145,tabulka_kce_def,Z$1-20,FALSE),VLOOKUP(Data!$W145,tabulka_panely_def,Z$1-18,FALSE))","v":0},{"$f":"IF(Data!$W145<MIN(Panely!$A$9:$A$28),VLOOKUP(Data!$W145,tabulka_kce_def,AA$1-20,FALSE),VLOOKUP(Data!$W145,tabulka_panely_def,AA$1-18,FALSE))","v":0},{"$f":"IF(Data!$W145<MIN(Panely!$A$9:$A$28),VLOOKUP(Data!$W145,tabulka_kce_def,AB$1-20,FALSE),VLOOKUP(Data!$W145,tabulka_panely_def,AB$1-18,FALSE))","v":0},{"$f":"IF(Data!$W145<MIN(Panely!$A$9:$A$28),VLOOKUP(Data!$W145,tabulka_kce_def,AC$1-20,FALSE),VLOOKUP(Data!$W145,tabulka_panely_def,AC$1-18,FALSE))","v":0},{"$f":"IF(Data!$W145<MIN(Panely!$A$9:$A$28),VLOOKUP(Data!$W145,tabulka_kce_def,AD$1-20,FALSE),VLOOKUP(Data!$W145,tabulka_panely_def,AD$1-18,FALSE))","v":0},{"$f":"IF(Data!$W145<MIN(Panely!$A$9:$A$28),VLOOKUP(Data!$W145,tabulka_kce_def,AE$1-20,FALSE),VLOOKUP(Data!$W145,tabulka_panely_def,AE$1-18,FALSE))","v":0},{"$f":"IF(Data!$W145<MIN(Panely!$A$9:$A$28),VLOOKUP(Data!$W145,tabulka_kce_def,AF$1-20,FALSE),VLOOKUP(Data!$W145,tabulka_panely_def,AF$1-18,FALSE))","v":0},{"$f":"IF(Data!$W145<MIN(Panely!$A$9:$A$28),VLOOKUP(Data!$W145,tabulka_kce_def,AG$1-20,FALSE),VLOOKUP(Data!$W145,tabulka_panely_def,AG$1-18,FALSE))","v":0},{"$f":"IF(Data!$W145<MIN(Panely!$A$9:$A$28),VLOOKUP(Data!$W145,tabulka_kce_def,AH$1-20,FALSE),VLOOKUP(Data!$W145,tabulka_panely_def,AH$1-18,FALSE))","v":0},{"$f":"IF(Data!$W145<MIN(Panely!$A$9:$A$28),VLOOKUP(Data!$W145,tabulka_kce_def,AI$1-20,FALSE),VLOOKUP(Data!$W145,tabulka_panely_def,AI$1-18,FALSE))","v":0},{"$f":"IF(Data!$W145<MIN(Panely!$A$9:$A$28),VLOOKUP(Data!$W145,tabulka_kce_def,AJ$1-20,FALSE),VLOOKUP(Data!$W145,tabulka_panely_def,AJ$1-18,FALSE))","v":0},{"$f":"IF(Data!$W145<MIN(Panely!$A$9:$A$28),VLOOKUP(Data!$W145,tabulka_kce_def,AK$1-20,FALSE),VLOOKUP(Data!$W145,tabulka_panely_def,AK$1-18,FALSE))","v":0},{"$f":"IF(Data!$W145<MIN(Panely!$A$9:$A$28),VLOOKUP(Data!$W145,tabulka_kce_def,AL$1-20,FALSE),VLOOKUP(Data!$W145,tabulka_panely_def,AL$1-18,FALSE))","v":0},{"$f":"IF(Data!$W145<MIN(Panely!$A$9:$A$28),VLOOKUP(Data!$W145,tabulka_kce_def,AM$1-20,FALSE),VLOOKUP(Data!$W145,tabulka_panely_def,AM$1-18,FALSE))","v":0},145,{"$f":"IF(Data!$W145<MIN(Panely!$A$9:$A$28),VLOOKUP(Data!$W145,tabulka_kce_def,63,FALSE),0)","v":0},{"$f":"IF(Data!$W145<MIN(Panely!$A$9:$A$28),VLOOKUP(Data!$W145,tabulka_kce_def,28,FALSE),1)","v":1},{"$f":"IF(Data!$W145<MIN(Panely!$A$9:$A$28),VLOOKUP(Data!$W145,tabulka_kce_def,23,FALSE),VLOOKUP(Data!$W145,tabulka_panely_def,24,FALSE))","v":0},null,{"$f":"IF(ISERROR(AR145*(273.15+AQ145)^4),0,AR145*((273.15+AQ145)^4))","v":0},null,0,0,{"$error":"#N/A"},0,{"$f":"IF(AND(W145>MAX(Konstrukce!A:A),ISNUMBER(W145)),1,0)","v":0}]
[null,"=",{"$f":"IF(Data!$B146<MIN(Panely!$A$9:$A$28),VLOOKUP(Data!$B146,tabulka_kce_def,4,FALSE),VLOOKUP(Data!$B146,tabulka_panely_def,4,FALSE))","v":0},{"$f":"IF(Data!$B146<MIN(Panely!$A$9:$A$28),VLOOKUP(Data!$B146,tabulka_kce_def,23,FALSE),VLOOKUP(Data!$B146,tabulka_panely_def,24,FALSE))","v":0},{"$f":"IF(Data!$B146<MIN(Panely!$A$9:$A$28),VLOOKUP(Data!$B146,tabulka_kce_def,21,FALSE),VLOOKUP(Data!$B146,tabulka_panely_def,22,FALSE))","v":0},{"$f":"IF(Data!$B146<MIN(Panely!$A$9:$A$28),VLOOKUP(Data!$B146,tabulka_kce_def,26,FALSE),VLOOKUP(Data!$B146,tabulka_panely_def,31,FALSE))","v":{"$error":"#DIV/0!"}},{"$f":"IF(Data!$B146<MIN(Panely!$A$9:$A$28),VLOOKUP(Data!$B146,tabulka_kce_def,27,FALSE),VLOOKUP(Data!$B146,tabulka_panely_def,32,FALSE))","v":{"$error":"#DIV/0!"}},{"$f":"IF(VLOOKUP(Data!$B146,tabulka_kce_def,3,FALSE)=\"\",Konstrukce!$G$1,IF(VLOOKUP(Data!$B146,tabulka_kce_def,3,FALSE)=\"z\",Konstrukce!$G$2,VLOOKUP(Data!$B146,tabulka_kce_def,3,FALSE)))","v":{"$error":"#N/A"}},{"$f":"IF(Data!$B146<MIN(Panely!$A$9:$A$28),0,VLOOKUP(Data!$B146,tabulka_panely_def,25,FALSE))","v":0},{"$f":"IF(Data!$B146<MIN(Panely!$A$9:$A$28),VLOOKUP(Data!$B146,tabulka_kce_def,24,FALSE),VLOOKUP(Data!$B146,tabulka_panely_def,33,FALSE))","v":{"$error":"#N/A"}},{"$f":"Konstrukce!$D$1","v":18.770175404064034},{"$f":"Konstrukce!$D$2","v":19.934229593106764},{"$f":"Konstrukce!$G$1","v":-12},{"$f":"IF(Data!$B146<MIN(Panely!$A$9:$A$28),VLOOKUP(Data!$B146,tabulka_kce_def,59,FALSE),VLOOKUP(Data!$B146,tabulka_panely_def,63,FALSE))","v":""},{"$f":"IF(Data!$B146<MIN(Panely!$A$9:$A$28),VLOOKUP(Data!$B146,tabulka_kce_def,60,FALSE),VLOOKUP(Data!$B146,tabulka_panely_def,64,FALSE))","v":""},{"$f":"IF(Data!$B146<MIN(Panely!$A$9:$A$28),VLOOKUP(Data!$B146,tabulka_kce_def,61,FALSE),VLOOKUP(Data!$B146,tabulka_panely_def,65,FALSE))","v":""},{"$f":"IF(Data!$B146<MIN(Panely!$A$9:$A$28),VLOOKUP(Data!$B146,tabulka_kce_def,25,FALSE),0)","v":0},0,null,null,null,null,"=",{"$f":"IF(Data!$W146<MIN(Panely!$A$9:$A$28),VLOOKUP(Data!$W146,tabulka_kce_def,62,FALSE),VLOOKUP(Data!$W146,tabulka_panely_def,65,FALSE))","v":""},{"$f":"IF(Data!$W146<MIN(Panely!$A$9:$A$28),VLOOKUP(Data!$W146,tabulka_kce_def,Y$1-20,FALSE),VLOOKUP(Data!$W146,tabulka_panely_def,Y$1-18,FALSE))","v":0},{"$f":"IF(Data!$W146<MIN(Panely!$A$9:$A$28),VLOOKUP(Data!$W146,tabulka_kce_def,Z$1-20,FALSE),VLOOKUP(Data!$W146,tabulka_panely_def,Z$1-18,FALSE))","v":0},{"$f":"IF(Data!$W146<MIN(Panely!$A$9:$A$28),VLOOKUP(Data!$W146,tabulka_kce_def,AA$1-20,FALSE),VLOOKUP(Data!$W146,tabulka_panely_def,AA$1-18,FALSE))","v":0},{"$f":"IF(Data!$W146<MIN(Panely!$A$9:$A$28),VLOOKUP(Data!$W146,tabulka_kce_def,AB$1-20,FALSE),VLOOKUP(Data!$W146,tabulka_panely_def,AB$1-18,FALSE))","v":0},{"$f":"IF(Data!$W146<MIN(Panely!$A$9:$A$28),VLOOKUP(Data!$W146,tabulka_kce_def,AC$1-20,FALSE),VLOOKUP(Data!$W146,tabulka_panely_def,AC$1-18,FALSE))","v":0},{"$f":"IF(Data!$W146<MIN(Panely!$A$9:$A$28),VLOOKUP(Data!$W146,tabulka_kce_def,AD$1-20,FALSE),VLOOKUP(Data!$W146,tabulka_panely_def,AD$1-18,FALSE))","v":0},{"$f":"IF(Data!$W146<MIN(Panely!$A$9:$A$28),VLOOKUP(Data!$W146,tabulka_kce_def,AE$1-20,FALSE),VLOOKUP(Data!$W146,tabulka_panely_def,AE$1-18,FALSE))","v":0},{"$f":"IF(Data!$W146<MIN(Panely!$A$9:$A$28),VLOOKUP(Data!$W146,tabulka_kce_def,AF$1-20,FALSE),VLOOKUP(Data!$W146,tabulka_panely_def,AF$1-18,FALSE))","v":0},{"$f":"IF(Data!$W146<MIN(Panely!$A$9:$A$28),VLOOKUP(Data!$W146,tabulka_kce_def,AG$1-20,FALSE),VLOOKUP(Data!$W146,tabulka_panely_def,AG$1-18,FALSE))","v":0},{"$f":"IF(Data!$W146<MIN(Panely!$A$9:$A$28),VLOOKUP(Data!$W146,tabulka_kce_def,AH$1-20,FALSE),VLOOKUP(Data!$W146,tabulka_panely_def,AH$1-18,FALSE))","v":0},{"$f":"IF(Data!$W146<MIN(Panely!$A$9:$A$28),VLOOKUP(Data!$W146,tabulka_kce_def,AI$1-20,FALSE),VLOOKUP(Data!$W146,tabulka_panely_def,AI$1-18,FALSE))","v":0},{"$f":"IF(Data!$W146<MIN(Panely!$A$9:$A$28),VLOOKUP(Data!$W146,tabulka_kce_def,AJ$1-20,FALSE),VLOOKUP(Data!$W146,tabulka_panely_def,AJ$1-18,FALSE))","v":0},{"$f":"IF(Data!$W146<MIN(Panely!$A$9:$A$28),VLOOKUP(Data!$W146,tabulka_kce_def,AK$1-20,FALSE),VLOOKUP(Data!$W146,tabulka_panely_def,AK$1-18,FALSE))","v":0},{"$f":"IF(Data!$W146<MIN(Panely!$A$9:$A$28),VLOOKUP(Data!$W146,tabulka_kce_def,AL$1-20,FALSE),VLOOKUP(Data!$W146,tabulka_panely_def,AL$1-18,FALSE))","v":0},{"$f":"IF(Data!$W146<MIN(Panely!$A$9:$A$28),VLOOKUP(Data!$W146,tabulka_kce_def,AM$1-20,FALSE),VLOOKUP(Data!$W146,tabulka_panely_def,AM$1-18,FALSE))","v":0},{"$f":"AN145+1","v":146},{"$f":"IF(Data!$W146<MIN(Panely!$A$9:$A$28),VLOOKUP(Data!$W146,tabulka_kce_def,63,FALSE),0)","v":0},{"$f":"IF(Data!$W146<MIN(Panely!$A$9:$A$28),VLOOKUP(Data!$W146,tabulka_kce_def,28,FALSE),1)","v":1},{"$f":"IF(Data!$W146<MIN(Panely!$A$9:$A$28),VLOOKUP(Data!$W146,tabulka_kce_def,23,FALSE),VLOOKUP(Data!$W146,tabulka_panely_def,24,FALSE))","v":0},null,0,null,0,0,{"$error":"#N/A"},0,{"$f":"IF(AND(W146>MAX(Konstrukce!A:A),ISNUMBER(W146)),1,0)","v":0}]
[null,"=",{"$f":"IF(Data!$B147<MIN(Panely!$A$9:$A$28),VLOOKUP(Data!$B147,tabulka_kce_def,4,FALSE),VLOOKUP(Data!$B147,tabulka_panely_def,4,FALSE))","v":0},{"$f":"IF(Data!$B147<MIN(Panely!$A$9:$A$28),VLOOKUP(Data!$B147,tabulka_kce_def,23,FALSE),VLOOKUP(Data!$B147,tabulka_panely_def,24,FALSE))","v":0},{"$f":"IF(Data!$B147<MIN(Panely!$A$9:$A$28),VLOOKUP(Data!$B147,tabulka_kce_def,21,FALSE),VLOOKUP(Data!$B147,tabulka_panely_def,22,FALSE))","v":0},{"$f":"IF(Data!$B147<MIN(Panely!$A$9:$A$28),VLOOKUP(Data!$B147,tabulka_kce_def,26,FALSE),VLOOKUP(Data!$B147,tabulka_panely_def,31,FALSE))","v":{"$error":"#DIV/0!"}},{"$f":"IF(Data!$B147<MIN(Panely!$A$9:$A$28),VLOOKUP(Data!$B147,tabulka_kce_def,27,FALSE),VLOOKUP(Data!$B147,tabulka_panely_def,32,FALSE))","v":{"$error":"#DIV/0!"}},{"$f":"IF(VLOOKUP(Data!$B147,tabulka_kce_def,3,FALSE)=\"\",Konstrukce!$G$1,IF(VLOOKUP(Data!$B147,tabulka_kce_def,3,FALSE)=\"z\",Konstrukce!$G$2,VLOOKUP(Data!$B147,tabulka_kce_def,3,FALSE)))","v":{"$error":"#N/A"}},{"$f":"IF(Data!$B147<MIN(Panely!$A$9:$A$28),0,VLOOKUP(Data!$B147,tabulka_panely_def,25,FALSE))","v":0},{"$f":"IF(Data!$B147<MIN(Panely!$A$9:$A$28),VLOOKUP(Data!$B147,tabulka_kce_def,24,FALSE),VLOOKUP(Data!$B147,tabulka_panely_def,33,FALSE))","v":{"$error":"#N/A"}},{"$f":"Konstrukce!$D$1","v":18.770175404064034},{"$f":"Konstrukce!$D$2","v":19.934229593106764},{"$f":"Konstrukce!$G$1","v":-12},{"$f":"IF(Data!$B147<MIN(Panely!$A$9:$A$28),VLOOKUP(Data!$B147,tabulka_kce_def,59,FALSE),VLOOKUP(Data!$B147,tabulka_panely_def,63,FALSE))","v":""},{"$f":"IF(Data!$B147<MIN(Panely!$A$9:$A$28),VLOOKUP(Data!$B147,tabulka_kce_def,60,FALSE),VLOOKUP(Data!$B147,tabulka_panely_def,64,FALSE))","v":""},{"$f":"IF(Data!$B147<MIN(Panely!$A$9:$A$28),VLOOKUP(Data!$B147,tabulka_kce_def,61,FALSE),VLOOKUP(Data!$B147,tabulka_panely_def,65,FALSE))","v":""},{"$f":"IF(Data!$B147<MIN(Panely!$A$9:$A$28),VLOOKUP(Data!$B147,tabulka_kce_def,25,FALSE),0)","v":0},0,null,null,null,null,"=",{"$f":"IF(Data!$W147<MIN(Panely!$A$9:$A$28),VLOOKUP(Data!$W147,tabulka_kce_def,62,FALSE),VLOOKUP(Data!$W147,tabulka_panely_def,65,FALSE))","v":""},{"$f":"IF(Data!$W147<MIN(Panely!$A$9:$A$28),VLOOKUP(Data!$W147,tabulka_kce_def,Y$1-20,FALSE),VLOOKUP(Data!$W147,tabulka_panely_def,Y$1-18,FALSE))","v":0},{"$f":"IF(Data!$W147<MIN(Panely!$A$9:$A$28),VLOOKUP(Data!$W147,tabulka_kce_def,Z$1-20,FALSE),VLOOKUP(Data!$W147,tabulka_panely_def,Z$1-18,FALSE))","v":0},{"$f":"IF(Data!$W147<MIN(Panely!$A$9:$A$28),VLOOKUP(Data!$W147,tabulka_kce_def,AA$1-20,FALSE),VLOOKUP(Data!$W147,tabulka_panely_def,AA$1-18,FALSE))","v":0},{"$f":"IF(Data!$W147<MIN(Panely!$A$9:$A$28),VLOOKUP(Data!$W147,tabulka_kce_def,AB$1-20,FALSE),VLOOKUP(Data!$W147,tabulka_panely_def,AB$1-18,FALSE))","v":0},{"$f":"IF(Data!$W147<MIN(Panely!$A$9:$A$28),VLOOKUP(Data!$W147,tabulka_kce_def,AC$1-20,FALSE),VLOOKUP(Data!$W147,tabulka_panely_def,AC$1-18,FALSE))","v":0},{"$f":"IF(Data!$W147<MIN(Panely!$A$9:$A$28),VLOOKUP(Data!$W147,tabulka_kce_def,AD$1-20,FALSE),VLOOKUP(Data!$W147,tabulka_panely_def,AD$1-18,FALSE))","v":0},{"$f":"IF(Data!$W147<MIN(Panely!$A$9:$A$28),VLOOKUP(Data!$W147,tabulka_kce_def,AE$1-20,FALSE),VLOOKUP(Data!$W147,tabulka_panely_def,AE$1-18,FALSE))","v":0},{"$f":"IF(Data!$W147<MIN(Panely!$A$9:$A$28),VLOOKUP(Data!$W147,tabulka_kce_def,AF$1-20,FALSE),VLOOKUP(Data!$W147,tabulka_panely_def,AF$1-18,FALSE))","v":0},{"$f":"IF(Data!$W147<MIN(Panely!$A$9:$A$28),VLOOKUP(Data!$W147,tabulka_kce_def,AG$1-20,FALSE),VLOOKUP(Data!$W147,tabulka_panely_def,AG$1-18,FALSE))","v":0},{"$f":"IF(Data!$W147<MIN(Panely!$A$9:$A$28),VLOOKUP(Data!$W147,tabulka_kce_def,AH$1-20,FALSE),VLOOKUP(Data!$W147,tabulka_panely_def,AH$1-18,FALSE))","v":0},{"$f":"IF(Data!$W147<MIN(Panely!$A$9:$A$28),VLOOKUP(Data!$W147,tabulka_kce_def,AI$1-20,FALSE),VLOOKUP(Data!$W147,tabulka_panely_def,AI$1-18,FALSE))","v":0},{"$f":"IF(Data!$W147<MIN(Panely!$A$9:$A$28),VLOOKUP(Data!$W147,tabulka_kce_def,AJ$1-20,FALSE),VLOOKUP(Data!$W147,tabulka_panely_def,AJ$1-18,FALSE))","v":0},{"$f":"IF(Data!$W147<MIN(Panely!$A$9:$A$28),VLOOKUP(Data!$W147,tabulka_kce_def,AK$1-20,FALSE),VLOOKUP(Data!$W147,tabulka_panely_def,AK$1-18,FALSE))","v":0},{"$f":"IF(Data!$W147<MIN(Panely!$A$9:$A$28),VLOOKUP(Data!$W147,tabulka_kce_def,AL$1-20,FALSE),VLOOKUP(Data!$W147,tabulka_panely_def,AL$1-18,FALSE))","v":0},{"$f":"IF(Data!$W147<MIN(Panely!$A$9:$A$28),VLOOKUP(Data!$W147,tabulka_kce_def,AM$1-20,FALSE),VLOOKUP(Data!$W147,tabulka_panely_def,AM$1-18,FALSE))","v":0},147,{"$f":"IF(Data!$W147<MIN(Panely!$A$9:$A$28),VLOOKUP(Data!$W147,tabulka_kce_def,63,FALSE),0)","v":0},{"$f":"IF(Data!$W147<MIN(Panely!$A$9:$A$28),VLOOKUP(Data!$W147,tabulka_kce_def,28,FALSE),1)","v":1},{"$f":"IF(Data!$W147<MIN(Panely!$A$9:$A$28),VLOOKUP(Data!$W147,tabulka_kce_def,23,FALSE),VLOOKUP(Data!$W147,tabulka_panely_def,24,FALSE))","v":0},null,0,null,0,0,{"$error":"#N/A"},0,{"$f":"IF(AND(W147>MAX(Konstrukce!A:A),ISNUMBER(W147)),1,0)","v":0}]
[null,"=",{"$f":"IF(Data!$B148<MIN(Panely!$A$9:$A$28),VLOOKUP(Data!$B148,tabulka_kce_def,4,FALSE),VLOOKUP(Data!$B148,tabulka_panely_def,4,FALSE))","v":0},{"$f":"IF(Data!$B148<MIN(Panely!$A$9:$A$28),VLOOKUP(Data!$B148,tabulka_kce_def,23,FALSE),VLOOKUP(Data!$B148,tabulka_panely_def,24,FALSE))","v":0},{"$f":"IF(Data!$B148<MIN(Panely!$A$9:$A$28),VLOOKUP(Data!$B148,tabulka_kce_def,21,FALSE),VLOOKUP(Data!$B148,tabulka_panely_def,22,FALSE))","v":0},{"$f":"IF(Data!$B148<MIN(Panely!$A$9:$A$28),VLOOKUP(Data!$B148,tabulka_kce_def,26,FALSE),VLOOKUP(Data!$B148,tabulka_panely_def,31,FALSE))","v":{"$error":"#DIV/0!"}},{"$f":"IF(Data!$B148<MIN(Panely!$A$9:$A$28),VLOOKUP(Data!$B148,tabulka_kce_def,27,FALSE),VLOOKUP(Data!$B148,tabulka_panely_def,32,FALSE))","v":{"$error":"#DIV/0!"}},{"$f":"IF(VLOOKUP(Data!$B148,tabulka_kce_def,3,FALSE)=\"\",Konstrukce!$G$1,IF(VLOOKUP(Data!$B148,tabulka_kce_def,3,FALSE)=\"z\",Konstrukce!$G$2,VLOOKUP(Data!$B148,tabulka_kce_def,3,FALSE)))","v":{"$error":"#N/A"}},{"$f":"IF(Data!$B148<MIN(Panely!$A$9:$A$28),0,VLOOKUP(Data!$B148,tabulka_panely_def,25,FALSE))","v":0},{"$f":"IF(Data!$B148<MIN(Panely!$A$9:$A$28),VLOOKUP(Data!$B148,tabulka_kce_def,24,FALSE),VLOOKUP(Data!$B148,tabulka_panely_def,33,FALSE))","v":{"$error":"#N/A"}},{"$f":"Konstrukce!$D$1","v":18.770175404064034},{"$f":"Konstrukce!$D$2","v":19.934229593106764},{"$f":"Konstrukce!$G$1","v":-12},{"$f":"IF(Data!$B148<MIN(Panely!$A$9:$A$28),VLOOKUP(Data!$B148,tabulka_kce_def,59,FALSE),VLOOKUP(Data!$B148,tabulka_panely_def,63,FALSE))","v":""},{"$f":"IF(Data!$B148<MIN(Panely!$A$9:$A$28),VLOOKUP(Data!$B148,tabulka_kce_def,60,FALSE),VLOOKUP(Data!$B148,tabulka_panely_def,64,FALSE))","v":""},{"$f":"IF(Data!$B148<MIN(Panely!$A$9:$A$28),VLOOKUP(Data!$B148,tabulka_kce_def,61,FALSE),VLOOKUP(Data!$B148,tabulka_panely_def,65,FALSE))","v":""},{"$f":"IF(Data!$B148<MIN(Panely!$A$9:$A$28),VLOOKUP(Data!$B148,tabulka_kce_def,25,FALSE),0)","v":0},0,null,null,null,null,"=",{"$f":"IF(Data!$W148<MIN(Panely!$A$9:$A$28),VLOOKUP(Data!$W148,tabulka_kce_def,62,FALSE),VLOOKUP(Data!$W148,tabulka_panely_def,65,FALSE))","v":""},{"$f":"IF(Data!$W148<MIN(Panely!$A$9:$A$28),VLOOKUP(Data!$W148,tabulka_kce_def,Y$1-20,FALSE),VLOOKUP(Data!$W148,tabulka_panely_def,Y$1-18,FALSE))","v":0},{"$f":"IF(Data!$W148<MIN(Panely!$A$9:$A$28),VLOOKUP(Data!$W148,tabulka_kce_def,Z$1-20,FALSE),VLOOKUP(Data!$W148,tabulka_panely_def,Z$1-18,FALSE))","v":0},{"$f":"IF(Data!$W148<MIN(Panely!$A$9:$A$28),VLOOKUP(Data!$W148,tabulka_kce_def,AA$1-20,FALSE),VLOOKUP(Data!$W148,tabulka_panely_def,AA$1-18,FALSE))","v":0},{"$f":"IF(Data!$W148<MIN(Panely!$A$9:$A$28),VLOOKUP(Data!$W148,tabulka_kce_def,AB$1-20,FALSE),VLOOKUP(Data!$W148,tabulka_panely_def,AB$1-18,FALSE))","v":0},{"$f":"IF(Data!$W148<MIN(Panely!$A$9:$A$28),VLOOKUP(Data!$W148,tabulka_kce_def,AC$1-20,FALSE),VLOOKUP(Data!$W148,tabulka_panely_def,AC$1-18,FALSE))","v":0},{"$f":"IF(Data!$W148<MIN(Panely!$A$9:$A$28),VLOOKUP(Data!$W148,tabulka_kce_def,AD$1-20,FALSE),VLOOKUP(Data!$W148,tabulka_panely_def,AD$1-18,FALSE))","v":0},{"$f":"IF(Data!$W148<MIN(Panely!$A$9:$A$28),VLOOKUP(Data!$W148,tabulka_kce_def,AE$1-20,FALSE),VLOOKUP(Data!$W148,tabulka_panely_def,AE$1-18,FALSE))","v":0},{"$f":"IF(Data!$W148<MIN(Panely!$A$9:$A$28),VLOOKUP(Data!$W148,tabulka_kce_def,AF$1-20,FALSE),VLOOKUP(Data!$W148,tabulka_panely_def,AF$1-18,FALSE))","v":0},{"$f":"IF(Data!$W148<MIN(Panely!$A$9:$A$28),VLOOKUP(Data!$W148,tabulka_kce_def,AG$1-20,FALSE),VLOOKUP(Data!$W148,tabulka_panely_def,AG$1-18,FALSE))","v":0},{"$f":"IF(Data!$W148<MIN(Panely!$A$9:$A$28),VLOOKUP(Data!$W148,tabulka_kce_def,AH$1-20,FALSE),VLOOKUP(Data!$W148,tabulka_panely_def,AH$1-18,FALSE))","v":0},{"$f":"IF(Data!$W148<MIN(Panely!$A$9:$A$28),VLOOKUP(Data!$W148,tabulka_kce_def,AI$1-20,FALSE),VLOOKUP(Data!$W148,tabulka_panely_def,AI$1-18,FALSE))","v":0},{"$f":"IF(Data!$W148<MIN(Panely!$A$9:$A$28),VLOOKUP(Data!$W148,tabulka_kce_def,AJ$1-20,FALSE),VLOOKUP(Data!$W148,tabulka_panely_def,AJ$1-18,FALSE))","v":0},{"$f":"IF(Data!$W148<MIN(Panely!$A$9:$A$28),VLOOKUP(Data!$W148,tabulka_kce_def,AK$1-20,FALSE),VLOOKUP(Data!$W148,tabulka_panely_def,AK$1-18,FALSE))","v":0},{"$f":"IF(Data!$W148<MIN(Panely!$A$9:$A$28),VLOOKUP(Data!$W148,tabulka_kce_def,AL$1-20,FALSE),VLOOKUP(Data!$W148,tabulka_panely_def,AL$1-18,FALSE))","v":0},{"$f":"IF(Data!$W148<MIN(Panely!$A$9:$A$28),VLOOKUP(Data!$W148,tabulka_kce_def,AM$1-20,FALSE),VLOOKUP(Data!$W148,tabulka_panely_def,AM$1-18,FALSE))","v":0},148,{"$f":"IF(Data!$W148<MIN(Panely!$A$9:$A$28),VLOOKUP(Data!$W148,tabulka_kce_def,63,FALSE),0)","v":0},{"$f":"IF(Data!$W148<MIN(Panely!$A$9:$A$28),VLOOKUP(Data!$W148,tabulka_kce_def,28,FALSE),1)","v":1},{"$f":"IF(Data!$W148<MIN(Panely!$A$9:$A$28),VLOOKUP(Data!$W148,tabulka_kce_def,23,FALSE),VLOOKUP(Data!$W148,tabulka_panely_def,24,FALSE))","v":0},null,0,null,0,0,{"$error":"#N/A"},0,{"$f":"IF(AND(W148>MAX(Konstrukce!A:A),ISNUMBER(W148)),1,0)","v":0}]
[null,"=",{"$f":"IF(Data!$B149<MIN(Panely!$A$9:$A$28),VLOOKUP(Data!$B149,tabulka_kce_def,4,FALSE),VLOOKUP(Data!$B149,tabulka_panely_def,4,FALSE))","v":0},{"$f":"IF(Data!$B149<MIN(Panely!$A$9:$A$28),VLOOKUP(Data!$B149,tabulka_kce_def,23,FALSE),VLOOKUP(Data!$B149,tabulka_panely_def,24,FALSE))","v":0},{"$f":"IF(Data!$B149<MIN(Panely!$A$9:$A$28),VLOOKUP(Data!$B149,tabulka_kce_def,21,FALSE),VLOOKUP(Data!$B149,tabulka_panely_def,22,FALSE))","v":0},{"$f":"IF(Data!$B149<MIN(Panely!$A$9:$A$28),VLOOKUP(Data!$B149,tabulka_kce_def,26,FALSE),VLOOKUP(Data!$B149,tabulka_panely_def,31,FALSE))","v":{"$error":"#DIV/0!"}},{"$f":"IF(Data!$B149<MIN(Panely!$A$9:$A$28),VLOOKUP(Data!$B149,tabulka_kce_def,27,FALSE),VLOOKUP(Data!$B149,tabulka_panely_def,32,FALSE))","v":{"$error":"#DIV/0!"}},{"$f":"IF(VLOOKUP(Data!$B149,tabulka_kce_def,3,FALSE)=\"\",Konstrukce!$G$1,IF(VLOOKUP(Data!$B149,tabulka_kce_def,3,FALSE)=\"z\",Konstrukce!$G$2,VLOOKUP(Data!$B149,tabulka_kce_def,3,FALSE)))","v":{"$error":"#N/A"}},{"$f":"IF(Data!$B149<MIN(Panely!$A$9:$A$28),0,VLOOKUP(Data!$B149,tabulka_panely_def,25,FALSE))","v":0},{"$f":"IF(Data!$B149<MIN(Panely!$A$9:$A$28),VLOOKUP(Data!$B149,tabulka_kce_def,24,FALSE),VLOOKUP(Data!$B149,tabulka_panely_def,33,FALSE))","v":{"$error":"#N/A"}},{"$f":"Konstrukce!$D$1","v":18.770175404064034},{"$f":"Konstrukce!$D$2","v":19.934229593106764},{"$f":"Konstrukce!$G$1","v":-12},{"$f":"IF(Data!$B149<MIN(Panely!$A$9:$A$28),VLOOKUP(Data!$B149,tabulka_kce_def,59,FALSE),VLOOKUP(Data!$B149,tabulka_panely_def,63,FALSE))","v":""},{"$f":"IF(Data!$B149<MIN(Panely!$A$9:$A$28),VLOOKUP(Data!$B149,tabulka_kce_def,60,FALSE),VLOOKUP(Data!$B149,tabulka_panely_def,64,FALSE))","v":""},{"$f":"IF(Data!$B149<MIN(Panely!$A$9:$A$28),VLOOKUP(Data!$B149,tabulka_kce_def,61,FALSE),VLOOKUP(Data!$B149,tabulka_panely_def,65,FALSE))","v":""},{"$f":"IF(Data!$B149<MIN(Panely!$A$9:$A$28),VLOOKUP(Data!$B149,tabulka_kce_def,25,FALSE),0)","v":0},0,null,null,null,null,"=",{"$f":"IF(Data!$W149<MIN(Panely!$A$9:$A$28),VLOOKUP(Data!$W149,tabulka_kce_def,62,FALSE),VLOOKUP(Data!$W149,tabulka_panely_def,65,FALSE))","v":""},{"$f":"IF(Data!$W149<MIN(Panely!$A$9:$A$28),VLOOKUP(Data!$W149,tabulka_kce_def,Y$1-20,FALSE),VLOOKUP(Data!$W149,tabulka_panely_def,Y$1-18,FALSE))","v":0},{"$f":"IF(Data!$W149<MIN(Panely!$A$9:$A$28),VLOOKUP(Data!$W149,tabulka_kce_def,Z$1-20,FALSE),VLOOKUP(Data!$W149,tabulka_panely_def,Z$1-18,FALSE))","v":0},{"$f":"IF(Data!$W149<MIN(Panely!$A$9:$A$28),VLOOKUP(Data!$W149,tabulka_kce_def,AA$1-20,FALSE),VLOOKUP(Data!$W149,tabulka_panely_def,AA$1-18,FALSE))","v":0},{"$f":"IF(Data!$W149<MIN(Panely!$A$9:$A$28),VLOOKUP(Data!$W149,tabulka_kce_def,AB$1-20,FALSE),VLOOKUP(Data!$W149,tabulka_panely_def,AB$1-18,FALSE))","v":0},{"$f":"IF(Data!$W149<MIN(Panely!$A$9:$A$28),VLOOKUP(Data!$W149,tabulka_kce_def,AC$1-20,FALSE),VLOOKUP(Data!$W149,tabulka_panely_def,AC$1-18,FALSE))","v":0},{"$f":"IF(Data!$W149<MIN(Panely!$A$9:$A$28),VLOOKUP(Data!$W149,tabulka_kce_def,AD$1-20,FALSE),VLOOKUP(Data!$W149,tabulka_panely_def,AD$1-18,FALSE))","v":0},{"$f":"IF(Data!$W149<MIN(Panely!$A$9:$A$28),VLOOKUP(Data!$W149,tabulka_kce_def,AE$1-20,FALSE),VLOOKUP(Data!$W149,tabulka_panely_def,AE$1-18,FALSE))","v":0},{"$f":"IF(Data!$W149<MIN(Panely!$A$9:$A$28),VLOOKUP(Data!$W149,tabulka_kce_def,AF$1-20,FALSE),VLOOKUP(Data!$W149,tabulka_panely_def,AF$1-18,FALSE))","v":0},{"$f":"IF(Data!$W149<MIN(Panely!$A$9:$A$28),VLOOKUP(Data!$W149,tabulka_kce_def,AG$1-20,FALSE),VLOOKUP(Data!$W149,tabulka_panely_def,AG$1-18,FALSE))","v":0},{"$f":"IF(Data!$W149<MIN(Panely!$A$9:$A$28),VLOOKUP(Data!$W149,tabulka_kce_def,AH$1-20,FALSE),VLOOKUP(Data!$W149,tabulka_panely_def,AH$1-18,FALSE))","v":0},{"$f":"IF(Data!$W149<MIN(Panely!$A$9:$A$28),VLOOKUP(Data!$W149,tabulka_kce_def,AI$1-20,FALSE),VLOOKUP(Data!$W149,tabulka_panely_def,AI$1-18,FALSE))","v":0},{"$f":"IF(Data!$W149<MIN(Panely!$A$9:$A$28),VLOOKUP(Data!$W149,tabulka_kce_def,AJ$1-20,FALSE),VLOOKUP(Data!$W149,tabulka_panely_def,AJ$1-18,FALSE))","v":0},{"$f":"IF(Data!$W149<MIN(Panely!$A$9:$A$28),VLOOKUP(Data!$W149,tabulka_kce_def,AK$1-20,FALSE),VLOOKUP(Data!$W149,tabulka_panely_def,AK$1-18,FALSE))","v":0},{"$f":"IF(Data!$W149<MIN(Panely!$A$9:$A$28),VLOOKUP(Data!$W149,tabulka_kce_def,AL$1-20,FALSE),VLOOKUP(Data!$W149,tabulka_panely_def,AL$1-18,FALSE))","v":0},{"$f":"IF(Data!$W149<MIN(Panely!$A$9:$A$28),VLOOKUP(Data!$W149,tabulka_kce_def,AM$1-20,FALSE),VLOOKUP(Data!$W149,tabulka_panely_def,AM$1-18,FALSE))","v":0},149,{"$f":"IF(Data!$W149<MIN(Panely!$A$9:$A$28),VLOOKUP(Data!$W149,tabulka_kce_def,63,FALSE),0)","v":0},{"$f":"IF(Data!$W149<MIN(Panely!$A$9:$A$28),VLOOKUP(Data!$W149,tabulka_kce_def,28,FALSE),1)","v":1},{"$f":"IF(Data!$W149<MIN(Panely!$A$9:$A$28),VLOOKUP(Data!$W149,tabulka_kce_def,23,FALSE),VLOOKUP(Data!$W149,tabulka_panely_def,24,FALSE))","v":0},null,0,null,0,0,{"$error":"#N/A"},0,{"$f":"IF(AND(W149>MAX(Konstrukce!A:A),ISNUMBER(W149)),1,0)","v":0}]
[null,"=",{"$f":"IF(Data!$B150<MIN(Panely!$A$9:$A$28),VLOOKUP(Data!$B150,tabulka_kce_def,4,FALSE),VLOOKUP(Data!$B150,tabulka_panely_def,4,FALSE))","v":0},{"$f":"IF(Data!$B150<MIN(Panely!$A$9:$A$28),VLOOKUP(Data!$B150,tabulka_kce_def,23,FALSE),VLOOKUP(Data!$B150,tabulka_panely_def,24,FALSE))","v":0},{"$f":"IF(Data!$B150<MIN(Panely!$A$9:$A$28),VLOOKUP(Data!$B150,tabulka_kce_def,21,FALSE),VLOOKUP(Data!$B150,tabulka_panely_def,22,FALSE))","v":0},{"$f":"IF(Data!$B150<MIN(Panely!$A$9:$A$28),VLOOKUP(Data!$B150,tabulka_kce_def,26,FALSE),VLOOKUP(Data!$B150,tabulka_panely_def,31,FALSE))","v":{"$error":"#DIV/0!"}},{"$f":"IF(Data!$B150<MIN(Panely!$A$9:$A$28),VLOOKUP(Data!$B150,tabulka_kce_def,27,FALSE),VLOOKUP(Data!$B150,tabulka_panely_def,32,FALSE))","v":{"$error":"#DIV/0!"}},{"$f":"IF(VLOOKUP(Data!$B150,tabulka_kce_def,3,FALSE)=\"\",Konstrukce!$G$1,IF(VLOOKUP(Data!$B150,tabulka_kce_def,3,FALSE)=\"z\",Konstrukce!$G$2,VLOOKUP(Data!$B150,tabulka_kce_def,3,FALSE)))","v":{"$error":"#N/A"}},{"$f":"IF(Data!$B150<MIN(Panely!$A$9:$A$28),0,VLOOKUP(Data!$B150,tabulka_panely_def,25,FALSE))","v":0},{"$f":"IF(Data!$B150<MIN(Panely!$A$9:$A$28),VLOOKUP(Data!$B150,tabulka_kce_def,24,FALSE),VLOOKUP(Data!$B150,tabulka_panely_def,33,FALSE))","v":{"$error":"#N/A"}},{"$f":"Konstrukce!$D$1","v":18.770175404064034},{"$f":"Konstrukce!$D$2","v":19.934229593106764},{"$f":"Konstrukce!$G$1","v":-12},{"$f":"IF(Data!$B150<MIN(Panely!$A$9:$A$28),VLOOKUP(Data!$B150,tabulka_kce_def,59,FALSE),VLOOKUP(Data!$B150,tabulka_panely_def,63,FALSE))","v":""},{"$f":"IF(Data!$B150<MIN(Panely!$A$9:$A$28),VLOOKUP(Data!$B150,tabulka_kce_def,60,FALSE),VLOOKUP(Data!$B150,tabulka_panely_def,64,FALSE))","v":""},{"$f":"IF(Data!$B150<MIN(Panely!$A$9:$A$28),VLOOKUP(Data!$B150,tabulka_kce_def,61,FALSE),VLOOKUP(Data!$B150,tabulka_panely_def,65,FALSE))","v":""},{"$f":"IF(Data!$B150<MIN(Panely!$A$9:$A$28),VLOOKUP(Data!$B150,tabulka_kce_def,25,FALSE),0)","v":0},0,null,null,null,null,"=",{"$f":"IF(Data!$W150<MIN(Panely!$A$9:$A$28),VLOOKUP(Data!$W150,tabulka_kce_def,62,FALSE),VLOOKUP(Data!$W150,tabulka_panely_def,65,FALSE))","v":""},{"$f":"IF(Data!$W150<MIN(Panely!$A$9:$A$28),VLOOKUP(Data!$W150,tabulka_kce_def,Y$1-20,FALSE),VLOOKUP(Data!$W150,tabulka_panely_def,Y$1-18,FALSE))","v":0},{"$f":"IF(Data!$W150<MIN(Panely!$A$9:$A$28),VLOOKUP(Data!$W150,tabulka_kce_def,Z$1-20,FALSE),VLOOKUP(Data!$W150,tabulka_panely_def,Z$1-18,FALSE))","v":0},{"$f":"IF(Data!$W150<MIN(Panely!$A$9:$A$28),VLOOKUP(Data!$W150,tabulka_kce_def,AA$1-20,FALSE),VLOOKUP(Data!$W150,tabulka_panely_def,AA$1-18,FALSE))","v":0},{"$f":"IF(Data!$W150<MIN(Panely!$A$9:$A$28),VLOOKUP(Data!$W150,tabulka_kce_def,AB$1-20,FALSE),VLOOKUP(Data!$W150,tabulka_panely_def,AB$1-18,FALSE))","v":0},{"$f":"IF(Data!$W150<MIN(Panely!$A$9:$A$28),VLOOKUP(Data!$W150,tabulka_kce_def,AC$1-20,FALSE),VLOOKUP(Data!$W150,tabulka_panely_def,AC$1-18,FALSE))","v":0},{"$f":"IF(Data!$W150<MIN(Panely!$A$9:$A$28),VLOOKUP(Data!$W150,tabulka_kce_def,AD$1-20,FALSE),VLOOKUP(Data!$W150,tabulka_panely_def,AD$1-18,FALSE))","v":0},{"$f":"IF(Data!$W150<MIN(Panely!$A$9:$A$28),VLOOKUP(Data!$W150,tabulka_kce_def,AE$1-20,FALSE),VLOOKUP(Data!$W150,tabulka_panely_def,AE$1-18,FALSE))","v":0},{"$f":"IF(Data!$W150<MIN(Panely!$A$9:$A$28),VLOOKUP(Data!$W150,tabulka_kce_def,AF$1-20,FALSE),VLOOKUP(Data!$W150,tabulka_panely_def,AF$1-18,FALSE))","v":0},{"$f":"IF(Data!$W150<MIN(Panely!$A$9:$A$28),VLOOKUP(Data!$W150,tabulka_kce_def,AG$1-20,FALSE),VLOOKUP(Data!$W150,tabulka_panely_def,AG$1-18,FALSE))","v":0},{"$f":"IF(Data!$W150<MIN(Panely!$A$9:$A$28),VLOOKUP(Data!$W150,tabulka_kce_def,AH$1-20,FALSE),VLOOKUP(Data!$W150,tabulka_panely_def,AH$1-18,FALSE))","v":0},{"$f":"IF(Data!$W150<MIN(Panely!$A$9:$A$28),VLOOKUP(Data!$W150,tabulka_kce_def,AI$1-20,FALSE),VLOOKUP(Data!$W150,tabulka_panely_def,AI$1-18,FALSE))","v":0},{"$f":"IF(Data!$W150<MIN(Panely!$A$9:$A$28),VLOOKUP(Data!$W150,tabulka_kce_def,AJ$1-20,FALSE),VLOOKUP(Data!$W150,tabulka_panely_def,AJ$1-18,FALSE))","v":0},{"$f":"IF(Data!$W150<MIN(Panely!$A$9:$A$28),VLOOKUP(Data!$W150,tabulka_kce_def,AK$1-20,FALSE),VLOOKUP(Data!$W150,tabulka_panely_def,AK$1-18,FALSE))","v":0},{"$f":"IF(Data!$W150<MIN(Panely!$A$9:$A$28),VLOOKUP(Data!$W150,tabulka_kce_def,AL$1-20,FALSE),VLOOKUP(Data!$W150,tabulka_panely_def,AL$1-18,FALSE))","v":0},{"$f":"IF(Data!$W150<MIN(Panely!$A$9:$A$28),VLOOKUP(Data!$W150,tabulka_kce_def,AM$1-20,FALSE),VLOOKUP(Data!$W150,tabulka_panely_def,AM$1-18,FALSE))","v":0},150,{"$f":"IF(Data!$W150<MIN(Panely!$A$9:$A$28),VLOOKUP(Data!$W150,tabulka_kce_def,63,FALSE),0)","v":0},{"$f":"IF(Data!$W150<MIN(Panely!$A$9:$A$28),VLOOKUP(Data!$W150,tabulka_kce_def,28,FALSE),1)","v":1},{"$f":"IF(Data!$W150<MIN(Panely!$A$9:$A$28),VLOOKUP(Data!$W150,tabulka_kce_def,23,FALSE),VLOOKUP(Data!$W150,tabulka_panely_def,24,FALSE))","v":0},null,0,null,0,0,{"$error":"#N/A"},0,{"$f":"IF(AND(W150>MAX(Konstrukce!A:A),ISNUMBER(W150)),1,0)","v":0}]
[null,"=",{"$f":"IF(Data!$B151<MIN(Panely!$A$9:$A$28),VLOOKUP(Data!$B151,tabulka_kce_def,4,FALSE),VLOOKUP(Data!$B151,tabulka_panely_def,4,FALSE))","v":0},{"$f":"IF(Data!$B151<MIN(Panely!$A$9:$A$28),VLOOKUP(Data!$B151,tabulka_kce_def,23,FALSE),VLOOKUP(Data!$B151,tabulka_panely_def,24,FALSE))","v":0},{"$f":"IF(Data!$B151<MIN(Panely!$A$9:$A$28),VLOOKUP(Data!$B151,tabulka_kce_def,21,FALSE),VLOOKUP(Data!$B151,tabulka_panely_def,22,FALSE))","v":0},{"$f":"IF(Data!$B151<MIN(Panely!$A$9:$A$28),VLOOKUP(Data!$B151,tabulka_kce_def,26,FALSE),VLOOKUP(Data!$B151,tabulka_panely_def,31,FALSE))","v":{"$error":"#DIV/0!"}},{"$f":"IF(Data!$B151<MIN(Panely!$A$9:$A$28),VLOOKUP(Data!$B151,tabulka_kce_def,27,FALSE),VLOOKUP(Data!$B151,tabulka_panely_def,32,FALSE))","v":{"$error":"#DIV/0!"}},{"$f":"IF(VLOOKUP(Data!$B151,tabulka_kce_def,3,FALSE)=\"\",Konstrukce!$G$1,IF(VLOOKUP(Data!$B151,tabulka_kce_def,3,FALSE)=\"z\",Konstrukce!$G$2,VLOOKUP(Data!$B151,tabulka_kce_def,3,FALSE)))","v":{"$error":"#N/A"}},{"$f":"IF(Data!$B151<MIN(Panely!$A$9:$A$28),0,VLOOKUP(Data!$B151,tabulka_panely_def,25,FALSE))","v":0},{"$f":"IF(Data!$B151<MIN(Panely!$A$9:$A$28),VLOOKUP(Data!$B151,tabulka_kce_def,24,FALSE),VLOOKUP(Data!$B151,tabulka_panely_def,33,FALSE))","v":{"$error":"#N/A"}},{"$f":"Konstrukce!$D$1","v":18.770175404064034},{"$f":"Konstrukce!$D$2","v":19.934229593106764},{"$f":"Konstrukce!$G$1","v":-12},{"$f":"IF(Data!$B151<MIN(Panely!$A$9:$A$28),VLOOKUP(Data!$B151,tabulka_kce_def,59,FALSE),VLOOKUP(Data!$B151,tabulka_panely_def,63,FALSE))","v":""},{"$f":"IF(Data!$B151<MIN(Panely!$A$9:$A$28),VLOOKUP(Data!$B151,tabulka_kce_def,60,FALSE),VLOOKUP(Data!$B151,tabulka_panely_def,64,FALSE))","v":""},{"$f":"IF(Data!$B151<MIN(Panely!$A$9:$A$28),VLOOKUP(Data!$B151,tabulka_kce_def,61,FALSE),VLOOKUP(Data!$B151,tabulka_panely_def,65,FALSE))","v":""},{"$f":"IF(Data!$B151<MIN(Panely!$A$9:$A$28),VLOOKUP(Data!$B151,tabulka_kce_def,25,FALSE),0)","v":0},0,null,null,null,null,"=",{"$f":"IF(Data!$W151<MIN(Panely!$A$9:$A$28),VLOOKUP(Data!$W151,tabulka_kce_def,62,FALSE),VLOOKUP(Data!$W151,tabulka_panely_def,65,FALSE))","v":""},{"$f":"IF(Data!$W151<MIN(Panely!$A$9:$A$28),VLOOKUP(Data!$W151,tabulka_kce_def,Y$1-20,FALSE),VLOOKUP(Data!$W151,tabulka_panely_def,Y$1-18,FALSE))","v":0},{"$f":"IF(Data!$W151<MIN(Panely!$A$9:$A$28),VLOOKUP(Data!$W151,tabulka_kce_def,Z$1-20,FALSE),VLOOKUP(Data!$W151,tabulka_panely_def,Z$1-18,FALSE))","v":0},{"$f":"IF(Data!$W151<MIN(Panely!$A$9:$A$28),VLOOKUP(Data!$W151,tabulka_kce_def,AA$1-20,FALSE),VLOOKUP(Data!$W151,tabulka_panely_def,AA$1-18,FALSE))","v":0},{"$f":"IF(Data!$W151<MIN(Panely!$A$9:$A$28),VLOOKUP(Data!$W151,tabulka_kce_def,AB$1-20,FALSE),VLOOKUP(Data!$W151,tabulka_panely_def,AB$1-18,FALSE))","v":0},{"$f":"IF(Data!$W151<MIN(Panely!$A$9:$A$28),VLOOKUP(Data!$W151,tabulka_kce_def,AC$1-20,FALSE),VLOOKUP(Data!$W151,tabulka_panely_def,AC$1-18,FALSE))","v":0},{"$f":"IF(Data!$W151<MIN(Panely!$A$9:$A$28),VLOOKUP(Data!$W151,tabulka_kce_def,AD$1-20,FALSE),VLOOKUP(Data!$W151,tabulka_panely_def,AD$1-18,FALSE))","v":0},{"$f":"IF(Data!$W151<MIN(Panely!$A$9:$A$28),VLOOKUP(Data!$W151,tabulka_kce_def,AE$1-20,FALSE),VLOOKUP(Data!$W151,tabulka_panely_def,AE$1-18,FALSE))","v":0},{"$f":"IF(Data!$W151<MIN(Panely!$A$9:$A$28),VLOOKUP(Data!$W151,tabulka_kce_def,AF$1-20,FALSE),VLOOKUP(Data!$W151,tabulka_panely_def,AF$1-18,FALSE))","v":0},{"$f":"IF(Data!$W151<MIN(Panely!$A$9:$A$28),VLOOKUP(Data!$W151,tabulka_kce_def,AG$1-20,FALSE),VLOOKUP(Data!$W151,tabulka_panely_def,AG$1-18,FALSE))","v":0},{"$f":"IF(Data!$W151<MIN(Panely!$A$9:$A$28),VLOOKUP(Data!$W151,tabulka_kce_def,AH$1-20,FALSE),VLOOKUP(Data!$W151,tabulka_panely_def,AH$1-18,FALSE))","v":0},{"$f":"IF(Data!$W151<MIN(Panely!$A$9:$A$28),VLOOKUP(Data!$W151,tabulka_kce_def,AI$1-20,FALSE),VLOOKUP(Data!$W151,tabulka_panely_def,AI$1-18,FALSE))","v":0},{"$f":"IF(Data!$W151<MIN(Panely!$A$9:$A$28),VLOOKUP(Data!$W151,tabulka_kce_def,AJ$1-20,FALSE),VLOOKUP(Data!$W151,tabulka_panely_def,AJ$1-18,FALSE))","v":0},{"$f":"IF(Data!$W151<MIN(Panely!$A$9:$A$28),VLOOKUP(Data!$W151,tabulka_kce_def,AK$1-20,FALSE),VLOOKUP(Data!$W151,tabulka_panely_def,AK$1-18,FALSE))","v":0},{"$f":"IF(Data!$W151<MIN(Panely!$A$9:$A$28),VLOOKUP(Data!$W151,tabulka_kce_def,AL$1-20,FALSE),VLOOKUP(Data!$W151,tabulka_panely_def,AL$1-18,FALSE))","v":0},{"$f":"IF(Data!$W151<MIN(Panely!$A$9:$A$28),VLOOKUP(Data!$W151,tabulka_kce_def,AM$1-20,FALSE),VLOOKUP(Data!$W151,tabulka_panely_def,AM$1-18,FALSE))","v":0},151,{"$f":"IF(Data!$W151<MIN(Panely!$A$9:$A$28),VLOOKUP(Data!$W151,tabulka_kce_def,63,FALSE),0)","v":0},{"$f":"IF(Data!$W151<MIN(Panely!$A$9:$A$28),VLOOKUP(Data!$W151,tabulka_kce_def,28,FALSE),1)","v":1},{"$f":"IF(Data!$W151<MIN(Panely!$A$9:$A$28),VLOOKUP(Data!$W151,tabulka_kce_def,23,FALSE),VLOOKUP(Data!$W151,tabulka_panely_def,24,FALSE))","v":0},null,0,null,0,0,{"$error":"#N/A"},0,{"$f":"IF(AND(W151>MAX(Konstrukce!A:A),ISNUMBER(W151)),1,0)","v":0}]
[null,"=",{"$f":"IF(Data!$B152<MIN(Panely!$A$9:$A$28),VLOOKUP(Data!$B152,tabulka_kce_def,4,FALSE),VLOOKUP(Data!$B152,tabulka_panely_def,4,FALSE))","v":0},{"$f":"IF(Data!$B152<MIN(Panely!$A$9:$A$28),VLOOKUP(Data!$B152,tabulka_kce_def,23,FALSE),VLOOKUP(Data!$B152,tabulka_panely_def,24,FALSE))","v":0},{"$f":"IF(Data!$B152<MIN(Panely!$A$9:$A$28),VLOOKUP(Data!$B152,tabulka_kce_def,21,FALSE),VLOOKUP(Data!$B152,tabulka_panely_def,22,FALSE))","v":0},{"$f":"IF(Data!$B152<MIN(Panely!$A$9:$A$28),VLOOKUP(Data!$B152,tabulka_kce_def,26,FALSE),VLOOKUP(Data!$B152,tabulka_panely_def,31,FALSE))","v":{"$error":"#DIV/0!"}},{"$f":"IF(Data!$B152<MIN(Panely!$A$9:$A$28),VLOOKUP(Data!$B152,tabulka_kce_def,27,FALSE),VLOOKUP(Data!$B152,tabulka_panely_def,32,FALSE))","v":{"$error":"#DIV/0!"}},{"$f":"IF(VLOOKUP(Data!$B152,tabulka_kce_def,3,FALSE)=\"\",Konstrukce!$G$1,IF(VLOOKUP(Data!$B152,tabulka_kce_def,3,FALSE)=\"z\",Konstrukce!$G$2,VLOOKUP(Data!$B152,tabulka_kce_def,3,FALSE)))","v":{"$error":"#N/A"}},{"$f":"IF(Data!$B152<MIN(Panely!$A$9:$A$28),0,VLOOKUP(Data!$B152,tabulka_panely_def,25,FALSE))","v":0},{"$f":"IF(Data!$B152<MIN(Panely!$A$9:$A$28),VLOOKUP(Data!$B152,tabulka_kce_def,24,FALSE),VLOOKUP(Data!$B152,tabulka_panely_def,33,FALSE))","v":{"$error":"#N/A"}},{"$f":"Konstrukce!$D$1","v":18.770175404064034},{"$f":"Konstrukce!$D$2","v":19.934229593106764},{"$f":"Konstrukce!$G$1","v":-12},{"$f":"IF(Data!$B152<MIN(Panely!$A$9:$A$28),VLOOKUP(Data!$B152,tabulka_kce_def,59,FALSE),VLOOKUP(Data!$B152,tabulka_panely_def,63,FALSE))","v":""},{"$f":"IF(Data!$B152<MIN(Panely!$A$9:$A$28),VLOOKUP(Data!$B152,tabulka_kce_def,60,FALSE),VLOOKUP(Data!$B152,tabulka_panely_def,64,FALSE))","v":""},{"$f":"IF(Data!$B152<MIN(Panely!$A$9:$A$28),VLOOKUP(Data!$B152,tabulka_kce_def,61,FALSE),VLOOKUP(Data!$B152,tabulka_panely_def,65,FALSE))","v":""},{"$f":"IF(Data!$B152<MIN(Panely!$A$9:$A$28),VLOOKUP(Data!$B152,tabulka_kce_def,25,FALSE),0)","v":0},0,null,null,null,null,"=",{"$f":"IF(Data!$W152<MIN(Panely!$A$9:$A$28),VLOOKUP(Data!$W152,tabulka_kce_def,62,FALSE),VLOOKUP(Data!$W152,tabulka_panely_def,65,FALSE))","v":""},{"$f":"IF(Data!$W152<MIN(Panely!$A$9:$A$28),VLOOKUP(Data!$W152,tabulka_kce_def,Y$1-20,FALSE),VLOOKUP(Data!$W152,tabulka_panely_def,Y$1-18,FALSE))","v":0},{"$f":"IF(Data!$W152<MIN(Panely!$A$9:$A$28),VLOOKUP(Data!$W152,tabulka_kce_def,Z$1-20,FALSE),VLOOKUP(Data!$W152,tabulka_panely_def,Z$1-18,FALSE))","v":0},{"$f":"IF(Data!$W152<MIN(Panely!$A$9:$A$28),VLOOKUP(Data!$W152,tabulka_kce_def,AA$1-20,FALSE),VLOOKUP(Data!$W152,tabulka_panely_def,AA$1-18,FALSE))","v":0},{"$f":"IF(Data!$W152<MIN(Panely!$A$9:$A$28),VLOOKUP(Data!$W152,tabulka_kce_def,AB$1-20,FALSE),VLOOKUP(Data!$W152,tabulka_panely_def,AB$1-18,FALSE))","v":0},{"$f":"IF(Data!$W152<MIN(Panely!$A$9:$A$28),VLOOKUP(Data!$W152,tabulka_kce_def,AC$1-20,FALSE),VLOOKUP(Data!$W152,tabulka_panely_def,AC$1-18,FALSE))","v":0},{"$f":"IF(Data!$W152<MIN(Panely!$A$9:$A$28),VLOOKUP(Data!$W152,tabulka_kce_def,AD$1-20,FALSE),VLOOKUP(Data!$W152,tabulka_panely_def,AD$1-18,FALSE))","v":0},{"$f":"IF(Data!$W152<MIN(Panely!$A$9:$A$28),VLOOKUP(Data!$W152,tabulka_kce_def,AE$1-20,FALSE),VLOOKUP(Data!$W152,tabulka_panely_def,AE$1-18,FALSE))","v":0},{"$f":"IF(Data!$W152<MIN(Panely!$A$9:$A$28),VLOOKUP(Data!$W152,tabulka_kce_def,AF$1-20,FALSE),VLOOKUP(Data!$W152,tabulka_panely_def,AF$1-18,FALSE))","v":0},{"$f":"IF(Data!$W152<MIN(Panely!$A$9:$A$28),VLOOKUP(Data!$W152,tabulka_kce_def,AG$1-20,FALSE),VLOOKUP(Data!$W152,tabulka_panely_def,AG$1-18,FALSE))","v":0},{"$f":"IF(Data!$W152<MIN(Panely!$A$9:$A$28),VLOOKUP(Data!$W152,tabulka_kce_def,AH$1-20,FALSE),VLOOKUP(Data!$W152,tabulka_panely_def,AH$1-18,FALSE))","v":0},{"$f":"IF(Data!$W152<MIN(Panely!$A$9:$A$28),VLOOKUP(Data!$W152,tabulka_kce_def,AI$1-20,FALSE),VLOOKUP(Data!$W152,tabulka_panely_def,AI$1-18,FALSE))","v":0},{"$f":"IF(Data!$W152<MIN(Panely!$A$9:$A$28),VLOOKUP(Data!$W152,tabulka_kce_def,AJ$1-20,FALSE),VLOOKUP(Data!$W152,tabulka_panely_def,AJ$1-18,FALSE))","v":0},{"$f":"IF(Data!$W152<MIN(Panely!$A$9:$A$28),VLOOKUP(Data!$W152,tabulka_kce_def,AK$1-20,FALSE),VLOOKUP(Data!$W152,tabulka_panely_def,AK$1-18,FALSE))","v":0},{"$f":"IF(Data!$W152<MIN(Panely!$A$9:$A$28),VLOOKUP(Data!$W152,tabulka_kce_def,AL$1-20,FALSE),VLOOKUP(Data!$W152,tabulka_panely_def,AL$1-18,FALSE))","v":0},{"$f":"IF(Data!$W152<MIN(Panely!$A$9:$A$28),VLOOKUP(Data!$W152,tabulka_kce_def,AM$1-20,FALSE),VLOOKUP(Data!$W152,tabulka_panely_def,AM$1-18,FALSE))","v":0},152,{"$f":"IF(Data!$W152<MIN(Panely!$A$9:$A$28),VLOOKUP(Data!$W152,tabulka_kce_def,63,FALSE),0)","v":0},{"$f":"IF(Data!$W152<MIN(Panely!$A$9:$A$28),VLOOKUP(Data!$W152,tabulka_kce_def,28,FALSE),1)","v":1},{"$f":"IF(Data!$W152<MIN(Panely!$A$9:$A$28),VLOOKUP(Data!$W152,tabulka_kce_def,23,FALSE),VLOOKUP(Data!$W152,tabulka_panely_def,24,FALSE))","v":0},null,0,null,0,0,{"$error":"#N/A"},0,{"$f":"IF(AND(W152>MAX(Konstrukce!A:A),ISNUMBER(W152)),1,0)","v":0}]
[null,"=",{"$f":"IF(Data!$B153<MIN(Panely!$A$9:$A$28),VLOOKUP(Data!$B153,tabulka_kce_def,4,FALSE),VLOOKUP(Data!$B153,tabulka_panely_def,4,FALSE))","v":0},{"$f":"IF(Data!$B153<MIN(Panely!$A$9:$A$28),VLOOKUP(Data!$B153,tabulka_kce_def,23,FALSE),VLOOKUP(Data!$B153,tabulka_panely_def,24,FALSE))","v":0},{"$f":"IF(Data!$B153<MIN(Panely!$A$9:$A$28),VLOOKUP(Data!$B153,tabulka_kce_def,21,FALSE),VLOOKUP(Data!$B153,tabulka_panely_def,22,FALSE))","v":0},{"$f":"IF(Data!$B153<MIN(Panely!$A$9:$A$28),VLOOKUP(Data!$B153,tabulka_kce_def,26,FALSE),VLOOKUP(Data!$B153,tabulka_panely_def,31,FALSE))","v":{"$error":"#DIV/0!"}},{"$f":"IF(Data!$B153<MIN(Panely!$A$9:$A$28),VLOOKUP(Data!$B153,tabulka_kce_def,27,FALSE),VLOOKUP(Data!$B153,tabulka_panely_def,32,FALSE))","v":{"$error":"#DIV/0!"}},{"$f":"IF(VLOOKUP(Data!$B153,tabulka_kce_def,3,FALSE)=\"\",Konstrukce!$G$1,IF(VLOOKUP(Data!$B153,tabulka_kce_def,3,FALSE)=\"z\",Konstrukce!$G$2,VLOOKUP(Data!$B153,tabulka_kce_def,3,FALSE)))","v":{"$error":"#N/A"}},{"$f":"IF(Data!$B153<MIN(Panely!$A$9:$A$28),0,VLOOKUP(Data!$B153,tabulka_panely_def,25,FALSE))","v":0},{"$f":"IF(Data!$B153<MIN(Panely!$A$9:$A$28),VLOOKUP(Data!$B153,tabulka_kce_def,24,FALSE),VLOOKUP(Data!$B153,tabulka_panely_def,33,FALSE))","v":{"$error":"#N/A"}},{"$f":"Konstrukce!$D$1","v":18.770175404064034},{"$f":"Konstrukce!$D$2","v":19.934229593106764},{"$f":"Konstrukce!$G$1","v":-12},{"$f":"IF(Data!$B153<MIN(Panely!$A$9:$A$28),VLOOKUP(Data!$B153,tabulka_kce_def,59,FALSE),VLOOKUP(Data!$B153,tabulka_panely_def,63,FALSE))","v":""},{"$f":"IF(Data!$B153<MIN(Panely!$A$9:$A$28),VLOOKUP(Data!$B153,tabulka_kce_def,60,FALSE),VLOOKUP(Data!$B153,tabulka_panely_def,64,FALSE))","v":""},{"$f":"IF(Data!$B153<MIN(Panely!$A$9:$A$28),VLOOKUP(Data!$B153,tabulka_kce_def,61,FALSE),VLOOKUP(Data!$B153,tabulka_panely_def,65,FALSE))","v":""},{"$f":"IF(Data!$B153<MIN(Panely!$A$9:$A$28),VLOOKUP(Data!$B153,tabulka_kce_def,25,FALSE),0)","v":0},0,null,null,null,null,"=",{"$f":"IF(Data!$W153<MIN(Panely!$A$9:$A$28),VLOOKUP(Data!$W153,tabulka_kce_def,62,FALSE),VLOOKUP(Data!$W153,tabulka_panely_def,65,FALSE))","v":""},{"$f":"IF(Data!$W153<MIN(Panely!$A$9:$A$28),VLOOKUP(Data!$W153,tabulka_kce_def,Y$1-20,FALSE),VLOOKUP(Data!$W153,tabulka_panely_def,Y$1-18,FALSE))","v":0},{"$f":"IF(Data!$W153<MIN(Panely!$A$9:$A$28),VLOOKUP(Data!$W153,tabulka_kce_def,Z$1-20,FALSE),VLOOKUP(Data!$W153,tabulka_panely_def,Z$1-18,FALSE))","v":0},{"$f":"IF(Data!$W153<MIN(Panely!$A$9:$A$28),VLOOKUP(Data!$W153,tabulka_kce_def,AA$1-20,FALSE),VLOOKUP(Data!$W153,tabulka_panely_def,AA$1-18,FALSE))","v":0},{"$f":"IF(Data!$W153<MIN(Panely!$A$9:$A$28),VLOOKUP(Data!$W153,tabulka_kce_def,AB$1-20,FALSE),VLOOKUP(Data!$W153,tabulka_panely_def,AB$1-18,FALSE))","v":0},{"$f":"IF(Data!$W153<MIN(Panely!$A$9:$A$28),VLOOKUP(Data!$W153,tabulka_kce_def,AC$1-20,FALSE),VLOOKUP(Data!$W153,tabulka_panely_def,AC$1-18,FALSE))","v":0},{"$f":"IF(Data!$W153<MIN(Panely!$A$9:$A$28),VLOOKUP(Data!$W153,tabulka_kce_def,AD$1-20,FALSE),VLOOKUP(Data!$W153,tabulka_panely_def,AD$1-18,FALSE))","v":0},{"$f":"IF(Data!$W153<MIN(Panely!$A$9:$A$28),VLOOKUP(Data!$W153,tabulka_kce_def,AE$1-20,FALSE),VLOOKUP(Data!$W153,tabulka_panely_def,AE$1-18,FALSE))","v":0},{"$f":"IF(Data!$W153<MIN(Panely!$A$9:$A$28),VLOOKUP(Data!$W153,tabulka_kce_def,AF$1-20,FALSE),VLOOKUP(Data!$W153,tabulka_panely_def,AF$1-18,FALSE))","v":0},{"$f":"IF(Data!$W153<MIN(Panely!$A$9:$A$28),VLOOKUP(Data!$W153,tabulka_kce_def,AG$1-20,FALSE),VLOOKUP(Data!$W153,tabulka_panely_def,AG$1-18,FALSE))","v":0},{"$f":"IF(Data!$W153<MIN(Panely!$A$9:$A$28),VLOOKUP(Data!$W153,tabulka_kce_def,AH$1-20,FALSE),VLOOKUP(Data!$W153,tabulka_panely_def,AH$1-18,FALSE))","v":0},{"$f":"IF(Data!$W153<MIN(Panely!$A$9:$A$28),VLOOKUP(Data!$W153,tabulka_kce_def,AI$1-20,FALSE),VLOOKUP(Data!$W153,tabulka_panely_def,AI$1-18,FALSE))","v":0},{"$f":"IF(Data!$W153<MIN(Panely!$A$9:$A$28),VLOOKUP(Data!$W153,tabulka_kce_def,AJ$1-20,FALSE),VLOOKUP(Data!$W153,tabulka_panely_def,AJ$1-18,FALSE))","v":0},{"$f":"IF(Data!$W153<MIN(Panely!$A$9:$A$28),VLOOKUP(Data!$W153,tabulka_kce_def,AK$1-20,FALSE),VLOOKUP(Data!$W153,tabulka_panely_def,AK$1-18,FALSE))","v":0},{"$f":"IF(Data!$W153<MIN(Panely!$A$9:$A$28),VLOOKUP(Data!$W153,tabulka_kce_def,AL$1-20,FALSE),VLOOKUP(Data!$W153,tabulka_panely_def,AL$1-18,FALSE))","v":0},{"$f":"IF(Data!$W153<MIN(Panely!$A$9:$A$28),VLOOKUP(Data!$W153,tabulka_kce_def,AM$1-20,FALSE),VLOOKUP(Data!$W153,tabulka_panely_def,AM$1-18,FALSE))","v":0},153,{"$f":"IF(Data!$W153<MIN(Panely!$A$9:$A$28),VLOOKUP(Data!$W153,tabulka_kce_def,63,FALSE),0)","v":0},{"$f":"IF(Data!$W153<MIN(Panely!$A$9:$A$28),VLOOKUP(Data!$W153,tabulka_kce_def,28,FALSE),1)","v":1},{"$f":"IF(Data!$W153<MIN(Panely!$A$9:$A$28),VLOOKUP(Data!$W153,tabulka_kce_def,23,FALSE),VLOOKUP(Data!$W153,tabulka_panely_def,24,FALSE))","v":0},null,0,null,0,0,{"$error":"#N/A"},0,{"$f":"IF(AND(W153>MAX(Konstrukce!A:A),ISNUMBER(W153)),1,0)","v":0}]
[null,"=",{"$f":"IF(Data!$B154<MIN(Panely!$A$9:$A$28),VLOOKUP(Data!$B154,tabulka_kce_def,4,FALSE),VLOOKUP(Data!$B154,tabulka_panely_def,4,FALSE))","v":0},{"$f":"IF(Data!$B154<MIN(Panely!$A$9:$A$28),VLOOKUP(Data!$B154,tabulka_kce_def,23,FALSE),VLOOKUP(Data!$B154,tabulka_panely_def,24,FALSE))","v":0},{"$f":"IF(Data!$B154<MIN(Panely!$A$9:$A$28),VLOOKUP(Data!$B154,tabulka_kce_def,21,FALSE),VLOOKUP(Data!$B154,tabulka_panely_def,22,FALSE))","v":0},{"$f":"IF(Data!$B154<MIN(Panely!$A$9:$A$28),VLOOKUP(Data!$B154,tabulka_kce_def,26,FALSE),VLOOKUP(Data!$B154,tabulka_panely_def,31,FALSE))","v":{"$error":"#DIV/0!"}},{"$f":"IF(Data!$B154<MIN(Panely!$A$9:$A$28),VLOOKUP(Data!$B154,tabulka_kce_def,27,FALSE),VLOOKUP(Data!$B154,tabulka_panely_def,32,FALSE))","v":{"$error":"#DIV/0!"}},{"$f":"IF(VLOOKUP(Data!$B154,tabulka_kce_def,3,FALSE)=\"\",Konstrukce!$G$1,IF(VLOOKUP(Data!$B154,tabulka_kce_def,3,FALSE)=\"z\",Konstrukce!$G$2,VLOOKUP(Data!$B154,tabulka_kce_def,3,FALSE)))","v":{"$error":"#N/A"}},{"$f":"IF(Data!$B154<MIN(Panely!$A$9:$A$28),0,VLOOKUP(Data!$B154,tabulka_panely_def,25,FALSE))","v":0},{"$f":"IF(Data!$B154<MIN(Panely!$A$9:$A$28),VLOOKUP(Data!$B154,tabulka_kce_def,24,FALSE),VLOOKUP(Data!$B154,tabulka_panely_def,33,FALSE))","v":{"$error":"#N/A"}},{"$f":"Konstrukce!$D$1","v":18.770175404064034},{"$f":"Konstrukce!$D$2","v":19.934229593106764},{"$f":"Konstrukce!$G$1","v":-12},{"$f":"IF(Data!$B154<MIN(Panely!$A$9:$A$28),VLOOKUP(Data!$B154,tabulka_kce_def,59,FALSE),VLOOKUP(Data!$B154,tabulka_panely_def,63,FALSE))","v":""},{"$f":"IF(Data!$B154<MIN(Panely!$A$9:$A$28),VLOOKUP(Data!$B154,tabulka_kce_def,60,FALSE),VLOOKUP(Data!$B154,tabulka_panely_def,64,FALSE))","v":""},{"$f":"IF(Data!$B154<MIN(Panely!$A$9:$A$28),VLOOKUP(Data!$B154,tabulka_kce_def,61,FALSE),VLOOKUP(Data!$B154,tabulka_panely_def,65,FALSE))","v":""},{"$f":"IF(Data!$B154<MIN(Panely!$A$9:$A$28),VLOOKUP(Data!$B154,tabulka_kce_def,25,FALSE),0)","v":0},0,null,null,null,null,"=",{"$f":"IF(Data!$W154<MIN(Panely!$A$9:$A$28),VLOOKUP(Data!$W154,tabulka_kce_def,62,FALSE),VLOOKUP(Data!$W154,tabulka_panely_def,65,FALSE))","v":""},{"$f":"IF(Data!$W154<MIN(Panely!$A$9:$A$28),VLOOKUP(Data!$W154,tabulka_kce_def,Y$1-20,FALSE),VLOOKUP(Data!$W154,tabulka_panely_def,Y$1-18,FALSE))","v":0},{"$f":"IF(Data!$W154<MIN(Panely!$A$9:$A$28),VLOOKUP(Data!$W154,tabulka_kce_def,Z$1-20,FALSE),VLOOKUP(Data!$W154,tabulka_panely_def,Z$1-18,FALSE))","v":0},{"$f":"IF(Data!$W154<MIN(Panely!$A$9:$A$28),VLOOKUP(Data!$W154,tabulka_kce_def,AA$1-20,FALSE),VLOOKUP(Data!$W154,tabulka_panely_def,AA$1-18,FALSE))","v":0},{"$f":"IF(Data!$W154<MIN(Panely!$A$9:$A$28),VLOOKUP(Data!$W154,tabulka_kce_def,AB$1-20,FALSE),VLOOKUP(Data!$W154,tabulka_panely_def,AB$1-18,FALSE))","v":0},{"$f":"IF(Data!$W154<MIN(Panely!$A$9:$A$28),VLOOKUP(Data!$W154,tabulka_kce_def,AC$1-20,FALSE),VLOOKUP(Data!$W154,tabulka_panely_def,AC$1-18,FALSE))","v":0},{"$f":"IF(Data!$W154<MIN(Panely!$A$9:$A$28),VLOOKUP(Data!$W154,tabulka_kce_def,AD$1-20,FALSE),VLOOKUP(Data!$W154,tabulka_panely_def,AD$1-18,FALSE))","v":0},{"$f":"IF(Data!$W154<MIN(Panely!$A$9:$A$28),VLOOKUP(Data!$W154,tabulka_kce_def,AE$1-20,FALSE),VLOOKUP(Data!$W154,tabulka_panely_def,AE$1-18,FALSE))","v":0},{"$f":"IF(Data!$W154<MIN(Panely!$A$9:$A$28),VLOOKUP(Data!$W154,tabulka_kce_def,AF$1-20,FALSE),VLOOKUP(Data!$W154,tabulka_panely_def,AF$1-18,FALSE))","v":0},{"$f":"IF(Data!$W154<MIN(Panely!$A$9:$A$28),VLOOKUP(Data!$W154,tabulka_kce_def,AG$1-20,FALSE),VLOOKUP(Data!$W154,tabulka_panely_def,AG$1-18,FALSE))","v":0},{"$f":"IF(Data!$W154<MIN(Panely!$A$9:$A$28),VLOOKUP(Data!$W154,tabulka_kce_def,AH$1-20,FALSE),VLOOKUP(Data!$W154,tabulka_panely_def,AH$1-18,FALSE))","v":0},{"$f":"IF(Data!$W154<MIN(Panely!$A$9:$A$28),VLOOKUP(Data!$W154,tabulka_kce_def,AI$1-20,FALSE),VLOOKUP(Data!$W154,tabulka_panely_def,AI$1-18,FALSE))","v":0},{"$f":"IF(Data!$W154<MIN(Panely!$A$9:$A$28),VLOOKUP(Data!$W154,tabulka_kce_def,AJ$1-20,FALSE),VLOOKUP(Data!$W154,tabulka_panely_def,AJ$1-18,FALSE))","v":0},{"$f":"IF(Data!$W154<MIN(Panely!$A$9:$A$28),VLOOKUP(Data!$W154,tabulka_kce_def,AK$1-20,FALSE),VLOOKUP(Data!$W154,tabulka_panely_def,AK$1-18,FALSE))","v":0},{"$f":"IF(Data!$W154<MIN(Panely!$A$9:$A$28),VLOOKUP(Data!$W154,tabulka_kce_def,AL$1-20,FALSE),VLOOKUP(Data!$W154,tabulka_panely_def,AL$1-18,FALSE))","v":0},{"$f":"IF(Data!$W154<MIN(Panely!$A$9:$A$28),VLOOKUP(Data!$W154,tabulka_kce_def,AM$1-20,FALSE),VLOOKUP(Data!$W154,tabulka_panely_def,AM$1-18,FALSE))","v":0},154,{"$f":"IF(Data!$W154<MIN(Panely!$A$9:$A$28),VLOOKUP(Data!$W154,tabulka_kce_def,63,FALSE),0)","v":0},{"$f":"IF(Data!$W154<MIN(Panely!$A$9:$A$28),VLOOKUP(Data!$W154,tabulka_kce_def,28,FALSE),1)","v":1},{"$f":"IF(Data!$W154<MIN(Panely!$A$9:$A$28),VLOOKUP(Data!$W154,tabulka_kce_def,23,FALSE),VLOOKUP(Data!$W154,tabulka_panely_def,24,FALSE))","v":0},null,0,null,0,0,{"$error":"#N/A"},0,{"$f":"IF(AND(W154>MAX(Konstrukce!A:A),ISNUMBER(W154)),1,0)","v":0}]
[null,"=",{"$f":"IF(Data!$B155<MIN(Panely!$A$9:$A$28),VLOOKUP(Data!$B155,tabulka_kce_def,4,FALSE),VLOOKUP(Data!$B155,tabulka_panely_def,4,FALSE))","v":0},{"$f":"IF(Data!$B155<MIN(Panely!$A$9:$A$28),VLOOKUP(Data!$B155,tabulka_kce_def,23,FALSE),VLOOKUP(Data!$B155,tabulka_panely_def,24,FALSE))","v":0},{"$f":"IF(Data!$B155<MIN(Panely!$A$9:$A$28),VLOOKUP(Data!$B155,tabulka_kce_def,21,FALSE),VLOOKUP(Data!$B155,tabulka_panely_def,22,FALSE))","v":0},{"$f":"IF(Data!$B155<MIN(Panely!$A$9:$A$28),VLOOKUP(Data!$B155,tabulka_kce_def,26,FALSE),VLOOKUP(Data!$B155,tabulka_panely_def,31,FALSE))","v":{"$error":"#DIV/0!"}},{"$f":"IF(Data!$B155<MIN(Panely!$A$9:$A$28),VLOOKUP(Data!$B155,tabulka_kce_def,27,FALSE),VLOOKUP(Data!$B155,tabulka_panely_def,32,FALSE))","v":{"$error":"#DIV/0!"}},{"$f":"IF(VLOOKUP(Data!$B155,tabulka_kce_def,3,FALSE)=\"\",Konstrukce!$G$1,IF(VLOOKUP(Data!$B155,tabulka_kce_def,3,FALSE)=\"z\",Konstrukce!$G$2,VLOOKUP(Data!$B155,tabulka_kce_def,3,FALSE)))","v":{"$error":"#N/A"}},{"$f":"IF(Data!$B155<MIN(Panely!$A$9:$A$28),0,VLOOKUP(Data!$B155,tabulka_panely_def,25,FALSE))","v":0},{"$f":"IF(Data!$B155<MIN(Panely!$A$9:$A$28),VLOOKUP(Data!$B155,tabulka_kce_def,24,FALSE),VLOOKUP(Data!$B155,tabulka_panely_def,33,FALSE))","v":{"$error":"#N/A"}},{"$f":"Konstrukce!$D$1","v":18.770175404064034},{"$f":"Konstrukce!$D$2","v":19.934229593106764},{"$f":"Konstrukce!$G$1","v":-12},{"$f":"IF(Data!$B155<MIN(Panely!$A$9:$A$28),VLOOKUP(Data!$B155,tabulka_kce_def,59,FALSE),VLOOKUP(Data!$B155,tabulka_panely_def,63,FALSE))","v":""},{"$f":"IF(Data!$B155<MIN(Panely!$A$9:$A$28),VLOOKUP(Data!$B155,tabulka_kce_def,60,FALSE),VLOOKUP(Data!$B155,tabulka_panely_def,64,FALSE))","v":""},{"$f":"IF(Data!$B155<MIN(Panely!$A$9:$A$28),VLOOKUP(Data!$B155,tabulka_kce_def,61,FALSE),VLOOKUP(Data!$B155,tabulka_panely_def,65,FALSE))","v":""},{"$f":"IF(Data!$B155<MIN(Panely!$A$9:$A$28),VLOOKUP(Data!$B155,tabulka_kce_def,25,FALSE),0)","v":0},0,null,null,null,null,"=",{"$f":"IF(Data!$W155<MIN(Panely!$A$9:$A$28),VLOOKUP(Data!$W155,tabulka_kce_def,62,FALSE),VLOOKUP(Data!$W155,tabulka_panely_def,65,FALSE))","v":""},{"$f":"IF(Data!$W155<MIN(Panely!$A$9:$A$28),VLOOKUP(Data!$W155,tabulka_kce_def,Y$1-20,FALSE),VLOOKUP(Data!$W155,tabulka_panely_def,Y$1-18,FALSE))","v":0},{"$f":"IF(Data!$W155<MIN(Panely!$A$9:$A$28),VLOOKUP(Data!$W155,tabulka_kce_def,Z$1-20,FALSE),VLOOKUP(Data!$W155,tabulka_panely_def,Z$1-18,FALSE))","v":0},{"$f":"IF(Data!$W155<MIN(Panely!$A$9:$A$28),VLOOKUP(Data!$W155,tabulka_kce_def,AA$1-20,FALSE),VLOOKUP(Data!$W155,tabulka_panely_def,AA$1-18,FALSE))","v":0},{"$f":"IF(Data!$W155<MIN(Panely!$A$9:$A$28),VLOOKUP(Data!$W155,tabulka_kce_def,AB$1-20,FALSE),VLOOKUP(Data!$W155,tabulka_panely_def,AB$1-18,FALSE))","v":0},{"$f":"IF(Data!$W155<MIN(Panely!$A$9:$A$28),VLOOKUP(Data!$W155,tabulka_kce_def,AC$1-20,FALSE),VLOOKUP(Data!$W155,tabulka_panely_def,AC$1-18,FALSE))","v":0},{"$f":"IF(Data!$W155<MIN(Panely!$A$9:$A$28),VLOOKUP(Data!$W155,tabulka_kce_def,AD$1-20,FALSE),VLOOKUP(Data!$W155,tabulka_panely_def,AD$1-18,FALSE))","v":0},{"$f":"IF(Data!$W155<MIN(Panely!$A$9:$A$28),VLOOKUP(Data!$W155,tabulka_kce_def,AE$1-20,FALSE),VLOOKUP(Data!$W155,tabulka_panely_def,AE$1-18,FALSE))","v":0},{"$f":"IF(Data!$W155<MIN(Panely!$A$9:$A$28),VLOOKUP(Data!$W155,tabulka_kce_def,AF$1-20,FALSE),VLOOKUP(Data!$W155,tabulka_panely_def,AF$1-18,FALSE))","v":0},{"$f":"IF(Data!$W155<MIN(Panely!$A$9:$A$28),VLOOKUP(Data!$W155,tabulka_kce_def,AG$1-20,FALSE),VLOOKUP(Data!$W155,tabulka_panely_def,AG$1-18,FALSE))","v":0},{"$f":"IF(Data!$W155<MIN(Panely!$A$9:$A$28),VLOOKUP(Data!$W155,tabulka_kce_def,AH$1-20,FALSE),VLOOKUP(Data!$W155,tabulka_panely_def,AH$1-18,FALSE))","v":0},{"$f":"IF(Data!$W155<MIN(Panely!$A$9:$A$28),VLOOKUP(Data!$W155,tabulka_kce_def,AI$1-20,FALSE),VLOOKUP(Data!$W155,tabulka_panely_def,AI$1-18,FALSE))","v":0},{"$f":"IF(Data!$W155<MIN(Panely!$A$9:$A$28),VLOOKUP(Data!$W155,tabulka_kce_def,AJ$1-20,FALSE),VLOOKUP(Data!$W155,tabulka_panely_def,AJ$1-18,FALSE))","v":0},{"$f":"IF(Data!$W155<MIN(Panely!$A$9:$A$28),VLOOKUP(Data!$W155,tabulka_kce_def,AK$1-20,FALSE),VLOOKUP(Data!$W155,tabulka_panely_def,AK$1-18,FALSE))","v":0},{"$f":"IF(Data!$W155<MIN(Panely!$A$9:$A$28),VLOOKUP(Data!$W155,tabulka_kce_def,AL$1-20,FALSE),VLOOKUP(Data!$W155,tabulka_panely_def,AL$1-18,FALSE))","v":0},{"$f":"IF(Data!$W155<MIN(Panely!$A$9:$A$28),VLOOKUP(Data!$W155,tabulka_kce_def,AM$1-20,FALSE),VLOOKUP(Data!$W155,tabulka_panely_def,AM$1-18,FALSE))","v":0},155,{"$f":"IF(Data!$W155<MIN(Panely!$A$9:$A$28),VLOOKUP(Data!$W155,tabulka_kce_def,63,FALSE),0)","v":0},{"$f":"IF(Data!$W155<MIN(Panely!$A$9:$A$28),VLOOKUP(Data!$W155,tabulka_kce_def,28,FALSE),1)","v":1},{"$f":"IF(Data!$W155<MIN(Panely!$A$9:$A$28),VLOOKUP(Data!$W155,tabulka_kce_def,23,FALSE),VLOOKUP(Data!$W155,tabulka_panely_def,24,FALSE))","v":0},null,0,null,0,0,{"$error":"#N/A"},0,{"$f":"IF(AND(W155>MAX(Konstrukce!A:A),ISNUMBER(W155)),1,0)","v":0}]
[null,"=",{"$f":"IF(Data!$B156<MIN(Panely!$A$9:$A$28),VLOOKUP(Data!$B156,tabulka_kce_def,4,FALSE),VLOOKUP(Data!$B156,tabulka_panely_def,4,FALSE))","v":0},{"$f":"IF(Data!$B156<MIN(Panely!$A$9:$A$28),VLOOKUP(Data!$B156,tabulka_kce_def,23,FALSE),VLOOKUP(Data!$B156,tabulka_panely_def,24,FALSE))","v":0},{"$f":"IF(Data!$B156<MIN(Panely!$A$9:$A$28),VLOOKUP(Data!$B156,tabulka_kce_def,21,FALSE),VLOOKUP(Data!$B156,tabulka_panely_def,22,FALSE))","v":0},{"$f":"IF(Data!$B156<MIN(Panely!$A$9:$A$28),VLOOKUP(Data!$B156,tabulka_kce_def,26,FALSE),VLOOKUP(Data!$B156,tabulka_panely_def,31,FALSE))","v":{"$error":"#DIV/0!"}},{"$f":"IF(Data!$B156<MIN(Panely!$A$9:$A$28),VLOOKUP(Data!$B156,tabulka_kce_def,27,FALSE),VLOOKUP(Data!$B156,tabulka_panely_def,32,FALSE))","v":{"$error":"#DIV/0!"}},{"$f":"IF(VLOOKUP(Data!$B156,tabulka_kce_def,3,FALSE)=\"\",Konstrukce!$G$1,IF(VLOOKUP(Data!$B156,tabulka_kce_def,3,FALSE)=\"z\",Konstrukce!$G$2,VLOOKUP(Data!$B156,tabulka_kce_def,3,FALSE)))","v":{"$error":"#N/A"}},{"$f":"IF(Data!$B156<MIN(Panely!$A$9:$A$28),0,VLOOKUP(Data!$B156,tabulka_panely_def,25,FALSE))","v":0},{"$f":"IF(Data!$B156<MIN(Panely!$A$9:$A$28),VLOOKUP(Data!$B156,tabulka_kce_def,24,FALSE),VLOOKUP(Data!$B156,tabulka_panely_def,33,FALSE))","v":{"$error":"#N/A"}},{"$f":"Konstrukce!$D$1","v":18.770175404064034},{"$f":"Konstrukce!$D$2","v":19.934229593106764},{"$f":"Konstrukce!$G$1","v":-12},{"$f":"IF(Data!$B156<MIN(Panely!$A$9:$A$28),VLOOKUP(Data!$B156,tabulka_kce_def,59,FALSE),VLOOKUP(Data!$B156,tabulka_panely_def,63,FALSE))","v":""},{"$f":"IF(Data!$B156<MIN(Panely!$A$9:$A$28),VLOOKUP(Data!$B156,tabulka_kce_def,60,FALSE),VLOOKUP(Data!$B156,tabulka_panely_def,64,FALSE))","v":""},{"$f":"IF(Data!$B156<MIN(Panely!$A$9:$A$28),VLOOKUP(Data!$B156,tabulka_kce_def,61,FALSE),VLOOKUP(Data!$B156,tabulka_panely_def,65,FALSE))","v":""},{"$f":"IF(Data!$B156<MIN(Panely!$A$9:$A$28),VLOOKUP(Data!$B156,tabulka_kce_def,25,FALSE),0)","v":0},0,null,null,null,null,"=",{"$f":"IF(Data!$W156<MIN(Panely!$A$9:$A$28),VLOOKUP(Data!$W156,tabulka_kce_def,62,FALSE),VLOOKUP(Data!$W156,tabulka_panely_def,65,FALSE))","v":""},{"$f":"IF(Data!$W156<MIN(Panely!$A$9:$A$28),VLOOKUP(Data!$W156,tabulka_kce_def,Y$1-20,FALSE),VLOOKUP(Data!$W156,tabulka_panely_def,Y$1-18,FALSE))","v":0},{"$f":"IF(Data!$W156<MIN(Panely!$A$9:$A$28),VLOOKUP(Data!$W156,tabulka_kce_def,Z$1-20,FALSE),VLOOKUP(Data!$W156,tabulka_panely_def,Z$1-18,FALSE))","v":0},{"$f":"IF(Data!$W156<MIN(Panely!$A$9:$A$28),VLOOKUP(Data!$W156,tabulka_kce_def,AA$1-20,FALSE),VLOOKUP(Data!$W156,tabulka_panely_def,AA$1-18,FALSE))","v":0},{"$f":"IF(Data!$W156<MIN(Panely!$A$9:$A$28),VLOOKUP(Data!$W156,tabulka_kce_def,AB$1-20,FALSE),VLOOKUP(Data!$W156,tabulka_panely_def,AB$1-18,FALSE))","v":0},{"$f":"IF(Data!$W156<MIN(Panely!$A$9:$A$28),VLOOKUP(Data!$W156,tabulka_kce_def,AC$1-20,FALSE),VLOOKUP(Data!$W156,tabulka_panely_def,AC$1-18,FALSE))","v":0},{"$f":"IF(Data!$W156<MIN(Panely!$A$9:$A$28),VLOOKUP(Data!$W156,tabulka_kce_def,AD$1-20,FALSE),VLOOKUP(Data!$W156,tabulka_panely_def,AD$1-18,FALSE))","v":0},{"$f":"IF(Data!$W156<MIN(Panely!$A$9:$A$28),VLOOKUP(Data!$W156,tabulka_kce_def,AE$1-20,FALSE),VLOOKUP(Data!$W156,tabulka_panely_def,AE$1-18,FALSE))","v":0},{"$f":"IF(Data!$W156<MIN(Panely!$A$9:$A$28),VLOOKUP(Data!$W156,tabulka_kce_def,AF$1-20,FALSE),VLOOKUP(Data!$W156,tabulka_panely_def,AF$1-18,FALSE))","v":0},{"$f":"IF(Data!$W156<MIN(Panely!$A$9:$A$28),VLOOKUP(Data!$W156,tabulka_kce_def,AG$1-20,FALSE),VLOOKUP(Data!$W156,tabulka_panely_def,AG$1-18,FALSE))","v":0},{"$f":"IF(Data!$W156<MIN(Panely!$A$9:$A$28),VLOOKUP(Data!$W156,tabulka_kce_def,AH$1-20,FALSE),VLOOKUP(Data!$W156,tabulka_panely_def,AH$1-18,FALSE))","v":0},{"$f":"IF(Data!$W156<MIN(Panely!$A$9:$A$28),VLOOKUP(Data!$W156,tabulka_kce_def,AI$1-20,FALSE),VLOOKUP(Data!$W156,tabulka_panely_def,AI$1-18,FALSE))","v":0},{"$f":"IF(Data!$W156<MIN(Panely!$A$9:$A$28),VLOOKUP(Data!$W156,tabulka_kce_def,AJ$1-20,FALSE),VLOOKUP(Data!$W156,tabulka_panely_def,AJ$1-18,FALSE))","v":0},{"$f":"IF(Data!$W156<MIN(Panely!$A$9:$A$28),VLOOKUP(Data!$W156,tabulka_kce_def,AK$1-20,FALSE),VLOOKUP(Data!$W156,tabulka_panely_def,AK$1-18,FALSE))","v":0},{"$f":"IF(Data!$W156<MIN(Panely!$A$9:$A$28),VLOOKUP(Data!$W156,tabulka_kce_def,AL$1-20,FALSE),VLOOKUP(Data!$W156,tabulka_panely_def,AL$1-18,FALSE))","v":0},{"$f":"IF(Data!$W156<MIN(Panely!$A$9:$A$28),VLOOKUP(Data!$W156,tabulka_kce_def,AM$1-20,FALSE),VLOOKUP(Data!$W156,tabulka_panely_def,AM$1-18,FALSE))","v":0},156,{"$f":"IF(Data!$W156<MIN(Panely!$A$9:$A$28),VLOOKUP(Data!$W156,tabulka_kce_def,63,FALSE),0)","v":0},{"$f":"IF(Data!$W156<MIN(Panely!$A$9:$A$28),VLOOKUP(Data!$W156,tabulka_kce_def,28,FALSE),1)","v":1},{"$f":"IF(Data!$W156<MIN(Panely!$A$9:$A$28),VLOOKUP(Data!$W156,tabulka_kce_def,23,FALSE),VLOOKUP(Data!$W156,tabulka_panely_def,24,FALSE))","v":0},null,0,null,0,0,{"$error":"#N/A"},0,{"$f":"IF(AND(W156>MAX(Konstrukce!A:A),ISNUMBER(W156)),1,0)","v":0}]
[null,"=",{"$f":"IF(Data!$B157<MIN(Panely!$A$9:$A$28),VLOOKUP(Data!$B157,tabulka_kce_def,4,FALSE),VLOOKUP(Data!$B157,tabulka_panely_def,4,FALSE))","v":0},{"$f":"IF(Data!$B157<MIN(Panely!$A$9:$A$28),VLOOKUP(Data!$B157,tabulka_kce_def,23,FALSE),VLOOKUP(Data!$B157,tabulka_panely_def,24,FALSE))","v":0},{"$f":"IF(Data!$B157<MIN(Panely!$A$9:$A$28),VLOOKUP(Data!$B157,tabulka_kce_def,21,FALSE),VLOOKUP(Data!$B157,tabulka_panely_def,22,FALSE))","v":0},{"$f":"IF(Data!$B157<MIN(Panely!$A$9:$A$28),VLOOKUP(Data!$B157,tabulka_kce_def,26,FALSE),VLOOKUP(Data!$B157,tabulka_panely_def,31,FALSE))","v":{"$error":"#DIV/0!"}},{"$f":"IF(Data!$B157<MIN(Panely!$A$9:$A$28),VLOOKUP(Data!$B157,tabulka_kce_def,27,FALSE),VLOOKUP(Data!$B157,tabulka_panely_def,32,FALSE))","v":{"$error":"#DIV/0!"}},{"$f":"IF(VLOOKUP(Data!$B157,tabulka_kce_def,3,FALSE)=\"\",Konstrukce!$G$1,IF(VLOOKUP(Data!$B157,tabulka_kce_def,3,FALSE)=\"z\",Konstrukce!$G$2,VLOOKUP(Data!$B157,tabulka_kce_def,3,FALSE)))","v":{"$error":"#N/A"}},{"$f":"IF(Data!$B157<MIN(Panely!$A$9:$A$28),0,VLOOKUP(Data!$B157,tabulka_panely_def,25,FALSE))","v":0},{"$f":"IF(Data!$B157<MIN(Panely!$A$9:$A$28),VLOOKUP(Data!$B157,tabulka_kce_def,24,FALSE),VLOOKUP(Data!$B157,tabulka_panely_def,33,FALSE))","v":{"$error":"#N/A"}},{"$f":"Konstrukce!$D$1","v":18.770175404064034},{"$f":"Konstrukce!$D$2","v":19.934229593106764},{"$f":"Konstrukce!$G$1","v":-12},{"$f":"IF(Data!$B157<MIN(Panely!$A$9:$A$28),VLOOKUP(Data!$B157,tabulka_kce_def,59,FALSE),VLOOKUP(Data!$B157,tabulka_panely_def,63,FALSE))","v":""},{"$f":"IF(Data!$B157<MIN(Panely!$A$9:$A$28),VLOOKUP(Data!$B157,tabulka_kce_def,60,FALSE),VLOOKUP(Data!$B157,tabulka_panely_def,64,FALSE))","v":""},{"$f":"IF(Data!$B157<MIN(Panely!$A$9:$A$28),VLOOKUP(Data!$B157,tabulka_kce_def,61,FALSE),VLOOKUP(Data!$B157,tabulka_panely_def,65,FALSE))","v":""},{"$f":"IF(Data!$B157<MIN(Panely!$A$9:$A$28),VLOOKUP(Data!$B157,tabulka_kce_def,25,FALSE),0)","v":0},0,null,null,null,null,"=",{"$f":"IF(Data!$W157<MIN(Panely!$A$9:$A$28),VLOOKUP(Data!$W157,tabulka_kce_def,62,FALSE),VLOOKUP(Data!$W157,tabulka_panely_def,65,FALSE))","v":""},{"$f":"IF(Data!$W157<MIN(Panely!$A$9:$A$28),VLOOKUP(Data!$W157,tabulka_kce_def,Y$1-20,FALSE),VLOOKUP(Data!$W157,tabulka_panely_def,Y$1-18,FALSE))","v":0},{"$f":"IF(Data!$W157<MIN(Panely!$A$9:$A$28),VLOOKUP(Data!$W157,tabulka_kce_def,Z$1-20,FALSE),VLOOKUP(Data!$W157,tabulka_panely_def,Z$1-18,FALSE))","v":0},{"$f":"IF(Data!$W157<MIN(Panely!$A$9:$A$28),VLOOKUP(Data!$W157,tabulka_kce_def,AA$1-20,FALSE),VLOOKUP(Data!$W157,tabulka_panely_def,AA$1-18,FALSE))","v":0},{"$f":"IF(Data!$W157<MIN(Panely!$A$9:$A$28),VLOOKUP(Data!$W157,tabulka_kce_def,AB$1-20,FALSE),VLOOKUP(Data!$W157,tabulka_panely_def,AB$1-18,FALSE))","v":0},{"$f":"IF(Data!$W157<MIN(Panely!$A$9:$A$28),VLOOKUP(Data!$W157,tabulka_kce_def,AC$1-20,FALSE),VLOOKUP(Data!$W157,tabulka_panely_def,AC$1-18,FALSE))","v":0},{"$f":"IF(Data!$W157<MIN(Panely!$A$9:$A$28),VLOOKUP(Data!$W157,tabulka_kce_def,AD$1-20,FALSE),VLOOKUP(Data!$W157,tabulka_panely_def,AD$1-18,FALSE))","v":0},{"$f":"IF(Data!$W157<MIN(Panely!$A$9:$A$28),VLOOKUP(Data!$W157,tabulka_kce_def,AE$1-20,FALSE),VLOOKUP(Data!$W157,tabulka_panely_def,AE$1-18,FALSE))","v":0},{"$f":"IF(Data!$W157<MIN(Panely!$A$9:$A$28),VLOOKUP(Data!$W157,tabulka_kce_def,AF$1-20,FALSE),VLOOKUP(Data!$W157,tabulka_panely_def,AF$1-18,FALSE))","v":0},{"$f":"IF(Data!$W157<MIN(Panely!$A$9:$A$28),VLOOKUP(Data!$W157,tabulka_kce_def,AG$1-20,FALSE),VLOOKUP(Data!$W157,tabulka_panely_def,AG$1-18,FALSE))","v":0},{"$f":"IF(Data!$W157<MIN(Panely!$A$9:$A$28),VLOOKUP(Data!$W157,tabulka_kce_def,AH$1-20,FALSE),VLOOKUP(Data!$W157,tabulka_panely_def,AH$1-18,FALSE))","v":0},{"$f":"IF(Data!$W157<MIN(Panely!$A$9:$A$28),VLOOKUP(Data!$W157,tabulka_kce_def,AI$1-20,FALSE),VLOOKUP(Data!$W157,tabulka_panely_def,AI$1-18,FALSE))","v":0},{"$f":"IF(Data!$W157<MIN(Panely!$A$9:$A$28),VLOOKUP(Data!$W157,tabulka_kce_def,AJ$1-20,FALSE),VLOOKUP(Data!$W157,tabulka_panely_def,AJ$1-18,FALSE))","v":0},{"$f":"IF(Data!$W157<MIN(Panely!$A$9:$A$28),VLOOKUP(Data!$W157,tabulka_kce_def,AK$1-20,FALSE),VLOOKUP(Data!$W157,tabulka_panely_def,AK$1-18,FALSE))","v":0},{"$f":"IF(Data!$W157<MIN(Panely!$A$9:$A$28),VLOOKUP(Data!$W157,tabulka_kce_def,AL$1-20,FALSE),VLOOKUP(Data!$W157,tabulka_panely_def,AL$1-18,FALSE))","v":0},{"$f":"IF(Data!$W157<MIN(Panely!$A$9:$A$28),VLOOKUP(Data!$W157,tabulka_kce_def,AM$1-20,FALSE),VLOOKUP(Data!$W157,tabulka_panely_def,AM$1-18,FALSE))","v":0},157,{"$f":"IF(Data!$W157<MIN(Panely!$A$9:$A$28),VLOOKUP(Data!$W157,tabulka_kce_def,63,FALSE),0)","v":0},{"$f":"IF(Data!$W157<MIN(Panely!$A$9:$A$28),VLOOKUP(Data!$W157,tabulka_kce_def,28,FALSE),1)","v":1},{"$f":"IF(Data!$W157<MIN(Panely!$A$9:$A$28),VLOOKUP(Data!$W157,tabulka_kce_def,23,FALSE),VLOOKUP(Data!$W157,tabulka_panely_def,24,FALSE))","v":0},null,0,null,0,0,{"$error":"#N/A"},0,{"$f":"IF(AND(W157>MAX(Konstrukce!A:A),ISNUMBER(W157)),1,0)","v":0}]
[null,"=",{"$f":"IF(Data!$B158<MIN(Panely!$A$9:$A$28),VLOOKUP(Data!$B158,tabulka_kce_def,4,FALSE),VLOOKUP(Data!$B158,tabulka_panely_def,4,FALSE))","v":0},{"$f":"IF(Data!$B158<MIN(Panely!$A$9:$A$28),VLOOKUP(Data!$B158,tabulka_kce_def,23,FALSE),VLOOKUP(Data!$B158,tabulka_panely_def,24,FALSE))","v":0},{"$f":"IF(Data!$B158<MIN(Panely!$A$9:$A$28),VLOOKUP(Data!$B158,tabulka_kce_def,21,FALSE),VLOOKUP(Data!$B158,tabulka_panely_def,22,FALSE))","v":0},{"$f":"IF(Data!$B158<MIN(Panely!$A$9:$A$28),VLOOKUP(Data!$B158,tabulka_kce_def,26,FALSE),VLOOKUP(Data!$B158,tabulka_panely_def,31,FALSE))","v":{"$error":"#DIV/0!"}},{"$f":"IF(Data!$B158<MIN(Panely!$A$9:$A$28),VLOOKUP(Data!$B158,tabulka_kce_def,27,FALSE),VLOOKUP(Data!$B158,tabulka_panely_def,32,FALSE))","v":{"$error":"#DIV/0!"}},{"$f":"IF(VLOOKUP(Data!$B158,tabulka_kce_def,3,FALSE)=\"\",Konstrukce!$G$1,IF(VLOOKUP(Data!$B158,tabulka_kce_def,3,FALSE)=\"z\",Konstrukce!$G$2,VLOOKUP(Data!$B158,tabulka_kce_def,3,FALSE)))","v":{"$error":"#N/A"}},{"$f":"IF(Data!$B158<MIN(Panely!$A$9:$A$28),0,VLOOKUP(Data!$B158,tabulka_panely_def,25,FALSE))","v":0},{"$f":"IF(Data!$B158<MIN(Panely!$A$9:$A$28),VLOOKUP(Data!$B158,tabulka_kce_def,24,FALSE),VLOOKUP(Data!$B158,tabulka_panely_def,33,FALSE))","v":{"$error":"#N/A"}},{"$f":"Konstrukce!$D$1","v":18.770175404064034},{"$f":"Konstrukce!$D$2","v":19.934229593106764},{"$f":"Konstrukce!$G$1","v":-12},{"$f":"IF(Data!$B158<MIN(Panely!$A$9:$A$28),VLOOKUP(Data!$B158,tabulka_kce_def,59,FALSE),VLOOKUP(Data!$B158,tabulka_panely_def,63,FALSE))","v":""},{"$f":"IF(Data!$B158<MIN(Panely!$A$9:$A$28),VLOOKUP(Data!$B158,tabulka_kce_def,60,FALSE),VLOOKUP(Data!$B158,tabulka_panely_def,64,FALSE))","v":""},{"$f":"IF(Data!$B158<MIN(Panely!$A$9:$A$28),VLOOKUP(Data!$B158,tabulka_kce_def,61,FALSE),VLOOKUP(Data!$B158,tabulka_panely_def,65,FALSE))","v":""},{"$f":"IF(Data!$B158<MIN(Panely!$A$9:$A$28),VLOOKUP(Data!$B158,tabulka_kce_def,25,FALSE),0)","v":0},0,null,null,null,null,"=",{"$f":"IF(Data!$W158<MIN(Panely!$A$9:$A$28),VLOOKUP(Data!$W158,tabulka_kce_def,62,FALSE),VLOOKUP(Data!$W158,tabulka_panely_def,65,FALSE))","v":""},{"$f":"IF(Data!$W158<MIN(Panely!$A$9:$A$28),VLOOKUP(Data!$W158,tabulka_kce_def,Y$1-20,FALSE),VLOOKUP(Data!$W158,tabulka_panely_def,Y$1-18,FALSE))","v":0},{"$f":"IF(Data!$W158<MIN(Panely!$A$9:$A$28),VLOOKUP(Data!$W158,tabulka_kce_def,Z$1-20,FALSE),VLOOKUP(Data!$W158,tabulka_panely_def,Z$1-18,FALSE))","v":0},{"$f":"IF(Data!$W158<MIN(Panely!$A$9:$A$28),VLOOKUP(Data!$W158,tabulka_kce_def,AA$1-20,FALSE),VLOOKUP(Data!$W158,tabulka_panely_def,AA$1-18,FALSE))","v":0},{"$f":"IF(Data!$W158<MIN(Panely!$A$9:$A$28),VLOOKUP(Data!$W158,tabulka_kce_def,AB$1-20,FALSE),VLOOKUP(Data!$W158,tabulka_panely_def,AB$1-18,FALSE))","v":0},{"$f":"IF(Data!$W158<MIN(Panely!$A$9:$A$28),VLOOKUP(Data!$W158,tabulka_kce_def,AC$1-20,FALSE),VLOOKUP(Data!$W158,tabulka_panely_def,AC$1-18,FALSE))","v":0},{"$f":"IF(Data!$W158<MIN(Panely!$A$9:$A$28),VLOOKUP(Data!$W158,tabulka_kce_def,AD$1-20,FALSE),VLOOKUP(Data!$W158,tabulka_panely_def,AD$1-18,FALSE))","v":0},{"$f":"IF(Data!$W158<MIN(Panely!$A$9:$A$28),VLOOKUP(Data!$W158,tabulka_kce_def,AE$1-20,FALSE),VLOOKUP(Data!$W158,tabulka_panely_def,AE$1-18,FALSE))","v":0},{"$f":"IF(Data!$W158<MIN(Panely!$A$9:$A$28),VLOOKUP(Data!$W158,tabulka_kce_def,AF$1-20,FALSE),VLOOKUP(Data!$W158,tabulka_panely_def,AF$1-18,FALSE))","v":0},{"$f":"IF(Data!$W158<MIN(Panely!$A$9:$A$28),VLOOKUP(Data!$W158,tabulka_kce_def,AG$1-20,FALSE),VLOOKUP(Data!$W158,tabulka_panely_def,AG$1-18,FALSE))","v":0},{"$f":"IF(Data!$W158<MIN(Panely!$A$9:$A$28),VLOOKUP(Data!$W158,tabulka_kce_def,AH$1-20,FALSE),VLOOKUP(Data!$W158,tabulka_panely_def,AH$1-18,FALSE))","v":0},{"$f":"IF(Data!$W158<MIN(Panely!$A$9:$A$28),VLOOKUP(Data!$W158,tabulka_kce_def,AI$1-20,FALSE),VLOOKUP(Data!$W158,tabulka_panely_def,AI$1-18,FALSE))","v":0},{"$f":"IF(Data!$W158<MIN(Panely!$A$9:$A$28),VLOOKUP(Data!$W158,tabulka_kce_def,AJ$1-20,FALSE),VLOOKUP(Data!$W158,tabulka_panely_def,AJ$1-18,FALSE))","v":0},{"$f":"IF(Data!$W158<MIN(Panely!$A$9:$A$28),VLOOKUP(Data!$W158,tabulka_kce_def,AK$1-20,FALSE),VLOOKUP(Data!$W158,tabulka_panely_def,AK$1-18,FALSE))","v":0},{"$f":"IF(Data!$W158<MIN(Panely!$A$9:$A$28),VLOOKUP(Data!$W158,tabulka_kce_def,AL$1-20,FALSE),VLOOKUP(Data!$W158,tabulka_panely_def,AL$1-18,FALSE))","v":0},{"$f":"IF(Data!$W158<MIN(Panely!$A$9:$A$28),VLOOKUP(Data!$W158,tabulka_kce_def,AM$1-20,FALSE),VLOOKUP(Data!$W158,tabulka_panely_def,AM$1-18,FALSE))","v":0},158,{"$f":"IF(Data!$W158<MIN(Panely!$A$9:$A$28),VLOOKUP(Data!$W158,tabulka_kce_def,63,FALSE),0)","v":0},{"$f":"IF(Data!$W158<MIN(Panely!$A$9:$A$28),VLOOKUP(Data!$W158,tabulka_kce_def,28,FALSE),1)","v":1},{"$f":"IF(Data!$W158<MIN(Panely!$A$9:$A$28),VLOOKUP(Data!$W158,tabulka_kce_def,23,FALSE),VLOOKUP(Data!$W158,tabulka_panely_def,24,FALSE))","v":0},null,0,null,0,0,{"$error":"#N/A"},0,{"$f":"IF(AND(W158>MAX(Konstrukce!A:A),ISNUMBER(W158)),1,0)","v":0}]
[null,"=",{"$f":"IF(Data!$B159<MIN(Panely!$A$9:$A$28),VLOOKUP(Data!$B159,tabulka_kce_def,4,FALSE),VLOOKUP(Data!$B159,tabulka_panely_def,4,FALSE))","v":0},{"$f":"IF(Data!$B159<MIN(Panely!$A$9:$A$28),VLOOKUP(Data!$B159,tabulka_kce_def,23,FALSE),VLOOKUP(Data!$B159,tabulka_panely_def,24,FALSE))","v":0},{"$f":"IF(Data!$B159<MIN(Panely!$A$9:$A$28),VLOOKUP(Data!$B159,tabulka_kce_def,21,FALSE),VLOOKUP(Data!$B159,tabulka_panely_def,22,FALSE))","v":0},{"$f":"IF(Data!$B159<MIN(Panely!$A$9:$A$28),VLOOKUP(Data!$B159,tabulka_kce_def,26,FALSE),VLOOKUP(Data!$B159,tabulka_panely_def,31,FALSE))","v":{"$error":"#DIV/0!"}},{"$f":"IF(Data!$B159<MIN(Panely!$A$9:$A$28),VLOOKUP(Data!$B159,tabulka_kce_def,27,FALSE),VLOOKUP(Data!$B159,tabulka_panely_def,32,FALSE))","v":{"$error":"#DIV/0!"}},{"$f":"IF(VLOOKUP(Data!$B159,tabulka_kce_def,3,FALSE)=\"\",Konstrukce!$G$1,IF(VLOOKUP(Data!$B159,tabulka_kce_def,3,FALSE)=\"z\",Konstrukce!$G$2,VLOOKUP(Data!$B159,tabulka_kce_def,3,FALSE)))","v":{"$error":"#N/A"}},{"$f":"IF(Data!$B159<MIN(Panely!$A$9:$A$28),0,VLOOKUP(Data!$B159,tabulka_panely_def,25,FALSE))","v":0},{"$f":"IF(Data!$B159<MIN(Panely!$A$9:$A$28),VLOOKUP(Data!$B159,tabulka_kce_def,24,FALSE),VLOOKUP(Data!$B159,tabulka_panely_def,33,FALSE))","v":{"$error":"#N/A"}},{"$f":"Konstrukce!$D$1","v":18.770175404064034},{"$f":"Konstrukce!$D$2","v":19.934229593106764},{"$f":"Konstrukce!$G$1","v":-12},{"$f":"IF(Data!$B159<MIN(Panely!$A$9:$A$28),VLOOKUP(Data!$B159,tabulka_kce_def,59,FALSE),VLOOKUP(Data!$B159,tabulka_panely_def,63,FALSE))","v":""},{"$f":"IF(Data!$B159<MIN(Panely!$A$9:$A$28),VLOOKUP(Data!$B159,tabulka_kce_def,60,FALSE),VLOOKUP(Data!$B159,tabulka_panely_def,64,FALSE))","v":""},{"$f":"IF(Data!$B159<MIN(Panely!$A$9:$A$28),VLOOKUP(Data!$B159,tabulka_kce_def,61,FALSE),VLOOKUP(Data!$B159,tabulka_panely_def,65,FALSE))","v":""},{"$f":"IF(Data!$B159<MIN(Panely!$A$9:$A$28),VLOOKUP(Data!$B159,tabulka_kce_def,25,FALSE),0)","v":0},0,null,null,null,null,"=",{"$f":"IF(Data!$W159<MIN(Panely!$A$9:$A$28),VLOOKUP(Data!$W159,tabulka_kce_def,62,FALSE),VLOOKUP(Data!$W159,tabulka_panely_def,65,FALSE))","v":""},{"$f":"IF(Data!$W159<MIN(Panely!$A$9:$A$28),VLOOKUP(Data!$W159,tabulka_kce_def,Y$1-20,FALSE),VLOOKUP(Data!$W159,tabulka_panely_def,Y$1-18,FALSE))","v":0},{"$f":"IF(Data!$W159<MIN(Panely!$A$9:$A$28),VLOOKUP(Data!$W159,tabulka_kce_def,Z$1-20,FALSE),VLOOKUP(Data!$W159,tabulka_panely_def,Z$1-18,FALSE))","v":0},{"$f":"IF(Data!$W159<MIN(Panely!$A$9:$A$28),VLOOKUP(Data!$W159,tabulka_kce_def,AA$1-20,FALSE),VLOOKUP(Data!$W159,tabulka_panely_def,AA$1-18,FALSE))","v":0},{"$f":"IF(Data!$W159<MIN(Panely!$A$9:$A$28),VLOOKUP(Data!$W159,tabulka_kce_def,AB$1-20,FALSE),VLOOKUP(Data!$W159,tabulka_panely_def,AB$1-18,FALSE))","v":0},{"$f":"IF(Data!$W159<MIN(Panely!$A$9:$A$28),VLOOKUP(Data!$W159,tabulka_kce_def,AC$1-20,FALSE),VLOOKUP(Data!$W159,tabulka_panely_def,AC$1-18,FALSE))","v":0},{"$f":"IF(Data!$W159<MIN(Panely!$A$9:$A$28),VLOOKUP(Data!$W159,tabulka_kce_def,AD$1-20,FALSE),VLOOKUP(Data!$W159,tabulka_panely_def,AD$1-18,FALSE))","v":0},{"$f":"IF(Data!$W159<MIN(Panely!$A$9:$A$28),VLOOKUP(Data!$W159,tabulka_kce_def,AE$1-20,FALSE),VLOOKUP(Data!$W159,tabulka_panely_def,AE$1-18,FALSE))","v":0},{"$f":"IF(Data!$W159<MIN(Panely!$A$9:$A$28),VLOOKUP(Data!$W159,tabulka_kce_def,AF$1-20,FALSE),VLOOKUP(Data!$W159,tabulka_panely_def,AF$1-18,FALSE))","v":0},{"$f":"IF(Data!$W159<MIN(Panely!$A$9:$A$28),VLOOKUP(Data!$W159,tabulka_kce_def,AG$1-20,FALSE),VLOOKUP(Data!$W159,tabulka_panely_def,AG$1-18,FALSE))","v":0},{"$f":"IF(Data!$W159<MIN(Panely!$A$9:$A$28),VLOOKUP(Data!$W159,tabulka_kce_def,AH$1-20,FALSE),VLOOKUP(Data!$W159,tabulka_panely_def,AH$1-18,FALSE))","v":0},{"$f":"IF(Data!$W159<MIN(Panely!$A$9:$A$28),VLOOKUP(Data!$W159,tabulka_kce_def,AI$1-20,FALSE),VLOOKUP(Data!$W159,tabulka_panely_def,AI$1-18,FALSE))","v":0},{"$f":"IF(Data!$W159<MIN(Panely!$A$9:$A$28),VLOOKUP(Data!$W159,tabulka_kce_def,AJ$1-20,FALSE),VLOOKUP(Data!$W159,tabulka_panely_def,AJ$1-18,FALSE))","v":0},{"$f":"IF(Data!$W159<MIN(Panely!$A$9:$A$28),VLOOKUP(Data!$W159,tabulka_kce_def,AK$1-20,FALSE),VLOOKUP(Data!$W159,tabulka_panely_def,AK$1-18,FALSE))","v":0},{"$f":"IF(Data!$W159<MIN(Panely!$A$9:$A$28),VLOOKUP(Data!$W159,tabulka_kce_def,AL$1-20,FALSE),VLOOKUP(Data!$W159,tabulka_panely_def,AL$1-18,FALSE))","v":0},{"$f":"IF(Data!$W159<MIN(Panely!$A$9:$A$28),VLOOKUP(Data!$W159,tabulka_kce_def,AM$1-20,FALSE),VLOOKUP(Data!$W159,tabulka_panely_def,AM$1-18,FALSE))","v":0},159,{"$f":"IF(Data!$W159<MIN(Panely!$A$9:$A$28),VLOOKUP(Data!$W159,tabulka_kce_def,63,FALSE),0)","v":0},{"$f":"IF(Data!$W159<MIN(Panely!$A$9:$A$28),VLOOKUP(Data!$W159,tabulka_kce_def,28,FALSE),1)","v":1},{"$f":"IF(Data!$W159<MIN(Panely!$A$9:$A$28),VLOOKUP(Data!$W159,tabulka_kce_def,23,FALSE),VLOOKUP(Data!$W159,tabulka_panely_def,24,FALSE))","v":0},null,0,null,0,0,{"$error":"#N/A"},0,{"$f":"IF(AND(W159>MAX(Konstrukce!A:A),ISNUMBER(W159)),1,0)","v":0}]
[null,"=",{"$f":"IF(Data!$B160<MIN(Panely!$A$9:$A$28),VLOOKUP(Data!$B160,tabulka_kce_def,4,FALSE),VLOOKUP(Data!$B160,tabulka_panely_def,4,FALSE))","v":0},{"$f":"IF(Data!$B160<MIN(Panely!$A$9:$A$28),VLOOKUP(Data!$B160,tabulka_kce_def,23,FALSE),VLOOKUP(Data!$B160,tabulka_panely_def,24,FALSE))","v":0},{"$f":"IF(Data!$B160<MIN(Panely!$A$9:$A$28),VLOOKUP(Data!$B160,tabulka_kce_def,21,FALSE),VLOOKUP(Data!$B160,tabulka_panely_def,22,FALSE))","v":0},{"$f":"IF(Data!$B160<MIN(Panely!$A$9:$A$28),VLOOKUP(Data!$B160,tabulka_kce_def,26,FALSE),VLOOKUP(Data!$B160,tabulka_panely_def,31,FALSE))","v":{"$error":"#DIV/0!"}},{"$f":"IF(Data!$B160<MIN(Panely!$A$9:$A$28),VLOOKUP(Data!$B160,tabulka_kce_def,27,FALSE),VLOOKUP(Data!$B160,tabulka_panely_def,32,FALSE))","v":{"$error":"#DIV/0!"}},{"$f":"IF(VLOOKUP(Data!$B160,tabulka_kce_def,3,FALSE)=\"\",Konstrukce!$G$1,IF(VLOOKUP(Data!$B160,tabulka_kce_def,3,FALSE)=\"z\",Konstrukce!$G$2,VLOOKUP(Data!$B160,tabulka_kce_def,3,FALSE)))","v":{"$error":"#N/A"}},{"$f":"IF(Data!$B160<MIN(Panely!$A$9:$A$28),0,VLOOKUP(Data!$B160,tabulka_panely_def,25,FALSE))","v":0},{"$f":"IF(Data!$B160<MIN(Panely!$A$9:$A$28),VLOOKUP(Data!$B160,tabulka_kce_def,24,FALSE),VLOOKUP(Data!$B160,tabulka_panely_def,33,FALSE))","v":{"$error":"#N/A"}},{"$f":"Konstrukce!$D$1","v":18.770175404064034},{"$f":"Konstrukce!$D$2","v":19.934229593106764},{"$f":"Konstrukce!$G$1","v":-12},{"$f":"IF(Data!$B160<MIN(Panely!$A$9:$A$28),VLOOKUP(Data!$B160,tabulka_kce_def,59,FALSE),VLOOKUP(Data!$B160,tabulka_panely_def,63,FALSE))","v":""},{"$f":"IF(Data!$B160<MIN(Panely!$A$9:$A$28),VLOOKUP(Data!$B160,tabulka_kce_def,60,FALSE),VLOOKUP(Data!$B160,tabulka_panely_def,64,FALSE))","v":""},{"$f":"IF(Data!$B160<MIN(Panely!$A$9:$A$28),VLOOKUP(Data!$B160,tabulka_kce_def,61,FALSE),VLOOKUP(Data!$B160,tabulka_panely_def,65,FALSE))","v":""},{"$f":"IF(Data!$B160<MIN(Panely!$A$9:$A$28),VLOOKUP(Data!$B160,tabulka_kce_def,25,FALSE),0)","v":0},0,null,null,null,null,"=",{"$f":"IF(Data!$W160<MIN(Panely!$A$9:$A$28),VLOOKUP(Data!$W160,tabulka_kce_def,62,FALSE),VLOOKUP(Data!$W160,tabulka_panely_def,65,FALSE))","v":""},{"$f":"IF(Data!$W160<MIN(Panely!$A$9:$A$28),VLOOKUP(Data!$W160,tabulka_kce_def,Y$1-20,FALSE),VLOOKUP(Data!$W160,tabulka_panely_def,Y$1-18,FALSE))","v":0},{"$f":"IF(Data!$W160<MIN(Panely!$A$9:$A$28),VLOOKUP(Data!$W160,tabulka_kce_def,Z$1-20,FALSE),VLOOKUP(Data!$W160,tabulka_panely_def,Z$1-18,FALSE))","v":0},{"$f":"IF(Data!$W160<MIN(Panely!$A$9:$A$28),VLOOKUP(Data!$W160,tabulka_kce_def,AA$1-20,FALSE),VLOOKUP(Data!$W160,tabulka_panely_def,AA$1-18,FALSE))","v":0},{"$f":"IF(Data!$W160<MIN(Panely!$A$9:$A$28),VLOOKUP(Data!$W160,tabulka_kce_def,AB$1-20,FALSE),VLOOKUP(Data!$W160,tabulka_panely_def,AB$1-18,FALSE))","v":0},{"$f":"IF(Data!$W160<MIN(Panely!$A$9:$A$28),VLOOKUP(Data!$W160,tabulka_kce_def,AC$1-20,FALSE),VLOOKUP(Data!$W160,tabulka_panely_def,AC$1-18,FALSE))","v":0},{"$f":"IF(Data!$W160<MIN(Panely!$A$9:$A$28),VLOOKUP(Data!$W160,tabulka_kce_def,AD$1-20,FALSE),VLOOKUP(Data!$W160,tabulka_panely_def,AD$1-18,FALSE))","v":0},{"$f":"IF(Data!$W160<MIN(Panely!$A$9:$A$28),VLOOKUP(Data!$W160,tabulka_kce_def,AE$1-20,FALSE),VLOOKUP(Data!$W160,tabulka_panely_def,AE$1-18,FALSE))","v":0},{"$f":"IF(Data!$W160<MIN(Panely!$A$9:$A$28),VLOOKUP(Data!$W160,tabulka_kce_def,AF$1-20,FALSE),VLOOKUP(Data!$W160,tabulka_panely_def,AF$1-18,FALSE))","v":0},{"$f":"IF(Data!$W160<MIN(Panely!$A$9:$A$28),VLOOKUP(Data!$W160,tabulka_kce_def,AG$1-20,FALSE),VLOOKUP(Data!$W160,tabulka_panely_def,AG$1-18,FALSE))","v":0},{"$f":"IF(Data!$W160<MIN(Panely!$A$9:$A$28),VLOOKUP(Data!$W160,tabulka_kce_def,AH$1-20,FALSE),VLOOKUP(Data!$W160,tabulka_panely_def,AH$1-18,FALSE))","v":0},{"$f":"IF(Data!$W160<MIN(Panely!$A$9:$A$28),VLOOKUP(Data!$W160,tabulka_kce_def,AI$1-20,FALSE),VLOOKUP(Data!$W160,tabulka_panely_def,AI$1-18,FALSE))","v":0},{"$f":"IF(Data!$W160<MIN(Panely!$A$9:$A$28),VLOOKUP(Data!$W160,tabulka_kce_def,AJ$1-20,FALSE),VLOOKUP(Data!$W160,tabulka_panely_def,AJ$1-18,FALSE))","v":0},{"$f":"IF(Data!$W160<MIN(Panely!$A$9:$A$28),VLOOKUP(Data!$W160,tabulka_kce_def,AK$1-20,FALSE),VLOOKUP(Data!$W160,tabulka_panely_def,AK$1-18,FALSE))","v":0},{"$f":"IF(Data!$W160<MIN(Panely!$A$9:$A$28),VLOOKUP(Data!$W160,tabulka_kce_def,AL$1-20,FALSE),VLOOKUP(Data!$W160,tabulka_panely_def,AL$1-18,FALSE))","v":0},{"$f":"IF(Data!$W160<MIN(Panely!$A$9:$A$28),VLOOKUP(Data!$W160,tabulka_kce_def,AM$1-20,FALSE),VLOOKUP(Data!$W160,tabulka_panely_def,AM$1-18,FALSE))","v":0},160,{"$f":"IF(Data!$W160<MIN(Panely!$A$9:$A$28),VLOOKUP(Data!$W160,tabulka_kce_def,63,FALSE),0)","v":0},{"$f":"IF(Data!$W160<MIN(Panely!$A$9:$A$28),VLOOKUP(Data!$W160,tabulka_kce_def,28,FALSE),1)","v":1},{"$f":"IF(Data!$W160<MIN(Panely!$A$9:$A$28),VLOOKUP(Data!$W160,tabulka_kce_def,23,FALSE),VLOOKUP(Data!$W160,tabulka_panely_def,24,FALSE))","v":0},null,0,null,0,0,{"$error":"#N/A"},0,{"$f":"IF(AND(W160>MAX(Konstrukce!A:A),ISNUMBER(W160)),1,0)","v":0}]
[null,"=",{"$f":"IF(Data!$B161<MIN(Panely!$A$9:$A$28),VLOOKUP(Data!$B161,tabulka_kce_def,4,FALSE),VLOOKUP(Data!$B161,tabulka_panely_def,4,FALSE))","v":0},{"$f":"IF(Data!$B161<MIN(Panely!$A$9:$A$28),VLOOKUP(Data!$B161,tabulka_kce_def,23,FALSE),VLOOKUP(Data!$B161,tabulka_panely_def,24,FALSE))","v":0},{"$f":"IF(Data!$B161<MIN(Panely!$A$9:$A$28),VLOOKUP(Data!$B161,tabulka_kce_def,21,FALSE),VLOOKUP(Data!$B161,tabulka_panely_def,22,FALSE))","v":0},{"$f":"IF(Data!$B161<MIN(Panely!$A$9:$A$28),VLOOKUP(Data!$B161,tabulka_kce_def,26,FALSE),VLOOKUP(Data!$B161,tabulka_panely_def,31,FALSE))","v":{"$error":"#DIV/0!"}},{"$f":"IF(Data!$B161<MIN(Panely!$A$9:$A$28),VLOOKUP(Data!$B161,tabulka_kce_def,27,FALSE),VLOOKUP(Data!$B161,tabulka_panely_def,32,FALSE))","v":{"$error":"#DIV/0!"}},{"$f":"IF(VLOOKUP(Data!$B161,tabulka_kce_def,3,FALSE)=\"\",Konstrukce!$G$1,IF(VLOOKUP(Data!$B161,tabulka_kce_def,3,FALSE)=\"z\",Konstrukce!$G$2,VLOOKUP(Data!$B161,tabulka_kce_def,3,FALSE)))","v":{"$error":"#N/A"}},{"$f":"IF(Data!$B161<MIN(Panely!$A$9:$A$28),0,VLOOKUP(Data!$B161,tabulka_panely_def,25,FALSE))","v":0},{"$f":"IF(Data!$B161<MIN(Panely!$A$9:$A$28),VLOOKUP(Data!$B161,tabulka_kce_def,24,FALSE),VLOOKUP(Data!$B161,tabulka_panely_def,33,FALSE))","v":{"$error":"#N/A"}},{"$f":"Konstrukce!$D$1","v":18.770175404064034},{"$f":"Konstrukce!$D$2","v":19.934229593106764},{"$f":"Konstrukce!$G$1","v":-12},{"$f":"IF(Data!$B161<MIN(Panely!$A$9:$A$28),VLOOKUP(Data!$B161,tabulka_kce_def,59,FALSE),VLOOKUP(Data!$B161,tabulka_panely_def,63,FALSE))","v":""},{"$f":"IF(Data!$B161<MIN(Panely!$A$9:$A$28),VLOOKUP(Data!$B161,tabulka_kce_def,60,FALSE),VLOOKUP(Data!$B161,tabulka_panely_def,64,FALSE))","v":""},{"$f":"IF(Data!$B161<MIN(Panely!$A$9:$A$28),VLOOKUP(Data!$B161,tabulka_kce_def,61,FALSE),VLOOKUP(Data!$B161,tabulka_panely_def,65,FALSE))","v":""},{"$f":"IF(Data!$B161<MIN(Panely!$A$9:$A$28),VLOOKUP(Data!$B161,tabulka_kce_def,25,FALSE),0)","v":0},0,null,null,null,null,"=",{"$f":"IF(Data!$W161<MIN(Panely!$A$9:$A$28),VLOOKUP(Data!$W161,tabulka_kce_def,62,FALSE),VLOOKUP(Data!$W161,tabulka_panely_def,65,FALSE))","v":""},{"$f":"IF(Data!$W161<MIN(Panely!$A$9:$A$28),VLOOKUP(Data!$W161,tabulka_kce_def,Y$1-20,FALSE),VLOOKUP(Data!$W161,tabulka_panely_def,Y$1-18,FALSE))","v":0},{"$f":"IF(Data!$W161<MIN(Panely!$A$9:$A$28),VLOOKUP(Data!$W161,tabulka_kce_def,Z$1-20,FALSE),VLOOKUP(Data!$W161,tabulka_panely_def,Z$1-18,FALSE))","v":0},{"$f":"IF(Data!$W161<MIN(Panely!$A$9:$A$28),VLOOKUP(Data!$W161,tabulka_kce_def,AA$1-20,FALSE),VLOOKUP(Data!$W161,tabulka_panely_def,AA$1-18,FALSE))","v":0},{"$f":"IF(Data!$W161<MIN(Panely!$A$9:$A$28),VLOOKUP(Data!$W161,tabulka_kce_def,AB$1-20,FALSE),VLOOKUP(Data!$W161,tabulka_panely_def,AB$1-18,FALSE))","v":0},{"$f":"IF(Data!$W161<MIN(Panely!$A$9:$A$28),VLOOKUP(Data!$W161,tabulka_kce_def,AC$1-20,FALSE),VLOOKUP(Data!$W161,tabulka_panely_def,AC$1-18,FALSE))","v":0},{"$f":"IF(Data!$W161<MIN(Panely!$A$9:$A$28),VLOOKUP(Data!$W161,tabulka_kce_def,AD$1-20,FALSE),VLOOKUP(Data!$W161,tabulka_panely_def,AD$1-18,FALSE))","v":0},{"$f":"IF(Data!$W161<MIN(Panely!$A$9:$A$28),VLOOKUP(Data!$W161,tabulka_kce_def,AE$1-20,FALSE),VLOOKUP(Data!$W161,tabulka_panely_def,AE$1-18,FALSE))","v":0},{"$f":"IF(Data!$W161<MIN(Panely!$A$9:$A$28),VLOOKUP(Data!$W161,tabulka_kce_def,AF$1-20,FALSE),VLOOKUP(Data!$W161,tabulka_panely_def,AF$1-18,FALSE))","v":0},{"$f":"IF(Data!$W161<MIN(Panely!$A$9:$A$28),VLOOKUP(Data!$W161,tabulka_kce_def,AG$1-20,FALSE),VLOOKUP(Data!$W161,tabulka_panely_def,AG$1-18,FALSE))","v":0},{"$f":"IF(Data!$W161<MIN(Panely!$A$9:$A$28),VLOOKUP(Data!$W161,tabulka_kce_def,AH$1-20,FALSE),VLOOKUP(Data!$W161,tabulka_panely_def,AH$1-18,FALSE))","v":0},{"$f":"IF(Data!$W161<MIN(Panely!$A$9:$A$28),VLOOKUP(Data!$W161,tabulka_kce_def,AI$1-20,FALSE),VLOOKUP(Data!$W161,tabulka_panely_def,AI$1-18,FALSE))","v":0},{"$f":"IF(Data!$W161<MIN(Panely!$A$9:$A$28),VLOOKUP(Data!$W161,tabulka_kce_def,AJ$1-20,FALSE),VLOOKUP(Data!$W161,tabulka_panely_def,AJ$1-18,FALSE))","v":0},{"$f":"IF(Data!$W161<MIN(Panely!$A$9:$A$28),VLOOKUP(Data!$W161,tabulka_kce_def,AK$1-20,FALSE),VLOOKUP(Data!$W161,tabulka_panely_def,AK$1-18,FALSE))","v":0},{"$f":"IF(Data!$W161<MIN(Panely!$A$9:$A$28),VLOOKUP(Data!$W161,tabulka_kce_def,AL$1-20,FALSE),VLOOKUP(Data!$W161,tabulka_panely_def,AL$1-18,FALSE))","v":0},{"$f":"IF(Data!$W161<MIN(Panely!$A$9:$A$28),VLOOKUP(Data!$W161,tabulka_kce_def,AM$1-20,FALSE),VLOOKUP(Data!$W161,tabulka_panely_def,AM$1-18,FALSE))","v":0},161,{"$f":"IF(Data!$W161<MIN(Panely!$A$9:$A$28),VLOOKUP(Data!$W161,tabulka_kce_def,63,FALSE),0)","v":0},{"$f":"IF(Data!$W161<MIN(Panely!$A$9:$A$28),VLOOKUP(Data!$W161,tabulka_kce_def,28,FALSE),1)","v":1},{"$f":"IF(Data!$W161<MIN(Panely!$A$9:$A$28),VLOOKUP(Data!$W161,tabulka_kce_def,23,FALSE),VLOOKUP(Data!$W161,tabulka_panely_def,24,FALSE))","v":0},null,0,null,0,0,{"$error":"#N/A"},0,{"$f":"IF(AND(W161>MAX(Konstrukce!A:A),ISNUMBER(W161)),1,0)","v":0}]
[null,"=",{"$f":"IF(Data!$B162<MIN(Panely!$A$9:$A$28),VLOOKUP(Data!$B162,tabulka_kce_def,4,FALSE),VLOOKUP(Data!$B162,tabulka_panely_def,4,FALSE))","v":0},{"$f":"IF(Data!$B162<MIN(Panely!$A$9:$A$28),VLOOKUP(Data!$B162,tabulka_kce_def,23,FALSE),VLOOKUP(Data!$B162,tabulka_panely_def,24,FALSE))","v":0},{"$f":"IF(Data!$B162<MIN(Panely!$A$9:$A$28),VLOOKUP(Data!$B162,tabulka_kce_def,21,FALSE),VLOOKUP(Data!$B162,tabulka_panely_def,22,FALSE))","v":0},{"$f":"IF(Data!$B162<MIN(Panely!$A$9:$A$28),VLOOKUP(Data!$B162,tabulka_kce_def,26,FALSE),VLOOKUP(Data!$B162,tabulka_panely_def,31,FALSE))","v":{"$error":"#DIV/0!"}},{"$f":"IF(Data!$B162<MIN(Panely!$A$9:$A$28),VLOOKUP(Data!$B162,tabulka_kce_def,27,FALSE),VLOOKUP(Data!$B162,tabulka_panely_def,32,FALSE))","v":{"$error":"#DIV/0!"}},{"$f":"IF(VLOOKUP(Data!$B162,tabulka_kce_def,3,FALSE)=\"\",Konstrukce!$G$1,IF(VLOOKUP(Data!$B162,tabulka_kce_def,3,FALSE)=\"z\",Konstrukce!$G$2,VLOOKUP(Data!$B162,tabulka_kce_def,3,FALSE)))","v":{"$error":"#N/A"}},{"$f":"IF(Data!$B162<MIN(Panely!$A$9:$A$28),0,VLOOKUP(Data!$B162,tabulka_panely_def,25,FALSE))","v":0},{"$f":"IF(Data!$B162<MIN(Panely!$A$9:$A$28),VLOOKUP(Data!$B162,tabulka_kce_def,24,FALSE),VLOOKUP(Data!$B162,tabulka_panely_def,33,FALSE))","v":{"$error":"#N/A"}},{"$f":"Konstrukce!$D$1","v":18.770175404064034},{"$f":"Konstrukce!$D$2","v":19.934229593106764},{"$f":"Konstrukce!$G$1","v":-12},{"$f":"IF(Data!$B162<MIN(Panely!$A$9:$A$28),VLOOKUP(Data!$B162,tabulka_kce_def,59,FALSE),VLOOKUP(Data!$B162,tabulka_panely_def,63,FALSE))","v":""},{"$f":"IF(Data!$B162<MIN(Panely!$A$9:$A$28),VLOOKUP(Data!$B162,tabulka_kce_def,60,FALSE),VLOOKUP(Data!$B162,tabulka_panely_def,64,FALSE))","v":""},{"$f":"IF(Data!$B162<MIN(Panely!$A$9:$A$28),VLOOKUP(Data!$B162,tabulka_kce_def,61,FALSE),VLOOKUP(Data!$B162,tabulka_panely_def,65,FALSE))","v":""},{"$f":"IF(Data!$B162<MIN(Panely!$A$9:$A$28),VLOOKUP(Data!$B162,tabulka_kce_def,25,FALSE),0)","v":0},0,null,null,null,null,"=",{"$f":"IF(Data!$W162<MIN(Panely!$A$9:$A$28),VLOOKUP(Data!$W162,tabulka_kce_def,62,FALSE),VLOOKUP(Data!$W162,tabulka_panely_def,65,FALSE))","v":""},{"$f":"IF(Data!$W162<MIN(Panely!$A$9:$A$28),VLOOKUP(Data!$W162,tabulka_kce_def,Y$1-20,FALSE),VLOOKUP(Data!$W162,tabulka_panely_def,Y$1-18,FALSE))","v":0},{"$f":"IF(Data!$W162<MIN(Panely!$A$9:$A$28),VLOOKUP(Data!$W162,tabulka_kce_def,Z$1-20,FALSE),VLOOKUP(Data!$W162,tabulka_panely_def,Z$1-18,FALSE))","v":0},{"$f":"IF(Data!$W162<MIN(Panely!$A$9:$A$28),VLOOKUP(Data!$W162,tabulka_kce_def,AA$1-20,FALSE),VLOOKUP(Data!$W162,tabulka_panely_def,AA$1-18,FALSE))","v":0},{"$f":"IF(Data!$W162<MIN(Panely!$A$9:$A$28),VLOOKUP(Data!$W162,tabulka_kce_def,AB$1-20,FALSE),VLOOKUP(Data!$W162,tabulka_panely_def,AB$1-18,FALSE))","v":0},{"$f":"IF(Data!$W162<MIN(Panely!$A$9:$A$28),VLOOKUP(Data!$W162,tabulka_kce_def,AC$1-20,FALSE),VLOOKUP(Data!$W162,tabulka_panely_def,AC$1-18,FALSE))","v":0},{"$f":"IF(Data!$W162<MIN(Panely!$A$9:$A$28),VLOOKUP(Data!$W162,tabulka_kce_def,AD$1-20,FALSE),VLOOKUP(Data!$W162,tabulka_panely_def,AD$1-18,FALSE))","v":0},{"$f":"IF(Data!$W162<MIN(Panely!$A$9:$A$28),VLOOKUP(Data!$W162,tabulka_kce_def,AE$1-20,FALSE),VLOOKUP(Data!$W162,tabulka_panely_def,AE$1-18,FALSE))","v":0},{"$f":"IF(Data!$W162<MIN(Panely!$A$9:$A$28),VLOOKUP(Data!$W162,tabulka_kce_def,AF$1-20,FALSE),VLOOKUP(Data!$W162,tabulka_panely_def,AF$1-18,FALSE))","v":0},{"$f":"IF(Data!$W162<MIN(Panely!$A$9:$A$28),VLOOKUP(Data!$W162,tabulka_kce_def,AG$1-20,FALSE),VLOOKUP(Data!$W162,tabulka_panely_def,AG$1-18,FALSE))","v":0},{"$f":"IF(Data!$W162<MIN(Panely!$A$9:$A$28),VLOOKUP(Data!$W162,tabulka_kce_def,AH$1-20,FALSE),VLOOKUP(Data!$W162,tabulka_panely_def,AH$1-18,FALSE))","v":0},{"$f":"IF(Data!$W162<MIN(Panely!$A$9:$A$28),VLOOKUP(Data!$W162,tabulka_kce_def,AI$1-20,FALSE),VLOOKUP(Data!$W162,tabulka_panely_def,AI$1-18,FALSE))","v":0},{"$f":"IF(Data!$W162<MIN(Panely!$A$9:$A$28),VLOOKUP(Data!$W162,tabulka_kce_def,AJ$1-20,FALSE),VLOOKUP(Data!$W162,tabulka_panely_def,AJ$1-18,FALSE))","v":0},{"$f":"IF(Data!$W162<MIN(Panely!$A$9:$A$28),VLOOKUP(Data!$W162,tabulka_kce_def,AK$1-20,FALSE),VLOOKUP(Data!$W162,tabulka_panely_def,AK$1-18,FALSE))","v":0},{"$f":"IF(Data!$W162<MIN(Panely!$A$9:$A$28),VLOOKUP(Data!$W162,tabulka_kce_def,AL$1-20,FALSE),VLOOKUP(Data!$W162,tabulka_panely_def,AL$1-18,FALSE))","v":0},{"$f":"IF(Data!$W162<MIN(Panely!$A$9:$A$28),VLOOKUP(Data!$W162,tabulka_kce_def,AM$1-20,FALSE),VLOOKUP(Data!$W162,tabulka_panely_def,AM$1-18,FALSE))","v":0},162,{"$f":"IF(Data!$W162<MIN(Panely!$A$9:$A$28),VLOOKUP(Data!$W162,tabulka_kce_def,63,FALSE),0)","v":0},{"$f":"IF(Data!$W162<MIN(Panely!$A$9:$A$28),VLOOKUP(Data!$W162,tabulka_kce_def,28,FALSE),1)","v":1},{"$f":"IF(Data!$W162<MIN(Panely!$A$9:$A$28),VLOOKUP(Data!$W162,tabulka_kce_def,23,FALSE),VLOOKUP(Data!$W162,tabulka_panely_def,24,FALSE))","v":0},null,0,null,0,0,{"$error":"#N/A"},0,{"$f":"IF(AND(W162>MAX(Konstrukce!A:A),ISNUMBER(W162)),1,0)","v":0}]
[null,"=",{"$f":"IF(Data!$B163<MIN(Panely!$A$9:$A$28),VLOOKUP(Data!$B163,tabulka_kce_def,4,FALSE),VLOOKUP(Data!$B163,tabulka_panely_def,4,FALSE))","v":0},{"$f":"IF(Data!$B163<MIN(Panely!$A$9:$A$28),VLOOKUP(Data!$B163,tabulka_kce_def,23,FALSE),VLOOKUP(Data!$B163,tabulka_panely_def,24,FALSE))","v":0},{"$f":"IF(Data!$B163<MIN(Panely!$A$9:$A$28),VLOOKUP(Data!$B163,tabulka_kce_def,21,FALSE),VLOOKUP(Data!$B163,tabulka_panely_def,22,FALSE))","v":0},{"$f":"IF(Data!$B163<MIN(Panely!$A$9:$A$28),VLOOKUP(Data!$B163,tabulka_kce_def,26,FALSE),VLOOKUP(Data!$B163,tabulka_panely_def,31,FALSE))","v":{"$error":"#DIV/0!"}},{"$f":"IF(Data!$B163<MIN(Panely!$A$9:$A$28),VLOOKUP(Data!$B163,tabulka_kce_def,27,FALSE),VLOOKUP(Data!$B163,tabulka_panely_def,32,FALSE))","v":{"$error":"#DIV/0!"}},{"$f":"IF(VLOOKUP(Data!$B163,tabulka_kce_def,3,FALSE)=\"\",Konstrukce!$G$1,IF(VLOOKUP(Data!$B163,tabulka_kce_def,3,FALSE)=\"z\",Konstrukce!$G$2,VLOOKUP(Data!$B163,tabulka_kce_def,3,FALSE)))","v":{"$error":"#N/A"}},{"$f":"IF(Data!$B163<MIN(Panely!$A$9:$A$28),0,VLOOKUP(Data!$B163,tabulka_panely_def,25,FALSE))","v":0},{"$f":"IF(Data!$B163<MIN(Panely!$A$9:$A$28),VLOOKUP(Data!$B163,tabulka_kce_def,24,FALSE),VLOOKUP(Data!$B163,tabulka_panely_def,33,FALSE))","v":{"$error":"#N/A"}},{"$f":"Konstrukce!$D$1","v":18.770175404064034},{"$f":"Konstrukce!$D$2","v":19.934229593106764},{"$f":"Konstrukce!$G$1","v":-12},{"$f":"IF(Data!$B163<MIN(Panely!$A$9:$A$28),VLOOKUP(Data!$B163,tabulka_kce_def,59,FALSE),VLOOKUP(Data!$B163,tabulka_panely_def,63,FALSE))","v":""},{"$f":"IF(Data!$B163<MIN(Panely!$A$9:$A$28),VLOOKUP(Data!$B163,tabulka_kce_def,60,FALSE),VLOOKUP(Data!$B163,tabulka_panely_def,64,FALSE))","v":""},{"$f":"IF(Data!$B163<MIN(Panely!$A$9:$A$28),VLOOKUP(Data!$B163,tabulka_kce_def,61,FALSE),VLOOKUP(Data!$B163,tabulka_panely_def,65,FALSE))","v":""},{"$f":"IF(Data!$B163<MIN(Panely!$A$9:$A$28),VLOOKUP(Data!$B163,tabulka_kce_def,25,FALSE),0)","v":0},{"$f":"IF(O163=\"f\",VLOOKUP(VALUE(P163),tabulka_data,3,FALSE),D163)","v":0},null,null,null,null,"=",{"$f":"IF(Data!$W163<MIN(Panely!$A$9:$A$28),VLOOKUP(Data!$W163,tabulka_kce_def,62,FALSE),VLOOKUP(Data!$W163,tabulka_panely_def,65,FALSE))","v":""},{"$f":"IF(Data!$W163<MIN(Panely!$A$9:$A$28),VLOOKUP(Data!$W163,tabulka_kce_def,Y$1-20,FALSE),VLOOKUP(Data!$W163,tabulka_panely_def,Y$1-18,FALSE))","v":0},{"$f":"IF(Data!$W163<MIN(Panely!$A$9:$A$28),VLOOKUP(Data!$W163,tabulka_kce_def,Z$1-20,FALSE),VLOOKUP(Data!$W163,tabulka_panely_def,Z$1-18,FALSE))","v":0},{"$f":"IF(Data!$W163<MIN(Panely!$A$9:$A$28),VLOOKUP(Data!$W163,tabulka_kce_def,AA$1-20,FALSE),VLOOKUP(Data!$W163,tabulka_panely_def,AA$1-18,FALSE))","v":0},{"$f":"IF(Data!$W163<MIN(Panely!$A$9:$A$28),VLOOKUP(Data!$W163,tabulka_kce_def,AB$1-20,FALSE),VLOOKUP(Data!$W163,tabulka_panely_def,AB$1-18,FALSE))","v":0},{"$f":"IF(Data!$W163<MIN(Panely!$A$9:$A$28),VLOOKUP(Data!$W163,tabulka_kce_def,AC$1-20,FALSE),VLOOKUP(Data!$W163,tabulka_panely_def,AC$1-18,FALSE))","v":0},{"$f":"IF(Data!$W163<MIN(Panely!$A$9:$A$28),VLOOKUP(Data!$W163,tabulka_kce_def,AD$1-20,FALSE),VLOOKUP(Data!$W163,tabulka_panely_def,AD$1-18,FALSE))","v":0},{"$f":"IF(Data!$W163<MIN(Panely!$A$9:$A$28),VLOOKUP(Data!$W163,tabulka_kce_def,AE$1-20,FALSE),VLOOKUP(Data!$W163,tabulka_panely_def,AE$1-18,FALSE))","v":0},{"$f":"IF(Data!$W163<MIN(Panely!$A$9:$A$28),VLOOKUP(Data!$W163,tabulka_kce_def,AF$1-20,FALSE),VLOOKUP(Data!$W163,tabulka_panely_def,AF$1-18,FALSE))","v":0},{"$f":"IF(Data!$W163<MIN(Panely!$A$9:$A$28),VLOOKUP(Data!$W163,tabulka_kce_def,AG$1-20,FALSE),VLOOKUP(Data!$W163,tabulka_panely_def,AG$1-18,FALSE))","v":0},{"$f":"IF(Data!$W163<MIN(Panely!$A$9:$A$28),VLOOKUP(Data!$W163,tabulka_kce_def,AH$1-20,FALSE),VLOOKUP(Data!$W163,tabulka_panely_def,AH$1-18,FALSE))","v":0},{"$f":"IF(Data!$W163<MIN(Panely!$A$9:$A$28),VLOOKUP(Data!$W163,tabulka_kce_def,AI$1-20,FALSE),VLOOKUP(Data!$W163,tabulka_panely_def,AI$1-18,FALSE))","v":0},{"$f":"IF(Data!$W163<MIN(Panely!$A$9:$A$28),VLOOKUP(Data!$W163,tabulka_kce_def,AJ$1-20,FALSE),VLOOKUP(Data!$W163,tabulka_panely_def,AJ$1-18,FALSE))","v":0},{"$f":"IF(Data!$W163<MIN(Panely!$A$9:$A$28),VLOOKUP(Data!$W163,tabulka_kce_def,AK$1-20,FALSE),VLOOKUP(Data!$W163,tabulka_panely_def,AK$1-18,FALSE))","v":0},{"$f":"IF(Data!$W163<MIN(Panely!$A$9:$A$28),VLOOKUP(Data!$W163,tabulka_kce_def,AL$1-20,FALSE),VLOOKUP(Data!$W163,tabulka_panely_def,AL$1-18,FALSE))","v":0},{"$f":"IF(Data!$W163<MIN(Panely!$A$9:$A$28),VLOOKUP(Data!$W163,tabulka_kce_def,AM$1-20,FALSE),VLOOKUP(Data!$W163,tabulka_panely_def,AM$1-18,FALSE))","v":0},163,{"$f":"IF(Data!$W163<MIN(Panely!$A$9:$A$28),VLOOKUP(Data!$W163,tabulka_kce_def,63,FALSE),0)","v":0},{"$f":"IF(Data!$W163<MIN(Panely!$A$9:$A$28),VLOOKUP(Data!$W163,tabulka_kce_def,28,FALSE),1)","v":1},{"$f":"IF(Data!$W163<MIN(Panely!$A$9:$A$28),VLOOKUP(Data!$W163,tabulka_kce_def,23,FALSE),VLOOKUP(Data!$W163,tabulka_panely_def,24,FALSE))","v":0},null,0,null,0,0,{"$error":"#N/A"},0,{"$f":"IF(AND(W163>MAX(Konstrukce!A:A),ISNUMBER(W163)),1,0)","v":0}]
[null,"=",{"$f":"IF(Data!$B164<MIN(Panely!$A$9:$A$28),VLOOKUP(Data!$B164,tabulka_kce_def,4,FALSE),VLOOKUP(Data!$B164,tabulka_panely_def,4,FALSE))","v":0},{"$f":"IF(Data!$B164<MIN(Panely!$A$9:$A$28),VLOOKUP(Data!$B164,tabulka_kce_def,23,FALSE),VLOOKUP(Data!$B164,tabulka_panely_def,24,FALSE))","v":0},{"$f":"IF(Data!$B164<MIN(Panely!$A$9:$A$28),VLOOKUP(Data!$B164,tabulka_kce_def,21,FALSE),VLOOKUP(Data!$B164,tabulka_panely_def,22,FALSE))","v":0},{"$f":"IF(Data!$B164<MIN(Panely!$A$9:$A$28),VLOOKUP(Data!$B164,tabulka_kce_def,26,FALSE),VLOOKUP(Data!$B164,tabulka_panely_def,31,FALSE))","v":{"$error":"#DIV/0!"}},{"$f":"IF(Data!$B164<MIN(Panely!$A$9:$A$28),VLOOKUP(Data!$B164,tabulka_kce_def,27,FALSE),VLOOKUP(Data!$B164,tabulka_panely_def,32,FALSE))","v":{"$error":"#DIV/0!"}},{"$f":"IF(VLOOKUP(Data!$B164,tabulka_kce_def,3,FALSE)=\"\",Konstrukce!$G$1,IF(VLOOKUP(Data!$B164,tabulka_kce_def,3,FALSE)=\"z\",Konstrukce!$G$2,VLOOKUP(Data!$B164,tabulka_kce_def,3,FALSE)))","v":{"$error":"#N/A"}},{"$f":"IF(Data!$B164<MIN(Panely!$A$9:$A$28),0,VLOOKUP(Data!$B164,tabulka_panely_def,25,FALSE))","v":0},{"$f":"IF(Data!$B164<MIN(Panely!$A$9:$A$28),VLOOKUP(Data!$B164,tabulka_kce_def,24,FALSE),VLOOKUP(Data!$B164,tabulka_panely_def,33,FALSE))","v":{"$error":"#N/A"}},{"$f":"Konstrukce!$D$1","v":18.770175404064034},{"$f":"Konstrukce!$D$2","v":19.934229593106764},{"$f":"Konstrukce!$G$1","v":-12},{"$f":"IF(Data!$B164<MIN(Panely!$A$9:$A$28),VLOOKUP(Data!$B164,tabulka_kce_def,59,FALSE),VLOOKUP(Data!$B164,tabulka_panely_def,63,FALSE))","v":""},{"$f":"IF(Data!$B164<MIN(Panely!$A$9:$A$28),VLOOKUP(Data!$B164,tabulka_kce_def,60,FALSE),VLOOKUP(Data!$B164,tabulka_panely_def,64,FALSE))","v":""},{"$f":"IF(Data!$B164<MIN(Panely!$A$9:$A$28),VLOOKUP(Data!$B164,tabulka_kce_def,61,FALSE),VLOOKUP(Data!$B164,tabulka_panely_def,65,FALSE))","v":""},{"$f":"IF(Data!$B164<MIN(Panely!$A$9:$A$28),VLOOKUP(Data!$B164,tabulka_kce_def,25,FALSE),0)","v":0},0,null,null,null,null,"=",{"$f":"IF(Data!$W164<MIN(Panely!$A$9:$A$28),VLOOKUP(Data!$W164,tabulka_kce_def,62,FALSE),VLOOKUP(Data!$W164,tabulka_panely_def,65,FALSE))","v":""},{"$f":"IF(Data!$W164<MIN(Panely!$A$9:$A$28),VLOOKUP(Data!$W164,tabulka_kce_def,Y$1-20,FALSE),VLOOKUP(Data!$W164,tabulka_panely_def,Y$1-18,FALSE))","v":0},{"$f":"IF(Data!$W164<MIN(Panely!$A$9:$A$28),VLOOKUP(Data!$W164,tabulka_kce_def,Z$1-20,FALSE),VLOOKUP(Data!$W164,tabulka_panely_def,Z$1-18,FALSE))","v":0},{"$f":"IF(Data!$W164<MIN(Panely!$A$9:$A$28),VLOOKUP(Data!$W164,tabulka_kce_def,AA$1-20,FALSE),VLOOKUP(Data!$W164,tabulka_panely_def,AA$1-18,FALSE))","v":0},{"$f":"IF(Data!$W164<MIN(Panely!$A$9:$A$28),VLOOKUP(Data!$W164,tabulka_kce_def,AB$1-20,FALSE),VLOOKUP(Data!$W164,tabulka_panely_def,AB$1-18,FALSE))","v":0},{"$f":"IF(Data!$W164<MIN(Panely!$A$9:$A$28),VLOOKUP(Data!$W164,tabulka_kce_def,AC$1-20,FALSE),VLOOKUP(Data!$W164,tabulka_panely_def,AC$1-18,FALSE))","v":0},{"$f":"IF(Data!$W164<MIN(Panely!$A$9:$A$28),VLOOKUP(Data!$W164,tabulka_kce_def,AD$1-20,FALSE),VLOOKUP(Data!$W164,tabulka_panely_def,AD$1-18,FALSE))","v":0},{"$f":"IF(Data!$W164<MIN(Panely!$A$9:$A$28),VLOOKUP(Data!$W164,tabulka_kce_def,AE$1-20,FALSE),VLOOKUP(Data!$W164,tabulka_panely_def,AE$1-18,FALSE))","v":0},{"$f":"IF(Data!$W164<MIN(Panely!$A$9:$A$28),VLOOKUP(Data!$W164,tabulka_kce_def,AF$1-20,FALSE),VLOOKUP(Data!$W164,tabulka_panely_def,AF$1-18,FALSE))","v":0},{"$f":"IF(Data!$W164<MIN(Panely!$A$9:$A$28),VLOOKUP(Data!$W164,tabulka_kce_def,AG$1-20,FALSE),VLOOKUP(Data!$W164,tabulka_panely_def,AG$1-18,FALSE))","v":0},{"$f":"IF(Data!$W164<MIN(Panely!$A$9:$A$28),VLOOKUP(Data!$W164,tabulka_kce_def,AH$1-20,FALSE),VLOOKUP(Data!$W164,tabulka_panely_def,AH$1-18,FALSE))","v":0},{"$f":"IF(Data!$W164<MIN(Panely!$A$9:$A$28),VLOOKUP(Data!$W164,tabulka_kce_def,AI$1-20,FALSE),VLOOKUP(Data!$W164,tabulka_panely_def,AI$1-18,FALSE))","v":0},{"$f":"IF(Data!$W164<MIN(Panely!$A$9:$A$28),VLOOKUP(Data!$W164,tabulka_kce_def,AJ$1-20,FALSE),VLOOKUP(Data!$W164,tabulka_panely_def,AJ$1-18,FALSE))","v":0},{"$f":"IF(Data!$W164<MIN(Panely!$A$9:$A$28),VLOOKUP(Data!$W164,tabulka_kce_def,AK$1-20,FALSE),VLOOKUP(Data!$W164,tabulka_panely_def,AK$1-18,FALSE))","v":0},{"$f":"IF(Data!$W164<MIN(Panely!$A$9:$A$28),VLOOKUP(Data!$W164,tabulka_kce_def,AL$1-20,FALSE),VLOOKUP(Data!$W164,tabulka_panely_def,AL$1-18,FALSE))","v":0},{"$f":"IF(Data!$W164<MIN(Panely!$A$9:$A$28),VLOOKUP(Data!$W164,tabulka_kce_def,AM$1-20,FALSE),VLOOKUP(Data!$W164,tabulka_panely_def,AM$1-18,FALSE))","v":0},164,{"$f":"IF(Data!$W164<MIN(Panely!$A$9:$A$28),VLOOKUP(Data!$W164,tabulka_kce_def,63,FALSE),0)","v":0},{"$f":"IF(Data!$W164<MIN(Panely!$A$9:$A$28),VLOOKUP(Data!$W164,tabulka_kce_def,28,FALSE),1)","v":1},{"$f":"IF(Data!$W164<MIN(Panely!$A$9:$A$28),VLOOKUP(Data!$W164,tabulka_kce_def,23,FALSE),VLOOKUP(Data!$W164,tabulka_panely_def,24,FALSE))","v":0},null,0,null,0,0,{"$error":"#N/A"},0,{"$f":"IF(AND(W164>MAX(Konstrukce!A:A),ISNUMBER(W164)),1,0)","v":0}]
[null,"=",{"$f":"IF(Data!$B165<MIN(Panely!$A$9:$A$28),VLOOKUP(Data!$B165,tabulka_kce_def,4,FALSE),VLOOKUP(Data!$B165,tabulka_panely_def,4,FALSE))","v":0},{"$f":"IF(Data!$B165<MIN(Panely!$A$9:$A$28),VLOOKUP(Data!$B165,tabulka_kce_def,23,FALSE),VLOOKUP(Data!$B165,tabulka_panely_def,24,FALSE))","v":0},{"$f":"IF(Data!$B165<MIN(Panely!$A$9:$A$28),VLOOKUP(Data!$B165,tabulka_kce_def,21,FALSE),VLOOKUP(Data!$B165,tabulka_panely_def,22,FALSE))","v":0},{"$f":"IF(Data!$B165<MIN(Panely!$A$9:$A$28),VLOOKUP(Data!$B165,tabulka_kce_def,26,FALSE),VLOOKUP(Data!$B165,tabulka_panely_def,31,FALSE))","v":{"$error":"#DIV/0!"}},{"$f":"IF(Data!$B165<MIN(Panely!$A$9:$A$28),VLOOKUP(Data!$B165,tabulka_kce_def,27,FALSE),VLOOKUP(Data!$B165,tabulka_panely_def,32,FALSE))","v":{"$error":"#DIV/0!"}},{"$f":"IF(VLOOKUP(Data!$B165,tabulka_kce_def,3,FALSE)=\"\",Konstrukce!$G$1,IF(VLOOKUP(Data!$B165,tabulka_kce_def,3,FALSE)=\"z\",Konstrukce!$G$2,VLOOKUP(Data!$B165,tabulka_kce_def,3,FALSE)))","v":{"$error":"#N/A"}},{"$f":"IF(Data!$B165<MIN(Panely!$A$9:$A$28),0,VLOOKUP(Data!$B165,tabulka_panely_def,25,FALSE))","v":0},{"$f":"IF(Data!$B165<MIN(Panely!$A$9:$A$28),VLOOKUP(Data!$B165,tabulka_kce_def,24,FALSE),VLOOKUP(Data!$B165,tabulka_panely_def,33,FALSE))","v":{"$error":"#N/A"}},{"$f":"Konstrukce!$D$1","v":18.770175404064034},{"$f":"Konstrukce!$D$2","v":19.934229593106764},{"$f":"Konstrukce!$G$1","v":-12},{"$f":"IF(Data!$B165<MIN(Panely!$A$9:$A$28),VLOOKUP(Data!$B165,tabulka_kce_def,59,FALSE),VLOOKUP(Data!$B165,tabulka_panely_def,63,FALSE))","v":""},{"$f":"IF(Data!$B165<MIN(Panely!$A$9:$A$28),VLOOKUP(Data!$B165,tabulka_kce_def,60,FALSE),VLOOKUP(Data!$B165,tabulka_panely_def,64,FALSE))","v":""},{"$f":"IF(Data!$B165<MIN(Panely!$A$9:$A$28),VLOOKUP(Data!$B165,tabulka_kce_def,61,FALSE),VLOOKUP(Data!$B165,tabulka_panely_def,65,FALSE))","v":""},{"$f":"IF(Data!$B165<MIN(Panely!$A$9:$A$28),VLOOKUP(Data!$B165,tabulka_kce_def,25,FALSE),0)","v":0},0,null,null,null,null,"=",{"$f":"IF(Data!$W165<MIN(Panely!$A$9:$A$28),VLOOKUP(Data!$W165,tabulka_kce_def,62,FALSE),VLOOKUP(Data!$W165,tabulka_panely_def,65,FALSE))","v":""},{"$f":"IF(Data!$W165<MIN(Panely!$A$9:$A$28),VLOOKUP(Data!$W165,tabulka_kce_def,Y$1-20,FALSE),VLOOKUP(Data!$W165,tabulka_panely_def,Y$1-18,FALSE))","v":0},{"$f":"IF(Data!$W165<MIN(Panely!$A$9:$A$28),VLOOKUP(Data!$W165,tabulka_kce_def,Z$1-20,FALSE),VLOOKUP(Data!$W165,tabulka_panely_def,Z$1-18,FALSE))","v":0},{"$f":"IF(Data!$W165<MIN(Panely!$A$9:$A$28),VLOOKUP(Data!$W165,tabulka_kce_def,AA$1-20,FALSE),VLOOKUP(Data!$W165,tabulka_panely_def,AA$1-18,FALSE))","v":0},{"$f":"IF(Data!$W165<MIN(Panely!$A$9:$A$28),VLOOKUP(Data!$W165,tabulka_kce_def,AB$1-20,FALSE),VLOOKUP(Data!$W165,tabulka_panely_def,AB$1-18,FALSE))","v":0},{"$f":"IF(Data!$W165<MIN(Panely!$A$9:$A$28),VLOOKUP(Data!$W165,tabulka_kce_def,AC$1-20,FALSE),VLOOKUP(Data!$W165,tabulka_panely_def,AC$1-18,FALSE))","v":0},{"$f":"IF(Data!$W165<MIN(Panely!$A$9:$A$28),VLOOKUP(Data!$W165,tabulka_kce_def,AD$1-20,FALSE),VLOOKUP(Data!$W165,tabulka_panely_def,AD$1-18,FALSE))","v":0},{"$f":"IF(Data!$W165<MIN(Panely!$A$9:$A$28),VLOOKUP(Data!$W165,tabulka_kce_def,AE$1-20,FALSE),VLOOKUP(Data!$W165,tabulka_panely_def,AE$1-18,FALSE))","v":0},{"$f":"IF(Data!$W165<MIN(Panely!$A$9:$A$28),VLOOKUP(Data!$W165,tabulka_kce_def,AF$1-20,FALSE),VLOOKUP(Data!$W165,tabulka_panely_def,AF$1-18,FALSE))","v":0},{"$f":"IF(Data!$W165<MIN(Panely!$A$9:$A$28),VLOOKUP(Data!$W165,tabulka_kce_def,AG$1-20,FALSE),VLOOKUP(Data!$W165,tabulka_panely_def,AG$1-18,FALSE))","v":0},{"$f":"IF(Data!$W165<MIN(Panely!$A$9:$A$28),VLOOKUP(Data!$W165,tabulka_kce_def,AH$1-20,FALSE),VLOOKUP(Data!$W165,tabulka_panely_def,AH$1-18,FALSE))","v":0},{"$f":"IF(Data!$W165<MIN(Panely!$A$9:$A$28),VLOOKUP(Data!$W165,tabulka_kce_def,AI$1-20,FALSE),VLOOKUP(Data!$W165,tabulka_panely_def,AI$1-18,FALSE))","v":0},{"$f":"IF(Data!$W165<MIN(Panely!$A$9:$A$28),VLOOKUP(Data!$W165,tabulka_kce_def,AJ$1-20,FALSE),VLOOKUP(Data!$W165,tabulka_panely_def,AJ$1-18,FALSE))","v":0},{"$f":"IF(Data!$W165<MIN(Panely!$A$9:$A$28),VLOOKUP(Data!$W165,tabulka_kce_def,AK$1-20,FALSE),VLOOKUP(Data!$W165,tabulka_panely_def,AK$1-18,FALSE))","v":0},{"$f":"IF(Data!$W165<MIN(Panely!$A$9:$A$28),VLOOKUP(Data!$W165,tabulka_kce_def,AL$1-20,FALSE),VLOOKUP(Data!$W165,tabulka_panely_def,AL$1-18,FALSE))","v":0},{"$f":"IF(Data!$W165<MIN(Panely!$A$9:$A$28),VLOOKUP(Data!$W165,tabulka_kce_def,AM$1-20,FALSE),VLOOKUP(Data!$W165,tabulka_panely_def,AM$1-18,FALSE))","v":0},165,{"$f":"IF(Data!$W165<MIN(Panely!$A$9:$A$28),VLOOKUP(Data!$W165,tabulka_kce_def,63,FALSE),0)","v":0},{"$f":"IF(Data!$W165<MIN(Panely!$A$9:$A$28),VLOOKUP(Data!$W165,tabulka_kce_def,28,FALSE),1)","v":1},{"$f":"IF(Data!$W165<MIN(Panely!$A$9:$A$28),VLOOKUP(Data!$W165,tabulka_kce_def,23,FALSE),VLOOKUP(Data!$W165,tabulka_panely_def,24,FALSE))","v":0},null,0,null,0,0,{"$error":"#N/A"},0,{"$f":"IF(AND(W165>MAX(Konstrukce!A:A),ISNUMBER(W165)),1,0)","v":0}]
[null,"=",{"$f":"IF(Data!$B166<MIN(Panely!$A$9:$A$28),VLOOKUP(Data!$B166,tabulka_kce_def,4,FALSE),VLOOKUP(Data!$B166,tabulka_panely_def,4,FALSE))","v":0},{"$f":"IF(Data!$B166<MIN(Panely!$A$9:$A$28),VLOOKUP(Data!$B166,tabulka_kce_def,23,FALSE),VLOOKUP(Data!$B166,tabulka_panely_def,24,FALSE))","v":0},{"$f":"IF(Data!$B166<MIN(Panely!$A$9:$A$28),VLOOKUP(Data!$B166,tabulka_kce_def,21,FALSE),VLOOKUP(Data!$B166,tabulka_panely_def,22,FALSE))","v":0},{"$f":"IF(Data!$B166<MIN(Panely!$A$9:$A$28),VLOOKUP(Data!$B166,tabulka_kce_def,26,FALSE),VLOOKUP(Data!$B166,tabulka_panely_def,31,FALSE))","v":{"$error":"#DIV/0!"}},{"$f":"IF(Data!$B166<MIN(Panely!$A$9:$A$28),VLOOKUP(Data!$B166,tabulka_kce_def,27,FALSE),VLOOKUP(Data!$B166,tabulka_panely_def,32,FALSE))","v":{"$error":"#DIV/0!"}},{"$f":"IF(VLOOKUP(Data!$B166,tabulka_kce_def,3,FALSE)=\"\",Konstrukce!$G$1,IF(VLOOKUP(Data!$B166,tabulka_kce_def,3,FALSE)=\"z\",Konstrukce!$G$2,VLOOKUP(Data!$B166,tabulka_kce_def,3,FALSE)))","v":{"$error":"#N/A"}},{"$f":"IF(Data!$B166<MIN(Panely!$A$9:$A$28),0,VLOOKUP(Data!$B166,tabulka_panely_def,25,FALSE))","v":0},{"$f":"IF(Data!$B166<MIN(Panely!$A$9:$A$28),VLOOKUP(Data!$B166,tabulka_kce_def,24,FALSE),VLOOKUP(Data!$B166,tabulka_panely_def,33,FALSE))","v":{"$error":"#N/A"}},{"$f":"Konstrukce!$D$1","v":18.770175404064034},{"$f":"Konstrukce!$D$2","v":19.934229593106764},{"$f":"Konstrukce!$G$1","v":-12},{"$f":"IF(Data!$B166<MIN(Panely!$A$9:$A$28),VLOOKUP(Data!$B166,tabulka_kce_def,59,FALSE),VLOOKUP(Data!$B166,tabulka_panely_def,63,FALSE))","v":""},{"$f":"IF(Data!$B166<MIN(Panely!$A$9:$A$28),VLOOKUP(Data!$B166,tabulka_kce_def,60,FALSE),VLOOKUP(Data!$B166,tabulka_panely_def,64,FALSE))","v":""},{"$f":"IF(Data!$B166<MIN(Panely!$A$9:$A$28),VLOOKUP(Data!$B166,tabulka_kce_def,61,FALSE),VLOOKUP(Data!$B166,tabulka_panely_def,65,FALSE))","v":""},{"$f":"IF(Data!$B166<MIN(Panely!$A$9:$A$28),VLOOKUP(Data!$B166,tabulka_kce_def,25,FALSE),0)","v":0},0,null,null,null,null,"=",{"$f":"IF(Data!$W166<MIN(Panely!$A$9:$A$28),VLOOKUP(Data!$W166,tabulka_kce_def,62,FALSE),VLOOKUP(Data!$W166,tabulka_panely_def,65,FALSE))","v":""},{"$f":"IF(Data!$W166<MIN(Panely!$A$9:$A$28),VLOOKUP(Data!$W166,tabulka_kce_def,Y$1-20,FALSE),VLOOKUP(Data!$W166,tabulka_panely_def,Y$1-18,FALSE))","v":0},{"$f":"IF(Data!$W166<MIN(Panely!$A$9:$A$28),VLOOKUP(Data!$W166,tabulka_kce_def,Z$1-20,FALSE),VLOOKUP(Data!$W166,tabulka_panely_def,Z$1-18,FALSE))","v":0},{"$f":"IF(Data!$W166<MIN(Panely!$A$9:$A$28),VLOOKUP(Data!$W166,tabulka_kce_def,AA$1-20,FALSE),VLOOKUP(Data!$W166,tabulka_panely_def,AA$1-18,FALSE))","v":0},{"$f":"IF(Data!$W166<MIN(Panely!$A$9:$A$28),VLOOKUP(Data!$W166,tabulka_kce_def,AB$1-20,FALSE),VLOOKUP(Data!$W166,tabulka_panely_def,AB$1-18,FALSE))","v":0},{"$f":"IF(Data!$W166<MIN(Panely!$A$9:$A$28),VLOOKUP(Data!$W166,tabulka_kce_def,AC$1-20,FALSE),VLOOKUP(Data!$W166,tabulka_panely_def,AC$1-18,FALSE))","v":0},{"$f":"IF(Data!$W166<MIN(Panely!$A$9:$A$28),VLOOKUP(Data!$W166,tabulka_kce_def,AD$1-20,FALSE),VLOOKUP(Data!$W166,tabulka_panely_def,AD$1-18,FALSE))","v":0},{"$f":"IF(Data!$W166<MIN(Panely!$A$9:$A$28),VLOOKUP(Data!$W166,tabulka_kce_def,AE$1-20,FALSE),VLOOKUP(Data!$W166,tabulka_panely_def,AE$1-18,FALSE))","v":0},{"$f":"IF(Data!$W166<MIN(Panely!$A$9:$A$28),VLOOKUP(Data!$W166,tabulka_kce_def,AF$1-20,FALSE),VLOOKUP(Data!$W166,tabulka_panely_def,AF$1-18,FALSE))","v":0},{"$f":"IF(Data!$W166<MIN(Panely!$A$9:$A$28),VLOOKUP(Data!$W166,tabulka_kce_def,AG$1-20,FALSE),VLOOKUP(Data!$W166,tabulka_panely_def,AG$1-18,FALSE))","v":0},{"$f":"IF(Data!$W166<MIN(Panely!$A$9:$A$28),VLOOKUP(Data!$W166,tabulka_kce_def,AH$1-20,FALSE),VLOOKUP(Data!$W166,tabulka_panely_def,AH$1-18,FALSE))","v":0},{"$f":"IF(Data!$W166<MIN(Panely!$A$9:$A$28),VLOOKUP(Data!$W166,tabulka_kce_def,AI$1-20,FALSE),VLOOKUP(Data!$W166,tabulka_panely_def,AI$1-18,FALSE))","v":0},{"$f":"IF(Data!$W166<MIN(Panely!$A$9:$A$28),VLOOKUP(Data!$W166,tabulka_kce_def,AJ$1-20,FALSE),VLOOKUP(Data!$W166,tabulka_panely_def,AJ$1-18,FALSE))","v":0},{"$f":"IF(Data!$W166<MIN(Panely!$A$9:$A$28),VLOOKUP(Data!$W166,tabulka_kce_def,AK$1-20,FALSE),VLOOKUP(Data!$W166,tabulka_panely_def,AK$1-18,FALSE))","v":0},{"$f":"IF(Data!$W166<MIN(Panely!$A$9:$A$28),VLOOKUP(Data!$W166,tabulka_kce_def,AL$1-20,FALSE),VLOOKUP(Data!$W166,tabulka_panely_def,AL$1-18,FALSE))","v":0},{"$f":"IF(Data!$W166<MIN(Panely!$A$9:$A$28),VLOOKUP(Data!$W166,tabulka_kce_def,AM$1-20,FALSE),VLOOKUP(Data!$W166,tabulka_panely_def,AM$1-18,FALSE))","v":0},166,{"$f":"IF(Data!$W166<MIN(Panely!$A$9:$A$28),VLOOKUP(Data!$W166,tabulka_kce_def,63,FALSE),0)","v":0},{"$f":"IF(Data!$W166<MIN(Panely!$A$9:$A$28),VLOOKUP(Data!$W166,tabulka_kce_def,28,FALSE),1)","v":1},{"$f":"IF(Data!$W166<MIN(Panely!$A$9:$A$28),VLOOKUP(Data!$W166,tabulka_kce_def,23,FALSE),VLOOKUP(Data!$W166,tabulka_panely_def,24,FALSE))","v":0},null,0,null,0,0,{"$error":"#N/A"},0,{"$f":"IF(AND(W166>MAX(Konstrukce!A:A),ISNUMBER(W166)),1,0)","v":0}]
[null,"=",{"$f":"IF(Data!$B167<MIN(Panely!$A$9:$A$28),VLOOKUP(Data!$B167,tabulka_kce_def,4,FALSE),VLOOKUP(Data!$B167,tabulka_panely_def,4,FALSE))","v":0},{"$f":"IF(Data!$B167<MIN(Panely!$A$9:$A$28),VLOOKUP(Data!$B167,tabulka_kce_def,23,FALSE),VLOOKUP(Data!$B167,tabulka_panely_def,24,FALSE))","v":0},{"$f":"IF(Data!$B167<MIN(Panely!$A$9:$A$28),VLOOKUP(Data!$B167,tabulka_kce_def,21,FALSE),VLOOKUP(Data!$B167,tabulka_panely_def,22,FALSE))","v":0},{"$f":"IF(Data!$B167<MIN(Panely!$A$9:$A$28),VLOOKUP(Data!$B167,tabulka_kce_def,26,FALSE),VLOOKUP(Data!$B167,tabulka_panely_def,31,FALSE))","v":{"$error":"#DIV/0!"}},{"$f":"IF(Data!$B167<MIN(Panely!$A$9:$A$28),VLOOKUP(Data!$B167,tabulka_kce_def,27,FALSE),VLOOKUP(Data!$B167,tabulka_panely_def,32,FALSE))","v":{"$error":"#DIV/0!"}},{"$f":"IF(VLOOKUP(Data!$B167,tabulka_kce_def,3,FALSE)=\"\",Konstrukce!$G$1,IF(VLOOKUP(Data!$B167,tabulka_kce_def,3,FALSE)=\"z\",Konstrukce!$G$2,VLOOKUP(Data!$B167,tabulka_kce_def,3,FALSE)))","v":{"$error":"#N/A"}},{"$f":"IF(Data!$B167<MIN(Panely!$A$9:$A$28),0,VLOOKUP(Data!$B167,tabulka_panely_def,25,FALSE))","v":0},{"$f":"IF(Data!$B167<MIN(Panely!$A$9:$A$28),VLOOKUP(Data!$B167,tabulka_kce_def,24,FALSE),VLOOKUP(Data!$B167,tabulka_panely_def,33,FALSE))","v":{"$error":"#N/A"}},{"$f":"Konstrukce!$D$1","v":18.770175404064034},{"$f":"Konstrukce!$D$2","v":19.934229593106764},{"$f":"Konstrukce!$G$1","v":-12},{"$f":"IF(Data!$B167<MIN(Panely!$A$9:$A$28),VLOOKUP(Data!$B167,tabulka_kce_def,59,FALSE),VLOOKUP(Data!$B167,tabulka_panely_def,63,FALSE))","v":""},{"$f":"IF(Data!$B167<MIN(Panely!$A$9:$A$28),VLOOKUP(Data!$B167,tabulka_kce_def,60,FALSE),VLOOKUP(Data!$B167,tabulka_panely_def,64,FALSE))","v":""},{"$f":"IF(Data!$B167<MIN(Panely!$A$9:$A$28),VLOOKUP(Data!$B167,tabulka_kce_def,61,FALSE),VLOOKUP(Data!$B167,tabulka_panely_def,65,FALSE))","v":""},{"$f":"IF(Data!$B167<MIN(Panely!$A$9:$A$28),VLOOKUP(Data!$B167,tabulka_kce_def,25,FALSE),0)","v":0},0,null,null,null,null,"=",{"$f":"IF(Data!$W167<MIN(Panely!$A$9:$A$28),VLOOKUP(Data!$W167,tabulka_kce_def,62,FALSE),VLOOKUP(Data!$W167,tabulka_panely_def,65,FALSE))","v":""},{"$f":"IF(Data!$W167<MIN(Panely!$A$9:$A$28),VLOOKUP(Data!$W167,tabulka_kce_def,Y$1-20,FALSE),VLOOKUP(Data!$W167,tabulka_panely_def,Y$1-18,FALSE))","v":0},{"$f":"IF(Data!$W167<MIN(Panely!$A$9:$A$28),VLOOKUP(Data!$W167,tabulka_kce_def,Z$1-20,FALSE),VLOOKUP(Data!$W167,tabulka_panely_def,Z$1-18,FALSE))","v":0},{"$f":"IF(Data!$W167<MIN(Panely!$A$9:$A$28),VLOOKUP(Data!$W167,tabulka_kce_def,AA$1-20,FALSE),VLOOKUP(Data!$W167,tabulka_panely_def,AA$1-18,FALSE))","v":0},{"$f":"IF(Data!$W167<MIN(Panely!$A$9:$A$28),VLOOKUP(Data!$W167,tabulka_kce_def,AB$1-20,FALSE),VLOOKUP(Data!$W167,tabulka_panely_def,AB$1-18,FALSE))","v":0},{"$f":"IF(Data!$W167<MIN(Panely!$A$9:$A$28),VLOOKUP(Data!$W167,tabulka_kce_def,AC$1-20,FALSE),VLOOKUP(Data!$W167,tabulka_panely_def,AC$1-18,FALSE))","v":0},{"$f":"IF(Data!$W167<MIN(Panely!$A$9:$A$28),VLOOKUP(Data!$W167,tabulka_kce_def,AD$1-20,FALSE),VLOOKUP(Data!$W167,tabulka_panely_def,AD$1-18,FALSE))","v":0},{"$f":"IF(Data!$W167<MIN(Panely!$A$9:$A$28),VLOOKUP(Data!$W167,tabulka_kce_def,AE$1-20,FALSE),VLOOKUP(Data!$W167,tabulka_panely_def,AE$1-18,FALSE))","v":0},{"$f":"IF(Data!$W167<MIN(Panely!$A$9:$A$28),VLOOKUP(Data!$W167,tabulka_kce_def,AF$1-20,FALSE),VLOOKUP(Data!$W167,tabulka_panely_def,AF$1-18,FALSE))","v":0},{"$f":"IF(Data!$W167<MIN(Panely!$A$9:$A$28),VLOOKUP(Data!$W167,tabulka_kce_def,AG$1-20,FALSE),VLOOKUP(Data!$W167,tabulka_panely_def,AG$1-18,FALSE))","v":0},{"$f":"IF(Data!$W167<MIN(Panely!$A$9:$A$28),VLOOKUP(Data!$W167,tabulka_kce_def,AH$1-20,FALSE),VLOOKUP(Data!$W167,tabulka_panely_def,AH$1-18,FALSE))","v":0},{"$f":"IF(Data!$W167<MIN(Panely!$A$9:$A$28),VLOOKUP(Data!$W167,tabulka_kce_def,AI$1-20,FALSE),VLOOKUP(Data!$W167,tabulka_panely_def,AI$1-18,FALSE))","v":0},{"$f":"IF(Data!$W167<MIN(Panely!$A$9:$A$28),VLOOKUP(Data!$W167,tabulka_kce_def,AJ$1-20,FALSE),VLOOKUP(Data!$W167,tabulka_panely_def,AJ$1-18,FALSE))","v":0},{"$f":"IF(Data!$W167<MIN(Panely!$A$9:$A$28),VLOOKUP(Data!$W167,tabulka_kce_def,AK$1-20,FALSE),VLOOKUP(Data!$W167,tabulka_panely_def,AK$1-18,FALSE))","v":0},{"$f":"IF(Data!$W167<MIN(Panely!$A$9:$A$28),VLOOKUP(Data!$W167,tabulka_kce_def,AL$1-20,FALSE),VLOOKUP(Data!$W167,tabulka_panely_def,AL$1-18,FALSE))","v":0},{"$f":"IF(Data!$W167<MIN(Panely!$A$9:$A$28),VLOOKUP(Data!$W167,tabulka_kce_def,AM$1-20,FALSE),VLOOKUP(Data!$W167,tabulka_panely_def,AM$1-18,FALSE))","v":0},167,{"$f":"IF(Data!$W167<MIN(Panely!$A$9:$A$28),VLOOKUP(Data!$W167,tabulka_kce_def,63,FALSE),0)","v":0},{"$f":"IF(Data!$W167<MIN(Panely!$A$9:$A$28),VLOOKUP(Data!$W167,tabulka_kce_def,28,FALSE),1)","v":1},{"$f":"IF(Data!$W167<MIN(Panely!$A$9:$A$28),VLOOKUP(Data!$W167,tabulka_kce_def,23,FALSE),VLOOKUP(Data!$W167,tabulka_panely_def,24,FALSE))","v":0},null,0,null,0,0,{"$error":"#N/A"},0,{"$f":"IF(AND(W167>MAX(Konstrukce!A:A),ISNUMBER(W167)),1,0)","v":0}]
[null,"=",{"$f":"IF(Data!$B168<MIN(Panely!$A$9:$A$28),VLOOKUP(Data!$B168,tabulka_kce_def,4,FALSE),VLOOKUP(Data!$B168,tabulka_panely_def,4,FALSE))","v":0},{"$f":"IF(Data!$B168<MIN(Panely!$A$9:$A$28),VLOOKUP(Data!$B168,tabulka_kce_def,23,FALSE),VLOOKUP(Data!$B168,tabulka_panely_def,24,FALSE))","v":0},{"$f":"IF(Data!$B168<MIN(Panely!$A$9:$A$28),VLOOKUP(Data!$B168,tabulka_kce_def,21,FALSE),VLOOKUP(Data!$B168,tabulka_panely_def,22,FALSE))","v":0},{"$f":"IF(Data!$B168<MIN(Panely!$A$9:$A$28),VLOOKUP(Data!$B168,tabulka_kce_def,26,FALSE),VLOOKUP(Data!$B168,tabulka_panely_def,31,FALSE))","v":{"$error":"#DIV/0!"}},{"$f":"IF(Data!$B168<MIN(Panely!$A$9:$A$28),VLOOKUP(Data!$B168,tabulka_kce_def,27,FALSE),VLOOKUP(Data!$B168,tabulka_panely_def,32,FALSE))","v":{"$error":"#DIV/0!"}},{"$f":"IF(VLOOKUP(Data!$B168,tabulka_kce_def,3,FALSE)=\"\",Konstrukce!$G$1,IF(VLOOKUP(Data!$B168,tabulka_kce_def,3,FALSE)=\"z\",Konstrukce!$G$2,VLOOKUP(Data!$B168,tabulka_kce_def,3,FALSE)))","v":{"$error":"#N/A"}},{"$f":"IF(Data!$B168<MIN(Panely!$A$9:$A$28),0,VLOOKUP(Data!$B168,tabulka_panely_def,25,FALSE))","v":0},{"$f":"IF(Data!$B168<MIN(Panely!$A$9:$A$28),VLOOKUP(Data!$B168,tabulka_kce_def,24,FALSE),VLOOKUP(Data!$B168,tabulka_panely_def,33,FALSE))","v":{"$error":"#N/A"}},{"$f":"Konstrukce!$D$1","v":18.770175404064034},{"$f":"Konstrukce!$D$2","v":19.934229593106764},{"$f":"Konstrukce!$G$1","v":-12},{"$f":"IF(Data!$B168<MIN(Panely!$A$9:$A$28),VLOOKUP(Data!$B168,tabulka_kce_def,59,FALSE),VLOOKUP(Data!$B168,tabulka_panely_def,63,FALSE))","v":""},{"$f":"IF(Data!$B168<MIN(Panely!$A$9:$A$28),VLOOKUP(Data!$B168,tabulka_kce_def,60,FALSE),VLOOKUP(Data!$B168,tabulka_panely_def,64,FALSE))","v":""},{"$f":"IF(Data!$B168<MIN(Panely!$A$9:$A$28),VLOOKUP(Data!$B168,tabulka_kce_def,61,FALSE),VLOOKUP(Data!$B168,tabulka_panely_def,65,FALSE))","v":""},{"$f":"IF(Data!$B168<MIN(Panely!$A$9:$A$28),VLOOKUP(Data!$B168,tabulka_kce_def,25,FALSE),0)","v":0},0,null,null,null,null,"=",{"$f":"IF(Data!$W168<MIN(Panely!$A$9:$A$28),VLOOKUP(Data!$W168,tabulka_kce_def,62,FALSE),VLOOKUP(Data!$W168,tabulka_panely_def,65,FALSE))","v":""},{"$f":"IF(Data!$W168<MIN(Panely!$A$9:$A$28),VLOOKUP(Data!$W168,tabulka_kce_def,Y$1-20,FALSE),VLOOKUP(Data!$W168,tabulka_panely_def,Y$1-18,FALSE))","v":0},{"$f":"IF(Data!$W168<MIN(Panely!$A$9:$A$28),VLOOKUP(Data!$W168,tabulka_kce_def,Z$1-20,FALSE),VLOOKUP(Data!$W168,tabulka_panely_def,Z$1-18,FALSE))","v":0},{"$f":"IF(Data!$W168<MIN(Panely!$A$9:$A$28),VLOOKUP(Data!$W168,tabulka_kce_def,AA$1-20,FALSE),VLOOKUP(Data!$W168,tabulka_panely_def,AA$1-18,FALSE))","v":0},{"$f":"IF(Data!$W168<MIN(Panely!$A$9:$A$28),VLOOKUP(Data!$W168,tabulka_kce_def,AB$1-20,FALSE),VLOOKUP(Data!$W168,tabulka_panely_def,AB$1-18,FALSE))","v":0},{"$f":"IF(Data!$W168<MIN(Panely!$A$9:$A$28),VLOOKUP(Data!$W168,tabulka_kce_def,AC$1-20,FALSE),VLOOKUP(Data!$W168,tabulka_panely_def,AC$1-18,FALSE))","v":0},{"$f":"IF(Data!$W168<MIN(Panely!$A$9:$A$28),VLOOKUP(Data!$W168,tabulka_kce_def,AD$1-20,FALSE),VLOOKUP(Data!$W168,tabulka_panely_def,AD$1-18,FALSE))","v":0},{"$f":"IF(Data!$W168<MIN(Panely!$A$9:$A$28),VLOOKUP(Data!$W168,tabulka_kce_def,AE$1-20,FALSE),VLOOKUP(Data!$W168,tabulka_panely_def,AE$1-18,FALSE))","v":0},{"$f":"IF(Data!$W168<MIN(Panely!$A$9:$A$28),VLOOKUP(Data!$W168,tabulka_kce_def,AF$1-20,FALSE),VLOOKUP(Data!$W168,tabulka_panely_def,AF$1-18,FALSE))","v":0},{"$f":"IF(Data!$W168<MIN(Panely!$A$9:$A$28),VLOOKUP(Data!$W168,tabulka_kce_def,AG$1-20,FALSE),VLOOKUP(Data!$W168,tabulka_panely_def,AG$1-18,FALSE))","v":0},{"$f":"IF(Data!$W168<MIN(Panely!$A$9:$A$28),VLOOKUP(Data!$W168,tabulka_kce_def,AH$1-20,FALSE),VLOOKUP(Data!$W168,tabulka_panely_def,AH$1-18,FALSE))","v":0},{"$f":"IF(Data!$W168<MIN(Panely!$A$9:$A$28),VLOOKUP(Data!$W168,tabulka_kce_def,AI$1-20,FALSE),VLOOKUP(Data!$W168,tabulka_panely_def,AI$1-18,FALSE))","v":0},{"$f":"IF(Data!$W168<MIN(Panely!$A$9:$A$28),VLOOKUP(Data!$W168,tabulka_kce_def,AJ$1-20,FALSE),VLOOKUP(Data!$W168,tabulka_panely_def,AJ$1-18,FALSE))","v":0},{"$f":"IF(Data!$W168<MIN(Panely!$A$9:$A$28),VLOOKUP(Data!$W168,tabulka_kce_def,AK$1-20,FALSE),VLOOKUP(Data!$W168,tabulka_panely_def,AK$1-18,FALSE))","v":0},{"$f":"IF(Data!$W168<MIN(Panely!$A$9:$A$28),VLOOKUP(Data!$W168,tabulka_kce_def,AL$1-20,FALSE),VLOOKUP(Data!$W168,tabulka_panely_def,AL$1-18,FALSE))","v":0},{"$f":"IF(Data!$W168<MIN(Panely!$A$9:$A$28),VLOOKUP(Data!$W168,tabulka_kce_def,AM$1-20,FALSE),VLOOKUP(Data!$W168,tabulka_panely_def,AM$1-18,FALSE))","v":0},168,{"$f":"IF(Data!$W168<MIN(Panely!$A$9:$A$28),VLOOKUP(Data!$W168,tabulka_kce_def,63,FALSE),0)","v":0},{"$f":"IF(Data!$W168<MIN(Panely!$A$9:$A$28),VLOOKUP(Data!$W168,tabulka_kce_def,28,FALSE),1)","v":1},{"$f":"IF(Data!$W168<MIN(Panely!$A$9:$A$28),VLOOKUP(Data!$W168,tabulka_kce_def,23,FALSE),VLOOKUP(Data!$W168,tabulka_panely_def,24,FALSE))","v":0},null,0,null,0,0,{"$error":"#N/A"},0,{"$f":"IF(AND(W168>MAX(Konstrukce!A:A),ISNUMBER(W168)),1,0)","v":0}]
[null,"=",{"$f":"IF(Data!$B169<MIN(Panely!$A$9:$A$28),VLOOKUP(Data!$B169,tabulka_kce_def,4,FALSE),VLOOKUP(Data!$B169,tabulka_panely_def,4,FALSE))","v":0},{"$f":"IF(Data!$B169<MIN(Panely!$A$9:$A$28),VLOOKUP(Data!$B169,tabulka_kce_def,23,FALSE),VLOOKUP(Data!$B169,tabulka_panely_def,24,FALSE))","v":0},{"$f":"IF(Data!$B169<MIN(Panely!$A$9:$A$28),VLOOKUP(Data!$B169,tabulka_kce_def,21,FALSE),VLOOKUP(Data!$B169,tabulka_panely_def,22,FALSE))","v":0},{"$f":"IF(Data!$B169<MIN(Panely!$A$9:$A$28),VLOOKUP(Data!$B169,tabulka_kce_def,26,FALSE),VLOOKUP(Data!$B169,tabulka_panely_def,31,FALSE))","v":{"$error":"#DIV/0!"}},{"$f":"IF(Data!$B169<MIN(Panely!$A$9:$A$28),VLOOKUP(Data!$B169,tabulka_kce_def,27,FALSE),VLOOKUP(Data!$B169,tabulka_panely_def,32,FALSE))","v":{"$error":"#DIV/0!"}},{"$f":"IF(VLOOKUP(Data!$B169,tabulka_kce_def,3,FALSE)=\"\",Konstrukce!$G$1,IF(VLOOKUP(Data!$B169,tabulka_kce_def,3,FALSE)=\"z\",Konstrukce!$G$2,VLOOKUP(Data!$B169,tabulka_kce_def,3,FALSE)))","v":{"$error":"#N/A"}},{"$f":"IF(Data!$B169<MIN(Panely!$A$9:$A$28),0,VLOOKUP(Data!$B169,tabulka_panely_def,25,FALSE))","v":0},{"$f":"IF(Data!$B169<MIN(Panely!$A$9:$A$28),VLOOKUP(Data!$B169,tabulka_kce_def,24,FALSE),VLOOKUP(Data!$B169,tabulka_panely_def,33,FALSE))","v":{"$error":"#N/A"}},{"$f":"Konstrukce!$D$1","v":18.770175404064034},{"$f":"Konstrukce!$D$2","v":19.934229593106764},{"$f":"Konstrukce!$G$1","v":-12},{"$f":"IF(Data!$B169<MIN(Panely!$A$9:$A$28),VLOOKUP(Data!$B169,tabulka_kce_def,59,FALSE),VLOOKUP(Data!$B169,tabulka_panely_def,63,FALSE))","v":""},{"$f":"IF(Data!$B169<MIN(Panely!$A$9:$A$28),VLOOKUP(Data!$B169,tabulka_kce_def,60,FALSE),VLOOKUP(Data!$B169,tabulka_panely_def,64,FALSE))","v":""},{"$f":"IF(Data!$B169<MIN(Panely!$A$9:$A$28),VLOOKUP(Data!$B169,tabulka_kce_def,61,FALSE),VLOOKUP(Data!$B169,tabulka_panely_def,65,FALSE))","v":""},{"$f":"IF(Data!$B169<MIN(Panely!$A$9:$A$28),VLOOKUP(Data!$B169,tabulka_kce_def,25,FALSE),0)","v":0},0,null,null,null,null,"=",{"$f":"IF(Data!$W169<MIN(Panely!$A$9:$A$28),VLOOKUP(Data!$W169,tabulka_kce_def,62,FALSE),VLOOKUP(Data!$W169,tabulka_panely_def,65,FALSE))","v":""},{"$f":"IF(Data!$W169<MIN(Panely!$A$9:$A$28),VLOOKUP(Data!$W169,tabulka_kce_def,Y$1-20,FALSE),VLOOKUP(Data!$W169,tabulka_panely_def,Y$1-18,FALSE))","v":0},{"$f":"IF(Data!$W169<MIN(Panely!$A$9:$A$28),VLOOKUP(Data!$W169,tabulka_kce_def,Z$1-20,FALSE),VLOOKUP(Data!$W169,tabulka_panely_def,Z$1-18,FALSE))","v":0},{"$f":"IF(Data!$W169<MIN(Panely!$A$9:$A$28),VLOOKUP(Data!$W169,tabulka_kce_def,AA$1-20,FALSE),VLOOKUP(Data!$W169,tabulka_panely_def,AA$1-18,FALSE))","v":0},{"$f":"IF(Data!$W169<MIN(Panely!$A$9:$A$28),VLOOKUP(Data!$W169,tabulka_kce_def,AB$1-20,FALSE),VLOOKUP(Data!$W169,tabulka_panely_def,AB$1-18,FALSE))","v":0},{"$f":"IF(Data!$W169<MIN(Panely!$A$9:$A$28),VLOOKUP(Data!$W169,tabulka_kce_def,AC$1-20,FALSE),VLOOKUP(Data!$W169,tabulka_panely_def,AC$1-18,FALSE))","v":0},{"$f":"IF(Data!$W169<MIN(Panely!$A$9:$A$28),VLOOKUP(Data!$W169,tabulka_kce_def,AD$1-20,FALSE),VLOOKUP(Data!$W169,tabulka_panely_def,AD$1-18,FALSE))","v":0},{"$f":"IF(Data!$W169<MIN(Panely!$A$9:$A$28),VLOOKUP(Data!$W169,tabulka_kce_def,AE$1-20,FALSE),VLOOKUP(Data!$W169,tabulka_panely_def,AE$1-18,FALSE))","v":0},{"$f":"IF(Data!$W169<MIN(Panely!$A$9:$A$28),VLOOKUP(Data!$W169,tabulka_kce_def,AF$1-20,FALSE),VLOOKUP(Data!$W169,tabulka_panely_def,AF$1-18,FALSE))","v":0},{"$f":"IF(Data!$W169<MIN(Panely!$A$9:$A$28),VLOOKUP(Data!$W169,tabulka_kce_def,AG$1-20,FALSE),VLOOKUP(Data!$W169,tabulka_panely_def,AG$1-18,FALSE))","v":0},{"$f":"IF(Data!$W169<MIN(Panely!$A$9:$A$28),VLOOKUP(Data!$W169,tabulka_kce_def,AH$1-20,FALSE),VLOOKUP(Data!$W169,tabulka_panely_def,AH$1-18,FALSE))","v":0},{"$f":"IF(Data!$W169<MIN(Panely!$A$9:$A$28),VLOOKUP(Data!$W169,tabulka_kce_def,AI$1-20,FALSE),VLOOKUP(Data!$W169,tabulka_panely_def,AI$1-18,FALSE))","v":0},{"$f":"IF(Data!$W169<MIN(Panely!$A$9:$A$28),VLOOKUP(Data!$W169,tabulka_kce_def,AJ$1-20,FALSE),VLOOKUP(Data!$W169,tabulka_panely_def,AJ$1-18,FALSE))","v":0},{"$f":"IF(Data!$W169<MIN(Panely!$A$9:$A$28),VLOOKUP(Data!$W169,tabulka_kce_def,AK$1-20,FALSE),VLOOKUP(Data!$W169,tabulka_panely_def,AK$1-18,FALSE))","v":0},{"$f":"IF(Data!$W169<MIN(Panely!$A$9:$A$28),VLOOKUP(Data!$W169,tabulka_kce_def,AL$1-20,FALSE),VLOOKUP(Data!$W169,tabulka_panely_def,AL$1-18,FALSE))","v":0},{"$f":"IF(Data!$W169<MIN(Panely!$A$9:$A$28),VLOOKUP(Data!$W169,tabulka_kce_def,AM$1-20,FALSE),VLOOKUP(Data!$W169,tabulka_panely_def,AM$1-18,FALSE))","v":0},169,{"$f":"IF(Data!$W169<MIN(Panely!$A$9:$A$28),VLOOKUP(Data!$W169,tabulka_kce_def,63,FALSE),0)","v":0},{"$f":"IF(Data!$W169<MIN(Panely!$A$9:$A$28),VLOOKUP(Data!$W169,tabulka_kce_def,28,FALSE),1)","v":1},{"$f":"IF(Data!$W169<MIN(Panely!$A$9:$A$28),VLOOKUP(Data!$W169,tabulka_kce_def,23,FALSE),VLOOKUP(Data!$W169,tabulka_panely_def,24,FALSE))","v":0},null,0,null,0,0,{"$error":"#N/A"},0,{"$f":"IF(AND(W169>MAX(Konstrukce!A:A),ISNUMBER(W169)),1,0)","v":0}]
[null,"=",{"$f":"IF(Data!$B170<MIN(Panely!$A$9:$A$28),VLOOKUP(Data!$B170,tabulka_kce_def,4,FALSE),VLOOKUP(Data!$B170,tabulka_panely_def,4,FALSE))","v":0},{"$f":"IF(Data!$B170<MIN(Panely!$A$9:$A$28),VLOOKUP(Data!$B170,tabulka_kce_def,23,FALSE),VLOOKUP(Data!$B170,tabulka_panely_def,24,FALSE))","v":0},{"$f":"IF(Data!$B170<MIN(Panely!$A$9:$A$28),VLOOKUP(Data!$B170,tabulka_kce_def,21,FALSE),VLOOKUP(Data!$B170,tabulka_panely_def,22,FALSE))","v":0},{"$f":"IF(Data!$B170<MIN(Panely!$A$9:$A$28),VLOOKUP(Data!$B170,tabulka_kce_def,26,FALSE),VLOOKUP(Data!$B170,tabulka_panely_def,31,FALSE))","v":{"$error":"#DIV/0!"}},{"$f":"IF(Data!$B170<MIN(Panely!$A$9:$A$28),VLOOKUP(Data!$B170,tabulka_kce_def,27,FALSE),VLOOKUP(Data!$B170,tabulka_panely_def,32,FALSE))","v":{"$error":"#DIV/0!"}},{"$f":"IF(VLOOKUP(Data!$B170,tabulka_kce_def,3,FALSE)=\"\",Konstrukce!$G$1,IF(VLOOKUP(Data!$B170,tabulka_kce_def,3,FALSE)=\"z\",Konstrukce!$G$2,VLOOKUP(Data!$B170,tabulka_kce_def,3,FALSE)))","v":{"$error":"#N/A"}},{"$f":"IF(Data!$B170<MIN(Panely!$A$9:$A$28),0,VLOOKUP(Data!$B170,tabulka_panely_def,25,FALSE))","v":0},{"$f":"IF(Data!$B170<MIN(Panely!$A$9:$A$28),VLOOKUP(Data!$B170,tabulka_kce_def,24,FALSE),VLOOKUP(Data!$B170,tabulka_panely_def,33,FALSE))","v":{"$error":"#N/A"}},{"$f":"Konstrukce!$D$1","v":18.770175404064034},{"$f":"Konstrukce!$D$2","v":19.934229593106764},{"$f":"Konstrukce!$G$1","v":-12},{"$f":"IF(Data!$B170<MIN(Panely!$A$9:$A$28),VLOOKUP(Data!$B170,tabulka_kce_def,59,FALSE),VLOOKUP(Data!$B170,tabulka_panely_def,63,FALSE))","v":""},{"$f":"IF(Data!$B170<MIN(Panely!$A$9:$A$28),VLOOKUP(Data!$B170,tabulka_kce_def,60,FALSE),VLOOKUP(Data!$B170,tabulka_panely_def,64,FALSE))","v":""},{"$f":"IF(Data!$B170<MIN(Panely!$A$9:$A$28),VLOOKUP(Data!$B170,tabulka_kce_def,61,FALSE),VLOOKUP(Data!$B170,tabulka_panely_def,65,FALSE))","v":""},{"$f":"IF(Data!$B170<MIN(Panely!$A$9:$A$28),VLOOKUP(Data!$B170,tabulka_kce_def,25,FALSE),0)","v":0},0,null,null,null,null,"=",{"$f":"IF(Data!$W170<MIN(Panely!$A$9:$A$28),VLOOKUP(Data!$W170,tabulka_kce_def,62,FALSE),VLOOKUP(Data!$W170,tabulka_panely_def,65,FALSE))","v":""},{"$f":"IF(Data!$W170<MIN(Panely!$A$9:$A$28),VLOOKUP(Data!$W170,tabulka_kce_def,Y$1-20,FALSE),VLOOKUP(Data!$W170,tabulka_panely_def,Y$1-18,FALSE))","v":0},{"$f":"IF(Data!$W170<MIN(Panely!$A$9:$A$28),VLOOKUP(Data!$W170,tabulka_kce_def,Z$1-20,FALSE),VLOOKUP(Data!$W170,tabulka_panely_def,Z$1-18,FALSE))","v":0},{"$f":"IF(Data!$W170<MIN(Panely!$A$9:$A$28),VLOOKUP(Data!$W170,tabulka_kce_def,AA$1-20,FALSE),VLOOKUP(Data!$W170,tabulka_panely_def,AA$1-18,FALSE))","v":0},{"$f":"IF(Data!$W170<MIN(Panely!$A$9:$A$28),VLOOKUP(Data!$W170,tabulka_kce_def,AB$1-20,FALSE),VLOOKUP(Data!$W170,tabulka_panely_def,AB$1-18,FALSE))","v":0},{"$f":"IF(Data!$W170<MIN(Panely!$A$9:$A$28),VLOOKUP(Data!$W170,tabulka_kce_def,AC$1-20,FALSE),VLOOKUP(Data!$W170,tabulka_panely_def,AC$1-18,FALSE))","v":0},{"$f":"IF(Data!$W170<MIN(Panely!$A$9:$A$28),VLOOKUP(Data!$W170,tabulka_kce_def,AD$1-20,FALSE),VLOOKUP(Data!$W170,tabulka_panely_def,AD$1-18,FALSE))","v":0},{"$f":"IF(Data!$W170<MIN(Panely!$A$9:$A$28),VLOOKUP(Data!$W170,tabulka_kce_def,AE$1-20,FALSE),VLOOKUP(Data!$W170,tabulka_panely_def,AE$1-18,FALSE))","v":0},{"$f":"IF(Data!$W170<MIN(Panely!$A$9:$A$28),VLOOKUP(Data!$W170,tabulka_kce_def,AF$1-20,FALSE),VLOOKUP(Data!$W170,tabulka_panely_def,AF$1-18,FALSE))","v":0},{"$f":"IF(Data!$W170<MIN(Panely!$A$9:$A$28),VLOOKUP(Data!$W170,tabulka_kce_def,AG$1-20,FALSE),VLOOKUP(Data!$W170,tabulka_panely_def,AG$1-18,FALSE))","v":0},{"$f":"IF(Data!$W170<MIN(Panely!$A$9:$A$28),VLOOKUP(Data!$W170,tabulka_kce_def,AH$1-20,FALSE),VLOOKUP(Data!$W170,tabulka_panely_def,AH$1-18,FALSE))","v":0},{"$f":"IF(Data!$W170<MIN(Panely!$A$9:$A$28),VLOOKUP(Data!$W170,tabulka_kce_def,AI$1-20,FALSE),VLOOKUP(Data!$W170,tabulka_panely_def,AI$1-18,FALSE))","v":0},{"$f":"IF(Data!$W170<MIN(Panely!$A$9:$A$28),VLOOKUP(Data!$W170,tabulka_kce_def,AJ$1-20,FALSE),VLOOKUP(Data!$W170,tabulka_panely_def,AJ$1-18,FALSE))","v":0},{"$f":"IF(Data!$W170<MIN(Panely!$A$9:$A$28),VLOOKUP(Data!$W170,tabulka_kce_def,AK$1-20,FALSE),VLOOKUP(Data!$W170,tabulka_panely_def,AK$1-18,FALSE))","v":0},{"$f":"IF(Data!$W170<MIN(Panely!$A$9:$A$28),VLOOKUP(Data!$W170,tabulka_kce_def,AL$1-20,FALSE),VLOOKUP(Data!$W170,tabulka_panely_def,AL$1-18,FALSE))","v":0},{"$f":"IF(Data!$W170<MIN(Panely!$A$9:$A$28),VLOOKUP(Data!$W170,tabulka_kce_def,AM$1-20,FALSE),VLOOKUP(Data!$W170,tabulka_panely_def,AM$1-18,FALSE))","v":0},170,{"$f":"IF(Data!$W170<MIN(Panely!$A$9:$A$28),VLOOKUP(Data!$W170,tabulka_kce_def,63,FALSE),0)","v":0},{"$f":"IF(Data!$W170<MIN(Panely!$A$9:$A$28),VLOOKUP(Data!$W170,tabulka_kce_def,28,FALSE),1)","v":1},{"$f":"IF(Data!$W170<MIN(Panely!$A$9:$A$28),VLOOKUP(Data!$W170,tabulka_kce_def,23,FALSE),VLOOKUP(Data!$W170,tabulka_panely_def,24,FALSE))","v":0},null,0,null,0,0,{"$error":"#N/A"},0,{"$f":"IF(AND(W170>MAX(Konstrukce!A:A),ISNUMBER(W170)),1,0)","v":0}]
[null,"=",{"$f":"IF(Data!$B171<MIN(Panely!$A$9:$A$28),VLOOKUP(Data!$B171,tabulka_kce_def,4,FALSE),VLOOKUP(Data!$B171,tabulka_panely_def,4,FALSE))","v":0},{"$f":"IF(Data!$B171<MIN(Panely!$A$9:$A$28),VLOOKUP(Data!$B171,tabulka_kce_def,23,FALSE),VLOOKUP(Data!$B171,tabulka_panely_def,24,FALSE))","v":0},{"$f":"IF(Data!$B171<MIN(Panely!$A$9:$A$28),VLOOKUP(Data!$B171,tabulka_kce_def,21,FALSE),VLOOKUP(Data!$B171,tabulka_panely_def,22,FALSE))","v":0},{"$f":"IF(Data!$B171<MIN(Panely!$A$9:$A$28),VLOOKUP(Data!$B171,tabulka_kce_def,26,FALSE),VLOOKUP(Data!$B171,tabulka_panely_def,31,FALSE))","v":{"$error":"#DIV/0!"}},{"$f":"IF(Data!$B171<MIN(Panely!$A$9:$A$28),VLOOKUP(Data!$B171,tabulka_kce_def,27,FALSE),VLOOKUP(Data!$B171,tabulka_panely_def,32,FALSE))","v":{"$error":"#DIV/0!"}},{"$f":"IF(VLOOKUP(Data!$B171,tabulka_kce_def,3,FALSE)=\"\",Konstrukce!$G$1,IF(VLOOKUP(Data!$B171,tabulka_kce_def,3,FALSE)=\"z\",Konstrukce!$G$2,VLOOKUP(Data!$B171,tabulka_kce_def,3,FALSE)))","v":{"$error":"#N/A"}},{"$f":"IF(Data!$B171<MIN(Panely!$A$9:$A$28),0,VLOOKUP(Data!$B171,tabulka_panely_def,25,FALSE))","v":0},{"$f":"IF(Data!$B171<MIN(Panely!$A$9:$A$28),VLOOKUP(Data!$B171,tabulka_kce_def,24,FALSE),VLOOKUP(Data!$B171,tabulka_panely_def,33,FALSE))","v":{"$error":"#N/A"}},{"$f":"Konstrukce!$D$1","v":18.770175404064034},{"$f":"Konstrukce!$D$2","v":19.934229593106764},{"$f":"Konstrukce!$G$1","v":-12},{"$f":"IF(Data!$B171<MIN(Panely!$A$9:$A$28),VLOOKUP(Data!$B171,tabulka_kce_def,59,FALSE),VLOOKUP(Data!$B171,tabulka_panely_def,63,FALSE))","v":""},{"$f":"IF(Data!$B171<MIN(Panely!$A$9:$A$28),VLOOKUP(Data!$B171,tabulka_kce_def,60,FALSE),VLOOKUP(Data!$B171,tabulka_panely_def,64,FALSE))","v":""},{"$f":"IF(Data!$B171<MIN(Panely!$A$9:$A$28),VLOOKUP(Data!$B171,tabulka_kce_def,61,FALSE),VLOOKUP(Data!$B171,tabulka_panely_def,65,FALSE))","v":""},{"$f":"IF(Data!$B171<MIN(Panely!$A$9:$A$28),VLOOKUP(Data!$B171,tabulka_kce_def,25,FALSE),0)","v":0},0,null,null,null,null,"=",{"$f":"IF(Data!$W171<MIN(Panely!$A$9:$A$28),VLOOKUP(Data!$W171,tabulka_kce_def,62,FALSE),VLOOKUP(Data!$W171,tabulka_panely_def,65,FALSE))","v":""},{"$f":"IF(Data!$W171<MIN(Panely!$A$9:$A$28),VLOOKUP(Data!$W171,tabulka_kce_def,Y$1-20,FALSE),VLOOKUP(Data!$W171,tabulka_panely_def,Y$1-18,FALSE))","v":0},{"$f":"IF(Data!$W171<MIN(Panely!$A$9:$A$28),VLOOKUP(Data!$W171,tabulka_kce_def,Z$1-20,FALSE),VLOOKUP(Data!$W171,tabulka_panely_def,Z$1-18,FALSE))","v":0},{"$f":"IF(Data!$W171<MIN(Panely!$A$9:$A$28),VLOOKUP(Data!$W171,tabulka_kce_def,AA$1-20,FALSE),VLOOKUP(Data!$W171,tabulka_panely_def,AA$1-18,FALSE))","v":0},{"$f":"IF(Data!$W171<MIN(Panely!$A$9:$A$28),VLOOKUP(Data!$W171,tabulka_kce_def,AB$1-20,FALSE),VLOOKUP(Data!$W171,tabulka_panely_def,AB$1-18,FALSE))","v":0},{"$f":"IF(Data!$W171<MIN(Panely!$A$9:$A$28),VLOOKUP(Data!$W171,tabulka_kce_def,AC$1-20,FALSE),VLOOKUP(Data!$W171,tabulka_panely_def,AC$1-18,FALSE))","v":0},{"$f":"IF(Data!$W171<MIN(Panely!$A$9:$A$28),VLOOKUP(Data!$W171,tabulka_kce_def,AD$1-20,FALSE),VLOOKUP(Data!$W171,tabulka_panely_def,AD$1-18,FALSE))","v":0},{"$f":"IF(Data!$W171<MIN(Panely!$A$9:$A$28),VLOOKUP(Data!$W171,tabulka_kce_def,AE$1-20,FALSE),VLOOKUP(Data!$W171,tabulka_panely_def,AE$1-18,FALSE))","v":0},{"$f":"IF(Data!$W171<MIN(Panely!$A$9:$A$28),VLOOKUP(Data!$W171,tabulka_kce_def,AF$1-20,FALSE),VLOOKUP(Data!$W171,tabulka_panely_def,AF$1-18,FALSE))","v":0},{"$f":"IF(Data!$W171<MIN(Panely!$A$9:$A$28),VLOOKUP(Data!$W171,tabulka_kce_def,AG$1-20,FALSE),VLOOKUP(Data!$W171,tabulka_panely_def,AG$1-18,FALSE))","v":0},{"$f":"IF(Data!$W171<MIN(Panely!$A$9:$A$28),VLOOKUP(Data!$W171,tabulka_kce_def,AH$1-20,FALSE),VLOOKUP(Data!$W171,tabulka_panely_def,AH$1-18,FALSE))","v":0},{"$f":"IF(Data!$W171<MIN(Panely!$A$9:$A$28),VLOOKUP(Data!$W171,tabulka_kce_def,AI$1-20,FALSE),VLOOKUP(Data!$W171,tabulka_panely_def,AI$1-18,FALSE))","v":0},{"$f":"IF(Data!$W171<MIN(Panely!$A$9:$A$28),VLOOKUP(Data!$W171,tabulka_kce_def,AJ$1-20,FALSE),VLOOKUP(Data!$W171,tabulka_panely_def,AJ$1-18,FALSE))","v":0},{"$f":"IF(Data!$W171<MIN(Panely!$A$9:$A$28),VLOOKUP(Data!$W171,tabulka_kce_def,AK$1-20,FALSE),VLOOKUP(Data!$W171,tabulka_panely_def,AK$1-18,FALSE))","v":0},{"$f":"IF(Data!$W171<MIN(Panely!$A$9:$A$28),VLOOKUP(Data!$W171,tabulka_kce_def,AL$1-20,FALSE),VLOOKUP(Data!$W171,tabulka_panely_def,AL$1-18,FALSE))","v":0},{"$f":"IF(Data!$W171<MIN(Panely!$A$9:$A$28),VLOOKUP(Data!$W171,tabulka_kce_def,AM$1-20,FALSE),VLOOKUP(Data!$W171,tabulka_panely_def,AM$1-18,FALSE))","v":0},171,{"$f":"IF(Data!$W171<MIN(Panely!$A$9:$A$28),VLOOKUP(Data!$W171,tabulka_kce_def,63,FALSE),0)","v":0},{"$f":"IF(Data!$W171<MIN(Panely!$A$9:$A$28),VLOOKUP(Data!$W171,tabulka_kce_def,28,FALSE),1)","v":1},{"$f":"IF(Data!$W171<MIN(Panely!$A$9:$A$28),VLOOKUP(Data!$W171,tabulka_kce_def,23,FALSE),VLOOKUP(Data!$W171,tabulka_panely_def,24,FALSE))","v":0},null,0,null,0,0,{"$error":"#N/A"},0,{"$f":"IF(AND(W171>MAX(Konstrukce!A:A),ISNUMBER(W171)),1,0)","v":0}]
[null,"=",{"$f":"IF(Data!$B172<MIN(Panely!$A$9:$A$28),VLOOKUP(Data!$B172,tabulka_kce_def,4,FALSE),VLOOKUP(Data!$B172,tabulka_panely_def,4,FALSE))","v":0},{"$f":"IF(Data!$B172<MIN(Panely!$A$9:$A$28),VLOOKUP(Data!$B172,tabulka_kce_def,23,FALSE),VLOOKUP(Data!$B172,tabulka_panely_def,24,FALSE))","v":0},{"$f":"IF(Data!$B172<MIN(Panely!$A$9:$A$28),VLOOKUP(Data!$B172,tabulka_kce_def,21,FALSE),VLOOKUP(Data!$B172,tabulka_panely_def,22,FALSE))","v":0},{"$f":"IF(Data!$B172<MIN(Panely!$A$9:$A$28),VLOOKUP(Data!$B172,tabulka_kce_def,26,FALSE),VLOOKUP(Data!$B172,tabulka_panely_def,31,FALSE))","v":{"$error":"#DIV/0!"}},{"$f":"IF(Data!$B172<MIN(Panely!$A$9:$A$28),VLOOKUP(Data!$B172,tabulka_kce_def,27,FALSE),VLOOKUP(Data!$B172,tabulka_panely_def,32,FALSE))","v":{"$error":"#DIV/0!"}},{"$f":"IF(VLOOKUP(Data!$B172,tabulka_kce_def,3,FALSE)=\"\",Konstrukce!$G$1,IF(VLOOKUP(Data!$B172,tabulka_kce_def,3,FALSE)=\"z\",Konstrukce!$G$2,VLOOKUP(Data!$B172,tabulka_kce_def,3,FALSE)))","v":{"$error":"#N/A"}},{"$f":"IF(Data!$B172<MIN(Panely!$A$9:$A$28),0,VLOOKUP(Data!$B172,tabulka_panely_def,25,FALSE))","v":0},{"$f":"IF(Data!$B172<MIN(Panely!$A$9:$A$28),VLOOKUP(Data!$B172,tabulka_kce_def,24,FALSE),VLOOKUP(Data!$B172,tabulka_panely_def,33,FALSE))","v":{"$error":"#N/A"}},{"$f":"Konstrukce!$D$1","v":18.770175404064034},{"$f":"Konstrukce!$D$2","v":19.934229593106764},{"$f":"Konstrukce!$G$1","v":-12},{"$f":"IF(Data!$B172<MIN(Panely!$A$9:$A$28),VLOOKUP(Data!$B172,tabulka_kce_def,59,FALSE),VLOOKUP(Data!$B172,tabulka_panely_def,63,FALSE))","v":""},{"$f":"IF(Data!$B172<MIN(Panely!$A$9:$A$28),VLOOKUP(Data!$B172,tabulka_kce_def,60,FALSE),VLOOKUP(Data!$B172,tabulka_panely_def,64,FALSE))","v":""},{"$f":"IF(Data!$B172<MIN(Panely!$A$9:$A$28),VLOOKUP(Data!$B172,tabulka_kce_def,61,FALSE),VLOOKUP(Data!$B172,tabulka_panely_def,65,FALSE))","v":""},{"$f":"IF(Data!$B172<MIN(Panely!$A$9:$A$28),VLOOKUP(Data!$B172,tabulka_kce_def,25,FALSE),0)","v":0},0,null,null,null,null,"=",{"$f":"IF(Data!$W172<MIN(Panely!$A$9:$A$28),VLOOKUP(Data!$W172,tabulka_kce_def,62,FALSE),VLOOKUP(Data!$W172,tabulka_panely_def,65,FALSE))","v":""},{"$f":"IF(Data!$W172<MIN(Panely!$A$9:$A$28),VLOOKUP(Data!$W172,tabulka_kce_def,Y$1-20,FALSE),VLOOKUP(Data!$W172,tabulka_panely_def,Y$1-18,FALSE))","v":0},{"$f":"IF(Data!$W172<MIN(Panely!$A$9:$A$28),VLOOKUP(Data!$W172,tabulka_kce_def,Z$1-20,FALSE),VLOOKUP(Data!$W172,tabulka_panely_def,Z$1-18,FALSE))","v":0},{"$f":"IF(Data!$W172<MIN(Panely!$A$9:$A$28),VLOOKUP(Data!$W172,tabulka_kce_def,AA$1-20,FALSE),VLOOKUP(Data!$W172,tabulka_panely_def,AA$1-18,FALSE))","v":0},{"$f":"IF(Data!$W172<MIN(Panely!$A$9:$A$28),VLOOKUP(Data!$W172,tabulka_kce_def,AB$1-20,FALSE),VLOOKUP(Data!$W172,tabulka_panely_def,AB$1-18,FALSE))","v":0},{"$f":"IF(Data!$W172<MIN(Panely!$A$9:$A$28),VLOOKUP(Data!$W172,tabulka_kce_def,AC$1-20,FALSE),VLOOKUP(Data!$W172,tabulka_panely_def,AC$1-18,FALSE))","v":0},{"$f":"IF(Data!$W172<MIN(Panely!$A$9:$A$28),VLOOKUP(Data!$W172,tabulka_kce_def,AD$1-20,FALSE),VLOOKUP(Data!$W172,tabulka_panely_def,AD$1-18,FALSE))","v":0},{"$f":"IF(Data!$W172<MIN(Panely!$A$9:$A$28),VLOOKUP(Data!$W172,tabulka_kce_def,AE$1-20,FALSE),VLOOKUP(Data!$W172,tabulka_panely_def,AE$1-18,FALSE))","v":0},{"$f":"IF(Data!$W172<MIN(Panely!$A$9:$A$28),VLOOKUP(Data!$W172,tabulka_kce_def,AF$1-20,FALSE),VLOOKUP(Data!$W172,tabulka_panely_def,AF$1-18,FALSE))","v":0},{"$f":"IF(Data!$W172<MIN(Panely!$A$9:$A$28),VLOOKUP(Data!$W172,tabulka_kce_def,AG$1-20,FALSE),VLOOKUP(Data!$W172,tabulka_panely_def,AG$1-18,FALSE))","v":0},{"$f":"IF(Data!$W172<MIN(Panely!$A$9:$A$28),VLOOKUP(Data!$W172,tabulka_kce_def,AH$1-20,FALSE),VLOOKUP(Data!$W172,tabulka_panely_def,AH$1-18,FALSE))","v":0},{"$f":"IF(Data!$W172<MIN(Panely!$A$9:$A$28),VLOOKUP(Data!$W172,tabulka_kce_def,AI$1-20,FALSE),VLOOKUP(Data!$W172,tabulka_panely_def,AI$1-18,FALSE))","v":0},{"$f":"IF(Data!$W172<MIN(Panely!$A$9:$A$28),VLOOKUP(Data!$W172,tabulka_kce_def,AJ$1-20,FALSE),VLOOKUP(Data!$W172,tabulka_panely_def,AJ$1-18,FALSE))","v":0},{"$f":"IF(Data!$W172<MIN(Panely!$A$9:$A$28),VLOOKUP(Data!$W172,tabulka_kce_def,AK$1-20,FALSE),VLOOKUP(Data!$W172,tabulka_panely_def,AK$1-18,FALSE))","v":0},{"$f":"IF(Data!$W172<MIN(Panely!$A$9:$A$28),VLOOKUP(Data!$W172,tabulka_kce_def,AL$1-20,FALSE),VLOOKUP(Data!$W172,tabulka_panely_def,AL$1-18,FALSE))","v":0},{"$f":"IF(Data!$W172<MIN(Panely!$A$9:$A$28),VLOOKUP(Data!$W172,tabulka_kce_def,AM$1-20,FALSE),VLOOKUP(Data!$W172,tabulka_panely_def,AM$1-18,FALSE))","v":0},172,{"$f":"IF(Data!$W172<MIN(Panely!$A$9:$A$28),VLOOKUP(Data!$W172,tabulka_kce_def,63,FALSE),0)","v":0},{"$f":"IF(Data!$W172<MIN(Panely!$A$9:$A$28),VLOOKUP(Data!$W172,tabulka_kce_def,28,FALSE),1)","v":1},{"$f":"IF(Data!$W172<MIN(Panely!$A$9:$A$28),VLOOKUP(Data!$W172,tabulka_kce_def,23,FALSE),VLOOKUP(Data!$W172,tabulka_panely_def,24,FALSE))","v":0},null,0,null,0,0,{"$error":"#N/A"},0,{"$f":"IF(AND(W172>MAX(Konstrukce!A:A),ISNUMBER(W172)),1,0)","v":0}]
[null,"=",{"$f":"IF(Data!$B173<MIN(Panely!$A$9:$A$28),VLOOKUP(Data!$B173,tabulka_kce_def,4,FALSE),VLOOKUP(Data!$B173,tabulka_panely_def,4,FALSE))","v":0},{"$f":"IF(Data!$B173<MIN(Panely!$A$9:$A$28),VLOOKUP(Data!$B173,tabulka_kce_def,23,FALSE),VLOOKUP(Data!$B173,tabulka_panely_def,24,FALSE))","v":0},{"$f":"IF(Data!$B173<MIN(Panely!$A$9:$A$28),VLOOKUP(Data!$B173,tabulka_kce_def,21,FALSE),VLOOKUP(Data!$B173,tabulka_panely_def,22,FALSE))","v":0},{"$f":"IF(Data!$B173<MIN(Panely!$A$9:$A$28),VLOOKUP(Data!$B173,tabulka_kce_def,26,FALSE),VLOOKUP(Data!$B173,tabulka_panely_def,31,FALSE))","v":{"$error":"#DIV/0!"}},{"$f":"IF(Data!$B173<MIN(Panely!$A$9:$A$28),VLOOKUP(Data!$B173,tabulka_kce_def,27,FALSE),VLOOKUP(Data!$B173,tabulka_panely_def,32,FALSE))","v":{"$error":"#DIV/0!"}},{"$f":"IF(VLOOKUP(Data!$B173,tabulka_kce_def,3,FALSE)=\"\",Konstrukce!$G$1,IF(VLOOKUP(Data!$B173,tabulka_kce_def,3,FALSE)=\"z\",Konstrukce!$G$2,VLOOKUP(Data!$B173,tabulka_kce_def,3,FALSE)))","v":{"$error":"#N/A"}},{"$f":"IF(Data!$B173<MIN(Panely!$A$9:$A$28),0,VLOOKUP(Data!$B173,tabulka_panely_def,25,FALSE))","v":0},{"$f":"IF(Data!$B173<MIN(Panely!$A$9:$A$28),VLOOKUP(Data!$B173,tabulka_kce_def,24,FALSE),VLOOKUP(Data!$B173,tabulka_panely_def,33,FALSE))","v":{"$error":"#N/A"}},{"$f":"Konstrukce!$D$1","v":18.770175404064034},{"$f":"Konstrukce!$D$2","v":19.934229593106764},{"$f":"Konstrukce!$G$1","v":-12},{"$f":"IF(Data!$B173<MIN(Panely!$A$9:$A$28),VLOOKUP(Data!$B173,tabulka_kce_def,59,FALSE),VLOOKUP(Data!$B173,tabulka_panely_def,63,FALSE))","v":""},{"$f":"IF(Data!$B173<MIN(Panely!$A$9:$A$28),VLOOKUP(Data!$B173,tabulka_kce_def,60,FALSE),VLOOKUP(Data!$B173,tabulka_panely_def,64,FALSE))","v":""},{"$f":"IF(Data!$B173<MIN(Panely!$A$9:$A$28),VLOOKUP(Data!$B173,tabulka_kce_def,61,FALSE),VLOOKUP(Data!$B173,tabulka_panely_def,65,FALSE))","v":""},{"$f":"IF(Data!$B173<MIN(Panely!$A$9:$A$28),VLOOKUP(Data!$B173,tabulka_kce_def,25,FALSE),0)","v":0},0,null,null,null,null,"=",{"$f":"IF(Data!$W173<MIN(Panely!$A$9:$A$28),VLOOKUP(Data!$W173,tabulka_kce_def,62,FALSE),VLOOKUP(Data!$W173,tabulka_panely_def,65,FALSE))","v":""},{"$f":"IF(Data!$W173<MIN(Panely!$A$9:$A$28),VLOOKUP(Data!$W173,tabulka_kce_def,Y$1-20,FALSE),VLOOKUP(Data!$W173,tabulka_panely_def,Y$1-18,FALSE))","v":0},{"$f":"IF(Data!$W173<MIN(Panely!$A$9:$A$28),VLOOKUP(Data!$W173,tabulka_kce_def,Z$1-20,FALSE),VLOOKUP(Data!$W173,tabulka_panely_def,Z$1-18,FALSE))","v":0},{"$f":"IF(Data!$W173<MIN(Panely!$A$9:$A$28),VLOOKUP(Data!$W173,tabulka_kce_def,AA$1-20,FALSE),VLOOKUP(Data!$W173,tabulka_panely_def,AA$1-18,FALSE))","v":0},{"$f":"IF(Data!$W173<MIN(Panely!$A$9:$A$28),VLOOKUP(Data!$W173,tabulka_kce_def,AB$1-20,FALSE),VLOOKUP(Data!$W173,tabulka_panely_def,AB$1-18,FALSE))","v":0},{"$f":"IF(Data!$W173<MIN(Panely!$A$9:$A$28),VLOOKUP(Data!$W173,tabulka_kce_def,AC$1-20,FALSE),VLOOKUP(Data!$W173,tabulka_panely_def,AC$1-18,FALSE))","v":0},{"$f":"IF(Data!$W173<MIN(Panely!$A$9:$A$28),VLOOKUP(Data!$W173,tabulka_kce_def,AD$1-20,FALSE),VLOOKUP(Data!$W173,tabulka_panely_def,AD$1-18,FALSE))","v":0},{"$f":"IF(Data!$W173<MIN(Panely!$A$9:$A$28),VLOOKUP(Data!$W173,tabulka_kce_def,AE$1-20,FALSE),VLOOKUP(Data!$W173,tabulka_panely_def,AE$1-18,FALSE))","v":0},{"$f":"IF(Data!$W173<MIN(Panely!$A$9:$A$28),VLOOKUP(Data!$W173,tabulka_kce_def,AF$1-20,FALSE),VLOOKUP(Data!$W173,tabulka_panely_def,AF$1-18,FALSE))","v":0},{"$f":"IF(Data!$W173<MIN(Panely!$A$9:$A$28),VLOOKUP(Data!$W173,tabulka_kce_def,AG$1-20,FALSE),VLOOKUP(Data!$W173,tabulka_panely_def,AG$1-18,FALSE))","v":0},{"$f":"IF(Data!$W173<MIN(Panely!$A$9:$A$28),VLOOKUP(Data!$W173,tabulka_kce_def,AH$1-20,FALSE),VLOOKUP(Data!$W173,tabulka_panely_def,AH$1-18,FALSE))","v":0},{"$f":"IF(Data!$W173<MIN(Panely!$A$9:$A$28),VLOOKUP(Data!$W173,tabulka_kce_def,AI$1-20,FALSE),VLOOKUP(Data!$W173,tabulka_panely_def,AI$1-18,FALSE))","v":0},{"$f":"IF(Data!$W173<MIN(Panely!$A$9:$A$28),VLOOKUP(Data!$W173,tabulka_kce_def,AJ$1-20,FALSE),VLOOKUP(Data!$W173,tabulka_panely_def,AJ$1-18,FALSE))","v":0},{"$f":"IF(Data!$W173<MIN(Panely!$A$9:$A$28),VLOOKUP(Data!$W173,tabulka_kce_def,AK$1-20,FALSE),VLOOKUP(Data!$W173,tabulka_panely_def,AK$1-18,FALSE))","v":0},{"$f":"IF(Data!$W173<MIN(Panely!$A$9:$A$28),VLOOKUP(Data!$W173,tabulka_kce_def,AL$1-20,FALSE),VLOOKUP(Data!$W173,tabulka_panely_def,AL$1-18,FALSE))","v":0},{"$f":"IF(Data!$W173<MIN(Panely!$A$9:$A$28),VLOOKUP(Data!$W173,tabulka_kce_def,AM$1-20,FALSE),VLOOKUP(Data!$W173,tabulka_panely_def,AM$1-18,FALSE))","v":0},173,{"$f":"IF(Data!$W173<MIN(Panely!$A$9:$A$28),VLOOKUP(Data!$W173,tabulka_kce_def,63,FALSE),0)","v":0},{"$f":"IF(Data!$W173<MIN(Panely!$A$9:$A$28),VLOOKUP(Data!$W173,tabulka_kce_def,28,FALSE),1)","v":1},{"$f":"IF(Data!$W173<MIN(Panely!$A$9:$A$28),VLOOKUP(Data!$W173,tabulka_kce_def,23,FALSE),VLOOKUP(Data!$W173,tabulka_panely_def,24,FALSE))","v":0},null,0,null,0,0,{"$error":"#N/A"},0,{"$f":"IF(AND(W173>MAX(Konstrukce!A:A),ISNUMBER(W173)),1,0)","v":0}]
[null,"=",{"$f":"IF(Data!$B174<MIN(Panely!$A$9:$A$28),VLOOKUP(Data!$B174,tabulka_kce_def,4,FALSE),VLOOKUP(Data!$B174,tabulka_panely_def,4,FALSE))","v":0},{"$f":"IF(Data!$B174<MIN(Panely!$A$9:$A$28),VLOOKUP(Data!$B174,tabulka_kce_def,23,FALSE),VLOOKUP(Data!$B174,tabulka_panely_def,24,FALSE))","v":0},{"$f":"IF(Data!$B174<MIN(Panely!$A$9:$A$28),VLOOKUP(Data!$B174,tabulka_kce_def,21,FALSE),VLOOKUP(Data!$B174,tabulka_panely_def,22,FALSE))","v":0},{"$f":"IF(Data!$B174<MIN(Panely!$A$9:$A$28),VLOOKUP(Data!$B174,tabulka_kce_def,26,FALSE),VLOOKUP(Data!$B174,tabulka_panely_def,31,FALSE))","v":{"$error":"#DIV/0!"}},{"$f":"IF(Data!$B174<MIN(Panely!$A$9:$A$28),VLOOKUP(Data!$B174,tabulka_kce_def,27,FALSE),VLOOKUP(Data!$B174,tabulka_panely_def,32,FALSE))","v":{"$error":"#DIV/0!"}},{"$f":"IF(VLOOKUP(Data!$B174,tabulka_kce_def,3,FALSE)=\"\",Konstrukce!$G$1,IF(VLOOKUP(Data!$B174,tabulka_kce_def,3,FALSE)=\"z\",Konstrukce!$G$2,VLOOKUP(Data!$B174,tabulka_kce_def,3,FALSE)))","v":{"$error":"#N/A"}},{"$f":"IF(Data!$B174<MIN(Panely!$A$9:$A$28),0,VLOOKUP(Data!$B174,tabulka_panely_def,25,FALSE))","v":0},{"$f":"IF(Data!$B174<MIN(Panely!$A$9:$A$28),VLOOKUP(Data!$B174,tabulka_kce_def,24,FALSE),VLOOKUP(Data!$B174,tabulka_panely_def,33,FALSE))","v":{"$error":"#N/A"}},{"$f":"Konstrukce!$D$1","v":18.770175404064034},{"$f":"Konstrukce!$D$2","v":19.934229593106764},{"$f":"Konstrukce!$G$1","v":-12},{"$f":"IF(Data!$B174<MIN(Panely!$A$9:$A$28),VLOOKUP(Data!$B174,tabulka_kce_def,59,FALSE),VLOOKUP(Data!$B174,tabulka_panely_def,63,FALSE))","v":""},{"$f":"IF(Data!$B174<MIN(Panely!$A$9:$A$28),VLOOKUP(Data!$B174,tabulka_kce_def,60,FALSE),VLOOKUP(Data!$B174,tabulka_panely_def,64,FALSE))","v":""},{"$f":"IF(Data!$B174<MIN(Panely!$A$9:$A$28),VLOOKUP(Data!$B174,tabulka_kce_def,61,FALSE),VLOOKUP(Data!$B174,tabulka_panely_def,65,FALSE))","v":""},{"$f":"IF(Data!$B174<MIN(Panely!$A$9:$A$28),VLOOKUP(Data!$B174,tabulka_kce_def,25,FALSE),0)","v":0},0,null,null,null,null,"=",{"$f":"IF(Data!$W174<MIN(Panely!$A$9:$A$28),VLOOKUP(Data!$W174,tabulka_kce_def,62,FALSE),VLOOKUP(Data!$W174,tabulka_panely_def,65,FALSE))","v":""},{"$f":"IF(Data!$W174<MIN(Panely!$A$9:$A$28),VLOOKUP(Data!$W174,tabulka_kce_def,Y$1-20,FALSE),VLOOKUP(Data!$W174,tabulka_panely_def,Y$1-18,FALSE))","v":0},{"$f":"IF(Data!$W174<MIN(Panely!$A$9:$A$28),VLOOKUP(Data!$W174,tabulka_kce_def,Z$1-20,FALSE),VLOOKUP(Data!$W174,tabulka_panely_def,Z$1-18,FALSE))","v":0},{"$f":"IF(Data!$W174<MIN(Panely!$A$9:$A$28),VLOOKUP(Data!$W174,tabulka_kce_def,AA$1-20,FALSE),VLOOKUP(Data!$W174,tabulka_panely_def,AA$1-18,FALSE))","v":0},{"$f":"IF(Data!$W174<MIN(Panely!$A$9:$A$28),VLOOKUP(Data!$W174,tabulka_kce_def,AB$1-20,FALSE),VLOOKUP(Data!$W174,tabulka_panely_def,AB$1-18,FALSE))","v":0},{"$f":"IF(Data!$W174<MIN(Panely!$A$9:$A$28),VLOOKUP(Data!$W174,tabulka_kce_def,AC$1-20,FALSE),VLOOKUP(Data!$W174,tabulka_panely_def,AC$1-18,FALSE))","v":0},{"$f":"IF(Data!$W174<MIN(Panely!$A$9:$A$28),VLOOKUP(Data!$W174,tabulka_kce_def,AD$1-20,FALSE),VLOOKUP(Data!$W174,tabulka_panely_def,AD$1-18,FALSE))","v":0},{"$f":"IF(Data!$W174<MIN(Panely!$A$9:$A$28),VLOOKUP(Data!$W174,tabulka_kce_def,AE$1-20,FALSE),VLOOKUP(Data!$W174,tabulka_panely_def,AE$1-18,FALSE))","v":0},{"$f":"IF(Data!$W174<MIN(Panely!$A$9:$A$28),VLOOKUP(Data!$W174,tabulka_kce_def,AF$1-20,FALSE),VLOOKUP(Data!$W174,tabulka_panely_def,AF$1-18,FALSE))","v":0},{"$f":"IF(Data!$W174<MIN(Panely!$A$9:$A$28),VLOOKUP(Data!$W174,tabulka_kce_def,AG$1-20,FALSE),VLOOKUP(Data!$W174,tabulka_panely_def,AG$1-18,FALSE))","v":0},{"$f":"IF(Data!$W174<MIN(Panely!$A$9:$A$28),VLOOKUP(Data!$W174,tabulka_kce_def,AH$1-20,FALSE),VLOOKUP(Data!$W174,tabulka_panely_def,AH$1-18,FALSE))","v":0},{"$f":"IF(Data!$W174<MIN(Panely!$A$9:$A$28),VLOOKUP(Data!$W174,tabulka_kce_def,AI$1-20,FALSE),VLOOKUP(Data!$W174,tabulka_panely_def,AI$1-18,FALSE))","v":0},{"$f":"IF(Data!$W174<MIN(Panely!$A$9:$A$28),VLOOKUP(Data!$W174,tabulka_kce_def,AJ$1-20,FALSE),VLOOKUP(Data!$W174,tabulka_panely_def,AJ$1-18,FALSE))","v":0},{"$f":"IF(Data!$W174<MIN(Panely!$A$9:$A$28),VLOOKUP(Data!$W174,tabulka_kce_def,AK$1-20,FALSE),VLOOKUP(Data!$W174,tabulka_panely_def,AK$1-18,FALSE))","v":0},{"$f":"IF(Data!$W174<MIN(Panely!$A$9:$A$28),VLOOKUP(Data!$W174,tabulka_kce_def,AL$1-20,FALSE),VLOOKUP(Data!$W174,tabulka_panely_def,AL$1-18,FALSE))","v":0},{"$f":"IF(Data!$W174<MIN(Panely!$A$9:$A$28),VLOOKUP(Data!$W174,tabulka_kce_def,AM$1-20,FALSE),VLOOKUP(Data!$W174,tabulka_panely_def,AM$1-18,FALSE))","v":0},174,{"$f":"IF(Data!$W174<MIN(Panely!$A$9:$A$28),VLOOKUP(Data!$W174,tabulka_kce_def,63,FALSE),0)","v":0},{"$f":"IF(Data!$W174<MIN(Panely!$A$9:$A$28),VLOOKUP(Data!$W174,tabulka_kce_def,28,FALSE),1)","v":1},{"$f":"IF(Data!$W174<MIN(Panely!$A$9:$A$28),VLOOKUP(Data!$W174,tabulka_kce_def,23,FALSE),VLOOKUP(Data!$W174,tabulka_panely_def,24,FALSE))","v":0},null,0,null,0,0,{"$error":"#N/A"},0,{"$f":"IF(AND(W174>MAX(Konstrukce!A:A),ISNUMBER(W174)),1,0)","v":0}]
[null,"=",{"$f":"IF(Data!$B175<MIN(Panely!$A$9:$A$28),VLOOKUP(Data!$B175,tabulka_kce_def,4,FALSE),VLOOKUP(Data!$B175,tabulka_panely_def,4,FALSE))","v":0},{"$f":"IF(Data!$B175<MIN(Panely!$A$9:$A$28),VLOOKUP(Data!$B175,tabulka_kce_def,23,FALSE),VLOOKUP(Data!$B175,tabulka_panely_def,24,FALSE))","v":0},{"$f":"IF(Data!$B175<MIN(Panely!$A$9:$A$28),VLOOKUP(Data!$B175,tabulka_kce_def,21,FALSE),VLOOKUP(Data!$B175,tabulka_panely_def,22,FALSE))","v":0},{"$f":"IF(Data!$B175<MIN(Panely!$A$9:$A$28),VLOOKUP(Data!$B175,tabulka_kce_def,26,FALSE),VLOOKUP(Data!$B175,tabulka_panely_def,31,FALSE))","v":{"$error":"#DIV/0!"}},{"$f":"IF(Data!$B175<MIN(Panely!$A$9:$A$28),VLOOKUP(Data!$B175,tabulka_kce_def,27,FALSE),VLOOKUP(Data!$B175,tabulka_panely_def,32,FALSE))","v":{"$error":"#DIV/0!"}},{"$f":"IF(VLOOKUP(Data!$B175,tabulka_kce_def,3,FALSE)=\"\",Konstrukce!$G$1,IF(VLOOKUP(Data!$B175,tabulka_kce_def,3,FALSE)=\"z\",Konstrukce!$G$2,VLOOKUP(Data!$B175,tabulka_kce_def,3,FALSE)))","v":{"$error":"#N/A"}},{"$f":"IF(Data!$B175<MIN(Panely!$A$9:$A$28),0,VLOOKUP(Data!$B175,tabulka_panely_def,25,FALSE))","v":0},{"$f":"IF(Data!$B175<MIN(Panely!$A$9:$A$28),VLOOKUP(Data!$B175,tabulka_kce_def,24,FALSE),VLOOKUP(Data!$B175,tabulka_panely_def,33,FALSE))","v":{"$error":"#N/A"}},{"$f":"Konstrukce!$D$1","v":18.770175404064034},{"$f":"Konstrukce!$D$2","v":19.934229593106764},{"$f":"Konstrukce!$G$1","v":-12},{"$f":"IF(Data!$B175<MIN(Panely!$A$9:$A$28),VLOOKUP(Data!$B175,tabulka_kce_def,59,FALSE),VLOOKUP(Data!$B175,tabulka_panely_def,63,FALSE))","v":""},{"$f":"IF(Data!$B175<MIN(Panely!$A$9:$A$28),VLOOKUP(Data!$B175,tabulka_kce_def,60,FALSE),VLOOKUP(Data!$B175,tabulka_panely_def,64,FALSE))","v":""},{"$f":"IF(Data!$B175<MIN(Panely!$A$9:$A$28),VLOOKUP(Data!$B175,tabulka_kce_def,61,FALSE),VLOOKUP(Data!$B175,tabulka_panely_def,65,FALSE))","v":""},{"$f":"IF(Data!$B175<MIN(Panely!$A$9:$A$28),VLOOKUP(Data!$B175,tabulka_kce_def,25,FALSE),0)","v":0},0,null,null,null,null,"=",{"$f":"IF(Data!$W175<MIN(Panely!$A$9:$A$28),VLOOKUP(Data!$W175,tabulka_kce_def,62,FALSE),VLOOKUP(Data!$W175,tabulka_panely_def,65,FALSE))","v":""},{"$f":"IF(Data!$W175<MIN(Panely!$A$9:$A$28),VLOOKUP(Data!$W175,tabulka_kce_def,Y$1-20,FALSE),VLOOKUP(Data!$W175,tabulka_panely_def,Y$1-18,FALSE))","v":0},{"$f":"IF(Data!$W175<MIN(Panely!$A$9:$A$28),VLOOKUP(Data!$W175,tabulka_kce_def,Z$1-20,FALSE),VLOOKUP(Data!$W175,tabulka_panely_def,Z$1-18,FALSE))","v":0},{"$f":"IF(Data!$W175<MIN(Panely!$A$9:$A$28),VLOOKUP(Data!$W175,tabulka_kce_def,AA$1-20,FALSE),VLOOKUP(Data!$W175,tabulka_panely_def,AA$1-18,FALSE))","v":0},{"$f":"IF(Data!$W175<MIN(Panely!$A$9:$A$28),VLOOKUP(Data!$W175,tabulka_kce_def,AB$1-20,FALSE),VLOOKUP(Data!$W175,tabulka_panely_def,AB$1-18,FALSE))","v":0},{"$f":"IF(Data!$W175<MIN(Panely!$A$9:$A$28),VLOOKUP(Data!$W175,tabulka_kce_def,AC$1-20,FALSE),VLOOKUP(Data!$W175,tabulka_panely_def,AC$1-18,FALSE))","v":0},{"$f":"IF(Data!$W175<MIN(Panely!$A$9:$A$28),VLOOKUP(Data!$W175,tabulka_kce_def,AD$1-20,FALSE),VLOOKUP(Data!$W175,tabulka_panely_def,AD$1-18,FALSE))","v":0},{"$f":"IF(Data!$W175<MIN(Panely!$A$9:$A$28),VLOOKUP(Data!$W175,tabulka_kce_def,AE$1-20,FALSE),VLOOKUP(Data!$W175,tabulka_panely_def,AE$1-18,FALSE))","v":0},{"$f":"IF(Data!$W175<MIN(Panely!$A$9:$A$28),VLOOKUP(Data!$W175,tabulka_kce_def,AF$1-20,FALSE),VLOOKUP(Data!$W175,tabulka_panely_def,AF$1-18,FALSE))","v":0},{"$f":"IF(Data!$W175<MIN(Panely!$A$9:$A$28),VLOOKUP(Data!$W175,tabulka_kce_def,AG$1-20,FALSE),VLOOKUP(Data!$W175,tabulka_panely_def,AG$1-18,FALSE))","v":0},{"$f":"IF(Data!$W175<MIN(Panely!$A$9:$A$28),VLOOKUP(Data!$W175,tabulka_kce_def,AH$1-20,FALSE),VLOOKUP(Data!$W175,tabulka_panely_def,AH$1-18,FALSE))","v":0},{"$f":"IF(Data!$W175<MIN(Panely!$A$9:$A$28),VLOOKUP(Data!$W175,tabulka_kce_def,AI$1-20,FALSE),VLOOKUP(Data!$W175,tabulka_panely_def,AI$1-18,FALSE))","v":0},{"$f":"IF(Data!$W175<MIN(Panely!$A$9:$A$28),VLOOKUP(Data!$W175,tabulka_kce_def,AJ$1-20,FALSE),VLOOKUP(Data!$W175,tabulka_panely_def,AJ$1-18,FALSE))","v":0},{"$f":"IF(Data!$W175<MIN(Panely!$A$9:$A$28),VLOOKUP(Data!$W175,tabulka_kce_def,AK$1-20,FALSE),VLOOKUP(Data!$W175,tabulka_panely_def,AK$1-18,FALSE))","v":0},{"$f":"IF(Data!$W175<MIN(Panely!$A$9:$A$28),VLOOKUP(Data!$W175,tabulka_kce_def,AL$1-20,FALSE),VLOOKUP(Data!$W175,tabulka_panely_def,AL$1-18,FALSE))","v":0},{"$f":"IF(Data!$W175<MIN(Panely!$A$9:$A$28),VLOOKUP(Data!$W175,tabulka_kce_def,AM$1-20,FALSE),VLOOKUP(Data!$W175,tabulka_panely_def,AM$1-18,FALSE))","v":0},175,{"$f":"IF(Data!$W175<MIN(Panely!$A$9:$A$28),VLOOKUP(Data!$W175,tabulka_kce_def,63,FALSE),0)","v":0},{"$f":"IF(Data!$W175<MIN(Panely!$A$9:$A$28),VLOOKUP(Data!$W175,tabulka_kce_def,28,FALSE),1)","v":1},{"$f":"IF(Data!$W175<MIN(Panely!$A$9:$A$28),VLOOKUP(Data!$W175,tabulka_kce_def,23,FALSE),VLOOKUP(Data!$W175,tabulka_panely_def,24,FALSE))","v":0},null,0,null,0,0,{"$error":"#N/A"},0,{"$f":"IF(AND(W175>MAX(Konstrukce!A:A),ISNUMBER(W175)),1,0)","v":0}]
[null,"=",{"$f":"IF(Data!$B176<MIN(Panely!$A$9:$A$28),VLOOKUP(Data!$B176,tabulka_kce_def,4,FALSE),VLOOKUP(Data!$B176,tabulka_panely_def,4,FALSE))","v":0},{"$f":"IF(Data!$B176<MIN(Panely!$A$9:$A$28),VLOOKUP(Data!$B176,tabulka_kce_def,23,FALSE),VLOOKUP(Data!$B176,tabulka_panely_def,24,FALSE))","v":0},{"$f":"IF(Data!$B176<MIN(Panely!$A$9:$A$28),VLOOKUP(Data!$B176,tabulka_kce_def,21,FALSE),VLOOKUP(Data!$B176,tabulka_panely_def,22,FALSE))","v":0},{"$f":"IF(Data!$B176<MIN(Panely!$A$9:$A$28),VLOOKUP(Data!$B176,tabulka_kce_def,26,FALSE),VLOOKUP(Data!$B176,tabulka_panely_def,31,FALSE))","v":{"$error":"#DIV/0!"}},{"$f":"IF(Data!$B176<MIN(Panely!$A$9:$A$28),VLOOKUP(Data!$B176,tabulka_kce_def,27,FALSE),VLOOKUP(Data!$B176,tabulka_panely_def,32,FALSE))","v":{"$error":"#DIV/0!"}},{"$f":"IF(VLOOKUP(Data!$B176,tabulka_kce_def,3,FALSE)=\"\",Konstrukce!$G$1,IF(VLOOKUP(Data!$B176,tabulka_kce_def,3,FALSE)=\"z\",Konstrukce!$G$2,VLOOKUP(Data!$B176,tabulka_kce_def,3,FALSE)))","v":{"$error":"#N/A"}},{"$f":"IF(Data!$B176<MIN(Panely!$A$9:$A$28),0,VLOOKUP(Data!$B176,tabulka_panely_def,25,FALSE))","v":0},{"$f":"IF(Data!$B176<MIN(Panely!$A$9:$A$28),VLOOKUP(Data!$B176,tabulka_kce_def,24,FALSE),VLOOKUP(Data!$B176,tabulka_panely_def,33,FALSE))","v":{"$error":"#N/A"}},{"$f":"Konstrukce!$D$1","v":18.770175404064034},{"$f":"Konstrukce!$D$2","v":19.934229593106764},{"$f":"Konstrukce!$G$1","v":-12},{"$f":"IF(Data!$B176<MIN(Panely!$A$9:$A$28),VLOOKUP(Data!$B176,tabulka_kce_def,59,FALSE),VLOOKUP(Data!$B176,tabulka_panely_def,63,FALSE))","v":""},{"$f":"IF(Data!$B176<MIN(Panely!$A$9:$A$28),VLOOKUP(Data!$B176,tabulka_kce_def,60,FALSE),VLOOKUP(Data!$B176,tabulka_panely_def,64,FALSE))","v":""},{"$f":"IF(Data!$B176<MIN(Panely!$A$9:$A$28),VLOOKUP(Data!$B176,tabulka_kce_def,61,FALSE),VLOOKUP(Data!$B176,tabulka_panely_def,65,FALSE))","v":""},{"$f":"IF(Data!$B176<MIN(Panely!$A$9:$A$28),VLOOKUP(Data!$B176,tabulka_kce_def,25,FALSE),0)","v":0},0,null,null,null,null,"=",{"$f":"IF(Data!$W176<MIN(Panely!$A$9:$A$28),VLOOKUP(Data!$W176,tabulka_kce_def,62,FALSE),VLOOKUP(Data!$W176,tabulka_panely_def,65,FALSE))","v":""},{"$f":"IF(Data!$W176<MIN(Panely!$A$9:$A$28),VLOOKUP(Data!$W176,tabulka_kce_def,Y$1-20,FALSE),VLOOKUP(Data!$W176,tabulka_panely_def,Y$1-18,FALSE))","v":0},{"$f":"IF(Data!$W176<MIN(Panely!$A$9:$A$28),VLOOKUP(Data!$W176,tabulka_kce_def,Z$1-20,FALSE),VLOOKUP(Data!$W176,tabulka_panely_def,Z$1-18,FALSE))","v":0},{"$f":"IF(Data!$W176<MIN(Panely!$A$9:$A$28),VLOOKUP(Data!$W176,tabulka_kce_def,AA$1-20,FALSE),VLOOKUP(Data!$W176,tabulka_panely_def,AA$1-18,FALSE))","v":0},{"$f":"IF(Data!$W176<MIN(Panely!$A$9:$A$28),VLOOKUP(Data!$W176,tabulka_kce_def,AB$1-20,FALSE),VLOOKUP(Data!$W176,tabulka_panely_def,AB$1-18,FALSE))","v":0},{"$f":"IF(Data!$W176<MIN(Panely!$A$9:$A$28),VLOOKUP(Data!$W176,tabulka_kce_def,AC$1-20,FALSE),VLOOKUP(Data!$W176,tabulka_panely_def,AC$1-18,FALSE))","v":0},{"$f":"IF(Data!$W176<MIN(Panely!$A$9:$A$28),VLOOKUP(Data!$W176,tabulka_kce_def,AD$1-20,FALSE),VLOOKUP(Data!$W176,tabulka_panely_def,AD$1-18,FALSE))","v":0},{"$f":"IF(Data!$W176<MIN(Panely!$A$9:$A$28),VLOOKUP(Data!$W176,tabulka_kce_def,AE$1-20,FALSE),VLOOKUP(Data!$W176,tabulka_panely_def,AE$1-18,FALSE))","v":0},{"$f":"IF(Data!$W176<MIN(Panely!$A$9:$A$28),VLOOKUP(Data!$W176,tabulka_kce_def,AF$1-20,FALSE),VLOOKUP(Data!$W176,tabulka_panely_def,AF$1-18,FALSE))","v":0},{"$f":"IF(Data!$W176<MIN(Panely!$A$9:$A$28),VLOOKUP(Data!$W176,tabulka_kce_def,AG$1-20,FALSE),VLOOKUP(Data!$W176,tabulka_panely_def,AG$1-18,FALSE))","v":0},{"$f":"IF(Data!$W176<MIN(Panely!$A$9:$A$28),VLOOKUP(Data!$W176,tabulka_kce_def,AH$1-20,FALSE),VLOOKUP(Data!$W176,tabulka_panely_def,AH$1-18,FALSE))","v":0},{"$f":"IF(Data!$W176<MIN(Panely!$A$9:$A$28),VLOOKUP(Data!$W176,tabulka_kce_def,AI$1-20,FALSE),VLOOKUP(Data!$W176,tabulka_panely_def,AI$1-18,FALSE))","v":0},{"$f":"IF(Data!$W176<MIN(Panely!$A$9:$A$28),VLOOKUP(Data!$W176,tabulka_kce_def,AJ$1-20,FALSE),VLOOKUP(Data!$W176,tabulka_panely_def,AJ$1-18,FALSE))","v":0},{"$f":"IF(Data!$W176<MIN(Panely!$A$9:$A$28),VLOOKUP(Data!$W176,tabulka_kce_def,AK$1-20,FALSE),VLOOKUP(Data!$W176,tabulka_panely_def,AK$1-18,FALSE))","v":0},{"$f":"IF(Data!$W176<MIN(Panely!$A$9:$A$28),VLOOKUP(Data!$W176,tabulka_kce_def,AL$1-20,FALSE),VLOOKUP(Data!$W176,tabulka_panely_def,AL$1-18,FALSE))","v":0},{"$f":"IF(Data!$W176<MIN(Panely!$A$9:$A$28),VLOOKUP(Data!$W176,tabulka_kce_def,AM$1-20,FALSE),VLOOKUP(Data!$W176,tabulka_panely_def,AM$1-18,FALSE))","v":0},176,{"$f":"IF(Data!$W176<MIN(Panely!$A$9:$A$28),VLOOKUP(Data!$W176,tabulka_kce_def,63,FALSE),0)","v":0},{"$f":"IF(Data!$W176<MIN(Panely!$A$9:$A$28),VLOOKUP(Data!$W176,tabulka_kce_def,28,FALSE),1)","v":1},{"$f":"IF(Data!$W176<MIN(Panely!$A$9:$A$28),VLOOKUP(Data!$W176,tabulka_kce_def,23,FALSE),VLOOKUP(Data!$W176,tabulka_panely_def,24,FALSE))","v":0},null,0,null,{"$f":"IF(ISERROR(MID(VLOOKUP($W176,tabulka_kce_def,2,FALSE),1,3)=\"ooz\"),0,IF(MID(VLOOKUP($W176,tabulka_kce_def,2,FALSE),1,3)=\"ooz\",1,0))","v":0},{"$f":"IF(ISERROR(MID(VLOOKUP($W176,tabulka_kce_def,60,FALSE),1,1)=\"f\"),0,IF(MID(VLOOKUP($W176,tabulka_kce_def,60,FALSE),1,1)=\"f\",1,0))","v":0},{"$f":"VALUE(VLOOKUP($W176,tabulka_kce_def,61,FALSE))","v":{"$error":"#N/A"}},{"$f":"IF(AV176=1,IF(MID(VLOOKUP(AW176,tabulka_kce_def,2,FALSE),1,3)=\"ooz\",1,0),0)","v":0},{"$f":"IF(AND(W176>MAX(Konstrukce!A:A),ISNUMBER(W176)),1,0)","v":0}]
[null,"=",{"$f":"IF(Data!$B177<MIN(Panely!$A$9:$A$28),VLOOKUP(Data!$B177,tabulka_kce_def,4,FALSE),VLOOKUP(Data!$B177,tabulka_panely_def,4,FALSE))","v":0},{"$f":"IF(Data!$B177<MIN(Panely!$A$9:$A$28),VLOOKUP(Data!$B177,tabulka_kce_def,23,FALSE),VLOOKUP(Data!$B177,tabulka_panely_def,24,FALSE))","v":0},{"$f":"IF(Data!$B177<MIN(Panely!$A$9:$A$28),VLOOKUP(Data!$B177,tabulka_kce_def,21,FALSE),VLOOKUP(Data!$B177,tabulka_panely_def,22,FALSE))","v":0},{"$f":"IF(Data!$B177<MIN(Panely!$A$9:$A$28),VLOOKUP(Data!$B177,tabulka_kce_def,26,FALSE),VLOOKUP(Data!$B177,tabulka_panely_def,31,FALSE))","v":{"$error":"#DIV/0!"}},{"$f":"IF(Data!$B177<MIN(Panely!$A$9:$A$28),VLOOKUP(Data!$B177,tabulka_kce_def,27,FALSE),VLOOKUP(Data!$B177,tabulka_panely_def,32,FALSE))","v":{"$error":"#DIV/0!"}},{"$f":"IF(VLOOKUP(Data!$B177,tabulka_kce_def,3,FALSE)=\"\",Konstrukce!$G$1,IF(VLOOKUP(Data!$B177,tabulka_kce_def,3,FALSE)=\"z\",Konstrukce!$G$2,VLOOKUP(Data!$B177,tabulka_kce_def,3,FALSE)))","v":{"$error":"#N/A"}},{"$f":"IF(Data!$B177<MIN(Panely!$A$9:$A$28),0,VLOOKUP(Data!$B177,tabulka_panely_def,25,FALSE))","v":0},{"$f":"IF(Data!$B177<MIN(Panely!$A$9:$A$28),VLOOKUP(Data!$B177,tabulka_kce_def,24,FALSE),VLOOKUP(Data!$B177,tabulka_panely_def,33,FALSE))","v":{"$error":"#N/A"}},{"$f":"Konstrukce!$D$1","v":18.770175404064034},{"$f":"Konstrukce!$D$2","v":19.934229593106764},{"$f":"Konstrukce!$G$1","v":-12},{"$f":"IF(Data!$B177<MIN(Panely!$A$9:$A$28),VLOOKUP(Data!$B177,tabulka_kce_def,59,FALSE),VLOOKUP(Data!$B177,tabulka_panely_def,63,FALSE))","v":""},{"$f":"IF(Data!$B177<MIN(Panely!$A$9:$A$28),VLOOKUP(Data!$B177,tabulka_kce_def,60,FALSE),VLOOKUP(Data!$B177,tabulka_panely_def,64,FALSE))","v":""},{"$f":"IF(Data!$B177<MIN(Panely!$A$9:$A$28),VLOOKUP(Data!$B177,tabulka_kce_def,61,FALSE),VLOOKUP(Data!$B177,tabulka_panely_def,65,FALSE))","v":""},{"$f":"IF(Data!$B177<MIN(Panely!$A$9:$A$28),VLOOKUP(Data!$B177,tabulka_kce_def,25,FALSE),0)","v":0},0,null,null,null,null,"=",{"$f":"IF(Data!$W177<MIN(Panely!$A$9:$A$28),VLOOKUP(Data!$W177,tabulka_kce_def,62,FALSE),VLOOKUP(Data!$W177,tabulka_panely_def,65,FALSE))","v":""},{"$f":"IF(Data!$W177<MIN(Panely!$A$9:$A$28),VLOOKUP(Data!$W177,tabulka_kce_def,Y$1-20,FALSE),VLOOKUP(Data!$W177,tabulka_panely_def,Y$1-18,FALSE))","v":0},{"$f":"IF(Data!$W177<MIN(Panely!$A$9:$A$28),VLOOKUP(Data!$W177,tabulka_kce_def,Z$1-20,FALSE),VLOOKUP(Data!$W177,tabulka_panely_def,Z$1-18,FALSE))","v":0},{"$f":"IF(Data!$W177<MIN(Panely!$A$9:$A$28),VLOOKUP(Data!$W177,tabulka_kce_def,AA$1-20,FALSE),VLOOKUP(Data!$W177,tabulka_panely_def,AA$1-18,FALSE))","v":0},{"$f":"IF(Data!$W177<MIN(Panely!$A$9:$A$28),VLOOKUP(Data!$W177,tabulka_kce_def,AB$1-20,FALSE),VLOOKUP(Data!$W177,tabulka_panely_def,AB$1-18,FALSE))","v":0},{"$f":"IF(Data!$W177<MIN(Panely!$A$9:$A$28),VLOOKUP(Data!$W177,tabulka_kce_def,AC$1-20,FALSE),VLOOKUP(Data!$W177,tabulka_panely_def,AC$1-18,FALSE))","v":0},{"$f":"IF(Data!$W177<MIN(Panely!$A$9:$A$28),VLOOKUP(Data!$W177,tabulka_kce_def,AD$1-20,FALSE),VLOOKUP(Data!$W177,tabulka_panely_def,AD$1-18,FALSE))","v":0},{"$f":"IF(Data!$W177<MIN(Panely!$A$9:$A$28),VLOOKUP(Data!$W177,tabulka_kce_def,AE$1-20,FALSE),VLOOKUP(Data!$W177,tabulka_panely_def,AE$1-18,FALSE))","v":0},{"$f":"IF(Data!$W177<MIN(Panely!$A$9:$A$28),VLOOKUP(Data!$W177,tabulka_kce_def,AF$1-20,FALSE),VLOOKUP(Data!$W177,tabulka_panely_def,AF$1-18,FALSE))","v":0},{"$f":"IF(Data!$W177<MIN(Panely!$A$9:$A$28),VLOOKUP(Data!$W177,tabulka_kce_def,AG$1-20,FALSE),VLOOKUP(Data!$W177,tabulka_panely_def,AG$1-18,FALSE))","v":0},{"$f":"IF(Data!$W177<MIN(Panely!$A$9:$A$28),VLOOKUP(Data!$W177,tabulka_kce_def,AH$1-20,FALSE),VLOOKUP(Data!$W177,tabulka_panely_def,AH$1-18,FALSE))","v":0},{"$f":"IF(Data!$W177<MIN(Panely!$A$9:$A$28),VLOOKUP(Data!$W177,tabulka_kce_def,AI$1-20,FALSE),VLOOKUP(Data!$W177,tabulka_panely_def,AI$1-18,FALSE))","v":0},{"$f":"IF(Data!$W177<MIN(Panely!$A$9:$A$28),VLOOKUP(Data!$W177,tabulka_kce_def,AJ$1-20,FALSE),VLOOKUP(Data!$W177,tabulka_panely_def,AJ$1-18,FALSE))","v":0},{"$f":"IF(Data!$W177<MIN(Panely!$A$9:$A$28),VLOOKUP(Data!$W177,tabulka_kce_def,AK$1-20,FALSE),VLOOKUP(Data!$W177,tabulka_panely_def,AK$1-18,FALSE))","v":0},{"$f":"IF(Data!$W177<MIN(Panely!$A$9:$A$28),VLOOKUP(Data!$W177,tabulka_kce_def,AL$1-20,FALSE),VLOOKUP(Data!$W177,tabulka_panely_def,AL$1-18,FALSE))","v":0},{"$f":"IF(Data!$W177<MIN(Panely!$A$9:$A$28),VLOOKUP(Data!$W177,tabulka_kce_def,AM$1-20,FALSE),VLOOKUP(Data!$W177,tabulka_panely_def,AM$1-18,FALSE))","v":0},177,{"$f":"IF(Data!$W177<MIN(Panely!$A$9:$A$28),VLOOKUP(Data!$W177,tabulka_kce_def,63,FALSE),0)","v":0},{"$f":"IF(Data!$W177<MIN(Panely!$A$9:$A$28),VLOOKUP(Data!$W177,tabulka_kce_def,28,FALSE),1)","v":1},{"$f":"IF(Data!$W177<MIN(Panely!$A$9:$A$28),VLOOKUP(Data!$W177,tabulka_kce_def,23,FALSE),VLOOKUP(Data!$W177,tabulka_panely_def,24,FALSE))","v":0},null,0,null,0,0,{"$error":"#N/A"},0,{"$f":"IF(AND(W177>MAX(Konstrukce!A:A),ISNUMBER(W177)),1,0)","v":0}]
[null,"=",{"$f":"IF(Data!$B178<MIN(Panely!$A$9:$A$28),VLOOKUP(Data!$B178,tabulka_kce_def,4,FALSE),VLOOKUP(Data!$B178,tabulka_panely_def,4,FALSE))","v":0},{"$f":"IF(Data!$B178<MIN(Panely!$A$9:$A$28),VLOOKUP(Data!$B178,tabulka_kce_def,23,FALSE),VLOOKUP(Data!$B178,tabulka_panely_def,24,FALSE))","v":0},{"$f":"IF(Data!$B178<MIN(Panely!$A$9:$A$28),VLOOKUP(Data!$B178,tabulka_kce_def,21,FALSE),VLOOKUP(Data!$B178,tabulka_panely_def,22,FALSE))","v":0},{"$f":"IF(Data!$B178<MIN(Panely!$A$9:$A$28),VLOOKUP(Data!$B178,tabulka_kce_def,26,FALSE),VLOOKUP(Data!$B178,tabulka_panely_def,31,FALSE))","v":{"$error":"#DIV/0!"}},{"$f":"IF(Data!$B178<MIN(Panely!$A$9:$A$28),VLOOKUP(Data!$B178,tabulka_kce_def,27,FALSE),VLOOKUP(Data!$B178,tabulka_panely_def,32,FALSE))","v":{"$error":"#DIV/0!"}},{"$f":"IF(VLOOKUP(Data!$B178,tabulka_kce_def,3,FALSE)=\"\",Konstrukce!$G$1,IF(VLOOKUP(Data!$B178,tabulka_kce_def,3,FALSE)=\"z\",Konstrukce!$G$2,VLOOKUP(Data!$B178,tabulka_kce_def,3,FALSE)))","v":{"$error":"#N/A"}},{"$f":"IF(Data!$B178<MIN(Panely!$A$9:$A$28),0,VLOOKUP(Data!$B178,tabulka_panely_def,25,FALSE))","v":0},{"$f":"IF(Data!$B178<MIN(Panely!$A$9:$A$28),VLOOKUP(Data!$B178,tabulka_kce_def,24,FALSE),VLOOKUP(Data!$B178,tabulka_panely_def,33,FALSE))","v":{"$error":"#N/A"}},{"$f":"Konstrukce!$D$1","v":18.770175404064034},{"$f":"Konstrukce!$D$2","v":19.934229593106764},{"$f":"Konstrukce!$G$1","v":-12},{"$f":"IF(Data!$B178<MIN(Panely!$A$9:$A$28),VLOOKUP(Data!$B178,tabulka_kce_def,59,FALSE),VLOOKUP(Data!$B178,tabulka_panely_def,63,FALSE))","v":""},{"$f":"IF(Data!$B178<MIN(Panely!$A$9:$A$28),VLOOKUP(Data!$B178,tabulka_kce_def,60,FALSE),VLOOKUP(Data!$B178,tabulka_panely_def,64,FALSE))","v":""},{"$f":"IF(Data!$B178<MIN(Panely!$A$9:$A$28),VLOOKUP(Data!$B178,tabulka_kce_def,61,FALSE),VLOOKUP(Data!$B178,tabulka_panely_def,65,FALSE))","v":""},{"$f":"IF(Data!$B178<MIN(Panely!$A$9:$A$28),VLOOKUP(Data!$B178,tabulka_kce_def,25,FALSE),0)","v":0},0,null,null,null,null,"=",{"$f":"IF(Data!$W178<MIN(Panely!$A$9:$A$28),VLOOKUP(Data!$W178,tabulka_kce_def,62,FALSE),VLOOKUP(Data!$W178,tabulka_panely_def,65,FALSE))","v":""},{"$f":"IF(Data!$W178<MIN(Panely!$A$9:$A$28),VLOOKUP(Data!$W178,tabulka_kce_def,Y$1-20,FALSE),VLOOKUP(Data!$W178,tabulka_panely_def,Y$1-18,FALSE))","v":0},{"$f":"IF(Data!$W178<MIN(Panely!$A$9:$A$28),VLOOKUP(Data!$W178,tabulka_kce_def,Z$1-20,FALSE),VLOOKUP(Data!$W178,tabulka_panely_def,Z$1-18,FALSE))","v":0},{"$f":"IF(Data!$W178<MIN(Panely!$A$9:$A$28),VLOOKUP(Data!$W178,tabulka_kce_def,AA$1-20,FALSE),VLOOKUP(Data!$W178,tabulka_panely_def,AA$1-18,FALSE))","v":0},{"$f":"IF(Data!$W178<MIN(Panely!$A$9:$A$28),VLOOKUP(Data!$W178,tabulka_kce_def,AB$1-20,FALSE),VLOOKUP(Data!$W178,tabulka_panely_def,AB$1-18,FALSE))","v":0},{"$f":"IF(Data!$W178<MIN(Panely!$A$9:$A$28),VLOOKUP(Data!$W178,tabulka_kce_def,AC$1-20,FALSE),VLOOKUP(Data!$W178,tabulka_panely_def,AC$1-18,FALSE))","v":0},{"$f":"IF(Data!$W178<MIN(Panely!$A$9:$A$28),VLOOKUP(Data!$W178,tabulka_kce_def,AD$1-20,FALSE),VLOOKUP(Data!$W178,tabulka_panely_def,AD$1-18,FALSE))","v":0},{"$f":"IF(Data!$W178<MIN(Panely!$A$9:$A$28),VLOOKUP(Data!$W178,tabulka_kce_def,AE$1-20,FALSE),VLOOKUP(Data!$W178,tabulka_panely_def,AE$1-18,FALSE))","v":0},{"$f":"IF(Data!$W178<MIN(Panely!$A$9:$A$28),VLOOKUP(Data!$W178,tabulka_kce_def,AF$1-20,FALSE),VLOOKUP(Data!$W178,tabulka_panely_def,AF$1-18,FALSE))","v":0},{"$f":"IF(Data!$W178<MIN(Panely!$A$9:$A$28),VLOOKUP(Data!$W178,tabulka_kce_def,AG$1-20,FALSE),VLOOKUP(Data!$W178,tabulka_panely_def,AG$1-18,FALSE))","v":0},{"$f":"IF(Data!$W178<MIN(Panely!$A$9:$A$28),VLOOKUP(Data!$W178,tabulka_kce_def,AH$1-20,FALSE),VLOOKUP(Data!$W178,tabulka_panely_def,AH$1-18,FALSE))","v":0},{"$f":"IF(Data!$W178<MIN(Panely!$A$9:$A$28),VLOOKUP(Data!$W178,tabulka_kce_def,AI$1-20,FALSE),VLOOKUP(Data!$W178,tabulka_panely_def,AI$1-18,FALSE))","v":0},{"$f":"IF(Data!$W178<MIN(Panely!$A$9:$A$28),VLOOKUP(Data!$W178,tabulka_kce_def,AJ$1-20,FALSE),VLOOKUP(Data!$W178,tabulka_panely_def,AJ$1-18,FALSE))","v":0},{"$f":"IF(Data!$W178<MIN(Panely!$A$9:$A$28),VLOOKUP(Data!$W178,tabulka_kce_def,AK$1-20,FALSE),VLOOKUP(Data!$W178,tabulka_panely_def,AK$1-18,FALSE))","v":0},{"$f":"IF(Data!$W178<MIN(Panely!$A$9:$A$28),VLOOKUP(Data!$W178,tabulka_kce_def,AL$1-20,FALSE),VLOOKUP(Data!$W178,tabulka_panely_def,AL$1-18,FALSE))","v":0},{"$f":"IF(Data!$W178<MIN(Panely!$A$9:$A$28),VLOOKUP(Data!$W178,tabulka_kce_def,AM$1-20,FALSE),VLOOKUP(Data!$W178,tabulka_panely_def,AM$1-18,FALSE))","v":0},178,{"$f":"IF(Data!$W178<MIN(Panely!$A$9:$A$28),VLOOKUP(Data!$W178,tabulka_kce_def,63,FALSE),0)","v":0},{"$f":"IF(Data!$W178<MIN(Panely!$A$9:$A$28),VLOOKUP(Data!$W178,tabulka_kce_def,28,FALSE),1)","v":1},{"$f":"IF(Data!$W178<MIN(Panely!$A$9:$A$28),VLOOKUP(Data!$W178,tabulka_kce_def,23,FALSE),VLOOKUP(Data!$W178,tabulka_panely_def,24,FALSE))","v":0},null,0,null,0,0,{"$error":"#N/A"},0,{"$f":"IF(AND(W178>MAX(Konstrukce!A:A),ISNUMBER(W178)),1,0)","v":0}]
[null,"=",{"$f":"IF(Data!$B179<MIN(Panely!$A$9:$A$28),VLOOKUP(Data!$B179,tabulka_kce_def,4,FALSE),VLOOKUP(Data!$B179,tabulka_panely_def,4,FALSE))","v":0},{"$f":"IF(Data!$B179<MIN(Panely!$A$9:$A$28),VLOOKUP(Data!$B179,tabulka_kce_def,23,FALSE),VLOOKUP(Data!$B179,tabulka_panely_def,24,FALSE))","v":0},{"$f":"IF(Data!$B179<MIN(Panely!$A$9:$A$28),VLOOKUP(Data!$B179,tabulka_kce_def,21,FALSE),VLOOKUP(Data!$B179,tabulka_panely_def,22,FALSE))","v":0},{"$f":"IF(Data!$B179<MIN(Panely!$A$9:$A$28),VLOOKUP(Data!$B179,tabulka_kce_def,26,FALSE),VLOOKUP(Data!$B179,tabulka_panely_def,31,FALSE))","v":{"$error":"#DIV/0!"}},{"$f":"IF(Data!$B179<MIN(Panely!$A$9:$A$28),VLOOKUP(Data!$B179,tabulka_kce_def,27,FALSE),VLOOKUP(Data!$B179,tabulka_panely_def,32,FALSE))","v":{"$error":"#DIV/0!"}},{"$f":"IF(VLOOKUP(Data!$B179,tabulka_kce_def,3,FALSE)=\"\",Konstrukce!$G$1,IF(VLOOKUP(Data!$B179,tabulka_kce_def,3,FALSE)=\"z\",Konstrukce!$G$2,VLOOKUP(Data!$B179,tabulka_kce_def,3,FALSE)))","v":{"$error":"#N/A"}},{"$f":"IF(Data!$B179<MIN(Panely!$A$9:$A$28),0,VLOOKUP(Data!$B179,tabulka_panely_def,25,FALSE))","v":0},{"$f":"IF(Data!$B179<MIN(Panely!$A$9:$A$28),VLOOKUP(Data!$B179,tabulka_kce_def,24,FALSE),VLOOKUP(Data!$B179,tabulka_panely_def,33,FALSE))","v":{"$error":"#N/A"}},{"$f":"Konstrukce!$D$1","v":18.770175404064034},{"$f":"Konstrukce!$D$2","v":19.934229593106764},{"$f":"Konstrukce!$G$1","v":-12},{"$f":"IF(Data!$B179<MIN(Panely!$A$9:$A$28),VLOOKUP(Data!$B179,tabulka_kce_def,59,FALSE),VLOOKUP(Data!$B179,tabulka_panely_def,63,FALSE))","v":""},{"$f":"IF(Data!$B179<MIN(Panely!$A$9:$A$28),VLOOKUP(Data!$B179,tabulka_kce_def,60,FALSE),VLOOKUP(Data!$B179,tabulka_panely_def,64,FALSE))","v":""},{"$f":"IF(Data!$B179<MIN(Panely!$A$9:$A$28),VLOOKUP(Data!$B179,tabulka_kce_def,61,FALSE),VLOOKUP(Data!$B179,tabulka_panely_def,65,FALSE))","v":""},{"$f":"IF(Data!$B179<MIN(Panely!$A$9:$A$28),VLOOKUP(Data!$B179,tabulka_kce_def,25,FALSE),0)","v":0},0,null,null,null,null,"=",{"$f":"IF(Data!$W179<MIN(Panely!$A$9:$A$28),VLOOKUP(Data!$W179,tabulka_kce_def,62,FALSE),VLOOKUP(Data!$W179,tabulka_panely_def,65,FALSE))","v":""},{"$f":"IF(Data!$W179<MIN(Panely!$A$9:$A$28),VLOOKUP(Data!$W179,tabulka_kce_def,Y$1-20,FALSE),VLOOKUP(Data!$W179,tabulka_panely_def,Y$1-18,FALSE))","v":0},{"$f":"IF(Data!$W179<MIN(Panely!$A$9:$A$28),VLOOKUP(Data!$W179,tabulka_kce_def,Z$1-20,FALSE),VLOOKUP(Data!$W179,tabulka_panely_def,Z$1-18,FALSE))","v":0},{"$f":"IF(Data!$W179<MIN(Panely!$A$9:$A$28),VLOOKUP(Data!$W179,tabulka_kce_def,AA$1-20,FALSE),VLOOKUP(Data!$W179,tabulka_panely_def,AA$1-18,FALSE))","v":0},{"$f":"IF(Data!$W179<MIN(Panely!$A$9:$A$28),VLOOKUP(Data!$W179,tabulka_kce_def,AB$1-20,FALSE),VLOOKUP(Data!$W179,tabulka_panely_def,AB$1-18,FALSE))","v":0},{"$f":"IF(Data!$W179<MIN(Panely!$A$9:$A$28),VLOOKUP(Data!$W179,tabulka_kce_def,AC$1-20,FALSE),VLOOKUP(Data!$W179,tabulka_panely_def,AC$1-18,FALSE))","v":0},{"$f":"IF(Data!$W179<MIN(Panely!$A$9:$A$28),VLOOKUP(Data!$W179,tabulka_kce_def,AD$1-20,FALSE),VLOOKUP(Data!$W179,tabulka_panely_def,AD$1-18,FALSE))","v":0},{"$f":"IF(Data!$W179<MIN(Panely!$A$9:$A$28),VLOOKUP(Data!$W179,tabulka_kce_def,AE$1-20,FALSE),VLOOKUP(Data!$W179,tabulka_panely_def,AE$1-18,FALSE))","v":0},{"$f":"IF(Data!$W179<MIN(Panely!$A$9:$A$28),VLOOKUP(Data!$W179,tabulka_kce_def,AF$1-20,FALSE),VLOOKUP(Data!$W179,tabulka_panely_def,AF$1-18,FALSE))","v":0},{"$f":"IF(Data!$W179<MIN(Panely!$A$9:$A$28),VLOOKUP(Data!$W179,tabulka_kce_def,AG$1-20,FALSE),VLOOKUP(Data!$W179,tabulka_panely_def,AG$1-18,FALSE))","v":0},{"$f":"IF(Data!$W179<MIN(Panely!$A$9:$A$28),VLOOKUP(Data!$W179,tabulka_kce_def,AH$1-20,FALSE),VLOOKUP(Data!$W179,tabulka_panely_def,AH$1-18,FALSE))","v":0},{"$f":"IF(Data!$W179<MIN(Panely!$A$9:$A$28),VLOOKUP(Data!$W179,tabulka_kce_def,AI$1-20,FALSE),VLOOKUP(Data!$W179,tabulka_panely_def,AI$1-18,FALSE))","v":0},{"$f":"IF(Data!$W179<MIN(Panely!$A$9:$A$28),VLOOKUP(Data!$W179,tabulka_kce_def,AJ$1-20,FALSE),VLOOKUP(Data!$W179,tabulka_panely_def,AJ$1-18,FALSE))","v":0},{"$f":"IF(Data!$W179<MIN(Panely!$A$9:$A$28),VLOOKUP(Data!$W179,tabulka_kce_def,AK$1-20,FALSE),VLOOKUP(Data!$W179,tabulka_panely_def,AK$1-18,FALSE))","v":0},{"$f":"IF(Data!$W179<MIN(Panely!$A$9:$A$28),VLOOKUP(Data!$W179,tabulka_kce_def,AL$1-20,FALSE),VLOOKUP(Data!$W179,tabulka_panely_def,AL$1-18,FALSE))","v":0},{"$f":"IF(Data!$W179<MIN(Panely!$A$9:$A$28),VLOOKUP(Data!$W179,tabulka_kce_def,AM$1-20,FALSE),VLOOKUP(Data!$W179,tabulka_panely_def,AM$1-18,FALSE))","v":0},179,{"$f":"IF(Data!$W179<MIN(Panely!$A$9:$A$28),VLOOKUP(Data!$W179,tabulka_kce_def,63,FALSE),0)","v":0},{"$f":"IF(Data!$W179<MIN(Panely!$A$9:$A$28),VLOOKUP(Data!$W179,tabulka_kce_def,28,FALSE),1)","v":1},{"$f":"IF(Data!$W179<MIN(Panely!$A$9:$A$28),VLOOKUP(Data!$W179,tabulka_kce_def,23,FALSE),VLOOKUP(Data!$W179,tabulka_panely_def,24,FALSE))","v":0},null,0,null,0,0,{"$error":"#N/A"},0,{"$f":"IF(AND(W179>MAX(Konstrukce!A:A),ISNUMBER(W179)),1,0)","v":0}]
[null,"=",{"$f":"IF(Data!$B180<MIN(Panely!$A$9:$A$28),VLOOKUP(Data!$B180,tabulka_kce_def,4,FALSE),VLOOKUP(Data!$B180,tabulka_panely_def,4,FALSE))","v":0},{"$f":"IF(Data!$B180<MIN(Panely!$A$9:$A$28),VLOOKUP(Data!$B180,tabulka_kce_def,23,FALSE),VLOOKUP(Data!$B180,tabulka_panely_def,24,FALSE))","v":0},{"$f":"IF(Data!$B180<MIN(Panely!$A$9:$A$28),VLOOKUP(Data!$B180,tabulka_kce_def,21,FALSE),VLOOKUP(Data!$B180,tabulka_panely_def,22,FALSE))","v":0},{"$f":"IF(Data!$B180<MIN(Panely!$A$9:$A$28),VLOOKUP(Data!$B180,tabulka_kce_def,26,FALSE),VLOOKUP(Data!$B180,tabulka_panely_def,31,FALSE))","v":{"$error":"#DIV/0!"}},{"$f":"IF(Data!$B180<MIN(Panely!$A$9:$A$28),VLOOKUP(Data!$B180,tabulka_kce_def,27,FALSE),VLOOKUP(Data!$B180,tabulka_panely_def,32,FALSE))","v":{"$error":"#DIV/0!"}},{"$f":"IF(VLOOKUP(Data!$B180,tabulka_kce_def,3,FALSE)=\"\",Konstrukce!$G$1,IF(VLOOKUP(Data!$B180,tabulka_kce_def,3,FALSE)=\"z\",Konstrukce!$G$2,VLOOKUP(Data!$B180,tabulka_kce_def,3,FALSE)))","v":{"$error":"#N/A"}},{"$f":"IF(Data!$B180<MIN(Panely!$A$9:$A$28),0,VLOOKUP(Data!$B180,tabulka_panely_def,25,FALSE))","v":0},{"$f":"IF(Data!$B180<MIN(Panely!$A$9:$A$28),VLOOKUP(Data!$B180,tabulka_kce_def,24,FALSE),VLOOKUP(Data!$B180,tabulka_panely_def,33,FALSE))","v":{"$error":"#N/A"}},{"$f":"Konstrukce!$D$1","v":18.770175404064034},{"$f":"Konstrukce!$D$2","v":19.934229593106764},{"$f":"Konstrukce!$G$1","v":-12},{"$f":"IF(Data!$B180<MIN(Panely!$A$9:$A$28),VLOOKUP(Data!$B180,tabulka_kce_def,59,FALSE),VLOOKUP(Data!$B180,tabulka_panely_def,63,FALSE))","v":""},{"$f":"IF(Data!$B180<MIN(Panely!$A$9:$A$28),VLOOKUP(Data!$B180,tabulka_kce_def,60,FALSE),VLOOKUP(Data!$B180,tabulka_panely_def,64,FALSE))","v":""},{"$f":"IF(Data!$B180<MIN(Panely!$A$9:$A$28),VLOOKUP(Data!$B180,tabulka_kce_def,61,FALSE),VLOOKUP(Data!$B180,tabulka_panely_def,65,FALSE))","v":""},{"$f":"IF(Data!$B180<MIN(Panely!$A$9:$A$28),VLOOKUP(Data!$B180,tabulka_kce_def,25,FALSE),0)","v":0},0,null,null,null,null,"=",{"$f":"IF(Data!$W180<MIN(Panely!$A$9:$A$28),VLOOKUP(Data!$W180,tabulka_kce_def,62,FALSE),VLOOKUP(Data!$W180,tabulka_panely_def,65,FALSE))","v":""},{"$f":"IF(Data!$W180<MIN(Panely!$A$9:$A$28),VLOOKUP(Data!$W180,tabulka_kce_def,Y$1-20,FALSE),VLOOKUP(Data!$W180,tabulka_panely_def,Y$1-18,FALSE))","v":0},{"$f":"IF(Data!$W180<MIN(Panely!$A$9:$A$28),VLOOKUP(Data!$W180,tabulka_kce_def,Z$1-20,FALSE),VLOOKUP(Data!$W180,tabulka_panely_def,Z$1-18,FALSE))","v":0},{"$f":"IF(Data!$W180<MIN(Panely!$A$9:$A$28),VLOOKUP(Data!$W180,tabulka_kce_def,AA$1-20,FALSE),VLOOKUP(Data!$W180,tabulka_panely_def,AA$1-18,FALSE))","v":0},{"$f":"IF(Data!$W180<MIN(Panely!$A$9:$A$28),VLOOKUP(Data!$W180,tabulka_kce_def,AB$1-20,FALSE),VLOOKUP(Data!$W180,tabulka_panely_def,AB$1-18,FALSE))","v":0},{"$f":"IF(Data!$W180<MIN(Panely!$A$9:$A$28),VLOOKUP(Data!$W180,tabulka_kce_def,AC$1-20,FALSE),VLOOKUP(Data!$W180,tabulka_panely_def,AC$1-18,FALSE))","v":0},{"$f":"IF(Data!$W180<MIN(Panely!$A$9:$A$28),VLOOKUP(Data!$W180,tabulka_kce_def,AD$1-20,FALSE),VLOOKUP(Data!$W180,tabulka_panely_def,AD$1-18,FALSE))","v":0},{"$f":"IF(Data!$W180<MIN(Panely!$A$9:$A$28),VLOOKUP(Data!$W180,tabulka_kce_def,AE$1-20,FALSE),VLOOKUP(Data!$W180,tabulka_panely_def,AE$1-18,FALSE))","v":0},{"$f":"IF(Data!$W180<MIN(Panely!$A$9:$A$28),VLOOKUP(Data!$W180,tabulka_kce_def,AF$1-20,FALSE),VLOOKUP(Data!$W180,tabulka_panely_def,AF$1-18,FALSE))","v":0},{"$f":"IF(Data!$W180<MIN(Panely!$A$9:$A$28),VLOOKUP(Data!$W180,tabulka_kce_def,AG$1-20,FALSE),VLOOKUP(Data!$W180,tabulka_panely_def,AG$1-18,FALSE))","v":0},{"$f":"IF(Data!$W180<MIN(Panely!$A$9:$A$28),VLOOKUP(Data!$W180,tabulka_kce_def,AH$1-20,FALSE),VLOOKUP(Data!$W180,tabulka_panely_def,AH$1-18,FALSE))","v":0},{"$f":"IF(Data!$W180<MIN(Panely!$A$9:$A$28),VLOOKUP(Data!$W180,tabulka_kce_def,AI$1-20,FALSE),VLOOKUP(Data!$W180,tabulka_panely_def,AI$1-18,FALSE))","v":0},{"$f":"IF(Data!$W180<MIN(Panely!$A$9:$A$28),VLOOKUP(Data!$W180,tabulka_kce_def,AJ$1-20,FALSE),VLOOKUP(Data!$W180,tabulka_panely_def,AJ$1-18,FALSE))","v":0},{"$f":"IF(Data!$W180<MIN(Panely!$A$9:$A$28),VLOOKUP(Data!$W180,tabulka_kce_def,AK$1-20,FALSE),VLOOKUP(Data!$W180,tabulka_panely_def,AK$1-18,FALSE))","v":0},{"$f":"IF(Data!$W180<MIN(Panely!$A$9:$A$28),VLOOKUP(Data!$W180,tabulka_kce_def,AL$1-20,FALSE),VLOOKUP(Data!$W180,tabulka_panely_def,AL$1-18,FALSE))","v":0},{"$f":"IF(Data!$W180<MIN(Panely!$A$9:$A$28),VLOOKUP(Data!$W180,tabulka_kce_def,AM$1-20,FALSE),VLOOKUP(Data!$W180,tabulka_panely_def,AM$1-18,FALSE))","v":0},180,{"$f":"IF(Data!$W180<MIN(Panely!$A$9:$A$28),VLOOKUP(Data!$W180,tabulka_kce_def,63,FALSE),0)","v":0},{"$f":"IF(Data!$W180<MIN(Panely!$A$9:$A$28),VLOOKUP(Data!$W180,tabulka_kce_def,28,FALSE),1)","v":1},{"$f":"IF(Data!$W180<MIN(Panely!$A$9:$A$28),VLOOKUP(Data!$W180,tabulka_kce_def,23,FALSE),VLOOKUP(Data!$W180,tabulka_panely_def,24,FALSE))","v":0},null,0,null,0,0,{"$error":"#N/A"},0,{"$f":"IF(AND(W180>MAX(Konstrukce!A:A),ISNUMBER(W180)),1,0)","v":0}]
[null,"=",{"$f":"IF(Data!$B181<MIN(Panely!$A$9:$A$28),VLOOKUP(Data!$B181,tabulka_kce_def,4,FALSE),VLOOKUP(Data!$B181,tabulka_panely_def,4,FALSE))","v":0},{"$f":"IF(Data!$B181<MIN(Panely!$A$9:$A$28),VLOOKUP(Data!$B181,tabulka_kce_def,23,FALSE),VLOOKUP(Data!$B181,tabulka_panely_def,24,FALSE))","v":0},{"$f":"IF(Data!$B181<MIN(Panely!$A$9:$A$28),VLOOKUP(Data!$B181,tabulka_kce_def,21,FALSE),VLOOKUP(Data!$B181,tabulka_panely_def,22,FALSE))","v":0},{"$f":"IF(Data!$B181<MIN(Panely!$A$9:$A$28),VLOOKUP(Data!$B181,tabulka_kce_def,26,FALSE),VLOOKUP(Data!$B181,tabulka_panely_def,31,FALSE))","v":{"$error":"#DIV/0!"}},{"$f":"IF(Data!$B181<MIN(Panely!$A$9:$A$28),VLOOKUP(Data!$B181,tabulka_kce_def,27,FALSE),VLOOKUP(Data!$B181,tabulka_panely_def,32,FALSE))","v":{"$error":"#DIV/0!"}},{"$f":"IF(VLOOKUP(Data!$B181,tabulka_kce_def,3,FALSE)=\"\",Konstrukce!$G$1,IF(VLOOKUP(Data!$B181,tabulka_kce_def,3,FALSE)=\"z\",Konstrukce!$G$2,VLOOKUP(Data!$B181,tabulka_kce_def,3,FALSE)))","v":{"$error":"#N/A"}},{"$f":"IF(Data!$B181<MIN(Panely!$A$9:$A$28),0,VLOOKUP(Data!$B181,tabulka_panely_def,25,FALSE))","v":0},{"$f":"IF(Data!$B181<MIN(Panely!$A$9:$A$28),VLOOKUP(Data!$B181,tabulka_kce_def,24,FALSE),VLOOKUP(Data!$B181,tabulka_panely_def,33,FALSE))","v":{"$error":"#N/A"}},{"$f":"Konstrukce!$D$1","v":18.770175404064034},{"$f":"Konstrukce!$D$2","v":19.934229593106764},{"$f":"Konstrukce!$G$1","v":-12},{"$f":"IF(Data!$B181<MIN(Panely!$A$9:$A$28),VLOOKUP(Data!$B181,tabulka_kce_def,59,FALSE),VLOOKUP(Data!$B181,tabulka_panely_def,63,FALSE))","v":""},{"$f":"IF(Data!$B181<MIN(Panely!$A$9:$A$28),VLOOKUP(Data!$B181,tabulka_kce_def,60,FALSE),VLOOKUP(Data!$B181,tabulka_panely_def,64,FALSE))","v":""},{"$f":"IF(Data!$B181<MIN(Panely!$A$9:$A$28),VLOOKUP(Data!$B181,tabulka_kce_def,61,FALSE),VLOOKUP(Data!$B181,tabulka_panely_def,65,FALSE))","v":""},{"$f":"IF(Data!$B181<MIN(Panely!$A$9:$A$28),VLOOKUP(Data!$B181,tabulka_kce_def,25,FALSE),0)","v":0},0,null,null,null,null,"=",{"$f":"IF(Data!$W181<MIN(Panely!$A$9:$A$28),VLOOKUP(Data!$W181,tabulka_kce_def,62,FALSE),VLOOKUP(Data!$W181,tabulka_panely_def,65,FALSE))","v":""},{"$f":"IF(Data!$W181<MIN(Panely!$A$9:$A$28),VLOOKUP(Data!$W181,tabulka_kce_def,Y$1-20,FALSE),VLOOKUP(Data!$W181,tabulka_panely_def,Y$1-18,FALSE))","v":0},{"$f":"IF(Data!$W181<MIN(Panely!$A$9:$A$28),VLOOKUP(Data!$W181,tabulka_kce_def,Z$1-20,FALSE),VLOOKUP(Data!$W181,tabulka_panely_def,Z$1-18,FALSE))","v":0},{"$f":"IF(Data!$W181<MIN(Panely!$A$9:$A$28),VLOOKUP(Data!$W181,tabulka_kce_def,AA$1-20,FALSE),VLOOKUP(Data!$W181,tabulka_panely_def,AA$1-18,FALSE))","v":0},{"$f":"IF(Data!$W181<MIN(Panely!$A$9:$A$28),VLOOKUP(Data!$W181,tabulka_kce_def,AB$1-20,FALSE),VLOOKUP(Data!$W181,tabulka_panely_def,AB$1-18,FALSE))","v":0},{"$f":"IF(Data!$W181<MIN(Panely!$A$9:$A$28),VLOOKUP(Data!$W181,tabulka_kce_def,AC$1-20,FALSE),VLOOKUP(Data!$W181,tabulka_panely_def,AC$1-18,FALSE))","v":0},{"$f":"IF(Data!$W181<MIN(Panely!$A$9:$A$28),VLOOKUP(Data!$W181,tabulka_kce_def,AD$1-20,FALSE),VLOOKUP(Data!$W181,tabulka_panely_def,AD$1-18,FALSE))","v":0},{"$f":"IF(Data!$W181<MIN(Panely!$A$9:$A$28),VLOOKUP(Data!$W181,tabulka_kce_def,AE$1-20,FALSE),VLOOKUP(Data!$W181,tabulka_panely_def,AE$1-18,FALSE))","v":0},{"$f":"IF(Data!$W181<MIN(Panely!$A$9:$A$28),VLOOKUP(Data!$W181,tabulka_kce_def,AF$1-20,FALSE),VLOOKUP(Data!$W181,tabulka_panely_def,AF$1-18,FALSE))","v":0},{"$f":"IF(Data!$W181<MIN(Panely!$A$9:$A$28),VLOOKUP(Data!$W181,tabulka_kce_def,AG$1-20,FALSE),VLOOKUP(Data!$W181,tabulka_panely_def,AG$1-18,FALSE))","v":0},{"$f":"IF(Data!$W181<MIN(Panely!$A$9:$A$28),VLOOKUP(Data!$W181,tabulka_kce_def,AH$1-20,FALSE),VLOOKUP(Data!$W181,tabulka_panely_def,AH$1-18,FALSE))","v":0},{"$f":"IF(Data!$W181<MIN(Panely!$A$9:$A$28),VLOOKUP(Data!$W181,tabulka_kce_def,AI$1-20,FALSE),VLOOKUP(Data!$W181,tabulka_panely_def,AI$1-18,FALSE))","v":0},{"$f":"IF(Data!$W181<MIN(Panely!$A$9:$A$28),VLOOKUP(Data!$W181,tabulka_kce_def,AJ$1-20,FALSE),VLOOKUP(Data!$W181,tabulka_panely_def,AJ$1-18,FALSE))","v":0},{"$f":"IF(Data!$W181<MIN(Panely!$A$9:$A$28),VLOOKUP(Data!$W181,tabulka_kce_def,AK$1-20,FALSE),VLOOKUP(Data!$W181,tabulka_panely_def,AK$1-18,FALSE))","v":0},{"$f":"IF(Data!$W181<MIN(Panely!$A$9:$A$28),VLOOKUP(Data!$W181,tabulka_kce_def,AL$1-20,FALSE),VLOOKUP(Data!$W181,tabulka_panely_def,AL$1-18,FALSE))","v":0},{"$f":"IF(Data!$W181<MIN(Panely!$A$9:$A$28),VLOOKUP(Data!$W181,tabulka_kce_def,AM$1-20,FALSE),VLOOKUP(Data!$W181,tabulka_panely_def,AM$1-18,FALSE))","v":0},181,{"$f":"IF(Data!$W181<MIN(Panely!$A$9:$A$28),VLOOKUP(Data!$W181,tabulka_kce_def,63,FALSE),0)","v":0},{"$f":"IF(Data!$W181<MIN(Panely!$A$9:$A$28),VLOOKUP(Data!$W181,tabulka_kce_def,28,FALSE),1)","v":1},{"$f":"IF(Data!$W181<MIN(Panely!$A$9:$A$28),VLOOKUP(Data!$W181,tabulka_kce_def,23,FALSE),VLOOKUP(Data!$W181,tabulka_panely_def,24,FALSE))","v":0},null,0,null,0,0,{"$error":"#N/A"},0,{"$f":"IF(AND(W181>MAX(Konstrukce!A:A),ISNUMBER(W181)),1,0)","v":0}]
[null,"=",{"$f":"IF(Data!$B182<MIN(Panely!$A$9:$A$28),VLOOKUP(Data!$B182,tabulka_kce_def,4,FALSE),VLOOKUP(Data!$B182,tabulka_panely_def,4,FALSE))","v":0},{"$f":"IF(Data!$B182<MIN(Panely!$A$9:$A$28),VLOOKUP(Data!$B182,tabulka_kce_def,23,FALSE),VLOOKUP(Data!$B182,tabulka_panely_def,24,FALSE))","v":0},{"$f":"IF(Data!$B182<MIN(Panely!$A$9:$A$28),VLOOKUP(Data!$B182,tabulka_kce_def,21,FALSE),VLOOKUP(Data!$B182,tabulka_panely_def,22,FALSE))","v":0},{"$f":"IF(Data!$B182<MIN(Panely!$A$9:$A$28),VLOOKUP(Data!$B182,tabulka_kce_def,26,FALSE),VLOOKUP(Data!$B182,tabulka_panely_def,31,FALSE))","v":{"$error":"#DIV/0!"}},{"$f":"IF(Data!$B182<MIN(Panely!$A$9:$A$28),VLOOKUP(Data!$B182,tabulka_kce_def,27,FALSE),VLOOKUP(Data!$B182,tabulka_panely_def,32,FALSE))","v":{"$error":"#DIV/0!"}},{"$f":"IF(VLOOKUP(Data!$B182,tabulka_kce_def,3,FALSE)=\"\",Konstrukce!$G$1,IF(VLOOKUP(Data!$B182,tabulka_kce_def,3,FALSE)=\"z\",Konstrukce!$G$2,VLOOKUP(Data!$B182,tabulka_kce_def,3,FALSE)))","v":{"$error":"#N/A"}},{"$f":"IF(Data!$B182<MIN(Panely!$A$9:$A$28),0,VLOOKUP(Data!$B182,tabulka_panely_def,25,FALSE))","v":0},{"$f":"IF(Data!$B182<MIN(Panely!$A$9:$A$28),VLOOKUP(Data!$B182,tabulka_kce_def,24,FALSE),VLOOKUP(Data!$B182,tabulka_panely_def,33,FALSE))","v":{"$error":"#N/A"}},{"$f":"Konstrukce!$D$1","v":18.770175404064034},{"$f":"Konstrukce!$D$2","v":19.934229593106764},{"$f":"Konstrukce!$G$1","v":-12},{"$f":"IF(Data!$B182<MIN(Panely!$A$9:$A$28),VLOOKUP(Data!$B182,tabulka_kce_def,59,FALSE),VLOOKUP(Data!$B182,tabulka_panely_def,63,FALSE))","v":""},{"$f":"IF(Data!$B182<MIN(Panely!$A$9:$A$28),VLOOKUP(Data!$B182,tabulka_kce_def,60,FALSE),VLOOKUP(Data!$B182,tabulka_panely_def,64,FALSE))","v":""},{"$f":"IF(Data!$B182<MIN(Panely!$A$9:$A$28),VLOOKUP(Data!$B182,tabulka_kce_def,61,FALSE),VLOOKUP(Data!$B182,tabulka_panely_def,65,FALSE))","v":""},{"$f":"IF(Data!$B182<MIN(Panely!$A$9:$A$28),VLOOKUP(Data!$B182,tabulka_kce_def,25,FALSE),0)","v":0},0,null,null,null,null,"=",{"$f":"IF(Data!$W182<MIN(Panely!$A$9:$A$28),VLOOKUP(Data!$W182,tabulka_kce_def,62,FALSE),VLOOKUP(Data!$W182,tabulka_panely_def,65,FALSE))","v":""},{"$f":"IF(Data!$W182<MIN(Panely!$A$9:$A$28),VLOOKUP(Data!$W182,tabulka_kce_def,Y$1-20,FALSE),VLOOKUP(Data!$W182,tabulka_panely_def,Y$1-18,FALSE))","v":0},{"$f":"IF(Data!$W182<MIN(Panely!$A$9:$A$28),VLOOKUP(Data!$W182,tabulka_kce_def,Z$1-20,FALSE),VLOOKUP(Data!$W182,tabulka_panely_def,Z$1-18,FALSE))","v":0},{"$f":"IF(Data!$W182<MIN(Panely!$A$9:$A$28),VLOOKUP(Data!$W182,tabulka_kce_def,AA$1-20,FALSE),VLOOKUP(Data!$W182,tabulka_panely_def,AA$1-18,FALSE))","v":0},{"$f":"IF(Data!$W182<MIN(Panely!$A$9:$A$28),VLOOKUP(Data!$W182,tabulka_kce_def,AB$1-20,FALSE),VLOOKUP(Data!$W182,tabulka_panely_def,AB$1-18,FALSE))","v":0},{"$f":"IF(Data!$W182<MIN(Panely!$A$9:$A$28),VLOOKUP(Data!$W182,tabulka_kce_def,AC$1-20,FALSE),VLOOKUP(Data!$W182,tabulka_panely_def,AC$1-18,FALSE))","v":0},{"$f":"IF(Data!$W182<MIN(Panely!$A$9:$A$28),VLOOKUP(Data!$W182,tabulka_kce_def,AD$1-20,FALSE),VLOOKUP(Data!$W182,tabulka_panely_def,AD$1-18,FALSE))","v":0},{"$f":"IF(Data!$W182<MIN(Panely!$A$9:$A$28),VLOOKUP(Data!$W182,tabulka_kce_def,AE$1-20,FALSE),VLOOKUP(Data!$W182,tabulka_panely_def,AE$1-18,FALSE))","v":0},{"$f":"IF(Data!$W182<MIN(Panely!$A$9:$A$28),VLOOKUP(Data!$W182,tabulka_kce_def,AF$1-20,FALSE),VLOOKUP(Data!$W182,tabulka_panely_def,AF$1-18,FALSE))","v":0},{"$f":"IF(Data!$W182<MIN(Panely!$A$9:$A$28),VLOOKUP(Data!$W182,tabulka_kce_def,AG$1-20,FALSE),VLOOKUP(Data!$W182,tabulka_panely_def,AG$1-18,FALSE))","v":0},{"$f":"IF(Data!$W182<MIN(Panely!$A$9:$A$28),VLOOKUP(Data!$W182,tabulka_kce_def,AH$1-20,FALSE),VLOOKUP(Data!$W182,tabulka_panely_def,AH$1-18,FALSE))","v":0},{"$f":"IF(Data!$W182<MIN(Panely!$A$9:$A$28),VLOOKUP(Data!$W182,tabulka_kce_def,AI$1-20,FALSE),VLOOKUP(Data!$W182,tabulka_panely_def,AI$1-18,FALSE))","v":0},{"$f":"IF(Data!$W182<MIN(Panely!$A$9:$A$28),VLOOKUP(Data!$W182,tabulka_kce_def,AJ$1-20,FALSE),VLOOKUP(Data!$W182,tabulka_panely_def,AJ$1-18,FALSE))","v":0},{"$f":"IF(Data!$W182<MIN(Panely!$A$9:$A$28),VLOOKUP(Data!$W182,tabulka_kce_def,AK$1-20,FALSE),VLOOKUP(Data!$W182,tabulka_panely_def,AK$1-18,FALSE))","v":0},{"$f":"IF(Data!$W182<MIN(Panely!$A$9:$A$28),VLOOKUP(Data!$W182,tabulka_kce_def,AL$1-20,FALSE),VLOOKUP(Data!$W182,tabulka_panely_def,AL$1-18,FALSE))","v":0},{"$f":"IF(Data!$W182<MIN(Panely!$A$9:$A$28),VLOOKUP(Data!$W182,tabulka_kce_def,AM$1-20,FALSE),VLOOKUP(Data!$W182,tabulka_panely_def,AM$1-18,FALSE))","v":0},182,{"$f":"IF(Data!$W182<MIN(Panely!$A$9:$A$28),VLOOKUP(Data!$W182,tabulka_kce_def,63,FALSE),0)","v":0},{"$f":"IF(Data!$W182<MIN(Panely!$A$9:$A$28),VLOOKUP(Data!$W182,tabulka_kce_def,28,FALSE),1)","v":1},{"$f":"IF(Data!$W182<MIN(Panely!$A$9:$A$28),VLOOKUP(Data!$W182,tabulka_kce_def,23,FALSE),VLOOKUP(Data!$W182,tabulka_panely_def,24,FALSE))","v":0},null,0,null,0,0,{"$error":"#N/A"},0,{"$f":"IF(AND(W182>MAX(Konstrukce!A:A),ISNUMBER(W182)),1,0)","v":0}]
[null,"=",{"$f":"IF(Data!$B183<MIN(Panely!$A$9:$A$28),VLOOKUP(Data!$B183,tabulka_kce_def,4,FALSE),VLOOKUP(Data!$B183,tabulka_panely_def,4,FALSE))","v":0},{"$f":"IF(Data!$B183<MIN(Panely!$A$9:$A$28),VLOOKUP(Data!$B183,tabulka_kce_def,23,FALSE),VLOOKUP(Data!$B183,tabulka_panely_def,24,FALSE))","v":0},{"$f":"IF(Data!$B183<MIN(Panely!$A$9:$A$28),VLOOKUP(Data!$B183,tabulka_kce_def,21,FALSE),VLOOKUP(Data!$B183,tabulka_panely_def,22,FALSE))","v":0},{"$f":"IF(Data!$B183<MIN(Panely!$A$9:$A$28),VLOOKUP(Data!$B183,tabulka_kce_def,26,FALSE),VLOOKUP(Data!$B183,tabulka_panely_def,31,FALSE))","v":{"$error":"#DIV/0!"}},{"$f":"IF(Data!$B183<MIN(Panely!$A$9:$A$28),VLOOKUP(Data!$B183,tabulka_kce_def,27,FALSE),VLOOKUP(Data!$B183,tabulka_panely_def,32,FALSE))","v":{"$error":"#DIV/0!"}},{"$f":"IF(VLOOKUP(Data!$B183,tabulka_kce_def,3,FALSE)=\"\",Konstrukce!$G$1,IF(VLOOKUP(Data!$B183,tabulka_kce_def,3,FALSE)=\"z\",Konstrukce!$G$2,VLOOKUP(Data!$B183,tabulka_kce_def,3,FALSE)))","v":{"$error":"#N/A"}},{"$f":"IF(Data!$B183<MIN(Panely!$A$9:$A$28),0,VLOOKUP(Data!$B183,tabulka_panely_def,25,FALSE))","v":0},{"$f":"IF(Data!$B183<MIN(Panely!$A$9:$A$28),VLOOKUP(Data!$B183,tabulka_kce_def,24,FALSE),VLOOKUP(Data!$B183,tabulka_panely_def,33,FALSE))","v":{"$error":"#N/A"}},{"$f":"Konstrukce!$D$1","v":18.770175404064034},{"$f":"Konstrukce!$D$2","v":19.934229593106764},{"$f":"Konstrukce!$G$1","v":-12},{"$f":"IF(Data!$B183<MIN(Panely!$A$9:$A$28),VLOOKUP(Data!$B183,tabulka_kce_def,59,FALSE),VLOOKUP(Data!$B183,tabulka_panely_def,63,FALSE))","v":""},{"$f":"IF(Data!$B183<MIN(Panely!$A$9:$A$28),VLOOKUP(Data!$B183,tabulka_kce_def,60,FALSE),VLOOKUP(Data!$B183,tabulka_panely_def,64,FALSE))","v":""},{"$f":"IF(Data!$B183<MIN(Panely!$A$9:$A$28),VLOOKUP(Data!$B183,tabulka_kce_def,61,FALSE),VLOOKUP(Data!$B183,tabulka_panely_def,65,FALSE))","v":""},{"$f":"IF(Data!$B183<MIN(Panely!$A$9:$A$28),VLOOKUP(Data!$B183,tabulka_kce_def,25,FALSE),0)","v":0},0,null,null,null,null,"=",{"$f":"IF(Data!$W183<MIN(Panely!$A$9:$A$28),VLOOKUP(Data!$W183,tabulka_kce_def,62,FALSE),VLOOKUP(Data!$W183,tabulka_panely_def,65,FALSE))","v":""},{"$f":"IF(Data!$W183<MIN(Panely!$A$9:$A$28),VLOOKUP(Data!$W183,tabulka_kce_def,Y$1-20,FALSE),VLOOKUP(Data!$W183,tabulka_panely_def,Y$1-18,FALSE))","v":0},{"$f":"IF(Data!$W183<MIN(Panely!$A$9:$A$28),VLOOKUP(Data!$W183,tabulka_kce_def,Z$1-20,FALSE),VLOOKUP(Data!$W183,tabulka_panely_def,Z$1-18,FALSE))","v":0},{"$f":"IF(Data!$W183<MIN(Panely!$A$9:$A$28),VLOOKUP(Data!$W183,tabulka_kce_def,AA$1-20,FALSE),VLOOKUP(Data!$W183,tabulka_panely_def,AA$1-18,FALSE))","v":0},{"$f":"IF(Data!$W183<MIN(Panely!$A$9:$A$28),VLOOKUP(Data!$W183,tabulka_kce_def,AB$1-20,FALSE),VLOOKUP(Data!$W183,tabulka_panely_def,AB$1-18,FALSE))","v":0},{"$f":"IF(Data!$W183<MIN(Panely!$A$9:$A$28),VLOOKUP(Data!$W183,tabulka_kce_def,AC$1-20,FALSE),VLOOKUP(Data!$W183,tabulka_panely_def,AC$1-18,FALSE))","v":0},{"$f":"IF(Data!$W183<MIN(Panely!$A$9:$A$28),VLOOKUP(Data!$W183,tabulka_kce_def,AD$1-20,FALSE),VLOOKUP(Data!$W183,tabulka_panely_def,AD$1-18,FALSE))","v":0},{"$f":"IF(Data!$W183<MIN(Panely!$A$9:$A$28),VLOOKUP(Data!$W183,tabulka_kce_def,AE$1-20,FALSE),VLOOKUP(Data!$W183,tabulka_panely_def,AE$1-18,FALSE))","v":0},{"$f":"IF(Data!$W183<MIN(Panely!$A$9:$A$28),VLOOKUP(Data!$W183,tabulka_kce_def,AF$1-20,FALSE),VLOOKUP(Data!$W183,tabulka_panely_def,AF$1-18,FALSE))","v":0},{"$f":"IF(Data!$W183<MIN(Panely!$A$9:$A$28),VLOOKUP(Data!$W183,tabulka_kce_def,AG$1-20,FALSE),VLOOKUP(Data!$W183,tabulka_panely_def,AG$1-18,FALSE))","v":0},{"$f":"IF(Data!$W183<MIN(Panely!$A$9:$A$28),VLOOKUP(Data!$W183,tabulka_kce_def,AH$1-20,FALSE),VLOOKUP(Data!$W183,tabulka_panely_def,AH$1-18,FALSE))","v":0},{"$f":"IF(Data!$W183<MIN(Panely!$A$9:$A$28),VLOOKUP(Data!$W183,tabulka_kce_def,AI$1-20,FALSE),VLOOKUP(Data!$W183,tabulka_panely_def,AI$1-18,FALSE))","v":0},{"$f":"IF(Data!$W183<MIN(Panely!$A$9:$A$28),VLOOKUP(Data!$W183,tabulka_kce_def,AJ$1-20,FALSE),VLOOKUP(Data!$W183,tabulka_panely_def,AJ$1-18,FALSE))","v":0},{"$f":"IF(Data!$W183<MIN(Panely!$A$9:$A$28),VLOOKUP(Data!$W183,tabulka_kce_def,AK$1-20,FALSE),VLOOKUP(Data!$W183,tabulka_panely_def,AK$1-18,FALSE))","v":0},{"$f":"IF(Data!$W183<MIN(Panely!$A$9:$A$28),VLOOKUP(Data!$W183,tabulka_kce_def,AL$1-20,FALSE),VLOOKUP(Data!$W183,tabulka_panely_def,AL$1-18,FALSE))","v":0},{"$f":"IF(Data!$W183<MIN(Panely!$A$9:$A$28),VLOOKUP(Data!$W183,tabulka_kce_def,AM$1-20,FALSE),VLOOKUP(Data!$W183,tabulka_panely_def,AM$1-18,FALSE))","v":0},183,{"$f":"IF(Data!$W183<MIN(Panely!$A$9:$A$28),VLOOKUP(Data!$W183,tabulka_kce_def,63,FALSE),0)","v":0},{"$f":"IF(Data!$W183<MIN(Panely!$A$9:$A$28),VLOOKUP(Data!$W183,tabulka_kce_def,28,FALSE),1)","v":1},{"$f":"IF(Data!$W183<MIN(Panely!$A$9:$A$28),VLOOKUP(Data!$W183,tabulka_kce_def,23,FALSE),VLOOKUP(Data!$W183,tabulka_panely_def,24,FALSE))","v":0},null,0,null,0,0,{"$error":"#N/A"},0,{"$f":"IF(AND(W183>MAX(Konstrukce!A:A),ISNUMBER(W183)),1,0)","v":0}]
[null,"=",{"$f":"IF(Data!$B184<MIN(Panely!$A$9:$A$28),VLOOKUP(Data!$B184,tabulka_kce_def,4,FALSE),VLOOKUP(Data!$B184,tabulka_panely_def,4,FALSE))","v":0},{"$f":"IF(Data!$B184<MIN(Panely!$A$9:$A$28),VLOOKUP(Data!$B184,tabulka_kce_def,23,FALSE),VLOOKUP(Data!$B184,tabulka_panely_def,24,FALSE))","v":0},{"$f":"IF(Data!$B184<MIN(Panely!$A$9:$A$28),VLOOKUP(Data!$B184,tabulka_kce_def,21,FALSE),VLOOKUP(Data!$B184,tabulka_panely_def,22,FALSE))","v":0},{"$f":"IF(Data!$B184<MIN(Panely!$A$9:$A$28),VLOOKUP(Data!$B184,tabulka_kce_def,26,FALSE),VLOOKUP(Data!$B184,tabulka_panely_def,31,FALSE))","v":{"$error":"#DIV/0!"}},{"$f":"IF(Data!$B184<MIN(Panely!$A$9:$A$28),VLOOKUP(Data!$B184,tabulka_kce_def,27,FALSE),VLOOKUP(Data!$B184,tabulka_panely_def,32,FALSE))","v":{"$error":"#DIV/0!"}},{"$f":"IF(VLOOKUP(Data!$B184,tabulka_kce_def,3,FALSE)=\"\",Konstrukce!$G$1,IF(VLOOKUP(Data!$B184,tabulka_kce_def,3,FALSE)=\"z\",Konstrukce!$G$2,VLOOKUP(Data!$B184,tabulka_kce_def,3,FALSE)))","v":{"$error":"#N/A"}},{"$f":"IF(Data!$B184<MIN(Panely!$A$9:$A$28),0,VLOOKUP(Data!$B184,tabulka_panely_def,25,FALSE))","v":0},{"$f":"IF(Data!$B184<MIN(Panely!$A$9:$A$28),VLOOKUP(Data!$B184,tabulka_kce_def,24,FALSE),VLOOKUP(Data!$B184,tabulka_panely_def,33,FALSE))","v":{"$error":"#N/A"}},{"$f":"Konstrukce!$D$1","v":18.770175404064034},{"$f":"Konstrukce!$D$2","v":19.934229593106764},{"$f":"Konstrukce!$G$1","v":-12},{"$f":"IF(Data!$B184<MIN(Panely!$A$9:$A$28),VLOOKUP(Data!$B184,tabulka_kce_def,59,FALSE),VLOOKUP(Data!$B184,tabulka_panely_def,63,FALSE))","v":""},{"$f":"IF(Data!$B184<MIN(Panely!$A$9:$A$28),VLOOKUP(Data!$B184,tabulka_kce_def,60,FALSE),VLOOKUP(Data!$B184,tabulka_panely_def,64,FALSE))","v":""},{"$f":"IF(Data!$B184<MIN(Panely!$A$9:$A$28),VLOOKUP(Data!$B184,tabulka_kce_def,61,FALSE),VLOOKUP(Data!$B184,tabulka_panely_def,65,FALSE))","v":""},{"$f":"IF(Data!$B184<MIN(Panely!$A$9:$A$28),VLOOKUP(Data!$B184,tabulka_kce_def,25,FALSE),0)","v":0},0,null,null,null,null,"=",{"$f":"IF(Data!$W184<MIN(Panely!$A$9:$A$28),VLOOKUP(Data!$W184,tabulka_kce_def,62,FALSE),VLOOKUP(Data!$W184,tabulka_panely_def,65,FALSE))","v":""},{"$f":"IF(Data!$W184<MIN(Panely!$A$9:$A$28),VLOOKUP(Data!$W184,tabulka_kce_def,Y$1-20,FALSE),VLOOKUP(Data!$W184,tabulka_panely_def,Y$1-18,FALSE))","v":0},{"$f":"IF(Data!$W184<MIN(Panely!$A$9:$A$28),VLOOKUP(Data!$W184,tabulka_kce_def,Z$1-20,FALSE),VLOOKUP(Data!$W184,tabulka_panely_def,Z$1-18,FALSE))","v":0},{"$f":"IF(Data!$W184<MIN(Panely!$A$9:$A$28),VLOOKUP(Data!$W184,tabulka_kce_def,AA$1-20,FALSE),VLOOKUP(Data!$W184,tabulka_panely_def,AA$1-18,FALSE))","v":0},{"$f":"IF(Data!$W184<MIN(Panely!$A$9:$A$28),VLOOKUP(Data!$W184,tabulka_kce_def,AB$1-20,FALSE),VLOOKUP(Data!$W184,tabulka_panely_def,AB$1-18,FALSE))","v":0},{"$f":"IF(Data!$W184<MIN(Panely!$A$9:$A$28),VLOOKUP(Data!$W184,tabulka_kce_def,AC$1-20,FALSE),VLOOKUP(Data!$W184,tabulka_panely_def,AC$1-18,FALSE))","v":0},{"$f":"IF(Data!$W184<MIN(Panely!$A$9:$A$28),VLOOKUP(Data!$W184,tabulka_kce_def,AD$1-20,FALSE),VLOOKUP(Data!$W184,tabulka_panely_def,AD$1-18,FALSE))","v":0},{"$f":"IF(Data!$W184<MIN(Panely!$A$9:$A$28),VLOOKUP(Data!$W184,tabulka_kce_def,AE$1-20,FALSE),VLOOKUP(Data!$W184,tabulka_panely_def,AE$1-18,FALSE))","v":0},{"$f":"IF(Data!$W184<MIN(Panely!$A$9:$A$28),VLOOKUP(Data!$W184,tabulka_kce_def,AF$1-20,FALSE),VLOOKUP(Data!$W184,tabulka_panely_def,AF$1-18,FALSE))","v":0},{"$f":"IF(Data!$W184<MIN(Panely!$A$9:$A$28),VLOOKUP(Data!$W184,tabulka_kce_def,AG$1-20,FALSE),VLOOKUP(Data!$W184,tabulka_panely_def,AG$1-18,FALSE))","v":0},{"$f":"IF(Data!$W184<MIN(Panely!$A$9:$A$28),VLOOKUP(Data!$W184,tabulka_kce_def,AH$1-20,FALSE),VLOOKUP(Data!$W184,tabulka_panely_def,AH$1-18,FALSE))","v":0},{"$f":"IF(Data!$W184<MIN(Panely!$A$9:$A$28),VLOOKUP(Data!$W184,tabulka_kce_def,AI$1-20,FALSE),VLOOKUP(Data!$W184,tabulka_panely_def,AI$1-18,FALSE))","v":0},{"$f":"IF(Data!$W184<MIN(Panely!$A$9:$A$28),VLOOKUP(Data!$W184,tabulka_kce_def,AJ$1-20,FALSE),VLOOKUP(Data!$W184,tabulka_panely_def,AJ$1-18,FALSE))","v":0},{"$f":"IF(Data!$W184<MIN(Panely!$A$9:$A$28),VLOOKUP(Data!$W184,tabulka_kce_def,AK$1-20,FALSE),VLOOKUP(Data!$W184,tabulka_panely_def,AK$1-18,FALSE))","v":0},{"$f":"IF(Data!$W184<MIN(Panely!$A$9:$A$28),VLOOKUP(Data!$W184,tabulka_kce_def,AL$1-20,FALSE),VLOOKUP(Data!$W184,tabulka_panely_def,AL$1-18,FALSE))","v":0},{"$f":"IF(Data!$W184<MIN(Panely!$A$9:$A$28),VLOOKUP(Data!$W184,tabulka_kce_def,AM$1-20,FALSE),VLOOKUP(Data!$W184,tabulka_panely_def,AM$1-18,FALSE))","v":0},184,{"$f":"IF(Data!$W184<MIN(Panely!$A$9:$A$28),VLOOKUP(Data!$W184,tabulka_kce_def,63,FALSE),0)","v":0},{"$f":"IF(Data!$W184<MIN(Panely!$A$9:$A$28),VLOOKUP(Data!$W184,tabulka_kce_def,28,FALSE),1)","v":1},{"$f":"IF(Data!$W184<MIN(Panely!$A$9:$A$28),VLOOKUP(Data!$W184,tabulka_kce_def,23,FALSE),VLOOKUP(Data!$W184,tabulka_panely_def,24,FALSE))","v":0},null,0,null,0,0,{"$error":"#N/A"},0,{"$f":"IF(AND(W184>MAX(Konstrukce!A:A),ISNUMBER(W184)),1,0)","v":0}]
[null,"=",{"$f":"IF(Data!$B185<MIN(Panely!$A$9:$A$28),VLOOKUP(Data!$B185,tabulka_kce_def,4,FALSE),VLOOKUP(Data!$B185,tabulka_panely_def,4,FALSE))","v":0},{"$f":"IF(Data!$B185<MIN(Panely!$A$9:$A$28),VLOOKUP(Data!$B185,tabulka_kce_def,23,FALSE),VLOOKUP(Data!$B185,tabulka_panely_def,24,FALSE))","v":0},{"$f":"IF(Data!$B185<MIN(Panely!$A$9:$A$28),VLOOKUP(Data!$B185,tabulka_kce_def,21,FALSE),VLOOKUP(Data!$B185,tabulka_panely_def,22,FALSE))","v":0},{"$f":"IF(Data!$B185<MIN(Panely!$A$9:$A$28),VLOOKUP(Data!$B185,tabulka_kce_def,26,FALSE),VLOOKUP(Data!$B185,tabulka_panely_def,31,FALSE))","v":{"$error":"#DIV/0!"}},{"$f":"IF(Data!$B185<MIN(Panely!$A$9:$A$28),VLOOKUP(Data!$B185,tabulka_kce_def,27,FALSE),VLOOKUP(Data!$B185,tabulka_panely_def,32,FALSE))","v":{"$error":"#DIV/0!"}},{"$f":"IF(VLOOKUP(Data!$B185,tabulka_kce_def,3,FALSE)=\"\",Konstrukce!$G$1,IF(VLOOKUP(Data!$B185,tabulka_kce_def,3,FALSE)=\"z\",Konstrukce!$G$2,VLOOKUP(Data!$B185,tabulka_kce_def,3,FALSE)))","v":{"$error":"#N/A"}},{"$f":"IF(Data!$B185<MIN(Panely!$A$9:$A$28),0,VLOOKUP(Data!$B185,tabulka_panely_def,25,FALSE))","v":0},{"$f":"IF(Data!$B185<MIN(Panely!$A$9:$A$28),VLOOKUP(Data!$B185,tabulka_kce_def,24,FALSE),VLOOKUP(Data!$B185,tabulka_panely_def,33,FALSE))","v":{"$error":"#N/A"}},{"$f":"Konstrukce!$D$1","v":18.770175404064034},{"$f":"Konstrukce!$D$2","v":19.934229593106764},{"$f":"Konstrukce!$G$1","v":-12},{"$f":"IF(Data!$B185<MIN(Panely!$A$9:$A$28),VLOOKUP(Data!$B185,tabulka_kce_def,59,FALSE),VLOOKUP(Data!$B185,tabulka_panely_def,63,FALSE))","v":""},{"$f":"IF(Data!$B185<MIN(Panely!$A$9:$A$28),VLOOKUP(Data!$B185,tabulka_kce_def,60,FALSE),VLOOKUP(Data!$B185,tabulka_panely_def,64,FALSE))","v":""},{"$f":"IF(Data!$B185<MIN(Panely!$A$9:$A$28),VLOOKUP(Data!$B185,tabulka_kce_def,61,FALSE),VLOOKUP(Data!$B185,tabulka_panely_def,65,FALSE))","v":""},{"$f":"IF(Data!$B185<MIN(Panely!$A$9:$A$28),VLOOKUP(Data!$B185,tabulka_kce_def,25,FALSE),0)","v":0},0,null,null,null,null,"=",{"$f":"IF(Data!$W185<MIN(Panely!$A$9:$A$28),VLOOKUP(Data!$W185,tabulka_kce_def,62,FALSE),VLOOKUP(Data!$W185,tabulka_panely_def,65,FALSE))","v":""},{"$f":"IF(Data!$W185<MIN(Panely!$A$9:$A$28),VLOOKUP(Data!$W185,tabulka_kce_def,Y$1-20,FALSE),VLOOKUP(Data!$W185,tabulka_panely_def,Y$1-18,FALSE))","v":0},{"$f":"IF(Data!$W185<MIN(Panely!$A$9:$A$28),VLOOKUP(Data!$W185,tabulka_kce_def,Z$1-20,FALSE),VLOOKUP(Data!$W185,tabulka_panely_def,Z$1-18,FALSE))","v":0},{"$f":"IF(Data!$W185<MIN(Panely!$A$9:$A$28),VLOOKUP(Data!$W185,tabulka_kce_def,AA$1-20,FALSE),VLOOKUP(Data!$W185,tabulka_panely_def,AA$1-18,FALSE))","v":0},{"$f":"IF(Data!$W185<MIN(Panely!$A$9:$A$28),VLOOKUP(Data!$W185,tabulka_kce_def,AB$1-20,FALSE),VLOOKUP(Data!$W185,tabulka_panely_def,AB$1-18,FALSE))","v":0},{"$f":"IF(Data!$W185<MIN(Panely!$A$9:$A$28),VLOOKUP(Data!$W185,tabulka_kce_def,AC$1-20,FALSE),VLOOKUP(Data!$W185,tabulka_panely_def,AC$1-18,FALSE))","v":0},{"$f":"IF(Data!$W185<MIN(Panely!$A$9:$A$28),VLOOKUP(Data!$W185,tabulka_kce_def,AD$1-20,FALSE),VLOOKUP(Data!$W185,tabulka_panely_def,AD$1-18,FALSE))","v":0},{"$f":"IF(Data!$W185<MIN(Panely!$A$9:$A$28),VLOOKUP(Data!$W185,tabulka_kce_def,AE$1-20,FALSE),VLOOKUP(Data!$W185,tabulka_panely_def,AE$1-18,FALSE))","v":0},{"$f":"IF(Data!$W185<MIN(Panely!$A$9:$A$28),VLOOKUP(Data!$W185,tabulka_kce_def,AF$1-20,FALSE),VLOOKUP(Data!$W185,tabulka_panely_def,AF$1-18,FALSE))","v":0},{"$f":"IF(Data!$W185<MIN(Panely!$A$9:$A$28),VLOOKUP(Data!$W185,tabulka_kce_def,AG$1-20,FALSE),VLOOKUP(Data!$W185,tabulka_panely_def,AG$1-18,FALSE))","v":0},{"$f":"IF(Data!$W185<MIN(Panely!$A$9:$A$28),VLOOKUP(Data!$W185,tabulka_kce_def,AH$1-20,FALSE),VLOOKUP(Data!$W185,tabulka_panely_def,AH$1-18,FALSE))","v":0},{"$f":"IF(Data!$W185<MIN(Panely!$A$9:$A$28),VLOOKUP(Data!$W185,tabulka_kce_def,AI$1-20,FALSE),VLOOKUP(Data!$W185,tabulka_panely_def,AI$1-18,FALSE))","v":0},{"$f":"IF(Data!$W185<MIN(Panely!$A$9:$A$28),VLOOKUP(Data!$W185,tabulka_kce_def,AJ$1-20,FALSE),VLOOKUP(Data!$W185,tabulka_panely_def,AJ$1-18,FALSE))","v":0},{"$f":"IF(Data!$W185<MIN(Panely!$A$9:$A$28),VLOOKUP(Data!$W185,tabulka_kce_def,AK$1-20,FALSE),VLOOKUP(Data!$W185,tabulka_panely_def,AK$1-18,FALSE))","v":0},{"$f":"IF(Data!$W185<MIN(Panely!$A$9:$A$28),VLOOKUP(Data!$W185,tabulka_kce_def,AL$1-20,FALSE),VLOOKUP(Data!$W185,tabulka_panely_def,AL$1-18,FALSE))","v":0},{"$f":"IF(Data!$W185<MIN(Panely!$A$9:$A$28),VLOOKUP(Data!$W185,tabulka_kce_def,AM$1-20,FALSE),VLOOKUP(Data!$W185,tabulka_panely_def,AM$1-18,FALSE))","v":0},185,{"$f":"IF(Data!$W185<MIN(Panely!$A$9:$A$28),VLOOKUP(Data!$W185,tabulka_kce_def,63,FALSE),0)","v":0},{"$f":"IF(Data!$W185<MIN(Panely!$A$9:$A$28),VLOOKUP(Data!$W185,tabulka_kce_def,28,FALSE),1)","v":1},{"$f":"IF(Data!$W185<MIN(Panely!$A$9:$A$28),VLOOKUP(Data!$W185,tabulka_kce_def,23,FALSE),VLOOKUP(Data!$W185,tabulka_panely_def,24,FALSE))","v":0},null,0,null,0,0,{"$error":"#N/A"},0,{"$f":"IF(AND(W185>MAX(Konstrukce!A:A),ISNUMBER(W185)),1,0)","v":0}]
[null,"=",{"$f":"IF(Data!$B186<MIN(Panely!$A$9:$A$28),VLOOKUP(Data!$B186,tabulka_kce_def,4,FALSE),VLOOKUP(Data!$B186,tabulka_panely_def,4,FALSE))","v":0},{"$f":"IF(Data!$B186<MIN(Panely!$A$9:$A$28),VLOOKUP(Data!$B186,tabulka_kce_def,23,FALSE),VLOOKUP(Data!$B186,tabulka_panely_def,24,FALSE))","v":0},{"$f":"IF(Data!$B186<MIN(Panely!$A$9:$A$28),VLOOKUP(Data!$B186,tabulka_kce_def,21,FALSE),VLOOKUP(Data!$B186,tabulka_panely_def,22,FALSE))","v":0},{"$f":"IF(Data!$B186<MIN(Panely!$A$9:$A$28),VLOOKUP(Data!$B186,tabulka_kce_def,26,FALSE),VLOOKUP(Data!$B186,tabulka_panely_def,31,FALSE))","v":{"$error":"#DIV/0!"}},{"$f":"IF(Data!$B186<MIN(Panely!$A$9:$A$28),VLOOKUP(Data!$B186,tabulka_kce_def,27,FALSE),VLOOKUP(Data!$B186,tabulka_panely_def,32,FALSE))","v":{"$error":"#DIV/0!"}},{"$f":"IF(VLOOKUP(Data!$B186,tabulka_kce_def,3,FALSE)=\"\",Konstrukce!$G$1,IF(VLOOKUP(Data!$B186,tabulka_kce_def,3,FALSE)=\"z\",Konstrukce!$G$2,VLOOKUP(Data!$B186,tabulka_kce_def,3,FALSE)))","v":{"$error":"#N/A"}},{"$f":"IF(Data!$B186<MIN(Panely!$A$9:$A$28),0,VLOOKUP(Data!$B186,tabulka_panely_def,25,FALSE))","v":0},{"$f":"IF(Data!$B186<MIN(Panely!$A$9:$A$28),VLOOKUP(Data!$B186,tabulka_kce_def,24,FALSE),VLOOKUP(Data!$B186,tabulka_panely_def,33,FALSE))","v":{"$error":"#N/A"}},{"$f":"Konstrukce!$D$1","v":18.770175404064034},{"$f":"Konstrukce!$D$2","v":19.934229593106764},{"$f":"Konstrukce!$G$1","v":-12},{"$f":"IF(Data!$B186<MIN(Panely!$A$9:$A$28),VLOOKUP(Data!$B186,tabulka_kce_def,59,FALSE),VLOOKUP(Data!$B186,tabulka_panely_def,63,FALSE))","v":""},{"$f":"IF(Data!$B186<MIN(Panely!$A$9:$A$28),VLOOKUP(Data!$B186,tabulka_kce_def,60,FALSE),VLOOKUP(Data!$B186,tabulka_panely_def,64,FALSE))","v":""},{"$f":"IF(Data!$B186<MIN(Panely!$A$9:$A$28),VLOOKUP(Data!$B186,tabulka_kce_def,61,FALSE),VLOOKUP(Data!$B186,tabulka_panely_def,65,FALSE))","v":""},{"$f":"IF(Data!$B186<MIN(Panely!$A$9:$A$28),VLOOKUP(Data!$B186,tabulka_kce_def,25,FALSE),0)","v":0},0,null,null,null,null,"=",{"$f":"IF(Data!$W186<MIN(Panely!$A$9:$A$28),VLOOKUP(Data!$W186,tabulka_kce_def,62,FALSE),VLOOKUP(Data!$W186,tabulka_panely_def,65,FALSE))","v":""},{"$f":"IF(Data!$W186<MIN(Panely!$A$9:$A$28),VLOOKUP(Data!$W186,tabulka_kce_def,Y$1-20,FALSE),VLOOKUP(Data!$W186,tabulka_panely_def,Y$1-18,FALSE))","v":0},{"$f":"IF(Data!$W186<MIN(Panely!$A$9:$A$28),VLOOKUP(Data!$W186,tabulka_kce_def,Z$1-20,FALSE),VLOOKUP(Data!$W186,tabulka_panely_def,Z$1-18,FALSE))","v":0},{"$f":"IF(Data!$W186<MIN(Panely!$A$9:$A$28),VLOOKUP(Data!$W186,tabulka_kce_def,AA$1-20,FALSE),VLOOKUP(Data!$W186,tabulka_panely_def,AA$1-18,FALSE))","v":0},{"$f":"IF(Data!$W186<MIN(Panely!$A$9:$A$28),VLOOKUP(Data!$W186,tabulka_kce_def,AB$1-20,FALSE),VLOOKUP(Data!$W186,tabulka_panely_def,AB$1-18,FALSE))","v":0},{"$f":"IF(Data!$W186<MIN(Panely!$A$9:$A$28),VLOOKUP(Data!$W186,tabulka_kce_def,AC$1-20,FALSE),VLOOKUP(Data!$W186,tabulka_panely_def,AC$1-18,FALSE))","v":0},{"$f":"IF(Data!$W186<MIN(Panely!$A$9:$A$28),VLOOKUP(Data!$W186,tabulka_kce_def,AD$1-20,FALSE),VLOOKUP(Data!$W186,tabulka_panely_def,AD$1-18,FALSE))","v":0},{"$f":"IF(Data!$W186<MIN(Panely!$A$9:$A$28),VLOOKUP(Data!$W186,tabulka_kce_def,AE$1-20,FALSE),VLOOKUP(Data!$W186,tabulka_panely_def,AE$1-18,FALSE))","v":0},{"$f":"IF(Data!$W186<MIN(Panely!$A$9:$A$28),VLOOKUP(Data!$W186,tabulka_kce_def,AF$1-20,FALSE),VLOOKUP(Data!$W186,tabulka_panely_def,AF$1-18,FALSE))","v":0},{"$f":"IF(Data!$W186<MIN(Panely!$A$9:$A$28),VLOOKUP(Data!$W186,tabulka_kce_def,AG$1-20,FALSE),VLOOKUP(Data!$W186,tabulka_panely_def,AG$1-18,FALSE))","v":0},{"$f":"IF(Data!$W186<MIN(Panely!$A$9:$A$28),VLOOKUP(Data!$W186,tabulka_kce_def,AH$1-20,FALSE),VLOOKUP(Data!$W186,tabulka_panely_def,AH$1-18,FALSE))","v":0},{"$f":"IF(Data!$W186<MIN(Panely!$A$9:$A$28),VLOOKUP(Data!$W186,tabulka_kce_def,AI$1-20,FALSE),VLOOKUP(Data!$W186,tabulka_panely_def,AI$1-18,FALSE))","v":0},{"$f":"IF(Data!$W186<MIN(Panely!$A$9:$A$28),VLOOKUP(Data!$W186,tabulka_kce_def,AJ$1-20,FALSE),VLOOKUP(Data!$W186,tabulka_panely_def,AJ$1-18,FALSE))","v":0},{"$f":"IF(Data!$W186<MIN(Panely!$A$9:$A$28),VLOOKUP(Data!$W186,tabulka_kce_def,AK$1-20,FALSE),VLOOKUP(Data!$W186,tabulka_panely_def,AK$1-18,FALSE))","v":0},{"$f":"IF(Data!$W186<MIN(Panely!$A$9:$A$28),VLOOKUP(Data!$W186,tabulka_kce_def,AL$1-20,FALSE),VLOOKUP(Data!$W186,tabulka_panely_def,AL$1-18,FALSE))","v":0},{"$f":"IF(Data!$W186<MIN(Panely!$A$9:$A$28),VLOOKUP(Data!$W186,tabulka_kce_def,AM$1-20,FALSE),VLOOKUP(Data!$W186,tabulka_panely_def,AM$1-18,FALSE))","v":0},186,{"$f":"IF(Data!$W186<MIN(Panely!$A$9:$A$28),VLOOKUP(Data!$W186,tabulka_kce_def,63,FALSE),0)","v":0},{"$f":"IF(Data!$W186<MIN(Panely!$A$9:$A$28),VLOOKUP(Data!$W186,tabulka_kce_def,28,FALSE),1)","v":1},{"$f":"IF(Data!$W186<MIN(Panely!$A$9:$A$28),VLOOKUP(Data!$W186,tabulka_kce_def,23,FALSE),VLOOKUP(Data!$W186,tabulka_panely_def,24,FALSE))","v":0},null,0,null,0,0,{"$error":"#N/A"},0,{"$f":"IF(AND(W186>MAX(Konstrukce!A:A),ISNUMBER(W186)),1,0)","v":0}]
[null,"=",{"$f":"IF(Data!$B187<MIN(Panely!$A$9:$A$28),VLOOKUP(Data!$B187,tabulka_kce_def,4,FALSE),VLOOKUP(Data!$B187,tabulka_panely_def,4,FALSE))","v":0},{"$f":"IF(Data!$B187<MIN(Panely!$A$9:$A$28),VLOOKUP(Data!$B187,tabulka_kce_def,23,FALSE),VLOOKUP(Data!$B187,tabulka_panely_def,24,FALSE))","v":0},{"$f":"IF(Data!$B187<MIN(Panely!$A$9:$A$28),VLOOKUP(Data!$B187,tabulka_kce_def,21,FALSE),VLOOKUP(Data!$B187,tabulka_panely_def,22,FALSE))","v":0},{"$f":"IF(Data!$B187<MIN(Panely!$A$9:$A$28),VLOOKUP(Data!$B187,tabulka_kce_def,26,FALSE),VLOOKUP(Data!$B187,tabulka_panely_def,31,FALSE))","v":{"$error":"#DIV/0!"}},{"$f":"IF(Data!$B187<MIN(Panely!$A$9:$A$28),VLOOKUP(Data!$B187,tabulka_kce_def,27,FALSE),VLOOKUP(Data!$B187,tabulka_panely_def,32,FALSE))","v":{"$error":"#DIV/0!"}},{"$f":"IF(VLOOKUP(Data!$B187,tabulka_kce_def,3,FALSE)=\"\",Konstrukce!$G$1,IF(VLOOKUP(Data!$B187,tabulka_kce_def,3,FALSE)=\"z\",Konstrukce!$G$2,VLOOKUP(Data!$B187,tabulka_kce_def,3,FALSE)))","v":{"$error":"#N/A"}},{"$f":"IF(Data!$B187<MIN(Panely!$A$9:$A$28),0,VLOOKUP(Data!$B187,tabulka_panely_def,25,FALSE))","v":0},{"$f":"IF(Data!$B187<MIN(Panely!$A$9:$A$28),VLOOKUP(Data!$B187,tabulka_kce_def,24,FALSE),VLOOKUP(Data!$B187,tabulka_panely_def,33,FALSE))","v":{"$error":"#N/A"}},{"$f":"Konstrukce!$D$1","v":18.770175404064034},{"$f":"Konstrukce!$D$2","v":19.934229593106764},{"$f":"Konstrukce!$G$1","v":-12},{"$f":"IF(Data!$B187<MIN(Panely!$A$9:$A$28),VLOOKUP(Data!$B187,tabulka_kce_def,59,FALSE),VLOOKUP(Data!$B187,tabulka_panely_def,63,FALSE))","v":""},{"$f":"IF(Data!$B187<MIN(Panely!$A$9:$A$28),VLOOKUP(Data!$B187,tabulka_kce_def,60,FALSE),VLOOKUP(Data!$B187,tabulka_panely_def,64,FALSE))","v":""},{"$f":"IF(Data!$B187<MIN(Panely!$A$9:$A$28),VLOOKUP(Data!$B187,tabulka_kce_def,61,FALSE),VLOOKUP(Data!$B187,tabulka_panely_def,65,FALSE))","v":""},{"$f":"IF(Data!$B187<MIN(Panely!$A$9:$A$28),VLOOKUP(Data!$B187,tabulka_kce_def,25,FALSE),0)","v":0},0,null,null,null,null,"=",{"$f":"IF(Data!$W187<MIN(Panely!$A$9:$A$28),VLOOKUP(Data!$W187,tabulka_kce_def,62,FALSE),VLOOKUP(Data!$W187,tabulka_panely_def,65,FALSE))","v":""},{"$f":"IF(Data!$W187<MIN(Panely!$A$9:$A$28),VLOOKUP(Data!$W187,tabulka_kce_def,Y$1-20,FALSE),VLOOKUP(Data!$W187,tabulka_panely_def,Y$1-18,FALSE))","v":0},{"$f":"IF(Data!$W187<MIN(Panely!$A$9:$A$28),VLOOKUP(Data!$W187,tabulka_kce_def,Z$1-20,FALSE),VLOOKUP(Data!$W187,tabulka_panely_def,Z$1-18,FALSE))","v":0},{"$f":"IF(Data!$W187<MIN(Panely!$A$9:$A$28),VLOOKUP(Data!$W187,tabulka_kce_def,AA$1-20,FALSE),VLOOKUP(Data!$W187,tabulka_panely_def,AA$1-18,FALSE))","v":0},{"$f":"IF(Data!$W187<MIN(Panely!$A$9:$A$28),VLOOKUP(Data!$W187,tabulka_kce_def,AB$1-20,FALSE),VLOOKUP(Data!$W187,tabulka_panely_def,AB$1-18,FALSE))","v":0},{"$f":"IF(Data!$W187<MIN(Panely!$A$9:$A$28),VLOOKUP(Data!$W187,tabulka_kce_def,AC$1-20,FALSE),VLOOKUP(Data!$W187,tabulka_panely_def,AC$1-18,FALSE))","v":0},{"$f":"IF(Data!$W187<MIN(Panely!$A$9:$A$28),VLOOKUP(Data!$W187,tabulka_kce_def,AD$1-20,FALSE),VLOOKUP(Data!$W187,tabulka_panely_def,AD$1-18,FALSE))","v":0},{"$f":"IF(Data!$W187<MIN(Panely!$A$9:$A$28),VLOOKUP(Data!$W187,tabulka_kce_def,AE$1-20,FALSE),VLOOKUP(Data!$W187,tabulka_panely_def,AE$1-18,FALSE))","v":0},{"$f":"IF(Data!$W187<MIN(Panely!$A$9:$A$28),VLOOKUP(Data!$W187,tabulka_kce_def,AF$1-20,FALSE),VLOOKUP(Data!$W187,tabulka_panely_def,AF$1-18,FALSE))","v":0},{"$f":"IF(Data!$W187<MIN(Panely!$A$9:$A$28),VLOOKUP(Data!$W187,tabulka_kce_def,AG$1-20,FALSE),VLOOKUP(Data!$W187,tabulka_panely_def,AG$1-18,FALSE))","v":0},{"$f":"IF(Data!$W187<MIN(Panely!$A$9:$A$28),VLOOKUP(Data!$W187,tabulka_kce_def,AH$1-20,FALSE),VLOOKUP(Data!$W187,tabulka_panely_def,AH$1-18,FALSE))","v":0},{"$f":"IF(Data!$W187<MIN(Panely!$A$9:$A$28),VLOOKUP(Data!$W187,tabulka_kce_def,AI$1-20,FALSE),VLOOKUP(Data!$W187,tabulka_panely_def,AI$1-18,FALSE))","v":0},{"$f":"IF(Data!$W187<MIN(Panely!$A$9:$A$28),VLOOKUP(Data!$W187,tabulka_kce_def,AJ$1-20,FALSE),VLOOKUP(Data!$W187,tabulka_panely_def,AJ$1-18,FALSE))","v":0},{"$f":"IF(Data!$W187<MIN(Panely!$A$9:$A$28),VLOOKUP(Data!$W187,tabulka_kce_def,AK$1-20,FALSE),VLOOKUP(Data!$W187,tabulka_panely_def,AK$1-18,FALSE))","v":0},{"$f":"IF(Data!$W187<MIN(Panely!$A$9:$A$28),VLOOKUP(Data!$W187,tabulka_kce_def,AL$1-20,FALSE),VLOOKUP(Data!$W187,tabulka_panely_def,AL$1-18,FALSE))","v":0},{"$f":"IF(Data!$W187<MIN(Panely!$A$9:$A$28),VLOOKUP(Data!$W187,tabulka_kce_def,AM$1-20,FALSE),VLOOKUP(Data!$W187,tabulka_panely_def,AM$1-18,FALSE))","v":0},187,{"$f":"IF(Data!$W187<MIN(Panely!$A$9:$A$28),VLOOKUP(Data!$W187,tabulka_kce_def,63,FALSE),0)","v":0},{"$f":"IF(Data!$W187<MIN(Panely!$A$9:$A$28),VLOOKUP(Data!$W187,tabulka_kce_def,28,FALSE),1)","v":1},{"$f":"IF(Data!$W187<MIN(Panely!$A$9:$A$28),VLOOKUP(Data!$W187,tabulka_kce_def,23,FALSE),VLOOKUP(Data!$W187,tabulka_panely_def,24,FALSE))","v":0},null,0,null,0,0,{"$error":"#N/A"},0,{"$f":"IF(AND(W187>MAX(Konstrukce!A:A),ISNUMBER(W187)),1,0)","v":0}]
[null,"=",{"$f":"IF(Data!$B188<MIN(Panely!$A$9:$A$28),VLOOKUP(Data!$B188,tabulka_kce_def,4,FALSE),VLOOKUP(Data!$B188,tabulka_panely_def,4,FALSE))","v":0},{"$f":"IF(Data!$B188<MIN(Panely!$A$9:$A$28),VLOOKUP(Data!$B188,tabulka_kce_def,23,FALSE),VLOOKUP(Data!$B188,tabulka_panely_def,24,FALSE))","v":0},{"$f":"IF(Data!$B188<MIN(Panely!$A$9:$A$28),VLOOKUP(Data!$B188,tabulka_kce_def,21,FALSE),VLOOKUP(Data!$B188,tabulka_panely_def,22,FALSE))","v":0},{"$f":"IF(Data!$B188<MIN(Panely!$A$9:$A$28),VLOOKUP(Data!$B188,tabulka_kce_def,26,FALSE),VLOOKUP(Data!$B188,tabulka_panely_def,31,FALSE))","v":{"$error":"#DIV/0!"}},{"$f":"IF(Data!$B188<MIN(Panely!$A$9:$A$28),VLOOKUP(Data!$B188,tabulka_kce_def,27,FALSE),VLOOKUP(Data!$B188,tabulka_panely_def,32,FALSE))","v":{"$error":"#DIV/0!"}},{"$f":"IF(VLOOKUP(Data!$B188,tabulka_kce_def,3,FALSE)=\"\",Konstrukce!$G$1,IF(VLOOKUP(Data!$B188,tabulka_kce_def,3,FALSE)=\"z\",Konstrukce!$G$2,VLOOKUP(Data!$B188,tabulka_kce_def,3,FALSE)))","v":{"$error":"#N/A"}},{"$f":"IF(Data!$B188<MIN(Panely!$A$9:$A$28),0,VLOOKUP(Data!$B188,tabulka_panely_def,25,FALSE))","v":0},{"$f":"IF(Data!$B188<MIN(Panely!$A$9:$A$28),VLOOKUP(Data!$B188,tabulka_kce_def,24,FALSE),VLOOKUP(Data!$B188,tabulka_panely_def,33,FALSE))","v":{"$error":"#N/A"}},{"$f":"Konstrukce!$D$1","v":18.770175404064034},{"$f":"Konstrukce!$D$2","v":19.934229593106764},{"$f":"Konstrukce!$G$1","v":-12},{"$f":"IF(Data!$B188<MIN(Panely!$A$9:$A$28),VLOOKUP(Data!$B188,tabulka_kce_def,59,FALSE),VLOOKUP(Data!$B188,tabulka_panely_def,63,FALSE))","v":""},{"$f":"IF(Data!$B188<MIN(Panely!$A$9:$A$28),VLOOKUP(Data!$B188,tabulka_kce_def,60,FALSE),VLOOKUP(Data!$B188,tabulka_panely_def,64,FALSE))","v":""},{"$f":"IF(Data!$B188<MIN(Panely!$A$9:$A$28),VLOOKUP(Data!$B188,tabulka_kce_def,61,FALSE),VLOOKUP(Data!$B188,tabulka_panely_def,65,FALSE))","v":""},{"$f":"IF(Data!$B188<MIN(Panely!$A$9:$A$28),VLOOKUP(Data!$B188,tabulka_kce_def,25,FALSE),0)","v":0},0,null,null,null,null,"=",{"$f":"IF(Data!$W188<MIN(Panely!$A$9:$A$28),VLOOKUP(Data!$W188,tabulka_kce_def,62,FALSE),VLOOKUP(Data!$W188,tabulka_panely_def,65,FALSE))","v":""},{"$f":"IF(Data!$W188<MIN(Panely!$A$9:$A$28),VLOOKUP(Data!$W188,tabulka_kce_def,Y$1-20,FALSE),VLOOKUP(Data!$W188,tabulka_panely_def,Y$1-18,FALSE))","v":0},{"$f":"IF(Data!$W188<MIN(Panely!$A$9:$A$28),VLOOKUP(Data!$W188,tabulka_kce_def,Z$1-20,FALSE),VLOOKUP(Data!$W188,tabulka_panely_def,Z$1-18,FALSE))","v":0},{"$f":"IF(Data!$W188<MIN(Panely!$A$9:$A$28),VLOOKUP(Data!$W188,tabulka_kce_def,AA$1-20,FALSE),VLOOKUP(Data!$W188,tabulka_panely_def,AA$1-18,FALSE))","v":0},{"$f":"IF(Data!$W188<MIN(Panely!$A$9:$A$28),VLOOKUP(Data!$W188,tabulka_kce_def,AB$1-20,FALSE),VLOOKUP(Data!$W188,tabulka_panely_def,AB$1-18,FALSE))","v":0},{"$f":"IF(Data!$W188<MIN(Panely!$A$9:$A$28),VLOOKUP(Data!$W188,tabulka_kce_def,AC$1-20,FALSE),VLOOKUP(Data!$W188,tabulka_panely_def,AC$1-18,FALSE))","v":0},{"$f":"IF(Data!$W188<MIN(Panely!$A$9:$A$28),VLOOKUP(Data!$W188,tabulka_kce_def,AD$1-20,FALSE),VLOOKUP(Data!$W188,tabulka_panely_def,AD$1-18,FALSE))","v":0},{"$f":"IF(Data!$W188<MIN(Panely!$A$9:$A$28),VLOOKUP(Data!$W188,tabulka_kce_def,AE$1-20,FALSE),VLOOKUP(Data!$W188,tabulka_panely_def,AE$1-18,FALSE))","v":0},{"$f":"IF(Data!$W188<MIN(Panely!$A$9:$A$28),VLOOKUP(Data!$W188,tabulka_kce_def,AF$1-20,FALSE),VLOOKUP(Data!$W188,tabulka_panely_def,AF$1-18,FALSE))","v":0},{"$f":"IF(Data!$W188<MIN(Panely!$A$9:$A$28),VLOOKUP(Data!$W188,tabulka_kce_def,AG$1-20,FALSE),VLOOKUP(Data!$W188,tabulka_panely_def,AG$1-18,FALSE))","v":0},{"$f":"IF(Data!$W188<MIN(Panely!$A$9:$A$28),VLOOKUP(Data!$W188,tabulka_kce_def,AH$1-20,FALSE),VLOOKUP(Data!$W188,tabulka_panely_def,AH$1-18,FALSE))","v":0},{"$f":"IF(Data!$W188<MIN(Panely!$A$9:$A$28),VLOOKUP(Data!$W188,tabulka_kce_def,AI$1-20,FALSE),VLOOKUP(Data!$W188,tabulka_panely_def,AI$1-18,FALSE))","v":0},{"$f":"IF(Data!$W188<MIN(Panely!$A$9:$A$28),VLOOKUP(Data!$W188,tabulka_kce_def,AJ$1-20,FALSE),VLOOKUP(Data!$W188,tabulka_panely_def,AJ$1-18,FALSE))","v":0},{"$f":"IF(Data!$W188<MIN(Panely!$A$9:$A$28),VLOOKUP(Data!$W188,tabulka_kce_def,AK$1-20,FALSE),VLOOKUP(Data!$W188,tabulka_panely_def,AK$1-18,FALSE))","v":0},{"$f":"IF(Data!$W188<MIN(Panely!$A$9:$A$28),VLOOKUP(Data!$W188,tabulka_kce_def,AL$1-20,FALSE),VLOOKUP(Data!$W188,tabulka_panely_def,AL$1-18,FALSE))","v":0},{"$f":"IF(Data!$W188<MIN(Panely!$A$9:$A$28),VLOOKUP(Data!$W188,tabulka_kce_def,AM$1-20,FALSE),VLOOKUP(Data!$W188,tabulka_panely_def,AM$1-18,FALSE))","v":0},188,{"$f":"IF(Data!$W188<MIN(Panely!$A$9:$A$28),VLOOKUP(Data!$W188,tabulka_kce_def,63,FALSE),0)","v":0},{"$f":"IF(Data!$W188<MIN(Panely!$A$9:$A$28),VLOOKUP(Data!$W188,tabulka_kce_def,28,FALSE),1)","v":1},{"$f":"IF(Data!$W188<MIN(Panely!$A$9:$A$28),VLOOKUP(Data!$W188,tabulka_kce_def,23,FALSE),VLOOKUP(Data!$W188,tabulka_panely_def,24,FALSE))","v":0},null,0,null,0,0,{"$error":"#N/A"},0,{"$f":"IF(AND(W188>MAX(Konstrukce!A:A),ISNUMBER(W188)),1,0)","v":0}]
[null,"=",{"$f":"IF(Data!$B189<MIN(Panely!$A$9:$A$28),VLOOKUP(Data!$B189,tabulka_kce_def,4,FALSE),VLOOKUP(Data!$B189,tabulka_panely_def,4,FALSE))","v":0},{"$f":"IF(Data!$B189<MIN(Panely!$A$9:$A$28),VLOOKUP(Data!$B189,tabulka_kce_def,23,FALSE),VLOOKUP(Data!$B189,tabulka_panely_def,24,FALSE))","v":0},{"$f":"IF(Data!$B189<MIN(Panely!$A$9:$A$28),VLOOKUP(Data!$B189,tabulka_kce_def,21,FALSE),VLOOKUP(Data!$B189,tabulka_panely_def,22,FALSE))","v":0},{"$f":"IF(Data!$B189<MIN(Panely!$A$9:$A$28),VLOOKUP(Data!$B189,tabulka_kce_def,26,FALSE),VLOOKUP(Data!$B189,tabulka_panely_def,31,FALSE))","v":{"$error":"#DIV/0!"}},{"$f":"IF(Data!$B189<MIN(Panely!$A$9:$A$28),VLOOKUP(Data!$B189,tabulka_kce_def,27,FALSE),VLOOKUP(Data!$B189,tabulka_panely_def,32,FALSE))","v":{"$error":"#DIV/0!"}},{"$f":"IF(VLOOKUP(Data!$B189,tabulka_kce_def,3,FALSE)=\"\",Konstrukce!$G$1,IF(VLOOKUP(Data!$B189,tabulka_kce_def,3,FALSE)=\"z\",Konstrukce!$G$2,VLOOKUP(Data!$B189,tabulka_kce_def,3,FALSE)))","v":{"$error":"#N/A"}},{"$f":"IF(Data!$B189<MIN(Panely!$A$9:$A$28),0,VLOOKUP(Data!$B189,tabulka_panely_def,25,FALSE))","v":0},{"$f":"IF(Data!$B189<MIN(Panely!$A$9:$A$28),VLOOKUP(Data!$B189,tabulka_kce_def,24,FALSE),VLOOKUP(Data!$B189,tabulka_panely_def,33,FALSE))","v":{"$error":"#N/A"}},{"$f":"Konstrukce!$D$1","v":18.770175404064034},{"$f":"Konstrukce!$D$2","v":19.934229593106764},{"$f":"Konstrukce!$G$1","v":-12},{"$f":"IF(Data!$B189<MIN(Panely!$A$9:$A$28),VLOOKUP(Data!$B189,tabulka_kce_def,59,FALSE),VLOOKUP(Data!$B189,tabulka_panely_def,63,FALSE))","v":""},{"$f":"IF(Data!$B189<MIN(Panely!$A$9:$A$28),VLOOKUP(Data!$B189,tabulka_kce_def,60,FALSE),VLOOKUP(Data!$B189,tabulka_panely_def,64,FALSE))","v":""},{"$f":"IF(Data!$B189<MIN(Panely!$A$9:$A$28),VLOOKUP(Data!$B189,tabulka_kce_def,61,FALSE),VLOOKUP(Data!$B189,tabulka_panely_def,65,FALSE))","v":""},{"$f":"IF(Data!$B189<MIN(Panely!$A$9:$A$28),VLOOKUP(Data!$B189,tabulka_kce_def,25,FALSE),0)","v":0},0,null,null,null,null,"=",{"$f":"IF(Data!$W189<MIN(Panely!$A$9:$A$28),VLOOKUP(Data!$W189,tabulka_kce_def,62,FALSE),VLOOKUP(Data!$W189,tabulka_panely_def,65,FALSE))","v":""},{"$f":"IF(Data!$W189<MIN(Panely!$A$9:$A$28),VLOOKUP(Data!$W189,tabulka_kce_def,Y$1-20,FALSE),VLOOKUP(Data!$W189,tabulka_panely_def,Y$1-18,FALSE))","v":0},{"$f":"IF(Data!$W189<MIN(Panely!$A$9:$A$28),VLOOKUP(Data!$W189,tabulka_kce_def,Z$1-20,FALSE),VLOOKUP(Data!$W189,tabulka_panely_def,Z$1-18,FALSE))","v":0},{"$f":"IF(Data!$W189<MIN(Panely!$A$9:$A$28),VLOOKUP(Data!$W189,tabulka_kce_def,AA$1-20,FALSE),VLOOKUP(Data!$W189,tabulka_panely_def,AA$1-18,FALSE))","v":0},{"$f":"IF(Data!$W189<MIN(Panely!$A$9:$A$28),VLOOKUP(Data!$W189,tabulka_kce_def,AB$1-20,FALSE),VLOOKUP(Data!$W189,tabulka_panely_def,AB$1-18,FALSE))","v":0},{"$f":"IF(Data!$W189<MIN(Panely!$A$9:$A$28),VLOOKUP(Data!$W189,tabulka_kce_def,AC$1-20,FALSE),VLOOKUP(Data!$W189,tabulka_panely_def,AC$1-18,FALSE))","v":0},{"$f":"IF(Data!$W189<MIN(Panely!$A$9:$A$28),VLOOKUP(Data!$W189,tabulka_kce_def,AD$1-20,FALSE),VLOOKUP(Data!$W189,tabulka_panely_def,AD$1-18,FALSE))","v":0},{"$f":"IF(Data!$W189<MIN(Panely!$A$9:$A$28),VLOOKUP(Data!$W189,tabulka_kce_def,AE$1-20,FALSE),VLOOKUP(Data!$W189,tabulka_panely_def,AE$1-18,FALSE))","v":0},{"$f":"IF(Data!$W189<MIN(Panely!$A$9:$A$28),VLOOKUP(Data!$W189,tabulka_kce_def,AF$1-20,FALSE),VLOOKUP(Data!$W189,tabulka_panely_def,AF$1-18,FALSE))","v":0},{"$f":"IF(Data!$W189<MIN(Panely!$A$9:$A$28),VLOOKUP(Data!$W189,tabulka_kce_def,AG$1-20,FALSE),VLOOKUP(Data!$W189,tabulka_panely_def,AG$1-18,FALSE))","v":0},{"$f":"IF(Data!$W189<MIN(Panely!$A$9:$A$28),VLOOKUP(Data!$W189,tabulka_kce_def,AH$1-20,FALSE),VLOOKUP(Data!$W189,tabulka_panely_def,AH$1-18,FALSE))","v":0},{"$f":"IF(Data!$W189<MIN(Panely!$A$9:$A$28),VLOOKUP(Data!$W189,tabulka_kce_def,AI$1-20,FALSE),VLOOKUP(Data!$W189,tabulka_panely_def,AI$1-18,FALSE))","v":0},{"$f":"IF(Data!$W189<MIN(Panely!$A$9:$A$28),VLOOKUP(Data!$W189,tabulka_kce_def,AJ$1-20,FALSE),VLOOKUP(Data!$W189,tabulka_panely_def,AJ$1-18,FALSE))","v":0},{"$f":"IF(Data!$W189<MIN(Panely!$A$9:$A$28),VLOOKUP(Data!$W189,tabulka_kce_def,AK$1-20,FALSE),VLOOKUP(Data!$W189,tabulka_panely_def,AK$1-18,FALSE))","v":0},{"$f":"IF(Data!$W189<MIN(Panely!$A$9:$A$28),VLOOKUP(Data!$W189,tabulka_kce_def,AL$1-20,FALSE),VLOOKUP(Data!$W189,tabulka_panely_def,AL$1-18,FALSE))","v":0},{"$f":"IF(Data!$W189<MIN(Panely!$A$9:$A$28),VLOOKUP(Data!$W189,tabulka_kce_def,AM$1-20,FALSE),VLOOKUP(Data!$W189,tabulka_panely_def,AM$1-18,FALSE))","v":0},189,{"$f":"IF(Data!$W189<MIN(Panely!$A$9:$A$28),VLOOKUP(Data!$W189,tabulka_kce_def,63,FALSE),0)","v":0},{"$f":"IF(Data!$W189<MIN(Panely!$A$9:$A$28),VLOOKUP(Data!$W189,tabulka_kce_def,28,FALSE),1)","v":1},{"$f":"IF(Data!$W189<MIN(Panely!$A$9:$A$28),VLOOKUP(Data!$W189,tabulka_kce_def,23,FALSE),VLOOKUP(Data!$W189,tabulka_panely_def,24,FALSE))","v":0},null,0,null,0,0,{"$error":"#N/A"},0,{"$f":"IF(AND(W189>MAX(Konstrukce!A:A),ISNUMBER(W189)),1,0)","v":0}]
[null,"=",{"$f":"IF(Data!$B190<MIN(Panely!$A$9:$A$28),VLOOKUP(Data!$B190,tabulka_kce_def,4,FALSE),VLOOKUP(Data!$B190,tabulka_panely_def,4,FALSE))","v":0},{"$f":"IF(Data!$B190<MIN(Panely!$A$9:$A$28),VLOOKUP(Data!$B190,tabulka_kce_def,23,FALSE),VLOOKUP(Data!$B190,tabulka_panely_def,24,FALSE))","v":0},{"$f":"IF(Data!$B190<MIN(Panely!$A$9:$A$28),VLOOKUP(Data!$B190,tabulka_kce_def,21,FALSE),VLOOKUP(Data!$B190,tabulka_panely_def,22,FALSE))","v":0},{"$f":"IF(Data!$B190<MIN(Panely!$A$9:$A$28),VLOOKUP(Data!$B190,tabulka_kce_def,26,FALSE),VLOOKUP(Data!$B190,tabulka_panely_def,31,FALSE))","v":{"$error":"#DIV/0!"}},{"$f":"IF(Data!$B190<MIN(Panely!$A$9:$A$28),VLOOKUP(Data!$B190,tabulka_kce_def,27,FALSE),VLOOKUP(Data!$B190,tabulka_panely_def,32,FALSE))","v":{"$error":"#DIV/0!"}},{"$f":"IF(VLOOKUP(Data!$B190,tabulka_kce_def,3,FALSE)=\"\",Konstrukce!$G$1,IF(VLOOKUP(Data!$B190,tabulka_kce_def,3,FALSE)=\"z\",Konstrukce!$G$2,VLOOKUP(Data!$B190,tabulka_kce_def,3,FALSE)))","v":{"$error":"#N/A"}},{"$f":"IF(Data!$B190<MIN(Panely!$A$9:$A$28),0,VLOOKUP(Data!$B190,tabulka_panely_def,25,FALSE))","v":0},{"$f":"IF(Data!$B190<MIN(Panely!$A$9:$A$28),VLOOKUP(Data!$B190,tabulka_kce_def,24,FALSE),VLOOKUP(Data!$B190,tabulka_panely_def,33,FALSE))","v":{"$error":"#N/A"}},{"$f":"Konstrukce!$D$1","v":18.770175404064034},{"$f":"Konstrukce!$D$2","v":19.934229593106764},{"$f":"Konstrukce!$G$1","v":-12},{"$f":"IF(Data!$B190<MIN(Panely!$A$9:$A$28),VLOOKUP(Data!$B190,tabulka_kce_def,59,FALSE),VLOOKUP(Data!$B190,tabulka_panely_def,63,FALSE))","v":""},{"$f":"IF(Data!$B190<MIN(Panely!$A$9:$A$28),VLOOKUP(Data!$B190,tabulka_kce_def,60,FALSE),VLOOKUP(Data!$B190,tabulka_panely_def,64,FALSE))","v":""},{"$f":"IF(Data!$B190<MIN(Panely!$A$9:$A$28),VLOOKUP(Data!$B190,tabulka_kce_def,61,FALSE),VLOOKUP(Data!$B190,tabulka_panely_def,65,FALSE))","v":""},{"$f":"IF(Data!$B190<MIN(Panely!$A$9:$A$28),VLOOKUP(Data!$B190,tabulka_kce_def,25,FALSE),0)","v":0},0,null,null,null,null,"=",{"$f":"IF(Data!$W190<MIN(Panely!$A$9:$A$28),VLOOKUP(Data!$W190,tabulka_kce_def,62,FALSE),VLOOKUP(Data!$W190,tabulka_panely_def,65,FALSE))","v":""},{"$f":"IF(Data!$W190<MIN(Panely!$A$9:$A$28),VLOOKUP(Data!$W190,tabulka_kce_def,Y$1-20,FALSE),VLOOKUP(Data!$W190,tabulka_panely_def,Y$1-18,FALSE))","v":0},{"$f":"IF(Data!$W190<MIN(Panely!$A$9:$A$28),VLOOKUP(Data!$W190,tabulka_kce_def,Z$1-20,FALSE),VLOOKUP(Data!$W190,tabulka_panely_def,Z$1-18,FALSE))","v":0},{"$f":"IF(Data!$W190<MIN(Panely!$A$9:$A$28),VLOOKUP(Data!$W190,tabulka_kce_def,AA$1-20,FALSE),VLOOKUP(Data!$W190,tabulka_panely_def,AA$1-18,FALSE))","v":0},{"$f":"IF(Data!$W190<MIN(Panely!$A$9:$A$28),VLOOKUP(Data!$W190,tabulka_kce_def,AB$1-20,FALSE),VLOOKUP(Data!$W190,tabulka_panely_def,AB$1-18,FALSE))","v":0},{"$f":"IF(Data!$W190<MIN(Panely!$A$9:$A$28),VLOOKUP(Data!$W190,tabulka_kce_def,AC$1-20,FALSE),VLOOKUP(Data!$W190,tabulka_panely_def,AC$1-18,FALSE))","v":0},{"$f":"IF(Data!$W190<MIN(Panely!$A$9:$A$28),VLOOKUP(Data!$W190,tabulka_kce_def,AD$1-20,FALSE),VLOOKUP(Data!$W190,tabulka_panely_def,AD$1-18,FALSE))","v":0},{"$f":"IF(Data!$W190<MIN(Panely!$A$9:$A$28),VLOOKUP(Data!$W190,tabulka_kce_def,AE$1-20,FALSE),VLOOKUP(Data!$W190,tabulka_panely_def,AE$1-18,FALSE))","v":0},{"$f":"IF(Data!$W190<MIN(Panely!$A$9:$A$28),VLOOKUP(Data!$W190,tabulka_kce_def,AF$1-20,FALSE),VLOOKUP(Data!$W190,tabulka_panely_def,AF$1-18,FALSE))","v":0},{"$f":"IF(Data!$W190<MIN(Panely!$A$9:$A$28),VLOOKUP(Data!$W190,tabulka_kce_def,AG$1-20,FALSE),VLOOKUP(Data!$W190,tabulka_panely_def,AG$1-18,FALSE))","v":0},{"$f":"IF(Data!$W190<MIN(Panely!$A$9:$A$28),VLOOKUP(Data!$W190,tabulka_kce_def,AH$1-20,FALSE),VLOOKUP(Data!$W190,tabulka_panely_def,AH$1-18,FALSE))","v":0},{"$f":"IF(Data!$W190<MIN(Panely!$A$9:$A$28),VLOOKUP(Data!$W190,tabulka_kce_def,AI$1-20,FALSE),VLOOKUP(Data!$W190,tabulka_panely_def,AI$1-18,FALSE))","v":0},{"$f":"IF(Data!$W190<MIN(Panely!$A$9:$A$28),VLOOKUP(Data!$W190,tabulka_kce_def,AJ$1-20,FALSE),VLOOKUP(Data!$W190,tabulka_panely_def,AJ$1-18,FALSE))","v":0},{"$f":"IF(Data!$W190<MIN(Panely!$A$9:$A$28),VLOOKUP(Data!$W190,tabulka_kce_def,AK$1-20,FALSE),VLOOKUP(Data!$W190,tabulka_panely_def,AK$1-18,FALSE))","v":0},{"$f":"IF(Data!$W190<MIN(Panely!$A$9:$A$28),VLOOKUP(Data!$W190,tabulka_kce_def,AL$1-20,FALSE),VLOOKUP(Data!$W190,tabulka_panely_def,AL$1-18,FALSE))","v":0},{"$f":"IF(Data!$W190<MIN(Panely!$A$9:$A$28),VLOOKUP(Data!$W190,tabulka_kce_def,AM$1-20,FALSE),VLOOKUP(Data!$W190,tabulka_panely_def,AM$1-18,FALSE))","v":0},190,{"$f":"IF(Data!$W190<MIN(Panely!$A$9:$A$28),VLOOKUP(Data!$W190,tabulka_kce_def,63,FALSE),0)","v":0},{"$f":"IF(Data!$W190<MIN(Panely!$A$9:$A$28),VLOOKUP(Data!$W190,tabulka_kce_def,28,FALSE),1)","v":1},{"$f":"IF(Data!$W190<MIN(Panely!$A$9:$A$28),VLOOKUP(Data!$W190,tabulka_kce_def,23,FALSE),VLOOKUP(Data!$W190,tabulka_panely_def,24,FALSE))","v":0},null,0,null,0,0,{"$error":"#N/A"},0,{"$f":"IF(AND(W190>MAX(Konstrukce!A:A),ISNUMBER(W190)),1,0)","v":0}]

{"sheet":"Data_ksi","index":8,"n_rows":43,"n_cols":42,"rows_kept":43,"cut":false,"hidden":false,"merged":[]}
[null,"index",1,2,3,4,5,6,7,8,9,10,11,12,13,14,15,16,17,18,19,20,21,22,23,24,25,26,27,28,29,30,31,32,33,34,35,36,37,38,39,40]
["index","tp [°C]",{"$f":"$B3","v":20.886750514433565},{"$f":"$B4","v":14.303520553688347},{"$f":"$B5","v":21.383136064527523},{"$f":"B6","v":17.483403437199129},{"$f":"B7","v":17.743161846609841},{"$f":"B8","v":22.077814252194585},{"$f":"B9","v":22.448082090109352},{"$f":"B10","v":22.054472226748871},{"$f":"B11","v":19.684609400862968},{"$f":"B12","v":19.780558107228796},{"$f":"B13","v":22.477401503014725},{"$f":"B14","v":19.536455285774579},{"$f":"B15","v":20.20809251642703},{"$f":"B16","v":20.714208860225476},{"$f":"B17","v":20.414110842431466},{"$f":"B18","v":20.608052087132144},{"$f":"B19","v":21.588575727877434},{"$f":"B20","v":21.142662042751972},{"$f":"B21","v":12.234955794021609},{"$f":"B22","v":21.588575727877434},{"$f":"B23","v":21.588575727877434},{"$f":"B24","v":18.08650739457175},{"$f":"B25","v":16.275240455884195},{"$f":"B26","v":19.251995661622708},{"$f":"B27","v":19.640380453027721},{"$f":"B28","v":19.847602676965117},{"$f":"B29","v":17.055263166456889},{"$f":"B30","v":21.142662042751972},{"$f":"B31","v":12.234955794021609},{"$f":"B32","v":83.119240120516523},{"$f":"B33","v":73.447382255492158},{"$f":"B34","v":"="},{"$f":"B35","v":"="},{"$f":"B36","v":"="},{"$f":"B37","v":"="},{"$f":"B38","v":"="},{"$f":"B39","v":"="},{"$f":"B40","v":"="},{"$f":"B41","v":"="},{"$f":"B42","v":"="}]
[1,20.886750514433565,{"$f":"IF(ISERR((((273.15+$B3)^4)-((273.15+C$2)^4))/((10^8)*($B3-C$2))),0,(((273.15+$B3)^4)-((273.15+C$2)^4))/((10^8)*($B3-C$2)))","v":0},{"$f":"IF(ISERR((((273.15+$B3)^4)-((273.15+D$2)^4))/((10^8)*($B3-D$2))),0,(((273.15+$B3)^4)-((273.15+D$2)^4))/((10^8)*($B3-D$2)))","v":0.98322525204901035},1.0194464734975317,0.99934971657160898,1.0006772837947093,1.0230638893454604,1.0249966452541976,1.0229421550537487,1.0106495204826038,1.0111446491237357,1.0251498275498356,1.0098854178337782,1.013353500742606,1.0159738934922249,1.0144194242610625,1.0154237730700226,1.0205150802804972,1.0181968961382559,0.97286169741453055,1.0205150802804972,{"$f":"IF(ISERR((((273.15+$B3)^4)-((273.15+W$2)^4))/((10^8)*($B3-W$2))),0,(((273.15+$B3)^4)-((273.15+W$2)^4))/((10^8)*($B3-W$2)))","v":1.0205150802804972},1.002434462344949,0.99319572630798691,1.0084197637728558,1.01042135645388,1.0114907505447976,0.99716502064520063,1.0181968961382559,0.97286169741453055,1.3876579229949995,1.323469116775629,0,0,0,0,0,0,0,0,0]
[2,14.303520553688347,{"$f":"IF(ISERR((((273.15+$B4)^4)-((273.15+C$2)^4))/((10^8)*($B4-C$2))),0,(((273.15+$B4)^4)-((273.15+C$2)^4))/((10^8)*($B4-C$2)))","v":0.98322525204901035},0,0.98576489433696679,0.96596765130858042,0.96727533036991531,0.98932874621655553,0.99123292623497861,0.98920881277043093,0.97709864058989482,0.9775863962340029,0.9913838449964314,0.97634592018314592,0.97976238004560867,0.98234383269160408,0.98081245678275908,0.98180188266424562,0.98681766707293117,0.9845338442021333,0.93987957149814416,0.98681766707293117,0.98681766707293117,0.96900620735452236,0.95990604617064379,0.9749021122117062,0.97687387484285726,0.97792734502242662,0.96381571615630235,0.9845338442021333,0.93987957149814416,1.3489680234599046,1.2855969937897924,0,0,0,0,0,0,0,0,0]
[3,21.383136064527523,1.0194464734975317,0.98576489433696679,0,1.0019077739296625,1.0032368498788844,1.0256487307691176,1.0275836543554742,1.025526859870624,1.0132203840756691,1.0137160720238212,1.0277370083553883,1.0124554179820098,1.0159274169498396,1.0185507636286069,1.0169945425796512,1.0180000234155431,1.0230970596176281,1.0207762689132824,0.97538941429572457,1.0230970596176281,1.0230970596176281,1.0049960236730839,0.99574677522958399,1.0109881066961792,1.0129919622570194,1.0140625643173118,0.99972059274527958,1.0207762689132824,0.97538941429572457,1.3906185057156704,1.3263676980106494,0,0,0,0,0,0,0,0,0]
[4,17.483403437199129,0.99934971657160898,0.96596765130858042,1.0019077739296625,0,0.98328353689418957,1.0054974235136496,1.0074153664093397,1.0053766227352265,0.99317857262554998,0.99366987924812267,1.0075673753476377,0.99242037031337627,0.99586169285453296,0.99846189987881528,0.99691940173130977,0.99791601481235415,1.0029681727168813,1.0006678006556562,0.95568558578899954,1.0029681727168813,1.0029681727168813,0.98502708110765014,0.97586018044129275,0.99096604085897,0.99295217020061588,0.99401330964546553,0.97979856622852668,1.0006678006556562,0.95568558578899954,1.3675233796391579,1.30375838789874,0,0,0,0,0,0,0,0,0]
[5,17.743161846609841,1.0006772837947093,0.96727533036991531,1.0032368498788844,0.98328353689418957,0,1.0068286130336366,1.0087476835000888,1.0067077411959804,0.9945024913361068,0.99499408888843732,1.0088997817547616,0.99374383989408477,0.99718719941972223,0.9997889429744905,0.99824553359177237,0.99924273551390064,1.0042978734588588,1.0019961455425248,0.95698706213422635,1.0042978734588588,1.0042978734588588,0.98634616118401697,0.97717379251675962,0.99228864841874687,0.99427595481898134,0.99533772260258313,0.98111453101094814,1.0019961455425248,0.95698706213422635,1.3690500776764043,1.3052528175297811,0,0,0,0,0,0,0,0,0]
[6,22.077814252194585,1.0230638893454604,0.98932874621655553,1.0256487307691176,1.0054974235136496,1.0068286130336366,0,1.0312138622012716,1.0291538396754214,1.0168279738529915,1.0173244453301227,1.0313674567393116,1.0160617981657518,1.0195392831096703,1.0221667679201196,1.0206080927664867,1.0216151594482161,1.0267202213330981,1.0243957791248937,0.97893655977480343,1.0267202213330981,1.0267202213330981,1.0085905819587968,0.99932660669939011,1.0145921652847372,1.0165991908983516,1.0176714851937629,1.003306760735313,1.0243957791248937,0.97893655977480343,1.3947720217616431,1.3304343646243739,0,0,0,0,0,0,0,0,0]
[7,22.448082090109352,1.0249966452541976,0.99123292623497861,1.0275836543554742,1.0074153664093397,1.0087476835000888,1.0312138622012716,0,1.0310916978382991,1.0187554876641207,1.0192523771454625,1.0333071653446315,1.0179886666717108,1.0214690783237195,1.0240987707800504,1.0225387863898716,1.0235466991021402,1.0286560425925284,1.0263296523517713,0.98083182702014049,1.0286560425925284,1.0286560425925284,1.0105111436014742,1.0012393117145737,1.0165177952442104,1.0185265120473295,1.0195997091317999,1.0052228462313324,1.0263296523517713,0.98083182702014049,1.3969907678358355,1.3326067812679885,0,0,0,0,0,0,0,0,0]
[8,22.054472226748871,1.0229421550537487,0.98920881277043093,1.025526859870624,1.0053766227352265,1.0067077411959804,1.0291538396754214,1.0310916978382991,0,1.0167065699174873,1.0172030150520639,1.0312452842893722,1.0159404348972678,1.0194177354005223,1.0220450810854445,1.0204864884397156,1.0214935018047204,1.0265982938633504,1.0242739744199321,0.97881718800804851,1.0265982938633504,1.0265982938633504,1.0084696161475639,0.99920613601077501,1.0144708800692284,1.0164777991043832,1.0175500365061805,1.0031860770097396,1.0242739744199321,0.97881718800804851,1.3946322641042566,1.330297526728335,0,0,0,0,0,0,0,0,0]
[9,19.684609400862968,1.0106495204826038,0.97709864058989482,1.0132203840756691,0.99317857262554998,0.9945024913361068,1.0168279738529915,1.0187554876641207,1.0167065699174873,0,1.0049411835580653,1.0189082547268937,1.003685392889528,1.0071440056429803,1.0097572549337566,1.0082070221079618,1.0092086333464145,1.014286086167963,1.0119742054653962,0.96676392453811844,1.014286086167963,1.014286086167963,0.99625484483694904,0.98704153064781719,1.0022237464693937,1.0042198668641051,1.0052863397376857,0.99099988672774231,1.0119742054653962,0.96676392453811844,1.3805132877117157,1.3164744385277041,0,0,0,0,0,0,0,0,0]
[10,19.780558107228796,1.0111446491237357,0.9775863962340029,1.0137160720238212,0.99366987924812267,0.99499408888843732,1.0173244453301227,1.0192523771454625,1.0172030150520639,1.0049411835580653,0,1.0194051773188626,1.0041790024651758,1.007638370365104,1.0102521892727265,1.0087016186374234,1.0097034481687786,1.0147820057355015,1.0124696223981662,0.96724938063075483,1.0147820057355015,1.0147820057355015,0.99674682713542428,0.98753148582790673,1.002717036477899,1.004713593229124,1.005780299040564,0.99149071411523693,1.0124696223981662,0.96724938063075483,1.3810822237298834,1.3170314160138639,0,0,0,0,0,0,0,0,0]
[11,22.477401503014725,1.0251498275498356,0.9913838449964314,1.0277370083553883,1.0075673753476377,1.0088997817547616,1.0313674567393116,1.0333071653446315,1.0312452842893722,1.0189082547268937,1.0194051773188626,0,1.0181413826190642,1.0216220260991997,1.0242518934258027,1.0226918053294365,1.0236997850567944,1.0288094676981643,1.0264829231514898,0.98098203978722731,1.0288094676981643,1.0288094676981643,1.0106633599741721,1.001390905753236,1.0166704130847557,1.0186792638490958,1.0197525324445968,1.0053747080425106,1.0264829231514898,0.98098203978722731,1.3971666033637724,1.3327789470976028,0,0,0,0,0,0,0,0,0]
[12,19.536455285774579,1.0098854178337782,0.97634592018314592,1.0124554179820098,0.99242037031337627,0.99374383989408477,1.0160617981657518,1.0179886666717108,1.0159404348972678,1.003685392889528,1.0041790024651758,1.0181413826190642,0,1.0063810823139336,1.0089934522439445,1.0074437409203321,1.0084450151634619,1.0135207625057803,1.0112096577588343,0.96601475411394122,1.0135207625057803,1.0135207625057803,0.99549559943369637,0.98628541465709085,1.0014624822562641,1.003457929011762,1.004524042285392,0.99024242424621356,1.0112096577588343,0.96601475411394122,1.3796352418154385,1.3156148542676913,0,0,0,0,0,0,0,0,0]
[13,20.20809251642703,1.013353500742606,0.97976238004560867,1.0159274169498396,0.99586169285453296,0.99718719941972223,1.0195392831096703,1.0214690783237195,1.0194177354005223,1.0071440056429803,1.007638370365104,1.0216220260991997,1.0063810823139336,0,1.0124601747213577,1.0109080981810308,1.0119109008300209,1.0169943831858594,1.0146797591782144,0.96941511332359387,1.0169943831858594,1.0169943831858594,0.99894165281174974,0.98971727488610017,1.0049176917413911,1.0069161937118061,1.0079839379202926,0.99368039135697805,1.0146797591782144,0.96941511332359387,1.3836200902813216,1.3195159753239107,0,0,0,0,{"$f":"IF(ISERR((((273.15+$B15)^4)-((273.15+AL$2)^4))/((10^8)*($B15-AL$2))),0,(((273.15+$B15)^4)-((273.15+AL$2)^4))/((10^8)*($B15-AL$2)))","v":0},0,0,0,0]
[14,20.714208860225476,1.0159738934922249,0.98234383269160408,1.0185507636286069,0.99846189987881528,0.9997889429744905,1.0221667679201196,1.0240987707800504,1.0220450810854445,1.0097572549337566,{"$f":"IF(ISERR((((273.15+$B16)^4)-((273.15+L$2)^4))/((10^8)*($B16-L$2))),0,(((273.15+$B16)^4)-((273.15+L$2)^4))/((10^8)*($B16-L$2)))","v":1.0102521892727265},1.0242518934258027,1.0089934522439445,1.0124601747213577,0,1.0135256806284589,1.0145296361732938,1.0196189531403868,1.0173016745142891,0.97198442089386183,1.0196189531403868,1.0196189531403868,1.0015454283821028,0.99231034432555298,1.0075283738995269,1.0095291804607454,{"$f":"IF(ISERR((((273.15+$B16)^4)-((273.15+AB$2)^4))/((10^8)*($B16-AB$2))),0,(((273.15+$B16)^4)-((273.15+AB$2)^4))/((10^8)*($B16-AB$2)))","v":1.010598154905461},0.99627806732409996,1.0173016745142891,0.97198442089386183,1.3866302658334217,1.3224629999222259,0,0,0,0,0,0,0,0,0]
[15,20.414110842431466,1.0144194242610625,0.98081245678275908,1.0169945425796512,0.99691940173130977,0.99824553359177237,1.0206080927664867,1.0225387863898716,1.0204864884397156,1.0082070221079618,1.0087016186374234,1.0226918053294365,1.0074437409203321,1.0109080981810308,1.0135256806284589,0,1.012976149861379,1.018062006631923,1.0157463023182904,0.97046024759854776,1.018062006631923,1.018062006631923,1.0000008139181957,0.99077207910419474,1.005979663503882,1.0079791033345664,1.0090473481915112,0.99473707021329361,1.0157463023182904,0.97046024759854776,1.3848446392389318,1.3207148242077666,0,0,0,0,0,0,0,0,0]
[16,20.608052087132144,1.0154237730700226,0.98180188266424562,1.0180000234155431,0.99791601481235415,0.99924273551390064,1.0216151594482161,1.0235466991021402,1.0214935018047204,1.0092086333464145,1.0097034481687786,1.0236997850567944,1.0084450151634619,1.0119109008300209,1.0145296361732938,1.012976149861379,0,1.0190679562607348,1.0167512346242764,0.97144501914730097,1.0190679562607348,1.0190679562607348,1.0009987945650014,0.99176595686454183,1.0069802909462056,1.0089806139597426,1.0100493302771687,0.99573271332300928,1.0167512346242764,0.97144501914730097,1.3859983629156649,1.3218443468825449,0,0,0,0,0,0,0,0,0]
[17,21.588575727877434,1.0205150802804972,0.98681766707293117,1.0230970596176281,1.0029681727168813,1.0042978734588588,1.0267202213330981,1.0286560425925284,1.0265982938633504,1.014286086167963,1.0147820057355015,1.0288094676981643,1.0135207625057803,1.0169943831858594,1.0196189531403868,1.018062006631923,1.0190679562607348,0,1.0218454948126228,0.97643724846724933,0,0,1.0060578735220336,0.99680427168511931,1.0120527649322182,1.0140575575937301,1.0151286598964826,1.0007799623385953,1.0218454948126228,0.97643724846724933,1.3918455927771465,1.3275691105001983,0,0,0,0,0,0,0,0,0]
[18,21.142662042751972,1.0181968961382559,0.9845338442021333,1.0207762689132824,1.0006678006556562,1.0019961455425248,1.0243957791248937,1.0263296523517713,1.0242739744199321,1.0119742054653962,1.0124696223981662,1.0264829231514898,1.0112096577588343,1.0146797591782144,1.0173016745142891,1.0157463023182904,1.0167512346242764,1.0218454948126228,0,0.97416414269820395,1.0218454948126228,1.0218454948126228,1.0037543525293233,0.99451019793671824,1.0097431494908091,1.0117459085603158,1.0128159252922155,0.99848182371818794,0,0.97416414269820395,1.3891834886033227,1.3249627234753441,0,0,0,0,0,0,0,0,0]
[19,12.234955794021609,0.97286169741453055,0.93987957149814416,0.97538941429572457,0.95568558578899954,0.95698706213422635,0.97893655977480343,0.98083182702014049,0.97881718800804851,0.96676392453811844,0.96724938063075483,0.98098203978722731,0.96601475411394122,0.96941511332359387,0.97198442089386183,0.97046024759854776,0.97144501914730097,0.97643724846724933,0.97416414269820395,0,0.97643724846724933,0.97643724846724933,0.95870973615968835,0.94965279343354747,0.96457775965264991,0.96654021867443907,0.96758872237168314,0.95354386801539492,0.97416414269820395,0,1.3370298912863896,1.2739140902047588,0,0,0,0,0,0,0,0,0]
[20,21.588575727877434,1.0205150802804972,0.98681766707293117,1.0230970596176281,1.0029681727168813,1.0042978734588588,1.0267202213330981,1.0286560425925284,1.0265982938633504,1.014286086167963,1.0147820057355015,1.0288094676981643,1.0135207625057803,1.0169943831858594,1.0196189531403868,1.018062006631923,1.0190679562607348,0,1.0218454948126228,0.97643724846724933,0,0,1.0060578735220336,0.99680427168511931,1.0120527649322182,1.0140575575937301,1.0151286598964826,1.0007799623385953,1.0218454948126228,0.97643724846724933,1.3918455927771465,1.3275691105001983,0,0,0,0,0,0,0,0,0]
[21,21.588575727877434,1.0205150802804972,0.98681766707293117,1.0230970596176281,1.0029681727168813,1.0042978734588588,1.0267202213330981,1.0286560425925284,1.0265982938633504,1.014286086167963,1.0147820057355015,1.0288094676981643,1.0135207625057803,1.0169943831858594,1.0196189531403868,1.018062006631923,1.0190679562607348,0,1.0218454948126228,0.97643724846724933,0,0,1.0060578735220336,0.99680427168511931,1.0120527649322182,1.0140575575937301,1.0151286598964826,1.0007799623385953,1.0218454948126228,0.97643724846724933,1.3918455927771465,1.3275691105001983,0,0,0,0,0,0,0,0,0]
[22,18.08650739457175,{"$f":"IF(ISERR((((273.15+$B24)^4)-((273.15+C$2)^4))/((10^8)*($B24-C$2))),0,(((273.15+$B24)^4)-((273.15+C$2)^4))/((10^8)*($B24-C$2)))","v":1.002434462344949},0.96900620735452236,1.0049960236730839,0.98502708110765014,0.98634616118401697,1.0085905819587968,1.0105111436014742,1.0084696161475639,0.99625484483694904,0.99674682713542428,1.0106633599741721,0.99549559943369637,0.99894165281174974,1.0015454283821028,1.0000008139181957,1.0009987945650014,1.0060578735220336,1.0037543525293233,0.95870973615968835,1.0060578735220336,1.0060578735220336,0,0.97891251577112981,0.99403926796039843,0.996028130986787,0.99709072973011059,0.98285636566033097,1.0037543525293233,0.95870973615968835,1.3710705938135472,1.3072306616470719,0,0,0,0,0,0,0,0,0]
[23,16.275240455884195,0.99319572630798691,0.95990604617064379,0.99574677522958399,0.97586018044129275,0.97717379251675962,0.99932660669939011,1.0012393117145737,0.99920613601077501,0.98704153064781719,0.98753148582790673,1.001390905753236,0.98628541465709085,0.98971727488610017,0.99231034432555298,0.99077207910419474,0.99176595686454183,0.99680427168511931,0.99451019793671824,0.94965279343354747,0.99680427168511931,0.99680427168511931,0.97891251577112981,0,0.98483508950550791,0.98681575111500386,0.98787397176699243,0.97369847215462535,0.99451019793671824,0.94965279343354747,1.3604443152386385,1.2968292356329711,0,0,0,0,0,0,0,0,0]
[24,19.251995661622708,1.0084197637728558,0.9749021122117062,1.0109881066961792,0.99096604085897,0.99228864841874687,1.0145921652847372,1.0165177952442104,1.0144708800692284,1.0022237464693937,1.002717036477899,1.0166704130847557,1.0014624822562641,1.0049176917413911,1.0075283738995269,1.005979663503882,1.0069802909462056,1.0120527649322182,1.0097431494908091,0.96457775965264991,1.0120527649322182,1.0120527649322182,0.99403926796039843,0.98483508950550791,0,1.0019964298834605,1.0030618529679889,0.98878951475836074,1.0097431494908091,0.96457775965264991,1.3779508904400177,1.3139659377955484,0,0,0,0,0,0,0,0,0]
[25,19.640380453027721,1.01042135645388,0.97687387484285726,1.0129919622570194,0.99295217020061588,0.99427595481898134,1.0165991908983516,1.0185265120473295,1.0164777991043832,1.0042198668641051,1.004713593229124,1.0186792638490958,1.003457929011762,1.0069161937118061,1.0095291804607454,1.0079791033345664,1.0089806139597426,1.0140575575937301,1.0117459085603158,0.96654021867443907,1.0140575575937301,1.0140575575937301,0.996028130986787,0.98681575111500386,1.0019964298834605,0,1.0050587146683421,0.99077370518662933,1.0117459085603158,0.96654021867443907,1.3802511049603463,1.3162177676354636,0,0,0,0,0,0,0,0,0]
[26,19.847602676965117,1.0114907505447976,0.97792734502242662,1.0140625643173118,0.99401330964546553,0.99533772260258313,1.0176714851937629,1.0195997091317999,1.0175500365061805,1.0052863397376857,1.005780299040564,1.0197525324445968,1.004524042285392,1.0079839379202926,1.010598154905461,1.0090473481915112,1.0100493302771687,1.0151286598964826,1.0128159252922155,0.96758872237168314,1.0151286598964826,1.0151286598964826,0.99709072973011059,0.98787397176699243,1.0030618529679889,1.0050587146683421,0,0.99183380959822665,1.0128159252922155,0.96758872237168314,1.3814799051726065,1.3174207403241784,0,0,0,0,0,0,0,0,0]
[27,17.055263166456889,0.99716502064520063,0.96381571615630235,0.99972059274527958,0.97979856622852668,0.98111453101094814,1.003306760735313,1.0052228462313324,1.0031860770097396,0.99099988672774231,0.99149071411523693,1.0053747080425106,0.99024242424621356,0.99368039135697805,0.99627806732409996,0.99473707021329361,0.99573271332300928,1.0007799623385953,0.99848182371818794,0.95354386801539492,1.0007799623385953,{"$f":"IF(ISERR((((273.15+$B29)^4)-((273.15+W$2)^4))/((10^8)*($B29-W$2))),0,(((273.15+$B29)^4)-((273.15+W$2)^4))/((10^8)*($B29-W$2)))","v":1.0007799623385953},0.98285636566033097,0.97369847215462535,0.98878951475836074,0.99077370518662933,0.99183380959822665,0,0.99848182371818794,0.95354386801539492,1.3650106546377168,1.3012988200016637,0,0,0,0,0,0,0,0,0]
[28,21.142662042751972,1.0181968961382559,0.9845338442021333,1.0207762689132824,1.0006678006556562,1.0019961455425248,1.0243957791248937,1.0263296523517713,1.0242739744199321,1.0119742054653962,1.0124696223981662,1.0264829231514898,1.0112096577588343,1.0146797591782144,1.0173016745142891,1.0157463023182904,1.0167512346242764,1.0218454948126228,0,0.97416414269820395,1.0218454948126228,1.0218454948126228,1.0037543525293233,0.99451019793671824,1.0097431494908091,1.0117459085603158,1.0128159252922155,0.99848182371818794,0,0.97416414269820395,1.3891834886033227,1.3249627234753441,0,0,0,0,0,0,0,0,0]
[29,12.234955794021609,0.97286169741453055,0.93987957149814416,0.97538941429572457,0.95568558578899954,0.95698706213422635,0.97893655977480343,0.98083182702014049,0.97881718800804851,0.96676392453811844,0.96724938063075483,0.98098203978722731,0.96601475411394122,0.96941511332359387,0.97198442089386183,0.97046024759854776,0.97144501914730097,0.97643724846724933,0.97416414269820395,0,0.97643724846724933,0.97643724846724933,0.95870973615968835,0.94965279343354747,0.96457775965264991,0.96654021867443907,0.96758872237168314,0.95354386801539492,0.97416414269820395,0,1.3370298912863896,1.2739140902047588,0,0,0,0,0,0,0,0,0]
[30,83.119240120516523,1.3876579229949995,1.3489680234599046,1.3906185057156704,1.3675233796391579,1.3690500776764043,1.3947720217616431,1.3969907678358355,1.3946322641042566,1.3805132877117157,1.3810822237298834,1.3971666033637724,1.3796352418154385,1.3836200902813216,1.3866302658334217,1.3848446392389318,1.3859983629156649,{"$f":"IF(ISERR((((273.15+$B32)^4)-((273.15+S$2)^4))/((10^8)*($B32-S$2))),0,(((273.15+$B32)^4)-((273.15+S$2)^4))/((10^8)*($B32-S$2)))","v":1.3918455927771465},1.3891834886033227,1.3370298912863896,1.3918455927771465,1.3918455927771465,1.3710705938135472,1.3604443152386385,1.3779508904400177,1.3802511049603463,1.3814799051726065,1.3650106546377168,1.3891834886033227,1.3370298912863896,0,1.7364848239562871,0,0,0,0,0,0,0,0,0]
[31,73.447382255492158,1.323469116775629,1.2855969937897924,1.3263676980106494,1.30375838789874,1.3052528175297811,1.3304343646243739,1.3326067812679885,1.330297526728335,1.3164744385277041,1.3170314160138639,1.3327789470976028,1.3156148542676913,1.3195159753239107,1.3224629999222259,1.3207148242077666,1.3218443468825449,1.3275691105001983,1.3249627234753441,1.2739140902047588,1.3275691105001983,1.3275691105001983,1.3072306616470719,1.2968292356329711,1.3139659377955484,1.3162177676354636,1.3174207403241784,1.3012988200016637,1.3249627234753441,1.2739140902047588,1.7364848239562871,0,0,0,0,0,0,0,0,0,0]
[32,"=",0,0,0,0,0,0,0,0,0,0,0,0,0,0,0,0,0,0,0,0,0,0,0,0,0,0,0,0,0,0,0,0,0,0,0,0,0,0,0,0]
[33,"=",0,0,0,0,0,0,0,0,0,0,0,0,0,0,0,0,0,0,0,0,0,0,0,0,0,0,0,0,0,0,0,0,0,0,0,0,0,0,0,0]
[34,"=",0,0,0,0,0,0,0,0,0,0,0,0,0,0,0,0,0,0,0,0,0,0,0,0,0,0,0,0,0,0,0,0,0,0,0,0,0,0,0,0]
[35,"=",0,0,0,0,0,0,0,0,0,0,0,0,0,0,0,0,0,0,0,0,0,0,0,0,0,0,0,0,0,0,0,0,0,0,0,0,0,0,0,0]
[36,"=",0,0,0,0,0,0,0,0,0,0,0,0,0,0,0,0,0,0,0,0,0,0,0,0,0,0,0,0,0,0,0,0,0,0,0,0,0,0,0,0]
[37,"=",0,0,0,0,0,0,0,0,0,0,0,0,0,0,0,{"$f":"IF(ISERR((((273.15+$B39)^4)-((273.15+R$2)^4))/((10^8)*($B39-R$2))),0,(((273.15+$B39)^4)-((273.15+R$2)^4))/((10^8)*($B39-R$2)))","v":0},0,0,0,0,0,0,0,0,0,0,0,0,0,0,0,0,0,0,0,0,0,0,0,0]
[38,"=",0,0,0,0,0,0,0,0,0,0,0,0,0,0,0,0,0,0,0,0,0,0,0,0,0,0,0,0,0,0,0,0,0,0,0,0,0,0,0,0]
[39,"=",0,0,0,0,0,0,0,0,0,0,0,0,0,0,0,0,0,0,0,0,0,0,0,0,0,0,0,0,0,0,0,0,0,0,0,0,0,0,0,0]
[40,"=",0,0,0,0,0,0,0,0,0,0,0,0,0,0,0,0,0,0,0,0,0,0,0,0,0,0,0,{"$f":"IF(ISERR((((273.15+$B42)^4)-((273.15+AD$2)^4))/((10^8)*($B42-AD$2))),0,(((273.15+$B42)^4)-((273.15+AD$2)^4))/((10^8)*($B42-AD$2)))","v":0},0,0,0,0,0,0,0,0,0,0,0,0]
[null,"="]

{"sheet":"Výpočet","index":9,"n_rows":0,"n_cols":0,"rows_kept":0,"cut":false,"hidden":false,"merged":[]}

{"sheet":"Tabulky","index":10,"n_rows":56,"n_cols":31,"rows_kept":56,"cut":false,"hidden":false,"merged":[[1,0,1,7]]}
["Termofyzikální vlastnosti suchého vzduchu při tlaku 98,066 kPa",null,null,null,null,null,null,null,null,null,null,null,null,null,null,null,null,null,null,null,"metodika k nař. vl. 361/2007 sb s pozdějším zněním předpisu"]
["(převzato ze studijních materiálů U12112)",null,null,null,null,null,null,null,null,"Exponenty K a n pro kriteriální rovnice na výpočet αki  - vertikální stěny",null,null,null,null,null,null,null,null,null,null,"w","A",null,null,null,null,"Exponenty K a n pro kriteriální rovnice na výpočet αki  - horizontální stěny - vytápění směrem nahoru"]
["t","r","cp","l","106 h","106 n","106 a","Pr",null,null,"GrPr",null,null,null,null,null,null,null,null,null,0,0.5,null,null,null,null,null,"GrPr"]
["[°C]","[kg m-3]","[J kg-1 K-1]","[W m-1 K-1]","[Pa s]","[m2 s-1]","[m2 s-1]","[1]",null,"index","od","do","K","n",null,null,null,null,null,null,0.1,0.5,null,null,null,null,"index","od","do","K","n"]
[0,1.252,1004,2.3699999999999999E-2,17.446000000000002,13.933999999999999,18.855,0.72,null,1,null,{"$f":"10^-3","v":1E-3},0.45,0,null,null,null,null,null,null,0.2,0.5,null,null,null,null,1,1,200,0.96,{"$f":"1/6","v":0.16666666666666666}]
[1,1.2470000000000001,1004.1,2.3769999999999999E-2,17.486999999999998,14.018000000000001,18.978000000000002,0.72,null,2,{"$f":"L5","v":1E-3},{"$f":"5*10^2","v":500},1.18,{"$f":"1/8","v":0.125},null,null,null,null,null,null,0.3,0.53,null,null,null,null,2,{"$f":"AC5","v":200},10000,0.59,{"$f":"1/4","v":0.25}]
[2,1.2430000000000001,1004.2,2.384E-2,17.527000000000001,14.103999999999999,19.103000000000002,0.72,null,3,{"$f":"L6","v":500},{"$f":"2*10^7","v":20000000},0.54,{"$f":"1/4","v":0.25},null,null,null,null,null,null,0.4,0.6,null,null,null,null,3,{"$f":"AC6","v":10000},{"$f":"8*10^6","v":8000000},0.54,{"$f":"1/4","v":0.25}]
[3,1.238,1004.4,2.3910000000000001E-2,17.568000000000001,14.19,19.228999999999999,0.72,null,4,{"$f":"L7","v":20000000},{"$f":"10^13","v":10000000000000},0.13500000000000001,{"$f":"1/3","v":0.33333333333333331},null,null,null,null,null,null,0.5,{"$f":"(V9+V7)/2","v":0.625},null,null,null,null,4,{"$f":"AC7","v":8000000},{"$f":"1.5*10^9","v":1500000000},0.15,{"$f":"1/3","v":0.33333333333333331}]
[4,1.2330000000000001,1004.5,2.3980000000000001E-2,17.608000000000001,14.276999999999999,19.355,0.72,null,null,null,null,null,null,null,null,null,null,null,null,0.6,0.65]
[5,1.2290000000000001,1004.6,2.4049999999999998E-2,17.649000000000001,14.364000000000001,19.483000000000001,0.72,null,"Panely",null,null,null,null,null,null,null,null,null,null,0.7,{"$f":"(V11+V9)/2","v":0.67500000000000004}]
[6,1.224,1004.8,2.4119999999999999E-2,17.690000000000001,14.452,19.611000000000001,0.72,null,"ID","Typ","d [m]","l [m]","aL [m]","λL [W/mK]","aiz [m]","λiz [W/mK]","R2 [m2K/W]","ε [-]",null,0.8,0.7]
[7,1.2190000000000001,1004.9,2.419E-2,17.731000000000002,14.54,19.739999999999998,0.72,null,1,{"$f":"\"KZ/\"&L12","v":"KZ/300"},300,0.15,8.0000000000000004E-4,237,0.04,3.7999999999999999E-2,{"$f":"P12/Q12","v":1.0526315789473684},0.9,null,0.9,{"$f":"(V13+V11)/2","v":0.72499999999999998}]
[8,1.2150000000000001,1005,2.426E-2,17.771000000000001,14.628,19.869,0.72,null,2,{"$f":"\"KZ/\"&L13","v":"KZ/450"},450,0.15,8.0000000000000004E-4,237,0.04,3.7999999999999999E-2,{"$f":"P13/Q13","v":1.0526315789473684},0.9,null,1,0.75]
[9,1.21,1005.2,2.4330000000000001E-2,17.812000000000001,14.715999999999999,19.998000000000001,0.72,null,3,"KZ/600",600,0.15,8.0000000000000004E-4,237,0.04,3.7999999999999999E-2,1.0526315789473684,0.9]
[10,1.206,1005.3,2.4400000000000002E-2,17.853000000000002,14.805,20.126999999999999,0.72,null,4,"KZ/750",750,0.15,8.0000000000000004E-4,237,0.04,3.7999999999999999E-2,1.0526315789473684,0.9]
[11,1.2010000000000001,1005.4,2.4469999999999999E-2,17.893999999999998,14.893000000000001,20.256,0.72,null,5,"KZ/900",900,0.15,8.0000000000000004E-4,237,0.04,3.7999999999999999E-2,1.0526315789473684,0.9]
[12,1.1970000000000001,1005.6,2.4539999999999999E-2,17.934999999999999,14.981999999999999,20.385999999999999,0.72,null,6,"KZ/1050",1050,0.15,8.0000000000000004E-4,237,0.04,3.7999999999999999E-2,1.0526315789473684,0.9]
[13,1.1930000000000001,1005.7,2.461E-2,17.975999999999999,15.07,20.515000000000001,0.72,null,7,"KZ/1200",1200,0.15,8.0000000000000004E-4,237,0.04,3.7999999999999999E-2,1.0526315789473684,0.9]
[14,1.1890000000000001,1005.8,2.4680000000000001E-2,18.016999999999999,15.159000000000001,20.643999999999998,0.72]
[15,1.1839999999999999,1006,2.4750000000000001E-2,18.058,15.247,20.773,0.72]
[16,1.18,1006.1,2.4819999999999998E-2,18.099,15.335000000000001,20.902000000000001,0.72]
[17,1.1759999999999999,1006.3,2.4889999999999999E-2,18.14,15.423,21.030999999999999,0.72]
[18,1.1719999999999999,1006.4,2.496E-2,18.181000000000001,15.512,21.16,0.72]
[19,1.1679999999999999,1006.5,2.503E-2,18.222000000000001,15.6,21.289000000000001,0.72]
[20,1.1639999999999999,1006.7,2.5100000000000001E-2,18.263999999999999,15.688000000000001,21.417000000000002,0.72]
[21,1.1599999999999999,1006.8,2.5170000000000001E-2,18.305,15.776,21.545999999999999,0.72]
[22,1.1559999999999999,1006.9,2.5239999999999999E-2,18.346,15.864000000000001,21.675000000000001,0.72]
[23,1.153,1007.1,2.5309999999999999E-2,18.387,15.952,21.803999999999998,0.72]
[24,1.149,1007.2,2.538E-2,18.428999999999998,16.04,21.933,0.72]
[25,1.145,1007.3,2.545E-2,18.47,16.129000000000001,22.062000000000001,0.72]
[26,1.141,1007.5,2.5520000000000001E-2,18.512,16.216999999999999,22.192,0.72]
[27,1.1379999999999999,1007.6,2.5590000000000002E-2,18.553000000000001,16.306000000000001,22.321000000000002,0.72]
[28,1.1339999999999999,1007.7,2.5659999999999999E-2,18.594000000000001,16.395,22.451000000000001,0.72]
[29,1.131,1007.8,2.5729999999999999E-2,18.635999999999999,16.484000000000002,22.582000000000001,0.72]
[30,1.127,1008,2.58E-2,18.678000000000001,16.574000000000002,22.712,0.72]
[31,1.123,1008.1,2.5870000000000001E-2,18.719000000000001,16.663,22.844000000000001,0.72]
[32,1.1200000000000001,1008.2,2.5940000000000001E-2,18.760999999999999,16.754000000000001,22.975999999999999,0.72]
[33,1.1160000000000001,1008.4,2.6009999999999998E-2,18.802,16.844000000000001,23.108000000000001,0.72]
[34,1.113,1008.5,2.6079999999999999E-2,18.844000000000001,16.934999999999999,23.241,0.72]
[35,1.109,1008.6,2.615E-2,18.885999999999999,17.027000000000001,23.373999999999999,0.72]
[36,1.1060000000000001,1008.8,2.622E-2,18.928000000000001,17.119,23.507999999999999,0.72]
[37,1.1020000000000001,1008.9,2.6290000000000001E-2,18.969000000000001,17.210999999999999,23.643000000000001,0.72]
[38,1.099,1009,2.6360000000000001E-2,19.010999999999999,17.303999999999998,23.777999999999999,0.72]
[39,1.095,1009.2,2.6429999999999999E-2,19.053000000000001,17.398,23.914000000000001,0.72]
[40,1.0920000000000001,1009.3,2.6499999999999999E-2,19.094999999999999,17.491,24.050999999999998,0.72]
[41,1.0880000000000001,1009.4,2.657E-2,19.137,17.585999999999999,24.187999999999999,0.72]
[42,1.085,1009.6,2.664E-2,19.178999999999998,17.681000000000001,24.327000000000002,0.72]
[43,1.081,1009.7,2.6710000000000001E-2,19.221,17.776,24.465,0.72]
[44,1.0780000000000001,1009.8,2.6780000000000002E-2,19.263000000000002,17.872,24.605,0.72]
[45,1.0740000000000001,1010,2.6849999999999999E-2,19.305,17.968,24.745000000000001,0.72]
[46,1.071,1010.1,2.6919999999999999E-2,19.347000000000001,18.065000000000001,24.885000000000002,0.72]
[47,1.0680000000000001,1010.2,2.699E-2,19.388999999999999,18.161999999999999,25.026,0.72]
[48,1.0640000000000001,1010.3,2.7060000000000001E-2,19.431000000000001,18.260000000000002,25.167999999999999,0.72]
[49,1.0609999999999999,1010.5,2.7130000000000001E-2,19.474,18.358000000000001,25.31,0.72]
[50,1.0569999999999999,1010.6,2.7199999999999998E-2,19.515999999999998,18.456,25.452999999999999,0.72]
[60,1.046,1017,2.8000000000000001E-2,20.100000000000001,19.22,26.32,0.72]