{"text_format":"1","workbook":"xlsx","n_sheets":5,"sheets":["Dukovany","Temelín","Ceny uranu","Cena elektřiny","Citlivostní analýza"],"not_rendered":{"charts":7,"images":0,"macros":1,"external_links":0,"defined_names":0,"comments":1,"pivot_tables":0},"unopened":[],"bounds":{"document_bytes":16777216,"sheet_cells":100000,"rows_first":2000,"rows_last":500,"rows_between":2000,"halvings":0,"cell_chars":16384,"cell_head_chars":4096},"cells_cut":0,"cells_raw":0,"read":"whole","date_system":"1900"}

{"sheet":"Dukovany","index":0,"n_rows":56,"n_cols":16382,"rows_kept":56,"cut":false,"hidden":false,"merged":[[1,2,1,4],[1,5,1,52]]}
["Roky",1984,1985,1986,1987,1988,1989,1990,1991,1992,1993,1994,1995,1996,1997,1998,1999,2000,2001,2002,2003,2004,2005,2006,2007,2008,2009,2010,2011,2012,2013,2014,2015,2016,2017,2018,2019,2020,2021,2022,2023,2024,2025,2026,2027,2028,2029,2030,2031,2032,2033,2034,2035]
["Stav","kurzy - 1USD=24,01/1EUR=27,04","SPOUŠTĚNÍ",null,null,"JMENOVITÝ VÝKON"]
["INVESTIČNÍ NÁKLADY ([Kč], zaokrouhleno na celá čísla)"]
["Investice do DHM",25000000000,null,null,null,null,null,null,null,null,null,null,null,null,null,null,null,null,null,null,null,null,{"$f":"25000000000/12","v":2083333333.3333333},{"$f":"25000000000/12","v":2083333333.3333333},2083333333.3333333,2083333333.3333333,2083333333.3333333,2083333333.3333333,2083333333.3333333,2083333333.3333333,2083333333.3333333,2083333333.3333333,2083333333.3333333,2083333333.3333333,null,null,null,null,null,null,null,null,null,{"$f":"500000000","v":500000000}]
["Odepisování DHM:"]
["Odpisy poč. inv.",null,{"$f":"$B$4/51","v":490196078.43137252},{"$f":"$B$4/51","v":490196078.43137252},490196078.43137252,490196078.43137252,490196078.43137252,490196078.43137252,490196078.43137252,490196078.43137252,490196078.43137252,490196078.43137252,490196078.43137252,490196078.43137252,490196078.43137252,490196078.43137252,490196078.43137252,490196078.43137252,490196078.43137252,490196078.43137252,490196078.43137252,490196078.43137252,490196078.43137252,490196078.43137252,490196078.43137252,490196078.43137252,490196078.43137252,490196078.43137252,490196078.43137252,490196078.43137252,490196078.43137252,490196078.43137252,490196078.43137252,490196078.43137252,490196078.43137252,490196078.43137252,490196078.43137252,490196078.43137252,490196078.43137252,490196078.43137252,490196078.43137252,490196078.43137252,490196078.43137252,490196078.43137252,490196078.43137252,490196078.43137252,490196078.43137252,490196078.43137252,490196078.43137252,490196078.43137252,490196078.43137252,490196078.43137252,490196078.43137252]
["Odpisy průb.inv.",null,null,0,0,0,0,0,0,0,0,0,0,0,0,0,0,0,0,0,0,0,0,{"$f":"$W$4/30","v":69444444.444444448},{"$f":"$W$4/30+($X$4/29)","v":141283524.90421456},{"$f":"$W$4/30+($X$4/29)+($Y$4/28)","v":215688286.80897647},{"$f":"$W$4/30+($X$4/29)+($Y$4/28)+($Z$4/27)","v":292848780.63613695},{"$f":"$W$4/30+($X$4/29)+($Y$4/28)+($Z$4/27)+($AA$4/26)","v":372976985.76434207},{"$f":"$W$4/30+($X$4/29)+($Y$4/28)+($Z$4/27)+($AA$4/26)+($AB$4/25)","v":456310319.09767538},{"$f":"$W$4/30+($X$4/29)+($Y$4/28)+($Z$4/27)+($AA$4/26)+($AB$4/25)+($AC$4/24)","v":543115874.65323091},{"$f":"$W$4/30+($X$4/29)+($Y$4/28)+($Z$4/27)+($AA$4/26)+($AB$4/25)+($AC$4/24)+($AD$4/23)","v":633695584.79815841},{"$f":"$W$4/30+($X$4/29)+($Y$4/28)+($Z$4/27)+($AA$4/26)+($AB$4/25)+($AC$4/24)+($AD$4/23)+($AE$4/22)","v":728392554.49512815},{"$f":"$W$4/30+($X$4/29)+($Y$4/28)+($Z$4/27)+($AA$4/26)+($AB$4/25)+($AC$4/24)+($AD$4/23)+($AE$4/22)+($AF$4/21)","v":827598903.70147741},{"$f":"$W$4/30+($X$4/29)+($Y$4/28)+($Z$4/27)+($AA$4/26)+($AB$4/25)+($AC$4/24)+($AD$4/23)+($AE$4/22)+($AF$4/21)+($AG$4/20)","v":931765570.36814404},{"$f":"$W$4/30+($X$4/29)+($Y$4/28)+($Z$4/27)+($AA$4/26)+($AB$4/25)+($AC$4/24)+($AD$4/23)+($AE$4/22)+($AF$4/21)+($AG$4/20)+($AH$4/19)","v":1041414693.1751616},{"$f":"$W$4/30+($X$4/29)+($Y$4/28)+($Z$4/27)+($AA$4/26)+($AB$4/25)+($AC$4/24)+($AD$4/23)+($AE$4/22)+($AF$4/21)+($AG$4/20)+($AH$4/19)","v":1041414693.1751616},1041414693.1751616,1041414693.1751616,1041414693.1751616,1041414693.1751616,1041414693.1751616,1041414693.1751616,1041414693.1751616,{"$f":"$W$4/30+($X$4/29)+($Y$4/28)+($Z$4/27)+($AA$4/26)+($AB$4/25)+($AC$4/24)+($AD$4/23)+($AE$4/22)+($AF$4/21)+($AG$4/20)+($AH$4/19)","v":1041414693.1751616},{"$f":"$W$4/30+($X$4/29)+($Y$4/28)+($Z$4/27)+($AA$4/26)+($AB$4/25)+($AC$4/24)+($AD$4/23)+($AE$4/22)+($AF$4/21)+($AG$4/20)+($AH$4/19)+($AR$4/9)","v":1096970248.7307172},{"$f":"$W$4/30+($X$4/29)+($Y$4/28)+($Z$4/27)+($AA$4/26)+($AB$4/25)+($AC$4/24)+($AD$4/23)+($AE$4/22)+($AF$4/21)+($AG$4/20)+($AH$4/19)+($AR$4/9)","v":1096970248.7307172},{"$f":"$W$4/30+($X$4/29)+($Y$4/28)+($Z$4/27)+($AA$4/26)+($AB$4/25)+($AC$4/24)+($AD$4/23)+($AE$4/22)+($AF$4/21)+($AG$4/20)+($AH$4/19)+($AR$4/9)","v":1096970248.7307172},1096970248.7307172,1096970248.7307172,1096970248.7307172,1096970248.7307172,1096970248.7307172,1096970248.7307172]
["Odpisy",null,{"$f":"C6+C7","v":490196078.43137252},{"$f":"D6+D7","v":490196078.43137252},490196078.43137252,490196078.43137252,490196078.43137252,490196078.43137252,490196078.43137252,490196078.43137252,490196078.43137252,490196078.43137252,490196078.43137252,490196078.43137252,490196078.43137252,490196078.43137252,490196078.43137252,490196078.43137252,490196078.43137252,490196078.43137252,490196078.43137252,490196078.43137252,490196078.43137252,559640522.87581694,631479603.33558702,705884365.24034905,783044859.06750941,863173064.19571459,946506397.52904797,1033311953.0846034,1123891663.2295308,1218588632.9265008,1317794982.1328499,1421961648.7995167,1531610771.606534,1531610771.606534,1531610771.606534,1531610771.606534,1531610771.606534,1531610771.606534,1531610771.606534,1531610771.606534,1531610771.606534,1531610771.606534,1587166327.1620898,1587166327.1620898,1587166327.1620898,1587166327.1620898,1587166327.1620898,1587166327.1620898,1587166327.1620898,1587166327.1620898,1587166327.1620898]
["Zůstatková hodnota celkem DHM",null,{"$f":"B4+C4-C8","v":24509803921.568626},{"$f":"C9+D4-D8","v":24019607843.137253},{"$f":"D9+E4-E8","v":23529411764.705879},{"$f":"(E9+F4)-F8","v":23039215686.274506},22549019607.843132,22058823529.411758,21568627450.980385,21078431372.549011,20588235294.117638,20098039215.686264,19607843137.25489,19117647058.823517,18627450980.392143,18137254901.96077,17647058823.529396,17156862745.098024,16666666666.666653,16176470588.235281,15686274509.803909,15196078431.372538,16789215686.2745,{"$f":"(W9+X4)-X8","v":18312908496.732018},19764762226.729763,21142211194.822746,22442499669.08857,23662659938.226189,24799486874.030472,25849508254.279202,26808949924.383003,27673694624.789833,28439232975.990314,29100604660.524132,27568993888.917599,26037383117.311066,24505772345.704533,22974161574.098,21442550802.491467,19910940030.884933,18379329259.2784,16847718487.671867,15316107716.065334,14284496944.458801,12697330617.296711,11110164290.134621,9522997962.9725304,7935831635.8104401,6348665308.6483498,4761498981.4862595,3174332654.3241696,1587166327.1620798,-1.0013580322265625E-5]
[]
["PROVOZNÍ NÁKLADY "]
["Vyrobená elektřina [GWh]",null,2397,5800,10800,11800,12400,12600,12200,12200,12800,13000,12400,12800,12600,13200,13400,13600,13600,13400,13800,13600,13800,13800,13800,14400,13800,13800,14000,15200,15679,15369,12584,{"$f":"(7500*4*510)/1000","v":15300},{"$f":"(7500*4*510)/1000","v":15300},15300,15300,15300,15300,15300,15300,15300,15300,15300,15300,15300,15300,15300,15300,15300,15300,15300,15300]
["NÁKLADY NA PALIVO ([Kč], zaokrouhleno na celá čísla)"]
["Cena za 1kg rudy",null,762.24727521167915,754.59995398056401,747.02935525658484,769.97209647669092,526.60559108331745,513.34191026963003,459.99228189885372,449.0706550881286,531.39762048850309,493.64955970558879,604.93976040251732,836.55675818296095,680.618458827572,597.58772652142784,593.586922268732,499.86520042599381,528.35253842586087,561.41,636,1063.5,1612.9,2593.6,4791,4333.8,3460.8,3219.5,3527.8,3179.03,2858.03,2453.8000000000002,2444.89,2318.11,3176.603457564825,3208.7960212347866,3241.3148331033317,3274.1631994584641,3307.3444600950102,3340.8619886541851,3374.7191929666028,3408.9195153987589,3443.4664332030279,3478.3634588712061,3513.6141404916375,3549.2220621099582,3585.1908440934976,3621.5241434993736,3658.2256544463148,3695.2991084902546,3732.7482750037293,3770.5769615591221,3808.7890143157906]
["Kg rudy na výrobu elektřiny","z 8,9kg rudy je 0,360GWh",{"$f":"(C12/0.36)*8.9","v":59259.166666666672},{"$f":"(D12/0.36)*8.9","v":143388.88888888891},267000,291722.22222222225,306555.55555555556,311500,301611.11111111112,301611.11111111112,316444.44444444444,321388.88888888888,306555.55555555556,316444.44444444444,311500,326333.33333333337,331277.77777777781,336222.22222222225,336222.22222222225,331277.77777777781,341166.66666666669,336222.22222222225,341166.66666666669,341166.66666666669,341166.66666666669,356000,341166.66666666669,341166.66666666669,346111.11111111112,375777.77777777781,387619.72222222225,379955.83333333337,311104.44444444444,378250,378250,378250,378250,378250,378250,378250,378250,378250,378250,378250,378250,378250,378250,378250,378250,378250,378250,378250,378250]
["Cena za rudu na výrobu","46% ceny paliva",{"$f":"C15*C14","v":45170138.322981432},{"$f":"D15*D14","v":108201248.95687978},199456837.85350814,224617971.03328359,161433869.5332081,159906005.04898974,138738783.24604872,135444699.24852502,168157824.7945841,158653483.49426839,185447644.32783836,264723738.58945253,212012649.92478868,195012794.75482598,196642156.52713606,168065788.49878415,177643864.58629501,185982657.22222224,216982000,357572333.33333337,550267716.66666675,884849866.66666663,1634529500,1542832800,1180709600.0000002,1098386083.3333335,1221010777.7777779,1194608828.8888891,1107828794.7027779,932335623.83333349,760616145.17777777,876825107.5,1201550257.823895,1213727095.032058,1226027335.6213353,1238452230.195164,1251003042.0309377,1263681047.2084455,1276487534.7396176,1289423806.6995807,1302491178.3590453,1315690978.3180337,1329024548.6409619,1342493244.9930916,1356098436.7783654,1369841507.2786381,1383723853.7943187,1397746887.7864387,1411912035.0201607,1426220735.709738,1440674444.6649477]
["Cena za palivo",null,{"$f":"(100/46)*C16","v":98195952.876046583},{"$f":"(100/46)*D16","v":235220106.4279995},433601821.42066985,488299937.02887732,350943194.63740891,347621750.10649943,301606050.53488851,294444998.36635876,365560488.68387842,344898877.16145301,403147052.88660508,575486388.23794031,460897065.05388844,423940858.16266513,427482948.97203487,365360409.77996552,386182314.31803262,404310124.39613527,471700000,777331159.42028987,1196234166.6666667,1923586666.6666665,3553325000,3353984347.826087,2566760000.0000005,2387795833.3333335,2654371256.0386477,2596975714.9758458,2408323466.7451692,2026816573.550725,1653513359.0821254,1906141538.0434783,2612065777.8780322,2638537163.1131692,2665276816.56812,2692287456.9460087,2719571830.5020385,2747132711.3227077,2774972901.6078644,2803095231.9556098,2831502561.6500983,2860197778.9522471,2889183801.3933954,2918463576.071938,2948040079.9529681,2977916320.1709523,3008095334.3354754,3038580190.8400841,3069373989.174262,3100479860.2385607,3131900966.6629295]
[]
["ODVODY NA JADERNÝ ÚČET  ([Kč], zaokrouhleno na celá čísla)",50,{"$f":"$B$19*1000*C12","v":119850000},{"$f":"$B$19*1000*D12","v":290000000},540000000,590000000,620000000,630000000,610000000,610000000,640000000,650000000,620000000,640000000,630000000,660000000,670000000,680000000,{"$f":"$B$19*1000*S12","v":680000000},670000000,690000000,680000000,690000000,690000000,690000000,720000000,690000000,690000000,700000000,760000000,783950000,768450000,629200000,765000000,765000000,765000000,765000000,765000000,765000000,765000000,765000000,765000000,765000000,765000000,765000000,765000000,765000000,765000000,765000000,765000000,765000000,765000000,765000000]
[]
["REŽIE  ([Kč], zaokrouhleno na celá čísla)",0.23,{"$f":"(0.23/0.13)*C17","v":173731301.24223626},{"$f":"(0.23/0.13)*D17","v":416158649.83415294},767141684.05195427,863915273.20493674,620899498.20464647,615023096.34226823,533610704.79249501,520941150.9558655,646760864.59455407,610205705.74718606,713260170.49168587,1018168225.3440483,815433268.94149494,750049210.59548438,756315986.64283085,646406878.84147739,683245633.02421153,715317912.39316237,834546153.84615386,1375278205.1282051,2116414294.8717949,3403268717.9487176,6286651923.0769224,5933972307.6923075,4541190769.2307701,4224561858.974359,4696195299.1452999,4594649341.8803425,4260879979.6260686,3585906245.5128212,2925446712.2222219,3372404259.6153846,4621347145.4765186,4668181134.7386837,4715489752.3897505,4763277808.4429379,4811550161.6574526,4860311720.0324821,4909567441.306221,4959322333.4599247,5009581455.2270966,5060349916.6078215,5111632879.3883152,5163435557.6657362,5215763218.3783283,5268621181.8409157,5322014822.285841,5375949568.409379,5430430903.9236946,5485464368.1143761,5541055556.4036446]
[]
["POJIŠTĚNÍ  ([Kč], zaokrouhleno na celá čísla)",0.01,{"$f":"(0.01/0.13)*C17","v":7553534.8366189683},{"$f":"(0.01/0.13)*D17","v":18093854.340615347},33353986.263128452,37561533.617605947,26995630.356723763,26740134.62357688,23200465.425760657,22649615.258950673,28120037.591067571,26530682.85857331,31011311.760508087,44268183.710610792,35453620.388760649,32610835.243281934,32883303.767079607,28104646.906151194,29706331.870617896,31100778.799702715,36284615.384615384,59794704.570791535,92018012.820512831,147968205.12820512,273332692.30769235,257998795.9866221,197443076.92307696,183676602.56410259,204182404.31066522,199767362.69044968,185255651.28808993,155908967.19620961,127193335.31400965,146626272.15719065,200928136.75984865,202964397.16255149,205021293.5821631,207099035.14969298,209197833.11554143,211317900.87097752,213459453.96983573,215622710.15043154,217807889.35769987,220015213.7655575,222244907.79949197,224497198.15937987,226772313.84253603,229070486.16699636,231391948.79503658,233736937.75692955,236105691.47494325,238498450.78758159,240915458.9740715]
[]
["REZERVA NA VYŘAZOVÁNÍ A SKLADOVÁNÍ  ([Kč], zaokrouhleno na celá čísla)",0.06,{"$f":"(0.06/0.13)*C17","v":45321209.019713804},{"$f":"(0.06/0.13)*D17","v":108563126.04369207},200123917.5787707,225369201.70563567,161973782.14034256,160440807.74146128,139202792.55456391,135897691.55370402,168720225.5464054,159184097.15143985,186067870.56304848,265609102.26366475,212721722.33256388,195665011.45969158,197299822.60247761,168627881.43690714,178237991.22370735,186604672.79821625,217707692.30769229,358768227.42474914,552108076.92307687,887809230.7692306,1639996153.8461537,1547992775.9197323,1184658461.5384617,1102059615.3846154,1225094425.8639913,1198604176.142698,1111533907.7285395,935453803.17725766,763160011.88405788,879757632.94314373,1205568820.5590918,1217786382.9753089,1230127761.4929783,1242594210.8981578,1255186998.6932485,1267907405.2258649,1280756723.8190143,1293736260.9025891,1306847336.1461992,1320091282.5933447,1333469446.7969515,1346983188.956279,1360633883.0552161,1374422917.0019779,1388351692.7702193,1402421626.5415771,1416634148.8496592,1430990704.7254894,1445492753.844429]
[]
["PERSONÁLNÍ NÁKLADY  ([Kč], zaokrouhleno na celá čísla)",0.05,{"$f":"(0.05/0.13)*C17","v":37767674.183094844},{"$f":"(0.05/0.13)*D17","v":90469271.703076735},166769931.31564227,187807668.08802974,134978151.78361881,133700673.1178844,116002327.12880328,113248076.29475337,140600187.95533785,132653414.29286654,155056558.80254042,221340918.55305398,177268101.94380325,163054176.21640968,164416518.83539805,140523234.53075597,148531659.35308948,155503893.99851358,181423076.92307693,298973522.85395765,460090064.10256416,739841025.64102566,1366663461.5384617,1289993979.9331105,987215384.61538482,918383012.82051289,1020912021.5533261,998836813.45224845,926278256.44044971,779544835.98104811,635966676.57004833,733131360.78595316,1004640683.7992432,1014821985.8127575,1025106467.9108155,1035495175.7484649,1045989165.5777072,1056589504.3548876,1067297269.8491787,1078113550.7521577,1089039446.7884994,1100076068.8277874,1111224538.9974599,1122485990.7968993,1133861569.2126801,1145352430.8349817,1156959743.975183,1168684688.7846477,1180528457.3747163,1192492253.9379079,1204577294.8703575]
[]
["SLUŽBY, MATERIÁL, ÚDRŽBA  ([Kč], zaokrouhleno na celá čísla)",0.06,{"$f":"(0.06/0.13)*C17","v":45321209.019713804},{"$f":"(0.06/0.13)*D17","v":108563126.04369207},200123917.5787707,225369201.70563567,161973782.14034256,160440807.74146128,139202792.55456391,135897691.55370402,168720225.5464054,159184097.15143985,186067870.56304848,265609102.26366475,212721722.33256388,195665011.45969158,197299822.60247761,168627881.43690714,178237991.22370735,186604672.79821625,217707692.30769229,358768227.42474914,552108076.92307687,887809230.7692306,1639996153.8461537,1547992775.9197323,1184658461.5384617,1102059615.3846154,1225094425.8639913,1198604176.142698,1111533907.7285395,935453803.17725766,763160011.88405788,879757632.94314373,1205568820.5590918,1217786382.9753089,1230127761.4929783,1242594210.8981578,1255186998.6932485,1267907405.2258649,1280756723.8190143,1293736260.9025891,1306847336.1461992,1320091282.5933447,1333469446.7969515,1346983188.956279,1360633883.0552161,1374422917.0019779,1388351692.7702193,1402421626.5415771,1416634148.8496592,1430990704.7254894,1445492753.844429]
[]
["OSTATNÍ  ([Kč], zaokrouhleno na celá čísla)",0.02,{"$f":"(0.02/0.13)*C17","v":15107069.673237937},{"$f":"(0.02/0.13)*D17","v":36187708.681230694},66707972.526256904,75123067.235211894,53991260.713447526,53480269.247153759,46400930.851521313,45299230.517901346,56240075.182135142,53061365.71714662,62022623.521016173,88536367.421221584,70907240.777521297,65221670.486563869,65766607.534159213,56209293.812302388,59412663.741235793,62201557.59940543,72569230.769230768,119589409.14158307,184036025.64102566,295936410.25641024,546665384.6153847,515997591.97324419,394886153.84615391,367353205.12820518,408364808.62133044,399534725.38089937,370511302.57617986,311817934.39241922,254386670.6280193,293252544.3143813,401856273.51969731,405928794.32510298,410042587.16432619,414198070.29938596,418395666.23108286,422635801.74195504,426918907.93967146,431245420.30086309,435615778.71539974,440030427.531115,444489815.59898394,448994396.31875974,453544627.68507206,458140972.33399272,462783897.59007317,467473875.51385909,472211382.9498865,476996901.57516319,481830917.94814301]
[]
[]
["VÝNOSY ([Kč], zaokrouhleno na celá čísla)"]
["CENA ZA 1MWh ELEKTŘINY ",null,919.45561170637836,928.77362502373842,938.18606962312776,947.69390249684966,957.29809033562765,966.99960962689204,976.7994467540625,986.69859809683646,996.69807013249454,1006.7988795382317,1017.0020532945265,1027.3086287895567,1037.7196539246743,1048.2361872209485,1058.8592979267894,1069.590066126661,1080.4295828508973,1091.3789501866306,1102.4392813898437,1113.6117009985587,1124.8973449471719,1136.2973606819478,1147.8129072776835,1741.6463999999999,1022.1119999999999,1346.5919999999999,1514.24,1338.48,993.44960000000003,891.23839999999996,873.93279999999993,713.3152,1171.1952882021603,1183.0644998897628,1195.0539973977611,1207.1649997353843,1219.3987382656326,1231.7564568304736,1244.2394118773082,1256.8488725867169,1269.5861210015016,1282.4524521570347,1295.4491742129292,1308.5776085860439,1321.8390900848351,1335.2349670450715,1348.7666014669232,1362.4353691534407,1376.2426598504364,1390.1898773877856,1404.278439822157]
[]
["UTRŽENO ZA ELEKTŘINU",null,{"$f":"C35*C12*1000","v":2203935101.2601891},{"$f":"D35*D12*1000","v":5386887025.1376829},10132409551.929779,11182788049.462826,11870496320.161781,12184195081.29884,11916953250.399561,12037722896.781404,12757735297.695929,13088385433.997013,12610825460.852129,13149550448.506325,13075267639.450897,13836717671.316521,14188714592.218979,14546424899.32259,14693842326.772203,14624477932.500851,15213662083.179842,15145119133.580399,15523583360.270971,15680903577.410881,15839818120.432032,25079708159.999996,14105145599.999998,18582969599.999996,21199360000,20344896000,15576296278.4,13697442969.6,10997570355.199999,10913722560,17919287909.49305,18100886848.313374,18284326160.185745,18469624495.951382,18656800695.46418,18845873789.506245,19036863001.722816,19229787750.576767,19424667651.322975,19621522518.002628,19820372365.457817,20021237411.36647,20224138078.297977,20429094995.789597,20636129002.443924,20845261148.047642,21056512695.711678,21269905124.033119,21485460129.279003]
[]
["PROVOZNÍ CASH FLOW (POČÍTÁNO PŘED ZDANĚNÍM) ([Kč], zaokrouhleno na celá čísla)",null,{"$f":"C37-(SUM(C17:C31))","v":1661087150.4095268},{"$f":"D37-(SUM(D17:D31))","v":4083631182.0632234},{"$f":"E37-(SUM(E17:E31))","v":7724586321.1945858},8489342166.876893,9738741020.1852512,10056747542.378534,10007727186.556965,10159344442.280167,10543013192.596146,10952667193.916908,10254192002.263676,10030532160.71212,10459864897.680302,11350510897.692734,11677249581.262522,12292564672.578123,12350287742.017601,12212834319.717499,12491723621.64138,11116615677.616074,9680574642.3222542,6704684090.2313938,-156812648.79873657,9911775584.7491589,2358333292.3076897,7607079856.4102535,9065145358.6027489,8397923689.3348198,4418029806.2669659,4198090806.6122608,3245543577.6154575,1937651319.1973248,5902312250.9415245,5969880607.2104893,6038133719.5846119,6107078527.5685787,6176722040.9938602,6247071340.7315063,6318133579.4120197,6389915982.1526012,6462425847.2917786,6535670547.1314106,6609657528.6862679,6684394314.4411964,6759888503.1159592,6836147770.4378033,6913179869.921875,6990992633.6595917,7069593973.1148567,7148991879.9285526,7229194426.730999]
[]
["INVESTIČNÍ CASH FLOW ([Kč], zaokrouhleno na celá čísla)",null,{"$f":"-C4","v":0},{"$f":"-D4","v":0},0,0,0,0,0,0,0,0,0,0,0,0,0,0,0,0,0,0,-2083333333.3333333,-2083333333.3333333,-2083333333.3333333,-2083333333.3333333,-2083333333.3333333,-2083333333.3333333,-2083333333.3333333,-2083333333.3333333,-2083333333.3333333,-2083333333.3333333,-2083333333.3333333,-2083333333.3333333,0,0,0,0,0,0,0,0,0,-500000000,0,0,0,0,0,0,0,0,0]
[]
["CASH FLOW CELKOVÉ ([Kč], zaokrouhleno na celá čísla)",{"$f":"-B4","v":-25000000000},{"$f":"C39+C41","v":1661087150.4095268},{"$f":"D39+D41","v":4083631182.0632234},7724586321.1945858,8489342166.876893,9738741020.1852512,10056747542.378534,10007727186.556965,10159344442.280167,10543013192.596146,10952667193.916908,10254192002.263676,10030532160.71212,10459864897.680302,11350510897.692734,11677249581.262522,12292564672.578123,12350287742.017601,12212834319.717499,12491723621.64138,11116615677.616074,7597241308.9889212,4621350756.8980608,-2240145982.1320696,7828442251.4158258,274999958.97435641,5523746523.0769205,6981812025.2694159,6314590356.0014868,2334696472.9336329,2114757473.2789276,1162210244.2821243,-145682014.1360085,5902312250.9415245,5969880607.2104893,6038133719.5846119,6107078527.5685787,6176722040.9938602,6247071340.7315063,6318133579.4120197,6389915982.1526012,6462425847.2917786,6035670547.1314106,6609657528.6862679,6684394314.4411964,6759888503.1159592,6836147770.4378033,6913179869.921875,6990992633.6595917,7069593973.1148567,7148991879.9285526,7229194426.730999]
[]
[]
["DISKONT",0.2,0.15,0.1,0.05]
["NPV",{"$f":"NPV(B46,$C$43:$BA$43)-$B$4","v":12085868794.066498},{"$f":"NPV(C46,$C$43:$BA$43)-$B$4","v":27035673648.133194},{"$f":"NPV(D46,$C$43:$BA$43)-$B$4","v":54820160088.059708},{"$f":"NPV(E46,$C$43:$BA$43)-$B$4","v":118965642765.72156}]
["NPV",{"$f":"ROUND(B47,-6)","v":12086000000},{"$f":"ROUND(C47,-6)","v":27036000000},54820000000,118966000000,null,null,null,{"$f":"IRR(I42:BH42)","v":{"$error":"#NUM!"}},{"$f":"IRRm(I42:BH42)","v":1.0999999999999999},null,null,{"$f":"IRR(M42:BL42)","v":{"$error":"#NUM!"}},{"$f":"IRRm(M42:BL42)","v":1.0999999999999999},null,null,{"$f":"IRR(Q42:BP42)","v":{"$error":"#NUM!"}},{"$f":"IRRm(Q42:BP42)","v":1.0999999999999999},null,null,{"$f":"IRR(U42:BT42)","v":{"$error":"#NUM!"}},{"$f":"IRRm(U42:BT42)","v":1.0999999999999999},null,null,{"$f":"IRR(Y42:BX42)","v":{"$error":"#NUM!"}},{"$f":"IRRm(Y42:BX42)","v":1.0999999999999999},null,null,{"$f":"IRR(AC42:CB42)","v":{"$error":"#NUM!"}},{"$f":"IRRm(AC42:CB42)","v":1.0999999999999999},null,null,{"$f":"IRR(AG42:CF42)","v":{"$error":"#NUM!"}},{"$f":"IRRm(AG42:CF42)","v":1.0999999999999999},null,null,{"$f":"IRR(AK42:CJ42)","v":{"$error":"#NUM!"}},{"$f":"IRRm(AK42:CJ42)","v":1.0999999999999999},null,null,{"$f":"IRR(AO42:CN42)","v":{"$error":"#NUM!"}},{"$f":"IRRm(AO42:CN42)","v":1.0999999999999999},null,null,{"$f":"IRR(AS42:CR42)","v":{"$error":"#NUM!"}},{"$f":"IRRm(AS42:CR42)","v":1.0999999999999999},null,null,{"$f":"IRR(AW42:CV42)","v":{"$error":"#NUM!"}},{"$f":"IRRm(AW42:CV42)","v":1.0999999999999999},null,null,null,null,null,null,null,null,null,null,null,null,null,null,null,null,null,null,null,null,null,null,null,null,null,null,null,null,null,null,null,null,null,null,null,null,null,null,null,null,null,null,null,null,null,null,null,null,null,null,null,null,null,null,null,null,null,null,null,null,null,null,null,null,null,null,null,null,null,null,null,null,null,null,null,null,null,null,null,null,null,null,null,null,null,null,null,null,null,null,null,null,null,null,null,null,null,null,null,null,null,null,null,null,null,null,null,null,null,null,null,null,null,null,null,null,null,null,null,null,null,null,null,null,null,null,null,null,null,null,null,null,null,null,null,null,null,null,null,null,null,null,null,null,null,null,null,null,null,null,null,null,null,null,null,null,null,null,null,null,null,null,null,null,null,null,null,null,null,null,null,null,null,null,null,null,null,null,null,null,null,null,null,null,null,null,null,null,null,null,null,null,null,null,null,null,null,null,null,null,null,null,null,null,null,null,null,null,null,null,null,null,null,null,null,null,null,null,null,null,null,null,null,null,null,null,null,null,null,null,null,null,null,null,null,null,null,null,null,null,null,null,null,null,null,null,null,null,null,null,null,null,null,null,null,null,null,null,null,null,null,null,null,null,null,null,null,null,null,null,null,null,null,null,null,null,null,null,null,null,null,null,null,null,null,null,null,null,null,null,null,null,null,null,null,null,null,null,null,null,null,null,null,null,null,null,null,null,null,null,null,null,null,null,null,null,null,null,null,null,null,null,null,null,null,null,null,null,null,null,null,null,null,null,null,null,null,null,null,null,null,null,null,null,null,null,null,null,null,null,null,null,null,null,null,null,null,null,null,null,null,null,null,null,null,null,null,null,null,null,null,null,null,null,null,null,null,null,null,null,null,null,null,null,null,null,null,null,null,null,null,null,null,null,null,null,null,null,null,null,null,null,null,null,null,null,null,null,null,null,null,null,null,null,null,null,null,null,null,null,null,null,null,null,null,null,null,null,null,null,null,null,null,null,null,null,null,null,null,null,null,null,null,null,null,null,null,null,null,null,null,null,null,null,null,null,null,null,null,null,null,null,null,null,null,null,null,null,null,null,null,null,null,null,null,null,null,null,null,null,null,null,null,null,null,null,null,null,null,null,null,null,null,null,null,null,null,null,null,null,null,null,null,null,null,null,null,null,null,null,null,null,null,null,null,null,null,null,null,null,null,null,null,null,null,null,null,null,null,null,null,null,null,null,null,null,null,null,null,null,null,null,null,null,null,null,null,null,null,null,null,null,null,null,null,null,null,null,null,null,null,null,null,null,null,null,null,null,null,null,null,null,null,null,null,null,null,null,null,null,null,null,null,null,null,null,null,null,null,null,null,null,null,null,null,null,null,null,null,null,null,null,null,null,null,null,null,null,null,null,null,null,null,null,null,null,null,null,null,null,null,null,null,null,null,null,null,null,null,null,null,null,null,null,null,null,null,null,null,null,null,null,null,null,null,null,null,null,null,null,null,null,null,null,null,null,null,null,null,null,null,null,null,null,null,null,null,null,null,null,null,null,null,null,null,null,null,null,null,null,null,null,null,null,null,null,null,null,null,null,null,null,null,null,null,null,null,null,null,null,null,null,null,null,null,null,null,null,null,null,null,null,null,null,null,null,null,null,null,null,null,null,null,null,null,null,null,null,null,null,null,null,null,null,null,null,null,null,null,null,null,null,null,null,null,null,null,null,null,null,null,null,null,null,null,null,null,null,null,null,null,null,null,null,null,null,null,null,null,null,null,null,null,null,null,null,null,null,null,null,null,null,null,null,null,null,null,null,null,null,null,null,null,null,null,null,null,null,null,null,null,null,null,null,null,null,null,null,null,null,null,null,null,null,null,null,null,null,null,null,null,null,null,null,null,null,null,null,null,null,null,null,null,null,null,null,null,null,null,null,null,null,null,null,null,null,null,null,null,null,null,null,null,null,null,null,null,null,null,null,null,null,null,null,null,null,null,null,null,null,null,null,null,null,null,null,null,null,null,null,null,null,null,null,null,null,null,null,null,null,null,null,null,null,null,null,null,null,null,null,null,null,null,null,null,null,null,null,null,null,null,null,null,null,null,null,null,null,null,null,null,null,null,null,null,null,null,null,null,null,null,null,null,null,null,null,null,null,null,null,null,null,null,null,null,null,null,null,null,null,null,null,null,null,null,null,null,null,null,null,null,null,null,null,null,null,null,null,null,null,null,null,null,null,null,null,null,null,null,null,null,null,null,null,null,null,null,null,null,null,null,null,null,null,null,null,null,null,null,null,null,null,null,null,null,null,null,null,null,null,null,null,null,null,null,null,null,null,null,null,null,null,null,null,null,null,null,null,null,null,null,null,null,null,null,null,null,null,null,null,null,null,null,null,null,null,null,null,null,null,null,null,null,null,null,null,null,null,null,null,null,null,null,null,null,null,null,null,null,null,null,null,null,null,null,null,null,null,null,null,null,null,null,null,null,null,null,null,null,null,null,null,null,null,null,null,null,null,null,null,null,null,null,null,null,null,null,null,null,null,null,null,null,null,null,null,null,null,null,null,null,null,null,null,null,null,null,null,null,null,null,null,null,null,null,null,null,null,null,null,null,null,{"$f":"IRR(ASW42:AUV42)","v":{"$error":"#NUM!"}},{"$f":"IRRm(ASW42:AUV42)","v":1.0999999999999999},null,null,{"$f":"IRR(ATA42:AUZ42)","v":{"$error":"#NUM!"}},{"$f":"IRRm(ATA42:AUZ42)","v":1.0999999999999999},null,null,{"$f":"IRR(ATE42:AVD42)","v":{"$error":"#NUM!"}},{"$f":"IRRm(ATE42:AVD42)","v":1.0999999999999999},null,null,{"$f":"IRR(ATI42:AVH42)","v":{"$error":"#NUM!"}},{"$f":"IRRm(ATI42:AVH42)","v":1.0999999999999999},null,null,{"$f":"IRR(ATM42:AVL42)","v":{"$error":"#NUM!"}},{"$f":"IRRm(ATM42:AVL42)","v":1.0999999999999999},null,null,{"$f":"IRR(ATQ42:AVP42)","v":{"$error":"#NUM!"}},{"$f":"IRRm(ATQ42:AVP42)","v":1.0999999999999999},null,null,{"$f":"IRR(ATU42:AVT42)","v":{"$error":"#NUM!"}},{"$f":"IRRm(ATU42:AVT42)","v":1.0999999999999999},null,null,{"$f":"IRR(ATY42:AVX42)","v":{"$error":"#NUM!"}},{"$f":"IRRm(ATY42:AVX42)","v":1.0999999999999999},null,null,{"$f":"IRR(AUC42:AWB42)","v":{"$error":"#NUM!"}},{"$f":"IRRm(AUC42:AWB42)","v":1.0999999999999999},null,null,{"$f":"IRR(AUG42:AWF42)","v":{"$error":"#NUM!"}},{"$f":"IRRm(AUG42:AWF42)","v":1.0999999999999999},null,null,{"$f":"IRR(AUK42:AWJ42)","v":{"$error":"#NUM!"}},{"$f":"IRRm(AUK42:AWJ42)","v":1.0999999999999999},null,null,{"$f":"IRR(AUO42:AWN42)","v":{"$error":"#NUM!"}},{"$f":"IRRm(AUO42:AWN42)","v":1.0999999999999999},null,null,{"$f":"IRR(AUS42:AWR42)","v":{"$error":"#NUM!"}},{"$f":"IRRm(AUS42:AWR42)","v":1.0999999999999999},null,null,{"$f":"IRR(AUW42:AWV42)","v":{"$error":"#NUM!"}},{"$f":"IRRm(AUW42:AWV42)","v":1.0999999999999999},null,null,{"$f":"IRR(AVA42:AWZ42)","v":{"$error":"#NUM!"}},{"$f":"IRRm(AVA42:AWZ42)","v":1.0999999999999999},null,null,{"$f":"IRR(AVE42:AXD42)","v":{"$error":"#NUM!"}},{"$f":"IRRm(AVE42:AXD42)","v":1.0999999999999999},null,null,{"$f":"IRR(AVI42:AXH42)","v":{"$error":"#NUM!"}},{"$f":"IRRm(AVI42:AXH42)","v":1.0999999999999999},null,null,{"$f":"IRR(AVM42:AXL42)","v":{"$error":"#NUM!"}},{"$f":"IRRm(AVM42:AXL42)","v":1.0999999999999999},null,null,{"$f":"IRR(AVQ42:AXP42)","v":{"$error":"#NUM!"}},{"$f":"IRRm(AVQ42:AXP42)","v":1.0999999999999999},null,null,{"$f":"IRR(AVU42:AXT42)","v":{"$error":"#NUM!"}},{"$f":"IRRm(AVU42:AXT42)","v":1.0999999999999999},null,null,{"$f":"IRR(AVY42:AXX42)","v":{"$error":"#NUM!"}},{"$f":"IRRm(AVY42:AXX42)","v":1.0999999999999999},null,null,{"$f":"IRR(AWC42:AYB42)","v":{"$error":"#NUM!"}},{"$f":"IRRm(AWC42:AYB42)","v":1.0999999999999999},null,null,{"$f":"IRR(AWG42:AYF42)","v":{"$error":"#NUM!"}},{"$f":"IRRm(AWG42:AYF42)","v":1.0999999999999999},null,null,{"$f":"IRR(AWK42:AYJ42)","v":{"$error":"#NUM!"}},{"$f":"IRRm(AWK42:AYJ42)","v":1.0999999999999999},null,null,{"$f":"IRR(AWO42:AYN42)","v":{"$error":"#NUM!"}},{"$f":"IRRm(AWO42:AYN42)","v":1.0999999999999999},null,null,{"$f":"IRR(AWS42:AYR42)","v":{"$error":"#NUM!"}},{"$f":"IRRm(AWS42:AYR42)","v":1.0999999999999999},null,null,{"$f":"IRR(AWW42:AYV42)","v":{"$error":"#NUM!"}},{"$f":"IRRm(AWW42:AYV42)","v":1.0999999999999999},null,null,{"$f":"IRR(AXA42:AYZ42)","v":{"$error":"#NUM!"}},{"$f":"IRRm(AXA42:AYZ42)","v":1.0999999999999999},null,null,{"$f":"IRR(AXE42:AZD42)","v":{"$error":"#NUM!"}},{"$f":"IRRm(AXE42:AZD42)","v":1.0999999999999999},null,null,{"$f":"IRR(AXI42:AZH42)","v":{"$error":"#NUM!"}},{"$f":"IRRm(AXI42:AZH42)","v":1.0999999999999999},null,null,{"$f":"IRR(AXM42:AZL42)","v":{"$error":"#NUM!"}},{"$f":"IRRm(AXM42:AZL42)","v":1.0999999999999999},null,null,{"$f":"IRR(AXQ42:AZP42)","v":{"$error":"#NUM!"}},{"$f":"IRRm(AXQ42:AZP42)","v":1.0999999999999999},null,null,{"$f":"IRR(AXU42:AZT42)","v":{"$error":"#NUM!"}},{"$f":"IRRm(AXU42:AZT42)","v":1.0999999999999999},null,null,{"$f":"IRR(AXY42:AZX42)","v":{"$error":"#NUM!"}},{"$f":"IRRm(AXY42:AZX42)","v":1.0999999999999999},null,null,{"$f":"IRR(AYC42:BAB42)","v":{"$error":"#NUM!"}},{"$f":"IRRm(AYC42:BAB42)","v":1.0999999999999999},null,null,{"$f":"IRR(AYG42:BAF42)","v":{"$error":"#NUM!"}},{"$f":"IRRm(AYG42:BAF42)","v":1.0999999999999999},null,null,{"$f":"IRR(AYK42:BAJ42)","v":{"$error":"#NUM!"}},{"$f":"IRRm(AYK42:BAJ42)","v":1.0999999999999999},null,null,{"$f":"IRR(AYO42:BAN42)","v":{"$error":"#NUM!"}},{"$f":"IRRm(AYO42:BAN42)","v":1.0999999999999999},null,null,{"$f":"IRR(AYS42:BAR42)","v":{"$error":"#NUM!"}},{"$f":"IRRm(AYS42:BAR42)","v":1.0999999999999999},null,null,{"$f":"IRR(AYW42:BAV42)","v":{"$error":"#NUM!"}},{"$f":"IRRm(AYW42:BAV42)","v":1.0999999999999999},null,null,{"$f":"IRR(AZA42:BAZ42)","v":{"$error":"#NUM!"}},{"$f":"IRRm(AZA42:BAZ42)","v":1.0999999999999999},null,null,{"$f":"IRR(AZE42:BBD42)","v":{"$error":"#NUM!"}},{"$f":"IRRm(AZE42:BBD42)","v":1.0999999999999999},null,null,{"$f":"IRR(AZI42:BBH42)","v":{"$error":"#NUM!"}},{"$f":"IRRm(AZI42:BBH42)","v":1.0999999999999999},null,null,{"$f":"IRR(AZM42:BBL42)","v":{"$error":"#NUM!"}},{"$f":"IRRm(AZM42:BBL42)","v":1.0999999999999999},null,null,{"$f":"IRR(AZQ42:BBP42)","v":{"$error":"#NUM!"}},{"$f":"IRRm(AZQ42:BBP42)","v":1.0999999999999999},null,null,{"$f":"IRR(AZU42:BBT42)","v":{"$error":"#NUM!"}},{"$f":"IRRm(AZU42:BBT42)","v":1.0999999999999999},null,null,{"$f":"IRR(AZY42:BBX42)","v":{"$error":"#NUM!"}},{"$f":"IRRm(AZY42:BBX42)","v":1.0999999999999999},null,null,{"$f":"IRR(BAC42:BCB42)","v":{"$error":"#NUM!"}},{"$f":"IRRm(BAC42:BCB42)","v":1.0999999999999999},null,null,{"$f":"IRR(BAG42:BCF42)","v":{"$error":"#NUM!"}},{"$f":"IRRm(BAG42:BCF42)","v":1.0999999999999999},null,null,{"$f":"IRR(BAK42:BCJ42)","v":{"$error":"#NUM!"}},{"$f":"IRRm(BAK42:BCJ42)","v":1.0999999999999999},null,null,{"$f":"IRR(BAO42:BCN42)","v":{"$error":"#NUM!"}},{"$f":"IRRm(BAO42:BCN42)","v":1.0999999999999999},null,null,{"$f":"IRR(BAS42:BCR42)","v":{"$error":"#NUM!"}},{"$f":"IRRm(BAS42:BCR42)","v":1.0999999999999999},null,null,{"$f":"IRR(BAW42:BCV42)","v":{"$error":"#NUM!"}},{"$f":"IRRm(BAW42:BCV42)","v":1.0999999999999999},null,null,{"$f":"IRR(BBA42:BCZ42)","v":{"$error":"#NUM!"}},{"$f":"IRRm(BBA42:BCZ42)","v":1.0999999999999999},null,null,{"$f":"IRR(BBE42:BDD42)","v":{"$error":"#NUM!"}},{"$f":"IRRm(BBE42:BDD42)","v":1.0999999999999999},null,null,{"$f":"IRR(BBI42:BDH42)","v":{"$error":"#NUM!"}},{"$f":"IRRm(BBI42:BDH42)","v":1.0999999999999999},null,null,{"$f":"IRR(BBM42:BDL42)","v":{"$error":"#NUM!"}},{"$f":"IRRm(BBM42:BDL42)","v":1.0999999999999999},null,null,{"$f":"IRR(BBQ42:BDP42)","v":{"$error":"#NUM!"}},{"$f":"IRRm(BBQ42:BDP42)","v":1.0999999999999999},null,null,{"$f":"IRR(BBU42:BDT42)","v":{"$error":"#NUM!"}},{"$f":"IRRm(BBU42:BDT42)","v":1.0999999999999999},null,null,{"$f":"IRR(BBY42:BDX42)","v":{"$error":"#NUM!"}},{"$f":"IRRm(BBY42:BDX42)","v":1.0999999999999999},null,null,{"$f":"IRR(BCC42:BEB42)","v":{"$error":"#NUM!"}},{"$f":"IRRm(BCC42:BEB42)","v":1.0999999999999999},null,null,{"$f":"IRR(BCG42:BEF42)","v":{"$error":"#NUM!"}},{"$f":"IRRm(BCG42:BEF42)","v":1.0999999999999999},null,null,{"$f":"IRR(BCK42:BEJ42)","v":{"$error":"#NUM!"}},{"$f":"IRRm(BCK42:BEJ42)","v":1.0999999999999999},null,null,{"$f":"IRR(BCO42:BEN42)","v":{"$error":"#NUM!"}},{"$f":"IRRm(BCO42:BEN42)","v":1.0999999999999999},null,null,{"$f":"IRR(BCS42:BER42)","v":{"$error":"#NUM!"}},{"$f":"IRRm(BCS42:BER42)","v":1.0999999999999999},null,null,{"$f":"IRR(BCW42:BEV42)","v":{"$error":"#NUM!"}},{"$f":"IRRm(BCW42:BEV42)","v":1.0999999999999999},null,null,{"$f":"IRR(BDA42:BEZ42)","v":{"$error":"#NUM!"}},{"$f":"IRRm(BDA42:BEZ42)","v":1.0999999999999999},null,null,{"$f":"IRR(BDE42:BFD42)","v":{"$error":"#NUM!"}},{"$f":"IRRm(BDE42:BFD42)","v":1.0999999999999999},null,null,{"$f":"IRR(BDI42:BFH42)","v":{"$error":"#NUM!"}},{"$f":"IRRm(BDI42:BFH42)","v":1.0999999999999999},null,null,{"$f":"IRR(BDM42:BFL42)","v":{"$error":"#NUM!"}},{"$f":"IRRm(BDM42:BFL42)","v":1.0999999999999999},null,null,{"$f":"IRR(BDQ42:BFP42)","v":{"$error":"#NUM!"}},{"$f":"IRRm(BDQ42:BFP42)","v":1.0999999999999999},null,null,{"$f":"IRR(BDU42:BFT42)","v":{"$error":"#NUM!"}},{"$f":"IRRm(BDU42:BFT42)","v":1.0999999999999999},null,null,{"$f":"IRR(BDY42:BFX42)","v":{"$error":"#NUM!"}},{"$f":"IRRm(BDY42:BFX42)","v":1.0999999999999999},null,null,{"$f":"IRR(BEC42:BGB42)","v":{"$error":"#NUM!"}},{"$f":"IRRm(BEC42:BGB42)","v":1.0999999999999999},null,null,{"$f":"IRR(BEG42:BGF42)","v":{"$error":"#NUM!"}},{"$f":"IRRm(BEG42:BGF42)","v":1.0999999999999999},null,null,{"$f":"IRR(BEK42:BGJ42)","v":{"$error":"#NUM!"}},{"$f":"IRRm(BEK42:BGJ42)","v":1.0999999999999999},null,null,{"$f":"IRR(BEO42:BGN42)","v":{"$error":"#NUM!"}},{"$f":"IRRm(BEO42:BGN42)","v":1.0999999999999999},null,null,{"$f":"IRR(BES42:BGR42)","v":{"$error":"#NUM!"}},{"$f":"IRRm(BES42:BGR42)","v":1.0999999999999999},null,null,{"$f":"IRR(BEW42:BGV42)","v":{"$error":"#NUM!"}},{"$f":"IRRm(BEW42:BGV42)","v":1.0999999999999999},null,null,{"$f":"IRR(BFA42:BGZ42)","v":{"$error":"#NUM!"}},{"$f":"IRRm(BFA42:BGZ42)","v":1.0999999999999999},null,null,{"$f":"IRR(BFE42:BHD42)","v":{"$error":"#NUM!"}},{"$f":"IRRm(BFE42:BHD42)","v":1.0999999999999999},null,null,{"$f":"IRR(BFI42:BHH42)","v":{"$error":"#NUM!"}},{"$f":"IRRm(BFI42:BHH42)","v":1.0999999999999999},null,null,{"$f":"IRR(BFM42:BHL42)","v":{"$error":"#NUM!"}},{"$f":"IRRm(BFM42:BHL42)","v":1.0999999999999999},null,null,{"$f":"IRR(BFQ42:BHP42)","v":{"$error":"#NUM!"}},{"$f":"IRRm(BFQ42:BHP42)","v":1.0999999999999999},null,null,{"$f":"IRR(BFU42:BHT42)","v":{"$error":"#NUM!"}},{"$f":"IRRm(BFU42:BHT42)","v":1.0999999999999999},null,null,{"$f":"IRR(BFY42:BHX42)","v":{"$error":"#NUM!"}},{"$f":"IRRm(BFY42:BHX42)","v":1.0999999999999999},null,null,{"$f":"IRR(BGC42:BIB42)","v":{"$error":"#NUM!"}},{"$f":"IRRm(BGC42:BIB42)","v":1.0999999999999999},null,null,{"$f":"IRR(BGG42:BIF42)","v":{"$error":"#NUM!"}},{"$f":"IRRm(BGG42:BIF42)","v":1.0999999999999999},null,null,{"$f":"IRR(BGK42:BIJ42)","v":{"$error":"#NUM!"}},{"$f":"IRRm(BGK42:BIJ42)","v":1.0999999999999999},null,null,{"$f":"IRR(BGO42:BIN42)","v":{"$error":"#NUM!"}},{"$f":"IRRm(BGO42:BIN42)","v":1.0999999999999999},null,null,{"$f":"IRR(BGS42:BIR42)","v":{"$error":"#NUM!"}},{"$f":"IRRm(BGS42:BIR42)","v":1.0999999999999999},null,null,{"$f":"IRR(BGW42:BIV42)","v":{"$error":"#NUM!"}},{"$f":"IRRm(BGW42:BIV42)","v":1.0999999999999999},null,null,{"$f":"IRR(BHA42:BIZ42)","v":{"$error":"#NUM!"}},{"$f":"IRRm(BHA42:BIZ42)","v":1.0999999999999999},null,null,{"$f":"IRR(BHE42:BJD42)","v":{"$error":"#NUM!"}},{"$f":"IRRm(BHE42:BJD42)","v":1.0999999999999999},null,null,{"$f":"IRR(BHI42:BJH42)","v":{"$error":"#NUM!"}},{"$f":"IRRm(BHI42:BJH42)","v":1.0999999999999999},null,null,{"$f":"IRR(BHM42:BJL42)","v":{"$error":"#NUM!"}},{"$f":"IRRm(BHM42:BJL42)","v":1.0999999999999999},null,null,{"$f":"IRR(BHQ42:BJP42)","v":{"$error":"#NUM!"}},{"$f":"IRRm(BHQ42:BJP42)","v":1.0999999999999999},null,null,{"$f":"IRR(BHU42:BJT42)","v":{"$error":"#NUM!"}},{"$f":"IRRm(BHU42:BJT42)","v":1.0999999999999999},null,null,{"$f":"IRR(BHY42:BJX42)","v":{"$error":"#NUM!"}},{"$f":"IRRm(BHY42:BJX42)","v":1.0999999999999999},null,null,{"$f":"IRR(BIC42:BKB42)","v":{"$error":"#NUM!"}},{"$f":"IRRm(BIC42:BKB42)","v":1.0999999999999999},null,null,{"$f":"IRR(BIG42:BKF42)","v":{"$error":"#NUM!"}},{"$f":"IRRm(BIG42:BKF42)","v":1.0999999999999999},null,null,{"$f":"IRR(BIK42:BKJ42)","v":{"$error":"#NUM!"}},{"$f":"IRRm(BIK42:BKJ42)","v":1.0999999999999999},null,null,{"$f":"IRR(BIO42:BKN42)","v":{"$error":"#NUM!"}},{"$f":"IRRm(BIO42:BKN42)","v":1.0999999999999999},null,null,{"$f":"IRR(BIS42:BKR42)","v":{"$error":"#NUM!"}},{"$f":"IRRm(BIS42:BKR42)","v":1.0999999999999999},null,null,{"$f":"IRR(BIW42:BKV42)","v":{"$error":"#NUM!"}},{"$f":"IRRm(BIW42:BKV42)","v":1.0999999999999999},null,null,{"$f":"IRR(BJA42:BKZ42)","v":{"$error":"#NUM!"}},{"$f":"IRRm(BJA42:BKZ42)","v":1.0999999999999999},null,null,{"$f":"IRR(BJE42:BLD42)","v":{"$error":"#NUM!"}},{"$f":"IRRm(BJE42:BLD42)","v":1.0999999999999999},null,null,{"$f":"IRR(BJI42:BLH42)","v":{"$error":"#NUM!"}},{"$f":"IRRm(BJI42:BLH42)","v":1.0999999999999999},null,null,{"$f":"IRR(BJM42:BLL42)","v":{"$error":"#NUM!"}},{"$f":"IRRm(BJM42:BLL42)","v":1.0999999999999999},null,null,{"$f":"IRR(BJQ42:BLP42)","v":{"$error":"#NUM!"}},{"$f":"IRRm(BJQ42:BLP42)","v":1.0999999999999999},null,null,{"$f":"IRR(BJU42:BLT42)","v":{"$error":"#NUM!"}},{"$f":"IRRm(BJU42:BLT42)","v":1.0999999999999999},null,null,{"$f":"IRR(BJY42:BLX42)","v":{"$error":"#NUM!"}},{"$f":"IRRm(BJY42:BLX42)","v":1.0999999999999999},null,null,{"$f":"IRR(BKC42:BMB42)","v":{"$error":"#NUM!"}},{"$f":"IRRm(BKC42:BMB42)","v":1.0999999999999999},null,null,{"$f":"IRR(BKG42:BMF42)","v":{"$error":"#NUM!"}},{"$f":"IRRm(BKG42:BMF42)","v":1.0999999999999999},null,null,{"$f":"IRR(BKK42:BMJ42)","v":{"$error":"#NUM!"}},{"$f":"IRRm(BKK42:BMJ42)","v":1.0999999999999999},null,null,{"$f":"IRR(BKO42:BMN42)","v":{"$error":"#NUM!"}},{"$f":"IRRm(BKO42:BMN42)","v":1.0999999999999999},null,null,{"$f":"IRR(BKS42:BMR42)","v":{"$error":"#NUM!"}},{"$f":"IRRm(BKS42:BMR42)","v":1.0999999999999999},null,null,{"$f":"IRR(BKW42:BMV42)","v":{"$error":"#NUM!"}},{"$f":"IRRm(BKW42:BMV42)","v":1.0999999999999999},null,null,{"$f":"IRR(BLA42:BMZ42)","v":{"$error":"#NUM!"}},{"$f":"IRRm(BLA42:BMZ42)","v":1.0999999999999999},null,null,{"$f":"IRR(BLE42:BND42)","v":{"$error":"#NUM!"}},{"$f":"IRRm(BLE42:BND42)","v":1.0999999999999999},null,null,{"$f":"IRR(BLI42:BNH42)","v":{"$error":"#NUM!"}},{"$f":"IRRm(BLI42:BNH42)","v":1.0999999999999999},null,null,{"$f":"IRR(BLM42:BNL42)","v":{"$error":"#NUM!"}},{"$f":"IRRm(BLM42:BNL42)","v":1.0999999999999999},null,null,{"$f":"IRR(BLQ42:BNP42)","v":{"$error":"#NUM!"}},{"$f":"IRRm(BLQ42:BNP42)","v":1.0999999999999999},null,null,{"$f":"IRR(BLU42:BNT42)","v":{"$error":"#NUM!"}},{"$f":"IRRm(BLU42:BNT42)","v":1.0999999999999999},null,null,{"$f":"IRR(BLY42:BNX42)","v":{"$error":"#NUM!"}},{"$f":"IRRm(BLY42:BNX42)","v":1.0999999999999999},null,null,{"$f":"IRR(BMC42:BOB42)","v":{"$error":"#NUM!"}},{"$f":"IRRm(BMC42:BOB42)","v":1.0999999999999999},null,null,{"$f":"IRR(BMG42:BOF42)","v":{"$error":"#NUM!"}},{"$f":"IRRm(BMG42:BOF42)","v":1.0999999999999999},null,null,{"$f":"IRR(BMK42:BOJ42)","v":{"$error":"#NUM!"}},{"$f":"IRRm(BMK42:BOJ42)","v":1.0999999999999999},null,null,{"$f":"IRR(BMO42:BON42)","v":{"$error":"#NUM!"}},{"$f":"IRRm(BMO42:BON42)","v":1.0999999999999999},null,null,{"$f":"IRR(BMS42:BOR42)","v":{"$error":"#NUM!"}},{"$f":"IRRm(BMS42:BOR42)","v":1.0999999999999999},null,null,{"$f":"IRR(BMW42:BOV42)","v":{"$error":"#NUM!"}},{"$f":"IRRm(BMW42:BOV42)","v":1.0999999999999999},null,null,{"$f":"IRR(BNA42:BOZ42)","v":{"$error":"#NUM!"}},{"$f":"IRRm(BNA42:BOZ42)","v":1.0999999999999999},null,null,{"$f":"IRR(BNE42:BPD42)","v":{"$error":"#NUM!"}},{"$f":"IRRm(BNE42:BPD42)","v":1.0999999999999999},null,null,{"$f":"IRR(BNI42:BPH42)","v":{"$error":"#NUM!"}},{"$f":"IRRm(BNI42:BPH42)","v":1.0999999999999999},null,null,{"$f":"IRR(BNM42:BPL42)","v":{"$error":"#NUM!"}},{"$f":"IRRm(BNM42:BPL42)","v":1.0999999999999999},null,null,{"$f":"IRR(BNQ42:BPP42)","v":{"$error":"#NUM!"}},{"$f":"IRRm(BNQ42:BPP42)","v":1.0999999999999999},null,null,{"$f":"IRR(BNU42:BPT42)","v":{"$error":"#NUM!"}},{"$f":"IRRm(BNU42:BPT42)","v":1.0999999999999999},null,null,{"$f":"IRR(BNY42:BPX42)","v":{"$error":"#NUM!"}},{"$f":"IRRm(BNY42:BPX42)","v":1.0999999999999999},null,null,{"$f":"IRR(BOC42:BQB42)","v":{"$error":"#NUM!"}},{"$f":"IRRm(BOC42:BQB42)","v":1.0999999999999999},null,null,{"$f":"IRR(BOG42:BQF42)","v":{"$error":"#NUM!"}},{"$f":"IRRm(BOG42:BQF42)","v":1.0999999999999999},null,null,{"$f":"IRR(BOK42:BQJ42)","v":{"$error":"#NUM!"}},{"$f":"IRRm(BOK42:BQJ42)","v":1.0999999999999999},null,null,{"$f":"IRR(BOO42:BQN42)","v":{"$error":"#NUM!"}},{"$f":"IRRm(BOO42:BQN42)","v":1.0999999999999999},null,null,{"$f":"IRR(BOS42:BQR42)","v":{"$error":"#NUM!"}},{"$f":"IRRm(BOS42:BQR42)","v":1.0999999999999999},null,null,{"$f":"IRR(BOW42:BQV42)","v":{"$error":"#NUM!"}},{"$f":"IRRm(BOW42:BQV42)","v":1.0999999999999999},null,null,{"$f":"IRR(BPA42:BQZ42)","v":{"$error":"#NUM!"}},{"$f":"IRRm(BPA42:BQZ42)","v":1.0999999999999999},null,null,{"$f":"IRR(BPE42:BRD42)","v":{"$error":"#NUM!"}},{"$f":"IRRm(BPE42:BRD42)","v":1.0999999999999999},null,null,{"$f":"IRR(BPI42:BRH42)","v":{"$error":"#NUM!"}},{"$f":"IRRm(BPI42:BRH42)","v":1.0999999999999999},null,null,{"$f":"IRR(BPM42:BRL42)","v":{"$error":"#NUM!"}},{"$f":"IRRm(BPM42:BRL42)","v":1.0999999999999999},null,null,{"$f":"IRR(BPQ42:BRP42)","v":{"$error":"#NUM!"}},{"$f":"IRRm(BPQ42:BRP42)","v":1.0999999999999999},null,null,{"$f":"IRR(BPU42:BRT42)","v":{"$error":"#NUM!"}},{"$f":"IRRm(BPU42:BRT42)","v":1.0999999999999999},null,null,{"$f":"IRR(BPY42:BRX42)","v":{"$error":"#NUM!"}},{"$f":"IRRm(BPY42:BRX42)","v":1.0999999999999999},null,null,{"$f":"IRR(BQC42:BSB42)","v":{"$error":"#NUM!"}},{"$f":"IRRm(BQC42:BSB42)","v":1.0999999999999999},null,null,{"$f":"IRR(BQG42:BSF42)","v":{"$error":"#NUM!"}},{"$f":"IRRm(BQG42:BSF42)","v":1.0999999999999999},null,null,{"$f":"IRR(BQK42:BSJ42)","v":{"$error":"#NUM!"}},{"$f":"IRRm(BQK42:BSJ42)","v":1.0999999999999999},null,null,{"$f":"IRR(BQO42:BSN42)","v":{"$error":"#NUM!"}},{"$f":"IRRm(BQO42:BSN42)","v":1.0999999999999999},null,null,{"$f":"IRR(BQS42:BSR42)","v":{"$error":"#NUM!"}},{"$f":"IRRm(BQS42:BSR42)","v":1.0999999999999999},null,null,{"$f":"IRR(BQW42:BSV42)","v":{"$error":"#NUM!"}},{"$f":"IRRm(BQW42:BSV42)","v":1.0999999999999999},null,null,{"$f":"IRR(BRA42:BSZ42)","v":{"$error":"#NUM!"}},{"$f":"IRRm(BRA42:BSZ42)","v":1.0999999999999999},null,null,{"$f":"IRR(BRE42:BTD42)","v":{"$error":"#NUM!"}},{"$f":"IRRm(BRE42:BTD42)","v":1.0999999999999999},null,null,{"$f":"IRR(BRI42:BTH42)","v":{"$error":"#NUM!"}},{"$f":"IRRm(BRI42:BTH42)","v":1.0999999999999999},null,null,{"$f":"IRR(BRM42:BTL42)","v":{"$error":"#NUM!"}},{"$f":"IRRm(BRM42:BTL42)","v":1.0999999999999999},null,null,{"$f":"IRR(BRQ42:BTP42)","v":{"$error":"#NUM!"}},{"$f":"IRRm(BRQ42:BTP42)","v":1.0999999999999999},null,null,{"$f":"IRR(BRU42:BTT42)","v":{"$error":"#NUM!"}},{"$f":"IRRm(BRU42:BTT42)","v":1.0999999999999999},null,null,{"$f":"IRR(BRY42:BTX42)","v":{"$error":"#NUM!"}},{"$f":"IRRm(BRY42:BTX42)","v":1.0999999999999999},null,null,{"$f":"IRR(BSC42:BUB42)","v":{"$error":"#NUM!"}},{"$f":"IRRm(BSC42:BUB42)","v":1.0999999999999999},null,null,{"$f":"IRR(BSG42:BUF42)","v":{"$error":"#NUM!"}},{"$f":"IRRm(BSG42:BUF42)","v":1.0999999999999999},null,null,{"$f":"IRR(BSK42:BUJ42)","v":{"$error":"#NUM!"}},{"$f":"IRRm(BSK42:BUJ42)","v":1.0999999999999999},null,null,{"$f":"IRR(BSO42:BUN42)","v":{"$error":"#NUM!"}},{"$f":"IRRm(BSO42:BUN42)","v":1.0999999999999999},null,null,{"$f":"IRR(BSS42:BUR42)","v":{"$error":"#NUM!"}},{"$f":"IRRm(BSS42:BUR42)","v":1.0999999999999999},null,null,{"$f":"IRR(BSW42:BUV42)","v":{"$error":"#NUM!"}},{"$f":"IRRm(BSW42:BUV42)","v":1.0999999999999999},null,null,{"$f":"IRR(BTA42:BUZ42)","v":{"$error":"#NUM!"}},{"$f":"IRRm(BTA42:BUZ42)","v":1.0999999999999999},null,null,{"$f":"IRR(BTE42:BVD42)","v":{"$error":"#NUM!"}},{"$f":"IRRm(BTE42:BVD42)","v":1.0999999999999999},null,null,{"$f":"IRR(BTI42:BVH42)","v":{"$error":"#NUM!"}},{"$f":"IRRm(BTI42:BVH42)","v":1.0999999999999999},null,null,{"$f":"IRR(BTM42:BVL42)","v":{"$error":"#NUM!"}},{"$f":"IRRm(BTM42:BVL42)","v":1.0999999999999999},null,null,{"$f":"IRR(BTQ42:BVP42)","v":{"$error":"#NUM!"}},{"$f":"IRRm(BTQ42:BVP42)","v":1.0999999999999999},null,null,{"$f":"IRR(BTU42:BVT42)","v":{"$error":"#NUM!"}},{"$f":"IRRm(BTU42:BVT42)","v":1.0999999999999999},null,null,{"$f":"IRR(BTY42:BVX42)","v":{"$error":"#NUM!"}},{"$f":"IRRm(BTY42:BVX42)","v":1.0999999999999999},null,null,{"$f":"IRR(BUC42:BWB42)","v":{"$error":"#NUM!"}},{"$f":"IRRm(BUC42:BWB42)","v":1.0999999999999999},null,null,{"$f":"IRR(BUG42:BWF42)","v":{"$error":"#NUM!"}},{"$f":"IRRm(BUG42:BWF42)","v":1.0999999999999999},null,null,{"$f":"IRR(BUK42:BWJ42)","v":{"$error":"#NUM!"}},{"$f":"IRRm(BUK42:BWJ42)","v":1.0999999999999999},null,null,{"$f":"IRR(BUO42:BWN42)","v":{"$error":"#NUM!"}},{"$f":"IRRm(BUO42:BWN42)","v":1.0999999999999999},null,null,{"$f":"IRR(BUS42:BWR42)","v":{"$error":"#NUM!"}},{"$f":"IRRm(BUS42:BWR42)","v":1.0999999999999999},null,null,{"$f":"IRR(BUW42:BWV42)","v":{"$error":"#NUM!"}},{"$f":"IRRm(BUW42:BWV42)","v":1.0999999999999999},null,null,{"$f":"IRR(BVA42:BWZ42)","v":{"$error":"#NUM!"}},{"$f":"IRRm(BVA42:BWZ42)","v":1.0999999999999999},null,null,{"$f":"IRR(BVE42:BXD42)","v":{"$error":"#NUM!"}},{"$f":"IRRm(BVE42:BXD42)","v":1.0999999999999999},null,null,{"$f":"IRR(BVI42:BXH42)","v":{"$error":"#NUM!"}},{"$f":"IRRm(BVI42:BXH42)","v":1.0999999999999999},null,null,{"$f":"IRR(BVM42:BXL42)","v":{"$error":"#NUM!"}},{"$f":"IRRm(BVM42:BXL42)","v":1.0999999999999999},null,null,{"$f":"IRR(BVQ42:BXP42)","v":{"$error":"#NUM!"}},{"$f":"IRRm(BVQ42:BXP42)","v":1.0999999999999999},null,null,{"$f":"IRR(BVU42:BXT42)","v":{"$error":"#NUM!"}},{"$f":"IRRm(BVU42:BXT42)","v":1.0999999999999999},null,null,{"$f":"IRR(BVY42:BXX42)","v":{"$error":"#NUM!"}},{"$f":"IRRm(BVY42:BXX42)","v":1.0999999999999999},null,null,{"$f":"IRR(BWC42:BYB42)","v":{"$error":"#NUM!"}},{"$f":"IRRm(BWC42:BYB42)","v":1.0999999999999999},null,null,{"$f":"IRR(BWG42:BYF42)","v":{"$error":"#NUM!"}},{"$f":"IRRm(BWG42:BYF42)","v":1.0999999999999999},null,null,{"$f":"IRR(BWK42:BYJ42)","v":{"$error":"#NUM!"}},{"$f":"IRRm(BWK42:BYJ42)","v":1.0999999999999999},null,null,{"$f":"IRR(BWO42:BYN42)","v":{"$error":"#NUM!"}},{"$f":"IRRm(BWO42:BYN42)","v":1.0999999999999999},null,null,{"$f":"IRR(BWS42:BYR42)","v":{"$error":"#NUM!"}},{"$f":"IRRm(BWS42:BYR42)","v":1.0999999999999999},null,null,{"$f":"IRR(BWW42:BYV42)","v":{"$error":"#NUM!"}},{"$f":"IRRm(BWW42:BYV42)","v":1.0999999999999999},null,null,{"$f":"IRR(BXA42:BYZ42)","v":{"$error":"#NUM!"}},{"$f":"IRRm(BXA42:BYZ42)","v":1.0999999999999999},null,null,{"$f":"IRR(BXE42:BZD42)","v":{"$error":"#NUM!"}},{"$f":"IRRm(BXE42:BZD42)","v":1.0999999999999999},null,null,{"$f":"IRR(BXI42:BZH42)","v":{"$error":"#NUM!"}},{"$f":"IRRm(BXI42:BZH42)","v":1.0999999999999999},null,null,{"$f":"IRR(BXM42:BZL42)","v":{"$error":"#NUM!"}},{"$f":"IRRm(BXM42:BZL42)","v":1.0999999999999999},null,null,{"$f":"IRR(BXQ42:BZP42)","v":{"$error":"#NUM!"}},{"$f":"IRRm(BXQ42:BZP42)","v":1.0999999999999999},null,null,{"$f":"IRR(BXU42:BZT42)","v":{"$error":"#NUM!"}},{"$f":"IRRm(BXU42:BZT42)","v":1.0999999999999999},null,null,{"$f":"IRR(BXY42:BZX42)","v":{"$error":"#NUM!"}},{"$f":"IRRm(BXY42:BZX42)","v":1.0999999999999999},null,null,{"$f":"IRR(BYC42:CAB42)","v":{"$error":"#NUM!"}},{"$f":"IRRm(BYC42:CAB42)","v":1.0999999999999999},null,null,{"$f":"IRR(BYG42:CAF42)","v":{"$error":"#NUM!"}},{"$f":"IRRm(BYG42:CAF42)","v":1.0999999999999999},null,null,{"$f":"IRR(BYK42:CAJ42)","v":{"$error":"#NUM!"}},{"$f":"IRRm(BYK42:CAJ42)","v":1.0999999999999999},null,null,{"$f":"IRR(BYO42:CAN42)","v":{"$error":"#NUM!"}},{"$f":"IRRm(BYO42:CAN42)","v":1.0999999999999999},null,null,{"$f":"IRR(BYS42:CAR42)","v":{"$error":"#NUM!"}},{"$f":"IRRm(BYS42:CAR42)","v":1.0999999999999999},null,null,{"$f":"IRR(BYW42:CAV42)","v":{"$error":"#NUM!"}},{"$f":"IRRm(BYW42:CAV42)","v":1.0999999999999999},null,null,{"$f":"IRR(BZA42:CAZ42)","v":{"$error":"#NUM!"}},{"$f":"IRRm(BZA42:CAZ42)","v":1.0999999999999999},null,null,{"$f":"IRR(BZE42:CBD42)","v":{"$error":"#NUM!"}},{"$f":"IRRm(BZE42:CBD42)","v":1.0999999999999999},null,null,{"$f":"IRR(BZI42:CBH42)","v":{"$error":"#NUM!"}},{"$f":"IRRm(BZI42:CBH42)","v":1.0999999999999999},null,null,{"$f":"IRR(BZM42:CBL42)","v":{"$error":"#NUM!"}},{"$f":"IRRm(BZM42:CBL42)","v":1.0999999999999999},null,null,{"$f":"IRR(BZQ42:CBP42)","v":{"$error":"#NUM!"}},{"$f":"IRRm(BZQ42:CBP42)","v":1.0999999999999999},null,null,{"$f":"IRR(BZU42:CBT42)","v":{"$error":"#NUM!"}},{"$f":"IRRm(BZU42:CBT42)","v":1.0999999999999999},null,null,{"$f":"IRR(BZY42:CBX42)","v":{"$error":"#NUM!"}},{"$f":"IRRm(BZY42:CBX42)","v":1.0999999999999999},null,null,{"$f":"IRR(CAC42:CCB42)","v":{"$error":"#NUM!"}},{"$f":"IRRm(CAC42:CCB42)","v":1.0999999999999999},null,null,{"$f":"IRR(CAG42:CCF42)","v":{"$error":"#NUM!"}},{"$f":"IRRm(CAG42:CCF42)","v":1.0999999999999999},null,null,{"$f":"IRR(CAK42:CCJ42)","v":{"$error":"#NUM!"}},{"$f":"IRRm(CAK42:CCJ42)","v":1.0999999999999999},null,null,{"$f":"IRR(CAO42:CCN42)","v":{"$error":"#NUM!"}},{"$f":"IRRm(CAO42:CCN42)","v":1.0999999999999999},null,null,{"$f":"IRR(CAS42:CCR42)","v":{"$error":"#NUM!"}},{"$f":"IRRm(CAS42:CCR42)","v":1.0999999999999999},null,null,{"$f":"IRR(CAW42:CCV42)","v":{"$error":"#NUM!"}},{"$f":"IRRm(CAW42:CCV42)","v":1.0999999999999999},null,null,{"$f":"IRR(CBA42:CCZ42)","v":{"$error":"#NUM!"}},{"$f":"IRRm(CBA42:CCZ42)","v":1.0999999999999999},null,null,{"$f":"IRR(CBE42:CDD42)","v":{"$error":"#NUM!"}},{"$f":"IRRm(CBE42:CDD42)","v":1.0999999999999999},null,null,{"$f":"IRR(CBI42:CDH42)","v":{"$error":"#NUM!"}},{"$f":"IRRm(CBI42:CDH42)","v":1.0999999999999999},null,null,{"$f":"IRR(CBM42:CDL42)","v":{"$error":"#NUM!"}},{"$f":"IRRm(CBM42:CDL42)","v":1.0999999999999999},null,null,{"$f":"IRR(CBQ42:CDP42)","v":{"$error":"#NUM!"}},{"$f":"IRRm(CBQ42:CDP42)","v":1.0999999999999999},null,null,{"$f":"IRR(CBU42:CDT42)","v":{"$error":"#NUM!"}},{"$f":"IRRm(CBU42:CDT42)","v":1.0999999999999999},null,null,{"$f":"IRR(CBY42:CDX42)","v":{"$error":"#NUM!"}},{"$f":"IRRm(CBY42:CDX42)","v":1.0999999999999999},null,null,{"$f":"IRR(CCC42:CEB42)","v":{"$error":"#NUM!"}},{"$f":"IRRm(CCC42:CEB42)","v":1.0999999999999999},null,null,{"$f":"IRR(CCG42:CEF42)","v":{"$error":"#NUM!"}},{"$f":"IRRm(CCG42:CEF42)","v":1.0999999999999999},null,null,{"$f":"IRR(CCK42:CEJ42)","v":{"$error":"#NUM!"}},{"$f":"IRRm(CCK42:CEJ42)","v":1.0999999999999999},null,null,{"$f":"IRR(CCO42:CEN42)","v":{"$error":"#NUM!"}},{"$f":"IRRm(CCO42:CEN42)","v":1.0999999999999999},null,null,{"$f":"IRR(CCS42:CER42)","v":{"$error":"#NUM!"}},{"$f":"IRRm(CCS42:CER42)","v":1.0999999999999999},null,null,{"$f":"IRR(CCW42:CEV42)","v":{"$error":"#NUM!"}},{"$f":"IRRm(CCW42:CEV42)","v":1.0999999999999999},null,null,{"$f":"IRR(CDA42:CEZ42)","v":{"$error":"#NUM!"}},{"$f":"IRRm(CDA42:CEZ42)","v":1.0999999999999999},null,null,{"$f":"IRR(CDE42:CFD42)","v":{"$error":"#NUM!"}},{"$f":"IRRm(CDE42:CFD42)","v":1.0999999999999999},null,null,{"$f":"IRR(CDI42:CFH42)","v":{"$error":"#NUM!"}},{"$f":"IRRm(CDI42:CFH42)","v":1.0999999999999999},null,null,{"$f":"IRR(CDM42:CFL42)","v":{"$error":"#NUM!"}},{"$f":"IRRm(CDM42:CFL42)","v":1.0999999999999999},null,null,{"$f":"IRR(CDQ42:CFP42)","v":{"$error":"#NUM!"}},{"$f":"IRRm(CDQ42:CFP42)","v":1.0999999999999999},null,null,{"$f":"IRR(CDU42:CFT42)","v":{"$error":"#NUM!"}},{"$f":"IRRm(CDU42:CFT42)","v":1.0999999999999999},null,null,{"$f":"IRR(CDY42:CFX42)","v":{"$error":"#NUM!"}},{"$f":"IRRm(CDY42:CFX42)","v":1.0999999999999999},null,null,{"$f":"IRR(CEC42:CGB42)","v":{"$error":"#NUM!"}},{"$f":"IRRm(CEC42:CGB42)","v":1.0999999999999999},null,null,{"$f":"IRR(CEG42:CGF42)","v":{"$error":"#NUM!"}},{"$f":"IRRm(CEG42:CGF42)","v":1.0999999999999999},null,null,{"$f":"IRR(CEK42:CGJ42)","v":{"$error":"#NUM!"}},{"$f":"IRRm(CEK42:CGJ42)","v":1.0999999999999999},null,null,{"$f":"IRR(CEO42:CGN42)","v":{"$error":"#NUM!"}},{"$f":"IRRm(CEO42:CGN42)","v":1.0999999999999999},null,null,{"$f":"IRR(CES42:CGR42)","v":{"$error":"#NUM!"}},{"$f":"IRRm(CES42:CGR42)","v":1.0999999999999999},null,null,{"$f":"IRR(CEW42:CGV42)","v":{"$error":"#NUM!"}},{"$f":"IRRm(CEW42:CGV42)","v":1.0999999999999999},null,null,{"$f":"IRR(CFA42:CGZ42)","v":{"$error":"#NUM!"}},{"$f":"IRRm(CFA42:CGZ42)","v":1.0999999999999999},null,null,{"$f":"IRR(CFE42:CHD42)","v":{"$error":"#NUM!"}},{"$f":"IRRm(CFE42:CHD42)","v":1.0999999999999999},null,null,{"$f":"IRR(CFI42:CHH42)","v":{"$error":"#NUM!"}},{"$f":"IRRm(CFI42:CHH42)","v":1.0999999999999999},null,null,{"$f":"IRR(CFM42:CHL42)","v":{"$error":"#NUM!"}},{"$f":"IRRm(CFM42:CHL42)","v":1.0999999999999999},null,null,{"$f":"IRR(CFQ42:CHP42)","v":{"$error":"#NUM!"}},{"$f":"IRRm(CFQ42:CHP42)","v":1.0999999999999999},null,null,{"$f":"IRR(CFU42:CHT42)","v":{"$error":"#NUM!"}},{"$f":"IRRm(CFU42:CHT42)","v":1.0999999999999999},null,null,{"$f":"IRR(CFY42:CHX42)","v":{"$error":"#NUM!"}},{"$f":"IRRm(CFY42:CHX42)","v":1.0999999999999999},null,null,{"$f":"IRR(CGC42:CIB42)","v":{"$error":"#NUM!"}},{"$f":"IRRm(CGC42:CIB42)","v":1.0999999999999999},null,null,{"$f":"IRR(CGG42:CIF42)","v":{"$error":"#NUM!"}},{"$f":"IRRm(CGG42:CIF42)","v":1.0999999999999999},null,null,{"$f":"IRR(CGK42:CIJ42)","v":{"$error":"#NUM!"}},{"$f":"IRRm(CGK42:CIJ42)","v":1.0999999999999999},null,null,{"$f":"IRR(CGO42:CIN42)","v":{"$error":"#NUM!"}},{"$f":"IRRm(CGO42:CIN42)","v":1.0999999999999999},null,null,{"$f":"IRR(CGS42:CIR42)","v":{"$error":"#NUM!"}},{"$f":"IRRm(CGS42:CIR42)","v":1.0999999999999999},null,null,{"$f":"IRR(CGW42:CIV42)","v":{"$error":"#NUM!"}},{"$f":"IRRm(CGW42:CIV42)","v":1.0999999999999999},null,null,{"$f":"IRR(CHA42:CIZ42)","v":{"$error":"#NUM!"}},{"$f":"IRRm(CHA42:CIZ42)","v":1.0999999999999999},null,null,{"$f":"IRR(CHE42:CJD42)","v":{"$error":"#NUM!"}},{"$f":"IRRm(CHE42:CJD42)","v":1.0999999999999999},null,null,{"$f":"IRR(CHI42:CJH42)","v":{"$error":"#NUM!"}},{"$f":"IRRm(CHI42:CJH42)","v":1.0999999999999999},null,null,{"$f":"IRR(CHM42:CJL42)","v":{"$error":"#NUM!"}},{"$f":"IRRm(CHM42:CJL42)","v":1.0999999999999999},null,null,{"$f":"IRR(CHQ42:CJP42)","v":{"$error":"#NUM!"}},{"$f":"IRRm(CHQ42:CJP42)","v":1.0999999999999999},null,null,{"$f":"IRR(CHU42:CJT42)","v":{"$error":"#NUM!"}},{"$f":"IRRm(CHU42:CJT42)","v":1.0999999999999999},null,null,{"$f":"IRR(CHY42:CJX42)","v":{"$error":"#NUM!"}},{"$f":"IRRm(CHY42:CJX42)","v":1.0999999999999999},null,null,{"$f":"IRR(CIC42:CKB42)","v":{"$error":"#NUM!"}},{"$f":"IRRm(CIC42:CKB42)","v":1.0999999999999999},null,null,{"$f":"IRR(CIG42:CKF42)","v":{"$error":"#NUM!"}},{"$f":"IRRm(CIG42:CKF42)","v":1.0999999999999999},null,null,{"$f":"IRR(CIK42:CKJ42)","v":{"$error":"#NUM!"}},{"$f":"IRRm(CIK42:CKJ42)","v":1.0999999999999999},null,null,{"$f":"IRR(CIO42:CKN42)","v":{"$error":"#NUM!"}},{"$f":"IRRm(CIO42:CKN42)","v":1.0999999999999999},null,null,{"$f":"IRR(CIS42:CKR42)","v":{"$error":"#NUM!"}},{"$f":"IRRm(CIS42:CKR42)","v":1.0999999999999999},null,null,{"$f":"IRR(CIW42:CKV42)","v":{"$error":"#NUM!"}},{"$f":"IRRm(CIW42:CKV42)","v":1.0999999999999999},null,null,{"$f":"IRR(CJA42:CKZ42)","v":{"$error":"#NUM!"}},{"$f":"IRRm(CJA42:CKZ42)","v":1.0999999999999999},null,null,{"$f":"IRR(CJE42:CLD42)","v":{"$error":"#NUM!"}},{"$f":"IRRm(CJE42:CLD42)","v":1.0999999999999999},null,null,{"$f":"IRR(CJI42:CLH42)","v":{"$error":"#NUM!"}},{"$f":"IRRm(CJI42:CLH42)","v":1.0999999999999999},null,null,{"$f":"IRR(CJM42:CLL42)","v":{"$error":"#NUM!"}},{"$f":"IRRm(CJM42:CLL42)","v":1.0999999999999999},null,null,{"$f":"IRR(CJQ42:CLP42)","v":{"$error":"#NUM!"}},{"$f":"IRRm(CJQ42:CLP42)","v":1.0999999999999999},null,null,{"$f":"IRR(CJU42:CLT42)","v":{"$error":"#NUM!"}},{"$f":"IRRm(CJU42:CLT42)","v":1.0999999999999999},null,null,{"$f":"IRR(CJY42:CLX42)","v":{"$error":"#NUM!"}},{"$f":"IRRm(CJY42:CLX42)","v":1.0999999999999999},null,null,{"$f":"IRR(CKC42:CMB42)","v":{"$error":"#NUM!"}},{"$f":"IRRm(CKC42:CMB42)","v":1.0999999999999999},null,null,{"$f":"IRR(CKG42:CMF42)","v":{"$error":"#NUM!"}},{"$f":"IRRm(CKG42:CMF42)","v":1.0999999999999999},null,null,{"$f":"IRR(CKK42:CMJ42)","v":{"$error":"#NUM!"}},{"$f":"IRRm(CKK42:CMJ42)","v":1.0999999999999999},null,null,{"$f":"IRR(CKO42:CMN42)","v":{"$error":"#NUM!"}},{"$f":"IRRm(CKO42:CMN42)","v":1.0999999999999999},null,null,{"$f":"IRR(CKS42:CMR42)","v":{"$error":"#NUM!"}},{"$f":"IRRm(CKS42:CMR42)","v":1.0999999999999999},null,null,{"$f":"IRR(CKW42:CMV42)","v":{"$error":"#NUM!"}},{"$f":"IRRm(CKW42:CMV42)","v":1.0999999999999999},null,null,{"$f":"IRR(CLA42:CMZ42)","v":{"$error":"#NUM!"}},{"$f":"IRRm(CLA42:CMZ42)","v":1.0999999999999999},null,null,{"$f":"IRR(CLE42:CND42)","v":{"$error":"#NUM!"}},{"$f":"IRRm(CLE42:CND42)","v":1.0999999999999999},null,null,{"$f":"IRR(CLI42:CNH42)","v":{"$error":"#NUM!"}},{"$f":"IRRm(CLI42:CNH42)","v":1.0999999999999999},null,null,{"$f":"IRR(CLM42:CNL42)","v":{"$error":"#NUM!"}},{"$f":"IRRm(CLM42:CNL42)","v":1.0999999999999999},null,null,{"$f":"IRR(CLQ42:CNP42)","v":{"$error":"#NUM!"}},{"$f":"IRRm(CLQ42:CNP42)","v":1.0999999999999999},null,null,{"$f":"IRR(CLU42:CNT42)","v":{"$error":"#NUM!"}},{"$f":"IRRm(CLU42:CNT42)","v":1.0999999999999999},null,null,{"$f":"IRR(CLY42:CNX42)","v":{"$error":"#NUM!"}},{"$f":"IRRm(CLY42:CNX42)","v":1.0999999999999999},null,null,{"$f":"IRR(CMC42:COB42)","v":{"$error":"#NUM!"}},{"$f":"IRRm(CMC42:COB42)","v":1.0999999999999999},null,null,{"$f":"IRR(CMG42:COF42)","v":{"$error":"#NUM!"}},{"$f":"IRRm(CMG42:COF42)","v":1.0999999999999999},null,null,{"$f":"IRR(CMK42:COJ42)","v":{"$error":"#NUM!"}},{"$f":"IRRm(CMK42:COJ42)","v":1.0999999999999999},null,null,{"$f":"IRR(CMO42:CON42)","v":{"$error":"#NUM!"}},{"$f":"IRRm(CMO42:CON42)","v":1.0999999999999999},null,null,{"$f":"IRR(CMS42:COR42)","v":{"$error":"#NUM!"}},{"$f":"IRRm(CMS42:COR42)","v":1.0999999999999999},null,null,{"$f":"IRR(CMW42:COV42)","v":{"$error":"#NUM!"}},{"$f":"IRRm(CMW42:COV42)","v":1.0999999999999999},null,null,{"$f":"IRR(CNA42:COZ42)","v":{"$error":"#NUM!"}},{"$f":"IRRm(CNA42:COZ42)","v":1.0999999999999999},null,null,{"$f":"IRR(CNE42:CPD42)","v":{"$error":"#NUM!"}},{"$f":"IRRm(CNE42:CPD42)","v":1.0999999999999999},null,null,{"$f":"IRR(CNI42:CPH42)","v":{"$error":"#NUM!"}},{"$f":"IRRm(CNI42:CPH42)","v":1.0999999999999999},null,null,{"$f":"IRR(CNM42:CPL42)","v":{"$error":"#NUM!"}},{"$f":"IRRm(CNM42:CPL42)","v":1.0999999999999999},null,null,{"$f":"IRR(CNQ42:CPP42)","v":{"$error":"#NUM!"}},{"$f":"IRRm(CNQ42:CPP42)","v":1.0999999999999999},null,null,{"$f":"IRR(CNU42:CPT42)","v":{"$error":"#NUM!"}},{"$f":"IRRm(CNU42:CPT42)","v":1.0999999999999999},null,null,{"$f":"IRR(CNY42:CPX42)","v":{"$error":"#NUM!"}},{"$f":"IRRm(CNY42:CPX42)","v":1.0999999999999999},null,null,{"$f":"IRR(COC42:CQB42)","v":{"$error":"#NUM!"}},{"$f":"IRRm(COC42:CQB42)","v":1.0999999999999999},null,null,{"$f":"IRR(COG42:CQF42)","v":{"$error":"#NUM!"}},{"$f":"IRRm(COG42:CQF42)","v":1.0999999999999999},null,null,{"$f":"IRR(COK42:CQJ42)","v":{"$error":"#NUM!"}},{"$f":"IRRm(COK42:CQJ42)","v":1.0999999999999999},null,null,{"$f":"IRR(COO42:CQN42)","v":{"$error":"#NUM!"}},{"$f":"IRRm(COO42:CQN42)","v":1.0999999999999999},null,null,{"$f":"IRR(COS42:CQR42)","v":{"$error":"#NUM!"}},{"$f":"IRRm(COS42:CQR42)","v":1.0999999999999999},null,null,{"$f":"IRR(COW42:CQV42)","v":{"$error":"#NUM!"}},{"$f":"IRRm(COW42:CQV42)","v":1.0999999999999999},null,null,{"$f":"IRR(CPA42:CQZ42)","v":{"$error":"#NUM!"}},{"$f":"IRRm(CPA42:CQZ42)","v":1.0999999999999999},null,null,{"$f":"IRR(CPE42:CRD42)","v":{"$error":"#NUM!"}},{"$f":"IRRm(CPE42:CRD42)","v":1.0999999999999999},null,null,{"$f":"IRR(CPI42:CRH42)","v":{"$error":"#NUM!"}},{"$f":"IRRm(CPI42:CRH42)","v":1.0999999999999999},null,null,{"$f":"IRR(CPM42:CRL42)","v":{"$error":"#NUM!"}},{"$f":"IRRm(CPM42:CRL42)","v":1.0999999999999999},null,null,{"$f":"IRR(CPQ42:CRP42)","v":{"$error":"#NUM!"}},{"$f":"IRRm(CPQ42:CRP42)","v":1.0999999999999999},null,null,{"$f":"IRR(CPU42:CRT42)","v":{"$error":"#NUM!"}},{"$f":"IRRm(CPU42:CRT42)","v":1.0999999999999999},null,null,{"$f":"IRR(CPY42:CRX42)","v":{"$error":"#NUM!"}},{"$f":"IRRm(CPY42:CRX42)","v":1.0999999999999999},null,null,{"$f":"IRR(CQC42:CSB42)","v":{"$error":"#NUM!"}},{"$f":"IRRm(CQC42:CSB42)","v":1.0999999999999999},null,null,{"$f":"IRR(CQG42:CSF42)","v":{"$error":"#NUM!"}},{"$f":"IRRm(CQG42:CSF42)","v":1.0999999999999999},null,null,{"$f":"IRR(CQK42:CSJ42)","v":{"$error":"#NUM!"}},{"$f":"IRRm(CQK42:CSJ42)","v":1.0999999999999999},null,null,{"$f":"IRR(CQO42:CSN42)","v":{"$error":"#NUM!"}},{"$f":"IRRm(CQO42:CSN42)","v":1.0999999999999999},null,null,{"$f":"IRR(CQS42:CSR42)","v":{"$error":"#NUM!"}},{"$f":"IRRm(CQS42:CSR42)","v":1.0999999999999999},null,null,{"$f":"IRR(CQW42:CSV42)","v":{"$error":"#NUM!"}},{"$f":"IRRm(CQW42:CSV42)","v":1.0999999999999999},null,null,{"$f":"IRR(CRA42:CSZ42)","v":{"$error":"#NUM!"}},{"$f":"IRRm(CRA42:CSZ42)","v":1.0999999999999999},null,null,{"$f":"IRR(CRE42:CTD42)","v":{"$error":"#NUM!"}},{"$f":"IRRm(CRE42:CTD42)","v":1.0999999999999999},null,null,{"$f":"IRR(CRI42:CTH42)","v":{"$error":"#NUM!"}},{"$f":"IRRm(CRI42:CTH42)","v":1.0999999999999999},null,null,{"$f":"IRR(CRM42:CTL42)","v":{"$error":"#NUM!"}},{"$f":"IRRm(CRM42:CTL42)","v":1.0999999999999999},null,null,{"$f":"IRR(CRQ42:CTP42)","v":{"$error":"#NUM!"}},{"$f":"IRRm(CRQ42:CTP42)","v":1.0999999999999999},null,null,{"$f":"IRR(CRU42:CTT42)","v":{"$error":"#NUM!"}},{"$f":"IRRm(CRU42:CTT42)","v":1.0999999999999999},null,null,{"$f":"IRR(CRY42:CTX42)","v":{"$error":"#NUM!"}},{"$f":"IRRm(CRY42:CTX42)","v":1.0999999999999999},null,null,{"$f":"IRR(CSC42:CUB42)","v":{"$error":"#NUM!"}},{"$f":"IRRm(CSC42:CUB42)","v":1.0999999999999999},null,null,{"$f":"IRR(CSG42:CUF42)","v":{"$error":"#NUM!"}},{"$f":"IRRm(CSG42:CUF42)","v":1.0999999999999999},null,null,{"$f":"IRR(CSK42:CUJ42)","v":{"$error":"#NUM!"}},{"$f":"IRRm(CSK42:CUJ42)","v":1.0999999999999999},null,null,{"$f":"IRR(CSO42:CUN42)","v":{"$error":"#NUM!"}},{"$f":"IRRm(CSO42:CUN42)","v":1.0999999999999999},null,null,{"$f":"IRR(CSS42:CUR42)","v":{"$error":"#NUM!"}},{"$f":"IRRm(CSS42:CUR42)","v":1.0999999999999999},null,null,{"$f":"IRR(CSW42:CUV42)","v":{"$error":"#NUM!"}},{"$f":"IRRm(CSW42:CUV42)","v":1.0999999999999999},null,null,{"$f":"IRR(CTA42:CUZ42)","v":{"$error":"#NUM!"}},{"$f":"IRRm(CTA42:CUZ42)","v":1.0999999999999999},null,null,{"$f":"IRR(CTE42:CVD42)","v":{"$error":"#NUM!"}},{"$f":"IRRm(CTE42:CVD42)","v":1.0999999999999999},null,null,{"$f":"IRR(CTI42:CVH42)","v":{"$error":"#NUM!"}},{"$f":"IRRm(CTI42:CVH42)","v":1.0999999999999999},null,null,{"$f":"IRR(CTM42:CVL42)","v":{"$error":"#NUM!"}},{"$f":"IRRm(CTM42:CVL42)","v":1.0999999999999999},null,null,{"$f":"IRR(CTQ42:CVP42)","v":{"$error":"#NUM!"}},{"$f":"IRRm(CTQ42:CVP42)","v":1.0999999999999999},null,null,{"$f":"IRR(CTU42:CVT42)","v":{"$error":"#NUM!"}},{"$f":"IRRm(CTU42:CVT42)","v":1.0999999999999999},null,null,{"$f":"IRR(CTY42:CVX42)","v":{"$error":"#NUM!"}},{"$f":"IRRm(CTY42:CVX42)","v":1.0999999999999999},null,null,{"$f":"IRR(CUC42:CWB42)","v":{"$error":"#NUM!"}},{"$f":"IRRm(CUC42:CWB42)","v":1.0999999999999999},null,null,{"$f":"IRR(CUG42:CWF42)","v":{"$error":"#NUM!"}},{"$f":"IRRm(CUG42:CWF42)","v":1.0999999999999999},null,null,{"$f":"IRR(CUK42:CWJ42)","v":{"$error":"#NUM!"}},{"$f":"IRRm(CUK42:CWJ42)","v":1.0999999999999999},null,null,{"$f":"IRR(CUO42:CWN42)","v":{"$error":"#NUM!"}},{"$f":"IRRm(CUO42:CWN42)","v":1.0999999999999999},null,null,{"$f":"IRR(CUS42:CWR42)","v":{"$error":"#NUM!"}},{"$f":"IRRm(CUS42:CWR42)","v":1.0999999999999999},null,null,{"$f":"IRR(CUW42:CWV42)","v":{"$error":"#NUM!"}},{"$f":"IRRm(CUW42:CWV42)","v":1.0999999999999999},null,null,{"$f":"IRR(CVA42:CWZ42)","v":{"$error":"#NUM!"}},{"$f":"IRRm(CVA42:CWZ42)","v":1.0999999999999999},null,null,{"$f":"IRR(CVE42:CXD42)","v":{"$error":"#NUM!"}},{"$f":"IRRm(CVE42:CXD42)","v":1.0999999999999999},null,null,{"$f":"IRR(CVI42:CXH42)","v":{"$error":"#NUM!"}},{"$f":"IRRm(CVI42:CXH42)","v":1.0999999999999999},null,null,{"$f":"IRR(CVM42:CXL42)","v":{"$error":"#NUM!"}},{"$f":"IRRm(CVM42:CXL42)","v":1.0999999999999999},null,null,{"$f":"IRR(CVQ42:CXP42)","v":{"$error":"#NUM!"}},{"$f":"IRRm(CVQ42:CXP42)","v":1.0999999999999999},null,null,{"$f":"IRR(CVU42:CXT42)","v":{"$error":"#NUM!"}},{"$f":"IRRm(CVU42:CXT42)","v":1.0999999999999999},null,null,{"$f":"IRR(CVY42:CXX42)","v":{"$error":"#NUM!"}},{"$f":"IRRm(CVY42:CXX42)","v":1.0999999999999999},null,null,{"$f":"IRR(CWC42:CYB42)","v":{"$error":"#NUM!"}},{"$f":"IRRm(CWC42:CYB42)","v":1.0999999999999999},null,null,{"$f":"IRR(CWG42:CYF42)","v":{"$error":"#NUM!"}},{"$f":"IRRm(CWG42:CYF42)","v":1.0999999999999999},null,null,{"$f":"IRR(CWK42:CYJ42)","v":{"$error":"#NUM!"}},{"$f":"IRRm(CWK42:CYJ42)","v":1.0999999999999999},null,null,{"$f":"IRR(CWO42:CYN42)","v":{"$error":"#NUM!"}},{"$f":"IRRm(CWO42:CYN42)","v":1.0999999999999999},null,null,{"$f":"IRR(CWS42:CYR42)","v":{"$error":"#NUM!"}},{"$f":"IRRm(CWS42:CYR42)","v":1.0999999999999999},null,null,{"$f":"IRR(CWW42:CYV42)","v":{"$error":"#NUM!"}},{"$f":"IRRm(CWW42:CYV42)","v":1.0999999999999999},null,null,{"$f":"IRR(CXA42:CYZ42)","v":{"$error":"#NUM!"}},{"$f":"IRRm(CXA42:CYZ42)","v":1.0999999999999999},null,null,{"$f":"IRR(CXE42:CZD42)","v":{"$error":"#NUM!"}},{"$f":"IRRm(CXE42:CZD42)","v":1.0999999999999999},null,null,{"$f":"IRR(CXI42:CZH42)","v":{"$error":"#NUM!"}},{"$f":"IRRm(CXI42:CZH42)","v":1.0999999999999999},null,null,{"$f":"IRR(CXM42:CZL42)","v":{"$error":"#NUM!"}},{"$f":"IRRm(CXM42:CZL42)","v":1.0999999999999999},null,null,{"$f":"IRR(CXQ42:CZP42)","v":{"$error":"#NUM!"}},{"$f":"IRRm(CXQ42:CZP42)","v":1.0999999999999999},null,null,{"$f":"IRR(CXU42:CZT42)","v":{"$error":"#NUM!"}},{"$f":"IRRm(CXU42:CZT42)","v":1.0999999999999999},null,null,{"$f":"IRR(CXY42:CZX42)","v":{"$error":"#NUM!"}},{"$f":"IRRm(CXY42:CZX42)","v":1.0999999999999999},null,null,{"$f":"IRR(CYC42:DAB42)","v":{"$error":"#NUM!"}},{"$f":"IRRm(CYC42:DAB42)","v":1.0999999999999999},null,null,{"$f":"IRR(CYG42:DAF42)","v":{"$error":"#NUM!"}},{"$f":"IRRm(CYG42:DAF42)","v":1.0999999999999999},null,null,{"$f":"IRR(CYK42:DAJ42)","v":{"$error":"#NUM!"}},{"$f":"IRRm(CYK42:DAJ42)","v":1.0999999999999999},null,null,{"$f":"IRR(CYO42:DAN42)","v":{"$error":"#NUM!"}},{"$f":"IRRm(CYO42:DAN42)","v":1.0999999999999999},null,null,{"$f":"IRR(CYS42:DAR42)","v":{"$error":"#NUM!"}},{"$f":"IRRm(CYS42:DAR42)","v":1.0999999999999999},null,null,{"$f":"IRR(CYW42:DAV42)","v":{"$error":"#NUM!"}},{"$f":"IRRm(CYW42:DAV42)","v":1.0999999999999999},null,null,{"$f":"IRR(CZA42:DAZ42)","v":{"$error":"#NUM!"}},{"$f":"IRRm(CZA42:DAZ42)","v":1.0999999999999999},null,null,{"$f":"IRR(CZE42:DBD42)","v":{"$error":"#NUM!"}},{"$f":"IRRm(CZE42:DBD42)","v":1.0999999999999999},null,null,{"$f":"IRR(CZI42:DBH42)","v":{"$error":"#NUM!"}},{"$f":"IRRm(CZI42:DBH42)","v":1.0999999999999999},null,null,{"$f":"IRR(CZM42:DBL42)","v":{"$error":"#NUM!"}},{"$f":"IRRm(CZM42:DBL42)","v":1.0999999999999999},null,null,{"$f":"IRR(CZQ42:DBP42)","v":{"$error":"#NUM!"}},{"$f":"IRRm(CZQ42:DBP42)","v":1.0999999999999999},null,null,{"$f":"IRR(CZU42:DBT42)","v":{"$error":"#NUM!"}},{"$f":"IRRm(CZU42:DBT42)","v":1.0999999999999999},null,null,{"$f":"IRR(CZY42:DBX42)","v":{"$error":"#NUM!"}},{"$f":"IRRm(CZY42:DBX42)","v":1.0999999999999999},null,null,{"$f":"IRR(DAC42:DCB42)","v":{"$error":"#NUM!"}},{"$f":"IRRm(DAC42:DCB42)","v":1.0999999999999999},null,null,{"$f":"IRR(DAG42:DCF42)","v":{"$error":"#NUM!"}},{"$f":"IRRm(DAG42:DCF42)","v":1.0999999999999999},null,null,{"$f":"IRR(DAK42:DCJ42)","v":{"$error":"#NUM!"}},{"$f":"IRRm(DAK42:DCJ42)","v":1.0999999999999999},null,null,{"$f":"IRR(DAO42:DCN42)","v":{"$error":"#NUM!"}},{"$f":"IRRm(DAO42:DCN42)","v":1.0999999999999999},null,null,{"$f":"IRR(DAS42:DCR42)","v":{"$error":"#NUM!"}},{"$f":"IRRm(DAS42:DCR42)","v":1.0999999999999999},null,null,{"$f":"IRR(DAW42:DCV42)","v":{"$error":"#NUM!"}},{"$f":"IRRm(DAW42:DCV42)","v":1.0999999999999999},null,null,{"$f":"IRR(DBA42:DCZ42)","v":{"$error":"#NUM!"}},{"$f":"IRRm(DBA42:DCZ42)","v":1.0999999999999999},null,null,{"$f":"IRR(DBE42:DDD42)","v":{"$error":"#NUM!"}},{"$f":"IRRm(DBE42:DDD42)","v":1.0999999999999999},null,null,{"$f":"IRR(DBI42:DDH42)","v":{"$error":"#NUM!"}},{"$f":"IRRm(DBI42:DDH42)","v":1.0999999999999999},null,null,{"$f":"IRR(DBM42:DDL42)","v":{"$error":"#NUM!"}},{"$f":"IRRm(DBM42:DDL42)","v":1.0999999999999999},null,null,{"$f":"IRR(DBQ42:DDP42)","v":{"$error":"#NUM!"}},{"$f":"IRRm(DBQ42:DDP42)","v":1.0999999999999999},null,null,{"$f":"IRR(DBU42:DDT42)","v":{"$error":"#NUM!"}},{"$f":"IRRm(DBU42:DDT42)","v":1.0999999999999999},null,null,{"$f":"IRR(DBY42:DDX42)","v":{"$error":"#NUM!"}},{"$f":"IRRm(DBY42:DDX42)","v":1.0999999999999999},null,null,{"$f":"IRR(DCC42:DEB42)","v":{"$error":"#NUM!"}},{"$f":"IRRm(DCC42:DEB42)","v":1.0999999999999999},null,null,{"$f":"IRR(DCG42:DEF42)","v":{"$error":"#NUM!"}},{"$f":"IRRm(DCG42:DEF42)","v":1.0999999999999999},null,null,{"$f":"IRR(DCK42:DEJ42)","v":{"$error":"#NUM!"}},{"$f":"IRRm(DCK42:DEJ42)","v":1.0999999999999999},null,null,{"$f":"IRR(DCO42:DEN42)","v":{"$error":"#NUM!"}},{"$f":"IRRm(DCO42:DEN42)","v":1.0999999999999999},null,null,{"$f":"IRR(DCS42:DER42)","v":{"$error":"#NUM!"}},{"$f":"IRRm(DCS42:DER42)","v":1.0999999999999999},null,null,{"$f":"IRR(DCW42:DEV42)","v":{"$error":"#NUM!"}},{"$f":"IRRm(DCW42:DEV42)","v":1.0999999999999999},null,null,{"$f":"IRR(DDA42:DEZ42)","v":{"$error":"#NUM!"}},{"$f":"IRRm(DDA42:DEZ42)","v":1.0999999999999999},null,null,{"$f":"IRR(DDE42:DFD42)","v":{"$error":"#NUM!"}},{"$f":"IRRm(DDE42:DFD42)","v":1.0999999999999999},null,null,{"$f":"IRR(DDI42:DFH42)","v":{"$error":"#NUM!"}},{"$f":"IRRm(DDI42:DFH42)","v":1.0999999999999999},null,null,{"$f":"IRR(DDM42:DFL42)","v":{"$error":"#NUM!"}},{"$f":"IRRm(DDM42:DFL42)","v":1.0999999999999999},null,null,{"$f":"IRR(DDQ42:DFP42)","v":{"$error":"#NUM!"}},{"$f":"IRRm(DDQ42:DFP42)","v":1.0999999999999999},null,null,{"$f":"IRR(DDU42:DFT42)","v":{"$error":"#NUM!"}},{"$f":"IRRm(DDU42:DFT42)","v":1.0999999999999999},null,null,{"$f":"IRR(DDY42:DFX42)","v":{"$error":"#NUM!"}},{"$f":"IRRm(DDY42:DFX42)","v":1.0999999999999999},null,null,{"$f":"IRR(DEC42:DGB42)","v":{"$error":"#NUM!"}},{"$f":"IRRm(DEC42:DGB42)","v":1.0999999999999999},null,null,{"$f":"IRR(DEG42:DGF42)","v":{"$error":"#NUM!"}},{"$f":"IRRm(DEG42:DGF42)","v":1.0999999999999999},null,null,{"$f":"IRR(DEK42:DGJ42)","v":{"$error":"#NUM!"}},{"$f":"IRRm(DEK42:DGJ42)","v":1.0999999999999999},null,null,{"$f":"IRR(DEO42:DGN42)","v":{"$error":"#NUM!"}},{"$f":"IRRm(DEO42:DGN42)","v":1.0999999999999999},null,null,{"$f":"IRR(DES42:DGR42)","v":{"$error":"#NUM!"}},{"$f":"IRRm(DES42:DGR42)","v":1.0999999999999999},null,null,{"$f":"IRR(DEW42:DGV42)","v":{"$error":"#NUM!"}},{"$f":"IRRm(DEW42:DGV42)","v":1.0999999999999999},null,null,{"$f":"IRR(DFA42:DGZ42)","v":{"$error":"#NUM!"}},{"$f":"IRRm(DFA42:DGZ42)","v":1.0999999999999999},null,null,{"$f":"IRR(DFE42:DHD42)","v":{"$error":"#NUM!"}},{"$f":"IRRm(DFE42:DHD42)","v":1.0999999999999999},null,null,{"$f":"IRR(DFI42:DHH42)","v":{"$error":"#NUM!"}},{"$f":"IRRm(DFI42:DHH42)","v":1.0999999999999999},null,null,{"$f":"IRR(DFM42:DHL42)","v":{"$error":"#NUM!"}},{"$f":"IRRm(DFM42:DHL42)","v":1.0999999999999999},null,null,{"$f":"IRR(DFQ42:DHP42)","v":{"$error":"#NUM!"}},{"$f":"IRRm(DFQ42:DHP42)","v":1.0999999999999999},null,null,{"$f":"IRR(DFU42:DHT42)","v":{"$error":"#NUM!"}},{"$f":"IRRm(DFU42:DHT42)","v":1.0999999999999999},null,null,{"$f":"IRR(DFY42:DHX42)","v":{"$error":"#NUM!"}},{"$f":"IRRm(DFY42:DHX42)","v":1.0999999999999999},null,null,{"$f":"IRR(DGC42:DIB42)","v":{"$error":"#NUM!"}},{"$f":"IRRm(DGC42:DIB42)","v":1.0999999999999999},null,null,{"$f":"IRR(DGG42:DIF42)","v":{"$error":"#NUM!"}},{"$f":"IRRm(DGG42:DIF42)","v":1.0999999999999999},null,null,{"$f":"IRR(DGK42:DIJ42)","v":{"$error":"#NUM!"}},{"$f":"IRRm(DGK42:DIJ42)","v":1.0999999999999999},null,null,{"$f":"IRR(DGO42:DIN42)","v":{"$error":"#NUM!"}},{"$f":"IRRm(DGO42:DIN42)","v":1.0999999999999999},null,null,{"$f":"IRR(DGS42:DIR42)","v":{"$error":"#NUM!"}},{"$f":"IRRm(DGS42:DIR42)","v":1.0999999999999999},null,null,{"$f":"IRR(DGW42:DIV42)","v":{"$error":"#NUM!"}},{"$f":"IRRm(DGW42:DIV42)","v":1.0999999999999999},null,null,{"$f":"IRR(DHA42:DIZ42)","v":{"$error":"#NUM!"}},{"$f":"IRRm(DHA42:DIZ42)","v":1.0999999999999999},null,null,{"$f":"IRR(DHE42:DJD42)","v":{"$error":"#NUM!"}},{"$f":"IRRm(DHE42:DJD42)","v":1.0999999999999999},null,null,{"$f":"IRR(DHI42:DJH42)","v":{"$error":"#NUM!"}},{"$f":"IRRm(DHI42:DJH42)","v":1.0999999999999999},null,null,{"$f":"IRR(DHM42:DJL42)","v":{"$error":"#NUM!"}},{"$f":"IRRm(DHM42:DJL42)","v":1.0999999999999999},null,null,{"$f":"IRR(DHQ42:DJP42)","v":{"$error":"#NUM!"}},{"$f":"IRRm(DHQ42:DJP42)","v":1.0999999999999999},null,null,{"$f":"IRR(DHU42:DJT42)","v":{"$error":"#NUM!"}},{"$f":"IRRm(DHU42:DJT42)","v":1.0999999999999999},null,null,{"$f":"IRR(DHY42:DJX42)","v":{"$error":"#NUM!"}},{"$f":"IRRm(DHY42:DJX42)","v":1.0999999999999999},null,null,{"$f":"IRR(DIC42:DKB42)","v":{"$error":"#NUM!"}},{"$f":"IRRm(DIC42:DKB42)","v":1.0999999999999999},null,null,{"$f":"IRR(DIG42:DKF42)","v":{"$error":"#NUM!"}},{"$f":"IRRm(DIG42:DKF42)","v":1.0999999999999999},null,null,{"$f":"IRR(DIK42:DKJ42)","v":{"$error":"#NUM!"}},{"$f":"IRRm(DIK42:DKJ42)","v":1.0999999999999999},null,null,{"$f":"IRR(DIO42:DKN42)","v":{"$error":"#NUM!"}},{"$f":"IRRm(DIO42:DKN42)","v":1.0999999999999999},null,null,{"$f":"IRR(DIS42:DKR42)","v":{"$error":"#NUM!"}},{"$f":"IRRm(DIS42:DKR42)","v":1.0999999999999999},null,null,{"$f":"IRR(DIW42:DKV42)","v":{"$error":"#NUM!"}},{"$f":"IRRm(DIW42:DKV42)","v":1.0999999999999999},null,null,{"$f":"IRR(DJA42:DKZ42)","v":{"$error":"#NUM!"}},{"$f":"IRRm(DJA42:DKZ42)","v":1.0999999999999999},null,null,{"$f":"IRR(DJE42:DLD42)","v":{"$error":"#NUM!"}},{"$f":"IRRm(DJE42:DLD42)","v":1.0999999999999999},null,null,{"$f":"IRR(DJI42:DLH42)","v":{"$error":"#NUM!"}},{"$f":"IRRm(DJI42:DLH42)","v":1.0999999999999999},null,null,{"$f":"IRR(DJM42:DLL42)","v":{"$error":"#NUM!"}},{"$f":"IRRm(DJM42:DLL42)","v":1.0999999999999999},null,null,{"$f":"IRR(DJQ42:DLP42)","v":{"$error":"#NUM!"}},{"$f":"IRRm(DJQ42:DLP42)","v":1.0999999999999999},null,null,{"$f":"IRR(DJU42:DLT42)","v":{"$error":"#NUM!"}},{"$f":"IRRm(DJU42:DLT42)","v":1.0999999999999999},null,null,{"$f":"IRR(DJY42:DLX42)","v":{"$error":"#NUM!"}},{"$f":"IRRm(DJY42:DLX42)","v":1.0999999999999999},null,null,{"$f":"IRR(DKC42:DMB42)","v":{"$error":"#NUM!"}},{"$f":"IRRm(DKC42:DMB42)","v":1.0999999999999999},null,null,{"$f":"IRR(DKG42:DMF42)","v":{"$error":"#NUM!"}},{"$f":"IRRm(DKG42:DMF42)","v":1.0999999999999999},null,null,{"$f":"IRR(DKK42:DMJ42)","v":{"$error":"#NUM!"}},{"$f":"IRRm(DKK42:DMJ42)","v":1.0999999999999999},null,null,{"$f":"IRR(DKO42:DMN42)","v":{"$error":"#NUM!"}},{"$f":"IRRm(DKO42:DMN42)","v":1.0999999999999999},null,null,{"$f":"IRR(DKS42:DMR42)","v":{"$error":"#NUM!"}},{"$f":"IRRm(DKS42:DMR42)","v":1.0999999999999999},null,null,{"$f":"IRR(DKW42:DMV42)","v":{"$error":"#NUM!"}},{"$f":"IRRm(DKW42:DMV42)","v":1.0999999999999999},null,null,{"$f":"IRR(DLA42:DMZ42)","v":{"$error":"#NUM!"}},{"$f":"IRRm(DLA42:DMZ42)","v":1.0999999999999999},null,null,{"$f":"IRR(DLE42:DND42)","v":{"$error":"#NUM!"}},{"$f":"IRRm(DLE42:DND42)","v":1.0999999999999999},null,null,{"$f":"IRR(DLI42:DNH42)","v":{"$error":"#NUM!"}},{"$f":"IRRm(DLI42:DNH42)","v":1.0999999999999999},null,null,{"$f":"IRR(DLM42:DNL42)","v":{"$error":"#NUM!"}},{"$f":"IRRm(DLM42:DNL42)","v":1.0999999999999999},null,null,{"$f":"IRR(DLQ42:DNP42)","v":{"$error":"#NUM!"}},{"$f":"IRRm(DLQ42:DNP42)","v":1.0999999999999999},null,null,{"$f":"IRR(DLU42:DNT42)","v":{"$error":"#NUM!"}},{"$f":"IRRm(DLU42:DNT42)","v":1.0999999999999999},null,null,{"$f":"IRR(DLY42:DNX42)","v":{"$error":"#NUM!"}},{"$f":"IRRm(DLY42:DNX42)","v":1.0999999999999999},null,null,{"$f":"IRR(DMC42:DOB42)","v":{"$error":"#NUM!"}},{"$f":"IRRm(DMC42:DOB42)","v":1.0999999999999999},null,null,{"$f":"IRR(DMG42:DOF42)","v":{"$error":"#NUM!"}},{"$f":"IRRm(DMG42:DOF42)","v":1.0999999999999999},null,null,{"$f":"IRR(DMK42:DOJ42)","v":{"$error":"#NUM!"}},{"$f":"IRRm(DMK42:DOJ42)","v":1.0999999999999999},null,null,{"$f":"IRR(DMO42:DON42)","v":{"$error":"#NUM!"}},{"$f":"IRRm(DMO42:DON42)","v":1.0999999999999999},null,null,{"$f":"IRR(DMS42:DOR42)","v":{"$error":"#NUM!"}},{"$f":"IRRm(DMS42:DOR42)","v":1.0999999999999999},null,null,{"$f":"IRR(DMW42:DOV42)","v":{"$error":"#NUM!"}},{"$f":"IRRm(DMW42:DOV42)","v":1.0999999999999999},null,null,{"$f":"IRR(DNA42:DOZ42)","v":{"$error":"#NUM!"}},{"$f":"IRRm(DNA42:DOZ42)","v":1.0999999999999999},null,null,{"$f":"IRR(DNE42:DPD42)","v":{"$error":"#NUM!"}},{"$f":"IRRm(DNE42:DPD42)","v":1.0999999999999999},null,null,{"$f":"IRR(DNI42:DPH42)","v":{"$error":"#NUM!"}},{"$f":"IRRm(DNI42:DPH42)","v":1.0999999999999999},null,null,{"$f":"IRR(DNM42:DPL42)","v":{"$error":"#NUM!"}},{"$f":"IRRm(DNM42:DPL42)","v":1.0999999999999999},null,null,{"$f":"IRR(DNQ42:DPP42)","v":{"$error":"#NUM!"}},{"$f":"IRRm(DNQ42:DPP42)","v":1.0999999999999999},null,null,{"$f":"IRR(DNU42:DPT42)","v":{"$error":"#NUM!"}},{"$f":"IRRm(DNU42:DPT42)","v":1.0999999999999999},null,null,{"$f":"IRR(DNY42:DPX42)","v":{"$error":"#NUM!"}},{"$f":"IRRm(DNY42:DPX42)","v":1.0999999999999999},null,null,{"$f":"IRR(DOC42:DQB42)","v":{"$error":"#NUM!"}},{"$f":"IRRm(DOC42:DQB42)","v":1.0999999999999999},null,null,{"$f":"IRR(DOG42:DQF42)","v":{"$error":"#NUM!"}},{"$f":"IRRm(DOG42:DQF42)","v":1.0999999999999999},null,null,{"$f":"IRR(DOK42:DQJ42)","v":{"$error":"#NUM!"}},{"$f":"IRRm(DOK42:DQJ42)","v":1.0999999999999999},null,null,{"$f":"IRR(DOO42:DQN42)","v":{"$error":"#NUM!"}},{"$f":"IRRm(DOO42:DQN42)","v":1.0999999999999999},null,null,{"$f":"IRR(DOS42:DQR42)","v":{"$error":"#NUM!"}},{"$f":"IRRm(DOS42:DQR42)","v":1.0999999999999999},null,null,{"$f":"IRR(DOW42:DQV42)","v":{"$error":"#NUM!"}},{"$f":"IRRm(DOW42:DQV42)","v":1.0999999999999999},null,null,{"$f":"IRR(DPA42:DQZ42)","v":{"$error":"#NUM!"}},{"$f":"IRRm(DPA42:DQZ42)","v":1.0999999999999999},null,null,{"$f":"IRR(DPE42:DRD42)","v":{"$error":"#NUM!"}},{"$f":"IRRm(DPE42:DRD42)","v":1.0999999999999999},null,null,{"$f":"IRR(DPI42:DRH42)","v":{"$error":"#NUM!"}},{"$f":"IRRm(DPI42:DRH42)","v":1.0999999999999999},null,null,{"$f":"IRR(DPM42:DRL42)","v":{"$error":"#NUM!"}},{"$f":"IRRm(DPM42:DRL42)","v":1.0999999999999999},null,null,{"$f":"IRR(DPQ42:DRP42)","v":{"$error":"#NUM!"}},{"$f":"IRRm(DPQ42:DRP42)","v":1.0999999999999999},null,null,{"$f":"IRR(DPU42:DRT42)","v":{"$error":"#NUM!"}},{"$f":"IRRm(DPU42:DRT42)","v":1.0999999999999999},null,null,{"$f":"IRR(DPY42:DRX42)","v":{"$error":"#NUM!"}},{"$f":"IRRm(DPY42:DRX42)","v":1.0999999999999999},null,null,{"$f":"IRR(DQC42:DSB42)","v":{"$error":"#NUM!"}},{"$f":"IRRm(DQC42:DSB42)","v":1.0999999999999999},null,null,{"$f":"IRR(DQG42:DSF42)","v":{"$error":"#NUM!"}},{"$f":"IRRm(DQG42:DSF42)","v":1.0999999999999999},null,null,{"$f":"IRR(DQK42:DSJ42)","v":{"$error":"#NUM!"}},{"$f":"IRRm(DQK42:DSJ42)","v":1.0999999999999999},null,null,{"$f":"IRR(DQO42:DSN42)","v":{"$error":"#NUM!"}},{"$f":"IRRm(DQO42:DSN42)","v":1.0999999999999999},null,null,{"$f":"IRR(DQS42:DSR42)","v":{"$error":"#NUM!"}},{"$f":"IRRm(DQS42:DSR42)","v":1.0999999999999999},null,null,{"$f":"IRR(DQW42:DSV42)","v":{"$error":"#NUM!"}},{"$f":"IRRm(DQW42:DSV42)","v":1.0999999999999999},null,null,{"$f":"IRR(DRA42:DSZ42)","v":{"$error":"#NUM!"}},{"$f":"IRRm(DRA42:DSZ42)","v":1.0999999999999999},null,null,{"$f":"IRR(DRE42:DTD42)","v":{"$error":"#NUM!"}},{"$f":"IRRm(DRE42:DTD42)","v":1.0999999999999999},null,null,{"$f":"IRR(DRI42:DTH42)","v":{"$error":"#NUM!"}},{"$f":"IRRm(DRI42:DTH42)","v":1.0999999999999999},null,null,{"$f":"IRR(DRM42:DTL42)","v":{"$error":"#NUM!"}},{"$f":"IRRm(DRM42:DTL42)","v":1.0999999999999999},null,null,{"$f":"IRR(DRQ42:DTP42)","v":{"$error":"#NUM!"}},{"$f":"IRRm(DRQ42:DTP42)","v":1.0999999999999999},null,null,{"$f":"IRR(DRU42:DTT42)","v":{"$error":"#NUM!"}},{"$f":"IRRm(DRU42:DTT42)","v":1.0999999999999999},null,null,{"$f":"IRR(DRY42:DTX42)","v":{"$error":"#NUM!"}},{"$f":"IRRm(DRY42:DTX42)","v":1.0999999999999999},null,null,{"$f":"IRR(DSC42:DUB42)","v":{"$error":"#NUM!"}},{"$f":"IRRm(DSC42:DUB42)","v":1.0999999999999999},null,null,{"$f":"IRR(DSG42:DUF42)","v":{"$error":"#NUM!"}},{"$f":"IRRm(DSG42:DUF42)","v":1.0999999999999999},null,null,{"$f":"IRR(DSK42:DUJ42)","v":{"$error":"#NUM!"}},{"$f":"IRRm(DSK42:DUJ42)","v":1.0999999999999999},null,null,{"$f":"IRR(DSO42:DUN42)","v":{"$error":"#NUM!"}},{"$f":"IRRm(DSO42:DUN42)","v":1.0999999999999999},null,null,{"$f":"IRR(DSS42:DUR42)","v":{"$error":"#NUM!"}},{"$f":"IRRm(DSS42:DUR42)","v":1.0999999999999999},null,null,{"$f":"IRR(DSW42:DUV42)","v":{"$error":"#NUM!"}},{"$f":"IRRm(DSW42:DUV42)","v":1.0999999999999999},null,null,{"$f":"IRR(DTA42:DUZ42)","v":{"$error":"#NUM!"}},{"$f":"IRRm(DTA42:DUZ42)","v":1.0999999999999999},null,null,{"$f":"IRR(DTE42:DVD42)","v":{"$error":"#NUM!"}},{"$f":"IRRm(DTE42:DVD42)","v":1.0999999999999999},null,null,{"$f":"IRR(DTI42:DVH42)","v":{"$error":"#NUM!"}},{"$f":"IRRm(DTI42:DVH42)","v":1.0999999999999999},null,null,{"$f":"IRR(DTM42:DVL42)","v":{"$error":"#NUM!"}},{"$f":"IRRm(DTM42:DVL42)","v":1.0999999999999999},null,null,{"$f":"IRR(DTQ42:DVP42)","v":{"$error":"#NUM!"}},{"$f":"IRRm(DTQ42:DVP42)","v":1.0999999999999999},null,null,{"$f":"IRR(DTU42:DVT42)","v":{"$error":"#NUM!"}},{"$f":"IRRm(DTU42:DVT42)","v":1.0999999999999999},null,null,{"$f":"IRR(DTY42:DVX42)","v":{"$error":"#NUM!"}},{"$f":"IRRm(DTY42:DVX42)","v":1.0999999999999999},null,null,{"$f":"IRR(DUC42:DWB42)","v":{"$error":"#NUM!"}},{"$f":"IRRm(DUC42:DWB42)","v":1.0999999999999999},null,null,{"$f":"IRR(DUG42:DWF42)","v":{"$error":"#NUM!"}},{"$f":"IRRm(DUG42:DWF42)","v":1.0999999999999999},null,null,{"$f":"IRR(DUK42:DWJ42)","v":{"$error":"#NUM!"}},{"$f":"IRRm(DUK42:DWJ42)","v":1.0999999999999999},null,null,{"$f":"IRR(DUO42:DWN42)","v":{"$error":"#NUM!"}},{"$f":"IRRm(DUO42:DWN42)","v":1.0999999999999999},null,null,{"$f":"IRR(DUS42:DWR42)","v":{"$error":"#NUM!"}},{"$f":"IRRm(DUS42:DWR42)","v":1.0999999999999999},null,null,{"$f":"IRR(DUW42:DWV42)","v":{"$error":"#NUM!"}},{"$f":"IRRm(DUW42:DWV42)","v":1.0999999999999999},null,null,{"$f":"IRR(DVA42:DWZ42)","v":{"$error":"#NUM!"}},{"$f":"IRRm(DVA42:DWZ42)","v":1.0999999999999999},null,null,{"$f":"IRR(DVE42:DXD42)","v":{"$error":"#NUM!"}},{"$f":"IRRm(DVE42:DXD42)","v":1.0999999999999999},null,null,{"$f":"IRR(DVI42:DXH42)","v":{"$error":"#NUM!"}},{"$f":"IRRm(DVI42:DXH42)","v":1.0999999999999999},null,null,{"$f":"IRR(DVM42:DXL42)","v":{"$error":"#NUM!"}},{"$f":"IRRm(DVM42:DXL42)","v":1.0999999999999999},null,null,{"$f":"IRR(DVQ42:DXP42)","v":{"$error":"#NUM!"}},{"$f":"IRRm(DVQ42:DXP42)","v":1.0999999999999999},null,null,{"$f":"IRR(DVU42:DXT42)","v":{"$error":"#NUM!"}},{"$f":"IRRm(DVU42:DXT42)","v":1.0999999999999999},null,null,{"$f":"IRR(DVY42:DXX42)","v":{"$error":"#NUM!"}},{"$f":"IRRm(DVY42:DXX42)","v":1.0999999999999999},null,null,{"$f":"IRR(DWC42:DYB42)","v":{"$error":"#NUM!"}},{"$f":"IRRm(DWC42:DYB42)","v":1.0999999999999999},null,null,{"$f":"IRR(DWG42:DYF42)","v":{"$error":"#NUM!"}},{"$f":"IRRm(DWG42:DYF42)","v":1.0999999999999999},null,null,{"$f":"IRR(DWK42:DYJ42)","v":{"$error":"#NUM!"}},{"$f":"IRRm(DWK42:DYJ42)","v":1.0999999999999999},null,null,{"$f":"IRR(DWO42:DYN42)","v":{"$error":"#NUM!"}},{"$f":"IRRm(DWO42:DYN42)","v":1.0999999999999999},null,null,{"$f":"IRR(DWS42:DYR42)","v":{"$error":"#NUM!"}},{"$f":"IRRm(DWS42:DYR42)","v":1.0999999999999999},null,null,{"$f":"IRR(DWW42:DYV42)","v":{"$error":"#NUM!"}},{"$f":"IRRm(DWW42:DYV42)","v":1.0999999999999999},null,null,{"$f":"IRR(DXA42:DYZ42)","v":{"$error":"#NUM!"}},{"$f":"IRRm(DXA42:DYZ42)","v":1.0999999999999999},null,null,{"$f":"IRR(DXE42:DZD42)","v":{"$error":"#NUM!"}},{"$f":"IRRm(DXE42:DZD42)","v":1.0999999999999999},null,null,{"$f":"IRR(DXI42:DZH42)","v":{"$error":"#NUM!"}},{"$f":"IRRm(DXI42:DZH42)","v":1.0999999999999999},null,null,{"$f":"IRR(DXM42:DZL42)","v":{"$error":"#NUM!"}},{"$f":"IRRm(DXM42:DZL42)","v":1.0999999999999999},null,null,{"$f":"IRR(DXQ42:DZP42)","v":{"$error":"#NUM!"}},{"$f":"IRRm(DXQ42:DZP42)","v":1.0999999999999999},null,null,{"$f":"IRR(DXU42:DZT42)","v":{"$error":"#NUM!"}},{"$f":"IRRm(DXU42:DZT42)","v":1.0999999999999999},null,null,{"$f":"IRR(DXY42:DZX42)","v":{"$error":"#NUM!"}},{"$f":"IRRm(DXY42:DZX42)","v":1.0999999999999999},null,null,{"$f":"IRR(DYC42:EAB42)","v":{"$error":"#NUM!"}},{"$f":"IRRm(DYC42:EAB42)","v":1.0999999999999999},null,null,{"$f":"IRR(DYG42:EAF42)","v":{"$error":"#NUM!"}},{"$f":"IRRm(DYG42:EAF42)","v":1.0999999999999999},null,null,{"$f":"IRR(DYK42:EAJ42)","v":{"$error":"#NUM!"}},{"$f":"IRRm(DYK42:EAJ42)","v":1.0999999999999999},null,null,{"$f":"IRR(DYO42:EAN42)","v":{"$error":"#NUM!"}},{"$f":"IRRm(DYO42:EAN42)","v":1.0999999999999999},null,null,{"$f":"IRR(DYS42:EAR42)","v":{"$error":"#NUM!"}},{"$f":"IRRm(DYS42:EAR42)","v":1.0999999999999999},null,null,{"$f":"IRR(DYW42:EAV42)","v":{"$error":"#NUM!"}},{"$f":"IRRm(DYW42:EAV42)","v":1.0999999999999999},null,null,{"$f":"IRR(DZA42:EAZ42)","v":{"$error":"#NUM!"}},{"$f":"IRRm(DZA42:EAZ42)","v":1.0999999999999999},null,null,{"$f":"IRR(DZE42:EBD42)","v":{"$error":"#NUM!"}},{"$f":"IRRm(DZE42:EBD42)","v":1.0999999999999999},null,null,{"$f":"IRR(DZI42:EBH42)","v":{"$error":"#NUM!"}},{"$f":"IRRm(DZI42:EBH42)","v":1.0999999999999999},null,null,{"$f":"IRR(DZM42:EBL42)","v":{"$error":"#NUM!"}},{"$f":"IRRm(DZM42:EBL42)","v":1.0999999999999999},null,null,{"$f":"IRR(DZQ42:EBP42)","v":{"$error":"#NUM!"}},{"$f":"IRRm(DZQ42:EBP42)","v":1.0999999999999999},null,null,{"$f":"IRR(DZU42:EBT42)","v":{"$error":"#NUM!"}},{"$f":"IRRm(DZU42:EBT42)","v":1.0999999999999999},null,null,{"$f":"IRR(DZY42:EBX42)","v":{"$error":"#NUM!"}},{"$f":"IRRm(DZY42:EBX42)","v":1.0999999999999999},null,null,{"$f":"IRR(EAC42:ECB42)","v":{"$error":"#NUM!"}},{"$f":"IRRm(EAC42:ECB42)","v":1.0999999999999999},null,null,{"$f":"IRR(EAG42:ECF42)","v":{"$error":"#NUM!"}},{"$f":"IRRm(EAG42:ECF42)","v":1.0999999999999999},null,null,{"$f":"IRR(EAK42:ECJ42)","v":{"$error":"#NUM!"}},{"$f":"IRRm(EAK42:ECJ42)","v":1.0999999999999999},null,null,{"$f":"IRR(EAO42:ECN42)","v":{"$error":"#NUM!"}},{"$f":"IRRm(EAO42:ECN42)","v":1.0999999999999999},null,null,{"$f":"IRR(EAS42:ECR42)","v":{"$error":"#NUM!"}},{"$f":"IRRm(EAS42:ECR42)","v":1.0999999999999999},null,null,{"$f":"IRR(EAW42:ECV42)","v":{"$error":"#NUM!"}},{"$f":"IRRm(EAW42:ECV42)","v":1.0999999999999999},null,null,{"$f":"IRR(EBA42:ECZ42)","v":{"$error":"#NUM!"}},{"$f":"IRRm(EBA42:ECZ42)","v":1.0999999999999999},null,null,{"$f":"IRR(EBE42:EDD42)","v":{"$error":"#NUM!"}},{"$f":"IRRm(EBE42:EDD42)","v":1.0999999999999999},null,null,{"$f":"IRR(EBI42:EDH42)","v":{"$error":"#NUM!"}},{"$f":"IRRm(EBI42:EDH42)","v":1.0999999999999999},null,null,{"$f":"IRR(EBM42:EDL42)","v":{"$error":"#NUM!"}},{"$f":"IRRm(EBM42:EDL42)","v":1.0999999999999999},null,null,{"$f":"IRR(EBQ42:EDP42)","v":{"$error":"#NUM!"}},{"$f":"IRRm(EBQ42:EDP42)","v":1.0999999999999999},null,null,{"$f":"IRR(EBU42:EDT42)","v":{"$error":"#NUM!"}},{"$f":"IRRm(EBU42:EDT42)","v":1.0999999999999999},null,null,{"$f":"IRR(EBY42:EDX42)","v":{"$error":"#NUM!"}},{"$f":"IRRm(EBY42:EDX42)","v":1.0999999999999999},null,null,{"$f":"IRR(ECC42:EEB42)","v":{"$error":"#NUM!"}},{"$f":"IRRm(ECC42:EEB42)","v":1.0999999999999999},null,null,{"$f":"IRR(ECG42:EEF42)","v":{"$error":"#NUM!"}},{"$f":"IRRm(ECG42:EEF42)","v":1.0999999999999999},null,null,{"$f":"IRR(ECK42:EEJ42)","v":{"$error":"#NUM!"}},{"$f":"IRRm(ECK42:EEJ42)","v":1.0999999999999999},null,null,{"$f":"IRR(ECO42:EEN42)","v":{"$error":"#NUM!"}},{"$f":"IRRm(ECO42:EEN42)","v":1.0999999999999999},null,null,{"$f":"IRR(ECS42:EER42)","v":{"$error":"#NUM!"}},{"$f":"IRRm(ECS42:EER42)","v":1.0999999999999999},null,null,{"$f":"IRR(ECW42:EEV42)","v":{"$error":"#NUM!"}},{"$f":"IRRm(ECW42:EEV42)","v":1.0999999999999999},null,null,{"$f":"IRR(EDA42:EEZ42)","v":{"$error":"#NUM!"}},{"$f":"IRRm(EDA42:EEZ42)","v":1.0999999999999999},null,null,{"$f":"IRR(EDE42:EFD42)","v":{"$error":"#NUM!"}},{"$f":"IRRm(EDE42:EFD42)","v":1.0999999999999999},null,null,{"$f":"IRR(EDI42:EFH42)","v":{"$error":"#NUM!"}},{"$f":"IRRm(EDI42:EFH42)","v":1.0999999999999999},null,null,{"$f":"IRR(EDM42:EFL42)","v":{"$error":"#NUM!"}},{"$f":"IRRm(EDM42:EFL42)","v":1.0999999999999999},null,null,{"$f":"IRR(EDQ42:EFP42)","v":{"$error":"#NUM!"}},{"$f":"IRRm(EDQ42:EFP42)","v":1.0999999999999999},null,null,{"$f":"IRR(EDU42:EFT42)","v":{"$error":"#NUM!"}},{"$f":"IRRm(EDU42:EFT42)","v":1.0999999999999999},null,null,{"$f":"IRR(EDY42:EFX42)","v":{"$error":"#NUM!"}},{"$f":"IRRm(EDY42:EFX42)","v":1.0999999999999999},null,null,{"$f":"IRR(EEC42:EGB42)","v":{"$error":"#NUM!"}},{"$f":"IRRm(EEC42:EGB42)","v":1.0999999999999999},null,null,{"$f":"IRR(EEG42:EGF42)","v":{"$error":"#NUM!"}},{"$f":"IRRm(EEG42:EGF42)","v":1.0999999999999999},null,null,{"$f":"IRR(EEK42:EGJ42)","v":{"$error":"#NUM!"}},{"$f":"IRRm(EEK42:EGJ42)","v":1.0999999999999999},null,null,{"$f":"IRR(EEO42:EGN42)","v":{"$error":"#NUM!"}},{"$f":"IRRm(EEO42:EGN42)","v":1.0999999999999999},null,null,{"$f":"IRR(EES42:EGR42)","v":{"$error":"#NUM!"}},{"$f":"IRRm(EES42:EGR42)","v":1.0999999999999999},null,null,{"$f":"IRR(EEW42:EGV42)","v":{"$error":"#NUM!"}},{"$f":"IRRm(EEW42:EGV42)","v":1.0999999999999999},null,null,{"$f":"IRR(EFA42:EGZ42)","v":{"$error":"#NUM!"}},{"$f":"IRRm(EFA42:EGZ42)","v":1.0999999999999999},null,null,{"$f":"IRR(EFE42:EHD42)","v":{"$error":"#NUM!"}},{"$f":"IRRm(EFE42:EHD42)","v":1.0999999999999999},null,null,{"$f":"IRR(EFI42:EHH42)","v":{"$error":"#NUM!"}},{"$f":"IRRm(EFI42:EHH42)","v":1.0999999999999999},null,null,{"$f":"IRR(EFM42:EHL42)","v":{"$error":"#NUM!"}},{"$f":"IRRm(EFM42:EHL42)","v":1.0999999999999999},null,null,{"$f":"IRR(EFQ42:EHP42)","v":{"$error":"#NUM!"}},{"$f":"IRRm(EFQ42:EHP42)","v":1.0999999999999999},null,null,{"$f":"IRR(EFU42:EHT42)","v":{"$error":"#NUM!"}},{"$f":"IRRm(EFU42:EHT42)","v":1.0999999999999999},null,null,{"$f":"IRR(EFY42:EHX42)","v":{"$error":"#NUM!"}},{"$f":"IRRm(EFY42:EHX42)","v":1.0999999999999999},null,null,{"$f":"IRR(EGC42:EIB42)","v":{"$error":"#NUM!"}},{"$f":"IRRm(EGC42:EIB42)","v":1.0999999999999999},null,null,{"$f":"IRR(EGG42:EIF42)","v":{"$error":"#NUM!"}},{"$f":"IRRm(EGG42:EIF42)","v":1.0999999999999999},null,null,{"$f":"IRR(EGK42:EIJ42)","v":{"$error":"#NUM!"}},{"$f":"IRRm(EGK42:EIJ42)","v":1.0999999999999999},null,null,{"$f":"IRR(EGO42:EIN42)","v":{"$error":"#NUM!"}},{"$f":"IRRm(EGO42:EIN42)","v":1.0999999999999999},null,null,{"$f":"IRR(EGS42:EIR42)","v":{"$error":"#NUM!"}},{"$f":"IRRm(EGS42:EIR42)","v":1.0999999999999999},null,null,{"$f":"IRR(EGW42:EIV42)","v":{"$error":"#NUM!"}},{"$f":"IRRm(EGW42:EIV42)","v":1.0999999999999999},null,null,{"$f":"IRR(EHA42:EIZ42)","v":{"$error":"#NUM!"}},{"$f":"IRRm(EHA42:EIZ42)","v":1.0999999999999999},null,null,{"$f":"IRR(EHE42:EJD42)","v":{"$error":"#NUM!"}},{"$f":"IRRm(EHE42:EJD42)","v":1.0999999999999999},null,null,{"$f":"IRR(EHI42:EJH42)","v":{"$error":"#NUM!"}},{"$f":"IRRm(EHI42:EJH42)","v":1.0999999999999999},null,null,{"$f":"IRR(EHM42:EJL42)","v":{"$error":"#NUM!"}},{"$f":"IRRm(EHM42:EJL42)","v":1.0999999999999999},null,null,{"$f":"IRR(EHQ42:EJP42)","v":{"$error":"#NUM!"}},{"$f":"IRRm(EHQ42:EJP42)","v":1.0999999999999999},null,null,{"$f":"IRR(EHU42:EJT42)","v":{"$error":"#NUM!"}},{"$f":"IRRm(EHU42:EJT42)","v":1.0999999999999999},null,null,{"$f":"IRR(EHY42:EJX42)","v":{"$error":"#NUM!"}},{"$f":"IRRm(EHY42:EJX42)","v":1.0999999999999999},null,null,{"$f":"IRR(EIC42:EKB42)","v":{"$error":"#NUM!"}},{"$f":"IRRm(EIC42:EKB42)","v":1.0999999999999999},null,null,{"$f":"IRR(EIG42:EKF42)","v":{"$error":"#NUM!"}},{"$f":"IRRm(EIG42:EKF42)","v":1.0999999999999999},null,null,{"$f":"IRR(EIK42:EKJ42)","v":{"$error":"#NUM!"}},{"$f":"IRRm(EIK42:EKJ42)","v":1.0999999999999999},null,null,{"$f":"IRR(EIO42:EKN42)","v":{"$error":"#NUM!"}},{"$f":"IRRm(EIO42:EKN42)","v":1.0999999999999999},null,null,{"$f":"IRR(EIS42:EKR42)","v":{"$error":"#NUM!"}},{"$f":"IRRm(EIS42:EKR42)","v":1.0999999999999999},null,null,{"$f":"IRR(EIW42:EKV42)","v":{"$error":"#NUM!"}},{"$f":"IRRm(EIW42:EKV42)","v":1.0999999999999999},null,null,{"$f":"IRR(EJA42:EKZ42)","v":{"$error":"#NUM!"}},{"$f":"IRRm(EJA42:EKZ42)","v":1.0999999999999999},null,null,{"$f":"IRR(EJE42:ELD42)","v":{"$error":"#NUM!"}},{"$f":"IRRm(EJE42:ELD42)","v":1.0999999999999999},null,null,{"$f":"IRR(EJI42:ELH42)","v":{"$error":"#NUM!"}},{"$f":"IRRm(EJI42:ELH42)","v":1.0999999999999999},null,null,{"$f":"IRR(EJM42:ELL42)","v":{"$error":"#NUM!"}},{"$f":"IRRm(EJM42:ELL42)","v":1.0999999999999999},null,null,{"$f":"IRR(EJQ42:ELP42)","v":{"$error":"#NUM!"}},{"$f":"IRRm(EJQ42:ELP42)","v":1.0999999999999999},null,null,{"$f":"IRR(EJU42:ELT42)","v":{"$error":"#NUM!"}},{"$f":"IRRm(EJU42:ELT42)","v":1.0999999999999999},null,null,{"$f":"IRR(EJY42:ELX42)","v":{"$error":"#NUM!"}},{"$f":"IRRm(EJY42:ELX42)","v":1.0999999999999999},null,null,{"$f":"IRR(EKC42:EMB42)","v":{"$error":"#NUM!"}},{"$f":"IRRm(EKC42:EMB42)","v":1.0999999999999999},null,null,{"$f":"IRR(EKG42:EMF42)","v":{"$error":"#NUM!"}},{"$f":"IRRm(EKG42:EMF42)","v":1.0999999999999999},null,null,{"$f":"IRR(EKK42:EMJ42)","v":{"$error":"#NUM!"}},{"$f":"IRRm(EKK42:EMJ42)","v":1.0999999999999999},null,null,{"$f":"IRR(EKO42:EMN42)","v":{"$error":"#NUM!"}},{"$f":"IRRm(EKO42:EMN42)","v":1.0999999999999999},null,null,{"$f":"IRR(EKS42:EMR42)","v":{"$error":"#NUM!"}},{"$f":"IRRm(EKS42:EMR42)","v":1.0999999999999999},null,null,{"$f":"IRR(EKW42:EMV42)","v":{"$error":"#NUM!"}},{"$f":"IRRm(EKW42:EMV42)","v":1.0999999999999999},null,null,{"$f":"IRR(ELA42:EMZ42)","v":{"$error":"#NUM!"}},{"$f":"IRRm(ELA42:EMZ42)","v":1.0999999999999999},null,null,{"$f":"IRR(ELE42:END42)","v":{"$error":"#NUM!"}},{"$f":"IRRm(ELE42:END42)","v":1.0999999999999999},null,null,{"$f":"IRR(ELI42:ENH42)","v":{"$error":"#NUM!"}},{"$f":"IRRm(ELI42:ENH42)","v":1.0999999999999999},null,null,{"$f":"IRR(ELM42:ENL42)","v":{"$error":"#NUM!"}},{"$f":"IRRm(ELM42:ENL42)","v":1.0999999999999999},null,null,{"$f":"IRR(ELQ42:ENP42)","v":{"$error":"#NUM!"}},{"$f":"IRRm(ELQ42:ENP42)","v":1.0999999999999999},null,null,{"$f":"IRR(ELU42:ENT42)","v":{"$error":"#NUM!"}},{"$f":"IRRm(ELU42:ENT42)","v":1.0999999999999999},null,null,{"$f":"IRR(ELY42:ENX42)","v":{"$error":"#NUM!"}},{"$f":"IRRm(ELY42:ENX42)","v":1.0999999999999999},null,null,{"$f":"IRR(EMC42:EOB42)","v":{"$error":"#NUM!"}},{"$f":"IRRm(EMC42:EOB42)","v":1.0999999999999999},null,null,{"$f":"IRR(EMG42:EOF42)","v":{"$error":"#NUM!"}},{"$f":"IRRm(EMG42:EOF42)","v":1.0999999999999999},null,null,{"$f":"IRR(EMK42:EOJ42)","v":{"$error":"#NUM!"}},{"$f":"IRRm(EMK42:EOJ42)","v":1.0999999999999999},null,null,{"$f":"IRR(EMO42:EON42)","v":{"$error":"#NUM!"}},{"$f":"IRRm(EMO42:EON42)","v":1.0999999999999999},null,null,{"$f":"IRR(EMS42:EOR42)","v":{"$error":"#NUM!"}},{"$f":"IRRm(EMS42:EOR42)","v":1.0999999999999999},null,null,{"$f":"IRR(EMW42:EOV42)","v":{"$error":"#NUM!"}},{"$f":"IRRm(EMW42:EOV42)","v":1.0999999999999999},null,null,{"$f":"IRR(ENA42:EOZ42)","v":{"$error":"#NUM!"}},{"$f":"IRRm(ENA42:EOZ42)","v":1.0999999999999999},null,null,{"$f":"IRR(ENE42:EPD42)","v":{"$error":"#NUM!"}},{"$f":"IRRm(ENE42:EPD42)","v":1.0999999999999999},null,null,{"$f":"IRR(ENI42:EPH42)","v":{"$error":"#NUM!"}},{"$f":"IRRm(ENI42:EPH42)","v":1.0999999999999999},null,null,{"$f":"IRR(ENM42:EPL42)","v":{"$error":"#NUM!"}},{"$f":"IRRm(ENM42:EPL42)","v":1.0999999999999999},null,null,{"$f":"IRR(ENQ42:EPP42)","v":{"$error":"#NUM!"}},{"$f":"IRRm(ENQ42:EPP42)","v":1.0999999999999999},null,null,{"$f":"IRR(ENU42:EPT42)","v":{"$error":"#NUM!"}},{"$f":"IRRm(ENU42:EPT42)","v":1.0999999999999999},null,null,{"$f":"IRR(ENY42:EPX42)","v":{"$error":"#NUM!"}},{"$f":"IRRm(ENY42:EPX42)","v":1.0999999999999999},null,null,{"$f":"IRR(EOC42:EQB42)","v":{"$error":"#NUM!"}},{"$f":"IRRm(EOC42:EQB42)","v":1.0999999999999999},null,null,{"$f":"IRR(EOG42:EQF42)","v":{"$error":"#NUM!"}},{"$f":"IRRm(EOG42:EQF42)","v":1.0999999999999999},null,null,{"$f":"IRR(EOK42:EQJ42)","v":{"$error":"#NUM!"}},{"$f":"IRRm(EOK42:EQJ42)","v":1.0999999999999999},null,null,{"$f":"IRR(EOO42:EQN42)","v":{"$error":"#NUM!"}},{"$f":"IRRm(EOO42:EQN42)","v":1.0999999999999999},null,null,{"$f":"IRR(EOS42:EQR42)","v":{"$error":"#NUM!"}},{"$f":"IRRm(EOS42:EQR42)","v":1.0999999999999999},null,null,{"$f":"IRR(EOW42:EQV42)","v":{"$error":"#NUM!"}},{"$f":"IRRm(EOW42:EQV42)","v":1.0999999999999999},null,null,{"$f":"IRR(EPA42:EQZ42)","v":{"$error":"#NUM!"}},{"$f":"IRRm(EPA42:EQZ42)","v":1.0999999999999999},null,null,{"$f":"IRR(EPE42:ERD42)","v":{"$error":"#NUM!"}},{"$f":"IRRm(EPE42:ERD42)","v":1.0999999999999999},null,null,{"$f":"IRR(EPI42:ERH42)","v":{"$error":"#NUM!"}},{"$f":"IRRm(EPI42:ERH42)","v":1.0999999999999999},null,null,{"$f":"IRR(EPM42:ERL42)","v":{"$error":"#NUM!"}},{"$f":"IRRm(EPM42:ERL42)","v":1.0999999999999999},null,null,{"$f":"IRR(EPQ42:ERP42)","v":{"$error":"#NUM!"}},{"$f":"IRRm(EPQ42:ERP42)","v":1.0999999999999999},null,null,{"$f":"IRR(EPU42:ERT42)","v":{"$error":"#NUM!"}},{"$f":"IRRm(EPU42:ERT42)","v":1.0999999999999999},null,null,{"$f":"IRR(EPY42:ERX42)","v":{"$error":"#NUM!"}},{"$f":"IRRm(EPY42:ERX42)","v":1.0999999999999999},null,null,{"$f":"IRR(EQC42:ESB42)","v":{"$error":"#NUM!"}},{"$f":"IRRm(EQC42:ESB42)","v":1.0999999999999999},null,null,{"$f":"IRR(EQG42:ESF42)","v":{"$error":"#NUM!"}},{"$f":"IRRm(EQG42:ESF42)","v":1.0999999999999999},null,null,{"$f":"IRR(EQK42:ESJ42)","v":{"$error":"#NUM!"}},{"$f":"IRRm(EQK42:ESJ42)","v":1.0999999999999999},null,null,{"$f":"IRR(EQO42:ESN42)","v":{"$error":"#NUM!"}},{"$f":"IRRm(EQO42:ESN42)","v":1.0999999999999999},null,null,{"$f":"IRR(EQS42:ESR42)","v":{"$error":"#NUM!"}},{"$f":"IRRm(EQS42:ESR42)","v":1.0999999999999999},null,null,{"$f":"IRR(EQW42:ESV42)","v":{"$error":"#NUM!"}},{"$f":"IRRm(EQW42:ESV42)","v":1.0999999999999999},null,null,{"$f":"IRR(ERA42:ESZ42)","v":{"$error":"#NUM!"}},{"$f":"IRRm(ERA42:ESZ42)","v":1.0999999999999999},null,null,{"$f":"IRR(ERE42:ETD42)","v":{"$error":"#NUM!"}},{"$f":"IRRm(ERE42:ETD42)","v":1.0999999999999999},null,null,{"$f":"IRR(ERI42:ETH42)","v":{"$error":"#NUM!"}},{"$f":"IRRm(ERI42:ETH42)","v":1.0999999999999999},null,null,{"$f":"IRR(ERM42:ETL42)","v":{"$error":"#NUM!"}},{"$f":"IRRm(ERM42:ETL42)","v":1.0999999999999999},null,null,{"$f":"IRR(ERQ42:ETP42)","v":{"$error":"#NUM!"}},{"$f":"IRRm(ERQ42:ETP42)","v":1.0999999999999999},null,null,{"$f":"IRR(ERU42:ETT42)","v":{"$error":"#NUM!"}},{"$f":"IRRm(ERU42:ETT42)","v":1.0999999999999999},null,null,{"$f":"IRR(ERY42:ETX42)","v":{"$error":"#NUM!"}},{"$f":"IRRm(ERY42:ETX42)","v":1.0999999999999999},null,null,{"$f":"IRR(ESC42:EUB42)","v":{"$error":"#NUM!"}},{"$f":"IRRm(ESC42:EUB42)","v":1.0999999999999999},null,null,{"$f":"IRR(ESG42:EUF42)","v":{"$error":"#NUM!"}},{"$f":"IRRm(ESG42:EUF42)","v":1.0999999999999999},null,null,{"$f":"IRR(ESK42:EUJ42)","v":{"$error":"#NUM!"}},{"$f":"IRRm(ESK42:EUJ42)","v":1.0999999999999999},null,null,{"$f":"IRR(ESO42:EUN42)","v":{"$error":"#NUM!"}},{"$f":"IRRm(ESO42:EUN42)","v":1.0999999999999999},null,null,{"$f":"IRR(ESS42:EUR42)","v":{"$error":"#NUM!"}},{"$f":"IRRm(ESS42:EUR42)","v":1.0999999999999999},null,null,{"$f":"IRR(ESW42:EUV42)","v":{"$error":"#NUM!"}},{"$f":"IRRm(ESW42:EUV42)","v":1.0999999999999999},null,null,{"$f":"IRR(ETA42:EUZ42)","v":{"$error":"#NUM!"}},{"$f":"IRRm(ETA42:EUZ42)","v":1.0999999999999999},null,null,{"$f":"IRR(ETE42:EVD42)","v":{"$error":"#NUM!"}},{"$f":"IRRm(ETE42:EVD42)","v":1.0999999999999999},null,null,{"$f":"IRR(ETI42:EVH42)","v":{"$error":"#NUM!"}},{"$f":"IRRm(ETI42:EVH42)","v":1.0999999999999999},null,null,{"$f":"IRR(ETM42:EVL42)","v":{"$error":"#NUM!"}},{"$f":"IRRm(ETM42:EVL42)","v":1.0999999999999999},null,null,{"$f":"IRR(ETQ42:EVP42)","v":{"$error":"#NUM!"}},{"$f":"IRRm(ETQ42:EVP42)","v":1.0999999999999999},null,null,{"$f":"IRR(ETU42:EVT42)","v":{"$error":"#NUM!"}},{"$f":"IRRm(ETU42:EVT42)","v":1.0999999999999999},null,null,{"$f":"IRR(ETY42:EVX42)","v":{"$error":"#NUM!"}},{"$f":"IRRm(ETY42:EVX42)","v":1.0999999999999999},null,null,{"$f":"IRR(EUC42:EWB42)","v":{"$error":"#NUM!"}},{"$f":"IRRm(EUC42:EWB42)","v":1.0999999999999999},null,null,{"$f":"IRR(EUG42:EWF42)","v":{"$error":"#NUM!"}},{"$f":"IRRm(EUG42:EWF42)","v":1.0999999999999999},null,null,{"$f":"IRR(EUK42:EWJ42)","v":{"$error":"#NUM!"}},{"$f":"IRRm(EUK42:EWJ42)","v":1.0999999999999999},null,null,{"$f":"IRR(EUO42:EWN42)","v":{"$error":"#NUM!"}},{"$f":"IRRm(EUO42:EWN42)","v":1.0999999999999999},null,null,{"$f":"IRR(EUS42:EWR42)","v":{"$error":"#NUM!"}},{"$f":"IRRm(EUS42:EWR42)","v":1.0999999999999999},null,null,{"$f":"IRR(EUW42:EWV42)","v":{"$error":"#NUM!"}},{"$f":"IRRm(EUW42:EWV42)","v":1.0999999999999999},null,null,{"$f":"IRR(EVA42:EWZ42)","v":{"$error":"#NUM!"}},{"$f":"IRRm(EVA42:EWZ42)","v":1.0999999999999999},null,null,{"$f":"IRR(EVE42:EXD42)","v":{"$error":"#NUM!"}},{"$f":"IRRm(EVE42:EXD42)","v":1.0999999999999999},null,null,{"$f":"IRR(EVI42:EXH42)","v":{"$error":"#NUM!"}},{"$f":"IRRm(EVI42:EXH42)","v":1.0999999999999999},null,null,{"$f":"IRR(EVM42:EXL42)","v":{"$error":"#NUM!"}},{"$f":"IRRm(EVM42:EXL42)","v":1.0999999999999999},null,null,{"$f":"IRR(EVQ42:EXP42)","v":{"$error":"#NUM!"}},{"$f":"IRRm(EVQ42:EXP42)","v":1.0999999999999999},null,null,{"$f":"IRR(EVU42:EXT42)","v":{"$error":"#NUM!"}},{"$f":"IRRm(EVU42:EXT42)","v":1.0999999999999999},null,null,{"$f":"IRR(EVY42:EXX42)","v":{"$error":"#NUM!"}},{"$f":"IRRm(EVY42:EXX42)","v":1.0999999999999999},null,null,{"$f":"IRR(EWC42:EYB42)","v":{"$error":"#NUM!"}},{"$f":"IRRm(EWC42:EYB42)","v":1.0999999999999999},null,null,{"$f":"IRR(EWG42:EYF42)","v":{"$error":"#NUM!"}},{"$f":"IRRm(EWG42:EYF42)","v":1.0999999999999999},null,null,{"$f":"IRR(EWK42:EYJ42)","v":{"$error":"#NUM!"}},{"$f":"IRRm(EWK42:EYJ42)","v":1.0999999999999999},null,null,{"$f":"IRR(EWO42:EYN42)","v":{"$error":"#NUM!"}},{"$f":"IRRm(EWO42:EYN42)","v":1.0999999999999999},null,null,{"$f":"IRR(EWS42:EYR42)","v":{"$error":"#NUM!"}},{"$f":"IRRm(EWS42:EYR42)","v":1.0999999999999999},null,null,{"$f":"IRR(EWW42:EYV42)","v":{"$error":"#NUM!"}},{"$f":"IRRm(EWW42:EYV42)","v":1.0999999999999999},null,null,{"$f":"IRR(EXA42:EYZ42)","v":{"$error":"#NUM!"}},{"$f":"IRRm(EXA42:EYZ42)","v":1.0999999999999999},null,null,{"$f":"IRR(EXE42:EZD42)","v":{"$error":"#NUM!"}},{"$f":"IRRm(EXE42:EZD42)","v":1.0999999999999999},null,null,{"$f":"IRR(EXI42:EZH42)","v":{"$error":"#NUM!"}},{"$f":"IRRm(EXI42:EZH42)","v":1.0999999999999999},null,null,{"$f":"IRR(EXM42:EZL42)","v":{"$error":"#NUM!"}},{"$f":"IRRm(EXM42:EZL42)","v":1.0999999999999999},null,null,{"$f":"IRR(EXQ42:EZP42)","v":{"$error":"#NUM!"}},{"$f":"IRRm(EXQ42:EZP42)","v":1.0999999999999999},null,null,{"$f":"IRR(EXU42:EZT42)","v":{"$error":"#NUM!"}},{"$f":"IRRm(EXU42:EZT42)","v":1.0999999999999999},null,null,{"$f":"IRR(EXY42:EZX42)","v":{"$error":"#NUM!"}},{"$f":"IRRm(EXY42:EZX42)","v":1.0999999999999999},null,null,{"$f":"IRR(EYC42:FAB42)","v":{"$error":"#NUM!"}},{"$f":"IRRm(EYC42:FAB42)","v":1.0999999999999999},null,null,{"$f":"IRR(EYG42:FAF42)","v":{"$error":"#NUM!"}},{"$f":"IRRm(EYG42:FAF42)","v":1.0999999999999999},null,null,{"$f":"IRR(EYK42:FAJ42)","v":{"$error":"#NUM!"}},{"$f":"IRRm(EYK42:FAJ42)","v":1.0999999999999999},null,null,{"$f":"IRR(EYO42:FAN42)","v":{"$error":"#NUM!"}},{"$f":"IRRm(EYO42:FAN42)","v":1.0999999999999999},null,null,{"$f":"IRR(EYS42:FAR42)","v":{"$error":"#NUM!"}},{"$f":"IRRm(EYS42:FAR42)","v":1.0999999999999999},null,null,{"$f":"IRR(EYW42:FAV42)","v":{"$error":"#NUM!"}},{"$f":"IRRm(EYW42:FAV42)","v":1.0999999999999999},null,null,{"$f":"IRR(EZA42:FAZ42)","v":{"$error":"#NUM!"}},{"$f":"IRRm(EZA42:FAZ42)","v":1.0999999999999999},null,null,{"$f":"IRR(EZE42:FBD42)","v":{"$error":"#NUM!"}},{"$f":"IRRm(EZE42:FBD42)","v":1.0999999999999999},null,null,{"$f":"IRR(EZI42:FBH42)","v":{"$error":"#NUM!"}},{"$f":"IRRm(EZI42:FBH42)","v":1.0999999999999999},null,null,{"$f":"IRR(EZM42:FBL42)","v":{"$error":"#NUM!"}},{"$f":"IRRm(EZM42:FBL42)","v":1.0999999999999999},null,null,{"$f":"IRR(EZQ42:FBP42)","v":{"$error":"#NUM!"}},{"$f":"IRRm(EZQ42:FBP42)","v":1.0999999999999999},null,null,{"$f":"IRR(EZU42:FBT42)","v":{"$error":"#NUM!"}},{"$f":"IRRm(EZU42:FBT42)","v":1.0999999999999999},null,null,{"$f":"IRR(EZY42:FBX42)","v":{"$error":"#NUM!"}},{"$f":"IRRm(EZY42:FBX42)","v":1.0999999999999999},null,null,{"$f":"IRR(FAC42:FCB42)","v":{"$error":"#NUM!"}},{"$f":"IRRm(FAC42:FCB42)","v":1.0999999999999999},null,null,{"$f":"IRR(FAG42:FCF42)","v":{"$error":"#NUM!"}},{"$f":"IRRm(FAG42:FCF42)","v":1.0999999999999999},null,null,{"$f":"IRR(FAK42:FCJ42)","v":{"$error":"#NUM!"}},{"$f":"IRRm(FAK42:FCJ42)","v":1.0999999999999999},null,null,{"$f":"IRR(FAO42:FCN42)","v":{"$error":"#NUM!"}},{"$f":"IRRm(FAO42:FCN42)","v":1.0999999999999999},null,null,{"$f":"IRR(FAS42:FCR42)","v":{"$error":"#NUM!"}},{"$f":"IRRm(FAS42:FCR42)","v":1.0999999999999999},null,null,{"$f":"IRR(FAW42:FCV42)","v":{"$error":"#NUM!"}},{"$f":"IRRm(FAW42:FCV42)","v":1.0999999999999999},null,null,{"$f":"IRR(FBA42:FCZ42)","v":{"$error":"#NUM!"}},{"$f":"IRRm(FBA42:FCZ42)","v":1.0999999999999999},null,null,{"$f":"IRR(FBE42:FDD42)","v":{"$error":"#NUM!"}},{"$f":"IRRm(FBE42:FDD42)","v":1.0999999999999999},null,null,{"$f":"IRR(FBI42:FDH42)","v":{"$error":"#NUM!"}},{"$f":"IRRm(FBI42:FDH42)","v":1.0999999999999999},null,null,{"$f":"IRR(FBM42:FDL42)","v":{"$error":"#NUM!"}},{"$f":"IRRm(FBM42:FDL42)","v":1.0999999999999999},null,null,{"$f":"IRR(FBQ42:FDP42)","v":{"$error":"#NUM!"}},{"$f":"IRRm(FBQ42:FDP42)","v":1.0999999999999999},null,null,{"$f":"IRR(FBU42:FDT42)","v":{"$error":"#NUM!"}},{"$f":"IRRm(FBU42:FDT42)","v":1.0999999999999999},null,null,{"$f":"IRR(FBY42:FDX42)","v":{"$error":"#NUM!"}},{"$f":"IRRm(FBY42:FDX42)","v":1.0999999999999999},null,null,{"$f":"IRR(FCC42:FEB42)","v":{"$error":"#NUM!"}},{"$f":"IRRm(FCC42:FEB42)","v":1.0999999999999999},null,null,{"$f":"IRR(FCG42:FEF42)","v":{"$error":"#NUM!"}},{"$f":"IRRm(FCG42:FEF42)","v":1.0999999999999999},null,null,{"$f":"IRR(FCK42:FEJ42)","v":{"$error":"#NUM!"}},{"$f":"IRRm(FCK42:FEJ42)","v":1.0999999999999999},null,null,{"$f":"IRR(FCO42:FEN42)","v":{"$error":"#NUM!"}},{"$f":"IRRm(FCO42:FEN42)","v":1.0999999999999999},null,null,{"$f":"IRR(FCS42:FER42)","v":{"$error":"#NUM!"}},{"$f":"IRRm(FCS42:FER42)","v":1.0999999999999999},null,null,{"$f":"IRR(FCW42:FEV42)","v":{"$error":"#NUM!"}},{"$f":"IRRm(FCW42:FEV42)","v":1.0999999999999999},null,null,{"$f":"IRR(FDA42:FEZ42)","v":{"$error":"#NUM!"}},{"$f":"IRRm(FDA42:FEZ42)","v":1.0999999999999999},null,null,{"$f":"IRR(FDE42:FFD42)","v":{"$error":"#NUM!"}},{"$f":"IRRm(FDE42:FFD42)","v":1.0999999999999999},null,null,{"$f":"IRR(FDI42:FFH42)","v":{"$error":"#NUM!"}},{"$f":"IRRm(FDI42:FFH42)","v":1.0999999999999999},null,null,{"$f":"IRR(FDM42:FFL42)","v":{"$error":"#NUM!"}},{"$f":"IRRm(FDM42:FFL42)","v":1.0999999999999999},null,null,{"$f":"IRR(FDQ42:FFP42)","v":{"$error":"#NUM!"}},{"$f":"IRRm(FDQ42:FFP42)","v":1.0999999999999999},null,null,{"$f":"IRR(FDU42:FFT42)","v":{"$error":"#NUM!"}},{"$f":"IRRm(FDU42:FFT42)","v":1.0999999999999999},null,null,{"$f":"IRR(FDY42:FFX42)","v":{"$error":"#NUM!"}},{"$f":"IRRm(FDY42:FFX42)","v":1.0999999999999999},null,null,{"$f":"IRR(FEC42:FGB42)","v":{"$error":"#NUM!"}},{"$f":"IRRm(FEC42:FGB42)","v":1.0999999999999999},null,null,{"$f":"IRR(FEG42:FGF42)","v":{"$error":"#NUM!"}},{"$f":"IRRm(FEG42:FGF42)","v":1.0999999999999999},null,null,{"$f":"IRR(FEK42:FGJ42)","v":{"$error":"#NUM!"}},{"$f":"IRRm(FEK42:FGJ42)","v":1.0999999999999999},null,null,{"$f":"IRR(FEO42:FGN42)","v":{"$error":"#NUM!"}},{"$f":"IRRm(FEO42:FGN42)","v":1.0999999999999999},null,null,{"$f":"IRR(FES42:FGR42)","v":{"$error":"#NUM!"}},{"$f":"IRRm(FES42:FGR42)","v":1.0999999999999999},null,null,{"$f":"IRR(FEW42:FGV42)","v":{"$error":"#NUM!"}},{"$f":"IRRm(FEW42:FGV42)","v":1.0999999999999999},null,null,{"$f":"IRR(FFA42:FGZ42)","v":{"$error":"#NUM!"}},{"$f":"IRRm(FFA42:FGZ42)","v":1.0999999999999999},null,null,{"$f":"IRR(FFE42:FHD42)","v":{"$error":"#NUM!"}},{"$f":"IRRm(FFE42:FHD42)","v":1.0999999999999999},null,null,{"$f":"IRR(FFI42:FHH42)","v":{"$error":"#NUM!"}},{"$f":"IRRm(FFI42:FHH42)","v":1.0999999999999999},null,null,{"$f":"IRR(FFM42:FHL42)","v":{"$error":"#NUM!"}},{"$f":"IRRm(FFM42:FHL42)","v":1.0999999999999999},null,null,{"$f":"IRR(FFQ42:FHP42)","v":{"$error":"#NUM!"}},{"$f":"IRRm(FFQ42:FHP42)","v":1.0999999999999999},null,null,{"$f":"IRR(FFU42:FHT42)","v":{"$error":"#NUM!"}},{"$f":"IRRm(FFU42:FHT42)","v":1.0999999999999999},null,null,{"$f":"IRR(FFY42:FHX42)","v":{"$error":"#NUM!"}},{"$f":"IRRm(FFY42:FHX42)","v":1.0999999999999999},null,null,{"$f":"IRR(FGC42:FIB42)","v":{"$error":"#NUM!"}},{"$f":"IRRm(FGC42:FIB42)","v":1.0999999999999999},null,null,{"$f":"IRR(FGG42:FIF42)","v":{"$error":"#NUM!"}},{"$f":"IRRm(FGG42:FIF42)","v":1.0999999999999999},null,null,{"$f":"IRR(FGK42:FIJ42)","v":{"$error":"#NUM!"}},{"$f":"IRRm(FGK42:FIJ42)","v":1.0999999999999999},null,null,{"$f":"IRR(FGO42:FIN42)","v":{"$error":"#NUM!"}},{"$f":"IRRm(FGO42:FIN42)","v":1.0999999999999999},null,null,{"$f":"IRR(FGS42:FIR42)","v":{"$error":"#NUM!"}},{"$f":"IRRm(FGS42:FIR42)","v":1.0999999999999999},null,null,{"$f":"IRR(FGW42:FIV42)","v":{"$error":"#NUM!"}},{"$f":"IRRm(FGW42:FIV42)","v":1.0999999999999999},null,null,{"$f":"IRR(FHA42:FIZ42)","v":{"$error":"#NUM!"}},{"$f":"IRRm(FHA42:FIZ42)","v":1.0999999999999999},null,null,{"$f":"IRR(FHE42:FJD42)","v":{"$error":"#NUM!"}},{"$f":"IRRm(FHE42:FJD42)","v":1.0999999999999999},null,null,{"$f":"IRR(FHI42:FJH42)","v":{"$error":"#NUM!"}},{"$f":"IRRm(FHI42:FJH42)","v":1.0999999999999999},null,null,{"$f":"IRR(FHM42:FJL42)","v":{"$error":"#NUM!"}},{"$f":"IRRm(FHM42:FJL42)","v":1.0999999999999999},null,null,{"$f":"IRR(FHQ42:FJP42)","v":{"$error":"#NUM!"}},{"$f":"IRRm(FHQ42:FJP42)","v":1.0999999999999999},null,null,{"$f":"IRR(FHU42:FJT42)","v":{"$error":"#NUM!"}},{"$f":"IRRm(FHU42:FJT42)","v":1.0999999999999999},null,null,{"$f":"IRR(FHY42:FJX42)","v":{"$error":"#NUM!"}},{"$f":"IRRm(FHY42:FJX42)","v":1.0999999999999999},null,null,{"$f":"IRR(FIC42:FKB42)","v":{"$error":"#NUM!"}},{"$f":"IRRm(FIC42:FKB42)","v":1.0999999999999999},null,null,{"$f":"IRR(FIG42:FKF42)","v":{"$error":"#NUM!"}},{"$f":"IRRm(FIG42:FKF42)","v":1.0999999999999999},null,null,{"$f":"IRR(FIK42:FKJ42)","v":{"$error":"#NUM!"}},{"$f":"IRRm(FIK42:FKJ42)","v":1.0999999999999999},null,null,{"$f":"IRR(FIO42:FKN42)","v":{"$error":"#NUM!"}},{"$f":"IRRm(FIO42:FKN42)","v":1.0999999999999999},null,null,{"$f":"IRR(FIS42:FKR42)","v":{"$error":"#NUM!"}},{"$f":"IRRm(FIS42:FKR42)","v":1.0999999999999999},null,null,{"$f":"IRR(FIW42:FKV42)","v":{"$error":"#NUM!"}},{"$f":"IRRm(FIW42:FKV42)","v":1.0999999999999999},null,null,{"$f":"IRR(FJA42:FKZ42)","v":{"$error":"#NUM!"}},{"$f":"IRRm(FJA42:FKZ42)","v":1.0999999999999999},null,null,{"$f":"IRR(FJE42:FLD42)","v":{"$error":"#NUM!"}},{"$f":"IRRm(FJE42:FLD42)","v":1.0999999999999999},null,null,{"$f":"IRR(FJI42:FLH42)","v":{"$error":"#NUM!"}},{"$f":"IRRm(FJI42:FLH42)","v":1.0999999999999999},null,null,{"$f":"IRR(FJM42:FLL42)","v":{"$error":"#NUM!"}},{"$f":"IRRm(FJM42:FLL42)","v":1.0999999999999999},null,null,{"$f":"IRR(FJQ42:FLP42)","v":{"$error":"#NUM!"}},{"$f":"IRRm(FJQ42:FLP42)","v":1.0999999999999999},null,null,{"$f":"IRR(FJU42:FLT42)","v":{"$error":"#NUM!"}},{"$f":"IRRm(FJU42:FLT42)","v":1.0999999999999999},null,null,{"$f":"IRR(FJY42:FLX42)","v":{"$error":"#NUM!"}},{"$f":"IRRm(FJY42:FLX42)","v":1.0999999999999999},null,null,{"$f":"IRR(FKC42:FMB42)","v":{"$error":"#NUM!"}},{"$f":"IRRm(FKC42:FMB42)","v":1.0999999999999999},null,null,{"$f":"IRR(FKG42:FMF42)","v":{"$error":"#NUM!"}},{"$f":"IRRm(FKG42:FMF42)","v":1.0999999999999999},null,null,{"$f":"IRR(FKK42:FMJ42)","v":{"$error":"#NUM!"}},{"$f":"IRRm(FKK42:FMJ42)","v":1.0999999999999999},null,null,{"$f":"IRR(FKO42:FMN42)","v":{"$error":"#NUM!"}},{"$f":"IRRm(FKO42:FMN42)","v":1.0999999999999999},null,null,{"$f":"IRR(FKS42:FMR42)","v":{"$error":"#NUM!"}},{"$f":"IRRm(FKS42:FMR42)","v":1.0999999999999999},null,null,{"$f":"IRR(FKW42:FMV42)","v":{"$error":"#NUM!"}},{"$f":"IRRm(FKW42:FMV42)","v":1.0999999999999999},null,null,{"$f":"IRR(FLA42:FMZ42)","v":{"$error":"#NUM!"}},{"$f":"IRRm(FLA42:FMZ42)","v":1.0999999999999999},null,null,{"$f":"IRR(FLE42:FND42)","v":{"$error":"#NUM!"}},{"$f":"IRRm(FLE42:FND42)","v":1.0999999999999999},null,null,{"$f":"IRR(FLI42:FNH42)","v":{"$error":"#NUM!"}},{"$f":"IRRm(FLI42:FNH42)","v":1.0999999999999999},null,null,{"$f":"IRR(FLM42:FNL42)","v":{"$error":"#NUM!"}},{"$f":"IRRm(FLM42:FNL42)","v":1.0999999999999999},null,null,{"$f":"IRR(FLQ42:FNP42)","v":{"$error":"#NUM!"}},{"$f":"IRRm(FLQ42:FNP42)","v":1.0999999999999999},null,null,{"$f":"IRR(FLU42:FNT42)","v":{"$error":"#NUM!"}},{"$f":"IRRm(FLU42:FNT42)","v":1.0999999999999999},null,null,{"$f":"IRR(FLY42:FNX42)","v":{"$error":"#NUM!"}},{"$f":"IRRm(FLY42:FNX42)","v":1.0999999999999999},null,null,{"$f":"IRR(FMC42:FOB42)","v":{"$error":"#NUM!"}},{"$f":"IRRm(FMC42:FOB42)","v":1.0999999999999999},null,null,{"$f":"IRR(FMG42:FOF42)","v":{"$error":"#NUM!"}},{"$f":"IRRm(FMG42:FOF42)","v":1.0999999999999999},null,null,{"$f":"IRR(FMK42:FOJ42)","v":{"$error":"#NUM!"}},{"$f":"IRRm(FMK42:FOJ42)","v":1.0999999999999999},null,null,{"$f":"IRR(FMO42:FON42)","v":{"$error":"#NUM!"}},{"$f":"IRRm(FMO42:FON42)","v":1.0999999999999999},null,null,{"$f":"IRR(FMS42:FOR42)","v":{"$error":"#NUM!"}},{"$f":"IRRm(FMS42:FOR42)","v":1.0999999999999999},null,null,{"$f":"IRR(FMW42:FOV42)","v":{"$error":"#NUM!"}},{"$f":"IRRm(FMW42:FOV42)","v":1.0999999999999999},null,null,{"$f":"IRR(FNA42:FOZ42)","v":{"$error":"#NUM!"}},{"$f":"IRRm(FNA42:FOZ42)","v":1.0999999999999999},null,null,{"$f":"IRR(FNE42:FPD42)","v":{"$error":"#NUM!"}},{"$f":"IRRm(FNE42:FPD42)","v":1.0999999999999999},null,null,{"$f":"IRR(FNI42:FPH42)","v":{"$error":"#NUM!"}},{"$f":"IRRm(FNI42:FPH42)","v":1.0999999999999999},null,null,{"$f":"IRR(FNM42:FPL42)","v":{"$error":"#NUM!"}},{"$f":"IRRm(FNM42:FPL42)","v":1.0999999999999999},null,null,{"$f":"IRR(FNQ42:FPP42)","v":{"$error":"#NUM!"}},{"$f":"IRRm(FNQ42:FPP42)","v":1.0999999999999999},null,null,{"$f":"IRR(FNU42:FPT42)","v":{"$error":"#NUM!"}},{"$f":"IRRm(FNU42:FPT42)","v":1.0999999999999999},null,null,{"$f":"IRR(FNY42:FPX42)","v":{"$error":"#NUM!"}},{"$f":"IRRm(FNY42:FPX42)","v":1.0999999999999999},null,null,{"$f":"IRR(FOC42:FQB42)","v":{"$error":"#NUM!"}},{"$f":"IRRm(FOC42:FQB42)","v":1.0999999999999999},null,null,{"$f":"IRR(FOG42:FQF42)","v":{"$error":"#NUM!"}},{"$f":"IRRm(FOG42:FQF42)","v":1.0999999999999999},null,null,{"$f":"IRR(FOK42:FQJ42)","v":{"$error":"#NUM!"}},{"$f":"IRRm(FOK42:FQJ42)","v":1.0999999999999999},null,null,{"$f":"IRR(FOO42:FQN42)","v":{"$error":"#NUM!"}},{"$f":"IRRm(FOO42:FQN42)","v":1.0999999999999999},null,null,{"$f":"IRR(FOS42:FQR42)","v":{"$error":"#NUM!"}},{"$f":"IRRm(FOS42:FQR42)","v":1.0999999999999999},null,null,{"$f":"IRR(FOW42:FQV42)","v":{"$error":"#NUM!"}},{"$f":"IRRm(FOW42:FQV42)","v":1.0999999999999999},null,null,{"$f":"IRR(FPA42:FQZ42)","v":{"$error":"#NUM!"}},{"$f":"IRRm(FPA42:FQZ42)","v":1.0999999999999999},null,null,{"$f":"IRR(FPE42:FRD42)","v":{"$error":"#NUM!"}},{"$f":"IRRm(FPE42:FRD42)","v":1.0999999999999999},null,null,{"$f":"IRR(FPI42:FRH42)","v":{"$error":"#NUM!"}},{"$f":"IRRm(FPI42:FRH42)","v":1.0999999999999999},null,null,{"$f":"IRR(FPM42:FRL42)","v":{"$error":"#NUM!"}},{"$f":"IRRm(FPM42:FRL42)","v":1.0999999999999999},null,null,{"$f":"IRR(FPQ42:FRP42)","v":{"$error":"#NUM!"}},{"$f":"IRRm(FPQ42:FRP42)","v":1.0999999999999999},null,null,{"$f":"IRR(FPU42:FRT42)","v":{"$error":"#NUM!"}},{"$f":"IRRm(FPU42:FRT42)","v":1.0999999999999999},null,null,{"$f":"IRR(FPY42:FRX42)","v":{"$error":"#NUM!"}},{"$f":"IRRm(FPY42:FRX42)","v":1.0999999999999999},null,null,{"$f":"IRR(FQC42:FSB42)","v":{"$error":"#NUM!"}},{"$f":"IRRm(FQC42:FSB42)","v":1.0999999999999999},null,null,{"$f":"IRR(FQG42:FSF42)","v":{"$error":"#NUM!"}},{"$f":"IRRm(FQG42:FSF42)","v":1.0999999999999999},null,null,{"$f":"IRR(FQK42:FSJ42)","v":{"$error":"#NUM!"}},{"$f":"IRRm(FQK42:FSJ42)","v":1.0999999999999999},null,null,{"$f":"IRR(FQO42:FSN42)","v":{"$error":"#NUM!"}},{"$f":"IRRm(FQO42:FSN42)","v":1.0999999999999999},null,null,{"$f":"IRR(FQS42:FSR42)","v":{"$error":"#NUM!"}},{"$f":"IRRm(FQS42:FSR42)","v":1.0999999999999999},null,null,{"$f":"IRR(FQW42:FSV42)","v":{"$error":"#NUM!"}},{"$f":"IRRm(FQW42:FSV42)","v":1.0999999999999999},null,null,{"$f":"IRR(FRA42:FSZ42)","v":{"$error":"#NUM!"}},{"$f":"IRRm(FRA42:FSZ42)","v":1.0999999999999999},null,null,{"$f":"IRR(FRE42:FTD42)","v":{"$error":"#NUM!"}},{"$f":"IRRm(FRE42:FTD42)","v":1.0999999999999999},null,null,{"$f":"IRR(FRI42:FTH42)","v":{"$error":"#NUM!"}},{"$f":"IRRm(FRI42:FTH42)","v":1.0999999999999999},null,null,{"$f":"IRR(FRM42:FTL42)","v":{"$error":"#NUM!"}},{"$f":"IRRm(FRM42:FTL42)","v":1.0999999999999999},null,null,{"$f":"IRR(FRQ42:FTP42)","v":{"$error":"#NUM!"}},{"$f":"IRRm(FRQ42:FTP42)","v":1.0999999999999999},null,null,{"$f":"IRR(FRU42:FTT42)","v":{"$error":"#NUM!"}},{"$f":"IRRm(FRU42:FTT42)","v":1.0999999999999999},null,null,{"$f":"IRR(FRY42:FTX42)","v":{"$error":"#NUM!"}},{"$f":"IRRm(FRY42:FTX42)","v":1.0999999999999999},null,null,{"$f":"IRR(FSC42:FUB42)","v":{"$error":"#NUM!"}},{"$f":"IRRm(FSC42:FUB42)","v":1.0999999999999999},null,null,{"$f":"IRR(FSG42:FUF42)","v":{"$error":"#NUM!"}},{"$f":"IRRm(FSG42:FUF42)","v":1.0999999999999999},null,null,{"$f":"IRR(FSK42:FUJ42)","v":{"$error":"#NUM!"}},{"$f":"IRRm(FSK42:FUJ42)","v":1.0999999999999999},null,null,{"$f":"IRR(FSO42:FUN42)","v":{"$error":"#NUM!"}},{"$f":"IRRm(FSO42:FUN42)","v":1.0999999999999999},null,null,{"$f":"IRR(FSS42:FUR42)","v":{"$error":"#NUM!"}},{"$f":"IRRm(FSS42:FUR42)","v":1.0999999999999999},null,null,{"$f":"IRR(FSW42:FUV42)","v":{"$error":"#NUM!"}},{"$f":"IRRm(FSW42:FUV42)","v":1.0999999999999999},null,null,{"$f":"IRR(FTA42:FUZ42)","v":{"$error":"#NUM!"}},{"$f":"IRRm(FTA42:FUZ42)","v":1.0999999999999999},null,null,{"$f":"IRR(FTE42:FVD42)","v":{"$error":"#NUM!"}},{"$f":"IRRm(FTE42:FVD42)","v":1.0999999999999999},null,null,{"$f":"IRR(FTI42:FVH42)","v":{"$error":"#NUM!"}},{"$f":"IRRm(FTI42:FVH42)","v":1.0999999999999999},null,null,{"$f":"IRR(FTM42:FVL42)","v":{"$error":"#NUM!"}},{"$f":"IRRm(FTM42:FVL42)","v":1.0999999999999999},null,null,{"$f":"IRR(FTQ42:FVP42)","v":{"$error":"#NUM!"}},{"$f":"IRRm(FTQ42:FVP42)","v":1.0999999999999999},null,null,{"$f":"IRR(FTU42:FVT42)","v":{"$error":"#NUM!"}},{"$f":"IRRm(FTU42:FVT42)","v":1.0999999999999999},null,null,{"$f":"IRR(FTY42:FVX42)","v":{"$error":"#NUM!"}},{"$f":"IRRm(FTY42:FVX42)","v":1.0999999999999999},null,null,{"$f":"IRR(FUC42:FWB42)","v":{"$error":"#NUM!"}},{"$f":"IRRm(FUC42:FWB42)","v":1.0999999999999999},null,null,{"$f":"IRR(FUG42:FWF42)","v":{"$error":"#NUM!"}},{"$f":"IRRm(FUG42:FWF42)","v":1.0999999999999999},null,null,{"$f":"IRR(FUK42:FWJ42)","v":{"$error":"#NUM!"}},{"$f":"IRRm(FUK42:FWJ42)","v":1.0999999999999999},null,null,{"$f":"IRR(FUO42:FWN42)","v":{"$error":"#NUM!"}},{"$f":"IRRm(FUO42:FWN42)","v":1.0999999999999999},null,null,{"$f":"IRR(FUS42:FWR42)","v":{"$error":"#NUM!"}},{"$f":"IRRm(FUS42:FWR42)","v":1.0999999999999999},null,null,{"$f":"IRR(FUW42:FWV42)","v":{"$error":"#NUM!"}},{"$f":"IRRm(FUW42:FWV42)","v":1.0999999999999999},null,null,{"$f":"IRR(FVA42:FWZ42)","v":{"$error":"#NUM!"}},{"$f":"IRRm(FVA42:FWZ42)","v":1.0999999999999999},null,null,{"$f":"IRR(FVE42:FXD42)","v":{"$error":"#NUM!"}},{"$f":"IRRm(FVE42:FXD42)","v":1.0999999999999999},null,null,{"$f":"IRR(FVI42:FXH42)","v":{"$error":"#NUM!"}},{"$f":"IRRm(FVI42:FXH42)","v":1.0999999999999999},null,null,{"$f":"IRR(FVM42:FXL42)","v":{"$error":"#NUM!"}},{"$f":"IRRm(FVM42:FXL42)","v":1.0999999999999999},null,null,{"$f":"IRR(FVQ42:FXP42)","v":{"$error":"#NUM!"}},{"$f":"IRRm(FVQ42:FXP42)","v":1.0999999999999999},null,null,{"$f":"IRR(FVU42:FXT42)","v":{"$error":"#NUM!"}},{"$f":"IRRm(FVU42:FXT42)","v":1.0999999999999999},null,null,{"$f":"IRR(FVY42:FXX42)","v":{"$error":"#NUM!"}},{"$f":"IRRm(FVY42:FXX42)","v":1.0999999999999999},null,null,{"$f":"IRR(FWC42:FYB42)","v":{"$error":"#NUM!"}},{"$f":"IRRm(FWC42:FYB42)","v":1.0999999999999999},null,null,{"$f":"IRR(FWG42:FYF42)","v":{"$error":"#NUM!"}},{"$f":"IRRm(FWG42:FYF42)","v":1.0999999999999999},null,null,{"$f":"IRR(FWK42:FYJ42)","v":{"$error":"#NUM!"}},{"$f":"IRRm(FWK42:FYJ42)","v":1.0999999999999999},null,null,{"$f":"IRR(FWO42:FYN42)","v":{"$error":"#NUM!"}},{"$f":"IRRm(FWO42:FYN42)","v":1.0999999999999999},null,null,{"$f":"IRR(FWS42:FYR42)","v":{"$error":"#NUM!"}},{"$f":"IRRm(FWS42:FYR42)","v":1.0999999999999999},null,null,{"$f":"IRR(FWW42:FYV42)","v":{"$error":"#NUM!"}},{"$f":"IRRm(FWW42:FYV42)","v":1.0999999999999999},null,null,{"$f":"IRR(FXA42:FYZ42)","v":{"$error":"#NUM!"}},{"$f":"IRRm(FXA42:FYZ42)","v":1.0999999999999999},null,null,{"$f":"IRR(FXE42:FZD42)","v":{"$error":"#NUM!"}},{"$f":"IRRm(FXE42:FZD42)","v":1.0999999999999999},null,null,{"$f":"IRR(FXI42:FZH42)","v":{"$error":"#NUM!"}},{"$f":"IRRm(FXI42:FZH42)","v":1.0999999999999999},null,null,{"$f":"IRR(FXM42:FZL42)","v":{"$error":"#NUM!"}},{"$f":"IRRm(FXM42:FZL42)","v":1.0999999999999999},null,null,{"$f":"IRR(FXQ42:FZP42)","v":{"$error":"#NUM!"}},{"$f":"IRRm(FXQ42:FZP42)","v":1.0999999999999999},null,null,{"$f":"IRR(FXU42:FZT42)","v":{"$error":"#NUM!"}},{"$f":"IRRm(FXU42:FZT42)","v":1.0999999999999999},null,null,{"$f":"IRR(FXY42:FZX42)","v":{"$error":"#NUM!"}},{"$f":"IRRm(FXY42:FZX42)","v":1.0999999999999999},null,null,{"$f":"IRR(FYC42:GAB42)","v":{"$error":"#NUM!"}},{"$f":"IRRm(FYC42:GAB42)","v":1.0999999999999999},null,null,{"$f":"IRR(FYG42:GAF42)","v":{"$error":"#NUM!"}},{"$f":"IRRm(FYG42:GAF42)","v":1.0999999999999999},null,null,{"$f":"IRR(FYK42:GAJ42)","v":{"$error":"#NUM!"}},{"$f":"IRRm(FYK42:GAJ42)","v":1.0999999999999999},null,null,{"$f":"IRR(FYO42:GAN42)","v":{"$error":"#NUM!"}},{"$f":"IRRm(FYO42:GAN42)","v":1.0999999999999999},null,null,{"$f":"IRR(FYS42:GAR42)","v":{"$error":"#NUM!"}},{"$f":"IRRm(FYS42:GAR42)","v":1.0999999999999999},null,null,{"$f":"IRR(FYW42:GAV42)","v":{"$error":"#NUM!"}},{"$f":"IRRm(FYW42:GAV42)","v":1.0999999999999999},null,null,{"$f":"IRR(FZA42:GAZ42)","v":{"$error":"#NUM!"}},{"$f":"IRRm(FZA42:GAZ42)","v":1.0999999999999999},null,null,{"$f":"IRR(FZE42:GBD42)","v":{"$error":"#NUM!"}},{"$f":"IRRm(FZE42:GBD42)","v":1.0999999999999999},null,null,{"$f":"IRR(FZI42:GBH42)","v":{"$error":"#NUM!"}},{"$f":"IRRm(FZI42:GBH42)","v":1.0999999999999999},null,null,{"$f":"IRR(FZM42:GBL42)","v":{"$error":"#NUM!"}},{"$f":"IRRm(FZM42:GBL42)","v":1.0999999999999999},null,null,{"$f":"IRR(FZQ42:GBP42)","v":{"$error":"#NUM!"}},{"$f":"IRRm(FZQ42:GBP42)","v":1.0999999999999999},null,null,{"$f":"IRR(FZU42:GBT42)","v":{"$error":"#NUM!"}},{"$f":"IRRm(FZU42:GBT42)","v":1.0999999999999999},null,null,{"$f":"IRR(FZY42:GBX42)","v":{"$error":"#NUM!"}},{"$f":"IRRm(FZY42:GBX42)","v":1.0999999999999999},null,null,{"$f":"IRR(GAC42:GCB42)","v":{"$error":"#NUM!"}},{"$f":"IRRm(GAC42:GCB42)","v":1.0999999999999999},null,null,{"$f":"IRR(GAG42:GCF42)","v":{"$error":"#NUM!"}},{"$f":"IRRm(GAG42:GCF42)","v":1.0999999999999999},null,null,{"$f":"IRR(GAK42:GCJ42)","v":{"$error":"#NUM!"}},{"$f":"IRRm(GAK42:GCJ42)","v":1.0999999999999999},null,null,{"$f":"IRR(GAO42:GCN42)","v":{"$error":"#NUM!"}},{"$f":"IRRm(GAO42:GCN42)","v":1.0999999999999999},null,null,{"$f":"IRR(GAS42:GCR42)","v":{"$error":"#NUM!"}},{"$f":"IRRm(GAS42:GCR42)","v":1.0999999999999999},null,null,{"$f":"IRR(GAW42:GCV42)","v":{"$error":"#NUM!"}},{"$f":"IRRm(GAW42:GCV42)","v":1.0999999999999999},null,null,{"$f":"IRR(GBA42:GCZ42)","v":{"$error":"#NUM!"}},{"$f":"IRRm(GBA42:GCZ42)","v":1.0999999999999999},null,null,{"$f":"IRR(GBE42:GDD42)","v":{"$error":"#NUM!"}},{"$f":"IRRm(GBE42:GDD42)","v":1.0999999999999999},null,null,{"$f":"IRR(GBI42:GDH42)","v":{"$error":"#NUM!"}},{"$f":"IRRm(GBI42:GDH42)","v":1.0999999999999999},null,null,{"$f":"IRR(GBM42:GDL42)","v":{"$error":"#NUM!"}},{"$f":"IRRm(GBM42:GDL42)","v":1.0999999999999999},null,null,{"$f":"IRR(GBQ42:GDP42)","v":{"$error":"#NUM!"}},{"$f":"IRRm(GBQ42:GDP42)","v":1.0999999999999999},null,null,{"$f":"IRR(GBU42:GDT42)","v":{"$error":"#NUM!"}},{"$f":"IRRm(GBU42:GDT42)","v":1.0999999999999999},null,null,{"$f":"IRR(GBY42:GDX42)","v":{"$error":"#NUM!"}},{"$f":"IRRm(GBY42:GDX42)","v":1.0999999999999999},null,null,{"$f":"IRR(GCC42:GEB42)","v":{"$error":"#NUM!"}},{"$f":"IRRm(GCC42:GEB42)","v":1.0999999999999999},null,null,{"$f":"IRR(GCG42:GEF42)","v":{"$error":"#NUM!"}},{"$f":"IRRm(GCG42:GEF42)","v":1.0999999999999999},null,null,{"$f":"IRR(GCK42:GEJ42)","v":{"$error":"#NUM!"}},{"$f":"IRRm(GCK42:GEJ42)","v":1.0999999999999999},null,null,{"$f":"IRR(GCO42:GEN42)","v":{"$error":"#NUM!"}},{"$f":"IRRm(GCO42:GEN42)","v":1.0999999999999999},null,null,{"$f":"IRR(GCS42:GER42)","v":{"$error":"#NUM!"}},{"$f":"IRRm(GCS42:GER42)","v":1.0999999999999999},null,null,{"$f":"IRR(GCW42:GEV42)","v":{"$error":"#NUM!"}},{"$f":"IRRm(GCW42:GEV42)","v":1.0999999999999999},null,null,{"$f":"IRR(GDA42:GEZ42)","v":{"$error":"#NUM!"}},{"$f":"IRRm(GDA42:GEZ42)","v":1.0999999999999999},null,null,{"$f":"IRR(GDE42:GFD42)","v":{"$error":"#NUM!"}},{"$f":"IRRm(GDE42:GFD42)","v":1.0999999999999999},null,null,{"$f":"IRR(GDI42:GFH42)","v":{"$error":"#NUM!"}},{"$f":"IRRm(GDI42:GFH42)","v":1.0999999999999999},null,null,{"$f":"IRR(GDM42:GFL42)","v":{"$error":"#NUM!"}},{"$f":"IRRm(GDM42:GFL42)","v":1.0999999999999999},null,null,{"$f":"IRR(GDQ42:GFP42)","v":{"$error":"#NUM!"}},{"$f":"IRRm(GDQ42:GFP42)","v":1.0999999999999999},null,null,{"$f":"IRR(GDU42:GFT42)","v":{"$error":"#NUM!"}},{"$f":"IRRm(GDU42:GFT42)","v":1.0999999999999999},null,null,{"$f":"IRR(GDY42:GFX42)","v":{"$error":"#NUM!"}},{"$f":"IRRm(GDY42:GFX42)","v":1.0999999999999999},null,null,{"$f":"IRR(GEC42:GGB42)","v":{"$error":"#NUM!"}},{"$f":"IRRm(GEC42:GGB42)","v":1.0999999999999999},null,null,{"$f":"IRR(GEG42:GGF42)","v":{"$error":"#NUM!"}},{"$f":"IRRm(GEG42:GGF42)","v":1.0999999999999999},null,null,{"$f":"IRR(GEK42:GGJ42)","v":{"$error":"#NUM!"}},{"$f":"IRRm(GEK42:GGJ42)","v":1.0999999999999999},null,null,{"$f":"IRR(GEO42:GGN42)","v":{"$error":"#NUM!"}},{"$f":"IRRm(GEO42:GGN42)","v":1.0999999999999999},null,null,{"$f":"IRR(GES42:GGR42)","v":{"$error":"#NUM!"}},{"$f":"IRRm(GES42:GGR42)","v":1.0999999999999999},null,null,{"$f":"IRR(GEW42:GGV42)","v":{"$error":"#NUM!"}},{"$f":"IRRm(GEW42:GGV42)","v":1.0999999999999999},null,null,{"$f":"IRR(GFA42:GGZ42)","v":{"$error":"#NUM!"}},{"$f":"IRRm(GFA42:GGZ42)","v":1.0999999999999999},null,null,{"$f":"IRR(GFE42:GHD42)","v":{"$error":"#NUM!"}},{"$f":"IRRm(GFE42:GHD42)","v":1.0999999999999999},null,null,{"$f":"IRR(GFI42:GHH42)","v":{"$error":"#NUM!"}},{"$f":"IRRm(GFI42:GHH42)","v":1.0999999999999999},null,null,{"$f":"IRR(GFM42:GHL42)","v":{"$error":"#NUM!"}},{"$f":"IRRm(GFM42:GHL42)","v":1.0999999999999999},null,null,{"$f":"IRR(GFQ42:GHP42)","v":{"$error":"#NUM!"}},{"$f":"IRRm(GFQ42:GHP42)","v":1.0999999999999999},null,null,{"$f":"IRR(GFU42:GHT42)","v":{"$error":"#NUM!"}},{"$f":"IRRm(GFU42:GHT42)","v":1.0999999999999999},null,null,{"$f":"IRR(GFY42:GHX42)","v":{"$error":"#NUM!"}},{"$f":"IRRm(GFY42:GHX42)","v":1.0999999999999999},null,null,{"$f":"IRR(GGC42:GIB42)","v":{"$error":"#NUM!"}},{"$f":"IRRm(GGC42:GIB42)","v":1.0999999999999999},null,null,{"$f":"IRR(GGG42:GIF42)","v":{"$error":"#NUM!"}},{"$f":"IRRm(GGG42:GIF42)","v":1.0999999999999999},null,null,{"$f":"IRR(GGK42:GIJ42)","v":{"$error":"#NUM!"}},{"$f":"IRRm(GGK42:GIJ42)","v":1.0999999999999999},null,null,{"$f":"IRR(GGO42:GIN42)","v":{"$error":"#NUM!"}},{"$f":"IRRm(GGO42:GIN42)","v":1.0999999999999999},null,null,{"$f":"IRR(GGS42:GIR42)","v":{"$error":"#NUM!"}},{"$f":"IRRm(GGS42:GIR42)","v":1.0999999999999999},null,null,{"$f":"IRR(GGW42:GIV42)","v":{"$error":"#NUM!"}},{"$f":"IRRm(GGW42:GIV42)","v":1.0999999999999999},null,null,{"$f":"IRR(GHA42:GIZ42)","v":{"$error":"#NUM!"}},{"$f":"IRRm(GHA42:GIZ42)","v":1.0999999999999999},null,null,{"$f":"IRR(GHE42:GJD42)","v":{"$error":"#NUM!"}},{"$f":"IRRm(GHE42:GJD42)","v":1.0999999999999999},null,null,{"$f":"IRR(GHI42:GJH42)","v":{"$error":"#NUM!"}},{"$f":"IRRm(GHI42:GJH42)","v":1.0999999999999999},null,null,{"$f":"IRR(GHM42:GJL42)","v":{"$error":"#NUM!"}},{"$f":"IRRm(GHM42:GJL42)","v":1.0999999999999999},null,null,{"$f":"IRR(GHQ42:GJP42)","v":{"$error":"#NUM!"}},{"$f":"IRRm(GHQ42:GJP42)","v":1.0999999999999999},null,null,{"$f":"IRR(GHU42:GJT42)","v":{"$error":"#NUM!"}},{"$f":"IRRm(GHU42:GJT42)","v":1.0999999999999999},null,null,{"$f":"IRR(GHY42:GJX42)","v":{"$error":"#NUM!"}},{"$f":"IRRm(GHY42:GJX42)","v":1.0999999999999999},null,null,{"$f":"IRR(GIC42:GKB42)","v":{"$error":"#NUM!"}},{"$f":"IRRm(GIC42:GKB42)","v":1.0999999999999999},null,null,{"$f":"IRR(GIG42:GKF42)","v":{"$error":"#NUM!"}},{"$f":"IRRm(GIG42:GKF42)","v":1.0999999999999999},null,null,{"$f":"IRR(GIK42:GKJ42)","v":{"$error":"#NUM!"}},{"$f":"IRRm(GIK42:GKJ42)","v":1.0999999999999999},null,null,{"$f":"IRR(GIO42:GKN42)","v":{"$error":"#NUM!"}},{"$f":"IRRm(GIO42:GKN42)","v":1.0999999999999999},null,null,{"$f":"IRR(GIS42:GKR42)","v":{"$error":"#NUM!"}},{"$f":"IRRm(GIS42:GKR42)","v":1.0999999999999999},null,null,{"$f":"IRR(GIW42:GKV42)","v":{"$error":"#NUM!"}},{"$f":"IRRm(GIW42:GKV42)","v":1.0999999999999999},null,null,{"$f":"IRR(GJA42:GKZ42)","v":{"$error":"#NUM!"}},{"$f":"IRRm(GJA42:GKZ42)","v":1.0999999999999999},null,null,{"$f":"IRR(GJE42:GLD42)","v":{"$error":"#NUM!"}},{"$f":"IRRm(GJE42:GLD42)","v":1.0999999999999999},null,null,{"$f":"IRR(GJI42:GLH42)","v":{"$error":"#NUM!"}},{"$f":"IRRm(GJI42:GLH42)","v":1.0999999999999999},null,null,{"$f":"IRR(GJM42:GLL42)","v":{"$error":"#NUM!"}},{"$f":"IRRm(GJM42:GLL42)","v":1.0999999999999999},null,null,{"$f":"IRR(GJQ42:GLP42)","v":{"$error":"#NUM!"}},{"$f":"IRRm(GJQ42:GLP42)","v":1.0999999999999999},null,null,{"$f":"IRR(GJU42:GLT42)","v":{"$error":"#NUM!"}},{"$f":"IRRm(GJU42:GLT42)","v":1.0999999999999999},null,null,{"$f":"IRR(GJY42:GLX42)","v":{"$error":"#NUM!"}},{"$f":"IRRm(GJY42:GLX42)","v":1.0999999999999999},null,null,{"$f":"IRR(GKC42:GMB42)","v":{"$error":"#NUM!"}},{"$f":"IRRm(GKC42:GMB42)","v":1.0999999999999999},null,null,{"$f":"IRR(GKG42:GMF42)","v":{"$error":"#NUM!"}},{"$f":"IRRm(GKG42:GMF42)","v":1.0999999999999999},null,null,{"$f":"IRR(GKK42:GMJ42)","v":{"$error":"#NUM!"}},{"$f":"IRRm(GKK42:GMJ42)","v":1.0999999999999999},null,null,{"$f":"IRR(GKO42:GMN42)","v":{"$error":"#NUM!"}},{"$f":"IRRm(GKO42:GMN42)","v":1.0999999999999999},null,null,{"$f":"IRR(GKS42:GMR42)","v":{"$error":"#NUM!"}},{"$f":"IRRm(GKS42:GMR42)","v":1.0999999999999999},null,null,{"$f":"IRR(GKW42:GMV42)","v":{"$error":"#NUM!"}},{"$f":"IRRm(GKW42:GMV42)","v":1.0999999999999999},null,null,{"$f":"IRR(GLA42:GMZ42)","v":{"$error":"#NUM!"}},{"$f":"IRRm(GLA42:GMZ42)","v":1.0999999999999999},null,null,{"$f":"IRR(GLE42:GND42)","v":{"$error":"#NUM!"}},{"$f":"IRRm(GLE42:GND42)","v":1.0999999999999999},null,null,{"$f":"IRR(GLI42:GNH42)","v":{"$error":"#NUM!"}},{"$f":"IRRm(GLI42:GNH42)","v":1.0999999999999999},null,null,{"$f":"IRR(GLM42:GNL42)","v":{"$error":"#NUM!"}},{"$f":"IRRm(GLM42:GNL42)","v":1.0999999999999999},null,null,{"$f":"IRR(GLQ42:GNP42)","v":{"$error":"#NUM!"}},{"$f":"IRRm(GLQ42:GNP42)","v":1.0999999999999999},null,null,{"$f":"IRR(GLU42:GNT42)","v":{"$error":"#NUM!"}},{"$f":"IRRm(GLU42:GNT42)","v":1.0999999999999999},null,null,{"$f":"IRR(GLY42:GNX42)","v":{"$error":"#NUM!"}},{"$f":"IRRm(GLY42:GNX42)","v":1.0999999999999999},null,null,{"$f":"IRR(GMC42:GOB42)","v":{"$error":"#NUM!"}},{"$f":"IRRm(GMC42:GOB42)","v":1.0999999999999999},null,null,{"$f":"IRR(GMG42:GOF42)","v":{"$error":"#NUM!"}},{"$f":"IRRm(GMG42:GOF42)","v":1.0999999999999999},null,null,{"$f":"IRR(GMK42:GOJ42)","v":{"$error":"#NUM!"}},{"$f":"IRRm(GMK42:GOJ42)","v":1.0999999999999999},null,null,{"$f":"IRR(GMO42:GON42)","v":{"$error":"#NUM!"}},{"$f":"IRRm(GMO42:GON42)","v":1.0999999999999999},null,null,{"$f":"IRR(GMS42:GOR42)","v":{"$error":"#NUM!"}},{"$f":"IRRm(GMS42:GOR42)","v":1.0999999999999999},null,null,{"$f":"IRR(GMW42:GOV42)","v":{"$error":"#NUM!"}},{"$f":"IRRm(GMW42:GOV42)","v":1.0999999999999999},null,null,{"$f":"IRR(GNA42:GOZ42)","v":{"$error":"#NUM!"}},{"$f":"IRRm(GNA42:GOZ42)","v":1.0999999999999999},null,null,{"$f":"IRR(GNE42:GPD42)","v":{"$error":"#NUM!"}},{"$f":"IRRm(GNE42:GPD42)","v":1.0999999999999999},null,null,{"$f":"IRR(GNI42:GPH42)","v":{"$error":"#NUM!"}},{"$f":"IRRm(GNI42:GPH42)","v":1.0999999999999999},null,null,{"$f":"IRR(GNM42:GPL42)","v":{"$error":"#NUM!"}},{"$f":"IRRm(GNM42:GPL42)","v":1.0999999999999999},null,null,{"$f":"IRR(GNQ42:GPP42)","v":{"$error":"#NUM!"}},{"$f":"IRRm(GNQ42:GPP42)","v":1.0999999999999999},null,null,{"$f":"IRR(GNU42:GPT42)","v":{"$error":"#NUM!"}},{"$f":"IRRm(GNU42:GPT42)","v":1.0999999999999999},null,null,{"$f":"IRR(GNY42:GPX42)","v":{"$error":"#NUM!"}},{"$f":"IRRm(GNY42:GPX42)","v":1.0999999999999999},null,null,{"$f":"IRR(GOC42:GQB42)","v":{"$error":"#NUM!"}},{"$f":"IRRm(GOC42:GQB42)","v":1.0999999999999999},null,null,{"$f":"IRR(GOG42:GQF42)","v":{"$error":"#NUM!"}},{"$f":"IRRm(GOG42:GQF42)","v":1.0999999999999999},null,null,{"$f":"IRR(GOK42:GQJ42)","v":{"$error":"#NUM!"}},{"$f":"IRRm(GOK42:GQJ42)","v":1.0999999999999999},null,null,{"$f":"IRR(GOO42:GQN42)","v":{"$error":"#NUM!"}},{"$f":"IRRm(GOO42:GQN42)","v":1.0999999999999999},null,null,{"$f":"IRR(GOS42:GQR42)","v":{"$error":"#NUM!"}},{"$f":"IRRm(GOS42:GQR42)","v":1.0999999999999999},null,null,{"$f":"IRR(GOW42:GQV42)","v":{"$error":"#NUM!"}},{"$f":"IRRm(GOW42:GQV42)","v":1.0999999999999999},null,null,{"$f":"IRR(GPA42:GQZ42)","v":{"$error":"#NUM!"}},{"$f":"IRRm(GPA42:GQZ42)","v":1.0999999999999999},null,null,{"$f":"IRR(GPE42:GRD42)","v":{"$error":"#NUM!"}},{"$f":"IRRm(GPE42:GRD42)","v":1.0999999999999999},null,null,{"$f":"IRR(GPI42:GRH42)","v":{"$error":"#NUM!"}},{"$f":"IRRm(GPI42:GRH42)","v":1.0999999999999999},null,null,{"$f":"IRR(GPM42:GRL42)","v":{"$error":"#NUM!"}},{"$f":"IRRm(GPM42:GRL42)","v":1.0999999999999999},null,null,{"$f":"IRR(GPQ42:GRP42)","v":{"$error":"#NUM!"}},{"$f":"IRRm(GPQ42:GRP42)","v":1.0999999999999999},null,null,{"$f":"IRR(GPU42:GRT42)","v":{"$error":"#NUM!"}},{"$f":"IRRm(GPU42:GRT42)","v":1.0999999999999999},null,null,{"$f":"IRR(GPY42:GRX42)","v":{"$error":"#NUM!"}},{"$f":"IRRm(GPY42:GRX42)","v":1.0999999999999999},null,null,{"$f":"IRR(GQC42:GSB42)","v":{"$error":"#NUM!"}},{"$f":"IRRm(GQC42:GSB42)","v":1.0999999999999999},null,null,{"$f":"IRR(GQG42:GSF42)","v":{"$error":"#NUM!"}},{"$f":"IRRm(GQG42:GSF42)","v":1.0999999999999999},null,null,{"$f":"IRR(GQK42:GSJ42)","v":{"$error":"#NUM!"}},{"$f":"IRRm(GQK42:GSJ42)","v":1.0999999999999999},null,null,{"$f":"IRR(GQO42:GSN42)","v":{"$error":"#NUM!"}},{"$f":"IRRm(GQO42:GSN42)","v":1.0999999999999999},null,null,{"$f":"IRR(GQS42:GSR42)","v":{"$error":"#NUM!"}},{"$f":"IRRm(GQS42:GSR42)","v":1.0999999999999999},null,null,{"$f":"IRR(GQW42:GSV42)","v":{"$error":"#NUM!"}},{"$f":"IRRm(GQW42:GSV42)","v":1.0999999999999999},null,null,{"$f":"IRR(GRA42:GSZ42)","v":{"$error":"#NUM!"}},{"$f":"IRRm(GRA42:GSZ42)","v":1.0999999999999999},null,null,{"$f":"IRR(GRE42:GTD42)","v":{"$error":"#NUM!"}},{"$f":"IRRm(GRE42:GTD42)","v":1.0999999999999999},null,null,{"$f":"IRR(GRI42:GTH42)","v":{"$error":"#NUM!"}},{"$f":"IRRm(GRI42:GTH42)","v":1.0999999999999999},null,null,{"$f":"IRR(GRM42:GTL42)","v":{"$error":"#NUM!"}},{"$f":"IRRm(GRM42:GTL42)","v":1.0999999999999999},null,null,{"$f":"IRR(GRQ42:GTP42)","v":{"$error":"#NUM!"}},{"$f":"IRRm(GRQ42:GTP42)","v":1.0999999999999999},null,null,{"$f":"IRR(GRU42:GTT42)","v":{"$error":"#NUM!"}},{"$f":"IRRm(GRU42:GTT42)","v":1.0999999999999999},null,null,{"$f":"IRR(GRY42:GTX42)","v":{"$error":"#NUM!"}},{"$f":"IRRm(GRY42:GTX42)","v":1.0999999999999999},null,null,{"$f":"IRR(GSC42:GUB42)","v":{"$error":"#NUM!"}},{"$f":"IRRm(GSC42:GUB42)","v":1.0999999999999999},null,null,{"$f":"IRR(GSG42:GUF42)","v":{"$error":"#NUM!"}},{"$f":"IRRm(GSG42:GUF42)","v":1.0999999999999999},null,null,{"$f":"IRR(GSK42:GUJ42)","v":{"$error":"#NUM!"}},{"$f":"IRRm(GSK42:GUJ42)","v":1.0999999999999999},null,null,{"$f":"IRR(GSO42:GUN42)","v":{"$error":"#NUM!"}},{"$f":"IRRm(GSO42:GUN42)","v":1.0999999999999999},null,null,{"$f":"IRR(GSS42:GUR42)","v":{"$error":"#NUM!"}},{"$f":"IRRm(GSS42:GUR42)","v":1.0999999999999999},null,null,{"$f":"IRR(GSW42:GUV42)","v":{"$error":"#NUM!"}},{"$f":"IRRm(GSW42:GUV42)","v":1.0999999999999999},null,null,{"$f":"IRR(GTA42:GUZ42)","v":{"$error":"#NUM!"}},{"$f":"IRRm(GTA42:GUZ42)","v":1.0999999999999999},null,null,{"$f":"IRR(GTE42:GVD42)","v":{"$error":"#NUM!"}},{"$f":"IRRm(GTE42:GVD42)","v":1.0999999999999999},null,null,{"$f":"IRR(GTI42:GVH42)","v":{"$error":"#NUM!"}},{"$f":"IRRm(GTI42:GVH42)","v":1.0999999999999999},null,null,{"$f":"IRR(GTM42:GVL42)","v":{"$error":"#NUM!"}},{"$f":"IRRm(GTM42:GVL42)","v":1.0999999999999999},null,null,{"$f":"IRR(GTQ42:GVP42)","v":{"$error":"#NUM!"}},{"$f":"IRRm(GTQ42:GVP42)","v":1.0999999999999999},null,null,{"$f":"IRR(GTU42:GVT42)","v":{"$error":"#NUM!"}},{"$f":"IRRm(GTU42:GVT42)","v":1.0999999999999999},null,null,{"$f":"IRR(GTY42:GVX42)","v":{"$error":"#NUM!"}},{"$f":"IRRm(GTY42:GVX42)","v":1.0999999999999999},null,null,{"$f":"IRR(GUC42:GWB42)","v":{"$error":"#NUM!"}},{"$f":"IRRm(GUC42:GWB42)","v":1.0999999999999999},null,null,{"$f":"IRR(GUG42:GWF42)","v":{"$error":"#NUM!"}},{"$f":"IRRm(GUG42:GWF42)","v":1.0999999999999999},null,null,{"$f":"IRR(GUK42:GWJ42)","v":{"$error":"#NUM!"}},{"$f":"IRRm(GUK42:GWJ42)","v":1.0999999999999999},null,null,{"$f":"IRR(GUO42:GWN42)","v":{"$error":"#NUM!"}},{"$f":"IRRm(GUO42:GWN42)","v":1.0999999999999999},null,null,{"$f":"IRR(GUS42:GWR42)","v":{"$error":"#NUM!"}},{"$f":"IRRm(GUS42:GWR42)","v":1.0999999999999999},null,null,{"$f":"IRR(GUW42:GWV42)","v":{"$error":"#NUM!"}},{"$f":"IRRm(GUW42:GWV42)","v":1.0999999999999999},null,null,{"$f":"IRR(GVA42:GWZ42)","v":{"$error":"#NUM!"}},{"$f":"IRRm(GVA42:GWZ42)","v":1.0999999999999999},null,null,{"$f":"IRR(GVE42:GXD42)","v":{"$error":"#NUM!"}},{"$f":"IRRm(GVE42:GXD42)","v":1.0999999999999999},null,null,{"$f":"IRR(GVI42:GXH42)","v":{"$error":"#NUM!"}},{"$f":"IRRm(GVI42:GXH42)","v":1.0999999999999999},null,null,{"$f":"IRR(GVM42:GXL42)","v":{"$error":"#NUM!"}},{"$f":"IRRm(GVM42:GXL42)","v":1.0999999999999999},null,null,{"$f":"IRR(GVQ42:GXP42)","v":{"$error":"#NUM!"}},{"$f":"IRRm(GVQ42:GXP42)","v":1.0999999999999999},null,null,{"$f":"IRR(GVU42:GXT42)","v":{"$error":"#NUM!"}},{"$f":"IRRm(GVU42:GXT42)","v":1.0999999999999999},null,null,{"$f":"IRR(GVY42:GXX42)","v":{"$error":"#NUM!"}},{"$f":"IRRm(GVY42:GXX42)","v":1.0999999999999999},null,null,{"$f":"IRR(GWC42:GYB42)","v":{"$error":"#NUM!"}},{"$f":"IRRm(GWC42:GYB42)","v":1.0999999999999999},null,null,{"$f":"IRR(GWG42:GYF42)","v":{"$error":"#NUM!"}},{"$f":"IRRm(GWG42:GYF42)","v":1.0999999999999999},null,null,{"$f":"IRR(GWK42:GYJ42)","v":{"$error":"#NUM!"}},{"$f":"IRRm(GWK42:GYJ42)","v":1.0999999999999999},null,null,{"$f":"IRR(GWO42:GYN42)","v":{"$error":"#NUM!"}},{"$f":"IRRm(GWO42:GYN42)","v":1.0999999999999999},null,null,{"$f":"IRR(GWS42:GYR42)","v":{"$error":"#NUM!"}},{"$f":"IRRm(GWS42:GYR42)","v":1.0999999999999999},null,null,{"$f":"IRR(GWW42:GYV42)","v":{"$error":"#NUM!"}},{"$f":"IRRm(GWW42:GYV42)","v":1.0999999999999999},null,null,{"$f":"IRR(GXA42:GYZ42)","v":{"$error":"#NUM!"}},{"$f":"IRRm(GXA42:GYZ42)","v":1.0999999999999999},null,null,{"$f":"IRR(GXE42:GZD42)","v":{"$error":"#NUM!"}},{"$f":"IRRm(GXE42:GZD42)","v":1.0999999999999999},null,null,{"$f":"IRR(GXI42:GZH42)","v":{"$error":"#NUM!"}},{"$f":"IRRm(GXI42:GZH42)","v":1.0999999999999999},null,null,{"$f":"IRR(GXM42:GZL42)","v":{"$error":"#NUM!"}},{"$f":"IRRm(GXM42:GZL42)","v":1.0999999999999999},null,null,{"$f":"IRR(GXQ42:GZP42)","v":{"$error":"#NUM!"}},{"$f":"IRRm(GXQ42:GZP42)","v":1.0999999999999999},null,null,{"$f":"IRR(GXU42:GZT42)","v":{"$error":"#NUM!"}},{"$f":"IRRm(GXU42:GZT42)","v":1.0999999999999999},null,null,{"$f":"IRR(GXY42:GZX42)","v":{"$error":"#NUM!"}},{"$f":"IRRm(GXY42:GZX42)","v":1.0999999999999999},null,null,{"$f":"IRR(GYC42:HAB42)","v":{"$error":"#NUM!"}},{"$f":"IRRm(GYC42:HAB42)","v":1.0999999999999999},null,null,{"$f":"IRR(GYG42:HAF42)","v":{"$error":"#NUM!"}},{"$f":"IRRm(GYG42:HAF42)","v":1.0999999999999999},null,null,{"$f":"IRR(GYK42:HAJ42)","v":{"$error":"#NUM!"}},{"$f":"IRRm(GYK42:HAJ42)","v":1.0999999999999999},null,null,{"$f":"IRR(GYO42:HAN42)","v":{"$error":"#NUM!"}},{"$f":"IRRm(GYO42:HAN42)","v":1.0999999999999999},null,null,{"$f":"IRR(GYS42:HAR42)","v":{"$error":"#NUM!"}},{"$f":"IRRm(GYS42:HAR42)","v":1.0999999999999999},null,null,{"$f":"IRR(GYW42:HAV42)","v":{"$error":"#NUM!"}},{"$f":"IRRm(GYW42:HAV42)","v":1.0999999999999999},null,null,{"$f":"IRR(GZA42:HAZ42)","v":{"$error":"#NUM!"}},{"$f":"IRRm(GZA42:HAZ42)","v":1.0999999999999999},null,null,{"$f":"IRR(GZE42:HBD42)","v":{"$error":"#NUM!"}},{"$f":"IRRm(GZE42:HBD42)","v":1.0999999999999999},null,null,{"$f":"IRR(GZI42:HBH42)","v":{"$error":"#NUM!"}},{"$f":"IRRm(GZI42:HBH42)","v":1.0999999999999999},null,null,{"$f":"IRR(GZM42:HBL42)","v":{"$error":"#NUM!"}},{"$f":"IRRm(GZM42:HBL42)","v":1.0999999999999999},null,null,{"$f":"IRR(GZQ42:HBP42)","v":{"$error":"#NUM!"}},{"$f":"IRRm(GZQ42:HBP42)","v":1.0999999999999999},null,null,{"$f":"IRR(GZU42:HBT42)","v":{"$error":"#NUM!"}},{"$f":"IRRm(GZU42:HBT42)","v":1.0999999999999999},null,null,{"$f":"IRR(GZY42:HBX42)","v":{"$error":"#NUM!"}},{"$f":"IRRm(GZY42:HBX42)","v":1.0999999999999999},null,null,{"$f":"IRR(HAC42:HCB42)","v":{"$error":"#NUM!"}},{"$f":"IRRm(HAC42:HCB42)","v":1.0999999999999999},null,null,{"$f":"IRR(HAG42:HCF42)","v":{"$error":"#NUM!"}},{"$f":"IRRm(HAG42:HCF42)","v":1.0999999999999999},null,null,{"$f":"IRR(HAK42:HCJ42)","v":{"$error":"#NUM!"}},{"$f":"IRRm(HAK42:HCJ42)","v":1.0999999999999999},null,null,{"$f":"IRR(HAO42:HCN42)","v":{"$error":"#NUM!"}},{"$f":"IRRm(HAO42:HCN42)","v":1.0999999999999999},null,null,{"$f":"IRR(HAS42:HCR42)","v":{"$error":"#NUM!"}},{"$f":"IRRm(HAS42:HCR42)","v":1.0999999999999999},null,null,{"$f":"IRR(HAW42:HCV42)","v":{"$error":"#NUM!"}},{"$f":"IRRm(HAW42:HCV42)","v":1.0999999999999999},null,null,{"$f":"IRR(HBA42:HCZ42)","v":{"$error":"#NUM!"}},{"$f":"IRRm(HBA42:HCZ42)","v":1.0999999999999999},null,null,{"$f":"IRR(HBE42:HDD42)","v":{"$error":"#NUM!"}},{"$f":"IRRm(HBE42:HDD42)","v":1.0999999999999999},null,null,{"$f":"IRR(HBI42:HDH42)","v":{"$error":"#NUM!"}},{"$f":"IRRm(HBI42:HDH42)","v":1.0999999999999999},null,null,{"$f":"IRR(HBM42:HDL42)","v":{"$error":"#NUM!"}},{"$f":"IRRm(HBM42:HDL42)","v":1.0999999999999999},null,null,{"$f":"IRR(HBQ42:HDP42)","v":{"$error":"#NUM!"}},{"$f":"IRRm(HBQ42:HDP42)","v":1.0999999999999999},null,null,{"$f":"IRR(HBU42:HDT42)","v":{"$error":"#NUM!"}},{"$f":"IRRm(HBU42:HDT42)","v":1.0999999999999999},null,null,{"$f":"IRR(HBY42:HDX42)","v":{"$error":"#NUM!"}},{"$f":"IRRm(HBY42:HDX42)","v":1.0999999999999999},null,null,{"$f":"IRR(HCC42:HEB42)","v":{"$error":"#NUM!"}},{"$f":"IRRm(HCC42:HEB42)","v":1.0999999999999999},null,null,{"$f":"IRR(HCG42:HEF42)","v":{"$error":"#NUM!"}},{"$f":"IRRm(HCG42:HEF42)","v":1.0999999999999999},null,null,{"$f":"IRR(HCK42:HEJ42)","v":{"$error":"#NUM!"}},{"$f":"IRRm(HCK42:HEJ42)","v":1.0999999999999999},null,null,{"$f":"IRR(HCO42:HEN42)","v":{"$error":"#NUM!"}},{"$f":"IRRm(HCO42:HEN42)","v":1.0999999999999999},null,null,{"$f":"IRR(HCS42:HER42)","v":{"$error":"#NUM!"}},{"$f":"IRRm(HCS42:HER42)","v":1.0999999999999999},null,null,{"$f":"IRR(HCW42:HEV42)","v":{"$error":"#NUM!"}},{"$f":"IRRm(HCW42:HEV42)","v":1.0999999999999999},null,null,{"$f":"IRR(HDA42:HEZ42)","v":{"$error":"#NUM!"}},{"$f":"IRRm(HDA42:HEZ42)","v":1.0999999999999999},null,null,{"$f":"IRR(HDE42:HFD42)","v":{"$error":"#NUM!"}},{"$f":"IRRm(HDE42:HFD42)","v":1.0999999999999999},null,null,{"$f":"IRR(HDI42:HFH42)","v":{"$error":"#NUM!"}},{"$f":"IRRm(HDI42:HFH42)","v":1.0999999999999999},null,null,{"$f":"IRR(HDM42:HFL42)","v":{"$error":"#NUM!"}},{"$f":"IRRm(HDM42:HFL42)","v":1.0999999999999999},null,null,{"$f":"IRR(HDQ42:HFP42)","v":{"$error":"#NUM!"}},{"$f":"IRRm(HDQ42:HFP42)","v":1.0999999999999999},null,null,{"$f":"IRR(HDU42:HFT42)","v":{"$error":"#NUM!"}},{"$f":"IRRm(HDU42:HFT42)","v":1.0999999999999999},null,null,{"$f":"IRR(HDY42:HFX42)","v":{"$error":"#NUM!"}},{"$f":"IRRm(HDY42:HFX42)","v":1.0999999999999999},null,null,{"$f":"IRR(HEC42:HGB42)","v":{"$error":"#NUM!"}},{"$f":"IRRm(HEC42:HGB42)","v":1.0999999999999999},null,null,{"$f":"IRR(HEG42:HGF42)","v":{"$error":"#NUM!"}},{"$f":"IRRm(HEG42:HGF42)","v":1.0999999999999999},null,null,{"$f":"IRR(HEK42:HGJ42)","v":{"$error":"#NUM!"}},{"$f":"IRRm(HEK42:HGJ42)","v":1.0999999999999999},null,null,{"$f":"IRR(HEO42:HGN42)","v":{"$error":"#NUM!"}},{"$f":"IRRm(HEO42:HGN42)","v":1.0999999999999999},null,null,{"$f":"IRR(HES42:HGR42)","v":{"$error":"#NUM!"}},{"$f":"IRRm(HES42:HGR42)","v":1.0999999999999999},null,null,{"$f":"IRR(HEW42:HGV42)","v":{"$error":"#NUM!"}},{"$f":"IRRm(HEW42:HGV42)","v":1.0999999999999999},null,null,{"$f":"IRR(HFA42:HGZ42)","v":{"$error":"#NUM!"}},{"$f":"IRRm(HFA42:HGZ42)","v":1.0999999999999999},null,null,{"$f":"IRR(HFE42:HHD42)","v":{"$error":"#NUM!"}},{"$f":"IRRm(HFE42:HHD42)","v":1.0999999999999999},null,null,{"$f":"IRR(HFI42:HHH42)","v":{"$error":"#NUM!"}},{"$f":"IRRm(HFI42:HHH42)","v":1.0999999999999999},null,null,{"$f":"IRR(HFM42:HHL42)","v":{"$error":"#NUM!"}},{"$f":"IRRm(HFM42:HHL42)","v":1.0999999999999999},null,null,{"$f":"IRR(HFQ42:HHP42)","v":{"$error":"#NUM!"}},{"$f":"IRRm(HFQ42:HHP42)","v":1.0999999999999999},null,null,{"$f":"IRR(HFU42:HHT42)","v":{"$error":"#NUM!"}},{"$f":"IRRm(HFU42:HHT42)","v":1.0999999999999999},null,null,{"$f":"IRR(HFY42:HHX42)","v":{"$error":"#NUM!"}},{"$f":"IRRm(HFY42:HHX42)","v":1.0999999999999999},null,null,{"$f":"IRR(HGC42:HIB42)","v":{"$error":"#NUM!"}},{"$f":"IRRm(HGC42:HIB42)","v":1.0999999999999999},null,null,{"$f":"IRR(HGG42:HIF42)","v":{"$error":"#NUM!"}},{"$f":"IRRm(HGG42:HIF42)","v":1.0999999999999999},null,null,{"$f":"IRR(HGK42:HIJ42)","v":{"$error":"#NUM!"}},{"$f":"IRRm(HGK42:HIJ42)","v":1.0999999999999999},null,null,{"$f":"IRR(HGO42:HIN42)","v":{"$error":"#NUM!"}},{"$f":"IRRm(HGO42:HIN42)","v":1.0999999999999999},null,null,{"$f":"IRR(HGS42:HIR42)","v":{"$error":"#NUM!"}},{"$f":"IRRm(HGS42:HIR42)","v":1.0999999999999999},null,null,{"$f":"IRR(HGW42:HIV42)","v":{"$error":"#NUM!"}},{"$f":"IRRm(HGW42:HIV42)","v":1.0999999999999999},null,null,{"$f":"IRR(HHA42:HIZ42)","v":{"$error":"#NUM!"}},{"$f":"IRRm(HHA42:HIZ42)","v":1.0999999999999999},null,null,{"$f":"IRR(HHE42:HJD42)","v":{"$error":"#NUM!"}},{"$f":"IRRm(HHE42:HJD42)","v":1.0999999999999999},null,null,{"$f":"IRR(HHI42:HJH42)","v":{"$error":"#NUM!"}},{"$f":"IRRm(HHI42:HJH42)","v":1.0999999999999999},null,null,{"$f":"IRR(HHM42:HJL42)","v":{"$error":"#NUM!"}},{"$f":"IRRm(HHM42:HJL42)","v":1.0999999999999999},null,null,{"$f":"IRR(HHQ42:HJP42)","v":{"$error":"#NUM!"}},{"$f":"IRRm(HHQ42:HJP42)","v":1.0999999999999999},null,null,{"$f":"IRR(HHU42:HJT42)","v":{"$error":"#NUM!"}},{"$f":"IRRm(HHU42:HJT42)","v":1.0999999999999999},null,null,{"$f":"IRR(HHY42:HJX42)","v":{"$error":"#NUM!"}},{"$f":"IRRm(HHY42:HJX42)","v":1.0999999999999999},null,null,{"$f":"IRR(HIC42:HKB42)","v":{"$error":"#NUM!"}},{"$f":"IRRm(HIC42:HKB42)","v":1.0999999999999999},null,null,{"$f":"IRR(HIG42:HKF42)","v":{"$error":"#NUM!"}},{"$f":"IRRm(HIG42:HKF42)","v":1.0999999999999999},null,null,{"$f":"IRR(HIK42:HKJ42)","v":{"$error":"#NUM!"}},{"$f":"IRRm(HIK42:HKJ42)","v":1.0999999999999999},null,null,{"$f":"IRR(HIO42:HKN42)","v":{"$error":"#NUM!"}},{"$f":"IRRm(HIO42:HKN42)","v":1.0999999999999999},null,null,{"$f":"IRR(HIS42:HKR42)","v":{"$error":"#NUM!"}},{"$f":"IRRm(HIS42:HKR42)","v":1.0999999999999999},null,null,{"$f":"IRR(HIW42:HKV42)","v":{"$error":"#NUM!"}},{"$f":"IRRm(HIW42:HKV42)","v":1.0999999999999999},null,null,{"$f":"IRR(HJA42:HKZ42)","v":{"$error":"#NUM!"}},{"$f":"IRRm(HJA42:HKZ42)","v":1.0999999999999999},null,null,{"$f":"IRR(HJE42:HLD42)","v":{"$error":"#NUM!"}},{"$f":"IRRm(HJE42:HLD42)","v":1.0999999999999999},null,null,{"$f":"IRR(HJI42:HLH42)","v":{"$error":"#NUM!"}},{"$f":"IRRm(HJI42:HLH42)","v":1.0999999999999999},null,null,{"$f":"IRR(HJM42:HLL42)","v":{"$error":"#NUM!"}},{"$f":"IRRm(HJM42:HLL42)","v":1.0999999999999999},null,null,{"$f":"IRR(HJQ42:HLP42)","v":{"$error":"#NUM!"}},{"$f":"IRRm(HJQ42:HLP42)","v":1.0999999999999999},null,null,{"$f":"IRR(HJU42:HLT42)","v":{"$error":"#NUM!"}},{"$f":"IRRm(HJU42:HLT42)","v":1.0999999999999999},null,null,{"$f":"IRR(HJY42:HLX42)","v":{"$error":"#NUM!"}},{"$f":"IRRm(HJY42:HLX42)","v":1.0999999999999999},null,null,{"$f":"IRR(HKC42:HMB42)","v":{"$error":"#NUM!"}},{"$f":"IRRm(HKC42:HMB42)","v":1.0999999999999999},null,null,{"$f":"IRR(HKG42:HMF42)","v":{"$error":"#NUM!"}},{"$f":"IRRm(HKG42:HMF42)","v":1.0999999999999999},null,null,{"$f":"IRR(HKK42:HMJ42)","v":{"$error":"#NUM!"}},{"$f":"IRRm(HKK42:HMJ42)","v":1.0999999999999999},null,null,{"$f":"IRR(HKO42:HMN42)","v":{"$error":"#NUM!"}},{"$f":"IRRm(HKO42:HMN42)","v":1.0999999999999999},null,null,{"$f":"IRR(HKS42:HMR42)","v":{"$error":"#NUM!"}},{"$f":"IRRm(HKS42:HMR42)","v":1.0999999999999999},null,null,{"$f":"IRR(HKW42:HMV42)","v":{"$error":"#NUM!"}},{"$f":"IRRm(HKW42:HMV42)","v":1.0999999999999999},null,null,{"$f":"IRR(HLA42:HMZ42)","v":{"$error":"#NUM!"}},{"$f":"IRRm(HLA42:HMZ42)","v":1.0999999999999999},null,null,{"$f":"IRR(HLE42:HND42)","v":{"$error":"#NUM!"}},{"$f":"IRRm(HLE42:HND42)","v":1.0999999999999999},null,null,{"$f":"IRR(HLI42:HNH42)","v":{"$error":"#NUM!"}},{"$f":"IRRm(HLI42:HNH42)","v":1.0999999999999999},null,null,{"$f":"IRR(HLM42:HNL42)","v":{"$error":"#NUM!"}},{"$f":"IRRm(HLM42:HNL42)","v":1.0999999999999999},null,null,{"$f":"IRR(HLQ42:HNP42)","v":{"$error":"#NUM!"}},{"$f":"IRRm(HLQ42:HNP42)","v":1.0999999999999999},null,null,{"$f":"IRR(HLU42:HNT42)","v":{"$error":"#NUM!"}},{"$f":"IRRm(HLU42:HNT42)","v":1.0999999999999999},null,null,{"$f":"IRR(HLY42:HNX42)","v":{"$error":"#NUM!"}},{"$f":"IRRm(HLY42:HNX42)","v":1.0999999999999999},null,null,{"$f":"IRR(HMC42:HOB42)","v":{"$error":"#NUM!"}},{"$f":"IRRm(HMC42:HOB42)","v":1.0999999999999999},null,null,{"$f":"IRR(HMG42:HOF42)","v":{"$error":"#NUM!"}},{"$f":"IRRm(HMG42:HOF42)","v":1.0999999999999999},null,null,{"$f":"IRR(HMK42:HOJ42)","v":{"$error":"#NUM!"}},{"$f":"IRRm(HMK42:HOJ42)","v":1.0999999999999999},null,null,{"$f":"IRR(HMO42:HON42)","v":{"$error":"#NUM!"}},{"$f":"IRRm(HMO42:HON42)","v":1.0999999999999999},null,null,{"$f":"IRR(HMS42:HOR42)","v":{"$error":"#NUM!"}},{"$f":"IRRm(HMS42:HOR42)","v":1.0999999999999999},null,null,{"$f":"IRR(HMW42:HOV42)","v":{"$error":"#NUM!"}},{"$f":"IRRm(HMW42:HOV42)","v":1.0999999999999999},null,null,{"$f":"IRR(HNA42:HOZ42)","v":{"$error":"#NUM!"}},{"$f":"IRRm(HNA42:HOZ42)","v":1.0999999999999999},null,null,{"$f":"IRR(HNE42:HPD42)","v":{"$error":"#NUM!"}},{"$f":"IRRm(HNE42:HPD42)","v":1.0999999999999999},null,null,{"$f":"IRR(HNI42:HPH42)","v":{"$error":"#NUM!"}},{"$f":"IRRm(HNI42:HPH42)","v":1.0999999999999999},null,null,{"$f":"IRR(HNM42:HPL42)","v":{"$error":"#NUM!"}},{"$f":"IRRm(HNM42:HPL42)","v":1.0999999999999999},null,null,{"$f":"IRR(HNQ42:HPP42)","v":{"$error":"#NUM!"}},{"$f":"IRRm(HNQ42:HPP42)","v":1.0999999999999999},null,null,{"$f":"IRR(HNU42:HPT42)","v":{"$error":"#NUM!"}},{"$f":"IRRm(HNU42:HPT42)","v":1.0999999999999999},null,null,{"$f":"IRR(HNY42:HPX42)","v":{"$error":"#NUM!"}},{"$f":"IRRm(HNY42:HPX42)","v":1.0999999999999999},null,null,{"$f":"IRR(HOC42:HQB42)","v":{"$error":"#NUM!"}},{"$f":"IRRm(HOC42:HQB42)","v":1.0999999999999999},null,null,{"$f":"IRR(HOG42:HQF42)","v":{"$error":"#NUM!"}},{"$f":"IRRm(HOG42:HQF42)","v":1.0999999999999999},null,null,{"$f":"IRR(HOK42:HQJ42)","v":{"$error":"#NUM!"}},{"$f":"IRRm(HOK42:HQJ42)","v":1.0999999999999999},null,null,{"$f":"IRR(HOO42:HQN42)","v":{"$error":"#NUM!"}},{"$f":"IRRm(HOO42:HQN42)","v":1.0999999999999999},null,null,{"$f":"IRR(HOS42:HQR42)","v":{"$error":"#NUM!"}},{"$f":"IRRm(HOS42:HQR42)","v":1.0999999999999999},null,null,{"$f":"IRR(HOW42:HQV42)","v":{"$error":"#NUM!"}},{"$f":"IRRm(HOW42:HQV42)","v":1.0999999999999999},null,null,{"$f":"IRR(HPA42:HQZ42)","v":{"$error":"#NUM!"}},{"$f":"IRRm(HPA42:HQZ42)","v":1.0999999999999999},null,null,{"$f":"IRR(HPE42:HRD42)","v":{"$error":"#NUM!"}},{"$f":"IRRm(HPE42:HRD42)","v":1.0999999999999999},null,null,{"$f":"IRR(HPI42:HRH42)","v":{"$error":"#NUM!"}},{"$f":"IRRm(HPI42:HRH42)","v":1.0999999999999999},null,null,{"$f":"IRR(HPM42:HRL42)","v":{"$error":"#NUM!"}},{"$f":"IRRm(HPM42:HRL42)","v":1.0999999999999999},null,null,{"$f":"IRR(HPQ42:HRP42)","v":{"$error":"#NUM!"}},{"$f":"IRRm(HPQ42:HRP42)","v":1.0999999999999999},null,null,{"$f":"IRR(HPU42:HRT42)","v":{"$error":"#NUM!"}},{"$f":"IRRm(HPU42:HRT42)","v":1.0999999999999999},null,null,{"$f":"IRR(HPY42:HRX42)","v":{"$error":"#NUM!"}},{"$f":"IRRm(HPY42:HRX42)","v":1.0999999999999999},null,null,{"$f":"IRR(HQC42:HSB42)","v":{"$error":"#NUM!"}},{"$f":"IRRm(HQC42:HSB42)","v":1.0999999999999999},null,null,{"$f":"IRR(HQG42:HSF42)","v":{"$error":"#NUM!"}},{"$f":"IRRm(HQG42:HSF42)","v":1.0999999999999999},null,null,{"$f":"IRR(HQK42:HSJ42)","v":{"$error":"#NUM!"}},{"$f":"IRRm(HQK42:HSJ42)","v":1.0999999999999999},null,null,{"$f":"IRR(HQO42:HSN42)","v":{"$error":"#NUM!"}},{"$f":"IRRm(HQO42:HSN42)","v":1.0999999999999999},null,null,{"$f":"IRR(HQS42:HSR42)","v":{"$error":"#NUM!"}},{"$f":"IRRm(HQS42:HSR42)","v":1.0999999999999999},null,null,{"$f":"IRR(HQW42:HSV42)","v":{"$error":"#NUM!"}},{"$f":"IRRm(HQW42:HSV42)","v":1.0999999999999999},null,null,{"$f":"IRR(HRA42:HSZ42)","v":{"$error":"#NUM!"}},{"$f":"IRRm(HRA42:HSZ42)","v":1.0999999999999999},null,null,{"$f":"IRR(HRE42:HTD42)","v":{"$error":"#NUM!"}},{"$f":"IRRm(HRE42:HTD42)","v":1.0999999999999999},null,null,{"$f":"IRR(HRI42:HTH42)","v":{"$error":"#NUM!"}},{"$f":"IRRm(HRI42:HTH42)","v":1.0999999999999999},null,null,{"$f":"IRR(HRM42:HTL42)","v":{"$error":"#NUM!"}},{"$f":"IRRm(HRM42:HTL42)","v":1.0999999999999999},null,null,{"$f":"IRR(HRQ42:HTP42)","v":{"$error":"#NUM!"}},{"$f":"IRRm(HRQ42:HTP42)","v":1.0999999999999999},null,null,{"$f":"IRR(HRU42:HTT42)","v":{"$error":"#NUM!"}},{"$f":"IRRm(HRU42:HTT42)","v":1.0999999999999999},null,null,{"$f":"IRR(HRY42:HTX42)","v":{"$error":"#NUM!"}},{"$f":"IRRm(HRY42:HTX42)","v":1.0999999999999999},null,null,{"$f":"IRR(HSC42:HUB42)","v":{"$error":"#NUM!"}},{"$f":"IRRm(HSC42:HUB42)","v":1.0999999999999999},null,null,{"$f":"IRR(HSG42:HUF42)","v":{"$error":"#NUM!"}},{"$f":"IRRm(HSG42:HUF42)","v":1.0999999999999999},null,null,{"$f":"IRR(HSK42:HUJ42)","v":{"$error":"#NUM!"}},{"$f":"IRRm(HSK42:HUJ42)","v":1.0999999999999999},null,null,{"$f":"IRR(HSO42:HUN42)","v":{"$error":"#NUM!"}},{"$f":"IRRm(HSO42:HUN42)","v":1.0999999999999999},null,null,{"$f":"IRR(HSS42:HUR42)","v":{"$error":"#NUM!"}},{"$f":"IRRm(HSS42:HUR42)","v":1.0999999999999999},null,null,{"$f":"IRR(HSW42:HUV42)","v":{"$error":"#NUM!"}},{"$f":"IRRm(HSW42:HUV42)","v":1.0999999999999999},null,null,{"$f":"IRR(HTA42:HUZ42)","v":{"$error":"#NUM!"}},{"$f":"IRRm(HTA42:HUZ42)","v":1.0999999999999999},null,null,{"$f":"IRR(HTE42:HVD42)","v":{"$error":"#NUM!"}},{"$f":"IRRm(HTE42:HVD42)","v":1.0999999999999999},null,null,{"$f":"IRR(HTI42:HVH42)","v":{"$error":"#NUM!"}},{"$f":"IRRm(HTI42:HVH42)","v":1.0999999999999999},null,null,{"$f":"IRR(HTM42:HVL42)","v":{"$error":"#NUM!"}},{"$f":"IRRm(HTM42:HVL42)","v":1.0999999999999999},null,null,{"$f":"IRR(HTQ42:HVP42)","v":{"$error":"#NUM!"}},{"$f":"IRRm(HTQ42:HVP42)","v":1.0999999999999999},null,null,{"$f":"IRR(HTU42:HVT42)","v":{"$error":"#NUM!"}},{"$f":"IRRm(HTU42:HVT42)","v":1.0999999999999999},null,null,{"$f":"IRR(HTY42:HVX42)","v":{"$error":"#NUM!"}},{"$f":"IRRm(HTY42:HVX42)","v":1.0999999999999999},null,null,{"$f":"IRR(HUC42:HWB42)","v":{"$error":"#NUM!"}},{"$f":"IRRm(HUC42:HWB42)","v":1.0999999999999999},null,null,{"$f":"IRR(HUG42:HWF42)","v":{"$error":"#NUM!"}},{"$f":"IRRm(HUG42:HWF42)","v":1.0999999999999999},null,null,{"$f":"IRR(HUK42:HWJ42)","v":{"$error":"#NUM!"}},{"$f":"IRRm(HUK42:HWJ42)","v":1.0999999999999999},null,null,{"$f":"IRR(HUO42:HWN42)","v":{"$error":"#NUM!"}},{"$f":"IRRm(HUO42:HWN42)","v":1.0999999999999999},null,null,{"$f":"IRR(HUS42:HWR42)","v":{"$error":"#NUM!"}},{"$f":"IRRm(HUS42:HWR42)","v":1.0999999999999999},null,null,{"$f":"IRR(HUW42:HWV42)","v":{"$error":"#NUM!"}},{"$f":"IRRm(HUW42:HWV42)","v":1.0999999999999999},null,null,{"$f":"IRR(HVA42:HWZ42)","v":{"$error":"#NUM!"}},{"$f":"IRRm(HVA42:HWZ42)","v":1.0999999999999999},null,null,{"$f":"IRR(HVE42:HXD42)","v":{"$error":"#NUM!"}},{"$f":"IRRm(HVE42:HXD42)","v":1.0999999999999999},null,null,{"$f":"IRR(HVI42:HXH42)","v":{"$error":"#NUM!"}},{"$f":"IRRm(HVI42:HXH42)","v":1.0999999999999999},null,null,{"$f":"IRR(HVM42:HXL42)","v":{"$error":"#NUM!"}},{"$f":"IRRm(HVM42:HXL42)","v":1.0999999999999999},null,null,{"$f":"IRR(HVQ42:HXP42)","v":{"$error":"#NUM!"}},{"$f":"IRRm(HVQ42:HXP42)","v":1.0999999999999999},null,null,{"$f":"IRR(HVU42:HXT42)","v":{"$error":"#NUM!"}},{"$f":"IRRm(HVU42:HXT42)","v":1.0999999999999999},null,null,{"$f":"IRR(HVY42:HXX42)","v":{"$error":"#NUM!"}},{"$f":"IRRm(HVY42:HXX42)","v":1.0999999999999999},null,null,{"$f":"IRR(HWC42:HYB42)","v":{"$error":"#NUM!"}},{"$f":"IRRm(HWC42:HYB42)","v":1.0999999999999999},null,null,{"$f":"IRR(HWG42:HYF42)","v":{"$error":"#NUM!"}},{"$f":"IRRm(HWG42:HYF42)","v":1.0999999999999999},null,null,{"$f":"IRR(HWK42:HYJ42)","v":{"$error":"#NUM!"}},{"$f":"IRRm(HWK42:HYJ42)","v":1.0999999999999999},null,null,{"$f":"IRR(HWO42:HYN42)","v":{"$error":"#NUM!"}},{"$f":"IRRm(HWO42:HYN42)","v":1.0999999999999999},null,null,{"$f":"IRR(HWS42:HYR42)","v":{"$error":"#NUM!"}},{"$f":"IRRm(HWS42:HYR42)","v":1.0999999999999999},null,null,{"$f":"IRR(HWW42:HYV42)","v":{"$error":"#NUM!"}},{"$f":"IRRm(HWW42:HYV42)","v":1.0999999999999999},null,null,{"$f":"IRR(HXA42:HYZ42)","v":{"$error":"#NUM!"}},{"$f":"IRRm(HXA42:HYZ42)","v":1.0999999999999999},null,null,{"$f":"IRR(HXE42:HZD42)","v":{"$error":"#NUM!"}},{"$f":"IRRm(HXE42:HZD42)","v":1.0999999999999999},null,null,{"$f":"IRR(HXI42:HZH42)","v":{"$error":"#NUM!"}},{"$f":"IRRm(HXI42:HZH42)","v":1.0999999999999999},null,null,{"$f":"IRR(HXM42:HZL42)","v":{"$error":"#NUM!"}},{"$f":"IRRm(HXM42:HZL42)","v":1.0999999999999999},null,null,{"$f":"IRR(HXQ42:HZP42)","v":{"$error":"#NUM!"}},{"$f":"IRRm(HXQ42:HZP42)","v":1.0999999999999999},null,null,{"$f":"IRR(HXU42:HZT42)","v":{"$error":"#NUM!"}},{"$f":"IRRm(HXU42:HZT42)","v":1.0999999999999999},null,null,{"$f":"IRR(HXY42:HZX42)","v":{"$error":"#NUM!"}},{"$f":"IRRm(HXY42:HZX42)","v":1.0999999999999999},null,null,{"$f":"IRR(HYC42:IAB42)","v":{"$error":"#NUM!"}},{"$f":"IRRm(HYC42:IAB42)","v":1.0999999999999999},null,null,{"$f":"IRR(HYG42:IAF42)","v":{"$error":"#NUM!"}},{"$f":"IRRm(HYG42:IAF42)","v":1.0999999999999999},null,null,{"$f":"IRR(HYK42:IAJ42)","v":{"$error":"#NUM!"}},{"$f":"IRRm(HYK42:IAJ42)","v":1.0999999999999999},null,null,{"$f":"IRR(HYO42:IAN42)","v":{"$error":"#NUM!"}},{"$f":"IRRm(HYO42:IAN42)","v":1.0999999999999999},null,null,{"$f":"IRR(HYS42:IAR42)","v":{"$error":"#NUM!"}},{"$f":"IRRm(HYS42:IAR42)","v":1.0999999999999999},null,null,{"$f":"IRR(HYW42:IAV42)","v":{"$error":"#NUM!"}},{"$f":"IRRm(HYW42:IAV42)","v":1.0999999999999999},null,null,{"$f":"IRR(HZA42:IAZ42)","v":{"$error":"#NUM!"}},{"$f":"IRRm(HZA42:IAZ42)","v":1.0999999999999999},null,null,{"$f":"IRR(HZE42:IBD42)","v":{"$error":"#NUM!"}},{"$f":"IRRm(HZE42:IBD42)","v":1.0999999999999999},null,null,{"$f":"IRR(HZI42:IBH42)","v":{"$error":"#NUM!"}},{"$f":"IRRm(HZI42:IBH42)","v":1.0999999999999999},null,null,{"$f":"IRR(HZM42:IBL42)","v":{"$error":"#NUM!"}},{"$f":"IRRm(HZM42:IBL42)","v":1.0999999999999999},null,null,{"$f":"IRR(HZQ42:IBP42)","v":{"$error":"#NUM!"}},{"$f":"IRRm(HZQ42:IBP42)","v":1.0999999999999999},null,null,{"$f":"IRR(HZU42:IBT42)","v":{"$error":"#NUM!"}},{"$f":"IRRm(HZU42:IBT42)","v":1.0999999999999999},null,null,{"$f":"IRR(HZY42:IBX42)","v":{"$error":"#NUM!"}},{"$f":"IRRm(HZY42:IBX42)","v":1.0999999999999999},null,null,{"$f":"IRR(IAC42:ICB42)","v":{"$error":"#NUM!"}},{"$f":"IRRm(IAC42:ICB42)","v":1.0999999999999999},null,null,{"$f":"IRR(IAG42:ICF42)","v":{"$error":"#NUM!"}},{"$f":"IRRm(IAG42:ICF42)","v":1.0999999999999999},null,null,{"$f":"IRR(IAK42:ICJ42)","v":{"$error":"#NUM!"}},{"$f":"IRRm(IAK42:ICJ42)","v":1.0999999999999999},null,null,{"$f":"IRR(IAO42:ICN42)","v":{"$error":"#NUM!"}},{"$f":"IRRm(IAO42:ICN42)","v":1.0999999999999999},null,null,{"$f":"IRR(IAS42:ICR42)","v":{"$error":"#NUM!"}},{"$f":"IRRm(IAS42:ICR42)","v":1.0999999999999999},null,null,{"$f":"IRR(IAW42:ICV42)","v":{"$error":"#NUM!"}},{"$f":"IRRm(IAW42:ICV42)","v":1.0999999999999999},null,null,{"$f":"IRR(IBA42:ICZ42)","v":{"$error":"#NUM!"}},{"$f":"IRRm(IBA42:ICZ42)","v":1.0999999999999999},null,null,{"$f":"IRR(IBE42:IDD42)","v":{"$error":"#NUM!"}},{"$f":"IRRm(IBE42:IDD42)","v":1.0999999999999999},null,null,{"$f":"IRR(IBI42:IDH42)","v":{"$error":"#NUM!"}},{"$f":"IRRm(IBI42:IDH42)","v":1.0999999999999999},null,null,{"$f":"IRR(IBM42:IDL42)","v":{"$error":"#NUM!"}},{"$f":"IRRm(IBM42:IDL42)","v":1.0999999999999999},null,null,{"$f":"IRR(IBQ42:IDP42)","v":{"$error":"#NUM!"}},{"$f":"IRRm(IBQ42:IDP42)","v":1.0999999999999999},null,null,{"$f":"IRR(IBU42:IDT42)","v":{"$error":"#NUM!"}},{"$f":"IRRm(IBU42:IDT42)","v":1.0999999999999999},null,null,{"$f":"IRR(IBY42:IDX42)","v":{"$error":"#NUM!"}},{"$f":"IRRm(IBY42:IDX42)","v":1.0999999999999999},null,null,{"$f":"IRR(ICC42:IEB42)","v":{"$error":"#NUM!"}},{"$f":"IRRm(ICC42:IEB42)","v":1.0999999999999999},null,null,{"$f":"IRR(ICG42:IEF42)","v":{"$error":"#NUM!"}},{"$f":"IRRm(ICG42:IEF42)","v":1.0999999999999999},null,null,{"$f":"IRR(ICK42:IEJ42)","v":{"$error":"#NUM!"}},{"$f":"IRRm(ICK42:IEJ42)","v":1.0999999999999999},null,null,{"$f":"IRR(ICO42:IEN42)","v":{"$error":"#NUM!"}},{"$f":"IRRm(ICO42:IEN42)","v":1.0999999999999999},null,null,{"$f":"IRR(ICS42:IER42)","v":{"$error":"#NUM!"}},{"$f":"IRRm(ICS42:IER42)","v":1.0999999999999999},null,null,{"$f":"IRR(ICW42:IEV42)","v":{"$error":"#NUM!"}},{"$f":"IRRm(ICW42:IEV42)","v":1.0999999999999999},null,null,{"$f":"IRR(IDA42:IEZ42)","v":{"$error":"#NUM!"}},{"$f":"IRRm(IDA42:IEZ42)","v":1.0999999999999999},null,null,{"$f":"IRR(IDE42:IFD42)","v":{"$error":"#NUM!"}},{"$f":"IRRm(IDE42:IFD42)","v":1.0999999999999999},null,null,{"$f":"IRR(IDI42:IFH42)","v":{"$error":"#NUM!"}},{"$f":"IRRm(IDI42:IFH42)","v":1.0999999999999999},null,null,{"$f":"IRR(IDM42:IFL42)","v":{"$error":"#NUM!"}},{"$f":"IRRm(IDM42:IFL42)","v":1.0999999999999999},null,null,{"$f":"IRR(IDQ42:IFP42)","v":{"$error":"#NUM!"}},{"$f":"IRRm(IDQ42:IFP42)","v":1.0999999999999999},null,null,{"$f":"IRR(IDU42:IFT42)","v":{"$error":"#NUM!"}},{"$f":"IRRm(IDU42:IFT42)","v":1.0999999999999999},null,null,{"$f":"IRR(IDY42:IFX42)","v":{"$error":"#NUM!"}},{"$f":"IRRm(IDY42:IFX42)","v":1.0999999999999999},null,null,{"$f":"IRR(IEC42:IGB42)","v":{"$error":"#NUM!"}},{"$f":"IRRm(IEC42:IGB42)","v":1.0999999999999999},null,null,{"$f":"IRR(IEG42:IGF42)","v":{"$error":"#NUM!"}},{"$f":"IRRm(IEG42:IGF42)","v":1.0999999999999999},null,null,{"$f":"IRR(IEK42:IGJ42)","v":{"$error":"#NUM!"}},{"$f":"IRRm(IEK42:IGJ42)","v":1.0999999999999999},null,null,{"$f":"IRR(IEO42:IGN42)","v":{"$error":"#NUM!"}},{"$f":"IRRm(IEO42:IGN42)","v":1.0999999999999999},null,null,{"$f":"IRR(IES42:IGR42)","v":{"$error":"#NUM!"}},{"$f":"IRRm(IES42:IGR42)","v":1.0999999999999999},null,null,{"$f":"IRR(IEW42:IGV42)","v":{"$error":"#NUM!"}},{"$f":"IRRm(IEW42:IGV42)","v":1.0999999999999999},null,null,{"$f":"IRR(IFA42:IGZ42)","v":{"$error":"#NUM!"}},{"$f":"IRRm(IFA42:IGZ42)","v":1.0999999999999999},null,null,{"$f":"IRR(IFE42:IHD42)","v":{"$error":"#NUM!"}},{"$f":"IRRm(IFE42:IHD42)","v":1.0999999999999999},null,null,{"$f":"IRR(IFI42:IHH42)","v":{"$error":"#NUM!"}},{"$f":"IRRm(IFI42:IHH42)","v":1.0999999999999999},null,null,{"$f":"IRR(IFM42:IHL42)","v":{"$error":"#NUM!"}},{"$f":"IRRm(IFM42:IHL42)","v":1.0999999999999999},null,null,{"$f":"IRR(IFQ42:IHP42)","v":{"$error":"#NUM!"}},{"$f":"IRRm(IFQ42:IHP42)","v":1.0999999999999999},null,null,{"$f":"IRR(IFU42:IHT42)","v":{"$error":"#NUM!"}},{"$f":"IRRm(IFU42:IHT42)","v":1.0999999999999999},null,null,{"$f":"IRR(IFY42:IHX42)","v":{"$error":"#NUM!"}},{"$f":"IRRm(IFY42:IHX42)","v":1.0999999999999999},null,null,{"$f":"IRR(IGC42:IIB42)","v":{"$error":"#NUM!"}},{"$f":"IRRm(IGC42:IIB42)","v":1.0999999999999999},null,null,{"$f":"IRR(IGG42:IIF42)","v":{"$error":"#NUM!"}},{"$f":"IRRm(IGG42:IIF42)","v":1.0999999999999999},null,null,{"$f":"IRR(IGK42:IIJ42)","v":{"$error":"#NUM!"}},{"$f":"IRRm(IGK42:IIJ42)","v":1.0999999999999999},null,null,{"$f":"IRR(IGO42:IIN42)","v":{"$error":"#NUM!"}},{"$f":"IRRm(IGO42:IIN42)","v":1.0999999999999999},null,null,{"$f":"IRR(IGS42:IIR42)","v":{"$error":"#NUM!"}},{"$f":"IRRm(IGS42:IIR42)","v":1.0999999999999999},null,null,{"$f":"IRR(IGW42:IIV42)","v":{"$error":"#NUM!"}},{"$f":"IRRm(IGW42:IIV42)","v":1.0999999999999999},null,null,{"$f":"IRR(IHA42:IIZ42)","v":{"$error":"#NUM!"}},{"$f":"IRRm(IHA42:IIZ42)","v":1.0999999999999999},null,null,{"$f":"IRR(IHE42:IJD42)","v":{"$error":"#NUM!"}},{"$f":"IRRm(IHE42:IJD42)","v":1.0999999999999999},null,null,{"$f":"IRR(IHI42:IJH42)","v":{"$error":"#NUM!"}},{"$f":"IRRm(IHI42:IJH42)","v":1.0999999999999999},null,null,{"$f":"IRR(IHM42:IJL42)","v":{"$error":"#NUM!"}},{"$f":"IRRm(IHM42:IJL42)","v":1.0999999999999999},null,null,{"$f":"IRR(IHQ42:IJP42)","v":{"$error":"#NUM!"}},{"$f":"IRRm(IHQ42:IJP42)","v":1.0999999999999999},null,null,{"$f":"IRR(IHU42:IJT42)","v":{"$error":"#NUM!"}},{"$f":"IRRm(IHU42:IJT42)","v":1.0999999999999999},null,null,{"$f":"IRR(IHY42:IJX42)","v":{"$error":"#NUM!"}},{"$f":"IRRm(IHY42:IJX42)","v":1.0999999999999999},null,null,{"$f":"IRR(IIC42:IKB42)","v":{"$error":"#NUM!"}},{"$f":"IRRm(IIC42:IKB42)","v":1.0999999999999999},null,null,{"$f":"IRR(IIG42:IKF42)","v":{"$error":"#NUM!"}},{"$f":"IRRm(IIG42:IKF42)","v":1.0999999999999999},null,null,{"$f":"IRR(IIK42:IKJ42)","v":{"$error":"#NUM!"}},{"$f":"IRRm(IIK42:IKJ42)","v":1.0999999999999999},null,null,{"$f":"IRR(IIO42:IKN42)","v":{"$error":"#NUM!"}},{"$f":"IRRm(IIO42:IKN42)","v":1.0999999999999999},null,null,{"$f":"IRR(IIS42:IKR42)","v":{"$error":"#NUM!"}},{"$f":"IRRm(IIS42:IKR42)","v":1.0999999999999999},null,null,{"$f":"IRR(IIW42:IKV42)","v":{"$error":"#NUM!"}},{"$f":"IRRm(IIW42:IKV42)","v":1.0999999999999999},null,null,{"$f":"IRR(IJA42:IKZ42)","v":{"$error":"#NUM!"}},{"$f":"IRRm(IJA42:IKZ42)","v":1.0999999999999999},null,null,{"$f":"IRR(IJE42:ILD42)","v":{"$error":"#NUM!"}},{"$f":"IRRm(IJE42:ILD42)","v":1.0999999999999999},null,null,{"$f":"IRR(IJI42:ILH42)","v":{"$error":"#NUM!"}},{"$f":"IRRm(IJI42:ILH42)","v":1.0999999999999999},null,null,{"$f":"IRR(IJM42:ILL42)","v":{"$error":"#NUM!"}},{"$f":"IRRm(IJM42:ILL42)","v":1.0999999999999999},null,null,{"$f":"IRR(IJQ42:ILP42)","v":{"$error":"#NUM!"}},{"$f":"IRRm(IJQ42:ILP42)","v":1.0999999999999999},null,null,{"$f":"IRR(IJU42:ILT42)","v":{"$error":"#NUM!"}},{"$f":"IRRm(IJU42:ILT42)","v":1.0999999999999999},null,null,{"$f":"IRR(IJY42:ILX42)","v":{"$error":"#NUM!"}},{"$f":"IRRm(IJY42:ILX42)","v":1.0999999999999999},null,null,{"$f":"IRR(IKC42:IMB42)","v":{"$error":"#NUM!"}},{"$f":"IRRm(IKC42:IMB42)","v":1.0999999999999999},null,null,{"$f":"IRR(IKG42:IMF42)","v":{"$error":"#NUM!"}},{"$f":"IRRm(IKG42:IMF42)","v":1.0999999999999999},null,null,{"$f":"IRR(IKK42:IMJ42)","v":{"$error":"#NUM!"}},{"$f":"IRRm(IKK42:IMJ42)","v":1.0999999999999999},null,null,{"$f":"IRR(IKO42:IMN42)","v":{"$error":"#NUM!"}},{"$f":"IRRm(IKO42:IMN42)","v":1.0999999999999999},null,null,{"$f":"IRR(IKS42:IMR42)","v":{"$error":"#NUM!"}},{"$f":"IRRm(IKS42:IMR42)","v":1.0999999999999999},null,null,{"$f":"IRR(IKW42:IMV42)","v":{"$error":"#NUM!"}},{"$f":"IRRm(IKW42:IMV42)","v":1.0999999999999999},null,null,{"$f":"IRR(ILA42:IMZ42)","v":{"$error":"#NUM!"}},{"$f":"IRRm(ILA42:IMZ42)","v":1.0999999999999999},null,null,{"$f":"IRR(ILE42:IND42)","v":{"$error":"#NUM!"}},{"$f":"IRRm(ILE42:IND42)","v":1.0999999999999999},null,null,{"$f":"IRR(ILI42:INH42)","v":{"$error":"#NUM!"}},{"$f":"IRRm(ILI42:INH42)","v":1.0999999999999999},null,null,{"$f":"IRR(ILM42:INL42)","v":{"$error":"#NUM!"}},{"$f":"IRRm(ILM42:INL42)","v":1.0999999999999999},null,null,{"$f":"IRR(ILQ42:INP42)","v":{"$error":"#NUM!"}},{"$f":"IRRm(ILQ42:INP42)","v":1.0999999999999999},null,null,{"$f":"IRR(ILU42:INT42)","v":{"$error":"#NUM!"}},{"$f":"IRRm(ILU42:INT42)","v":1.0999999999999999},null,null,{"$f":"IRR(ILY42:INX42)","v":{"$error":"#NUM!"}},{"$f":"IRRm(ILY42:INX42)","v":1.0999999999999999},null,null,{"$f":"IRR(IMC42:IOB42)","v":{"$error":"#NUM!"}},{"$f":"IRRm(IMC42:IOB42)","v":1.0999999999999999},null,null,{"$f":"IRR(IMG42:IOF42)","v":{"$error":"#NUM!"}},{"$f":"IRRm(IMG42:IOF42)","v":1.0999999999999999},null,null,{"$f":"IRR(IMK42:IOJ42)","v":{"$error":"#NUM!"}},{"$f":"IRRm(IMK42:IOJ42)","v":1.0999999999999999},null,null,{"$f":"IRR(IMO42:ION42)","v":{"$error":"#NUM!"}},{"$f":"IRRm(IMO42:ION42)","v":1.0999999999999999},null,null,{"$f":"IRR(IMS42:IOR42)","v":{"$error":"#NUM!"}},{"$f":"IRRm(IMS42:IOR42)","v":1.0999999999999999},null,null,{"$f":"IRR(IMW42:IOV42)","v":{"$error":"#NUM!"}},{"$f":"IRRm(IMW42:IOV42)","v":1.0999999999999999},null,null,{"$f":"IRR(INA42:IOZ42)","v":{"$error":"#NUM!"}},{"$f":"IRRm(INA42:IOZ42)","v":1.0999999999999999},null,null,{"$f":"IRR(INE42:IPD42)","v":{"$error":"#NUM!"}},{"$f":"IRRm(INE42:IPD42)","v":1.0999999999999999},null,null,{"$f":"IRR(INI42:IPH42)","v":{"$error":"#NUM!"}},{"$f":"IRRm(INI42:IPH42)","v":1.0999999999999999},null,null,{"$f":"IRR(INM42:IPL42)","v":{"$error":"#NUM!"}},{"$f":"IRRm(INM42:IPL42)","v":1.0999999999999999},null,null,{"$f":"IRR(INQ42:IPP42)","v":{"$error":"#NUM!"}},{"$f":"IRRm(INQ42:IPP42)","v":1.0999999999999999},null,null,{"$f":"IRR(INU42:IPT42)","v":{"$error":"#NUM!"}},{"$f":"IRRm(INU42:IPT42)","v":1.0999999999999999},null,null,{"$f":"IRR(INY42:IPX42)","v":{"$error":"#NUM!"}},{"$f":"IRRm(INY42:IPX42)","v":1.0999999999999999},null,null,{"$f":"IRR(IOC42:IQB42)","v":{"$error":"#NUM!"}},{"$f":"IRRm(IOC42:IQB42)","v":1.0999999999999999},null,null,{"$f":"IRR(IOG42:IQF42)","v":{"$error":"#NUM!"}},{"$f":"IRRm(IOG42:IQF42)","v":1.0999999999999999},null,null,{"$f":"IRR(IOK42:IQJ42)","v":{"$error":"#NUM!"}},{"$f":"IRRm(IOK42:IQJ42)","v":1.0999999999999999},null,null,{"$f":"IRR(IOO42:IQN42)","v":{"$error":"#NUM!"}},{"$f":"IRRm(IOO42:IQN42)","v":1.0999999999999999},null,null,{"$f":"IRR(IOS42:IQR42)","v":{"$error":"#NUM!"}},{"$f":"IRRm(IOS42:IQR42)","v":1.0999999999999999},null,null,{"$f":"IRR(IOW42:IQV42)","v":{"$error":"#NUM!"}},{"$f":"IRRm(IOW42:IQV42)","v":1.0999999999999999},null,null,{"$f":"IRR(IPA42:IQZ42)","v":{"$error":"#NUM!"}},{"$f":"IRRm(IPA42:IQZ42)","v":1.0999999999999999},null,null,{"$f":"IRR(IPE42:IRD42)","v":{"$error":"#NUM!"}},{"$f":"IRRm(IPE42:IRD42)","v":1.0999999999999999},null,null,{"$f":"IRR(IPI42:IRH42)","v":{"$error":"#NUM!"}},{"$f":"IRRm(IPI42:IRH42)","v":1.0999999999999999},null,null,{"$f":"IRR(IPM42:IRL42)","v":{"$error":"#NUM!"}},{"$f":"IRRm(IPM42:IRL42)","v":1.0999999999999999},null,null,{"$f":"IRR(IPQ42:IRP42)","v":{"$error":"#NUM!"}},{"$f":"IRRm(IPQ42:IRP42)","v":1.0999999999999999},null,null,{"$f":"IRR(IPU42:IRT42)","v":{"$error":"#NUM!"}},{"$f":"IRRm(IPU42:IRT42)","v":1.0999999999999999},null,null,{"$f":"IRR(IPY42:IRX42)","v":{"$error":"#NUM!"}},{"$f":"IRRm(IPY42:IRX42)","v":1.0999999999999999},null,null,{"$f":"IRR(IQC42:ISB42)","v":{"$error":"#NUM!"}},{"$f":"IRRm(IQC42:ISB42)","v":1.0999999999999999},null,null,{"$f":"IRR(IQG42:ISF42)","v":{"$error":"#NUM!"}},{"$f":"IRRm(IQG42:ISF42)","v":1.0999999999999999},null,null,{"$f":"IRR(IQK42:ISJ42)","v":{"$error":"#NUM!"}},{"$f":"IRRm(IQK42:ISJ42)","v":1.0999999999999999},null,null,{"$f":"IRR(IQO42:ISN42)","v":{"$error":"#NUM!"}},{"$f":"IRRm(IQO42:ISN42)","v":1.0999999999999999},null,null,{"$f":"IRR(IQS42:ISR42)","v":{"$error":"#NUM!"}},{"$f":"IRRm(IQS42:ISR42)","v":1.0999999999999999},null,null,{"$f":"IRR(IQW42:ISV42)","v":{"$error":"#NUM!"}},{"$f":"IRRm(IQW42:ISV42)","v":1.0999999999999999},null,null,{"$f":"IRR(IRA42:ISZ42)","v":{"$error":"#NUM!"}},{"$f":"IRRm(IRA42:ISZ42)","v":1.0999999999999999},null,null,{"$f":"IRR(IRE42:ITD42)","v":{"$error":"#NUM!"}},{"$f":"IRRm(IRE42:ITD42)","v":1.0999999999999999},null,null,{"$f":"IRR(IRI42:ITH42)","v":{"$error":"#NUM!"}},{"$f":"IRRm(IRI42:ITH42)","v":1.0999999999999999},null,null,{"$f":"IRR(IRM42:ITL42)","v":{"$error":"#NUM!"}},{"$f":"IRRm(IRM42:ITL42)","v":1.0999999999999999},null,null,{"$f":"IRR(IRQ42:ITP42)","v":{"$error":"#NUM!"}},{"$f":"IRRm(IRQ42:ITP42)","v":1.0999999999999999},null,null,{"$f":"IRR(IRU42:ITT42)","v":{"$error":"#NUM!"}},{"$f":"IRRm(IRU42:ITT42)","v":1.0999999999999999},null,null,{"$f":"IRR(IRY42:ITX42)","v":{"$error":"#NUM!"}},{"$f":"IRRm(IRY42:ITX42)","v":1.0999999999999999},null,null,{"$f":"IRR(ISC42:IUB42)","v":{"$error":"#NUM!"}},{"$f":"IRRm(ISC42:IUB42)","v":1.0999999999999999},null,null,{"$f":"IRR(ISG42:IUF42)","v":{"$error":"#NUM!"}},{"$f":"IRRm(ISG42:IUF42)","v":1.0999999999999999},null,null,{"$f":"IRR(ISK42:IUJ42)","v":{"$error":"#NUM!"}},{"$f":"IRRm(ISK42:IUJ42)","v":1.0999999999999999},null,null,{"$f":"IRR(ISO42:IUN42)","v":{"$error":"#NUM!"}},{"$f":"IRRm(ISO42:IUN42)","v":1.0999999999999999},null,null,{"$f":"IRR(ISS42:IUR42)","v":{"$error":"#NUM!"}},{"$f":"IRRm(ISS42:IUR42)","v":1.0999999999999999},null,null,{"$f":"IRR(ISW42:IUV42)","v":{"$error":"#NUM!"}},{"$f":"IRRm(ISW42:IUV42)","v":1.0999999999999999},null,null,{"$f":"IRR(ITA42:IUZ42)","v":{"$error":"#NUM!"}},{"$f":"IRRm(ITA42:IUZ42)","v":1.0999999999999999},null,null,{"$f":"IRR(ITE42:IVD42)","v":{"$error":"#NUM!"}},{"$f":"IRRm(ITE42:IVD42)","v":1.0999999999999999},null,null,{"$f":"IRR(ITI42:IVH42)","v":{"$error":"#NUM!"}},{"$f":"IRRm(ITI42:IVH42)","v":1.0999999999999999},null,null,{"$f":"IRR(ITM42:IVL42)","v":{"$error":"#NUM!"}},{"$f":"IRRm(ITM42:IVL42)","v":1.0999999999999999},null,null,{"$f":"IRR(ITQ42:IVP42)","v":{"$error":"#NUM!"}},{"$f":"IRRm(ITQ42:IVP42)","v":1.0999999999999999},null,null,{"$f":"IRR(ITU42:IVT42)","v":{"$error":"#NUM!"}},{"$f":"IRRm(ITU42:IVT42)","v":1.0999999999999999},null,null,{"$f":"IRR(ITY42:IVX42)","v":{"$error":"#NUM!"}},{"$f":"IRRm(ITY42:IVX42)","v":1.0999999999999999},null,null,{"$f":"IRR(IUC42:IWB42)","v":{"$error":"#NUM!"}},{"$f":"IRRm(IUC42:IWB42)","v":1.0999999999999999},null,null,{"$f":"IRR(IUG42:IWF42)","v":{"$error":"#NUM!"}},{"$f":"IRRm(IUG42:IWF42)","v":1.0999999999999999},null,null,{"$f":"IRR(IUK42:IWJ42)","v":{"$error":"#NUM!"}},{"$f":"IRRm(IUK42:IWJ42)","v":1.0999999999999999},null,null,{"$f":"IRR(IUO42:IWN42)","v":{"$error":"#NUM!"}},{"$f":"IRRm(IUO42:IWN42)","v":1.0999999999999999},null,null,{"$f":"IRR(IUS42:IWR42)","v":{"$error":"#NUM!"}},{"$f":"IRRm(IUS42:IWR42)","v":1.0999999999999999},null,null,{"$f":"IRR(IUW42:IWV42)","v":{"$error":"#NUM!"}},{"$f":"IRRm(IUW42:IWV42)","v":1.0999999999999999},null,null,{"$f":"IRR(IVA42:IWZ42)","v":{"$error":"#NUM!"}},{"$f":"IRRm(IVA42:IWZ42)","v":1.0999999999999999},null,null,{"$f":"IRR(IVE42:IXD42)","v":{"$error":"#NUM!"}},{"$f":"IRRm(IVE42:IXD42)","v":1.0999999999999999},null,null,{"$f":"IRR(IVI42:IXH42)","v":{"$error":"#NUM!"}},{"$f":"IRRm(IVI42:IXH42)","v":1.0999999999999999},null,null,{"$f":"IRR(IVM42:IXL42)","v":{"$error":"#NUM!"}},{"$f":"IRRm(IVM42:IXL42)","v":1.0999999999999999},null,null,{"$f":"IRR(IVQ42:IXP42)","v":{"$error":"#NUM!"}},{"$f":"IRRm(IVQ42:IXP42)","v":1.0999999999999999},null,null,{"$f":"IRR(IVU42:IXT42)","v":{"$error":"#NUM!"}},{"$f":"IRRm(IVU42:IXT42)","v":1.0999999999999999},null,null,{"$f":"IRR(IVY42:IXX42)","v":{"$error":"#NUM!"}},{"$f":"IRRm(IVY42:IXX42)","v":1.0999999999999999},null,null,{"$f":"IRR(IWC42:IYB42)","v":{"$error":"#NUM!"}},{"$f":"IRRm(IWC42:IYB42)","v":1.0999999999999999},null,null,{"$f":"IRR(IWG42:IYF42)","v":{"$error":"#NUM!"}},{"$f":"IRRm(IWG42:IYF42)","v":1.0999999999999999},null,null,{"$f":"IRR(IWK42:IYJ42)","v":{"$error":"#NUM!"}},{"$f":"IRRm(IWK42:IYJ42)","v":1.0999999999999999},null,null,{"$f":"IRR(IWO42:IYN42)","v":{"$error":"#NUM!"}},{"$f":"IRRm(IWO42:IYN42)","v":1.0999999999999999},null,null,{"$f":"IRR(IWS42:IYR42)","v":{"$error":"#NUM!"}},{"$f":"IRRm(IWS42:IYR42)","v":1.0999999999999999},null,null,{"$f":"IRR(IWW42:IYV42)","v":{"$error":"#NUM!"}},{"$f":"IRRm(IWW42:IYV42)","v":1.0999999999999999},null,null,{"$f":"IRR(IXA42:IYZ42)","v":{"$error":"#NUM!"}},{"$f":"IRRm(IXA42:IYZ42)","v":1.0999999999999999},null,null,{"$f":"IRR(IXE42:IZD42)","v":{"$error":"#NUM!"}},{"$f":"IRRm(IXE42:IZD42)","v":1.0999999999999999},null,null,{"$f":"IRR(IXI42:IZH42)","v":{"$error":"#NUM!"}},{"$f":"IRRm(IXI42:IZH42)","v":1.0999999999999999},null,null,{"$f":"IRR(IXM42:IZL42)","v":{"$error":"#NUM!"}},{"$f":"IRRm(IXM42:IZL42)","v":1.0999999999999999},null,null,{"$f":"IRR(IXQ42:IZP42)","v":{"$error":"#NUM!"}},{"$f":"IRRm(IXQ42:IZP42)","v":1.0999999999999999},null,null,{"$f":"IRR(IXU42:IZT42)","v":{"$error":"#NUM!"}},{"$f":"IRRm(IXU42:IZT42)","v":1.0999999999999999},null,null,{"$f":"IRR(IXY42:IZX42)","v":{"$error":"#NUM!"}},{"$f":"IRRm(IXY42:IZX42)","v":1.0999999999999999},null,null,{"$f":"IRR(IYC42:JAB42)","v":{"$error":"#NUM!"}},{"$f":"IRRm(IYC42:JAB42)","v":1.0999999999999999},null,null,{"$f":"IRR(IYG42:JAF42)","v":{"$error":"#NUM!"}},{"$f":"IRRm(IYG42:JAF42)","v":1.0999999999999999},null,null,{"$f":"IRR(IYK42:JAJ42)","v":{"$error":"#NUM!"}},{"$f":"IRRm(IYK42:JAJ42)","v":1.0999999999999999},null,null,{"$f":"IRR(IYO42:JAN42)","v":{"$error":"#NUM!"}},{"$f":"IRRm(IYO42:JAN42)","v":1.0999999999999999},null,null,{"$f":"IRR(IYS42:JAR42)","v":{"$error":"#NUM!"}},{"$f":"IRRm(IYS42:JAR42)","v":1.0999999999999999},null,null,{"$f":"IRR(IYW42:JAV42)","v":{"$error":"#NUM!"}},{"$f":"IRRm(IYW42:JAV42)","v":1.0999999999999999},null,null,{"$f":"IRR(IZA42:JAZ42)","v":{"$error":"#NUM!"}},{"$f":"IRRm(IZA42:JAZ42)","v":1.0999999999999999},null,null,{"$f":"IRR(IZE42:JBD42)","v":{"$error":"#NUM!"}},{"$f":"IRRm(IZE42:JBD42)","v":1.0999999999999999},null,null,{"$f":"IRR(IZI42:JBH42)","v":{"$error":"#NUM!"}},{"$f":"IRRm(IZI42:JBH42)","v":1.0999999999999999},null,null,{"$f":"IRR(IZM42:JBL42)","v":{"$error":"#NUM!"}},{"$f":"IRRm(IZM42:JBL42)","v":1.0999999999999999},null,null,{"$f":"IRR(IZQ42:JBP42)","v":{"$error":"#NUM!"}},{"$f":"IRRm(IZQ42:JBP42)","v":1.0999999999999999},null,null,{"$f":"IRR(IZU42:JBT42)","v":{"$error":"#NUM!"}},{"$f":"IRRm(IZU42:JBT42)","v":1.0999999999999999},null,null,{"$f":"IRR(IZY42:JBX42)","v":{"$error":"#NUM!"}},{"$f":"IRRm(IZY42:JBX42)","v":1.0999999999999999},null,null,{"$f":"IRR(JAC42:JCB42)","v":{"$error":"#NUM!"}},{"$f":"IRRm(JAC42:JCB42)","v":1.0999999999999999},null,null,{"$f":"IRR(JAG42:JCF42)","v":{"$error":"#NUM!"}},{"$f":"IRRm(JAG42:JCF42)","v":1.0999999999999999},null,null,{"$f":"IRR(JAK42:JCJ42)","v":{"$error":"#NUM!"}},{"$f":"IRRm(JAK42:JCJ42)","v":1.0999999999999999},null,null,{"$f":"IRR(JAO42:JCN42)","v":{"$error":"#NUM!"}},{"$f":"IRRm(JAO42:JCN42)","v":1.0999999999999999},null,null,{"$f":"IRR(JAS42:JCR42)","v":{"$error":"#NUM!"}},{"$f":"IRRm(JAS42:JCR42)","v":1.0999999999999999},null,null,{"$f":"IRR(JAW42:JCV42)","v":{"$error":"#NUM!"}},{"$f":"IRRm(JAW42:JCV42)","v":1.0999999999999999},null,null,{"$f":"IRR(JBA42:JCZ42)","v":{"$error":"#NUM!"}},{"$f":"IRRm(JBA42:JCZ42)","v":1.0999999999999999},null,null,{"$f":"IRR(JBE42:JDD42)","v":{"$error":"#NUM!"}},{"$f":"IRRm(JBE42:JDD42)","v":1.0999999999999999},null,null,{"$f":"IRR(JBI42:JDH42)","v":{"$error":"#NUM!"}},{"$f":"IRRm(JBI42:JDH42)","v":1.0999999999999999},null,null,{"$f":"IRR(JBM42:JDL42)","v":{"$error":"#NUM!"}},{"$f":"IRRm(JBM42:JDL42)","v":1.0999999999999999},null,null,{"$f":"IRR(JBQ42:JDP42)","v":{"$error":"#NUM!"}},{"$f":"IRRm(JBQ42:JDP42)","v":1.0999999999999999},null,null,{"$f":"IRR(JBU42:JDT42)","v":{"$error":"#NUM!"}},{"$f":"IRRm(JBU42:JDT42)","v":1.0999999999999999},null,null,{"$f":"IRR(JBY42:JDX42)","v":{"$error":"#NUM!"}},{"$f":"IRRm(JBY42:JDX42)","v":1.0999999999999999},null,null,{"$f":"IRR(JCC42:JEB42)","v":{"$error":"#NUM!"}},{"$f":"IRRm(JCC42:JEB42)","v":1.0999999999999999},null,null,{"$f":"IRR(JCG42:JEF42)","v":{"$error":"#NUM!"}},{"$f":"IRRm(JCG42:JEF42)","v":1.0999999999999999},null,null,{"$f":"IRR(JCK42:JEJ42)","v":{"$error":"#NUM!"}},{"$f":"IRRm(JCK42:JEJ42)","v":1.0999999999999999},null,null,{"$f":"IRR(JCO42:JEN42)","v":{"$error":"#NUM!"}},{"$f":"IRRm(JCO42:JEN42)","v":1.0999999999999999},null,null,{"$f":"IRR(JCS42:JER42)","v":{"$error":"#NUM!"}},{"$f":"IRRm(JCS42:JER42)","v":1.0999999999999999},null,null,{"$f":"IRR(JCW42:JEV42)","v":{"$error":"#NUM!"}},{"$f":"IRRm(JCW42:JEV42)","v":1.0999999999999999},null,null,{"$f":"IRR(JDA42:JEZ42)","v":{"$error":"#NUM!"}},{"$f":"IRRm(JDA42:JEZ42)","v":1.0999999999999999},null,null,{"$f":"IRR(JDE42:JFD42)","v":{"$error":"#NUM!"}},{"$f":"IRRm(JDE42:JFD42)","v":1.0999999999999999},null,null,{"$f":"IRR(JDI42:JFH42)","v":{"$error":"#NUM!"}},{"$f":"IRRm(JDI42:JFH42)","v":1.0999999999999999},null,null,{"$f":"IRR(JDM42:JFL42)","v":{"$error":"#NUM!"}},{"$f":"IRRm(JDM42:JFL42)","v":1.0999999999999999},null,null,{"$f":"IRR(JDQ42:JFP42)","v":{"$error":"#NUM!"}},{"$f":"IRRm(JDQ42:JFP42)","v":1.0999999999999999},null,null,{"$f":"IRR(JDU42:JFT42)","v":{"$error":"#NUM!"}},{"$f":"IRRm(JDU42:JFT42)","v":1.0999999999999999},null,null,{"$f":"IRR(JDY42:JFX42)","v":{"$error":"#NUM!"}},{"$f":"IRRm(JDY42:JFX42)","v":1.0999999999999999},null,null,{"$f":"IRR(JEC42:JGB42)","v":{"$error":"#NUM!"}},{"$f":"IRRm(JEC42:JGB42)","v":1.0999999999999999},null,null,{"$f":"IRR(JEG42:JGF42)","v":{"$error":"#NUM!"}},{"$f":"IRRm(JEG42:JGF42)","v":1.0999999999999999},null,null,{"$f":"IRR(JEK42:JGJ42)","v":{"$error":"#NUM!"}},{"$f":"IRRm(JEK42:JGJ42)","v":1.0999999999999999},null,null,{"$f":"IRR(JEO42:JGN42)","v":{"$error":"#NUM!"}},{"$f":"IRRm(JEO42:JGN42)","v":1.0999999999999999},null,null,{"$f":"IRR(JES42:JGR42)","v":{"$error":"#NUM!"}},{"$f":"IRRm(JES42:JGR42)","v":1.0999999999999999},null,null,{"$f":"IRR(JEW42:JGV42)","v":{"$error":"#NUM!"}},{"$f":"IRRm(JEW42:JGV42)","v":1.0999999999999999},null,null,{"$f":"IRR(JFA42:JGZ42)","v":{"$error":"#NUM!"}},{"$f":"IRRm(JFA42:JGZ42)","v":1.0999999999999999},null,null,{"$f":"IRR(JFE42:JHD42)","v":{"$error":"#NUM!"}},{"$f":"IRRm(JFE42:JHD42)","v":1.0999999999999999},null,null,{"$f":"IRR(JFI42:JHH42)","v":{"$error":"#NUM!"}},{"$f":"IRRm(JFI42:JHH42)","v":1.0999999999999999},null,null,{"$f":"IRR(JFM42:JHL42)","v":{"$error":"#NUM!"}},{"$f":"IRRm(JFM42:JHL42)","v":1.0999999999999999},null,null,{"$f":"IRR(JFQ42:JHP42)","v":{"$error":"#NUM!"}},{"$f":"IRRm(JFQ42:JHP42)","v":1.0999999999999999},null,null,{"$f":"IRR(JFU42:JHT42)","v":{"$error":"#NUM!"}},{"$f":"IRRm(JFU42:JHT42)","v":1.0999999999999999},null,null,{"$f":"IRR(JFY42:JHX42)","v":{"$error":"#NUM!"}},{"$f":"IRRm(JFY42:JHX42)","v":1.0999999999999999},null,null,{"$f":"IRR(JGC42:JIB42)","v":{"$error":"#NUM!"}},{"$f":"IRRm(JGC42:JIB42)","v":1.0999999999999999},null,null,{"$f":"IRR(JGG42:JIF42)","v":{"$error":"#NUM!"}},{"$f":"IRRm(JGG42:JIF42)","v":1.0999999999999999},null,null,{"$f":"IRR(JGK42:JIJ42)","v":{"$error":"#NUM!"}},{"$f":"IRRm(JGK42:JIJ42)","v":1.0999999999999999},null,null,{"$f":"IRR(JGO42:JIN42)","v":{"$error":"#NUM!"}},{"$f":"IRRm(JGO42:JIN42)","v":1.0999999999999999},null,null,{"$f":"IRR(JGS42:JIR42)","v":{"$error":"#NUM!"}},{"$f":"IRRm(JGS42:JIR42)","v":1.0999999999999999},null,null,{"$f":"IRR(JGW42:JIV42)","v":{"$error":"#NUM!"}},{"$f":"IRRm(JGW42:JIV42)","v":1.0999999999999999},null,null,{"$f":"IRR(JHA42:JIZ42)","v":{"$error":"#NUM!"}},{"$f":"IRRm(JHA42:JIZ42)","v":1.0999999999999999},null,null,{"$f":"IRR(JHE42:JJD42)","v":{"$error":"#NUM!"}},{"$f":"IRRm(JHE42:JJD42)","v":1.0999999999999999},null,null,{"$f":"IRR(JHI42:JJH42)","v":{"$error":"#NUM!"}},{"$f":"IRRm(JHI42:JJH42)","v":1.0999999999999999},null,null,{"$f":"IRR(JHM42:JJL42)","v":{"$error":"#NUM!"}},{"$f":"IRRm(JHM42:JJL42)","v":1.0999999999999999},null,null,{"$f":"IRR(JHQ42:JJP42)","v":{"$error":"#NUM!"}},{"$f":"IRRm(JHQ42:JJP42)","v":1.0999999999999999},null,null,{"$f":"IRR(JHU42:JJT42)","v":{"$error":"#NUM!"}},{"$f":"IRRm(JHU42:JJT42)","v":1.0999999999999999},null,null,{"$f":"IRR(JHY42:JJX42)","v":{"$error":"#NUM!"}},{"$f":"IRRm(JHY42:JJX42)","v":1.0999999999999999},null,null,{"$f":"IRR(JIC42:JKB42)","v":{"$error":"#NUM!"}},{"$f":"IRRm(JIC42:JKB42)","v":1.0999999999999999},null,null,{"$f":"IRR(JIG42:JKF42)","v":{"$error":"#NUM!"}},{"$f":"IRRm(JIG42:JKF42)","v":1.0999999999999999},null,null,{"$f":"IRR(JIK42:JKJ42)","v":{"$error":"#NUM!"}},{"$f":"IRRm(JIK42:JKJ42)","v":1.0999999999999999},null,null,{"$f":"IRR(JIO42:JKN42)","v":{"$error":"#NUM!"}},{"$f":"IRRm(JIO42:JKN42)","v":1.0999999999999999},null,null,{"$f":"IRR(JIS42:JKR42)","v":{"$error":"#NUM!"}},{"$f":"IRRm(JIS42:JKR42)","v":1.0999999999999999},null,null,{"$f":"IRR(JIW42:JKV42)","v":{"$error":"#NUM!"}},{"$f":"IRRm(JIW42:JKV42)","v":1.0999999999999999},null,null,{"$f":"IRR(JJA42:JKZ42)","v":{"$error":"#NUM!"}},{"$f":"IRRm(JJA42:JKZ42)","v":1.0999999999999999},null,null,{"$f":"IRR(JJE42:JLD42)","v":{"$error":"#NUM!"}},{"$f":"IRRm(JJE42:JLD42)","v":1.0999999999999999},null,null,{"$f":"IRR(JJI42:JLH42)","v":{"$error":"#NUM!"}},{"$f":"IRRm(JJI42:JLH42)","v":1.0999999999999999},null,null,{"$f":"IRR(JJM42:JLL42)","v":{"$error":"#NUM!"}},{"$f":"IRRm(JJM42:JLL42)","v":1.0999999999999999},null,null,{"$f":"IRR(JJQ42:JLP42)","v":{"$error":"#NUM!"}},{"$f":"IRRm(JJQ42:JLP42)","v":1.0999999999999999},null,null,{"$f":"IRR(JJU42:JLT42)","v":{"$error":"#NUM!"}},{"$f":"IRRm(JJU42:JLT42)","v":1.0999999999999999},null,null,{"$f":"IRR(JJY42:JLX42)","v":{"$error":"#NUM!"}},{"$f":"IRRm(JJY42:JLX42)","v":1.0999999999999999},null,null,{"$f":"IRR(JKC42:JMB42)","v":{"$error":"#NUM!"}},{"$f":"IRRm(JKC42:JMB42)","v":1.0999999999999999},null,null,{"$f":"IRR(JKG42:JMF42)","v":{"$error":"#NUM!"}},{"$f":"IRRm(JKG42:JMF42)","v":1.0999999999999999},null,null,{"$f":"IRR(JKK42:JMJ42)","v":{"$error":"#NUM!"}},{"$f":"IRRm(JKK42:JMJ42)","v":1.0999999999999999},null,null,{"$f":"IRR(JKO42:JMN42)","v":{"$error":"#NUM!"}},{"$f":"IRRm(JKO42:JMN42)","v":1.0999999999999999},null,null,{"$f":"IRR(JKS42:JMR42)","v":{"$error":"#NUM!"}},{"$f":"IRRm(JKS42:JMR42)","v":1.0999999999999999},null,null,{"$f":"IRR(JKW42:JMV42)","v":{"$error":"#NUM!"}},{"$f":"IRRm(JKW42:JMV42)","v":1.0999999999999999},null,null,{"$f":"IRR(JLA42:JMZ42)","v":{"$error":"#NUM!"}},{"$f":"IRRm(JLA42:JMZ42)","v":1.0999999999999999},null,null,{"$f":"IRR(JLE42:JND42)","v":{"$error":"#NUM!"}},{"$f":"IRRm(JLE42:JND42)","v":1.0999999999999999},null,null,{"$f":"IRR(JLI42:JNH42)","v":{"$error":"#NUM!"}},{"$f":"IRRm(JLI42:JNH42)","v":1.0999999999999999},null,null,{"$f":"IRR(JLM42:JNL42)","v":{"$error":"#NUM!"}},{"$f":"IRRm(JLM42:JNL42)","v":1.0999999999999999},null,null,{"$f":"IRR(JLQ42:JNP42)","v":{"$error":"#NUM!"}},{"$f":"IRRm(JLQ42:JNP42)","v":1.0999999999999999},null,null,{"$f":"IRR(JLU42:JNT42)","v":{"$error":"#NUM!"}},{"$f":"IRRm(JLU42:JNT42)","v":1.0999999999999999},null,null,{"$f":"IRR(JLY42:JNX42)","v":{"$error":"#NUM!"}},{"$f":"IRRm(JLY42:JNX42)","v":1.0999999999999999},null,null,{"$f":"IRR(JMC42:JOB42)","v":{"$error":"#NUM!"}},{"$f":"IRRm(JMC42:JOB42)","v":1.0999999999999999},null,null,{"$f":"IRR(JMG42:JOF42)","v":{"$error":"#NUM!"}},{"$f":"IRRm(JMG42:JOF42)","v":1.0999999999999999},null,null,{"$f":"IRR(JMK42:JOJ42)","v":{"$error":"#NUM!"}},{"$f":"IRRm(JMK42:JOJ42)","v":1.0999999999999999},null,null,{"$f":"IRR(JMO42:JON42)","v":{"$error":"#NUM!"}},{"$f":"IRRm(JMO42:JON42)","v":1.0999999999999999},null,null,{"$f":"IRR(JMS42:JOR42)","v":{"$error":"#NUM!"}},{"$f":"IRRm(JMS42:JOR42)","v":1.0999999999999999},null,null,{"$f":"IRR(JMW42:JOV42)","v":{"$error":"#NUM!"}},{"$f":"IRRm(JMW42:JOV42)","v":1.0999999999999999},null,null,{"$f":"IRR(JNA42:JOZ42)","v":{"$error":"#NUM!"}},{"$f":"IRRm(JNA42:JOZ42)","v":1.0999999999999999},null,null,{"$f":"IRR(JNE42:JPD42)","v":{"$error":"#NUM!"}},{"$f":"IRRm(JNE42:JPD42)","v":1.0999999999999999},null,null,{"$f":"IRR(JNI42:JPH42)","v":{"$error":"#NUM!"}},{"$f":"IRRm(JNI42:JPH42)","v":1.0999999999999999},null,null,{"$f":"IRR(JNM42:JPL42)","v":{"$error":"#NUM!"}},{"$f":"IRRm(JNM42:JPL42)","v":1.0999999999999999},null,null,{"$f":"IRR(JNQ42:JPP42)","v":{"$error":"#NUM!"}},{"$f":"IRRm(JNQ42:JPP42)","v":1.0999999999999999},null,null,{"$f":"IRR(JNU42:JPT42)","v":{"$error":"#NUM!"}},{"$f":"IRRm(JNU42:JPT42)","v":1.0999999999999999},null,null,{"$f":"IRR(JNY42:JPX42)","v":{"$error":"#NUM!"}},{"$f":"IRRm(JNY42:JPX42)","v":1.0999999999999999},null,null,{"$f":"IRR(JOC42:JQB42)","v":{"$error":"#NUM!"}},{"$f":"IRRm(JOC42:JQB42)","v":1.0999999999999999},null,null,{"$f":"IRR(JOG42:JQF42)","v":{"$error":"#NUM!"}},{"$f":"IRRm(JOG42:JQF42)","v":1.0999999999999999},null,null,{"$f":"IRR(JOK42:JQJ42)","v":{"$error":"#NUM!"}},{"$f":"IRRm(JOK42:JQJ42)","v":1.0999999999999999},null,null,{"$f":"IRR(JOO42:JQN42)","v":{"$error":"#NUM!"}},{"$f":"IRRm(JOO42:JQN42)","v":1.0999999999999999},null,null,{"$f":"IRR(JOS42:JQR42)","v":{"$error":"#NUM!"}},{"$f":"IRRm(JOS42:JQR42)","v":1.0999999999999999},null,null,{"$f":"IRR(JOW42:JQV42)","v":{"$error":"#NUM!"}},{"$f":"IRRm(JOW42:JQV42)","v":1.0999999999999999},null,null,{"$f":"IRR(JPA42:JQZ42)","v":{"$error":"#NUM!"}},{"$f":"IRRm(JPA42:JQZ42)","v":1.0999999999999999},null,null,{"$f":"IRR(JPE42:JRD42)","v":{"$error":"#NUM!"}},{"$f":"IRRm(JPE42:JRD42)","v":1.0999999999999999},null,null,{"$f":"IRR(JPI42:JRH42)","v":{"$error":"#NUM!"}},{"$f":"IRRm(JPI42:JRH42)","v":1.0999999999999999},null,null,{"$f":"IRR(JPM42:JRL42)","v":{"$error":"#NUM!"}},{"$f":"IRRm(JPM42:JRL42)","v":1.0999999999999999},null,null,{"$f":"IRR(JPQ42:JRP42)","v":{"$error":"#NUM!"}},{"$f":"IRRm(JPQ42:JRP42)","v":1.0999999999999999},null,null,{"$f":"IRR(JPU42:JRT42)","v":{"$error":"#NUM!"}},{"$f":"IRRm(JPU42:JRT42)","v":1.0999999999999999},null,null,{"$f":"IRR(JPY42:JRX42)","v":{"$error":"#NUM!"}},{"$f":"IRRm(JPY42:JRX42)","v":1.0999999999999999},null,null,{"$f":"IRR(JQC42:JSB42)","v":{"$error":"#NUM!"}},{"$f":"IRRm(JQC42:JSB42)","v":1.0999999999999999},null,null,{"$f":"IRR(JQG42:JSF42)","v":{"$error":"#NUM!"}},{"$f":"IRRm(JQG42:JSF42)","v":1.0999999999999999},null,null,{"$f":"IRR(JQK42:JSJ42)","v":{"$error":"#NUM!"}},{"$f":"IRRm(JQK42:JSJ42)","v":1.0999999999999999},null,null,{"$f":"IRR(JQO42:JSN42)","v":{"$error":"#NUM!"}},{"$f":"IRRm(JQO42:JSN42)","v":1.0999999999999999},null,null,{"$f":"IRR(JQS42:JSR42)","v":{"$error":"#NUM!"}},{"$f":"IRRm(JQS42:JSR42)","v":1.0999999999999999},null,null,{"$f":"IRR(JQW42:JSV42)","v":{"$error":"#NUM!"}},{"$f":"IRRm(JQW42:JSV42)","v":1.0999999999999999},null,null,{"$f":"IRR(JRA42:JSZ42)","v":{"$error":"#NUM!"}},{"$f":"IRRm(JRA42:JSZ42)","v":1.0999999999999999},null,null,{"$f":"IRR(JRE42:JTD42)","v":{"$error":"#NUM!"}},{"$f":"IRRm(JRE42:JTD42)","v":1.0999999999999999},null,null,{"$f":"IRR(JRI42:JTH42)","v":{"$error":"#NUM!"}},{"$f":"IRRm(JRI42:JTH42)","v":1.0999999999999999},null,null,{"$f":"IRR(JRM42:JTL42)","v":{"$error":"#NUM!"}},{"$f":"IRRm(JRM42:JTL42)","v":1.0999999999999999},null,null,{"$f":"IRR(JRQ42:JTP42)","v":{"$error":"#NUM!"}},{"$f":"IRRm(JRQ42:JTP42)","v":1.0999999999999999},null,null,{"$f":"IRR(JRU42:JTT42)","v":{"$error":"#NUM!"}},{"$f":"IRRm(JRU42:JTT42)","v":1.0999999999999999},null,null,{"$f":"IRR(JRY42:JTX42)","v":{"$error":"#NUM!"}},{"$f":"IRRm(JRY42:JTX42)","v":1.0999999999999999},null,null,{"$f":"IRR(JSC42:JUB42)","v":{"$error":"#NUM!"}},{"$f":"IRRm(JSC42:JUB42)","v":1.0999999999999999},null,null,{"$f":"IRR(JSG42:JUF42)","v":{"$error":"#NUM!"}},{"$f":"IRRm(JSG42:JUF42)","v":1.0999999999999999},null,null,{"$f":"IRR(JSK42:JUJ42)","v":{"$error":"#NUM!"}},{"$f":"IRRm(JSK42:JUJ42)","v":1.0999999999999999},null,null,{"$f":"IRR(JSO42:JUN42)","v":{"$error":"#NUM!"}},{"$f":"IRRm(JSO42:JUN42)","v":1.0999999999999999},null,null,{"$f":"IRR(JSS42:JUR42)","v":{"$error":"#NUM!"}},{"$f":"IRRm(JSS42:JUR42)","v":1.0999999999999999},null,null,{"$f":"IRR(JSW42:JUV42)","v":{"$error":"#NUM!"}},{"$f":"IRRm(JSW42:JUV42)","v":1.0999999999999999},null,null,{"$f":"IRR(JTA42:JUZ42)","v":{"$error":"#NUM!"}},{"$f":"IRRm(JTA42:JUZ42)","v":1.0999999999999999},null,null,{"$f":"IRR(JTE42:JVD42)","v":{"$error":"#NUM!"}},{"$f":"IRRm(JTE42:JVD42)","v":1.0999999999999999},null,null,{"$f":"IRR(JTI42:JVH42)","v":{"$error":"#NUM!"}},{"$f":"IRRm(JTI42:JVH42)","v":1.0999999999999999},null,null,{"$f":"IRR(JTM42:JVL42)","v":{"$error":"#NUM!"}},{"$f":"IRRm(JTM42:JVL42)","v":1.0999999999999999},null,null,{"$f":"IRR(JTQ42:JVP42)","v":{"$error":"#NUM!"}},{"$f":"IRRm(JTQ42:JVP42)","v":1.0999999999999999},null,null,{"$f":"IRR(JTU42:JVT42)","v":{"$error":"#NUM!"}},{"$f":"IRRm(JTU42:JVT42)","v":1.0999999999999999},null,null,{"$f":"IRR(JTY42:JVX42)","v":{"$error":"#NUM!"}},{"$f":"IRRm(JTY42:JVX42)","v":1.0999999999999999},null,null,{"$f":"IRR(JUC42:JWB42)","v":{"$error":"#NUM!"}},{"$f":"IRRm(JUC42:JWB42)","v":1.0999999999999999},null,null,{"$f":"IRR(JUG42:JWF42)","v":{"$error":"#NUM!"}},{"$f":"IRRm(JUG42:JWF42)","v":1.0999999999999999},null,null,{"$f":"IRR(JUK42:JWJ42)","v":{"$error":"#NUM!"}},{"$f":"IRRm(JUK42:JWJ42)","v":1.0999999999999999},null,null,{"$f":"IRR(JUO42:JWN42)","v":{"$error":"#NUM!"}},{"$f":"IRRm(JUO42:JWN42)","v":1.0999999999999999},null,null,{"$f":"IRR(JUS42:JWR42)","v":{"$error":"#NUM!"}},{"$f":"IRRm(JUS42:JWR42)","v":1.0999999999999999},null,null,{"$f":"IRR(JUW42:JWV42)","v":{"$error":"#NUM!"}},{"$f":"IRRm(JUW42:JWV42)","v":1.0999999999999999},null,null,{"$f":"IRR(JVA42:JWZ42)","v":{"$error":"#NUM!"}},{"$f":"IRRm(JVA42:JWZ42)","v":1.0999999999999999},null,null,{"$f":"IRR(JVE42:JXD42)","v":{"$error":"#NUM!"}},{"$f":"IRRm(JVE42:JXD42)","v":1.0999999999999999},null,null,{"$f":"IRR(JVI42:JXH42)","v":{"$error":"#NUM!"}},{"$f":"IRRm(JVI42:JXH42)","v":1.0999999999999999},null,null,{"$f":"IRR(JVM42:JXL42)","v":{"$error":"#NUM!"}},{"$f":"IRRm(JVM42:JXL42)","v":1.0999999999999999},null,null,{"$f":"IRR(JVQ42:JXP42)","v":{"$error":"#NUM!"}},{"$f":"IRRm(JVQ42:JXP42)","v":1.0999999999999999},null,null,{"$f":"IRR(JVU42:JXT42)","v":{"$error":"#NUM!"}},{"$f":"IRRm(JVU42:JXT42)","v":1.0999999999999999},null,null,{"$f":"IRR(JVY42:JXX42)","v":{"$error":"#NUM!"}},{"$f":"IRRm(JVY42:JXX42)","v":1.0999999999999999},null,null,{"$f":"IRR(JWC42:JYB42)","v":{"$error":"#NUM!"}},{"$f":"IRRm(JWC42:JYB42)","v":1.0999999999999999},null,null,{"$f":"IRR(JWG42:JYF42)","v":{"$error":"#NUM!"}},{"$f":"IRRm(JWG42:JYF42)","v":1.0999999999999999},null,null,{"$f":"IRR(JWK42:JYJ42)","v":{"$error":"#NUM!"}},{"$f":"IRRm(JWK42:JYJ42)","v":1.0999999999999999},null,null,{"$f":"IRR(JWO42:JYN42)","v":{"$error":"#NUM!"}},{"$f":"IRRm(JWO42:JYN42)","v":1.0999999999999999},null,null,{"$f":"IRR(JWS42:JYR42)","v":{"$error":"#NUM!"}},{"$f":"IRRm(JWS42:JYR42)","v":1.0999999999999999},null,null,{"$f":"IRR(JWW42:JYV42)","v":{"$error":"#NUM!"}},{"$f":"IRRm(JWW42:JYV42)","v":1.0999999999999999},null,null,{"$f":"IRR(JXA42:JYZ42)","v":{"$error":"#NUM!"}},{"$f":"IRRm(JXA42:JYZ42)","v":1.0999999999999999},null,null,{"$f":"IRR(JXE42:JZD42)","v":{"$error":"#NUM!"}},{"$f":"IRRm(JXE42:JZD42)","v":1.0999999999999999},null,null,{"$f":"IRR(JXI42:JZH42)","v":{"$error":"#NUM!"}},{"$f":"IRRm(JXI42:JZH42)","v":1.0999999999999999},null,null,{"$f":"IRR(JXM42:JZL42)","v":{"$error":"#NUM!"}},{"$f":"IRRm(JXM42:JZL42)","v":1.0999999999999999},null,null,{"$f":"IRR(JXQ42:JZP42)","v":{"$error":"#NUM!"}},{"$f":"IRRm(JXQ42:JZP42)","v":1.0999999999999999},null,null,{"$f":"IRR(JXU42:JZT42)","v":{"$error":"#NUM!"}},{"$f":"IRRm(JXU42:JZT42)","v":1.0999999999999999},null,null,{"$f":"IRR(JXY42:JZX42)","v":{"$error":"#NUM!"}},{"$f":"IRRm(JXY42:JZX42)","v":1.0999999999999999},null,null,{"$f":"IRR(JYC42:KAB42)","v":{"$error":"#NUM!"}},{"$f":"IRRm(JYC42:KAB42)","v":1.0999999999999999},null,null,{"$f":"IRR(JYG42:KAF42)","v":{"$error":"#NUM!"}},{"$f":"IRRm(JYG42:KAF42)","v":1.0999999999999999},null,null,{"$f":"IRR(JYK42:KAJ42)","v":{"$error":"#NUM!"}},{"$f":"IRRm(JYK42:KAJ42)","v":1.0999999999999999},null,null,{"$f":"IRR(JYO42:KAN42)","v":{"$error":"#NUM!"}},{"$f":"IRRm(JYO42:KAN42)","v":1.0999999999999999},null,null,{"$f":"IRR(JYS42:KAR42)","v":{"$error":"#NUM!"}},{"$f":"IRRm(JYS42:KAR42)","v":1.0999999999999999},null,null,{"$f":"IRR(JYW42:KAV42)","v":{"$error":"#NUM!"}},{"$f":"IRRm(JYW42:KAV42)","v":1.0999999999999999},null,null,{"$f":"IRR(JZA42:KAZ42)","v":{"$error":"#NUM!"}},{"$f":"IRRm(JZA42:KAZ42)","v":1.0999999999999999},null,null,{"$f":"IRR(JZE42:KBD42)","v":{"$error":"#NUM!"}},{"$f":"IRRm(JZE42:KBD42)","v":1.0999999999999999},null,null,{"$f":"IRR(JZI42:KBH42)","v":{"$error":"#NUM!"}},{"$f":"IRRm(JZI42:KBH42)","v":1.0999999999999999},null,null,{"$f":"IRR(JZM42:KBL42)","v":{"$error":"#NUM!"}},{"$f":"IRRm(JZM42:KBL42)","v":1.0999999999999999},null,null,{"$f":"IRR(JZQ42:KBP42)","v":{"$error":"#NUM!"}},{"$f":"IRRm(JZQ42:KBP42)","v":1.0999999999999999},null,null,{"$f":"IRR(JZU42:KBT42)","v":{"$error":"#NUM!"}},{"$f":"IRRm(JZU42:KBT42)","v":1.0999999999999999},null,null,{"$f":"IRR(JZY42:KBX42)","v":{"$error":"#NUM!"}},{"$f":"IRRm(JZY42:KBX42)","v":1.0999999999999999},null,null,{"$f":"IRR(KAC42:KCB42)","v":{"$error":"#NUM!"}},{"$f":"IRRm(KAC42:KCB42)","v":1.0999999999999999},null,null,{"$f":"IRR(KAG42:KCF42)","v":{"$error":"#NUM!"}},{"$f":"IRRm(KAG42:KCF42)","v":1.0999999999999999},null,null,{"$f":"IRR(KAK42:KCJ42)","v":{"$error":"#NUM!"}},{"$f":"IRRm(KAK42:KCJ42)","v":1.0999999999999999},null,null,{"$f":"IRR(KAO42:KCN42)","v":{"$error":"#NUM!"}},{"$f":"IRRm(KAO42:KCN42)","v":1.0999999999999999},null,null,{"$f":"IRR(KAS42:KCR42)","v":{"$error":"#NUM!"}},{"$f":"IRRm(KAS42:KCR42)","v":1.0999999999999999},null,null,{"$f":"IRR(KAW42:KCV42)","v":{"$error":"#NUM!"}},{"$f":"IRRm(KAW42:KCV42)","v":1.0999999999999999},null,null,{"$f":"IRR(KBA42:KCZ42)","v":{"$error":"#NUM!"}},{"$f":"IRRm(KBA42:KCZ42)","v":1.0999999999999999},null,null,{"$f":"IRR(KBE42:KDD42)","v":{"$error":"#NUM!"}},{"$f":"IRRm(KBE42:KDD42)","v":1.0999999999999999},null,null,{"$f":"IRR(KBI42:KDH42)","v":{"$error":"#NUM!"}},{"$f":"IRRm(KBI42:KDH42)","v":1.0999999999999999},null,null,{"$f":"IRR(KBM42:KDL42)","v":{"$error":"#NUM!"}},{"$f":"IRRm(KBM42:KDL42)","v":1.0999999999999999},null,null,{"$f":"IRR(KBQ42:KDP42)","v":{"$error":"#NUM!"}},{"$f":"IRRm(KBQ42:KDP42)","v":1.0999999999999999},null,null,{"$f":"IRR(KBU42:KDT42)","v":{"$error":"#NUM!"}},{"$f":"IRRm(KBU42:KDT42)","v":1.0999999999999999},null,null,{"$f":"IRR(KBY42:KDX42)","v":{"$error":"#NUM!"}},{"$f":"IRRm(KBY42:KDX42)","v":1.0999999999999999},null,null,{"$f":"IRR(KCC42:KEB42)","v":{"$error":"#NUM!"}},{"$f":"IRRm(KCC42:KEB42)","v":1.0999999999999999},null,null,{"$f":"IRR(KCG42:KEF42)","v":{"$error":"#NUM!"}},{"$f":"IRRm(KCG42:KEF42)","v":1.0999999999999999},null,null,{"$f":"IRR(KCK42:KEJ42)","v":{"$error":"#NUM!"}},{"$f":"IRRm(KCK42:KEJ42)","v":1.0999999999999999},null,null,{"$f":"IRR(KCO42:KEN42)","v":{"$error":"#NUM!"}},{"$f":"IRRm(KCO42:KEN42)","v":1.0999999999999999},null,null,{"$f":"IRR(KCS42:KER42)","v":{"$error":"#NUM!"}},{"$f":"IRRm(KCS42:KER42)","v":1.0999999999999999},null,null,{"$f":"IRR(KCW42:KEV42)","v":{"$error":"#NUM!"}},{"$f":"IRRm(KCW42:KEV42)","v":1.0999999999999999},null,null,{"$f":"IRR(KDA42:KEZ42)","v":{"$error":"#NUM!"}},{"$f":"IRRm(KDA42:KEZ42)","v":1.0999999999999999},null,null,{"$f":"IRR(KDE42:KFD42)","v":{"$error":"#NUM!"}},{"$f":"IRRm(KDE42:KFD42)","v":1.0999999999999999},null,null,{"$f":"IRR(KDI42:KFH42)","v":{"$error":"#NUM!"}},{"$f":"IRRm(KDI42:KFH42)","v":1.0999999999999999},null,null,{"$f":"IRR(KDM42:KFL42)","v":{"$error":"#NUM!"}},{"$f":"IRRm(KDM42:KFL42)","v":1.0999999999999999},null,null,{"$f":"IRR(KDQ42:KFP42)","v":{"$error":"#NUM!"}},{"$f":"IRRm(KDQ42:KFP42)","v":1.0999999999999999},null,null,{"$f":"IRR(KDU42:KFT42)","v":{"$error":"#NUM!"}},{"$f":"IRRm(KDU42:KFT42)","v":1.0999999999999999},null,null,{"$f":"IRR(KDY42:KFX42)","v":{"$error":"#NUM!"}},{"$f":"IRRm(KDY42:KFX42)","v":1.0999999999999999},null,null,{"$f":"IRR(KEC42:KGB42)","v":{"$error":"#NUM!"}},{"$f":"IRRm(KEC42:KGB42)","v":1.0999999999999999},null,null,{"$f":"IRR(KEG42:KGF42)","v":{"$error":"#NUM!"}},{"$f":"IRRm(KEG42:KGF42)","v":1.0999999999999999},null,null,{"$f":"IRR(KEK42:KGJ42)","v":{"$error":"#NUM!"}},{"$f":"IRRm(KEK42:KGJ42)","v":1.0999999999999999},null,null,{"$f":"IRR(KEO42:KGN42)","v":{"$error":"#NUM!"}},{"$f":"IRRm(KEO42:KGN42)","v":1.0999999999999999},null,null,{"$f":"IRR(KES42:KGR42)","v":{"$error":"#NUM!"}},{"$f":"IRRm(KES42:KGR42)","v":1.0999999999999999},null,null,{"$f":"IRR(KEW42:KGV42)","v":{"$error":"#NUM!"}},{"$f":"IRRm(KEW42:KGV42)","v":1.0999999999999999},null,null,{"$f":"IRR(KFA42:KGZ42)","v":{"$error":"#NUM!"}},{"$f":"IRRm(KFA42:KGZ42)","v":1.0999999999999999},null,null,{"$f":"IRR(KFE42:KHD42)","v":{"$error":"#NUM!"}},{"$f":"IRRm(KFE42:KHD42)","v":1.0999999999999999},null,null,{"$f":"IRR(KFI42:KHH42)","v":{"$error":"#NUM!"}},{"$f":"IRRm(KFI42:KHH42)","v":1.0999999999999999},null,null,{"$f":"IRR(KFM42:KHL42)","v":{"$error":"#NUM!"}},{"$f":"IRRm(KFM42:KHL42)","v":1.0999999999999999},null,null,{"$f":"IRR(KFQ42:KHP42)","v":{"$error":"#NUM!"}},{"$f":"IRRm(KFQ42:KHP42)","v":1.0999999999999999},null,null,{"$f":"IRR(KFU42:KHT42)","v":{"$error":"#NUM!"}},{"$f":"IRRm(KFU42:KHT42)","v":1.0999999999999999},null,null,{"$f":"IRR(KFY42:KHX42)","v":{"$error":"#NUM!"}},{"$f":"IRRm(KFY42:KHX42)","v":1.0999999999999999},null,null,{"$f":"IRR(KGC42:KIB42)","v":{"$error":"#NUM!"}},{"$f":"IRRm(KGC42:KIB42)","v":1.0999999999999999},null,null,{"$f":"IRR(KGG42:KIF42)","v":{"$error":"#NUM!"}},{"$f":"IRRm(KGG42:KIF42)","v":1.0999999999999999},null,null,{"$f":"IRR(KGK42:KIJ42)","v":{"$error":"#NUM!"}},{"$f":"IRRm(KGK42:KIJ42)","v":1.0999999999999999},null,null,{"$f":"IRR(KGO42:KIN42)","v":{"$error":"#NUM!"}},{"$f":"IRRm(KGO42:KIN42)","v":1.0999999999999999},null,null,{"$f":"IRR(KGS42:KIR42)","v":{"$error":"#NUM!"}},{"$f":"IRRm(KGS42:KIR42)","v":1.0999999999999999},null,null,{"$f":"IRR(KGW42:KIV42)","v":{"$error":"#NUM!"}},{"$f":"IRRm(KGW42:KIV42)","v":1.0999999999999999},null,null,{"$f":"IRR(KHA42:KIZ42)","v":{"$error":"#NUM!"}},{"$f":"IRRm(KHA42:KIZ42)","v":1.0999999999999999},null,null,{"$f":"IRR(KHE42:KJD42)","v":{"$error":"#NUM!"}},{"$f":"IRRm(KHE42:KJD42)","v":1.0999999999999999},null,null,{"$f":"IRR(KHI42:KJH42)","v":{"$error":"#NUM!"}},{"$f":"IRRm(KHI42:KJH42)","v":1.0999999999999999},null,null,{"$f":"IRR(KHM42:KJL42)","v":{"$error":"#NUM!"}},{"$f":"IRRm(KHM42:KJL42)","v":1.0999999999999999},null,null,{"$f":"IRR(KHQ42:KJP42)","v":{"$error":"#NUM!"}},{"$f":"IRRm(KHQ42:KJP42)","v":1.0999999999999999},null,null,{"$f":"IRR(KHU42:KJT42)","v":{"$error":"#NUM!"}},{"$f":"IRRm(KHU42:KJT42)","v":1.0999999999999999},null,null,{"$f":"IRR(KHY42:KJX42)","v":{"$error":"#NUM!"}},{"$f":"IRRm(KHY42:KJX42)","v":1.0999999999999999},null,null,{"$f":"IRR(KIC42:KKB42)","v":{"$error":"#NUM!"}},{"$f":"IRRm(KIC42:KKB42)","v":1.0999999999999999},null,null,{"$f":"IRR(KIG42:KKF42)","v":{"$error":"#NUM!"}},{"$f":"IRRm(KIG42:KKF42)","v":1.0999999999999999},null,null,{"$f":"IRR(KIK42:KKJ42)","v":{"$error":"#NUM!"}},{"$f":"IRRm(KIK42:KKJ42)","v":1.0999999999999999},null,null,{"$f":"IRR(KIO42:KKN42)","v":{"$error":"#NUM!"}},{"$f":"IRRm(KIO42:KKN42)","v":1.0999999999999999},null,null,{"$f":"IRR(KIS42:KKR42)","v":{"$error":"#NUM!"}},{"$f":"IRRm(KIS42:KKR42)","v":1.0999999999999999},null,null,{"$f":"IRR(KIW42:KKV42)","v":{"$error":"#NUM!"}},{"$f":"IRRm(KIW42:KKV42)","v":1.0999999999999999},null,null,{"$f":"IRR(KJA42:KKZ42)","v":{"$error":"#NUM!"}},{"$f":"IRRm(KJA42:KKZ42)","v":1.0999999999999999},null,null,{"$f":"IRR(KJE42:KLD42)","v":{"$error":"#NUM!"}},{"$f":"IRRm(KJE42:KLD42)","v":1.0999999999999999},null,null,{"$f":"IRR(KJI42:KLH42)","v":{"$error":"#NUM!"}},{"$f":"IRRm(KJI42:KLH42)","v":1.0999999999999999},null,null,{"$f":"IRR(KJM42:KLL42)","v":{"$error":"#NUM!"}},{"$f":"IRRm(KJM42:KLL42)","v":1.0999999999999999},null,null,{"$f":"IRR(KJQ42:KLP42)","v":{"$error":"#NUM!"}},{"$f":"IRRm(KJQ42:KLP42)","v":1.0999999999999999},null,null,{"$f":"IRR(KJU42:KLT42)","v":{"$error":"#NUM!"}},{"$f":"IRRm(KJU42:KLT42)","v":1.0999999999999999},null,null,{"$f":"IRR(KJY42:KLX42)","v":{"$error":"#NUM!"}},{"$f":"IRRm(KJY42:KLX42)","v":1.0999999999999999},null,null,{"$f":"IRR(KKC42:KMB42)","v":{"$error":"#NUM!"}},{"$f":"IRRm(KKC42:KMB42)","v":1.0999999999999999},null,null,{"$f":"IRR(KKG42:KMF42)","v":{"$error":"#NUM!"}},{"$f":"IRRm(KKG42:KMF42)","v":1.0999999999999999},null,null,{"$f":"IRR(KKK42:KMJ42)","v":{"$error":"#NUM!"}},{"$f":"IRRm(KKK42:KMJ42)","v":1.0999999999999999},null,null,{"$f":"IRR(KKO42:KMN42)","v":{"$error":"#NUM!"}},{"$f":"IRRm(KKO42:KMN42)","v":1.0999999999999999},null,null,{"$f":"IRR(KKS42:KMR42)","v":{"$error":"#NUM!"}},{"$f":"IRRm(KKS42:KMR42)","v":1.0999999999999999},null,null,{"$f":"IRR(KKW42:KMV42)","v":{"$error":"#NUM!"}},{"$f":"IRRm(KKW42:KMV42)","v":1.0999999999999999},null,null,{"$f":"IRR(KLA42:KMZ42)","v":{"$error":"#NUM!"}},{"$f":"IRRm(KLA42:KMZ42)","v":1.0999999999999999},null,null,{"$f":"IRR(KLE42:KND42)","v":{"$error":"#NUM!"}},{"$f":"IRRm(KLE42:KND42)","v":1.0999999999999999},null,null,{"$f":"IRR(KLI42:KNH42)","v":{"$error":"#NUM!"}},{"$f":"IRRm(KLI42:KNH42)","v":1.0999999999999999},null,null,{"$f":"IRR(KLM42:KNL42)","v":{"$error":"#NUM!"}},{"$f":"IRRm(KLM42:KNL42)","v":1.0999999999999999},null,null,{"$f":"IRR(KLQ42:KNP42)","v":{"$error":"#NUM!"}},{"$f":"IRRm(KLQ42:KNP42)","v":1.0999999999999999},null,null,{"$f":"IRR(KLU42:KNT42)","v":{"$error":"#NUM!"}},{"$f":"IRRm(KLU42:KNT42)","v":1.0999999999999999},null,null,{"$f":"IRR(KLY42:KNX42)","v":{"$error":"#NUM!"}},{"$f":"IRRm(KLY42:KNX42)","v":1.0999999999999999},null,null,{"$f":"IRR(KMC42:KOB42)","v":{"$error":"#NUM!"}},{"$f":"IRRm(KMC42:KOB42)","v":1.0999999999999999},null,null,{"$f":"IRR(KMG42:KOF42)","v":{"$error":"#NUM!"}},{"$f":"IRRm(KMG42:KOF42)","v":1.0999999999999999},null,null,{"$f":"IRR(KMK42:KOJ42)","v":{"$error":"#NUM!"}},{"$f":"IRRm(KMK42:KOJ42)","v":1.0999999999999999},null,null,{"$f":"IRR(KMO42:KON42)","v":{"$error":"#NUM!"}},{"$f":"IRRm(KMO42:KON42)","v":1.0999999999999999},null,null,{"$f":"IRR(KMS42:KOR42)","v":{"$error":"#NUM!"}},{"$f":"IRRm(KMS42:KOR42)","v":1.0999999999999999},null,null,{"$f":"IRR(KMW42:KOV42)","v":{"$error":"#NUM!"}},{"$f":"IRRm(KMW42:KOV42)","v":1.0999999999999999},null,null,{"$f":"IRR(KNA42:KOZ42)","v":{"$error":"#NUM!"}},{"$f":"IRRm(KNA42:KOZ42)","v":1.0999999999999999},null,null,{"$f":"IRR(KNE42:KPD42)","v":{"$error":"#NUM!"}},{"$f":"IRRm(KNE42:KPD42)","v":1.0999999999999999},null,null,{"$f":"IRR(KNI42:KPH42)","v":{"$error":"#NUM!"}},{"$f":"IRRm(KNI42:KPH42)","v":1.0999999999999999},null,null,{"$f":"IRR(KNM42:KPL42)","v":{"$error":"#NUM!"}},{"$f":"IRRm(KNM42:KPL42)","v":1.0999999999999999},null,null,{"$f":"IRR(KNQ42:KPP42)","v":{"$error":"#NUM!"}},{"$f":"IRRm(KNQ42:KPP42)","v":1.0999999999999999},null,null,{"$f":"IRR(KNU42:KPT42)","v":{"$error":"#NUM!"}},{"$f":"IRRm(KNU42:KPT42)","v":1.0999999999999999},null,null,{"$f":"IRR(KNY42:KPX42)","v":{"$error":"#NUM!"}},{"$f":"IRRm(KNY42:KPX42)","v":1.0999999999999999},null,null,{"$f":"IRR(KOC42:KQB42)","v":{"$error":"#NUM!"}},{"$f":"IRRm(KOC42:KQB42)","v":1.0999999999999999},null,null,{"$f":"IRR(KOG42:KQF42)","v":{"$error":"#NUM!"}},{"$f":"IRRm(KOG42:KQF42)","v":1.0999999999999999},null,null,{"$f":"IRR(KOK42:KQJ42)","v":{"$error":"#NUM!"}},{"$f":"IRRm(KOK42:KQJ42)","v":1.0999999999999999},null,null,{"$f":"IRR(KOO42:KQN42)","v":{"$error":"#NUM!"}},{"$f":"IRRm(KOO42:KQN42)","v":1.0999999999999999},null,null,{"$f":"IRR(KOS42:KQR42)","v":{"$error":"#NUM!"}},{"$f":"IRRm(KOS42:KQR42)","v":1.0999999999999999},null,null,{"$f":"IRR(KOW42:KQV42)","v":{"$error":"#NUM!"}},{"$f":"IRRm(KOW42:KQV42)","v":1.0999999999999999},null,null,{"$f":"IRR(KPA42:KQZ42)","v":{"$error":"#NUM!"}},{"$f":"IRRm(KPA42:KQZ42)","v":1.0999999999999999},null,null,{"$f":"IRR(KPE42:KRD42)","v":{"$error":"#NUM!"}},{"$f":"IRRm(KPE42:KRD42)","v":1.0999999999999999},null,null,{"$f":"IRR(KPI42:KRH42)","v":{"$error":"#NUM!"}},{"$f":"IRRm(KPI42:KRH42)","v":1.0999999999999999},null,null,{"$f":"IRR(KPM42:KRL42)","v":{"$error":"#NUM!"}},{"$f":"IRRm(KPM42:KRL42)","v":1.0999999999999999},null,null,{"$f":"IRR(KPQ42:KRP42)","v":{"$error":"#NUM!"}},{"$f":"IRRm(KPQ42:KRP42)","v":1.0999999999999999},null,null,{"$f":"IRR(KPU42:KRT42)","v":{"$error":"#NUM!"}},{"$f":"IRRm(KPU42:KRT42)","v":1.0999999999999999},null,null,{"$f":"IRR(KPY42:KRX42)","v":{"$error":"#NUM!"}},{"$f":"IRRm(KPY42:KRX42)","v":1.0999999999999999},null,null,{"$f":"IRR(KQC42:KSB42)","v":{"$error":"#NUM!"}},{"$f":"IRRm(KQC42:KSB42)","v":1.0999999999999999},null,null,{"$f":"IRR(KQG42:KSF42)","v":{"$error":"#NUM!"}},{"$f":"IRRm(KQG42:KSF42)","v":1.0999999999999999},null,null,{"$f":"IRR(KQK42:KSJ42)","v":{"$error":"#NUM!"}},{"$f":"IRRm(KQK42:KSJ42)","v":1.0999999999999999},null,null,{"$f":"IRR(KQO42:KSN42)","v":{"$error":"#NUM!"}},{"$f":"IRRm(KQO42:KSN42)","v":1.0999999999999999},null,null,{"$f":"IRR(KQS42:KSR42)","v":{"$error":"#NUM!"}},{"$f":"IRRm(KQS42:KSR42)","v":1.0999999999999999},null,null,{"$f":"IRR(KQW42:KSV42)","v":{"$error":"#NUM!"}},{"$f":"IRRm(KQW42:KSV42)","v":1.0999999999999999},null,null,{"$f":"IRR(KRA42:KSZ42)","v":{"$error":"#NUM!"}},{"$f":"IRRm(KRA42:KSZ42)","v":1.0999999999999999},null,null,{"$f":"IRR(KRE42:KTD42)","v":{"$error":"#NUM!"}},{"$f":"IRRm(KRE42:KTD42)","v":1.0999999999999999},null,null,{"$f":"IRR(KRI42:KTH42)","v":{"$error":"#NUM!"}},{"$f":"IRRm(KRI42:KTH42)","v":1.0999999999999999},null,null,{"$f":"IRR(KRM42:KTL42)","v":{"$error":"#NUM!"}},{"$f":"IRRm(KRM42:KTL42)","v":1.0999999999999999},null,null,{"$f":"IRR(KRQ42:KTP42)","v":{"$error":"#NUM!"}},{"$f":"IRRm(KRQ42:KTP42)","v":1.0999999999999999},null,null,{"$f":"IRR(KRU42:KTT42)","v":{"$error":"#NUM!"}},{"$f":"IRRm(KRU42:KTT42)","v":1.0999999999999999},null,null,{"$f":"IRR(KRY42:KTX42)","v":{"$error":"#NUM!"}},{"$f":"IRRm(KRY42:KTX42)","v":1.0999999999999999},null,null,{"$f":"IRR(KSC42:KUB42)","v":{"$error":"#NUM!"}},{"$f":"IRRm(KSC42:KUB42)","v":1.0999999999999999},null,null,{"$f":"IRR(KSG42:KUF42)","v":{"$error":"#NUM!"}},{"$f":"IRRm(KSG42:KUF42)","v":1.0999999999999999},null,null,{"$f":"IRR(KSK42:KUJ42)","v":{"$error":"#NUM!"}},{"$f":"IRRm(KSK42:KUJ42)","v":1.0999999999999999},null,null,{"$f":"IRR(KSO42:KUN42)","v":{"$error":"#NUM!"}},{"$f":"IRRm(KSO42:KUN42)","v":1.0999999999999999},null,null,{"$f":"IRR(KSS42:KUR42)","v":{"$error":"#NUM!"}},{"$f":"IRRm(KSS42:KUR42)","v":1.0999999999999999},null,null,{"$f":"IRR(KSW42:KUV42)","v":{"$error":"#NUM!"}},{"$f":"IRRm(KSW42:KUV42)","v":1.0999999999999999},null,null,{"$f":"IRR(KTA42:KUZ42)","v":{"$error":"#NUM!"}},{"$f":"IRRm(KTA42:KUZ42)","v":1.0999999999999999},null,null,{"$f":"IRR(KTE42:KVD42)","v":{"$error":"#NUM!"}},{"$f":"IRRm(KTE42:KVD42)","v":1.0999999999999999},null,null,{"$f":"IRR(KTI42:KVH42)","v":{"$error":"#NUM!"}},{"$f":"IRRm(KTI42:KVH42)","v":1.0999999999999999},null,null,{"$f":"IRR(KTM42:KVL42)","v":{"$error":"#NUM!"}},{"$f":"IRRm(KTM42:KVL42)","v":1.0999999999999999},null,null,{"$f":"IRR(KTQ42:KVP42)","v":{"$error":"#NUM!"}},{"$f":"IRRm(KTQ42:KVP42)","v":1.0999999999999999},null,null,{"$f":"IRR(KTU42:KVT42)","v":{"$error":"#NUM!"}},{"$f":"IRRm(KTU42:KVT42)","v":1.0999999999999999},null,null,{"$f":"IRR(KTY42:KVX42)","v":{"$error":"#NUM!"}},{"$f":"IRRm(KTY42:KVX42)","v":1.0999999999999999},null,null,{"$f":"IRR(KUC42:KWB42)","v":{"$error":"#NUM!"}},{"$f":"IRRm(KUC42:KWB42)","v":1.0999999999999999},null,null,{"$f":"IRR(KUG42:KWF42)","v":{"$error":"#NUM!"}},{"$f":"IRRm(KUG42:KWF42)","v":1.0999999999999999},null,null,{"$f":"IRR(KUK42:KWJ42)","v":{"$error":"#NUM!"}},{"$f":"IRRm(KUK42:KWJ42)","v":1.0999999999999999},null,null,{"$f":"IRR(KUO42:KWN42)","v":{"$error":"#NUM!"}},{"$f":"IRRm(KUO42:KWN42)","v":1.0999999999999999},null,null,{"$f":"IRR(KUS42:KWR42)","v":{"$error":"#NUM!"}},{"$f":"IRRm(KUS42:KWR42)","v":1.0999999999999999},null,null,{"$f":"IRR(KUW42:KWV42)","v":{"$error":"#NUM!"}},{"$f":"IRRm(KUW42:KWV42)","v":1.0999999999999999},null,null,{"$f":"IRR(KVA42:KWZ42)","v":{"$error":"#NUM!"}},{"$f":"IRRm(KVA42:KWZ42)","v":1.0999999999999999},null,null,{"$f":"IRR(KVE42:KXD42)","v":{"$error":"#NUM!"}},{"$f":"IRRm(KVE42:KXD42)","v":1.0999999999999999},null,null,{"$f":"IRR(KVI42:KXH42)","v":{"$error":"#NUM!"}},{"$f":"IRRm(KVI42:KXH42)","v":1.0999999999999999},null,null,{"$f":"IRR(KVM42:KXL42)","v":{"$error":"#NUM!"}},{"$f":"IRRm(KVM42:KXL42)","v":1.0999999999999999},null,null,{"$f":"IRR(KVQ42:KXP42)","v":{"$error":"#NUM!"}},{"$f":"IRRm(KVQ42:KXP42)","v":1.0999999999999999},null,null,{"$f":"IRR(KVU42:KXT42)","v":{"$error":"#NUM!"}},{"$f":"IRRm(KVU42:KXT42)","v":1.0999999999999999},null,null,{"$f":"IRR(KVY42:KXX42)","v":{"$error":"#NUM!"}},{"$f":"IRRm(KVY42:KXX42)","v":1.0999999999999999},null,null,{"$f":"IRR(KWC42:KYB42)","v":{"$error":"#NUM!"}},{"$f":"IRRm(KWC42:KYB42)","v":1.0999999999999999},null,null,{"$f":"IRR(KWG42:KYF42)","v":{"$error":"#NUM!"}},{"$f":"IRRm(KWG42:KYF42)","v":1.0999999999999999},null,null,{"$f":"IRR(KWK42:KYJ42)","v":{"$error":"#NUM!"}},{"$f":"IRRm(KWK42:KYJ42)","v":1.0999999999999999},null,null,{"$f":"IRR(KWO42:KYN42)","v":{"$error":"#NUM!"}},{"$f":"IRRm(KWO42:KYN42)","v":1.0999999999999999},null,null,{"$f":"IRR(KWS42:KYR42)","v":{"$error":"#NUM!"}},{"$f":"IRRm(KWS42:KYR42)","v":1.0999999999999999},null,null,{"$f":"IRR(KWW42:KYV42)","v":{"$error":"#NUM!"}},{"$f":"IRRm(KWW42:KYV42)","v":1.0999999999999999},null,null,{"$f":"IRR(KXA42:KYZ42)","v":{"$error":"#NUM!"}},{"$f":"IRRm(KXA42:KYZ42)","v":1.0999999999999999},null,null,{"$f":"IRR(KXE42:KZD42)","v":{"$error":"#NUM!"}},{"$f":"IRRm(KXE42:KZD42)","v":1.0999999999999999},null,null,{"$f":"IRR(KXI42:KZH42)","v":{"$error":"#NUM!"}},{"$f":"IRRm(KXI42:KZH42)","v":1.0999999999999999},null,null,{"$f":"IRR(KXM42:KZL42)","v":{"$error":"#NUM!"}},{"$f":"IRRm(KXM42:KZL42)","v":1.0999999999999999},null,null,{"$f":"IRR(KXQ42:KZP42)","v":{"$error":"#NUM!"}},{"$f":"IRRm(KXQ42:KZP42)","v":1.0999999999999999},null,null,{"$f":"IRR(KXU42:KZT42)","v":{"$error":"#NUM!"}},{"$f":"IRRm(KXU42:KZT42)","v":1.0999999999999999},null,null,{"$f":"IRR(KXY42:KZX42)","v":{"$error":"#NUM!"}},{"$f":"IRRm(KXY42:KZX42)","v":1.0999999999999999},null,null,{"$f":"IRR(KYC42:LAB42)","v":{"$error":"#NUM!"}},{"$f":"IRRm(KYC42:LAB42)","v":1.0999999999999999},null,null,{"$f":"IRR(KYG42:LAF42)","v":{"$error":"#NUM!"}},{"$f":"IRRm(KYG42:LAF42)","v":1.0999999999999999},null,null,{"$f":"IRR(KYK42:LAJ42)","v":{"$error":"#NUM!"}},{"$f":"IRRm(KYK42:LAJ42)","v":1.0999999999999999},null,null,{"$f":"IRR(KYO42:LAN42)","v":{"$error":"#NUM!"}},{"$f":"IRRm(KYO42:LAN42)","v":1.0999999999999999},null,null,{"$f":"IRR(KYS42:LAR42)","v":{"$error":"#NUM!"}},{"$f":"IRRm(KYS42:LAR42)","v":1.0999999999999999},null,null,{"$f":"IRR(KYW42:LAV42)","v":{"$error":"#NUM!"}},{"$f":"IRRm(KYW42:LAV42)","v":1.0999999999999999},null,null,{"$f":"IRR(KZA42:LAZ42)","v":{"$error":"#NUM!"}},{"$f":"IRRm(KZA42:LAZ42)","v":1.0999999999999999},null,null,{"$f":"IRR(KZE42:LBD42)","v":{"$error":"#NUM!"}},{"$f":"IRRm(KZE42:LBD42)","v":1.0999999999999999},null,null,{"$f":"IRR(KZI42:LBH42)","v":{"$error":"#NUM!"}},{"$f":"IRRm(KZI42:LBH42)","v":1.0999999999999999},null,null,{"$f":"IRR(KZM42:LBL42)","v":{"$error":"#NUM!"}},{"$f":"IRRm(KZM42:LBL42)","v":1.0999999999999999},null,null,{"$f":"IRR(KZQ42:LBP42)","v":{"$error":"#NUM!"}},{"$f":"IRRm(KZQ42:LBP42)","v":1.0999999999999999},null,null,{"$f":"IRR(KZU42:LBT42)","v":{"$error":"#NUM!"}},{"$f":"IRRm(KZU42:LBT42)","v":1.0999999999999999},null,null,{"$f":"IRR(KZY42:LBX42)","v":{"$error":"#NUM!"}},{"$f":"IRRm(KZY42:LBX42)","v":1.0999999999999999},null,null,{"$f":"IRR(LAC42:LCB42)","v":{"$error":"#NUM!"}},{"$f":"IRRm(LAC42:LCB42)","v":1.0999999999999999},null,null,{"$f":"IRR(LAG42:LCF42)","v":{"$error":"#NUM!"}},{"$f":"IRRm(LAG42:LCF42)","v":1.0999999999999999},null,null,{"$f":"IRR(LAK42:LCJ42)","v":{"$error":"#NUM!"}},{"$f":"IRRm(LAK42:LCJ42)","v":1.0999999999999999},null,null,{"$f":"IRR(LAO42:LCN42)","v":{"$error":"#NUM!"}},{"$f":"IRRm(LAO42:LCN42)","v":1.0999999999999999},null,null,{"$f":"IRR(LAS42:LCR42)","v":{"$error":"#NUM!"}},{"$f":"IRRm(LAS42:LCR42)","v":1.0999999999999999},null,null,{"$f":"IRR(LAW42:LCV42)","v":{"$error":"#NUM!"}},{"$f":"IRRm(LAW42:LCV42)","v":1.0999999999999999},null,null,{"$f":"IRR(LBA42:LCZ42)","v":{"$error":"#NUM!"}},{"$f":"IRRm(LBA42:LCZ42)","v":1.0999999999999999},null,null,{"$f":"IRR(LBE42:LDD42)","v":{"$error":"#NUM!"}},{"$f":"IRRm(LBE42:LDD42)","v":1.0999999999999999},null,null,{"$f":"IRR(LBI42:LDH42)","v":{"$error":"#NUM!"}},{"$f":"IRRm(LBI42:LDH42)","v":1.0999999999999999},null,null,{"$f":"IRR(LBM42:LDL42)","v":{"$error":"#NUM!"}},{"$f":"IRRm(LBM42:LDL42)","v":1.0999999999999999},null,null,{"$f":"IRR(LBQ42:LDP42)","v":{"$error":"#NUM!"}},{"$f":"IRRm(LBQ42:LDP42)","v":1.0999999999999999},null,null,{"$f":"IRR(LBU42:LDT42)","v":{"$error":"#NUM!"}},{"$f":"IRRm(LBU42:LDT42)","v":1.0999999999999999},null,null,{"$f":"IRR(LBY42:LDX42)","v":{"$error":"#NUM!"}},{"$f":"IRRm(LBY42:LDX42)","v":1.0999999999999999},null,null,{"$f":"IRR(LCC42:LEB42)","v":{"$error":"#NUM!"}},{"$f":"IRRm(LCC42:LEB42)","v":1.0999999999999999},null,null,{"$f":"IRR(LCG42:LEF42)","v":{"$error":"#NUM!"}},{"$f":"IRRm(LCG42:LEF42)","v":1.0999999999999999},null,null,{"$f":"IRR(LCK42:LEJ42)","v":{"$error":"#NUM!"}},{"$f":"IRRm(LCK42:LEJ42)","v":1.0999999999999999},null,null,{"$f":"IRR(LCO42:LEN42)","v":{"$error":"#NUM!"}},{"$f":"IRRm(LCO42:LEN42)","v":1.0999999999999999},null,null,{"$f":"IRR(LCS42:LER42)","v":{"$error":"#NUM!"}},{"$f":"IRRm(LCS42:LER42)","v":1.0999999999999999},null,null,{"$f":"IRR(LCW42:LEV42)","v":{"$error":"#NUM!"}},{"$f":"IRRm(LCW42:LEV42)","v":1.0999999999999999},null,null,{"$f":"IRR(LDA42:LEZ42)","v":{"$error":"#NUM!"}},{"$f":"IRRm(LDA42:LEZ42)","v":1.0999999999999999},null,null,{"$f":"IRR(LDE42:LFD42)","v":{"$error":"#NUM!"}},{"$f":"IRRm(LDE42:LFD42)","v":1.0999999999999999},null,null,{"$f":"IRR(LDI42:LFH42)","v":{"$error":"#NUM!"}},{"$f":"IRRm(LDI42:LFH42)","v":1.0999999999999999},null,null,{"$f":"IRR(LDM42:LFL42)","v":{"$error":"#NUM!"}},{"$f":"IRRm(LDM42:LFL42)","v":1.0999999999999999},null,null,{"$f":"IRR(LDQ42:LFP42)","v":{"$error":"#NUM!"}},{"$f":"IRRm(LDQ42:LFP42)","v":1.0999999999999999},null,null,{"$f":"IRR(LDU42:LFT42)","v":{"$error":"#NUM!"}},{"$f":"IRRm(LDU42:LFT42)","v":1.0999999999999999},null,null,{"$f":"IRR(LDY42:LFX42)","v":{"$error":"#NUM!"}},{"$f":"IRRm(LDY42:LFX42)","v":1.0999999999999999},null,null,{"$f":"IRR(LEC42:LGB42)","v":{"$error":"#NUM!"}},{"$f":"IRRm(LEC42:LGB42)","v":1.0999999999999999},null,null,{"$f":"IRR(LEG42:LGF42)","v":{"$error":"#NUM!"}},{"$f":"IRRm(LEG42:LGF42)","v":1.0999999999999999},null,null,{"$f":"IRR(LEK42:LGJ42)","v":{"$error":"#NUM!"}},{"$f":"IRRm(LEK42:LGJ42)","v":1.0999999999999999},null,null,{"$f":"IRR(LEO42:LGN42)","v":{"$error":"#NUM!"}},{"$f":"IRRm(LEO42:LGN42)","v":1.0999999999999999},null,null,{"$f":"IRR(LES42:LGR42)","v":{"$error":"#NUM!"}},{"$f":"IRRm(LES42:LGR42)","v":1.0999999999999999},null,null,{"$f":"IRR(LEW42:LGV42)","v":{"$error":"#NUM!"}},{"$f":"IRRm(LEW42:LGV42)","v":1.0999999999999999},null,null,{"$f":"IRR(LFA42:LGZ42)","v":{"$error":"#NUM!"}},{"$f":"IRRm(LFA42:LGZ42)","v":1.0999999999999999},null,null,{"$f":"IRR(LFE42:LHD42)","v":{"$error":"#NUM!"}},{"$f":"IRRm(LFE42:LHD42)","v":1.0999999999999999},null,null,{"$f":"IRR(LFI42:LHH42)","v":{"$error":"#NUM!"}},{"$f":"IRRm(LFI42:LHH42)","v":1.0999999999999999},null,null,{"$f":"IRR(LFM42:LHL42)","v":{"$error":"#NUM!"}},{"$f":"IRRm(LFM42:LHL42)","v":1.0999999999999999},null,null,{"$f":"IRR(LFQ42:LHP42)","v":{"$error":"#NUM!"}},{"$f":"IRRm(LFQ42:LHP42)","v":1.0999999999999999},null,null,{"$f":"IRR(LFU42:LHT42)","v":{"$error":"#NUM!"}},{"$f":"IRRm(LFU42:LHT42)","v":1.0999999999999999},null,null,{"$f":"IRR(LFY42:LHX42)","v":{"$error":"#NUM!"}},{"$f":"IRRm(LFY42:LHX42)","v":1.0999999999999999},null,null,{"$f":"IRR(LGC42:LIB42)","v":{"$error":"#NUM!"}},{"$f":"IRRm(LGC42:LIB42)","v":1.0999999999999999},null,null,{"$f":"IRR(LGG42:LIF42)","v":{"$error":"#NUM!"}},{"$f":"IRRm(LGG42:LIF42)","v":1.0999999999999999},null,null,{"$f":"IRR(LGK42:LIJ42)","v":{"$error":"#NUM!"}},{"$f":"IRRm(LGK42:LIJ42)","v":1.0999999999999999},null,null,{"$f":"IRR(LGO42:LIN42)","v":{"$error":"#NUM!"}},{"$f":"IRRm(LGO42:LIN42)","v":1.0999999999999999},null,null,{"$f":"IRR(LGS42:LIR42)","v":{"$error":"#NUM!"}},{"$f":"IRRm(LGS42:LIR42)","v":1.0999999999999999},null,null,{"$f":"IRR(LGW42:LIV42)","v":{"$error":"#NUM!"}},{"$f":"IRRm(LGW42:LIV42)","v":1.0999999999999999},null,null,{"$f":"IRR(LHA42:LIZ42)","v":{"$error":"#NUM!"}},{"$f":"IRRm(LHA42:LIZ42)","v":1.0999999999999999},null,null,{"$f":"IRR(LHE42:LJD42)","v":{"$error":"#NUM!"}},{"$f":"IRRm(LHE42:LJD42)","v":1.0999999999999999},null,null,{"$f":"IRR(LHI42:LJH42)","v":{"$error":"#NUM!"}},{"$f":"IRRm(LHI42:LJH42)","v":1.0999999999999999},null,null,{"$f":"IRR(LHM42:LJL42)","v":{"$error":"#NUM!"}},{"$f":"IRRm(LHM42:LJL42)","v":1.0999999999999999},null,null,{"$f":"IRR(LHQ42:LJP42)","v":{"$error":"#NUM!"}},{"$f":"IRRm(LHQ42:LJP42)","v":1.0999999999999999},null,null,{"$f":"IRR(LHU42:LJT42)","v":{"$error":"#NUM!"}},{"$f":"IRRm(LHU42:LJT42)","v":1.0999999999999999},null,null,{"$f":"IRR(LHY42:LJX42)","v":{"$error":"#NUM!"}},{"$f":"IRRm(LHY42:LJX42)","v":1.0999999999999999},null,null,{"$f":"IRR(LIC42:LKB42)","v":{"$error":"#NUM!"}},{"$f":"IRRm(LIC42:LKB42)","v":1.0999999999999999},null,null,{"$f":"IRR(LIG42:LKF42)","v":{"$error":"#NUM!"}},{"$f":"IRRm(LIG42:LKF42)","v":1.0999999999999999},null,null,{"$f":"IRR(LIK42:LKJ42)","v":{"$error":"#NUM!"}},{"$f":"IRRm(LIK42:LKJ42)","v":1.0999999999999999},null,null,{"$f":"IRR(LIO42:LKN42)","v":{"$error":"#NUM!"}},{"$f":"IRRm(LIO42:LKN42)","v":1.0999999999999999},null,null,{"$f":"IRR(LIS42:LKR42)","v":{"$error":"#NUM!"}},{"$f":"IRRm(LIS42:LKR42)","v":1.0999999999999999},null,null,{"$f":"IRR(LIW42:LKV42)","v":{"$error":"#NUM!"}},{"$f":"IRRm(LIW42:LKV42)","v":1.0999999999999999},null,null,{"$f":"IRR(LJA42:LKZ42)","v":{"$error":"#NUM!"}},{"$f":"IRRm(LJA42:LKZ42)","v":1.0999999999999999},null,null,{"$f":"IRR(LJE42:LLD42)","v":{"$error":"#NUM!"}},{"$f":"IRRm(LJE42:LLD42)","v":1.0999999999999999},null,null,{"$f":"IRR(LJI42:LLH42)","v":{"$error":"#NUM!"}},{"$f":"IRRm(LJI42:LLH42)","v":1.0999999999999999},null,null,{"$f":"IRR(LJM42:LLL42)","v":{"$error":"#NUM!"}},{"$f":"IRRm(LJM42:LLL42)","v":1.0999999999999999},null,null,{"$f":"IRR(LJQ42:LLP42)","v":{"$error":"#NUM!"}},{"$f":"IRRm(LJQ42:LLP42)","v":1.0999999999999999},null,null,{"$f":"IRR(LJU42:LLT42)","v":{"$error":"#NUM!"}},{"$f":"IRRm(LJU42:LLT42)","v":1.0999999999999999},null,null,{"$f":"IRR(LJY42:LLX42)","v":{"$error":"#NUM!"}},{"$f":"IRRm(LJY42:LLX42)","v":1.0999999999999999},null,null,{"$f":"IRR(LKC42:LMB42)","v":{"$error":"#NUM!"}},{"$f":"IRRm(LKC42:LMB42)","v":1.0999999999999999},null,null,{"$f":"IRR(LKG42:LMF42)","v":{"$error":"#NUM!"}},{"$f":"IRRm(LKG42:LMF42)","v":1.0999999999999999},null,null,{"$f":"IRR(LKK42:LMJ42)","v":{"$error":"#NUM!"}},{"$f":"IRRm(LKK42:LMJ42)","v":1.0999999999999999},null,null,{"$f":"IRR(LKO42:LMN42)","v":{"$error":"#NUM!"}},{"$f":"IRRm(LKO42:LMN42)","v":1.0999999999999999},null,null,{"$f":"IRR(LKS42:LMR42)","v":{"$error":"#NUM!"}},{"$f":"IRRm(LKS42:LMR42)","v":1.0999999999999999},null,null,{"$f":"IRR(LKW42:LMV42)","v":{"$error":"#NUM!"}},{"$f":"IRRm(LKW42:LMV42)","v":1.0999999999999999},null,null,{"$f":"IRR(LLA42:LMZ42)","v":{"$error":"#NUM!"}},{"$f":"IRRm(LLA42:LMZ42)","v":1.0999999999999999},null,null,{"$f":"IRR(LLE42:LND42)","v":{"$error":"#NUM!"}},{"$f":"IRRm(LLE42:LND42)","v":1.0999999999999999},null,null,{"$f":"IRR(LLI42:LNH42)","v":{"$error":"#NUM!"}},{"$f":"IRRm(LLI42:LNH42)","v":1.0999999999999999},null,null,{"$f":"IRR(LLM42:LNL42)","v":{"$error":"#NUM!"}},{"$f":"IRRm(LLM42:LNL42)","v":1.0999999999999999},null,null,{"$f":"IRR(LLQ42:LNP42)","v":{"$error":"#NUM!"}},{"$f":"IRRm(LLQ42:LNP42)","v":1.0999999999999999},null,null,{"$f":"IRR(LLU42:LNT42)","v":{"$error":"#NUM!"}},{"$f":"IRRm(LLU42:LNT42)","v":1.0999999999999999},null,null,{"$f":"IRR(LLY42:LNX42)","v":{"$error":"#NUM!"}},{"$f":"IRRm(LLY42:LNX42)","v":1.0999999999999999},null,null,{"$f":"IRR(LMC42:LOB42)","v":{"$error":"#NUM!"}},{"$f":"IRRm(LMC42:LOB42)","v":1.0999999999999999},null,null,{"$f":"IRR(LMG42:LOF42)","v":{"$error":"#NUM!"}},{"$f":"IRRm(LMG42:LOF42)","v":1.0999999999999999},null,null,{"$f":"IRR(LMK42:LOJ42)","v":{"$error":"#NUM!"}},{"$f":"IRRm(LMK42:LOJ42)","v":1.0999999999999999},null,null,{"$f":"IRR(LMO42:LON42)","v":{"$error":"#NUM!"}},{"$f":"IRRm(LMO42:LON42)","v":1.0999999999999999},null,null,{"$f":"IRR(LMS42:LOR42)","v":{"$error":"#NUM!"}},{"$f":"IRRm(LMS42:LOR42)","v":1.0999999999999999},null,null,{"$f":"IRR(LMW42:LOV42)","v":{"$error":"#NUM!"}},{"$f":"IRRm(LMW42:LOV42)","v":1.0999999999999999},null,null,{"$f":"IRR(LNA42:LOZ42)","v":{"$error":"#NUM!"}},{"$f":"IRRm(LNA42:LOZ42)","v":1.0999999999999999},null,null,{"$f":"IRR(LNE42:LPD42)","v":{"$error":"#NUM!"}},{"$f":"IRRm(LNE42:LPD42)","v":1.0999999999999999},null,null,{"$f":"IRR(LNI42:LPH42)","v":{"$error":"#NUM!"}},{"$f":"IRRm(LNI42:LPH42)","v":1.0999999999999999},null,null,{"$f":"IRR(LNM42:LPL42)","v":{"$error":"#NUM!"}},{"$f":"IRRm(LNM42:LPL42)","v":1.0999999999999999},null,null,{"$f":"IRR(LNQ42:LPP42)","v":{"$error":"#NUM!"}},{"$f":"IRRm(LNQ42:LPP42)","v":1.0999999999999999},null,null,{"$f":"IRR(LNU42:LPT42)","v":{"$error":"#NUM!"}},{"$f":"IRRm(LNU42:LPT42)","v":1.0999999999999999},null,null,{"$f":"IRR(LNY42:LPX42)","v":{"$error":"#NUM!"}},{"$f":"IRRm(LNY42:LPX42)","v":1.0999999999999999},null,null,{"$f":"IRR(LOC42:LQB42)","v":{"$error":"#NUM!"}},{"$f":"IRRm(LOC42:LQB42)","v":1.0999999999999999},null,null,{"$f":"IRR(LOG42:LQF42)","v":{"$error":"#NUM!"}},{"$f":"IRRm(LOG42:LQF42)","v":1.0999999999999999},null,null,{"$f":"IRR(LOK42:LQJ42)","v":{"$error":"#NUM!"}},{"$f":"IRRm(LOK42:LQJ42)","v":1.0999999999999999},null,null,{"$f":"IRR(LOO42:LQN42)","v":{"$error":"#NUM!"}},{"$f":"IRRm(LOO42:LQN42)","v":1.0999999999999999},null,null,{"$f":"IRR(LOS42:LQR42)","v":{"$error":"#NUM!"}},{"$f":"IRRm(LOS42:LQR42)","v":1.0999999999999999},null,null,{"$f":"IRR(LOW42:LQV42)","v":{"$error":"#NUM!"}},{"$f":"IRRm(LOW42:LQV42)","v":1.0999999999999999},null,null,{"$f":"IRR(LPA42:LQZ42)","v":{"$error":"#NUM!"}},{"$f":"IRRm(LPA42:LQZ42)","v":1.0999999999999999},null,null,{"$f":"IRR(LPE42:LRD42)","v":{"$error":"#NUM!"}},{"$f":"IRRm(LPE42:LRD42)","v":1.0999999999999999},null,null,{"$f":"IRR(LPI42:LRH42)","v":{"$error":"#NUM!"}},{"$f":"IRRm(LPI42:LRH42)","v":1.0999999999999999},null,null,{"$f":"IRR(LPM42:LRL42)","v":{"$error":"#NUM!"}},{"$f":"IRRm(LPM42:LRL42)","v":1.0999999999999999},null,null,{"$f":"IRR(LPQ42:LRP42)","v":{"$error":"#NUM!"}},{"$f":"IRRm(LPQ42:LRP42)","v":1.0999999999999999},null,null,{"$f":"IRR(LPU42:LRT42)","v":{"$error":"#NUM!"}},{"$f":"IRRm(LPU42:LRT42)","v":1.0999999999999999},null,null,{"$f":"IRR(LPY42:LRX42)","v":{"$error":"#NUM!"}},{"$f":"IRRm(LPY42:LRX42)","v":1.0999999999999999},null,null,{"$f":"IRR(LQC42:LSB42)","v":{"$error":"#NUM!"}},{"$f":"IRRm(LQC42:LSB42)","v":1.0999999999999999},null,null,{"$f":"IRR(LQG42:LSF42)","v":{"$error":"#NUM!"}},{"$f":"IRRm(LQG42:LSF42)","v":1.0999999999999999},null,null,{"$f":"IRR(LQK42:LSJ42)","v":{"$error":"#NUM!"}},{"$f":"IRRm(LQK42:LSJ42)","v":1.0999999999999999},null,null,{"$f":"IRR(LQO42:LSN42)","v":{"$error":"#NUM!"}},{"$f":"IRRm(LQO42:LSN42)","v":1.0999999999999999},null,null,{"$f":"IRR(LQS42:LSR42)","v":{"$error":"#NUM!"}},{"$f":"IRRm(LQS42:LSR42)","v":1.0999999999999999},null,null,{"$f":"IRR(LQW42:LSV42)","v":{"$error":"#NUM!"}},{"$f":"IRRm(LQW42:LSV42)","v":1.0999999999999999},null,null,{"$f":"IRR(LRA42:LSZ42)","v":{"$error":"#NUM!"}},{"$f":"IRRm(LRA42:LSZ42)","v":1.0999999999999999},null,null,{"$f":"IRR(LRE42:LTD42)","v":{"$error":"#NUM!"}},{"$f":"IRRm(LRE42:LTD42)","v":1.0999999999999999},null,null,{"$f":"IRR(LRI42:LTH42)","v":{"$error":"#NUM!"}},{"$f":"IRRm(LRI42:LTH42)","v":1.0999999999999999},null,null,{"$f":"IRR(LRM42:LTL42)","v":{"$error":"#NUM!"}},{"$f":"IRRm(LRM42:LTL42)","v":1.0999999999999999},null,null,{"$f":"IRR(LRQ42:LTP42)","v":{"$error":"#NUM!"}},{"$f":"IRRm(LRQ42:LTP42)","v":1.0999999999999999},null,null,{"$f":"IRR(LRU42:LTT42)","v":{"$error":"#NUM!"}},{"$f":"IRRm(LRU42:LTT42)","v":1.0999999999999999},null,null,{"$f":"IRR(LRY42:LTX42)","v":{"$error":"#NUM!"}},{"$f":"IRRm(LRY42:LTX42)","v":1.0999999999999999},null,null,{"$f":"IRR(LSC42:LUB42)","v":{"$error":"#NUM!"}},{"$f":"IRRm(LSC42:LUB42)","v":1.0999999999999999},null,null,{"$f":"IRR(LSG42:LUF42)","v":{"$error":"#NUM!"}},{"$f":"IRRm(LSG42:LUF42)","v":1.0999999999999999},null,null,{"$f":"IRR(LSK42:LUJ42)","v":{"$error":"#NUM!"}},{"$f":"IRRm(LSK42:LUJ42)","v":1.0999999999999999},null,null,{"$f":"IRR(LSO42:LUN42)","v":{"$error":"#NUM!"}},{"$f":"IRRm(LSO42:LUN42)","v":1.0999999999999999},null,null,{"$f":"IRR(LSS42:LUR42)","v":{"$error":"#NUM!"}},{"$f":"IRRm(LSS42:LUR42)","v":1.0999999999999999},null,null,{"$f":"IRR(LSW42:LUV42)","v":{"$error":"#NUM!"}},{"$f":"IRRm(LSW42:LUV42)","v":1.0999999999999999},null,null,{"$f":"IRR(LTA42:LUZ42)","v":{"$error":"#NUM!"}},{"$f":"IRRm(LTA42:LUZ42)","v":1.0999999999999999},null,null,{"$f":"IRR(LTE42:LVD42)","v":{"$error":"#NUM!"}},{"$f":"IRRm(LTE42:LVD42)","v":1.0999999999999999},null,null,{"$f":"IRR(LTI42:LVH42)","v":{"$error":"#NUM!"}},{"$f":"IRRm(LTI42:LVH42)","v":1.0999999999999999},null,null,{"$f":"IRR(LTM42:LVL42)","v":{"$error":"#NUM!"}},{"$f":"IRRm(LTM42:LVL42)","v":1.0999999999999999},null,null,{"$f":"IRR(LTQ42:LVP42)","v":{"$error":"#NUM!"}},{"$f":"IRRm(LTQ42:LVP42)","v":1.0999999999999999},null,null,{"$f":"IRR(LTU42:LVT42)","v":{"$error":"#NUM!"}},{"$f":"IRRm(LTU42:LVT42)","v":1.0999999999999999},null,null,{"$f":"IRR(LTY42:LVX42)","v":{"$error":"#NUM!"}},{"$f":"IRRm(LTY42:LVX42)","v":1.0999999999999999},null,null,{"$f":"IRR(LUC42:LWB42)","v":{"$error":"#NUM!"}},{"$f":"IRRm(LUC42:LWB42)","v":1.0999999999999999},null,null,{"$f":"IRR(LUG42:LWF42)","v":{"$error":"#NUM!"}},{"$f":"IRRm(LUG42:LWF42)","v":1.0999999999999999},null,null,{"$f":"IRR(LUK42:LWJ42)","v":{"$error":"#NUM!"}},{"$f":"IRRm(LUK42:LWJ42)","v":1.0999999999999999},null,null,{"$f":"IRR(LUO42:LWN42)","v":{"$error":"#NUM!"}},{"$f":"IRRm(LUO42:LWN42)","v":1.0999999999999999},null,null,{"$f":"IRR(LUS42:LWR42)","v":{"$error":"#NUM!"}},{"$f":"IRRm(LUS42:LWR42)","v":1.0999999999999999},null,null,{"$f":"IRR(LUW42:LWV42)","v":{"$error":"#NUM!"}},{"$f":"IRRm(LUW42:LWV42)","v":1.0999999999999999},null,null,{"$f":"IRR(LVA42:LWZ42)","v":{"$error":"#NUM!"}},{"$f":"IRRm(LVA42:LWZ42)","v":1.0999999999999999},null,null,{"$f":"IRR(LVE42:LXD42)","v":{"$error":"#NUM!"}},{"$f":"IRRm(LVE42:LXD42)","v":1.0999999999999999},null,null,{"$f":"IRR(LVI42:LXH42)","v":{"$error":"#NUM!"}},{"$f":"IRRm(LVI42:LXH42)","v":1.0999999999999999},null,null,{"$f":"IRR(LVM42:LXL42)","v":{"$error":"#NUM!"}},{"$f":"IRRm(LVM42:LXL42)","v":1.0999999999999999},null,null,{"$f":"IRR(LVQ42:LXP42)","v":{"$error":"#NUM!"}},{"$f":"IRRm(LVQ42:LXP42)","v":1.0999999999999999},null,null,{"$f":"IRR(LVU42:LXT42)","v":{"$error":"#NUM!"}},{"$f":"IRRm(LVU42:LXT42)","v":1.0999999999999999},null,null,{"$f":"IRR(LVY42:LXX42)","v":{"$error":"#NUM!"}},{"$f":"IRRm(LVY42:LXX42)","v":1.0999999999999999},null,null,{"$f":"IRR(LWC42:LYB42)","v":{"$error":"#NUM!"}},{"$f":"IRRm(LWC42:LYB42)","v":1.0999999999999999},null,null,{"$f":"IRR(LWG42:LYF42)","v":{"$error":"#NUM!"}},{"$f":"IRRm(LWG42:LYF42)","v":1.0999999999999999},null,null,{"$f":"IRR(LWK42:LYJ42)","v":{"$error":"#NUM!"}},{"$f":"IRRm(LWK42:LYJ42)","v":1.0999999999999999},null,null,{"$f":"IRR(LWO42:LYN42)","v":{"$error":"#NUM!"}},{"$f":"IRRm(LWO42:LYN42)","v":1.0999999999999999},null,null,{"$f":"IRR(LWS42:LYR42)","v":{"$error":"#NUM!"}},{"$f":"IRRm(LWS42:LYR42)","v":1.0999999999999999},null,null,{"$f":"IRR(LWW42:LYV42)","v":{"$error":"#NUM!"}},{"$f":"IRRm(LWW42:LYV42)","v":1.0999999999999999},null,null,{"$f":"IRR(LXA42:LYZ42)","v":{"$error":"#NUM!"}},{"$f":"IRRm(LXA42:LYZ42)","v":1.0999999999999999},null,null,{"$f":"IRR(LXE42:LZD42)","v":{"$error":"#NUM!"}},{"$f":"IRRm(LXE42:LZD42)","v":1.0999999999999999},null,null,{"$f":"IRR(LXI42:LZH42)","v":{"$error":"#NUM!"}},{"$f":"IRRm(LXI42:LZH42)","v":1.0999999999999999},null,null,{"$f":"IRR(LXM42:LZL42)","v":{"$error":"#NUM!"}},{"$f":"IRRm(LXM42:LZL42)","v":1.0999999999999999},null,null,{"$f":"IRR(LXQ42:LZP42)","v":{"$error":"#NUM!"}},{"$f":"IRRm(LXQ42:LZP42)","v":1.0999999999999999},null,null,{"$f":"IRR(LXU42:LZT42)","v":{"$error":"#NUM!"}},{"$f":"IRRm(LXU42:LZT42)","v":1.0999999999999999},null,null,{"$f":"IRR(LXY42:LZX42)","v":{"$error":"#NUM!"}},{"$f":"IRRm(LXY42:LZX42)","v":1.0999999999999999},null,null,{"$f":"IRR(LYC42:MAB42)","v":{"$error":"#NUM!"}},{"$f":"IRRm(LYC42:MAB42)","v":1.0999999999999999},null,null,{"$f":"IRR(LYG42:MAF42)","v":{"$error":"#NUM!"}},{"$f":"IRRm(LYG42:MAF42)","v":1.0999999999999999},null,null,{"$f":"IRR(LYK42:MAJ42)","v":{"$error":"#NUM!"}},{"$f":"IRRm(LYK42:MAJ42)","v":1.0999999999999999},null,null,{"$f":"IRR(LYO42:MAN42)","v":{"$error":"#NUM!"}},{"$f":"IRRm(LYO42:MAN42)","v":1.0999999999999999},null,null,{"$f":"IRR(LYS42:MAR42)","v":{"$error":"#NUM!"}},{"$f":"IRRm(LYS42:MAR42)","v":1.0999999999999999},null,null,{"$f":"IRR(LYW42:MAV42)","v":{"$error":"#NUM!"}},{"$f":"IRRm(LYW42:MAV42)","v":1.0999999999999999},null,null,{"$f":"IRR(LZA42:MAZ42)","v":{"$error":"#NUM!"}},{"$f":"IRRm(LZA42:MAZ42)","v":1.0999999999999999},null,null,{"$f":"IRR(LZE42:MBD42)","v":{"$error":"#NUM!"}},{"$f":"IRRm(LZE42:MBD42)","v":1.0999999999999999},null,null,{"$f":"IRR(LZI42:MBH42)","v":{"$error":"#NUM!"}},{"$f":"IRRm(LZI42:MBH42)","v":1.0999999999999999},null,null,{"$f":"IRR(LZM42:MBL42)","v":{"$error":"#NUM!"}},{"$f":"IRRm(LZM42:MBL42)","v":1.0999999999999999},null,null,{"$f":"IRR(LZQ42:MBP42)","v":{"$error":"#NUM!"}},{"$f":"IRRm(LZQ42:MBP42)","v":1.0999999999999999},null,null,{"$f":"IRR(LZU42:MBT42)","v":{"$error":"#NUM!"}},{"$f":"IRRm(LZU42:MBT42)","v":1.0999999999999999},null,null,{"$f":"IRR(LZY42:MBX42)","v":{"$error":"#NUM!"}},{"$f":"IRRm(LZY42:MBX42)","v":1.0999999999999999},null,null,{"$f":"IRR(MAC42:MCB42)","v":{"$error":"#NUM!"}},{"$f":"IRRm(MAC42:MCB42)","v":1.0999999999999999},null,null,{"$f":"IRR(MAG42:MCF42)","v":{"$error":"#NUM!"}},{"$f":"IRRm(MAG42:MCF42)","v":1.0999999999999999},null,null,{"$f":"IRR(MAK42:MCJ42)","v":{"$error":"#NUM!"}},{"$f":"IRRm(MAK42:MCJ42)","v":1.0999999999999999},null,null,{"$f":"IRR(MAO42:MCN42)","v":{"$error":"#NUM!"}},{"$f":"IRRm(MAO42:MCN42)","v":1.0999999999999999},null,null,{"$f":"IRR(MAS42:MCR42)","v":{"$error":"#NUM!"}},{"$f":"IRRm(MAS42:MCR42)","v":1.0999999999999999},null,null,{"$f":"IRR(MAW42:MCV42)","v":{"$error":"#NUM!"}},{"$f":"IRRm(MAW42:MCV42)","v":1.0999999999999999},null,null,{"$f":"IRR(MBA42:MCZ42)","v":{"$error":"#NUM!"}},{"$f":"IRRm(MBA42:MCZ42)","v":1.0999999999999999},null,null,{"$f":"IRR(MBE42:MDD42)","v":{"$error":"#NUM!"}},{"$f":"IRRm(MBE42:MDD42)","v":1.0999999999999999},null,null,{"$f":"IRR(MBI42:MDH42)","v":{"$error":"#NUM!"}},{"$f":"IRRm(MBI42:MDH42)","v":1.0999999999999999},null,null,{"$f":"IRR(MBM42:MDL42)","v":{"$error":"#NUM!"}},{"$f":"IRRm(MBM42:MDL42)","v":1.0999999999999999},null,null,{"$f":"IRR(MBQ42:MDP42)","v":{"$error":"#NUM!"}},{"$f":"IRRm(MBQ42:MDP42)","v":1.0999999999999999},null,null,{"$f":"IRR(MBU42:MDT42)","v":{"$error":"#NUM!"}},{"$f":"IRRm(MBU42:MDT42)","v":1.0999999999999999},null,null,{"$f":"IRR(MBY42:MDX42)","v":{"$error":"#NUM!"}},{"$f":"IRRm(MBY42:MDX42)","v":1.0999999999999999},null,null,{"$f":"IRR(MCC42:MEB42)","v":{"$error":"#NUM!"}},{"$f":"IRRm(MCC42:MEB42)","v":1.0999999999999999},null,null,{"$f":"IRR(MCG42:MEF42)","v":{"$error":"#NUM!"}},{"$f":"IRRm(MCG42:MEF42)","v":1.0999999999999999},null,null,{"$f":"IRR(MCK42:MEJ42)","v":{"$error":"#NUM!"}},{"$f":"IRRm(MCK42:MEJ42)","v":1.0999999999999999},null,null,{"$f":"IRR(MCO42:MEN42)","v":{"$error":"#NUM!"}},{"$f":"IRRm(MCO42:MEN42)","v":1.0999999999999999},null,null,{"$f":"IRR(MCS42:MER42)","v":{"$error":"#NUM!"}},{"$f":"IRRm(MCS42:MER42)","v":1.0999999999999999},null,null,{"$f":"IRR(MCW42:MEV42)","v":{"$error":"#NUM!"}},{"$f":"IRRm(MCW42:MEV42)","v":1.0999999999999999},null,null,{"$f":"IRR(MDA42:MEZ42)","v":{"$error":"#NUM!"}},{"$f":"IRRm(MDA42:MEZ42)","v":1.0999999999999999},null,null,{"$f":"IRR(MDE42:MFD42)","v":{"$error":"#NUM!"}},{"$f":"IRRm(MDE42:MFD42)","v":1.0999999999999999},null,null,{"$f":"IRR(MDI42:MFH42)","v":{"$error":"#NUM!"}},{"$f":"IRRm(MDI42:MFH42)","v":1.0999999999999999},null,null,{"$f":"IRR(MDM42:MFL42)","v":{"$error":"#NUM!"}},{"$f":"IRRm(MDM42:MFL42)","v":1.0999999999999999},null,null,{"$f":"IRR(MDQ42:MFP42)","v":{"$error":"#NUM!"}},{"$f":"IRRm(MDQ42:MFP42)","v":1.0999999999999999},null,null,{"$f":"IRR(MDU42:MFT42)","v":{"$error":"#NUM!"}},{"$f":"IRRm(MDU42:MFT42)","v":1.0999999999999999},null,null,{"$f":"IRR(MDY42:MFX42)","v":{"$error":"#NUM!"}},{"$f":"IRRm(MDY42:MFX42)","v":1.0999999999999999},null,null,{"$f":"IRR(MEC42:MGB42)","v":{"$error":"#NUM!"}},{"$f":"IRRm(MEC42:MGB42)","v":1.0999999999999999},null,null,{"$f":"IRR(MEG42:MGF42)","v":{"$error":"#NUM!"}},{"$f":"IRRm(MEG42:MGF42)","v":1.0999999999999999},null,null,{"$f":"IRR(MEK42:MGJ42)","v":{"$error":"#NUM!"}},{"$f":"IRRm(MEK42:MGJ42)","v":1.0999999999999999},null,null,{"$f":"IRR(MEO42:MGN42)","v":{"$error":"#NUM!"}},{"$f":"IRRm(MEO42:MGN42)","v":1.0999999999999999},null,null,{"$f":"IRR(MES42:MGR42)","v":{"$error":"#NUM!"}},{"$f":"IRRm(MES42:MGR42)","v":1.0999999999999999},null,null,{"$f":"IRR(MEW42:MGV42)","v":{"$error":"#NUM!"}},{"$f":"IRRm(MEW42:MGV42)","v":1.0999999999999999},null,null,{"$f":"IRR(MFA42:MGZ42)","v":{"$error":"#NUM!"}},{"$f":"IRRm(MFA42:MGZ42)","v":1.0999999999999999},null,null,{"$f":"IRR(MFE42:MHD42)","v":{"$error":"#NUM!"}},{"$f":"IRRm(MFE42:MHD42)","v":1.0999999999999999},null,null,{"$f":"IRR(MFI42:MHH42)","v":{"$error":"#NUM!"}},{"$f":"IRRm(MFI42:MHH42)","v":1.0999999999999999},null,null,{"$f":"IRR(MFM42:MHL42)","v":{"$error":"#NUM!"}},{"$f":"IRRm(MFM42:MHL42)","v":1.0999999999999999},null,null,{"$f":"IRR(MFQ42:MHP42)","v":{"$error":"#NUM!"}},{"$f":"IRRm(MFQ42:MHP42)","v":1.0999999999999999},null,null,{"$f":"IRR(MFU42:MHT42)","v":{"$error":"#NUM!"}},{"$f":"IRRm(MFU42:MHT42)","v":1.0999999999999999},null,null,{"$f":"IRR(MFY42:MHX42)","v":{"$error":"#NUM!"}},{"$f":"IRRm(MFY42:MHX42)","v":1.0999999999999999},null,null,{"$f":"IRR(MGC42:MIB42)","v":{"$error":"#NUM!"}},{"$f":"IRRm(MGC42:MIB42)","v":1.0999999999999999},null,null,{"$f":"IRR(MGG42:MIF42)","v":{"$error":"#NUM!"}},{"$f":"IRRm(MGG42:MIF42)","v":1.0999999999999999},null,null,{"$f":"IRR(MGK42:MIJ42)","v":{"$error":"#NUM!"}},{"$f":"IRRm(MGK42:MIJ42)","v":1.0999999999999999},null,null,{"$f":"IRR(MGO42:MIN42)","v":{"$error":"#NUM!"}},{"$f":"IRRm(MGO42:MIN42)","v":1.0999999999999999},null,null,{"$f":"IRR(MGS42:MIR42)","v":{"$error":"#NUM!"}},{"$f":"IRRm(MGS42:MIR42)","v":1.0999999999999999},null,null,{"$f":"IRR(MGW42:MIV42)","v":{"$error":"#NUM!"}},{"$f":"IRRm(MGW42:MIV42)","v":1.0999999999999999},null,null,{"$f":"IRR(MHA42:MIZ42)","v":{"$error":"#NUM!"}},{"$f":"IRRm(MHA42:MIZ42)","v":1.0999999999999999},null,null,{"$f":"IRR(MHE42:MJD42)","v":{"$error":"#NUM!"}},{"$f":"IRRm(MHE42:MJD42)","v":1.0999999999999999},null,null,{"$f":"IRR(MHI42:MJH42)","v":{"$error":"#NUM!"}},{"$f":"IRRm(MHI42:MJH42)","v":1.0999999999999999},null,null,{"$f":"IRR(MHM42:MJL42)","v":{"$error":"#NUM!"}},{"$f":"IRRm(MHM42:MJL42)","v":1.0999999999999999},null,null,{"$f":"IRR(MHQ42:MJP42)","v":{"$error":"#NUM!"}},{"$f":"IRRm(MHQ42:MJP42)","v":1.0999999999999999},null,null,{"$f":"IRR(MHU42:MJT42)","v":{"$error":"#NUM!"}},{"$f":"IRRm(MHU42:MJT42)","v":1.0999999999999999},null,null,{"$f":"IRR(MHY42:MJX42)","v":{"$error":"#NUM!"}},{"$f":"IRRm(MHY42:MJX42)","v":1.0999999999999999},null,null,{"$f":"IRR(MIC42:MKB42)","v":{"$error":"#NUM!"}},{"$f":"IRRm(MIC42:MKB42)","v":1.0999999999999999},null,null,{"$f":"IRR(MIG42:MKF42)","v":{"$error":"#NUM!"}},{"$f":"IRRm(MIG42:MKF42)","v":1.0999999999999999},null,null,{"$f":"IRR(MIK42:MKJ42)","v":{"$error":"#NUM!"}},{"$f":"IRRm(MIK42:MKJ42)","v":1.0999999999999999},null,null,{"$f":"IRR(MIO42:MKN42)","v":{"$error":"#NUM!"}},{"$f":"IRRm(MIO42:MKN42)","v":1.0999999999999999},null,null,{"$f":"IRR(MIS42:MKR42)","v":{"$error":"#NUM!"}},{"$f":"IRRm(MIS42:MKR42)","v":1.0999999999999999},null,null,{"$f":"IRR(MIW42:MKV42)","v":{"$error":"#NUM!"}},{"$f":"IRRm(MIW42:MKV42)","v":1.0999999999999999},null,null,{"$f":"IRR(MJA42:MKZ42)","v":{"$error":"#NUM!"}},{"$f":"IRRm(MJA42:MKZ42)","v":1.0999999999999999},null,null,{"$f":"IRR(MJE42:MLD42)","v":{"$error":"#NUM!"}},{"$f":"IRRm(MJE42:MLD42)","v":1.0999999999999999},null,null,{"$f":"IRR(MJI42:MLH42)","v":{"$error":"#NUM!"}},{"$f":"IRRm(MJI42:MLH42)","v":1.0999999999999999},null,null,{"$f":"IRR(MJM42:MLL42)","v":{"$error":"#NUM!"}},{"$f":"IRRm(MJM42:MLL42)","v":1.0999999999999999},null,null,{"$f":"IRR(MJQ42:MLP42)","v":{"$error":"#NUM!"}},{"$f":"IRRm(MJQ42:MLP42)","v":1.0999999999999999},null,null,{"$f":"IRR(MJU42:MLT42)","v":{"$error":"#NUM!"}},{"$f":"IRRm(MJU42:MLT42)","v":1.0999999999999999},null,null,{"$f":"IRR(MJY42:MLX42)","v":{"$error":"#NUM!"}},{"$f":"IRRm(MJY42:MLX42)","v":1.0999999999999999},null,null,{"$f":"IRR(MKC42:MMB42)","v":{"$error":"#NUM!"}},{"$f":"IRRm(MKC42:MMB42)","v":1.0999999999999999},null,null,{"$f":"IRR(MKG42:MMF42)","v":{"$error":"#NUM!"}},{"$f":"IRRm(MKG42:MMF42)","v":1.0999999999999999},null,null,{"$f":"IRR(MKK42:MMJ42)","v":{"$error":"#NUM!"}},{"$f":"IRRm(MKK42:MMJ42)","v":1.0999999999999999},null,null,{"$f":"IRR(MKO42:MMN42)","v":{"$error":"#NUM!"}},{"$f":"IRRm(MKO42:MMN42)","v":1.0999999999999999},null,null,{"$f":"IRR(MKS42:MMR42)","v":{"$error":"#NUM!"}},{"$f":"IRRm(MKS42:MMR42)","v":1.0999999999999999},null,null,{"$f":"IRR(MKW42:MMV42)","v":{"$error":"#NUM!"}},{"$f":"IRRm(MKW42:MMV42)","v":1.0999999999999999},null,null,{"$f":"IRR(MLA42:MMZ42)","v":{"$error":"#NUM!"}},{"$f":"IRRm(MLA42:MMZ42)","v":1.0999999999999999},null,null,{"$f":"IRR(MLE42:MND42)","v":{"$error":"#NUM!"}},{"$f":"IRRm(MLE42:MND42)","v":1.0999999999999999},null,null,{"$f":"IRR(MLI42:MNH42)","v":{"$error":"#NUM!"}},{"$f":"IRRm(MLI42:MNH42)","v":1.0999999999999999},null,null,{"$f":"IRR(MLM42:MNL42)","v":{"$error":"#NUM!"}},{"$f":"IRRm(MLM42:MNL42)","v":1.0999999999999999},null,null,{"$f":"IRR(MLQ42:MNP42)","v":{"$error":"#NUM!"}},{"$f":"IRRm(MLQ42:MNP42)","v":1.0999999999999999},null,null,{"$f":"IRR(MLU42:MNT42)","v":{"$error":"#NUM!"}},{"$f":"IRRm(MLU42:MNT42)","v":1.0999999999999999},null,null,{"$f":"IRR(MLY42:MNX42)","v":{"$error":"#NUM!"}},{"$f":"IRRm(MLY42:MNX42)","v":1.0999999999999999},null,null,{"$f":"IRR(MMC42:MOB42)","v":{"$error":"#NUM!"}},{"$f":"IRRm(MMC42:MOB42)","v":1.0999999999999999},null,null,{"$f":"IRR(MMG42:MOF42)","v":{"$error":"#NUM!"}},{"$f":"IRRm(MMG42:MOF42)","v":1.0999999999999999},null,null,{"$f":"IRR(MMK42:MOJ42)","v":{"$error":"#NUM!"}},{"$f":"IRRm(MMK42:MOJ42)","v":1.0999999999999999},null,null,{"$f":"IRR(MMO42:MON42)","v":{"$error":"#NUM!"}},{"$f":"IRRm(MMO42:MON42)","v":1.0999999999999999},null,null,{"$f":"IRR(MMS42:MOR42)","v":{"$error":"#NUM!"}},{"$f":"IRRm(MMS42:MOR42)","v":1.0999999999999999},null,null,{"$f":"IRR(MMW42:MOV42)","v":{"$error":"#NUM!"}},{"$f":"IRRm(MMW42:MOV42)","v":1.0999999999999999},null,null,{"$f":"IRR(MNA42:MOZ42)","v":{"$error":"#NUM!"}},{"$f":"IRRm(MNA42:MOZ42)","v":1.0999999999999999},null,null,{"$f":"IRR(MNE42:MPD42)","v":{"$error":"#NUM!"}},{"$f":"IRRm(MNE42:MPD42)","v":1.0999999999999999},null,null,{"$f":"IRR(MNI42:MPH42)","v":{"$error":"#NUM!"}},{"$f":"IRRm(MNI42:MPH42)","v":1.0999999999999999},null,null,{"$f":"IRR(MNM42:MPL42)","v":{"$error":"#NUM!"}},{"$f":"IRRm(MNM42:MPL42)","v":1.0999999999999999},null,null,{"$f":"IRR(MNQ42:MPP42)","v":{"$error":"#NUM!"}},{"$f":"IRRm(MNQ42:MPP42)","v":1.0999999999999999},null,null,{"$f":"IRR(MNU42:MPT42)","v":{"$error":"#NUM!"}},{"$f":"IRRm(MNU42:MPT42)","v":1.0999999999999999},null,null,{"$f":"IRR(MNY42:MPX42)","v":{"$error":"#NUM!"}},{"$f":"IRRm(MNY42:MPX42)","v":1.0999999999999999},null,null,{"$f":"IRR(MOC42:MQB42)","v":{"$error":"#NUM!"}},{"$f":"IRRm(MOC42:MQB42)","v":1.0999999999999999},null,null,{"$f":"IRR(MOG42:MQF42)","v":{"$error":"#NUM!"}},{"$f":"IRRm(MOG42:MQF42)","v":1.0999999999999999},null,null,{"$f":"IRR(MOK42:MQJ42)","v":{"$error":"#NUM!"}},{"$f":"IRRm(MOK42:MQJ42)","v":1.0999999999999999},null,null,{"$f":"IRR(MOO42:MQN42)","v":{"$error":"#NUM!"}},{"$f":"IRRm(MOO42:MQN42)","v":1.0999999999999999},null,null,{"$f":"IRR(MOS42:MQR42)","v":{"$error":"#NUM!"}},{"$f":"IRRm(MOS42:MQR42)","v":1.0999999999999999},null,null,{"$f":"IRR(MOW42:MQV42)","v":{"$error":"#NUM!"}},{"$f":"IRRm(MOW42:MQV42)","v":1.0999999999999999},null,null,{"$f":"IRR(MPA42:MQZ42)","v":{"$error":"#NUM!"}},{"$f":"IRRm(MPA42:MQZ42)","v":1.0999999999999999},null,null,{"$f":"IRR(MPE42:MRD42)","v":{"$error":"#NUM!"}},{"$f":"IRRm(MPE42:MRD42)","v":1.0999999999999999},null,null,{"$f":"IRR(MPI42:MRH42)","v":{"$error":"#NUM!"}},{"$f":"IRRm(MPI42:MRH42)","v":1.0999999999999999},null,null,{"$f":"IRR(MPM42:MRL42)","v":{"$error":"#NUM!"}},{"$f":"IRRm(MPM42:MRL42)","v":1.0999999999999999},null,null,{"$f":"IRR(MPQ42:MRP42)","v":{"$error":"#NUM!"}},{"$f":"IRRm(MPQ42:MRP42)","v":1.0999999999999999},null,null,{"$f":"IRR(MPU42:MRT42)","v":{"$error":"#NUM!"}},{"$f":"IRRm(MPU42:MRT42)","v":1.0999999999999999},null,null,{"$f":"IRR(MPY42:MRX42)","v":{"$error":"#NUM!"}},{"$f":"IRRm(MPY42:MRX42)","v":1.0999999999999999},null,null,{"$f":"IRR(MQC42:MSB42)","v":{"$error":"#NUM!"}},{"$f":"IRRm(MQC42:MSB42)","v":1.0999999999999999},null,null,{"$f":"IRR(MQG42:MSF42)","v":{"$error":"#NUM!"}},{"$f":"IRRm(MQG42:MSF42)","v":1.0999999999999999},null,null,{"$f":"IRR(MQK42:MSJ42)","v":{"$error":"#NUM!"}},{"$f":"IRRm(MQK42:MSJ42)","v":1.0999999999999999},null,null,{"$f":"IRR(MQO42:MSN42)","v":{"$error":"#NUM!"}},{"$f":"IRRm(MQO42:MSN42)","v":1.0999999999999999},null,null,{"$f":"IRR(MQS42:MSR42)","v":{"$error":"#NUM!"}},{"$f":"IRRm(MQS42:MSR42)","v":1.0999999999999999},null,null,{"$f":"IRR(MQW42:MSV42)","v":{"$error":"#NUM!"}},{"$f":"IRRm(MQW42:MSV42)","v":1.0999999999999999},null,null,{"$f":"IRR(MRA42:MSZ42)","v":{"$error":"#NUM!"}},{"$f":"IRRm(MRA42:MSZ42)","v":1.0999999999999999},null,null,{"$f":"IRR(MRE42:MTD42)","v":{"$error":"#NUM!"}},{"$f":"IRRm(MRE42:MTD42)","v":1.0999999999999999},null,null,{"$f":"IRR(MRI42:MTH42)","v":{"$error":"#NUM!"}},{"$f":"IRRm(MRI42:MTH42)","v":1.0999999999999999},null,null,{"$f":"IRR(MRM42:MTL42)","v":{"$error":"#NUM!"}},{"$f":"IRRm(MRM42:MTL42)","v":1.0999999999999999},null,null,{"$f":"IRR(MRQ42:MTP42)","v":{"$error":"#NUM!"}},{"$f":"IRRm(MRQ42:MTP42)","v":1.0999999999999999},null,null,{"$f":"IRR(MRU42:MTT42)","v":{"$error":"#NUM!"}},{"$f":"IRRm(MRU42:MTT42)","v":1.0999999999999999},null,null,{"$f":"IRR(MRY42:MTX42)","v":{"$error":"#NUM!"}},{"$f":"IRRm(MRY42:MTX42)","v":1.0999999999999999},null,null,{"$f":"IRR(MSC42:MUB42)","v":{"$error":"#NUM!"}},{"$f":"IRRm(MSC42:MUB42)","v":1.0999999999999999},null,null,{"$f":"IRR(MSG42:MUF42)","v":{"$error":"#NUM!"}},{"$f":"IRRm(MSG42:MUF42)","v":1.0999999999999999},null,null,{"$f":"IRR(MSK42:MUJ42)","v":{"$error":"#NUM!"}},{"$f":"IRRm(MSK42:MUJ42)","v":1.0999999999999999},null,null,{"$f":"IRR(MSO42:MUN42)","v":{"$error":"#NUM!"}},{"$f":"IRRm(MSO42:MUN42)","v":1.0999999999999999},null,null,{"$f":"IRR(MSS42:MUR42)","v":{"$error":"#NUM!"}},{"$f":"IRRm(MSS42:MUR42)","v":1.0999999999999999},null,null,{"$f":"IRR(MSW42:MUV42)","v":{"$error":"#NUM!"}},{"$f":"IRRm(MSW42:MUV42)","v":1.0999999999999999},null,null,{"$f":"IRR(MTA42:MUZ42)","v":{"$error":"#NUM!"}},{"$f":"IRRm(MTA42:MUZ42)","v":1.0999999999999999},null,null,{"$f":"IRR(MTE42:MVD42)","v":{"$error":"#NUM!"}},{"$f":"IRRm(MTE42:MVD42)","v":1.0999999999999999},null,null,{"$f":"IRR(MTI42:MVH42)","v":{"$error":"#NUM!"}},{"$f":"IRRm(MTI42:MVH42)","v":1.0999999999999999},null,null,{"$f":"IRR(MTM42:MVL42)","v":{"$error":"#NUM!"}},{"$f":"IRRm(MTM42:MVL42)","v":1.0999999999999999},null,null,{"$f":"IRR(MTQ42:MVP42)","v":{"$error":"#NUM!"}},{"$f":"IRRm(MTQ42:MVP42)","v":1.0999999999999999},null,null,{"$f":"IRR(MTU42:MVT42)","v":{"$error":"#NUM!"}},{"$f":"IRRm(MTU42:MVT42)","v":1.0999999999999999},null,null,{"$f":"IRR(MTY42:MVX42)","v":{"$error":"#NUM!"}},{"$f":"IRRm(MTY42:MVX42)","v":1.0999999999999999},null,null,{"$f":"IRR(MUC42:MWB42)","v":{"$error":"#NUM!"}},{"$f":"IRRm(MUC42:MWB42)","v":1.0999999999999999},null,null,{"$f":"IRR(MUG42:MWF42)","v":{"$error":"#NUM!"}},{"$f":"IRRm(MUG42:MWF42)","v":1.0999999999999999},null,null,{"$f":"IRR(MUK42:MWJ42)","v":{"$error":"#NUM!"}},{"$f":"IRRm(MUK42:MWJ42)","v":1.0999999999999999},null,null,{"$f":"IRR(MUO42:MWN42)","v":{"$error":"#NUM!"}},{"$f":"IRRm(MUO42:MWN42)","v":1.0999999999999999},null,null,{"$f":"IRR(MUS42:MWR42)","v":{"$error":"#NUM!"}},{"$f":"IRRm(MUS42:MWR42)","v":1.0999999999999999},null,null,{"$f":"IRR(MUW42:MWV42)","v":{"$error":"#NUM!"}},{"$f":"IRRm(MUW42:MWV42)","v":1.0999999999999999},null,null,{"$f":"IRR(MVA42:MWZ42)","v":{"$error":"#NUM!"}},{"$f":"IRRm(MVA42:MWZ42)","v":1.0999999999999999},null,null,{"$f":"IRR(MVE42:MXD42)","v":{"$error":"#NUM!"}},{"$f":"IRRm(MVE42:MXD42)","v":1.0999999999999999},null,null,{"$f":"IRR(MVI42:MXH42)","v":{"$error":"#NUM!"}},{"$f":"IRRm(MVI42:MXH42)","v":1.0999999999999999},null,null,{"$f":"IRR(MVM42:MXL42)","v":{"$error":"#NUM!"}},{"$f":"IRRm(MVM42:MXL42)","v":1.0999999999999999},null,null,{"$f":"IRR(MVQ42:MXP42)","v":{"$error":"#NUM!"}},{"$f":"IRRm(MVQ42:MXP42)","v":1.0999999999999999},null,null,{"$f":"IRR(MVU42:MXT42)","v":{"$error":"#NUM!"}},{"$f":"IRRm(MVU42:MXT42)","v":1.0999999999999999},null,null,{"$f":"IRR(MVY42:MXX42)","v":{"$error":"#NUM!"}},{"$f":"IRRm(MVY42:MXX42)","v":1.0999999999999999},null,null,{"$f":"IRR(MWC42:MYB42)","v":{"$error":"#NUM!"}},{"$f":"IRRm(MWC42:MYB42)","v":1.0999999999999999},null,null,{"$f":"IRR(MWG42:MYF42)","v":{"$error":"#NUM!"}},{"$f":"IRRm(MWG42:MYF42)","v":1.0999999999999999},null,null,{"$f":"IRR(MWK42:MYJ42)","v":{"$error":"#NUM!"}},{"$f":"IRRm(MWK42:MYJ42)","v":1.0999999999999999},null,null,{"$f":"IRR(MWO42:MYN42)","v":{"$error":"#NUM!"}},{"$f":"IRRm(MWO42:MYN42)","v":1.0999999999999999},null,null,{"$f":"IRR(MWS42:MYR42)","v":{"$error":"#NUM!"}},{"$f":"IRRm(MWS42:MYR42)","v":1.0999999999999999},null,null,{"$f":"IRR(MWW42:MYV42)","v":{"$error":"#NUM!"}},{"$f":"IRRm(MWW42:MYV42)","v":1.0999999999999999},null,null,{"$f":"IRR(MXA42:MYZ42)","v":{"$error":"#NUM!"}},{"$f":"IRRm(MXA42:MYZ42)","v":1.0999999999999999},null,null,{"$f":"IRR(MXE42:MZD42)","v":{"$error":"#NUM!"}},{"$f":"IRRm(MXE42:MZD42)","v":1.0999999999999999},null,null,{"$f":"IRR(MXI42:MZH42)","v":{"$error":"#NUM!"}},{"$f":"IRRm(MXI42:MZH42)","v":1.0999999999999999},null,null,{"$f":"IRR(MXM42:MZL42)","v":{"$error":"#NUM!"}},{"$f":"IRRm(MXM42:MZL42)","v":1.0999999999999999},null,null,{"$f":"IRR(MXQ42:MZP42)","v":{"$error":"#NUM!"}},{"$f":"IRRm(MXQ42:MZP42)","v":1.0999999999999999},null,null,{"$f":"IRR(MXU42:MZT42)","v":{"$error":"#NUM!"}},{"$f":"IRRm(MXU42:MZT42)","v":1.0999999999999999},null,null,{"$f":"IRR(MXY42:MZX42)","v":{"$error":"#NUM!"}},{"$f":"IRRm(MXY42:MZX42)","v":1.0999999999999999},null,null,{"$f":"IRR(MYC42:NAB42)","v":{"$error":"#NUM!"}},{"$f":"IRRm(MYC42:NAB42)","v":1.0999999999999999},null,null,{"$f":"IRR(MYG42:NAF42)","v":{"$error":"#NUM!"}},{"$f":"IRRm(MYG42:NAF42)","v":1.0999999999999999},null,null,{"$f":"IRR(MYK42:NAJ42)","v":{"$error":"#NUM!"}},{"$f":"IRRm(MYK42:NAJ42)","v":1.0999999999999999},null,null,{"$f":"IRR(MYO42:NAN42)","v":{"$error":"#NUM!"}},{"$f":"IRRm(MYO42:NAN42)","v":1.0999999999999999},null,null,{"$f":"IRR(MYS42:NAR42)","v":{"$error":"#NUM!"}},{"$f":"IRRm(MYS42:NAR42)","v":1.0999999999999999},null,null,{"$f":"IRR(MYW42:NAV42)","v":{"$error":"#NUM!"}},{"$f":"IRRm(MYW42:NAV42)","v":1.0999999999999999},null,null,{"$f":"IRR(MZA42:NAZ42)","v":{"$error":"#NUM!"}},{"$f":"IRRm(MZA42:NAZ42)","v":1.0999999999999999},null,null,{"$f":"IRR(MZE42:NBD42)","v":{"$error":"#NUM!"}},{"$f":"IRRm(MZE42:NBD42)","v":1.0999999999999999},null,null,{"$f":"IRR(MZI42:NBH42)","v":{"$error":"#NUM!"}},{"$f":"IRRm(MZI42:NBH42)","v":1.0999999999999999},null,null,{"$f":"IRR(MZM42:NBL42)","v":{"$error":"#NUM!"}},{"$f":"IRRm(MZM42:NBL42)","v":1.0999999999999999},null,null,{"$f":"IRR(MZQ42:NBP42)","v":{"$error":"#NUM!"}},{"$f":"IRRm(MZQ42:NBP42)","v":1.0999999999999999},null,null,{"$f":"IRR(MZU42:NBT42)","v":{"$error":"#NUM!"}},{"$f":"IRRm(MZU42:NBT42)","v":1.0999999999999999},null,null,{"$f":"IRR(MZY42:NBX42)","v":{"$error":"#NUM!"}},{"$f":"IRRm(MZY42:NBX42)","v":1.0999999999999999},null,null,{"$f":"IRR(NAC42:NCB42)","v":{"$error":"#NUM!"}},{"$f":"IRRm(NAC42:NCB42)","v":1.0999999999999999},null,null,{"$f":"IRR(NAG42:NCF42)","v":{"$error":"#NUM!"}},{"$f":"IRRm(NAG42:NCF42)","v":1.0999999999999999},null,null,{"$f":"IRR(NAK42:NCJ42)","v":{"$error":"#NUM!"}},{"$f":"IRRm(NAK42:NCJ42)","v":1.0999999999999999},null,null,{"$f":"IRR(NAO42:NCN42)","v":{"$error":"#NUM!"}},{"$f":"IRRm(NAO42:NCN42)","v":1.0999999999999999},null,null,{"$f":"IRR(NAS42:NCR42)","v":{"$error":"#NUM!"}},{"$f":"IRRm(NAS42:NCR42)","v":1.0999999999999999},null,null,{"$f":"IRR(NAW42:NCV42)","v":{"$error":"#NUM!"}},{"$f":"IRRm(NAW42:NCV42)","v":1.0999999999999999},null,null,{"$f":"IRR(NBA42:NCZ42)","v":{"$error":"#NUM!"}},{"$f":"IRRm(NBA42:NCZ42)","v":1.0999999999999999},null,null,{"$f":"IRR(NBE42:NDD42)","v":{"$error":"#NUM!"}},{"$f":"IRRm(NBE42:NDD42)","v":1.0999999999999999},null,null,{"$f":"IRR(NBI42:NDH42)","v":{"$error":"#NUM!"}},{"$f":"IRRm(NBI42:NDH42)","v":1.0999999999999999},null,null,{"$f":"IRR(NBM42:NDL42)","v":{"$error":"#NUM!"}},{"$f":"IRRm(NBM42:NDL42)","v":1.0999999999999999},null,null,{"$f":"IRR(NBQ42:NDP42)","v":{"$error":"#NUM!"}},{"$f":"IRRm(NBQ42:NDP42)","v":1.0999999999999999},null,null,{"$f":"IRR(NBU42:NDT42)","v":{"$error":"#NUM!"}},{"$f":"IRRm(NBU42:NDT42)","v":1.0999999999999999},null,null,{"$f":"IRR(NBY42:NDX42)","v":{"$error":"#NUM!"}},{"$f":"IRRm(NBY42:NDX42)","v":1.0999999999999999},null,null,{"$f":"IRR(NCC42:NEB42)","v":{"$error":"#NUM!"}},{"$f":"IRRm(NCC42:NEB42)","v":1.0999999999999999},null,null,{"$f":"IRR(NCG42:NEF42)","v":{"$error":"#NUM!"}},{"$f":"IRRm(NCG42:NEF42)","v":1.0999999999999999},null,null,{"$f":"IRR(NCK42:NEJ42)","v":{"$error":"#NUM!"}},{"$f":"IRRm(NCK42:NEJ42)","v":1.0999999999999999},null,null,{"$f":"IRR(NCO42:NEN42)","v":{"$error":"#NUM!"}},{"$f":"IRRm(NCO42:NEN42)","v":1.0999999999999999},null,null,{"$f":"IRR(NCS42:NER42)","v":{"$error":"#NUM!"}},{"$f":"IRRm(NCS42:NER42)","v":1.0999999999999999},null,null,{"$f":"IRR(NCW42:NEV42)","v":{"$error":"#NUM!"}},{"$f":"IRRm(NCW42:NEV42)","v":1.0999999999999999},null,null,{"$f":"IRR(NDA42:NEZ42)","v":{"$error":"#NUM!"}},{"$f":"IRRm(NDA42:NEZ42)","v":1.0999999999999999},null,null,{"$f":"IRR(NDE42:NFD42)","v":{"$error":"#NUM!"}},{"$f":"IRRm(NDE42:NFD42)","v":1.0999999999999999},null,null,{"$f":"IRR(NDI42:NFH42)","v":{"$error":"#NUM!"}},{"$f":"IRRm(NDI42:NFH42)","v":1.0999999999999999},null,null,{"$f":"IRR(NDM42:NFL42)","v":{"$error":"#NUM!"}},{"$f":"IRRm(NDM42:NFL42)","v":1.0999999999999999},null,null,{"$f":"IRR(NDQ42:NFP42)","v":{"$error":"#NUM!"}},{"$f":"IRRm(NDQ42:NFP42)","v":1.0999999999999999},null,null,{"$f":"IRR(NDU42:NFT42)","v":{"$error":"#NUM!"}},{"$f":"IRRm(NDU42:NFT42)","v":1.0999999999999999},null,null,{"$f":"IRR(NDY42:NFX42)","v":{"$error":"#NUM!"}},{"$f":"IRRm(NDY42:NFX42)","v":1.0999999999999999},null,null,{"$f":"IRR(NEC42:NGB42)","v":{"$error":"#NUM!"}},{"$f":"IRRm(NEC42:NGB42)","v":1.0999999999999999},null,null,{"$f":"IRR(NEG42:NGF42)","v":{"$error":"#NUM!"}},{"$f":"IRRm(NEG42:NGF42)","v":1.0999999999999999},null,null,{"$f":"IRR(NEK42:NGJ42)","v":{"$error":"#NUM!"}},{"$f":"IRRm(NEK42:NGJ42)","v":1.0999999999999999},null,null,{"$f":"IRR(NEO42:NGN42)","v":{"$error":"#NUM!"}},{"$f":"IRRm(NEO42:NGN42)","v":1.0999999999999999},null,null,{"$f":"IRR(NES42:NGR42)","v":{"$error":"#NUM!"}},{"$f":"IRRm(NES42:NGR42)","v":1.0999999999999999},null,null,{"$f":"IRR(NEW42:NGV42)","v":{"$error":"#NUM!"}},{"$f":"IRRm(NEW42:NGV42)","v":1.0999999999999999},null,null,{"$f":"IRR(NFA42:NGZ42)","v":{"$error":"#NUM!"}},{"$f":"IRRm(NFA42:NGZ42)","v":1.0999999999999999},null,null,{"$f":"IRR(NFE42:NHD42)","v":{"$error":"#NUM!"}},{"$f":"IRRm(NFE42:NHD42)","v":1.0999999999999999},null,null,{"$f":"IRR(NFI42:NHH42)","v":{"$error":"#NUM!"}},{"$f":"IRRm(NFI42:NHH42)","v":1.0999999999999999},null,null,{"$f":"IRR(NFM42:NHL42)","v":{"$error":"#NUM!"}},{"$f":"IRRm(NFM42:NHL42)","v":1.0999999999999999},null,null,{"$f":"IRR(NFQ42:NHP42)","v":{"$error":"#NUM!"}},{"$f":"IRRm(NFQ42:NHP42)","v":1.0999999999999999},null,null,{"$f":"IRR(NFU42:NHT42)","v":{"$error":"#NUM!"}},{"$f":"IRRm(NFU42:NHT42)","v":1.0999999999999999},null,null,{"$f":"IRR(NFY42:NHX42)","v":{"$error":"#NUM!"}},{"$f":"IRRm(NFY42:NHX42)","v":1.0999999999999999},null,null,{"$f":"IRR(NGC42:NIB42)","v":{"$error":"#NUM!"}},{"$f":"IRRm(NGC42:NIB42)","v":1.0999999999999999},null,null,{"$f":"IRR(NGG42:NIF42)","v":{"$error":"#NUM!"}},{"$f":"IRRm(NGG42:NIF42)","v":1.0999999999999999},null,null,{"$f":"IRR(NGK42:NIJ42)","v":{"$error":"#NUM!"}},{"$f":"IRRm(NGK42:NIJ42)","v":1.0999999999999999},null,null,{"$f":"IRR(NGO42:NIN42)","v":{"$error":"#NUM!"}},{"$f":"IRRm(NGO42:NIN42)","v":1.0999999999999999},null,null,{"$f":"IRR(NGS42:NIR42)","v":{"$error":"#NUM!"}},{"$f":"IRRm(NGS42:NIR42)","v":1.0999999999999999},null,null,{"$f":"IRR(NGW42:NIV42)","v":{"$error":"#NUM!"}},{"$f":"IRRm(NGW42:NIV42)","v":1.0999999999999999},null,null,{"$f":"IRR(NHA42:NIZ42)","v":{"$error":"#NUM!"}},{"$f":"IRRm(NHA42:NIZ42)","v":1.0999999999999999},null,null,{"$f":"IRR(NHE42:NJD42)","v":{"$error":"#NUM!"}},{"$f":"IRRm(NHE42:NJD42)","v":1.0999999999999999},null,null,{"$f":"IRR(NHI42:NJH42)","v":{"$error":"#NUM!"}},{"$f":"IRRm(NHI42:NJH42)","v":1.0999999999999999},null,null,{"$f":"IRR(NHM42:NJL42)","v":{"$error":"#NUM!"}},{"$f":"IRRm(NHM42:NJL42)","v":1.0999999999999999},null,null,{"$f":"IRR(NHQ42:NJP42)","v":{"$error":"#NUM!"}},{"$f":"IRRm(NHQ42:NJP42)","v":1.0999999999999999},null,null,{"$f":"IRR(NHU42:NJT42)","v":{"$error":"#NUM!"}},{"$f":"IRRm(NHU42:NJT42)","v":1.0999999999999999},null,null,{"$f":"IRR(NHY42:NJX42)","v":{"$error":"#NUM!"}},{"$f":"IRRm(NHY42:NJX42)","v":1.0999999999999999},null,null,{"$f":"IRR(NIC42:NKB42)","v":{"$error":"#NUM!"}},{"$f":"IRRm(NIC42:NKB42)","v":1.0999999999999999},null,null,{"$f":"IRR(NIG42:NKF42)","v":{"$error":"#NUM!"}},{"$f":"IRRm(NIG42:NKF42)","v":1.0999999999999999},null,null,{"$f":"IRR(NIK42:NKJ42)","v":{"$error":"#NUM!"}},{"$f":"IRRm(NIK42:NKJ42)","v":1.0999999999999999},null,null,{"$f":"IRR(NIO42:NKN42)","v":{"$error":"#NUM!"}},{"$f":"IRRm(NIO42:NKN42)","v":1.0999999999999999},null,null,{"$f":"IRR(NIS42:NKR42)","v":{"$error":"#NUM!"}},{"$f":"IRRm(NIS42:NKR42)","v":1.0999999999999999},null,null,{"$f":"IRR(NIW42:NKV42)","v":{"$error":"#NUM!"}},{"$f":"IRRm(NIW42:NKV42)","v":1.0999999999999999},null,null,{"$f":"IRR(NJA42:NKZ42)","v":{"$error":"#NUM!"}},{"$f":"IRRm(NJA42:NKZ42)","v":1.0999999999999999},null,null,{"$f":"IRR(NJE42:NLD42)","v":{"$error":"#NUM!"}},{"$f":"IRRm(NJE42:NLD42)","v":1.0999999999999999},null,null,{"$f":"IRR(NJI42:NLH42)","v":{"$error":"#NUM!"}},{"$f":"IRRm(NJI42:NLH42)","v":1.0999999999999999},null,null,{"$f":"IRR(NJM42:NLL42)","v":{"$error":"#NUM!"}},{"$f":"IRRm(NJM42:NLL42)","v":1.0999999999999999},null,null,{"$f":"IRR(NJQ42:NLP42)","v":{"$error":"#NUM!"}},{"$f":"IRRm(NJQ42:NLP42)","v":1.0999999999999999},null,null,{"$f":"IRR(NJU42:NLT42)","v":{"$error":"#NUM!"}},{"$f":"IRRm(NJU42:NLT42)","v":1.0999999999999999},null,null,{"$f":"IRR(NJY42:NLX42)","v":{"$error":"#NUM!"}},{"$f":"IRRm(NJY42:NLX42)","v":1.0999999999999999},null,null,{"$f":"IRR(NKC42:NMB42)","v":{"$error":"#NUM!"}},{"$f":"IRRm(NKC42:NMB42)","v":1.0999999999999999},null,null,{"$f":"IRR(NKG42:NMF42)","v":{"$error":"#NUM!"}},{"$f":"IRRm(NKG42:NMF42)","v":1.0999999999999999},null,null,{"$f":"IRR(NKK42:NMJ42)","v":{"$error":"#NUM!"}},{"$f":"IRRm(NKK42:NMJ42)","v":1.0999999999999999},null,null,{"$f":"IRR(NKO42:NMN42)","v":{"$error":"#NUM!"}},{"$f":"IRRm(NKO42:NMN42)","v":1.0999999999999999},null,null,{"$f":"IRR(NKS42:NMR42)","v":{"$error":"#NUM!"}},{"$f":"IRRm(NKS42:NMR42)","v":1.0999999999999999},null,null,{"$f":"IRR(NKW42:NMV42)","v":{"$error":"#NUM!"}},{"$f":"IRRm(NKW42:NMV42)","v":1.0999999999999999},null,null,{"$f":"IRR(NLA42:NMZ42)","v":{"$error":"#NUM!"}},{"$f":"IRRm(NLA42:NMZ42)","v":1.0999999999999999},null,null,{"$f":"IRR(NLE42:NND42)","v":{"$error":"#NUM!"}},{"$f":"IRRm(NLE42:NND42)","v":1.0999999999999999},null,null,{"$f":"IRR(NLI42:NNH42)","v":{"$error":"#NUM!"}},{"$f":"IRRm(NLI42:NNH42)","v":1.0999999999999999},null,null,{"$f":"IRR(NLM42:NNL42)","v":{"$error":"#NUM!"}},{"$f":"IRRm(NLM42:NNL42)","v":1.0999999999999999},null,null,{"$f":"IRR(NLQ42:NNP42)","v":{"$error":"#NUM!"}},{"$f":"IRRm(NLQ42:NNP42)","v":1.0999999999999999},null,null,{"$f":"IRR(NLU42:NNT42)","v":{"$error":"#NUM!"}},{"$f":"IRRm(NLU42:NNT42)","v":1.0999999999999999},null,null,{"$f":"IRR(NLY42:NNX42)","v":{"$error":"#NUM!"}},{"$f":"IRRm(NLY42:NNX42)","v":1.0999999999999999},null,null,{"$f":"IRR(NMC42:NOB42)","v":{"$error":"#NUM!"}},{"$f":"IRRm(NMC42:NOB42)","v":1.0999999999999999},null,null,{"$f":"IRR(NMG42:NOF42)","v":{"$error":"#NUM!"}},{"$f":"IRRm(NMG42:NOF42)","v":1.0999999999999999},null,null,{"$f":"IRR(NMK42:NOJ42)","v":{"$error":"#NUM!"}},{"$f":"IRRm(NMK42:NOJ42)","v":1.0999999999999999},null,null,{"$f":"IRR(NMO42:NON42)","v":{"$error":"#NUM!"}},{"$f":"IRRm(NMO42:NON42)","v":1.0999999999999999},null,null,{"$f":"IRR(NMS42:NOR42)","v":{"$error":"#NUM!"}},{"$f":"IRRm(NMS42:NOR42)","v":1.0999999999999999},null,null,{"$f":"IRR(NMW42:NOV42)","v":{"$error":"#NUM!"}},{"$f":"IRRm(NMW42:NOV42)","v":1.0999999999999999},null,null,{"$f":"IRR(NNA42:NOZ42)","v":{"$error":"#NUM!"}},{"$f":"IRRm(NNA42:NOZ42)","v":1.0999999999999999},null,null,{"$f":"IRR(NNE42:NPD42)","v":{"$error":"#NUM!"}},{"$f":"IRRm(NNE42:NPD42)","v":1.0999999999999999},null,null,{"$f":"IRR(NNI42:NPH42)","v":{"$error":"#NUM!"}},{"$f":"IRRm(NNI42:NPH42)","v":1.0999999999999999},null,null,{"$f":"IRR(NNM42:NPL42)","v":{"$error":"#NUM!"}},{"$f":"IRRm(NNM42:NPL42)","v":1.0999999999999999},null,null,{"$f":"IRR(NNQ42:NPP42)","v":{"$error":"#NUM!"}},{"$f":"IRRm(NNQ42:NPP42)","v":1.0999999999999999},null,null,{"$f":"IRR(NNU42:NPT42)","v":{"$error":"#NUM!"}},{"$f":"IRRm(NNU42:NPT42)","v":1.0999999999999999},null,null,{"$f":"IRR(NNY42:NPX42)","v":{"$error":"#NUM!"}},{"$f":"IRRm(NNY42:NPX42)","v":1.0999999999999999},null,null,{"$f":"IRR(NOC42:NQB42)","v":{"$error":"#NUM!"}},{"$f":"IRRm(NOC42:NQB42)","v":1.0999999999999999},null,null,{"$f":"IRR(NOG42:NQF42)","v":{"$error":"#NUM!"}},{"$f":"IRRm(NOG42:NQF42)","v":1.0999999999999999},null,null,{"$f":"IRR(NOK42:NQJ42)","v":{"$error":"#NUM!"}},{"$f":"IRRm(NOK42:NQJ42)","v":1.0999999999999999},null,null,{"$f":"IRR(NOO42:NQN42)","v":{"$error":"#NUM!"}},{"$f":"IRRm(NOO42:NQN42)","v":1.0999999999999999},null,null,{"$f":"IRR(NOS42:NQR42)","v":{"$error":"#NUM!"}},{"$f":"IRRm(NOS42:NQR42)","v":1.0999999999999999},null,null,{"$f":"IRR(NOW42:NQV42)","v":{"$error":"#NUM!"}},{"$f":"IRRm(NOW42:NQV42)","v":1.0999999999999999},null,null,{"$f":"IRR(NPA42:NQZ42)","v":{"$error":"#NUM!"}},{"$f":"IRRm(NPA42:NQZ42)","v":1.0999999999999999},null,null,{"$f":"IRR(NPE42:NRD42)","v":{"$error":"#NUM!"}},{"$f":"IRRm(NPE42:NRD42)","v":1.0999999999999999},null,null,{"$f":"IRR(NPI42:NRH42)","v":{"$error":"#NUM!"}},{"$f":"IRRm(NPI42:NRH42)","v":1.0999999999999999},null,null,{"$f":"IRR(NPM42:NRL42)","v":{"$error":"#NUM!"}},{"$f":"IRRm(NPM42:NRL42)","v":1.0999999999999999},null,null,{"$f":"IRR(NPQ42:NRP42)","v":{"$error":"#NUM!"}},{"$f":"IRRm(NPQ42:NRP42)","v":1.0999999999999999},null,null,{"$f":"IRR(NPU42:NRT42)","v":{"$error":"#NUM!"}},{"$f":"IRRm(NPU42:NRT42)","v":1.0999999999999999},null,null,{"$f":"IRR(NPY42:NRX42)","v":{"$error":"#NUM!"}},{"$f":"IRRm(NPY42:NRX42)","v":1.0999999999999999},null,null,{"$f":"IRR(NQC42:NSB42)","v":{"$error":"#NUM!"}},{"$f":"IRRm(NQC42:NSB42)","v":1.0999999999999999},null,null,{"$f":"IRR(NQG42:NSF42)","v":{"$error":"#NUM!"}},{"$f":"IRRm(NQG42:NSF42)","v":1.0999999999999999},null,null,{"$f":"IRR(NQK42:NSJ42)","v":{"$error":"#NUM!"}},{"$f":"IRRm(NQK42:NSJ42)","v":1.0999999999999999},null,null,{"$f":"IRR(NQO42:NSN42)","v":{"$error":"#NUM!"}},{"$f":"IRRm(NQO42:NSN42)","v":1.0999999999999999},null,null,{"$f":"IRR(NQS42:NSR42)","v":{"$error":"#NUM!"}},{"$f":"IRRm(NQS42:NSR42)","v":1.0999999999999999},null,null,{"$f":"IRR(NQW42:NSV42)","v":{"$error":"#NUM!"}},{"$f":"IRRm(NQW42:NSV42)","v":1.0999999999999999},null,null,{"$f":"IRR(NRA42:NSZ42)","v":{"$error":"#NUM!"}},{"$f":"IRRm(NRA42:NSZ42)","v":1.0999999999999999},null,null,{"$f":"IRR(NRE42:NTD42)","v":{"$error":"#NUM!"}},{"$f":"IRRm(NRE42:NTD42)","v":1.0999999999999999},null,null,{"$f":"IRR(NRI42:NTH42)","v":{"$error":"#NUM!"}},{"$f":"IRRm(NRI42:NTH42)","v":1.0999999999999999},null,null,{"$f":"IRR(NRM42:NTL42)","v":{"$error":"#NUM!"}},{"$f":"IRRm(NRM42:NTL42)","v":1.0999999999999999},null,null,{"$f":"IRR(NRQ42:NTP42)","v":{"$error":"#NUM!"}},{"$f":"IRRm(NRQ42:NTP42)","v":1.0999999999999999},null,null,{"$f":"IRR(NRU42:NTT42)","v":{"$error":"#NUM!"}},{"$f":"IRRm(NRU42:NTT42)","v":1.0999999999999999},null,null,{"$f":"IRR(NRY42:NTX42)","v":{"$error":"#NUM!"}},{"$f":"IRRm(NRY42:NTX42)","v":1.0999999999999999},null,null,{"$f":"IRR(NSC42:NUB42)","v":{"$error":"#NUM!"}},{"$f":"IRRm(NSC42:NUB42)","v":1.0999999999999999},null,null,{"$f":"IRR(NSG42:NUF42)","v":{"$error":"#NUM!"}},{"$f":"IRRm(NSG42:NUF42)","v":1.0999999999999999},null,null,{"$f":"IRR(NSK42:NUJ42)","v":{"$error":"#NUM!"}},{"$f":"IRRm(NSK42:NUJ42)","v":1.0999999999999999},null,null,{"$f":"IRR(NSO42:NUN42)","v":{"$error":"#NUM!"}},{"$f":"IRRm(NSO42:NUN42)","v":1.0999999999999999},null,null,{"$f":"IRR(NSS42:NUR42)","v":{"$error":"#NUM!"}},{"$f":"IRRm(NSS42:NUR42)","v":1.0999999999999999},null,null,{"$f":"IRR(NSW42:NUV42)","v":{"$error":"#NUM!"}},{"$f":"IRRm(NSW42:NUV42)","v":1.0999999999999999},null,null,{"$f":"IRR(NTA42:NUZ42)","v":{"$error":"#NUM!"}},{"$f":"IRRm(NTA42:NUZ42)","v":1.0999999999999999},null,null,{"$f":"IRR(NTE42:NVD42)","v":{"$error":"#NUM!"}},{"$f":"IRRm(NTE42:NVD42)","v":1.0999999999999999},null,null,{"$f":"IRR(NTI42:NVH42)","v":{"$error":"#NUM!"}},{"$f":"IRRm(NTI42:NVH42)","v":1.0999999999999999},null,null,{"$f":"IRR(NTM42:NVL42)","v":{"$error":"#NUM!"}},{"$f":"IRRm(NTM42:NVL42)","v":1.0999999999999999},null,null,{"$f":"IRR(NTQ42:NVP42)","v":{"$error":"#NUM!"}},{"$f":"IRRm(NTQ42:NVP42)","v":1.0999999999999999},null,null,{"$f":"IRR(NTU42:NVT42)","v":{"$error":"#NUM!"}},{"$f":"IRRm(NTU42:NVT42)","v":1.0999999999999999},null,null,{"$f":"IRR(NTY42:NVX42)","v":{"$error":"#NUM!"}},{"$f":"IRRm(NTY42:NVX42)","v":1.0999999999999999},null,null,{"$f":"IRR(NUC42:NWB42)","v":{"$error":"#NUM!"}},{"$f":"IRRm(NUC42:NWB42)","v":1.0999999999999999},null,null,{"$f":"IRR(NUG42:NWF42)","v":{"$error":"#NUM!"}},{"$f":"IRRm(NUG42:NWF42)","v":1.0999999999999999},null,null,{"$f":"IRR(NUK42:NWJ42)","v":{"$error":"#NUM!"}},{"$f":"IRRm(NUK42:NWJ42)","v":1.0999999999999999},null,null,{"$f":"IRR(NUO42:NWN42)","v":{"$error":"#NUM!"}},{"$f":"IRRm(NUO42:NWN42)","v":1.0999999999999999},null,null,{"$f":"IRR(NUS42:NWR42)","v":{"$error":"#NUM!"}},{"$f":"IRRm(NUS42:NWR42)","v":1.0999999999999999},null,null,{"$f":"IRR(NUW42:NWV42)","v":{"$error":"#NUM!"}},{"$f":"IRRm(NUW42:NWV42)","v":1.0999999999999999},null,null,{"$f":"IRR(NVA42:NWZ42)","v":{"$error":"#NUM!"}},{"$f":"IRRm(NVA42:NWZ42)","v":1.0999999999999999},null,null,{"$f":"IRR(NVE42:NXD42)","v":{"$error":"#NUM!"}},{"$f":"IRRm(NVE42:NXD42)","v":1.0999999999999999},null,null,{"$f":"IRR(NVI42:NXH42)","v":{"$error":"#NUM!"}},{"$f":"IRRm(NVI42:NXH42)","v":1.0999999999999999},null,null,{"$f":"IRR(NVM42:NXL42)","v":{"$error":"#NUM!"}},{"$f":"IRRm(NVM42:NXL42)","v":1.0999999999999999},null,null,{"$f":"IRR(NVQ42:NXP42)","v":{"$error":"#NUM!"}},{"$f":"IRRm(NVQ42:NXP42)","v":1.0999999999999999},null,null,{"$f":"IRR(NVU42:NXT42)","v":{"$error":"#NUM!"}},{"$f":"IRRm(NVU42:NXT42)","v":1.0999999999999999},null,null,{"$f":"IRR(NVY42:NXX42)","v":{"$error":"#NUM!"}},{"$f":"IRRm(NVY42:NXX42)","v":1.0999999999999999},null,null,{"$f":"IRR(NWC42:NYB42)","v":{"$error":"#NUM!"}},{"$f":"IRRm(NWC42:NYB42)","v":1.0999999999999999},null,null,{"$f":"IRR(NWG42:NYF42)","v":{"$error":"#NUM!"}},{"$f":"IRRm(NWG42:NYF42)","v":1.0999999999999999},null,null,{"$f":"IRR(NWK42:NYJ42)","v":{"$error":"#NUM!"}},{"$f":"IRRm(NWK42:NYJ42)","v":1.0999999999999999},null,null,{"$f":"IRR(NWO42:NYN42)","v":{"$error":"#NUM!"}},{"$f":"IRRm(NWO42:NYN42)","v":1.0999999999999999},null,null,{"$f":"IRR(NWS42:NYR42)","v":{"$error":"#NUM!"}},{"$f":"IRRm(NWS42:NYR42)","v":1.0999999999999999},null,null,{"$f":"IRR(NWW42:NYV42)","v":{"$error":"#NUM!"}},{"$f":"IRRm(NWW42:NYV42)","v":1.0999999999999999},null,null,{"$f":"IRR(NXA42:NYZ42)","v":{"$error":"#NUM!"}},{"$f":"IRRm(NXA42:NYZ42)","v":1.0999999999999999},null,null,{"$f":"IRR(NXE42:NZD42)","v":{"$error":"#NUM!"}},{"$f":"IRRm(NXE42:NZD42)","v":1.0999999999999999},null,null,{"$f":"IRR(NXI42:NZH42)","v":{"$error":"#NUM!"}},{"$f":"IRRm(NXI42:NZH42)","v":1.0999999999999999},null,null,{"$f":"IRR(NXM42:NZL42)","v":{"$error":"#NUM!"}},{"$f":"IRRm(NXM42:NZL42)","v":1.0999999999999999},null,null,{"$f":"IRR(NXQ42:NZP42)","v":{"$error":"#NUM!"}},{"$f":"IRRm(NXQ42:NZP42)","v":1.0999999999999999},null,null,{"$f":"IRR(NXU42:NZT42)","v":{"$error":"#NUM!"}},{"$f":"IRRm(NXU42:NZT42)","v":1.0999999999999999},null,null,{"$f":"IRR(NXY42:NZX42)","v":{"$error":"#NUM!"}},{"$f":"IRRm(NXY42:NZX42)","v":1.0999999999999999},null,null,{"$f":"IRR(NYC42:OAB42)","v":{"$error":"#NUM!"}},{"$f":"IRRm(NYC42:OAB42)","v":1.0999999999999999},null,null,{"$f":"IRR(NYG42:OAF42)","v":{"$error":"#NUM!"}},{"$f":"IRRm(NYG42:OAF42)","v":1.0999999999999999},null,null,{"$f":"IRR(NYK42:OAJ42)","v":{"$error":"#NUM!"}},{"$f":"IRRm(NYK42:OAJ42)","v":1.0999999999999999},null,null,{"$f":"IRR(NYO42:OAN42)","v":{"$error":"#NUM!"}},{"$f":"IRRm(NYO42:OAN42)","v":1.0999999999999999},null,null,{"$f":"IRR(NYS42:OAR42)","v":{"$error":"#NUM!"}},{"$f":"IRRm(NYS42:OAR42)","v":1.0999999999999999},null,null,{"$f":"IRR(NYW42:OAV42)","v":{"$error":"#NUM!"}},{"$f":"IRRm(NYW42:OAV42)","v":1.0999999999999999},null,null,{"$f":"IRR(NZA42:OAZ42)","v":{"$error":"#NUM!"}},{"$f":"IRRm(NZA42:OAZ42)","v":1.0999999999999999},null,null,{"$f":"IRR(NZE42:OBD42)","v":{"$error":"#NUM!"}},{"$f":"IRRm(NZE42:OBD42)","v":1.0999999999999999},null,null,{"$f":"IRR(NZI42:OBH42)","v":{"$error":"#NUM!"}},{"$f":"IRRm(NZI42:OBH42)","v":1.0999999999999999},null,null,{"$f":"IRR(NZM42:OBL42)","v":{"$error":"#NUM!"}},{"$f":"IRRm(NZM42:OBL42)","v":1.0999999999999999},null,null,{"$f":"IRR(NZQ42:OBP42)","v":{"$error":"#NUM!"}},{"$f":"IRRm(NZQ42:OBP42)","v":1.0999999999999999},null,null,{"$f":"IRR(NZU42:OBT42)","v":{"$error":"#NUM!"}},{"$f":"IRRm(NZU42:OBT42)","v":1.0999999999999999},null,null,{"$f":"IRR(NZY42:OBX42)","v":{"$error":"#NUM!"}},{"$f":"IRRm(NZY42:OBX42)","v":1.0999999999999999},null,null,{"$f":"IRR(OAC42:OCB42)","v":{"$error":"#NUM!"}},{"$f":"IRRm(OAC42:OCB42)","v":1.0999999999999999},null,null,{"$f":"IRR(OAG42:OCF42)","v":{"$error":"#NUM!"}},{"$f":"IRRm(OAG42:OCF42)","v":1.0999999999999999},null,null,{"$f":"IRR(OAK42:OCJ42)","v":{"$error":"#NUM!"}},{"$f":"IRRm(OAK42:OCJ42)","v":1.0999999999999999},null,null,{"$f":"IRR(OAO42:OCN42)","v":{"$error":"#NUM!"}},{"$f":"IRRm(OAO42:OCN42)","v":1.0999999999999999},null,null,{"$f":"IRR(OAS42:OCR42)","v":{"$error":"#NUM!"}},{"$f":"IRRm(OAS42:OCR42)","v":1.0999999999999999},null,null,{"$f":"IRR(OAW42:OCV42)","v":{"$error":"#NUM!"}},{"$f":"IRRm(OAW42:OCV42)","v":1.0999999999999999},null,null,{"$f":"IRR(OBA42:OCZ42)","v":{"$error":"#NUM!"}},{"$f":"IRRm(OBA42:OCZ42)","v":1.0999999999999999},null,null,{"$f":"IRR(OBE42:ODD42)","v":{"$error":"#NUM!"}},{"$f":"IRRm(OBE42:ODD42)","v":1.0999999999999999},null,null,{"$f":"IRR(OBI42:ODH42)","v":{"$error":"#NUM!"}},{"$f":"IRRm(OBI42:ODH42)","v":1.0999999999999999},null,null,{"$f":"IRR(OBM42:ODL42)","v":{"$error":"#NUM!"}},{"$f":"IRRm(OBM42:ODL42)","v":1.0999999999999999},null,null,{"$f":"IRR(OBQ42:ODP42)","v":{"$error":"#NUM!"}},{"$f":"IRRm(OBQ42:ODP42)","v":1.0999999999999999},null,null,{"$f":"IRR(OBU42:ODT42)","v":{"$error":"#NUM!"}},{"$f":"IRRm(OBU42:ODT42)","v":1.0999999999999999},null,null,{"$f":"IRR(OBY42:ODX42)","v":{"$error":"#NUM!"}},{"$f":"IRRm(OBY42:ODX42)","v":1.0999999999999999},null,null,{"$f":"IRR(OCC42:OEB42)","v":{"$error":"#NUM!"}},{"$f":"IRRm(OCC42:OEB42)","v":1.0999999999999999},null,null,{"$f":"IRR(OCG42:OEF42)","v":{"$error":"#NUM!"}},{"$f":"IRRm(OCG42:OEF42)","v":1.0999999999999999},null,null,{"$f":"IRR(OCK42:OEJ42)","v":{"$error":"#NUM!"}},{"$f":"IRRm(OCK42:OEJ42)","v":1.0999999999999999},null,null,{"$f":"IRR(OCO42:OEN42)","v":{"$error":"#NUM!"}},{"$f":"IRRm(OCO42:OEN42)","v":1.0999999999999999},null,null,{"$f":"IRR(OCS42:OER42)","v":{"$error":"#NUM!"}},{"$f":"IRRm(OCS42:OER42)","v":1.0999999999999999},null,null,{"$f":"IRR(OCW42:OEV42)","v":{"$error":"#NUM!"}},{"$f":"IRRm(OCW42:OEV42)","v":1.0999999999999999},null,null,{"$f":"IRR(ODA42:OEZ42)","v":{"$error":"#NUM!"}},{"$f":"IRRm(ODA42:OEZ42)","v":1.0999999999999999},null,null,{"$f":"IRR(ODE42:OFD42)","v":{"$error":"#NUM!"}},{"$f":"IRRm(ODE42:OFD42)","v":1.0999999999999999},null,null,{"$f":"IRR(ODI42:OFH42)","v":{"$error":"#NUM!"}},{"$f":"IRRm(ODI42:OFH42)","v":1.0999999999999999},null,null,{"$f":"IRR(ODM42:OFL42)","v":{"$error":"#NUM!"}},{"$f":"IRRm(ODM42:OFL42)","v":1.0999999999999999},null,null,{"$f":"IRR(ODQ42:OFP42)","v":{"$error":"#NUM!"}},{"$f":"IRRm(ODQ42:OFP42)","v":1.0999999999999999},null,null,{"$f":"IRR(ODU42:OFT42)","v":{"$error":"#NUM!"}},{"$f":"IRRm(ODU42:OFT42)","v":1.0999999999999999},null,null,{"$f":"IRR(ODY42:OFX42)","v":{"$error":"#NUM!"}},{"$f":"IRRm(ODY42:OFX42)","v":1.0999999999999999},null,null,{"$f":"IRR(OEC42:OGB42)","v":{"$error":"#NUM!"}},{"$f":"IRRm(OEC42:OGB42)","v":1.0999999999999999},null,null,{"$f":"IRR(OEG42:OGF42)","v":{"$error":"#NUM!"}},{"$f":"IRRm(OEG42:OGF42)","v":1.0999999999999999},null,null,{"$f":"IRR(OEK42:OGJ42)","v":{"$error":"#NUM!"}},{"$f":"IRRm(OEK42:OGJ42)","v":1.0999999999999999},null,null,{"$f":"IRR(OEO42:OGN42)","v":{"$error":"#NUM!"}},{"$f":"IRRm(OEO42:OGN42)","v":1.0999999999999999},null,null,{"$f":"IRR(OES42:OGR42)","v":{"$error":"#NUM!"}},{"$f":"IRRm(OES42:OGR42)","v":1.0999999999999999},null,null,{"$f":"IRR(OEW42:OGV42)","v":{"$error":"#NUM!"}},{"$f":"IRRm(OEW42:OGV42)","v":1.0999999999999999},null,null,{"$f":"IRR(OFA42:OGZ42)","v":{"$error":"#NUM!"}},{"$f":"IRRm(OFA42:OGZ42)","v":1.0999999999999999},null,null,{"$f":"IRR(OFE42:OHD42)","v":{"$error":"#NUM!"}},{"$f":"IRRm(OFE42:OHD42)","v":1.0999999999999999},null,null,{"$f":"IRR(OFI42:OHH42)","v":{"$error":"#NUM!"}},{"$f":"IRRm(OFI42:OHH42)","v":1.0999999999999999},null,null,{"$f":"IRR(OFM42:OHL42)","v":{"$error":"#NUM!"}},{"$f":"IRRm(OFM42:OHL42)","v":1.0999999999999999},null,null,{"$f":"IRR(OFQ42:OHP42)","v":{"$error":"#NUM!"}},{"$f":"IRRm(OFQ42:OHP42)","v":1.0999999999999999},null,null,{"$f":"IRR(OFU42:OHT42)","v":{"$error":"#NUM!"}},{"$f":"IRRm(OFU42:OHT42)","v":1.0999999999999999},null,null,{"$f":"IRR(OFY42:OHX42)","v":{"$error":"#NUM!"}},{"$f":"IRRm(OFY42:OHX42)","v":1.0999999999999999},null,null,{"$f":"IRR(OGC42:OIB42)","v":{"$error":"#NUM!"}},{"$f":"IRRm(OGC42:OIB42)","v":1.0999999999999999},null,null,{"$f":"IRR(OGG42:OIF42)","v":{"$error":"#NUM!"}},{"$f":"IRRm(OGG42:OIF42)","v":1.0999999999999999},null,null,{"$f":"IRR(OGK42:OIJ42)","v":{"$error":"#NUM!"}},{"$f":"IRRm(OGK42:OIJ42)","v":1.0999999999999999},null,null,{"$f":"IRR(OGO42:OIN42)","v":{"$error":"#NUM!"}},{"$f":"IRRm(OGO42:OIN42)","v":1.0999999999999999},null,null,{"$f":"IRR(OGS42:OIR42)","v":{"$error":"#NUM!"}},{"$f":"IRRm(OGS42:OIR42)","v":1.0999999999999999},null,null,{"$f":"IRR(OGW42:OIV42)","v":{"$error":"#NUM!"}},{"$f":"IRRm(OGW42:OIV42)","v":1.0999999999999999},null,null,{"$f":"IRR(OHA42:OIZ42)","v":{"$error":"#NUM!"}},{"$f":"IRRm(OHA42:OIZ42)","v":1.0999999999999999},null,null,{"$f":"IRR(OHE42:OJD42)","v":{"$error":"#NUM!"}},{"$f":"IRRm(OHE42:OJD42)","v":1.0999999999999999},null,null,{"$f":"IRR(OHI42:OJH42)","v":{"$error":"#NUM!"}},{"$f":"IRRm(OHI42:OJH42)","v":1.0999999999999999},null,null,{"$f":"IRR(OHM42:OJL42)","v":{"$error":"#NUM!"}},{"$f":"IRRm(OHM42:OJL42)","v":1.0999999999999999},null,null,{"$f":"IRR(OHQ42:OJP42)","v":{"$error":"#NUM!"}},{"$f":"IRRm(OHQ42:OJP42)","v":1.0999999999999999},null,null,{"$f":"IRR(OHU42:OJT42)","v":{"$error":"#NUM!"}},{"$f":"IRRm(OHU42:OJT42)","v":1.0999999999999999},null,null,{"$f":"IRR(OHY42:OJX42)","v":{"$error":"#NUM!"}},{"$f":"IRRm(OHY42:OJX42)","v":1.0999999999999999},null,null,{"$f":"IRR(OIC42:OKB42)","v":{"$error":"#NUM!"}},{"$f":"IRRm(OIC42:OKB42)","v":1.0999999999999999},null,null,{"$f":"IRR(OIG42:OKF42)","v":{"$error":"#NUM!"}},{"$f":"IRRm(OIG42:OKF42)","v":1.0999999999999999},null,null,{"$f":"IRR(OIK42:OKJ42)","v":{"$error":"#NUM!"}},{"$f":"IRRm(OIK42:OKJ42)","v":1.0999999999999999},null,null,{"$f":"IRR(OIO42:OKN42)","v":{"$error":"#NUM!"}},{"$f":"IRRm(OIO42:OKN42)","v":1.0999999999999999},null,null,{"$f":"IRR(OIS42:OKR42)","v":{"$error":"#NUM!"}},{"$f":"IRRm(OIS42:OKR42)","v":1.0999999999999999},null,null,{"$f":"IRR(OIW42:OKV42)","v":{"$error":"#NUM!"}},{"$f":"IRRm(OIW42:OKV42)","v":1.0999999999999999},null,null,{"$f":"IRR(OJA42:OKZ42)","v":{"$error":"#NUM!"}},{"$f":"IRRm(OJA42:OKZ42)","v":1.0999999999999999},null,null,{"$f":"IRR(OJE42:OLD42)","v":{"$error":"#NUM!"}},{"$f":"IRRm(OJE42:OLD42)","v":1.0999999999999999},null,null,{"$f":"IRR(OJI42:OLH42)","v":{"$error":"#NUM!"}},{"$f":"IRRm(OJI42:OLH42)","v":1.0999999999999999},null,null,{"$f":"IRR(OJM42:OLL42)","v":{"$error":"#NUM!"}},{"$f":"IRRm(OJM42:OLL42)","v":1.0999999999999999},null,null,{"$f":"IRR(OJQ42:OLP42)","v":{"$error":"#NUM!"}},{"$f":"IRRm(OJQ42:OLP42)","v":1.0999999999999999},null,null,{"$f":"IRR(OJU42:OLT42)","v":{"$error":"#NUM!"}},{"$f":"IRRm(OJU42:OLT42)","v":1.0999999999999999},null,null,{"$f":"IRR(OJY42:OLX42)","v":{"$error":"#NUM!"}},{"$f":"IRRm(OJY42:OLX42)","v":1.0999999999999999},null,null,{"$f":"IRR(OKC42:OMB42)","v":{"$error":"#NUM!"}},{"$f":"IRRm(OKC42:OMB42)","v":1.0999999999999999},null,null,{"$f":"IRR(OKG42:OMF42)","v":{"$error":"#NUM!"}},{"$f":"IRRm(OKG42:OMF42)","v":1.0999999999999999},null,null,{"$f":"IRR(OKK42:OMJ42)","v":{"$error":"#NUM!"}},{"$f":"IRRm(OKK42:OMJ42)","v":1.0999999999999999},null,null,{"$f":"IRR(OKO42:OMN42)","v":{"$error":"#NUM!"}},{"$f":"IRRm(OKO42:OMN42)","v":1.0999999999999999},null,null,{"$f":"IRR(OKS42:OMR42)","v":{"$error":"#NUM!"}},{"$f":"IRRm(OKS42:OMR42)","v":1.0999999999999999},null,null,{"$f":"IRR(OKW42:OMV42)","v":{"$error":"#NUM!"}},{"$f":"IRRm(OKW42:OMV42)","v":1.0999999999999999},null,null,{"$f":"IRR(OLA42:OMZ42)","v":{"$error":"#NUM!"}},{"$f":"IRRm(OLA42:OMZ42)","v":1.0999999999999999},null,null,{"$f":"IRR(OLE42:OND42)","v":{"$error":"#NUM!"}},{"$f":"IRRm(OLE42:OND42)","v":1.0999999999999999},null,null,{"$f":"IRR(OLI42:ONH42)","v":{"$error":"#NUM!"}},{"$f":"IRRm(OLI42:ONH42)","v":1.0999999999999999},null,null,{"$f":"IRR(OLM42:ONL42)","v":{"$error":"#NUM!"}},{"$f":"IRRm(OLM42:ONL42)","v":1.0999999999999999},null,null,{"$f":"IRR(OLQ42:ONP42)","v":{"$error":"#NUM!"}},{"$f":"IRRm(OLQ42:ONP42)","v":1.0999999999999999},null,null,{"$f":"IRR(OLU42:ONT42)","v":{"$error":"#NUM!"}},{"$f":"IRRm(OLU42:ONT42)","v":1.0999999999999999},null,null,{"$f":"IRR(OLY42:ONX42)","v":{"$error":"#NUM!"}},{"$f":"IRRm(OLY42:ONX42)","v":1.0999999999999999},null,null,{"$f":"IRR(OMC42:OOB42)","v":{"$error":"#NUM!"}},{"$f":"IRRm(OMC42:OOB42)","v":1.0999999999999999},null,null,{"$f":"IRR(OMG42:OOF42)","v":{"$error":"#NUM!"}},{"$f":"IRRm(OMG42:OOF42)","v":1.0999999999999999},null,null,{"$f":"IRR(OMK42:OOJ42)","v":{"$error":"#NUM!"}},{"$f":"IRRm(OMK42:OOJ42)","v":1.0999999999999999},null,null,{"$f":"IRR(OMO42:OON42)","v":{"$error":"#NUM!"}},{"$f":"IRRm(OMO42:OON42)","v":1.0999999999999999},null,null,{"$f":"IRR(OMS42:OOR42)","v":{"$error":"#NUM!"}},{"$f":"IRRm(OMS42:OOR42)","v":1.0999999999999999},null,null,{"$f":"IRR(OMW42:OOV42)","v":{"$error":"#NUM!"}},{"$f":"IRRm(OMW42:OOV42)","v":1.0999999999999999},null,null,{"$f":"IRR(ONA42:OOZ42)","v":{"$error":"#NUM!"}},{"$f":"IRRm(ONA42:OOZ42)","v":1.0999999999999999},null,null,{"$f":"IRR(ONE42:OPD42)","v":{"$error":"#NUM!"}},{"$f":"IRRm(ONE42:OPD42)","v":1.0999999999999999},null,null,{"$f":"IRR(ONI42:OPH42)","v":{"$error":"#NUM!"}},{"$f":"IRRm(ONI42:OPH42)","v":1.0999999999999999},null,null,{"$f":"IRR(ONM42:OPL42)","v":{"$error":"#NUM!"}},{"$f":"IRRm(ONM42:OPL42)","v":1.0999999999999999},null,null,{"$f":"IRR(ONQ42:OPP42)","v":{"$error":"#NUM!"}},{"$f":"IRRm(ONQ42:OPP42)","v":1.0999999999999999},null,null,{"$f":"IRR(ONU42:OPT42)","v":{"$error":"#NUM!"}},{"$f":"IRRm(ONU42:OPT42)","v":1.0999999999999999},null,null,{"$f":"IRR(ONY42:OPX42)","v":{"$error":"#NUM!"}},{"$f":"IRRm(ONY42:OPX42)","v":1.0999999999999999},null,null,{"$f":"IRR(OOC42:OQB42)","v":{"$error":"#NUM!"}},{"$f":"IRRm(OOC42:OQB42)","v":1.0999999999999999},null,null,{"$f":"IRR(OOG42:OQF42)","v":{"$error":"#NUM!"}},{"$f":"IRRm(OOG42:OQF42)","v":1.0999999999999999},null,null,{"$f":"IRR(OOK42:OQJ42)","v":{"$error":"#NUM!"}},{"$f":"IRRm(OOK42:OQJ42)","v":1.0999999999999999},null,null,{"$f":"IRR(OOO42:OQN42)","v":{"$error":"#NUM!"}},{"$f":"IRRm(OOO42:OQN42)","v":1.0999999999999999},null,null,{"$f":"IRR(OOS42:OQR42)","v":{"$error":"#NUM!"}},{"$f":"IRRm(OOS42:OQR42)","v":1.0999999999999999},null,null,{"$f":"IRR(OOW42:OQV42)","v":{"$error":"#NUM!"}},{"$f":"IRRm(OOW42:OQV42)","v":1.0999999999999999},null,null,{"$f":"IRR(OPA42:OQZ42)","v":{"$error":"#NUM!"}},{"$f":"IRRm(OPA42:OQZ42)","v":1.0999999999999999},null,null,{"$f":"IRR(OPE42:ORD42)","v":{"$error":"#NUM!"}},{"$f":"IRRm(OPE42:ORD42)","v":1.0999999999999999},null,null,{"$f":"IRR(OPI42:ORH42)","v":{"$error":"#NUM!"}},{"$f":"IRRm(OPI42:ORH42)","v":1.0999999999999999},null,null,{"$f":"IRR(OPM42:ORL42)","v":{"$error":"#NUM!"}},{"$f":"IRRm(OPM42:ORL42)","v":1.0999999999999999},null,null,{"$f":"IRR(OPQ42:ORP42)","v":{"$error":"#NUM!"}},{"$f":"IRRm(OPQ42:ORP42)","v":1.0999999999999999},null,null,{"$f":"IRR(OPU42:ORT42)","v":{"$error":"#NUM!"}},{"$f":"IRRm(OPU42:ORT42)","v":1.0999999999999999},null,null,{"$f":"IRR(OPY42:ORX42)","v":{"$error":"#NUM!"}},{"$f":"IRRm(OPY42:ORX42)","v":1.0999999999999999},null,null,{"$f":"IRR(OQC42:OSB42)","v":{"$error":"#NUM!"}},{"$f":"IRRm(OQC42:OSB42)","v":1.0999999999999999},null,null,{"$f":"IRR(OQG42:OSF42)","v":{"$error":"#NUM!"}},{"$f":"IRRm(OQG42:OSF42)","v":1.0999999999999999},null,null,{"$f":"IRR(OQK42:OSJ42)","v":{"$error":"#NUM!"}},{"$f":"IRRm(OQK42:OSJ42)","v":1.0999999999999999},null,null,{"$f":"IRR(OQO42:OSN42)","v":{"$error":"#NUM!"}},{"$f":"IRRm(OQO42:OSN42)","v":1.0999999999999999},null,null,{"$f":"IRR(OQS42:OSR42)","v":{"$error":"#NUM!"}},{"$f":"IRRm(OQS42:OSR42)","v":1.0999999999999999},null,null,{"$f":"IRR(OQW42:OSV42)","v":{"$error":"#NUM!"}},{"$f":"IRRm(OQW42:OSV42)","v":1.0999999999999999},null,null,{"$f":"IRR(ORA42:OSZ42)","v":{"$error":"#NUM!"}},{"$f":"IRRm(ORA42:OSZ42)","v":1.0999999999999999},null,null,{"$f":"IRR(ORE42:OTD42)","v":{"$error":"#NUM!"}},{"$f":"IRRm(ORE42:OTD42)","v":1.0999999999999999},null,null,{"$f":"IRR(ORI42:OTH42)","v":{"$error":"#NUM!"}},{"$f":"IRRm(ORI42:OTH42)","v":1.0999999999999999},null,null,{"$f":"IRR(ORM42:OTL42)","v":{"$error":"#NUM!"}},{"$f":"IRRm(ORM42:OTL42)","v":1.0999999999999999},null,null,{"$f":"IRR(ORQ42:OTP42)","v":{"$error":"#NUM!"}},{"$f":"IRRm(ORQ42:OTP42)","v":1.0999999999999999},null,null,{"$f":"IRR(ORU42:OTT42)","v":{"$error":"#NUM!"}},{"$f":"IRRm(ORU42:OTT42)","v":1.0999999999999999},null,null,{"$f":"IRR(ORY42:OTX42)","v":{"$error":"#NUM!"}},{"$f":"IRRm(ORY42:OTX42)","v":1.0999999999999999},null,null,{"$f":"IRR(OSC42:OUB42)","v":{"$error":"#NUM!"}},{"$f":"IRRm(OSC42:OUB42)","v":1.0999999999999999},null,null,{"$f":"IRR(OSG42:OUF42)","v":{"$error":"#NUM!"}},{"$f":"IRRm(OSG42:OUF42)","v":1.0999999999999999},null,null,{"$f":"IRR(OSK42:OUJ42)","v":{"$error":"#NUM!"}},{"$f":"IRRm(OSK42:OUJ42)","v":1.0999999999999999},null,null,{"$f":"IRR(OSO42:OUN42)","v":{"$error":"#NUM!"}},{"$f":"IRRm(OSO42:OUN42)","v":1.0999999999999999},null,null,{"$f":"IRR(OSS42:OUR42)","v":{"$error":"#NUM!"}},{"$f":"IRRm(OSS42:OUR42)","v":1.0999999999999999},null,null,{"$f":"IRR(OSW42:OUV42)","v":{"$error":"#NUM!"}},{"$f":"IRRm(OSW42:OUV42)","v":1.0999999999999999},null,null,{"$f":"IRR(OTA42:OUZ42)","v":{"$error":"#NUM!"}},{"$f":"IRRm(OTA42:OUZ42)","v":1.0999999999999999},null,null,{"$f":"IRR(OTE42:OVD42)","v":{"$error":"#NUM!"}},{"$f":"IRRm(OTE42:OVD42)","v":1.0999999999999999},null,null,{"$f":"IRR(OTI42:OVH42)","v":{"$error":"#NUM!"}},{"$f":"IRRm(OTI42:OVH42)","v":1.0999999999999999},null,null,{"$f":"IRR(OTM42:OVL42)","v":{"$error":"#NUM!"}},{"$f":"IRRm(OTM42:OVL42)","v":1.0999999999999999},null,null,{"$f":"IRR(OTQ42:OVP42)","v":{"$error":"#NUM!"}},{"$f":"IRRm(OTQ42:OVP42)","v":1.0999999999999999},null,null,{"$f":"IRR(OTU42:OVT42)","v":{"$error":"#NUM!"}},{"$f":"IRRm(OTU42:OVT42)","v":1.0999999999999999},null,null,{"$f":"IRR(OTY42:OVX42)","v":{"$error":"#NUM!"}},{"$f":"IRRm(OTY42:OVX42)","v":1.0999999999999999},null,null,{"$f":"IRR(OUC42:OWB42)","v":{"$error":"#NUM!"}},{"$f":"IRRm(OUC42:OWB42)","v":1.0999999999999999},null,null,{"$f":"IRR(OUG42:OWF42)","v":{"$error":"#NUM!"}},{"$f":"IRRm(OUG42:OWF42)","v":1.0999999999999999},null,null,{"$f":"IRR(OUK42:OWJ42)","v":{"$error":"#NUM!"}},{"$f":"IRRm(OUK42:OWJ42)","v":1.0999999999999999},null,null,{"$f":"IRR(OUO42:OWN42)","v":{"$error":"#NUM!"}},{"$f":"IRRm(OUO42:OWN42)","v":1.0999999999999999},null,null,{"$f":"IRR(OUS42:OWR42)","v":{"$error":"#NUM!"}},{"$f":"IRRm(OUS42:OWR42)","v":1.0999999999999999},null,null,{"$f":"IRR(OUW42:OWV42)","v":{"$error":"#NUM!"}},{"$f":"IRRm(OUW42:OWV42)","v":1.0999999999999999},null,null,{"$f":"IRR(OVA42:OWZ42)","v":{"$error":"#NUM!"}},{"$f":"IRRm(OVA42:OWZ42)","v":1.0999999999999999},null,null,{"$f":"IRR(OVE42:OXD42)","v":{"$error":"#NUM!"}},{"$f":"IRRm(OVE42:OXD42)","v":1.0999999999999999},null,null,{"$f":"IRR(OVI42:OXH42)","v":{"$error":"#NUM!"}},{"$f":"IRRm(OVI42:OXH42)","v":1.0999999999999999},null,null,{"$f":"IRR(OVM42:OXL42)","v":{"$error":"#NUM!"}},{"$f":"IRRm(OVM42:OXL42)","v":1.0999999999999999},null,null,{"$f":"IRR(OVQ42:OXP42)","v":{"$error":"#NUM!"}},{"$f":"IRRm(OVQ42:OXP42)","v":1.0999999999999999},null,null,{"$f":"IRR(OVU42:OXT42)","v":{"$error":"#NUM!"}},{"$f":"IRRm(OVU42:OXT42)","v":1.0999999999999999},null,null,{"$f":"IRR(OVY42:OXX42)","v":{"$error":"#NUM!"}},{"$f":"IRRm(OVY42:OXX42)","v":1.0999999999999999},null,null,{"$f":"IRR(OWC42:OYB42)","v":{"$error":"#NUM!"}},{"$f":"IRRm(OWC42:OYB42)","v":1.0999999999999999},null,null,{"$f":"IRR(OWG42:OYF42)","v":{"$error":"#NUM!"}},{"$f":"IRRm(OWG42:OYF42)","v":1.0999999999999999},null,null,{"$f":"IRR(OWK42:OYJ42)","v":{"$error":"#NUM!"}},{"$f":"IRRm(OWK42:OYJ42)","v":1.0999999999999999},null,null,{"$f":"IRR(OWO42:OYN42)","v":{"$error":"#NUM!"}},{"$f":"IRRm(OWO42:OYN42)","v":1.0999999999999999},null,null,{"$f":"IRR(OWS42:OYR42)","v":{"$error":"#NUM!"}},{"$f":"IRRm(OWS42:OYR42)","v":1.0999999999999999},null,null,{"$f":"IRR(OWW42:OYV42)","v":{"$error":"#NUM!"}},{"$f":"IRRm(OWW42:OYV42)","v":1.0999999999999999},null,null,{"$f":"IRR(OXA42:OYZ42)","v":{"$error":"#NUM!"}},{"$f":"IRRm(OXA42:OYZ42)","v":1.0999999999999999},null,null,{"$f":"IRR(OXE42:OZD42)","v":{"$error":"#NUM!"}},{"$f":"IRRm(OXE42:OZD42)","v":1.0999999999999999},null,null,{"$f":"IRR(OXI42:OZH42)","v":{"$error":"#NUM!"}},{"$f":"IRRm(OXI42:OZH42)","v":1.0999999999999999},null,null,{"$f":"IRR(OXM42:OZL42)","v":{"$error":"#NUM!"}},{"$f":"IRRm(OXM42:OZL42)","v":1.0999999999999999},null,null,{"$f":"IRR(OXQ42:OZP42)","v":{"$error":"#NUM!"}},{"$f":"IRRm(OXQ42:OZP42)","v":1.0999999999999999},null,null,{"$f":"IRR(OXU42:OZT42)","v":{"$error":"#NUM!"}},{"$f":"IRRm(OXU42:OZT42)","v":1.0999999999999999},null,null,{"$f":"IRR(OXY42:OZX42)","v":{"$error":"#NUM!"}},{"$f":"IRRm(OXY42:OZX42)","v":1.0999999999999999},null,null,{"$f":"IRR(OYC42:PAB42)","v":{"$error":"#NUM!"}},{"$f":"IRRm(OYC42:PAB42)","v":1.0999999999999999},null,null,{"$f":"IRR(OYG42:PAF42)","v":{"$error":"#NUM!"}},{"$f":"IRRm(OYG42:PAF42)","v":1.0999999999999999},null,null,{"$f":"IRR(OYK42:PAJ42)","v":{"$error":"#NUM!"}},{"$f":"IRRm(OYK42:PAJ42)","v":1.0999999999999999},null,null,{"$f":"IRR(OYO42:PAN42)","v":{"$error":"#NUM!"}},{"$f":"IRRm(OYO42:PAN42)","v":1.0999999999999999},null,null,{"$f":"IRR(OYS42:PAR42)","v":{"$error":"#NUM!"}},{"$f":"IRRm(OYS42:PAR42)","v":1.0999999999999999},null,null,{"$f":"IRR(OYW42:PAV42)","v":{"$error":"#NUM!"}},{"$f":"IRRm(OYW42:PAV42)","v":1.0999999999999999},null,null,{"$f":"IRR(OZA42:PAZ42)","v":{"$error":"#NUM!"}},{"$f":"IRRm(OZA42:PAZ42)","v":1.0999999999999999},null,null,{"$f":"IRR(OZE42:PBD42)","v":{"$error":"#NUM!"}},{"$f":"IRRm(OZE42:PBD42)","v":1.0999999999999999},null,null,{"$f":"IRR(OZI42:PBH42)","v":{"$error":"#NUM!"}},{"$f":"IRRm(OZI42:PBH42)","v":1.0999999999999999},null,null,{"$f":"IRR(OZM42:PBL42)","v":{"$error":"#NUM!"}},{"$f":"IRRm(OZM42:PBL42)","v":1.0999999999999999},null,null,{"$f":"IRR(OZQ42:PBP42)","v":{"$error":"#NUM!"}},{"$f":"IRRm(OZQ42:PBP42)","v":1.0999999999999999},null,null,{"$f":"IRR(OZU42:PBT42)","v":{"$error":"#NUM!"}},{"$f":"IRRm(OZU42:PBT42)","v":1.0999999999999999},null,null,{"$f":"IRR(OZY42:PBX42)","v":{"$error":"#NUM!"}},{"$f":"IRRm(OZY42:PBX42)","v":1.0999999999999999},null,null,{"$f":"IRR(PAC42:PCB42)","v":{"$error":"#NUM!"}},{"$f":"IRRm(PAC42:PCB42)","v":1.0999999999999999},null,null,{"$f":"IRR(PAG42:PCF42)","v":{"$error":"#NUM!"}},{"$f":"IRRm(PAG42:PCF42)","v":1.0999999999999999},null,null,{"$f":"IRR(PAK42:PCJ42)","v":{"$error":"#NUM!"}},{"$f":"IRRm(PAK42:PCJ42)","v":1.0999999999999999},null,null,{"$f":"IRR(PAO42:PCN42)","v":{"$error":"#NUM!"}},{"$f":"IRRm(PAO42:PCN42)","v":1.0999999999999999},null,null,{"$f":"IRR(PAS42:PCR42)","v":{"$error":"#NUM!"}},{"$f":"IRRm(PAS42:PCR42)","v":1.0999999999999999},null,null,{"$f":"IRR(PAW42:PCV42)","v":{"$error":"#NUM!"}},{"$f":"IRRm(PAW42:PCV42)","v":1.0999999999999999},null,null,{"$f":"IRR(PBA42:PCZ42)","v":{"$error":"#NUM!"}},{"$f":"IRRm(PBA42:PCZ42)","v":1.0999999999999999},null,null,{"$f":"IRR(PBE42:PDD42)","v":{"$error":"#NUM!"}},{"$f":"IRRm(PBE42:PDD42)","v":1.0999999999999999},null,null,{"$f":"IRR(PBI42:PDH42)","v":{"$error":"#NUM!"}},{"$f":"IRRm(PBI42:PDH42)","v":1.0999999999999999},null,null,{"$f":"IRR(PBM42:PDL42)","v":{"$error":"#NUM!"}},{"$f":"IRRm(PBM42:PDL42)","v":1.0999999999999999},null,null,{"$f":"IRR(PBQ42:PDP42)","v":{"$error":"#NUM!"}},{"$f":"IRRm(PBQ42:PDP42)","v":1.0999999999999999},null,null,{"$f":"IRR(PBU42:PDT42)","v":{"$error":"#NUM!"}},{"$f":"IRRm(PBU42:PDT42)","v":1.0999999999999999},null,null,{"$f":"IRR(PBY42:PDX42)","v":{"$error":"#NUM!"}},{"$f":"IRRm(PBY42:PDX42)","v":1.0999999999999999},null,null,{"$f":"IRR(PCC42:PEB42)","v":{"$error":"#NUM!"}},{"$f":"IRRm(PCC42:PEB42)","v":1.0999999999999999},null,null,{"$f":"IRR(PCG42:PEF42)","v":{"$error":"#NUM!"}},{"$f":"IRRm(PCG42:PEF42)","v":1.0999999999999999},null,null,{"$f":"IRR(PCK42:PEJ42)","v":{"$error":"#NUM!"}},{"$f":"IRRm(PCK42:PEJ42)","v":1.0999999999999999},null,null,{"$f":"IRR(PCO42:PEN42)","v":{"$error":"#NUM!"}},{"$f":"IRRm(PCO42:PEN42)","v":1.0999999999999999},null,null,{"$f":"IRR(PCS42:PER42)","v":{"$error":"#NUM!"}},{"$f":"IRRm(PCS42:PER42)","v":1.0999999999999999},null,null,{"$f":"IRR(PCW42:PEV42)","v":{"$error":"#NUM!"}},{"$f":"IRRm(PCW42:PEV42)","v":1.0999999999999999},null,null,{"$f":"IRR(PDA42:PEZ42)","v":{"$error":"#NUM!"}},{"$f":"IRRm(PDA42:PEZ42)","v":1.0999999999999999},null,null,{"$f":"IRR(PDE42:PFD42)","v":{"$error":"#NUM!"}},{"$f":"IRRm(PDE42:PFD42)","v":1.0999999999999999},null,null,{"$f":"IRR(PDI42:PFH42)","v":{"$error":"#NUM!"}},{"$f":"IRRm(PDI42:PFH42)","v":1.0999999999999999},null,null,{"$f":"IRR(PDM42:PFL42)","v":{"$error":"#NUM!"}},{"$f":"IRRm(PDM42:PFL42)","v":1.0999999999999999},null,null,{"$f":"IRR(PDQ42:PFP42)","v":{"$error":"#NUM!"}},{"$f":"IRRm(PDQ42:PFP42)","v":1.0999999999999999},null,null,{"$f":"IRR(PDU42:PFT42)","v":{"$error":"#NUM!"}},{"$f":"IRRm(PDU42:PFT42)","v":1.0999999999999999},null,null,{"$f":"IRR(PDY42:PFX42)","v":{"$error":"#NUM!"}},{"$f":"IRRm(PDY42:PFX42)","v":1.0999999999999999},null,null,{"$f":"IRR(PEC42:PGB42)","v":{"$error":"#NUM!"}},{"$f":"IRRm(PEC42:PGB42)","v":1.0999999999999999},null,null,{"$f":"IRR(PEG42:PGF42)","v":{"$error":"#NUM!"}},{"$f":"IRRm(PEG42:PGF42)","v":1.0999999999999999},null,null,{"$f":"IRR(PEK42:PGJ42)","v":{"$error":"#NUM!"}},{"$f":"IRRm(PEK42:PGJ42)","v":1.0999999999999999},null,null,{"$f":"IRR(PEO42:PGN42)","v":{"$error":"#NUM!"}},{"$f":"IRRm(PEO42:PGN42)","v":1.0999999999999999},null,null,{"$f":"IRR(PES42:PGR42)","v":{"$error":"#NUM!"}},{"$f":"IRRm(PES42:PGR42)","v":1.0999999999999999},null,null,{"$f":"IRR(PEW42:PGV42)","v":{"$error":"#NUM!"}},{"$f":"IRRm(PEW42:PGV42)","v":1.0999999999999999},null,null,{"$f":"IRR(PFA42:PGZ42)","v":{"$error":"#NUM!"}},{"$f":"IRRm(PFA42:PGZ42)","v":1.0999999999999999},null,null,{"$f":"IRR(PFE42:PHD42)","v":{"$error":"#NUM!"}},{"$f":"IRRm(PFE42:PHD42)","v":1.0999999999999999},null,null,{"$f":"IRR(PFI42:PHH42)","v":{"$error":"#NUM!"}},{"$f":"IRRm(PFI42:PHH42)","v":1.0999999999999999},null,null,{"$f":"IRR(PFM42:PHL42)","v":{"$error":"#NUM!"}},{"$f":"IRRm(PFM42:PHL42)","v":1.0999999999999999},null,null,{"$f":"IRR(PFQ42:PHP42)","v":{"$error":"#NUM!"}},{"$f":"IRRm(PFQ42:PHP42)","v":1.0999999999999999},null,null,{"$f":"IRR(PFU42:PHT42)","v":{"$error":"#NUM!"}},{"$f":"IRRm(PFU42:PHT42)","v":1.0999999999999999},null,null,{"$f":"IRR(PFY42:PHX42)","v":{"$error":"#NUM!"}},{"$f":"IRRm(PFY42:PHX42)","v":1.0999999999999999},null,null,{"$f":"IRR(PGC42:PIB42)","v":{"$error":"#NUM!"}},{"$f":"IRRm(PGC42:PIB42)","v":1.0999999999999999},null,null,{"$f":"IRR(PGG42:PIF42)","v":{"$error":"#NUM!"}},{"$f":"IRRm(PGG42:PIF42)","v":1.0999999999999999},null,null,{"$f":"IRR(PGK42:PIJ42)","v":{"$error":"#NUM!"}},{"$f":"IRRm(PGK42:PIJ42)","v":1.0999999999999999},null,null,{"$f":"IRR(PGO42:PIN42)","v":{"$error":"#NUM!"}},{"$f":"IRRm(PGO42:PIN42)","v":1.0999999999999999},null,null,{"$f":"IRR(PGS42:PIR42)","v":{"$error":"#NUM!"}},{"$f":"IRRm(PGS42:PIR42)","v":1.0999999999999999},null,null,{"$f":"IRR(PGW42:PIV42)","v":{"$error":"#NUM!"}},{"$f":"IRRm(PGW42:PIV42)","v":1.0999999999999999},null,null,{"$f":"IRR(PHA42:PIZ42)","v":{"$error":"#NUM!"}},{"$f":"IRRm(PHA42:PIZ42)","v":1.0999999999999999},null,null,{"$f":"IRR(PHE42:PJD42)","v":{"$error":"#NUM!"}},{"$f":"IRRm(PHE42:PJD42)","v":1.0999999999999999},null,null,{"$f":"IRR(PHI42:PJH42)","v":{"$error":"#NUM!"}},{"$f":"IRRm(PHI42:PJH42)","v":1.0999999999999999},null,null,{"$f":"IRR(PHM42:PJL42)","v":{"$error":"#NUM!"}},{"$f":"IRRm(PHM42:PJL42)","v":1.0999999999999999},null,null,{"$f":"IRR(PHQ42:PJP42)","v":{"$error":"#NUM!"}},{"$f":"IRRm(PHQ42:PJP42)","v":1.0999999999999999},null,null,{"$f":"IRR(PHU42:PJT42)","v":{"$error":"#NUM!"}},{"$f":"IRRm(PHU42:PJT42)","v":1.0999999999999999},null,null,{"$f":"IRR(PHY42:PJX42)","v":{"$error":"#NUM!"}},{"$f":"IRRm(PHY42:PJX42)","v":1.0999999999999999},null,null,{"$f":"IRR(PIC42:PKB42)","v":{"$error":"#NUM!"}},{"$f":"IRRm(PIC42:PKB42)","v":1.0999999999999999},null,null,{"$f":"IRR(PIG42:PKF42)","v":{"$error":"#NUM!"}},{"$f":"IRRm(PIG42:PKF42)","v":1.0999999999999999},null,null,{"$f":"IRR(PIK42:PKJ42)","v":{"$error":"#NUM!"}},{"$f":"IRRm(PIK42:PKJ42)","v":1.0999999999999999},null,null,{"$f":"IRR(PIO42:PKN42)","v":{"$error":"#NUM!"}},{"$f":"IRRm(PIO42:PKN42)","v":1.0999999999999999},null,null,{"$f":"IRR(PIS42:PKR42)","v":{"$error":"#NUM!"}},{"$f":"IRRm(PIS42:PKR42)","v":1.0999999999999999},null,null,{"$f":"IRR(PIW42:PKV42)","v":{"$error":"#NUM!"}},{"$f":"IRRm(PIW42:PKV42)","v":1.0999999999999999},null,null,{"$f":"IRR(PJA42:PKZ42)","v":{"$error":"#NUM!"}},{"$f":"IRRm(PJA42:PKZ42)","v":1.0999999999999999},null,null,{"$f":"IRR(PJE42:PLD42)","v":{"$error":"#NUM!"}},{"$f":"IRRm(PJE42:PLD42)","v":1.0999999999999999},null,null,{"$f":"IRR(PJI42:PLH42)","v":{"$error":"#NUM!"}},{"$f":"IRRm(PJI42:PLH42)","v":1.0999999999999999},null,null,{"$f":"IRR(PJM42:PLL42)","v":{"$error":"#NUM!"}},{"$f":"IRRm(PJM42:PLL42)","v":1.0999999999999999},null,null,{"$f":"IRR(PJQ42:PLP42)","v":{"$error":"#NUM!"}},{"$f":"IRRm(PJQ42:PLP42)","v":1.0999999999999999},null,null,{"$f":"IRR(PJU42:PLT42)","v":{"$error":"#NUM!"}},{"$f":"IRRm(PJU42:PLT42)","v":1.0999999999999999},null,null,{"$f":"IRR(PJY42:PLX42)","v":{"$error":"#NUM!"}},{"$f":"IRRm(PJY42:PLX42)","v":1.0999999999999999},null,null,{"$f":"IRR(PKC42:PMB42)","v":{"$error":"#NUM!"}},{"$f":"IRRm(PKC42:PMB42)","v":1.0999999999999999},null,null,{"$f":"IRR(PKG42:PMF42)","v":{"$error":"#NUM!"}},{"$f":"IRRm(PKG42:PMF42)","v":1.0999999999999999},null,null,{"$f":"IRR(PKK42:PMJ42)","v":{"$error":"#NUM!"}},{"$f":"IRRm(PKK42:PMJ42)","v":1.0999999999999999},null,null,{"$f":"IRR(PKO42:PMN42)","v":{"$error":"#NUM!"}},{"$f":"IRRm(PKO42:PMN42)","v":1.0999999999999999},null,null,{"$f":"IRR(PKS42:PMR42)","v":{"$error":"#NUM!"}},{"$f":"IRRm(PKS42:PMR42)","v":1.0999999999999999},null,null,{"$f":"IRR(PKW42:PMV42)","v":{"$error":"#NUM!"}},{"$f":"IRRm(PKW42:PMV42)","v":1.0999999999999999},null,null,{"$f":"IRR(PLA42:PMZ42)","v":{"$error":"#NUM!"}},{"$f":"IRRm(PLA42:PMZ42)","v":1.0999999999999999},null,null,{"$f":"IRR(PLE42:PND42)","v":{"$error":"#NUM!"}},{"$f":"IRRm(PLE42:PND42)","v":1.0999999999999999},null,null,{"$f":"IRR(PLI42:PNH42)","v":{"$error":"#NUM!"}},{"$f":"IRRm(PLI42:PNH42)","v":1.0999999999999999},null,null,{"$f":"IRR(PLM42:PNL42)","v":{"$error":"#NUM!"}},{"$f":"IRRm(PLM42:PNL42)","v":1.0999999999999999},null,null,{"$f":"IRR(PLQ42:PNP42)","v":{"$error":"#NUM!"}},{"$f":"IRRm(PLQ42:PNP42)","v":1.0999999999999999},null,null,{"$f":"IRR(PLU42:PNT42)","v":{"$error":"#NUM!"}},{"$f":"IRRm(PLU42:PNT42)","v":1.0999999999999999},null,null,{"$f":"IRR(PLY42:PNX42)","v":{"$error":"#NUM!"}},{"$f":"IRRm(PLY42:PNX42)","v":1.0999999999999999},null,null,{"$f":"IRR(PMC42:POB42)","v":{"$error":"#NUM!"}},{"$f":"IRRm(PMC42:POB42)","v":1.0999999999999999},null,null,{"$f":"IRR(PMG42:POF42)","v":{"$error":"#NUM!"}},{"$f":"IRRm(PMG42:POF42)","v":1.0999999999999999},null,null,{"$f":"IRR(PMK42:POJ42)","v":{"$error":"#NUM!"}},{"$f":"IRRm(PMK42:POJ42)","v":1.0999999999999999},null,null,{"$f":"IRR(PMO42:PON42)","v":{"$error":"#NUM!"}},{"$f":"IRRm(PMO42:PON42)","v":1.0999999999999999},null,null,{"$f":"IRR(PMS42:POR42)","v":{"$error":"#NUM!"}},{"$f":"IRRm(PMS42:POR42)","v":1.0999999999999999},null,null,{"$f":"IRR(PMW42:POV42)","v":{"$error":"#NUM!"}},{"$f":"IRRm(PMW42:POV42)","v":1.0999999999999999},null,null,{"$f":"IRR(PNA42:POZ42)","v":{"$error":"#NUM!"}},{"$f":"IRRm(PNA42:POZ42)","v":1.0999999999999999},null,null,{"$f":"IRR(PNE42:PPD42)","v":{"$error":"#NUM!"}},{"$f":"IRRm(PNE42:PPD42)","v":1.0999999999999999},null,null,{"$f":"IRR(PNI42:PPH42)","v":{"$error":"#NUM!"}},{"$f":"IRRm(PNI42:PPH42)","v":1.0999999999999999},null,null,{"$f":"IRR(PNM42:PPL42)","v":{"$error":"#NUM!"}},{"$f":"IRRm(PNM42:PPL42)","v":1.0999999999999999},null,null,{"$f":"IRR(PNQ42:PPP42)","v":{"$error":"#NUM!"}},{"$f":"IRRm(PNQ42:PPP42)","v":1.0999999999999999},null,null,{"$f":"IRR(PNU42:PPT42)","v":{"$error":"#NUM!"}},{"$f":"IRRm(PNU42:PPT42)","v":1.0999999999999999},null,null,{"$f":"IRR(PNY42:PPX42)","v":{"$error":"#NUM!"}},{"$f":"IRRm(PNY42:PPX42)","v":1.0999999999999999},null,null,{"$f":"IRR(POC42:PQB42)","v":{"$error":"#NUM!"}},{"$f":"IRRm(POC42:PQB42)","v":1.0999999999999999},null,null,{"$f":"IRR(POG42:PQF42)","v":{"$error":"#NUM!"}},{"$f":"IRRm(POG42:PQF42)","v":1.0999999999999999},null,null,{"$f":"IRR(POK42:PQJ42)","v":{"$error":"#NUM!"}},{"$f":"IRRm(POK42:PQJ42)","v":1.0999999999999999},null,null,{"$f":"IRR(POO42:PQN42)","v":{"$error":"#NUM!"}},{"$f":"IRRm(POO42:PQN42)","v":1.0999999999999999},null,null,{"$f":"IRR(POS42:PQR42)","v":{"$error":"#NUM!"}},{"$f":"IRRm(POS42:PQR42)","v":1.0999999999999999},null,null,{"$f":"IRR(POW42:PQV42)","v":{"$error":"#NUM!"}},{"$f":"IRRm(POW42:PQV42)","v":1.0999999999999999},null,null,{"$f":"IRR(PPA42:PQZ42)","v":{"$error":"#NUM!"}},{"$f":"IRRm(PPA42:PQZ42)","v":1.0999999999999999},null,null,{"$f":"IRR(PPE42:PRD42)","v":{"$error":"#NUM!"}},{"$f":"IRRm(PPE42:PRD42)","v":1.0999999999999999},null,null,{"$f":"IRR(PPI42:PRH42)","v":{"$error":"#NUM!"}},{"$f":"IRRm(PPI42:PRH42)","v":1.0999999999999999},null,null,{"$f":"IRR(PPM42:PRL42)","v":{"$error":"#NUM!"}},{"$f":"IRRm(PPM42:PRL42)","v":1.0999999999999999},null,null,{"$f":"IRR(PPQ42:PRP42)","v":{"$error":"#NUM!"}},{"$f":"IRRm(PPQ42:PRP42)","v":1.0999999999999999},null,null,{"$f":"IRR(PPU42:PRT42)","v":{"$error":"#NUM!"}},{"$f":"IRRm(PPU42:PRT42)","v":1.0999999999999999},null,null,{"$f":"IRR(PPY42:PRX42)","v":{"$error":"#NUM!"}},{"$f":"IRRm(PPY42:PRX42)","v":1.0999999999999999},null,null,{"$f":"IRR(PQC42:PSB42)","v":{"$error":"#NUM!"}},{"$f":"IRRm(PQC42:PSB42)","v":1.0999999999999999},null,null,{"$f":"IRR(PQG42:PSF42)","v":{"$error":"#NUM!"}},{"$f":"IRRm(PQG42:PSF42)","v":1.0999999999999999},null,null,{"$f":"IRR(PQK42:PSJ42)","v":{"$error":"#NUM!"}},{"$f":"IRRm(PQK42:PSJ42)","v":1.0999999999999999},null,null,{"$f":"IRR(PQO42:PSN42)","v":{"$error":"#NUM!"}},{"$f":"IRRm(PQO42:PSN42)","v":1.0999999999999999},null,null,{"$f":"IRR(PQS42:PSR42)","v":{"$error":"#NUM!"}},{"$f":"IRRm(PQS42:PSR42)","v":1.0999999999999999},null,null,{"$f":"IRR(PQW42:PSV42)","v":{"$error":"#NUM!"}},{"$f":"IRRm(PQW42:PSV42)","v":1.0999999999999999},null,null,{"$f":"IRR(PRA42:PSZ42)","v":{"$error":"#NUM!"}},{"$f":"IRRm(PRA42:PSZ42)","v":1.0999999999999999},null,null,{"$f":"IRR(PRE42:PTD42)","v":{"$error":"#NUM!"}},{"$f":"IRRm(PRE42:PTD42)","v":1.0999999999999999},null,null,{"$f":"IRR(PRI42:PTH42)","v":{"$error":"#NUM!"}},{"$f":"IRRm(PRI42:PTH42)","v":1.0999999999999999},null,null,{"$f":"IRR(PRM42:PTL42)","v":{"$error":"#NUM!"}},{"$f":"IRRm(PRM42:PTL42)","v":1.0999999999999999},null,null,{"$f":"IRR(PRQ42:PTP42)","v":{"$error":"#NUM!"}},{"$f":"IRRm(PRQ42:PTP42)","v":1.0999999999999999},null,null,{"$f":"IRR(PRU42:PTT42)","v":{"$error":"#NUM!"}},{"$f":"IRRm(PRU42:PTT42)","v":1.0999999999999999},null,null,{"$f":"IRR(PRY42:PTX42)","v":{"$error":"#NUM!"}},{"$f":"IRRm(PRY42:PTX42)","v":1.0999999999999999},null,null,{"$f":"IRR(PSC42:PUB42)","v":{"$error":"#NUM!"}},{"$f":"IRRm(PSC42:PUB42)","v":1.0999999999999999},null,null,{"$f":"IRR(PSG42:PUF42)","v":{"$error":"#NUM!"}},{"$f":"IRRm(PSG42:PUF42)","v":1.0999999999999999},null,null,{"$f":"IRR(PSK42:PUJ42)","v":{"$error":"#NUM!"}},{"$f":"IRRm(PSK42:PUJ42)","v":1.0999999999999999},null,null,{"$f":"IRR(PSO42:PUN42)","v":{"$error":"#NUM!"}},{"$f":"IRRm(PSO42:PUN42)","v":1.0999999999999999},null,null,{"$f":"IRR(PSS42:PUR42)","v":{"$error":"#NUM!"}},{"$f":"IRRm(PSS42:PUR42)","v":1.0999999999999999},null,null,{"$f":"IRR(PSW42:PUV42)","v":{"$error":"#NUM!"}},{"$f":"IRRm(PSW42:PUV42)","v":1.0999999999999999},null,null,{"$f":"IRR(PTA42:PUZ42)","v":{"$error":"#NUM!"}},{"$f":"IRRm(PTA42:PUZ42)","v":1.0999999999999999},null,null,{"$f":"IRR(PTE42:PVD42)","v":{"$error":"#NUM!"}},{"$f":"IRRm(PTE42:PVD42)","v":1.0999999999999999},null,null,{"$f":"IRR(PTI42:PVH42)","v":{"$error":"#NUM!"}},{"$f":"IRRm(PTI42:PVH42)","v":1.0999999999999999},null,null,{"$f":"IRR(PTM42:PVL42)","v":{"$error":"#NUM!"}},{"$f":"IRRm(PTM42:PVL42)","v":1.0999999999999999},null,null,{"$f":"IRR(PTQ42:PVP42)","v":{"$error":"#NUM!"}},{"$f":"IRRm(PTQ42:PVP42)","v":1.0999999999999999},null,null,{"$f":"IRR(PTU42:PVT42)","v":{"$error":"#NUM!"}},{"$f":"IRRm(PTU42:PVT42)","v":1.0999999999999999},null,null,{"$f":"IRR(PTY42:PVX42)","v":{"$error":"#NUM!"}},{"$f":"IRRm(PTY42:PVX42)","v":1.0999999999999999},null,null,{"$f":"IRR(PUC42:PWB42)","v":{"$error":"#NUM!"}},{"$f":"IRRm(PUC42:PWB42)","v":1.0999999999999999},null,null,{"$f":"IRR(PUG42:PWF42)","v":{"$error":"#NUM!"}},{"$f":"IRRm(PUG42:PWF42)","v":1.0999999999999999},null,null,{"$f":"IRR(PUK42:PWJ42)","v":{"$error":"#NUM!"}},{"$f":"IRRm(PUK42:PWJ42)","v":1.0999999999999999},null,null,{"$f":"IRR(PUO42:PWN42)","v":{"$error":"#NUM!"}},{"$f":"IRRm(PUO42:PWN42)","v":1.0999999999999999},null,null,{"$f":"IRR(PUS42:PWR42)","v":{"$error":"#NUM!"}},{"$f":"IRRm(PUS42:PWR42)","v":1.0999999999999999},null,null,{"$f":"IRR(PUW42:PWV42)","v":{"$error":"#NUM!"}},{"$f":"IRRm(PUW42:PWV42)","v":1.0999999999999999},null,null,{"$f":"IRR(PVA42:PWZ42)","v":{"$error":"#NUM!"}},{"$f":"IRRm(PVA42:PWZ42)","v":1.0999999999999999},null,null,{"$f":"IRR(PVE42:PXD42)","v":{"$error":"#NUM!"}},{"$f":"IRRm(PVE42:PXD42)","v":1.0999999999999999},null,null,{"$f":"IRR(PVI42:PXH42)","v":{"$error":"#NUM!"}},{"$f":"IRRm(PVI42:PXH42)","v":1.0999999999999999},null,null,{"$f":"IRR(PVM42:PXL42)","v":{"$error":"#NUM!"}},{"$f":"IRRm(PVM42:PXL42)","v":1.0999999999999999},null,null,{"$f":"IRR(PVQ42:PXP42)","v":{"$error":"#NUM!"}},{"$f":"IRRm(PVQ42:PXP42)","v":1.0999999999999999},null,null,{"$f":"IRR(PVU42:PXT42)","v":{"$error":"#NUM!"}},{"$f":"IRRm(PVU42:PXT42)","v":1.0999999999999999},null,null,{"$f":"IRR(PVY42:PXX42)","v":{"$error":"#NUM!"}},{"$f":"IRRm(PVY42:PXX42)","v":1.0999999999999999},null,null,{"$f":"IRR(PWC42:PYB42)","v":{"$error":"#NUM!"}},{"$f":"IRRm(PWC42:PYB42)","v":1.0999999999999999},null,null,{"$f":"IRR(PWG42:PYF42)","v":{"$error":"#NUM!"}},{"$f":"IRRm(PWG42:PYF42)","v":1.0999999999999999},null,null,{"$f":"IRR(PWK42:PYJ42)","v":{"$error":"#NUM!"}},{"$f":"IRRm(PWK42:PYJ42)","v":1.0999999999999999},null,null,{"$f":"IRR(PWO42:PYN42)","v":{"$error":"#NUM!"}},{"$f":"IRRm(PWO42:PYN42)","v":1.0999999999999999},null,null,{"$f":"IRR(PWS42:PYR42)","v":{"$error":"#NUM!"}},{"$f":"IRRm(PWS42:PYR42)","v":1.0999999999999999},null,null,{"$f":"IRR(PWW42:PYV42)","v":{"$error":"#NUM!"}},{"$f":"IRRm(PWW42:PYV42)","v":1.0999999999999999},null,null,{"$f":"IRR(PXA42:PYZ42)","v":{"$error":"#NUM!"}},{"$f":"IRRm(PXA42:PYZ42)","v":1.0999999999999999},null,null,{"$f":"IRR(PXE42:PZD42)","v":{"$error":"#NUM!"}},{"$f":"IRRm(PXE42:PZD42)","v":1.0999999999999999},null,null,{"$f":"IRR(PXI42:PZH42)","v":{"$error":"#NUM!"}},{"$f":"IRRm(PXI42:PZH42)","v":1.0999999999999999},null,null,{"$f":"IRR(PXM42:PZL42)","v":{"$error":"#NUM!"}},{"$f":"IRRm(PXM42:PZL42)","v":1.0999999999999999},null,null,{"$f":"IRR(PXQ42:PZP42)","v":{"$error":"#NUM!"}},{"$f":"IRRm(PXQ42:PZP42)","v":1.0999999999999999},null,null,{"$f":"IRR(PXU42:PZT42)","v":{"$error":"#NUM!"}},{"$f":"IRRm(PXU42:PZT42)","v":1.0999999999999999},null,null,{"$f":"IRR(PXY42:PZX42)","v":{"$error":"#NUM!"}},{"$f":"IRRm(PXY42:PZX42)","v":1.0999999999999999},null,null,{"$f":"IRR(PYC42:QAB42)","v":{"$error":"#NUM!"}},{"$f":"IRRm(PYC42:QAB42)","v":1.0999999999999999},null,null,{"$f":"IRR(PYG42:QAF42)","v":{"$error":"#NUM!"}},{"$f":"IRRm(PYG42:QAF42)","v":1.0999999999999999},null,null,{"$f":"IRR(PYK42:QAJ42)","v":{"$error":"#NUM!"}},{"$f":"IRRm(PYK42:QAJ42)","v":1.0999999999999999},null,null,{"$f":"IRR(PYO42:QAN42)","v":{"$error":"#NUM!"}},{"$f":"IRRm(PYO42:QAN42)","v":1.0999999999999999},null,null,{"$f":"IRR(PYS42:QAR42)","v":{"$error":"#NUM!"}},{"$f":"IRRm(PYS42:QAR42)","v":1.0999999999999999},null,null,{"$f":"IRR(PYW42:QAV42)","v":{"$error":"#NUM!"}},{"$f":"IRRm(PYW42:QAV42)","v":1.0999999999999999},null,null,{"$f":"IRR(PZA42:QAZ42)","v":{"$error":"#NUM!"}},{"$f":"IRRm(PZA42:QAZ42)","v":1.0999999999999999},null,null,{"$f":"IRR(PZE42:QBD42)","v":{"$error":"#NUM!"}},{"$f":"IRRm(PZE42:QBD42)","v":1.0999999999999999},null,null,{"$f":"IRR(PZI42:QBH42)","v":{"$error":"#NUM!"}},{"$f":"IRRm(PZI42:QBH42)","v":1.0999999999999999},null,null,{"$f":"IRR(PZM42:QBL42)","v":{"$error":"#NUM!"}},{"$f":"IRRm(PZM42:QBL42)","v":1.0999999999999999},null,null,{"$f":"IRR(PZQ42:QBP42)","v":{"$error":"#NUM!"}},{"$f":"IRRm(PZQ42:QBP42)","v":1.0999999999999999},null,null,{"$f":"IRR(PZU42:QBT42)","v":{"$error":"#NUM!"}},{"$f":"IRRm(PZU42:QBT42)","v":1.0999999999999999},null,null,{"$f":"IRR(PZY42:QBX42)","v":{"$error":"#NUM!"}},{"$f":"IRRm(PZY42:QBX42)","v":1.0999999999999999},null,null,{"$f":"IRR(QAC42:QCB42)","v":{"$error":"#NUM!"}},{"$f":"IRRm(QAC42:QCB42)","v":1.0999999999999999},null,null,{"$f":"IRR(QAG42:QCF42)","v":{"$error":"#NUM!"}},{"$f":"IRRm(QAG42:QCF42)","v":1.0999999999999999},null,null,{"$f":"IRR(QAK42:QCJ42)","v":{"$error":"#NUM!"}},{"$f":"IRRm(QAK42:QCJ42)","v":1.0999999999999999},null,null,{"$f":"IRR(QAO42:QCN42)","v":{"$error":"#NUM!"}},{"$f":"IRRm(QAO42:QCN42)","v":1.0999999999999999},null,null,{"$f":"IRR(QAS42:QCR42)","v":{"$error":"#NUM!"}},{"$f":"IRRm(QAS42:QCR42)","v":1.0999999999999999},null,null,{"$f":"IRR(QAW42:QCV42)","v":{"$error":"#NUM!"}},{"$f":"IRRm(QAW42:QCV42)","v":1.0999999999999999},null,null,{"$f":"IRR(QBA42:QCZ42)","v":{"$error":"#NUM!"}},{"$f":"IRRm(QBA42:QCZ42)","v":1.0999999999999999},null,null,{"$f":"IRR(QBE42:QDD42)","v":{"$error":"#NUM!"}},{"$f":"IRRm(QBE42:QDD42)","v":1.0999999999999999},null,null,{"$f":"IRR(QBI42:QDH42)","v":{"$error":"#NUM!"}},{"$f":"IRRm(QBI42:QDH42)","v":1.0999999999999999},null,null,{"$f":"IRR(QBM42:QDL42)","v":{"$error":"#NUM!"}},{"$f":"IRRm(QBM42:QDL42)","v":1.0999999999999999},null,null,{"$f":"IRR(QBQ42:QDP42)","v":{"$error":"#NUM!"}},{"$f":"IRRm(QBQ42:QDP42)","v":1.0999999999999999},null,null,{"$f":"IRR(QBU42:QDT42)","v":{"$error":"#NUM!"}},{"$f":"IRRm(QBU42:QDT42)","v":1.0999999999999999},null,null,{"$f":"IRR(QBY42:QDX42)","v":{"$error":"#NUM!"}},{"$f":"IRRm(QBY42:QDX42)","v":1.0999999999999999},null,null,{"$f":"IRR(QCC42:QEB42)","v":{"$error":"#NUM!"}},{"$f":"IRRm(QCC42:QEB42)","v":1.0999999999999999},null,null,{"$f":"IRR(QCG42:QEF42)","v":{"$error":"#NUM!"}},{"$f":"IRRm(QCG42:QEF42)","v":1.0999999999999999},null,null,{"$f":"IRR(QCK42:QEJ42)","v":{"$error":"#NUM!"}},{"$f":"IRRm(QCK42:QEJ42)","v":1.0999999999999999},null,null,{"$f":"IRR(QCO42:QEN42)","v":{"$error":"#NUM!"}},{"$f":"IRRm(QCO42:QEN42)","v":1.0999999999999999},null,null,{"$f":"IRR(QCS42:QER42)","v":{"$error":"#NUM!"}},{"$f":"IRRm(QCS42:QER42)","v":1.0999999999999999},null,null,{"$f":"IRR(QCW42:QEV42)","v":{"$error":"#NUM!"}},{"$f":"IRRm(QCW42:QEV42)","v":1.0999999999999999},null,null,{"$f":"IRR(QDA42:QEZ42)","v":{"$error":"#NUM!"}},{"$f":"IRRm(QDA42:QEZ42)","v":1.0999999999999999},null,null,{"$f":"IRR(QDE42:QFD42)","v":{"$error":"#NUM!"}},{"$f":"IRRm(QDE42:QFD42)","v":1.0999999999999999},null,null,{"$f":"IRR(QDI42:QFH42)","v":{"$error":"#NUM!"}},{"$f":"IRRm(QDI42:QFH42)","v":1.0999999999999999},null,null,{"$f":"IRR(QDM42:QFL42)","v":{"$error":"#NUM!"}},{"$f":"IRRm(QDM42:QFL42)","v":1.0999999999999999},null,null,{"$f":"IRR(QDQ42:QFP42)","v":{"$error":"#NUM!"}},{"$f":"IRRm(QDQ42:QFP42)","v":1.0999999999999999},null,null,{"$f":"IRR(QDU42:QFT42)","v":{"$error":"#NUM!"}},{"$f":"IRRm(QDU42:QFT42)","v":1.0999999999999999},null,null,{"$f":"IRR(QDY42:QFX42)","v":{"$error":"#NUM!"}},{"$f":"IRRm(QDY42:QFX42)","v":1.0999999999999999},null,null,{"$f":"IRR(QEC42:QGB42)","v":{"$error":"#NUM!"}},{"$f":"IRRm(QEC42:QGB42)","v":1.0999999999999999},null,null,{"$f":"IRR(QEG42:QGF42)","v":{"$error":"#NUM!"}},{"$f":"IRRm(QEG42:QGF42)","v":1.0999999999999999},null,null,{"$f":"IRR(QEK42:QGJ42)","v":{"$error":"#NUM!"}},{"$f":"IRRm(QEK42:QGJ42)","v":1.0999999999999999},null,null,{"$f":"IRR(QEO42:QGN42)","v":{"$error":"#NUM!"}},{"$f":"IRRm(QEO42:QGN42)","v":1.0999999999999999},null,null,{"$f":"IRR(QES42:QGR42)","v":{"$error":"#NUM!"}},{"$f":"IRRm(QES42:QGR42)","v":1.0999999999999999},null,null,{"$f":"IRR(QEW42:QGV42)","v":{"$error":"#NUM!"}},{"$f":"IRRm(QEW42:QGV42)","v":1.0999999999999999},null,null,{"$f":"IRR(QFA42:QGZ42)","v":{"$error":"#NUM!"}},{"$f":"IRRm(QFA42:QGZ42)","v":1.0999999999999999},null,null,{"$f":"IRR(QFE42:QHD42)","v":{"$error":"#NUM!"}},{"$f":"IRRm(QFE42:QHD42)","v":1.0999999999999999},null,null,{"$f":"IRR(QFI42:QHH42)","v":{"$error":"#NUM!"}},{"$f":"IRRm(QFI42:QHH42)","v":1.0999999999999999},null,null,{"$f":"IRR(QFM42:QHL42)","v":{"$error":"#NUM!"}},{"$f":"IRRm(QFM42:QHL42)","v":1.0999999999999999},null,null,{"$f":"IRR(QFQ42:QHP42)","v":{"$error":"#NUM!"}},{"$f":"IRRm(QFQ42:QHP42)","v":1.0999999999999999},null,null,{"$f":"IRR(QFU42:QHT42)","v":{"$error":"#NUM!"}},{"$f":"IRRm(QFU42:QHT42)","v":1.0999999999999999},null,null,{"$f":"IRR(QFY42:QHX42)","v":{"$error":"#NUM!"}},{"$f":"IRRm(QFY42:QHX42)","v":1.0999999999999999},null,null,{"$f":"IRR(QGC42:QIB42)","v":{"$error":"#NUM!"}},{"$f":"IRRm(QGC42:QIB42)","v":1.0999999999999999},null,null,{"$f":"IRR(QGG42:QIF42)","v":{"$error":"#NUM!"}},{"$f":"IRRm(QGG42:QIF42)","v":1.0999999999999999},null,null,{"$f":"IRR(QGK42:QIJ42)","v":{"$error":"#NUM!"}},{"$f":"IRRm(QGK42:QIJ42)","v":1.0999999999999999},null,null,{"$f":"IRR(QGO42:QIN42)","v":{"$error":"#NUM!"}},{"$f":"IRRm(QGO42:QIN42)","v":1.0999999999999999},null,null,{"$f":"IRR(QGS42:QIR42)","v":{"$error":"#NUM!"}},{"$f":"IRRm(QGS42:QIR42)","v":1.0999999999999999},null,null,{"$f":"IRR(QGW42:QIV42)","v":{"$error":"#NUM!"}},{"$f":"IRRm(QGW42:QIV42)","v":1.0999999999999999},null,null,{"$f":"IRR(QHA42:QIZ42)","v":{"$error":"#NUM!"}},{"$f":"IRRm(QHA42:QIZ42)","v":1.0999999999999999},null,null,{"$f":"IRR(QHE42:QJD42)","v":{"$error":"#NUM!"}},{"$f":"IRRm(QHE42:QJD42)","v":1.0999999999999999},null,null,{"$f":"IRR(QHI42:QJH42)","v":{"$error":"#NUM!"}},{"$f":"IRRm(QHI42:QJH42)","v":1.0999999999999999},null,null,{"$f":"IRR(QHM42:QJL42)","v":{"$error":"#NUM!"}},{"$f":"IRRm(QHM42:QJL42)","v":1.0999999999999999},null,null,{"$f":"IRR(QHQ42:QJP42)","v":{"$error":"#NUM!"}},{"$f":"IRRm(QHQ42:QJP42)","v":1.0999999999999999},null,null,{"$f":"IRR(QHU42:QJT42)","v":{"$error":"#NUM!"}},{"$f":"IRRm(QHU42:QJT42)","v":1.0999999999999999},null,null,{"$f":"IRR(QHY42:QJX42)","v":{"$error":"#NUM!"}},{"$f":"IRRm(QHY42:QJX42)","v":1.0999999999999999},null,null,{"$f":"IRR(QIC42:QKB42)","v":{"$error":"#NUM!"}},{"$f":"IRRm(QIC42:QKB42)","v":1.0999999999999999},null,null,{"$f":"IRR(QIG42:QKF42)","v":{"$error":"#NUM!"}},{"$f":"IRRm(QIG42:QKF42)","v":1.0999999999999999},null,null,{"$f":"IRR(QIK42:QKJ42)","v":{"$error":"#NUM!"}},{"$f":"IRRm(QIK42:QKJ42)","v":1.0999999999999999},null,null,{"$f":"IRR(QIO42:QKN42)","v":{"$error":"#NUM!"}},{"$f":"IRRm(QIO42:QKN42)","v":1.0999999999999999},null,null,{"$f":"IRR(QIS42:QKR42)","v":{"$error":"#NUM!"}},{"$f":"IRRm(QIS42:QKR42)","v":1.0999999999999999},null,null,{"$f":"IRR(QIW42:QKV42)","v":{"$error":"#NUM!"}},{"$f":"IRRm(QIW42:QKV42)","v":1.0999999999999999},null,null,{"$f":"IRR(QJA42:QKZ42)","v":{"$error":"#NUM!"}},{"$f":"IRRm(QJA42:QKZ42)","v":1.0999999999999999},null,null,{"$f":"IRR(QJE42:QLD42)","v":{"$error":"#NUM!"}},{"$f":"IRRm(QJE42:QLD42)","v":1.0999999999999999},null,null,{"$f":"IRR(QJI42:QLH42)","v":{"$error":"#NUM!"}},{"$f":"IRRm(QJI42:QLH42)","v":1.0999999999999999},null,null,{"$f":"IRR(QJM42:QLL42)","v":{"$error":"#NUM!"}},{"$f":"IRRm(QJM42:QLL42)","v":1.0999999999999999},null,null,{"$f":"IRR(QJQ42:QLP42)","v":{"$error":"#NUM!"}},{"$f":"IRRm(QJQ42:QLP42)","v":1.0999999999999999},null,null,{"$f":"IRR(QJU42:QLT42)","v":{"$error":"#NUM!"}},{"$f":"IRRm(QJU42:QLT42)","v":1.0999999999999999},null,null,{"$f":"IRR(QJY42:QLX42)","v":{"$error":"#NUM!"}},{"$f":"IRRm(QJY42:QLX42)","v":1.0999999999999999},null,null,{"$f":"IRR(QKC42:QMB42)","v":{"$error":"#NUM!"}},{"$f":"IRRm(QKC42:QMB42)","v":1.0999999999999999},null,null,{"$f":"IRR(QKG42:QMF42)","v":{"$error":"#NUM!"}},{"$f":"IRRm(QKG42:QMF42)","v":1.0999999999999999},null,null,{"$f":"IRR(QKK42:QMJ42)","v":{"$error":"#NUM!"}},{"$f":"IRRm(QKK42:QMJ42)","v":1.0999999999999999},null,null,{"$f":"IRR(QKO42:QMN42)","v":{"$error":"#NUM!"}},{"$f":"IRRm(QKO42:QMN42)","v":1.0999999999999999},null,null,{"$f":"IRR(QKS42:QMR42)","v":{"$error":"#NUM!"}},{"$f":"IRRm(QKS42:QMR42)","v":1.0999999999999999},null,null,{"$f":"IRR(QKW42:QMV42)","v":{"$error":"#NUM!"}},{"$f":"IRRm(QKW42:QMV42)","v":1.0999999999999999},null,null,{"$f":"IRR(QLA42:QMZ42)","v":{"$error":"#NUM!"}},{"$f":"IRRm(QLA42:QMZ42)","v":1.0999999999999999},null,null,{"$f":"IRR(QLE42:QND42)","v":{"$error":"#NUM!"}},{"$f":"IRRm(QLE42:QND42)","v":1.0999999999999999},null,null,{"$f":"IRR(QLI42:QNH42)","v":{"$error":"#NUM!"}},{"$f":"IRRm(QLI42:QNH42)","v":1.0999999999999999},null,null,{"$f":"IRR(QLM42:QNL42)","v":{"$error":"#NUM!"}},{"$f":"IRRm(QLM42:QNL42)","v":1.0999999999999999},null,null,{"$f":"IRR(QLQ42:QNP42)","v":{"$error":"#NUM!"}},{"$f":"IRRm(QLQ42:QNP42)","v":1.0999999999999999},null,null,{"$f":"IRR(QLU42:QNT42)","v":{"$error":"#NUM!"}},{"$f":"IRRm(QLU42:QNT42)","v":1.0999999999999999},null,null,{"$f":"IRR(QLY42:QNX42)","v":{"$error":"#NUM!"}},{"$f":"IRRm(QLY42:QNX42)","v":1.0999999999999999},null,null,{"$f":"IRR(QMC42:QOB42)","v":{"$error":"#NUM!"}},{"$f":"IRRm(QMC42:QOB42)","v":1.0999999999999999},null,null,{"$f":"IRR(QMG42:QOF42)","v":{"$error":"#NUM!"}},{"$f":"IRRm(QMG42:QOF42)","v":1.0999999999999999},null,null,{"$f":"IRR(QMK42:QOJ42)","v":{"$error":"#NUM!"}},{"$f":"IRRm(QMK42:QOJ42)","v":1.0999999999999999},null,null,{"$f":"IRR(QMO42:QON42)","v":{"$error":"#NUM!"}},{"$f":"IRRm(QMO42:QON42)","v":1.0999999999999999},null,null,{"$f":"IRR(QMS42:QOR42)","v":{"$error":"#NUM!"}},{"$f":"IRRm(QMS42:QOR42)","v":1.0999999999999999},null,null,{"$f":"IRR(QMW42:QOV42)","v":{"$error":"#NUM!"}},{"$f":"IRRm(QMW42:QOV42)","v":1.0999999999999999},null,null,{"$f":"IRR(QNA42:QOZ42)","v":{"$error":"#NUM!"}},{"$f":"IRRm(QNA42:QOZ42)","v":1.0999999999999999},null,null,{"$f":"IRR(QNE42:QPD42)","v":{"$error":"#NUM!"}},{"$f":"IRRm(QNE42:QPD42)","v":1.0999999999999999},null,null,{"$f":"IRR(QNI42:QPH42)","v":{"$error":"#NUM!"}},{"$f":"IRRm(QNI42:QPH42)","v":1.0999999999999999},null,null,{"$f":"IRR(QNM42:QPL42)","v":{"$error":"#NUM!"}},{"$f":"IRRm(QNM42:QPL42)","v":1.0999999999999999},null,null,{"$f":"IRR(QNQ42:QPP42)","v":{"$error":"#NUM!"}},{"$f":"IRRm(QNQ42:QPP42)","v":1.0999999999999999},null,null,{"$f":"IRR(QNU42:QPT42)","v":{"$error":"#NUM!"}},{"$f":"IRRm(QNU42:QPT42)","v":1.0999999999999999},null,null,{"$f":"IRR(QNY42:QPX42)","v":{"$error":"#NUM!"}},{"$f":"IRRm(QNY42:QPX42)","v":1.0999999999999999},null,null,{"$f":"IRR(QOC42:QQB42)","v":{"$error":"#NUM!"}},{"$f":"IRRm(QOC42:QQB42)","v":1.0999999999999999},null,null,{"$f":"IRR(QOG42:QQF42)","v":{"$error":"#NUM!"}},{"$f":"IRRm(QOG42:QQF42)","v":1.0999999999999999},null,null,{"$f":"IRR(QOK42:QQJ42)","v":{"$error":"#NUM!"}},{"$f":"IRRm(QOK42:QQJ42)","v":1.0999999999999999},null,null,{"$f":"IRR(QOO42:QQN42)","v":{"$error":"#NUM!"}},{"$f":"IRRm(QOO42:QQN42)","v":1.0999999999999999},null,null,{"$f":"IRR(QOS42:QQR42)","v":{"$error":"#NUM!"}},{"$f":"IRRm(QOS42:QQR42)","v":1.0999999999999999},null,null,{"$f":"IRR(QOW42:QQV42)","v":{"$error":"#NUM!"}},{"$f":"IRRm(QOW42:QQV42)","v":1.0999999999999999},null,null,{"$f":"IRR(QPA42:QQZ42)","v":{"$error":"#NUM!"}},{"$f":"IRRm(QPA42:QQZ42)","v":1.0999999999999999},null,null,{"$f":"IRR(QPE42:QRD42)","v":{"$error":"#NUM!"}},{"$f":"IRRm(QPE42:QRD42)","v":1.0999999999999999},null,null,{"$f":"IRR(QPI42:QRH42)","v":{"$error":"#NUM!"}},{"$f":"IRRm(QPI42:QRH42)","v":1.0999999999999999},null,null,{"$f":"IRR(QPM42:QRL42)","v":{"$error":"#NUM!"}},{"$f":"IRRm(QPM42:QRL42)","v":1.0999999999999999},null,null,{"$f":"IRR(QPQ42:QRP42)","v":{"$error":"#NUM!"}},{"$f":"IRRm(QPQ42:QRP42)","v":1.0999999999999999},null,null,{"$f":"IRR(QPU42:QRT42)","v":{"$error":"#NUM!"}},{"$f":"IRRm(QPU42:QRT42)","v":1.0999999999999999},null,null,{"$f":"IRR(QPY42:QRX42)","v":{"$error":"#NUM!"}},{"$f":"IRRm(QPY42:QRX42)","v":1.0999999999999999},null,null,{"$f":"IRR(QQC42:QSB42)","v":{"$error":"#NUM!"}},{"$f":"IRRm(QQC42:QSB42)","v":1.0999999999999999},null,null,{"$f":"IRR(QQG42:QSF42)","v":{"$error":"#NUM!"}},{"$f":"IRRm(QQG42:QSF42)","v":1.0999999999999999},null,null,{"$f":"IRR(QQK42:QSJ42)","v":{"$error":"#NUM!"}},{"$f":"IRRm(QQK42:QSJ42)","v":1.0999999999999999},null,null,{"$f":"IRR(QQO42:QSN42)","v":{"$error":"#NUM!"}},{"$f":"IRRm(QQO42:QSN42)","v":1.0999999999999999},null,null,{"$f":"IRR(QQS42:QSR42)","v":{"$error":"#NUM!"}},{"$f":"IRRm(QQS42:QSR42)","v":1.0999999999999999},null,null,{"$f":"IRR(QQW42:QSV42)","v":{"$error":"#NUM!"}},{"$f":"IRRm(QQW42:QSV42)","v":1.0999999999999999},null,null,{"$f":"IRR(QRA42:QSZ42)","v":{"$error":"#NUM!"}},{"$f":"IRRm(QRA42:QSZ42)","v":1.0999999999999999},null,null,{"$f":"IRR(QRE42:QTD42)","v":{"$error":"#NUM!"}},{"$f":"IRRm(QRE42:QTD42)","v":1.0999999999999999},null,null,{"$f":"IRR(QRI42:QTH42)","v":{"$error":"#NUM!"}},{"$f":"IRRm(QRI42:QTH42)","v":1.0999999999999999},null,null,{"$f":"IRR(QRM42:QTL42)","v":{"$error":"#NUM!"}},{"$f":"IRRm(QRM42:QTL42)","v":1.0999999999999999},null,null,{"$f":"IRR(QRQ42:QTP42)","v":{"$error":"#NUM!"}},{"$f":"IRRm(QRQ42:QTP42)","v":1.0999999999999999},null,null,{"$f":"IRR(QRU42:QTT42)","v":{"$error":"#NUM!"}},{"$f":"IRRm(QRU42:QTT42)","v":1.0999999999999999},null,null,{"$f":"IRR(QRY42:QTX42)","v":{"$error":"#NUM!"}},{"$f":"IRRm(QRY42:QTX42)","v":1.0999999999999999},null,null,{"$f":"IRR(QSC42:QUB42)","v":{"$error":"#NUM!"}},{"$f":"IRRm(QSC42:QUB42)","v":1.0999999999999999},null,null,{"$f":"IRR(QSG42:QUF42)","v":{"$error":"#NUM!"}},{"$f":"IRRm(QSG42:QUF42)","v":1.0999999999999999},null,null,{"$f":"IRR(QSK42:QUJ42)","v":{"$error":"#NUM!"}},{"$f":"IRRm(QSK42:QUJ42)","v":1.0999999999999999},null,null,{"$f":"IRR(QSO42:QUN42)","v":{"$error":"#NUM!"}},{"$f":"IRRm(QSO42:QUN42)","v":1.0999999999999999},null,null,{"$f":"IRR(QSS42:QUR42)","v":{"$error":"#NUM!"}},{"$f":"IRRm(QSS42:QUR42)","v":1.0999999999999999},null,null,{"$f":"IRR(QSW42:QUV42)","v":{"$error":"#NUM!"}},{"$f":"IRRm(QSW42:QUV42)","v":1.0999999999999999},null,null,{"$f":"IRR(QTA42:QUZ42)","v":{"$error":"#NUM!"}},{"$f":"IRRm(QTA42:QUZ42)","v":1.0999999999999999},null,null,{"$f":"IRR(QTE42:QVD42)","v":{"$error":"#NUM!"}},{"$f":"IRRm(QTE42:QVD42)","v":1.0999999999999999},null,null,{"$f":"IRR(QTI42:QVH42)","v":{"$error":"#NUM!"}},{"$f":"IRRm(QTI42:QVH42)","v":1.0999999999999999},null,null,{"$f":"IRR(QTM42:QVL42)","v":{"$error":"#NUM!"}},{"$f":"IRRm(QTM42:QVL42)","v":1.0999999999999999},null,null,{"$f":"IRR(QTQ42:QVP42)","v":{"$error":"#NUM!"}},{"$f":"IRRm(QTQ42:QVP42)","v":1.0999999999999999},null,null,{"$f":"IRR(QTU42:QVT42)","v":{"$error":"#NUM!"}},{"$f":"IRRm(QTU42:QVT42)","v":1.0999999999999999},null,null,{"$f":"IRR(QTY42:QVX42)","v":{"$error":"#NUM!"}},{"$f":"IRRm(QTY42:QVX42)","v":1.0999999999999999},null,null,{"$f":"IRR(QUC42:QWB42)","v":{"$error":"#NUM!"}},{"$f":"IRRm(QUC42:QWB42)","v":1.0999999999999999},null,null,{"$f":"IRR(QUG42:QWF42)","v":{"$error":"#NUM!"}},{"$f":"IRRm(QUG42:QWF42)","v":1.0999999999999999},null,null,{"$f":"IRR(QUK42:QWJ42)","v":{"$error":"#NUM!"}},{"$f":"IRRm(QUK42:QWJ42)","v":1.0999999999999999},null,null,{"$f":"IRR(QUO42:QWN42)","v":{"$error":"#NUM!"}},{"$f":"IRRm(QUO42:QWN42)","v":1.0999999999999999},null,null,{"$f":"IRR(QUS42:QWR42)","v":{"$error":"#NUM!"}},{"$f":"IRRm(QUS42:QWR42)","v":1.0999999999999999},null,null,{"$f":"IRR(QUW42:QWV42)","v":{"$error":"#NUM!"}},{"$f":"IRRm(QUW42:QWV42)","v":1.0999999999999999},null,null,{"$f":"IRR(QVA42:QWZ42)","v":{"$error":"#NUM!"}},{"$f":"IRRm(QVA42:QWZ42)","v":1.0999999999999999},null,null,{"$f":"IRR(QVE42:QXD42)","v":{"$error":"#NUM!"}},{"$f":"IRRm(QVE42:QXD42)","v":1.0999999999999999},null,null,{"$f":"IRR(QVI42:QXH42)","v":{"$error":"#NUM!"}},{"$f":"IRRm(QVI42:QXH42)","v":1.0999999999999999},null,null,{"$f":"IRR(QVM42:QXL42)","v":{"$error":"#NUM!"}},{"$f":"IRRm(QVM42:QXL42)","v":1.0999999999999999},null,null,{"$f":"IRR(QVQ42:QXP42)","v":{"$error":"#NUM!"}},{"$f":"IRRm(QVQ42:QXP42)","v":1.0999999999999999},null,null,{"$f":"IRR(QVU42:QXT42)","v":{"$error":"#NUM!"}},{"$f":"IRRm(QVU42:QXT42)","v":1.0999999999999999},null,null,{"$f":"IRR(QVY42:QXX42)","v":{"$error":"#NUM!"}},{"$f":"IRRm(QVY42:QXX42)","v":1.0999999999999999},null,null,{"$f":"IRR(QWC42:QYB42)","v":{"$error":"#NUM!"}},{"$f":"IRRm(QWC42:QYB42)","v":1.0999999999999999},null,null,{"$f":"IRR(QWG42:QYF42)","v":{"$error":"#NUM!"}},{"$f":"IRRm(QWG42:QYF42)","v":1.0999999999999999},null,null,{"$f":"IRR(QWK42:QYJ42)","v":{"$error":"#NUM!"}},{"$f":"IRRm(QWK42:QYJ42)","v":1.0999999999999999},null,null,{"$f":"IRR(QWO42:QYN42)","v":{"$error":"#NUM!"}},{"$f":"IRRm(QWO42:QYN42)","v":1.0999999999999999},null,null,{"$f":"IRR(QWS42:QYR42)","v":{"$error":"#NUM!"}},{"$f":"IRRm(QWS42:QYR42)","v":1.0999999999999999},null,null,{"$f":"IRR(QWW42:QYV42)","v":{"$error":"#NUM!"}},{"$f":"IRRm(QWW42:QYV42)","v":1.0999999999999999},null,null,{"$f":"IRR(QXA42:QYZ42)","v":{"$error":"#NUM!"}},{"$f":"IRRm(QXA42:QYZ42)","v":1.0999999999999999},null,null,{"$f":"IRR(QXE42:QZD42)","v":{"$error":"#NUM!"}},{"$f":"IRRm(QXE42:QZD42)","v":1.0999999999999999},null,null,{"$f":"IRR(QXI42:QZH42)","v":{"$error":"#NUM!"}},{"$f":"IRRm(QXI42:QZH42)","v":1.0999999999999999},null,null,{"$f":"IRR(QXM42:QZL42)","v":{"$error":"#NUM!"}},{"$f":"IRRm(QXM42:QZL42)","v":1.0999999999999999},null,null,{"$f":"IRR(QXQ42:QZP42)","v":{"$error":"#NUM!"}},{"$f":"IRRm(QXQ42:QZP42)","v":1.0999999999999999},null,null,{"$f":"IRR(QXU42:QZT42)","v":{"$error":"#NUM!"}},{"$f":"IRRm(QXU42:QZT42)","v":1.0999999999999999},null,null,{"$f":"IRR(QXY42:QZX42)","v":{"$error":"#NUM!"}},{"$f":"IRRm(QXY42:QZX42)","v":1.0999999999999999},null,null,{"$f":"IRR(QYC42:RAB42)","v":{"$error":"#NUM!"}},{"$f":"IRRm(QYC42:RAB42)","v":1.0999999999999999},null,null,{"$f":"IRR(QYG42:RAF42)","v":{"$error":"#NUM!"}},{"$f":"IRRm(QYG42:RAF42)","v":1.0999999999999999},null,null,{"$f":"IRR(QYK42:RAJ42)","v":{"$error":"#NUM!"}},{"$f":"IRRm(QYK42:RAJ42)","v":1.0999999999999999},null,null,{"$f":"IRR(QYO42:RAN42)","v":{"$error":"#NUM!"}},{"$f":"IRRm(QYO42:RAN42)","v":1.0999999999999999},null,null,{"$f":"IRR(QYS42:RAR42)","v":{"$error":"#NUM!"}},{"$f":"IRRm(QYS42:RAR42)","v":1.0999999999999999},null,null,{"$f":"IRR(QYW42:RAV42)","v":{"$error":"#NUM!"}},{"$f":"IRRm(QYW42:RAV42)","v":1.0999999999999999},null,null,{"$f":"IRR(QZA42:RAZ42)","v":{"$error":"#NUM!"}},{"$f":"IRRm(QZA42:RAZ42)","v":1.0999999999999999},null,null,{"$f":"IRR(QZE42:RBD42)","v":{"$error":"#NUM!"}},{"$f":"IRRm(QZE42:RBD42)","v":1.0999999999999999},null,null,{"$f":"IRR(QZI42:RBH42)","v":{"$error":"#NUM!"}},{"$f":"IRRm(QZI42:RBH42)","v":1.0999999999999999},null,null,{"$f":"IRR(QZM42:RBL42)","v":{"$error":"#NUM!"}},{"$f":"IRRm(QZM42:RBL42)","v":1.0999999999999999},null,null,{"$f":"IRR(QZQ42:RBP42)","v":{"$error":"#NUM!"}},{"$f":"IRRm(QZQ42:RBP42)","v":1.0999999999999999},null,null,{"$f":"IRR(QZU42:RBT42)","v":{"$error":"#NUM!"}},{"$f":"IRRm(QZU42:RBT42)","v":1.0999999999999999},null,null,{"$f":"IRR(QZY42:RBX42)","v":{"$error":"#NUM!"}},{"$f":"IRRm(QZY42:RBX42)","v":1.0999999999999999},null,null,{"$f":"IRR(RAC42:RCB42)","v":{"$error":"#NUM!"}},{"$f":"IRRm(RAC42:RCB42)","v":1.0999999999999999},null,null,{"$f":"IRR(RAG42:RCF42)","v":{"$error":"#NUM!"}},{"$f":"IRRm(RAG42:RCF42)","v":1.0999999999999999},null,null,{"$f":"IRR(RAK42:RCJ42)","v":{"$error":"#NUM!"}},{"$f":"IRRm(RAK42:RCJ42)","v":1.0999999999999999},null,null,{"$f":"IRR(RAO42:RCN42)","v":{"$error":"#NUM!"}},{"$f":"IRRm(RAO42:RCN42)","v":1.0999999999999999},null,null,{"$f":"IRR(RAS42:RCR42)","v":{"$error":"#NUM!"}},{"$f":"IRRm(RAS42:RCR42)","v":1.0999999999999999},null,null,{"$f":"IRR(RAW42:RCV42)","v":{"$error":"#NUM!"}},{"$f":"IRRm(RAW42:RCV42)","v":1.0999999999999999},null,null,{"$f":"IRR(RBA42:RCZ42)","v":{"$error":"#NUM!"}},{"$f":"IRRm(RBA42:RCZ42)","v":1.0999999999999999},null,null,{"$f":"IRR(RBE42:RDD42)","v":{"$error":"#NUM!"}},{"$f":"IRRm(RBE42:RDD42)","v":1.0999999999999999},null,null,{"$f":"IRR(RBI42:RDH42)","v":{"$error":"#NUM!"}},{"$f":"IRRm(RBI42:RDH42)","v":1.0999999999999999},null,null,{"$f":"IRR(RBM42:RDL42)","v":{"$error":"#NUM!"}},{"$f":"IRRm(RBM42:RDL42)","v":1.0999999999999999},null,null,{"$f":"IRR(RBQ42:RDP42)","v":{"$error":"#NUM!"}},{"$f":"IRRm(RBQ42:RDP42)","v":1.0999999999999999},null,null,{"$f":"IRR(RBU42:RDT42)","v":{"$error":"#NUM!"}},{"$f":"IRRm(RBU42:RDT42)","v":1.0999999999999999},null,null,{"$f":"IRR(RBY42:RDX42)","v":{"$error":"#NUM!"}},{"$f":"IRRm(RBY42:RDX42)","v":1.0999999999999999},null,null,{"$f":"IRR(RCC42:REB42)","v":{"$error":"#NUM!"}},{"$f":"IRRm(RCC42:REB42)","v":1.0999999999999999},null,null,{"$f":"IRR(RCG42:REF42)","v":{"$error":"#NUM!"}},{"$f":"IRRm(RCG42:REF42)","v":1.0999999999999999},null,null,{"$f":"IRR(RCK42:REJ42)","v":{"$error":"#NUM!"}},{"$f":"IRRm(RCK42:REJ42)","v":1.0999999999999999},null,null,{"$f":"IRR(RCO42:REN42)","v":{"$error":"#NUM!"}},{"$f":"IRRm(RCO42:REN42)","v":1.0999999999999999},null,null,{"$f":"IRR(RCS42:RER42)","v":{"$error":"#NUM!"}},{"$f":"IRRm(RCS42:RER42)","v":1.0999999999999999},null,null,{"$f":"IRR(RCW42:REV42)","v":{"$error":"#NUM!"}},{"$f":"IRRm(RCW42:REV42)","v":1.0999999999999999},null,null,{"$f":"IRR(RDA42:REZ42)","v":{"$error":"#NUM!"}},{"$f":"IRRm(RDA42:REZ42)","v":1.0999999999999999},null,null,{"$f":"IRR(RDE42:RFD42)","v":{"$error":"#NUM!"}},{"$f":"IRRm(RDE42:RFD42)","v":1.0999999999999999},null,null,{"$f":"IRR(RDI42:RFH42)","v":{"$error":"#NUM!"}},{"$f":"IRRm(RDI42:RFH42)","v":1.0999999999999999},null,null,{"$f":"IRR(RDM42:RFL42)","v":{"$error":"#NUM!"}},{"$f":"IRRm(RDM42:RFL42)","v":1.0999999999999999},null,null,{"$f":"IRR(RDQ42:RFP42)","v":{"$error":"#NUM!"}},{"$f":"IRRm(RDQ42:RFP42)","v":1.0999999999999999},null,null,{"$f":"IRR(RDU42:RFT42)","v":{"$error":"#NUM!"}},{"$f":"IRRm(RDU42:RFT42)","v":1.0999999999999999},null,null,{"$f":"IRR(RDY42:RFX42)","v":{"$error":"#NUM!"}},{"$f":"IRRm(RDY42:RFX42)","v":1.0999999999999999},null,null,{"$f":"IRR(REC42:RGB42)","v":{"$error":"#NUM!"}},{"$f":"IRRm(REC42:RGB42)","v":1.0999999999999999},null,null,{"$f":"IRR(REG42:RGF42)","v":{"$error":"#NUM!"}},{"$f":"IRRm(REG42:RGF42)","v":1.0999999999999999},null,null,{"$f":"IRR(REK42:RGJ42)","v":{"$error":"#NUM!"}},{"$f":"IRRm(REK42:RGJ42)","v":1.0999999999999999},null,null,{"$f":"IRR(REO42:RGN42)","v":{"$error":"#NUM!"}},{"$f":"IRRm(REO42:RGN42)","v":1.0999999999999999},null,null,{"$f":"IRR(RES42:RGR42)","v":{"$error":"#NUM!"}},{"$f":"IRRm(RES42:RGR42)","v":1.0999999999999999},null,null,{"$f":"IRR(REW42:RGV42)","v":{"$error":"#NUM!"}},{"$f":"IRRm(REW42:RGV42)","v":1.0999999999999999},null,null,{"$f":"IRR(RFA42:RGZ42)","v":{"$error":"#NUM!"}},{"$f":"IRRm(RFA42:RGZ42)","v":1.0999999999999999},null,null,{"$f":"IRR(RFE42:RHD42)","v":{"$error":"#NUM!"}},{"$f":"IRRm(RFE42:RHD42)","v":1.0999999999999999},null,null,{"$f":"IRR(RFI42:RHH42)","v":{"$error":"#NUM!"}},{"$f":"IRRm(RFI42:RHH42)","v":1.0999999999999999},null,null,{"$f":"IRR(RFM42:RHL42)","v":{"$error":"#NUM!"}},{"$f":"IRRm(RFM42:RHL42)","v":1.0999999999999999},null,null,{"$f":"IRR(RFQ42:RHP42)","v":{"$error":"#NUM!"}},{"$f":"IRRm(RFQ42:RHP42)","v":1.0999999999999999},null,null,{"$f":"IRR(RFU42:RHT42)","v":{"$error":"#NUM!"}},{"$f":"IRRm(RFU42:RHT42)","v":1.0999999999999999},null,null,{"$f":"IRR(RFY42:RHX42)","v":{"$error":"#NUM!"}},{"$f":"IRRm(RFY42:RHX42)","v":1.0999999999999999},null,null,{"$f":"IRR(RGC42:RIB42)","v":{"$error":"#NUM!"}},{"$f":"IRRm(RGC42:RIB42)","v":1.0999999999999999},null,null,{"$f":"IRR(RGG42:RIF42)","v":{"$error":"#NUM!"}},{"$f":"IRRm(RGG42:RIF42)","v":1.0999999999999999},null,null,{"$f":"IRR(RGK42:RIJ42)","v":{"$error":"#NUM!"}},{"$f":"IRRm(RGK42:RIJ42)","v":1.0999999999999999},null,null,{"$f":"IRR(RGO42:RIN42)","v":{"$error":"#NUM!"}},{"$f":"IRRm(RGO42:RIN42)","v":1.0999999999999999},null,null,{"$f":"IRR(RGS42:RIR42)","v":{"$error":"#NUM!"}},{"$f":"IRRm(RGS42:RIR42)","v":1.0999999999999999},null,null,{"$f":"IRR(RGW42:RIV42)","v":{"$error":"#NUM!"}},{"$f":"IRRm(RGW42:RIV42)","v":1.0999999999999999},null,null,{"$f":"IRR(RHA42:RIZ42)","v":{"$error":"#NUM!"}},{"$f":"IRRm(RHA42:RIZ42)","v":1.0999999999999999},null,null,{"$f":"IRR(RHE42:RJD42)","v":{"$error":"#NUM!"}},{"$f":"IRRm(RHE42:RJD42)","v":1.0999999999999999},null,null,{"$f":"IRR(RHI42:RJH42)","v":{"$error":"#NUM!"}},{"$f":"IRRm(RHI42:RJH42)","v":1.0999999999999999},null,null,{"$f":"IRR(RHM42:RJL42)","v":{"$error":"#NUM!"}},{"$f":"IRRm(RHM42:RJL42)","v":1.0999999999999999},null,null,{"$f":"IRR(RHQ42:RJP42)","v":{"$error":"#NUM!"}},{"$f":"IRRm(RHQ42:RJP42)","v":1.0999999999999999},null,null,{"$f":"IRR(RHU42:RJT42)","v":{"$error":"#NUM!"}},{"$f":"IRRm(RHU42:RJT42)","v":1.0999999999999999},null,null,{"$f":"IRR(RHY42:RJX42)","v":{"$error":"#NUM!"}},{"$f":"IRRm(RHY42:RJX42)","v":1.0999999999999999},null,null,{"$f":"IRR(RIC42:RKB42)","v":{"$error":"#NUM!"}},{"$f":"IRRm(RIC42:RKB42)","v":1.0999999999999999},null,null,{"$f":"IRR(RIG42:RKF42)","v":{"$error":"#NUM!"}},{"$f":"IRRm(RIG42:RKF42)","v":1.0999999999999999},null,null,{"$f":"IRR(RIK42:RKJ42)","v":{"$error":"#NUM!"}},{"$f":"IRRm(RIK42:RKJ42)","v":1.0999999999999999},null,null,{"$f":"IRR(RIO42:RKN42)","v":{"$error":"#NUM!"}},{"$f":"IRRm(RIO42:RKN42)","v":1.0999999999999999},null,null,{"$f":"IRR(RIS42:RKR42)","v":{"$error":"#NUM!"}},{"$f":"IRRm(RIS42:RKR42)","v":1.0999999999999999},null,null,{"$f":"IRR(RIW42:RKV42)","v":{"$error":"#NUM!"}},{"$f":"IRRm(RIW42:RKV42)","v":1.0999999999999999},null,null,{"$f":"IRR(RJA42:RKZ42)","v":{"$error":"#NUM!"}},{"$f":"IRRm(RJA42:RKZ42)","v":1.0999999999999999},null,null,{"$f":"IRR(RJE42:RLD42)","v":{"$error":"#NUM!"}},{"$f":"IRRm(RJE42:RLD42)","v":1.0999999999999999},null,null,{"$f":"IRR(RJI42:RLH42)","v":{"$error":"#NUM!"}},{"$f":"IRRm(RJI42:RLH42)","v":1.0999999999999999},null,null,{"$f":"IRR(RJM42:RLL42)","v":{"$error":"#NUM!"}},{"$f":"IRRm(RJM42:RLL42)","v":1.0999999999999999},null,null,{"$f":"IRR(RJQ42:RLP42)","v":{"$error":"#NUM!"}},{"$f":"IRRm(RJQ42:RLP42)","v":1.0999999999999999},null,null,{"$f":"IRR(RJU42:RLT42)","v":{"$error":"#NUM!"}},{"$f":"IRRm(RJU42:RLT42)","v":1.0999999999999999},null,null,{"$f":"IRR(RJY42:RLX42)","v":{"$error":"#NUM!"}},{"$f":"IRRm(RJY42:RLX42)","v":1.0999999999999999},null,null,{"$f":"IRR(RKC42:RMB42)","v":{"$error":"#NUM!"}},{"$f":"IRRm(RKC42:RMB42)","v":1.0999999999999999},null,null,{"$f":"IRR(RKG42:RMF42)","v":{"$error":"#NUM!"}},{"$f":"IRRm(RKG42:RMF42)","v":1.0999999999999999},null,null,{"$f":"IRR(RKK42:RMJ42)","v":{"$error":"#NUM!"}},{"$f":"IRRm(RKK42:RMJ42)","v":1.0999999999999999},null,null,{"$f":"IRR(RKO42:RMN42)","v":{"$error":"#NUM!"}},{"$f":"IRRm(RKO42:RMN42)","v":1.0999999999999999},null,null,{"$f":"IRR(RKS42:RMR42)","v":{"$error":"#NUM!"}},{"$f":"IRRm(RKS42:RMR42)","v":1.0999999999999999},null,null,{"$f":"IRR(RKW42:RMV42)","v":{"$error":"#NUM!"}},{"$f":"IRRm(RKW42:RMV42)","v":1.0999999999999999},null,null,{"$f":"IRR(RLA42:RMZ42)","v":{"$error":"#NUM!"}},{"$f":"IRRm(RLA42:RMZ42)","v":1.0999999999999999},null,null,{"$f":"IRR(RLE42:RND42)","v":{"$error":"#NUM!"}},{"$f":"IRRm(RLE42:RND42)","v":1.0999999999999999},null,null,{"$f":"IRR(RLI42:RNH42)","v":{"$error":"#NUM!"}},{"$f":"IRRm(RLI42:RNH42)","v":1.0999999999999999},null,null,{"$f":"IRR(RLM42:RNL42)","v":{"$error":"#NUM!"}},{"$f":"IRRm(RLM42:RNL42)","v":1.0999999999999999},null,null,{"$f":"IRR(RLQ42:RNP42)","v":{"$error":"#NUM!"}},{"$f":"IRRm(RLQ42:RNP42)","v":1.0999999999999999},null,null,{"$f":"IRR(RLU42:RNT42)","v":{"$error":"#NUM!"}},{"$f":"IRRm(RLU42:RNT42)","v":1.0999999999999999},null,null,{"$f":"IRR(RLY42:RNX42)","v":{"$error":"#NUM!"}},{"$f":"IRRm(RLY42:RNX42)","v":1.0999999999999999},null,null,{"$f":"IRR(RMC42:ROB42)","v":{"$error":"#NUM!"}},{"$f":"IRRm(RMC42:ROB42)","v":1.0999999999999999},null,null,{"$f":"IRR(RMG42:ROF42)","v":{"$error":"#NUM!"}},{"$f":"IRRm(RMG42:ROF42)","v":1.0999999999999999},null,null,{"$f":"IRR(RMK42:ROJ42)","v":{"$error":"#NUM!"}},{"$f":"IRRm(RMK42:ROJ42)","v":1.0999999999999999},null,null,{"$f":"IRR(RMO42:RON42)","v":{"$error":"#NUM!"}},{"$f":"IRRm(RMO42:RON42)","v":1.0999999999999999},null,null,{"$f":"IRR(RMS42:ROR42)","v":{"$error":"#NUM!"}},{"$f":"IRRm(RMS42:ROR42)","v":1.0999999999999999},null,null,{"$f":"IRR(RMW42:ROV42)","v":{"$error":"#NUM!"}},{"$f":"IRRm(RMW42:ROV42)","v":1.0999999999999999},null,null,{"$f":"IRR(RNA42:ROZ42)","v":{"$error":"#NUM!"}},{"$f":"IRRm(RNA42:ROZ42)","v":1.0999999999999999},null,null,{"$f":"IRR(RNE42:RPD42)","v":{"$error":"#NUM!"}},{"$f":"IRRm(RNE42:RPD42)","v":1.0999999999999999},null,null,{"$f":"IRR(RNI42:RPH42)","v":{"$error":"#NUM!"}},{"$f":"IRRm(RNI42:RPH42)","v":1.0999999999999999},null,null,{"$f":"IRR(RNM42:RPL42)","v":{"$error":"#NUM!"}},{"$f":"IRRm(RNM42:RPL42)","v":1.0999999999999999},null,null,{"$f":"IRR(RNQ42:RPP42)","v":{"$error":"#NUM!"}},{"$f":"IRRm(RNQ42:RPP42)","v":1.0999999999999999},null,null,{"$f":"IRR(RNU42:RPT42)","v":{"$error":"#NUM!"}},{"$f":"IRRm(RNU42:RPT42)","v":1.0999999999999999},null,null,{"$f":"IRR(RNY42:RPX42)","v":{"$error":"#NUM!"}},{"$f":"IRRm(RNY42:RPX42)","v":1.0999999999999999},null,null,{"$f":"IRR(ROC42:RQB42)","v":{"$error":"#NUM!"}},{"$f":"IRRm(ROC42:RQB42)","v":1.0999999999999999},null,null,{"$f":"IRR(ROG42:RQF42)","v":{"$error":"#NUM!"}},{"$f":"IRRm(ROG42:RQF42)","v":1.0999999999999999},null,null,{"$f":"IRR(ROK42:RQJ42)","v":{"$error":"#NUM!"}},{"$f":"IRRm(ROK42:RQJ42)","v":1.0999999999999999},null,null,{"$f":"IRR(ROO42:RQN42)","v":{"$error":"#NUM!"}},{"$f":"IRRm(ROO42:RQN42)","v":1.0999999999999999},null,null,{"$f":"IRR(ROS42:RQR42)","v":{"$error":"#NUM!"}},{"$f":"IRRm(ROS42:RQR42)","v":1.0999999999999999},null,null,{"$f":"IRR(ROW42:RQV42)","v":{"$error":"#NUM!"}},{"$f":"IRRm(ROW42:RQV42)","v":1.0999999999999999},null,null,{"$f":"IRR(RPA42:RQZ42)","v":{"$error":"#NUM!"}},{"$f":"IRRm(RPA42:RQZ42)","v":1.0999999999999999},null,null,{"$f":"IRR(RPE42:RRD42)","v":{"$error":"#NUM!"}},{"$f":"IRRm(RPE42:RRD42)","v":1.0999999999999999},null,null,{"$f":"IRR(RPI42:RRH42)","v":{"$error":"#NUM!"}},{"$f":"IRRm(RPI42:RRH42)","v":1.0999999999999999},null,null,{"$f":"IRR(RPM42:RRL42)","v":{"$error":"#NUM!"}},{"$f":"IRRm(RPM42:RRL42)","v":1.0999999999999999},null,null,{"$f":"IRR(RPQ42:RRP42)","v":{"$error":"#NUM!"}},{"$f":"IRRm(RPQ42:RRP42)","v":1.0999999999999999},null,null,{"$f":"IRR(RPU42:RRT42)","v":{"$error":"#NUM!"}},{"$f":"IRRm(RPU42:RRT42)","v":1.0999999999999999},null,null,{"$f":"IRR(RPY42:RRX42)","v":{"$error":"#NUM!"}},{"$f":"IRRm(RPY42:RRX42)","v":1.0999999999999999},null,null,{"$f":"IRR(RQC42:RSB42)","v":{"$error":"#NUM!"}},{"$f":"IRRm(RQC42:RSB42)","v":1.0999999999999999},null,null,{"$f":"IRR(RQG42:RSF42)","v":{"$error":"#NUM!"}},{"$f":"IRRm(RQG42:RSF42)","v":1.0999999999999999},null,null,{"$f":"IRR(RQK42:RSJ42)","v":{"$error":"#NUM!"}},{"$f":"IRRm(RQK42:RSJ42)","v":1.0999999999999999},null,null,{"$f":"IRR(RQO42:RSN42)","v":{"$error":"#NUM!"}},{"$f":"IRRm(RQO42:RSN42)","v":1.0999999999999999},null,null,{"$f":"IRR(RQS42:RSR42)","v":{"$error":"#NUM!"}},{"$f":"IRRm(RQS42:RSR42)","v":1.0999999999999999},null,null,{"$f":"IRR(RQW42:RSV42)","v":{"$error":"#NUM!"}},{"$f":"IRRm(RQW42:RSV42)","v":1.0999999999999999},null,null,{"$f":"IRR(RRA42:RSZ42)","v":{"$error":"#NUM!"}},{"$f":"IRRm(RRA42:RSZ42)","v":1.0999999999999999},null,null,{"$f":"IRR(RRE42:RTD42)","v":{"$error":"#NUM!"}},{"$f":"IRRm(RRE42:RTD42)","v":1.0999999999999999},null,null,{"$f":"IRR(RRI42:RTH42)","v":{"$error":"#NUM!"}},{"$f":"IRRm(RRI42:RTH42)","v":1.0999999999999999},null,null,{"$f":"IRR(RRM42:RTL42)","v":{"$error":"#NUM!"}},{"$f":"IRRm(RRM42:RTL42)","v":1.0999999999999999},null,null,{"$f":"IRR(RRQ42:RTP42)","v":{"$error":"#NUM!"}},{"$f":"IRRm(RRQ42:RTP42)","v":1.0999999999999999},null,null,{"$f":"IRR(RRU42:RTT42)","v":{"$error":"#NUM!"}},{"$f":"IRRm(RRU42:RTT42)","v":1.0999999999999999},null,null,{"$f":"IRR(RRY42:RTX42)","v":{"$error":"#NUM!"}},{"$f":"IRRm(RRY42:RTX42)","v":1.0999999999999999},null,null,{"$f":"IRR(RSC42:RUB42)","v":{"$error":"#NUM!"}},{"$f":"IRRm(RSC42:RUB42)","v":1.0999999999999999},null,null,{"$f":"IRR(RSG42:RUF42)","v":{"$error":"#NUM!"}},{"$f":"IRRm(RSG42:RUF42)","v":1.0999999999999999},null,null,{"$f":"IRR(RSK42:RUJ42)","v":{"$error":"#NUM!"}},{"$f":"IRRm(RSK42:RUJ42)","v":1.0999999999999999},null,null,{"$f":"IRR(RSO42:RUN42)","v":{"$error":"#NUM!"}},{"$f":"IRRm(RSO42:RUN42)","v":1.0999999999999999},null,null,{"$f":"IRR(RSS42:RUR42)","v":{"$error":"#NUM!"}},{"$f":"IRRm(RSS42:RUR42)","v":1.0999999999999999},null,null,{"$f":"IRR(RSW42:RUV42)","v":{"$error":"#NUM!"}},{"$f":"IRRm(RSW42:RUV42)","v":1.0999999999999999},null,null,{"$f":"IRR(RTA42:RUZ42)","v":{"$error":"#NUM!"}},{"$f":"IRRm(RTA42:RUZ42)","v":1.0999999999999999},null,null,{"$f":"IRR(RTE42:RVD42)","v":{"$error":"#NUM!"}},{"$f":"IRRm(RTE42:RVD42)","v":1.0999999999999999},null,null,{"$f":"IRR(RTI42:RVH42)","v":{"$error":"#NUM!"}},{"$f":"IRRm(RTI42:RVH42)","v":1.0999999999999999},null,null,{"$f":"IRR(RTM42:RVL42)","v":{"$error":"#NUM!"}},{"$f":"IRRm(RTM42:RVL42)","v":1.0999999999999999},null,null,{"$f":"IRR(RTQ42:RVP42)","v":{"$error":"#NUM!"}},{"$f":"IRRm(RTQ42:RVP42)","v":1.0999999999999999},null,null,{"$f":"IRR(RTU42:RVT42)","v":{"$error":"#NUM!"}},{"$f":"IRRm(RTU42:RVT42)","v":1.0999999999999999},null,null,{"$f":"IRR(RTY42:RVX42)","v":{"$error":"#NUM!"}},{"$f":"IRRm(RTY42:RVX42)","v":1.0999999999999999},null,null,{"$f":"IRR(RUC42:RWB42)","v":{"$error":"#NUM!"}},{"$f":"IRRm(RUC42:RWB42)","v":1.0999999999999999},null,null,{"$f":"IRR(RUG42:RWF42)","v":{"$error":"#NUM!"}},{"$f":"IRRm(RUG42:RWF42)","v":1.0999999999999999},null,null,{"$f":"IRR(RUK42:RWJ42)","v":{"$error":"#NUM!"}},{"$f":"IRRm(RUK42:RWJ42)","v":1.0999999999999999},null,null,{"$f":"IRR(RUO42:RWN42)","v":{"$error":"#NUM!"}},{"$f":"IRRm(RUO42:RWN42)","v":1.0999999999999999},null,null,{"$f":"IRR(RUS42:RWR42)","v":{"$error":"#NUM!"}},{"$f":"IRRm(RUS42:RWR42)","v":1.0999999999999999},null,null,{"$f":"IRR(RUW42:RWV42)","v":{"$error":"#NUM!"}},{"$f":"IRRm(RUW42:RWV42)","v":1.0999999999999999},null,null,{"$f":"IRR(RVA42:RWZ42)","v":{"$error":"#NUM!"}},{"$f":"IRRm(RVA42:RWZ42)","v":1.0999999999999999},null,null,{"$f":"IRR(RVE42:RXD42)","v":{"$error":"#NUM!"}},{"$f":"IRRm(RVE42:RXD42)","v":1.0999999999999999},null,null,{"$f":"IRR(RVI42:RXH42)","v":{"$error":"#NUM!"}},{"$f":"IRRm(RVI42:RXH42)","v":1.0999999999999999},null,null,{"$f":"IRR(RVM42:RXL42)","v":{"$error":"#NUM!"}},{"$f":"IRRm(RVM42:RXL42)","v":1.0999999999999999},null,null,{"$f":"IRR(RVQ42:RXP42)","v":{"$error":"#NUM!"}},{"$f":"IRRm(RVQ42:RXP42)","v":1.0999999999999999},null,null,{"$f":"IRR(RVU42:RXT42)","v":{"$error":"#NUM!"}},{"$f":"IRRm(RVU42:RXT42)","v":1.0999999999999999},null,null,{"$f":"IRR(RVY42:RXX42)","v":{"$error":"#NUM!"}},{"$f":"IRRm(RVY42:RXX42)","v":1.0999999999999999},null,null,{"$f":"IRR(RWC42:RYB42)","v":{"$error":"#NUM!"}},{"$f":"IRRm(RWC42:RYB42)","v":1.0999999999999999},null,null,{"$f":"IRR(RWG42:RYF42)","v":{"$error":"#NUM!"}},{"$f":"IRRm(RWG42:RYF42)","v":1.0999999999999999},null,null,{"$f":"IRR(RWK42:RYJ42)","v":{"$error":"#NUM!"}},{"$f":"IRRm(RWK42:RYJ42)","v":1.0999999999999999},null,null,{"$f":"IRR(RWO42:RYN42)","v":{"$error":"#NUM!"}},{"$f":"IRRm(RWO42:RYN42)","v":1.0999999999999999},null,null,{"$f":"IRR(RWS42:RYR42)","v":{"$error":"#NUM!"}},{"$f":"IRRm(RWS42:RYR42)","v":1.0999999999999999},null,null,{"$f":"IRR(RWW42:RYV42)","v":{"$error":"#NUM!"}},{"$f":"IRRm(RWW42:RYV42)","v":1.0999999999999999},null,null,{"$f":"IRR(RXA42:RYZ42)","v":{"$error":"#NUM!"}},{"$f":"IRRm(RXA42:RYZ42)","v":1.0999999999999999},null,null,{"$f":"IRR(RXE42:RZD42)","v":{"$error":"#NUM!"}},{"$f":"IRRm(RXE42:RZD42)","v":1.0999999999999999},null,null,{"$f":"IRR(RXI42:RZH42)","v":{"$error":"#NUM!"}},{"$f":"IRRm(RXI42:RZH42)","v":1.0999999999999999},null,null,{"$f":"IRR(RXM42:RZL42)","v":{"$error":"#NUM!"}},{"$f":"IRRm(RXM42:RZL42)","v":1.0999999999999999},null,null,{"$f":"IRR(RXQ42:RZP42)","v":{"$error":"#NUM!"}},{"$f":"IRRm(RXQ42:RZP42)","v":1.0999999999999999},null,null,{"$f":"IRR(RXU42:RZT42)","v":{"$error":"#NUM!"}},{"$f":"IRRm(RXU42:RZT42)","v":1.0999999999999999},null,null,{"$f":"IRR(RXY42:RZX42)","v":{"$error":"#NUM!"}},{"$f":"IRRm(RXY42:RZX42)","v":1.0999999999999999},null,null,{"$f":"IRR(RYC42:SAB42)","v":{"$error":"#NUM!"}},{"$f":"IRRm(RYC42:SAB42)","v":1.0999999999999999},null,null,{"$f":"IRR(RYG42:SAF42)","v":{"$error":"#NUM!"}},{"$f":"IRRm(RYG42:SAF42)","v":1.0999999999999999},null,null,{"$f":"IRR(RYK42:SAJ42)","v":{"$error":"#NUM!"}},{"$f":"IRRm(RYK42:SAJ42)","v":1.0999999999999999},null,null,{"$f":"IRR(RYO42:SAN42)","v":{"$error":"#NUM!"}},{"$f":"IRRm(RYO42:SAN42)","v":1.0999999999999999},null,null,{"$f":"IRR(RYS42:SAR42)","v":{"$error":"#NUM!"}},{"$f":"IRRm(RYS42:SAR42)","v":1.0999999999999999},null,null,{"$f":"IRR(RYW42:SAV42)","v":{"$error":"#NUM!"}},{"$f":"IRRm(RYW42:SAV42)","v":1.0999999999999999},null,null,{"$f":"IRR(RZA42:SAZ42)","v":{"$error":"#NUM!"}},{"$f":"IRRm(RZA42:SAZ42)","v":1.0999999999999999},null,null,{"$f":"IRR(RZE42:SBD42)","v":{"$error":"#NUM!"}},{"$f":"IRRm(RZE42:SBD42)","v":1.0999999999999999},null,null,{"$f":"IRR(RZI42:SBH42)","v":{"$error":"#NUM!"}},{"$f":"IRRm(RZI42:SBH42)","v":1.0999999999999999},null,null,{"$f":"IRR(RZM42:SBL42)","v":{"$error":"#NUM!"}},{"$f":"IRRm(RZM42:SBL42)","v":1.0999999999999999},null,null,{"$f":"IRR(RZQ42:SBP42)","v":{"$error":"#NUM!"}},{"$f":"IRRm(RZQ42:SBP42)","v":1.0999999999999999},null,null,{"$f":"IRR(RZU42:SBT42)","v":{"$error":"#NUM!"}},{"$f":"IRRm(RZU42:SBT42)","v":1.0999999999999999},null,null,{"$f":"IRR(RZY42:SBX42)","v":{"$error":"#NUM!"}},{"$f":"IRRm(RZY42:SBX42)","v":1.0999999999999999},null,null,{"$f":"IRR(SAC42:SCB42)","v":{"$error":"#NUM!"}},{"$f":"IRRm(SAC42:SCB42)","v":1.0999999999999999},null,null,{"$f":"IRR(SAG42:SCF42)","v":{"$error":"#NUM!"}},{"$f":"IRRm(SAG42:SCF42)","v":1.0999999999999999},null,null,{"$f":"IRR(SAK42:SCJ42)","v":{"$error":"#NUM!"}},{"$f":"IRRm(SAK42:SCJ42)","v":1.0999999999999999},null,null,{"$f":"IRR(SAO42:SCN42)","v":{"$error":"#NUM!"}},{"$f":"IRRm(SAO42:SCN42)","v":1.0999999999999999},null,null,{"$f":"IRR(SAS42:SCR42)","v":{"$error":"#NUM!"}},{"$f":"IRRm(SAS42:SCR42)","v":1.0999999999999999},null,null,{"$f":"IRR(SAW42:SCV42)","v":{"$error":"#NUM!"}},{"$f":"IRRm(SAW42:SCV42)","v":1.0999999999999999},null,null,{"$f":"IRR(SBA42:SCZ42)","v":{"$error":"#NUM!"}},{"$f":"IRRm(SBA42:SCZ42)","v":1.0999999999999999},null,null,{"$f":"IRR(SBE42:SDD42)","v":{"$error":"#NUM!"}},{"$f":"IRRm(SBE42:SDD42)","v":1.0999999999999999},null,null,{"$f":"IRR(SBI42:SDH42)","v":{"$error":"#NUM!"}},{"$f":"IRRm(SBI42:SDH42)","v":1.0999999999999999},null,null,{"$f":"IRR(SBM42:SDL42)","v":{"$error":"#NUM!"}},{"$f":"IRRm(SBM42:SDL42)","v":1.0999999999999999},null,null,{"$f":"IRR(SBQ42:SDP42)","v":{"$error":"#NUM!"}},{"$f":"IRRm(SBQ42:SDP42)","v":1.0999999999999999},null,null,{"$f":"IRR(SBU42:SDT42)","v":{"$error":"#NUM!"}},{"$f":"IRRm(SBU42:SDT42)","v":1.0999999999999999},null,null,{"$f":"IRR(SBY42:SDX42)","v":{"$error":"#NUM!"}},{"$f":"IRRm(SBY42:SDX42)","v":1.0999999999999999},null,null,{"$f":"IRR(SCC42:SEB42)","v":{"$error":"#NUM!"}},{"$f":"IRRm(SCC42:SEB42)","v":1.0999999999999999},null,null,{"$f":"IRR(SCG42:SEF42)","v":{"$error":"#NUM!"}},{"$f":"IRRm(SCG42:SEF42)","v":1.0999999999999999},null,null,{"$f":"IRR(SCK42:SEJ42)","v":{"$error":"#NUM!"}},{"$f":"IRRm(SCK42:SEJ42)","v":1.0999999999999999},null,null,{"$f":"IRR(SCO42:SEN42)","v":{"$error":"#NUM!"}},{"$f":"IRRm(SCO42:SEN42)","v":1.0999999999999999},null,null,{"$f":"IRR(SCS42:SER42)","v":{"$error":"#NUM!"}},{"$f":"IRRm(SCS42:SER42)","v":1.0999999999999999},null,null,{"$f":"IRR(SCW42:SEV42)","v":{"$error":"#NUM!"}},{"$f":"IRRm(SCW42:SEV42)","v":1.0999999999999999},null,null,{"$f":"IRR(SDA42:SEZ42)","v":{"$error":"#NUM!"}},{"$f":"IRRm(SDA42:SEZ42)","v":1.0999999999999999},null,null,{"$f":"IRR(SDE42:SFD42)","v":{"$error":"#NUM!"}},{"$f":"IRRm(SDE42:SFD42)","v":1.0999999999999999},null,null,{"$f":"IRR(SDI42:SFH42)","v":{"$error":"#NUM!"}},{"$f":"IRRm(SDI42:SFH42)","v":1.0999999999999999},null,null,{"$f":"IRR(SDM42:SFL42)","v":{"$error":"#NUM!"}},{"$f":"IRRm(SDM42:SFL42)","v":1.0999999999999999},null,null,{"$f":"IRR(SDQ42:SFP42)","v":{"$error":"#NUM!"}},{"$f":"IRRm(SDQ42:SFP42)","v":1.0999999999999999},null,null,{"$f":"IRR(SDU42:SFT42)","v":{"$error":"#NUM!"}},{"$f":"IRRm(SDU42:SFT42)","v":1.0999999999999999},null,null,{"$f":"IRR(SDY42:SFX42)","v":{"$error":"#NUM!"}},{"$f":"IRRm(SDY42:SFX42)","v":1.0999999999999999},null,null,{"$f":"IRR(SEC42:SGB42)","v":{"$error":"#NUM!"}},{"$f":"IRRm(SEC42:SGB42)","v":1.0999999999999999},null,null,{"$f":"IRR(SEG42:SGF42)","v":{"$error":"#NUM!"}},{"$f":"IRRm(SEG42:SGF42)","v":1.0999999999999999},null,null,{"$f":"IRR(SEK42:SGJ42)","v":{"$error":"#NUM!"}},{"$f":"IRRm(SEK42:SGJ42)","v":1.0999999999999999},null,null,{"$f":"IRR(SEO42:SGN42)","v":{"$error":"#NUM!"}},{"$f":"IRRm(SEO42:SGN42)","v":1.0999999999999999},null,null,{"$f":"IRR(SES42:SGR42)","v":{"$error":"#NUM!"}},{"$f":"IRRm(SES42:SGR42)","v":1.0999999999999999},null,null,{"$f":"IRR(SEW42:SGV42)","v":{"$error":"#NUM!"}},{"$f":"IRRm(SEW42:SGV42)","v":1.0999999999999999},null,null,{"$f":"IRR(SFA42:SGZ42)","v":{"$error":"#NUM!"}},{"$f":"IRRm(SFA42:SGZ42)","v":1.0999999999999999},null,null,{"$f":"IRR(SFE42:SHD42)","v":{"$error":"#NUM!"}},{"$f":"IRRm(SFE42:SHD42)","v":1.0999999999999999},null,null,{"$f":"IRR(SFI42:SHH42)","v":{"$error":"#NUM!"}},{"$f":"IRRm(SFI42:SHH42)","v":1.0999999999999999},null,null,{"$f":"IRR(SFM42:SHL42)","v":{"$error":"#NUM!"}},{"$f":"IRRm(SFM42:SHL42)","v":1.0999999999999999},null,null,{"$f":"IRR(SFQ42:SHP42)","v":{"$error":"#NUM!"}},{"$f":"IRRm(SFQ42:SHP42)","v":1.0999999999999999},null,null,{"$f":"IRR(SFU42:SHT42)","v":{"$error":"#NUM!"}},{"$f":"IRRm(SFU42:SHT42)","v":1.0999999999999999},null,null,{"$f":"IRR(SFY42:SHX42)","v":{"$error":"#NUM!"}},{"$f":"IRRm(SFY42:SHX42)","v":1.0999999999999999},null,null,{"$f":"IRR(SGC42:SIB42)","v":{"$error":"#NUM!"}},{"$f":"IRRm(SGC42:SIB42)","v":1.0999999999999999},null,null,{"$f":"IRR(SGG42:SIF42)","v":{"$error":"#NUM!"}},{"$f":"IRRm(SGG42:SIF42)","v":1.0999999999999999},null,null,{"$f":"IRR(SGK42:SIJ42)","v":{"$error":"#NUM!"}},{"$f":"IRRm(SGK42:SIJ42)","v":1.0999999999999999},null,null,{"$f":"IRR(SGO42:SIN42)","v":{"$error":"#NUM!"}},{"$f":"IRRm(SGO42:SIN42)","v":1.0999999999999999},null,null,{"$f":"IRR(SGS42:SIR42)","v":{"$error":"#NUM!"}},{"$f":"IRRm(SGS42:SIR42)","v":1.0999999999999999},null,null,{"$f":"IRR(SGW42:SIV42)","v":{"$error":"#NUM!"}},{"$f":"IRRm(SGW42:SIV42)","v":1.0999999999999999},null,null,{"$f":"IRR(SHA42:SIZ42)","v":{"$error":"#NUM!"}},{"$f":"IRRm(SHA42:SIZ42)","v":1.0999999999999999},null,null,{"$f":"IRR(SHE42:SJD42)","v":{"$error":"#NUM!"}},{"$f":"IRRm(SHE42:SJD42)","v":1.0999999999999999},null,null,{"$f":"IRR(SHI42:SJH42)","v":{"$error":"#NUM!"}},{"$f":"IRRm(SHI42:SJH42)","v":1.0999999999999999},null,null,{"$f":"IRR(SHM42:SJL42)","v":{"$error":"#NUM!"}},{"$f":"IRRm(SHM42:SJL42)","v":1.0999999999999999},null,null,{"$f":"IRR(SHQ42:SJP42)","v":{"$error":"#NUM!"}},{"$f":"IRRm(SHQ42:SJP42)","v":1.0999999999999999},null,null,{"$f":"IRR(SHU42:SJT42)","v":{"$error":"#NUM!"}},{"$f":"IRRm(SHU42:SJT42)","v":1.0999999999999999},null,null,{"$f":"IRR(SHY42:SJX42)","v":{"$error":"#NUM!"}},{"$f":"IRRm(SHY42:SJX42)","v":1.0999999999999999},null,null,{"$f":"IRR(SIC42:SKB42)","v":{"$error":"#NUM!"}},{"$f":"IRRm(SIC42:SKB42)","v":1.0999999999999999},null,null,{"$f":"IRR(SIG42:SKF42)","v":{"$error":"#NUM!"}},{"$f":"IRRm(SIG42:SKF42)","v":1.0999999999999999},null,null,{"$f":"IRR(SIK42:SKJ42)","v":{"$error":"#NUM!"}},{"$f":"IRRm(SIK42:SKJ42)","v":1.0999999999999999},null,null,{"$f":"IRR(SIO42:SKN42)","v":{"$error":"#NUM!"}},{"$f":"IRRm(SIO42:SKN42)","v":1.0999999999999999},null,null,{"$f":"IRR(SIS42:SKR42)","v":{"$error":"#NUM!"}},{"$f":"IRRm(SIS42:SKR42)","v":1.0999999999999999},null,null,{"$f":"IRR(SIW42:SKV42)","v":{"$error":"#NUM!"}},{"$f":"IRRm(SIW42:SKV42)","v":1.0999999999999999},null,null,{"$f":"IRR(SJA42:SKZ42)","v":{"$error":"#NUM!"}},{"$f":"IRRm(SJA42:SKZ42)","v":1.0999999999999999},null,null,{"$f":"IRR(SJE42:SLD42)","v":{"$error":"#NUM!"}},{"$f":"IRRm(SJE42:SLD42)","v":1.0999999999999999},null,null,{"$f":"IRR(SJI42:SLH42)","v":{"$error":"#NUM!"}},{"$f":"IRRm(SJI42:SLH42)","v":1.0999999999999999},null,null,{"$f":"IRR(SJM42:SLL42)","v":{"$error":"#NUM!"}},{"$f":"IRRm(SJM42:SLL42)","v":1.0999999999999999},null,null,{"$f":"IRR(SJQ42:SLP42)","v":{"$error":"#NUM!"}},{"$f":"IRRm(SJQ42:SLP42)","v":1.0999999999999999},null,null,{"$f":"IRR(SJU42:SLT42)","v":{"$error":"#NUM!"}},{"$f":"IRRm(SJU42:SLT42)","v":1.0999999999999999},null,null,{"$f":"IRR(SJY42:SLX42)","v":{"$error":"#NUM!"}},{"$f":"IRRm(SJY42:SLX42)","v":1.0999999999999999},null,null,{"$f":"IRR(SKC42:SMB42)","v":{"$error":"#NUM!"}},{"$f":"IRRm(SKC42:SMB42)","v":1.0999999999999999},null,null,{"$f":"IRR(SKG42:SMF42)","v":{"$error":"#NUM!"}},{"$f":"IRRm(SKG42:SMF42)","v":1.0999999999999999},null,null,{"$f":"IRR(SKK42:SMJ42)","v":{"$error":"#NUM!"}},{"$f":"IRRm(SKK42:SMJ42)","v":1.0999999999999999},null,null,{"$f":"IRR(SKO42:SMN42)","v":{"$error":"#NUM!"}},{"$f":"IRRm(SKO42:SMN42)","v":1.0999999999999999},null,null,{"$f":"IRR(SKS42:SMR42)","v":{"$error":"#NUM!"}},{"$f":"IRRm(SKS42:SMR42)","v":1.0999999999999999},null,null,{"$f":"IRR(SKW42:SMV42)","v":{"$error":"#NUM!"}},{"$f":"IRRm(SKW42:SMV42)","v":1.0999999999999999},null,null,{"$f":"IRR(SLA42:SMZ42)","v":{"$error":"#NUM!"}},{"$f":"IRRm(SLA42:SMZ42)","v":1.0999999999999999},null,null,{"$f":"IRR(SLE42:SND42)","v":{"$error":"#NUM!"}},{"$f":"IRRm(SLE42:SND42)","v":1.0999999999999999},null,null,{"$f":"IRR(SLI42:SNH42)","v":{"$error":"#NUM!"}},{"$f":"IRRm(SLI42:SNH42)","v":1.0999999999999999},null,null,{"$f":"IRR(SLM42:SNL42)","v":{"$error":"#NUM!"}},{"$f":"IRRm(SLM42:SNL42)","v":1.0999999999999999},null,null,{"$f":"IRR(SLQ42:SNP42)","v":{"$error":"#NUM!"}},{"$f":"IRRm(SLQ42:SNP42)","v":1.0999999999999999},null,null,{"$f":"IRR(SLU42:SNT42)","v":{"$error":"#NUM!"}},{"$f":"IRRm(SLU42:SNT42)","v":1.0999999999999999},null,null,{"$f":"IRR(SLY42:SNX42)","v":{"$error":"#NUM!"}},{"$f":"IRRm(SLY42:SNX42)","v":1.0999999999999999},null,null,{"$f":"IRR(SMC42:SOB42)","v":{"$error":"#NUM!"}},{"$f":"IRRm(SMC42:SOB42)","v":1.0999999999999999},null,null,{"$f":"IRR(SMG42:SOF42)","v":{"$error":"#NUM!"}},{"$f":"IRRm(SMG42:SOF42)","v":1.0999999999999999},null,null,{"$f":"IRR(SMK42:SOJ42)","v":{"$error":"#NUM!"}},{"$f":"IRRm(SMK42:SOJ42)","v":1.0999999999999999},null,null,{"$f":"IRR(SMO42:SON42)","v":{"$error":"#NUM!"}},{"$f":"IRRm(SMO42:SON42)","v":1.0999999999999999},null,null,{"$f":"IRR(SMS42:SOR42)","v":{"$error":"#NUM!"}},{"$f":"IRRm(SMS42:SOR42)","v":1.0999999999999999},null,null,{"$f":"IRR(SMW42:SOV42)","v":{"$error":"#NUM!"}},{"$f":"IRRm(SMW42:SOV42)","v":1.0999999999999999},null,null,{"$f":"IRR(SNA42:SOZ42)","v":{"$error":"#NUM!"}},{"$f":"IRRm(SNA42:SOZ42)","v":1.0999999999999999},null,null,{"$f":"IRR(SNE42:SPD42)","v":{"$error":"#NUM!"}},{"$f":"IRRm(SNE42:SPD42)","v":1.0999999999999999},null,null,{"$f":"IRR(SNI42:SPH42)","v":{"$error":"#NUM!"}},{"$f":"IRRm(SNI42:SPH42)","v":1.0999999999999999},null,null,{"$f":"IRR(SNM42:SPL42)","v":{"$error":"#NUM!"}},{"$f":"IRRm(SNM42:SPL42)","v":1.0999999999999999},null,null,{"$f":"IRR(SNQ42:SPP42)","v":{"$error":"#NUM!"}},{"$f":"IRRm(SNQ42:SPP42)","v":1.0999999999999999},null,null,{"$f":"IRR(SNU42:SPT42)","v":{"$error":"#NUM!"}},{"$f":"IRRm(SNU42:SPT42)","v":1.0999999999999999},null,null,{"$f":"IRR(SNY42:SPX42)","v":{"$error":"#NUM!"}},{"$f":"IRRm(SNY42:SPX42)","v":1.0999999999999999},null,null,{"$f":"IRR(SOC42:SQB42)","v":{"$error":"#NUM!"}},{"$f":"IRRm(SOC42:SQB42)","v":1.0999999999999999},null,null,{"$f":"IRR(SOG42:SQF42)","v":{"$error":"#NUM!"}},{"$f":"IRRm(SOG42:SQF42)","v":1.0999999999999999},null,null,{"$f":"IRR(SOK42:SQJ42)","v":{"$error":"#NUM!"}},{"$f":"IRRm(SOK42:SQJ42)","v":1.0999999999999999},null,null,{"$f":"IRR(SOO42:SQN42)","v":{"$error":"#NUM!"}},{"$f":"IRRm(SOO42:SQN42)","v":1.0999999999999999},null,null,{"$f":"IRR(SOS42:SQR42)","v":{"$error":"#NUM!"}},{"$f":"IRRm(SOS42:SQR42)","v":1.0999999999999999},null,null,{"$f":"IRR(SOW42:SQV42)","v":{"$error":"#NUM!"}},{"$f":"IRRm(SOW42:SQV42)","v":1.0999999999999999},null,null,{"$f":"IRR(SPA42:SQZ42)","v":{"$error":"#NUM!"}},{"$f":"IRRm(SPA42:SQZ42)","v":1.0999999999999999},null,null,{"$f":"IRR(SPE42:SRD42)","v":{"$error":"#NUM!"}},{"$f":"IRRm(SPE42:SRD42)","v":1.0999999999999999},null,null,{"$f":"IRR(SPI42:SRH42)","v":{"$error":"#NUM!"}},{"$f":"IRRm(SPI42:SRH42)","v":1.0999999999999999},null,null,{"$f":"IRR(SPM42:SRL42)","v":{"$error":"#NUM!"}},{"$f":"IRRm(SPM42:SRL42)","v":1.0999999999999999},null,null,{"$f":"IRR(SPQ42:SRP42)","v":{"$error":"#NUM!"}},{"$f":"IRRm(SPQ42:SRP42)","v":1.0999999999999999},null,null,{"$f":"IRR(SPU42:SRT42)","v":{"$error":"#NUM!"}},{"$f":"IRRm(SPU42:SRT42)","v":1.0999999999999999},null,null,{"$f":"IRR(SPY42:SRX42)","v":{"$error":"#NUM!"}},{"$f":"IRRm(SPY42:SRX42)","v":1.0999999999999999},null,null,{"$f":"IRR(SQC42:SSB42)","v":{"$error":"#NUM!"}},{"$f":"IRRm(SQC42:SSB42)","v":1.0999999999999999},null,null,{"$f":"IRR(SQG42:SSF42)","v":{"$error":"#NUM!"}},{"$f":"IRRm(SQG42:SSF42)","v":1.0999999999999999},null,null,{"$f":"IRR(SQK42:SSJ42)","v":{"$error":"#NUM!"}},{"$f":"IRRm(SQK42:SSJ42)","v":1.0999999999999999},null,null,{"$f":"IRR(SQO42:SSN42)","v":{"$error":"#NUM!"}},{"$f":"IRRm(SQO42:SSN42)","v":1.0999999999999999},null,null,{"$f":"IRR(SQS42:SSR42)","v":{"$error":"#NUM!"}},{"$f":"IRRm(SQS42:SSR42)","v":1.0999999999999999},null,null,{"$f":"IRR(SQW42:SSV42)","v":{"$error":"#NUM!"}},{"$f":"IRRm(SQW42:SSV42)","v":1.0999999999999999},null,null,{"$f":"IRR(SRA42:SSZ42)","v":{"$error":"#NUM!"}},{"$f":"IRRm(SRA42:SSZ42)","v":1.0999999999999999},null,null,{"$f":"IRR(SRE42:STD42)","v":{"$error":"#NUM!"}},{"$f":"IRRm(SRE42:STD42)","v":1.0999999999999999},null,null,{"$f":"IRR(SRI42:STH42)","v":{"$error":"#NUM!"}},{"$f":"IRRm(SRI42:STH42)","v":1.0999999999999999},null,null,{"$f":"IRR(SRM42:STL42)","v":{"$error":"#NUM!"}},{"$f":"IRRm(SRM42:STL42)","v":1.0999999999999999},null,null,{"$f":"IRR(SRQ42:STP42)","v":{"$error":"#NUM!"}},{"$f":"IRRm(SRQ42:STP42)","v":1.0999999999999999},null,null,{"$f":"IRR(SRU42:STT42)","v":{"$error":"#NUM!"}},{"$f":"IRRm(SRU42:STT42)","v":1.0999999999999999},null,null,{"$f":"IRR(SRY42:STX42)","v":{"$error":"#NUM!"}},{"$f":"IRRm(SRY42:STX42)","v":1.0999999999999999},null,null,{"$f":"IRR(SSC42:SUB42)","v":{"$error":"#NUM!"}},{"$f":"IRRm(SSC42:SUB42)","v":1.0999999999999999},null,null,{"$f":"IRR(SSG42:SUF42)","v":{"$error":"#NUM!"}},{"$f":"IRRm(SSG42:SUF42)","v":1.0999999999999999},null,null,{"$f":"IRR(SSK42:SUJ42)","v":{"$error":"#NUM!"}},{"$f":"IRRm(SSK42:SUJ42)","v":1.0999999999999999},null,null,{"$f":"IRR(SSO42:SUN42)","v":{"$error":"#NUM!"}},{"$f":"IRRm(SSO42:SUN42)","v":1.0999999999999999},null,null,{"$f":"IRR(SSS42:SUR42)","v":{"$error":"#NUM!"}},{"$f":"IRRm(SSS42:SUR42)","v":1.0999999999999999},null,null,{"$f":"IRR(SSW42:SUV42)","v":{"$error":"#NUM!"}},{"$f":"IRRm(SSW42:SUV42)","v":1.0999999999999999},null,null,{"$f":"IRR(STA42:SUZ42)","v":{"$error":"#NUM!"}},{"$f":"IRRm(STA42:SUZ42)","v":1.0999999999999999},null,null,{"$f":"IRR(STE42:SVD42)","v":{"$error":"#NUM!"}},{"$f":"IRRm(STE42:SVD42)","v":1.0999999999999999},null,null,{"$f":"IRR(STI42:SVH42)","v":{"$error":"#NUM!"}},{"$f":"IRRm(STI42:SVH42)","v":1.0999999999999999},null,null,{"$f":"IRR(STM42:SVL42)","v":{"$error":"#NUM!"}},{"$f":"IRRm(STM42:SVL42)","v":1.0999999999999999},null,null,{"$f":"IRR(STQ42:SVP42)","v":{"$error":"#NUM!"}},{"$f":"IRRm(STQ42:SVP42)","v":1.0999999999999999},null,null,{"$f":"IRR(STU42:SVT42)","v":{"$error":"#NUM!"}},{"$f":"IRRm(STU42:SVT42)","v":1.0999999999999999},null,null,{"$f":"IRR(STY42:SVX42)","v":{"$error":"#NUM!"}},{"$f":"IRRm(STY42:SVX42)","v":1.0999999999999999},null,null,{"$f":"IRR(SUC42:SWB42)","v":{"$error":"#NUM!"}},{"$f":"IRRm(SUC42:SWB42)","v":1.0999999999999999},null,null,{"$f":"IRR(SUG42:SWF42)","v":{"$error":"#NUM!"}},{"$f":"IRRm(SUG42:SWF42)","v":1.0999999999999999},null,null,{"$f":"IRR(SUK42:SWJ42)","v":{"$error":"#NUM!"}},{"$f":"IRRm(SUK42:SWJ42)","v":1.0999999999999999},null,null,{"$f":"IRR(SUO42:SWN42)","v":{"$error":"#NUM!"}},{"$f":"IRRm(SUO42:SWN42)","v":1.0999999999999999},null,null,{"$f":"IRR(SUS42:SWR42)","v":{"$error":"#NUM!"}},{"$f":"IRRm(SUS42:SWR42)","v":1.0999999999999999},null,null,{"$f":"IRR(SUW42:SWV42)","v":{"$error":"#NUM!"}},{"$f":"IRRm(SUW42:SWV42)","v":1.0999999999999999},null,null,{"$f":"IRR(SVA42:SWZ42)","v":{"$error":"#NUM!"}},{"$f":"IRRm(SVA42:SWZ42)","v":1.0999999999999999},null,null,{"$f":"IRR(SVE42:SXD42)","v":{"$error":"#NUM!"}},{"$f":"IRRm(SVE42:SXD42)","v":1.0999999999999999},null,null,{"$f":"IRR(SVI42:SXH42)","v":{"$error":"#NUM!"}},{"$f":"IRRm(SVI42:SXH42)","v":1.0999999999999999},null,null,{"$f":"IRR(SVM42:SXL42)","v":{"$error":"#NUM!"}},{"$f":"IRRm(SVM42:SXL42)","v":1.0999999999999999},null,null,{"$f":"IRR(SVQ42:SXP42)","v":{"$error":"#NUM!"}},{"$f":"IRRm(SVQ42:SXP42)","v":1.0999999999999999},null,null,{"$f":"IRR(SVU42:SXT42)","v":{"$error":"#NUM!"}},{"$f":"IRRm(SVU42:SXT42)","v":1.0999999999999999},null,null,{"$f":"IRR(SVY42:SXX42)","v":{"$error":"#NUM!"}},{"$f":"IRRm(SVY42:SXX42)","v":1.0999999999999999},null,null,{"$f":"IRR(SWC42:SYB42)","v":{"$error":"#NUM!"}},{"$f":"IRRm(SWC42:SYB42)","v":1.0999999999999999},null,null,{"$f":"IRR(SWG42:SYF42)","v":{"$error":"#NUM!"}},{"$f":"IRRm(SWG42:SYF42)","v":1.0999999999999999},null,null,{"$f":"IRR(SWK42:SYJ42)","v":{"$error":"#NUM!"}},{"$f":"IRRm(SWK42:SYJ42)","v":1.0999999999999999},null,null,{"$f":"IRR(SWO42:SYN42)","v":{"$error":"#NUM!"}},{"$f":"IRRm(SWO42:SYN42)","v":1.0999999999999999},null,null,{"$f":"IRR(SWS42:SYR42)","v":{"$error":"#NUM!"}},{"$f":"IRRm(SWS42:SYR42)","v":1.0999999999999999},null,null,{"$f":"IRR(SWW42:SYV42)","v":{"$error":"#NUM!"}},{"$f":"IRRm(SWW42:SYV42)","v":1.0999999999999999},null,null,{"$f":"IRR(SXA42:SYZ42)","v":{"$error":"#NUM!"}},{"$f":"IRRm(SXA42:SYZ42)","v":1.0999999999999999},null,null,{"$f":"IRR(SXE42:SZD42)","v":{"$error":"#NUM!"}},{"$f":"IRRm(SXE42:SZD42)","v":1.0999999999999999},null,null,{"$f":"IRR(SXI42:SZH42)","v":{"$error":"#NUM!"}},{"$f":"IRRm(SXI42:SZH42)","v":1.0999999999999999},null,null,{"$f":"IRR(SXM42:SZL42)","v":{"$error":"#NUM!"}},{"$f":"IRRm(SXM42:SZL42)","v":1.0999999999999999},null,null,{"$f":"IRR(SXQ42:SZP42)","v":{"$error":"#NUM!"}},{"$f":"IRRm(SXQ42:SZP42)","v":1.0999999999999999},null,null,{"$f":"IRR(SXU42:SZT42)","v":{"$error":"#NUM!"}},{"$f":"IRRm(SXU42:SZT42)","v":1.0999999999999999},null,null,{"$f":"IRR(SXY42:SZX42)","v":{"$error":"#NUM!"}},{"$f":"IRRm(SXY42:SZX42)","v":1.0999999999999999},null,null,{"$f":"IRR(SYC42:TAB42)","v":{"$error":"#NUM!"}},{"$f":"IRRm(SYC42:TAB42)","v":1.0999999999999999},null,null,{"$f":"IRR(SYG42:TAF42)","v":{"$error":"#NUM!"}},{"$f":"IRRm(SYG42:TAF42)","v":1.0999999999999999},null,null,{"$f":"IRR(SYK42:TAJ42)","v":{"$error":"#NUM!"}},{"$f":"IRRm(SYK42:TAJ42)","v":1.0999999999999999},null,null,{"$f":"IRR(SYO42:TAN42)","v":{"$error":"#NUM!"}},{"$f":"IRRm(SYO42:TAN42)","v":1.0999999999999999},null,null,{"$f":"IRR(SYS42:TAR42)","v":{"$error":"#NUM!"}},{"$f":"IRRm(SYS42:TAR42)","v":1.0999999999999999},null,null,{"$f":"IRR(SYW42:TAV42)","v":{"$error":"#NUM!"}},{"$f":"IRRm(SYW42:TAV42)","v":1.0999999999999999},null,null,{"$f":"IRR(SZA42:TAZ42)","v":{"$error":"#NUM!"}},{"$f":"IRRm(SZA42:TAZ42)","v":1.0999999999999999},null,null,{"$f":"IRR(SZE42:TBD42)","v":{"$error":"#NUM!"}},{"$f":"IRRm(SZE42:TBD42)","v":1.0999999999999999},null,null,{"$f":"IRR(SZI42:TBH42)","v":{"$error":"#NUM!"}},{"$f":"IRRm(SZI42:TBH42)","v":1.0999999999999999},null,null,{"$f":"IRR(SZM42:TBL42)","v":{"$error":"#NUM!"}},{"$f":"IRRm(SZM42:TBL42)","v":1.0999999999999999},null,null,{"$f":"IRR(SZQ42:TBP42)","v":{"$error":"#NUM!"}},{"$f":"IRRm(SZQ42:TBP42)","v":1.0999999999999999},null,null,{"$f":"IRR(SZU42:TBT42)","v":{"$error":"#NUM!"}},{"$f":"IRRm(SZU42:TBT42)","v":1.0999999999999999},null,null,{"$f":"IRR(SZY42:TBX42)","v":{"$error":"#NUM!"}},{"$f":"IRRm(SZY42:TBX42)","v":1.0999999999999999},null,null,{"$f":"IRR(TAC42:TCB42)","v":{"$error":"#NUM!"}},{"$f":"IRRm(TAC42:TCB42)","v":1.0999999999999999},null,null,{"$f":"IRR(TAG42:TCF42)","v":{"$error":"#NUM!"}},{"$f":"IRRm(TAG42:TCF42)","v":1.0999999999999999},null,null,{"$f":"IRR(TAK42:TCJ42)","v":{"$error":"#NUM!"}},{"$f":"IRRm(TAK42:TCJ42)","v":1.0999999999999999},null,null,{"$f":"IRR(TAO42:TCN42)","v":{"$error":"#NUM!"}},{"$f":"IRRm(TAO42:TCN42)","v":1.0999999999999999},null,null,{"$f":"IRR(TAS42:TCR42)","v":{"$error":"#NUM!"}},{"$f":"IRRm(TAS42:TCR42)","v":1.0999999999999999},null,null,{"$f":"IRR(TAW42:TCV42)","v":{"$error":"#NUM!"}},{"$f":"IRRm(TAW42:TCV42)","v":1.0999999999999999},null,null,{"$f":"IRR(TBA42:TCZ42)","v":{"$error":"#NUM!"}},{"$f":"IRRm(TBA42:TCZ42)","v":1.0999999999999999},null,null,{"$f":"IRR(TBE42:TDD42)","v":{"$error":"#NUM!"}},{"$f":"IRRm(TBE42:TDD42)","v":1.0999999999999999},null,null,{"$f":"IRR(TBI42:TDH42)","v":{"$error":"#NUM!"}},{"$f":"IRRm(TBI42:TDH42)","v":1.0999999999999999},null,null,{"$f":"IRR(TBM42:TDL42)","v":{"$error":"#NUM!"}},{"$f":"IRRm(TBM42:TDL42)","v":1.0999999999999999},null,null,{"$f":"IRR(TBQ42:TDP42)","v":{"$error":"#NUM!"}},{"$f":"IRRm(TBQ42:TDP42)","v":1.0999999999999999},null,null,{"$f":"IRR(TBU42:TDT42)","v":{"$error":"#NUM!"}},{"$f":"IRRm(TBU42:TDT42)","v":1.0999999999999999},null,null,{"$f":"IRR(TBY42:TDX42)","v":{"$error":"#NUM!"}},{"$f":"IRRm(TBY42:TDX42)","v":1.0999999999999999},null,null,{"$f":"IRR(TCC42:TEB42)","v":{"$error":"#NUM!"}},{"$f":"IRRm(TCC42:TEB42)","v":1.0999999999999999},null,null,{"$f":"IRR(TCG42:TEF42)","v":{"$error":"#NUM!"}},{"$f":"IRRm(TCG42:TEF42)","v":1.0999999999999999},null,null,{"$f":"IRR(TCK42:TEJ42)","v":{"$error":"#NUM!"}},{"$f":"IRRm(TCK42:TEJ42)","v":1.0999999999999999},null,null,{"$f":"IRR(TCO42:TEN42)","v":{"$error":"#NUM!"}},{"$f":"IRRm(TCO42:TEN42)","v":1.0999999999999999},null,null,{"$f":"IRR(TCS42:TER42)","v":{"$error":"#NUM!"}},{"$f":"IRRm(TCS42:TER42)","v":1.0999999999999999},null,null,{"$f":"IRR(TCW42:TEV42)","v":{"$error":"#NUM!"}},{"$f":"IRRm(TCW42:TEV42)","v":1.0999999999999999},null,null,{"$f":"IRR(TDA42:TEZ42)","v":{"$error":"#NUM!"}},{"$f":"IRRm(TDA42:TEZ42)","v":1.0999999999999999},null,null,{"$f":"IRR(TDE42:TFD42)","v":{"$error":"#NUM!"}},{"$f":"IRRm(TDE42:TFD42)","v":1.0999999999999999},null,null,{"$f":"IRR(TDI42:TFH42)","v":{"$error":"#NUM!"}},{"$f":"IRRm(TDI42:TFH42)","v":1.0999999999999999},null,null,{"$f":"IRR(TDM42:TFL42)","v":{"$error":"#NUM!"}},{"$f":"IRRm(TDM42:TFL42)","v":1.0999999999999999},null,null,{"$f":"IRR(TDQ42:TFP42)","v":{"$error":"#NUM!"}},{"$f":"IRRm(TDQ42:TFP42)","v":1.0999999999999999},null,null,{"$f":"IRR(TDU42:TFT42)","v":{"$error":"#NUM!"}},{"$f":"IRRm(TDU42:TFT42)","v":1.0999999999999999},null,null,{"$f":"IRR(TDY42:TFX42)","v":{"$error":"#NUM!"}},{"$f":"IRRm(TDY42:TFX42)","v":1.0999999999999999},null,null,{"$f":"IRR(TEC42:TGB42)","v":{"$error":"#NUM!"}},{"$f":"IRRm(TEC42:TGB42)","v":1.0999999999999999},null,null,{"$f":"IRR(TEG42:TGF42)","v":{"$error":"#NUM!"}},{"$f":"IRRm(TEG42:TGF42)","v":1.0999999999999999},null,null,{"$f":"IRR(TEK42:TGJ42)","v":{"$error":"#NUM!"}},{"$f":"IRRm(TEK42:TGJ42)","v":1.0999999999999999},null,null,{"$f":"IRR(TEO42:TGN42)","v":{"$error":"#NUM!"}},{"$f":"IRRm(TEO42:TGN42)","v":1.0999999999999999},null,null,{"$f":"IRR(TES42:TGR42)","v":{"$error":"#NUM!"}},{"$f":"IRRm(TES42:TGR42)","v":1.0999999999999999},null,null,{"$f":"IRR(TEW42:TGV42)","v":{"$error":"#NUM!"}},{"$f":"IRRm(TEW42:TGV42)","v":1.0999999999999999},null,null,{"$f":"IRR(TFA42:TGZ42)","v":{"$error":"#NUM!"}},{"$f":"IRRm(TFA42:TGZ42)","v":1.0999999999999999},null,null,{"$f":"IRR(TFE42:THD42)","v":{"$error":"#NUM!"}},{"$f":"IRRm(TFE42:THD42)","v":1.0999999999999999},null,null,{"$f":"IRR(TFI42:THH42)","v":{"$error":"#NUM!"}},{"$f":"IRRm(TFI42:THH42)","v":1.0999999999999999},null,null,{"$f":"IRR(TFM42:THL42)","v":{"$error":"#NUM!"}},{"$f":"IRRm(TFM42:THL42)","v":1.0999999999999999},null,null,{"$f":"IRR(TFQ42:THP42)","v":{"$error":"#NUM!"}},{"$f":"IRRm(TFQ42:THP42)","v":1.0999999999999999},null,null,{"$f":"IRR(TFU42:THT42)","v":{"$error":"#NUM!"}},{"$f":"IRRm(TFU42:THT42)","v":1.0999999999999999},null,null,{"$f":"IRR(TFY42:THX42)","v":{"$error":"#NUM!"}},{"$f":"IRRm(TFY42:THX42)","v":1.0999999999999999},null,null,{"$f":"IRR(TGC42:TIB42)","v":{"$error":"#NUM!"}},{"$f":"IRRm(TGC42:TIB42)","v":1.0999999999999999},null,null,{"$f":"IRR(TGG42:TIF42)","v":{"$error":"#NUM!"}},{"$f":"IRRm(TGG42:TIF42)","v":1.0999999999999999},null,null,{"$f":"IRR(TGK42:TIJ42)","v":{"$error":"#NUM!"}},{"$f":"IRRm(TGK42:TIJ42)","v":1.0999999999999999},null,null,{"$f":"IRR(TGO42:TIN42)","v":{"$error":"#NUM!"}},{"$f":"IRRm(TGO42:TIN42)","v":1.0999999999999999},null,null,{"$f":"IRR(TGS42:TIR42)","v":{"$error":"#NUM!"}},{"$f":"IRRm(TGS42:TIR42)","v":1.0999999999999999},null,null,{"$f":"IRR(TGW42:TIV42)","v":{"$error":"#NUM!"}},{"$f":"IRRm(TGW42:TIV42)","v":1.0999999999999999},null,null,{"$f":"IRR(THA42:TIZ42)","v":{"$error":"#NUM!"}},{"$f":"IRRm(THA42:TIZ42)","v":1.0999999999999999},null,null,{"$f":"IRR(THE42:TJD42)","v":{"$error":"#NUM!"}},{"$f":"IRRm(THE42:TJD42)","v":1.0999999999999999},null,null,{"$f":"IRR(THI42:TJH42)","v":{"$error":"#NUM!"}},{"$f":"IRRm(THI42:TJH42)","v":1.0999999999999999},null,null,{"$f":"IRR(THM42:TJL42)","v":{"$error":"#NUM!"}},{"$f":"IRRm(THM42:TJL42)","v":1.0999999999999999},null,null,{"$f":"IRR(THQ42:TJP42)","v":{"$error":"#NUM!"}},{"$f":"IRRm(THQ42:TJP42)","v":1.0999999999999999},null,null,{"$f":"IRR(THU42:TJT42)","v":{"$error":"#NUM!"}},{"$f":"IRRm(THU42:TJT42)","v":1.0999999999999999},null,null,{"$f":"IRR(THY42:TJX42)","v":{"$error":"#NUM!"}},{"$f":"IRRm(THY42:TJX42)","v":1.0999999999999999},null,null,{"$f":"IRR(TIC42:TKB42)","v":{"$error":"#NUM!"}},{"$f":"IRRm(TIC42:TKB42)","v":1.0999999999999999},null,null,{"$f":"IRR(TIG42:TKF42)","v":{"$error":"#NUM!"}},{"$f":"IRRm(TIG42:TKF42)","v":1.0999999999999999},null,null,{"$f":"IRR(TIK42:TKJ42)","v":{"$error":"#NUM!"}},{"$f":"IRRm(TIK42:TKJ42)","v":1.0999999999999999},null,null,{"$f":"IRR(TIO42:TKN42)","v":{"$error":"#NUM!"}},{"$f":"IRRm(TIO42:TKN42)","v":1.0999999999999999},null,null,{"$f":"IRR(TIS42:TKR42)","v":{"$error":"#NUM!"}},{"$f":"IRRm(TIS42:TKR42)","v":1.0999999999999999},null,null,{"$f":"IRR(TIW42:TKV42)","v":{"$error":"#NUM!"}},{"$f":"IRRm(TIW42:TKV42)","v":1.0999999999999999},null,null,{"$f":"IRR(TJA42:TKZ42)","v":{"$error":"#NUM!"}},{"$f":"IRRm(TJA42:TKZ42)","v":1.0999999999999999},null,null,{"$f":"IRR(TJE42:TLD42)","v":{"$error":"#NUM!"}},{"$f":"IRRm(TJE42:TLD42)","v":1.0999999999999999},null,null,{"$f":"IRR(TJI42:TLH42)","v":{"$error":"#NUM!"}},{"$f":"IRRm(TJI42:TLH42)","v":1.0999999999999999},null,null,{"$f":"IRR(TJM42:TLL42)","v":{"$error":"#NUM!"}},{"$f":"IRRm(TJM42:TLL42)","v":1.0999999999999999},null,null,{"$f":"IRR(TJQ42:TLP42)","v":{"$error":"#NUM!"}},{"$f":"IRRm(TJQ42:TLP42)","v":1.0999999999999999},null,null,{"$f":"IRR(TJU42:TLT42)","v":{"$error":"#NUM!"}},{"$f":"IRRm(TJU42:TLT42)","v":1.0999999999999999},null,null,{"$f":"IRR(TJY42:TLX42)","v":{"$error":"#NUM!"}},{"$f":"IRRm(TJY42:TLX42)","v":1.0999999999999999},null,null,{"$f":"IRR(TKC42:TMB42)","v":{"$error":"#NUM!"}},{"$f":"IRRm(TKC42:TMB42)","v":1.0999999999999999},null,null,{"$f":"IRR(TKG42:TMF42)","v":{"$error":"#NUM!"}},{"$f":"IRRm(TKG42:TMF42)","v":1.0999999999999999},null,null,{"$f":"IRR(TKK42:TMJ42)","v":{"$error":"#NUM!"}},{"$f":"IRRm(TKK42:TMJ42)","v":1.0999999999999999},null,null,{"$f":"IRR(TKO42:TMN42)","v":{"$error":"#NUM!"}},{"$f":"IRRm(TKO42:TMN42)","v":1.0999999999999999},null,null,{"$f":"IRR(TKS42:TMR42)","v":{"$error":"#NUM!"}},{"$f":"IRRm(TKS42:TMR42)","v":1.0999999999999999},null,null,{"$f":"IRR(TKW42:TMV42)","v":{"$error":"#NUM!"}},{"$f":"IRRm(TKW42:TMV42)","v":1.0999999999999999},null,null,{"$f":"IRR(TLA42:TMZ42)","v":{"$error":"#NUM!"}},{"$f":"IRRm(TLA42:TMZ42)","v":1.0999999999999999},null,null,{"$f":"IRR(TLE42:TND42)","v":{"$error":"#NUM!"}},{"$f":"IRRm(TLE42:TND42)","v":1.0999999999999999},null,null,{"$f":"IRR(TLI42:TNH42)","v":{"$error":"#NUM!"}},{"$f":"IRRm(TLI42:TNH42)","v":1.0999999999999999},null,null,{"$f":"IRR(TLM42:TNL42)","v":{"$error":"#NUM!"}},{"$f":"IRRm(TLM42:TNL42)","v":1.0999999999999999},null,null,{"$f":"IRR(TLQ42:TNP42)","v":{"$error":"#NUM!"}},{"$f":"IRRm(TLQ42:TNP42)","v":1.0999999999999999},null,null,{"$f":"IRR(TLU42:TNT42)","v":{"$error":"#NUM!"}},{"$f":"IRRm(TLU42:TNT42)","v":1.0999999999999999},null,null,{"$f":"IRR(TLY42:TNX42)","v":{"$error":"#NUM!"}},{"$f":"IRRm(TLY42:TNX42)","v":1.0999999999999999},null,null,{"$f":"IRR(TMC42:TOB42)","v":{"$error":"#NUM!"}},{"$f":"IRRm(TMC42:TOB42)","v":1.0999999999999999},null,null,{"$f":"IRR(TMG42:TOF42)","v":{"$error":"#NUM!"}},{"$f":"IRRm(TMG42:TOF42)","v":1.0999999999999999},null,null,{"$f":"IRR(TMK42:TOJ42)","v":{"$error":"#NUM!"}},{"$f":"IRRm(TMK42:TOJ42)","v":1.0999999999999999},null,null,{"$f":"IRR(TMO42:TON42)","v":{"$error":"#NUM!"}},{"$f":"IRRm(TMO42:TON42)","v":1.0999999999999999},null,null,{"$f":"IRR(TMS42:TOR42)","v":{"$error":"#NUM!"}},{"$f":"IRRm(TMS42:TOR42)","v":1.0999999999999999},null,null,{"$f":"IRR(TMW42:TOV42)","v":{"$error":"#NUM!"}},{"$f":"IRRm(TMW42:TOV42)","v":1.0999999999999999},null,null,{"$f":"IRR(TNA42:TOZ42)","v":{"$error":"#NUM!"}},{"$f":"IRRm(TNA42:TOZ42)","v":1.0999999999999999},null,null,{"$f":"IRR(TNE42:TPD42)","v":{"$error":"#NUM!"}},{"$f":"IRRm(TNE42:TPD42)","v":1.0999999999999999},null,null,{"$f":"IRR(TNI42:TPH42)","v":{"$error":"#NUM!"}},{"$f":"IRRm(TNI42:TPH42)","v":1.0999999999999999},null,null,{"$f":"IRR(TNM42:TPL42)","v":{"$error":"#NUM!"}},{"$f":"IRRm(TNM42:TPL42)","v":1.0999999999999999},null,null,{"$f":"IRR(TNQ42:TPP42)","v":{"$error":"#NUM!"}},{"$f":"IRRm(TNQ42:TPP42)","v":1.0999999999999999},null,null,{"$f":"IRR(TNU42:TPT42)","v":{"$error":"#NUM!"}},{"$f":"IRRm(TNU42:TPT42)","v":1.0999999999999999},null,null,{"$f":"IRR(TNY42:TPX42)","v":{"$error":"#NUM!"}},{"$f":"IRRm(TNY42:TPX42)","v":1.0999999999999999},null,null,{"$f":"IRR(TOC42:TQB42)","v":{"$error":"#NUM!"}},{"$f":"IRRm(TOC42:TQB42)","v":1.0999999999999999},null,null,{"$f":"IRR(TOG42:TQF42)","v":{"$error":"#NUM!"}},{"$f":"IRRm(TOG42:TQF42)","v":1.0999999999999999},null,null,{"$f":"IRR(TOK42:TQJ42)","v":{"$error":"#NUM!"}},{"$f":"IRRm(TOK42:TQJ42)","v":1.0999999999999999},null,null,{"$f":"IRR(TOO42:TQN42)","v":{"$error":"#NUM!"}},{"$f":"IRRm(TOO42:TQN42)","v":1.0999999999999999},null,null,{"$f":"IRR(TOS42:TQR42)","v":{"$error":"#NUM!"}},{"$f":"IRRm(TOS42:TQR42)","v":1.0999999999999999},null,null,{"$f":"IRR(TOW42:TQV42)","v":{"$error":"#NUM!"}},{"$f":"IRRm(TOW42:TQV42)","v":1.0999999999999999},null,null,{"$f":"IRR(TPA42:TQZ42)","v":{"$error":"#NUM!"}},{"$f":"IRRm(TPA42:TQZ42)","v":1.0999999999999999},null,null,{"$f":"IRR(TPE42:TRD42)","v":{"$error":"#NUM!"}},{"$f":"IRRm(TPE42:TRD42)","v":1.0999999999999999},null,null,{"$f":"IRR(TPI42:TRH42)","v":{"$error":"#NUM!"}},{"$f":"IRRm(TPI42:TRH42)","v":1.0999999999999999},null,null,{"$f":"IRR(TPM42:TRL42)","v":{"$error":"#NUM!"}},{"$f":"IRRm(TPM42:TRL42)","v":1.0999999999999999},null,null,{"$f":"IRR(TPQ42:TRP42)","v":{"$error":"#NUM!"}},{"$f":"IRRm(TPQ42:TRP42)","v":1.0999999999999999},null,null,{"$f":"IRR(TPU42:TRT42)","v":{"$error":"#NUM!"}},{"$f":"IRRm(TPU42:TRT42)","v":1.0999999999999999},null,null,{"$f":"IRR(TPY42:TRX42)","v":{"$error":"#NUM!"}},{"$f":"IRRm(TPY42:TRX42)","v":1.0999999999999999},null,null,{"$f":"IRR(TQC42:TSB42)","v":{"$error":"#NUM!"}},{"$f":"IRRm(TQC42:TSB42)","v":1.0999999999999999},null,null,{"$f":"IRR(TQG42:TSF42)","v":{"$error":"#NUM!"}},{"$f":"IRRm(TQG42:TSF42)","v":1.0999999999999999},null,null,{"$f":"IRR(TQK42:TSJ42)","v":{"$error":"#NUM!"}},{"$f":"IRRm(TQK42:TSJ42)","v":1.0999999999999999},null,null,{"$f":"IRR(TQO42:TSN42)","v":{"$error":"#NUM!"}},{"$f":"IRRm(TQO42:TSN42)","v":1.0999999999999999},null,null,{"$f":"IRR(TQS42:TSR42)","v":{"$error":"#NUM!"}},{"$f":"IRRm(TQS42:TSR42)","v":1.0999999999999999},null,null,{"$f":"IRR(TQW42:TSV42)","v":{"$error":"#NUM!"}},{"$f":"IRRm(TQW42:TSV42)","v":1.0999999999999999},null,null,{"$f":"IRR(TRA42:TSZ42)","v":{"$error":"#NUM!"}},{"$f":"IRRm(TRA42:TSZ42)","v":1.0999999999999999},null,null,{"$f":"IRR(TRE42:TTD42)","v":{"$error":"#NUM!"}},{"$f":"IRRm(TRE42:TTD42)","v":1.0999999999999999},null,null,{"$f":"IRR(TRI42:TTH42)","v":{"$error":"#NUM!"}},{"$f":"IRRm(TRI42:TTH42)","v":1.0999999999999999},null,null,{"$f":"IRR(TRM42:TTL42)","v":{"$error":"#NUM!"}},{"$f":"IRRm(TRM42:TTL42)","v":1.0999999999999999},null,null,{"$f":"IRR(TRQ42:TTP42)","v":{"$error":"#NUM!"}},{"$f":"IRRm(TRQ42:TTP42)","v":1.0999999999999999},null,null,{"$f":"IRR(TRU42:TTT42)","v":{"$error":"#NUM!"}},{"$f":"IRRm(TRU42:TTT42)","v":1.0999999999999999},null,null,{"$f":"IRR(TRY42:TTX42)","v":{"$error":"#NUM!"}},{"$f":"IRRm(TRY42:TTX42)","v":1.0999999999999999},null,null,{"$f":"IRR(TSC42:TUB42)","v":{"$error":"#NUM!"}},{"$f":"IRRm(TSC42:TUB42)","v":1.0999999999999999},null,null,{"$f":"IRR(TSG42:TUF42)","v":{"$error":"#NUM!"}},{"$f":"IRRm(TSG42:TUF42)","v":1.0999999999999999},null,null,{"$f":"IRR(TSK42:TUJ42)","v":{"$error":"#NUM!"}},{"$f":"IRRm(TSK42:TUJ42)","v":1.0999999999999999},null,null,{"$f":"IRR(TSO42:TUN42)","v":{"$error":"#NUM!"}},{"$f":"IRRm(TSO42:TUN42)","v":1.0999999999999999},null,null,{"$f":"IRR(TSS42:TUR42)","v":{"$error":"#NUM!"}},{"$f":"IRRm(TSS42:TUR42)","v":1.0999999999999999},null,null,{"$f":"IRR(TSW42:TUV42)","v":{"$error":"#NUM!"}},{"$f":"IRRm(TSW42:TUV42)","v":1.0999999999999999},null,null,{"$f":"IRR(TTA42:TUZ42)","v":{"$error":"#NUM!"}},{"$f":"IRRm(TTA42:TUZ42)","v":1.0999999999999999},null,null,{"$f":"IRR(TTE42:TVD42)","v":{"$error":"#NUM!"}},{"$f":"IRRm(TTE42:TVD42)","v":1.0999999999999999},null,null,{"$f":"IRR(TTI42:TVH42)","v":{"$error":"#NUM!"}},{"$f":"IRRm(TTI42:TVH42)","v":1.0999999999999999},null,null,{"$f":"IRR(TTM42:TVL42)","v":{"$error":"#NUM!"}},{"$f":"IRRm(TTM42:TVL42)","v":1.0999999999999999},null,null,{"$f":"IRR(TTQ42:TVP42)","v":{"$error":"#NUM!"}},{"$f":"IRRm(TTQ42:TVP42)","v":1.0999999999999999},null,null,{"$f":"IRR(TTU42:TVT42)","v":{"$error":"#NUM!"}},{"$f":"IRRm(TTU42:TVT42)","v":1.0999999999999999},null,null,{"$f":"IRR(TTY42:TVX42)","v":{"$error":"#NUM!"}},{"$f":"IRRm(TTY42:TVX42)","v":1.0999999999999999},null,null,{"$f":"IRR(TUC42:TWB42)","v":{"$error":"#NUM!"}},{"$f":"IRRm(TUC42:TWB42)","v":1.0999999999999999},null,null,{"$f":"IRR(TUG42:TWF42)","v":{"$error":"#NUM!"}},{"$f":"IRRm(TUG42:TWF42)","v":1.0999999999999999},null,null,{"$f":"IRR(TUK42:TWJ42)","v":{"$error":"#NUM!"}},{"$f":"IRRm(TUK42:TWJ42)","v":1.0999999999999999},null,null,{"$f":"IRR(TUO42:TWN42)","v":{"$error":"#NUM!"}},{"$f":"IRRm(TUO42:TWN42)","v":1.0999999999999999},null,null,{"$f":"IRR(TUS42:TWR42)","v":{"$error":"#NUM!"}},{"$f":"IRRm(TUS42:TWR42)","v":1.0999999999999999},null,null,{"$f":"IRR(TUW42:TWV42)","v":{"$error":"#NUM!"}},{"$f":"IRRm(TUW42:TWV42)","v":1.0999999999999999},null,null,{"$f":"IRR(TVA42:TWZ42)","v":{"$error":"#NUM!"}},{"$f":"IRRm(TVA42:TWZ42)","v":1.0999999999999999},null,null,{"$f":"IRR(TVE42:TXD42)","v":{"$error":"#NUM!"}},{"$f":"IRRm(TVE42:TXD42)","v":1.0999999999999999},null,null,{"$f":"IRR(TVI42:TXH42)","v":{"$error":"#NUM!"}},{"$f":"IRRm(TVI42:TXH42)","v":1.0999999999999999},null,null,{"$f":"IRR(TVM42:TXL42)","v":{"$error":"#NUM!"}},{"$f":"IRRm(TVM42:TXL42)","v":1.0999999999999999},null,null,{"$f":"IRR(TVQ42:TXP42)","v":{"$error":"#NUM!"}},{"$f":"IRRm(TVQ42:TXP42)","v":1.0999999999999999},null,null,{"$f":"IRR(TVU42:TXT42)","v":{"$error":"#NUM!"}},{"$f":"IRRm(TVU42:TXT42)","v":1.0999999999999999},null,null,{"$f":"IRR(TVY42:TXX42)","v":{"$error":"#NUM!"}},{"$f":"IRRm(TVY42:TXX42)","v":1.0999999999999999},null,null,{"$f":"IRR(TWC42:TYB42)","v":{"$error":"#NUM!"}},{"$f":"IRRm(TWC42:TYB42)","v":1.0999999999999999},null,null,{"$f":"IRR(TWG42:TYF42)","v":{"$error":"#NUM!"}},{"$f":"IRRm(TWG42:TYF42)","v":1.0999999999999999},null,null,{"$f":"IRR(TWK42:TYJ42)","v":{"$error":"#NUM!"}},{"$f":"IRRm(TWK42:TYJ42)","v":1.0999999999999999},null,null,{"$f":"IRR(TWO42:TYN42)","v":{"$error":"#NUM!"}},{"$f":"IRRm(TWO42:TYN42)","v":1.0999999999999999},null,null,{"$f":"IRR(TWS42:TYR42)","v":{"$error":"#NUM!"}},{"$f":"IRRm(TWS42:TYR42)","v":1.0999999999999999},null,null,{"$f":"IRR(TWW42:TYV42)","v":{"$error":"#NUM!"}},{"$f":"IRRm(TWW42:TYV42)","v":1.0999999999999999},null,null,{"$f":"IRR(TXA42:TYZ42)","v":{"$error":"#NUM!"}},{"$f":"IRRm(TXA42:TYZ42)","v":1.0999999999999999},null,null,{"$f":"IRR(TXE42:TZD42)","v":{"$error":"#NUM!"}},{"$f":"IRRm(TXE42:TZD42)","v":1.0999999999999999},null,null,{"$f":"IRR(TXI42:TZH42)","v":{"$error":"#NUM!"}},{"$f":"IRRm(TXI42:TZH42)","v":1.0999999999999999},null,null,{"$f":"IRR(TXM42:TZL42)","v":{"$error":"#NUM!"}},{"$f":"IRRm(TXM42:TZL42)","v":1.0999999999999999},null,null,{"$f":"IRR(TXQ42:TZP42)","v":{"$error":"#NUM!"}},{"$f":"IRRm(TXQ42:TZP42)","v":1.0999999999999999},null,null,{"$f":"IRR(TXU42:TZT42)","v":{"$error":"#NUM!"}},{"$f":"IRRm(TXU42:TZT42)","v":1.0999999999999999},null,null,{"$f":"IRR(TXY42:TZX42)","v":{"$error":"#NUM!"}},{"$f":"IRRm(TXY42:TZX42)","v":1.0999999999999999},null,null,{"$f":"IRR(TYC42:UAB42)","v":{"$error":"#NUM!"}},{"$f":"IRRm(TYC42:UAB42)","v":1.0999999999999999},null,null,{"$f":"IRR(TYG42:UAF42)","v":{"$error":"#NUM!"}},{"$f":"IRRm(TYG42:UAF42)","v":1.0999999999999999},null,null,{"$f":"IRR(TYK42:UAJ42)","v":{"$error":"#NUM!"}},{"$f":"IRRm(TYK42:UAJ42)","v":1.0999999999999999},null,null,{"$f":"IRR(TYO42:UAN42)","v":{"$error":"#NUM!"}},{"$f":"IRRm(TYO42:UAN42)","v":1.0999999999999999},null,null,{"$f":"IRR(TYS42:UAR42)","v":{"$error":"#NUM!"}},{"$f":"IRRm(TYS42:UAR42)","v":1.0999999999999999},null,null,{"$f":"IRR(TYW42:UAV42)","v":{"$error":"#NUM!"}},{"$f":"IRRm(TYW42:UAV42)","v":1.0999999999999999},null,null,{"$f":"IRR(TZA42:UAZ42)","v":{"$error":"#NUM!"}},{"$f":"IRRm(TZA42:UAZ42)","v":1.0999999999999999},null,null,{"$f":"IRR(TZE42:UBD42)","v":{"$error":"#NUM!"}},{"$f":"IRRm(TZE42:UBD42)","v":1.0999999999999999},null,null,{"$f":"IRR(TZI42:UBH42)","v":{"$error":"#NUM!"}},{"$f":"IRRm(TZI42:UBH42)","v":1.0999999999999999},null,null,{"$f":"IRR(TZM42:UBL42)","v":{"$error":"#NUM!"}},{"$f":"IRRm(TZM42:UBL42)","v":1.0999999999999999},null,null,{"$f":"IRR(TZQ42:UBP42)","v":{"$error":"#NUM!"}},{"$f":"IRRm(TZQ42:UBP42)","v":1.0999999999999999},null,null,{"$f":"IRR(TZU42:UBT42)","v":{"$error":"#NUM!"}},{"$f":"IRRm(TZU42:UBT42)","v":1.0999999999999999},null,null,{"$f":"IRR(TZY42:UBX42)","v":{"$error":"#NUM!"}},{"$f":"IRRm(TZY42:UBX42)","v":1.0999999999999999},null,null,{"$f":"IRR(UAC42:UCB42)","v":{"$error":"#NUM!"}},{"$f":"IRRm(UAC42:UCB42)","v":1.0999999999999999},null,null,{"$f":"IRR(UAG42:UCF42)","v":{"$error":"#NUM!"}},{"$f":"IRRm(UAG42:UCF42)","v":1.0999999999999999},null,null,{"$f":"IRR(UAK42:UCJ42)","v":{"$error":"#NUM!"}},{"$f":"IRRm(UAK42:UCJ42)","v":1.0999999999999999},null,null,{"$f":"IRR(UAO42:UCN42)","v":{"$error":"#NUM!"}},{"$f":"IRRm(UAO42:UCN42)","v":1.0999999999999999},null,null,{"$f":"IRR(UAS42:UCR42)","v":{"$error":"#NUM!"}},{"$f":"IRRm(UAS42:UCR42)","v":1.0999999999999999},null,null,{"$f":"IRR(UAW42:UCV42)","v":{"$error":"#NUM!"}},{"$f":"IRRm(UAW42:UCV42)","v":1.0999999999999999},null,null,{"$f":"IRR(UBA42:UCZ42)","v":{"$error":"#NUM!"}},{"$f":"IRRm(UBA42:UCZ42)","v":1.0999999999999999},null,null,{"$f":"IRR(UBE42:UDD42)","v":{"$error":"#NUM!"}},{"$f":"IRRm(UBE42:UDD42)","v":1.0999999999999999},null,null,{"$f":"IRR(UBI42:UDH42)","v":{"$error":"#NUM!"}},{"$f":"IRRm(UBI42:UDH42)","v":1.0999999999999999},null,null,{"$f":"IRR(UBM42:UDL42)","v":{"$error":"#NUM!"}},{"$f":"IRRm(UBM42:UDL42)","v":1.0999999999999999},null,null,{"$f":"IRR(UBQ42:UDP42)","v":{"$error":"#NUM!"}},{"$f":"IRRm(UBQ42:UDP42)","v":1.0999999999999999},null,null,{"$f":"IRR(UBU42:UDT42)","v":{"$error":"#NUM!"}},{"$f":"IRRm(UBU42:UDT42)","v":1.0999999999999999},null,null,{"$f":"IRR(UBY42:UDX42)","v":{"$error":"#NUM!"}},{"$f":"IRRm(UBY42:UDX42)","v":1.0999999999999999},null,null,{"$f":"IRR(UCC42:UEB42)","v":{"$error":"#NUM!"}},{"$f":"IRRm(UCC42:UEB42)","v":1.0999999999999999},null,null,{"$f":"IRR(UCG42:UEF42)","v":{"$error":"#NUM!"}},{"$f":"IRRm(UCG42:UEF42)","v":1.0999999999999999},null,null,{"$f":"IRR(UCK42:UEJ42)","v":{"$error":"#NUM!"}},{"$f":"IRRm(UCK42:UEJ42)","v":1.0999999999999999},null,null,{"$f":"IRR(UCO42:UEN42)","v":{"$error":"#NUM!"}},{"$f":"IRRm(UCO42:UEN42)","v":1.0999999999999999},null,null,{"$f":"IRR(UCS42:UER42)","v":{"$error":"#NUM!"}},{"$f":"IRRm(UCS42:UER42)","v":1.0999999999999999},null,null,{"$f":"IRR(UCW42:UEV42)","v":{"$error":"#NUM!"}},{"$f":"IRRm(UCW42:UEV42)","v":1.0999999999999999},null,null,{"$f":"IRR(UDA42:UEZ42)","v":{"$error":"#NUM!"}},{"$f":"IRRm(UDA42:UEZ42)","v":1.0999999999999999},null,null,{"$f":"IRR(UDE42:UFD42)","v":{"$error":"#NUM!"}},{"$f":"IRRm(UDE42:UFD42)","v":1.0999999999999999},null,null,{"$f":"IRR(UDI42:UFH42)","v":{"$error":"#NUM!"}},{"$f":"IRRm(UDI42:UFH42)","v":1.0999999999999999},null,null,{"$f":"IRR(UDM42:UFL42)","v":{"$error":"#NUM!"}},{"$f":"IRRm(UDM42:UFL42)","v":1.0999999999999999},null,null,{"$f":"IRR(UDQ42:UFP42)","v":{"$error":"#NUM!"}},{"$f":"IRRm(UDQ42:UFP42)","v":1.0999999999999999},null,null,{"$f":"IRR(UDU42:UFT42)","v":{"$error":"#NUM!"}},{"$f":"IRRm(UDU42:UFT42)","v":1.0999999999999999},null,null,{"$f":"IRR(UDY42:UFX42)","v":{"$error":"#NUM!"}},{"$f":"IRRm(UDY42:UFX42)","v":1.0999999999999999},null,null,{"$f":"IRR(UEC42:UGB42)","v":{"$error":"#NUM!"}},{"$f":"IRRm(UEC42:UGB42)","v":1.0999999999999999},null,null,{"$f":"IRR(UEG42:UGF42)","v":{"$error":"#NUM!"}},{"$f":"IRRm(UEG42:UGF42)","v":1.0999999999999999},null,null,{"$f":"IRR(UEK42:UGJ42)","v":{"$error":"#NUM!"}},{"$f":"IRRm(UEK42:UGJ42)","v":1.0999999999999999},null,null,{"$f":"IRR(UEO42:UGN42)","v":{"$error":"#NUM!"}},{"$f":"IRRm(UEO42:UGN42)","v":1.0999999999999999},null,null,{"$f":"IRR(UES42:UGR42)","v":{"$error":"#NUM!"}},{"$f":"IRRm(UES42:UGR42)","v":1.0999999999999999},null,null,{"$f":"IRR(UEW42:UGV42)","v":{"$error":"#NUM!"}},{"$f":"IRRm(UEW42:UGV42)","v":1.0999999999999999},null,null,{"$f":"IRR(UFA42:UGZ42)","v":{"$error":"#NUM!"}},{"$f":"IRRm(UFA42:UGZ42)","v":1.0999999999999999},null,null,{"$f":"IRR(UFE42:UHD42)","v":{"$error":"#NUM!"}},{"$f":"IRRm(UFE42:UHD42)","v":1.0999999999999999},null,null,{"$f":"IRR(UFI42:UHH42)","v":{"$error":"#NUM!"}},{"$f":"IRRm(UFI42:UHH42)","v":1.0999999999999999},null,null,{"$f":"IRR(UFM42:UHL42)","v":{"$error":"#NUM!"}},{"$f":"IRRm(UFM42:UHL42)","v":1.0999999999999999},null,null,{"$f":"IRR(UFQ42:UHP42)","v":{"$error":"#NUM!"}},{"$f":"IRRm(UFQ42:UHP42)","v":1.0999999999999999},null,null,{"$f":"IRR(UFU42:UHT42)","v":{"$error":"#NUM!"}},{"$f":"IRRm(UFU42:UHT42)","v":1.0999999999999999},null,null,{"$f":"IRR(UFY42:UHX42)","v":{"$error":"#NUM!"}},{"$f":"IRRm(UFY42:UHX42)","v":1.0999999999999999},null,null,{"$f":"IRR(UGC42:UIB42)","v":{"$error":"#NUM!"}},{"$f":"IRRm(UGC42:UIB42)","v":1.0999999999999999},null,null,{"$f":"IRR(UGG42:UIF42)","v":{"$error":"#NUM!"}},{"$f":"IRRm(UGG42:UIF42)","v":1.0999999999999999},null,null,{"$f":"IRR(UGK42:UIJ42)","v":{"$error":"#NUM!"}},{"$f":"IRRm(UGK42:UIJ42)","v":1.0999999999999999},null,null,{"$f":"IRR(UGO42:UIN42)","v":{"$error":"#NUM!"}},{"$f":"IRRm(UGO42:UIN42)","v":1.0999999999999999},null,null,{"$f":"IRR(UGS42:UIR42)","v":{"$error":"#NUM!"}},{"$f":"IRRm(UGS42:UIR42)","v":1.0999999999999999},null,null,{"$f":"IRR(UGW42:UIV42)","v":{"$error":"#NUM!"}},{"$f":"IRRm(UGW42:UIV42)","v":1.0999999999999999},null,null,{"$f":"IRR(UHA42:UIZ42)","v":{"$error":"#NUM!"}},{"$f":"IRRm(UHA42:UIZ42)","v":1.0999999999999999},null,null,{"$f":"IRR(UHE42:UJD42)","v":{"$error":"#NUM!"}},{"$f":"IRRm(UHE42:UJD42)","v":1.0999999999999999},null,null,{"$f":"IRR(UHI42:UJH42)","v":{"$error":"#NUM!"}},{"$f":"IRRm(UHI42:UJH42)","v":1.0999999999999999},null,null,{"$f":"IRR(UHM42:UJL42)","v":{"$error":"#NUM!"}},{"$f":"IRRm(UHM42:UJL42)","v":1.0999999999999999},null,null,{"$f":"IRR(UHQ42:UJP42)","v":{"$error":"#NUM!"}},{"$f":"IRRm(UHQ42:UJP42)","v":1.0999999999999999},null,null,{"$f":"IRR(UHU42:UJT42)","v":{"$error":"#NUM!"}},{"$f":"IRRm(UHU42:UJT42)","v":1.0999999999999999},null,null,{"$f":"IRR(UHY42:UJX42)","v":{"$error":"#NUM!"}},{"$f":"IRRm(UHY42:UJX42)","v":1.0999999999999999},null,null,{"$f":"IRR(UIC42:UKB42)","v":{"$error":"#NUM!"}},{"$f":"IRRm(UIC42:UKB42)","v":1.0999999999999999},null,null,{"$f":"IRR(UIG42:UKF42)","v":{"$error":"#NUM!"}},{"$f":"IRRm(UIG42:UKF42)","v":1.0999999999999999},null,null,{"$f":"IRR(UIK42:UKJ42)","v":{"$error":"#NUM!"}},{"$f":"IRRm(UIK42:UKJ42)","v":1.0999999999999999},null,null,{"$f":"IRR(UIO42:UKN42)","v":{"$error":"#NUM!"}},{"$f":"IRRm(UIO42:UKN42)","v":1.0999999999999999},null,null,{"$f":"IRR(UIS42:UKR42)","v":{"$error":"#NUM!"}},{"$f":"IRRm(UIS42:UKR42)","v":1.0999999999999999},null,null,{"$f":"IRR(UIW42:UKV42)","v":{"$error":"#NUM!"}},{"$f":"IRRm(UIW42:UKV42)","v":1.0999999999999999},null,null,{"$f":"IRR(UJA42:UKZ42)","v":{"$error":"#NUM!"}},{"$f":"IRRm(UJA42:UKZ42)","v":1.0999999999999999},null,null,{"$f":"IRR(UJE42:ULD42)","v":{"$error":"#NUM!"}},{"$f":"IRRm(UJE42:ULD42)","v":1.0999999999999999},null,null,{"$f":"IRR(UJI42:ULH42)","v":{"$error":"#NUM!"}},{"$f":"IRRm(UJI42:ULH42)","v":1.0999999999999999},null,null,{"$f":"IRR(UJM42:ULL42)","v":{"$error":"#NUM!"}},{"$f":"IRRm(UJM42:ULL42)","v":1.0999999999999999},null,null,{"$f":"IRR(UJQ42:ULP42)","v":{"$error":"#NUM!"}},{"$f":"IRRm(UJQ42:ULP42)","v":1.0999999999999999},null,null,{"$f":"IRR(UJU42:ULT42)","v":{"$error":"#NUM!"}},{"$f":"IRRm(UJU42:ULT42)","v":1.0999999999999999},null,null,{"$f":"IRR(UJY42:ULX42)","v":{"$error":"#NUM!"}},{"$f":"IRRm(UJY42:ULX42)","v":1.0999999999999999},null,null,{"$f":"IRR(UKC42:UMB42)","v":{"$error":"#NUM!"}},{"$f":"IRRm(UKC42:UMB42)","v":1.0999999999999999},null,null,{"$f":"IRR(UKG42:UMF42)","v":{"$error":"#NUM!"}},{"$f":"IRRm(UKG42:UMF42)","v":1.0999999999999999},null,null,{"$f":"IRR(UKK42:UMJ42)","v":{"$error":"#NUM!"}},{"$f":"IRRm(UKK42:UMJ42)","v":1.0999999999999999},null,null,{"$f":"IRR(UKO42:UMN42)","v":{"$error":"#NUM!"}},{"$f":"IRRm(UKO42:UMN42)","v":1.0999999999999999},null,null,{"$f":"IRR(UKS42:UMR42)","v":{"$error":"#NUM!"}},{"$f":"IRRm(UKS42:UMR42)","v":1.0999999999999999},null,null,{"$f":"IRR(UKW42:UMV42)","v":{"$error":"#NUM!"}},{"$f":"IRRm(UKW42:UMV42)","v":1.0999999999999999},null,null,{"$f":"IRR(ULA42:UMZ42)","v":{"$error":"#NUM!"}},{"$f":"IRRm(ULA42:UMZ42)","v":1.0999999999999999},null,null,{"$f":"IRR(ULE42:UND42)","v":{"$error":"#NUM!"}},{"$f":"IRRm(ULE42:UND42)","v":1.0999999999999999},null,null,{"$f":"IRR(ULI42:UNH42)","v":{"$error":"#NUM!"}},{"$f":"IRRm(ULI42:UNH42)","v":1.0999999999999999},null,null,{"$f":"IRR(ULM42:UNL42)","v":{"$error":"#NUM!"}},{"$f":"IRRm(ULM42:UNL42)","v":1.0999999999999999},null,null,{"$f":"IRR(ULQ42:UNP42)","v":{"$error":"#NUM!"}},{"$f":"IRRm(ULQ42:UNP42)","v":1.0999999999999999},null,null,{"$f":"IRR(ULU42:UNT42)","v":{"$error":"#NUM!"}},{"$f":"IRRm(ULU42:UNT42)","v":1.0999999999999999},null,null,{"$f":"IRR(ULY42:UNX42)","v":{"$error":"#NUM!"}},{"$f":"IRRm(ULY42:UNX42)","v":1.0999999999999999},null,null,{"$f":"IRR(UMC42:UOB42)","v":{"$error":"#NUM!"}},{"$f":"IRRm(UMC42:UOB42)","v":1.0999999999999999},null,null,{"$f":"IRR(UMG42:UOF42)","v":{"$error":"#NUM!"}},{"$f":"IRRm(UMG42:UOF42)","v":1.0999999999999999},null,null,{"$f":"IRR(UMK42:UOJ42)","v":{"$error":"#NUM!"}},{"$f":"IRRm(UMK42:UOJ42)","v":1.0999999999999999},null,null,{"$f":"IRR(UMO42:UON42)","v":{"$error":"#NUM!"}},{"$f":"IRRm(UMO42:UON42)","v":1.0999999999999999},null,null,{"$f":"IRR(UMS42:UOR42)","v":{"$error":"#NUM!"}},{"$f":"IRRm(UMS42:UOR42)","v":1.0999999999999999},null,null,{"$f":"IRR(UMW42:UOV42)","v":{"$error":"#NUM!"}},{"$f":"IRRm(UMW42:UOV42)","v":1.0999999999999999},null,null,{"$f":"IRR(UNA42:UOZ42)","v":{"$error":"#NUM!"}},{"$f":"IRRm(UNA42:UOZ42)","v":1.0999999999999999},null,null,{"$f":"IRR(UNE42:UPD42)","v":{"$error":"#NUM!"}},{"$f":"IRRm(UNE42:UPD42)","v":1.0999999999999999},null,null,{"$f":"IRR(UNI42:UPH42)","v":{"$error":"#NUM!"}},{"$f":"IRRm(UNI42:UPH42)","v":1.0999999999999999},null,null,{"$f":"IRR(UNM42:UPL42)","v":{"$error":"#NUM!"}},{"$f":"IRRm(UNM42:UPL42)","v":1.0999999999999999},null,null,{"$f":"IRR(UNQ42:UPP42)","v":{"$error":"#NUM!"}},{"$f":"IRRm(UNQ42:UPP42)","v":1.0999999999999999},null,null,{"$f":"IRR(UNU42:UPT42)","v":{"$error":"#NUM!"}},{"$f":"IRRm(UNU42:UPT42)","v":1.0999999999999999},null,null,{"$f":"IRR(UNY42:UPX42)","v":{"$error":"#NUM!"}},{"$f":"IRRm(UNY42:UPX42)","v":1.0999999999999999},null,null,{"$f":"IRR(UOC42:UQB42)","v":{"$error":"#NUM!"}},{"$f":"IRRm(UOC42:UQB42)","v":1.0999999999999999},null,null,{"$f":"IRR(UOG42:UQF42)","v":{"$error":"#NUM!"}},{"$f":"IRRm(UOG42:UQF42)","v":1.0999999999999999},null,null,{"$f":"IRR(UOK42:UQJ42)","v":{"$error":"#NUM!"}},{"$f":"IRRm(UOK42:UQJ42)","v":1.0999999999999999},null,null,{"$f":"IRR(UOO42:UQN42)","v":{"$error":"#NUM!"}},{"$f":"IRRm(UOO42:UQN42)","v":1.0999999999999999},null,null,{"$f":"IRR(UOS42:UQR42)","v":{"$error":"#NUM!"}},{"$f":"IRRm(UOS42:UQR42)","v":1.0999999999999999},null,null,{"$f":"IRR(UOW42:UQV42)","v":{"$error":"#NUM!"}},{"$f":"IRRm(UOW42:UQV42)","v":1.0999999999999999},null,null,{"$f":"IRR(UPA42:UQZ42)","v":{"$error":"#NUM!"}},{"$f":"IRRm(UPA42:UQZ42)","v":1.0999999999999999},null,null,{"$f":"IRR(UPE42:URD42)","v":{"$error":"#NUM!"}},{"$f":"IRRm(UPE42:URD42)","v":1.0999999999999999},null,null,{"$f":"IRR(UPI42:URH42)","v":{"$error":"#NUM!"}},{"$f":"IRRm(UPI42:URH42)","v":1.0999999999999999},null,null,{"$f":"IRR(UPM42:URL42)","v":{"$error":"#NUM!"}},{"$f":"IRRm(UPM42:URL42)","v":1.0999999999999999},null,null,{"$f":"IRR(UPQ42:URP42)","v":{"$error":"#NUM!"}},{"$f":"IRRm(UPQ42:URP42)","v":1.0999999999999999},null,null,{"$f":"IRR(UPU42:URT42)","v":{"$error":"#NUM!"}},{"$f":"IRRm(UPU42:URT42)","v":1.0999999999999999},null,null,{"$f":"IRR(UPY42:URX42)","v":{"$error":"#NUM!"}},{"$f":"IRRm(UPY42:URX42)","v":1.0999999999999999},null,null,{"$f":"IRR(UQC42:USB42)","v":{"$error":"#NUM!"}},{"$f":"IRRm(UQC42:USB42)","v":1.0999999999999999},null,null,{"$f":"IRR(UQG42:USF42)","v":{"$error":"#NUM!"}},{"$f":"IRRm(UQG42:USF42)","v":1.0999999999999999},null,null,{"$f":"IRR(UQK42:USJ42)","v":{"$error":"#NUM!"}},{"$f":"IRRm(UQK42:USJ42)","v":1.0999999999999999},null,null,{"$f":"IRR(UQO42:USN42)","v":{"$error":"#NUM!"}},{"$f":"IRRm(UQO42:USN42)","v":1.0999999999999999},null,null,{"$f":"IRR(UQS42:USR42)","v":{"$error":"#NUM!"}},{"$f":"IRRm(UQS42:USR42)","v":1.0999999999999999},null,null,{"$f":"IRR(UQW42:USV42)","v":{"$error":"#NUM!"}},{"$f":"IRRm(UQW42:USV42)","v":1.0999999999999999},null,null,{"$f":"IRR(URA42:USZ42)","v":{"$error":"#NUM!"}},{"$f":"IRRm(URA42:USZ42)","v":1.0999999999999999},null,null,{"$f":"IRR(URE42:UTD42)","v":{"$error":"#NUM!"}},{"$f":"IRRm(URE42:UTD42)","v":1.0999999999999999},null,null,{"$f":"IRR(URI42:UTH42)","v":{"$error":"#NUM!"}},{"$f":"IRRm(URI42:UTH42)","v":1.0999999999999999},null,null,{"$f":"IRR(URM42:UTL42)","v":{"$error":"#NUM!"}},{"$f":"IRRm(URM42:UTL42)","v":1.0999999999999999},null,null,{"$f":"IRR(URQ42:UTP42)","v":{"$error":"#NUM!"}},{"$f":"IRRm(URQ42:UTP42)","v":1.0999999999999999},null,null,{"$f":"IRR(URU42:UTT42)","v":{"$error":"#NUM!"}},{"$f":"IRRm(URU42:UTT42)","v":1.0999999999999999},null,null,{"$f":"IRR(URY42:UTX42)","v":{"$error":"#NUM!"}},{"$f":"IRRm(URY42:UTX42)","v":1.0999999999999999},null,null,{"$f":"IRR(USC42:UUB42)","v":{"$error":"#NUM!"}},{"$f":"IRRm(USC42:UUB42)","v":1.0999999999999999},null,null,{"$f":"IRR(USG42:UUF42)","v":{"$error":"#NUM!"}},{"$f":"IRRm(USG42:UUF42)","v":1.0999999999999999},null,null,{"$f":"IRR(USK42:UUJ42)","v":{"$error":"#NUM!"}},{"$f":"IRRm(USK42:UUJ42)","v":1.0999999999999999},null,null,{"$f":"IRR(USO42:UUN42)","v":{"$error":"#NUM!"}},{"$f":"IRRm(USO42:UUN42)","v":1.0999999999999999},null,null,{"$f":"IRR(USS42:UUR42)","v":{"$error":"#NUM!"}},{"$f":"IRRm(USS42:UUR42)","v":1.0999999999999999},null,null,{"$f":"IRR(USW42:UUV42)","v":{"$error":"#NUM!"}},{"$f":"IRRm(USW42:UUV42)","v":1.0999999999999999},null,null,{"$f":"IRR(UTA42:UUZ42)","v":{"$error":"#NUM!"}},{"$f":"IRRm(UTA42:UUZ42)","v":1.0999999999999999},null,null,{"$f":"IRR(UTE42:UVD42)","v":{"$error":"#NUM!"}},{"$f":"IRRm(UTE42:UVD42)","v":1.0999999999999999},null,null,{"$f":"IRR(UTI42:UVH42)","v":{"$error":"#NUM!"}},{"$f":"IRRm(UTI42:UVH42)","v":1.0999999999999999},null,null,{"$f":"IRR(UTM42:UVL42)","v":{"$error":"#NUM!"}},{"$f":"IRRm(UTM42:UVL42)","v":1.0999999999999999},null,null,{"$f":"IRR(UTQ42:UVP42)","v":{"$error":"#NUM!"}},{"$f":"IRRm(UTQ42:UVP42)","v":1.0999999999999999},null,null,{"$f":"IRR(UTU42:UVT42)","v":{"$error":"#NUM!"}},{"$f":"IRRm(UTU42:UVT42)","v":1.0999999999999999},null,null,{"$f":"IRR(UTY42:UVX42)","v":{"$error":"#NUM!"}},{"$f":"IRRm(UTY42:UVX42)","v":1.0999999999999999},null,null,{"$f":"IRR(UUC42:UWB42)","v":{"$error":"#NUM!"}},{"$f":"IRRm(UUC42:UWB42)","v":1.0999999999999999},null,null,{"$f":"IRR(UUG42:UWF42)","v":{"$error":"#NUM!"}},{"$f":"IRRm(UUG42:UWF42)","v":1.0999999999999999},null,null,{"$f":"IRR(UUK42:UWJ42)","v":{"$error":"#NUM!"}},{"$f":"IRRm(UUK42:UWJ42)","v":1.0999999999999999},null,null,{"$f":"IRR(UUO42:UWN42)","v":{"$error":"#NUM!"}},{"$f":"IRRm(UUO42:UWN42)","v":1.0999999999999999},null,null,{"$f":"IRR(UUS42:UWR42)","v":{"$error":"#NUM!"}},{"$f":"IRRm(UUS42:UWR42)","v":1.0999999999999999},null,null,{"$f":"IRR(UUW42:UWV42)","v":{"$error":"#NUM!"}},{"$f":"IRRm(UUW42:UWV42)","v":1.0999999999999999},null,null,{"$f":"IRR(UVA42:UWZ42)","v":{"$error":"#NUM!"}},{"$f":"IRRm(UVA42:UWZ42)","v":1.0999999999999999},null,null,{"$f":"IRR(UVE42:UXD42)","v":{"$error":"#NUM!"}},{"$f":"IRRm(UVE42:UXD42)","v":1.0999999999999999},null,null,{"$f":"IRR(UVI42:UXH42)","v":{"$error":"#NUM!"}},{"$f":"IRRm(UVI42:UXH42)","v":1.0999999999999999},null,null,{"$f":"IRR(UVM42:UXL42)","v":{"$error":"#NUM!"}},{"$f":"IRRm(UVM42:UXL42)","v":1.0999999999999999},null,null,{"$f":"IRR(UVQ42:UXP42)","v":{"$error":"#NUM!"}},{"$f":"IRRm(UVQ42:UXP42)","v":1.0999999999999999},null,null,{"$f":"IRR(UVU42:UXT42)","v":{"$error":"#NUM!"}},{"$f":"IRRm(UVU42:UXT42)","v":1.0999999999999999},null,null,{"$f":"IRR(UVY42:UXX42)","v":{"$error":"#NUM!"}},{"$f":"IRRm(UVY42:UXX42)","v":1.0999999999999999},null,null,{"$f":"IRR(UWC42:UYB42)","v":{"$error":"#NUM!"}},{"$f":"IRRm(UWC42:UYB42)","v":1.0999999999999999},null,null,{"$f":"IRR(UWG42:UYF42)","v":{"$error":"#NUM!"}},{"$f":"IRRm(UWG42:UYF42)","v":1.0999999999999999},null,null,{"$f":"IRR(UWK42:UYJ42)","v":{"$error":"#NUM!"}},{"$f":"IRRm(UWK42:UYJ42)","v":1.0999999999999999},null,null,{"$f":"IRR(UWO42:UYN42)","v":{"$error":"#NUM!"}},{"$f":"IRRm(UWO42:UYN42)","v":1.0999999999999999},null,null,{"$f":"IRR(UWS42:UYR42)","v":{"$error":"#NUM!"}},{"$f":"IRRm(UWS42:UYR42)","v":1.0999999999999999},null,null,{"$f":"IRR(UWW42:UYV42)","v":{"$error":"#NUM!"}},{"$f":"IRRm(UWW42:UYV42)","v":1.0999999999999999},null,null,{"$f":"IRR(UXA42:UYZ42)","v":{"$error":"#NUM!"}},{"$f":"IRRm(UXA42:UYZ42)","v":1.0999999999999999},null,null,{"$f":"IRR(UXE42:UZD42)","v":{"$error":"#NUM!"}},{"$f":"IRRm(UXE42:UZD42)","v":1.0999999999999999},null,null,{"$f":"IRR(UXI42:UZH42)","v":{"$error":"#NUM!"}},{"$f":"IRRm(UXI42:UZH42)","v":1.0999999999999999},null,null,{"$f":"IRR(UXM42:UZL42)","v":{"$error":"#NUM!"}},{"$f":"IRRm(UXM42:UZL42)","v":1.0999999999999999},null,null,{"$f":"IRR(UXQ42:UZP42)","v":{"$error":"#NUM!"}},{"$f":"IRRm(UXQ42:UZP42)","v":1.0999999999999999},null,null,{"$f":"IRR(UXU42:UZT42)","v":{"$error":"#NUM!"}},{"$f":"IRRm(UXU42:UZT42)","v":1.0999999999999999},null,null,{"$f":"IRR(UXY42:UZX42)","v":{"$error":"#NUM!"}},{"$f":"IRRm(UXY42:UZX42)","v":1.0999999999999999},null,null,{"$f":"IRR(UYC42:VAB42)","v":{"$error":"#NUM!"}},{"$f":"IRRm(UYC42:VAB42)","v":1.0999999999999999},null,null,{"$f":"IRR(UYG42:VAF42)","v":{"$error":"#NUM!"}},{"$f":"IRRm(UYG42:VAF42)","v":1.0999999999999999},null,null,{"$f":"IRR(UYK42:VAJ42)","v":{"$error":"#NUM!"}},{"$f":"IRRm(UYK42:VAJ42)","v":1.0999999999999999},null,null,{"$f":"IRR(UYO42:VAN42)","v":{"$error":"#NUM!"}},{"$f":"IRRm(UYO42:VAN42)","v":1.0999999999999999},null,null,{"$f":"IRR(UYS42:VAR42)","v":{"$error":"#NUM!"}},{"$f":"IRRm(UYS42:VAR42)","v":1.0999999999999999},null,null,{"$f":"IRR(UYW42:VAV42)","v":{"$error":"#NUM!"}},{"$f":"IRRm(UYW42:VAV42)","v":1.0999999999999999},null,null,{"$f":"IRR(UZA42:VAZ42)","v":{"$error":"#NUM!"}},{"$f":"IRRm(UZA42:VAZ42)","v":1.0999999999999999},null,null,{"$f":"IRR(UZE42:VBD42)","v":{"$error":"#NUM!"}},{"$f":"IRRm(UZE42:VBD42)","v":1.0999999999999999},null,null,{"$f":"IRR(UZI42:VBH42)","v":{"$error":"#NUM!"}},{"$f":"IRRm(UZI42:VBH42)","v":1.0999999999999999},null,null,{"$f":"IRR(UZM42:VBL42)","v":{"$error":"#NUM!"}},{"$f":"IRRm(UZM42:VBL42)","v":1.0999999999999999},null,null,{"$f":"IRR(UZQ42:VBP42)","v":{"$error":"#NUM!"}},{"$f":"IRRm(UZQ42:VBP42)","v":1.0999999999999999},null,null,{"$f":"IRR(UZU42:VBT42)","v":{"$error":"#NUM!"}},{"$f":"IRRm(UZU42:VBT42)","v":1.0999999999999999},null,null,{"$f":"IRR(UZY42:VBX42)","v":{"$error":"#NUM!"}},{"$f":"IRRm(UZY42:VBX42)","v":1.0999999999999999},null,null,{"$f":"IRR(VAC42:VCB42)","v":{"$error":"#NUM!"}},{"$f":"IRRm(VAC42:VCB42)","v":1.0999999999999999},null,null,{"$f":"IRR(VAG42:VCF42)","v":{"$error":"#NUM!"}},{"$f":"IRRm(VAG42:VCF42)","v":1.0999999999999999},null,null,{"$f":"IRR(VAK42:VCJ42)","v":{"$error":"#NUM!"}},{"$f":"IRRm(VAK42:VCJ42)","v":1.0999999999999999},null,null,{"$f":"IRR(VAO42:VCN42)","v":{"$error":"#NUM!"}},{"$f":"IRRm(VAO42:VCN42)","v":1.0999999999999999},null,null,{"$f":"IRR(VAS42:VCR42)","v":{"$error":"#NUM!"}},{"$f":"IRRm(VAS42:VCR42)","v":1.0999999999999999},null,null,{"$f":"IRR(VAW42:VCV42)","v":{"$error":"#NUM!"}},{"$f":"IRRm(VAW42:VCV42)","v":1.0999999999999999},null,null,{"$f":"IRR(VBA42:VCZ42)","v":{"$error":"#NUM!"}},{"$f":"IRRm(VBA42:VCZ42)","v":1.0999999999999999},null,null,{"$f":"IRR(VBE42:VDD42)","v":{"$error":"#NUM!"}},{"$f":"IRRm(VBE42:VDD42)","v":1.0999999999999999},null,null,{"$f":"IRR(VBI42:VDH42)","v":{"$error":"#NUM!"}},{"$f":"IRRm(VBI42:VDH42)","v":1.0999999999999999},null,null,{"$f":"IRR(VBM42:VDL42)","v":{"$error":"#NUM!"}},{"$f":"IRRm(VBM42:VDL42)","v":1.0999999999999999},null,null,{"$f":"IRR(VBQ42:VDP42)","v":{"$error":"#NUM!"}},{"$f":"IRRm(VBQ42:VDP42)","v":1.0999999999999999},null,null,{"$f":"IRR(VBU42:VDT42)","v":{"$error":"#NUM!"}},{"$f":"IRRm(VBU42:VDT42)","v":1.0999999999999999},null,null,{"$f":"IRR(VBY42:VDX42)","v":{"$error":"#NUM!"}},{"$f":"IRRm(VBY42:VDX42)","v":1.0999999999999999},null,null,{"$f":"IRR(VCC42:VEB42)","v":{"$error":"#NUM!"}},{"$f":"IRRm(VCC42:VEB42)","v":1.0999999999999999},null,null,{"$f":"IRR(VCG42:VEF42)","v":{"$error":"#NUM!"}},{"$f":"IRRm(VCG42:VEF42)","v":1.0999999999999999},null,null,{"$f":"IRR(VCK42:VEJ42)","v":{"$error":"#NUM!"}},{"$f":"IRRm(VCK42:VEJ42)","v":1.0999999999999999},null,null,{"$f":"IRR(VCO42:VEN42)","v":{"$error":"#NUM!"}},{"$f":"IRRm(VCO42:VEN42)","v":1.0999999999999999},null,null,{"$f":"IRR(VCS42:VER42)","v":{"$error":"#NUM!"}},{"$f":"IRRm(VCS42:VER42)","v":1.0999999999999999},null,null,{"$f":"IRR(VCW42:VEV42)","v":{"$error":"#NUM!"}},{"$f":"IRRm(VCW42:VEV42)","v":1.0999999999999999},null,null,{"$f":"IRR(VDA42:VEZ42)","v":{"$error":"#NUM!"}},{"$f":"IRRm(VDA42:VEZ42)","v":1.0999999999999999},null,null,{"$f":"IRR(VDE42:VFD42)","v":{"$error":"#NUM!"}},{"$f":"IRRm(VDE42:VFD42)","v":1.0999999999999999},null,null,{"$f":"IRR(VDI42:VFH42)","v":{"$error":"#NUM!"}},{"$f":"IRRm(VDI42:VFH42)","v":1.0999999999999999},null,null,{"$f":"IRR(VDM42:VFL42)","v":{"$error":"#NUM!"}},{"$f":"IRRm(VDM42:VFL42)","v":1.0999999999999999},null,null,{"$f":"IRR(VDQ42:VFP42)","v":{"$error":"#NUM!"}},{"$f":"IRRm(VDQ42:VFP42)","v":1.0999999999999999},null,null,{"$f":"IRR(VDU42:VFT42)","v":{"$error":"#NUM!"}},{"$f":"IRRm(VDU42:VFT42)","v":1.0999999999999999},null,null,{"$f":"IRR(VDY42:VFX42)","v":{"$error":"#NUM!"}},{"$f":"IRRm(VDY42:VFX42)","v":1.0999999999999999},null,null,{"$f":"IRR(VEC42:VGB42)","v":{"$error":"#NUM!"}},{"$f":"IRRm(VEC42:VGB42)","v":1.0999999999999999},null,null,{"$f":"IRR(VEG42:VGF42)","v":{"$error":"#NUM!"}},{"$f":"IRRm(VEG42:VGF42)","v":1.0999999999999999},null,null,{"$f":"IRR(VEK42:VGJ42)","v":{"$error":"#NUM!"}},{"$f":"IRRm(VEK42:VGJ42)","v":1.0999999999999999},null,null,{"$f":"IRR(VEO42:VGN42)","v":{"$error":"#NUM!"}},{"$f":"IRRm(VEO42:VGN42)","v":1.0999999999999999},null,null,{"$f":"IRR(VES42:VGR42)","v":{"$error":"#NUM!"}},{"$f":"IRRm(VES42:VGR42)","v":1.0999999999999999},null,null,{"$f":"IRR(VEW42:VGV42)","v":{"$error":"#NUM!"}},{"$f":"IRRm(VEW42:VGV42)","v":1.0999999999999999},null,null,{"$f":"IRR(VFA42:VGZ42)","v":{"$error":"#NUM!"}},{"$f":"IRRm(VFA42:VGZ42)","v":1.0999999999999999},null,null,{"$f":"IRR(VFE42:VHD42)","v":{"$error":"#NUM!"}},{"$f":"IRRm(VFE42:VHD42)","v":1.0999999999999999},null,null,{"$f":"IRR(VFI42:VHH42)","v":{"$error":"#NUM!"}},{"$f":"IRRm(VFI42:VHH42)","v":1.0999999999999999},null,null,{"$f":"IRR(VFM42:VHL42)","v":{"$error":"#NUM!"}},{"$f":"IRRm(VFM42:VHL42)","v":1.0999999999999999},null,null,{"$f":"IRR(VFQ42:VHP42)","v":{"$error":"#NUM!"}},{"$f":"IRRm(VFQ42:VHP42)","v":1.0999999999999999},null,null,{"$f":"IRR(VFU42:VHT42)","v":{"$error":"#NUM!"}},{"$f":"IRRm(VFU42:VHT42)","v":1.0999999999999999},null,null,{"$f":"IRR(VFY42:VHX42)","v":{"$error":"#NUM!"}},{"$f":"IRRm(VFY42:VHX42)","v":1.0999999999999999},null,null,{"$f":"IRR(VGC42:VIB42)","v":{"$error":"#NUM!"}},{"$f":"IRRm(VGC42:VIB42)","v":1.0999999999999999},null,null,{"$f":"IRR(VGG42:VIF42)","v":{"$error":"#NUM!"}},{"$f":"IRRm(VGG42:VIF42)","v":1.0999999999999999},null,null,{"$f":"IRR(VGK42:VIJ42)","v":{"$error":"#NUM!"}},{"$f":"IRRm(VGK42:VIJ42)","v":1.0999999999999999},null,null,{"$f":"IRR(VGO42:VIN42)","v":{"$error":"#NUM!"}},{"$f":"IRRm(VGO42:VIN42)","v":1.0999999999999999},null,null,{"$f":"IRR(VGS42:VIR42)","v":{"$error":"#NUM!"}},{"$f":"IRRm(VGS42:VIR42)","v":1.0999999999999999},null,null,{"$f":"IRR(VGW42:VIV42)","v":{"$error":"#NUM!"}},{"$f":"IRRm(VGW42:VIV42)","v":1.0999999999999999},null,null,{"$f":"IRR(VHA42:VIZ42)","v":{"$error":"#NUM!"}},{"$f":"IRRm(VHA42:VIZ42)","v":1.0999999999999999},null,null,{"$f":"IRR(VHE42:VJD42)","v":{"$error":"#NUM!"}},{"$f":"IRRm(VHE42:VJD42)","v":1.0999999999999999},null,null,{"$f":"IRR(VHI42:VJH42)","v":{"$error":"#NUM!"}},{"$f":"IRRm(VHI42:VJH42)","v":1.0999999999999999},null,null,{"$f":"IRR(VHM42:VJL42)","v":{"$error":"#NUM!"}},{"$f":"IRRm(VHM42:VJL42)","v":1.0999999999999999},null,null,{"$f":"IRR(VHQ42:VJP42)","v":{"$error":"#NUM!"}},{"$f":"IRRm(VHQ42:VJP42)","v":1.0999999999999999},null,null,{"$f":"IRR(VHU42:VJT42)","v":{"$error":"#NUM!"}},{"$f":"IRRm(VHU42:VJT42)","v":1.0999999999999999},null,null,{"$f":"IRR(VHY42:VJX42)","v":{"$error":"#NUM!"}},{"$f":"IRRm(VHY42:VJX42)","v":1.0999999999999999},null,null,{"$f":"IRR(VIC42:VKB42)","v":{"$error":"#NUM!"}},{"$f":"IRRm(VIC42:VKB42)","v":1.0999999999999999},null,null,{"$f":"IRR(VIG42:VKF42)","v":{"$error":"#NUM!"}},{"$f":"IRRm(VIG42:VKF42)","v":1.0999999999999999},null,null,{"$f":"IRR(VIK42:VKJ42)","v":{"$error":"#NUM!"}},{"$f":"IRRm(VIK42:VKJ42)","v":1.0999999999999999},null,null,{"$f":"IRR(VIO42:VKN42)","v":{"$error":"#NUM!"}},{"$f":"IRRm(VIO42:VKN42)","v":1.0999999999999999},null,null,{"$f":"IRR(VIS42:VKR42)","v":{"$error":"#NUM!"}},{"$f":"IRRm(VIS42:VKR42)","v":1.0999999999999999},null,null,{"$f":"IRR(VIW42:VKV42)","v":{"$error":"#NUM!"}},{"$f":"IRRm(VIW42:VKV42)","v":1.0999999999999999},null,null,{"$f":"IRR(VJA42:VKZ42)","v":{"$error":"#NUM!"}},{"$f":"IRRm(VJA42:VKZ42)","v":1.0999999999999999},null,null,{"$f":"IRR(VJE42:VLD42)","v":{"$error":"#NUM!"}},{"$f":"IRRm(VJE42:VLD42)","v":1.0999999999999999},null,null,{"$f":"IRR(VJI42:VLH42)","v":{"$error":"#NUM!"}},{"$f":"IRRm(VJI42:VLH42)","v":1.0999999999999999},null,null,{"$f":"IRR(VJM42:VLL42)","v":{"$error":"#NUM!"}},{"$f":"IRRm(VJM42:VLL42)","v":1.0999999999999999},null,null,{"$f":"IRR(VJQ42:VLP42)","v":{"$error":"#NUM!"}},{"$f":"IRRm(VJQ42:VLP42)","v":1.0999999999999999},null,null,{"$f":"IRR(VJU42:VLT42)","v":{"$error":"#NUM!"}},{"$f":"IRRm(VJU42:VLT42)","v":1.0999999999999999},null,null,{"$f":"IRR(VJY42:VLX42)","v":{"$error":"#NUM!"}},{"$f":"IRRm(VJY42:VLX42)","v":1.0999999999999999},null,null,{"$f":"IRR(VKC42:VMB42)","v":{"$error":"#NUM!"}},{"$f":"IRRm(VKC42:VMB42)","v":1.0999999999999999},null,null,{"$f":"IRR(VKG42:VMF42)","v":{"$error":"#NUM!"}},{"$f":"IRRm(VKG42:VMF42)","v":1.0999999999999999},null,null,{"$f":"IRR(VKK42:VMJ42)","v":{"$error":"#NUM!"}},{"$f":"IRRm(VKK42:VMJ42)","v":1.0999999999999999},null,null,{"$f":"IRR(VKO42:VMN42)","v":{"$error":"#NUM!"}},{"$f":"IRRm(VKO42:VMN42)","v":1.0999999999999999},null,null,{"$f":"IRR(VKS42:VMR42)","v":{"$error":"#NUM!"}},{"$f":"IRRm(VKS42:VMR42)","v":1.0999999999999999},null,null,{"$f":"IRR(VKW42:VMV42)","v":{"$error":"#NUM!"}},{"$f":"IRRm(VKW42:VMV42)","v":1.0999999999999999},null,null,{"$f":"IRR(VLA42:VMZ42)","v":{"$error":"#NUM!"}},{"$f":"IRRm(VLA42:VMZ42)","v":1.0999999999999999},null,null,{"$f":"IRR(VLE42:VND42)","v":{"$error":"#NUM!"}},{"$f":"IRRm(VLE42:VND42)","v":1.0999999999999999},null,null,{"$f":"IRR(VLI42:VNH42)","v":{"$error":"#NUM!"}},{"$f":"IRRm(VLI42:VNH42)","v":1.0999999999999999},null,null,{"$f":"IRR(VLM42:VNL42)","v":{"$error":"#NUM!"}},{"$f":"IRRm(VLM42:VNL42)","v":1.0999999999999999},null,null,{"$f":"IRR(VLQ42:VNP42)","v":{"$error":"#NUM!"}},{"$f":"IRRm(VLQ42:VNP42)","v":1.0999999999999999},null,null,{"$f":"IRR(VLU42:VNT42)","v":{"$error":"#NUM!"}},{"$f":"IRRm(VLU42:VNT42)","v":1.0999999999999999},null,null,{"$f":"IRR(VLY42:VNX42)","v":{"$error":"#NUM!"}},{"$f":"IRRm(VLY42:VNX42)","v":1.0999999999999999},null,null,{"$f":"IRR(VMC42:VOB42)","v":{"$error":"#NUM!"}},{"$f":"IRRm(VMC42:VOB42)","v":1.0999999999999999},null,null,{"$f":"IRR(VMG42:VOF42)","v":{"$error":"#NUM!"}},{"$f":"IRRm(VMG42:VOF42)","v":1.0999999999999999},null,null,{"$f":"IRR(VMK42:VOJ42)","v":{"$error":"#NUM!"}},{"$f":"IRRm(VMK42:VOJ42)","v":1.0999999999999999},null,null,{"$f":"IRR(VMO42:VON42)","v":{"$error":"#NUM!"}},{"$f":"IRRm(VMO42:VON42)","v":1.0999999999999999},null,null,{"$f":"IRR(VMS42:VOR42)","v":{"$error":"#NUM!"}},{"$f":"IRRm(VMS42:VOR42)","v":1.0999999999999999},null,null,{"$f":"IRR(VMW42:VOV42)","v":{"$error":"#NUM!"}},{"$f":"IRRm(VMW42:VOV42)","v":1.0999999999999999},null,null,{"$f":"IRR(VNA42:VOZ42)","v":{"$error":"#NUM!"}},{"$f":"IRRm(VNA42:VOZ42)","v":1.0999999999999999},null,null,{"$f":"IRR(VNE42:VPD42)","v":{"$error":"#NUM!"}},{"$f":"IRRm(VNE42:VPD42)","v":1.0999999999999999},null,null,{"$f":"IRR(VNI42:VPH42)","v":{"$error":"#NUM!"}},{"$f":"IRRm(VNI42:VPH42)","v":1.0999999999999999},null,null,{"$f":"IRR(VNM42:VPL42)","v":{"$error":"#NUM!"}},{"$f":"IRRm(VNM42:VPL42)","v":1.0999999999999999},null,null,{"$f":"IRR(VNQ42:VPP42)","v":{"$error":"#NUM!"}},{"$f":"IRRm(VNQ42:VPP42)","v":1.0999999999999999},null,null,{"$f":"IRR(VNU42:VPT42)","v":{"$error":"#NUM!"}},{"$f":"IRRm(VNU42:VPT42)","v":1.0999999999999999},null,null,{"$f":"IRR(VNY42:VPX42)","v":{"$error":"#NUM!"}},{"$f":"IRRm(VNY42:VPX42)","v":1.0999999999999999},null,null,{"$f":"IRR(VOC42:VQB42)","v":{"$error":"#NUM!"}},{"$f":"IRRm(VOC42:VQB42)","v":1.0999999999999999},null,null,{"$f":"IRR(VOG42:VQF42)","v":{"$error":"#NUM!"}},{"$f":"IRRm(VOG42:VQF42)","v":1.0999999999999999},null,null,{"$f":"IRR(VOK42:VQJ42)","v":{"$error":"#NUM!"}},{"$f":"IRRm(VOK42:VQJ42)","v":1.0999999999999999},null,null,{"$f":"IRR(VOO42:VQN42)","v":{"$error":"#NUM!"}},{"$f":"IRRm(VOO42:VQN42)","v":1.0999999999999999},null,null,{"$f":"IRR(VOS42:VQR42)","v":{"$error":"#NUM!"}},{"$f":"IRRm(VOS42:VQR42)","v":1.0999999999999999},null,null,{"$f":"IRR(VOW42:VQV42)","v":{"$error":"#NUM!"}},{"$f":"IRRm(VOW42:VQV42)","v":1.0999999999999999},null,null,{"$f":"IRR(VPA42:VQZ42)","v":{"$error":"#NUM!"}},{"$f":"IRRm(VPA42:VQZ42)","v":1.0999999999999999},null,null,{"$f":"IRR(VPE42:VRD42)","v":{"$error":"#NUM!"}},{"$f":"IRRm(VPE42:VRD42)","v":1.0999999999999999},null,null,{"$f":"IRR(VPI42:VRH42)","v":{"$error":"#NUM!"}},{"$f":"IRRm(VPI42:VRH42)","v":1.0999999999999999},null,null,{"$f":"IRR(VPM42:VRL42)","v":{"$error":"#NUM!"}},{"$f":"IRRm(VPM42:VRL42)","v":1.0999999999999999},null,null,{"$f":"IRR(VPQ42:VRP42)","v":{"$error":"#NUM!"}},{"$f":"IRRm(VPQ42:VRP42)","v":1.0999999999999999},null,null,{"$f":"IRR(VPU42:VRT42)","v":{"$error":"#NUM!"}},{"$f":"IRRm(VPU42:VRT42)","v":1.0999999999999999},null,null,{"$f":"IRR(VPY42:VRX42)","v":{"$error":"#NUM!"}},{"$f":"IRRm(VPY42:VRX42)","v":1.0999999999999999},null,null,{"$f":"IRR(VQC42:VSB42)","v":{"$error":"#NUM!"}},{"$f":"IRRm(VQC42:VSB42)","v":1.0999999999999999},null,null,{"$f":"IRR(VQG42:VSF42)","v":{"$error":"#NUM!"}},{"$f":"IRRm(VQG42:VSF42)","v":1.0999999999999999},null,null,{"$f":"IRR(VQK42:VSJ42)","v":{"$error":"#NUM!"}},{"$f":"IRRm(VQK42:VSJ42)","v":1.0999999999999999},null,null,{"$f":"IRR(VQO42:VSN42)","v":{"$error":"#NUM!"}},{"$f":"IRRm(VQO42:VSN42)","v":1.0999999999999999},null,null,{"$f":"IRR(VQS42:VSR42)","v":{"$error":"#NUM!"}},{"$f":"IRRm(VQS42:VSR42)","v":1.0999999999999999},null,null,{"$f":"IRR(VQW42:VSV42)","v":{"$error":"#NUM!"}},{"$f":"IRRm(VQW42:VSV42)","v":1.0999999999999999},null,null,{"$f":"IRR(VRA42:VSZ42)","v":{"$error":"#NUM!"}},{"$f":"IRRm(VRA42:VSZ42)","v":1.0999999999999999},null,null,{"$f":"IRR(VRE42:VTD42)","v":{"$error":"#NUM!"}},{"$f":"IRRm(VRE42:VTD42)","v":1.0999999999999999},null,null,{"$f":"IRR(VRI42:VTH42)","v":{"$error":"#NUM!"}},{"$f":"IRRm(VRI42:VTH42)","v":1.0999999999999999},null,null,{"$f":"IRR(VRM42:VTL42)","v":{"$error":"#NUM!"}},{"$f":"IRRm(VRM42:VTL42)","v":1.0999999999999999},null,null,{"$f":"IRR(VRQ42:VTP42)","v":{"$error":"#NUM!"}},{"$f":"IRRm(VRQ42:VTP42)","v":1.0999999999999999},null,null,{"$f":"IRR(VRU42:VTT42)","v":{"$error":"#NUM!"}},{"$f":"IRRm(VRU42:VTT42)","v":1.0999999999999999},null,null,{"$f":"IRR(VRY42:VTX42)","v":{"$error":"#NUM!"}},{"$f":"IRRm(VRY42:VTX42)","v":1.0999999999999999},null,null,{"$f":"IRR(VSC42:VUB42)","v":{"$error":"#NUM!"}},{"$f":"IRRm(VSC42:VUB42)","v":1.0999999999999999},null,null,{"$f":"IRR(VSG42:VUF42)","v":{"$error":"#NUM!"}},{"$f":"IRRm(VSG42:VUF42)","v":1.0999999999999999},null,null,{"$f":"IRR(VSK42:VUJ42)","v":{"$error":"#NUM!"}},{"$f":"IRRm(VSK42:VUJ42)","v":1.0999999999999999},null,null,{"$f":"IRR(VSO42:VUN42)","v":{"$error":"#NUM!"}},{"$f":"IRRm(VSO42:VUN42)","v":1.0999999999999999},null,null,{"$f":"IRR(VSS42:VUR42)","v":{"$error":"#NUM!"}},{"$f":"IRRm(VSS42:VUR42)","v":1.0999999999999999},null,null,{"$f":"IRR(VSW42:VUV42)","v":{"$error":"#NUM!"}},{"$f":"IRRm(VSW42:VUV42)","v":1.0999999999999999},null,null,{"$f":"IRR(VTA42:VUZ42)","v":{"$error":"#NUM!"}},{"$f":"IRRm(VTA42:VUZ42)","v":1.0999999999999999},null,null,{"$f":"IRR(VTE42:VVD42)","v":{"$error":"#NUM!"}},{"$f":"IRRm(VTE42:VVD42)","v":1.0999999999999999},null,null,{"$f":"IRR(VTI42:VVH42)","v":{"$error":"#NUM!"}},{"$f":"IRRm(VTI42:VVH42)","v":1.0999999999999999},null,null,{"$f":"IRR(VTM42:VVL42)","v":{"$error":"#NUM!"}},{"$f":"IRRm(VTM42:VVL42)","v":1.0999999999999999},null,null,{"$f":"IRR(VTQ42:VVP42)","v":{"$error":"#NUM!"}},{"$f":"IRRm(VTQ42:VVP42)","v":1.0999999999999999},null,null,{"$f":"IRR(VTU42:VVT42)","v":{"$error":"#NUM!"}},{"$f":"IRRm(VTU42:VVT42)","v":1.0999999999999999},null,null,{"$f":"IRR(VTY42:VVX42)","v":{"$error":"#NUM!"}},{"$f":"IRRm(VTY42:VVX42)","v":1.0999999999999999},null,null,{"$f":"IRR(VUC42:VWB42)","v":{"$error":"#NUM!"}},{"$f":"IRRm(VUC42:VWB42)","v":1.0999999999999999},null,null,{"$f":"IRR(VUG42:VWF42)","v":{"$error":"#NUM!"}},{"$f":"IRRm(VUG42:VWF42)","v":1.0999999999999999},null,null,{"$f":"IRR(VUK42:VWJ42)","v":{"$error":"#NUM!"}},{"$f":"IRRm(VUK42:VWJ42)","v":1.0999999999999999},null,null,{"$f":"IRR(VUO42:VWN42)","v":{"$error":"#NUM!"}},{"$f":"IRRm(VUO42:VWN42)","v":1.0999999999999999},null,null,{"$f":"IRR(VUS42:VWR42)","v":{"$error":"#NUM!"}},{"$f":"IRRm(VUS42:VWR42)","v":1.0999999999999999},null,null,{"$f":"IRR(VUW42:VWV42)","v":{"$error":"#NUM!"}},{"$f":"IRRm(VUW42:VWV42)","v":1.0999999999999999},null,null,{"$f":"IRR(VVA42:VWZ42)","v":{"$error":"#NUM!"}},{"$f":"IRRm(VVA42:VWZ42)","v":1.0999999999999999},null,null,{"$f":"IRR(VVE42:VXD42)","v":{"$error":"#NUM!"}},{"$f":"IRRm(VVE42:VXD42)","v":1.0999999999999999},null,null,{"$f":"IRR(VVI42:VXH42)","v":{"$error":"#NUM!"}},{"$f":"IRRm(VVI42:VXH42)","v":1.0999999999999999},null,null,{"$f":"IRR(VVM42:VXL42)","v":{"$error":"#NUM!"}},{"$f":"IRRm(VVM42:VXL42)","v":1.0999999999999999},null,null,{"$f":"IRR(VVQ42:VXP42)","v":{"$error":"#NUM!"}},{"$f":"IRRm(VVQ42:VXP42)","v":1.0999999999999999},null,null,{"$f":"IRR(VVU42:VXT42)","v":{"$error":"#NUM!"}},{"$f":"IRRm(VVU42:VXT42)","v":1.0999999999999999},null,null,{"$f":"IRR(VVY42:VXX42)","v":{"$error":"#NUM!"}},{"$f":"IRRm(VVY42:VXX42)","v":1.0999999999999999},null,null,{"$f":"IRR(VWC42:VYB42)","v":{"$error":"#NUM!"}},{"$f":"IRRm(VWC42:VYB42)","v":1.0999999999999999},null,null,{"$f":"IRR(VWG42:VYF42)","v":{"$error":"#NUM!"}},{"$f":"IRRm(VWG42:VYF42)","v":1.0999999999999999},null,null,{"$f":"IRR(VWK42:VYJ42)","v":{"$error":"#NUM!"}},{"$f":"IRRm(VWK42:VYJ42)","v":1.0999999999999999},null,null,{"$f":"IRR(VWO42:VYN42)","v":{"$error":"#NUM!"}},{"$f":"IRRm(VWO42:VYN42)","v":1.0999999999999999},null,null,{"$f":"IRR(VWS42:VYR42)","v":{"$error":"#NUM!"}},{"$f":"IRRm(VWS42:VYR42)","v":1.0999999999999999},null,null,{"$f":"IRR(VWW42:VYV42)","v":{"$error":"#NUM!"}},{"$f":"IRRm(VWW42:VYV42)","v":1.0999999999999999},null,null,{"$f":"IRR(VXA42:VYZ42)","v":{"$error":"#NUM!"}},{"$f":"IRRm(VXA42:VYZ42)","v":1.0999999999999999},null,null,{"$f":"IRR(VXE42:VZD42)","v":{"$error":"#NUM!"}},{"$f":"IRRm(VXE42:VZD42)","v":1.0999999999999999},null,null,{"$f":"IRR(VXI42:VZH42)","v":{"$error":"#NUM!"}},{"$f":"IRRm(VXI42:VZH42)","v":1.0999999999999999},null,null,{"$f":"IRR(VXM42:VZL42)","v":{"$error":"#NUM!"}},{"$f":"IRRm(VXM42:VZL42)","v":1.0999999999999999},null,null,{"$f":"IRR(VXQ42:VZP42)","v":{"$error":"#NUM!"}},{"$f":"IRRm(VXQ42:VZP42)","v":1.0999999999999999},null,null,{"$f":"IRR(VXU42:VZT42)","v":{"$error":"#NUM!"}},{"$f":"IRRm(VXU42:VZT42)","v":1.0999999999999999},null,null,{"$f":"IRR(VXY42:VZX42)","v":{"$error":"#NUM!"}},{"$f":"IRRm(VXY42:VZX42)","v":1.0999999999999999},null,null,{"$f":"IRR(VYC42:WAB42)","v":{"$error":"#NUM!"}},{"$f":"IRRm(VYC42:WAB42)","v":1.0999999999999999},null,null,{"$f":"IRR(VYG42:WAF42)","v":{"$error":"#NUM!"}},{"$f":"IRRm(VYG42:WAF42)","v":1.0999999999999999},null,null,{"$f":"IRR(VYK42:WAJ42)","v":{"$error":"#NUM!"}},{"$f":"IRRm(VYK42:WAJ42)","v":1.0999999999999999},null,null,{"$f":"IRR(VYO42:WAN42)","v":{"$error":"#NUM!"}},{"$f":"IRRm(VYO42:WAN42)","v":1.0999999999999999},null,null,{"$f":"IRR(VYS42:WAR42)","v":{"$error":"#NUM!"}},{"$f":"IRRm(VYS42:WAR42)","v":1.0999999999999999},null,null,{"$f":"IRR(VYW42:WAV42)","v":{"$error":"#NUM!"}},{"$f":"IRRm(VYW42:WAV42)","v":1.0999999999999999},null,null,{"$f":"IRR(VZA42:WAZ42)","v":{"$error":"#NUM!"}},{"$f":"IRRm(VZA42:WAZ42)","v":1.0999999999999999},null,null,{"$f":"IRR(VZE42:WBD42)","v":{"$error":"#NUM!"}},{"$f":"IRRm(VZE42:WBD42)","v":1.0999999999999999},null,null,{"$f":"IRR(VZI42:WBH42)","v":{"$error":"#NUM!"}},{"$f":"IRRm(VZI42:WBH42)","v":1.0999999999999999},null,null,{"$f":"IRR(VZM42:WBL42)","v":{"$error":"#NUM!"}},{"$f":"IRRm(VZM42:WBL42)","v":1.0999999999999999},null,null,{"$f":"IRR(VZQ42:WBP42)","v":{"$error":"#NUM!"}},{"$f":"IRRm(VZQ42:WBP42)","v":1.0999999999999999},null,null,{"$f":"IRR(VZU42:WBT42)","v":{"$error":"#NUM!"}},{"$f":"IRRm(VZU42:WBT42)","v":1.0999999999999999},null,null,{"$f":"IRR(VZY42:WBX42)","v":{"$error":"#NUM!"}},{"$f":"IRRm(VZY42:WBX42)","v":1.0999999999999999},null,null,{"$f":"IRR(WAC42:WCB42)","v":{"$error":"#NUM!"}},{"$f":"IRRm(WAC42:WCB42)","v":1.0999999999999999},null,null,{"$f":"IRR(WAG42:WCF42)","v":{"$error":"#NUM!"}},{"$f":"IRRm(WAG42:WCF42)","v":1.0999999999999999},null,null,{"$f":"IRR(WAK42:WCJ42)","v":{"$error":"#NUM!"}},{"$f":"IRRm(WAK42:WCJ42)","v":1.0999999999999999},null,null,{"$f":"IRR(WAO42:WCN42)","v":{"$error":"#NUM!"}},{"$f":"IRRm(WAO42:WCN42)","v":1.0999999999999999},null,null,{"$f":"IRR(WAS42:WCR42)","v":{"$error":"#NUM!"}},{"$f":"IRRm(WAS42:WCR42)","v":1.0999999999999999},null,null,{"$f":"IRR(WAW42:WCV42)","v":{"$error":"#NUM!"}},{"$f":"IRRm(WAW42:WCV42)","v":1.0999999999999999},null,null,{"$f":"IRR(WBA42:WCZ42)","v":{"$error":"#NUM!"}},{"$f":"IRRm(WBA42:WCZ42)","v":1.0999999999999999},null,null,{"$f":"IRR(WBE42:WDD42)","v":{"$error":"#NUM!"}},{"$f":"IRRm(WBE42:WDD42)","v":1.0999999999999999},null,null,{"$f":"IRR(WBI42:WDH42)","v":{"$error":"#NUM!"}},{"$f":"IRRm(WBI42:WDH42)","v":1.0999999999999999},null,null,{"$f":"IRR(WBM42:WDL42)","v":{"$error":"#NUM!"}},{"$f":"IRRm(WBM42:WDL42)","v":1.0999999999999999},null,null,{"$f":"IRR(WBQ42:WDP42)","v":{"$error":"#NUM!"}},{"$f":"IRRm(WBQ42:WDP42)","v":1.0999999999999999},null,null,{"$f":"IRR(WBU42:WDT42)","v":{"$error":"#NUM!"}},{"$f":"IRRm(WBU42:WDT42)","v":1.0999999999999999},null,null,{"$f":"IRR(WBY42:WDX42)","v":{"$error":"#NUM!"}},{"$f":"IRRm(WBY42:WDX42)","v":1.0999999999999999},null,null,{"$f":"IRR(WCC42:WEB42)","v":{"$error":"#NUM!"}},{"$f":"IRRm(WCC42:WEB42)","v":1.0999999999999999},null,null,{"$f":"IRR(WCG42:WEF42)","v":{"$error":"#NUM!"}},{"$f":"IRRm(WCG42:WEF42)","v":1.0999999999999999},null,null,{"$f":"IRR(WCK42:WEJ42)","v":{"$error":"#NUM!"}},{"$f":"IRRm(WCK42:WEJ42)","v":1.0999999999999999},null,null,{"$f":"IRR(WCO42:WEN42)","v":{"$error":"#NUM!"}},{"$f":"IRRm(WCO42:WEN42)","v":1.0999999999999999},null,null,{"$f":"IRR(WCS42:WER42)","v":{"$error":"#NUM!"}},{"$f":"IRRm(WCS42:WER42)","v":1.0999999999999999},null,null,{"$f":"IRR(WCW42:WEV42)","v":{"$error":"#NUM!"}},{"$f":"IRRm(WCW42:WEV42)","v":1.0999999999999999},null,null,{"$f":"IRR(WDA42:WEZ42)","v":{"$error":"#NUM!"}},{"$f":"IRRm(WDA42:WEZ42)","v":1.0999999999999999},null,null,{"$f":"IRR(WDE42:WFD42)","v":{"$error":"#NUM!"}},{"$f":"IRRm(WDE42:WFD42)","v":1.0999999999999999},null,null,{"$f":"IRR(WDI42:WFH42)","v":{"$error":"#NUM!"}},{"$f":"IRRm(WDI42:WFH42)","v":1.0999999999999999},null,null,{"$f":"IRR(WDM42:WFL42)","v":{"$error":"#NUM!"}},{"$f":"IRRm(WDM42:WFL42)","v":1.0999999999999999},null,null,{"$f":"IRR(WDQ42:WFP42)","v":{"$error":"#NUM!"}},{"$f":"IRRm(WDQ42:WFP42)","v":1.0999999999999999},null,null,{"$f":"IRR(WDU42:WFT42)","v":{"$error":"#NUM!"}},{"$f":"IRRm(WDU42:WFT42)","v":1.0999999999999999},null,null,{"$f":"IRR(WDY42:WFX42)","v":{"$error":"#NUM!"}},{"$f":"IRRm(WDY42:WFX42)","v":1.0999999999999999},null,null,{"$f":"IRR(WEC42:WGB42)","v":{"$error":"#NUM!"}},{"$f":"IRRm(WEC42:WGB42)","v":1.0999999999999999},null,null,{"$f":"IRR(WEG42:WGF42)","v":{"$error":"#NUM!"}},{"$f":"IRRm(WEG42:WGF42)","v":1.0999999999999999},null,null,{"$f":"IRR(WEK42:WGJ42)","v":{"$error":"#NUM!"}},{"$f":"IRRm(WEK42:WGJ42)","v":1.0999999999999999},null,null,{"$f":"IRR(WEO42:WGN42)","v":{"$error":"#NUM!"}},{"$f":"IRRm(WEO42:WGN42)","v":1.0999999999999999},null,null,{"$f":"IRR(WES42:WGR42)","v":{"$error":"#NUM!"}},{"$f":"IRRm(WES42:WGR42)","v":1.0999999999999999},null,null,{"$f":"IRR(WEW42:WGV42)","v":{"$error":"#NUM!"}},{"$f":"IRRm(WEW42:WGV42)","v":1.0999999999999999},null,null,{"$f":"IRR(WFA42:WGZ42)","v":{"$error":"#NUM!"}},{"$f":"IRRm(WFA42:WGZ42)","v":1.0999999999999999},null,null,{"$f":"IRR(WFE42:WHD42)","v":{"$error":"#NUM!"}},{"$f":"IRRm(WFE42:WHD42)","v":1.0999999999999999},null,null,{"$f":"IRR(WFI42:WHH42)","v":{"$error":"#NUM!"}},{"$f":"IRRm(WFI42:WHH42)","v":1.0999999999999999},null,null,{"$f":"IRR(WFM42:WHL42)","v":{"$error":"#NUM!"}},{"$f":"IRRm(WFM42:WHL42)","v":1.0999999999999999},null,null,{"$f":"IRR(WFQ42:WHP42)","v":{"$error":"#NUM!"}},{"$f":"IRRm(WFQ42:WHP42)","v":1.0999999999999999},null,null,{"$f":"IRR(WFU42:WHT42)","v":{"$error":"#NUM!"}},{"$f":"IRRm(WFU42:WHT42)","v":1.0999999999999999},null,null,{"$f":"IRR(WFY42:WHX42)","v":{"$error":"#NUM!"}},{"$f":"IRRm(WFY42:WHX42)","v":1.0999999999999999},null,null,{"$f":"IRR(WGC42:WIB42)","v":{"$error":"#NUM!"}},{"$f":"IRRm(WGC42:WIB42)","v":1.0999999999999999},null,null,{"$f":"IRR(WGG42:WIF42)","v":{"$error":"#NUM!"}},{"$f":"IRRm(WGG42:WIF42)","v":1.0999999999999999},null,null,{"$f":"IRR(WGK42:WIJ42)","v":{"$error":"#NUM!"}},{"$f":"IRRm(WGK42:WIJ42)","v":1.0999999999999999},null,null,{"$f":"IRR(WGO42:WIN42)","v":{"$error":"#NUM!"}},{"$f":"IRRm(WGO42:WIN42)","v":1.0999999999999999},null,null,{"$f":"IRR(WGS42:WIR42)","v":{"$error":"#NUM!"}},{"$f":"IRRm(WGS42:WIR42)","v":1.0999999999999999},null,null,{"$f":"IRR(WGW42:WIV42)","v":{"$error":"#NUM!"}},{"$f":"IRRm(WGW42:WIV42)","v":1.0999999999999999},null,null,{"$f":"IRR(WHA42:WIZ42)","v":{"$error":"#NUM!"}},{"$f":"IRRm(WHA42:WIZ42)","v":1.0999999999999999},null,null,{"$f":"IRR(WHE42:WJD42)","v":{"$error":"#NUM!"}},{"$f":"IRRm(WHE42:WJD42)","v":1.0999999999999999},null,null,{"$f":"IRR(WHI42:WJH42)","v":{"$error":"#NUM!"}},{"$f":"IRRm(WHI42:WJH42)","v":1.0999999999999999},null,null,{"$f":"IRR(WHM42:WJL42)","v":{"$error":"#NUM!"}},{"$f":"IRRm(WHM42:WJL42)","v":1.0999999999999999},null,null,{"$f":"IRR(WHQ42:WJP42)","v":{"$error":"#NUM!"}},{"$f":"IRRm(WHQ42:WJP42)","v":1.0999999999999999},null,null,{"$f":"IRR(WHU42:WJT42)","v":{"$error":"#NUM!"}},{"$f":"IRRm(WHU42:WJT42)","v":1.0999999999999999},null,null,{"$f":"IRR(WHY42:WJX42)","v":{"$error":"#NUM!"}},{"$f":"IRRm(WHY42:WJX42)","v":1.0999999999999999},null,null,{"$f":"IRR(WIC42:WKB42)","v":{"$error":"#NUM!"}},{"$f":"IRRm(WIC42:WKB42)","v":1.0999999999999999},null,null,{"$f":"IRR(WIG42:WKF42)","v":{"$error":"#NUM!"}},{"$f":"IRRm(WIG42:WKF42)","v":1.0999999999999999},null,null,{"$f":"IRR(WIK42:WKJ42)","v":{"$error":"#NUM!"}},{"$f":"IRRm(WIK42:WKJ42)","v":1.0999999999999999},null,null,{"$f":"IRR(WIO42:WKN42)","v":{"$error":"#NUM!"}},{"$f":"IRRm(WIO42:WKN42)","v":1.0999999999999999},null,null,{"$f":"IRR(WIS42:WKR42)","v":{"$error":"#NUM!"}},{"$f":"IRRm(WIS42:WKR42)","v":1.0999999999999999},null,null,{"$f":"IRR(WIW42:WKV42)","v":{"$error":"#NUM!"}},{"$f":"IRRm(WIW42:WKV42)","v":1.0999999999999999},null,null,{"$f":"IRR(WJA42:WKZ42)","v":{"$error":"#NUM!"}},{"$f":"IRRm(WJA42:WKZ42)","v":1.0999999999999999},null,null,{"$f":"IRR(WJE42:WLD42)","v":{"$error":"#NUM!"}},{"$f":"IRRm(WJE42:WLD42)","v":1.0999999999999999},null,null,{"$f":"IRR(WJI42:WLH42)","v":{"$error":"#NUM!"}},{"$f":"IRRm(WJI42:WLH42)","v":1.0999999999999999},null,null,{"$f":"IRR(WJM42:WLL42)","v":{"$error":"#NUM!"}},{"$f":"IRRm(WJM42:WLL42)","v":1.0999999999999999},null,null,{"$f":"IRR(WJQ42:WLP42)","v":{"$error":"#NUM!"}},{"$f":"IRRm(WJQ42:WLP42)","v":1.0999999999999999},null,null,{"$f":"IRR(WJU42:WLT42)","v":{"$error":"#NUM!"}},{"$f":"IRRm(WJU42:WLT42)","v":1.0999999999999999},null,null,{"$f":"IRR(WJY42:WLX42)","v":{"$error":"#NUM!"}},{"$f":"IRRm(WJY42:WLX42)","v":1.0999999999999999},null,null,{"$f":"IRR(WKC42:WMB42)","v":{"$error":"#NUM!"}},{"$f":"IRRm(WKC42:WMB42)","v":1.0999999999999999},null,null,{"$f":"IRR(WKG42:WMF42)","v":{"$error":"#NUM!"}},{"$f":"IRRm(WKG42:WMF42)","v":1.0999999999999999},null,null,{"$f":"IRR(WKK42:WMJ42)","v":{"$error":"#NUM!"}},{"$f":"IRRm(WKK42:WMJ42)","v":1.0999999999999999},null,null,{"$f":"IRR(WKO42:WMN42)","v":{"$error":"#NUM!"}},{"$f":"IRRm(WKO42:WMN42)","v":1.0999999999999999},null,null,{"$f":"IRR(WKS42:WMR42)","v":{"$error":"#NUM!"}},{"$f":"IRRm(WKS42:WMR42)","v":1.0999999999999999},null,null,{"$f":"IRR(WKW42:WMV42)","v":{"$error":"#NUM!"}},{"$f":"IRRm(WKW42:WMV42)","v":1.0999999999999999},null,null,{"$f":"IRR(WLA42:WMZ42)","v":{"$error":"#NUM!"}},{"$f":"IRRm(WLA42:WMZ42)","v":1.0999999999999999},null,null,{"$f":"IRR(WLE42:WND42)","v":{"$error":"#NUM!"}},{"$f":"IRRm(WLE42:WND42)","v":1.0999999999999999},null,null,{"$f":"IRR(WLI42:WNH42)","v":{"$error":"#NUM!"}},{"$f":"IRRm(WLI42:WNH42)","v":1.0999999999999999},null,null,{"$f":"IRR(WLM42:WNL42)","v":{"$error":"#NUM!"}},{"$f":"IRRm(WLM42:WNL42)","v":1.0999999999999999},null,null,{"$f":"IRR(WLQ42:WNP42)","v":{"$error":"#NUM!"}},{"$f":"IRRm(WLQ42:WNP42)","v":1.0999999999999999},null,null,{"$f":"IRR(WLU42:WNT42)","v":{"$error":"#NUM!"}},{"$f":"IRRm(WLU42:WNT42)","v":1.0999999999999999},null,null,{"$f":"IRR(WLY42:WNX42)","v":{"$error":"#NUM!"}},{"$f":"IRRm(WLY42:WNX42)","v":1.0999999999999999},null,null,{"$f":"IRR(WMC42:WOB42)","v":{"$error":"#NUM!"}},{"$f":"IRRm(WMC42:WOB42)","v":1.0999999999999999},null,null,{"$f":"IRR(WMG42:WOF42)","v":{"$error":"#NUM!"}},{"$f":"IRRm(WMG42:WOF42)","v":1.0999999999999999},null,null,{"$f":"IRR(WMK42:WOJ42)","v":{"$error":"#NUM!"}},{"$f":"IRRm(WMK42:WOJ42)","v":1.0999999999999999},null,null,{"$f":"IRR(WMO42:WON42)","v":{"$error":"#NUM!"}},{"$f":"IRRm(WMO42:WON42)","v":1.0999999999999999},null,null,{"$f":"IRR(WMS42:WOR42)","v":{"$error":"#NUM!"}},{"$f":"IRRm(WMS42:WOR42)","v":1.0999999999999999},null,null,{"$f":"IRR(WMW42:WOV42)","v":{"$error":"#NUM!"}},{"$f":"IRRm(WMW42:WOV42)","v":1.0999999999999999},null,null,{"$f":"IRR(WNA42:WOZ42)","v":{"$error":"#NUM!"}},{"$f":"IRRm(WNA42:WOZ42)","v":1.0999999999999999},null,null,{"$f":"IRR(WNE42:WPD42)","v":{"$error":"#NUM!"}},{"$f":"IRRm(WNE42:WPD42)","v":1.0999999999999999},null,null,{"$f":"IRR(WNI42:WPH42)","v":{"$error":"#NUM!"}},{"$f":"IRRm(WNI42:WPH42)","v":1.0999999999999999},null,null,{"$f":"IRR(WNM42:WPL42)","v":{"$error":"#NUM!"}},{"$f":"IRRm(WNM42:WPL42)","v":1.0999999999999999},null,null,{"$f":"IRR(WNQ42:WPP42)","v":{"$error":"#NUM!"}},{"$f":"IRRm(WNQ42:WPP42)","v":1.0999999999999999},null,null,{"$f":"IRR(WNU42:WPT42)","v":{"$error":"#NUM!"}},{"$f":"IRRm(WNU42:WPT42)","v":1.0999999999999999},null,null,{"$f":"IRR(WNY42:WPX42)","v":{"$error":"#NUM!"}},{"$f":"IRRm(WNY42:WPX42)","v":1.0999999999999999},null,null,{"$f":"IRR(WOC42:WQB42)","v":{"$error":"#NUM!"}},{"$f":"IRRm(WOC42:WQB42)","v":1.0999999999999999},null,null,{"$f":"IRR(WOG42:WQF42)","v":{"$error":"#NUM!"}},{"$f":"IRRm(WOG42:WQF42)","v":1.0999999999999999},null,null,{"$f":"IRR(WOK42:WQJ42)","v":{"$error":"#NUM!"}},{"$f":"IRRm(WOK42:WQJ42)","v":1.0999999999999999},null,null,{"$f":"IRR(WOO42:WQN42)","v":{"$error":"#NUM!"}},{"$f":"IRRm(WOO42:WQN42)","v":1.0999999999999999},null,null,{"$f":"IRR(WOS42:WQR42)","v":{"$error":"#NUM!"}},{"$f":"IRRm(WOS42:WQR42)","v":1.0999999999999999},null,null,{"$f":"IRR(WOW42:WQV42)","v":{"$error":"#NUM!"}},{"$f":"IRRm(WOW42:WQV42)","v":1.0999999999999999},null,null,{"$f":"IRR(WPA42:WQZ42)","v":{"$error":"#NUM!"}},{"$f":"IRRm(WPA42:WQZ42)","v":1.0999999999999999},null,null,{"$f":"IRR(WPE42:WRD42)","v":{"$error":"#NUM!"}},{"$f":"IRRm(WPE42:WRD42)","v":1.0999999999999999},null,null,{"$f":"IRR(WPI42:WRH42)","v":{"$error":"#NUM!"}},{"$f":"IRRm(WPI42:WRH42)","v":1.0999999999999999},null,null,{"$f":"IRR(WPM42:WRL42)","v":{"$error":"#NUM!"}},{"$f":"IRRm(WPM42:WRL42)","v":1.0999999999999999},null,null,{"$f":"IRR(WPQ42:WRP42)","v":{"$error":"#NUM!"}},{"$f":"IRRm(WPQ42:WRP42)","v":1.0999999999999999},null,null,{"$f":"IRR(WPU42:WRT42)","v":{"$error":"#NUM!"}},{"$f":"IRRm(WPU42:WRT42)","v":1.0999999999999999},null,null,{"$f":"IRR(WPY42:WRX42)","v":{"$error":"#NUM!"}},{"$f":"IRRm(WPY42:WRX42)","v":1.0999999999999999},null,null,{"$f":"IRR(WQC42:WSB42)","v":{"$error":"#NUM!"}},{"$f":"IRRm(WQC42:WSB42)","v":1.0999999999999999},null,null,{"$f":"IRR(WQG42:WSF42)","v":{"$error":"#NUM!"}},{"$f":"IRRm(WQG42:WSF42)","v":1.0999999999999999},null,null,{"$f":"IRR(WQK42:WSJ42)","v":{"$error":"#NUM!"}},{"$f":"IRRm(WQK42:WSJ42)","v":1.0999999999999999},null,null,{"$f":"IRR(WQO42:WSN42)","v":{"$error":"#NUM!"}},{"$f":"IRRm(WQO42:WSN42)","v":1.0999999999999999},null,null,{"$f":"IRR(WQS42:WSR42)","v":{"$error":"#NUM!"}},{"$f":"IRRm(WQS42:WSR42)","v":1.0999999999999999},null,null,{"$f":"IRR(WQW42:WSV42)","v":{"$error":"#NUM!"}},{"$f":"IRRm(WQW42:WSV42)","v":1.0999999999999999},null,null,{"$f":"IRR(WRA42:WSZ42)","v":{"$error":"#NUM!"}},{"$f":"IRRm(WRA42:WSZ42)","v":1.0999999999999999},null,null,{"$f":"IRR(WRE42:WTD42)","v":{"$error":"#NUM!"}},{"$f":"IRRm(WRE42:WTD42)","v":1.0999999999999999},null,null,{"$f":"IRR(WRI42:WTH42)","v":{"$error":"#NUM!"}},{"$f":"IRRm(WRI42:WTH42)","v":1.0999999999999999},null,null,{"$f":"IRR(WRM42:WTL42)","v":{"$error":"#NUM!"}},{"$f":"IRRm(WRM42:WTL42)","v":1.0999999999999999},null,null,{"$f":"IRR(WRQ42:WTP42)","v":{"$error":"#NUM!"}},{"$f":"IRRm(WRQ42:WTP42)","v":1.0999999999999999},null,null,{"$f":"IRR(WRU42:WTT42)","v":{"$error":"#NUM!"}},{"$f":"IRRm(WRU42:WTT42)","v":1.0999999999999999},null,null,{"$f":"IRR(WRY42:WTX42)","v":{"$error":"#NUM!"}},{"$f":"IRRm(WRY42:WTX42)","v":1.0999999999999999},null,null,{"$f":"IRR(WSC42:WUB42)","v":{"$error":"#NUM!"}},{"$f":"IRRm(WSC42:WUB42)","v":1.0999999999999999},null,null,{"$f":"IRR(WSG42:WUF42)","v":{"$error":"#NUM!"}},{"$f":"IRRm(WSG42:WUF42)","v":1.0999999999999999},null,null,{"$f":"IRR(WSK42:WUJ42)","v":{"$error":"#NUM!"}},{"$f":"IRRm(WSK42:WUJ42)","v":1.0999999999999999},null,null,{"$f":"IRR(WSO42:WUN42)","v":{"$error":"#NUM!"}},{"$f":"IRRm(WSO42:WUN42)","v":1.0999999999999999},null,null,{"$f":"IRR(WSS42:WUR42)","v":{"$error":"#NUM!"}},{"$f":"IRRm(WSS42:WUR42)","v":1.0999999999999999},null,null,{"$f":"IRR(WSW42:WUV42)","v":{"$error":"#NUM!"}},{"$f":"IRRm(WSW42:WUV42)","v":1.0999999999999999},null,null,{"$f":"IRR(WTA42:WUZ42)","v":{"$error":"#NUM!"}},{"$f":"IRRm(WTA42:WUZ42)","v":1.0999999999999999},null,null,{"$f":"IRR(WTE42:WVD42)","v":{"$error":"#NUM!"}},{"$f":"IRRm(WTE42:WVD42)","v":1.0999999999999999},null,null,{"$f":"IRR(WTI42:WVH42)","v":{"$error":"#NUM!"}},{"$f":"IRRm(WTI42:WVH42)","v":1.0999999999999999},null,null,{"$f":"IRR(WTM42:WVL42)","v":{"$error":"#NUM!"}},{"$f":"IRRm(WTM42:WVL42)","v":1.0999999999999999},null,null,{"$f":"IRR(WTQ42:WVP42)","v":{"$error":"#NUM!"}},{"$f":"IRRm(WTQ42:WVP42)","v":1.0999999999999999},null,null,{"$f":"IRR(WTU42:WVT42)","v":{"$error":"#NUM!"}},{"$f":"IRRm(WTU42:WVT42)","v":1.0999999999999999},null,null,{"$f":"IRR(WTY42:WVX42)","v":{"$error":"#NUM!"}},{"$f":"IRRm(WTY42:WVX42)","v":1.0999999999999999},null,null,{"$f":"IRR(WUC42:WWB42)","v":{"$error":"#NUM!"}},{"$f":"IRRm(WUC42:WWB42)","v":1.0999999999999999},null,null,{"$f":"IRR(WUG42:WWF42)","v":{"$error":"#NUM!"}},{"$f":"IRRm(WUG42:WWF42)","v":1.0999999999999999},null,null,{"$f":"IRR(WUK42:WWJ42)","v":{"$error":"#NUM!"}},{"$f":"IRRm(WUK42:WWJ42)","v":1.0999999999999999},null,null,{"$f":"IRR(WUO42:WWN42)","v":{"$error":"#NUM!"}},{"$f":"IRRm(WUO42:WWN42)","v":1.0999999999999999},null,null,{"$f":"IRR(WUS42:WWR42)","v":{"$error":"#NUM!"}},{"$f":"IRRm(WUS42:WWR42)","v":1.0999999999999999},null,null,{"$f":"IRR(WUW42:WWV42)","v":{"$error":"#NUM!"}},{"$f":"IRRm(WUW42:WWV42)","v":1.0999999999999999},null,null,{"$f":"IRR(WVA42:WWZ42)","v":{"$error":"#NUM!"}},{"$f":"IRRm(WVA42:WWZ42)","v":1.0999999999999999},null,null,{"$f":"IRR(WVE42:WXD42)","v":{"$error":"#NUM!"}},{"$f":"IRRm(WVE42:WXD42)","v":1.0999999999999999},null,null,{"$f":"IRR(WVI42:WXH42)","v":{"$error":"#NUM!"}},{"$f":"IRRm(WVI42:WXH42)","v":1.0999999999999999},null,null,{"$f":"IRR(WVM42:WXL42)","v":{"$error":"#NUM!"}},{"$f":"IRRm(WVM42:WXL42)","v":1.0999999999999999},null,null,{"$f":"IRR(WVQ42:WXP42)","v":{"$error":"#NUM!"}},{"$f":"IRRm(WVQ42:WXP42)","v":1.0999999999999999},null,null,{"$f":"IRR(WVU42:WXT42)","v":{"$error":"#NUM!"}},{"$f":"IRRm(WVU42:WXT42)","v":1.0999999999999999},null,null,{"$f":"IRR(WVY42:WXX42)","v":{"$error":"#NUM!"}},{"$f":"IRRm(WVY42:WXX42)","v":1.0999999999999999},null,null,{"$f":"IRR(WWC42:WYB42)","v":{"$error":"#NUM!"}},{"$f":"IRRm(WWC42:WYB42)","v":1.0999999999999999},null,null,{"$f":"IRR(WWG42:WYF42)","v":{"$error":"#NUM!"}},{"$f":"IRRm(WWG42:WYF42)","v":1.0999999999999999},null,null,{"$f":"IRR(WWK42:WYJ42)","v":{"$error":"#NUM!"}},{"$f":"IRRm(WWK42:WYJ42)","v":1.0999999999999999},null,null,{"$f":"IRR(WWO42:WYN42)","v":{"$error":"#NUM!"}},{"$f":"IRRm(WWO42:WYN42)","v":1.0999999999999999},null,null,{"$f":"IRR(WWS42:WYR42)","v":{"$error":"#NUM!"}},{"$f":"IRRm(WWS42:WYR42)","v":1.0999999999999999},null,null,{"$f":"IRR(WWW42:WYV42)","v":{"$error":"#NUM!"}},{"$f":"IRRm(WWW42:WYV42)","v":1.0999999999999999},null,null,{"$f":"IRR(WXA42:WYZ42)","v":{"$error":"#NUM!"}},{"$f":"IRRm(WXA42:WYZ42)","v":1.0999999999999999},null,null,{"$f":"IRR(WXE42:WZD42)","v":{"$error":"#NUM!"}},{"$f":"IRRm(WXE42:WZD42)","v":1.0999999999999999},null,null,{"$f":"IRR(WXI42:WZH42)","v":{"$error":"#NUM!"}},{"$f":"IRRm(WXI42:WZH42)","v":1.0999999999999999},null,null,{"$f":"IRR(WXM42:WZL42)","v":{"$error":"#NUM!"}},{"$f":"IRRm(WXM42:WZL42)","v":1.0999999999999999},null,null,{"$f":"IRR(WXQ42:WZP42)","v":{"$error":"#NUM!"}},{"$f":"IRRm(WXQ42:WZP42)","v":1.0999999999999999},null,null,{"$f":"IRR(WXU42:WZT42)","v":{"$error":"#NUM!"}},{"$f":"IRRm(WXU42:WZT42)","v":1.0999999999999999},null,null,{"$f":"IRR(WXY42:WZX42)","v":{"$error":"#NUM!"}},{"$f":"IRRm(WXY42:WZX42)","v":1.0999999999999999},null,null,{"$f":"IRR(WYC42:XAB42)","v":{"$error":"#NUM!"}},{"$f":"IRRm(WYC42:XAB42)","v":1.0999999999999999},null,null,{"$f":"IRR(WYG42:XAF42)","v":{"$error":"#NUM!"}},{"$f":"IRRm(WYG42:XAF42)","v":1.0999999999999999},null,null,{"$f":"IRR(WYK42:XAJ42)","v":{"$error":"#NUM!"}},{"$f":"IRRm(WYK42:XAJ42)","v":1.0999999999999999},null,null,{"$f":"IRR(WYO42:XAN42)","v":{"$error":"#NUM!"}},{"$f":"IRRm(WYO42:XAN42)","v":1.0999999999999999},null,null,{"$f":"IRR(WYS42:XAR42)","v":{"$error":"#NUM!"}},{"$f":"IRRm(WYS42:XAR42)","v":1.0999999999999999},null,null,{"$f":"IRR(WYW42:XAV42)","v":{"$error":"#NUM!"}},{"$f":"IRRm(WYW42:XAV42)","v":1.0999999999999999},null,null,{"$f":"IRR(WZA42:XAZ42)","v":{"$error":"#NUM!"}},{"$f":"IRRm(WZA42:XAZ42)","v":1.0999999999999999},null,null,{"$f":"IRR(WZE42:XBD42)","v":{"$error":"#NUM!"}},{"$f":"IRRm(WZE42:XBD42)","v":1.0999999999999999},null,null,{"$f":"IRR(WZI42:XBH42)","v":{"$error":"#NUM!"}},{"$f":"IRRm(WZI42:XBH42)","v":1.0999999999999999},null,null,{"$f":"IRR(WZM42:XBL42)","v":{"$error":"#NUM!"}},{"$f":"IRRm(WZM42:XBL42)","v":1.0999999999999999},null,null,{"$f":"IRR(WZQ42:XBP42)","v":{"$error":"#NUM!"}},{"$f":"IRRm(WZQ42:XBP42)","v":1.0999999999999999},null,null,{"$f":"IRR(WZU42:XBT42)","v":{"$error":"#NUM!"}},{"$f":"IRRm(WZU42:XBT42)","v":1.0999999999999999},null,null,{"$f":"IRR(WZY42:XBX42)","v":{"$error":"#NUM!"}},{"$f":"IRRm(WZY42:XBX42)","v":1.0999999999999999},null,null,{"$f":"IRR(XAC42:XCB42)","v":{"$error":"#NUM!"}},{"$f":"IRRm(XAC42:XCB42)","v":1.0999999999999999},null,null,{"$f":"IRR(XAG42:XCF42)","v":{"$error":"#NUM!"}},{"$f":"IRRm(XAG42:XCF42)","v":1.0999999999999999},null,null,{"$f":"IRR(XAK42:XCJ42)","v":{"$error":"#NUM!"}},{"$f":"IRRm(XAK42:XCJ42)","v":1.0999999999999999},null,null,{"$f":"IRR(XAO42:XCN42)","v":{"$error":"#NUM!"}},{"$f":"IRRm(XAO42:XCN42)","v":1.0999999999999999},null,null,{"$f":"IRR(XAS42:XCR42)","v":{"$error":"#NUM!"}},{"$f":"IRRm(XAS42:XCR42)","v":1.0999999999999999},null,null,{"$f":"IRR(XAW42:XCV42)","v":{"$error":"#NUM!"}},{"$f":"IRRm(XAW42:XCV42)","v":1.0999999999999999},null,null,{"$f":"IRR(XBA42:XCZ42)","v":{"$error":"#NUM!"}},{"$f":"IRRm(XBA42:XCZ42)","v":1.0999999999999999},null,null,{"$f":"IRR(XBE42:XDD42)","v":{"$error":"#NUM!"}},{"$f":"IRRm(XBE42:XDD42)","v":1.0999999999999999},null,null,{"$f":"IRR(XBI42:XDH42)","v":{"$error":"#NUM!"}},{"$f":"IRRm(XBI42:XDH42)","v":1.0999999999999999},null,null,{"$f":"IRR(XBM42:XDL42)","v":{"$error":"#NUM!"}},{"$f":"IRRm(XBM42:XDL42)","v":1.0999999999999999},null,null,{"$f":"IRR(XBQ42:XDP42)","v":{"$error":"#NUM!"}},{"$f":"IRRm(XBQ42:XDP42)","v":1.0999999999999999},null,null,{"$f":"IRR(XBU42:XDT42)","v":{"$error":"#NUM!"}},{"$f":"IRRm(XBU42:XDT42)","v":1.0999999999999999},null,null,{"$f":"IRR(XBY42:XDX42)","v":{"$error":"#NUM!"}},{"$f":"IRRm(XBY42:XDX42)","v":1.0999999999999999},null,null,{"$f":"IRR(XCC42:XEB42)","v":{"$error":"#NUM!"}},{"$f":"IRRm(XCC42:XEB42)","v":1.0999999999999999},null,null,{"$f":"IRR(XCG42:XEF42)","v":{"$error":"#NUM!"}},{"$f":"IRRm(XCG42:XEF42)","v":1.0999999999999999},null,null,{"$f":"IRR(XCK42:XEJ42)","v":{"$error":"#NUM!"}},{"$f":"IRRm(XCK42:XEJ42)","v":1.0999999999999999},null,null,{"$f":"IRR(XCO42:XEN42)","v":{"$error":"#NUM!"}},{"$f":"IRRm(XCO42:XEN42)","v":1.0999999999999999},null,null,{"$f":"IRR(XCS42:XER42)","v":{"$error":"#NUM!"}},{"$f":"IRRm(XCS42:XER42)","v":1.0999999999999999},null,null,{"$f":"IRR(XCW42:XEV42)","v":{"$error":"#NUM!"}},{"$f":"IRRm(XCW42:XEV42)","v":1.0999999999999999},null,null,{"$f":"IRR(XDA42:XEZ42)","v":{"$error":"#NUM!"}},{"$f":"IRRm(XDA42:XEZ42)","v":1.0999999999999999},null,null,{"$f":"IRR(XDE42:XFD42)","v":{"$error":"#NUM!"}},{"$f":"IRRm(XDE42:XFD42)","v":1.0999999999999999},null,null,{"$f":"IRR(#REF!)","v":{"$error":"#REF!"}},{"$f":"IRRm(#REF!)","v":{"$error":"#VALUE!"}},null,null,{"$f":"IRR(#REF!)","v":{"$error":"#REF!"}},{"$f":"IRRm(#REF!)","v":{"$error":"#VALUE!"}},null,null,{"$f":"IRR(#REF!)","v":{"$error":"#REF!"}},{"$f":"IRRm(#REF!)","v":{"$error":"#VALUE!"}},null,null,{"$f":"IRR(#REF!)","v":{"$error":"#REF!"}},{"$f":"IRRm(#REF!)","v":{"$error":"#VALUE!"}},null,null,{"$f":"IRR(#REF!)","v":{"$error":"#REF!"}},{"$f":"IRRm(#REF!)","v":{"$error":"#VALUE!"}},null,null,{"$f":"IRR(#REF!)","v":{"$error":"#REF!"}},{"$f":"IRRm(#REF!)","v":{"$error":"#VALUE!"}},null,null,{"$f":"IRR(#REF!)","v":{"$error":"#REF!"}},{"$f":"IRRm(#REF!)","v":{"$error":"#VALUE!"}},null,null,{"$f":"IRR(#REF!)","v":{"$error":"#REF!"}},{"$f":"IRRm(#REF!)","v":{"$error":"#VALUE!"}},null,null,{"$f":"IRR(#REF!)","v":{"$error":"#REF!"}},{"$f":"IRRm(#REF!)","v":{"$error":"#VALUE!"}},null,null,{"$f":"IRR(#REF!)","v":{"$error":"#REF!"}},{"$f":"IRRm(#REF!)","v":{"$error":"#VALUE!"}},null,null,{"$f":"IRR(#REF!)","v":{"$error":"#REF!"}},{"$f":"IRRm(#REF!)","v":{"$error":"#VALUE!"}},null,null,{"$f":"IRR(#REF!)","v":{"$error":"#REF!"}},{"$f":"IRRm(#REF!)","v":{"$error":"#VALUE!"}}]
["IRR",{"$f":"IRRm(B43:BA43)","v":0.2727739334106446}]
["INDEX RENTABILITY",{"$f":"(SUM(C43:BA43))/(-B43)","v":14.556426707581899}]
["REH",{"$f":"B47*((1/B46)-(1/(B46*(1+B46)^50)))^(-1)","v":2417439398.7043529},{"$f":"C47*((1/C46)-(1/(C46*(1+C46)^50)))^(-1)","v":4059096785.1528254},{"$f":"D47*((1/D46)-(1/(D46*(1+D46)^50)))^(-1)","v":5529116067.5577726},{"$f":"E47*((1/E46)-(1/(E46*(1+E46)^50)))^(-1)","v":6516549545.6685495}]
["REH",{"$f":"ROUND(B51,-6)","v":2417000000},{"$f":"ROUND(C51,-6)","v":4059000000},5529000000,6517000000]
[]
[]
["Investiční akce ([Kč], zaokrouhleno na celá čísla)",{"$f":"SUM(W4:AH4)","v":24999999999.999996}]
["Investiční akce/blok ([Kč], zaokrouhleno na celá čísla)",{"$f":"B55/4","v":6249999999.999999}]

{"sheet":"Temelín","index":1,"n_rows":59,"n_cols":53,"rows_kept":59,"cut":false,"hidden":false,"merged":[[1,2,1,3],[1,4,1,52]]}
["Roky",2001,2002,2003,2004,2005,2006,2007,2008,2009,2010,2011,2012,2013,2014,2015,2016,2017,2018,2019,2020,2021,2022,2023,2024,2025,2026,2027,2028,2029,2030,2031,2032,2033,2034,2035,2036,2037,2038,2039,2040,2041,2042,2043,2044,2045,2046,2047,2048,2049,2050,2051,2052]
["Stav","kurzy - 1USD=24,01/1EUR=27,04","SPOUŠTĚNÍ",null,"PLNÝ PROVOZ"]
["INVESTIČNÍ NÁKLADY ([Kč], zaokrouhleno na celá čísla)"]
["Investice do DHM ",98000000000,0,0,0,0,0,{"$f":"4500000000/9","v":500000000},{"$f":"4500000000/9","v":500000000},500000000,500000000,500000000,500000000,500000000,500000000,500000000,null,null,null,null,null,null,null,null,null,{"$f":"500000000","v":500000000},null,null,null,null,null,null,null,null,null,{"$f":"$B$59/10","v":491666666.66666663},491666666.66666663,491666666.66666663,491666666.66666663,491666666.66666663,491666666.66666663,491666666.66666663,491666666.66666663,491666666.66666663,491666666.66666663]
["Odepisování DHM:"]
["Odpisy poč.inv. ",null,{"$f":"$B$4/51","v":1921568627.4509804},{"$f":"$B$4/51","v":1921568627.4509804},1921568627.4509804,1921568627.4509804,1921568627.4509804,1921568627.4509804,1921568627.4509804,1921568627.4509804,1921568627.4509804,1921568627.4509804,1921568627.4509804,1921568627.4509804,1921568627.4509804,1921568627.4509804,1921568627.4509804,1921568627.4509804,1921568627.4509804,1921568627.4509804,1921568627.4509804,1921568627.4509804,1921568627.4509804,1921568627.4509804,1921568627.4509804,1921568627.4509804,1921568627.4509804,1921568627.4509804,1921568627.4509804,1921568627.4509804,1921568627.4509804,1921568627.4509804,1921568627.4509804,1921568627.4509804,1921568627.4509804,1921568627.4509804,1921568627.4509804,1921568627.4509804,1921568627.4509804,1921568627.4509804,1921568627.4509804,1921568627.4509804,1921568627.4509804,1921568627.4509804,1921568627.4509804,1921568627.4509804,1921568627.4509804,1921568627.4509804,1921568627.4509804,1921568627.4509804,1921568627.4509804,1921568627.4509804,1921568627.4509804]
["Odpisy průb.inv.",null,null,null,null,null,null,null,{"$f":"($H$4/27)","v":18518518.518518519},{"$f":"I7+($I$4/26)","v":37749287.749287754},{"$f":"J7+($J$4/25)","v":57749287.749287754},{"$f":"K7+($K$4/24)","v":78582621.082621083},{"$f":"L7+($L$4/23)","v":100321751.51740369},{"$f":"M7+($M$4/22)","v":123049024.24467641},{"$f":"N7+($N$4/21)","v":146858548.05420023},{"$f":"O7+($O$4/20)","v":171858548.05420023},{"$f":"P7+($P$4/19)","v":198174337.52788445},{"$f":"Q7","v":198174337.52788445},{"$f":"R7","v":198174337.52788445},198174337.52788445,198174337.52788445,198174337.52788445,198174337.52788445,198174337.52788445,198174337.52788445,198174337.52788445,{"$f":"Z7+($Z$4/9)","v":253729893.08344001},253729893.08344001,253729893.08344001,253729893.08344001,253729893.08344001,253729893.08344001,253729893.08344001,253729893.08344001,253729893.08344001,0,{"$f":"($AJ$4/17)","v":28921568.627450977},{"$f":"AK7+($AK$4/16)","v":59650735.294117644},{"$f":"AL7+($AL$4/15)","v":92428513.071895421},{"$f":"AM7+($AM$4/14)","v":127547560.69094303},{"$f":"AN7+($AN$4/13)","v":165368073.51145583},{"$f":"AO7+($AO$4/12)","v":206340295.73367804},{"$f":"AP7+($AP$4/11)","v":251037265.43064773},{"$f":"AQ7+($AQ$4/10)","v":300203932.09731442},{"$f":"AR7+($AR$4/9)","v":354833561.72694403},{"$f":"AS7+($AS$4/8)","v":416291895.06027734},{"$f":"AT7","v":416291895.06027734},{"$f":"AU7","v":416291895.06027734},416291895.06027734,416291895.06027734,416291895.06027734,416291895.06027734,416291895.06027734]
["Odpisy",null,{"$f":"C6+C7","v":1921568627.4509804},{"$f":"D6+D7","v":1921568627.4509804},1921568627.4509804,1921568627.4509804,1921568627.4509804,1921568627.4509804,1940087145.9694989,1959317915.2002683,1979317915.2002683,2000151248.5336015,2021890378.968384,2044617651.6956568,2068427175.5051806,2093427175.5051806,2119742964.9788649,2119742964.9788649,2119742964.9788649,2119742964.9788649,2119742964.9788649,2119742964.9788649,2119742964.9788649,2119742964.9788649,2119742964.9788649,2119742964.9788649,2175298520.5344205,2175298520.5344205,2175298520.5344205,2175298520.5344205,2175298520.5344205,2175298520.5344205,2175298520.5344205,2175298520.5344205,2175298520.5344205,1921568627.4509804,1950490196.0784314,1981219362.7450981,2013997140.5228758,2049116188.1419234,2086936700.9624362,2127908923.1846585,2172605892.881628,2221772559.548295,2276402189.1779246,2337860522.5112576,2337860522.5112576,2337860522.5112576,2337860522.5112576,2337860522.5112576,2337860522.5112576,2337860522.5112576,2337860522.5112576]
["Zůstatková hodnota celk.DHM",null,{"$f":"B4-C8","v":96078431372.549026},{"$f":"(C9+D4)-D8","v":94156862745.098053},{"$f":"(D9+E4)-E8","v":92235294117.647079},{"$f":"(E9+F4)-F8","v":90313725490.196106},88392156862.745132,86970588235.294159,85530501089.324661,84071183174.12439,82591865258.924118,81091714010.390518,79569823631.422134,78025205979.726471,76456778804.221283,74863351628.716095,72743608663.737228,70623865698.758362,68504122733.779495,66384379768.800629,64264636803.821762,62144893838.842896,60025150873.864029,57905407908.885162,55785664943.906296,54165921978.927429,51990623458.393005,49815324937.858582,47640026417.324158,45464727896.789734,43289429376.25531,41114130855.720886,38938832335.186462,36763533814.652039,34588235294.117615,33158333333.333298,31699509803.921535,30209957107.843105,28687626633.986897,27130177112.511642,25534907078.215874,23898664821.697884,22217725595.482925,20487619702.601299,18702884180.090042,16365023657.578785,14027163135.067528,11689302612.556271,9351442090.0450134,7013581567.5337563,4675721045.0224991,2337860522.5112414,-1.621246337890625E-5]
[]
["PROVOZNÍ NÁKLADY "]
["Vyrobená elektřina [GWh]",null,5830,12117,12577,10945,11878,12217,12055,13204,13628,13836,15058,15034,14928,14154,{"$f":"(7500*2*1080)/1000","v":16200},{"$f":"(7500*2*1080)/1000","v":16200},16200,16200,16200,16200,16200,16200,16200,16200,16200,16200,16200,16200,16200,16200,16200,16200,16200,16200,16200,16200,16200,16200,16200,16200,16200,16200,16200,16200,16200,16200,16200,16200,16200,16200,16200]
["NÁKLADY NA PALIVO ([Kč], zaokrouhleno na celá čísla)"]
["Cena za 1kg rudy",null,561.41,636,1063.5,1612.9,2593.6,4791,4333.8,3460.8,3219.5,3527.8,3179.03,2858.03,2453.8000000000002,2444.89,2318.11,3176.603457564825,3208.7960212347866,3241.3148331033317,3274.1631994584641,3307.3444600950102,3340.8619886541851,3374.7191929666028,3408.9195153987589,3443.4664332030279,3478.3634588712061,3513.6141404916375,3549.2220621099582,3585.1908440934976,3621.5241434993736,3658.2256544463148,3695.2991084902546,3732.7482750037293,3770.5769615591221,3808.7890143157906,3847.3883184111173,3886.3787983555249,3925.7644184314909,3965.5491830966116,4005.7371373907449,4046.3323673472842,4087.3390004085954,4128.7612058456698,4170.6031951820241,4212.8692226219009,4255.5635854828051,4298.6906246324279,4342.2547249299932,4386.2603156720816,4430.7118710429704,4475.6139105695374,4520.9709995807762]
["Kg rudy na výrobu elektřiny","z 8,9kg rudy je 0,360GWh",{"$f":"(C12/0.36)*8.9","v":144130.55555555556},{"$f":"(D12/0.36)*8.9","v":299559.16666666669},310931.38888888888,270584.72222222225,293650.55555555556,302031.38888888888,298026.38888888888,326432.22222222225,336914.44444444444,342056.66666666669,372267.22222222225,371673.88888888888,369053.33333333337,349918.33333333337,400500,400500,400500,400500,400500,400500,400500,400500,400500,400500,400500,400500,400500,400500,400500,400500,400500,400500,400500,400500,400500,400500,400500,400500,400500,400500,400500,400500,400500,400500,400500,400500,400500,400500,400500,400500,400500]
["Cena za rudu na výrobu","46% ceny paliva",{"$f":"C15*C14","v":80916335.194444448},{"$f":"D15*D14","v":190519630},330675532.08333331,436426098.47222227,761612080.88888884,1447032384.1666665,1291586764.1666667,1129716634.6666667,1084696053.8888888,1206707508.6666667,1183448667.4611113,1062255124.6611111,905583069.33333349,855511833.98333335,928403055,1272229684.7547123,1285122806.5045321,1298146590.6578844,1311302361.3831148,1324591456.2680516,1338015226.456001,1351575036.7831244,1365272265.9172029,1379108306.4978127,1393084565.2779181,1407202463.2669008,1421463435.8750381,1435868933.0594459,1450420419.4714992,1465119374.6057491,1479967292.9503469,1494965684.1389935,1510116073.1044283,1525420000.2334743,1540879021.5236526,1556494708.7413876,1572268649.5818121,1588202447.830193,1604297723.5249934,1620556113.1225872,1636979269.6636424,1653568862.9411907,1670326579.6704006,1687254123.6600714,1704353215.9858634,1721625595.1652873,1739073017.3344624,1756697256.4266686,1774500104.3527098,1792483371.1830997,1810648885.3321009]
["Cena za palivo",null,{"$f":"(100/46)*C16","v":175905076.50966182},{"$f":"(100/46)*D16","v":414173108.69565213},718859852.35507238,948752387.98309183,1655678436.7149756,3145722574.275362,2807797313.405797,2455905727.536232,2358034899.7584538,2623277192.753623,2572714494.4806767,2309250271.0024152,1968658846.3768117,1859808334.7463768,2018267510.869565,2765716705.9885049,2793745231.5315914,2822057805.7780094,2850657307.3545971,2879546644.0609818,2908728753.1652193,2938206601.7024441,2967983186.7765279,2998061535.86481,3028444707.1259089,3059135789.7106538,3090137904.0761695,3121454202.303143,3153087868.4163027,3185042118.7081499,3217320202.0659714,3249925400.3021598,3282861028.4878874,3316130435.2901611,3349737003.3122878,3383684149.437799,3417975325.1778522,3452614017.0221586,3487603746.7934637,3522948072.0056243,3558650586.2253094,3594714919.4373708,3631144738.4139142,3667943747.0871115,3705115686.9257898,3742664337.3158417,3780593515.9444833,3818907079.1884098,3857608922.5058904,3896702980.8328252,3936193228.9828277]
[]
["ODVODY NA JADERNÝ ÚČET ([Kč], zaokrouhleno na celá čísla)",{"$f":"50","v":50},{"$f":"$B$19*C12*1000","v":291500000},605850000,628850000,547250000,593900000,610850000,602750000,660200000,681400000,691800000,752900000,751700000,746400000,707700000,810000000,810000000,810000000,810000000,810000000,810000000,810000000,810000000,810000000,810000000,810000000,810000000,810000000,810000000,810000000,810000000,810000000,810000000,{"$f":"$B$19*AI12*1000","v":810000000},810000000,810000000,810000000,810000000,810000000,810000000,810000000,810000000,810000000,810000000,810000000,810000000,810000000,810000000,810000000,810000000,810000000,810000000]
[]
["REŽIE ([Kč], zaokrouhleno na celá čísla)",0.23,{"$f":"(0.23/0.13)*C17","v":311216673.82478631},732767807.69230759,1271828969.5512819,1678561917.2008548,2929277234.1880336,5565509169.8717937,4967641400.6410255,4345063979.4871798,4171907899.572649,4641182725.6410255,4551725644.0811968,4085596633.311965,3483011805.1282053,3290430130.7051282,3570780980.7692304,4893191095.2104311,4942780025.0174303,4992871502.530324,5043470620.7042866,5094582524.1078901,5146212409.4461575,5198365526.0889397,5251047176.6046257,5304262717.2992792,5358017558.7612228,5412317166.4111567,5467167061.0578384,5522572819.4594069,5578540074.8903818,5635074517.7144184,5692181895.9628725,5749868015.9192057,{"$f":"(0.23/0.13)*AI17","v":5808138742.7093391},5867000000.8979769,5926457775.09097,5986518110.5437975,6047187113.7761993,6108470953.1930494,6170375859.7115126,6232908127.3945656,6296074114.0909319,6359880242.081502,6424332998.7323093,6489438937.1541204,6555204676.8687048,6621636904.4818735,6688742374.3633165,6756527909.3333397,6825000401.356575,6894166812.2426901,6964034174.3542337]
[]
["POJIŠTĚNÍ ([Kč], zaokrouhleno na celá čísla)",0.01,{"$f":"(0.01/0.13)*C17","v":13531159.731512448},31859469.899665549,55296911.719620958,72980952.921776295,127359879.74730583,241978659.55964324,215984408.72352287,188915825.19509479,181387299.98141953,201790553.28874025,197901114.96005207,177634636.23095503,151435295.87513939,143062179.59587514,155251346.98996654,212747438.92219269,214903479.34858397,217081369.67523152,219281331.33496901,221503588.00469092,223748365.62809381,226015892.43864956,228306398.98280984,230620118.14344692,232957285.16353145,235318137.67005029,237702915.69816691,240111861.71562639,242545220.64740792,245003239.90062693,247486169.38969013,249994261.56170461,{"$f":"(0.01/0.13)*AI17","v":252527771.42214519},255086956.56078163,257672077.17786831,260283396.11059994,262921178.85983479,265585693.61708915,268277211.29180491,270996005.53889418,273742352.78656226,276516532.26441318,279318826.03183955,282149519.00670087,285008898.99429154,287897256.71660322,290814885.84188336,293762083.01449311,296739147.88506854,299746383.14098656,302784094.53714061]
[]
["ODVOD/REZERVA NA VYŘAZOVÁNÍ A SKLADOVÁNÍ ([Kč], zaokrouhleno na celá čísla)",0.06,{"$f":"(0.06/0.13)*C17","v":81186958.389074683},191156819.39799327,331781470.31772572,437885717.53065777,764159278.48383486,1451871957.3578594,1295906452.3411369,1133494951.1705685,1088323799.8885171,1210743319.7324414,1187406689.7603123,1065807817.38573,908611775.25083613,858373077.57525074,931508081.93979919,1276484633.5331559,1289420876.0915036,1302488218.051389,1315687988.009814,1329021528.0281453,1342490193.7685626,1356095354.6318972,1369838393.8968589,1383720708.8606815,1397743710.9811885,1411908826.0203016,1426217494.1890013,1440671170.2937582,1455271323.8844473,1470019439.4037614,1484917016.3381405,1499965569.3702276,{"$f":"(0.06/0.13)*AI17","v":1515166628.532871},1530521739.3646896,1546032463.0672097,1561700376.6635995,1577527073.1590085,1593514161.7025347,1609663267.7508292,1625976033.2333651,1642454116.7193735,1659099193.5864787,1675912956.1910372,1692897114.0402052,1710053393.965749,1727383540.2996192,1744889315.0512998,1762572498.0869582,1780434887.3104107,1798478298.8459191,1816704567.2228434]
[]
["PERSONÁLNÍ NÁKLADY ([Kč], zaokrouhleno na celá čísla)",0.05,{"$f":"(0.05/0.13)*C17","v":67655798.657562241},159297349.49832776,276484558.59810477,364904764.60888147,636799398.73652911,1209893297.7982163,1079922043.6176143,944579125.97547388,906936499.9070977,1008952766.4437013,989505574.80026031,888173181.15477514,757176479.3756969,715310897.97937572,776256734.9498328,1063737194.6109635,1074517396.7429199,1085406848.3761575,1096406656.674845,1107517940.0234547,1118741828.1404691,1130079462.1932478,1141531994.9140491,1153100590.7172346,1164786425.8176572,1176590688.3502514,1188514578.4908345,1200559308.5781319,1212726103.2370396,1225016199.5031347,1237430846.9484506,1249971307.8085232,{"$f":"(0.05/0.13)*AI17","v":1262638857.1107259},1275434782.8039081,1288360385.8893416,1301416980.5529997,1314605894.2991741,1327928468.0854456,1341386056.4590247,1354980027.6944709,1368711763.9328113,1382582661.3220658,1396594130.1591978,1410747595.0335045,1425044494.9714577,1439486283.5830162,1454074429.2094166,1468810415.0724654,1483695739.4253426,1498731915.7049329,1513920472.685703]
[]
["SLUŽBY, MATERIÁL, ÚDRŽBA  ([Kč], zaokrouhleno na celá čísla)",0.06,{"$f":"(0.06/0.13)*C17","v":81186958.389074683},191156819.39799327,331781470.31772572,437885717.53065777,764159278.48383486,1451871957.3578594,1295906452.3411369,1133494951.1705685,1088323799.8885171,1210743319.7324414,1187406689.7603123,1065807817.38573,908611775.25083613,858373077.57525074,931508081.93979919,1276484633.5331559,1289420876.0915036,1302488218.051389,1315687988.009814,1329021528.0281453,1342490193.7685626,1356095354.6318972,1369838393.8968589,1383720708.8606815,1397743710.9811885,1411908826.0203016,1426217494.1890013,1440671170.2937582,1455271323.8844473,1470019439.4037614,1484917016.3381405,1499965569.3702276,{"$f":"(0.06/0.13)*AI17","v":1515166628.532871},1530521739.3646896,1546032463.0672097,1561700376.6635995,1577527073.1590085,1593514161.7025347,1609663267.7508292,1625976033.2333651,1642454116.7193735,1659099193.5864787,1675912956.1910372,1692897114.0402052,1710053393.965749,1727383540.2996192,1744889315.0512998,1762572498.0869582,1780434887.3104107,1798478298.8459191,1816704567.2228434]
[]
["OSTATNÍ ([Kč], zaokrouhleno na celá čísla)",0.02,{"$f":"(0.02/0.13)*C17","v":27062319.463024896},63718939.799331099,110593823.43924192,145961905.84355259,254719759.49461165,483957319.11928648,431968817.44704574,377831650.39018959,362774599.96283907,403581106.57748049,395802229.92010415,355269272.46191007,302870591.75027877,286124359.19175029,310502693.97993308,425494877.84438539,429806958.69716793,434162739.35046303,438562662.66993803,443007176.00938183,447496731.25618762,452031784.87729913,456612797.96561968,461240236.28689384,465914570.3270629,470636275.34010059,475405831.39633381,480223723.43125278,485090441.29481584,490006479.80125386,494972338.77938026,499988523.12340921,{"$f":"(0.02/0.13)*AI17","v":505055542.84429038},510173913.12156326,515344154.35573661,520566792.22119987,525842357.71966958,531171387.2341783,536554422.58360982,541992011.07778835,547484705.57312453,553033064.52882636,558637652.0636791,564299038.01340175,570017797.98858309,575794513.43320644,581629771.68376672,587524166.02898622,593478295.77013707,599492766.28197312,605568189.07428122]
[]
["VÝNOSY ([Kč], zaokrouhleno na celá čísla)"]
["CENA ZA 1MWh ELEKTŘINY ",null,1091.3789501866306,1102.4392813898437,1113.6117009985587,1124.8973449471719,1136.2973606819478,1147.8129072776835,1741.6463999999999,1022.1119999999999,1346.5919999999999,1514.24,1338.48,993.44960000000003,891.23839999999996,873.93279999999993,713.3152,1171.1952882021603,1183.0644998897628,1195.0539973977611,1207.1649997353843,1219.3987382656326,1231.7564568304736,1244.2394118773082,1256.8488725867169,1269.5861210015016,1282.4524521570347,1295.4491742129292,1308.5776085860439,1321.8390900848351,1335.2349670450715,1348.7666014669232,1362.4353691534407,1376.2426598504364,1390.1898773877856,1404.278439822157,1418.5097795811917,1432.8853436091417,1447.4065935139863,1462.0750057160374,1476.8920715980519,1491.8592976568655,1506.9782056565627,1522.2503327831994,1537.6772318010926,1553.2604712106961,1569.0016354080735,1584.9023248459894,1600.9641561966321,1617.1887625159854,1633.5777934098674,1650.1329152016497,1666.8558111016785]
[]
["UTRŽENO ZA ELEKTŘINU",null,{"$f":"C34*1000*C12","v":6362739279.5880575},13358256772.600737,14005894363.458872,12312001440.446796,13496940050.180176,14022830288.21146,20995547352,13495966847.999998,18351355775.999996,20951024640,20154831840,14935521286.4,13304406835.199999,12369644851.199999,11555706240,18973363668.874996,19165644898.214157,19359874757.843731,19556072995.713226,19754259559.903248,19954454600.653671,20156678472.412392,20360951735.904812,20567295160.224327,20775729724.943962,20986276622.249451,21198957259.09391,21413793259.374329,21630806466.130157,21850018943.764156,22071452980.28574,22295131089.577072,{"$f":"AI34*1000*AI12","v":22521076013.682125},22749310725.118942,22979858429.215305,23212742566.468094,23447986814.926579,23685615092.599808,23925651559.888439,24168120622.041222,24413046931.636314,24660455391.08783,24910371155.1777,25162819633.613277,25417826493.61079,25675417662.505028,25935619330.385441,26198457952.758965,26463960253.239853,26732153226.266727,27003064139.847191]
[]
["PROVOZNÍ CASH FLOW (POČÍTÁNO PŘED ZDANĚNÍM) ([Kč], zaokrouhleno na celá čísla)",null,{"$f":"C36-(SUM(C17:C31))","v":5313494334.6233606},{"$f":"D36-(SUM(D17:D31))","v":10968276458.219465},10280417307.160099,7677818076.8273239,5770886784.331049,-138824647.12855721,8297670463.4827194,2256480637.0746899,7512266977.0405025,8958953655.8305473,8319469402.2370834,4236281657.4665184,4077630266.192194,3650462793.8309917,2051630808.5618744,6249507089.2322063,6321050054.6934566,6393318056.0307636,6466318440.9549656,6540058631.6405582,6614546125.4804192,6689788495.8480167,6765793392.8674641,6842568544.1912994,6920121755.7862034,6998460912.7266331,7077593979.996563,7157529003.2992496,7238274109.8753166,7319837509.3290501,7402227494.4630947,7485452442.1216145,7569520814.0419941,7654441157.7151756,7740222107.2546844,7826872384.2745018,7914400798.7758331,8002816250.0428181,8092127727.5473633,8182344311.8631439,8273475175.5888271,8365529584.280695,8458516897.3946877,8552446569.2380295,8647328149.9304638,8743171286.3752499,8839985723.2399731,8937781303.9473534,9036567971.6760178,9136355770.371479,9237154845.7673187]
[]
["INVESTIČNÍ CASH FLOW ([Kč], zaokrouhleno na celá čísla)",null,{"$f":"-C4","v":0},0,0,0,0,-500000000,-500000000,-500000000,-500000000,-500000000,-500000000,-500000000,-500000000,-500000000,0,0,0,0,0,0,0,0,0,-500000000,0,0,0,0,0,0,0,0,{"$f":"-AI4","v":0},-491666666.66666663,-491666666.66666663,-491666666.66666663,-491666666.66666663,-491666666.66666663,-491666666.66666663,-491666666.66666663,-491666666.66666663,-491666666.66666663,-491666666.66666663,0,0,0,0,0,0,0,0]
[]
["CELKOVÉ CASH FLOW ([Kč], zaokrouhleno na celá čísla)",{"$f":"-B4","v":-98000000000},{"$f":"C38+C40","v":5313494334.6233606},{"$f":"D38+D40","v":10968276458.219465},10280417307.160099,7677818076.8273239,5770886784.331049,-638824647.12855721,7797670463.4827194,1756480637.0746899,7012266977.0405025,8458953655.8305473,7819469402.2370834,3736281657.4665184,3577630266.192194,3150462793.8309917,2051630808.5618744,6249507089.2322063,6321050054.6934566,6393318056.0307636,6466318440.9549656,6540058631.6405582,6614546125.4804192,6689788495.8480167,6765793392.8674641,6342568544.1912994,6920121755.7862034,6998460912.7266331,7077593979.996563,7157529003.2992496,7238274109.8753166,7319837509.3290501,7402227494.4630947,7485452442.1216145,7569520814.0419941,7162774491.0485086,7248555440.5880175,7335205717.6078348,7422734132.1091661,7511149583.3761511,7600461060.8806963,7690677645.1964769,7781808508.9221601,7873862917.614028,7966850230.7280207,8552446569.2380295,8647328149.9304638,8743171286.3752499,8839985723.2399731,8937781303.9473534,9036567971.6760178,9136355770.371479,9237154845.7673187]
[]
[]
[]
[]
["DISKONT",0.2,0.15,0.1,0.05]
["NPV",{"$f":"NPV(B47,$C$42:$BA$42)-$B$4","v":-64569175604.811295},{"$f":"NPV(C47,$C$42:$BA$42)-$B$4","v":-54652427564.473648},{"$f":"NPV(D47,$C$42:$BA$42)-$B$4","v":-34696090212.359634},{"$f":"NPV(E47,$C$42:$BA$42)-$B$4","v":20498162863.673706}]
["NPV",{"$f":"ROUND(B48,-6)","v":-64569000000},{"$f":"ROUND(C48,-6)","v":-54652000000},-34696000000,20498000000]
["IRR",{"$f":"IRRm(B42:BA42)","v":6.2410736083984369E-2}]
["INDEX RENTABILITY",{"$f":"(SUM(C42:BA42))/(-B42)","v":3.6225485018055688}]
["REH",{"$f":"B48*((1/B47)-(1/(B47*(1+B47)^50)))^(-1)","v":-12915254311.346113},{"$f":"C48*((1/C47)-(1/(C47*(1+C47)^50)))^(-1)","v":-8205436118.0332785},{"$f":"D48*((1/D47)-(1/(D47*(1+D47)^50)))^(-1)","v":-3499419001.4482594},{"$f":"E48*((1/E47)-(1/(E47*(1+E47)^50)))^(-1)","v":1122822445.1270013}]
["REH",{"$f":"ROUND(B52,-6)","v":-12915000000},{"$f":"ROUND(C52,-6)","v":-8205000000},-3499000000,1123000000]
[]
[]
[]
["Investiční akce",{"$f":"SUM(H4:P4)","v":4500000000}]
["Investiční akce/blok",{"$f":"B57/2","v":2250000000}]
["Průměr na blok",{"$f":"((2*B58)+(4*Dukovany!B56))/6","v":4916666666.666666}]

{"sheet":"Ceny uranu","index":2,"n_rows":75,"n_cols":48,"rows_kept":75,"cut":false,"hidden":false,"merged":[[34,15,34,17],[0,13,0,14],[0,15,0,16],[0,17,0,18],[33,0,33,1],[32,15,32,16],[0,1,0,12]]}
[null,"USD/libru",null,null,null,null,null,null,null,null,null,null,null,"USD/libru",null,"USD/kg",null,"CZK/kg"]
[null,"LEDEN","ÚNOR","BŘEZEN","DUBEN","KVĚTEN","ČERVEN","ČERVENEC","SRPEN","ZÁŘÍ","ŘÍJEN","LISTOPAD","PROSINEC","ARIT.PRŮMĚR","GEOM.PRŮMĚR","ARIT.PRŮMĚR","GEOM.PRŮMĚR","ARIT.PRŮMĚR","GEOM.PRŮMĚR"]
[1988,16.399999999999999,16.2,15.95,15.88,15.45,15.18,14.65,14.13,13.8,13.18,12.85,11.88,{"$f":"AVERAGEA(B3:M3)","v":14.629166666666668},{"$f":"GEOMEAN(B3:M3)","v":14.559239142041553},{"$f":"(1/0.454)*N3","v":32.222834067547723},{"$f":"(1/0.454)*O3","v":32.068808682910905},{"$f":"24.01*P3","v":773.67024596182091},{"$f":"24.01*Q3","v":769.97209647669092}]
[1989,11.55,11.23,10.73,10.15,9.8000000000000007,9.73,9.73,9.65,9.6,9.4,9.25,9,{"$f":"AVERAGEA(B4:M4)","v":9.9850000000000012},{"$f":"GEOMEAN(B4:M4)","v":9.9574734840410706},{"$f":"(1/0.454)*N4","v":21.993392070484582},{"$f":"(1/0.454)*O4","v":21.932760978064032},{"$f":"24.01*P4","v":528.06134361233489},{"$f":"24.01*Q4","v":526.60559108331745}]
[1990,8.8800000000000008,8.75,8.8000000000000007,8.85,9.3000000000000007,11.3,11.73,11.48,10.3,9.65,8.43,9.75,9.7683333333333326,9.706673355369098,21.516152716593243,21.380337787156602,516.60282672540382,513.34191026963003]
[1991,9.15,9.4499999999999993,9.35,9.0500000000000007,9.23,9.08,8.65,8.8800000000000008,8.33,7.38,7.4,8.75,8.7249999999999996,8.6978965423606667,19.218061674008808,19.158362428107193,461.42566079295153,459.99228189885372]
[1992,7.95,8,7.88,7.83,7.73,7.83,7.83,8.08,8.68,10.38,10.4,9.98,8.5475000000000012,8.4913818163269639,18.827092511013216,18.703484176931635,452.03849118942736,449.0706550881286]
[1993,9.75,10.050000000000001,10.1,10.199999999999999,10.08,9.9,10.15,10.050000000000001,10.25,10.23,9.9499999999999993,9.8800000000000008,10.049166666666666,10.048084952177442,22.134728340675476,22.132345709641942,531.45482745961817,531.39762048850309]
[1994,9.5,9.48,9.48,9.35,9.25,9.25,9.33,9.15,9.08,9.08,9.6,9.48,9.3358333333333334,9.3343148732335397,20.563509544787077,20.560164919016607,493.72986417033775,493.64955970558879]
[1995,9.68,10.38,11.08,11.55,11.78,11.83,11.88,11.8,11.75,11.75,11.83,12.23,11.461666666666666,11.438677685245434,25.245961820851686,25.19532529789743,606.15554331864905,604.93976040251732]
[1996,12.95,15.33,16.5,16.5,16.75,16.75,16.75,16.5,16,16,15.25,15,15.856666666666667,15.818274394629917,34.926578560939795,34.842014085087918,838.58715124816456,836.55675818296095]
[1997,15,14.75,14.25,12.75,12.25,12.25,12.25,11.5,11.5,13,13,12.5,12.916666666666666,12.869670150258962,28.450807635829658,28.347291079865553,683.10389133627018,680.618458827572]
[1998,12.25,11.5,11.5,11.35,11.35,11.1,11.1,11.1,11.1,11.1,11.1,11.1,11.304166666666665,11.299659635182351,24.899045521292212,24.889118139168172,597.82608296622607,597.58772652142784]
[1999,11.75,11.75,11.75,11.75,11.65,11.65,11.5,11.25,11,10.75,10.1,10,11.241666666666665,11.224009275718631,24.761380323054325,24.722487391450727,594.5207415565344,593.586922268732]
[2000,9.85,9.85,9.5,9.5,9.5,9.5,9.5,9.25,9.25,9.25,9.25,9.25,9.4541666666666675,9.4518451059309108,20.824155653450809,20.819042083548261,499.98797723935394,499.86520042599381]
[2001,9.25,9.75,9.75,9.25,10.5,10,10,10,10,10.5,10.5,10.5,10,9.9905061409971196,22.026431718061673,22.005520134354889,528.85462555066078,528.35253842586087]
[2002,10.65,10.65,10.4,10.4,10.4,10.4,10.75,10.75,10.75,10.75,10.75,10.75,10.616666666666667,10.61549572719175,23.384728340675476,23.38214917883645,561.46732745961822,561.40540178386323]
[2003,10.75,10.6,10.6,11.75,11.75,11.75,11.75,11.75,12,13,14,15.5,12.1,12.026783368228187,26.651982378854623,26.490712264819795,639.91409691629951,636.0420014783233]
[2004,16.5,17,17.5,17.5,18,18.75,19,23,23,24,25,25,20.354166666666668,20.108604821339458,44.832966226138034,44.292081104271929,1076.4395190895743,1063.4528673135692]
[2005,26,26.5,27.25,28.5,30,30,31,31.5,32.5,33.75,34.75,36.130000000000003,30.656666666666666,30.498403401109929,67.525697503671068,67.177100002444774,1621.2919970631424,1612.9221710586992]
[2006,37,39.5,41.5,43.75,46.25,46.75,47.5,52,54.5,59,59,72,49.895833333333336,49.042284429859826,109.90271659324522,108.02265292920666,2638.7642254038178,2593.6238968302519]
[2007,75,85,85,85,95,95,95,95,95,95,95,95,90.833333333333329,90.592499077668052,200.07342143906018,199.54294951028203,4803.762848751835,4791.0262177418717]
[2008,95,95,95,90,87.5,82.5,80,80,75,70,70,70,82.5,81.947219747201544,181.71806167400879,180.500484024673,4363.050660792951,4333.8166214323992]
[2009,69.5,69.5,69.5,67,65,65,65,64.5,64.5,64.5,61,61,65.5,65.439857008346635,144.27312775330395,144.14065420340668,3463.997797356828,3460.8171074237948]
[2010,61,60,59,59,59,59,60,60,61,62,65,66,60.916666666666664,60.876200318551831,134.17767988252567,134.08854695716261,3221.6060939794415,3219.4660124414745]
[2011,71.5,71.5,70,69,68,68,68,64.5,63.5,63,62.5,62,66.791666666666671,66.706676583900176,147.11820851688694,146.93100569141006,3532.3081864904557,3527.8134466507558]
[2012,61,60,60,60.5,61.25,61.25,61.25,60.25,60.5,59.5,59.5,56.5,60.125,60.111615467834554,132.4339207048458,132.40443935646377,3179.738436123348,3179.0305889486954]
[2013,56.5,56.5,56.5,57,57,57,54.5,54,50.5,50,50,50,54.125,54.041840370994763,119.21806167400879,119.03489068501048,2862.4256607929515,2858.0277253471018]
[2014,50,50,46,45,45,44.5,44,44,45,45,49.5,49.5,46.458333333333336,46.398289618477406,102.33113069016153,102.19887581162423,2456.9704478707786,2453.795008237098]
[2015,49.5,49.5,49.5,49,47.5,46,44.5,44,44,44,44,44,46.291666666666664,46.229998139728501,101.96402349486048,101.82818973508479,2448.1562041116003,2444.8948355393859]
[2016,44,44,43.5,null,null,null,null,null,null,null,null,null,43.833333333333336,43.832698004191805,96.549192364170338,96.547792960774885,2318.14610866373,2318.1125089882053]
[]
[null,null,null,null,null,null,null,null,null,null,null,null,null,null,null,"trend do dalších let",null,{"$f":"AVERAGEA(R20:R30)","v":3144.7338689761045}]
["1USD=24,01CZK",null,null,null,null,null,null,null,null,null,null,null,null,null,null,null,null,null,"řetězový index cen",{"$f":"1+(T35/100)","v":1.026},1.0409999999999999,1.0449999999999999,0.96889999999999998,1.0125,1.056,1.0209999999999999,1.008,0.99199999999999999,{"$f":"1+(AC35/100)","v":0.96799999999999997}]
[null,null,null,null,null,null,null,null,null,null,null,null,null,null,null,"růst průmyslových cen za posledních 10 let",null,null,"tempo přírůstku",2.6,4.0999999999999996,4.5,-3.11,1.25,5.6,2.1,0.8,-0.8,-3.2]
[null,null,null,null,null,null,null,null,null,null,null,null,null,null,null,"upravené na výpočet geom.pr."]
[null,null,null,null,null,null,null,null,null,null,null,null,null,null,null,"geom.pr. Ind.cen.",{"$f":"GEOMEAN(T34:AC34)","v":1.0134272061341969}]
["DO BUDOUCTNOSTI",null,null,null,null,"DO MINULOSTI"]
[null,"CZK/kg",null,null,null,null,"CZK/kg"]
[2017,{"$f":"R33*(1+($Q$37/100))","v":3176.603457564825},null,null,null,1985,{"$f":"S3/(1+($Q$37/100))","v":762.24727521167915}]
[2018,{"$f":"B40*(1+($Q$37/100))","v":3208.7960212347866},null,null,null,1986,{"$f":"G40/(1+($Q$37/100))","v":754.59995398056401}]
[2019,{"$f":"B41*(1+($Q$37/100))","v":3241.3148331033317},null,null,null,1987,{"$f":"G41/(1+($Q$37/100))","v":747.02935525658484}]
[2020,3274.1631994584641]
[2021,3307.3444600950102]
[2022,3340.8619886541851]
[2023,3374.7191929666028]
[2024,3408.9195153987589]
[2025,3443.4664332030279]
[2026,3478.3634588712061]
[2027,3513.6141404916375]
[2028,3549.2220621099582]
[2029,3585.1908440934976]
[2030,3621.5241434993736]
[2031,3658.2256544463148]
[2032,3695.2991084902546]
[2033,3732.7482750037293]
[2034,3770.5769615591221]
[2035,3808.7890143157906]
[2036,3847.3883184111173]
[2037,3886.3787983555249]
[2038,3925.7644184314909]
[2039,3965.5491830966116]
[2040,4005.7371373907449]
[2041,4046.3323673472842,null,null,null,null,null,null,null,null,null,null,null,null,null,null,3307.3444600950102,3340.8619886541851,3374.7191929666028,3408.9195153987589,3443.4664332030279,3478.3634588712061,3513.6141404916375,3549.2220621099582,3585.1908440934976,3621.5241434993736,3658.2256544463148,3695.2991084902546,3732.7482750037293,3770.5769615591221,3808.7890143157906,3847.3883184111173,3886.3787983555249,3925.7644184314909,3965.5491830966116,4005.7371373907449,4046.3323673472842,4087.3390004085954,4128.7612058456698,4170.6031951820241,4212.8692226219009,4255.5635854828051,4298.6906246324279,4342.2547249299932,4386.2603156720816,4430.7118710429704,4475.6139105695374,4520.9709995807762]
[2042,4087.3390004085954]
[2043,4128.7612058456698]
[2044,4170.6031951820241]
[2045,4212.8692226219009]
[2046,4255.5635854828051]
[2047,4298.6906246324279]
[2048,4342.2547249299932]
[2049,4386.2603156720816]
[2050,4430.7118710429704]
[2051,4475.6139105695374]
[2052,4520.9709995807762]

{"sheet":"Cena elektřiny","index":3,"n_rows":13,"n_cols":69,"rows_kept":13,"cut":false,"hidden":false,"merged":[[6,6,7,7]]}
[null,1985,1986,1987,1988,1989,1990,1991,1992,1993,1994,1995,1996,1997,1998,1999,2000,2001,2002,2003,2004,2005,2006,2007,2008,2009,2010,2011,2012,2013,2014,2015,2016,2017,2018,2019,2020,2021,2022,2023,2024,2025,2026,2027,2028,2029,2030,2031,2032,2033,2034,2035,2036,2037,2038,2039,2040,2041,2042,2043,2044,2045,2046,2047,2048,2049,2050,2051,2052]
["Cena silové elektřiny (Kč/MWh)",{"$f":"C2/(1+($B$13/100))","v":919.45561170637836},928.77362502373842,938.18606962312776,947.69390249684966,957.29809033562765,966.99960962689204,976.7994467540625,986.69859809683646,996.69807013249454,1006.7988795382317,1017.0020532945265,1027.3086287895567,1037.7196539246743,1048.2361872209485,1058.8592979267894,1069.590066126661,1080.4295828508973,1091.3789501866306,1102.4392813898437,1113.6117009985587,1124.8973449471719,{"$f":"X2/(1+($B$13/100))","v":1136.2973606819478},{"$f":"B12/(1+($B$13/100))","v":1147.8129072776835},{"$f":"27.04*64.41","v":1741.6463999999999},{"$f":"37.8*27.04","v":1022.1119999999999},{"$f":"49.8*27.04","v":1346.5919999999999},{"$f":"56*27.04","v":1514.24},{"$f":"49.5*27.04","v":1338.48},{"$f":"36.74*27.04","v":993.44960000000003},{"$f":"32.96*27.04","v":891.23839999999996},{"$f":"32.32*27.04","v":873.93279999999993},{"$f":"26.38*27.04","v":713.3152},{"$f":"B12*(1+($B$13/100))","v":1171.1952882021603},{"$f":"AH2*(1+($B$13/100))","v":1183.0644998897628},{"$f":"AI2*(1+($B$13/100))","v":1195.0539973977611},1207.1649997353843,1219.3987382656326,1231.7564568304736,1244.2394118773082,1256.8488725867169,1269.5861210015016,1282.4524521570347,1295.4491742129292,1308.5776085860439,1321.8390900848351,1335.2349670450715,1348.7666014669232,1362.4353691534407,1376.2426598504364,1390.1898773877856,1404.278439822157,1418.5097795811917,1432.8853436091417,1447.4065935139863,1462.0750057160374,1476.8920715980519,1491.8592976568655,1506.9782056565627,1522.2503327831994,1537.6772318010926,1553.2604712106961,1569.0016354080735,1584.9023248459894,1600.9641561966321,1617.1887625159854,1633.5777934098674,1650.1329152016497,1666.8558111016785]
[]
[]
[null,null,"dopočítané údaje"]
[]
[null,null,"zdroj výroční zpráva ČEZ číselně",null,null,null,"průměrná cena baseload"]
[null,null,"zdroj výroční zpráva ČEZ z grafu"]
[null,null,"zdroj roční zpráva o trhu _V2 (OTE: http://www.ote-cr.cz/statistika/rocni-zprava)"]
[]
[]
["průměr 2008-2016 (kč/MWh)",{"$f":"AVERAGEA(Y2:AG2)","v":1159.4451555555554}]
["geom. Pr. indexu růstu průmyslových cen za posledních 10let",{"$f":"'Ceny uranu'!Q37","v":1.0134272061341969}]

{"sheet":"Citlivostní analýza","index":4,"n_rows":8,"n_cols":15,"rows_kept":8,"cut":false,"hidden":false,"merged":[[3,13,3,14]]}
["ZMĚNA CENY RUDY",-0.5,-0.4,-0.3,-0.2,-0.1,0,0.1,0.2,0.3,0.4,0.5]
["1kg rudy",{"$f":"$G$2*(1+B1)","v":1572},1886.3999999999999,2200.7999999999997,2515.2000000000003,{"$f":"$G$2*(1+F1)","v":2829.6},3144,{"$f":"$G$2*(1+H1)","v":3458.4},{"$f":"$G$2*(1+I1)","v":3772.7999999999997},4087.2000000000003,4401.5999999999995,4716]
["1kg paliva",{"$f":"(B2*8.9)+$N$6","v":38456.990000000005},41255.15,44053.31,46851.47,{"$f":"(F2*8.9)+$N$6","v":49649.630000000005},{"$f":"G2*8.9+$N$6","v":52447.790000000008},{"$f":"(H2*8.9)+$N$6","v":55245.950000000004},{"$f":"(I2*8.9)+$N$6","v":58044.11},60842.270000000004,63640.43,66438.59]
["1MWh",{"$f":"B3/360","v":106.82497222222224},{"$f":"C3/360","v":114.59763888888889},122.37030555555555,130.14297222222223,137.91563888888891,145.68830555555559,153.46097222222224,161.23363888888889,169.00630555555557,176.77897222222222,184.55163888888887,null,"fixní náklady/1kg paliva"]
[null,null,null,null,null,null,null,null,null,null,null,null,null,{"$f":"120+300+599","v":1019},"USD"]
[null,null,null,null,null,null,null,null,null,null,null,null,null,{"$f":"24.01*N5","v":24466.190000000002},"CZK"]
["% změna 1kg paliva",{"$f":"(B3/$G$3)","v":0.73324328823006646},0.7865946305840531,0.83994597293803974,0.89329731529202649,{"$f":"(F3/$G$3)","v":0.94664865764601325},1,{"$f":"(H3/$G$3)","v":1.0533513423539866},{"$f":"(I3/$G$3)","v":1.1067026847079733},1.1600540270619599,1.2134053694159466,1.2667567117699332]
["% změna 1MWh",{"$f":"B4/$G$4","v":0.73324328823006646},0.7865946305840531,0.83994597293803963,0.89329731529202649,0.94664865764601325,1,{"$f":"H4/$G$4","v":1.0533513423539866},{"$f":"I4/$G$4","v":1.1067026847079731},1.1600540270619599,1.2134053694159466,1.2667567117699332]