{"text_format":"1","workbook":"xlsx","n_sheets":36,"sheets":["D11","Ústí","Liberec","Chodov","celkové projekty","stavební práce","kuchyně","kasy","chladící a mrazící boxy","interiér","menuboard","odborné služby","projektové práce","nájemné","cestovné","mzdy","rekonstrukce","interiér dveře","dlažby","dlažby - demontáž","obklady","obklady - demontáž","malby","malby - škrábání","tapety","ZTI","ZTI - DEMONTÁŽ","volný interiér","Rekonstrukce - úvod","Rekonstrukce - vstupní karta","rekonstrukce - karta nákladů","rekonstrukce - shrnutí","Celková stavba - úvod","celková stavba - vstupní karta","celková stavba - karta nákladů","celková stavba - rekapitulace"],"not_rendered":{"charts":21,"images":0,"macros":1,"external_links":9,"defined_names":0,"comments":2,"pivot_tables":0},"unopened":[],"bounds":{"document_bytes":16777216,"sheet_cells":100000,"rows_first":2000,"rows_last":500,"rows_between":2000,"halvings":0,"cell_chars":16384,"cell_head_chars":4096},"cells_cut":0,"cells_raw":0,"read":"whole","date_system":"1900"}

{"sheet":"D11","index":0,"n_rows":32,"n_cols":9,"rows_kept":32,"cut":false,"hidden":true,"merged":[[11,1,19,1],[21,1,29,1],[9,2,9,8],[1,1,2,4],[3,1,3,2],[4,1,4,2],[5,1,5,2],[6,1,6,2],[6,3,6,4]]}
[]
[null,"BURGER KING - DÁLNICE D11 - ZÁKLADNÍ CHARAKTERISTIKY"]
[]
[null,"OP=",null,713,"m3"]
[null,"PP=",null,211,"m2"]
[null,"kapacita",null,60,"osob"]
[null,"datum realizace",null,2010]
[null,0.02]
[]
[null,null,"BURGER KING - DÁLNICE D11 - ROZČLENĚNÍ INVESTIČNÍ NÁKLADŮ"]
[null,null,"Druh nákladů","Celkový náklad (bez DPH)","Způsob stanovení","MJ","Počet MJ","Skladebný ukazatel","Položka propočtu"]
[null,"Stavební práce + vybavení","stavební práce",5775315,"nákladový ukazatel","m2",211,27371,"stavební objekty (ZRN)"]
[null,null,"kuchyně",2734731,"nákladový ukazatel","osoby",60,45579,"provozní soubor"]
[null,null,"kasy",499397,"nákladový ukazatel","osoby",60,8323,"provozní soubor"]
[null,null,"mrazící a chladící boxy",329915,"nákladový ukazatel","osoby",60,5499,"provozní soubor"]
[null,null,"interiér",1035722,"nákladový ukazatel","osoby",60,17262,"stroje,zařízení,inventář"]
[null,null,"zmrzlinovač",389640," konst.cena ","ks",1,389640,"provozní soubor"]
[null,null,"menuboard",485143,"nákladový ukazatel","m2",211,2299,"provozní soubor"]
[null,null,"pylon",306000," konst.cena ","ks",1,306000,"ostatní investice"]
[null,null,"Celkem",11249863]
[]
[null,"Ostatní náklady","franchisa",494953,"konst.cena","ks",1,494953,"nehmotný investiční majetek"]
[null,null,"odborné služby",300064,"nákladový ukazatel","m2",211,1422,"ostatní náklady"]
[null,null,"projektové práce",400000,"nákladový ukazatel","m2",211,1896,"projektové a průzkumné práce"]
[null,null,"mzdy před provozem",440000,"konst.cena","ks",1,440000,"provozní náklady na přípravu"]
[null,null,"pojištění",150000,"konst.cena","ks",1,150000,"ostatní náklady"]
[null,null,"nájem před provozem",100000," individuální kalkulace ",null,null,null,"ostatní náklady"]
[null,null,"peněžní deposit",46920,"konst.cena","ks",1,46920,"ostatní náklady"]
[null,null,"cestovné BK",50000,"nákladový ukazatel","km",20,2500,"provozní náklady na přípravu"]
[null,null,"Celkem","   1 981 937 Kč "]
[]
[null,null,"Celkem stavba",13231800]

{"sheet":"Ústí","index":1,"n_rows":30,"n_cols":9,"rows_kept":30,"cut":false,"hidden":true,"merged":[[19,1,27,1],[10,1,17,1],[0,1,1,4],[4,1,4,2],[3,1,3,2],[2,1,2,2],[5,1,5,2],[5,3,5,4],[8,2,8,8]]}
[null,"BURGER KING - ÚSTÍ NAD LABEM - ZÁKLADNÍ CHARAKTERISTIKY"]
[]
[null,"OP=",null,1295,"m3"]
[null,"PP=",null,305,"m2"]
[null,"kapacita",null,60,"osob"]
[null,"datum realizace",null,2010]
[null,0.02]
[]
[null,null,"BURGER KING - ÚSTÍ NAD LABEM - ROZČLENĚNÍ INVESTIČNÍCH NÁKLADŮ"]
[null,null,"Druh nákladů","Celkový náklad (bez DPH)","Způsob stanovení","MJ","Počet MJ","Skladebný ukazatel","Položka propočtu"]
[null,"Stavební práce + vybavení","stavební práce",8049588,"nákladový ukazatel","m2",305,26392,"stavební objekty (ZRN)"]
[null,null,"kuchyně",2619244,"nákladový ukazatel","osoby",60,43654,"provozní soubor"]
[null,null,"kasy",493449,"nákladový ukazatel","osoby",60,8224,"provozní soubor"]
[null,null,"mrazící a chladící boxy",344923,"nákladový ukazatel","osoby",60,5749,"provozní soubor"]
[null,null,"interiér",908225,"nákladový ukazatel","osoby",60,15137,"stroje,zařízení,inventář"]
[null,null,"zmrzlinovač",389640," konst.cena ","ks",1,389640,"provozní soubor"]
[null,null,"menuboard",635715,"nákladový ukazatel","m2",305,2084,"provozní soubor"]
[null,null,"Celkem",13440785]
[]
[null,"Ostatní náklady","franchisa",494953,"konst.cena","osoby",60,8249,"nehmotný investiční majetek"]
[null,null,"odborné služby",350115,"nákladový ukazatel","m2",305,1148,"ostatní náklady"]
[null,null,"projektové práce",500000,"nákladový ukazatel","m2",305,1639,"projektové a průzkumné práce"]
[null,null,"mzdy před provozem",440000,"konst.cena","ks",1,440000,"provozní náklady na přípravu"]
[null,null,"pojištění",150000," konst.cena ","ks",1,150000,"ostatní náklady"]
[null,null,"nájem před provozem",375000," individuální kalkulace ",null,null,null,"ostatní náklady"]
[null,null,"peněžní deposit",46920,"konst.cena","ks",1,46920,"ostatní náklady"]
[null,null,"cestovné BK",223000,"nákladový ukazatel","km",95,2347,"provozní náklady na přípravu"]
[null,null,"Celkem",2579988]
[]
[null,null,"Celkem",16020774]

{"sheet":"Liberec","index":2,"n_rows":30,"n_cols":9,"rows_kept":30,"cut":false,"hidden":true,"merged":[[0,1,1,4],[5,1,5,2],[5,3,5,4],[8,2,8,8],[19,1,27,1],[10,1,17,1],[4,1,4,2],[3,1,3,2],[2,1,2,2]]}
[null,"BURGER KING - LIBEREC - ZÁKLADNÍ CHARAKTERISTIKY"]
[]
[null,"OP=",null,910,"m3"]
[null,"PP=",null,213,"m2"]
[null,"kapacita",null,60,"osob"]
[null,"datum realizace",null,2010]
[null,0.02]
[]
[null,null,"BURGER KING - LIBEREC - ROZČLENĚNÍ INVESTIČNÍCH NÁKLADŮ"]
[null,null,"Druh nákladů","Celkový náklad (bez DPH)","Způsob stanovení","MJ","Počet MJ","Skladebný ukazatel","Položka propočtu"]
[null,"Stavební práce + vybavení","stavební práce",5321436,"nákladový ukazatel","m2",213,24983,"stavební objekty (ZRN)"]
[null,null,"kuchyně",2585307,"nákladový ukazatel","osoby",60,43088,"provozní soubor"]
[null,null,"kasy",468312,"nákladový ukazatel","osoby",60,7805,"provozní soubor"]
[null,null,"mrazící a chladící boxy",425952,"nákladový ukazatel","osoby",60,7099,"provozní soubor"]
[null,null,"interiér",928880,"nákladový ukazatel","osoby",60,15481,"stroje,zařízení,inventář"]
[null,null,"zmrzlinovač",389640," konst.cena ","ks",1,389640,"provozní soubor"]
[null,null,"menuboard",494624,"nákladový ukazatel","m2",213,2322,"provozní soubor"]
[null,null,"Celkem",10614150]
[]
[null,"Ostatní náklady","franchisa",494953,"konst.cena","osoby",60,8249,"nehmotný investiční majetek"]
[null,null,"odborné služby",248115,"nákladový ukazatel","m2",213,1165,"ostatní náklady"]
[null,null,"projektové práce",400000,"nákladový ukazatel","m2",213,1878,"projektové a průzkumné práce"]
[null,null,"mzdy před provozem",440000,"konst.cena","ks",1,440000,"provozní náklady na přípravu"]
[null,null,"pojištění",150000," konst.cena ","ks",1,150000,"ostatní náklady"]
[null,null,"nájem před provozem",100000," individuální kalkulace ",null,null,null,"ostatní náklady"]
[null,null,"peněžní deposit",46920,"konst.cena","ks",1,46920,"ostatní náklady"]
[null,null,"cestovné BK",223000,"nákladový ukazatel","km",110,2027,"provozní náklady na přípravu"]
[null,null,"Celkem",2102988]
[]
[null,null,"Celkem",12717139]

{"sheet":"Chodov","index":3,"n_rows":24,"n_cols":11,"rows_kept":24,"cut":false,"hidden":true,"merged":[[6,0,14,0],[6,1,6,3],[7,1,7,3],[8,1,8,3],[9,1,9,3],[10,1,10,3],[11,1,11,3],[12,1,12,3],[13,1,13,3],[14,1,14,3],[22,1,22,3],[23,1,23,3],[15,1,15,3],[16,0,21,0],[16,1,16,3],[17,1,17,3],[18,1,18,3],[19,1,19,3],[20,1,20,3],[21,1,21,3]]}
[null,"OP=",970,"m3"]
[null,"PP=",187,"m2"]
[null,"kapacita",60,"osob"]
[null,0.02]
[]
[null,null,null,null,"Celková cena","způsob stanovení","MJ","počet MJ","Jednotková cena","položka propočtu","poznámka"]
["Stavební práce + vybavení","stavební práce",null,null,{"$f":"[1]Rekapitulace!$C$35*(1+B4)","v":5955249.4265999999},"cenový ukazatel","m2",187,{"$f":"E7/H7","v":31846.253618181818},"stavební objekty (ZRN)"]
[null,"kuchyně",null,null,{"$f":"2617008*(1+B4)","v":2669348.16},"cenový ukazatel","osoby",60,{"$f":"E8/H8","v":44489.136000000006},"provozní soubor"]
[null,"kasy",null,null,{"$f":"([2]Liberec!$E$15)*(1+B4)","v":468311.58},"cenový ukazatel","osoby",60,7805.1930000000002,"provozní soubor"]
[null,"mrazící a chladící boxy",null,null,{"$f":"[2]Liberec!$E$25*(1+B4)","v":425952},"cenový ukazatel","osoby",60,7099.2,"provozní soubor"]
[null,"interiér",null,null,0,"cenový ukazatel","osoby",60,0,"stroje,zařízení,inventář","bez vybavení"]
[null,"zmrzlinovač",null,null,{"$f":"[2]Liberec!$E$23*(1+B4)","v":389640},"konst.cena","ks",1,{"$f":"E12/H12","v":389640},"provozní soubor"]
[null,"menuboard-reklama",null,null,{"$f":"([2]Liberec!$E$18+[2]Liberec!$E$19)*(1+B4)","v":494623.5},"konst.cena","ks",1,{"$f":"E13/H13","v":494623.5},"ostatní náklady"]
[null,"ostatní",null,null,{"$f":"([2]Liberec!$E$21+[2]Liberec!$E$29+[2]Liberec!$E$31)*(1+B4)","v":273437.52},"cenový ukazatel","m2",187,{"$f":"E14/H14","v":1462.2327272727273},"ostatní náklady"]
[null,"Celkem",null,null,{"$f":"SUM(E7:E13)","v":10403124.6666}]
[]
["Ostatní náklady","franchisa",null,null,{"$f":"[2]Liberec!$E$35*(1+B4)","v":494953.47000000003},"cenový ukazatel","osoby",60,{"$f":"E17/H17","v":8249.2245000000003},"ostatní náklady"]
[null,"odborné služby",null,null,{"$f":"[2]Liberec!$E$37*(1+B4)","v":71400},"cenový ukazatel","m2",187,{"$f":"E18/H18","v":381.81818181818181},"ostatní náklady"]
[null,"projektové práce",null,null,{"$f":"[2]Liberec!$E$49*(1+B4)","v":612000},"cenový ukazatel","m2",187,{"$f":"E19/H19","v":3272.7272727272725},"projektové a průzkumné práce"]
[null,"pojištění",null,null,{"$f":"[2]Liberec!$E$39*(1+B4)","v":640305},"cenový ukazatel","m2",187,{"$f":"E20/H20","v":3424.090909090909},"ostatní náklady"]
[null,"ostatní investice",null,null,{"$f":"([2]Liberec!$E$41+[2]Liberec!$E$43+[2]Liberec!$E$45+[2]Liberec!$E$47)*(1+B4)","v":376380},"cenový ukazatel","m2",187,{"$f":"E21/H21","v":2012.7272727272727},"ostatní náklady"]
[null,null,null,null,{"$f":"SUM(E17:E21)","v":2195038.4699999997}]
[]
[null,null,null,null,{"$f":"E15+E22","v":12598163.136599999}]

{"sheet":"celkové projekty","index":4,"n_rows":5,"n_cols":8,"rows_kept":5,"cut":false,"hidden":true,"merged":[]}
[]
[null,null,"projektové práce","boxy","interiér","technologické zázemí kuchyně","stavební práce","celkové náklady"]
[null,"D11",{"$f":"'D11'!D24","v":400000},{"$f":"'D11'!D15","v":329915},{"$f":"'D11'!D16","v":1035722},{"$f":"'D11'!D13","v":2734731},{"$f":"'D11'!D12","v":5775315},{"$f":"'D11'!D32","v":13231800}]
[null,"Ústí",{"$f":"Ústí!D22","v":500000},{"$f":"Ústí!D14","v":344923},{"$f":"Ústí!D15","v":908225},{"$f":"Ústí!D12","v":2619244},{"$f":"Ústí!D11","v":8049588},{"$f":"Ústí!D30","v":16020774}]
[null,"Liberec",{"$f":"Liberec!D22","v":400000},{"$f":"Liberec!D14","v":425952},{"$f":"Liberec!D15","v":928880},{"$f":"Liberec!D12","v":2585307},{"$f":"Liberec!D11","v":5321436},{"$f":"Liberec!D30","v":12717139}]

{"sheet":"stavební práce","index":5,"n_rows":9,"n_cols":6,"rows_kept":9,"cut":false,"hidden":true,"merged":[[8,1,8,4],[1,1,1,5]]}
[]
[null,"NÁKLADOVÝ UKAZATEL - STAVEBNÍ PRÁCE"]
[null,null,"Celkové náklady","MJ","Počet MJ","Nákladový ukazatel [Kč/m2]"]
[null,"D11",5775315,"m2",211,27371]
[null,"Ústí",8049588,"m2",305,26392]
[null,"Liberec",5321436,"m2",213,24983]
[null,"Chodov",5955249,"m2",187,31846]
[]
[null,"VÝSLEDNÝ NÁKLADOVÝ UKAZATEL - stavební práce [Kč/m2]",null,null,null,{"$f":"SUM(F4:F6)/3","v":26248.666666666668}]

{"sheet":"kuchyně","index":6,"n_rows":33,"n_cols":6,"rows_kept":33,"cut":false,"hidden":true,"merged":[[1,1,1,5],[8,1,8,4],[27,1,27,5]]}
[]
[null,"NÁKLADOVÝ UKAZATEL - technologické zázemí kuchyně"]
[null,null,"Celkové náklady","MJ","Počet MJ","Nákladový ukazatel [Kč/os]"]
[null,"D11",2734731,"osoby",60,45579]
[null,"Ústí",2619244,"osoby",60,43654]
[null,"Liberec",2585307,"osoby",60,43088]
[null,"Chodov",2669348,"osoby",60,44489]
[]
[null,"VÝSLEDNÝ NÁKLADOVÝ UKAZATEL - KUCHYNĚ [Kč/os]",null,null,null,{"$f":"SUM(F4:F6)/3","v":44107}]
[]
[]
[]
[]
[]
[]
[]
[]
[]
[]
[]
[]
[]
[]
[]
[]
[]
[]
[null,"NÁKLADOVÝ UKAZATEL - technologické zázemí kuchyně"]
[null,null,"Celkové náklady","MJ","Počet MJ","Nákladový ukazatel [Kč/m2]"]
[null,"D11",2734731,"pp zázemí [m2]",121.85,22443]
[null,"Ústí",2619244,"pp zázemí [m2]",175.96,14885]
[null,"Liberec",2585307,"pp zázemí [m2]",131.37,19680]
[null,"Chodov",2669348,"pp zázemí [m2]",155.84,17129]

{"sheet":"kasy","index":7,"n_rows":8,"n_cols":6,"rows_kept":8,"cut":false,"hidden":true,"merged":[[1,1,1,5],[7,1,7,4]]}
[]
[null,"NÁKLADOVÝ UKAZATEL - restaurační systémy Micros - kasy"]
[null,null,"Celkové náklady","MJ","Počet MJ","Nákladový ukazatel [Kč/os]"]
[null,"D11",499397,"osoby",60,8323]
[null,"Ústí",493449,"osoby",60,8224]
[null,"Liberec",468312,"osoby",60,7805]
[]
[null,"VÝSLEDNÝ NÁKLADOVÝ UKAZATEL - KASY",null,null,null,{"$f":"SUM(F4:F6)/3","v":8117.333333333333}]

{"sheet":"chladící a mrazící boxy","index":8,"n_rows":29,"n_cols":6,"rows_kept":29,"cut":false,"hidden":true,"merged":[[1,1,1,5],[7,1,7,4],[24,1,24,5]]}
[]
[null,"NÁKLADOVÝ UKAZATEL - chladící a mrazící boxy"]
[null,null,"Celkové náklady","MJ","Počet MJ","Nákladový ukazatel [Kč/os]"]
[null,"D11",329915,"osoby",60,5499]
[null,"Ústí",344923,"osoby",60,5749]
[null,"Liberec",425952,"osoby",60,7099]
[]
[null,"VÝSLEDNÝ NÁKLADOVÝ UKAZATEL - chladící a mrazící boxy",null,null,null,{"$f":"SUM(F4:F6)/3","v":6115.666666666667}]
[]
[]
[]
[]
[]
[]
[]
[]
[]
[]
[]
[]
[]
[]
[]
[]
[null,"NÁKLADOVÝ UKAZATEL - chladící a mrazící boxy"]
[null,null,"Celkové náklady","MJ","Počet MJ","Nákladový ukazatel [Kč/m2]"]
[null,"D11",329915,"pp zázemí [m2]",121.85,2708]
[null,"Ústí",344923,"pp zázemí [m2]",175.96,1960]
[null,"Liberec",425952,"pp zázemí [m2]",131.37,3242]

{"sheet":"interiér","index":9,"n_rows":32,"n_cols":6,"rows_kept":32,"cut":false,"hidden":true,"merged":[[1,1,1,5],[7,1,7,4],[27,1,27,5]]}
[]
[null,"NÁKLADOVÝ UKAZATEL - interiér"]
[null,null,"Celkové náklady","MJ","Počet MJ","Nákladový ukazatel [Kč/os]"]
[null,"D11",1035722,"osoby",60,17262]
[null,"Ústí",908225,"osoby",60,15137]
[null,"Liberec",928880,"osoby",60,15481]
[]
[null,"VÝSLEDNÝ NÁKLADOVÝ UKAZATEL - interiér",null,null,null,{"$f":"SUM(F4:F6)/3","v":15960}]
[]
[]
[]
[]
[]
[]
[]
[]
[]
[]
[]
[]
[]
[]
[]
[]
[]
[]
[]
[null,"NÁKLADOVÝ UKAZATEL - interiér"]
[null,null,"Celkové náklady","MJ","Počet MJ","Nákladový ukazatel [Kč/m2]"]
[null,"D11",1035722,"pp veř.části [m2]",89.15,11618]
[null,"Ústí",908225,"pp veř.části [m2]",129.04,7038]
[null,"Liberec",928880,"pp veř.části [m2]",81.63,11379]

{"sheet":"menuboard","index":10,"n_rows":8,"n_cols":6,"rows_kept":8,"cut":false,"hidden":true,"merged":[[1,1,1,5],[7,1,7,4]]}
[]
[null,"NÁKLADOVÝ UKAZATEL - menuboard"]
[null,null,"Celkové náklady","MJ","Počet MJ","Nákladový ukazatel [Kč/m2]"]
[null,"D11",485143,"m2",211,2299]
[null,"Ústí",635715,"m2",305,2084]
[null,"Liberec",494624,"m2",213,2322]
[]
[null,"VÝSLEDNÝ NÁKLADOVÝ UKAZATEL - menuboard [Kč/m2]",null,null,null,{"$f":"SUM(F4:F6)/3","v":2235}]

{"sheet":"odborné služby","index":11,"n_rows":8,"n_cols":6,"rows_kept":8,"cut":false,"hidden":true,"merged":[[1,1,1,5],[7,1,7,4]]}
[]
[null,"NÁKLADOVÝ UKAZATEL - odborné služby"]
[null,null,"Celkové náklady","MJ","Počet MJ","Nákladový ukazatel [Kč/m2]"]
[null,"D11",300064,"m2",211,1422]
[null,"Ústí",350115,"m2",305,1148]
[null,"Liberec",248115,"m2",213,1165]
[]
[null,"VÝSLEDNÝ NÁKLADOVÝ UKAZATEL - ODBORNÉ SLUŽBY [Kč/m2]",null,null,null,{"$f":"SUM(F4:F6)/3","v":1245}]

{"sheet":"projektové práce","index":12,"n_rows":31,"n_cols":6,"rows_kept":31,"cut":false,"hidden":true,"merged":[[1,1,1,5],[7,1,7,4],[26,1,26,5]]}
[]
[null,"NÁKLADOVÝ UKAZATEL - projektové a průzkumné práce"]
[null,null,"Celkové náklady","MJ","Počet MJ","Nákladový ukazatel [Kč/m2]"]
[null,"D11",400000,"m2",211,1896]
[null,"Ústí",500000,"m2",305,1639]
[null,"Liberec",400000,"m2",213,1878]
[]
[null,"VÝSLEDNÝ NÁKLADOVÝ UKAZATEL - PROJ. A PR. PRÁCE [Kč/m2]",null,null,null,{"$f":"SUM(F4:F6)/3","v":1804.3333333333333}]
[]
[]
[]
[]
[]
[]
[]
[]
[]
[]
[]
[]
[]
[]
[]
[]
[]
[]
[null,"NÁKLAD NA PROJ. A PRŮZKUMNÉ PRÁCE DLE HONORÁŘ. ŘÁDU"]
[null,null,"Celkové náklady stav. objektů","MJ","Počet MJ","Celkový náklad na proj. práce"]
[null,"D11",5775315,"%",8,462025]
[null,"Ústí",8049588,"%",7.7,619818]
[null,"Liberec",5321436,"%",8.1,431036]

{"sheet":"nájemné","index":13,"n_rows":30,"n_cols":4,"rows_kept":30,"cut":false,"hidden":true,"merged":[[2,1,2,3],[3,1,4,1],[3,2,3,3]]}
[]
[]
[null,"průměrná cena nájemného nebytových prostor (Kč/měsíc)"]
[null,"Lokalita","Rok"]
[null,null,2010,2014]
[null,"Praha 1",400,480]
[null,"Praha 2",360,440]
[null,"Praha 3",280,340]
[null,"Praha 4",250,300]
[null,"Praha 5",260,320]
[null,"Praha 6",290,350]
[null,"Praha 7",230,280]
[null,"Praha 8",200,240]
[null,"Praha 9",180,220]
[null,"Praha 10",210,260]
[null,"Praha - východ",70,90]
[null,"Praha - západ",75,90]
[null,"Středočeský kraj",50,60]
[null,"Jihočeská kraj",60,80]
[null,"Plzeňský kraj",65,80]
[null,"Karlovarský kraj",80,100]
[null,"Ústecký kraj",55,70]
[null,"Liberecký kraj",60,80]
[null,"Královehradecký kraj",80,100]
[null,"Pardubický kraj",80,100]
[null,"Kraj Vysočina",60,80]
[null,"Jihomoravský kraj",100,120]
[null,"Olomoucký kraj",55,70]
[null,"Moravskoslezský kraj",40,50]
[null,"Zlínský kraj",50,60]

{"sheet":"cestovné","index":14,"n_rows":8,"n_cols":6,"rows_kept":8,"cut":false,"hidden":true,"merged":[[1,1,1,5],[7,1,7,4]]}
[]
[null,"NÁKLADOVÝ UKAZATEL - cestovné BK"]
[null,null,"Celkové náklady","MJ","Počet MJ","Nákladový ukazatel [Kč/km]"]
[null,"D11",50000,"km",20,2500]
[null,"Ústí",223000,"km",95,2347]
[null,"Liberec",223000,"km",110,2027]
[]
[null,"VÝSLEDNÝ NÁKLADOVÝ UKAZATEL - CESTOVNÉ BK [Kč/km]",null,null,null,{"$f":"SUM(F4:F6)/3","v":2291.3333333333335}]

{"sheet":"mzdy","index":15,"n_rows":9,"n_cols":6,"rows_kept":9,"cut":false,"hidden":true,"merged":[[2,1,2,5]]}
[]
[]
[null,"Náklady na mzdy před provozem"]
[null,"pracovník","počet pracovníků","superhrubá měsíční mzda","počet měsíců","náklady investora"]
[null,"vedoucí provozovny",1,46900,2,93800]
[null,"zástupce vedoucího",2,33500,2,134000]
[null,"manažeři prodeje",3,26800,2,160800]
[null,"řadoví zaměstnanci",10,20100,1,201000]
[null,"Celkem",null,null,null,589600]

{"sheet":"rekonstrukce","index":16,"n_rows":47,"n_cols":15,"rows_kept":47,"cut":false,"hidden":true,"merged":[[40,1,40,5],[40,9,40,13],[29,1,29,5],[29,9,29,13],[1,1,1,5],[1,9,1,13],[11,1,11,5],[11,9,11,13],[19,1,19,5],[19,9,19,13]]}
[]
[null,"D11",null,null,null,null,null,null,null,"D11"]
[null,"Stavební oddíl","Náklad","MJ","Počet MJ",null,null,null,null,"Stavební oddíl","Náklad","MJ","Počet MJ",null,"pozn."]
[null,"interiér - dveře",{"$f":"15653+9026+4049+4049+8098+4049+900+14575","v":60399},"m2",211,{"$f":"C4/E4","v":286.25118483412325},null,null,null,"interiér - dveře",{"$f":"15653+9026+4049+4049+8098+4049+900+14575+5*4049","v":80644},"m2",211,{"$f":"K4/M4","v":382.19905213270141},"přidáno 5 dveří"]
[null,"dlažby",566669,"m2",211,{"$f":"C5/E5","v":2685.6350710900474},"OK",null,null,"dlažby",566669,"m2",211,{"$f":"K5/M5","v":2685.6350710900474}]
[null,"obklady",157542,"m2",211,746.64454976303318,null,null,null,"obklady",157542,"m2",211,746.64454976303318]
[null,"malby",40753,"m2",211,193.14218009478674,null,null,null,"malby",{"$f":"40753/230*400","v":70874.782608695648},"m2",211,335.89944364310736,"přidány m2 na proveň Liberce"]
[null,"tapety",16241,"m2",211,76.97156398104265,null,null,null,"tapety",{"$f":"16241/93*166","v":28989.311827956986},"m2",211,137.39010345003311,"přidány m2 na proveň Liberce"]
[null,"interiér - nábytek",479511,"m2",211,{"$f":"C9/E9","v":2272.5639810426542},null,null,null,"interiér - nábytek",{"$f":"479511-238428+(238428/9*4)","v":347051},"m2",211,1644.7914691943129,"ubrány lavice na úroveň Liberce a Ústí"]
[null,"zařizovací předměty",null,"osoby",null,null,null,null,null,"zařizovací předměty",null,"osoby"]
[]
[null,"CHODOV",null,null,null,null,null,null,null,"CHODOV"]
[null,"Stavební oddíl","Náklad","MJ","Počet MJ",null,null,null,null,"Stavební oddíl","Náklad","MJ","Počet MJ",null,"pozn."]
[null,"interiér - dveře",{"$f":"[3]DP!$C$6","v":81580.800000000003},"m2",187,{"$f":"C14/E14","v":436.26096256684491},"OK",null,null,"interiér - dveře",{"$f":"[3]DP!$C$6","v":81580.800000000003},"m2",187,{"$f":"K14/M14","v":436.26096256684491}]
[null,"dlažby",{"$f":"[3]DP!$C$7","v":726526.40000000014},"m2",187,{"$f":"C15/E15","v":3885.1679144385034},"?",null,null,"dlažby",{"$f":"[3]DP!$C$7-[4]List1!$F$236-[4]List1!$F$237","v":543204.80000000016},"m2",187,{"$f":"K15/M15","v":2904.8385026737978},"odebrána dilatační lišta MIGUA"]
[null,"obklady",{"$f":"[3]DP!$C$8","v":150731.97999999998},"m2",187,{"$f":"C16/E16","v":806.05336898395717},null,null,null,"obklady",{"$f":"[3]DP!$C$8","v":150731.97999999998},"m2",187,{"$f":"K16/M16","v":806.05336898395717}]
[null,"malby",{"$f":"[3]DP!$C$9","v":55160.729999999996},"m2",187,{"$f":"C17/E17","v":294.97716577540103},null,null,null,"malby",{"$f":"[3]DP!$C$9","v":55160.729999999996},"m2",187,{"$f":"K17/M17","v":294.97716577540103}]
[null,"zařizovací předměty",null,"osoby",null,null,null,null,null,"zařizovací předměty",null,"osoby"]
[]
[null,"LIBEREC",null,null,null,null,null,null,null,"LIBEREC"]
[null,"Stavební oddíl","Náklad","MJ","Počet MJ",null,null,null,null,"Stavební oddíl","Náklad","MJ","Počet MJ",null,"pozn."]
[null,"interiér - dveře",{"$f":"SUM('[5]Stavební rozpočet'!$J$62:$J$73,'[5]Stavební rozpočet'!$J$76)","v":90866.650000000009},"m2",213,{"$f":"C22/E22","v":426.60399061032865},"OK",null,null,"interiér - dveře",{"$f":"SUM('[5]Stavební rozpočet'!$J$62:$J$73,'[5]Stavební rozpočet'!$J$76)","v":90866.650000000009},"m2",213,{"$f":"K22/M22","v":426.60399061032865}]
[null,"dlažby",{"$f":"SUM('[5]Stavební rozpočet'!$J$87)","v":601282.04},"m2",213,{"$f":"C23/E23","v":2822.9203755868548},"OK",null,null,"dlažby",{"$f":"SUM('[5]Stavební rozpočet'!$J$87)","v":601282.04},"m2",213,{"$f":"K23/M23","v":2822.9203755868548}]
[null,"obklady",{"$f":"SUM('[5]Stavební rozpočet'!$J$120)","v":248542.72000000003},"m2",213,{"$f":"C24/E24","v":1166.8672300469484},null,null,null,"obklady",{"$f":"SUM('[5]Stavební rozpočet'!$J$120)/300*200","v":165695.1466666667},"m2",213,{"$f":"K24/M24","v":777.91148669796576},"ubrány m2 obkladů na úroveň D11"]
[null,"malby",{"$f":"SUM('[5]Stavební rozpočet'!$J$133)","v":59653.3},"m2",213,{"$f":"C25/E25","v":280.06244131455401},null,null,null,"malby",{"$f":"SUM('[5]Stavební rozpočet'!$J$133)","v":59653.3},"m2",213,{"$f":"K25/M25","v":280.06244131455401}]
[null,"tapety",{"$f":"SUM('[5]Stavební rozpočet'!$J$139)","v":28883.79},"m2",213,{"$f":"C26/E26","v":135.60464788732395},null,null,null,"tapety",{"$f":"SUM('[5]Stavební rozpočet'!$J$139)","v":28883.79},"m2",213,{"$f":"K26/M26","v":135.60464788732395}]
[null,"interiér - nábytek",315567,"m2",213,{"$f":"C27/E27","v":1481.5352112676057},null,null,null,"interiér - nábytek",315567,"m2",213,{"$f":"K27/M27","v":1481.5352112676057}]
[null,"zařizovací předměty",{"$f":"SUM([6]ZTI!$E$64:$E$75)","v":112467.76999999999},"osoby",60,1874.4628333333333,null,null,null,"zařizovací předměty",null,"osoby"]
[]
[null,"ÚSTÍ",null,null,null,null,null,null,null,"ÚSTÍ"]
[null,"Stavební oddíl","Náklad","MJ","Počet MJ",null,null,null,null,"Stavební oddíl","Náklad","MJ","Počet MJ",null,"pozn."]
[null,"interiér - dveře",{"$f":"SUM('[7]Stavební rozpočet'!$J$98:$J$110,'[7]Stavební rozpočet'!$J$114:$J$115,'[7]Stavební rozpočet'!$J$92,'[7]Stavební rozpočet'!$J$90,'[7]Stavební rozpočet'!$J$88,'[7]Stavební rozpočet'!$J$86)","v":139668.31},"m2",305,{"$f":"C32/E32","v":457.92888524590165},"OK",null,null,"interiér - dveře",{"$f":"SUM('[7]Stavební rozpočet'!$J$98:$J$110,'[7]Stavební rozpočet'!$J$114:$J$115,'[7]Stavební rozpočet'!$J$92,'[7]Stavební rozpočet'!$J$90,'[7]Stavební rozpočet'!$J$88,'[7]Stavební rozpočet'!$J$86)","v":139668.31},"m2",305,{"$f":"K32/M32","v":457.92888524590165}]
[null,"dlažby",{"$f":"SUM('[7]Stavební rozpočet'!$J$145)","v":851400.94},"m2",305,{"$f":"C33/E33","v":2791.4784918032783},"OK",null,null,"dlažby",{"$f":"SUM('[7]Stavební rozpočet'!$J$145)","v":851400.94},"m2",305,{"$f":"K33/M33","v":2791.4784918032783}]
[null,"obklady",{"$f":"SUM('[7]Stavební rozpočet'!$J$191)","v":299934.67},"m2",305,{"$f":"C34/E34","v":983.39236065573766},null,null,null,"obklady",{"$f":"SUM('[7]Stavební rozpočet'!$J$191)-'[8]Stavební rozpočet'!$J$192-'[8]Stavební rozpočet'!$J$193","v":254430.21},"m2",305,{"$f":"K34/M34","v":834.1974098360655},"odebrán cihelný obklad"]
[null,"malby",{"$f":"SUM('[7]Stavební rozpočet'!$J$201)","v":147530.25},"m2",305,{"$f":"C35/E35","v":483.70573770491802},null,null,null,"malby",{"$f":"SUM('[7]Stavební rozpočet'!$J$201)/305*213","v":103029.32213114754},"m2",305,{"$f":"K35/M35","v":337.80105616769686},"odebrány m2 na úroveň liberce a D11"]
[null,"tapety",{"$f":"SUM('[7]Stavební rozpočet'!$J$206)","v":72367.26999999999},"m2",305,{"$f":"C36/E36","v":237.26973770491799},null,null,null,"tapety",{"$f":"SUM('[7]Stavební rozpočet'!$J$206)/430*166","v":27937.132139534879},"m2",305,{"$f":"K36/M36","v":91.597154555852057},"odebrány m2 na úroveň liberce a D11"]
[null,"interiér - nábytek",478830,"m2",305,{"$f":"C37/E37","v":1569.9344262295083},null,null,null,"interiér - nábytek",478830,"m2",305,{"$f":"K37/M37","v":1569.9344262295083}]
[null,"zařizovací předměty",{"$f":"4620+25080+8800+21780+8360+1980+12650+9020","v":92290},"osoby",60,{"$f":"C38/E38","v":1538.1666666666667},null,null,null,"zařizovací předměty",null,"osoby"]
[]
[]
[null,"CHODOVSKÁ",null,null,null,null,null,null,null,"CHODOVSKÁ"]
[null,"Stavební oddíl","Náklad","MJ","Počet MJ",null,null,null,null,"Stavební oddíl","Náklad","MJ","Počet MJ",null,"pozn."]
[null,"interiér - dveře",null,"m2",187,{"$f":"C43/E43","v":0},"OK",null,null,"interiér - dveře",null,"m2",187,{"$f":"K43/M43","v":0}]
[null,"dlažby",null,"m2",187,{"$f":"C44/E44","v":0},"?",null,null,"dlažby",null,"m2",187,{"$f":"K44/M44","v":0},"odebrána dilatační lišta MIGUA"]
[null,"obklady",null,"m2",187,{"$f":"C45/E45","v":0},null,null,null,"obklady",null,"m2",187,{"$f":"K45/M45","v":0}]
[null,"malby",null,"m2",187,{"$f":"C46/E46","v":0},null,null,null,"malby",null,"m2",187,{"$f":"K46/M46","v":0}]
[null,"zařizovací předměty",{"$f":"144207-23328-1352","v":119527},"osoby",70,{"$f":"C47/E47","v":1707.5285714285715},null,null,null,"zařizovací předměty",null,"osoby"]

{"sheet":"interiér dveře","index":17,"n_rows":9,"n_cols":6,"rows_kept":9,"cut":false,"hidden":true,"merged":[[1,1,1,5],[8,1,8,4]]}
[]
[null,"NÁKLADOVÝ UKAZATEL - interiérové dveře"]
[null,null,"Celkové náklady","MJ","Počet MJ","Nákladový ukazatel [Kč/m2]"]
[null,"D11",{"$f":"rekonstrukce!C4","v":60399},"m2",211,{"$f":"C4/E4","v":286.25118483412325}]
[null,"Ústí",{"$f":"rekonstrukce!C32","v":139668.31},"m2",305,{"$f":"C5/E5","v":457.92888524590165}]
[null,"Liberec",{"$f":"rekonstrukce!C22","v":90866.650000000009},"m2",213,{"$f":"C6/E6","v":426.60399061032865}]
[null,"Chodov",{"$f":"rekonstrukce!C14","v":81580.800000000003},"m2",187,{"$f":"C7/E7","v":436.26096256684491}]
[]
[null,"VÝSLEDNÝ NÁKLADOVÝ UKAZATEL - interiérové dveře [Kč/m2]",null,null,null,{"$f":"SUM(F5:F7)/3","v":440.26461280769172}]

{"sheet":"dlažby","index":18,"n_rows":31,"n_cols":6,"rows_kept":31,"cut":false,"hidden":true,"merged":[[8,1,8,4],[1,1,1,5],[26,1,26,5]]}
[]
[null,"NÁKLADOVÝ UKAZATEL - dlažby"]
[null,null,"Celkové náklady","MJ","Počet MJ","Nákladový ukazatel [Kč/m2]"]
[null,"D11",{"$f":"rekonstrukce!C5","v":566669},"pp veřejné části [m2]",{"$f":"interiér!E30","v":89.15},{"$f":"C4/E4","v":6356.3544587773413}]
[null,"Ústí",{"$f":"rekonstrukce!C33","v":851400.94},"pp veřejné části [m2]",{"$f":"interiér!E31","v":129.04},{"$f":"C5/E5","v":6597.9614073155608}]
[null,"Liberec",{"$f":"rekonstrukce!C23","v":601282.04},"pp veřejné části [m2]",{"$f":"interiér!E32","v":81.63},{"$f":"C6/E6","v":7365.9443831924546}]
[]
[]
[null,"VÝSLEDNÝ NÁKLADOVÝ UKAZATEL - dlažby [Kč/m2]",null,null,null,{"$f":"SUM(F4:F6,)/3","v":6773.4200830951186}]
[]
[]
[]
[]
[]
[]
[]
[]
[]
[]
[]
[]
[]
[]
[]
[]
[]
[null,"NÁKLADOVÝ UKAZATEL - dlažby"]
[null,null,"Celkové náklady","MJ","Počet MJ","Nákladový ukazatel"]
[null,"D11",{"$f":"C4","v":566669},"m2",null,{"$f":"C29/E29","v":{"$error":"#DIV/0!"}}]
[null,"Ústí",{"$f":"C5","v":851400.94},"m2",{"$f":"[9]interiér!$E$30","v":129.04},{"$f":"C30/E30","v":6597.9614073155608}]
[null,"Liberec",{"$f":"C6","v":601282.04},"m2",{"$f":"[9]interiér!$E$31","v":81.63},{"$f":"C31/E31","v":7365.9443831924546}]

{"sheet":"dlažby - demontáž","index":19,"n_rows":18,"n_cols":6,"rows_kept":18,"cut":false,"hidden":true,"merged":[[3,1,3,5],[10,1,10,5],[17,1,17,4]]}
[]
[]
[]
[null,"Náklady na demontáž dlažeb"]
[null,null,"MJ","Počet MJ","Jednotkový náklad","Celkový náklad"]
[null,"D11","m2",{"$f":"199.36*0.6","v":119.616},58.8,{"$f":"D6*E6","v":7033.4207999999999}]
[null,"Ústí","m2",{"$f":"257.27*0.6","v":154.36199999999999},58.8,{"$f":"D7*E7","v":9076.4856}]
[null,"Liberec","m2",{"$f":"198.53*0.6","v":119.11799999999999},58.8,7004.1383999999998]
[]
[]
[null,"Nákladový ukazatel - demontáž dlažeb"]
[null,null,"Náklady na demontáž","MJ","Počet MJ","Nákladový ukazatel [Kč/m2]"]
[null,"D11",{"$f":"F6","v":7033.4207999999999},"m2",{"$f":"dlažby!E4","v":89.15},{"$f":"C13/E13","v":78.894232192933245}]
[null,"Ústí",{"$f":"F7","v":9076.4856},"m2",{"$f":"dlažby!E5","v":129.04},{"$f":"C14/E14","v":70.338543087414763}]
[null,"Liberec",{"$f":"F8","v":7004.1383999999998},"m2",{"$f":"dlažby!E6","v":81.63},{"$f":"C15/E15","v":85.803484013230431}]
[]
[]
[null,"CELKOVÝ NÁKLADOVÝ UKAZATEL - demontáž dlažeb [Kč/m2]",null,null,null,{"$f":"SUM(C13:C15)/SUM(E13:E15)","v":77.093071843105861}]

{"sheet":"obklady","index":20,"n_rows":37,"n_cols":7,"rows_kept":37,"cut":false,"hidden":true,"merged":[[25,1,25,6],[1,1,1,6],[7,1,7,4],[32,1,32,6]]}
[]
[null,"NÁKLADOVÝ UKAZATEL - obklady"]
[null,null,"Celkové náklady","MJ","Počet MJ","Nákladový ukazatel [Kč/m2]","Změna"]
[null,"D11",{"$f":"rekonstrukce!C6","v":157542},"m2",211,{"$f":"C4/E4","v":746.64454976303318}]
[null,"Ústí",{"$f":"rekonstrukce!C34","v":299934.67},"m2",305,{"$f":"C5/E5","v":983.39236065573766},{"$f":"rekonstrukce!N34","v":834.1974098360655}]
[null,"Chodov",{"$f":"rekonstrukce!C16","v":150731.97999999998},"m2",187,{"$f":"C6/E6","v":806.05336898395717}]
[]
[null,"VÝSLEDNÝ NÁKLADOVÝ UKAZATEL - obklady [Kč/m2]",null,null,null,{"$f":"SUM(F4,G5,F6)/3","v":795.63177619435191}]
[]
[]
[]
[]
[]
[]
[]
[]
[]
[]
[]
[]
[]
[]
[]
[]
[]
[null,"NÁKLADOVÝ UKAZATEL - obklady"]
[null,null,"Celkové náklady","MJ","Počet MJ","Nákladový ukazatel [Kč/os]","Změna"]
[null,"D11",{"$f":"C4","v":157542},"osoby",60,{"$f":"C28/E28","v":2625.7}]
[null,"Ústí",{"$f":"C5","v":299934.67},"osoby",60,{"$f":"C29/E29","v":4998.9111666666668},{"$f":"254430/E29","v":4240.5}]
[null,"Chodov",150731.97999999998,"osoby",60,{"$f":"C30/E30","v":2512.1996666666664}]
[]
[]
[null,"NÁKLADOVÝ UKAZATEL - obklady"]
[null,null,"Celkové náklady","MJ","Počet MJ","Nákladový ukazatel [Kč/m2]","Změna"]
[null,"D11",{"$f":"C28","v":157542},"zařizovací předměty",null,{"$f":"C35/E35","v":{"$error":"#DIV/0!"}}]
[null,"Ústí",{"$f":"C29","v":299934.67},"zařizovací předměty",60,{"$f":"C36/E36","v":4998.9111666666668},{"$f":"254430/E36","v":4240.5}]
[null,"Chodov",150731.97999999998,"zařizovací předměty",60,{"$f":"C37/E37","v":2512.1996666666664}]

{"sheet":"obklady - demontáž","index":21,"n_rows":18,"n_cols":6,"rows_kept":18,"cut":false,"hidden":true,"merged":[[3,1,3,5],[10,1,10,5],[17,1,17,4]]}
[]
[]
[]
[null,"Náklady na demontáž obkladů"]
[null,null,"MJ","Počet MJ","Jednotkový náklad","Celkový náklad"]
[null,"D11","m2",157.47999999999999,58.8,{"$f":"D6*E6","v":9259.8239999999987}]
[null,"Ústí","m2",309.31,58.8,{"$f":"D7*E7","v":18187.428}]
[null,"Chodov","m2",152.41,58.8,8961.7079999999987]
[]
[]
[null,"Nákladový ukazatel - demontáž obkladů"]
[null,null,"Náklady na demontáž","MJ","Počet MJ","Nákladový ukazatel [Kč/m2]"]
[null,"D11",{"$f":"F6","v":9259.8239999999987},"m2",211,{"$f":"C13/E13","v":43.88542180094786}]
[null,"Ústí",{"$f":"F7","v":18187.428},"m2",305,{"$f":"C14/E14","v":59.630911475409839}]
[null,"Chodov",{"$f":"F8","v":8961.7079999999987},"m2",187,{"$f":"C15/E15","v":47.923572192513362}]
[]
[]
[null,"VÝSLEDNÝ NÁKLADOVÝ UKAZATEL - demontáž obkladů [Kč/m2]",null,null,null,{"$f":"SUM(C13:C15)/SUM(E13:E15)","v":51.790839260312943}]

{"sheet":"malby","index":22,"n_rows":8,"n_cols":7,"rows_kept":8,"cut":false,"hidden":true,"merged":[[1,1,1,6],[7,1,7,4]]}
[]
[null,"NÁKLADOVÝ UKAZATEL - malby"]
[null,null,"Celkové náklady","MJ","Počet MJ","Nákladový ukazatel  [Kč/m2]","Změna"]
[null,"D11",{"$f":"rekonstrukce!C7","v":40753},"m2",211,{"$f":"C4/E4","v":193.14218009478674},{"$f":"C4/230*400/E4","v":335.89944364310736}]
[null,"Liberec",{"$f":"rekonstrukce!C25","v":59653.3},"m2",213,{"$f":"C5/E5","v":280.06244131455401}]
[null,"Chodov",{"$f":"rekonstrukce!C17","v":55160.729999999996},"m2",187,{"$f":"C6/E6","v":294.97716577540103}]
[]
[null,"CELKOVÝ NÁKLADOVÝ UKAZATEL - malby  [Kč/m2]",null,null,null,{"$f":"SUM(G4,F5,F6)/3","v":303.64635024435415}]

{"sheet":"malby - škrábání","index":23,"n_rows":18,"n_cols":7,"rows_kept":18,"cut":false,"hidden":true,"merged":[[17,1,17,4],[3,1,3,5],[10,1,10,6]]}
[]
[]
[]
[null,"Náklady na oškrábání malby"]
[null,null,"MJ","Počet MJ","Jednotkový náklad","Celkový náklad"]
[null,"D11","m2",{"$f":"77.75+114.55+61.73+48.84","v":302.87},30,{"$f":"D6*E6","v":9086.1}]
[null,"Liberec","m2",{"$f":"183.13+81.63+57.7+96.33","v":418.78999999999996},30,{"$f":"D7*E7","v":12563.699999999999}]
[null,"Chodov","m2",{"$f":"443.143","v":443.14299999999997},30,13294.289999999999]
[]
[]
[null,"Nákladový ukazatel - škrábání maleb"]
[null,null,"Náklady na demontáž","MJ","Počet MJ","Nákladový ukazatel [Kč/m2]","Změna"]
[null,"D11",{"$f":"F6","v":9086.1},"m2",211,{"$f":"C13/E13","v":43.062085308056872},{"$f":"F13*(malby!G4/malby!F4)","v":74.890583144446737}]
[null,"Liberec",{"$f":"F7","v":12563.699999999999},"m2",213,{"$f":"C14/E14","v":58.984507042253519}]
[null,"Chodov",{"$f":"F8","v":13294.289999999999},"m2",187,{"$f":"C15/E15","v":71.09245989304813}]
[]
[]
[null,"VÝSLEDNÝ NÁKLADOVÝ UKAZATEL - škrábání maleb [Kč/m2]",null,null,null,{"$f":"SUM(C13:C15)/SUM(E13:E15)","v":57.19163666121112}]

{"sheet":"tapety","index":24,"n_rows":29,"n_cols":7,"rows_kept":29,"cut":false,"hidden":true,"merged":[[1,1,1,6],[7,1,7,4],[26,1,26,5]]}
[]
[null,"NÁKLADOVÝ UKAZATEL - tapety"]
[null,null,"Celkové náklady","MJ","Počet MJ","Nákladový ukazatel [Kč/m2]","Změna"]
[null,"D11",{"$f":"rekonstrukce!C8","v":16241},"m2",211,{"$f":"C4/E4","v":76.97156398104265}]
[null,"Liberec",{"$f":"rekonstrukce!C26","v":28883.79},"m2",213,{"$f":"C5/E5","v":135.60464788732395}]
[null,"Ústí",{"$f":"rekonstrukce!C36","v":72367.26999999999},"m2",187,{"$f":"C6/E6","v":386.99074866310156}]
[]
[null,"CELKOVÝ NÁKLADOVÝ UKAZATEL - tapety [Kč/m2]",null,null,null,{"$f":"SUM(G4,F5,F6)/3","v":174.19846551680848}]
[]
[]
[]
[]
[]
[]
[]
[]
[]
[]
[]
[]
[]
[]
[]
[]
[]
[]
[null,"Náklady na strhávání tapet"]
[null,null,"MJ","Počet MJ","Jednotkový náklad","Celkový náklad"]
[null,null,"m2",null,20,{"$f":"D29*E29","v":0}]

{"sheet":"ZTI","index":25,"n_rows":31,"n_cols":6,"rows_kept":31,"cut":false,"hidden":true,"merged":[[1,1,1,5],[7,1,7,4],[26,1,26,5]]}
[]
[null,"NÁKLADOVÝ UKAZATEL - zařizovací předměty"]
[null,null,"Celkové náklady","MJ","Počet MJ","Nákladový ukazatel [Kč/os]"]
[null,"Chodovská",{"$f":"C29","v":37932},"osoby",60,{"$f":"C4/E4","v":632.20000000000005}]
[null,"Liberec",{"$f":"C30","v":39139},"osoby",60,{"$f":"C5/E5","v":652.31666666666672}]
[null,"Ústí",37840,"osoby",60,{"$f":"C6/E6","v":630.66666666666663}]
[]
[null,"VÝSLEDNÝ NÁKLADOVÝ UKAZATEL - zařizovací předměty [Kč/os]",null,null,null,{"$f":"SUM(F4:F6)/3","v":638.3944444444445}]
[]
[]
[]
[]
[]
[]
[]
[]
[]
[]
[]
[]
[]
[]
[]
[]
[]
[]
[null,"NÁKLADOVÝ UKAZATEL - zařizovací předměty"]
[null,null,"Celkové náklady","MJ","Počet MJ","Nákladový ukazatel"]
[null,"Chodovská",{"$f":"5*457+4*1504+3028+3*457+2*552+1704+22424","v":37932},"osoby",10,{"$f":"C29/E29","v":3793.2}]
[null,"Liberec",{"$f":"21357+2*1741+1408+2*3531+5830","v":39139},"osoby",8,{"$f":"C30/E30","v":4892.375}]
[null,"Ústí",{"$f":"4620+3*1760+21780+2*2090+1980","v":37840},"osoby",9,{"$f":"C31/E31","v":4204.4444444444443}]

{"sheet":"ZTI - DEMONTÁŽ","index":26,"n_rows":18,"n_cols":6,"rows_kept":18,"cut":false,"hidden":true,"merged":[[3,1,3,5],[10,1,10,5],[17,1,17,4]]}
[]
[]
[]
[null,"Náklady na demontáž ZTI"]
[null,null,"MJ","Počet MJ","Jednotkový náklad","Celkový náklad"]
[null,"Chodovská","ks",10,340,{"$f":"D6*E6","v":3400}]
[null,"Liberec","ks",8,340,{"$f":"D7*E7","v":2720}]
[null,"Ústí","ks",9,340,3060]
[]
[]
[null,"Nákladový ukazatel - demontáž ZTI"]
[null,null,"Náklady na demontáž","MJ","Počet MJ","Nákladový ukazatel [Kč/os]"]
[null,"Chodovská",{"$f":"F6","v":3400},"osoby",60,{"$f":"C13/E13","v":56.666666666666664}]
[null,"Liberec",{"$f":"F7","v":2720},"osoby",60,{"$f":"C14/E14","v":45.333333333333336}]
[null,"Ústí",{"$f":"F8","v":3060},"osoby",60,{"$f":"C15/E15","v":51}]
[]
[]
[null,"VÝSLEDNÝ NÁKLADOVÝ UKAZATEL - demontáž ZTI [Kč/os]",null,null,null,{"$f":"SUM(C13:C15)/SUM(E13:E15)","v":51}]

{"sheet":"volný interiér","index":27,"n_rows":8,"n_cols":6,"rows_kept":8,"cut":false,"hidden":true,"merged":[[1,1,1,5],[7,1,7,4]]}
[]
[null,"NÁKLADOVÝ UKAZATEL - volný interiér"]
[null,null,"Celkové náklady","MJ","Počet MJ","Nákladový ukazatel [Kč/m2]"]
[null,"D11",{"$f":"rekonstrukce!C9-119340-0.5*(87372+117756)","v":257607},"pp veř.části[m2]",89.15,{"$f":"C4/E4","v":2889.5905776780705}]
[null,"Liberec",{"$f":"rekonstrukce!C27-122670","v":192897},"pp veř.části[m2]",81.63,{"$f":"C5/E5","v":2363.0650496141125}]
[null,"Ústí",{"$f":"rekonstrukce!C37-146300","v":332530},"pp veř.části[m2]",129.04,{"$f":"C6/E6","v":2576.9528828270304}]
[]
[null,"VÝSLEDNÝ NÁKLADOVÝ UKAZATEL - volný interiér [Kč/m2]",null,null,null,{"$f":"SUM(F4,F5,F6)/3","v":2609.869503373071}]

{"sheet":"Rekonstrukce - úvod","index":28,"n_rows":20,"n_cols":2,"rows_kept":20,"cut":false,"hidden":false,"merged":[[12,1,12,7],[2,1,2,7],[4,1,9,7],[3,1,3,7],[10,1,10,7],[11,1,11,7],[19,1,20,7],[13,1,13,7],[14,1,14,7],[15,1,16,7],[17,1,18,7]]}
[]
[]
[null,"NÁSTROJ PRO STANOVENÍ NÁKLADŮ NA REKONSTRUKCI"]
[null,"1. POPIS"]
[null,"Vážený uživateli, otevřel jste nástroj, který Vám pomůže stanovit náklady na rekonstrukci restauračních zařízení vycházejících z konceptů Burger King. Tento pragram byl sestaven na základě vypracovaných nákladových ukazatelů, které vycházejí z reálných projektů, reálných nabídkových cen dodavatelů. Postupujte, prosím, dle instrukcí uvedených v bodě 2. \n"]
[]
[]
[]
[]
[]
[null,"2. MANUÁL UŽÍVÁNÍ"]
[null,"Při práci s programem postupujte v následujících krocích:"]
[null,"1.) Pro evidenci Vašeho záměru vyplňte, prosím, vstupní kartu."]
[null,"2.) Na Kartě nákladů vyplňte, prosím, tabulku vstupních hodnot."]
[null,"3.) Na kartě nákladů určtete zaškrtáváním políček rozsah rekonstrukce."]
[null,"4.) U položek \"Interiérové dveře\", \"Malby\" a \"Tapety\" bude v případě kladného zaškrtnutí požadován doplňující údaj, který, prosím, vyplňte."]
[]
[null,"5.) V horní části okna karty nákladů budete mít neustálou kontrolu nad celkovými náklady za zvolený rozsah rekonstrukce."]
[]
[null,"6.) Na kartě shrnutí překontrolujte vložené údaje a výši investičních nákladů a vyexportujte tabulku nebo vytiskněte."]

{"sheet":"Rekonstrukce - vstupní karta","index":29,"n_rows":9,"n_cols":11,"rows_kept":9,"cut":false,"hidden":false,"merged":[[2,1,2,3],[2,4,2,6],[1,1,1,6],[5,1,5,3],[6,1,6,3],[10,1,10,3],[11,1,11,3],[12,1,12,3],[13,1,13,3],[5,4,5,6],[6,4,6,6],[8,4,8,6],[9,4,9,6],[10,4,10,6],[8,1,8,3],[14,1,14,3],[15,1,15,3],[16,1,16,3],[3,1,3,3],[3,4,3,6],[4,4,4,6],[4,1,4,3],[7,1,7,3],[7,4,7,6],[11,4,11,6],[12,4,12,6],[13,4,13,6],[14,4,14,6],[15,4,15,6],[16,4,16,6],[9,1,9,3]]}
[]
[null,"VSTUPNÍ KARTA"]
[null,"Koncept"]
[]
[null,"Název konceptu"]
[null,"Adresa provozovny:",null,null,null,null,null,null,null,null,"---------------------------------------"]
[null,"Způsob užívání",null,null,null,null,null,null,null,null,"ve vlastnictví"]
[null,"V provozu od:",null,null,null,null,null,null,null,null,"pronájem"]
[null,"Termín realizace:",null,null,null,null,null,null,null,null,"jiný způsob"]

{"sheet":"rekonstrukce - karta nákladů","index":30,"n_rows":79,"n_cols":7,"rows_kept":79,"cut":false,"hidden":false,"merged":[[60,1,60,2],[67,1,67,2],[74,1,74,2],[27,1,27,2],[34,1,34,2],[41,1,41,2],[53,1,53,4],[23,1,24,1],[5,1,6,1],[8,1,9,1],[11,1,12,1],[14,1,15,1],[17,1,18,1],[0,2,0,5],[1,2,1,3],[2,2,2,3],[3,2,3,3],[20,1,21,1],[3,4,3,5]]}
[null,null,"TABULKA VSTUPNÍCH HODNOT"]
[null,null,"PP (podlahová plocha)",null,200,"m2"]
[null,null,"kapacita provozovny",null,60,"osob"]
[null,null,"CELKOVÉ NÁKLADY",null,{"$f":"C33+C40+C48+C59+C66+C73+C79","v":1441083.6627699232}]
[]
[null,"INTERIÉROVÉ DVEŘE",null,1,null,1,1]
[]
[]
[null,"DLAŽBA",null,null,null,1]
[]
[]
[null,"OBKLADY",null,null,null,1]
[]
[]
[null,"MALBY",null,null,null,1]
[]
[]
[null,"TAPETY",null,null,null,1]
[]
[]
[null,"ZTI",null,null,null,1]
[]
[]
[null,"VOLNÝ INTERIÉR",null,null,null,1]
[]
[]
[]
[null,"INTERIÉROVÉ DVEŘE"]
[null,"Měrná jednotka",{"$f":"'interiér dveře'!D4","v":"m2"}]
[null,"Počet měrných jednotek",{"$f":"E2","v":200}]
[null,"Počet kusů veřejných dveří",null,false]
[null,"Nákladový ukazatel [Kč/m2]",{"$f":"'interiér dveře'!F9","v":440.26461280769172},true]
[null,"Celkový náklad",{"$f":"IF(F6=1,IF(D31=FALSE,C32*C30,C31*8380),0)","v":88052.922561538348}]
[]
[null,"DLAŽBY"]
[null,"Měrná jednotka",{"$f":"dlažby!D4","v":"pp veřejné části [m2]"}]
[null,"Počet měrných jednotek",{"$f":"E2*0.4","v":80}]
[null,"Nákladový ukazatel - dlažby [Kč/m2]",{"$f":"dlažby!F9","v":6773.4200830951186}]
[null,"Nákladový ukazatel - demontáž dlažeb [Kč/m2]",{"$f":"'dlažby - demontáž'!F18","v":77.093071843105861}]
[null,"Celkový náklad",{"$f":"IF(F9=1,C38*C37+C37*C39,0)","v":548041.05239505798}]
[]
[null,"OBKLADY"]
[null,"Měrná jednotka",{"$f":"obklady!D4","v":"m2"}]
[null,"Počet měrných jednotek",{"$f":"E2","v":200},false]
[null,"Počet m2 obkládaných stěn"]
[null,"Nákladový ukazatel - obklady [Kč/m2]",{"$f":"obklady!F8","v":795.63177619435191},false]
[null,"Nákladový ukazatel - demontáž obkladů [Kč/m2]",{"$f":"'obklady - demontáž'!F18","v":51.790839260312943},true]
[null,"Celkový náklad",{"$f":"IF(F12=1,IF(D44=FALSE,C46*C44+C44*C47,C45*1400+C47*C45))","v":169484.52309093295}]
[]
[]
[]
[]
[]
[null,"MALBY"]
[null,"Měrná jednotka",{"$f":"malby!D4","v":"m2"}]
[null,"Počet měrných jednotek",{"$f":"E2","v":200}]
[null,"Nákladový ukazatel - malby [Kč/m2]",{"$f":"malby!F8","v":303.64635024435415}]
[true,"Nákladový ukazatel - škrábání malby [Kč/m2]",{"$f":"IF(A58=TRUE,'malby - škrábání'!F18,0)","v":57.19163666121112}]
[null,"Celkový náklad",{"$f":"IF(F15=1,C57*C56+C56*C58,0)","v":72167.597381113053}]
[]
[null,"TAPETY"]
[null,"Měrná jednotka","m2"]
[null,"Počet měrných jednotek",0]
[null,"Jednotkový náklad - tapetování [Kč/m2]",170]
[null,"Jednotkový náklad - strhnutí tapet [Kč/m2]",{"$f":"tapety!E29","v":20}]
[null,"Celkový náklad",{"$f":"IF(F18=1,C63*C64+C63*C65,0)","v":0}]
[]
[null,"ZTI"]
[null,"Měrná jednotka",{"$f":"ZTI!D4","v":"osoby"}]
[null,"Počet měrných jednotek",{"$f":"E3","v":60}]
[null,"Nákladový ukazatel - ZTI [Kč/os]",{"$f":"ZTI!F8","v":638.3944444444445}]
[null,"Nákladový ukazatel - demontáž ZTI [Kč/os]",{"$f":"'ZTI - DEMONTÁŽ'!F18","v":51}]
[null,"Celkový náklad",{"$f":"IF(F21=1,C71*C70+C70*C72,0)","v":41363.666666666672}]
[]
[null,"VOLNÝ INTERIÉR"]
[null,"Měrná jednotka",{"$f":"'volný interiér'!D4","v":"pp veř.části[m2]"}]
[null,"Počet měrných jednotek",{"$f":"E2","v":200}]
[null,"Nákladový ukazatel [Kč/m2]",{"$f":"'volný interiér'!F8","v":2609.869503373071}]
[null,"Celkový náklad",{"$f":"IF(F24=1,C78*C77,0)","v":521973.90067461418}]

{"sheet":"rekonstrukce - shrnutí","index":31,"n_rows":11,"n_cols":11,"rows_kept":11,"cut":false,"hidden":false,"merged":[[5,1,5,3],[5,4,5,6],[2,1,2,6],[3,1,3,3],[3,4,3,6],[4,1,4,3],[4,4,4,6],[9,1,9,3],[9,4,9,6],[10,1,10,3],[10,4,10,6],[6,1,6,3],[6,4,6,6],[7,1,7,3],[7,4,7,6],[8,1,8,3],[8,4,8,6]]}
[]
[]
[null,"SHRNUTÍ"]
[null,"Koncept"]
[]
[]
[null,"Adresa provozovny:",null,null,"nám. TGM, 531 08, Opava"]
[null,"Způsob užívání",null,null,null,null,null,null,null,null,"ve vlastnictví"]
[null,"V provozu od:",null,null,"5/2014",null,null,null,null,null,"pronájem"]
[null,"Termín realizace:",null,null,"5/2016",null,null,null,null,null,"jiný způsob"]
[null,"Odhad nákladů",null,null,{"$f":"'rekonstrukce - karta nákladů'!E4","v":1441083.6627699232}]

{"sheet":"Celková stavba - úvod","index":32,"n_rows":18,"n_cols":2,"rows_kept":18,"cut":false,"hidden":false,"merged":[[13,1,13,7],[14,1,14,7],[15,1,16,7],[17,1,18,7],[12,1,12,7],[2,1,2,7],[3,1,3,7],[4,1,9,7],[10,1,10,7],[11,1,11,7]]}
[]
[]
[null,"NÁSTROJ PRO STANOVENÍ INVESTIČNÍCH NÁKLADŮ"]
[null,"1. POPIS"]
[null,"Vážený uživateli, otevřel jste nástroj, který Vám pomůže stanovit investiční náklady na výstavbu restauračních zařízení vycházejících z konceptů Burger King. Tento pragram byl sestaven na základě vypracovaných nákladových ukazatelů, které vycházejí z reálných projektů, reálných nabídkových cen dodavatelů. Postupujte, prosím, dle instrukcí uvedených v bodě 2. \n"]
[]
[]
[]
[]
[]
[null,"2. MANUÁL UŽÍVÁNÍ"]
[null,"Při práci s programem postupujte v následujících krocích:"]
[null,"1.) Pro evidenci Vašeho záměru vyplňte, prosím, vstupní kartu."]
[null,"2.) Na Kartě nákladů vyplňte, prosím, tabulku vstupních hodnot dle pokynů."]
[null,"3.) Na kartě nákladů v I. Oddílu vyberte možnost stanovení celkového nákladu a překontrolujte jednotlivé oddíly nástroje na stanovení investičních nákladů."]
[null,"4.) V horní části okna Karty nákladů budete mít neustálou kontrolu nad celkovými náklady za zvolený rozsah a umístění stavby."]
[]
[null,"5.) Na Kartě rekapitulace překontrolujte vložené údaje a výši investičních nákladů a vyexportujte tabulku nebo vytiskněte."]

{"sheet":"celková stavba - vstupní karta","index":33,"n_rows":7,"n_cols":11,"rows_kept":7,"cut":false,"hidden":false,"merged":[[13,1,13,3],[13,4,13,6],[14,1,14,3],[14,4,14,6],[10,1,10,3],[10,4,10,6],[11,1,11,3],[11,4,11,6],[12,1,12,3],[12,4,12,6],[7,1,7,3],[7,4,7,6],[8,1,8,3],[8,4,8,6],[9,1,9,3],[9,4,9,6],[4,1,4,3],[4,4,4,6],[5,1,5,3],[5,4,5,6],[6,1,6,3],[6,4,6,6],[1,10,1,11],[3,1,3,3],[3,4,3,6],[1,1,1,6],[2,1,2,3],[2,4,2,6]]}
[]
[null,"VSTUPNÍ KARTA",null,null,null,null,null,null,null,null,"---------------------------------------"]
[null,"Koncept",null,null,null,null,null,3,null,null,"Burger King"]
[null,"Název konceptu",null,null,{"$f":"IF(H3=2,\"Burger King\",IF(H3=3,\"Napište název konceptu\",\"\"))","v":"Napište název konceptu"},null,null,null,null,null,"Jiný"]
[null,"Adresa provozovny:",null,null,null,null,null,null,null,null,"---------------------------------------"]
[null,"Způsob užívání",null,null,null,null,null,3,null,null,"ve vlastnictví"]
[null,"Termín realizace:",null,null,null,null,null,null,null,null,"pronájem"]

{"sheet":"celková stavba - karta nákladů","index":34,"n_rows":162,"n_cols":11,"rows_kept":162,"cut":false,"hidden":false,"merged":[[5,0,5,1],[74,0,74,1],[74,2,74,3],[68,0,68,1],[68,2,68,3],[70,0,70,3],[71,0,71,3],[65,0,65,1],[65,2,65,3],[66,0,66,1],[66,2,66,3],[67,0,67,1],[67,2,67,3],[60,0,60,1],[60,2,60,3],[62,0,62,3],[63,0,63,3],[64,0,64,1],[64,2,64,3],[57,0,57,1],[57,2,57,3],[58,0,58,1],[58,2,58,3],[59,0,59,1],[59,2,59,3],[52,0,52,1],[52,2,52,3],[54,0,54,3],[55,0,55,3],[56,0,56,1],[56,2,56,3],[49,0,49,1],[49,2,49,3],[50,0,50,1],[50,2,50,3],[51,0,51,1],[51,2,51,3],[44,0,44,1],[44,2,44,3],[46,0,46,3],[47,0,47,1],[47,2,47,3],[48,0,48,1],[48,2,48,3],[41,0,41,1],[41,2,41,3],[42,0,42,1],[42,2,42,3],[43,0,43,1],[43,2,43,3],[32,0,32,3],[28,0,28,1],[28,2,28,3],[29,0,29,1],[29,2,29,3],[30,0,30,1],[30,2,30,3],[27,0,27,1],[27,2,27,3],[36,0,36,1],[36,2,36,3],[37,0,37,1],[37,2,37,3],[39,0,39,3],[40,0,40,1],[40,2,40,3],[33,0,33,1],[33,2,33,3],[34,0,34,1],[34,2,34,3],[35,0,35,1],[35,2,35,3],[12,0,12,1],[11,0,11,1],[11,2,11,3],[12,2,12,3],[13,2,13,3],[23,0,23,1],[23,2,23,3],[25,0,25,3],[26,0,26,1],[26,2,26,3],[20,0,20,1],[20,2,20,3],[21,0,21,1],[21,2,21,3],[22,0,22,1],[22,2,22,3],[81,0,81,1],[81,2,81,3],[78,0,80,3],[0,0,0,3],[1,0,1,1],[2,0,2,1],[7,0,7,1],[7,2,7,3],[3,0,3,1],[72,0,73,3],[76,0,76,3],[77,0,77,3],[4,0,4,1],[14,2,14,3],[15,2,15,3],[17,0,17,3],[18,0,18,3],[19,0,19,1],[19,2,19,3],[9,0,9,3],[10,0,10,3],[15,0,15,1],[14,0,14,1],[13,0,13,1],[83,0,83,3],[84,0,84,3],[85,0,85,1],[85,2,85,3],[86,0,86,1],[86,2,86,3],[87,0,87,1],[87,2,87,3],[88,0,88,1],[88,2,88,3],[95,0,95,1],[95,2,95,3],[96,0,96,1],[96,2,96,3],[89,0,89,1],[89,2,89,3],[91,0,91,3],[92,0,92,1],[92,2,92,3],[93,0,93,1],[93,2,93,3],[94,0,94,1],[94,2,94,3],[129,0,129,3],[125,0,125,1],[125,2,125,3],[126,0,126,1],[126,2,126,3],[130,0,130,3],[131,0,131,1],[131,2,131,3],[132,0,132,1],[132,2,132,3],[127,0,127,1],[127,2,127,3],[98,0,98,3],[99,0,99,1],[99,2,99,3],[116,0,116,1],[116,2,116,3],[121,0,121,3],[122,0,122,3],[123,0,123,1],[123,2,123,3],[124,0,124,1],[124,2,124,3],[117,0,117,1],[117,2,117,3],[118,0,118,1],[118,2,118,3],[119,0,119,1],[119,2,119,3],[107,0,107,1],[107,2,107,3],[108,0,108,1],[108,2,108,3],[109,0,109,1],[2,8,2,10],[3,8,4,8],[3,9,3,10],[105,0,105,3],[106,0,106,1],[106,2,106,3],[113,0,113,3],[114,0,114,3],[115,0,115,1],[115,2,115,3],[6,0,6,1],[109,2,109,3],[110,0,110,1],[110,2,110,3],[111,0,111,1],[111,2,111,3],[101,0,101,1],[101,2,101,3],[102,0,102,1],[102,2,102,3],[103,0,103,1],[103,2,103,3],[100,0,100,1],[100,2,100,3],[133,0,133,1],[133,2,133,3],[134,0,134,1],[134,2,134,3],[135,0,135,1],[135,2,135,3],[137,0,137,3],[138,0,138,3],[139,0,139,1],[139,2,139,3],[140,0,140,1],[140,2,140,3],[141,0,141,1],[141,2,141,3],[142,0,142,1],[142,2,142,3],[143,0,143,1],[143,2,143,3],[145,0,145,3],[161,0,161,1],[161,2,161,3],[151,0,151,1],[151,2,151,3],[157,0,157,3],[158,0,158,3],[159,0,160,3],[146,0,146,1],[146,2,146,3],[147,0,147,1],[147,2,147,3],[148,0,148,1],[148,2,148,3],[149,0,149,1],[149,2,149,3],[150,0,150,1],[150,2,150,3]]}
["TABULKA VSTUPNÍCH HODNOT"]
["PP (podlahová plocha)",null,200,"m2"]
["kapacita provozovny",null,60,"osob",null,null,null,null,"průměrná cena nájemného nebytových prostor (Kč/měsíc)"]
["vzdálenost provozovny od sídla",null,150,"km",null,null,null,null,"Lokalita","Rok"]
["lokalita provozovny",null,null,null,null,null,23,null,null,2010,2014]
["reklamní pylon"]
["venkovní posezení",null,null,null,false,false]
["CELKOVÉ NÁKLADY",null,{"$f":"C16+C53+C61+C69+C75+C82+C112+C120+C128+C136+C152+C162","v":13419374.333333334},null,"1 $=",22.14,null,null,"Praha 1",400,480]
[null,null,null,null,null,null,null,null,"Praha 2",360,{"$f":"CEILING(J9*$K$8/$J$8,10)","v":440}]
["I. ODDÍL - PROJEKTOVÉ A PRŮZKUMNÉ PRÁCE",null,null,null,null,null,null,null,"Praha 3",280,{"$f":"CEILING(J10*$K$8/$J$8,10)","v":340}]
["projektové a průzkumné práce",null,null,null,null,null,null,null,"Praha 4",250,300]
["Způsob stanovení",null,null,null,2,"nákladový ukazatel",null,null,"Praha 5",260,320]
["Měrná jednotka",null,{"$f":"IF(E12=1,\"m2\",IF(E12=2,\"%\",\"\"))","v":"%"},null,null,"% z III. Oddílu",null,null,"Praha 6",290,350]
["Počet měrných jednotek",null,{"$f":"IF(E12=1,C2,IF(E12=2,8,\"\"))","v":8},null,null,"cena dle nabídky",null,null,"Praha 7",230,280]
["Nákladový ukazatel [Kč/m2]",null,{"$f":"IF(E12=1,'projektové práce'!F8,\"\")","v":""},null,null,null,null,null,"Praha 8",200,240]
["Celkový náklad I.oddílu",null,{"$f":"IF(E12=1,C14*C15,IF(E12=2,C14/100*C61,\"Napište nabídkovou cenu\"))","v":419978.66666666674},null,null,null,null,null,"Praha 9",180,220]
[null,null,null,null,null,null,null,null,"Praha 10",210,260]
["II. ODDÍL - PROVOZNÍ SOUBORY",null,null,null,null,null,null,null,"Praha - východ",70,90]
["kuchyně",null,null,null,null,null,null,null,"Praha - západ",75,90]
["Způsob stanovení",null,"nákladový ukazatel",null,null,null,null,null,"Středočeský kraj",50,60]
["Měrná jednotka",null,"osoby",null,null,null,null,null,"Jihočeská kraj",60,80]
["Počet měrných jednotek",null,{"$f":"$C$3","v":60},null,null,null,null,null,"Plzeňský kraj",65,80]
["Nákladový ukazatel [Kč/os]",null,{"$f":"kuchyně!F9","v":44107},null,null,null,null,null,"Karlovarský kraj",80,100]
["Celkový náklad",null,{"$f":"C22*C23","v":2646420},null,null,null,null,null,"Ústecký kraj",55,70]
[null,null,null,null,null,null,null,null,"Liberecký kraj",60,80]
["kasy",null,null,null,null,null,null,null,"Královehradecký kraj",80,100]
["Způsob stanovení",null,"nákladový ukazatel",null,null,null,null,null,"Pardubický kraj",80,100]
["Měrná jednotka",null,"osoby",null,null,null,null,null,"Kraj Vysočina",60,80]
["Počet měrných jednotek",null,{"$f":"$C$3","v":60},null,null,null,null,null,"Jihomoravský kraj",100,120]
["Nákladový ukazatel [Kč/os]",null,{"$f":"kasy!$F$8","v":8117.333333333333},null,null,null,null,null,"Olomoucký kraj",55,70]
["Celkový náklad",null,{"$f":"C29*C30","v":487040},null,null,null,null,null,"Moravskoslezský kraj",40,50]
[null,null,null,null,null,null,null,null,"Zlínský kraj",50,60]
["boxy"]
["Způsob stanovení",null,"nákladový ukazatel"]
["Měrná jednotka",null,"osoby"]
["Počet měrných jednotek",null,{"$f":"$C$3","v":60}]
["Nákladový ukazatel [Kč/os]",null,{"$f":"'chladící a mrazící boxy'!F8","v":6115.666666666667}]
["Celkový náklad",null,{"$f":"C36*C37","v":366940}]
[]
["zmrzlinovač"]
["Způsob stanovení",null,"konstantní náklad"]
["Měrná jednotka",null,"ks"]
["Počet měrných jednotek",null,1]
["Nákladový ukazatel [Kč/ks]",null,{"$f":"Ústí!D16","v":389640}]
["Celkový náklad",null,{"$f":"C43*C44","v":389640}]
[]
["menuboard"]
["Způsob stanovení",null,"nákladový ukazatel"]
["Měrná jednotka",null,"m2"]
["Počet měrných jednotek",null,{"$f":"$C$2","v":200}]
["Nákladový ukazatel [Kč/m2]",null,{"$f":"menuboard!F8","v":2235}]
["Celkový náklad",null,{"$f":"C50*C51","v":447000}]
["Celkový náklad II.oddílu",null,{"$f":"C52+C45+C38+C31+C24","v":4337040}]
[]
["III. ODDÍL - STAVEBNÍ OBJEKTY"]
["stavební objekty"]
["Způsob stanovení",null,"nákladový ukazatel"]
["Měrná jednotka",null,"m2"]
["Počet měrných jednotek",null,{"$f":"$C$2","v":200}]
["Nákladový ukazatel [Kč/m2]",null,{"$f":"'stavební práce'!$F$9","v":26248.666666666668}]
["Celkový náklad III.oddílu",null,{"$f":"C59*C60","v":5249733.333333334}]
[]
["IV. ODDÍL - STROJE, ZAŘÍZENÍ, INVENTÁŘ"]
["interiér"]
["Způsob stanovení",null,"nákladový ukazatel"]
["Měrná jednotka",null,"osoby"]
["Počet měrných jednotek",null,{"$f":"$C$3","v":60}]
["Nákladový ukazatel [Kč/os]",null,{"$f":"interiér!F8","v":15960}]
["Celkový náklad IV.oddílu",null,{"$f":"IF(F7=TRUE,C67*C68*1.1,C67*C68)","v":957600}]
[]
["V. UMĚLECKÁ DÍLA"]
["umělecká díla"]
["Vzhledem k investiční povaze nebude investor zatížen náklady z tohoto oddílu."]
[]
["Celkový náklad V.oddílu",null,0]
[]
["VI. ODDÍL - NÁKLADY NA UMÍSTĚNÍ STAVBY"]
["náklady na umístění stavby"]
["Náklady na umístění stavby jsou již započítány v jednotlivých nabídkách, ze kterých jsou data čerpána, a proto se nebudou tyto náklady podruhé započítávat."]
[]
[]
["Celkový náklad VI.oddílu",null,0]
[]
["VII. ODDÍL - OSTATNÍ NÁKLADY"]
["odborné služby"]
["Způsob stanovení",null,"nákladový ukazatel"]
["Měrná jednotka",null,"m2"]
["Počet měrných jednotek",null,{"$f":"$C$2","v":200}]
["Nákladový ukazatel [Kč/m2]",null,{"$f":"'odborné služby'!F8","v":1245}]
["Celkový náklad",null,{"$f":"C88*C89","v":249000}]
[]
["pojištění"]
["Způsob stanovení",null,"konstantní náklad"]
["Měrná jednotka",null,"ks"]
["Počet měrných jednotek",null,1]
["Nákladový ukazatel [Kč/ks]",null,150000]
["Celkový náklad",null,{"$f":"C95*C96","v":150000}]
[]
["nájem před provozem"]
["Způsob stanovení",null,"nákladový ukazatel"]
["Měrná jednotka",null,"m2"]
["Počet měrných jednotek",null,{"$f":"$C$2","v":200}]
["Jednotkový nájem za m2",null,{"$f":"IF('celková stavba - vstupní karta'!H6=3,IF(G5=1,K8,IF(G5=2,K9,IF(G5=3,K10,IF(G5=4,K11,IF(G5=5,K12,IF(G5=6,K13,IF(G5=7,K14,IF(G5=8,K15,IF(G5=9,K16,IF(G5=10,K17,IF(G5=11,K18,IF(G5=12,K19,IF(G5=13,K20,IF(G5=14,K21,IF(G5=15,K22,IF(G5=16,K23,IF(G5=17,K24,IF(G5=18,K25,IF(G5=19,K26,IF(G5=20,K27,IF(G5=21,K28,IF(G5=22,K29,IF(G5=23,K30,IF(G5=24,K31,IF(G5=25,K32,0))))))))))))))))))))))))),0)","v":70}]
["Celkový náklad za 4 měsíce",null,{"$f":"C103*C102*4","v":56000}]
[]
["peněžní deposit"]
["Způsob stanovení",null,"konstantní náklad"]
["Měrná jednotka",null,"ks"]
["Počet měrných jednotek",null,1]
["Nákladový ukazatel [Kč/ks]",null,46920]
["Celkový náklad",null,{"$f":"C109*C110","v":46920}]
["Celkový náklad VII.oddílu",null,{"$f":"C111+C104+C97+C90","v":501920}]
[]
["VIII. ODDÍL - REZERVA"]
["rezerva"]
["Způsob stanovení",null,"poměr k 3.oddílu"]
["Měrná jednotka",null,"%"]
["Počet měrných jednotek",null,10]
["Základ nákladu",null,{"$f":"C61","v":5249733.333333334}]
["Celkový náklad VIII. oddílu",null,{"$f":"C118/100*C119","v":524973.33333333337}]
[]
["IX. ODDÍL - OSTATNÍ INVESTICE"]
["pylon"]
["Způsob stanovení",null,"konstatní náklad"]
["Měrná jednotka",null,"ks"]
["Počet měrných jednotek",null,1]
["Nákladový ukazatel [Kč/ks]",null,{"$f":"'D11'!D19","v":306000}]
["Celkový náklad IX. oddílu",null,{"$f":"IF(E7=TRUE,C127*C126,0)","v":0}]
[]
["X. ODDÍL - NEHMOTNÝ INVESTIČNÍ MAJETEK"]
["franchisa"]
["Způsob stanovení",null,"konstantní náklad"]
["Měrná jednotka",null,"ks"]
["Počet měrných jednotek",null,1]
["Nákladový ukazatel [Kč/ks]",null,{"$f":"22350*F8","v":494829}]
["Celkový náklad X. oddílu",null,{"$f":"C134*C135","v":494829}]
[]
["XI. ODDÍL - PROVOZNÍ NÁKLADY NA PŘÍPRAVU A REALIZACI"]
["mzdy před provozem"]
["Způsob stanovení",null,"konstantní náklad"]
["Měrná jednotka",null,"ks"]
["Počet měrných jednotek",null,1]
["Nákladový ukazatel [Kč/ks]",null,{"$f":"mzdy!F9","v":589600}]
["Celkový náklad",null,{"$f":"C142*C143","v":589600}]
[]
["cestovné BK"]
["Způsob stanovení",null,"nákladový ukazatel"]
["Měrná jednotka",null,"km"]
["Počet měrných jednotek",null,{"$f":"$C$4","v":150}]
["Nákladový ukazatel [Kč/km]",null,{"$f":"cestovné!F8","v":2291.3333333333335}]
["Celkový náklad",null,{"$f":"C149*C150","v":343700}]
["Celkový náklad XI.oddílu",null,{"$f":"C151+C144","v":933300}]
[]
[]
[]
[]
[]
["XII. ODDÍL - KOMPLETAČNÍ ČINNOST"]
["kompletační činnost"]
["Vzhledem k investiční povaze nebude investor zatížen náklady z tohoto oddílu."]
[]
["Celkový náklad XII. oddílu",null,0]

{"sheet":"celková stavba - rekapitulace","index":35,"n_rows":37,"n_cols":6,"rows_kept":37,"cut":false,"hidden":false,"merged":[[4,0,4,2],[4,3,4,5],[5,0,5,2],[5,3,5,5],[6,0,6,2],[1,0,1,5],[2,0,2,2],[2,3,2,5],[3,0,3,2],[3,3,3,5],[7,0,7,2],[7,3,7,5],[6,3,6,5],[17,0,17,1],[18,0,18,1],[14,5,15,5],[14,4,15,4],[13,0,13,5],[14,0,15,1],[14,2,15,2],[14,3,15,3],[36,0,36,3],[35,0,35,3],[34,0,34,3],[31,0,31,3],[32,0,32,3],[30,0,30,3],[25,0,25,1],[26,0,26,1],[16,0,16,1],[21,0,21,1],[22,0,22,1],[23,0,23,1],[24,0,24,1],[27,0,27,1],[19,0,19,1],[20,0,20,1]]}
[]
["SHRNUTÍ"]
["Koncept"]
[]
["Název konceptu"]
["Název konceptu",null,null,"BK Brno"]
["Způsob užívání",null,null,{"$f":"IF('celková stavba - vstupní karta'!H6=2,\"ve vlastnictví\",\"pronájem\")","v":"pronájem"}]
["Termín realizace:",null,null,"11/2014-2/2015"]
[]
[]
[]
[]
[]
["REKAPITULACE"]
["INVESTIČNÍ ODDÍL",null,"NÁKLADY BEZ DPH","DPH","DPH","Náklady s DPH"]
[]
["I. Projektové a průzkumné práce",null,{"$f":"'celková stavba - karta nákladů'!C16:D16","v":419978.66666666674},0.21,{"$f":"C17*D17","v":88195.520000000019},{"$f":"E17+C17","v":508174.18666666676}]
["II. Provozní soubory",null,{"$f":"'celková stavba - karta nákladů'!C53:D53","v":4337040},0.21,{"$f":"C18*D18","v":910778.4},{"$f":"E18+C18","v":5247818.4000000004}]
["III. Stavební objekty",null,{"$f":"'celková stavba - karta nákladů'!C61:D61","v":5249733.333333334},0.21,1102444,6352177.333333334]
["IV. Stroje, zařízení a inventář",null,{"$f":"'celková stavba - karta nákladů'!C69:D69","v":957600},0.21,201096,1158696]
["V. Umělecká díla",null,0,0.21,0,0]
["VI. Náklady na umístění stavby (NUS)",null,{"$f":"'celková stavba - karta nákladů'!C82:D82","v":0},0.21,0,0]
["VII. Ostatní náklady",null,{"$f":"'celková stavba - karta nákladů'!C112:D112","v":501920},0.21,105403.2,607323.19999999995]
["VIII. Rezerva",null,{"$f":"'celková stavba - karta nákladů'!C120:D120","v":524973.33333333337},0.21,110244.40000000001,635217.7333333334]
["IX. Ostatní investice",null,{"$f":"'celková stavba - karta nákladů'!C128:D128","v":0},0.21,0,0]
["X. Nehmotný investiční majetek",null,{"$f":"'celková stavba - karta nákladů'!C136:D136","v":494829},0.21,103914.09,598743.09]
["XI. Provozní náklady na přípravu a realizaci",null,{"$f":"'celková stavba - karta nákladů'!C152:D152","v":933300},0.21,195993,1129293]
["XII. Kompletační činnost",null,{"$f":"'celková stavba - karta nákladů'!C162:D162","v":0},0.21,0,0]
[]
[]
["PŘEDPOKLÁDANÉ NÁKLADY NA REALIZACI STAVBY BEZ DPH",null,null,null,{"$f":"C19","v":5249733.333333334}]
["DPH (21%)",null,null,null,{"$f":"E31*0.21","v":1102444}]
["PŘEDPOKLÁDANÉ NÁKLADY NA REALIZACI STAVBY S DPH",null,null,null,{"$f":"SUM(E31:E32)","v":6352177.333333334}]
[]
["CELKOVÉ NÁKLADY BEZ DPH",null,null,null,{"$f":"SUM(C17:C28)","v":13419374.333333334}]
["DPH (21%)",null,null,null,{"$f":"E35*0.21","v":2818068.61}]
["CELKOVÉ NÁKLADY S DPH",null,null,null,{"$f":"SUM(E35:E36)","v":16237442.943333333}]