{"text_format":"1","workbook":"xlsx","n_sheets":4,"sheets":["Background_EGD","Background_PRE","Formulář pro EGD","Formulář pro PRE"],"not_rendered":{"charts":0,"images":0,"macros":1,"external_links":0,"defined_names":0,"comments":0,"pivot_tables":0},"unopened":[],"bounds":{"document_bytes":16777216,"sheet_cells":100000,"rows_first":2000,"rows_last":500,"rows_between":2000,"halvings":0,"cell_chars":16384,"cell_head_chars":4096},"cells_cut":0,"cells_raw":0,"read":"whole","date_system":"1900"}

{"sheet":"Background_EGD","index":0,"n_rows":11,"n_cols":373,"rows_kept":11,"cut":false,"hidden":false,"merged":[[10,2,11,5]]}
["FieldName",0,1,10,100,101,102,103,104,105,106,107,108,109,11,110,111,12,15,16,17,18,19,2,20,21,22,23,24,25,26,27,28,29,3,30,31,32,33,34,35,36,37,38,4,40,41,42,43,44,45,46,47,48,49,5,50,51,52,53,54,55,56,57,58,59,6,60,61,62,63,64,65,66,67,68,69,7,70,71,72,73,74,75,76,77,78,79,8,80,81,82,83,84,85,86,87,88,89,9,90,91,92,93,94,95,96,97,98,99,"A0","A1","A2","A3","A4","A5","A6","A7","A8","A9","B1","B2","B3","B4","B5","B6","B7","B8","B9","C0","C1","C2","C3","C4","C5","C6","C7","C8","C9","D1","D2","D3","D4","D5","D6","D7","D8","D9","E0","E1","E2","E3","E4","E5","E6","E7","E8","E9","F1","F2","F3","F4","F5","F6","F7","F8","F9","G0","G1","G2","G3","G4","G5","G6","G7","G8","G9","H1","H2","H3","H4","H5","H6","H7","H8","H9","I0","I1","I2","I3","I4","I5","I6","I7","I8","I9","J1","J2","J3","J4","J5","J6","J7","J8","J9","K0","K1","K2","K3","K4","K5","K6","K7","K8","K9","M1","M2","M3","M4","M5","M6","M7","M8","M9","N0","N1","N2","N3","N4","N5","N6","N7","N8","N9","P1","P2","P3","P4","P5","P6","P7","P8","P9","Q0","Q1","Q2","Q3","Q4","Q5","Q6","Q7","Q8","Q9","R1","R2","R3","R4","R5","R6","R7","R8","R9","S0","S1","S2","S3","S4","S5","S6","S7","S8","S9","T1","T2","T3","T4","T5","T6","T7","T8","T9","U0","U1","U2","U3","U4","U5","U6","U7","U8","U9","V1","V2","V3","V4","V5","V6","V7","V8","V9","W0","W1","W2","W3","W4","W5","W6","W7","W8","W9","Y0","Y00","Y01","Y1","Y10","Y11","Y2","Y20","Y21","Y3","Y30","Y31","Y4","Y40","Y41","Y5","Y50","Y51","Y6","Y60","Y61","Y7","Y70","Y71","Y8","Y80","Y81","Y9","Y90","Y91","Z1","Z10","Z11","Z2","Z20","Z21","Z3","Z30","Z31","Z4","Z40","Z41","Z5","Z50","Z51","Z6","Z60","Z61","Z7","Z70","Z71","Z8","Z80","Z81","Z9","Z90","Z91","a","b","c","d","e","f"]
["Value",{"$f":"'Formulář pro EGD'!AF2","v":18567423},{"$f":"'Formulář pro EGD'!AG2","v":"Bc. Jan Novák"},{"$f":"'Formulář pro EGD'!AH2","v":123456789},{"$f":"'Formulář pro EGD'!AI2","v":"D123"},{"$f":"'Formulář pro EGD'!AJ2","v":0},{"$f":"'Formulář pro EGD'!AK2","v":123456789},{"$f":"'Formulář pro EGD'!AL2","v":"EMAIL@email.abc"},{"$f":"'Formulář pro EGD'!AM2","v":"Revoluční 123, 100 00 Praha"},{"$f":"'Formulář pro EGD'!AN2","v":"Bc. Jan Novák"},{"$f":"'Formulář pro EGD'!AO2","v":"Faktura 123, 100 00 Praha"},{"$f":"'Formulář pro EGD'!AP2","v":"Bc. Jan Novák"},{"$f":"'Formulář pro EGD'!AQ2","v":"D123"},{"$f":"'Formulář pro EGD'!AR2","v":0},{"$f":"'Formulář pro EGD'!AS2","v":"EMAIL@email.abc"},{"$f":"'Formulář pro EGD'!AT2","v":123456789},{"$f":"'Formulář pro EGD'!AU2","v":"EMAIL@email.abc"},{"$f":"'Formulář pro EGD'!AV2","v":"D123"},{"$f":"'Formulář pro EGD'!AW2","v":"Revoluční 123, 100 00 Praha"},{"$f":"'Formulář pro EGD'!AX2","v":"Bc. Jan Novák"},{"$f":"'Formulář pro EGD'!AY2","v":"Faktura 123, 100 00 Praha"},{"$f":"'Formulář pro EGD'!AZ2","v":"Bc. Jan Novák"},{"$f":"'Formulář pro EGD'!BA2","v":"D123"},{"$f":"'Formulář pro EGD'!BB2","v":"Ždatel 123, 100 00 Praha"},{"$f":"'Formulář pro EGD'!BC2","v":20},{"$f":"'Formulář pro EGD'!BD2","v":123456789},{"$f":"'Formulář pro EGD'!BE2","v":"EMAIL@email.abc"},{"$f":"'Formulář pro EGD'!BF2","v":"Revoluční 123, 100 00 Praha"},{"$f":"'Formulář pro EGD'!BG2","v":"Bc. Jan Novák"},{"$f":"'Formulář pro EGD'!BH2","v":"Faktura 123, 100 00 Praha"},{"$f":"'Formulář pro EGD'!BI2","v":"Bc. Jan Novák"},{"$f":"'Formulář pro EGD'!BJ2","v":"D123"},{"$f":"'Formulář pro EGD'!BK2","v":20},{"$f":"'Formulář pro EGD'!BL2","v":123456789},{"$f":"'Formulář pro EGD'!BM2","v":"Bc. Jan Novák"},{"$f":"'Formulář pro EGD'!BN2","v":"EMAIL@email.abc"},{"$f":"'Formulář pro EGD'!BO2","v":"Revoluční 123, 100 00 Praha"},{"$f":"'Formulář pro EGD'!BP2","v":"Bc. Jan Novák"},{"$f":"'Formulář pro EGD'!BQ2","v":"Faktura 123, 100 00 Praha"},{"$f":"'Formulář pro EGD'!BR2","v":"Bc. Jan Novák"},{"$f":"'Formulář pro EGD'!BS2","v":"D123"},{"$f":"'Formulář pro EGD'!BT2","v":20},{"$f":"'Formulář pro EGD'!BU2","v":123456789},{"$f":"'Formulář pro EGD'!BV2","v":"EMAIL@email.abc"},{"$f":"'Formulář pro EGD'!BW2","v":123456789},{"$f":"'Formulář pro EGD'!BX2","v":"Revoluční 123, 100 00 Praha"},{"$f":"'Formulář pro EGD'!BY2","v":"Bc. Jan Novák"},{"$f":"'Formulář pro EGD'!BZ2","v":"Faktura 123, 100 00 Praha"},{"$f":"'Formulář pro EGD'!CA2","v":"Bc. Jan Novák"},{"$f":"'Formulář pro EGD'!CB2","v":"D123"},{"$f":"'Formulář pro EGD'!CC2","v":20},{"$f":"'Formulář pro EGD'!CD2","v":123456789},{"$f":"'Formulář pro EGD'!CE2","v":"EMAIL@email.abc"},{"$f":"'Formulář pro EGD'!CF2","v":"Revoluční 123, 100 00 Praha"},{"$f":"'Formulář pro EGD'!CG2","v":"Bc. Jan Novák"},{"$f":"'Formulář pro EGD'!CH2","v":"EMAIL@email.abc"},{"$f":"'Formulář pro EGD'!CI2","v":"Faktura 123, 100 00 Praha"},{"$f":"'Formulář pro EGD'!CJ2","v":"Bc. Jan Novák"},{"$f":"'Formulář pro EGD'!CK2","v":"D123"},{"$f":"'Formulář pro EGD'!CL2","v":20},{"$f":"'Formulář pro EGD'!CM2","v":123456789},{"$f":"'Formulář pro EGD'!CN2","v":"EMAIL@email.abc"},{"$f":"'Formulář pro EGD'!CO2","v":"Revoluční 123, 100 00 Praha"},{"$f":"'Formulář pro EGD'!CP2","v":"Bc. Jan Novák"},{"$f":"'Formulář pro EGD'!CQ2","v":"Faktura 123, 100 00 Praha"},{"$f":"'Formulář pro EGD'!CR2","v":"Bc. Jan Novák"},{"$f":"'Formulář pro EGD'!CS2","v":"Revoluční 123, 100 00 Praha"},{"$f":"'Formulář pro EGD'!CT2","v":"D123"},{"$f":"'Formulář pro EGD'!CU2","v":0},{"$f":"'Formulář pro EGD'!CV2","v":123456789},{"$f":"'Formulář pro EGD'!CW2","v":"EMAIL@email.abc"},{"$f":"'Formulář pro EGD'!CX2","v":"Revoluční 123, 100 00 Praha"},{"$f":"'Formulář pro EGD'!CY2","v":"Bc. Jan Novák"},{"$f":"'Formulář pro EGD'!CZ2","v":"Faktura 123, 100 00 Praha"},{"$f":"'Formulář pro EGD'!DA2","v":"Bc. Jan Novák"},{"$f":"'Formulář pro EGD'!DB2","v":"D123"},{"$f":"'Formulář pro EGD'!DC2","v":0},{"$f":"'Formulář pro EGD'!DD2","v":"Bc. Jan Novák"},{"$f":"'Formulář pro EGD'!DE2","v":123456789},{"$f":"'Formulář pro EGD'!DF2","v":"EMAIL@email.abc"},{"$f":"'Formulář pro EGD'!DG2","v":"Revoluční 123, 100 00 Praha"},{"$f":"'Formulář pro EGD'!DH2","v":"Bc. Jan Novák"},{"$f":"'Formulář pro EGD'!DI2","v":"Faktura 123, 100 00 Praha"},{"$f":"'Formulář pro EGD'!DJ2","v":"Bc. Jan Novák"},{"$f":"'Formulář pro EGD'!DK2","v":"D123"},{"$f":"'Formulář pro EGD'!DL2","v":0},{"$f":"'Formulář pro EGD'!DM2","v":123456789},{"$f":"'Formulář pro EGD'!DN2","v":"EMAIL@email.abc"},{"$f":"'Formulář pro EGD'!DO2","v":"Faktura 123, 100 00 Praha"},{"$f":"'Formulář pro EGD'!DP2","v":"Revoluční 123, 100 00 Praha"},{"$f":"'Formulář pro EGD'!DQ2","v":"Bc. Jan Novák"},{"$f":"'Formulář pro EGD'!DR2","v":"Faktura 123, 100 00 Praha"},{"$f":"'Formulář pro EGD'!DS2","v":"Bc. Jan Novák"},{"$f":"'Formulář pro EGD'!DT2","v":"D123"},{"$f":"'Formulář pro EGD'!DU2","v":0},{"$f":"'Formulář pro EGD'!DV2","v":123456789},{"$f":"'Formulář pro EGD'!DW2","v":"EMAIL@email.abc"},{"$f":"'Formulář pro EGD'!DX2","v":"Revoluční 123, 100 00 Praha"},{"$f":"'Formulář pro EGD'!DY2","v":"Bc. Jan Novák"},{"$f":"'Formulář pro EGD'!DZ2","v":"Bc. Jan Novák"},{"$f":"'Formulář pro EGD'!EA2","v":"Faktura 123, 100 00 Praha"},{"$f":"'Formulář pro EGD'!EB2","v":"Bc. Jan Novák"},{"$f":"'Formulář pro EGD'!EC2","v":"D123"},{"$f":"'Formulář pro EGD'!ED2","v":0},{"$f":"'Formulář pro EGD'!EE2","v":123456789},{"$f":"'Formulář pro EGD'!EF2","v":"EMAIL@email.abc"},{"$f":"'Formulář pro EGD'!EG2","v":"Revoluční 123, 100 00 Praha"},{"$f":"'Formulář pro EGD'!EH2","v":"Bc. Jan Novák"},{"$f":"'Formulář pro EGD'!EI2","v":"Faktura 123, 100 00 Praha"},{"$f":"'Formulář pro EGD'!EJ2","v":"Bc. Jan Novák"},{"$f":"'Formulář pro EGD'!EK2","v":3},{"$f":"'Formulář pro EGD'!EL2","v":9},{"$f":"'Formulář pro EGD'!EM2","v":6},{"$f":"'Formulář pro EGD'!EN2","v":5},{"$f":"'Formulář pro EGD'!EO2","v":1},{"$f":"'Formulář pro EGD'!EP2","v":2},{"$f":"'Formulář pro EGD'!EQ2","v":3},{"$f":"'Formulář pro EGD'!ER2","v":5},{"$f":"'Formulář pro EGD'!ES2","v":1},{"$f":"'Formulář pro EGD'!ET2","v":5},{"$f":"'Formulář pro EGD'!EU2","v":1},{"$f":"'Formulář pro EGD'!EV2","v":2},{"$f":"'Formulář pro EGD'!EW2","v":3},{"$f":"'Formulář pro EGD'!EX2","v":4},{"$f":"'Formulář pro EGD'!EY2","v":5},{"$f":"'Formulář pro EGD'!EZ2","v":6},{"$f":"'Formulář pro EGD'!FA2","v":7},{"$f":"'Formulář pro EGD'!FB2","v":8},{"$f":"'Formulář pro EGD'!FC2","v":9},{"$f":"'Formulář pro EGD'!FD2","v":3},{"$f":"'Formulář pro EGD'!FE2","v":9},{"$f":"'Formulář pro EGD'!FF2","v":6},{"$f":"'Formulář pro EGD'!FG2","v":5},{"$f":"'Formulář pro EGD'!FH2","v":1},{"$f":"'Formulář pro EGD'!FI2","v":2},{"$f":"'Formulář pro EGD'!FJ2","v":3},{"$f":"'Formulář pro EGD'!FK2","v":5},{"$f":"'Formulář pro EGD'!FL2","v":1},{"$f":"'Formulář pro EGD'!FM2","v":5},{"$f":"'Formulář pro EGD'!FN2","v":1},{"$f":"'Formulář pro EGD'!FO2","v":2},{"$f":"'Formulář pro EGD'!FP2","v":3},{"$f":"'Formulář pro EGD'!FQ2","v":4},{"$f":"'Formulář pro EGD'!FR2","v":5},{"$f":"'Formulář pro EGD'!FS2","v":6},{"$f":"'Formulář pro EGD'!FT2","v":7},{"$f":"'Formulář pro EGD'!FU2","v":8},{"$f":"'Formulář pro EGD'!FV2","v":9},{"$f":"'Formulář pro EGD'!FW2","v":3},{"$f":"'Formulář pro EGD'!FX2","v":9},{"$f":"'Formulář pro EGD'!FY2","v":6},{"$f":"'Formulář pro EGD'!FZ2","v":5},{"$f":"'Formulář pro EGD'!GA2","v":1},{"$f":"'Formulář pro EGD'!GB2","v":2},{"$f":"'Formulář pro EGD'!GC2","v":3},{"$f":"'Formulář pro EGD'!GD2","v":5},{"$f":"'Formulář pro EGD'!GE2","v":1},{"$f":"'Formulář pro EGD'!GF2","v":5},{"$f":"'Formulář pro EGD'!GG2","v":1},{"$f":"'Formulář pro EGD'!GH2","v":2},{"$f":"'Formulář pro EGD'!GI2","v":3},{"$f":"'Formulář pro EGD'!GJ2","v":4},{"$f":"'Formulář pro EGD'!GK2","v":5},{"$f":"'Formulář pro EGD'!GL2","v":6},{"$f":"'Formulář pro EGD'!GM2","v":7},{"$f":"'Formulář pro EGD'!GN2","v":8},{"$f":"'Formulář pro EGD'!GO2","v":9},{"$f":"'Formulář pro EGD'!GP2","v":3},{"$f":"'Formulář pro EGD'!GQ2","v":9},{"$f":"'Formulář pro EGD'!GR2","v":6},{"$f":"'Formulář pro EGD'!GS2","v":5},{"$f":"'Formulář pro EGD'!GT2","v":1},{"$f":"'Formulář pro EGD'!GU2","v":2},{"$f":"'Formulář pro EGD'!GV2","v":3},{"$f":"'Formulář pro EGD'!GW2","v":5},{"$f":"'Formulář pro EGD'!GX2","v":1},{"$f":"'Formulář pro EGD'!GY2","v":5},{"$f":"'Formulář pro EGD'!GZ2","v":1},{"$f":"'Formulář pro EGD'!HA2","v":2},{"$f":"'Formulář pro EGD'!HB2","v":3},{"$f":"'Formulář pro EGD'!HC2","v":4},{"$f":"'Formulář pro EGD'!HD2","v":5},{"$f":"'Formulář pro EGD'!HE2","v":6},{"$f":"'Formulář pro EGD'!HF2","v":7},{"$f":"'Formulář pro EGD'!HG2","v":8},{"$f":"'Formulář pro EGD'!HH2","v":9},{"$f":"'Formulář pro EGD'!HI2","v":3},{"$f":"'Formulář pro EGD'!HJ2","v":9},{"$f":"'Formulář pro EGD'!HK2","v":6},{"$f":"'Formulář pro EGD'!HL2","v":5},{"$f":"'Formulář pro EGD'!HM2","v":1},{"$f":"'Formulář pro EGD'!HN2","v":2},{"$f":"'Formulář pro EGD'!HO2","v":3},{"$f":"'Formulář pro EGD'!HP2","v":5},{"$f":"'Formulář pro EGD'!HQ2","v":1},{"$f":"'Formulář pro EGD'!HR2","v":5},{"$f":"'Formulář pro EGD'!HS2","v":1},{"$f":"'Formulář pro EGD'!HT2","v":2},{"$f":"'Formulář pro EGD'!HU2","v":3},{"$f":"'Formulář pro EGD'!HV2","v":4},{"$f":"'Formulář pro EGD'!HW2","v":5},{"$f":"'Formulář pro EGD'!HX2","v":6},{"$f":"'Formulář pro EGD'!HY2","v":7},{"$f":"'Formulář pro EGD'!HZ2","v":8},{"$f":"'Formulář pro EGD'!IA2","v":9},{"$f":"'Formulář pro EGD'!IB2","v":3},{"$f":"'Formulář pro EGD'!IC2","v":9},{"$f":"'Formulář pro EGD'!ID2","v":6},{"$f":"'Formulář pro EGD'!IE2","v":5},{"$f":"'Formulář pro EGD'!IF2","v":1},{"$f":"'Formulář pro EGD'!IG2","v":2},{"$f":"'Formulář pro EGD'!IH2","v":3},{"$f":"'Formulář pro EGD'!II2","v":5},{"$f":"'Formulář pro EGD'!IJ2","v":1},{"$f":"'Formulář pro EGD'!IK2","v":5},{"$f":"'Formulář pro EGD'!IL2","v":1},{"$f":"'Formulář pro EGD'!IM2","v":2},{"$f":"'Formulář pro EGD'!IN2","v":3},{"$f":"'Formulář pro EGD'!IO2","v":4},{"$f":"'Formulář pro EGD'!IP2","v":5},{"$f":"'Formulář pro EGD'!IQ2","v":6},{"$f":"'Formulář pro EGD'!IR2","v":7},{"$f":"'Formulář pro EGD'!IS2","v":8},{"$f":"'Formulář pro EGD'!IT2","v":9},{"$f":"'Formulář pro EGD'!IU2","v":3},{"$f":"'Formulář pro EGD'!IV2","v":9},{"$f":"'Formulář pro EGD'!IW2","v":6},{"$f":"'Formulář pro EGD'!IX2","v":5},{"$f":"'Formulář pro EGD'!IY2","v":1},{"$f":"'Formulář pro EGD'!IZ2","v":2},{"$f":"'Formulář pro EGD'!JA2","v":3},{"$f":"'Formulář pro EGD'!JB2","v":5},{"$f":"'Formulář pro EGD'!JC2","v":1},{"$f":"'Formulář pro EGD'!JD2","v":5},{"$f":"'Formulář pro EGD'!JE2","v":1},{"$f":"'Formulář pro EGD'!JF2","v":2},{"$f":"'Formulář pro EGD'!JG2","v":3},{"$f":"'Formulář pro EGD'!JH2","v":4},{"$f":"'Formulář pro EGD'!JI2","v":5},{"$f":"'Formulář pro EGD'!JJ2","v":6},{"$f":"'Formulář pro EGD'!JK2","v":7},{"$f":"'Formulář pro EGD'!JL2","v":8},{"$f":"'Formulář pro EGD'!JM2","v":9},{"$f":"'Formulář pro EGD'!JN2","v":3},{"$f":"'Formulář pro EGD'!JO2","v":9},{"$f":"'Formulář pro EGD'!JP2","v":6},{"$f":"'Formulář pro EGD'!JQ2","v":5},{"$f":"'Formulář pro EGD'!JR2","v":1},{"$f":"'Formulář pro EGD'!JS2","v":2},{"$f":"'Formulář pro EGD'!JT2","v":3},{"$f":"'Formulář pro EGD'!JU2","v":5},{"$f":"'Formulář pro EGD'!JV2","v":1},{"$f":"'Formulář pro EGD'!JW2","v":5},{"$f":"'Formulář pro EGD'!JX2","v":1},{"$f":"'Formulář pro EGD'!JY2","v":2},{"$f":"'Formulář pro EGD'!JZ2","v":3},{"$f":"'Formulář pro EGD'!KA2","v":4},{"$f":"'Formulář pro EGD'!KB2","v":5},{"$f":"'Formulář pro EGD'!KC2","v":6},{"$f":"'Formulář pro EGD'!KD2","v":7},{"$f":"'Formulář pro EGD'!KE2","v":8},{"$f":"'Formulář pro EGD'!KF2","v":9},{"$f":"'Formulář pro EGD'!KG2","v":3},{"$f":"'Formulář pro EGD'!KH2","v":9},{"$f":"'Formulář pro EGD'!KI2","v":6},{"$f":"'Formulář pro EGD'!KJ2","v":5},{"$f":"'Formulář pro EGD'!KK2","v":1},{"$f":"'Formulář pro EGD'!KL2","v":2},{"$f":"'Formulář pro EGD'!KM2","v":3},{"$f":"'Formulář pro EGD'!KN2","v":5},{"$f":"'Formulář pro EGD'!KO2","v":1},{"$f":"'Formulář pro EGD'!KP2","v":5},{"$f":"'Formulář pro EGD'!KQ2","v":1},{"$f":"'Formulář pro EGD'!KR2","v":2},{"$f":"'Formulář pro EGD'!KS2","v":3},{"$f":"'Formulář pro EGD'!KT2","v":4},{"$f":"'Formulář pro EGD'!KU2","v":5},{"$f":"'Formulář pro EGD'!KV2","v":6},{"$f":"'Formulář pro EGD'!KW2","v":7},{"$f":"'Formulář pro EGD'!KX2","v":8},{"$f":"'Formulář pro EGD'!KY2","v":9},{"$f":"'Formulář pro EGD'!KZ2","v":3},{"$f":"'Formulář pro EGD'!LA2","v":9},{"$f":"'Formulář pro EGD'!LB2","v":6},{"$f":"'Formulář pro EGD'!LC2","v":5},{"$f":"'Formulář pro EGD'!LD2","v":1},{"$f":"'Formulář pro EGD'!LE2","v":2},{"$f":"'Formulář pro EGD'!LF2","v":3},{"$f":"'Formulář pro EGD'!LG2","v":5},{"$f":"'Formulář pro EGD'!LH2","v":1},{"$f":"'Formulář pro EGD'!LI2","v":5},{"$f":"'Formulář pro EGD'!LJ2","v":1},{"$f":"'Formulář pro EGD'!LK2","v":2},{"$f":"'Formulář pro EGD'!LL2","v":3},{"$f":"'Formulář pro EGD'!LM2","v":4},{"$f":"'Formulář pro EGD'!LN2","v":5},{"$f":"'Formulář pro EGD'!LO2","v":6},{"$f":"'Formulář pro EGD'!LP2","v":7},{"$f":"'Formulář pro EGD'!LQ2","v":8},{"$f":"'Formulář pro EGD'!LR2","v":9},{"$f":"'Formulář pro EGD'!LS2","v":3},{"$f":"'Formulář pro EGD'!LT2","v":9},{"$f":"'Formulář pro EGD'!LU2","v":6},{"$f":"'Formulář pro EGD'!LV2","v":5},{"$f":"'Formulář pro EGD'!LW2","v":1},{"$f":"'Formulář pro EGD'!LX2","v":2},{"$f":"'Formulář pro EGD'!LY2","v":3},{"$f":"'Formulář pro EGD'!LZ2","v":5},{"$f":"'Formulář pro EGD'!MA2","v":1},{"$f":"'Formulář pro EGD'!MB2","v":5},{"$f":"'Formulář pro EGD'!MC2","v":3},{"$f":"'Formulář pro EGD'!MD2","v":3},{"$f":"'Formulář pro EGD'!ME2","v":3},{"$f":"'Formulář pro EGD'!MF2","v":9},{"$f":"'Formulář pro EGD'!MG2","v":9},{"$f":"'Formulář pro EGD'!MH2","v":9},{"$f":"'Formulář pro EGD'!MI2","v":6},{"$f":"'Formulář pro EGD'!MJ2","v":6},{"$f":"'Formulář pro EGD'!MK2","v":6},{"$f":"'Formulář pro EGD'!ML2","v":5},{"$f":"'Formulář pro EGD'!MM2","v":5},{"$f":"'Formulář pro EGD'!MN2","v":5},{"$f":"'Formulář pro EGD'!MO2","v":1},{"$f":"'Formulář pro EGD'!MP2","v":1},{"$f":"'Formulář pro EGD'!MQ2","v":1},{"$f":"'Formulář pro EGD'!MR2","v":2},{"$f":"'Formulář pro EGD'!MS2","v":2},{"$f":"'Formulář pro EGD'!MT2","v":2},{"$f":"'Formulář pro EGD'!MU2","v":3},{"$f":"'Formulář pro EGD'!MV2","v":3},{"$f":"'Formulář pro EGD'!MW2","v":3},{"$f":"'Formulář pro EGD'!MX2","v":5},{"$f":"'Formulář pro EGD'!MY2","v":5},{"$f":"'Formulář pro EGD'!MZ2","v":5},{"$f":"'Formulář pro EGD'!NA2","v":1},{"$f":"'Formulář pro EGD'!NB2","v":1},{"$f":"'Formulář pro EGD'!NC2","v":1},{"$f":"'Formulář pro EGD'!ND2","v":5},{"$f":"'Formulář pro EGD'!NE2","v":5},{"$f":"'Formulář pro EGD'!NF2","v":5},{"$f":"'Formulář pro EGD'!NG2","v":1},{"$f":"'Formulář pro EGD'!NH2","v":1},{"$f":"'Formulář pro EGD'!NI2","v":1},{"$f":"'Formulář pro EGD'!NJ2","v":2},{"$f":"'Formulář pro EGD'!NK2","v":2},{"$f":"'Formulář pro EGD'!NL2","v":2},{"$f":"'Formulář pro EGD'!NM2","v":3},{"$f":"'Formulář pro EGD'!NN2","v":3},{"$f":"'Formulář pro EGD'!NO2","v":3},{"$f":"'Formulář pro EGD'!NP2","v":4},{"$f":"'Formulář pro EGD'!NQ2","v":4},{"$f":"'Formulář pro EGD'!NR2","v":4},{"$f":"'Formulář pro EGD'!NS2","v":5},{"$f":"'Formulář pro EGD'!NT2","v":5},{"$f":"'Formulář pro EGD'!NU2","v":5},{"$f":"'Formulář pro EGD'!NV2","v":6},{"$f":"'Formulář pro EGD'!NW2","v":6},{"$f":"'Formulář pro EGD'!NX2","v":6},{"$f":"'Formulář pro EGD'!NY2","v":7},{"$f":"'Formulář pro EGD'!NZ2","v":7},{"$f":"'Formulář pro EGD'!OA2","v":7},{"$f":"'Formulář pro EGD'!OB2","v":8},{"$f":"'Formulář pro EGD'!OC2","v":8},{"$f":"'Formulář pro EGD'!OD2","v":8},{"$f":"'Formulář pro EGD'!OE2","v":9},{"$f":"'Formulář pro EGD'!OF2","v":9},{"$f":"'Formulář pro EGD'!OG2","v":9},{"$f":"'Formulář pro EGD'!OH2","v":"On"},{"$f":"'Formulář pro EGD'!OI2","v":"Off"},{"$f":"'Formulář pro EGD'!OJ2","v":"Off"},{"$f":"'Formulář pro EGD'!OK2","v":"On"},{"$f":"'Formulář pro EGD'!OL2","v":"Off"},{"$f":"'Formulář pro EGD'!OM2","v":"Off"}]
["XML tags",{"$f":"_xlfn.TEXTJOIN(,TRUE,\"<field xfdf:original=\"\"\",B1,\"\"\">\",B2,\"</field>\")","v":"<field xfdf:original=\"0\">18567423</field>"},{"$f":"_xlfn.TEXTJOIN(,TRUE,\"<field xfdf:original=\"\"\",C1,\"\"\">\",C2,\"</field>\")","v":"<field xfdf:original=\"1\">Bc. Jan Novák</field>"},"<field xfdf:original=\"10\">123456789</field>","<field xfdf:original=\"100\">D123</field>","<field xfdf:original=\"101\">0</field>","<field xfdf:original=\"102\">123456789</field>","<field xfdf:original=\"103\">EMAIL@email.abc</field>","<field xfdf:original=\"104\">Revoluční 123, 100 00 Praha</field>","<field xfdf:original=\"105\">Bc. Jan Novák</field>","<field xfdf:original=\"106\">Faktura 123, 100 00 Praha</field>","<field xfdf:original=\"107\">Bc. Jan Novák</field>","<field xfdf:original=\"108\">D123</field>","<field xfdf:original=\"109\">0</field>","<field xfdf:original=\"11\">EMAIL@email.abc</field>","<field xfdf:original=\"110\">123456789</field>","<field xfdf:original=\"111\">EMAIL@email.abc</field>","<field xfdf:original=\"12\">D123</field>","<field xfdf:original=\"15\">Revoluční 123, 100 00 Praha</field>","<field xfdf:original=\"16\">Bc. Jan Novák</field>","<field xfdf:original=\"17\">Faktura 123, 100 00 Praha</field>","<field xfdf:original=\"18\">Bc. Jan Novák</field>","<field xfdf:original=\"19\">D123</field>","<field xfdf:original=\"2\">Ždatel 123, 100 00 Praha</field>","<field xfdf:original=\"20\">20</field>","<field xfdf:original=\"21\">123456789</field>","<field xfdf:original=\"22\">EMAIL@email.abc</field>","<field xfdf:original=\"23\">Revoluční 123, 100 00 Praha</field>","<field xfdf:original=\"24\">Bc. Jan Novák</field>","<field xfdf:original=\"25\">Faktura 123, 100 00 Praha</field>","<field xfdf:original=\"26\">Bc. Jan Novák</field>","<field xfdf:original=\"27\">D123</field>","<field xfdf:original=\"28\">20</field>","<field xfdf:original=\"29\">123456789</field>","<field xfdf:original=\"3\">Bc. Jan Novák</field>","<field xfdf:original=\"30\">EMAIL@email.abc</field>","<field xfdf:original=\"31\">Revoluční 123, 100 00 Praha</field>","<field xfdf:original=\"32\">Bc. Jan Novák</field>","<field xfdf:original=\"33\">Faktura 123, 100 00 Praha</field>","<field xfdf:original=\"34\">Bc. Jan Novák</field>","<field xfdf:original=\"35\">D123</field>","<field xfdf:original=\"36\">20</field>","<field xfdf:original=\"37\">123456789</field>","<field xfdf:original=\"38\">EMAIL@email.abc</field>","<field xfdf:original=\"4\">123456789</field>","<field xfdf:original=\"40\">Revoluční 123, 100 00 Praha</field>","<field xfdf:original=\"41\">Bc. Jan Novák</field>","<field xfdf:original=\"42\">Faktura 123, 100 00 Praha</field>","<field xfdf:original=\"43\">Bc. Jan Novák</field>","<field xfdf:original=\"44\">D123</field>","<field xfdf:original=\"45\">20</field>","<field xfdf:original=\"46\">123456789</field>","<field xfdf:original=\"47\">EMAIL@email.abc</field>","<field xfdf:original=\"48\">Revoluční 123, 100 00 Praha</field>","<field xfdf:original=\"49\">Bc. Jan Novák</field>","<field xfdf:original=\"5\">EMAIL@email.abc</field>","<field xfdf:original=\"50\">Faktura 123, 100 00 Praha</field>","<field xfdf:original=\"51\">Bc. Jan Novák</field>","<field xfdf:original=\"52\">D123</field>","<field xfdf:original=\"53\">20</field>","<field xfdf:original=\"54\">123456789</field>","<field xfdf:original=\"55\">EMAIL@email.abc</field>","<field xfdf:original=\"56\">Revoluční 123, 100 00 Praha</field>","<field xfdf:original=\"57\">Bc. Jan Novák</field>","<field xfdf:original=\"58\">Faktura 123, 100 00 Praha</field>","<field xfdf:original=\"59\">Bc. Jan Novák</field>",{"$f":"_xlfn.TEXTJOIN(,TRUE,\"<field xfdf:original=\"\"\",BO1,\"\"\">\",BO2,\"</field>\")","v":"<field xfdf:original=\"6\">Revoluční 123, 100 00 Praha</field>"},"<field xfdf:original=\"60\">D123</field>","<field xfdf:original=\"61\">0</field>","<field xfdf:original=\"62\">123456789</field>","<field xfdf:original=\"63\">EMAIL@email.abc</field>","<field xfdf:original=\"64\">Revoluční 123, 100 00 Praha</field>","<field xfdf:original=\"65\">Bc. Jan Novák</field>","<field xfdf:original=\"66\">Faktura 123, 100 00 Praha</field>","<field xfdf:original=\"67\">Bc. Jan Novák</field>","<field xfdf:original=\"68\">D123</field>","<field xfdf:original=\"69\">0</field>","<field xfdf:original=\"7\">Bc. Jan Novák</field>","<field xfdf:original=\"70\">123456789</field>","<field xfdf:original=\"71\">EMAIL@email.abc</field>","<field xfdf:original=\"72\">Revoluční 123, 100 00 Praha</field>","<field xfdf:original=\"73\">Bc. Jan Novák</field>","<field xfdf:original=\"74\">Faktura 123, 100 00 Praha</field>","<field xfdf:original=\"75\">Bc. Jan Novák</field>","<field xfdf:original=\"76\">D123</field>","<field xfdf:original=\"77\">0</field>","<field xfdf:original=\"78\">123456789</field>","<field xfdf:original=\"79\">EMAIL@email.abc</field>","<field xfdf:original=\"8\">Faktura 123, 100 00 Praha</field>","<field xfdf:original=\"80\">Revoluční 123, 100 00 Praha</field>","<field xfdf:original=\"81\">Bc. Jan Novák</field>","<field xfdf:original=\"82\">Faktura 123, 100 00 Praha</field>","<field xfdf:original=\"83\">Bc. Jan Novák</field>","<field xfdf:original=\"84\">D123</field>","<field xfdf:original=\"85\">0</field>","<field xfdf:original=\"86\">123456789</field>","<field xfdf:original=\"87\">EMAIL@email.abc</field>","<field xfdf:original=\"88\">Revoluční 123, 100 00 Praha</field>","<field xfdf:original=\"89\">Bc. Jan Novák</field>","<field xfdf:original=\"9\">Bc. Jan Novák</field>","<field xfdf:original=\"90\">Faktura 123, 100 00 Praha</field>","<field xfdf:original=\"91\">Bc. Jan Novák</field>","<field xfdf:original=\"92\">D123</field>","<field xfdf:original=\"93\">0</field>","<field xfdf:original=\"94\">123456789</field>","<field xfdf:original=\"95\">EMAIL@email.abc</field>","<field xfdf:original=\"96\">Revoluční 123, 100 00 Praha</field>","<field xfdf:original=\"97\">Bc. Jan Novák</field>","<field xfdf:original=\"98\">Faktura 123, 100 00 Praha</field>","<field xfdf:original=\"99\">Bc. Jan Novák</field>","<field xfdf:original=\"A0\">3</field>","<field xfdf:original=\"A1\">9</field>","<field xfdf:original=\"A2\">6</field>","<field xfdf:original=\"A3\">5</field>","<field xfdf:original=\"A4\">1</field>","<field xfdf:original=\"A5\">2</field>","<field xfdf:original=\"A6\">3</field>","<field xfdf:original=\"A7\">5</field>","<field xfdf:original=\"A8\">1</field>","<field xfdf:original=\"A9\">5</field>","<field xfdf:original=\"B1\">1</field>","<field xfdf:original=\"B2\">2</field>","<field xfdf:original=\"B3\">3</field>","<field xfdf:original=\"B4\">4</field>","<field xfdf:original=\"B5\">5</field>","<field xfdf:original=\"B6\">6</field>","<field xfdf:original=\"B7\">7</field>","<field xfdf:original=\"B8\">8</field>","<field xfdf:original=\"B9\">9</field>","<field xfdf:original=\"C0\">3</field>",{"$f":"_xlfn.TEXTJOIN(,TRUE,\"<field xfdf:original=\"\"\",EA1,\"\"\">\",EA2,\"</field>\")","v":"<field xfdf:original=\"C1\">9</field>"},"<field xfdf:original=\"C2\">6</field>","<field xfdf:original=\"C3\">5</field>","<field xfdf:original=\"C4\">1</field>","<field xfdf:original=\"C5\">2</field>","<field xfdf:original=\"C6\">3</field>","<field xfdf:original=\"C7\">5</field>","<field xfdf:original=\"C8\">1</field>","<field xfdf:original=\"C9\">5</field>","<field xfdf:original=\"D1\">1</field>","<field xfdf:original=\"D2\">2</field>","<field xfdf:original=\"D3\">3</field>","<field xfdf:original=\"D4\">4</field>","<field xfdf:original=\"D5\">5</field>","<field xfdf:original=\"D6\">6</field>","<field xfdf:original=\"D7\">7</field>","<field xfdf:original=\"D8\">8</field>","<field xfdf:original=\"D9\">9</field>","<field xfdf:original=\"E0\">3</field>","<field xfdf:original=\"E1\">9</field>","<field xfdf:original=\"E2\">6</field>","<field xfdf:original=\"E3\">5</field>","<field xfdf:original=\"E4\">1</field>","<field xfdf:original=\"E5\">2</field>","<field xfdf:original=\"E6\">3</field>","<field xfdf:original=\"E7\">5</field>","<field xfdf:original=\"E8\">1</field>","<field xfdf:original=\"E9\">5</field>","<field xfdf:original=\"F1\">1</field>","<field xfdf:original=\"F2\">2</field>","<field xfdf:original=\"F3\">3</field>","<field xfdf:original=\"F4\">4</field>","<field xfdf:original=\"F5\">5</field>","<field xfdf:original=\"F6\">6</field>","<field xfdf:original=\"F7\">7</field>","<field xfdf:original=\"F8\">8</field>","<field xfdf:original=\"F9\">9</field>","<field xfdf:original=\"G0\">3</field>","<field xfdf:original=\"G1\">9</field>","<field xfdf:original=\"G2\">6</field>","<field xfdf:original=\"G3\">5</field>","<field xfdf:original=\"G4\">1</field>","<field xfdf:original=\"G5\">2</field>","<field xfdf:original=\"G6\">3</field>","<field xfdf:original=\"G7\">5</field>","<field xfdf:original=\"G8\">1</field>","<field xfdf:original=\"G9\">5</field>","<field xfdf:original=\"H1\">1</field>","<field xfdf:original=\"H2\">2</field>","<field xfdf:original=\"H3\">3</field>","<field xfdf:original=\"H4\">4</field>","<field xfdf:original=\"H5\">5</field>","<field xfdf:original=\"H6\">6</field>","<field xfdf:original=\"H7\">7</field>","<field xfdf:original=\"H8\">8</field>","<field xfdf:original=\"H9\">9</field>","<field xfdf:original=\"I0\">3</field>","<field xfdf:original=\"I1\">9</field>","<field xfdf:original=\"I2\">6</field>","<field xfdf:original=\"I3\">5</field>","<field xfdf:original=\"I4\">1</field>","<field xfdf:original=\"I5\">2</field>","<field xfdf:original=\"I6\">3</field>","<field xfdf:original=\"I7\">5</field>",{"$f":"_xlfn.TEXTJOIN(,TRUE,\"<field xfdf:original=\"\"\",GM1,\"\"\">\",GM2,\"</field>\")","v":"<field xfdf:original=\"I8\">1</field>"},"<field xfdf:original=\"I9\">5</field>","<field xfdf:original=\"J1\">1</field>","<field xfdf:original=\"J2\">2</field>","<field xfdf:original=\"J3\">3</field>","<field xfdf:original=\"J4\">4</field>","<field xfdf:original=\"J5\">5</field>","<field xfdf:original=\"J6\">6</field>","<field xfdf:original=\"J7\">7</field>","<field xfdf:original=\"J8\">8</field>","<field xfdf:original=\"J9\">9</field>","<field xfdf:original=\"K0\">3</field>","<field xfdf:original=\"K1\">9</field>","<field xfdf:original=\"K2\">6</field>","<field xfdf:original=\"K3\">5</field>","<field xfdf:original=\"K4\">1</field>","<field xfdf:original=\"K5\">2</field>","<field xfdf:original=\"K6\">3</field>","<field xfdf:original=\"K7\">5</field>","<field xfdf:original=\"K8\">1</field>","<field xfdf:original=\"K9\">5</field>","<field xfdf:original=\"M1\">1</field>","<field xfdf:original=\"M2\">2</field>","<field xfdf:original=\"M3\">3</field>","<field xfdf:original=\"M4\">4</field>","<field xfdf:original=\"M5\">5</field>","<field xfdf:original=\"M6\">6</field>","<field xfdf:original=\"M7\">7</field>","<field xfdf:original=\"M8\">8</field>","<field xfdf:original=\"M9\">9</field>","<field xfdf:original=\"N0\">3</field>","<field xfdf:original=\"N1\">9</field>","<field xfdf:original=\"N2\">6</field>","<field xfdf:original=\"N3\">5</field>","<field xfdf:original=\"N4\">1</field>","<field xfdf:original=\"N5\">2</field>","<field xfdf:original=\"N6\">3</field>","<field xfdf:original=\"N7\">5</field>","<field xfdf:original=\"N8\">1</field>","<field xfdf:original=\"N9\">5</field>","<field xfdf:original=\"P1\">1</field>","<field xfdf:original=\"P2\">2</field>","<field xfdf:original=\"P3\">3</field>","<field xfdf:original=\"P4\">4</field>","<field xfdf:original=\"P5\">5</field>","<field xfdf:original=\"P6\">6</field>","<field xfdf:original=\"P7\">7</field>","<field xfdf:original=\"P8\">8</field>","<field xfdf:original=\"P9\">9</field>","<field xfdf:original=\"Q0\">3</field>","<field xfdf:original=\"Q1\">9</field>","<field xfdf:original=\"Q2\">6</field>","<field xfdf:original=\"Q3\">5</field>","<field xfdf:original=\"Q4\">1</field>","<field xfdf:original=\"Q5\">2</field>","<field xfdf:original=\"Q6\">3</field>","<field xfdf:original=\"Q7\">5</field>","<field xfdf:original=\"Q8\">1</field>","<field xfdf:original=\"Q9\">5</field>","<field xfdf:original=\"R1\">1</field>","<field xfdf:original=\"R2\">2</field>","<field xfdf:original=\"R3\">3</field>","<field xfdf:original=\"R4\">4</field>","<field xfdf:original=\"R5\">5</field>",{"$f":"_xlfn.TEXTJOIN(,TRUE,\"<field xfdf:original=\"\"\",IY1,\"\"\">\",IY2,\"</field>\")","v":"<field xfdf:original=\"R6\">6</field>"},"<field xfdf:original=\"R7\">7</field>","<field xfdf:original=\"R8\">8</field>","<field xfdf:original=\"R9\">9</field>","<field xfdf:original=\"S0\">3</field>","<field xfdf:original=\"S1\">9</field>","<field xfdf:original=\"S2\">6</field>","<field xfdf:original=\"S3\">5</field>","<field xfdf:original=\"S4\">1</field>","<field xfdf:original=\"S5\">2</field>","<field xfdf:original=\"S6\">3</field>","<field xfdf:original=\"S7\">5</field>","<field xfdf:original=\"S8\">1</field>","<field xfdf:original=\"S9\">5</field>","<field xfdf:original=\"T1\">1</field>","<field xfdf:original=\"T2\">2</field>","<field xfdf:original=\"T3\">3</field>","<field xfdf:original=\"T4\">4</field>","<field xfdf:original=\"T5\">5</field>","<field xfdf:original=\"T6\">6</field>","<field xfdf:original=\"T7\">7</field>","<field xfdf:original=\"T8\">8</field>","<field xfdf:original=\"T9\">9</field>","<field xfdf:original=\"U0\">3</field>","<field xfdf:original=\"U1\">9</field>","<field xfdf:original=\"U2\">6</field>","<field xfdf:original=\"U3\">5</field>","<field xfdf:original=\"U4\">1</field>","<field xfdf:original=\"U5\">2</field>","<field xfdf:original=\"U6\">3</field>","<field xfdf:original=\"U7\">5</field>","<field xfdf:original=\"U8\">1</field>","<field xfdf:original=\"U9\">5</field>","<field xfdf:original=\"V1\">1</field>","<field xfdf:original=\"V2\">2</field>","<field xfdf:original=\"V3\">3</field>","<field xfdf:original=\"V4\">4</field>","<field xfdf:original=\"V5\">5</field>","<field xfdf:original=\"V6\">6</field>","<field xfdf:original=\"V7\">7</field>","<field xfdf:original=\"V8\">8</field>","<field xfdf:original=\"V9\">9</field>","<field xfdf:original=\"W0\">3</field>","<field xfdf:original=\"W1\">9</field>","<field xfdf:original=\"W2\">6</field>","<field xfdf:original=\"W3\">5</field>","<field xfdf:original=\"W4\">1</field>","<field xfdf:original=\"W5\">2</field>","<field xfdf:original=\"W6\">3</field>","<field xfdf:original=\"W7\">5</field>","<field xfdf:original=\"W8\">1</field>","<field xfdf:original=\"W9\">5</field>","<field xfdf:original=\"Y0\">3</field>","<field xfdf:original=\"Y00\">3</field>","<field xfdf:original=\"Y01\">3</field>","<field xfdf:original=\"Y1\">9</field>","<field xfdf:original=\"Y10\">9</field>","<field xfdf:original=\"Y11\">9</field>","<field xfdf:original=\"Y2\">6</field>","<field xfdf:original=\"Y20\">6</field>","<field xfdf:original=\"Y21\">6</field>","<field xfdf:original=\"Y3\">5</field>","<field xfdf:original=\"Y30\">5</field>","<field xfdf:original=\"Y31\">5</field>",{"$f":"_xlfn.TEXTJOIN(,TRUE,\"<field xfdf:original=\"\"\",LK1,\"\"\">\",LK2,\"</field>\")","v":"<field xfdf:original=\"Y4\">1</field>"},"<field xfdf:original=\"Y40\">1</field>","<field xfdf:original=\"Y41\">1</field>","<field xfdf:original=\"Y5\">2</field>","<field xfdf:original=\"Y50\">2</field>","<field xfdf:original=\"Y51\">2</field>","<field xfdf:original=\"Y6\">3</field>","<field xfdf:original=\"Y60\">3</field>","<field xfdf:original=\"Y61\">3</field>","<field xfdf:original=\"Y7\">5</field>","<field xfdf:original=\"Y70\">5</field>","<field xfdf:original=\"Y71\">5</field>","<field xfdf:original=\"Y8\">1</field>","<field xfdf:original=\"Y80\">1</field>","<field xfdf:original=\"Y81\">1</field>","<field xfdf:original=\"Y9\">5</field>","<field xfdf:original=\"Y90\">5</field>","<field xfdf:original=\"Y91\">5</field>","<field xfdf:original=\"Z1\">1</field>","<field xfdf:original=\"Z10\">1</field>","<field xfdf:original=\"Z11\">1</field>","<field xfdf:original=\"Z2\">2</field>","<field xfdf:original=\"Z20\">2</field>","<field xfdf:original=\"Z21\">2</field>","<field xfdf:original=\"Z3\">3</field>","<field xfdf:original=\"Z30\">3</field>","<field xfdf:original=\"Z31\">3</field>","<field xfdf:original=\"Z4\">4</field>","<field xfdf:original=\"Z40\">4</field>","<field xfdf:original=\"Z41\">4</field>","<field xfdf:original=\"Z5\">5</field>","<field xfdf:original=\"Z50\">5</field>","<field xfdf:original=\"Z51\">5</field>","<field xfdf:original=\"Z6\">6</field>","<field xfdf:original=\"Z60\">6</field>","<field xfdf:original=\"Z61\">6</field>","<field xfdf:original=\"Z7\">7</field>","<field xfdf:original=\"Z70\">7</field>","<field xfdf:original=\"Z71\">7</field>","<field xfdf:original=\"Z8\">8</field>","<field xfdf:original=\"Z80\">8</field>","<field xfdf:original=\"Z81\">8</field>","<field xfdf:original=\"Z9\">9</field>","<field xfdf:original=\"Z90\">9</field>","<field xfdf:original=\"Z91\">9</field>","<field xfdf:original=\"a\">On</field>","<field xfdf:original=\"b\">Off</field>","<field xfdf:original=\"c\">Off</field>","<field xfdf:original=\"d\">On</field>","<field xfdf:original=\"e\">Off</field>","<field xfdf:original=\"f\">Off</field>"]
[]
["FinalXML",{"$f":"_xlfn.CONCAT(\"<?xml version=\"\"1.0\"\" encoding=\"\"UTF-8\"\"?><fields xmlns:xfdf=\"\"http://ns.adobe.com/xfdf-transition/\"\">\",CONCATENATE(B3:NI3),\"</fields>\")","v":"<?xml version=\"1.0\" encoding=\"UTF-8\"?><fields xmlns:xfdf=\"http://ns.adobe.com/xfdf-transition/\"><field xfdf:original=\"0\">18567423</field><field xfdf:original=\"1\">Bc. Jan Novák</field><field xfdf:original=\"10\">123456789</field><field xfdf:original=\"100\">D123</field><field xfdf:original=\"101\">0</field><field xfdf:original=\"102\">123456789</field><field xfdf:original=\"103\">EMAIL@email.abc</field><field xfdf:original=\"104\">Revoluční 123, 100 00 Praha</field><field xfdf:original=\"105\">Bc. Jan Novák</field><field xfdf:original=\"106\">Faktura 123, 100 00 Praha</field><field xfdf:original=\"107\">Bc. Jan Novák</field><field xfdf:original=\"108\">D123</field><field xfdf:original=\"109\">0</field><field xfdf:original=\"11\">EMAIL@email.abc</field><field xfdf:original=\"110\">123456789</field><field xfdf:original=\"111\">EMAIL@email.abc</field><field xfdf:original=\"12\">D123</field><field xfdf:original=\"15\">Revoluční 123, 100 00 Praha</field><field xfdf:original=\"16\">Bc. Jan Novák</field><field xfdf:original=\"17\">Faktura 123, 100 00 Praha</field><field xfdf:original=\"18\">Bc. Jan Novák</field><field xfdf:original=\"19\">D123</field><field xfdf:original=\"2\">Ždatel 123, 100 00 Praha</field><field xfdf:original=\"20\">20</field><field xfdf:original=\"21\">123456789</field><field xfdf:original=\"22\">EMAIL@email.abc</field><field xfdf:original=\"23\">Revoluční 123, 100 00 Praha</field><field xfdf:original=\"24\">Bc. Jan Novák</field><field xfdf:original=\"25\">Faktura 123, 100 00 Praha</field><field xfdf:original=\"26\">Bc. Jan Novák</field><field xfdf:original=\"27\">D123</field><field xfdf:original=\"28\">20</field><field xfdf:original=\"29\">123456789</field><field xfdf:original=\"3\">Bc. Jan Novák</field><field xfdf:original=\"30\">EMAIL@email.abc</field><field xfdf:original=\"31\">Revoluční 123, 100 00 Praha</field><field xfdf:original=\"32\">Bc. Jan Novák</field><field xfdf:original=\"33\">Faktura 123, 100 00 Praha</field><field xfdf:original=\"34\">Bc. Jan Novák</field><field xfdf:original=\"35\">D123</field><field xfdf:original=\"36\">20</field><field xfdf:original=\"37\">123456789</field><field xfdf:original=\"38\">EMAIL@email.abc</field><field xfdf:original=\"4\">123456789</field><field xfdf:original=\"40\">Revoluční 123, 100 00 Praha</field><field xfdf:original=\"41\">Bc. Jan Novák</field><field xfdf:original=\"42\">Faktura 123, 100 00 Praha</field><field xfdf:original=\"43\">Bc. Jan Novák</field><field xfdf:original=\"44\">D123</field><field xfdf:original=\"45\">20</field><field xfdf:original=\"46\">123456789</field><field xfdf:original=\"47\">EMAIL@email.abc</field><field xfdf:original=\"48\">Revoluční 123, 100 00 Praha</field><field xfdf:original=\"49\">Bc. Jan Novák</field><field xfdf:original=\"5\">EMAIL@email.abc</field><field xfdf:original=\"50\">Faktura 123, 100 00 Praha</field><field xfdf:original=\"51\">Bc. Jan Novák</field><field xfdf:original=\"52\">D123</field><field xfdf:original=\"53\">20</field><field xfdf:original=\"54\">123456789</field><field xfdf:original=\"55\">EMAIL@email.abc</field><field xfdf:original=\"56\">Revoluční 123, 100 00 Praha</field><field xfdf:original=\"57\">Bc. Jan Novák</field><field xfdf:original=\"58\">Faktura 123, 100 00 Praha</field><field xfdf:original=\"59\">Bc. Jan Novák</field><field xfdf:original=\"6\">Revoluční 123, 100 00 Praha</field><field xfdf:original=\"60\">D123</field><field xfdf:original=\"61\">0</field><field xfdf:original=\"62\">123456789</field><field xfdf:original=\"63\">EMAIL@email.abc</field><field xfdf:original=\"64\">Revoluční 123, 100 00 Praha</field><field xfdf:original=\"65\">Bc. Jan Novák</field><field xfdf:original=\"66\">Faktura 123, 100 00 Praha</field><field xfdf:original=\"67\">Bc. Jan Novák</field><field xfdf:original=\"68\">D123</field><field xfdf:original=\"69\">0</field><field xfdf:original=\"7\">Bc. Jan Novák</field><field xfdf:original=\"70\">123456789</field><field xfdf:original=\"71\">EMAIL@email.abc</field><field xfdf:original=\"72\">Revoluční 123, 100 00 Praha</field><field xfdf:original=\"73\">Bc. Jan Novák</field><field xfdf:original=\"74\">Faktura 123, 100 00 Praha</field><field xfdf:original=\"75\">Bc. Jan Novák</field><field xfdf:original=\"76\">D123</field><field xfdf:original=\"77\">0</field><field xfdf:original=\"78\">123456789</field><field xfdf:original=\"79\">EMAIL@email.abc</field><field xfdf:original=\"8\">Faktura 123, 100 00 Praha</field><field xfdf:original=\"80\">Revoluční 123, 100 00 Praha</field><field xfdf:original=\"81\">Bc. Jan Novák</field><field xfdf:original=\"82\">Faktura 123, 100 00 Praha</field><field xfdf:original=\"83\">Bc. Jan Novák</field><field xfdf:original=\"84\">D123</field><field xfdf:original=\"85\">0</field><field xfdf:original=\"86\">123456789</field><field xfdf:original=\"87\">EMAIL@email.abc</field><field xfdf:original=\"88\">Revoluční 123, 100 00 Praha</field><field xfdf:original=\"89\">Bc. Jan Novák</field><field xfdf:original=\"9\">Bc. Jan Novák</field><field xfdf:original=\"90\">Faktura 123, 100 00 Praha</field><field xfdf:original=\"91\">Bc. Jan Novák</field><field xfdf:original=\"92\">D123</field><field xfdf:original=\"93\">0</field><field xfdf:original=\"94\">123456789</field><field xfdf:original=\"95\">EMAIL@email.abc</field><field xfdf:original=\"96\">Revoluční 123, 100 00 Praha</field><field xfdf:original=\"97\">Bc. Jan Novák</field><field xfdf:original=\"98\">Faktura 123, 100 00 Praha</field><field xfdf:original=\"99\">Bc. Jan Novák</field><field xfdf:original=\"A0\">3</field><field xfdf:original=\"A1\">9</field><field xfdf:original=\"A2\">6</field><field xfdf:original=\"A3\">5</field><field xfdf:original=\"A4\">1</field><field xfdf:original=\"A5\">2</field><field xfdf:original=\"A6\">3</field><field xfdf:original=\"A7\">5</field><field xfdf:original=\"A8\">1</field><field xfdf:original=\"A9\">5</field><field xfdf:original=\"B1\">1</field><field xfdf:original=\"B2\">2</field><field xfdf:original=\"B3\">3</field><field xfdf:original=\"B4\">4</field><field xfdf:original=\"B5\">5</field><field xfdf:original=\"B6\">6</field><field xfdf:original=\"B7\">7</field><field xfdf:original=\"B8\">8</field><field xfdf:original=\"B9\">9</field><field xfdf:original=\"C0\">3</field><field xfdf:original=\"C1\">9</field><field xfdf:original=\"C2\">6</field><field xfdf:original=\"C3\">5</field><field xfdf:original=\"C4\">1</field><field xfdf:original=\"C5\">2</field><field xfdf:original=\"C6\">3</field><field xfdf:original=\"C7\">5</field><field xfdf:original=\"C8\">1</field><field xfdf:original=\"C9\">5</field><field xfdf:original=\"D1\">1</field><field xfdf:original=\"D2\">2</field><field xfdf:original=\"D3\">3</field><field xfdf:original=\"D4\">4</field><field xfdf:original=\"D5\">5</field><field xfdf:original=\"D6\">6</field><field xfdf:original=\"D7\">7</field><field xfdf:original=\"D8\">8</field><field xfdf:original=\"D9\">9</field><field xfdf:original=\"E0\">3</field><field xfdf:original=\"E1\">9</field><field xfdf:original=\"E2\">6</field><field xfdf:original=\"E3\">5</field><field xfdf:original=\"E4\">1</field><field xfdf:original=\"E5\">2</field><field xfdf:original=\"E6\">3</field><field xfdf:original=\"E7\">5</field><field xfdf:original=\"E8\">1</field><field xfdf:original=\"E9\">5</field><field xfdf:original=\"F1\">1</field><field xfdf:original=\"F2\">2</field><field xfdf:original=\"F3\">3</field><field xfdf:original=\"F4\">4</field><field xfdf:original=\"F5\">5</field><field xfdf:original=\"F6\">6</field><field xfdf:original=\"F7\">7</field><field xfdf:original=\"F8\">8</field><field xfdf:original=\"F9\">9</field><field xfdf:original=\"G0\">3</field><field xfdf:original=\"G1\">9</field><field xfdf:original=\"G2\">6</field><field xfdf:original=\"G3\">5</field><field xfdf:original=\"G4\">1</field><field xfdf:original=\"G5\">2</field><field xfdf:original=\"G6\">3</field><field xfdf:original=\"G7\">5</field><field xfdf:original=\"G8\">1</field><field xfdf:original=\"G9\">5</field><field xfdf:original=\"H1\">1</field><field xfdf:original=\"H2\">2</field><field xfdf:original=\"H3\">3</field><field xfdf:original=\"H4\">4</field><field xfdf:original=\"H5\">5</field><field xfdf:original=\"H6\">6</field><field xfdf:original=\"H7\">7</field><field xfdf:original=\"H8\">8</field><field xfdf:original=\"H9\">9</field><field xfdf:original=\"I0\">3</field><field xfdf:original=\"I1\">9</field><field xfdf:original=\"I2\">6</field><field xfdf:original=\"I3\">5</field><field xfdf:original=\"I4\">1</field><field xfdf:original=\"I5\">2</field><field xfdf:original=\"I6\">3</field><field xfdf:original=\"I7\">5</field><field xfdf:original=\"I8\">1</field><field xfdf:original=\"I9\">5</field><field xfdf:original=\"J1\">1</field><field xfdf:original=\"J2\">2</field><field xfdf:original=\"J3\">3</field><field xfdf:original=\"J4\">4</field><field xfdf:original=\"J5\">5</field><field xfdf:original=\"J6\">6</field><field xfdf:original=\"J7\">7</field><field xfdf:original=\"J8\">8</field><field xfdf:original=\"J9\">9</field><field xfdf:original=\"K0\">3</field><field xfdf:original=\"K1\">9</field><field xfdf:original=\"K2\">6</field><field xfdf:original=\"K3\">5</field><field xfdf:original=\"K4\">1</field><field xfdf:original=\"K5\">2</field><field xfdf:original=\"K6\">3</field><field xfdf:original=\"K7\">5</field><field xfdf:original=\"K8\">1</field><field xfdf:original=\"K9\">5</field><field xfdf:original=\"M1\">1</field><field xfdf:original=\"M2\">2</field><field xfdf:original=\"M3\">3</field><field xfdf:original=\"M4\">4</field><field xfdf:original=\"M5\">5</field><field xfdf:original=\"M6\">6</field><field xfdf:original=\"M7\">7</field><field xfdf:original=\"M8\">8</field><field xfdf:original=\"M9\">9</field><field xfdf:original=\"N0\">3</field><field xfdf:original=\"N1\">9</field><field xfdf:original=\"N2\">6</field><field xfdf:original=\"N3\">5</field><field xfdf:original=\"N4\">1</field><field xfdf:original=\"N5\">2</field><field xfdf:original=\"N6\">3</field><field xfdf:original=\"N7\">5</field><field xfdf:original=\"N8\">1</field><field xfdf:original=\"N9\">5</field><field xfdf:original=\"P1\">1</field><field xfdf:original=\"P2\">2</field><field xfdf:original=\"P3\">3</field><field xfdf:original=\"P4\">4</field><field xfdf:original=\"P5\">5</field><field xfdf:original=\"P6\">6</field><field xfdf:original=\"P7\">7</field><field xfdf:original=\"P8\">8</field><field xfdf:original=\"P9\">9</field><field xfdf:original=\"Q0\">3</field><field xfdf:original=\"Q1\">9</field><field xfdf:original=\"Q2\">6</field><field xfdf:original=\"Q3\">5</field><field xfdf:original=\"Q4\">1</field><field xfdf:original=\"Q5\">2</field><field xfdf:original=\"Q6\">3</field><field xfdf:original=\"Q7\">5</field><field xfdf:original=\"Q8\">1</field><field xfdf:original=\"Q9\">5</field><field xfdf:original=\"R1\">1</field><field xfdf:original=\"R2\">2</field><field xfdf:original=\"R3\">3</field><field xfdf:original=\"R4\">4</field><field xfdf:original=\"R5\">5</field><field xfdf:original=\"R6\">6</field><field xfdf:original=\"R7\">7</field><field xfdf:original=\"R8\">8</field><field xfdf:original=\"R9\">9</field><field xfdf:original=\"S0\">3</field><field xfdf:original=\"S1\">9</field><field xfdf:original=\"S2\">6</field><field xfdf:original=\"S3\">5</field><field xfdf:original=\"S4\">1</field><field xfdf:original=\"S5\">2</field><field xfdf:original=\"S6\">3</field><field xfdf:original=\"S7\">5</field><field xfdf:original=\"S8\">1</field><field xfdf:original=\"S9\">5</field><field xfdf:original=\"T1\">1</field><field xfdf:original=\"T2\">2</field><field xfdf:original=\"T3\">3</field><field xfdf:original=\"T4\">4</field><field xfdf:original=\"T5\">5</field><field xfdf:original=\"T6\">6</field><field xfdf:original=\"T7\">7</field><field xfdf:original=\"T8\">8</field><field xfdf:original=\"T9\">9</field><field xfdf:original=\"U0\">3</field><field xfdf:original=\"U1\">9</field><field xfdf:original=\"U2\">6</field><field xfdf:original=\"U3\">5</field><field xfdf:original=\"U4\">1</field><field xfdf:original=\"U5\">2</field><field xfdf:original=\"U6\">3</field><field xfdf:original=\"U7\">5</field><field xfdf:original=\"U8\">1</field><field xfdf:original=\"U9\">5</field><field xfdf:original=\"V1\">1</field><field xfdf:original=\"V2\">2</field><field xfdf:original=\"V3\">3</field><field xfdf:original=\"V4\">4</field><field xfdf:original=\"V5\">5</field><field xfdf:original=\"V6\">6</field><field xfdf:original=\"V7\">7</field><field xfdf:original=\"V8\">8</field><field xfdf:original=\"V9\">9</field><field xfdf:original=\"W0\">3</field><field xfdf:original=\"W1\">9</field><field xfdf:original=\"W2\">6</field><field xfdf:original=\"W3\">5</field><field xfdf:original=\"W4\">1</field><field xfdf:original=\"W5\">2</field><field xfdf:original=\"W6\">3</field><field xfdf:original=\"W7\">5</field><field xfdf:original=\"W8\">1</field><field xfdf:original=\"W9\">5</field><field xfdf:original=\"Y0\">3</field><field xfdf:original=\"Y00\">3</field><field xfdf:original=\"Y01\">3</field><field xfdf:original=\"Y1\">9</field><field xfdf:original=\"Y10\">9</field><field xfdf:original=\"Y11\">9</field><field xfdf:original=\"Y2\">6</field><field xfdf:original=\"Y20\">6</field><field xfdf:original=\"Y21\">6</field><field xfdf:original=\"Y3\">5</field><field xfdf:original=\"Y30\">5</field><field xfdf:original=\"Y31\">5</field><field xfdf:original=\"Y4\">1</field><field xfdf:original=\"Y40\">1</field><field xfdf:original=\"Y41\">1</field><field xfdf:original=\"Y5\">2</field><field xfdf:original=\"Y50\">2</field><field xfdf:original=\"Y51\">2</field><field xfdf:original=\"Y6\">3</field><field xfdf:original=\"Y60\">3</field><field xfdf:original=\"Y61\">3</field><field xfdf:original=\"Y7\">5</field><field xfdf:original=\"Y70\">5</field><field xfdf:original=\"Y71\">5</field><field xfdf:original=\"Y8\">1</field><field xfdf:original=\"Y80\">1</field><field xfdf:original=\"Y81\">1</field><field xfdf:original=\"Y9\">5</field><field xfdf:original=\"Y90\">5</field><field xfdf:original=\"Y91\">5</field><field xfdf:original=\"Z1\">1</field><field xfdf:original=\"Z10\">1</field><field xfdf:original=\"Z11\">1</field><field xfdf:original=\"Z2\">2</field><field xfdf:original=\"Z20\">2</field><field xfdf:original=\"Z21\">2</field><field xfdf:original=\"Z3\">3</field><field xfdf:original=\"Z30\">3</field><field xfdf:original=\"Z31\">3</field><field xfdf:original=\"Z4\">4</field><field xfdf:original=\"Z40\">4</field><field xfdf:original=\"Z41\">4</field><field xfdf:original=\"Z5\">5</field><field xfdf:original=\"Z50\">5</field><field xfdf:original=\"Z51\">5</field><field xfdf:original=\"Z6\">6</field><field xfdf:original=\"Z60\">6</field><field xfdf:original=\"Z61\">6</field><field xfdf:original=\"Z7\">7</field><field xfdf:original=\"Z70\">7</field><field xfdf:original=\"Z71\">7</field><field xfdf:original=\"Z8\">8</field><field xfdf:original=\"Z80\">8</field><field xfdf:original=\"Z81\">8</field><field xfdf:original=\"Z9\">9</field><field xfdf:original=\"Z90\">9</field><field xfdf:original=\"Z91\">9</field><field xfdf:original=\"a\">On</field><field xfdf:original=\"b\">Off</field><field xfdf:original=\"c\">Off</field><field xfdf:original=\"d\">On</field><field xfdf:original=\"e\">Off</field><field xfdf:original=\"f\">Off</field></fields>"}]
[]
["STRING",{"$f":"B5","v":"<?xml version=\"1.0\" encoding=\"UTF-8\"?><fields xmlns:xfdf=\"http://ns.adobe.com/xfdf-transition/\"><field xfdf:original=\"0\">18567423</field><field xfdf:original=\"1\">Bc. Jan Novák</field><field xfdf:original=\"10\">123456789</field><field xfdf:original=\"100\">D123</field><field xfdf:original=\"101\">0</field><field xfdf:original=\"102\">123456789</field><field xfdf:original=\"103\">EMAIL@email.abc</field><field xfdf:original=\"104\">Revoluční 123, 100 00 Praha</field><field xfdf:original=\"105\">Bc. Jan Novák</field><field xfdf:original=\"106\">Faktura 123, 100 00 Praha</field><field xfdf:original=\"107\">Bc. Jan Novák</field><field xfdf:original=\"108\">D123</field><field xfdf:original=\"109\">0</field><field xfdf:original=\"11\">EMAIL@email.abc</field><field xfdf:original=\"110\">123456789</field><field xfdf:original=\"111\">EMAIL@email.abc</field><field xfdf:original=\"12\">D123</field><field xfdf:original=\"15\">Revoluční 123, 100 00 Praha</field><field xfdf:original=\"16\">Bc. Jan Novák</field><field xfdf:original=\"17\">Faktura 123, 100 00 Praha</field><field xfdf:original=\"18\">Bc. Jan Novák</field><field xfdf:original=\"19\">D123</field><field xfdf:original=\"2\">Ždatel 123, 100 00 Praha</field><field xfdf:original=\"20\">20</field><field xfdf:original=\"21\">123456789</field><field xfdf:original=\"22\">EMAIL@email.abc</field><field xfdf:original=\"23\">Revoluční 123, 100 00 Praha</field><field xfdf:original=\"24\">Bc. Jan Novák</field><field xfdf:original=\"25\">Faktura 123, 100 00 Praha</field><field xfdf:original=\"26\">Bc. Jan Novák</field><field xfdf:original=\"27\">D123</field><field xfdf:original=\"28\">20</field><field xfdf:original=\"29\">123456789</field><field xfdf:original=\"3\">Bc. Jan Novák</field><field xfdf:original=\"30\">EMAIL@email.abc</field><field xfdf:original=\"31\">Revoluční 123, 100 00 Praha</field><field xfdf:original=\"32\">Bc. Jan Novák</field><field xfdf:original=\"33\">Faktura 123, 100 00 Praha</field><field xfdf:original=\"34\">Bc. Jan Novák</field><field xfdf:original=\"35\">D123</field><field xfdf:original=\"36\">20</field><field xfdf:original=\"37\">123456789</field><field xfdf:original=\"38\">EMAIL@email.abc</field><field xfdf:original=\"4\">123456789</field><field xfdf:original=\"40\">Revoluční 123, 100 00 Praha</field><field xfdf:original=\"41\">Bc. Jan Novák</field><field xfdf:original=\"42\">Faktura 123, 100 00 Praha</field><field xfdf:original=\"43\">Bc. Jan Novák</field><field xfdf:original=\"44\">D123</field><field xfdf:original=\"45\">20</field><field xfdf:original=\"46\">123456789</field><field xfdf:original=\"47\">EMAIL@email.abc</field><field xfdf:original=\"48\">Revoluční 123, 100 00 Praha</field><field xfdf:original=\"49\">Bc. Jan Novák</field><field xfdf:original=\"5\">EMAIL@email.abc</field><field xfdf:original=\"50\">Faktura 123, 100 00 Praha</field><field xfdf:original=\"51\">Bc. Jan Novák</field><field xfdf:original=\"52\">D123</field><field xfdf:original=\"53\">20</field><field xfdf:original=\"54\">123456789</field><field xfdf:original=\"55\">EMAIL@email.abc</field><field xfdf:original=\"56\">Revoluční 123, 100 00 Praha</field><field xfdf:original=\"57\">Bc. Jan Novák</field><field xfdf:original=\"58\">Faktura 123, 100 00 Praha</field><field xfdf:original=\"59\">Bc. Jan Novák</field><field xfdf:original=\"6\">Revoluční 123, 100 00 Praha</field><field xfdf:original=\"60\">D123</field><field xfdf:original=\"61\">0</field><field xfdf:original=\"62\">123456789</field><field xfdf:original=\"63\">EMAIL@email.abc</field><field xfdf:original=\"64\">Revoluční 123, 100 00 Praha</field><field xfdf:original=\"65\">Bc. Jan Novák</field><field xfdf:original=\"66\">Faktura 123, 100 00 Praha</field><field xfdf:original=\"67\">Bc. Jan Novák</field><field xfdf:original=\"68\">D123</field><field xfdf:original=\"69\">0</field><field xfdf:original=\"7\">Bc. Jan Novák</field><field xfdf:original=\"70\">123456789</field><field xfdf:original=\"71\">EMAIL@email.abc</field><field xfdf:original=\"72\">Revoluční 123, 100 00 Praha</field><field xfdf:original=\"73\">Bc. Jan Novák</field><field xfdf:original=\"74\">Faktura 123, 100 00 Praha</field><field xfdf:original=\"75\">Bc. Jan Novák</field><field xfdf:original=\"76\">D123</field><field xfdf:original=\"77\">0</field><field xfdf:original=\"78\">123456789</field><field xfdf:original=\"79\">EMAIL@email.abc</field><field xfdf:original=\"8\">Faktura 123, 100 00 Praha</field><field xfdf:original=\"80\">Revoluční 123, 100 00 Praha</field><field xfdf:original=\"81\">Bc. Jan Novák</field><field xfdf:original=\"82\">Faktura 123, 100 00 Praha</field><field xfdf:original=\"83\">Bc. Jan Novák</field><field xfdf:original=\"84\">D123</field><field xfdf:original=\"85\">0</field><field xfdf:original=\"86\">123456789</field><field xfdf:original=\"87\">EMAIL@email.abc</field><field xfdf:original=\"88\">Revoluční 123, 100 00 Praha</field><field xfdf:original=\"89\">Bc. Jan Novák</field><field xfdf:original=\"9\">Bc. Jan Novák</field><field xfdf:original=\"90\">Faktura 123, 100 00 Praha</field><field xfdf:original=\"91\">Bc. Jan Novák</field><field xfdf:original=\"92\">D123</field><field xfdf:original=\"93\">0</field><field xfdf:original=\"94\">123456789</field><field xfdf:original=\"95\">EMAIL@email.abc</field><field xfdf:original=\"96\">Revoluční 123, 100 00 Praha</field><field xfdf:original=\"97\">Bc. Jan Novák</field><field xfdf:original=\"98\">Faktura 123, 100 00 Praha</field><field xfdf:original=\"99\">Bc. Jan Novák</field><field xfdf:original=\"A0\">3</field><field xfdf:original=\"A1\">9</field><field xfdf:original=\"A2\">6</field><field xfdf:original=\"A3\">5</field><field xfdf:original=\"A4\">1</field><field xfdf:original=\"A5\">2</field><field xfdf:original=\"A6\">3</field><field xfdf:original=\"A7\">5</field><field xfdf:original=\"A8\">1</field><field xfdf:original=\"A9\">5</field><field xfdf:original=\"B1\">1</field><field xfdf:original=\"B2\">2</field><field xfdf:original=\"B3\">3</field><field xfdf:original=\"B4\">4</field><field xfdf:original=\"B5\">5</field><field xfdf:original=\"B6\">6</field><field xfdf:original=\"B7\">7</field><field xfdf:original=\"B8\">8</field><field xfdf:original=\"B9\">9</field><field xfdf:original=\"C0\">3</field><field xfdf:original=\"C1\">9</field><field xfdf:original=\"C2\">6</field><field xfdf:original=\"C3\">5</field><field xfdf:original=\"C4\">1</field><field xfdf:original=\"C5\">2</field><field xfdf:original=\"C6\">3</field><field xfdf:original=\"C7\">5</field><field xfdf:original=\"C8\">1</field><field xfdf:original=\"C9\">5</field><field xfdf:original=\"D1\">1</field><field xfdf:original=\"D2\">2</field><field xfdf:original=\"D3\">3</field><field xfdf:original=\"D4\">4</field><field xfdf:original=\"D5\">5</field><field xfdf:original=\"D6\">6</field><field xfdf:original=\"D7\">7</field><field xfdf:original=\"D8\">8</field><field xfdf:original=\"D9\">9</field><field xfdf:original=\"E0\">3</field><field xfdf:original=\"E1\">9</field><field xfdf:original=\"E2\">6</field><field xfdf:original=\"E3\">5</field><field xfdf:original=\"E4\">1</field><field xfdf:original=\"E5\">2</field><field xfdf:original=\"E6\">3</field><field xfdf:original=\"E7\">5</field><field xfdf:original=\"E8\">1</field><field xfdf:original=\"E9\">5</field><field xfdf:original=\"F1\">1</field><field xfdf:original=\"F2\">2</field><field xfdf:original=\"F3\">3</field><field xfdf:original=\"F4\">4</field><field xfdf:original=\"F5\">5</field><field xfdf:original=\"F6\">6</field><field xfdf:original=\"F7\">7</field><field xfdf:original=\"F8\">8</field><field xfdf:original=\"F9\">9</field><field xfdf:original=\"G0\">3</field><field xfdf:original=\"G1\">9</field><field xfdf:original=\"G2\">6</field><field xfdf:original=\"G3\">5</field><field xfdf:original=\"G4\">1</field><field xfdf:original=\"G5\">2</field><field xfdf:original=\"G6\">3</field><field xfdf:original=\"G7\">5</field><field xfdf:original=\"G8\">1</field><field xfdf:original=\"G9\">5</field><field xfdf:original=\"H1\">1</field><field xfdf:original=\"H2\">2</field><field xfdf:original=\"H3\">3</field><field xfdf:original=\"H4\">4</field><field xfdf:original=\"H5\">5</field><field xfdf:original=\"H6\">6</field><field xfdf:original=\"H7\">7</field><field xfdf:original=\"H8\">8</field><field xfdf:original=\"H9\">9</field><field xfdf:original=\"I0\">3</field><field xfdf:original=\"I1\">9</field><field xfdf:original=\"I2\">6</field><field xfdf:original=\"I3\">5</field><field xfdf:original=\"I4\">1</field><field xfdf:original=\"I5\">2</field><field xfdf:original=\"I6\">3</field><field xfdf:original=\"I7\">5</field><field xfdf:original=\"I8\">1</field><field xfdf:original=\"I9\">5</field><field xfdf:original=\"J1\">1</field><field xfdf:original=\"J2\">2</field><field xfdf:original=\"J3\">3</field><field xfdf:original=\"J4\">4</field><field xfdf:original=\"J5\">5</field><field xfdf:original=\"J6\">6</field><field xfdf:original=\"J7\">7</field><field xfdf:original=\"J8\">8</field><field xfdf:original=\"J9\">9</field><field xfdf:original=\"K0\">3</field><field xfdf:original=\"K1\">9</field><field xfdf:original=\"K2\">6</field><field xfdf:original=\"K3\">5</field><field xfdf:original=\"K4\">1</field><field xfdf:original=\"K5\">2</field><field xfdf:original=\"K6\">3</field><field xfdf:original=\"K7\">5</field><field xfdf:original=\"K8\">1</field><field xfdf:original=\"K9\">5</field><field xfdf:original=\"M1\">1</field><field xfdf:original=\"M2\">2</field><field xfdf:original=\"M3\">3</field><field xfdf:original=\"M4\">4</field><field xfdf:original=\"M5\">5</field><field xfdf:original=\"M6\">6</field><field xfdf:original=\"M7\">7</field><field xfdf:original=\"M8\">8</field><field xfdf:original=\"M9\">9</field><field xfdf:original=\"N0\">3</field><field xfdf:original=\"N1\">9</field><field xfdf:original=\"N2\">6</field><field xfdf:original=\"N3\">5</field><field xfdf:original=\"N4\">1</field><field xfdf:original=\"N5\">2</field><field xfdf:original=\"N6\">3</field><field xfdf:original=\"N7\">5</field><field xfdf:original=\"N8\">1</field><field xfdf:original=\"N9\">5</field><field xfdf:original=\"P1\">1</field><field xfdf:original=\"P2\">2</field><field xfdf:original=\"P3\">3</field><field xfdf:original=\"P4\">4</field><field xfdf:original=\"P5\">5</field><field xfdf:original=\"P6\">6</field><field xfdf:original=\"P7\">7</field><field xfdf:original=\"P8\">8</field><field xfdf:original=\"P9\">9</field><field xfdf:original=\"Q0\">3</field><field xfdf:original=\"Q1\">9</field><field xfdf:original=\"Q2\">6</field><field xfdf:original=\"Q3\">5</field><field xfdf:original=\"Q4\">1</field><field xfdf:original=\"Q5\">2</field><field xfdf:original=\"Q6\">3</field><field xfdf:original=\"Q7\">5</field><field xfdf:original=\"Q8\">1</field><field xfdf:original=\"Q9\">5</field><field xfdf:original=\"R1\">1</field><field xfdf:original=\"R2\">2</field><field xfdf:original=\"R3\">3</field><field xfdf:original=\"R4\">4</field><field xfdf:original=\"R5\">5</field><field xfdf:original=\"R6\">6</field><field xfdf:original=\"R7\">7</field><field xfdf:original=\"R8\">8</field><field xfdf:original=\"R9\">9</field><field xfdf:original=\"S0\">3</field><field xfdf:original=\"S1\">9</field><field xfdf:original=\"S2\">6</field><field xfdf:original=\"S3\">5</field><field xfdf:original=\"S4\">1</field><field xfdf:original=\"S5\">2</field><field xfdf:original=\"S6\">3</field><field xfdf:original=\"S7\">5</field><field xfdf:original=\"S8\">1</field><field xfdf:original=\"S9\">5</field><field xfdf:original=\"T1\">1</field><field xfdf:original=\"T2\">2</field><field xfdf:original=\"T3\">3</field><field xfdf:original=\"T4\">4</field><field xfdf:original=\"T5\">5</field><field xfdf:original=\"T6\">6</field><field xfdf:original=\"T7\">7</field><field xfdf:original=\"T8\">8</field><field xfdf:original=\"T9\">9</field><field xfdf:original=\"U0\">3</field><field xfdf:original=\"U1\">9</field><field xfdf:original=\"U2\">6</field><field xfdf:original=\"U3\">5</field><field xfdf:original=\"U4\">1</field><field xfdf:original=\"U5\">2</field><field xfdf:original=\"U6\">3</field><field xfdf:original=\"U7\">5</field><field xfdf:original=\"U8\">1</field><field xfdf:original=\"U9\">5</field><field xfdf:original=\"V1\">1</field><field xfdf:original=\"V2\">2</field><field xfdf:original=\"V3\">3</field><field xfdf:original=\"V4\">4</field><field xfdf:original=\"V5\">5</field><field xfdf:original=\"V6\">6</field><field xfdf:original=\"V7\">7</field><field xfdf:original=\"V8\">8</field><field xfdf:original=\"V9\">9</field><field xfdf:original=\"W0\">3</field><field xfdf:original=\"W1\">9</field><field xfdf:original=\"W2\">6</field><field xfdf:original=\"W3\">5</field><field xfdf:original=\"W4\">1</field><field xfdf:original=\"W5\">2</field><field xfdf:original=\"W6\">3</field><field xfdf:original=\"W7\">5</field><field xfdf:original=\"W8\">1</field><field xfdf:original=\"W9\">5</field><field xfdf:original=\"Y0\">3</field><field xfdf:original=\"Y00\">3</field><field xfdf:original=\"Y01\">3</field><field xfdf:original=\"Y1\">9</field><field xfdf:original=\"Y10\">9</field><field xfdf:original=\"Y11\">9</field><field xfdf:original=\"Y2\">6</field><field xfdf:original=\"Y20\">6</field><field xfdf:original=\"Y21\">6</field><field xfdf:original=\"Y3\">5</field><field xfdf:original=\"Y30\">5</field><field xfdf:original=\"Y31\">5</field><field xfdf:original=\"Y4\">1</field><field xfdf:original=\"Y40\">1</field><field xfdf:original=\"Y41\">1</field><field xfdf:original=\"Y5\">2</field><field xfdf:original=\"Y50\">2</field><field xfdf:original=\"Y51\">2</field><field xfdf:original=\"Y6\">3</field><field xfdf:original=\"Y60\">3</field><field xfdf:original=\"Y61\">3</field><field xfdf:original=\"Y7\">5</field><field xfdf:original=\"Y70\">5</field><field xfdf:original=\"Y71\">5</field><field xfdf:original=\"Y8\">1</field><field xfdf:original=\"Y80\">1</field><field xfdf:original=\"Y81\">1</field><field xfdf:original=\"Y9\">5</field><field xfdf:original=\"Y90\">5</field><field xfdf:original=\"Y91\">5</field><field xfdf:original=\"Z1\">1</field><field xfdf:original=\"Z10\">1</field><field xfdf:original=\"Z11\">1</field><field xfdf:original=\"Z2\">2</field><field xfdf:original=\"Z20\">2</field><field xfdf:original=\"Z21\">2</field><field xfdf:original=\"Z3\">3</field><field xfdf:original=\"Z30\">3</field><field xfdf:original=\"Z31\">3</field><field xfdf:original=\"Z4\">4</field><field xfdf:original=\"Z40\">4</field><field xfdf:original=\"Z41\">4</field><field xfdf:original=\"Z5\">5</field><field xfdf:original=\"Z50\">5</field><field xfdf:original=\"Z51\">5</field><field xfdf:original=\"Z6\">6</field><field xfdf:original=\"Z60\">6</field><field xfdf:original=\"Z61\">6</field><field xfdf:original=\"Z7\">7</field><field xfdf:original=\"Z70\">7</field><field xfdf:original=\"Z71\">7</field><field xfdf:original=\"Z8\">8</field><field xfdf:original=\"Z80\">8</field><field xfdf:original=\"Z81\">8</field><field xfdf:original=\"Z9\">9</field><field xfdf:original=\"Z90\">9</field><field xfdf:original=\"Z91\">9</field><field xfdf:original=\"a\">On</field><field xfdf:original=\"b\">Off</field><field xfdf:original=\"c\">Off</field><field xfdf:original=\"d\">On</field><field xfdf:original=\"e\">Off</field><field xfdf:original=\"f\">Off</field></fields>"}]
[]
[{"$f":"B7","v":"<?xml version=\"1.0\" encoding=\"UTF-8\"?><fields xmlns:xfdf=\"http://ns.adobe.com/xfdf-transition/\"><field xfdf:original=\"0\">18567423</field><field xfdf:original=\"1\">Bc. Jan Novák</field><field xfdf:original=\"10\">123456789</field><field xfdf:original=\"100\">D123</field><field xfdf:original=\"101\">0</field><field xfdf:original=\"102\">123456789</field><field xfdf:original=\"103\">EMAIL@email.abc</field><field xfdf:original=\"104\">Revoluční 123, 100 00 Praha</field><field xfdf:original=\"105\">Bc. Jan Novák</field><field xfdf:original=\"106\">Faktura 123, 100 00 Praha</field><field xfdf:original=\"107\">Bc. Jan Novák</field><field xfdf:original=\"108\">D123</field><field xfdf:original=\"109\">0</field><field xfdf:original=\"11\">EMAIL@email.abc</field><field xfdf:original=\"110\">123456789</field><field xfdf:original=\"111\">EMAIL@email.abc</field><field xfdf:original=\"12\">D123</field><field xfdf:original=\"15\">Revoluční 123, 100 00 Praha</field><field xfdf:original=\"16\">Bc. Jan Novák</field><field xfdf:original=\"17\">Faktura 123, 100 00 Praha</field><field xfdf:original=\"18\">Bc. Jan Novák</field><field xfdf:original=\"19\">D123</field><field xfdf:original=\"2\">Ždatel 123, 100 00 Praha</field><field xfdf:original=\"20\">20</field><field xfdf:original=\"21\">123456789</field><field xfdf:original=\"22\">EMAIL@email.abc</field><field xfdf:original=\"23\">Revoluční 123, 100 00 Praha</field><field xfdf:original=\"24\">Bc. Jan Novák</field><field xfdf:original=\"25\">Faktura 123, 100 00 Praha</field><field xfdf:original=\"26\">Bc. Jan Novák</field><field xfdf:original=\"27\">D123</field><field xfdf:original=\"28\">20</field><field xfdf:original=\"29\">123456789</field><field xfdf:original=\"3\">Bc. Jan Novák</field><field xfdf:original=\"30\">EMAIL@email.abc</field><field xfdf:original=\"31\">Revoluční 123, 100 00 Praha</field><field xfdf:original=\"32\">Bc. Jan Novák</field><field xfdf:original=\"33\">Faktura 123, 100 00 Praha</field><field xfdf:original=\"34\">Bc. Jan Novák</field><field xfdf:original=\"35\">D123</field><field xfdf:original=\"36\">20</field><field xfdf:original=\"37\">123456789</field><field xfdf:original=\"38\">EMAIL@email.abc</field><field xfdf:original=\"4\">123456789</field><field xfdf:original=\"40\">Revoluční 123, 100 00 Praha</field><field xfdf:original=\"41\">Bc. Jan Novák</field><field xfdf:original=\"42\">Faktura 123, 100 00 Praha</field><field xfdf:original=\"43\">Bc. Jan Novák</field><field xfdf:original=\"44\">D123</field><field xfdf:original=\"45\">20</field><field xfdf:original=\"46\">123456789</field><field xfdf:original=\"47\">EMAIL@email.abc</field><field xfdf:original=\"48\">Revoluční 123, 100 00 Praha</field><field xfdf:original=\"49\">Bc. Jan Novák</field><field xfdf:original=\"5\">EMAIL@email.abc</field><field xfdf:original=\"50\">Faktura 123, 100 00 Praha</field><field xfdf:original=\"51\">Bc. Jan Novák</field><field xfdf:original=\"52\">D123</field><field xfdf:original=\"53\">20</field><field xfdf:original=\"54\">123456789</field><field xfdf:original=\"55\">EMAIL@email.abc</field><field xfdf:original=\"56\">Revoluční 123, 100 00 Praha</field><field xfdf:original=\"57\">Bc. Jan Novák</field><field xfdf:original=\"58\">Faktura 123, 100 00 Praha</field><field xfdf:original=\"59\">Bc. Jan Novák</field><field xfdf:original=\"6\">Revoluční 123, 100 00 Praha</field><field xfdf:original=\"60\">D123</field><field xfdf:original=\"61\">0</field><field xfdf:original=\"62\">123456789</field><field xfdf:original=\"63\">EMAIL@email.abc</field><field xfdf:original=\"64\">Revoluční 123, 100 00 Praha</field><field xfdf:original=\"65\">Bc. Jan Novák</field><field xfdf:original=\"66\">Faktura 123, 100 00 Praha</field><field xfdf:original=\"67\">Bc. Jan Novák</field><field xfdf:original=\"68\">D123</field><field xfdf:original=\"69\">0</field><field xfdf:original=\"7\">Bc. Jan Novák</field><field xfdf:original=\"70\">123456789</field><field xfdf:original=\"71\">EMAIL@email.abc</field><field xfdf:original=\"72\">Revoluční 123, 100 00 Praha</field><field xfdf:original=\"73\">Bc. Jan Novák</field><field xfdf:original=\"74\">Faktura 123, 100 00 Praha</field><field xfdf:original=\"75\">Bc. Jan Novák</field><field xfdf:original=\"76\">D123</field><field xfdf:original=\"77\">0</field><field xfdf:original=\"78\">123456789</field><field xfdf:original=\"79\">EMAIL@email.abc</field><field xfdf:original=\"8\">Faktura 123, 100 00 Praha</field><field xfdf:original=\"80\">Revoluční 123, 100 00 Praha</field><field xfdf:original=\"81\">Bc. Jan Novák</field><field xfdf:original=\"82\">Faktura 123, 100 00 Praha</field><field xfdf:original=\"83\">Bc. Jan Novák</field><field xfdf:original=\"84\">D123</field><field xfdf:original=\"85\">0</field><field xfdf:original=\"86\">123456789</field><field xfdf:original=\"87\">EMAIL@email.abc</field><field xfdf:original=\"88\">Revoluční 123, 100 00 Praha</field><field xfdf:original=\"89\">Bc. Jan Novák</field><field xfdf:original=\"9\">Bc. Jan Novák</field><field xfdf:original=\"90\">Faktura 123, 100 00 Praha</field><field xfdf:original=\"91\">Bc. Jan Novák</field><field xfdf:original=\"92\">D123</field><field xfdf:original=\"93\">0</field><field xfdf:original=\"94\">123456789</field><field xfdf:original=\"95\">EMAIL@email.abc</field><field xfdf:original=\"96\">Revoluční 123, 100 00 Praha</field><field xfdf:original=\"97\">Bc. Jan Novák</field><field xfdf:original=\"98\">Faktura 123, 100 00 Praha</field><field xfdf:original=\"99\">Bc. Jan Novák</field><field xfdf:original=\"A0\">3</field><field xfdf:original=\"A1\">9</field><field xfdf:original=\"A2\">6</field><field xfdf:original=\"A3\">5</field><field xfdf:original=\"A4\">1</field><field xfdf:original=\"A5\">2</field><field xfdf:original=\"A6\">3</field><field xfdf:original=\"A7\">5</field><field xfdf:original=\"A8\">1</field><field xfdf:original=\"A9\">5</field><field xfdf:original=\"B1\">1</field><field xfdf:original=\"B2\">2</field><field xfdf:original=\"B3\">3</field><field xfdf:original=\"B4\">4</field><field xfdf:original=\"B5\">5</field><field xfdf:original=\"B6\">6</field><field xfdf:original=\"B7\">7</field><field xfdf:original=\"B8\">8</field><field xfdf:original=\"B9\">9</field><field xfdf:original=\"C0\">3</field><field xfdf:original=\"C1\">9</field><field xfdf:original=\"C2\">6</field><field xfdf:original=\"C3\">5</field><field xfdf:original=\"C4\">1</field><field xfdf:original=\"C5\">2</field><field xfdf:original=\"C6\">3</field><field xfdf:original=\"C7\">5</field><field xfdf:original=\"C8\">1</field><field xfdf:original=\"C9\">5</field><field xfdf:original=\"D1\">1</field><field xfdf:original=\"D2\">2</field><field xfdf:original=\"D3\">3</field><field xfdf:original=\"D4\">4</field><field xfdf:original=\"D5\">5</field><field xfdf:original=\"D6\">6</field><field xfdf:original=\"D7\">7</field><field xfdf:original=\"D8\">8</field><field xfdf:original=\"D9\">9</field><field xfdf:original=\"E0\">3</field><field xfdf:original=\"E1\">9</field><field xfdf:original=\"E2\">6</field><field xfdf:original=\"E3\">5</field><field xfdf:original=\"E4\">1</field><field xfdf:original=\"E5\">2</field><field xfdf:original=\"E6\">3</field><field xfdf:original=\"E7\">5</field><field xfdf:original=\"E8\">1</field><field xfdf:original=\"E9\">5</field><field xfdf:original=\"F1\">1</field><field xfdf:original=\"F2\">2</field><field xfdf:original=\"F3\">3</field><field xfdf:original=\"F4\">4</field><field xfdf:original=\"F5\">5</field><field xfdf:original=\"F6\">6</field><field xfdf:original=\"F7\">7</field><field xfdf:original=\"F8\">8</field><field xfdf:original=\"F9\">9</field><field xfdf:original=\"G0\">3</field><field xfdf:original=\"G1\">9</field><field xfdf:original=\"G2\">6</field><field xfdf:original=\"G3\">5</field><field xfdf:original=\"G4\">1</field><field xfdf:original=\"G5\">2</field><field xfdf:original=\"G6\">3</field><field xfdf:original=\"G7\">5</field><field xfdf:original=\"G8\">1</field><field xfdf:original=\"G9\">5</field><field xfdf:original=\"H1\">1</field><field xfdf:original=\"H2\">2</field><field xfdf:original=\"H3\">3</field><field xfdf:original=\"H4\">4</field><field xfdf:original=\"H5\">5</field><field xfdf:original=\"H6\">6</field><field xfdf:original=\"H7\">7</field><field xfdf:original=\"H8\">8</field><field xfdf:original=\"H9\">9</field><field xfdf:original=\"I0\">3</field><field xfdf:original=\"I1\">9</field><field xfdf:original=\"I2\">6</field><field xfdf:original=\"I3\">5</field><field xfdf:original=\"I4\">1</field><field xfdf:original=\"I5\">2</field><field xfdf:original=\"I6\">3</field><field xfdf:original=\"I7\">5</field><field xfdf:original=\"I8\">1</field><field xfdf:original=\"I9\">5</field><field xfdf:original=\"J1\">1</field><field xfdf:original=\"J2\">2</field><field xfdf:original=\"J3\">3</field><field xfdf:original=\"J4\">4</field><field xfdf:original=\"J5\">5</field><field xfdf:original=\"J6\">6</field><field xfdf:original=\"J7\">7</field><field xfdf:original=\"J8\">8</field><field xfdf:original=\"J9\">9</field><field xfdf:original=\"K0\">3</field><field xfdf:original=\"K1\">9</field><field xfdf:original=\"K2\">6</field><field xfdf:original=\"K3\">5</field><field xfdf:original=\"K4\">1</field><field xfdf:original=\"K5\">2</field><field xfdf:original=\"K6\">3</field><field xfdf:original=\"K7\">5</field><field xfdf:original=\"K8\">1</field><field xfdf:original=\"K9\">5</field><field xfdf:original=\"M1\">1</field><field xfdf:original=\"M2\">2</field><field xfdf:original=\"M3\">3</field><field xfdf:original=\"M4\">4</field><field xfdf:original=\"M5\">5</field><field xfdf:original=\"M6\">6</field><field xfdf:original=\"M7\">7</field><field xfdf:original=\"M8\">8</field><field xfdf:original=\"M9\">9</field><field xfdf:original=\"N0\">3</field><field xfdf:original=\"N1\">9</field><field xfdf:original=\"N2\">6</field><field xfdf:original=\"N3\">5</field><field xfdf:original=\"N4\">1</field><field xfdf:original=\"N5\">2</field><field xfdf:original=\"N6\">3</field><field xfdf:original=\"N7\">5</field><field xfdf:original=\"N8\">1</field><field xfdf:original=\"N9\">5</field><field xfdf:original=\"P1\">1</field><field xfdf:original=\"P2\">2</field><field xfdf:original=\"P3\">3</field><field xfdf:original=\"P4\">4</field><field xfdf:original=\"P5\">5</field><field xfdf:original=\"P6\">6</field><field xfdf:original=\"P7\">7</field><field xfdf:original=\"P8\">8</field><field xfdf:original=\"P9\">9</field><field xfdf:original=\"Q0\">3</field><field xfdf:original=\"Q1\">9</field><field xfdf:original=\"Q2\">6</field><field xfdf:original=\"Q3\">5</field><field xfdf:original=\"Q4\">1</field><field xfdf:original=\"Q5\">2</field><field xfdf:original=\"Q6\">3</field><field xfdf:original=\"Q7\">5</field><field xfdf:original=\"Q8\">1</field><field xfdf:original=\"Q9\">5</field><field xfdf:original=\"R1\">1</field><field xfdf:original=\"R2\">2</field><field xfdf:original=\"R3\">3</field><field xfdf:original=\"R4\">4</field><field xfdf:original=\"R5\">5</field><field xfdf:original=\"R6\">6</field><field xfdf:original=\"R7\">7</field><field xfdf:original=\"R8\">8</field><field xfdf:original=\"R9\">9</field><field xfdf:original=\"S0\">3</field><field xfdf:original=\"S1\">9</field><field xfdf:original=\"S2\">6</field><field xfdf:original=\"S3\">5</field><field xfdf:original=\"S4\">1</field><field xfdf:original=\"S5\">2</field><field xfdf:original=\"S6\">3</field><field xfdf:original=\"S7\">5</field><field xfdf:original=\"S8\">1</field><field xfdf:original=\"S9\">5</field><field xfdf:original=\"T1\">1</field><field xfdf:original=\"T2\">2</field><field xfdf:original=\"T3\">3</field><field xfdf:original=\"T4\">4</field><field xfdf:original=\"T5\">5</field><field xfdf:original=\"T6\">6</field><field xfdf:original=\"T7\">7</field><field xfdf:original=\"T8\">8</field><field xfdf:original=\"T9\">9</field><field xfdf:original=\"U0\">3</field><field xfdf:original=\"U1\">9</field><field xfdf:original=\"U2\">6</field><field xfdf:original=\"U3\">5</field><field xfdf:original=\"U4\">1</field><field xfdf:original=\"U5\">2</field><field xfdf:original=\"U6\">3</field><field xfdf:original=\"U7\">5</field><field xfdf:original=\"U8\">1</field><field xfdf:original=\"U9\">5</field><field xfdf:original=\"V1\">1</field><field xfdf:original=\"V2\">2</field><field xfdf:original=\"V3\">3</field><field xfdf:original=\"V4\">4</field><field xfdf:original=\"V5\">5</field><field xfdf:original=\"V6\">6</field><field xfdf:original=\"V7\">7</field><field xfdf:original=\"V8\">8</field><field xfdf:original=\"V9\">9</field><field xfdf:original=\"W0\">3</field><field xfdf:original=\"W1\">9</field><field xfdf:original=\"W2\">6</field><field xfdf:original=\"W3\">5</field><field xfdf:original=\"W4\">1</field><field xfdf:original=\"W5\">2</field><field xfdf:original=\"W6\">3</field><field xfdf:original=\"W7\">5</field><field xfdf:original=\"W8\">1</field><field xfdf:original=\"W9\">5</field><field xfdf:original=\"Y0\">3</field><field xfdf:original=\"Y00\">3</field><field xfdf:original=\"Y01\">3</field><field xfdf:original=\"Y1\">9</field><field xfdf:original=\"Y10\">9</field><field xfdf:original=\"Y11\">9</field><field xfdf:original=\"Y2\">6</field><field xfdf:original=\"Y20\">6</field><field xfdf:original=\"Y21\">6</field><field xfdf:original=\"Y3\">5</field><field xfdf:original=\"Y30\">5</field><field xfdf:original=\"Y31\">5</field><field xfdf:original=\"Y4\">1</field><field xfdf:original=\"Y40\">1</field><field xfdf:original=\"Y41\">1</field><field xfdf:original=\"Y5\">2</field><field xfdf:original=\"Y50\">2</field><field xfdf:original=\"Y51\">2</field><field xfdf:original=\"Y6\">3</field><field xfdf:original=\"Y60\">3</field><field xfdf:original=\"Y61\">3</field><field xfdf:original=\"Y7\">5</field><field xfdf:original=\"Y70\">5</field><field xfdf:original=\"Y71\">5</field><field xfdf:original=\"Y8\">1</field><field xfdf:original=\"Y80\">1</field><field xfdf:original=\"Y81\">1</field><field xfdf:original=\"Y9\">5</field><field xfdf:original=\"Y90\">5</field><field xfdf:original=\"Y91\">5</field><field xfdf:original=\"Z1\">1</field><field xfdf:original=\"Z10\">1</field><field xfdf:original=\"Z11\">1</field><field xfdf:original=\"Z2\">2</field><field xfdf:original=\"Z20\">2</field><field xfdf:original=\"Z21\">2</field><field xfdf:original=\"Z3\">3</field><field xfdf:original=\"Z30\">3</field><field xfdf:original=\"Z31\">3</field><field xfdf:original=\"Z4\">4</field><field xfdf:original=\"Z40\">4</field><field xfdf:original=\"Z41\">4</field><field xfdf:original=\"Z5\">5</field><field xfdf:original=\"Z50\">5</field><field xfdf:original=\"Z51\">5</field><field xfdf:original=\"Z6\">6</field><field xfdf:original=\"Z60\">6</field><field xfdf:original=\"Z61\">6</field><field xfdf:original=\"Z7\">7</field><field xfdf:original=\"Z70\">7</field><field xfdf:original=\"Z71\">7</field><field xfdf:original=\"Z8\">8</field><field xfdf:original=\"Z80\">8</field><field xfdf:original=\"Z81\">8</field><field xfdf:original=\"Z9\">9</field><field xfdf:original=\"Z90\">9</field><field xfdf:original=\"Z91\">9</field><field xfdf:original=\"a\">On</field><field xfdf:original=\"b\">Off</field><field xfdf:original=\"c\">Off</field><field xfdf:original=\"d\">On</field><field xfdf:original=\"e\">Off</field><field xfdf:original=\"f\">Off</field></fields>"}," "]
[]
[null,null,"Pomocný list pro vytvoření XML souboru.                   Zde prosím nic nevyplňovat!"]

{"sheet":"Background_PRE","index":1,"n_rows":11,"n_cols":111,"rows_kept":11,"cut":false,"hidden":false,"merged":[[10,1,11,5]]}
["FieldName","3.0","3.1.0","3.1.1","3.1.2.0","3.1.2.1.0.0.0","3.1.2.1.0.0.1.0","3.1.2.1.0.0.1.1","3.1.2.1.0.1.0","3.1.2.1.0.1.1.0","3.1.2.1.0.1.1.1","Nový požadavek","adresa","jméno.0","jméno.1","l","loh","toggle_3","toggle_4","y1.0.0.0","y1.0.0.1.0","y1.0.0.1.1.0.0","y1.0.0.1.1.0.1.0.0.0","y1.0.0.1.1.0.1.0.0.1","y1.0.0.1.1.0.1.0.0.2.0","y1.0.0.1.1.0.1.0.0.2.1.0.0.0","y1.0.0.1.1.0.1.0.0.2.1.0.0.1.0","y1.0.0.1.1.0.1.0.0.2.1.0.0.1.1","y1.0.0.1.1.0.1.0.0.2.1.0.1.0","y1.0.0.1.1.0.1.0.0.2.1.0.1.1.0","y1.0.0.1.1.0.1.0.0.2.1.0.1.1.1","y1.0.0.1.1.0.1.0.1.0.0","y1.0.0.1.1.0.1.0.1.0.1","y1.0.0.1.1.0.1.0.1.0.2.0","y1.0.0.1.1.0.1.0.1.0.2.1.0.0.0","y1.0.0.1.1.0.1.0.1.0.2.1.0.0.1.0","y1.0.0.1.1.0.1.0.1.0.2.1.0.0.1.1","y1.0.0.1.1.0.1.0.1.0.2.1.0.1.0","y1.0.0.1.1.0.1.0.1.0.2.1.0.1.1.0","y1.0.0.1.1.0.1.0.1.0.2.1.0.1.1.1","y1.0.0.1.1.0.1.0.1.1.0.0","y1.0.0.1.1.0.1.0.1.1.0.1","y1.0.0.1.1.0.1.0.1.1.0.2.0","y1.0.0.1.1.0.1.0.1.1.0.2.1.0.0.0","y1.0.0.1.1.0.1.0.1.1.0.2.1.0.0.1.0","y1.0.0.1.1.0.1.0.1.1.0.2.1.0.0.1.1","y1.0.0.1.1.0.1.0.1.1.0.2.1.0.1.0","y1.0.0.1.1.0.1.0.1.1.0.2.1.0.1.1.0","y1.0.0.1.1.0.1.0.1.1.0.2.1.0.1.1.1","y1.0.0.1.1.0.1.0.1.1.1.0.0","y1.0.0.1.1.0.1.0.1.1.1.0.1","y1.0.0.1.1.0.1.0.1.1.1.0.2.0","y1.0.0.1.1.0.1.0.1.1.1.0.2.1.0.0.0","y1.0.0.1.1.0.1.0.1.1.1.0.2.1.0.0.1.0","y1.0.0.1.1.0.1.0.1.1.1.0.2.1.0.0.1.1","y1.0.0.1.1.0.1.0.1.1.1.0.2.1.0.1.0","y1.0.0.1.1.0.1.0.1.1.1.0.2.1.0.1.1.0","y1.0.0.1.1.0.1.0.1.1.1.0.2.1.0.1.1.1","y1.0.0.1.1.0.1.0.1.1.1.1.0","y1.0.0.1.1.0.1.0.1.1.1.1.1","y1.0.0.1.1.0.1.0.1.1.1.1.2.0","y1.0.0.1.1.0.1.0.1.1.1.1.2.1.0.0.0","y1.0.0.1.1.0.1.0.1.1.1.1.2.1.0.0.1.0","y1.0.0.1.1.0.1.0.1.1.1.1.2.1.0.0.1.1","y1.0.0.1.1.0.1.0.1.1.1.1.2.1.0.1.0","y1.0.0.1.1.0.1.0.1.1.1.1.2.1.0.1.1.0","y1.0.0.1.1.0.1.0.1.1.1.1.2.1.0.1.1.1","y1.0.0.1.1.0.1.0.1.1.1.2.0","y1.0.0.1.1.0.1.0.1.1.1.2.1","y1.0.0.1.1.0.1.0.1.1.1.2.2.0","y1.0.0.1.1.0.1.0.1.1.1.2.2.1.0.0.0","y1.0.0.1.1.0.1.0.1.1.1.2.2.1.0.0.1.0","y1.0.0.1.1.0.1.0.1.1.1.2.2.1.0.0.1.1","y1.0.0.1.1.0.1.0.1.1.1.2.2.1.0.1.0","y1.0.0.1.1.0.1.0.1.1.1.2.2.1.0.1.1.0","y1.0.0.1.1.0.1.0.1.1.1.2.2.1.0.1.1.1","y1.0.0.1.1.0.1.0.1.1.1.3.0","y1.0.0.1.1.0.1.0.1.1.1.3.1","y1.0.0.1.1.0.1.0.1.1.1.3.2.0","y1.0.0.1.1.0.1.0.1.1.1.3.2.1.0.0.0","y1.0.0.1.1.0.1.0.1.1.1.3.2.1.0.0.1.0","y1.0.0.1.1.0.1.0.1.1.1.3.2.1.0.0.1.1","y1.0.0.1.1.0.1.0.1.1.1.3.2.1.0.1.0","y1.0.0.1.1.0.1.0.1.1.1.3.2.1.0.1.1.0","y1.0.0.1.1.0.1.0.1.1.1.3.2.1.0.1.1.1","y1.0.0.1.1.0.1.1.0.0.0","y1.0.0.1.1.0.1.1.0.0.1","y1.0.0.1.1.0.1.1.0.0.2.0","y1.0.0.1.1.0.1.1.0.0.2.1.0.0.0","y1.0.0.1.1.0.1.1.0.0.2.1.0.0.1.0","y1.0.0.1.1.0.1.1.0.0.2.1.0.0.1.1","y1.0.0.1.1.0.1.1.0.0.2.1.0.1.0","y1.0.0.1.1.0.1.1.0.0.2.1.0.1.1.0","y1.0.0.1.1.0.1.1.0.0.2.1.0.1.1.1","y1.0.0.1.1.0.1.1.0.1.0","y1.0.0.1.1.0.1.1.0.1.1","y1.0.0.1.1.0.1.1.0.1.2.0","y1.0.0.1.1.0.1.1.0.1.2.1.0.0.0","y1.0.0.1.1.0.1.1.0.1.2.1.0.0.1.0","y1.0.0.1.1.0.1.1.0.1.2.1.0.0.1.1","y1.0.0.1.1.0.1.1.0.1.2.1.0.1.0","y1.0.0.1.1.0.1.1.0.1.2.1.0.1.1.0","y1.0.0.1.1.0.1.1.0.1.2.1.0.1.1.1","y1.0.1.0","y1.0.1.1","y1.1","í.0.0","í.0.1","í.1.0.0","í.1.0.1","í.1.1"]
["Value",0,1,2,3,4,5,6,7,8,9,"On",10,11,12,13,14,"Off","Off",15,16,17,18,19,20,21,22,23,24,25,26,27,28,29,30,31,32,33,34,35,36,37,38,39,40,41,42,43,44,45,46,47,48,49,50,51,52,53,54,55,56,57,58,59,60,61,62,63,64,65,66,67,68,69,70,71,72,73,74,75,76,77,78,79,80,81,82,83,84,85,86,87,88,89,90,91,92,93,94,95,96,97,98,99,100,101,102,103,104,105,106]
["XML tags",{"$f":"_xlfn.TEXTJOIN(,TRUE,\"<field xfdf:original=\"\"\",B1,\"\"\">\",B2,\"</field>\")","v":"<field xfdf:original=\"3.0\">0</field>"},{"$f":"_xlfn.TEXTJOIN(,TRUE,\"<field xfdf:original=\"\"\",C1,\"\"\">\",C2,\"</field>\")","v":"<field xfdf:original=\"3.1.0\">1</field>"},"<field xfdf:original=\"3.1.1\">2</field>","<field xfdf:original=\"3.1.2.0\">3</field>","<field xfdf:original=\"3.1.2.1.0.0.0\">4</field>","<field xfdf:original=\"3.1.2.1.0.0.1.0\">5</field>","<field xfdf:original=\"3.1.2.1.0.0.1.1\">6</field>","<field xfdf:original=\"3.1.2.1.0.1.0\">7</field>","<field xfdf:original=\"3.1.2.1.0.1.1.0\">8</field>","<field xfdf:original=\"3.1.2.1.0.1.1.1\">9</field>","<field xfdf:original=\"Nový požadavek\">On</field>","<field xfdf:original=\"adresa\">10</field>","<field xfdf:original=\"jméno.0\">11</field>","<field xfdf:original=\"jméno.1\">12</field>","<field xfdf:original=\"l\">13</field>","<field xfdf:original=\"loh\">14</field>","<field xfdf:original=\"toggle_3\">Off</field>","<field xfdf:original=\"toggle_4\">Off</field>","<field xfdf:original=\"y1.0.0.0\">15</field>","<field xfdf:original=\"y1.0.0.1.0\">16</field>","<field xfdf:original=\"y1.0.0.1.1.0.0\">17</field>","<field xfdf:original=\"y1.0.0.1.1.0.1.0.0.0\">18</field>","<field xfdf:original=\"y1.0.0.1.1.0.1.0.0.1\">19</field>","<field xfdf:original=\"y1.0.0.1.1.0.1.0.0.2.0\">20</field>","<field xfdf:original=\"y1.0.0.1.1.0.1.0.0.2.1.0.0.0\">21</field>","<field xfdf:original=\"y1.0.0.1.1.0.1.0.0.2.1.0.0.1.0\">22</field>","<field xfdf:original=\"y1.0.0.1.1.0.1.0.0.2.1.0.0.1.1\">23</field>","<field xfdf:original=\"y1.0.0.1.1.0.1.0.0.2.1.0.1.0\">24</field>","<field xfdf:original=\"y1.0.0.1.1.0.1.0.0.2.1.0.1.1.0\">25</field>","<field xfdf:original=\"y1.0.0.1.1.0.1.0.0.2.1.0.1.1.1\">26</field>","<field xfdf:original=\"y1.0.0.1.1.0.1.0.1.0.0\">27</field>","<field xfdf:original=\"y1.0.0.1.1.0.1.0.1.0.1\">28</field>","<field xfdf:original=\"y1.0.0.1.1.0.1.0.1.0.2.0\">29</field>","<field xfdf:original=\"y1.0.0.1.1.0.1.0.1.0.2.1.0.0.0\">30</field>","<field xfdf:original=\"y1.0.0.1.1.0.1.0.1.0.2.1.0.0.1.0\">31</field>","<field xfdf:original=\"y1.0.0.1.1.0.1.0.1.0.2.1.0.0.1.1\">32</field>","<field xfdf:original=\"y1.0.0.1.1.0.1.0.1.0.2.1.0.1.0\">33</field>","<field xfdf:original=\"y1.0.0.1.1.0.1.0.1.0.2.1.0.1.1.0\">34</field>","<field xfdf:original=\"y1.0.0.1.1.0.1.0.1.0.2.1.0.1.1.1\">35</field>","<field xfdf:original=\"y1.0.0.1.1.0.1.0.1.1.0.0\">36</field>","<field xfdf:original=\"y1.0.0.1.1.0.1.0.1.1.0.1\">37</field>","<field xfdf:original=\"y1.0.0.1.1.0.1.0.1.1.0.2.0\">38</field>","<field xfdf:original=\"y1.0.0.1.1.0.1.0.1.1.0.2.1.0.0.0\">39</field>","<field xfdf:original=\"y1.0.0.1.1.0.1.0.1.1.0.2.1.0.0.1.0\">40</field>","<field xfdf:original=\"y1.0.0.1.1.0.1.0.1.1.0.2.1.0.0.1.1\">41</field>","<field xfdf:original=\"y1.0.0.1.1.0.1.0.1.1.0.2.1.0.1.0\">42</field>","<field xfdf:original=\"y1.0.0.1.1.0.1.0.1.1.0.2.1.0.1.1.0\">43</field>","<field xfdf:original=\"y1.0.0.1.1.0.1.0.1.1.0.2.1.0.1.1.1\">44</field>","<field xfdf:original=\"y1.0.0.1.1.0.1.0.1.1.1.0.0\">45</field>","<field xfdf:original=\"y1.0.0.1.1.0.1.0.1.1.1.0.1\">46</field>","<field xfdf:original=\"y1.0.0.1.1.0.1.0.1.1.1.0.2.0\">47</field>","<field xfdf:original=\"y1.0.0.1.1.0.1.0.1.1.1.0.2.1.0.0.0\">48</field>","<field xfdf:original=\"y1.0.0.1.1.0.1.0.1.1.1.0.2.1.0.0.1.0\">49</field>","<field xfdf:original=\"y1.0.0.1.1.0.1.0.1.1.1.0.2.1.0.0.1.1\">50</field>","<field xfdf:original=\"y1.0.0.1.1.0.1.0.1.1.1.0.2.1.0.1.0\">51</field>","<field xfdf:original=\"y1.0.0.1.1.0.1.0.1.1.1.0.2.1.0.1.1.0\">52</field>","<field xfdf:original=\"y1.0.0.1.1.0.1.0.1.1.1.0.2.1.0.1.1.1\">53</field>","<field xfdf:original=\"y1.0.0.1.1.0.1.0.1.1.1.1.0\">54</field>","<field xfdf:original=\"y1.0.0.1.1.0.1.0.1.1.1.1.1\">55</field>","<field xfdf:original=\"y1.0.0.1.1.0.1.0.1.1.1.1.2.0\">56</field>","<field xfdf:original=\"y1.0.0.1.1.0.1.0.1.1.1.1.2.1.0.0.0\">57</field>","<field xfdf:original=\"y1.0.0.1.1.0.1.0.1.1.1.1.2.1.0.0.1.0\">58</field>","<field xfdf:original=\"y1.0.0.1.1.0.1.0.1.1.1.1.2.1.0.0.1.1\">59</field>","<field xfdf:original=\"y1.0.0.1.1.0.1.0.1.1.1.1.2.1.0.1.0\">60</field>","<field xfdf:original=\"y1.0.0.1.1.0.1.0.1.1.1.1.2.1.0.1.1.0\">61</field>",{"$f":"_xlfn.TEXTJOIN(,TRUE,\"<field xfdf:original=\"\"\",BO1,\"\"\">\",BO2,\"</field>\")","v":"<field xfdf:original=\"y1.0.0.1.1.0.1.0.1.1.1.1.2.1.0.1.1.1\">62</field>"},"<field xfdf:original=\"y1.0.0.1.1.0.1.0.1.1.1.2.0\">63</field>","<field xfdf:original=\"y1.0.0.1.1.0.1.0.1.1.1.2.1\">64</field>","<field xfdf:original=\"y1.0.0.1.1.0.1.0.1.1.1.2.2.0\">65</field>","<field xfdf:original=\"y1.0.0.1.1.0.1.0.1.1.1.2.2.1.0.0.0\">66</field>","<field xfdf:original=\"y1.0.0.1.1.0.1.0.1.1.1.2.2.1.0.0.1.0\">67</field>","<field xfdf:original=\"y1.0.0.1.1.0.1.0.1.1.1.2.2.1.0.0.1.1\">68</field>","<field xfdf:original=\"y1.0.0.1.1.0.1.0.1.1.1.2.2.1.0.1.0\">69</field>","<field xfdf:original=\"y1.0.0.1.1.0.1.0.1.1.1.2.2.1.0.1.1.0\">70</field>","<field xfdf:original=\"y1.0.0.1.1.0.1.0.1.1.1.2.2.1.0.1.1.1\">71</field>","<field xfdf:original=\"y1.0.0.1.1.0.1.0.1.1.1.3.0\">72</field>","<field xfdf:original=\"y1.0.0.1.1.0.1.0.1.1.1.3.1\">73</field>","<field xfdf:original=\"y1.0.0.1.1.0.1.0.1.1.1.3.2.0\">74</field>","<field xfdf:original=\"y1.0.0.1.1.0.1.0.1.1.1.3.2.1.0.0.0\">75</field>","<field xfdf:original=\"y1.0.0.1.1.0.1.0.1.1.1.3.2.1.0.0.1.0\">76</field>","<field xfdf:original=\"y1.0.0.1.1.0.1.0.1.1.1.3.2.1.0.0.1.1\">77</field>","<field xfdf:original=\"y1.0.0.1.1.0.1.0.1.1.1.3.2.1.0.1.0\">78</field>","<field xfdf:original=\"y1.0.0.1.1.0.1.0.1.1.1.3.2.1.0.1.1.0\">79</field>","<field xfdf:original=\"y1.0.0.1.1.0.1.0.1.1.1.3.2.1.0.1.1.1\">80</field>","<field xfdf:original=\"y1.0.0.1.1.0.1.1.0.0.0\">81</field>","<field xfdf:original=\"y1.0.0.1.1.0.1.1.0.0.1\">82</field>","<field xfdf:original=\"y1.0.0.1.1.0.1.1.0.0.2.0\">83</field>","<field xfdf:original=\"y1.0.0.1.1.0.1.1.0.0.2.1.0.0.0\">84</field>","<field xfdf:original=\"y1.0.0.1.1.0.1.1.0.0.2.1.0.0.1.0\">85</field>","<field xfdf:original=\"y1.0.0.1.1.0.1.1.0.0.2.1.0.0.1.1\">86</field>","<field xfdf:original=\"y1.0.0.1.1.0.1.1.0.0.2.1.0.1.0\">87</field>","<field xfdf:original=\"y1.0.0.1.1.0.1.1.0.0.2.1.0.1.1.0\">88</field>","<field xfdf:original=\"y1.0.0.1.1.0.1.1.0.0.2.1.0.1.1.1\">89</field>","<field xfdf:original=\"y1.0.0.1.1.0.1.1.0.1.0\">90</field>","<field xfdf:original=\"y1.0.0.1.1.0.1.1.0.1.1\">91</field>","<field xfdf:original=\"y1.0.0.1.1.0.1.1.0.1.2.0\">92</field>","<field xfdf:original=\"y1.0.0.1.1.0.1.1.0.1.2.1.0.0.0\">93</field>","<field xfdf:original=\"y1.0.0.1.1.0.1.1.0.1.2.1.0.0.1.0\">94</field>","<field xfdf:original=\"y1.0.0.1.1.0.1.1.0.1.2.1.0.0.1.1\">95</field>","<field xfdf:original=\"y1.0.0.1.1.0.1.1.0.1.2.1.0.1.0\">96</field>","<field xfdf:original=\"y1.0.0.1.1.0.1.1.0.1.2.1.0.1.1.0\">97</field>","<field xfdf:original=\"y1.0.0.1.1.0.1.1.0.1.2.1.0.1.1.1\">98</field>","<field xfdf:original=\"y1.0.1.0\">99</field>","<field xfdf:original=\"y1.0.1.1\">100</field>","<field xfdf:original=\"y1.1\">101</field>","<field xfdf:original=\"í.0.0\">102</field>","<field xfdf:original=\"í.0.1\">103</field>","<field xfdf:original=\"í.1.0.0\">104</field>","<field xfdf:original=\"í.1.0.1\">105</field>","<field xfdf:original=\"í.1.1\">106</field>"]
[]
["FinalXML",{"$f":"_xlfn.CONCAT(\"<?xml version=\"\"1.0\"\" encoding=\"\"UTF-8\"\"?><fields xmlns:xfdf=\"\"http://ns.adobe.com/xfdf-transition/\"\">\",CONCATENATE(B3:DG3),\"</fields>\")","v":"<?xml version=\"1.0\" encoding=\"UTF-8\"?><fields xmlns:xfdf=\"http://ns.adobe.com/xfdf-transition/\"><field xfdf:original=\"3.0\">0</field><field xfdf:original=\"3.1.0\">1</field><field xfdf:original=\"3.1.1\">2</field><field xfdf:original=\"3.1.2.0\">3</field><field xfdf:original=\"3.1.2.1.0.0.0\">4</field><field xfdf:original=\"3.1.2.1.0.0.1.0\">5</field><field xfdf:original=\"3.1.2.1.0.0.1.1\">6</field><field xfdf:original=\"3.1.2.1.0.1.0\">7</field><field xfdf:original=\"3.1.2.1.0.1.1.0\">8</field><field xfdf:original=\"3.1.2.1.0.1.1.1\">9</field><field xfdf:original=\"Nový požadavek\">On</field><field xfdf:original=\"adresa\">10</field><field xfdf:original=\"jméno.0\">11</field><field xfdf:original=\"jméno.1\">12</field><field xfdf:original=\"l\">13</field><field xfdf:original=\"loh\">14</field><field xfdf:original=\"toggle_3\">Off</field><field xfdf:original=\"toggle_4\">Off</field><field xfdf:original=\"y1.0.0.0\">15</field><field xfdf:original=\"y1.0.0.1.0\">16</field><field xfdf:original=\"y1.0.0.1.1.0.0\">17</field><field xfdf:original=\"y1.0.0.1.1.0.1.0.0.0\">18</field><field xfdf:original=\"y1.0.0.1.1.0.1.0.0.1\">19</field><field xfdf:original=\"y1.0.0.1.1.0.1.0.0.2.0\">20</field><field xfdf:original=\"y1.0.0.1.1.0.1.0.0.2.1.0.0.0\">21</field><field xfdf:original=\"y1.0.0.1.1.0.1.0.0.2.1.0.0.1.0\">22</field><field xfdf:original=\"y1.0.0.1.1.0.1.0.0.2.1.0.0.1.1\">23</field><field xfdf:original=\"y1.0.0.1.1.0.1.0.0.2.1.0.1.0\">24</field><field xfdf:original=\"y1.0.0.1.1.0.1.0.0.2.1.0.1.1.0\">25</field><field xfdf:original=\"y1.0.0.1.1.0.1.0.0.2.1.0.1.1.1\">26</field><field xfdf:original=\"y1.0.0.1.1.0.1.0.1.0.0\">27</field><field xfdf:original=\"y1.0.0.1.1.0.1.0.1.0.1\">28</field><field xfdf:original=\"y1.0.0.1.1.0.1.0.1.0.2.0\">29</field><field xfdf:original=\"y1.0.0.1.1.0.1.0.1.0.2.1.0.0.0\">30</field><field xfdf:original=\"y1.0.0.1.1.0.1.0.1.0.2.1.0.0.1.0\">31</field><field xfdf:original=\"y1.0.0.1.1.0.1.0.1.0.2.1.0.0.1.1\">32</field><field xfdf:original=\"y1.0.0.1.1.0.1.0.1.0.2.1.0.1.0\">33</field><field xfdf:original=\"y1.0.0.1.1.0.1.0.1.0.2.1.0.1.1.0\">34</field><field xfdf:original=\"y1.0.0.1.1.0.1.0.1.0.2.1.0.1.1.1\">35</field><field xfdf:original=\"y1.0.0.1.1.0.1.0.1.1.0.0\">36</field><field xfdf:original=\"y1.0.0.1.1.0.1.0.1.1.0.1\">37</field><field xfdf:original=\"y1.0.0.1.1.0.1.0.1.1.0.2.0\">38</field><field xfdf:original=\"y1.0.0.1.1.0.1.0.1.1.0.2.1.0.0.0\">39</field><field xfdf:original=\"y1.0.0.1.1.0.1.0.1.1.0.2.1.0.0.1.0\">40</field><field xfdf:original=\"y1.0.0.1.1.0.1.0.1.1.0.2.1.0.0.1.1\">41</field><field xfdf:original=\"y1.0.0.1.1.0.1.0.1.1.0.2.1.0.1.0\">42</field><field xfdf:original=\"y1.0.0.1.1.0.1.0.1.1.0.2.1.0.1.1.0\">43</field><field xfdf:original=\"y1.0.0.1.1.0.1.0.1.1.0.2.1.0.1.1.1\">44</field><field xfdf:original=\"y1.0.0.1.1.0.1.0.1.1.1.0.0\">45</field><field xfdf:original=\"y1.0.0.1.1.0.1.0.1.1.1.0.1\">46</field><field xfdf:original=\"y1.0.0.1.1.0.1.0.1.1.1.0.2.0\">47</field><field xfdf:original=\"y1.0.0.1.1.0.1.0.1.1.1.0.2.1.0.0.0\">48</field><field xfdf:original=\"y1.0.0.1.1.0.1.0.1.1.1.0.2.1.0.0.1.0\">49</field><field xfdf:original=\"y1.0.0.1.1.0.1.0.1.1.1.0.2.1.0.0.1.1\">50</field><field xfdf:original=\"y1.0.0.1.1.0.1.0.1.1.1.0.2.1.0.1.0\">51</field><field xfdf:original=\"y1.0.0.1.1.0.1.0.1.1.1.0.2.1.0.1.1.0\">52</field><field xfdf:original=\"y1.0.0.1.1.0.1.0.1.1.1.0.2.1.0.1.1.1\">53</field><field xfdf:original=\"y1.0.0.1.1.0.1.0.1.1.1.1.0\">54</field><field xfdf:original=\"y1.0.0.1.1.0.1.0.1.1.1.1.1\">55</field><field xfdf:original=\"y1.0.0.1.1.0.1.0.1.1.1.1.2.0\">56</field><field xfdf:original=\"y1.0.0.1.1.0.1.0.1.1.1.1.2.1.0.0.0\">57</field><field xfdf:original=\"y1.0.0.1.1.0.1.0.1.1.1.1.2.1.0.0.1.0\">58</field><field xfdf:original=\"y1.0.0.1.1.0.1.0.1.1.1.1.2.1.0.0.1.1\">59</field><field xfdf:original=\"y1.0.0.1.1.0.1.0.1.1.1.1.2.1.0.1.0\">60</field><field xfdf:original=\"y1.0.0.1.1.0.1.0.1.1.1.1.2.1.0.1.1.0\">61</field><field xfdf:original=\"y1.0.0.1.1.0.1.0.1.1.1.1.2.1.0.1.1.1\">62</field><field xfdf:original=\"y1.0.0.1.1.0.1.0.1.1.1.2.0\">63</field><field xfdf:original=\"y1.0.0.1.1.0.1.0.1.1.1.2.1\">64</field><field xfdf:original=\"y1.0.0.1.1.0.1.0.1.1.1.2.2.0\">65</field><field xfdf:original=\"y1.0.0.1.1.0.1.0.1.1.1.2.2.1.0.0.0\">66</field><field xfdf:original=\"y1.0.0.1.1.0.1.0.1.1.1.2.2.1.0.0.1.0\">67</field><field xfdf:original=\"y1.0.0.1.1.0.1.0.1.1.1.2.2.1.0.0.1.1\">68</field><field xfdf:original=\"y1.0.0.1.1.0.1.0.1.1.1.2.2.1.0.1.0\">69</field><field xfdf:original=\"y1.0.0.1.1.0.1.0.1.1.1.2.2.1.0.1.1.0\">70</field><field xfdf:original=\"y1.0.0.1.1.0.1.0.1.1.1.2.2.1.0.1.1.1\">71</field><field xfdf:original=\"y1.0.0.1.1.0.1.0.1.1.1.3.0\">72</field><field xfdf:original=\"y1.0.0.1.1.0.1.0.1.1.1.3.1\">73</field><field xfdf:original=\"y1.0.0.1.1.0.1.0.1.1.1.3.2.0\">74</field><field xfdf:original=\"y1.0.0.1.1.0.1.0.1.1.1.3.2.1.0.0.0\">75</field><field xfdf:original=\"y1.0.0.1.1.0.1.0.1.1.1.3.2.1.0.0.1.0\">76</field><field xfdf:original=\"y1.0.0.1.1.0.1.0.1.1.1.3.2.1.0.0.1.1\">77</field><field xfdf:original=\"y1.0.0.1.1.0.1.0.1.1.1.3.2.1.0.1.0\">78</field><field xfdf:original=\"y1.0.0.1.1.0.1.0.1.1.1.3.2.1.0.1.1.0\">79</field><field xfdf:original=\"y1.0.0.1.1.0.1.0.1.1.1.3.2.1.0.1.1.1\">80</field><field xfdf:original=\"y1.0.0.1.1.0.1.1.0.0.0\">81</field><field xfdf:original=\"y1.0.0.1.1.0.1.1.0.0.1\">82</field><field xfdf:original=\"y1.0.0.1.1.0.1.1.0.0.2.0\">83</field><field xfdf:original=\"y1.0.0.1.1.0.1.1.0.0.2.1.0.0.0\">84</field><field xfdf:original=\"y1.0.0.1.1.0.1.1.0.0.2.1.0.0.1.0\">85</field><field xfdf:original=\"y1.0.0.1.1.0.1.1.0.0.2.1.0.0.1.1\">86</field><field xfdf:original=\"y1.0.0.1.1.0.1.1.0.0.2.1.0.1.0\">87</field><field xfdf:original=\"y1.0.0.1.1.0.1.1.0.0.2.1.0.1.1.0\">88</field><field xfdf:original=\"y1.0.0.1.1.0.1.1.0.0.2.1.0.1.1.1\">89</field><field xfdf:original=\"y1.0.0.1.1.0.1.1.0.1.0\">90</field><field xfdf:original=\"y1.0.0.1.1.0.1.1.0.1.1\">91</field><field xfdf:original=\"y1.0.0.1.1.0.1.1.0.1.2.0\">92</field><field xfdf:original=\"y1.0.0.1.1.0.1.1.0.1.2.1.0.0.0\">93</field><field xfdf:original=\"y1.0.0.1.1.0.1.1.0.1.2.1.0.0.1.0\">94</field><field xfdf:original=\"y1.0.0.1.1.0.1.1.0.1.2.1.0.0.1.1\">95</field><field xfdf:original=\"y1.0.0.1.1.0.1.1.0.1.2.1.0.1.0\">96</field><field xfdf:original=\"y1.0.0.1.1.0.1.1.0.1.2.1.0.1.1.0\">97</field><field xfdf:original=\"y1.0.0.1.1.0.1.1.0.1.2.1.0.1.1.1\">98</field><field xfdf:original=\"y1.0.1.0\">99</field><field xfdf:original=\"y1.0.1.1\">100</field><field xfdf:original=\"y1.1\">101</field><field xfdf:original=\"í.0.0\">102</field><field xfdf:original=\"í.0.1\">103</field><field xfdf:original=\"í.1.0.0\">104</field><field xfdf:original=\"í.1.0.1\">105</field><field xfdf:original=\"í.1.1\">106</field></fields>"}]
[]
["STRING",{"$f":"B5","v":"<?xml version=\"1.0\" encoding=\"UTF-8\"?><fields xmlns:xfdf=\"http://ns.adobe.com/xfdf-transition/\"><field xfdf:original=\"3.0\">0</field><field xfdf:original=\"3.1.0\">1</field><field xfdf:original=\"3.1.1\">2</field><field xfdf:original=\"3.1.2.0\">3</field><field xfdf:original=\"3.1.2.1.0.0.0\">4</field><field xfdf:original=\"3.1.2.1.0.0.1.0\">5</field><field xfdf:original=\"3.1.2.1.0.0.1.1\">6</field><field xfdf:original=\"3.1.2.1.0.1.0\">7</field><field xfdf:original=\"3.1.2.1.0.1.1.0\">8</field><field xfdf:original=\"3.1.2.1.0.1.1.1\">9</field><field xfdf:original=\"Nový požadavek\">On</field><field xfdf:original=\"adresa\">10</field><field xfdf:original=\"jméno.0\">11</field><field xfdf:original=\"jméno.1\">12</field><field xfdf:original=\"l\">13</field><field xfdf:original=\"loh\">14</field><field xfdf:original=\"toggle_3\">Off</field><field xfdf:original=\"toggle_4\">Off</field><field xfdf:original=\"y1.0.0.0\">15</field><field xfdf:original=\"y1.0.0.1.0\">16</field><field xfdf:original=\"y1.0.0.1.1.0.0\">17</field><field xfdf:original=\"y1.0.0.1.1.0.1.0.0.0\">18</field><field xfdf:original=\"y1.0.0.1.1.0.1.0.0.1\">19</field><field xfdf:original=\"y1.0.0.1.1.0.1.0.0.2.0\">20</field><field xfdf:original=\"y1.0.0.1.1.0.1.0.0.2.1.0.0.0\">21</field><field xfdf:original=\"y1.0.0.1.1.0.1.0.0.2.1.0.0.1.0\">22</field><field xfdf:original=\"y1.0.0.1.1.0.1.0.0.2.1.0.0.1.1\">23</field><field xfdf:original=\"y1.0.0.1.1.0.1.0.0.2.1.0.1.0\">24</field><field xfdf:original=\"y1.0.0.1.1.0.1.0.0.2.1.0.1.1.0\">25</field><field xfdf:original=\"y1.0.0.1.1.0.1.0.0.2.1.0.1.1.1\">26</field><field xfdf:original=\"y1.0.0.1.1.0.1.0.1.0.0\">27</field><field xfdf:original=\"y1.0.0.1.1.0.1.0.1.0.1\">28</field><field xfdf:original=\"y1.0.0.1.1.0.1.0.1.0.2.0\">29</field><field xfdf:original=\"y1.0.0.1.1.0.1.0.1.0.2.1.0.0.0\">30</field><field xfdf:original=\"y1.0.0.1.1.0.1.0.1.0.2.1.0.0.1.0\">31</field><field xfdf:original=\"y1.0.0.1.1.0.1.0.1.0.2.1.0.0.1.1\">32</field><field xfdf:original=\"y1.0.0.1.1.0.1.0.1.0.2.1.0.1.0\">33</field><field xfdf:original=\"y1.0.0.1.1.0.1.0.1.0.2.1.0.1.1.0\">34</field><field xfdf:original=\"y1.0.0.1.1.0.1.0.1.0.2.1.0.1.1.1\">35</field><field xfdf:original=\"y1.0.0.1.1.0.1.0.1.1.0.0\">36</field><field xfdf:original=\"y1.0.0.1.1.0.1.0.1.1.0.1\">37</field><field xfdf:original=\"y1.0.0.1.1.0.1.0.1.1.0.2.0\">38</field><field xfdf:original=\"y1.0.0.1.1.0.1.0.1.1.0.2.1.0.0.0\">39</field><field xfdf:original=\"y1.0.0.1.1.0.1.0.1.1.0.2.1.0.0.1.0\">40</field><field xfdf:original=\"y1.0.0.1.1.0.1.0.1.1.0.2.1.0.0.1.1\">41</field><field xfdf:original=\"y1.0.0.1.1.0.1.0.1.1.0.2.1.0.1.0\">42</field><field xfdf:original=\"y1.0.0.1.1.0.1.0.1.1.0.2.1.0.1.1.0\">43</field><field xfdf:original=\"y1.0.0.1.1.0.1.0.1.1.0.2.1.0.1.1.1\">44</field><field xfdf:original=\"y1.0.0.1.1.0.1.0.1.1.1.0.0\">45</field><field xfdf:original=\"y1.0.0.1.1.0.1.0.1.1.1.0.1\">46</field><field xfdf:original=\"y1.0.0.1.1.0.1.0.1.1.1.0.2.0\">47</field><field xfdf:original=\"y1.0.0.1.1.0.1.0.1.1.1.0.2.1.0.0.0\">48</field><field xfdf:original=\"y1.0.0.1.1.0.1.0.1.1.1.0.2.1.0.0.1.0\">49</field><field xfdf:original=\"y1.0.0.1.1.0.1.0.1.1.1.0.2.1.0.0.1.1\">50</field><field xfdf:original=\"y1.0.0.1.1.0.1.0.1.1.1.0.2.1.0.1.0\">51</field><field xfdf:original=\"y1.0.0.1.1.0.1.0.1.1.1.0.2.1.0.1.1.0\">52</field><field xfdf:original=\"y1.0.0.1.1.0.1.0.1.1.1.0.2.1.0.1.1.1\">53</field><field xfdf:original=\"y1.0.0.1.1.0.1.0.1.1.1.1.0\">54</field><field xfdf:original=\"y1.0.0.1.1.0.1.0.1.1.1.1.1\">55</field><field xfdf:original=\"y1.0.0.1.1.0.1.0.1.1.1.1.2.0\">56</field><field xfdf:original=\"y1.0.0.1.1.0.1.0.1.1.1.1.2.1.0.0.0\">57</field><field xfdf:original=\"y1.0.0.1.1.0.1.0.1.1.1.1.2.1.0.0.1.0\">58</field><field xfdf:original=\"y1.0.0.1.1.0.1.0.1.1.1.1.2.1.0.0.1.1\">59</field><field xfdf:original=\"y1.0.0.1.1.0.1.0.1.1.1.1.2.1.0.1.0\">60</field><field xfdf:original=\"y1.0.0.1.1.0.1.0.1.1.1.1.2.1.0.1.1.0\">61</field><field xfdf:original=\"y1.0.0.1.1.0.1.0.1.1.1.1.2.1.0.1.1.1\">62</field><field xfdf:original=\"y1.0.0.1.1.0.1.0.1.1.1.2.0\">63</field><field xfdf:original=\"y1.0.0.1.1.0.1.0.1.1.1.2.1\">64</field><field xfdf:original=\"y1.0.0.1.1.0.1.0.1.1.1.2.2.0\">65</field><field xfdf:original=\"y1.0.0.1.1.0.1.0.1.1.1.2.2.1.0.0.0\">66</field><field xfdf:original=\"y1.0.0.1.1.0.1.0.1.1.1.2.2.1.0.0.1.0\">67</field><field xfdf:original=\"y1.0.0.1.1.0.1.0.1.1.1.2.2.1.0.0.1.1\">68</field><field xfdf:original=\"y1.0.0.1.1.0.1.0.1.1.1.2.2.1.0.1.0\">69</field><field xfdf:original=\"y1.0.0.1.1.0.1.0.1.1.1.2.2.1.0.1.1.0\">70</field><field xfdf:original=\"y1.0.0.1.1.0.1.0.1.1.1.2.2.1.0.1.1.1\">71</field><field xfdf:original=\"y1.0.0.1.1.0.1.0.1.1.1.3.0\">72</field><field xfdf:original=\"y1.0.0.1.1.0.1.0.1.1.1.3.1\">73</field><field xfdf:original=\"y1.0.0.1.1.0.1.0.1.1.1.3.2.0\">74</field><field xfdf:original=\"y1.0.0.1.1.0.1.0.1.1.1.3.2.1.0.0.0\">75</field><field xfdf:original=\"y1.0.0.1.1.0.1.0.1.1.1.3.2.1.0.0.1.0\">76</field><field xfdf:original=\"y1.0.0.1.1.0.1.0.1.1.1.3.2.1.0.0.1.1\">77</field><field xfdf:original=\"y1.0.0.1.1.0.1.0.1.1.1.3.2.1.0.1.0\">78</field><field xfdf:original=\"y1.0.0.1.1.0.1.0.1.1.1.3.2.1.0.1.1.0\">79</field><field xfdf:original=\"y1.0.0.1.1.0.1.0.1.1.1.3.2.1.0.1.1.1\">80</field><field xfdf:original=\"y1.0.0.1.1.0.1.1.0.0.0\">81</field><field xfdf:original=\"y1.0.0.1.1.0.1.1.0.0.1\">82</field><field xfdf:original=\"y1.0.0.1.1.0.1.1.0.0.2.0\">83</field><field xfdf:original=\"y1.0.0.1.1.0.1.1.0.0.2.1.0.0.0\">84</field><field xfdf:original=\"y1.0.0.1.1.0.1.1.0.0.2.1.0.0.1.0\">85</field><field xfdf:original=\"y1.0.0.1.1.0.1.1.0.0.2.1.0.0.1.1\">86</field><field xfdf:original=\"y1.0.0.1.1.0.1.1.0.0.2.1.0.1.0\">87</field><field xfdf:original=\"y1.0.0.1.1.0.1.1.0.0.2.1.0.1.1.0\">88</field><field xfdf:original=\"y1.0.0.1.1.0.1.1.0.0.2.1.0.1.1.1\">89</field><field xfdf:original=\"y1.0.0.1.1.0.1.1.0.1.0\">90</field><field xfdf:original=\"y1.0.0.1.1.0.1.1.0.1.1\">91</field><field xfdf:original=\"y1.0.0.1.1.0.1.1.0.1.2.0\">92</field><field xfdf:original=\"y1.0.0.1.1.0.1.1.0.1.2.1.0.0.0\">93</field><field xfdf:original=\"y1.0.0.1.1.0.1.1.0.1.2.1.0.0.1.0\">94</field><field xfdf:original=\"y1.0.0.1.1.0.1.1.0.1.2.1.0.0.1.1\">95</field><field xfdf:original=\"y1.0.0.1.1.0.1.1.0.1.2.1.0.1.0\">96</field><field xfdf:original=\"y1.0.0.1.1.0.1.1.0.1.2.1.0.1.1.0\">97</field><field xfdf:original=\"y1.0.0.1.1.0.1.1.0.1.2.1.0.1.1.1\">98</field><field xfdf:original=\"y1.0.1.0\">99</field><field xfdf:original=\"y1.0.1.1\">100</field><field xfdf:original=\"y1.1\">101</field><field xfdf:original=\"í.0.0\">102</field><field xfdf:original=\"í.0.1\">103</field><field xfdf:original=\"í.1.0.0\">104</field><field xfdf:original=\"í.1.0.1\">105</field><field xfdf:original=\"í.1.1\">106</field></fields>"}]
[]
[]
[]
[null,"Pomocný list pro vytvoření XML souboru.                  Zde prosím nic nevyplňovat!"]

{"sheet":"Formulář pro EGD","index":2,"n_rows":242,"n_cols":403,"rows_kept":242,"cut":false,"hidden":false,"merged":[[237,3,238,4],[237,5,238,5],[226,16,228,16],[226,10,228,10],[226,11,228,11],[226,12,228,12],[226,13,228,13],[226,14,228,14],[226,15,228,15],[226,3,228,4],[226,5,228,5],[226,6,228,7],[226,8,228,8],[226,9,228,9],[235,3,236,4],[235,5,236,5],[229,5,230,5],[229,6,230,7],[229,8,230,8],[229,9,230,9],[229,10,230,10],[229,11,230,11],[229,12,230,12],[229,13,230,13],[8,23,9,23],[4,2,5,5],[5,19,6,22],[16,3,17,4],[16,5,17,5],[6,2,23,2],[8,22,9,22],[226,2,242,2],[220,3,221,4],[220,5,221,5],[212,17,213,17],[214,3,215,4],[214,5,215,5],[239,3,240,4],[239,5,240,5],[241,3,242,4],[241,5,242,5],[229,14,230,14],[229,15,230,15],[229,16,230,16],[229,17,230,17],[231,3,232,4],[231,5,232,5],[229,3,230,4],[233,3,234,4],[233,5,234,5],[209,16,211,16],[212,3,213,4],[212,5,213,5],[212,6,213,7],[212,8,213,8],[212,9,213,9],[212,10,213,10],[212,11,213,11],[212,12,213,12],[212,13,213,13],[209,10,211,10],[209,11,211,11],[209,12,211,12],[209,13,211,13],[209,14,211,14],[209,15,211,15],[212,14,213,14],[212,15,213,15],[212,16,213,16],[209,2,225,2],[209,3,211,4],[209,5,211,5],[209,6,211,7],[209,8,211,8],[209,9,211,9],[216,3,217,4],[216,5,217,5],[218,3,219,4],[218,5,219,5],[222,3,223,4],[222,5,223,5],[224,3,225,4],[224,5,225,5],[195,17,196,17],[197,3,198,4],[197,5,198,5],[192,16,194,16],[195,3,196,4],[195,5,196,5],[195,6,196,7],[195,8,196,8],[195,9,196,9],[195,10,196,10],[195,11,196,11],[195,12,196,12],[195,13,196,13],[192,10,194,10],[192,11,194,11],[192,12,194,12],[192,13,194,13],[192,14,194,14],[192,15,194,15],[195,14,196,14],[195,15,196,15],[195,16,196,16],[192,2,208,2],[192,3,194,4],[192,5,194,5],[192,6,194,7],[192,8,194,8],[192,9,194,9],[199,3,200,4],[199,5,200,5],[201,3,202,4],[201,5,202,5],[203,3,204,4],[203,5,204,5],[205,3,206,4],[205,5,206,5],[207,3,208,4],[207,5,208,5],[178,17,179,17],[180,3,181,4],[180,5,181,5],[175,16,177,16],[178,3,179,4],[178,5,179,5],[178,6,179,7],[178,8,179,8],[178,9,179,9],[178,10,179,10],[178,11,179,11],[178,12,179,12],[178,13,179,13],[175,10,177,10],[175,11,177,11],[175,12,177,12],[175,13,177,13],[175,14,177,14],[175,15,177,15],[178,14,179,14],[178,15,179,15],[178,16,179,16],[175,2,191,2],[175,3,177,4],[175,5,177,5],[175,6,177,7],[175,8,177,8],[175,9,177,9],[182,3,183,4],[182,5,183,5],[184,3,185,4],[184,5,185,5],[186,3,187,4],[186,5,187,5],[188,3,189,4],[188,5,189,5],[190,3,191,4],[190,5,191,5],[161,17,162,17],[163,3,164,4],[163,5,164,5],[158,16,160,16],[161,3,162,4],[161,5,162,5],[161,6,162,7],[161,8,162,8],[161,9,162,9],[161,10,162,10],[161,11,162,11],[161,12,162,12],[161,13,162,13],[158,10,160,10],[158,11,160,11],[158,12,160,12],[158,13,160,13],[158,14,160,14],[158,15,160,15],[161,14,162,14],[161,15,162,15],[161,16,162,16],[158,2,174,2],[158,3,160,4],[158,5,160,5],[158,6,160,7],[158,8,160,8],[158,9,160,9],[165,3,166,4],[165,5,166,5],[167,3,168,4],[167,5,168,5],[169,3,170,4],[169,5,170,5],[171,3,172,4],[171,5,172,5],[173,3,174,4],[173,5,174,5],[144,17,145,17],[146,3,147,4],[146,5,147,5],[141,16,143,16],[144,3,145,4],[144,5,145,5],[144,6,145,7],[144,8,145,8],[144,9,145,9],[144,10,145,10],[144,11,145,11],[144,12,145,12],[144,13,145,13],[141,10,143,10],[141,11,143,11],[141,12,143,12],[141,13,143,13],[141,14,143,14],[141,15,143,15],[144,14,145,14],[144,15,145,15],[144,16,145,16],[141,2,157,2],[141,3,143,4],[141,5,143,5],[141,6,143,7],[141,8,143,8],[141,9,143,9],[148,3,149,4],[148,5,149,5],[150,3,151,4],[150,5,151,5],[152,3,153,4],[152,5,153,5],[154,3,155,4],[154,5,155,5],[156,3,157,4],[156,5,157,5],[127,17,128,17],[129,3,130,4],[129,5,130,5],[124,16,126,16],[127,3,128,4],[127,5,128,5],[127,6,128,7],[127,8,128,8],[127,9,128,9],[127,10,128,10],[127,11,128,11],[127,12,128,12],[127,13,128,13],[124,10,126,10],[124,11,126,11],[124,12,126,12],[124,13,126,13],[124,14,126,14],[124,15,126,15],[127,14,128,14],[127,15,128,15],[127,16,128,16],[124,2,140,2],[124,3,126,4],[124,5,126,5],[124,6,126,7],[124,8,126,8],[124,9,126,9],[131,3,132,4],[131,5,132,5],[133,3,134,4],[133,5,134,5],[135,3,136,4],[135,5,136,5],[137,3,138,4],[137,5,138,5],[139,3,140,4],[139,5,140,5],[110,17,111,17],[112,3,113,4],[112,5,113,5],[107,16,109,16],[110,3,111,4],[110,5,111,5],[110,6,111,7],[110,8,111,8],[110,9,111,9],[110,10,111,10],[110,11,111,11],[110,12,111,12],[110,13,111,13],[107,10,109,10],[107,11,109,11],[107,12,109,12],[107,13,109,13],[107,14,109,14],[107,15,109,15],[110,14,111,14],[110,15,111,15],[110,16,111,16],[107,2,123,2],[107,3,109,4],[107,5,109,5],[107,6,109,7],[107,8,109,8],[107,9,109,9],[114,3,115,4],[114,5,115,5],[116,3,117,4],[116,5,117,5],[118,3,119,4],[118,5,119,5],[120,3,121,4],[120,5,121,5],[122,3,123,4],[122,5,123,5],[93,17,94,17],[95,3,96,4],[95,5,96,5],[90,16,92,16],[93,3,94,4],[93,5,94,5],[93,6,94,7],[93,8,94,8],[93,9,94,9],[93,10,94,10],[93,11,94,11],[93,12,94,12],[93,13,94,13],[90,10,92,10],[90,11,92,11],[90,12,92,12],[90,13,92,13],[90,14,92,14],[90,15,92,15],[93,14,94,14],[93,15,94,15],[93,16,94,16],[90,2,106,2],[90,3,92,4],[90,5,92,5],[90,6,92,7],[90,8,92,8],[90,9,92,9],[97,3,98,4],[97,5,98,5],[99,3,100,4],[99,5,100,5],[101,3,102,4],[101,5,102,5],[103,3,104,4],[103,5,104,5],[105,3,106,4],[105,5,106,5],[76,17,77,17],[78,3,79,4],[78,5,79,5],[73,16,75,16],[76,3,77,4],[76,5,77,5],[76,6,77,7],[76,8,77,8],[76,9,77,9],[76,10,77,10],[76,11,77,11],[76,12,77,12],[76,13,77,13],[73,10,75,10],[73,11,75,11],[73,12,75,12],[73,13,75,13],[73,14,75,14],[73,15,75,15],[76,14,77,14],[76,15,77,15],[76,16,77,16],[73,2,89,2],[73,3,75,4],[73,5,75,5],[73,6,75,7],[73,8,75,8],[73,9,75,9],[80,3,81,4],[80,5,81,5],[82,3,83,4],[82,5,83,5],[84,3,85,4],[84,5,85,5],[86,3,87,4],[86,5,87,5],[88,3,89,4],[88,5,89,5],[59,17,60,17],[61,3,62,4],[61,5,62,5],[56,16,58,16],[59,3,60,4],[59,5,60,5],[59,6,60,7],[59,8,60,8],[59,9,60,9],[59,10,60,10],[59,11,60,11],[59,12,60,12],[59,13,60,13],[56,10,58,10],[56,11,58,11],[56,12,58,12],[56,13,58,13],[56,14,58,14],[56,15,58,15],[59,14,60,14],[59,15,60,15],[59,16,60,16],[56,2,72,2],[56,3,58,4],[56,5,58,5],[56,6,58,7],[56,8,58,8],[56,9,58,9],[63,3,64,4],[63,5,64,5],[65,3,66,4],[65,5,66,5],[67,3,68,4],[67,5,68,5],[69,3,70,4],[69,5,70,5],[71,3,72,4],[71,5,72,5],[50,3,51,4],[50,5,51,5],[52,3,53,4],[52,5,53,5],[54,3,55,4],[39,2,55,2],[54,5,55,5],[42,14,43,14],[42,15,43,15],[39,9,41,9],[46,3,47,4],[46,5,47,5],[48,3,49,4],[48,5,49,5],[42,16,43,16],[42,17,43,17],[44,3,45,4],[44,5,45,5],[39,16,41,16],[42,3,43,4],[42,5,43,5],[42,6,43,7],[42,8,43,8],[42,9,43,9],[42,10,43,10],[42,11,43,11],[42,12,43,12],[42,13,43,13],[39,10,41,10],[39,11,41,11],[39,12,41,12],[39,13,41,13],[39,14,41,14],[39,15,41,15],[39,3,41,4],[39,5,41,5],[39,6,41,7],[39,8,41,8],[35,3,36,4],[35,5,36,5],[37,3,38,4],[37,5,38,5],[24,2,38,2],[27,17,28,17],[29,3,30,4],[29,5,30,5],[31,3,32,4],[31,5,32,5],[33,3,34,4],[33,5,34,5],[27,11,28,11],[27,12,28,12],[27,13,28,13],[27,14,28,14],[27,15,28,15],[27,16,28,16],[24,15,26,15],[24,16,26,16],[24,5,26,5],[24,3,26,4],[27,3,28,4],[27,5,28,5],[27,6,28,7],[27,8,28,8],[27,9,28,9],[27,10,28,10],[24,9,26,9],[24,10,26,10],[24,11,26,11],[24,12,26,12],[24,13,26,13],[24,14,26,14],[24,6,26,7],[24,8,26,8],[18,3,23,5],[21,6,23,7],[19,8,20,8],[21,8,23,8],[12,3,13,4],[14,3,15,4],[12,5,13,5],[14,5,15,5],[18,6,18,7],[19,6,20,7],[8,17,9,17],[10,3,11,4],[10,5,11,5],[8,6,9,7],[8,8,9,8],[8,9,9,9],[8,10,9,10],[8,11,9,11],[8,12,9,12],[0,2,1,5],[6,3,7,4],[8,3,9,4],[6,5,7,5],[8,5,9,5],[8,13,9,13],[8,14,9,14],[8,15,9,15],[8,16,9,16]]}
[null,null,"Formulář pro žádost o založení sdílení elektřiny v BD pro EG.D",null,null,null,null,null,null,null,null,null,null,null,null,null,null,null,null,null,null,null,null,null,null,null,null,null,null,null,null,0,1,10,100,101,102,103,104,105,106,107,108,109,11,110,111,12,15,16,17,18,19,2,20,21,22,23,24,25,26,27,28,29,3,30,31,32,33,34,35,36,37,38,4,40,41,42,43,44,45,46,47,48,49,5,50,51,52,53,54,55,56,57,58,59,6,60,61,62,63,64,65,66,67,68,69,7,70,71,72,73,74,75,76,77,78,79,8,80,81,82,83,84,85,86,87,88,89,9,90,91,92,93,94,95,96,97,98,99,"A0","A1","A2","A3","A4","A5","A6","A7","A8","A9","B1","B2","B3","B4","B5","B6","B7","B8","B9","C0","C1","C2","C3","C4","C5","C6","C7","C8","C9","D1","D2","D3","D4","D5","D6","D7","D8","D9","E0","E1","E2","E3","E4","E5","E6","E7","E8","E9","F1","F2","F3","F4","F5","F6","F7","F8","F9","G0","G1","G2","G3","G4","G5","G6","G7","G8","G9","H1","H2","H3","H4","H5","H6","H7","H8","H9","I0","I1","I2","I3","I4","I5","I6","I7","I8","I9","J1","J2","J3","J4","J5","J6","J7","J8","J9","K0","K1","K2","K3","K4","K5","K6","K7","K8","K9","M1","M2","M3","M4","M5","M6","M7","M8","M9","N0","N1","N2","N3","N4","N5","N6","N7","N8","N9","P1","P2","P3","P4","P5","P6","P7","P8","P9","Q0","Q1","Q2","Q3","Q4","Q5","Q6","Q7","Q8","Q9","R1","R2","R3","R4","R5","R6","R7","R8","R9","S0","S1","S2","S3","S4","S5","S6","S7","S8","S9","T1","T2","T3","T4","T5","T6","T7","T8","T9","U0","U1","U2","U3","U4","U5","U6","U7","U8","U9","V1","V2","V3","V4","V5","V6","V7","V8","V9","W0","W1","W2","W3","W4","W5","W6","W7","W8","W9","Y0","Y00","Y01","Y1","Y10","Y11","Y2","Y20","Y21","Y3","Y30","Y31","Y4","Y40","Y41","Y5","Y50","Y51","Y6","Y60","Y61","Y7","Y70","Y71","Y8","Y80","Y81","Y9","Y90","Y91","Z1","Z10","Z11","Z2","Z20","Z21","Z3","Z30","Z31","Z4","Z40","Z41","Z5","Z50","Z51","Z6","Z60","Z61","Z7","Z70","Z71","Z8","Z80","Z81","Z9","Z90","Z91","a","b","c","d","e","f"]
[null,null,null,null,null,null,null,null,null,null,null,null,null,null,null,null,null,null,null,null,null,null,null,null,null,null,null,null,null,null,null,{"$f":"F7","v":18567423},{"$f":"F9","v":"Bc. Jan Novák"},{"$f":"F36","v":123456789},{"$f":"F223","v":"D123"},{"$f":"F225","v":0},{"$f":"F221","v":123456789},{"$f":"F219","v":"EMAIL@email.abc"},{"$f":"F227","v":"Revoluční 123, 100 00 Praha"},{"$f":"F230","v":"Bc. Jan Novák"},{"$f":"F232","v":"Faktura 123, 100 00 Praha"},{"$f":"F234","v":"Bc. Jan Novák"},{"$f":"F240","v":"D123"},{"$f":"F242","v":0},{"$f":"F34","v":"EMAIL@email.abc"},{"$f":"F238","v":123456789},{"$f":"F236","v":"EMAIL@email.abc"},{"$f":"F38","v":"D123"},{"$f":"F40","v":"Revoluční 123, 100 00 Praha"},{"$f":"F43","v":"Bc. Jan Novák"},{"$f":"F45","v":"Faktura 123, 100 00 Praha"},{"$f":"F47","v":"Bc. Jan Novák"},{"$f":"F53","v":"D123"},{"$f":"F11","v":"Ždatel 123, 100 00 Praha"},{"$f":"F55","v":20},{"$f":"F51","v":123456789},{"$f":"F49","v":"EMAIL@email.abc"},{"$f":"F57","v":"Revoluční 123, 100 00 Praha"},{"$f":"F60","v":"Bc. Jan Novák"},{"$f":"F62","v":"Faktura 123, 100 00 Praha"},{"$f":"F64","v":"Bc. Jan Novák"},{"$f":"F70","v":"D123"},{"$f":"F72","v":20},{"$f":"F68","v":123456789},{"$f":"F13","v":"Bc. Jan Novák"},{"$f":"F66","v":"EMAIL@email.abc"},{"$f":"F74","v":"Revoluční 123, 100 00 Praha"},{"$f":"F77","v":"Bc. Jan Novák"},{"$f":"F79","v":"Faktura 123, 100 00 Praha"},{"$f":"F81","v":"Bc. Jan Novák"},{"$f":"F87","v":"D123"},{"$f":"F89","v":20},{"$f":"F85","v":123456789},{"$f":"F83","v":"EMAIL@email.abc"},{"$f":"F17","v":123456789},{"$f":"F91","v":"Revoluční 123, 100 00 Praha"},{"$f":"F94","v":"Bc. Jan Novák"},{"$f":"F96","v":"Faktura 123, 100 00 Praha"},{"$f":"F98","v":"Bc. Jan Novák"},{"$f":"F104","v":"D123"},{"$f":"F106","v":20},{"$f":"F102","v":123456789},{"$f":"F100","v":"EMAIL@email.abc"},{"$f":"F108","v":"Revoluční 123, 100 00 Praha"},{"$f":"F111","v":"Bc. Jan Novák"},{"$f":"F15","v":"EMAIL@email.abc"},{"$f":"F113","v":"Faktura 123, 100 00 Praha"},{"$f":"F115","v":"Bc. Jan Novák"},{"$f":"F121","v":"D123"},{"$f":"F123","v":20},{"$f":"F119","v":123456789},{"$f":"F117","v":"EMAIL@email.abc"},{"$f":"F125","v":"Revoluční 123, 100 00 Praha"},{"$f":"F128","v":"Bc. Jan Novák"},{"$f":"F130","v":"Faktura 123, 100 00 Praha"},{"$f":"F132","v":"Bc. Jan Novák"},{"$f":"F25","v":"Revoluční 123, 100 00 Praha"},{"$f":"F138","v":"D123"},{"$f":"F140","v":0},{"$f":"F136","v":123456789},{"$f":"F134","v":"EMAIL@email.abc"},{"$f":"F142","v":"Revoluční 123, 100 00 Praha"},{"$f":"F145","v":"Bc. Jan Novák"},{"$f":"F147","v":"Faktura 123, 100 00 Praha"},{"$f":"F149","v":"Bc. Jan Novák"},{"$f":"F155","v":"D123"},{"$f":"F157","v":0},{"$f":"F28","v":"Bc. Jan Novák"},{"$f":"F153","v":123456789},{"$f":"F151","v":"EMAIL@email.abc"},{"$f":"F159","v":"Revoluční 123, 100 00 Praha"},{"$f":"F162","v":"Bc. Jan Novák"},{"$f":"F164","v":"Faktura 123, 100 00 Praha"},{"$f":"F166","v":"Bc. Jan Novák"},{"$f":"F172","v":"D123"},{"$f":"F174","v":0},{"$f":"F170","v":123456789},{"$f":"F168","v":"EMAIL@email.abc"},{"$f":"F30","v":"Faktura 123, 100 00 Praha"},{"$f":"F176","v":"Revoluční 123, 100 00 Praha"},{"$f":"F179","v":"Bc. Jan Novák"},{"$f":"F181","v":"Faktura 123, 100 00 Praha"},{"$f":"F183","v":"Bc. Jan Novák"},{"$f":"F189","v":"D123"},{"$f":"F191","v":0},{"$f":"F187","v":123456789},{"$f":"F185","v":"EMAIL@email.abc"},{"$f":"F193","v":"Revoluční 123, 100 00 Praha"},{"$f":"F196","v":"Bc. Jan Novák"},{"$f":"F32","v":"Bc. Jan Novák"},{"$f":"F198","v":"Faktura 123, 100 00 Praha"},{"$f":"F200","v":"Bc. Jan Novák"},{"$f":"F206","v":"D123"},{"$f":"F208","v":0},{"$f":"F204","v":123456789},{"$f":"F202","v":"EMAIL@email.abc"},{"$f":"F210","v":"Revoluční 123, 100 00 Praha"},{"$f":"F213","v":"Bc. Jan Novák"},{"$f":"F215","v":"Faktura 123, 100 00 Praha"},{"$f":"F217","v":"Bc. Jan Novák"},{"$f":"R9","v":3},{"$f":"I9","v":9},{"$f":"J9","v":6},5,1,2,3,5,1,5,{"$f":"I25","v":1},{"$f":"J25","v":2},3,4,5,6,7,8,9,{"$f":"R28","v":3},{"$f":"I28","v":9},{"$f":"J28","v":6},5,1,2,3,5,1,5,{"$f":"I40","v":1},{"$f":"J40","v":2},3,4,5,6,7,8,9,{"$f":"R43","v":3},{"$f":"I43","v":9},{"$f":"J43","v":6},5,1,2,3,5,1,5,{"$f":"I57","v":1},{"$f":"J57","v":2},3,4,5,6,7,8,9,{"$f":"R60","v":3},{"$f":"I60","v":9},{"$f":"J60","v":6},5,1,2,3,5,1,5,{"$f":"I74","v":1},{"$f":"J74","v":2},3,4,5,6,7,8,9,{"$f":"R77","v":3},{"$f":"I77","v":9},{"$f":"J77","v":6},5,1,2,3,5,1,5,{"$f":"I91","v":1},{"$f":"J91","v":2},3,4,5,6,7,8,9,{"$f":"R94","v":3},{"$f":"I94","v":9},{"$f":"J94","v":6},5,1,2,3,5,1,5,{"$f":"I108","v":1},{"$f":"J108","v":2},3,4,5,6,7,8,9,{"$f":"R111","v":3},{"$f":"I111","v":9},{"$f":"J111","v":6},5,1,2,3,5,1,5,{"$f":"I125","v":1},{"$f":"J125","v":2},3,4,5,6,7,8,9,{"$f":"R128","v":3},{"$f":"I128","v":9},{"$f":"J128","v":6},5,1,2,3,5,1,5,{"$f":"I142","v":1},{"$f":"J142","v":2},3,4,5,6,7,8,9,{"$f":"R145","v":3},{"$f":"I145","v":9},{"$f":"J145","v":6},5,1,2,3,5,1,5,{"$f":"I159","v":1},{"$f":"J159","v":2},3,4,5,6,7,8,9,{"$f":"R162","v":3},{"$f":"I162","v":9},{"$f":"J162","v":6},5,1,2,3,5,1,5,{"$f":"I176","v":1},{"$f":"J176","v":2},3,4,5,6,7,8,9,{"$f":"R179","v":3},{"$f":"I179","v":9},{"$f":"J179","v":6},5,1,2,3,5,1,5,{"$f":"R196","v":3},{"$f":"R213","v":3},{"$f":"R230","v":3},{"$f":"I196","v":9},{"$f":"I213","v":9},{"$f":"I230","v":9},{"$f":"J196","v":6},{"$f":"J213","v":6},{"$f":"J230","v":6},{"$f":"K196","v":5},{"$f":"K213","v":5},{"$f":"K230","v":5},{"$f":"L196","v":1},{"$f":"L213","v":1},{"$f":"L230","v":1},{"$f":"M196","v":2},{"$f":"M213","v":2},{"$f":"M230","v":2},{"$f":"N196","v":3},{"$f":"N213","v":3},{"$f":"N230","v":3},{"$f":"O196","v":5},{"$f":"O213","v":5},{"$f":"O230","v":5},{"$f":"P196","v":1},{"$f":"P213","v":1},{"$f":"P230","v":1},{"$f":"Q196","v":5},{"$f":"Q213","v":5},{"$f":"Q230","v":5},{"$f":"I193","v":1},{"$f":"I210","v":1},{"$f":"I227","v":1},{"$f":"J193","v":2},{"$f":"J210","v":2},{"$f":"J227","v":2},{"$f":"K193","v":3},{"$f":"K210","v":3},{"$f":"K227","v":3},{"$f":"L193","v":4},{"$f":"L210","v":4},{"$f":"L227","v":4},{"$f":"M193","v":5},{"$f":"M210","v":5},{"$f":"M227","v":5},{"$f":"N193","v":6},{"$f":"N210","v":6},{"$f":"N227","v":6},{"$f":"O193","v":7},{"$f":"O210","v":7},{"$f":"O227","v":7},{"$f":"P193","v":8},{"$f":"P210","v":8},{"$f":"P227","v":8},{"$f":"Q193","v":9},{"$f":"Q210","v":9},{"$f":"Q227","v":9},"On","Off","Off",{"$f":"IF(I19=\"x\", \"On\", \"Off\")","v":"On"},{"$f":"IF(I20=\"x\", \"On\", \"Off\")","v":"Off"},{"$f":"IF(I22=\"x\", \"On\", \"Off\")","v":"Off"}]
[]
[]
[null,null,"Formulář pro žádost o založení sdílení elektřiny v BD pro EG.D"]
[null,null,null,null,null,null,null,null,null,null,null,null,null,null,null,null,null,null,null,"Vyplňovat pouze takto zabarvená pole hůlkovým písmem!"]
[null,null,"ŽADATEL","ID Společenství (pokud existuje)",null,18567423]
[]
[null," ",null,"Titul, jméno, příjmení/ Název obchodní firmy",null,"Bc. Jan Novák","Datum narození/IČO",null,9,6,5,1,2,3,5,1,5,3,null,null,null,null,"Kontrola alokace",{"$f":"IF(SUM(F55,F72,F89,F106,F123,F140,F157,F174,F191,F208,F225,F242)=100,\"Správně alokováno\",\"Špatně alokováno\")","v":"Správně alokováno"},null,null,null,null,null,null,null,null,null,null,{"$f":"Background_EGD!B7","v":"<?xml version=\"1.0\" encoding=\"UTF-8\"?><fields xmlns:xfdf=\"http://ns.adobe.com/xfdf-transition/\"><field xfdf:original=\"0\">18567423</field><field xfdf:original=\"1\">Bc. Jan Novák</field><field xfdf:original=\"10\">123456789</field><field xfdf:original=\"100\">D123</field><field xfdf:original=\"101\">0</field><field xfdf:original=\"102\">123456789</field><field xfdf:original=\"103\">EMAIL@email.abc</field><field xfdf:original=\"104\">Revoluční 123, 100 00 Praha</field><field xfdf:original=\"105\">Bc. Jan Novák</field><field xfdf:original=\"106\">Faktura 123, 100 00 Praha</field><field xfdf:original=\"107\">Bc. Jan Novák</field><field xfdf:original=\"108\">D123</field><field xfdf:original=\"109\">0</field><field xfdf:original=\"11\">EMAIL@email.abc</field><field xfdf:original=\"110\">123456789</field><field xfdf:original=\"111\">EMAIL@email.abc</field><field xfdf:original=\"12\">D123</field><field xfdf:original=\"15\">Revoluční 123, 100 00 Praha</field><field xfdf:original=\"16\">Bc. Jan Novák</field><field xfdf:original=\"17\">Faktura 123, 100 00 Praha</field><field xfdf:original=\"18\">Bc. Jan Novák</field><field xfdf:original=\"19\">D123</field><field xfdf:original=\"2\">Ždatel 123, 100 00 Praha</field><field xfdf:original=\"20\">20</field><field xfdf:original=\"21\">123456789</field><field xfdf:original=\"22\">EMAIL@email.abc</field><field xfdf:original=\"23\">Revoluční 123, 100 00 Praha</field><field xfdf:original=\"24\">Bc. Jan Novák</field><field xfdf:original=\"25\">Faktura 123, 100 00 Praha</field><field xfdf:original=\"26\">Bc. Jan Novák</field><field xfdf:original=\"27\">D123</field><field xfdf:original=\"28\">20</field><field xfdf:original=\"29\">123456789</field><field xfdf:original=\"3\">Bc. Jan Novák</field><field xfdf:original=\"30\">EMAIL@email.abc</field><field xfdf:original=\"31\">Revoluční 123, 100 00 Praha</field><field xfdf:original=\"32\">Bc. Jan Novák</field><field xfdf:original=\"33\">Faktura 123, 100 00 Praha</field><field xfdf:original=\"34\">Bc. Jan Novák</field><field xfdf:original=\"35\">D123</field><field xfdf:original=\"36\">20</field><field xfdf:original=\"37\">123456789</field><field xfdf:original=\"38\">EMAIL@email.abc</field><field xfdf:original=\"4\">123456789</field><field xfdf:original=\"40\">Revoluční 123, 100 00 Praha</field><field xfdf:original=\"41\">Bc. Jan Novák</field><field xfdf:original=\"42\">Faktura 123, 100 00 Praha</field><field xfdf:original=\"43\">Bc. Jan Novák</field><field xfdf:original=\"44\">D123</field><field xfdf:original=\"45\">20</field><field xfdf:original=\"46\">123456789</field><field xfdf:original=\"47\">EMAIL@email.abc</field><field xfdf:original=\"48\">Revoluční 123, 100 00 Praha</field><field xfdf:original=\"49\">Bc. Jan Novák</field><field xfdf:original=\"5\">EMAIL@email.abc</field><field xfdf:original=\"50\">Faktura 123, 100 00 Praha</field><field xfdf:original=\"51\">Bc. Jan Novák</field><field xfdf:original=\"52\">D123</field><field xfdf:original=\"53\">20</field><field xfdf:original=\"54\">123456789</field><field xfdf:original=\"55\">EMAIL@email.abc</field><field xfdf:original=\"56\">Revoluční 123, 100 00 Praha</field><field xfdf:original=\"57\">Bc. Jan Novák</field><field xfdf:original=\"58\">Faktura 123, 100 00 Praha</field><field xfdf:original=\"59\">Bc. Jan Novák</field><field xfdf:original=\"6\">Revoluční 123, 100 00 Praha</field><field xfdf:original=\"60\">D123</field><field xfdf:original=\"61\">0</field><field xfdf:original=\"62\">123456789</field><field xfdf:original=\"63\">EMAIL@email.abc</field><field xfdf:original=\"64\">Revoluční 123, 100 00 Praha</field><field xfdf:original=\"65\">Bc. Jan Novák</field><field xfdf:original=\"66\">Faktura 123, 100 00 Praha</field><field xfdf:original=\"67\">Bc. Jan Novák</field><field xfdf:original=\"68\">D123</field><field xfdf:original=\"69\">0</field><field xfdf:original=\"7\">Bc. Jan Novák</field><field xfdf:original=\"70\">123456789</field><field xfdf:original=\"71\">EMAIL@email.abc</field><field xfdf:original=\"72\">Revoluční 123, 100 00 Praha</field><field xfdf:original=\"73\">Bc. Jan Novák</field><field xfdf:original=\"74\">Faktura 123, 100 00 Praha</field><field xfdf:original=\"75\">Bc. Jan Novák</field><field xfdf:original=\"76\">D123</field><field xfdf:original=\"77\">0</field><field xfdf:original=\"78\">123456789</field><field xfdf:original=\"79\">EMAIL@email.abc</field><field xfdf:original=\"8\">Faktura 123, 100 00 Praha</field><field xfdf:original=\"80\">Revoluční 123, 100 00 Praha</field><field xfdf:original=\"81\">Bc. Jan Novák</field><field xfdf:original=\"82\">Faktura 123, 100 00 Praha</field><field xfdf:original=\"83\">Bc. Jan Novák</field><field xfdf:original=\"84\">D123</field><field xfdf:original=\"85\">0</field><field xfdf:original=\"86\">123456789</field><field xfdf:original=\"87\">EMAIL@email.abc</field><field xfdf:original=\"88\">Revoluční 123, 100 00 Praha</field><field xfdf:original=\"89\">Bc. Jan Novák</field><field xfdf:original=\"9\">Bc. Jan Novák</field><field xfdf:original=\"90\">Faktura 123, 100 00 Praha</field><field xfdf:original=\"91\">Bc. Jan Novák</field><field xfdf:original=\"92\">D123</field><field xfdf:original=\"93\">0</field><field xfdf:original=\"94\">123456789</field><field xfdf:original=\"95\">EMAIL@email.abc</field><field xfdf:original=\"96\">Revoluční 123, 100 00 Praha</field><field xfdf:original=\"97\">Bc. Jan Novák</field><field xfdf:original=\"98\">Faktura 123, 100 00 Praha</field><field xfdf:original=\"99\">Bc. Jan Novák</field><field xfdf:original=\"A0\">3</field><field xfdf:original=\"A1\">9</field><field xfdf:original=\"A2\">6</field><field xfdf:original=\"A3\">5</field><field xfdf:original=\"A4\">1</field><field xfdf:original=\"A5\">2</field><field xfdf:original=\"A6\">3</field><field xfdf:original=\"A7\">5</field><field xfdf:original=\"A8\">1</field><field xfdf:original=\"A9\">5</field><field xfdf:original=\"B1\">1</field><field xfdf:original=\"B2\">2</field><field xfdf:original=\"B3\">3</field><field xfdf:original=\"B4\">4</field><field xfdf:original=\"B5\">5</field><field xfdf:original=\"B6\">6</field><field xfdf:original=\"B7\">7</field><field xfdf:original=\"B8\">8</field><field xfdf:original=\"B9\">9</field><field xfdf:original=\"C0\">3</field><field xfdf:original=\"C1\">9</field><field xfdf:original=\"C2\">6</field><field xfdf:original=\"C3\">5</field><field xfdf:original=\"C4\">1</field><field xfdf:original=\"C5\">2</field><field xfdf:original=\"C6\">3</field><field xfdf:original=\"C7\">5</field><field xfdf:original=\"C8\">1</field><field xfdf:original=\"C9\">5</field><field xfdf:original=\"D1\">1</field><field xfdf:original=\"D2\">2</field><field xfdf:original=\"D3\">3</field><field xfdf:original=\"D4\">4</field><field xfdf:original=\"D5\">5</field><field xfdf:original=\"D6\">6</field><field xfdf:original=\"D7\">7</field><field xfdf:original=\"D8\">8</field><field xfdf:original=\"D9\">9</field><field xfdf:original=\"E0\">3</field><field xfdf:original=\"E1\">9</field><field xfdf:original=\"E2\">6</field><field xfdf:original=\"E3\">5</field><field xfdf:original=\"E4\">1</field><field xfdf:original=\"E5\">2</field><field xfdf:original=\"E6\">3</field><field xfdf:original=\"E7\">5</field><field xfdf:original=\"E8\">1</field><field xfdf:original=\"E9\">5</field><field xfdf:original=\"F1\">1</field><field xfdf:original=\"F2\">2</field><field xfdf:original=\"F3\">3</field><field xfdf:original=\"F4\">4</field><field xfdf:original=\"F5\">5</field><field xfdf:original=\"F6\">6</field><field xfdf:original=\"F7\">7</field><field xfdf:original=\"F8\">8</field><field xfdf:original=\"F9\">9</field><field xfdf:original=\"G0\">3</field><field xfdf:original=\"G1\">9</field><field xfdf:original=\"G2\">6</field><field xfdf:original=\"G3\">5</field><field xfdf:original=\"G4\">1</field><field xfdf:original=\"G5\">2</field><field xfdf:original=\"G6\">3</field><field xfdf:original=\"G7\">5</field><field xfdf:original=\"G8\">1</field><field xfdf:original=\"G9\">5</field><field xfdf:original=\"H1\">1</field><field xfdf:original=\"H2\">2</field><field xfdf:original=\"H3\">3</field><field xfdf:original=\"H4\">4</field><field xfdf:original=\"H5\">5</field><field xfdf:original=\"H6\">6</field><field xfdf:original=\"H7\">7</field><field xfdf:original=\"H8\">8</field><field xfdf:original=\"H9\">9</field><field xfdf:original=\"I0\">3</field><field xfdf:original=\"I1\">9</field><field xfdf:original=\"I2\">6</field><field xfdf:original=\"I3\">5</field><field xfdf:original=\"I4\">1</field><field xfdf:original=\"I5\">2</field><field xfdf:original=\"I6\">3</field><field xfdf:original=\"I7\">5</field><field xfdf:original=\"I8\">1</field><field xfdf:original=\"I9\">5</field><field xfdf:original=\"J1\">1</field><field xfdf:original=\"J2\">2</field><field xfdf:original=\"J3\">3</field><field xfdf:original=\"J4\">4</field><field xfdf:original=\"J5\">5</field><field xfdf:original=\"J6\">6</field><field xfdf:original=\"J7\">7</field><field xfdf:original=\"J8\">8</field><field xfdf:original=\"J9\">9</field><field xfdf:original=\"K0\">3</field><field xfdf:original=\"K1\">9</field><field xfdf:original=\"K2\">6</field><field xfdf:original=\"K3\">5</field><field xfdf:original=\"K4\">1</field><field xfdf:original=\"K5\">2</field><field xfdf:original=\"K6\">3</field><field xfdf:original=\"K7\">5</field><field xfdf:original=\"K8\">1</field><field xfdf:original=\"K9\">5</field><field xfdf:original=\"M1\">1</field><field xfdf:original=\"M2\">2</field><field xfdf:original=\"M3\">3</field><field xfdf:original=\"M4\">4</field><field xfdf:original=\"M5\">5</field><field xfdf:original=\"M6\">6</field><field xfdf:original=\"M7\">7</field><field xfdf:original=\"M8\">8</field><field xfdf:original=\"M9\">9</field><field xfdf:original=\"N0\">3</field><field xfdf:original=\"N1\">9</field><field xfdf:original=\"N2\">6</field><field xfdf:original=\"N3\">5</field><field xfdf:original=\"N4\">1</field><field xfdf:original=\"N5\">2</field><field xfdf:original=\"N6\">3</field><field xfdf:original=\"N7\">5</field><field xfdf:original=\"N8\">1</field><field xfdf:original=\"N9\">5</field><field xfdf:original=\"P1\">1</field><field xfdf:original=\"P2\">2</field><field xfdf:original=\"P3\">3</field><field xfdf:original=\"P4\">4</field><field xfdf:original=\"P5\">5</field><field xfdf:original=\"P6\">6</field><field xfdf:original=\"P7\">7</field><field xfdf:original=\"P8\">8</field><field xfdf:original=\"P9\">9</field><field xfdf:original=\"Q0\">3</field><field xfdf:original=\"Q1\">9</field><field xfdf:original=\"Q2\">6</field><field xfdf:original=\"Q3\">5</field><field xfdf:original=\"Q4\">1</field><field xfdf:original=\"Q5\">2</field><field xfdf:original=\"Q6\">3</field><field xfdf:original=\"Q7\">5</field><field xfdf:original=\"Q8\">1</field><field xfdf:original=\"Q9\">5</field><field xfdf:original=\"R1\">1</field><field xfdf:original=\"R2\">2</field><field xfdf:original=\"R3\">3</field><field xfdf:original=\"R4\">4</field><field xfdf:original=\"R5\">5</field><field xfdf:original=\"R6\">6</field><field xfdf:original=\"R7\">7</field><field xfdf:original=\"R8\">8</field><field xfdf:original=\"R9\">9</field><field xfdf:original=\"S0\">3</field><field xfdf:original=\"S1\">9</field><field xfdf:original=\"S2\">6</field><field xfdf:original=\"S3\">5</field><field xfdf:original=\"S4\">1</field><field xfdf:original=\"S5\">2</field><field xfdf:original=\"S6\">3</field><field xfdf:original=\"S7\">5</field><field xfdf:original=\"S8\">1</field><field xfdf:original=\"S9\">5</field><field xfdf:original=\"T1\">1</field><field xfdf:original=\"T2\">2</field><field xfdf:original=\"T3\">3</field><field xfdf:original=\"T4\">4</field><field xfdf:original=\"T5\">5</field><field xfdf:original=\"T6\">6</field><field xfdf:original=\"T7\">7</field><field xfdf:original=\"T8\">8</field><field xfdf:original=\"T9\">9</field><field xfdf:original=\"U0\">3</field><field xfdf:original=\"U1\">9</field><field xfdf:original=\"U2\">6</field><field xfdf:original=\"U3\">5</field><field xfdf:original=\"U4\">1</field><field xfdf:original=\"U5\">2</field><field xfdf:original=\"U6\">3</field><field xfdf:original=\"U7\">5</field><field xfdf:original=\"U8\">1</field><field xfdf:original=\"U9\">5</field><field xfdf:original=\"V1\">1</field><field xfdf:original=\"V2\">2</field><field xfdf:original=\"V3\">3</field><field xfdf:original=\"V4\">4</field><field xfdf:original=\"V5\">5</field><field xfdf:original=\"V6\">6</field><field xfdf:original=\"V7\">7</field><field xfdf:original=\"V8\">8</field><field xfdf:original=\"V9\">9</field><field xfdf:original=\"W0\">3</field><field xfdf:original=\"W1\">9</field><field xfdf:original=\"W2\">6</field><field xfdf:original=\"W3\">5</field><field xfdf:original=\"W4\">1</field><field xfdf:original=\"W5\">2</field><field xfdf:original=\"W6\">3</field><field xfdf:original=\"W7\">5</field><field xfdf:original=\"W8\">1</field><field xfdf:original=\"W9\">5</field><field xfdf:original=\"Y0\">3</field><field xfdf:original=\"Y00\">3</field><field xfdf:original=\"Y01\">3</field><field xfdf:original=\"Y1\">9</field><field xfdf:original=\"Y10\">9</field><field xfdf:original=\"Y11\">9</field><field xfdf:original=\"Y2\">6</field><field xfdf:original=\"Y20\">6</field><field xfdf:original=\"Y21\">6</field><field xfdf:original=\"Y3\">5</field><field xfdf:original=\"Y30\">5</field><field xfdf:original=\"Y31\">5</field><field xfdf:original=\"Y4\">1</field><field xfdf:original=\"Y40\">1</field><field xfdf:original=\"Y41\">1</field><field xfdf:original=\"Y5\">2</field><field xfdf:original=\"Y50\">2</field><field xfdf:original=\"Y51\">2</field><field xfdf:original=\"Y6\">3</field><field xfdf:original=\"Y60\">3</field><field xfdf:original=\"Y61\">3</field><field xfdf:original=\"Y7\">5</field><field xfdf:original=\"Y70\">5</field><field xfdf:original=\"Y71\">5</field><field xfdf:original=\"Y8\">1</field><field xfdf:original=\"Y80\">1</field><field xfdf:original=\"Y81\">1</field><field xfdf:original=\"Y9\">5</field><field xfdf:original=\"Y90\">5</field><field xfdf:original=\"Y91\">5</field><field xfdf:original=\"Z1\">1</field><field xfdf:original=\"Z10\">1</field><field xfdf:original=\"Z11\">1</field><field xfdf:original=\"Z2\">2</field><field xfdf:original=\"Z20\">2</field><field xfdf:original=\"Z21\">2</field><field xfdf:original=\"Z3\">3</field><field xfdf:original=\"Z30\">3</field><field xfdf:original=\"Z31\">3</field><field xfdf:original=\"Z4\">4</field><field xfdf:original=\"Z40\">4</field><field xfdf:original=\"Z41\">4</field><field xfdf:original=\"Z5\">5</field><field xfdf:original=\"Z50\">5</field><field xfdf:original=\"Z51\">5</field><field xfdf:original=\"Z6\">6</field><field xfdf:original=\"Z60\">6</field><field xfdf:original=\"Z61\">6</field><field xfdf:original=\"Z7\">7</field><field xfdf:original=\"Z70\">7</field><field xfdf:original=\"Z71\">7</field><field xfdf:original=\"Z8\">8</field><field xfdf:original=\"Z80\">8</field><field xfdf:original=\"Z81\">8</field><field xfdf:original=\"Z9\">9</field><field xfdf:original=\"Z90\">9</field><field xfdf:original=\"Z91\">9</field><field xfdf:original=\"a\">On</field><field xfdf:original=\"b\">Off</field><field xfdf:original=\"c\">Off</field><field xfdf:original=\"d\">On</field><field xfdf:original=\"e\">Off</field><field xfdf:original=\"f\">Off</field></fields>"}," "]
[]
[null,null,null,"Trvalé bydliště/     sídlo právnické osoby",null,"Ždatel 123, 100 00 Praha"]
[]
[null,null,null,"Jméno a příjmení kontaktní osoby",null,"Bc. Jan Novák"]
[]
[null,null,null,"E-mail kontaktní osoby",null,"EMAIL@email.abc"]
[]
[null,null,null,"Telefon kontaktní osoby",null,123456789]
[]
[null,null,null,"Žadateli bude udělena plná moc od zákazníků a výrobce v OMv a OMp k těmto úkonům:                (úkony označeny zaškrtnutím x)",null,null,"Podání žádosti",null,"x"]
[null,null,null,null,null,null,"Příjem infromací o stavu vyřizování žádosti"]
[]
[null,null,null,null,null,null,"Příjem informací o sdílení elektřiny a její správě"]
[]
[]
[null,null,"OMv","Adresa umístění výrobny",null,"Revoluční 123, 100 00 Praha","Kód EAN (doplnit pouze hodnoty za 859182400)",null,1,2,3,4,5,6,7,8,9]
[]
[]
[null,null,null,"Titul, jméno, příjmení/ Název obchodní firmy",null,"Bc. Jan Novák","Datum narození/IČO",null,9,6,5,1,2,3,5,1,5,3]
[]
[null,null,null,"Fakturační adresa",null,"Faktura 123, 100 00 Praha"]
[]
[null,null,null,"Jméno a příjmení kontaktní osoby",null,"Bc. Jan Novák"]
[]
[null,null,null,"E-mail kontaktní osoby",null,"EMAIL@email.abc"]
[]
[null,null,null,"Telefon kontaktní osoby",null,123456789]
[]
[null,null,null,"Distribuční sazba",null,"D123"]
[]
[null,null,"OMp č. 1","Adresa umístění výrobny",null,"Revoluční 123, 100 00 Praha","Kód EAN (doplnit pouze hodnoty za 859182400)",null,1,2,3,4,5,6,7,8,9]
[]
[]
[null,null,null,"Titul, jméno, příjmení/ Název obchodní firmy",null,"Bc. Jan Novák","Datum narození/IČO",null,9,6,5,1,2,3,5,1,5,3]
[]
[null,null,null,"Fakturační adresa",null,"Faktura 123, 100 00 Praha"]
[]
[null,null,null,"Jméno a příjmení kontaktní osoby",null,"Bc. Jan Novák"]
[]
[null,null,null,"E-mail kontaktní osoby",null,"EMAIL@email.abc"]
[]
[null,null,null,"Telefon kontaktní osoby",null,123456789]
[]
[null,null,null,"Distribuční sazba",null,"D123"]
[]
[null,null,null,"Alokovaný rozsah dodávky z OMv (%)",null,20]
[]
[null,null,"OMp č. 2","Adresa umístění výrobny",null,"Revoluční 123, 100 00 Praha","Kód EAN (doplnit pouze hodnoty za 859182400)",null,1,2,3,4,5,6,7,8,9]
[]
[]
[null,null,null,"Titul, jméno, příjmení/ Název obchodní firmy",null,"Bc. Jan Novák","Datum narození/IČO",null,9,6,5,1,2,3,5,1,5,3]
[]
[null,null,null,"Fakturační adresa",null,"Faktura 123, 100 00 Praha"]
[]
[null,null,null,"Jméno a příjmení kontaktní osoby",null,"Bc. Jan Novák"]
[]
[null,null,null,"E-mail kontaktní osoby",null,"EMAIL@email.abc"]
[]
[null,null,null,"Telefon kontaktní osoby",null,123456789]
[]
[null,null,null,"Distribuční sazba",null,"D123"]
[]
[null,null,null,"Alokovaný rozsah dodávky z OMv (%)",null,20]
[]
[null,null,"OMp č. 3","Adresa umístění výrobny",null,"Revoluční 123, 100 00 Praha","Kód EAN (doplnit pouze hodnoty za 859182400)",null,1,2,3,4,5,6,7,8,9]
[]
[]
[null,null,null,"Titul, jméno, příjmení/ Název obchodní firmy",null,"Bc. Jan Novák","Datum narození/IČO",null,9,6,5,1,2,3,5,1,5,3]
[]
[null,null,null,"Fakturační adresa",null,"Faktura 123, 100 00 Praha"]
[]
[null,null,null,"Jméno a příjmení kontaktní osoby",null,"Bc. Jan Novák"]
[]
[null,null,null,"E-mail kontaktní osoby",null,"EMAIL@email.abc"]
[]
[null,null,null,"Telefon kontaktní osoby",null,123456789]
[]
[null,null,null,"Distribuční sazba",null,"D123"]
[]
[null,null,null,"Alokovaný rozsah dodávky z OMv (%)",null,20]
[]
[null,null,"OMp č. 4","Adresa umístění výrobny",null,"Revoluční 123, 100 00 Praha","Kód EAN (doplnit pouze hodnoty za 859182400)",null,1,2,3,4,5,6,7,8,9]
[]
[]
[null,null,null,"Titul, jméno, příjmení/ Název obchodní firmy",null,"Bc. Jan Novák","Datum narození/IČO",null,9,6,5,1,2,3,5,1,5,3]
[]
[null,null,null,"Fakturační adresa",null,"Faktura 123, 100 00 Praha"]
[]
[null,null,null,"Jméno a příjmení kontaktní osoby",null,"Bc. Jan Novák"]
[]
[null,null,null,"E-mail kontaktní osoby",null,"EMAIL@email.abc"]
[]
[null,null,null,"Telefon kontaktní osoby",null,123456789]
[]
[null,null,null,"Distribuční sazba",null,"D123"]
[]
[null,null,null,"Alokovaný rozsah dodávky z OMv (%)",null,20]
[]
[null,null,"OMp č. 5","Adresa umístění výrobny",null,"Revoluční 123, 100 00 Praha","Kód EAN (doplnit pouze hodnoty za 859182400)",null,1,2,3,4,5,6,7,8,9]
[]
[]
[null,null,null,"Titul, jméno, příjmení/ Název obchodní firmy",null,"Bc. Jan Novák","Datum narození/IČO",null,9,6,5,1,2,3,5,1,5,3]
[]
[null,null,null,"Fakturační adresa",null,"Faktura 123, 100 00 Praha"]
[]
[null,null,null,"Jméno a příjmení kontaktní osoby",null,"Bc. Jan Novák"]
[]
[null,null,null,"E-mail kontaktní osoby",null,"EMAIL@email.abc"]
[]
[null,null,null,"Telefon kontaktní osoby",null,123456789]
[]
[null,null,null,"Distribuční sazba",null,"D123"]
[]
[null,null,null,"Alokovaný rozsah dodávky z OMv (%)",null,20]
[]
[null,null,"OMp č. 6","Adresa umístění výrobny",null,"Revoluční 123, 100 00 Praha","Kód EAN (doplnit pouze hodnoty za 859182400)",null,1,2,3,4,5,6,7,8,9]
[]
[]
[null,null,null,"Titul, jméno, příjmení/ Název obchodní firmy",null,"Bc. Jan Novák","Datum narození/IČO",null,9,6,5,1,2,3,5,1,5,3]
[]
[null,null,null,"Fakturační adresa",null,"Faktura 123, 100 00 Praha"]
[]
[null,null,null,"Jméno a příjmení kontaktní osoby",null,"Bc. Jan Novák"]
[]
[null,null,null,"E-mail kontaktní osoby",null,"EMAIL@email.abc"]
[]
[null,null,null,"Telefon kontaktní osoby",null,123456789]
[]
[null,null,null,"Distribuční sazba",null,"D123"]
[]
[null,null,null,"Alokovaný rozsah dodávky z OMv (%)"]
[]
[null,null,"OMp č. 7","Adresa umístění výrobny",null,"Revoluční 123, 100 00 Praha","Kód EAN (doplnit pouze hodnoty za 859182400)",null,1,2,3,4,5,6,7,8,9]
[]
[]
[null,null,null,"Titul, jméno, příjmení/ Název obchodní firmy",null,"Bc. Jan Novák","Datum narození/IČO",null,9,6,5,1,2,3,5,1,5,3]
[]
[null,null,null,"Fakturační adresa",null,"Faktura 123, 100 00 Praha"]
[]
[null,null,null,"Jméno a příjmení kontaktní osoby",null,"Bc. Jan Novák"]
[]
[null,null,null,"E-mail kontaktní osoby",null,"EMAIL@email.abc"]
[]
[null,null,null,"Telefon kontaktní osoby",null,123456789]
[]
[null,null,null,"Distribuční sazba",null,"D123"]
[]
[null,null,null,"Alokovaný rozsah dodávky z OMv (%)"]
[]
[null,null,"OMp č. 8","Adresa umístění výrobny",null,"Revoluční 123, 100 00 Praha","Kód EAN (doplnit pouze hodnoty za 859182400)",null,1,2,3,4,5,6,7,8,9]
[]
[]
[null,null,null,"Titul, jméno, příjmení/ Název obchodní firmy",null,"Bc. Jan Novák","Datum narození/IČO",null,9,6,5,1,2,3,5,1,5,3]
[]
[null,null,null,"Fakturační adresa",null,"Faktura 123, 100 00 Praha"]
[]
[null,null,null,"Jméno a příjmení kontaktní osoby",null,"Bc. Jan Novák"]
[]
[null,null,null,"E-mail kontaktní osoby",null,"EMAIL@email.abc"]
[]
[null,null,null,"Telefon kontaktní osoby",null,123456789]
[]
[null,null,null,"Distribuční sazba",null,"D123"]
[]
[null,null,null,"Alokovaný rozsah dodávky z OMv (%)"]
[]
[null,null,"OMp č. 9","Adresa umístění výrobny",null,"Revoluční 123, 100 00 Praha","Kód EAN (doplnit pouze hodnoty za 859182400)",null,1,2,3,4,5,6,7,8,9]
[]
[]
[null,null,null,"Titul, jméno, příjmení/ Název obchodní firmy",null,"Bc. Jan Novák","Datum narození/IČO",null,9,6,5,1,2,3,5,1,5,3]
[]
[null,null,null,"Fakturační adresa",null,"Faktura 123, 100 00 Praha"]
[]
[null,null,null,"Jméno a příjmení kontaktní osoby",null,"Bc. Jan Novák"]
[]
[null,null,null,"E-mail kontaktní osoby",null,"EMAIL@email.abc"]
[]
[null,null,null,"Telefon kontaktní osoby",null,123456789]
[]
[null,null,null,"Distribuční sazba",null,"D123"]
[]
[null,null,null,"Alokovaný rozsah dodávky z OMv (%)"]
[]
[null,null,"OMp č. 10","Adresa umístění výrobny",null,"Revoluční 123, 100 00 Praha","Kód EAN (doplnit pouze hodnoty za 859182400)",null,1,2,3,4,5,6,7,8,9]
[]
[]
[null,null,null,"Titul, jméno, příjmení/ Název obchodní firmy",null,"Bc. Jan Novák","Datum narození/IČO",null,9,6,5,1,2,3,5,1,5,3]
[]
[null,null,null,"Fakturační adresa",null,"Faktura 123, 100 00 Praha"]
[]
[null,null,null,"Jméno a příjmení kontaktní osoby",null,"Bc. Jan Novák"]
[]
[null,null,null,"E-mail kontaktní osoby",null,"EMAIL@email.abc"]
[]
[null,null,null,"Telefon kontaktní osoby",null,123456789]
[]
[null,null,null,"Distribuční sazba",null,"D123"]
[]
[null,null,null,"Alokovaný rozsah dodávky z OMv (%)"]
[]
[null,null,"OMp č. 11","Adresa umístění výrobny",null,"Revoluční 123, 100 00 Praha","Kód EAN (doplnit pouze hodnoty za 859182400)",null,1,2,3,4,5,6,7,8,9]
[]
[]
[null,null,null,"Titul, jméno, příjmení/ Název obchodní firmy",null,"Bc. Jan Novák","Datum narození/IČO",null,9,6,5,1,2,3,5,1,5,3]
[]
[null,null,null,"Fakturační adresa",null,"Faktura 123, 100 00 Praha"]
[]
[null,null,null,"Jméno a příjmení kontaktní osoby",null,"Bc. Jan Novák"]
[]
[null,null,null,"E-mail kontaktní osoby",null,"EMAIL@email.abc"]
[]
[null,null,null,"Telefon kontaktní osoby",null,123456789]
[]
[null,null,null,"Distribuční sazba",null,"D123"]
[]
[null,null,null,"Alokovaný rozsah dodávky z OMv (%)"]
[]
[null,null,"OMp č. 12","Adresa umístění výrobny",null,"Revoluční 123, 100 00 Praha","Kód EAN (doplnit pouze hodnoty za 859182400)",null,1,2,3,4,5,6,7,8,9]
[]
[]
[null,null,null,"Titul, jméno, příjmení/ Název obchodní firmy",null,"Bc. Jan Novák","Datum narození/IČO",null,9,6,5,1,2,3,5,1,5,3]
[]
[null,null,null,"Fakturační adresa",null,"Faktura 123, 100 00 Praha"]
[]
[null,null,null,"Jméno a příjmení kontaktní osoby",null,"Bc. Jan Novák"]
[]
[null,null,null,"E-mail kontaktní osoby",null,"EMAIL@email.abc"]
[]
[null,null,null,"Telefon kontaktní osoby",null,123456789]
[]
[null,null,null,"Distribuční sazba",null,"D123"]
[]
[null,null,null,"Alokovaný rozsah dodávky z OMv (%)"]

{"sheet":"Formulář pro PRE","index":3,"n_rows":121,"n_cols":134,"rows_kept":121,"cut":false,"hidden":false,"merged":[[6,3,7,3],[6,4,7,5],[8,3,9,3],[8,4,9,5],[10,3,11,3],[10,4,11,5],[6,2,29,2],[16,3,17,3],[16,4,17,5],[18,3,19,3],[20,3,21,3],[18,4,19,5],[20,4,21,5],[12,3,13,3],[12,4,13,5],[14,3,15,3],[14,4,15,5],[22,3,23,3],[24,3,25,3],[26,3,27,3],[22,4,23,5],[24,4,25,5],[26,4,27,5],[40,3,41,3],[40,4,41,5],[28,4,29,5],[30,3,31,3],[30,4,31,5],[30,2,31,2],[32,3,33,3],[32,4,33,5],[32,2,41,2],[34,3,35,3],[36,3,37,3],[38,3,39,3],[34,4,35,5],[36,4,37,5],[38,4,39,5],[28,3,29,3],[42,2,51,2],[42,3,43,3],[42,4,43,5],[42,6,43,7],[42,8,43,9],[44,3,45,3],[44,4,45,5],[44,6,45,7],[44,8,45,9],[46,3,47,3],[46,4,47,5],[46,6,47,7],[46,8,47,9],[48,3,49,3],[48,4,49,5],[48,6,49,7],[48,8,49,9],[50,3,51,3],[50,4,51,5],[52,2,61,2],[52,3,53,3],[52,4,53,5],[52,6,53,7],[52,8,53,9],[54,3,55,3],[54,4,55,5],[54,6,55,7],[54,8,55,9],[56,3,57,3],[56,4,57,5],[56,6,57,7],[56,8,57,9],[58,3,59,3],[58,4,59,5],[58,6,59,7],[58,8,59,9],[60,3,61,3],[60,4,61,5],[60,6,61,7],[60,8,61,9],[62,2,71,2],[62,3,63,3],[62,4,63,5],[62,6,63,7],[62,8,63,9],[64,3,65,3],[64,4,65,5],[64,6,65,7],[64,8,65,9],[66,3,67,3],[66,4,67,5],[66,6,67,7],[66,8,67,9],[68,3,69,3],[68,4,69,5],[68,6,69,7],[68,8,69,9],[70,3,71,3],[70,4,71,5],[72,2,81,2],[72,3,73,3],[72,4,73,5],[72,6,73,7],[72,8,73,9],[74,3,75,3],[74,4,75,5],[74,6,75,7],[74,8,75,9],[76,3,77,3],[76,4,77,5],[76,6,77,7],[76,8,77,9],[78,3,79,3],[78,4,79,5],[78,6,79,7],[78,8,79,9],[80,3,81,3],[80,4,81,5],[82,2,91,2],[82,3,83,3],[82,4,83,5],[82,6,83,7],[82,8,83,9],[84,3,85,3],[84,4,85,5],[84,6,85,7],[84,8,85,9],[86,3,87,3],[86,4,87,5],[86,6,87,7],[86,8,87,9],[88,3,89,3],[88,4,89,5],[88,6,89,7],[88,8,89,9],[90,3,91,3],[90,4,91,5],[92,2,101,2],[92,3,93,3],[92,4,93,5],[92,6,93,7],[92,8,93,9],[94,3,95,3],[94,4,95,5],[94,6,95,7],[94,8,95,9],[96,3,97,3],[96,4,97,5],[96,6,97,7],[96,8,97,9],[98,3,99,3],[98,4,99,5],[98,6,99,7],[98,8,99,9],[100,3,101,3],[100,4,101,5],[100,6,101,7],[100,8,101,9],[118,4,119,5],[118,6,119,7],[118,8,119,9],[120,3,121,3],[120,4,121,5],[102,2,111,2],[102,3,103,3],[102,4,103,5],[102,6,103,7],[102,8,103,9],[104,3,105,3],[104,4,105,5],[104,6,105,7],[104,8,105,9],[106,3,107,3],[106,4,107,5],[106,6,107,7],[106,8,107,9],[108,3,109,3],[108,4,109,5],[108,6,109,7],[108,8,109,9],[110,3,111,3],[110,4,111,5],[120,6,121,7],[120,8,121,9],[1,8,2,9],[70,6,71,7],[70,8,71,9],[80,6,81,7],[80,8,81,9],[90,6,91,7],[90,8,91,9],[40,6,41,7],[40,8,41,9],[50,6,51,7],[50,8,51,9],[32,6,33,7],[112,6,113,7],[112,8,113,9],[114,6,115,7],[114,8,115,9],[116,6,117,7],[116,8,117,9],[5,19,6,19],[18,6,21,7],[38,10,39,15],[32,8,33,9],[14,6,15,7],[14,8,15,9],[34,6,35,7],[34,8,35,9],[36,6,37,7],[36,8,37,9],[38,6,39,7],[38,8,39,9],[5,18,6,18],[21,10,22,11],[21,12,22,13],[0,2,1,5],[4,2,5,5],[108,10,109,15],[118,10,119,15],[58,10,59,15],[68,10,69,15],[78,10,79,15],[88,10,89,15],[98,10,99,15],[1,10,2,11],[3,8,4,9],[3,10,4,11],[2,15,3,18],[110,6,111,7],[110,8,111,9],[48,10,49,15],[112,2,121,2],[112,3,113,3],[112,4,113,5],[114,3,115,3],[114,4,115,5],[116,3,117,3],[116,4,117,5],[118,3,119,3]]}
[null,null,"Formulář pro žádost o založení sdílení elektřiny v BD pro PRE",null,null,null,null,null,null,null,null,null,null,null,null,null,null,null,null,null,null,null,null,null,"3.0","3.1.0","3.1.1","3.1.2.0","3.1.2.1.0.0.0","3.1.2.1.0.0.1.0","3.1.2.1.0.0.1.1","3.1.2.1.0.1.0","3.1.2.1.0.1.1.0","3.1.2.1.0.1.1.1","Nový požadavek","adresa","jméno.0","jméno.1","l","loh","toggle_3","toggle_4","y1.0.0.0","y1.0.0.1.0","y1.0.0.1.1.0.0","y1.0.0.1.1.0.1.0.0.0","y1.0.0.1.1.0.1.0.0.1","y1.0.0.1.1.0.1.0.0.2.0","y1.0.0.1.1.0.1.0.0.2.1.0.0.0","y1.0.0.1.1.0.1.0.0.2.1.0.0.1.0","y1.0.0.1.1.0.1.0.0.2.1.0.0.1.1","y1.0.0.1.1.0.1.0.0.2.1.0.1.0","y1.0.0.1.1.0.1.0.0.2.1.0.1.1.0","y1.0.0.1.1.0.1.0.0.2.1.0.1.1.1","y1.0.0.1.1.0.1.0.1.0.0","y1.0.0.1.1.0.1.0.1.0.1","y1.0.0.1.1.0.1.0.1.0.2.0","y1.0.0.1.1.0.1.0.1.0.2.1.0.0.0","y1.0.0.1.1.0.1.0.1.0.2.1.0.0.1.0","y1.0.0.1.1.0.1.0.1.0.2.1.0.0.1.1","y1.0.0.1.1.0.1.0.1.0.2.1.0.1.0","y1.0.0.1.1.0.1.0.1.0.2.1.0.1.1.0","y1.0.0.1.1.0.1.0.1.0.2.1.0.1.1.1","y1.0.0.1.1.0.1.0.1.1.0.0","y1.0.0.1.1.0.1.0.1.1.0.1","y1.0.0.1.1.0.1.0.1.1.0.2.0","y1.0.0.1.1.0.1.0.1.1.0.2.1.0.0.0","y1.0.0.1.1.0.1.0.1.1.0.2.1.0.0.1.0","y1.0.0.1.1.0.1.0.1.1.0.2.1.0.0.1.1","y1.0.0.1.1.0.1.0.1.1.0.2.1.0.1.0","y1.0.0.1.1.0.1.0.1.1.0.2.1.0.1.1.0","y1.0.0.1.1.0.1.0.1.1.0.2.1.0.1.1.1","y1.0.0.1.1.0.1.0.1.1.1.0.0","y1.0.0.1.1.0.1.0.1.1.1.0.1","y1.0.0.1.1.0.1.0.1.1.1.0.2.0","y1.0.0.1.1.0.1.0.1.1.1.0.2.1.0.0.0","y1.0.0.1.1.0.1.0.1.1.1.0.2.1.0.0.1.0","y1.0.0.1.1.0.1.0.1.1.1.0.2.1.0.0.1.1","y1.0.0.1.1.0.1.0.1.1.1.0.2.1.0.1.0","y1.0.0.1.1.0.1.0.1.1.1.0.2.1.0.1.1.0","y1.0.0.1.1.0.1.0.1.1.1.0.2.1.0.1.1.1","y1.0.0.1.1.0.1.0.1.1.1.1.0","y1.0.0.1.1.0.1.0.1.1.1.1.1","y1.0.0.1.1.0.1.0.1.1.1.1.2.0","y1.0.0.1.1.0.1.0.1.1.1.1.2.1.0.0.0","y1.0.0.1.1.0.1.0.1.1.1.1.2.1.0.0.1.0","y1.0.0.1.1.0.1.0.1.1.1.1.2.1.0.0.1.1","y1.0.0.1.1.0.1.0.1.1.1.1.2.1.0.1.0","y1.0.0.1.1.0.1.0.1.1.1.1.2.1.0.1.1.0","y1.0.0.1.1.0.1.0.1.1.1.1.2.1.0.1.1.1","y1.0.0.1.1.0.1.0.1.1.1.2.0","y1.0.0.1.1.0.1.0.1.1.1.2.1","y1.0.0.1.1.0.1.0.1.1.1.2.2.0","y1.0.0.1.1.0.1.0.1.1.1.2.2.1.0.0.0","y1.0.0.1.1.0.1.0.1.1.1.2.2.1.0.0.1.0","y1.0.0.1.1.0.1.0.1.1.1.2.2.1.0.0.1.1","y1.0.0.1.1.0.1.0.1.1.1.2.2.1.0.1.0","y1.0.0.1.1.0.1.0.1.1.1.2.2.1.0.1.1.0","y1.0.0.1.1.0.1.0.1.1.1.2.2.1.0.1.1.1","y1.0.0.1.1.0.1.0.1.1.1.3.0","y1.0.0.1.1.0.1.0.1.1.1.3.1","y1.0.0.1.1.0.1.0.1.1.1.3.2.0","y1.0.0.1.1.0.1.0.1.1.1.3.2.1.0.0.0","y1.0.0.1.1.0.1.0.1.1.1.3.2.1.0.0.1.0","y1.0.0.1.1.0.1.0.1.1.1.3.2.1.0.0.1.1","y1.0.0.1.1.0.1.0.1.1.1.3.2.1.0.1.0","y1.0.0.1.1.0.1.0.1.1.1.3.2.1.0.1.1.0","y1.0.0.1.1.0.1.0.1.1.1.3.2.1.0.1.1.1","y1.0.0.1.1.0.1.1.0.0.0","y1.0.0.1.1.0.1.1.0.0.1","y1.0.0.1.1.0.1.1.0.0.2.0","y1.0.0.1.1.0.1.1.0.0.2.1.0.0.0","y1.0.0.1.1.0.1.1.0.0.2.1.0.0.1.0","y1.0.0.1.1.0.1.1.0.0.2.1.0.0.1.1","y1.0.0.1.1.0.1.1.0.0.2.1.0.1.0","y1.0.0.1.1.0.1.1.0.0.2.1.0.1.1.0","y1.0.0.1.1.0.1.1.0.0.2.1.0.1.1.1","y1.0.0.1.1.0.1.1.0.1.0","y1.0.0.1.1.0.1.1.0.1.1","y1.0.0.1.1.0.1.1.0.1.2.0","y1.0.0.1.1.0.1.1.0.1.2.1.0.0.0","y1.0.0.1.1.0.1.1.0.1.2.1.0.0.1.0","y1.0.0.1.1.0.1.1.0.1.2.1.0.0.1.1","y1.0.0.1.1.0.1.1.0.1.2.1.0.1.0","y1.0.0.1.1.0.1.1.0.1.2.1.0.1.1.0","y1.0.0.1.1.0.1.1.0.1.2.1.0.1.1.1","y1.0.1.0","y1.0.1.1","y1.1","í.0.0","í.0.1","í.1.0.0","í.1.0.1","í.1.1"]
[null,null,null,null,null,null,null,null,"Evidenční číslo žádosti",null,null,null,null,null,null,null,null,null,null,null,null,null,null,null,{"$f":"E7","v":0},{"$f":"E33","v":0},{"$f":"E43","v":0},{"$f":"E53","v":0},{"$f":"E63","v":0},{"$f":"E83","v":0},{"$f":"E103","v":0},{"$f":"E73","v":0},{"$f":"E93","v":0},{"$f":"E113","v":0},"On",{"$f":"E17","v":0},{"$f":"E23","v":0},{"$f":"E25","v":0},{"$f":"E29","v":0},{"$f":"M22","v":0},"Off","Off",{"$f":"E21","v":0},{"$f":"E27","v":0},{"$f":"E31","v":0},{"$f":"E35","v":0},{"$f":"E55","v":0},{"$f":"E55","v":0},{"$f":"E65","v":0},{"$f":"E85","v":0},{"$f":"E105","v":0},{"$f":"E75","v":0},{"$f":"E95","v":0},{"$f":"E115","v":0},{"$f":"E41","v":0},{"$f":"E51","v":0},{"$f":"E61","v":0},{"$f":"E71","v":0},{"$f":"E91","v":0},{"$f":"E111","v":0},{"$f":"E81","v":0},{"$f":"E101","v":0},{"$f":"E121","v":0},{"$f":"I33","v":0},{"$f":"I43","v":0},{"$f":"I53","v":0},{"$f":"I63","v":0},{"$f":"I83","v":0},{"$f":"I103","v":0},{"$f":"I73","v":0},{"$f":"I93","v":0},{"$f":"I113","v":0},{"$f":"I35","v":0},{"$f":"I45","v":0},{"$f":"I55","v":0},{"$f":"I65","v":0},{"$f":"I85","v":0},{"$f":"I105","v":0},{"$f":"I75","v":0},{"$f":"I95","v":0},{"$f":"I115","v":0},{"$f":"I37","v":0},{"$f":"I47","v":0},{"$f":"I57","v":0},{"$f":"I67","v":0},{"$f":"I87","v":0},{"$f":"I107","v":0},{"$f":"I77","v":0},{"$f":"I97","v":0},{"$f":"I117","v":0},{"$f":"I39","v":0},{"$f":"I49","v":0},{"$f":"I59","v":0},{"$f":"I69","v":0},{"$f":"I89","v":0},{"$f":"I109","v":0},{"$f":"I79","v":0},{"$f":"I99","v":0},{"$f":"I119","v":0},{"$f":"I41","v":0},{"$f":"I51","v":0},{"$f":"I61","v":0},{"$f":"I71","v":0},{"$f":"I91","v":0},{"$f":"I111","v":0},{"$f":"I81","v":0},{"$f":"I101","v":0},{"$f":"I121","v":0},{"$f":"E37","v":0},{"$f":"E47","v":0},{"$f":"E57","v":0},{"$f":"E67","v":0},{"$f":"E87","v":0},{"$f":"E107","v":0},{"$f":"E77","v":0},{"$f":"E97","v":0},{"$f":"E117","v":0},{"$f":"E39","v":0},{"$f":"E49","v":0},{"$f":"E59","v":0},{"$f":"E69","v":0},{"$f":"E89","v":0},{"$f":"E109","v":0},{"$f":"E79","v":0},{"$f":"E99","v":0},{"$f":"E119","v":0},{"$f":"K2","v":0},{"$f":"K4","v":0},{"$f":"E19","v":0},{"$f":"E13","v":0},{"$f":"I15","v":0},{"$f":"E9","v":0},{"$f":"E15","v":0},{"$f":"E11","v":0}]
[null,null,null,null,null,null,null,null,null,null,null,null,null,null,null,"Vyplňovat pouze takto zabarvená pole hůlkovým písmem!"]
[null,null,null,null,null,null,null,null,"Přijato"]
[null,null,"Formulář pro žádost o založení sdílení elektřiny v BD pro PRE"]
[null,null,null,null,null,null,null,null,null,null,null,null,null,null,null,null,null,null,"Kontrola alokace",{"$f":"IF(SUM(I41,I51,I61,I71,I81,I91,I101,I111,I121)=100,\"Správně alokováno\",\"Špatně alokováno\")","v":"Špatně alokováno"}]
[null,null,"Výrobce","Výrobní EAN (vložit pouze číslo za 8591824003)"]
[]
[null,null,null,"Jméno",null,null,null,null,null,null,null,null,null,null,null,null,null,null,null,null,null,null,null,null,null,null,null,null,null,null,null,null,null,null,{"$f":"Background_PRE!B7","v":"<?xml version=\"1.0\" encoding=\"UTF-8\"?><fields xmlns:xfdf=\"http://ns.adobe.com/xfdf-transition/\"><field xfdf:original=\"3.0\">0</field><field xfdf:original=\"3.1.0\">1</field><field xfdf:original=\"3.1.1\">2</field><field xfdf:original=\"3.1.2.0\">3</field><field xfdf:original=\"3.1.2.1.0.0.0\">4</field><field xfdf:original=\"3.1.2.1.0.0.1.0\">5</field><field xfdf:original=\"3.1.2.1.0.0.1.1\">6</field><field xfdf:original=\"3.1.2.1.0.1.0\">7</field><field xfdf:original=\"3.1.2.1.0.1.1.0\">8</field><field xfdf:original=\"3.1.2.1.0.1.1.1\">9</field><field xfdf:original=\"Nový požadavek\">On</field><field xfdf:original=\"adresa\">10</field><field xfdf:original=\"jméno.0\">11</field><field xfdf:original=\"jméno.1\">12</field><field xfdf:original=\"l\">13</field><field xfdf:original=\"loh\">14</field><field xfdf:original=\"toggle_3\">Off</field><field xfdf:original=\"toggle_4\">Off</field><field xfdf:original=\"y1.0.0.0\">15</field><field xfdf:original=\"y1.0.0.1.0\">16</field><field xfdf:original=\"y1.0.0.1.1.0.0\">17</field><field xfdf:original=\"y1.0.0.1.1.0.1.0.0.0\">18</field><field xfdf:original=\"y1.0.0.1.1.0.1.0.0.1\">19</field><field xfdf:original=\"y1.0.0.1.1.0.1.0.0.2.0\">20</field><field xfdf:original=\"y1.0.0.1.1.0.1.0.0.2.1.0.0.0\">21</field><field xfdf:original=\"y1.0.0.1.1.0.1.0.0.2.1.0.0.1.0\">22</field><field xfdf:original=\"y1.0.0.1.1.0.1.0.0.2.1.0.0.1.1\">23</field><field xfdf:original=\"y1.0.0.1.1.0.1.0.0.2.1.0.1.0\">24</field><field xfdf:original=\"y1.0.0.1.1.0.1.0.0.2.1.0.1.1.0\">25</field><field xfdf:original=\"y1.0.0.1.1.0.1.0.0.2.1.0.1.1.1\">26</field><field xfdf:original=\"y1.0.0.1.1.0.1.0.1.0.0\">27</field><field xfdf:original=\"y1.0.0.1.1.0.1.0.1.0.1\">28</field><field xfdf:original=\"y1.0.0.1.1.0.1.0.1.0.2.0\">29</field><field xfdf:original=\"y1.0.0.1.1.0.1.0.1.0.2.1.0.0.0\">30</field><field xfdf:original=\"y1.0.0.1.1.0.1.0.1.0.2.1.0.0.1.0\">31</field><field xfdf:original=\"y1.0.0.1.1.0.1.0.1.0.2.1.0.0.1.1\">32</field><field xfdf:original=\"y1.0.0.1.1.0.1.0.1.0.2.1.0.1.0\">33</field><field xfdf:original=\"y1.0.0.1.1.0.1.0.1.0.2.1.0.1.1.0\">34</field><field xfdf:original=\"y1.0.0.1.1.0.1.0.1.0.2.1.0.1.1.1\">35</field><field xfdf:original=\"y1.0.0.1.1.0.1.0.1.1.0.0\">36</field><field xfdf:original=\"y1.0.0.1.1.0.1.0.1.1.0.1\">37</field><field xfdf:original=\"y1.0.0.1.1.0.1.0.1.1.0.2.0\">38</field><field xfdf:original=\"y1.0.0.1.1.0.1.0.1.1.0.2.1.0.0.0\">39</field><field xfdf:original=\"y1.0.0.1.1.0.1.0.1.1.0.2.1.0.0.1.0\">40</field><field xfdf:original=\"y1.0.0.1.1.0.1.0.1.1.0.2.1.0.0.1.1\">41</field><field xfdf:original=\"y1.0.0.1.1.0.1.0.1.1.0.2.1.0.1.0\">42</field><field xfdf:original=\"y1.0.0.1.1.0.1.0.1.1.0.2.1.0.1.1.0\">43</field><field xfdf:original=\"y1.0.0.1.1.0.1.0.1.1.0.2.1.0.1.1.1\">44</field><field xfdf:original=\"y1.0.0.1.1.0.1.0.1.1.1.0.0\">45</field><field xfdf:original=\"y1.0.0.1.1.0.1.0.1.1.1.0.1\">46</field><field xfdf:original=\"y1.0.0.1.1.0.1.0.1.1.1.0.2.0\">47</field><field xfdf:original=\"y1.0.0.1.1.0.1.0.1.1.1.0.2.1.0.0.0\">48</field><field xfdf:original=\"y1.0.0.1.1.0.1.0.1.1.1.0.2.1.0.0.1.0\">49</field><field xfdf:original=\"y1.0.0.1.1.0.1.0.1.1.1.0.2.1.0.0.1.1\">50</field><field xfdf:original=\"y1.0.0.1.1.0.1.0.1.1.1.0.2.1.0.1.0\">51</field><field xfdf:original=\"y1.0.0.1.1.0.1.0.1.1.1.0.2.1.0.1.1.0\">52</field><field xfdf:original=\"y1.0.0.1.1.0.1.0.1.1.1.0.2.1.0.1.1.1\">53</field><field xfdf:original=\"y1.0.0.1.1.0.1.0.1.1.1.1.0\">54</field><field xfdf:original=\"y1.0.0.1.1.0.1.0.1.1.1.1.1\">55</field><field xfdf:original=\"y1.0.0.1.1.0.1.0.1.1.1.1.2.0\">56</field><field xfdf:original=\"y1.0.0.1.1.0.1.0.1.1.1.1.2.1.0.0.0\">57</field><field xfdf:original=\"y1.0.0.1.1.0.1.0.1.1.1.1.2.1.0.0.1.0\">58</field><field xfdf:original=\"y1.0.0.1.1.0.1.0.1.1.1.1.2.1.0.0.1.1\">59</field><field xfdf:original=\"y1.0.0.1.1.0.1.0.1.1.1.1.2.1.0.1.0\">60</field><field xfdf:original=\"y1.0.0.1.1.0.1.0.1.1.1.1.2.1.0.1.1.0\">61</field><field xfdf:original=\"y1.0.0.1.1.0.1.0.1.1.1.1.2.1.0.1.1.1\">62</field><field xfdf:original=\"y1.0.0.1.1.0.1.0.1.1.1.2.0\">63</field><field xfdf:original=\"y1.0.0.1.1.0.1.0.1.1.1.2.1\">64</field><field xfdf:original=\"y1.0.0.1.1.0.1.0.1.1.1.2.2.0\">65</field><field xfdf:original=\"y1.0.0.1.1.0.1.0.1.1.1.2.2.1.0.0.0\">66</field><field xfdf:original=\"y1.0.0.1.1.0.1.0.1.1.1.2.2.1.0.0.1.0\">67</field><field xfdf:original=\"y1.0.0.1.1.0.1.0.1.1.1.2.2.1.0.0.1.1\">68</field><field xfdf:original=\"y1.0.0.1.1.0.1.0.1.1.1.2.2.1.0.1.0\">69</field><field xfdf:original=\"y1.0.0.1.1.0.1.0.1.1.1.2.2.1.0.1.1.0\">70</field><field xfdf:original=\"y1.0.0.1.1.0.1.0.1.1.1.2.2.1.0.1.1.1\">71</field><field xfdf:original=\"y1.0.0.1.1.0.1.0.1.1.1.3.0\">72</field><field xfdf:original=\"y1.0.0.1.1.0.1.0.1.1.1.3.1\">73</field><field xfdf:original=\"y1.0.0.1.1.0.1.0.1.1.1.3.2.0\">74</field><field xfdf:original=\"y1.0.0.1.1.0.1.0.1.1.1.3.2.1.0.0.0\">75</field><field xfdf:original=\"y1.0.0.1.1.0.1.0.1.1.1.3.2.1.0.0.1.0\">76</field><field xfdf:original=\"y1.0.0.1.1.0.1.0.1.1.1.3.2.1.0.0.1.1\">77</field><field xfdf:original=\"y1.0.0.1.1.0.1.0.1.1.1.3.2.1.0.1.0\">78</field><field xfdf:original=\"y1.0.0.1.1.0.1.0.1.1.1.3.2.1.0.1.1.0\">79</field><field xfdf:original=\"y1.0.0.1.1.0.1.0.1.1.1.3.2.1.0.1.1.1\">80</field><field xfdf:original=\"y1.0.0.1.1.0.1.1.0.0.0\">81</field><field xfdf:original=\"y1.0.0.1.1.0.1.1.0.0.1\">82</field><field xfdf:original=\"y1.0.0.1.1.0.1.1.0.0.2.0\">83</field><field xfdf:original=\"y1.0.0.1.1.0.1.1.0.0.2.1.0.0.0\">84</field><field xfdf:original=\"y1.0.0.1.1.0.1.1.0.0.2.1.0.0.1.0\">85</field><field xfdf:original=\"y1.0.0.1.1.0.1.1.0.0.2.1.0.0.1.1\">86</field><field xfdf:original=\"y1.0.0.1.1.0.1.1.0.0.2.1.0.1.0\">87</field><field xfdf:original=\"y1.0.0.1.1.0.1.1.0.0.2.1.0.1.1.0\">88</field><field xfdf:original=\"y1.0.0.1.1.0.1.1.0.0.2.1.0.1.1.1\">89</field><field xfdf:original=\"y1.0.0.1.1.0.1.1.0.1.0\">90</field><field xfdf:original=\"y1.0.0.1.1.0.1.1.0.1.1\">91</field><field xfdf:original=\"y1.0.0.1.1.0.1.1.0.1.2.0\">92</field><field xfdf:original=\"y1.0.0.1.1.0.1.1.0.1.2.1.0.0.0\">93</field><field xfdf:original=\"y1.0.0.1.1.0.1.1.0.1.2.1.0.0.1.0\">94</field><field xfdf:original=\"y1.0.0.1.1.0.1.1.0.1.2.1.0.0.1.1\">95</field><field xfdf:original=\"y1.0.0.1.1.0.1.1.0.1.2.1.0.1.0\">96</field><field xfdf:original=\"y1.0.0.1.1.0.1.1.0.1.2.1.0.1.1.0\">97</field><field xfdf:original=\"y1.0.0.1.1.0.1.1.0.1.2.1.0.1.1.1\">98</field><field xfdf:original=\"y1.0.1.0\">99</field><field xfdf:original=\"y1.0.1.1\">100</field><field xfdf:original=\"y1.1\">101</field><field xfdf:original=\"í.0.0\">102</field><field xfdf:original=\"í.0.1\">103</field><field xfdf:original=\"í.1.0.0\">104</field><field xfdf:original=\"í.1.0.1\">105</field><field xfdf:original=\"í.1.1\">106</field></fields>"}]
[]
[null,null,null,"Příjmení"]
[]
[null,null,null,"Datum narození"]
[]
[null,null,null,"Obchodní firma",null,null,"IČO"]
[]
[null,null,null,"Adresa"]
[]
[null,null,null,"Katastrální území",null,null,"Toto vyplnit pouze v případě, kde není přidělena adresa"]
[]
[null,null,null,"Parcelní číslo"]
[null,null,null,null,null,null,null,null,null,null,"Počet příloh"]
[null,null,null,"Jméno kontaktní osoby"]
[]
[null,null,null,"Příjmení kontaktní osoby"]
[]
[null,null,null,"Telefon kontaktní osoby"]
[]
[null,null,null,"Email kontaktní osoby"]
[]
[null,null,"Údaje o výrobně","Rezervovaný výkon"]
[]
[null,null,"Zákazník č.1","Výrobní EAN (vložit pouze číslo za 8591824003)",null,null,"Datum narození/IČO"]
[]
[null,null,null,"Jméno, příjmení/obchodní firma",null,null,"Počet fází"]
[]
[null,null,null,"Email zákazníka",null,null,"Velikost hlavního jističe"]
[]
[null,null,null,"Korespondenční adresa*",null,null,"Distribuční sazba",null,null,null,"(*) Korespondenční adresu vyplnit pouze v případě, kde není shodná s adresou odběrného místa"]
[]
[null,null,null,"Typ subjektu       (fyzická/prvnická osoba)",null,null,"Alokovaný rozsah (%)"]
[]
[null,null,"Zákazník č.2","Výrobní EAN (vložit pouze číslo za 8591824003)",null,null,"Datum narození/IČO"]
[]
[null,null,null,"Jméno, příjmení/obchodní firma",null,null,"Počet fází"]
[]
[null,null,null,"Email zákazníka",null,null,"Velikost hlavního jističe"]
[]
[null,null,null,"Korespondenční adresa*",null,null,"Distribuční sazba",null,null,null,"(*) Korespondenční adresu vyplnit pouze v případě, kde není shodná s adresou odběrného místa"]
[]
[null,null,null,"Typ subjektu       (fyzická/prvnická osoba)",null,null,"Alokovaný rozsah (%)"]
[]
[null,null,"Zákazník č.3","Výrobní EAN (vložit pouze číslo za 8591824003)",null,null,"Datum narození/IČO"]
[]
[null,null,null,"Jméno, příjmení/obchodní firma",null,null,"Počet fází"]
[]
[null,null,null,"Email zákazníka",null,null,"Velikost hlavního jističe"]
[]
[null,null,null,"Korespondenční adresa*",null,null,"Distribuční sazba",null,null,null,"(*) Korespondenční adresu vyplnit pouze v případě, kde není shodná s adresou odběrného místa"]
[]
[null,null,null,"Typ subjektu       (fyzická/prvnická osoba)",null,null,"Alokovaný rozsah (%)"]
[]
[null,null,"Zákazník č.4","Výrobní EAN (vložit pouze číslo za 8591824003)",null,null,"Datum narození/IČO"]
[]
[null,null,null,"Jméno, příjmení/obchodní firma",null,null,"Počet fází"]
[]
[null,null,null,"Email zákazníka",null,null,"Velikost hlavního jističe"]
[]
[null,null,null,"Korespondenční adresa*",null,null,"Distribuční sazba",null,null,null,"(*) Korespondenční adresu vyplnit pouze v případě, kde není shodná s adresou odběrného místa"]
[]
[null,null,null,"Typ subjektu       (fyzická/prvnická osoba)",null,null,"Alokovaný rozsah (%)"]
[]
[null,null,"Zákazník č.5","Výrobní EAN (vložit pouze číslo za 8591824003)",null,null,"Datum narození/IČO"]
[]
[null,null,null,"Jméno, příjmení/obchodní firma",null,null,"Počet fází"]
[]
[null,null,null,"Email zákazníka",null,null,"Velikost hlavního jističe"]
[]
[null,null,null,"Korespondenční adresa*",null,null,"Distribuční sazba",null,null,null,"(*) Korespondenční adresu vyplnit pouze v případě, kde není shodná s adresou odběrného místa"]
[]
[null,null,null,"Typ subjektu       (fyzická/prvnická osoba)",null,null,"Alokovaný rozsah (%)"]
[]
[null,null,"Zákazník č.6","Výrobní EAN (vložit pouze číslo za 8591824003)",null,null,"Datum narození/IČO"]
[]
[null,null,null,"Jméno, příjmení/obchodní firma",null,null,"Počet fází"]
[]
[null,null,null,"Email zákazníka",null,null,"Velikost hlavního jističe"]
[]
[null,null,null,"Korespondenční adresa*",null,null,"Distribuční sazba",null,null,null,"(*) Korespondenční adresu vyplnit pouze v případě, kde není shodná s adresou odběrného místa"]
[]
[null,null,null,"Typ subjektu       (fyzická/prvnická osoba)",null,null,"Alokovaný rozsah (%)"]
[]
[null,null,"Zákazník č.7","Výrobní EAN (vložit pouze číslo za 8591824003)",null,null,"Datum narození/IČO"]
[]
[null,null,null,"Jméno, příjmení/obchodní firma",null,null,"Počet fází"]
[]
[null,null,null,"Email zákazníka",null,null,"Velikost hlavního jističe"]
[]
[null,null,null,"Korespondenční adresa*",null,null,"Distribuční sazba",null,null,null,"(*) Korespondenční adresu vyplnit pouze v případě, kde není shodná s adresou odběrného místa"]
[]
[null,null,null,"Typ subjektu       (fyzická/prvnická osoba)",null,null,"Alokovaný rozsah (%)"]
[]
[null,null,"Zákazník č.8","Výrobní EAN (vložit pouze číslo za 8591824003)",null,null,"Datum narození/IČO"]
[]
[null,null,null,"Jméno, příjmení/obchodní firma",null,null,"Počet fází"]
[]
[null,null,null,"Email zákazníka",null,null,"Velikost hlavního jističe"]
[]
[null,null,null,"Korespondenční adresa*",null,null,"Distribuční sazba",null,null,null,"(*) Korespondenční adresu vyplnit pouze v případě, kde není shodná s adresou odběrného místa"]
[]
[null,null,null,"Typ subjektu       (fyzická/prvnická osoba)",null,null,"Alokovaný rozsah (%)"]
[]
[null,null,"Zákazník č.9","Výrobní EAN (vložit pouze číslo za 8591824003)",null,null,"Datum narození/IČO"]
[]
[null,null,null,"Jméno, příjmení/obchodní firma",null,null,"Počet fází"]
[]
[null,null,null,"Email zákazníka",null,null,"Velikost hlavního jističe"]
[]
[null,null,null,"Korespondenční adresa*",null,null,"Distribuční sazba",null,null,null,"(*) Korespondenční adresu vyplnit pouze v případě, kde není shodná s adresou odběrného místa"]
[]
[null,null,null,"Typ subjektu       (fyzická/prvnická osoba)",null,null,"Alokovaný rozsah (%)"]