Workbook

Sheet Var 1 vstupy
A1: Položka | B1: Cena v Kč | C1: Jednotka ceny | D1: Spotřeba | E1: Jednotka | F1: Cena na jednotku | G1: Jednotka
A2: Tiskárna (doba životnosti 20 let) | B2: =49990-1995 -> 47995 | C2: Kč/ks | D2: 1 | E2: Ks/20let | F2: =B2*D2*J4 -> 47995 | G2: Kč/20 let | I2: Počet kusů za rok | J2: =8*20*12 -> 1920 | M2: Kurz Kč/$ | N2: =21.31 -> 21.31
A3: CW1S (doba životnosti 20 let) | B3: =18990-1995 -> 16995 | C3: Kč/ks | D3: 1 | E3: Ks/20let | F3: =B3*D3*J4 -> 16995 | G3: Kč/20 let
A4: Napařovací komora (Tž 20 let) | B4: 100000 | C4: Kč/ks | D4: 1 | E4: Ks/20let | F4: =B4*D4*J4 -> 100000 | G4: Kč/20 let | I4: Změna inv výdajů | J4: 1
A5: Resin | B5: =27.5*N2 -> 586.025 | C5: Kč/kg | D5: =8.56/1000 -> 0.00856 | E5: kg/výrobek | F5: =B5*D5 -> 5.016374 | G5: Kč/výrobek
A6: Aluminium wire | B6: =11.2*N2 -> 238.672 | C6: Kč/kg | D6: =0.34/1000 -> 0.00034 | E6: kg/výrobek | F6: =B6*D6 -> 0.08114848 | G6: Kč/výrobek
A7: IPA | B7: =179 -> 179 | C7: Kč/l | D7: 0.005 | E7: l/výrobek | F7: =B7*D7 -> 0.895 | G7: Kč/výrobek
A8: Spotřeba elektřiny (na kWh) | B8: 7.32451 | C8: Kč/kWh | D8: =((14.921+3.22)/8+33.33*400*(10/3600))/1000 -> 0.039300958 | E8: kWh/výrobek | F8: =B8*D8 -> 0.28786026 | G8: Kč/výrobek
A9: Spotřeba elektřiny (mesíční platby) | B9: =902.43*0.15 -> 135.3645 | C9: Kč/měsíc | D9: 12 | E9: měsíc/rok | F9: =B9*D9 -> 1624.374 | G9: Kč/rok
A10: Rukavice | B10: =52 -> 52 | C10: Kč/ks | D10: =1/200 -> 0.005 | E10: Ks/výrobek | F10: =B10*D10 -> 0.26 | G10: Kč/výrobek
A11: Utěrky | B11: =55/2 -> 27.5 | C11: Kč/ks | D11: =2/100 -> 0.02 | E11: Ks/výrobek | F11: =B11*D11 -> 0.55 | G11: Kč/výrobek
A12: Houbičky | B12: =1.5 -> 1.5 | C12: Kč/ks | D12: =1/100 -> 0.01 | E12: Ks/výrobek | F12: =B12*D12 -> 0.015 | G12: Kč/výrobek | Z12: Spotřeba na základě zkušenosti s tiskem
A13: Fólie | B13: =39.8 -> 39.8 | C13: Kč/ks | D13: =1/200 -> 0.005 | E13: Ks/výrobek | F13: =B13*D13 -> 0.199 | G13: Kč/výrobek
A14: Nůžky | B14: 399 | C14: Kč/ks | D14: 1 | E14: Ks/20 let | F14: 399 | G14: Kč/20 let
A15: Špachtle | B15: =35 -> 35 | C15: Kč/ks | D15: 1 | E15: Ks/rok | F15: =B15*D15 -> 35 | G15: Kč/rok
A16: Zaměstnanec | B16: 42615 | C16: Kč/měsíc | D16: 12 | E16: měsíc/rok | F16: =B16*D16 -> 511380 | G16: Kč/rok
A17: Opravy LCD | B17: =3000 -> 3000 | C17: Kč/ks | D17: =1/3000 -> 0.00033333333 | E17: Ks/výrobek | F17: =B17*D17 -> 1 | G17: Kč/výrobek
A18: Opravy Zbytek | B18: =35*21 -> 735 | C18: Kč/měsíc | D18: 12 | E18: měsíc/rok | F18: =B18*D18 -> 8820 | G18: Kč/rok
A19: Zmetkovitost | B19: 0.01
A20: Počet výrobků | B20: =160*12 -> 1920

Sheet Var 1
C1: Daň | D1: 0.19 | E1: Diskont | F1: 0.1383
A3: Rok | B3: 0 | C3: 1 | D3: 2 | E3: 3 | F3: 4 | G3: 5 | H3: 6 | I3: 7 | J3: 8 | K3: 9 | L3: 10 | M3: 11 | N3: 12 | O3: 13 | P3: 14 | Q3: 15 | R3: 16 | S3: 17 | T3: 18 | U3: 19 | V3: 20
A4: Investice | B4: =-'Var 1 vstupy'!F2-'Var 1 vstupy'!F3-'Var 1 vstupy'!F4 -> -164990
A5: Provozní výdaje | C5: =-('Var 1 vstupy'!$F$5+'Var 1 vstupy'!$F$6+'Var 1 vstupy'!$F$7+'Var 1 vstupy'!$F$8)*160*12-'Var 1 vstupy'!$F$9 -> -13682.709 | D5: =-('Var 1 vstupy'!$F$5*POWER(1+$I$19,D3-1)+'Var 1 vstupy'!$F$6*POWER(1+$I$18,D3-1)+'Var 1 vstupy'!$F$7*POWER(1+$I$19,D3-1)+'Var 1 vstupy'!$F$8*POWER(1+$I$17,D3-1))*160*12-'Var 1 vstupy'!$F$9*POWER(1+$I$17,D3-1) -> -14063.65 | E5: =-('Var 1 vstupy'!$F$5*POWER(1+$I$19,E3-1)+'Var 1 vstupy'!$F$6*POWER(1+$I$18,E3-1)+'Var 1 vstupy'!$F$7*POWER(1+$I$19,E3-1)+'Var 1 vstupy'!$F$8*POWER(1+$I$17,E3-1))*160*12-'Var 1 vstupy'!$F$9*POWER(1+$I$17,E3-1) -> -14455.686 | F5: =-('Var 1 vstupy'!$F$5*POWER(1+$I$19,F3-1)+'Var 1 vstupy'!$F$6*POWER(1+$I$18,F3-1)+'Var 1 vstupy'!$F$7*POWER(1+$I$19,F3-1)+'Var 1 vstupy'!$F$8*POWER(1+$I$17,F3-1))*160*12-'Var 1 vstupy'!$F$9*POWER(1+$I$17,F3-1) -> -14859.149 | G5: =-('Var 1 vstupy'!$F$5*POWER(1+$I$19,G3-1)+'Var 1 vstupy'!$F$6*POWER(1+$I$18,G3-1)+'Var 1 vstupy'!$F$7*POWER(1+$I$19,G3-1)+'Var 1 vstupy'!$F$8*POWER(1+$I$17,G3-1))*160*12-'Var 1 vstupy'!$F$9*POWER(1+$I$17,G3-1) -> -15274.383 | H5: =-('Var 1 vstupy'!$F$5*POWER(1+$I$19,H3-1)+'Var 1 vstupy'!$F$6*POWER(1+$I$18,H3-1)+'Var 1 vstupy'!$F$7*POWER(1+$I$19,H3-1)+'Var 1 vstupy'!$F$8*POWER(1+$I$17,H3-1))*160*12-'Var 1 vstupy'!$F$9*POWER(1+$I$17,H3-1) -> -15701.742 | I5: =-('Var 1 vstupy'!$F$5*POWER(1+$I$19,I3-1)+'Var 1 vstupy'!$F$6*POWER(1+$I$18,I3-1)+'Var 1 vstupy'!$F$7*POWER(1+$I$19,I3-1)+'Var 1 vstupy'!$F$8*POWER(1+$I$17,I3-1))*160*12-'Var 1 vstupy'!$F$9*POWER(1+$I$17,I3-1) -> -16141.592 | J5: =-('Var 1 vstupy'!$F$5*POWER(1+$I$19,J3-1)+'Var 1 vstupy'!$F$6*POWER(1+$I$18,J3-1)+'Var 1 vstupy'!$F$7*POWER(1+$I$19,J3-1)+'Var 1 vstupy'!$F$8*POWER(1+$I$17,J3-1))*160*12-'Var 1 vstupy'!$F$9*POWER(1+$I$17,J3-1) -> -16594.308 | K5: =-('Var 1 vstupy'!$F$5*POWER(1+$I$19,K3-1)+'Var 1 vstupy'!$F$6*POWER(1+$I$18,K3-1)+'Var 1 vstupy'!$F$7*POWER(1+$I$19,K3-1)+'Var 1 vstupy'!$F$8*POWER(1+$I$17,K3-1))*160*12-'Var 1 vstupy'!$F$9*POWER(1+$I$17,K3-1) -> -17060.279 | ... V5: =-('Var 1 vstupy'!$F$5*POWER(1+$I$19,V3-1)+'Var 1 vstupy'!$F$6*POWER(1+$I$18,V3-1)+'Var 1 vstupy'!$F$7*POWER(1+$I$19,V3-1)+'Var 1 vstupy'!$F$8*POWER(1+$I$17,V3-1))*160*12-'Var 1 vstupy'!$F$9*POWER(1+$I$17,V3-1) -> -23184.58
A6: Drobný spotřební materiál | C6: =-('Var 1 vstupy'!$F$10+'Var 1 vstupy'!$F$11+'Var 1 vstupy'!$F$12+'Var 1 vstupy'!$F$13)*160*12-'Var 1 vstupy'!$F$15-'Var 1 vstupy'!F14 -> -2400.08 | D6: =-(('Var 1 vstupy'!$F$10+'Var 1 vstupy'!$F$11+'Var 1 vstupy'!$F$12+'Var 1 vstupy'!$F$13)*160*12-'Var 1 vstupy'!$F$15)*POWER(1+$I$19,D3-1) -> -1989.0124 | E6: =-(('Var 1 vstupy'!$F$10+'Var 1 vstupy'!$F$11+'Var 1 vstupy'!$F$12+'Var 1 vstupy'!$F$13)*160*12-'Var 1 vstupy'!$F$15)*POWER(1+$I$19,E3-1) -> -2048.6828 | F6: =-(('Var 1 vstupy'!$F$10+'Var 1 vstupy'!$F$11+'Var 1 vstupy'!$F$12+'Var 1 vstupy'!$F$13)*160*12-'Var 1 vstupy'!$F$15)*POWER(1+$I$19,F3-1) -> -2110.1433 | G6: =-(('Var 1 vstupy'!$F$10+'Var 1 vstupy'!$F$11+'Var 1 vstupy'!$F$12+'Var 1 vstupy'!$F$13)*160*12-'Var 1 vstupy'!$F$15)*POWER(1+$I$19,G3-1) -> -2173.4476 | H6: =-(('Var 1 vstupy'!$F$10+'Var 1 vstupy'!$F$11+'Var 1 vstupy'!$F$12+'Var 1 vstupy'!$F$13)*160*12-'Var 1 vstupy'!$F$15)*POWER(1+$I$19,H3-1) -> -2238.651 | I6: =-(('Var 1 vstupy'!$F$10+'Var 1 vstupy'!$F$11+'Var 1 vstupy'!$F$12+'Var 1 vstupy'!$F$13)*160*12-'Var 1 vstupy'!$F$15)*POWER(1+$I$19,I3-1) -> -2305.8105 | J6: =-(('Var 1 vstupy'!$F$10+'Var 1 vstupy'!$F$11+'Var 1 vstupy'!$F$12+'Var 1 vstupy'!$F$13)*160*12-'Var 1 vstupy'!$F$15)*POWER(1+$I$19,J3-1) -> -2374.9848 | K6: =-(('Var 1 vstupy'!$F$10+'Var 1 vstupy'!$F$11+'Var 1 vstupy'!$F$12+'Var 1 vstupy'!$F$13)*160*12-'Var 1 vstupy'!$F$15)*POWER(1+$I$19,K3-1) -> -2446.2344 | ... V6: =-(('Var 1 vstupy'!$F$10+'Var 1 vstupy'!$F$11+'Var 1 vstupy'!$F$12+'Var 1 vstupy'!$F$13)*160*12-'Var 1 vstupy'!$F$15)*POWER(1+$I$19,V3-1) -> -3386.1605
A7: Mzdy | C7: =-'Var 1 vstupy'!$F$16 -> -511380 | D7: =-'Var 1 vstupy'!$F$16*POWER(1+$I$16,D3-1) -> -521607.6 | E7: =-'Var 1 vstupy'!$F$16*POWER(1+$I$16,E3-1) -> -532039.75 | F7: =-'Var 1 vstupy'!$F$16*POWER(1+$I$16,F3-1) -> -542680.55 | G7: =-'Var 1 vstupy'!$F$16*POWER(1+$I$16,G3-1) -> -553534.16 | H7: =-'Var 1 vstupy'!$F$16*POWER(1+$I$16,H3-1) -> -564604.84 | I7: =-'Var 1 vstupy'!$F$16*POWER(1+$I$16,I3-1) -> -575896.94 | J7: =-'Var 1 vstupy'!$F$16*POWER(1+$I$16,J3-1) -> -587414.88 | K7: =-'Var 1 vstupy'!$F$16*POWER(1+$I$16,K3-1) -> -599163.17 | ... V7: =-'Var 1 vstupy'!$F$16*POWER(1+$I$16,V3-1) -> -744984.1
A8: Opravy | C8: =-'Var 1 vstupy'!$F$17*160*12-'Var 1 vstupy'!$F$18 -> -10740 | D8: =-('Var 1 vstupy'!$F$17*160*12+'Var 1 vstupy'!$F$18)*POWER(1+$I$19,D3-1) -> -11062.2 | E8: =-('Var 1 vstupy'!$F$17*160*12+'Var 1 vstupy'!$F$18)*POWER(1+$I$19,E3-1) -> -11394.066 | F8: =-('Var 1 vstupy'!$F$17*160*12+'Var 1 vstupy'!$F$18)*POWER(1+$I$19,F3-1) -> -11735.888 | G8: =-('Var 1 vstupy'!$F$17*160*12+'Var 1 vstupy'!$F$18)*POWER(1+$I$19,G3-1) -> -12087.965 | H8: =-('Var 1 vstupy'!$F$17*160*12+'Var 1 vstupy'!$F$18)*POWER(1+$I$19,H3-1) -> -12450.604 | I8: =-('Var 1 vstupy'!$F$17*160*12+'Var 1 vstupy'!$F$18)*POWER(1+$I$19,I3-1) -> -12824.122 | J8: =-('Var 1 vstupy'!$F$17*160*12+'Var 1 vstupy'!$F$18)*POWER(1+$I$19,J3-1) -> -13208.845 | K8: =-('Var 1 vstupy'!$F$17*160*12+'Var 1 vstupy'!$F$18)*POWER(1+$I$19,K3-1) -> -13605.111 | ... V8: =-('Var 1 vstupy'!$F$17*160*12+'Var 1 vstupy'!$F$18)*POWER(1+$I$19,V3-1) -> -18832.655
A9: Odpisy | C9: =Odpisy!B5+Odpisy!F5+Odpisy!J5 -> 18148.9 | D9: =Odpisy!B6+Odpisy!F6+Odpisy!J6 -> 36710.275 | E9: =Odpisy!B7+Odpisy!F7+Odpisy!J7 -> 36710.275 | F9: =Odpisy!B8+Odpisy!F8+Odpisy!J8 -> 36710.275 | G9: =Odpisy!B9+Odpisy!F9+Odpisy!J9 -> 36710.275
A10: CFBT | B10: =SUM(B4:B8) -> -164990 | C10: =SUM(C4:C8) -> -538202.79 | D10: =SUM(D4:D8) -> -548722.46 | E10: =SUM(E4:E8) -> -559938.19 | F10: =SUM(F4:F8) -> -571385.73 | G10: =SUM(G4:G8) -> -583069.95 | H10: =SUM(H4:H8) -> -594995.84 | I10: =SUM(I4:I8) -> -607168.46 | ... V10: =SUM(V4:V8) -> -790387.49
A11: Daň z příjmu | C11: =-(C10-C9)*$D$1 -> 105706.82 | D11: =-(D10-D9)*$D$1 -> 111232.22 | E11: =-(E10-E9)*$D$1 -> 113363.21 | F11: =-(F10-F9)*$D$1 -> 115538.24 | G11: =-(G10-G9)*$D$1 -> 117758.24 | H11: =-(H10-H9)*$D$1 -> 113049.21 | I11: =-(I10-I9)*$D$1 -> 115362.01 | J11: =-(J10-J9)*$D$1 -> 117722.67 | ... V11: =-(V10-V9)*$D$1 -> 150173.62
A12: CF | B12: =B10-B11 -> -164990 | C12: =C10+C11 -> -432495.97 | D12: =D10+D11 -> -437490.24 | E12: =E10+E11 -> -446574.98 | F12: =F10+F11 -> -455847.49 | G12: =G10+G11 -> -465311.71 | H12: =H10+H11 -> -481946.63 | I12: =I10+I11 -> -491806.45 | J12: =J10+J11 -> -501870.34 | ... V12: =V10+V11 -> -640213.87
A13: DCF | B13: =(B10-B11+B9)/POWER((1+$F$1),B3) -> -164990 | C13: =(C10+C11)/POWER((1+$F$1),C3) -> -379949.02 | D13: =(D10+D11)/POWER((1+$F$1),D3) -> -337640.78 | E13: =(E10+E11)/POWER((1+$F$1),E3) -> -302777.9 | F13: =(F10+F11)/POWER((1+$F$1),F3) -> -271514.25 | G13: =(G10+G11)/POWER((1+$F$1),G3) -> -243478.32 | H13: =(H10+H11)/POWER((1+$F$1),H3) -> -221543.25 | I13: =(I10+I11)/POWER((1+$F$1),I3) -> -198608.15 | J13: =(J10+J11)/POWER((1+$F$1),J3) -> -178048.22 | ... V13: =(V10+V11)/POWER((1+$F$1),V3) -> -47994.377
A15: NPV | B15: =SUM($B$13:$V$13) -> -3425088.9 | H15: Růst
A16: Roční ekvivalentní náklady | B16: =PMT(F1,20,1,,)*B15 -> 512078.34 | H16: Mzdy | I16: 0.02
A17: Počet výrobků za rok | B17: =160*12*0.99 -> 1900.8 | H17: Elektřina | I17: 0.015
A18: Náklady na výrobek | B18: =B16/B17 -> 269.40148 | H18: Hliník | I18: 0.05
H19: Ost. mat. | I19: 0.03

Sheet Var 2 vstupy
A1: Položka | B1: Cena v Kč | C1: Jednotka ceny | D1: Spotřeba | E1: Jednotka | F1: Cena na jednotku | G1: Jednotka
A2: Aluminium bending machine (20 let životnost) | B2: =10000*'Var 1 vstupy'!N2 -> 213100 | C2: Kč/ks | D2: 1 | E2: ks/20 let | F2: =B2*D2*1 -> 213100 | G2: Kč/20 let
A3: Aluminium | B3: =3.5*'Var 1 vstupy'!N2 -> 74.585 | C3: Kč/kg | D3: =PI()*2.3*4.5*PI()*0.6*0.6*2.7/1000 -> 0.099290194 | E3: kg/ks | F3: =B3*D3 -> 7.4055591 | G3: Kč/výrobek
A4: Spotřeba elektřiny (na kWh) | B4: 7.32451 | C4: Kč/kWh | D4: =0.5*10.5*6/60 -> 0.525 | E4: kWh/ks | F4: =B4*D4 -> 3.8453678 | G4: Kč/výrobek
A5: Spotřeba elektřiny (mesíční platby) | B5: =902.43*0.25 -> 225.6075 | C5: Kč/měsíc | D5: 12 | E5: měsíc/rok | F5: =B5*D5 -> 2707.29 | G5: Kč/rok
A6: Nůžky na stříhání drátků | B6: 399 | C6: Kč/ks | D6: 1 | E6: ks/rok | F6: 399 | G6: Kč/rok
A7: Zaměstnanec | B7: 42615 | C7: Kč/měsíc | D7: 12 | E7: ks/rok | F7: =B7*D7 -> 511380 | G7: Kč/rok
A8: Opravy | B8: =7.5*'Var 1 vstupy'!N2*21 -> 3356.325 | C8: Kč/měsíc | D8: 12 | E8: ks/rok | F8: =B8*D8 -> 40275.9 | G8: Kč/rok
A9: Zmetkovitost | B9: 0.02
A10: Počet výrobků | B10: 19200

Sheet Var 2
C1: Daň | D1: 0.19 | E1: Diskont | F1: 0.1383
A3: Rok | B3: 0 | C3: 1 | D3: 2 | E3: 3 | F3: 4 | G3: 5 | H3: 6 | I3: 7 | J3: 8 | K3: 9 | L3: 10 | M3: 11 | N3: 12 | O3: 13 | P3: 14 | Q3: 15 | R3: 16 | S3: 17 | T3: 18 | U3: 19 | V3: 20
A4: Investice | B4: =-'Var 2 vstupy'!F2 -> -213100
A5: Provozní náklady | C5: =-('Var 2 vstupy'!$F$3+'Var 2 vstupy'!$F$4)*19200-'Var 2 vstupy'!$F$5 -> -218725.09 | D5: =-('Var 2 vstupy'!$F$3*POWER(1+$I$18,D3-1)+'Var 2 vstupy'!$F$4*POWER(1+$I$17,D3-1))*19200-'Var 2 vstupy'!$F$5*POWER(1+$I$17,D3-1) -> -226982.5 | E5: =-('Var 2 vstupy'!$F$3*POWER(1+$I$18,E3-1)+'Var 2 vstupy'!$F$4*POWER(1+$I$17,E3-1))*19200-'Var 2 vstupy'!$F$5*POWER(1+$I$17,E3-1) -> -235612.6 | F5: =-('Var 2 vstupy'!$F$3*POWER(1+$I$18,F3-1)+'Var 2 vstupy'!$F$4*POWER(1+$I$17,F3-1))*19200-'Var 2 vstupy'!$F$5*POWER(1+$I$17,F3-1) -> -244633.42 | G5: =-('Var 2 vstupy'!$F$3*POWER(1+$I$18,G3-1)+'Var 2 vstupy'!$F$4*POWER(1+$I$17,G3-1))*19200-'Var 2 vstupy'!$F$5*POWER(1+$I$17,G3-1) -> -254063.88 | H5: =-('Var 2 vstupy'!$F$3*POWER(1+$I$18,H3-1)+'Var 2 vstupy'!$F$4*POWER(1+$I$17,H3-1))*19200-'Var 2 vstupy'!$F$5*POWER(1+$I$17,H3-1) -> -263923.85 | I5: =-('Var 2 vstupy'!$F$3*POWER(1+$I$18,I3-1)+'Var 2 vstupy'!$F$4*POWER(1+$I$17,I3-1))*19200-'Var 2 vstupy'!$F$5*POWER(1+$I$17,I3-1) -> -274234.17 | J5: =-('Var 2 vstupy'!$F$3*POWER(1+$I$18,J3-1)+'Var 2 vstupy'!$F$4*POWER(1+$I$17,J3-1))*19200-'Var 2 vstupy'!$F$5*POWER(1+$I$17,J3-1) -> -285016.71 | K5: =-('Var 2 vstupy'!$F$3*POWER(1+$I$18,K3-1)+'Var 2 vstupy'!$F$4*POWER(1+$I$17,K3-1))*19200-'Var 2 vstupy'!$F$5*POWER(1+$I$17,K3-1) -> -296294.45 | ... V5: =-('Var 2 vstupy'!$F$3*POWER(1+$I$18,V3-1)+'Var 2 vstupy'!$F$4*POWER(1+$I$17,V3-1))*19200-'Var 2 vstupy'!$F$5*POWER(1+$I$17,V3-1) -> -460861.42
A6: Drobný spotřební materiál | C6: =-'Var 2 vstupy'!$F$6 -> -399 | D6: =-'Var 2 vstupy'!$F$6*POWER(1+$I$19,D3-1) -> -410.97 | E6: =-'Var 2 vstupy'!$F$6*POWER(1+$I$19,E3-1) -> -423.2991 | F6: =-'Var 2 vstupy'!$F$6*POWER(1+$I$19,F3-1) -> -435.99807 | G6: =-'Var 2 vstupy'!$F$6*POWER(1+$I$19,G3-1) -> -449.07802 | H6: =-'Var 2 vstupy'!$F$6*POWER(1+$I$19,H3-1) -> -462.55036 | I6: =-'Var 2 vstupy'!$F$6*POWER(1+$I$19,I3-1) -> -476.42687 | J6: =-'Var 2 vstupy'!$F$6*POWER(1+$I$19,J3-1) -> -490.71967 | K6: =-'Var 2 vstupy'!$F$6*POWER(1+$I$19,K3-1) -> -505.44126 | ... V6: =-'Var 2 vstupy'!$F$6*POWER(1+$I$19,V3-1) -> -699.64892
A7: Mzdy | C7: =-'Var 2 vstupy'!$F$7 -> -511380 | D7: =-'Var 2 vstupy'!$F$7*POWER(1+$I$16,D3-1) -> -521607.6 | E7: =-'Var 2 vstupy'!$F$7*POWER(1+$I$16,E3-1) -> -532039.75 | F7: =-'Var 2 vstupy'!$F$7*POWER(1+$I$16,F3-1) -> -542680.55 | G7: =-'Var 2 vstupy'!$F$7*POWER(1+$I$16,G3-1) -> -553534.16 | H7: =-'Var 2 vstupy'!$F$7*POWER(1+$I$16,H3-1) -> -564604.84 | I7: =-'Var 2 vstupy'!$F$7*POWER(1+$I$16,I3-1) -> -575896.94 | J7: =-'Var 2 vstupy'!$F$7*POWER(1+$I$16,J3-1) -> -587414.88 | K7: =-'Var 2 vstupy'!$F$7*POWER(1+$I$16,K3-1) -> -599163.17 | ... V7: =-'Var 2 vstupy'!$F$7*POWER(1+$I$16,V3-1) -> -744984.1
A8: Opravy | C8: =-'Var 2 vstupy'!$F$8 -> -40275.9 | D8: =-'Var 2 vstupy'!$F$8*POWER(1+$I$19,D3-1) -> -41484.177 | E8: =-'Var 2 vstupy'!$F$8*POWER(1+$I$19,E3-1) -> -42728.702 | F8: =-'Var 2 vstupy'!$F$8*POWER(1+$I$19,F3-1) -> -44010.563 | G8: =-'Var 2 vstupy'!$F$8*POWER(1+$I$19,G3-1) -> -45330.88 | H8: =-'Var 2 vstupy'!$F$8*POWER(1+$I$19,H3-1) -> -46690.807 | I8: =-'Var 2 vstupy'!$F$8*POWER(1+$I$19,I3-1) -> -48091.531 | J8: =-'Var 2 vstupy'!$F$8*POWER(1+$I$19,J3-1) -> -49534.277 | K8: =-'Var 2 vstupy'!$F$8*POWER(1+$I$19,K3-1) -> -51020.305 | ... V8: =-'Var 2 vstupy'!$F$8*POWER(1+$I$19,V3-1) -> -70624.034
A9: Odpisy | C9: =Odpisy!B14 -> 23441 | D9: =Odpisy!B15 -> 47414.75 | E9: =Odpisy!B16 -> 47414.75 | F9: =Odpisy!B17 -> 47414.75 | G9: =Odpisy!B18 -> 47414.75
A10: CFBT | B10: =SUM(B4:B8) -> -213100 | C10: =SUM(C4:C8) -> -770779.99 | D10: =SUM(D4:D8) -> -790485.25 | E10: =SUM(E4:E8) -> -810804.35 | F10: =SUM(F4:F8) -> -831760.53 | G10: =SUM(G4:G8) -> -853378 | H10: =SUM(H4:H8) -> -875682.05 | I10: =SUM(I4:I8) -> -898699.06 | ... V10: =SUM(V4:V8) -> -1277169.2
A11: Daň | C11: =-(C10-C9)*$D$1 -> 150901.99 | D11: =-(D10-D9)*$D$1 -> 159201 | E11: =-(E10-E9)*$D$1 -> 163061.63 | F11: =-(F10-F9)*$D$1 -> 167043.3 | G11: =-(G10-G9)*$D$1 -> 171150.62 | H11: =-(H10-H9)*$D$1 -> 166379.59 | I11: =-(I10-I9)*$D$1 -> 170752.82 | J11: =-(J10-J9)*$D$1 -> 175266.75 | ... V11: =-(V10-V9)*$D$1 -> 242662.15
A12: CF | B12: =B10-B11 -> -213100 | C12: =C10+C11 -> -619878 | D12: =D10+D11 -> -631284.25 | E12: =E10+E11 -> -647742.72 | F12: =F10+F11 -> -664717.22 | G12: =G10+G11 -> -682227.38 | H12: =H10+H11 -> -709302.46 | I12: =I10+I11 -> -727946.24 | J12: =J10+J11 -> -747189.84 | ... V12: =V10+V11 -> -1034507.1
A13: DCF | B13: =(B10-B11+B9)/POWER((1+$F$1),B3) -> -213100 | C13: =(C10+C11)/POWER((1+$F$1),C3) -> -544564.7 | D13: =(D10+D11)/POWER((1+$F$1),D3) -> -487204.71 | E13: =(E10+E11)/POWER((1+$F$1),E3) -> -439169.67 | F13: =(F10+F11)/POWER((1+$F$1),F3) -> -395922.32 | G13: =(G10+G11)/POWER((1+$F$1),G3) -> -356981.3 | H13: =(H10+H11)/POWER((1+$F$1),H3) -> -326055.14 | I13: =(I10+I11)/POWER((1+$F$1),I3) -> -293969.42 | J13: =(J10+J11)/POWER((1+$F$1),J3) -> -265080.07 | ... V13: =(V10+V11)/POWER((1+$F$1),V3) -> -77553.024
A15: NPV | B15: =SUM($B$13:$V$13) -> -5057366.8 | H15: Růst
A16: Roční ekvivalentní náklady | B16: =PMT(F1,20,1,,)*B15 -> 756117.02 | H16: Mzdy | I16: 0.02
A17: Počet výrobků za rok | B17: =19200*0.98 -> 18816 | H17: Elektřina | I17: 0.015
A18: Náklady na výrobek | B18: =B16/B17 -> 40.18479 | H18: Hliník | I18: 0.05
H19: Ost. mat. | I19: 0.03

Sheet Cit An
B2: Investiční výdaje | F2: Kurz dolaru | J2: Růst mezd | N2: Růst ceny elektřiny | R2: Růst cen hliníku
B3: Změna o | C3: 3Dn | D3: OH | F3: Změna o | G3: 3Dn | H3: OH | J3: Růst | K3: 3Dn | L3: OH | N3: Růst | O3: 3Dn | P3: OH | R3: Růst | S3: 3Dn | T3: OH
B4: -0.2 | C4: =266.38+(0.76) -> 267.14 | D4: 39.89 | F4: -0.04 | G4: 269.2 | H4: 39.71 | J4: 0 | K4: 242.59 | L4: 37.48 | N4: -0.015 | O4: 269.24 | P4: 39.63 | R4: -0.16 | S4: 269.34 | T4: 34.94
B5: -0.16 | C5: =266.83+(0.76) -> 267.59 | D5: 39.95 | F5: -0.02 | G5: 269.3 | H5: 39.95 | J5: 0.02 | K5: 270.4 | L5: 40.18 | N5: 0 | O5: 269.32 | P5: 39.89 | R5: -0.12 | S5: 269.35 | T5: 35.4
B6: -0.12 | C6: =267.29+(0.75) -> 268.04 | D6: 40.01 | F6: 0 | G6: 269.4 | H6: 40.18 | J6: 0.04 | K6: 301.67 | L6: 43.44 | N6: 0.015 | O6: 268.4 | P6: 40.18 | R6: -0.08 | S6: 269.35 | T6: 36.01
B7: -0.08 | C7: =267.74+(0.75) -> 268.49 | D7: 40.07 | F7: 0.04 | G7: 269.6 | H7: 40.65 | J7: 0.06 | K7: 340.73 | L7: 47.39 | N7: 0.03 | O7: 269.5 | P7: 40.53 | R7: -0.04 | S7: 269.36 | T7: 36.84
B8: -0.04 | C8: =268.19+(0.75) -> 268.94 | D8: 40.13 | F8: 0.08 | G8: 269.8 | H8: 41.13 | J8: 0.08 | K8: 388.25 | L8: 52.19 | N8: 0.045 | O8: 269.61 | P8: 40.92 | R8: 0 | S8: 269.37 | T8: 38
B9: 0 | C9: =268.65+(0.75) -> 269.4 | D9: 40.18 | F9: 0.12 | G9: 270 | H9: 41.6 | K9: =K8/K5 -> 1.4358358 | L9: =L8/L5 -> 1.2989049 | N9: 0.06 | O9: 268.73 | P9: 41.2 | R9: 0.04 | S9: 269.39 | T9: 39.66
B10: 0.04 | C10: =269.1+(0.75) -> 269.85 | D10: 40.24 | F10: 0.16 | G10: 270.2 | H10: 42.07 | O10: =O9/O6 -> 1.0012295 | P10: =P9/P6 -> 1.0253858 | R10: 0.08 | S10: 269.42 | T10: 42.09
B11: 0.08 | C11: =269.55+(0.75) -> 270.3 | D11: 40.3 | F11: 0.2 | G11: 270.39 | H11: 42.55 | R11: 0.12 | S11: 269.46 | T11: 45.72
B12: 0.12 | C12: =270.01+(0.75) -> 270.76 | D12: 40.36 | F12: 0.24 | G12: 270.59 | H12: 43.02 | R12: 0.16 | S12: 269.52 | T12: 51.23
B13: 0.16 | C13: =270.46+(0.75) -> 271.21 | D13: 40.42 | F13: 0.28 | G13: 270.79 | H13: 43.5 | S13: =S12/'Var 1'!B18 -> 1.0004399 | T13: =T12/'Var 2'!B18 -> 1.2748604
B14: 0.2 | C14: =270.91+(0.76) -> 271.67 | D14: 40.48 | F14: 0.32 | G14: 270.99 | H14: 43.98
C15: =C14/C9 -> 1.0084261 | D15: =D14/D9 -> 1.0074664 | G15: =G14/G6 -> 1.005902 | H15: =H14/H6 -> 1.0945744 | J15: Diskont
B16: Růst cen ost. mat. | J16: Změna na | K16: 3Dn | L16: OH
B17: Růst | C17: 3Dn | D17: OH | J17: 0.06 | K17: 275.43 | L17: 41.72
B18: -0.04 | C18: 265.48 | D18: 39.51 | J18: 0.08 | K18: 273.43 | L18: 41.24
B19: -0.02 | C19: 266.36 | D19: 39.66 | J19: 0.1 | K19: 271.75 | L19: 40.82
B20: 0 | C20: 267.42 | D20: 39.84 | J20: 0.12 | K20: 270.39 | L20: 40.46
B21: 0.02 | C21: 268.67 | D21: 40.05 | J21: 0.14 | K21: 269.32 | L21: 40.16
B22: 0.04 | C22: 270.19 | D22: 40.31 | J22: 0.16 | K22: 268.55 | L22: 39.91
B23: 0.06 | C23: 272.03 | D23: 40.63 | J23: 0.18 | K23: 268.03 | L23: 39.71
B24: 0.08 | C24: 274.26 | D24: 41.01 | J24: 0.2 | K24: 267.76 | L24: 39.56
B25: 0.1 | C25: 276.99 | D25: 41.48
B26: 0.12 | C26: 280.34 | D26: 42.06 | K26: =K24/K21 -> 0.99420763 | L26: =L24/L21 -> 0.98505976
C27: =C26/'Var 1'!B18 -> 1.040603 | D27: =D26/'Var 2'!B18 -> 1.0466647

Sheet Odpisy
A2: 3D Tiskárna Prusa Original SL1S SPEED | E2: Mycí a vytvrzovací stanice CW1S | I2: Napařovací komora
A3: Rok | B3: Odpis | C3: Zůstatková hod. | E3: Rok | F3: Odpis | G3: Zůstatková hod. | I3: Rok | J3: Odpis | K3: Zůstatková hod.
A4: 0 | C4: ='Var 1 vstupy'!F2 -> 47995 | E4: 0 | G4: ='Var 1 vstupy'!F3 -> 16995 | I4: 0 | K4: ='Var 1 vstupy'!F4 -> 100000
A5: 1 | B5: =C4*11/100 -> 5279.45 | C5: =C4-B5 -> 42715.55 | E5: 1 | F5: =G4*11/100 -> 1869.45 | G5: =G4-F5 -> 15125.55 | I5: 1 | J5: =K4*11/100 -> 11000 | K5: =K4-J5 -> 89000
A6: 2 | B6: =$C$4*22.25/100 -> 10678.888 | C6: =C5-B6 -> 32036.663 | E6: 2 | F6: =$G$4*22.25/100 -> 3781.3875 | G6: =G5-F6 -> 11344.162 | I6: 2 | J6: =$K$4*22.25/100 -> 22250 | K6: =K5-J6 -> 66750
A7: 3 | B7: =$C$4*22.25/100 -> 10678.888 | C7: =C6-B7 -> 21357.775 | E7: 3 | F7: =$G$4*22.25/100 -> 3781.3875 | G7: =G6-F7 -> 7562.775 | I7: 3 | J7: =$K$4*22.25/100 -> 22250 | K7: =K6-J7 -> 44500
A8: 4 | B8: =$C$4*22.25/100 -> 10678.888 | C8: =C7-B8 -> 10678.888 | E8: 4 | F8: =$G$4*22.25/100 -> 3781.3875 | G8: =G7-F8 -> 3781.3875 | I8: 4 | J8: =$K$4*22.25/100 -> 22250 | K8: =K7-J8 -> 22250
A9: 5 | B9: =$C$4*22.25/100 -> 10678.888 | C9: =C8-B9 -> 0 | E9: 5 | F9: =$G$4*22.25/100 -> 3781.3875 | G9: =G8-F9 -> 0 | I9: 5 | J9: =$K$4*22.25/100 -> 22250 | K9: =K8-J9 -> 0
A11: Zařízení na ohýbání hliníku
A12: Rok | B12: Odpis | C12: Zůstatková hod.
A13: 0 | C13: ='Var 2 vstupy'!F2 -> 213100
A14: 1 | B14: =C13*11/100 -> 23441 | C14: =C13-B14 -> 189659
A15: 2 | B15: =$C$13*22.25/100 -> 47414.75 | C15: =C14-B15 -> 142244.25
A16: 3 | B16: =$C$13*22.25/100 -> 47414.75 | C16: =C15-B16 -> 94829.5
A17: 4 | B17: =$C$13*22.25/100 -> 47414.75 | C17: =C16-B17 -> 47414.75
A18: 5 | B18: =$C$13*22.25/100 -> 47414.75 | C18: =C17-B18 -> 0
