{"text_format":"1","workbook":"xlsx","n_sheets":9,"sheets":["zadani","vysledky","Fire Devc A","Fire Devc B","Fire Devc C","Fire Devc D","Fire Devc E","Fire Devc F","Tabl"],"not_rendered":{"charts":0,"images":1,"macros":1,"external_links":0,"defined_names":1,"comments":0,"pivot_tables":0},"unopened":[],"bounds":{"document_bytes":16777216,"sheet_cells":100000,"rows_first":2000,"rows_last":500,"rows_between":2000,"halvings":0,"cell_chars":16384,"cell_head_chars":4096},"cells_cut":0,"cells_raw":0,"read":"whole","date_system":"1900"}

{"sheet":"zadani","index":0,"n_rows":42,"n_cols":21,"rows_kept":42,"cut":false,"hidden":false,"merged":[[1,1,1,7],[4,1,4,7],[24,1,24,5],[22,1,22,7],[23,6,23,7],[23,1,23,5],[2,1,2,7],[8,1,8,5],[7,1,7,5],[6,1,6,5],[5,1,5,5],[9,1,11,4],[3,1,3,7],[12,1,12,5],[4,20,32,20],[24,6,24,7],[32,6,32,7],[31,6,31,7],[30,6,30,7],[7,10,8,10],[9,10,10,10],[11,10,12,10],[15,10,16,10],[17,10,18,10],[13,10,14,10],[5,10,6,10],[5,16,5,17],[5,11,6,11],[4,10,4,17],[29,6,29,7],[3,10,3,17],[18,1,20,1],[20,10,20,17],[5,12,5,13],[5,14,5,15],[13,1,13,5],[14,1,14,5],[36,5,36,7],[33,6,33,7],[34,6,34,7],[26,1,26,7],[27,1,27,3],[27,5,27,7],[28,6,28,7]]}
[]
[null,"Skript pro odhořívání povrchů v programu CFAST"]
[null,null,null,null,null,null,null,null,null,null,null,null,null,null,null,null,null,null,null,null,"Poznámky a dodatečné informace"]
[null,"CFAST Tabs: Compartments",null,null,null,null,null,null,null,null,"CFAST Tabs: Wall Vents, Ceiling/Floor Vents"]
[null,"Základní informace",null,null,null,null,null,null,null,null,"Otvory v konstrukcích",null,null,null,null,null,null,null,null,null,"1) Tato sekce poznámek a dodatečných infrmací není určena k tisku.\n2) Všechny šedé pole musí být vyplněny hodnotou, i kdyby hodnotou nulovu.\n3) Pokud kontrola uvádí hlášku \"fatal error\", je nutné zvolit hrubější dělení na jednotkové požáry. Nebo omezit plochy, kde budou požáry osazovány.\n4) Do každé stěny dovoluje doplněk vložit pouze dva otvory, jelikož každé okno zavádí nepřesnosti. Doplněk nedopočítává přesné rozložení ploch jednotkových požárů v okolí oken a pouze vynechává jednotkové požáry, které mají střed své plochy v daném otvoru.\n5) Rozměry otvorů je nutno do zadání vkládat pouze pokud se na danou stěnu vkládají jednotkové požáry.\n6) Otvory mohou nahrazovat i prostory, které mají nehořlavé povrchy. Vstupní hodnoty na tomto listu nejsou vkládány do výpočtu, jsou pouze používány.\n5) Pokud je požadován odlišný počet vrstev jednotkových požárů i v sobě protilehlých stranách místnosti, lze použít výsledky postupně pro různé vstupy bez vytvoření systematické chyby. V ostatních hodnotách vstupních dat není tento postup možný.\n6) Počátek souřadnic kartézké soustavy [0;0;0] je v souladu s náčrtem i programem CFAST umístěn v předním spodním rohu stěny A.\n7) Pro správné fungování skriptu je nutné mít povolená makra."]
[null,"označení místnosti",null,null,null,null,"C1",null,null,null,"stěna","otvor","x [m]",null,"y [m]",null,"z [m]"]
[null,"šířka místnost (x)",null,null,null,null,5,"m",null,null,null,null,"od","do","od","do","od","do"]
[null,"délka místnosti (y)",null,null,null,null,10,"m",null,null,"A (front)","ne",0,0,"-","-",0,0]
[null,"výška místnosti (z)",null,null,null,null,3.5,"m",null,null,null,"ne",0,0,"-","-",0,0]
[null,"osazovat požáry od vzdálenosti",null,null,null,"x =     ",0,"m",null,null,"B (right)","ne","-","-",0,0,0,0]
[null,null,null,null,null,"y =     ",0,"m",null,null,null,"ne","-","-",0,0,0,0]
[null,null,null,null,null,"z =     ",0,"m",null,null,"C (back)","ne",0,0,"-","-",0,0]
[null,"vzdálenost jednotkového požáru od stěn",null,null,null,null,0.05,"m",null,null,null,"ne",0,0,"-","-",0,0]
[null,"vzdálenost jednotkového požáru od stropu",null,null,null,null,0.1,"m",null,null,"D (left)","ne","-","-",0,0,0,0]
[null,"vzdálenost jednotkového požáru od podlahy",null,null,null,null,0.01,"m",null,null,null,"ne","-","-",0,0,0,0]
[null,"počet vrstev jednotkových požárů v délce místnost (x)",null,null,null,null,5,null,null,null,"E (top)","ne",0,0,0,0,"-","-"]
[null,"počet vrstev jednotkových požárů v šířce místnost (y)",null,null,null,null,10,null,null,null,null,"ne",0,0,0,0,"-","-"]
[null,"počet vrstev jednotkových požárů ve výšce místnost (z)",null,null,null,null,4,null,null,null,"F (bottom)","ne",0,0,0,0,"-","-"]
[null,"osazení požárů na stěny","          A","ne",null,"          D","ne",null,null,null,null,"ne",0,0,0,0,"-","-"]
[null,null,"          B","ne",null,"          E","ne"]
[null,null,"          C","ne",null,"          F","ne",null,null,null,"Náčrtek"]
[]
[null,"Kontrola"]
[null,"Přesahuje dělení na jednotkové požáry schopnosti skriptu?",null,null,null,null,{"$f":"IF(OR(AND('Fire Devc A'!E4=\"pozor\",D19=\"ano\"),AND('Fire Devc B'!E4=\"pozor\",D20=\"ano\"),AND('Fire Devc C'!E4=\"pozor\",D21=\"ano\"),AND('Fire Devc D'!E4=\"pozor\",G19=\"ano\"),AND('Fire Devc E'!E4=\"pozor\",G20=\"ano\"),AND('Fire Devc F'!E4=\"pozor\",G21=\"ano\"),Tabl!J211=\"pozor\",Tabl!K211=\"pozor\"),\"fatal error\",\"ok\")","v":"ok"}]
[null,"Jaký je celkový počet osazených jednotkových požárů?",null,null,null,null,{"$f":"SUMPRODUCT((vysledky!B:B<>\"\")*1)-1","v":0}]
[]
[null,"CFAST Tabs: Fires, Targets"]
[null,"Vlastnosti hoření",null,null,null,"HRR křivka"]
[null,"uhlík",39.299999999999997,null,null,"čas [s]","HRR [kW/m^2]"]
[null,"chlór",0,null,null,0,0]
[null,"vodík",4.7,null,null,60,210]
[null,"dusík",0.4,null,null,400,100]
[null,"kyslík",34.1,null,null,750,180]
[null,"spalné teplo",14277,"kJ/kg",null,1000,50]
[null,"radiační frakce",0.35,null,null,1010,50]
[null,"půdorysná plocha",0.1,"m^2"]
[null,"vypouštění CO",0,null,null,"Vlastnosti Měřících terčů"]
[null,"vypouštění sazí",0,null,null,"ID materiálu","M1"]
[null,"vypouštění HCN",0,null,null,"typ","PLATE"]
[null,"vypouštění HCL",0,null,null,"orientace","FLOOR"]
[null,"vypouštění stopy",0,null,null,"tloušťka",1.4999999999999999E-2,"m"]
[null,"zlomová teplota",250,"°C",null,"hloubka měření",0,"m"]

{"sheet":"vysledky","index":1,"n_rows":1002,"n_cols":9,"rows_kept":1002,"cut":false,"hidden":false,"merged":[[7,8,29,8]]}
[]
[null,"!! Fires",{"$f":"IF(OR(zadani!$D$19=\"ano\",zadani!$D$21=\"ano\"),Tabl!J3,\"\")","v":""},{"$f":"IF(OR(zadani!$D$20=\"ano\",zadani!$G$19=\"ano\"),Tabl!K3,\"\")","v":""},{"$f":"IF(zadani!$G$20=\"ano\",Tabl!L3,\"\")","v":""},"!! Devices"," "]
[null,{"$f":"IF(zadani!$G$19=\"ano\",'Fire Devc D'!$T$26,\"\")","v":""},{"$f":"IF(OR(zadani!$D$19=\"ano\",zadani!$D$21=\"ano\"),Tabl!J4,\"\")","v":""},{"$f":"IF(OR(zadani!$D$20=\"ano\",zadani!$G$19=\"ano\"),Tabl!K4,\"\")","v":""},{"$f":"IF(zadani!$G$20=\"ano\",Tabl!L4,\"\")","v":""},{"$f":"IF(zadani!$G$19=\"ano\",'Fire Devc D'!$V$26,\"\")","v":""}," "]
[null,{"$f":"IF(zadani!$G$19=\"ano\",'Fire Devc D'!$T$25,\"\")","v":""},{"$f":"IF(OR(zadani!$D$19=\"ano\",zadani!$D$21=\"ano\"),Tabl!J5,\"\")","v":""},{"$f":"IF(OR(zadani!$D$20=\"ano\",zadani!$G$19=\"ano\"),Tabl!K5,\"\")","v":""},{"$f":"IF(zadani!$G$20=\"ano\",Tabl!L5,\"\")","v":""},{"$f":"IF(zadani!$G$19=\"ano\",'Fire Devc D'!$V$25,\"\")","v":""}," "]
[null,{"$f":"IF(zadani!$G$19=\"ano\",'Fire Devc D'!$T$24,\"\")","v":""},{"$f":"IF(OR(zadani!$D$19=\"ano\",zadani!$D$21=\"ano\"),Tabl!J6,\"\")","v":""},{"$f":"IF(OR(zadani!$D$20=\"ano\",zadani!$G$19=\"ano\"),Tabl!K6,\"\")","v":""},{"$f":"IF(zadani!$G$20=\"ano\",Tabl!L6,\"\")","v":""},{"$f":"IF(zadani!$G$19=\"ano\",'Fire Devc D'!$V$24,\"\")","v":""}," "]
[null,{"$f":"IF(zadani!$G$19=\"ano\",'Fire Devc D'!$T$23,\"\")","v":""},{"$f":"IF(OR(zadani!$D$19=\"ano\",zadani!$D$21=\"ano\"),Tabl!J7,\"\")","v":""},{"$f":"IF(OR(zadani!$D$20=\"ano\",zadani!$G$19=\"ano\"),Tabl!K7,\"\")","v":""},{"$f":"IF(zadani!$G$20=\"ano\",Tabl!L7,\"\")","v":""},{"$f":"IF(zadani!$G$19=\"ano\",'Fire Devc D'!$V$23,\"\")","v":""}," "]
[null,{"$f":"IF(zadani!$G$19=\"ano\",'Fire Devc D'!$T$22,\"\")","v":""},{"$f":"IF(OR(zadani!$D$19=\"ano\",zadani!$D$21=\"ano\"),Tabl!J8,\"\")","v":""},{"$f":"IF(OR(zadani!$D$20=\"ano\",zadani!$G$19=\"ano\"),Tabl!K8,\"\")","v":""},{"$f":"IF(zadani!$G$20=\"ano\",Tabl!L8,\"\")","v":""},{"$f":"IF(zadani!$G$19=\"ano\",'Fire Devc D'!$V$22,\"\")","v":""}," ",null,"SEKCE E: Postup používání doplňku"]
[null,{"$f":"IF(zadani!$G$19=\"ano\",'Fire Devc D'!$T$21,\"\")","v":""},{"$f":"IF(OR(zadani!$D$19=\"ano\",zadani!$D$21=\"ano\"),Tabl!J9,\"\")","v":""},{"$f":"IF(OR(zadani!$D$20=\"ano\",zadani!$G$19=\"ano\"),Tabl!K9,\"\")","v":""},{"$f":"IF(zadani!$G$20=\"ano\",Tabl!L9,\"\")","v":""},{"$f":"IF(zadani!$G$19=\"ano\",'Fire Devc D'!$V$21,\"\")","v":""}," ",null,"1) Vytvořte funkční model v programu CFAST neobsahující errory.\n2) Vložte všechny vstupní hodnoty v listě \"zadani\".\n3) Přepočítejte výsledky.\n4) Otevřete soubor výpočtu CFAST s koncovkou .in v textovém editoru.\n5) Označte v souboru výpočtu CFAST sekci !! Fires a !! Devices a nahraďte je sloupcem D z tohoto listu. \n6) Pod vložená data ze sloupce D postupně vložte data ze sloupců E až H tohoto listu.\n7) Pokud má soubor výpočtu CFAST více místností, kde je nutné osadit jednotkové požáry, vkládejte data s různými vstupními hodnotami pro dané místnosti v sekcích po místnostech pod sebe.\n8) Soubor výpočtu CFAST uložte a následně soubor otevřte programem CFAST.\n9) Daný postup odstraní iniciační či jakékoliv jiné požáry a měřící čidla. Pokud soubor výpočtu CFAST obsahuje již požáry a měřící terče, které je nutné zachovat, dané data v sekcích !! FIres a !! Devices nemažte."]
[null,{"$f":"IF(zadani!$G$19=\"ano\",'Fire Devc D'!$T$20,\"\")","v":""},{"$f":"IF(OR(zadani!$D$19=\"ano\",zadani!$D$21=\"ano\"),Tabl!J10,\"\")","v":""},{"$f":"IF(OR(zadani!$D$20=\"ano\",zadani!$G$19=\"ano\"),Tabl!K10,\"\")","v":""},{"$f":"IF(zadani!$G$20=\"ano\",Tabl!L10,\"\")","v":""},{"$f":"IF(zadani!$G$19=\"ano\",'Fire Devc D'!$V$20,\"\")","v":""}," "]
[null,{"$f":"IF(zadani!$G$19=\"ano\",'Fire Devc D'!$T$19,\"\")","v":""},{"$f":"IF(OR(zadani!$D$19=\"ano\",zadani!$D$21=\"ano\"),Tabl!J11,\"\")","v":""},{"$f":"IF(OR(zadani!$D$20=\"ano\",zadani!$G$19=\"ano\"),Tabl!K11,\"\")","v":""},{"$f":"IF(zadani!$G$21=\"ano\",Tabl!L11,\"\")","v":""},{"$f":"IF(zadani!$G$19=\"ano\",'Fire Devc D'!$V$19,\"\")","v":""}," "]
[null,{"$f":"IF(zadani!$G$19=\"ano\",'Fire Devc D'!$T$18,\"\")","v":""},{"$f":"IF(OR(zadani!$D$19=\"ano\",zadani!$D$21=\"ano\"),Tabl!J12,\"\")","v":""},{"$f":"IF(OR(zadani!$D$20=\"ano\",zadani!$G$19=\"ano\"),Tabl!K12,\"\")","v":""},{"$f":"IF(zadani!$G$21=\"ano\",Tabl!L12,\"\")","v":""},{"$f":"IF(zadani!$G$19=\"ano\",'Fire Devc D'!$V$18,\"\")","v":""}," "]
[null,{"$f":"IF(zadani!$G$19=\"ano\",'Fire Devc D'!$T$17,\"\")","v":""},{"$f":"IF(OR(zadani!$D$19=\"ano\",zadani!$D$21=\"ano\"),Tabl!J13,\"\")","v":""},{"$f":"IF(OR(zadani!$D$20=\"ano\",zadani!$G$19=\"ano\"),Tabl!K13,\"\")","v":""},{"$f":"IF(zadani!$G$21=\"ano\",Tabl!L13,\"\")","v":""},{"$f":"IF(zadani!$G$19=\"ano\",'Fire Devc D'!$V$17,\"\")","v":""}," "]
[null,{"$f":"IF(zadani!$G$19=\"ano\",'Fire Devc D'!$S$36,\"\")","v":""},{"$f":"IF(OR(zadani!$D$19=\"ano\",zadani!$D$21=\"ano\"),Tabl!J14,\"\")","v":""},{"$f":"IF(OR(zadani!$D$20=\"ano\",zadani!$G$19=\"ano\"),Tabl!K14,\"\")","v":""},{"$f":"IF(zadani!$G$21=\"ano\",Tabl!L14,\"\")","v":""},{"$f":"IF(zadani!$G$19=\"ano\",'Fire Devc D'!$U$36,\"\")","v":""}," "]
[null,{"$f":"IF(zadani!$G$19=\"ano\",'Fire Devc D'!$S$35,\"\")","v":""},{"$f":"IF(OR(zadani!$D$19=\"ano\",zadani!$D$21=\"ano\"),Tabl!J15,\"\")","v":""},{"$f":"IF(OR(zadani!$D$20=\"ano\",zadani!$G$19=\"ano\"),Tabl!K15,\"\")","v":""},{"$f":"IF(zadani!$G$21=\"ano\",Tabl!L15,\"\")","v":""},{"$f":"IF(zadani!$G$19=\"ano\",'Fire Devc D'!$U$35,\"\")","v":""}," "]
[null,{"$f":"IF(zadani!$G$19=\"ano\",'Fire Devc D'!$S$34,\"\")","v":""},{"$f":"IF(OR(zadani!$D$19=\"ano\",zadani!$D$21=\"ano\"),Tabl!J16,\"\")","v":""},{"$f":"IF(OR(zadani!$D$20=\"ano\",zadani!$G$19=\"ano\"),Tabl!K16,\"\")","v":""},{"$f":"IF(zadani!$G$21=\"ano\",Tabl!L16,\"\")","v":""},{"$f":"IF(zadani!$G$19=\"ano\",'Fire Devc D'!$U$34,\"\")","v":""}," "]
[null,{"$f":"IF(zadani!$G$19=\"ano\",'Fire Devc D'!$S$33,\"\")","v":""},{"$f":"IF(OR(zadani!$D$19=\"ano\",zadani!$D$21=\"ano\"),Tabl!J17,\"\")","v":""},{"$f":"IF(OR(zadani!$D$20=\"ano\",zadani!$G$19=\"ano\"),Tabl!K17,\"\")","v":""},{"$f":"IF(zadani!$G$21=\"ano\",Tabl!L17,\"\")","v":""},{"$f":"IF(zadani!$G$19=\"ano\",'Fire Devc D'!$U$33,\"\")","v":""}," "]
[null,{"$f":"IF(zadani!$G$19=\"ano\",'Fire Devc D'!$S$32,\"\")","v":""},{"$f":"IF(OR(zadani!$D$19=\"ano\",zadani!$D$21=\"ano\"),Tabl!J18,\"\")","v":""},{"$f":"IF(OR(zadani!$D$20=\"ano\",zadani!$G$19=\"ano\"),Tabl!K18,\"\")","v":""},{"$f":"IF(zadani!$G$21=\"ano\",Tabl!L18,\"\")","v":""},{"$f":"IF(zadani!$G$19=\"ano\",'Fire Devc D'!$U$32,\"\")","v":""}," "]
[null,{"$f":"IF(zadani!$G$19=\"ano\",'Fire Devc D'!$S$31,\"\")","v":""},{"$f":"IF(OR(zadani!$D$19=\"ano\",zadani!$D$21=\"ano\"),Tabl!J19,\"\")","v":""},{"$f":"IF(OR(zadani!$D$20=\"ano\",zadani!$G$19=\"ano\"),Tabl!K19,\"\")","v":""}," ",{"$f":"IF(zadani!$G$19=\"ano\",'Fire Devc D'!$U$31,\"\")","v":""}," "]
[null,{"$f":"IF(zadani!$G$19=\"ano\",'Fire Devc D'!$S$30,\"\")","v":""},{"$f":"IF(OR(zadani!$D$19=\"ano\",zadani!$D$21=\"ano\"),Tabl!J20,\"\")","v":""},{"$f":"IF(OR(zadani!$D$20=\"ano\",zadani!$G$19=\"ano\"),Tabl!K20,\"\")","v":""}," ",{"$f":"IF(zadani!$G$19=\"ano\",'Fire Devc D'!$U$30,\"\")","v":""}," "]
[null,{"$f":"IF(zadani!$G$19=\"ano\",'Fire Devc D'!$S$29,\"\")","v":""},{"$f":"IF(OR(zadani!$D$19=\"ano\",zadani!$D$21=\"ano\"),Tabl!J21,\"\")","v":""},{"$f":"IF(OR(zadani!$D$20=\"ano\",zadani!$G$19=\"ano\"),Tabl!K21,\"\")","v":""}," ",{"$f":"IF(zadani!$G$19=\"ano\",'Fire Devc D'!$U$29,\"\")","v":""}," "]
[null,{"$f":"IF(zadani!$G$19=\"ano\",'Fire Devc D'!$S$28,\"\")","v":""},{"$f":"IF(OR(zadani!$D$19=\"ano\",zadani!$D$21=\"ano\"),Tabl!J22,\"\")","v":""},{"$f":"IF(OR(zadani!$D$20=\"ano\",zadani!$G$19=\"ano\"),Tabl!K22,\"\")","v":""}," ",{"$f":"IF(zadani!$G$19=\"ano\",'Fire Devc D'!$U$28,\"\")","v":""}," "]
[null,{"$f":"IF(zadani!$G$19=\"ano\",'Fire Devc D'!$S$27,\"\")","v":""},{"$f":"IF(OR(zadani!$D$19=\"ano\",zadani!$D$21=\"ano\"),Tabl!J23,\"\")","v":""},{"$f":"IF(OR(zadani!$D$20=\"ano\",zadani!$G$19=\"ano\"),Tabl!K23,\"\")","v":""}," ",{"$f":"IF(zadani!$G$19=\"ano\",'Fire Devc D'!$U$27,\"\")","v":""}," "]
[null,{"$f":"IF(zadani!$D$21=\"ano\",'Fire Devc C'!$T$12,\"\")","v":""},{"$f":"IF(OR(zadani!$D$19=\"ano\",zadani!$D$21=\"ano\"),Tabl!J24,\"\")","v":""},{"$f":"IF(OR(zadani!$D$20=\"ano\",zadani!$G$19=\"ano\"),Tabl!K24,\"\")","v":""}," ",{"$f":"IF(zadani!$D$21=\"ano\",'Fire Devc C'!$V$12,\"\")","v":""}," "]
[null,{"$f":"IF(zadani!$D$21=\"ano\",'Fire Devc C'!$T$11,\"\")","v":""},{"$f":"IF(OR(zadani!$D$19=\"ano\",zadani!$D$21=\"ano\"),Tabl!J25,\"\")","v":""},{"$f":"IF(OR(zadani!$D$20=\"ano\",zadani!$G$19=\"ano\"),Tabl!K25,\"\")","v":""}," ",{"$f":"IF(zadani!$D$21=\"ano\",'Fire Devc C'!$V$11,\"\")","v":""}," "]
[null,{"$f":"IF(zadani!$D$21=\"ano\",'Fire Devc C'!$T$10,\"\")","v":""},{"$f":"IF(OR(zadani!$D$19=\"ano\",zadani!$D$21=\"ano\"),Tabl!J26,\"\")","v":""},{"$f":"IF(OR(zadani!$D$20=\"ano\",zadani!$G$19=\"ano\"),Tabl!K26,\"\")","v":""}," ",{"$f":"IF(zadani!$D$21=\"ano\",'Fire Devc C'!$V$10,\"\")","v":""}," "]
[null,{"$f":"IF(zadani!$D$21=\"ano\",'Fire Devc C'!$S$15,\"\")","v":""},{"$f":"IF(OR(zadani!$D$19=\"ano\",zadani!$D$21=\"ano\"),Tabl!J27,\"\")","v":""},{"$f":"IF(OR(zadani!$D$20=\"ano\",zadani!$G$19=\"ano\"),Tabl!K27,\"\")","v":""}," ",{"$f":"IF(zadani!$D$21=\"ano\",'Fire Devc C'!$U$15,\"\")","v":""}," "]
[null,{"$f":"IF(zadani!$D$21=\"ano\",'Fire Devc C'!$S$14,\"\")","v":""},{"$f":"IF(OR(zadani!$D$19=\"ano\",zadani!$D$21=\"ano\"),Tabl!J28,\"\")","v":""},{"$f":"IF(OR(zadani!$D$20=\"ano\",zadani!$G$19=\"ano\"),Tabl!K28,\"\")","v":""}," ",{"$f":"IF(zadani!$D$21=\"ano\",'Fire Devc C'!$U$14,\"\")","v":""}," "]
[null,{"$f":"IF(zadani!$D$21=\"ano\",'Fire Devc C'!$S$13,\"\")","v":""},{"$f":"IF(OR(zadani!$D$19=\"ano\",zadani!$D$21=\"ano\"),Tabl!J29,\"\")","v":""},{"$f":"IF(OR(zadani!$D$20=\"ano\",zadani!$G$19=\"ano\"),Tabl!K29,\"\")","v":""}," ",{"$f":"IF(zadani!$D$21=\"ano\",'Fire Devc C'!$U$13,\"\")","v":""}," "]
[null,{"$f":"IF(zadani!$D$20=\"ano\",'Fire Devc B'!$T$26,\"\")","v":""},{"$f":"IF(OR(zadani!$D$19=\"ano\",zadani!$D$21=\"ano\"),Tabl!J30,\"\")","v":""},{"$f":"IF(OR(zadani!$D$20=\"ano\",zadani!$G$19=\"ano\"),Tabl!K30,\"\")","v":""}," ",{"$f":"IF(zadani!$D$20=\"ano\",'Fire Devc B'!$V$26,\"\")","v":""}," "]
[null,{"$f":"IF(zadani!$D$20=\"ano\",'Fire Devc B'!$T$25,\"\")","v":""},{"$f":"IF(OR(zadani!$D$19=\"ano\",zadani!$D$21=\"ano\"),Tabl!J31,\"\")","v":""},{"$f":"IF(OR(zadani!$D$20=\"ano\",zadani!$G$19=\"ano\"),Tabl!K31,\"\")","v":""}," ",{"$f":"IF(zadani!$D$20=\"ano\",'Fire Devc B'!$V$25,\"\")","v":""}," "]
[null,{"$f":"IF(zadani!$D$20=\"ano\",'Fire Devc B'!$T$24,\"\")","v":""},{"$f":"IF(OR(zadani!$D$19=\"ano\",zadani!$D$21=\"ano\"),Tabl!J32,\"\")","v":""},{"$f":"IF(OR(zadani!$D$20=\"ano\",zadani!$G$19=\"ano\"),Tabl!K32,\"\")","v":""}," ",{"$f":"IF(zadani!$D$20=\"ano\",'Fire Devc B'!$V$24,\"\")","v":""}," "]
[null,{"$f":"IF(zadani!$D$20=\"ano\",'Fire Devc B'!$T$23,\"\")","v":""},{"$f":"IF(OR(zadani!$D$19=\"ano\",zadani!$D$21=\"ano\"),Tabl!J33,\"\")","v":""},{"$f":"IF(OR(zadani!$D$20=\"ano\",zadani!$G$19=\"ano\"),Tabl!K33,\"\")","v":""}," ",{"$f":"IF(zadani!$D$20=\"ano\",'Fire Devc B'!$V$23,\"\")","v":""}," "]
[null,{"$f":"IF(zadani!$D$20=\"ano\",'Fire Devc B'!$T$22,\"\")","v":""},{"$f":"IF(OR(zadani!$D$19=\"ano\",zadani!$D$21=\"ano\"),Tabl!J34,\"\")","v":""},{"$f":"IF(OR(zadani!$D$20=\"ano\",zadani!$G$19=\"ano\"),Tabl!K34,\"\")","v":""}," ",{"$f":"IF(zadani!$D$20=\"ano\",'Fire Devc B'!$V$22,\"\")","v":""}," "]
[null,{"$f":"IF(zadani!$D$20=\"ano\",'Fire Devc B'!$T$21,\"\")","v":""},{"$f":"IF(OR(zadani!$D$19=\"ano\",zadani!$D$21=\"ano\"),Tabl!J35,\"\")","v":""},{"$f":"IF(OR(zadani!$D$20=\"ano\",zadani!$G$19=\"ano\"),Tabl!K35,\"\")","v":""}," ",{"$f":"IF(zadani!$D$20=\"ano\",'Fire Devc B'!$V$21,\"\")","v":""}," "]
[null,{"$f":"IF(zadani!$D$20=\"ano\",'Fire Devc B'!$T$20,\"\")","v":""},{"$f":"IF(OR(zadani!$D$19=\"ano\",zadani!$D$21=\"ano\"),Tabl!J36,\"\")","v":""},{"$f":"IF(OR(zadani!$D$20=\"ano\",zadani!$G$19=\"ano\"),Tabl!K36,\"\")","v":""}," ",{"$f":"IF(zadani!$D$20=\"ano\",'Fire Devc B'!$V$20,\"\")","v":""}," "]
[null,{"$f":"IF(zadani!$D$20=\"ano\",'Fire Devc B'!$T$16,\"\")","v":""},{"$f":"IF(OR(zadani!$D$19=\"ano\",zadani!$D$21=\"ano\"),Tabl!J37,\"\")","v":""},{"$f":"IF(OR(zadani!$D$20=\"ano\",zadani!$G$19=\"ano\"),Tabl!K37,\"\")","v":""}," ",{"$f":"IF(zadani!$D$20=\"ano\",'Fire Devc B'!$V$16,\"\")","v":""}," "]
[null,{"$f":"IF(zadani!$D$20=\"ano\",'Fire Devc B'!$T$15,\"\")","v":""},{"$f":"IF(OR(zadani!$D$19=\"ano\",zadani!$D$21=\"ano\"),Tabl!J38,\"\")","v":""},{"$f":"IF(OR(zadani!$D$20=\"ano\",zadani!$G$19=\"ano\"),Tabl!K38,\"\")","v":""}," ",{"$f":"IF(zadani!$D$20=\"ano\",'Fire Devc B'!$V$15,\"\")","v":""}," "]
[null,{"$f":"IF(zadani!$D$20=\"ano\",'Fire Devc B'!$T$14,\"\")","v":""},{"$f":"IF(OR(zadani!$D$19=\"ano\",zadani!$D$21=\"ano\"),Tabl!J39,\"\")","v":""},{"$f":"IF(OR(zadani!$D$20=\"ano\",zadani!$G$19=\"ano\"),Tabl!K39,\"\")","v":""}," ",{"$f":"IF(zadani!$D$20=\"ano\",'Fire Devc B'!$V$14,\"\")","v":""}," "]
[null,{"$f":"IF(zadani!$D$20=\"ano\",'Fire Devc B'!$T$13,\"\")","v":""},{"$f":"IF(OR(zadani!$D$19=\"ano\",zadani!$D$21=\"ano\"),Tabl!J40,\"\")","v":""},{"$f":"IF(OR(zadani!$D$20=\"ano\",zadani!$G$19=\"ano\"),Tabl!K40,\"\")","v":""}," ",{"$f":"IF(zadani!$D$20=\"ano\",'Fire Devc B'!$V$13,\"\")","v":""}," "]
[null,{"$f":"IF(zadani!$D$20=\"ano\",'Fire Devc B'!$T$12,\"\")","v":""},{"$f":"IF(OR(zadani!$D$19=\"ano\",zadani!$D$21=\"ano\"),Tabl!J41,\"\")","v":""},{"$f":"IF(OR(zadani!$D$20=\"ano\",zadani!$G$19=\"ano\"),Tabl!K41,\"\")","v":""}," ",{"$f":"IF(zadani!$D$20=\"ano\",'Fire Devc B'!$V$12,\"\")","v":""}," "]
[null,{"$f":"IF(zadani!$D$20=\"ano\",'Fire Devc B'!$T$11,\"\")","v":""},{"$f":"IF(OR(zadani!$D$19=\"ano\",zadani!$D$21=\"ano\"),Tabl!J42,\"\")","v":""},{"$f":"IF(OR(zadani!$D$20=\"ano\",zadani!$G$19=\"ano\"),Tabl!K42,\"\")","v":""}," ",{"$f":"IF(zadani!$D$20=\"ano\",'Fire Devc B'!$V$11,\"\")","v":""}," "]
[null,{"$f":"IF(zadani!$D$20=\"ano\",'Fire Devc B'!$T$10,\"\")","v":""},{"$f":"IF(OR(zadani!$D$19=\"ano\",zadani!$D$21=\"ano\"),Tabl!J43,\"\")","v":""},{"$f":"IF(OR(zadani!$D$20=\"ano\",zadani!$G$19=\"ano\"),Tabl!K43,\"\")","v":""}," ",{"$f":"IF(zadani!$D$20=\"ano\",'Fire Devc B'!$V$10,\"\")","v":""}," "]
[null,{"$f":"IF(zadani!$D$20=\"ano\",'Fire Devc B'!$S$36,\"\")","v":""},{"$f":"IF(OR(zadani!$D$19=\"ano\",zadani!$D$21=\"ano\"),Tabl!J44,\"\")","v":""},{"$f":"IF(OR(zadani!$D$20=\"ano\",zadani!$G$19=\"ano\"),Tabl!K44,\"\")","v":""}," ",{"$f":"IF(zadani!$D$20=\"ano\",'Fire Devc B'!$U$36,\"\")","v":""}," "]
[null,{"$f":"IF(zadani!$D$20=\"ano\",'Fire Devc B'!$S$35,\"\")","v":""},{"$f":"IF(OR(zadani!$D$19=\"ano\",zadani!$D$21=\"ano\"),Tabl!J45,\"\")","v":""},{"$f":"IF(OR(zadani!$D$20=\"ano\",zadani!$G$19=\"ano\"),Tabl!K45,\"\")","v":""}," ",{"$f":"IF(zadani!$D$20=\"ano\",'Fire Devc B'!$U$35,\"\")","v":""}," "]
[null,{"$f":"IF(zadani!$D$20=\"ano\",'Fire Devc B'!$S$34,\"\")","v":""},{"$f":"IF(OR(zadani!$D$19=\"ano\",zadani!$D$21=\"ano\"),Tabl!J46,\"\")","v":""},{"$f":"IF(OR(zadani!$D$20=\"ano\",zadani!$G$19=\"ano\"),Tabl!K46,\"\")","v":""}," ",{"$f":"IF(zadani!$D$20=\"ano\",'Fire Devc B'!$U$34,\"\")","v":""}," "]
[null,{"$f":"IF(zadani!$D$20=\"ano\",'Fire Devc B'!$S$33,\"\")","v":""},{"$f":"IF(OR(zadani!$D$19=\"ano\",zadani!$D$21=\"ano\"),Tabl!J47,\"\")","v":""},{"$f":"IF(OR(zadani!$D$20=\"ano\",zadani!$G$19=\"ano\"),Tabl!K47,\"\")","v":""}," ",{"$f":"IF(zadani!$D$20=\"ano\",'Fire Devc B'!$U$33,\"\")","v":""}," "]
[null,{"$f":"IF(zadani!$D$20=\"ano\",'Fire Devc B'!$S$32,\"\")","v":""},{"$f":"IF(OR(zadani!$D$19=\"ano\",zadani!$D$21=\"ano\"),Tabl!J48,\"\")","v":""},{"$f":"IF(OR(zadani!$D$20=\"ano\",zadani!$G$19=\"ano\"),Tabl!K48,\"\")","v":""}," ",{"$f":"IF(zadani!$D$20=\"ano\",'Fire Devc B'!$U$32,\"\")","v":""}," "]
[null,{"$f":"IF(zadani!$D$20=\"ano\",'Fire Devc B'!$S$31,\"\")","v":""},{"$f":"IF(OR(zadani!$D$19=\"ano\",zadani!$D$21=\"ano\"),Tabl!J49,\"\")","v":""},{"$f":"IF(OR(zadani!$D$20=\"ano\",zadani!$G$19=\"ano\"),Tabl!K49,\"\")","v":""}," ",{"$f":"IF(zadani!$D$20=\"ano\",'Fire Devc B'!$U$31,\"\")","v":""}," "]
[null,{"$f":"IF(zadani!$D$20=\"ano\",'Fire Devc B'!$S$30,\"\")","v":""},{"$f":"IF(OR(zadani!$D$19=\"ano\",zadani!$D$21=\"ano\"),Tabl!J50,\"\")","v":""},{"$f":"IF(OR(zadani!$D$20=\"ano\",zadani!$G$19=\"ano\"),Tabl!K50,\"\")","v":""}," ",{"$f":"IF(zadani!$D$20=\"ano\",'Fire Devc B'!$U$30,\"\")","v":""}," "]
[null,{"$f":"IF(zadani!$D$20=\"ano\",'Fire Devc B'!$S$29,\"\")","v":""},{"$f":"IF(OR(zadani!$D$19=\"ano\",zadani!$D$21=\"ano\"),Tabl!J51,\"\")","v":""},{"$f":"IF(OR(zadani!$D$20=\"ano\",zadani!$G$19=\"ano\"),Tabl!K51,\"\")","v":""}," ",{"$f":"IF(zadani!$D$20=\"ano\",'Fire Devc B'!$U$29,\"\")","v":""}," "]
[null,{"$f":"IF(zadani!$D$20=\"ano\",'Fire Devc B'!$S$26,\"\")","v":""},{"$f":"IF(OR(zadani!$D$19=\"ano\",zadani!$D$21=\"ano\"),Tabl!J52,\"\")","v":""},{"$f":"IF(OR(zadani!$D$20=\"ano\",zadani!$G$19=\"ano\"),Tabl!K52,\"\")","v":""}," ",{"$f":"IF(zadani!$D$20=\"ano\",'Fire Devc B'!$U$26,\"\")","v":""}," "]
[null,{"$f":"IF(zadani!$D$20=\"ano\",'Fire Devc B'!$S$25,\"\")","v":""},{"$f":"IF(OR(zadani!$D$19=\"ano\",zadani!$D$21=\"ano\"),Tabl!J53,\"\")","v":""},{"$f":"IF(OR(zadani!$D$20=\"ano\",zadani!$G$19=\"ano\"),Tabl!K53,\"\")","v":""}," ",{"$f":"IF(zadani!$D$20=\"ano\",'Fire Devc B'!$U$25,\"\")","v":""}," "]
[null,{"$f":"IF(zadani!$D$20=\"ano\",'Fire Devc B'!$S$24,\"\")","v":""},{"$f":"IF(OR(zadani!$D$19=\"ano\",zadani!$D$21=\"ano\"),Tabl!J54,\"\")","v":""},{"$f":"IF(OR(zadani!$D$20=\"ano\",zadani!$G$19=\"ano\"),Tabl!K54,\"\")","v":""}," ",{"$f":"IF(zadani!$D$20=\"ano\",'Fire Devc B'!$U$24,\"\")","v":""}," "]
[null,{"$f":"IF(zadani!$D$20=\"ano\",'Fire Devc B'!$S$23,\"\")","v":""},{"$f":"IF(OR(zadani!$D$19=\"ano\",zadani!$D$21=\"ano\"),Tabl!J55,\"\")","v":""},{"$f":"IF(OR(zadani!$D$20=\"ano\",zadani!$G$19=\"ano\"),Tabl!K55,\"\")","v":""}," ",{"$f":"IF(zadani!$D$20=\"ano\",'Fire Devc B'!$U$23,\"\")","v":""}," "]
[null,{"$f":"IF(zadani!$D$20=\"ano\",'Fire Devc B'!$S$22,\"\")","v":""},{"$f":"IF(OR(zadani!$D$19=\"ano\",zadani!$D$21=\"ano\"),Tabl!J56,\"\")","v":""},{"$f":"IF(OR(zadani!$D$20=\"ano\",zadani!$G$19=\"ano\"),Tabl!K56,\"\")","v":""}," ",{"$f":"IF(zadani!$D$20=\"ano\",'Fire Devc B'!$U$22,\"\")","v":""}," "]
[null,{"$f":"IF(zadani!$D$20=\"ano\",'Fire Devc B'!$S$21,\"\")","v":""},{"$f":"IF(OR(zadani!$D$19=\"ano\",zadani!$D$21=\"ano\"),Tabl!J57,\"\")","v":""},{"$f":"IF(OR(zadani!$D$20=\"ano\",zadani!$G$19=\"ano\"),Tabl!K57,\"\")","v":""}," ",{"$f":"IF(zadani!$D$20=\"ano\",'Fire Devc B'!$U$21,\"\")","v":""}," "]
[null,{"$f":"IF(zadani!$D$20=\"ano\",'Fire Devc B'!$S$20,\"\")","v":""},{"$f":"IF(OR(zadani!$D$19=\"ano\",zadani!$D$21=\"ano\"),Tabl!J58,\"\")","v":""},{"$f":"IF(OR(zadani!$D$20=\"ano\",zadani!$G$19=\"ano\"),Tabl!K58,\"\")","v":""}," ",{"$f":"IF(zadani!$D$20=\"ano\",'Fire Devc B'!$U$20,\"\")","v":""}," "]
[null,{"$f":"IF(zadani!$D$20=\"ano\",'Fire Devc B'!$S$19,\"\")","v":""},{"$f":"IF(OR(zadani!$D$19=\"ano\",zadani!$D$21=\"ano\"),Tabl!J59,\"\")","v":""},{"$f":"IF(OR(zadani!$D$20=\"ano\",zadani!$G$19=\"ano\"),Tabl!K59,\"\")","v":""}," ",{"$f":"IF(zadani!$D$20=\"ano\",'Fire Devc B'!$U$19,\"\")","v":""}," "]
[null,{"$f":"IF(zadani!$D$20=\"ano\",'Fire Devc B'!$S$16,\"\")","v":""},{"$f":"IF(OR(zadani!$D$19=\"ano\",zadani!$D$21=\"ano\"),Tabl!J60,\"\")","v":""},{"$f":"IF(OR(zadani!$D$20=\"ano\",zadani!$G$19=\"ano\"),Tabl!K60,\"\")","v":""}," ",{"$f":"IF(zadani!$D$20=\"ano\",'Fire Devc B'!$U$16,\"\")","v":""}," "]
[null,{"$f":"IF(zadani!$D$20=\"ano\",'Fire Devc B'!$S$15,\"\")","v":""},{"$f":"IF(OR(zadani!$D$19=\"ano\",zadani!$D$21=\"ano\"),Tabl!J61,\"\")","v":""},{"$f":"IF(OR(zadani!$D$20=\"ano\",zadani!$G$19=\"ano\"),Tabl!K61,\"\")","v":""}," ",{"$f":"IF(zadani!$D$20=\"ano\",'Fire Devc B'!$U$15,\"\")","v":""}," "]
[null,{"$f":"IF(zadani!$D$20=\"ano\",'Fire Devc B'!$S$14,\"\")","v":""},{"$f":"IF(OR(zadani!$D$19=\"ano\",zadani!$D$21=\"ano\"),Tabl!J62,\"\")","v":""},{"$f":"IF(OR(zadani!$D$20=\"ano\",zadani!$G$19=\"ano\"),Tabl!K62,\"\")","v":""}," ",{"$f":"IF(zadani!$D$20=\"ano\",'Fire Devc B'!$U$14,\"\")","v":""}," "]
[null,{"$f":"IF(zadani!$D$20=\"ano\",'Fire Devc B'!$S$13,\"\")","v":""},{"$f":"IF(OR(zadani!$D$19=\"ano\",zadani!$D$21=\"ano\"),Tabl!J63,\"\")","v":""},{"$f":"IF(OR(zadani!$D$20=\"ano\",zadani!$G$19=\"ano\"),Tabl!K63,\"\")","v":""}," ",{"$f":"IF(zadani!$D$20=\"ano\",'Fire Devc B'!$U$13,\"\")","v":""}," "]
[null,{"$f":"IF(zadani!$D$20=\"ano\",'Fire Devc B'!$S$12,\"\")","v":""},{"$f":"IF(OR(zadani!$D$19=\"ano\",zadani!$D$21=\"ano\"),Tabl!J64,\"\")","v":""},{"$f":"IF(OR(zadani!$D$20=\"ano\",zadani!$G$19=\"ano\"),Tabl!K64,\"\")","v":""}," ",{"$f":"IF(zadani!$D$20=\"ano\",'Fire Devc B'!$U$12,\"\")","v":""}," "]
[null,{"$f":"IF(zadani!$D$20=\"ano\",'Fire Devc B'!$S$11,\"\")","v":""},{"$f":"IF(OR(zadani!$D$19=\"ano\",zadani!$D$21=\"ano\"),Tabl!J65,\"\")","v":""},{"$f":"IF(OR(zadani!$D$20=\"ano\",zadani!$G$19=\"ano\"),Tabl!K65,\"\")","v":""}," ",{"$f":"IF(zadani!$D$20=\"ano\",'Fire Devc B'!$U$11,\"\")","v":""}," "]
[null,{"$f":"IF(zadani!$D$20=\"ano\",'Fire Devc B'!$S$10,\"\")","v":""},{"$f":"IF(OR(zadani!$D$19=\"ano\",zadani!$D$21=\"ano\"),Tabl!J66,\"\")","v":""},{"$f":"IF(OR(zadani!$D$20=\"ano\",zadani!$G$19=\"ano\"),Tabl!K66,\"\")","v":""}," ",{"$f":"IF(zadani!$D$20=\"ano\",'Fire Devc B'!$U$10,\"\")","v":""}," "]
[null,{"$f":"IF(zadani!$D$20=\"ano\",'Fire Devc B'!$S$9,\"\")","v":""},{"$f":"IF(OR(zadani!$D$19=\"ano\",zadani!$D$21=\"ano\"),Tabl!J67,\"\")","v":""},{"$f":"IF(OR(zadani!$D$20=\"ano\",zadani!$G$19=\"ano\"),Tabl!K67,\"\")","v":""}," ",{"$f":"IF(zadani!$D$20=\"ano\",'Fire Devc B'!$U$9,\"\")","v":""}," "]
[null,{"$f":"IF(zadani!$D$19=\"ano\",'Fire Devc A'!$T$12,\"\")","v":""},{"$f":"IF(OR(zadani!$D$19=\"ano\",zadani!$D$21=\"ano\"),Tabl!J68,\"\")","v":""},{"$f":"IF(OR(zadani!$D$20=\"ano\",zadani!$G$19=\"ano\"),Tabl!K68,\"\")","v":""}," ",{"$f":"IF(zadani!$D$19=\"ano\",'Fire Devc A'!$V$12,\"\")","v":""}," "]
[null,{"$f":"IF(zadani!$D$19=\"ano\",'Fire Devc A'!$T$11,\"\")","v":""},{"$f":"IF(OR(zadani!$D$19=\"ano\",zadani!$D$21=\"ano\"),Tabl!J69,\"\")","v":""},{"$f":"IF(OR(zadani!$D$20=\"ano\",zadani!$G$19=\"ano\"),Tabl!K69,\"\")","v":""}," ",{"$f":"IF(zadani!$D$19=\"ano\",'Fire Devc A'!$V$11,\"\")","v":""}," "]
[null,{"$f":"IF(zadani!$D$19=\"ano\",'Fire Devc A'!$T$10,\"\")","v":""},{"$f":"IF(OR(zadani!$D$19=\"ano\",zadani!$D$21=\"ano\"),Tabl!J70,\"\")","v":""},{"$f":"IF(OR(zadani!$D$20=\"ano\",zadani!$G$19=\"ano\"),Tabl!K70,\"\")","v":""}," ",{"$f":"IF(zadani!$D$19=\"ano\",'Fire Devc A'!$V$10,\"\")","v":""}," "]
[null,{"$f":"IF(zadani!$D$19=\"ano\",'Fire Devc A'!$S$15,\"\")","v":""},{"$f":"IF(OR(zadani!$D$19=\"ano\",zadani!$D$21=\"ano\"),Tabl!J71,\"\")","v":""},{"$f":"IF(OR(zadani!$D$20=\"ano\",zadani!$G$19=\"ano\"),Tabl!K71,\"\")","v":""}," ",{"$f":"IF(zadani!$D$19=\"ano\",'Fire Devc A'!$U$15,\"\")","v":""}," "]
[null,{"$f":"IF(zadani!$D$19=\"ano\",'Fire Devc A'!$S$14,\"\")","v":""},{"$f":"IF(OR(zadani!$D$19=\"ano\",zadani!$D$21=\"ano\"),Tabl!J72,\"\")","v":""},{"$f":"IF(OR(zadani!$D$20=\"ano\",zadani!$G$19=\"ano\"),Tabl!K72,\"\")","v":""}," ",{"$f":"IF(zadani!$D$19=\"ano\",'Fire Devc A'!$U$14,\"\")","v":""}," "]
[null,{"$f":"IF(zadani!$D$19=\"ano\",'Fire Devc A'!$S$13,\"\")","v":""},{"$f":"IF(OR(zadani!$D$19=\"ano\",zadani!$D$21=\"ano\"),Tabl!J73,\"\")","v":""},{"$f":"IF(OR(zadani!$D$20=\"ano\",zadani!$G$19=\"ano\"),Tabl!K73,\"\")","v":""}," ",{"$f":"IF(zadani!$D$19=\"ano\",'Fire Devc A'!$U$13,\"\")","v":""}," "]
[null,{"$f":"IF(zadani!$D$21=\"ano\",'Fire Devc C'!$T$56,\"\")","v":""},{"$f":"IF(OR(zadani!$D$19=\"ano\",zadani!$D$21=\"ano\"),Tabl!J74,\"\")","v":""},{"$f":"IF(OR(zadani!$D$20=\"ano\",zadani!$G$19=\"ano\"),Tabl!K74,\"\")","v":""}," ",{"$f":"IF(zadani!$D$21=\"ano\",'Fire Devc C'!$V$56,\"\")","v":""}," "]
[null,{"$f":"IF(zadani!$D$21=\"ano\",'Fire Devc C'!$T$55,\"\")","v":""},{"$f":"IF(OR(zadani!$D$19=\"ano\",zadani!$D$21=\"ano\"),Tabl!J75,\"\")","v":""},{"$f":"IF(OR(zadani!$D$20=\"ano\",zadani!$G$19=\"ano\"),Tabl!K75,\"\")","v":""}," ",{"$f":"IF(zadani!$D$21=\"ano\",'Fire Devc C'!$V$55,\"\")","v":""}," "]
[null,{"$f":"IF(zadani!$D$21=\"ano\",'Fire Devc C'!$T$54,\"\")","v":""},{"$f":"IF(OR(zadani!$D$19=\"ano\",zadani!$D$21=\"ano\"),Tabl!J76,\"\")","v":""},{"$f":"IF(OR(zadani!$D$20=\"ano\",zadani!$G$19=\"ano\"),Tabl!K76,\"\")","v":""}," ",{"$f":"IF(zadani!$D$21=\"ano\",'Fire Devc C'!$V$54,\"\")","v":""}," "]
[null,{"$f":"IF(zadani!$D$21=\"ano\",'Fire Devc C'!$T$53,\"\")","v":""},{"$f":"IF(OR(zadani!$D$19=\"ano\",zadani!$D$21=\"ano\"),Tabl!J77,\"\")","v":""},{"$f":"IF(OR(zadani!$D$20=\"ano\",zadani!$G$19=\"ano\"),Tabl!K77,\"\")","v":""}," ",{"$f":"IF(zadani!$D$21=\"ano\",'Fire Devc C'!$V$53,\"\")","v":""}," "]
[null,{"$f":"IF(zadani!$D$21=\"ano\",'Fire Devc C'!$T$52,\"\")","v":""},{"$f":"IF(OR(zadani!$D$19=\"ano\",zadani!$D$21=\"ano\"),Tabl!J78,\"\")","v":""},{"$f":"IF(OR(zadani!$D$20=\"ano\",zadani!$G$19=\"ano\"),Tabl!K78,\"\")","v":""}," ",{"$f":"IF(zadani!$D$21=\"ano\",'Fire Devc C'!$V$52,\"\")","v":""}," "]
[null,{"$f":"IF(zadani!$D$21=\"ano\",'Fire Devc C'!$T$51,\"\")","v":""},{"$f":"IF(OR(zadani!$D$19=\"ano\",zadani!$D$21=\"ano\"),Tabl!J79,\"\")","v":""},{"$f":"IF(OR(zadani!$D$20=\"ano\",zadani!$G$19=\"ano\"),Tabl!K79,\"\")","v":""}," ",{"$f":"IF(zadani!$D$21=\"ano\",'Fire Devc C'!$V$51,\"\")","v":""}," "]
[null,{"$f":"IF(zadani!$D$21=\"ano\",'Fire Devc C'!$T$46,\"\")","v":""},{"$f":"IF(OR(zadani!$D$19=\"ano\",zadani!$D$21=\"ano\"),Tabl!J80,\"\")","v":""},{"$f":"IF(OR(zadani!$D$20=\"ano\",zadani!$G$19=\"ano\"),Tabl!K80,\"\")","v":""}," ",{"$f":"IF(zadani!$D$21=\"ano\",'Fire Devc C'!$V$46,\"\")","v":""}," "]
[null,{"$f":"IF(zadani!$D$21=\"ano\",'Fire Devc C'!$T$45,\"\")","v":""},{"$f":"IF(OR(zadani!$D$19=\"ano\",zadani!$D$21=\"ano\"),Tabl!J81,\"\")","v":""},{"$f":"IF(OR(zadani!$D$20=\"ano\",zadani!$G$19=\"ano\"),Tabl!K81,\"\")","v":""}," ",{"$f":"IF(zadani!$D$21=\"ano\",'Fire Devc C'!$V$45,\"\")","v":""}," "]
[null,{"$f":"IF(zadani!$D$21=\"ano\",'Fire Devc C'!$T$44,\"\")","v":""},{"$f":"IF(OR(zadani!$D$19=\"ano\",zadani!$D$21=\"ano\"),Tabl!J82,\"\")","v":""},{"$f":"IF(OR(zadani!$D$20=\"ano\",zadani!$G$19=\"ano\"),Tabl!K82,\"\")","v":""}," ",{"$f":"IF(zadani!$D$21=\"ano\",'Fire Devc C'!$V$44,\"\")","v":""}," "]
[null,{"$f":"IF(zadani!$D$21=\"ano\",'Fire Devc C'!$T$43,\"\")","v":""},{"$f":"IF(OR(zadani!$D$19=\"ano\",zadani!$D$21=\"ano\"),Tabl!J83,\"\")","v":""},{"$f":"IF(OR(zadani!$D$20=\"ano\",zadani!$G$19=\"ano\"),Tabl!K83,\"\")","v":""}," ",{"$f":"IF(zadani!$D$21=\"ano\",'Fire Devc C'!$V$43,\"\")","v":""}," "]
[null,{"$f":"IF(zadani!$D$21=\"ano\",'Fire Devc C'!$T$42,\"\")","v":""},{"$f":"IF(OR(zadani!$D$19=\"ano\",zadani!$D$21=\"ano\"),Tabl!J84,\"\")","v":""},{"$f":"IF(OR(zadani!$D$20=\"ano\",zadani!$G$19=\"ano\"),Tabl!K84,\"\")","v":""}," ",{"$f":"IF(zadani!$D$21=\"ano\",'Fire Devc C'!$V$42,\"\")","v":""}," "]
[null,{"$f":"IF(zadani!$D$21=\"ano\",'Fire Devc C'!$T$41,\"\")","v":""},{"$f":"IF(OR(zadani!$D$19=\"ano\",zadani!$D$21=\"ano\"),Tabl!J85,\"\")","v":""},{"$f":"IF(OR(zadani!$D$20=\"ano\",zadani!$G$19=\"ano\"),Tabl!K85,\"\")","v":""}," ",{"$f":"IF(zadani!$D$21=\"ano\",'Fire Devc C'!$V$41,\"\")","v":""}," "]
[null,{"$f":"IF(zadani!$D$21=\"ano\",'Fire Devc C'!$T$36,\"\")","v":""},{"$f":"IF(OR(zadani!$D$19=\"ano\",zadani!$D$21=\"ano\"),Tabl!J86,\"\")","v":""},{"$f":"IF(OR(zadani!$D$20=\"ano\",zadani!$G$19=\"ano\"),Tabl!K86,\"\")","v":""}," ",{"$f":"IF(zadani!$D$21=\"ano\",'Fire Devc C'!$V$36,\"\")","v":""}," "]
[null,{"$f":"IF(zadani!$D$21=\"ano\",'Fire Devc C'!$T$35,\"\")","v":""},{"$f":"IF(OR(zadani!$D$19=\"ano\",zadani!$D$21=\"ano\"),Tabl!J87,\"\")","v":""},{"$f":"IF(OR(zadani!$D$20=\"ano\",zadani!$G$19=\"ano\"),Tabl!K87,\"\")","v":""}," ",{"$f":"IF(zadani!$D$21=\"ano\",'Fire Devc C'!$V$35,\"\")","v":""}," "]
[null,{"$f":"IF(zadani!$D$21=\"ano\",'Fire Devc C'!$T$34,\"\")","v":""},{"$f":"IF(OR(zadani!$D$19=\"ano\",zadani!$D$21=\"ano\"),Tabl!J88,\"\")","v":""},{"$f":"IF(OR(zadani!$D$20=\"ano\",zadani!$G$19=\"ano\"),Tabl!K88,\"\")","v":""}," ",{"$f":"IF(zadani!$D$21=\"ano\",'Fire Devc C'!$V$34,\"\")","v":""}," "]
[null,{"$f":"IF(zadani!$D$21=\"ano\",'Fire Devc C'!$T$33,\"\")","v":""},{"$f":"IF(OR(zadani!$D$19=\"ano\",zadani!$D$21=\"ano\"),Tabl!J89,\"\")","v":""},{"$f":"IF(OR(zadani!$D$20=\"ano\",zadani!$G$19=\"ano\"),Tabl!K89,\"\")","v":""}," ",{"$f":"IF(zadani!$D$21=\"ano\",'Fire Devc C'!$V$33,\"\")","v":""}," "]
[null,{"$f":"IF(zadani!$D$21=\"ano\",'Fire Devc C'!$T$32,\"\")","v":""},{"$f":"IF(OR(zadani!$D$19=\"ano\",zadani!$D$21=\"ano\"),Tabl!J90,\"\")","v":""},{"$f":"IF(OR(zadani!$D$20=\"ano\",zadani!$G$19=\"ano\"),Tabl!K90,\"\")","v":""}," ",{"$f":"IF(zadani!$D$21=\"ano\",'Fire Devc C'!$V$32,\"\")","v":""}," "]
[null,{"$f":"IF(zadani!$D$21=\"ano\",'Fire Devc C'!$T$31,\"\")","v":""},{"$f":"IF(OR(zadani!$D$19=\"ano\",zadani!$D$21=\"ano\"),Tabl!J91,\"\")","v":""},{"$f":"IF(OR(zadani!$D$20=\"ano\",zadani!$G$19=\"ano\"),Tabl!K91,\"\")","v":""}," ",{"$f":"IF(zadani!$D$21=\"ano\",'Fire Devc C'!$V$31,\"\")","v":""}," "]
[null,{"$f":"IF(zadani!$D$21=\"ano\",'Fire Devc C'!$T$26,\"\")","v":""},{"$f":"IF(OR(zadani!$D$19=\"ano\",zadani!$D$21=\"ano\"),Tabl!J92,\"\")","v":""},{"$f":"IF(OR(zadani!$D$20=\"ano\",zadani!$G$19=\"ano\"),Tabl!K92,\"\")","v":""}," ",{"$f":"IF(zadani!$D$21=\"ano\",'Fire Devc C'!$V$26,\"\")","v":""}," "]
[null,{"$f":"IF(zadani!$D$21=\"ano\",'Fire Devc C'!$T$25,\"\")","v":""},{"$f":"IF(OR(zadani!$D$19=\"ano\",zadani!$D$21=\"ano\"),Tabl!J93,\"\")","v":""},{"$f":"IF(OR(zadani!$D$20=\"ano\",zadani!$G$19=\"ano\"),Tabl!K93,\"\")","v":""}," ",{"$f":"IF(zadani!$D$21=\"ano\",'Fire Devc C'!$V$25,\"\")","v":""}," "]
[null,{"$f":"IF(zadani!$D$21=\"ano\",'Fire Devc C'!$T$24,\"\")","v":""},{"$f":"IF(OR(zadani!$D$19=\"ano\",zadani!$D$21=\"ano\"),Tabl!J94,\"\")","v":""},{"$f":"IF(OR(zadani!$D$20=\"ano\",zadani!$G$19=\"ano\"),Tabl!K94,\"\")","v":""}," ",{"$f":"IF(zadani!$D$21=\"ano\",'Fire Devc C'!$V$24,\"\")","v":""}," "]
[null,{"$f":"IF(zadani!$D$21=\"ano\",'Fire Devc C'!$T$23,\"\")","v":""},{"$f":"IF(OR(zadani!$D$19=\"ano\",zadani!$D$21=\"ano\"),Tabl!J95,\"\")","v":""},{"$f":"IF(OR(zadani!$D$20=\"ano\",zadani!$G$19=\"ano\"),Tabl!K95,\"\")","v":""}," ",{"$f":"IF(zadani!$D$21=\"ano\",'Fire Devc C'!$V$23,\"\")","v":""}," "]
[null,{"$f":"IF(zadani!$D$21=\"ano\",'Fire Devc C'!$T$22,\"\")","v":""},{"$f":"IF(OR(zadani!$D$19=\"ano\",zadani!$D$21=\"ano\"),Tabl!J96,\"\")","v":""},{"$f":"IF(OR(zadani!$D$20=\"ano\",zadani!$G$19=\"ano\"),Tabl!K96,\"\")","v":""}," ",{"$f":"IF(zadani!$D$21=\"ano\",'Fire Devc C'!$V$22,\"\")","v":""}," "]
[null,{"$f":"IF(zadani!$D$21=\"ano\",'Fire Devc C'!$T$21,\"\")","v":""},{"$f":"IF(OR(zadani!$D$19=\"ano\",zadani!$D$21=\"ano\"),Tabl!J97,\"\")","v":""},{"$f":"IF(OR(zadani!$D$20=\"ano\",zadani!$G$19=\"ano\"),Tabl!K97,\"\")","v":""}," ",{"$f":"IF(zadani!$D$21=\"ano\",'Fire Devc C'!$V$21,\"\")","v":""}," "]
[null,{"$f":"IF(zadani!$D$21=\"ano\",'Fire Devc C'!$S$56,\"\")","v":""},{"$f":"IF(OR(zadani!$D$19=\"ano\",zadani!$D$21=\"ano\"),Tabl!J98,\"\")","v":""},{"$f":"IF(OR(zadani!$D$20=\"ano\",zadani!$G$19=\"ano\"),Tabl!K98,\"\")","v":""}," ",{"$f":"IF(zadani!$D$21=\"ano\",'Fire Devc C'!$U$56,\"\")","v":""}," "]
[null,{"$f":"IF(zadani!$D$21=\"ano\",'Fire Devc C'!$S$55,\"\")","v":""},{"$f":"IF(OR(zadani!$D$19=\"ano\",zadani!$D$21=\"ano\"),Tabl!J99,\"\")","v":""},{"$f":"IF(OR(zadani!$D$20=\"ano\",zadani!$G$19=\"ano\"),Tabl!K99,\"\")","v":""}," ",{"$f":"IF(zadani!$D$21=\"ano\",'Fire Devc C'!$U$55,\"\")","v":""}," "]
[null,{"$f":"IF(zadani!$D$21=\"ano\",'Fire Devc C'!$S$54,\"\")","v":""},{"$f":"IF(OR(zadani!$D$19=\"ano\",zadani!$D$21=\"ano\"),Tabl!J100,\"\")","v":""},{"$f":"IF(OR(zadani!$D$20=\"ano\",zadani!$G$19=\"ano\"),Tabl!K100,\"\")","v":""}," ",{"$f":"IF(zadani!$D$21=\"ano\",'Fire Devc C'!$U$54,\"\")","v":""}," "]
[null,{"$f":"IF(zadani!$D$21=\"ano\",'Fire Devc C'!$S$53,\"\")","v":""},{"$f":"IF(OR(zadani!$D$19=\"ano\",zadani!$D$21=\"ano\"),Tabl!J101,\"\")","v":""},{"$f":"IF(OR(zadani!$D$20=\"ano\",zadani!$G$19=\"ano\"),Tabl!K101,\"\")","v":""}," ",{"$f":"IF(zadani!$D$21=\"ano\",'Fire Devc C'!$U$53,\"\")","v":""}," "]
[null,{"$f":"IF(zadani!$D$21=\"ano\",'Fire Devc C'!$S$52,\"\")","v":""},{"$f":"IF(OR(zadani!$D$19=\"ano\",zadani!$D$21=\"ano\"),Tabl!J102,\"\")","v":""},{"$f":"IF(OR(zadani!$D$20=\"ano\",zadani!$G$19=\"ano\"),Tabl!K102,\"\")","v":""}," ",{"$f":"IF(zadani!$D$21=\"ano\",'Fire Devc C'!$U$52,\"\")","v":""}," "]
[null,{"$f":"IF(zadani!$D$21=\"ano\",'Fire Devc C'!$S$51,\"\")","v":""},{"$f":"IF(OR(zadani!$D$19=\"ano\",zadani!$D$21=\"ano\"),Tabl!J103,\"\")","v":""},{"$f":"IF(OR(zadani!$D$20=\"ano\",zadani!$G$19=\"ano\"),Tabl!K103,\"\")","v":""}," ",{"$f":"IF(zadani!$D$21=\"ano\",'Fire Devc C'!$U$51,\"\")","v":""}," "]
[null,{"$f":"IF(zadani!$D$21=\"ano\",'Fire Devc C'!$S$46,\"\")","v":""},{"$f":"IF(OR(zadani!$D$19=\"ano\",zadani!$D$21=\"ano\"),Tabl!J104,\"\")","v":""},{"$f":"IF(OR(zadani!$D$20=\"ano\",zadani!$G$19=\"ano\"),Tabl!K104,\"\")","v":""}," ",{"$f":"IF(zadani!$D$21=\"ano\",'Fire Devc C'!$U$46,\"\")","v":""}," "]
[null,{"$f":"IF(zadani!$D$21=\"ano\",'Fire Devc C'!$S$45,\"\")","v":""},{"$f":"IF(OR(zadani!$D$19=\"ano\",zadani!$D$21=\"ano\"),Tabl!J105,\"\")","v":""},{"$f":"IF(OR(zadani!$D$20=\"ano\",zadani!$G$19=\"ano\"),Tabl!K105,\"\")","v":""}," ",{"$f":"IF(zadani!$D$21=\"ano\",'Fire Devc C'!$U$45,\"\")","v":""}," "]
[null,{"$f":"IF(zadani!$D$21=\"ano\",'Fire Devc C'!$S$44,\"\")","v":""},{"$f":"IF(OR(zadani!$D$19=\"ano\",zadani!$D$21=\"ano\"),Tabl!J106,\"\")","v":""},{"$f":"IF(OR(zadani!$D$20=\"ano\",zadani!$G$19=\"ano\"),Tabl!K106,\"\")","v":""}," ",{"$f":"IF(zadani!$D$21=\"ano\",'Fire Devc C'!$U$44,\"\")","v":""}," "]
[null,{"$f":"IF(zadani!$D$21=\"ano\",'Fire Devc C'!$S$43,\"\")","v":""},{"$f":"IF(OR(zadani!$D$19=\"ano\",zadani!$D$21=\"ano\"),Tabl!J107,\"\")","v":""},{"$f":"IF(OR(zadani!$D$20=\"ano\",zadani!$G$19=\"ano\"),Tabl!K107,\"\")","v":""}," ",{"$f":"IF(zadani!$D$21=\"ano\",'Fire Devc C'!$U$43,\"\")","v":""}," "]
[null,{"$f":"IF(zadani!$D$21=\"ano\",'Fire Devc C'!$S$42,\"\")","v":""},{"$f":"IF(OR(zadani!$D$19=\"ano\",zadani!$D$21=\"ano\"),Tabl!J108,\"\")","v":""},{"$f":"IF(OR(zadani!$D$20=\"ano\",zadani!$G$19=\"ano\"),Tabl!K108,\"\")","v":""}," ",{"$f":"IF(zadani!$D$21=\"ano\",'Fire Devc C'!$U$42,\"\")","v":""}," "]
[null,{"$f":"IF(zadani!$D$21=\"ano\",'Fire Devc C'!$S$41,\"\")","v":""},{"$f":"IF(OR(zadani!$D$19=\"ano\",zadani!$D$21=\"ano\"),Tabl!J109,\"\")","v":""},{"$f":"IF(OR(zadani!$D$20=\"ano\",zadani!$G$19=\"ano\"),Tabl!K109,\"\")","v":""}," ",{"$f":"IF(zadani!$D$21=\"ano\",'Fire Devc C'!$U$41,\"\")","v":""}," "]
[null,{"$f":"IF(zadani!$D$21=\"ano\",'Fire Devc C'!$S$36,\"\")","v":""},{"$f":"IF(OR(zadani!$D$19=\"ano\",zadani!$D$21=\"ano\"),Tabl!J110,\"\")","v":""},{"$f":"IF(OR(zadani!$D$20=\"ano\",zadani!$G$19=\"ano\"),Tabl!K110,\"\")","v":""}," ",{"$f":"IF(zadani!$D$21=\"ano\",'Fire Devc C'!$U$36,\"\")","v":""}," "]
[null,{"$f":"IF(zadani!$D$21=\"ano\",'Fire Devc C'!$S$35,\"\")","v":""},{"$f":"IF(OR(zadani!$D$19=\"ano\",zadani!$D$21=\"ano\"),Tabl!J111,\"\")","v":""},{"$f":"IF(OR(zadani!$D$20=\"ano\",zadani!$G$19=\"ano\"),Tabl!K111,\"\")","v":""}," ",{"$f":"IF(zadani!$D$21=\"ano\",'Fire Devc C'!$U$35,\"\")","v":""}," "]
[null,{"$f":"IF(zadani!$D$21=\"ano\",'Fire Devc C'!$S$34,\"\")","v":""},{"$f":"IF(OR(zadani!$D$19=\"ano\",zadani!$D$21=\"ano\"),Tabl!J112,\"\")","v":""},{"$f":"IF(OR(zadani!$D$20=\"ano\",zadani!$G$19=\"ano\"),Tabl!K112,\"\")","v":""}," ",{"$f":"IF(zadani!$D$21=\"ano\",'Fire Devc C'!$U$34,\"\")","v":""}," "]
[null,{"$f":"IF(zadani!$D$21=\"ano\",'Fire Devc C'!$S$33,\"\")","v":""},{"$f":"IF(OR(zadani!$D$19=\"ano\",zadani!$D$21=\"ano\"),Tabl!J113,\"\")","v":""},{"$f":"IF(OR(zadani!$D$20=\"ano\",zadani!$G$19=\"ano\"),Tabl!K113,\"\")","v":""}," ",{"$f":"IF(zadani!$D$21=\"ano\",'Fire Devc C'!$U$33,\"\")","v":""}," "]
[null,{"$f":"IF(zadani!$D$21=\"ano\",'Fire Devc C'!$S$32,\"\")","v":""},{"$f":"IF(OR(zadani!$D$19=\"ano\",zadani!$D$21=\"ano\"),Tabl!J114,\"\")","v":""},{"$f":"IF(OR(zadani!$D$20=\"ano\",zadani!$G$19=\"ano\"),Tabl!K114,\"\")","v":""}," ",{"$f":"IF(zadani!$D$21=\"ano\",'Fire Devc C'!$U$32,\"\")","v":""}," "]
[null,{"$f":"IF(zadani!$D$21=\"ano\",'Fire Devc C'!$S$31,\"\")","v":""},{"$f":"IF(OR(zadani!$D$19=\"ano\",zadani!$D$21=\"ano\"),Tabl!J115,\"\")","v":""},{"$f":"IF(OR(zadani!$D$20=\"ano\",zadani!$G$19=\"ano\"),Tabl!K115,\"\")","v":""}," ",{"$f":"IF(zadani!$D$21=\"ano\",'Fire Devc C'!$U$31,\"\")","v":""}," "]
[null,{"$f":"IF(zadani!$D$21=\"ano\",'Fire Devc C'!$S$26,\"\")","v":""},{"$f":"IF(OR(zadani!$D$19=\"ano\",zadani!$D$21=\"ano\"),Tabl!J116,\"\")","v":""},{"$f":"IF(OR(zadani!$D$20=\"ano\",zadani!$G$19=\"ano\"),Tabl!K116,\"\")","v":""}," ",{"$f":"IF(zadani!$D$21=\"ano\",'Fire Devc C'!$U$26,\"\")","v":""}," "]
[null,{"$f":"IF(zadani!$D$21=\"ano\",'Fire Devc C'!$S$25,\"\")","v":""},{"$f":"IF(OR(zadani!$D$19=\"ano\",zadani!$D$21=\"ano\"),Tabl!J117,\"\")","v":""},{"$f":"IF(OR(zadani!$D$20=\"ano\",zadani!$G$19=\"ano\"),Tabl!K117,\"\")","v":""}," ",{"$f":"IF(zadani!$D$21=\"ano\",'Fire Devc C'!$U$25,\"\")","v":""}," "]
[null,{"$f":"IF(zadani!$D$21=\"ano\",'Fire Devc C'!$S$24,\"\")","v":""},{"$f":"IF(OR(zadani!$D$19=\"ano\",zadani!$D$21=\"ano\"),Tabl!J118,\"\")","v":""},{"$f":"IF(OR(zadani!$D$20=\"ano\",zadani!$G$19=\"ano\"),Tabl!K118,\"\")","v":""}," ",{"$f":"IF(zadani!$D$21=\"ano\",'Fire Devc C'!$U$24,\"\")","v":""}," "]
[null,{"$f":"IF(zadani!$D$21=\"ano\",'Fire Devc C'!$S$23,\"\")","v":""},{"$f":"IF(OR(zadani!$D$19=\"ano\",zadani!$D$21=\"ano\"),Tabl!J119,\"\")","v":""},{"$f":"IF(OR(zadani!$D$20=\"ano\",zadani!$G$19=\"ano\"),Tabl!K119,\"\")","v":""}," ",{"$f":"IF(zadani!$D$21=\"ano\",'Fire Devc C'!$U$23,\"\")","v":""}," "]
[null,{"$f":"IF(zadani!$D$21=\"ano\",'Fire Devc C'!$S$22,\"\")","v":""},{"$f":"IF(OR(zadani!$D$19=\"ano\",zadani!$D$21=\"ano\"),Tabl!J120,\"\")","v":""},{"$f":"IF(OR(zadani!$D$20=\"ano\",zadani!$G$19=\"ano\"),Tabl!K120,\"\")","v":""}," ",{"$f":"IF(zadani!$D$21=\"ano\",'Fire Devc C'!$U$22,\"\")","v":""}," "]
[null,{"$f":"IF(zadani!$D$21=\"ano\",'Fire Devc C'!$S$21,\"\")","v":""},{"$f":"IF(OR(zadani!$D$19=\"ano\",zadani!$D$21=\"ano\"),Tabl!J121,\"\")","v":""},{"$f":"IF(OR(zadani!$D$20=\"ano\",zadani!$G$19=\"ano\"),Tabl!K121,\"\")","v":""}," ",{"$f":"IF(zadani!$D$21=\"ano\",'Fire Devc C'!$U$21,\"\")","v":""}," "]
[null,{"$f":"IF(zadani!$D$20=\"ano\",'Fire Devc B'!$T$81,\"\")","v":""},{"$f":"IF(OR(zadani!$D$19=\"ano\",zadani!$D$21=\"ano\"),Tabl!J122,\"\")","v":""},{"$f":"IF(OR(zadani!$D$20=\"ano\",zadani!$G$19=\"ano\"),Tabl!K122,\"\")","v":""}," ",{"$f":"IF(zadani!$D$20=\"ano\",'Fire Devc B'!$V$81,\"\")","v":""}," "]
[null,{"$f":"IF(zadani!$D$20=\"ano\",'Fire Devc B'!$T$80,\"\")","v":""},{"$f":"IF(OR(zadani!$D$19=\"ano\",zadani!$D$21=\"ano\"),Tabl!J123,\"\")","v":""},{"$f":"IF(OR(zadani!$D$20=\"ano\",zadani!$G$19=\"ano\"),Tabl!K123,\"\")","v":""}," ",{"$f":"IF(zadani!$D$20=\"ano\",'Fire Devc B'!$V$80,\"\")","v":""}," "]
[null,{"$f":"IF(zadani!$D$20=\"ano\",'Fire Devc B'!$T$79,\"\")","v":""},{"$f":"IF(OR(zadani!$D$19=\"ano\",zadani!$D$21=\"ano\"),Tabl!J124,\"\")","v":""},{"$f":"IF(OR(zadani!$D$20=\"ano\",zadani!$G$19=\"ano\"),Tabl!K124,\"\")","v":""}," ",{"$f":"IF(zadani!$D$20=\"ano\",'Fire Devc B'!$V$79,\"\")","v":""}," "]
[null,{"$f":"IF(zadani!$D$20=\"ano\",'Fire Devc B'!$T$78,\"\")","v":""},{"$f":"IF(OR(zadani!$D$19=\"ano\",zadani!$D$21=\"ano\"),Tabl!J125,\"\")","v":""},{"$f":"IF(OR(zadani!$D$20=\"ano\",zadani!$G$19=\"ano\"),Tabl!K125,\"\")","v":""}," ",{"$f":"IF(zadani!$D$20=\"ano\",'Fire Devc B'!$V$78,\"\")","v":""}," "]
[null,{"$f":"IF(zadani!$D$20=\"ano\",'Fire Devc B'!$T$77,\"\")","v":""},{"$f":"IF(OR(zadani!$D$19=\"ano\",zadani!$D$21=\"ano\"),Tabl!J126,\"\")","v":""},{"$f":"IF(OR(zadani!$D$20=\"ano\",zadani!$G$19=\"ano\"),Tabl!K126,\"\")","v":""}," ",{"$f":"IF(zadani!$D$20=\"ano\",'Fire Devc B'!$V$77,\"\")","v":""}," "]
[null,{"$f":"IF(zadani!$D$20=\"ano\",'Fire Devc B'!$T$76,\"\")","v":""},{"$f":"IF(OR(zadani!$D$19=\"ano\",zadani!$D$21=\"ano\"),Tabl!J127,\"\")","v":""},{"$f":"IF(OR(zadani!$D$20=\"ano\",zadani!$G$19=\"ano\"),Tabl!K127,\"\")","v":""}," ",{"$f":"IF(zadani!$D$20=\"ano\",'Fire Devc B'!$V$76,\"\")","v":""}," "]
[null,{"$f":"IF(zadani!$D$20=\"ano\",'Fire Devc B'!$T$75,\"\")","v":""},{"$f":"IF(OR(zadani!$D$19=\"ano\",zadani!$D$21=\"ano\"),Tabl!J128,\"\")","v":""},{"$f":"IF(OR(zadani!$D$20=\"ano\",zadani!$G$19=\"ano\"),Tabl!K128,\"\")","v":""}," ",{"$f":"IF(zadani!$D$20=\"ano\",'Fire Devc B'!$V$75,\"\")","v":""}," "]
[null,{"$f":"IF(zadani!$D$20=\"ano\",'Fire Devc B'!$T$74,\"\")","v":""},{"$f":"IF(OR(zadani!$D$19=\"ano\",zadani!$D$21=\"ano\"),Tabl!J129,\"\")","v":""},{"$f":"IF(OR(zadani!$D$20=\"ano\",zadani!$G$19=\"ano\"),Tabl!K129,\"\")","v":""}," ",{"$f":"IF(zadani!$D$20=\"ano\",'Fire Devc B'!$V$74,\"\")","v":""}," "]
[null,{"$f":"IF(zadani!$D$20=\"ano\",'Fire Devc B'!$T$73,\"\")","v":""},{"$f":"IF(OR(zadani!$D$19=\"ano\",zadani!$D$21=\"ano\"),Tabl!J130,\"\")","v":""},{"$f":"IF(OR(zadani!$D$20=\"ano\",zadani!$G$19=\"ano\"),Tabl!K130,\"\")","v":""}," ",{"$f":"IF(zadani!$D$20=\"ano\",'Fire Devc B'!$V$73,\"\")","v":""}," "]
[null,{"$f":"IF(zadani!$D$20=\"ano\",'Fire Devc B'!$T$72,\"\")","v":""},{"$f":"IF(OR(zadani!$D$19=\"ano\",zadani!$D$21=\"ano\"),Tabl!J131,\"\")","v":""},{"$f":"IF(OR(zadani!$D$20=\"ano\",zadani!$G$19=\"ano\"),Tabl!K131,\"\")","v":""}," ",{"$f":"IF(zadani!$D$20=\"ano\",'Fire Devc B'!$V$72,\"\")","v":""}," "]
[null,{"$f":"IF(zadani!$D$20=\"ano\",'Fire Devc B'!$T$71,\"\")","v":""},{"$f":"IF(OR(zadani!$D$19=\"ano\",zadani!$D$21=\"ano\"),Tabl!J132,\"\")","v":""},{"$f":"IF(OR(zadani!$D$20=\"ano\",zadani!$G$19=\"ano\"),Tabl!K132,\"\")","v":""}," ",{"$f":"IF(zadani!$D$20=\"ano\",'Fire Devc B'!$V$71,\"\")","v":""}," "]
[null,{"$f":"IF(zadani!$D$20=\"ano\",'Fire Devc B'!$T$70,\"\")","v":""},{"$f":"IF(OR(zadani!$D$19=\"ano\",zadani!$D$21=\"ano\"),Tabl!J133,\"\")","v":""},{"$f":"IF(OR(zadani!$D$20=\"ano\",zadani!$G$19=\"ano\"),Tabl!K133,\"\")","v":""}," ",{"$f":"IF(zadani!$D$20=\"ano\",'Fire Devc B'!$V$70,\"\")","v":""}," "]
[null,{"$f":"IF(zadani!$D$20=\"ano\",'Fire Devc B'!$T$69,\"\")","v":""},{"$f":"IF(OR(zadani!$D$19=\"ano\",zadani!$D$21=\"ano\"),Tabl!J134,\"\")","v":""},{"$f":"IF(OR(zadani!$D$20=\"ano\",zadani!$G$19=\"ano\"),Tabl!K134,\"\")","v":""}," ",{"$f":"IF(zadani!$D$20=\"ano\",'Fire Devc B'!$V$69,\"\")","v":""}," "]
[null,{"$f":"IF(zadani!$D$20=\"ano\",'Fire Devc B'!$T$68,\"\")","v":""},{"$f":"IF(OR(zadani!$D$19=\"ano\",zadani!$D$21=\"ano\"),Tabl!J135,\"\")","v":""},{"$f":"IF(OR(zadani!$D$20=\"ano\",zadani!$G$19=\"ano\"),Tabl!K135,\"\")","v":""}," ",{"$f":"IF(zadani!$D$20=\"ano\",'Fire Devc B'!$V$68,\"\")","v":""}," "]
[null,{"$f":"IF(zadani!$D$20=\"ano\",'Fire Devc B'!$T$67,\"\")","v":""},{"$f":"IF(OR(zadani!$D$19=\"ano\",zadani!$D$21=\"ano\"),Tabl!J136,\"\")","v":""},{"$f":"IF(OR(zadani!$D$20=\"ano\",zadani!$G$19=\"ano\"),Tabl!K136,\"\")","v":""}," ",{"$f":"IF(zadani!$D$20=\"ano\",'Fire Devc B'!$V$67,\"\")","v":""}," "]
[null,{"$f":"IF(zadani!$D$20=\"ano\",'Fire Devc B'!$T$66,\"\")","v":""},{"$f":"IF(OR(zadani!$D$19=\"ano\",zadani!$D$21=\"ano\"),Tabl!J137,\"\")","v":""},{"$f":"IF(OR(zadani!$D$20=\"ano\",zadani!$G$19=\"ano\"),Tabl!K137,\"\")","v":""}," ",{"$f":"IF(zadani!$D$20=\"ano\",'Fire Devc B'!$V$66,\"\")","v":""}," "]
[null,{"$f":"IF(zadani!$D$20=\"ano\",'Fire Devc B'!$T$65,\"\")","v":""},{"$f":"IF(OR(zadani!$D$19=\"ano\",zadani!$D$21=\"ano\"),Tabl!J138,\"\")","v":""},{"$f":"IF(OR(zadani!$D$20=\"ano\",zadani!$G$19=\"ano\"),Tabl!K138,\"\")","v":""}," ",{"$f":"IF(zadani!$D$20=\"ano\",'Fire Devc B'!$V$65,\"\")","v":""}," "]
[null,{"$f":"IF(zadani!$D$20=\"ano\",'Fire Devc B'!$T$64,\"\")","v":""},{"$f":"IF(OR(zadani!$D$19=\"ano\",zadani!$D$21=\"ano\"),Tabl!J139,\"\")","v":""},{"$f":"IF(OR(zadani!$D$20=\"ano\",zadani!$G$19=\"ano\"),Tabl!K139,\"\")","v":""}," ",{"$f":"IF(zadani!$D$20=\"ano\",'Fire Devc B'!$V$64,\"\")","v":""}," "]
[null,{"$f":"IF(zadani!$D$20=\"ano\",'Fire Devc B'!$T$63,\"\")","v":""},{"$f":"IF(OR(zadani!$D$19=\"ano\",zadani!$D$21=\"ano\"),Tabl!J140,\"\")","v":""},{"$f":"IF(OR(zadani!$D$20=\"ano\",zadani!$G$19=\"ano\"),Tabl!K140,\"\")","v":""}," ",{"$f":"IF(zadani!$D$20=\"ano\",'Fire Devc B'!$V$63,\"\")","v":""}," "]
[null,{"$f":"IF(zadani!$D$20=\"ano\",'Fire Devc B'!$T$62,\"\")","v":""},{"$f":"IF(OR(zadani!$D$19=\"ano\",zadani!$D$21=\"ano\"),Tabl!J141,\"\")","v":""},{"$f":"IF(OR(zadani!$D$20=\"ano\",zadani!$G$19=\"ano\"),Tabl!K141,\"\")","v":""}," ",{"$f":"IF(zadani!$D$20=\"ano\",'Fire Devc B'!$V$62,\"\")","v":""}," "]
[null,{"$f":"IF(zadani!$D$20=\"ano\",'Fire Devc B'!$T$61,\"\")","v":""},{"$f":"IF(OR(zadani!$D$19=\"ano\",zadani!$D$21=\"ano\"),Tabl!J142,\"\")","v":""},{"$f":"IF(OR(zadani!$D$20=\"ano\",zadani!$G$19=\"ano\"),Tabl!K142,\"\")","v":""}," ",{"$f":"IF(zadani!$D$20=\"ano\",'Fire Devc B'!$V$61,\"\")","v":""}," "]
[null,{"$f":"IF(zadani!$D$20=\"ano\",'Fire Devc B'!$T$60,\"\")","v":""},{"$f":"IF(OR(zadani!$D$19=\"ano\",zadani!$D$21=\"ano\"),Tabl!J143,\"\")","v":""},{"$f":"IF(OR(zadani!$D$20=\"ano\",zadani!$G$19=\"ano\"),Tabl!K143,\"\")","v":""}," ",{"$f":"IF(zadani!$D$20=\"ano\",'Fire Devc B'!$V$60,\"\")","v":""}," "]
[null,{"$f":"IF(zadani!$D$20=\"ano\",'Fire Devc B'!$T$59,\"\")","v":""},{"$f":"IF(OR(zadani!$D$19=\"ano\",zadani!$D$21=\"ano\"),Tabl!J144,\"\")","v":""},{"$f":"IF(OR(zadani!$D$20=\"ano\",zadani!$G$19=\"ano\"),Tabl!K144,\"\")","v":""}," ",{"$f":"IF(zadani!$D$20=\"ano\",'Fire Devc B'!$V$59,\"\")","v":""}," "]
[null,{"$f":"IF(zadani!$D$20=\"ano\",'Fire Devc B'!$T$58,\"\")","v":""},{"$f":"IF(OR(zadani!$D$19=\"ano\",zadani!$D$21=\"ano\"),Tabl!J145,\"\")","v":""},{"$f":"IF(OR(zadani!$D$20=\"ano\",zadani!$G$19=\"ano\"),Tabl!K145,\"\")","v":""}," ",{"$f":"IF(zadani!$D$20=\"ano\",'Fire Devc B'!$V$58,\"\")","v":""}," "]
[null,{"$f":"IF(zadani!$D$20=\"ano\",'Fire Devc B'!$T$57,\"\")","v":""},{"$f":"IF(OR(zadani!$D$19=\"ano\",zadani!$D$21=\"ano\"),Tabl!J146,\"\")","v":""},{"$f":"IF(OR(zadani!$D$20=\"ano\",zadani!$G$19=\"ano\"),Tabl!K146,\"\")","v":""}," ",{"$f":"IF(zadani!$D$20=\"ano\",'Fire Devc B'!$V$57,\"\")","v":""}," "]
[null,{"$f":"IF(zadani!$D$20=\"ano\",'Fire Devc B'!$T$56,\"\")","v":""},{"$f":"IF(OR(zadani!$D$19=\"ano\",zadani!$D$21=\"ano\"),Tabl!J147,\"\")","v":""},{"$f":"IF(OR(zadani!$D$20=\"ano\",zadani!$G$19=\"ano\"),Tabl!K147,\"\")","v":""}," ",{"$f":"IF(zadani!$D$20=\"ano\",'Fire Devc B'!$V$56,\"\")","v":""}," "]
[null,{"$f":"IF(zadani!$D$20=\"ano\",'Fire Devc B'!$T$55,\"\")","v":""},{"$f":"IF(OR(zadani!$D$19=\"ano\",zadani!$D$21=\"ano\"),Tabl!J148,\"\")","v":""},{"$f":"IF(OR(zadani!$D$20=\"ano\",zadani!$G$19=\"ano\"),Tabl!K148,\"\")","v":""}," ",{"$f":"IF(zadani!$D$20=\"ano\",'Fire Devc B'!$V$55,\"\")","v":""}," "]
[null,{"$f":"IF(zadani!$D$20=\"ano\",'Fire Devc B'!$T$54,\"\")","v":""},{"$f":"IF(OR(zadani!$D$19=\"ano\",zadani!$D$21=\"ano\"),Tabl!J149,\"\")","v":""},{"$f":"IF(OR(zadani!$D$20=\"ano\",zadani!$G$19=\"ano\"),Tabl!K149,\"\")","v":""}," ",{"$f":"IF(zadani!$D$20=\"ano\",'Fire Devc B'!$V$54,\"\")","v":""}," "]
[null,{"$f":"IF(zadani!$D$20=\"ano\",'Fire Devc B'!$T$53,\"\")","v":""},{"$f":"IF(OR(zadani!$D$19=\"ano\",zadani!$D$21=\"ano\"),Tabl!J150,\"\")","v":""},{"$f":"IF(OR(zadani!$D$20=\"ano\",zadani!$G$19=\"ano\"),Tabl!K150,\"\")","v":""}," ",{"$f":"IF(zadani!$D$20=\"ano\",'Fire Devc B'!$V$53,\"\")","v":""}," "]
[null,{"$f":"IF(zadani!$D$20=\"ano\",'Fire Devc B'!$T$52,\"\")","v":""},{"$f":"IF(OR(zadani!$D$19=\"ano\",zadani!$D$21=\"ano\"),Tabl!J151,\"\")","v":""},{"$f":"IF(OR(zadani!$D$20=\"ano\",zadani!$G$19=\"ano\"),Tabl!K151,\"\")","v":""}," ",{"$f":"IF(zadani!$D$20=\"ano\",'Fire Devc B'!$V$52,\"\")","v":""}," "]
[null,{"$f":"IF(zadani!$D$20=\"ano\",'Fire Devc B'!$T$51,\"\")","v":""},{"$f":"IF(OR(zadani!$D$19=\"ano\",zadani!$D$21=\"ano\"),Tabl!J152,\"\")","v":""},{"$f":"IF(OR(zadani!$D$20=\"ano\",zadani!$G$19=\"ano\"),Tabl!K152,\"\")","v":""}," ",{"$f":"IF(zadani!$D$20=\"ano\",'Fire Devc B'!$V$51,\"\")","v":""}," "]
[null,{"$f":"IF(zadani!$D$20=\"ano\",'Fire Devc B'!$T$50,\"\")","v":""},{"$f":"IF(OR(zadani!$D$19=\"ano\",zadani!$D$21=\"ano\"),Tabl!J153,\"\")","v":""},{"$f":"IF(OR(zadani!$D$20=\"ano\",zadani!$G$19=\"ano\"),Tabl!K153,\"\")","v":""}," ",{"$f":"IF(zadani!$D$20=\"ano\",'Fire Devc B'!$V$50,\"\")","v":""}," "]
[null,{"$f":"IF(zadani!$D$20=\"ano\",'Fire Devc B'!$T$49,\"\")","v":""},{"$f":"IF(OR(zadani!$D$19=\"ano\",zadani!$D$21=\"ano\"),Tabl!J154,\"\")","v":""},{"$f":"IF(OR(zadani!$D$20=\"ano\",zadani!$G$19=\"ano\"),Tabl!K154,\"\")","v":""}," ",{"$f":"IF(zadani!$D$20=\"ano\",'Fire Devc B'!$V$49,\"\")","v":""}," "]
[null,{"$f":"IF(zadani!$D$20=\"ano\",'Fire Devc B'!$T$48,\"\")","v":""},{"$f":"IF(OR(zadani!$D$19=\"ano\",zadani!$D$21=\"ano\"),Tabl!J155,\"\")","v":""},{"$f":"IF(OR(zadani!$D$20=\"ano\",zadani!$G$19=\"ano\"),Tabl!K155,\"\")","v":""}," ",{"$f":"IF(zadani!$D$20=\"ano\",'Fire Devc B'!$V$48,\"\")","v":""}," "]
[null,{"$f":"IF(zadani!$D$20=\"ano\",'Fire Devc B'!$T$47,\"\")","v":""},{"$f":"IF(OR(zadani!$D$19=\"ano\",zadani!$D$21=\"ano\"),Tabl!J156,\"\")","v":""},{"$f":"IF(OR(zadani!$D$20=\"ano\",zadani!$G$19=\"ano\"),Tabl!K156,\"\")","v":""}," ",{"$f":"IF(zadani!$D$20=\"ano\",'Fire Devc B'!$V$47,\"\")","v":""}," "]
[null,{"$f":"IF(zadani!$D$20=\"ano\",'Fire Devc B'!$T$46,\"\")","v":""},{"$f":"IF(OR(zadani!$D$19=\"ano\",zadani!$D$21=\"ano\"),Tabl!J157,\"\")","v":""},{"$f":"IF(OR(zadani!$D$20=\"ano\",zadani!$G$19=\"ano\"),Tabl!K157,\"\")","v":""}," ",{"$f":"IF(zadani!$D$20=\"ano\",'Fire Devc B'!$V$46,\"\")","v":""}," "]
[null,{"$f":"IF(zadani!$D$20=\"ano\",'Fire Devc B'!$T$45,\"\")","v":""},{"$f":"IF(OR(zadani!$D$19=\"ano\",zadani!$D$21=\"ano\"),Tabl!J158,\"\")","v":""},{"$f":"IF(OR(zadani!$D$20=\"ano\",zadani!$G$19=\"ano\"),Tabl!K158,\"\")","v":""}," ",{"$f":"IF(zadani!$D$20=\"ano\",'Fire Devc B'!$V$45,\"\")","v":""}," "]
[null,{"$f":"IF(zadani!$D$20=\"ano\",'Fire Devc B'!$T$44,\"\")","v":""},{"$f":"IF(OR(zadani!$D$19=\"ano\",zadani!$D$21=\"ano\"),Tabl!J159,\"\")","v":""},{"$f":"IF(OR(zadani!$D$20=\"ano\",zadani!$G$19=\"ano\"),Tabl!K159,\"\")","v":""}," ",{"$f":"IF(zadani!$D$20=\"ano\",'Fire Devc B'!$V$44,\"\")","v":""}," "]
[null,{"$f":"IF(zadani!$D$20=\"ano\",'Fire Devc B'!$T$43,\"\")","v":""},{"$f":"IF(OR(zadani!$D$19=\"ano\",zadani!$D$21=\"ano\"),Tabl!J160,\"\")","v":""},{"$f":"IF(OR(zadani!$D$20=\"ano\",zadani!$G$19=\"ano\"),Tabl!K160,\"\")","v":""}," ",{"$f":"IF(zadani!$D$20=\"ano\",'Fire Devc B'!$V$43,\"\")","v":""}," "]
[null,{"$f":"IF(zadani!$D$20=\"ano\",'Fire Devc B'!$T$42,\"\")","v":""},{"$f":"IF(OR(zadani!$D$19=\"ano\",zadani!$D$21=\"ano\"),Tabl!J161,\"\")","v":""},{"$f":"IF(OR(zadani!$D$20=\"ano\",zadani!$G$19=\"ano\"),Tabl!K161,\"\")","v":""}," ",{"$f":"IF(zadani!$D$20=\"ano\",'Fire Devc B'!$V$42,\"\")","v":""}," "]
[null,{"$f":"IF(zadani!$D$20=\"ano\",'Fire Devc B'!$T$41,\"\")","v":""},{"$f":"IF(OR(zadani!$D$19=\"ano\",zadani!$D$21=\"ano\"),Tabl!J162,\"\")","v":""},{"$f":"IF(OR(zadani!$D$20=\"ano\",zadani!$G$19=\"ano\"),Tabl!K162,\"\")","v":""}," ",{"$f":"IF(zadani!$D$20=\"ano\",'Fire Devc B'!$V$41,\"\")","v":""}," "]
[null,{"$f":"IF(zadani!$D$20=\"ano\",'Fire Devc B'!$T$40,\"\")","v":""},{"$f":"IF(OR(zadani!$D$19=\"ano\",zadani!$D$21=\"ano\"),Tabl!J163,\"\")","v":""},{"$f":"IF(OR(zadani!$D$20=\"ano\",zadani!$G$19=\"ano\"),Tabl!K163,\"\")","v":""}," ",{"$f":"IF(zadani!$D$20=\"ano\",'Fire Devc B'!$V$40,\"\")","v":""}," "]
[null,{"$f":"IF(zadani!$D$20=\"ano\",'Fire Devc B'!$T$39,\"\")","v":""},{"$f":"IF(OR(zadani!$D$19=\"ano\",zadani!$D$21=\"ano\"),Tabl!J164,\"\")","v":""},{"$f":"IF(OR(zadani!$D$20=\"ano\",zadani!$G$19=\"ano\"),Tabl!K164,\"\")","v":""}," ",{"$f":"IF(zadani!$D$20=\"ano\",'Fire Devc B'!$V$39,\"\")","v":""}," "]
[null,{"$f":"IF(zadani!$D$20=\"ano\",'Fire Devc B'!$T$38,\"\")","v":""},{"$f":"IF(OR(zadani!$D$19=\"ano\",zadani!$D$21=\"ano\"),Tabl!J165,\"\")","v":""},{"$f":"IF(OR(zadani!$D$20=\"ano\",zadani!$G$19=\"ano\"),Tabl!K165,\"\")","v":""}," ",{"$f":"IF(zadani!$D$20=\"ano\",'Fire Devc B'!$V$38,\"\")","v":""}," "]
[null,{"$f":"IF(zadani!$D$20=\"ano\",'Fire Devc B'!$T$37,\"\")","v":""},{"$f":"IF(OR(zadani!$D$19=\"ano\",zadani!$D$21=\"ano\"),Tabl!J166,\"\")","v":""},{"$f":"IF(OR(zadani!$D$20=\"ano\",zadani!$G$19=\"ano\"),Tabl!K166,\"\")","v":""}," ",{"$f":"IF(zadani!$D$20=\"ano\",'Fire Devc B'!$V$37,\"\")","v":""}," "]
[null,{"$f":"IF(zadani!$D$20=\"ano\",'Fire Devc B'!$T$36,\"\")","v":""},{"$f":"IF(OR(zadani!$D$19=\"ano\",zadani!$D$21=\"ano\"),Tabl!J167,\"\")","v":""},{"$f":"IF(OR(zadani!$D$20=\"ano\",zadani!$G$19=\"ano\"),Tabl!K167,\"\")","v":""}," ",{"$f":"IF(zadani!$D$20=\"ano\",'Fire Devc B'!$V$36,\"\")","v":""}," "]
[null,{"$f":"IF(zadani!$D$20=\"ano\",'Fire Devc B'!$T$35,\"\")","v":""},{"$f":"IF(OR(zadani!$D$19=\"ano\",zadani!$D$21=\"ano\"),Tabl!J168,\"\")","v":""},{"$f":"IF(OR(zadani!$D$20=\"ano\",zadani!$G$19=\"ano\"),Tabl!K168,\"\")","v":""}," ",{"$f":"IF(zadani!$D$20=\"ano\",'Fire Devc B'!$V$35,\"\")","v":""}," "]
[null,{"$f":"IF(zadani!$D$20=\"ano\",'Fire Devc B'!$T$34,\"\")","v":""},{"$f":"IF(OR(zadani!$D$19=\"ano\",zadani!$D$21=\"ano\"),Tabl!J169,\"\")","v":""},{"$f":"IF(OR(zadani!$D$20=\"ano\",zadani!$G$19=\"ano\"),Tabl!K169,\"\")","v":""}," ",{"$f":"IF(zadani!$D$20=\"ano\",'Fire Devc B'!$V$34,\"\")","v":""}," "]
[null,{"$f":"IF(zadani!$D$20=\"ano\",'Fire Devc B'!$T$33,\"\")","v":""},{"$f":"IF(OR(zadani!$D$19=\"ano\",zadani!$D$21=\"ano\"),Tabl!J170,\"\")","v":""},{"$f":"IF(OR(zadani!$D$20=\"ano\",zadani!$G$19=\"ano\"),Tabl!K170,\"\")","v":""}," ",{"$f":"IF(zadani!$D$20=\"ano\",'Fire Devc B'!$V$33,\"\")","v":""}," "]
[null,{"$f":"IF(zadani!$D$20=\"ano\",'Fire Devc B'!$T$32,\"\")","v":""},{"$f":"IF(OR(zadani!$D$19=\"ano\",zadani!$D$21=\"ano\"),Tabl!J171,\"\")","v":""},{"$f":"IF(OR(zadani!$D$20=\"ano\",zadani!$G$19=\"ano\"),Tabl!K171,\"\")","v":""}," ",{"$f":"IF(zadani!$D$20=\"ano\",'Fire Devc B'!$V$32,\"\")","v":""}," "]
[null,{"$f":"IF(zadani!$D$20=\"ano\",'Fire Devc B'!$T$31,\"\")","v":""},{"$f":"IF(OR(zadani!$D$19=\"ano\",zadani!$D$21=\"ano\"),Tabl!J172,\"\")","v":""},{"$f":"IF(OR(zadani!$D$20=\"ano\",zadani!$G$19=\"ano\"),Tabl!K172,\"\")","v":""}," ",{"$f":"IF(zadani!$D$20=\"ano\",'Fire Devc B'!$V$31,\"\")","v":""}," "]
[null,{"$f":"IF(zadani!$D$20=\"ano\",'Fire Devc B'!$T$30,\"\")","v":""},{"$f":"IF(OR(zadani!$D$19=\"ano\",zadani!$D$21=\"ano\"),Tabl!J173,\"\")","v":""},{"$f":"IF(OR(zadani!$D$20=\"ano\",zadani!$G$19=\"ano\"),Tabl!K173,\"\")","v":""}," ",{"$f":"IF(zadani!$D$20=\"ano\",'Fire Devc B'!$V$30,\"\")","v":""}," "]
[null,{"$f":"IF(zadani!$D$20=\"ano\",'Fire Devc B'!$T$29,\"\")","v":""},{"$f":"IF(OR(zadani!$D$19=\"ano\",zadani!$D$21=\"ano\"),Tabl!J174,\"\")","v":""},{"$f":"IF(OR(zadani!$D$20=\"ano\",zadani!$G$19=\"ano\"),Tabl!K174,\"\")","v":""}," ",{"$f":"IF(zadani!$D$20=\"ano\",'Fire Devc B'!$V$29,\"\")","v":""}," "]
[null,{"$f":"IF(zadani!$D$20=\"ano\",'Fire Devc B'!$T$28,\"\")","v":""},{"$f":"IF(OR(zadani!$D$19=\"ano\",zadani!$D$21=\"ano\"),Tabl!J175,\"\")","v":""},{"$f":"IF(OR(zadani!$D$20=\"ano\",zadani!$G$19=\"ano\"),Tabl!K175,\"\")","v":""}," ",{"$f":"IF(zadani!$D$20=\"ano\",'Fire Devc B'!$V$28,\"\")","v":""}," "]
[null,{"$f":"IF(zadani!$D$20=\"ano\",'Fire Devc B'!$T$27,\"\")","v":""},{"$f":"IF(OR(zadani!$D$19=\"ano\",zadani!$D$21=\"ano\"),Tabl!J176,\"\")","v":""},{"$f":"IF(OR(zadani!$D$20=\"ano\",zadani!$G$19=\"ano\"),Tabl!K176,\"\")","v":""}," ",{"$f":"IF(zadani!$D$20=\"ano\",'Fire Devc B'!$V$27,\"\")","v":""}," "]
[null,{"$f":"IF(zadani!$D$20=\"ano\",'Fire Devc B'!$S$81,\"\")","v":""},{"$f":"IF(OR(zadani!$D$19=\"ano\",zadani!$D$21=\"ano\"),Tabl!J177,\"\")","v":""},{"$f":"IF(OR(zadani!$D$20=\"ano\",zadani!$G$19=\"ano\"),Tabl!K177,\"\")","v":""}," ",{"$f":"IF(zadani!$D$20=\"ano\",'Fire Devc B'!$U$81,\"\")","v":""}," "]
[null,{"$f":"IF(zadani!$D$20=\"ano\",'Fire Devc B'!$S$80,\"\")","v":""},{"$f":"IF(OR(zadani!$D$19=\"ano\",zadani!$D$21=\"ano\"),Tabl!J178,\"\")","v":""},{"$f":"IF(OR(zadani!$D$20=\"ano\",zadani!$G$19=\"ano\"),Tabl!K178,\"\")","v":""}," ",{"$f":"IF(zadani!$D$20=\"ano\",'Fire Devc B'!$U$80,\"\")","v":""}," "]
[null,{"$f":"IF(zadani!$D$20=\"ano\",'Fire Devc B'!$S$79,\"\")","v":""},{"$f":"IF(OR(zadani!$D$19=\"ano\",zadani!$D$21=\"ano\"),Tabl!J179,\"\")","v":""},{"$f":"IF(OR(zadani!$D$20=\"ano\",zadani!$G$19=\"ano\"),Tabl!K179,\"\")","v":""}," ",{"$f":"IF(zadani!$D$20=\"ano\",'Fire Devc B'!$U$79,\"\")","v":""}," "]
[null,{"$f":"IF(zadani!$D$20=\"ano\",'Fire Devc B'!$S$78,\"\")","v":""},{"$f":"IF(OR(zadani!$D$19=\"ano\",zadani!$D$21=\"ano\"),Tabl!J180,\"\")","v":""},{"$f":"IF(OR(zadani!$D$20=\"ano\",zadani!$G$19=\"ano\"),Tabl!K180,\"\")","v":""}," ",{"$f":"IF(zadani!$D$20=\"ano\",'Fire Devc B'!$U$78,\"\")","v":""}," "]
[null,{"$f":"IF(zadani!$D$20=\"ano\",'Fire Devc B'!$S$77,\"\")","v":""},{"$f":"IF(OR(zadani!$D$19=\"ano\",zadani!$D$21=\"ano\"),Tabl!J181,\"\")","v":""},{"$f":"IF(OR(zadani!$D$20=\"ano\",zadani!$G$19=\"ano\"),Tabl!K181,\"\")","v":""}," ",{"$f":"IF(zadani!$D$20=\"ano\",'Fire Devc B'!$U$77,\"\")","v":""}," "]
[null,{"$f":"IF(zadani!$D$20=\"ano\",'Fire Devc B'!$S$76,\"\")","v":""},{"$f":"IF(OR(zadani!$D$19=\"ano\",zadani!$D$21=\"ano\"),Tabl!J182,\"\")","v":""},{"$f":"IF(OR(zadani!$D$20=\"ano\",zadani!$G$19=\"ano\"),Tabl!K182,\"\")","v":""}," ",{"$f":"IF(zadani!$D$20=\"ano\",'Fire Devc B'!$U$76,\"\")","v":""}," "]
[null,{"$f":"IF(zadani!$D$20=\"ano\",'Fire Devc B'!$S$75,\"\")","v":""},{"$f":"IF(OR(zadani!$D$19=\"ano\",zadani!$D$21=\"ano\"),Tabl!J183,\"\")","v":""},{"$f":"IF(OR(zadani!$D$20=\"ano\",zadani!$G$19=\"ano\"),Tabl!K183,\"\")","v":""}," ",{"$f":"IF(zadani!$D$20=\"ano\",'Fire Devc B'!$U$75,\"\")","v":""}," "]
[null,{"$f":"IF(zadani!$D$20=\"ano\",'Fire Devc B'!$S$74,\"\")","v":""},{"$f":"IF(OR(zadani!$D$19=\"ano\",zadani!$D$21=\"ano\"),Tabl!J184,\"\")","v":""},{"$f":"IF(OR(zadani!$D$20=\"ano\",zadani!$G$19=\"ano\"),Tabl!K184,\"\")","v":""}," ",{"$f":"IF(zadani!$D$20=\"ano\",'Fire Devc B'!$U$74,\"\")","v":""}," "]
[null,{"$f":"IF(zadani!$D$20=\"ano\",'Fire Devc B'!$S$73,\"\")","v":""},{"$f":"IF(OR(zadani!$D$19=\"ano\",zadani!$D$21=\"ano\"),Tabl!J185,\"\")","v":""},{"$f":"IF(OR(zadani!$D$20=\"ano\",zadani!$G$19=\"ano\"),Tabl!K185,\"\")","v":""}," ",{"$f":"IF(zadani!$D$20=\"ano\",'Fire Devc B'!$U$73,\"\")","v":""}," "]
[null,{"$f":"IF(zadani!$D$20=\"ano\",'Fire Devc B'!$S$72,\"\")","v":""},{"$f":"IF(OR(zadani!$D$19=\"ano\",zadani!$D$21=\"ano\"),Tabl!J186,\"\")","v":""},{"$f":"IF(OR(zadani!$D$20=\"ano\",zadani!$G$19=\"ano\"),Tabl!K186,\"\")","v":""}," ",{"$f":"IF(zadani!$D$20=\"ano\",'Fire Devc B'!$U$72,\"\")","v":""}," "]
[null,{"$f":"IF(zadani!$D$20=\"ano\",'Fire Devc B'!$S$71,\"\")","v":""},{"$f":"IF(OR(zadani!$D$19=\"ano\",zadani!$D$21=\"ano\"),Tabl!J187,\"\")","v":""},{"$f":"IF(OR(zadani!$D$20=\"ano\",zadani!$G$19=\"ano\"),Tabl!K187,\"\")","v":""}," ",{"$f":"IF(zadani!$D$20=\"ano\",'Fire Devc B'!$U$71,\"\")","v":""}," "]
[null,{"$f":"IF(zadani!$D$20=\"ano\",'Fire Devc B'!$S$70,\"\")","v":""},{"$f":"IF(OR(zadani!$D$19=\"ano\",zadani!$D$21=\"ano\"),Tabl!J188,\"\")","v":""},{"$f":"IF(OR(zadani!$D$20=\"ano\",zadani!$G$19=\"ano\"),Tabl!K188,\"\")","v":""}," ",{"$f":"IF(zadani!$D$20=\"ano\",'Fire Devc B'!$U$70,\"\")","v":""}," "]
[null,{"$f":"IF(zadani!$D$20=\"ano\",'Fire Devc B'!$S$69,\"\")","v":""},{"$f":"IF(OR(zadani!$D$19=\"ano\",zadani!$D$21=\"ano\"),Tabl!J189,\"\")","v":""},{"$f":"IF(OR(zadani!$D$20=\"ano\",zadani!$G$19=\"ano\"),Tabl!K189,\"\")","v":""}," ",{"$f":"IF(zadani!$D$20=\"ano\",'Fire Devc B'!$U$69,\"\")","v":""}," "]
[null,{"$f":"IF(zadani!$D$20=\"ano\",'Fire Devc B'!$S$68,\"\")","v":""},{"$f":"IF(OR(zadani!$D$19=\"ano\",zadani!$D$21=\"ano\"),Tabl!J190,\"\")","v":""},{"$f":"IF(OR(zadani!$D$20=\"ano\",zadani!$G$19=\"ano\"),Tabl!K190,\"\")","v":""}," ",{"$f":"IF(zadani!$D$20=\"ano\",'Fire Devc B'!$U$68,\"\")","v":""}," "]
[null,{"$f":"IF(zadani!$D$20=\"ano\",'Fire Devc B'!$S$67,\"\")","v":""},{"$f":"IF(OR(zadani!$D$19=\"ano\",zadani!$D$21=\"ano\"),Tabl!J191,\"\")","v":""},{"$f":"IF(OR(zadani!$D$20=\"ano\",zadani!$G$19=\"ano\"),Tabl!K191,\"\")","v":""}," ",{"$f":"IF(zadani!$D$20=\"ano\",'Fire Devc B'!$U$67,\"\")","v":""}," "]
[null,{"$f":"IF(zadani!$D$20=\"ano\",'Fire Devc B'!$S$66,\"\")","v":""},{"$f":"IF(OR(zadani!$D$19=\"ano\",zadani!$D$21=\"ano\"),Tabl!J192,\"\")","v":""},{"$f":"IF(OR(zadani!$D$20=\"ano\",zadani!$G$19=\"ano\"),Tabl!K192,\"\")","v":""}," ",{"$f":"IF(zadani!$D$20=\"ano\",'Fire Devc B'!$U$66,\"\")","v":""}," "]
[null,{"$f":"IF(zadani!$D$20=\"ano\",'Fire Devc B'!$S$65,\"\")","v":""},{"$f":"IF(OR(zadani!$D$19=\"ano\",zadani!$D$21=\"ano\"),Tabl!J193,\"\")","v":""},{"$f":"IF(OR(zadani!$D$20=\"ano\",zadani!$G$19=\"ano\"),Tabl!K193,\"\")","v":""}," ",{"$f":"IF(zadani!$D$20=\"ano\",'Fire Devc B'!$U$65,\"\")","v":""}," "]
[null,{"$f":"IF(zadani!$D$20=\"ano\",'Fire Devc B'!$S$64,\"\")","v":""},{"$f":"IF(OR(zadani!$D$19=\"ano\",zadani!$D$21=\"ano\"),Tabl!J194,\"\")","v":""},{"$f":"IF(OR(zadani!$D$20=\"ano\",zadani!$G$19=\"ano\"),Tabl!K194,\"\")","v":""}," ",{"$f":"IF(zadani!$D$20=\"ano\",'Fire Devc B'!$U$64,\"\")","v":""}," "]
[null,{"$f":"IF(zadani!$D$20=\"ano\",'Fire Devc B'!$S$63,\"\")","v":""},{"$f":"IF(OR(zadani!$D$19=\"ano\",zadani!$D$21=\"ano\"),Tabl!J195,\"\")","v":""},{"$f":"IF(OR(zadani!$D$20=\"ano\",zadani!$G$19=\"ano\"),Tabl!K195,\"\")","v":""}," ",{"$f":"IF(zadani!$D$20=\"ano\",'Fire Devc B'!$U$63,\"\")","v":""}," "]
[null,{"$f":"IF(zadani!$D$20=\"ano\",'Fire Devc B'!$S$62,\"\")","v":""},{"$f":"IF(OR(zadani!$D$19=\"ano\",zadani!$D$21=\"ano\"),Tabl!J196,\"\")","v":""},{"$f":"IF(OR(zadani!$D$20=\"ano\",zadani!$G$19=\"ano\"),Tabl!K196,\"\")","v":""}," ",{"$f":"IF(zadani!$D$20=\"ano\",'Fire Devc B'!$U$62,\"\")","v":""}," "]
[null,{"$f":"IF(zadani!$D$20=\"ano\",'Fire Devc B'!$S$61,\"\")","v":""},{"$f":"IF(OR(zadani!$D$19=\"ano\",zadani!$D$21=\"ano\"),Tabl!J197,\"\")","v":""},{"$f":"IF(OR(zadani!$D$20=\"ano\",zadani!$G$19=\"ano\"),Tabl!K197,\"\")","v":""}," ",{"$f":"IF(zadani!$D$20=\"ano\",'Fire Devc B'!$U$61,\"\")","v":""}," "]
[null,{"$f":"IF(zadani!$D$20=\"ano\",'Fire Devc B'!$S$60,\"\")","v":""},{"$f":"IF(OR(zadani!$D$19=\"ano\",zadani!$D$21=\"ano\"),Tabl!J198,\"\")","v":""},{"$f":"IF(OR(zadani!$D$20=\"ano\",zadani!$G$19=\"ano\"),Tabl!K198,\"\")","v":""}," ",{"$f":"IF(zadani!$D$20=\"ano\",'Fire Devc B'!$U$60,\"\")","v":""}," "]
[null,{"$f":"IF(zadani!$D$20=\"ano\",'Fire Devc B'!$S$59,\"\")","v":""},{"$f":"IF(OR(zadani!$D$19=\"ano\",zadani!$D$21=\"ano\"),Tabl!J199,\"\")","v":""},{"$f":"IF(OR(zadani!$D$20=\"ano\",zadani!$G$19=\"ano\"),Tabl!K199,\"\")","v":""}," ",{"$f":"IF(zadani!$D$20=\"ano\",'Fire Devc B'!$U$59,\"\")","v":""}," "]
[null,{"$f":"IF(zadani!$D$20=\"ano\",'Fire Devc B'!$S$58,\"\")","v":""},{"$f":"IF(OR(zadani!$D$19=\"ano\",zadani!$D$21=\"ano\"),Tabl!J200,\"\")","v":""},{"$f":"IF(OR(zadani!$D$20=\"ano\",zadani!$G$19=\"ano\"),Tabl!K200,\"\")","v":""}," ",{"$f":"IF(zadani!$D$20=\"ano\",'Fire Devc B'!$U$58,\"\")","v":""}," "]
[null,{"$f":"IF(zadani!$D$20=\"ano\",'Fire Devc B'!$S$57,\"\")","v":""},{"$f":"IF(OR(zadani!$D$19=\"ano\",zadani!$D$21=\"ano\"),Tabl!J201,\"\")","v":""},{"$f":"IF(OR(zadani!$D$20=\"ano\",zadani!$G$19=\"ano\"),Tabl!K201,\"\")","v":""}," ",{"$f":"IF(zadani!$D$20=\"ano\",'Fire Devc B'!$U$57,\"\")","v":""}," "]
[null,{"$f":"IF(zadani!$D$20=\"ano\",'Fire Devc B'!$S$56,\"\")","v":""},{"$f":"IF(OR(zadani!$D$19=\"ano\",zadani!$D$21=\"ano\"),Tabl!J202,\"\")","v":""},{"$f":"IF(OR(zadani!$D$20=\"ano\",zadani!$G$19=\"ano\"),Tabl!K202,\"\")","v":""}," ",{"$f":"IF(zadani!$D$20=\"ano\",'Fire Devc B'!$U$56,\"\")","v":""}," "]
[null,{"$f":"IF(zadani!$D$20=\"ano\",'Fire Devc B'!$S$55,\"\")","v":""},{"$f":"IF(OR(zadani!$D$19=\"ano\",zadani!$D$21=\"ano\"),Tabl!J203,\"\")","v":""},{"$f":"IF(OR(zadani!$D$20=\"ano\",zadani!$G$19=\"ano\"),Tabl!K203,\"\")","v":""}," ",{"$f":"IF(zadani!$D$20=\"ano\",'Fire Devc B'!$U$55,\"\")","v":""}," "]
[null,{"$f":"IF(zadani!$D$20=\"ano\",'Fire Devc B'!$S$54,\"\")","v":""},{"$f":"IF(OR(zadani!$D$19=\"ano\",zadani!$D$21=\"ano\"),Tabl!J204,\"\")","v":""},{"$f":"IF(OR(zadani!$D$20=\"ano\",zadani!$G$19=\"ano\"),Tabl!K204,\"\")","v":""}," ",{"$f":"IF(zadani!$D$20=\"ano\",'Fire Devc B'!$U$54,\"\")","v":""}," "]
[null,{"$f":"IF(zadani!$D$20=\"ano\",'Fire Devc B'!$S$53,\"\")","v":""},{"$f":"IF(OR(zadani!$D$19=\"ano\",zadani!$D$21=\"ano\"),Tabl!J205,\"\")","v":""},{"$f":"IF(OR(zadani!$D$20=\"ano\",zadani!$G$19=\"ano\"),Tabl!K205,\"\")","v":""}," ",{"$f":"IF(zadani!$D$20=\"ano\",'Fire Devc B'!$U$53,\"\")","v":""}," "]
[null,{"$f":"IF(zadani!$D$20=\"ano\",'Fire Devc B'!$S$52,\"\")","v":""},{"$f":"IF(OR(zadani!$D$19=\"ano\",zadani!$D$21=\"ano\"),Tabl!J206,\"\")","v":""},{"$f":"IF(OR(zadani!$D$20=\"ano\",zadani!$G$19=\"ano\"),Tabl!K206,\"\")","v":""}," ",{"$f":"IF(zadani!$D$20=\"ano\",'Fire Devc B'!$U$52,\"\")","v":""}," "]
[null,{"$f":"IF(zadani!$D$20=\"ano\",'Fire Devc B'!$S$51,\"\")","v":""},{"$f":"IF(OR(zadani!$D$19=\"ano\",zadani!$D$21=\"ano\"),Tabl!J207,\"\")","v":""},{"$f":"IF(OR(zadani!$D$20=\"ano\",zadani!$G$19=\"ano\"),Tabl!K207,\"\")","v":""}," ",{"$f":"IF(zadani!$D$20=\"ano\",'Fire Devc B'!$U$51,\"\")","v":""}," "]
[null,{"$f":"IF(zadani!$D$20=\"ano\",'Fire Devc B'!$S$50,\"\")","v":""},{"$f":"IF(OR(zadani!$D$19=\"ano\",zadani!$D$21=\"ano\"),Tabl!J208,\"\")","v":""},{"$f":"IF(OR(zadani!$D$20=\"ano\",zadani!$G$19=\"ano\"),Tabl!K208,\"\")","v":""}," ",{"$f":"IF(zadani!$D$20=\"ano\",'Fire Devc B'!$U$50,\"\")","v":""}," "]
[null,{"$f":"IF(zadani!$D$20=\"ano\",'Fire Devc B'!$S$49,\"\")","v":""},{"$f":"IF(OR(zadani!$D$19=\"ano\",zadani!$D$21=\"ano\"),Tabl!J209,\"\")","v":""},{"$f":"IF(OR(zadani!$D$20=\"ano\",zadani!$G$19=\"ano\"),Tabl!K209,\"\")","v":""}," ",{"$f":"IF(zadani!$D$20=\"ano\",'Fire Devc B'!$U$49,\"\")","v":""}," "]
[null,{"$f":"IF(zadani!$D$20=\"ano\",'Fire Devc B'!$S$48,\"\")","v":""},{"$f":"IF(OR(zadani!$D$19=\"ano\",zadani!$D$21=\"ano\"),Tabl!J210,\"\")","v":""},{"$f":"IF(OR(zadani!$D$20=\"ano\",zadani!$G$19=\"ano\"),Tabl!K210,\"\")","v":""}," ",{"$f":"IF(zadani!$D$20=\"ano\",'Fire Devc B'!$U$48,\"\")","v":""}," "]
[null,{"$f":"IF(zadani!$D$20=\"ano\",'Fire Devc B'!$S$47,\"\")","v":""}," ",null," ",{"$f":"IF(zadani!$D$20=\"ano\",'Fire Devc B'!$U$47,\"\")","v":""}," "]
[null,{"$f":"IF(zadani!$D$20=\"ano\",'Fire Devc B'!$S$46,\"\")","v":""}," ",null," ",{"$f":"IF(zadani!$D$20=\"ano\",'Fire Devc B'!$U$46,\"\")","v":""}," "]
[null,{"$f":"IF(zadani!$D$20=\"ano\",'Fire Devc B'!$S$45,\"\")","v":""}," "," "," ",{"$f":"IF(zadani!$D$20=\"ano\",'Fire Devc B'!$U$45,\"\")","v":""}," "]
[null,{"$f":"IF(zadani!$D$20=\"ano\",'Fire Devc B'!$S$44,\"\")","v":""}," "," "," ",{"$f":"IF(zadani!$D$20=\"ano\",'Fire Devc B'!$U$44,\"\")","v":""}," "]
[null,{"$f":"IF(zadani!$D$20=\"ano\",'Fire Devc B'!$S$43,\"\")","v":""}," "," "," ",{"$f":"IF(zadani!$D$20=\"ano\",'Fire Devc B'!$U$43,\"\")","v":""}," "]
[null,{"$f":"IF(zadani!$D$20=\"ano\",'Fire Devc B'!$S$42,\"\")","v":""}," "," "," ",{"$f":"IF(zadani!$D$20=\"ano\",'Fire Devc B'!$U$42,\"\")","v":""}," "]
[null,{"$f":"IF(zadani!$D$20=\"ano\",'Fire Devc B'!$S$41,\"\")","v":""}," "," "," ",{"$f":"IF(zadani!$D$20=\"ano\",'Fire Devc B'!$U$41,\"\")","v":""}," "]
[null,{"$f":"IF(zadani!$D$20=\"ano\",'Fire Devc B'!$S$40,\"\")","v":""}," "," "," ",{"$f":"IF(zadani!$D$20=\"ano\",'Fire Devc B'!$U$40,\"\")","v":""}," "]
[null,{"$f":"IF(zadani!$D$20=\"ano\",'Fire Devc B'!$S$39,\"\")","v":""}," "," "," ",{"$f":"IF(zadani!$D$20=\"ano\",'Fire Devc B'!$U$39,\"\")","v":""}," "]
[null,{"$f":"IF(zadani!$D$20=\"ano\",'Fire Devc B'!$S$38,\"\")","v":""}," "," "," ",{"$f":"IF(zadani!$D$20=\"ano\",'Fire Devc B'!$U$38,\"\")","v":""}," "]
[null,{"$f":"IF(zadani!$D$20=\"ano\",'Fire Devc B'!$S$37,\"\")","v":""}," "," "," ",{"$f":"IF(zadani!$D$20=\"ano\",'Fire Devc B'!$U$37,\"\")","v":""}," "]
[null,{"$f":"IF(zadani!$D$20=\"ano\",'Fire Devc B'!$S$28,\"\")","v":""}," "," "," ",{"$f":"IF(zadani!$D$20=\"ano\",'Fire Devc B'!$U$28,\"\")","v":""}," "]
[null,{"$f":"IF(zadani!$D$20=\"ano\",'Fire Devc B'!$S$27,\"\")","v":""}," "," "," ",{"$f":"IF(zadani!$D$20=\"ano\",'Fire Devc B'!$U$27,\"\")","v":""}," "]
[null,{"$f":"IF(zadani!$D$21=\"ano\",'Fire Devc C'!$T$16,\"\")","v":""}," "," "," ",{"$f":"IF(zadani!$D$21=\"ano\",'Fire Devc C'!$V$16,\"\")","v":""}," "]
[null,{"$f":"IF(zadani!$D$21=\"ano\",'Fire Devc C'!$T$15,\"\")","v":""}," "," "," ",{"$f":"IF(zadani!$D$21=\"ano\",'Fire Devc C'!$V$15,\"\")","v":""}," "]
[null,{"$f":"IF(zadani!$D$21=\"ano\",'Fire Devc C'!$T$14,\"\")","v":""}," "," "," ",{"$f":"IF(zadani!$D$21=\"ano\",'Fire Devc C'!$V$14,\"\")","v":""}," "]
[null,{"$f":"IF(zadani!$D$21=\"ano\",'Fire Devc C'!$T$13,\"\")","v":""}," "," "," ",{"$f":"IF(zadani!$D$21=\"ano\",'Fire Devc C'!$V$13,\"\")","v":""}," "]
[null,{"$f":"IF(zadani!$D$21=\"ano\",'Fire Devc C'!$S$16,\"\")","v":""}," "," "," ",{"$f":"IF(zadani!$D$21=\"ano\",'Fire Devc C'!$U$16,\"\")","v":""}," "]
[null,{"$f":"IF(zadani!$D$21=\"ano\",'Fire Devc C'!$S$12,\"\")","v":""}," "," "," ",{"$f":"IF(zadani!$D$21=\"ano\",'Fire Devc C'!$U$12,\"\")","v":""}," "]
[null,{"$f":"IF(zadani!$D$20=\"ano\",'Fire Devc B'!$T$19,\"\")","v":""}," "," "," ",{"$f":"IF(zadani!$D$20=\"ano\",'Fire Devc B'!$V$19,\"\")","v":""}," "]
[null,{"$f":"IF(zadani!$D$20=\"ano\",'Fire Devc B'!$T$18,\"\")","v":""}," "," "," ",{"$f":"IF(zadani!$D$20=\"ano\",'Fire Devc B'!$V$18,\"\")","v":""}," "]
[null,{"$f":"IF(zadani!$D$20=\"ano\",'Fire Devc B'!$T$17,\"\")","v":""}," "," "," ",{"$f":"IF(zadani!$D$20=\"ano\",'Fire Devc B'!$V$17,\"\")","v":""}," "]
[null,{"$f":"IF(zadani!$D$20=\"ano\",'Fire Devc B'!$S$18,\"\")","v":""}," "," "," ",{"$f":"IF(zadani!$D$20=\"ano\",'Fire Devc B'!$U$18,\"\")","v":""}," "]
[null,{"$f":"IF(zadani!$D$20=\"ano\",'Fire Devc B'!$S$17,\"\")","v":""}," "," "," ",{"$f":"IF(zadani!$D$20=\"ano\",'Fire Devc B'!$U$17,\"\")","v":""}," "]
[null,{"$f":"IF(zadani!$D$21=\"ano\",'Fire Devc C'!$T$106,\"\")","v":""}," "," "," ",{"$f":"IF(zadani!$D$21=\"ano\",'Fire Devc C'!$V$106,\"\")","v":""}," "]
[null,{"$f":"IF(zadani!$D$21=\"ano\",'Fire Devc C'!$T$105,\"\")","v":""}," "," "," ",{"$f":"IF(zadani!$D$21=\"ano\",'Fire Devc C'!$V$105,\"\")","v":""}," "]
[null,{"$f":"IF(zadani!$D$21=\"ano\",'Fire Devc C'!$T$104,\"\")","v":""}," "," "," ",{"$f":"IF(zadani!$D$21=\"ano\",'Fire Devc C'!$V$104,\"\")","v":""}," "]
[null,{"$f":"IF(zadani!$D$21=\"ano\",'Fire Devc C'!$T$103,\"\")","v":""}," "," "," ",{"$f":"IF(zadani!$D$21=\"ano\",'Fire Devc C'!$V$103,\"\")","v":""}," "]
[null,{"$f":"IF(zadani!$D$21=\"ano\",'Fire Devc C'!$T$102,\"\")","v":""}," "," "," ",{"$f":"IF(zadani!$D$21=\"ano\",'Fire Devc C'!$V$102,\"\")","v":""}," "]
[null,{"$f":"IF(zadani!$D$21=\"ano\",'Fire Devc C'!$T$101,\"\")","v":""}," "," "," ",{"$f":"IF(zadani!$D$21=\"ano\",'Fire Devc C'!$V$101,\"\")","v":""}," "]
[null,{"$f":"IF(zadani!$D$21=\"ano\",'Fire Devc C'!$T$100,\"\")","v":""}," "," "," ",{"$f":"IF(zadani!$D$21=\"ano\",'Fire Devc C'!$V$100,\"\")","v":""}," "]
[null,{"$f":"IF(zadani!$D$21=\"ano\",'Fire Devc C'!$T$99,\"\")","v":""}," "," "," ",{"$f":"IF(zadani!$D$21=\"ano\",'Fire Devc C'!$V$99,\"\")","v":""}," "]
[null,{"$f":"IF(zadani!$D$21=\"ano\",'Fire Devc C'!$T$98,\"\")","v":""}," "," "," ",{"$f":"IF(zadani!$D$21=\"ano\",'Fire Devc C'!$V$98,\"\")","v":""}," "]
[null,{"$f":"IF(zadani!$D$21=\"ano\",'Fire Devc C'!$T$97,\"\")","v":""}," "," "," ",{"$f":"IF(zadani!$D$21=\"ano\",'Fire Devc C'!$V$97,\"\")","v":""}," "]
[null,{"$f":"IF(zadani!$D$21=\"ano\",'Fire Devc C'!$T$86,\"\")","v":""}," "," "," ",{"$f":"IF(zadani!$D$21=\"ano\",'Fire Devc C'!$V$86,\"\")","v":""}," "]
[null,{"$f":"IF(zadani!$D$21=\"ano\",'Fire Devc C'!$T$85,\"\")","v":""}," "," "," ",{"$f":"IF(zadani!$D$21=\"ano\",'Fire Devc C'!$V$85,\"\")","v":""}," "]
[null,{"$f":"IF(zadani!$D$21=\"ano\",'Fire Devc C'!$T$84,\"\")","v":""}," "," "," ",{"$f":"IF(zadani!$D$21=\"ano\",'Fire Devc C'!$V$84,\"\")","v":""}," "]
[null,{"$f":"IF(zadani!$D$21=\"ano\",'Fire Devc C'!$T$83,\"\")","v":""}," "," "," ",{"$f":"IF(zadani!$D$21=\"ano\",'Fire Devc C'!$V$83,\"\")","v":""}," "]
[null,{"$f":"IF(zadani!$D$21=\"ano\",'Fire Devc C'!$T$82,\"\")","v":""}," "," "," ",{"$f":"IF(zadani!$D$21=\"ano\",'Fire Devc C'!$V$82,\"\")","v":""}," "]
[null,{"$f":"IF(zadani!$D$21=\"ano\",'Fire Devc C'!$T$81,\"\")","v":""}," "," "," ",{"$f":"IF(zadani!$D$21=\"ano\",'Fire Devc C'!$V$81,\"\")","v":""}," "]
[null,{"$f":"IF(zadani!$D$21=\"ano\",'Fire Devc C'!$T$80,\"\")","v":""}," "," "," ",{"$f":"IF(zadani!$D$21=\"ano\",'Fire Devc C'!$V$80,\"\")","v":""}," "]
[null,{"$f":"IF(zadani!$D$21=\"ano\",'Fire Devc C'!$T$79,\"\")","v":""}," "," "," ",{"$f":"IF(zadani!$D$21=\"ano\",'Fire Devc C'!$V$79,\"\")","v":""}," "]
[null,{"$f":"IF(zadani!$D$21=\"ano\",'Fire Devc C'!$T$78,\"\")","v":""}," "," "," ",{"$f":"IF(zadani!$D$21=\"ano\",'Fire Devc C'!$V$78,\"\")","v":""}," "]
[null,{"$f":"IF(zadani!$D$21=\"ano\",'Fire Devc C'!$T$77,\"\")","v":""}," "," "," ",{"$f":"IF(zadani!$D$21=\"ano\",'Fire Devc C'!$V$77,\"\")","v":""}," "]
[null,{"$f":"IF(zadani!$D$21=\"ano\",'Fire Devc C'!$T$66,\"\")","v":""}," "," "," ",{"$f":"IF(zadani!$D$21=\"ano\",'Fire Devc C'!$V$66,\"\")","v":""}," "]
[null,{"$f":"IF(zadani!$D$21=\"ano\",'Fire Devc C'!$T$65,\"\")","v":""}," "," "," ",{"$f":"IF(zadani!$D$21=\"ano\",'Fire Devc C'!$V$65,\"\")","v":""}," "]
[null,{"$f":"IF(zadani!$D$21=\"ano\",'Fire Devc C'!$T$64,\"\")","v":""}," "," "," ",{"$f":"IF(zadani!$D$21=\"ano\",'Fire Devc C'!$V$64,\"\")","v":""}," "]
[null,{"$f":"IF(zadani!$D$21=\"ano\",'Fire Devc C'!$T$63,\"\")","v":""}," "," "," ",{"$f":"IF(zadani!$D$21=\"ano\",'Fire Devc C'!$V$63,\"\")","v":""}," "]
[null,{"$f":"IF(zadani!$D$21=\"ano\",'Fire Devc C'!$T$62,\"\")","v":""}," "," "," ",{"$f":"IF(zadani!$D$21=\"ano\",'Fire Devc C'!$V$62,\"\")","v":""}," "]
[null,{"$f":"IF(zadani!$D$21=\"ano\",'Fire Devc C'!$T$61,\"\")","v":""}," "," "," ",{"$f":"IF(zadani!$D$21=\"ano\",'Fire Devc C'!$V$61,\"\")","v":""}," "]
[null,{"$f":"IF(zadani!$D$21=\"ano\",'Fire Devc C'!$T$60,\"\")","v":""}," "," "," ",{"$f":"IF(zadani!$D$21=\"ano\",'Fire Devc C'!$V$60,\"\")","v":""}," "]
[null,{"$f":"IF(zadani!$D$21=\"ano\",'Fire Devc C'!$T$59,\"\")","v":""}," "," "," ",{"$f":"IF(zadani!$D$21=\"ano\",'Fire Devc C'!$V$59,\"\")","v":""}," "]
[null,{"$f":"IF(zadani!$D$21=\"ano\",'Fire Devc C'!$T$58,\"\")","v":""}," "," "," ",{"$f":"IF(zadani!$D$21=\"ano\",'Fire Devc C'!$V$58,\"\")","v":""}," "]
[null,{"$f":"IF(zadani!$D$21=\"ano\",'Fire Devc C'!$T$57,\"\")","v":""}," "," "," ",{"$f":"IF(zadani!$D$21=\"ano\",'Fire Devc C'!$V$57,\"\")","v":""}," "]
[null,{"$f":"IF(zadani!$D$21=\"ano\",'Fire Devc C'!$T$40,\"\")","v":""}," "," "," ",{"$f":"IF(zadani!$D$21=\"ano\",'Fire Devc C'!$V$40,\"\")","v":""}," "]
[null,{"$f":"IF(zadani!$D$21=\"ano\",'Fire Devc C'!$T$39,\"\")","v":""}," "," "," ",{"$f":"IF(zadani!$D$21=\"ano\",'Fire Devc C'!$V$39,\"\")","v":""}," "]
[null,{"$f":"IF(zadani!$D$21=\"ano\",'Fire Devc C'!$T$38,\"\")","v":""}," "," "," ",{"$f":"IF(zadani!$D$21=\"ano\",'Fire Devc C'!$V$38,\"\")","v":""}," "]
[null,{"$f":"IF(zadani!$D$21=\"ano\",'Fire Devc C'!$T$37,\"\")","v":""}," "," "," ",{"$f":"IF(zadani!$D$21=\"ano\",'Fire Devc C'!$V$37,\"\")","v":""}," "]
[null,{"$f":"IF(zadani!$D$21=\"ano\",'Fire Devc C'!$T$20,\"\")","v":""}," "," "," ",{"$f":"IF(zadani!$D$21=\"ano\",'Fire Devc C'!$V$20,\"\")","v":""}," "]
[null,{"$f":"IF(zadani!$D$21=\"ano\",'Fire Devc C'!$T$19,\"\")","v":""}," "," "," ",{"$f":"IF(zadani!$D$21=\"ano\",'Fire Devc C'!$V$19,\"\")","v":""}," "]
[null,{"$f":"IF(zadani!$D$21=\"ano\",'Fire Devc C'!$T$18,\"\")","v":""}," "," "," ",{"$f":"IF(zadani!$D$21=\"ano\",'Fire Devc C'!$V$18,\"\")","v":""}," "]
[null,{"$f":"IF(zadani!$D$21=\"ano\",'Fire Devc C'!$T$17,\"\")","v":""}," "," "," ",{"$f":"IF(zadani!$D$21=\"ano\",'Fire Devc C'!$V$17,\"\")","v":""}," "]
[null,{"$f":"IF(zadani!$D$21=\"ano\",'Fire Devc C'!$S$106,\"\")","v":""}," "," "," ",{"$f":"IF(zadani!$D$21=\"ano\",'Fire Devc C'!$U$106,\"\")","v":""}," "]
[null,{"$f":"IF(zadani!$D$21=\"ano\",'Fire Devc C'!$S$105,\"\")","v":""}," "," "," ",{"$f":"IF(zadani!$D$21=\"ano\",'Fire Devc C'!$U$105,\"\")","v":""}," "]
[null,{"$f":"IF(zadani!$D$21=\"ano\",'Fire Devc C'!$S$104,\"\")","v":""}," "," "," ",{"$f":"IF(zadani!$D$21=\"ano\",'Fire Devc C'!$U$104,\"\")","v":""}," "]
[null,{"$f":"IF(zadani!$D$21=\"ano\",'Fire Devc C'!$S$103,\"\")","v":""}," "," "," ",{"$f":"IF(zadani!$D$21=\"ano\",'Fire Devc C'!$U$103,\"\")","v":""}," "]
[null,{"$f":"IF(zadani!$D$21=\"ano\",'Fire Devc C'!$S$102,\"\")","v":""}," "," "," ",{"$f":"IF(zadani!$D$21=\"ano\",'Fire Devc C'!$U$102,\"\")","v":""}," "]
[null,{"$f":"IF(zadani!$D$21=\"ano\",'Fire Devc C'!$S$101,\"\")","v":""}," "," "," ",{"$f":"IF(zadani!$D$21=\"ano\",'Fire Devc C'!$U$101,\"\")","v":""}," "]
[null,{"$f":"IF(zadani!$D$21=\"ano\",'Fire Devc C'!$S$100,\"\")","v":""}," "," "," ",{"$f":"IF(zadani!$D$21=\"ano\",'Fire Devc C'!$U$100,\"\")","v":""}," "]
[null,{"$f":"IF(zadani!$D$21=\"ano\",'Fire Devc C'!$S$99,\"\")","v":""}," "," "," ",{"$f":"IF(zadani!$D$21=\"ano\",'Fire Devc C'!$U$99,\"\")","v":""}," "]
[null,{"$f":"IF(zadani!$D$21=\"ano\",'Fire Devc C'!$S$98,\"\")","v":""}," "," "," ",{"$f":"IF(zadani!$D$21=\"ano\",'Fire Devc C'!$U$98,\"\")","v":""}," "]
[null,{"$f":"IF(zadani!$D$21=\"ano\",'Fire Devc C'!$S$97,\"\")","v":""}," "," "," ",{"$f":"IF(zadani!$D$21=\"ano\",'Fire Devc C'!$U$97,\"\")","v":""}," "]
[null,{"$f":"IF(zadani!$D$21=\"ano\",'Fire Devc C'!$S$86,\"\")","v":""}," "," "," ",{"$f":"IF(zadani!$D$21=\"ano\",'Fire Devc C'!$U$86,\"\")","v":""}," "]
[null,{"$f":"IF(zadani!$D$21=\"ano\",'Fire Devc C'!$S$85,\"\")","v":""}," "," "," ",{"$f":"IF(zadani!$D$21=\"ano\",'Fire Devc C'!$U$85,\"\")","v":""}," "]
[null,{"$f":"IF(zadani!$D$21=\"ano\",'Fire Devc C'!$S$84,\"\")","v":""}," "," "," ",{"$f":"IF(zadani!$D$21=\"ano\",'Fire Devc C'!$U$84,\"\")","v":""}," "]
[null,{"$f":"IF(zadani!$D$21=\"ano\",'Fire Devc C'!$S$83,\"\")","v":""}," "," "," ",{"$f":"IF(zadani!$D$21=\"ano\",'Fire Devc C'!$U$83,\"\")","v":""}," "]
[null,{"$f":"IF(zadani!$D$21=\"ano\",'Fire Devc C'!$S$82,\"\")","v":""}," "," "," ",{"$f":"IF(zadani!$D$21=\"ano\",'Fire Devc C'!$U$82,\"\")","v":""}," "]
[null,{"$f":"IF(zadani!$D$21=\"ano\",'Fire Devc C'!$S$81,\"\")","v":""}," "," "," ",{"$f":"IF(zadani!$D$21=\"ano\",'Fire Devc C'!$U$81,\"\")","v":""}," "]
[null,{"$f":"IF(zadani!$D$21=\"ano\",'Fire Devc C'!$S$80,\"\")","v":""}," "," "," ",{"$f":"IF(zadani!$D$21=\"ano\",'Fire Devc C'!$U$80,\"\")","v":""}," "]
[null,{"$f":"IF(zadani!$D$21=\"ano\",'Fire Devc C'!$S$79,\"\")","v":""}," "," "," ",{"$f":"IF(zadani!$D$21=\"ano\",'Fire Devc C'!$U$79,\"\")","v":""}," "]
[null,{"$f":"IF(zadani!$D$21=\"ano\",'Fire Devc C'!$S$78,\"\")","v":""}," "," "," ",{"$f":"IF(zadani!$D$21=\"ano\",'Fire Devc C'!$U$78,\"\")","v":""}," "]
[null,{"$f":"IF(zadani!$D$21=\"ano\",'Fire Devc C'!$S$77,\"\")","v":""}," "," "," ",{"$f":"IF(zadani!$D$21=\"ano\",'Fire Devc C'!$U$77,\"\")","v":""}," "]
[null,{"$f":"IF(zadani!$D$21=\"ano\",'Fire Devc C'!$S$66,\"\")","v":""}," "," "," ",{"$f":"IF(zadani!$D$21=\"ano\",'Fire Devc C'!$U$66,\"\")","v":""}," "]
[null,{"$f":"IF(zadani!$D$21=\"ano\",'Fire Devc C'!$S$65,\"\")","v":""}," "," "," ",{"$f":"IF(zadani!$D$21=\"ano\",'Fire Devc C'!$U$65,\"\")","v":""}," "]
[null,{"$f":"IF(zadani!$D$21=\"ano\",'Fire Devc C'!$S$64,\"\")","v":""}," "," "," ",{"$f":"IF(zadani!$D$21=\"ano\",'Fire Devc C'!$U$64,\"\")","v":""}," "]
[null,{"$f":"IF(zadani!$D$21=\"ano\",'Fire Devc C'!$S$63,\"\")","v":""}," "," "," ",{"$f":"IF(zadani!$D$21=\"ano\",'Fire Devc C'!$U$63,\"\")","v":""}," "]
[null,{"$f":"IF(zadani!$D$21=\"ano\",'Fire Devc C'!$S$62,\"\")","v":""}," "," "," ",{"$f":"IF(zadani!$D$21=\"ano\",'Fire Devc C'!$U$62,\"\")","v":""}," "]
[null,{"$f":"IF(zadani!$D$21=\"ano\",'Fire Devc C'!$S$61,\"\")","v":""}," "," "," ",{"$f":"IF(zadani!$D$21=\"ano\",'Fire Devc C'!$U$61,\"\")","v":""}," "]
[null,{"$f":"IF(zadani!$D$21=\"ano\",'Fire Devc C'!$S$60,\"\")","v":""}," "," "," ",{"$f":"IF(zadani!$D$21=\"ano\",'Fire Devc C'!$U$60,\"\")","v":""}," "]
[null,{"$f":"IF(zadani!$D$21=\"ano\",'Fire Devc C'!$S$59,\"\")","v":""}," "," "," ",{"$f":"IF(zadani!$D$21=\"ano\",'Fire Devc C'!$U$59,\"\")","v":""}," "]
[null,{"$f":"IF(zadani!$D$21=\"ano\",'Fire Devc C'!$S$58,\"\")","v":""}," "," "," ",{"$f":"IF(zadani!$D$21=\"ano\",'Fire Devc C'!$U$58,\"\")","v":""}," "]
[null,{"$f":"IF(zadani!$D$21=\"ano\",'Fire Devc C'!$S$57,\"\")","v":""}," "," "," ",{"$f":"IF(zadani!$D$21=\"ano\",'Fire Devc C'!$U$57,\"\")","v":""}," "]
[null,{"$f":"IF(zadani!$D$21=\"ano\",'Fire Devc C'!$S$40,\"\")","v":""}," "," "," ",{"$f":"IF(zadani!$D$21=\"ano\",'Fire Devc C'!$U$40,\"\")","v":""}," "]
[null,{"$f":"IF(zadani!$D$21=\"ano\",'Fire Devc C'!$S$39,\"\")","v":""}," "," "," ",{"$f":"IF(zadani!$D$21=\"ano\",'Fire Devc C'!$U$39,\"\")","v":""}," "]
[null,{"$f":"IF(zadani!$D$21=\"ano\",'Fire Devc C'!$S$38,\"\")","v":""}," "," "," ",{"$f":"IF(zadani!$D$21=\"ano\",'Fire Devc C'!$U$38,\"\")","v":""}," "]
[null,{"$f":"IF(zadani!$D$21=\"ano\",'Fire Devc C'!$S$37,\"\")","v":""}," "," "," ",{"$f":"IF(zadani!$D$21=\"ano\",'Fire Devc C'!$U$37,\"\")","v":""}," "]
[null,{"$f":"IF(zadani!$D$21=\"ano\",'Fire Devc C'!$S$20,\"\")","v":""}," "," "," ",{"$f":"IF(zadani!$D$21=\"ano\",'Fire Devc C'!$U$20,\"\")","v":""}," "]
[null,{"$f":"IF(zadani!$D$21=\"ano\",'Fire Devc C'!$S$19,\"\")","v":""}," "," "," ",{"$f":"IF(zadani!$D$21=\"ano\",'Fire Devc C'!$U$19,\"\")","v":""}," "]
[null,{"$f":"IF(zadani!$D$21=\"ano\",'Fire Devc C'!$S$18,\"\")","v":""}," "," "," ",{"$f":"IF(zadani!$D$21=\"ano\",'Fire Devc C'!$U$18,\"\")","v":""}," "]
[null,{"$f":"IF(zadani!$D$21=\"ano\",'Fire Devc C'!$S$17,\"\")","v":""}," "," "," ",{"$f":"IF(zadani!$D$21=\"ano\",'Fire Devc C'!$U$17,\"\")","v":""}," "]
[null,{"$f":"IF(zadani!$D$20=\"ano\",'Fire Devc B'!$T$96,\"\")","v":""}," "," "," ",{"$f":"IF(zadani!$D$20=\"ano\",'Fire Devc B'!$V$96,\"\")","v":""}," "]
[null,{"$f":"IF(zadani!$D$20=\"ano\",'Fire Devc B'!$T$95,\"\")","v":""}," "," "," ",{"$f":"IF(zadani!$D$20=\"ano\",'Fire Devc B'!$V$95,\"\")","v":""}," "]
[null,{"$f":"IF(zadani!$D$20=\"ano\",'Fire Devc B'!$T$94,\"\")","v":""}," "," "," ",{"$f":"IF(zadani!$D$20=\"ano\",'Fire Devc B'!$V$94,\"\")","v":""}," "]
[null,{"$f":"IF(zadani!$D$20=\"ano\",'Fire Devc B'!$T$93,\"\")","v":""}," "," "," ",{"$f":"IF(zadani!$D$20=\"ano\",'Fire Devc B'!$V$93,\"\")","v":""}," "]
[null,{"$f":"IF(zadani!$D$20=\"ano\",'Fire Devc B'!$T$92,\"\")","v":""}," "," "," ",{"$f":"IF(zadani!$D$20=\"ano\",'Fire Devc B'!$V$92,\"\")","v":""}," "]
[null,{"$f":"IF(zadani!$D$20=\"ano\",'Fire Devc B'!$T$91,\"\")","v":""}," "," "," ",{"$f":"IF(zadani!$D$20=\"ano\",'Fire Devc B'!$V$91,\"\")","v":""}," "]
[null,{"$f":"IF(zadani!$D$20=\"ano\",'Fire Devc B'!$T$90,\"\")","v":""}," "," "," ",{"$f":"IF(zadani!$D$20=\"ano\",'Fire Devc B'!$V$90,\"\")","v":""}," "]
[null,{"$f":"IF(zadani!$D$20=\"ano\",'Fire Devc B'!$T$89,\"\")","v":""}," "," "," ",{"$f":"IF(zadani!$D$20=\"ano\",'Fire Devc B'!$V$89,\"\")","v":""}," "]
[null,{"$f":"IF(zadani!$D$20=\"ano\",'Fire Devc B'!$T$88,\"\")","v":""}," "," "," ",{"$f":"IF(zadani!$D$20=\"ano\",'Fire Devc B'!$V$88,\"\")","v":""}," "]
[null,{"$f":"IF(zadani!$D$20=\"ano\",'Fire Devc B'!$T$87,\"\")","v":""}," "," "," ",{"$f":"IF(zadani!$D$20=\"ano\",'Fire Devc B'!$V$87,\"\")","v":""}," "]
[null,{"$f":"IF(zadani!$D$20=\"ano\",'Fire Devc B'!$S$96,\"\")","v":""}," "," "," ",{"$f":"IF(zadani!$D$20=\"ano\",'Fire Devc B'!$U$96,\"\")","v":""}," "]
[null,{"$f":"IF(zadani!$D$20=\"ano\",'Fire Devc B'!$S$95,\"\")","v":""}," "," "," ",{"$f":"IF(zadani!$D$20=\"ano\",'Fire Devc B'!$U$95,\"\")","v":""}," "]
[null,{"$f":"IF(zadani!$D$20=\"ano\",'Fire Devc B'!$S$94,\"\")","v":""}," "," "," ",{"$f":"IF(zadani!$D$20=\"ano\",'Fire Devc B'!$U$94,\"\")","v":""}," "]
[null,{"$f":"IF(zadani!$D$20=\"ano\",'Fire Devc B'!$S$93,\"\")","v":""}," "," "," ",{"$f":"IF(zadani!$D$20=\"ano\",'Fire Devc B'!$U$93,\"\")","v":""}," "]
[null,{"$f":"IF(zadani!$D$20=\"ano\",'Fire Devc B'!$S$92,\"\")","v":""}," "," "," ",{"$f":"IF(zadani!$D$20=\"ano\",'Fire Devc B'!$U$92,\"\")","v":""}," "]
[null,{"$f":"IF(zadani!$D$20=\"ano\",'Fire Devc B'!$S$91,\"\")","v":""}," "," "," ",{"$f":"IF(zadani!$D$20=\"ano\",'Fire Devc B'!$U$91,\"\")","v":""}," "]
[null,{"$f":"IF(zadani!$D$20=\"ano\",'Fire Devc B'!$S$90,\"\")","v":""}," "," "," ",{"$f":"IF(zadani!$D$20=\"ano\",'Fire Devc B'!$U$90,\"\")","v":""}," "]
[null,{"$f":"IF(zadani!$D$20=\"ano\",'Fire Devc B'!$S$89,\"\")","v":""}," "," "," ",{"$f":"IF(zadani!$D$20=\"ano\",'Fire Devc B'!$U$89,\"\")","v":""}," "]
[null,{"$f":"IF(zadani!$D$20=\"ano\",'Fire Devc B'!$S$88,\"\")","v":""}," "," "," ",{"$f":"IF(zadani!$D$20=\"ano\",'Fire Devc B'!$U$88,\"\")","v":""}," "]
[null,{"$f":"IF(zadani!$D$20=\"ano\",'Fire Devc B'!$S$87,\"\")","v":""}," "," "," ",{"$f":"IF(zadani!$D$20=\"ano\",'Fire Devc B'!$U$87,\"\")","v":""}," "]
[null,{"$f":"IF(zadani!$G$20=\"ano\",'Fire Devc E'!$S$10,\"\")","v":""}," "," "," ",{"$f":"IF(zadani!$G$20=\"ano\",'Fire Devc E'!$T$10,\"\")","v":""}," "]
[null,{"$f":"IF(zadani!$G$20=\"ano\",'Fire Devc E'!$S$9,\"\")","v":""}," "," "," ",{"$f":"IF(zadani!$G$20=\"ano\",'Fire Devc E'!$T$9,\"\")","v":""}," "]
[null,{"$f":"IF(zadani!$G$20=\"ano\",'Fire Devc E'!$S$8,\"\")","v":""}," "," "," ",{"$f":"IF(zadani!$G$20=\"ano\",'Fire Devc E'!$T$8,\"\")","v":""}," "]
[null,{"$f":"IF(zadani!$G$20=\"ano\",'Fire Devc E'!$S$7,\"\")","v":""}," "," "," ",{"$f":"IF(zadani!$G$20=\"ano\",'Fire Devc E'!$T$7,\"\")","v":""}," "]
[null,{"$f":"IF(zadani!$D$20=\"ano\",'Fire Devc B'!$T$8,\"\")","v":""}," "," "," ",{"$f":"IF(zadani!$D$20=\"ano\",'Fire Devc B'!$V$8,\"\")","v":""}," "]
[null,{"$f":"IF(zadani!$D$20=\"ano\",'Fire Devc B'!$T$7,\"\")","v":""}," "," "," ",{"$f":"IF(zadani!$D$20=\"ano\",'Fire Devc B'!$V$7,\"\")","v":""}," "]
[null,{"$f":"IF(zadani!$D$20=\"ano\",'Fire Devc B'!$S$8,\"\")","v":""}," "," "," ",{"$f":"IF(zadani!$D$20=\"ano\",'Fire Devc B'!$U$8,\"\")","v":""}," "]
[null,{"$f":"IF(zadani!$D$20=\"ano\",'Fire Devc B'!$S$7,\"\")","v":""}," "," "," ",{"$f":"IF(zadani!$D$20=\"ano\",'Fire Devc B'!$U$7,\"\")","v":""}," "]
[null,{"$f":"IF(zadani!$D$19=\"ano\",'Fire Devc A'!$T$8,\"\")","v":""}," "," "," ",{"$f":"IF(zadani!$D$19=\"ano\",'Fire Devc A'!$V$8,\"\")","v":""}," "]
[null,{"$f":"IF(zadani!$D$19=\"ano\",'Fire Devc A'!$T$7,\"\")","v":""}," "," "," ",{"$f":"IF(zadani!$D$19=\"ano\",'Fire Devc A'!$V$7,\"\")","v":""}," "]
[null,{"$f":"IF(zadani!$G$21=\"ano\",'Fire Devc F'!$S$10,\"\")","v":""}," "," "," ",{"$f":"IF(zadani!$G$21=\"ano\",'Fire Devc F'!$T$10,\"\")","v":""}," "]
[null,{"$f":"IF(zadani!$G$21=\"ano\",'Fire Devc F'!$S$9,\"\")","v":""}," "," "," ",{"$f":"IF(zadani!$G$21=\"ano\",'Fire Devc F'!$T$9,\"\")","v":""}," "]
[null,{"$f":"IF(zadani!$G$21=\"ano\",'Fire Devc F'!$S$8,\"\")","v":""}," "," "," ",{"$f":"IF(zadani!$G$21=\"ano\",'Fire Devc F'!$T$8,\"\")","v":""}," "]
[null,{"$f":"IF(zadani!$G$21=\"ano\",'Fire Devc F'!$S$7,\"\")","v":""}," "," "," ",{"$f":"IF(zadani!$G$21=\"ano\",'Fire Devc F'!$T$7,\"\")","v":""}," "]
[null,{"$f":"IF(zadani!$D$19=\"ano\",'Fire Devc A'!$S$8,\"\")","v":""}," "," "," ",{"$f":"IF(zadani!$D$19=\"ano\",'Fire Devc A'!$U$8,\"\")","v":""}," "]
[null,{"$f":"IF(zadani!$D$19=\"ano\",'Fire Devc A'!$S$7,\"\")","v":""}," "," "," ",{"$f":"IF(zadani!$D$19=\"ano\",'Fire Devc A'!$U$7,\"\")","v":""}," "]
[null,{"$f":"IF(zadani!$G$19=\"ano\",'Fire Devc D'!$T$8,\"\")","v":""}," "," "," ",{"$f":"IF(zadani!$G$19=\"ano\",'Fire Devc D'!$V$8,\"\")","v":""}," "]
[null,{"$f":"IF(zadani!$G$19=\"ano\",'Fire Devc D'!$T$7,\"\")","v":""}," "," "," ",{"$f":"IF(zadani!$G$19=\"ano\",'Fire Devc D'!$V$7,\"\")","v":""}," "]
[null,{"$f":"IF(zadani!$G$19=\"ano\",'Fire Devc D'!$S$8,\"\")","v":""}," "," "," ",{"$f":"IF(zadani!$G$19=\"ano\",'Fire Devc D'!$U$8,\"\")","v":""}," "]
[null,{"$f":"IF(zadani!$G$19=\"ano\",'Fire Devc D'!$S$7,\"\")","v":""}," "," "," ",{"$f":"IF(zadani!$G$19=\"ano\",'Fire Devc D'!$U$7,\"\")","v":""}," "]
[null,{"$f":"IF(zadani!$D$21=\"ano\",'Fire Devc C'!$T$8,\"\")","v":""}," "," "," ",{"$f":"IF(zadani!$D$21=\"ano\",'Fire Devc C'!$V$8,\"\")","v":""}," "]
[null,{"$f":"IF(zadani!$D$21=\"ano\",'Fire Devc C'!$T$7,\"\")","v":""}," "," "," ",{"$f":"IF(zadani!$D$21=\"ano\",'Fire Devc C'!$V$7,\"\")","v":""}," "]
[null,{"$f":"IF(zadani!$D$21=\"ano\",'Fire Devc C'!$S$8,\"\")","v":""}," "," "," ",{"$f":"IF(zadani!$D$21=\"ano\",'Fire Devc C'!$U$8,\"\")","v":""}," "]
[null,{"$f":"IF(zadani!$D$21=\"ano\",'Fire Devc C'!$S$7,\"\")","v":""}," "," "," ",{"$f":"IF(zadani!$D$21=\"ano\",'Fire Devc C'!$U$7,\"\")","v":""}," "]
[null,{"$f":"IF(zadani!$G$20=\"ano\",'Fire Devc E'!$S$14,\"\")","v":""}," "," "," ",{"$f":"IF(zadani!$G$20=\"ano\",'Fire Devc E'!$T$14,\"\")","v":""}," "]
[null,{"$f":"IF(zadani!$G$20=\"ano\",'Fire Devc E'!$S$13,\"\")","v":""}," "," "," ",{"$f":"IF(zadani!$G$20=\"ano\",'Fire Devc E'!$T$13,\"\")","v":""}," "]
[null,{"$f":"IF(zadani!$G$20=\"ano\",'Fire Devc E'!$S$12,\"\")","v":""}," "," "," ",{"$f":"IF(zadani!$G$20=\"ano\",'Fire Devc E'!$T$12,\"\")","v":""}," "]
[null,{"$f":"IF(zadani!$G$20=\"ano\",'Fire Devc E'!$S$11,\"\")","v":""}," "," "," ",{"$f":"IF(zadani!$G$20=\"ano\",'Fire Devc E'!$T$11,\"\")","v":""}," "]
[null,{"$f":"IF(zadani!$G$21=\"ano\",'Fire Devc F'!$S$14,\"\")","v":""}," "," "," ",{"$f":"IF(zadani!$G$21=\"ano\",'Fire Devc F'!$T$14,\"\")","v":""}," "]
[null,{"$f":"IF(zadani!$G$21=\"ano\",'Fire Devc F'!$S$13,\"\")","v":""}," "," "," ",{"$f":"IF(zadani!$G$21=\"ano\",'Fire Devc F'!$T$13,\"\")","v":""}," "]
[null,{"$f":"IF(zadani!$G$21=\"ano\",'Fire Devc F'!$S$12,\"\")","v":""}," "," "," ",{"$f":"IF(zadani!$G$21=\"ano\",'Fire Devc F'!$T$12,\"\")","v":""}," "]
[null,{"$f":"IF(zadani!$G$21=\"ano\",'Fire Devc F'!$S$11,\"\")","v":""}," "," "," ",{"$f":"IF(zadani!$G$21=\"ano\",'Fire Devc F'!$T$11,\"\")","v":""}," "]
[null,{"$f":"IF(zadani!$G$20=\"ano\",'Fire Devc E'!$S$56,\"\")","v":""}," "," "," ",{"$f":"IF(zadani!$G$20=\"ano\",'Fire Devc E'!$T$56,\"\")","v":""}," "]
[null,{"$f":"IF(zadani!$G$20=\"ano\",'Fire Devc E'!$S$55,\"\")","v":""}," "," "," ",{"$f":"IF(zadani!$G$20=\"ano\",'Fire Devc E'!$T$55,\"\")","v":""}," "]
[null,{"$f":"IF(zadani!$G$20=\"ano\",'Fire Devc E'!$S$54,\"\")","v":""}," "," "," ",{"$f":"IF(zadani!$G$20=\"ano\",'Fire Devc E'!$T$54,\"\")","v":""}," "]
[null,{"$f":"IF(zadani!$G$20=\"ano\",'Fire Devc E'!$S$53,\"\")","v":""}," "," "," ",{"$f":"IF(zadani!$G$20=\"ano\",'Fire Devc E'!$T$53,\"\")","v":""}," "]
[null,{"$f":"IF(zadani!$G$20=\"ano\",'Fire Devc E'!$S$52,\"\")","v":""}," "," "," ",{"$f":"IF(zadani!$G$20=\"ano\",'Fire Devc E'!$T$52,\"\")","v":""}," "]
[null,{"$f":"IF(zadani!$G$20=\"ano\",'Fire Devc E'!$S$51,\"\")","v":""}," "," "," ",{"$f":"IF(zadani!$G$20=\"ano\",'Fire Devc E'!$T$51,\"\")","v":""}," "]
[null,{"$f":"IF(zadani!$G$20=\"ano\",'Fire Devc E'!$S$50,\"\")","v":""}," "," "," ",{"$f":"IF(zadani!$G$20=\"ano\",'Fire Devc E'!$T$50,\"\")","v":""}," "]
[null,{"$f":"IF(zadani!$G$20=\"ano\",'Fire Devc E'!$S$49,\"\")","v":""}," "," "," ",{"$f":"IF(zadani!$G$20=\"ano\",'Fire Devc E'!$T$49,\"\")","v":""}," "]
[null,{"$f":"IF(zadani!$G$20=\"ano\",'Fire Devc E'!$S$48,\"\")","v":""}," "," "," ",{"$f":"IF(zadani!$G$20=\"ano\",'Fire Devc E'!$T$48,\"\")","v":""}," "]
[null,{"$f":"IF(zadani!$G$20=\"ano\",'Fire Devc E'!$S$47,\"\")","v":""}," "," "," ",{"$f":"IF(zadani!$G$20=\"ano\",'Fire Devc E'!$T$47,\"\")","v":""}," "]
[null,{"$f":"IF(zadani!$G$20=\"ano\",'Fire Devc E'!$S$46,\"\")","v":""}," "," "," ",{"$f":"IF(zadani!$G$20=\"ano\",'Fire Devc E'!$T$46,\"\")","v":""}," "]
[null,{"$f":"IF(zadani!$G$20=\"ano\",'Fire Devc E'!$S$45,\"\")","v":""}," "," "," ",{"$f":"IF(zadani!$G$20=\"ano\",'Fire Devc E'!$T$45,\"\")","v":""}," "]
[null,{"$f":"IF(zadani!$G$20=\"ano\",'Fire Devc E'!$S$44,\"\")","v":""}," "," "," ",{"$f":"IF(zadani!$G$20=\"ano\",'Fire Devc E'!$T$44,\"\")","v":""}," "]
[null,{"$f":"IF(zadani!$G$20=\"ano\",'Fire Devc E'!$S$43,\"\")","v":""}," "," "," ",{"$f":"IF(zadani!$G$20=\"ano\",'Fire Devc E'!$T$43,\"\")","v":""}," "]
[null,{"$f":"IF(zadani!$G$20=\"ano\",'Fire Devc E'!$S$42,\"\")","v":""}," "," "," ",{"$f":"IF(zadani!$G$20=\"ano\",'Fire Devc E'!$T$42,\"\")","v":""}," "]
[null,{"$f":"IF(zadani!$G$20=\"ano\",'Fire Devc E'!$S$41,\"\")","v":""}," "," "," ",{"$f":"IF(zadani!$G$20=\"ano\",'Fire Devc E'!$T$41,\"\")","v":""}," "]
[null,{"$f":"IF(zadani!$G$20=\"ano\",'Fire Devc E'!$S$40,\"\")","v":""}," "," "," ",{"$f":"IF(zadani!$G$20=\"ano\",'Fire Devc E'!$T$40,\"\")","v":""}," "]
[null,{"$f":"IF(zadani!$G$20=\"ano\",'Fire Devc E'!$S$39,\"\")","v":""}," "," "," ",{"$f":"IF(zadani!$G$20=\"ano\",'Fire Devc E'!$T$39,\"\")","v":""}," "]
[null,{"$f":"IF(zadani!$G$20=\"ano\",'Fire Devc E'!$S$38,\"\")","v":""}," "," "," ",{"$f":"IF(zadani!$G$20=\"ano\",'Fire Devc E'!$T$38,\"\")","v":""}," "]
[null,{"$f":"IF(zadani!$G$20=\"ano\",'Fire Devc E'!$S$37,\"\")","v":""}," "," "," ",{"$f":"IF(zadani!$G$20=\"ano\",'Fire Devc E'!$T$37,\"\")","v":""}," "]
[null,{"$f":"IF(zadani!$G$20=\"ano\",'Fire Devc E'!$S$36,\"\")","v":""}," "," "," ",{"$f":"IF(zadani!$G$20=\"ano\",'Fire Devc E'!$T$36,\"\")","v":""}," "]
[null,{"$f":"IF(zadani!$G$20=\"ano\",'Fire Devc E'!$S$35,\"\")","v":""}," "," "," ",{"$f":"IF(zadani!$G$20=\"ano\",'Fire Devc E'!$T$35,\"\")","v":""}," "]
[null,{"$f":"IF(zadani!$G$20=\"ano\",'Fire Devc E'!$S$34,\"\")","v":""}," "," "," ",{"$f":"IF(zadani!$G$20=\"ano\",'Fire Devc E'!$T$34,\"\")","v":""}," "]
[null,{"$f":"IF(zadani!$G$20=\"ano\",'Fire Devc E'!$S$33,\"\")","v":""}," "," "," ",{"$f":"IF(zadani!$G$20=\"ano\",'Fire Devc E'!$T$33,\"\")","v":""}," "]
[null,{"$f":"IF(zadani!$G$20=\"ano\",'Fire Devc E'!$S$32,\"\")","v":""}," "," "," ",{"$f":"IF(zadani!$G$20=\"ano\",'Fire Devc E'!$T$32,\"\")","v":""}," "]
[null,{"$f":"IF(zadani!$G$20=\"ano\",'Fire Devc E'!$S$31,\"\")","v":""}," "," "," ",{"$f":"IF(zadani!$G$20=\"ano\",'Fire Devc E'!$T$31,\"\")","v":""}," "]
[null,{"$f":"IF(zadani!$G$20=\"ano\",'Fire Devc E'!$S$30,\"\")","v":""}," "," "," ",{"$f":"IF(zadani!$G$20=\"ano\",'Fire Devc E'!$T$30,\"\")","v":""}," "]
[null,{"$f":"IF(zadani!$G$20=\"ano\",'Fire Devc E'!$S$29,\"\")","v":""}," "," "," ",{"$f":"IF(zadani!$G$20=\"ano\",'Fire Devc E'!$T$29,\"\")","v":""}," "]
[null,{"$f":"IF(zadani!$G$20=\"ano\",'Fire Devc E'!$S$28,\"\")","v":""}," "," "," ",{"$f":"IF(zadani!$G$20=\"ano\",'Fire Devc E'!$T$28,\"\")","v":""}," "]
[null,{"$f":"IF(zadani!$G$20=\"ano\",'Fire Devc E'!$S$27,\"\")","v":""}," "," "," ",{"$f":"IF(zadani!$G$20=\"ano\",'Fire Devc E'!$T$27,\"\")","v":""}," "]
[null,{"$f":"IF(zadani!$G$19=\"ano\",'Fire Devc D'!$T$16,\"\")","v":""}," "," "," ",{"$f":"IF(zadani!$G$19=\"ano\",'Fire Devc D'!$V$16,\"\")","v":""}," "]
[null,{"$f":"IF(zadani!$G$19=\"ano\",'Fire Devc D'!$T$15,\"\")","v":""}," "," "," ",{"$f":"IF(zadani!$G$19=\"ano\",'Fire Devc D'!$V$15,\"\")","v":""}," "]
[null,{"$f":"IF(zadani!$G$19=\"ano\",'Fire Devc D'!$T$14,\"\")","v":""}," "," "," ",{"$f":"IF(zadani!$G$19=\"ano\",'Fire Devc D'!$V$14,\"\")","v":""}," "]
[null,{"$f":"IF(zadani!$G$19=\"ano\",'Fire Devc D'!$T$13,\"\")","v":""}," "," "," ",{"$f":"IF(zadani!$G$19=\"ano\",'Fire Devc D'!$V$13,\"\")","v":""}," "]
[null,{"$f":"IF(zadani!$G$19=\"ano\",'Fire Devc D'!$T$12,\"\")","v":""}," "," "," ",{"$f":"IF(zadani!$G$19=\"ano\",'Fire Devc D'!$V$12,\"\")","v":""}," "]
[null,{"$f":"IF(zadani!$G$19=\"ano\",'Fire Devc D'!$T$11,\"\")","v":""}," "," "," ",{"$f":"IF(zadani!$G$19=\"ano\",'Fire Devc D'!$V$11,\"\")","v":""}," "]
[null,{"$f":"IF(zadani!$G$19=\"ano\",'Fire Devc D'!$T$10,\"\")","v":""}," "," "," ",{"$f":"IF(zadani!$G$19=\"ano\",'Fire Devc D'!$V$10,\"\")","v":""}," "]
[null,{"$f":"IF(zadani!$G$19=\"ano\",'Fire Devc D'!$T$9,\"\")","v":""}," "," "," ",{"$f":"IF(zadani!$G$19=\"ano\",'Fire Devc D'!$V$9,\"\")","v":""}," "]
[null,{"$f":"IF(zadani!$G$19=\"ano\",'Fire Devc D'!$S$26,\"\")","v":""}," "," "," ",{"$f":"IF(zadani!$G$19=\"ano\",'Fire Devc D'!$U$26,\"\")","v":""}," "]
[null,{"$f":"IF(zadani!$G$19=\"ano\",'Fire Devc D'!$S$25,\"\")","v":""}," "," "," ",{"$f":"IF(zadani!$G$19=\"ano\",'Fire Devc D'!$U$25,\"\")","v":""}," "]
[null,{"$f":"IF(zadani!$G$19=\"ano\",'Fire Devc D'!$S$24,\"\")","v":""}," "," "," ",{"$f":"IF(zadani!$G$19=\"ano\",'Fire Devc D'!$U$24,\"\")","v":""}," "]
[null,{"$f":"IF(zadani!$G$19=\"ano\",'Fire Devc D'!$S$23,\"\")","v":""}," "," "," ",{"$f":"IF(zadani!$G$19=\"ano\",'Fire Devc D'!$U$23,\"\")","v":""}," "]
[null,{"$f":"IF(zadani!$G$19=\"ano\",'Fire Devc D'!$S$22,\"\")","v":""}," "," "," ",{"$f":"IF(zadani!$G$19=\"ano\",'Fire Devc D'!$U$22,\"\")","v":""}," "]
[null,{"$f":"IF(zadani!$G$19=\"ano\",'Fire Devc D'!$S$21,\"\")","v":""}," "," "," ",{"$f":"IF(zadani!$G$19=\"ano\",'Fire Devc D'!$U$21,\"\")","v":""}," "]
[null,{"$f":"IF(zadani!$G$19=\"ano\",'Fire Devc D'!$S$20,\"\")","v":""}," "," "," ",{"$f":"IF(zadani!$G$19=\"ano\",'Fire Devc D'!$U$20,\"\")","v":""}," "]
[null,{"$f":"IF(zadani!$G$19=\"ano\",'Fire Devc D'!$S$19,\"\")","v":""}," "," "," ",{"$f":"IF(zadani!$G$19=\"ano\",'Fire Devc D'!$U$19,\"\")","v":""}," "]
[null,{"$f":"IF(zadani!$G$19=\"ano\",'Fire Devc D'!$S$18,\"\")","v":""}," "," "," ",{"$f":"IF(zadani!$G$19=\"ano\",'Fire Devc D'!$U$18,\"\")","v":""}," "]
[null,{"$f":"IF(zadani!$G$19=\"ano\",'Fire Devc D'!$S$17,\"\")","v":""}," "," "," ",{"$f":"IF(zadani!$G$19=\"ano\",'Fire Devc D'!$U$17,\"\")","v":""}," "]
[null,{"$f":"IF(zadani!$G$19=\"ano\",'Fire Devc D'!$S$16,\"\")","v":""}," "," "," ",{"$f":"IF(zadani!$G$19=\"ano\",'Fire Devc D'!$U$16,\"\")","v":""}," "]
[null,{"$f":"IF(zadani!$G$19=\"ano\",'Fire Devc D'!$S$15,\"\")","v":""}," "," "," ",{"$f":"IF(zadani!$G$19=\"ano\",'Fire Devc D'!$U$15,\"\")","v":""}," "]
[null,{"$f":"IF(zadani!$G$19=\"ano\",'Fire Devc D'!$S$14,\"\")","v":""}," "," "," ",{"$f":"IF(zadani!$G$19=\"ano\",'Fire Devc D'!$U$14,\"\")","v":""}," "]
[null,{"$f":"IF(zadani!$G$19=\"ano\",'Fire Devc D'!$S$13,\"\")","v":""}," "," "," ",{"$f":"IF(zadani!$G$19=\"ano\",'Fire Devc D'!$U$13,\"\")","v":""}," "]
[null,{"$f":"IF(zadani!$G$19=\"ano\",'Fire Devc D'!$S$12,\"\")","v":""}," "," "," ",{"$f":"IF(zadani!$G$19=\"ano\",'Fire Devc D'!$U$12,\"\")","v":""}," "]
[null,{"$f":"IF(zadani!$G$19=\"ano\",'Fire Devc D'!$S$11,\"\")","v":""}," "," "," ",{"$f":"IF(zadani!$G$19=\"ano\",'Fire Devc D'!$U$11,\"\")","v":""}," "]
[null,{"$f":"IF(zadani!$G$19=\"ano\",'Fire Devc D'!$S$10,\"\")","v":""}," "," "," ",{"$f":"IF(zadani!$G$19=\"ano\",'Fire Devc D'!$U$10,\"\")","v":""}," "]
[null,{"$f":"IF(zadani!$G$19=\"ano\",'Fire Devc D'!$S$9,\"\")","v":""}," "," "," ",{"$f":"IF(zadani!$G$19=\"ano\",'Fire Devc D'!$U$9,\"\")","v":""}," "]
[null,{"$f":"IF(zadani!$D$21=\"ano\",'Fire Devc C'!$T$9,\"\")","v":""}," "," "," ",{"$f":"IF(zadani!$D$21=\"ano\",'Fire Devc C'!$V$9,\"\")","v":""}," "]
[null,{"$f":"IF(zadani!$D$21=\"ano\",'Fire Devc C'!$S$11,\"\")","v":""}," "," "," ",{"$f":"IF(zadani!$D$21=\"ano\",'Fire Devc C'!$U$11,\"\")","v":""}," "]
[null,{"$f":"IF(zadani!$D$21=\"ano\",'Fire Devc C'!$S$10,\"\")","v":""}," "," "," ",{"$f":"IF(zadani!$D$21=\"ano\",'Fire Devc C'!$U$10,\"\")","v":""}," "]
[null,{"$f":"IF(zadani!$D$21=\"ano\",'Fire Devc C'!$S$9,\"\")","v":""}," "," "," ",{"$f":"IF(zadani!$D$21=\"ano\",'Fire Devc C'!$U$9,\"\")","v":""}," "]
[null,{"$f":"IF(zadani!$D$19=\"ano\",'Fire Devc A'!$T$31,\"\")","v":""}," "," "," ",{"$f":"IF(zadani!$D$19=\"ano\",'Fire Devc A'!$V$31,\"\")","v":""}," "]
[null,{"$f":"IF(zadani!$D$19=\"ano\",'Fire Devc A'!$T$30,\"\")","v":""}," "," "," ",{"$f":"IF(zadani!$D$19=\"ano\",'Fire Devc A'!$V$30,\"\")","v":""}," "]
[null,{"$f":"IF(zadani!$D$19=\"ano\",'Fire Devc A'!$T$29,\"\")","v":""}," "," "," ",{"$f":"IF(zadani!$D$19=\"ano\",'Fire Devc A'!$V$29,\"\")","v":""}," "]
[null,{"$f":"IF(zadani!$D$19=\"ano\",'Fire Devc A'!$T$28,\"\")","v":""}," "," "," ",{"$f":"IF(zadani!$D$19=\"ano\",'Fire Devc A'!$V$28,\"\")","v":""}," "]
[null,{"$f":"IF(zadani!$D$19=\"ano\",'Fire Devc A'!$T$27,\"\")","v":""}," "," "," ",{"$f":"IF(zadani!$D$19=\"ano\",'Fire Devc A'!$V$27,\"\")","v":""}," "]
[null,{"$f":"IF(zadani!$D$19=\"ano\",'Fire Devc A'!$T$26,\"\")","v":""}," "," "," ",{"$f":"IF(zadani!$D$19=\"ano\",'Fire Devc A'!$V$26,\"\")","v":""}," "]
[null,{"$f":"IF(zadani!$D$19=\"ano\",'Fire Devc A'!$T$25,\"\")","v":""}," "," "," ",{"$f":"IF(zadani!$D$19=\"ano\",'Fire Devc A'!$V$25,\"\")","v":""}," "]
[null,{"$f":"IF(zadani!$D$19=\"ano\",'Fire Devc A'!$T$24,\"\")","v":""}," "," "," ",{"$f":"IF(zadani!$D$19=\"ano\",'Fire Devc A'!$V$24,\"\")","v":""}," "]
[null,{"$f":"IF(zadani!$D$19=\"ano\",'Fire Devc A'!$T$23,\"\")","v":""}," "," "," ",{"$f":"IF(zadani!$D$19=\"ano\",'Fire Devc A'!$V$23,\"\")","v":""}," "]
[null,{"$f":"IF(zadani!$D$19=\"ano\",'Fire Devc A'!$T$22,\"\")","v":""}," "," "," ",{"$f":"IF(zadani!$D$19=\"ano\",'Fire Devc A'!$V$22,\"\")","v":""}," "]
[null,{"$f":"IF(zadani!$D$19=\"ano\",'Fire Devc A'!$T$21,\"\")","v":""}," "," "," ",{"$f":"IF(zadani!$D$19=\"ano\",'Fire Devc A'!$V$21,\"\")","v":""}," "]
[null,{"$f":"IF(zadani!$D$19=\"ano\",'Fire Devc A'!$T$20,\"\")","v":""}," "," "," ",{"$f":"IF(zadani!$D$19=\"ano\",'Fire Devc A'!$V$20,\"\")","v":""}," "]
[null,{"$f":"IF(zadani!$D$19=\"ano\",'Fire Devc A'!$T$19,\"\")","v":""}," "," "," ",{"$f":"IF(zadani!$D$19=\"ano\",'Fire Devc A'!$V$19,\"\")","v":""}," "]
[null,{"$f":"IF(zadani!$D$19=\"ano\",'Fire Devc A'!$T$18,\"\")","v":""}," "," "," ",{"$f":"IF(zadani!$D$19=\"ano\",'Fire Devc A'!$V$18,\"\")","v":""}," "]
[null,{"$f":"IF(zadani!$D$19=\"ano\",'Fire Devc A'!$T$17,\"\")","v":""}," "," "," ",{"$f":"IF(zadani!$D$19=\"ano\",'Fire Devc A'!$V$17,\"\")","v":""}," "]
[null,{"$f":"IF(zadani!$D$19=\"ano\",'Fire Devc A'!$T$16,\"\")","v":""}," "," "," ",{"$f":"IF(zadani!$D$19=\"ano\",'Fire Devc A'!$V$16,\"\")","v":""}," "]
[null,{"$f":"IF(zadani!$D$19=\"ano\",'Fire Devc A'!$T$15,\"\")","v":""}," "," "," ",{"$f":"IF(zadani!$D$19=\"ano\",'Fire Devc A'!$V$15,\"\")","v":""}," "]
[null,{"$f":"IF(zadani!$D$19=\"ano\",'Fire Devc A'!$T$14,\"\")","v":""}," "," "," ",{"$f":"IF(zadani!$D$19=\"ano\",'Fire Devc A'!$V$14,\"\")","v":""}," "]
[null,{"$f":"IF(zadani!$D$19=\"ano\",'Fire Devc A'!$T$13,\"\")","v":""}," "," "," ",{"$f":"IF(zadani!$D$19=\"ano\",'Fire Devc A'!$V$13,\"\")","v":""}," "]
[null,{"$f":"IF(zadani!$G$21=\"ano\",'Fire Devc F'!$S$56,\"\")","v":""}," "," "," ",{"$f":"IF(zadani!$G$21=\"ano\",'Fire Devc F'!$T$56,\"\")","v":""}," "]
[null,{"$f":"IF(zadani!$G$21=\"ano\",'Fire Devc F'!$S$55,\"\")","v":""}," "," "," ",{"$f":"IF(zadani!$G$21=\"ano\",'Fire Devc F'!$T$55,\"\")","v":""}," "]
[null,{"$f":"IF(zadani!$G$21=\"ano\",'Fire Devc F'!$S$54,\"\")","v":""}," "," "," ",{"$f":"IF(zadani!$G$21=\"ano\",'Fire Devc F'!$T$54,\"\")","v":""}," "]
[null,{"$f":"IF(zadani!$G$21=\"ano\",'Fire Devc F'!$S$53,\"\")","v":""}," "," "," ",{"$f":"IF(zadani!$G$21=\"ano\",'Fire Devc F'!$T$53,\"\")","v":""}," "]
[null,{"$f":"IF(zadani!$G$21=\"ano\",'Fire Devc F'!$S$52,\"\")","v":""}," "," "," ",{"$f":"IF(zadani!$G$21=\"ano\",'Fire Devc F'!$T$52,\"\")","v":""}," "]
[null,{"$f":"IF(zadani!$G$21=\"ano\",'Fire Devc F'!$S$51,\"\")","v":""}," "," "," ",{"$f":"IF(zadani!$G$21=\"ano\",'Fire Devc F'!$T$51,\"\")","v":""}," "]
[null,{"$f":"IF(zadani!$G$21=\"ano\",'Fire Devc F'!$S$50,\"\")","v":""}," "," "," ",{"$f":"IF(zadani!$G$21=\"ano\",'Fire Devc F'!$T$50,\"\")","v":""}," "]
[null,{"$f":"IF(zadani!$G$21=\"ano\",'Fire Devc F'!$S$49,\"\")","v":""}," "," "," ",{"$f":"IF(zadani!$G$21=\"ano\",'Fire Devc F'!$T$49,\"\")","v":""}," "]
[null,{"$f":"IF(zadani!$G$21=\"ano\",'Fire Devc F'!$S$48,\"\")","v":""}," "," "," ",{"$f":"IF(zadani!$G$21=\"ano\",'Fire Devc F'!$T$48,\"\")","v":""}," "]
[null,{"$f":"IF(zadani!$G$21=\"ano\",'Fire Devc F'!$S$47,\"\")","v":""}," "," "," ",{"$f":"IF(zadani!$G$21=\"ano\",'Fire Devc F'!$T$47,\"\")","v":""}," "]
[null,{"$f":"IF(zadani!$G$21=\"ano\",'Fire Devc F'!$S$46,\"\")","v":""}," "," "," ",{"$f":"IF(zadani!$G$21=\"ano\",'Fire Devc F'!$T$46,\"\")","v":""}," "]
[null,{"$f":"IF(zadani!$G$21=\"ano\",'Fire Devc F'!$S$45,\"\")","v":""}," "," "," ",{"$f":"IF(zadani!$G$21=\"ano\",'Fire Devc F'!$T$45,\"\")","v":""}," "]
[null,{"$f":"IF(zadani!$G$21=\"ano\",'Fire Devc F'!$S$44,\"\")","v":""}," "," "," ",{"$f":"IF(zadani!$G$21=\"ano\",'Fire Devc F'!$T$44,\"\")","v":""}," "]
[null,{"$f":"IF(zadani!$G$21=\"ano\",'Fire Devc F'!$S$43,\"\")","v":""}," "," "," ",{"$f":"IF(zadani!$G$21=\"ano\",'Fire Devc F'!$T$43,\"\")","v":""}," "]
[null,{"$f":"IF(zadani!$G$21=\"ano\",'Fire Devc F'!$S$42,\"\")","v":""}," "," "," ",{"$f":"IF(zadani!$G$21=\"ano\",'Fire Devc F'!$T$42,\"\")","v":""}," "]
[null,{"$f":"IF(zadani!$G$21=\"ano\",'Fire Devc F'!$S$41,\"\")","v":""}," "," "," ",{"$f":"IF(zadani!$G$21=\"ano\",'Fire Devc F'!$T$41,\"\")","v":""}," "]
[null,{"$f":"IF(zadani!$G$21=\"ano\",'Fire Devc F'!$S$40,\"\")","v":""}," "," "," ",{"$f":"IF(zadani!$G$21=\"ano\",'Fire Devc F'!$T$40,\"\")","v":""}," "]
[null,{"$f":"IF(zadani!$G$21=\"ano\",'Fire Devc F'!$S$39,\"\")","v":""}," "," "," ",{"$f":"IF(zadani!$G$21=\"ano\",'Fire Devc F'!$T$39,\"\")","v":""}," "]
[null,{"$f":"IF(zadani!$G$21=\"ano\",'Fire Devc F'!$S$38,\"\")","v":""}," "," "," ",{"$f":"IF(zadani!$G$21=\"ano\",'Fire Devc F'!$T$38,\"\")","v":""}," "]
[null,{"$f":"IF(zadani!$G$21=\"ano\",'Fire Devc F'!$S$37,\"\")","v":""}," "," "," ",{"$f":"IF(zadani!$G$21=\"ano\",'Fire Devc F'!$T$37,\"\")","v":""}," "]
[null,{"$f":"IF(zadani!$G$21=\"ano\",'Fire Devc F'!$S$36,\"\")","v":""}," "," "," ",{"$f":"IF(zadani!$G$21=\"ano\",'Fire Devc F'!$T$36,\"\")","v":""}," "]
[null,{"$f":"IF(zadani!$G$21=\"ano\",'Fire Devc F'!$S$35,\"\")","v":""}," "," "," ",{"$f":"IF(zadani!$G$21=\"ano\",'Fire Devc F'!$T$35,\"\")","v":""}," "]
[null,{"$f":"IF(zadani!$G$21=\"ano\",'Fire Devc F'!$S$34,\"\")","v":""}," "," "," ",{"$f":"IF(zadani!$G$21=\"ano\",'Fire Devc F'!$T$34,\"\")","v":""}," "]
[null,{"$f":"IF(zadani!$G$21=\"ano\",'Fire Devc F'!$S$33,\"\")","v":""}," "," "," ",{"$f":"IF(zadani!$G$21=\"ano\",'Fire Devc F'!$T$33,\"\")","v":""}," "]
[null,{"$f":"IF(zadani!$G$21=\"ano\",'Fire Devc F'!$S$32,\"\")","v":""}," "," "," ",{"$f":"IF(zadani!$G$21=\"ano\",'Fire Devc F'!$T$32,\"\")","v":""}," "]
[null,{"$f":"IF(zadani!$G$21=\"ano\",'Fire Devc F'!$S$31,\"\")","v":""}," "," "," ",{"$f":"IF(zadani!$G$21=\"ano\",'Fire Devc F'!$T$31,\"\")","v":""}," "]
[null,{"$f":"IF(zadani!$G$21=\"ano\",'Fire Devc F'!$S$30,\"\")","v":""}," "," "," ",{"$f":"IF(zadani!$G$21=\"ano\",'Fire Devc F'!$T$30,\"\")","v":""}," "]
[null,{"$f":"IF(zadani!$G$21=\"ano\",'Fire Devc F'!$S$29,\"\")","v":""}," "," "," ",{"$f":"IF(zadani!$G$21=\"ano\",'Fire Devc F'!$T$29,\"\")","v":""}," "]
[null,{"$f":"IF(zadani!$G$21=\"ano\",'Fire Devc F'!$S$28,\"\")","v":""}," "," "," ",{"$f":"IF(zadani!$G$21=\"ano\",'Fire Devc F'!$T$28,\"\")","v":""}," "]
[null,{"$f":"IF(zadani!$G$21=\"ano\",'Fire Devc F'!$S$27,\"\")","v":""}," "," "," ",{"$f":"IF(zadani!$G$21=\"ano\",'Fire Devc F'!$T$27,\"\")","v":""}," "]
[null,{"$f":"IF(zadani!$D$19=\"ano\",'Fire Devc A'!$S$31,\"\")","v":""}," "," "," ",{"$f":"IF(zadani!$D$19=\"ano\",'Fire Devc A'!$U$31,\"\")","v":""}," "]
[null,{"$f":"IF(zadani!$D$19=\"ano\",'Fire Devc A'!$S$30,\"\")","v":""}," "," "," ",{"$f":"IF(zadani!$D$19=\"ano\",'Fire Devc A'!$U$30,\"\")","v":""}," "]
[null,{"$f":"IF(zadani!$D$19=\"ano\",'Fire Devc A'!$S$29,\"\")","v":""}," "," "," ",{"$f":"IF(zadani!$D$19=\"ano\",'Fire Devc A'!$U$29,\"\")","v":""}," "]
[null,{"$f":"IF(zadani!$D$19=\"ano\",'Fire Devc A'!$S$28,\"\")","v":""}," "," "," ",{"$f":"IF(zadani!$D$19=\"ano\",'Fire Devc A'!$U$28,\"\")","v":""}," "]
[null,{"$f":"IF(zadani!$D$19=\"ano\",'Fire Devc A'!$S$27,\"\")","v":""}," "," "," ",{"$f":"IF(zadani!$D$19=\"ano\",'Fire Devc A'!$U$27,\"\")","v":""}," "]
[null,{"$f":"IF(zadani!$D$19=\"ano\",'Fire Devc A'!$S$26,\"\")","v":""}," "," "," ",{"$f":"IF(zadani!$D$19=\"ano\",'Fire Devc A'!$U$26,\"\")","v":""}," "]
[null,{"$f":"IF(zadani!$D$19=\"ano\",'Fire Devc A'!$S$25,\"\")","v":""}," "," "," ",{"$f":"IF(zadani!$D$19=\"ano\",'Fire Devc A'!$U$25,\"\")","v":""}," "]
[null,{"$f":"IF(zadani!$D$19=\"ano\",'Fire Devc A'!$S$24,\"\")","v":""}," "," "," ",{"$f":"IF(zadani!$D$19=\"ano\",'Fire Devc A'!$U$24,\"\")","v":""}," "]
[null,{"$f":"IF(zadani!$D$19=\"ano\",'Fire Devc A'!$S$23,\"\")","v":""}," "," "," ",{"$f":"IF(zadani!$D$19=\"ano\",'Fire Devc A'!$U$23,\"\")","v":""}," "]
[null,{"$f":"IF(zadani!$D$19=\"ano\",'Fire Devc A'!$S$22,\"\")","v":""}," "," "," ",{"$f":"IF(zadani!$D$19=\"ano\",'Fire Devc A'!$U$22,\"\")","v":""}," "]
[null,{"$f":"IF(zadani!$D$19=\"ano\",'Fire Devc A'!$S$21,\"\")","v":""}," "," "," ",{"$f":"IF(zadani!$D$19=\"ano\",'Fire Devc A'!$U$21,\"\")","v":""}," "]
[null,{"$f":"IF(zadani!$D$19=\"ano\",'Fire Devc A'!$S$20,\"\")","v":""}," "," "," ",{"$f":"IF(zadani!$D$19=\"ano\",'Fire Devc A'!$U$20,\"\")","v":""}," "]
[null,{"$f":"IF(zadani!$D$19=\"ano\",'Fire Devc A'!$S$19,\"\")","v":""}," "," "," ",{"$f":"IF(zadani!$D$19=\"ano\",'Fire Devc A'!$U$19,\"\")","v":""}," "]
[null,{"$f":"IF(zadani!$D$19=\"ano\",'Fire Devc A'!$S$18,\"\")","v":""}," "," "," ",{"$f":"IF(zadani!$D$19=\"ano\",'Fire Devc A'!$U$18,\"\")","v":""}," "]
[null,{"$f":"IF(zadani!$D$19=\"ano\",'Fire Devc A'!$S$17,\"\")","v":""}," "," "," ",{"$f":"IF(zadani!$D$19=\"ano\",'Fire Devc A'!$U$17,\"\")","v":""}," "]
[null,{"$f":"IF(zadani!$G$20=\"ano\",'Fire Devc E'!$S$26,\"\")","v":""}," "," "," ",{"$f":"IF(zadani!$G$20=\"ano\",'Fire Devc E'!$T$26,\"\")","v":""}," "]
[null,{"$f":"IF(zadani!$G$20=\"ano\",'Fire Devc E'!$S$25,\"\")","v":""}," "," "," ",{"$f":"IF(zadani!$G$20=\"ano\",'Fire Devc E'!$T$25,\"\")","v":""}," "]
[null,{"$f":"IF(zadani!$G$20=\"ano\",'Fire Devc E'!$S$24,\"\")","v":""}," "," "," ",{"$f":"IF(zadani!$G$20=\"ano\",'Fire Devc E'!$T$24,\"\")","v":""}," "]
[null,{"$f":"IF(zadani!$G$20=\"ano\",'Fire Devc E'!$S$23,\"\")","v":""}," "," "," ",{"$f":"IF(zadani!$G$20=\"ano\",'Fire Devc E'!$T$23,\"\")","v":""}," "]
[null,{"$f":"IF(zadani!$G$20=\"ano\",'Fire Devc E'!$S$22,\"\")","v":""}," "," "," ",{"$f":"IF(zadani!$G$20=\"ano\",'Fire Devc E'!$T$22,\"\")","v":""}," "]
[null,{"$f":"IF(zadani!$G$20=\"ano\",'Fire Devc E'!$S$21,\"\")","v":""}," "," "," ",{"$f":"IF(zadani!$G$20=\"ano\",'Fire Devc E'!$T$21,\"\")","v":""}," "]
[null,{"$f":"IF(zadani!$G$20=\"ano\",'Fire Devc E'!$S$20,\"\")","v":""}," "," "," ",{"$f":"IF(zadani!$G$20=\"ano\",'Fire Devc E'!$T$20,\"\")","v":""}," "]
[null,{"$f":"IF(zadani!$G$20=\"ano\",'Fire Devc E'!$S$19,\"\")","v":""}," "," "," ",{"$f":"IF(zadani!$G$20=\"ano\",'Fire Devc E'!$T$19,\"\")","v":""}," "]
[null,{"$f":"IF(zadani!$G$20=\"ano\",'Fire Devc E'!$S$18,\"\")","v":""}," "," "," ",{"$f":"IF(zadani!$G$20=\"ano\",'Fire Devc E'!$T$18,\"\")","v":""}," "]
[null,{"$f":"IF(zadani!$G$20=\"ano\",'Fire Devc E'!$S$17,\"\")","v":""}," "," "," ",{"$f":"IF(zadani!$G$20=\"ano\",'Fire Devc E'!$T$17,\"\")","v":""}," "]
[null,{"$f":"IF(zadani!$G$20=\"ano\",'Fire Devc E'!$S$16,\"\")","v":""}," "," "," ",{"$f":"IF(zadani!$G$20=\"ano\",'Fire Devc E'!$T$16,\"\")","v":""}," "]
[null,{"$f":"IF(zadani!$G$20=\"ano\",'Fire Devc E'!$S$15,\"\")","v":""}," "," "," ",{"$f":"IF(zadani!$G$20=\"ano\",'Fire Devc E'!$T$15,\"\")","v":""}," "]
[null,{"$f":"IF(zadani!$D$20=\"ano\",'Fire Devc B'!$T$9,\"\")","v":""}," "," "," ",{"$f":"IF(zadani!$D$20=\"ano\",'Fire Devc B'!$V$9,\"\")","v":""}," "]
[null,{"$f":"IF(zadani!$D$19=\"ano\",'Fire Devc A'!$T$9,\"\")","v":""}," "," "," ",{"$f":"IF(zadani!$D$19=\"ano\",'Fire Devc A'!$V$9,\"\")","v":""}," "]
[null,{"$f":"IF(zadani!$G$21=\"ano\",'Fire Devc F'!$S$26,\"\")","v":""}," "," "," ",{"$f":"IF(zadani!$G$21=\"ano\",'Fire Devc F'!$T$26,\"\")","v":""}," "]
[null,{"$f":"IF(zadani!$G$21=\"ano\",'Fire Devc F'!$S$25,\"\")","v":""}," "," "," ",{"$f":"IF(zadani!$G$21=\"ano\",'Fire Devc F'!$T$25,\"\")","v":""}," "]
[null,{"$f":"IF(zadani!$G$21=\"ano\",'Fire Devc F'!$S$24,\"\")","v":""}," "," "," ",{"$f":"IF(zadani!$G$21=\"ano\",'Fire Devc F'!$T$24,\"\")","v":""}," "]
[null,{"$f":"IF(zadani!$G$21=\"ano\",'Fire Devc F'!$S$23,\"\")","v":""}," "," "," ",{"$f":"IF(zadani!$G$21=\"ano\",'Fire Devc F'!$T$23,\"\")","v":""}," "]
[null,{"$f":"IF(zadani!$G$21=\"ano\",'Fire Devc F'!$S$22,\"\")","v":""}," "," "," ",{"$f":"IF(zadani!$G$21=\"ano\",'Fire Devc F'!$T$22,\"\")","v":""}," "]
[null,{"$f":"IF(zadani!$G$21=\"ano\",'Fire Devc F'!$S$21,\"\")","v":""}," "," "," ",{"$f":"IF(zadani!$G$21=\"ano\",'Fire Devc F'!$T$21,\"\")","v":""}," "]
[null,{"$f":"IF(zadani!$G$21=\"ano\",'Fire Devc F'!$S$20,\"\")","v":""}," "," "," ",{"$f":"IF(zadani!$G$21=\"ano\",'Fire Devc F'!$T$20,\"\")","v":""}," "]
[null,{"$f":"IF(zadani!$G$21=\"ano\",'Fire Devc F'!$S$19,\"\")","v":""}," "," "," ",{"$f":"IF(zadani!$G$21=\"ano\",'Fire Devc F'!$T$19,\"\")","v":""}," "]
[null,{"$f":"IF(zadani!$G$21=\"ano\",'Fire Devc F'!$S$18,\"\")","v":""}," "," "," ",{"$f":"IF(zadani!$G$21=\"ano\",'Fire Devc F'!$T$18,\"\")","v":""}," "]
[null,{"$f":"IF(zadani!$G$21=\"ano\",'Fire Devc F'!$S$17,\"\")","v":""}," "," "," ",{"$f":"IF(zadani!$G$21=\"ano\",'Fire Devc F'!$T$17,\"\")","v":""}," "]
[null,{"$f":"IF(zadani!$G$21=\"ano\",'Fire Devc F'!$S$16,\"\")","v":""}," "," "," ",{"$f":"IF(zadani!$G$21=\"ano\",'Fire Devc F'!$T$16,\"\")","v":""}," "]
[null,{"$f":"IF(zadani!$G$21=\"ano\",'Fire Devc F'!$S$15,\"\")","v":""}," "," "," ",{"$f":"IF(zadani!$G$21=\"ano\",'Fire Devc F'!$T$15,\"\")","v":""}," "]
[null,{"$f":"IF(zadani!$D$19=\"ano\",'Fire Devc A'!$S$16,\"\")","v":""}," "," "," ",{"$f":"IF(zadani!$D$19=\"ano\",'Fire Devc A'!$U$16,\"\")","v":""}," "]
[null,{"$f":"IF(zadani!$D$19=\"ano\",'Fire Devc A'!$S$12,\"\")","v":""}," "," "," ",{"$f":"IF(zadani!$D$19=\"ano\",'Fire Devc A'!$U$12,\"\")","v":""}," "]
[null,{"$f":"IF(zadani!$D$19=\"ano\",'Fire Devc A'!$S$11,\"\")","v":""}," "," "," ",{"$f":"IF(zadani!$D$19=\"ano\",'Fire Devc A'!$U$11,\"\")","v":""}," "]
[null,{"$f":"IF(zadani!$D$19=\"ano\",'Fire Devc A'!$S$10,\"\")","v":""}," "," "," ",{"$f":"IF(zadani!$D$19=\"ano\",'Fire Devc A'!$U$10,\"\")","v":""}," "]
[null,{"$f":"IF(zadani!$D$19=\"ano\",'Fire Devc A'!$S$9,\"\")","v":""}," "," "," ",{"$f":"IF(zadani!$D$19=\"ano\",'Fire Devc A'!$U$9,\"\")","v":""}," "]
[null,{"$f":"IF(zadani!$D$21=\"ano\",'Fire Devc C'!$T$30,\"\")","v":""}," "," "," ",{"$f":"IF(zadani!$D$21=\"ano\",'Fire Devc C'!$V$30,\"\")","v":""}," "]
[null,{"$f":"IF(zadani!$D$21=\"ano\",'Fire Devc C'!$T$29,\"\")","v":""}," "," "," ",{"$f":"IF(zadani!$D$21=\"ano\",'Fire Devc C'!$V$29,\"\")","v":""}," "]
[null,{"$f":"IF(zadani!$D$21=\"ano\",'Fire Devc C'!$T$28,\"\")","v":""}," "," "," ",{"$f":"IF(zadani!$D$21=\"ano\",'Fire Devc C'!$V$28,\"\")","v":""}," "]
[null,{"$f":"IF(zadani!$D$21=\"ano\",'Fire Devc C'!$T$27,\"\")","v":""}," "," "," ",{"$f":"IF(zadani!$D$21=\"ano\",'Fire Devc C'!$V$27,\"\")","v":""}," "]
[null,{"$f":"IF(zadani!$D$21=\"ano\",'Fire Devc C'!$S$30,\"\")","v":""}," "," "," ",{"$f":"IF(zadani!$D$21=\"ano\",'Fire Devc C'!$U$30,\"\")","v":""}," "]
[null,{"$f":"IF(zadani!$D$21=\"ano\",'Fire Devc C'!$S$29,\"\")","v":""}," "," "," ",{"$f":"IF(zadani!$D$21=\"ano\",'Fire Devc C'!$U$29,\"\")","v":""}," "]
[null,{"$f":"IF(zadani!$D$21=\"ano\",'Fire Devc C'!$S$28,\"\")","v":""}," "," "," ",{"$f":"IF(zadani!$D$21=\"ano\",'Fire Devc C'!$U$28,\"\")","v":""}," "]
[null,{"$f":"IF(zadani!$D$21=\"ano\",'Fire Devc C'!$S$27,\"\")","v":""}," "," "," ",{"$f":"IF(zadani!$D$21=\"ano\",'Fire Devc C'!$U$27,\"\")","v":""}," "]
[null,{"$f":"IF(zadani!$D$21=\"ano\",'Fire Devc C'!$T$50,\"\")","v":""}," "," "," ",{"$f":"IF(zadani!$D$21=\"ano\",'Fire Devc C'!$V$50,\"\")","v":""}," "]
[null,{"$f":"IF(zadani!$D$21=\"ano\",'Fire Devc C'!$T$49,\"\")","v":""}," "," "," ",{"$f":"IF(zadani!$D$21=\"ano\",'Fire Devc C'!$V$49,\"\")","v":""}," "]
[null,{"$f":"IF(zadani!$D$21=\"ano\",'Fire Devc C'!$T$48,\"\")","v":""}," "," "," ",{"$f":"IF(zadani!$D$21=\"ano\",'Fire Devc C'!$V$48,\"\")","v":""}," "]
[null,{"$f":"IF(zadani!$D$21=\"ano\",'Fire Devc C'!$T$47,\"\")","v":""}," "," "," ",{"$f":"IF(zadani!$D$21=\"ano\",'Fire Devc C'!$V$47,\"\")","v":""}," "]
[null,{"$f":"IF(zadani!$D$21=\"ano\",'Fire Devc C'!$S$50,\"\")","v":""}," "," "," ",{"$f":"IF(zadani!$D$21=\"ano\",'Fire Devc C'!$U$50,\"\")","v":""}," "]
[null,{"$f":"IF(zadani!$D$21=\"ano\",'Fire Devc C'!$S$49,\"\")","v":""}," "," "," ",{"$f":"IF(zadani!$D$21=\"ano\",'Fire Devc C'!$U$49,\"\")","v":""}," "]
[null,{"$f":"IF(zadani!$D$21=\"ano\",'Fire Devc C'!$S$48,\"\")","v":""}," "," "," ",{"$f":"IF(zadani!$D$21=\"ano\",'Fire Devc C'!$U$48,\"\")","v":""}," "]
[null,{"$f":"IF(zadani!$D$21=\"ano\",'Fire Devc C'!$S$47,\"\")","v":""}," "," "," ",{"$f":"IF(zadani!$D$21=\"ano\",'Fire Devc C'!$U$47,\"\")","v":""}," "]
[null,{"$f":"IF(zadani!$D$19=\"ano\",'Fire Devc A'!$T$81,\"\")","v":""}," "," "," ",{"$f":"IF(zadani!$D$19=\"ano\",'Fire Devc A'!$V$81,\"\")","v":""}," "]
[null,{"$f":"IF(zadani!$D$19=\"ano\",'Fire Devc A'!$T$80,\"\")","v":""}," "," "," ",{"$f":"IF(zadani!$D$19=\"ano\",'Fire Devc A'!$V$80,\"\")","v":""}," "]
[null,{"$f":"IF(zadani!$D$19=\"ano\",'Fire Devc A'!$T$79,\"\")","v":""}," "," "," ",{"$f":"IF(zadani!$D$19=\"ano\",'Fire Devc A'!$V$79,\"\")","v":""}," "]
[null,{"$f":"IF(zadani!$D$19=\"ano\",'Fire Devc A'!$T$78,\"\")","v":""}," "," "," ",{"$f":"IF(zadani!$D$19=\"ano\",'Fire Devc A'!$V$78,\"\")","v":""}," "]
[null,{"$f":"IF(zadani!$D$19=\"ano\",'Fire Devc A'!$T$77,\"\")","v":""}," "," "," ",{"$f":"IF(zadani!$D$19=\"ano\",'Fire Devc A'!$V$77,\"\")","v":""}," "]
[null,{"$f":"IF(zadani!$D$19=\"ano\",'Fire Devc A'!$T$76,\"\")","v":""}," "," "," ",{"$f":"IF(zadani!$D$19=\"ano\",'Fire Devc A'!$V$76,\"\")","v":""}," "]
[null,{"$f":"IF(zadani!$D$19=\"ano\",'Fire Devc A'!$T$75,\"\")","v":""}," "," "," ",{"$f":"IF(zadani!$D$19=\"ano\",'Fire Devc A'!$V$75,\"\")","v":""}," "]
[null,{"$f":"IF(zadani!$D$19=\"ano\",'Fire Devc A'!$T$74,\"\")","v":""}," "," "," ",{"$f":"IF(zadani!$D$19=\"ano\",'Fire Devc A'!$V$74,\"\")","v":""}," "]
[null,{"$f":"IF(zadani!$D$19=\"ano\",'Fire Devc A'!$T$73,\"\")","v":""}," "," "," ",{"$f":"IF(zadani!$D$19=\"ano\",'Fire Devc A'!$V$73,\"\")","v":""}," "]
[null,{"$f":"IF(zadani!$D$19=\"ano\",'Fire Devc A'!$T$72,\"\")","v":""}," "," "," ",{"$f":"IF(zadani!$D$19=\"ano\",'Fire Devc A'!$V$72,\"\")","v":""}," "]
[null,{"$f":"IF(zadani!$D$19=\"ano\",'Fire Devc A'!$T$71,\"\")","v":""}," "," "," ",{"$f":"IF(zadani!$D$19=\"ano\",'Fire Devc A'!$V$71,\"\")","v":""}," "]
[null,{"$f":"IF(zadani!$D$19=\"ano\",'Fire Devc A'!$T$70,\"\")","v":""}," "," "," ",{"$f":"IF(zadani!$D$19=\"ano\",'Fire Devc A'!$V$70,\"\")","v":""}," "]
[null,{"$f":"IF(zadani!$D$19=\"ano\",'Fire Devc A'!$T$69,\"\")","v":""}," "," "," ",{"$f":"IF(zadani!$D$19=\"ano\",'Fire Devc A'!$V$69,\"\")","v":""}," "]
[null,{"$f":"IF(zadani!$D$19=\"ano\",'Fire Devc A'!$T$68,\"\")","v":""}," "," "," ",{"$f":"IF(zadani!$D$19=\"ano\",'Fire Devc A'!$V$68,\"\")","v":""}," "]
[null,{"$f":"IF(zadani!$D$19=\"ano\",'Fire Devc A'!$T$67,\"\")","v":""}," "," "," ",{"$f":"IF(zadani!$D$19=\"ano\",'Fire Devc A'!$V$67,\"\")","v":""}," "]
[null,{"$f":"IF(zadani!$D$19=\"ano\",'Fire Devc A'!$T$66,\"\")","v":""}," "," "," ",{"$f":"IF(zadani!$D$19=\"ano\",'Fire Devc A'!$V$66,\"\")","v":""}," "]
[null,{"$f":"IF(zadani!$D$19=\"ano\",'Fire Devc A'!$T$65,\"\")","v":""}," "," "," ",{"$f":"IF(zadani!$D$19=\"ano\",'Fire Devc A'!$V$65,\"\")","v":""}," "]
[null,{"$f":"IF(zadani!$D$19=\"ano\",'Fire Devc A'!$T$64,\"\")","v":""}," "," "," ",{"$f":"IF(zadani!$D$19=\"ano\",'Fire Devc A'!$V$64,\"\")","v":""}," "]
[null,{"$f":"IF(zadani!$D$19=\"ano\",'Fire Devc A'!$T$63,\"\")","v":""}," "," "," ",{"$f":"IF(zadani!$D$19=\"ano\",'Fire Devc A'!$V$63,\"\")","v":""}," "]
[null,{"$f":"IF(zadani!$D$19=\"ano\",'Fire Devc A'!$T$62,\"\")","v":""}," "," "," ",{"$f":"IF(zadani!$D$19=\"ano\",'Fire Devc A'!$V$62,\"\")","v":""}," "]
[null,{"$f":"IF(zadani!$D$19=\"ano\",'Fire Devc A'!$T$61,\"\")","v":""}," "," "," ",{"$f":"IF(zadani!$D$19=\"ano\",'Fire Devc A'!$V$61,\"\")","v":""}," "]
[null,{"$f":"IF(zadani!$D$19=\"ano\",'Fire Devc A'!$T$60,\"\")","v":""}," "," "," ",{"$f":"IF(zadani!$D$19=\"ano\",'Fire Devc A'!$V$60,\"\")","v":""}," "]
[null,{"$f":"IF(zadani!$D$19=\"ano\",'Fire Devc A'!$T$59,\"\")","v":""}," "," "," ",{"$f":"IF(zadani!$D$19=\"ano\",'Fire Devc A'!$V$59,\"\")","v":""}," "]
[null,{"$f":"IF(zadani!$D$19=\"ano\",'Fire Devc A'!$T$58,\"\")","v":""}," "," "," ",{"$f":"IF(zadani!$D$19=\"ano\",'Fire Devc A'!$V$58,\"\")","v":""}," "]
[null,{"$f":"IF(zadani!$D$19=\"ano\",'Fire Devc A'!$T$57,\"\")","v":""}," "," "," ",{"$f":"IF(zadani!$D$19=\"ano\",'Fire Devc A'!$V$57,\"\")","v":""}," "]
[null,{"$f":"IF(zadani!$D$19=\"ano\",'Fire Devc A'!$T$56,\"\")","v":""}," "," "," ",{"$f":"IF(zadani!$D$19=\"ano\",'Fire Devc A'!$V$56,\"\")","v":""}," "]
[null,{"$f":"IF(zadani!$D$19=\"ano\",'Fire Devc A'!$T$55,\"\")","v":""}," "," "," ",{"$f":"IF(zadani!$D$19=\"ano\",'Fire Devc A'!$V$55,\"\")","v":""}," "]
[null,{"$f":"IF(zadani!$D$19=\"ano\",'Fire Devc A'!$T$54,\"\")","v":""}," "," "," ",{"$f":"IF(zadani!$D$19=\"ano\",'Fire Devc A'!$V$54,\"\")","v":""}," "]
[null,{"$f":"IF(zadani!$D$19=\"ano\",'Fire Devc A'!$T$53,\"\")","v":""}," "," "," ",{"$f":"IF(zadani!$D$19=\"ano\",'Fire Devc A'!$V$53,\"\")","v":""}," "]
[null,{"$f":"IF(zadani!$D$19=\"ano\",'Fire Devc A'!$T$52,\"\")","v":""}," "," "," ",{"$f":"IF(zadani!$D$19=\"ano\",'Fire Devc A'!$V$52,\"\")","v":""}," "]
[null,{"$f":"IF(zadani!$D$19=\"ano\",'Fire Devc A'!$T$51,\"\")","v":""}," "," "," ",{"$f":"IF(zadani!$D$19=\"ano\",'Fire Devc A'!$V$51,\"\")","v":""}," "]
[null,{"$f":"IF(zadani!$D$19=\"ano\",'Fire Devc A'!$T$50,\"\")","v":""}," "," "," ",{"$f":"IF(zadani!$D$19=\"ano\",'Fire Devc A'!$V$50,\"\")","v":""}," "]
[null,{"$f":"IF(zadani!$D$19=\"ano\",'Fire Devc A'!$T$49,\"\")","v":""}," "," "," ",{"$f":"IF(zadani!$D$19=\"ano\",'Fire Devc A'!$V$49,\"\")","v":""}," "]
[null,{"$f":"IF(zadani!$D$19=\"ano\",'Fire Devc A'!$T$48,\"\")","v":""}," "," "," ",{"$f":"IF(zadani!$D$19=\"ano\",'Fire Devc A'!$V$48,\"\")","v":""}," "]
[null,{"$f":"IF(zadani!$D$19=\"ano\",'Fire Devc A'!$T$47,\"\")","v":""}," "," "," ",{"$f":"IF(zadani!$D$19=\"ano\",'Fire Devc A'!$V$47,\"\")","v":""}," "]
[null,{"$f":"IF(zadani!$D$19=\"ano\",'Fire Devc A'!$T$46,\"\")","v":""}," "," "," ",{"$f":"IF(zadani!$D$19=\"ano\",'Fire Devc A'!$V$46,\"\")","v":""}," "]
[null,{"$f":"IF(zadani!$D$19=\"ano\",'Fire Devc A'!$T$45,\"\")","v":""}," "," "," ",{"$f":"IF(zadani!$D$19=\"ano\",'Fire Devc A'!$V$45,\"\")","v":""}," "]
[null,{"$f":"IF(zadani!$D$19=\"ano\",'Fire Devc A'!$T$44,\"\")","v":""}," "," "," ",{"$f":"IF(zadani!$D$19=\"ano\",'Fire Devc A'!$V$44,\"\")","v":""}," "]
[null,{"$f":"IF(zadani!$D$19=\"ano\",'Fire Devc A'!$T$43,\"\")","v":""}," "," "," ",{"$f":"IF(zadani!$D$19=\"ano\",'Fire Devc A'!$V$43,\"\")","v":""}," "]
[null,{"$f":"IF(zadani!$D$19=\"ano\",'Fire Devc A'!$T$42,\"\")","v":""}," "," "," ",{"$f":"IF(zadani!$D$19=\"ano\",'Fire Devc A'!$V$42,\"\")","v":""}," "]
[null,{"$f":"IF(zadani!$D$19=\"ano\",'Fire Devc A'!$T$41,\"\")","v":""}," "," "," ",{"$f":"IF(zadani!$D$19=\"ano\",'Fire Devc A'!$V$41,\"\")","v":""}," "]
[null,{"$f":"IF(zadani!$D$19=\"ano\",'Fire Devc A'!$T$40,\"\")","v":""}," "," "," ",{"$f":"IF(zadani!$D$19=\"ano\",'Fire Devc A'!$V$40,\"\")","v":""}," "]
[null,{"$f":"IF(zadani!$D$19=\"ano\",'Fire Devc A'!$T$39,\"\")","v":""}," "," "," ",{"$f":"IF(zadani!$D$19=\"ano\",'Fire Devc A'!$V$39,\"\")","v":""}," "]
[null,{"$f":"IF(zadani!$D$19=\"ano\",'Fire Devc A'!$T$38,\"\")","v":""}," "," "," ",{"$f":"IF(zadani!$D$19=\"ano\",'Fire Devc A'!$V$38,\"\")","v":""}," "]
[null,{"$f":"IF(zadani!$D$19=\"ano\",'Fire Devc A'!$T$37,\"\")","v":""}," "," "," ",{"$f":"IF(zadani!$D$19=\"ano\",'Fire Devc A'!$V$37,\"\")","v":""}," "]
[null,{"$f":"IF(zadani!$D$19=\"ano\",'Fire Devc A'!$T$36,\"\")","v":""}," "," "," ",{"$f":"IF(zadani!$D$19=\"ano\",'Fire Devc A'!$V$36,\"\")","v":""}," "]
[null,{"$f":"IF(zadani!$D$19=\"ano\",'Fire Devc A'!$T$35,\"\")","v":""}," "," "," ",{"$f":"IF(zadani!$D$19=\"ano\",'Fire Devc A'!$V$35,\"\")","v":""}," "]
[null,{"$f":"IF(zadani!$D$19=\"ano\",'Fire Devc A'!$T$34,\"\")","v":""}," "," "," ",{"$f":"IF(zadani!$D$19=\"ano\",'Fire Devc A'!$V$34,\"\")","v":""}," "]
[null,{"$f":"IF(zadani!$D$19=\"ano\",'Fire Devc A'!$T$33,\"\")","v":""}," "," "," ",{"$f":"IF(zadani!$D$19=\"ano\",'Fire Devc A'!$V$33,\"\")","v":""}," "]
[null,{"$f":"IF(zadani!$D$19=\"ano\",'Fire Devc A'!$T$32,\"\")","v":""}," "," "," ",{"$f":"IF(zadani!$D$19=\"ano\",'Fire Devc A'!$V$32,\"\")","v":""}," "]
[null,{"$f":"IF(zadani!$D$19=\"ano\",'Fire Devc A'!$S$81,\"\")","v":""}," "," "," ",{"$f":"IF(zadani!$D$19=\"ano\",'Fire Devc A'!$U$81,\"\")","v":""}," "]
[null,{"$f":"IF(zadani!$D$19=\"ano\",'Fire Devc A'!$S$80,\"\")","v":""}," "," "," ",{"$f":"IF(zadani!$D$19=\"ano\",'Fire Devc A'!$U$80,\"\")","v":""}," "]
[null,{"$f":"IF(zadani!$D$19=\"ano\",'Fire Devc A'!$S$79,\"\")","v":""}," "," "," ",{"$f":"IF(zadani!$D$19=\"ano\",'Fire Devc A'!$U$79,\"\")","v":""}," "]
[null,{"$f":"IF(zadani!$D$19=\"ano\",'Fire Devc A'!$S$78,\"\")","v":""}," "," "," ",{"$f":"IF(zadani!$D$19=\"ano\",'Fire Devc A'!$U$78,\"\")","v":""}," "]
[null,{"$f":"IF(zadani!$D$19=\"ano\",'Fire Devc A'!$S$77,\"\")","v":""}," "," "," ",{"$f":"IF(zadani!$D$19=\"ano\",'Fire Devc A'!$U$77,\"\")","v":""}," "]
[null,{"$f":"IF(zadani!$D$19=\"ano\",'Fire Devc A'!$S$76,\"\")","v":""}," "," "," ",{"$f":"IF(zadani!$D$19=\"ano\",'Fire Devc A'!$U$76,\"\")","v":""}," "]
[null,{"$f":"IF(zadani!$D$19=\"ano\",'Fire Devc A'!$S$75,\"\")","v":""}," "," "," ",{"$f":"IF(zadani!$D$19=\"ano\",'Fire Devc A'!$U$75,\"\")","v":""}," "]
[null,{"$f":"IF(zadani!$D$19=\"ano\",'Fire Devc A'!$S$74,\"\")","v":""}," "," "," ",{"$f":"IF(zadani!$D$19=\"ano\",'Fire Devc A'!$U$74,\"\")","v":""}," "]
[null,{"$f":"IF(zadani!$D$19=\"ano\",'Fire Devc A'!$S$73,\"\")","v":""}," "," "," ",{"$f":"IF(zadani!$D$19=\"ano\",'Fire Devc A'!$U$73,\"\")","v":""}," "]
[null,{"$f":"IF(zadani!$D$19=\"ano\",'Fire Devc A'!$S$72,\"\")","v":""}," "," "," ",{"$f":"IF(zadani!$D$19=\"ano\",'Fire Devc A'!$U$72,\"\")","v":""}," "]
[null,{"$f":"IF(zadani!$D$19=\"ano\",'Fire Devc A'!$S$71,\"\")","v":""}," "," "," ",{"$f":"IF(zadani!$D$19=\"ano\",'Fire Devc A'!$U$71,\"\")","v":""}," "]
[null,{"$f":"IF(zadani!$D$19=\"ano\",'Fire Devc A'!$S$70,\"\")","v":""}," "," "," ",{"$f":"IF(zadani!$D$19=\"ano\",'Fire Devc A'!$U$70,\"\")","v":""}," "]
[null,{"$f":"IF(zadani!$D$19=\"ano\",'Fire Devc A'!$S$69,\"\")","v":""}," "," "," ",{"$f":"IF(zadani!$D$19=\"ano\",'Fire Devc A'!$U$69,\"\")","v":""}," "]
[null,{"$f":"IF(zadani!$D$19=\"ano\",'Fire Devc A'!$S$68,\"\")","v":""}," "," "," ",{"$f":"IF(zadani!$D$19=\"ano\",'Fire Devc A'!$U$68,\"\")","v":""}," "]
[null,{"$f":"IF(zadani!$D$19=\"ano\",'Fire Devc A'!$S$67,\"\")","v":""}," "," "," ",{"$f":"IF(zadani!$D$19=\"ano\",'Fire Devc A'!$U$67,\"\")","v":""}," "]
[null,{"$f":"IF(zadani!$D$19=\"ano\",'Fire Devc A'!$S$66,\"\")","v":""}," "," "," ",{"$f":"IF(zadani!$D$19=\"ano\",'Fire Devc A'!$U$66,\"\")","v":""}," "]
[null,{"$f":"IF(zadani!$D$19=\"ano\",'Fire Devc A'!$S$65,\"\")","v":""}," "," "," ",{"$f":"IF(zadani!$D$19=\"ano\",'Fire Devc A'!$U$65,\"\")","v":""}," "]
[null,{"$f":"IF(zadani!$D$19=\"ano\",'Fire Devc A'!$S$64,\"\")","v":""}," "," "," ",{"$f":"IF(zadani!$D$19=\"ano\",'Fire Devc A'!$U$64,\"\")","v":""}," "]
[null,{"$f":"IF(zadani!$D$19=\"ano\",'Fire Devc A'!$S$63,\"\")","v":""}," "," "," ",{"$f":"IF(zadani!$D$19=\"ano\",'Fire Devc A'!$U$63,\"\")","v":""}," "]
[null,{"$f":"IF(zadani!$D$19=\"ano\",'Fire Devc A'!$S$62,\"\")","v":""}," "," "," ",{"$f":"IF(zadani!$D$19=\"ano\",'Fire Devc A'!$U$62,\"\")","v":""}," "]
[null,{"$f":"IF(zadani!$D$19=\"ano\",'Fire Devc A'!$S$61,\"\")","v":""}," "," "," ",{"$f":"IF(zadani!$D$19=\"ano\",'Fire Devc A'!$U$61,\"\")","v":""}," "]
[null,{"$f":"IF(zadani!$D$19=\"ano\",'Fire Devc A'!$S$60,\"\")","v":""}," "," "," ",{"$f":"IF(zadani!$D$19=\"ano\",'Fire Devc A'!$U$60,\"\")","v":""}," "]
[null,{"$f":"IF(zadani!$D$19=\"ano\",'Fire Devc A'!$S$59,\"\")","v":""}," "," "," ",{"$f":"IF(zadani!$D$19=\"ano\",'Fire Devc A'!$U$59,\"\")","v":""}," "]
[null,{"$f":"IF(zadani!$D$19=\"ano\",'Fire Devc A'!$S$58,\"\")","v":""}," "," "," ",{"$f":"IF(zadani!$D$19=\"ano\",'Fire Devc A'!$U$58,\"\")","v":""}," "]
[null,{"$f":"IF(zadani!$D$19=\"ano\",'Fire Devc A'!$S$57,\"\")","v":""}," "," "," ",{"$f":"IF(zadani!$D$19=\"ano\",'Fire Devc A'!$U$57,\"\")","v":""}," "]
[null,{"$f":"IF(zadani!$D$19=\"ano\",'Fire Devc A'!$S$56,\"\")","v":""}," "," "," ",{"$f":"IF(zadani!$D$19=\"ano\",'Fire Devc A'!$U$56,\"\")","v":""}," "]
[null,{"$f":"IF(zadani!$D$19=\"ano\",'Fire Devc A'!$S$55,\"\")","v":""}," "," "," ",{"$f":"IF(zadani!$D$19=\"ano\",'Fire Devc A'!$U$55,\"\")","v":""}," "]
[null,{"$f":"IF(zadani!$D$19=\"ano\",'Fire Devc A'!$S$54,\"\")","v":""}," "," "," ",{"$f":"IF(zadani!$D$19=\"ano\",'Fire Devc A'!$U$54,\"\")","v":""}," "]
[null,{"$f":"IF(zadani!$D$19=\"ano\",'Fire Devc A'!$S$53,\"\")","v":""}," "," "," ",{"$f":"IF(zadani!$D$19=\"ano\",'Fire Devc A'!$U$53,\"\")","v":""}," "]
[null,{"$f":"IF(zadani!$D$19=\"ano\",'Fire Devc A'!$S$52,\"\")","v":""}," "," "," ",{"$f":"IF(zadani!$D$19=\"ano\",'Fire Devc A'!$U$52,\"\")","v":""}," "]
[null,{"$f":"IF(zadani!$D$19=\"ano\",'Fire Devc A'!$S$51,\"\")","v":""}," "," "," ",{"$f":"IF(zadani!$D$19=\"ano\",'Fire Devc A'!$U$51,\"\")","v":""}," "]
[null,{"$f":"IF(zadani!$D$19=\"ano\",'Fire Devc A'!$S$50,\"\")","v":""}," "," "," ",{"$f":"IF(zadani!$D$19=\"ano\",'Fire Devc A'!$U$50,\"\")","v":""}," "]
[null,{"$f":"IF(zadani!$D$19=\"ano\",'Fire Devc A'!$S$49,\"\")","v":""}," "," "," ",{"$f":"IF(zadani!$D$19=\"ano\",'Fire Devc A'!$U$49,\"\")","v":""}," "]
[null,{"$f":"IF(zadani!$D$19=\"ano\",'Fire Devc A'!$S$48,\"\")","v":""}," "," "," ",{"$f":"IF(zadani!$D$19=\"ano\",'Fire Devc A'!$U$48,\"\")","v":""}," "]
[null,{"$f":"IF(zadani!$D$19=\"ano\",'Fire Devc A'!$S$47,\"\")","v":""}," "," "," ",{"$f":"IF(zadani!$D$19=\"ano\",'Fire Devc A'!$U$47,\"\")","v":""}," "]
[null,{"$f":"IF(zadani!$D$19=\"ano\",'Fire Devc A'!$S$46,\"\")","v":""}," "," "," ",{"$f":"IF(zadani!$D$19=\"ano\",'Fire Devc A'!$U$46,\"\")","v":""}," "]
[null,{"$f":"IF(zadani!$D$19=\"ano\",'Fire Devc A'!$S$45,\"\")","v":""}," "," "," ",{"$f":"IF(zadani!$D$19=\"ano\",'Fire Devc A'!$U$45,\"\")","v":""}," "]
[null,{"$f":"IF(zadani!$D$19=\"ano\",'Fire Devc A'!$S$44,\"\")","v":""}," "," "," ",{"$f":"IF(zadani!$D$19=\"ano\",'Fire Devc A'!$U$44,\"\")","v":""}," "]
[null,{"$f":"IF(zadani!$D$19=\"ano\",'Fire Devc A'!$S$43,\"\")","v":""}," "," "," ",{"$f":"IF(zadani!$D$19=\"ano\",'Fire Devc A'!$U$43,\"\")","v":""}," "]
[null,{"$f":"IF(zadani!$D$19=\"ano\",'Fire Devc A'!$S$42,\"\")","v":""}," "," "," ",{"$f":"IF(zadani!$D$19=\"ano\",'Fire Devc A'!$U$42,\"\")","v":""}," "]
[null,{"$f":"IF(zadani!$D$19=\"ano\",'Fire Devc A'!$S$41,\"\")","v":""}," "," "," ",{"$f":"IF(zadani!$D$19=\"ano\",'Fire Devc A'!$U$41,\"\")","v":""}," "]
[null,{"$f":"IF(zadani!$D$19=\"ano\",'Fire Devc A'!$S$40,\"\")","v":""}," "," "," ",{"$f":"IF(zadani!$D$19=\"ano\",'Fire Devc A'!$U$40,\"\")","v":""}," "]
[null,{"$f":"IF(zadani!$D$19=\"ano\",'Fire Devc A'!$S$39,\"\")","v":""}," "," "," ",{"$f":"IF(zadani!$D$19=\"ano\",'Fire Devc A'!$U$39,\"\")","v":""}," "]
[null,{"$f":"IF(zadani!$D$19=\"ano\",'Fire Devc A'!$S$38,\"\")","v":""}," "," "," ",{"$f":"IF(zadani!$D$19=\"ano\",'Fire Devc A'!$U$38,\"\")","v":""}," "]
[null,{"$f":"IF(zadani!$D$19=\"ano\",'Fire Devc A'!$S$37,\"\")","v":""}," "," "," ",{"$f":"IF(zadani!$D$19=\"ano\",'Fire Devc A'!$U$37,\"\")","v":""}," "]
[null,{"$f":"IF(zadani!$D$19=\"ano\",'Fire Devc A'!$S$36,\"\")","v":""}," "," "," ",{"$f":"IF(zadani!$D$19=\"ano\",'Fire Devc A'!$U$36,\"\")","v":""}," "]
[null,{"$f":"IF(zadani!$D$19=\"ano\",'Fire Devc A'!$S$35,\"\")","v":""}," "," "," ",{"$f":"IF(zadani!$D$19=\"ano\",'Fire Devc A'!$U$35,\"\")","v":""}," "]
[null,{"$f":"IF(zadani!$D$19=\"ano\",'Fire Devc A'!$S$34,\"\")","v":""}," "," "," ",{"$f":"IF(zadani!$D$19=\"ano\",'Fire Devc A'!$U$34,\"\")","v":""}," "]
[null,{"$f":"IF(zadani!$D$19=\"ano\",'Fire Devc A'!$S$33,\"\")","v":""}," "," "," ",{"$f":"IF(zadani!$D$19=\"ano\",'Fire Devc A'!$U$33,\"\")","v":""}," "]
[null,{"$f":"IF(zadani!$D$19=\"ano\",'Fire Devc A'!$S$32,\"\")","v":""}," "," "," ",{"$f":"IF(zadani!$D$19=\"ano\",'Fire Devc A'!$U$32,\"\")","v":""}," "]
[null,{"$f":"IF(zadani!$D$19=\"ano\",'Fire Devc A'!$S$82,\"\")","v":""}," "," "," ",{"$f":"IF(zadani!$D$19=\"ano\",'Fire Devc A'!$U$82,\"\")","v":""}," "]
[null,{"$f":"IF(zadani!$D$19=\"ano\",'Fire Devc A'!$S$83,\"\")","v":""}," "," "," ",{"$f":"IF(zadani!$D$19=\"ano\",'Fire Devc A'!$U$83,\"\")","v":""}," "]
[null,{"$f":"IF(zadani!$D$19=\"ano\",'Fire Devc A'!$S$84,\"\")","v":""}," "," "," ",{"$f":"IF(zadani!$D$19=\"ano\",'Fire Devc A'!$U$84,\"\")","v":""}," "]
[null,{"$f":"IF(zadani!$D$19=\"ano\",'Fire Devc A'!$S$85,\"\")","v":""}," "," "," ",{"$f":"IF(zadani!$D$19=\"ano\",'Fire Devc A'!$U$85,\"\")","v":""}," "]
[null,{"$f":"IF(zadani!$D$19=\"ano\",'Fire Devc A'!$S$86,\"\")","v":""}," "," "," ",{"$f":"IF(zadani!$D$19=\"ano\",'Fire Devc A'!$U$86,\"\")","v":""}," "]
[null,{"$f":"IF(zadani!$D$19=\"ano\",'Fire Devc A'!$S$87,\"\")","v":""}," "," "," ",{"$f":"IF(zadani!$D$19=\"ano\",'Fire Devc A'!$U$87,\"\")","v":""}," "]
[null,{"$f":"IF(zadani!$D$19=\"ano\",'Fire Devc A'!$S$88,\"\")","v":""}," "," "," ",{"$f":"IF(zadani!$D$19=\"ano\",'Fire Devc A'!$U$88,\"\")","v":""}," "]
[null,{"$f":"IF(zadani!$D$19=\"ano\",'Fire Devc A'!$S$89,\"\")","v":""}," "," "," ",{"$f":"IF(zadani!$D$19=\"ano\",'Fire Devc A'!$U$89,\"\")","v":""}," "]
[null,{"$f":"IF(zadani!$D$19=\"ano\",'Fire Devc A'!$S$90,\"\")","v":""}," "," "," ",{"$f":"IF(zadani!$D$19=\"ano\",'Fire Devc A'!$U$90,\"\")","v":""}," "]
[null,{"$f":"IF(zadani!$D$19=\"ano\",'Fire Devc A'!$S$91,\"\")","v":""}," "," "," ",{"$f":"IF(zadani!$D$19=\"ano\",'Fire Devc A'!$U$91,\"\")","v":""}," "]
[null,{"$f":"IF(zadani!$D$19=\"ano\",'Fire Devc A'!$S$92,\"\")","v":""}," "," "," ",{"$f":"IF(zadani!$D$19=\"ano\",'Fire Devc A'!$U$92,\"\")","v":""}," "]
[null,{"$f":"IF(zadani!$D$19=\"ano\",'Fire Devc A'!$S$93,\"\")","v":""}," "," "," ",{"$f":"IF(zadani!$D$19=\"ano\",'Fire Devc A'!$U$93,\"\")","v":""}," "]
[null,{"$f":"IF(zadani!$D$19=\"ano\",'Fire Devc A'!$S$94,\"\")","v":""}," "," "," ",{"$f":"IF(zadani!$D$19=\"ano\",'Fire Devc A'!$U$94,\"\")","v":""}," "]
[null,{"$f":"IF(zadani!$D$19=\"ano\",'Fire Devc A'!$S$95,\"\")","v":""}," "," "," ",{"$f":"IF(zadani!$D$19=\"ano\",'Fire Devc A'!$U$95,\"\")","v":""}," "]
[null,{"$f":"IF(zadani!$D$19=\"ano\",'Fire Devc A'!$S$96,\"\")","v":""}," "," "," ",{"$f":"IF(zadani!$D$19=\"ano\",'Fire Devc A'!$U$96,\"\")","v":""}," "]
[null,{"$f":"IF(zadani!$D$19=\"ano\",'Fire Devc A'!$S$97,\"\")","v":""}," "," "," ",{"$f":"IF(zadani!$D$19=\"ano\",'Fire Devc A'!$U$97,\"\")","v":""}," "]
[null,{"$f":"IF(zadani!$D$19=\"ano\",'Fire Devc A'!$S$98,\"\")","v":""}," "," "," ",{"$f":"IF(zadani!$D$19=\"ano\",'Fire Devc A'!$U$98,\"\")","v":""}," "]
[null,{"$f":"IF(zadani!$D$19=\"ano\",'Fire Devc A'!$S$99,\"\")","v":""}," "," "," ",{"$f":"IF(zadani!$D$19=\"ano\",'Fire Devc A'!$U$99,\"\")","v":""}," "]
[null,{"$f":"IF(zadani!$D$19=\"ano\",'Fire Devc A'!$S$100,\"\")","v":""}," "," "," ",{"$f":"IF(zadani!$D$19=\"ano\",'Fire Devc A'!$U$100,\"\")","v":""}," "]
[null,{"$f":"IF(zadani!$D$19=\"ano\",'Fire Devc A'!$S$101,\"\")","v":""}," "," "," ",{"$f":"IF(zadani!$D$19=\"ano\",'Fire Devc A'!$U$101,\"\")","v":""}," "]
[null,{"$f":"IF(zadani!$D$19=\"ano\",'Fire Devc A'!$S$102,\"\")","v":""}," "," "," ",{"$f":"IF(zadani!$D$19=\"ano\",'Fire Devc A'!$U$102,\"\")","v":""}," "]
[null,{"$f":"IF(zadani!$D$19=\"ano\",'Fire Devc A'!$S$103,\"\")","v":""}," "," "," ",{"$f":"IF(zadani!$D$19=\"ano\",'Fire Devc A'!$U$103,\"\")","v":""}," "]
[null,{"$f":"IF(zadani!$D$19=\"ano\",'Fire Devc A'!$S$104,\"\")","v":""}," "," "," ",{"$f":"IF(zadani!$D$19=\"ano\",'Fire Devc A'!$U$104,\"\")","v":""}," "]
[null,{"$f":"IF(zadani!$D$19=\"ano\",'Fire Devc A'!$S$105,\"\")","v":""}," "," "," ",{"$f":"IF(zadani!$D$19=\"ano\",'Fire Devc A'!$U$105,\"\")","v":""}," "]
[null,{"$f":"IF(zadani!$D$19=\"ano\",'Fire Devc A'!$S$106,\"\")","v":""}," "," "," ",{"$f":"IF(zadani!$D$19=\"ano\",'Fire Devc A'!$U$106,\"\")","v":""}," "]
[null,{"$f":"IF(zadani!$D$19=\"ano\",'Fire Devc A'!$T$82,\"\")","v":""}," "," "," ",{"$f":"IF(zadani!$D$19=\"ano\",'Fire Devc A'!$V$82,\"\")","v":""}," "]
[null,{"$f":"IF(zadani!$D$19=\"ano\",'Fire Devc A'!$T$83,\"\")","v":""}," "," "," ",{"$f":"IF(zadani!$D$19=\"ano\",'Fire Devc A'!$V$83,\"\")","v":""}," "]
[null,{"$f":"IF(zadani!$D$19=\"ano\",'Fire Devc A'!$T$84,\"\")","v":""}," "," "," ",{"$f":"IF(zadani!$D$19=\"ano\",'Fire Devc A'!$V$84,\"\")","v":""}," "]
[null,{"$f":"IF(zadani!$D$19=\"ano\",'Fire Devc A'!$T$85,\"\")","v":""}," "," "," ",{"$f":"IF(zadani!$D$19=\"ano\",'Fire Devc A'!$V$85,\"\")","v":""}," "]
[null,{"$f":"IF(zadani!$D$19=\"ano\",'Fire Devc A'!$T$86,\"\")","v":""}," "," "," ",{"$f":"IF(zadani!$D$19=\"ano\",'Fire Devc A'!$V$86,\"\")","v":""}," "]
[null,{"$f":"IF(zadani!$D$19=\"ano\",'Fire Devc A'!$T$87,\"\")","v":""}," "," "," ",{"$f":"IF(zadani!$D$19=\"ano\",'Fire Devc A'!$V$87,\"\")","v":""}," "]
[null,{"$f":"IF(zadani!$D$19=\"ano\",'Fire Devc A'!$T$88,\"\")","v":""}," "," "," ",{"$f":"IF(zadani!$D$19=\"ano\",'Fire Devc A'!$V$88,\"\")","v":""}," "]
[null,{"$f":"IF(zadani!$D$19=\"ano\",'Fire Devc A'!$T$89,\"\")","v":""}," "," "," ",{"$f":"IF(zadani!$D$19=\"ano\",'Fire Devc A'!$V$89,\"\")","v":""}," "]
[null,{"$f":"IF(zadani!$D$19=\"ano\",'Fire Devc A'!$T$90,\"\")","v":""}," "," "," ",{"$f":"IF(zadani!$D$19=\"ano\",'Fire Devc A'!$V$90,\"\")","v":""}," "]
[null,{"$f":"IF(zadani!$D$19=\"ano\",'Fire Devc A'!$T$91,\"\")","v":""}," "," "," ",{"$f":"IF(zadani!$D$19=\"ano\",'Fire Devc A'!$V$91,\"\")","v":""}," "]
[null,{"$f":"IF(zadani!$D$19=\"ano\",'Fire Devc A'!$T$92,\"\")","v":""}," "," "," ",{"$f":"IF(zadani!$D$19=\"ano\",'Fire Devc A'!$V$92,\"\")","v":""}," "]
[null,{"$f":"IF(zadani!$D$19=\"ano\",'Fire Devc A'!$T$93,\"\")","v":""}," "," "," ",{"$f":"IF(zadani!$D$19=\"ano\",'Fire Devc A'!$V$93,\"\")","v":""}," "]
[null,{"$f":"IF(zadani!$D$19=\"ano\",'Fire Devc A'!$T$94,\"\")","v":""}," "," "," ",{"$f":"IF(zadani!$D$19=\"ano\",'Fire Devc A'!$V$94,\"\")","v":""}," "]
[null,{"$f":"IF(zadani!$D$19=\"ano\",'Fire Devc A'!$T$95,\"\")","v":""}," "," "," ",{"$f":"IF(zadani!$D$19=\"ano\",'Fire Devc A'!$V$95,\"\")","v":""}," "]
[null,{"$f":"IF(zadani!$D$19=\"ano\",'Fire Devc A'!$T$96,\"\")","v":""}," "," "," ",{"$f":"IF(zadani!$D$19=\"ano\",'Fire Devc A'!$V$96,\"\")","v":""}," "]
[null,{"$f":"IF(zadani!$D$19=\"ano\",'Fire Devc A'!$T$97,\"\")","v":""}," "," "," ",{"$f":"IF(zadani!$D$19=\"ano\",'Fire Devc A'!$V$97,\"\")","v":""}," "]
[null,{"$f":"IF(zadani!$D$19=\"ano\",'Fire Devc A'!$T$98,\"\")","v":""}," "," "," ",{"$f":"IF(zadani!$D$19=\"ano\",'Fire Devc A'!$V$98,\"\")","v":""}," "]
[null,{"$f":"IF(zadani!$D$19=\"ano\",'Fire Devc A'!$T$99,\"\")","v":""}," "," "," ",{"$f":"IF(zadani!$D$19=\"ano\",'Fire Devc A'!$V$99,\"\")","v":""}," "]
[null,{"$f":"IF(zadani!$D$19=\"ano\",'Fire Devc A'!$T$100,\"\")","v":""}," "," "," ",{"$f":"IF(zadani!$D$19=\"ano\",'Fire Devc A'!$V$100,\"\")","v":""}," "]
[null,{"$f":"IF(zadani!$D$19=\"ano\",'Fire Devc A'!$T$101,\"\")","v":""}," "," "," ",{"$f":"IF(zadani!$D$19=\"ano\",'Fire Devc A'!$V$101,\"\")","v":""}," "]
[null,{"$f":"IF(zadani!$D$19=\"ano\",'Fire Devc A'!$T$102,\"\")","v":""}," "," "," ",{"$f":"IF(zadani!$D$19=\"ano\",'Fire Devc A'!$V$102,\"\")","v":""}," "]
[null,{"$f":"IF(zadani!$D$19=\"ano\",'Fire Devc A'!$T$103,\"\")","v":""}," "," "," ",{"$f":"IF(zadani!$D$19=\"ano\",'Fire Devc A'!$V$103,\"\")","v":""}," "]
[null,{"$f":"IF(zadani!$D$19=\"ano\",'Fire Devc A'!$T$104,\"\")","v":""}," "," "," ",{"$f":"IF(zadani!$D$19=\"ano\",'Fire Devc A'!$V$104,\"\")","v":""}," "]
[null,{"$f":"IF(zadani!$D$19=\"ano\",'Fire Devc A'!$T$105,\"\")","v":""}," "," "," ",{"$f":"IF(zadani!$D$19=\"ano\",'Fire Devc A'!$V$105,\"\")","v":""}," "]
[null,{"$f":"IF(zadani!$D$19=\"ano\",'Fire Devc A'!$T$106,\"\")","v":""}," "," "," ",{"$f":"IF(zadani!$D$19=\"ano\",'Fire Devc A'!$V$106,\"\")","v":""}," "]
[null,{"$f":"IF(zadani!$D$20=\"ano\",'Fire Devc B'!$S$82,\"\")","v":""}," "," "," ",{"$f":"IF(zadani!$D$20=\"ano\",'Fire Devc B'!$U$82,\"\")","v":""}," "]
[null,{"$f":"IF(zadani!$D$20=\"ano\",'Fire Devc B'!$S$83,\"\")","v":""}," "," "," ",{"$f":"IF(zadani!$D$20=\"ano\",'Fire Devc B'!$U$83,\"\")","v":""}," "]
[null,{"$f":"IF(zadani!$D$20=\"ano\",'Fire Devc B'!$S$84,\"\")","v":""}," "," "," ",{"$f":"IF(zadani!$D$20=\"ano\",'Fire Devc B'!$U$84,\"\")","v":""}," "]
[null,{"$f":"IF(zadani!$D$20=\"ano\",'Fire Devc B'!$S$85,\"\")","v":""}," "," "," ",{"$f":"IF(zadani!$D$20=\"ano\",'Fire Devc B'!$U$85,\"\")","v":""}," "]
[null,{"$f":"IF(zadani!$D$20=\"ano\",'Fire Devc B'!$S$86,\"\")","v":""}," "," "," ",{"$f":"IF(zadani!$D$20=\"ano\",'Fire Devc B'!$U$86,\"\")","v":""}," "]
[null,{"$f":"IF(zadani!$D$20=\"ano\",'Fire Devc B'!$S$97,\"\")","v":""}," "," "," ",{"$f":"IF(zadani!$D$20=\"ano\",'Fire Devc B'!$U$97,\"\")","v":""}," "]
[null,{"$f":"IF(zadani!$D$20=\"ano\",'Fire Devc B'!$S$98,\"\")","v":""}," "," "," ",{"$f":"IF(zadani!$D$20=\"ano\",'Fire Devc B'!$U$98,\"\")","v":""}," "]
[null,{"$f":"IF(zadani!$D$20=\"ano\",'Fire Devc B'!$S$99,\"\")","v":""}," "," "," ",{"$f":"IF(zadani!$D$20=\"ano\",'Fire Devc B'!$U$99,\"\")","v":""}," "]
[null,{"$f":"IF(zadani!$D$20=\"ano\",'Fire Devc B'!$S$100,\"\")","v":""}," "," "," ",{"$f":"IF(zadani!$D$20=\"ano\",'Fire Devc B'!$U$100,\"\")","v":""}," "]
[null,{"$f":"IF(zadani!$D$20=\"ano\",'Fire Devc B'!$S$101,\"\")","v":""}," "," "," ",{"$f":"IF(zadani!$D$20=\"ano\",'Fire Devc B'!$U$101,\"\")","v":""}," "]
[null,{"$f":"IF(zadani!$D$20=\"ano\",'Fire Devc B'!$S$102,\"\")","v":""}," "," "," ",{"$f":"IF(zadani!$D$20=\"ano\",'Fire Devc B'!$U$102,\"\")","v":""}," "]
[null,{"$f":"IF(zadani!$D$20=\"ano\",'Fire Devc B'!$S$103,\"\")","v":""}," "," "," ",{"$f":"IF(zadani!$D$20=\"ano\",'Fire Devc B'!$U$103,\"\")","v":""}," "]
[null,{"$f":"IF(zadani!$D$20=\"ano\",'Fire Devc B'!$S$104,\"\")","v":""}," "," "," ",{"$f":"IF(zadani!$D$20=\"ano\",'Fire Devc B'!$U$104,\"\")","v":""}," "]
[null,{"$f":"IF(zadani!$D$20=\"ano\",'Fire Devc B'!$S$105,\"\")","v":""}," "," "," ",{"$f":"IF(zadani!$D$20=\"ano\",'Fire Devc B'!$U$105,\"\")","v":""}," "]
[null,{"$f":"IF(zadani!$D$20=\"ano\",'Fire Devc B'!$S$106,\"\")","v":""}," "," "," ",{"$f":"IF(zadani!$D$20=\"ano\",'Fire Devc B'!$U$106,\"\")","v":""}," "]
[null,{"$f":"IF(zadani!$D$20=\"ano\",'Fire Devc B'!$T$82,\"\")","v":""}," "," "," ",{"$f":"IF(zadani!$D$20=\"ano\",'Fire Devc B'!$V$82,\"\")","v":""}," "]
[null,{"$f":"IF(zadani!$D$20=\"ano\",'Fire Devc B'!$T$83,\"\")","v":""}," "," "," ",{"$f":"IF(zadani!$D$20=\"ano\",'Fire Devc B'!$V$83,\"\")","v":""}," "]
[null,{"$f":"IF(zadani!$D$20=\"ano\",'Fire Devc B'!$T$84,\"\")","v":""}," "," "," ",{"$f":"IF(zadani!$D$20=\"ano\",'Fire Devc B'!$V$84,\"\")","v":""}," "]
[null,{"$f":"IF(zadani!$D$20=\"ano\",'Fire Devc B'!$T$85,\"\")","v":""}," "," "," ",{"$f":"IF(zadani!$D$20=\"ano\",'Fire Devc B'!$V$85,\"\")","v":""}," "]
[null,{"$f":"IF(zadani!$D$20=\"ano\",'Fire Devc B'!$T$86,\"\")","v":""}," "," "," ",{"$f":"IF(zadani!$D$20=\"ano\",'Fire Devc B'!$V$86,\"\")","v":""}," "]
[null,{"$f":"IF(zadani!$D$20=\"ano\",'Fire Devc B'!$T$97,\"\")","v":""}," "," "," ",{"$f":"IF(zadani!$D$20=\"ano\",'Fire Devc B'!$V$97,\"\")","v":""}," "]
[null,{"$f":"IF(zadani!$D$20=\"ano\",'Fire Devc B'!$T$98,\"\")","v":""}," "," "," ",{"$f":"IF(zadani!$D$20=\"ano\",'Fire Devc B'!$V$98,\"\")","v":""}," "]
[null,{"$f":"IF(zadani!$D$20=\"ano\",'Fire Devc B'!$T$99,\"\")","v":""}," "," "," ",{"$f":"IF(zadani!$D$20=\"ano\",'Fire Devc B'!$V$99,\"\")","v":""}," "]
[null,{"$f":"IF(zadani!$D$20=\"ano\",'Fire Devc B'!$T$100,\"\")","v":""}," "," "," ",{"$f":"IF(zadani!$D$20=\"ano\",'Fire Devc B'!$V$100,\"\")","v":""}," "]
[null,{"$f":"IF(zadani!$D$20=\"ano\",'Fire Devc B'!$T$101,\"\")","v":""}," "," "," ",{"$f":"IF(zadani!$D$20=\"ano\",'Fire Devc B'!$V$101,\"\")","v":""}," "]
[null,{"$f":"IF(zadani!$D$20=\"ano\",'Fire Devc B'!$T$102,\"\")","v":""}," "," "," ",{"$f":"IF(zadani!$D$20=\"ano\",'Fire Devc B'!$V$102,\"\")","v":""}," "]
[null,{"$f":"IF(zadani!$D$20=\"ano\",'Fire Devc B'!$T$103,\"\")","v":""}," "," "," ",{"$f":"IF(zadani!$D$20=\"ano\",'Fire Devc B'!$V$103,\"\")","v":""}," "]
[null,{"$f":"IF(zadani!$D$20=\"ano\",'Fire Devc B'!$T$104,\"\")","v":""}," "," "," ",{"$f":"IF(zadani!$D$20=\"ano\",'Fire Devc B'!$V$104,\"\")","v":""}," "]
[null,{"$f":"IF(zadani!$D$20=\"ano\",'Fire Devc B'!$T$105,\"\")","v":""}," "," "," ",{"$f":"IF(zadani!$D$20=\"ano\",'Fire Devc B'!$V$105,\"\")","v":""}," "]
[null,{"$f":"IF(zadani!$D$20=\"ano\",'Fire Devc B'!$T$106,\"\")","v":""}," "," "," ",{"$f":"IF(zadani!$D$20=\"ano\",'Fire Devc B'!$V$106,\"\")","v":""}," "]
[null,{"$f":"IF(zadani!$D$21=\"ano\",'Fire Devc C'!$S$67,\"\")","v":""}," "," "," ",{"$f":"IF(zadani!$D$21=\"ano\",'Fire Devc C'!$U$67,\"\")","v":""}," "]
[null,{"$f":"IF(zadani!$D$21=\"ano\",'Fire Devc C'!$S$68,\"\")","v":""}," "," "," ",{"$f":"IF(zadani!$D$21=\"ano\",'Fire Devc C'!$U$68,\"\")","v":""}," "]
[null,{"$f":"IF(zadani!$D$21=\"ano\",'Fire Devc C'!$S$69,\"\")","v":""}," "," "," ",{"$f":"IF(zadani!$D$21=\"ano\",'Fire Devc C'!$U$69,\"\")","v":""}," "]
[null,{"$f":"IF(zadani!$D$21=\"ano\",'Fire Devc C'!$S$70,\"\")","v":""}," "," "," ",{"$f":"IF(zadani!$D$21=\"ano\",'Fire Devc C'!$U$70,\"\")","v":""}," "]
[null,{"$f":"IF(zadani!$D$21=\"ano\",'Fire Devc C'!$S$71,\"\")","v":""}," "," "," ",{"$f":"IF(zadani!$D$21=\"ano\",'Fire Devc C'!$U$71,\"\")","v":""}," "]
[null,{"$f":"IF(zadani!$D$21=\"ano\",'Fire Devc C'!$S$72,\"\")","v":""}," "," "," ",{"$f":"IF(zadani!$D$21=\"ano\",'Fire Devc C'!$U$72,\"\")","v":""}," "]
[null,{"$f":"IF(zadani!$D$21=\"ano\",'Fire Devc C'!$S$73,\"\")","v":""}," "," "," ",{"$f":"IF(zadani!$D$21=\"ano\",'Fire Devc C'!$U$73,\"\")","v":""}," "]
[null,{"$f":"IF(zadani!$D$21=\"ano\",'Fire Devc C'!$S$74,\"\")","v":""}," "," "," ",{"$f":"IF(zadani!$D$21=\"ano\",'Fire Devc C'!$U$74,\"\")","v":""}," "]
[null,{"$f":"IF(zadani!$D$21=\"ano\",'Fire Devc C'!$S$75,\"\")","v":""}," "," "," ",{"$f":"IF(zadani!$D$21=\"ano\",'Fire Devc C'!$U$75,\"\")","v":""}," "]
[null,{"$f":"IF(zadani!$D$21=\"ano\",'Fire Devc C'!$S$76,\"\")","v":""}," "," "," ",{"$f":"IF(zadani!$D$21=\"ano\",'Fire Devc C'!$U$76,\"\")","v":""}," "]
[null,{"$f":"IF(zadani!$D$21=\"ano\",'Fire Devc C'!$S$87,\"\")","v":""}," "," "," ",{"$f":"IF(zadani!$D$21=\"ano\",'Fire Devc C'!$U$87,\"\")","v":""}," "]
[null,{"$f":"IF(zadani!$D$21=\"ano\",'Fire Devc C'!$S$88,\"\")","v":""}," "," "," ",{"$f":"IF(zadani!$D$21=\"ano\",'Fire Devc C'!$U$88,\"\")","v":""}," "]
[null,{"$f":"IF(zadani!$D$21=\"ano\",'Fire Devc C'!$S$89,\"\")","v":""}," "," "," ",{"$f":"IF(zadani!$D$21=\"ano\",'Fire Devc C'!$U$89,\"\")","v":""}," "]
[null,{"$f":"IF(zadani!$D$21=\"ano\",'Fire Devc C'!$S$90,\"\")","v":""}," "," "," ",{"$f":"IF(zadani!$D$21=\"ano\",'Fire Devc C'!$U$90,\"\")","v":""}," "]
[null,{"$f":"IF(zadani!$D$21=\"ano\",'Fire Devc C'!$S$91,\"\")","v":""}," "," "," ",{"$f":"IF(zadani!$D$21=\"ano\",'Fire Devc C'!$U$91,\"\")","v":""}," "]
[null,{"$f":"IF(zadani!$D$21=\"ano\",'Fire Devc C'!$S$92,\"\")","v":""}," "," "," ",{"$f":"IF(zadani!$D$21=\"ano\",'Fire Devc C'!$U$92,\"\")","v":""}," "]
[null,{"$f":"IF(zadani!$D$21=\"ano\",'Fire Devc C'!$S$93,\"\")","v":""}," "," "," ",{"$f":"IF(zadani!$D$21=\"ano\",'Fire Devc C'!$U$93,\"\")","v":""}," "]
[null,{"$f":"IF(zadani!$D$21=\"ano\",'Fire Devc C'!$S$94,\"\")","v":""}," "," "," ",{"$f":"IF(zadani!$D$21=\"ano\",'Fire Devc C'!$U$94,\"\")","v":""}," "]
[null,{"$f":"IF(zadani!$D$21=\"ano\",'Fire Devc C'!$S$95,\"\")","v":""}," "," "," ",{"$f":"IF(zadani!$D$21=\"ano\",'Fire Devc C'!$U$95,\"\")","v":""}," "]
[null,{"$f":"IF(zadani!$D$21=\"ano\",'Fire Devc C'!$S$96,\"\")","v":""}," "," "," ",{"$f":"IF(zadani!$D$21=\"ano\",'Fire Devc C'!$U$96,\"\")","v":""}," "]
[null,{"$f":"IF(zadani!$D$21=\"ano\",'Fire Devc C'!$T$67,\"\")","v":""}," "," "," ",{"$f":"IF(zadani!$D$21=\"ano\",'Fire Devc C'!$V$67,\"\")","v":""}," "]
[null,{"$f":"IF(zadani!$D$21=\"ano\",'Fire Devc C'!$T$68,\"\")","v":""}," "," "," ",{"$f":"IF(zadani!$D$21=\"ano\",'Fire Devc C'!$V$68,\"\")","v":""}," "]
[null,{"$f":"IF(zadani!$D$21=\"ano\",'Fire Devc C'!$T$69,\"\")","v":""}," "," "," ",{"$f":"IF(zadani!$D$21=\"ano\",'Fire Devc C'!$V$69,\"\")","v":""}," "]
[null,{"$f":"IF(zadani!$D$21=\"ano\",'Fire Devc C'!$T$70,\"\")","v":""}," "," "," ",{"$f":"IF(zadani!$D$21=\"ano\",'Fire Devc C'!$V$70,\"\")","v":""}," "]
[null,{"$f":"IF(zadani!$D$21=\"ano\",'Fire Devc C'!$T$71,\"\")","v":""}," "," "," ",{"$f":"IF(zadani!$D$21=\"ano\",'Fire Devc C'!$V$71,\"\")","v":""}," "]
[null,{"$f":"IF(zadani!$D$21=\"ano\",'Fire Devc C'!$T$72,\"\")","v":""}," "," "," ",{"$f":"IF(zadani!$D$21=\"ano\",'Fire Devc C'!$V$72,\"\")","v":""}," "]
[null,{"$f":"IF(zadani!$D$21=\"ano\",'Fire Devc C'!$T$73,\"\")","v":""}," "," "," ",{"$f":"IF(zadani!$D$21=\"ano\",'Fire Devc C'!$V$73,\"\")","v":""}," "]
[null,{"$f":"IF(zadani!$D$21=\"ano\",'Fire Devc C'!$T$74,\"\")","v":""}," "," "," ",{"$f":"IF(zadani!$D$21=\"ano\",'Fire Devc C'!$V$74,\"\")","v":""}," "]
[null,{"$f":"IF(zadani!$D$21=\"ano\",'Fire Devc C'!$T$75,\"\")","v":""}," "," "," ",{"$f":"IF(zadani!$D$21=\"ano\",'Fire Devc C'!$V$75,\"\")","v":""}," "]
[null,{"$f":"IF(zadani!$D$21=\"ano\",'Fire Devc C'!$T$76,\"\")","v":""}," "," "," ",{"$f":"IF(zadani!$D$21=\"ano\",'Fire Devc C'!$V$76,\"\")","v":""}," "]
[null,{"$f":"IF(zadani!$D$21=\"ano\",'Fire Devc C'!$T$87,\"\")","v":""}," "," "," ",{"$f":"IF(zadani!$D$21=\"ano\",'Fire Devc C'!$V$87,\"\")","v":""}," "]
[null,{"$f":"IF(zadani!$D$21=\"ano\",'Fire Devc C'!$T$88,\"\")","v":""}," "," "," ",{"$f":"IF(zadani!$D$21=\"ano\",'Fire Devc C'!$V$88,\"\")","v":""}," "]
[null,{"$f":"IF(zadani!$D$21=\"ano\",'Fire Devc C'!$T$89,\"\")","v":""}," "," "," ",{"$f":"IF(zadani!$D$21=\"ano\",'Fire Devc C'!$V$89,\"\")","v":""}," "]
[null,{"$f":"IF(zadani!$D$21=\"ano\",'Fire Devc C'!$T$90,\"\")","v":""}," "," "," ",{"$f":"IF(zadani!$D$21=\"ano\",'Fire Devc C'!$V$90,\"\")","v":""}," "]
[null,{"$f":"IF(zadani!$D$21=\"ano\",'Fire Devc C'!$T$91,\"\")","v":""}," "," "," ",{"$f":"IF(zadani!$D$21=\"ano\",'Fire Devc C'!$V$91,\"\")","v":""}," "]
[null,{"$f":"IF(zadani!$D$21=\"ano\",'Fire Devc C'!$T$92,\"\")","v":""}," "," "," ",{"$f":"IF(zadani!$D$21=\"ano\",'Fire Devc C'!$V$92,\"\")","v":""}," "]
[null,{"$f":"IF(zadani!$D$21=\"ano\",'Fire Devc C'!$T$93,\"\")","v":""}," "," "," ",{"$f":"IF(zadani!$D$21=\"ano\",'Fire Devc C'!$V$93,\"\")","v":""}," "]
[null,{"$f":"IF(zadani!$D$21=\"ano\",'Fire Devc C'!$T$94,\"\")","v":""}," "," "," ",{"$f":"IF(zadani!$D$21=\"ano\",'Fire Devc C'!$V$94,\"\")","v":""}," "]
[null,{"$f":"IF(zadani!$D$21=\"ano\",'Fire Devc C'!$T$95,\"\")","v":""}," "," "," ",{"$f":"IF(zadani!$D$21=\"ano\",'Fire Devc C'!$V$95,\"\")","v":""}," "]
[null,{"$f":"IF(zadani!$D$21=\"ano\",'Fire Devc C'!$T$96,\"\")","v":""}," "," "," ",{"$f":"IF(zadani!$D$21=\"ano\",'Fire Devc C'!$V$96,\"\")","v":""}," "]
[null,{"$f":"IF(zadani!$G$19=\"ano\",'Fire Devc D'!$S$37,\"\")","v":""}," "," "," ",{"$f":"IF(zadani!$G$19=\"ano\",'Fire Devc D'!$U$37,\"\")","v":""}," "]
[null,{"$f":"IF(zadani!$G$19=\"ano\",'Fire Devc D'!$S$38,\"\")","v":""}," "," "," ",{"$f":"IF(zadani!$G$19=\"ano\",'Fire Devc D'!$U$38,\"\")","v":""}," "]
[null,{"$f":"IF(zadani!$G$19=\"ano\",'Fire Devc D'!$S$39,\"\")","v":""}," "," "," ",{"$f":"IF(zadani!$G$19=\"ano\",'Fire Devc D'!$U$39,\"\")","v":""}," "]
[null,{"$f":"IF(zadani!$G$19=\"ano\",'Fire Devc D'!$S$40,\"\")","v":""}," "," "," ",{"$f":"IF(zadani!$G$19=\"ano\",'Fire Devc D'!$U$40,\"\")","v":""}," "]
[null,{"$f":"IF(zadani!$G$19=\"ano\",'Fire Devc D'!$S$41,\"\")","v":""}," "," "," ",{"$f":"IF(zadani!$G$19=\"ano\",'Fire Devc D'!$U$41,\"\")","v":""}," "]
[null,{"$f":"IF(zadani!$G$19=\"ano\",'Fire Devc D'!$S$42,\"\")","v":""}," "," "," ",{"$f":"IF(zadani!$G$19=\"ano\",'Fire Devc D'!$U$42,\"\")","v":""}," "]
[null,{"$f":"IF(zadani!$G$19=\"ano\",'Fire Devc D'!$S$43,\"\")","v":""}," "," "," ",{"$f":"IF(zadani!$G$19=\"ano\",'Fire Devc D'!$U$43,\"\")","v":""}," "]
[null,{"$f":"IF(zadani!$G$19=\"ano\",'Fire Devc D'!$S$44,\"\")","v":""}," "," "," ",{"$f":"IF(zadani!$G$19=\"ano\",'Fire Devc D'!$U$44,\"\")","v":""}," "]
[null,{"$f":"IF(zadani!$G$19=\"ano\",'Fire Devc D'!$S$45,\"\")","v":""}," "," "," ",{"$f":"IF(zadani!$G$19=\"ano\",'Fire Devc D'!$U$45,\"\")","v":""}," "]
[null,{"$f":"IF(zadani!$G$19=\"ano\",'Fire Devc D'!$S$46,\"\")","v":""}," "," "," ",{"$f":"IF(zadani!$G$19=\"ano\",'Fire Devc D'!$U$46,\"\")","v":""}," "]
[null,{"$f":"IF(zadani!$G$19=\"ano\",'Fire Devc D'!$S$47,\"\")","v":""}," "," "," ",{"$f":"IF(zadani!$G$19=\"ano\",'Fire Devc D'!$U$47,\"\")","v":""}," "]
[null,{"$f":"IF(zadani!$G$19=\"ano\",'Fire Devc D'!$S$48,\"\")","v":""}," "," "," ",{"$f":"IF(zadani!$G$19=\"ano\",'Fire Devc D'!$U$48,\"\")","v":""}," "]
[null,{"$f":"IF(zadani!$G$19=\"ano\",'Fire Devc D'!$S$49,\"\")","v":""}," "," "," ",{"$f":"IF(zadani!$G$19=\"ano\",'Fire Devc D'!$U$49,\"\")","v":""}," "]
[null,{"$f":"IF(zadani!$G$19=\"ano\",'Fire Devc D'!$S$50,\"\")","v":""}," "," "," ",{"$f":"IF(zadani!$G$19=\"ano\",'Fire Devc D'!$U$50,\"\")","v":""}," "]
[null,{"$f":"IF(zadani!$G$19=\"ano\",'Fire Devc D'!$S$51,\"\")","v":""}," "," "," ",{"$f":"IF(zadani!$G$19=\"ano\",'Fire Devc D'!$U$51,\"\")","v":""}," "]
[null,{"$f":"IF(zadani!$G$19=\"ano\",'Fire Devc D'!$S$52,\"\")","v":""}," "," "," ",{"$f":"IF(zadani!$G$19=\"ano\",'Fire Devc D'!$U$52,\"\")","v":""}," "]
[null,{"$f":"IF(zadani!$G$19=\"ano\",'Fire Devc D'!$S$53,\"\")","v":""}," "," "," ",{"$f":"IF(zadani!$G$19=\"ano\",'Fire Devc D'!$U$53,\"\")","v":""}," "]
[null,{"$f":"IF(zadani!$G$19=\"ano\",'Fire Devc D'!$S$54,\"\")","v":""}," "," "," ",{"$f":"IF(zadani!$G$19=\"ano\",'Fire Devc D'!$U$54,\"\")","v":""}," "]
[null,{"$f":"IF(zadani!$G$19=\"ano\",'Fire Devc D'!$S$55,\"\")","v":""}," "," "," ",{"$f":"IF(zadani!$G$19=\"ano\",'Fire Devc D'!$U$55,\"\")","v":""}," "]
[null,{"$f":"IF(zadani!$G$19=\"ano\",'Fire Devc D'!$S$56,\"\")","v":""}," "," "," ",{"$f":"IF(zadani!$G$19=\"ano\",'Fire Devc D'!$U$56,\"\")","v":""}," "]
[null,{"$f":"IF(zadani!$G$19=\"ano\",'Fire Devc D'!$S$57,\"\")","v":""}," "," "," ",{"$f":"IF(zadani!$G$19=\"ano\",'Fire Devc D'!$U$57,\"\")","v":""}," "]
[null,{"$f":"IF(zadani!$G$19=\"ano\",'Fire Devc D'!$S$58,\"\")","v":""}," "," "," ",{"$f":"IF(zadani!$G$19=\"ano\",'Fire Devc D'!$U$58,\"\")","v":""}," "]
[null,{"$f":"IF(zadani!$G$19=\"ano\",'Fire Devc D'!$S$59,\"\")","v":""}," "," "," ",{"$f":"IF(zadani!$G$19=\"ano\",'Fire Devc D'!$U$59,\"\")","v":""}," "]
[null,{"$f":"IF(zadani!$G$19=\"ano\",'Fire Devc D'!$S$60,\"\")","v":""}," "," "," ",{"$f":"IF(zadani!$G$19=\"ano\",'Fire Devc D'!$U$60,\"\")","v":""}," "]
[null,{"$f":"IF(zadani!$G$19=\"ano\",'Fire Devc D'!$S$61,\"\")","v":""}," "," "," ",{"$f":"IF(zadani!$G$19=\"ano\",'Fire Devc D'!$U$61,\"\")","v":""}," "]
[null,{"$f":"IF(zadani!$G$19=\"ano\",'Fire Devc D'!$S$62,\"\")","v":""}," "," "," ",{"$f":"IF(zadani!$G$19=\"ano\",'Fire Devc D'!$U$62,\"\")","v":""}," "]
[null,{"$f":"IF(zadani!$G$19=\"ano\",'Fire Devc D'!$S$63,\"\")","v":""}," "," "," ",{"$f":"IF(zadani!$G$19=\"ano\",'Fire Devc D'!$U$63,\"\")","v":""}," "]
[null,{"$f":"IF(zadani!$G$19=\"ano\",'Fire Devc D'!$S$64,\"\")","v":""}," "," "," ",{"$f":"IF(zadani!$G$19=\"ano\",'Fire Devc D'!$U$64,\"\")","v":""}," "]
[null,{"$f":"IF(zadani!$G$19=\"ano\",'Fire Devc D'!$S$65,\"\")","v":""}," "," "," ",{"$f":"IF(zadani!$G$19=\"ano\",'Fire Devc D'!$U$65,\"\")","v":""}," "]
[null,{"$f":"IF(zadani!$G$19=\"ano\",'Fire Devc D'!$S$66,\"\")","v":""}," "," "," ",{"$f":"IF(zadani!$G$19=\"ano\",'Fire Devc D'!$U$66,\"\")","v":""}," "]
[null,{"$f":"IF(zadani!$G$19=\"ano\",'Fire Devc D'!$S$67,\"\")","v":""}," "," "," ",{"$f":"IF(zadani!$G$19=\"ano\",'Fire Devc D'!$U$67,\"\")","v":""}," "]
[null,{"$f":"IF(zadani!$G$19=\"ano\",'Fire Devc D'!$S$68,\"\")","v":""}," "," "," ",{"$f":"IF(zadani!$G$19=\"ano\",'Fire Devc D'!$U$68,\"\")","v":""}," "]
[null,{"$f":"IF(zadani!$G$19=\"ano\",'Fire Devc D'!$S$69,\"\")","v":""}," "," "," ",{"$f":"IF(zadani!$G$19=\"ano\",'Fire Devc D'!$U$69,\"\")","v":""}," "]
[null,{"$f":"IF(zadani!$G$19=\"ano\",'Fire Devc D'!$S$70,\"\")","v":""}," "," "," ",{"$f":"IF(zadani!$G$19=\"ano\",'Fire Devc D'!$U$70,\"\")","v":""}," "]
[null,{"$f":"IF(zadani!$G$19=\"ano\",'Fire Devc D'!$S$71,\"\")","v":""}," "," "," ",{"$f":"IF(zadani!$G$19=\"ano\",'Fire Devc D'!$U$71,\"\")","v":""}," "]
[null,{"$f":"IF(zadani!$G$19=\"ano\",'Fire Devc D'!$S$72,\"\")","v":""}," "," "," ",{"$f":"IF(zadani!$G$19=\"ano\",'Fire Devc D'!$U$72,\"\")","v":""}," "]
[null,{"$f":"IF(zadani!$G$19=\"ano\",'Fire Devc D'!$S$73,\"\")","v":""}," "," "," ",{"$f":"IF(zadani!$G$19=\"ano\",'Fire Devc D'!$U$73,\"\")","v":""}," "]
[null,{"$f":"IF(zadani!$G$19=\"ano\",'Fire Devc D'!$S$74,\"\")","v":""}," "," "," ",{"$f":"IF(zadani!$G$19=\"ano\",'Fire Devc D'!$U$74,\"\")","v":""}," "]
[null,{"$f":"IF(zadani!$G$19=\"ano\",'Fire Devc D'!$S$75,\"\")","v":""}," "," "," ",{"$f":"IF(zadani!$G$19=\"ano\",'Fire Devc D'!$U$75,\"\")","v":""}," "]
[null,{"$f":"IF(zadani!$G$19=\"ano\",'Fire Devc D'!$S$76,\"\")","v":""}," "," "," ",{"$f":"IF(zadani!$G$19=\"ano\",'Fire Devc D'!$U$76,\"\")","v":""}," "]
[null,{"$f":"IF(zadani!$G$19=\"ano\",'Fire Devc D'!$S$77,\"\")","v":""}," "," "," ",{"$f":"IF(zadani!$G$19=\"ano\",'Fire Devc D'!$U$77,\"\")","v":""}," "]
[null,{"$f":"IF(zadani!$G$19=\"ano\",'Fire Devc D'!$S$78,\"\")","v":""}," "," "," ",{"$f":"IF(zadani!$G$19=\"ano\",'Fire Devc D'!$U$78,\"\")","v":""}," "]
[null,{"$f":"IF(zadani!$G$19=\"ano\",'Fire Devc D'!$S$79,\"\")","v":""}," "," "," ",{"$f":"IF(zadani!$G$19=\"ano\",'Fire Devc D'!$U$79,\"\")","v":""}," "]
[null,{"$f":"IF(zadani!$G$19=\"ano\",'Fire Devc D'!$S$80,\"\")","v":""}," "," "," ",{"$f":"IF(zadani!$G$19=\"ano\",'Fire Devc D'!$U$80,\"\")","v":""}," "]
[null,{"$f":"IF(zadani!$G$19=\"ano\",'Fire Devc D'!$S$81,\"\")","v":""}," "," "," ",{"$f":"IF(zadani!$G$19=\"ano\",'Fire Devc D'!$U$81,\"\")","v":""}," "]
[null,{"$f":"IF(zadani!$G$19=\"ano\",'Fire Devc D'!$S$82,\"\")","v":""}," "," "," ",{"$f":"IF(zadani!$G$19=\"ano\",'Fire Devc D'!$U$82,\"\")","v":""}," "]
[null,{"$f":"IF(zadani!$G$19=\"ano\",'Fire Devc D'!$S$83,\"\")","v":""}," "," "," ",{"$f":"IF(zadani!$G$19=\"ano\",'Fire Devc D'!$U$83,\"\")","v":""}," "]
[null,{"$f":"IF(zadani!$G$19=\"ano\",'Fire Devc D'!$S$84,\"\")","v":""}," "," "," ",{"$f":"IF(zadani!$G$19=\"ano\",'Fire Devc D'!$U$84,\"\")","v":""}," "]
[null,{"$f":"IF(zadani!$G$19=\"ano\",'Fire Devc D'!$S$85,\"\")","v":""}," "," "," ",{"$f":"IF(zadani!$G$19=\"ano\",'Fire Devc D'!$U$85,\"\")","v":""}," "]
[null,{"$f":"IF(zadani!$G$19=\"ano\",'Fire Devc D'!$S$86,\"\")","v":""}," "," "," ",{"$f":"IF(zadani!$G$19=\"ano\",'Fire Devc D'!$U$86,\"\")","v":""}," "]
[null,{"$f":"IF(zadani!$G$19=\"ano\",'Fire Devc D'!$S$87,\"\")","v":""}," "," "," ",{"$f":"IF(zadani!$G$19=\"ano\",'Fire Devc D'!$U$87,\"\")","v":""}," "]
[null,{"$f":"IF(zadani!$G$19=\"ano\",'Fire Devc D'!$S$88,\"\")","v":""}," "," "," ",{"$f":"IF(zadani!$G$19=\"ano\",'Fire Devc D'!$U$88,\"\")","v":""}," "]
[null,{"$f":"IF(zadani!$G$19=\"ano\",'Fire Devc D'!$S$89,\"\")","v":""}," "," "," ",{"$f":"IF(zadani!$G$19=\"ano\",'Fire Devc D'!$U$89,\"\")","v":""}," "]
[null,{"$f":"IF(zadani!$G$19=\"ano\",'Fire Devc D'!$S$90,\"\")","v":""}," "," "," ",{"$f":"IF(zadani!$G$19=\"ano\",'Fire Devc D'!$U$90,\"\")","v":""}," "]
[null,{"$f":"IF(zadani!$G$19=\"ano\",'Fire Devc D'!$S$91,\"\")","v":""}," "," "," ",{"$f":"IF(zadani!$G$19=\"ano\",'Fire Devc D'!$U$91,\"\")","v":""}," "]
[null,{"$f":"IF(zadani!$G$19=\"ano\",'Fire Devc D'!$S$92,\"\")","v":""}," "," "," ",{"$f":"IF(zadani!$G$19=\"ano\",'Fire Devc D'!$U$92,\"\")","v":""}," "]
[null,{"$f":"IF(zadani!$G$19=\"ano\",'Fire Devc D'!$S$93,\"\")","v":""}," "," "," ",{"$f":"IF(zadani!$G$19=\"ano\",'Fire Devc D'!$U$93,\"\")","v":""}," "]
[null,{"$f":"IF(zadani!$G$19=\"ano\",'Fire Devc D'!$S$94,\"\")","v":""}," "," "," ",{"$f":"IF(zadani!$G$19=\"ano\",'Fire Devc D'!$U$94,\"\")","v":""}," "]
[null,{"$f":"IF(zadani!$G$19=\"ano\",'Fire Devc D'!$S$95,\"\")","v":""}," "," "," ",{"$f":"IF(zadani!$G$19=\"ano\",'Fire Devc D'!$U$95,\"\")","v":""}," "]
[null,{"$f":"IF(zadani!$G$19=\"ano\",'Fire Devc D'!$S$96,\"\")","v":""}," "," "," ",{"$f":"IF(zadani!$G$19=\"ano\",'Fire Devc D'!$U$96,\"\")","v":""}," "]
[null,{"$f":"IF(zadani!$G$19=\"ano\",'Fire Devc D'!$S$97,\"\")","v":""}," "," "," ",{"$f":"IF(zadani!$G$19=\"ano\",'Fire Devc D'!$U$97,\"\")","v":""}," "]
[null,{"$f":"IF(zadani!$G$19=\"ano\",'Fire Devc D'!$S$98,\"\")","v":""}," "," "," ",{"$f":"IF(zadani!$G$19=\"ano\",'Fire Devc D'!$U$98,\"\")","v":""}," "]
[null,{"$f":"IF(zadani!$G$19=\"ano\",'Fire Devc D'!$S$99,\"\")","v":""}," "," "," ",{"$f":"IF(zadani!$G$19=\"ano\",'Fire Devc D'!$U$99,\"\")","v":""}," "]
[null,{"$f":"IF(zadani!$G$19=\"ano\",'Fire Devc D'!$S$100,\"\")","v":""}," "," "," ",{"$f":"IF(zadani!$G$19=\"ano\",'Fire Devc D'!$U$100,\"\")","v":""}," "]
[null,{"$f":"IF(zadani!$G$19=\"ano\",'Fire Devc D'!$S$101,\"\")","v":""}," "," "," ",{"$f":"IF(zadani!$G$19=\"ano\",'Fire Devc D'!$U$101,\"\")","v":""}," "]
[null,{"$f":"IF(zadani!$G$19=\"ano\",'Fire Devc D'!$S$102,\"\")","v":""}," "," "," ",{"$f":"IF(zadani!$G$19=\"ano\",'Fire Devc D'!$U$102,\"\")","v":""}," "]
[null,{"$f":"IF(zadani!$G$19=\"ano\",'Fire Devc D'!$S$103,\"\")","v":""}," "," "," ",{"$f":"IF(zadani!$G$19=\"ano\",'Fire Devc D'!$U$103,\"\")","v":""}," "]
[null,{"$f":"IF(zadani!$G$19=\"ano\",'Fire Devc D'!$S$104,\"\")","v":""}," "," "," ",{"$f":"IF(zadani!$G$19=\"ano\",'Fire Devc D'!$U$104,\"\")","v":""}," "]
[null,{"$f":"IF(zadani!$G$19=\"ano\",'Fire Devc D'!$S$105,\"\")","v":""}," "," "," ",{"$f":"IF(zadani!$G$19=\"ano\",'Fire Devc D'!$U$105,\"\")","v":""}," "]
[null,{"$f":"IF(zadani!$G$19=\"ano\",'Fire Devc D'!$S$106,\"\")","v":""}," "," "," ",{"$f":"IF(zadani!$G$19=\"ano\",'Fire Devc D'!$U$106,\"\")","v":""}," "]
[null,{"$f":"IF(zadani!$G$19=\"ano\",'Fire Devc D'!$T$27,\"\")","v":""}," "," "," ",{"$f":"IF(zadani!$G$19=\"ano\",'Fire Devc D'!$V$27,\"\")","v":""}," "]
[null,{"$f":"IF(zadani!$G$19=\"ano\",'Fire Devc D'!$T$28,\"\")","v":""}," "," "," ",{"$f":"IF(zadani!$G$19=\"ano\",'Fire Devc D'!$V$28,\"\")","v":""}," "]
[null,{"$f":"IF(zadani!$G$19=\"ano\",'Fire Devc D'!$T$29,\"\")","v":""}," "," "," ",{"$f":"IF(zadani!$G$19=\"ano\",'Fire Devc D'!$V$29,\"\")","v":""}," "]
[null,{"$f":"IF(zadani!$G$19=\"ano\",'Fire Devc D'!$T$30,\"\")","v":""}," "," "," ",{"$f":"IF(zadani!$G$19=\"ano\",'Fire Devc D'!$V$30,\"\")","v":""}," "]
[null,{"$f":"IF(zadani!$G$19=\"ano\",'Fire Devc D'!$T$31,\"\")","v":""}," "," "," ",{"$f":"IF(zadani!$G$19=\"ano\",'Fire Devc D'!$V$31,\"\")","v":""}," "]
[null,{"$f":"IF(zadani!$G$19=\"ano\",'Fire Devc D'!$T$32,\"\")","v":""}," "," "," ",{"$f":"IF(zadani!$G$19=\"ano\",'Fire Devc D'!$V$32,\"\")","v":""}," "]
[null,{"$f":"IF(zadani!$G$19=\"ano\",'Fire Devc D'!$T$33,\"\")","v":""}," "," "," ",{"$f":"IF(zadani!$G$19=\"ano\",'Fire Devc D'!$V$33,\"\")","v":""}," "]
[null,{"$f":"IF(zadani!$G$19=\"ano\",'Fire Devc D'!$T$34,\"\")","v":""}," "," "," ",{"$f":"IF(zadani!$G$19=\"ano\",'Fire Devc D'!$V$34,\"\")","v":""}," "]
[null,{"$f":"IF(zadani!$G$19=\"ano\",'Fire Devc D'!$T$35,\"\")","v":""}," "," "," ",{"$f":"IF(zadani!$G$19=\"ano\",'Fire Devc D'!$V$35,\"\")","v":""}," "]
[null,{"$f":"IF(zadani!$G$19=\"ano\",'Fire Devc D'!$T$36,\"\")","v":""}," "," "," ",{"$f":"IF(zadani!$G$19=\"ano\",'Fire Devc D'!$V$36,\"\")","v":""}," "]
[null,{"$f":"IF(zadani!$G$19=\"ano\",'Fire Devc D'!$T$37,\"\")","v":""}," "," "," ",{"$f":"IF(zadani!$G$19=\"ano\",'Fire Devc D'!$V$37,\"\")","v":""}," "]
[null,{"$f":"IF(zadani!$G$19=\"ano\",'Fire Devc D'!$T$38,\"\")","v":""}," "," "," ",{"$f":"IF(zadani!$G$19=\"ano\",'Fire Devc D'!$V$38,\"\")","v":""}," "]
[null,{"$f":"IF(zadani!$G$19=\"ano\",'Fire Devc D'!$T$39,\"\")","v":""}," ",{"$f":"IF(OR(zadani!$D$20=\"ano\",zadani!$G$19=\"ano\"),Tabl!K43,\"\")","v":""}," ",{"$f":"IF(zadani!$G$19=\"ano\",'Fire Devc D'!$V$39,\"\")","v":""}," "]
[null,{"$f":"IF(zadani!$G$19=\"ano\",'Fire Devc D'!$T$40,\"\")","v":""}," ",{"$f":"IF(OR(zadani!$D$20=\"ano\",zadani!$G$19=\"ano\"),Tabl!K44,\"\")","v":""}," ",{"$f":"IF(zadani!$G$19=\"ano\",'Fire Devc D'!$V$40,\"\")","v":""}," "]
[null,{"$f":"IF(zadani!$G$19=\"ano\",'Fire Devc D'!$T$41,\"\")","v":""}," ",{"$f":"IF(OR(zadani!$D$20=\"ano\",zadani!$G$19=\"ano\"),Tabl!K45,\"\")","v":""}," ",{"$f":"IF(zadani!$G$19=\"ano\",'Fire Devc D'!$V$41,\"\")","v":""}," "]
[null,{"$f":"IF(zadani!$G$19=\"ano\",'Fire Devc D'!$T$42,\"\")","v":""}," ",{"$f":"IF(OR(zadani!$D$20=\"ano\",zadani!$G$19=\"ano\"),Tabl!K46,\"\")","v":""}," ",{"$f":"IF(zadani!$G$19=\"ano\",'Fire Devc D'!$V$42,\"\")","v":""}," "]
[null,{"$f":"IF(zadani!$G$19=\"ano\",'Fire Devc D'!$T$43,\"\")","v":""}," ",{"$f":"IF(OR(zadani!$D$20=\"ano\",zadani!$G$19=\"ano\"),Tabl!K47,\"\")","v":""}," ",{"$f":"IF(zadani!$G$19=\"ano\",'Fire Devc D'!$V$43,\"\")","v":""}," "]
[null,{"$f":"IF(zadani!$G$19=\"ano\",'Fire Devc D'!$T$44,\"\")","v":""}," ",{"$f":"IF(OR(zadani!$D$20=\"ano\",zadani!$G$19=\"ano\"),Tabl!K48,\"\")","v":""}," ",{"$f":"IF(zadani!$G$19=\"ano\",'Fire Devc D'!$V$44,\"\")","v":""}," "]
[null,{"$f":"IF(zadani!$G$19=\"ano\",'Fire Devc D'!$T$45,\"\")","v":""}," ",{"$f":"IF(OR(zadani!$D$20=\"ano\",zadani!$G$19=\"ano\"),Tabl!K49,\"\")","v":""}," ",{"$f":"IF(zadani!$G$19=\"ano\",'Fire Devc D'!$V$45,\"\")","v":""}," "]
[null,{"$f":"IF(zadani!$G$19=\"ano\",'Fire Devc D'!$T$46,\"\")","v":""}," ",{"$f":"IF(OR(zadani!$D$20=\"ano\",zadani!$G$19=\"ano\"),Tabl!K50,\"\")","v":""}," ",{"$f":"IF(zadani!$G$19=\"ano\",'Fire Devc D'!$V$46,\"\")","v":""}," "]
[null,{"$f":"IF(zadani!$G$19=\"ano\",'Fire Devc D'!$T$47,\"\")","v":""}," ",{"$f":"IF(OR(zadani!$D$20=\"ano\",zadani!$G$19=\"ano\"),Tabl!K51,\"\")","v":""}," ",{"$f":"IF(zadani!$G$19=\"ano\",'Fire Devc D'!$V$47,\"\")","v":""}," "]
[null,{"$f":"IF(zadani!$G$19=\"ano\",'Fire Devc D'!$T$48,\"\")","v":""}," ",{"$f":"IF(OR(zadani!$D$20=\"ano\",zadani!$G$19=\"ano\"),Tabl!K52,\"\")","v":""}," ",{"$f":"IF(zadani!$G$19=\"ano\",'Fire Devc D'!$V$48,\"\")","v":""}," "]
[null,{"$f":"IF(zadani!$G$19=\"ano\",'Fire Devc D'!$T$49,\"\")","v":""}," ",{"$f":"IF(OR(zadani!$D$20=\"ano\",zadani!$G$19=\"ano\"),Tabl!K53,\"\")","v":""}," ",{"$f":"IF(zadani!$G$19=\"ano\",'Fire Devc D'!$V$49,\"\")","v":""}," "]
[null,{"$f":"IF(zadani!$G$19=\"ano\",'Fire Devc D'!$T$50,\"\")","v":""}," ",{"$f":"IF(OR(zadani!$D$20=\"ano\",zadani!$G$19=\"ano\"),Tabl!K54,\"\")","v":""}," ",{"$f":"IF(zadani!$G$19=\"ano\",'Fire Devc D'!$V$50,\"\")","v":""}," "]
[null,{"$f":"IF(zadani!$G$19=\"ano\",'Fire Devc D'!$T$51,\"\")","v":""}," ",{"$f":"IF(OR(zadani!$D$20=\"ano\",zadani!$G$19=\"ano\"),Tabl!K55,\"\")","v":""}," ",{"$f":"IF(zadani!$G$19=\"ano\",'Fire Devc D'!$V$51,\"\")","v":""}," "]
[null,{"$f":"IF(zadani!$G$19=\"ano\",'Fire Devc D'!$T$52,\"\")","v":""}," ",{"$f":"IF(OR(zadani!$D$20=\"ano\",zadani!$G$19=\"ano\"),Tabl!K56,\"\")","v":""}," ",{"$f":"IF(zadani!$G$19=\"ano\",'Fire Devc D'!$V$52,\"\")","v":""}," "]
[null,{"$f":"IF(zadani!$G$19=\"ano\",'Fire Devc D'!$T$53,\"\")","v":""}," ",{"$f":"IF(OR(zadani!$D$20=\"ano\",zadani!$G$19=\"ano\"),Tabl!K57,\"\")","v":""}," ",{"$f":"IF(zadani!$G$19=\"ano\",'Fire Devc D'!$V$53,\"\")","v":""}," "]
[null,{"$f":"IF(zadani!$G$19=\"ano\",'Fire Devc D'!$T$54,\"\")","v":""}," ",{"$f":"IF(OR(zadani!$D$20=\"ano\",zadani!$G$19=\"ano\"),Tabl!K58,\"\")","v":""}," ",{"$f":"IF(zadani!$G$19=\"ano\",'Fire Devc D'!$V$54,\"\")","v":""}," "]
[null,{"$f":"IF(zadani!$G$19=\"ano\",'Fire Devc D'!$T$55,\"\")","v":""}," ",{"$f":"IF(OR(zadani!$D$20=\"ano\",zadani!$G$19=\"ano\"),Tabl!K59,\"\")","v":""}," ",{"$f":"IF(zadani!$G$19=\"ano\",'Fire Devc D'!$V$55,\"\")","v":""}," "]
[null,{"$f":"IF(zadani!$G$19=\"ano\",'Fire Devc D'!$T$56,\"\")","v":""}," ",{"$f":"IF(OR(zadani!$D$20=\"ano\",zadani!$G$19=\"ano\"),Tabl!K60,\"\")","v":""}," ",{"$f":"IF(zadani!$G$19=\"ano\",'Fire Devc D'!$V$56,\"\")","v":""}," "]
[null,{"$f":"IF(zadani!$G$19=\"ano\",'Fire Devc D'!$T$57,\"\")","v":""}," ",{"$f":"IF(OR(zadani!$D$20=\"ano\",zadani!$G$19=\"ano\"),Tabl!K61,\"\")","v":""}," ",{"$f":"IF(zadani!$G$19=\"ano\",'Fire Devc D'!$V$57,\"\")","v":""}," "]
[null,{"$f":"IF(zadani!$G$19=\"ano\",'Fire Devc D'!$T$58,\"\")","v":""}," ",{"$f":"IF(OR(zadani!$D$20=\"ano\",zadani!$G$19=\"ano\"),Tabl!K62,\"\")","v":""}," ",{"$f":"IF(zadani!$G$19=\"ano\",'Fire Devc D'!$V$58,\"\")","v":""}," "]
[null,{"$f":"IF(zadani!$G$19=\"ano\",'Fire Devc D'!$T$59,\"\")","v":""}," ",{"$f":"IF(OR(zadani!$D$20=\"ano\",zadani!$G$19=\"ano\"),Tabl!K63,\"\")","v":""}," ",{"$f":"IF(zadani!$G$19=\"ano\",'Fire Devc D'!$V$59,\"\")","v":""}," "]
[null,{"$f":"IF(zadani!$G$19=\"ano\",'Fire Devc D'!$T$60,\"\")","v":""}," ",{"$f":"IF(OR(zadani!$D$20=\"ano\",zadani!$G$19=\"ano\"),Tabl!K64,\"\")","v":""}," ",{"$f":"IF(zadani!$G$19=\"ano\",'Fire Devc D'!$V$60,\"\")","v":""}," "]
[null,{"$f":"IF(zadani!$G$19=\"ano\",'Fire Devc D'!$T$61,\"\")","v":""}," ",{"$f":"IF(OR(zadani!$D$20=\"ano\",zadani!$G$19=\"ano\"),Tabl!K65,\"\")","v":""}," ",{"$f":"IF(zadani!$G$19=\"ano\",'Fire Devc D'!$V$61,\"\")","v":""}," "]
[null,{"$f":"IF(zadani!$G$19=\"ano\",'Fire Devc D'!$T$62,\"\")","v":""}," ",{"$f":"IF(OR(zadani!$D$20=\"ano\",zadani!$G$19=\"ano\"),Tabl!K66,\"\")","v":""}," ",{"$f":"IF(zadani!$G$19=\"ano\",'Fire Devc D'!$V$62,\"\")","v":""}," "]
[null,{"$f":"IF(zadani!$G$19=\"ano\",'Fire Devc D'!$T$63,\"\")","v":""}," ",{"$f":"IF(OR(zadani!$D$20=\"ano\",zadani!$G$19=\"ano\"),Tabl!K67,\"\")","v":""}," ",{"$f":"IF(zadani!$G$19=\"ano\",'Fire Devc D'!$V$63,\"\")","v":""}," "]
[null,{"$f":"IF(zadani!$G$19=\"ano\",'Fire Devc D'!$T$64,\"\")","v":""}," ",{"$f":"IF(OR(zadani!$D$20=\"ano\",zadani!$G$19=\"ano\"),Tabl!K68,\"\")","v":""}," ",{"$f":"IF(zadani!$G$19=\"ano\",'Fire Devc D'!$V$64,\"\")","v":""}," "]
[null,{"$f":"IF(zadani!$G$19=\"ano\",'Fire Devc D'!$T$65,\"\")","v":""}," ",{"$f":"IF(OR(zadani!$D$20=\"ano\",zadani!$G$19=\"ano\"),Tabl!K69,\"\")","v":""}," ",{"$f":"IF(zadani!$G$19=\"ano\",'Fire Devc D'!$V$65,\"\")","v":""}," "]
[null,{"$f":"IF(zadani!$G$19=\"ano\",'Fire Devc D'!$T$66,\"\")","v":""}," ",{"$f":"IF(OR(zadani!$D$20=\"ano\",zadani!$G$19=\"ano\"),Tabl!K70,\"\")","v":""}," ",{"$f":"IF(zadani!$G$19=\"ano\",'Fire Devc D'!$V$66,\"\")","v":""}," "]
[null,{"$f":"IF(zadani!$G$19=\"ano\",'Fire Devc D'!$T$67,\"\")","v":""}," ",{"$f":"IF(OR(zadani!$D$20=\"ano\",zadani!$G$19=\"ano\"),Tabl!K71,\"\")","v":""}," ",{"$f":"IF(zadani!$G$19=\"ano\",'Fire Devc D'!$V$67,\"\")","v":""}," "]
[null,{"$f":"IF(zadani!$G$19=\"ano\",'Fire Devc D'!$T$68,\"\")","v":""}," ",{"$f":"IF(OR(zadani!$D$20=\"ano\",zadani!$G$19=\"ano\"),Tabl!K72,\"\")","v":""}," ",{"$f":"IF(zadani!$G$19=\"ano\",'Fire Devc D'!$V$68,\"\")","v":""}," "]
[null,{"$f":"IF(zadani!$G$19=\"ano\",'Fire Devc D'!$T$69,\"\")","v":""}," ",{"$f":"IF(OR(zadani!$D$20=\"ano\",zadani!$G$19=\"ano\"),Tabl!K73,\"\")","v":""}," ",{"$f":"IF(zadani!$G$19=\"ano\",'Fire Devc D'!$V$69,\"\")","v":""}," "]
[null,{"$f":"IF(zadani!$G$19=\"ano\",'Fire Devc D'!$T$70,\"\")","v":""}," ",{"$f":"IF(OR(zadani!$D$20=\"ano\",zadani!$G$19=\"ano\"),Tabl!K74,\"\")","v":""}," ",{"$f":"IF(zadani!$G$19=\"ano\",'Fire Devc D'!$V$70,\"\")","v":""}," "]
[null,{"$f":"IF(zadani!$G$19=\"ano\",'Fire Devc D'!$T$71,\"\")","v":""}," ",{"$f":"IF(OR(zadani!$D$20=\"ano\",zadani!$G$19=\"ano\"),Tabl!K75,\"\")","v":""}," ",{"$f":"IF(zadani!$G$19=\"ano\",'Fire Devc D'!$V$71,\"\")","v":""}," "]
[null,{"$f":"IF(zadani!$G$19=\"ano\",'Fire Devc D'!$T$72,\"\")","v":""}," ",{"$f":"IF(OR(zadani!$D$20=\"ano\",zadani!$G$19=\"ano\"),Tabl!K76,\"\")","v":""}," ",{"$f":"IF(zadani!$G$19=\"ano\",'Fire Devc D'!$V$72,\"\")","v":""}," "]
[null,{"$f":"IF(zadani!$G$19=\"ano\",'Fire Devc D'!$T$73,\"\")","v":""}," ",{"$f":"IF(OR(zadani!$D$20=\"ano\",zadani!$G$19=\"ano\"),Tabl!K77,\"\")","v":""}," ",{"$f":"IF(zadani!$G$19=\"ano\",'Fire Devc D'!$V$73,\"\")","v":""}," "]
[null,{"$f":"IF(zadani!$G$19=\"ano\",'Fire Devc D'!$T$74,\"\")","v":""}," ",{"$f":"IF(OR(zadani!$D$20=\"ano\",zadani!$G$19=\"ano\"),Tabl!K78,\"\")","v":""}," ",{"$f":"IF(zadani!$G$19=\"ano\",'Fire Devc D'!$V$74,\"\")","v":""}," "]
[null,{"$f":"IF(zadani!$G$19=\"ano\",'Fire Devc D'!$T$75,\"\")","v":""}," ",{"$f":"IF(OR(zadani!$D$20=\"ano\",zadani!$G$19=\"ano\"),Tabl!K79,\"\")","v":""}," ",{"$f":"IF(zadani!$G$19=\"ano\",'Fire Devc D'!$V$75,\"\")","v":""}," "]
[null,{"$f":"IF(zadani!$G$19=\"ano\",'Fire Devc D'!$T$76,\"\")","v":""}," ",{"$f":"IF(OR(zadani!$D$20=\"ano\",zadani!$G$19=\"ano\"),Tabl!K80,\"\")","v":""}," ",{"$f":"IF(zadani!$G$19=\"ano\",'Fire Devc D'!$V$76,\"\")","v":""}," "]
[null,{"$f":"IF(zadani!$G$19=\"ano\",'Fire Devc D'!$T$77,\"\")","v":""}," ",{"$f":"IF(OR(zadani!$D$20=\"ano\",zadani!$G$19=\"ano\"),Tabl!K81,\"\")","v":""}," ",{"$f":"IF(zadani!$G$19=\"ano\",'Fire Devc D'!$V$77,\"\")","v":""}," "]
[null,{"$f":"IF(zadani!$G$19=\"ano\",'Fire Devc D'!$T$78,\"\")","v":""}," ",{"$f":"IF(OR(zadani!$D$20=\"ano\",zadani!$G$19=\"ano\"),Tabl!K82,\"\")","v":""}," ",{"$f":"IF(zadani!$G$19=\"ano\",'Fire Devc D'!$V$78,\"\")","v":""}," "]
[null,{"$f":"IF(zadani!$G$19=\"ano\",'Fire Devc D'!$T$79,\"\")","v":""}," ",{"$f":"IF(OR(zadani!$D$20=\"ano\",zadani!$G$19=\"ano\"),Tabl!K83,\"\")","v":""}," ",{"$f":"IF(zadani!$G$19=\"ano\",'Fire Devc D'!$V$79,\"\")","v":""}," "]
[null,{"$f":"IF(zadani!$G$19=\"ano\",'Fire Devc D'!$T$80,\"\")","v":""}," ",{"$f":"IF(OR(zadani!$D$20=\"ano\",zadani!$G$19=\"ano\"),Tabl!K84,\"\")","v":""}," ",{"$f":"IF(zadani!$G$19=\"ano\",'Fire Devc D'!$V$80,\"\")","v":""}," "]
[null,{"$f":"IF(zadani!$G$19=\"ano\",'Fire Devc D'!$T$81,\"\")","v":""}," ",{"$f":"IF(OR(zadani!$D$20=\"ano\",zadani!$G$19=\"ano\"),Tabl!K85,\"\")","v":""}," ",{"$f":"IF(zadani!$G$19=\"ano\",'Fire Devc D'!$V$81,\"\")","v":""}," "]
[null,{"$f":"IF(zadani!$G$19=\"ano\",'Fire Devc D'!$T$82,\"\")","v":""}," ",{"$f":"IF(OR(zadani!$D$20=\"ano\",zadani!$G$19=\"ano\"),Tabl!K86,\"\")","v":""}," ",{"$f":"IF(zadani!$G$19=\"ano\",'Fire Devc D'!$V$82,\"\")","v":""}," "]
[null,{"$f":"IF(zadani!$G$19=\"ano\",'Fire Devc D'!$T$83,\"\")","v":""}," ",{"$f":"IF(OR(zadani!$D$20=\"ano\",zadani!$G$19=\"ano\"),Tabl!K87,\"\")","v":""}," ",{"$f":"IF(zadani!$G$19=\"ano\",'Fire Devc D'!$V$83,\"\")","v":""}," "]
[null,{"$f":"IF(zadani!$G$19=\"ano\",'Fire Devc D'!$T$84,\"\")","v":""}," ",{"$f":"IF(OR(zadani!$D$20=\"ano\",zadani!$G$19=\"ano\"),Tabl!K88,\"\")","v":""}," ",{"$f":"IF(zadani!$G$19=\"ano\",'Fire Devc D'!$V$84,\"\")","v":""}," "]
[null,{"$f":"IF(zadani!$G$19=\"ano\",'Fire Devc D'!$T$85,\"\")","v":""}," ",{"$f":"IF(OR(zadani!$D$20=\"ano\",zadani!$G$19=\"ano\"),Tabl!K89,\"\")","v":""}," ",{"$f":"IF(zadani!$G$19=\"ano\",'Fire Devc D'!$V$85,\"\")","v":""}," "]
[null,{"$f":"IF(zadani!$G$19=\"ano\",'Fire Devc D'!$T$86,\"\")","v":""}," ",{"$f":"IF(OR(zadani!$D$20=\"ano\",zadani!$G$19=\"ano\"),Tabl!K90,\"\")","v":""}," ",{"$f":"IF(zadani!$G$19=\"ano\",'Fire Devc D'!$V$86,\"\")","v":""}," "]
[null,{"$f":"IF(zadani!$G$19=\"ano\",'Fire Devc D'!$T$87,\"\")","v":""}," ",{"$f":"IF(OR(zadani!$D$20=\"ano\",zadani!$G$19=\"ano\"),Tabl!K91,\"\")","v":""}," ",{"$f":"IF(zadani!$G$19=\"ano\",'Fire Devc D'!$V$87,\"\")","v":""}," "]
[null,{"$f":"IF(zadani!$G$19=\"ano\",'Fire Devc D'!$T$88,\"\")","v":""}," ",{"$f":"IF(OR(zadani!$D$20=\"ano\",zadani!$G$19=\"ano\"),Tabl!K92,\"\")","v":""}," ",{"$f":"IF(zadani!$G$19=\"ano\",'Fire Devc D'!$V$88,\"\")","v":""}," "]
[null,{"$f":"IF(zadani!$G$19=\"ano\",'Fire Devc D'!$T$89,\"\")","v":""}," ",{"$f":"IF(OR(zadani!$D$20=\"ano\",zadani!$G$19=\"ano\"),Tabl!K93,\"\")","v":""}," ",{"$f":"IF(zadani!$G$19=\"ano\",'Fire Devc D'!$V$89,\"\")","v":""}," "]
[null,{"$f":"IF(zadani!$G$19=\"ano\",'Fire Devc D'!$T$90,\"\")","v":""}," ",{"$f":"IF(OR(zadani!$D$20=\"ano\",zadani!$G$19=\"ano\"),Tabl!K94,\"\")","v":""}," ",{"$f":"IF(zadani!$G$19=\"ano\",'Fire Devc D'!$V$90,\"\")","v":""}," "]
[null,{"$f":"IF(zadani!$G$19=\"ano\",'Fire Devc D'!$T$91,\"\")","v":""}," ",{"$f":"IF(OR(zadani!$D$20=\"ano\",zadani!$G$19=\"ano\"),Tabl!K95,\"\")","v":""}," ",{"$f":"IF(zadani!$G$19=\"ano\",'Fire Devc D'!$V$91,\"\")","v":""}," "]
[null,{"$f":"IF(zadani!$G$19=\"ano\",'Fire Devc D'!$T$92,\"\")","v":""}," ",{"$f":"IF(OR(zadani!$D$20=\"ano\",zadani!$G$19=\"ano\"),Tabl!K96,\"\")","v":""}," ",{"$f":"IF(zadani!$G$19=\"ano\",'Fire Devc D'!$V$92,\"\")","v":""}," "]
[null,{"$f":"IF(zadani!$G$19=\"ano\",'Fire Devc D'!$T$93,\"\")","v":""}," ",{"$f":"IF(OR(zadani!$D$20=\"ano\",zadani!$G$19=\"ano\"),Tabl!K97,\"\")","v":""}," ",{"$f":"IF(zadani!$G$19=\"ano\",'Fire Devc D'!$V$93,\"\")","v":""}," "]
[null,{"$f":"IF(zadani!$G$19=\"ano\",'Fire Devc D'!$T$94,\"\")","v":""}," ",{"$f":"IF(OR(zadani!$D$20=\"ano\",zadani!$G$19=\"ano\"),Tabl!K98,\"\")","v":""}," ",{"$f":"IF(zadani!$G$19=\"ano\",'Fire Devc D'!$V$94,\"\")","v":""}," "]
[null,{"$f":"IF(zadani!$G$19=\"ano\",'Fire Devc D'!$T$95,\"\")","v":""}," ",{"$f":"IF(OR(zadani!$D$20=\"ano\",zadani!$G$19=\"ano\"),Tabl!K99,\"\")","v":""}," ",{"$f":"IF(zadani!$G$19=\"ano\",'Fire Devc D'!$V$95,\"\")","v":""}," "]
[null,{"$f":"IF(zadani!$G$19=\"ano\",'Fire Devc D'!$T$96,\"\")","v":""}," ",{"$f":"IF(OR(zadani!$D$20=\"ano\",zadani!$G$19=\"ano\"),Tabl!K100,\"\")","v":""}," ",{"$f":"IF(zadani!$G$19=\"ano\",'Fire Devc D'!$V$96,\"\")","v":""}," "]
[null,{"$f":"IF(zadani!$G$19=\"ano\",'Fire Devc D'!$T$97,\"\")","v":""}," ",{"$f":"IF(OR(zadani!$D$20=\"ano\",zadani!$G$19=\"ano\"),Tabl!K101,\"\")","v":""}," ",{"$f":"IF(zadani!$G$19=\"ano\",'Fire Devc D'!$V$97,\"\")","v":""}," "]
[null,{"$f":"IF(zadani!$G$19=\"ano\",'Fire Devc D'!$T$98,\"\")","v":""}," ",{"$f":"IF(OR(zadani!$D$20=\"ano\",zadani!$G$19=\"ano\"),Tabl!K102,\"\")","v":""}," ",{"$f":"IF(zadani!$G$19=\"ano\",'Fire Devc D'!$V$98,\"\")","v":""}," "]
[null,{"$f":"IF(zadani!$G$19=\"ano\",'Fire Devc D'!$T$99,\"\")","v":""}," ",{"$f":"IF(OR(zadani!$D$20=\"ano\",zadani!$G$19=\"ano\"),Tabl!K103,\"\")","v":""}," ",{"$f":"IF(zadani!$G$19=\"ano\",'Fire Devc D'!$V$99,\"\")","v":""}," "]
[null,{"$f":"IF(zadani!$G$19=\"ano\",'Fire Devc D'!$T$100,\"\")","v":""}," ",{"$f":"IF(OR(zadani!$D$20=\"ano\",zadani!$G$19=\"ano\"),Tabl!K104,\"\")","v":""}," ",{"$f":"IF(zadani!$G$19=\"ano\",'Fire Devc D'!$V$100,\"\")","v":""}," "]
[null,{"$f":"IF(zadani!$G$19=\"ano\",'Fire Devc D'!$T$101,\"\")","v":""}," ",{"$f":"IF(OR(zadani!$D$20=\"ano\",zadani!$G$19=\"ano\"),Tabl!K105,\"\")","v":""}," ",{"$f":"IF(zadani!$G$19=\"ano\",'Fire Devc D'!$V$101,\"\")","v":""}," "]
[null,{"$f":"IF(zadani!$G$19=\"ano\",'Fire Devc D'!$T$102,\"\")","v":""}," ",{"$f":"IF(OR(zadani!$D$20=\"ano\",zadani!$G$19=\"ano\"),Tabl!K106,\"\")","v":""}," ",{"$f":"IF(zadani!$G$19=\"ano\",'Fire Devc D'!$V$102,\"\")","v":""}," "]
[null,{"$f":"IF(zadani!$G$19=\"ano\",'Fire Devc D'!$T$103,\"\")","v":""}," ",{"$f":"IF(OR(zadani!$D$20=\"ano\",zadani!$G$19=\"ano\"),Tabl!K107,\"\")","v":""}," ",{"$f":"IF(zadani!$G$19=\"ano\",'Fire Devc D'!$V$103,\"\")","v":""}," "]
[null,{"$f":"IF(zadani!$G$19=\"ano\",'Fire Devc D'!$T$104,\"\")","v":""}," ",{"$f":"IF(OR(zadani!$D$20=\"ano\",zadani!$G$19=\"ano\"),Tabl!K108,\"\")","v":""}," ",{"$f":"IF(zadani!$G$19=\"ano\",'Fire Devc D'!$V$104,\"\")","v":""}," "]
[null,{"$f":"IF(zadani!$G$19=\"ano\",'Fire Devc D'!$T$105,\"\")","v":""}," ",{"$f":"IF(OR(zadani!$D$20=\"ano\",zadani!$G$19=\"ano\"),Tabl!K109,\"\")","v":""}," ",{"$f":"IF(zadani!$G$19=\"ano\",'Fire Devc D'!$V$105,\"\")","v":""}," "]
[null,{"$f":"IF(zadani!$G$19=\"ano\",'Fire Devc D'!$T$106,\"\")","v":""}," ",{"$f":"IF(OR(zadani!$D$20=\"ano\",zadani!$G$19=\"ano\"),Tabl!K110,\"\")","v":""}," ",{"$f":"IF(zadani!$G$19=\"ano\",'Fire Devc D'!$V$106,\"\")","v":""}," "]
[null,{"$f":"IF(zadani!$G$20=\"ano\",'Fire Devc E'!$S$57,\"\")","v":""}," ",{"$f":"IF(OR(zadani!$D$20=\"ano\",zadani!$G$19=\"ano\"),Tabl!K111,\"\")","v":""}," ",{"$f":"IF(zadani!$G$20=\"ano\",'Fire Devc E'!$T$57,\"\")","v":""}," "]
[null,{"$f":"IF(zadani!$G$20=\"ano\",'Fire Devc E'!$S$58,\"\")","v":""}," ",{"$f":"IF(OR(zadani!$D$20=\"ano\",zadani!$G$19=\"ano\"),Tabl!K112,\"\")","v":""}," ",{"$f":"IF(zadani!$G$20=\"ano\",'Fire Devc E'!$T$58,\"\")","v":""}," "]
[null,{"$f":"IF(zadani!$G$20=\"ano\",'Fire Devc E'!$S$59,\"\")","v":""}," ",{"$f":"IF(OR(zadani!$D$20=\"ano\",zadani!$G$19=\"ano\"),Tabl!K113,\"\")","v":""}," ",{"$f":"IF(zadani!$G$20=\"ano\",'Fire Devc E'!$T$59,\"\")","v":""}," "]
[null,{"$f":"IF(zadani!$G$20=\"ano\",'Fire Devc E'!$S$60,\"\")","v":""}," ",{"$f":"IF(OR(zadani!$D$20=\"ano\",zadani!$G$19=\"ano\"),Tabl!K114,\"\")","v":""}," ",{"$f":"IF(zadani!$G$20=\"ano\",'Fire Devc E'!$T$60,\"\")","v":""}," "]
[null,{"$f":"IF(zadani!$G$20=\"ano\",'Fire Devc E'!$S$61,\"\")","v":""}," ",{"$f":"IF(OR(zadani!$D$20=\"ano\",zadani!$G$19=\"ano\"),Tabl!K115,\"\")","v":""}," ",{"$f":"IF(zadani!$G$20=\"ano\",'Fire Devc E'!$T$61,\"\")","v":""}," "]
[null,{"$f":"IF(zadani!$G$20=\"ano\",'Fire Devc E'!$S$62,\"\")","v":""}," ",{"$f":"IF(OR(zadani!$D$20=\"ano\",zadani!$G$19=\"ano\"),Tabl!K116,\"\")","v":""}," ",{"$f":"IF(zadani!$G$20=\"ano\",'Fire Devc E'!$T$62,\"\")","v":""}," "]
[null,{"$f":"IF(zadani!$G$20=\"ano\",'Fire Devc E'!$S$63,\"\")","v":""}," ",{"$f":"IF(OR(zadani!$D$20=\"ano\",zadani!$G$19=\"ano\"),Tabl!K117,\"\")","v":""}," ",{"$f":"IF(zadani!$G$20=\"ano\",'Fire Devc E'!$T$63,\"\")","v":""}," "]
[null,{"$f":"IF(zadani!$G$20=\"ano\",'Fire Devc E'!$S$64,\"\")","v":""}," ",{"$f":"IF(OR(zadani!$D$20=\"ano\",zadani!$G$19=\"ano\"),Tabl!K118,\"\")","v":""}," ",{"$f":"IF(zadani!$G$20=\"ano\",'Fire Devc E'!$T$64,\"\")","v":""}," "]
[null,{"$f":"IF(zadani!$G$20=\"ano\",'Fire Devc E'!$S$65,\"\")","v":""}," ",{"$f":"IF(OR(zadani!$D$20=\"ano\",zadani!$G$19=\"ano\"),Tabl!K119,\"\")","v":""}," ",{"$f":"IF(zadani!$G$20=\"ano\",'Fire Devc E'!$T$65,\"\")","v":""}," "]
[null,{"$f":"IF(zadani!$G$20=\"ano\",'Fire Devc E'!$S$66,\"\")","v":""}," ",{"$f":"IF(OR(zadani!$D$20=\"ano\",zadani!$G$19=\"ano\"),Tabl!K120,\"\")","v":""}," ",{"$f":"IF(zadani!$G$20=\"ano\",'Fire Devc E'!$T$66,\"\")","v":""}," "]
[null,{"$f":"IF(zadani!$G$20=\"ano\",'Fire Devc E'!$S$67,\"\")","v":""}," ",{"$f":"IF(OR(zadani!$D$20=\"ano\",zadani!$G$19=\"ano\"),Tabl!K121,\"\")","v":""}," ",{"$f":"IF(zadani!$G$20=\"ano\",'Fire Devc E'!$T$67,\"\")","v":""}," "]
[null,{"$f":"IF(zadani!$G$20=\"ano\",'Fire Devc E'!$S$68,\"\")","v":""}," ",{"$f":"IF(OR(zadani!$D$20=\"ano\",zadani!$G$19=\"ano\"),Tabl!K122,\"\")","v":""}," ",{"$f":"IF(zadani!$G$20=\"ano\",'Fire Devc E'!$T$68,\"\")","v":""}," "]
[null,{"$f":"IF(zadani!$G$20=\"ano\",'Fire Devc E'!$S$69,\"\")","v":""}," ",{"$f":"IF(OR(zadani!$D$20=\"ano\",zadani!$G$19=\"ano\"),Tabl!K123,\"\")","v":""}," ",{"$f":"IF(zadani!$G$20=\"ano\",'Fire Devc E'!$T$69,\"\")","v":""}," "]
[null,{"$f":"IF(zadani!$G$20=\"ano\",'Fire Devc E'!$S$70,\"\")","v":""}," ",{"$f":"IF(OR(zadani!$D$20=\"ano\",zadani!$G$19=\"ano\"),Tabl!K124,\"\")","v":""}," ",{"$f":"IF(zadani!$G$20=\"ano\",'Fire Devc E'!$T$70,\"\")","v":""}," "]
[null,{"$f":"IF(zadani!$G$20=\"ano\",'Fire Devc E'!$S$71,\"\")","v":""}," ",{"$f":"IF(OR(zadani!$D$20=\"ano\",zadani!$G$19=\"ano\"),Tabl!K125,\"\")","v":""}," ",{"$f":"IF(zadani!$G$20=\"ano\",'Fire Devc E'!$T$71,\"\")","v":""}," "]
[null,{"$f":"IF(zadani!$G$20=\"ano\",'Fire Devc E'!$S$72,\"\")","v":""}," ",{"$f":"IF(OR(zadani!$D$20=\"ano\",zadani!$G$19=\"ano\"),Tabl!K126,\"\")","v":""}," ",{"$f":"IF(zadani!$G$20=\"ano\",'Fire Devc E'!$T$72,\"\")","v":""}," "]
[null,{"$f":"IF(zadani!$G$20=\"ano\",'Fire Devc E'!$S$73,\"\")","v":""}," ",{"$f":"IF(OR(zadani!$D$20=\"ano\",zadani!$G$19=\"ano\"),Tabl!K127,\"\")","v":""}," ",{"$f":"IF(zadani!$G$20=\"ano\",'Fire Devc E'!$T$73,\"\")","v":""}," "]
[null,{"$f":"IF(zadani!$G$20=\"ano\",'Fire Devc E'!$S$74,\"\")","v":""}," ",{"$f":"IF(OR(zadani!$D$20=\"ano\",zadani!$G$19=\"ano\"),Tabl!K128,\"\")","v":""}," ",{"$f":"IF(zadani!$G$20=\"ano\",'Fire Devc E'!$T$74,\"\")","v":""}," "]
[null,{"$f":"IF(zadani!$G$20=\"ano\",'Fire Devc E'!$S$75,\"\")","v":""}," ",{"$f":"IF(OR(zadani!$D$20=\"ano\",zadani!$G$19=\"ano\"),Tabl!K129,\"\")","v":""}," ",{"$f":"IF(zadani!$G$20=\"ano\",'Fire Devc E'!$T$75,\"\")","v":""}," "]
[null,{"$f":"IF(zadani!$G$20=\"ano\",'Fire Devc E'!$S$76,\"\")","v":""}," ",{"$f":"IF(OR(zadani!$D$20=\"ano\",zadani!$G$19=\"ano\"),Tabl!K130,\"\")","v":""}," ",{"$f":"IF(zadani!$G$20=\"ano\",'Fire Devc E'!$T$76,\"\")","v":""}," "]
[null,{"$f":"IF(zadani!$G$20=\"ano\",'Fire Devc E'!$S$77,\"\")","v":""}," ",{"$f":"IF(OR(zadani!$D$20=\"ano\",zadani!$G$19=\"ano\"),Tabl!K131,\"\")","v":""}," ",{"$f":"IF(zadani!$G$20=\"ano\",'Fire Devc E'!$T$77,\"\")","v":""}," "]
[null,{"$f":"IF(zadani!$G$20=\"ano\",'Fire Devc E'!$S$78,\"\")","v":""}," ",{"$f":"IF(OR(zadani!$D$20=\"ano\",zadani!$G$19=\"ano\"),Tabl!K132,\"\")","v":""}," ",{"$f":"IF(zadani!$G$20=\"ano\",'Fire Devc E'!$T$78,\"\")","v":""}," "]
[null,{"$f":"IF(zadani!$G$20=\"ano\",'Fire Devc E'!$S$79,\"\")","v":""}," ",{"$f":"IF(OR(zadani!$D$20=\"ano\",zadani!$G$19=\"ano\"),Tabl!K133,\"\")","v":""}," ",{"$f":"IF(zadani!$G$20=\"ano\",'Fire Devc E'!$T$79,\"\")","v":""}," "]
[null,{"$f":"IF(zadani!$G$20=\"ano\",'Fire Devc E'!$S$80,\"\")","v":""}," ",{"$f":"IF(OR(zadani!$D$20=\"ano\",zadani!$G$19=\"ano\"),Tabl!K134,\"\")","v":""}," ",{"$f":"IF(zadani!$G$20=\"ano\",'Fire Devc E'!$T$80,\"\")","v":""}," "]
[null,{"$f":"IF(zadani!$G$20=\"ano\",'Fire Devc E'!$S$81,\"\")","v":""}," ",{"$f":"IF(OR(zadani!$D$20=\"ano\",zadani!$G$19=\"ano\"),Tabl!K135,\"\")","v":""}," ",{"$f":"IF(zadani!$G$20=\"ano\",'Fire Devc E'!$T$81,\"\")","v":""}," "]
[null,{"$f":"IF(zadani!$G$20=\"ano\",'Fire Devc E'!$S$82,\"\")","v":""}," ",{"$f":"IF(OR(zadani!$D$20=\"ano\",zadani!$G$19=\"ano\"),Tabl!K136,\"\")","v":""}," ",{"$f":"IF(zadani!$G$20=\"ano\",'Fire Devc E'!$T$82,\"\")","v":""}," "]
[null,{"$f":"IF(zadani!$G$20=\"ano\",'Fire Devc E'!$S$83,\"\")","v":""}," ",{"$f":"IF(OR(zadani!$D$20=\"ano\",zadani!$G$19=\"ano\"),Tabl!K137,\"\")","v":""}," ",{"$f":"IF(zadani!$G$20=\"ano\",'Fire Devc E'!$T$83,\"\")","v":""}," "]
[null,{"$f":"IF(zadani!$G$20=\"ano\",'Fire Devc E'!$S$84,\"\")","v":""}," ",{"$f":"IF(OR(zadani!$D$20=\"ano\",zadani!$G$19=\"ano\"),Tabl!K138,\"\")","v":""}," ",{"$f":"IF(zadani!$G$20=\"ano\",'Fire Devc E'!$T$84,\"\")","v":""}," "]
[null,{"$f":"IF(zadani!$G$20=\"ano\",'Fire Devc E'!$S$85,\"\")","v":""}," ",{"$f":"IF(OR(zadani!$D$20=\"ano\",zadani!$G$19=\"ano\"),Tabl!K139,\"\")","v":""}," ",{"$f":"IF(zadani!$G$20=\"ano\",'Fire Devc E'!$T$85,\"\")","v":""}," "]
[null,{"$f":"IF(zadani!$G$20=\"ano\",'Fire Devc E'!$S$86,\"\")","v":""}," ",{"$f":"IF(OR(zadani!$D$20=\"ano\",zadani!$G$19=\"ano\"),Tabl!K140,\"\")","v":""}," ",{"$f":"IF(zadani!$G$20=\"ano\",'Fire Devc E'!$T$86,\"\")","v":""}," "]
[null,{"$f":"IF(zadani!$G$20=\"ano\",'Fire Devc E'!$S$87,\"\")","v":""}," ",{"$f":"IF(OR(zadani!$D$20=\"ano\",zadani!$G$19=\"ano\"),Tabl!K141,\"\")","v":""}," ",{"$f":"IF(zadani!$G$20=\"ano\",'Fire Devc E'!$T$87,\"\")","v":""}," "]
[null,{"$f":"IF(zadani!$G$20=\"ano\",'Fire Devc E'!$S$88,\"\")","v":""}," ",{"$f":"IF(OR(zadani!$D$20=\"ano\",zadani!$G$19=\"ano\"),Tabl!K142,\"\")","v":""}," ",{"$f":"IF(zadani!$G$20=\"ano\",'Fire Devc E'!$T$88,\"\")","v":""}," "]
[null,{"$f":"IF(zadani!$G$20=\"ano\",'Fire Devc E'!$S$89,\"\")","v":""}," ",{"$f":"IF(OR(zadani!$D$20=\"ano\",zadani!$G$19=\"ano\"),Tabl!K143,\"\")","v":""}," ",{"$f":"IF(zadani!$G$20=\"ano\",'Fire Devc E'!$T$89,\"\")","v":""}," "]
[null,{"$f":"IF(zadani!$G$20=\"ano\",'Fire Devc E'!$S$90,\"\")","v":""}," ",{"$f":"IF(OR(zadani!$D$20=\"ano\",zadani!$G$19=\"ano\"),Tabl!K144,\"\")","v":""}," ",{"$f":"IF(zadani!$G$20=\"ano\",'Fire Devc E'!$T$90,\"\")","v":""}," "]
[null,{"$f":"IF(zadani!$G$20=\"ano\",'Fire Devc E'!$S$91,\"\")","v":""}," ",{"$f":"IF(OR(zadani!$D$20=\"ano\",zadani!$G$19=\"ano\"),Tabl!K145,\"\")","v":""}," ",{"$f":"IF(zadani!$G$20=\"ano\",'Fire Devc E'!$T$91,\"\")","v":""}," "]
[null,{"$f":"IF(zadani!$G$20=\"ano\",'Fire Devc E'!$S$92,\"\")","v":""}," ",{"$f":"IF(OR(zadani!$D$20=\"ano\",zadani!$G$19=\"ano\"),Tabl!K146,\"\")","v":""}," ",{"$f":"IF(zadani!$G$20=\"ano\",'Fire Devc E'!$T$92,\"\")","v":""}," "]
[null,{"$f":"IF(zadani!$G$20=\"ano\",'Fire Devc E'!$S$93,\"\")","v":""}," ",{"$f":"IF(OR(zadani!$D$20=\"ano\",zadani!$G$19=\"ano\"),Tabl!K147,\"\")","v":""}," ",{"$f":"IF(zadani!$G$20=\"ano\",'Fire Devc E'!$T$93,\"\")","v":""}," "]
[null,{"$f":"IF(zadani!$G$20=\"ano\",'Fire Devc E'!$S$94,\"\")","v":""}," ",{"$f":"IF(OR(zadani!$D$20=\"ano\",zadani!$G$19=\"ano\"),Tabl!K148,\"\")","v":""}," ",{"$f":"IF(zadani!$G$20=\"ano\",'Fire Devc E'!$T$94,\"\")","v":""}," "]
[null,{"$f":"IF(zadani!$G$20=\"ano\",'Fire Devc E'!$S$95,\"\")","v":""}," ",{"$f":"IF(OR(zadani!$D$20=\"ano\",zadani!$G$19=\"ano\"),Tabl!K149,\"\")","v":""}," ",{"$f":"IF(zadani!$G$20=\"ano\",'Fire Devc E'!$T$95,\"\")","v":""}," "]
[null,{"$f":"IF(zadani!$G$20=\"ano\",'Fire Devc E'!$S$96,\"\")","v":""}," ",{"$f":"IF(OR(zadani!$D$20=\"ano\",zadani!$G$19=\"ano\"),Tabl!K150,\"\")","v":""}," ",{"$f":"IF(zadani!$G$20=\"ano\",'Fire Devc E'!$T$96,\"\")","v":""}," "]
[null,{"$f":"IF(zadani!$G$20=\"ano\",'Fire Devc E'!$S$97,\"\")","v":""}," ",{"$f":"IF(OR(zadani!$D$20=\"ano\",zadani!$G$19=\"ano\"),Tabl!K151,\"\")","v":""}," ",{"$f":"IF(zadani!$G$20=\"ano\",'Fire Devc E'!$T$97,\"\")","v":""}," "]
[null,{"$f":"IF(zadani!$G$20=\"ano\",'Fire Devc E'!$S$98,\"\")","v":""}," ",{"$f":"IF(OR(zadani!$D$20=\"ano\",zadani!$G$19=\"ano\"),Tabl!K152,\"\")","v":""}," ",{"$f":"IF(zadani!$G$20=\"ano\",'Fire Devc E'!$T$98,\"\")","v":""}," "]
[null,{"$f":"IF(zadani!$G$20=\"ano\",'Fire Devc E'!$S$99,\"\")","v":""}," ",{"$f":"IF(OR(zadani!$D$20=\"ano\",zadani!$G$19=\"ano\"),Tabl!K153,\"\")","v":""}," ",{"$f":"IF(zadani!$G$20=\"ano\",'Fire Devc E'!$T$99,\"\")","v":""}," "]
[null,{"$f":"IF(zadani!$G$20=\"ano\",'Fire Devc E'!$S$100,\"\")","v":""}," ",{"$f":"IF(OR(zadani!$D$20=\"ano\",zadani!$G$19=\"ano\"),Tabl!K154,\"\")","v":""}," ",{"$f":"IF(zadani!$G$20=\"ano\",'Fire Devc E'!$T$100,\"\")","v":""}," "]
[null,{"$f":"IF(zadani!$G$20=\"ano\",'Fire Devc E'!$S$101,\"\")","v":""}," ",{"$f":"IF(OR(zadani!$D$20=\"ano\",zadani!$G$19=\"ano\"),Tabl!K155,\"\")","v":""}," ",{"$f":"IF(zadani!$G$20=\"ano\",'Fire Devc E'!$T$101,\"\")","v":""}," "]
[null,{"$f":"IF(zadani!$G$20=\"ano\",'Fire Devc E'!$S$102,\"\")","v":""}," ",{"$f":"IF(OR(zadani!$D$20=\"ano\",zadani!$G$19=\"ano\"),Tabl!K156,\"\")","v":""}," ",{"$f":"IF(zadani!$G$20=\"ano\",'Fire Devc E'!$T$102,\"\")","v":""}," "]
[null,{"$f":"IF(zadani!$G$20=\"ano\",'Fire Devc E'!$S$103,\"\")","v":""}," ",{"$f":"IF(OR(zadani!$D$20=\"ano\",zadani!$G$19=\"ano\"),Tabl!K157,\"\")","v":""}," ",{"$f":"IF(zadani!$G$20=\"ano\",'Fire Devc E'!$T$103,\"\")","v":""}," "]
[null,{"$f":"IF(zadani!$G$20=\"ano\",'Fire Devc E'!$S$104,\"\")","v":""}," ",{"$f":"IF(OR(zadani!$D$20=\"ano\",zadani!$G$19=\"ano\"),Tabl!K158,\"\")","v":""}," ",{"$f":"IF(zadani!$G$20=\"ano\",'Fire Devc E'!$T$104,\"\")","v":""}," "]
[null,{"$f":"IF(zadani!$G$20=\"ano\",'Fire Devc E'!$S$105,\"\")","v":""}," ",{"$f":"IF(OR(zadani!$D$20=\"ano\",zadani!$G$19=\"ano\"),Tabl!K159,\"\")","v":""}," ",{"$f":"IF(zadani!$G$20=\"ano\",'Fire Devc E'!$T$105,\"\")","v":""}," "]
[null,{"$f":"IF(zadani!$G$20=\"ano\",'Fire Devc E'!$S$106,\"\")","v":""}," ",{"$f":"IF(OR(zadani!$D$20=\"ano\",zadani!$G$19=\"ano\"),Tabl!K160,\"\")","v":""}," ",{"$f":"IF(zadani!$G$20=\"ano\",'Fire Devc E'!$T$106,\"\")","v":""}," "]
[null,{"$f":"IF(zadani!$G$21=\"ano\",'Fire Devc F'!$S$57,\"\")","v":""}," ",{"$f":"IF(OR(zadani!$D$20=\"ano\",zadani!$G$19=\"ano\"),Tabl!K161,\"\")","v":""}," ",{"$f":"IF(zadani!$G$21=\"ano\",'Fire Devc F'!$T$57,\"\")","v":""}," "]
[null,{"$f":"IF(zadani!$G$21=\"ano\",'Fire Devc F'!$S$58,\"\")","v":""}," ",{"$f":"IF(OR(zadani!$D$20=\"ano\",zadani!$G$19=\"ano\"),Tabl!K162,\"\")","v":""}," ",{"$f":"IF(zadani!$G$21=\"ano\",'Fire Devc F'!$T$58,\"\")","v":""}," "]
[null,{"$f":"IF(zadani!$G$21=\"ano\",'Fire Devc F'!$S$59,\"\")","v":""}," ",{"$f":"IF(OR(zadani!$D$20=\"ano\",zadani!$G$19=\"ano\"),Tabl!K163,\"\")","v":""}," ",{"$f":"IF(zadani!$G$21=\"ano\",'Fire Devc F'!$T$59,\"\")","v":""}," "]
[null,{"$f":"IF(zadani!$G$21=\"ano\",'Fire Devc F'!$S$60,\"\")","v":""}," ",{"$f":"IF(OR(zadani!$D$20=\"ano\",zadani!$G$19=\"ano\"),Tabl!K164,\"\")","v":""}," ",{"$f":"IF(zadani!$G$21=\"ano\",'Fire Devc F'!$T$60,\"\")","v":""}," "]
[null,{"$f":"IF(zadani!$G$21=\"ano\",'Fire Devc F'!$S$61,\"\")","v":""}," ",{"$f":"IF(OR(zadani!$D$20=\"ano\",zadani!$G$19=\"ano\"),Tabl!K165,\"\")","v":""}," ",{"$f":"IF(zadani!$G$21=\"ano\",'Fire Devc F'!$T$61,\"\")","v":""}," "]
[null,{"$f":"IF(zadani!$G$21=\"ano\",'Fire Devc F'!$S$62,\"\")","v":""}," ",{"$f":"IF(OR(zadani!$D$20=\"ano\",zadani!$G$19=\"ano\"),Tabl!K166,\"\")","v":""}," ",{"$f":"IF(zadani!$G$21=\"ano\",'Fire Devc F'!$T$62,\"\")","v":""}," "]
[null,{"$f":"IF(zadani!$G$21=\"ano\",'Fire Devc F'!$S$63,\"\")","v":""}," ",{"$f":"IF(OR(zadani!$D$20=\"ano\",zadani!$G$19=\"ano\"),Tabl!K167,\"\")","v":""}," ",{"$f":"IF(zadani!$G$21=\"ano\",'Fire Devc F'!$T$63,\"\")","v":""}," "]
[null,{"$f":"IF(zadani!$G$21=\"ano\",'Fire Devc F'!$S$64,\"\")","v":""}," ",{"$f":"IF(OR(zadani!$D$20=\"ano\",zadani!$G$19=\"ano\"),Tabl!K168,\"\")","v":""}," ",{"$f":"IF(zadani!$G$21=\"ano\",'Fire Devc F'!$T$64,\"\")","v":""}," "]
[null,{"$f":"IF(zadani!$G$21=\"ano\",'Fire Devc F'!$S$65,\"\")","v":""}," ",{"$f":"IF(OR(zadani!$D$20=\"ano\",zadani!$G$19=\"ano\"),Tabl!K169,\"\")","v":""}," ",{"$f":"IF(zadani!$G$21=\"ano\",'Fire Devc F'!$T$65,\"\")","v":""}," "]
[null,{"$f":"IF(zadani!$G$21=\"ano\",'Fire Devc F'!$S$66,\"\")","v":""}," ",{"$f":"IF(OR(zadani!$D$20=\"ano\",zadani!$G$19=\"ano\"),Tabl!K170,\"\")","v":""}," ",{"$f":"IF(zadani!$G$21=\"ano\",'Fire Devc F'!$T$66,\"\")","v":""}," "]
[null,{"$f":"IF(zadani!$G$21=\"ano\",'Fire Devc F'!$S$67,\"\")","v":""}," ",{"$f":"IF(OR(zadani!$D$20=\"ano\",zadani!$G$19=\"ano\"),Tabl!K171,\"\")","v":""}," ",{"$f":"IF(zadani!$G$21=\"ano\",'Fire Devc F'!$T$67,\"\")","v":""}," "]
[null,{"$f":"IF(zadani!$G$21=\"ano\",'Fire Devc F'!$S$68,\"\")","v":""}," ",{"$f":"IF(OR(zadani!$D$20=\"ano\",zadani!$G$19=\"ano\"),Tabl!K172,\"\")","v":""}," ",{"$f":"IF(zadani!$G$21=\"ano\",'Fire Devc F'!$T$68,\"\")","v":""}," "]
[null,{"$f":"IF(zadani!$G$21=\"ano\",'Fire Devc F'!$S$69,\"\")","v":""}," ",{"$f":"IF(OR(zadani!$D$20=\"ano\",zadani!$G$19=\"ano\"),Tabl!K173,\"\")","v":""}," ",{"$f":"IF(zadani!$G$21=\"ano\",'Fire Devc F'!$T$69,\"\")","v":""}," "]
[null,{"$f":"IF(zadani!$G$21=\"ano\",'Fire Devc F'!$S$70,\"\")","v":""}," ",{"$f":"IF(OR(zadani!$D$20=\"ano\",zadani!$G$19=\"ano\"),Tabl!K174,\"\")","v":""}," ",{"$f":"IF(zadani!$G$21=\"ano\",'Fire Devc F'!$T$70,\"\")","v":""}," "]
[null,{"$f":"IF(zadani!$G$21=\"ano\",'Fire Devc F'!$S$71,\"\")","v":""}," ",{"$f":"IF(OR(zadani!$D$20=\"ano\",zadani!$G$19=\"ano\"),Tabl!K175,\"\")","v":""}," ",{"$f":"IF(zadani!$G$21=\"ano\",'Fire Devc F'!$T$71,\"\")","v":""}," "]
[null,{"$f":"IF(zadani!$G$21=\"ano\",'Fire Devc F'!$S$72,\"\")","v":""}," ",{"$f":"IF(OR(zadani!$D$20=\"ano\",zadani!$G$19=\"ano\"),Tabl!K176,\"\")","v":""}," ",{"$f":"IF(zadani!$G$21=\"ano\",'Fire Devc F'!$T$72,\"\")","v":""}," "]
[null,{"$f":"IF(zadani!$G$21=\"ano\",'Fire Devc F'!$S$73,\"\")","v":""}," ",{"$f":"IF(OR(zadani!$D$20=\"ano\",zadani!$G$19=\"ano\"),Tabl!K177,\"\")","v":""}," ",{"$f":"IF(zadani!$G$21=\"ano\",'Fire Devc F'!$T$73,\"\")","v":""}," "]
[null,{"$f":"IF(zadani!$G$21=\"ano\",'Fire Devc F'!$S$74,\"\")","v":""}," ",{"$f":"IF(OR(zadani!$D$20=\"ano\",zadani!$G$19=\"ano\"),Tabl!K178,\"\")","v":""}," ",{"$f":"IF(zadani!$G$21=\"ano\",'Fire Devc F'!$T$74,\"\")","v":""}," "]
[null,{"$f":"IF(zadani!$G$21=\"ano\",'Fire Devc F'!$S$75,\"\")","v":""}," ",{"$f":"IF(OR(zadani!$D$20=\"ano\",zadani!$G$19=\"ano\"),Tabl!K179,\"\")","v":""}," ",{"$f":"IF(zadani!$G$21=\"ano\",'Fire Devc F'!$T$75,\"\")","v":""}," "]
[null,{"$f":"IF(zadani!$G$21=\"ano\",'Fire Devc F'!$S$76,\"\")","v":""}," ",{"$f":"IF(OR(zadani!$D$20=\"ano\",zadani!$G$19=\"ano\"),Tabl!K180,\"\")","v":""}," ",{"$f":"IF(zadani!$G$21=\"ano\",'Fire Devc F'!$T$76,\"\")","v":""}," "]
[null,{"$f":"IF(zadani!$G$21=\"ano\",'Fire Devc F'!$S$77,\"\")","v":""}," ",{"$f":"IF(OR(zadani!$D$20=\"ano\",zadani!$G$19=\"ano\"),Tabl!K181,\"\")","v":""}," ",{"$f":"IF(zadani!$G$21=\"ano\",'Fire Devc F'!$T$77,\"\")","v":""}," "]
[null,{"$f":"IF(zadani!$G$21=\"ano\",'Fire Devc F'!$S$78,\"\")","v":""}," ",{"$f":"IF(OR(zadani!$D$20=\"ano\",zadani!$G$19=\"ano\"),Tabl!K182,\"\")","v":""}," ",{"$f":"IF(zadani!$G$21=\"ano\",'Fire Devc F'!$T$78,\"\")","v":""}," "]
[null,{"$f":"IF(zadani!$G$21=\"ano\",'Fire Devc F'!$S$79,\"\")","v":""}," ",{"$f":"IF(OR(zadani!$D$20=\"ano\",zadani!$G$19=\"ano\"),Tabl!K183,\"\")","v":""}," ",{"$f":"IF(zadani!$G$21=\"ano\",'Fire Devc F'!$T$79,\"\")","v":""}," "]
[null,{"$f":"IF(zadani!$G$21=\"ano\",'Fire Devc F'!$S$80,\"\")","v":""}," ",{"$f":"IF(OR(zadani!$D$20=\"ano\",zadani!$G$19=\"ano\"),Tabl!K184,\"\")","v":""}," ",{"$f":"IF(zadani!$G$21=\"ano\",'Fire Devc F'!$T$80,\"\")","v":""}," "]
[null,{"$f":"IF(zadani!$G$21=\"ano\",'Fire Devc F'!$S$81,\"\")","v":""}," ",{"$f":"IF(OR(zadani!$D$20=\"ano\",zadani!$G$19=\"ano\"),Tabl!K185,\"\")","v":""}," ",{"$f":"IF(zadani!$G$21=\"ano\",'Fire Devc F'!$T$81,\"\")","v":""}," "]
[null,{"$f":"IF(zadani!$G$21=\"ano\",'Fire Devc F'!$S$82,\"\")","v":""}," ",{"$f":"IF(OR(zadani!$D$20=\"ano\",zadani!$G$19=\"ano\"),Tabl!K186,\"\")","v":""}," ",{"$f":"IF(zadani!$G$21=\"ano\",'Fire Devc F'!$T$82,\"\")","v":""}," "]
[null,{"$f":"IF(zadani!$G$21=\"ano\",'Fire Devc F'!$S$83,\"\")","v":""}," ",{"$f":"IF(OR(zadani!$D$20=\"ano\",zadani!$G$19=\"ano\"),Tabl!K187,\"\")","v":""}," ",{"$f":"IF(zadani!$G$21=\"ano\",'Fire Devc F'!$T$83,\"\")","v":""}," "]
[null,{"$f":"IF(zadani!$G$21=\"ano\",'Fire Devc F'!$S$84,\"\")","v":""}," ",{"$f":"IF(OR(zadani!$D$20=\"ano\",zadani!$G$19=\"ano\"),Tabl!K188,\"\")","v":""}," ",{"$f":"IF(zadani!$G$21=\"ano\",'Fire Devc F'!$T$84,\"\")","v":""}," "]
[null,{"$f":"IF(zadani!$G$21=\"ano\",'Fire Devc F'!$S$85,\"\")","v":""}," ",{"$f":"IF(OR(zadani!$D$20=\"ano\",zadani!$G$19=\"ano\"),Tabl!K189,\"\")","v":""}," ",{"$f":"IF(zadani!$G$21=\"ano\",'Fire Devc F'!$T$85,\"\")","v":""}," "]
[null,{"$f":"IF(zadani!$G$21=\"ano\",'Fire Devc F'!$S$86,\"\")","v":""}," ",{"$f":"IF(OR(zadani!$D$20=\"ano\",zadani!$G$19=\"ano\"),Tabl!K190,\"\")","v":""}," ",{"$f":"IF(zadani!$G$21=\"ano\",'Fire Devc F'!$T$86,\"\")","v":""}," "]
[null,{"$f":"IF(zadani!$G$21=\"ano\",'Fire Devc F'!$S$87,\"\")","v":""}," ",{"$f":"IF(OR(zadani!$D$20=\"ano\",zadani!$G$19=\"ano\"),Tabl!K191,\"\")","v":""}," ",{"$f":"IF(zadani!$G$21=\"ano\",'Fire Devc F'!$T$87,\"\")","v":""}," "]
[null,{"$f":"IF(zadani!$G$21=\"ano\",'Fire Devc F'!$S$88,\"\")","v":""}," ",{"$f":"IF(OR(zadani!$D$20=\"ano\",zadani!$G$19=\"ano\"),Tabl!K192,\"\")","v":""}," ",{"$f":"IF(zadani!$G$21=\"ano\",'Fire Devc F'!$T$88,\"\")","v":""}," "]
[null,{"$f":"IF(zadani!$G$21=\"ano\",'Fire Devc F'!$S$89,\"\")","v":""}," ",{"$f":"IF(OR(zadani!$D$20=\"ano\",zadani!$G$19=\"ano\"),Tabl!K193,\"\")","v":""}," ",{"$f":"IF(zadani!$G$21=\"ano\",'Fire Devc F'!$T$89,\"\")","v":""}," "]
[null,{"$f":"IF(zadani!$G$21=\"ano\",'Fire Devc F'!$S$90,\"\")","v":""}," ",{"$f":"IF(OR(zadani!$D$20=\"ano\",zadani!$G$19=\"ano\"),Tabl!K194,\"\")","v":""}," ",{"$f":"IF(zadani!$G$21=\"ano\",'Fire Devc F'!$T$90,\"\")","v":""}," "]
[null,{"$f":"IF(zadani!$G$21=\"ano\",'Fire Devc F'!$S$91,\"\")","v":""}," ",{"$f":"IF(OR(zadani!$D$20=\"ano\",zadani!$G$19=\"ano\"),Tabl!K195,\"\")","v":""}," ",{"$f":"IF(zadani!$G$21=\"ano\",'Fire Devc F'!$T$91,\"\")","v":""}," "]
[null,{"$f":"IF(zadani!$G$21=\"ano\",'Fire Devc F'!$S$92,\"\")","v":""}," ",{"$f":"IF(OR(zadani!$D$20=\"ano\",zadani!$G$19=\"ano\"),Tabl!K196,\"\")","v":""}," ",{"$f":"IF(zadani!$G$21=\"ano\",'Fire Devc F'!$T$92,\"\")","v":""}," "]
[null,{"$f":"IF(zadani!$G$21=\"ano\",'Fire Devc F'!$S$93,\"\")","v":""}," ",{"$f":"IF(OR(zadani!$D$20=\"ano\",zadani!$G$19=\"ano\"),Tabl!K197,\"\")","v":""}," ",{"$f":"IF(zadani!$G$21=\"ano\",'Fire Devc F'!$T$93,\"\")","v":""}," "]
[null,{"$f":"IF(zadani!$G$21=\"ano\",'Fire Devc F'!$S$94,\"\")","v":""}," ",{"$f":"IF(OR(zadani!$D$20=\"ano\",zadani!$G$19=\"ano\"),Tabl!K198,\"\")","v":""}," ",{"$f":"IF(zadani!$G$21=\"ano\",'Fire Devc F'!$T$94,\"\")","v":""}," "]
[null,{"$f":"IF(zadani!$G$21=\"ano\",'Fire Devc F'!$S$95,\"\")","v":""}," ",{"$f":"IF(OR(zadani!$D$20=\"ano\",zadani!$G$19=\"ano\"),Tabl!K199,\"\")","v":""}," ",{"$f":"IF(zadani!$G$21=\"ano\",'Fire Devc F'!$T$95,\"\")","v":""}," "]
[null,{"$f":"IF(zadani!$G$21=\"ano\",'Fire Devc F'!$S$96,\"\")","v":""}," ",{"$f":"IF(OR(zadani!$D$20=\"ano\",zadani!$G$19=\"ano\"),Tabl!K200,\"\")","v":""}," ",{"$f":"IF(zadani!$G$21=\"ano\",'Fire Devc F'!$T$96,\"\")","v":""}," "]
[null,{"$f":"IF(zadani!$G$21=\"ano\",'Fire Devc F'!$S$97,\"\")","v":""}," ",{"$f":"IF(OR(zadani!$D$20=\"ano\",zadani!$G$19=\"ano\"),Tabl!K201,\"\")","v":""}," ",{"$f":"IF(zadani!$G$21=\"ano\",'Fire Devc F'!$T$97,\"\")","v":""}," "]
[null,{"$f":"IF(zadani!$G$21=\"ano\",'Fire Devc F'!$S$98,\"\")","v":""}," ",{"$f":"IF(OR(zadani!$D$20=\"ano\",zadani!$G$19=\"ano\"),Tabl!K202,\"\")","v":""}," ",{"$f":"IF(zadani!$G$21=\"ano\",'Fire Devc F'!$T$98,\"\")","v":""}," "]
[null,{"$f":"IF(zadani!$G$21=\"ano\",'Fire Devc F'!$S$99,\"\")","v":""}," ",{"$f":"IF(OR(zadani!$D$20=\"ano\",zadani!$G$19=\"ano\"),Tabl!K203,\"\")","v":""}," ",{"$f":"IF(zadani!$G$21=\"ano\",'Fire Devc F'!$T$99,\"\")","v":""}," "]
[null,{"$f":"IF(zadani!$G$21=\"ano\",'Fire Devc F'!$S$100,\"\")","v":""}," ",{"$f":"IF(OR(zadani!$D$20=\"ano\",zadani!$G$19=\"ano\"),Tabl!K204,\"\")","v":""}," ",{"$f":"IF(zadani!$G$21=\"ano\",'Fire Devc F'!$T$100,\"\")","v":""}," "]
[null,{"$f":"IF(zadani!$G$21=\"ano\",'Fire Devc F'!$S$101,\"\")","v":""}," ",{"$f":"IF(OR(zadani!$D$20=\"ano\",zadani!$G$19=\"ano\"),Tabl!K205,\"\")","v":""}," ",{"$f":"IF(zadani!$G$21=\"ano\",'Fire Devc F'!$T$101,\"\")","v":""}," "]
[null,{"$f":"IF(zadani!$G$21=\"ano\",'Fire Devc F'!$S$102,\"\")","v":""}," ",{"$f":"IF(OR(zadani!$D$20=\"ano\",zadani!$G$19=\"ano\"),Tabl!K206,\"\")","v":""}," ",{"$f":"IF(zadani!$G$21=\"ano\",'Fire Devc F'!$T$102,\"\")","v":""}," "]
[null,{"$f":"IF(zadani!$G$21=\"ano\",'Fire Devc F'!$S$103,\"\")","v":""}," ",{"$f":"IF(OR(zadani!$D$20=\"ano\",zadani!$G$19=\"ano\"),Tabl!K207,\"\")","v":""}," ",{"$f":"IF(zadani!$G$21=\"ano\",'Fire Devc F'!$T$103,\"\")","v":""}," "]
[null,{"$f":"IF(zadani!$G$21=\"ano\",'Fire Devc F'!$S$104,\"\")","v":""}," ",{"$f":"IF(OR(zadani!$D$20=\"ano\",zadani!$G$19=\"ano\"),Tabl!K208,\"\")","v":""}," ",{"$f":"IF(zadani!$G$21=\"ano\",'Fire Devc F'!$T$104,\"\")","v":""}," "]
[null,{"$f":"IF(zadani!$G$21=\"ano\",'Fire Devc F'!$S$105,\"\")","v":""}," ",{"$f":"IF(OR(zadani!$D$20=\"ano\",zadani!$G$19=\"ano\"),Tabl!K209,\"\")","v":""}," ",{"$f":"IF(zadani!$G$21=\"ano\",'Fire Devc F'!$T$105,\"\")","v":""}," "]
[null,{"$f":"IF(zadani!$G$21=\"ano\",'Fire Devc F'!$S$106,\"\")","v":""}," ",{"$f":"IF(OR(zadani!$D$20=\"ano\",zadani!$G$19=\"ano\"),Tabl!K210,\"\")","v":""}," ",{"$f":"IF(zadani!$G$21=\"ano\",'Fire Devc F'!$T$106,\"\")","v":""}," "]

{"sheet":"Fire Devc A","index":2,"n_rows":108,"n_cols":22,"rows_kept":108,"cut":false,"hidden":false,"merged":[[1,7,1,11],[5,6,5,7],[5,2,5,3],[5,4,5,5],[5,8,5,9],[5,10,5,11]]}
[]
[null,"x",{"$f":"zadani!G7","v":5},"místno.",{"$f":"zadani!G6","v":"C1"},"hrana x",{"$f":"C2/zadani!G16","v":1},"STRANA A",null,null,null,null,{"$f":"zadani!G10","v":0},{"$f":"zadani!G11","v":0},{"$f":"zadani!G12","v":0},{"$f":"zadani!G38","v":"M1"},{"$f":"zadani!G41","v":1.4999999999999999E-2},{"$f":"SUBSTITUTE(Q2,\",\",\".\")","v":"0.015"}]
[null,"y",{"$f":"zadani!G8","v":10},"odstup",{"$f":"zadani!G13","v":0.05},"hrana z",{"$f":"C4/zadani!G18","v":0.875},"otvor 1",{"$f":"zadani!L8","v":"ne"},{"$f":"zadani!M8","v":0},{"$f":"zadani!N8","v":0},{"$f":"zadani!O8","v":"-"},{"$f":"zadani!P8","v":"-"},{"$f":"zadani!Q8","v":0},{"$f":"zadani!R8","v":0},{"$f":"zadani!G39","v":"PLATE"},{"$f":"zadani!G42","v":0},{"$f":"SUBSTITUTE(Q3,\",\",\".\")","v":"0"}]
[null,"z",{"$f":"zadani!G9","v":3.5},"vše ok?",{"$f":"IF(AND(O108=\"ok\",R108=\"ok\",S108=\"ok\",T108=\"ok\"),\"ok\",\"pozor\")","v":"ok"},null,null,"otvor 2",{"$f":"zadani!L9","v":"ne"},{"$f":"zadani!M9","v":0},{"$f":"zadani!N9","v":0},{"$f":"zadani!O9","v":"-"},{"$f":"zadani!P9","v":"-"},{"$f":"zadani!Q9","v":0},{"$f":"zadani!R9","v":0},{"$f":"zadani!G40","v":"FLOOR"},{"$f":"zadani!C42","v":250},{"$f":"SUBSTITUTE(Q4,\",\",\".\")","v":"250"}]
[]
[null,"pořad. číslo","X lichá",null,"X sudá",null,"Y",null,"Z lichá",null,"Z sudá",null,"otvor 1 lichy","otvor 2 lichy","otvory liche","otvor 1 sudy","otvor 2 sudy","otvory sude"]
[null,{"$f":"RIGHT(\"00\"&ROW(A1),3)","v":"001"},{"$f":"G2/2","v":0.5},{"$f":"SUBSTITUTE(C7,\",\",\".\")","v":"0.5"},{"$f":"E3","v":0.05},{"$f":"SUBSTITUTE(E7,\",\",\".\")","v":"0.05"},{"$f":"E3","v":0.05},{"$f":"SUBSTITUTE(G7,\",\",\".\")","v":"0.05"},{"$f":"G3/2","v":0.4375},{"$f":"SUBSTITUTE(I7,\",\",\".\")","v":"0.4375"},{"$f":"$G$3*1.5","v":1.3125},{"$f":"SUBSTITUTE(K7,\",\",\".\")","v":"1.3125"},{"$f":"IF($I$3=\"ano\",IF(AND(C7>$J$3,C7<$K$3,I7>$N$3,I7<$O$3),\"otvor\",\"stena\"),\"stena\")","v":"stena"},{"$f":"IF($I$4=\"ano\",IF(AND(C7>$J$4,C7<$K$4,I7>$N$4,I7<$O$4),\"otvor\",\"stena\"),\"stena\")","v":"stena"},{"$f":"IF(OR(M7=\"otvor\",N7=\"otvor\"),\"otvor\",\"stena\")","v":"stena"},{"$f":"IF($I$3=\"ano\",IF(AND(E7>$J$3,E7<$K$3,K7>$N$3,K7<$O$3),\"otvor\",\"stena\"),\"stena\")","v":"stena"},{"$f":"IF($I$4=\"ano\",IF(AND(E7>$J$4,E7<$K$4,K7>$N$4,K7<$O$4),\"otvor\",\"stena\"),\"stena\")","v":"stena"},{"$f":"IF(OR(P7=\"otvor\",Q7=\"otvor\"),\"otvor\",\"stena\")","v":"stena"},{"$f":"IF(AND(C7>$M$2,I7>$O$2),IF(O7=\"stena\",IF(I7>$C$4,\"\",CONCATENATE(\"&FIRE ID = 'F.\",$E$2,\".1.\",B7,\"' COMP_ID = '\",$E$2,\"', FIRE_ID = 'FP.\",$E$2,\".X.\",J7,\"'  LOCATION = \",D7,\", \",H7,\" IGNITION_CRITERION = 'TEMPERATURE', DEVC_ID = 'T.\",$E$2,\".1.\",B7,\"', SETPOINT = \",$R$4,\" /\")),\"\"),\"\")","v":"&FIRE ID = 'F.C1.1.001' COMP_ID = 'C1', FIRE_ID = 'FP.C1.X.0.4375'  LOCATION = 0.5, 0.05 IGNITION_CRITERION = 'TEMPERATURE', DEVC_ID = 'T.C1.1.001', SETPOINT = 250 /"},{"$f":"IF(AND(E7>$M$2,K7>$O$2),IF(R7=\"stena\",IF(K7>$C$4,\"\",CONCATENATE(\"&FIRE ID = 'F.\",$E$2,\".2.\",B7,\"' COMP_ID = '\",$E$2,\"', FIRE_ID = 'FP.\",$E$2,\".X.\",L7,\"'  LOCATION = \",F7,\", \",H7,\" IGNITION_CRITERION = 'TEMPERATURE', DEVC_ID = 'T.\",$E$2,\".2.\",B7,\"', SETPOINT = \",$R$4,\" /\")),\"\"),\"\")","v":"&FIRE ID = 'F.C1.2.001' COMP_ID = 'C1', FIRE_ID = 'FP.C1.X.1.3125'  LOCATION = 0.05, 0.05 IGNITION_CRITERION = 'TEMPERATURE', DEVC_ID = 'T.C1.2.001', SETPOINT = 250 /"},{"$f":"IF(S7=\"\",\"\",IF(O7=\"stena\",IF(I7>$C$4,\"\",CONCATENATE(\"&DEVC ID = 'T.\",$E$2,\".1.\",B7,\"' COMP_ID = '\",$E$2,\"'  LOCATION = \",D7,\", \",H7,\", \",J7,\" TYPE = '\",$P$3,\"' MATL_ID = '\",$P$2,\"' SURFACE_ORIENTATION = '\",$P$4,\"' THICKNESS = \",$R$2,\" TEMPERATURE_DEPTH = \",$R$3,\" DEPTH_UNITS = 'M' /\")),\"\"))","v":"&DEVC ID = 'T.C1.1.001' COMP_ID = 'C1'  LOCATION = 0.5, 0.05, 0.4375 TYPE = 'PLATE' MATL_ID = 'M1' SURFACE_ORIENTATION = 'FLOOR' THICKNESS = 0.015 TEMPERATURE_DEPTH = 0 DEPTH_UNITS = 'M' /"},{"$f":"IF(T7=\"\",\"\",IF(R7=\"stena\",IF(K7>$C$4,\"\",CONCATENATE(\"&DEVC ID = 'T.\",$E$2,\".2.\",B7,\"' COMP_ID = '\",$E$2,\"'  LOCATION = \",F7,\", \",H7,\", \",L7,\" TYPE = '\",$P$3,\"' MATL_ID = '\",$P$2,\"' SURFACE_ORIENTATION = '\",$P$4,\"' THICKNESS = \",$R$2,\" TEMPERATURE_DEPTH = \",$R$3,\" DEPTH_UNITS = 'M' /\")),\"\"))","v":"&DEVC ID = 'T.C1.2.001' COMP_ID = 'C1'  LOCATION = 0.05, 0.05, 1.3125 TYPE = 'PLATE' MATL_ID = 'M1' SURFACE_ORIENTATION = 'FLOOR' THICKNESS = 0.015 TEMPERATURE_DEPTH = 0 DEPTH_UNITS = 'M' /"}]
[null,{"$f":"RIGHT(\"00\"&ROW(A2),3)","v":"002"},{"$f":"IF(C7>=($C$2-$G$2),$G$2/2,C7+$G$2)","v":1.5},"1.5",{"$f":"IF(E7>=($C$2-$G$2),$E$3,E7+$G$2)","v":1.05},"1.05",{"$f":"G7","v":0.05},{"$f":"SUBSTITUTE(G8,\",\",\".\")","v":"0.05"},{"$f":"IF(C8=$G$2/2,I7+$G$3*2,I7)","v":0.4375},"0.4375",{"$f":"IF(E8=$E$3,K7+$G$3*2,K7)","v":1.3125},{"$f":"SUBSTITUTE(K8,\",\",\".\")","v":"1.3125"},"stena","stena","stena","stena","stena","stena",{"$f":"IF(AND(C8>$M$2,I8>$O$2),IF(O8=\"stena\",IF(I8>$C$4,\"\",CONCATENATE(\"&FIRE ID = 'F.\",$E$2,\".1.\",B8,\"' COMP_ID = '\",$E$2,\"', FIRE_ID = 'FP.\",$E$2,\".X.\",J8,\"'  LOCATION = \",D8,\", \",H8,\" IGNITION_CRITERION = 'TEMPERATURE', DEVC_ID = 'T.\",$E$2,\".1.\",B8,\"', SETPOINT = \",$R$4,\" /\")),\"\"),\"\")","v":"&FIRE ID = 'F.C1.1.002' COMP_ID = 'C1', FIRE_ID = 'FP.C1.X.0.4375'  LOCATION = 1.5, 0.05 IGNITION_CRITERION = 'TEMPERATURE', DEVC_ID = 'T.C1.1.002', SETPOINT = 250 /"},{"$f":"IF(AND(E8>$M$2,K8>$O$2),IF(R8=\"stena\",IF(K8>$C$4,\"\",CONCATENATE(\"&FIRE ID = 'F.\",$E$2,\".2.\",B8,\"' COMP_ID = '\",$E$2,\"', FIRE_ID = 'FP.\",$E$2,\".X.\",L8,\"'  LOCATION = \",F8,\", \",H8,\" IGNITION_CRITERION = 'TEMPERATURE', DEVC_ID = 'T.\",$E$2,\".2.\",B8,\"', SETPOINT = \",$R$4,\" /\")),\"\"),\"\")","v":"&FIRE ID = 'F.C1.2.002' COMP_ID = 'C1', FIRE_ID = 'FP.C1.X.1.3125'  LOCATION = 1.05, 0.05 IGNITION_CRITERION = 'TEMPERATURE', DEVC_ID = 'T.C1.2.002', SETPOINT = 250 /"},{"$f":"IF(S8=\"\",\"\",IF(O8=\"stena\",IF(I8>$C$4,\"\",CONCATENATE(\"&DEVC ID = 'T.\",$E$2,\".1.\",B8,\"' COMP_ID = '\",$E$2,\"'  LOCATION = \",D8,\", \",H8,\", \",J8,\" TYPE = '\",$P$3,\"' MATL_ID = '\",$P$2,\"' SURFACE_ORIENTATION = '\",$P$4,\"' THICKNESS = \",$R$2,\" TEMPERATURE_DEPTH = \",$R$3,\" DEPTH_UNITS = 'M' /\")),\"\"))","v":"&DEVC ID = 'T.C1.1.002' COMP_ID = 'C1'  LOCATION = 1.5, 0.05, 0.4375 TYPE = 'PLATE' MATL_ID = 'M1' SURFACE_ORIENTATION = 'FLOOR' THICKNESS = 0.015 TEMPERATURE_DEPTH = 0 DEPTH_UNITS = 'M' /"},{"$f":"IF(T8=\"\",\"\",IF(R8=\"stena\",IF(K8>$C$4,\"\",CONCATENATE(\"&DEVC ID = 'T.\",$E$2,\".2.\",B8,\"' COMP_ID = '\",$E$2,\"'  LOCATION = \",F8,\", \",H8,\", \",L8,\" TYPE = '\",$P$3,\"' MATL_ID = '\",$P$2,\"' SURFACE_ORIENTATION = '\",$P$4,\"' THICKNESS = \",$R$2,\" TEMPERATURE_DEPTH = \",$R$3,\" DEPTH_UNITS = 'M' /\")),\"\"))","v":"&DEVC ID = 'T.C1.2.002' COMP_ID = 'C1'  LOCATION = 1.05, 0.05, 1.3125 TYPE = 'PLATE' MATL_ID = 'M1' SURFACE_ORIENTATION = 'FLOOR' THICKNESS = 0.015 TEMPERATURE_DEPTH = 0 DEPTH_UNITS = 'M' /"}]
[null,{"$f":"RIGHT(\"00\"&ROW(A3),3)","v":"003"},2.5,"2.5",{"$f":"IF(E8>=($C$2-$G$2),$E$3,E8+$G$2)","v":2.0499999999999998},"2.05",{"$f":"G8","v":0.05},"0.05",{"$f":"IF(C9=$G$2/2,I8+$G$3*2,I8)","v":0.4375},"0.4375",{"$f":"IF(E9=$E$3,K8+$G$3*2,K8)","v":1.3125},{"$f":"SUBSTITUTE(K9,\",\",\".\")","v":"1.3125"},"stena","stena","stena","stena","stena","stena","&FIRE ID = 'F.C1.1.003' COMP_ID = 'C1', FIRE_ID = 'FP.C1.X.0.4375'  LOCATION = 2.5, 0.05 IGNITION_CRITERION = 'TEMPERATURE', DEVC_ID = 'T.C1.1.003', SETPOINT = 250 /","&FIRE ID = 'F.C1.2.003' COMP_ID = 'C1', FIRE_ID = 'FP.C1.X.1.3125'  LOCATION = 2.05, 0.05 IGNITION_CRITERION = 'TEMPERATURE', DEVC_ID = 'T.C1.2.003', SETPOINT = 250 /","&DEVC ID = 'T.C1.1.003' COMP_ID = 'C1'  LOCATION = 2.5, 0.05, 0.4375 TYPE = 'PLATE' MATL_ID = 'M1' SURFACE_ORIENTATION = 'FLOOR' THICKNESS = 0.015 TEMPERATURE_DEPTH = 0 DEPTH_UNITS = 'M' /","&DEVC ID = 'T.C1.2.003' COMP_ID = 'C1'  LOCATION = 2.05, 0.05, 1.3125 TYPE = 'PLATE' MATL_ID = 'M1' SURFACE_ORIENTATION = 'FLOOR' THICKNESS = 0.015 TEMPERATURE_DEPTH = 0 DEPTH_UNITS = 'M' /"]
[null,{"$f":"RIGHT(\"00\"&ROW(A4),3)","v":"004"},3.5,"3.5",{"$f":"IF(E9>=($C$2-$G$2),$E$3,E9+$G$2)","v":3.05},"3.05",0.05,"0.05",0.4375,"0.4375",1.3125,"1.3125","stena","stena","stena","stena","stena","stena","&FIRE ID = 'F.C1.1.004' COMP_ID = 'C1', FIRE_ID = 'FP.C1.X.0.4375'  LOCATION = 3.5, 0.05 IGNITION_CRITERION = 'TEMPERATURE', DEVC_ID = 'T.C1.1.004', SETPOINT = 250 /","&FIRE ID = 'F.C1.2.004' COMP_ID = 'C1', FIRE_ID = 'FP.C1.X.1.3125'  LOCATION = 3.05, 0.05 IGNITION_CRITERION = 'TEMPERATURE', DEVC_ID = 'T.C1.2.004', SETPOINT = 250 /","&DEVC ID = 'T.C1.1.004' COMP_ID = 'C1'  LOCATION = 3.5, 0.05, 0.4375 TYPE = 'PLATE' MATL_ID = 'M1' SURFACE_ORIENTATION = 'FLOOR' THICKNESS = 0.015 TEMPERATURE_DEPTH = 0 DEPTH_UNITS = 'M' /","&DEVC ID = 'T.C1.2.004' COMP_ID = 'C1'  LOCATION = 3.05, 0.05, 1.3125 TYPE = 'PLATE' MATL_ID = 'M1' SURFACE_ORIENTATION = 'FLOOR' THICKNESS = 0.015 TEMPERATURE_DEPTH = 0 DEPTH_UNITS = 'M' /"]
[null,"005",4.5,"4.5",4.05,"4.05",0.05,"0.05",0.4375,"0.4375",1.3125,"1.3125","stena","stena",{"$f":"IF(OR(M11=\"otvor\",N11=\"otvor\"),\"otvor\",\"stena\")","v":"stena"},"stena","stena","stena","&FIRE ID = 'F.C1.1.005' COMP_ID = 'C1', FIRE_ID = 'FP.C1.X.0.4375'  LOCATION = 4.5, 0.05 IGNITION_CRITERION = 'TEMPERATURE', DEVC_ID = 'T.C1.1.005', SETPOINT = 250 /","&FIRE ID = 'F.C1.2.005' COMP_ID = 'C1', FIRE_ID = 'FP.C1.X.1.3125'  LOCATION = 4.05, 0.05 IGNITION_CRITERION = 'TEMPERATURE', DEVC_ID = 'T.C1.2.005', SETPOINT = 250 /","&DEVC ID = 'T.C1.1.005' COMP_ID = 'C1'  LOCATION = 4.5, 0.05, 0.4375 TYPE = 'PLATE' MATL_ID = 'M1' SURFACE_ORIENTATION = 'FLOOR' THICKNESS = 0.015 TEMPERATURE_DEPTH = 0 DEPTH_UNITS = 'M' /","&DEVC ID = 'T.C1.2.005' COMP_ID = 'C1'  LOCATION = 4.05, 0.05, 1.3125 TYPE = 'PLATE' MATL_ID = 'M1' SURFACE_ORIENTATION = 'FLOOR' THICKNESS = 0.015 TEMPERATURE_DEPTH = 0 DEPTH_UNITS = 'M' /"]
[null,"006",0.5,"0.5",0.05,"0.05",0.05,"0.05",2.1875,"2.1875",3.0625,"3.0625","stena","stena",{"$f":"IF(OR(M12=\"otvor\",N12=\"otvor\"),\"otvor\",\"stena\")","v":"stena"},"stena","stena","stena","&FIRE ID = 'F.C1.1.006' COMP_ID = 'C1', FIRE_ID = 'FP.C1.X.2.1875'  LOCATION = 0.5, 0.05 IGNITION_CRITERION = 'TEMPERATURE', DEVC_ID = 'T.C1.1.006', SETPOINT = 250 /","&FIRE ID = 'F.C1.2.006' COMP_ID = 'C1', FIRE_ID = 'FP.C1.X.3.0625'  LOCATION = 0.05, 0.05 IGNITION_CRITERION = 'TEMPERATURE', DEVC_ID = 'T.C1.2.006', SETPOINT = 250 /","&DEVC ID = 'T.C1.1.006' COMP_ID = 'C1'  LOCATION = 0.5, 0.05, 2.1875 TYPE = 'PLATE' MATL_ID = 'M1' SURFACE_ORIENTATION = 'FLOOR' THICKNESS = 0.015 TEMPERATURE_DEPTH = 0 DEPTH_UNITS = 'M' /","&DEVC ID = 'T.C1.2.006' COMP_ID = 'C1'  LOCATION = 0.05, 0.05, 3.0625 TYPE = 'PLATE' MATL_ID = 'M1' SURFACE_ORIENTATION = 'FLOOR' THICKNESS = 0.015 TEMPERATURE_DEPTH = 0 DEPTH_UNITS = 'M' /"]
[null,"007",1.5,"1.5",1.05,"1.05",0.05,"0.05",2.1875,"2.1875",3.0625,"3.0625","stena","stena",{"$f":"IF(OR(M13=\"otvor\",N13=\"otvor\"),\"otvor\",\"stena\")","v":"stena"},"stena","stena","stena","&FIRE ID = 'F.C1.1.007' COMP_ID = 'C1', FIRE_ID = 'FP.C1.X.2.1875'  LOCATION = 1.5, 0.05 IGNITION_CRITERION = 'TEMPERATURE', DEVC_ID = 'T.C1.1.007', SETPOINT = 250 /","&FIRE ID = 'F.C1.2.007' COMP_ID = 'C1', FIRE_ID = 'FP.C1.X.3.0625'  LOCATION = 1.05, 0.05 IGNITION_CRITERION = 'TEMPERATURE', DEVC_ID = 'T.C1.2.007', SETPOINT = 250 /","&DEVC ID = 'T.C1.1.007' COMP_ID = 'C1'  LOCATION = 1.5, 0.05, 2.1875 TYPE = 'PLATE' MATL_ID = 'M1' SURFACE_ORIENTATION = 'FLOOR' THICKNESS = 0.015 TEMPERATURE_DEPTH = 0 DEPTH_UNITS = 'M' /","&DEVC ID = 'T.C1.2.007' COMP_ID = 'C1'  LOCATION = 1.05, 0.05, 3.0625 TYPE = 'PLATE' MATL_ID = 'M1' SURFACE_ORIENTATION = 'FLOOR' THICKNESS = 0.015 TEMPERATURE_DEPTH = 0 DEPTH_UNITS = 'M' /"]
[null,"008",2.5,"2.5",2.0499999999999998,"2.05",0.05,"0.05",2.1875,"2.1875",3.0625,"3.0625","stena","stena","stena","stena","stena","stena","&FIRE ID = 'F.C1.1.008' COMP_ID = 'C1', FIRE_ID = 'FP.C1.X.2.1875'  LOCATION = 2.5, 0.05 IGNITION_CRITERION = 'TEMPERATURE', DEVC_ID = 'T.C1.1.008', SETPOINT = 250 /","&FIRE ID = 'F.C1.2.008' COMP_ID = 'C1', FIRE_ID = 'FP.C1.X.3.0625'  LOCATION = 2.05, 0.05 IGNITION_CRITERION = 'TEMPERATURE', DEVC_ID = 'T.C1.2.008', SETPOINT = 250 /","&DEVC ID = 'T.C1.1.008' COMP_ID = 'C1'  LOCATION = 2.5, 0.05, 2.1875 TYPE = 'PLATE' MATL_ID = 'M1' SURFACE_ORIENTATION = 'FLOOR' THICKNESS = 0.015 TEMPERATURE_DEPTH = 0 DEPTH_UNITS = 'M' /","&DEVC ID = 'T.C1.2.008' COMP_ID = 'C1'  LOCATION = 2.05, 0.05, 3.0625 TYPE = 'PLATE' MATL_ID = 'M1' SURFACE_ORIENTATION = 'FLOOR' THICKNESS = 0.015 TEMPERATURE_DEPTH = 0 DEPTH_UNITS = 'M' /"]
[null,"009",3.5,"3.5",3.05,"3.05",0.05,"0.05",2.1875,"2.1875",3.0625,"3.0625","stena","stena","stena","stena","stena","stena","&FIRE ID = 'F.C1.1.009' COMP_ID = 'C1', FIRE_ID = 'FP.C1.X.2.1875'  LOCATION = 3.5, 0.05 IGNITION_CRITERION = 'TEMPERATURE', DEVC_ID = 'T.C1.1.009', SETPOINT = 250 /","&FIRE ID = 'F.C1.2.009' COMP_ID = 'C1', FIRE_ID = 'FP.C1.X.3.0625'  LOCATION = 3.05, 0.05 IGNITION_CRITERION = 'TEMPERATURE', DEVC_ID = 'T.C1.2.009', SETPOINT = 250 /","&DEVC ID = 'T.C1.1.009' COMP_ID = 'C1'  LOCATION = 3.5, 0.05, 2.1875 TYPE = 'PLATE' MATL_ID = 'M1' SURFACE_ORIENTATION = 'FLOOR' THICKNESS = 0.015 TEMPERATURE_DEPTH = 0 DEPTH_UNITS = 'M' /","&DEVC ID = 'T.C1.2.009' COMP_ID = 'C1'  LOCATION = 3.05, 0.05, 3.0625 TYPE = 'PLATE' MATL_ID = 'M1' SURFACE_ORIENTATION = 'FLOOR' THICKNESS = 0.015 TEMPERATURE_DEPTH = 0 DEPTH_UNITS = 'M' /"]
[null,"010",4.5,"4.5",4.05,"4.05",0.05,"0.05",2.1875,"2.1875",3.0625,"3.0625","stena","stena","stena","stena","stena","stena","&FIRE ID = 'F.C1.1.010' COMP_ID = 'C1', FIRE_ID = 'FP.C1.X.2.1875'  LOCATION = 4.5, 0.05 IGNITION_CRITERION = 'TEMPERATURE', DEVC_ID = 'T.C1.1.010', SETPOINT = 250 /","&FIRE ID = 'F.C1.2.010' COMP_ID = 'C1', FIRE_ID = 'FP.C1.X.3.0625'  LOCATION = 4.05, 0.05 IGNITION_CRITERION = 'TEMPERATURE', DEVC_ID = 'T.C1.2.010', SETPOINT = 250 /","&DEVC ID = 'T.C1.1.010' COMP_ID = 'C1'  LOCATION = 4.5, 0.05, 2.1875 TYPE = 'PLATE' MATL_ID = 'M1' SURFACE_ORIENTATION = 'FLOOR' THICKNESS = 0.015 TEMPERATURE_DEPTH = 0 DEPTH_UNITS = 'M' /","&DEVC ID = 'T.C1.2.010' COMP_ID = 'C1'  LOCATION = 4.05, 0.05, 3.0625 TYPE = 'PLATE' MATL_ID = 'M1' SURFACE_ORIENTATION = 'FLOOR' THICKNESS = 0.015 TEMPERATURE_DEPTH = 0 DEPTH_UNITS = 'M' /"]
[null,"011",0.5,"0.5",0.05,"0.05",0.05,"0.05",3.9375,"3.9375",4.8125,"4.8125","stena","stena","stena","stena","stena","stena","","","",""]
[null,"012",1.5,"1.5",1.05,"1.05",0.05,"0.05",3.9375,"3.9375",4.8125,"4.8125","stena","stena","stena","stena","stena","stena","","","",""]
[null,"013",2.5,"2.5",2.0499999999999998,"2.05",0.05,"0.05",3.9375,"3.9375",4.8125,"4.8125","stena","stena","stena","stena","stena","stena","","","",""]
[null,"014",3.5,"3.5",3.05,"3.05",0.05,"0.05",3.9375,"3.9375",4.8125,"4.8125","stena","stena","stena","stena","stena","stena","","","",""]
[null,"015",4.5,"4.5",4.05,"4.05",0.05,"0.05",3.9375,"3.9375",4.8125,"4.8125","stena","stena","stena","stena","stena","stena","","","",""]
[null,"016",0.5,"0.5",0.05,"0.05",0.05,"0.05",5.6875,"5.6875",6.5625,"6.5625","stena","stena","stena","stena","stena","stena","","","",""]
[null,"017",1.5,"1.5",1.05,"1.05",0.05,"0.05",5.6875,"5.6875",6.5625,"6.5625","stena","stena","stena","stena","stena","stena","","","",""]
[null,"018",2.5,"2.5",2.0499999999999998,"2.05",0.05,"0.05",5.6875,"5.6875",6.5625,"6.5625","stena","stena","stena","stena","stena","stena","","","",""]
[null,"019",3.5,"3.5",3.05,"3.05",0.05,"0.05",5.6875,"5.6875",6.5625,"6.5625","stena","stena","stena","stena","stena","stena","","","",""]
[null,"020",4.5,"4.5",4.05,"4.05",0.05,"0.05",5.6875,"5.6875",6.5625,"6.5625","stena","stena","stena","stena","stena","stena","","","",""]
[null,"021",0.5,"0.5",0.05,"0.05",0.05,"0.05",7.4375,"7.4375",8.3125,"8.3125","stena","stena","stena","stena","stena","stena","","","",""]
[null,"022",1.5,"1.5",1.05,"1.05",0.05,"0.05",7.4375,"7.4375",8.3125,"8.3125","stena","stena","stena","stena","stena","stena","","","",""]
[null,"023",2.5,"2.5",2.0499999999999998,"2.05",0.05,"0.05",7.4375,"7.4375",8.3125,"8.3125","stena","stena","stena","stena","stena","stena","","","",""]
[null,"024",3.5,"3.5",3.05,"3.05",0.05,"0.05",7.4375,"7.4375",8.3125,"8.3125","stena","stena","stena","stena","stena","stena","","","",""]
[null,"025",4.5,"4.5",4.05,"4.05",0.05,"0.05",7.4375,"7.4375",8.3125,"8.3125","stena","stena","stena","stena","stena","stena","","","",""]
[null,"026",0.5,"0.5",0.05,"0.05",0.05,"0.05",9.1875,"9.1875",10.0625,"10.0625","stena","stena","stena","stena","stena","stena","","","",""]
[null,"027",1.5,"1.5",1.05,"1.05",0.05,"0.05",9.1875,"9.1875",10.0625,"10.0625","stena","stena","stena","stena","stena","stena","","","",""]
[null,"028",2.5,"2.5",2.0499999999999998,"2.05",0.05,"0.05",9.1875,"9.1875",10.0625,"10.0625","stena","stena","stena","stena","stena","stena","","","",""]
[null,"029",3.5,"3.5",3.05,"3.05",0.05,"0.05",9.1875,"9.1875",10.0625,"10.0625","stena","stena","stena","stena","stena","stena","","","",""]
[null,"030",4.5,"4.5",4.05,"4.05",0.05,"0.05",9.1875,"9.1875",10.0625,"10.0625","stena","stena","stena","stena","stena","stena","","","",""]
[null,"031",0.5,"0.5",0.05,"0.05",0.05,"0.05",10.9375,"10.9375",11.8125,"11.8125","stena","stena","stena","stena","stena","stena","","","",""]
[null,"032",1.5,"1.5",1.05,"1.05",0.05,"0.05",10.9375,"10.9375",11.8125,"11.8125","stena","stena","stena","stena","stena","stena","","","",""]
[null,"033",2.5,{"$f":"SUBSTITUTE(C39,\",\",\".\")","v":"2.5"},2.0499999999999998,{"$f":"SUBSTITUTE(E39,\",\",\".\")","v":"2.05"},0.05,"0.05",10.9375,{"$f":"SUBSTITUTE(I39,\",\",\".\")","v":"10.9375"},11.8125,"11.8125",{"$f":"IF($I$3=\"ano\",IF(AND(C39>$J$3,C39<$K$3,I39>$N$3,I39<$O$3),\"otvor\",\"stena\"),\"stena\")","v":"stena"},{"$f":"IF($I$4=\"ano\",IF(AND(C39>$J$4,C39<$K$4,I39>$N$4,I39<$O$4),\"otvor\",\"stena\"),\"stena\")","v":"stena"},"stena",{"$f":"IF($I$3=\"ano\",IF(AND(E39>$J$3,E39<$K$3,K39>$N$3,K39<$O$3),\"otvor\",\"stena\"),\"stena\")","v":"stena"},{"$f":"IF($I$4=\"ano\",IF(AND(E39>$J$4,E39<$K$4,K39>$N$4,K39<$O$4),\"otvor\",\"stena\"),\"stena\")","v":"stena"},"stena","","","",""]
[null,"034",{"$f":"IF(C39>=($C$2-$G$2),$G$2/2,C39+$G$2)","v":3.5},"3.5",3.05,"3.05",0.05,"0.05",10.9375,"10.9375",11.8125,"11.8125","stena","stena","stena","stena","stena","stena","","","",""]
[null,"035",4.5,"4.5",4.05,"4.05",0.05,"0.05",10.9375,"10.9375",11.8125,"11.8125","stena","stena","stena","stena","stena","stena","","","",""]
[null,"036",0.5,"0.5",0.05,"0.05",0.05,"0.05",12.6875,"12.6875",13.5625,"13.5625","stena","stena","stena","stena","stena","stena","","","",""]
[null,"037",1.5,"1.5",1.05,"1.05",0.05,"0.05",12.6875,"12.6875",13.5625,"13.5625","stena","stena","stena","stena","stena","stena","","","",""]
[null,"038",2.5,"2.5",2.0499999999999998,"2.05",0.05,"0.05",12.6875,"12.6875",13.5625,"13.5625","stena","stena","stena","stena","stena","stena","","","",""]
[null,"039",3.5,"3.5",3.05,"3.05",0.05,"0.05",12.6875,"12.6875",13.5625,"13.5625","stena","stena","stena","stena","stena","stena","","","",""]
[null,"040",4.5,"4.5",4.05,"4.05",{"$f":"G45","v":0.05},"0.05",12.6875,"12.6875",13.5625,"13.5625","stena","stena","stena","stena","stena","stena","","","",""]
[null,"041",0.5,"0.5",0.05,"0.05",0.05,"0.05",14.4375,"14.4375",15.3125,"15.3125","stena","stena","stena","stena","stena","stena","","","",""]
[null,"042",1.5,"1.5",1.05,"1.05",0.05,"0.05",14.4375,"14.4375",15.3125,"15.3125","stena","stena","stena","stena","stena","stena","","","",""]
[null,"043",2.5,"2.5",2.0499999999999998,"2.05",0.05,"0.05",14.4375,"14.4375",15.3125,"15.3125","stena","stena","stena","stena","stena","stena","","","",""]
[null,"044",3.5,"3.5",3.05,"3.05",0.05,"0.05",14.4375,"14.4375",15.3125,"15.3125","stena","stena","stena","stena","stena","stena","","","",""]
[null,"045",4.5,"4.5",4.05,"4.05",0.05,"0.05",14.4375,"14.4375",15.3125,"15.3125","stena","stena","stena","stena","stena","stena","","","",""]
[null,"046",0.5,"0.5",0.05,"0.05",0.05,"0.05",16.1875,"16.1875",17.0625,"17.0625","stena","stena","stena","stena","stena","stena","","","",""]
[null,"047",1.5,"1.5",1.05,"1.05",0.05,"0.05",16.1875,"16.1875",17.0625,"17.0625","stena","stena","stena","stena","stena","stena","","","",""]
[null,"048",2.5,"2.5",2.0499999999999998,"2.05",0.05,"0.05",16.1875,"16.1875",17.0625,"17.0625","stena","stena","stena","stena","stena","stena","","","",""]
[null,"049",3.5,"3.5",3.05,"3.05",0.05,"0.05",16.1875,"16.1875",17.0625,"17.0625","stena","stena","stena","stena","stena","stena","","","",""]
[null,"050",4.5,"4.5",4.05,"4.05",0.05,"0.05",16.1875,"16.1875",17.0625,"17.0625","stena","stena","stena","stena","stena","stena","","","",""]
[null,"051",0.5,{"$f":"SUBSTITUTE(C57,\",\",\".\")","v":"0.5"},0.05,{"$f":"SUBSTITUTE(E57,\",\",\".\")","v":"0.05"},{"$f":"G56","v":0.05},"0.05",17.9375,{"$f":"SUBSTITUTE(I57,\",\",\".\")","v":"17.9375"},18.8125,"18.8125","stena","stena","stena","stena","stena","stena","","","",""]
[null,"052",1.5,"1.5",1.05,"1.05",0.05,"0.05",17.9375,"17.9375",18.8125,"18.8125","stena","stena","stena","stena","stena","stena","","","",""]
[null,"053",2.5,"2.5",2.0499999999999998,"2.05",0.05,"0.05",17.9375,"17.9375",18.8125,"18.8125","stena","stena","stena","stena","stena","stena","","","",""]
[null,"054",3.5,"3.5",3.05,"3.05",0.05,"0.05",17.9375,"17.9375",18.8125,"18.8125","stena","stena","stena","stena","stena","stena","","","",""]
[null,"055",4.5,"4.5",4.05,"4.05",0.05,"0.05",17.9375,"17.9375",18.8125,"18.8125","stena","stena","stena","stena","stena","stena","","","",""]
[null,"056",0.5,"0.5",0.05,"0.05",0.05,"0.05",19.6875,"19.6875",20.5625,"20.5625","stena","stena","stena","stena","stena","stena","","","",""]
[null,"057",1.5,"1.5",1.05,"1.05",0.05,"0.05",19.6875,"19.6875",20.5625,"20.5625","stena","stena","stena","stena","stena","stena","","","",""]
[null,"058",2.5,"2.5",2.0499999999999998,"2.05",0.05,"0.05",19.6875,"19.6875",20.5625,"20.5625","stena","stena","stena","stena","stena","stena","","","",""]
[null,"059",3.5,"3.5",3.05,"3.05",0.05,"0.05",19.6875,"19.6875",20.5625,"20.5625","stena","stena","stena","stena","stena","stena","","","",""]
[null,"060",4.5,"4.5",4.05,"4.05",0.05,"0.05",19.6875,"19.6875",20.5625,"20.5625","stena","stena","stena","stena","stena","stena","","","",""]
[null,"061",0.5,"0.5",0.05,"0.05",0.05,"0.05",21.4375,"21.4375",22.3125,"22.3125","stena","stena","stena","stena","stena","stena","","","",""]
[null,"062",1.5,"1.5",1.05,"1.05",0.05,"0.05",21.4375,"21.4375",22.3125,"22.3125","stena","stena","stena","stena","stena","stena","","","",""]
[null,"063",2.5,"2.5",2.0499999999999998,"2.05",0.05,"0.05",21.4375,"21.4375",22.3125,"22.3125","stena","stena","stena","stena","stena","stena","","","",""]
[null,"064",3.5,"3.5",3.05,"3.05",0.05,"0.05",21.4375,"21.4375",22.3125,"22.3125","stena","stena","stena","stena","stena","stena","","","",""]
[null,"065",4.5,"4.5",4.05,"4.05",0.05,"0.05",21.4375,"21.4375",22.3125,"22.3125",{"$f":"IF($I$3=\"ano\",IF(AND(C71>$J$3,C71<$K$3,I71>$N$3,I71<$O$3),\"otvor\",\"stena\"),\"stena\")","v":"stena"},{"$f":"IF($I$4=\"ano\",IF(AND(C71>$J$4,C71<$K$4,I71>$N$4,I71<$O$4),\"otvor\",\"stena\"),\"stena\")","v":"stena"},"stena",{"$f":"IF($I$3=\"ano\",IF(AND(E71>$J$3,E71<$K$3,K71>$N$3,K71<$O$3),\"otvor\",\"stena\"),\"stena\")","v":"stena"},{"$f":"IF($I$4=\"ano\",IF(AND(E71>$J$4,E71<$K$4,K71>$N$4,K71<$O$4),\"otvor\",\"stena\"),\"stena\")","v":"stena"},{"$f":"IF(OR(P71=\"otvor\",Q71=\"otvor\"),\"otvor\",\"stena\")","v":"stena"},"","","",""]
[null,"066",{"$f":"IF(C71>=($C$2-$G$2),$G$2/2,C71+$G$2)","v":0.5},"0.5",0.05,"0.05",0.05,{"$f":"SUBSTITUTE(G72,\",\",\".\")","v":"0.05"},23.1875,"23.1875",24.0625,"24.0625","stena","stena","stena","stena","stena","stena",{"$f":"IF(AND(C72>$M$2,I72>$O$2),IF(O72=\"stena\",IF(I72>$C$4,\"\",CONCATENATE(\"&FIRE ID = 'F.\",$E$2,\".1.\",B72,\"' COMP_ID = '\",$E$2,\"', FIRE_ID = 'FP.\",$E$2,\".X.\",J72,\"'  LOCATION = \",D72,\", \",H72,\" IGNITION_CRITERION = 'TEMPERATURE', DEVC_ID = 'T.\",$E$2,\".1.\",B72,\"', SETPOINT = \",$R$4,\" /\")),\"\"),\"\")","v":""},{"$f":"IF(AND(E72>$M$2,K72>$O$2),IF(R72=\"stena\",IF(K72>$C$4,\"\",CONCATENATE(\"&FIRE ID = 'F.\",$E$2,\".2.\",B72,\"' COMP_ID = '\",$E$2,\"', FIRE_ID = 'FP.\",$E$2,\".X.\",L72,\"'  LOCATION = \",F72,\", \",H72,\" IGNITION_CRITERION = 'TEMPERATURE', DEVC_ID = 'T.\",$E$2,\".2.\",B72,\"', SETPOINT = \",$R$4,\" /\")),\"\"),\"\")","v":""},{"$f":"IF(S72=\"\",\"\",IF(O72=\"stena\",IF(I72>$C$4,\"\",CONCATENATE(\"&DEVC ID = 'T.\",$E$2,\".1.\",B72,\"' COMP_ID = '\",$E$2,\"'  LOCATION = \",D72,\", \",H72,\", \",J72,\" TYPE = '\",$P$3,\"' MATL_ID = '\",$P$2,\"' SURFACE_ORIENTATION = '\",$P$4,\"' THICKNESS = \",$R$2,\" TEMPERATURE_DEPTH = \",$R$3,\" DEPTH_UNITS = 'M' /\")),\"\"))","v":""},{"$f":"IF(T72=\"\",\"\",IF(R72=\"stena\",IF(K72>$C$4,\"\",CONCATENATE(\"&DEVC ID = 'T.\",$E$2,\".2.\",B72,\"' COMP_ID = '\",$E$2,\"'  LOCATION = \",F72,\", \",H72,\", \",L72,\" TYPE = '\",$P$3,\"' MATL_ID = '\",$P$2,\"' SURFACE_ORIENTATION = '\",$P$4,\"' THICKNESS = \",$R$2,\" TEMPERATURE_DEPTH = \",$R$3,\" DEPTH_UNITS = 'M' /\")),\"\"))","v":""}]
[null,"067",1.5,"1.5",1.05,"1.05",0.05,"0.05",{"$f":"IF(C73=$G$2/2,I72+$G$3*2,I72)","v":23.1875},"23.1875",{"$f":"IF(E73=$E$3,K72+$G$3*2,K72)","v":24.0625},{"$f":"SUBSTITUTE(K73,\",\",\".\")","v":"24.0625"},"stena","stena","stena","stena","stena","stena","","","",""]
[null,{"$f":"RIGHT(\"00\"&ROW(A68),3)","v":"068"},2.5,"2.5",{"$f":"IF(E73>=($C$2-$G$2),$E$3,E73+$G$2)","v":2.0499999999999998},"2.05",0.05,"0.05",23.1875,"23.1875",24.0625,"24.0625","stena","stena","stena","stena","stena","stena","","","",""]
[null,"069",3.5,"3.5",3.05,"3.05",0.05,"0.05",23.1875,"23.1875",24.0625,"24.0625","stena","stena","stena","stena","stena","stena","","","",""]
[null,"070",4.5,"4.5",4.05,"4.05",0.05,"0.05",23.1875,"23.1875",24.0625,"24.0625","stena","stena","stena","stena","stena","stena","","","",""]
[null,"071",0.5,"0.5",0.05,"0.05",0.05,"0.05",24.9375,"24.9375",25.8125,"25.8125","stena","stena",{"$f":"IF(OR(M77=\"otvor\",N77=\"otvor\"),\"otvor\",\"stena\")","v":"stena"},"stena","stena","stena","","","",""]
[null,"072",1.5,"1.5",1.05,"1.05",0.05,"0.05",24.9375,"24.9375",25.8125,"25.8125","stena","stena","stena","stena","stena","stena","","","",""]
[null,"073",2.5,"2.5",2.0499999999999998,"2.05",0.05,"0.05",24.9375,"24.9375",25.8125,"25.8125","stena","stena","stena","stena","stena","stena","","","",""]
[null,"074",3.5,"3.5",3.05,"3.05",0.05,"0.05",24.9375,"24.9375",25.8125,"25.8125","stena","stena","stena","stena","stena","stena","","","",""]
[null,"075",4.5,"4.5",4.05,"4.05",0.05,"0.05",24.9375,"24.9375",25.8125,"25.8125","stena","stena","stena","stena","stena","stena","","","",""]
[null,"076",0.5,"0.5",0.05,"0.05",0.05,"0.05",26.6875,"26.6875",27.5625,"27.5625","stena","stena","stena","stena","stena","stena","","","",""]
[null,"077",1.5,"1.5",1.05,"1.05",0.05,"0.05",26.6875,"26.6875",27.5625,"27.5625","stena","stena","stena","stena","stena","stena","","","",""]
[null,"078",2.5,"2.5",2.0499999999999998,"2.05",0.05,"0.05",26.6875,"26.6875",27.5625,"27.5625","stena","stena","stena","stena","stena","stena","","","",""]
[null,"079",3.5,"3.5",3.05,"3.05",0.05,"0.05",26.6875,"26.6875",27.5625,"27.5625","stena","stena","stena","stena","stena","stena","","","",""]
[null,"080",4.5,"4.5",4.05,"4.05",0.05,"0.05",26.6875,"26.6875",27.5625,"27.5625","stena","stena","stena","stena","stena","stena","","","",""]
[null,"081",0.5,"0.5",0.05,"0.05",0.05,"0.05",28.4375,"28.4375",29.3125,"29.3125","stena","stena","stena","stena","stena","stena","","","",""]
[null,"082",1.5,"1.5",1.05,"1.05",0.05,"0.05",28.4375,"28.4375",29.3125,"29.3125","stena","stena","stena","stena","stena","stena","","","",""]
[null,"083",2.5,"2.5",2.0499999999999998,"2.05",0.05,"0.05",28.4375,"28.4375",29.3125,"29.3125","stena","stena","stena","stena","stena","stena","","","",""]
[null,"084",3.5,"3.5",3.05,"3.05",0.05,"0.05",28.4375,"28.4375",29.3125,"29.3125","stena","stena","stena","stena","stena","stena","","","",""]
[null,"085",4.5,"4.5",4.05,"4.05",0.05,"0.05",28.4375,"28.4375",29.3125,"29.3125","stena","stena","stena","stena","stena","stena","","","",""]
[null,"086",0.5,"0.5",0.05,"0.05",0.05,"0.05",30.1875,"30.1875",31.0625,"31.0625","stena","stena","stena","stena","stena","stena","","","",""]
[null,"087",1.5,"1.5",1.05,"1.05",0.05,"0.05",30.1875,"30.1875",31.0625,"31.0625","stena","stena","stena","stena","stena","stena","","","",""]
[null,"088",2.5,"2.5",2.0499999999999998,"2.05",0.05,"0.05",30.1875,"30.1875",31.0625,"31.0625","stena","stena","stena","stena","stena","stena","","","",""]
[null,"089",3.5,"3.5",3.05,"3.05",0.05,"0.05",30.1875,"30.1875",31.0625,"31.0625","stena","stena","stena","stena","stena","stena","","","",""]
[null,"090",4.5,"4.5",4.05,"4.05",0.05,"0.05",30.1875,"30.1875",31.0625,"31.0625","stena","stena","stena","stena","stena","stena","","","",""]
[null,"091",0.5,"0.5",0.05,"0.05",0.05,"0.05",31.9375,"31.9375",32.8125,"32.8125","stena","stena","stena","stena","stena","stena","","","",""]
[null,"092",1.5,"1.5",1.05,"1.05",0.05,"0.05",31.9375,"31.9375",32.8125,"32.8125","stena","stena","stena","stena","stena","stena","","","",""]
[null,"093",2.5,{"$f":"SUBSTITUTE(C99,\",\",\".\")","v":"2.5"},2.0499999999999998,{"$f":"SUBSTITUTE(E99,\",\",\".\")","v":"2.05"},0.05,"0.05",31.9375,{"$f":"SUBSTITUTE(I99,\",\",\".\")","v":"31.9375"},32.8125,"32.8125","stena","stena","stena","stena","stena","stena","","","",""]
[null,"094",3.5,"3.5",3.05,"3.05",{"$f":"G99","v":0.05},"0.05",31.9375,"31.9375",32.8125,"32.8125","stena","stena","stena","stena","stena","stena","","","",""]
[null,"095",4.5,"4.5",4.05,"4.05",0.05,"0.05",31.9375,"31.9375",32.8125,"32.8125","stena","stena","stena","stena","stena","stena","","","",""]
[null,"096",0.5,"0.5",0.05,"0.05",0.05,"0.05",33.6875,"33.6875",34.5625,"34.5625","stena","stena","stena","stena","stena","stena","","","",""]
[null,"097",1.5,{"$f":"SUBSTITUTE(C103,\",\",\".\")","v":"1.5"},1.05,{"$f":"SUBSTITUTE(E103,\",\",\".\")","v":"1.05"},0.05,"0.05",33.6875,{"$f":"SUBSTITUTE(I103,\",\",\".\")","v":"33.6875"},34.5625,"34.5625","stena","stena","stena","stena","stena","stena","","","",""]
[null,"098",2.5,"2.5",2.0499999999999998,"2.05",0.05,"0.05",33.6875,"33.6875",34.5625,"34.5625","stena","stena","stena","stena","stena","stena","","","",""]
[null,"099",3.5,"3.5",3.05,"3.05",0.05,"0.05",33.6875,"33.6875",34.5625,"34.5625","stena","stena","stena","stena","stena","stena","","","",""]
[null,"100",4.5,"4.5",4.05,"4.05",0.05,"0.05",33.6875,"33.6875",34.5625,"34.5625","stena","stena","stena","stena","stena","stena","","","",""]
[null,"101",0.5,{"$f":"SUBSTITUTE(C107,\",\",\".\")","v":"0.5"},0.05,{"$f":"SUBSTITUTE(E107,\",\",\".\")","v":"0.05"},0.05,{"$f":"SUBSTITUTE(G107,\",\",\".\")","v":"0.05"},35.4375,{"$f":"SUBSTITUTE(I107,\",\",\".\")","v":"35.4375"},36.3125,{"$f":"SUBSTITUTE(K107,\",\",\".\")","v":"36.3125"},"stena","stena",{"$f":"IF(OR(M107=\"otvor\",N107=\"otvor\"),\"otvor\",\"stena\")","v":"stena"},"stena","stena",{"$f":"IF(OR(P107=\"otvor\",Q107=\"otvor\"),\"otvor\",\"stena\")","v":"stena"},"","","",""]
[null,null,null,null,null,null,null,null,null,null,null,null,null,null,{"$f":"IF(O107=\"stena\",\"ok\",\"pozor\")","v":"ok"},null,null,{"$f":"IF(R107=\"stena\",\"ok\",\"pozor\")","v":"ok"},{"$f":"IF(S107=\"\",\"ok\",\"pozor\")","v":"ok"},{"$f":"IF(T107=\"\",\"ok\",\"pozor\")","v":"ok"}]

{"sheet":"Fire Devc B","index":3,"n_rows":108,"n_cols":22,"rows_kept":108,"cut":false,"hidden":false,"merged":[[1,7,1,11],[5,2,5,3],[5,4,5,5],[5,6,5,7],[5,8,5,9],[5,10,5,11]]}
[]
[null,"x",{"$f":"zadani!G7","v":5},"místno.",{"$f":"zadani!G6","v":"C1"},"hrana y",{"$f":"C3/zadani!G17","v":1},"STRANA B",null,null,null,null,{"$f":"zadani!G10","v":0},{"$f":"zadani!G11","v":0},{"$f":"zadani!G12","v":0},{"$f":"zadani!G38","v":"M1"},{"$f":"zadani!G41","v":1.4999999999999999E-2},{"$f":"SUBSTITUTE(Q2,\",\",\".\")","v":"0.015"}]
[null,"y",{"$f":"zadani!G8","v":10},"odstup",{"$f":"zadani!G13","v":0.05},"hrana z",{"$f":"C4/zadani!G18","v":0.875},"otvor 1",{"$f":"zadani!L10","v":"ne"},{"$f":"zadani!M10","v":"-"},{"$f":"zadani!N10","v":"-"},{"$f":"zadani!O10","v":0},{"$f":"zadani!P10","v":0},{"$f":"zadani!Q10","v":0},{"$f":"zadani!R10","v":0},{"$f":"zadani!G39","v":"PLATE"},{"$f":"zadani!G42","v":0},{"$f":"SUBSTITUTE(Q3,\",\",\".\")","v":"0"}]
[null,"z",{"$f":"zadani!G9","v":3.5},"vše ok?",{"$f":"IF(AND(O108=\"ok\",R108=\"ok\",S108=\"ok\",T108=\"ok\"),\"ok\",\"pozor\")","v":"ok"},null,null,"otvor 2",{"$f":"zadani!L11","v":"ne"},{"$f":"zadani!M11","v":"-"},{"$f":"zadani!N11","v":"-"},{"$f":"zadani!O11","v":0},{"$f":"zadani!P11","v":0},{"$f":"zadani!Q11","v":0},{"$f":"zadani!R11","v":0},{"$f":"zadani!G40","v":"FLOOR"},{"$f":"zadani!C42","v":250},{"$f":"SUBSTITUTE(Q4,\",\",\".\")","v":"250"}]
[]
[null,"pořad. číslo","X",null,"Y lichá",null,"Y sudá",null,"Z lichá",null,"Z sudá",null,"otvor 1 lichy","otvor 2 lichy","otvory liche","otvor 1 sudy","otvor 2 sudy","otvory sude"]
[null,{"$f":"RIGHT(\"00\"&ROW(A1),3)","v":"001"},{"$f":"C2-E3","v":4.95},{"$f":"SUBSTITUTE(C7,\",\",\".\")","v":"4.95"},{"$f":"G2/2","v":0.5},{"$f":"SUBSTITUTE(E7,\",\",\".\")","v":"0.5"},{"$f":"E3","v":0.05},{"$f":"SUBSTITUTE(G7,\",\",\".\")","v":"0.05"},{"$f":"G3/2","v":0.4375},{"$f":"SUBSTITUTE(I7,\",\",\".\")","v":"0.4375"},{"$f":"$G$3*1.5","v":1.3125},{"$f":"SUBSTITUTE(K7,\",\",\".\")","v":"1.3125"},{"$f":"IF($I$3=\"ano\",IF(AND(E7>$L$3,E7<$M$3,I7>$N$3,I7<$O$3),\"otvor\",\"stena\"),\"stena\")","v":"stena"},{"$f":"IF($I$4=\"ano\",IF(AND(E7>$L$4,E7<$M$4,I7>$N$4,I7<$O$4),\"otvor\",\"stena\"),\"stena\")","v":"stena"},{"$f":"IF(OR(M7=\"otvor\",N7=\"otvor\"),\"otvor\",\"stena\")","v":"stena"},{"$f":"IF($I$3=\"ano\",IF(AND(G7>$L$3,G7<$M$3,K7>$N$3,K7<$O$3),\"otvor\",\"stena\"),\"stena\")","v":"stena"},{"$f":"IF($I$4=\"ano\",IF(AND(G7>$L$4,G7<$M$4,K7>$N$4,K7<$O$4),\"otvor\",\"stena\"),\"stena\")","v":"stena"},{"$f":"IF(OR(P7=\"otvor\",Q7=\"otvor\"),\"otvor\",\"stena\")","v":"stena"},{"$f":"IF(AND(F7>$N$2,I7>$O$2),IF(O7=\"stena\",IF(I7>$C$4,\"\",CONCATENATE(\"&FIRE ID = 'F.\",$E$2,\".3.\",B7,\"' COMP_ID = '\",$E$2,\"', FIRE_ID = 'FP.\",$E$2,\".Y.\",J7,\"'  LOCATION = \",D7,\", \",F7,\" IGNITION_CRITERION = 'TEMPERATURE', DEVC_ID = 'T.\",$E$2,\".3.\",B7,\"', SETPOINT = \",$R$4,\" /\")),\"\"),\"\")","v":"&FIRE ID = 'F.C1.3.001' COMP_ID = 'C1', FIRE_ID = 'FP.C1.Y.0.4375'  LOCATION = 4.95, 0.5 IGNITION_CRITERION = 'TEMPERATURE', DEVC_ID = 'T.C1.3.001', SETPOINT = 250 /"},{"$f":"IF(AND(G7>$N$2,K7>$O$2),IF(R7=\"stena\",IF(K7>$C$4,\"\",CONCATENATE(\"&FIRE ID = 'F.\",$E$2,\".4.\",B7,\"' COMP_ID = '\",$E$2,\"', FIRE_ID = 'FP.\",$E$2,\".Y.\",L7,\"'  LOCATION = \",D7,\", \",H7,\" IGNITION_CRITERION = 'TEMPERATURE', DEVC_ID = 'T.\",$E$2,\".4.\",B7,\"', SETPOINT = \",$R$4,\" /\")),\"\"),\"\")","v":"&FIRE ID = 'F.C1.4.001' COMP_ID = 'C1', FIRE_ID = 'FP.C1.Y.1.3125'  LOCATION = 4.95, 0.05 IGNITION_CRITERION = 'TEMPERATURE', DEVC_ID = 'T.C1.4.001', SETPOINT = 250 /"},{"$f":"IF(S7=\"\",\"\",IF(O7=\"stena\",IF(I7>$C$4,\"\",CONCATENATE(\"&DEVC ID = 'T.\",$E$2,\".3.\",B7,\"' COMP_ID = '\",$E$2,\"'  LOCATION = \",D7,\", \",F7,\", \",J7,\" TYPE = '\",$P$3,\"' MATL_ID = '\",$P$2,\"' SURFACE_ORIENTATION = '\",$P$4,\"' THICKNESS = \",$R$2,\" TEMPERATURE_DEPTH = \",$R$3,\" DEPTH_UNITS = 'M' /\")),\"\"))","v":"&DEVC ID = 'T.C1.3.001' COMP_ID = 'C1'  LOCATION = 4.95, 0.5, 0.4375 TYPE = 'PLATE' MATL_ID = 'M1' SURFACE_ORIENTATION = 'FLOOR' THICKNESS = 0.015 TEMPERATURE_DEPTH = 0 DEPTH_UNITS = 'M' /"},{"$f":"IF(T7=\"\",\"\",IF(R7=\"stena\",IF(K7>$C$4,\"\",CONCATENATE(\"&DEVC ID = 'T.\",$E$2,\".4.\",B7,\"' COMP_ID = '\",$E$2,\"'  LOCATION = \",D7,\", \",H7,\", \",L7,\" TYPE = '\",$P$3,\"' MATL_ID = '\",$P$2,\"' SURFACE_ORIENTATION = '\",$P$4,\"' THICKNESS = \",$R$2,\" TEMPERATURE_DEPTH = \",$R$3,\" DEPTH_UNITS = 'M' /\")),\"\"))","v":"&DEVC ID = 'T.C1.4.001' COMP_ID = 'C1'  LOCATION = 4.95, 0.05, 1.3125 TYPE = 'PLATE' MATL_ID = 'M1' SURFACE_ORIENTATION = 'FLOOR' THICKNESS = 0.015 TEMPERATURE_DEPTH = 0 DEPTH_UNITS = 'M' /"}]
[null,{"$f":"RIGHT(\"00\"&ROW(A2),3)","v":"002"},{"$f":"$C$7","v":4.95},"4.95",{"$f":"IF(E7>=($C$3-$G$2/2),$G$2/2,E7+$G$2)","v":1.5},"1.5",{"$f":"IF(E7>=($C$3-$G$2),$E$3,$G$2+G7)","v":1.05},{"$f":"SUBSTITUTE(G8,\",\",\".\")","v":"1.05"},{"$f":"IF(E8=$G$2/2,I7+$G$3*2,I7)","v":0.4375},"0.4375",{"$f":"IF(G8=$E$3,K7+$G$3*2,K7)","v":1.3125},{"$f":"SUBSTITUTE(K8,\",\",\".\")","v":"1.3125"},{"$f":"IF($I$3=\"ano\",IF(AND(E8>$L$3,E8<$M$3,I8>$N$3,I8<$O$3),\"otvor\",\"stena\"),\"stena\")","v":"stena"},{"$f":"IF($I$4=\"ano\",IF(AND(E8>$L$4,E8<$M$4,I8>$N$4,I8<$O$4),\"otvor\",\"stena\"),\"stena\")","v":"stena"},"stena",{"$f":"IF($I$3=\"ano\",IF(AND(G8>$L$3,G8<$M$3,K8>$N$3,K8<$O$3),\"otvor\",\"stena\"),\"stena\")","v":"stena"},{"$f":"IF($I$4=\"ano\",IF(AND(G8>$L$4,G8<$M$4,K8>$N$4,K8<$O$4),\"otvor\",\"stena\"),\"stena\")","v":"stena"},"stena",{"$f":"IF(AND(F8>$N$2,I8>$O$2),IF(O8=\"stena\",IF(I8>$C$4,\"\",CONCATENATE(\"&FIRE ID = 'F.\",$E$2,\".3.\",B8,\"' COMP_ID = '\",$E$2,\"', FIRE_ID = 'FP.\",$E$2,\".Y.\",J8,\"'  LOCATION = \",D8,\", \",F8,\" IGNITION_CRITERION = 'TEMPERATURE', DEVC_ID = 'T.\",$E$2,\".3.\",B8,\"', SETPOINT = \",$R$4,\" /\")),\"\"),\"\")","v":"&FIRE ID = 'F.C1.3.002' COMP_ID = 'C1', FIRE_ID = 'FP.C1.Y.0.4375'  LOCATION = 4.95, 1.5 IGNITION_CRITERION = 'TEMPERATURE', DEVC_ID = 'T.C1.3.002', SETPOINT = 250 /"},{"$f":"IF(AND(G8>$N$2,K8>$O$2),IF(R8=\"stena\",IF(K8>$C$4,\"\",CONCATENATE(\"&FIRE ID = 'F.\",$E$2,\".4.\",B8,\"' COMP_ID = '\",$E$2,\"', FIRE_ID = 'FP.\",$E$2,\".Y.\",L8,\"'  LOCATION = \",D8,\", \",H8,\" IGNITION_CRITERION = 'TEMPERATURE', DEVC_ID = 'T.\",$E$2,\".4.\",B8,\"', SETPOINT = \",$R$4,\" /\")),\"\"),\"\")","v":"&FIRE ID = 'F.C1.4.002' COMP_ID = 'C1', FIRE_ID = 'FP.C1.Y.1.3125'  LOCATION = 4.95, 1.05 IGNITION_CRITERION = 'TEMPERATURE', DEVC_ID = 'T.C1.4.002', SETPOINT = 250 /"},{"$f":"IF(S8=\"\",\"\",IF(O8=\"stena\",IF(I8>$C$4,\"\",CONCATENATE(\"&DEVC ID = 'T.\",$E$2,\".3.\",B8,\"' COMP_ID = '\",$E$2,\"'  LOCATION = \",D8,\", \",F8,\", \",J8,\" TYPE = '\",$P$3,\"' MATL_ID = '\",$P$2,\"' SURFACE_ORIENTATION = '\",$P$4,\"' THICKNESS = \",$R$2,\" TEMPERATURE_DEPTH = \",$R$3,\" DEPTH_UNITS = 'M' /\")),\"\"))","v":"&DEVC ID = 'T.C1.3.002' COMP_ID = 'C1'  LOCATION = 4.95, 1.5, 0.4375 TYPE = 'PLATE' MATL_ID = 'M1' SURFACE_ORIENTATION = 'FLOOR' THICKNESS = 0.015 TEMPERATURE_DEPTH = 0 DEPTH_UNITS = 'M' /"},{"$f":"IF(T8=\"\",\"\",IF(R8=\"stena\",IF(K8>$C$4,\"\",CONCATENATE(\"&DEVC ID = 'T.\",$E$2,\".4.\",B8,\"' COMP_ID = '\",$E$2,\"'  LOCATION = \",D8,\", \",H8,\", \",L8,\" TYPE = '\",$P$3,\"' MATL_ID = '\",$P$2,\"' SURFACE_ORIENTATION = '\",$P$4,\"' THICKNESS = \",$R$2,\" TEMPERATURE_DEPTH = \",$R$3,\" DEPTH_UNITS = 'M' /\")),\"\"))","v":"&DEVC ID = 'T.C1.4.002' COMP_ID = 'C1'  LOCATION = 4.95, 1.05, 1.3125 TYPE = 'PLATE' MATL_ID = 'M1' SURFACE_ORIENTATION = 'FLOOR' THICKNESS = 0.015 TEMPERATURE_DEPTH = 0 DEPTH_UNITS = 'M' /"}]
[null,{"$f":"RIGHT(\"00\"&ROW(A3),3)","v":"003"},{"$f":"$C$7","v":4.95},"4.95",{"$f":"IF(E8>=($C$3-$G$2/2),$G$2/2,E8+$G$2)","v":2.5},"2.5",{"$f":"IF(E8>=($C$3-$G$2),$E$3,$G$2+G8)","v":2.0499999999999998},"2.05",{"$f":"IF(E9=$G$2/2,I8+$G$3*2,I8)","v":0.4375},"0.4375",{"$f":"IF(G9=$E$3,K8+$G$3*2,K8)","v":1.3125},{"$f":"SUBSTITUTE(K9,\",\",\".\")","v":"1.3125"},"stena","stena","stena","stena","stena","stena","&FIRE ID = 'F.C1.3.003' COMP_ID = 'C1', FIRE_ID = 'FP.C1.Y.0.4375'  LOCATION = 4.95, 2.5 IGNITION_CRITERION = 'TEMPERATURE', DEVC_ID = 'T.C1.3.003', SETPOINT = 250 /","&FIRE ID = 'F.C1.4.003' COMP_ID = 'C1', FIRE_ID = 'FP.C1.Y.1.3125'  LOCATION = 4.95, 2.05 IGNITION_CRITERION = 'TEMPERATURE', DEVC_ID = 'T.C1.4.003', SETPOINT = 250 /","&DEVC ID = 'T.C1.3.003' COMP_ID = 'C1'  LOCATION = 4.95, 2.5, 0.4375 TYPE = 'PLATE' MATL_ID = 'M1' SURFACE_ORIENTATION = 'FLOOR' THICKNESS = 0.015 TEMPERATURE_DEPTH = 0 DEPTH_UNITS = 'M' /","&DEVC ID = 'T.C1.4.003' COMP_ID = 'C1'  LOCATION = 4.95, 2.05, 1.3125 TYPE = 'PLATE' MATL_ID = 'M1' SURFACE_ORIENTATION = 'FLOOR' THICKNESS = 0.015 TEMPERATURE_DEPTH = 0 DEPTH_UNITS = 'M' /"]
[null,{"$f":"RIGHT(\"00\"&ROW(A4),3)","v":"004"},4.95,"4.95",3.5,"3.5",3.05,"3.05",0.4375,"0.4375",1.3125,"1.3125","stena","stena","stena","stena","stena","stena","&FIRE ID = 'F.C1.3.004' COMP_ID = 'C1', FIRE_ID = 'FP.C1.Y.0.4375'  LOCATION = 4.95, 3.5 IGNITION_CRITERION = 'TEMPERATURE', DEVC_ID = 'T.C1.3.004', SETPOINT = 250 /","&FIRE ID = 'F.C1.4.004' COMP_ID = 'C1', FIRE_ID = 'FP.C1.Y.1.3125'  LOCATION = 4.95, 3.05 IGNITION_CRITERION = 'TEMPERATURE', DEVC_ID = 'T.C1.4.004', SETPOINT = 250 /","&DEVC ID = 'T.C1.3.004' COMP_ID = 'C1'  LOCATION = 4.95, 3.5, 0.4375 TYPE = 'PLATE' MATL_ID = 'M1' SURFACE_ORIENTATION = 'FLOOR' THICKNESS = 0.015 TEMPERATURE_DEPTH = 0 DEPTH_UNITS = 'M' /","&DEVC ID = 'T.C1.4.004' COMP_ID = 'C1'  LOCATION = 4.95, 3.05, 1.3125 TYPE = 'PLATE' MATL_ID = 'M1' SURFACE_ORIENTATION = 'FLOOR' THICKNESS = 0.015 TEMPERATURE_DEPTH = 0 DEPTH_UNITS = 'M' /"]
[null,"005",4.95,"4.95",4.5,"4.5",4.05,"4.05",0.4375,"0.4375",1.3125,"1.3125","stena","stena",{"$f":"IF(OR(M11=\"otvor\",N11=\"otvor\"),\"otvor\",\"stena\")","v":"stena"},"stena","stena","stena","&FIRE ID = 'F.C1.3.005' COMP_ID = 'C1', FIRE_ID = 'FP.C1.Y.0.4375'  LOCATION = 4.95, 4.5 IGNITION_CRITERION = 'TEMPERATURE', DEVC_ID = 'T.C1.3.005', SETPOINT = 250 /","&FIRE ID = 'F.C1.4.005' COMP_ID = 'C1', FIRE_ID = 'FP.C1.Y.1.3125'  LOCATION = 4.95, 4.05 IGNITION_CRITERION = 'TEMPERATURE', DEVC_ID = 'T.C1.4.005', SETPOINT = 250 /","&DEVC ID = 'T.C1.3.005' COMP_ID = 'C1'  LOCATION = 4.95, 4.5, 0.4375 TYPE = 'PLATE' MATL_ID = 'M1' SURFACE_ORIENTATION = 'FLOOR' THICKNESS = 0.015 TEMPERATURE_DEPTH = 0 DEPTH_UNITS = 'M' /","&DEVC ID = 'T.C1.4.005' COMP_ID = 'C1'  LOCATION = 4.95, 4.05, 1.3125 TYPE = 'PLATE' MATL_ID = 'M1' SURFACE_ORIENTATION = 'FLOOR' THICKNESS = 0.015 TEMPERATURE_DEPTH = 0 DEPTH_UNITS = 'M' /"]
[null,"006",4.95,"4.95",5.5,"5.5",5.05,"5.05",0.4375,"0.4375",1.3125,"1.3125","stena","stena",{"$f":"IF(OR(M12=\"otvor\",N12=\"otvor\"),\"otvor\",\"stena\")","v":"stena"},"stena","stena","stena","&FIRE ID = 'F.C1.3.006' COMP_ID = 'C1', FIRE_ID = 'FP.C1.Y.0.4375'  LOCATION = 4.95, 5.5 IGNITION_CRITERION = 'TEMPERATURE', DEVC_ID = 'T.C1.3.006', SETPOINT = 250 /","&FIRE ID = 'F.C1.4.006' COMP_ID = 'C1', FIRE_ID = 'FP.C1.Y.1.3125'  LOCATION = 4.95, 5.05 IGNITION_CRITERION = 'TEMPERATURE', DEVC_ID = 'T.C1.4.006', SETPOINT = 250 /","&DEVC ID = 'T.C1.3.006' COMP_ID = 'C1'  LOCATION = 4.95, 5.5, 0.4375 TYPE = 'PLATE' MATL_ID = 'M1' SURFACE_ORIENTATION = 'FLOOR' THICKNESS = 0.015 TEMPERATURE_DEPTH = 0 DEPTH_UNITS = 'M' /","&DEVC ID = 'T.C1.4.006' COMP_ID = 'C1'  LOCATION = 4.95, 5.05, 1.3125 TYPE = 'PLATE' MATL_ID = 'M1' SURFACE_ORIENTATION = 'FLOOR' THICKNESS = 0.015 TEMPERATURE_DEPTH = 0 DEPTH_UNITS = 'M' /"]
[null,"007",4.95,"4.95",6.5,"6.5",6.05,"6.05",0.4375,"0.4375",1.3125,"1.3125","stena","stena",{"$f":"IF(OR(M13=\"otvor\",N13=\"otvor\"),\"otvor\",\"stena\")","v":"stena"},"stena","stena","stena","&FIRE ID = 'F.C1.3.007' COMP_ID = 'C1', FIRE_ID = 'FP.C1.Y.0.4375'  LOCATION = 4.95, 6.5 IGNITION_CRITERION = 'TEMPERATURE', DEVC_ID = 'T.C1.3.007', SETPOINT = 250 /","&FIRE ID = 'F.C1.4.007' COMP_ID = 'C1', FIRE_ID = 'FP.C1.Y.1.3125'  LOCATION = 4.95, 6.05 IGNITION_CRITERION = 'TEMPERATURE', DEVC_ID = 'T.C1.4.007', SETPOINT = 250 /","&DEVC ID = 'T.C1.3.007' COMP_ID = 'C1'  LOCATION = 4.95, 6.5, 0.4375 TYPE = 'PLATE' MATL_ID = 'M1' SURFACE_ORIENTATION = 'FLOOR' THICKNESS = 0.015 TEMPERATURE_DEPTH = 0 DEPTH_UNITS = 'M' /","&DEVC ID = 'T.C1.4.007' COMP_ID = 'C1'  LOCATION = 4.95, 6.05, 1.3125 TYPE = 'PLATE' MATL_ID = 'M1' SURFACE_ORIENTATION = 'FLOOR' THICKNESS = 0.015 TEMPERATURE_DEPTH = 0 DEPTH_UNITS = 'M' /"]
[null,"008",4.95,"4.95",7.5,"7.5",7.05,"7.05",0.4375,"0.4375",1.3125,"1.3125","stena","stena","stena","stena","stena","stena","&FIRE ID = 'F.C1.3.008' COMP_ID = 'C1', FIRE_ID = 'FP.C1.Y.0.4375'  LOCATION = 4.95, 7.5 IGNITION_CRITERION = 'TEMPERATURE', DEVC_ID = 'T.C1.3.008', SETPOINT = 250 /","&FIRE ID = 'F.C1.4.008' COMP_ID = 'C1', FIRE_ID = 'FP.C1.Y.1.3125'  LOCATION = 4.95, 7.05 IGNITION_CRITERION = 'TEMPERATURE', DEVC_ID = 'T.C1.4.008', SETPOINT = 250 /","&DEVC ID = 'T.C1.3.008' COMP_ID = 'C1'  LOCATION = 4.95, 7.5, 0.4375 TYPE = 'PLATE' MATL_ID = 'M1' SURFACE_ORIENTATION = 'FLOOR' THICKNESS = 0.015 TEMPERATURE_DEPTH = 0 DEPTH_UNITS = 'M' /","&DEVC ID = 'T.C1.4.008' COMP_ID = 'C1'  LOCATION = 4.95, 7.05, 1.3125 TYPE = 'PLATE' MATL_ID = 'M1' SURFACE_ORIENTATION = 'FLOOR' THICKNESS = 0.015 TEMPERATURE_DEPTH = 0 DEPTH_UNITS = 'M' /"]
[null,"009",4.95,"4.95",8.5,"8.5",8.0500000000000007,"8.05",0.4375,"0.4375",1.3125,"1.3125","stena","stena","stena","stena","stena","stena","&FIRE ID = 'F.C1.3.009' COMP_ID = 'C1', FIRE_ID = 'FP.C1.Y.0.4375'  LOCATION = 4.95, 8.5 IGNITION_CRITERION = 'TEMPERATURE', DEVC_ID = 'T.C1.3.009', SETPOINT = 250 /","&FIRE ID = 'F.C1.4.009' COMP_ID = 'C1', FIRE_ID = 'FP.C1.Y.1.3125'  LOCATION = 4.95, 8.05 IGNITION_CRITERION = 'TEMPERATURE', DEVC_ID = 'T.C1.4.009', SETPOINT = 250 /","&DEVC ID = 'T.C1.3.009' COMP_ID = 'C1'  LOCATION = 4.95, 8.5, 0.4375 TYPE = 'PLATE' MATL_ID = 'M1' SURFACE_ORIENTATION = 'FLOOR' THICKNESS = 0.015 TEMPERATURE_DEPTH = 0 DEPTH_UNITS = 'M' /","&DEVC ID = 'T.C1.4.009' COMP_ID = 'C1'  LOCATION = 4.95, 8.05, 1.3125 TYPE = 'PLATE' MATL_ID = 'M1' SURFACE_ORIENTATION = 'FLOOR' THICKNESS = 0.015 TEMPERATURE_DEPTH = 0 DEPTH_UNITS = 'M' /"]
[null,"010",4.95,"4.95",9.5,"9.5",9.0500000000000007,"9.05",0.4375,"0.4375",1.3125,"1.3125","stena","stena","stena","stena","stena","stena","&FIRE ID = 'F.C1.3.010' COMP_ID = 'C1', FIRE_ID = 'FP.C1.Y.0.4375'  LOCATION = 4.95, 9.5 IGNITION_CRITERION = 'TEMPERATURE', DEVC_ID = 'T.C1.3.010', SETPOINT = 250 /","&FIRE ID = 'F.C1.4.010' COMP_ID = 'C1', FIRE_ID = 'FP.C1.Y.1.3125'  LOCATION = 4.95, 9.05 IGNITION_CRITERION = 'TEMPERATURE', DEVC_ID = 'T.C1.4.010', SETPOINT = 250 /","&DEVC ID = 'T.C1.3.010' COMP_ID = 'C1'  LOCATION = 4.95, 9.5, 0.4375 TYPE = 'PLATE' MATL_ID = 'M1' SURFACE_ORIENTATION = 'FLOOR' THICKNESS = 0.015 TEMPERATURE_DEPTH = 0 DEPTH_UNITS = 'M' /","&DEVC ID = 'T.C1.4.010' COMP_ID = 'C1'  LOCATION = 4.95, 9.05, 1.3125 TYPE = 'PLATE' MATL_ID = 'M1' SURFACE_ORIENTATION = 'FLOOR' THICKNESS = 0.015 TEMPERATURE_DEPTH = 0 DEPTH_UNITS = 'M' /"]
[null,"011",4.95,"4.95",0.5,"0.5",0.05,"0.05",2.1875,"2.1875",3.0625,"3.0625","stena","stena","stena","stena","stena","stena","&FIRE ID = 'F.C1.3.011' COMP_ID = 'C1', FIRE_ID = 'FP.C1.Y.2.1875'  LOCATION = 4.95, 0.5 IGNITION_CRITERION = 'TEMPERATURE', DEVC_ID = 'T.C1.3.011', SETPOINT = 250 /","&FIRE ID = 'F.C1.4.011' COMP_ID = 'C1', FIRE_ID = 'FP.C1.Y.3.0625'  LOCATION = 4.95, 0.05 IGNITION_CRITERION = 'TEMPERATURE', DEVC_ID = 'T.C1.4.011', SETPOINT = 250 /","&DEVC ID = 'T.C1.3.011' COMP_ID = 'C1'  LOCATION = 4.95, 0.5, 2.1875 TYPE = 'PLATE' MATL_ID = 'M1' SURFACE_ORIENTATION = 'FLOOR' THICKNESS = 0.015 TEMPERATURE_DEPTH = 0 DEPTH_UNITS = 'M' /","&DEVC ID = 'T.C1.4.011' COMP_ID = 'C1'  LOCATION = 4.95, 0.05, 3.0625 TYPE = 'PLATE' MATL_ID = 'M1' SURFACE_ORIENTATION = 'FLOOR' THICKNESS = 0.015 TEMPERATURE_DEPTH = 0 DEPTH_UNITS = 'M' /"]
[null,"012",4.95,"4.95",1.5,"1.5",1.05,"1.05",2.1875,"2.1875",3.0625,"3.0625","stena","stena","stena","stena","stena","stena","&FIRE ID = 'F.C1.3.012' COMP_ID = 'C1', FIRE_ID = 'FP.C1.Y.2.1875'  LOCATION = 4.95, 1.5 IGNITION_CRITERION = 'TEMPERATURE', DEVC_ID = 'T.C1.3.012', SETPOINT = 250 /","&FIRE ID = 'F.C1.4.012' COMP_ID = 'C1', FIRE_ID = 'FP.C1.Y.3.0625'  LOCATION = 4.95, 1.05 IGNITION_CRITERION = 'TEMPERATURE', DEVC_ID = 'T.C1.4.012', SETPOINT = 250 /","&DEVC ID = 'T.C1.3.012' COMP_ID = 'C1'  LOCATION = 4.95, 1.5, 2.1875 TYPE = 'PLATE' MATL_ID = 'M1' SURFACE_ORIENTATION = 'FLOOR' THICKNESS = 0.015 TEMPERATURE_DEPTH = 0 DEPTH_UNITS = 'M' /","&DEVC ID = 'T.C1.4.012' COMP_ID = 'C1'  LOCATION = 4.95, 1.05, 3.0625 TYPE = 'PLATE' MATL_ID = 'M1' SURFACE_ORIENTATION = 'FLOOR' THICKNESS = 0.015 TEMPERATURE_DEPTH = 0 DEPTH_UNITS = 'M' /"]
[null,"013",4.95,"4.95",2.5,"2.5",2.0499999999999998,"2.05",2.1875,"2.1875",3.0625,"3.0625","stena",{"$f":"IF($I$4=\"ano\",IF(AND(E19>$L$4,E19<$M$4,I19>$N$4,I19<$O$4),\"otvor\",\"stena\"),\"stena\")","v":"stena"},"stena","stena","stena","stena","&FIRE ID = 'F.C1.3.013' COMP_ID = 'C1', FIRE_ID = 'FP.C1.Y.2.1875'  LOCATION = 4.95, 2.5 IGNITION_CRITERION = 'TEMPERATURE', DEVC_ID = 'T.C1.3.013', SETPOINT = 250 /","&FIRE ID = 'F.C1.4.013' COMP_ID = 'C1', FIRE_ID = 'FP.C1.Y.3.0625'  LOCATION = 4.95, 2.05 IGNITION_CRITERION = 'TEMPERATURE', DEVC_ID = 'T.C1.4.013', SETPOINT = 250 /","&DEVC ID = 'T.C1.3.013' COMP_ID = 'C1'  LOCATION = 4.95, 2.5, 2.1875 TYPE = 'PLATE' MATL_ID = 'M1' SURFACE_ORIENTATION = 'FLOOR' THICKNESS = 0.015 TEMPERATURE_DEPTH = 0 DEPTH_UNITS = 'M' /","&DEVC ID = 'T.C1.4.013' COMP_ID = 'C1'  LOCATION = 4.95, 2.05, 3.0625 TYPE = 'PLATE' MATL_ID = 'M1' SURFACE_ORIENTATION = 'FLOOR' THICKNESS = 0.015 TEMPERATURE_DEPTH = 0 DEPTH_UNITS = 'M' /"]
[null,"014",4.95,"4.95",3.5,"3.5",3.05,"3.05",2.1875,"2.1875",3.0625,"3.0625","stena","stena","stena","stena","stena","stena","&FIRE ID = 'F.C1.3.014' COMP_ID = 'C1', FIRE_ID = 'FP.C1.Y.2.1875'  LOCATION = 4.95, 3.5 IGNITION_CRITERION = 'TEMPERATURE', DEVC_ID = 'T.C1.3.014', SETPOINT = 250 /","&FIRE ID = 'F.C1.4.014' COMP_ID = 'C1', FIRE_ID = 'FP.C1.Y.3.0625'  LOCATION = 4.95, 3.05 IGNITION_CRITERION = 'TEMPERATURE', DEVC_ID = 'T.C1.4.014', SETPOINT = 250 /","&DEVC ID = 'T.C1.3.014' COMP_ID = 'C1'  LOCATION = 4.95, 3.5, 2.1875 TYPE = 'PLATE' MATL_ID = 'M1' SURFACE_ORIENTATION = 'FLOOR' THICKNESS = 0.015 TEMPERATURE_DEPTH = 0 DEPTH_UNITS = 'M' /","&DEVC ID = 'T.C1.4.014' COMP_ID = 'C1'  LOCATION = 4.95, 3.05, 3.0625 TYPE = 'PLATE' MATL_ID = 'M1' SURFACE_ORIENTATION = 'FLOOR' THICKNESS = 0.015 TEMPERATURE_DEPTH = 0 DEPTH_UNITS = 'M' /"]
[null,"015",4.95,"4.95",4.5,"4.5",4.05,"4.05",2.1875,"2.1875",3.0625,"3.0625","stena","stena","stena","stena","stena","stena","&FIRE ID = 'F.C1.3.015' COMP_ID = 'C1', FIRE_ID = 'FP.C1.Y.2.1875'  LOCATION = 4.95, 4.5 IGNITION_CRITERION = 'TEMPERATURE', DEVC_ID = 'T.C1.3.015', SETPOINT = 250 /","&FIRE ID = 'F.C1.4.015' COMP_ID = 'C1', FIRE_ID = 'FP.C1.Y.3.0625'  LOCATION = 4.95, 4.05 IGNITION_CRITERION = 'TEMPERATURE', DEVC_ID = 'T.C1.4.015', SETPOINT = 250 /","&DEVC ID = 'T.C1.3.015' COMP_ID = 'C1'  LOCATION = 4.95, 4.5, 2.1875 TYPE = 'PLATE' MATL_ID = 'M1' SURFACE_ORIENTATION = 'FLOOR' THICKNESS = 0.015 TEMPERATURE_DEPTH = 0 DEPTH_UNITS = 'M' /","&DEVC ID = 'T.C1.4.015' COMP_ID = 'C1'  LOCATION = 4.95, 4.05, 3.0625 TYPE = 'PLATE' MATL_ID = 'M1' SURFACE_ORIENTATION = 'FLOOR' THICKNESS = 0.015 TEMPERATURE_DEPTH = 0 DEPTH_UNITS = 'M' /"]
[null,"016",4.95,"4.95",5.5,"5.5",5.05,"5.05",2.1875,"2.1875",3.0625,"3.0625","stena","stena","stena","stena","stena","stena","&FIRE ID = 'F.C1.3.016' COMP_ID = 'C1', FIRE_ID = 'FP.C1.Y.2.1875'  LOCATION = 4.95, 5.5 IGNITION_CRITERION = 'TEMPERATURE', DEVC_ID = 'T.C1.3.016', SETPOINT = 250 /","&FIRE ID = 'F.C1.4.016' COMP_ID = 'C1', FIRE_ID = 'FP.C1.Y.3.0625'  LOCATION = 4.95, 5.05 IGNITION_CRITERION = 'TEMPERATURE', DEVC_ID = 'T.C1.4.016', SETPOINT = 250 /","&DEVC ID = 'T.C1.3.016' COMP_ID = 'C1'  LOCATION = 4.95, 5.5, 2.1875 TYPE = 'PLATE' MATL_ID = 'M1' SURFACE_ORIENTATION = 'FLOOR' THICKNESS = 0.015 TEMPERATURE_DEPTH = 0 DEPTH_UNITS = 'M' /","&DEVC ID = 'T.C1.4.016' COMP_ID = 'C1'  LOCATION = 4.95, 5.05, 3.0625 TYPE = 'PLATE' MATL_ID = 'M1' SURFACE_ORIENTATION = 'FLOOR' THICKNESS = 0.015 TEMPERATURE_DEPTH = 0 DEPTH_UNITS = 'M' /"]
[null,"017",4.95,"4.95",6.5,"6.5",6.05,"6.05",2.1875,"2.1875",3.0625,"3.0625","stena","stena","stena","stena","stena","stena","&FIRE ID = 'F.C1.3.017' COMP_ID = 'C1', FIRE_ID = 'FP.C1.Y.2.1875'  LOCATION = 4.95, 6.5 IGNITION_CRITERION = 'TEMPERATURE', DEVC_ID = 'T.C1.3.017', SETPOINT = 250 /","&FIRE ID = 'F.C1.4.017' COMP_ID = 'C1', FIRE_ID = 'FP.C1.Y.3.0625'  LOCATION = 4.95, 6.05 IGNITION_CRITERION = 'TEMPERATURE', DEVC_ID = 'T.C1.4.017', SETPOINT = 250 /","&DEVC ID = 'T.C1.3.017' COMP_ID = 'C1'  LOCATION = 4.95, 6.5, 2.1875 TYPE = 'PLATE' MATL_ID = 'M1' SURFACE_ORIENTATION = 'FLOOR' THICKNESS = 0.015 TEMPERATURE_DEPTH = 0 DEPTH_UNITS = 'M' /","&DEVC ID = 'T.C1.4.017' COMP_ID = 'C1'  LOCATION = 4.95, 6.05, 3.0625 TYPE = 'PLATE' MATL_ID = 'M1' SURFACE_ORIENTATION = 'FLOOR' THICKNESS = 0.015 TEMPERATURE_DEPTH = 0 DEPTH_UNITS = 'M' /"]
[null,"018",4.95,"4.95",7.5,"7.5",7.05,"7.05",2.1875,"2.1875",3.0625,"3.0625","stena","stena","stena","stena","stena","stena","&FIRE ID = 'F.C1.3.018' COMP_ID = 'C1', FIRE_ID = 'FP.C1.Y.2.1875'  LOCATION = 4.95, 7.5 IGNITION_CRITERION = 'TEMPERATURE', DEVC_ID = 'T.C1.3.018', SETPOINT = 250 /","&FIRE ID = 'F.C1.4.018' COMP_ID = 'C1', FIRE_ID = 'FP.C1.Y.3.0625'  LOCATION = 4.95, 7.05 IGNITION_CRITERION = 'TEMPERATURE', DEVC_ID = 'T.C1.4.018', SETPOINT = 250 /","&DEVC ID = 'T.C1.3.018' COMP_ID = 'C1'  LOCATION = 4.95, 7.5, 2.1875 TYPE = 'PLATE' MATL_ID = 'M1' SURFACE_ORIENTATION = 'FLOOR' THICKNESS = 0.015 TEMPERATURE_DEPTH = 0 DEPTH_UNITS = 'M' /","&DEVC ID = 'T.C1.4.018' COMP_ID = 'C1'  LOCATION = 4.95, 7.05, 3.0625 TYPE = 'PLATE' MATL_ID = 'M1' SURFACE_ORIENTATION = 'FLOOR' THICKNESS = 0.015 TEMPERATURE_DEPTH = 0 DEPTH_UNITS = 'M' /"]
[null,"019",4.95,"4.95",8.5,"8.5",8.0500000000000007,"8.05",2.1875,"2.1875",3.0625,"3.0625","stena","stena","stena","stena","stena","stena","&FIRE ID = 'F.C1.3.019' COMP_ID = 'C1', FIRE_ID = 'FP.C1.Y.2.1875'  LOCATION = 4.95, 8.5 IGNITION_CRITERION = 'TEMPERATURE', DEVC_ID = 'T.C1.3.019', SETPOINT = 250 /","&FIRE ID = 'F.C1.4.019' COMP_ID = 'C1', FIRE_ID = 'FP.C1.Y.3.0625'  LOCATION = 4.95, 8.05 IGNITION_CRITERION = 'TEMPERATURE', DEVC_ID = 'T.C1.4.019', SETPOINT = 250 /","&DEVC ID = 'T.C1.3.019' COMP_ID = 'C1'  LOCATION = 4.95, 8.5, 2.1875 TYPE = 'PLATE' MATL_ID = 'M1' SURFACE_ORIENTATION = 'FLOOR' THICKNESS = 0.015 TEMPERATURE_DEPTH = 0 DEPTH_UNITS = 'M' /","&DEVC ID = 'T.C1.4.019' COMP_ID = 'C1'  LOCATION = 4.95, 8.05, 3.0625 TYPE = 'PLATE' MATL_ID = 'M1' SURFACE_ORIENTATION = 'FLOOR' THICKNESS = 0.015 TEMPERATURE_DEPTH = 0 DEPTH_UNITS = 'M' /"]
[null,"020",4.95,"4.95",9.5,"9.5",9.0500000000000007,"9.05",2.1875,"2.1875",3.0625,"3.0625","stena","stena","stena","stena","stena","stena","&FIRE ID = 'F.C1.3.020' COMP_ID = 'C1', FIRE_ID = 'FP.C1.Y.2.1875'  LOCATION = 4.95, 9.5 IGNITION_CRITERION = 'TEMPERATURE', DEVC_ID = 'T.C1.3.020', SETPOINT = 250 /","&FIRE ID = 'F.C1.4.020' COMP_ID = 'C1', FIRE_ID = 'FP.C1.Y.3.0625'  LOCATION = 4.95, 9.05 IGNITION_CRITERION = 'TEMPERATURE', DEVC_ID = 'T.C1.4.020', SETPOINT = 250 /","&DEVC ID = 'T.C1.3.020' COMP_ID = 'C1'  LOCATION = 4.95, 9.5, 2.1875 TYPE = 'PLATE' MATL_ID = 'M1' SURFACE_ORIENTATION = 'FLOOR' THICKNESS = 0.015 TEMPERATURE_DEPTH = 0 DEPTH_UNITS = 'M' /","&DEVC ID = 'T.C1.4.020' COMP_ID = 'C1'  LOCATION = 4.95, 9.05, 3.0625 TYPE = 'PLATE' MATL_ID = 'M1' SURFACE_ORIENTATION = 'FLOOR' THICKNESS = 0.015 TEMPERATURE_DEPTH = 0 DEPTH_UNITS = 'M' /"]
[null,"021",4.95,"4.95",0.5,"0.5",0.05,"0.05",3.9375,"3.9375",4.8125,"4.8125","stena","stena","stena","stena","stena","stena","","","",""]
[null,"022",4.95,"4.95",1.5,"1.5",1.05,"1.05",3.9375,"3.9375",4.8125,"4.8125","stena","stena","stena","stena","stena","stena","","","",""]
[null,"023",4.95,"4.95",2.5,"2.5",2.0499999999999998,"2.05",3.9375,"3.9375",4.8125,"4.8125","stena","stena","stena","stena","stena","stena","","","",""]
[null,"024",4.95,"4.95",3.5,"3.5",3.05,"3.05",3.9375,"3.9375",4.8125,"4.8125","stena","stena","stena","stena","stena","stena","","","",""]
[null,"025",4.95,"4.95",4.5,"4.5",4.05,"4.05",3.9375,"3.9375",4.8125,"4.8125","stena","stena","stena","stena","stena","stena","","","",""]
[null,"026",4.95,"4.95",5.5,"5.5",5.05,"5.05",3.9375,"3.9375",4.8125,"4.8125","stena","stena","stena","stena","stena","stena","","","",""]
[null,"027",4.95,"4.95",6.5,"6.5",6.05,"6.05",3.9375,"3.9375",4.8125,"4.8125","stena","stena","stena","stena","stena","stena","","","",""]
[null,"028",4.95,"4.95",7.5,"7.5",7.05,"7.05",3.9375,"3.9375",4.8125,"4.8125","stena","stena","stena","stena","stena","stena","","","",""]
[null,"029",4.95,"4.95",8.5,"8.5",8.0500000000000007,"8.05",3.9375,"3.9375",4.8125,"4.8125","stena","stena","stena","stena","stena","stena","","","",""]
[null,"030",4.95,"4.95",9.5,"9.5",9.0500000000000007,"9.05",3.9375,"3.9375",4.8125,"4.8125","stena","stena","stena","stena","stena","stena","","","",""]
[null,"031",4.95,"4.95",0.5,"0.5",0.05,"0.05",5.6875,"5.6875",6.5625,"6.5625","stena","stena","stena","stena","stena","stena","","","",""]
[null,"032",4.95,"4.95",1.5,"1.5",1.05,"1.05",5.6875,"5.6875",6.5625,"6.5625","stena","stena","stena","stena","stena","stena","","","",""]
[null,"033",4.95,"4.95",2.5,"2.5",2.0499999999999998,"2.05",5.6875,"5.6875",6.5625,"6.5625","stena","stena","stena","stena","stena","stena","","","",""]
[null,"034",4.95,"4.95",3.5,"3.5",3.05,"3.05",5.6875,"5.6875",6.5625,"6.5625","stena","stena","stena","stena","stena","stena","","","",""]
[null,"035",4.95,"4.95",4.5,"4.5",4.05,"4.05",5.6875,"5.6875",6.5625,"6.5625","stena","stena","stena","stena","stena","stena","","","",""]
[null,"036",4.95,"4.95",5.5,"5.5",5.05,"5.05",5.6875,"5.6875",6.5625,"6.5625","stena","stena","stena","stena","stena","stena","","","",""]
[null,"037",4.95,"4.95",6.5,"6.5",6.05,"6.05",5.6875,"5.6875",6.5625,"6.5625","stena","stena","stena","stena","stena","stena","","","",""]
[null,"038",4.95,"4.95",7.5,"7.5",7.05,"7.05",5.6875,"5.6875",6.5625,"6.5625","stena","stena","stena","stena","stena","stena","","","",""]
[null,"039",4.95,"4.95",8.5,"8.5",8.0500000000000007,"8.05",5.6875,"5.6875",6.5625,"6.5625","stena","stena","stena","stena","stena","stena","","","",""]
[null,"040",4.95,"4.95",9.5,"9.5",9.0500000000000007,"9.05",5.6875,"5.6875",6.5625,"6.5625","stena","stena","stena","stena","stena","stena","","","",""]
[null,"041",4.95,"4.95",0.5,"0.5",0.05,"0.05",7.4375,"7.4375",8.3125,"8.3125","stena","stena","stena","stena","stena","stena","","","",""]
[null,"042",4.95,"4.95",1.5,"1.5",1.05,"1.05",7.4375,"7.4375",8.3125,"8.3125","stena","stena","stena","stena","stena","stena","","","",""]
[null,"043",4.95,"4.95",2.5,"2.5",2.0499999999999998,"2.05",7.4375,"7.4375",8.3125,"8.3125","stena","stena","stena","stena","stena","stena","","","",""]
[null,"044",4.95,"4.95",3.5,"3.5",3.05,"3.05",7.4375,"7.4375",8.3125,"8.3125","stena","stena","stena","stena","stena","stena","","","",""]
[null,"045",4.95,"4.95",4.5,"4.5",4.05,"4.05",7.4375,"7.4375",8.3125,"8.3125","stena","stena","stena","stena","stena","stena","","","",""]
[null,"046",4.95,"4.95",5.5,"5.5",5.05,"5.05",7.4375,"7.4375",8.3125,"8.3125","stena","stena","stena","stena","stena","stena","","","",""]
[null,"047",4.95,"4.95",6.5,"6.5",6.05,"6.05",7.4375,"7.4375",8.3125,"8.3125","stena","stena","stena","stena","stena","stena","","","",""]
[null,"048",4.95,"4.95",7.5,"7.5",7.05,"7.05",7.4375,"7.4375",8.3125,"8.3125","stena","stena","stena","stena","stena","stena","","","",""]
[null,"049",4.95,"4.95",8.5,"8.5",8.0500000000000007,"8.05",7.4375,"7.4375",8.3125,"8.3125","stena","stena","stena","stena","stena","stena","","","",""]
[null,"050",4.95,"4.95",9.5,"9.5",9.0500000000000007,"9.05",7.4375,"7.4375",8.3125,"8.3125","stena","stena","stena","stena","stena","stena","","","",""]
[null,"051",4.95,"4.95",0.5,"0.5",0.05,"0.05",9.1875,"9.1875",10.0625,"10.0625","stena","stena","stena","stena","stena","stena","","","",""]
[null,"052",4.95,"4.95",1.5,"1.5",1.05,"1.05",9.1875,"9.1875",10.0625,"10.0625","stena","stena","stena","stena","stena","stena","","","",""]
[null,"053",4.95,"4.95",2.5,"2.5",2.0499999999999998,"2.05",9.1875,"9.1875",10.0625,"10.0625","stena","stena","stena","stena","stena","stena","","","",""]
[null,"054",4.95,"4.95",3.5,"3.5",3.05,"3.05",9.1875,"9.1875",10.0625,"10.0625","stena","stena","stena","stena","stena","stena","","","",""]
[null,"055",4.95,"4.95",4.5,"4.5",4.05,"4.05",9.1875,"9.1875",10.0625,"10.0625","stena","stena","stena","stena","stena","stena","","","",""]
[null,"056",4.95,"4.95",5.5,"5.5",5.05,"5.05",9.1875,"9.1875",10.0625,"10.0625","stena","stena","stena","stena","stena","stena","","","",""]
[null,"057",4.95,"4.95",6.5,"6.5",6.05,"6.05",9.1875,"9.1875",10.0625,"10.0625","stena","stena","stena","stena","stena","stena","","","",""]
[null,"058",4.95,"4.95",7.5,"7.5",7.05,"7.05",9.1875,"9.1875",10.0625,"10.0625","stena","stena","stena","stena","stena","stena","","","",""]
[null,"059",4.95,"4.95",8.5,"8.5",8.0500000000000007,"8.05",9.1875,"9.1875",10.0625,"10.0625","stena","stena","stena","stena","stena","stena","","","",""]
[null,"060",4.95,"4.95",9.5,"9.5",9.0500000000000007,"9.05",9.1875,"9.1875",10.0625,"10.0625","stena","stena","stena","stena","stena","stena","","","",""]
[null,"061",4.95,"4.95",0.5,"0.5",0.05,"0.05",10.9375,"10.9375",11.8125,"11.8125","stena","stena","stena","stena","stena","stena","","","",""]
[null,"062",4.95,"4.95",1.5,"1.5",1.05,"1.05",10.9375,"10.9375",11.8125,"11.8125","stena","stena","stena","stena","stena","stena","","","",""]
[null,"063",4.95,"4.95",2.5,"2.5",2.0499999999999998,"2.05",10.9375,"10.9375",11.8125,"11.8125","stena","stena","stena","stena","stena","stena","","","",""]
[null,"064",4.95,"4.95",3.5,"3.5",3.05,"3.05",10.9375,"10.9375",11.8125,"11.8125","stena","stena","stena","stena","stena","stena","","","",""]
[null,"065",4.95,{"$f":"SUBSTITUTE(C71,\",\",\".\")","v":"4.95"},4.5,{"$f":"SUBSTITUTE(E71,\",\",\".\")","v":"4.5"},4.05,"4.05",10.9375,{"$f":"SUBSTITUTE(I71,\",\",\".\")","v":"10.9375"},11.8125,"11.8125","stena","stena","stena","stena","stena",{"$f":"IF(OR(P71=\"otvor\",Q71=\"otvor\"),\"otvor\",\"stena\")","v":"stena"},"","","",""]
[null,"066",4.95,"4.95",5.5,"5.5",5.05,{"$f":"SUBSTITUTE(G72,\",\",\".\")","v":"5.05"},10.9375,"10.9375",11.8125,"11.8125",{"$f":"IF($I$3=\"ano\",IF(AND(E72>$L$3,E72<$M$3,I72>$N$3,I72<$O$3),\"otvor\",\"stena\"),\"stena\")","v":"stena"},{"$f":"IF($I$4=\"ano\",IF(AND(E72>$L$4,E72<$M$4,I72>$N$4,I72<$O$4),\"otvor\",\"stena\"),\"stena\")","v":"stena"},"stena",{"$f":"IF($I$3=\"ano\",IF(AND(G72>$L$3,G72<$M$3,K72>$N$3,K72<$O$3),\"otvor\",\"stena\"),\"stena\")","v":"stena"},{"$f":"IF($I$4=\"ano\",IF(AND(G72>$L$4,G72<$M$4,K72>$N$4,K72<$O$4),\"otvor\",\"stena\"),\"stena\")","v":"stena"},"stena",{"$f":"IF(AND(F72>$N$2,I72>$O$2),IF(O72=\"stena\",IF(I72>$C$4,\"\",CONCATENATE(\"&FIRE ID = 'F.\",$E$2,\".3.\",B72,\"' COMP_ID = '\",$E$2,\"', FIRE_ID = 'FP.\",$E$2,\".Y.\",J72,\"'  LOCATION = \",D72,\", \",F72,\" IGNITION_CRITERION = 'TEMPERATURE', DEVC_ID = 'T.\",$E$2,\".3.\",B72,\"', SETPOINT = \",$R$4,\" /\")),\"\"),\"\")","v":""},{"$f":"IF(AND(G72>$N$2,K72>$O$2),IF(R72=\"stena\",IF(K72>$C$4,\"\",CONCATENATE(\"&FIRE ID = 'F.\",$E$2,\".4.\",B72,\"' COMP_ID = '\",$E$2,\"', FIRE_ID = 'FP.\",$E$2,\".Y.\",L72,\"'  LOCATION = \",D72,\", \",H72,\" IGNITION_CRITERION = 'TEMPERATURE', DEVC_ID = 'T.\",$E$2,\".4.\",B72,\"', SETPOINT = \",$R$4,\" /\")),\"\"),\"\")","v":""},{"$f":"IF(S72=\"\",\"\",IF(O72=\"stena\",IF(I72>$C$4,\"\",CONCATENATE(\"&DEVC ID = 'T.\",$E$2,\".3.\",B72,\"' COMP_ID = '\",$E$2,\"'  LOCATION = \",D72,\", \",F72,\", \",J72,\" TYPE = '\",$P$3,\"' MATL_ID = '\",$P$2,\"' SURFACE_ORIENTATION = '\",$P$4,\"' THICKNESS = \",$R$2,\" TEMPERATURE_DEPTH = \",$R$3,\" DEPTH_UNITS = 'M' /\")),\"\"))","v":""},{"$f":"IF(T72=\"\",\"\",IF(R72=\"stena\",IF(K72>$C$4,\"\",CONCATENATE(\"&DEVC ID = 'T.\",$E$2,\".4.\",B72,\"' COMP_ID = '\",$E$2,\"'  LOCATION = \",D72,\", \",H72,\", \",L72,\" TYPE = '\",$P$3,\"' MATL_ID = '\",$P$2,\"' SURFACE_ORIENTATION = '\",$P$4,\"' THICKNESS = \",$R$2,\" TEMPERATURE_DEPTH = \",$R$3,\" DEPTH_UNITS = 'M' /\")),\"\"))","v":""}]
[null,"067",{"$f":"$C$7","v":4.95},"4.95",{"$f":"IF(E72>=($C$3-$G$2/2),$G$2/2,E72+$G$2)","v":6.5},"6.5",{"$f":"IF(E72>=($C$3-$G$2),$E$3,$G$2+G72)","v":6.05},"6.05",{"$f":"IF(E73=$G$2/2,I72+$G$3*2,I72)","v":10.9375},"10.9375",{"$f":"IF(G73=$E$3,K72+$G$3*2,K72)","v":11.8125},{"$f":"SUBSTITUTE(K73,\",\",\".\")","v":"11.8125"},"stena","stena","stena","stena","stena","stena","","","",""]
[null,{"$f":"RIGHT(\"00\"&ROW(A68),3)","v":"068"},4.95,"4.95",7.5,"7.5",7.05,"7.05",10.9375,"10.9375",11.8125,"11.8125","stena","stena","stena","stena","stena","stena","","","",""]
[null,"069",4.95,"4.95",8.5,"8.5",8.0500000000000007,"8.05",10.9375,"10.9375",11.8125,"11.8125","stena","stena","stena","stena","stena","stena","","","",""]
[null,"070",4.95,"4.95",9.5,"9.5",9.0500000000000007,"9.05",10.9375,"10.9375",11.8125,"11.8125","stena","stena","stena","stena","stena","stena","","","",""]
[null,"071",4.95,"4.95",0.5,"0.5",0.05,"0.05",12.6875,"12.6875",13.5625,"13.5625","stena","stena",{"$f":"IF(OR(M77=\"otvor\",N77=\"otvor\"),\"otvor\",\"stena\")","v":"stena"},"stena","stena","stena","","","",""]
[null,"072",4.95,"4.95",1.5,"1.5",1.05,"1.05",12.6875,"12.6875",13.5625,"13.5625","stena","stena","stena","stena","stena","stena","","","",""]
[null,"073",4.95,"4.95",2.5,"2.5",2.0499999999999998,"2.05",12.6875,"12.6875",13.5625,"13.5625","stena","stena","stena","stena","stena","stena","","","",""]
[null,"074",4.95,"4.95",3.5,"3.5",3.05,"3.05",12.6875,"12.6875",13.5625,"13.5625","stena","stena","stena","stena","stena","stena","","","",""]
[null,"075",4.95,"4.95",4.5,"4.5",4.05,"4.05",12.6875,"12.6875",13.5625,"13.5625","stena","stena","stena","stena","stena","stena","","","",""]
[null,"076",4.95,"4.95",5.5,"5.5",5.05,"5.05",12.6875,"12.6875",13.5625,"13.5625","stena","stena","stena","stena","stena","stena","","","",""]
[null,"077",4.95,"4.95",6.5,"6.5",6.05,"6.05",12.6875,"12.6875",13.5625,"13.5625","stena","stena","stena","stena","stena","stena","","","",""]
[null,"078",4.95,"4.95",7.5,"7.5",7.05,"7.05",12.6875,"12.6875",13.5625,"13.5625","stena","stena","stena","stena","stena","stena","","","",""]
[null,"079",4.95,"4.95",8.5,"8.5",8.0500000000000007,"8.05",12.6875,"12.6875",13.5625,"13.5625","stena","stena","stena","stena","stena","stena","","","",""]
[null,"080",4.95,"4.95",9.5,"9.5",9.0500000000000007,"9.05",12.6875,"12.6875",13.5625,"13.5625","stena","stena","stena","stena","stena","stena","","","",""]
[null,"081",4.95,"4.95",0.5,"0.5",0.05,"0.05",14.4375,"14.4375",15.3125,"15.3125","stena","stena","stena","stena","stena","stena","","","",""]
[null,"082",4.95,"4.95",1.5,"1.5",1.05,"1.05",14.4375,"14.4375",15.3125,"15.3125","stena","stena","stena","stena","stena","stena","","","",""]
[null,"083",4.95,"4.95",2.5,"2.5",2.0499999999999998,"2.05",14.4375,"14.4375",15.3125,"15.3125","stena","stena","stena","stena","stena","stena","","","",""]
[null,"084",4.95,"4.95",3.5,"3.5",3.05,"3.05",14.4375,"14.4375",15.3125,"15.3125","stena","stena","stena","stena","stena","stena","","","",""]
[null,"085",4.95,"4.95",4.5,"4.5",4.05,"4.05",14.4375,"14.4375",15.3125,"15.3125","stena","stena","stena","stena","stena","stena","","","",""]
[null,"086",4.95,"4.95",5.5,"5.5",5.05,"5.05",14.4375,"14.4375",15.3125,"15.3125","stena","stena","stena","stena","stena","stena","","","",""]
[null,"087",4.95,"4.95",6.5,"6.5",6.05,"6.05",14.4375,"14.4375",15.3125,"15.3125","stena","stena","stena","stena","stena","stena","","","",""]
[null,"088",4.95,"4.95",7.5,"7.5",7.05,"7.05",14.4375,"14.4375",15.3125,"15.3125","stena","stena","stena","stena","stena","stena","","","",""]
[null,"089",4.95,"4.95",8.5,"8.5",8.0500000000000007,"8.05",14.4375,"14.4375",15.3125,"15.3125","stena","stena","stena","stena","stena","stena","","","",""]
[null,"090",4.95,"4.95",9.5,"9.5",9.0500000000000007,"9.05",14.4375,"14.4375",15.3125,"15.3125","stena","stena","stena","stena","stena","stena","","","",""]
[null,"091",4.95,"4.95",0.5,"0.5",0.05,"0.05",16.1875,"16.1875",17.0625,"17.0625","stena","stena","stena","stena","stena","stena","","","",""]
[null,"092",4.95,"4.95",1.5,"1.5",1.05,"1.05",16.1875,"16.1875",17.0625,"17.0625","stena","stena","stena","stena","stena","stena","","","",""]
[null,"093",4.95,{"$f":"SUBSTITUTE(C99,\",\",\".\")","v":"4.95"},2.5,{"$f":"SUBSTITUTE(E99,\",\",\".\")","v":"2.5"},2.0499999999999998,"2.05",16.1875,{"$f":"SUBSTITUTE(I99,\",\",\".\")","v":"16.1875"},17.0625,"17.0625","stena","stena","stena","stena","stena","stena","","","",""]
[null,"094",4.95,"4.95",3.5,"3.5",3.05,"3.05",16.1875,"16.1875",17.0625,"17.0625","stena","stena","stena","stena","stena","stena","","","",""]
[null,"095",4.95,"4.95",4.5,"4.5",4.05,"4.05",16.1875,"16.1875",17.0625,"17.0625","stena","stena","stena","stena","stena","stena","","","",""]
[null,"096",4.95,"4.95",5.5,"5.5",5.05,"5.05",16.1875,"16.1875",17.0625,"17.0625","stena","stena","stena","stena","stena","stena","","","",""]
[null,"097",4.95,{"$f":"SUBSTITUTE(C103,\",\",\".\")","v":"4.95"},6.5,{"$f":"SUBSTITUTE(E103,\",\",\".\")","v":"6.5"},6.05,"6.05",16.1875,{"$f":"SUBSTITUTE(I103,\",\",\".\")","v":"16.1875"},17.0625,"17.0625","stena","stena","stena","stena","stena","stena","","","",""]
[null,"098",4.95,"4.95",7.5,"7.5",7.05,"7.05",16.1875,"16.1875",17.0625,"17.0625","stena","stena","stena","stena","stena","stena","","","",""]
[null,"099",4.95,"4.95",8.5,"8.5",8.0500000000000007,"8.05",16.1875,"16.1875",17.0625,"17.0625","stena","stena","stena","stena","stena","stena","","","",""]
[null,"100",4.95,"4.95",9.5,"9.5",9.0500000000000007,"9.05",16.1875,"16.1875",17.0625,"17.0625","stena","stena","stena","stena","stena","stena","","","",""]
[null,"101",4.95,"4.95",0.5,"0.5",0.05,"0.05",17.9375,"17.9375",18.8125,"18.8125","stena","stena","stena","stena","stena","stena","","","",""]
[null,null,null,null,null,null,null,null,null,null,null,null,null,null,{"$f":"IF(O107=\"stena\",\"ok\",\"pozor\")","v":"ok"},null,null,{"$f":"IF(R107=\"stena\",\"ok\",\"pozor\")","v":"ok"},{"$f":"IF(S107=\"\",\"ok\",\"pozor\")","v":"ok"},{"$f":"IF(T107=\"\",\"ok\",\"pozor\")","v":"ok"}]

{"sheet":"Fire Devc C","index":4,"n_rows":108,"n_cols":22,"rows_kept":108,"cut":false,"hidden":false,"merged":[[1,7,1,11],[5,2,5,3],[5,4,5,5],[5,6,5,7],[5,8,5,9],[5,10,5,11]]}
[]
[null,"x",{"$f":"zadani!G7","v":5},"místno.",{"$f":"zadani!G6","v":"C1"},"hrana x",{"$f":"C2/zadani!G16","v":1},"STRANA C",null,null,null,null,{"$f":"zadani!G10","v":0},{"$f":"zadani!G11","v":0},{"$f":"zadani!G12","v":0},{"$f":"zadani!G38","v":"M1"},{"$f":"zadani!G41","v":1.4999999999999999E-2},{"$f":"SUBSTITUTE(Q2,\",\",\".\")","v":"0.015"}]
[null,"y",{"$f":"zadani!G8","v":10},"odstup",{"$f":"zadani!G13","v":0.05},"hrana z",{"$f":"C4/zadani!G18","v":0.875},"otvor 1",{"$f":"zadani!L12","v":"ne"},{"$f":"zadani!M12","v":0},{"$f":"zadani!N12","v":0},{"$f":"zadani!O12","v":"-"},{"$f":"zadani!P12","v":"-"},{"$f":"zadani!Q12","v":0},{"$f":"zadani!R12","v":0},{"$f":"zadani!G39","v":"PLATE"},{"$f":"zadani!G42","v":0},{"$f":"SUBSTITUTE(Q3,\",\",\".\")","v":"0"}]
[null,"z",{"$f":"zadani!G9","v":3.5},"vše ok?",{"$f":"IF(AND(O108=\"ok\",R108=\"ok\",S108=\"ok\",T108=\"ok\"),\"ok\",\"pozor\")","v":"ok"},null,null,"otvor 2",{"$f":"zadani!L13","v":"ne"},{"$f":"zadani!M13","v":0},{"$f":"zadani!N13","v":0},{"$f":"zadani!O13","v":"-"},{"$f":"zadani!P13","v":"-"},{"$f":"zadani!Q13","v":0},{"$f":"zadani!R13","v":0},{"$f":"zadani!G40","v":"FLOOR"},{"$f":"zadani!C42","v":250},{"$f":"SUBSTITUTE(Q4,\",\",\".\")","v":"250"}]
[]
[null,"pořad. číslo","X lichá",null,"X sudá",null,"Y",null,"Z lichá",null,"Z sudá",null,"otvor 1 lichy","otvor 2 lichy","otvory liche","otvor 1 sudy","otvor 2 sudy","otvory sude"]
[null,{"$f":"RIGHT(\"00\"&ROW(A1),3)","v":"001"},{"$f":"G2/2","v":0.5},{"$f":"SUBSTITUTE(C7,\",\",\".\")","v":"0.5"},{"$f":"G2-E3","v":0.95},{"$f":"SUBSTITUTE(E7,\",\",\".\")","v":"0.95"},{"$f":"C3-E3","v":9.9499999999999993},{"$f":"SUBSTITUTE(G7,\",\",\".\")","v":"9.95"},{"$f":"G3/2","v":0.4375},{"$f":"SUBSTITUTE(I7,\",\",\".\")","v":"0.4375"},{"$f":"$G$3*1.5","v":1.3125},{"$f":"SUBSTITUTE(K7,\",\",\".\")","v":"1.3125"},{"$f":"IF($I$3=\"ano\",IF(AND(C7>$J$3,C7<$K$3,I7>$N$3,I7<$O$3),\"otvor\",\"stena\"),\"stena\")","v":"stena"},{"$f":"IF($I$4=\"ano\",IF(AND(C7>$J$4,C7<$K$4,I7>$N$4,I7<$O$4),\"otvor\",\"stena\"),\"stena\")","v":"stena"},{"$f":"IF(OR(M7=\"otvor\",N7=\"otvor\"),\"otvor\",\"stena\")","v":"stena"},{"$f":"IF($I$3=\"ano\",IF(AND(E7>$J$3,E7<$K$3,K7>$N$3,K7<$O$3),\"otvor\",\"stena\"),\"stena\")","v":"stena"},{"$f":"IF($I$4=\"ano\",IF(AND(E7>$J$4,E7<$K$4,K7>$N$4,K7<$O$4),\"otvor\",\"stena\"),\"stena\")","v":"stena"},{"$f":"IF(OR(P7=\"otvor\",Q7=\"otvor\"),\"otvor\",\"stena\")","v":"stena"},{"$f":"IF(AND(C7>$M$2,I7>$O$2),IF(O7=\"stena\",IF(I7>$C$4,\"\",CONCATENATE(\"&FIRE ID = 'F.\",$E$2,\".5.\",B7,\"' COMP_ID = '\",$E$2,\"', FIRE_ID = 'FP.\",$E$2,\".X.\",J7,\"'  LOCATION = \",D7,\", \",H7,\" IGNITION_CRITERION = 'TEMPERATURE', DEVC_ID = 'T.\",$E$2,\".5.\",B7,\"', SETPOINT = \",$R$4,\" /\")),\"\"),\"\")","v":"&FIRE ID = 'F.C1.5.001' COMP_ID = 'C1', FIRE_ID = 'FP.C1.X.0.4375'  LOCATION = 0.5, 9.95 IGNITION_CRITERION = 'TEMPERATURE', DEVC_ID = 'T.C1.5.001', SETPOINT = 250 /"},{"$f":"IF(AND(E7>$M$2,K7>$O$2),IF(R7=\"stena\",IF(K7>$C$4,\"\",CONCATENATE(\"&FIRE ID = 'F.\",$E$2,\".6.\",B7,\"' COMP_ID = '\",$E$2,\"', FIRE_ID = 'FP.\",$E$2,\".X.\",L7,\"'  LOCATION = \",F7,\", \",H7,\" IGNITION_CRITERION = 'TEMPERATURE', DEVC_ID = 'T.\",$E$2,\".6.\",B7,\"', SETPOINT = \",$R$4,\" /\")),\"\"),\"\")","v":"&FIRE ID = 'F.C1.6.001' COMP_ID = 'C1', FIRE_ID = 'FP.C1.X.1.3125'  LOCATION = 0.95, 9.95 IGNITION_CRITERION = 'TEMPERATURE', DEVC_ID = 'T.C1.6.001', SETPOINT = 250 /"},{"$f":"IF(S7=\"\",\"\",IF(O7=\"stena\",IF(I7>$C$4,\"\",CONCATENATE(\"&DEVC ID = 'T.\",$E$2,\".5.\",B7,\"' COMP_ID = '\",$E$2,\"'  LOCATION = \",D7,\", \",H7,\", \",J7,\" TYPE = '\",$P$3,\"' MATL_ID = '\",$P$2,\"' SURFACE_ORIENTATION = '\",$P$4,\"' THICKNESS = \",$R$2,\" TEMPERATURE_DEPTH = \",$R$3,\" DEPTH_UNITS = 'M' /\")),\"\"))","v":"&DEVC ID = 'T.C1.5.001' COMP_ID = 'C1'  LOCATION = 0.5, 9.95, 0.4375 TYPE = 'PLATE' MATL_ID = 'M1' SURFACE_ORIENTATION = 'FLOOR' THICKNESS = 0.015 TEMPERATURE_DEPTH = 0 DEPTH_UNITS = 'M' /"},{"$f":"IF(T7=\"\",\"\",IF(R7=\"stena\",IF(K7>$C$4,\"\",CONCATENATE(\"&DEVC ID = 'T.\",$E$2,\".6.\",B7,\"' COMP_ID = '\",$E$2,\"'  LOCATION = \",F7,\", \",H7,\", \",L7,\" TYPE = '\",$P$3,\"' MATL_ID = '\",$P$2,\"' SURFACE_ORIENTATION = '\",$P$4,\"' THICKNESS = \",$R$2,\" TEMPERATURE_DEPTH = \",$R$3,\" DEPTH_UNITS = 'M' /\")),\"\"))","v":"&DEVC ID = 'T.C1.6.001' COMP_ID = 'C1'  LOCATION = 0.95, 9.95, 1.3125 TYPE = 'PLATE' MATL_ID = 'M1' SURFACE_ORIENTATION = 'FLOOR' THICKNESS = 0.015 TEMPERATURE_DEPTH = 0 DEPTH_UNITS = 'M' /"}]
[null,{"$f":"RIGHT(\"00\"&ROW(A2),3)","v":"002"},{"$f":"IF(C7>=($C$2-$G$2),$G$2/2,C7+$G$2)","v":1.5},"1.5",{"$f":"IF(E7>=($C$2-$E$3),$G$2-$E$3,E7+$G$2)","v":1.95},"1.95",{"$f":"G7","v":9.9499999999999993},{"$f":"SUBSTITUTE(G8,\",\",\".\")","v":"9.95"},{"$f":"IF(C8=$G$2/2,I7+$G$3*2,I7)","v":0.4375},"0.4375",{"$f":"IF(E8=($G$2-$E$3),K7+$G$3*2,K7)","v":1.3125},{"$f":"SUBSTITUTE(K8,\",\",\".\")","v":"1.3125"},"stena","stena","stena","stena","stena","stena",{"$f":"IF(AND(C8>$M$2,I8>$O$2),IF(O8=\"stena\",IF(I8>$C$4,\"\",CONCATENATE(\"&FIRE ID = 'F.\",$E$2,\".5.\",B8,\"' COMP_ID = '\",$E$2,\"', FIRE_ID = 'FP.\",$E$2,\".X.\",J8,\"'  LOCATION = \",D8,\", \",H8,\" IGNITION_CRITERION = 'TEMPERATURE', DEVC_ID = 'T.\",$E$2,\".5.\",B8,\"', SETPOINT = \",$R$4,\" /\")),\"\"),\"\")","v":"&FIRE ID = 'F.C1.5.002' COMP_ID = 'C1', FIRE_ID = 'FP.C1.X.0.4375'  LOCATION = 1.5, 9.95 IGNITION_CRITERION = 'TEMPERATURE', DEVC_ID = 'T.C1.5.002', SETPOINT = 250 /"},{"$f":"IF(AND(E8>$M$2,K8>$O$2),IF(R8=\"stena\",IF(K8>$C$4,\"\",CONCATENATE(\"&FIRE ID = 'F.\",$E$2,\".6.\",B8,\"' COMP_ID = '\",$E$2,\"', FIRE_ID = 'FP.\",$E$2,\".X.\",L8,\"'  LOCATION = \",F8,\", \",H8,\" IGNITION_CRITERION = 'TEMPERATURE', DEVC_ID = 'T.\",$E$2,\".6.\",B8,\"', SETPOINT = \",$R$4,\" /\")),\"\"),\"\")","v":"&FIRE ID = 'F.C1.6.002' COMP_ID = 'C1', FIRE_ID = 'FP.C1.X.1.3125'  LOCATION = 1.95, 9.95 IGNITION_CRITERION = 'TEMPERATURE', DEVC_ID = 'T.C1.6.002', SETPOINT = 250 /"},{"$f":"IF(S8=\"\",\"\",IF(O8=\"stena\",IF(I8>$C$4,\"\",CONCATENATE(\"&DEVC ID = 'T.\",$E$2,\".5.\",B8,\"' COMP_ID = '\",$E$2,\"'  LOCATION = \",D8,\", \",H8,\", \",J8,\" TYPE = '\",$P$3,\"' MATL_ID = '\",$P$2,\"' SURFACE_ORIENTATION = '\",$P$4,\"' THICKNESS = \",$R$2,\" TEMPERATURE_DEPTH = \",$R$3,\" DEPTH_UNITS = 'M' /\")),\"\"))","v":"&DEVC ID = 'T.C1.5.002' COMP_ID = 'C1'  LOCATION = 1.5, 9.95, 0.4375 TYPE = 'PLATE' MATL_ID = 'M1' SURFACE_ORIENTATION = 'FLOOR' THICKNESS = 0.015 TEMPERATURE_DEPTH = 0 DEPTH_UNITS = 'M' /"},{"$f":"IF(T8=\"\",\"\",IF(R8=\"stena\",IF(K8>$C$4,\"\",CONCATENATE(\"&DEVC ID = 'T.\",$E$2,\".6.\",B8,\"' COMP_ID = '\",$E$2,\"'  LOCATION = \",F8,\", \",H8,\", \",L8,\" TYPE = '\",$P$3,\"' MATL_ID = '\",$P$2,\"' SURFACE_ORIENTATION = '\",$P$4,\"' THICKNESS = \",$R$2,\" TEMPERATURE_DEPTH = \",$R$3,\" DEPTH_UNITS = 'M' /\")),\"\"))","v":"&DEVC ID = 'T.C1.6.002' COMP_ID = 'C1'  LOCATION = 1.95, 9.95, 1.3125 TYPE = 'PLATE' MATL_ID = 'M1' SURFACE_ORIENTATION = 'FLOOR' THICKNESS = 0.015 TEMPERATURE_DEPTH = 0 DEPTH_UNITS = 'M' /"}]
[null,{"$f":"RIGHT(\"00\"&ROW(A3),3)","v":"003"},2.5,"2.5",{"$f":"IF(E8>=($C$2-$E$3),$G$2-$E$3,E8+$G$2)","v":2.95},"2.95",{"$f":"G8","v":9.9499999999999993},"9.95",{"$f":"IF(C9=$G$2/2,I8+$G$3*2,I8)","v":0.4375},"0.4375",{"$f":"IF(E9=($G$2-$E$3),K8+$G$3*2,K8)","v":1.3125},{"$f":"SUBSTITUTE(K9,\",\",\".\")","v":"1.3125"},"stena","stena","stena","stena","stena","stena","&FIRE ID = 'F.C1.5.003' COMP_ID = 'C1', FIRE_ID = 'FP.C1.X.0.4375'  LOCATION = 2.5, 9.95 IGNITION_CRITERION = 'TEMPERATURE', DEVC_ID = 'T.C1.5.003', SETPOINT = 250 /","&FIRE ID = 'F.C1.6.003' COMP_ID = 'C1', FIRE_ID = 'FP.C1.X.1.3125'  LOCATION = 2.95, 9.95 IGNITION_CRITERION = 'TEMPERATURE', DEVC_ID = 'T.C1.6.003', SETPOINT = 250 /","&DEVC ID = 'T.C1.5.003' COMP_ID = 'C1'  LOCATION = 2.5, 9.95, 0.4375 TYPE = 'PLATE' MATL_ID = 'M1' SURFACE_ORIENTATION = 'FLOOR' THICKNESS = 0.015 TEMPERATURE_DEPTH = 0 DEPTH_UNITS = 'M' /","&DEVC ID = 'T.C1.6.003' COMP_ID = 'C1'  LOCATION = 2.95, 9.95, 1.3125 TYPE = 'PLATE' MATL_ID = 'M1' SURFACE_ORIENTATION = 'FLOOR' THICKNESS = 0.015 TEMPERATURE_DEPTH = 0 DEPTH_UNITS = 'M' /"]
[null,{"$f":"RIGHT(\"00\"&ROW(A4),3)","v":"004"},3.5,"3.5",3.95,"3.95",9.9499999999999993,"9.95",0.4375,"0.4375",1.3125,"1.3125","stena","stena","stena","stena","stena","stena","&FIRE ID = 'F.C1.5.004' COMP_ID = 'C1', FIRE_ID = 'FP.C1.X.0.4375'  LOCATION = 3.5, 9.95 IGNITION_CRITERION = 'TEMPERATURE', DEVC_ID = 'T.C1.5.004', SETPOINT = 250 /","&FIRE ID = 'F.C1.6.004' COMP_ID = 'C1', FIRE_ID = 'FP.C1.X.1.3125'  LOCATION = 3.95, 9.95 IGNITION_CRITERION = 'TEMPERATURE', DEVC_ID = 'T.C1.6.004', SETPOINT = 250 /","&DEVC ID = 'T.C1.5.004' COMP_ID = 'C1'  LOCATION = 3.5, 9.95, 0.4375 TYPE = 'PLATE' MATL_ID = 'M1' SURFACE_ORIENTATION = 'FLOOR' THICKNESS = 0.015 TEMPERATURE_DEPTH = 0 DEPTH_UNITS = 'M' /","&DEVC ID = 'T.C1.6.004' COMP_ID = 'C1'  LOCATION = 3.95, 9.95, 1.3125 TYPE = 'PLATE' MATL_ID = 'M1' SURFACE_ORIENTATION = 'FLOOR' THICKNESS = 0.015 TEMPERATURE_DEPTH = 0 DEPTH_UNITS = 'M' /"]
[null,"005",4.5,"4.5",4.95,"4.95",9.9499999999999993,"9.95",0.4375,"0.4375",1.3125,"1.3125","stena","stena",{"$f":"IF(OR(M11=\"otvor\",N11=\"otvor\"),\"otvor\",\"stena\")","v":"stena"},"stena","stena","stena","&FIRE ID = 'F.C1.5.005' COMP_ID = 'C1', FIRE_ID = 'FP.C1.X.0.4375'  LOCATION = 4.5, 9.95 IGNITION_CRITERION = 'TEMPERATURE', DEVC_ID = 'T.C1.5.005', SETPOINT = 250 /","&FIRE ID = 'F.C1.6.005' COMP_ID = 'C1', FIRE_ID = 'FP.C1.X.1.3125'  LOCATION = 4.95, 9.95 IGNITION_CRITERION = 'TEMPERATURE', DEVC_ID = 'T.C1.6.005', SETPOINT = 250 /","&DEVC ID = 'T.C1.5.005' COMP_ID = 'C1'  LOCATION = 4.5, 9.95, 0.4375 TYPE = 'PLATE' MATL_ID = 'M1' SURFACE_ORIENTATION = 'FLOOR' THICKNESS = 0.015 TEMPERATURE_DEPTH = 0 DEPTH_UNITS = 'M' /","&DEVC ID = 'T.C1.6.005' COMP_ID = 'C1'  LOCATION = 4.95, 9.95, 1.3125 TYPE = 'PLATE' MATL_ID = 'M1' SURFACE_ORIENTATION = 'FLOOR' THICKNESS = 0.015 TEMPERATURE_DEPTH = 0 DEPTH_UNITS = 'M' /"]
[null,"006",0.5,"0.5",0.95,"0.95",9.9499999999999993,"9.95",2.1875,"2.1875",3.0625,"3.0625","stena","stena",{"$f":"IF(OR(M12=\"otvor\",N12=\"otvor\"),\"otvor\",\"stena\")","v":"stena"},"stena","stena","stena","&FIRE ID = 'F.C1.5.006' COMP_ID = 'C1', FIRE_ID = 'FP.C1.X.2.1875'  LOCATION = 0.5, 9.95 IGNITION_CRITERION = 'TEMPERATURE', DEVC_ID = 'T.C1.5.006', SETPOINT = 250 /","&FIRE ID = 'F.C1.6.006' COMP_ID = 'C1', FIRE_ID = 'FP.C1.X.3.0625'  LOCATION = 0.95, 9.95 IGNITION_CRITERION = 'TEMPERATURE', DEVC_ID = 'T.C1.6.006', SETPOINT = 250 /","&DEVC ID = 'T.C1.5.006' COMP_ID = 'C1'  LOCATION = 0.5, 9.95, 2.1875 TYPE = 'PLATE' MATL_ID = 'M1' SURFACE_ORIENTATION = 'FLOOR' THICKNESS = 0.015 TEMPERATURE_DEPTH = 0 DEPTH_UNITS = 'M' /","&DEVC ID = 'T.C1.6.006' COMP_ID = 'C1'  LOCATION = 0.95, 9.95, 3.0625 TYPE = 'PLATE' MATL_ID = 'M1' SURFACE_ORIENTATION = 'FLOOR' THICKNESS = 0.015 TEMPERATURE_DEPTH = 0 DEPTH_UNITS = 'M' /"]
[null,"007",1.5,"1.5",1.95,"1.95",9.9499999999999993,"9.95",2.1875,"2.1875",3.0625,"3.0625","stena","stena",{"$f":"IF(OR(M13=\"otvor\",N13=\"otvor\"),\"otvor\",\"stena\")","v":"stena"},"stena","stena","stena","&FIRE ID = 'F.C1.5.007' COMP_ID = 'C1', FIRE_ID = 'FP.C1.X.2.1875'  LOCATION = 1.5, 9.95 IGNITION_CRITERION = 'TEMPERATURE', DEVC_ID = 'T.C1.5.007', SETPOINT = 250 /","&FIRE ID = 'F.C1.6.007' COMP_ID = 'C1', FIRE_ID = 'FP.C1.X.3.0625'  LOCATION = 1.95, 9.95 IGNITION_CRITERION = 'TEMPERATURE', DEVC_ID = 'T.C1.6.007', SETPOINT = 250 /","&DEVC ID = 'T.C1.5.007' COMP_ID = 'C1'  LOCATION = 1.5, 9.95, 2.1875 TYPE = 'PLATE' MATL_ID = 'M1' SURFACE_ORIENTATION = 'FLOOR' THICKNESS = 0.015 TEMPERATURE_DEPTH = 0 DEPTH_UNITS = 'M' /","&DEVC ID = 'T.C1.6.007' COMP_ID = 'C1'  LOCATION = 1.95, 9.95, 3.0625 TYPE = 'PLATE' MATL_ID = 'M1' SURFACE_ORIENTATION = 'FLOOR' THICKNESS = 0.015 TEMPERATURE_DEPTH = 0 DEPTH_UNITS = 'M' /"]
[null,"008",2.5,"2.5",2.95,"2.95",9.9499999999999993,"9.95",2.1875,"2.1875",3.0625,"3.0625","stena","stena","stena","stena","stena","stena","&FIRE ID = 'F.C1.5.008' COMP_ID = 'C1', FIRE_ID = 'FP.C1.X.2.1875'  LOCATION = 2.5, 9.95 IGNITION_CRITERION = 'TEMPERATURE', DEVC_ID = 'T.C1.5.008', SETPOINT = 250 /","&FIRE ID = 'F.C1.6.008' COMP_ID = 'C1', FIRE_ID = 'FP.C1.X.3.0625'  LOCATION = 2.95, 9.95 IGNITION_CRITERION = 'TEMPERATURE', DEVC_ID = 'T.C1.6.008', SETPOINT = 250 /","&DEVC ID = 'T.C1.5.008' COMP_ID = 'C1'  LOCATION = 2.5, 9.95, 2.1875 TYPE = 'PLATE' MATL_ID = 'M1' SURFACE_ORIENTATION = 'FLOOR' THICKNESS = 0.015 TEMPERATURE_DEPTH = 0 DEPTH_UNITS = 'M' /","&DEVC ID = 'T.C1.6.008' COMP_ID = 'C1'  LOCATION = 2.95, 9.95, 3.0625 TYPE = 'PLATE' MATL_ID = 'M1' SURFACE_ORIENTATION = 'FLOOR' THICKNESS = 0.015 TEMPERATURE_DEPTH = 0 DEPTH_UNITS = 'M' /"]
[null,"009",3.5,"3.5",3.95,"3.95",9.9499999999999993,"9.95",2.1875,"2.1875",3.0625,"3.0625","stena","stena","stena","stena","stena","stena","&FIRE ID = 'F.C1.5.009' COMP_ID = 'C1', FIRE_ID = 'FP.C1.X.2.1875'  LOCATION = 3.5, 9.95 IGNITION_CRITERION = 'TEMPERATURE', DEVC_ID = 'T.C1.5.009', SETPOINT = 250 /","&FIRE ID = 'F.C1.6.009' COMP_ID = 'C1', FIRE_ID = 'FP.C1.X.3.0625'  LOCATION = 3.95, 9.95 IGNITION_CRITERION = 'TEMPERATURE', DEVC_ID = 'T.C1.6.009', SETPOINT = 250 /","&DEVC ID = 'T.C1.5.009' COMP_ID = 'C1'  LOCATION = 3.5, 9.95, 2.1875 TYPE = 'PLATE' MATL_ID = 'M1' SURFACE_ORIENTATION = 'FLOOR' THICKNESS = 0.015 TEMPERATURE_DEPTH = 0 DEPTH_UNITS = 'M' /","&DEVC ID = 'T.C1.6.009' COMP_ID = 'C1'  LOCATION = 3.95, 9.95, 3.0625 TYPE = 'PLATE' MATL_ID = 'M1' SURFACE_ORIENTATION = 'FLOOR' THICKNESS = 0.015 TEMPERATURE_DEPTH = 0 DEPTH_UNITS = 'M' /"]
[null,"010",4.5,"4.5",4.95,"4.95",9.9499999999999993,"9.95",2.1875,"2.1875",3.0625,"3.0625","stena","stena","stena","stena","stena","stena","&FIRE ID = 'F.C1.5.010' COMP_ID = 'C1', FIRE_ID = 'FP.C1.X.2.1875'  LOCATION = 4.5, 9.95 IGNITION_CRITERION = 'TEMPERATURE', DEVC_ID = 'T.C1.5.010', SETPOINT = 250 /","&FIRE ID = 'F.C1.6.010' COMP_ID = 'C1', FIRE_ID = 'FP.C1.X.3.0625'  LOCATION = 4.95, 9.95 IGNITION_CRITERION = 'TEMPERATURE', DEVC_ID = 'T.C1.6.010', SETPOINT = 250 /","&DEVC ID = 'T.C1.5.010' COMP_ID = 'C1'  LOCATION = 4.5, 9.95, 2.1875 TYPE = 'PLATE' MATL_ID = 'M1' SURFACE_ORIENTATION = 'FLOOR' THICKNESS = 0.015 TEMPERATURE_DEPTH = 0 DEPTH_UNITS = 'M' /","&DEVC ID = 'T.C1.6.010' COMP_ID = 'C1'  LOCATION = 4.95, 9.95, 3.0625 TYPE = 'PLATE' MATL_ID = 'M1' SURFACE_ORIENTATION = 'FLOOR' THICKNESS = 0.015 TEMPERATURE_DEPTH = 0 DEPTH_UNITS = 'M' /"]
[null,"011",0.5,"0.5",0.95,"0.95",9.9499999999999993,"9.95",3.9375,"3.9375",4.8125,"4.8125","stena","stena","stena","stena","stena","stena","","","",""]
[null,"012",1.5,"1.5",1.95,"1.95",9.9499999999999993,"9.95",3.9375,"3.9375",4.8125,"4.8125","stena","stena","stena","stena","stena","stena","","","",""]
[null,"013",2.5,"2.5",{"$f":"IF(E18>=($C$2-$E$3),$G$2-$E$3,E18+$G$2)","v":2.95},"2.95",9.9499999999999993,"9.95",3.9375,"3.9375",4.8125,"4.8125","stena","stena","stena","stena","stena","stena","","","",""]
[null,"014",3.5,"3.5",3.95,"3.95",9.9499999999999993,"9.95",3.9375,"3.9375",4.8125,"4.8125","stena","stena","stena","stena","stena","stena","","","",""]
[null,"015",4.5,"4.5",4.95,"4.95",9.9499999999999993,"9.95",3.9375,"3.9375",4.8125,"4.8125","stena","stena","stena","stena","stena","stena","","","",""]
[null,"016",0.5,"0.5",0.95,"0.95",9.9499999999999993,"9.95",5.6875,"5.6875",6.5625,"6.5625","stena","stena","stena","stena","stena","stena","","","",""]
[null,"017",1.5,"1.5",1.95,"1.95",9.9499999999999993,"9.95",5.6875,"5.6875",6.5625,"6.5625","stena","stena","stena","stena","stena","stena","","","",""]
[null,"018",2.5,"2.5",2.95,"2.95",9.9499999999999993,"9.95",5.6875,"5.6875",6.5625,"6.5625","stena","stena","stena","stena","stena","stena","","","",""]
[null,"019",3.5,"3.5",3.95,"3.95",9.9499999999999993,"9.95",5.6875,"5.6875",6.5625,"6.5625","stena","stena","stena","stena","stena","stena","","","",""]
[null,"020",4.5,"4.5",4.95,"4.95",9.9499999999999993,"9.95",5.6875,"5.6875",6.5625,"6.5625","stena","stena","stena","stena","stena","stena","","","",""]
[null,"021",0.5,"0.5",0.95,"0.95",9.9499999999999993,"9.95",7.4375,"7.4375",8.3125,"8.3125","stena","stena","stena","stena","stena","stena","","","",""]
[null,"022",1.5,"1.5",1.95,"1.95",9.9499999999999993,"9.95",7.4375,"7.4375",8.3125,"8.3125","stena","stena","stena","stena","stena","stena","","","",""]
[null,"023",2.5,"2.5",2.95,"2.95",9.9499999999999993,"9.95",7.4375,"7.4375",8.3125,"8.3125","stena","stena","stena","stena","stena","stena","","","",""]
[null,"024",3.5,"3.5",3.95,"3.95",9.9499999999999993,"9.95",7.4375,"7.4375",8.3125,"8.3125","stena","stena","stena","stena","stena","stena","","","",""]
[null,"025",4.5,"4.5",4.95,"4.95",9.9499999999999993,"9.95",7.4375,"7.4375",8.3125,"8.3125","stena","stena","stena","stena","stena","stena","","","",""]
[null,"026",0.5,"0.5",0.95,"0.95",9.9499999999999993,"9.95",9.1875,"9.1875",10.0625,"10.0625","stena","stena","stena","stena","stena","stena","","","",""]
[null,"027",1.5,"1.5",1.95,"1.95",9.9499999999999993,"9.95",9.1875,"9.1875",10.0625,"10.0625","stena","stena","stena","stena","stena","stena","","","",""]
[null,"028",2.5,"2.5",2.95,"2.95",9.9499999999999993,"9.95",9.1875,"9.1875",10.0625,"10.0625","stena","stena","stena","stena","stena","stena","","","",""]
[null,"029",3.5,"3.5",3.95,"3.95",9.9499999999999993,"9.95",9.1875,"9.1875",10.0625,"10.0625","stena","stena","stena","stena","stena","stena","","","",""]
[null,"030",4.5,"4.5",4.95,"4.95",9.9499999999999993,"9.95",9.1875,"9.1875",10.0625,"10.0625","stena","stena","stena","stena","stena","stena","","","",""]
[null,"031",0.5,"0.5",0.95,"0.95",9.9499999999999993,"9.95",10.9375,"10.9375",11.8125,"11.8125","stena","stena","stena","stena","stena","stena","","","",""]
[null,"032",1.5,"1.5",1.95,"1.95",9.9499999999999993,"9.95",10.9375,"10.9375",11.8125,"11.8125","stena","stena","stena","stena","stena","stena","","","",""]
[null,"033",2.5,"2.5",2.95,"2.95",9.9499999999999993,"9.95",10.9375,"10.9375",11.8125,"11.8125",{"$f":"IF($I$3=\"ano\",IF(AND(C39>$J$3,C39<$K$3,I39>$N$3,I39<$O$3),\"otvor\",\"stena\"),\"stena\")","v":"stena"},{"$f":"IF($I$4=\"ano\",IF(AND(C39>$J$4,C39<$K$4,I39>$N$4,I39<$O$4),\"otvor\",\"stena\"),\"stena\")","v":"stena"},"stena",{"$f":"IF($I$3=\"ano\",IF(AND(E39>$J$3,E39<$K$3,K39>$N$3,K39<$O$3),\"otvor\",\"stena\"),\"stena\")","v":"stena"},{"$f":"IF($I$4=\"ano\",IF(AND(E39>$J$4,E39<$K$4,K39>$N$4,K39<$O$4),\"otvor\",\"stena\"),\"stena\")","v":"stena"},"stena","","","",""]
[null,"034",{"$f":"IF(C39>=($C$2-$G$2),$G$2/2,C39+$G$2)","v":3.5},"3.5",3.95,"3.95",9.9499999999999993,"9.95",10.9375,"10.9375",11.8125,"11.8125","stena","stena","stena","stena","stena","stena","","","",""]
[null,"035",4.5,"4.5",4.95,"4.95",9.9499999999999993,"9.95",10.9375,"10.9375",11.8125,"11.8125","stena","stena","stena","stena","stena","stena","","","",""]
[null,"036",0.5,"0.5",0.95,"0.95",9.9499999999999993,"9.95",12.6875,"12.6875",13.5625,"13.5625","stena","stena","stena","stena","stena","stena","","","",""]
[null,"037",1.5,"1.5",1.95,"1.95",9.9499999999999993,"9.95",12.6875,"12.6875",13.5625,"13.5625","stena","stena","stena","stena","stena","stena","","","",""]
[null,"038",2.5,"2.5",2.95,"2.95",9.9499999999999993,"9.95",12.6875,"12.6875",13.5625,"13.5625","stena","stena","stena","stena","stena","stena","","","",""]
[null,"039",3.5,"3.5",3.95,"3.95",9.9499999999999993,"9.95",12.6875,"12.6875",13.5625,"13.5625","stena","stena","stena","stena","stena","stena","","","",""]
[null,"040",4.5,"4.5",4.95,"4.95",9.9499999999999993,"9.95",12.6875,"12.6875",13.5625,"13.5625","stena","stena","stena","stena","stena","stena","","","",""]
[null,"041",0.5,"0.5",0.95,"0.95",9.9499999999999993,"9.95",14.4375,"14.4375",15.3125,"15.3125","stena","stena","stena","stena","stena","stena","","","",""]
[null,"042",1.5,"1.5",1.95,"1.95",9.9499999999999993,"9.95",14.4375,"14.4375",15.3125,"15.3125","stena","stena","stena","stena","stena","stena","","","",""]
[null,"043",2.5,"2.5",2.95,"2.95",9.9499999999999993,"9.95",14.4375,"14.4375",15.3125,"15.3125","stena","stena","stena","stena","stena","stena","","","",""]
[null,"044",3.5,"3.5",3.95,"3.95",9.9499999999999993,"9.95",14.4375,"14.4375",15.3125,"15.3125","stena","stena","stena","stena","stena","stena","","","",""]
[null,"045",4.5,"4.5",4.95,"4.95",9.9499999999999993,"9.95",14.4375,"14.4375",15.3125,"15.3125","stena","stena","stena","stena","stena","stena","","","",""]
[null,"046",0.5,"0.5",0.95,"0.95",9.9499999999999993,"9.95",16.1875,"16.1875",17.0625,"17.0625","stena","stena","stena","stena","stena","stena","","","",""]
[null,"047",1.5,"1.5",1.95,"1.95",9.9499999999999993,"9.95",16.1875,"16.1875",17.0625,"17.0625","stena","stena","stena","stena","stena","stena","","","",""]
[null,"048",2.5,"2.5",2.95,"2.95",9.9499999999999993,"9.95",16.1875,"16.1875",17.0625,"17.0625","stena","stena","stena","stena","stena","stena","","","",""]
[null,"049",3.5,"3.5",3.95,"3.95",9.9499999999999993,"9.95",16.1875,"16.1875",17.0625,"17.0625","stena","stena","stena","stena","stena","stena","","","",""]
[null,"050",4.5,"4.5",4.95,"4.95",9.9499999999999993,"9.95",16.1875,"16.1875",17.0625,"17.0625","stena","stena","stena","stena","stena","stena","","","",""]
[null,"051",0.5,"0.5",0.95,"0.95",9.9499999999999993,"9.95",17.9375,"17.9375",18.8125,"18.8125","stena","stena","stena","stena","stena","stena","","","",""]
[null,"052",1.5,"1.5",1.95,"1.95",9.9499999999999993,"9.95",17.9375,"17.9375",18.8125,"18.8125","stena","stena","stena","stena","stena","stena","","","",""]
[null,"053",2.5,"2.5",2.95,"2.95",9.9499999999999993,"9.95",17.9375,"17.9375",18.8125,"18.8125","stena","stena","stena","stena","stena","stena","","","",""]
[null,"054",3.5,"3.5",3.95,"3.95",9.9499999999999993,"9.95",17.9375,"17.9375",18.8125,"18.8125","stena","stena","stena","stena","stena","stena","","","",""]
[null,"055",4.5,"4.5",4.95,"4.95",9.9499999999999993,"9.95",17.9375,"17.9375",18.8125,"18.8125","stena","stena","stena","stena","stena","stena","","","",""]
[null,"056",0.5,"0.5",0.95,"0.95",9.9499999999999993,"9.95",19.6875,"19.6875",20.5625,"20.5625","stena","stena","stena","stena","stena","stena","","","",""]
[null,"057",1.5,"1.5",1.95,"1.95",9.9499999999999993,"9.95",19.6875,"19.6875",20.5625,"20.5625","stena","stena","stena","stena","stena","stena","","","",""]
[null,"058",2.5,"2.5",2.95,"2.95",9.9499999999999993,"9.95",19.6875,"19.6875",20.5625,"20.5625","stena","stena","stena","stena","stena","stena","","","",""]
[null,"059",3.5,"3.5",3.95,"3.95",9.9499999999999993,"9.95",19.6875,"19.6875",20.5625,"20.5625","stena","stena","stena","stena","stena","stena","","","",""]
[null,"060",4.5,"4.5",4.95,"4.95",9.9499999999999993,"9.95",19.6875,"19.6875",20.5625,"20.5625","stena","stena","stena","stena","stena","stena","","","",""]
[null,"061",0.5,"0.5",0.95,"0.95",9.9499999999999993,"9.95",21.4375,"21.4375",22.3125,"22.3125","stena","stena","stena","stena","stena","stena","","","",""]
[null,"062",1.5,"1.5",1.95,"1.95",9.9499999999999993,"9.95",21.4375,"21.4375",22.3125,"22.3125","stena","stena","stena","stena","stena","stena","","","",""]
[null,"063",2.5,"2.5",2.95,"2.95",9.9499999999999993,"9.95",21.4375,"21.4375",22.3125,"22.3125","stena","stena","stena","stena","stena","stena","","","",""]
[null,"064",3.5,"3.5",3.95,"3.95",9.9499999999999993,"9.95",21.4375,"21.4375",22.3125,"22.3125","stena","stena","stena","stena","stena","stena","","","",""]
[null,"065",4.5,{"$f":"SUBSTITUTE(C71,\",\",\".\")","v":"4.5"},4.95,{"$f":"SUBSTITUTE(E71,\",\",\".\")","v":"4.95"},9.9499999999999993,"9.95",21.4375,{"$f":"SUBSTITUTE(I71,\",\",\".\")","v":"21.4375"},22.3125,"22.3125",{"$f":"IF($I$3=\"ano\",IF(AND(C71>$J$3,C71<$K$3,I71>$N$3,I71<$O$3),\"otvor\",\"stena\"),\"stena\")","v":"stena"},{"$f":"IF($I$4=\"ano\",IF(AND(C71>$J$4,C71<$K$4,I71>$N$4,I71<$O$4),\"otvor\",\"stena\"),\"stena\")","v":"stena"},"stena",{"$f":"IF($I$3=\"ano\",IF(AND(E71>$J$3,E71<$K$3,K71>$N$3,K71<$O$3),\"otvor\",\"stena\"),\"stena\")","v":"stena"},{"$f":"IF($I$4=\"ano\",IF(AND(E71>$J$4,E71<$K$4,K71>$N$4,K71<$O$4),\"otvor\",\"stena\"),\"stena\")","v":"stena"},{"$f":"IF(OR(P71=\"otvor\",Q71=\"otvor\"),\"otvor\",\"stena\")","v":"stena"},"","","",""]
[null,"066",{"$f":"IF(C71>=($C$2-$G$2),$G$2/2,C71+$G$2)","v":0.5},"0.5",0.95,"0.95",9.9499999999999993,{"$f":"SUBSTITUTE(G72,\",\",\".\")","v":"9.95"},23.1875,"23.1875",24.0625,"24.0625","stena","stena","stena","stena","stena","stena",{"$f":"IF(AND(C72>$M$2,I72>$O$2),IF(O72=\"stena\",IF(I72>$C$4,\"\",CONCATENATE(\"&FIRE ID = 'F.\",$E$2,\".5.\",B72,\"' COMP_ID = '\",$E$2,\"', FIRE_ID = 'FP.\",$E$2,\".X.\",J72,\"'  LOCATION = \",D72,\", \",H72,\" IGNITION_CRITERION = 'TEMPERATURE', DEVC_ID = 'T.\",$E$2,\".5.\",B72,\"', SETPOINT = \",$R$4,\" /\")),\"\"),\"\")","v":""},{"$f":"IF(AND(E72>$M$2,K72>$O$2),IF(R72=\"stena\",IF(K72>$C$4,\"\",CONCATENATE(\"&FIRE ID = 'F.\",$E$2,\".6.\",B72,\"' COMP_ID = '\",$E$2,\"', FIRE_ID = 'FP.\",$E$2,\".X.\",L72,\"'  LOCATION = \",F72,\", \",H72,\" IGNITION_CRITERION = 'TEMPERATURE', DEVC_ID = 'T.\",$E$2,\".6.\",B72,\"', SETPOINT = \",$R$4,\" /\")),\"\"),\"\")","v":""},{"$f":"IF(S72=\"\",\"\",IF(O72=\"stena\",IF(I72>$C$4,\"\",CONCATENATE(\"&DEVC ID = 'T.\",$E$2,\".5.\",B72,\"' COMP_ID = '\",$E$2,\"'  LOCATION = \",D72,\", \",H72,\", \",J72,\" TYPE = '\",$P$3,\"' MATL_ID = '\",$P$2,\"' SURFACE_ORIENTATION = '\",$P$4,\"' THICKNESS = \",$R$2,\" TEMPERATURE_DEPTH = \",$R$3,\" DEPTH_UNITS = 'M' /\")),\"\"))","v":""},{"$f":"IF(T72=\"\",\"\",IF(R72=\"stena\",IF(K72>$C$4,\"\",CONCATENATE(\"&DEVC ID = 'T.\",$E$2,\".6.\",B72,\"' COMP_ID = '\",$E$2,\"'  LOCATION = \",F72,\", \",H72,\", \",L72,\" TYPE = '\",$P$3,\"' MATL_ID = '\",$P$2,\"' SURFACE_ORIENTATION = '\",$P$4,\"' THICKNESS = \",$R$2,\" TEMPERATURE_DEPTH = \",$R$3,\" DEPTH_UNITS = 'M' /\")),\"\"))","v":""}]
[null,"067",1.5,"1.5",{"$f":"IF(E72>=($C$2-$E$3),$G$2-$E$3,E72+$G$2)","v":1.95},"1.95",{"$f":"G72","v":9.9499999999999993},"9.95",{"$f":"IF(C73=$G$2/2,I72+$G$3*2,I72)","v":23.1875},"23.1875",{"$f":"IF(E73=($G$2-$E$3),K72+$G$3*2,K72)","v":24.0625},{"$f":"SUBSTITUTE(K73,\",\",\".\")","v":"24.0625"},"stena","stena","stena","stena","stena","stena","","","",""]
[null,{"$f":"RIGHT(\"00\"&ROW(A68),3)","v":"068"},2.5,"2.5",2.95,"2.95",9.9499999999999993,"9.95",23.1875,"23.1875",24.0625,"24.0625","stena","stena","stena","stena","stena","stena","","","",""]
[null,"069",3.5,"3.5",3.95,"3.95",9.9499999999999993,"9.95",23.1875,"23.1875",24.0625,"24.0625","stena","stena","stena","stena","stena","stena","","","",""]
[null,"070",4.5,"4.5",4.95,"4.95",9.9499999999999993,"9.95",23.1875,"23.1875",24.0625,"24.0625","stena","stena","stena","stena","stena","stena","","","",""]
[null,"071",0.5,"0.5",0.95,"0.95",9.9499999999999993,"9.95",24.9375,"24.9375",25.8125,"25.8125","stena","stena",{"$f":"IF(OR(M77=\"otvor\",N77=\"otvor\"),\"otvor\",\"stena\")","v":"stena"},"stena","stena","stena","","","",""]
[null,"072",1.5,"1.5",1.95,"1.95",9.9499999999999993,"9.95",24.9375,"24.9375",25.8125,"25.8125","stena","stena","stena","stena","stena","stena","","","",""]
[null,"073",2.5,"2.5",2.95,"2.95",9.9499999999999993,"9.95",24.9375,"24.9375",25.8125,"25.8125","stena","stena","stena","stena","stena","stena","","","",""]
[null,"074",3.5,"3.5",3.95,"3.95",9.9499999999999993,"9.95",24.9375,"24.9375",25.8125,"25.8125","stena","stena","stena","stena","stena","stena","","","",""]
[null,"075",4.5,"4.5",4.95,"4.95",9.9499999999999993,"9.95",24.9375,"24.9375",25.8125,"25.8125","stena","stena","stena","stena","stena","stena","","","",""]
[null,"076",0.5,"0.5",0.95,"0.95",9.9499999999999993,"9.95",26.6875,"26.6875",27.5625,"27.5625","stena","stena","stena","stena","stena","stena","","","",""]
[null,"077",1.5,"1.5",1.95,"1.95",9.9499999999999993,"9.95",26.6875,"26.6875",27.5625,"27.5625","stena","stena","stena","stena","stena","stena","","","",""]
[null,"078",2.5,"2.5",2.95,"2.95",9.9499999999999993,"9.95",26.6875,"26.6875",27.5625,"27.5625","stena","stena","stena","stena","stena","stena","","","",""]
[null,"079",3.5,"3.5",3.95,"3.95",9.9499999999999993,"9.95",26.6875,"26.6875",27.5625,"27.5625","stena","stena","stena","stena","stena","stena","","","",""]
[null,"080",4.5,"4.5",4.95,"4.95",9.9499999999999993,"9.95",26.6875,"26.6875",27.5625,"27.5625","stena","stena","stena","stena","stena","stena","","","",""]
[null,"081",0.5,"0.5",0.95,"0.95",9.9499999999999993,"9.95",28.4375,"28.4375",29.3125,"29.3125","stena","stena","stena","stena","stena","stena","","","",""]
[null,"082",1.5,"1.5",1.95,"1.95",9.9499999999999993,"9.95",28.4375,"28.4375",29.3125,"29.3125","stena","stena","stena","stena","stena","stena","","","",""]
[null,"083",2.5,"2.5",2.95,"2.95",9.9499999999999993,"9.95",28.4375,"28.4375",29.3125,"29.3125","stena","stena","stena","stena","stena","stena","","","",""]
[null,"084",3.5,"3.5",3.95,"3.95",9.9499999999999993,"9.95",28.4375,"28.4375",29.3125,"29.3125","stena","stena","stena","stena","stena","stena","","","",""]
[null,"085",4.5,"4.5",4.95,"4.95",9.9499999999999993,"9.95",28.4375,"28.4375",29.3125,"29.3125","stena","stena","stena","stena","stena","stena","","","",""]
[null,"086",0.5,"0.5",0.95,"0.95",9.9499999999999993,"9.95",30.1875,"30.1875",31.0625,"31.0625","stena","stena","stena","stena","stena","stena","","","",""]
[null,"087",1.5,"1.5",1.95,"1.95",9.9499999999999993,"9.95",30.1875,"30.1875",31.0625,"31.0625","stena","stena","stena","stena","stena","stena","","","",""]
[null,"088",2.5,"2.5",2.95,"2.95",9.9499999999999993,"9.95",30.1875,"30.1875",31.0625,"31.0625","stena","stena","stena","stena","stena","stena","","","",""]
[null,"089",3.5,"3.5",3.95,"3.95",9.9499999999999993,"9.95",30.1875,"30.1875",31.0625,"31.0625","stena","stena","stena","stena","stena","stena","","","",""]
[null,"090",4.5,"4.5",4.95,"4.95",9.9499999999999993,"9.95",30.1875,"30.1875",31.0625,"31.0625","stena","stena","stena","stena","stena","stena","","","",""]
[null,"091",0.5,"0.5",0.95,"0.95",9.9499999999999993,"9.95",31.9375,"31.9375",32.8125,"32.8125","stena","stena","stena","stena","stena","stena","","","",""]
[null,"092",1.5,"1.5",1.95,"1.95",9.9499999999999993,"9.95",31.9375,"31.9375",32.8125,"32.8125","stena","stena","stena","stena","stena","stena","","","",""]
[null,"093",2.5,{"$f":"SUBSTITUTE(C99,\",\",\".\")","v":"2.5"},2.95,{"$f":"SUBSTITUTE(E99,\",\",\".\")","v":"2.95"},9.9499999999999993,"9.95",31.9375,{"$f":"SUBSTITUTE(I99,\",\",\".\")","v":"31.9375"},32.8125,"32.8125","stena","stena","stena","stena","stena","stena","","","",""]
[null,"094",3.5,"3.5",3.95,"3.95",9.9499999999999993,"9.95",31.9375,"31.9375",32.8125,"32.8125","stena","stena","stena","stena","stena","stena","","","",""]
[null,"095",4.5,"4.5",4.95,"4.95",9.9499999999999993,"9.95",31.9375,"31.9375",32.8125,"32.8125","stena","stena","stena","stena","stena","stena","","","",""]
[null,"096",0.5,"0.5",0.95,"0.95",9.9499999999999993,"9.95",33.6875,"33.6875",34.5625,"34.5625","stena","stena","stena","stena","stena","stena","","","",""]
[null,"097",1.5,{"$f":"SUBSTITUTE(C103,\",\",\".\")","v":"1.5"},1.95,{"$f":"SUBSTITUTE(E103,\",\",\".\")","v":"1.95"},9.9499999999999993,"9.95",33.6875,{"$f":"SUBSTITUTE(I103,\",\",\".\")","v":"33.6875"},34.5625,"34.5625","stena","stena","stena","stena","stena","stena","","","",""]
[null,"098",2.5,"2.5",2.95,"2.95",9.9499999999999993,"9.95",33.6875,"33.6875",34.5625,"34.5625","stena","stena","stena","stena","stena","stena","","","",""]
[null,"099",3.5,"3.5",3.95,"3.95",9.9499999999999993,"9.95",33.6875,"33.6875",34.5625,"34.5625","stena","stena","stena","stena","stena","stena","","","",""]
[null,"100",4.5,"4.5",4.95,"4.95",9.9499999999999993,"9.95",33.6875,"33.6875",34.5625,"34.5625","stena","stena","stena","stena","stena","stena","","","",""]
[null,"101",0.5,"0.5",0.95,"0.95",9.9499999999999993,"9.95",35.4375,"35.4375",36.3125,"36.3125","stena","stena","stena","stena","stena","stena","","","",""]
[null,null,null,null,null,null,null,null,null,null,null,null,null,null,{"$f":"IF(O107=\"stena\",\"ok\",\"pozor\")","v":"ok"},null,null,{"$f":"IF(R107=\"stena\",\"ok\",\"pozor\")","v":"ok"},{"$f":"IF(S107=\"\",\"ok\",\"pozor\")","v":"ok"},{"$f":"IF(T107=\"\",\"ok\",\"pozor\")","v":"ok"}]

{"sheet":"Fire Devc D","index":5,"n_rows":108,"n_cols":22,"rows_kept":108,"cut":false,"hidden":false,"merged":[[1,7,1,11],[5,2,5,3],[5,4,5,5],[5,6,5,7],[5,8,5,9],[5,10,5,11]]}
[]
[null,"x",{"$f":"zadani!G7","v":5},"místno.",{"$f":"zadani!G6","v":"C1"},"hrana y",{"$f":"C3/zadani!G17","v":1},"STRANA D",null,null,null,null,{"$f":"zadani!G10","v":0},{"$f":"zadani!G11","v":0},{"$f":"zadani!G12","v":0},{"$f":"zadani!G38","v":"M1"},{"$f":"zadani!G41","v":1.4999999999999999E-2},{"$f":"SUBSTITUTE(Q2,\",\",\".\")","v":"0.015"}]
[null,"y",{"$f":"zadani!G8","v":10},"odstup",{"$f":"zadani!G13","v":0.05},"hrana z",{"$f":"C4/zadani!G18","v":0.875},"otvor 1",{"$f":"zadani!L14","v":"ne"},{"$f":"zadani!M14","v":"-"},{"$f":"zadani!N14","v":"-"},{"$f":"zadani!O14","v":0},{"$f":"zadani!P14","v":0},{"$f":"zadani!Q14","v":0},{"$f":"zadani!R14","v":0},{"$f":"zadani!G39","v":"PLATE"},{"$f":"zadani!G42","v":0},{"$f":"SUBSTITUTE(Q3,\",\",\".\")","v":"0"}]
[null,"z",{"$f":"zadani!G9","v":3.5},"vše ok?",{"$f":"IF(AND(O108=\"ok\",R108=\"ok\",S108=\"ok\",T108=\"ok\"),\"ok\",\"pozor\")","v":"ok"},null,null,"otvor 2",{"$f":"zadani!L15","v":"ne"},{"$f":"zadani!M15","v":"-"},{"$f":"zadani!N15","v":"-"},{"$f":"zadani!O15","v":0},{"$f":"zadani!P15","v":0},{"$f":"zadani!Q15","v":0},{"$f":"zadani!R15","v":0},{"$f":"zadani!G40","v":"FLOOR"},{"$f":"zadani!C42","v":250},{"$f":"SUBSTITUTE(Q4,\",\",\".\")","v":"250"}]
[]
[null,"pořad. číslo","X",null,"Y lichá",null,"Y sudá",null,"Z lichá",null,"Z sudá",null,"otvor 1 lichy","otvor 2 lichy","otvory liche","otvor 1 sudy","otvor 2 sudy","otvory sude"]
[null,{"$f":"RIGHT(\"00\"&ROW(A1),3)","v":"001"},{"$f":"E3","v":0.05},{"$f":"SUBSTITUTE(C7,\",\",\".\")","v":"0.05"},{"$f":"G2/2","v":0.5},{"$f":"SUBSTITUTE(E7,\",\",\".\")","v":"0.5"},{"$f":"G2-E3","v":0.95},{"$f":"SUBSTITUTE(G7,\",\",\".\")","v":"0.95"},{"$f":"G3/2","v":0.4375},{"$f":"SUBSTITUTE(I7,\",\",\".\")","v":"0.4375"},{"$f":"$G$3*1.5","v":1.3125},{"$f":"SUBSTITUTE(K7,\",\",\".\")","v":"1.3125"},{"$f":"IF($I$3=\"ano\",IF(AND(E7>$L$3,E7<$M$3,I7>$N$3,I7<$O$3),\"otvor\",\"stena\"),\"stena\")","v":"stena"},{"$f":"IF($I$4=\"ano\",IF(AND(E7>$L$4,E7<$M$4,I7>$N$4,I7<$O$4),\"otvor\",\"stena\"),\"stena\")","v":"stena"},{"$f":"IF(OR(M7=\"otvor\",N7=\"otvor\"),\"otvor\",\"stena\")","v":"stena"},{"$f":"IF($I$3=\"ano\",IF(AND(G7>$L$3,G7<$M$3,K7>$N$3,K7<$O$3),\"otvor\",\"stena\"),\"stena\")","v":"stena"},{"$f":"IF($I$4=\"ano\",IF(AND(G7>$L$4,G7<$M$4,K7>$N$4,K7<$O$4),\"otvor\",\"stena\"),\"stena\")","v":"stena"},{"$f":"IF(OR(P7=\"otvor\",Q7=\"otvor\"),\"otvor\",\"stena\")","v":"stena"},{"$f":"IF(AND(F7>$N$2,I7>$O$2),IF(O7=\"stena\",IF(I7>$C$4,\"\",CONCATENATE(\"&FIRE ID = 'F.\",$E$2,\".7.\",B7,\"' COMP_ID = '\",$E$2,\"', FIRE_ID = 'FP.\",$E$2,\".Y.\",J7,\"'  LOCATION = \",D7,\", \",F7,\" IGNITION_CRITERION = 'TEMPERATURE', DEVC_ID = 'T.\",$E$2,\".7.\",B7,\"', SETPOINT = \",$R$4,\" /\")),\"\"),\"\")","v":"&FIRE ID = 'F.C1.7.001' COMP_ID = 'C1', FIRE_ID = 'FP.C1.Y.0.4375'  LOCATION = 0.05, 0.5 IGNITION_CRITERION = 'TEMPERATURE', DEVC_ID = 'T.C1.7.001', SETPOINT = 250 /"},{"$f":"IF(AND(G7>$N$2,K7>$O$2),IF(R7=\"stena\",IF(K7>$C$4,\"\",CONCATENATE(\"&FIRE ID = 'F.\",$E$2,\".8.\",B7,\"' COMP_ID = '\",$E$2,\"', FIRE_ID = 'FP.\",$E$2,\".Y.\",L7,\"'  LOCATION = \",D7,\", \",H7,\" IGNITION_CRITERION = 'TEMPERATURE', DEVC_ID = 'T.\",$E$2,\".8.\",B7,\"', SETPOINT = \",$R$4,\" /\")),\"\"),\"\")","v":"&FIRE ID = 'F.C1.8.001' COMP_ID = 'C1', FIRE_ID = 'FP.C1.Y.1.3125'  LOCATION = 0.05, 0.95 IGNITION_CRITERION = 'TEMPERATURE', DEVC_ID = 'T.C1.8.001', SETPOINT = 250 /"},{"$f":"IF(S7=\"\",\"\",IF(O7=\"stena\",IF(I7>$C$4,\"\",CONCATENATE(\"&DEVC ID = 'T.\",$E$2,\".7.\",B7,\"' COMP_ID = '\",$E$2,\"'  LOCATION = \",D7,\", \",F7,\", \",J7,\" TYPE = '\",$P$3,\"' MATL_ID = '\",$P$2,\"' SURFACE_ORIENTATION = '\",$P$4,\"' THICKNESS = \",$R$2,\" TEMPERATURE_DEPTH = \",$R$3,\" DEPTH_UNITS = 'M' /\")),\"\"))","v":"&DEVC ID = 'T.C1.7.001' COMP_ID = 'C1'  LOCATION = 0.05, 0.5, 0.4375 TYPE = 'PLATE' MATL_ID = 'M1' SURFACE_ORIENTATION = 'FLOOR' THICKNESS = 0.015 TEMPERATURE_DEPTH = 0 DEPTH_UNITS = 'M' /"},{"$f":"IF(T7=\"\",\"\",IF(R7=\"stena\",IF(K7>$C$4,\"\",CONCATENATE(\"&DEVC ID = 'T.\",$E$2,\".8.\",B7,\"' COMP_ID = '\",$E$2,\"'  LOCATION = \",D7,\", \",H7,\", \",L7,\" TYPE = '\",$P$3,\"' MATL_ID = '\",$P$2,\"' SURFACE_ORIENTATION = '\",$P$4,\"' THICKNESS = \",$R$2,\" TEMPERATURE_DEPTH = \",$R$3,\" DEPTH_UNITS = 'M' /\")),\"\"))","v":"&DEVC ID = 'T.C1.8.001' COMP_ID = 'C1'  LOCATION = 0.05, 0.95, 1.3125 TYPE = 'PLATE' MATL_ID = 'M1' SURFACE_ORIENTATION = 'FLOOR' THICKNESS = 0.015 TEMPERATURE_DEPTH = 0 DEPTH_UNITS = 'M' /"}]
[null,{"$f":"RIGHT(\"00\"&ROW(A2),3)","v":"002"},{"$f":"$C$7","v":0.05},"0.05",{"$f":"IF(E7>=($C$3-$G$2/2),$G$2/2,E7+$G$2)","v":1.5},"1.5",{"$f":"IF(E7>=($C$3-$G$2),$G$2-$E$3,$G$2+G7)","v":1.95},{"$f":"SUBSTITUTE(G8,\",\",\".\")","v":"1.95"},{"$f":"IF(E8=$G$2/2,I7+$G$3*2,I7)","v":0.4375},"0.4375",{"$f":"IF(G8=($G$2-$E$3),K7+$G$3*2,K7)","v":1.3125},{"$f":"SUBSTITUTE(K8,\",\",\".\")","v":"1.3125"},{"$f":"IF($I$3=\"ano\",IF(AND(E8>$L$3,E8<$M$3,I8>$N$3,I8<$O$3),\"otvor\",\"stena\"),\"stena\")","v":"stena"},{"$f":"IF($I$4=\"ano\",IF(AND(E8>$L$4,E8<$M$4,I8>$N$4,I8<$O$4),\"otvor\",\"stena\"),\"stena\")","v":"stena"},{"$f":"IF(OR(M8=\"otvor\",N8=\"otvor\"),\"otvor\",\"stena\")","v":"stena"},{"$f":"IF($I$3=\"ano\",IF(AND(G8>$L$3,G8<$M$3,K8>$N$3,K8<$O$3),\"otvor\",\"stena\"),\"stena\")","v":"stena"},{"$f":"IF($I$4=\"ano\",IF(AND(G8>$L$4,G8<$M$4,K8>$N$4,K8<$O$4),\"otvor\",\"stena\"),\"stena\")","v":"stena"},"stena",{"$f":"IF(AND(F8>$N$2,I8>$O$2),IF(O8=\"stena\",IF(I8>$C$4,\"\",CONCATENATE(\"&FIRE ID = 'F.\",$E$2,\".7.\",B8,\"' COMP_ID = '\",$E$2,\"', FIRE_ID = 'FP.\",$E$2,\".Y.\",J8,\"'  LOCATION = \",D8,\", \",F8,\" IGNITION_CRITERION = 'TEMPERATURE', DEVC_ID = 'T.\",$E$2,\".7.\",B8,\"', SETPOINT = \",$R$4,\" /\")),\"\"),\"\")","v":"&FIRE ID = 'F.C1.7.002' COMP_ID = 'C1', FIRE_ID = 'FP.C1.Y.0.4375'  LOCATION = 0.05, 1.5 IGNITION_CRITERION = 'TEMPERATURE', DEVC_ID = 'T.C1.7.002', SETPOINT = 250 /"},{"$f":"IF(AND(G8>$N$2,K8>$O$2),IF(R8=\"stena\",IF(K8>$C$4,\"\",CONCATENATE(\"&FIRE ID = 'F.\",$E$2,\".8.\",B8,\"' COMP_ID = '\",$E$2,\"', FIRE_ID = 'FP.\",$E$2,\".Y.\",L8,\"'  LOCATION = \",D8,\", \",H8,\" IGNITION_CRITERION = 'TEMPERATURE', DEVC_ID = 'T.\",$E$2,\".8.\",B8,\"', SETPOINT = \",$R$4,\" /\")),\"\"),\"\")","v":"&FIRE ID = 'F.C1.8.002' COMP_ID = 'C1', FIRE_ID = 'FP.C1.Y.1.3125'  LOCATION = 0.05, 1.95 IGNITION_CRITERION = 'TEMPERATURE', DEVC_ID = 'T.C1.8.002', SETPOINT = 250 /"},{"$f":"IF(S8=\"\",\"\",IF(O8=\"stena\",IF(I8>$C$4,\"\",CONCATENATE(\"&DEVC ID = 'T.\",$E$2,\".7.\",B8,\"' COMP_ID = '\",$E$2,\"'  LOCATION = \",D8,\", \",F8,\", \",J8,\" TYPE = '\",$P$3,\"' MATL_ID = '\",$P$2,\"' SURFACE_ORIENTATION = '\",$P$4,\"' THICKNESS = \",$R$2,\" TEMPERATURE_DEPTH = \",$R$3,\" DEPTH_UNITS = 'M' /\")),\"\"))","v":"&DEVC ID = 'T.C1.7.002' COMP_ID = 'C1'  LOCATION = 0.05, 1.5, 0.4375 TYPE = 'PLATE' MATL_ID = 'M1' SURFACE_ORIENTATION = 'FLOOR' THICKNESS = 0.015 TEMPERATURE_DEPTH = 0 DEPTH_UNITS = 'M' /"},{"$f":"IF(T8=\"\",\"\",IF(R8=\"stena\",IF(K8>$C$4,\"\",CONCATENATE(\"&DEVC ID = 'T.\",$E$2,\".8.\",B8,\"' COMP_ID = '\",$E$2,\"'  LOCATION = \",D8,\", \",H8,\", \",L8,\" TYPE = '\",$P$3,\"' MATL_ID = '\",$P$2,\"' SURFACE_ORIENTATION = '\",$P$4,\"' THICKNESS = \",$R$2,\" TEMPERATURE_DEPTH = \",$R$3,\" DEPTH_UNITS = 'M' /\")),\"\"))","v":"&DEVC ID = 'T.C1.8.002' COMP_ID = 'C1'  LOCATION = 0.05, 1.95, 1.3125 TYPE = 'PLATE' MATL_ID = 'M1' SURFACE_ORIENTATION = 'FLOOR' THICKNESS = 0.015 TEMPERATURE_DEPTH = 0 DEPTH_UNITS = 'M' /"}]
[null,{"$f":"RIGHT(\"00\"&ROW(A3),3)","v":"003"},{"$f":"$C$7","v":0.05},"0.05",{"$f":"IF(E8>=($C$3-$G$2/2),$G$2/2,E8+$G$2)","v":2.5},"2.5",{"$f":"IF(E8>=($C$3-$G$2),$G$2-$E$3,$G$2+G8)","v":2.95},"2.95",{"$f":"IF(E9=$G$2/2,I8+$G$3*2,I8)","v":0.4375},"0.4375",{"$f":"IF(G9=($G$2-$E$3),K8+$G$3*2,K8)","v":1.3125},{"$f":"SUBSTITUTE(K9,\",\",\".\")","v":"1.3125"},"stena","stena","stena","stena","stena","stena","&FIRE ID = 'F.C1.7.003' COMP_ID = 'C1', FIRE_ID = 'FP.C1.Y.0.4375'  LOCATION = 0.05, 2.5 IGNITION_CRITERION = 'TEMPERATURE', DEVC_ID = 'T.C1.7.003', SETPOINT = 250 /","&FIRE ID = 'F.C1.8.003' COMP_ID = 'C1', FIRE_ID = 'FP.C1.Y.1.3125'  LOCATION = 0.05, 2.95 IGNITION_CRITERION = 'TEMPERATURE', DEVC_ID = 'T.C1.8.003', SETPOINT = 250 /","&DEVC ID = 'T.C1.7.003' COMP_ID = 'C1'  LOCATION = 0.05, 2.5, 0.4375 TYPE = 'PLATE' MATL_ID = 'M1' SURFACE_ORIENTATION = 'FLOOR' THICKNESS = 0.015 TEMPERATURE_DEPTH = 0 DEPTH_UNITS = 'M' /","&DEVC ID = 'T.C1.8.003' COMP_ID = 'C1'  LOCATION = 0.05, 2.95, 1.3125 TYPE = 'PLATE' MATL_ID = 'M1' SURFACE_ORIENTATION = 'FLOOR' THICKNESS = 0.015 TEMPERATURE_DEPTH = 0 DEPTH_UNITS = 'M' /"]
[null,{"$f":"RIGHT(\"00\"&ROW(A4),3)","v":"004"},0.05,"0.05",3.5,"3.5",3.95,"3.95",0.4375,"0.4375",1.3125,"1.3125","stena","stena","stena","stena","stena","stena","&FIRE ID = 'F.C1.7.004' COMP_ID = 'C1', FIRE_ID = 'FP.C1.Y.0.4375'  LOCATION = 0.05, 3.5 IGNITION_CRITERION = 'TEMPERATURE', DEVC_ID = 'T.C1.7.004', SETPOINT = 250 /","&FIRE ID = 'F.C1.8.004' COMP_ID = 'C1', FIRE_ID = 'FP.C1.Y.1.3125'  LOCATION = 0.05, 3.95 IGNITION_CRITERION = 'TEMPERATURE', DEVC_ID = 'T.C1.8.004', SETPOINT = 250 /","&DEVC ID = 'T.C1.7.004' COMP_ID = 'C1'  LOCATION = 0.05, 3.5, 0.4375 TYPE = 'PLATE' MATL_ID = 'M1' SURFACE_ORIENTATION = 'FLOOR' THICKNESS = 0.015 TEMPERATURE_DEPTH = 0 DEPTH_UNITS = 'M' /","&DEVC ID = 'T.C1.8.004' COMP_ID = 'C1'  LOCATION = 0.05, 3.95, 1.3125 TYPE = 'PLATE' MATL_ID = 'M1' SURFACE_ORIENTATION = 'FLOOR' THICKNESS = 0.015 TEMPERATURE_DEPTH = 0 DEPTH_UNITS = 'M' /"]
[null,"005",0.05,"0.05",4.5,"4.5",4.95,"4.95",0.4375,"0.4375",1.3125,"1.3125","stena","stena","stena","stena","stena","stena","&FIRE ID = 'F.C1.7.005' COMP_ID = 'C1', FIRE_ID = 'FP.C1.Y.0.4375'  LOCATION = 0.05, 4.5 IGNITION_CRITERION = 'TEMPERATURE', DEVC_ID = 'T.C1.7.005', SETPOINT = 250 /","&FIRE ID = 'F.C1.8.005' COMP_ID = 'C1', FIRE_ID = 'FP.C1.Y.1.3125'  LOCATION = 0.05, 4.95 IGNITION_CRITERION = 'TEMPERATURE', DEVC_ID = 'T.C1.8.005', SETPOINT = 250 /","&DEVC ID = 'T.C1.7.005' COMP_ID = 'C1'  LOCATION = 0.05, 4.5, 0.4375 TYPE = 'PLATE' MATL_ID = 'M1' SURFACE_ORIENTATION = 'FLOOR' THICKNESS = 0.015 TEMPERATURE_DEPTH = 0 DEPTH_UNITS = 'M' /","&DEVC ID = 'T.C1.8.005' COMP_ID = 'C1'  LOCATION = 0.05, 4.95, 1.3125 TYPE = 'PLATE' MATL_ID = 'M1' SURFACE_ORIENTATION = 'FLOOR' THICKNESS = 0.015 TEMPERATURE_DEPTH = 0 DEPTH_UNITS = 'M' /"]
[null,"006",0.05,"0.05",5.5,"5.5",5.95,"5.95",0.4375,"0.4375",1.3125,"1.3125","stena","stena","stena","stena","stena","stena","&FIRE ID = 'F.C1.7.006' COMP_ID = 'C1', FIRE_ID = 'FP.C1.Y.0.4375'  LOCATION = 0.05, 5.5 IGNITION_CRITERION = 'TEMPERATURE', DEVC_ID = 'T.C1.7.006', SETPOINT = 250 /","&FIRE ID = 'F.C1.8.006' COMP_ID = 'C1', FIRE_ID = 'FP.C1.Y.1.3125'  LOCATION = 0.05, 5.95 IGNITION_CRITERION = 'TEMPERATURE', DEVC_ID = 'T.C1.8.006', SETPOINT = 250 /","&DEVC ID = 'T.C1.7.006' COMP_ID = 'C1'  LOCATION = 0.05, 5.5, 0.4375 TYPE = 'PLATE' MATL_ID = 'M1' SURFACE_ORIENTATION = 'FLOOR' THICKNESS = 0.015 TEMPERATURE_DEPTH = 0 DEPTH_UNITS = 'M' /","&DEVC ID = 'T.C1.8.006' COMP_ID = 'C1'  LOCATION = 0.05, 5.95, 1.3125 TYPE = 'PLATE' MATL_ID = 'M1' SURFACE_ORIENTATION = 'FLOOR' THICKNESS = 0.015 TEMPERATURE_DEPTH = 0 DEPTH_UNITS = 'M' /"]
[null,"007",0.05,"0.05",6.5,"6.5",6.95,"6.95",0.4375,"0.4375",1.3125,"1.3125","stena","stena","stena","stena","stena","stena","&FIRE ID = 'F.C1.7.007' COMP_ID = 'C1', FIRE_ID = 'FP.C1.Y.0.4375'  LOCATION = 0.05, 6.5 IGNITION_CRITERION = 'TEMPERATURE', DEVC_ID = 'T.C1.7.007', SETPOINT = 250 /","&FIRE ID = 'F.C1.8.007' COMP_ID = 'C1', FIRE_ID = 'FP.C1.Y.1.3125'  LOCATION = 0.05, 6.95 IGNITION_CRITERION = 'TEMPERATURE', DEVC_ID = 'T.C1.8.007', SETPOINT = 250 /","&DEVC ID = 'T.C1.7.007' COMP_ID = 'C1'  LOCATION = 0.05, 6.5, 0.4375 TYPE = 'PLATE' MATL_ID = 'M1' SURFACE_ORIENTATION = 'FLOOR' THICKNESS = 0.015 TEMPERATURE_DEPTH = 0 DEPTH_UNITS = 'M' /","&DEVC ID = 'T.C1.8.007' COMP_ID = 'C1'  LOCATION = 0.05, 6.95, 1.3125 TYPE = 'PLATE' MATL_ID = 'M1' SURFACE_ORIENTATION = 'FLOOR' THICKNESS = 0.015 TEMPERATURE_DEPTH = 0 DEPTH_UNITS = 'M' /"]
[null,"008",0.05,"0.05",7.5,"7.5",7.95,"7.95",0.4375,"0.4375",1.3125,"1.3125","stena","stena","stena","stena","stena","stena","&FIRE ID = 'F.C1.7.008' COMP_ID = 'C1', FIRE_ID = 'FP.C1.Y.0.4375'  LOCATION = 0.05, 7.5 IGNITION_CRITERION = 'TEMPERATURE', DEVC_ID = 'T.C1.7.008', SETPOINT = 250 /","&FIRE ID = 'F.C1.8.008' COMP_ID = 'C1', FIRE_ID = 'FP.C1.Y.1.3125'  LOCATION = 0.05, 7.95 IGNITION_CRITERION = 'TEMPERATURE', DEVC_ID = 'T.C1.8.008', SETPOINT = 250 /","&DEVC ID = 'T.C1.7.008' COMP_ID = 'C1'  LOCATION = 0.05, 7.5, 0.4375 TYPE = 'PLATE' MATL_ID = 'M1' SURFACE_ORIENTATION = 'FLOOR' THICKNESS = 0.015 TEMPERATURE_DEPTH = 0 DEPTH_UNITS = 'M' /","&DEVC ID = 'T.C1.8.008' COMP_ID = 'C1'  LOCATION = 0.05, 7.95, 1.3125 TYPE = 'PLATE' MATL_ID = 'M1' SURFACE_ORIENTATION = 'FLOOR' THICKNESS = 0.015 TEMPERATURE_DEPTH = 0 DEPTH_UNITS = 'M' /"]
[null,"009",0.05,"0.05",8.5,"8.5",8.9499999999999993,"8.95",0.4375,"0.4375",1.3125,"1.3125","stena","stena","stena","stena","stena","stena","&FIRE ID = 'F.C1.7.009' COMP_ID = 'C1', FIRE_ID = 'FP.C1.Y.0.4375'  LOCATION = 0.05, 8.5 IGNITION_CRITERION = 'TEMPERATURE', DEVC_ID = 'T.C1.7.009', SETPOINT = 250 /","&FIRE ID = 'F.C1.8.009' COMP_ID = 'C1', FIRE_ID = 'FP.C1.Y.1.3125'  LOCATION = 0.05, 8.95 IGNITION_CRITERION = 'TEMPERATURE', DEVC_ID = 'T.C1.8.009', SETPOINT = 250 /","&DEVC ID = 'T.C1.7.009' COMP_ID = 'C1'  LOCATION = 0.05, 8.5, 0.4375 TYPE = 'PLATE' MATL_ID = 'M1' SURFACE_ORIENTATION = 'FLOOR' THICKNESS = 0.015 TEMPERATURE_DEPTH = 0 DEPTH_UNITS = 'M' /","&DEVC ID = 'T.C1.8.009' COMP_ID = 'C1'  LOCATION = 0.05, 8.95, 1.3125 TYPE = 'PLATE' MATL_ID = 'M1' SURFACE_ORIENTATION = 'FLOOR' THICKNESS = 0.015 TEMPERATURE_DEPTH = 0 DEPTH_UNITS = 'M' /"]
[null,"010",0.05,"0.05",9.5,"9.5",9.9499999999999993,"9.95",0.4375,"0.4375",1.3125,"1.3125","stena","stena","stena","stena","stena","stena","&FIRE ID = 'F.C1.7.010' COMP_ID = 'C1', FIRE_ID = 'FP.C1.Y.0.4375'  LOCATION = 0.05, 9.5 IGNITION_CRITERION = 'TEMPERATURE', DEVC_ID = 'T.C1.7.010', SETPOINT = 250 /","&FIRE ID = 'F.C1.8.010' COMP_ID = 'C1', FIRE_ID = 'FP.C1.Y.1.3125'  LOCATION = 0.05, 9.95 IGNITION_CRITERION = 'TEMPERATURE', DEVC_ID = 'T.C1.8.010', SETPOINT = 250 /","&DEVC ID = 'T.C1.7.010' COMP_ID = 'C1'  LOCATION = 0.05, 9.5, 0.4375 TYPE = 'PLATE' MATL_ID = 'M1' SURFACE_ORIENTATION = 'FLOOR' THICKNESS = 0.015 TEMPERATURE_DEPTH = 0 DEPTH_UNITS = 'M' /","&DEVC ID = 'T.C1.8.010' COMP_ID = 'C1'  LOCATION = 0.05, 9.95, 1.3125 TYPE = 'PLATE' MATL_ID = 'M1' SURFACE_ORIENTATION = 'FLOOR' THICKNESS = 0.015 TEMPERATURE_DEPTH = 0 DEPTH_UNITS = 'M' /"]
[null,"011",0.05,"0.05",0.5,"0.5",0.95,"0.95",2.1875,"2.1875",3.0625,"3.0625","stena","stena","stena","stena","stena","stena","&FIRE ID = 'F.C1.7.011' COMP_ID = 'C1', FIRE_ID = 'FP.C1.Y.2.1875'  LOCATION = 0.05, 0.5 IGNITION_CRITERION = 'TEMPERATURE', DEVC_ID = 'T.C1.7.011', SETPOINT = 250 /","&FIRE ID = 'F.C1.8.011' COMP_ID = 'C1', FIRE_ID = 'FP.C1.Y.3.0625'  LOCATION = 0.05, 0.95 IGNITION_CRITERION = 'TEMPERATURE', DEVC_ID = 'T.C1.8.011', SETPOINT = 250 /","&DEVC ID = 'T.C1.7.011' COMP_ID = 'C1'  LOCATION = 0.05, 0.5, 2.1875 TYPE = 'PLATE' MATL_ID = 'M1' SURFACE_ORIENTATION = 'FLOOR' THICKNESS = 0.015 TEMPERATURE_DEPTH = 0 DEPTH_UNITS = 'M' /","&DEVC ID = 'T.C1.8.011' COMP_ID = 'C1'  LOCATION = 0.05, 0.95, 3.0625 TYPE = 'PLATE' MATL_ID = 'M1' SURFACE_ORIENTATION = 'FLOOR' THICKNESS = 0.015 TEMPERATURE_DEPTH = 0 DEPTH_UNITS = 'M' /"]
[null,"012",0.05,"0.05",1.5,"1.5",1.95,"1.95",2.1875,"2.1875",3.0625,"3.0625","stena","stena","stena","stena","stena","stena","&FIRE ID = 'F.C1.7.012' COMP_ID = 'C1', FIRE_ID = 'FP.C1.Y.2.1875'  LOCATION = 0.05, 1.5 IGNITION_CRITERION = 'TEMPERATURE', DEVC_ID = 'T.C1.7.012', SETPOINT = 250 /","&FIRE ID = 'F.C1.8.012' COMP_ID = 'C1', FIRE_ID = 'FP.C1.Y.3.0625'  LOCATION = 0.05, 1.95 IGNITION_CRITERION = 'TEMPERATURE', DEVC_ID = 'T.C1.8.012', SETPOINT = 250 /","&DEVC ID = 'T.C1.7.012' COMP_ID = 'C1'  LOCATION = 0.05, 1.5, 2.1875 TYPE = 'PLATE' MATL_ID = 'M1' SURFACE_ORIENTATION = 'FLOOR' THICKNESS = 0.015 TEMPERATURE_DEPTH = 0 DEPTH_UNITS = 'M' /","&DEVC ID = 'T.C1.8.012' COMP_ID = 'C1'  LOCATION = 0.05, 1.95, 3.0625 TYPE = 'PLATE' MATL_ID = 'M1' SURFACE_ORIENTATION = 'FLOOR' THICKNESS = 0.015 TEMPERATURE_DEPTH = 0 DEPTH_UNITS = 'M' /"]
[null,"013",0.05,"0.05",2.5,"2.5",2.95,"2.95",2.1875,"2.1875",3.0625,"3.0625","stena","stena","stena","stena","stena","stena","&FIRE ID = 'F.C1.7.013' COMP_ID = 'C1', FIRE_ID = 'FP.C1.Y.2.1875'  LOCATION = 0.05, 2.5 IGNITION_CRITERION = 'TEMPERATURE', DEVC_ID = 'T.C1.7.013', SETPOINT = 250 /","&FIRE ID = 'F.C1.8.013' COMP_ID = 'C1', FIRE_ID = 'FP.C1.Y.3.0625'  LOCATION = 0.05, 2.95 IGNITION_CRITERION = 'TEMPERATURE', DEVC_ID = 'T.C1.8.013', SETPOINT = 250 /","&DEVC ID = 'T.C1.7.013' COMP_ID = 'C1'  LOCATION = 0.05, 2.5, 2.1875 TYPE = 'PLATE' MATL_ID = 'M1' SURFACE_ORIENTATION = 'FLOOR' THICKNESS = 0.015 TEMPERATURE_DEPTH = 0 DEPTH_UNITS = 'M' /","&DEVC ID = 'T.C1.8.013' COMP_ID = 'C1'  LOCATION = 0.05, 2.95, 3.0625 TYPE = 'PLATE' MATL_ID = 'M1' SURFACE_ORIENTATION = 'FLOOR' THICKNESS = 0.015 TEMPERATURE_DEPTH = 0 DEPTH_UNITS = 'M' /"]
[null,"014",0.05,"0.05",3.5,"3.5",3.95,"3.95",2.1875,"2.1875",3.0625,"3.0625","stena","stena","stena","stena","stena","stena","&FIRE ID = 'F.C1.7.014' COMP_ID = 'C1', FIRE_ID = 'FP.C1.Y.2.1875'  LOCATION = 0.05, 3.5 IGNITION_CRITERION = 'TEMPERATURE', DEVC_ID = 'T.C1.7.014', SETPOINT = 250 /","&FIRE ID = 'F.C1.8.014' COMP_ID = 'C1', FIRE_ID = 'FP.C1.Y.3.0625'  LOCATION = 0.05, 3.95 IGNITION_CRITERION = 'TEMPERATURE', DEVC_ID = 'T.C1.8.014', SETPOINT = 250 /","&DEVC ID = 'T.C1.7.014' COMP_ID = 'C1'  LOCATION = 0.05, 3.5, 2.1875 TYPE = 'PLATE' MATL_ID = 'M1' SURFACE_ORIENTATION = 'FLOOR' THICKNESS = 0.015 TEMPERATURE_DEPTH = 0 DEPTH_UNITS = 'M' /","&DEVC ID = 'T.C1.8.014' COMP_ID = 'C1'  LOCATION = 0.05, 3.95, 3.0625 TYPE = 'PLATE' MATL_ID = 'M1' SURFACE_ORIENTATION = 'FLOOR' THICKNESS = 0.015 TEMPERATURE_DEPTH = 0 DEPTH_UNITS = 'M' /"]
[null,"015",0.05,"0.05",4.5,"4.5",4.95,"4.95",2.1875,"2.1875",3.0625,"3.0625","stena","stena","stena","stena","stena","stena","&FIRE ID = 'F.C1.7.015' COMP_ID = 'C1', FIRE_ID = 'FP.C1.Y.2.1875'  LOCATION = 0.05, 4.5 IGNITION_CRITERION = 'TEMPERATURE', DEVC_ID = 'T.C1.7.015', SETPOINT = 250 /","&FIRE ID = 'F.C1.8.015' COMP_ID = 'C1', FIRE_ID = 'FP.C1.Y.3.0625'  LOCATION = 0.05, 4.95 IGNITION_CRITERION = 'TEMPERATURE', DEVC_ID = 'T.C1.8.015', SETPOINT = 250 /","&DEVC ID = 'T.C1.7.015' COMP_ID = 'C1'  LOCATION = 0.05, 4.5, 2.1875 TYPE = 'PLATE' MATL_ID = 'M1' SURFACE_ORIENTATION = 'FLOOR' THICKNESS = 0.015 TEMPERATURE_DEPTH = 0 DEPTH_UNITS = 'M' /","&DEVC ID = 'T.C1.8.015' COMP_ID = 'C1'  LOCATION = 0.05, 4.95, 3.0625 TYPE = 'PLATE' MATL_ID = 'M1' SURFACE_ORIENTATION = 'FLOOR' THICKNESS = 0.015 TEMPERATURE_DEPTH = 0 DEPTH_UNITS = 'M' /"]
[null,"016",0.05,"0.05",5.5,"5.5",5.95,"5.95",2.1875,"2.1875",3.0625,"3.0625","stena","stena","stena","stena","stena","stena","&FIRE ID = 'F.C1.7.016' COMP_ID = 'C1', FIRE_ID = 'FP.C1.Y.2.1875'  LOCATION = 0.05, 5.5 IGNITION_CRITERION = 'TEMPERATURE', DEVC_ID = 'T.C1.7.016', SETPOINT = 250 /","&FIRE ID = 'F.C1.8.016' COMP_ID = 'C1', FIRE_ID = 'FP.C1.Y.3.0625'  LOCATION = 0.05, 5.95 IGNITION_CRITERION = 'TEMPERATURE', DEVC_ID = 'T.C1.8.016', SETPOINT = 250 /","&DEVC ID = 'T.C1.7.016' COMP_ID = 'C1'  LOCATION = 0.05, 5.5, 2.1875 TYPE = 'PLATE' MATL_ID = 'M1' SURFACE_ORIENTATION = 'FLOOR' THICKNESS = 0.015 TEMPERATURE_DEPTH = 0 DEPTH_UNITS = 'M' /","&DEVC ID = 'T.C1.8.016' COMP_ID = 'C1'  LOCATION = 0.05, 5.95, 3.0625 TYPE = 'PLATE' MATL_ID = 'M1' SURFACE_ORIENTATION = 'FLOOR' THICKNESS = 0.015 TEMPERATURE_DEPTH = 0 DEPTH_UNITS = 'M' /"]
[null,"017",0.05,"0.05",6.5,"6.5",6.95,"6.95",2.1875,"2.1875",3.0625,"3.0625","stena","stena","stena","stena","stena","stena","&FIRE ID = 'F.C1.7.017' COMP_ID = 'C1', FIRE_ID = 'FP.C1.Y.2.1875'  LOCATION = 0.05, 6.5 IGNITION_CRITERION = 'TEMPERATURE', DEVC_ID = 'T.C1.7.017', SETPOINT = 250 /","&FIRE ID = 'F.C1.8.017' COMP_ID = 'C1', FIRE_ID = 'FP.C1.Y.3.0625'  LOCATION = 0.05, 6.95 IGNITION_CRITERION = 'TEMPERATURE', DEVC_ID = 'T.C1.8.017', SETPOINT = 250 /","&DEVC ID = 'T.C1.7.017' COMP_ID = 'C1'  LOCATION = 0.05, 6.5, 2.1875 TYPE = 'PLATE' MATL_ID = 'M1' SURFACE_ORIENTATION = 'FLOOR' THICKNESS = 0.015 TEMPERATURE_DEPTH = 0 DEPTH_UNITS = 'M' /","&DEVC ID = 'T.C1.8.017' COMP_ID = 'C1'  LOCATION = 0.05, 6.95, 3.0625 TYPE = 'PLATE' MATL_ID = 'M1' SURFACE_ORIENTATION = 'FLOOR' THICKNESS = 0.015 TEMPERATURE_DEPTH = 0 DEPTH_UNITS = 'M' /"]
[null,"018",0.05,"0.05",7.5,"7.5",7.95,"7.95",2.1875,"2.1875",3.0625,"3.0625","stena","stena","stena","stena","stena","stena","&FIRE ID = 'F.C1.7.018' COMP_ID = 'C1', FIRE_ID = 'FP.C1.Y.2.1875'  LOCATION = 0.05, 7.5 IGNITION_CRITERION = 'TEMPERATURE', DEVC_ID = 'T.C1.7.018', SETPOINT = 250 /","&FIRE ID = 'F.C1.8.018' COMP_ID = 'C1', FIRE_ID = 'FP.C1.Y.3.0625'  LOCATION = 0.05, 7.95 IGNITION_CRITERION = 'TEMPERATURE', DEVC_ID = 'T.C1.8.018', SETPOINT = 250 /","&DEVC ID = 'T.C1.7.018' COMP_ID = 'C1'  LOCATION = 0.05, 7.5, 2.1875 TYPE = 'PLATE' MATL_ID = 'M1' SURFACE_ORIENTATION = 'FLOOR' THICKNESS = 0.015 TEMPERATURE_DEPTH = 0 DEPTH_UNITS = 'M' /","&DEVC ID = 'T.C1.8.018' COMP_ID = 'C1'  LOCATION = 0.05, 7.95, 3.0625 TYPE = 'PLATE' MATL_ID = 'M1' SURFACE_ORIENTATION = 'FLOOR' THICKNESS = 0.015 TEMPERATURE_DEPTH = 0 DEPTH_UNITS = 'M' /"]
[null,"019",0.05,"0.05",8.5,"8.5",8.9499999999999993,"8.95",2.1875,"2.1875",3.0625,"3.0625","stena","stena","stena","stena","stena","stena","&FIRE ID = 'F.C1.7.019' COMP_ID = 'C1', FIRE_ID = 'FP.C1.Y.2.1875'  LOCATION = 0.05, 8.5 IGNITION_CRITERION = 'TEMPERATURE', DEVC_ID = 'T.C1.7.019', SETPOINT = 250 /","&FIRE ID = 'F.C1.8.019' COMP_ID = 'C1', FIRE_ID = 'FP.C1.Y.3.0625'  LOCATION = 0.05, 8.95 IGNITION_CRITERION = 'TEMPERATURE', DEVC_ID = 'T.C1.8.019', SETPOINT = 250 /","&DEVC ID = 'T.C1.7.019' COMP_ID = 'C1'  LOCATION = 0.05, 8.5, 2.1875 TYPE = 'PLATE' MATL_ID = 'M1' SURFACE_ORIENTATION = 'FLOOR' THICKNESS = 0.015 TEMPERATURE_DEPTH = 0 DEPTH_UNITS = 'M' /","&DEVC ID = 'T.C1.8.019' COMP_ID = 'C1'  LOCATION = 0.05, 8.95, 3.0625 TYPE = 'PLATE' MATL_ID = 'M1' SURFACE_ORIENTATION = 'FLOOR' THICKNESS = 0.015 TEMPERATURE_DEPTH = 0 DEPTH_UNITS = 'M' /"]
[null,"020",0.05,"0.05",9.5,"9.5",9.9499999999999993,"9.95",2.1875,"2.1875",3.0625,"3.0625","stena","stena","stena","stena","stena","stena","&FIRE ID = 'F.C1.7.020' COMP_ID = 'C1', FIRE_ID = 'FP.C1.Y.2.1875'  LOCATION = 0.05, 9.5 IGNITION_CRITERION = 'TEMPERATURE', DEVC_ID = 'T.C1.7.020', SETPOINT = 250 /","&FIRE ID = 'F.C1.8.020' COMP_ID = 'C1', FIRE_ID = 'FP.C1.Y.3.0625'  LOCATION = 0.05, 9.95 IGNITION_CRITERION = 'TEMPERATURE', DEVC_ID = 'T.C1.8.020', SETPOINT = 250 /","&DEVC ID = 'T.C1.7.020' COMP_ID = 'C1'  LOCATION = 0.05, 9.5, 2.1875 TYPE = 'PLATE' MATL_ID = 'M1' SURFACE_ORIENTATION = 'FLOOR' THICKNESS = 0.015 TEMPERATURE_DEPTH = 0 DEPTH_UNITS = 'M' /","&DEVC ID = 'T.C1.8.020' COMP_ID = 'C1'  LOCATION = 0.05, 9.95, 3.0625 TYPE = 'PLATE' MATL_ID = 'M1' SURFACE_ORIENTATION = 'FLOOR' THICKNESS = 0.015 TEMPERATURE_DEPTH = 0 DEPTH_UNITS = 'M' /"]
[null,"021",0.05,"0.05",0.5,"0.5",0.95,"0.95",3.9375,"3.9375",4.8125,"4.8125","stena","stena","stena","stena","stena","stena","","","",""]
[null,"022",0.05,"0.05",1.5,"1.5",1.95,"1.95",3.9375,"3.9375",4.8125,"4.8125","stena","stena","stena","stena","stena","stena","","","",""]
[null,"023",0.05,"0.05",2.5,"2.5",2.95,"2.95",3.9375,"3.9375",4.8125,"4.8125","stena","stena","stena","stena","stena","stena","","","",""]
[null,"024",0.05,"0.05",3.5,"3.5",3.95,"3.95",3.9375,"3.9375",4.8125,"4.8125","stena","stena","stena","stena","stena","stena","","","",""]
[null,"025",0.05,"0.05",4.5,"4.5",4.95,"4.95",3.9375,"3.9375",4.8125,"4.8125","stena","stena","stena","stena","stena","stena","","","",""]
[null,"026",0.05,"0.05",5.5,"5.5",5.95,"5.95",3.9375,"3.9375",4.8125,"4.8125","stena","stena","stena","stena","stena","stena","","","",""]
[null,"027",0.05,"0.05",6.5,"6.5",6.95,"6.95",3.9375,"3.9375",4.8125,"4.8125","stena","stena","stena","stena","stena","stena","","","",""]
[null,"028",0.05,"0.05",7.5,"7.5",7.95,"7.95",3.9375,"3.9375",4.8125,"4.8125","stena","stena","stena","stena","stena","stena","","","",""]
[null,"029",0.05,"0.05",8.5,"8.5",8.9499999999999993,"8.95",3.9375,"3.9375",4.8125,"4.8125","stena","stena","stena","stena","stena","stena","","","",""]
[null,"030",0.05,"0.05",9.5,"9.5",9.9499999999999993,"9.95",3.9375,"3.9375",4.8125,"4.8125","stena","stena","stena","stena","stena","stena","","","",""]
[null,"031",0.05,"0.05",0.5,"0.5",0.95,"0.95",5.6875,"5.6875",6.5625,"6.5625","stena","stena","stena","stena","stena","stena","","","",""]
[null,"032",0.05,"0.05",1.5,"1.5",1.95,"1.95",5.6875,"5.6875",6.5625,"6.5625","stena","stena","stena","stena","stena","stena","","","",""]
[null,"033",0.05,"0.05",2.5,"2.5",2.95,"2.95",5.6875,"5.6875",6.5625,"6.5625","stena","stena","stena","stena","stena","stena","","","",""]
[null,"034",0.05,"0.05",3.5,"3.5",3.95,"3.95",5.6875,"5.6875",6.5625,"6.5625","stena","stena","stena","stena","stena","stena","","","",""]
[null,"035",0.05,"0.05",4.5,"4.5",4.95,"4.95",5.6875,"5.6875",6.5625,"6.5625","stena","stena","stena","stena","stena","stena","","","",""]
[null,"036",0.05,"0.05",5.5,"5.5",5.95,"5.95",5.6875,"5.6875",6.5625,"6.5625","stena","stena","stena","stena","stena","stena","","","",""]
[null,"037",0.05,"0.05",6.5,"6.5",6.95,"6.95",5.6875,"5.6875",6.5625,"6.5625","stena","stena","stena","stena","stena","stena","","","",""]
[null,"038",0.05,"0.05",7.5,"7.5",7.95,"7.95",5.6875,"5.6875",6.5625,"6.5625","stena","stena","stena","stena","stena","stena","","","",""]
[null,"039",0.05,"0.05",8.5,"8.5",8.9499999999999993,"8.95",5.6875,"5.6875",6.5625,"6.5625","stena","stena","stena","stena","stena","stena","","","",""]
[null,"040",0.05,"0.05",9.5,"9.5",9.9499999999999993,"9.95",5.6875,"5.6875",6.5625,"6.5625","stena","stena","stena","stena","stena","stena","","","",""]
[null,"041",0.05,"0.05",0.5,"0.5",0.95,"0.95",7.4375,"7.4375",8.3125,"8.3125","stena","stena","stena","stena","stena","stena","","","",""]
[null,"042",0.05,"0.05",1.5,"1.5",1.95,"1.95",7.4375,"7.4375",8.3125,"8.3125","stena","stena","stena","stena","stena","stena","","","",""]
[null,"043",0.05,"0.05",2.5,"2.5",2.95,"2.95",7.4375,"7.4375",8.3125,"8.3125","stena","stena","stena","stena","stena","stena","","","",""]
[null,"044",0.05,"0.05",3.5,"3.5",3.95,"3.95",7.4375,"7.4375",8.3125,"8.3125","stena","stena","stena","stena","stena","stena","","","",""]
[null,"045",0.05,"0.05",4.5,"4.5",4.95,"4.95",7.4375,"7.4375",8.3125,"8.3125","stena","stena","stena","stena","stena","stena","","","",""]
[null,"046",0.05,"0.05",5.5,"5.5",5.95,"5.95",7.4375,"7.4375",8.3125,"8.3125","stena","stena","stena","stena","stena","stena","","","",""]
[null,"047",0.05,"0.05",6.5,"6.5",6.95,"6.95",7.4375,"7.4375",8.3125,"8.3125","stena","stena","stena","stena","stena","stena","","","",""]
[null,"048",0.05,"0.05",7.5,"7.5",7.95,"7.95",7.4375,"7.4375",8.3125,"8.3125","stena","stena","stena","stena","stena","stena","","","",""]
[null,"049",0.05,"0.05",8.5,"8.5",8.9499999999999993,"8.95",7.4375,"7.4375",8.3125,"8.3125","stena","stena","stena","stena","stena","stena","","","",""]
[null,"050",0.05,"0.05",9.5,"9.5",9.9499999999999993,"9.95",7.4375,"7.4375",8.3125,"8.3125","stena","stena","stena","stena","stena","stena","","","",""]
[null,"051",0.05,"0.05",0.5,"0.5",0.95,"0.95",9.1875,"9.1875",10.0625,"10.0625","stena","stena","stena","stena","stena","stena","","","",""]
[null,"052",0.05,"0.05",1.5,"1.5",1.95,"1.95",9.1875,"9.1875",10.0625,"10.0625","stena","stena","stena","stena","stena","stena","","","",""]
[null,"053",0.05,"0.05",2.5,"2.5",2.95,"2.95",9.1875,"9.1875",10.0625,"10.0625","stena","stena","stena","stena","stena","stena","","","",""]
[null,"054",0.05,"0.05",3.5,"3.5",3.95,"3.95",9.1875,"9.1875",10.0625,"10.0625","stena","stena","stena","stena","stena","stena","","","",""]
[null,"055",0.05,"0.05",4.5,"4.5",4.95,"4.95",9.1875,"9.1875",10.0625,"10.0625","stena","stena","stena","stena","stena","stena","","","",""]
[null,"056",0.05,"0.05",5.5,"5.5",5.95,"5.95",9.1875,"9.1875",10.0625,"10.0625","stena","stena","stena","stena","stena","stena","","","",""]
[null,"057",0.05,"0.05",6.5,"6.5",6.95,"6.95",9.1875,"9.1875",10.0625,"10.0625","stena","stena","stena","stena","stena","stena","","","",""]
[null,"058",0.05,"0.05",7.5,"7.5",7.95,"7.95",9.1875,"9.1875",10.0625,"10.0625","stena","stena","stena","stena","stena","stena","","","",""]
[null,"059",0.05,"0.05",8.5,"8.5",8.9499999999999993,"8.95",9.1875,"9.1875",10.0625,"10.0625","stena","stena","stena","stena","stena","stena","","","",""]
[null,"060",0.05,"0.05",9.5,"9.5",9.9499999999999993,"9.95",9.1875,"9.1875",10.0625,"10.0625","stena","stena","stena","stena","stena","stena","","","",""]
[null,"061",0.05,"0.05",0.5,"0.5",0.95,"0.95",10.9375,"10.9375",11.8125,"11.8125","stena","stena","stena","stena","stena","stena","","","",""]
[null,"062",0.05,"0.05",1.5,"1.5",1.95,"1.95",10.9375,"10.9375",11.8125,"11.8125","stena","stena","stena","stena","stena","stena","","","",""]
[null,"063",0.05,"0.05",2.5,"2.5",2.95,"2.95",10.9375,"10.9375",11.8125,"11.8125","stena","stena","stena","stena","stena","stena","","","",""]
[null,"064",0.05,"0.05",3.5,"3.5",3.95,"3.95",10.9375,"10.9375",11.8125,"11.8125","stena","stena","stena","stena","stena","stena","","","",""]
[null,"065",0.05,{"$f":"SUBSTITUTE(C71,\",\",\".\")","v":"0.05"},4.5,{"$f":"SUBSTITUTE(E71,\",\",\".\")","v":"4.5"},4.95,"4.95",10.9375,{"$f":"SUBSTITUTE(I71,\",\",\".\")","v":"10.9375"},11.8125,"11.8125","stena","stena","stena","stena","stena",{"$f":"IF(OR(P71=\"otvor\",Q71=\"otvor\"),\"otvor\",\"stena\")","v":"stena"},"","","",""]
[null,"066",0.05,"0.05",5.5,"5.5",5.95,{"$f":"SUBSTITUTE(G72,\",\",\".\")","v":"5.95"},10.9375,"10.9375",11.8125,"11.8125",{"$f":"IF($I$3=\"ano\",IF(AND(E72>$L$3,E72<$M$3,I72>$N$3,I72<$O$3),\"otvor\",\"stena\"),\"stena\")","v":"stena"},{"$f":"IF($I$4=\"ano\",IF(AND(E72>$L$4,E72<$M$4,I72>$N$4,I72<$O$4),\"otvor\",\"stena\"),\"stena\")","v":"stena"},{"$f":"IF(OR(M72=\"otvor\",N72=\"otvor\"),\"otvor\",\"stena\")","v":"stena"},{"$f":"IF($I$3=\"ano\",IF(AND(G72>$L$3,G72<$M$3,K72>$N$3,K72<$O$3),\"otvor\",\"stena\"),\"stena\")","v":"stena"},{"$f":"IF($I$4=\"ano\",IF(AND(G72>$L$4,G72<$M$4,K72>$N$4,K72<$O$4),\"otvor\",\"stena\"),\"stena\")","v":"stena"},"stena",{"$f":"IF(AND(F72>$N$2,I72>$O$2),IF(O72=\"stena\",IF(I72>$C$4,\"\",CONCATENATE(\"&FIRE ID = 'F.\",$E$2,\".7.\",B72,\"' COMP_ID = '\",$E$2,\"', FIRE_ID = 'FP.\",$E$2,\".Y.\",J72,\"'  LOCATION = \",D72,\", \",F72,\" IGNITION_CRITERION = 'TEMPERATURE', DEVC_ID = 'T.\",$E$2,\".7.\",B72,\"', SETPOINT = \",$R$4,\" /\")),\"\"),\"\")","v":""},{"$f":"IF(AND(G72>$N$2,K72>$O$2),IF(R72=\"stena\",IF(K72>$C$4,\"\",CONCATENATE(\"&FIRE ID = 'F.\",$E$2,\".8.\",B72,\"' COMP_ID = '\",$E$2,\"', FIRE_ID = 'FP.\",$E$2,\".Y.\",L72,\"'  LOCATION = \",D72,\", \",H72,\" IGNITION_CRITERION = 'TEMPERATURE', DEVC_ID = 'T.\",$E$2,\".8.\",B72,\"', SETPOINT = \",$R$4,\" /\")),\"\"),\"\")","v":""},{"$f":"IF(S72=\"\",\"\",IF(O72=\"stena\",IF(I72>$C$4,\"\",CONCATENATE(\"&DEVC ID = 'T.\",$E$2,\".7.\",B72,\"' COMP_ID = '\",$E$2,\"'  LOCATION = \",D72,\", \",F72,\", \",J72,\" TYPE = '\",$P$3,\"' MATL_ID = '\",$P$2,\"' SURFACE_ORIENTATION = '\",$P$4,\"' THICKNESS = \",$R$2,\" TEMPERATURE_DEPTH = \",$R$3,\" DEPTH_UNITS = 'M' /\")),\"\"))","v":""},{"$f":"IF(T72=\"\",\"\",IF(R72=\"stena\",IF(K72>$C$4,\"\",CONCATENATE(\"&DEVC ID = 'T.\",$E$2,\".8.\",B72,\"' COMP_ID = '\",$E$2,\"'  LOCATION = \",D72,\", \",H72,\", \",L72,\" TYPE = '\",$P$3,\"' MATL_ID = '\",$P$2,\"' SURFACE_ORIENTATION = '\",$P$4,\"' THICKNESS = \",$R$2,\" TEMPERATURE_DEPTH = \",$R$3,\" DEPTH_UNITS = 'M' /\")),\"\"))","v":""}]
[null,"067",{"$f":"$C$7","v":0.05},"0.05",{"$f":"IF(E72>=($C$3-$G$2/2),$G$2/2,E72+$G$2)","v":6.5},"6.5",{"$f":"IF(E72>=($C$3-$G$2),$G$2-$E$3,$G$2+G72)","v":6.95},"6.95",{"$f":"IF(E73=$G$2/2,I72+$G$3*2,I72)","v":10.9375},"10.9375",{"$f":"IF(G73=($G$2-$E$3),K72+$G$3*2,K72)","v":11.8125},{"$f":"SUBSTITUTE(K73,\",\",\".\")","v":"11.8125"},"stena","stena","stena","stena","stena","stena","","","",""]
[null,{"$f":"RIGHT(\"00\"&ROW(A68),3)","v":"068"},0.05,"0.05",7.5,"7.5",7.95,"7.95",10.9375,"10.9375",11.8125,"11.8125","stena","stena","stena","stena","stena","stena","","","",""]
[null,"069",0.05,"0.05",8.5,"8.5",8.9499999999999993,"8.95",10.9375,"10.9375",11.8125,"11.8125","stena","stena","stena","stena","stena","stena","","","",""]
[null,"070",0.05,"0.05",9.5,"9.5",9.9499999999999993,"9.95",10.9375,"10.9375",11.8125,"11.8125","stena","stena","stena","stena","stena","stena","","","",""]
[null,"071",0.05,"0.05",0.5,"0.5",0.95,"0.95",12.6875,"12.6875",13.5625,"13.5625","stena","stena","stena","stena","stena","stena","","","",""]
[null,"072",0.05,"0.05",1.5,"1.5",1.95,"1.95",12.6875,"12.6875",13.5625,"13.5625","stena","stena","stena","stena","stena","stena","","","",""]
[null,"073",0.05,"0.05",2.5,"2.5",2.95,"2.95",12.6875,"12.6875",13.5625,"13.5625","stena","stena","stena","stena","stena","stena","","","",""]
[null,"074",0.05,"0.05",3.5,"3.5",3.95,"3.95",12.6875,"12.6875",13.5625,"13.5625","stena","stena","stena","stena","stena","stena","","","",""]
[null,"075",0.05,"0.05",4.5,"4.5",4.95,"4.95",12.6875,"12.6875",13.5625,"13.5625","stena","stena","stena","stena","stena","stena","","","",""]
[null,"076",0.05,"0.05",5.5,"5.5",5.95,"5.95",12.6875,"12.6875",13.5625,"13.5625","stena","stena","stena","stena","stena","stena","","","",""]
[null,"077",0.05,"0.05",6.5,"6.5",6.95,"6.95",12.6875,"12.6875",13.5625,"13.5625","stena","stena","stena","stena","stena","stena","","","",""]
[null,"078",0.05,"0.05",7.5,"7.5",7.95,"7.95",12.6875,"12.6875",13.5625,"13.5625","stena","stena","stena","stena","stena","stena","","","",""]
[null,"079",0.05,"0.05",8.5,"8.5",8.9499999999999993,"8.95",12.6875,"12.6875",13.5625,"13.5625","stena","stena","stena","stena","stena","stena","","","",""]
[null,"080",0.05,"0.05",9.5,"9.5",9.9499999999999993,"9.95",12.6875,"12.6875",13.5625,"13.5625","stena","stena","stena","stena","stena","stena","","","",""]
[null,"081",0.05,"0.05",0.5,"0.5",0.95,"0.95",14.4375,"14.4375",15.3125,"15.3125","stena","stena","stena","stena","stena","stena","","","",""]
[null,"082",0.05,"0.05",1.5,"1.5",1.95,"1.95",14.4375,"14.4375",15.3125,"15.3125","stena","stena","stena","stena","stena","stena","","","",""]
[null,"083",0.05,"0.05",2.5,"2.5",2.95,"2.95",14.4375,"14.4375",15.3125,"15.3125","stena","stena","stena","stena","stena","stena","","","",""]
[null,"084",0.05,"0.05",3.5,"3.5",3.95,"3.95",14.4375,"14.4375",15.3125,"15.3125","stena","stena","stena","stena","stena","stena","","","",""]
[null,"085",0.05,"0.05",4.5,"4.5",4.95,"4.95",14.4375,"14.4375",15.3125,"15.3125","stena","stena","stena","stena","stena","stena","","","",""]
[null,"086",0.05,"0.05",5.5,"5.5",5.95,"5.95",14.4375,"14.4375",15.3125,"15.3125","stena","stena","stena","stena","stena","stena","","","",""]
[null,"087",0.05,"0.05",6.5,"6.5",6.95,"6.95",14.4375,"14.4375",15.3125,"15.3125","stena","stena","stena","stena","stena","stena","","","",""]
[null,"088",0.05,"0.05",7.5,"7.5",7.95,"7.95",14.4375,"14.4375",15.3125,"15.3125","stena","stena","stena","stena","stena","stena","","","",""]
[null,"089",0.05,"0.05",8.5,"8.5",8.9499999999999993,"8.95",14.4375,"14.4375",15.3125,"15.3125","stena","stena","stena","stena","stena","stena","","","",""]
[null,"090",0.05,"0.05",9.5,"9.5",9.9499999999999993,"9.95",14.4375,"14.4375",15.3125,"15.3125","stena","stena","stena","stena","stena","stena","","","",""]
[null,"091",0.05,"0.05",0.5,"0.5",0.95,"0.95",16.1875,"16.1875",17.0625,"17.0625","stena","stena","stena","stena","stena","stena","","","",""]
[null,"092",0.05,"0.05",1.5,"1.5",1.95,"1.95",16.1875,"16.1875",17.0625,"17.0625","stena","stena","stena","stena","stena","stena","","","",""]
[null,"093",0.05,{"$f":"SUBSTITUTE(C99,\",\",\".\")","v":"0.05"},2.5,{"$f":"SUBSTITUTE(E99,\",\",\".\")","v":"2.5"},2.95,"2.95",16.1875,{"$f":"SUBSTITUTE(I99,\",\",\".\")","v":"16.1875"},17.0625,"17.0625","stena","stena","stena","stena","stena","stena","","","",""]
[null,"094",0.05,"0.05",3.5,"3.5",3.95,"3.95",16.1875,"16.1875",17.0625,"17.0625","stena","stena","stena","stena","stena","stena","","","",""]
[null,"095",0.05,"0.05",4.5,"4.5",4.95,"4.95",16.1875,"16.1875",17.0625,"17.0625","stena","stena","stena","stena","stena","stena","","","",""]
[null,"096",0.05,"0.05",5.5,"5.5",5.95,"5.95",16.1875,"16.1875",17.0625,"17.0625","stena","stena","stena","stena","stena","stena","","","",""]
[null,"097",0.05,{"$f":"SUBSTITUTE(C103,\",\",\".\")","v":"0.05"},6.5,{"$f":"SUBSTITUTE(E103,\",\",\".\")","v":"6.5"},6.95,"6.95",16.1875,{"$f":"SUBSTITUTE(I103,\",\",\".\")","v":"16.1875"},17.0625,"17.0625","stena","stena","stena","stena","stena","stena","","","",""]
[null,"098",0.05,"0.05",7.5,"7.5",7.95,"7.95",16.1875,"16.1875",17.0625,"17.0625","stena","stena","stena","stena","stena","stena","","","",""]
[null,"099",0.05,"0.05",8.5,"8.5",8.9499999999999993,"8.95",16.1875,"16.1875",17.0625,"17.0625","stena","stena","stena","stena","stena","stena","","","",""]
[null,"100",0.05,"0.05",9.5,"9.5",9.9499999999999993,"9.95",16.1875,"16.1875",17.0625,"17.0625","stena","stena","stena","stena","stena","stena","","","",""]
[null,"101",0.05,"0.05",0.5,"0.5",0.95,"0.95",17.9375,"17.9375",18.8125,"18.8125","stena","stena","stena","stena","stena","stena","","","",""]
[null,null,null,null,null,null,null,null,null,null,null,null,null,null,{"$f":"IF(O107=\"stena\",\"ok\",\"pozor\")","v":"ok"},null,null,{"$f":"IF(R107=\"stena\",\"ok\",\"pozor\")","v":"ok"},{"$f":"IF(S107=\"\",\"ok\",\"pozor\")","v":"ok"},{"$f":"IF(T107=\"\",\"ok\",\"pozor\")","v":"ok"}]

{"sheet":"Fire Devc E","index":6,"n_rows":108,"n_cols":20,"rows_kept":108,"cut":false,"hidden":false,"merged":[[5,9,5,10],[5,11,5,12],[5,13,5,14],[1,7,1,11]]}
[]
[null,"x",{"$f":"zadani!G7","v":5},"místno.",{"$f":"zadani!G6","v":"C1"},"hrana x",{"$f":"zadani!G7/zadani!G16","v":1},"STRANA E",null,null,null,null,{"$f":"zadani!G10","v":0},{"$f":"zadani!G11","v":0},{"$f":"zadani!G12","v":0},{"$f":"zadani!G38","v":"M1"},{"$f":"zadani!G41","v":1.4999999999999999E-2},{"$f":"SUBSTITUTE(Q2,\",\",\".\")","v":"0.015"}]
[null,"y",{"$f":"zadani!G8","v":10},"odstup",{"$f":"zadani!G14","v":0.1},"hrana y",{"$f":"zadani!G8/zadani!G17","v":1},"otvor 1",{"$f":"zadani!L16","v":"ne"},{"$f":"zadani!M16","v":0},{"$f":"zadani!N16","v":0},{"$f":"zadani!O16","v":0},{"$f":"zadani!P16","v":0},{"$f":"zadani!Q16","v":"-"},{"$f":"zadani!R16","v":"-"},{"$f":"zadani!G39","v":"PLATE"},{"$f":"zadani!G42","v":0},{"$f":"SUBSTITUTE(Q3,\",\",\".\")","v":"0"}]
[null,"z",{"$f":"zadani!G9","v":3.5},"vše ok?",{"$f":"IF(AND(R108=\"ok\",S108=\"ok\"),\"ok\",\"pozor\")","v":"ok"},null,null,"otvor 2",{"$f":"zadani!L17","v":"ne"},{"$f":"zadani!M17","v":0},{"$f":"zadani!N17","v":0},{"$f":"zadani!O17","v":0},{"$f":"zadani!P17","v":0},{"$f":"zadani!Q17","v":"-"},{"$f":"zadani!R17","v":"-"},{"$f":"zadani!G40","v":"FLOOR"},{"$f":"zadani!C42","v":250},{"$f":"SUBSTITUTE(Q4,\",\",\".\")","v":"250"}]
[]
[null,null,null,null,null,null,null,null,"pořad. číslo","X",null,"Y",null,"Z",null,"otvor 1","otvor 2","otvory"]
[null,null,null,null,null,null,null,null,{"$f":"RIGHT(\"00\"&ROW(A1),3)","v":"001"},{"$f":"G2/2","v":0.5},{"$f":"SUBSTITUTE(J7,\",\",\".\")","v":"0.5"},{"$f":"G3/2","v":0.5},{"$f":"SUBSTITUTE(L7,\",\",\".\")","v":"0.5"},{"$f":"C4-E3","v":3.4},{"$f":"SUBSTITUTE(N7,\",\",\".\")","v":"3.4"},{"$f":"IF($I$3=\"ano\",IF(AND(J7>$J$3,J7<$K$3,L7>$L$3,L7<$M$3),\"otvor\",\"stena\"),\"stena\")","v":"stena"},{"$f":"IF($I$4=\"ano\",IF(AND(J7>$J$4,J7<$K$4,L7>$L$4,L7<$M$4),\"otvor\",\"stena\"),\"stena\")","v":"stena"},{"$f":"IF(OR(P7=\"otvor\",Q7=\"otvor\"),\"otvor\",\"stena\")","v":"stena"},{"$f":"IF(AND(J7>$M$2,L7>$N$2),IF(R7=\"stena\",IF(L7>$C$3,\"\",CONCATENATE(\"&FIRE ID = 'F.\",$E$2,\".9.\",I7,\"' COMP_ID = '\",$E$2,\"', FIRE_ID = 'FP.\",$E$2,\".Z.\",O7,\"'  LOCATION = \",K7,\", \",M7,\" IGNITION_CRITERION = 'TEMPERATURE', DEVC_ID = 'T.\",$E$2,\".9.\",I7,\"', SETPOINT = \",$R$4,\" /\")),\"\"),\"\")","v":"&FIRE ID = 'F.C1.9.001' COMP_ID = 'C1', FIRE_ID = 'FP.C1.Z.3.4'  LOCATION = 0.5, 0.5 IGNITION_CRITERION = 'TEMPERATURE', DEVC_ID = 'T.C1.9.001', SETPOINT = 250 /"},{"$f":"IF(S7=\"\",\"\",IF(R7=\"stena\",IF(L7>$C$3,\"\",CONCATENATE(\"&DEVC ID = 'T.\",$E$2,\".9.\",I7,\"' COMP_ID = '\",$E$2,\"'  LOCATION = \",K7,\", \",M7,\", \",O7,\" TYPE = '\",$P$3,\"' MATL_ID = '\",$P$2,\"' SURFACE_ORIENTATION = '\",$P$4,\"' THICKNESS = \",$R$2,\" TEMPERATURE_DEPTH = \",$R$3,\" DEPTH_UNITS = 'M' /\")),\"\"))","v":"&DEVC ID = 'T.C1.9.001' COMP_ID = 'C1'  LOCATION = 0.5, 0.5, 3.4 TYPE = 'PLATE' MATL_ID = 'M1' SURFACE_ORIENTATION = 'FLOOR' THICKNESS = 0.015 TEMPERATURE_DEPTH = 0 DEPTH_UNITS = 'M' /"}]
[null,null,null,null,null,null,null,null,"002",{"$f":"IF(J7=($C$2-$G$2/2),$G$2/2,J7+$G$2)","v":1.5},"1.5",{"$f":"IF(J8=$G$2/2,L7+$G$3,L7)","v":0.5},"0.5",{"$f":"N7","v":3.4},"3.4",{"$f":"IF($I$3=\"ano\",IF(AND(J8>$J$3,J8<$K$3,L8>$L$3,L8<$M$3),\"otvor\",\"stena\"),\"stena\")","v":"stena"},{"$f":"IF($I$4=\"ano\",IF(AND(J8>$J$4,J8<$K$4,L8>$L$4,L8<$M$4),\"otvor\",\"stena\"),\"stena\")","v":"stena"},"stena",{"$f":"IF(AND(J8>$M$2,L8>$N$2),IF(R8=\"stena\",IF(L8>$C$3,\"\",CONCATENATE(\"&FIRE ID = 'F.\",$E$2,\".9.\",I8,\"' COMP_ID = '\",$E$2,\"', FIRE_ID = 'FP.\",$E$2,\".Z.\",O8,\"'  LOCATION = \",K8,\", \",M8,\" IGNITION_CRITERION = 'TEMPERATURE', DEVC_ID = 'T.\",$E$2,\".9.\",I8,\"', SETPOINT = \",$R$4,\" /\")),\"\"),\"\")","v":"&FIRE ID = 'F.C1.9.002' COMP_ID = 'C1', FIRE_ID = 'FP.C1.Z.3.4'  LOCATION = 1.5, 0.5 IGNITION_CRITERION = 'TEMPERATURE', DEVC_ID = 'T.C1.9.002', SETPOINT = 250 /"},{"$f":"IF(S8=\"\",\"\",IF(R8=\"stena\",IF(L8>$C$3,\"\",CONCATENATE(\"&DEVC ID = 'T.\",$E$2,\".9.\",I8,\"' COMP_ID = '\",$E$2,\"'  LOCATION = \",K8,\", \",M8,\", \",O8,\" TYPE = '\",$P$3,\"' MATL_ID = '\",$P$2,\"' SURFACE_ORIENTATION = '\",$P$4,\"' THICKNESS = \",$R$2,\" TEMPERATURE_DEPTH = \",$R$3,\" DEPTH_UNITS = 'M' /\")),\"\"))","v":"&DEVC ID = 'T.C1.9.002' COMP_ID = 'C1'  LOCATION = 1.5, 0.5, 3.4 TYPE = 'PLATE' MATL_ID = 'M1' SURFACE_ORIENTATION = 'FLOOR' THICKNESS = 0.015 TEMPERATURE_DEPTH = 0 DEPTH_UNITS = 'M' /"}]
[null,null,null,null,null,null,null,null,"003",{"$f":"IF(J8=($C$2-$G$2/2),$G$2/2,J8+$G$2)","v":2.5},"2.5",{"$f":"IF(J9=$G$2/2,L8+$G$3,L8)","v":0.5},"0.5",{"$f":"N8","v":3.4},"3.4","stena","stena","stena","&FIRE ID = 'F.C1.9.003' COMP_ID = 'C1', FIRE_ID = 'FP.C1.Z.3.4'  LOCATION = 2.5, 0.5 IGNITION_CRITERION = 'TEMPERATURE', DEVC_ID = 'T.C1.9.003', SETPOINT = 250 /","&DEVC ID = 'T.C1.9.003' COMP_ID = 'C1'  LOCATION = 2.5, 0.5, 3.4 TYPE = 'PLATE' MATL_ID = 'M1' SURFACE_ORIENTATION = 'FLOOR' THICKNESS = 0.015 TEMPERATURE_DEPTH = 0 DEPTH_UNITS = 'M' /"]
[null,null,null,null,null,null,null,null,"004",3.5,"3.5",0.5,"0.5",3.4,"3.4","stena","stena","stena","&FIRE ID = 'F.C1.9.004' COMP_ID = 'C1', FIRE_ID = 'FP.C1.Z.3.4'  LOCATION = 3.5, 0.5 IGNITION_CRITERION = 'TEMPERATURE', DEVC_ID = 'T.C1.9.004', SETPOINT = 250 /","&DEVC ID = 'T.C1.9.004' COMP_ID = 'C1'  LOCATION = 3.5, 0.5, 3.4 TYPE = 'PLATE' MATL_ID = 'M1' SURFACE_ORIENTATION = 'FLOOR' THICKNESS = 0.015 TEMPERATURE_DEPTH = 0 DEPTH_UNITS = 'M' /"]
[null,null,null,null,null,null,null,null,"005",4.5,"4.5",0.5,"0.5",3.4,"3.4","stena","stena",{"$f":"IF(OR(P11=\"otvor\",Q11=\"otvor\"),\"otvor\",\"stena\")","v":"stena"},"&FIRE ID = 'F.C1.9.005' COMP_ID = 'C1', FIRE_ID = 'FP.C1.Z.3.4'  LOCATION = 4.5, 0.5 IGNITION_CRITERION = 'TEMPERATURE', DEVC_ID = 'T.C1.9.005', SETPOINT = 250 /","&DEVC ID = 'T.C1.9.005' COMP_ID = 'C1'  LOCATION = 4.5, 0.5, 3.4 TYPE = 'PLATE' MATL_ID = 'M1' SURFACE_ORIENTATION = 'FLOOR' THICKNESS = 0.015 TEMPERATURE_DEPTH = 0 DEPTH_UNITS = 'M' /"]
[null,null,null,null,null,null,null,null,"006",0.5,"0.5",1.5,"1.5",3.4,"3.4","stena","stena",{"$f":"IF(OR(P12=\"otvor\",Q12=\"otvor\"),\"otvor\",\"stena\")","v":"stena"},"&FIRE ID = 'F.C1.9.006' COMP_ID = 'C1', FIRE_ID = 'FP.C1.Z.3.4'  LOCATION = 0.5, 1.5 IGNITION_CRITERION = 'TEMPERATURE', DEVC_ID = 'T.C1.9.006', SETPOINT = 250 /","&DEVC ID = 'T.C1.9.006' COMP_ID = 'C1'  LOCATION = 0.5, 1.5, 3.4 TYPE = 'PLATE' MATL_ID = 'M1' SURFACE_ORIENTATION = 'FLOOR' THICKNESS = 0.015 TEMPERATURE_DEPTH = 0 DEPTH_UNITS = 'M' /"]
[null,null,null,null,null,null,null,null,"007",1.5,"1.5",1.5,"1.5",3.4,"3.4","stena","stena",{"$f":"IF(OR(P13=\"otvor\",Q13=\"otvor\"),\"otvor\",\"stena\")","v":"stena"},"&FIRE ID = 'F.C1.9.007' COMP_ID = 'C1', FIRE_ID = 'FP.C1.Z.3.4'  LOCATION = 1.5, 1.5 IGNITION_CRITERION = 'TEMPERATURE', DEVC_ID = 'T.C1.9.007', SETPOINT = 250 /","&DEVC ID = 'T.C1.9.007' COMP_ID = 'C1'  LOCATION = 1.5, 1.5, 3.4 TYPE = 'PLATE' MATL_ID = 'M1' SURFACE_ORIENTATION = 'FLOOR' THICKNESS = 0.015 TEMPERATURE_DEPTH = 0 DEPTH_UNITS = 'M' /"]
[null,null,null,null,null,null,null,null,"008",2.5,"2.5",1.5,"1.5",3.4,"3.4","stena","stena","stena","&FIRE ID = 'F.C1.9.008' COMP_ID = 'C1', FIRE_ID = 'FP.C1.Z.3.4'  LOCATION = 2.5, 1.5 IGNITION_CRITERION = 'TEMPERATURE', DEVC_ID = 'T.C1.9.008', SETPOINT = 250 /","&DEVC ID = 'T.C1.9.008' COMP_ID = 'C1'  LOCATION = 2.5, 1.5, 3.4 TYPE = 'PLATE' MATL_ID = 'M1' SURFACE_ORIENTATION = 'FLOOR' THICKNESS = 0.015 TEMPERATURE_DEPTH = 0 DEPTH_UNITS = 'M' /"]
[null,null,null,null,null,null,null,null,"009",3.5,"3.5",1.5,"1.5",3.4,"3.4","stena","stena","stena","&FIRE ID = 'F.C1.9.009' COMP_ID = 'C1', FIRE_ID = 'FP.C1.Z.3.4'  LOCATION = 3.5, 1.5 IGNITION_CRITERION = 'TEMPERATURE', DEVC_ID = 'T.C1.9.009', SETPOINT = 250 /","&DEVC ID = 'T.C1.9.009' COMP_ID = 'C1'  LOCATION = 3.5, 1.5, 3.4 TYPE = 'PLATE' MATL_ID = 'M1' SURFACE_ORIENTATION = 'FLOOR' THICKNESS = 0.015 TEMPERATURE_DEPTH = 0 DEPTH_UNITS = 'M' /"]
[null,null,null,null,null,null,null,null,"010",4.5,"4.5",1.5,"1.5",3.4,"3.4","stena","stena","stena","&FIRE ID = 'F.C1.9.010' COMP_ID = 'C1', FIRE_ID = 'FP.C1.Z.3.4'  LOCATION = 4.5, 1.5 IGNITION_CRITERION = 'TEMPERATURE', DEVC_ID = 'T.C1.9.010', SETPOINT = 250 /","&DEVC ID = 'T.C1.9.010' COMP_ID = 'C1'  LOCATION = 4.5, 1.5, 3.4 TYPE = 'PLATE' MATL_ID = 'M1' SURFACE_ORIENTATION = 'FLOOR' THICKNESS = 0.015 TEMPERATURE_DEPTH = 0 DEPTH_UNITS = 'M' /"]
[null,null,null,null,null,null,null,null,"011",0.5,"0.5",2.5,"2.5",3.4,"3.4","stena","stena","stena","&FIRE ID = 'F.C1.9.011' COMP_ID = 'C1', FIRE_ID = 'FP.C1.Z.3.4'  LOCATION = 0.5, 2.5 IGNITION_CRITERION = 'TEMPERATURE', DEVC_ID = 'T.C1.9.011', SETPOINT = 250 /","&DEVC ID = 'T.C1.9.011' COMP_ID = 'C1'  LOCATION = 0.5, 2.5, 3.4 TYPE = 'PLATE' MATL_ID = 'M1' SURFACE_ORIENTATION = 'FLOOR' THICKNESS = 0.015 TEMPERATURE_DEPTH = 0 DEPTH_UNITS = 'M' /"]
[null,null,null,null,null,null,null,null,"012",1.5,"1.5",2.5,"2.5",3.4,"3.4","stena","stena","stena","&FIRE ID = 'F.C1.9.012' COMP_ID = 'C1', FIRE_ID = 'FP.C1.Z.3.4'  LOCATION = 1.5, 2.5 IGNITION_CRITERION = 'TEMPERATURE', DEVC_ID = 'T.C1.9.012', SETPOINT = 250 /","&DEVC ID = 'T.C1.9.012' COMP_ID = 'C1'  LOCATION = 1.5, 2.5, 3.4 TYPE = 'PLATE' MATL_ID = 'M1' SURFACE_ORIENTATION = 'FLOOR' THICKNESS = 0.015 TEMPERATURE_DEPTH = 0 DEPTH_UNITS = 'M' /"]
[null,null,null,null,null,null,null,null,"013",2.5,"2.5",2.5,"2.5",3.4,"3.4","stena","stena","stena","&FIRE ID = 'F.C1.9.013' COMP_ID = 'C1', FIRE_ID = 'FP.C1.Z.3.4'  LOCATION = 2.5, 2.5 IGNITION_CRITERION = 'TEMPERATURE', DEVC_ID = 'T.C1.9.013', SETPOINT = 250 /","&DEVC ID = 'T.C1.9.013' COMP_ID = 'C1'  LOCATION = 2.5, 2.5, 3.4 TYPE = 'PLATE' MATL_ID = 'M1' SURFACE_ORIENTATION = 'FLOOR' THICKNESS = 0.015 TEMPERATURE_DEPTH = 0 DEPTH_UNITS = 'M' /"]
[null,null,null,null,null,null,null,null,"014",3.5,"3.5",2.5,"2.5",3.4,"3.4","stena","stena","stena","&FIRE ID = 'F.C1.9.014' COMP_ID = 'C1', FIRE_ID = 'FP.C1.Z.3.4'  LOCATION = 3.5, 2.5 IGNITION_CRITERION = 'TEMPERATURE', DEVC_ID = 'T.C1.9.014', SETPOINT = 250 /","&DEVC ID = 'T.C1.9.014' COMP_ID = 'C1'  LOCATION = 3.5, 2.5, 3.4 TYPE = 'PLATE' MATL_ID = 'M1' SURFACE_ORIENTATION = 'FLOOR' THICKNESS = 0.015 TEMPERATURE_DEPTH = 0 DEPTH_UNITS = 'M' /"]
[null,null,null,null,null,null,null,null,"015",4.5,"4.5",2.5,"2.5",3.4,"3.4","stena","stena","stena","&FIRE ID = 'F.C1.9.015' COMP_ID = 'C1', FIRE_ID = 'FP.C1.Z.3.4'  LOCATION = 4.5, 2.5 IGNITION_CRITERION = 'TEMPERATURE', DEVC_ID = 'T.C1.9.015', SETPOINT = 250 /","&DEVC ID = 'T.C1.9.015' COMP_ID = 'C1'  LOCATION = 4.5, 2.5, 3.4 TYPE = 'PLATE' MATL_ID = 'M1' SURFACE_ORIENTATION = 'FLOOR' THICKNESS = 0.015 TEMPERATURE_DEPTH = 0 DEPTH_UNITS = 'M' /"]
[null,null,null,null,null,null,null,null,"016",0.5,"0.5",3.5,"3.5",3.4,"3.4","stena","stena","stena","&FIRE ID = 'F.C1.9.016' COMP_ID = 'C1', FIRE_ID = 'FP.C1.Z.3.4'  LOCATION = 0.5, 3.5 IGNITION_CRITERION = 'TEMPERATURE', DEVC_ID = 'T.C1.9.016', SETPOINT = 250 /","&DEVC ID = 'T.C1.9.016' COMP_ID = 'C1'  LOCATION = 0.5, 3.5, 3.4 TYPE = 'PLATE' MATL_ID = 'M1' SURFACE_ORIENTATION = 'FLOOR' THICKNESS = 0.015 TEMPERATURE_DEPTH = 0 DEPTH_UNITS = 'M' /"]
[null,null,null,null,null,null,null,null,"017",1.5,"1.5",3.5,"3.5",3.4,"3.4","stena","stena","stena","&FIRE ID = 'F.C1.9.017' COMP_ID = 'C1', FIRE_ID = 'FP.C1.Z.3.4'  LOCATION = 1.5, 3.5 IGNITION_CRITERION = 'TEMPERATURE', DEVC_ID = 'T.C1.9.017', SETPOINT = 250 /","&DEVC ID = 'T.C1.9.017' COMP_ID = 'C1'  LOCATION = 1.5, 3.5, 3.4 TYPE = 'PLATE' MATL_ID = 'M1' SURFACE_ORIENTATION = 'FLOOR' THICKNESS = 0.015 TEMPERATURE_DEPTH = 0 DEPTH_UNITS = 'M' /"]
[null,null,null,null,null,null,null,null,"018",2.5,"2.5",3.5,"3.5",3.4,"3.4","stena","stena","stena","&FIRE ID = 'F.C1.9.018' COMP_ID = 'C1', FIRE_ID = 'FP.C1.Z.3.4'  LOCATION = 2.5, 3.5 IGNITION_CRITERION = 'TEMPERATURE', DEVC_ID = 'T.C1.9.018', SETPOINT = 250 /","&DEVC ID = 'T.C1.9.018' COMP_ID = 'C1'  LOCATION = 2.5, 3.5, 3.4 TYPE = 'PLATE' MATL_ID = 'M1' SURFACE_ORIENTATION = 'FLOOR' THICKNESS = 0.015 TEMPERATURE_DEPTH = 0 DEPTH_UNITS = 'M' /"]
[null,null,null,null,null,null,null,null,"019",3.5,"3.5",3.5,"3.5",3.4,"3.4","stena","stena","stena","&FIRE ID = 'F.C1.9.019' COMP_ID = 'C1', FIRE_ID = 'FP.C1.Z.3.4'  LOCATION = 3.5, 3.5 IGNITION_CRITERION = 'TEMPERATURE', DEVC_ID = 'T.C1.9.019', SETPOINT = 250 /","&DEVC ID = 'T.C1.9.019' COMP_ID = 'C1'  LOCATION = 3.5, 3.5, 3.4 TYPE = 'PLATE' MATL_ID = 'M1' SURFACE_ORIENTATION = 'FLOOR' THICKNESS = 0.015 TEMPERATURE_DEPTH = 0 DEPTH_UNITS = 'M' /"]
[null,null,null,null,null,null,null,null,"020",4.5,"4.5",3.5,"3.5",3.4,"3.4","stena","stena","stena","&FIRE ID = 'F.C1.9.020' COMP_ID = 'C1', FIRE_ID = 'FP.C1.Z.3.4'  LOCATION = 4.5, 3.5 IGNITION_CRITERION = 'TEMPERATURE', DEVC_ID = 'T.C1.9.020', SETPOINT = 250 /","&DEVC ID = 'T.C1.9.020' COMP_ID = 'C1'  LOCATION = 4.5, 3.5, 3.4 TYPE = 'PLATE' MATL_ID = 'M1' SURFACE_ORIENTATION = 'FLOOR' THICKNESS = 0.015 TEMPERATURE_DEPTH = 0 DEPTH_UNITS = 'M' /"]
[null,null,null,null,null,null,null,null,"021",0.5,"0.5",4.5,"4.5",3.4,"3.4","stena","stena","stena","&FIRE ID = 'F.C1.9.021' COMP_ID = 'C1', FIRE_ID = 'FP.C1.Z.3.4'  LOCATION = 0.5, 4.5 IGNITION_CRITERION = 'TEMPERATURE', DEVC_ID = 'T.C1.9.021', SETPOINT = 250 /","&DEVC ID = 'T.C1.9.021' COMP_ID = 'C1'  LOCATION = 0.5, 4.5, 3.4 TYPE = 'PLATE' MATL_ID = 'M1' SURFACE_ORIENTATION = 'FLOOR' THICKNESS = 0.015 TEMPERATURE_DEPTH = 0 DEPTH_UNITS = 'M' /"]
[null,null,null,null,null,null,null,null,"022",1.5,"1.5",4.5,"4.5",3.4,"3.4","stena","stena","stena","&FIRE ID = 'F.C1.9.022' COMP_ID = 'C1', FIRE_ID = 'FP.C1.Z.3.4'  LOCATION = 1.5, 4.5 IGNITION_CRITERION = 'TEMPERATURE', DEVC_ID = 'T.C1.9.022', SETPOINT = 250 /","&DEVC ID = 'T.C1.9.022' COMP_ID = 'C1'  LOCATION = 1.5, 4.5, 3.4 TYPE = 'PLATE' MATL_ID = 'M1' SURFACE_ORIENTATION = 'FLOOR' THICKNESS = 0.015 TEMPERATURE_DEPTH = 0 DEPTH_UNITS = 'M' /"]
[null,null,null,null,null,null,null,null,"023",2.5,"2.5",4.5,"4.5",3.4,"3.4","stena","stena","stena","&FIRE ID = 'F.C1.9.023' COMP_ID = 'C1', FIRE_ID = 'FP.C1.Z.3.4'  LOCATION = 2.5, 4.5 IGNITION_CRITERION = 'TEMPERATURE', DEVC_ID = 'T.C1.9.023', SETPOINT = 250 /","&DEVC ID = 'T.C1.9.023' COMP_ID = 'C1'  LOCATION = 2.5, 4.5, 3.4 TYPE = 'PLATE' MATL_ID = 'M1' SURFACE_ORIENTATION = 'FLOOR' THICKNESS = 0.015 TEMPERATURE_DEPTH = 0 DEPTH_UNITS = 'M' /"]
[null,null,null,null,null,null,null,null,"024",3.5,"3.5",4.5,"4.5",3.4,"3.4","stena","stena","stena","&FIRE ID = 'F.C1.9.024' COMP_ID = 'C1', FIRE_ID = 'FP.C1.Z.3.4'  LOCATION = 3.5, 4.5 IGNITION_CRITERION = 'TEMPERATURE', DEVC_ID = 'T.C1.9.024', SETPOINT = 250 /","&DEVC ID = 'T.C1.9.024' COMP_ID = 'C1'  LOCATION = 3.5, 4.5, 3.4 TYPE = 'PLATE' MATL_ID = 'M1' SURFACE_ORIENTATION = 'FLOOR' THICKNESS = 0.015 TEMPERATURE_DEPTH = 0 DEPTH_UNITS = 'M' /"]
[null,null,null,null,null,null,null,null,"025",4.5,"4.5",4.5,"4.5",3.4,"3.4","stena","stena","stena","&FIRE ID = 'F.C1.9.025' COMP_ID = 'C1', FIRE_ID = 'FP.C1.Z.3.4'  LOCATION = 4.5, 4.5 IGNITION_CRITERION = 'TEMPERATURE', DEVC_ID = 'T.C1.9.025', SETPOINT = 250 /","&DEVC ID = 'T.C1.9.025' COMP_ID = 'C1'  LOCATION = 4.5, 4.5, 3.4 TYPE = 'PLATE' MATL_ID = 'M1' SURFACE_ORIENTATION = 'FLOOR' THICKNESS = 0.015 TEMPERATURE_DEPTH = 0 DEPTH_UNITS = 'M' /"]
[null,null,null,null,null,null,null,null,"026",0.5,"0.5",5.5,"5.5",3.4,"3.4","stena","stena","stena","&FIRE ID = 'F.C1.9.026' COMP_ID = 'C1', FIRE_ID = 'FP.C1.Z.3.4'  LOCATION = 0.5, 5.5 IGNITION_CRITERION = 'TEMPERATURE', DEVC_ID = 'T.C1.9.026', SETPOINT = 250 /","&DEVC ID = 'T.C1.9.026' COMP_ID = 'C1'  LOCATION = 0.5, 5.5, 3.4 TYPE = 'PLATE' MATL_ID = 'M1' SURFACE_ORIENTATION = 'FLOOR' THICKNESS = 0.015 TEMPERATURE_DEPTH = 0 DEPTH_UNITS = 'M' /"]
[null,null,null,null,null,null,null,null,"027",1.5,"1.5",5.5,"5.5",3.4,"3.4","stena","stena","stena","&FIRE ID = 'F.C1.9.027' COMP_ID = 'C1', FIRE_ID = 'FP.C1.Z.3.4'  LOCATION = 1.5, 5.5 IGNITION_CRITERION = 'TEMPERATURE', DEVC_ID = 'T.C1.9.027', SETPOINT = 250 /","&DEVC ID = 'T.C1.9.027' COMP_ID = 'C1'  LOCATION = 1.5, 5.5, 3.4 TYPE = 'PLATE' MATL_ID = 'M1' SURFACE_ORIENTATION = 'FLOOR' THICKNESS = 0.015 TEMPERATURE_DEPTH = 0 DEPTH_UNITS = 'M' /"]
[null,null,null,null,null,null,null,null,"028",2.5,"2.5",5.5,"5.5",3.4,"3.4","stena","stena","stena","&FIRE ID = 'F.C1.9.028' COMP_ID = 'C1', FIRE_ID = 'FP.C1.Z.3.4'  LOCATION = 2.5, 5.5 IGNITION_CRITERION = 'TEMPERATURE', DEVC_ID = 'T.C1.9.028', SETPOINT = 250 /","&DEVC ID = 'T.C1.9.028' COMP_ID = 'C1'  LOCATION = 2.5, 5.5, 3.4 TYPE = 'PLATE' MATL_ID = 'M1' SURFACE_ORIENTATION = 'FLOOR' THICKNESS = 0.015 TEMPERATURE_DEPTH = 0 DEPTH_UNITS = 'M' /"]
[null,null,null,null,null,null,null,null,"029",3.5,"3.5",5.5,"5.5",3.4,"3.4","stena","stena","stena","&FIRE ID = 'F.C1.9.029' COMP_ID = 'C1', FIRE_ID = 'FP.C1.Z.3.4'  LOCATION = 3.5, 5.5 IGNITION_CRITERION = 'TEMPERATURE', DEVC_ID = 'T.C1.9.029', SETPOINT = 250 /","&DEVC ID = 'T.C1.9.029' COMP_ID = 'C1'  LOCATION = 3.5, 5.5, 3.4 TYPE = 'PLATE' MATL_ID = 'M1' SURFACE_ORIENTATION = 'FLOOR' THICKNESS = 0.015 TEMPERATURE_DEPTH = 0 DEPTH_UNITS = 'M' /"]
[null,null,null,null,null,null,null,null,"030",4.5,"4.5",5.5,"5.5",3.4,"3.4","stena","stena","stena","&FIRE ID = 'F.C1.9.030' COMP_ID = 'C1', FIRE_ID = 'FP.C1.Z.3.4'  LOCATION = 4.5, 5.5 IGNITION_CRITERION = 'TEMPERATURE', DEVC_ID = 'T.C1.9.030', SETPOINT = 250 /","&DEVC ID = 'T.C1.9.030' COMP_ID = 'C1'  LOCATION = 4.5, 5.5, 3.4 TYPE = 'PLATE' MATL_ID = 'M1' SURFACE_ORIENTATION = 'FLOOR' THICKNESS = 0.015 TEMPERATURE_DEPTH = 0 DEPTH_UNITS = 'M' /"]
[null,null,null,null,null,null,null,null,"031",0.5,"0.5",6.5,"6.5",3.4,"3.4","stena","stena","stena","&FIRE ID = 'F.C1.9.031' COMP_ID = 'C1', FIRE_ID = 'FP.C1.Z.3.4'  LOCATION = 0.5, 6.5 IGNITION_CRITERION = 'TEMPERATURE', DEVC_ID = 'T.C1.9.031', SETPOINT = 250 /","&DEVC ID = 'T.C1.9.031' COMP_ID = 'C1'  LOCATION = 0.5, 6.5, 3.4 TYPE = 'PLATE' MATL_ID = 'M1' SURFACE_ORIENTATION = 'FLOOR' THICKNESS = 0.015 TEMPERATURE_DEPTH = 0 DEPTH_UNITS = 'M' /"]
[null,null,null,null,null,null,null,null,"032",1.5,"1.5",6.5,"6.5",3.4,"3.4","stena","stena","stena","&FIRE ID = 'F.C1.9.032' COMP_ID = 'C1', FIRE_ID = 'FP.C1.Z.3.4'  LOCATION = 1.5, 6.5 IGNITION_CRITERION = 'TEMPERATURE', DEVC_ID = 'T.C1.9.032', SETPOINT = 250 /","&DEVC ID = 'T.C1.9.032' COMP_ID = 'C1'  LOCATION = 1.5, 6.5, 3.4 TYPE = 'PLATE' MATL_ID = 'M1' SURFACE_ORIENTATION = 'FLOOR' THICKNESS = 0.015 TEMPERATURE_DEPTH = 0 DEPTH_UNITS = 'M' /"]
[null,null,null,null,null,null,null,null,{"$f":"RIGHT(\"00\"&ROW(A33),3)","v":"033"},2.5,"2.5",6.5,"6.5",3.4,"3.4","stena","stena","stena","&FIRE ID = 'F.C1.9.033' COMP_ID = 'C1', FIRE_ID = 'FP.C1.Z.3.4'  LOCATION = 2.5, 6.5 IGNITION_CRITERION = 'TEMPERATURE', DEVC_ID = 'T.C1.9.033', SETPOINT = 250 /","&DEVC ID = 'T.C1.9.033' COMP_ID = 'C1'  LOCATION = 2.5, 6.5, 3.4 TYPE = 'PLATE' MATL_ID = 'M1' SURFACE_ORIENTATION = 'FLOOR' THICKNESS = 0.015 TEMPERATURE_DEPTH = 0 DEPTH_UNITS = 'M' /"]
[null,null,null,null,null,null,null,null,"034",3.5,"3.5",6.5,"6.5",3.4,"3.4","stena","stena","stena","&FIRE ID = 'F.C1.9.034' COMP_ID = 'C1', FIRE_ID = 'FP.C1.Z.3.4'  LOCATION = 3.5, 6.5 IGNITION_CRITERION = 'TEMPERATURE', DEVC_ID = 'T.C1.9.034', SETPOINT = 250 /","&DEVC ID = 'T.C1.9.034' COMP_ID = 'C1'  LOCATION = 3.5, 6.5, 3.4 TYPE = 'PLATE' MATL_ID = 'M1' SURFACE_ORIENTATION = 'FLOOR' THICKNESS = 0.015 TEMPERATURE_DEPTH = 0 DEPTH_UNITS = 'M' /"]
[null,null,null,null,null,null,null,null,"035",4.5,"4.5",6.5,"6.5",3.4,"3.4","stena","stena","stena","&FIRE ID = 'F.C1.9.035' COMP_ID = 'C1', FIRE_ID = 'FP.C1.Z.3.4'  LOCATION = 4.5, 6.5 IGNITION_CRITERION = 'TEMPERATURE', DEVC_ID = 'T.C1.9.035', SETPOINT = 250 /","&DEVC ID = 'T.C1.9.035' COMP_ID = 'C1'  LOCATION = 4.5, 6.5, 3.4 TYPE = 'PLATE' MATL_ID = 'M1' SURFACE_ORIENTATION = 'FLOOR' THICKNESS = 0.015 TEMPERATURE_DEPTH = 0 DEPTH_UNITS = 'M' /"]
[null,null,null,null,null,null,null,null,"036",0.5,"0.5",7.5,"7.5",3.4,"3.4","stena","stena","stena","&FIRE ID = 'F.C1.9.036' COMP_ID = 'C1', FIRE_ID = 'FP.C1.Z.3.4'  LOCATION = 0.5, 7.5 IGNITION_CRITERION = 'TEMPERATURE', DEVC_ID = 'T.C1.9.036', SETPOINT = 250 /","&DEVC ID = 'T.C1.9.036' COMP_ID = 'C1'  LOCATION = 0.5, 7.5, 3.4 TYPE = 'PLATE' MATL_ID = 'M1' SURFACE_ORIENTATION = 'FLOOR' THICKNESS = 0.015 TEMPERATURE_DEPTH = 0 DEPTH_UNITS = 'M' /"]
[null,null,null,null,null,null,null,null,"037",1.5,"1.5",7.5,"7.5",3.4,"3.4","stena","stena","stena","&FIRE ID = 'F.C1.9.037' COMP_ID = 'C1', FIRE_ID = 'FP.C1.Z.3.4'  LOCATION = 1.5, 7.5 IGNITION_CRITERION = 'TEMPERATURE', DEVC_ID = 'T.C1.9.037', SETPOINT = 250 /","&DEVC ID = 'T.C1.9.037' COMP_ID = 'C1'  LOCATION = 1.5, 7.5, 3.4 TYPE = 'PLATE' MATL_ID = 'M1' SURFACE_ORIENTATION = 'FLOOR' THICKNESS = 0.015 TEMPERATURE_DEPTH = 0 DEPTH_UNITS = 'M' /"]
[null,null,null,null,null,null,null,null,"038",2.5,"2.5",7.5,"7.5",3.4,"3.4","stena","stena","stena","&FIRE ID = 'F.C1.9.038' COMP_ID = 'C1', FIRE_ID = 'FP.C1.Z.3.4'  LOCATION = 2.5, 7.5 IGNITION_CRITERION = 'TEMPERATURE', DEVC_ID = 'T.C1.9.038', SETPOINT = 250 /","&DEVC ID = 'T.C1.9.038' COMP_ID = 'C1'  LOCATION = 2.5, 7.5, 3.4 TYPE = 'PLATE' MATL_ID = 'M1' SURFACE_ORIENTATION = 'FLOOR' THICKNESS = 0.015 TEMPERATURE_DEPTH = 0 DEPTH_UNITS = 'M' /"]
[null,null,null,null,null,null,null,null,"039",3.5,"3.5",7.5,"7.5",3.4,"3.4","stena","stena","stena","&FIRE ID = 'F.C1.9.039' COMP_ID = 'C1', FIRE_ID = 'FP.C1.Z.3.4'  LOCATION = 3.5, 7.5 IGNITION_CRITERION = 'TEMPERATURE', DEVC_ID = 'T.C1.9.039', SETPOINT = 250 /","&DEVC ID = 'T.C1.9.039' COMP_ID = 'C1'  LOCATION = 3.5, 7.5, 3.4 TYPE = 'PLATE' MATL_ID = 'M1' SURFACE_ORIENTATION = 'FLOOR' THICKNESS = 0.015 TEMPERATURE_DEPTH = 0 DEPTH_UNITS = 'M' /"]
[null,null,null,null,null,null,null,null,"040",4.5,"4.5",7.5,"7.5",3.4,"3.4","stena","stena","stena","&FIRE ID = 'F.C1.9.040' COMP_ID = 'C1', FIRE_ID = 'FP.C1.Z.3.4'  LOCATION = 4.5, 7.5 IGNITION_CRITERION = 'TEMPERATURE', DEVC_ID = 'T.C1.9.040', SETPOINT = 250 /","&DEVC ID = 'T.C1.9.040' COMP_ID = 'C1'  LOCATION = 4.5, 7.5, 3.4 TYPE = 'PLATE' MATL_ID = 'M1' SURFACE_ORIENTATION = 'FLOOR' THICKNESS = 0.015 TEMPERATURE_DEPTH = 0 DEPTH_UNITS = 'M' /"]
[null,null,null,null,null,null,null,null,"041",0.5,"0.5",8.5,"8.5",3.4,"3.4","stena","stena","stena","&FIRE ID = 'F.C1.9.041' COMP_ID = 'C1', FIRE_ID = 'FP.C1.Z.3.4'  LOCATION = 0.5, 8.5 IGNITION_CRITERION = 'TEMPERATURE', DEVC_ID = 'T.C1.9.041', SETPOINT = 250 /","&DEVC ID = 'T.C1.9.041' COMP_ID = 'C1'  LOCATION = 0.5, 8.5, 3.4 TYPE = 'PLATE' MATL_ID = 'M1' SURFACE_ORIENTATION = 'FLOOR' THICKNESS = 0.015 TEMPERATURE_DEPTH = 0 DEPTH_UNITS = 'M' /"]
[null,null,null,null,null,null,null,null,"042",1.5,"1.5",8.5,"8.5",3.4,"3.4","stena","stena","stena","&FIRE ID = 'F.C1.9.042' COMP_ID = 'C1', FIRE_ID = 'FP.C1.Z.3.4'  LOCATION = 1.5, 8.5 IGNITION_CRITERION = 'TEMPERATURE', DEVC_ID = 'T.C1.9.042', SETPOINT = 250 /","&DEVC ID = 'T.C1.9.042' COMP_ID = 'C1'  LOCATION = 1.5, 8.5, 3.4 TYPE = 'PLATE' MATL_ID = 'M1' SURFACE_ORIENTATION = 'FLOOR' THICKNESS = 0.015 TEMPERATURE_DEPTH = 0 DEPTH_UNITS = 'M' /"]
[null,null,null,null,null,null,null,null,"043",2.5,"2.5",8.5,"8.5",3.4,"3.4","stena","stena","stena","&FIRE ID = 'F.C1.9.043' COMP_ID = 'C1', FIRE_ID = 'FP.C1.Z.3.4'  LOCATION = 2.5, 8.5 IGNITION_CRITERION = 'TEMPERATURE', DEVC_ID = 'T.C1.9.043', SETPOINT = 250 /","&DEVC ID = 'T.C1.9.043' COMP_ID = 'C1'  LOCATION = 2.5, 8.5, 3.4 TYPE = 'PLATE' MATL_ID = 'M1' SURFACE_ORIENTATION = 'FLOOR' THICKNESS = 0.015 TEMPERATURE_DEPTH = 0 DEPTH_UNITS = 'M' /"]
[null,null,null,null,null,null,null,null,"044",3.5,"3.5",8.5,"8.5",3.4,"3.4","stena","stena","stena","&FIRE ID = 'F.C1.9.044' COMP_ID = 'C1', FIRE_ID = 'FP.C1.Z.3.4'  LOCATION = 3.5, 8.5 IGNITION_CRITERION = 'TEMPERATURE', DEVC_ID = 'T.C1.9.044', SETPOINT = 250 /","&DEVC ID = 'T.C1.9.044' COMP_ID = 'C1'  LOCATION = 3.5, 8.5, 3.4 TYPE = 'PLATE' MATL_ID = 'M1' SURFACE_ORIENTATION = 'FLOOR' THICKNESS = 0.015 TEMPERATURE_DEPTH = 0 DEPTH_UNITS = 'M' /"]
[null,null,null,null,null,null,null,null,"045",4.5,"4.5",8.5,"8.5",3.4,"3.4","stena","stena","stena","&FIRE ID = 'F.C1.9.045' COMP_ID = 'C1', FIRE_ID = 'FP.C1.Z.3.4'  LOCATION = 4.5, 8.5 IGNITION_CRITERION = 'TEMPERATURE', DEVC_ID = 'T.C1.9.045', SETPOINT = 250 /","&DEVC ID = 'T.C1.9.045' COMP_ID = 'C1'  LOCATION = 4.5, 8.5, 3.4 TYPE = 'PLATE' MATL_ID = 'M1' SURFACE_ORIENTATION = 'FLOOR' THICKNESS = 0.015 TEMPERATURE_DEPTH = 0 DEPTH_UNITS = 'M' /"]
[null,null,null,null,null,null,null,null,"046",0.5,"0.5",9.5,"9.5",3.4,"3.4","stena","stena","stena","&FIRE ID = 'F.C1.9.046' COMP_ID = 'C1', FIRE_ID = 'FP.C1.Z.3.4'  LOCATION = 0.5, 9.5 IGNITION_CRITERION = 'TEMPERATURE', DEVC_ID = 'T.C1.9.046', SETPOINT = 250 /","&DEVC ID = 'T.C1.9.046' COMP_ID = 'C1'  LOCATION = 0.5, 9.5, 3.4 TYPE = 'PLATE' MATL_ID = 'M1' SURFACE_ORIENTATION = 'FLOOR' THICKNESS = 0.015 TEMPERATURE_DEPTH = 0 DEPTH_UNITS = 'M' /"]
[null,null,null,null,null,null,null,null,"047",1.5,"1.5",9.5,"9.5",3.4,"3.4","stena","stena","stena","&FIRE ID = 'F.C1.9.047' COMP_ID = 'C1', FIRE_ID = 'FP.C1.Z.3.4'  LOCATION = 1.5, 9.5 IGNITION_CRITERION = 'TEMPERATURE', DEVC_ID = 'T.C1.9.047', SETPOINT = 250 /","&DEVC ID = 'T.C1.9.047' COMP_ID = 'C1'  LOCATION = 1.5, 9.5, 3.4 TYPE = 'PLATE' MATL_ID = 'M1' SURFACE_ORIENTATION = 'FLOOR' THICKNESS = 0.015 TEMPERATURE_DEPTH = 0 DEPTH_UNITS = 'M' /"]
[null,null,null,null,null,null,null,null,"048",2.5,"2.5",9.5,"9.5",3.4,"3.4","stena","stena","stena","&FIRE ID = 'F.C1.9.048' COMP_ID = 'C1', FIRE_ID = 'FP.C1.Z.3.4'  LOCATION = 2.5, 9.5 IGNITION_CRITERION = 'TEMPERATURE', DEVC_ID = 'T.C1.9.048', SETPOINT = 250 /","&DEVC ID = 'T.C1.9.048' COMP_ID = 'C1'  LOCATION = 2.5, 9.5, 3.4 TYPE = 'PLATE' MATL_ID = 'M1' SURFACE_ORIENTATION = 'FLOOR' THICKNESS = 0.015 TEMPERATURE_DEPTH = 0 DEPTH_UNITS = 'M' /"]
[null,null,null,null,null,null,null,null,"049",3.5,"3.5",9.5,"9.5",3.4,"3.4","stena","stena","stena","&FIRE ID = 'F.C1.9.049' COMP_ID = 'C1', FIRE_ID = 'FP.C1.Z.3.4'  LOCATION = 3.5, 9.5 IGNITION_CRITERION = 'TEMPERATURE', DEVC_ID = 'T.C1.9.049', SETPOINT = 250 /","&DEVC ID = 'T.C1.9.049' COMP_ID = 'C1'  LOCATION = 3.5, 9.5, 3.4 TYPE = 'PLATE' MATL_ID = 'M1' SURFACE_ORIENTATION = 'FLOOR' THICKNESS = 0.015 TEMPERATURE_DEPTH = 0 DEPTH_UNITS = 'M' /"]
[null,null,null,null,null,null,null,null,"050",4.5,"4.5",9.5,"9.5",3.4,"3.4","stena","stena","stena","&FIRE ID = 'F.C1.9.050' COMP_ID = 'C1', FIRE_ID = 'FP.C1.Z.3.4'  LOCATION = 4.5, 9.5 IGNITION_CRITERION = 'TEMPERATURE', DEVC_ID = 'T.C1.9.050', SETPOINT = 250 /","&DEVC ID = 'T.C1.9.050' COMP_ID = 'C1'  LOCATION = 4.5, 9.5, 3.4 TYPE = 'PLATE' MATL_ID = 'M1' SURFACE_ORIENTATION = 'FLOOR' THICKNESS = 0.015 TEMPERATURE_DEPTH = 0 DEPTH_UNITS = 'M' /"]
[null,null,null,null,null,null,null,null,"051",0.5,"0.5",10.5,"10.5",3.4,"3.4","stena","stena","stena","",""]
[null,null,null,null,null,null,null,null,"052",1.5,"1.5",10.5,"10.5",3.4,"3.4","stena","stena","stena","",""]
[null,null,null,null,null,null,null,null,"053",2.5,"2.5",10.5,"10.5",3.4,"3.4","stena","stena","stena","",""]
[null,null,null,null,null,null,null,null,"054",3.5,"3.5",10.5,"10.5",3.4,"3.4","stena","stena","stena","",""]
[null,null,null,null,null,null,null,null,"055",4.5,"4.5",10.5,"10.5",3.4,"3.4","stena","stena","stena","",""]
[null,null,null,null,null,null,null,null,"056",0.5,"0.5",11.5,"11.5",3.4,"3.4","stena","stena","stena","",""]
[null,null,null,null,null,null,null,null,"057",1.5,"1.5",11.5,"11.5",3.4,"3.4","stena","stena","stena","",""]
[null,null,null,null,null,null,null,null,"058",2.5,"2.5",11.5,"11.5",3.4,"3.4","stena","stena","stena","",""]
[null,null,null,null,null,null,null,null,"059",3.5,"3.5",11.5,"11.5",3.4,"3.4","stena","stena","stena","",""]
[null,null,null,null,null,null,null,null,"060",4.5,"4.5",11.5,"11.5",3.4,"3.4","stena","stena","stena","",""]
[null,null,null,null,null,null,null,null,"061",0.5,"0.5",12.5,"12.5",3.4,"3.4","stena","stena","stena","",""]
[null,null,null,null,null,null,null,null,"062",1.5,"1.5",12.5,"12.5",3.4,"3.4","stena","stena","stena","",""]
[null,null,null,null,null,null,null,null,"063",2.5,"2.5",12.5,"12.5",3.4,"3.4","stena","stena","stena","",""]
[null,null,null,null,null,null,null,null,"064",3.5,"3.5",12.5,"12.5",3.4,"3.4","stena","stena","stena","",""]
[null,null,null,null,null,null,null,null,{"$f":"RIGHT(\"00\"&ROW(A65),3)","v":"065"},4.5,{"$f":"SUBSTITUTE(J71,\",\",\".\")","v":"4.5"},12.5,{"$f":"SUBSTITUTE(L71,\",\",\".\")","v":"12.5"},3.4,{"$f":"SUBSTITUTE(N71,\",\",\".\")","v":"3.4"},"stena","stena","stena","",""]
[null,null,null,null,null,null,null,null,"066",0.5,"0.5",13.5,"13.5",3.4,"3.4",{"$f":"IF($I$3=\"ano\",IF(AND(J72>$J$3,J72<$K$3,L72>$L$3,L72<$M$3),\"otvor\",\"stena\"),\"stena\")","v":"stena"},{"$f":"IF($I$4=\"ano\",IF(AND(J72>$J$4,J72<$K$4,L72>$L$4,L72<$M$4),\"otvor\",\"stena\"),\"stena\")","v":"stena"},"stena",{"$f":"IF(AND(J72>$M$2,L72>$N$2),IF(R72=\"stena\",IF(L72>$C$3,\"\",CONCATENATE(\"&FIRE ID = 'F.\",$E$2,\".9.\",I72,\"' COMP_ID = '\",$E$2,\"', FIRE_ID = 'FP.\",$E$2,\".Z.\",O72,\"'  LOCATION = \",K72,\", \",M72,\" IGNITION_CRITERION = 'TEMPERATURE', DEVC_ID = 'T.\",$E$2,\".9.\",I72,\"', SETPOINT = \",$R$4,\" /\")),\"\"),\"\")","v":""},{"$f":"IF(S72=\"\",\"\",IF(R72=\"stena\",IF(L72>$C$3,\"\",CONCATENATE(\"&DEVC ID = 'T.\",$E$2,\".9.\",I72,\"' COMP_ID = '\",$E$2,\"'  LOCATION = \",K72,\", \",M72,\", \",O72,\" TYPE = '\",$P$3,\"' MATL_ID = '\",$P$2,\"' SURFACE_ORIENTATION = '\",$P$4,\"' THICKNESS = \",$R$2,\" TEMPERATURE_DEPTH = \",$R$3,\" DEPTH_UNITS = 'M' /\")),\"\"))","v":""}]
[null,null,null,null,null,null,null,null,"067",{"$f":"IF(J72=($C$2-$G$2/2),$G$2/2,J72+$G$2)","v":1.5},"1.5",{"$f":"IF(J73=$G$2/2,L72+$G$3,L72)","v":13.5},"13.5",{"$f":"N72","v":3.4},"3.4","stena","stena","stena","",""]
[null,null,null,null,null,null,null,null,"068",2.5,"2.5",13.5,"13.5",3.4,"3.4","stena","stena","stena","",""]
[null,null,null,null,null,null,null,null,"069",3.5,"3.5",13.5,"13.5",3.4,"3.4","stena","stena","stena","",""]
[null,null,null,null,null,null,null,null,"070",4.5,"4.5",13.5,"13.5",3.4,"3.4","stena","stena","stena","",""]
[null,null,null,null,null,null,null,null,"071",0.5,"0.5",14.5,"14.5",3.4,"3.4","stena","stena",{"$f":"IF(OR(P77=\"otvor\",Q77=\"otvor\"),\"otvor\",\"stena\")","v":"stena"},"",""]
[null,null,null,null,null,null,null,null,"072",1.5,"1.5",14.5,"14.5",3.4,"3.4","stena","stena","stena","",""]
[null,null,null,null,null,null,null,null,"073",2.5,"2.5",14.5,"14.5",3.4,"3.4","stena","stena","stena","",""]
[null,null,null,null,null,null,null,null,"074",3.5,"3.5",14.5,"14.5",3.4,"3.4","stena","stena","stena","",""]
[null,null,null,null,null,null,null,null,"075",4.5,"4.5",14.5,"14.5",3.4,"3.4","stena","stena","stena","",""]
[null,null,null,null,null,null,null,null,"076",0.5,"0.5",15.5,"15.5",3.4,"3.4","stena","stena","stena","",""]
[null,null,null,null,null,null,null,null,"077",1.5,"1.5",15.5,"15.5",3.4,"3.4","stena","stena","stena","",""]
[null,null,null,null,null,null,null,null,"078",2.5,"2.5",15.5,"15.5",3.4,"3.4","stena","stena","stena","",""]
[null,null,null,null,null,null,null,null,"079",3.5,"3.5",15.5,"15.5",3.4,"3.4","stena","stena","stena","",""]
[null,null,null,null,null,null,null,null,"080",4.5,"4.5",15.5,"15.5",3.4,"3.4","stena","stena","stena","",""]
[null,null,null,null,null,null,null,null,"081",0.5,"0.5",16.5,"16.5",3.4,"3.4","stena","stena","stena","",""]
[null,null,null,null,null,null,null,null,"082",1.5,"1.5",16.5,"16.5",3.4,"3.4","stena","stena","stena","",""]
[null,null,null,null,null,null,null,null,"083",2.5,"2.5",16.5,"16.5",3.4,"3.4","stena","stena","stena","",""]
[null,null,null,null,null,null,null,null,"084",3.5,"3.5",16.5,"16.5",3.4,"3.4","stena","stena","stena","",""]
[null,null,null,null,null,null,null,null,"085",4.5,"4.5",16.5,"16.5",3.4,"3.4","stena","stena","stena","",""]
[null,null,null,null,null,null,null,null,"086",0.5,"0.5",17.5,"17.5",3.4,"3.4","stena","stena","stena","",""]
[null,null,null,null,null,null,null,null,"087",1.5,"1.5",17.5,"17.5",3.4,"3.4","stena","stena","stena","",""]
[null,null,null,null,null,null,null,null,"088",2.5,"2.5",17.5,"17.5",3.4,"3.4","stena","stena","stena","",""]
[null,null,null,null,null,null,null,null,"089",3.5,"3.5",17.5,"17.5",3.4,"3.4","stena","stena","stena","",""]
[null,null,null,null,null,null,null,null,"090",4.5,"4.5",17.5,"17.5",3.4,"3.4","stena","stena","stena","",""]
[null,null,null,null,null,null,null,null,"091",0.5,"0.5",18.5,"18.5",3.4,"3.4","stena","stena","stena","",""]
[null,null,null,null,null,null,null,null,"092",1.5,"1.5",18.5,"18.5",3.4,"3.4","stena","stena","stena","",""]
[null,null,null,null,null,null,null,null,"093",2.5,{"$f":"SUBSTITUTE(J99,\",\",\".\")","v":"2.5"},18.5,{"$f":"SUBSTITUTE(L99,\",\",\".\")","v":"18.5"},3.4,{"$f":"SUBSTITUTE(N99,\",\",\".\")","v":"3.4"},"stena","stena","stena","",""]
[null,null,null,null,null,null,null,null,"094",3.5,"3.5",18.5,"18.5",3.4,"3.4","stena","stena","stena","",""]
[null,null,null,null,null,null,null,null,"095",4.5,"4.5",18.5,"18.5",3.4,"3.4","stena","stena","stena","",""]
[null,null,null,null,null,null,null,null,"096",0.5,"0.5",19.5,"19.5",3.4,"3.4","stena","stena","stena","",""]
[null,null,null,null,null,null,null,null,{"$f":"RIGHT(\"00\"&ROW(A97),3)","v":"097"},1.5,{"$f":"SUBSTITUTE(J103,\",\",\".\")","v":"1.5"},19.5,{"$f":"SUBSTITUTE(L103,\",\",\".\")","v":"19.5"},3.4,{"$f":"SUBSTITUTE(N103,\",\",\".\")","v":"3.4"},"stena","stena","stena","",""]
[null,null,null,null,null,null,null,null,"098",2.5,"2.5",19.5,"19.5",3.4,"3.4","stena","stena","stena","",""]
[null,null,null,null,null,null,null,null,"099",3.5,"3.5",19.5,"19.5",3.4,"3.4","stena","stena","stena","",""]
[null,null,null,null,null,null,null,null,"100",4.5,"4.5",19.5,"19.5",3.4,"3.4","stena","stena","stena","",""]
[null,null,null,null,null,null,null,null,"101",0.5,"0.5",20.5,"20.5",3.4,"3.4","stena","stena","stena","",""]
[null,null,null,null,null,null,null,null,null,null,null,null,null,null,null,null,null,{"$f":"IF(R107=\"stena\",\"ok\",\"pozor\")","v":"ok"},{"$f":"IF(S107=\"\",\"ok\",\"pozor\")","v":"ok"}]

{"sheet":"Fire Devc F","index":7,"n_rows":108,"n_cols":20,"rows_kept":108,"cut":false,"hidden":false,"merged":[[5,9,5,10],[5,11,5,12],[5,13,5,14],[1,7,1,11]]}
[]
[null,"x",{"$f":"zadani!G7","v":5},"místno.",{"$f":"zadani!G6","v":"C1"},"hrana x",{"$f":"zadani!G7/zadani!G16","v":1},"STRANA F",null,null,null,null,{"$f":"zadani!G10","v":0},{"$f":"zadani!G11","v":0},{"$f":"zadani!G12","v":0},{"$f":"zadani!G38","v":"M1"},{"$f":"zadani!G41","v":1.4999999999999999E-2},{"$f":"SUBSTITUTE(Q2,\",\",\".\")","v":"0.015"}]
[null,"y",{"$f":"zadani!G8","v":10},"odstup",{"$f":"zadani!G15","v":0.01},"hrana y",{"$f":"zadani!G8/zadani!G17","v":1},"otvor 1",{"$f":"zadani!L18","v":"ne"},{"$f":"zadani!M18","v":0},{"$f":"zadani!N18","v":0},{"$f":"zadani!O18","v":0},{"$f":"zadani!P18","v":0},{"$f":"zadani!Q18","v":"-"},{"$f":"zadani!R18","v":"-"},{"$f":"zadani!G39","v":"PLATE"},{"$f":"zadani!G42","v":0},{"$f":"SUBSTITUTE(Q3,\",\",\".\")","v":"0"}]
[null,"z",{"$f":"zadani!G9","v":3.5},"vše ok?",{"$f":"IF(AND(R108=\"ok\",S108=\"ok\"),\"ok\",\"pozor\")","v":"ok"},null,null,"otvor 2",{"$f":"zadani!L19","v":"ne"},{"$f":"zadani!M19","v":0},{"$f":"zadani!N19","v":0},{"$f":"zadani!O19","v":0},{"$f":"zadani!P19","v":0},{"$f":"zadani!Q19","v":"-"},{"$f":"zadani!R19","v":"-"},{"$f":"zadani!G40","v":"FLOOR"},{"$f":"zadani!C42","v":250},{"$f":"SUBSTITUTE(Q4,\",\",\".\")","v":"250"}]
[]
[null,null,null,null,null,null,null,null,"pořad. číslo","X",null,"Y",null,"Z",null,"otvor 1","otvor 2","otvory"]
[null,null,null,null,null,null,null,null,{"$f":"RIGHT(\"00\"&ROW(A1),3)","v":"001"},{"$f":"G2/2","v":0.5},{"$f":"SUBSTITUTE(J7,\",\",\".\")","v":"0.5"},{"$f":"G3/2","v":0.5},{"$f":"SUBSTITUTE(L7,\",\",\".\")","v":"0.5"},{"$f":"E3","v":0.01},{"$f":"SUBSTITUTE(N7,\",\",\".\")","v":"0.01"},{"$f":"IF($I$3=\"ano\",IF(AND(J7>$J$3,J7<$K$3,L7>$L$3,L7<$M$3),\"otvor\",\"stena\"),\"stena\")","v":"stena"},{"$f":"IF($I$4=\"ano\",IF(AND(J7>$J$4,J7<$K$4,L7>$L$4,L7<$M$4),\"otvor\",\"stena\"),\"stena\")","v":"stena"},{"$f":"IF(OR(P7=\"otvor\",Q7=\"otvor\"),\"otvor\",\"stena\")","v":"stena"},{"$f":"IF(AND(J7>$M$2,L7>$N$2),IF(R7=\"stena\",IF(L7>$C$3,\"\",CONCATENATE(\"&FIRE ID = 'F.\",$E$2,\".10.\",I7,\"' COMP_ID = '\",$E$2,\"', FIRE_ID = 'FP.\",$E$2,\".Z.\",O7,\"'  LOCATION = \",K7,\", \",M7,\" IGNITION_CRITERION = 'TEMPERATURE', DEVC_ID = 'T.\",$E$2,\".10.\",I7,\"', SETPOINT = \",$R$4,\" /\")),\"\"),\"\")","v":"&FIRE ID = 'F.C1.10.001' COMP_ID = 'C1', FIRE_ID = 'FP.C1.Z.0.01'  LOCATION = 0.5, 0.5 IGNITION_CRITERION = 'TEMPERATURE', DEVC_ID = 'T.C1.10.001', SETPOINT = 250 /"},{"$f":"IF(S7=\"\",\"\",IF(R7=\"stena\",IF(L7>$C$3,\"\",CONCATENATE(\"&DEVC ID = 'T.\",$E$2,\".10.\",I7,\"' COMP_ID = '\",$E$2,\"'  LOCATION = \",K7,\", \",M7,\", \",O7,\" TYPE = '\",$P$3,\"' MATL_ID = '\",$P$2,\"' SURFACE_ORIENTATION = '\",$P$4,\"' THICKNESS = \",$R$2,\" TEMPERATURE_DEPTH = \",$R$3,\" DEPTH_UNITS = 'M' /\")),\"\"))","v":"&DEVC ID = 'T.C1.10.001' COMP_ID = 'C1'  LOCATION = 0.5, 0.5, 0.01 TYPE = 'PLATE' MATL_ID = 'M1' SURFACE_ORIENTATION = 'FLOOR' THICKNESS = 0.015 TEMPERATURE_DEPTH = 0 DEPTH_UNITS = 'M' /"}]
[null,null,null,null,null,null,null,null,"002",{"$f":"IF(J7=($C$2-$G$2/2),$G$2/2,J7+$G$2)","v":1.5},"1.5",{"$f":"IF(J8=$G$2/2,L7+$G$3,L7)","v":0.5},"0.5",{"$f":"N7","v":0.01},"0.01",{"$f":"IF($I$3=\"ano\",IF(AND(J8>$J$3,J8<$K$3,L8>$L$3,L8<$M$3),\"otvor\",\"stena\"),\"stena\")","v":"stena"},{"$f":"IF($I$4=\"ano\",IF(AND(J8>$J$4,J8<$K$4,L8>$L$4,L8<$M$4),\"otvor\",\"stena\"),\"stena\")","v":"stena"},"stena",{"$f":"IF(AND(J8>$M$2,L8>$N$2),IF(R8=\"stena\",IF(L8>$C$3,\"\",CONCATENATE(\"&FIRE ID = 'F.\",$E$2,\".10.\",I8,\"' COMP_ID = '\",$E$2,\"', FIRE_ID = 'FP.\",$E$2,\".Z.\",O8,\"'  LOCATION = \",K8,\", \",M8,\" IGNITION_CRITERION = 'TEMPERATURE', DEVC_ID = 'T.\",$E$2,\".10.\",I8,\"', SETPOINT = \",$R$4,\" /\")),\"\"),\"\")","v":"&FIRE ID = 'F.C1.10.002' COMP_ID = 'C1', FIRE_ID = 'FP.C1.Z.0.01'  LOCATION = 1.5, 0.5 IGNITION_CRITERION = 'TEMPERATURE', DEVC_ID = 'T.C1.10.002', SETPOINT = 250 /"},{"$f":"IF(S8=\"\",\"\",IF(R8=\"stena\",IF(L8>$C$3,\"\",CONCATENATE(\"&DEVC ID = 'T.\",$E$2,\".10.\",I8,\"' COMP_ID = '\",$E$2,\"'  LOCATION = \",K8,\", \",M8,\", \",O8,\" TYPE = '\",$P$3,\"' MATL_ID = '\",$P$2,\"' SURFACE_ORIENTATION = '\",$P$4,\"' THICKNESS = \",$R$2,\" TEMPERATURE_DEPTH = \",$R$3,\" DEPTH_UNITS = 'M' /\")),\"\"))","v":"&DEVC ID = 'T.C1.10.002' COMP_ID = 'C1'  LOCATION = 1.5, 0.5, 0.01 TYPE = 'PLATE' MATL_ID = 'M1' SURFACE_ORIENTATION = 'FLOOR' THICKNESS = 0.015 TEMPERATURE_DEPTH = 0 DEPTH_UNITS = 'M' /"}]
[null,null,null,null,null,null,null,null,"003",{"$f":"IF(J8=($C$2-$G$2/2),$G$2/2,J8+$G$2)","v":2.5},"2.5",{"$f":"IF(J9=$G$2/2,L8+$G$3,L8)","v":0.5},"0.5",{"$f":"N8","v":0.01},"0.01","stena","stena","stena","&FIRE ID = 'F.C1.10.003' COMP_ID = 'C1', FIRE_ID = 'FP.C1.Z.0.01'  LOCATION = 2.5, 0.5 IGNITION_CRITERION = 'TEMPERATURE', DEVC_ID = 'T.C1.10.003', SETPOINT = 250 /","&DEVC ID = 'T.C1.10.003' COMP_ID = 'C1'  LOCATION = 2.5, 0.5, 0.01 TYPE = 'PLATE' MATL_ID = 'M1' SURFACE_ORIENTATION = 'FLOOR' THICKNESS = 0.015 TEMPERATURE_DEPTH = 0 DEPTH_UNITS = 'M' /"]
[null,null,null,null,null,null,null,null,"004",3.5,"3.5",0.5,"0.5",0.01,"0.01","stena","stena","stena","&FIRE ID = 'F.C1.10.004' COMP_ID = 'C1', FIRE_ID = 'FP.C1.Z.0.01'  LOCATION = 3.5, 0.5 IGNITION_CRITERION = 'TEMPERATURE', DEVC_ID = 'T.C1.10.004', SETPOINT = 250 /","&DEVC ID = 'T.C1.10.004' COMP_ID = 'C1'  LOCATION = 3.5, 0.5, 0.01 TYPE = 'PLATE' MATL_ID = 'M1' SURFACE_ORIENTATION = 'FLOOR' THICKNESS = 0.015 TEMPERATURE_DEPTH = 0 DEPTH_UNITS = 'M' /"]
[null,null,null,null,null,null,null,null,"005",4.5,"4.5",0.5,"0.5",0.01,"0.01","stena","stena",{"$f":"IF(OR(P11=\"otvor\",Q11=\"otvor\"),\"otvor\",\"stena\")","v":"stena"},"&FIRE ID = 'F.C1.10.005' COMP_ID = 'C1', FIRE_ID = 'FP.C1.Z.0.01'  LOCATION = 4.5, 0.5 IGNITION_CRITERION = 'TEMPERATURE', DEVC_ID = 'T.C1.10.005', SETPOINT = 250 /","&DEVC ID = 'T.C1.10.005' COMP_ID = 'C1'  LOCATION = 4.5, 0.5, 0.01 TYPE = 'PLATE' MATL_ID = 'M1' SURFACE_ORIENTATION = 'FLOOR' THICKNESS = 0.015 TEMPERATURE_DEPTH = 0 DEPTH_UNITS = 'M' /"]
[null,null,null,null,null,null,null,null,"006",0.5,"0.5",1.5,"1.5",0.01,"0.01","stena","stena",{"$f":"IF(OR(P12=\"otvor\",Q12=\"otvor\"),\"otvor\",\"stena\")","v":"stena"},"&FIRE ID = 'F.C1.10.006' COMP_ID = 'C1', FIRE_ID = 'FP.C1.Z.0.01'  LOCATION = 0.5, 1.5 IGNITION_CRITERION = 'TEMPERATURE', DEVC_ID = 'T.C1.10.006', SETPOINT = 250 /","&DEVC ID = 'T.C1.10.006' COMP_ID = 'C1'  LOCATION = 0.5, 1.5, 0.01 TYPE = 'PLATE' MATL_ID = 'M1' SURFACE_ORIENTATION = 'FLOOR' THICKNESS = 0.015 TEMPERATURE_DEPTH = 0 DEPTH_UNITS = 'M' /"]
[null,null,null,null,null,null,null,null,"007",1.5,"1.5",1.5,"1.5",0.01,"0.01","stena","stena",{"$f":"IF(OR(P13=\"otvor\",Q13=\"otvor\"),\"otvor\",\"stena\")","v":"stena"},"&FIRE ID = 'F.C1.10.007' COMP_ID = 'C1', FIRE_ID = 'FP.C1.Z.0.01'  LOCATION = 1.5, 1.5 IGNITION_CRITERION = 'TEMPERATURE', DEVC_ID = 'T.C1.10.007', SETPOINT = 250 /","&DEVC ID = 'T.C1.10.007' COMP_ID = 'C1'  LOCATION = 1.5, 1.5, 0.01 TYPE = 'PLATE' MATL_ID = 'M1' SURFACE_ORIENTATION = 'FLOOR' THICKNESS = 0.015 TEMPERATURE_DEPTH = 0 DEPTH_UNITS = 'M' /"]
[null,null,null,null,null,null,null,null,"008",2.5,"2.5",1.5,"1.5",0.01,"0.01","stena","stena","stena","&FIRE ID = 'F.C1.10.008' COMP_ID = 'C1', FIRE_ID = 'FP.C1.Z.0.01'  LOCATION = 2.5, 1.5 IGNITION_CRITERION = 'TEMPERATURE', DEVC_ID = 'T.C1.10.008', SETPOINT = 250 /","&DEVC ID = 'T.C1.10.008' COMP_ID = 'C1'  LOCATION = 2.5, 1.5, 0.01 TYPE = 'PLATE' MATL_ID = 'M1' SURFACE_ORIENTATION = 'FLOOR' THICKNESS = 0.015 TEMPERATURE_DEPTH = 0 DEPTH_UNITS = 'M' /"]
[null,null,null,null,null,null,null,null,"009",3.5,"3.5",1.5,"1.5",0.01,"0.01","stena","stena","stena","&FIRE ID = 'F.C1.10.009' COMP_ID = 'C1', FIRE_ID = 'FP.C1.Z.0.01'  LOCATION = 3.5, 1.5 IGNITION_CRITERION = 'TEMPERATURE', DEVC_ID = 'T.C1.10.009', SETPOINT = 250 /","&DEVC ID = 'T.C1.10.009' COMP_ID = 'C1'  LOCATION = 3.5, 1.5, 0.01 TYPE = 'PLATE' MATL_ID = 'M1' SURFACE_ORIENTATION = 'FLOOR' THICKNESS = 0.015 TEMPERATURE_DEPTH = 0 DEPTH_UNITS = 'M' /"]
[null,null,null,null,null,null,null,null,"010",4.5,"4.5",1.5,"1.5",0.01,"0.01","stena","stena","stena","&FIRE ID = 'F.C1.10.010' COMP_ID = 'C1', FIRE_ID = 'FP.C1.Z.0.01'  LOCATION = 4.5, 1.5 IGNITION_CRITERION = 'TEMPERATURE', DEVC_ID = 'T.C1.10.010', SETPOINT = 250 /","&DEVC ID = 'T.C1.10.010' COMP_ID = 'C1'  LOCATION = 4.5, 1.5, 0.01 TYPE = 'PLATE' MATL_ID = 'M1' SURFACE_ORIENTATION = 'FLOOR' THICKNESS = 0.015 TEMPERATURE_DEPTH = 0 DEPTH_UNITS = 'M' /"]
[null,null,null,null,null,null,null,null,"011",0.5,"0.5",2.5,"2.5",0.01,"0.01","stena","stena","stena","&FIRE ID = 'F.C1.10.011' COMP_ID = 'C1', FIRE_ID = 'FP.C1.Z.0.01'  LOCATION = 0.5, 2.5 IGNITION_CRITERION = 'TEMPERATURE', DEVC_ID = 'T.C1.10.011', SETPOINT = 250 /","&DEVC ID = 'T.C1.10.011' COMP_ID = 'C1'  LOCATION = 0.5, 2.5, 0.01 TYPE = 'PLATE' MATL_ID = 'M1' SURFACE_ORIENTATION = 'FLOOR' THICKNESS = 0.015 TEMPERATURE_DEPTH = 0 DEPTH_UNITS = 'M' /"]
[null,null,null,null,null,null,null,null,"012",1.5,"1.5",2.5,"2.5",0.01,"0.01","stena","stena","stena","&FIRE ID = 'F.C1.10.012' COMP_ID = 'C1', FIRE_ID = 'FP.C1.Z.0.01'  LOCATION = 1.5, 2.5 IGNITION_CRITERION = 'TEMPERATURE', DEVC_ID = 'T.C1.10.012', SETPOINT = 250 /","&DEVC ID = 'T.C1.10.012' COMP_ID = 'C1'  LOCATION = 1.5, 2.5, 0.01 TYPE = 'PLATE' MATL_ID = 'M1' SURFACE_ORIENTATION = 'FLOOR' THICKNESS = 0.015 TEMPERATURE_DEPTH = 0 DEPTH_UNITS = 'M' /"]
[null,null,null,null,null,null,null,null,"013",2.5,"2.5",2.5,"2.5",0.01,"0.01","stena","stena","stena","&FIRE ID = 'F.C1.10.013' COMP_ID = 'C1', FIRE_ID = 'FP.C1.Z.0.01'  LOCATION = 2.5, 2.5 IGNITION_CRITERION = 'TEMPERATURE', DEVC_ID = 'T.C1.10.013', SETPOINT = 250 /","&DEVC ID = 'T.C1.10.013' COMP_ID = 'C1'  LOCATION = 2.5, 2.5, 0.01 TYPE = 'PLATE' MATL_ID = 'M1' SURFACE_ORIENTATION = 'FLOOR' THICKNESS = 0.015 TEMPERATURE_DEPTH = 0 DEPTH_UNITS = 'M' /"]
[null,null,null,null,null,null,null,null,"014",3.5,"3.5",2.5,"2.5",0.01,"0.01","stena","stena","stena","&FIRE ID = 'F.C1.10.014' COMP_ID = 'C1', FIRE_ID = 'FP.C1.Z.0.01'  LOCATION = 3.5, 2.5 IGNITION_CRITERION = 'TEMPERATURE', DEVC_ID = 'T.C1.10.014', SETPOINT = 250 /","&DEVC ID = 'T.C1.10.014' COMP_ID = 'C1'  LOCATION = 3.5, 2.5, 0.01 TYPE = 'PLATE' MATL_ID = 'M1' SURFACE_ORIENTATION = 'FLOOR' THICKNESS = 0.015 TEMPERATURE_DEPTH = 0 DEPTH_UNITS = 'M' /"]
[null,null,null,null,null,null,null,null,"015",4.5,"4.5",2.5,"2.5",0.01,"0.01","stena","stena","stena","&FIRE ID = 'F.C1.10.015' COMP_ID = 'C1', FIRE_ID = 'FP.C1.Z.0.01'  LOCATION = 4.5, 2.5 IGNITION_CRITERION = 'TEMPERATURE', DEVC_ID = 'T.C1.10.015', SETPOINT = 250 /","&DEVC ID = 'T.C1.10.015' COMP_ID = 'C1'  LOCATION = 4.5, 2.5, 0.01 TYPE = 'PLATE' MATL_ID = 'M1' SURFACE_ORIENTATION = 'FLOOR' THICKNESS = 0.015 TEMPERATURE_DEPTH = 0 DEPTH_UNITS = 'M' /"]
[null,null,null,null,null,null,null,null,"016",0.5,"0.5",3.5,"3.5",0.01,"0.01","stena","stena","stena","&FIRE ID = 'F.C1.10.016' COMP_ID = 'C1', FIRE_ID = 'FP.C1.Z.0.01'  LOCATION = 0.5, 3.5 IGNITION_CRITERION = 'TEMPERATURE', DEVC_ID = 'T.C1.10.016', SETPOINT = 250 /","&DEVC ID = 'T.C1.10.016' COMP_ID = 'C1'  LOCATION = 0.5, 3.5, 0.01 TYPE = 'PLATE' MATL_ID = 'M1' SURFACE_ORIENTATION = 'FLOOR' THICKNESS = 0.015 TEMPERATURE_DEPTH = 0 DEPTH_UNITS = 'M' /"]
[null,null,null,null,null,null,null,null,"017",1.5,"1.5",3.5,"3.5",0.01,"0.01","stena","stena","stena","&FIRE ID = 'F.C1.10.017' COMP_ID = 'C1', FIRE_ID = 'FP.C1.Z.0.01'  LOCATION = 1.5, 3.5 IGNITION_CRITERION = 'TEMPERATURE', DEVC_ID = 'T.C1.10.017', SETPOINT = 250 /","&DEVC ID = 'T.C1.10.017' COMP_ID = 'C1'  LOCATION = 1.5, 3.5, 0.01 TYPE = 'PLATE' MATL_ID = 'M1' SURFACE_ORIENTATION = 'FLOOR' THICKNESS = 0.015 TEMPERATURE_DEPTH = 0 DEPTH_UNITS = 'M' /"]
[null,null,null,null,null,null,null,null,"018",2.5,"2.5",3.5,"3.5",0.01,"0.01","stena","stena","stena","&FIRE ID = 'F.C1.10.018' COMP_ID = 'C1', FIRE_ID = 'FP.C1.Z.0.01'  LOCATION = 2.5, 3.5 IGNITION_CRITERION = 'TEMPERATURE', DEVC_ID = 'T.C1.10.018', SETPOINT = 250 /","&DEVC ID = 'T.C1.10.018' COMP_ID = 'C1'  LOCATION = 2.5, 3.5, 0.01 TYPE = 'PLATE' MATL_ID = 'M1' SURFACE_ORIENTATION = 'FLOOR' THICKNESS = 0.015 TEMPERATURE_DEPTH = 0 DEPTH_UNITS = 'M' /"]
[null,null,null,null,null,null,null,null,"019",3.5,"3.5",3.5,"3.5",0.01,"0.01","stena","stena","stena","&FIRE ID = 'F.C1.10.019' COMP_ID = 'C1', FIRE_ID = 'FP.C1.Z.0.01'  LOCATION = 3.5, 3.5 IGNITION_CRITERION = 'TEMPERATURE', DEVC_ID = 'T.C1.10.019', SETPOINT = 250 /","&DEVC ID = 'T.C1.10.019' COMP_ID = 'C1'  LOCATION = 3.5, 3.5, 0.01 TYPE = 'PLATE' MATL_ID = 'M1' SURFACE_ORIENTATION = 'FLOOR' THICKNESS = 0.015 TEMPERATURE_DEPTH = 0 DEPTH_UNITS = 'M' /"]
[null,null,null,null,null,null,null,null,"020",4.5,"4.5",3.5,"3.5",0.01,"0.01","stena","stena","stena","&FIRE ID = 'F.C1.10.020' COMP_ID = 'C1', FIRE_ID = 'FP.C1.Z.0.01'  LOCATION = 4.5, 3.5 IGNITION_CRITERION = 'TEMPERATURE', DEVC_ID = 'T.C1.10.020', SETPOINT = 250 /","&DEVC ID = 'T.C1.10.020' COMP_ID = 'C1'  LOCATION = 4.5, 3.5, 0.01 TYPE = 'PLATE' MATL_ID = 'M1' SURFACE_ORIENTATION = 'FLOOR' THICKNESS = 0.015 TEMPERATURE_DEPTH = 0 DEPTH_UNITS = 'M' /"]
[null,null,null,null,null,null,null,null,"021",0.5,"0.5",4.5,"4.5",0.01,"0.01","stena","stena","stena","&FIRE ID = 'F.C1.10.021' COMP_ID = 'C1', FIRE_ID = 'FP.C1.Z.0.01'  LOCATION = 0.5, 4.5 IGNITION_CRITERION = 'TEMPERATURE', DEVC_ID = 'T.C1.10.021', SETPOINT = 250 /","&DEVC ID = 'T.C1.10.021' COMP_ID = 'C1'  LOCATION = 0.5, 4.5, 0.01 TYPE = 'PLATE' MATL_ID = 'M1' SURFACE_ORIENTATION = 'FLOOR' THICKNESS = 0.015 TEMPERATURE_DEPTH = 0 DEPTH_UNITS = 'M' /"]
[null,null,null,null,null,null,null,null,"022",1.5,"1.5",4.5,"4.5",0.01,"0.01","stena","stena","stena","&FIRE ID = 'F.C1.10.022' COMP_ID = 'C1', FIRE_ID = 'FP.C1.Z.0.01'  LOCATION = 1.5, 4.5 IGNITION_CRITERION = 'TEMPERATURE', DEVC_ID = 'T.C1.10.022', SETPOINT = 250 /","&DEVC ID = 'T.C1.10.022' COMP_ID = 'C1'  LOCATION = 1.5, 4.5, 0.01 TYPE = 'PLATE' MATL_ID = 'M1' SURFACE_ORIENTATION = 'FLOOR' THICKNESS = 0.015 TEMPERATURE_DEPTH = 0 DEPTH_UNITS = 'M' /"]
[null,null,null,null,null,null,null,null,"023",2.5,"2.5",4.5,"4.5",0.01,"0.01","stena","stena","stena","&FIRE ID = 'F.C1.10.023' COMP_ID = 'C1', FIRE_ID = 'FP.C1.Z.0.01'  LOCATION = 2.5, 4.5 IGNITION_CRITERION = 'TEMPERATURE', DEVC_ID = 'T.C1.10.023', SETPOINT = 250 /","&DEVC ID = 'T.C1.10.023' COMP_ID = 'C1'  LOCATION = 2.5, 4.5, 0.01 TYPE = 'PLATE' MATL_ID = 'M1' SURFACE_ORIENTATION = 'FLOOR' THICKNESS = 0.015 TEMPERATURE_DEPTH = 0 DEPTH_UNITS = 'M' /"]
[null,null,null,null,null,null,null,null,"024",3.5,"3.5",4.5,"4.5",0.01,"0.01","stena","stena","stena","&FIRE ID = 'F.C1.10.024' COMP_ID = 'C1', FIRE_ID = 'FP.C1.Z.0.01'  LOCATION = 3.5, 4.5 IGNITION_CRITERION = 'TEMPERATURE', DEVC_ID = 'T.C1.10.024', SETPOINT = 250 /","&DEVC ID = 'T.C1.10.024' COMP_ID = 'C1'  LOCATION = 3.5, 4.5, 0.01 TYPE = 'PLATE' MATL_ID = 'M1' SURFACE_ORIENTATION = 'FLOOR' THICKNESS = 0.015 TEMPERATURE_DEPTH = 0 DEPTH_UNITS = 'M' /"]
[null,null,null,null,null,null,null,null,"025",4.5,"4.5",4.5,"4.5",0.01,"0.01","stena","stena","stena","&FIRE ID = 'F.C1.10.025' COMP_ID = 'C1', FIRE_ID = 'FP.C1.Z.0.01'  LOCATION = 4.5, 4.5 IGNITION_CRITERION = 'TEMPERATURE', DEVC_ID = 'T.C1.10.025', SETPOINT = 250 /","&DEVC ID = 'T.C1.10.025' COMP_ID = 'C1'  LOCATION = 4.5, 4.5, 0.01 TYPE = 'PLATE' MATL_ID = 'M1' SURFACE_ORIENTATION = 'FLOOR' THICKNESS = 0.015 TEMPERATURE_DEPTH = 0 DEPTH_UNITS = 'M' /"]
[null,null,null,null,null,null,null,null,"026",0.5,"0.5",5.5,"5.5",0.01,"0.01","stena","stena","stena","&FIRE ID = 'F.C1.10.026' COMP_ID = 'C1', FIRE_ID = 'FP.C1.Z.0.01'  LOCATION = 0.5, 5.5 IGNITION_CRITERION = 'TEMPERATURE', DEVC_ID = 'T.C1.10.026', SETPOINT = 250 /","&DEVC ID = 'T.C1.10.026' COMP_ID = 'C1'  LOCATION = 0.5, 5.5, 0.01 TYPE = 'PLATE' MATL_ID = 'M1' SURFACE_ORIENTATION = 'FLOOR' THICKNESS = 0.015 TEMPERATURE_DEPTH = 0 DEPTH_UNITS = 'M' /"]
[null,null,null,null,null,null,null,null,"027",1.5,"1.5",5.5,"5.5",0.01,"0.01","stena","stena","stena","&FIRE ID = 'F.C1.10.027' COMP_ID = 'C1', FIRE_ID = 'FP.C1.Z.0.01'  LOCATION = 1.5, 5.5 IGNITION_CRITERION = 'TEMPERATURE', DEVC_ID = 'T.C1.10.027', SETPOINT = 250 /","&DEVC ID = 'T.C1.10.027' COMP_ID = 'C1'  LOCATION = 1.5, 5.5, 0.01 TYPE = 'PLATE' MATL_ID = 'M1' SURFACE_ORIENTATION = 'FLOOR' THICKNESS = 0.015 TEMPERATURE_DEPTH = 0 DEPTH_UNITS = 'M' /"]
[null,null,null,null,null,null,null,null,"028",2.5,"2.5",5.5,"5.5",0.01,"0.01","stena","stena","stena","&FIRE ID = 'F.C1.10.028' COMP_ID = 'C1', FIRE_ID = 'FP.C1.Z.0.01'  LOCATION = 2.5, 5.5 IGNITION_CRITERION = 'TEMPERATURE', DEVC_ID = 'T.C1.10.028', SETPOINT = 250 /","&DEVC ID = 'T.C1.10.028' COMP_ID = 'C1'  LOCATION = 2.5, 5.5, 0.01 TYPE = 'PLATE' MATL_ID = 'M1' SURFACE_ORIENTATION = 'FLOOR' THICKNESS = 0.015 TEMPERATURE_DEPTH = 0 DEPTH_UNITS = 'M' /"]
[null,null,null,null,null,null,null,null,"029",3.5,"3.5",5.5,"5.5",0.01,"0.01","stena","stena","stena","&FIRE ID = 'F.C1.10.029' COMP_ID = 'C1', FIRE_ID = 'FP.C1.Z.0.01'  LOCATION = 3.5, 5.5 IGNITION_CRITERION = 'TEMPERATURE', DEVC_ID = 'T.C1.10.029', SETPOINT = 250 /","&DEVC ID = 'T.C1.10.029' COMP_ID = 'C1'  LOCATION = 3.5, 5.5, 0.01 TYPE = 'PLATE' MATL_ID = 'M1' SURFACE_ORIENTATION = 'FLOOR' THICKNESS = 0.015 TEMPERATURE_DEPTH = 0 DEPTH_UNITS = 'M' /"]
[null,null,null,null,null,null,null,null,"030",4.5,"4.5",5.5,"5.5",0.01,"0.01","stena","stena","stena","&FIRE ID = 'F.C1.10.030' COMP_ID = 'C1', FIRE_ID = 'FP.C1.Z.0.01'  LOCATION = 4.5, 5.5 IGNITION_CRITERION = 'TEMPERATURE', DEVC_ID = 'T.C1.10.030', SETPOINT = 250 /","&DEVC ID = 'T.C1.10.030' COMP_ID = 'C1'  LOCATION = 4.5, 5.5, 0.01 TYPE = 'PLATE' MATL_ID = 'M1' SURFACE_ORIENTATION = 'FLOOR' THICKNESS = 0.015 TEMPERATURE_DEPTH = 0 DEPTH_UNITS = 'M' /"]
[null,null,null,null,null,null,null,null,"031",0.5,"0.5",6.5,"6.5",0.01,"0.01","stena","stena","stena","&FIRE ID = 'F.C1.10.031' COMP_ID = 'C1', FIRE_ID = 'FP.C1.Z.0.01'  LOCATION = 0.5, 6.5 IGNITION_CRITERION = 'TEMPERATURE', DEVC_ID = 'T.C1.10.031', SETPOINT = 250 /","&DEVC ID = 'T.C1.10.031' COMP_ID = 'C1'  LOCATION = 0.5, 6.5, 0.01 TYPE = 'PLATE' MATL_ID = 'M1' SURFACE_ORIENTATION = 'FLOOR' THICKNESS = 0.015 TEMPERATURE_DEPTH = 0 DEPTH_UNITS = 'M' /"]
[null,null,null,null,null,null,null,null,"032",1.5,"1.5",6.5,"6.5",0.01,"0.01","stena","stena","stena","&FIRE ID = 'F.C1.10.032' COMP_ID = 'C1', FIRE_ID = 'FP.C1.Z.0.01'  LOCATION = 1.5, 6.5 IGNITION_CRITERION = 'TEMPERATURE', DEVC_ID = 'T.C1.10.032', SETPOINT = 250 /","&DEVC ID = 'T.C1.10.032' COMP_ID = 'C1'  LOCATION = 1.5, 6.5, 0.01 TYPE = 'PLATE' MATL_ID = 'M1' SURFACE_ORIENTATION = 'FLOOR' THICKNESS = 0.015 TEMPERATURE_DEPTH = 0 DEPTH_UNITS = 'M' /"]
[null,null,null,null,null,null,null,null,{"$f":"RIGHT(\"00\"&ROW(A33),3)","v":"033"},2.5,"2.5",6.5,"6.5",0.01,"0.01","stena","stena","stena","&FIRE ID = 'F.C1.10.033' COMP_ID = 'C1', FIRE_ID = 'FP.C1.Z.0.01'  LOCATION = 2.5, 6.5 IGNITION_CRITERION = 'TEMPERATURE', DEVC_ID = 'T.C1.10.033', SETPOINT = 250 /","&DEVC ID = 'T.C1.10.033' COMP_ID = 'C1'  LOCATION = 2.5, 6.5, 0.01 TYPE = 'PLATE' MATL_ID = 'M1' SURFACE_ORIENTATION = 'FLOOR' THICKNESS = 0.015 TEMPERATURE_DEPTH = 0 DEPTH_UNITS = 'M' /"]
[null,null,null,null,null,null,null,null,"034",3.5,"3.5",6.5,"6.5",0.01,"0.01","stena","stena","stena","&FIRE ID = 'F.C1.10.034' COMP_ID = 'C1', FIRE_ID = 'FP.C1.Z.0.01'  LOCATION = 3.5, 6.5 IGNITION_CRITERION = 'TEMPERATURE', DEVC_ID = 'T.C1.10.034', SETPOINT = 250 /","&DEVC ID = 'T.C1.10.034' COMP_ID = 'C1'  LOCATION = 3.5, 6.5, 0.01 TYPE = 'PLATE' MATL_ID = 'M1' SURFACE_ORIENTATION = 'FLOOR' THICKNESS = 0.015 TEMPERATURE_DEPTH = 0 DEPTH_UNITS = 'M' /"]
[null,null,null,null,null,null,null,null,"035",4.5,"4.5",6.5,"6.5",0.01,"0.01","stena","stena","stena","&FIRE ID = 'F.C1.10.035' COMP_ID = 'C1', FIRE_ID = 'FP.C1.Z.0.01'  LOCATION = 4.5, 6.5 IGNITION_CRITERION = 'TEMPERATURE', DEVC_ID = 'T.C1.10.035', SETPOINT = 250 /","&DEVC ID = 'T.C1.10.035' COMP_ID = 'C1'  LOCATION = 4.5, 6.5, 0.01 TYPE = 'PLATE' MATL_ID = 'M1' SURFACE_ORIENTATION = 'FLOOR' THICKNESS = 0.015 TEMPERATURE_DEPTH = 0 DEPTH_UNITS = 'M' /"]
[null,null,null,null,null,null,null,null,"036",0.5,"0.5",7.5,"7.5",0.01,"0.01","stena","stena","stena","&FIRE ID = 'F.C1.10.036' COMP_ID = 'C1', FIRE_ID = 'FP.C1.Z.0.01'  LOCATION = 0.5, 7.5 IGNITION_CRITERION = 'TEMPERATURE', DEVC_ID = 'T.C1.10.036', SETPOINT = 250 /","&DEVC ID = 'T.C1.10.036' COMP_ID = 'C1'  LOCATION = 0.5, 7.5, 0.01 TYPE = 'PLATE' MATL_ID = 'M1' SURFACE_ORIENTATION = 'FLOOR' THICKNESS = 0.015 TEMPERATURE_DEPTH = 0 DEPTH_UNITS = 'M' /"]
[null,null,null,null,null,null,null,null,"037",1.5,"1.5",7.5,"7.5",0.01,"0.01","stena","stena","stena","&FIRE ID = 'F.C1.10.037' COMP_ID = 'C1', FIRE_ID = 'FP.C1.Z.0.01'  LOCATION = 1.5, 7.5 IGNITION_CRITERION = 'TEMPERATURE', DEVC_ID = 'T.C1.10.037', SETPOINT = 250 /","&DEVC ID = 'T.C1.10.037' COMP_ID = 'C1'  LOCATION = 1.5, 7.5, 0.01 TYPE = 'PLATE' MATL_ID = 'M1' SURFACE_ORIENTATION = 'FLOOR' THICKNESS = 0.015 TEMPERATURE_DEPTH = 0 DEPTH_UNITS = 'M' /"]
[null,null,null,null,null,null,null,null,"038",2.5,"2.5",7.5,"7.5",0.01,"0.01","stena","stena","stena","&FIRE ID = 'F.C1.10.038' COMP_ID = 'C1', FIRE_ID = 'FP.C1.Z.0.01'  LOCATION = 2.5, 7.5 IGNITION_CRITERION = 'TEMPERATURE', DEVC_ID = 'T.C1.10.038', SETPOINT = 250 /","&DEVC ID = 'T.C1.10.038' COMP_ID = 'C1'  LOCATION = 2.5, 7.5, 0.01 TYPE = 'PLATE' MATL_ID = 'M1' SURFACE_ORIENTATION = 'FLOOR' THICKNESS = 0.015 TEMPERATURE_DEPTH = 0 DEPTH_UNITS = 'M' /"]
[null,null,null,null,null,null,null,null,"039",3.5,"3.5",7.5,"7.5",0.01,"0.01","stena","stena","stena","&FIRE ID = 'F.C1.10.039' COMP_ID = 'C1', FIRE_ID = 'FP.C1.Z.0.01'  LOCATION = 3.5, 7.5 IGNITION_CRITERION = 'TEMPERATURE', DEVC_ID = 'T.C1.10.039', SETPOINT = 250 /","&DEVC ID = 'T.C1.10.039' COMP_ID = 'C1'  LOCATION = 3.5, 7.5, 0.01 TYPE = 'PLATE' MATL_ID = 'M1' SURFACE_ORIENTATION = 'FLOOR' THICKNESS = 0.015 TEMPERATURE_DEPTH = 0 DEPTH_UNITS = 'M' /"]
[null,null,null,null,null,null,null,null,"040",4.5,"4.5",7.5,"7.5",0.01,"0.01","stena","stena","stena","&FIRE ID = 'F.C1.10.040' COMP_ID = 'C1', FIRE_ID = 'FP.C1.Z.0.01'  LOCATION = 4.5, 7.5 IGNITION_CRITERION = 'TEMPERATURE', DEVC_ID = 'T.C1.10.040', SETPOINT = 250 /","&DEVC ID = 'T.C1.10.040' COMP_ID = 'C1'  LOCATION = 4.5, 7.5, 0.01 TYPE = 'PLATE' MATL_ID = 'M1' SURFACE_ORIENTATION = 'FLOOR' THICKNESS = 0.015 TEMPERATURE_DEPTH = 0 DEPTH_UNITS = 'M' /"]
[null,null,null,null,null,null,null,null,"041",0.5,"0.5",8.5,"8.5",0.01,"0.01","stena","stena","stena","&FIRE ID = 'F.C1.10.041' COMP_ID = 'C1', FIRE_ID = 'FP.C1.Z.0.01'  LOCATION = 0.5, 8.5 IGNITION_CRITERION = 'TEMPERATURE', DEVC_ID = 'T.C1.10.041', SETPOINT = 250 /","&DEVC ID = 'T.C1.10.041' COMP_ID = 'C1'  LOCATION = 0.5, 8.5, 0.01 TYPE = 'PLATE' MATL_ID = 'M1' SURFACE_ORIENTATION = 'FLOOR' THICKNESS = 0.015 TEMPERATURE_DEPTH = 0 DEPTH_UNITS = 'M' /"]
[null,null,null,null,null,null,null,null,"042",1.5,"1.5",8.5,"8.5",0.01,"0.01","stena","stena","stena","&FIRE ID = 'F.C1.10.042' COMP_ID = 'C1', FIRE_ID = 'FP.C1.Z.0.01'  LOCATION = 1.5, 8.5 IGNITION_CRITERION = 'TEMPERATURE', DEVC_ID = 'T.C1.10.042', SETPOINT = 250 /","&DEVC ID = 'T.C1.10.042' COMP_ID = 'C1'  LOCATION = 1.5, 8.5, 0.01 TYPE = 'PLATE' MATL_ID = 'M1' SURFACE_ORIENTATION = 'FLOOR' THICKNESS = 0.015 TEMPERATURE_DEPTH = 0 DEPTH_UNITS = 'M' /"]
[null,null,null,null,null,null,null,null,"043",2.5,"2.5",8.5,"8.5",0.01,"0.01","stena","stena","stena","&FIRE ID = 'F.C1.10.043' COMP_ID = 'C1', FIRE_ID = 'FP.C1.Z.0.01'  LOCATION = 2.5, 8.5 IGNITION_CRITERION = 'TEMPERATURE', DEVC_ID = 'T.C1.10.043', SETPOINT = 250 /","&DEVC ID = 'T.C1.10.043' COMP_ID = 'C1'  LOCATION = 2.5, 8.5, 0.01 TYPE = 'PLATE' MATL_ID = 'M1' SURFACE_ORIENTATION = 'FLOOR' THICKNESS = 0.015 TEMPERATURE_DEPTH = 0 DEPTH_UNITS = 'M' /"]
[null,null,null,null,null,null,null,null,"044",3.5,"3.5",8.5,"8.5",0.01,"0.01","stena","stena","stena","&FIRE ID = 'F.C1.10.044' COMP_ID = 'C1', FIRE_ID = 'FP.C1.Z.0.01'  LOCATION = 3.5, 8.5 IGNITION_CRITERION = 'TEMPERATURE', DEVC_ID = 'T.C1.10.044', SETPOINT = 250 /","&DEVC ID = 'T.C1.10.044' COMP_ID = 'C1'  LOCATION = 3.5, 8.5, 0.01 TYPE = 'PLATE' MATL_ID = 'M1' SURFACE_ORIENTATION = 'FLOOR' THICKNESS = 0.015 TEMPERATURE_DEPTH = 0 DEPTH_UNITS = 'M' /"]
[null,null,null,null,null,null,null,null,"045",4.5,"4.5",8.5,"8.5",0.01,"0.01","stena","stena","stena","&FIRE ID = 'F.C1.10.045' COMP_ID = 'C1', FIRE_ID = 'FP.C1.Z.0.01'  LOCATION = 4.5, 8.5 IGNITION_CRITERION = 'TEMPERATURE', DEVC_ID = 'T.C1.10.045', SETPOINT = 250 /","&DEVC ID = 'T.C1.10.045' COMP_ID = 'C1'  LOCATION = 4.5, 8.5, 0.01 TYPE = 'PLATE' MATL_ID = 'M1' SURFACE_ORIENTATION = 'FLOOR' THICKNESS = 0.015 TEMPERATURE_DEPTH = 0 DEPTH_UNITS = 'M' /"]
[null,null,null,null,null,null,null,null,"046",0.5,"0.5",9.5,"9.5",0.01,"0.01","stena","stena","stena","&FIRE ID = 'F.C1.10.046' COMP_ID = 'C1', FIRE_ID = 'FP.C1.Z.0.01'  LOCATION = 0.5, 9.5 IGNITION_CRITERION = 'TEMPERATURE', DEVC_ID = 'T.C1.10.046', SETPOINT = 250 /","&DEVC ID = 'T.C1.10.046' COMP_ID = 'C1'  LOCATION = 0.5, 9.5, 0.01 TYPE = 'PLATE' MATL_ID = 'M1' SURFACE_ORIENTATION = 'FLOOR' THICKNESS = 0.015 TEMPERATURE_DEPTH = 0 DEPTH_UNITS = 'M' /"]
[null,null,null,null,null,null,null,null,"047",1.5,"1.5",9.5,"9.5",0.01,"0.01","stena","stena","stena","&FIRE ID = 'F.C1.10.047' COMP_ID = 'C1', FIRE_ID = 'FP.C1.Z.0.01'  LOCATION = 1.5, 9.5 IGNITION_CRITERION = 'TEMPERATURE', DEVC_ID = 'T.C1.10.047', SETPOINT = 250 /","&DEVC ID = 'T.C1.10.047' COMP_ID = 'C1'  LOCATION = 1.5, 9.5, 0.01 TYPE = 'PLATE' MATL_ID = 'M1' SURFACE_ORIENTATION = 'FLOOR' THICKNESS = 0.015 TEMPERATURE_DEPTH = 0 DEPTH_UNITS = 'M' /"]
[null,null,null,null,null,null,null,null,"048",2.5,"2.5",9.5,"9.5",0.01,"0.01","stena","stena","stena","&FIRE ID = 'F.C1.10.048' COMP_ID = 'C1', FIRE_ID = 'FP.C1.Z.0.01'  LOCATION = 2.5, 9.5 IGNITION_CRITERION = 'TEMPERATURE', DEVC_ID = 'T.C1.10.048', SETPOINT = 250 /","&DEVC ID = 'T.C1.10.048' COMP_ID = 'C1'  LOCATION = 2.5, 9.5, 0.01 TYPE = 'PLATE' MATL_ID = 'M1' SURFACE_ORIENTATION = 'FLOOR' THICKNESS = 0.015 TEMPERATURE_DEPTH = 0 DEPTH_UNITS = 'M' /"]
[null,null,null,null,null,null,null,null,"049",3.5,"3.5",9.5,"9.5",0.01,"0.01","stena","stena","stena","&FIRE ID = 'F.C1.10.049' COMP_ID = 'C1', FIRE_ID = 'FP.C1.Z.0.01'  LOCATION = 3.5, 9.5 IGNITION_CRITERION = 'TEMPERATURE', DEVC_ID = 'T.C1.10.049', SETPOINT = 250 /","&DEVC ID = 'T.C1.10.049' COMP_ID = 'C1'  LOCATION = 3.5, 9.5, 0.01 TYPE = 'PLATE' MATL_ID = 'M1' SURFACE_ORIENTATION = 'FLOOR' THICKNESS = 0.015 TEMPERATURE_DEPTH = 0 DEPTH_UNITS = 'M' /"]
[null,null,null,null,null,null,null,null,"050",4.5,"4.5",9.5,"9.5",0.01,"0.01","stena","stena","stena","&FIRE ID = 'F.C1.10.050' COMP_ID = 'C1', FIRE_ID = 'FP.C1.Z.0.01'  LOCATION = 4.5, 9.5 IGNITION_CRITERION = 'TEMPERATURE', DEVC_ID = 'T.C1.10.050', SETPOINT = 250 /","&DEVC ID = 'T.C1.10.050' COMP_ID = 'C1'  LOCATION = 4.5, 9.5, 0.01 TYPE = 'PLATE' MATL_ID = 'M1' SURFACE_ORIENTATION = 'FLOOR' THICKNESS = 0.015 TEMPERATURE_DEPTH = 0 DEPTH_UNITS = 'M' /"]
[null,null,null,null,null,null,null,null,"051",0.5,"0.5",10.5,"10.5",0.01,"0.01","stena","stena","stena","",""]
[null,null,null,null,null,null,null,null,"052",1.5,"1.5",10.5,"10.5",0.01,"0.01","stena","stena","stena","",""]
[null,null,null,null,null,null,null,null,"053",2.5,"2.5",10.5,"10.5",0.01,"0.01","stena","stena","stena","",""]
[null,null,null,null,null,null,null,null,"054",3.5,"3.5",10.5,"10.5",0.01,"0.01","stena","stena","stena","",""]
[null,null,null,null,null,null,null,null,"055",4.5,"4.5",10.5,"10.5",0.01,"0.01","stena","stena","stena","",""]
[null,null,null,null,null,null,null,null,"056",0.5,"0.5",11.5,"11.5",0.01,"0.01","stena","stena","stena","",""]
[null,null,null,null,null,null,null,null,"057",1.5,"1.5",11.5,"11.5",0.01,"0.01","stena","stena","stena","",""]
[null,null,null,null,null,null,null,null,"058",2.5,"2.5",11.5,"11.5",0.01,"0.01","stena","stena","stena","",""]
[null,null,null,null,null,null,null,null,"059",3.5,"3.5",11.5,"11.5",0.01,"0.01","stena","stena","stena","",""]
[null,null,null,null,null,null,null,null,"060",4.5,"4.5",11.5,"11.5",0.01,"0.01","stena","stena","stena","",""]
[null,null,null,null,null,null,null,null,"061",0.5,"0.5",12.5,"12.5",0.01,"0.01","stena","stena","stena","",""]
[null,null,null,null,null,null,null,null,"062",1.5,"1.5",12.5,"12.5",0.01,"0.01","stena","stena","stena","",""]
[null,null,null,null,null,null,null,null,"063",2.5,"2.5",12.5,"12.5",0.01,"0.01","stena","stena","stena","",""]
[null,null,null,null,null,null,null,null,"064",3.5,"3.5",12.5,"12.5",0.01,"0.01","stena","stena","stena","",""]
[null,null,null,null,null,null,null,null,{"$f":"RIGHT(\"00\"&ROW(A65),3)","v":"065"},4.5,{"$f":"SUBSTITUTE(J71,\",\",\".\")","v":"4.5"},12.5,{"$f":"SUBSTITUTE(L71,\",\",\".\")","v":"12.5"},0.01,{"$f":"SUBSTITUTE(N71,\",\",\".\")","v":"0.01"},"stena","stena","stena","",""]
[null,null,null,null,null,null,null,null,"066",0.5,"0.5",13.5,"13.5",0.01,"0.01",{"$f":"IF($I$3=\"ano\",IF(AND(J72>$J$3,J72<$K$3,L72>$L$3,L72<$M$3),\"otvor\",\"stena\"),\"stena\")","v":"stena"},{"$f":"IF($I$4=\"ano\",IF(AND(J72>$J$4,J72<$K$4,L72>$L$4,L72<$M$4),\"otvor\",\"stena\"),\"stena\")","v":"stena"},"stena",{"$f":"IF(AND(J72>$M$2,L72>$N$2),IF(R72=\"stena\",IF(L72>$C$3,\"\",CONCATENATE(\"&FIRE ID = 'F.\",$E$2,\".10.\",I72,\"' COMP_ID = '\",$E$2,\"', FIRE_ID = 'FP.\",$E$2,\".Z.\",O72,\"'  LOCATION = \",K72,\", \",M72,\" IGNITION_CRITERION = 'TEMPERATURE', DEVC_ID = 'T.\",$E$2,\".10.\",I72,\"', SETPOINT = \",$R$4,\" /\")),\"\"),\"\")","v":""},{"$f":"IF(S72=\"\",\"\",IF(R72=\"stena\",IF(L72>$C$3,\"\",CONCATENATE(\"&DEVC ID = 'T.\",$E$2,\".10.\",I72,\"' COMP_ID = '\",$E$2,\"'  LOCATION = \",K72,\", \",M72,\", \",O72,\" TYPE = '\",$P$3,\"' MATL_ID = '\",$P$2,\"' SURFACE_ORIENTATION = '\",$P$4,\"' THICKNESS = \",$R$2,\" TEMPERATURE_DEPTH = \",$R$3,\" DEPTH_UNITS = 'M' /\")),\"\"))","v":""}]
[null,null,null,null,null,null,null,null,"067",{"$f":"IF(J72=($C$2-$G$2/2),$G$2/2,J72+$G$2)","v":1.5},"1.5",{"$f":"IF(J73=$G$2/2,L72+$G$3,L72)","v":13.5},"13.5",{"$f":"N72","v":0.01},"0.01","stena","stena","stena","",""]
[null,null,null,null,null,null,null,null,"068",2.5,"2.5",13.5,"13.5",0.01,"0.01","stena","stena","stena","",""]
[null,null,null,null,null,null,null,null,"069",3.5,"3.5",13.5,"13.5",0.01,"0.01","stena","stena","stena","",""]
[null,null,null,null,null,null,null,null,"070",4.5,"4.5",13.5,"13.5",0.01,"0.01","stena","stena","stena","",""]
[null,null,null,null,null,null,null,null,"071",0.5,"0.5",14.5,"14.5",0.01,"0.01","stena","stena",{"$f":"IF(OR(P77=\"otvor\",Q77=\"otvor\"),\"otvor\",\"stena\")","v":"stena"},"",""]
[null,null,null,null,null,null,null,null,"072",1.5,"1.5",14.5,"14.5",0.01,"0.01","stena","stena","stena","",""]
[null,null,null,null,null,null,null,null,"073",2.5,"2.5",14.5,"14.5",0.01,"0.01","stena","stena","stena","",""]
[null,null,null,null,null,null,null,null,"074",3.5,"3.5",14.5,"14.5",0.01,"0.01","stena","stena","stena","",""]
[null,null,null,null,null,null,null,null,"075",4.5,"4.5",14.5,"14.5",0.01,"0.01","stena","stena","stena","",""]
[null,null,null,null,null,null,null,null,"076",0.5,"0.5",15.5,"15.5",0.01,"0.01","stena","stena","stena","",""]
[null,null,null,null,null,null,null,null,"077",1.5,"1.5",15.5,"15.5",0.01,"0.01","stena","stena","stena","",""]
[null,null,null,null,null,null,null,null,"078",2.5,"2.5",15.5,"15.5",0.01,"0.01","stena","stena","stena","",""]
[null,null,null,null,null,null,null,null,"079",3.5,"3.5",15.5,"15.5",0.01,"0.01","stena","stena","stena","",""]
[null,null,null,null,null,null,null,null,"080",4.5,"4.5",15.5,"15.5",0.01,"0.01","stena","stena","stena","",""]
[null,null,null,null,null,null,null,null,"081",0.5,"0.5",16.5,"16.5",0.01,"0.01","stena","stena","stena","",""]
[null,null,null,null,null,null,null,null,"082",1.5,"1.5",16.5,"16.5",0.01,"0.01","stena","stena","stena","",""]
[null,null,null,null,null,null,null,null,"083",2.5,"2.5",16.5,"16.5",0.01,"0.01","stena","stena","stena","",""]
[null,null,null,null,null,null,null,null,"084",3.5,"3.5",16.5,"16.5",0.01,"0.01","stena","stena","stena","",""]
[null,null,null,null,null,null,null,null,"085",4.5,"4.5",16.5,"16.5",0.01,"0.01","stena","stena","stena","",""]
[null,null,null,null,null,null,null,null,"086",0.5,"0.5",17.5,"17.5",0.01,"0.01","stena","stena","stena","",""]
[null,null,null,null,null,null,null,null,"087",1.5,"1.5",17.5,"17.5",0.01,"0.01","stena","stena","stena","",""]
[null,null,null,null,null,null,null,null,"088",2.5,"2.5",17.5,"17.5",0.01,"0.01","stena","stena","stena","",""]
[null,null,null,null,null,null,null,null,"089",3.5,"3.5",17.5,"17.5",0.01,"0.01","stena","stena","stena","",""]
[null,null,null,null,null,null,null,null,"090",4.5,"4.5",17.5,"17.5",0.01,"0.01","stena","stena","stena","",""]
[null,null,null,null,null,null,null,null,"091",0.5,"0.5",18.5,"18.5",0.01,"0.01","stena","stena","stena","",""]
[null,null,null,null,null,null,null,null,"092",1.5,"1.5",18.5,"18.5",0.01,"0.01","stena","stena","stena","",""]
[null,null,null,null,null,null,null,null,"093",2.5,{"$f":"SUBSTITUTE(J99,\",\",\".\")","v":"2.5"},18.5,{"$f":"SUBSTITUTE(L99,\",\",\".\")","v":"18.5"},0.01,{"$f":"SUBSTITUTE(N99,\",\",\".\")","v":"0.01"},"stena","stena","stena","",""]
[null,null,null,null,null,null,null,null,"094",3.5,"3.5",18.5,"18.5",0.01,"0.01","stena","stena","stena","",""]
[null,null,null,null,null,null,null,null,"095",4.5,"4.5",18.5,"18.5",0.01,"0.01","stena","stena","stena","",""]
[null,null,null,null,null,null,null,null,"096",0.5,"0.5",19.5,"19.5",0.01,"0.01","stena","stena","stena","",""]
[null,null,null,null,null,null,null,null,{"$f":"RIGHT(\"00\"&ROW(A97),3)","v":"097"},1.5,{"$f":"SUBSTITUTE(J103,\",\",\".\")","v":"1.5"},19.5,{"$f":"SUBSTITUTE(L103,\",\",\".\")","v":"19.5"},0.01,{"$f":"SUBSTITUTE(N103,\",\",\".\")","v":"0.01"},"stena","stena","stena","",""]
[null,null,null,null,null,null,null,null,"098",2.5,"2.5",19.5,"19.5",0.01,"0.01","stena","stena","stena","",""]
[null,null,null,null,null,null,null,null,"099",3.5,"3.5",19.5,"19.5",0.01,"0.01","stena","stena","stena","",""]
[null,null,null,null,null,null,null,null,"100",4.5,"4.5",19.5,"19.5",0.01,"0.01","stena","stena","stena","",""]
[null,null,null,null,null,null,null,null,"101",0.5,"0.5",20.5,"20.5",0.01,"0.01","stena","stena","stena","",""]
[null,null,null,null,null,null,null,null,null,null,null,null,null,null,null,null,null,{"$f":"IF(R107=\"stena\",\"ok\",\"pozor\")","v":"ok"},{"$f":"IF(S107=\"\",\"ok\",\"pozor\")","v":"ok"}]

{"sheet":"Tabl","index":8,"n_rows":211,"n_cols":20,"rows_kept":211,"cut":false,"hidden":false,"merged":[[1,2,1,3],[12,1,17,1],[1,7,1,8],[37,2,37,3],[36,2,36,3],[35,2,35,3],[34,2,34,3],[33,2,33,3],[32,2,32,3],[31,2,31,3],[30,2,30,3],[11,2,11,3],[10,2,10,3],[9,2,9,3],[8,2,8,3],[7,2,7,3],[18,1,23,1],[24,1,29,1],[4,2,4,3],[3,2,3,3],[2,2,2,3],[6,2,6,3],[5,2,5,3]]}
[]
[null,"z",{"$f":"zadani!G9","v":3.5},null,{"$f":"zadani!G12","v":0},null,"poř. č.","Z"]
[null,"hrana z",{"$f":"zadani!G9/zadani!G18","v":0.875},null,null,null,1,{"$f":"C3/2","v":0.4375},{"$f":"SUBSTITUTE(H3,\",\",\".\")","v":"0.4375"},{"$f":"IF(OR(H3<$E$2,H3>$C$2),\"\",CONCATENATE(\"&CHEM ID = 'FP.\",zadani!$G$6,\".X.\",I3,\"' CARBON = \",$E$6,\" CHLORINE = \",$E$7,\" HYDROGEN = \",$E$8,\" NITROGEN = \",$E$9,\" OXYGEN = \",$E$10,\" HEAT_OF_COMBUSTION = \",$E$11,\" RADIATIVE_FRACTION = \",$E$12,\" /\"))","v":"&CHEM ID = 'FP.C1.X.0.4375' CARBON = 39.3 CHLORINE = 0 HYDROGEN = 4.7 NITROGEN = 0.4 OXYGEN = 34.1 HEAT_OF_COMBUSTION = 14277 RADIATIVE_FRACTION = 0.35 /"},{"$f":"IF(OR(H3<$E$2,H3>$C$2),\"\",CONCATENATE(\"&CHEM ID = 'FP.\",zadani!$G$6,\".Y.\",I3,\"' CARBON = \",$E$6,\" CHLORINE = \",$E$7,\" HYDROGEN = \",$E$8,\" NITROGEN = \",$E$9,\" OXYGEN = \",$E$10,\" HEAT_OF_COMBUSTION = \",$E$11,\" RADIATIVE_FRACTION = \",$E$12,\" /\"))","v":"&CHEM ID = 'FP.C1.Y.0.4375' CARBON = 39.3 CHLORINE = 0 HYDROGEN = 4.7 NITROGEN = 0.4 OXYGEN = 34.1 HEAT_OF_COMBUSTION = 14277 RADIATIVE_FRACTION = 0.35 /"},{"$f":"CONCATENATE(\"&CHEM ID = 'FP.\",zadani!$G$6,\".Z.\",E37,\"' CARBON = \",$E$6,\" CHLORINE = \",$E$7,\" HYDROGEN = \",$E$8,\" NITROGEN = \",$E$9,\" OXYGEN = \",$E$10,\" HEAT_OF_COMBUSTION = \",$E$11,\" RADIATIVE_FRACTION = \",$E$12,\" /\")","v":"&CHEM ID = 'FP.C1.Z.3.4' CARBON = 39.3 CHLORINE = 0 HYDROGEN = 4.7 NITROGEN = 0.4 OXYGEN = 34.1 HEAT_OF_COMBUSTION = 14277 RADIATIVE_FRACTION = 0.35 /"}]
[null,"hrana x",{"$f":"zadani!G7/zadani!G16","v":1},null,null,null,null,null,null,{"$f":"IF(OR(H3<$E$2,H3>$C$2),\"\",CONCATENATE(\"&TABL ID = 'FP.\",zadani!$G$6,\".X.\",I3,\"' LABELS = 'TIME', 'HRR' , 'HEIGHT' , 'AREA' , 'CO_YIELD' , 'SOOT_YIELD' , 'HCN_YIELD' , 'HCL_YIELD' , 'TRACE_YIELD'  /\"))","v":"&TABL ID = 'FP.C1.X.0.4375' LABELS = 'TIME', 'HRR' , 'HEIGHT' , 'AREA' , 'CO_YIELD' , 'SOOT_YIELD' , 'HCN_YIELD' , 'HCL_YIELD' , 'TRACE_YIELD'  /"},{"$f":"IF(OR(H3<$E$2,H3>$C$2),\"\",CONCATENATE(\"&TABL ID = 'FP.\",zadani!$G$6,\".Y.\",I3,\"' LABELS = 'TIME', 'HRR' , 'HEIGHT' , 'AREA' , 'CO_YIELD' , 'SOOT_YIELD' , 'HCN_YIELD' , 'HCL_YIELD' , 'TRACE_YIELD'  /\"))","v":"&TABL ID = 'FP.C1.Y.0.4375' LABELS = 'TIME', 'HRR' , 'HEIGHT' , 'AREA' , 'CO_YIELD' , 'SOOT_YIELD' , 'HCN_YIELD' , 'HCL_YIELD' , 'TRACE_YIELD'  /"},{"$f":"CONCATENATE(\"&TABL ID = 'FP.\",zadani!$G$6,\".Z.\",E37,\"' LABELS = 'TIME', 'HRR' , 'HEIGHT' , 'AREA' , 'CO_YIELD' , 'SOOT_YIELD' , 'HCN_YIELD' , 'HCL_YIELD' , 'TRACE_YIELD'  /\")","v":"&TABL ID = 'FP.C1.Z.3.4' LABELS = 'TIME', 'HRR' , 'HEIGHT' , 'AREA' , 'CO_YIELD' , 'SOOT_YIELD' , 'HCN_YIELD' , 'HCL_YIELD' , 'TRACE_YIELD'  /"}]
[null,"hrana y",{"$f":"zadani!G8/zadani!G17","v":1},null,null,null,null,null,null,{"$f":"IF(OR(H3<$E$2,H3>$C$2),\"\",CONCATENATE(\"&TABL ID = 'FP.\",zadani!$G$6,\".X.\",I3,\"', DATA = \",$C$13,\", \",$E$13,\", \",I3,\", \",$E$31,\", \",$E$32,\", \",$E$33,\", \",$E$34,\", \",$E$35,\", \",$E$36,\" /\"))","v":"&TABL ID = 'FP.C1.X.0.4375', DATA = 0, 0, 0.4375, 0.1, 0, 0, 0, 0, 0 /"},{"$f":"IF(OR(H3<$E$2,H3>$C$2),\"\",CONCATENATE(\"&TABL ID = 'FP.\",zadani!$G$6,\".Y.\",I3,\"', DATA = \",$C$19,\", \",$E$19,\", \",I3,\", \",$E$31,\", \",$E$32,\", \",$E$33,\", \",$E$34,\", \",$E$35,\", \",$E$36,\" /\"))","v":"&TABL ID = 'FP.C1.Y.0.4375', DATA = 0, 0, 0.4375, 0.1, 0, 0, 0, 0, 0 /"},{"$f":"CONCATENATE(\"&TABL ID = 'FP.\",zadani!$G$6,\".Z.\",E37,\"', DATA = \",$C$13,\", \",$E$25,\", \",E37,\", \",$E$31,\", \",$E$32,\", \",$E$33,\", \",$E$34,\", \",$E$35,\", \",$E$36,\" /\")","v":"&TABL ID = 'FP.C1.Z.3.4', DATA = 0, 0, 3.4, 0.1, 0, 0, 0, 0, 0 /"}]
[null,{"$f":"zadani!B29","v":"uhlík"},{"$f":"zadani!C29","v":39.299999999999997},null,{"$f":"SUBSTITUTE(C6,\",\",\".\")","v":"39.3"},null,null,null,null,{"$f":"IF(OR(H3<$E$2,H3>$C$2),\"\",CONCATENATE(\"&TABL ID = 'FP.\",zadani!$G$6,\".X.\",I3,\"', DATA = \",$C$14,\", \",$E$14,\", \",I3,\", \",$E$31,\", \",$E$32,\", \",$E$33,\", \",$E$34,\", \",$E$35,\", \",$E$36,\" /\"))","v":"&TABL ID = 'FP.C1.X.0.4375', DATA = 60, 183.75, 0.4375, 0.1, 0, 0, 0, 0, 0 /"},{"$f":"IF(OR(H3<$E$2,H3>$C$2),\"\",CONCATENATE(\"&TABL ID = 'FP.\",zadani!$G$6,\".Y.\",I3,\"', DATA = \",$C$20,\", \",$E$20,\", \",I3,\", \",$E$31,\", \",$E$32,\", \",$E$33,\", \",$E$34,\", \",$E$35,\", \",$E$36,\" /\"))","v":"&TABL ID = 'FP.C1.Y.0.4375', DATA = 60, 183.75, 0.4375, 0.1, 0, 0, 0, 0, 0 /"},{"$f":"CONCATENATE(\"&TABL ID = 'FP.\",zadani!$G$6,\".Z.\",E37,\"', DATA = \",$C$14,\", \",$E$26,\", \",E37,\", \",$E$31,\", \",$E$32,\", \",$E$33,\", \",$E$34,\", \",$E$35,\", \",$E$36,\" /\")","v":"&TABL ID = 'FP.C1.Z.3.4', DATA = 60, 210, 3.4, 0.1, 0, 0, 0, 0, 0 /"}]
[null,{"$f":"zadani!B30","v":"chlór"},{"$f":"zadani!C30","v":0},null,"0",null,null,null,null,{"$f":"IF(OR(H3<$E$2,H3>$C$2),\"\",CONCATENATE(\"&TABL ID = 'FP.\",zadani!$G$6,\".X.\",I3,\"', DATA = \",$C$15,\", \",$E$15,\", \",I3,\", \",$E$31,\", \",$E$32,\", \",$E$33,\", \",$E$34,\", \",$E$35,\", \",$E$36,\" /\"))","v":"&TABL ID = 'FP.C1.X.0.4375', DATA = 400, 87.5, 0.4375, 0.1, 0, 0, 0, 0, 0 /"},{"$f":"IF(OR(H3<$E$2,H3>$C$2),\"\",CONCATENATE(\"&TABL ID = 'FP.\",zadani!$G$6,\".Y.\",I3,\"', DATA = \",$C$21,\", \",$E$21,\", \",I3,\", \",$E$31,\", \",$E$32,\", \",$E$33,\", \",$E$34,\", \",$E$35,\", \",$E$36,\" /\"))","v":"&TABL ID = 'FP.C1.Y.0.4375', DATA = 400, 87.5, 0.4375, 0.1, 0, 0, 0, 0, 0 /"},{"$f":"CONCATENATE(\"&TABL ID = 'FP.\",zadani!$G$6,\".Z.\",E37,\"', DATA = \",$C$15,\", \",$E$27,\", \",E37,\", \",$E$31,\", \",$E$32,\", \",$E$33,\", \",$E$34,\", \",$E$35,\", \",$E$36,\" /\")","v":"&TABL ID = 'FP.C1.Z.3.4', DATA = 400, 100, 3.4, 0.1, 0, 0, 0, 0, 0 /"}]
[null,{"$f":"zadani!B31","v":"vodík"},{"$f":"zadani!C31","v":4.7},null,"4.7",null,null,null,null,{"$f":"IF(OR(H3<$E$2,H3>$C$2),\"\",CONCATENATE(\"&TABL ID = 'FP.\",zadani!$G$6,\".X.\",I3,\"', DATA = \",$C$16,\", \",$E$16,\", \",I3,\", \",$E$31,\", \",$E$32,\", \",$E$33,\", \",$E$34,\", \",$E$35,\", \",$E$36,\" /\"))","v":"&TABL ID = 'FP.C1.X.0.4375', DATA = 750, 157.5, 0.4375, 0.1, 0, 0, 0, 0, 0 /"},{"$f":"IF(OR(H3<$E$2,H3>$C$2),\"\",CONCATENATE(\"&TABL ID = 'FP.\",zadani!$G$6,\".Y.\",I3,\"', DATA = \",$C$22,\", \",$E$22,\", \",I3,\", \",$E$31,\", \",$E$32,\", \",$E$33,\", \",$E$34,\", \",$E$35,\", \",$E$36,\" /\"))","v":"&TABL ID = 'FP.C1.Y.0.4375', DATA = 750, 157.5, 0.4375, 0.1, 0, 0, 0, 0, 0 /"},{"$f":"CONCATENATE(\"&TABL ID = 'FP.\",zadani!$G$6,\".Z.\",E37,\"', DATA = \",$C$16,\", \",$E$28,\", \",E37,\", \",$E$31,\", \",$E$32,\", \",$E$33,\", \",$E$34,\", \",$E$35,\", \",$E$36,\" /\")","v":"&TABL ID = 'FP.C1.Z.3.4', DATA = 750, 180, 3.4, 0.1, 0, 0, 0, 0, 0 /"}]
[null,{"$f":"zadani!B32","v":"dusík"},{"$f":"zadani!C32","v":0.4},null,"0.4",null,null,null,null,{"$f":"IF(OR(H3<$E$2,H3>$C$2),\"\",CONCATENATE(\"&TABL ID = 'FP.\",zadani!$G$6,\".X.\",I3,\"', DATA = \",$C$17,\", \",$E$17,\", \",I3,\", \",$E$31,\", \",$E$32,\", \",$E$33,\", \",$E$34,\", \",$E$35,\", \",$E$36,\" /\"))","v":"&TABL ID = 'FP.C1.X.0.4375', DATA = 1000, 43.75, 0.4375, 0.1, 0, 0, 0, 0, 0 /"},{"$f":"IF(OR(H3<$E$2,H3>$C$2),\"\",CONCATENATE(\"&TABL ID = 'FP.\",zadani!$G$6,\".Y.\",I3,\"', DATA = \",$C$23,\", \",$E$23,\", \",I3,\", \",$E$31,\", \",$E$32,\", \",$E$33,\", \",$E$34,\", \",$E$35,\", \",$E$36,\" /\"))","v":"&TABL ID = 'FP.C1.Y.0.4375', DATA = 1000, 43.75, 0.4375, 0.1, 0, 0, 0, 0, 0 /"},{"$f":"CONCATENATE(\"&TABL ID = 'FP.\",zadani!$G$6,\".Z.\",E37,\"', DATA = \",$C$17,\", \",$E$29,\", \",E37,\", \",$E$31,\", \",$E$32,\", \",$E$33,\", \",$E$34,\", \",$E$35,\", \",$E$36,\" /\")","v":"&TABL ID = 'FP.C1.Z.3.4', DATA = 1000, 50, 3.4, 0.1, 0, 0, 0, 0, 0 /"}]
[null,{"$f":"zadani!B33","v":"kyslík"},{"$f":"zadani!C33","v":34.1},null,"34.1",null,null,null,null,{"$f":"IF(OR(H3<$E$2,H3>$C$2),\"\",CONCATENATE(\"&TABL ID = 'FP.\",zadani!$G$6,\".X.\",I3,\"', DATA = \",$C$18,\", \",$E$18,\", \",I3,\", \",$E$31,\", \",$E$32,\", \",$E$33,\", \",$E$34,\", \",$E$35,\", \",$E$36,\" /\"))","v":"&TABL ID = 'FP.C1.X.0.4375', DATA = 1010, 43.75, 0.4375, 0.1, 0, 0, 0, 0, 0 /"},{"$f":"IF(OR(H3<$E$2,H3>$C$2),\"\",CONCATENATE(\"&TABL ID = 'FP.\",zadani!$G$6,\".Y.\",I3,\"', DATA = \",$C$24,\", \",$E$24,\", \",I3,\", \",$E$31,\", \",$E$32,\", \",$E$33,\", \",$E$34,\", \",$E$35,\", \",$E$36,\" /\"))","v":"&TABL ID = 'FP.C1.Y.0.4375', DATA = 1010, 43.75, 0.4375, 0.1, 0, 0, 0, 0, 0 /"},{"$f":"CONCATENATE(\"&TABL ID = 'FP.\",zadani!$G$6,\".Z.\",E37,\"', DATA = \",$C$18,\", \",$E$30,\", \",E37,\", \",$E$31,\", \",$E$32,\", \",$E$33,\", \",$E$34,\", \",$E$35,\", \",$E$36,\" /\")","v":"&TABL ID = 'FP.C1.Z.3.4', DATA = 1010, 50, 3.4, 0.1, 0, 0, 0, 0, 0 /"}]
[null,{"$f":"zadani!B34","v":"spalné teplo"},{"$f":"zadani!C34","v":14277},null,"14277",null,{"$f":"G3+1","v":2},{"$f":"H3+$C$3","v":1.3125},{"$f":"SUBSTITUTE(H11,\",\",\".\")","v":"1.3125"},{"$f":"IF(OR(H11<$E$2,H11>$C$2),\"\",CONCATENATE(\"&CHEM ID = 'FP.\",zadani!$G$6,\".X.\",I11,\"' CARBON = \",$E$6,\" CHLORINE = \",$E$7,\" HYDROGEN = \",$E$8,\" NITROGEN = \",$E$9,\" OXYGEN = \",$E$10,\" HEAT_OF_COMBUSTION = \",$E$11,\" RADIATIVE_FRACTION = \",$E$12,\" /\"))","v":"&CHEM ID = 'FP.C1.X.1.3125' CARBON = 39.3 CHLORINE = 0 HYDROGEN = 4.7 NITROGEN = 0.4 OXYGEN = 34.1 HEAT_OF_COMBUSTION = 14277 RADIATIVE_FRACTION = 0.35 /"},{"$f":"IF(OR(H11<$E$2,H11>$C$2),\"\",CONCATENATE(\"&CHEM ID = 'FP.\",zadani!$G$6,\".Y.\",I11,\"' CARBON = \",$E$6,\" CHLORINE = \",$E$7,\" HYDROGEN = \",$E$8,\" NITROGEN = \",$E$9,\" OXYGEN = \",$E$10,\" HEAT_OF_COMBUSTION = \",$E$11,\" RADIATIVE_FRACTION = \",$E$12,\" /\"))","v":"&CHEM ID = 'FP.C1.Y.1.3125' CARBON = 39.3 CHLORINE = 0 HYDROGEN = 4.7 NITROGEN = 0.4 OXYGEN = 34.1 HEAT_OF_COMBUSTION = 14277 RADIATIVE_FRACTION = 0.35 /"},{"$f":"CONCATENATE(\"&CHEM ID = 'FP.\",zadani!$G$6,\".Z.\",E38,\"' CARBON = \",$E$6,\" CHLORINE = \",$E$7,\" HYDROGEN = \",$E$8,\" NITROGEN = \",$E$9,\" OXYGEN = \",$E$10,\" HEAT_OF_COMBUSTION = \",$E$11,\" RADIATIVE_FRACTION = \",$E$12,\" /\")","v":"&CHEM ID = 'FP.C1.Z.0.01' CARBON = 39.3 CHLORINE = 0 HYDROGEN = 4.7 NITROGEN = 0.4 OXYGEN = 34.1 HEAT_OF_COMBUSTION = 14277 RADIATIVE_FRACTION = 0.35 /"}]
[null,{"$f":"zadani!B35","v":"radiační frakce"},{"$f":"zadani!C35","v":0.35},null,"0.35",null,null,null,null,{"$f":"IF(OR(H11<$E$2,H11>$C$2),\"\",CONCATENATE(\"&TABL ID = 'FP.\",zadani!$G$6,\".X.\",I11,\"' LABELS = 'TIME', 'HRR' , 'HEIGHT' , 'AREA' , 'CO_YIELD' , 'SOOT_YIELD' , 'HCN_YIELD' , 'HCL_YIELD' , 'TRACE_YIELD'  /\"))","v":"&TABL ID = 'FP.C1.X.1.3125' LABELS = 'TIME', 'HRR' , 'HEIGHT' , 'AREA' , 'CO_YIELD' , 'SOOT_YIELD' , 'HCN_YIELD' , 'HCL_YIELD' , 'TRACE_YIELD'  /"},{"$f":"IF(OR(H11<$E$2,H11>$C$2),\"\",CONCATENATE(\"&TABL ID = 'FP.\",zadani!$G$6,\".Y.\",I11,\"' LABELS = 'TIME', 'HRR' , 'HEIGHT' , 'AREA' , 'CO_YIELD' , 'SOOT_YIELD' , 'HCN_YIELD' , 'HCL_YIELD' , 'TRACE_YIELD'  /\"))","v":"&TABL ID = 'FP.C1.Y.1.3125' LABELS = 'TIME', 'HRR' , 'HEIGHT' , 'AREA' , 'CO_YIELD' , 'SOOT_YIELD' , 'HCN_YIELD' , 'HCL_YIELD' , 'TRACE_YIELD'  /"},{"$f":"CONCATENATE(\"&TABL ID = 'FP.\",zadani!$G$6,\".Z.\",E38,\"' LABELS = 'TIME', 'HRR' , 'HEIGHT' , 'AREA' , 'CO_YIELD' , 'SOOT_YIELD' , 'HCN_YIELD' , 'HCL_YIELD' , 'TRACE_YIELD'  /\")","v":"&TABL ID = 'FP.C1.Z.0.01' LABELS = 'TIME', 'HRR' , 'HEIGHT' , 'AREA' , 'CO_YIELD' , 'SOOT_YIELD' , 'HCN_YIELD' , 'HCL_YIELD' , 'TRACE_YIELD'  /"}]
[null,"HRR x (A,C)",{"$f":"zadani!F30","v":0},{"$f":"zadani!G30*$C$3*$C$4","v":0},{"$f":"SUBSTITUTE(D13,\",\",\".\")","v":"0"},null,null,null,null,{"$f":"IF(OR(H11<$E$2,H11>$C$2),\"\",CONCATENATE(\"&TABL ID = 'FP.\",zadani!$G$6,\".X.\",I11,\"', DATA = \",$C$13,\", \",$E$13,\", \",I11,\", \",$E$31,\", \",$E$32,\", \",$E$33,\", \",$E$34,\", \",$E$35,\", \",$E$36,\" /\"))","v":"&TABL ID = 'FP.C1.X.1.3125', DATA = 0, 0, 1.3125, 0.1, 0, 0, 0, 0, 0 /"},{"$f":"IF(OR(H11<$E$2,H11>$C$2),\"\",CONCATENATE(\"&TABL ID = 'FP.\",zadani!$G$6,\".Y.\",I11,\"', DATA = \",$C$19,\", \",$E$19,\", \",I11,\", \",$E$31,\", \",$E$32,\", \",$E$33,\", \",$E$34,\", \",$E$35,\", \",$E$36,\" /\"))","v":"&TABL ID = 'FP.C1.Y.1.3125', DATA = 0, 0, 1.3125, 0.1, 0, 0, 0, 0, 0 /"},{"$f":"CONCATENATE(\"&TABL ID = 'FP.\",zadani!$G$6,\".Z.\",E38,\"', DATA = \",$C$13,\", \",$E$25,\", \",E38,\", \",$E$31,\", \",$E$32,\", \",$E$33,\", \",$E$34,\", \",$E$35,\", \",$E$36,\" /\")","v":"&TABL ID = 'FP.C1.Z.0.01', DATA = 0, 0, 0.01, 0.1, 0, 0, 0, 0, 0 /"}]
[null,null,{"$f":"zadani!F31","v":60},{"$f":"zadani!G31*$C$3*$C$4","v":183.75},"183.75",null,null,null,null,{"$f":"IF(OR(H11<$E$2,H11>$C$2),\"\",CONCATENATE(\"&TABL ID = 'FP.\",zadani!$G$6,\".X.\",I11,\"', DATA = \",$C$14,\", \",$E$14,\", \",I11,\", \",$E$31,\", \",$E$32,\", \",$E$33,\", \",$E$34,\", \",$E$35,\", \",$E$36,\" /\"))","v":"&TABL ID = 'FP.C1.X.1.3125', DATA = 60, 183.75, 1.3125, 0.1, 0, 0, 0, 0, 0 /"},{"$f":"IF(OR(H11<$E$2,H11>$C$2),\"\",CONCATENATE(\"&TABL ID = 'FP.\",zadani!$G$6,\".Y.\",I11,\"', DATA = \",$C$20,\", \",$E$20,\", \",I11,\", \",$E$31,\", \",$E$32,\", \",$E$33,\", \",$E$34,\", \",$E$35,\", \",$E$36,\" /\"))","v":"&TABL ID = 'FP.C1.Y.1.3125', DATA = 60, 183.75, 1.3125, 0.1, 0, 0, 0, 0, 0 /"},{"$f":"CONCATENATE(\"&TABL ID = 'FP.\",zadani!$G$6,\".Z.\",E38,\"', DATA = \",$C$14,\", \",$E$26,\", \",E38,\", \",$E$31,\", \",$E$32,\", \",$E$33,\", \",$E$34,\", \",$E$35,\", \",$E$36,\" /\")","v":"&TABL ID = 'FP.C1.Z.0.01', DATA = 60, 210, 0.01, 0.1, 0, 0, 0, 0, 0 /"}]
[null,null,{"$f":"zadani!F32","v":400},{"$f":"zadani!G32*$C$3*$C$4","v":87.5},"87.5",null,null,null,null,{"$f":"IF(OR(H11<$E$2,H11>$C$2),\"\",CONCATENATE(\"&TABL ID = 'FP.\",zadani!$G$6,\".X.\",I11,\"', DATA = \",$C$15,\", \",$E$15,\", \",I11,\", \",$E$31,\", \",$E$32,\", \",$E$33,\", \",$E$34,\", \",$E$35,\", \",$E$36,\" /\"))","v":"&TABL ID = 'FP.C1.X.1.3125', DATA = 400, 87.5, 1.3125, 0.1, 0, 0, 0, 0, 0 /"},{"$f":"IF(OR(H11<$E$2,H11>$C$2),\"\",CONCATENATE(\"&TABL ID = 'FP.\",zadani!$G$6,\".Y.\",I11,\"', DATA = \",$C$21,\", \",$E$21,\", \",I11,\", \",$E$31,\", \",$E$32,\", \",$E$33,\", \",$E$34,\", \",$E$35,\", \",$E$36,\" /\"))","v":"&TABL ID = 'FP.C1.Y.1.3125', DATA = 400, 87.5, 1.3125, 0.1, 0, 0, 0, 0, 0 /"},{"$f":"CONCATENATE(\"&TABL ID = 'FP.\",zadani!$G$6,\".Z.\",E38,\"', DATA = \",$C$15,\", \",$E$27,\", \",E38,\", \",$E$31,\", \",$E$32,\", \",$E$33,\", \",$E$34,\", \",$E$35,\", \",$E$36,\" /\")","v":"&TABL ID = 'FP.C1.Z.0.01', DATA = 400, 100, 0.01, 0.1, 0, 0, 0, 0, 0 /"}]
[null,null,{"$f":"zadani!F33","v":750},{"$f":"zadani!G33*$C$3*$C$4","v":157.5},"157.5",null,null,null,null,{"$f":"IF(OR(H11<$E$2,H11>$C$2),\"\",CONCATENATE(\"&TABL ID = 'FP.\",zadani!$G$6,\".X.\",I11,\"', DATA = \",$C$16,\", \",$E$16,\", \",I11,\", \",$E$31,\", \",$E$32,\", \",$E$33,\", \",$E$34,\", \",$E$35,\", \",$E$36,\" /\"))","v":"&TABL ID = 'FP.C1.X.1.3125', DATA = 750, 157.5, 1.3125, 0.1, 0, 0, 0, 0, 0 /"},{"$f":"IF(OR(H11<$E$2,H11>$C$2),\"\",CONCATENATE(\"&TABL ID = 'FP.\",zadani!$G$6,\".Y.\",I11,\"', DATA = \",$C$22,\", \",$E$22,\", \",I11,\", \",$E$31,\", \",$E$32,\", \",$E$33,\", \",$E$34,\", \",$E$35,\", \",$E$36,\" /\"))","v":"&TABL ID = 'FP.C1.Y.1.3125', DATA = 750, 157.5, 1.3125, 0.1, 0, 0, 0, 0, 0 /"},{"$f":"CONCATENATE(\"&TABL ID = 'FP.\",zadani!$G$6,\".Z.\",E38,\"', DATA = \",$C$16,\", \",$E$28,\", \",E38,\", \",$E$31,\", \",$E$32,\", \",$E$33,\", \",$E$34,\", \",$E$35,\", \",$E$36,\" /\")","v":"&TABL ID = 'FP.C1.Z.0.01', DATA = 750, 180, 0.01, 0.1, 0, 0, 0, 0, 0 /"}]
[null,null,{"$f":"zadani!F34","v":1000},{"$f":"zadani!G34*$C$3*$C$4","v":43.75},"43.75",null,null,null,null,{"$f":"IF(OR(H11<$E$2,H11>$C$2),\"\",CONCATENATE(\"&TABL ID = 'FP.\",zadani!$G$6,\".X.\",I11,\"', DATA = \",$C$17,\", \",$E$17,\", \",I11,\", \",$E$31,\", \",$E$32,\", \",$E$33,\", \",$E$34,\", \",$E$35,\", \",$E$36,\" /\"))","v":"&TABL ID = 'FP.C1.X.1.3125', DATA = 1000, 43.75, 1.3125, 0.1, 0, 0, 0, 0, 0 /"},{"$f":"IF(OR(H11<$E$2,H11>$C$2),\"\",CONCATENATE(\"&TABL ID = 'FP.\",zadani!$G$6,\".Y.\",I11,\"', DATA = \",$C$23,\", \",$E$23,\", \",I11,\", \",$E$31,\", \",$E$32,\", \",$E$33,\", \",$E$34,\", \",$E$35,\", \",$E$36,\" /\"))","v":"&TABL ID = 'FP.C1.Y.1.3125', DATA = 1000, 43.75, 1.3125, 0.1, 0, 0, 0, 0, 0 /"},{"$f":"CONCATENATE(\"&TABL ID = 'FP.\",zadani!$G$6,\".Z.\",E38,\"', DATA = \",$C$17,\", \",$E$29,\", \",E38,\", \",$E$31,\", \",$E$32,\", \",$E$33,\", \",$E$34,\", \",$E$35,\", \",$E$36,\" /\")","v":"&TABL ID = 'FP.C1.Z.0.01', DATA = 1000, 50, 0.01, 0.1, 0, 0, 0, 0, 0 /"}]
[null,null,{"$f":"zadani!F35","v":1010},{"$f":"zadani!G35*$C$3*$C$4","v":43.75},{"$f":"SUBSTITUTE(D18,\",\",\".\")","v":"43.75"},null,null,null,null,{"$f":"IF(OR(H11<$E$2,H11>$C$2),\"\",CONCATENATE(\"&TABL ID = 'FP.\",zadani!$G$6,\".X.\",I11,\"', DATA = \",$C$18,\", \",$E$18,\", \",I11,\", \",$E$31,\", \",$E$32,\", \",$E$33,\", \",$E$34,\", \",$E$35,\", \",$E$36,\" /\"))","v":"&TABL ID = 'FP.C1.X.1.3125', DATA = 1010, 43.75, 1.3125, 0.1, 0, 0, 0, 0, 0 /"},{"$f":"IF(OR(H11<$E$2,H11>$C$2),\"\",CONCATENATE(\"&TABL ID = 'FP.\",zadani!$G$6,\".Y.\",I11,\"', DATA = \",$C$24,\", \",$E$24,\", \",I11,\", \",$E$31,\", \",$E$32,\", \",$E$33,\", \",$E$34,\", \",$E$35,\", \",$E$36,\" /\"))","v":"&TABL ID = 'FP.C1.Y.1.3125', DATA = 1010, 43.75, 1.3125, 0.1, 0, 0, 0, 0, 0 /"},{"$f":"CONCATENATE(\"&TABL ID = 'FP.\",zadani!$G$6,\".Z.\",E38,\"', DATA = \",$C$18,\", \",$E$30,\", \",E38,\", \",$E$31,\", \",$E$32,\", \",$E$33,\", \",$E$34,\", \",$E$35,\", \",$E$36,\" /\")","v":"&TABL ID = 'FP.C1.Z.0.01', DATA = 1010, 50, 0.01, 0.1, 0, 0, 0, 0, 0 /"}]
[null,"HRR y (B,D)",{"$f":"zadani!F30","v":0},{"$f":"zadani!G30*$C$3*$C$5","v":0},{"$f":"SUBSTITUTE(D19,\",\",\".\")","v":"0"},null,{"$f":"G11+1","v":3},{"$f":"H11+$C$3","v":2.1875},{"$f":"SUBSTITUTE(H19,\",\",\".\")","v":"2.1875"},{"$f":"IF(OR(H19<$E$2,H19>$C$2),\"\",CONCATENATE(\"&CHEM ID = 'FP.\",zadani!$G$6,\".X.\",I19,\"' CARBON = \",$E$6,\" CHLORINE = \",$E$7,\" HYDROGEN = \",$E$8,\" NITROGEN = \",$E$9,\" OXYGEN = \",$E$10,\" HEAT_OF_COMBUSTION = \",$E$11,\" RADIATIVE_FRACTION = \",$E$12,\" /\"))","v":"&CHEM ID = 'FP.C1.X.2.1875' CARBON = 39.3 CHLORINE = 0 HYDROGEN = 4.7 NITROGEN = 0.4 OXYGEN = 34.1 HEAT_OF_COMBUSTION = 14277 RADIATIVE_FRACTION = 0.35 /"},{"$f":"IF(OR(H19<$E$2,H19>$C$2),\"\",CONCATENATE(\"&CHEM ID = 'FP.\",zadani!$G$6,\".Y.\",I19,\"' CARBON = \",$E$6,\" CHLORINE = \",$E$7,\" HYDROGEN = \",$E$8,\" NITROGEN = \",$E$9,\" OXYGEN = \",$E$10,\" HEAT_OF_COMBUSTION = \",$E$11,\" RADIATIVE_FRACTION = \",$E$12,\" /\"))","v":"&CHEM ID = 'FP.C1.Y.2.1875' CARBON = 39.3 CHLORINE = 0 HYDROGEN = 4.7 NITROGEN = 0.4 OXYGEN = 34.1 HEAT_OF_COMBUSTION = 14277 RADIATIVE_FRACTION = 0.35 /"}]
[null,null,{"$f":"zadani!F31","v":60},{"$f":"zadani!G31*$C$3*$C$5","v":183.75},{"$f":"SUBSTITUTE(D20,\",\",\".\")","v":"183.75"},null,null,null,null,{"$f":"IF(OR(H19<$E$2,H19>$C$2),\"\",CONCATENATE(\"&TABL ID = 'FP.\",zadani!$G$6,\".X.\",I19,\"' LABELS = 'TIME', 'HRR' , 'HEIGHT' , 'AREA' , 'CO_YIELD' , 'SOOT_YIELD' , 'HCN_YIELD' , 'HCL_YIELD' , 'TRACE_YIELD'  /\"))","v":"&TABL ID = 'FP.C1.X.2.1875' LABELS = 'TIME', 'HRR' , 'HEIGHT' , 'AREA' , 'CO_YIELD' , 'SOOT_YIELD' , 'HCN_YIELD' , 'HCL_YIELD' , 'TRACE_YIELD'  /"},{"$f":"IF(OR(H19<$E$2,H19>$C$2),\"\",CONCATENATE(\"&TABL ID = 'FP.\",zadani!$G$6,\".Y.\",I19,\"' LABELS = 'TIME', 'HRR' , 'HEIGHT' , 'AREA' , 'CO_YIELD' , 'SOOT_YIELD' , 'HCN_YIELD' , 'HCL_YIELD' , 'TRACE_YIELD'  /\"))","v":"&TABL ID = 'FP.C1.Y.2.1875' LABELS = 'TIME', 'HRR' , 'HEIGHT' , 'AREA' , 'CO_YIELD' , 'SOOT_YIELD' , 'HCN_YIELD' , 'HCL_YIELD' , 'TRACE_YIELD'  /"}]
[null,null,{"$f":"zadani!F32","v":400},{"$f":"zadani!G32*$C$3*$C$5","v":87.5},{"$f":"SUBSTITUTE(D21,\",\",\".\")","v":"87.5"},null,null,null,null,{"$f":"IF(OR(H19<$E$2,H19>$C$2),\"\",CONCATENATE(\"&TABL ID = 'FP.\",zadani!$G$6,\".X.\",I19,\"', DATA = \",$C$13,\", \",$E$13,\", \",I19,\", \",$E$31,\", \",$E$32,\", \",$E$33,\", \",$E$34,\", \",$E$35,\", \",$E$36,\" /\"))","v":"&TABL ID = 'FP.C1.X.2.1875', DATA = 0, 0, 2.1875, 0.1, 0, 0, 0, 0, 0 /"},{"$f":"IF(OR(H19<$E$2,H19>$C$2),\"\",CONCATENATE(\"&TABL ID = 'FP.\",zadani!$G$6,\".Y.\",I19,\"', DATA = \",$C$19,\", \",$E$19,\", \",I19,\", \",$E$31,\", \",$E$32,\", \",$E$33,\", \",$E$34,\", \",$E$35,\", \",$E$36,\" /\"))","v":"&TABL ID = 'FP.C1.Y.2.1875', DATA = 0, 0, 2.1875, 0.1, 0, 0, 0, 0, 0 /"}]
[null,null,{"$f":"zadani!F33","v":750},{"$f":"zadani!G33*$C$3*$C$5","v":157.5},{"$f":"SUBSTITUTE(D22,\",\",\".\")","v":"157.5"},null,null,null,null,{"$f":"IF(OR(H19<$E$2,H19>$C$2),\"\",CONCATENATE(\"&TABL ID = 'FP.\",zadani!$G$6,\".X.\",I19,\"', DATA = \",$C$14,\", \",$E$14,\", \",I19,\", \",$E$31,\", \",$E$32,\", \",$E$33,\", \",$E$34,\", \",$E$35,\", \",$E$36,\" /\"))","v":"&TABL ID = 'FP.C1.X.2.1875', DATA = 60, 183.75, 2.1875, 0.1, 0, 0, 0, 0, 0 /"},{"$f":"IF(OR(H19<$E$2,H19>$C$2),\"\",CONCATENATE(\"&TABL ID = 'FP.\",zadani!$G$6,\".Y.\",I19,\"', DATA = \",$C$20,\", \",$E$20,\", \",I19,\", \",$E$31,\", \",$E$32,\", \",$E$33,\", \",$E$34,\", \",$E$35,\", \",$E$36,\" /\"))","v":"&TABL ID = 'FP.C1.Y.2.1875', DATA = 60, 183.75, 2.1875, 0.1, 0, 0, 0, 0, 0 /"}]
[null,null,{"$f":"zadani!F34","v":1000},{"$f":"zadani!G34*$C$3*$C$5","v":43.75},{"$f":"SUBSTITUTE(D23,\",\",\".\")","v":"43.75"},null,null,null,null,{"$f":"IF(OR(H19<$E$2,H19>$C$2),\"\",CONCATENATE(\"&TABL ID = 'FP.\",zadani!$G$6,\".X.\",I19,\"', DATA = \",$C$15,\", \",$E$15,\", \",I19,\", \",$E$31,\", \",$E$32,\", \",$E$33,\", \",$E$34,\", \",$E$35,\", \",$E$36,\" /\"))","v":"&TABL ID = 'FP.C1.X.2.1875', DATA = 400, 87.5, 2.1875, 0.1, 0, 0, 0, 0, 0 /"},{"$f":"IF(OR(H19<$E$2,H19>$C$2),\"\",CONCATENATE(\"&TABL ID = 'FP.\",zadani!$G$6,\".Y.\",I19,\"', DATA = \",$C$21,\", \",$E$21,\", \",I19,\", \",$E$31,\", \",$E$32,\", \",$E$33,\", \",$E$34,\", \",$E$35,\", \",$E$36,\" /\"))","v":"&TABL ID = 'FP.C1.Y.2.1875', DATA = 400, 87.5, 2.1875, 0.1, 0, 0, 0, 0, 0 /"}]
[null,null,{"$f":"zadani!F35","v":1010},{"$f":"zadani!G35*$C$3*$C$5","v":43.75},{"$f":"SUBSTITUTE(D24,\",\",\".\")","v":"43.75"},null,null,null,null,{"$f":"IF(OR(H19<$E$2,H19>$C$2),\"\",CONCATENATE(\"&TABL ID = 'FP.\",zadani!$G$6,\".X.\",I19,\"', DATA = \",$C$16,\", \",$E$16,\", \",I19,\", \",$E$31,\", \",$E$32,\", \",$E$33,\", \",$E$34,\", \",$E$35,\", \",$E$36,\" /\"))","v":"&TABL ID = 'FP.C1.X.2.1875', DATA = 750, 157.5, 2.1875, 0.1, 0, 0, 0, 0, 0 /"},{"$f":"IF(OR(H19<$E$2,H19>$C$2),\"\",CONCATENATE(\"&TABL ID = 'FP.\",zadani!$G$6,\".Y.\",I19,\"', DATA = \",$C$22,\", \",$E$22,\", \",I19,\", \",$E$31,\", \",$E$32,\", \",$E$33,\", \",$E$34,\", \",$E$35,\", \",$E$36,\" /\"))","v":"&TABL ID = 'FP.C1.Y.2.1875', DATA = 750, 157.5, 2.1875, 0.1, 0, 0, 0, 0, 0 /"}]
[null,"HRR z (E,F)",{"$f":"+C13","v":0},{"$f":"zadani!G30*$C$4*$C$5","v":0},{"$f":"SUBSTITUTE(D25,\",\",\".\")","v":"0"},null,null,null,null,{"$f":"IF(OR(H19<$E$2,H19>$C$2),\"\",CONCATENATE(\"&TABL ID = 'FP.\",zadani!$G$6,\".X.\",I19,\"', DATA = \",$C$17,\", \",$E$17,\", \",I19,\", \",$E$31,\", \",$E$32,\", \",$E$33,\", \",$E$34,\", \",$E$35,\", \",$E$36,\" /\"))","v":"&TABL ID = 'FP.C1.X.2.1875', DATA = 1000, 43.75, 2.1875, 0.1, 0, 0, 0, 0, 0 /"},{"$f":"IF(OR(H19<$E$2,H19>$C$2),\"\",CONCATENATE(\"&TABL ID = 'FP.\",zadani!$G$6,\".Y.\",I19,\"', DATA = \",$C$23,\", \",$E$23,\", \",I19,\", \",$E$31,\", \",$E$32,\", \",$E$33,\", \",$E$34,\", \",$E$35,\", \",$E$36,\" /\"))","v":"&TABL ID = 'FP.C1.Y.2.1875', DATA = 1000, 43.75, 2.1875, 0.1, 0, 0, 0, 0, 0 /"}]
[null,null,60,{"$f":"zadani!G31*$C$4*$C$5","v":210},"210",null,null,null,null,{"$f":"IF(OR(H19<$E$2,H19>$C$2),\"\",CONCATENATE(\"&TABL ID = 'FP.\",zadani!$G$6,\".X.\",I19,\"', DATA = \",$C$18,\", \",$E$18,\", \",I19,\", \",$E$31,\", \",$E$32,\", \",$E$33,\", \",$E$34,\", \",$E$35,\", \",$E$36,\" /\"))","v":"&TABL ID = 'FP.C1.X.2.1875', DATA = 1010, 43.75, 2.1875, 0.1, 0, 0, 0, 0, 0 /"},{"$f":"IF(OR(H19<$E$2,H19>$C$2),\"\",CONCATENATE(\"&TABL ID = 'FP.\",zadani!$G$6,\".Y.\",I19,\"', DATA = \",$C$24,\", \",$E$24,\", \",I19,\", \",$E$31,\", \",$E$32,\", \",$E$33,\", \",$E$34,\", \",$E$35,\", \",$E$36,\" /\"))","v":"&TABL ID = 'FP.C1.Y.2.1875', DATA = 1010, 43.75, 2.1875, 0.1, 0, 0, 0, 0, 0 /"}]
[null,null,400,{"$f":"zadani!G32*$C$4*$C$5","v":100},"100",null,{"$f":"G19+1","v":4},{"$f":"H19+$C$3","v":3.0625},{"$f":"SUBSTITUTE(H27,\",\",\".\")","v":"3.0625"},{"$f":"IF(OR(H27<$E$2,H27>$C$2),\"\",CONCATENATE(\"&CHEM ID = 'FP.\",zadani!$G$6,\".X.\",I27,\"' CARBON = \",$E$6,\" CHLORINE = \",$E$7,\" HYDROGEN = \",$E$8,\" NITROGEN = \",$E$9,\" OXYGEN = \",$E$10,\" HEAT_OF_COMBUSTION = \",$E$11,\" RADIATIVE_FRACTION = \",$E$12,\" /\"))","v":"&CHEM ID = 'FP.C1.X.3.0625' CARBON = 39.3 CHLORINE = 0 HYDROGEN = 4.7 NITROGEN = 0.4 OXYGEN = 34.1 HEAT_OF_COMBUSTION = 14277 RADIATIVE_FRACTION = 0.35 /"},{"$f":"IF(OR(H27<$E$2,H27>$C$2),\"\",CONCATENATE(\"&CHEM ID = 'FP.\",zadani!$G$6,\".Y.\",I27,\"' CARBON = \",$E$6,\" CHLORINE = \",$E$7,\" HYDROGEN = \",$E$8,\" NITROGEN = \",$E$9,\" OXYGEN = \",$E$10,\" HEAT_OF_COMBUSTION = \",$E$11,\" RADIATIVE_FRACTION = \",$E$12,\" /\"))","v":"&CHEM ID = 'FP.C1.Y.3.0625' CARBON = 39.3 CHLORINE = 0 HYDROGEN = 4.7 NITROGEN = 0.4 OXYGEN = 34.1 HEAT_OF_COMBUSTION = 14277 RADIATIVE_FRACTION = 0.35 /"}]
[null,null,750,{"$f":"zadani!G33*$C$4*$C$5","v":180},"180",null,null,null,null,{"$f":"IF(OR(H27<$E$2,H27>$C$2),\"\",CONCATENATE(\"&TABL ID = 'FP.\",zadani!$G$6,\".X.\",I27,\"' LABELS = 'TIME', 'HRR' , 'HEIGHT' , 'AREA' , 'CO_YIELD' , 'SOOT_YIELD' , 'HCN_YIELD' , 'HCL_YIELD' , 'TRACE_YIELD'  /\"))","v":"&TABL ID = 'FP.C1.X.3.0625' LABELS = 'TIME', 'HRR' , 'HEIGHT' , 'AREA' , 'CO_YIELD' , 'SOOT_YIELD' , 'HCN_YIELD' , 'HCL_YIELD' , 'TRACE_YIELD'  /"},{"$f":"IF(OR(H27<$E$2,H27>$C$2),\"\",CONCATENATE(\"&TABL ID = 'FP.\",zadani!$G$6,\".Y.\",I27,\"' LABELS = 'TIME', 'HRR' , 'HEIGHT' , 'AREA' , 'CO_YIELD' , 'SOOT_YIELD' , 'HCN_YIELD' , 'HCL_YIELD' , 'TRACE_YIELD'  /\"))","v":"&TABL ID = 'FP.C1.Y.3.0625' LABELS = 'TIME', 'HRR' , 'HEIGHT' , 'AREA' , 'CO_YIELD' , 'SOOT_YIELD' , 'HCN_YIELD' , 'HCL_YIELD' , 'TRACE_YIELD'  /"}]
[null,null,1000,{"$f":"zadani!G34*$C$4*$C$5","v":50},"50",null,null,null,null,{"$f":"IF(OR(H27<$E$2,H27>$C$2),\"\",CONCATENATE(\"&TABL ID = 'FP.\",zadani!$G$6,\".X.\",I27,\"', DATA = \",$C$13,\", \",$E$13,\", \",I27,\", \",$E$31,\", \",$E$32,\", \",$E$33,\", \",$E$34,\", \",$E$35,\", \",$E$36,\" /\"))","v":"&TABL ID = 'FP.C1.X.3.0625', DATA = 0, 0, 3.0625, 0.1, 0, 0, 0, 0, 0 /"},{"$f":"IF(OR(H27<$E$2,H27>$C$2),\"\",CONCATENATE(\"&TABL ID = 'FP.\",zadani!$G$6,\".Y.\",I27,\"', DATA = \",$C$19,\", \",$E$19,\", \",I27,\", \",$E$31,\", \",$E$32,\", \",$E$33,\", \",$E$34,\", \",$E$35,\", \",$E$36,\" /\"))","v":"&TABL ID = 'FP.C1.Y.3.0625', DATA = 0, 0, 3.0625, 0.1, 0, 0, 0, 0, 0 /"}]
[null,null,1010,{"$f":"zadani!G35*$C$4*$C$5","v":50},"50",null,null,null,null,{"$f":"IF(OR(H27<$E$2,H27>$C$2),\"\",CONCATENATE(\"&TABL ID = 'FP.\",zadani!$G$6,\".X.\",I27,\"', DATA = \",$C$14,\", \",$E$14,\", \",I27,\", \",$E$31,\", \",$E$32,\", \",$E$33,\", \",$E$34,\", \",$E$35,\", \",$E$36,\" /\"))","v":"&TABL ID = 'FP.C1.X.3.0625', DATA = 60, 183.75, 3.0625, 0.1, 0, 0, 0, 0, 0 /"},{"$f":"IF(OR(H27<$E$2,H27>$C$2),\"\",CONCATENATE(\"&TABL ID = 'FP.\",zadani!$G$6,\".Y.\",I27,\"', DATA = \",$C$20,\", \",$E$20,\", \",I27,\", \",$E$31,\", \",$E$32,\", \",$E$33,\", \",$E$34,\", \",$E$35,\", \",$E$36,\" /\"))","v":"&TABL ID = 'FP.C1.Y.3.0625', DATA = 60, 183.75, 3.0625, 0.1, 0, 0, 0, 0, 0 /"}]
[null,{"$f":"zadani!B36","v":"půdorysná plocha"},{"$f":"zadani!C36","v":0.1},null,{"$f":"SUBSTITUTE(C31,\",\",\".\")","v":"0.1"},null,null,null,null,{"$f":"IF(OR(H27<$E$2,H27>$C$2),\"\",CONCATENATE(\"&TABL ID = 'FP.\",zadani!$G$6,\".X.\",I27,\"', DATA = \",$C$15,\", \",$E$15,\", \",I27,\", \",$E$31,\", \",$E$32,\", \",$E$33,\", \",$E$34,\", \",$E$35,\", \",$E$36,\" /\"))","v":"&TABL ID = 'FP.C1.X.3.0625', DATA = 400, 87.5, 3.0625, 0.1, 0, 0, 0, 0, 0 /"},{"$f":"IF(OR(H27<$E$2,H27>$C$2),\"\",CONCATENATE(\"&TABL ID = 'FP.\",zadani!$G$6,\".Y.\",I27,\"', DATA = \",$C$21,\", \",$E$21,\", \",I27,\", \",$E$31,\", \",$E$32,\", \",$E$33,\", \",$E$34,\", \",$E$35,\", \",$E$36,\" /\"))","v":"&TABL ID = 'FP.C1.Y.3.0625', DATA = 400, 87.5, 3.0625, 0.1, 0, 0, 0, 0, 0 /"}]
[null,{"$f":"zadani!B37","v":"vypouštění CO"},{"$f":"zadani!C37","v":0},null,"0",null,null,null,null,{"$f":"IF(OR(H27<$E$2,H27>$C$2),\"\",CONCATENATE(\"&TABL ID = 'FP.\",zadani!$G$6,\".X.\",I27,\"', DATA = \",$C$16,\", \",$E$16,\", \",I27,\", \",$E$31,\", \",$E$32,\", \",$E$33,\", \",$E$34,\", \",$E$35,\", \",$E$36,\" /\"))","v":"&TABL ID = 'FP.C1.X.3.0625', DATA = 750, 157.5, 3.0625, 0.1, 0, 0, 0, 0, 0 /"},{"$f":"IF(OR(H27<$E$2,H27>$C$2),\"\",CONCATENATE(\"&TABL ID = 'FP.\",zadani!$G$6,\".Y.\",I27,\"', DATA = \",$C$22,\", \",$E$22,\", \",I27,\", \",$E$31,\", \",$E$32,\", \",$E$33,\", \",$E$34,\", \",$E$35,\", \",$E$36,\" /\"))","v":"&TABL ID = 'FP.C1.Y.3.0625', DATA = 750, 157.5, 3.0625, 0.1, 0, 0, 0, 0, 0 /"}]
[null,{"$f":"zadani!B38","v":"vypouštění sazí"},{"$f":"zadani!C38","v":0},null,"0",null,null,null,null,{"$f":"IF(OR(H27<$E$2,H27>$C$2),\"\",CONCATENATE(\"&TABL ID = 'FP.\",zadani!$G$6,\".X.\",I27,\"', DATA = \",$C$17,\", \",$E$17,\", \",I27,\", \",$E$31,\", \",$E$32,\", \",$E$33,\", \",$E$34,\", \",$E$35,\", \",$E$36,\" /\"))","v":"&TABL ID = 'FP.C1.X.3.0625', DATA = 1000, 43.75, 3.0625, 0.1, 0, 0, 0, 0, 0 /"},{"$f":"IF(OR(H27<$E$2,H27>$C$2),\"\",CONCATENATE(\"&TABL ID = 'FP.\",zadani!$G$6,\".Y.\",I27,\"', DATA = \",$C$23,\", \",$E$23,\", \",I27,\", \",$E$31,\", \",$E$32,\", \",$E$33,\", \",$E$34,\", \",$E$35,\", \",$E$36,\" /\"))","v":"&TABL ID = 'FP.C1.Y.3.0625', DATA = 1000, 43.75, 3.0625, 0.1, 0, 0, 0, 0, 0 /"}]
[null,{"$f":"zadani!B39","v":"vypouštění HCN"},{"$f":"zadani!C39","v":0},null,"0",null,null,null,null,{"$f":"IF(OR(H27<$E$2,H27>$C$2),\"\",CONCATENATE(\"&TABL ID = 'FP.\",zadani!$G$6,\".X.\",I27,\"', DATA = \",$C$18,\", \",$E$18,\", \",I27,\", \",$E$31,\", \",$E$32,\", \",$E$33,\", \",$E$34,\", \",$E$35,\", \",$E$36,\" /\"))","v":"&TABL ID = 'FP.C1.X.3.0625', DATA = 1010, 43.75, 3.0625, 0.1, 0, 0, 0, 0, 0 /"},{"$f":"IF(OR(H27<$E$2,H27>$C$2),\"\",CONCATENATE(\"&TABL ID = 'FP.\",zadani!$G$6,\".Y.\",I27,\"', DATA = \",$C$24,\", \",$E$24,\", \",I27,\", \",$E$31,\", \",$E$32,\", \",$E$33,\", \",$E$34,\", \",$E$35,\", \",$E$36,\" /\"))","v":"&TABL ID = 'FP.C1.Y.3.0625', DATA = 1010, 43.75, 3.0625, 0.1, 0, 0, 0, 0, 0 /"}]
[null,{"$f":"zadani!B40","v":"vypouštění HCL"},{"$f":"zadani!C40","v":0},null,"0",null,{"$f":"G27+1","v":5},{"$f":"H27+$C$3","v":3.9375},{"$f":"SUBSTITUTE(H35,\",\",\".\")","v":"3.9375"},{"$f":"IF(OR(H35<$E$2,H35>$C$2),\"\",CONCATENATE(\"&CHEM ID = 'FP.\",zadani!$G$6,\".X.\",I35,\"' CARBON = \",$E$6,\" CHLORINE = \",$E$7,\" HYDROGEN = \",$E$8,\" NITROGEN = \",$E$9,\" OXYGEN = \",$E$10,\" HEAT_OF_COMBUSTION = \",$E$11,\" RADIATIVE_FRACTION = \",$E$12,\" /\"))","v":""},{"$f":"IF(OR(H35<$E$2,H35>$C$2),\"\",CONCATENATE(\"&CHEM ID = 'FP.\",zadani!$G$6,\".Y.\",I35,\"' CARBON = \",$E$6,\" CHLORINE = \",$E$7,\" HYDROGEN = \",$E$8,\" NITROGEN = \",$E$9,\" OXYGEN = \",$E$10,\" HEAT_OF_COMBUSTION = \",$E$11,\" RADIATIVE_FRACTION = \",$E$12,\" /\"))","v":""}]
[null,{"$f":"zadani!B41","v":"vypouštění stopy"},{"$f":"zadani!C41","v":0},null,"0",null,null,null,null,{"$f":"IF(OR(H35<$E$2,H35>$C$2),\"\",CONCATENATE(\"&TABL ID = 'FP.\",zadani!$G$6,\".X.\",I35,\"' LABELS = 'TIME', 'HRR' , 'HEIGHT' , 'AREA' , 'CO_YIELD' , 'SOOT_YIELD' , 'HCN_YIELD' , 'HCL_YIELD' , 'TRACE_YIELD'  /\"))","v":""},{"$f":"IF(OR(H35<$E$2,H35>$C$2),\"\",CONCATENATE(\"&TABL ID = 'FP.\",zadani!$G$6,\".Y.\",I35,\"' LABELS = 'TIME', 'HRR' , 'HEIGHT' , 'AREA' , 'CO_YIELD' , 'SOOT_YIELD' , 'HCN_YIELD' , 'HCL_YIELD' , 'TRACE_YIELD'  /\"))","v":""},null,null,null,null,null,null,null,null,{"$f":"IF(P36=\"stena\",IF(#REF!>$C$2,\"\",CONCATENATE(\"&FIRE ID = 'F1.\",G21,\"'  COMP_ID = '\",$C$7,\"', FIRE_ID = 'FP\",K36,\"'  LOCATION = \",I21,\", \",#REF!,\" /\")),\"\")","v":""}]
[null,"odstup strop",{"$f":"C2-zadani!G14","v":3.4},null,"3.4",null,null,null,null,{"$f":"IF(OR(H35<$E$2,H35>$C$2),\"\",CONCATENATE(\"&TABL ID = 'FP.\",zadani!$G$6,\".X.\",I35,\"', DATA = \",$C$13,\", \",$E$13,\", \",I35,\", \",$E$31,\", \",$E$32,\", \",$E$33,\", \",$E$34,\", \",$E$35,\", \",$E$36,\" /\"))","v":""},{"$f":"IF(OR(H35<$E$2,H35>$C$2),\"\",CONCATENATE(\"&TABL ID = 'FP.\",zadani!$G$6,\".Y.\",I35,\"', DATA = \",$C$19,\", \",$E$19,\", \",I35,\", \",$E$31,\", \",$E$32,\", \",$E$33,\", \",$E$34,\", \",$E$35,\", \",$E$36,\" /\"))","v":""},null,null,null,null,null,null,null,null,{"$f":"IF(P37=\"stena\",IF(#REF!>$C$2,\"\",CONCATENATE(\"&FIRE ID = 'F1.\",G22,\"'  COMP_ID = '\",$C$7,\"', FIRE_ID = 'FP\",K37,\"'  LOCATION = \",I22,\", \",#REF!,\" /\")),\"\")","v":""}]
[null,"odstup podlaha",{"$f":"zadani!G15","v":0.01},null,"0.01",null,null,null,null,{"$f":"IF(OR(H35<$E$2,H35>$C$2),\"\",CONCATENATE(\"&TABL ID = 'FP.\",zadani!$G$6,\".X.\",I35,\"', DATA = \",$C$14,\", \",$E$14,\", \",I35,\", \",$E$31,\", \",$E$32,\", \",$E$33,\", \",$E$34,\", \",$E$35,\", \",$E$36,\" /\"))","v":""},{"$f":"IF(OR(H35<$E$2,H35>$C$2),\"\",CONCATENATE(\"&TABL ID = 'FP.\",zadani!$G$6,\".Y.\",I35,\"', DATA = \",$C$20,\", \",$E$20,\", \",I35,\", \",$E$31,\", \",$E$32,\", \",$E$33,\", \",$E$34,\", \",$E$35,\", \",$E$36,\" /\"))","v":""},null,null,null,null,null,null,null,null,{"$f":"IF(P38=\"stena\",IF(#REF!>$C$2,\"\",CONCATENATE(\"&FIRE ID = 'F1.\",G23,\"'  COMP_ID = '\",$C$7,\"', FIRE_ID = 'FP\",K38,\"'  LOCATION = \",I23,\", \",#REF!,\" /\")),\"\")","v":""}]
[null,null,null,null,null,null,null,null,null,{"$f":"IF(OR(H35<$E$2,H35>$C$2),\"\",CONCATENATE(\"&TABL ID = 'FP.\",zadani!$G$6,\".X.\",I35,\"', DATA = \",$C$15,\", \",$E$15,\", \",I35,\", \",$E$31,\", \",$E$32,\", \",$E$33,\", \",$E$34,\", \",$E$35,\", \",$E$36,\" /\"))","v":""},{"$f":"IF(OR(H35<$E$2,H35>$C$2),\"\",CONCATENATE(\"&TABL ID = 'FP.\",zadani!$G$6,\".Y.\",I35,\"', DATA = \",$C$21,\", \",$E$21,\", \",I35,\", \",$E$31,\", \",$E$32,\", \",$E$33,\", \",$E$34,\", \",$E$35,\", \",$E$36,\" /\"))","v":""},null,null,null,null,null,null,null,null,{"$f":"IF(P39=\"stena\",IF(#REF!>$C$2,\"\",CONCATENATE(\"&FIRE ID = 'F1.\",G24,\"'  COMP_ID = '\",$C$7,\"', FIRE_ID = 'FP\",K39,\"'  LOCATION = \",I24,\", \",#REF!,\" /\")),\"\")","v":""}]
[null,null,null,null,null,null,null,null,null,{"$f":"IF(OR(H35<$E$2,H35>$C$2),\"\",CONCATENATE(\"&TABL ID = 'FP.\",zadani!$G$6,\".X.\",I35,\"', DATA = \",$C$16,\", \",$E$16,\", \",I35,\", \",$E$31,\", \",$E$32,\", \",$E$33,\", \",$E$34,\", \",$E$35,\", \",$E$36,\" /\"))","v":""},{"$f":"IF(OR(H35<$E$2,H35>$C$2),\"\",CONCATENATE(\"&TABL ID = 'FP.\",zadani!$G$6,\".Y.\",I35,\"', DATA = \",$C$22,\", \",$E$22,\", \",I35,\", \",$E$31,\", \",$E$32,\", \",$E$33,\", \",$E$34,\", \",$E$35,\", \",$E$36,\" /\"))","v":""},null,null,null,null,null,null,null,null,{"$f":"IF(P40=\"stena\",IF(#REF!>$C$2,\"\",CONCATENATE(\"&FIRE ID = 'F1.\",G25,\"'  COMP_ID = '\",$C$7,\"', FIRE_ID = 'FP\",K40,\"'  LOCATION = \",I25,\", \",#REF!,\" /\")),\"\")","v":""}]
[null,null,null,null,null,null,null,null,null,{"$f":"IF(OR(H35<$E$2,H35>$C$2),\"\",CONCATENATE(\"&TABL ID = 'FP.\",zadani!$G$6,\".X.\",I35,\"', DATA = \",$C$17,\", \",$E$17,\", \",I35,\", \",$E$31,\", \",$E$32,\", \",$E$33,\", \",$E$34,\", \",$E$35,\", \",$E$36,\" /\"))","v":""},{"$f":"IF(OR(H35<$E$2,H35>$C$2),\"\",CONCATENATE(\"&TABL ID = 'FP.\",zadani!$G$6,\".Y.\",I35,\"', DATA = \",$C$23,\", \",$E$23,\", \",I35,\", \",$E$31,\", \",$E$32,\", \",$E$33,\", \",$E$34,\", \",$E$35,\", \",$E$36,\" /\"))","v":""},null,null,null,null,null,null,null,null,{"$f":"IF(P41=\"stena\",IF(#REF!>$C$2,\"\",CONCATENATE(\"&FIRE ID = 'F1.\",G26,\"'  COMP_ID = '\",$C$7,\"', FIRE_ID = 'FP\",K41,\"'  LOCATION = \",I26,\", \",#REF!,\" /\")),\"\")","v":""}]
[null,null,null,null,null,null,null,null,null,{"$f":"IF(OR(H35<$E$2,H35>$C$2),\"\",CONCATENATE(\"&TABL ID = 'FP.\",zadani!$G$6,\".X.\",I35,\"', DATA = \",$C$18,\", \",$E$18,\", \",I35,\", \",$E$31,\", \",$E$32,\", \",$E$33,\", \",$E$34,\", \",$E$35,\", \",$E$36,\" /\"))","v":""},{"$f":"IF(OR(H35<$E$2,H35>$C$2),\"\",CONCATENATE(\"&TABL ID = 'FP.\",zadani!$G$6,\".Y.\",I35,\"', DATA = \",$C$24,\", \",$E$24,\", \",I35,\", \",$E$31,\", \",$E$32,\", \",$E$33,\", \",$E$34,\", \",$E$35,\", \",$E$36,\" /\"))","v":""},null,null,null,null,null,null,null,null,{"$f":"IF(P42=\"stena\",IF(#REF!>$C$2,\"\",CONCATENATE(\"&FIRE ID = 'F1.\",G27,\"'  COMP_ID = '\",$C$7,\"', FIRE_ID = 'FP\",K42,\"'  LOCATION = \",I27,\", \",#REF!,\" /\")),\"\")","v":""}]
[null,null,null,null,null,null,{"$f":"G35+1","v":6},{"$f":"H35+$C$3","v":4.8125},{"$f":"SUBSTITUTE(H43,\",\",\".\")","v":"4.8125"},{"$f":"IF(OR(H43<$E$2,H43>$C$2),\"\",CONCATENATE(\"&CHEM ID = 'FP.\",zadani!$G$6,\".X.\",I43,\"' CARBON = \",$E$6,\" CHLORINE = \",$E$7,\" HYDROGEN = \",$E$8,\" NITROGEN = \",$E$9,\" OXYGEN = \",$E$10,\" HEAT_OF_COMBUSTION = \",$E$11,\" RADIATIVE_FRACTION = \",$E$12,\" /\"))","v":""},{"$f":"IF(OR(H43<$E$2,H43>$C$2),\"\",CONCATENATE(\"&CHEM ID = 'FP.\",zadani!$G$6,\".Y.\",I43,\"' CARBON = \",$E$6,\" CHLORINE = \",$E$7,\" HYDROGEN = \",$E$8,\" NITROGEN = \",$E$9,\" OXYGEN = \",$E$10,\" HEAT_OF_COMBUSTION = \",$E$11,\" RADIATIVE_FRACTION = \",$E$12,\" /\"))","v":""}]
[null,null,null,null,null,null,null,null,null,{"$f":"IF(OR(H43<$E$2,H43>$C$2),\"\",CONCATENATE(\"&TABL ID = 'FP.\",zadani!$G$6,\".X.\",I43,\"' LABELS = 'TIME', 'HRR' , 'HEIGHT' , 'AREA' , 'CO_YIELD' , 'SOOT_YIELD' , 'HCN_YIELD' , 'HCL_YIELD' , 'TRACE_YIELD'  /\"))","v":""},{"$f":"IF(OR(H43<$E$2,H43>$C$2),\"\",CONCATENATE(\"&TABL ID = 'FP.\",zadani!$G$6,\".Y.\",I43,\"' LABELS = 'TIME', 'HRR' , 'HEIGHT' , 'AREA' , 'CO_YIELD' , 'SOOT_YIELD' , 'HCN_YIELD' , 'HCL_YIELD' , 'TRACE_YIELD'  /\"))","v":""}]
[null,null,null,null,null,null,null,null,null,{"$f":"IF(OR(H43<$E$2,H43>$C$2),\"\",CONCATENATE(\"&TABL ID = 'FP.\",zadani!$G$6,\".X.\",I43,\"', DATA = \",$C$13,\", \",$E$13,\", \",I43,\", \",$E$31,\", \",$E$32,\", \",$E$33,\", \",$E$34,\", \",$E$35,\", \",$E$36,\" /\"))","v":""},{"$f":"IF(OR(H43<$E$2,H43>$C$2),\"\",CONCATENATE(\"&TABL ID = 'FP.\",zadani!$G$6,\".Y.\",I43,\"', DATA = \",$C$19,\", \",$E$19,\", \",I43,\", \",$E$31,\", \",$E$32,\", \",$E$33,\", \",$E$34,\", \",$E$35,\", \",$E$36,\" /\"))","v":""}]
[null,null,null,null,null,null,null,null,null,{"$f":"IF(OR(H43<$E$2,H43>$C$2),\"\",CONCATENATE(\"&TABL ID = 'FP.\",zadani!$G$6,\".X.\",I43,\"', DATA = \",$C$14,\", \",$E$14,\", \",I43,\", \",$E$31,\", \",$E$32,\", \",$E$33,\", \",$E$34,\", \",$E$35,\", \",$E$36,\" /\"))","v":""},{"$f":"IF(OR(H43<$E$2,H43>$C$2),\"\",CONCATENATE(\"&TABL ID = 'FP.\",zadani!$G$6,\".Y.\",I43,\"', DATA = \",$C$20,\", \",$E$20,\", \",I43,\", \",$E$31,\", \",$E$32,\", \",$E$33,\", \",$E$34,\", \",$E$35,\", \",$E$36,\" /\"))","v":""}]
[null,null,null,null,null,null,null,null,null,{"$f":"IF(OR(H43<$E$2,H43>$C$2),\"\",CONCATENATE(\"&TABL ID = 'FP.\",zadani!$G$6,\".X.\",I43,\"', DATA = \",$C$15,\", \",$E$15,\", \",I43,\", \",$E$31,\", \",$E$32,\", \",$E$33,\", \",$E$34,\", \",$E$35,\", \",$E$36,\" /\"))","v":""},{"$f":"IF(OR(H43<$E$2,H43>$C$2),\"\",CONCATENATE(\"&TABL ID = 'FP.\",zadani!$G$6,\".Y.\",I43,\"', DATA = \",$C$21,\", \",$E$21,\", \",I43,\", \",$E$31,\", \",$E$32,\", \",$E$33,\", \",$E$34,\", \",$E$35,\", \",$E$36,\" /\"))","v":""}]
[null,null,null,null,null,null,null,null,null,{"$f":"IF(OR(H43<$E$2,H43>$C$2),\"\",CONCATENATE(\"&TABL ID = 'FP.\",zadani!$G$6,\".X.\",I43,\"', DATA = \",$C$16,\", \",$E$16,\", \",I43,\", \",$E$31,\", \",$E$32,\", \",$E$33,\", \",$E$34,\", \",$E$35,\", \",$E$36,\" /\"))","v":""},{"$f":"IF(OR(H43<$E$2,H43>$C$2),\"\",CONCATENATE(\"&TABL ID = 'FP.\",zadani!$G$6,\".Y.\",I43,\"', DATA = \",$C$22,\", \",$E$22,\", \",I43,\", \",$E$31,\", \",$E$32,\", \",$E$33,\", \",$E$34,\", \",$E$35,\", \",$E$36,\" /\"))","v":""}]
[null,null,null,null,null,null,null,null,null,{"$f":"IF(OR(H43<$E$2,H43>$C$2),\"\",CONCATENATE(\"&TABL ID = 'FP.\",zadani!$G$6,\".X.\",I43,\"', DATA = \",$C$17,\", \",$E$17,\", \",I43,\", \",$E$31,\", \",$E$32,\", \",$E$33,\", \",$E$34,\", \",$E$35,\", \",$E$36,\" /\"))","v":""},{"$f":"IF(OR(H43<$E$2,H43>$C$2),\"\",CONCATENATE(\"&TABL ID = 'FP.\",zadani!$G$6,\".Y.\",I43,\"', DATA = \",$C$23,\", \",$E$23,\", \",I43,\", \",$E$31,\", \",$E$32,\", \",$E$33,\", \",$E$34,\", \",$E$35,\", \",$E$36,\" /\"))","v":""}]
[null,null,null,null,null,null,null,null,null,{"$f":"IF(OR(H43<$E$2,H43>$C$2),\"\",CONCATENATE(\"&TABL ID = 'FP.\",zadani!$G$6,\".X.\",I43,\"', DATA = \",$C$18,\", \",$E$18,\", \",I43,\", \",$E$31,\", \",$E$32,\", \",$E$33,\", \",$E$34,\", \",$E$35,\", \",$E$36,\" /\"))","v":""},{"$f":"IF(OR(H43<$E$2,H43>$C$2),\"\",CONCATENATE(\"&TABL ID = 'FP.\",zadani!$G$6,\".Y.\",I43,\"', DATA = \",$C$24,\", \",$E$24,\", \",I43,\", \",$E$31,\", \",$E$32,\", \",$E$33,\", \",$E$34,\", \",$E$35,\", \",$E$36,\" /\"))","v":""}]
[null,null,null,null,null,null,{"$f":"G43+1","v":7},{"$f":"H43+$C$3","v":5.6875},{"$f":"SUBSTITUTE(H51,\",\",\".\")","v":"5.6875"},{"$f":"IF(OR(H51<$E$2,H51>$C$2),\"\",CONCATENATE(\"&CHEM ID = 'FP.\",zadani!$G$6,\".X.\",I51,\"' CARBON = \",$E$6,\" CHLORINE = \",$E$7,\" HYDROGEN = \",$E$8,\" NITROGEN = \",$E$9,\" OXYGEN = \",$E$10,\" HEAT_OF_COMBUSTION = \",$E$11,\" RADIATIVE_FRACTION = \",$E$12,\" /\"))","v":""},{"$f":"IF(OR(H51<$E$2,H51>$C$2),\"\",CONCATENATE(\"&CHEM ID = 'FP.\",zadani!$G$6,\".Y.\",I51,\"' CARBON = \",$E$6,\" CHLORINE = \",$E$7,\" HYDROGEN = \",$E$8,\" NITROGEN = \",$E$9,\" OXYGEN = \",$E$10,\" HEAT_OF_COMBUSTION = \",$E$11,\" RADIATIVE_FRACTION = \",$E$12,\" /\"))","v":""}]
[null,null,null,null,null,null,null,null,null,{"$f":"IF(OR(H51<$E$2,H51>$C$2),\"\",CONCATENATE(\"&TABL ID = 'FP.\",zadani!$G$6,\".X.\",I51,\"' LABELS = 'TIME', 'HRR' , 'HEIGHT' , 'AREA' , 'CO_YIELD' , 'SOOT_YIELD' , 'HCN_YIELD' , 'HCL_YIELD' , 'TRACE_YIELD'  /\"))","v":""},{"$f":"IF(OR(H51<$E$2,H51>$C$2),\"\",CONCATENATE(\"&TABL ID = 'FP.\",zadani!$G$6,\".Y.\",I51,\"' LABELS = 'TIME', 'HRR' , 'HEIGHT' , 'AREA' , 'CO_YIELD' , 'SOOT_YIELD' , 'HCN_YIELD' , 'HCL_YIELD' , 'TRACE_YIELD'  /\"))","v":""}]
[null,null,null,null,null,null,null,null,null,{"$f":"IF(OR(H51<$E$2,H51>$C$2),\"\",CONCATENATE(\"&TABL ID = 'FP.\",zadani!$G$6,\".X.\",I51,\"', DATA = \",$C$13,\", \",$E$13,\", \",I51,\", \",$E$31,\", \",$E$32,\", \",$E$33,\", \",$E$34,\", \",$E$35,\", \",$E$36,\" /\"))","v":""},{"$f":"IF(OR(H51<$E$2,H51>$C$2),\"\",CONCATENATE(\"&TABL ID = 'FP.\",zadani!$G$6,\".Y.\",I51,\"', DATA = \",$C$19,\", \",$E$19,\", \",I51,\", \",$E$31,\", \",$E$32,\", \",$E$33,\", \",$E$34,\", \",$E$35,\", \",$E$36,\" /\"))","v":""}]
[null,null,null,null,null,null,null,null,null,{"$f":"IF(OR(H51<$E$2,H51>$C$2),\"\",CONCATENATE(\"&TABL ID = 'FP.\",zadani!$G$6,\".X.\",I51,\"', DATA = \",$C$14,\", \",$E$14,\", \",I51,\", \",$E$31,\", \",$E$32,\", \",$E$33,\", \",$E$34,\", \",$E$35,\", \",$E$36,\" /\"))","v":""},{"$f":"IF(OR(H51<$E$2,H51>$C$2),\"\",CONCATENATE(\"&TABL ID = 'FP.\",zadani!$G$6,\".Y.\",I51,\"', DATA = \",$C$20,\", \",$E$20,\", \",I51,\", \",$E$31,\", \",$E$32,\", \",$E$33,\", \",$E$34,\", \",$E$35,\", \",$E$36,\" /\"))","v":""}]
[null,null,null,null,null,null,null,null,null,{"$f":"IF(OR(H51<$E$2,H51>$C$2),\"\",CONCATENATE(\"&TABL ID = 'FP.\",zadani!$G$6,\".X.\",I51,\"', DATA = \",$C$15,\", \",$E$15,\", \",I51,\", \",$E$31,\", \",$E$32,\", \",$E$33,\", \",$E$34,\", \",$E$35,\", \",$E$36,\" /\"))","v":""},{"$f":"IF(OR(H51<$E$2,H51>$C$2),\"\",CONCATENATE(\"&TABL ID = 'FP.\",zadani!$G$6,\".Y.\",I51,\"', DATA = \",$C$21,\", \",$E$21,\", \",I51,\", \",$E$31,\", \",$E$32,\", \",$E$33,\", \",$E$34,\", \",$E$35,\", \",$E$36,\" /\"))","v":""}]
[null,null,null,null,null,null,null,null,null,{"$f":"IF(OR(H51<$E$2,H51>$C$2),\"\",CONCATENATE(\"&TABL ID = 'FP.\",zadani!$G$6,\".X.\",I51,\"', DATA = \",$C$16,\", \",$E$16,\", \",I51,\", \",$E$31,\", \",$E$32,\", \",$E$33,\", \",$E$34,\", \",$E$35,\", \",$E$36,\" /\"))","v":""},{"$f":"IF(OR(H51<$E$2,H51>$C$2),\"\",CONCATENATE(\"&TABL ID = 'FP.\",zadani!$G$6,\".Y.\",I51,\"', DATA = \",$C$22,\", \",$E$22,\", \",I51,\", \",$E$31,\", \",$E$32,\", \",$E$33,\", \",$E$34,\", \",$E$35,\", \",$E$36,\" /\"))","v":""}]
[null,null,null,null,null,null,null,null,null,{"$f":"IF(OR(H51<$E$2,H51>$C$2),\"\",CONCATENATE(\"&TABL ID = 'FP.\",zadani!$G$6,\".X.\",I51,\"', DATA = \",$C$17,\", \",$E$17,\", \",I51,\", \",$E$31,\", \",$E$32,\", \",$E$33,\", \",$E$34,\", \",$E$35,\", \",$E$36,\" /\"))","v":""},{"$f":"IF(OR(H51<$E$2,H51>$C$2),\"\",CONCATENATE(\"&TABL ID = 'FP.\",zadani!$G$6,\".Y.\",I51,\"', DATA = \",$C$23,\", \",$E$23,\", \",I51,\", \",$E$31,\", \",$E$32,\", \",$E$33,\", \",$E$34,\", \",$E$35,\", \",$E$36,\" /\"))","v":""}]
[null,null,null,null,null,null,null,null,null,{"$f":"IF(OR(H51<$E$2,H51>$C$2),\"\",CONCATENATE(\"&TABL ID = 'FP.\",zadani!$G$6,\".X.\",I51,\"', DATA = \",$C$18,\", \",$E$18,\", \",I51,\", \",$E$31,\", \",$E$32,\", \",$E$33,\", \",$E$34,\", \",$E$35,\", \",$E$36,\" /\"))","v":""},{"$f":"IF(OR(H51<$E$2,H51>$C$2),\"\",CONCATENATE(\"&TABL ID = 'FP.\",zadani!$G$6,\".Y.\",I51,\"', DATA = \",$C$24,\", \",$E$24,\", \",I51,\", \",$E$31,\", \",$E$32,\", \",$E$33,\", \",$E$34,\", \",$E$35,\", \",$E$36,\" /\"))","v":""}]
[null,null,null,null,null,null,{"$f":"G51+1","v":8},{"$f":"H51+$C$3","v":6.5625},{"$f":"SUBSTITUTE(H59,\",\",\".\")","v":"6.5625"},{"$f":"IF(OR(H59<$E$2,H59>$C$2),\"\",CONCATENATE(\"&CHEM ID = 'FP.\",zadani!$G$6,\".X.\",I59,\"' CARBON = \",$E$6,\" CHLORINE = \",$E$7,\" HYDROGEN = \",$E$8,\" NITROGEN = \",$E$9,\" OXYGEN = \",$E$10,\" HEAT_OF_COMBUSTION = \",$E$11,\" RADIATIVE_FRACTION = \",$E$12,\" /\"))","v":""},{"$f":"IF(OR(H59<$E$2,H59>$C$2),\"\",CONCATENATE(\"&CHEM ID = 'FP.\",zadani!$G$6,\".Y.\",I59,\"' CARBON = \",$E$6,\" CHLORINE = \",$E$7,\" HYDROGEN = \",$E$8,\" NITROGEN = \",$E$9,\" OXYGEN = \",$E$10,\" HEAT_OF_COMBUSTION = \",$E$11,\" RADIATIVE_FRACTION = \",$E$12,\" /\"))","v":""}]
[null,null,null,null,null,null,null,null,null,{"$f":"IF(OR(H59<$E$2,H59>$C$2),\"\",CONCATENATE(\"&TABL ID = 'FP.\",zadani!$G$6,\".X.\",I59,\"' LABELS = 'TIME', 'HRR' , 'HEIGHT' , 'AREA' , 'CO_YIELD' , 'SOOT_YIELD' , 'HCN_YIELD' , 'HCL_YIELD' , 'TRACE_YIELD'  /\"))","v":""},{"$f":"IF(OR(H59<$E$2,H59>$C$2),\"\",CONCATENATE(\"&TABL ID = 'FP.\",zadani!$G$6,\".Y.\",I59,\"' LABELS = 'TIME', 'HRR' , 'HEIGHT' , 'AREA' , 'CO_YIELD' , 'SOOT_YIELD' , 'HCN_YIELD' , 'HCL_YIELD' , 'TRACE_YIELD'  /\"))","v":""}]
[null,null,null,null,null,null,null,null,null,{"$f":"IF(OR(H59<$E$2,H59>$C$2),\"\",CONCATENATE(\"&TABL ID = 'FP.\",zadani!$G$6,\".X.\",I59,\"', DATA = \",$C$13,\", \",$E$13,\", \",I59,\", \",$E$31,\", \",$E$32,\", \",$E$33,\", \",$E$34,\", \",$E$35,\", \",$E$36,\" /\"))","v":""},{"$f":"IF(OR(H59<$E$2,H59>$C$2),\"\",CONCATENATE(\"&TABL ID = 'FP.\",zadani!$G$6,\".Y.\",I59,\"', DATA = \",$C$19,\", \",$E$19,\", \",I59,\", \",$E$31,\", \",$E$32,\", \",$E$33,\", \",$E$34,\", \",$E$35,\", \",$E$36,\" /\"))","v":""}]
[null,null,null,null,null,null,null,null,null,{"$f":"IF(OR(H59<$E$2,H59>$C$2),\"\",CONCATENATE(\"&TABL ID = 'FP.\",zadani!$G$6,\".X.\",I59,\"', DATA = \",$C$14,\", \",$E$14,\", \",I59,\", \",$E$31,\", \",$E$32,\", \",$E$33,\", \",$E$34,\", \",$E$35,\", \",$E$36,\" /\"))","v":""},{"$f":"IF(OR(H59<$E$2,H59>$C$2),\"\",CONCATENATE(\"&TABL ID = 'FP.\",zadani!$G$6,\".Y.\",I59,\"', DATA = \",$C$20,\", \",$E$20,\", \",I59,\", \",$E$31,\", \",$E$32,\", \",$E$33,\", \",$E$34,\", \",$E$35,\", \",$E$36,\" /\"))","v":""}]
[null,null,null,null,null,null,null,null,null,{"$f":"IF(OR(H59<$E$2,H59>$C$2),\"\",CONCATENATE(\"&TABL ID = 'FP.\",zadani!$G$6,\".X.\",I59,\"', DATA = \",$C$15,\", \",$E$15,\", \",I59,\", \",$E$31,\", \",$E$32,\", \",$E$33,\", \",$E$34,\", \",$E$35,\", \",$E$36,\" /\"))","v":""},{"$f":"IF(OR(H59<$E$2,H59>$C$2),\"\",CONCATENATE(\"&TABL ID = 'FP.\",zadani!$G$6,\".Y.\",I59,\"', DATA = \",$C$21,\", \",$E$21,\", \",I59,\", \",$E$31,\", \",$E$32,\", \",$E$33,\", \",$E$34,\", \",$E$35,\", \",$E$36,\" /\"))","v":""}]
[null,null,null,null,null,null,null,null,null,{"$f":"IF(OR(H59<$E$2,H59>$C$2),\"\",CONCATENATE(\"&TABL ID = 'FP.\",zadani!$G$6,\".X.\",I59,\"', DATA = \",$C$16,\", \",$E$16,\", \",I59,\", \",$E$31,\", \",$E$32,\", \",$E$33,\", \",$E$34,\", \",$E$35,\", \",$E$36,\" /\"))","v":""},{"$f":"IF(OR(H59<$E$2,H59>$C$2),\"\",CONCATENATE(\"&TABL ID = 'FP.\",zadani!$G$6,\".Y.\",I59,\"', DATA = \",$C$22,\", \",$E$22,\", \",I59,\", \",$E$31,\", \",$E$32,\", \",$E$33,\", \",$E$34,\", \",$E$35,\", \",$E$36,\" /\"))","v":""}]
[null,null,null,null,null,null,null,null,null,{"$f":"IF(OR(H59<$E$2,H59>$C$2),\"\",CONCATENATE(\"&TABL ID = 'FP.\",zadani!$G$6,\".X.\",I59,\"', DATA = \",$C$17,\", \",$E$17,\", \",I59,\", \",$E$31,\", \",$E$32,\", \",$E$33,\", \",$E$34,\", \",$E$35,\", \",$E$36,\" /\"))","v":""},{"$f":"IF(OR(H59<$E$2,H59>$C$2),\"\",CONCATENATE(\"&TABL ID = 'FP.\",zadani!$G$6,\".Y.\",I59,\"', DATA = \",$C$23,\", \",$E$23,\", \",I59,\", \",$E$31,\", \",$E$32,\", \",$E$33,\", \",$E$34,\", \",$E$35,\", \",$E$36,\" /\"))","v":""}]
[null,null,null,null,null,null,null,null,null,{"$f":"IF(OR(H59<$E$2,H59>$C$2),\"\",CONCATENATE(\"&TABL ID = 'FP.\",zadani!$G$6,\".X.\",I59,\"', DATA = \",$C$18,\", \",$E$18,\", \",I59,\", \",$E$31,\", \",$E$32,\", \",$E$33,\", \",$E$34,\", \",$E$35,\", \",$E$36,\" /\"))","v":""},{"$f":"IF(OR(H59<$E$2,H59>$C$2),\"\",CONCATENATE(\"&TABL ID = 'FP.\",zadani!$G$6,\".Y.\",I59,\"', DATA = \",$C$24,\", \",$E$24,\", \",I59,\", \",$E$31,\", \",$E$32,\", \",$E$33,\", \",$E$34,\", \",$E$35,\", \",$E$36,\" /\"))","v":""}]
[null,null,null,null,null,null,{"$f":"G59+1","v":9},{"$f":"H59+$C$3","v":7.4375},{"$f":"SUBSTITUTE(H67,\",\",\".\")","v":"7.4375"},{"$f":"IF(OR(H67<$E$2,H67>$C$2),\"\",CONCATENATE(\"&CHEM ID = 'FP.\",zadani!$G$6,\".X.\",I67,\"' CARBON = \",$E$6,\" CHLORINE = \",$E$7,\" HYDROGEN = \",$E$8,\" NITROGEN = \",$E$9,\" OXYGEN = \",$E$10,\" HEAT_OF_COMBUSTION = \",$E$11,\" RADIATIVE_FRACTION = \",$E$12,\" /\"))","v":""},{"$f":"IF(OR(H67<$E$2,H67>$C$2),\"\",CONCATENATE(\"&CHEM ID = 'FP.\",zadani!$G$6,\".Y.\",I67,\"' CARBON = \",$E$6,\" CHLORINE = \",$E$7,\" HYDROGEN = \",$E$8,\" NITROGEN = \",$E$9,\" OXYGEN = \",$E$10,\" HEAT_OF_COMBUSTION = \",$E$11,\" RADIATIVE_FRACTION = \",$E$12,\" /\"))","v":""}]
[null,null,null,null,null,null,null,null,null,{"$f":"IF(OR(H67<$E$2,H67>$C$2),\"\",CONCATENATE(\"&TABL ID = 'FP.\",zadani!$G$6,\".X.\",I67,\"' LABELS = 'TIME', 'HRR' , 'HEIGHT' , 'AREA' , 'CO_YIELD' , 'SOOT_YIELD' , 'HCN_YIELD' , 'HCL_YIELD' , 'TRACE_YIELD'  /\"))","v":""},{"$f":"IF(OR(H67<$E$2,H67>$C$2),\"\",CONCATENATE(\"&TABL ID = 'FP.\",zadani!$G$6,\".Y.\",I67,\"' LABELS = 'TIME', 'HRR' , 'HEIGHT' , 'AREA' , 'CO_YIELD' , 'SOOT_YIELD' , 'HCN_YIELD' , 'HCL_YIELD' , 'TRACE_YIELD'  /\"))","v":""}]
[null,null,null,null,null,null,null,null,null,{"$f":"IF(OR(H67<$E$2,H67>$C$2),\"\",CONCATENATE(\"&TABL ID = 'FP.\",zadani!$G$6,\".X.\",I67,\"', DATA = \",$C$13,\", \",$E$13,\", \",I67,\", \",$E$31,\", \",$E$32,\", \",$E$33,\", \",$E$34,\", \",$E$35,\", \",$E$36,\" /\"))","v":""},{"$f":"IF(OR(H67<$E$2,H67>$C$2),\"\",CONCATENATE(\"&TABL ID = 'FP.\",zadani!$G$6,\".Y.\",I67,\"', DATA = \",$C$19,\", \",$E$19,\", \",I67,\", \",$E$31,\", \",$E$32,\", \",$E$33,\", \",$E$34,\", \",$E$35,\", \",$E$36,\" /\"))","v":""}]
[null,null,null,null,null,null,null,null,null,{"$f":"IF(OR(H67<$E$2,H67>$C$2),\"\",CONCATENATE(\"&TABL ID = 'FP.\",zadani!$G$6,\".X.\",I67,\"', DATA = \",$C$14,\", \",$E$14,\", \",I67,\", \",$E$31,\", \",$E$32,\", \",$E$33,\", \",$E$34,\", \",$E$35,\", \",$E$36,\" /\"))","v":""},{"$f":"IF(OR(H67<$E$2,H67>$C$2),\"\",CONCATENATE(\"&TABL ID = 'FP.\",zadani!$G$6,\".Y.\",I67,\"', DATA = \",$C$20,\", \",$E$20,\", \",I67,\", \",$E$31,\", \",$E$32,\", \",$E$33,\", \",$E$34,\", \",$E$35,\", \",$E$36,\" /\"))","v":""}]
[null,null,null,null,null,null,null,null,null,{"$f":"IF(OR(H67<$E$2,H67>$C$2),\"\",CONCATENATE(\"&TABL ID = 'FP.\",zadani!$G$6,\".X.\",I67,\"', DATA = \",$C$15,\", \",$E$15,\", \",I67,\", \",$E$31,\", \",$E$32,\", \",$E$33,\", \",$E$34,\", \",$E$35,\", \",$E$36,\" /\"))","v":""},{"$f":"IF(OR(H67<$E$2,H67>$C$2),\"\",CONCATENATE(\"&TABL ID = 'FP.\",zadani!$G$6,\".Y.\",I67,\"', DATA = \",$C$21,\", \",$E$21,\", \",I67,\", \",$E$31,\", \",$E$32,\", \",$E$33,\", \",$E$34,\", \",$E$35,\", \",$E$36,\" /\"))","v":""}]
[null,null,null,null,null,null,null,null,null,{"$f":"IF(OR(H67<$E$2,H67>$C$2),\"\",CONCATENATE(\"&TABL ID = 'FP.\",zadani!$G$6,\".X.\",I67,\"', DATA = \",$C$16,\", \",$E$16,\", \",I67,\", \",$E$31,\", \",$E$32,\", \",$E$33,\", \",$E$34,\", \",$E$35,\", \",$E$36,\" /\"))","v":""},{"$f":"IF(OR(H67<$E$2,H67>$C$2),\"\",CONCATENATE(\"&TABL ID = 'FP.\",zadani!$G$6,\".Y.\",I67,\"', DATA = \",$C$22,\", \",$E$22,\", \",I67,\", \",$E$31,\", \",$E$32,\", \",$E$33,\", \",$E$34,\", \",$E$35,\", \",$E$36,\" /\"))","v":""}]
[null,null,null,null,null,null,null,null,null,{"$f":"IF(OR(H67<$E$2,H67>$C$2),\"\",CONCATENATE(\"&TABL ID = 'FP.\",zadani!$G$6,\".X.\",I67,\"', DATA = \",$C$17,\", \",$E$17,\", \",I67,\", \",$E$31,\", \",$E$32,\", \",$E$33,\", \",$E$34,\", \",$E$35,\", \",$E$36,\" /\"))","v":""},{"$f":"IF(OR(H67<$E$2,H67>$C$2),\"\",CONCATENATE(\"&TABL ID = 'FP.\",zadani!$G$6,\".Y.\",I67,\"', DATA = \",$C$23,\", \",$E$23,\", \",I67,\", \",$E$31,\", \",$E$32,\", \",$E$33,\", \",$E$34,\", \",$E$35,\", \",$E$36,\" /\"))","v":""}]
[null,null,null,null,null,null,null,null,null,{"$f":"IF(OR(H67<$E$2,H67>$C$2),\"\",CONCATENATE(\"&TABL ID = 'FP.\",zadani!$G$6,\".X.\",I67,\"', DATA = \",$C$18,\", \",$E$18,\", \",I67,\", \",$E$31,\", \",$E$32,\", \",$E$33,\", \",$E$34,\", \",$E$35,\", \",$E$36,\" /\"))","v":""},{"$f":"IF(OR(H67<$E$2,H67>$C$2),\"\",CONCATENATE(\"&TABL ID = 'FP.\",zadani!$G$6,\".Y.\",I67,\"', DATA = \",$C$24,\", \",$E$24,\", \",I67,\", \",$E$31,\", \",$E$32,\", \",$E$33,\", \",$E$34,\", \",$E$35,\", \",$E$36,\" /\"))","v":""}]
[null,null,null,null,null,null,{"$f":"G67+1","v":10},{"$f":"H67+$C$3","v":8.3125},{"$f":"SUBSTITUTE(H75,\",\",\".\")","v":"8.3125"},{"$f":"IF(OR(H75<$E$2,H75>$C$2),\"\",CONCATENATE(\"&CHEM ID = 'FP.\",zadani!$G$6,\".X.\",I75,\"' CARBON = \",$E$6,\" CHLORINE = \",$E$7,\" HYDROGEN = \",$E$8,\" NITROGEN = \",$E$9,\" OXYGEN = \",$E$10,\" HEAT_OF_COMBUSTION = \",$E$11,\" RADIATIVE_FRACTION = \",$E$12,\" /\"))","v":""},{"$f":"IF(OR(H75<$E$2,H75>$C$2),\"\",CONCATENATE(\"&CHEM ID = 'FP.\",zadani!$G$6,\".Y.\",I75,\"' CARBON = \",$E$6,\" CHLORINE = \",$E$7,\" HYDROGEN = \",$E$8,\" NITROGEN = \",$E$9,\" OXYGEN = \",$E$10,\" HEAT_OF_COMBUSTION = \",$E$11,\" RADIATIVE_FRACTION = \",$E$12,\" /\"))","v":""}]
[null,null,null,null,null,null,null,null,null,{"$f":"IF(OR(H75<$E$2,H75>$C$2),\"\",CONCATENATE(\"&TABL ID = 'FP.\",zadani!$G$6,\".X.\",I75,\"' LABELS = 'TIME', 'HRR' , 'HEIGHT' , 'AREA' , 'CO_YIELD' , 'SOOT_YIELD' , 'HCN_YIELD' , 'HCL_YIELD' , 'TRACE_YIELD'  /\"))","v":""},{"$f":"IF(OR(H75<$E$2,H75>$C$2),\"\",CONCATENATE(\"&TABL ID = 'FP.\",zadani!$G$6,\".Y.\",I75,\"' LABELS = 'TIME', 'HRR' , 'HEIGHT' , 'AREA' , 'CO_YIELD' , 'SOOT_YIELD' , 'HCN_YIELD' , 'HCL_YIELD' , 'TRACE_YIELD'  /\"))","v":""}]
[null,null,null,null,null,null,null,null,null,{"$f":"IF(OR(H75<$E$2,H75>$C$2),\"\",CONCATENATE(\"&TABL ID = 'FP.\",zadani!$G$6,\".X.\",I75,\"', DATA = \",$C$13,\", \",$E$13,\", \",I75,\", \",$E$31,\", \",$E$32,\", \",$E$33,\", \",$E$34,\", \",$E$35,\", \",$E$36,\" /\"))","v":""},{"$f":"IF(OR(H75<$E$2,H75>$C$2),\"\",CONCATENATE(\"&TABL ID = 'FP.\",zadani!$G$6,\".Y.\",I75,\"', DATA = \",$C$19,\", \",$E$19,\", \",I75,\", \",$E$31,\", \",$E$32,\", \",$E$33,\", \",$E$34,\", \",$E$35,\", \",$E$36,\" /\"))","v":""}]
[null,null,null,null,null,null,null,null,null,{"$f":"IF(OR(H75<$E$2,H75>$C$2),\"\",CONCATENATE(\"&TABL ID = 'FP.\",zadani!$G$6,\".X.\",I75,\"', DATA = \",$C$14,\", \",$E$14,\", \",I75,\", \",$E$31,\", \",$E$32,\", \",$E$33,\", \",$E$34,\", \",$E$35,\", \",$E$36,\" /\"))","v":""},{"$f":"IF(OR(H75<$E$2,H75>$C$2),\"\",CONCATENATE(\"&TABL ID = 'FP.\",zadani!$G$6,\".Y.\",I75,\"', DATA = \",$C$20,\", \",$E$20,\", \",I75,\", \",$E$31,\", \",$E$32,\", \",$E$33,\", \",$E$34,\", \",$E$35,\", \",$E$36,\" /\"))","v":""}]
[null,null,null,null,null,null,null,null,null,{"$f":"IF(OR(H75<$E$2,H75>$C$2),\"\",CONCATENATE(\"&TABL ID = 'FP.\",zadani!$G$6,\".X.\",I75,\"', DATA = \",$C$15,\", \",$E$15,\", \",I75,\", \",$E$31,\", \",$E$32,\", \",$E$33,\", \",$E$34,\", \",$E$35,\", \",$E$36,\" /\"))","v":""},{"$f":"IF(OR(H75<$E$2,H75>$C$2),\"\",CONCATENATE(\"&TABL ID = 'FP.\",zadani!$G$6,\".Y.\",I75,\"', DATA = \",$C$21,\", \",$E$21,\", \",I75,\", \",$E$31,\", \",$E$32,\", \",$E$33,\", \",$E$34,\", \",$E$35,\", \",$E$36,\" /\"))","v":""}]
[null,null,null,null,null,null,null,null,null,{"$f":"IF(OR(H75<$E$2,H75>$C$2),\"\",CONCATENATE(\"&TABL ID = 'FP.\",zadani!$G$6,\".X.\",I75,\"', DATA = \",$C$16,\", \",$E$16,\", \",I75,\", \",$E$31,\", \",$E$32,\", \",$E$33,\", \",$E$34,\", \",$E$35,\", \",$E$36,\" /\"))","v":""},{"$f":"IF(OR(H75<$E$2,H75>$C$2),\"\",CONCATENATE(\"&TABL ID = 'FP.\",zadani!$G$6,\".Y.\",I75,\"', DATA = \",$C$22,\", \",$E$22,\", \",I75,\", \",$E$31,\", \",$E$32,\", \",$E$33,\", \",$E$34,\", \",$E$35,\", \",$E$36,\" /\"))","v":""}]
[null,null,null,null,null,null,null,null,null,{"$f":"IF(OR(H75<$E$2,H75>$C$2),\"\",CONCATENATE(\"&TABL ID = 'FP.\",zadani!$G$6,\".X.\",I75,\"', DATA = \",$C$17,\", \",$E$17,\", \",I75,\", \",$E$31,\", \",$E$32,\", \",$E$33,\", \",$E$34,\", \",$E$35,\", \",$E$36,\" /\"))","v":""},{"$f":"IF(OR(H75<$E$2,H75>$C$2),\"\",CONCATENATE(\"&TABL ID = 'FP.\",zadani!$G$6,\".Y.\",I75,\"', DATA = \",$C$23,\", \",$E$23,\", \",I75,\", \",$E$31,\", \",$E$32,\", \",$E$33,\", \",$E$34,\", \",$E$35,\", \",$E$36,\" /\"))","v":""}]
[null,null,null,null,null,null,null,null,null,{"$f":"IF(OR(H75<$E$2,H75>$C$2),\"\",CONCATENATE(\"&TABL ID = 'FP.\",zadani!$G$6,\".X.\",I75,\"', DATA = \",$C$18,\", \",$E$18,\", \",I75,\", \",$E$31,\", \",$E$32,\", \",$E$33,\", \",$E$34,\", \",$E$35,\", \",$E$36,\" /\"))","v":""},{"$f":"IF(OR(H75<$E$2,H75>$C$2),\"\",CONCATENATE(\"&TABL ID = 'FP.\",zadani!$G$6,\".Y.\",I75,\"', DATA = \",$C$24,\", \",$E$24,\", \",I75,\", \",$E$31,\", \",$E$32,\", \",$E$33,\", \",$E$34,\", \",$E$35,\", \",$E$36,\" /\"))","v":""}]
[null,null,null,null,null,null,{"$f":"G75+1","v":11},{"$f":"H75+$C$3","v":9.1875},{"$f":"SUBSTITUTE(H83,\",\",\".\")","v":"9.1875"},{"$f":"IF(OR(H83<$E$2,H83>$C$2),\"\",CONCATENATE(\"&CHEM ID = 'FP.\",zadani!$G$6,\".X.\",I83,\"' CARBON = \",$E$6,\" CHLORINE = \",$E$7,\" HYDROGEN = \",$E$8,\" NITROGEN = \",$E$9,\" OXYGEN = \",$E$10,\" HEAT_OF_COMBUSTION = \",$E$11,\" RADIATIVE_FRACTION = \",$E$12,\" /\"))","v":""},{"$f":"IF(OR(H83<$E$2,H83>$C$2),\"\",CONCATENATE(\"&CHEM ID = 'FP.\",zadani!$G$6,\".Y.\",I83,\"' CARBON = \",$E$6,\" CHLORINE = \",$E$7,\" HYDROGEN = \",$E$8,\" NITROGEN = \",$E$9,\" OXYGEN = \",$E$10,\" HEAT_OF_COMBUSTION = \",$E$11,\" RADIATIVE_FRACTION = \",$E$12,\" /\"))","v":""}]
[null,null,null,null,null,null,null,null,null,{"$f":"IF(OR(H83<$E$2,H83>$C$2),\"\",CONCATENATE(\"&TABL ID = 'FP.\",zadani!$G$6,\".X.\",I83,\"' LABELS = 'TIME', 'HRR' , 'HEIGHT' , 'AREA' , 'CO_YIELD' , 'SOOT_YIELD' , 'HCN_YIELD' , 'HCL_YIELD' , 'TRACE_YIELD'  /\"))","v":""},{"$f":"IF(OR(H83<$E$2,H83>$C$2),\"\",CONCATENATE(\"&TABL ID = 'FP.\",zadani!$G$6,\".Y.\",I83,\"' LABELS = 'TIME', 'HRR' , 'HEIGHT' , 'AREA' , 'CO_YIELD' , 'SOOT_YIELD' , 'HCN_YIELD' , 'HCL_YIELD' , 'TRACE_YIELD'  /\"))","v":""}]
[null,null,null,null,null,null,null,null,null,{"$f":"IF(OR(H83<$E$2,H83>$C$2),\"\",CONCATENATE(\"&TABL ID = 'FP.\",zadani!$G$6,\".X.\",I83,\"', DATA = \",$C$13,\", \",$E$13,\", \",I83,\", \",$E$31,\", \",$E$32,\", \",$E$33,\", \",$E$34,\", \",$E$35,\", \",$E$36,\" /\"))","v":""},{"$f":"IF(OR(H83<$E$2,H83>$C$2),\"\",CONCATENATE(\"&TABL ID = 'FP.\",zadani!$G$6,\".Y.\",I83,\"', DATA = \",$C$19,\", \",$E$19,\", \",I83,\", \",$E$31,\", \",$E$32,\", \",$E$33,\", \",$E$34,\", \",$E$35,\", \",$E$36,\" /\"))","v":""}]
[null,null,null,null,null,null,null,null,null,{"$f":"IF(OR(H83<$E$2,H83>$C$2),\"\",CONCATENATE(\"&TABL ID = 'FP.\",zadani!$G$6,\".X.\",I83,\"', DATA = \",$C$14,\", \",$E$14,\", \",I83,\", \",$E$31,\", \",$E$32,\", \",$E$33,\", \",$E$34,\", \",$E$35,\", \",$E$36,\" /\"))","v":""},{"$f":"IF(OR(H83<$E$2,H83>$C$2),\"\",CONCATENATE(\"&TABL ID = 'FP.\",zadani!$G$6,\".Y.\",I83,\"', DATA = \",$C$20,\", \",$E$20,\", \",I83,\", \",$E$31,\", \",$E$32,\", \",$E$33,\", \",$E$34,\", \",$E$35,\", \",$E$36,\" /\"))","v":""}]
[null,null,null,null,null,null,null,null,null,{"$f":"IF(OR(H83<$E$2,H83>$C$2),\"\",CONCATENATE(\"&TABL ID = 'FP.\",zadani!$G$6,\".X.\",I83,\"', DATA = \",$C$15,\", \",$E$15,\", \",I83,\", \",$E$31,\", \",$E$32,\", \",$E$33,\", \",$E$34,\", \",$E$35,\", \",$E$36,\" /\"))","v":""},{"$f":"IF(OR(H83<$E$2,H83>$C$2),\"\",CONCATENATE(\"&TABL ID = 'FP.\",zadani!$G$6,\".Y.\",I83,\"', DATA = \",$C$21,\", \",$E$21,\", \",I83,\", \",$E$31,\", \",$E$32,\", \",$E$33,\", \",$E$34,\", \",$E$35,\", \",$E$36,\" /\"))","v":""}]
[null,null,null,null,null,null,null,null,null,{"$f":"IF(OR(H83<$E$2,H83>$C$2),\"\",CONCATENATE(\"&TABL ID = 'FP.\",zadani!$G$6,\".X.\",I83,\"', DATA = \",$C$16,\", \",$E$16,\", \",I83,\", \",$E$31,\", \",$E$32,\", \",$E$33,\", \",$E$34,\", \",$E$35,\", \",$E$36,\" /\"))","v":""},{"$f":"IF(OR(H83<$E$2,H83>$C$2),\"\",CONCATENATE(\"&TABL ID = 'FP.\",zadani!$G$6,\".Y.\",I83,\"', DATA = \",$C$22,\", \",$E$22,\", \",I83,\", \",$E$31,\", \",$E$32,\", \",$E$33,\", \",$E$34,\", \",$E$35,\", \",$E$36,\" /\"))","v":""}]
[null,null,null,null,null,null,null,null,null,{"$f":"IF(OR(H83<$E$2,H83>$C$2),\"\",CONCATENATE(\"&TABL ID = 'FP.\",zadani!$G$6,\".X.\",I83,\"', DATA = \",$C$17,\", \",$E$17,\", \",I83,\", \",$E$31,\", \",$E$32,\", \",$E$33,\", \",$E$34,\", \",$E$35,\", \",$E$36,\" /\"))","v":""},{"$f":"IF(OR(H83<$E$2,H83>$C$2),\"\",CONCATENATE(\"&TABL ID = 'FP.\",zadani!$G$6,\".Y.\",I83,\"', DATA = \",$C$23,\", \",$E$23,\", \",I83,\", \",$E$31,\", \",$E$32,\", \",$E$33,\", \",$E$34,\", \",$E$35,\", \",$E$36,\" /\"))","v":""}]
[null,null,null,null,null,null,null,null,null,{"$f":"IF(OR(H83<$E$2,H83>$C$2),\"\",CONCATENATE(\"&TABL ID = 'FP.\",zadani!$G$6,\".X.\",I83,\"', DATA = \",$C$18,\", \",$E$18,\", \",I83,\", \",$E$31,\", \",$E$32,\", \",$E$33,\", \",$E$34,\", \",$E$35,\", \",$E$36,\" /\"))","v":""},{"$f":"IF(OR(H83<$E$2,H83>$C$2),\"\",CONCATENATE(\"&TABL ID = 'FP.\",zadani!$G$6,\".Y.\",I83,\"', DATA = \",$C$24,\", \",$E$24,\", \",I83,\", \",$E$31,\", \",$E$32,\", \",$E$33,\", \",$E$34,\", \",$E$35,\", \",$E$36,\" /\"))","v":""}]
[null,null,null,null,null,null,{"$f":"G83+1","v":12},{"$f":"H83+$C$3","v":10.0625},{"$f":"SUBSTITUTE(H91,\",\",\".\")","v":"10.0625"},{"$f":"IF(OR(H91<$E$2,H91>$C$2),\"\",CONCATENATE(\"&CHEM ID = 'FP.\",zadani!$G$6,\".X.\",I91,\"' CARBON = \",$E$6,\" CHLORINE = \",$E$7,\" HYDROGEN = \",$E$8,\" NITROGEN = \",$E$9,\" OXYGEN = \",$E$10,\" HEAT_OF_COMBUSTION = \",$E$11,\" RADIATIVE_FRACTION = \",$E$12,\" /\"))","v":""},{"$f":"IF(OR(H91<$E$2,H91>$C$2),\"\",CONCATENATE(\"&CHEM ID = 'FP.\",zadani!$G$6,\".Y.\",I91,\"' CARBON = \",$E$6,\" CHLORINE = \",$E$7,\" HYDROGEN = \",$E$8,\" NITROGEN = \",$E$9,\" OXYGEN = \",$E$10,\" HEAT_OF_COMBUSTION = \",$E$11,\" RADIATIVE_FRACTION = \",$E$12,\" /\"))","v":""}]
[null,null,null,null,null,null,null,null,null,{"$f":"IF(OR(H91<$E$2,H91>$C$2),\"\",CONCATENATE(\"&TABL ID = 'FP.\",zadani!$G$6,\".X.\",I91,\"' LABELS = 'TIME', 'HRR' , 'HEIGHT' , 'AREA' , 'CO_YIELD' , 'SOOT_YIELD' , 'HCN_YIELD' , 'HCL_YIELD' , 'TRACE_YIELD'  /\"))","v":""},{"$f":"IF(OR(H91<$E$2,H91>$C$2),\"\",CONCATENATE(\"&TABL ID = 'FP.\",zadani!$G$6,\".Y.\",I91,\"' LABELS = 'TIME', 'HRR' , 'HEIGHT' , 'AREA' , 'CO_YIELD' , 'SOOT_YIELD' , 'HCN_YIELD' , 'HCL_YIELD' , 'TRACE_YIELD'  /\"))","v":""}]
[null,null,null,null,null,null,null,null,null,{"$f":"IF(OR(H91<$E$2,H91>$C$2),\"\",CONCATENATE(\"&TABL ID = 'FP.\",zadani!$G$6,\".X.\",I91,\"', DATA = \",$C$13,\", \",$E$13,\", \",I91,\", \",$E$31,\", \",$E$32,\", \",$E$33,\", \",$E$34,\", \",$E$35,\", \",$E$36,\" /\"))","v":""},{"$f":"IF(OR(H91<$E$2,H91>$C$2),\"\",CONCATENATE(\"&TABL ID = 'FP.\",zadani!$G$6,\".Y.\",I91,\"', DATA = \",$C$19,\", \",$E$19,\", \",I91,\", \",$E$31,\", \",$E$32,\", \",$E$33,\", \",$E$34,\", \",$E$35,\", \",$E$36,\" /\"))","v":""}]
[null,null,null,null,null,null,null,null,null,{"$f":"IF(OR(H91<$E$2,H91>$C$2),\"\",CONCATENATE(\"&TABL ID = 'FP.\",zadani!$G$6,\".X.\",I91,\"', DATA = \",$C$14,\", \",$E$14,\", \",I91,\", \",$E$31,\", \",$E$32,\", \",$E$33,\", \",$E$34,\", \",$E$35,\", \",$E$36,\" /\"))","v":""},{"$f":"IF(OR(H91<$E$2,H91>$C$2),\"\",CONCATENATE(\"&TABL ID = 'FP.\",zadani!$G$6,\".Y.\",I91,\"', DATA = \",$C$20,\", \",$E$20,\", \",I91,\", \",$E$31,\", \",$E$32,\", \",$E$33,\", \",$E$34,\", \",$E$35,\", \",$E$36,\" /\"))","v":""}]
[null,null,null,null,null,null,null,null,null,{"$f":"IF(OR(H91<$E$2,H91>$C$2),\"\",CONCATENATE(\"&TABL ID = 'FP.\",zadani!$G$6,\".X.\",I91,\"', DATA = \",$C$15,\", \",$E$15,\", \",I91,\", \",$E$31,\", \",$E$32,\", \",$E$33,\", \",$E$34,\", \",$E$35,\", \",$E$36,\" /\"))","v":""},{"$f":"IF(OR(H91<$E$2,H91>$C$2),\"\",CONCATENATE(\"&TABL ID = 'FP.\",zadani!$G$6,\".Y.\",I91,\"', DATA = \",$C$21,\", \",$E$21,\", \",I91,\", \",$E$31,\", \",$E$32,\", \",$E$33,\", \",$E$34,\", \",$E$35,\", \",$E$36,\" /\"))","v":""}]
[null,null,null,null,null,null,null,null,null,{"$f":"IF(OR(H91<$E$2,H91>$C$2),\"\",CONCATENATE(\"&TABL ID = 'FP.\",zadani!$G$6,\".X.\",I91,\"', DATA = \",$C$16,\", \",$E$16,\", \",I91,\", \",$E$31,\", \",$E$32,\", \",$E$33,\", \",$E$34,\", \",$E$35,\", \",$E$36,\" /\"))","v":""},{"$f":"IF(OR(H91<$E$2,H91>$C$2),\"\",CONCATENATE(\"&TABL ID = 'FP.\",zadani!$G$6,\".Y.\",I91,\"', DATA = \",$C$22,\", \",$E$22,\", \",I91,\", \",$E$31,\", \",$E$32,\", \",$E$33,\", \",$E$34,\", \",$E$35,\", \",$E$36,\" /\"))","v":""}]
[null,null,null,null,null,null,null,null,null,{"$f":"IF(OR(H91<$E$2,H91>$C$2),\"\",CONCATENATE(\"&TABL ID = 'FP.\",zadani!$G$6,\".X.\",I91,\"', DATA = \",$C$17,\", \",$E$17,\", \",I91,\", \",$E$31,\", \",$E$32,\", \",$E$33,\", \",$E$34,\", \",$E$35,\", \",$E$36,\" /\"))","v":""},{"$f":"IF(OR(H91<$E$2,H91>$C$2),\"\",CONCATENATE(\"&TABL ID = 'FP.\",zadani!$G$6,\".Y.\",I91,\"', DATA = \",$C$23,\", \",$E$23,\", \",I91,\", \",$E$31,\", \",$E$32,\", \",$E$33,\", \",$E$34,\", \",$E$35,\", \",$E$36,\" /\"))","v":""}]
[null,null,null,null,null,null,null,null,null,{"$f":"IF(OR(H91<$E$2,H91>$C$2),\"\",CONCATENATE(\"&TABL ID = 'FP.\",zadani!$G$6,\".X.\",I91,\"', DATA = \",$C$18,\", \",$E$18,\", \",I91,\", \",$E$31,\", \",$E$32,\", \",$E$33,\", \",$E$34,\", \",$E$35,\", \",$E$36,\" /\"))","v":""},{"$f":"IF(OR(H91<$E$2,H91>$C$2),\"\",CONCATENATE(\"&TABL ID = 'FP.\",zadani!$G$6,\".Y.\",I91,\"', DATA = \",$C$24,\", \",$E$24,\", \",I91,\", \",$E$31,\", \",$E$32,\", \",$E$33,\", \",$E$34,\", \",$E$35,\", \",$E$36,\" /\"))","v":""}]
[null,null,null,null,null,null,{"$f":"G91+1","v":13},{"$f":"H91+$C$3","v":10.9375},{"$f":"SUBSTITUTE(H99,\",\",\".\")","v":"10.9375"},{"$f":"IF(OR(H99<$E$2,H99>$C$2),\"\",CONCATENATE(\"&CHEM ID = 'FP.\",zadani!$G$6,\".X.\",I99,\"' CARBON = \",$E$6,\" CHLORINE = \",$E$7,\" HYDROGEN = \",$E$8,\" NITROGEN = \",$E$9,\" OXYGEN = \",$E$10,\" HEAT_OF_COMBUSTION = \",$E$11,\" RADIATIVE_FRACTION = \",$E$12,\" /\"))","v":""},{"$f":"IF(OR(H99<$E$2,H99>$C$2),\"\",CONCATENATE(\"&CHEM ID = 'FP.\",zadani!$G$6,\".Y.\",I99,\"' CARBON = \",$E$6,\" CHLORINE = \",$E$7,\" HYDROGEN = \",$E$8,\" NITROGEN = \",$E$9,\" OXYGEN = \",$E$10,\" HEAT_OF_COMBUSTION = \",$E$11,\" RADIATIVE_FRACTION = \",$E$12,\" /\"))","v":""}]
[null,null,null,null,null,null,null,null,null,{"$f":"IF(OR(H99<$E$2,H99>$C$2),\"\",CONCATENATE(\"&TABL ID = 'FP.\",zadani!$G$6,\".X.\",I99,\"' LABELS = 'TIME', 'HRR' , 'HEIGHT' , 'AREA' , 'CO_YIELD' , 'SOOT_YIELD' , 'HCN_YIELD' , 'HCL_YIELD' , 'TRACE_YIELD'  /\"))","v":""},{"$f":"IF(OR(H99<$E$2,H99>$C$2),\"\",CONCATENATE(\"&TABL ID = 'FP.\",zadani!$G$6,\".Y.\",I99,\"' LABELS = 'TIME', 'HRR' , 'HEIGHT' , 'AREA' , 'CO_YIELD' , 'SOOT_YIELD' , 'HCN_YIELD' , 'HCL_YIELD' , 'TRACE_YIELD'  /\"))","v":""}]
[null,null,null,null,null,null,null,null,null,{"$f":"IF(OR(H99<$E$2,H99>$C$2),\"\",CONCATENATE(\"&TABL ID = 'FP.\",zadani!$G$6,\".X.\",I99,\"', DATA = \",$C$13,\", \",$E$13,\", \",I99,\", \",$E$31,\", \",$E$32,\", \",$E$33,\", \",$E$34,\", \",$E$35,\", \",$E$36,\" /\"))","v":""},{"$f":"IF(OR(H99<$E$2,H99>$C$2),\"\",CONCATENATE(\"&TABL ID = 'FP.\",zadani!$G$6,\".Y.\",I99,\"', DATA = \",$C$19,\", \",$E$19,\", \",I99,\", \",$E$31,\", \",$E$32,\", \",$E$33,\", \",$E$34,\", \",$E$35,\", \",$E$36,\" /\"))","v":""}]
[null,null,null,null,null,null,null,null,null,{"$f":"IF(OR(H99<$E$2,H99>$C$2),\"\",CONCATENATE(\"&TABL ID = 'FP.\",zadani!$G$6,\".X.\",I99,\"', DATA = \",$C$14,\", \",$E$14,\", \",I99,\", \",$E$31,\", \",$E$32,\", \",$E$33,\", \",$E$34,\", \",$E$35,\", \",$E$36,\" /\"))","v":""},{"$f":"IF(OR(H99<$E$2,H99>$C$2),\"\",CONCATENATE(\"&TABL ID = 'FP.\",zadani!$G$6,\".Y.\",I99,\"', DATA = \",$C$20,\", \",$E$20,\", \",I99,\", \",$E$31,\", \",$E$32,\", \",$E$33,\", \",$E$34,\", \",$E$35,\", \",$E$36,\" /\"))","v":""}]
[null,null,null,null,null,null,null,null,null,{"$f":"IF(OR(H99<$E$2,H99>$C$2),\"\",CONCATENATE(\"&TABL ID = 'FP.\",zadani!$G$6,\".X.\",I99,\"', DATA = \",$C$15,\", \",$E$15,\", \",I99,\", \",$E$31,\", \",$E$32,\", \",$E$33,\", \",$E$34,\", \",$E$35,\", \",$E$36,\" /\"))","v":""},{"$f":"IF(OR(H99<$E$2,H99>$C$2),\"\",CONCATENATE(\"&TABL ID = 'FP.\",zadani!$G$6,\".Y.\",I99,\"', DATA = \",$C$21,\", \",$E$21,\", \",I99,\", \",$E$31,\", \",$E$32,\", \",$E$33,\", \",$E$34,\", \",$E$35,\", \",$E$36,\" /\"))","v":""}]
[null,null,null,null,null,null,null,null,null,{"$f":"IF(OR(H99<$E$2,H99>$C$2),\"\",CONCATENATE(\"&TABL ID = 'FP.\",zadani!$G$6,\".X.\",I99,\"', DATA = \",$C$16,\", \",$E$16,\", \",I99,\", \",$E$31,\", \",$E$32,\", \",$E$33,\", \",$E$34,\", \",$E$35,\", \",$E$36,\" /\"))","v":""},{"$f":"IF(OR(H99<$E$2,H99>$C$2),\"\",CONCATENATE(\"&TABL ID = 'FP.\",zadani!$G$6,\".Y.\",I99,\"', DATA = \",$C$22,\", \",$E$22,\", \",I99,\", \",$E$31,\", \",$E$32,\", \",$E$33,\", \",$E$34,\", \",$E$35,\", \",$E$36,\" /\"))","v":""}]
[null,null,null,null,null,null,null,null,null,{"$f":"IF(OR(H99<$E$2,H99>$C$2),\"\",CONCATENATE(\"&TABL ID = 'FP.\",zadani!$G$6,\".X.\",I99,\"', DATA = \",$C$17,\", \",$E$17,\", \",I99,\", \",$E$31,\", \",$E$32,\", \",$E$33,\", \",$E$34,\", \",$E$35,\", \",$E$36,\" /\"))","v":""},{"$f":"IF(OR(H99<$E$2,H99>$C$2),\"\",CONCATENATE(\"&TABL ID = 'FP.\",zadani!$G$6,\".Y.\",I99,\"', DATA = \",$C$23,\", \",$E$23,\", \",I99,\", \",$E$31,\", \",$E$32,\", \",$E$33,\", \",$E$34,\", \",$E$35,\", \",$E$36,\" /\"))","v":""}]
[null,null,null,null,null,null,null,null,null,{"$f":"IF(OR(H99<$E$2,H99>$C$2),\"\",CONCATENATE(\"&TABL ID = 'FP.\",zadani!$G$6,\".X.\",I99,\"', DATA = \",$C$18,\", \",$E$18,\", \",I99,\", \",$E$31,\", \",$E$32,\", \",$E$33,\", \",$E$34,\", \",$E$35,\", \",$E$36,\" /\"))","v":""},{"$f":"IF(OR(H99<$E$2,H99>$C$2),\"\",CONCATENATE(\"&TABL ID = 'FP.\",zadani!$G$6,\".Y.\",I99,\"', DATA = \",$C$24,\", \",$E$24,\", \",I99,\", \",$E$31,\", \",$E$32,\", \",$E$33,\", \",$E$34,\", \",$E$35,\", \",$E$36,\" /\"))","v":""}]
[null,null,null,null,null,null,{"$f":"G99+1","v":14},{"$f":"H99+$C$3","v":11.8125},{"$f":"SUBSTITUTE(H107,\",\",\".\")","v":"11.8125"},{"$f":"IF(OR(H107<$E$2,H107>$C$2),\"\",CONCATENATE(\"&CHEM ID = 'FP.\",zadani!$G$6,\".X.\",I107,\"' CARBON = \",$E$6,\" CHLORINE = \",$E$7,\" HYDROGEN = \",$E$8,\" NITROGEN = \",$E$9,\" OXYGEN = \",$E$10,\" HEAT_OF_COMBUSTION = \",$E$11,\" RADIATIVE_FRACTION = \",$E$12,\" /\"))","v":""},{"$f":"IF(OR(H107<$E$2,H107>$C$2),\"\",CONCATENATE(\"&CHEM ID = 'FP.\",zadani!$G$6,\".Y.\",I107,\"' CARBON = \",$E$6,\" CHLORINE = \",$E$7,\" HYDROGEN = \",$E$8,\" NITROGEN = \",$E$9,\" OXYGEN = \",$E$10,\" HEAT_OF_COMBUSTION = \",$E$11,\" RADIATIVE_FRACTION = \",$E$12,\" /\"))","v":""}]
[null,null,null,null,null,null,null,null,null,{"$f":"IF(OR(H107<$E$2,H107>$C$2),\"\",CONCATENATE(\"&TABL ID = 'FP.\",zadani!$G$6,\".X.\",I107,\"' LABELS = 'TIME', 'HRR' , 'HEIGHT' , 'AREA' , 'CO_YIELD' , 'SOOT_YIELD' , 'HCN_YIELD' , 'HCL_YIELD' , 'TRACE_YIELD'  /\"))","v":""},{"$f":"IF(OR(H107<$E$2,H107>$C$2),\"\",CONCATENATE(\"&TABL ID = 'FP.\",zadani!$G$6,\".Y.\",I107,\"' LABELS = 'TIME', 'HRR' , 'HEIGHT' , 'AREA' , 'CO_YIELD' , 'SOOT_YIELD' , 'HCN_YIELD' , 'HCL_YIELD' , 'TRACE_YIELD'  /\"))","v":""}]
[null,null,null,null,null,null,null,null,null,{"$f":"IF(OR(H107<$E$2,H107>$C$2),\"\",CONCATENATE(\"&TABL ID = 'FP.\",zadani!$G$6,\".X.\",I107,\"', DATA = \",$C$13,\", \",$E$13,\", \",I107,\", \",$E$31,\", \",$E$32,\", \",$E$33,\", \",$E$34,\", \",$E$35,\", \",$E$36,\" /\"))","v":""},{"$f":"IF(OR(H107<$E$2,H107>$C$2),\"\",CONCATENATE(\"&TABL ID = 'FP.\",zadani!$G$6,\".Y.\",I107,\"', DATA = \",$C$19,\", \",$E$19,\", \",I107,\", \",$E$31,\", \",$E$32,\", \",$E$33,\", \",$E$34,\", \",$E$35,\", \",$E$36,\" /\"))","v":""}]
[null,null,null,null,null,null,null,null,null,{"$f":"IF(OR(H107<$E$2,H107>$C$2),\"\",CONCATENATE(\"&TABL ID = 'FP.\",zadani!$G$6,\".X.\",I107,\"', DATA = \",$C$14,\", \",$E$14,\", \",I107,\", \",$E$31,\", \",$E$32,\", \",$E$33,\", \",$E$34,\", \",$E$35,\", \",$E$36,\" /\"))","v":""},{"$f":"IF(OR(H107<$E$2,H107>$C$2),\"\",CONCATENATE(\"&TABL ID = 'FP.\",zadani!$G$6,\".Y.\",I107,\"', DATA = \",$C$20,\", \",$E$20,\", \",I107,\", \",$E$31,\", \",$E$32,\", \",$E$33,\", \",$E$34,\", \",$E$35,\", \",$E$36,\" /\"))","v":""}]
[null,null,null,null,null,null,null,null,null,{"$f":"IF(OR(H107<$E$2,H107>$C$2),\"\",CONCATENATE(\"&TABL ID = 'FP.\",zadani!$G$6,\".X.\",I107,\"', DATA = \",$C$15,\", \",$E$15,\", \",I107,\", \",$E$31,\", \",$E$32,\", \",$E$33,\", \",$E$34,\", \",$E$35,\", \",$E$36,\" /\"))","v":""},{"$f":"IF(OR(H107<$E$2,H107>$C$2),\"\",CONCATENATE(\"&TABL ID = 'FP.\",zadani!$G$6,\".Y.\",I107,\"', DATA = \",$C$21,\", \",$E$21,\", \",I107,\", \",$E$31,\", \",$E$32,\", \",$E$33,\", \",$E$34,\", \",$E$35,\", \",$E$36,\" /\"))","v":""}]
[null,null,null,null,null,null,null,null,null,{"$f":"IF(OR(H107<$E$2,H107>$C$2),\"\",CONCATENATE(\"&TABL ID = 'FP.\",zadani!$G$6,\".X.\",I107,\"', DATA = \",$C$16,\", \",$E$16,\", \",I107,\", \",$E$31,\", \",$E$32,\", \",$E$33,\", \",$E$34,\", \",$E$35,\", \",$E$36,\" /\"))","v":""},{"$f":"IF(OR(H107<$E$2,H107>$C$2),\"\",CONCATENATE(\"&TABL ID = 'FP.\",zadani!$G$6,\".Y.\",I107,\"', DATA = \",$C$22,\", \",$E$22,\", \",I107,\", \",$E$31,\", \",$E$32,\", \",$E$33,\", \",$E$34,\", \",$E$35,\", \",$E$36,\" /\"))","v":""}]
[null,null,null,null,null,null,null,null,null,{"$f":"IF(OR(H107<$E$2,H107>$C$2),\"\",CONCATENATE(\"&TABL ID = 'FP.\",zadani!$G$6,\".X.\",I107,\"', DATA = \",$C$17,\", \",$E$17,\", \",I107,\", \",$E$31,\", \",$E$32,\", \",$E$33,\", \",$E$34,\", \",$E$35,\", \",$E$36,\" /\"))","v":""},{"$f":"IF(OR(H107<$E$2,H107>$C$2),\"\",CONCATENATE(\"&TABL ID = 'FP.\",zadani!$G$6,\".Y.\",I107,\"', DATA = \",$C$23,\", \",$E$23,\", \",I107,\", \",$E$31,\", \",$E$32,\", \",$E$33,\", \",$E$34,\", \",$E$35,\", \",$E$36,\" /\"))","v":""}]
[null,null,null,null,null,null,null,null,null,{"$f":"IF(OR(H107<$E$2,H107>$C$2),\"\",CONCATENATE(\"&TABL ID = 'FP.\",zadani!$G$6,\".X.\",I107,\"', DATA = \",$C$18,\", \",$E$18,\", \",I107,\", \",$E$31,\", \",$E$32,\", \",$E$33,\", \",$E$34,\", \",$E$35,\", \",$E$36,\" /\"))","v":""},{"$f":"IF(OR(H107<$E$2,H107>$C$2),\"\",CONCATENATE(\"&TABL ID = 'FP.\",zadani!$G$6,\".Y.\",I107,\"', DATA = \",$C$24,\", \",$E$24,\", \",I107,\", \",$E$31,\", \",$E$32,\", \",$E$33,\", \",$E$34,\", \",$E$35,\", \",$E$36,\" /\"))","v":""}]
[null,null,null,null,null,null,{"$f":"G107+1","v":15},{"$f":"H107+$C$3","v":12.6875},{"$f":"SUBSTITUTE(H115,\",\",\".\")","v":"12.6875"},{"$f":"IF(OR(H115<$E$2,H115>$C$2),\"\",CONCATENATE(\"&CHEM ID = 'FP.\",zadani!$G$6,\".X.\",I115,\"' CARBON = \",$E$6,\" CHLORINE = \",$E$7,\" HYDROGEN = \",$E$8,\" NITROGEN = \",$E$9,\" OXYGEN = \",$E$10,\" HEAT_OF_COMBUSTION = \",$E$11,\" RADIATIVE_FRACTION = \",$E$12,\" /\"))","v":""},{"$f":"IF(OR(H115<$E$2,H115>$C$2),\"\",CONCATENATE(\"&CHEM ID = 'FP.\",zadani!$G$6,\".Y.\",I115,\"' CARBON = \",$E$6,\" CHLORINE = \",$E$7,\" HYDROGEN = \",$E$8,\" NITROGEN = \",$E$9,\" OXYGEN = \",$E$10,\" HEAT_OF_COMBUSTION = \",$E$11,\" RADIATIVE_FRACTION = \",$E$12,\" /\"))","v":""}]
[null,null,null,null,null,null,null,null,null,{"$f":"IF(OR(H115<$E$2,H115>$C$2),\"\",CONCATENATE(\"&TABL ID = 'FP.\",zadani!$G$6,\".X.\",I115,\"' LABELS = 'TIME', 'HRR' , 'HEIGHT' , 'AREA' , 'CO_YIELD' , 'SOOT_YIELD' , 'HCN_YIELD' , 'HCL_YIELD' , 'TRACE_YIELD'  /\"))","v":""},{"$f":"IF(OR(H115<$E$2,H115>$C$2),\"\",CONCATENATE(\"&TABL ID = 'FP.\",zadani!$G$6,\".Y.\",I115,\"' LABELS = 'TIME', 'HRR' , 'HEIGHT' , 'AREA' , 'CO_YIELD' , 'SOOT_YIELD' , 'HCN_YIELD' , 'HCL_YIELD' , 'TRACE_YIELD'  /\"))","v":""}]
[null,null,null,null,null,null,null,null,null,{"$f":"IF(OR(H115<$E$2,H115>$C$2),\"\",CONCATENATE(\"&TABL ID = 'FP.\",zadani!$G$6,\".X.\",I115,\"', DATA = \",$C$13,\", \",$E$13,\", \",I115,\", \",$E$31,\", \",$E$32,\", \",$E$33,\", \",$E$34,\", \",$E$35,\", \",$E$36,\" /\"))","v":""},{"$f":"IF(OR(H115<$E$2,H115>$C$2),\"\",CONCATENATE(\"&TABL ID = 'FP.\",zadani!$G$6,\".Y.\",I115,\"', DATA = \",$C$19,\", \",$E$19,\", \",I115,\", \",$E$31,\", \",$E$32,\", \",$E$33,\", \",$E$34,\", \",$E$35,\", \",$E$36,\" /\"))","v":""}]
[null,null,null,null,null,null,null,null,null,{"$f":"IF(OR(H115<$E$2,H115>$C$2),\"\",CONCATENATE(\"&TABL ID = 'FP.\",zadani!$G$6,\".X.\",I115,\"', DATA = \",$C$14,\", \",$E$14,\", \",I115,\", \",$E$31,\", \",$E$32,\", \",$E$33,\", \",$E$34,\", \",$E$35,\", \",$E$36,\" /\"))","v":""},{"$f":"IF(OR(H115<$E$2,H115>$C$2),\"\",CONCATENATE(\"&TABL ID = 'FP.\",zadani!$G$6,\".Y.\",I115,\"', DATA = \",$C$20,\", \",$E$20,\", \",I115,\", \",$E$31,\", \",$E$32,\", \",$E$33,\", \",$E$34,\", \",$E$35,\", \",$E$36,\" /\"))","v":""}]
[null,null,null,null,null,null,null,null,null,{"$f":"IF(OR(H115<$E$2,H115>$C$2),\"\",CONCATENATE(\"&TABL ID = 'FP.\",zadani!$G$6,\".X.\",I115,\"', DATA = \",$C$15,\", \",$E$15,\", \",I115,\", \",$E$31,\", \",$E$32,\", \",$E$33,\", \",$E$34,\", \",$E$35,\", \",$E$36,\" /\"))","v":""},{"$f":"IF(OR(H115<$E$2,H115>$C$2),\"\",CONCATENATE(\"&TABL ID = 'FP.\",zadani!$G$6,\".Y.\",I115,\"', DATA = \",$C$21,\", \",$E$21,\", \",I115,\", \",$E$31,\", \",$E$32,\", \",$E$33,\", \",$E$34,\", \",$E$35,\", \",$E$36,\" /\"))","v":""}]
[null,null,null,null,null,null,null,null,null,{"$f":"IF(OR(H115<$E$2,H115>$C$2),\"\",CONCATENATE(\"&TABL ID = 'FP.\",zadani!$G$6,\".X.\",I115,\"', DATA = \",$C$16,\", \",$E$16,\", \",I115,\", \",$E$31,\", \",$E$32,\", \",$E$33,\", \",$E$34,\", \",$E$35,\", \",$E$36,\" /\"))","v":""},{"$f":"IF(OR(H115<$E$2,H115>$C$2),\"\",CONCATENATE(\"&TABL ID = 'FP.\",zadani!$G$6,\".Y.\",I115,\"', DATA = \",$C$22,\", \",$E$22,\", \",I115,\", \",$E$31,\", \",$E$32,\", \",$E$33,\", \",$E$34,\", \",$E$35,\", \",$E$36,\" /\"))","v":""}]
[null,null,null,null,null,null,null,null,null,{"$f":"IF(OR(H115<$E$2,H115>$C$2),\"\",CONCATENATE(\"&TABL ID = 'FP.\",zadani!$G$6,\".X.\",I115,\"', DATA = \",$C$17,\", \",$E$17,\", \",I115,\", \",$E$31,\", \",$E$32,\", \",$E$33,\", \",$E$34,\", \",$E$35,\", \",$E$36,\" /\"))","v":""},{"$f":"IF(OR(H115<$E$2,H115>$C$2),\"\",CONCATENATE(\"&TABL ID = 'FP.\",zadani!$G$6,\".Y.\",I115,\"', DATA = \",$C$23,\", \",$E$23,\", \",I115,\", \",$E$31,\", \",$E$32,\", \",$E$33,\", \",$E$34,\", \",$E$35,\", \",$E$36,\" /\"))","v":""}]
[null,null,null,null,null,null,null,null,null,{"$f":"IF(OR(H115<$E$2,H115>$C$2),\"\",CONCATENATE(\"&TABL ID = 'FP.\",zadani!$G$6,\".X.\",I115,\"', DATA = \",$C$18,\", \",$E$18,\", \",I115,\", \",$E$31,\", \",$E$32,\", \",$E$33,\", \",$E$34,\", \",$E$35,\", \",$E$36,\" /\"))","v":""},{"$f":"IF(OR(H115<$E$2,H115>$C$2),\"\",CONCATENATE(\"&TABL ID = 'FP.\",zadani!$G$6,\".Y.\",I115,\"', DATA = \",$C$24,\", \",$E$24,\", \",I115,\", \",$E$31,\", \",$E$32,\", \",$E$33,\", \",$E$34,\", \",$E$35,\", \",$E$36,\" /\"))","v":""}]
[null,null,null,null,null,null,{"$f":"G115+1","v":16},{"$f":"H115+$C$3","v":13.5625},{"$f":"SUBSTITUTE(H123,\",\",\".\")","v":"13.5625"},{"$f":"IF(OR(H123<$E$2,H123>$C$2),\"\",CONCATENATE(\"&CHEM ID = 'FP.\",zadani!$G$6,\".X.\",I123,\"' CARBON = \",$E$6,\" CHLORINE = \",$E$7,\" HYDROGEN = \",$E$8,\" NITROGEN = \",$E$9,\" OXYGEN = \",$E$10,\" HEAT_OF_COMBUSTION = \",$E$11,\" RADIATIVE_FRACTION = \",$E$12,\" /\"))","v":""},{"$f":"IF(OR(H123<$E$2,H123>$C$2),\"\",CONCATENATE(\"&CHEM ID = 'FP.\",zadani!$G$6,\".Y.\",I123,\"' CARBON = \",$E$6,\" CHLORINE = \",$E$7,\" HYDROGEN = \",$E$8,\" NITROGEN = \",$E$9,\" OXYGEN = \",$E$10,\" HEAT_OF_COMBUSTION = \",$E$11,\" RADIATIVE_FRACTION = \",$E$12,\" /\"))","v":""}]
[null,null,null,null,null,null,null,null,null,{"$f":"IF(OR(H123<$E$2,H123>$C$2),\"\",CONCATENATE(\"&TABL ID = 'FP.\",zadani!$G$6,\".X.\",I123,\"' LABELS = 'TIME', 'HRR' , 'HEIGHT' , 'AREA' , 'CO_YIELD' , 'SOOT_YIELD' , 'HCN_YIELD' , 'HCL_YIELD' , 'TRACE_YIELD'  /\"))","v":""},{"$f":"IF(OR(H123<$E$2,H123>$C$2),\"\",CONCATENATE(\"&TABL ID = 'FP.\",zadani!$G$6,\".Y.\",I123,\"' LABELS = 'TIME', 'HRR' , 'HEIGHT' , 'AREA' , 'CO_YIELD' , 'SOOT_YIELD' , 'HCN_YIELD' , 'HCL_YIELD' , 'TRACE_YIELD'  /\"))","v":""}]
[null,null,null,null,null,null,null,null,null,{"$f":"IF(OR(H123<$E$2,H123>$C$2),\"\",CONCATENATE(\"&TABL ID = 'FP.\",zadani!$G$6,\".X.\",I123,\"', DATA = \",$C$13,\", \",$E$13,\", \",I123,\", \",$E$31,\", \",$E$32,\", \",$E$33,\", \",$E$34,\", \",$E$35,\", \",$E$36,\" /\"))","v":""},{"$f":"IF(OR(H123<$E$2,H123>$C$2),\"\",CONCATENATE(\"&TABL ID = 'FP.\",zadani!$G$6,\".Y.\",I123,\"', DATA = \",$C$19,\", \",$E$19,\", \",I123,\", \",$E$31,\", \",$E$32,\", \",$E$33,\", \",$E$34,\", \",$E$35,\", \",$E$36,\" /\"))","v":""}]
[null,null,null,null,null,null,null,null,null,{"$f":"IF(OR(H123<$E$2,H123>$C$2),\"\",CONCATENATE(\"&TABL ID = 'FP.\",zadani!$G$6,\".X.\",I123,\"', DATA = \",$C$14,\", \",$E$14,\", \",I123,\", \",$E$31,\", \",$E$32,\", \",$E$33,\", \",$E$34,\", \",$E$35,\", \",$E$36,\" /\"))","v":""},{"$f":"IF(OR(H123<$E$2,H123>$C$2),\"\",CONCATENATE(\"&TABL ID = 'FP.\",zadani!$G$6,\".Y.\",I123,\"', DATA = \",$C$20,\", \",$E$20,\", \",I123,\", \",$E$31,\", \",$E$32,\", \",$E$33,\", \",$E$34,\", \",$E$35,\", \",$E$36,\" /\"))","v":""}]
[null,null,null,null,null,null,null,null,null,{"$f":"IF(OR(H123<$E$2,H123>$C$2),\"\",CONCATENATE(\"&TABL ID = 'FP.\",zadani!$G$6,\".X.\",I123,\"', DATA = \",$C$15,\", \",$E$15,\", \",I123,\", \",$E$31,\", \",$E$32,\", \",$E$33,\", \",$E$34,\", \",$E$35,\", \",$E$36,\" /\"))","v":""},{"$f":"IF(OR(H123<$E$2,H123>$C$2),\"\",CONCATENATE(\"&TABL ID = 'FP.\",zadani!$G$6,\".Y.\",I123,\"', DATA = \",$C$21,\", \",$E$21,\", \",I123,\", \",$E$31,\", \",$E$32,\", \",$E$33,\", \",$E$34,\", \",$E$35,\", \",$E$36,\" /\"))","v":""}]
[null,null,null,null,null,null,null,null,null,{"$f":"IF(OR(H123<$E$2,H123>$C$2),\"\",CONCATENATE(\"&TABL ID = 'FP.\",zadani!$G$6,\".X.\",I123,\"', DATA = \",$C$16,\", \",$E$16,\", \",I123,\", \",$E$31,\", \",$E$32,\", \",$E$33,\", \",$E$34,\", \",$E$35,\", \",$E$36,\" /\"))","v":""},{"$f":"IF(OR(H123<$E$2,H123>$C$2),\"\",CONCATENATE(\"&TABL ID = 'FP.\",zadani!$G$6,\".Y.\",I123,\"', DATA = \",$C$22,\", \",$E$22,\", \",I123,\", \",$E$31,\", \",$E$32,\", \",$E$33,\", \",$E$34,\", \",$E$35,\", \",$E$36,\" /\"))","v":""}]
[null,null,null,null,null,null,null,null,null,{"$f":"IF(OR(H123<$E$2,H123>$C$2),\"\",CONCATENATE(\"&TABL ID = 'FP.\",zadani!$G$6,\".X.\",I123,\"', DATA = \",$C$17,\", \",$E$17,\", \",I123,\", \",$E$31,\", \",$E$32,\", \",$E$33,\", \",$E$34,\", \",$E$35,\", \",$E$36,\" /\"))","v":""},{"$f":"IF(OR(H123<$E$2,H123>$C$2),\"\",CONCATENATE(\"&TABL ID = 'FP.\",zadani!$G$6,\".Y.\",I123,\"', DATA = \",$C$23,\", \",$E$23,\", \",I123,\", \",$E$31,\", \",$E$32,\", \",$E$33,\", \",$E$34,\", \",$E$35,\", \",$E$36,\" /\"))","v":""}]
[null,null,null,null,null,null,null,null,null,{"$f":"IF(OR(H123<$E$2,H123>$C$2),\"\",CONCATENATE(\"&TABL ID = 'FP.\",zadani!$G$6,\".X.\",I123,\"', DATA = \",$C$18,\", \",$E$18,\", \",I123,\", \",$E$31,\", \",$E$32,\", \",$E$33,\", \",$E$34,\", \",$E$35,\", \",$E$36,\" /\"))","v":""},{"$f":"IF(OR(H123<$E$2,H123>$C$2),\"\",CONCATENATE(\"&TABL ID = 'FP.\",zadani!$G$6,\".Y.\",I123,\"', DATA = \",$C$24,\", \",$E$24,\", \",I123,\", \",$E$31,\", \",$E$32,\", \",$E$33,\", \",$E$34,\", \",$E$35,\", \",$E$36,\" /\"))","v":""}]
[null,null,null,null,null,null,{"$f":"G123+1","v":17},{"$f":"H123+$C$3","v":14.4375},{"$f":"SUBSTITUTE(H131,\",\",\".\")","v":"14.4375"},{"$f":"IF(OR(H131<$E$2,H131>$C$2),\"\",CONCATENATE(\"&CHEM ID = 'FP.\",zadani!$G$6,\".X.\",I131,\"' CARBON = \",$E$6,\" CHLORINE = \",$E$7,\" HYDROGEN = \",$E$8,\" NITROGEN = \",$E$9,\" OXYGEN = \",$E$10,\" HEAT_OF_COMBUSTION = \",$E$11,\" RADIATIVE_FRACTION = \",$E$12,\" /\"))","v":""},{"$f":"IF(OR(H131<$E$2,H131>$C$2),\"\",CONCATENATE(\"&CHEM ID = 'FP.\",zadani!$G$6,\".Y.\",I131,\"' CARBON = \",$E$6,\" CHLORINE = \",$E$7,\" HYDROGEN = \",$E$8,\" NITROGEN = \",$E$9,\" OXYGEN = \",$E$10,\" HEAT_OF_COMBUSTION = \",$E$11,\" RADIATIVE_FRACTION = \",$E$12,\" /\"))","v":""}]
[null,null,null,null,null,null,null,null,null,{"$f":"IF(OR(H131<$E$2,H131>$C$2),\"\",CONCATENATE(\"&TABL ID = 'FP.\",zadani!$G$6,\".X.\",I131,\"' LABELS = 'TIME', 'HRR' , 'HEIGHT' , 'AREA' , 'CO_YIELD' , 'SOOT_YIELD' , 'HCN_YIELD' , 'HCL_YIELD' , 'TRACE_YIELD'  /\"))","v":""},{"$f":"IF(OR(H131<$E$2,H131>$C$2),\"\",CONCATENATE(\"&TABL ID = 'FP.\",zadani!$G$6,\".Y.\",I131,\"' LABELS = 'TIME', 'HRR' , 'HEIGHT' , 'AREA' , 'CO_YIELD' , 'SOOT_YIELD' , 'HCN_YIELD' , 'HCL_YIELD' , 'TRACE_YIELD'  /\"))","v":""}]
[null,null,null,null,null,null,null,null,null,{"$f":"IF(OR(H131<$E$2,H131>$C$2),\"\",CONCATENATE(\"&TABL ID = 'FP.\",zadani!$G$6,\".X.\",I131,\"', DATA = \",$C$13,\", \",$E$13,\", \",I131,\", \",$E$31,\", \",$E$32,\", \",$E$33,\", \",$E$34,\", \",$E$35,\", \",$E$36,\" /\"))","v":""},{"$f":"IF(OR(H131<$E$2,H131>$C$2),\"\",CONCATENATE(\"&TABL ID = 'FP.\",zadani!$G$6,\".Y.\",I131,\"', DATA = \",$C$19,\", \",$E$19,\", \",I131,\", \",$E$31,\", \",$E$32,\", \",$E$33,\", \",$E$34,\", \",$E$35,\", \",$E$36,\" /\"))","v":""}]
[null,null,null,null,null,null,null,null,null,{"$f":"IF(OR(H131<$E$2,H131>$C$2),\"\",CONCATENATE(\"&TABL ID = 'FP.\",zadani!$G$6,\".X.\",I131,\"', DATA = \",$C$14,\", \",$E$14,\", \",I131,\", \",$E$31,\", \",$E$32,\", \",$E$33,\", \",$E$34,\", \",$E$35,\", \",$E$36,\" /\"))","v":""},{"$f":"IF(OR(H131<$E$2,H131>$C$2),\"\",CONCATENATE(\"&TABL ID = 'FP.\",zadani!$G$6,\".Y.\",I131,\"', DATA = \",$C$20,\", \",$E$20,\", \",I131,\", \",$E$31,\", \",$E$32,\", \",$E$33,\", \",$E$34,\", \",$E$35,\", \",$E$36,\" /\"))","v":""}]
[null,null,null,null,null,null,null,null,null,{"$f":"IF(OR(H131<$E$2,H131>$C$2),\"\",CONCATENATE(\"&TABL ID = 'FP.\",zadani!$G$6,\".X.\",I131,\"', DATA = \",$C$15,\", \",$E$15,\", \",I131,\", \",$E$31,\", \",$E$32,\", \",$E$33,\", \",$E$34,\", \",$E$35,\", \",$E$36,\" /\"))","v":""},{"$f":"IF(OR(H131<$E$2,H131>$C$2),\"\",CONCATENATE(\"&TABL ID = 'FP.\",zadani!$G$6,\".Y.\",I131,\"', DATA = \",$C$21,\", \",$E$21,\", \",I131,\", \",$E$31,\", \",$E$32,\", \",$E$33,\", \",$E$34,\", \",$E$35,\", \",$E$36,\" /\"))","v":""}]
[null,null,null,null,null,null,null,null,null,{"$f":"IF(OR(H131<$E$2,H131>$C$2),\"\",CONCATENATE(\"&TABL ID = 'FP.\",zadani!$G$6,\".X.\",I131,\"', DATA = \",$C$16,\", \",$E$16,\", \",I131,\", \",$E$31,\", \",$E$32,\", \",$E$33,\", \",$E$34,\", \",$E$35,\", \",$E$36,\" /\"))","v":""},{"$f":"IF(OR(H131<$E$2,H131>$C$2),\"\",CONCATENATE(\"&TABL ID = 'FP.\",zadani!$G$6,\".Y.\",I131,\"', DATA = \",$C$22,\", \",$E$22,\", \",I131,\", \",$E$31,\", \",$E$32,\", \",$E$33,\", \",$E$34,\", \",$E$35,\", \",$E$36,\" /\"))","v":""}]
[null,null,null,null,null,null,null,null,null,{"$f":"IF(OR(H131<$E$2,H131>$C$2),\"\",CONCATENATE(\"&TABL ID = 'FP.\",zadani!$G$6,\".X.\",I131,\"', DATA = \",$C$17,\", \",$E$17,\", \",I131,\", \",$E$31,\", \",$E$32,\", \",$E$33,\", \",$E$34,\", \",$E$35,\", \",$E$36,\" /\"))","v":""},{"$f":"IF(OR(H131<$E$2,H131>$C$2),\"\",CONCATENATE(\"&TABL ID = 'FP.\",zadani!$G$6,\".Y.\",I131,\"', DATA = \",$C$23,\", \",$E$23,\", \",I131,\", \",$E$31,\", \",$E$32,\", \",$E$33,\", \",$E$34,\", \",$E$35,\", \",$E$36,\" /\"))","v":""}]
[null,null,null,null,null,null,null,null,null,{"$f":"IF(OR(H131<$E$2,H131>$C$2),\"\",CONCATENATE(\"&TABL ID = 'FP.\",zadani!$G$6,\".X.\",I131,\"', DATA = \",$C$18,\", \",$E$18,\", \",I131,\", \",$E$31,\", \",$E$32,\", \",$E$33,\", \",$E$34,\", \",$E$35,\", \",$E$36,\" /\"))","v":""},{"$f":"IF(OR(H131<$E$2,H131>$C$2),\"\",CONCATENATE(\"&TABL ID = 'FP.\",zadani!$G$6,\".Y.\",I131,\"', DATA = \",$C$24,\", \",$E$24,\", \",I131,\", \",$E$31,\", \",$E$32,\", \",$E$33,\", \",$E$34,\", \",$E$35,\", \",$E$36,\" /\"))","v":""}]
[null,null,null,null,null,null,{"$f":"G131+1","v":18},{"$f":"H131+$C$3","v":15.3125},{"$f":"SUBSTITUTE(H139,\",\",\".\")","v":"15.3125"},{"$f":"IF(OR(H139<$E$2,H139>$C$2),\"\",CONCATENATE(\"&CHEM ID = 'FP.\",zadani!$G$6,\".X.\",I139,\"' CARBON = \",$E$6,\" CHLORINE = \",$E$7,\" HYDROGEN = \",$E$8,\" NITROGEN = \",$E$9,\" OXYGEN = \",$E$10,\" HEAT_OF_COMBUSTION = \",$E$11,\" RADIATIVE_FRACTION = \",$E$12,\" /\"))","v":""},{"$f":"IF(OR(H139<$E$2,H139>$C$2),\"\",CONCATENATE(\"&CHEM ID = 'FP.\",zadani!$G$6,\".Y.\",I139,\"' CARBON = \",$E$6,\" CHLORINE = \",$E$7,\" HYDROGEN = \",$E$8,\" NITROGEN = \",$E$9,\" OXYGEN = \",$E$10,\" HEAT_OF_COMBUSTION = \",$E$11,\" RADIATIVE_FRACTION = \",$E$12,\" /\"))","v":""}]
[null,null,null,null,null,null,null,null,null,{"$f":"IF(OR(H139<$E$2,H139>$C$2),\"\",CONCATENATE(\"&TABL ID = 'FP.\",zadani!$G$6,\".X.\",I139,\"' LABELS = 'TIME', 'HRR' , 'HEIGHT' , 'AREA' , 'CO_YIELD' , 'SOOT_YIELD' , 'HCN_YIELD' , 'HCL_YIELD' , 'TRACE_YIELD'  /\"))","v":""},{"$f":"IF(OR(H139<$E$2,H139>$C$2),\"\",CONCATENATE(\"&TABL ID = 'FP.\",zadani!$G$6,\".Y.\",I139,\"' LABELS = 'TIME', 'HRR' , 'HEIGHT' , 'AREA' , 'CO_YIELD' , 'SOOT_YIELD' , 'HCN_YIELD' , 'HCL_YIELD' , 'TRACE_YIELD'  /\"))","v":""}]
[null,null,null,null,null,null,null,null,null,{"$f":"IF(OR(H139<$E$2,H139>$C$2),\"\",CONCATENATE(\"&TABL ID = 'FP.\",zadani!$G$6,\".X.\",I139,\"', DATA = \",$C$13,\", \",$E$13,\", \",I139,\", \",$E$31,\", \",$E$32,\", \",$E$33,\", \",$E$34,\", \",$E$35,\", \",$E$36,\" /\"))","v":""},{"$f":"IF(OR(H139<$E$2,H139>$C$2),\"\",CONCATENATE(\"&TABL ID = 'FP.\",zadani!$G$6,\".Y.\",I139,\"', DATA = \",$C$19,\", \",$E$19,\", \",I139,\", \",$E$31,\", \",$E$32,\", \",$E$33,\", \",$E$34,\", \",$E$35,\", \",$E$36,\" /\"))","v":""}]
[null,null,null,null,null,null,null,null,null,{"$f":"IF(OR(H139<$E$2,H139>$C$2),\"\",CONCATENATE(\"&TABL ID = 'FP.\",zadani!$G$6,\".X.\",I139,\"', DATA = \",$C$14,\", \",$E$14,\", \",I139,\", \",$E$31,\", \",$E$32,\", \",$E$33,\", \",$E$34,\", \",$E$35,\", \",$E$36,\" /\"))","v":""},{"$f":"IF(OR(H139<$E$2,H139>$C$2),\"\",CONCATENATE(\"&TABL ID = 'FP.\",zadani!$G$6,\".Y.\",I139,\"', DATA = \",$C$20,\", \",$E$20,\", \",I139,\", \",$E$31,\", \",$E$32,\", \",$E$33,\", \",$E$34,\", \",$E$35,\", \",$E$36,\" /\"))","v":""}]
[null,null,null,null,null,null,null,null,null,{"$f":"IF(OR(H139<$E$2,H139>$C$2),\"\",CONCATENATE(\"&TABL ID = 'FP.\",zadani!$G$6,\".X.\",I139,\"', DATA = \",$C$15,\", \",$E$15,\", \",I139,\", \",$E$31,\", \",$E$32,\", \",$E$33,\", \",$E$34,\", \",$E$35,\", \",$E$36,\" /\"))","v":""},{"$f":"IF(OR(H139<$E$2,H139>$C$2),\"\",CONCATENATE(\"&TABL ID = 'FP.\",zadani!$G$6,\".Y.\",I139,\"', DATA = \",$C$21,\", \",$E$21,\", \",I139,\", \",$E$31,\", \",$E$32,\", \",$E$33,\", \",$E$34,\", \",$E$35,\", \",$E$36,\" /\"))","v":""}]
[null,null,null,null,null,null,null,null,null,{"$f":"IF(OR(H139<$E$2,H139>$C$2),\"\",CONCATENATE(\"&TABL ID = 'FP.\",zadani!$G$6,\".X.\",I139,\"', DATA = \",$C$16,\", \",$E$16,\", \",I139,\", \",$E$31,\", \",$E$32,\", \",$E$33,\", \",$E$34,\", \",$E$35,\", \",$E$36,\" /\"))","v":""},{"$f":"IF(OR(H139<$E$2,H139>$C$2),\"\",CONCATENATE(\"&TABL ID = 'FP.\",zadani!$G$6,\".Y.\",I139,\"', DATA = \",$C$22,\", \",$E$22,\", \",I139,\", \",$E$31,\", \",$E$32,\", \",$E$33,\", \",$E$34,\", \",$E$35,\", \",$E$36,\" /\"))","v":""}]
[null,null,null,null,null,null,null,null,null,{"$f":"IF(OR(H139<$E$2,H139>$C$2),\"\",CONCATENATE(\"&TABL ID = 'FP.\",zadani!$G$6,\".X.\",I139,\"', DATA = \",$C$17,\", \",$E$17,\", \",I139,\", \",$E$31,\", \",$E$32,\", \",$E$33,\", \",$E$34,\", \",$E$35,\", \",$E$36,\" /\"))","v":""},{"$f":"IF(OR(H139<$E$2,H139>$C$2),\"\",CONCATENATE(\"&TABL ID = 'FP.\",zadani!$G$6,\".Y.\",I139,\"', DATA = \",$C$23,\", \",$E$23,\", \",I139,\", \",$E$31,\", \",$E$32,\", \",$E$33,\", \",$E$34,\", \",$E$35,\", \",$E$36,\" /\"))","v":""}]
[null,null,null,null,null,null,null,null,null,{"$f":"IF(OR(H139<$E$2,H139>$C$2),\"\",CONCATENATE(\"&TABL ID = 'FP.\",zadani!$G$6,\".X.\",I139,\"', DATA = \",$C$18,\", \",$E$18,\", \",I139,\", \",$E$31,\", \",$E$32,\", \",$E$33,\", \",$E$34,\", \",$E$35,\", \",$E$36,\" /\"))","v":""},{"$f":"IF(OR(H139<$E$2,H139>$C$2),\"\",CONCATENATE(\"&TABL ID = 'FP.\",zadani!$G$6,\".Y.\",I139,\"', DATA = \",$C$24,\", \",$E$24,\", \",I139,\", \",$E$31,\", \",$E$32,\", \",$E$33,\", \",$E$34,\", \",$E$35,\", \",$E$36,\" /\"))","v":""}]
[null,null,null,null,null,null,{"$f":"G139+1","v":19},{"$f":"H139+$C$3","v":16.1875},{"$f":"SUBSTITUTE(H147,\",\",\".\")","v":"16.1875"},{"$f":"IF(OR(H147<$E$2,H147>$C$2),\"\",CONCATENATE(\"&CHEM ID = 'FP.\",zadani!$G$6,\".X.\",I147,\"' CARBON = \",$E$6,\" CHLORINE = \",$E$7,\" HYDROGEN = \",$E$8,\" NITROGEN = \",$E$9,\" OXYGEN = \",$E$10,\" HEAT_OF_COMBUSTION = \",$E$11,\" RADIATIVE_FRACTION = \",$E$12,\" /\"))","v":""},{"$f":"IF(OR(H147<$E$2,H147>$C$2),\"\",CONCATENATE(\"&CHEM ID = 'FP.\",zadani!$G$6,\".Y.\",I147,\"' CARBON = \",$E$6,\" CHLORINE = \",$E$7,\" HYDROGEN = \",$E$8,\" NITROGEN = \",$E$9,\" OXYGEN = \",$E$10,\" HEAT_OF_COMBUSTION = \",$E$11,\" RADIATIVE_FRACTION = \",$E$12,\" /\"))","v":""}]
[null,null,null,null,null,null,null,null,null,{"$f":"IF(OR(H147<$E$2,H147>$C$2),\"\",CONCATENATE(\"&TABL ID = 'FP.\",zadani!$G$6,\".X.\",I147,\"' LABELS = 'TIME', 'HRR' , 'HEIGHT' , 'AREA' , 'CO_YIELD' , 'SOOT_YIELD' , 'HCN_YIELD' , 'HCL_YIELD' , 'TRACE_YIELD'  /\"))","v":""},{"$f":"IF(OR(H147<$E$2,H147>$C$2),\"\",CONCATENATE(\"&TABL ID = 'FP.\",zadani!$G$6,\".Y.\",I147,\"' LABELS = 'TIME', 'HRR' , 'HEIGHT' , 'AREA' , 'CO_YIELD' , 'SOOT_YIELD' , 'HCN_YIELD' , 'HCL_YIELD' , 'TRACE_YIELD'  /\"))","v":""}]
[null,null,null,null,null,null,null,null,null,{"$f":"IF(OR(H147<$E$2,H147>$C$2),\"\",CONCATENATE(\"&TABL ID = 'FP.\",zadani!$G$6,\".X.\",I147,\"', DATA = \",$C$13,\", \",$E$13,\", \",I147,\", \",$E$31,\", \",$E$32,\", \",$E$33,\", \",$E$34,\", \",$E$35,\", \",$E$36,\" /\"))","v":""},{"$f":"IF(OR(H147<$E$2,H147>$C$2),\"\",CONCATENATE(\"&TABL ID = 'FP.\",zadani!$G$6,\".Y.\",I147,\"', DATA = \",$C$19,\", \",$E$19,\", \",I147,\", \",$E$31,\", \",$E$32,\", \",$E$33,\", \",$E$34,\", \",$E$35,\", \",$E$36,\" /\"))","v":""}]
[null,null,null,null,null,null,null,null,null,{"$f":"IF(OR(H147<$E$2,H147>$C$2),\"\",CONCATENATE(\"&TABL ID = 'FP.\",zadani!$G$6,\".X.\",I147,\"', DATA = \",$C$14,\", \",$E$14,\", \",I147,\", \",$E$31,\", \",$E$32,\", \",$E$33,\", \",$E$34,\", \",$E$35,\", \",$E$36,\" /\"))","v":""},{"$f":"IF(OR(H147<$E$2,H147>$C$2),\"\",CONCATENATE(\"&TABL ID = 'FP.\",zadani!$G$6,\".Y.\",I147,\"', DATA = \",$C$20,\", \",$E$20,\", \",I147,\", \",$E$31,\", \",$E$32,\", \",$E$33,\", \",$E$34,\", \",$E$35,\", \",$E$36,\" /\"))","v":""}]
[null,null,null,null,null,null,null,null,null,{"$f":"IF(OR(H147<$E$2,H147>$C$2),\"\",CONCATENATE(\"&TABL ID = 'FP.\",zadani!$G$6,\".X.\",I147,\"', DATA = \",$C$15,\", \",$E$15,\", \",I147,\", \",$E$31,\", \",$E$32,\", \",$E$33,\", \",$E$34,\", \",$E$35,\", \",$E$36,\" /\"))","v":""},{"$f":"IF(OR(H147<$E$2,H147>$C$2),\"\",CONCATENATE(\"&TABL ID = 'FP.\",zadani!$G$6,\".Y.\",I147,\"', DATA = \",$C$21,\", \",$E$21,\", \",I147,\", \",$E$31,\", \",$E$32,\", \",$E$33,\", \",$E$34,\", \",$E$35,\", \",$E$36,\" /\"))","v":""}]
[null,null,null,null,null,null,null,null,null,{"$f":"IF(OR(H147<$E$2,H147>$C$2),\"\",CONCATENATE(\"&TABL ID = 'FP.\",zadani!$G$6,\".X.\",I147,\"', DATA = \",$C$16,\", \",$E$16,\", \",I147,\", \",$E$31,\", \",$E$32,\", \",$E$33,\", \",$E$34,\", \",$E$35,\", \",$E$36,\" /\"))","v":""},{"$f":"IF(OR(H147<$E$2,H147>$C$2),\"\",CONCATENATE(\"&TABL ID = 'FP.\",zadani!$G$6,\".Y.\",I147,\"', DATA = \",$C$22,\", \",$E$22,\", \",I147,\", \",$E$31,\", \",$E$32,\", \",$E$33,\", \",$E$34,\", \",$E$35,\", \",$E$36,\" /\"))","v":""}]
[null,null,null,null,null,null,null,null,null,{"$f":"IF(OR(H147<$E$2,H147>$C$2),\"\",CONCATENATE(\"&TABL ID = 'FP.\",zadani!$G$6,\".X.\",I147,\"', DATA = \",$C$17,\", \",$E$17,\", \",I147,\", \",$E$31,\", \",$E$32,\", \",$E$33,\", \",$E$34,\", \",$E$35,\", \",$E$36,\" /\"))","v":""},{"$f":"IF(OR(H147<$E$2,H147>$C$2),\"\",CONCATENATE(\"&TABL ID = 'FP.\",zadani!$G$6,\".Y.\",I147,\"', DATA = \",$C$23,\", \",$E$23,\", \",I147,\", \",$E$31,\", \",$E$32,\", \",$E$33,\", \",$E$34,\", \",$E$35,\", \",$E$36,\" /\"))","v":""}]
[null,null,null,null,null,null,null,null,null,{"$f":"IF(OR(H147<$E$2,H147>$C$2),\"\",CONCATENATE(\"&TABL ID = 'FP.\",zadani!$G$6,\".X.\",I147,\"', DATA = \",$C$18,\", \",$E$18,\", \",I147,\", \",$E$31,\", \",$E$32,\", \",$E$33,\", \",$E$34,\", \",$E$35,\", \",$E$36,\" /\"))","v":""},{"$f":"IF(OR(H147<$E$2,H147>$C$2),\"\",CONCATENATE(\"&TABL ID = 'FP.\",zadani!$G$6,\".Y.\",I147,\"', DATA = \",$C$24,\", \",$E$24,\", \",I147,\", \",$E$31,\", \",$E$32,\", \",$E$33,\", \",$E$34,\", \",$E$35,\", \",$E$36,\" /\"))","v":""}]
[null,null,null,null,null,null,{"$f":"G147+1","v":20},{"$f":"H147+$C$3","v":17.0625},{"$f":"SUBSTITUTE(H155,\",\",\".\")","v":"17.0625"},{"$f":"IF(OR(H155<$E$2,H155>$C$2),\"\",CONCATENATE(\"&CHEM ID = 'FP.\",zadani!$G$6,\".X.\",I155,\"' CARBON = \",$E$6,\" CHLORINE = \",$E$7,\" HYDROGEN = \",$E$8,\" NITROGEN = \",$E$9,\" OXYGEN = \",$E$10,\" HEAT_OF_COMBUSTION = \",$E$11,\" RADIATIVE_FRACTION = \",$E$12,\" /\"))","v":""},{"$f":"IF(OR(H155<$E$2,H155>$C$2),\"\",CONCATENATE(\"&CHEM ID = 'FP.\",zadani!$G$6,\".Y.\",I155,\"' CARBON = \",$E$6,\" CHLORINE = \",$E$7,\" HYDROGEN = \",$E$8,\" NITROGEN = \",$E$9,\" OXYGEN = \",$E$10,\" HEAT_OF_COMBUSTION = \",$E$11,\" RADIATIVE_FRACTION = \",$E$12,\" /\"))","v":""}]
[null,null,null,null,null,null,null,null,null,{"$f":"IF(OR(H155<$E$2,H155>$C$2),\"\",CONCATENATE(\"&TABL ID = 'FP.\",zadani!$G$6,\".X.\",I155,\"' LABELS = 'TIME', 'HRR' , 'HEIGHT' , 'AREA' , 'CO_YIELD' , 'SOOT_YIELD' , 'HCN_YIELD' , 'HCL_YIELD' , 'TRACE_YIELD'  /\"))","v":""},{"$f":"IF(OR(H155<$E$2,H155>$C$2),\"\",CONCATENATE(\"&TABL ID = 'FP.\",zadani!$G$6,\".Y.\",I155,\"' LABELS = 'TIME', 'HRR' , 'HEIGHT' , 'AREA' , 'CO_YIELD' , 'SOOT_YIELD' , 'HCN_YIELD' , 'HCL_YIELD' , 'TRACE_YIELD'  /\"))","v":""}]
[null,null,null,null,null,null,null,null,null,{"$f":"IF(OR(H155<$E$2,H155>$C$2),\"\",CONCATENATE(\"&TABL ID = 'FP.\",zadani!$G$6,\".X.\",I155,\"', DATA = \",$C$13,\", \",$E$13,\", \",I155,\", \",$E$31,\", \",$E$32,\", \",$E$33,\", \",$E$34,\", \",$E$35,\", \",$E$36,\" /\"))","v":""},{"$f":"IF(OR(H155<$E$2,H155>$C$2),\"\",CONCATENATE(\"&TABL ID = 'FP.\",zadani!$G$6,\".Y.\",I155,\"', DATA = \",$C$19,\", \",$E$19,\", \",I155,\", \",$E$31,\", \",$E$32,\", \",$E$33,\", \",$E$34,\", \",$E$35,\", \",$E$36,\" /\"))","v":""}]
[null,null,null,null,null,null,null,null,null,{"$f":"IF(OR(H155<$E$2,H155>$C$2),\"\",CONCATENATE(\"&TABL ID = 'FP.\",zadani!$G$6,\".X.\",I155,\"', DATA = \",$C$14,\", \",$E$14,\", \",I155,\", \",$E$31,\", \",$E$32,\", \",$E$33,\", \",$E$34,\", \",$E$35,\", \",$E$36,\" /\"))","v":""},{"$f":"IF(OR(H155<$E$2,H155>$C$2),\"\",CONCATENATE(\"&TABL ID = 'FP.\",zadani!$G$6,\".Y.\",I155,\"', DATA = \",$C$20,\", \",$E$20,\", \",I155,\", \",$E$31,\", \",$E$32,\", \",$E$33,\", \",$E$34,\", \",$E$35,\", \",$E$36,\" /\"))","v":""}]
[null,null,null,null,null,null,null,null,null,{"$f":"IF(OR(H155<$E$2,H155>$C$2),\"\",CONCATENATE(\"&TABL ID = 'FP.\",zadani!$G$6,\".X.\",I155,\"', DATA = \",$C$15,\", \",$E$15,\", \",I155,\", \",$E$31,\", \",$E$32,\", \",$E$33,\", \",$E$34,\", \",$E$35,\", \",$E$36,\" /\"))","v":""},{"$f":"IF(OR(H155<$E$2,H155>$C$2),\"\",CONCATENATE(\"&TABL ID = 'FP.\",zadani!$G$6,\".Y.\",I155,\"', DATA = \",$C$21,\", \",$E$21,\", \",I155,\", \",$E$31,\", \",$E$32,\", \",$E$33,\", \",$E$34,\", \",$E$35,\", \",$E$36,\" /\"))","v":""}]
[null,null,null,null,null,null,null,null,null,{"$f":"IF(OR(H155<$E$2,H155>$C$2),\"\",CONCATENATE(\"&TABL ID = 'FP.\",zadani!$G$6,\".X.\",I155,\"', DATA = \",$C$16,\", \",$E$16,\", \",I155,\", \",$E$31,\", \",$E$32,\", \",$E$33,\", \",$E$34,\", \",$E$35,\", \",$E$36,\" /\"))","v":""},{"$f":"IF(OR(H155<$E$2,H155>$C$2),\"\",CONCATENATE(\"&TABL ID = 'FP.\",zadani!$G$6,\".Y.\",I155,\"', DATA = \",$C$22,\", \",$E$22,\", \",I155,\", \",$E$31,\", \",$E$32,\", \",$E$33,\", \",$E$34,\", \",$E$35,\", \",$E$36,\" /\"))","v":""}]
[null,null,null,null,null,null,null,null,null,{"$f":"IF(OR(H155<$E$2,H155>$C$2),\"\",CONCATENATE(\"&TABL ID = 'FP.\",zadani!$G$6,\".X.\",I155,\"', DATA = \",$C$17,\", \",$E$17,\", \",I155,\", \",$E$31,\", \",$E$32,\", \",$E$33,\", \",$E$34,\", \",$E$35,\", \",$E$36,\" /\"))","v":""},{"$f":"IF(OR(H155<$E$2,H155>$C$2),\"\",CONCATENATE(\"&TABL ID = 'FP.\",zadani!$G$6,\".Y.\",I155,\"', DATA = \",$C$23,\", \",$E$23,\", \",I155,\", \",$E$31,\", \",$E$32,\", \",$E$33,\", \",$E$34,\", \",$E$35,\", \",$E$36,\" /\"))","v":""}]
[null,null,null,null,null,null,null,null,null,{"$f":"IF(OR(H155<$E$2,H155>$C$2),\"\",CONCATENATE(\"&TABL ID = 'FP.\",zadani!$G$6,\".X.\",I155,\"', DATA = \",$C$18,\", \",$E$18,\", \",I155,\", \",$E$31,\", \",$E$32,\", \",$E$33,\", \",$E$34,\", \",$E$35,\", \",$E$36,\" /\"))","v":""},{"$f":"IF(OR(H155<$E$2,H155>$C$2),\"\",CONCATENATE(\"&TABL ID = 'FP.\",zadani!$G$6,\".Y.\",I155,\"', DATA = \",$C$24,\", \",$E$24,\", \",I155,\", \",$E$31,\", \",$E$32,\", \",$E$33,\", \",$E$34,\", \",$E$35,\", \",$E$36,\" /\"))","v":""}]
[null,null,null,null,null,null,{"$f":"G155+1","v":21},{"$f":"H155+$C$3","v":17.9375},{"$f":"SUBSTITUTE(H163,\",\",\".\")","v":"17.9375"},{"$f":"IF(OR(H163<$E$2,H163>$C$2),\"\",CONCATENATE(\"&CHEM ID = 'FP.\",zadani!$G$6,\".X.\",I163,\"' CARBON = \",$E$6,\" CHLORINE = \",$E$7,\" HYDROGEN = \",$E$8,\" NITROGEN = \",$E$9,\" OXYGEN = \",$E$10,\" HEAT_OF_COMBUSTION = \",$E$11,\" RADIATIVE_FRACTION = \",$E$12,\" /\"))","v":""},{"$f":"IF(OR(H163<$E$2,H163>$C$2),\"\",CONCATENATE(\"&CHEM ID = 'FP.\",zadani!$G$6,\".Y.\",I163,\"' CARBON = \",$E$6,\" CHLORINE = \",$E$7,\" HYDROGEN = \",$E$8,\" NITROGEN = \",$E$9,\" OXYGEN = \",$E$10,\" HEAT_OF_COMBUSTION = \",$E$11,\" RADIATIVE_FRACTION = \",$E$12,\" /\"))","v":""}]
[null,null,null,null,null,null,null,null,null,{"$f":"IF(OR(H163<$E$2,H163>$C$2),\"\",CONCATENATE(\"&TABL ID = 'FP.\",zadani!$G$6,\".X.\",I163,\"' LABELS = 'TIME', 'HRR' , 'HEIGHT' , 'AREA' , 'CO_YIELD' , 'SOOT_YIELD' , 'HCN_YIELD' , 'HCL_YIELD' , 'TRACE_YIELD'  /\"))","v":""},{"$f":"IF(OR(H163<$E$2,H163>$C$2),\"\",CONCATENATE(\"&TABL ID = 'FP.\",zadani!$G$6,\".Y.\",I163,\"' LABELS = 'TIME', 'HRR' , 'HEIGHT' , 'AREA' , 'CO_YIELD' , 'SOOT_YIELD' , 'HCN_YIELD' , 'HCL_YIELD' , 'TRACE_YIELD'  /\"))","v":""}]
[null,null,null,null,null,null,null,null,null,{"$f":"IF(OR(H163<$E$2,H163>$C$2),\"\",CONCATENATE(\"&TABL ID = 'FP.\",zadani!$G$6,\".X.\",I163,\"', DATA = \",$C$13,\", \",$E$13,\", \",I163,\", \",$E$31,\", \",$E$32,\", \",$E$33,\", \",$E$34,\", \",$E$35,\", \",$E$36,\" /\"))","v":""},{"$f":"IF(OR(H163<$E$2,H163>$C$2),\"\",CONCATENATE(\"&TABL ID = 'FP.\",zadani!$G$6,\".Y.\",I163,\"', DATA = \",$C$19,\", \",$E$19,\", \",I163,\", \",$E$31,\", \",$E$32,\", \",$E$33,\", \",$E$34,\", \",$E$35,\", \",$E$36,\" /\"))","v":""}]
[null,null,null,null,null,null,null,null,null,{"$f":"IF(OR(H163<$E$2,H163>$C$2),\"\",CONCATENATE(\"&TABL ID = 'FP.\",zadani!$G$6,\".X.\",I163,\"', DATA = \",$C$14,\", \",$E$14,\", \",I163,\", \",$E$31,\", \",$E$32,\", \",$E$33,\", \",$E$34,\", \",$E$35,\", \",$E$36,\" /\"))","v":""},{"$f":"IF(OR(H163<$E$2,H163>$C$2),\"\",CONCATENATE(\"&TABL ID = 'FP.\",zadani!$G$6,\".Y.\",I163,\"', DATA = \",$C$20,\", \",$E$20,\", \",I163,\", \",$E$31,\", \",$E$32,\", \",$E$33,\", \",$E$34,\", \",$E$35,\", \",$E$36,\" /\"))","v":""}]
[null,null,null,null,null,null,null,null,null,{"$f":"IF(OR(H163<$E$2,H163>$C$2),\"\",CONCATENATE(\"&TABL ID = 'FP.\",zadani!$G$6,\".X.\",I163,\"', DATA = \",$C$15,\", \",$E$15,\", \",I163,\", \",$E$31,\", \",$E$32,\", \",$E$33,\", \",$E$34,\", \",$E$35,\", \",$E$36,\" /\"))","v":""},{"$f":"IF(OR(H163<$E$2,H163>$C$2),\"\",CONCATENATE(\"&TABL ID = 'FP.\",zadani!$G$6,\".Y.\",I163,\"', DATA = \",$C$21,\", \",$E$21,\", \",I163,\", \",$E$31,\", \",$E$32,\", \",$E$33,\", \",$E$34,\", \",$E$35,\", \",$E$36,\" /\"))","v":""}]
[null,null,null,null,null,null,null,null,null,{"$f":"IF(OR(H163<$E$2,H163>$C$2),\"\",CONCATENATE(\"&TABL ID = 'FP.\",zadani!$G$6,\".X.\",I163,\"', DATA = \",$C$16,\", \",$E$16,\", \",I163,\", \",$E$31,\", \",$E$32,\", \",$E$33,\", \",$E$34,\", \",$E$35,\", \",$E$36,\" /\"))","v":""},{"$f":"IF(OR(H163<$E$2,H163>$C$2),\"\",CONCATENATE(\"&TABL ID = 'FP.\",zadani!$G$6,\".Y.\",I163,\"', DATA = \",$C$22,\", \",$E$22,\", \",I163,\", \",$E$31,\", \",$E$32,\", \",$E$33,\", \",$E$34,\", \",$E$35,\", \",$E$36,\" /\"))","v":""}]
[null,null,null,null,null,null,null,null,null,{"$f":"IF(OR(H163<$E$2,H163>$C$2),\"\",CONCATENATE(\"&TABL ID = 'FP.\",zadani!$G$6,\".X.\",I163,\"', DATA = \",$C$17,\", \",$E$17,\", \",I163,\", \",$E$31,\", \",$E$32,\", \",$E$33,\", \",$E$34,\", \",$E$35,\", \",$E$36,\" /\"))","v":""},{"$f":"IF(OR(H163<$E$2,H163>$C$2),\"\",CONCATENATE(\"&TABL ID = 'FP.\",zadani!$G$6,\".Y.\",I163,\"', DATA = \",$C$23,\", \",$E$23,\", \",I163,\", \",$E$31,\", \",$E$32,\", \",$E$33,\", \",$E$34,\", \",$E$35,\", \",$E$36,\" /\"))","v":""}]
[null,null,null,null,null,null,null,null,null,{"$f":"IF(OR(H163<$E$2,H163>$C$2),\"\",CONCATENATE(\"&TABL ID = 'FP.\",zadani!$G$6,\".X.\",I163,\"', DATA = \",$C$18,\", \",$E$18,\", \",I163,\", \",$E$31,\", \",$E$32,\", \",$E$33,\", \",$E$34,\", \",$E$35,\", \",$E$36,\" /\"))","v":""},{"$f":"IF(OR(H163<$E$2,H163>$C$2),\"\",CONCATENATE(\"&TABL ID = 'FP.\",zadani!$G$6,\".Y.\",I163,\"', DATA = \",$C$24,\", \",$E$24,\", \",I163,\", \",$E$31,\", \",$E$32,\", \",$E$33,\", \",$E$34,\", \",$E$35,\", \",$E$36,\" /\"))","v":""}]
[null,null,null,null,null,null,{"$f":"G163+1","v":22},{"$f":"H163+$C$3","v":18.8125},{"$f":"SUBSTITUTE(H171,\",\",\".\")","v":"18.8125"},{"$f":"IF(OR(H171<$E$2,H171>$C$2),\"\",CONCATENATE(\"&CHEM ID = 'FP.\",zadani!$G$6,\".X.\",I171,\"' CARBON = \",$E$6,\" CHLORINE = \",$E$7,\" HYDROGEN = \",$E$8,\" NITROGEN = \",$E$9,\" OXYGEN = \",$E$10,\" HEAT_OF_COMBUSTION = \",$E$11,\" RADIATIVE_FRACTION = \",$E$12,\" /\"))","v":""},{"$f":"IF(OR(H171<$E$2,H171>$C$2),\"\",CONCATENATE(\"&CHEM ID = 'FP.\",zadani!$G$6,\".Y.\",I171,\"' CARBON = \",$E$6,\" CHLORINE = \",$E$7,\" HYDROGEN = \",$E$8,\" NITROGEN = \",$E$9,\" OXYGEN = \",$E$10,\" HEAT_OF_COMBUSTION = \",$E$11,\" RADIATIVE_FRACTION = \",$E$12,\" /\"))","v":""}]
[null,null,null,null,null,null,null,null,null,{"$f":"IF(OR(H171<$E$2,H171>$C$2),\"\",CONCATENATE(\"&TABL ID = 'FP.\",zadani!$G$6,\".X.\",I171,\"' LABELS = 'TIME', 'HRR' , 'HEIGHT' , 'AREA' , 'CO_YIELD' , 'SOOT_YIELD' , 'HCN_YIELD' , 'HCL_YIELD' , 'TRACE_YIELD'  /\"))","v":""},{"$f":"IF(OR(H171<$E$2,H171>$C$2),\"\",CONCATENATE(\"&TABL ID = 'FP.\",zadani!$G$6,\".Y.\",I171,\"' LABELS = 'TIME', 'HRR' , 'HEIGHT' , 'AREA' , 'CO_YIELD' , 'SOOT_YIELD' , 'HCN_YIELD' , 'HCL_YIELD' , 'TRACE_YIELD'  /\"))","v":""}]
[null,null,null,null,null,null,null,null,null,{"$f":"IF(OR(H171<$E$2,H171>$C$2),\"\",CONCATENATE(\"&TABL ID = 'FP.\",zadani!$G$6,\".X.\",I171,\"', DATA = \",$C$13,\", \",$E$13,\", \",I171,\", \",$E$31,\", \",$E$32,\", \",$E$33,\", \",$E$34,\", \",$E$35,\", \",$E$36,\" /\"))","v":""},{"$f":"IF(OR(H171<$E$2,H171>$C$2),\"\",CONCATENATE(\"&TABL ID = 'FP.\",zadani!$G$6,\".Y.\",I171,\"', DATA = \",$C$19,\", \",$E$19,\", \",I171,\", \",$E$31,\", \",$E$32,\", \",$E$33,\", \",$E$34,\", \",$E$35,\", \",$E$36,\" /\"))","v":""}]
[null,null,null,null,null,null,null,null,null,{"$f":"IF(OR(H171<$E$2,H171>$C$2),\"\",CONCATENATE(\"&TABL ID = 'FP.\",zadani!$G$6,\".X.\",I171,\"', DATA = \",$C$14,\", \",$E$14,\", \",I171,\", \",$E$31,\", \",$E$32,\", \",$E$33,\", \",$E$34,\", \",$E$35,\", \",$E$36,\" /\"))","v":""},{"$f":"IF(OR(H171<$E$2,H171>$C$2),\"\",CONCATENATE(\"&TABL ID = 'FP.\",zadani!$G$6,\".Y.\",I171,\"', DATA = \",$C$20,\", \",$E$20,\", \",I171,\", \",$E$31,\", \",$E$32,\", \",$E$33,\", \",$E$34,\", \",$E$35,\", \",$E$36,\" /\"))","v":""}]
[null,null,null,null,null,null,null,null,null,{"$f":"IF(OR(H171<$E$2,H171>$C$2),\"\",CONCATENATE(\"&TABL ID = 'FP.\",zadani!$G$6,\".X.\",I171,\"', DATA = \",$C$15,\", \",$E$15,\", \",I171,\", \",$E$31,\", \",$E$32,\", \",$E$33,\", \",$E$34,\", \",$E$35,\", \",$E$36,\" /\"))","v":""},{"$f":"IF(OR(H171<$E$2,H171>$C$2),\"\",CONCATENATE(\"&TABL ID = 'FP.\",zadani!$G$6,\".Y.\",I171,\"', DATA = \",$C$21,\", \",$E$21,\", \",I171,\", \",$E$31,\", \",$E$32,\", \",$E$33,\", \",$E$34,\", \",$E$35,\", \",$E$36,\" /\"))","v":""}]
[null,null,null,null,null,null,null,null,null,{"$f":"IF(OR(H171<$E$2,H171>$C$2),\"\",CONCATENATE(\"&TABL ID = 'FP.\",zadani!$G$6,\".X.\",I171,\"', DATA = \",$C$16,\", \",$E$16,\", \",I171,\", \",$E$31,\", \",$E$32,\", \",$E$33,\", \",$E$34,\", \",$E$35,\", \",$E$36,\" /\"))","v":""},{"$f":"IF(OR(H171<$E$2,H171>$C$2),\"\",CONCATENATE(\"&TABL ID = 'FP.\",zadani!$G$6,\".Y.\",I171,\"', DATA = \",$C$22,\", \",$E$22,\", \",I171,\", \",$E$31,\", \",$E$32,\", \",$E$33,\", \",$E$34,\", \",$E$35,\", \",$E$36,\" /\"))","v":""}]
[null,null,null,null,null,null,null,null,null,{"$f":"IF(OR(H171<$E$2,H171>$C$2),\"\",CONCATENATE(\"&TABL ID = 'FP.\",zadani!$G$6,\".X.\",I171,\"', DATA = \",$C$17,\", \",$E$17,\", \",I171,\", \",$E$31,\", \",$E$32,\", \",$E$33,\", \",$E$34,\", \",$E$35,\", \",$E$36,\" /\"))","v":""},{"$f":"IF(OR(H171<$E$2,H171>$C$2),\"\",CONCATENATE(\"&TABL ID = 'FP.\",zadani!$G$6,\".Y.\",I171,\"', DATA = \",$C$23,\", \",$E$23,\", \",I171,\", \",$E$31,\", \",$E$32,\", \",$E$33,\", \",$E$34,\", \",$E$35,\", \",$E$36,\" /\"))","v":""}]
[null,null,null,null,null,null,null,null,null,{"$f":"IF(OR(H171<$E$2,H171>$C$2),\"\",CONCATENATE(\"&TABL ID = 'FP.\",zadani!$G$6,\".X.\",I171,\"', DATA = \",$C$18,\", \",$E$18,\", \",I171,\", \",$E$31,\", \",$E$32,\", \",$E$33,\", \",$E$34,\", \",$E$35,\", \",$E$36,\" /\"))","v":""},{"$f":"IF(OR(H171<$E$2,H171>$C$2),\"\",CONCATENATE(\"&TABL ID = 'FP.\",zadani!$G$6,\".Y.\",I171,\"', DATA = \",$C$24,\", \",$E$24,\", \",I171,\", \",$E$31,\", \",$E$32,\", \",$E$33,\", \",$E$34,\", \",$E$35,\", \",$E$36,\" /\"))","v":""}]
[null,null,null,null,null,null,{"$f":"G171+1","v":23},{"$f":"H171+$C$3","v":19.6875},{"$f":"SUBSTITUTE(H179,\",\",\".\")","v":"19.6875"},{"$f":"IF(OR(H179<$E$2,H179>$C$2),\"\",CONCATENATE(\"&CHEM ID = 'FP.\",zadani!$G$6,\".X.\",I179,\"' CARBON = \",$E$6,\" CHLORINE = \",$E$7,\" HYDROGEN = \",$E$8,\" NITROGEN = \",$E$9,\" OXYGEN = \",$E$10,\" HEAT_OF_COMBUSTION = \",$E$11,\" RADIATIVE_FRACTION = \",$E$12,\" /\"))","v":""},{"$f":"IF(OR(H179<$E$2,H179>$C$2),\"\",CONCATENATE(\"&CHEM ID = 'FP.\",zadani!$G$6,\".Y.\",I179,\"' CARBON = \",$E$6,\" CHLORINE = \",$E$7,\" HYDROGEN = \",$E$8,\" NITROGEN = \",$E$9,\" OXYGEN = \",$E$10,\" HEAT_OF_COMBUSTION = \",$E$11,\" RADIATIVE_FRACTION = \",$E$12,\" /\"))","v":""}]
[null,null,null,null,null,null,null,null,null,{"$f":"IF(OR(H179<$E$2,H179>$C$2),\"\",CONCATENATE(\"&TABL ID = 'FP.\",zadani!$G$6,\".X.\",I179,\"' LABELS = 'TIME', 'HRR' , 'HEIGHT' , 'AREA' , 'CO_YIELD' , 'SOOT_YIELD' , 'HCN_YIELD' , 'HCL_YIELD' , 'TRACE_YIELD'  /\"))","v":""},{"$f":"IF(OR(H179<$E$2,H179>$C$2),\"\",CONCATENATE(\"&TABL ID = 'FP.\",zadani!$G$6,\".Y.\",I179,\"' LABELS = 'TIME', 'HRR' , 'HEIGHT' , 'AREA' , 'CO_YIELD' , 'SOOT_YIELD' , 'HCN_YIELD' , 'HCL_YIELD' , 'TRACE_YIELD'  /\"))","v":""}]
[null,null,null,null,null,null,null,null,null,{"$f":"IF(OR(H179<$E$2,H179>$C$2),\"\",CONCATENATE(\"&TABL ID = 'FP.\",zadani!$G$6,\".X.\",I179,\"', DATA = \",$C$13,\", \",$E$13,\", \",I179,\", \",$E$31,\", \",$E$32,\", \",$E$33,\", \",$E$34,\", \",$E$35,\", \",$E$36,\" /\"))","v":""},{"$f":"IF(OR(H179<$E$2,H179>$C$2),\"\",CONCATENATE(\"&TABL ID = 'FP.\",zadani!$G$6,\".Y.\",I179,\"', DATA = \",$C$19,\", \",$E$19,\", \",I179,\", \",$E$31,\", \",$E$32,\", \",$E$33,\", \",$E$34,\", \",$E$35,\", \",$E$36,\" /\"))","v":""}]
[null,null,null,null,null,null,null,null,null,{"$f":"IF(OR(H179<$E$2,H179>$C$2),\"\",CONCATENATE(\"&TABL ID = 'FP.\",zadani!$G$6,\".X.\",I179,\"', DATA = \",$C$14,\", \",$E$14,\", \",I179,\", \",$E$31,\", \",$E$32,\", \",$E$33,\", \",$E$34,\", \",$E$35,\", \",$E$36,\" /\"))","v":""},{"$f":"IF(OR(H179<$E$2,H179>$C$2),\"\",CONCATENATE(\"&TABL ID = 'FP.\",zadani!$G$6,\".Y.\",I179,\"', DATA = \",$C$20,\", \",$E$20,\", \",I179,\", \",$E$31,\", \",$E$32,\", \",$E$33,\", \",$E$34,\", \",$E$35,\", \",$E$36,\" /\"))","v":""}]
[null,null,null,null,null,null,null,null,null,{"$f":"IF(OR(H179<$E$2,H179>$C$2),\"\",CONCATENATE(\"&TABL ID = 'FP.\",zadani!$G$6,\".X.\",I179,\"', DATA = \",$C$15,\", \",$E$15,\", \",I179,\", \",$E$31,\", \",$E$32,\", \",$E$33,\", \",$E$34,\", \",$E$35,\", \",$E$36,\" /\"))","v":""},{"$f":"IF(OR(H179<$E$2,H179>$C$2),\"\",CONCATENATE(\"&TABL ID = 'FP.\",zadani!$G$6,\".Y.\",I179,\"', DATA = \",$C$21,\", \",$E$21,\", \",I179,\", \",$E$31,\", \",$E$32,\", \",$E$33,\", \",$E$34,\", \",$E$35,\", \",$E$36,\" /\"))","v":""}]
[null,null,null,null,null,null,null,null,null,{"$f":"IF(OR(H179<$E$2,H179>$C$2),\"\",CONCATENATE(\"&TABL ID = 'FP.\",zadani!$G$6,\".X.\",I179,\"', DATA = \",$C$16,\", \",$E$16,\", \",I179,\", \",$E$31,\", \",$E$32,\", \",$E$33,\", \",$E$34,\", \",$E$35,\", \",$E$36,\" /\"))","v":""},{"$f":"IF(OR(H179<$E$2,H179>$C$2),\"\",CONCATENATE(\"&TABL ID = 'FP.\",zadani!$G$6,\".Y.\",I179,\"', DATA = \",$C$22,\", \",$E$22,\", \",I179,\", \",$E$31,\", \",$E$32,\", \",$E$33,\", \",$E$34,\", \",$E$35,\", \",$E$36,\" /\"))","v":""}]
[null,null,null,null,null,null,null,null,null,{"$f":"IF(OR(H179<$E$2,H179>$C$2),\"\",CONCATENATE(\"&TABL ID = 'FP.\",zadani!$G$6,\".X.\",I179,\"', DATA = \",$C$17,\", \",$E$17,\", \",I179,\", \",$E$31,\", \",$E$32,\", \",$E$33,\", \",$E$34,\", \",$E$35,\", \",$E$36,\" /\"))","v":""},{"$f":"IF(OR(H179<$E$2,H179>$C$2),\"\",CONCATENATE(\"&TABL ID = 'FP.\",zadani!$G$6,\".Y.\",I179,\"', DATA = \",$C$23,\", \",$E$23,\", \",I179,\", \",$E$31,\", \",$E$32,\", \",$E$33,\", \",$E$34,\", \",$E$35,\", \",$E$36,\" /\"))","v":""}]
[null,null,null,null,null,null,null,null,null,{"$f":"IF(OR(H179<$E$2,H179>$C$2),\"\",CONCATENATE(\"&TABL ID = 'FP.\",zadani!$G$6,\".X.\",I179,\"', DATA = \",$C$18,\", \",$E$18,\", \",I179,\", \",$E$31,\", \",$E$32,\", \",$E$33,\", \",$E$34,\", \",$E$35,\", \",$E$36,\" /\"))","v":""},{"$f":"IF(OR(H179<$E$2,H179>$C$2),\"\",CONCATENATE(\"&TABL ID = 'FP.\",zadani!$G$6,\".Y.\",I179,\"', DATA = \",$C$24,\", \",$E$24,\", \",I179,\", \",$E$31,\", \",$E$32,\", \",$E$33,\", \",$E$34,\", \",$E$35,\", \",$E$36,\" /\"))","v":""}]
[null,null,null,null,null,null,{"$f":"G179+1","v":24},{"$f":"H179+$C$3","v":20.5625},{"$f":"SUBSTITUTE(H187,\",\",\".\")","v":"20.5625"},{"$f":"IF(OR(H187<$E$2,H187>$C$2),\"\",CONCATENATE(\"&CHEM ID = 'FP.\",zadani!$G$6,\".X.\",I187,\"' CARBON = \",$E$6,\" CHLORINE = \",$E$7,\" HYDROGEN = \",$E$8,\" NITROGEN = \",$E$9,\" OXYGEN = \",$E$10,\" HEAT_OF_COMBUSTION = \",$E$11,\" RADIATIVE_FRACTION = \",$E$12,\" /\"))","v":""},{"$f":"IF(OR(H187<$E$2,H187>$C$2),\"\",CONCATENATE(\"&CHEM ID = 'FP.\",zadani!$G$6,\".Y.\",I187,\"' CARBON = \",$E$6,\" CHLORINE = \",$E$7,\" HYDROGEN = \",$E$8,\" NITROGEN = \",$E$9,\" OXYGEN = \",$E$10,\" HEAT_OF_COMBUSTION = \",$E$11,\" RADIATIVE_FRACTION = \",$E$12,\" /\"))","v":""}]
[null,null,null,null,null,null,null,null,null,{"$f":"IF(OR(H187<$E$2,H187>$C$2),\"\",CONCATENATE(\"&TABL ID = 'FP.\",zadani!$G$6,\".X.\",I187,\"' LABELS = 'TIME', 'HRR' , 'HEIGHT' , 'AREA' , 'CO_YIELD' , 'SOOT_YIELD' , 'HCN_YIELD' , 'HCL_YIELD' , 'TRACE_YIELD'  /\"))","v":""},{"$f":"IF(OR(H187<$E$2,H187>$C$2),\"\",CONCATENATE(\"&TABL ID = 'FP.\",zadani!$G$6,\".Y.\",I187,\"' LABELS = 'TIME', 'HRR' , 'HEIGHT' , 'AREA' , 'CO_YIELD' , 'SOOT_YIELD' , 'HCN_YIELD' , 'HCL_YIELD' , 'TRACE_YIELD'  /\"))","v":""}]
[null,null,null,null,null,null,null,null,null,{"$f":"IF(OR(H187<$E$2,H187>$C$2),\"\",CONCATENATE(\"&TABL ID = 'FP.\",zadani!$G$6,\".X.\",I187,\"', DATA = \",$C$13,\", \",$E$13,\", \",I187,\", \",$E$31,\", \",$E$32,\", \",$E$33,\", \",$E$34,\", \",$E$35,\", \",$E$36,\" /\"))","v":""},{"$f":"IF(OR(H187<$E$2,H187>$C$2),\"\",CONCATENATE(\"&TABL ID = 'FP.\",zadani!$G$6,\".Y.\",I187,\"', DATA = \",$C$19,\", \",$E$19,\", \",I187,\", \",$E$31,\", \",$E$32,\", \",$E$33,\", \",$E$34,\", \",$E$35,\", \",$E$36,\" /\"))","v":""}]
[null,null,null,null,null,null,null,null,null,{"$f":"IF(OR(H187<$E$2,H187>$C$2),\"\",CONCATENATE(\"&TABL ID = 'FP.\",zadani!$G$6,\".X.\",I187,\"', DATA = \",$C$14,\", \",$E$14,\", \",I187,\", \",$E$31,\", \",$E$32,\", \",$E$33,\", \",$E$34,\", \",$E$35,\", \",$E$36,\" /\"))","v":""},{"$f":"IF(OR(H187<$E$2,H187>$C$2),\"\",CONCATENATE(\"&TABL ID = 'FP.\",zadani!$G$6,\".Y.\",I187,\"', DATA = \",$C$20,\", \",$E$20,\", \",I187,\", \",$E$31,\", \",$E$32,\", \",$E$33,\", \",$E$34,\", \",$E$35,\", \",$E$36,\" /\"))","v":""}]
[null,null,null,null,null,null,null,null,null,{"$f":"IF(OR(H187<$E$2,H187>$C$2),\"\",CONCATENATE(\"&TABL ID = 'FP.\",zadani!$G$6,\".X.\",I187,\"', DATA = \",$C$15,\", \",$E$15,\", \",I187,\", \",$E$31,\", \",$E$32,\", \",$E$33,\", \",$E$34,\", \",$E$35,\", \",$E$36,\" /\"))","v":""},{"$f":"IF(OR(H187<$E$2,H187>$C$2),\"\",CONCATENATE(\"&TABL ID = 'FP.\",zadani!$G$6,\".Y.\",I187,\"', DATA = \",$C$21,\", \",$E$21,\", \",I187,\", \",$E$31,\", \",$E$32,\", \",$E$33,\", \",$E$34,\", \",$E$35,\", \",$E$36,\" /\"))","v":""}]
[null,null,null,null,null,null,null,null,null,{"$f":"IF(OR(H187<$E$2,H187>$C$2),\"\",CONCATENATE(\"&TABL ID = 'FP.\",zadani!$G$6,\".X.\",I187,\"', DATA = \",$C$16,\", \",$E$16,\", \",I187,\", \",$E$31,\", \",$E$32,\", \",$E$33,\", \",$E$34,\", \",$E$35,\", \",$E$36,\" /\"))","v":""},{"$f":"IF(OR(H187<$E$2,H187>$C$2),\"\",CONCATENATE(\"&TABL ID = 'FP.\",zadani!$G$6,\".Y.\",I187,\"', DATA = \",$C$22,\", \",$E$22,\", \",I187,\", \",$E$31,\", \",$E$32,\", \",$E$33,\", \",$E$34,\", \",$E$35,\", \",$E$36,\" /\"))","v":""}]
[null,null,null,null,null,null,null,null,null,{"$f":"IF(OR(H187<$E$2,H187>$C$2),\"\",CONCATENATE(\"&TABL ID = 'FP.\",zadani!$G$6,\".X.\",I187,\"', DATA = \",$C$17,\", \",$E$17,\", \",I187,\", \",$E$31,\", \",$E$32,\", \",$E$33,\", \",$E$34,\", \",$E$35,\", \",$E$36,\" /\"))","v":""},{"$f":"IF(OR(H187<$E$2,H187>$C$2),\"\",CONCATENATE(\"&TABL ID = 'FP.\",zadani!$G$6,\".Y.\",I187,\"', DATA = \",$C$23,\", \",$E$23,\", \",I187,\", \",$E$31,\", \",$E$32,\", \",$E$33,\", \",$E$34,\", \",$E$35,\", \",$E$36,\" /\"))","v":""}]
[null,null,null,null,null,null,null,null,null,{"$f":"IF(OR(H187<$E$2,H187>$C$2),\"\",CONCATENATE(\"&TABL ID = 'FP.\",zadani!$G$6,\".X.\",I187,\"', DATA = \",$C$18,\", \",$E$18,\", \",I187,\", \",$E$31,\", \",$E$32,\", \",$E$33,\", \",$E$34,\", \",$E$35,\", \",$E$36,\" /\"))","v":""},{"$f":"IF(OR(H187<$E$2,H187>$C$2),\"\",CONCATENATE(\"&TABL ID = 'FP.\",zadani!$G$6,\".Y.\",I187,\"', DATA = \",$C$24,\", \",$E$24,\", \",I187,\", \",$E$31,\", \",$E$32,\", \",$E$33,\", \",$E$34,\", \",$E$35,\", \",$E$36,\" /\"))","v":""}]
[null,null,null,null,null,null,{"$f":"G187+1","v":25},{"$f":"H187+$C$3","v":21.4375},{"$f":"SUBSTITUTE(H195,\",\",\".\")","v":"21.4375"},{"$f":"IF(OR(H195<$E$2,H195>$C$2),\"\",CONCATENATE(\"&CHEM ID = 'FP.\",zadani!$G$6,\".X.\",I195,\"' CARBON = \",$E$6,\" CHLORINE = \",$E$7,\" HYDROGEN = \",$E$8,\" NITROGEN = \",$E$9,\" OXYGEN = \",$E$10,\" HEAT_OF_COMBUSTION = \",$E$11,\" RADIATIVE_FRACTION = \",$E$12,\" /\"))","v":""},{"$f":"IF(OR(H195<$E$2,H195>$C$2),\"\",CONCATENATE(\"&CHEM ID = 'FP.\",zadani!$G$6,\".Y.\",I195,\"' CARBON = \",$E$6,\" CHLORINE = \",$E$7,\" HYDROGEN = \",$E$8,\" NITROGEN = \",$E$9,\" OXYGEN = \",$E$10,\" HEAT_OF_COMBUSTION = \",$E$11,\" RADIATIVE_FRACTION = \",$E$12,\" /\"))","v":""}]
[null,null,null,null,null,null,null,null,null,{"$f":"IF(OR(H195<$E$2,H195>$C$2),\"\",CONCATENATE(\"&TABL ID = 'FP.\",zadani!$G$6,\".X.\",I195,\"' LABELS = 'TIME', 'HRR' , 'HEIGHT' , 'AREA' , 'CO_YIELD' , 'SOOT_YIELD' , 'HCN_YIELD' , 'HCL_YIELD' , 'TRACE_YIELD'  /\"))","v":""},{"$f":"IF(OR(H195<$E$2,H195>$C$2),\"\",CONCATENATE(\"&TABL ID = 'FP.\",zadani!$G$6,\".Y.\",I195,\"' LABELS = 'TIME', 'HRR' , 'HEIGHT' , 'AREA' , 'CO_YIELD' , 'SOOT_YIELD' , 'HCN_YIELD' , 'HCL_YIELD' , 'TRACE_YIELD'  /\"))","v":""}]
[null,null,null,null,null,null,null,null,null,{"$f":"IF(OR(H195<$E$2,H195>$C$2),\"\",CONCATENATE(\"&TABL ID = 'FP.\",zadani!$G$6,\".X.\",I195,\"', DATA = \",$C$13,\", \",$E$13,\", \",I195,\", \",$E$31,\", \",$E$32,\", \",$E$33,\", \",$E$34,\", \",$E$35,\", \",$E$36,\" /\"))","v":""},{"$f":"IF(OR(H195<$E$2,H195>$C$2),\"\",CONCATENATE(\"&TABL ID = 'FP.\",zadani!$G$6,\".Y.\",I195,\"', DATA = \",$C$19,\", \",$E$19,\", \",I195,\", \",$E$31,\", \",$E$32,\", \",$E$33,\", \",$E$34,\", \",$E$35,\", \",$E$36,\" /\"))","v":""}]
[null,null,null,null,null,null,null,null,null,{"$f":"IF(OR(H195<$E$2,H195>$C$2),\"\",CONCATENATE(\"&TABL ID = 'FP.\",zadani!$G$6,\".X.\",I195,\"', DATA = \",$C$14,\", \",$E$14,\", \",I195,\", \",$E$31,\", \",$E$32,\", \",$E$33,\", \",$E$34,\", \",$E$35,\", \",$E$36,\" /\"))","v":""},{"$f":"IF(OR(H195<$E$2,H195>$C$2),\"\",CONCATENATE(\"&TABL ID = 'FP.\",zadani!$G$6,\".Y.\",I195,\"', DATA = \",$C$20,\", \",$E$20,\", \",I195,\", \",$E$31,\", \",$E$32,\", \",$E$33,\", \",$E$34,\", \",$E$35,\", \",$E$36,\" /\"))","v":""}]
[null,null,null,null,null,null,null,null,null,{"$f":"IF(OR(H195<$E$2,H195>$C$2),\"\",CONCATENATE(\"&TABL ID = 'FP.\",zadani!$G$6,\".X.\",I195,\"', DATA = \",$C$15,\", \",$E$15,\", \",I195,\", \",$E$31,\", \",$E$32,\", \",$E$33,\", \",$E$34,\", \",$E$35,\", \",$E$36,\" /\"))","v":""},{"$f":"IF(OR(H195<$E$2,H195>$C$2),\"\",CONCATENATE(\"&TABL ID = 'FP.\",zadani!$G$6,\".Y.\",I195,\"', DATA = \",$C$21,\", \",$E$21,\", \",I195,\", \",$E$31,\", \",$E$32,\", \",$E$33,\", \",$E$34,\", \",$E$35,\", \",$E$36,\" /\"))","v":""}]
[null,null,null,null,null,null,null,null,null,{"$f":"IF(OR(H195<$E$2,H195>$C$2),\"\",CONCATENATE(\"&TABL ID = 'FP.\",zadani!$G$6,\".X.\",I195,\"', DATA = \",$C$16,\", \",$E$16,\", \",I195,\", \",$E$31,\", \",$E$32,\", \",$E$33,\", \",$E$34,\", \",$E$35,\", \",$E$36,\" /\"))","v":""},{"$f":"IF(OR(H195<$E$2,H195>$C$2),\"\",CONCATENATE(\"&TABL ID = 'FP.\",zadani!$G$6,\".Y.\",I195,\"', DATA = \",$C$22,\", \",$E$22,\", \",I195,\", \",$E$31,\", \",$E$32,\", \",$E$33,\", \",$E$34,\", \",$E$35,\", \",$E$36,\" /\"))","v":""}]
[null,null,null,null,null,null,null,null,null,{"$f":"IF(OR(H195<$E$2,H195>$C$2),\"\",CONCATENATE(\"&TABL ID = 'FP.\",zadani!$G$6,\".X.\",I195,\"', DATA = \",$C$17,\", \",$E$17,\", \",I195,\", \",$E$31,\", \",$E$32,\", \",$E$33,\", \",$E$34,\", \",$E$35,\", \",$E$36,\" /\"))","v":""},{"$f":"IF(OR(H195<$E$2,H195>$C$2),\"\",CONCATENATE(\"&TABL ID = 'FP.\",zadani!$G$6,\".Y.\",I195,\"', DATA = \",$C$23,\", \",$E$23,\", \",I195,\", \",$E$31,\", \",$E$32,\", \",$E$33,\", \",$E$34,\", \",$E$35,\", \",$E$36,\" /\"))","v":""}]
[null,null,null,null,null,null,null,null,null,{"$f":"IF(OR(H195<$E$2,H195>$C$2),\"\",CONCATENATE(\"&TABL ID = 'FP.\",zadani!$G$6,\".X.\",I195,\"', DATA = \",$C$18,\", \",$E$18,\", \",I195,\", \",$E$31,\", \",$E$32,\", \",$E$33,\", \",$E$34,\", \",$E$35,\", \",$E$36,\" /\"))","v":""},{"$f":"IF(OR(H195<$E$2,H195>$C$2),\"\",CONCATENATE(\"&TABL ID = 'FP.\",zadani!$G$6,\".Y.\",I195,\"', DATA = \",$C$24,\", \",$E$24,\", \",I195,\", \",$E$31,\", \",$E$32,\", \",$E$33,\", \",$E$34,\", \",$E$35,\", \",$E$36,\" /\"))","v":""}]
[null,null,null,null,null,null,{"$f":"G195+1","v":26},{"$f":"H195+$C$3","v":22.3125},{"$f":"SUBSTITUTE(H203,\",\",\".\")","v":"22.3125"},{"$f":"IF(OR(H203<$E$2,H203>$C$2),\"\",CONCATENATE(\"&CHEM ID = 'FP.\",zadani!$G$6,\".X.\",I203,\"' CARBON = \",$E$6,\" CHLORINE = \",$E$7,\" HYDROGEN = \",$E$8,\" NITROGEN = \",$E$9,\" OXYGEN = \",$E$10,\" HEAT_OF_COMBUSTION = \",$E$11,\" RADIATIVE_FRACTION = \",$E$12,\" /\"))","v":""},{"$f":"IF(OR(H203<$E$2,H203>$C$2),\"\",CONCATENATE(\"&CHEM ID = 'FP.\",zadani!$G$6,\".Y.\",I203,\"' CARBON = \",$E$6,\" CHLORINE = \",$E$7,\" HYDROGEN = \",$E$8,\" NITROGEN = \",$E$9,\" OXYGEN = \",$E$10,\" HEAT_OF_COMBUSTION = \",$E$11,\" RADIATIVE_FRACTION = \",$E$12,\" /\"))","v":""}]
[null,null,null,null,null,null,null,null,null,{"$f":"IF(OR(H203<$E$2,H203>$C$2),\"\",CONCATENATE(\"&TABL ID = 'FP.\",zadani!$G$6,\".X.\",I203,\"' LABELS = 'TIME', 'HRR' , 'HEIGHT' , 'AREA' , 'CO_YIELD' , 'SOOT_YIELD' , 'HCN_YIELD' , 'HCL_YIELD' , 'TRACE_YIELD'  /\"))","v":""},{"$f":"IF(OR(H203<$E$2,H203>$C$2),\"\",CONCATENATE(\"&TABL ID = 'FP.\",zadani!$G$6,\".Y.\",I203,\"' LABELS = 'TIME', 'HRR' , 'HEIGHT' , 'AREA' , 'CO_YIELD' , 'SOOT_YIELD' , 'HCN_YIELD' , 'HCL_YIELD' , 'TRACE_YIELD'  /\"))","v":""}]
[null,null,null,null,null,null,null,null,null,{"$f":"IF(OR(H203<$E$2,H203>$C$2),\"\",CONCATENATE(\"&TABL ID = 'FP.\",zadani!$G$6,\".X.\",I203,\"', DATA = \",$C$13,\", \",$E$13,\", \",I203,\", \",$E$31,\", \",$E$32,\", \",$E$33,\", \",$E$34,\", \",$E$35,\", \",$E$36,\" /\"))","v":""},{"$f":"IF(OR(H203<$E$2,H203>$C$2),\"\",CONCATENATE(\"&TABL ID = 'FP.\",zadani!$G$6,\".Y.\",I203,\"', DATA = \",$C$19,\", \",$E$19,\", \",I203,\", \",$E$31,\", \",$E$32,\", \",$E$33,\", \",$E$34,\", \",$E$35,\", \",$E$36,\" /\"))","v":""}]
[null,null,null,null,null,null,null,null,null,{"$f":"IF(OR(H203<$E$2,H203>$C$2),\"\",CONCATENATE(\"&TABL ID = 'FP.\",zadani!$G$6,\".X.\",I203,\"', DATA = \",$C$14,\", \",$E$14,\", \",I203,\", \",$E$31,\", \",$E$32,\", \",$E$33,\", \",$E$34,\", \",$E$35,\", \",$E$36,\" /\"))","v":""},{"$f":"IF(OR(H203<$E$2,H203>$C$2),\"\",CONCATENATE(\"&TABL ID = 'FP.\",zadani!$G$6,\".Y.\",I203,\"', DATA = \",$C$20,\", \",$E$20,\", \",I203,\", \",$E$31,\", \",$E$32,\", \",$E$33,\", \",$E$34,\", \",$E$35,\", \",$E$36,\" /\"))","v":""}]
[null,null,null,null,null,null,null,null,null,{"$f":"IF(OR(H203<$E$2,H203>$C$2),\"\",CONCATENATE(\"&TABL ID = 'FP.\",zadani!$G$6,\".X.\",I203,\"', DATA = \",$C$15,\", \",$E$15,\", \",I203,\", \",$E$31,\", \",$E$32,\", \",$E$33,\", \",$E$34,\", \",$E$35,\", \",$E$36,\" /\"))","v":""},{"$f":"IF(OR(H203<$E$2,H203>$C$2),\"\",CONCATENATE(\"&TABL ID = 'FP.\",zadani!$G$6,\".Y.\",I203,\"', DATA = \",$C$21,\", \",$E$21,\", \",I203,\", \",$E$31,\", \",$E$32,\", \",$E$33,\", \",$E$34,\", \",$E$35,\", \",$E$36,\" /\"))","v":""}]
[null,null,null,null,null,null,null,null,null,{"$f":"IF(OR(H203<$E$2,H203>$C$2),\"\",CONCATENATE(\"&TABL ID = 'FP.\",zadani!$G$6,\".X.\",I203,\"', DATA = \",$C$16,\", \",$E$16,\", \",I203,\", \",$E$31,\", \",$E$32,\", \",$E$33,\", \",$E$34,\", \",$E$35,\", \",$E$36,\" /\"))","v":""},{"$f":"IF(OR(H203<$E$2,H203>$C$2),\"\",CONCATENATE(\"&TABL ID = 'FP.\",zadani!$G$6,\".Y.\",I203,\"', DATA = \",$C$22,\", \",$E$22,\", \",I203,\", \",$E$31,\", \",$E$32,\", \",$E$33,\", \",$E$34,\", \",$E$35,\", \",$E$36,\" /\"))","v":""}]
[null,null,null,null,null,null,null,null,null,{"$f":"IF(OR(H203<$E$2,H203>$C$2),\"\",CONCATENATE(\"&TABL ID = 'FP.\",zadani!$G$6,\".X.\",I203,\"', DATA = \",$C$17,\", \",$E$17,\", \",I203,\", \",$E$31,\", \",$E$32,\", \",$E$33,\", \",$E$34,\", \",$E$35,\", \",$E$36,\" /\"))","v":""},{"$f":"IF(OR(H203<$E$2,H203>$C$2),\"\",CONCATENATE(\"&TABL ID = 'FP.\",zadani!$G$6,\".Y.\",I203,\"', DATA = \",$C$23,\", \",$E$23,\", \",I203,\", \",$E$31,\", \",$E$32,\", \",$E$33,\", \",$E$34,\", \",$E$35,\", \",$E$36,\" /\"))","v":""}]
[null,null,null,null,null,null,null,null,null,{"$f":"IF(OR(H203<$E$2,H203>$C$2),\"\",CONCATENATE(\"&TABL ID = 'FP.\",zadani!$G$6,\".X.\",I203,\"', DATA = \",$C$18,\", \",$E$18,\", \",I203,\", \",$E$31,\", \",$E$32,\", \",$E$33,\", \",$E$34,\", \",$E$35,\", \",$E$36,\" /\"))","v":""},{"$f":"IF(OR(H203<$E$2,H203>$C$2),\"\",CONCATENATE(\"&TABL ID = 'FP.\",zadani!$G$6,\".Y.\",I203,\"', DATA = \",$C$24,\", \",$E$24,\", \",I203,\", \",$E$31,\", \",$E$32,\", \",$E$33,\", \",$E$34,\", \",$E$35,\", \",$E$36,\" /\"))","v":""}]
[null,null,null,null,null,null,null,null,null,{"$f":"IF(J210=\"\",\"ok\",\"pozor\")","v":"ok"},{"$f":"IF(K210=\"\",\"ok\",\"pozor\")","v":"ok"}]